Workbook

Sheet 총괄표
B1: 2011년도 제1회 경기도 일반 및 특별회계 추가경정세입·세출 예산수정(안)
B2: □ 총 괄
H3: (단위:천원) | N3: (일반+특별+기금)
B4: 구 분 | C4: 집행부제출(안) | D4: 세입예산(안) | F4: 세출예산(안) | H4: 예산수정(안) | I4: 일반회계 증감(총괄표) | K4: 예비비증감 | L4: 비 고 | M4: 전체 증감(시트) | O4: 비고
D5: 감 액 | E5: 증 액 | F5: 감 액 | G5: 증 액 | I5: 세입 | J5: 세출 | M5: 세입 | N5: 세출
B6: 합 계 | C6: =SUM(C7:C17) -> 14632012290 | D6: =SUM(D7:D17) -> 14601197 | E6: =SUM(E7:E17) -> 42195278 | F6: =SUM(F7:F17) -> 44465639 | G6: =SUM(G7:G17) -> 72059720 | H6: =SUM(H7:H17) -> 14659606371 | I6: =E24-D24 -> 27594081 | J6: =+G24-F24 -> 27594081 | K6: =+I6-J6 -> 0 | L6: 예비비 증감이 - 예산이면 감액에 + 예산이면 증액에 입력 | M6: =(세입_일반!H6-세입_일반!G6)+(세입_특별!G6-세입_특별!F6)+(세입_기금!F6-세입_기금!E6) -> 27594081 | N6: =+(세출_일반!H6-세출_일반!G6)+(세출_특별!G6-세출_특별!F6)+(세출_기금!F6-세출_기금!E6) -> 27594081 | O6: =+M6-I6 -> 0 | P6: =+N6-J6 -> 0
B7: 기 타 | H7: =C7-F7+G7 -> 0
B8: 의회운영 | C8: =위원회총괄!B5 -> 28336711 | D8: =SUMIF(세입_일반!A7:A73,"=의회운영위원회",세입_일반!G7:G73) -> 0 | E8: =SUMIF(세입_일반!A7:A73,"=의회운영위원회",세입_일반!H7:H73) -> 0 | F8: =SUMIF(세출_일반!A9:A199,"=의회운영위원회",세출_일반!G9:G199) -> 0 | G8: =SUMIF(세출_일반!A9:A199,"=의회운영위원회",세출_일반!H9:H199) -> 93100 | H8: =C8-F8+G8 -> 28429811 | I8: 일반회계 증감(시트) | N8: 전체 증감
B9: 기 획 | C9: =위원회총괄!B6 -> 4502968711 | D9: =SUMIF(세입_일반!A7:A73,"=기획위원회",세입_일반!G7:G73)+세입_특별!F25 -> 0 | E9: =SUMIF(세입_일반!A7:A73,"=기획위원회",세입_일반!H7:H73)+세입_특별!G25 -> 387500 | F9: =SUMIF(세출_일반!A9:A199,"=기획위원회",세출_일반!G9:G199)+세출_특별!F25 -> 22318566 | G9: =SUMIF(세출_일반!A9:A199,"=기획위원회",세출_일반!H9:H199)+세출_특별!G25 -> 909500 | H9: =C9-F9+G9 -> 4481559645 | I9: =세입_일반!F6 -> 27594081 | J9: =세출_일반!F6 -> 27594081 | N9: =+H6-C6 -> 27594081
B10: 경제투자 | C10: =위원회총괄!B7 -> 477663616 | D10: =SUMIF(세입_일반!A7:A73,"=경제투자위원회",세입_일반!G7:G73)+세입_특별!F28 -> 261000 | E10: =SUMIF(세입_일반!A7:A73,"=경제투자위원회",세입_일반!H7:H73)+세입_특별!G28 -> 3600000 | F10: =SUMIF(세출_일반!A9:A199,"=경제투자위원회",세출_일반!G9:G199)+세출_특별!F28 -> 1364575 | G10: =SUMIF(세출_일반!A9:A199,"=경제투자위원회",세출_일반!H9:H199)+세출_특별!G28 -> 6195000 | H10: =C10-F10+G10 -> 482494041
B11: 행정자치 | C11: =위원회총괄!B8 -> 980650927 | D11: =SUMIF(세입_일반!A7:A73,"=행정자치위원회",세입_일반!G7:G73) -> 0 | E11: =SUMIF(세입_일반!A7:A73,"=행정자치위원회",세입_일반!H7:H73) -> 230526 | F11: =SUMIF(세출_일반!A9:A199,"=행정자치위원회",세출_일반!G9:G199) -> 186000 | G11: =SUMIF(세출_일반!A9:A199,"=행정자치위원회",세출_일반!H9:H199) -> 238654 | H11: =C11-F11+G11 -> 980703581
B12: 문화관광 | C12: =위원회총괄!B9 -> 358464003 | D12: =SUMIF(세입_일반!A7:A73,"=문화관광위원회",세입_일반!G7:G73)+세입_특별!F31 -> 0 | E12: =SUMIF(세입_일반!A7:A73,"=문화관광위원회",세입_일반!H7:H73)+세입_특별!G31 -> 805000 | F12: =SUMIF(세출_일반!A9:A199,"=문화관광위원회",세출_일반!G9:G199)+세출_특별!F31 -> 750000 | G12: =SUMIF(세출_일반!A9:A199,"=문화관광위원회",세출_일반!H9:H199)+세출_특별!G31 -> 1305000 | H12: =C12-F12+G12 -> 359019003
B13: 농림수산 | C13: =위원회총괄!B10 -> 525806798 | D13: =SUMIF(세입_일반!A7:A73,"=농림수산위원회",세입_일반!G7:G73) -> 18000 | E13: =SUMIF(세입_일반!A7:A73,"=농림수산위원회",세입_일반!H7:H73) -> 244650 | F13: =SUMIF(세출_일반!A9:A199,"=농림수산위원회",세출_일반!G9:G199) -> 18000 | G13: =SUMIF(세출_일반!A9:A199,"=농림수산위원회",세출_일반!H9:H199) -> 304850 | H13: =C13-F13+G13 -> 526093648
B14: 보건복지 | C14: =위원회총괄!B11 -> 2491616162 | D14: =SUMIF(세입_일반!A7:A73,"=보건복지위원회",세입_일반!G7:G73)+세입_특별!F7 -> 1125666 | E14: =SUMIF(세입_일반!A7:A73,"=보건복지위원회",세입_일반!H7:H73)+세입_특별!G7 -> 8003787 | F14: =SUMIF(세출_일반!A9:A199,"=보건복지위원회",세출_일반!G9:G199)+세출_특별!F7 -> 2050721 | G14: =SUMIF(세출_일반!A9:A199,"=보건복지위원회",세출_일반!H9:H199)+세출_특별!G7 -> 9492526 | H14: =C14-F14+G14 -> 2499057967
B15: 건설교통 | C15: =위원회총괄!B12 -> 1272777529 | D15: =SUMIF(세입_일반!A7:A73,"=건설교통위원회",세입_일반!G7:G73)+세입_특별!F13+세입_특별!F19+세입_특별!F22 -> 0 | E15: =SUMIF(세입_일반!A7:A73,"=건설교통위원회",세입_일반!H7:H73)+세입_특별!G13+세입_특별!G19+세입_특별!G22 -> 0 | F15: =SUMIF(세출_일반!A9:A199,"=건설교통위원회",세출_일반!G9:G199)+세출_특별!F13+세출_특별!F19+세출_특별!F22 -> 1860000 | G15: =SUMIF(세출_일반!A9:A199,"=건설교통위원회",세출_일반!H9:H199)+세출_특별!G13+세출_특별!G19+세출_특별!G22 -> 5981832 | H15: =C15-F15+G15 -> 1276899361
B16: 도시환경 | C16: =위원회총괄!B13 -> 882907760 | D16: =SUMIF(세입_일반!A7:A73,"=도시환경위원회",세입_일반!G7:G73)+세입_특별!F10+세입_특별!F34 -> 13196531 | E16: =SUMIF(세입_일반!A7:A73,"=도시환경위원회",세입_일반!H7:H73)+세입_특별!G10+세입_특별!G34 -> 28763000 | F16: =SUMIF(세출_일반!A9:A199,"=도시환경위원회",세출_일반!G9:G199)+세출_특별!F10+세출_특별!F34 -> 15769206 | G16: =SUMIF(세출_일반!A9:A199,"=도시환경위원회",세출_일반!H9:H199)+세출_특별!G10+세출_특별!G34 -> 45577128 | H16: =C16-F16+G16 -> 912715682
B17: 여 가 평 | C17: =위원회총괄!B14 -> 3110820073 | D17: =SUMIF(세입_일반!A7:A73,"=여성가족평생교육위원회",세입_일반!G7:G73)+세입_특별!F16 -> 0 | E17: =SUMIF(세입_일반!A7:A73,"=여성가족평생교육위원회",세입_일반!H7:H73)+세입_특별!G16 -> 160815 | F17: =SUMIF(세출_일반!A9:A199,"=여성가족평생교육위원회",세출_일반!G9:G199)+세출_특별!F16 -> 148571 | G17: =SUMIF(세출_일반!A9:A199,"=여성가족평생교육위원회",세출_일반!H9:H199)+세출_특별!G16 -> 1962130 | H17: =C17-F17+G17 -> 3112633632
B19: □ 회계별 예산총규모
H20: (단위:천원)
B21: 구 분 | C21: 세출예산액 (집행부제출 안) | D21: 세입예산(안) | F21: 세출예산(안) | H21: 예산수정(안)
D22: 감 액 | E22: 증 액 | F22: 감 액 | G22: 증 액 | I22: 세입기준 수정예산(안)
B23: 합 계 | C23: =SUM(C24:C25) -> 14632012290 | D23: =SUM(D24:D25) -> 14601197 | E23: =SUM(E24:E25) -> 42195278 | F23: =SUM(F24:F25) -> 44465639 | G23: =SUM(G24:G25) -> 72059720 | H23: =SUM(H24:H25) -> 14659606371 | I23: =+C23+E23-D23 -> 14659606371 | J23: =I23-H23 -> 0 | K23: (세출기준-세입기준)
B24: 일반회계 | C24: =위원회총괄!C4 -> 11848206729 | D24: =+세입_일반!G6 -> 14601197 | E24: =+세입_일반!H6 -> 42195278 | F24: =+세출_일반!G6 -> 44465639 | G24: =+세출_일반!H6 -> 72059720 | H24: =+C24+G24-F24 -> 11875800810 | I24: =+C24+E24-D24 -> 11875800810 | J24: =I24-H24 -> 0 | K24: (세출기준-세입기준)
B25: 특별회계 | C25: =위원회총괄!O4 -> 2783805561 | D25: =세입_특별!F6 -> 0 | E25: =세입_특별!G6 -> 0 | F25: =세출_특별!F6 -> 0 | G25: =세출_특별!G6 -> 0 | H25: =+C25+G25-F25 -> 2783805561 | I25: =+C25+E25-D25 -> 2783805561 | J25: =I25-H25 -> 0 | K25: (세출기준-세입기준)
A76: 가족여성정책국
F78: 0

Sheet 세입_일반
A1: 2011년도 제1회추경 일반회계 세입 예산 수정(안)
B2: □ 세입예산(일반회계)
I3: (단위:천원)
A4: 실국명 | B4: 명세서 페이지 | C4: 사업명 | D4: 예산안 | E4: 조정예산안 | F4: 조정액 | I4: 비 고
F5: 계 | G5: 감액 | H5: 증액
A6: 계 | D6: =SUM(D7:D71)/2 -> 121457442 | E6: =SUM(E7:E71)/2 -> 149051523 | F6: =SUM(F7:F71)/2 -> 27594081 | G6: =SUM(G7:G71)/2 -> 14601197 | H6: =SUM(H7:H71)/2 -> 42195278
A7: 의회운영위원회 | C7: 의회운영위원회 | D7: =SUM(D8:D9) -> 0 | E7: =SUM(E8:E9) -> 0 | F7: =SUM(F8:F9) -> 0 | G7: =SUM(G8:G9) -> 0 | H7: =SUM(H8:H9) -> 0
E8: =D8+F8 -> 0 | F8: =H8-G8 -> 0
E9: =D9+F9 -> 0 | F9: =H9-G9 -> 0
A10: 기획위원회 | C10: 기획위원회 | D10: =SUM(D11:D12) -> 0 | E10: =SUM(E11:E12) -> 387500 | F10: =SUM(F11:F12) -> 387500 | G10: =SUM(G11:G12) -> 0 | H10: =SUM(H11:H12) -> 387500
A11: 기획행정실 | B11: 신규 | C11: DMZ 생태녹지 역사탐방로 조성 | E11: =D11+F11 -> 200000 | F11: =H11-G11 -> 200000 | H11: 200000 | I11: 국비 신규내시(11. 2. 24)
A12: 기획조정실 | B12: 신규 | C12: 자치단체 공통행정정보시스템 운영시설 보안강화 | E12: =D12+F12 -> 187500 | F12: =H12-G12 -> 187500 | H12: 187500 | I12: 국비 신규내시(11. 3 .10)
A13: 경제투자위원회 | C13: 경제투자위원회 | D13: =SUM(D14:D17) -> 7189000 | E13: =SUM(E14:E17) -> 10528000 | F13: =SUM(F14:F17) -> 3339000 | G13: =SUM(G14:G17) -> 261000 | H13: =SUM(H14:H17) -> 3600000
A14: 경제투자실 | B14: 당초예산 50 | C14: 사회적 일자리 창출사업 | D14: 4945000 | E14: =D14+F14 -> 4931000 | F14: =H14-G14 -> -14000 | G14: 14000 | I14: 국비 변경내시(11. 3. 3)
A15: " | B15: 당초예산 50 | C15: 사회적기업 사업개발비 지원 | D15: 2244000 | E15: =D15+F15 -> 1997000 | F15: =H15-G15 -> -247000 | G15: 247000 | I15: 국비 변경내시(11. 3. 3)
A16: " | B16: 신규 | C16: 지역특화 모델발굴 사업개발비 | E16: =D16+F16 -> 100000 | F16: =H16-G16 -> 100000 | H16: 100000 | I16: 국비 신규내시(11. 3. 3)
A17: " | B17: 신규 | C17: 친환경 생활공간 조성 | E17: =D17+F17 -> 3500000 | F17: =H17-G17 -> 3500000 | H17: 3500000 | I17: 국비 신규내시(11. 3. 4)
A18: 행정자치위원회 | C18: 행정자치위원회 | D18: =SUM(D19:D20) -> 0 | E18: =SUM(E19:E20) -> 230526 | F18: =SUM(F19:F20) -> 230526 | G18: =SUM(G19:G20) -> 0 | H18: =SUM(H19:H20) -> 230526
A19: 자치행정국 | B19: 신규 | C19: 지방세 연구기능 강화 | E19: =D19+F19 -> 222398 | F19: =H19-G19 -> 222398 | H19: 222398 | I19: 국비 신규내시(11. 3. 9)
A20: " | B20: 신규 | C20: 세외수입정보시스템 개선 | E20: =D20+F20 -> 8128 | F20: =H20-G20 -> 8128 | H20: 8128 | I20: 국비 신규내시(11. 3. 9)
A21: 문화관광위원회 | C21: 문화관광위원회 | D21: =SUM(D22:D23) -> 0 | E21: =SUM(E22:E23) -> 805000 | F21: =SUM(F22:F23) -> 805000 | G21: =SUM(G22:G23) -> 0 | H21: =SUM(H22:H23) -> 805000
A22: 문화관광국 | B22: 신규 | C22: 레저스포츠시설구축지원 | E22: =D22+F22 -> 700000 | F22: =H22-G22 -> 700000 | H22: 700000 | I22: 국비 신규내시(11. 2. 28)
A23: " | B23: 신규 | C23: 다국어관광안내지도 제작 | E23: =D23+F23 -> 105000 | F23: =H23-G23 -> 105000 | H23: 105000 | I23: 국비 신규내시(11. 2. 21)
A24: 농림수산위원회 | C24: 농림수산위원회 | D24: =SUM(D25:D29) -> 5069625 | E24: =SUM(E25:E29) -> 5296275 | F24: =SUM(F25:F29) -> 226650 | G24: =SUM(G25:G29) -> 18000 | H24: =SUM(H25:H29) -> 244650
A25: 농정국 | B25: 354 | C25: 농어촌축제지원 | D25: 45000 | E25: =D25+F25 -> 35000 | F25: =H25-G25 -> -10000 | G25: 10000 | I25: 국비 변경내시
A26: " | B26: 신규 | C26: 우수농산물관리(GAP)제도 시설보완 | D26: 0 | E26: =D26+F26 -> 92900 | F26: =H26-G26 -> 92900 | H26: 92900 | I26: 국비 신규내시
A27: " | B27: 당초예산 52 | C27: 가축분뇨처리시설지원(국고보조금) | D27: 5024625 | E27: =D27+F27 -> 5016625 | F27: =H27-G27 -> -8000 | G27: 8000 | I27: 국고보조금 과목정정 (국비→기금)
A28: " | B28: 신규 | C28: 자연순환농업활성화(기금) | D28: 0 | E28: =D28+F28 -> 8000 | F28: =H28-G28 -> 8000 | H28: 8000
A29: " | B29: 신규 | C29: 토종벌 종보전 육종 보급 | D29: 0 | E29: =D29+F29 -> 143750 | F29: =H29-G29 -> 143750 | H29: 143750 | I29: 국비 신규내시
A30: 보건복지위원회 | C30: 보건복지위원회 | D30: =SUM(D31:D46) -> 24015503 | E30: =SUM(E31:E46) -> 30893624 | F30: =SUM(F31:F46) -> 6878121 | G30: =SUM(G31:G46) -> 1125666 | H30: =SUM(H31:H46) -> 8003787
A31: 보건복지국 | B31: 당초예산 53 | C31: 지역사회서비스투자사업 | D31: 18482000 | E31: =D31+F31 -> 17498376 | F31: =H31-G31 -> -983624 | G31: 983624 | I31: 국비 변경내시(11. 2. 18)
A32: " | B32: 신규 | C32: 노인복지시설 에너지 고효율제품 보급사업 | E32: =D32+F32 -> 4218000 | F32: =H32-G32 -> 4218000 | H32: 4218000 | I32: 국비 신규내시(11. 2. 14)
A33: " | B33: 당초예산 54 | C33: 장애인보조기구교부 | D33: 188000 | E33: =D33+F33 -> 337000 | F33: =H33-G33 -> 149000 | H33: 149000 | I33: 국비 변경내시(11. 2. 11)
A34: " | B34: 419 | C34: 장애인직업재활시설 기능보강 | D34: 515560 | E34: =D34+F34 -> 1040309 | F34: =H34-G34 -> 524749 | H34: 524749 | I34: 국비 변경내시(11. 2. 22)
A35: " | B35: 당초예산 54 | C35: 전염병전문가교육 | D35: 55800 | E35: =D35+F35 -> 30100 | F35: =H35-G35 -> -25700 | G35: 25700 | I35: 국비 변경내시(11. 2. 22)
A36: " | B36: 당초예산 65 | C36: 응급의료정보센터 운영지원 | D36: 821405 | E36: =D36+F36 -> 724233 | F36: =H36-G36 -> -97172 | G36: 97172 | I36: 국비 변경내시(11. 2. 14)
A37: " | B37: 당초예산 65 | C37: 구조및응급처치교육 | D37: 40000 | E37: =D37+F37 -> 60000 | F37: =H37-G37 -> 20000 | H37: 20000 | I37: 국비 변경내시(11. 2. 9)
A38: " | B38: 당초예산 65 | C38: 취약지역 응급의료기관 운영 | D38: 645000 | E38: =D38+F38 -> 2751000 | F38: =H38-G38 -> 2106000 | H38: 2106000 | I38: 국비 변경내시(11. 1. 21)
A39: " | B39: 신규 | C39: 국내외 재난의료지원(DMAT) | E39: =D39+F39 -> 47250 | F39: =H39-G39 -> 47250 | H39: 47250 | I39: 국비 신규내시(11. 2. 9)
A40: " | B40: 신규 | C40: 국내외 재난의료지원(TRS시스템) | E40: =D40+F40 -> 134617 | F40: =H40-G40 -> 134617 | H40: 134617 | I40: 국비 신규내시(11. 2. 9)
...

Sheet 세출_일반
A1: 2011년도 제1회추경 일반회계 세출 예산 수정(안)
B2: □ 세출예산(일반회계)
I3: (단위:천원)
A4: 실국명 | B4: 명세서 페이지 | C4: 사업명 | D4: 예산안 | E4: 조정예산안 | F4: 조정액 | I4: 비 고
F5: 계 | G5: 감액 | H5: 증액 | J5: 계 | K5: 국비 | L5: 도비
A6: 계 | D6: =SUM(D7:D197)/2 -> 2315246015 | E6: =SUM(E7:E197)/2 -> 2342840096 | F6: =SUM(F7:F197)/2 -> 27594081 | G6: =SUM(G7:G197)/2 -> 44465639 | H6: =SUM(H7:H197)/2 -> 72059720 | J6: =F6 -> 27594081 | K6: =SUM(K9:K196)/2 -> 27503081 | L6: =J6-K6 -> 91000
A7: 기타 | C7: 기타 | D7: =SUM(D8:D8) -> 0 | E7: =SUM(E8:E8) -> 0 | F7: =SUM(F8:F8) -> 0 | G7: =SUM(G8:G8) -> 0 | H7: =SUM(H8:H8) -> 0 | J7: =F7 -> 0 | L7: =J7-K7 -> 0
E8: =D8+F8 -> 0 | F8: =H8-G8 -> 0 | J8: =F8 -> 0 | L8: =J8-K8 -> 0
A9: 의회운영위원회 | C9: 의회운영위원회 | D9: =SUM(D10:D12) -> 202605 | E9: =SUM(E10:E12) -> 295705 | F9: =SUM(F10:F12) -> 93100 | G9: =SUM(G10:G12) -> 0 | H9: =SUM(H10:H12) -> 93100 | J9: =F9 -> 93100 | K9: =SUM(K10:K12) -> 0 | L9: =J9-K9 -> 93100
A10: 의회사무처 | B10: 신규 | C10: 회의실 음향장비 구입 | D10: 0 | E10: =D10+F10 -> 50000 | F10: =H10-G10 -> 50000 | H10: 50000 | J10: =F10 -> 50000 | L10: =J10-K10 -> 50000
A11: " | B11: 당초예산 75 | C11: 체육의날 행사 | D11: 24000 | E11: =D11+F11 -> 48000 | F11: =H11-G11 -> 24000 | H11: 24000 | I11: 년 2회분 (행사운영비) | J11: =F11 -> 24000 | L11: =J11-K11 -> 24000
A12: " | B12: 당초예산 80 | C12: 행정운영경비-자산취득비 (소회의실집기구입) | D12: 178605 | E12: =D12+F12 -> 197705 | F12: =H12-G12 -> 19100 | H12: 19100 | I12: 소회의실 의자 및 집기구입 | J12: =F12 -> 19100 | L12: =J12-K12 -> 19100
A13: 기획위원회 | C13: 기획위원회 | D13: =SUM(D14:D28) -> 2178797303 | E13: =SUM(E14:E28) -> 2157388237 | F13: =SUM(F14:F28) -> -21409066 | G13: =SUM(G14:G28) -> 22318566 | H13: =SUM(H14:H28) -> 909500 | J13: =F13 -> -21409066 | K13: =SUM(K14:K28) -> 387500 | L13: =J13-K13 -> -21796566
A14: 감사관 | B14: 214 | C14: SCLS 시스템 운영 | E14: =D14+F14 -> 0 | F14: =H14-G14 -> 0 | J14: =F14 -> 0 | L14: =J14-K14 -> 0
A15: 기획조정실 | B15: 219 | C15: 기관공통사회단체보조금 | E15: =D15+F15 -> 0 | F15: =H15-G15 -> 0 | J15: =F15 -> 0 | L15: =J15-K15 -> 0
A16: 기획조정실 | B16: 220 | C16: 도민제안보상금 | D16: 10000 | E16: =D16+F16 -> 20000 | F16: =H16-G16 -> 10000 | H16: 10000 | J16: =F16 -> 10000 | L16: =J16-K16 -> 10000
A17: " | B17: 220 | C17: 공무원제안시상금 | D17: 100000 | E17: =D17+F17 -> 90000 | F17: =H17-G17 -> -10000 | G17: 10000 | J17: =F17 -> -10000 | L17: =J17-K17 -> -10000
A18: " | B18: 220 | C18: 2012년 여수세계박람회 지자체관 전시참가 | D18: 300000 | E18: =D18+F18 -> 200000 | F18: =H18-G18 -> -100000 | G18: 100000 | J18: =F18 -> -100000 | L18: =J18-K18 -> -100000
A19: " | B19: 221 | C19: 경기도 지역정보화 마스터 플랜 연구 용역 | D19: 172000 | E19: =D19+F19 -> 150000 | F19: =H19-G19 -> -22000 | G19: 22000 | J19: =F19 -> -22000 | L19: =J19-K19 -> -22000
A20: 기획행정실 | B20: 신규 | C20: DMZ 생태녹색 역사탐방로 조성 | E20: =D20+F20 -> 260000 | F20: =H20-G20 -> 260000 | H20: 260000 | I20: 국비 신규내시 (기금 200,000, 도비 60,000) | J20: =F20 -> 260000 | K20: 200000 | L20: =J20-K20 -> 60000
A21: 기획행정실 | B21: 228 | C21: 경기북부지역 특정지역 지정 및 개발계획수립 연구용역 | E21: =D21+F21 -> 0 | F21: =H21-G21 -> 0 | J21: =F21 -> 0 | L21: =J21-K21 -> 0
A22: 대외협력담당관 | B22: 당초예산 88 | C22: 경기의정회 지원 | D22: 150000 | E22: =D22+F22 -> 180000 | F22: =H22-G22 -> 30000 | H22: 30000 | J22: =F22 -> 30000 | L22: =J22-K22 -> 30000
A23: 기획조정실 | B23: 당초예산 118 | C23: 간판이 아름다운 거리조성 | E23: =D23+F23 -> 0 | F23: =H23-G23 -> 0 | J23: =F23 -> 0 | L23: =J23-K23 -> 0
A24: 기획조정실 | B24: 신규 | C24: 자치단체 공통행정정보시스템 운영시설 보안강화 | E24: =D24+F24 -> 187500 | F24: =H24-G24 -> 187500 | H24: 187500 | I24: 국비 신규내시 (국비 187,500) | J24: =F24 -> 187500 | K24: 187500 | L24: =J24-K24 -> 0
A25: " | B25: 219 | C25: 일반재정보전금 | D25: 1373797000 | E25: =D25+F25 -> 1374219000 | F25: =H25-G25 -> 422000 | H25: 422000 | I25: 부기간 금액 조정 | J25: =F25 -> 422000 | L25: =J25-K25 -> 422000
A26: " | B26: " | C26: 특별재정보전금 | D26: 458365000 | E26: =D26+F26 -> 458073000 | F26: =H26-G26 -> -292000 | G26: 292000 | J26: =F26 -> -292000 | L26: =J26-K26 -> -292000
A27: " | B27: " | C27: 시책추진보전금 | D27: 203718000 | E27: =D27+F27 -> 203588000 | F27: =H27-G27 -> -130000 | G27: 130000 | J27: =F27 -> -130000 | L27: =J27-K27 -> -130000
A28: 예산담당관 | B28: 200 | C28: 예비비 | D28: 142185303 | E28: =D28+F28 -> 120420737 | F28: =H28-G28 -> -21764566 | G28: 21764566 | J28: =F28 -> -21764566 | L28: =J28-K28 -> -21764566
A29: 경제투자위원회 | C29: 경제투자위원회 | D29: =SUM(D30:D48) -> 17856175 | E29: =SUM(E30:E48) -> 22686600 | F29: =SUM(F30:F48) -> 4830425 | G29: =SUM(G30:G48) -> 1364575 | H29: =SUM(H30:H48) -> 6195000 | J29: =F29 -> 4830425 | K29: =SUM(K30:K48) -> 3339000 | L29: =J29-K29 -> 1491425
A30: 경제투자실 | B30: 241 | C30: 경기국제보트쇼개최지원 | D30: 3221000 | E30: =D30+F30 -> 2721000 | F30: =H30-G30 -> -500000 | G30: 500000 | H30: 0 | J30: =F30 -> -500000 | L30: =J30-K30 -> -500000
A31: " | B31: 242 | C31: 창업보육센터 시설확충 지원 | E31: =D31+F31 -> 0 | F31: =H31-G31 -> 0 | G31: 0 | H31: 0 | J31: =F31 -> 0 | L31: =J31-K31 -> 0
A32: " | B32: 242 | C32: 경기신용보증재단 출연금 | E32: =D32+F32 -> 0 | F32: =H32-G32 -> 0 | H32: 0 | J32: =F32 -> 0 | L32: =J32-K32 -> 0
A33: " | B33: 245 | C33: 경기과학기술진흥원 출연금 | D33: 2004000 | E33: =D33+F33 -> 2104000 | F33: =H33-G33 -> 100000 | G33: 0 | H33: 100000 | I33: 경기해양과학산업 발전방안 연구용역비 | J33: =F33 -> 100000 | L33: =J33-K33 -> 100000
A34: " | B34: 245 | C34: 경기바이오센터 출연금(자체/직접) | E34: =D34+F34 -> 0 | F34: =H34-G34 -> 0 | H34: 0 | J34: =F34 -> 0 | L34: =J34-K34 -> 0
A35: " | B35: 신규 | C35: 그린홈 100만호 보급사업 지원 | D35: 0 | E35: =D35+F35 -> 360000 | F35: =H35-G35 -> 360000 | G35: 0 | H35: 360000 | J35: =F35 -> 360000 | L35: =J35-K35 -> 360000
A36: " | B36: 당초예산 140 | C36: 사회적 일자리 창출 지원 | D36: 5315875 | E36: =D36+F36 -> 5300825 | F36: =H36-G36 -> -15050 | G36: 15050 | H36: 0 | I36: 국비 변경내시 (국비 △14,000, 도비 △1,050) | J36: =F36 -> -15050 | K36: -14000 | L36: =J36-K36 -> -1050
A37: " | B37: 당초예산 139 | C37: 사회적기업 사업개발비 지원 | D37: 2412300 | E37: =D37+F37 -> 2146775 | F37: =H37-G37 -> -265525 | G37: 265525 | H37: 0 | I37: 국비 변경내시 (국비 △247,000, 도비 △18,525) | J37: =F37 -> -265525 | K37: -247000 | L37: =J37-K37 -> -18525
A38: " | B38: 신규 | C38: 지역특화 모델발굴 사업개발비 | D38: 0 | E38: =D38+F38 -> 125000 | F38: =H38-G38 -> 125000 | G38: 0 | H38: 125000 | I38: 국비 변경내시 (국비 100,000, 도비 25,000) | J38: =F38 -> 125000 | K38: 100000 | L38: =J38-K38 -> 25000
A39: 경제농정국 | B39: 255 | C39: 경기제2기업지원센터 운영 및 사업지원 | D39: 2179000 | E39: =D39+F39 -> 2239000 | F39: =H39-G39 -> 60000 | H39: 60000 | J39: =F39 -> 60000 | L39: =J39-K39 -> 60000
A40: 경제투자실 | B40: 250 | C40: 경기일자리센터 일자리 상담사 운영 | E40: =D40+F40 -> 0 | F40: =H40-G40 -> 0 | J40: =F40 -> 0 | L40: =J40-K40 -> 0
...

Sheet 제1회추경 계속비조서(추가및변경5건)
A1: 2011년도 1회 추경 계속비 사업 조서
M2: (단위:천원)
A3: 사 업 명 | B3: 예산과목 (세 목) | C3: 총사업비 | D3: 전전년도(2009) 이전 | G3: 전년도(2010) | J3: 2011 | K3: 2012 | L3: 2013 이후 | M3: 비 고
D4: 예산액 | E4: 집행액 | F4: 집행잔액 | G4: 예산액 | H4: 집행예정액 | I4: 집행잔액 | N4: =SUM(N5:N49) -> 5 | O4: =#REF!+#REF!+#REF!+#REF!+#REF!+#REF!+#REF!+#REF!+#REF!+J9+#REF!+#REF!+J45 -> #REF! | P4: =#REF!+#REF!+#REF!+#REF!+#REF!+#REF!+#REF!+#REF!+#REF!+K9+#REF!+#REF!+K45 -> #REF! | Q4: =#REF!+#REF!+#REF!+#REF!+#REF!+#REF!+#REF!+#REF!+#REF!+L9+#REF!+#REF!+L45 -> #REF! | R4: =#REF!+#REF!+#REF!+#REF!+#REF!+#REF!+#REF!+#REF!+#REF!+M9+#REF!+#REF!+M45 -> #REF!
A5: ○ 일죽~도계간 도로 | B5: (당초=A) | C5: =SUM(C6:C8) -> 94000000 | D5: =SUM(D6:D8) -> 5700000 | E5: =SUM(E6:E8) -> 5690291 | F5: =SUM(F6:F8) -> 9709 | G5: =SUM(G6:G8) -> 2000000 | H5: =SUM(H6:H8) -> 2009709 | I5: =SUM(I6:I8) -> 0 | J5: =SUM(J6:J8) -> 0 | ... L5: =SUM(L6:L8) -> 76300000 | N5: 1 | O5: =(F5+G5)-(H5+I5) -> 0
B6: 시설비 | C6: 91300000 | D6: 5700000 | E6: 5690291 | F6: 9709 | G6: 2000000 | H6: 2009709 | I6: =F6+G6-H6 -> 0 | J6: 0 | K6: 10000000 | L6: =C6-D6-G6-J6-K6 -> 73600000 | N6: =C6-D6-G6-J6-K6-L6 -> 0 | O6: =(F6+G6)-(H6+I6) -> 0
A7: ·위 치 : 안성 일죽 월정 - | B7: 감리비 | C7: 2600000 | I7: =F7+G7-H7 -> 0 | L7: =C7-D7-G7-J7-K7 -> 2600000 | N7: =C7-D7-G7-J7-K7-L7 -> 0 | O7: =(F7+G7)-(H7+I7) -> 0
A8: 충북 음성 금왕 호산 | B8: 시설부대비 | C8: 100000 | I8: =F8+G8-H8 -> 0 | L8: =C8-D8-G8-J8-K8 -> 100000 | N8: =C8-D8-G8-J8-K8-L8 -> 0 | O8: =(F8+G8)-(H8+I8) -> 0
B9: (변경=B) | C9: =SUM(C10:C12) -> 94000000 | D9: =SUM(D10:D12) -> 5700000 | E9: =SUM(E10:E12) -> 5690291 | F9: =SUM(F10:F12) -> 9709 | G9: =SUM(G10:G12) -> 2000000 | H9: =SUM(H10:H12) -> 1990098 | I9: =SUM(I10:I12) -> 19611 | J9: =SUM(J10:J12) -> 2000000 | ... L9: =SUM(L10:L12) -> 74300000 | N9: =C9-D9-G9-J9-K9-L9 -> 0 | O9: =(F9+G9)-(H9+I9) -> 0
A10: ·사업량: L = 8.45㎞, | B10: 시설비 | C10: 91300000 | D10: 5700000 | E10: 5690291 | F10: 9709 | G10: 2000000 | H10: 1990098 | I10: =(F10+G10)-H10 -> 19611 | J10: 2000000 | K10: 10000000 | L10: =C10-D10-G10-J10-K10 -> 71600000 | N10: =C10-D10-G10-J10-K10-L10 -> 0 | O10: =(F10+G10)-(H10+I10) -> 0
A11: B= 20~25m | B11: 감리비 | C11: 2600000 | I11: =(F11+G11)-H11 -> 0 | L11: =C11-D11-G11-J11-K11 -> 2600000 | N11: =C11-D11-G11-J11-K11-L11 -> 0 | O11: =(F11+G11)-(H11+I11) -> 0
A12: · 기 간 : 2004~2015 | B12: 시설부대비 | C12: 100000 | I12: =(F12+G12)-H12 -> 0 | L12: =C12-D12-G12-J12-K12 -> 100000 | N12: =C12-D12-G12-J12-K12-L12 -> 0 | O12: =(F12+G12)-(H12+I12) -> 0
B13: (증감=B-A) | C13: =C9-C5 -> 0 | H13: =H9-H5 -> -19611 | I13: =I9-I5 -> 19611 | J13: =J9-J5 -> 2000000 | K13: =K9-K5 -> 0 | L13: =L9-L5 -> -2000000 | O13: =(F13+G13)-(H13+I13) -> 0
A14: ○ 분천~안녕간 도로 | B14: (당초=A) | C14: =SUM(C15:C17) -> 15000000 | D14: =SUM(D15:D17) -> 9500000 | E14: =SUM(E15:E17) -> 6660321 | F14: =SUM(F15:F17) -> 2839679 | G14: =SUM(G15:G17) -> 2000000 | H14: =SUM(H15:H17) -> 4839679 | I14: =SUM(I15:I17) -> 0 | J14: =SUM(J15:J17) -> 1000000 | ... L14: =SUM(L15:L17) -> 0 | N14: 1 | O14: =(F14+G14)-(H14+I14) -> 0
B15: 시설비 | C15: 14485000 | D15: 9485000 | E15: 6645321 | F15: 2839679 | G15: 1890000 | H15: 4729679 | I15: =F15+G15-H15 -> 0 | J15: 850000 | K15: 2260000 | L15: =C15-D15-G15-J15-K15 -> 0 | N15: =C15-D15-G15-J15-K15-L15 -> 0 | O15: =(F15+G15)-(H15+I15) -> 0
A16: ·위 치 : 화성 봉담 수기 - | B16: 감리비 | C16: 485000 | G16: 100000 | H16: 100000 | I16: =F16+G16-H16 -> 0 | J16: 150000 | K16: 235000 | L16: =C16-D16-G16-J16-K16 -> 0 | N16: =C16-D16-G16-J16-K16-L16 -> 0 | O16: =(F16+G16)-(H16+I16) -> 0
A17: 태안 안녕 | B17: 시설부대비 | C17: 30000 | D17: 15000 | E17: 15000 | G17: 10000 | H17: 10000 | I17: =F17+G17-H17 -> 0 | K17: 5000 | L17: =C17-D17-G17-J17-K17 -> 0 | N17: =C17-D17-G17-J17-K17-L17 -> 0 | O17: =(F17+G17)-(H17+I17) -> 0
B18: (변경=B) | C18: =SUM(C19:C21) -> 16700000 | D18: =SUM(D19:D21) -> 9500000 | E18: =SUM(E19:E21) -> 6660321 | F18: =SUM(F19:F21) -> 2839679 | G18: =SUM(G19:G21) -> 2000000 | H18: =SUM(H19:H21) -> 1159986 | I18: =SUM(I19:I21) -> 3679693 | J18: =SUM(J19:J21) -> 2000000 | ... L18: =SUM(L19:L21) -> 0 | N18: =C18-D18-G18-J18-K18-L18 -> 0 | O18: =(F18+G18)-(H18+I18) -> 0
A19: ·사업량: L = 1.9㎞, | B19: 시설비 | C19: 16185000 | D19: 9485000 | E19: 6645321 | F19: 2839679 | G19: 1890000 | H19: 1059986 | I19: =(F19+G19)-H19 -> 3669693 | J19: 1850000 | K19: 2960000 | L19: =C19-D19-G19-J19-K19 -> 0 | N19: =C19-D19-G19-J19-K19-L19 -> 0 | O19: =(F19+G19)-(H19+I19) -> 0
A20: B= 12~20m | B20: 감리비 | C20: 485000 | G20: 100000 | H20: 100000 | I20: =(F20+G20)-H20 -> 0 | J20: 150000 | K20: 235000 | L20: =C20-D20-G20-J20-K20 -> 0 | N20: =C20-D20-G20-J20-K20-L20 -> 0 | O20: =(F20+G20)-(H20+I20) -> 0
A21: · 기 간 : 2002~2012 | B21: 시설부대비 | C21: 30000 | D21: 15000 | E21: 15000 | G21: 10000 | H21: 0 | I21: =(F21+G21)-H21 -> 10000 | J21: 0 | K21: 5000 | L21: =C21-D21-G21-J21-K21 -> 0 | N21: =C21-D21-G21-J21-K21-L21 -> 0 | O21: =(F21+G21)-(H21+I21) -> 0
B22: (증감=B-A) | C22: =C18-C14 -> 1700000 | H22: =H18-H14 -> -3679693 | I22: =I18-I14 -> 3679693 | J22: =J18-J14 -> 1000000 | K22: =K18-K14 -> 700000 | L22: =L18-L14 -> 0 | O22: =(F22+G22)-(H22+I22) -> 0
A23: ○ 여주~가남간 도로 | B23: (당초=A) | C23: =SUM(C24:C26) -> 149000000 | D23: =SUM(D24:D26) -> 36376000 | E23: =SUM(E24:E26) -> 35076427 | F23: =SUM(F24:F26) -> 1299574 | G23: =SUM(G24:G26) -> 11300000 | H23: =SUM(H24:H26) -> 12599574 | I23: =SUM(I24:I26) -> 0 | J23: =SUM(J24:J26) -> 20000000 | ... L23: =SUM(L24:L26) -> 61324000 | N23: 1 | O23: =(F23+G23)-(H23+I23) -> 0
B24: 시설비 | C24: 143400000 | D24: 35286000 | E24: 34740207 | F24: 545793 | G24: 11290000 | H24: 11835793 | I24: =F24+G24-H24 -> 0 | J24: 19890000 | K24: 19000000 | L24: =C24-D24-G24-J24-K24 -> 57934000 | N24: =C24-D24-G24-J24-K24-L24 -> 0 | O24: =(F24+G24)-(H24+I24) -> 0
A25: ·위 치 : 여주 여주 창리 - | B25: 감리비 | C25: 5400000 | D25: 990000 | E25: 250000 | F25: 740000 | H25: 740000 | I25: =F25+G25-H25 -> 0 | J25: 100000 | K25: 1000000 | L25: =C25-D25-G25-J25-K25 -> 3310000 | N25: =C25-D25-G25-J25-K25-L25 -> 0 | O25: =(F25+G25)-(H25+I25) -> 0
A26: 가남 태평 | B26: 시설부대비 | C26: 200000 | D26: 100000 | E26: 86220 | F26: 13781 | G26: 10000 | H26: 23781 | I26: =F26+G26-H26 -> 0 | J26: 10000 | K26: 0 | L26: =C26-D26-G26-J26-K26 -> 80000 | N26: =C26-D26-G26-J26-K26-L26 -> 0 | O26: =(F26+G26)-(H26+I26) -> 0
B27: (변경=B) | C27: =SUM(C28:C30) -> 149000000 | D27: =SUM(D28:D30) -> 36376000 | E27: =SUM(E28:E30) -> 35076427 | F27: =SUM(F28:F30) -> 1299574 | G27: =SUM(G28:G30) -> 11300000 | H27: =SUM(H28:H30) -> 11360804 | I27: =SUM(I28:I30) -> 1238770 | J27: =SUM(J28:J30) -> 21000000 | ... L27: =SUM(L28:L30) -> 60324000 | N27: =C27-D27-G27-J27-K27-L27 -> 0 | O27: =(F27+G27)-(H27+I27) -> 0
A28: ·사업량: L = 13.94㎞, | B28: 시설비 | C28: 143400000 | D28: 35286000 | E28: 34740207 | F28: 545793 | G28: 11290000 | H28: 10976091 | I28: =(F28+G28)-H28 -> 859702 | J28: 20890000 | K28: 19000000 | L28: =C28-D28-G28-J28-K28 -> 56934000 | N28: =C28-D28-G28-J28-K28-L28 -> 0 | O28: =(F28+G28)-(H28+I28) -> 0
A29: B= 20m | B29: 감리비 | C29: 5400000 | D29: 990000 | E29: 250000 | F29: 740000 | H29: 378960 | I29: =(F29+G29)-H29 -> 361040 | J29: 100000 | K29: 1000000 | L29: =C29-D29-G29-J29-K29 -> 3310000 | N29: =C29-D29-G29-J29-K29-L29 -> 0 | O29: =(F29+G29)-(H29+I29) -> 0
A30: · 기 간 : 2004~2014 | B30: 시설부대비 | C30: 200000 | D30: 100000 | E30: 86220 | F30: 13781 | G30: 10000 | H30: 5753 | I30: =(F30+G30)-H30 -> 18028 | J30: 10000 | K30: 0 | L30: =C30-D30-G30-J30-K30 -> 80000 | N30: =C30-D30-G30-J30-K30-L30 -> 0 | O30: =(F30+G30)-(H30+I30) -> 0
B31: (증감=B-A) | C31: =C27-C23 -> 0 | H31: =H27-H23 -> -1238770 | I31: =I27-I23 -> 1238770 | J31: =J27-J23 -> 1000000 | K31: =K27-K23 -> 0 | L31: =L27-L23 -> -1000000 | O31: =(F31+G31)-(H31+I31) -> 0
A32: ○ 광암~신북간 도로 | B32: (당초=A) | C32: =SUM(C33:C35) -> 74550000 | D32: =SUM(D33:D35) -> 3940000 | E32: =SUM(E33:E35) -> 3402723 | F32: =SUM(F33:F35) -> 537277 | G32: =SUM(G33:G35) -> 0 | H32: =SUM(H33:H35) -> 537277 | I32: =SUM(I33:I35) -> 0 | J32: =SUM(J33:J35) -> 0 | ... L32: =SUM(L33:L35) -> 47041000 | N32: 1 | O32: =(F32+G32)-(H32+I32) -> 0
B33: 시설비 | C33: 72750000 | D33: 3700000 | E33: 3224884 | F33: 475116 | G33: 0 | H33: 475116 | I33: =F33+G33-H33 -> 0 | J33: 0 | K33: 23569000 | L33: =C33-D33-G33-J33-K33 -> 45481000 | N33: =C33-D33-G33-J33-K33-L33 -> 0 | O33: =(F33+G33)-(H33+I33) -> 0
A34: ·위 치 : 동두천 광암동 - | B34: 감리비 | C34: 1500000 | D34: 40000 | E34: 40000 | F34: 0 | G34: 0 | I34: =F34+G34-H34 -> 0 | J34: 0 | L34: =C34-D34-G34-J34-K34 -> 1460000 | N34: =C34-D34-G34-J34-K34-L34 -> 0 | O34: =(F34+G34)-(H34+I34) -> 0
A35: 포천 신북 덕둔 | B35: 시설부대비 | C35: 300000 | D35: 200000 | E35: 137839 | F35: 62161 | G35: 0 | H35: 62161 | I35: =F35+G35-H35 -> 0 | J35: 0 | K35: 0 | L35: =C35-D35-G35-J35-K35 -> 100000 | N35: =C35-D35-G35-J35-K35-L35 -> 0 | O35: =(F35+G35)-(H35+I35) -> 0
B36: (변경=B) | C36: =SUM(C37:C39) -> 74550000 | D36: =SUM(D37:D39) -> 3940000 | E36: =SUM(E37:E39) -> 3402723 | F36: =SUM(F37:F39) -> 537277 | G36: =SUM(G37:G39) -> 0 | H36: =SUM(H37:H39) -> 1623 | I36: =SUM(I37:I39) -> 535654 | J36: =SUM(J37:J39) -> 2000000 | ... L36: =SUM(L37:L39) -> 45041000 | N36: =C36-D36-G36-J36-K36-L36 -> 0 | O36: =(F36+G36)-(H36+I36) -> 0
A37: ·사업량: L = 10.47㎞, | B37: 시설비 | C37: 72750000 | D37: 3700000 | E37: 3224884 | F37: 475116 | G37: 0 | H37: 1623 | I37: =(F37+G37)-H37 -> 473493 | J37: 2000000 | K37: 23569000 | L37: =C37-D37-G37-J37-K37 -> 43481000 | N37: =C37-D37-G37-J37-K37-L37 -> 0 | O37: =(F37+G37)-(H37+I37) -> 0
A38: B= 10m | B38: 감리비 | C38: 1500000 | D38: 40000 | E38: 40000 | F38: 0 | G38: 0 | I38: =(F38+G38)-H38 -> 0 | L38: =C38-D38-G38-J38-K38 -> 1460000 | N38: =C38-D38-G38-J38-K38-L38 -> 0 | O38: =(F38+G38)-(H38+I38) -> 0
A39: · 기 간 : 2007~2014 | B39: 시설부대비 | C39: 300000 | D39: 200000 | E39: 137839 | F39: 62161 | G39: 0 | I39: =(F39+G39)-H39 -> 62161 | L39: =C39-D39-G39-J39-K39 -> 100000 | N39: =C39-D39-G39-J39-K39-L39 -> 0 | O39: =(F39+G39)-(H39+I39) -> 0
B40: (증감=B-A) | C40: =C36-C32 -> 0 | H40: =H36-H32 -> -535654 | I40: =I36-I32 -> 535654 | J40: =J36-J32 -> 2000000 | K40: =K36-K32 -> 0 | L40: =L36-L32 -> -2000000 | O40: =(F40+G40)-(H40+I40) -> 0
...

Sheet 세입_특별
A1: 2011년도 제1회추경 특별회계 세입 예산 수정(안)
B2: □ 세입예산(특별회계)
M3: (단위:천원)
A4: 부서명 | B4: 명세서 페이지 | C4: 사업명 | D4: 예산안 | E4: 조정액 | H4: 재 원 현 황 | M4: 비 고
E5: 계 | F5: 감액 | G5: 증액 | H5: 계 | I5: 국비 | J5: 균특 | K5: 기금 | L5: 도비
C6: 계 | D6: =SUM(D7:D36)/2 -> 0 | E6: =SUM(E7:E36)/2 -> 0 | F6: =SUM(F7:F36)/2 -> 0 | G6: =SUM(G7:G36)/2 -> 0 | H6: =SUM(H7:H36) -> 0 | I6: =SUM(I7:I36) -> 0 | J6: =SUM(J7:J36) -> 0 | K6: =SUM(K7:K36) -> 0 | L6: =SUM(L7:L36) -> 0
A7: 의료급여기금 | C7: 의료급여기금 | D7: =SUM(D8:D9) -> 0 | E7: =SUM(E8:E9) -> 0 | F7: =SUM(F8:F9) -> 0 | G7: =SUM(G8:G9) -> 0 | H7: =SUM(H8:H9) -> 0 | I7: =SUM(I8:I9) -> 0 | J7: =SUM(J8:J9) -> 0 | K7: =SUM(K8:K9) -> 0 | L7: =SUM(L8:L9) -> 0
E8: =SUM(G8-F8) -> 0 | F8: =IF(H8>0,0,-H8) -> 0 | G8: =IF(H8>0,H8,0) -> 0 | H8: =SUM(I8:L8) -> 0
D9: 0 | E9: =SUM(G9-F9) -> 0 | F9: =IF(H9>0,0,-H9) -> 0 | G9: =IF(H9>0,H9,0) -> 0 | H9: =SUM(I9:L9) -> 0
A10: 팔당호관리 | C10: 팔당호관리 | D10: =SUM(D11:D12) -> 0 | E10: =SUM(E11:E12) -> 0 | F10: =SUM(F11:F12) -> 0 | G10: =SUM(G11:G12) -> 0 | H10: =SUM(H11:H12) -> 0 | I10: =SUM(I11:I12) -> 0 | J10: =SUM(J11:J12) -> 0 | K10: =SUM(K11:K12) -> 0 | L10: =SUM(L11:L12) -> 0
D11: 0 | E11: =SUM(G11-F11) -> 0 | F11: =IF(H11>0,0,-H11) -> 0 | G11: =IF(H11>0,H11,0) -> 0 | H11: =SUM(I11:L11) -> 0
D12: 0 | E12: =SUM(G12-F12) -> 0 | F12: =IF(H12>0,0,-H12) -> 0 | G12: =IF(H12>0,H12,0) -> 0 | H12: =SUM(I12:L12) -> 0
A13: 유료도로사업 | C13: 유료도로사업 | D13: =SUM(D14:D15) -> 0 | E13: =SUM(E14:E15) -> 0 | F13: =SUM(F14:F15) -> 0 | G13: =SUM(G14:G15) -> 0 | H13: =SUM(H14:H15) -> 0 | I13: =SUM(I14:I15) -> 0 | J13: =SUM(J14:J15) -> 0 | K13: =SUM(K14:K15) -> 0 | L13: =SUM(L14:L15) -> 0
D14: 0 | E14: =SUM(G14-F14) -> 0 | F14: =IF(H14>0,0,-H14) -> 0 | G14: =IF(H14>0,H14,0) -> 0 | H14: =SUM(I14:L14) -> 0
D15: 0 | E15: =SUM(G15-F15) -> 0 | F15: =IF(H15>0,0,-H15) -> 0 | G15: =IF(H15>0,H15,0) -> 0 | H15: =SUM(I15:L15) -> 0
A16: 학교용지부담금 | C16: 학교용지부담금 | D16: =SUM(D17:D18) -> 0 | E16: =SUM(E17:E18) -> 0 | F16: =SUM(F17:F18) -> 0 | G16: =SUM(G17:G18) -> 0 | H16: =SUM(H17:H18) -> 0 | I16: =SUM(I17:I18) -> 0 | J16: =SUM(J17:J18) -> 0 | K16: =SUM(K17:K18) -> 0 | L16: =SUM(L17:L18) -> 0
A19: 광역교통시설 | C19: 광역교통시설 | D19: =SUM(D20:D21) -> 0 | E19: =SUM(E20:E21) -> 0 | F19: =SUM(F20:F21) -> 0 | G19: =SUM(G20:G21) -> 0 | H19: =SUM(H20:H21) -> 0 | I19: =SUM(I20:I21) -> 0 | J19: =SUM(J20:J21) -> 0 | K19: =SUM(K20:K21) -> 0 | L19: =SUM(L20:L21) -> 0
D20: 0 | E20: =SUM(G20-F20) -> 0 | F20: =IF(H20>0,0,-H20) -> 0 | G20: =IF(H20>0,H20,0) -> 0 | H20: =SUM(I20:L20) -> 0
D21: 0 | E21: =SUM(G21-F21) -> 0 | F21: =IF(H21>0,0,-H21) -> 0 | G21: =IF(H21>0,H21,0) -> 0 | H21: =SUM(I21:L21) -> 0
A22: 임진강유역댐정비 | C22: 임진강유역댐정비 | D22: =SUM(D23:D24) -> 0 | E22: =SUM(E23:E24) -> 0 | F22: =SUM(F23:F24) -> 0 | G22: =SUM(G23:G24) -> 0 | H22: =SUM(H23:H24) -> 0 | I22: =SUM(I23:I24) -> 0 | J22: =SUM(J23:J24) -> 0 | K22: =SUM(K23:K24) -> 0 | L22: =SUM(L23:L24) -> 0
D23: 0 | E23: =SUM(G23-F23) -> 0 | F23: =IF(H23>0,0,-H23) -> 0 | G23: =IF(H23>0,H23,0) -> 0 | H23: =SUM(I23:L23) -> 0
D24: 0 | E24: =SUM(G24-F24) -> 0 | F24: =IF(H24>0,0,-H24) -> 0 | G24: =IF(H24>0,H24,0) -> 0 | H24: =SUM(I24:L24) -> 0
A25: 지역개발기금 | C25: 지역개발기금 | D25: =SUM(D26:D27) -> 0 | E25: =SUM(E26:E27) -> 0 | F25: =SUM(F26:F27) -> 0 | G25: =SUM(G26:G27) -> 0 | H25: =SUM(H26:H27) -> 0 | I25: =SUM(I26:I27) -> 0 | J25: =SUM(J26:J27) -> 0 | K25: =SUM(K26:K27) -> 0 | L25: =SUM(L26:L27) -> 0
D26: 0 | E26: =SUM(G26-F26) -> 0 | F26: =IF(H26>0,0,-H26) -> 0 | G26: =IF(H26>0,H26,0) -> 0 | H26: =SUM(I26:L26) -> 0
D27: 0 | E27: =SUM(G27-F27) -> 0 | F27: =IF(H27>0,0,-H27) -> 0 | G27: =IF(H27>0,H27,0) -> 0 | H27: =SUM(I27:L27) -> 0
A28: 판교테크노밸리 | C28: 판교테크노밸리 | D28: =SUM(D29:D30) -> 0 | E28: =SUM(E29:E30) -> 0 | F28: =SUM(F29:F30) -> 0 | G28: =SUM(G29:G30) -> 0 | H28: =SUM(H29:H30) -> 0 | I28: =SUM(I29:I30) -> 0 | J28: =SUM(J29:J30) -> 0 | K28: =SUM(K29:K30) -> 0 | L28: =SUM(L29:L30) -> 0
D29: 0 | E29: =SUM(G29-F29) -> 0 | F29: =IF(H29>0,0,-H29) -> 0 | G29: =IF(H29>0,H29,0) -> 0 | H29: =SUM(I29:L29) -> 0
D30: 0 | E30: =SUM(G30-F30) -> 0 | F30: =IF(H30>0,0,-H30) -> 0 | G30: =IF(H30>0,H30,0) -> 0 | H30: =SUM(I30:L30) -> 0
A31: 고양관광문화단지 | C31: 고양관광문화단지 | D31: =SUM(D32:D33) -> 0 | E31: =SUM(E32:E33) -> 0 | F31: =SUM(F32:F33) -> 0 | G31: =SUM(G32:G33) -> 0 | H31: =SUM(H32:H33) -> 0 | I31: =SUM(I32:I33) -> 0 | J31: =SUM(J32:J33) -> 0 | K31: =SUM(K32:K33) -> 0 | L31: =SUM(L32:L33) -> 0
H32: =SUM(I32:L32) -> 0
D33: 0 | E33: =SUM(G33-F33) -> 0 | F33: =IF(H33>0,0,-H33) -> 0 | G33: =IF(H33>0,H33,0) -> 0 | H33: =SUM(I33:L33) -> 0
A34: 고덕국제화지구 | C34: 고덕국제화지구 | D34: =SUM(D35:D36) -> 0 | E34: =SUM(E35:E36) -> 0 | F34: =SUM(F35:F36) -> 0 | G34: =SUM(G35:G36) -> 0 | H34: =SUM(H35:H36) -> 0 | I34: =SUM(I35:I36) -> 0 | J34: =SUM(J35:J36) -> 0 | K34: =SUM(K35:K36) -> 0 | L34: =SUM(L35:L36) -> 0
D35: 0 | E35: =SUM(G35-F35) -> 0 | F35: =IF(H35>0,0,-H35) -> 0 | G35: =IF(H35>0,H35,0) -> 0 | H35: =SUM(I35:L35) -> 0
D36: 0 | E36: =SUM(G36-F36) -> 0 | F36: =IF(H36>0,0,-H36) -> 0 | G36: =IF(H36>0,H36,0) -> 0 | H36: =SUM(I36:L36) -> 0

Sheet 세출_특별
A1: 2011년도 제1회추경 특별회계 세출 예산 수정(안)
B2: □ 세출예산(특별회계)
M3: (단위:천원)
A4: 부서명 | B4: 명세서 페이지 | C4: 사업명 | D4: 예산안 | E4: 조정액 | H4: 재 원 현 황 | M4: 비 고
E5: 계 | F5: 감액 | G5: 증액 | H5: 계 | I5: 국비 | J5: 균특 | K5: 기금 | L5: 도비
A6: 계 | C6: 계 | D6: =SUM(D7:D36)/2 -> 0 | E6: =SUM(E7:E36)/2 -> 0 | F6: =SUM(F7:F36)/2 -> 0 | G6: =SUM(G7:G36)/2 -> 0 | H6: =SUM(H7:H36)/2 -> 0 | I6: =SUM(I7:I36)/2 -> 0 | J6: =SUM(J7:J36)/2 -> 0 | K6: =SUM(K7:K36)/2 -> 0 | L6: =SUM(L7:L36)/2 -> 0
A7: 의료급여기금 | C7: 의료급여기금 | D7: =SUM(D8:D9) -> 0 | E7: =SUM(E8:E9) -> 0 | F7: =SUM(F8:F9) -> 0 | G7: =SUM(G8:G9) -> 0 | H7: =SUM(H8:H9) -> 0 | I7: =SUM(I8:I9) -> 0 | J7: =SUM(J8:J9) -> 0 | K7: =SUM(K8:K9) -> 0 | L7: =SUM(L8:L9) -> 0
E8: =SUM(G8-F8) -> 0 | F8: =IF(H8>0,0,-H8) -> 0 | G8: =IF(H8>0,H8,0) -> 0 | H8: =SUM(I8:L8) -> 0
E9: =SUM(G9-F9) -> 0 | F9: =IF(H9>0,0,-H9) -> 0 | G9: =IF(H9>0,H9,0) -> 0 | H9: =SUM(I9:L9) -> 0
A10: 팔당호관리 | C10: 팔당호관리 | D10: =SUM(D11:D12) -> 0 | E10: =SUM(E11:E12) -> 0 | F10: =SUM(F11:F12) -> 0 | G10: =SUM(G11:G12) -> 0 | H10: =SUM(H11:H12) -> 0 | I10: =SUM(I11:I12) -> 0 | J10: =SUM(J11:J12) -> 0 | K10: =SUM(K11:K12) -> 0 | L10: =SUM(L11:L12) -> 0
E11: =SUM(G11-F11) -> 0 | F11: =IF(H11>0,0,-H11) -> 0 | G11: =IF(H11>0,H11,0) -> 0 | H11: =SUM(I11:L11) -> 0
E12: =SUM(G12-F12) -> 0 | F12: =IF(H12>0,0,-H12) -> 0 | G12: =IF(H12>0,H12,0) -> 0 | H12: =SUM(I12:L12) -> 0
A13: 유료도로사업 | C13: 유료도로사업 | D13: =SUM(D14:D15) -> 0 | E13: =SUM(E14:E15) -> 0 | F13: =SUM(F14:F15) -> 0 | G13: =SUM(G14:G15) -> 0 | H13: =SUM(H14:H15) -> 0 | I13: =SUM(I14:I15) -> 0 | J13: =SUM(J14:J15) -> 0 | K13: =SUM(K14:K15) -> 0 | L13: =SUM(L14:L15) -> 0
E14: =SUM(G14-F14) -> 0 | F14: =IF(H14>0,0,-H14) -> 0 | G14: =IF(H14>0,H14,0) -> 0 | H14: =SUM(I14:L14) -> 0
E15: =SUM(G15-F15) -> 0 | F15: =IF(H15>0,0,-H15) -> 0 | G15: =IF(H15>0,H15,0) -> 0 | H15: =SUM(I15:L15) -> 0
A16: 학교용지부담금 | C16: 학교용지부담금 | D16: =SUM(D17:D18) -> 0 | E16: =SUM(E17:E18) -> 0 | F16: =SUM(F17:F18) -> 0 | G16: =SUM(G17:G18) -> 0 | H16: =SUM(H17:H18) -> 0 | I16: =SUM(I17:I18) -> 0 | J16: =SUM(J17:J18) -> 0 | K16: =SUM(K17:K18) -> 0 | L16: =SUM(L17:L18) -> 0
H17: =SUM(I17:L17) -> 0
H18: =SUM(I18:L18) -> 0
A19: 광역교통시설 | C19: 광역교통시설 | D19: =SUM(D20:D21) -> 0 | E19: =SUM(E20:E21) -> 0 | F19: =SUM(F20:F21) -> 0 | G19: =SUM(G20:G21) -> 0 | H19: =SUM(H20:H21) -> 0 | I19: =SUM(I20:I21) -> 0 | J19: =SUM(J20:J21) -> 0 | K19: =SUM(K20:K21) -> 0 | L19: =SUM(L20:L21) -> 0
E20: =SUM(G20-F20) -> 0 | G20: =IF(H20>0,H20,0) -> 0 | H20: =SUM(I20:L20) -> 0
E21: =SUM(G21-F21) -> 0 | F21: =IF(H21>0,0,-H21) -> 0 | G21: =IF(H21>0,H21,0) -> 0 | H21: =SUM(I21:L21) -> 0
A22: 임진강유역댐정비 | C22: 임진강유역댐정비 | D22: =SUM(D23:D24) -> 0 | E22: =SUM(E23:E24) -> 0 | F22: =SUM(F23:F24) -> 0 | G22: =SUM(G23:G24) -> 0 | H22: =SUM(H23:H24) -> 0 | I22: =SUM(I23:I24) -> 0 | J22: =SUM(J23:J24) -> 0 | K22: =SUM(K23:K24) -> 0 | L22: =SUM(L23:L24) -> 0
E23: =SUM(G23-F23) -> 0 | F23: =IF(H23>0,0,-H23) -> 0 | G23: =IF(H23>0,H23,0) -> 0 | H23: =SUM(I23:L23) -> 0
E24: =SUM(G24-F24) -> 0 | F24: =IF(H24>0,0,-H24) -> 0 | G24: =IF(H24>0,H24,0) -> 0 | H24: =SUM(I24:L24) -> 0
A25: 지역개발기금 | C25: 지역개발기금 | D25: =SUM(D26:D27) -> 0 | E25: =SUM(E26:E27) -> 0 | F25: =SUM(F26:F27) -> 0 | G25: =SUM(G26:G27) -> 0 | H25: =SUM(H26:H27) -> 0 | I25: =SUM(I26:I27) -> 0 | J25: =SUM(J26:J27) -> 0 | K25: =SUM(K26:K27) -> 0 | L25: =SUM(L26:L27) -> 0
A28: 판교테크노밸리 | C28: 판교테크노밸리 | D28: =SUM(D29:D30) -> 0 | E28: =SUM(E29:E30) -> 0 | F28: =SUM(F29:F30) -> 0 | G28: =SUM(G29:G30) -> 0 | H28: =SUM(H29:H30) -> 0 | I28: =SUM(I29:I30) -> 0 | J28: =SUM(J29:J30) -> 0 | K28: =SUM(K29:K30) -> 0 | L28: =SUM(L29:L30) -> 0
E29: =SUM(G29-F29) -> 0 | F29: =IF(H29>0,0,-H29) -> 0 | G29: =IF(H29>0,H29,0) -> 0 | H29: =SUM(I29:L29) -> 0
E30: =SUM(G30-F30) -> 0 | F30: =IF(H30>0,0,-H30) -> 0 | G30: =IF(H30>0,H30,0) -> 0 | H30: =SUM(I30:L30) -> 0
A31: 고양관광문화단지 | C31: 고양관광문화단지 | D31: =SUM(D32:D33) -> 0 | E31: =SUM(E32:E33) -> 0 | F31: =SUM(F32:F33) -> 0 | G31: =SUM(G32:G33) -> 0 | H31: =SUM(H32:H33) -> 0 | I31: =SUM(I32:I33) -> 0 | J31: =SUM(J32:J33) -> 0 | K31: =SUM(K32:K33) -> 0 | L31: =SUM(L32:L33) -> 0
A34: 고덕국제화지구 | C34: 고덕국제화지구 | D34: =SUM(D35:D36) -> 0 | E34: =SUM(E35:E36) -> 0 | F34: =SUM(F35:F36) -> 0 | G34: =SUM(G35:G36) -> 0 | H34: =SUM(H35:H36) -> 0 | I34: =SUM(I35:I36) -> 0 | J34: =SUM(J35:J36) -> 0 | K34: =SUM(K35:K36) -> 0 | L34: =SUM(L35:L36) -> 0
E35: =SUM(G35-F35) -> 0 | F35: =IF(H35>0,0,-H35) -> 0 | G35: =IF(H35>0,H35,0) -> 0 | H35: =SUM(I35:L35) -> 0
E36: =SUM(G36-F36) -> 0 | F36: =IF(H36>0,0,-H36) -> 0 | G36: =IF(H36>0,H36,0) -> 0 | H36: =SUM(I36:L36) -> 0

Sheet 총괄표_기금
B1: 2011년도 경기도 기금운용계획 세입·세출 예산 수정(안)
B3: □ 총 괄
H4: (단위:천원)
B5: 구 분 | C5: 집행부 제출(안) | D5: 세입예산(안) | F5: 세출예산(안) | H5: 예산수정(안)
D6: 감 액 | E6: 증 액 | F6: 감 액 | G6: 증 액
B7: 합 계 | C7: =SUM(C8:C17) -> 0 | D7: =SUM(D8:D17) -> 0 | E7: =SUM(E8:E17) -> 0 | F7: =SUM(F8:F17) -> 0 | G7: =SUM(G8:G17) -> 0 | H7: =SUM(H8:H17) -> 0
B8: 의회운영
B9: 기 획
B10: 경제투자
B11: 행정자치
B12: 문화관광
B13: 농림수산
B14: 보건복지
B15: 건설교통
B16: 도시환경
B17: 가족여성
B19: □ 회계별 예산총규모
H20: (단위:천원)
B21: 구 분 | C21: 집행부 제출(안) | D21: 세입예산(안) | F21: 세출예산(안) | H21: 예산수정(안)
D22: 감 액 | E22: 증 액 | F22: 감 액 | G22: 증 액
B23: 합 계 | C23: =SUM(C24:C25) -> 5000000 | D23: =SUM(D24:D25) -> 0 | E23: =SUM(E24:E25) -> 0 | F23: =SUM(F24:F25) -> 0 | G23: =SUM(G24:G25) -> 0 | H23: =SUM(H24:H25) -> 0
B24: 남북교류 협력기금 | C24: 5000000

Sheet 세입_기금
A1: 2011년도 경기도 기금운용계획 수정(안)
A2: □ 세입예산(기금)
G3: (단위:천원)
A4: 명세서 페이지 | B4: 사 업 명 | C4: 예산안 | D4: 조정액 | G4: 비 고
D5: 계 | E5: 감액 | F5: 증액
B6: 계 | C6: =SUM(C7:C13)/2 -> 0 | D6: =SUM(F6-E6) -> 0 | E6: =SUM(E7:E13)/2 -> 0 | F6: =SUM(F7:F13)/2 -> 0
C7: =SUM(C8:C9) -> 0 | D7: =F7-E7 -> 0 | E7: =SUM(E8:E9) -> 0 | F7: =SUM(F8:F9) -> 0
C8: 0 | D8: =F8-E8 -> 0 | F8: 0
C9: 0 | D9: =F9-E9 -> 0 | F9: 0
C10: =SUM(C11:C13) -> 0 | D10: =F10-E10 -> 0 | E10: =SUM(E11:E13) -> 0 | F10: =SUM(F11:F13) -> 0
C11: 0 | D11: =F11-E11 -> 0 | E11: 0
C12: 0 | D12: =F12-E12 -> 0 | F12: 0
C13: 0 | D13: =F13-E13 -> 0 | F13: 0

Sheet 세출_기금
A1: 2011년도 경기도 기금운용계획 수정(안)
A2: □ 세출예산(기금)
G3: (단위:천원)
A4: 명세서 페이지 | B4: 부기명 | C4: 예산안 | D4: 조정액 | G4: 비 고
D5: 계 | E5: 감액 | F5: 증액
C6: =SUM(C7:C16)/2 -> 0 | D6: =SUM(F6-E6) -> 0 | E6: =SUM(E7:E16)/2 -> 0 | F6: =SUM(F7:F16)/2 -> 0
C7: =SUM(C8:C12) -> 0 | D7: =F7-E7 -> 0 | E7: =SUM(E8:E12) -> 0 | F7: =SUM(F8:F12) -> 0
D8: =F8-E8 -> 0
D9: =F9-E9 -> 0
D10: =F10-E10 -> 0
C11: 0 | D11: =F11-E11 -> 0 | F11: 0
C12: 0 | D12: =F12-E12 -> 0 | F12: 0
C13: =SUM(C14:C16) -> 0 | D13: =F13-E13 -> 0 | E13: =SUM(E14:E16) -> 0 | F13: =SUM(F14:F16) -> 0
D14: =F14-E14 -> 0
D15: =F15-E15 -> 0
D16: =F16-E16 -> 0 | F16: 0

Sheet 위원회총괄
A1: 작성방법 | D1: 의회,대외,경투,자치,문광,농정,대변,철도,환경,여성 | E1: 감사,경제2,소방,농정2,복지,교통,도시,여성2 | F1: 기조,행정2,농업기술,복지2,건설본부,도시2,교육 | G1: 기획2,소방2,보건연구,보건연구 | H1: 인재 | I1: 소방학교 | J1: 소방서 | K1: 이체액 | L1: 이체액 | M1: 이체액 | N1: 이체액
A2: (2011년 당초예산+1회추경+2회추경+3회추경(안) | D2: =SUM(D5:K14) -> 11848206729
A3: 위원회 | B3: 총 액 | C3: 일반회계(집행부확정) | D3: 실과별1 | E3: 실과2 | F3: 실과3 | G3: 실과4 | H3: 실과5 | I3: 실과6 | J3: 실과7 | K3: 실과8 | L3: 실과8 | M3: 실과8 | N3: 실과9 | O3: 특별1 | P3: 특별2 | Q3: 특별3 | R3: 비고
A4: 계 | B4: =SUM(B5:B14) -> 14632012290 | C4: =SUM(C5:C14) -> 11848206729 | D4: =D18+D32+D46+D60 -> 14632012290 | O4: =SUM(O5:Q14) -> 2783805561
A5: 의회운영 | B5: =B19+B33+B47+B61 -> 28336711 | C5: =C19+C33+C47+C61 -> 28336711 | D5: =D19+D33+D47+D61 -> 28336711 | E5: =E19+E33+E47+E61 -> 0 | F5: =F19+F33+F47+F61 -> 0 | G5: =G19+G33+G47+G61 -> 0 | H5: =H19+H33+H47+H61 -> 0 | I5: =I19+I33+I47+I61 -> 0 | ... M5: =M19+M33+M47+M61 -> 0 | O5: =O19+O33+O47+O61 -> 0 | P5: =P19+P33+P47+P61 -> 0 | Q5: =Q19+Q33+Q47+Q61 -> 0
A6: 기 획 | B6: =B20+B34+B48+B62 -> 4502968711 | C6: =C20+C34+C48+C62 -> 3064308908 | D6: =D20+D34+D48+D62 -> 699108 | E6: =E20+E34+E48+E62 -> 965897 | F6: =F20+F34+F48+F62 -> 3023706239 | G6: =G20+G34+G48+G62 -> 38937664 | H6: =H20+H34+H48+H62 -> 0 | I6: =I20+I34+I48+I62 -> 0 | ... M6: =M20+M34+M48+M62 -> 0 | O6: =O20+O34+O48+O62 -> 1438659803 | P6: =P20+P34+P48+P62 -> 0 | Q6: =Q20+Q34+Q48+Q62 -> 0 | R6: 지역개발
A7: 경제투자 | B7: =B21+B35+B49+B63 -> 477663616 | C7: =C21+C35+C49+C63 -> 304962616 | D7: =D21+D35+D49+D63 -> 270858754 | E7: =E21+E35+E49+E63 -> 34103862 | F7: =F21+F35+F49+F63 -> 0 | G7: =G21+G35+G49+G63 -> 0 | H7: =H21+H35+H49+H63 -> 0 | I7: =I21+I35+I49+I63 -> 0 | ... M7: =M21+M35+M49+M63 -> 0 | O7: =O21+O35+O49+O63 -> 172701000 | P7: =P21+P35+P49+P63 -> 0 | Q7: =Q21+Q35+Q49+Q63 -> 0 | R7: 판교
A8: 행정자치 | B8: =B22+B36+B50+B64 -> 980650927 | C8: =C22+C36+C50+C64 -> 980650927 | D8: =D22+D36+D50+D64 -> 522539004 | E8: =E22+E36+E50+E64 -> 385227486 | F8: =F22+F36+F50+F64 -> 6519229 | G8: =G22+G36+G50+G64 -> 983466 | H8: =H22+H36+H50+H64 -> 5170380 | I8: =I22+I36+I50+I64 -> 6975058 | ... M8: =M22+M36+M50+M64 -> 0 | O8: =O22+O36+O50+O64 -> 0 | P8: =P22+P36+P50+P64 -> 0 | Q8: =Q22+Q36+Q50+Q64 -> 0
A9: 문화관광 | B9: =B23+B37+B51+B65 -> 358464003 | C9: =C23+C37+C51+C65 -> 261897170 | D9: =D23+D37+D51+D65 -> 261897170 | E9: =E23+E37+E51+E65 -> 0 | F9: =F23+F37+F51+F65 -> 0 | G9: =G23+G37+G51+G65 -> 0 | H9: =H23+H37+H51+H65 -> 0 | I9: =I23+I37+I51+I65 -> 0 | ... M9: =M23+M37+M51+M65 -> 0 | O9: =O23+O37+O51+O65 -> 96566833 | P9: =P23+P37+P51+P65 -> 0 | Q9: =Q23+Q37+Q51+Q65 -> 0 | R9: 고양
A10: 농림수산 | B10: =B24+B38+B52+B66 -> 525806798 | C10: =C24+C38+C52+C66 -> 525806798 | D10: =D24+D38+D52+D66 -> 397197323 | E10: =E24+E38+E52+E66 -> 88457117 | F10: =F24+F38+F52+F66 -> 40152358 | G10: =G24+G38+G52+G66 -> 0 | H10: =H24+H38+H52+H66 -> 0 | I10: =I24+I38+I52+I66 -> 0 | ... M10: =M24+M38+M52+M66 -> 0 | O10: =O24+O38+O52+O66 -> 0 | P10: =P24+P38+P52+P66 -> 0 | Q10: =Q24+Q38+Q52+Q66 -> 0
A11: 보건복지 | B11: =B25+B39+B53+B67 -> 2491616162 | C11: =C25+C39+C53+C67 -> 1797825761 | D11: =D25+D39+D53+D67 -> 11339908 | E11: =E25+E39+E53+E67 -> 1289494641 | F11: =F25+F39+F53+F67 -> 491531828 | G11: =G25+G39+G53+G67 -> 5459384 | H11: =H25+H39+H53+H67 -> 0 | I11: =I25+I39+I53+I67 -> 0 | ... M11: =M25+M39+M53+M67 -> 0 | O11: =O25+O39+O53+O67 -> 693790401 | P11: =P25+P39+P53+P67 -> 0 | Q11: =Q25+Q39+Q53+Q67 -> 0 | R11: 의료
A12: 건설교통 | B12: =B26+B40+B54+B68 -> 1272777529 | C12: =C26+C40+C54+C68 -> 1130783195 | D12: =D26+D40+D54+D68 -> 83393330 | E12: =E26+E40+E54+E68 -> 869965725 | F12: =F26+F40+F54+F68 -> 177424140 | G12: =G26+G40+G54+G68 -> 0 | H12: =H26+H40+H54+H68 -> 0 | I12: =I26+I40+I54+I68 -> 0 | ... M12: =M26+M40+M54+M68 -> 0 | O12: =O26+O40+O54+O68 -> 27347440 | P12: =P26+P40+P54+P68 -> 107329000 | Q12: =Q26+Q40+Q54+Q68 -> 7317894 | R12: 유료,광역,임진강
A13: 도시환경 | B13: =B27+B41+B55+B69 -> 882907760 | C13: =C27+C41+C55+C69 -> 860413890 | D13: =D27+D41+D55+D69 -> 578536012 | E13: =E27+E41+E55+E69 -> 96728262 | F13: =F27+F41+F55+F69 -> 180761740 | G13: =G27+G41+G55+G69 -> 4387876 | H13: =H27+H41+H55+H69 -> 0 | I13: =I27+I41+I55+I69 -> 0 | ... M13: =M27+M41+M55+M69 -> 0 | O13: =O27+O41+O55+O69 -> 3293870 | P13: =P27+P41+P55+P69 -> 19200000 | Q13: =Q27+Q41+Q55+Q69 -> 0 | R13: 팔당,고덕
A14: 가족여성 | B14: =B28+B42+B56+B70 -> 3110820073 | C14: =C28+C42+C56+C70 -> 2893220753 | D14: =D28+D42+D56+D70 -> 767414134 | E14: =E28+E42+E56+E70 -> 318429773 | F14: =F28+F42+F56+F70 -> 1807376846 | G14: =G28+G42+G56+G70 -> 0 | H14: =H28+H42+H56+H70 -> 0 | I14: =I28+I42+I56+I70 -> 0 | ... M14: =M28+M42+M56+M70 -> 0 | O14: =O28+O42+O56+O70 -> 217599320 | P14: =P28+P42+P56+P70 -> 0 | Q14: =Q28+Q42+Q56+Q70 -> 0 | R14: 학교
A16: (2011년 당초예산)
A17: 위원회 | B17: 당초확정예산액 | C17: 일반회계(집행부확정) | D17: 실과별1 | E17: 실과2 | F17: 실과3 | G17: 실과4 | H17: 실과5 | I17: 실과6 | J17: 실과7 | K17: 실과8 | L17: 실과8 | M17: 실과8 | N17: 실과15 | O17: 특별1 | P17: 특별2 | Q17: 특별3 | R17: 비고 | T17: 특별회계합계
A18: 계 | B18: =SUM(B19:B28) -> 13803355561 | C18: =SUM(C19:C28) -> 11066030769 | D18: =SUM(D19:J28,T18) -> 13803355561 | O18: =SUM(O19:Q28) -> 2737324792 | T18: =SUM(T19:T28) -> 2737324792
A19: 의회운영 | B19: =C19+T19 -> 28068485 | C19: =SUM(D19:N19) -> 28068485 | D19: 28068485 | T19: =SUM(O19:Q19) -> 0
A20: 기 획 | B20: =C20+T20 -> 4202280155 | C20: =SUM(D20:N20) -> 2763620352 | D20: 699108 | E20: 940897 | F20: 2724100443 | G20: 37879904 | O20: 1438659803 | R20: 지역개발 | T20: =SUM(O20:Q20) -> 1438659803
A21: 경제투자 | B21: =C21+T21 -> 405114879 | C21: =SUM(D21:N21) -> 232413879 | D21: 199215017 | E21: 33198862 | O21: 172701000 | R21: 판교 | T21: =SUM(O21:Q21) -> 172701000
A22: 행정자치 | B22: =C22+T22 -> 924686525 | C22: =SUM(D22:N22) -> 924686525 | D22: 486925962 | E22: 366401502 | F22: 6336613 | G22: 846466 | H22: 5115480 | I22: 6975058 | J22: 52085444 | T22: =SUM(O22:Q22) -> 0
A23: 문화관광 | B23: =C23+T23 -> 327628781 | C23: =SUM(D23:N23) -> 231061948 | D23: 231061948 | O23: 96566833 | R23: 고양 | T23: =SUM(O23:Q23) -> 96566833
A24: 농림수산 | B24: =C24+T24 -> 474716779 | C24: =SUM(D24:N24) -> 474716779 | D24: 351840485 | E24: 83431569 | F24: 39444725 | T24: =SUM(O24:Q24) -> 0
A25: 보건복지 | B25: =C25+T25 -> 2421301531 | C25: =SUM(D25:N25) -> 1742424899 | D25: 11339908 | E25: 1245699196 | F25: 479941304 | G25: 5444491 | O25: 678876632 | R25: 의료 | T25: =SUM(O25:Q25) -> 678876632
A26: 건설교통 | B26: =C26+T26 -> 1153710376 | C26: =SUM(D26:N26) -> 1043283042 | D26: 82393330 | E26: 792102888 | F26: 168786824 | O26: 27347440 | P26: 75762000 | Q26: 7317894 | R26: 유료,광역,임진강 | T26: =SUM(O26:Q26) -> 110427334
A27: 도시환경 | B27: =C27+T27 -> 848361453 | C27: =SUM(D27:N27) -> 825867583 | D27: 548476717 | E27: 96787928 | F27: 177072011 | G27: 3530927 | O27: 3293870 | P27: 19200000 | R27: 팔당,고덕 | T27: =SUM(O27:Q27) -> 22493870
A28: 가족여성 | B28: =C28+T28 -> 3017486597 | C28: =SUM(D28:N28) -> 2799887277 | D28: 712034506 | E28: 294935922 | F28: 1792916849 | O28: 217599320 | R28: 학교 | T28: =SUM(O28:Q28) -> 217599320
A30: (2011년 1회추경)
A31: 위원회 | B31: 총 액 | C31: 일반회계(집행부확정) | D31: 실과별1 | E31: 실과2 | F31: 실과3 | G31: 실과4 | H31: 실과5 | I31: 실과6 | J31: 실과7 | K31: 실과8 | L31: 실과8 | M31: 실과8 | N31: 실과15 | O31: 특별1 | P31: 특별2 | Q31: 특별3 | R31: 비고 | T31: 특별회계합계
A32: 계 | B32: =SUM(B33:B42) -> 828656729 | C32: =SUM(C33:C42) -> 782175960 | D32: =SUM(D33:J42,T32) -> 828656729 | O32: =SUM(O33:Q42) -> 46480769 | T32: =SUM(T33:T42) -> 46480769
A33: 의회운영 | B33: =C33+T33 -> 268226 | C33: =SUM(D33:N33) -> 268226 | D33: 268226 | T33: =SUM(O33:Q33) -> 0
A34: 기 획 | B34: =C34+T34 -> 300688556 | C34: =SUM(D34:N34) -> 300688556 | D34: 0 | E34: 25000 | F34: 299605796 | G34: 1057760 | R34: 지역개발 | T34: =SUM(O34:Q34) -> 0
A35: 경제투자 | B35: =C35+T35 -> 72548737 | C35: =SUM(D35:N35) -> 72548737 | D35: 71643737 | E35: 905000 | R35: 판교 | T35: =SUM(O35:Q35) -> 0
A36: 행정자치 | B36: =C36+T36 -> 55964402 | C36: =SUM(D36:N36) -> 55964402 | D36: 35613042 | E36: 18825984 | F36: 182616 | G36: 137000 | H36: 54900 | I36: 0 | J36: 1150860 | T36: =SUM(O36:Q36) -> 0
A37: 문화관광 | B37: =C37+T37 -> 30835222 | C37: =SUM(D37:N37) -> 30835222 | D37: 30835222 | R37: 고양 | T37: =SUM(O37:Q37) -> 0
A38: 농림수산 | B38: =C38+T38 -> 51090019 | C38: =SUM(D38:N38) -> 51090019 | D38: 45356838 | E38: 5025548 | F38: 707633 | T38: =SUM(O38:Q38) -> 0
A39: 보건복지 | B39: =C39+T39 -> 70314631 | C39: =SUM(D39:N39) -> 55400862 | D39: 0 | E39: 43795445 | F39: 11590524 | G39: 14893 | O39: 14913769 | R39: 의료 | T39: =SUM(O39:Q39) -> 14913769
A40: 건설교통 | B40: =C40+T40 -> 119067153 | C40: =SUM(D40:N40) -> 87500153 | D40: 1000000 | E40: 77862837 | F40: 8637316 | P40: 31567000 | R40: 유료,광역,임진강 | T40: =SUM(O40:Q40) -> 31567000
A41: 도시환경 | B41: =C41+T41 -> 34546307 | C41: =SUM(D41:N41) -> 34546307 | D41: 30059295 | E41: -59666 | F41: 3689729 | G41: 856949 | R41: 팔당,고덕 | T41: =SUM(O41:Q41) -> 0
A42: 가족여성 | B42: =C42+T42 -> 93333476 | C42: =SUM(D42:N42) -> 93333476 | D42: 55379628 | E42: 23493851 | F42: 14459997 | R42: 학교 | T42: =SUM(O42:Q42) -> 0
...
