Workbook

Sheet 총괄표
B1: 2011년도 제3회 추경 일반 및 특별회계 세입·세출 예산 수정(안)
B2: □ 총 괄
H3: (단위:천원) | N3: (일반+특별+기금)
B4: 구 분 | C4: 집행부제출(안) | D4: 세입예산(안) | F4: 세출예산(안) | H4: 예산수정(안) | I4: 일반회계 증감(총괄표) | K4: 예비비증감 | L4: 비 고 | M4: 전체 증감(시트) | O4: 비고
D5: 감 액 | E5: 증 액 | F5: 감 액 | G5: 증 액 | I5: 세입 | J5: 세출 | M5: 세입 | N5: 세출
B6: 합 계 | C6: =SUM(C7:C17) -> 15369830928 | D6: =SUM(D7:D17) -> 132806283 | E6: =SUM(E7:E17) -> 32214410 | F6: =SUM(F7:F17) -> 142897751 | G6: =SUM(G7:G17) -> 42305878 | H6: =SUM(H7:H17) -> 15269239055 | I6: =E24-D24 -> -100590628 | J6: =+G24-F24 -> -100590628 | K6: =+I6-J6 -> 0 | L6: 예비비 증감이 - 예산이면 감액에 + 예산이면 증액에 입력 | M6: =(세입_일반!H6-세입_일반!G6)+(세입_특별!G6-세입_특별!F6)+(세입_기금!F6-세입_기금!E6) -> -100591873 | N6: =+(세출_일반!H6-세출_일반!G6)+(세출_특별!G6-세출_특별!F6)+(세출_기금!F6-세출_기금!E6) -> -100591873 | O6: =+M6-I6 -> -1245 | P6: =+N6-J6 -> -1245
B7: 기 타 | H7: =C7-F7+G7 -> 0
B8: 운 영 위 | C8: =위원회총괄!B5 -> 28429811 | D8: =SUMIF(세입_일반!A7:A78,"=의회운영위원회",세입_일반!G7:G78) -> 0 | E8: =SUMIF(세입_일반!A7:A78,"=의회운영위원회",세입_일반!H7:H78) -> 0 | F8: =SUMIF(세출_일반!A9:A151,"=의회운영위원회",세출_일반!G9:G151) -> 2000000 | G8: =SUMIF(세출_일반!A9:A151,"=의회운영위원회",세출_일반!H9:H151) -> 20000 | H8: =C8-F8+G8 -> 26449811 | I8: 일반회계 증감(시트) | N8: 전체 증감
B9: 기 획 위 | C9: =위원회총괄!B6 -> 4599975685 | D9: =SUMIF(세입_일반!A7:A78,"=기획위원회",세입_일반!G7:G78)+세입_특별!F25 -> 0 | E9: =SUMIF(세입_일반!A7:A78,"=기획위원회",세입_일반!H7:H78)+세입_특별!G25 -> 0 | F9: =SUMIF(세출_일반!A9:A151,"=기획위원회",세출_일반!G9:G151)+세출_특별!F25 -> 1877790 | G9: =SUMIF(세출_일반!A9:A151,"=기획위원회",세출_일반!H9:H151)+세출_특별!G25 -> 0 | H9: =C9-F9+G9 -> 4598097895 | I9: =세입_일반!F6 -> -100590628 | J9: =세출_일반!F6 -> -100590628 | N9: =+H6-C6 -> -100591873
B10: 경 제 위 | C10: =위원회총괄!B7 -> 614815906 | D10: =SUMIF(세입_일반!A7:A78,"=경제투자위원회",세입_일반!G7:G78)+세입_특별!F28 -> 0 | E10: =SUMIF(세입_일반!A7:A78,"=경제투자위원회",세입_일반!H7:H78)+세입_특별!G28 -> 0 | F10: =SUMIF(세출_일반!A9:A151,"=경제투자위원회",세출_일반!G9:G151)+세출_특별!F28 -> 0 | G10: =SUMIF(세출_일반!A9:A151,"=경제투자위원회",세출_일반!H9:H151)+세출_특별!G28 -> 1510000 | H10: =C10-F10+G10 -> 616325906
B11: 행 정 위 | C11: =위원회총괄!B8 -> 1008395391 | D11: =SUMIF(세입_일반!A7:A78,"=행정자치위원회",세입_일반!G7:G78) -> 114418 | E11: =SUMIF(세입_일반!A7:A78,"=행정자치위원회",세입_일반!H7:H78) -> 33250 | F11: =SUMIF(세출_일반!A9:A151,"=행정자치위원회",세출_일반!G9:G151) -> 114418 | G11: =SUMIF(세출_일반!A9:A151,"=행정자치위원회",세출_일반!H9:H151) -> 33250 | H11: =C11-F11+G11 -> 1008314223
B12: 문 광 위 | C12: =위원회총괄!B9 -> 367556380 | D12: =SUMIF(세입_일반!A7:A78,"=문화체육관광위원회",세입_일반!G7:G78)+세입_특별!F31 -> 559185 | E12: =SUMIF(세입_일반!A7:A78,"=문화체육관광위원회",세입_일반!H7:H78)+세입_특별!G31 -> 100000 | F12: =SUMIF(세출_일반!A9:A151,"=문화체육관광위원회",세출_일반!G9:G151)+세출_특별!F31 -> 559185 | G12: =SUMIF(세출_일반!A9:A151,"=문화체육관광위원회",세출_일반!H9:H151)+세출_특별!G31 -> 400000 | H12: =C12-F12+G12 -> 367397195
B13: 농 림 위 | C13: =위원회총괄!B10 -> 576482968 | D13: =SUMIF(세입_일반!A7:A78,"=농림수산위원회",세입_일반!G7:G78) -> 8345913 | E13: =SUMIF(세입_일반!A7:A78,"=농림수산위원회",세입_일반!H7:H78) -> 7659735 | F13: =SUMIF(세출_일반!A9:A151,"=농림수산위원회",세출_일반!G9:G151) -> 9185058 | G13: =SUMIF(세출_일반!A9:A151,"=농림수산위원회",세출_일반!H9:H151) -> 8664928 | H13: =C13-F13+G13 -> 575962838
B14: 복 지 위 | C14: =위원회총괄!B11 -> 2517632445 | D14: =SUMIF(세입_일반!A7:A78,"=보건복지공보위원회",세입_일반!G7:G78)+세입_특별!F7 -> 2208094 | E14: =SUMIF(세입_일반!A7:A78,"=보건복지공보위원회",세입_일반!H7:H78)+세입_특별!G7 -> 23772496 | F14: =SUMIF(세출_일반!A9:A151,"=보건복지공보위원회",세출_일반!G9:G151)+세출_특별!F7 -> 6300434 | G14: =SUMIF(세출_일반!A9:A151,"=보건복지공보위원회",세출_일반!H9:H151)+세출_특별!G7 -> 28022494 | H14: =C14-F14+G14 -> 2539354505
B15: 건 설 위 | C15: =위원회총괄!B12 -> 1558358074 | D15: =SUMIF(세입_일반!A7:A78,"=건설교통위원회",세입_일반!G7:G78)+세입_특별!F13+세입_특별!F19+세입_특별!F22 -> 120687179 | E15: =SUMIF(세입_일반!A7:A78,"=건설교통위원회",세입_일반!H7:H78)+세입_특별!G13+세입_특별!G19+세입_특별!G22 -> 0 | F15: =SUMIF(세출_일반!A9:A151,"=건설교통위원회",세출_일반!G9:G151)+세출_특별!F13+세출_특별!F19+세출_특별!F22 -> 120987179 | G15: =SUMIF(세출_일반!A9:A151,"=건설교통위원회",세출_일반!H9:H151)+세출_특별!G13+세출_특별!G19+세출_특별!G22 -> 1043209 | H15: =C15-F15+G15 -> 1438414104
B16: 도 시 위 | C16: =위원회총괄!B13 -> 981780166 | D16: =SUMIF(세입_일반!A7:A78,"=도시환경위원회",세입_일반!G7:G78)+세입_특별!F10+세입_특별!F34 -> 6600 | E16: =SUMIF(세입_일반!A7:A78,"=도시환경위원회",세입_일반!H7:H78)+세입_특별!G10+세입_특별!G34 -> 148154 | F16: =SUMIF(세출_일반!A9:A151,"=도시환경위원회",세출_일반!G9:G151)+세출_특별!F10+세출_특별!F34 -> 6600 | G16: =SUMIF(세출_일반!A9:A151,"=도시환경위원회",세출_일반!H9:H151)+세출_특별!G10+세출_특별!G34 -> 250848 | H16: =C16-F16+G16 -> 982024414
B17: 여가평위 | C17: =위원회총괄!B14 -> 3116404102 | D17: =SUMIF(세입_일반!A7:A78,"=여성가족평생교육위원회",세입_일반!G7:G78)+세입_특별!F16 -> 884894 | E17: =SUMIF(세입_일반!A7:A78,"=여성가족평생교육위원회",세입_일반!H7:H78)+세입_특별!G16 -> 500775 | F17: =SUMIF(세출_일반!A9:A151,"=여성가족평생교육위원회",세출_일반!G9:G151)+세출_특별!F16 -> 1867087 | G17: =SUMIF(세출_일반!A9:A151,"=여성가족평생교육위원회",세출_일반!H9:H151)+세출_특별!G16 -> 2361149 | H17: =C17-F17+G17 -> 3116898164
B19: □ 회계별 예산총규모
H20: (단위:천원)
B21: 구 분 | C21: 세출예산액 (집행부제출 안) | D21: 세입예산(안) | F21: 세출예산(안) | H21: 예산수정(안)
D22: 감 액 | E22: 증 액 | F22: 감 액 | G22: 증 액 | I22: 세입기준 수정예산(안)
B23: 합 계 | C23: =SUM(C24:C25) -> 15369830928 | D23: =SUM(D24:D25) -> 132806283 | E23: =SUM(E24:E25) -> 32214410 | F23: =SUM(F24:F25) -> 142897751 | G23: =SUM(G24:G25) -> 42305878 | H23: =SUM(H24:H25) -> 15269239055 | I23: =+C23+E23-D23 -> 15269239055 | J23: =I23-H23 -> 0 | K23: (세출기준-세입기준)
B24: 일반회계 | C24: =위원회총괄!C4 -> 12328878281 | D24: =+세입_일반!G6 -> 132805038 | E24: =+세입_일반!H6 -> 32214410 | F24: =+세출_일반!G6 -> 142896506 | G24: =+세출_일반!H6 -> 42305878 | H24: =+C24+G24-F24 -> 12228287653 | I24: =+C24+E24-D24 -> 12228287653 | J24: =I24-H24 -> 0 | K24: (세출기준-세입기준)
B25: 특별회계 | C25: =위원회총괄!O4 -> 3040952647 | D25: =세입_특별!F6 -> 1245 | E25: =세입_특별!G6 -> 0 | F25: =세출_특별!F6 -> 1245 | G25: =세출_특별!G6 -> 0 | H25: =+C25+G25-F25 -> 3040951402 | I25: =+C25+E25-D25 -> 3040951402 | J25: =I25-H25 -> 0 | K25: (세출기준-세입기준)
A76: 가족여성정책국
F78: 0

Sheet 세입_일반
A1: 2011년도 제3회 추경 일반회계 세입 예산 수정(안)
B2: □ 세입예산(일반회계)
I3: (단위:천원)
A4: 실국명 | B4: 명세서 페이지 | C4: 사업명 | D4: 예산안 | E4: 조정예산안 | F4: 조정액 | I4: 비 고
F5: 계 | G5: 감액 | H5: 증액
A6: 계 | D6: =SUM(D7:D76)/2 -> 1079576850 | E6: =SUM(E7:E76)/2 -> 978986222 | F6: =SUM(F7:F76)/2 -> -100590628 | G6: =SUM(G7:G76)/2 -> 132805038 | H6: =SUM(H7:H76)/2 -> 32214410
A7: 의회운영위원회 | C7: 의회운영위원회 | D7: =SUM(D8:D9) -> 0 | E7: =SUM(E8:E9) -> 0 | F7: =SUM(F8:F9) -> 0 | G7: =SUM(G8:G9) -> 0 | H7: =SUM(H8:H9) -> 0
E8: =D8+F8 -> 0 | F8: =H8-G8 -> 0
E9: =D9+F9 -> 0 | F9: =H9-G9 -> 0
A10: 기획위원회 | C10: 기획위원회 | D10: =SUM(D11:D12) -> 0 | E10: =SUM(E11:E12) -> 0 | F10: =SUM(F11:F12) -> 0 | G10: =SUM(G11:G12) -> 0 | H10: =SUM(H11:H12) -> 0
E11: =D11+F11 -> 0 | F11: =H11-G11 -> 0
E12: =D12+F12 -> 0 | F12: =H12-G12 -> 0
A13: 경제투자위원회 | C13: 경제투자위원회 | D13: =SUM(D14:D16) -> 0 | E13: =SUM(E14:E16) -> 0 | F13: =SUM(F14:F16) -> 0 | G13: =SUM(G14:G16) -> 0 | H13: =SUM(H14:H16) -> 0
E14: =D14+F14 -> 0 | F14: =H14-G14 -> 0
E15: =D15+F15 -> 0 | F15: =H15-G15 -> 0
E16: =D16+F16 -> 0 | F16: =H16-G16 -> 0
A17: 행정자치위원회 | C17: 행정자치위원회 | D17: =SUM(D18:D21) -> 114418 | E17: =SUM(E18:E21) -> 33250 | F17: =SUM(F18:F21) -> -81168 | G17: =SUM(G18:G21) -> 114418 | H17: =SUM(H18:H21) -> 33250
A18: 기획행정실 | B18: 318 | C18: 재해경보시설 수해복구비(7.26~29일 호우) | D18: 88000 | E18: =D18+F18 -> 0 | F18: =H18-G18 -> -88000 | G18: 88000 | I18: 소방방재청 복구지원과-3063(9.8) 도 재난대책담당관-9431(9.20) - 국비 국고채무부담으로 교부
A19: 기획행정실 | B19: 신규 | C19: 재해로인한 재산피해복구비(8.6~10 태풍무이파 피해) | D19: 0 | E19: =D19+F19 -> 33250 | F19: =H19-G19 -> 33250 | H19: 33250 | I19: 소방방재청 복구지원과-3220(9.21)
A20: 소방재난본부 | B20: 270 | C20: 2011.7.26~29 호우피해 복구비(물놀이 안전표지판 및 인명구조함 유실) | D20: 26418 | E20: =D20+F20 -> 0 | F20: =H20-G20 -> -26418 | G20: 26418 | I20: 소방방재청 복구지원과-3063(9.8) 도 재난대책담당관-9431(9.20) - 국비 국고채무부담으로 교부
E21: =D21+F21 -> 0 | F21: =H21-G21 -> 0
A22: 문화체육관광위원회 | C22: 문화체육관광위원회 | D22: =SUM(D23:D26) -> 559185 | E22: =SUM(E23:E26) -> 100000 | F22: =SUM(F23:F26) -> -459185 | G22: =SUM(G23:G26) -> 559185 | H22: =SUM(H23:H26) -> 100000 | I22: 도비 증액
A23: 문화체육관광국 | B23: 332 | C23: 강가의 가을축제 | D23: 500000 | E23: =D23+F23 -> 0 | F23: =H23-G23 -> -500000 | G23: 500000 | I23: 기금
A24: 문화체육관광국 | B24: 333 | C24: 2011.7.26~29 호우피해 관광특구내 시설물 수해복구비 | D24: 59185 | E24: =D24+F24 -> 0 | F24: =H24-G24 -> -59185 | G24: 59185 | I24: 소방방재청 복구지원과-3063(9.8) 도 재난대책담당관-9431(9.20) - 국비 국고채무부담으로 교부
A25: 문화체육관광국 | B25: 신규 | C25: 슬로시티 관광자원화사업 | D25: 0 | E25: =D25+F25 -> 100000 | F25: =H25-G25 -> 100000 | H25: 100000 | I25: 문화체육관광부 녹색관광과-2317(9.23)
E26: =D26+F26 -> 0 | F26: =H26-G26 -> 0
A27: 농림수산위원회 | C27: 농림수산위원회 | D27: =SUM(D28:D33) -> 20993953 | E27: =SUM(E28:E33) -> 20307775 | F27: =SUM(F28:F33) -> -686178 | G27: =SUM(G28:G33) -> 8345913 | H27: =SUM(H28:H33) -> 7659735
A28: 농정국 | B28: 신규 | C28: 논소득기반 다양화 | E28: =D28+F28 -> 5314286 | F28: =H28-G28 -> 5314286 | H28: 5314286 | I28: 국비변경내시
A29: 농정국 | B29: 1회추경 40 | C29: 농어업 에너지이용 효율화 사업 | D29: 19993953 | E29: =D29+F29 -> 11648040 | F29: =H29-G29 -> -8345913 | G29: 8345913 | I29: 국비변경내시
A30: 농정국 | B30: 신규 | C30: 소득안정지원 | E30: =D30+F30 -> 208457 | F30: =H30-G30 -> 208457 | H30: 208457 | I30: 국비변경내시
A31: 농정국 | B31: 354 | C31: 축산물수급안정(생계및소득안정지원) | D31: 1000000 | E31: =D31+F31 -> 3136992 | F31: =H31-G31 -> 2136992 | H31: 2136992 | I31: 국비변경내시
E32: =D32+F32 -> 0 | F32: =H32-G32 -> 0
E33: =D33+F33 -> 0 | F33: =H33-G33 -> 0
A34: 보건복지공보위원회 | C34: 보건복지공보위원회 | D34: =SUM(D35:D52) -> 925339266 | E34: =SUM(E35:E52) -> 946904913 | F34: =SUM(F35:F52) -> 21565647 | G34: =SUM(G35:G52) -> 2206849 | H34: =SUM(H35:H52) -> 23772496
A35: 보건복지국 | B35: 당초 53 | C35: 생계급여 | D35: 353240168 | E35: =D35+F35 -> 370740168 | F35: =H35-G35 -> 17500000 | H35: 17500000 | I35: 국비변경내시
A36: 보건복지국 | B36: 당초 53 | C36: 주거급여 | D36: 84470971 | E36: =D36+F36 -> 84320971 | F36: =H36-G36 -> -150000 | G36: 150000 | I36: 국비변경내시
A37: 보건복지국 | B37: 당초 53 | C37: 해산장제급여 | D37: 1972728 | E37: =D37+F37 -> 2290178 | F37: =H37-G37 -> 317450 | H37: 317450 | I37: 국비변경내시
A38: 보건복지국 | B38: 당초 53 | C38: 기초수급자 정부양곡 할인 지원사업 | D38: 11808961 | E38: =D38+F38 -> 11685294 | F38: =H38-G38 -> -123667 | G38: 123667 | I38: 국비변경내시
A39: 보건복지국 | B39: 당초 53 | C39: 차상위복지급여수급자 정부양곡 할인 지원 사업 | D39: 2226073 | E39: =D39+F39 -> 2349740 | F39: =H39-G39 -> 123667 | H39: 123667 | I39: 국비변경내시
A40: 보건복지국 | B40: 당초 53 | C40: 자활지원 | D40: 45610745 | E40: =D40+F40 -> 44854745 | F40: =H40-G40 -> -756000 | G40: 756000 | I40: 국비변경내시
A41: 보건복지국 | B41: 411 | C41: 2011.7.26~29 호우피해 장사시설 복구비 | D41: 221215 | E41: =D41+F41 -> 179062 | F41: =H41-G41 -> -42153 | G41: 42153 | I41: 국고채무부담으로 교부 소방방재청
A42: 보건복지국 | B42: 411 | C42: 2011.7.26~29 호우피해 장애인복지시설 복구비 | D42: 301955 | E42: =D42+F42 -> 0 | F42: =H42-G42 -> -301955 | G42: 301955 | I42: 국고채무부담으로 교부 소방방재청
A43: 보건복지국 | B43: 1회추경 41 | C43: 전염병전문가교육 | D43: 30100 | E43: =D43+F43 -> 50100 | F43: =H43-G43 -> 20000 | H43: 20000 | I43: 국비변경내시
A44: 보건복지국 | B44: 412 | C44: 취약지역 응급의료기관 운영 | D44: 1040000 | E44: =D44+F44 -> 1047080 | F44: =H44-G44 -> 7080 | H44: 7080 | I44: 국비변경내시
A45: 보건복지국 | B45: 412 | C45: 맞춤형 방문건강관리사업 | D45: 5690826 | E45: =D45+F45 -> 5730326 | F45: =H45-G45 -> 39500 | H45: 39500 | I45: 국비변경내시
A46: 보건복지국 | B46: 1회추경 41 | C46: 노인생활시설 기능보강 | D46: 2604058 | E46: =D46+F46 -> 2915823 | F46: =H46-G46 -> 311765 | H46: 311765 | I46: 보건복지부 요양보험운영과-3848(9.27)
A47: 보건복지국 | B47: 411 | C47: 장애인직업재활시설 기능보강 | D47: 3643621 | E47: =D47+F47 -> 2854547 | F47: =H47-G47 -> -789074 | G47: 789074 | I47: 보건복지부 장애인자립기반과 -3561(7.6), -3798(7.20), -4274(8.17), -4859(9.21)
A48: 보건복지국 | B48: 당초 64 | C48: 치매 조기검진사업 | D48: 301515 | E48: =D48+F48 -> 312515 | F48: =H48-G48 -> 11000 | H48: 11000 | I48: 보건복지부 노인정책과-4081(9.21)
A49: 보건복지국 | B49: 당초 64 | C49: 치매 치료관리사업 | D49: 1809471 | E49: =D49+F49 -> 1765471 | F49: =H49-G49 -> -44000 | G49: 44000 | I49: 보건복지부 노인정책과-4081(9.21)
A50: 보건복지국 | B50: 당초 53 | C50: 기초노령연금 | D50: 410366859 | E50: =D50+F50 -> 415808893 | F50: =H50-G50 -> 5442034 | H50: 5442034 | I50: 보건복지부 기초노령연금과-2643(9.27)
E51: =D51+F51 -> 0 | F51: =H51-G51 -> 0
E52: =D52+F52 -> 0 | F52: =H52-G52 -> 0
A53: 건설교통위원회 | C53: 건설교통위원회 | D53: =SUM(D54:D59) -> 120687179 | E53: =SUM(E54:E59) -> 0 | F53: =SUM(F54:F59) -> -120687179 | G53: =SUM(G54:G59) -> 120687179 | H53: =SUM(H54:H59) -> 0
A54: 건설본부 | B54: 476 | C54: 소하천,배수펌프장 수해복구비(2011.7.26~29) | D54: 60150390 | E54: =D54+F54 -> 0 | F54: =H54-G54 -> -60150390 | G54: 60150390 | I54: 국고채무부담으로 교부 소방방재청
A55: 교통건설국 | B55: 458 | C55: 대곡역 복합환승센터 시범사업 | D55: 750000 | E55: =D55+F55 -> 0 | F55: =H55-G55 -> -750000 | G55: 750000 | I55: 국고보조금
A56: 교통건설국 | B56: 465 | C56: 7.26~29 호우피해 도로분야 수해피해 복구 | D56: 16672003 | E56: =D56+F56 -> 0 | F56: =H56-G56 -> -16672003 | G56: 16672003 | I56: 소방방재청 복구지원과-3063(9.8) 및 행정안전부 지역발전과-3448(9.8) - 국비 국고채무부담으로 교부
A57: 건설본부 | B57: 476 | C57: 지방하천 수해복구비(2011.7.26~29) | D57: 43114786 | E57: =D57+F57 -> 0 | F57: =H57-G57 -> -43114786 | G57: 43114786 | I57: 국토해양부 재정담당관-2069(9.19) - 국비 국고채무부담으로 교부
E58: =D58+F58 -> 0 | F58: =H58-G58 -> 0
E59: =D59+F59 -> 0 | F59: =H59-G59 -> 0
A60: 도시환경위원회 | C60: 도시환경위원회 | D60: =SUM(D61:D65) -> 4869338 | E60: =SUM(E61:E65) -> 5010892 | F60: =SUM(F61:F65) -> 141554 | G60: =SUM(G61:G65) -> 6600 | H60: =SUM(H61:H65) -> 148154
A61: 환경국 | B61: 505 | C61: 자동차배출가스 관리(성립전) | D61: 477260 | E61: =D61+F61 -> 470660 | F61: =H61-G61 -> -6600 | G61: 6600 | I61: 전기자동차 구입비 감액
A62: 팔당수질개선본부 | B62: 505 | C62: 시도비반환금수입 - 팔당수질개선본부 도비사용잔액 | D62: 3564818 | E62: =D62+F62 -> 3577232 | F62: =H62-G62 -> 12414 | H62: 12414 | I62: 생태하천복원사업 도비집행잔액 추가
A63: 환경국 | B63: 505 | C63: 자동차 배출가스 관리(성립전) | D63: 827260 | E63: =D63+F63 -> 963000 | F63: =H63-G63 -> 135740 | H63: 135740 | I63: 환경부 교통환경과-2789(9.23)
E64: =D64+F64 -> 0 | F64: =H64-G64 -> 0
E65: =D65+F65 -> 0 | F65: =H65-G65 -> 0
A66: 여성가족평생교육위원회 | C66: 여성가족평생교육위원회 | D66: =SUM(D67:D76) -> 7013511 | E66: =SUM(E67:E76) -> 6629392 | F66: =SUM(F67:F76) -> -384119 | G66: =SUM(G67:G76) -> 884894 | H66: =SUM(H67:H76) -> 500775
A67: 여성가족국 | B67: 당초 56 | C67: 아동,여성보호지역연대 운영사업 (여성가족과) | D67: 115200 | E67: =D67+F67 -> 115650 | F67: =H67-G67 -> 450 | H67: 450 | I67: 여성가족부 권익정책과-1720(8.24)
A68: 여성가족국 | B68: 1회추경 42 | C68: 성폭력방지 및 피해자 지원사업 (여성가족과) | D68: 615863 | E68: =D68+F68 -> 623033 | F68: =H68-G68 -> 7170 | H68: 7170 | I68: 여성가족부 권익기획과-2558(8.22)
A69: 여성가족국 | B69: 552 | C69: 2011.7.26~29 호우피해 공공시설 복구비(포천시 여성회관 수해복구) | D69: 60129 | E69: =D69+F69 -> 0 | F69: =H69-G69 -> -60129 | G69: 60129 | I69: 소방방재청 복구지원과-3063(9.8) 도 재난대책담당관-9431(9.20) - 국비 국고채무부담으로 교부
A70: 여성가족국 | B70: 1회추경 42 | C70: 공공형보육시설 (보육정책과) | D70: 1662000 | E70: =D70+F70 -> 1616947 | F70: =H70-G70 -> -45053 | G70: 45053 | I70: 보건복지부 보육정책과-2725(5.24)
A71: 여성가족국 | B71: 당초 57 | C71: 차량운영비 (보육정책과) | D71: 1257199 | E71: =D71+F71 -> 1744354 | F71: =H71-G71 -> 487155 | H71: 487155 | I71: 보건복지부 보육기반과-4798(9.15)
A72: 여성가족국 | B72: 당초 57 | C72: 교재교구비 (보육정책과) | D72: 3145611 | E72: =D72+F72 -> 2365899 | F72: =H72-G72 -> -779712 | G72: 779712 | I72: 보건복지부 보육기반과-4798(9.15)
A73: 여성가족국 | B73: 당초 56 | C73: 결혼이민자권익증진 (다문화가족과) | D73: 157509 | E73: =D73+F73 -> 163509 | F73: =H73-G73 -> 6000 | H73: 6000 | I73: 여성가족부 복지지원과-2309(9.16)
E74: =D74+F74 -> 0 | F74: =H74-G74 -> 0
E75: =D75+F75 -> 0 | F75: =H75-G75 -> 0
E76: =D76+F76 -> 0 | F76: =H76-G76 -> 0
F78: 0
H127: 45743

Sheet 세출_일반
A1: 2011년도 제3회 추경 일반회계 세출 예산 수정(안)
B2: □ 세출예산(일반회계)
I3: (단위:천원)
A4: 실국명 | B4: 명세서 페이지 | C4: 사업명 | D4: 예산안 | E4: 조정예산안 | F4: 조정액 | I4: 비 고
F5: 계 | G5: 감액 | H5: 증액 | J5: 계 | K5: 국비 | L5: 도비
A6: 계 | D6: =SUM(D7:D149)/2 -> 1436002350 | E6: =SUM(E7:E149)/2 -> 1335411722 | F6: =SUM(F7:F149)/2 -> -100590628 | G6: =SUM(G7:G149)/2 -> 142896506 | H6: =SUM(H7:H149)/2 -> 42305878 | J6: =F6 -> -100590628 | K6: =SUM(K9:K148)/2 -> -100603042 | L6: =J6-K6 -> 12414
A7: 기타 | C7: 기타 | D7: =SUM(D8:D8) -> 0 | E7: =SUM(E8:E8) -> 0 | F7: =SUM(F8:F8) -> 0 | G7: =SUM(G8:G8) -> 0 | H7: =SUM(H8:H8) -> 0 | J7: =F7 -> 0 | L7: =J7-K7 -> 0
E8: =D8+F8 -> 0 | F8: =H8-G8 -> 0 | J8: =F8 -> 0 | L8: =J8-K8 -> 0
A9: 의회운영위원회 | C9: 의회운영위원회 | D9: =SUM(D10:D13) -> 2000000 | E9: =SUM(E10:E13) -> 20000 | F9: =SUM(F10:F13) -> -1980000 | G9: =SUM(G10:G13) -> 2000000 | H9: =SUM(H10:H13) -> 20000 | J9: =F9 -> -1980000 | K9: =SUM(K10:K13) -> 0 | L9: =J9-K9 -> -1980000
A10: 의회사무처 | B10: 당초 73 | C10: 의원 입법 정책활동 지원(자체/직접) - 의원 입법활동 지원용역 | D10: 2000000 | E10: =D10+F10 -> 0 | F10: =H10-G10 -> -2000000 | G10: 2000000 | J10: =F10 -> -2000000 | L10: =J10-K10 -> -2000000
A11: 여성가족국 | B11: 신규 | C11: 차액보육료 지원 관련 공청회 및 세미나 | E11: =D11+F11 -> 20000 | F11: =H11-G11 -> 20000 | H11: 20000 | J11: =F11 -> 20000 | L11: =J11-K11 -> 20000
E12: =D12+F12 -> 0 | F12: =H12-G12 -> 0 | J12: =F12 -> 0 | L12: =J12-K12 -> 0
E13: =D13+F13 -> 0 | F13: =H13-G13 -> 0 | J13: =F13 -> 0 | L13: =J13-K13 -> 0
A14: 기획위원회 | C14: 기획위원회 | D14: =SUM(D15:D21) -> 121220737 | E14: =SUM(E15:E21) -> 119342947 | F14: =SUM(F15:F21) -> -1877790 | G14: =SUM(G15:G21) -> 1877790 | H14: =SUM(H15:H21) -> 0 | J14: =F14 -> -1877790 | K14: =SUM(K15:K21) -> 0 | L14: =J14-K14 -> -1877790
A15: 기획행정실 | B15: 228 | C15: 경기관광공사 출연금(자체/직접) | D15: 100000 | E15: =D15+F15 -> 100000 | F15: =H15-G15 -> 0 | I15: 목변경 출연금 -> 행사운영비 | J15: =F15 -> 0 | L15: =J15-K15 -> 0
A16: 기획행정실 | B16: 228 | C16: DMZ 3D 영상물 제작사업(국비/직접) | D16: 700000 | E16: =D16+F16 -> 700000 | F16: =H16-G16 -> 0 | I16: 목변경 출연금 -> 사무관리비 | J16: =F16 -> 0 | L16: =J16-K16 -> 0
A17: 기획행정실 | B17: 229 | C17: 접경권 자전거도로 네트워크 구축(광특/지원) - 평화누리(자전거)길 조성(성립전) | E17: =D17+F17 -> 0 | F17: =H17-G17 -> 0 | I17: 광특보조금 | J17: =F17 -> 0 | L17: =J17-K17 -> 0
A18: 기획행정실 | B18: 231 | C18: 수원비상활주로 이전(자체/직접) - 수원비상활주로 이전 설계용역비 등 | E18: =D18+F18 -> 0 | F18: =H18-G18 -> 0 | J18: =F18 -> 0 | L18: =J18-K18 -> 0
E19: =D19+F19 -> 0 | F19: =H19-G19 -> 0 | J19: =F19 -> 0 | L19: =J19-K19 -> 0
E20: =D20+F20 -> 0 | F20: =H20-G20 -> 0 | J20: =F20 -> 0 | L20: =J20-K20 -> 0
A21: 예산담당관 | B21: 1회추경 56 | C21: 예비비 | D21: 120420737 | E21: =D21+F21 -> 118542947 | F21: =H21-G21 -> -1877790 | G21: 1877790 | J21: =F21 -> -1877790 | L21: =J21-K21 -> -1877790
A22: 경제투자위원회 | C22: 경제투자위원회 | D22: =SUM(D23:D33) -> 5939000 | E22: =SUM(E23:E33) -> 7449000 | F22: =SUM(F23:F33) -> 1510000 | G22: =SUM(G23:G33) -> 0 | H22: =SUM(H23:H33) -> 1510000 | J22: =F22 -> 1510000 | K22: =SUM(K23:K33) -> 0 | L22: =J22-K22 -> 1510000
A23: 경제투자실 | B23: 247 | C23: 지역맞춤형 일자리사업 지원(국비/지원) - 쌍용차 무급휴직자 가족지원을 위한 지역맞춤형일자리 창출사업(성립전) | D23: 200000 | E23: =D23+F23 -> 300000 | F23: =H23-G23 -> 100000 | H23: 100000 | I23: 도비 증액 | J23: =F23 -> 100000 | L23: =J23-K23 -> 100000
A24: 경제투자실 | B24: 신규 | C24: 소기업,소상공인 연구용역 | E24: =D24+F24 -> 100000 | F24: =H24-G24 -> 100000 | H24: 100000 | I24: 경제정책과 신규 | J24: =F24 -> 100000 | L24: =J24-K24 -> 100000
A25: 경제투자실 | B25: 신규 | C25: 해양산업육성 연구용역 | E25: =D25+F25 -> 90000 | F25: =H25-G25 -> 90000 | H25: 90000 | I25: 경제정책과 신규 | J25: =F25 -> 90000 | L25: =J25-K25 -> 90000
A26: 경제투자실 | B26: 1회추경 63 | C26: 소규모 기업환경 개선사업(자체/지원) | D26: 1450000 | E26: =D26+F26 -> 1950000 | F26: =H26-G26 -> 500000 | H26: 500000 | I26: 기업정책과 증액 | J26: =F26 -> 500000 | L26: =J26-K26 -> 500000
A27: 경제투자실 | B27: 당초 136 | C27: 기술닥터사업(자체/직접) | D27: 1500000 | E27: =D27+F27 -> 1700000 | F27: =H27-G27 -> 200000 | H27: 200000 | I27: 과학기술과 증액 | J27: =F27 -> 200000 | L27: =J27-K27 -> 200000
A28: 경제투자실 | B28: 당초 142 | C28: 비정규직 지원센터 운영지원(자체/직접) | D28: 50000 | E28: =D28+F28 -> 100000 | F28: =H28-G28 -> 50000 | H28: 50000 | I28: 일자리정책과 증액 | J28: =F28 -> 50000 | L28: =J28-K28 -> 50000
A29: 경제농정국 | B29: 당초 853 | C29: 소규모 기업환경 개선사업(자체/지원) | D29: 500000 | E29: =D29+F29 -> 800000 | F29: =H29-G29 -> 300000 | H29: 300000 | I29: 지역특화산업과 증액 | J29: =F29 -> 300000 | L29: =J29-K29 -> 300000
A30: 경제농정국 | B30: 1회추경 282 | C30: 경기제2기업지원센터 사업 지원(자체/직접) | D30: 2239000 | E30: =D30+F30 -> 2339000 | F30: =H30-G30 -> 100000 | H30: 100000 | I30: 지역특화산업과 증액 경기북부 중소기업의 시군별,업종별 실태 등 연구조사 | J30: =F30 -> 100000 | L30: =J30-K30 -> 100000
A31: 경제농정국 | B31: 신규 | C31: 경기북부 FTA활용지원센터 운영 | E31: =D31+F31 -> 70000 | F31: =H31-G31 -> 70000 | H31: 70000 | I31: 지역특화산업과 신규 기획재정부의 지역FTA활용지원센터 추가 선정 발표(9.2일자) | J31: =F31 -> 70000 | L31: =J31-K31 -> 70000
E32: =D32+F32 -> 0 | F32: =H32-G32 -> 0 | J32: =F32 -> 0 | L32: =J32-K32 -> 0
E33: =D33+F33 -> 0 | F33: =H33-G33 -> 0 | J33: =F33 -> 0 | L33: =J33-K33 -> 0
A34: 행정자치위원회 | C34: 행정자치위원회 | D34: =SUM(D35:D38) -> 160185 | E34: =SUM(E35:E38) -> 79017 | F34: =SUM(F35:F38) -> -81168 | G34: =SUM(G35:G38) -> 114418 | H34: =SUM(H35:H38) -> 33250 | J34: =F34 -> -81168 | K34: =SUM(K35:K38) -> -81168 | L34: =J34-K34 -> 0
A35: 기획행정실 | B35: 325 | C35: 재해경보시설 수해복구비(국비/지원) | D35: 123200 | E35: =D35+F35 -> 35200 | F35: =H35-G35 -> -88000 | G35: 88000 | I35: 소방방재청 복구지원과-3063(9.8) 도 재난대책담당관-9431(9.20) - 국비 국고채무부담으로 교부 | J35: =F35 -> -88000 | K35: -88000 | L35: =J35-K35 -> 0
A36: 기획행정실 | B36: 신규 | C36: 재해로 인한 재산피해복구비(8.6~10 태풍무이파 피해)(국비/지원) | D36: 0 | E36: =D36+F36 -> 33250 | F36: =H36-G36 -> 33250 | H36: 33250 | I36: 소방방재청 복구지원과-3220(9.21) | J36: =F36 -> 33250 | K36: 33250 | L36: =J36-K36 -> 0
A37: 소방재난본부 | B37: 278 | C37: 호우피해시설 복구(국비/지원) | D37: 36985 | E37: =D37+F37 -> 10567 | F37: =H37-G37 -> -26418 | G37: 26418 | I37: 소방방재청 복구지원과-3063(9.8) 도 재난대책담당관-9431(9.20) - 국비 국고채무부담으로 교부 | J37: =F37 -> -26418 | K37: -26418 | L37: =J37-K37 -> 0
E38: =D38+F38 -> 0 | F38: =H38-G38 -> 0 | J38: =F38 -> 0 | L38: =J38-K38 -> 0
A39: 문화체육관광위원회 | C39: 문화체육관광위원회 | D39: =SUM(D40:D45) -> 1082859 | E39: =SUM(E40:E45) -> 923674 | F39: =SUM(F40:F45) -> -159185 | G39: =SUM(G40:G45) -> 559185 | H39: =SUM(H40:H45) -> 400000 | J39: =F39 -> -159185 | K39: =SUM(K40:K45) -> -459185 | L39: =J39-K39 -> 300000
A40: 문화체육관광국 | B40: 337 | C40: 강가의 가을 축제(기금/지원) - 강가의 가을 축제 | D40: 500000 | E40: =D40+F40 -> 0 | F40: =H40-G40 -> -500000 | G40: 500000 | I40: 기금 | J40: =F40 -> -500000 | K40: -500000 | L40: =J40-K40 -> 0
A41: 문화체육관광국 | B41: 341 | C41: 우수한 관광상품 개발(자체/직접) - 경기관광공사 출연금(자체/직접) | E41: =D41+F41 -> 0 | F41: =H41-G41 -> 0 | J41: =F41 -> 0 | L41: =J41-K41 -> 0
A42: 문화체육관광국 | B42: 344 | C42: 체육대회참가 및 유치지원(자체/직접) - 전국체육대회 참가 지원 | D42: 500000 | E42: =D42+F42 -> 800000 | F42: =H42-G42 -> 300000 | H42: 300000 | J42: =F42 -> 300000 | L42: =J42-K42 -> 300000
A43: 문화체육관광국 | B43: 341 | C43: 2011.7.26~29 호우피해 관광특구내 시설물 수해복구(국비/지원) | D43: 82859 | E43: =D43+F43 -> 23674 | F43: =H43-G43 -> -59185 | G43: 59185 | J43: =F43 -> -59185 | K43: -59185 | L43: =J43-K43 -> 0
A44: 문화체육관광국 | B44: 신규 | C44: 슬로시티 관광자원화사업(기금/지원) | D44: 0 | E44: =D44+F44 -> 100000 | F44: =H44-G44 -> 100000 | H44: 100000 | J44: =F44 -> 100000 | K44: 100000 | L44: =J44-K44 -> 0
E45: =D45+F45 -> 0 | F45: =H45-G45 -> 0 | J45: =F45 -> 0 | L45: =J45-K45 -> 0
A46: 농림수산위원회 | C46: 농림수산위원회 | D46: =SUM(D47:D56) -> 24534906 | E46: =SUM(E47:E56) -> 24014776 | F46: =SUM(F47:F56) -> -520130 | G46: =SUM(G47:G56) -> 9185058 | H46: =SUM(H47:H56) -> 8664928 | J46: =F46 -> -520130 | K46: =SUM(K47:K56) -> -686178 | L46: =J46-K46 -> 166048
A47: 농정국 | B47: 367 | C47: 생계및소득안정지원(기금/직접) | D47: 1428572 | E47: =D47+F47 -> 4481418 | F47: =H47-G47 -> 3052846 | H47: 3052846 | I47: 국비변경내시 | J47: =F47 -> 3052846 | K47: 2136992 | L47: =J47-K47 -> 915854
A48: 농정국 | B48: 신규 | C48: 논소득기반 다양화(국비/지원) | E48: =D48+F48 -> 5314286 | F48: =H48-G48 -> 5314286 | H48: 5314286 | I48: 국비변경내시 | J48: =F48 -> 5314286 | K48: 5314286 | L48: =J48-K48 -> 0
A49: 농정국 | B49: 1회추경 104 | C49: 시설원예 에너지이용 효율화사업(국비/지원) | D49: 12327985 | E49: =D49+F49 -> 6440621 | F49: =H49-G49 -> -5887364 | G49: 5887364 | I49: 국비변경내시 | J49: =F49 -> -5887364 | K49: -5351406 | L49: =J49-K49 -> -535958
A50: 농정국 | B50: 신규 | C50: 소득안정지원(기금/직접) | E50: =D50+F50 -> 297796 | F50: =H50-G50 -> 297796 | H50: 297796 | I50: 국비변경내시 | J50: =F50 -> 297796 | K50: 208457 | L50: =J50-K50 -> 89339
A51: 농정국 | B51: 당초 252 | C51: 축산환경개선 신재생에너지 기반 확충(국비/지원) | D51: 2560800 | E51: =D51+F51 -> 787891 | F51: =H51-G51 -> -1772909 | G51: 1772909 | I51: 국비변경내시 | J51: =F51 -> -1772909 | K51: -1611735 | L51: =J51-K51 -> -161174
A52: 농정국 | B52: 당초 264 | C52: 지열 냉∙난방시설지원(국비/지원) | D52: 1209800 | E52: =D52+F52 -> 258720 | F52: =H52-G52 -> -951080 | G52: 951080 | I52: 국비변경내시 | J52: =F52 -> -951080 | K52: -864800 | L52: =J52-K52 -> -86280
A53: 경제농정국 | B53: 1회추경 283 | C53: 시설원예 에너지이용 효율화(국비/지원) | D53: 3498749 | E53: =D53+F53 -> 3473165 | F53: =H53-G53 -> -25584 | G53: 25584 | I53: 국비변경내시 | J53: =F53 -> -25584 | K53: -19680 | L53: =J53-K53 -> -5904
A54: 경제농정국 | B54: 당초 863 | C54: 시설원예 에너지이용 효율화(지열난방)(국비/지원) | D54: 3509000 | E54: =D54+F54 -> 2960879 | F54: =H54-G54 -> -548121 | G54: 548121 | I54: 국비변경내시 | J54: =F54 -> -548121 | K54: -498292 | L54: =J54-K54 -> -49829
E55: =D55+F55 -> 0 | F55: =H55-G55 -> 0 | J55: =F55 -> 0 | L55: =J55-K55 -> 0
E56: =D56+F56 -> 0 | F56: =H56-G56 -> 0 | J56: =F56 -> 0 | L56: =J56-K56 -> 0
A57: 보건복지공보위원회 | C57: 보건복지공보위원회 | D57: =SUM(D58:D104) -> 1049093403 | E57: =SUM(E58:E104) -> 1070816708 | F57: =SUM(F58:F104) -> 21723305 | G57: =SUM(G58:G104) -> 6299189 | H57: =SUM(H58:H104) -> 28022494 | J57: =F57 -> 21723305 | K57: =SUM(K58:K104) -> 21771199 | L57: =J57-K57 -> -47894
A58: 대변인 | B58: 408 | C58: 도정기획홍보(자체/직접) | D58: 400000 | E58: =D58+F58 -> 200000 | F58: =H58-G58 -> -200000 | G58: 200000 | J58: =F58 -> -200000 | L58: =J58-K58 -> -200000
A59: 대변인 | B59: 신규 | C59: 언론공익광고비 | E59: =D59+F59 -> 200000 | F59: =H59-G59 -> 200000 | H59: 200000 | J59: =F59 -> 200000 | L59: =J59-K59 -> 200000
A60: 보건복지국 | B60: 415 | C60: 지역사회서비스투자사업(국비/직접) - 대한민국사회봉사단 운영 | D60: 1000000 | E60: =D60+F60 -> 900000 | F60: =H60-G60 -> -100000 | G60: 100000 | I60: 도비만 삭감 | J60: =F60 -> -100000 | K60: 0 | L60: =J60-K60 -> -100000
A61: 보건복지국 | B61: 416 | C61: 민관협력지원체계구축(자체/지원) | D61: 38000 | E61: =D61+F61 -> 0 | F61: =H61-G61 -> -38000 | G61: 38000 | J61: =F61 -> -38000 | L61: =J61-K61 -> -38000
A62: 보건복지국 | B62: 421 | C62: 장애인복지시설 기능보강(자체/지원) - 장애인생활시설 수해복구 | E62: =D62+F62 -> 0 | F62: =H62-G62 -> 0 | I62: 장애인복지과 | J62: =F62 -> 0 | L62: =J62-K62 -> 0
A63: 보건복지국 | B63: 422 | C63: 경기도의료원 공공보건사업 지원(자체/직접) - 의료원 공공의료 손실지원(출연금) | E63: =D63+F63 -> 0 | F63: =H63-G63 -> 0 | J63: =F63 -> 0 | L63: =J63-K63 -> 0
A64: 보건복지국 | B64: 423 | C64: 경기도자살예방센터운영(자체/직접) | E64: =D64+F64 -> 0 | F64: =H64-G64 -> 0 | J64: =F64 -> 0 | L64: =J64-K64 -> 0
A65: 보건복지국 | B65: 424 | C65: 맞춤형 방문건강관리사업(기금/지원) - 방문건강관리인력 인건비 | D65: 5883862 | E65: =D65+F65 -> 5943112 | F65: =H65-G65 -> 59250 | H65: 59250 | I65: 국비변경내시 | J65: =F65 -> 59250 | K65: 39500 | L65: =J65-K65 -> 19750
A66: 보건복지국 | B66: 426 | C66: 지역 해외환자유치 선도의료기술 육성(국비/직접)(성립전) | E66: =D66+F66 -> 0 | F66: =H66-G66 -> 0 | J66: =F66 -> 0 | L66: =J66-K66 -> 0
A67: 복지여성실 | B67: 441 | C67: 장사시설 수해복구(국비/지원) | D67: 309699 | E67: =D67+F67 -> 267546 | F67: =H67-G67 -> -42153 | G67: 42153 | I67: 국고채무부담으로 교부 소방방재청 | J67: =F67 -> -42153 | K67: -42153 | L67: =J67-K67 -> 0
A68: 복지여성실 | B68: 443 | C68: 장애인복지시설 수해복구(국비/지원) | D68: 422736 | E68: =D68+F68 -> 120781 | F68: =H68-G68 -> -301955 | G68: 301955 | I68: 국고채무부담으로 교부 소방방재청 | J68: =F68 -> -301955 | K68: -301955 | L68: =J68-K68 -> 0
A69: 보건복지국 | B69: 신규 | C69: 평택사회복지관 기능보강(자체) | E69: =D69+F69 -> 15000 | F69: =H69-G69 -> 15000 | H69: 15000 | I69: 복지정책과 | J69: =F69 -> 15000 | L69: =J69-K69 -> 15000
A70: 보건복지국 | B70: 1회추경 139 | C70: 경기도의료원 기능보강사업 - 안성병원 부지매입 감정평가 및 토지매입비 | D70: 1714100 | E70: =D70+F70 -> 1939200 | F70: =H70-G70 -> 225100 | H70: 225100 | I70: 부기변경 | J70: =F70 -> 225100 | L70: =J70-K70 -> 225100
A71: 보건복지국 | B71: 당초 313 | C71: 생계급여(국비/지원) - 기초생활보장 생계급여(일반) | D71: 264524465 | E71: =D71+F71 -> 270601875 | F71: =H71-G71 -> 6077410 | H71: 6077410 | I71: 국비변경내시 | J71: =F71 -> 6077410 | K71: 6756302 | L71: =J71-K71 -> -678892
A72: 보건복지국 | B72: 당초 313 | C72: 주거급여(국비/지원) - 기초생활보장 주거급여 | D72: 66546122 | E72: =D72+F72 -> 64467725 | F72: =H72-G72 -> -2078397 | G72: 2078397 | I72: 국비변경내시 | J72: =F72 -> -2078397 | K72: -1529679 | L72: =J72-K72 -> -548718
A73: 보건복지국 | B73: 당초 313 | C73: 교육급여(국비/지원) - 기초생활보장 교육급여 | D73: 14104755 | E73: =D73+F73 -> 14011161 | F73: =H73-G73 -> -93594 | G73: 93594 | I73: 국비변경내시 | J73: =F73 -> -93594 | K73: 0 | L73: =J73-K73 -> -93594
A74: 보건복지국 | B74: 당초 313 | C74: 해산장제급여(국비/지원) - 기초생활보장 해산장제급여 | D74: 1554106 | E74: =D74+F74 -> 1713273 | F74: =H74-G74 -> 159167 | H74: 159167 | I74: 국비변경내시 | J74: =F74 -> 159167 | K74: 149091 | L74: =J74-K74 -> 10076
A75: 보건복지국 | B75: 당초 314 | C75: 기초수급자 정부양곡할인지원(국비/지원) - 기초수급자 정부양곡 할인지원 사업 | D75: 7893952 | E75: =D75+F75 -> 7770285 | F75: =H75-G75 -> -123667 | G75: 123667 | I75: 국비변경내시 | J75: =F75 -> -123667 | K75: -123667 | L75: =J75-K75 -> 0
A76: 보건복지국 | B76: 당초 314 | C76: 차상위계층 양곡할인지원(국비/지원) - 차상위복지급여수급자 정부양곡할인 지원 사업 | D76: 1610809 | E76: =D76+F76 -> 1628726 | F76: =H76-G76 -> 17917 | H76: 17917 | I76: 국비변경내시 | J76: =F76 -> 17917 | K76: 16667 | L76: =J76-K76 -> 1250
A77: 보건복지국 | B77: 1회추경 126 | C77: 자활지원(국비/지원) - 자활근로사업 | D77: 33819440 | E77: =D77+F77 -> 32261665 | F77: =H77-G77 -> -1557775 | G77: 1557775 | I77: 국비변경내시 | J77: =F77 -> -1557775 | K77: -1356846 | L77: =J77-K77 -> -200929
A78: 보건복지국 | B78: 당초 318 | C78: 자활지원(국비/지원) - 지역자활센터 운영 | D78: 4371213 | E78: =D78+F78 -> 4615468 | F78: =H78-G78 -> 244255 | H78: 244255 | I78: 국비변경내시 | J78: =F78 -> 244255 | K78: 201154 | L78: =J78-K78 -> 43101
A79: 보건복지국 | B79: 당초 323 | C79: 생계급여(국비/지원) - 기초생활보장급여(노인시설) | D79: 4910768 | E79: =D79+F79 -> 5047051 | F79: =H79-G79 -> 136283 | H79: 136283 | I79: 국비변경내시 | J79: =F79 -> 136283 | K79: 135936 | L79: =J79-K79 -> 347
A80: 보건복지국 | B80: 당초 337 | C80: 국민기초생활보장급여(장애인시설)(국비/지원) - 국민기초생활보장급여(장애인시설) | D80: 3286170 | E80: =D80+F80 -> 3437201 | F80: =H80-G80 -> 151031 | H80: 151031 | I80: 국비변경내시 | J80: =F80 -> 151031 | K80: 139536 | L80: =J80-K80 -> 11495
A81: 보건복지국 | B81: 당초 344 | C81: 정신보건시설 생계급여(국비/지원) - 정신질환자 시설급여 | D81: 752995 | E81: =D81+F81 -> 825763 | F81: =H81-G81 -> 72768 | H81: 72768 | I81: 국비변경내시 | J81: =F81 -> 72768 | K81: 64688 | L81: =J81-K81 -> 8080
A82: 보건복지국 | B82: 1회추경 142 | C82: 전염병전문가교육(국비/직접) - 전염병 실무자과정 교육 | D82: 19200 | E82: =D82+F82 -> 39200 | F82: =H82-G82 -> 20000 | H82: 20000 | I82: 국비변경내시 | J82: =F82 -> 20000 | K82: 20000 | L82: =J82-K82 -> 0
A83: 보건복지국 | B83: 신규 | C83: 취약지역 응급의료기관 육성(기금/지원) - 농어촌취약지역 뱀해독제 보급 | E83: =D83+F83 -> 7080 | F83: =H83-G83 -> 7080 | H83: 7080 | I83: 국비변경내시 | J83: =F83 -> 7080 | K83: 7080 | L83: =J83-K83 -> 0
A84: 복지여성실 | B84: 당초 774 | C84: 일반생계급여(국비/지원) | D84: 113324640 | E84: =D84+F84 -> 124836669 | F84: =H84-G84 -> 11512029 | H84: 11512029 | I84: 국비변경내시 | J84: =F84 -> 11512029 | K84: 10232914 | L84: =J84-K84 -> 1279115
A85: 복지여성실 | B85: 당초 774 | C85: 주거급여(국비/지원) | D85: 28514953 | E85: =D85+F85 -> 30061092 | F85: =H85-G85 -> 1546139 | H85: 1546139 | I85: 국비변경내시 | J85: =F85 -> 1546139 | K85: 1379679 | L85: =J85-K85 -> 166460
A86: 복지여성실 | B86: 당초 774 | C86: 해산장제급여(국비/지원) | D86: 665796 | E86: =D86+F86 -> 855200 | F86: =H86-G86 -> 189404 | H86: 189404 | I86: 국비변경내시 | J86: =F86 -> 189404 | K86: 168359 | L86: =J86-K86 -> 21045
A87: 복지여성실 | B87: 당초 775 | C87: 차상위계층 양곡할인지원(국비/지원) | D87: 782219 | E87: =D87+F87 -> 897244 | F87: =H87-G87 -> 115025 | H87: 115025 | I87: 국비변경내시 | J87: =F87 -> 115025 | K87: 107000 | L87: =J87-K87 -> 8025
A88: 복지여성실 | B88: 당초 777 | C88: 자활지원(국비/지원) | D88: 10873950 | E88: =D88+F88 -> 11328718 | F88: =H88-G88 -> 454768 | H88: 454768 | I88: 국비변경내시 | J88: =F88 -> 454768 | K88: 399692 | L88: =J88-K88 -> 55076
A89: 복지여성실 | B89: 당초 780 | C89: 기초생활보장급여(노인시설)(국비/지원) | D89: 2906280 | E89: =D89+F89 -> 3150000 | F89: =H89-G89 -> 243720 | H89: 243720 | I89: 국비변경내시 | J89: =F89 -> 243720 | K89: 216640 | L89: =J89-K89 -> 27080
A90: 복지여성실 | B90: 당초 787 | C90: 국민기초 생활보장급여(장애인시설)(국비/지원) | D90: 1914354 | E90: =D90+F90 -> 2013749 | F90: =H90-G90 -> 99395 | H90: 99395 | I90: 국비변경내시 | J90: =F90 -> 99395 | K90: 88352 | L90: =J90-K90 -> 11043
A91: 복지여성실 | B91: 당초 805 | C91: 정신보건시설 생계급여(국비/지원) | D91: 1067418 | E91: =D91+F91 -> 1147500 | F91: =H91-G91 -> 80082 | H91: 80082 | I91: 국비변경내시 | J91: =F91 -> 80082 | K91: 71184 | L91: =J91-K91 -> 8898
A92: 보건복지국 | B92: 416 | C92: 희망키움통장(국비/지원) - 보건복지국 | D92: 2792568 | E92: =D92+F92 -> 2759268 | F92: =H92-G92 -> -33300 | G92: 33300 | I92: 1,2청간 조정 (국 -29,600, 도 -3,700) | J92: =F92 -> -33300 | K92: -29600 | L92: -3700
A93: 보건복지국 | B93: 439 | C93: 희망키움통장(국비/지원) - 복지여성실 | D93: 11446758 | E93: =D93+F93 -> 11480058 | F93: =H93-G93 -> 33300 | H93: 33300 | I93: 1,2청간 조정 (국 29,600, 도 3,700) | J93: =F93 -> 33300 | K93: 29600 | L93: =J93-K93 -> 3700
A94: 보건복지국 | B94: 421 | C94: 장애인직업재활시설 기능보강(국비/지원) | D94: 5788524 | E94: =D94+F94 -> 4115376 | F94: =H94-G94 -> -1673148 | G94: 1673148 | I94: 보건복지부 장애인자립기반과 -3561(7.6), -3798(7.20), -4274(8.17), -4859(9.21) | J94: =F94 -> -1673148 | K94: -836574 | L94: =J94-K94 -> -836574
A95: 보건복지국 | B95: 당초 345 | C95: 치매 조기검진사업(기금/지원) (치매 조기검진사업) | D95: 214225 | E95: =D95+F95 -> 222225 | F95: =H95-G95 -> 8000 | H95: 8000 | I95: 보건복지부 노인정책과-4081(9.21) | J95: =F95 -> 8000 | K95: 8000 | L95: =J95-K95 -> 0
A96: 보건복지국 | B96: 당초 346 | C96: 치매 치료관리사업(기금/지원) (치매 치료관리비(약제비 등)지원) | D96: 1522312 | E96: =D96+F96 -> 1478112 | F96: =H96-G96 -> -44200 | G96: 44200 | I96: 보건복지부 노인정책과-4081(9.21) | J96: =F96 -> -44200 | K96: -34000 | L96: =J96-K96 -> -10200
A97: 보건복지국 | B97: 당초 322 | C97: 기초노령연금(국비/지원) | D97: 305981480 | E97: =D97+F97 -> 309274087 | F97: =H97-G97 -> 3292607 | H97: 3292607 | I97: 보건복지부 기초노령연금과-2643(9.27) | J97: =F97 -> 3292607 | K97: 2995438 | L97: =J97-K97 -> 297169
A98: 복지여성실 -사회복지담당관 | B98: 442 | C98: 장애인직업재활시설 기능보강(국비/지원) | D98: 1498718 | E98: =D98+F98 -> 1593718 | F98: =H98-G98 -> 95000 | H98: 95000 | I98: 보건복지부 장애인자립기반과 -3561(7.6), -3798(7.20), -4274(8.17), -4859(9.21) | J98: =F98 -> 95000 | K98: 47500 | L98: =J98-K98 -> 47500
A99: 복지여성실 -사회복지담당관 | B99: 당초 779 | C99: 기초노령연금(국비/지원) | D99: 144288053 | E99: =D99+F99 -> 146941052 | F99: =H99-G99 -> 2652999 | H99: 2652999 | I99: 보건복지부 기초노령연금과-2643(9.27) | J99: =F99 -> 2652999 | K99: 2446596 | L99: =J99-K99 -> 206403
A100: 복지여성실 -보건위생담당관 | B100: 2회추경 | C100: 노인생활시설 기능보강 | D100: 1626980 | E100: =D100+F100 -> 1938745 | F100: =H100-G100 -> 311765 | H100: 311765 | I100: 보건복지부 요양보험운영과-3848(9.27) | J100: =F100 -> 311765 | K100: 311765 | L100: =J100-K100 -> 0
...

Sheet 세입_특별
A1: 2011년도 제1회추경 특별회계 세입 예산 수정(안)
B2: □ 세입예산(특별회계)
M3: (단위:천원)
A4: 부서명 | B4: 명세서 페이지 | C4: 사업명 | D4: 예산안 | E4: 조정액 | H4: 재 원 현 황 | M4: 비 고
E5: 계 | F5: 감액 | G5: 증액 | H5: 계 | I5: 국비 | J5: 균특 | K5: 기금 | L5: 도비
C6: 계 | D6: =SUM(D7:D36)/2 -> 39740589 | E6: =SUM(E7:E36)/2 -> -1245 | F6: =SUM(F7:F36)/2 -> 1245 | G6: =SUM(G7:G36)/2 -> 0 | H6: =SUM(H7:H36) -> 0 | I6: =SUM(I7:I36) -> 0 | J6: =SUM(J7:J36) -> 0 | K6: =SUM(K7:K36) -> 0 | L6: =SUM(L7:L36) -> 0
A7: 의료급여기금 | C7: 의료급여기금 | D7: =SUM(D8:D9) -> 39740589 | E7: =SUM(E8:E9) -> -1245 | F7: =SUM(F8:F9) -> 1245 | G7: =SUM(G8:G9) -> 0 | H7: =SUM(H8:H9) -> 0 | I7: =SUM(I8:I9) -> 0 | J7: =SUM(J8:J9) -> 0 | K7: =SUM(K8:K9) -> 0 | L7: =SUM(L8:L9) -> 0
B8: 450 | C8: 의료급여사업 자치단체간 부담금 | D8: 39740589 | E8: =SUM(G8-F8) -> -1245 | F8: 1245 | G8: =IF(H8>0,H8,0) -> 0 | H8: =SUM(I8:L8) -> 0 | M8: 시군별 내시액 변경
D9: 0 | E9: =SUM(G9-F9) -> 0 | F9: =IF(H9>0,0,-H9) -> 0 | G9: =IF(H9>0,H9,0) -> 0 | H9: =SUM(I9:L9) -> 0
A10: 팔당호관리 | C10: 팔당호관리 | D10: =SUM(D11:D12) -> 0 | E10: =SUM(E11:E12) -> 0 | F10: =SUM(F11:F12) -> 0 | G10: =SUM(G11:G12) -> 0 | H10: =SUM(H11:H12) -> 0 | I10: =SUM(I11:I12) -> 0 | J10: =SUM(J11:J12) -> 0 | K10: =SUM(K11:K12) -> 0 | L10: =SUM(L11:L12) -> 0
D11: 0 | E11: =SUM(G11-F11) -> 0 | F11: =IF(H11>0,0,-H11) -> 0 | G11: =IF(H11>0,H11,0) -> 0 | H11: =SUM(I11:L11) -> 0
D12: 0 | E12: =SUM(G12-F12) -> 0 | F12: =IF(H12>0,0,-H12) -> 0 | G12: =IF(H12>0,H12,0) -> 0 | H12: =SUM(I12:L12) -> 0
A13: 유료도로사업 | C13: 유료도로사업 | D13: =SUM(D14:D15) -> 0 | E13: =SUM(E14:E15) -> 0 | F13: =SUM(F14:F15) -> 0 | G13: =SUM(G14:G15) -> 0 | H13: =SUM(H14:H15) -> 0 | I13: =SUM(I14:I15) -> 0 | J13: =SUM(J14:J15) -> 0 | K13: =SUM(K14:K15) -> 0 | L13: =SUM(L14:L15) -> 0
D14: 0 | E14: =SUM(G14-F14) -> 0 | F14: =IF(H14>0,0,-H14) -> 0 | G14: =IF(H14>0,H14,0) -> 0 | H14: =SUM(I14:L14) -> 0
D15: 0 | E15: =SUM(G15-F15) -> 0 | F15: =IF(H15>0,0,-H15) -> 0 | G15: =IF(H15>0,H15,0) -> 0 | H15: =SUM(I15:L15) -> 0
A16: 학교용지부담금 | C16: 학교용지부담금 | D16: =SUM(D17:D18) -> 0 | E16: =SUM(E17:E18) -> 0 | F16: =SUM(F17:F18) -> 0 | G16: =SUM(G17:G18) -> 0 | H16: =SUM(H17:H18) -> 0 | I16: =SUM(I17:I18) -> 0 | J16: =SUM(J17:J18) -> 0 | K16: =SUM(K17:K18) -> 0 | L16: =SUM(L17:L18) -> 0
A19: 광역교통시설 | C19: 광역교통시설 | D19: =SUM(D20:D21) -> 0 | E19: =SUM(E20:E21) -> 0 | F19: =SUM(F20:F21) -> 0 | G19: =SUM(G20:G21) -> 0 | H19: =SUM(H20:H21) -> 0 | I19: =SUM(I20:I21) -> 0 | J19: =SUM(J20:J21) -> 0 | K19: =SUM(K20:K21) -> 0 | L19: =SUM(L20:L21) -> 0
D20: 0 | E20: =SUM(G20-F20) -> 0 | F20: =IF(H20>0,0,-H20) -> 0 | G20: =IF(H20>0,H20,0) -> 0 | H20: =SUM(I20:L20) -> 0
D21: 0 | E21: =SUM(G21-F21) -> 0 | F21: =IF(H21>0,0,-H21) -> 0 | G21: =IF(H21>0,H21,0) -> 0 | H21: =SUM(I21:L21) -> 0
A22: 임진강유역댐정비 | C22: 임진강유역댐정비 | D22: =SUM(D23:D24) -> 0 | E22: =SUM(E23:E24) -> 0 | F22: =SUM(F23:F24) -> 0 | G22: =SUM(G23:G24) -> 0 | H22: =SUM(H23:H24) -> 0 | I22: =SUM(I23:I24) -> 0 | J22: =SUM(J23:J24) -> 0 | K22: =SUM(K23:K24) -> 0 | L22: =SUM(L23:L24) -> 0
D23: 0 | E23: =SUM(G23-F23) -> 0 | F23: =IF(H23>0,0,-H23) -> 0 | G23: =IF(H23>0,H23,0) -> 0 | H23: =SUM(I23:L23) -> 0
D24: 0 | E24: =SUM(G24-F24) -> 0 | F24: =IF(H24>0,0,-H24) -> 0 | G24: =IF(H24>0,H24,0) -> 0 | H24: =SUM(I24:L24) -> 0
A25: 지역개발기금 | C25: 지역개발기금 | D25: =SUM(D26:D27) -> 0 | E25: =SUM(E26:E27) -> 0 | F25: =SUM(F26:F27) -> 0 | G25: =SUM(G26:G27) -> 0 | H25: =SUM(H26:H27) -> 0 | I25: =SUM(I26:I27) -> 0 | J25: =SUM(J26:J27) -> 0 | K25: =SUM(K26:K27) -> 0 | L25: =SUM(L26:L27) -> 0
D26: 0 | E26: =SUM(G26-F26) -> 0 | F26: =IF(H26>0,0,-H26) -> 0 | G26: =IF(H26>0,H26,0) -> 0 | H26: =SUM(I26:L26) -> 0
D27: 0 | E27: =SUM(G27-F27) -> 0 | F27: =IF(H27>0,0,-H27) -> 0 | G27: =IF(H27>0,H27,0) -> 0 | H27: =SUM(I27:L27) -> 0
A28: 판교테크노밸리 | C28: 판교테크노밸리 | D28: =SUM(D29:D30) -> 0 | E28: =SUM(E29:E30) -> 0 | F28: =SUM(F29:F30) -> 0 | G28: =SUM(G29:G30) -> 0 | H28: =SUM(H29:H30) -> 0 | I28: =SUM(I29:I30) -> 0 | J28: =SUM(J29:J30) -> 0 | K28: =SUM(K29:K30) -> 0 | L28: =SUM(L29:L30) -> 0
D29: 0 | E29: =SUM(G29-F29) -> 0 | F29: =IF(H29>0,0,-H29) -> 0 | G29: =IF(H29>0,H29,0) -> 0 | H29: =SUM(I29:L29) -> 0
D30: 0 | E30: =SUM(G30-F30) -> 0 | F30: =IF(H30>0,0,-H30) -> 0 | G30: =IF(H30>0,H30,0) -> 0 | H30: =SUM(I30:L30) -> 0
A31: 고양관광문화단지 | C31: 고양관광문화단지 | D31: =SUM(D32:D33) -> 0 | E31: =SUM(E32:E33) -> 0 | F31: =SUM(F32:F33) -> 0 | G31: =SUM(G32:G33) -> 0 | H31: =SUM(H32:H33) -> 0 | I31: =SUM(I32:I33) -> 0 | J31: =SUM(J32:J33) -> 0 | K31: =SUM(K32:K33) -> 0 | L31: =SUM(L32:L33) -> 0
H32: =SUM(I32:L32) -> 0
D33: 0 | E33: =SUM(G33-F33) -> 0 | F33: =IF(H33>0,0,-H33) -> 0 | G33: =IF(H33>0,H33,0) -> 0 | H33: =SUM(I33:L33) -> 0
A34: 고덕국제화지구 | C34: 고덕국제화지구 | D34: =SUM(D35:D36) -> 0 | E34: =SUM(E35:E36) -> 0 | F34: =SUM(F35:F36) -> 0 | G34: =SUM(G35:G36) -> 0 | H34: =SUM(H35:H36) -> 0 | I34: =SUM(I35:I36) -> 0 | J34: =SUM(J35:J36) -> 0 | K34: =SUM(K35:K36) -> 0 | L34: =SUM(L35:L36) -> 0
D35: 0 | E35: =SUM(G35-F35) -> 0 | F35: =IF(H35>0,0,-H35) -> 0 | G35: =IF(H35>0,H35,0) -> 0 | H35: =SUM(I35:L35) -> 0
D36: 0 | E36: =SUM(G36-F36) -> 0 | F36: =IF(H36>0,0,-H36) -> 0 | G36: =IF(H36>0,H36,0) -> 0 | H36: =SUM(I36:L36) -> 0

Sheet 세출_특별
A1: 2011년도 제1회추경 특별회계 세출 예산 수정(안)
B2: □ 세출예산(특별회계)
M3: (단위:천원)
A4: 부서명 | B4: 명세서 페이지 | C4: 사업명 | D4: 예산안 | E4: 조정액 | H4: 재 원 현 황 | M4: 비 고
E5: 계 | F5: 감액 | G5: 증액 | H5: 계 | I5: 국비 | J5: 균특 | K5: 기금 | L5: 도비
A6: 계 | C6: 계 | D6: =SUM(D7:D36)/2 -> 685173665 | E6: =SUM(E7:E36)/2 -> -1245 | F6: =SUM(F7:F36)/2 -> 1245 | G6: =SUM(G7:G36)/2 -> 0 | H6: =SUM(H7:H36)/2 -> 0 | I6: =SUM(I7:I36)/2 -> 0 | J6: =SUM(J7:J36)/2 -> 0 | K6: =SUM(K7:K36)/2 -> 0 | L6: =SUM(L7:L36)/2 -> 0
A7: 의료급여기금 | C7: 의료급여기금 | D7: =SUM(D8:D9) -> 685173665 | E7: =SUM(E8:E9) -> -1245 | F7: =SUM(F8:F9) -> 1245 | G7: =SUM(G8:G9) -> 0 | H7: =SUM(H8:H9) -> 0 | I7: =SUM(I8:I9) -> 0 | J7: =SUM(J8:J9) -> 0 | K7: =SUM(K8:K9) -> 0 | L7: =SUM(L8:L9) -> 0
B8: 451 | C8: 의료급여(국비/직접) - 의료급여수급권자 진료비 및 건강생활비 | D8: 685173665 | E8: =SUM(G8-F8) -> -1245 | F8: 1245 | G8: =IF(H8>0,H8,0) -> 0 | H8: =SUM(I8:L8) -> 0 | M8: 시군별 내시액 변경
E9: =SUM(G9-F9) -> 0 | F9: =IF(H9>0,0,-H9) -> 0 | G9: =IF(H9>0,H9,0) -> 0 | H9: =SUM(I9:L9) -> 0
A10: 팔당호관리 | C10: 팔당호관리 | D10: =SUM(D11:D12) -> 0 | E10: =SUM(E11:E12) -> 0 | F10: =SUM(F11:F12) -> 0 | G10: =SUM(G11:G12) -> 0 | H10: =SUM(H11:H12) -> 0 | I10: =SUM(I11:I12) -> 0 | J10: =SUM(J11:J12) -> 0 | K10: =SUM(K11:K12) -> 0 | L10: =SUM(L11:L12) -> 0
E11: =SUM(G11-F11) -> 0 | F11: =IF(H11>0,0,-H11) -> 0 | G11: =IF(H11>0,H11,0) -> 0 | H11: =SUM(I11:L11) -> 0
E12: =SUM(G12-F12) -> 0 | F12: =IF(H12>0,0,-H12) -> 0 | G12: =IF(H12>0,H12,0) -> 0 | H12: =SUM(I12:L12) -> 0
A13: 유료도로사업 | C13: 유료도로사업 | D13: =SUM(D14:D15) -> 0 | E13: =SUM(E14:E15) -> 0 | F13: =SUM(F14:F15) -> 0 | G13: =SUM(G14:G15) -> 0 | H13: =SUM(H14:H15) -> 0 | I13: =SUM(I14:I15) -> 0 | J13: =SUM(J14:J15) -> 0 | K13: =SUM(K14:K15) -> 0 | L13: =SUM(L14:L15) -> 0
E14: =SUM(G14-F14) -> 0 | F14: =IF(H14>0,0,-H14) -> 0 | G14: =IF(H14>0,H14,0) -> 0 | H14: =SUM(I14:L14) -> 0
E15: =SUM(G15-F15) -> 0 | F15: =IF(H15>0,0,-H15) -> 0 | G15: =IF(H15>0,H15,0) -> 0 | H15: =SUM(I15:L15) -> 0
A16: 학교용지부담금 | C16: 학교용지부담금 | D16: =SUM(D17:D18) -> 0 | E16: =SUM(E17:E18) -> 0 | F16: =SUM(F17:F18) -> 0 | G16: =SUM(G17:G18) -> 0 | H16: =SUM(H17:H18) -> 0 | I16: =SUM(I17:I18) -> 0 | J16: =SUM(J17:J18) -> 0 | K16: =SUM(K17:K18) -> 0 | L16: =SUM(L17:L18) -> 0
H17: =SUM(I17:L17) -> 0
H18: =SUM(I18:L18) -> 0
A19: 광역교통시설 | C19: 광역교통시설 | D19: =SUM(D20:D21) -> 0 | E19: =SUM(E20:E21) -> 0 | F19: =SUM(F20:F21) -> 0 | G19: =SUM(G20:G21) -> 0 | H19: =SUM(H20:H21) -> 0 | I19: =SUM(I20:I21) -> 0 | J19: =SUM(J20:J21) -> 0 | K19: =SUM(K20:K21) -> 0 | L19: =SUM(L20:L21) -> 0
E20: =SUM(G20-F20) -> 0 | G20: =IF(H20>0,H20,0) -> 0 | H20: =SUM(I20:L20) -> 0
E21: =SUM(G21-F21) -> 0 | F21: =IF(H21>0,0,-H21) -> 0 | G21: =IF(H21>0,H21,0) -> 0 | H21: =SUM(I21:L21) -> 0
A22: 임진강유역댐정비 | C22: 임진강유역댐정비 | D22: =SUM(D23:D24) -> 0 | E22: =SUM(E23:E24) -> 0 | F22: =SUM(F23:F24) -> 0 | G22: =SUM(G23:G24) -> 0 | H22: =SUM(H23:H24) -> 0 | I22: =SUM(I23:I24) -> 0 | J22: =SUM(J23:J24) -> 0 | K22: =SUM(K23:K24) -> 0 | L22: =SUM(L23:L24) -> 0
E23: =SUM(G23-F23) -> 0 | F23: =IF(H23>0,0,-H23) -> 0 | G23: =IF(H23>0,H23,0) -> 0 | H23: =SUM(I23:L23) -> 0
E24: =SUM(G24-F24) -> 0 | F24: =IF(H24>0,0,-H24) -> 0 | G24: =IF(H24>0,H24,0) -> 0 | H24: =SUM(I24:L24) -> 0
A25: 지역개발기금 | C25: 지역개발기금 | D25: =SUM(D26:D27) -> 0 | E25: =SUM(E26:E27) -> 0 | F25: =SUM(F26:F27) -> 0 | G25: =SUM(G26:G27) -> 0 | H25: =SUM(H26:H27) -> 0 | I25: =SUM(I26:I27) -> 0 | J25: =SUM(J26:J27) -> 0 | K25: =SUM(K26:K27) -> 0 | L25: =SUM(L26:L27) -> 0
A28: 판교테크노밸리 | C28: 판교테크노밸리 | D28: =SUM(D29:D30) -> 0 | E28: =SUM(E29:E30) -> 0 | F28: =SUM(F29:F30) -> 0 | G28: =SUM(G29:G30) -> 0 | H28: =SUM(H29:H30) -> 0 | I28: =SUM(I29:I30) -> 0 | J28: =SUM(J29:J30) -> 0 | K28: =SUM(K29:K30) -> 0 | L28: =SUM(L29:L30) -> 0
E29: =SUM(G29-F29) -> 0 | F29: =IF(H29>0,0,-H29) -> 0 | G29: =IF(H29>0,H29,0) -> 0 | H29: =SUM(I29:L29) -> 0
E30: =SUM(G30-F30) -> 0 | F30: =IF(H30>0,0,-H30) -> 0 | G30: =IF(H30>0,H30,0) -> 0 | H30: =SUM(I30:L30) -> 0
A31: 고양관광문화단지 | C31: 고양관광문화단지 | D31: =SUM(D32:D33) -> 0 | E31: =SUM(E32:E33) -> 0 | F31: =SUM(F32:F33) -> 0 | G31: =SUM(G32:G33) -> 0 | H31: =SUM(H32:H33) -> 0 | I31: =SUM(I32:I33) -> 0 | J31: =SUM(J32:J33) -> 0 | K31: =SUM(K32:K33) -> 0 | L31: =SUM(L32:L33) -> 0
A34: 고덕국제화지구 | C34: 고덕국제화지구 | D34: =SUM(D35:D36) -> 0 | E34: =SUM(E35:E36) -> 0 | F34: =SUM(F35:F36) -> 0 | G34: =SUM(G35:G36) -> 0 | H34: =SUM(H35:H36) -> 0 | I34: =SUM(I35:I36) -> 0 | J34: =SUM(J35:J36) -> 0 | K34: =SUM(K35:K36) -> 0 | L34: =SUM(L35:L36) -> 0
E35: =SUM(G35-F35) -> 0 | F35: =IF(H35>0,0,-H35) -> 0 | G35: =IF(H35>0,H35,0) -> 0 | H35: =SUM(I35:L35) -> 0
E36: =SUM(G36-F36) -> 0 | F36: =IF(H36>0,0,-H36) -> 0 | G36: =IF(H36>0,H36,0) -> 0 | H36: =SUM(I36:L36) -> 0

Sheet 총괄표_기금
B1: 2011년도 경기도 기금운용계획 세입·세출 예산 수정(안)
B3: □ 총 괄
H4: (단위:천원)
B5: 구 분 | C5: 집행부 제출(안) | D5: 세입예산(안) | F5: 세출예산(안) | H5: 예산수정(안)
D6: 감 액 | E6: 증 액 | F6: 감 액 | G6: 증 액
B7: 합 계 | C7: =SUM(C8:C17) -> 0 | D7: =SUM(D8:D17) -> 0 | E7: =SUM(E8:E17) -> 0 | F7: =SUM(F8:F17) -> 0 | G7: =SUM(G8:G17) -> 0 | H7: =SUM(H8:H17) -> 0
B8: 의회운영
B9: 기 획
B10: 경제투자
B11: 행정자치
B12: 문화관광
B13: 농림수산
B14: 보건복지
B15: 건설교통
B16: 도시환경
B17: 가족여성
B19: □ 회계별 예산총규모
H20: (단위:천원)
B21: 구 분 | C21: 집행부 제출(안) | D21: 세입예산(안) | F21: 세출예산(안) | H21: 예산수정(안)
D22: 감 액 | E22: 증 액 | F22: 감 액 | G22: 증 액
B23: 합 계 | C23: =SUM(C24:C25) -> 5000000 | D23: =SUM(D24:D25) -> 0 | E23: =SUM(E24:E25) -> 0 | F23: =SUM(F24:F25) -> 0 | G23: =SUM(G24:G25) -> 0 | H23: =SUM(H24:H25) -> 0
B24: 남북교류 협력기금 | C24: 5000000

Sheet 세입_기금
A1: 2011년도 경기도 기금운용계획 수정(안)
A2: □ 세입예산(기금)
G3: (단위:천원)
A4: 명세서 페이지 | B4: 사 업 명 | C4: 예산안 | D4: 조정액 | G4: 비 고
D5: 계 | E5: 감액 | F5: 증액
B6: 계 | C6: =SUM(C7:C13)/2 -> 0 | D6: =SUM(F6-E6) -> 0 | E6: =SUM(E7:E13)/2 -> 0 | F6: =SUM(F7:F13)/2 -> 0
C7: =SUM(C8:C9) -> 0 | D7: =F7-E7 -> 0 | E7: =SUM(E8:E9) -> 0 | F7: =SUM(F8:F9) -> 0
C8: 0 | D8: =F8-E8 -> 0 | F8: 0
C9: 0 | D9: =F9-E9 -> 0 | F9: 0
C10: =SUM(C11:C13) -> 0 | D10: =F10-E10 -> 0 | E10: =SUM(E11:E13) -> 0 | F10: =SUM(F11:F13) -> 0
C11: 0 | D11: =F11-E11 -> 0 | E11: 0
C12: 0 | D12: =F12-E12 -> 0 | F12: 0
C13: 0 | D13: =F13-E13 -> 0 | F13: 0

Sheet 세출_기금
A1: 2011년도 경기도 기금운용계획 수정(안)
A2: □ 세출예산(기금)
G3: (단위:천원)
A4: 명세서 페이지 | B4: 부기명 | C4: 예산안 | D4: 조정액 | G4: 비 고
D5: 계 | E5: 감액 | F5: 증액
C6: =SUM(C7:C16)/2 -> 0 | D6: =SUM(F6-E6) -> 0 | E6: =SUM(E7:E16)/2 -> 0 | F6: =SUM(F7:F16)/2 -> 0
C7: =SUM(C8:C12) -> 0 | D7: =F7-E7 -> 0 | E7: =SUM(E8:E12) -> 0 | F7: =SUM(F8:F12) -> 0
D8: =F8-E8 -> 0
D9: =F9-E9 -> 0
D10: =F10-E10 -> 0
C11: 0 | D11: =F11-E11 -> 0 | F11: 0
C12: 0 | D12: =F12-E12 -> 0 | F12: 0
C13: =SUM(C14:C16) -> 0 | D13: =F13-E13 -> 0 | E13: =SUM(E14:E16) -> 0 | F13: =SUM(F14:F16) -> 0
D14: =F14-E14 -> 0
D15: =F15-E15 -> 0
D16: =F16-E16 -> 0 | F16: 0

Sheet 위원회총괄
A1: 작성방법 | D1: 의회,대외,경투,자치,문광,농정,대변,철도,환경,여성 | E1: 감사,경제2,소방,농정2,복지,교통,도시,여성2 | F1: 기조,행정2,농업기술,복지2,건설본부,도시2,교육 | G1: 기획2,소방2,보건연구,보건연구 | H1: 인재 | I1: 소방학교 | J1: 소방서 | K1: 이체액 | L1: 이체액 | M1: 이체액 | N1: 이체액
A2: (2011년 당초예산+추경+마무리추경(안) | D2: =SUM(D5:K14) -> 12328878281
A3: 위원회 | B3: 총 액 | C3: 일반회계(집행부확정) | D3: 실과별1 | E3: 실과2 | F3: 실과3 | G3: 실과4 | H3: 실과5 | I3: 실과6 | J3: 실과7 | K3: 실과8 | L3: 실과8 | M3: 실과8 | N3: 실과9 | O3: 특별1 | P3: 특별2 | Q3: 특별3 | R3: 비고
A4: 계 | B4: =SUM(B5:B14) -> 15369830928 | C4: =SUM(C5:C14) -> 12328878281 | D4: =D18+D32+D46+D60 -> 15369830928 | O4: =SUM(O5:Q14) -> 3040952647
A5: 의회운영 | B5: =B19+B33+B47+B61 -> 28429811 | C5: =C19+C33+C47+C61 -> 28429811 | D5: =D19+D33+D47+D61 -> 28429811 | E5: =E19+E33+E47+E61 -> 0 | F5: =F19+F33+F47+F61 -> 0 | G5: =G19+G33+G47+G61 -> 0 | H5: =H19+H33+H47+H61 -> 0 | I5: =I19+I33+I47+I61 -> 0 | ... M5: =M19+M33+M47+M61 -> 0 | O5: =O19+O33+O47+O61 -> 0 | P5: =P19+P33+P47+P61 -> 0 | Q5: =Q19+Q33+Q47+Q61 -> 0
A6: 기 획 | B6: =B20+B34+B48+B62 -> 4599975685 | C6: =C20+C34+C48+C62 -> 3047817327 | D6: =D20+D34+D48+D62 -> 729108 | E6: =E20+E34+E48+E62 -> 965897 | F6: =F20+F34+F48+F62 -> 3003083104 | G6: =G20+G34+G48+G62 -> 43039218 | H6: =H20+H34+H48+H62 -> 0 | I6: =I20+I34+I48+I62 -> 0 | ... M6: =M20+M34+M48+M62 -> 0 | O6: =O20+O34+O48+O62 -> 1552158358 | P6: =P20+P34+P48+P62 -> 0 | Q6: =Q20+Q34+Q48+Q62 -> 0 | R6: 지역개발
A7: 경제투자 | B7: =B21+B35+B49+B63 -> 614815906 | C7: =C21+C35+C49+C63 -> 313867841 | D7: =D21+D35+D49+D63 -> 280003979 | E7: =E21+E35+E49+E63 -> 33863862 | F7: =F21+F35+F49+F63 -> 0 | G7: =G21+G35+G49+G63 -> 0 | H7: =H21+H35+H49+H63 -> 0 | I7: =I21+I35+I49+I63 -> 0 | ... M7: =M21+M35+M49+M63 -> 0 | O7: =O21+O35+O49+O63 -> 300948065 | P7: =P21+P35+P49+P63 -> 0 | Q7: =Q21+Q35+Q49+Q63 -> 0 | R7: 판교
A8: 행정자치 | B8: =B22+B36+B50+B64 -> 1008395391 | C8: =C22+C36+C50+C64 -> 1008395391 | D8: =D22+D36+D50+D64 -> 524754360 | E8: =E22+E36+E50+E64 -> 387465461 | F8: =F22+F36+F50+F64 -> 28253285 | G8: =G22+G36+G50+G64 -> 983466 | H8: =H22+H36+H50+H64 -> 5170380 | I8: =I22+I36+I50+I64 -> 7089271 | ... M8: =M22+M36+M50+M64 -> 0 | O8: =O22+O36+O50+O64 -> 0 | P8: =P22+P36+P50+P64 -> 0 | Q8: =Q22+Q36+Q50+Q64 -> 0
A9: 문화관광 | B9: =B23+B37+B51+B65 -> 367556380 | C9: =C23+C37+C51+C65 -> 270989547 | D9: =D23+D37+D51+D65 -> 270989547 | E9: =E23+E37+E51+E65 -> 0 | F9: =F23+F37+F51+F65 -> 0 | G9: =G23+G37+G51+G65 -> 0 | H9: =H23+H37+H51+H65 -> 0 | I9: =I23+I37+I51+I65 -> 0 | ... M9: =M23+M37+M51+M65 -> 0 | O9: =O23+O37+O51+O65 -> 96566833 | P9: =P23+P37+P51+P65 -> 0 | Q9: =Q23+Q37+Q51+Q65 -> 0 | R9: 고양
A10: 농림수산 | B10: =B24+B38+B52+B66 -> 576482968 | C10: =C24+C38+C52+C66 -> 576482968 | D10: =D24+D38+D52+D66 -> 433390292 | E10: =E24+E38+E52+E66 -> 102196732 | F10: =F24+F38+F52+F66 -> 40895944 | G10: =G24+G38+G52+G66 -> 0 | H10: =H24+H38+H52+H66 -> 0 | I10: =I24+I38+I52+I66 -> 0 | ... M10: =M24+M38+M52+M66 -> 0 | O10: =O24+O38+O52+O66 -> 0 | P10: =P24+P38+P52+P66 -> 0 | Q10: =Q24+Q38+Q52+Q66 -> 0
A11: 보건복지 | B11: =B25+B39+B53+B67 -> 2517632445 | C11: =C25+C39+C53+C67 -> 1820965578 | D11: =D25+D39+D53+D67 -> 11739908 | E11: =E25+E39+E53+E67 -> 1305783079 | F11: =F25+F39+F53+F67 -> 497934291 | G11: =G25+G39+G53+G67 -> 5508300 | H11: =H25+H39+H53+H67 -> 0 | I11: =I25+I39+I53+I67 -> 0 | ... M11: =M25+M39+M53+M67 -> 0 | O11: =O25+O39+O53+O67 -> 696666867 | P11: =P25+P39+P53+P67 -> 0 | Q11: =Q25+Q39+Q53+Q67 -> 0 | R11: 의료
A12: 건설교통 | B12: =B26+B40+B54+B68 -> 1558358074 | C12: =C26+C40+C54+C68 -> 1403838740 | D12: =D26+D40+D54+D68 -> 84643330 | E12: =E26+E40+E54+E68 -> 940907677 | F12: =F26+F40+F54+F68 -> 378287733 | G12: =G26+G40+G54+G68 -> 0 | H12: =H26+H40+H54+H68 -> 0 | I12: =I26+I40+I54+I68 -> 0 | ... M12: =M26+M40+M54+M68 -> 0 | O12: =O26+O40+O54+O68 -> 27347440 | P12: =P26+P40+P54+P68 -> 120129000 | Q12: =Q26+Q40+Q54+Q68 -> 7042894 | R12: 유료,광역,임진강
A13: 도시환경 | B13: =B27+B41+B55+B69 -> 981780166 | C13: =C27+C41+C55+C69 -> 959286296 | D13: =D27+D41+D55+D69 -> 616377025 | E13: =E27+E41+E55+E69 -> 126630298 | F13: =F27+F41+F55+F69 -> 210853915 | G13: =G27+G41+G55+G69 -> 5425058 | H13: =H27+H41+H55+H69 -> 0 | I13: =I27+I41+I55+I69 -> 0 | ... M13: =M27+M41+M55+M69 -> 0 | O13: =O27+O41+O55+O69 -> 3293870 | P13: =P27+P41+P55+P69 -> 19200000 | Q13: =Q27+Q41+Q55+Q69 -> 0 | R13: 팔당,고덕
A14: 가족여성 | B14: =B28+B42+B56+B70 -> 3116404102 | C14: =C28+C42+C56+C70 -> 2898804782 | D14: =D28+D42+D56+D70 -> 769044184 | E14: =E28+E42+E56+E70 -> 318480752 | F14: =F28+F42+F56+F70 -> 1811279846 | G14: =G28+G42+G56+G70 -> 0 | H14: =H28+H42+H56+H70 -> 0 | I14: =I28+I42+I56+I70 -> 0 | ... M14: =M28+M42+M56+M70 -> 0 | O14: =O28+O42+O56+O70 -> 217599320 | P14: =P28+P42+P56+P70 -> 0 | Q14: =Q28+Q42+Q56+Q70 -> 0 | R14: 학교
A16: (2011년 당초예산)
A17: 위원회 | B17: 당초확정예산액 | C17: 일반회계(집행부확정) | D17: 실과별1 | E17: 실과2 | F17: 실과3 | G17: 실과4 | H17: 실과5 | I17: 실과6 | J17: 실과7 | K17: 실과8 | L17: 실과8 | M17: 실과8 | N17: 실과15 | O17: 특별1 | P17: 특별2 | Q17: 특별3 | R17: 비고 | T17: 특별회계합계
A18: 계 | B18: =SUM(B19:B28) -> 13803355561 | C18: =SUM(C19:C28) -> 11066030769 | D18: =SUM(D19:J28,T18) -> 13803355561 | O18: =SUM(O19:Q28) -> 2737324792 | T18: =SUM(T19:T28) -> 2737324792
A19: 의회운영 | B19: =C19+T19 -> 28068485 | C19: =SUM(D19:N19) -> 28068485 | D19: 28068485 | T19: =SUM(O19:Q19) -> 0
A20: 기 획 | B20: =C20+T20 -> 4202280155 | C20: =SUM(D20:N20) -> 2763620352 | D20: 699108 | E20: 940897 | F20: 2724100443 | G20: 37879904 | O20: 1438659803 | R20: 지역개발 | T20: =SUM(O20:Q20) -> 1438659803
A21: 경제투자 | B21: =C21+T21 -> 405114879 | C21: =SUM(D21:N21) -> 232413879 | D21: 199215017 | E21: 33198862 | O21: 172701000 | R21: 판교 | T21: =SUM(O21:Q21) -> 172701000
A22: 행정자치 | B22: =C22+T22 -> 924686525 | C22: =SUM(D22:N22) -> 924686525 | D22: 486925962 | E22: 366401502 | F22: 6336613 | G22: 846466 | H22: 5115480 | I22: 6975058 | J22: 52085444 | T22: =SUM(O22:Q22) -> 0
A23: 문화관광 | B23: =C23+T23 -> 327628781 | C23: =SUM(D23:N23) -> 231061948 | D23: 231061948 | O23: 96566833 | R23: 고양 | T23: =SUM(O23:Q23) -> 96566833
A24: 농림수산 | B24: =C24+T24 -> 474716779 | C24: =SUM(D24:N24) -> 474716779 | D24: 351840485 | E24: 83431569 | F24: 39444725 | T24: =SUM(O24:Q24) -> 0
A25: 보건복지 | B25: =C25+T25 -> 2421301531 | C25: =SUM(D25:N25) -> 1742424899 | D25: 11339908 | E25: 1245699196 | F25: 479941304 | G25: 5444491 | O25: 678876632 | R25: 의료 | T25: =SUM(O25:Q25) -> 678876632
A26: 건설교통 | B26: =C26+T26 -> 1153710376 | C26: =SUM(D26:N26) -> 1043283042 | D26: 82393330 | E26: 792102888 | F26: 168786824 | O26: 27347440 | P26: 75762000 | Q26: 7317894 | R26: 유료,광역,임진강 | T26: =SUM(O26:Q26) -> 110427334
A27: 도시환경 | B27: =C27+T27 -> 848361453 | C27: =SUM(D27:N27) -> 825867583 | D27: 548476717 | E27: 96787928 | F27: 177072011 | G27: 3530927 | O27: 3293870 | P27: 19200000 | R27: 팔당,고덕 | T27: =SUM(O27:Q27) -> 22493870
A28: 가족여성 | B28: =C28+T28 -> 3017486597 | C28: =SUM(D28:N28) -> 2799887277 | D28: 712034506 | E28: 294935922 | F28: 1792916849 | O28: 217599320 | R28: 학교 | T28: =SUM(O28:Q28) -> 217599320
A30: (2011년 1회추경)
A31: 위원회 | B31: 총 액 | C31: 일반회계(집행부확정) | D31: 실과별1 | E31: 실과2 | F31: 실과3 | G31: 실과4 | H31: 실과5 | I31: 실과6 | J31: 실과7 | K31: 실과8 | L31: 실과8 | M31: 실과8 | N31: 실과15 | O31: 특별1 | P31: 특별2 | Q31: 특별3 | R31: 비고 | T31: 특별회계합계
A32: 계 | B32: =SUM(B33:B42) -> 856250810 | C32: =SUM(C33:C42) -> 809770041 | D32: =SUM(D33:J42,T32) -> 856250810 | O32: =SUM(O33:Q42) -> 46480769 | T32: =SUM(T33:T42) -> 46480769
A33: 의회운영 | B33: =C33+T33 -> 361326 | C33: =SUM(D33:N33) -> 361326 | D33: 361326 | T33: =SUM(O33:Q33) -> 0
A34: 기 획 | B34: =C34+T34 -> 279279490 | C34: =SUM(D34:N34) -> 279279490 | D34: 30000 | E34: 25000 | F34: 277906730 | G34: 1317760 | R34: 지역개발 | T34: =SUM(O34:Q34) -> 0
A35: 경제투자 | B35: =C35+T35 -> 77379162 | C35: =SUM(D35:N35) -> 77379162 | D35: 76414162 | E35: 965000 | R35: 판교 | T35: =SUM(O35:Q35) -> 0
A36: 행정자치 | B36: =C36+T36 -> 56017056 | C36: =SUM(D36:N36) -> 56017056 | D36: 35831696 | E36: 18659984 | F36: 182616 | G36: 137000 | H36: 54900 | I36: 0 | J36: 1150860 | T36: =SUM(O36:Q36) -> 0
A37: 문화관광 | B37: =C37+T37 -> 31390222 | C37: =SUM(D37:N37) -> 31390222 | D37: 31390222 | R37: 고양 | T37: =SUM(O37:Q37) -> 0
A38: 농림수산 | B38: =C38+T38 -> 51376869 | C38: =SUM(D38:N38) -> 51376869 | D38: 45478338 | E38: 5169298 | F38: 729233 | T38: =SUM(O38:Q38) -> 0
A39: 보건복지 | B39: =C39+T39 -> 77756436 | C39: =SUM(D39:N39) -> 62842667 | D39: 0 | E39: 49342454 | F39: 13460320 | G39: 39893 | O39: 14913769 | R39: 의료 | T39: =SUM(O39:Q39) -> 14913769
A40: 건설교통 | B40: =C40+T40 -> 123188985 | C40: =SUM(D40:N40) -> 91621985 | D40: 500000 | E40: 82334337 | F40: 8787648 | P40: 31567000 | R40: 유료,광역,임진강 | T40: =SUM(O40:Q40) -> 31567000
A41: 도시환경 | B41: =C41+T41 -> 64354229 | C41: =SUM(D41:N41) -> 64354229 | D41: 59767549 | E41: -59666 | F41: 3402269 | G41: 1244077 | R41: 팔당,고덕 | T41: =SUM(O41:Q41) -> 0
A42: 가족여성 | B42: =C42+T42 -> 95147035 | C42: =SUM(D42:N42) -> 95147035 | D42: 55969059 | E42: 23567979 | F42: 15609997 | R42: 학교 | T42: =SUM(O42:Q42) -> 0
A44: (2011년 3회추경) | C44: ※ 2회추경은 없음
A45: 위원회 | B45: 총 액 | C45: 일반회계(집행부확정) | D45: 실과별1 | E45: 실과2 | F45: 실과3 | G45: 실과4 | H45: 실과5 | I45: 실과6 | J45: 실과7 | K45: 실과8 | L45: 실과8 | M45: 실과8 | N45: 실과15 | O45: 특별1 | P45: 특별2 | Q45: 특별3 | R45: 비고 | T45: 계수조정
A46: 계 | B46: =SUM(B47:B56) -> 710224557 | C46: =SUM(C47:C56) -> 453077471 | D46: =SUM(D47:J56,T46) -> 710224557 | O46: =SUM(O47:Q56) -> 257147086 | T46: =SUM(T47:T56) -> 257147086
A47: 의회운영 | B47: =+C47+T47 -> 0 | C47: =SUM(D47:N47) -> 0 | D47: 0 | T47: =SUM(O47:Q47) -> 0
A48: 기 획 | B48: =+C48+T48 -> 118416040 | C48: =SUM(D48:N48) -> 4917485 | D48: 0 | E48: 0 | F48: 1075931 | G48: 3841554 | O48: 113498555 | R48: 지역개발 | T48: =SUM(O48:Q48) -> 113498555
A49: 경제투자 | B49: =+C49+T49 -> 132321865 | C49: =SUM(D49:N49) -> 4074800 | D49: 4374800 | E49: -300000 | O49: 128247065 | R49: 판교 | T49: =SUM(O49:Q49) -> 128247065
A50: 행정자치 | B50: =+C50+T50 -> 27691810 | C50: =SUM(D50:N50) -> 27691810 | D50: 1996702 | E50: 2403975 | F50: 21734056 | G50: 0 | H50: 0 | I50: 114213 | J50: 1442864 | T50: =SUM(O50:Q50) -> 0
A51: 문화관광 | B51: =+C51+T51 -> 8537377 | C51: =SUM(D51:N51) -> 8537377 | D51: 8537377 | R51: 고양 | T51: =SUM(O51:Q51) -> 0
A52: 농림수산 | B52: =+C52+T52 -> 50389320 | C52: =SUM(D52:N52) -> 50389320 | D52: 36071469 | E52: 13595865 | F52: 721986 | T52: =SUM(O52:Q52) -> 0
A53: 보건복지 | B53: =+C53+T53 -> 18574478 | C53: =SUM(D53:N53) -> 15698012 | D53: 400000 | E53: 10741429 | F53: 4532667 | G53: 23916 | O53: 2876466 | R53: 의료 | T53: =SUM(O53:Q53) -> 2876466
A54: 건설교통 | B54: =+C54+T54 -> 281458713 | C54: =SUM(D54:N54) -> 268933713 | D54: 1750000 | E54: 66470452 | F54: 200713261 | P54: 12800000 | Q54: -275000 | R54: 유료,광역,임진강 | T54: =SUM(O54:Q54) -> 12525000
A55: 도시환경 | B55: =+C55+T55 -> 69064484 | C55: =SUM(D55:N55) -> 69064484 | D55: 8132759 | E55: 29902036 | F55: 30379635 | G55: 650054 | R55: 팔당,고덕 | T55: =SUM(O55:Q55) -> 0
A56: 가족여성 | B56: =+C56+T56 -> 3770470 | C56: =SUM(D56:N56) -> 3770470 | D56: 1040619 | E56: -23149 | F56: 2753000 | R56: 학교 | T56: =SUM(O56:Q56) -> 0
A58: (2011년 마무리추경)
A59: 위원회 | B59: 총 액 | C59: 일반회계(집행부확정) | D59: 실과별1 | E59: 실과2 | F59: 실과3 | G59: 실과4 | H59: 실과5 | I59: 실과6 | J59: 실과7 | K59: 실과8 | L59: 실과8 | M59: 실과8 | N59: 실과15 | O59: 특별1 | P59: 특별2 | Q59: 특별3 | R59: 비고 | T59: 계수조정
A60: 계 | B60: =SUM(B61:B70) -> 0 | C60: =SUM(C61:C70) -> 0 | D60: =SUM(D61:J70,T60) -> 0 | O60: =SUM(O61:Q70) -> 0 | T60: =SUM(T61:T70) -> 0
A61: 의회운영 | B61: =+C61+T61 -> 0 | C61: =SUM(D61:N61) -> 0 | T61: =SUM(O61:Q61) -> 0
A62: 기 획 | B62: =+C62+T62 -> 0 | C62: =SUM(D62:N62) -> 0 | R62: 지역개발 | T62: =SUM(O62:Q62) -> 0
A63: 경제투자 | B63: =+C63+T63 -> 0 | C63: =SUM(D63:N63) -> 0 | R63: 판교 | T63: =SUM(O63:Q63) -> 0
A64: 행정자치 | B64: =+C64+T64 -> 0 | C64: =SUM(D64:N64) -> 0 | T64: =SUM(O64:Q64) -> 0
A65: 문화관광 | B65: =+C65+T65 -> 0 | C65: =SUM(D65:N65) -> 0 | R65: 고양 | T65: =SUM(O65:Q65) -> 0
A66: 농림수산 | B66: =+C66+T66 -> 0 | C66: =SUM(D66:N66) -> 0 | T66: =SUM(O66:Q66) -> 0
A67: 보건복지 | B67: =+C67+T67 -> 0 | C67: =SUM(D67:N67) -> 0 | R67: 의료 | T67: =SUM(O67:Q67) -> 0
A68: 건설교통 | B68: =+C68+T68 -> 0 | C68: =SUM(D68:N68) -> 0 | R68: 유료,광역,임진강 | T68: =SUM(O68:Q68) -> 0
A69: 도시환경 | B69: =+C69+T69 -> 0 | C69: =SUM(D69:N69) -> 0 | R69: 팔당,고덕 | T69: =SUM(O69:Q69) -> 0
A70: 가족여성 | B70: =+C70+T70 -> 0 | C70: =SUM(D70:N70) -> 0 | R70: 학교 | T70: =SUM(O70:Q70) -> 0
