Workbook

Sheet 총괄표
B1: 2011년도 제4회 추경 일반 및 특별회계 세입·세출 예산 수정안
B2: □ 총 괄
H3: (단위:천원) | N3: (일반+특별+기금)
B4: 구 분 | C4: 집행부제출(안) | D4: 세입예산(안) | F4: 세출예산(안) | H4: 예산수정(안) | I4: 일반회계 증감(총괄표) | K4: 예비비증감 | L4: 비 고 | M4: 전체 증감(시트) | O4: 비고
D5: 감 액 | E5: 증 액 | F5: 감 액 | G5: 증 액 | I5: 세입 | J5: 세출 | M5: 세입 | N5: 세출
B6: 합 계 | C6: =SUM(C7:C17) -> 15218137162 | D6: =SUM(D7:D17) -> 37508969 | E6: =SUM(E7:E17) -> 93221852 | F6: =SUM(F7:F17) -> 51004750 | G6: =SUM(G7:G17) -> 106717633 | H6: =SUM(H7:H17) -> 15273850045 | I6: =E24-D24 -> 55712883 | J6: =+G24-F24 -> 55712883 | K6: =+I6-J6 -> 0 | L6: 예비비 증감이 - 예산이면 감액에 + 예산이면 증액에 입력 | M6: =(세입_일반!H6-세입_일반!G6)+(세입_특별!G6-세입_특별!F6)+(세입_기금!F6-세입_기금!E6) -> 55712883 | N6: =+(세출_일반!H6-세출_일반!G6)+(세출_특별!G6-세출_특별!F6)+(세출_기금!F6-세출_기금!E6) -> 55712883 | O6: =+M6-I6 -> 0 | P6: =+N6-J6 -> 0
B7: 기 타 | H7: =C7-F7+G7 -> 0
B8: 운 영 위 | C8: 26449811 | D8: =SUMIF(세입_일반!A7:A104,"=의회운영위원회",세입_일반!G7:G104) -> 0 | E8: =SUMIF(세입_일반!A7:A104,"=의회운영위원회",세입_일반!H7:H104) -> 0 | F8: =SUMIF(세출_일반!A9:A144,"=의회운영위원회",세출_일반!G9:G144) -> 0 | G8: =SUMIF(세출_일반!A9:A144,"=의회운영위원회",세출_일반!H9:H144) -> 0 | H8: =C8-F8+G8 -> 26449811 | I8: 일반회계 증감(시트) | N8: 전체 증감
B9: 기 획 위 | C9: 4568180796 | D9: =SUMIF(세입_일반!A7:A104,"=기획위원회",세입_일반!G7:G104)+세입_특별!F25 -> 0 | E9: =SUMIF(세입_일반!A7:A104,"=기획위원회",세입_일반!H7:H104)+세입_특별!G25 -> 1700000 | F9: =SUMIF(세출_일반!A9:A144,"=기획위원회",세출_일반!G9:G144)+세출_특별!F25 -> 0 | G9: =SUMIF(세출_일반!A9:A144,"=기획위원회",세출_일반!H9:H144)+세출_특별!G25 -> 1700000 | H9: =C9-F9+G9 -> 4569880796 | I9: =세입_일반!F6 -> 55712883 | J9: =세출_일반!F6 -> 55712883 | N9: =+H6-C6 -> 55712883
B10: 경 제 위 | C10: 618072235 | D10: =SUMIF(세입_일반!A7:A104,"=경제투자위원회",세입_일반!G7:G104)+세입_특별!F28 -> 679721 | E10: =SUMIF(세입_일반!A7:A104,"=경제투자위원회",세입_일반!H7:H104)+세입_특별!G28 -> 190558 | F10: =SUMIF(세출_일반!A9:A144,"=경제투자위원회",세출_일반!G9:G144)+세출_특별!F28 -> 1059722 | G10: =SUMIF(세출_일반!A9:A144,"=경제투자위원회",세출_일반!H9:H144)+세출_특별!G28 -> 476558 | H10: =C10-F10+G10 -> 617489071
B11: 행 정 위 | C11: 1004680245 | D11: =SUMIF(세입_일반!A7:A104,"=행정자치위원회",세입_일반!G7:G104) -> 500000 | E11: =SUMIF(세입_일반!A7:A104,"=행정자치위원회",세입_일반!H7:H104) -> 13318370 | F11: =SUMIF(세출_일반!A9:A144,"=행정자치위원회",세출_일반!G9:G144) -> 500000 | G11: =SUMIF(세출_일반!A9:A144,"=행정자치위원회",세출_일반!H9:H144) -> 143500 | H11: =C11-F11+G11 -> 1004323745
B12: 문 광 위 | C12: 360251003 | D12: =SUMIF(세입_일반!A7:A104,"=문화체육관광위원회",세입_일반!G7:G104)+세입_특별!F31 -> 0 | E12: =SUMIF(세입_일반!A7:A104,"=문화체육관광위원회",세입_일반!H7:H104)+세입_특별!G31 -> 75000 | F12: =SUMIF(세출_일반!A9:A144,"=문화체육관광위원회",세출_일반!G9:G144)+세출_특별!F31 -> 0 | G12: =SUMIF(세출_일반!A9:A144,"=문화체육관광위원회",세출_일반!H9:H144)+세출_특별!G31 -> 75000 | H12: =C12-F12+G12 -> 360326003
B13: 농 림 위 | C13: 553002533 | D13: =SUMIF(세입_일반!A7:A104,"=농림수산위원회",세입_일반!G7:G104) -> 801633 | E13: =SUMIF(세입_일반!A7:A104,"=농림수산위원회",세입_일반!H7:H104) -> 1945271 | F13: =SUMIF(세출_일반!A9:A144,"=농림수산위원회",세출_일반!G9:G144) -> 827717 | G13: =SUMIF(세출_일반!A9:A144,"=농림수산위원회",세출_일반!H9:H144) -> 221146 | H13: =C13-F13+G13 -> 552395962
B14: 복 지 위 | C14: 2540520136 | D14: =SUMIF(세입_일반!A7:A104,"=보건복지공보위원회",세입_일반!G7:G104)+세입_특별!F7 -> 10250295 | E14: =SUMIF(세입_일반!A7:A104,"=보건복지공보위원회",세입_일반!H7:H104)+세입_특별!G7 -> 1598074 | F14: =SUMIF(세출_일반!A9:A144,"=보건복지공보위원회",세출_일반!G9:G144)+세출_특별!F7 -> 12206520 | G14: =SUMIF(세출_일반!A9:A144,"=보건복지공보위원회",세출_일반!H9:H144)+세출_특별!G7 -> 2385103 | H14: =C14-F14+G14 -> 2530698719
B15: 건 설 위 | C15: 1432979319 | D15: =SUMIF(세입_일반!A7:A104,"=건설교통위원회",세입_일반!G7:G104)+세입_특별!F13+세입_특별!F19+세입_특별!F22 -> 17556054 | E15: =SUMIF(세입_일반!A7:A104,"=건설교통위원회",세입_일반!H7:H104)+세입_특별!G13+세입_특별!G19+세입_특별!G22 -> 34114000 | F15: =SUMIF(세출_일반!A9:A144,"=건설교통위원회",세출_일반!G9:G144)+세출_특별!F13+세출_특별!F19+세출_특별!F22 -> 20020000 | G15: =SUMIF(세출_일반!A9:A144,"=건설교통위원회",세출_일반!H9:H144)+세출_특별!G13+세출_특별!G19+세출_특별!G22 -> 37364000 | H15: =C15-F15+G15 -> 1450323319
B16: 도 시 위 | C16: 971583139 | D16: =SUMIF(세입_일반!A7:A104,"=도시환경위원회",세입_일반!G7:G104)+세입_특별!F10+세입_특별!F34 -> 6883872 | E16: =SUMIF(세입_일반!A7:A104,"=도시환경위원회",세입_일반!H7:H104)+세입_특별!G10+세입_특별!G34 -> 6023000 | F16: =SUMIF(세출_일반!A9:A144,"=도시환경위원회",세출_일반!G9:G144)+세출_특별!F10+세출_특별!F34 -> 15273149 | G16: =SUMIF(세출_일반!A9:A144,"=도시환경위원회",세출_일반!H9:H144)+세출_특별!G10+세출_특별!G34 -> 14779500 | H16: =C16-F16+G16 -> 971089490
B17: 여가평위 | C17: 3142417945 | D17: =SUMIF(세입_일반!A7:A104,"=여성가족평생교육위원회",세입_일반!G7:G104)+세입_특별!F16 -> 837394 | E17: =SUMIF(세입_일반!A7:A104,"=여성가족평생교육위원회",세입_일반!H7:H104)+세입_특별!G16 -> 34257579 | F17: =SUMIF(세출_일반!A9:A144,"=여성가족평생교육위원회",세출_일반!G9:G144)+세출_특별!F16 -> 1117642 | G17: =SUMIF(세출_일반!A9:A144,"=여성가족평생교육위원회",세출_일반!H9:H144)+세출_특별!G16 -> 49572826 | H17: =C17-F17+G17 -> 3190873129
B19: □ 회계별 예산총규모
H20: (단위:천원)
B21: 구 분 | C21: 세출예산액 (집행부제출 안) | D21: 세입예산(안) | F21: 세출예산(안) | H21: 예산수정(안)
D22: 감 액 | E22: 증 액 | F22: 감 액 | G22: 증 액 | I22: 세입기준 수정예산(안)
B23: 합 계 | C23: =SUM(C24:C25) -> 15218137162 | D23: =SUM(D24:D25) -> 37508969 | E23: =SUM(E24:E25) -> 93221852 | F23: =SUM(F24:F25) -> 51004750 | G23: =SUM(G24:G25) -> 106717633 | H23: =SUM(H24:H25) -> 15273850045 | I23: =+C23+E23-D23 -> 15273850045 | J23: =I23-H23 -> 0 | K23: (세출기준-세입기준)
B24: 일반회계 | C24: 12199451177 | D24: =+세입_일반!G6 -> 37508969 | E24: =+세입_일반!H6 -> 93221852 | F24: =+세출_일반!G6 -> 51004750 | G24: =+세출_일반!H6 -> 106717633 | H24: =+C24+G24-F24 -> 12255164060 | I24: =+C24+E24-D24 -> 12255164060 | J24: =I24-H24 -> 0 | K24: (세출기준-세입기준)
B25: 특별회계 | C25: 3018685985 | D25: =세입_특별!F6 -> 0 | E25: =세입_특별!G6 -> 0 | F25: =세출_특별!F6 -> 0 | G25: =세출_특별!G6 -> 0 | H25: =+C25+G25-F25 -> 3018685985 | I25: =+C25+E25-D25 -> 3018685985 | J25: =I25-H25 -> 0 | K25: (세출기준-세입기준)
A76: 가족여성정책국
F78: 0

Sheet 세입_일반
A1: 2011년도 제4회 추경 일반회계 세입 예산 수정안
B2: □ 세입예산(일반회계)
I3: (단위:천원)
A4: 실국명 | B4: 명세서 페이지 | C4: 사업명 | D4: 예산안 | E4: 조정예산안 | F4: 조정액 | I4: 비 고
F5: 계 | G5: 감액 | H5: 증액 | J5: 국비
A6: 계 | D6: =SUM(D7:D102)/2 -> 2622332054 | E6: =SUM(E7:E102)/2 -> 2678044937 | F6: =SUM(F7:F102)/2 -> 55712883 | G6: =SUM(G7:G102)/2 -> 37508969 | H6: =SUM(H7:H102)/2 -> 93221852 | J6: =SUM(J7:J102) -> 42883480
A7: 의회운영위원회 | C7: 의회운영위원회 | D7: =SUM(D8:D9) -> 0 | E7: =SUM(E8:E9) -> 0 | F7: =SUM(F8:F9) -> 0 | G7: =SUM(G8:G9) -> 0 | H7: =SUM(H8:H9) -> 0
E8: =D8+F8 -> 0 | F8: =H8-G8 -> 0
E9: =D9+F9 -> 0 | F9: =H9-G9 -> 0
A10: 기획위원회 | C10: 기획위원회 | D10: =SUM(D11:D12) -> 0 | E10: =SUM(E11:E12) -> 1700000 | F10: =SUM(F11:F12) -> 1700000 | G10: =SUM(G11:G12) -> 0 | H10: =SUM(H11:H12) -> 1700000
A11: 기획조정실 | C11: U-시범도시 지원 | E11: =D11+F11 -> 1700000 | F11: =H11-G11 -> 1700000 | H11: 1700000 | J11: 1700000
E12: =D12+F12 -> 0 | F12: =H12-G12 -> 0
A13: 경제투자위원회 | C13: 경제투자위원회 | D13: =SUM(D14:D17) -> 4776613 | E13: =SUM(E14:E17) -> 4287450 | F13: =SUM(F14:F17) -> -489163 | G13: =SUM(G14:G17) -> 679721 | H13: =SUM(H14:H17) -> 190558
A14: 경제투자실 | B14: 244 | C14: 경제정책과 국비사용잔액 | D14: 32721 | E14: =D14+F14 -> 0 | F14: =H14-G14 -> -32721 | G14: 32721
A15: 경제투자실 | B15: 244 | C15: 소상공인지원센터 운영(광특) | D15: -650108 | E15: =D15+F15 -> -459550 | F15: =H15-G15 -> 190558 | G15: 0 | H15: 190558 | J15: 190558
A16: 경제투자실 | B16: 당초 50 | C16: 신재생에너지 보급사업 | D16: 5394000 | E16: =D16+F16 -> 4747000 | F16: =H16-G16 -> -647000 | G16: 647000 | I16: 국비변경내시 | J16: -647000
E17: =D17+F17 -> 0 | F17: =H17-G17 -> 0
A18: 행정자치위원회 | C18: 행정자치위원회 | D18: =SUM(D19:D23) -> 149725522 | E18: =SUM(E19:E23) -> 162543892 | F18: =SUM(F19:F23) -> 12818370 | G18: =SUM(G19:G23) -> 500000 | H18: =SUM(H19:H23) -> 13318370
A19: 자치행정국 | B19: 당초 50 | C19: 국외강제동원 희생자 지원 | D19: 225522 | E19: =D19+F19 -> 269022 | F19: =H19-G19 -> 43500 | H19: 43500 | I19: 국비추가내시 | J19: 43500
A20: 소방재난본부 | B20: 3회추경 55 | C20: 저소득층 밀집지역 안전환경 개선사업 | D20: 500000 | E20: =D20+F20 -> 0 | F20: =H20-G20 -> -500000 | G20: 500000 | I20: 국비변경내시 | J20: -500000
A21: 비상기획관 | B21: 신규 | C21: 재난관리 우수지자체 지원 | E21: =D21+F21 -> 100000 | F21: =H21-G21 -> 100000 | H21: 100000 | I21: 국비추가내시 | J21: 100000
A22: 자치행정국 | B22: 당초 37 | C22: 지역자원시설세(지방세수입) | D22: 149000000 | E22: =D22+F22 -> 162174870 | F22: =H22-G22 -> 13174870 | H22: 13174870
E23: =D23+F23 -> 0 | F23: =H23-G23 -> 0
A24: 문화체육관광위원회 | C24: 문화체육관광위원회 | D24: =SUM(D25:D27) -> 0 | E24: =SUM(E25:E27) -> 75000 | F24: =SUM(F25:F27) -> 75000 | G24: =SUM(G25:G27) -> 0 | H24: =SUM(H25:H27) -> 75000
A25: 문화관광국 | C25: 문화를 통한 전통시장 활성화 | E25: =D25+F25 -> 75000 | F25: =H25-G25 -> 75000 | H25: 75000 | J25: 75000
E26: =D26+F26 -> 0 | F26: =H26-G26 -> 0
E27: =D27+F27 -> 0 | F27: =H27-G27 -> 0
A28: 농림수산위원회 | C28: 농림수산위원회 | D28: =SUM(D29:D38) -> 7743001 | E28: =SUM(E29:E38) -> 8886639 | F28: =SUM(F29:F38) -> 1143638 | G28: =SUM(G29:G38) -> 801633 | H28: =SUM(H29:H38) -> 1945271
A29: 농정국 | B29: 3회추경 42 | C29: 농산유통과 국비사용잔액 | D29: 4470 | E29: =D29+F29 -> 4879 | F29: =H29-G29 -> 409 | G29: 0 | H29: 409 | I29: 2010년도 국비사용잔액
A30: 농정국 | B30: 3회추경 53 | C30: 논 소득기반 다양화 | D30: 5314286 | E30: =D30+F30 -> 4914042 | F30: =H30-G30 -> -400244 | G30: 400244 | I30: 국비변경내시 | J30: -400244
A31: 농정국 | B31: 당초 64 | C31: 도축검사보조원 인건비 | D31: 477360 | E31: =D31+F31 -> 462540 | F31: =H31-G31 -> -14820 | G31: 14820 | I31: 국비변경내시 | J31: -14820
A32: 농정국 | B32: 당초 64 | C32: 축산종합지도지원 | D32: 136500 | E32: =D32+F32 -> 133500 | F32: =H32-G32 -> -3000 | G32: 3000 | I32: 국비변경내시 | J32: -3000
A33: 농정국 | B33: 신규 | C33: 가축분뇨공동자원화사업 반납금 (용인시) | D33: 0 | E33: =D33+F33 -> 1769999 | F33: =H33-G33 -> 1769999 | H33: 1769999 | I33: 용인시 사업포기에 따른 반납금
A34: 농정국 | C34: 농어업인 영유아양육비 지원 | D34: -462000 | E34: =D34+F34 -> -331285 | F34: =H34-G34 -> 130715 | H34: 130715 | I34: 국비변경내시 | J34: 130715
A35: 농정국 | C35: 친환경농업직접지불 | D35: 1193425 | E35: =D35+F35 -> 860856 | F35: =H35-G35 -> -332569 | G35: 332569 | I35: 국비변경내시 | J35: -332569
A36: 농정국 | C36: 녹비작물 종자대 공급 | D36: 595550 | E36: =D36+F36 -> 544550 | F36: =H36-G36 -> -51000 | G36: 51000 | I36: 국비변경내시 | J36: -51000
A37: 농정국 | C37: 친환경안전축산직접지불제 | D37: 483410 | E37: =D37+F37 -> 527558 | F37: =H37-G37 -> 44148 | H37: 44148 | I37: 국비변경내시 | J37: 44148
E38: =D38+F38 -> 0 | F38: =H38-G38 -> 0
A39: 보건복지공보위원회 | C39: 보건복지공보위원회 | D39: =SUM(D40:D60) -> 1376507114 | E39: =SUM(E40:E60) -> 1367854893 | F39: =SUM(F40:F60) -> -8652221 | G39: =SUM(G40:G60) -> 10250295 | H39: =SUM(H40:H60) -> 1598074
A40: 보건복지국 | B40: 3회추경 53 | C40: 자활지원 | D40: 44854745 | E40: =D40+F40 -> 43683000 | F40: =H40-G40 -> -1171745 | G40: 1171745 | I40: 국비변경내시 | J40: -1171745
A41: 보건복지국 | B41: 신규 | C41: 지역사회복지사업 | D41: 0 | E41: =D41+F41 -> 40000 | F41: =H41-G41 -> 40000 | H41: 40000 | I41: 국비추가내시 | J41: 40000
A42: 보건복지국 | B42: 3회추경 53 | C42: 생계급여 | D42: 370740168 | E42: =D42+F42 -> 368658029 | F42: =H42-G42 -> -2082139 | G42: 2082139 | I42: 국비변경내시 | J42: -2082139
A43: 보건복지국 | B43: 3회추경 53 | C43: 주거급여 | D43: 84320971 | E43: =D43+F43 -> 83060012 | F43: =H43-G43 -> -1260959 | G43: 1260959 | I43: 국비변경내시 | J43: -1260959
A44: 보건복지국 | B44: 당초 313 | C44: 교육급여 | D44: 17904014 | E44: =D44+F44 -> 16357620 | F44: =H44-G44 -> -1546394 | G44: 1546394 | I44: 국비변경내시 | J44: -1546394
A45: 보건복지국 | B45: 53 | C45: 해산장제급여 | D45: 2290178 | E45: =D45+F45 -> 2164781 | F45: =H45-G45 -> -125397 | G45: 125397 | I45: 국비변경내시 | J45: -125397
A46: 보건복지국 | B46: 당초 20 | C46: 긴급복지 지원 | D46: 11820293 | E46: =D46+F46 -> 10907231 | F46: =H46-G46 -> -913062 | G46: 913062 | I46: 국비변경내시 | J46: -913062
A47: 보건복지국 | B47: 1회추경41 | C47: 장사시설 설치 | D47: 10098660 | E47: =D47+F47 -> 10326790 | F47: =H47-G47 -> 228130 | H47: 228130 | I47: 국비변경내시 | J47: 228130
A48: 보건복지국 | B48: 1회추경 44 | C48: 학대피해노인전용쉼터지원사업 | D48: 282498 | E48: =D48+F48 -> 246979 | F48: =H48-G48 -> -35519 | G48: 35519 | I48: 국비변경내시 | J48: -35519
A49: 보건복지국 | B49: 320 | C49: 장애아동가족지원 | D49: 11770776 | E49: =D49+F49 -> 11063832 | F49: =H49-G49 -> -706944 | G49: 706944 | I49: 국비변경내시 | J49: -706944
A50: 보건복지국 | B50: 58 | C50: 산모건강관리 | D50: 8979013 | E50: =D50+F50 -> 9389013 | F50: =H50-G50 -> 410000 | H50: 410000 | I50: 국비변경내시 | J50: 410000
A51: 보건복지국 | B51: 321 | C51: 보건정책과 국비사용잔액 | D51: 145573 | E51: =D51+F51 -> 209007 | F51: =H51-G51 -> 63434 | H51: 63434 | I51: 본청,북부청간 중복 조정
A52: 보건복지국 | B52: 321 | C52: 보건정책과 도비사용잔액 | D52: 1558924 | E52: =D52+F52 -> 1930705 | F52: =H52-G52 -> 371781 | H52: 371781 | I52: 본청,북부청간 중복 조정
A53: 보건복지국 | B53: 321 | C53: 보건정책과 국비 민간이전사용잔액 | D53: 298008 | E53: =D53+F53 -> 224834 | F53: =H53-G53 -> -73174 | G53: 73174 | I53: 본청,북부청간 중복 조정
A54: 보건복지국 | B54: 321 | C54: 보건정책과 도비 민간이전사용잔액 | D54: 48049 | E54: =D54+F54 -> 58778 | F54: =H54-G54 -> 10729 | H54: 10729 | I54: 본청,북부청간 중복 조정
A55: 보건복지국 | B55: 3회추경 54 | C55: 기초노령연금 | D55: 415808893 | E55: =D55+F55 -> 414973931 | F55: =H55-G55 -> -834962 | G55: 834962 | I55: 국비변경내시 | J55: -834962
A56: 보건복지국 | B56: 상임위 | C56: 생계급여 | D56: 368658029 | E56: =D56+F56 -> 368358029 | F56: =H56-G56 -> -300000 | G56: 300000 | I56: 국비변경내시 | J56: -300000
A57: 보건복지국 | B57: 3회추경 53 | C57: 기초수급자 정부양곡 할인지원 | D57: 11685294 | E57: =D57+F57 -> 10485294 | F57: =H57-G57 -> -1200000 | G57: 1200000 | I57: 국비변경내시 | J57: -1200000
A58: 보건복지국 | B58: 320 | C58: 장애수당 | D58: 15203028 | E58: =D58+F58 -> 15383028 | F58: =H58-G58 -> 180000 | H58: 180000 | I58: 국비변경내시 | J58: 180000
A59: 보건복지국 | B59: 상임위 | C59: 지역사회복지사업 ->복지정책평가(사업명변경) | D59: 40000 | E59: =D59+F59 -> 334000 | F59: =H59-G59 -> 294000 | H59: 294000 | J59: 294000
E60: =D60+F60 -> 0 | F60: =H60-G60 -> 0
A61: 건설교통위원회 | C61: 건설교통위원회 | D61: =SUM(D62:D71) -> 168164603 | E61: =SUM(E62:E71) -> 184722549 | F61: =SUM(F62:F71) -> 16557946 | G61: =SUM(G62:G71) -> 17556054 | H61: =SUM(H62:H71) -> 34114000
A62: 교통건설국 | B62: 352 | C62: 자유로 휴게소운영 임대수입 | D62: 396603 | E62: =D62+F62 -> 360549 | F62: =H62-G62 -> -36054 | G62: 36054 | I62: 자유로 휴게소 세입 감액 (공유재산임대료)
A63: 교통건설국 | B63: 당초 58 | C63: 국도대체우회도로 개설사업 | D63: 17245000 | E63: =D63+F63 -> 12500000 | F63: =H63-G63 -> -4745000 | G63: 4745000 | I63: 국비변경내시 | J63: -4745000
A64: 교통건설국 | B64: 당초 62 | C64: 광역도로개설사업 | D64: 56500000 | E64: =D64+F64 -> 51000000 | F64: =H64-G64 -> -5500000 | G64: 5500000 | I64: 국비변경내시 | J64: -5500000
A65: 교통건설국 | B65: 당초 62 | C65: 국가지원지방도 확포장사업 | D65: 73584000 | E65: =D65+F65 -> 69439000 | F65: =H65-G65 -> -4145000 | G65: 4145000 | I65: 국비변경내시 | J65: -4145000
A66: 교통건설국 | B66: 당초 67 | C66: 의정부 동부간선도로 | D66: 1600000 | E66: =D66+F66 -> 700000 | F66: =H66-G66 -> -900000 | G66: 900000 | I66: ※ 기정예산액 1,600,000천원(지역개발기금시도융자금수입)
A67: 교통건설국 | B67: 당초 67 | C67: 김포 원당~태리 | D67: 1500000 | E67: =D67+F67 -> 0 | F67: =H67-G67 -> -1500000 | G67: 1500000 | I67: ※ 기정예산액 1,500,000천원(지역개발기금시도융자금수입)
A68: 교통건설국 | B68: 3회추경 43 | C68: 서운~안성 도로확포장(경기도시공사) | D68: 4839000 | E68: =D68+F68 -> 4109000 | F68: =H68-G68 -> -730000 | G68: 730000 | I68: 건설본부 도로건설과-20894('11.11.25) 경기도시공사 부담금 감액
A69: 건설본부 | B69: 신규 | C69: 수해복구사업 | E69: =D69+F69 -> 26114000 | F69: =H69-G69 -> 26114000 | H69: 26114000 | I69: ※ 특별교부세 추가내시 | J69: 26114000
A70: 교통건설국 | B70: 상임위 | C70: 국도대체우회도로 개설사업 | D70: 12500000 | E70: =D70+F70 -> 20500000 | F70: =H70-G70 -> 8000000 | H70: 8000000 | J70: 8000000
E71: =D71+F71 -> 0 | F71: =H71-G71 -> 0
A72: 도시환경위원회 | C72: 도시환경위원회 | D72: =SUM(D73:D83) -> 313518076 | E72: =SUM(E73:E83) -> 312657204 | F72: =SUM(F73:F83) -> -860872 | G72: =SUM(G73:G83) -> 6883872 | H72: =SUM(H73:H83) -> 6023000
A73: 도시환경국 | B73: 3회추경 44 | C73: 부동산개발업 위반 및 측량업 위반 과태료 | D73: 39670 | E73: =D73+F73 -> 20204 | F73: =H73-G73 -> -19466 | G73: 19466 | I73: 과태료 미수납액 반영
A74: 도시환경국 | B74: 397 | C74: 재산매각 수입 | D74: 352406 | E74: =D74+F74 -> 0 | F74: =H74-G74 -> -352406 | G74: 352406
A75: 팔당수질개선본부 | B75: 당초 59 | C75: 농어촌마을하수도정비 | D75: 6403000 | E75: =D75+F75 -> 5514000 | F75: =H75-G75 -> -889000 | G75: 889000 | I75: 국비변경내시 | J75: -889000
A76: 팔당수질개선본부 | B76: 1회추경 43 | C76: 하수처리수 재이용 | D76: 8176000 | E76: =D76+F76 -> 6742000 | F76: =H76-G76 -> -1434000 | G76: 1434000 | I76: 국비변경내시 | J76: -1434000
A77: 팔당수질개선본부 | B77: 1회추경 43 | C77: 하수관거정비(BTL) 사업 임대료 지급 | D77: 5574000 | E77: =D77+F77 -> 4314000 | F77: =H77-G77 -> -1260000 | G77: 1260000 | I77: 국비변경내시 | J77: -1260000
A78: 팔당수질개선본부 | B78: 3회추경 51 | C78: 가축매몰지 상수도보급 | D78: 5284000 | E78: =D78+F78 -> 7111000 | F78: =H78-G78 -> 1827000 | H78: 1827000 | I78: 특별교부세 변경내시 | J78: 1827000
A79: 팔당수질개선본부 | B79: 3회추경 56 | C79: 하수처리장 확충 | D79: 149894000 | E79: =D79+F79 -> 152472000 | F79: =H79-G79 -> 2578000 | H79: 2578000 | I79: 국비변경내시 | J79: 2578000
A80: 팔당수질개선본부 | B80: 3회추경 56 | C80: 하수관거정비 | D80: 90348000 | E80: =D80+F80 -> 91966000 | F80: =H80-G80 -> 1618000 | H80: 1618000 | I80: 국비변경내시 | J80: 1618000
A81: 팔당수질개선본부 | B81: 379 | C81: 생태하천복원사업 | D81: 23942000 | E81: =D81+F81 -> 23505000 | F81: =H81-G81 -> -437000 | G81: 437000 | I81: 국비변경내시 | J81: -437000
A82: 팔당수질개선본부 | B82: 상임위 | C82: 생태하천복원사업 | D82: 23505000 | E82: =D82+F82 -> 21013000 | F82: =H82-G82 -> -2492000 | G82: 2492000 | J82: -2492000
E83: =D83+F83 -> 0 | F83: =H83-G83 -> 0
A84: 여성가족평생교육위원회 | C84: 여성가족평생교육위원회 | D84: =SUM(D85:D102) -> 601897125 | E84: =SUM(E85:E102) -> 635317310 | F84: =SUM(F85:F102) -> 33420185 | G84: =SUM(G85:G102) -> 837394 | H84: =SUM(H85:H102) -> 34257579
A85: 여성가족국 | B85: 1회추경42 | C85: 청소년산모 임신출산 의료비 지원사업 (국비) (여성가족과) | D85: 100200 | E85: =D85+F85 -> 25000 | F85: =H85-G85 -> -75200 | G85: 75200 | I85: 국비변경내시 | J85: -75200
A86: 여성가족국 | B86: 3회추경 55 | C86: 장애아동입양양육보조금 (아동청소년과) | D86: 340655 | E86: =D86+F86 -> 341000 | F86: =H86-G86 -> 345 | H86: 345 | I86: 국비변경내시 | J86: 345
A87: 여성가족국 | B87: 3회추경 55 | C87: 입양수수료 지원 (아동청소년과) | D87: 287798 | E87: =D87+F87 -> 332430 | F87: =H87-G87 -> 44632 | H87: 44632 | I87: 국비변경내시 | J87: 44632
A88: 여성가족국 | B88: 3회추경 55 | C88: 입양아동양육수당지원 (아동청소년과) | D88: 1732270 | E88: =D88+F88 -> 2013200 | F88: =H88-G88 -> 280930 | H88: 280930 | I88: 국비변경내시 | J88: 280930
A89: 여성가족국 | B89: 3회추경 55 | C89: 국고보조금 공공형 보육시설 (보육정책과) | D89: 1616947 | E89: =D89+F89 -> 1350435 | F89: =H89-G89 -> -266512 | G89: 266512 | I89: 국비변경내시 | J89: -266512
A90: 여성가족국 | B90: 1회추경42 | C90: 국고보조금 보육시설 환경개선비 (보육정책과) | D90: 846313 | E90: =D90+F90 -> 842608 | F90: =H90-G90 -> -3705 | G90: 3705 | I90: 국비변경내시 | J90: -3705
A91: 여성가족국 | C91: 보육정책과 도비사용잔액 | D91: 2846139 | E91: =D91+F91 -> 2943495 | F91: =H91-G91 -> 97356 | H91: 97356
A92: 여성가족국 | C92: 보육정책과 기타이자수입 | D92: 0 | E92: =D92+F92 -> 974445 | F92: =H92-G92 -> 974445 | H92: 974445
A93: 복지여성실 | C93: 가족여성담당관 도비사용잔액 | D93: 201984 | E93: =D93+F93 -> 205282 | F93: =H93-G93 -> 3298 | H93: 3298
A94: 복지여성실 | C94: 가족여성담당관 도비이자수입 | D94: 400 | E94: =D94+F94 -> 478 | F94: =H94-G94 -> 78 | H94: 78
A95: 복지여성실 | C95: 보육청소년담당관 기타잡수입 | D95: 0 | E95: =D95+F95 -> 208 | F95: =H95-G95 -> 208 | H95: 208
A96: 복지여성실 | C96: 사회복지담당관 도비사용잔액 | D96: 3381583 | E96: =D96+F96 -> 3387978 | F96: =H96-G96 -> 6395 | H96: 6395
A97: 복지여성실 | C97: 보건위생담당관 민간이전 이자수입 | D97: 396 | E97: =D97+F97 -> 618 | F97: =H97-G97 -> 222 | H97: 222
A98: 여성가족국 | C98: 저소득 한부모 가족지원 | D98: 19171278 | E98: =D98+F98 -> 18679301 | F98: =H98-G98 -> -491977 | G98: 491977 | I98: 국비변경내시 | J98: -491977
A99: 여성가족국 | C99: 보육돌봄서비스 | D99: 64073555 | E99: =D99+F99 -> 68628225 | F99: =H99-G99 -> 4554670 | H99: 4554670 | I99: 국비변경내시 | J99: 4554670
A100: 여성가족국 | C100: 영유아보육료지원 | D100: 490810811 | E100: =D100+F100 -> 517971811 | F100: =H100-G100 -> 27161000 | H100: 27161000 | I100: 국비변경내시 | J100: 27161000
...

Sheet 세출_일반
A1: 2011년도 제4회 추경 일반회계 세출 예산 수정안
B2: □ 세출예산(일반회계)
I3: (단위:천원)
A4: 실국명 | B4: 명세서 페이지 | C4: 사업명 | D4: 예산안 | E4: 조정예산안 | F4: 조정액 | I4: 비 고 | K4: =세입_일반!J6 -> 42883480 | L4: =K4-K6 -> 0
F5: 계 | G5: 감액 | H5: 증액 | J5: 계 | K5: 국비 | L5: 도비
A6: 계 | D6: =SUM(D7:D142)/2 -> 2745085732 | E6: =SUM(E7:E142)/2 -> 2800798615 | F6: =SUM(F7:F142)/2 -> 55712883 | G6: =SUM(G7:G142)/2 -> 51004750 | H6: =SUM(H7:H142)/2 -> 106717633 | J6: =F6 -> 55712883 | K6: =SUM(K9:K141)/2 -> 42883480 | L6: =J6-K6 -> 12829403
A7: 기타 | C7: 기타 | D7: =SUM(D8:D8) -> 0 | E7: =SUM(E8:E8) -> 0 | F7: =SUM(F8:F8) -> 0 | G7: =SUM(G8:G8) -> 0 | H7: =SUM(H8:H8) -> 0 | J7: =F7 -> 0 | L7: =J7-K7 -> 0
E8: =D8+F8 -> 0 | F8: =H8-G8 -> 0 | J8: =F8 -> 0 | L8: =J8-K8 -> 0
A9: 의회운영위원회 | C9: 의회운영위원회 | D9: =SUM(D10:D12) -> 0 | E9: =SUM(E10:E12) -> 0 | F9: =SUM(F10:F12) -> 0 | G9: =SUM(G10:G12) -> 0 | H9: =SUM(H10:H12) -> 0 | J9: =F9 -> 0 | K9: =SUM(K10:K12) -> 0 | L9: =J9-K9 -> 0
A10: 의회사무처 | B10: 신규 | C10: 승객용 승강기 교체공사 | E10: =D10+F10 -> 0 | F10: =H10-G10 -> 0 | J10: =F10 -> 0 | L10: =J10-K10 -> 0
A11: 의회사무처 | B11: 신규 | C11: LED 조명등 교체공사 | E11: =D11+F11 -> 0 | F11: =H11-G11 -> 0 | J11: =F11 -> 0 | L11: =J11-K11 -> 0
E12: =D12+F12 -> 0 | F12: =H12-G12 -> 0 | J12: =F12 -> 0 | L12: =J12-K12 -> 0
A13: 기획위원회 | C13: 기획위원회 | D13: =SUM(D14:D16) -> 0 | E13: =SUM(E14:E16) -> 1700000 | F13: =SUM(F14:F16) -> 1700000 | G13: =SUM(G14:G16) -> 0 | H13: =SUM(H14:H16) -> 1700000 | J13: =F13 -> 1700000 | K13: =SUM(K14:K16) -> 1700000 | L13: =J13-K13 -> 0
A14: 기획조정실 | C14: U-시범도시 지원 | E14: =D14+F14 -> 1700000 | F14: =H14-G14 -> 1700000 | H14: 1700000 | J14: =F14 -> 1700000 | K14: 1700000 | L14: =J14-K14 -> 0
E15: =D15+F15 -> 0 | F15: =H15-G15 -> 0 | J15: =F15 -> 0 | L15: =J15-K15 -> 0
A16: 예산담당관 | B16: 233 | C16: 예비비 | E16: =D16+F16 -> 0 | F16: =H16-G16 -> 0 | J16: =F16 -> 0 | L16: =J16-K16 -> 0
A17: 경제투자위원회 | C17: 경제투자위원회 | D17: =SUM(D18:D22) -> 3793514 | E17: =SUM(E18:E22) -> 3210350 | F17: =SUM(F18:F22) -> -583164 | G17: =SUM(G18:G22) -> 1059722 | H17: =SUM(H18:H22) -> 476558 | J17: =F17 -> -583164 | K17: =SUM(K18:K22) -> -456442 | L17: =J17-K17 -> -126722
A18: 경제투자실 | B18: 247 | C18: 소상공인지원센터 운영(광특/직접) | D18: -650108 | E18: =D18+F18 -> -459550 | F18: =H18-G18 -> 190558 | G18: 0 | H18: 190558 | J18: =F18 -> 190558 | K18: 190558 | L18: =J18-K18 -> 0
A19: 경제투자실 | B19: 248 | C19: 재무활동(경제정책과) 반환금 기타 | D19: 32722 | E19: =D19+F19 -> 0 | F19: =H19-G19 -> -32722 | G19: 32722 | H19: 0 | J19: =F19 -> -32722 | L19: =J19-K19 -> -32722
A20: 경제투자실 | B20: 신규 | C20: 신재생에너지보급사업(국비/직접) | D20: 0 | E20: =D20+F20 -> 286000 | F20: =H20-G20 -> 286000 | G20: 0 | H20: 286000 | J20: =F20 -> 286000 | K20: 192000 | L20: =J20-K20 -> 94000
A21: 경제투자실 | B21: 당초 130 | C21: 신재생에너지보급사업(국비/지원) | D21: 4410900 | E21: =D21+F21 -> 3383900 | F21: =H21-G21 -> -1027000 | G21: 1027000 | H21: 0 | J21: =F21 -> -1027000 | K21: -839000 | L21: =J21-K21 -> -188000
E22: =D22+F22 -> 0 | F22: =H22-G22 -> 0 | J22: =F22 -> 0 | L22: =J22-K22 -> 0
A23: 행정자치위원회 | C23: 행정자치위원회 | D23: =SUM(D24:D27) -> 0 | E23: =SUM(E24:E27) -> -356500 | F23: =SUM(F24:F27) -> -356500 | G23: =SUM(G24:G27) -> 500000 | H23: =SUM(H24:H27) -> 143500 | J23: =F23 -> -356500 | K23: =SUM(K24:K27) -> -356500 | L23: =J23-K23 -> 0
A24: 자치행정국 | B24: 당초 168 | C24: 국외강제동원 희생자 지원 | E24: =D24+F24 -> 43500 | F24: =H24-G24 -> 43500 | H24: 43500 | I24: 국비추가내시 | J24: =F24 -> 43500 | K24: 43500 | L24: =J24-K24 -> 0
A25: 소방재난본부 | B25: 3회추경 177 | C25: 저소득층 밀집지역 안전환경 개선사업 (국비/지원) -> (자체/지원) | E25: =D25+F25 -> -500000 | F25: =H25-G25 -> -500000 | G25: 500000 | I25: 국비변경내시 국비 -> 자체 사업으로 변경 | J25: =F25 -> -500000 | K25: -500000 | L25: =J25-K25 -> 0
A26: 비상기획관 | B26: 신규 | C26: 재난관리 우수지자체 지원 | E26: =D26+F26 -> 100000 | F26: =H26-G26 -> 100000 | H26: 100000 | I26: 국비추가내시 | J26: =F26 -> 100000 | K26: 100000 | L26: =J26-K26 -> 0
E27: =D27+F27 -> 0 | F27: =H27-G27 -> 0 | J27: =F27 -> 0 | L27: =J27-K27 -> 0
A28: 문화체육관광위원회 | C28: 문화체육관광위원회 | D28: =SUM(D29:D30) -> 0 | E28: =SUM(E29:E30) -> 75000 | F28: =SUM(F29:F30) -> 75000 | G28: =SUM(G29:G30) -> 0 | H28: =SUM(H29:H30) -> 75000 | J28: =F28 -> 75000 | K28: =SUM(K29:K30) -> 75000 | L28: =J28-K28 -> 0
A29: 문화체육관광국 | C29: 문화를 통한 전통시장 활성화 시범사업 | E29: =D29+F29 -> 75000 | F29: =H29-G29 -> 75000 | H29: 75000 | J29: =F29 -> 75000 | K29: 75000 | L29: =J29-K29 -> 0
E30: =D30+F30 -> 0 | F30: =H30-G30 -> 0 | J30: =F30 -> 0 | L30: =J30-K30 -> 0
A31: 농림수산위원회 | C31: 농림수산위원회 | D31: =SUM(D32:D42) -> 8037900 | E31: =SUM(E32:E42) -> 7431329 | F31: =SUM(F32:F42) -> -606571 | G31: =SUM(G32:G42) -> 827717 | H31: =SUM(H32:H42) -> 221146 | J31: =F31 -> -606571 | K31: =SUM(K32:K42) -> -626770 | L31: =J31-K31 -> 20199
A32: 농정국 | B32: 3회추경 97 | C32: 논 소득기반 다양화 | D32: 5314286 | E32: =D32+F32 -> 4914042 | F32: =H32-G32 -> -400244 | G32: 400244 | I32: 국비 변경내시분 반영 - 국비 △400,244 | J32: =F32 -> -400244 | K32: -400244 | L32: =J32-K32 -> 0
A33: 농정국 | B33: 3회추경 100 | C33: 국비사용잔액 | D33: 4471 | E33: =D33+F33 -> 4880 | F33: =H33-G33 -> 409 | G33: 0 | H33: 409 | I33: 2010년도 국비사용잔액 | J33: =F33 -> 409 | K33: 0 | L33: =J33-K33 -> 409
A34: 농정국 | B34: 당초 258 | C34: 도축검사보조원 인건비 | D34: 795600 | E34: =D34+F34 -> 770900 | F34: =H34-G34 -> -24700 | G34: 24700 | I34: 국비 변경내시분 반영 - 국비 △14,820 - 도비 △9,880 | J34: =F34 -> -24700 | K34: -14820 | L34: =J34-K34 -> -9880
A35: 경제농정국 | B35: 당초 869 | C35: 축산종합지도지원사업 | D35: 62400 | E35: =D35+F35 -> 58500 | F35: =H35-G35 -> -3900 | G35: 3900 | I35: 국비 변경내시분 반영 - 국비 △3,000 - 도비 △900 | J35: =F35 -> -3900 | K35: -3000 | L35: =J35-K35 -> -900
A36: 농정국 | C36: 농어업인 영유아양육비 지원 | D36: -589907 | E36: =D36+F36 -> -413318 | F36: =H36-G36 -> 176589 | H36: 176589 | I36: 국비변경내시 | J36: =F36 -> 176589 | K36: 130715 | L36: =J36-K36 -> 45874
A37: 농정국 | C37: 친환경농업직접지불 | D37: 759400 | E37: =D37+F37 -> 559281 | F37: =H37-G37 -> -200119 | G37: 200119 | I37: 국비변경내시 | J37: =F37 -> -200119 | K37: -200119 | L37: =J37-K37 -> 0
A38: 경제농정국 | C38: 친환경농업직접지불 | D38: 434025 | E38: =D38+F38 -> 301575 | F38: =H38-G38 -> -132450 | G38: 132450 | I38: 국비변경내시 | J38: =F38 -> -132450 | K38: -132450 | L38: =J38-K38 -> 0
A39: 농정국 | C39: 녹비작물종자대공급 | D39: 665338 | E39: =D39+F39 -> 609680 | F39: =H39-G39 -> -55658 | G39: 55658 | I39: 국비변경내시 | J39: =F39 -> -55658 | K39: -42812 | L39: =J39-K39 -> -12846
A40: 경제농정국 | C40: 녹비작물종자대공급 | D40: 108877 | E40: =D40+F40 -> 98231 | F40: =H40-G40 -> -10646 | G40: 10646 | I40: 국비변경내시 | J40: =F40 -> -10646 | K40: -8188 | L40: =J40-K40 -> -2458
A41: 농정국 | C41: 친환경안전축산직접지불제 | D41: 483410 | E41: =D41+F41 -> 527558 | F41: =H41-G41 -> 44148 | H41: 44148 | I41: 국비변경내시 | J41: =F41 -> 44148 | K41: 44148 | L41: =J41-K41 -> 0
E42: =D42+F42 -> 0 | F42: =H42-G42 -> 0 | J42: =F42 -> 0 | L42: =J42-K42 -> 0
A43: 보건복지공보위원회 | C43: 보건복지공보위원회 | D43: =SUM(D44:D81) -> 1419078529 | E43: =SUM(E44:E81) -> 1409257112 | F43: =SUM(F44:F81) -> -9821417 | G43: =SUM(G44:G81) -> 12206520 | H43: =SUM(H44:H81) -> 2385103 | J43: =F43 -> -9821417 | K43: =SUM(K44:K81) -> -9021991 | L43: =J43-K43 -> -799426
A44: 보건복지국 | B44: 324 | C44: 자활지원(국비/지원) - 자활근로사업 | D44: 32701691 | E44: =D44+F44 -> 31630157 | F44: =H44-G44 -> -1071534 | G44: 1071534 | I44: 국비변경내시 (국비△955,926, 도비△115,608) | J44: =F44 -> -1071534 | K44: -955926 | L44: =J44-K44 -> -115608
A45: 보건복지국 | B45: 신규 | C45: 지역사회복지사업(국비/직접) -무한돌봄 사례관리 기자재 구입 | D45: 0 | E45: =D45+F45 -> 25000 | F45: =H45-G45 -> 25000 | G45: 0 | H45: 25000 | I45: 국비신규내시(상사업비) | J45: =F45 -> 25000 | K45: 25000 | L45: =J45-K45 -> 0
A46: 보건복지국 | B46: 신규 | C46: 지역사회복지사업(국비/직접) -복지전달체계 교육 | D46: 0 | E46: =D46+F46 -> 15000 | F46: =H46-G46 -> 15000 | H46: 15000 | I46: 국비신규내시(상사업비) | J46: =F46 -> 15000 | K46: 15000 | L46: =J46-K46 -> 0
A47: 보건복지국 | B47: 3회추경 113 | C47: 생계급여(일반) | D47: 270601875 | E47: =D47+F47 -> 268460568 | F47: =H47-G47 -> -2141307 | G47: 2141307 | I47: 국비변경내시 (국비△1,920,000, 도비△221,307) | J47: =F47 -> -2141307 | K47: -1920000 | L47: =J47-K47 -> -221307
A48: 보건복지국 | B48: 3회추경 113 | C48: 주거급여 | D48: 64467725 | E48: =D48+F48 -> 63707715 | F48: =H48-G48 -> -760010 | G48: 760010 | I48: 국비변경내시 (국비△681,000, 도비△79,010) | J48: =F48 -> -760010 | K48: -681000 | L48: =J48-K48 -> -79010
A49: 보건복지국 | B49: 3회추경 113 | C49: 교육급여 | D49: 14011161 | E49: =D49+F49 -> 13220630 | F49: =H49-G49 -> -790531 | G49: 790531 | I49: 국비변경내시 (국비△707,809, 도비△82,722) | J49: =F49 -> -790531 | K49: -707809 | L49: =J49-K49 -> -82722
A50: 보건복지국 | B50: 3회추경 113 | C50: 해산장제급여 | D50: 1713273 | E50: =D50+F50 -> 1691015 | F50: =H50-G50 -> -22258 | G50: 22258 | H50: 0 | I50: 국비변경내시 (국비△21,000, 도비△1,258) | J50: =F50 -> -22258 | K50: -21000 | L50: =J50-K50 -> -1258
A51: 보건복지국 | B51: 당초 314 | C51: 긴급복지(국비/지원) | D51: 8604720 | E51: =D51+F51 -> 7826000 | F51: =H51-G51 -> -778720 | G51: 778720 | I51: 국비변경내시 (국비△724,390, 도비△54,330) | J51: =F51 -> -778720 | K51: -724390 | L51: =J51-K51 -> -54330
A52: 보건복지국 | B52: 당초 326 | C52: 학대피해노인 전용쉼터 지원(기금/직접) - 학대피해노인 전용쉼터 지원 | D52: 221990 | E52: =D52+F52 -> 157640 | F52: =H52-G52 -> -64350 | G52: 64350 | I52: 국비 변경내시 (국비△35,519, 도비△28,831) | J52: =F52 -> -64350 | K52: -35519 | L52: =J52-K52 -> -28831
A53: 보건복지국 | B53: 당초 330 | C53: 장애아동 가족지원(국비/지원) -장애아동 재활치료 바우처 -언어발달 지원 바우처 | D53: 10643389 | E53: =D53+F53 -> 9906385 | F53: =H53-G53 -> -737004 | G53: 737004 | I53: 국비 변경내시 (국비△606,944, 도비△130,060) | J53: =F53 -> -737004 | K53: -606944 | L53: =J53-K53 -> -130060
A54: 보건복지국 | B54: 3회추경 123 | C54: 난임부부 지원(기금/지원) (체외수정시술비 지원) | D54: 5989486 | E54: =D54+F54 -> 6632461 | F54: =H54-G54 -> 642975 | H54: 642975 | I54: 국비변경내시 (국비428,650, 도비214,325) | J54: =F54 -> 642975 | K54: 428650 | L54: =J54-K54 -> 214325
A55: 보건복지국 | B55: 1회추경 140 | C55: 난임부부 지원(기금/지원) (인공수정시술비 지원) | D55: 2974263 | E55: =D55+F55 -> 2796288 | F55: =H55-G55 -> -177975 | G55: 177975 | I55: 국비변경내시 (국비 △118,650 , 도비 △59,325) | J55: =F55 -> -177975 | K55: -118650 | L55: =J55-K55 -> -59325
A56: 보건복지국 | B56: 331 | C56: 반환금기타 (국비사용잔액) | D56: 443582 | E56: =D56+F56 -> 433842 | F56: =H56-G56 -> -9740 | G56: 9740 | I56: 본청,북부청간 중복 조정 | J56: =F56 -> -9740 | L56: =J56-K56 -> -9740
A57: 보건복지국 | B57: 3회추경 118 | C57: 생계급여(국비/지원) - 기초생활보장급여(노인시설) | D57: 5047051 | E57: =D57+F57 -> 5272647 | F57: =H57-G57 -> 225596 | H57: 225596 | I57: 국비변경내시 (국비200,000, 도비25,596) | J57: =F57 -> 225596 | K57: 200000 | L57: =J57-K57 -> 25596
A58: 보건복지국 | B58: 3회추경 118 | C58: 기초노령연금(국비/지원) - 기초노령연금 | D58: 309274087 | E58: =D58+F58 -> 308567342 | F58: =H58-G58 -> -706745 | G58: 706745 | I58: 국비변경내시 (국비△645,430, 도비△61,315) | J58: =F58 -> -706745 | K58: -645430 | L58: =J58-K58 -> -61315
A59: 복지여성실 | B59: 3회추경 219 | C59: 일반생계급여(국비/지원) | D59: 124836669 | E59: =D59+F59 -> 124251512 | F59: =H59-G59 -> -585157 | G59: 585157 | I59: 국비변경내시 (국비△520,139 도비△65,018) | J59: =F59 -> -585157 | K59: -520139 | L59: =J59-K59 -> -65018
A60: 복지여성실 | B60: 3회추경 219 | C60: 주거급여(국비/지원) | D60: 30061092 | E60: =D60+F60 -> 29408639 | F60: =H60-G60 -> -652453 | G60: 652453 | I60: 국비변경내시 (국비△579,959, 도비△72,494) | J60: =F60 -> -652453 | K60: -579959 | L60: =J60-K60 -> -72494
A61: 복지여성실 | B61: 3회추경 219 | C61: 해산장제급여(국비/지원) | D61: 855200 | E61: =D61+F61 -> 737754 | F61: =H61-G61 -> -117446 | G61: 117446 | I61: 국비변경내시 (국비△104,397, 도비△13,049) | J61: =F61 -> -117446 | K61: -104397 | L61: =J61-K61 -> -13049
A62: 복지여성실 | B62: 당초 774 | C62: 교육급여(국비/지원) | D62: 6042605 | E62: =D62+F62 -> 5099197 | F62: =H62-G62 -> -943408 | G62: 943408 | I62: 국비변경내시 (국비△838,585, 도비△104,823) | J62: =F62 -> -943408 | K62: -838585 | L62: =J62-K62 -> -104823
A63: 복지여성실 | B63: 당초 775 | C63: 긴급복지(국비/지원) | D63: 4102096 | E63: =D63+F63 -> 3899273 | F63: =H63-G63 -> -202823 | G63: 202823 | I63: 국비변경내시 (국비△188,672, 도비△14,151) | J63: =F63 -> -202823 | K63: -188672 | L63: =J63-K63 -> -14151
A64: 복지여성실 | B64: 당초 778 | C64: 부랑인시설 급여비(국비/지원) | D64: 865890 | E64: =D64+F64 -> 756765 | F64: =H64-G64 -> -109125 | G64: 109125 | I64: 국비변경내시 (국비△97,000, 도비△12,125) | J64: =F64 -> -109125 | K64: -97000 | L64: =J64-K64 -> -12125
A65: 복지여성실 | B65: 당초 785 | C65: 장애아동 가족지원(국비/지원) - 장애아동 재활치료 바우처 | D65: 3712504 | E65: =D65+F65 -> 3591076 | F65: =H65-G65 -> -121428 | G65: 121428 | I65: 국비 변경내시 (국비 △100,000, 도비 △21,428) | J65: =F65 -> -121428 | K65: -100000 | L65: =J65-K65 -> -21428
A66: 복지여성실 | B66: 336 | C66: 자활지원(국비/지원) -자활근로사업 | D66: 9613642 | E66: =D66+F66 -> 9370844 | F66: =H66-G66 -> -242798 | G66: 242798 | I66: 국비 변경내시 (국비 △215,819 도비 △26,979) | J66: =F66 -> -242798 | K66: -215819 | L66: =J66-K66 -> -26979
A67: 복지여성실 | B67: 3회추경 229 | C67: 정신보건시설 생계급여(국비/지원) | D67: 1147500 | E67: =D67+F67 -> 1121625 | F67: =H67-G67 -> -25875 | G67: 25875 | I67: 국비변경내시 (국비△23,000, 도비△2,875) | J67: =F67 -> -25875 | K67: -23000 | L67: =J67-K67 -> -2875
A68: 복지여성실 | B68: 3회추경 221 | C68: 기초노령연금(국비/지원) | D68: 146941052 | E68: =D68+F68 -> 146734755 | F68: =H68-G68 -> -206297 | G68: 206297 | I68: 국비변경내시 (국비△189,532, 도비△16,765) | J68: =F68 -> -206297 | K68: -189532 | L68: =J68-K68 -> -16765
A69: 복지여성실 | B69: 3회추경 224 | C69: 국민기초생활보장급여(장애인시설)(국비/지원) | D69: 2013749 | E69: =D69+F69 -> 2058749 | F69: =H69-G69 -> 45000 | H69: 45000 | I69: 국비변경내시 (국비40,000, 도비5,000) | J69: =F69 -> 45000 | K69: 40000 | L69: =J69-K69 -> 5000
A70: 복지여성실 | B70: 3회추경 230 | C70: 난임부부지원(기금/지원) -체외수정시술비 지원 | D70: 1906073 | E70: =D70+F70 -> 2056073 | F70: =H70-G70 -> 150000 | H70: 150000 | I70: 국비변경내시 (국비 100,000, 도비50,000) | J70: =F70 -> 150000 | K70: 100000 | L70: =J70-K70 -> 50000
A71: 복지여성실 | B71: 3회추경222 | C71: 기초생활보장급여(노인시설)(국비/지원) -기초생활보장급여(노인시설) | D71: 3150000 | E71: =D71+F71 -> 3421125 | F71: =H71-G71 -> 271125 | H71: 271125 | I71: 국비변경내시 (국비241,000, 도비 30,125) | J71: =F71 -> 271125 | K71: 241000 | L71: =J71-K71 -> 30125
A72: 복지여성실 | B72: 신규 | C72: 장사시설 설치(국비/지원) -자연장 조성 | D72: 0 | E72: =D72+F72 -> 277015 | F72: =H72-G72 -> 277015 | H72: 277015 | I72: 국비변경내시 (국비228,130, 도비 48,885) | J72: =F72 -> 277015 | K72: 228130 | L72: =J72-K72 -> 48885
A73: 보건복지국 | B73: 상임위 | C73: 생계급여 | D73: 268460568 | E73: =D73+F73 -> 268123068 | F73: =H73-G73 -> -337500 | G73: 337500 | I73: 국비변경내시 | J73: =F73 -> -337500 | K73: -300000 | L73: =J73-K73 -> -37500
A74: 보건복지국 | B74: 3회추경 114 | C74: 기초수급자 정부양곡 할인지원 | D74: 7770285 | E74: =D74+F74 -> 6920000 | F74: =H74-G74 -> -850285 | G74: 850285 | I74: 국비변경내시 | J74: =F74 -> -850285 | K74: -850285 | L74: =J74-K74 -> 0
A75: 복지여성실 | C75: 기초수급자 정부양곡 할인지원 | D75: 3915009 | E75: =D75+F75 -> 3565294 | F75: =H75-G75 -> -349715 | G75: 349715 | I75: 국비변경내시 | J75: =F75 -> -349715 | K75: -349715 | L75: =J75-K75 -> 0
A76: 보건복지국 | B76: 327 | C76: 장애수당 | D76: 12919535 | E76: =D76+F76 -> 12822379 | F76: =H76-G76 -> -97156 | G76: 97156 | I76: 국비변경내시 | J76: =F76 -> -97156 | K76: -82637 | L76: =J76-K76 -> -14519
A77: 복지여성실 | C77: 장애수당 | D77: 5536973 | E77: =D77+F77 -> 5857230 | F77: =H77-G77 -> 320257 | H77: 320257 | I77: 국비변경내시 | J77: =F77 -> 320257 | K77: 262637 | L77: =J77-K77 -> 57620
A78: 보건복지국 | B78: 327 | C78: 장애인연금 | D78: 39810263 | E78: =D78+F78 -> 39929398 | F78: =H78-G78 -> 119135 | H78: 119135 | I78: 국비변경내시 | J78: =F78 -> 119135 | K78: 90000 | L78: =J78-K78 -> 29135
A79: 복지여성실 | C79: 장애인연금 | D79: 18723531 | E79: =D79+F79 -> 18618651 | F79: =H79-G79 -> -104880 | G79: 104880 | I79: 국비변경내시 | J79: =F79 -> -104880 | K79: -90000 | L79: =J79-K79 -> -14880
A80: 보건복지국 | B80: 신규 | C80: 지역사회복지사업(국비/지원) (복지정책평가 특별지원금) | E80: =D80+F80 -> 294000 | F80: =H80-G80 -> 294000 | H80: 294000 | J80: =F80 -> 294000 | K80: 294000 | L80: =J80-K80 -> 0
E81: =D81+F81 -> 0 | F81: =H81-G81 -> 0 | J81: =F81 -> 0 | L81: =J81-K81 -> 0
A82: 건설교통위원회 | C82: 건설교통위원회 | D82: =SUM(D83:D98) -> 77338000 | E82: =SUM(E83:E98) -> 94682000 | F82: =SUM(F83:F98) -> 17344000 | G82: =SUM(G83:G98) -> 20020000 | H82: =SUM(H83:H98) -> 37364000 | J82: =F82 -> 17344000 | K82: =SUM(K83:K98) -> 19724000 | L82: =J82-K82 -> -2380000
A83: 교통건설국 | C83: 송포~인천 도로확포장(광특/직접) | D83: 5607000 | E83: =D83+F83 -> 4307000 | F83: =H83-G83 -> -1300000 | G83: 1300000 | I83: 국비변경내시 | J83: =F83 -> -1300000 | K83: -1300000 | L83: =J83-K83 -> 0
A84: 교통건설국 | C84: 본오~오목천2차 국지도건설(광특/직접) | D84: 5100000 | E84: =D84+F84 -> 4255000 | F84: =H84-G84 -> -845000 | G84: 845000 | I84: 국비변경내시 | J84: =F84 -> -845000 | K84: -845000 | L84: =J84-K84 -> 0
A85: 교통건설국 | C85: 덕양~용미 국지도건설(광특/직접) | D85: 5027000 | E85: =D85+F85 -> 3027000 | F85: =H85-G85 -> -2000000 | G85: 2000000 | I85: 국비변경내시 | J85: =F85 -> -2000000 | K85: -2000000 | L85: =J85-K85 -> 0
A86: 교통건설국 | C86: 방산~하중간 도로확포장(국비/지원) | D86: 17245000 | E86: =D86+F86 -> 12500000 | F86: =H86-G86 -> -4745000 | G86: 4745000 | I86: 국비변경내시 | J86: =F86 -> -4745000 | K86: -4745000 | L86: =J86-K86 -> 0
A87: 교통건설국 | C87: 동부간선광역도로건설(광특/지원) | D87: 7020000 | E87: =D87+F87 -> 3120000 | F87: =H87-G87 -> -3900000 | G87: 3900000 | I87: 국비변경내시 (광특 3,000,000 감 지방채 900,000 감) | J87: =F87 -> -3900000 | K87: -3000000 | L87: =J87-K87 -> -900000
A88: 교통건설국 | C88: 원당~태리 광역도로건설(광특/지원) | D88: 6500000 | E88: =D88+F88 -> 0 | F88: =H88-G88 -> -6500000 | G88: 6500000 | I88: 국비변경내시 (광특 5,000,000 감 지방채 1,500,000 감) | J88: =F88 -> -6500000 | K88: -5000000 | L88: =J88-K88 -> -1500000
A89: 교통건설국 | C89: 감일~초이간 도로확포장(광특/지원) | D89: 26000000 | E89: =D89+F89 -> 29250000 | F89: =H89-G89 -> 3250000 | G89: 0 | H89: 3250000 | I89: 국비변경내시 (광특 2,500,000/도비 750,000) | J89: =F89 -> 3250000 | K89: 2500000 | L89: =J89-K89 -> 750000
A90: 교통건설국 | C90: 서운~안성간 도로확포장(자체/직접) | D90: 4839000 | E90: =D90+F90 -> 4109000 | F90: =H90-G90 -> -730000 | G90: 730000 | I90: 양변교차로 실시설계확정에 따라 차액감액 730,000천원(※경기도시공사부담금) | J90: =F90 -> -730000 | L90: =J90-K90 -> -730000
A91: 건설본부 | C91: 소하천수해복구(2011.7.26~29)(국비/지원) | E91: =D91+F91 -> 1372575 | F91: =H91-G91 -> 1372575 | H91: 1372575 | I91: 7.26~29 호우피해 특별교부세 | J91: =F91 -> 1372575 | K91: 1372575 | L91: =J91-K91 -> 0
A92: 건설본부 | C92: 배수펌프장수해복구(2011.7.26~29)(국비/지원) | E92: =D92+F92 -> 12596796 | F92: =H92-G92 -> 12596796 | H92: 12596796 | I92: 7.26~29 호우피해 특별교부세 | J92: =F92 -> 12596796 | K92: 12596796 | L92: =J92-K92 -> 0
A93: 건설본부 | C93: 지방하천수해복구(2011.7.26~29)(국비/지원) | E93: =D93+F93 -> 11159517 | F93: =H93-G93 -> 11159517 | H93: 11159517 | I93: 7.26~29 호우피해 특별교부세 | J93: =F93 -> 11159517 | K93: 11159517 | L93: =J93-K93 -> 0
A94: 건설본부 | C94: 지방하천 수해복구(자체/직접) | E94: =D94+F94 -> 985112 | F94: =H94-G94 -> 985112 | H94: 985112 | I94: 7.26~29 호우피해 특별교부세 | J94: =F94 -> 985112 | K94: 985112 | L94: =J94-K94 -> 0
A95: 교통건설국 | C95: 토당~원당(국비/지원) | E95: =D95+F95 -> 4000000 | F95: =H95-G95 -> 4000000 | H95: 4000000 | J95: =F95 -> 4000000 | K95: 4000000 | L95: =J95-K95 -> 0
A96: 교통건설국 | C96: 원당~관산(국비/지원) | E96: =D96+F96 -> 2000000 | F96: =H96-G96 -> 2000000 | H96: 2000000 | J96: =F96 -> 2000000 | K96: 2000000 | L96: =J96-K96 -> 0
A97: 교통건설국 | C97: 삼가~대촌(국비/지원) | E97: =D97+F97 -> 2000000 | F97: =H97-G97 -> 2000000 | H97: 2000000 | J97: =F97 -> 2000000 | K97: 2000000 | L97: =J97-K97 -> 0
E98: =D98+F98 -> 0 | F98: =H98-G98 -> 0 | J98: =F98 -> 0 | L98: =J98-K98 -> 0
A99: 도시환경위원회 | C99: 도시환경위원회 | D99: =SUM(D100:D120) -> 351735461 | E99: =SUM(E100:E120) -> 351241812 | F99: =SUM(F100:F120) -> -493649 | G99: =SUM(G100:G120) -> 15273149 | H99: =SUM(H100:H120) -> 14779500 | J99: =F99 -> -493649 | K99: =SUM(K100:K120) -> -489000 | L99: =J99-K99 -> -4649
A100: 환경국 | B100: 신규 (4회추경 명시이월 사업조서) | C100: 남한산성도립공원탐방객관리 (자체/직접) | D100: 2427992 | E100: =D100+F100 -> 2427992 | F100: =H100-G100 -> 0 | I100: ○ 사업계획 변경 및 행정절차 이행에 따라 1,745,189천원 명시이월 (별첨 명시이월 조서 참고) | J100: =F100 -> 0 | L100: =J100-K100 -> 0
...

Sheet 세입_특별
A1: 2011년도 제1회추경 특별회계 세입 예산 수정(안)
B2: □ 세입예산(특별회계)
M3: (단위:천원)
A4: 부서명 | B4: 명세서 페이지 | C4: 사업명 | D4: 예산안 | E4: 조정액 | H4: 재 원 현 황 | M4: 비 고
E5: 계 | F5: 감액 | G5: 증액 | H5: 계 | I5: 국비 | J5: 균특 | K5: 기금 | L5: 도비
C6: 계 | D6: =SUM(D7:D36)/2 -> 0 | E6: =SUM(E7:E36)/2 -> 0 | F6: =SUM(F7:F36)/2 -> 0 | G6: =SUM(G7:G36)/2 -> 0 | H6: =SUM(H7:H36) -> 0 | I6: =SUM(I7:I36) -> 0 | J6: =SUM(J7:J36) -> 0 | K6: =SUM(K7:K36) -> 0 | L6: =SUM(L7:L36) -> 0
A7: 의료급여기금 | C7: 의료급여기금 | D7: =SUM(D8:D9) -> 0 | E7: =SUM(E8:E9) -> 0 | F7: =SUM(F8:F9) -> 0 | G7: =SUM(G8:G9) -> 0 | H7: =SUM(H8:H9) -> 0 | I7: =SUM(I8:I9) -> 0 | J7: =SUM(J8:J9) -> 0 | K7: =SUM(K8:K9) -> 0 | L7: =SUM(L8:L9) -> 0
E8: =SUM(G8-F8) -> 0 | G8: =IF(H8>0,H8,0) -> 0 | H8: =SUM(I8:L8) -> 0
D9: 0 | E9: =SUM(G9-F9) -> 0 | F9: =IF(H9>0,0,-H9) -> 0 | G9: =IF(H9>0,H9,0) -> 0 | H9: =SUM(I9:L9) -> 0
A10: 팔당호관리 | C10: 팔당호관리 | D10: =SUM(D11:D12) -> 0 | E10: =SUM(E11:E12) -> 0 | F10: =SUM(F11:F12) -> 0 | G10: =SUM(G11:G12) -> 0 | H10: =SUM(H11:H12) -> 0 | I10: =SUM(I11:I12) -> 0 | J10: =SUM(J11:J12) -> 0 | K10: =SUM(K11:K12) -> 0 | L10: =SUM(L11:L12) -> 0
D11: 0 | E11: =SUM(G11-F11) -> 0 | F11: =IF(H11>0,0,-H11) -> 0 | G11: =IF(H11>0,H11,0) -> 0 | H11: =SUM(I11:L11) -> 0
D12: 0 | E12: =SUM(G12-F12) -> 0 | F12: =IF(H12>0,0,-H12) -> 0 | G12: =IF(H12>0,H12,0) -> 0 | H12: =SUM(I12:L12) -> 0
A13: 유료도로사업 | C13: 유료도로사업 | D13: =SUM(D14:D15) -> 0 | E13: =SUM(E14:E15) -> 0 | F13: =SUM(F14:F15) -> 0 | G13: =SUM(G14:G15) -> 0 | H13: =SUM(H14:H15) -> 0 | I13: =SUM(I14:I15) -> 0 | J13: =SUM(J14:J15) -> 0 | K13: =SUM(K14:K15) -> 0 | L13: =SUM(L14:L15) -> 0
D14: 0 | E14: =SUM(G14-F14) -> 0 | F14: =IF(H14>0,0,-H14) -> 0 | G14: =IF(H14>0,H14,0) -> 0 | H14: =SUM(I14:L14) -> 0
D15: 0 | E15: =SUM(G15-F15) -> 0 | F15: =IF(H15>0,0,-H15) -> 0 | G15: =IF(H15>0,H15,0) -> 0 | H15: =SUM(I15:L15) -> 0
A16: 학교용지부담금 | C16: 학교용지부담금 | D16: =SUM(D17:D18) -> 0 | E16: =SUM(E17:E18) -> 0 | F16: =SUM(F17:F18) -> 0 | G16: =SUM(G17:G18) -> 0 | H16: =SUM(H17:H18) -> 0 | I16: =SUM(I17:I18) -> 0 | J16: =SUM(J17:J18) -> 0 | K16: =SUM(K17:K18) -> 0 | L16: =SUM(L17:L18) -> 0
A19: 광역교통시설 | C19: 광역교통시설 | D19: =SUM(D20:D21) -> 0 | E19: =SUM(E20:E21) -> 0 | F19: =SUM(F20:F21) -> 0 | G19: =SUM(G20:G21) -> 0 | H19: =SUM(H20:H21) -> 0 | I19: =SUM(I20:I21) -> 0 | J19: =SUM(J20:J21) -> 0 | K19: =SUM(K20:K21) -> 0 | L19: =SUM(L20:L21) -> 0
D20: 0 | E20: =SUM(G20-F20) -> 0 | F20: =IF(H20>0,0,-H20) -> 0 | G20: =IF(H20>0,H20,0) -> 0 | H20: =SUM(I20:L20) -> 0
D21: 0 | E21: =SUM(G21-F21) -> 0 | F21: =IF(H21>0,0,-H21) -> 0 | G21: =IF(H21>0,H21,0) -> 0 | H21: =SUM(I21:L21) -> 0
A22: 임진강유역댐정비 | C22: 임진강유역댐정비 | D22: =SUM(D23:D24) -> 0 | E22: =SUM(E23:E24) -> 0 | F22: =SUM(F23:F24) -> 0 | G22: =SUM(G23:G24) -> 0 | H22: =SUM(H23:H24) -> 0 | I22: =SUM(I23:I24) -> 0 | J22: =SUM(J23:J24) -> 0 | K22: =SUM(K23:K24) -> 0 | L22: =SUM(L23:L24) -> 0
D23: 0 | E23: =SUM(G23-F23) -> 0 | F23: =IF(H23>0,0,-H23) -> 0 | G23: =IF(H23>0,H23,0) -> 0 | H23: =SUM(I23:L23) -> 0
D24: 0 | E24: =SUM(G24-F24) -> 0 | F24: =IF(H24>0,0,-H24) -> 0 | G24: =IF(H24>0,H24,0) -> 0 | H24: =SUM(I24:L24) -> 0
A25: 지역개발기금 | C25: 지역개발기금 | D25: =SUM(D26:D27) -> 0 | E25: =SUM(E26:E27) -> 0 | F25: =SUM(F26:F27) -> 0 | G25: =SUM(G26:G27) -> 0 | H25: =SUM(H26:H27) -> 0 | I25: =SUM(I26:I27) -> 0 | J25: =SUM(J26:J27) -> 0 | K25: =SUM(K26:K27) -> 0 | L25: =SUM(L26:L27) -> 0
D26: 0 | E26: =SUM(G26-F26) -> 0 | F26: =IF(H26>0,0,-H26) -> 0 | G26: =IF(H26>0,H26,0) -> 0 | H26: =SUM(I26:L26) -> 0
D27: 0 | E27: =SUM(G27-F27) -> 0 | F27: =IF(H27>0,0,-H27) -> 0 | G27: =IF(H27>0,H27,0) -> 0 | H27: =SUM(I27:L27) -> 0
A28: 판교테크노밸리 | C28: 판교테크노밸리 | D28: =SUM(D29:D30) -> 0 | E28: =SUM(E29:E30) -> 0 | F28: =SUM(F29:F30) -> 0 | G28: =SUM(G29:G30) -> 0 | H28: =SUM(H29:H30) -> 0 | I28: =SUM(I29:I30) -> 0 | J28: =SUM(J29:J30) -> 0 | K28: =SUM(K29:K30) -> 0 | L28: =SUM(L29:L30) -> 0
D29: 0 | E29: =SUM(G29-F29) -> 0 | F29: =IF(H29>0,0,-H29) -> 0 | G29: =IF(H29>0,H29,0) -> 0 | H29: =SUM(I29:L29) -> 0
D30: 0 | E30: =SUM(G30-F30) -> 0 | F30: =IF(H30>0,0,-H30) -> 0 | G30: =IF(H30>0,H30,0) -> 0 | H30: =SUM(I30:L30) -> 0
A31: 고양관광문화단지 | C31: 고양관광문화단지 | D31: =SUM(D32:D33) -> 0 | E31: =SUM(E32:E33) -> 0 | F31: =SUM(F32:F33) -> 0 | G31: =SUM(G32:G33) -> 0 | H31: =SUM(H32:H33) -> 0 | I31: =SUM(I32:I33) -> 0 | J31: =SUM(J32:J33) -> 0 | K31: =SUM(K32:K33) -> 0 | L31: =SUM(L32:L33) -> 0
H32: =SUM(I32:L32) -> 0
D33: 0 | E33: =SUM(G33-F33) -> 0 | F33: =IF(H33>0,0,-H33) -> 0 | G33: =IF(H33>0,H33,0) -> 0 | H33: =SUM(I33:L33) -> 0
A34: 고덕국제화지구 | C34: 고덕국제화지구 | D34: =SUM(D35:D36) -> 0 | E34: =SUM(E35:E36) -> 0 | F34: =SUM(F35:F36) -> 0 | G34: =SUM(G35:G36) -> 0 | H34: =SUM(H35:H36) -> 0 | I34: =SUM(I35:I36) -> 0 | J34: =SUM(J35:J36) -> 0 | K34: =SUM(K35:K36) -> 0 | L34: =SUM(L35:L36) -> 0
D35: 0 | E35: =SUM(G35-F35) -> 0 | F35: =IF(H35>0,0,-H35) -> 0 | G35: =IF(H35>0,H35,0) -> 0 | H35: =SUM(I35:L35) -> 0
D36: 0 | E36: =SUM(G36-F36) -> 0 | F36: =IF(H36>0,0,-H36) -> 0 | G36: =IF(H36>0,H36,0) -> 0 | H36: =SUM(I36:L36) -> 0

Sheet 세출_특별
A1: 2011년도 제1회추경 특별회계 세출 예산 수정(안)
B2: □ 세출예산(특별회계)
M3: (단위:천원)
A4: 부서명 | B4: 명세서 페이지 | C4: 사업명 | D4: 예산안 | E4: 조정액 | H4: 재 원 현 황 | M4: 비 고
E5: 계 | F5: 감액 | G5: 증액 | H5: 계 | I5: 국비 | J5: 균특 | K5: 기금 | L5: 도비
A6: 계 | C6: 계 | D6: =SUM(D7:D36)/2 -> 0 | E6: =SUM(E7:E36)/2 -> 0 | F6: =SUM(F7:F36)/2 -> 0 | G6: =SUM(G7:G36)/2 -> 0 | H6: =SUM(H7:H36)/2 -> 0 | I6: =SUM(I7:I36)/2 -> 0 | J6: =SUM(J7:J36)/2 -> 0 | K6: =SUM(K7:K36)/2 -> 0 | L6: =SUM(L7:L36)/2 -> 0
A7: 의료급여기금 | C7: 의료급여기금 | D7: =SUM(D8:D9) -> 0 | E7: =SUM(E8:E9) -> 0 | F7: =SUM(F8:F9) -> 0 | G7: =SUM(G8:G9) -> 0 | H7: =SUM(H8:H9) -> 0 | I7: =SUM(I8:I9) -> 0 | J7: =SUM(J8:J9) -> 0 | K7: =SUM(K8:K9) -> 0 | L7: =SUM(L8:L9) -> 0
E8: =SUM(G8-F8) -> 0 | G8: =IF(H8>0,H8,0) -> 0 | H8: =SUM(I8:L8) -> 0
E9: =SUM(G9-F9) -> 0 | F9: =IF(H9>0,0,-H9) -> 0 | G9: =IF(H9>0,H9,0) -> 0 | H9: =SUM(I9:L9) -> 0
A10: 팔당호관리 | C10: 팔당호관리 | D10: =SUM(D11:D12) -> 0 | E10: =SUM(E11:E12) -> 0 | F10: =SUM(F11:F12) -> 0 | G10: =SUM(G11:G12) -> 0 | H10: =SUM(H11:H12) -> 0 | I10: =SUM(I11:I12) -> 0 | J10: =SUM(J11:J12) -> 0 | K10: =SUM(K11:K12) -> 0 | L10: =SUM(L11:L12) -> 0
E11: =SUM(G11-F11) -> 0 | F11: =IF(H11>0,0,-H11) -> 0 | G11: =IF(H11>0,H11,0) -> 0 | H11: =SUM(I11:L11) -> 0
E12: =SUM(G12-F12) -> 0 | F12: =IF(H12>0,0,-H12) -> 0 | G12: =IF(H12>0,H12,0) -> 0 | H12: =SUM(I12:L12) -> 0
A13: 유료도로사업 | C13: 유료도로사업 | D13: =SUM(D14:D15) -> 0 | E13: =SUM(E14:E15) -> 0 | F13: =SUM(F14:F15) -> 0 | G13: =SUM(G14:G15) -> 0 | H13: =SUM(H14:H15) -> 0 | I13: =SUM(I14:I15) -> 0 | J13: =SUM(J14:J15) -> 0 | K13: =SUM(K14:K15) -> 0 | L13: =SUM(L14:L15) -> 0
E14: =SUM(G14-F14) -> 0 | F14: =IF(H14>0,0,-H14) -> 0 | G14: =IF(H14>0,H14,0) -> 0 | H14: =SUM(I14:L14) -> 0
E15: =SUM(G15-F15) -> 0 | F15: =IF(H15>0,0,-H15) -> 0 | G15: =IF(H15>0,H15,0) -> 0 | H15: =SUM(I15:L15) -> 0
A16: 학교용지부담금 | C16: 학교용지부담금 | D16: =SUM(D17:D18) -> 0 | E16: =SUM(E17:E18) -> 0 | F16: =SUM(F17:F18) -> 0 | G16: =SUM(G17:G18) -> 0 | H16: =SUM(H17:H18) -> 0 | I16: =SUM(I17:I18) -> 0 | J16: =SUM(J17:J18) -> 0 | K16: =SUM(K17:K18) -> 0 | L16: =SUM(L17:L18) -> 0
H17: =SUM(I17:L17) -> 0
H18: =SUM(I18:L18) -> 0
A19: 광역교통시설 | C19: 광역교통시설 | D19: =SUM(D20:D21) -> 0 | E19: =SUM(E20:E21) -> 0 | F19: =SUM(F20:F21) -> 0 | G19: =SUM(G20:G21) -> 0 | H19: =SUM(H20:H21) -> 0 | I19: =SUM(I20:I21) -> 0 | J19: =SUM(J20:J21) -> 0 | K19: =SUM(K20:K21) -> 0 | L19: =SUM(L20:L21) -> 0
E20: =SUM(G20-F20) -> 0 | G20: =IF(H20>0,H20,0) -> 0 | H20: =SUM(I20:L20) -> 0
E21: =SUM(G21-F21) -> 0 | F21: =IF(H21>0,0,-H21) -> 0 | G21: =IF(H21>0,H21,0) -> 0 | H21: =SUM(I21:L21) -> 0
A22: 임진강유역댐정비 | C22: 임진강유역댐정비 | D22: =SUM(D23:D24) -> 0 | E22: =SUM(E23:E24) -> 0 | F22: =SUM(F23:F24) -> 0 | G22: =SUM(G23:G24) -> 0 | H22: =SUM(H23:H24) -> 0 | I22: =SUM(I23:I24) -> 0 | J22: =SUM(J23:J24) -> 0 | K22: =SUM(K23:K24) -> 0 | L22: =SUM(L23:L24) -> 0
E23: =SUM(G23-F23) -> 0 | F23: =IF(H23>0,0,-H23) -> 0 | G23: =IF(H23>0,H23,0) -> 0 | H23: =SUM(I23:L23) -> 0
E24: =SUM(G24-F24) -> 0 | F24: =IF(H24>0,0,-H24) -> 0 | G24: =IF(H24>0,H24,0) -> 0 | H24: =SUM(I24:L24) -> 0
A25: 지역개발기금 | C25: 지역개발기금 | D25: =SUM(D26:D27) -> 0 | E25: =SUM(E26:E27) -> 0 | F25: =SUM(F26:F27) -> 0 | G25: =SUM(G26:G27) -> 0 | H25: =SUM(H26:H27) -> 0 | I25: =SUM(I26:I27) -> 0 | J25: =SUM(J26:J27) -> 0 | K25: =SUM(K26:K27) -> 0 | L25: =SUM(L26:L27) -> 0
A28: 판교테크노밸리 | C28: 판교테크노밸리 | D28: =SUM(D29:D30) -> 0 | E28: =SUM(E29:E30) -> 0 | F28: =SUM(F29:F30) -> 0 | G28: =SUM(G29:G30) -> 0 | H28: =SUM(H29:H30) -> 0 | I28: =SUM(I29:I30) -> 0 | J28: =SUM(J29:J30) -> 0 | K28: =SUM(K29:K30) -> 0 | L28: =SUM(L29:L30) -> 0
E29: =SUM(G29-F29) -> 0 | F29: =IF(H29>0,0,-H29) -> 0 | G29: =IF(H29>0,H29,0) -> 0 | H29: =SUM(I29:L29) -> 0
E30: =SUM(G30-F30) -> 0 | F30: =IF(H30>0,0,-H30) -> 0 | G30: =IF(H30>0,H30,0) -> 0 | H30: =SUM(I30:L30) -> 0
A31: 고양관광문화단지 | C31: 고양관광문화단지 | D31: =SUM(D32:D33) -> 0 | E31: =SUM(E32:E33) -> 0 | F31: =SUM(F32:F33) -> 0 | G31: =SUM(G32:G33) -> 0 | H31: =SUM(H32:H33) -> 0 | I31: =SUM(I32:I33) -> 0 | J31: =SUM(J32:J33) -> 0 | K31: =SUM(K32:K33) -> 0 | L31: =SUM(L32:L33) -> 0
A34: 고덕국제화지구 | C34: 고덕국제화지구 | D34: =SUM(D35:D36) -> 0 | E34: =SUM(E35:E36) -> 0 | F34: =SUM(F35:F36) -> 0 | G34: =SUM(G35:G36) -> 0 | H34: =SUM(H35:H36) -> 0 | I34: =SUM(I35:I36) -> 0 | J34: =SUM(J35:J36) -> 0 | K34: =SUM(K35:K36) -> 0 | L34: =SUM(L35:L36) -> 0
E35: =SUM(G35-F35) -> 0 | F35: =IF(H35>0,0,-H35) -> 0 | G35: =IF(H35>0,H35,0) -> 0 | H35: =SUM(I35:L35) -> 0
E36: =SUM(G36-F36) -> 0 | F36: =IF(H36>0,0,-H36) -> 0 | G36: =IF(H36>0,H36,0) -> 0 | H36: =SUM(I36:L36) -> 0

Sheet 총괄표_기금
B1: 2011년도 경기도 기금운용계획 세입·세출 예산 수정(안)
B3: □ 총 괄
H4: (단위:천원)
B5: 구 분 | C5: 집행부 제출(안) | D5: 세입예산(안) | F5: 세출예산(안) | H5: 예산수정(안)
D6: 감 액 | E6: 증 액 | F6: 감 액 | G6: 증 액
B7: 합 계 | C7: =SUM(C8:C17) -> 0 | D7: =SUM(D8:D17) -> 0 | E7: =SUM(E8:E17) -> 0 | F7: =SUM(F8:F17) -> 0 | G7: =SUM(G8:G17) -> 0 | H7: =SUM(H8:H17) -> 0
B8: 의회운영
B9: 기 획
B10: 경제투자
B11: 행정자치
B12: 문화관광
B13: 농림수산
B14: 보건복지
B15: 건설교통
B16: 도시환경
B17: 가족여성
B19: □ 회계별 예산총규모
H20: (단위:천원)
B21: 구 분 | C21: 집행부 제출(안) | D21: 세입예산(안) | F21: 세출예산(안) | H21: 예산수정(안)
D22: 감 액 | E22: 증 액 | F22: 감 액 | G22: 증 액
B23: 합 계 | C23: =SUM(C24:C25) -> 5000000 | D23: =SUM(D24:D25) -> 0 | E23: =SUM(E24:E25) -> 0 | F23: =SUM(F24:F25) -> 0 | G23: =SUM(G24:G25) -> 0 | H23: =SUM(H24:H25) -> 0
B24: 남북교류 협력기금 | C24: 5000000

Sheet 세입_기금
A1: 2011년도 경기도 기금운용계획 수정(안)
A2: □ 세입예산(기금)
G3: (단위:천원)
A4: 명세서 페이지 | B4: 사 업 명 | C4: 예산안 | D4: 조정액 | G4: 비 고
D5: 계 | E5: 감액 | F5: 증액
B6: 계 | C6: =SUM(C7:C13)/2 -> 0 | D6: =SUM(F6-E6) -> 0 | E6: =SUM(E7:E13)/2 -> 0 | F6: =SUM(F7:F13)/2 -> 0
C7: =SUM(C8:C9) -> 0 | D7: =F7-E7 -> 0 | E7: =SUM(E8:E9) -> 0 | F7: =SUM(F8:F9) -> 0
C8: 0 | D8: =F8-E8 -> 0 | F8: 0
C9: 0 | D9: =F9-E9 -> 0 | F9: 0
C10: =SUM(C11:C13) -> 0 | D10: =F10-E10 -> 0 | E10: =SUM(E11:E13) -> 0 | F10: =SUM(F11:F13) -> 0
C11: 0 | D11: =F11-E11 -> 0 | E11: 0
C12: 0 | D12: =F12-E12 -> 0 | F12: 0
C13: 0 | D13: =F13-E13 -> 0 | F13: 0

Sheet 세출_기금
A1: 2011년도 경기도 기금운용계획 수정(안)
A2: □ 세출예산(기금)
G3: (단위:천원)
A4: 명세서 페이지 | B4: 부기명 | C4: 예산안 | D4: 조정액 | G4: 비 고
D5: 계 | E5: 감액 | F5: 증액
C6: =SUM(C7:C16)/2 -> 0 | D6: =SUM(F6-E6) -> 0 | E6: =SUM(E7:E16)/2 -> 0 | F6: =SUM(F7:F16)/2 -> 0
C7: =SUM(C8:C12) -> 0 | D7: =F7-E7 -> 0 | E7: =SUM(E8:E12) -> 0 | F7: =SUM(F8:F12) -> 0
D8: =F8-E8 -> 0
D9: =F9-E9 -> 0
D10: =F10-E10 -> 0
C11: 0 | D11: =F11-E11 -> 0 | F11: 0
C12: 0 | D12: =F12-E12 -> 0 | F12: 0
C13: =SUM(C14:C16) -> 0 | D13: =F13-E13 -> 0 | E13: =SUM(E14:E16) -> 0 | F13: =SUM(F14:F16) -> 0
D14: =F14-E14 -> 0
D15: =F15-E15 -> 0
D16: =F16-E16 -> 0 | F16: 0

Sheet Sheet1
