Workbook

Sheet 총괄표
B1: 2011년도 제4회 추경 일반 및 특별회계 세입·세출 예산 수정안
B2: □ 총 괄
H3: (단위:천원) | N3: (일반+특별+기금)
B4: 구 분 | C4: 집행부제출(안) | D4: 세입예산(안) | F4: 세출예산(안) | H4: 예산수정(안) | I4: 일반회계 증감(총괄표) | K4: 예비비증감 | L4: 비 고 | M4: 전체 증감(시트) | O4: 비고
D5: 감 액 | E5: 증 액 | F5: 감 액 | G5: 증 액 | I5: 세입 | J5: 세출 | M5: 세입 | N5: 세출
B6: 합 계 | C6: =SUM(C7:C17) -> 15218137162 | D6: =SUM(D7:D17) -> 37508969 | E6: =SUM(E7:E17) -> 93221852 | F6: =SUM(F7:F17) -> 51004750 | G6: =SUM(G7:G17) -> 106717633 | H6: =SUM(H7:H17) -> 15273850045 | I6: =E24-D24 -> 55712883 | J6: =+G24-F24 -> 55712883 | K6: =+I6-J6 -> 0 | L6: 예비비 증감이 - 예산이면 감액에 + 예산이면 증액에 입력 | M6: =(세입_일반!H6-세입_일반!G6)+(세입_특별!G6-세입_특별!F6)+(세입_기금!F6-세입_기금!E6) -> 55712883 | N6: =+(세출_일반!H6-세출_일반!G6)+(세출_특별!G6-세출_특별!F6)+(세출_기금!F6-세출_기금!E6) -> 55712883 | O6: =+M6-I6 -> 0 | P6: =+N6-J6 -> 0
B7: 기 타 | H7: =C7-F7+G7 -> 0
B8: 운 영 위 | C8: 26449811 | D8: =SUMIF(세입_일반!A7:A104,"=의회운영위원회",세입_일반!G7:G104) -> 0 | E8: =SUMIF(세입_일반!A7:A104,"=의회운영위원회",세입_일반!H7:H104) -> 0 | F8: =SUMIF(세출_일반!A9:A144,"=의회운영위원회",세출_일반!G9:G144) -> 0 | G8: =SUMIF(세출_일반!A9:A144,"=의회운영위원회",세출_일반!H9:H144) -> 0 | H8: =C8-F8+G8 -> 26449811 | I8: 일반회계 증감(시트) | N8: 전체 증감
B9: 기 획 위 | C9: 4568180796 | D9: =SUMIF(세입_일반!A7:A104,"=기획위원회",세입_일반!G7:G104)+세입_특별!F25 -> 0 | E9: =SUMIF(세입_일반!A7:A104,"=기획위원회",세입_일반!H7:H104)+세입_특별!G25 -> 1700000 | F9: =SUMIF(세출_일반!A9:A144,"=기획위원회",세출_일반!G9:G144)+세출_특별!F25 -> 0 | G9: =SUMIF(세출_일반!A9:A144,"=기획위원회",세출_일반!H9:H144)+세출_특별!G25 -> 1700000 | H9: =C9-F9+G9 -> 4569880796 | I9: =세입_일반!F6 -> 55712883 | J9: =세출_일반!F6 -> 55712883 | N9: =+H6-C6 -> 55712883
B10: 경 제 위 | C10: 618072235 | D10: =SUMIF(세입_일반!A7:A104,"=경제투자위원회",세입_일반!G7:G104)+세입_특별!F28 -> 679721 | E10: =SUMIF(세입_일반!A7:A104,"=경제투자위원회",세입_일반!H7:H104)+세입_특별!G28 -> 190558 | F10: =SUMIF(세출_일반!A9:A144,"=경제투자위원회",세출_일반!G9:G144)+세출_특별!F28 -> 1059722 | G10: =SUMIF(세출_일반!A9:A144,"=경제투자위원회",세출_일반!H9:H144)+세출_특별!G28 -> 476558 | H10: =C10-F10+G10 -> 617489071
B11: 행 정 위 | C11: 1004680245 | D11: =SUMIF(세입_일반!A7:A104,"=행정자치위원회",세입_일반!G7:G104) -> 500000 | E11: =SUMIF(세입_일반!A7:A104,"=행정자치위원회",세입_일반!H7:H104) -> 13318370 | F11: =SUMIF(세출_일반!A9:A144,"=행정자치위원회",세출_일반!G9:G144) -> 500000 | G11: =SUMIF(세출_일반!A9:A144,"=행정자치위원회",세출_일반!H9:H144) -> 143500 | H11: =C11-F11+G11 -> 1004323745
B12: 문 광 위 | C12: 360251003 | D12: =SUMIF(세입_일반!A7:A104,"=문화체육관광위원회",세입_일반!G7:G104)+세입_특별!F31 -> 0 | E12: =SUMIF(세입_일반!A7:A104,"=문화체육관광위원회",세입_일반!H7:H104)+세입_특별!G31 -> 75000 | F12: =SUMIF(세출_일반!A9:A144,"=문화체육관광위원회",세출_일반!G9:G144)+세출_특별!F31 -> 0 | G12: =SUMIF(세출_일반!A9:A144,"=문화체육관광위원회",세출_일반!H9:H144)+세출_특별!G31 -> 75000 | H12: =C12-F12+G12 -> 360326003
B13: 농 림 위 | C13: 553002533 | D13: =SUMIF(세입_일반!A7:A104,"=농림수산위원회",세입_일반!G7:G104) -> 801633 | E13: =SUMIF(세입_일반!A7:A104,"=농림수산위원회",세입_일반!H7:H104) -> 1945271 | F13: =SUMIF(세출_일반!A9:A144,"=농림수산위원회",세출_일반!G9:G144) -> 827717 | G13: =SUMIF(세출_일반!A9:A144,"=농림수산위원회",세출_일반!H9:H144) -> 221146 | H13: =C13-F13+G13 -> 552395962
B14: 복 지 위 | C14: 2540520136 | D14: =SUMIF(세입_일반!A7:A104,"=보건복지공보위원회",세입_일반!G7:G104)+세입_특별!F7 -> 10250295 | E14: =SUMIF(세입_일반!A7:A104,"=보건복지공보위원회",세입_일반!H7:H104)+세입_특별!G7 -> 1598074 | F14: =SUMIF(세출_일반!A9:A144,"=보건복지공보위원회",세출_일반!G9:G144)+세출_특별!F7 -> 12206520 | G14: =SUMIF(세출_일반!A9:A144,"=보건복지공보위원회",세출_일반!H9:H144)+세출_특별!G7 -> 2385103 | H14: =C14-F14+G14 -> 2530698719
B15: 건 설 위 | C15: 1432979319 | D15: =SUMIF(세입_일반!A7:A104,"=건설교통위원회",세입_일반!G7:G104)+세입_특별!F13+세입_특별!F19+세입_특별!F22 -> 17556054 | E15: =SUMIF(세입_일반!A7:A104,"=건설교통위원회",세입_일반!H7:H104)+세입_특별!G13+세입_특별!G19+세입_특별!G22 -> 34114000 | F15: =SUMIF(세출_일반!A9:A144,"=건설교통위원회",세출_일반!G9:G144)+세출_특별!F13+세출_특별!F19+세출_특별!F22 -> 20020000 | G15: =SUMIF(세출_일반!A9:A144,"=건설교통위원회",세출_일반!H9:H144)+세출_특별!G13+세출_특별!G19+세출_특별!G22 -> 37364000 | H15: =C15-F15+G15 -> 1450323319
B16: 도 시 위 | C16: 971583139 | D16: =SUMIF(세입_일반!A7:A104,"=도시환경위원회",세입_일반!G7:G104)+세입_특별!F10+세입_특별!F34 -> 6883872 | E16: =SUMIF(세입_일반!A7:A104,"=도시환경위원회",세입_일반!H7:H104)+세입_특별!G10+세입_특별!G34 -> 6023000 | F16: =SUMIF(세출_일반!A9:A144,"=도시환경위원회",세출_일반!G9:G144)+세출_특별!F10+세출_특별!F34 -> 15273149 | G16: =SUMIF(세출_일반!A9:A144,"=도시환경위원회",세출_일반!H9:H144)+세출_특별!G10+세출_특별!G34 -> 14779500 | H16: =C16-F16+G16 -> 971089490
B17: 여가평위 | C17: 3142417945 | D17: =SUMIF(세입_일반!A7:A104,"=여성가족평생교육위원회",세입_일반!G7:G104)+세입_특별!F16 -> 837394 | E17: =SUMIF(세입_일반!A7:A104,"=여성가족평생교육위원회",세입_일반!H7:H104)+세입_특별!G16 -> 34257579 | F17: =SUMIF(세출_일반!A9:A144,"=여성가족평생교육위원회",세출_일반!G9:G144)+세출_특별!F16 -> 1117642 | G17: =SUMIF(세출_일반!A9:A144,"=여성가족평생교육위원회",세출_일반!H9:H144)+세출_특별!G16 -> 49572826 | H17: =C17-F17+G17 -> 3190873129
B19: □ 회계별 예산총규모
H20: (단위:천원)
B21: 구 분 | C21: 세출예산액 (집행부제출 안) | D21: 세입예산(안) | F21: 세출예산(안) | H21: 예산수정(안)
D22: 감 액 | E22: 증 액 | F22: 감 액 | G22: 증 액 | I22: 세입기준 수정예산(안)
B23: 합 계 | C23: =SUM(C24:C25) -> 15218137162 | D23: =SUM(D24:D25) -> 37508969 | E23: =SUM(E24:E25) -> 93221852 | F23: =SUM(F24:F25) -> 51004750 | G23: =SUM(G24:G25) -> 106717633 | H23: =SUM(H24:H25) -> 15273850045 | I23: =+C23+E23-D23 -> 15273850045 | J23: =I23-H23 -> 0 | K23: (세출기준-세입기준)
B24: 일반회계 | C24: 12199451177 | D24: =+세입_일반!G6 -> 37508969 | E24: =+세입_일반!H6 -> 93221852 | F24: =+세출_일반!G6 -> 51004750 | G24: =+세출_일반!H6 -> 106717633 | H24: =+C24+G24-F24 -> 12255164060 | I24: =+C24+E24-D24 -> 12255164060 | J24: =I24-H24 -> 0 | K24: (세출기준-세입기준)
B25: 특별회계 | C25: 3018685985 | D25: =세입_특별!F6 -> 0 | E25: =세입_특별!G6 -> 0 | F25: =세출_특별!F6 -> 0 | G25: =세출_특별!G6 -> 0 | H25: =+C25+G25-F25 -> 3018685985 | I25: =+C25+E25-D25 -> 3018685985 | J25: =I25-H25 -> 0 | K25: (세출기준-세입기준)
A76: 가족여성정책국
F78: 0

Sheet 세입_일반
A1: 2011년도 제4회 추경 일반회계 세입 예산 수정안
B2: □ 세입예산(일반회계)
I3: (단위:천원)
A4: 실국명 | B4: 명세서 페이지 | C4: 사업명 | D4: 예산안 | E4: 조정예산안 | F4: 조정액 | I4: 비 고
F5: 계 | G5: 감액 | H5: 증액 | J5: 국비
A6: 계 | D6: =SUM(D7:D102)/2 -> 2622332054 | E6: =SUM(E7:E102)/2 -> 2678044937 | F6: =SUM(F7:F102)/2 -> 55712883 | G6: =SUM(G7:G102)/2 -> 37508969 | H6: =SUM(H7:H102)/2 -> 93221852 | J6: =SUM(J7:J102) -> 42883480
A7: 의회운영위원회 | C7: 의회운영위원회 | D7: =SUM(D8:D9) -> 0 | E7: =SUM(E8:E9) -> 0 | F7: =SUM(F8:F9) -> 0 | G7: =SUM(G8:G9) -> 0 | H7: =SUM(H8:H9) -> 0
E8: =D8+F8 -> 0 | F8: =H8-G8 -> 0
E9: =D9+F9 -> 0 | F9: =H9-G9 -> 0
A10: 기획위원회 | C10: 기획위원회 | D10: =SUM(D11:D12) -> 0 | E10: =SUM(E11:E12) -> 1700000 | F10: =SUM(F11:F12) -> 1700000 | G10: =SUM(G11:G12) -> 0 | H10: =SUM(H11:H12) -> 1700000
A11: 기획조정실 | C11: U-시범도시 지원 | E11: =D11+F11 -> 1700000 | F11: =H11-G11 -> 1700000 | H11: 1700000 | J11: 1700000
E12: =D12+F12 -> 0 | F12: =H12-G12 -> 0
A13: 경제투자위원회 | C13: 경제투자위원회 | D13: =SUM(D14:D17) -> 4776613 | E13: =SUM(E14:E17) -> 4287450 | F13: =SUM(F14:F17) -> -489163 | G13: =SUM(G14:G17) -> 679721 | H13: =SUM(H14:H17) -> 190558
A14: 경제투자실 | B14: 244 | C14: 경제정책과 국비사용잔액 | D14: 32721 | E14: =D14+F14 -> 0 | F14: =H14-G14 -> -32721 | G14: 32721
A15: 경제투자실 | B15: 244 | C15: 소상공인지원센터 운영(광특) | D15: -650108 | E15: =D15+F15 -> -459550 | F15: =H15-G15 -> 190558 | G15: 0 | H15: 190558 | J15: 190558
A16: 경제투자실 | B16: 당초 50 | C16: 신재생에너지 보급사업 | D16: 5394000 | E16: =D16+F16 -> 4747000 | F16: =H16-G16 -> -647000 | G16: 647000 | I16: 국비변경내시 | J16: -647000
E17: =D17+F17 -> 0 | F17: =H17-G17 -> 0
A18: 행정자치위원회 | C18: 행정자치위원회 | D18: =SUM(D19:D23) -> 149725522 | E18: =SUM(E19:E23) -> 162543892 | F18: =SUM(F19:F23) -> 12818370 | G18: =SUM(G19:G23) -> 500000 | H18: =SUM(H19:H23) -> 13318370
A19: 자치행정국 | B19: 당초 50 | C19: 국외강제동원 희생자 지원 | D19: 225522 | E19: =D19+F19 -> 269022 | F19: =H19-G19 -> 43500 | H19: 43500 | I19: 국비추가내시 | J19: 43500
A20: 소방재난본부 | B20: 3회추경 55 | C20: 저소득층 밀집지역 안전환경 개선사업 | D20: 500000 | E20: =D20+F20 -> 0 | F20: =H20-G20 -> -500000 | G20: 500000 | I20: 국비변경내시 | J20: -500000
A21: 비상기획관 | B21: 신규 | C21: 재난관리 우수지자체 지원 | E21: =D21+F21 -> 100000 | F21: =H21-G21 -> 100000 | H21: 100000 | I21: 국비추가내시 | J21: 100000
A22: 자치행정국 | B22: 당초 37 | C22: 지역자원시설세(지방세수입) | D22: 149000000 | E22: =D22+F22 -> 162174870 | F22: =H22-G22 -> 13174870 | H22: 13174870
E23: =D23+F23 -> 0 | F23: =H23-G23 -> 0
A24: 문화체육관광위원회 | C24: 문화체육관광위원회 | D24: =SUM(D25:D27) -> 0 | E24: =SUM(E25:E27) -> 75000 | F24: =SUM(F25:F27) -> 75000 | G24: =SUM(G25:G27) -> 0 | H24: =SUM(H25:H27) -> 75000
A25: 문화관광국 | C25: 문화를 통한 전통시장 활성화 | E25: =D25+F25 -> 75000 | F25: =H25-G25 -> 75000 | H25: 75000 | J25: 75000
E26: =D26+F26 -> 0 | F26: =H26-G26 -> 0
E27: =D27+F27 -> 0 | F27: =H27-G27 -> 0
A28: 농림수산위원회 | C28: 농림수산위원회 | D28: =SUM(D29:D38) -> 7743001 | E28: =SUM(E29:E38) -> 8886639 | F28: =SUM(F29:F38) -> 1143638 | G28: =SUM(G29:G38) -> 801633 | H28: =SUM(H29:H38) -> 1945271
A29: 농정국 | B29: 3회추경 42 | C29: 농산유통과 국비사용잔액 | D29: 4470 | E29: =D29+F29 -> 4879 | F29: =H29-G29 -> 409 | G29: 0 | H29: 409 | I29: 2010년도 국비사용잔액
A30: 농정국 | B30: 3회추경 53 | C30: 논 소득기반 다양화 | D30: 5314286 | E30: =D30+F30 -> 4914042 | F30: =H30-G30 -> -400244 | G30: 400244 | I30: 국비변경내시 | J30: -400244
A31: 농정국 | B31: 당초 64 | C31: 도축검사보조원 인건비 | D31: 477360 | E31: =D31+F31 -> 462540 | F31: =H31-G31 -> -14820 | G31: 14820 | I31: 국비변경내시 | J31: -14820
A32: 농정국 | B32: 당초 64 | C32: 축산종합지도지원 | D32: 136500 | E32: =D32+F32 -> 133500 | F32: =H32-G32 -> -3000 | G32: 3000 | I32: 국비변경내시 | J32: -3000
A33: 농정국 | B33: 신규 | C33: 가축분뇨공동자원화사업 반납금 (용인시) | D33: 0 | E33: =D33+F33 -> 1769999 | F33: =H33-G33 -> 1769999 | H33: 1769999 | I33: 용인시 사업포기에 따른 반납금
A34: 농정국 | C34: 농어업인 영유아양육비 지원 | D34: -462000 | E34: =D34+F34 -> -331285 | F34: =H34-G34 -> 130715 | H34: 130715 | I34: 국비변경내시 | J34: 130715
A35: 농정국 | C35: 친환경농업직접지불 | D35: 1193425 | E35: =D35+F35 -> 860856 | F35: =H35-G35 -> -332569 | G35: 332569 | I35: 국비변경내시 | J35: -332569
A36: 농정국 | C36: 녹비작물 종자대 공급 | D36: 595550 | E36: =D36+F36 -> 544550 | F36: =H36-G36 -> -51000 | G36: 51000 | I36: 국비변경내시 | J36: -51000
A37: 농정국 | C37: 친환경안전축산직접지불제 | D37: 483410 | E37: =D37+F37 -> 527558 | F37: =H37-G37 -> 44148 | H37: 44148 | I37: 국비변경내시 | J37: 44148
E38: =D38+F38 -> 0 | F38: =H38-G38 -> 0
A39: 보건복지공보위원회 | C39: 보건복지공보위원회 | D39: =SUM(D40:D60) -> 1376507114 | E39: =SUM(E40:E60) -> 1367854893 | F39: =SUM(F40:F60) -> -8652221 | G39: =SUM(G40:G60) -> 10250295 | H39: =SUM(H40:H60) -> 1598074
A40: 보건복지국 | B40: 3회추경 53 | C40: 자활지원 | D40: 44854745 | E40: =D40+F40 -> 43683000 | F40: =H40-G40 -> -1171745 | G40: 1171745 | I40: 국비변경내시 | J40: -1171745
...

Sheet 세출_일반
A1: 2011년도 제4회 추경 일반회계 세출 예산 수정안
B2: □ 세출예산(일반회계)
I3: (단위:천원)
A4: 실국명 | B4: 명세서 페이지 | C4: 사업명 | D4: 예산안 | E4: 조정예산안 | F4: 조정액 | I4: 비 고 | K4: =세입_일반!J6 -> 42883480 | L4: =K4-K6 -> 0
F5: 계 | G5: 감액 | H5: 증액 | J5: 계 | K5: 국비 | L5: 도비
A6: 계 | D6: =SUM(D7:D142)/2 -> 2745085732 | E6: =SUM(E7:E142)/2 -> 2800798615 | F6: =SUM(F7:F142)/2 -> 55712883 | G6: =SUM(G7:G142)/2 -> 51004750 | H6: =SUM(H7:H142)/2 -> 106717633 | J6: =F6 -> 55712883 | K6: =SUM(K9:K141)/2 -> 42883480 | L6: =J6-K6 -> 12829403
A7: 기타 | C7: 기타 | D7: =SUM(D8:D8) -> 0 | E7: =SUM(E8:E8) -> 0 | F7: =SUM(F8:F8) -> 0 | G7: =SUM(G8:G8) -> 0 | H7: =SUM(H8:H8) -> 0 | J7: =F7 -> 0 | L7: =J7-K7 -> 0
E8: =D8+F8 -> 0 | F8: =H8-G8 -> 0 | J8: =F8 -> 0 | L8: =J8-K8 -> 0
A9: 의회운영위원회 | C9: 의회운영위원회 | D9: =SUM(D10:D12) -> 0 | E9: =SUM(E10:E12) -> 0 | F9: =SUM(F10:F12) -> 0 | G9: =SUM(G10:G12) -> 0 | H9: =SUM(H10:H12) -> 0 | J9: =F9 -> 0 | K9: =SUM(K10:K12) -> 0 | L9: =J9-K9 -> 0
A10: 의회사무처 | B10: 신규 | C10: 승객용 승강기 교체공사 | E10: =D10+F10 -> 0 | F10: =H10-G10 -> 0 | J10: =F10 -> 0 | L10: =J10-K10 -> 0
A11: 의회사무처 | B11: 신규 | C11: LED 조명등 교체공사 | E11: =D11+F11 -> 0 | F11: =H11-G11 -> 0 | J11: =F11 -> 0 | L11: =J11-K11 -> 0
E12: =D12+F12 -> 0 | F12: =H12-G12 -> 0 | J12: =F12 -> 0 | L12: =J12-K12 -> 0
A13: 기획위원회 | C13: 기획위원회 | D13: =SUM(D14:D16) -> 0 | E13: =SUM(E14:E16) -> 1700000 | F13: =SUM(F14:F16) -> 1700000 | G13: =SUM(G14:G16) -> 0 | H13: =SUM(H14:H16) -> 1700000 | J13: =F13 -> 1700000 | K13: =SUM(K14:K16) -> 1700000 | L13: =J13-K13 -> 0
A14: 기획조정실 | C14: U-시범도시 지원 | E14: =D14+F14 -> 1700000 | F14: =H14-G14 -> 1700000 | H14: 1700000 | J14: =F14 -> 1700000 | K14: 1700000 | L14: =J14-K14 -> 0
E15: =D15+F15 -> 0 | F15: =H15-G15 -> 0 | J15: =F15 -> 0 | L15: =J15-K15 -> 0
A16: 예산담당관 | B16: 233 | C16: 예비비 | E16: =D16+F16 -> 0 | F16: =H16-G16 -> 0 | J16: =F16 -> 0 | L16: =J16-K16 -> 0
A17: 경제투자위원회 | C17: 경제투자위원회 | D17: =SUM(D18:D22) -> 3793514 | E17: =SUM(E18:E22) -> 3210350 | F17: =SUM(F18:F22) -> -583164 | G17: =SUM(G18:G22) -> 1059722 | H17: =SUM(H18:H22) -> 476558 | J17: =F17 -> -583164 | K17: =SUM(K18:K22) -> -456442 | L17: =J17-K17 -> -126722
A18: 경제투자실 | B18: 247 | C18: 소상공인지원센터 운영(광특/직접) | D18: -650108 | E18: =D18+F18 -> -459550 | F18: =H18-G18 -> 190558 | G18: 0 | H18: 190558 | J18: =F18 -> 190558 | K18: 190558 | L18: =J18-K18 -> 0
A19: 경제투자실 | B19: 248 | C19: 재무활동(경제정책과) 반환금 기타 | D19: 32722 | E19: =D19+F19 -> 0 | F19: =H19-G19 -> -32722 | G19: 32722 | H19: 0 | J19: =F19 -> -32722 | L19: =J19-K19 -> -32722
A20: 경제투자실 | B20: 신규 | C20: 신재생에너지보급사업(국비/직접) | D20: 0 | E20: =D20+F20 -> 286000 | F20: =H20-G20 -> 286000 | G20: 0 | H20: 286000 | J20: =F20 -> 286000 | K20: 192000 | L20: =J20-K20 -> 94000
A21: 경제투자실 | B21: 당초 130 | C21: 신재생에너지보급사업(국비/지원) | D21: 4410900 | E21: =D21+F21 -> 3383900 | F21: =H21-G21 -> -1027000 | G21: 1027000 | H21: 0 | J21: =F21 -> -1027000 | K21: -839000 | L21: =J21-K21 -> -188000
E22: =D22+F22 -> 0 | F22: =H22-G22 -> 0 | J22: =F22 -> 0 | L22: =J22-K22 -> 0
A23: 행정자치위원회 | C23: 행정자치위원회 | D23: =SUM(D24:D27) -> 0 | E23: =SUM(E24:E27) -> -356500 | F23: =SUM(F24:F27) -> -356500 | G23: =SUM(G24:G27) -> 500000 | H23: =SUM(H24:H27) -> 143500 | J23: =F23 -> -356500 | K23: =SUM(K24:K27) -> -356500 | L23: =J23-K23 -> 0
A24: 자치행정국 | B24: 당초 168 | C24: 국외강제동원 희생자 지원 | E24: =D24+F24 -> 43500 | F24: =H24-G24 -> 43500 | H24: 43500 | I24: 국비추가내시 | J24: =F24 -> 43500 | K24: 43500 | L24: =J24-K24 -> 0
A25: 소방재난본부 | B25: 3회추경 177 | C25: 저소득층 밀집지역 안전환경 개선사업 (국비/지원) -> (자체/지원) | E25: =D25+F25 -> -500000 | F25: =H25-G25 -> -500000 | G25: 500000 | I25: 국비변경내시 국비 -> 자체 사업으로 변경 | J25: =F25 -> -500000 | K25: -500000 | L25: =J25-K25 -> 0
A26: 비상기획관 | B26: 신규 | C26: 재난관리 우수지자체 지원 | E26: =D26+F26 -> 100000 | F26: =H26-G26 -> 100000 | H26: 100000 | I26: 국비추가내시 | J26: =F26 -> 100000 | K26: 100000 | L26: =J26-K26 -> 0
E27: =D27+F27 -> 0 | F27: =H27-G27 -> 0 | J27: =F27 -> 0 | L27: =J27-K27 -> 0
A28: 문화체육관광위원회 | C28: 문화체육관광위원회 | D28: =SUM(D29:D30) -> 0 | E28: =SUM(E29:E30) -> 75000 | F28: =SUM(F29:F30) -> 75000 | G28: =SUM(G29:G30) -> 0 | H28: =SUM(H29:H30) -> 75000 | J28: =F28 -> 75000 | K28: =SUM(K29:K30) -> 75000 | L28: =J28-K28 -> 0
A29: 문화체육관광국 | C29: 문화를 통한 전통시장 활성화 시범사업 | E29: =D29+F29 -> 75000 | F29: =H29-G29 -> 75000 | H29: 75000 | J29: =F29 -> 75000 | K29: 75000 | L29: =J29-K29 -> 0
E30: =D30+F30 -> 0 | F30: =H30-G30 -> 0 | J30: =F30 -> 0 | L30: =J30-K30 -> 0
A31: 농림수산위원회 | C31: 농림수산위원회 | D31: =SUM(D32:D42) -> 8037900 | E31: =SUM(E32:E42) -> 7431329 | F31: =SUM(F32:F42) -> -606571 | G31: =SUM(G32:G42) -> 827717 | H31: =SUM(H32:H42) -> 221146 | J31: =F31 -> -606571 | K31: =SUM(K32:K42) -> -626770 | L31: =J31-K31 -> 20199
A32: 농정국 | B32: 3회추경 97 | C32: 논 소득기반 다양화 | D32: 5314286 | E32: =D32+F32 -> 4914042 | F32: =H32-G32 -> -400244 | G32: 400244 | I32: 국비 변경내시분 반영 - 국비 △400,244 | J32: =F32 -> -400244 | K32: -400244 | L32: =J32-K32 -> 0
A33: 농정국 | B33: 3회추경 100 | C33: 국비사용잔액 | D33: 4471 | E33: =D33+F33 -> 4880 | F33: =H33-G33 -> 409 | G33: 0 | H33: 409 | I33: 2010년도 국비사용잔액 | J33: =F33 -> 409 | K33: 0 | L33: =J33-K33 -> 409
A34: 농정국 | B34: 당초 258 | C34: 도축검사보조원 인건비 | D34: 795600 | E34: =D34+F34 -> 770900 | F34: =H34-G34 -> -24700 | G34: 24700 | I34: 국비 변경내시분 반영 - 국비 △14,820 - 도비 △9,880 | J34: =F34 -> -24700 | K34: -14820 | L34: =J34-K34 -> -9880
A35: 경제농정국 | B35: 당초 869 | C35: 축산종합지도지원사업 | D35: 62400 | E35: =D35+F35 -> 58500 | F35: =H35-G35 -> -3900 | G35: 3900 | I35: 국비 변경내시분 반영 - 국비 △3,000 - 도비 △900 | J35: =F35 -> -3900 | K35: -3000 | L35: =J35-K35 -> -900
A36: 농정국 | C36: 농어업인 영유아양육비 지원 | D36: -589907 | E36: =D36+F36 -> -413318 | F36: =H36-G36 -> 176589 | H36: 176589 | I36: 국비변경내시 | J36: =F36 -> 176589 | K36: 130715 | L36: =J36-K36 -> 45874
A37: 농정국 | C37: 친환경농업직접지불 | D37: 759400 | E37: =D37+F37 -> 559281 | F37: =H37-G37 -> -200119 | G37: 200119 | I37: 국비변경내시 | J37: =F37 -> -200119 | K37: -200119 | L37: =J37-K37 -> 0
A38: 경제농정국 | C38: 친환경농업직접지불 | D38: 434025 | E38: =D38+F38 -> 301575 | F38: =H38-G38 -> -132450 | G38: 132450 | I38: 국비변경내시 | J38: =F38 -> -132450 | K38: -132450 | L38: =J38-K38 -> 0
A39: 농정국 | C39: 녹비작물종자대공급 | D39: 665338 | E39: =D39+F39 -> 609680 | F39: =H39-G39 -> -55658 | G39: 55658 | I39: 국비변경내시 | J39: =F39 -> -55658 | K39: -42812 | L39: =J39-K39 -> -12846
A40: 경제농정국 | C40: 녹비작물종자대공급 | D40: 108877 | E40: =D40+F40 -> 98231 | F40: =H40-G40 -> -10646 | G40: 10646 | I40: 국비변경내시 | J40: =F40 -> -10646 | K40: -8188 | L40: =J40-K40 -> -2458
...

Sheet 세입_특별
A1: 2011년도 제1회추경 특별회계 세입 예산 수정(안)
B2: □ 세입예산(특별회계)
M3: (단위:천원)
A4: 부서명 | B4: 명세서 페이지 | C4: 사업명 | D4: 예산안 | E4: 조정액 | H4: 재 원 현 황 | M4: 비 고
E5: 계 | F5: 감액 | G5: 증액 | H5: 계 | I5: 국비 | J5: 균특 | K5: 기금 | L5: 도비
C6: 계 | D6: =SUM(D7:D36)/2 -> 0 | E6: =SUM(E7:E36)/2 -> 0 | F6: =SUM(F7:F36)/2 -> 0 | G6: =SUM(G7:G36)/2 -> 0 | H6: =SUM(H7:H36) -> 0 | I6: =SUM(I7:I36) -> 0 | J6: =SUM(J7:J36) -> 0 | K6: =SUM(K7:K36) -> 0 | L6: =SUM(L7:L36) -> 0
A7: 의료급여기금 | C7: 의료급여기금 | D7: =SUM(D8:D9) -> 0 | E7: =SUM(E8:E9) -> 0 | F7: =SUM(F8:F9) -> 0 | G7: =SUM(G8:G9) -> 0 | H7: =SUM(H8:H9) -> 0 | I7: =SUM(I8:I9) -> 0 | J7: =SUM(J8:J9) -> 0 | K7: =SUM(K8:K9) -> 0 | L7: =SUM(L8:L9) -> 0
E8: =SUM(G8-F8) -> 0 | G8: =IF(H8>0,H8,0) -> 0 | H8: =SUM(I8:L8) -> 0
D9: 0 | E9: =SUM(G9-F9) -> 0 | F9: =IF(H9>0,0,-H9) -> 0 | G9: =IF(H9>0,H9,0) -> 0 | H9: =SUM(I9:L9) -> 0
A10: 팔당호관리 | C10: 팔당호관리 | D10: =SUM(D11:D12) -> 0 | E10: =SUM(E11:E12) -> 0 | F10: =SUM(F11:F12) -> 0 | G10: =SUM(G11:G12) -> 0 | H10: =SUM(H11:H12) -> 0 | I10: =SUM(I11:I12) -> 0 | J10: =SUM(J11:J12) -> 0 | K10: =SUM(K11:K12) -> 0 | L10: =SUM(L11:L12) -> 0
D11: 0 | E11: =SUM(G11-F11) -> 0 | F11: =IF(H11>0,0,-H11) -> 0 | G11: =IF(H11>0,H11,0) -> 0 | H11: =SUM(I11:L11) -> 0
D12: 0 | E12: =SUM(G12-F12) -> 0 | F12: =IF(H12>0,0,-H12) -> 0 | G12: =IF(H12>0,H12,0) -> 0 | H12: =SUM(I12:L12) -> 0
A13: 유료도로사업 | C13: 유료도로사업 | D13: =SUM(D14:D15) -> 0 | E13: =SUM(E14:E15) -> 0 | F13: =SUM(F14:F15) -> 0 | G13: =SUM(G14:G15) -> 0 | H13: =SUM(H14:H15) -> 0 | I13: =SUM(I14:I15) -> 0 | J13: =SUM(J14:J15) -> 0 | K13: =SUM(K14:K15) -> 0 | L13: =SUM(L14:L15) -> 0
D14: 0 | E14: =SUM(G14-F14) -> 0 | F14: =IF(H14>0,0,-H14) -> 0 | G14: =IF(H14>0,H14,0) -> 0 | H14: =SUM(I14:L14) -> 0
D15: 0 | E15: =SUM(G15-F15) -> 0 | F15: =IF(H15>0,0,-H15) -> 0 | G15: =IF(H15>0,H15,0) -> 0 | H15: =SUM(I15:L15) -> 0
A16: 학교용지부담금 | C16: 학교용지부담금 | D16: =SUM(D17:D18) -> 0 | E16: =SUM(E17:E18) -> 0 | F16: =SUM(F17:F18) -> 0 | G16: =SUM(G17:G18) -> 0 | H16: =SUM(H17:H18) -> 0 | I16: =SUM(I17:I18) -> 0 | J16: =SUM(J17:J18) -> 0 | K16: =SUM(K17:K18) -> 0 | L16: =SUM(L17:L18) -> 0
A19: 광역교통시설 | C19: 광역교통시설 | D19: =SUM(D20:D21) -> 0 | E19: =SUM(E20:E21) -> 0 | F19: =SUM(F20:F21) -> 0 | G19: =SUM(G20:G21) -> 0 | H19: =SUM(H20:H21) -> 0 | I19: =SUM(I20:I21) -> 0 | J19: =SUM(J20:J21) -> 0 | K19: =SUM(K20:K21) -> 0 | L19: =SUM(L20:L21) -> 0
D20: 0 | E20: =SUM(G20-F20) -> 0 | F20: =IF(H20>0,0,-H20) -> 0 | G20: =IF(H20>0,H20,0) -> 0 | H20: =SUM(I20:L20) -> 0
D21: 0 | E21: =SUM(G21-F21) -> 0 | F21: =IF(H21>0,0,-H21) -> 0 | G21: =IF(H21>0,H21,0) -> 0 | H21: =SUM(I21:L21) -> 0
A22: 임진강유역댐정비 | C22: 임진강유역댐정비 | D22: =SUM(D23:D24) -> 0 | E22: =SUM(E23:E24) -> 0 | F22: =SUM(F23:F24) -> 0 | G22: =SUM(G23:G24) -> 0 | H22: =SUM(H23:H24) -> 0 | I22: =SUM(I23:I24) -> 0 | J22: =SUM(J23:J24) -> 0 | K22: =SUM(K23:K24) -> 0 | L22: =SUM(L23:L24) -> 0
D23: 0 | E23: =SUM(G23-F23) -> 0 | F23: =IF(H23>0,0,-H23) -> 0 | G23: =IF(H23>0,H23,0) -> 0 | H23: =SUM(I23:L23) -> 0
D24: 0 | E24: =SUM(G24-F24) -> 0 | F24: =IF(H24>0,0,-H24) -> 0 | G24: =IF(H24>0,H24,0) -> 0 | H24: =SUM(I24:L24) -> 0
A25: 지역개발기금 | C25: 지역개발기금 | D25: =SUM(D26:D27) -> 0 | E25: =SUM(E26:E27) -> 0 | F25: =SUM(F26:F27) -> 0 | G25: =SUM(G26:G27) -> 0 | H25: =SUM(H26:H27) -> 0 | I25: =SUM(I26:I27) -> 0 | J25: =SUM(J26:J27) -> 0 | K25: =SUM(K26:K27) -> 0 | L25: =SUM(L26:L27) -> 0
D26: 0 | E26: =SUM(G26-F26) -> 0 | F26: =IF(H26>0,0,-H26) -> 0 | G26: =IF(H26>0,H26,0) -> 0 | H26: =SUM(I26:L26) -> 0
D27: 0 | E27: =SUM(G27-F27) -> 0 | F27: =IF(H27>0,0,-H27) -> 0 | G27: =IF(H27>0,H27,0) -> 0 | H27: =SUM(I27:L27) -> 0
A28: 판교테크노밸리 | C28: 판교테크노밸리 | D28: =SUM(D29:D30) -> 0 | E28: =SUM(E29:E30) -> 0 | F28: =SUM(F29:F30) -> 0 | G28: =SUM(G29:G30) -> 0 | H28: =SUM(H29:H30) -> 0 | I28: =SUM(I29:I30) -> 0 | J28: =SUM(J29:J30) -> 0 | K28: =SUM(K29:K30) -> 0 | L28: =SUM(L29:L30) -> 0
D29: 0 | E29: =SUM(G29-F29) -> 0 | F29: =IF(H29>0,0,-H29) -> 0 | G29: =IF(H29>0,H29,0) -> 0 | H29: =SUM(I29:L29) -> 0
D30: 0 | E30: =SUM(G30-F30) -> 0 | F30: =IF(H30>0,0,-H30) -> 0 | G30: =IF(H30>0,H30,0) -> 0 | H30: =SUM(I30:L30) -> 0
A31: 고양관광문화단지 | C31: 고양관광문화단지 | D31: =SUM(D32:D33) -> 0 | E31: =SUM(E32:E33) -> 0 | F31: =SUM(F32:F33) -> 0 | G31: =SUM(G32:G33) -> 0 | H31: =SUM(H32:H33) -> 0 | I31: =SUM(I32:I33) -> 0 | J31: =SUM(J32:J33) -> 0 | K31: =SUM(K32:K33) -> 0 | L31: =SUM(L32:L33) -> 0
H32: =SUM(I32:L32) -> 0
D33: 0 | E33: =SUM(G33-F33) -> 0 | F33: =IF(H33>0,0,-H33) -> 0 | G33: =IF(H33>0,H33,0) -> 0 | H33: =SUM(I33:L33) -> 0
A34: 고덕국제화지구 | C34: 고덕국제화지구 | D34: =SUM(D35:D36) -> 0 | E34: =SUM(E35:E36) -> 0 | F34: =SUM(F35:F36) -> 0 | G34: =SUM(G35:G36) -> 0 | H34: =SUM(H35:H36) -> 0 | I34: =SUM(I35:I36) -> 0 | J34: =SUM(J35:J36) -> 0 | K34: =SUM(K35:K36) -> 0 | L34: =SUM(L35:L36) -> 0
D35: 0 | E35: =SUM(G35-F35) -> 0 | F35: =IF(H35>0,0,-H35) -> 0 | G35: =IF(H35>0,H35,0) -> 0 | H35: =SUM(I35:L35) -> 0
D36: 0 | E36: =SUM(G36-F36) -> 0 | F36: =IF(H36>0,0,-H36) -> 0 | G36: =IF(H36>0,H36,0) -> 0 | H36: =SUM(I36:L36) -> 0

Sheet 세출_특별
A1: 2011년도 제1회추경 특별회계 세출 예산 수정(안)
B2: □ 세출예산(특별회계)
M3: (단위:천원)
A4: 부서명 | B4: 명세서 페이지 | C4: 사업명 | D4: 예산안 | E4: 조정액 | H4: 재 원 현 황 | M4: 비 고
E5: 계 | F5: 감액 | G5: 증액 | H5: 계 | I5: 국비 | J5: 균특 | K5: 기금 | L5: 도비
A6: 계 | C6: 계 | D6: =SUM(D7:D36)/2 -> 0 | E6: =SUM(E7:E36)/2 -> 0 | F6: =SUM(F7:F36)/2 -> 0 | G6: =SUM(G7:G36)/2 -> 0 | H6: =SUM(H7:H36)/2 -> 0 | I6: =SUM(I7:I36)/2 -> 0 | J6: =SUM(J7:J36)/2 -> 0 | K6: =SUM(K7:K36)/2 -> 0 | L6: =SUM(L7:L36)/2 -> 0
A7: 의료급여기금 | C7: 의료급여기금 | D7: =SUM(D8:D9) -> 0 | E7: =SUM(E8:E9) -> 0 | F7: =SUM(F8:F9) -> 0 | G7: =SUM(G8:G9) -> 0 | H7: =SUM(H8:H9) -> 0 | I7: =SUM(I8:I9) -> 0 | J7: =SUM(J8:J9) -> 0 | K7: =SUM(K8:K9) -> 0 | L7: =SUM(L8:L9) -> 0
E8: =SUM(G8-F8) -> 0 | G8: =IF(H8>0,H8,0) -> 0 | H8: =SUM(I8:L8) -> 0
E9: =SUM(G9-F9) -> 0 | F9: =IF(H9>0,0,-H9) -> 0 | G9: =IF(H9>0,H9,0) -> 0 | H9: =SUM(I9:L9) -> 0
A10: 팔당호관리 | C10: 팔당호관리 | D10: =SUM(D11:D12) -> 0 | E10: =SUM(E11:E12) -> 0 | F10: =SUM(F11:F12) -> 0 | G10: =SUM(G11:G12) -> 0 | H10: =SUM(H11:H12) -> 0 | I10: =SUM(I11:I12) -> 0 | J10: =SUM(J11:J12) -> 0 | K10: =SUM(K11:K12) -> 0 | L10: =SUM(L11:L12) -> 0
E11: =SUM(G11-F11) -> 0 | F11: =IF(H11>0,0,-H11) -> 0 | G11: =IF(H11>0,H11,0) -> 0 | H11: =SUM(I11:L11) -> 0
E12: =SUM(G12-F12) -> 0 | F12: =IF(H12>0,0,-H12) -> 0 | G12: =IF(H12>0,H12,0) -> 0 | H12: =SUM(I12:L12) -> 0
A13: 유료도로사업 | C13: 유료도로사업 | D13: =SUM(D14:D15) -> 0 | E13: =SUM(E14:E15) -> 0 | F13: =SUM(F14:F15) -> 0 | G13: =SUM(G14:G15) -> 0 | H13: =SUM(H14:H15) -> 0 | I13: =SUM(I14:I15) -> 0 | J13: =SUM(J14:J15) -> 0 | K13: =SUM(K14:K15) -> 0 | L13: =SUM(L14:L15) -> 0
E14: =SUM(G14-F14) -> 0 | F14: =IF(H14>0,0,-H14) -> 0 | G14: =IF(H14>0,H14,0) -> 0 | H14: =SUM(I14:L14) -> 0
E15: =SUM(G15-F15) -> 0 | F15: =IF(H15>0,0,-H15) -> 0 | G15: =IF(H15>0,H15,0) -> 0 | H15: =SUM(I15:L15) -> 0
A16: 학교용지부담금 | C16: 학교용지부담금 | D16: =SUM(D17:D18) -> 0 | E16: =SUM(E17:E18) -> 0 | F16: =SUM(F17:F18) -> 0 | G16: =SUM(G17:G18) -> 0 | H16: =SUM(H17:H18) -> 0 | I16: =SUM(I17:I18) -> 0 | J16: =SUM(J17:J18) -> 0 | K16: =SUM(K17:K18) -> 0 | L16: =SUM(L17:L18) -> 0
H17: =SUM(I17:L17) -> 0
H18: =SUM(I18:L18) -> 0
A19: 광역교통시설 | C19: 광역교통시설 | D19: =SUM(D20:D21) -> 0 | E19: =SUM(E20:E21) -> 0 | F19: =SUM(F20:F21) -> 0 | G19: =SUM(G20:G21) -> 0 | H19: =SUM(H20:H21) -> 0 | I19: =SUM(I20:I21) -> 0 | J19: =SUM(J20:J21) -> 0 | K19: =SUM(K20:K21) -> 0 | L19: =SUM(L20:L21) -> 0
E20: =SUM(G20-F20) -> 0 | G20: =IF(H20>0,H20,0) -> 0 | H20: =SUM(I20:L20) -> 0
E21: =SUM(G21-F21) -> 0 | F21: =IF(H21>0,0,-H21) -> 0 | G21: =IF(H21>0,H21,0) -> 0 | H21: =SUM(I21:L21) -> 0
A22: 임진강유역댐정비 | C22: 임진강유역댐정비 | D22: =SUM(D23:D24) -> 0 | E22: =SUM(E23:E24) -> 0 | F22: =SUM(F23:F24) -> 0 | G22: =SUM(G23:G24) -> 0 | H22: =SUM(H23:H24) -> 0 | I22: =SUM(I23:I24) -> 0 | J22: =SUM(J23:J24) -> 0 | K22: =SUM(K23:K24) -> 0 | L22: =SUM(L23:L24) -> 0
E23: =SUM(G23-F23) -> 0 | F23: =IF(H23>0,0,-H23) -> 0 | G23: =IF(H23>0,H23,0) -> 0 | H23: =SUM(I23:L23) -> 0
E24: =SUM(G24-F24) -> 0 | F24: =IF(H24>0,0,-H24) -> 0 | G24: =IF(H24>0,H24,0) -> 0 | H24: =SUM(I24:L24) -> 0
A25: 지역개발기금 | C25: 지역개발기금 | D25: =SUM(D26:D27) -> 0 | E25: =SUM(E26:E27) -> 0 | F25: =SUM(F26:F27) -> 0 | G25: =SUM(G26:G27) -> 0 | H25: =SUM(H26:H27) -> 0 | I25: =SUM(I26:I27) -> 0 | J25: =SUM(J26:J27) -> 0 | K25: =SUM(K26:K27) -> 0 | L25: =SUM(L26:L27) -> 0
A28: 판교테크노밸리 | C28: 판교테크노밸리 | D28: =SUM(D29:D30) -> 0 | E28: =SUM(E29:E30) -> 0 | F28: =SUM(F29:F30) -> 0 | G28: =SUM(G29:G30) -> 0 | H28: =SUM(H29:H30) -> 0 | I28: =SUM(I29:I30) -> 0 | J28: =SUM(J29:J30) -> 0 | K28: =SUM(K29:K30) -> 0 | L28: =SUM(L29:L30) -> 0
E29: =SUM(G29-F29) -> 0 | F29: =IF(H29>0,0,-H29) -> 0 | G29: =IF(H29>0,H29,0) -> 0 | H29: =SUM(I29:L29) -> 0
E30: =SUM(G30-F30) -> 0 | F30: =IF(H30>0,0,-H30) -> 0 | G30: =IF(H30>0,H30,0) -> 0 | H30: =SUM(I30:L30) -> 0
A31: 고양관광문화단지 | C31: 고양관광문화단지 | D31: =SUM(D32:D33) -> 0 | E31: =SUM(E32:E33) -> 0 | F31: =SUM(F32:F33) -> 0 | G31: =SUM(G32:G33) -> 0 | H31: =SUM(H32:H33) -> 0 | I31: =SUM(I32:I33) -> 0 | J31: =SUM(J32:J33) -> 0 | K31: =SUM(K32:K33) -> 0 | L31: =SUM(L32:L33) -> 0
A34: 고덕국제화지구 | C34: 고덕국제화지구 | D34: =SUM(D35:D36) -> 0 | E34: =SUM(E35:E36) -> 0 | F34: =SUM(F35:F36) -> 0 | G34: =SUM(G35:G36) -> 0 | H34: =SUM(H35:H36) -> 0 | I34: =SUM(I35:I36) -> 0 | J34: =SUM(J35:J36) -> 0 | K34: =SUM(K35:K36) -> 0 | L34: =SUM(L35:L36) -> 0
E35: =SUM(G35-F35) -> 0 | F35: =IF(H35>0,0,-H35) -> 0 | G35: =IF(H35>0,H35,0) -> 0 | H35: =SUM(I35:L35) -> 0
E36: =SUM(G36-F36) -> 0 | F36: =IF(H36>0,0,-H36) -> 0 | G36: =IF(H36>0,H36,0) -> 0 | H36: =SUM(I36:L36) -> 0

Sheet 총괄표_기금
B1: 2011년도 경기도 기금운용계획 세입·세출 예산 수정(안)
B3: □ 총 괄
H4: (단위:천원)
B5: 구 분 | C5: 집행부 제출(안) | D5: 세입예산(안) | F5: 세출예산(안) | H5: 예산수정(안)
D6: 감 액 | E6: 증 액 | F6: 감 액 | G6: 증 액
B7: 합 계 | C7: =SUM(C8:C17) -> 0 | D7: =SUM(D8:D17) -> 0 | E7: =SUM(E8:E17) -> 0 | F7: =SUM(F8:F17) -> 0 | G7: =SUM(G8:G17) -> 0 | H7: =SUM(H8:H17) -> 0
B8: 의회운영
B9: 기 획
B10: 경제투자
B11: 행정자치
B12: 문화관광
B13: 농림수산
B14: 보건복지
B15: 건설교통
B16: 도시환경
B17: 가족여성
B19: □ 회계별 예산총규모
H20: (단위:천원)
B21: 구 분 | C21: 집행부 제출(안) | D21: 세입예산(안) | F21: 세출예산(안) | H21: 예산수정(안)
D22: 감 액 | E22: 증 액 | F22: 감 액 | G22: 증 액
B23: 합 계 | C23: =SUM(C24:C25) -> 5000000 | D23: =SUM(D24:D25) -> 0 | E23: =SUM(E24:E25) -> 0 | F23: =SUM(F24:F25) -> 0 | G23: =SUM(G24:G25) -> 0 | H23: =SUM(H24:H25) -> 0
B24: 남북교류 협력기금 | C24: 5000000

Sheet 세입_기금
A1: 2011년도 경기도 기금운용계획 수정(안)
A2: □ 세입예산(기금)
G3: (단위:천원)
A4: 명세서 페이지 | B4: 사 업 명 | C4: 예산안 | D4: 조정액 | G4: 비 고
D5: 계 | E5: 감액 | F5: 증액
B6: 계 | C6: =SUM(C7:C13)/2 -> 0 | D6: =SUM(F6-E6) -> 0 | E6: =SUM(E7:E13)/2 -> 0 | F6: =SUM(F7:F13)/2 -> 0
C7: =SUM(C8:C9) -> 0 | D7: =F7-E7 -> 0 | E7: =SUM(E8:E9) -> 0 | F7: =SUM(F8:F9) -> 0
C8: 0 | D8: =F8-E8 -> 0 | F8: 0
C9: 0 | D9: =F9-E9 -> 0 | F9: 0
C10: =SUM(C11:C13) -> 0 | D10: =F10-E10 -> 0 | E10: =SUM(E11:E13) -> 0 | F10: =SUM(F11:F13) -> 0
C11: 0 | D11: =F11-E11 -> 0 | E11: 0
C12: 0 | D12: =F12-E12 -> 0 | F12: 0
C13: 0 | D13: =F13-E13 -> 0 | F13: 0

Sheet 세출_기금
A1: 2011년도 경기도 기금운용계획 수정(안)
A2: □ 세출예산(기금)
G3: (단위:천원)
A4: 명세서 페이지 | B4: 부기명 | C4: 예산안 | D4: 조정액 | G4: 비 고
D5: 계 | E5: 감액 | F5: 증액
C6: =SUM(C7:C16)/2 -> 0 | D6: =SUM(F6-E6) -> 0 | E6: =SUM(E7:E16)/2 -> 0 | F6: =SUM(F7:F16)/2 -> 0
C7: =SUM(C8:C12) -> 0 | D7: =F7-E7 -> 0 | E7: =SUM(E8:E12) -> 0 | F7: =SUM(F8:F12) -> 0
D8: =F8-E8 -> 0
D9: =F9-E9 -> 0
D10: =F10-E10 -> 0
C11: 0 | D11: =F11-E11 -> 0 | F11: 0
C12: 0 | D12: =F12-E12 -> 0 | F12: 0
C13: =SUM(C14:C16) -> 0 | D13: =F13-E13 -> 0 | E13: =SUM(E14:E16) -> 0 | F13: =SUM(F14:F16) -> 0
D14: =F14-E14 -> 0
D15: =F15-E15 -> 0
D16: =F16-E16 -> 0 | F16: 0

Sheet Sheet1
