Workbook

Sheet 총괄표
B1: 2012년도 경기도 일반 및 특별회계 세입·세출 예산 수정안
B2: □ 총 괄
H3: (단위:천원) | N3: (일반+특별+기금)
B4: 구 분 | C4: 집행부제출(안) | D4: 세입예산(안) | F4: 세출예산(안) | H4: 예산수정(안) | I4: 일반회계 증감(총괄표) | K4: 예비비증감 | L4: 비 고 | M4: 전체 증감(시트) | O4: 비고
D5: 감 액 | E5: 증 액 | F5: 감 액 | G5: 증 액 | I5: 세입 | J5: 세출 | M5: 세입 | N5: 세출
B6: 합 계 | C6: =SUM(C7:C17) -> 15264182230 | D6: =SUM(D7:D17) -> 31149567 | E6: =SUM(E7:E17) -> 2904321 | F6: =SUM(F7:F17) -> 169154635 | G6: =SUM(G7:G17) -> 140909389 | H6: =SUM(H7:H17) -> 15235936984 | I6: =E24-D24 -> -28245246 | J6: =+G24-F24 -> -28245246 | K6: =+I6-J6 -> 0 | L6: 예비비 증감이 - 예산이면 감액에 + 예산이면 증액에 입력 | M6: =(세입_일반!H6-세입_일반!G6)+(세입_특별!G6-세입_특별!F6)+(세입_기금!F6-세입_기금!E6) -> -28245246 | N6: =+(세출_일반!H6-세출_일반!G6)+(세출_특별!G6-세출_특별!F6)+(세출_기금!F6-세출_기금!E6) -> -28245246 | O6: =+M6-I6 -> 0 | P6: =+N6-J6 -> 0
B7: 기 타 | H7: =C7-F7+G7 -> 0
B8: 운 영 위 | C8: 26398930 | D8: =SUMIF(세입_일반!A7:A68,"=의회운영위원회",세입_일반!G7:G68) -> 0 | E8: =SUMIF(세입_일반!A7:A68,"=의회운영위원회",세입_일반!H7:H68) -> 0 | F8: =SUMIF(세출_일반!A9:A466,"=의회운영위원회",세출_일반!G9:G466) -> 412278 | G8: =SUMIF(세출_일반!A9:A466,"=의회운영위원회",세출_일반!H9:H466) -> 631001 | H8: =C8-F8+G8 -> 26617653 | I8: 일반회계 증감(시트) | N8: 전체 증감
B9: 기 획 위 | C9: 4346482025 | D9: =SUMIF(세입_일반!A7:A68,"=기획위원회",세입_일반!G7:G68)+세입_특별!F25 -> 0 | E9: =SUMIF(세입_일반!A7:A68,"=기획위원회",세입_일반!H7:H68)+세입_특별!G25 -> 0 | F9: =SUMIF(세출_일반!A9:A466,"=기획위원회",세출_일반!G9:G466)+세출_특별!F25 -> 57107525 | G9: =SUMIF(세출_일반!A9:A466,"=기획위원회",세출_일반!H9:H466)+세출_특별!G25 -> 783900 | H9: =C9-F9+G9 -> 4290158400 | I9: =세입_일반!F6 -> -28245246 | J9: =세출_일반!F6 -> -28245246 | N9: =+H6-C6 -> -28245246
B10: 경 제 위 | C10: 583539668 | D10: =SUMIF(세입_일반!A7:A68,"=경제투자위원회",세입_일반!G7:G68)+세입_특별!F28 -> 0 | E10: =SUMIF(세입_일반!A7:A68,"=경제투자위원회",세입_일반!H7:H68)+세입_특별!G28 -> 36855 | F10: =SUMIF(세출_일반!A9:A466,"=경제투자위원회",세출_일반!G9:G466)+세출_특별!F28 -> 4693000 | G10: =SUMIF(세출_일반!A9:A466,"=경제투자위원회",세출_일반!H9:H466)+세출_특별!G28 -> 18281455 | H10: =C10-F10+G10 -> 597128123
B11: 행 정 위 | C11: 1038012010 | D11: =SUMIF(세입_일반!A7:A68,"=행정자치위원회",세입_일반!G7:G68) -> 204400 | E11: =SUMIF(세입_일반!A7:A68,"=행정자치위원회",세입_일반!H7:H68) -> 0 | F11: =SUMIF(세출_일반!A9:A466,"=행정자치위원회",세출_일반!G9:G466) -> 1901666 | G11: =SUMIF(세출_일반!A9:A466,"=행정자치위원회",세출_일반!H9:H466) -> 2647700 | H11: =C11-F11+G11 -> 1038758044
B12: 문 광 위 | C12: 299252693 | D12: =SUMIF(세입_일반!A7:A68,"=문화체육관광위원회",세입_일반!G7:G68)+세입_특별!F31 -> 79260 | E12: =SUMIF(세입_일반!A7:A68,"=문화체육관광위원회",세입_일반!H7:H68)+세입_특별!G31 -> 703000 | F12: =SUMIF(세출_일반!A9:A466,"=문화체육관광위원회",세출_일반!G9:G466)+세출_특별!F31 -> 2902420 | G12: =SUMIF(세출_일반!A9:A466,"=문화체육관광위원회",세출_일반!H9:H466)+세출_특별!G31 -> 5525137 | H12: =C12-F12+G12 -> 301875410
B13: 농 림 위 | C13: 487467577 | D13: =SUMIF(세입_일반!A7:A68,"=농림수산위원회",세입_일반!G7:G68) -> 0 | E13: =SUMIF(세입_일반!A7:A68,"=농림수산위원회",세입_일반!H7:H68) -> 630000 | F13: =SUMIF(세출_일반!A9:A466,"=농림수산위원회",세출_일반!G9:G466) -> 716300 | G13: =SUMIF(세출_일반!A9:A466,"=농림수산위원회",세출_일반!H9:H466) -> 13116660 | H13: =C13-F13+G13 -> 499867937
B14: 복 지 위 | C14: 2570082731 | D14: =SUMIF(세입_일반!A7:A68,"=보건복지공보위원회",세입_일반!G7:G68)+세입_특별!F7 -> 18210080 | E14: =SUMIF(세입_일반!A7:A68,"=보건복지공보위원회",세입_일반!H7:H68)+세입_특별!G7 -> 761634 | F14: =SUMIF(세출_일반!A9:A466,"=보건복지공보위원회",세출_일반!G9:G466)+세출_특별!F7 -> 29565540 | G14: =SUMIF(세출_일반!A9:A466,"=보건복지공보위원회",세출_일반!H9:H466)+세출_특별!G7 -> 8124866 | H14: =C14-F14+G14 -> 2548642057
B15: 건 설 위 | C15: 1419326367 | D15: =SUMIF(세입_일반!A7:A68,"=건설교통위원회",세입_일반!G7:G68)+세입_특별!F13+세입_특별!F19+세입_특별!F22 -> 0 | E15: =SUMIF(세입_일반!A7:A68,"=건설교통위원회",세입_일반!H7:H68)+세입_특별!G13+세입_특별!G19+세입_특별!G22 -> 0 | F15: =SUMIF(세출_일반!A9:A466,"=건설교통위원회",세출_일반!G9:G466)+세출_특별!F13+세출_특별!F19+세출_특별!F22 -> 35678888 | G15: =SUMIF(세출_일반!A9:A466,"=건설교통위원회",세출_일반!H9:H466)+세출_특별!G13+세출_특별!G19+세출_특별!G22 -> 22533000 | H15: =C15-F15+G15 -> 1406180479
B16: 도 시 위 | C16: 964799567 | D16: =SUMIF(세입_일반!A7:A68,"=도시환경위원회",세입_일반!G7:G68)+세입_특별!F10+세입_특별!F34 -> 1078223 | E16: =SUMIF(세입_일반!A7:A68,"=도시환경위원회",세입_일반!H7:H68)+세입_특별!G10+세입_특별!G34 -> 529082 | F16: =SUMIF(세출_일반!A9:A466,"=도시환경위원회",세출_일반!G9:G466)+세출_특별!F10+세출_특별!F34 -> 21860894 | G16: =SUMIF(세출_일반!A9:A466,"=도시환경위원회",세출_일반!H9:H466)+세출_특별!G10+세출_특별!G34 -> 19846520 | H16: =C16-F16+G16 -> 962785193
B17: 여가평위 | C17: 3528820662 | D17: =SUMIF(세입_일반!A7:A68,"=여성가족평생교육위원회",세입_일반!G7:G68)+세입_특별!F16 -> 11577604 | E17: =SUMIF(세입_일반!A7:A68,"=여성가족평생교육위원회",세입_일반!H7:H68)+세입_특별!G16 -> 243750 | F17: =SUMIF(세출_일반!A9:A466,"=여성가족평생교육위원회",세출_일반!G9:G466)+세출_특별!F16 -> 14316124 | G17: =SUMIF(세출_일반!A9:A466,"=여성가족평생교육위원회",세출_일반!H9:H466)+세출_특별!G16 -> 49419150 | H17: =C17-F17+G17 -> 3563923688
B19: □ 회계별 예산총규모
H20: (단위:천원)
B21: 구 분 | C21: 세출예산액 (집행부제출 안) | D21: 세입예산(안) | F21: 세출예산(안) | H21: 예산수정(안)
D22: 감 액 | E22: 증 액 | F22: 감 액 | G22: 증 액 | I22: 세입기준 수정예산(안)
B23: 합 계 | C23: =SUM(C24:C25) -> 15264182230 | D23: =SUM(D24:D25) -> 31149567 | E23: =SUM(E24:E25) -> 2904321 | F23: =SUM(F24:F25) -> 169154635 | G23: =SUM(G24:G25) -> 140909389 | H23: =SUM(H24:H25) -> 15235936984 | I23: =+C23+E23-D23 -> 15235936984 | J23: =I23-H23 -> 0 | K23: (세출기준-세입기준)
B24: 일반회계 | C24: 12122156580 | D24: =+세입_일반!G6 -> 31149567 | E24: =+세입_일반!H6 -> 2904321 | F24: =+세출_일반!G6 -> 169154635 | G24: =+세출_일반!H6 -> 140909389 | H24: =+C24+G24-F24 -> 12093911334 | I24: =+C24+E24-D24 -> 12093911334 | J24: =I24-H24 -> 0 | K24: (세출기준-세입기준)
B25: 특별회계 | C25: 3142025650 | D25: =세입_특별!F6 -> 0 | E25: =세입_특별!G6 -> 0 | F25: =세출_특별!F6 -> 0 | G25: =세출_특별!G6 -> 0 | H25: =+C25+G25-F25 -> 3142025650 | I25: =+C25+E25-D25 -> 3142025650 | J25: =I25-H25 -> 0 | K25: (세출기준-세입기준)
A76: 가족여성정책국
F78: 0
I204: ◦ 본청 83,000 증 ◦ 북부청 377,000 증
K334: -50000

Sheet 세입_일반
A1: 2012년도 경기도 일반회계 세입 예산 수정안
B2: □ 세입예산(일반회계)
I3: (단위:천원)
A4: 실국명 | B4: 명세서 페이지 | C4: 사업명 | D4: 예산안 | E4: 조정예산안 | F4: 조정액 | I4: 비 고
F5: 계 | G5: 감액 | H5: 증액
A6: 계 | D6: =SUM(D7:D67)/2 -> 159039831 | E6: =SUM(E7:E67)/2 -> 130794585 | F6: =SUM(F7:F67)/2 -> -28245246 | G6: =SUM(G7:G67)/2 -> 31149567 | H6: =SUM(H7:H67)/2 -> 2904321
A7: 의회운영위원회 | C7: 의회운영위원회 | D7: =SUM(D8:D9) -> 0 | E7: =SUM(E8:E9) -> 0 | F7: =SUM(F8:F9) -> 0 | G7: =SUM(G8:G9) -> 0 | H7: =SUM(H8:H9) -> 0
E8: =D8+F8 -> 0 | F8: =H8-G8 -> 0
E9: =D9+F9 -> 0 | F9: =H9-G9 -> 0
A10: 기획위원회 | C10: 기획위원회 | D10: =SUM(D11:D12) -> 0 | E10: =SUM(E11:E12) -> 0 | F10: =SUM(F11:F12) -> 0 | G10: =SUM(G11:G12) -> 0 | H10: =SUM(H11:H12) -> 0
E11: =D11+F11 -> 0 | F11: =H11-G11 -> 0
E12: =D12+F12 -> 0 | F12: =H12-G12 -> 0
A13: 경제투자위원회 | C13: 경제투자위원회 | D13: =SUM(D14:D16) -> 795602 | E13: =SUM(E14:E16) -> 832457 | F13: =SUM(F14:F16) -> 36855 | G13: =SUM(G14:G16) -> 0 | H13: =SUM(H14:H16) -> 36855
A14: 경제투자실 | B14: 96 | C14: 서민층 가스시설 개선사업 | D14: 795602 | E14: =D14+F14 -> 832457 | F14: =H14-G14 -> 36855 | H14: 36855 | I14: 국비추가내시
E15: =D15+F15 -> 0 | F15: =H15-G15 -> 0
E16: =D16+F16 -> 0 | F16: =H16-G16 -> 0
A17: 행정자치위원회 | C17: 행정자치위원회 | D17: =SUM(D18:D21) -> 2243726 | E17: =SUM(E18:E21) -> 2039326 | F17: =SUM(F18:F21) -> -204400 | G17: =SUM(G18:G21) -> 204400 | H17: =SUM(H18:H21) -> 0
A18: 소방재난본부 | B18: 205 | C18: 병원전 의료지도체계 구축사업 | D18: 86400 | E18: =D18+F18 -> 0 | F18: =H18-G18 -> -86400 | G18: 86400 | I18: 국비변경내시
A19: 인재개발원 | B19: 418 | C19: 수입대체수입 | D19: 2157326 | E19: =D19+F19 -> 2039326 | F19: =H19-G19 -> -118000 | G19: 118000 | I19: 세출예산 감액(수입대체경비)
E20: =D20+F20 -> 0 | F20: =H20-G20 -> 0
E21: =D21+F21 -> 0 | F21: =H21-G21 -> 0
A22: 문화체육관광위원회 | C22: 문화체육관광위원회 | D22: =SUM(D23:D27) -> 1367000 | E22: =SUM(E23:E27) -> 1990740 | F22: =SUM(F23:F27) -> 623740 | G22: =SUM(G23:G27) -> 79260 | H22: =SUM(H23:H27) -> 703000 | I22: 도비 증액
A23: 문화체육관광국 | B23: 452 | C23: 국악분야 예술강사지원사업 | D23: 784000 | E23: =D23+F23 -> 783740 | F23: =H23-G23 -> -260 | G23: 260 | H23: 0 | I23: 국비변경내시
A24: 문화체육관광국 | B24: 453 | C24: 국민여가캠핑장 조성 | D24: 500000 | E24: =D24+F24 -> 1000000 | F24: =H24-G24 -> 500000 | G24: 0 | H24: 500000 | I24: 국비변경내시
A25: 문화체육관광국 | B25: 신규 | C25: 전통한옥 체험숙박시설 운영지원 | D25: 0 | E25: =D25+F25 -> 203000 | F25: =H25-G25 -> 203000 | G25: 0 | H25: 203000 | I25: 국비추가내시
A26: 문화체육관광국 | C26: 문화를 통한 전통시장 활성화 | D26: 75000 | E26: =D26+F26 -> 0 | F26: =H26-G26 -> -75000 | G26: 75000
A27: 문화체육관광국 | C27: 전통예술 대중화 및 산업화 | D27: 8000 | E27: =D27+F27 -> 4000 | F27: =H27-G27 -> -4000 | G27: 4000
A28: 농림수산위원회 | C28: 농림수산위원회 | D28: =SUM(D29:D31) -> 1245705 | E28: =SUM(E29:E31) -> 1875705 | F28: =SUM(F29:F31) -> 630000 | G28: =SUM(G29:G31) -> 0 | H28: =SUM(H29:H31) -> 630000
A29: 농정국 | B29: 신규 | C29: 인삼생산유통시설 현대화 | D29: 0 | E29: =D29+F29 -> 630000 | F29: =H29-G29 -> 630000 | H29: 630000 | I29: 국비추가내시
A30: 농정국 | B30: 499 | C30: 시설원예 품질개선 | D30: 1245705 | E30: =D30+F30 -> 1245705 | F30: =H30-G30 -> 0 | H30: 0 | I30: 예산과목변경 (국고보조금→기금)
E31: =D31+F31 -> 0 | F31: =H31-G31 -> 0
A32: 보건복지공보위원회 | C32: 보건복지공보위원회 | D32: =SUM(D33:D39) -> 33940783 | E32: =SUM(E33:E39) -> 16492337 | F32: =SUM(F33:F39) -> -17448446 | G32: =SUM(G33:G39) -> 18210080 | H32: =SUM(H33:H39) -> 761634
A33: 보건복지국 | B33: 731 | C33: 장사시설 설치 | D33: 25244080 | E33: =D33+F33 -> 7034000 | F33: =H33-G33 -> -18210080 | G33: 18210080 | I33: 국비변경내시
A34: 보건복지국 | B34: 732 | C34: 정신보건시설 기능보강 | D34: 130000 | E34: =D34+F34 -> 364000 | F34: =H34-G34 -> 234000 | H34: 234000 | I34: 국비변경내시
A35: 보건복지국 | B35: 733 | C35: 의료관련감염 표본감시 | D35: 449500 | E35: =D35+F35 -> 450500 | F35: =H35-G35 -> 1000 | H35: 1000 | I35: 국비변경내시
A36: 보건복지국 | B36: 733 | C36: 산모건강관리 | D36: 7711903 | E36: =D36+F36 -> 8170987 | F36: =H36-G36 -> 459084 | H36: 459084 | I36: 국비변경내시
A37: 보건복지국 | B37: 733 | C37: 알코올상담센터 운영 | D37: 405300 | E37: =D37+F37 -> 472850 | F37: =H37-G37 -> 67550 | H37: 67550 | I37: 국비변경내시
E38: =D38+F38 -> 0 | F38: =H38-G38 -> 0
E39: =D39+F39 -> 0 | F39: =H39-G39 -> 0
A40: 건설교통위원회 | C40: 건설교통위원회 | D40: =SUM(D41:D42) -> 0 | E40: =SUM(E41:E42) -> 0 | F40: =SUM(F41:F42) -> 0 | G40: =SUM(G41:G42) -> 0 | H40: =SUM(H41:H42) -> 0
E41: =D41+F41 -> 0 | F41: =H41-G41 -> 0
E42: =D42+F42 -> 0 | F42: =H42-G42 -> 0
A43: 도시환경위원회 | C43: 도시환경위원회 | D43: =SUM(D44:D56) -> 107340361 | E43: =SUM(E44:E56) -> 106791220 | F43: =SUM(F44:F56) -> -549141 | G43: =SUM(G44:G56) -> 1078223 | H43: =SUM(H44:H56) -> 529082
A44: 환경국 | B44: 978 | C44: 환경교육 강화 | D44: 185000 | E44: =D44+F44 -> 190000 | F44: =H44-G44 -> 5000 | H44: 5000 | I44: 국비변경내시
A45: 환경국 | B45: 978 | C45: 생활림 조성관리 | D45: 750000 | E45: =D45+F45 -> 810000 | F45: =H45-G45 -> 60000 | H45: 60000 | I45: 국비변경내시
A46: 환경국 | B46: 979 | C46: 수도권대기환경개선 | D46: 44216000 | E46: =D46+F46 -> 44116500 | F46: =H46-G46 -> -99500 | G46: 99500
A47: 환경국 | B47: 979 | C47: 전기자동차 보급 및 충전인프라 구축 | D47: 819120 | E47: =D47+F47 -> 170000 | F47: =H47-G47 -> -649120 | G47: 649120
A48: 환경국 | B48: 979 | C48: 기후변화체험 전시관 | E48: =D48+F48 -> 0 | F48: =H48-G48 -> 0
A49: 도시주택실 | B49: 1026 | C49: 도시계획정보체계 확산사업 | D49: 300000 | E49: =D49+F49 -> 500000 | F49: =H49-G49 -> 200000 | H49: 200000 | I49: 국비변경내시
A50: 도시주택실 | B50: 1027 | C50: 도로명주소기본도 위치정확도 개선사업 | D50: 279103 | E50: =D50+F50 -> 0 | F50: =H50-G50 -> -279103 | G50: 279103 | I50: 국비변경내시
A51: 도시환경국 | B51: 1068 | C51: 주한미군 공여지역 지원사업 | D51: 60000000 | E51: =D51+F51 -> 60085000 | F51: =H51-G51 -> 85000 | H51: 85000 | I51: 국비변경내시
A52: 팔당수질개선본부 | C52: 상수원보호구역 주민지원사업 | D52: 91518 | E52: =D52+F52 -> 266600 | F52: =H52-G52 -> 175082 | H52: 175082 | I52: 국비변경내시
A53: 환경국 | B53: 상임위 | C53: 수도권대기환경개선 | D53: 500 | E53: =D53+F53 -> 0 | F53: =H53-G53 -> -500 | G53: 500
A54: 환경국 | B54: 상임위 | C54: 전기자동차 보급 및 충전인프라 구축 | D54: 649120 | E54: =D54+F54 -> 653120 | F54: =H54-G54 -> 4000 | H54: 4000
A55: 환경국 | C55: 온실가스관리 인프라구축 | D55: 50000 | E55: =D55+F55 -> 0 | F55: =H55-G55 -> -50000 | G55: 50000
E56: =D56+F56 -> 0 | F56: =H56-G56 -> 0
A57: 여성가족평생교육위원회 | C57: 여성가족평생교육위원회 | D57: =SUM(D58:D67) -> 12106654 | E57: =SUM(E58:E67) -> 772800 | F57: =SUM(F58:F67) -> -11333854 | G57: =SUM(G58:G67) -> 11577604 | H57: =SUM(H58:H67) -> 243750
A58: 여성가족국 | B58: 1114 | C58: 511-01. 국고보조금 아동시설 확충(아동청소년과) | D58: 1168262 | E58: =D58+F58 -> 475800 | F58: =H58-G58 -> -692462 | G58: 692462 | I58: 국비변경내시
A59: 여성가족국 | B59: 1112 | C59: 511-01. 국고보조금 저소득한부모가족 교육비 지원(국비/지원)(여성가족과) | D59: 10876142 | E59: =D59+F59 -> 0 | F59: =H59-G59 -> -10876142 | G59: 10876142 | I59: 국비변경내시
A60: 평생교육국 | B60: 신규 | C60: 511-01. 국고보조금 작은도서관 조성 지원사업 (교육정책과) | E60: =D60+F60 -> 243750 | F60: =H60-G60 -> 243750 | H60: 243750 | I60: 국비추가내시
A61: 복지여성실 | C61: 인터넷중독대응사업 | D61: 62250 | E61: =D61+F61 -> 53250 | F61: =H61-G61 -> -9000 | G61: 9000 | I61: 국비변경내시
E62: =D62+F62 -> 0 | F62: =H62-G62 -> 0
E63: =D63+F63 -> 0 | F63: =H63-G63 -> 0
E64: =D64+F64 -> 0 | F64: =H64-G64 -> 0
E65: =D65+F65 -> 0 | F65: =H65-G65 -> 0
E66: =D66+F66 -> 0 | F66: =H66-G66 -> 0
E67: =D67+F67 -> 0 | F67: =H67-G67 -> 0

Sheet 세출_일반
A1: 2012년도 경기도 일반회계 세출 예산 수정안
B2: □ 세출예산(일반회계) | L2: =L3-L6 -> 0
I3: (단위:천원) | J3: =J4-J6 -> 0 | L3: =J6-K6 -> 0
A4: 실국명 | B4: 명세서 페이지 | C4: 사업명 | D4: 예산안 | E4: 조정예산안 | F4: 조정액 | I4: 비 고 | J4: =F6 -> -28245246 | K4: =세입_일반!F6 -> -28245246 | L4: =K4-K6 -> 0
F5: 계 | G5: 감액 | H5: 증액 | J5: 계 | K5: 국비 | L5: 도비
A6: 계 | D6: =SUM(D7:D465)/2 -> 2212054841 | E6: =SUM(E7:E465)/2 -> 2183809595 | F6: =SUM(F7:F465)/2 -> -28245246 | G6: =SUM(G7:G465)/2 -> 169154635 | H6: =SUM(H7:H465)/2 -> 140909389 | J6: =SUM(J9:J465)/2 -> -28245246 | K6: =SUM(K9:K465)/2 -> -28245246 | L6: =SUM(L9:L465)/2 -> 0
A7: 기타 | C7: 기타 | D7: =SUM(D8:D8) -> 0 | E7: =SUM(E8:E8) -> 0 | F7: =SUM(F8:F8) -> 0 | G7: =SUM(G8:G8) -> 0 | H7: =SUM(H8:H8) -> 0 | J7: =F7 -> 0 | L7: =J7-K7 -> 0
E8: =D8+F8 -> 0 | F8: =H8-G8 -> 0 | J8: =F8 -> 0 | L8: =J8-K8 -> 0
A9: 의회운영위원회 | C9: 의회운영위원회 | D9: =SUM(D10:D22) -> 1669073 | E9: =SUM(E10:E22) -> 1887796 | F9: =SUM(F10:F22) -> 218723 | G9: =SUM(G10:G22) -> 412278 | H9: =SUM(H10:H22) -> 631001 | J9: =F9 -> 218723 | K9: =SUM(K10:K22) -> 0 | L9: =J9-K9 -> 218723
A10: 의회사무처 | B10: 17 | C10: 기타직보수(청원경찰) | D10: 301384 | E10: =D10+F10 -> 335084 | F10: =H10-G10 -> 33700 | H10: 33700 | J10: =F10 -> 33700 | L10: =J10-K10 -> 33700
A11: 의회사무처 | B11: 18 | C11: 무기계약근로자보수 | D11: 120435 | E11: =D11+F11 -> 121808 | F11: =H11-G11 -> 1373 | H11: 1373 | J11: =F11 -> 1373 | L11: =J11-K11 -> 1373
A12: 의회사무처 | B12: 14 | C12: 의회 정기간행물 제작 | D12: 460000 | E12: =D12+F12 -> 562860 | F12: =H12-G12 -> 102860 | H12: 102860 | J12: =F12 -> 102860 | L12: =J12-K12 -> 102860
A13: 의회사무처 | B13: 14 | C13: 의정현안 시책홍보 | D13: 300000 | E13: =D13+F13 -> 700000 | F13: =H13-G13 -> 400000 | H13: 400000 | J13: =F13 -> 400000 | L13: =J13-K13 -> 400000
A14: 의회사무처 | B14: 신규 | C14: 업무용차량구입 | D14: 0 | E14: =D14+F14 -> 32000 | F14: =H14-G14 -> 32000 | H14: 32000 | I14: 차량2대(승용 2) | J14: =F14 -> 32000 | L14: =J14-K14 -> 32000
A15: 의회사무처 | B15: 12 | C15: 운전원 용역 | D15: 6000 | E15: =D15+F15 -> 30300 | F15: =H15-G15 -> 24300 | H15: 24300 | J15: =F15 -> 24300 | L15: =J15-K15 -> 24300
A16: 의회사무처 | B16: 12 | C16: 의정지원사무실 설치 | D16: 100278 | E16: =D16+F16 -> 0 | F16: =H16-G16 -> -100278 | G16: 100278 | J16: =F16 -> -100278 | L16: =J16-K16 -> -100278
A17: 의회사무처 | B17: 15 | C17: 체육의 날 행사 | D17: 24000 | E17: =D17+F17 -> 48000 | F17: =H17-G17 -> 24000 | H17: 24000 | J17: =F17 -> 24000 | L17: =J17-K17 -> 24000
A18: 의회사무처 | B18: 12 | C18: 의회청사 옥상, 3층 4층 테라스 방수공사 | D18: 305000 | E18: =D18+F18 -> 0 | F18: =H18-G18 -> -305000 | G18: 305000 | J18: =F18 -> -305000 | L18: =J18-K18 -> -305000
A19: 의회사무처 | B19: 12 | C19: 업무용차량임차 | D19: 7000 | E19: =D19+F19 -> 0 | F19: =H19-G19 -> -7000 | G19: 7000 | J19: =F19 -> -7000 | L19: =J19-K19 -> -7000
A20: 의회사무처 | B20: 14 | C20: 간행물 발송대행 수수료 | D20: 44976 | E20: =D20+F20 -> 57744 | F20: =H20-G20 -> 12768 | H20: 12768 | J20: =F20 -> 12768 | L20: =J20-K20 -> 12768
A21: 의회사무처 | B21: 15 | C21: 전국시도의장협의회 부담금 | E21: =D21+F21 -> 0 | F21: =H21-G21 -> 0 | J21: =F21 -> 0 | L21: =J21-K21 -> 0
A22: 의회사무처 | B22: 신규 | C22: 텔레비전 구입 | E22: =D22+F22 -> 0 | F22: =H22-G22 -> 0 | J22: =F22 -> 0 | L22: =J22-K22 -> 0
A23: 기획위원회 | C23: 기획위원회 | D23: =SUM(D24:D49) -> 1523562742 | E23: =SUM(E24:E49) -> 1467239117 | F23: =SUM(F24:F49) -> -56323625 | G23: =SUM(G24:G49) -> 57107525 | H23: =SUM(H24:H49) -> 783900 | J23: =F23 -> -56323625 | K23: =SUM(K24:K49) -> 0 | L23: =J23-K23 -> -56323625
A24: 대외협력담당관 | B24: 29 | C24: 대외협력 강화(자체/직접) - 국정감사관련경비 | E24: =D24+F24 -> 0 | F24: =H24-G24 -> 0 | J24: =F24 -> 0 | L24: =J24-K24 -> 0
A25: 감사관 | B25: 35 | C25: 자체감사 운영 및 중앙부처감사 지원(자체/직접) - 국제화여비 | D25: 15400 | E25: =D25+F25 -> 25400 | F25: =H25-G25 -> 10000 | H25: 10000 | J25: =F25 -> 10000 | L25: =J25-K25 -> 10000
A26: 기획조정실 | B26: 45 | C26: 도정발전 열린토론(자체/직접) - 주요 도정현안 토론회 등 | D26: 50000 | E26: =D26+F26 -> 40000 | F26: =H26-G26 -> -10000 | G26: 10000 | J26: =F26 -> -10000 | L26: =J26-K26 -> -10000
A27: 기획조정실 | B27: 45 | C27: 도정홍보(자체/직접) - 도정 시책홍보 | D27: 150000 | E27: =D27+F27 -> 100000 | F27: =H27-G27 -> -50000 | G27: 50000 | J27: =F27 -> -50000 | L27: =J27-K27 -> -50000
A28: 기획조정실 | B28: 47 | C28: 기관운영공통 일반운영비 | D28: 260000 | E28: =D28+F28 -> 160000 | F28: =H28-G28 -> -100000 | G28: 100000 | J28: =F28 -> -100000 | L28: =J28-K28 -> -100000
A29: 기획조정실 | B29: 47 | C29: 기관운영공통 사회단체보조금 | D29: 1300000 | E29: =D29+F29 -> 1000000 | F29: =H29-G29 -> -300000 | G29: 300000 | J29: =F29 -> -300000 | L29: =J29-K29 -> -300000
A30: 기획조정실 | B30: 52 | C30: 소송수행 지원(자체/직접) - 소송 수수료 | D30: 1903900 | E30: =D30+F30 -> 1480000 | F30: =H30-G30 -> -423900 | G30: 423900 | J30: =F30 -> -423900 | L30: =J30-K30 -> -423900
A31: 기획조정실 | B31: 53 | C31: 소송수행 지원(자체/직접) - 소송배상금(기관공통) | D31: 180000 | E31: =D31+F31 -> 603900 | F31: =H31-G31 -> 423900 | H31: 423900 | J31: =F31 -> 423900 | L31: =J31-K31 -> 423900
A32: 기획조정실 | B32: 55 | C32: 주요사업 홍보 및 비전수립 워크숍(자체/직접) - 주요개발사업 자료집 및 홍보물 제작 | D32: 24000 | E32: =D32+F32 -> 14000 | F32: =H32-G32 -> -10000 | G32: 10000 | J32: =F32 -> -10000 | L32: =J32-K32 -> -10000
A33: 기획조정실 | B33: 55 | C33: 2012년 여수세계박람회 지자체관 전시참가(자체/직접) - 2012년 여수세계박람회 지자체관 전시참가 | D33: 130000 | E33: =D33+F33 -> 150000 | F33: =H33-G33 -> 20000 | H33: 20000 | J33: =F33 -> 20000 | L33: =J33-K33 -> 20000
A34: 기획조정실 | B34: 57 | C34: 수도권 경쟁력 및 자치역량 강화(자체/직접) - 수도권 발전전략 및 규제개선 안내책자 제작등 | D34: 40000 | E34: =D34+F34 -> 25000 | F34: =H34-G34 -> -15000 | G34: 15000 | J34: =F34 -> -15000 | L34: =J34-K34 -> -15000
A35: 기획조정실 | B35: 57 | C35: 수도권 경쟁력 및 자치역량 강화(자체/직접) - 수도권 발전전략 및 규제개선 안내문 등 발송 | D35: 15000 | E35: =D35+F35 -> 10000 | F35: =H35-G35 -> -5000 | G35: 5000 | J35: =F35 -> -5000 | L35: =J35-K35 -> -5000
A36: 기획조정실 | B36: 57 | C36: 지방자치 강화, 수도권 정책토론회 등 개최(자체/직접) - 지방자치 강화, 수도권 정책 토론회 등 개최 | D36: 50000 | E36: =D36+F36 -> 0 | F36: =H36-G36 -> -50000 | G36: 50000 | J36: =F36 -> -50000 | L36: =J36-K36 -> -50000
A37: 기획조정실 | B37: 62 | C37: 사랑의 그린PC 보급(국비/직접) - 사랑의 그린PC 보급사업 | D37: 324416 | E37: =D37+F37 -> 374416 | F37: =H37-G37 -> 50000 | H37: 50000 | I37: 도비 증액 | J37: =F37 -> 50000 | L37: =J37-K37 -> 50000
A38: 기획조정실 | B38: 68 | C38: 뷰티디자인엑스포 개최(자체/직접) - 2012 대한민국 뷰티디자인엑스포 개최 | D38: 490000 | E38: =D38+F38 -> 450000 | F38: =H38-G38 -> -40000 | G38: 40000 | J38: =F38 -> -40000 | L38: =J38-K38 -> -40000
A39: 기획행정실 | B39: 79 | C39: 경기북부관광 활성화(자체/직접) - DMZ포럼 운영 | D39: 40000 | E39: =D39+F39 -> 10000 | F39: =H39-G39 -> -30000 | G39: 30000 | J39: =F39 -> -30000 | L39: =J39-K39 -> -30000
A40: 기획행정실 | B40: 신규 | C40: 경기북부관광 활성화(자체/직접) - DMZ 브랜드 국제적 위상 강화 | E40: =D40+F40 -> 100000 | F40: =H40-G40 -> 100000 | H40: 100000 | J40: =F40 -> 100000 | L40: =J40-K40 -> 100000
A41: 기획행정실 | B41: 79 | C41: 경기북부관광 활성화(자체/직접) - 경기북부 관광활성화 프로그램 운영 | D41: 405000 | E41: =D41+F41 -> 220000 | F41: =H41-G41 -> -185000 | G41: 185000 | J41: =F41 -> -185000 | L41: =J41-K41 -> -185000
A42: 기획행정실 | B42: 79 | C42: 경기북부관광 활성화(자체/직접) - 국제환경회의 유치 | D42: 318000 | E42: =D42+F42 -> 218000 | F42: =H42-G42 -> -100000 | G42: 100000 | J42: =F42 -> -100000 | L42: =J42-K42 -> -100000
A43: 기획행정실 | B43: 79 | C43: 평화누리길 개발(자체/직접) - 평화누리길 개발 | E43: =D43+F43 -> 0 | F43: =H43-G43 -> 0 | J43: =F43 -> 0 | L43: =J43-K43 -> 0
A44: 기획행정실 | B44: 79 | C44: 평화누리길 개발(자체/직접) - 사진전 및 걷기대회 운영 | E44: =D44+F44 -> 0 | F44: =H44-G44 -> 0 | J44: =F44 -> 0 | L44: =J44-K44 -> 0
A45: 대외협력담당관 | B45: 신규 | C45: 경기도의정회 지원 | E45: =D45+F45 -> 150000 | F45: =H45-G45 -> 150000 | H45: 150000 | J45: =F45 -> 150000 | L45: =J45-K45 -> 150000
A46: 대외협력담당관 | B46: 29 | C46: 도정정책 설명회 | D46: 150000 | E46: =D46+F46 -> 120000 | F46: =H46-G46 -> -30000 | G46: 30000 | I46: 과목 신설 및 변경 | J46: =F46 -> -30000 | L46: =J46-K46 -> -30000
A47: 대외협력담당관 | B47: 신규 | C47: 국제화여비 | E47: =D47+F47 -> 30000 | F47: =H47-G47 -> 30000 | H47: 30000 | J47: =F47 -> 30000 | L47: =J47-K47 -> 30000
A48: 예산담당관 | B48: 48 | C48: 일반재정보전금 | D48: 1407914000 | E48: =D48+F48 -> 1355314000 | F48: =H48-G48 -> -52600000 | G48: 52600000 | J48: =F48 -> -52600000 | L48: =J48-K48 -> -52600000
A49: 예산담당관 | B49: 48 | C49: 예비비 | D49: 109803026 | E49: =D49+F49 -> 106644401 | F49: =H49-G49 -> -3158625 | G49: 3158625 | J49: =F49 -> -3158625 | L49: =J49-K49 -> -3158625
A50: 경제투자위원회 | C50: 경제투자위원회 | D50: =SUM(D51:D93) -> 48537302 | E50: =SUM(E51:E93) -> 62125757 | F50: =SUM(F51:F93) -> 13588455 | G50: =SUM(G51:G93) -> 4693000 | H50: =SUM(H51:H93) -> 18281455 | J50: =F50 -> 13588455 | K50: =SUM(K51:K93) -> 36855 | L50: =J50-K50 -> 13551600
A51: 경제투자실 | B51: 신규 | C51: 소상공인 종합지원체계 구축 | D51: 0 | E51: =D51+F51 -> 756000 | F51: =H51-G51 -> 756000 | G51: 0 | H51: 756000 | J51: =F51 -> 756000 | L51: =J51-K51 -> 756000
A52: 경제투자실 | B52: 101 | C52: SSM 사업조정 | D52: 20000 | E52: =D52+F52 -> 40000 | F52: =H52-G52 -> 20000 | H52: 20000 | J52: =F52 -> 20000 | L52: =J52-K52 -> 20000
A53: 경제투자실 | B53: 103 | C53: 전통시장 활성화지원 (자체/직접) 경기도 상인워크숍 지원 | D53: 10000 | E53: =D53+F53 -> 20000 | F53: =H53-G53 -> 10000 | G53: 0 | H53: 10000 | J53: =F53 -> 10000 | L53: =J53-K53 -> 10000
A54: 경제투자실 | B54: 108 | C54: G-창업프로젝트 추진(자체/직접) | D54: 2200000 | E54: =D54+F54 -> 3000000 | F54: =H54-G54 -> 800000 | G54: 0 | H54: 800000 | J54: =F54 -> 800000 | L54: =J54-K54 -> 800000
A55: 경제투자실 | B55: 109 | C55: 경기신용보증재단 출연금 (자체/직접) | D55: 7000000 | E55: =D55+F55 -> 12000000 | F55: =H55-G55 -> 5000000 | G55: 0 | H55: 5000000 | J55: =F55 -> 5000000 | L55: =J55-K55 -> 5000000
A56: 경제투자실 | B56: 110 | C56: 중소기업육성기금 출연금 | D56: 4000000 | E56: =D56+F56 -> 5000000 | F56: =H56-G56 -> 1000000 | G56: 0 | H56: 1000000 | J56: =F56 -> 1000000 | L56: =J56-K56 -> 1000000
A57: 경제투자실 | B57: 113 | C57: 그린홈 100만호(그린빌리지) 보급사업 지원(자체/지원) | D57: 521000 | E57: =D57+F57 -> 621000 | F57: =H57-G57 -> 100000 | G57: 0 | H57: 100000 | J57: =F57 -> 100000 | L57: =J57-K57 -> 100000
A58: 경제투자실 | B58: 115 | C58: 서민층 가스시설 개선사업 (국비/지원) | D58: 457302 | E58: =D58+F58 -> 478714 | F58: =H58-G58 -> 21412 | G58: 0 | H58: 21412 | I58: 국비추가내시 | J58: =F58 -> 21412 | K58: 21412 | L58: =J58-K58 -> 0
A59: 경제투자실 | B59: 116 | C59: 광교테크노밸리 통합운영 (자체/직접) | D59: 230000 | E59: =D59+F59 -> 260000 | F59: =H59-G59 -> 30000 | G59: 0 | H59: 30000 | J59: =F59 -> 30000 | L59: =J59-K59 -> 30000
A60: 경제투자실 | B60: 116 | C60: 경기바이오센터 사업지원 (자체/직접) | D60: 1500000 | E60: =D60+F60 -> 2000000 | F60: =H60-G60 -> 500000 | G60: 0 | H60: 500000 | J60: =F60 -> 500000 | L60: =J60-K60 -> 500000
A61: 경제투자실 | B61: 116 | C61: 차세대융합기술연구원 운영지원(자체/직접) | D61: 3500000 | E61: =D61+F61 -> 500000 | F61: =H61-G61 -> -3000000 | G61: 3000000 | H61: 0 | J61: =F61 -> -3000000 | L61: =J61-K61 -> -3000000
A62: 경제투자실 | B62: 117 | C62: 로봇부품 사업화 지원사업 (자체/지원) | D62: 300000 | E62: =D62+F62 -> 500000 | F62: =H62-G62 -> 200000 | G62: 0 | H62: 200000 | J62: =F62 -> 200000 | L62: =J62-K62 -> 200000
A63: 경제투자실 | B63: 119 | C63: 전략산업 및 기업주도 기술개발사업(자체/직접) | D63: 10000000 | E63: =D63+F63 -> 11000000 | F63: =H63-G63 -> 1000000 | G63: 0 | H63: 1000000 | J63: =F63 -> 1000000 | L63: =J63-K63 -> 1000000
A64: 경제투자실 | B64: 119 | C64: 기술닥터사업(자체/직접) | D64: 1300000 | E64: =D64+F64 -> 2000000 | F64: =H64-G64 -> 700000 | G64: 0 | H64: 700000 | J64: =F64 -> 700000 | L64: =J64-K64 -> 700000
A65: 경제투자실 | B65: 120 | C65: 미니테크노파크 시범사업 지원(자체/직접) | D65: 300000 | E65: =D65+F65 -> 600000 | F65: =H65-G65 -> 300000 | G65: 0 | H65: 300000 | J65: =F65 -> 300000 | L65: =J65-K65 -> 300000
A66: 경제투자실 | B66: 120 | C66: 경기지역협력연구센터(GRRC) 지원(자체/직접) | D66: 3750000 | E66: =D66+F66 -> 6550000 | F66: =H66-G66 -> 2800000 | G66: 0 | H66: 2800000 | J66: =F66 -> 2800000 | L66: =J66-K66 -> 2800000
A67: 경제투자실 | B67: 신규 | C67: 과학기술 정책연구 | D67: 0 | E67: =D67+F67 -> 0 | F67: =H67-G67 -> 0 | G67: 0 | J67: =F67 -> 0 | L67: =J67-K67 -> 0
A68: 경제투자실 | B68: 125 | C68: 산학관연계 맞춤형 인재양성(자체/직접) | D68: 100000 | E68: =D68+F68 -> 600000 | F68: =H68-G68 -> 500000 | G68: 0 | H68: 500000 | J68: =F68 -> 500000 | L68: =J68-K68 -> 500000
A69: 경제투자실 | B69: 125 | C69: 청년창업지원(자체/직접) ⇒ 청년프론티어창업지원 (자체/직접) | D69: 500000 | E69: =D69+F69 -> 1000000 | F69: =H69-G69 -> 500000 | G69: 0 | H69: 500000 | J69: =F69 -> 500000 | L69: =J69-K69 -> 500000
A70: 경제투자실 | B70: 126 | C70: 경기도 사회적기업 육성 전략수립(자체/직접) 사회적기업 교육연구사업 | D70: 130000 | E70: =D70+F70 -> 130000 | F70: =H70-G70 -> 0 | G70: 0 | H70: 0 | I70: 목 변경(207-1 ⇒ 307-02) | J70: =F70 -> 0 | L70: =J70-K70 -> 0
A71: 경제투자실 | B71: 신규 | C71: 택시근로자 장학기금 지원 (적립금) | D71: 0 | E71: =D71+F71 -> 300000 | F71: =H71-G71 -> 300000 | G71: 0 | H71: 300000 | J71: =F71 -> 300000 | L71: =J71-K71 -> 300000
A72: 경제투자실 | B72: 127 | C72: 도 및 전국기능경기대회 지원 (자체/직접) | D72: 1750000 | E72: =D72+F72 -> 2000000 | F72: =H72-G72 -> 250000 | G72: 0 | H72: 250000 | J72: =F72 -> 250000 | L72: =J72-K72 -> 250000
A73: 경제투자실 | B73: 128 | C73: 비정규직지원센터 운영지원 (자체/직접) | D73: 50000 | E73: =D73+F73 -> 300000 | F73: =H73-G73 -> 250000 | G73: 0 | H73: 250000 | J73: =F73 -> 250000 | L73: =J73-K73 -> 250000
A74: 경제투자실 | B74: 131 | C74: 경기청년뉴딜사업 운영(자체/직접) | D74: 1221400 | E74: =D74+F74 -> 2000000 | F74: =H74-G74 -> 778600 | G74: 0 | H74: 778600 | J74: =F74 -> 778600 | L74: =J74-K74 -> 778600
A75: 경제투자실 | B75: 131 | C75: 채용박람회 개최 | D75: 110000 | E75: =D75+F75 -> 310000 | F75: =H75-G75 -> 200000 | G75: 0 | H75: 200000 | I75: 31개 시군별 2회 개최 | J75: =F75 -> 200000 | L75: =J75-K75 -> 200000
A76: 경제투자실 | B76: 신규 | C76: 사회적기업 S-CEO 네트워크지원 | D76: 0 | E76: =D76+F76 -> 30000 | F76: =H76-G76 -> 30000 | G76: 0 | H76: 30000 | J76: =F76 -> 30000 | L76: =J76-K76 -> 30000
A77: 경제투자실 | B77: 신규 | C77: 사회적기업 온라인 판로개척 지원 | D77: 0 | E77: =D77+F77 -> 200000 | F77: =H77-G77 -> 200000 | G77: 0 | H77: 200000 | J77: =F77 -> 200000 | L77: =J77-K77 -> 200000
A78: 경제투자실 | B78: 138 | C78: 국제교류·협력의 다원화 (자체/직접) | D78: 376300 | E78: =D78+F78 -> 476300 | F78: =H78-G78 -> 100000 | G78: 0 | H78: 100000 | J78: =F78 -> 100000 | L78: =J78-K78 -> 100000
A79: 경제투자실 | B79: 139 | C79: 해외마케팅(자체/직접) 해외전시회 개별참가 지원 | E79: =D79+F79 -> 0 | F79: =H79-G79 -> 0 | G79: 0 | J79: =F79 -> 0 | L79: =J79-K79 -> 0
A80: 경제투자실 | B80: 139 | C80: 해외마케팅(자체/직접) 해외GBC 운영 | D80: 1500000 | E80: =D80+F80 -> 1600000 | F80: =H80-G80 -> 100000 | G80: 0 | H80: 100000 | J80: =F80 -> 100000 | L80: =J80-K80 -> 100000
A81: 경제투자실 | B81: 139 | C81: 해외마케팅(자체/직접) 해외지사화 사업 | D81: 100000 | E81: =D81+F81 -> 400000 | F81: =H81-G81 -> 300000 | G81: 0 | H81: 300000 | J81: =F81 -> 300000 | L81: =J81-K81 -> 300000
A82: 경제투자실 | B82: 139 | C82: 해외마케팅(자체/직접) 경기우수상품전시회 | E82: =D82+F82 -> 0 | F82: =H82-G82 -> 0 | G82: 0 | J82: =F82 -> 0 | L82: =J82-K82 -> 0
A83: 경제투자실 | B83: 신규 | C83: 해외마케팅(자체/직접) 여성기업 해외마케팅 | D83: 0 | E83: =D83+F83 -> 200000 | F83: =H83-G83 -> 200000 | G83: 0 | H83: 200000 | J83: =F83 -> 200000 | L83: =J83-K83 -> 200000
A84: 경제투자실 | B84: 139 | C84: 전자무역 활성화 지원 (자체/직접)(민간이전) 전자무역 프론티어기업 육성 | D84: 430000 | E84: =D84+F84 -> 500000 | F84: =H84-G84 -> 70000 | G84: 0 | H84: 70000 | J84: =F84 -> 70000 | L84: =J84-K84 -> 70000
A85: 경제투자실 | B85: 139 | C85: G-FAIR(자체/직접) | D85: 800000 | E85: =D85+F85 -> 1300000 | F85: =H85-G85 -> 500000 | G85: 0 | H85: 500000 | J85: =F85 -> 500000 | L85: =J85-K85 -> 500000
A86: 경제투자실 | B86: 140 | C86: 한미친선 교류협력(자체/지원) | D86: 50000 | E86: =D86+F86 -> 200000 | F86: =H86-G86 -> 150000 | G86: 0 | H86: 150000 | I86: 기획행정실(군관)로 이관 2억 | J86: =F86 -> 150000 | L86: =J86-K86 -> 150000
A87: 경제농정국 | B87: 151 | C87: 경기산업기술교육센터 운영(자체/직접) | D87: 1500000 | E87: =D87+F87 -> 1700000 | F87: =H87-G87 -> 200000 | G87: 0 | H87: 200000 | J87: =F87 -> 200000 | L87: =J87-K87 -> 200000
A88: 경제농정국 | B88: 152 | C88: 경기대진테크노파크 운영·사업비 지원(자체/직접) | D88: 475000 | E88: =D88+F88 -> 0 | F88: =H88-G88 -> -475000 | G88: 475000 | H88: 0 | J88: =F88 -> -475000 | L88: =J88-K88 -> -475000
A89: 경제농정국 | B89: 152 | C89: 소규모 기업환경 개선사업 (자체/지원) | D89: 500000 | E89: =D89+F89 -> 800000 | F89: =H89-G89 -> 300000 | H89: 300000 | J89: =F89 -> 300000 | L89: =J89-K89 -> 300000
A90: 경제농정국 | B90: 154 | C90: 서민층 가스시설 개선사업 (국비/지원) | D90: 338300 | E90: =D90+F90 -> 353743 | F90: =H90-G90 -> 15443 | G90: 0 | H90: 15443 | I90: 국비추가내시 | J90: =F90 -> 15443 | K90: 15443 | L90: =J90-K90 -> 0
A91: 경제농정국 | B91: 155 | C91: 섬유(니트)소재산업 육성지원(자체/직원) 섬유·가구·피혁 소재 실용화 기술개발지원 | D91: 400000 | E91: =D91+F91 -> 500000 | F91: =H91-G91 -> 100000 | G91: 0 | H91: 100000 | J91: =F91 -> 100000 | L91: =J91-K91 -> 100000
A92: 경제투자실 | B92: 100 | C92: 경기도 경제단체연합회 지원 | D92: 2118000 | E92: =D92+F92 -> 1000000 | F92: =H92-G92 -> -1118000 | G92: 1118000 | J92: =F92 -> -1118000 | L92: =J92-K92 -> -1118000
A93: 경제투자실 | B93: 128 | C93: 노총 장학문화재단 사업 지원 | D93: 1000000 | E93: =D93+F93 -> 900000 | F93: =H93-G93 -> -100000 | G93: 100000 | J93: =F93 -> -100000 | L93: =J93-K93 -> -100000
A94: 행정자치위원회 | C94: 행정자치위원회 | D94: =SUM(D95:D146) -> 18744632 | E94: =SUM(E95:E146) -> 19490666 | F94: =SUM(F95:F146) -> 746034 | G94: =SUM(G95:G146) -> 1901666 | H94: =SUM(H95:H146) -> 2647700 | J94: =F94 -> 746034 | K94: =SUM(K95:K146) -> -204400 | L94: =J94-K94 -> 950434
A95: 자치행정국 | B95: 168 | C95: 도지사기체육대회 참가선수단 여비 | D95: 22100 | E95: =D95+F95 -> 0 | F95: =H95-G95 -> -22100 | G95: 22100 | J95: =F95 -> -22100 | L95: =J95-K95 -> -22100
A96: 자치행정국 | B96: 170 | C96: 국경일 경축행사 | E96: =D96+F96 -> 0 | F96: =H96-G96 -> 0 | J96: =F96 -> 0 | L96: =J96-K96 -> 0
A97: 자치행정국 | B97: 173 | C97: 경기포럼 운영 | D97: 40000 | E97: =D97+F97 -> 20000 | F97: =H97-G97 -> -20000 | G97: 20000 | J97: =F97 -> -20000 | L97: =J97-K97 -> -20000
A98: 자치행정국 | B98: 173 | C98: 공무원 교양지 구독 | D98: 20000 | E98: =D98+F98 -> 0 | F98: =H98-G98 -> -20000 | G98: 20000 | J98: =F98 -> -20000 | L98: =J98-K98 -> -20000
A99: 자치행정국 | B99: 173 | C99: 여론동향 업무수행 →특정업무수행경비 | D99: 7200 | E99: =D99+F99 -> 7200 | F99: =H99-G99 -> 0 | I99: 부기명 변경(→특정업무수행경비) | J99: =F99 -> 0 | L99: =J99-K99 -> 0
A100: 자치행정국 | B100: 173 | C100: (재)경기도민회장학회 장학금 지원 | D100: 700000 | E100: =D100+F100 -> 1000000 | F100: =H100-G100 -> 300000 | H100: 300000 | J100: =F100 -> 300000 | L100: =J100-K100 -> 300000
...

Sheet 세입_특별
A1: 2012년도 경기도 특별회계 세입 예산 수정안
B2: □ 세입예산(특별회계)
M3: (단위:천원)
A4: 부서명 | B4: 명세서 페이지 | C4: 사업명 | D4: 예산안 | E4: 조정액 | H4: 재 원 현 황 | M4: 비 고
E5: 계 | F5: 감액 | G5: 증액 | H5: 계 | I5: 국비 | J5: 균특 | K5: 기금 | L5: 도비
C6: 계 | D6: =SUM(D7:D36)/2 -> 0 | E6: =SUM(E7:E36)/2 -> 0 | F6: =SUM(F7:F36)/2 -> 0 | G6: =SUM(G7:G36)/2 -> 0 | H6: =SUM(H7:H36) -> 0 | I6: =SUM(I7:I36) -> 0 | J6: =SUM(J7:J36) -> 0 | K6: =SUM(K7:K36) -> 0 | L6: =SUM(L7:L36) -> 0
A7: 의료급여기금 | C7: 의료급여기금 | D7: =SUM(D8:D9) -> 0 | E7: =SUM(E8:E9) -> 0 | F7: =SUM(F8:F9) -> 0 | G7: =SUM(G8:G9) -> 0 | H7: =SUM(H8:H9) -> 0 | I7: =SUM(I8:I9) -> 0 | J7: =SUM(J8:J9) -> 0 | K7: =SUM(K8:K9) -> 0 | L7: =SUM(L8:L9) -> 0
E8: =SUM(G8-F8) -> 0 | G8: =IF(H8>0,H8,0) -> 0 | H8: =SUM(I8:L8) -> 0
D9: 0 | E9: =SUM(G9-F9) -> 0 | F9: =IF(H9>0,0,-H9) -> 0 | G9: =IF(H9>0,H9,0) -> 0 | H9: =SUM(I9:L9) -> 0
A10: 팔당호관리 | C10: 팔당호관리 | D10: =SUM(D11:D12) -> 0 | E10: =SUM(E11:E12) -> 0 | F10: =SUM(F11:F12) -> 0 | G10: =SUM(G11:G12) -> 0 | H10: =SUM(H11:H12) -> 0 | I10: =SUM(I11:I12) -> 0 | J10: =SUM(J11:J12) -> 0 | K10: =SUM(K11:K12) -> 0 | L10: =SUM(L11:L12) -> 0
D11: 0 | E11: =SUM(G11-F11) -> 0 | F11: =IF(H11>0,0,-H11) -> 0 | G11: =IF(H11>0,H11,0) -> 0 | H11: =SUM(I11:L11) -> 0
D12: 0 | E12: =SUM(G12-F12) -> 0 | F12: =IF(H12>0,0,-H12) -> 0 | G12: =IF(H12>0,H12,0) -> 0 | H12: =SUM(I12:L12) -> 0
A13: 유료도로사업 | C13: 유료도로사업 | D13: =SUM(D14:D15) -> 0 | E13: =SUM(E14:E15) -> 0 | F13: =SUM(F14:F15) -> 0 | G13: =SUM(G14:G15) -> 0 | H13: =SUM(H14:H15) -> 0 | I13: =SUM(I14:I15) -> 0 | J13: =SUM(J14:J15) -> 0 | K13: =SUM(K14:K15) -> 0 | L13: =SUM(L14:L15) -> 0
D14: 0 | E14: =SUM(G14-F14) -> 0 | F14: =IF(H14>0,0,-H14) -> 0 | G14: =IF(H14>0,H14,0) -> 0 | H14: =SUM(I14:L14) -> 0
D15: 0 | E15: =SUM(G15-F15) -> 0 | F15: =IF(H15>0,0,-H15) -> 0 | G15: =IF(H15>0,H15,0) -> 0 | H15: =SUM(I15:L15) -> 0
A16: 학교용지부담금 | C16: 학교용지부담금 | D16: =SUM(D17:D18) -> 0 | E16: =SUM(E17:E18) -> 0 | F16: =SUM(F17:F18) -> 0 | G16: =SUM(G17:G18) -> 0 | H16: =SUM(H17:H18) -> 0 | I16: =SUM(I17:I18) -> 0 | J16: =SUM(J17:J18) -> 0 | K16: =SUM(K17:K18) -> 0 | L16: =SUM(L17:L18) -> 0
A17: 평생교육국 | B17: 1238 | C17: 227-02 개발부담금 | E17: =SUM(G17-F17) -> 0
E18: =SUM(G18-F18) -> 0
A19: 광역교통시설 | C19: 광역교통시설 | D19: =SUM(D20:D21) -> 0 | E19: =SUM(E20:E21) -> 0 | F19: =SUM(F20:F21) -> 0 | G19: =SUM(G20:G21) -> 0 | H19: =SUM(H20:H21) -> 0 | I19: =SUM(I20:I21) -> 0 | J19: =SUM(J20:J21) -> 0 | K19: =SUM(K20:K21) -> 0 | L19: =SUM(L20:L21) -> 0
D20: 0 | E20: =SUM(G20-F20) -> 0 | F20: =IF(H20>0,0,-H20) -> 0 | G20: =IF(H20>0,H20,0) -> 0 | H20: =SUM(I20:L20) -> 0
D21: 0 | E21: =SUM(G21-F21) -> 0 | F21: =IF(H21>0,0,-H21) -> 0 | G21: =IF(H21>0,H21,0) -> 0 | H21: =SUM(I21:L21) -> 0
A22: 임진강유역댐정비 | C22: 임진강유역댐정비 | D22: =SUM(D23:D24) -> 0 | E22: =SUM(E23:E24) -> 0 | F22: =SUM(F23:F24) -> 0 | G22: =SUM(G23:G24) -> 0 | H22: =SUM(H23:H24) -> 0 | I22: =SUM(I23:I24) -> 0 | J22: =SUM(J23:J24) -> 0 | K22: =SUM(K23:K24) -> 0 | L22: =SUM(L23:L24) -> 0
D23: 0 | E23: =SUM(G23-F23) -> 0 | F23: =IF(H23>0,0,-H23) -> 0 | G23: =IF(H23>0,H23,0) -> 0 | H23: =SUM(I23:L23) -> 0
D24: 0 | E24: =SUM(G24-F24) -> 0 | F24: =IF(H24>0,0,-H24) -> 0 | G24: =IF(H24>0,H24,0) -> 0 | H24: =SUM(I24:L24) -> 0
A25: 지역개발기금 | C25: 지역개발기금 | D25: =SUM(D26:D27) -> 0 | E25: =SUM(E26:E27) -> 0 | F25: =SUM(F26:F27) -> 0 | G25: =SUM(G26:G27) -> 0 | H25: =SUM(H26:H27) -> 0 | I25: =SUM(I26:I27) -> 0 | J25: =SUM(J26:J27) -> 0 | K25: =SUM(K26:K27) -> 0 | L25: =SUM(L26:L27) -> 0
D26: 0 | E26: =SUM(G26-F26) -> 0 | F26: =IF(H26>0,0,-H26) -> 0 | G26: =IF(H26>0,H26,0) -> 0 | H26: =SUM(I26:L26) -> 0
D27: 0 | E27: =SUM(G27-F27) -> 0 | F27: =IF(H27>0,0,-H27) -> 0 | G27: =IF(H27>0,H27,0) -> 0 | H27: =SUM(I27:L27) -> 0
A28: 판교테크노밸리 | C28: 판교테크노밸리 | D28: =SUM(D29:D30) -> 0 | E28: =SUM(E29:E30) -> 0 | F28: =SUM(F29:F30) -> 0 | G28: =SUM(G29:G30) -> 0 | H28: =SUM(H29:H30) -> 0 | I28: =SUM(I29:I30) -> 0 | J28: =SUM(J29:J30) -> 0 | K28: =SUM(K29:K30) -> 0 | L28: =SUM(L29:L30) -> 0
D29: 0 | E29: =SUM(G29-F29) -> 0 | F29: =IF(H29>0,0,-H29) -> 0 | G29: =IF(H29>0,H29,0) -> 0 | H29: =SUM(I29:L29) -> 0
D30: 0 | E30: =SUM(G30-F30) -> 0 | F30: =IF(H30>0,0,-H30) -> 0 | G30: =IF(H30>0,H30,0) -> 0 | H30: =SUM(I30:L30) -> 0
A31: 고양관광문화단지 | C31: 고양관광문화단지 | D31: =SUM(D32:D33) -> 0 | E31: =SUM(E32:E33) -> 0 | F31: =SUM(F32:F33) -> 0 | G31: =SUM(G32:G33) -> 0 | H31: =SUM(H32:H33) -> 0 | I31: =SUM(I32:I33) -> 0 | J31: =SUM(J32:J33) -> 0 | K31: =SUM(K32:K33) -> 0 | L31: =SUM(L32:L33) -> 0
H32: =SUM(I32:L32) -> 0
D33: 0 | E33: =SUM(G33-F33) -> 0 | F33: =IF(H33>0,0,-H33) -> 0 | G33: =IF(H33>0,H33,0) -> 0 | H33: =SUM(I33:L33) -> 0
A34: 고덕국제화지구 | C34: 고덕국제화지구 | D34: =SUM(D35:D36) -> 0 | E34: =SUM(E35:E36) -> 0 | F34: =SUM(F35:F36) -> 0 | G34: =SUM(G35:G36) -> 0 | H34: =SUM(H35:H36) -> 0 | I34: =SUM(I35:I36) -> 0 | J34: =SUM(J35:J36) -> 0 | K34: =SUM(K35:K36) -> 0 | L34: =SUM(L35:L36) -> 0
D35: 0 | E35: =SUM(G35-F35) -> 0 | F35: =IF(H35>0,0,-H35) -> 0 | G35: =IF(H35>0,H35,0) -> 0 | H35: =SUM(I35:L35) -> 0
D36: 0 | E36: =SUM(G36-F36) -> 0 | F36: =IF(H36>0,0,-H36) -> 0 | G36: =IF(H36>0,H36,0) -> 0 | H36: =SUM(I36:L36) -> 0

Sheet 세출_특별
A1: 2012년도 경기도 특별회계 세출 예산 수정안
B2: □ 세출예산(특별회계)
M3: (단위:천원)
A4: 부서명 | B4: 명세서 페이지 | C4: 사업명 | D4: 예산안 | E4: 조정액 | H4: 재 원 현 황 | M4: 비 고
E5: 계 | F5: 감액 | G5: 증액 | H5: 계 | I5: 국비 | J5: 균특 | K5: 기금 | L5: 도비
A6: 계 | C6: 계 | D6: =SUM(D7:D36)/2 -> 0 | E6: =SUM(E7:E36)/2 -> 0 | F6: =SUM(F7:F36)/2 -> 0 | G6: =SUM(G7:G36)/2 -> 0 | H6: =SUM(H7:H36)/2 -> 0 | I6: =SUM(I7:I36)/2 -> 0 | J6: =SUM(J7:J36)/2 -> 0 | K6: =SUM(K7:K36)/2 -> 0 | L6: =SUM(L7:L36)/2 -> 0
A7: 의료급여기금 | C7: 의료급여기금 | D7: =SUM(D8:D9) -> 0 | E7: =SUM(E8:E9) -> 0 | F7: =SUM(F8:F9) -> 0 | G7: =SUM(G8:G9) -> 0 | H7: =SUM(H8:H9) -> 0 | I7: =SUM(I8:I9) -> 0 | J7: =SUM(J8:J9) -> 0 | K7: =SUM(K8:K9) -> 0 | L7: =SUM(L8:L9) -> 0
E8: =SUM(G8-F8) -> 0 | G8: =IF(H8>0,H8,0) -> 0 | H8: =SUM(I8:L8) -> 0
E9: =SUM(G9-F9) -> 0 | F9: =IF(H9>0,0,-H9) -> 0 | G9: =IF(H9>0,H9,0) -> 0 | H9: =SUM(I9:L9) -> 0
A10: 팔당호관리 | C10: 팔당호관리 | D10: =SUM(D11:D12) -> 0 | E10: =SUM(E11:E12) -> 0 | F10: =SUM(F11:F12) -> 0 | G10: =SUM(G11:G12) -> 0 | H10: =SUM(H11:H12) -> 0 | I10: =SUM(I11:I12) -> 0 | J10: =SUM(J11:J12) -> 0 | K10: =SUM(K11:K12) -> 0 | L10: =SUM(L11:L12) -> 0
E11: =SUM(G11-F11) -> 0 | F11: =IF(H11>0,0,-H11) -> 0 | G11: =IF(H11>0,H11,0) -> 0 | H11: =SUM(I11:L11) -> 0
E12: =SUM(G12-F12) -> 0 | F12: =IF(H12>0,0,-H12) -> 0 | G12: =IF(H12>0,H12,0) -> 0 | H12: =SUM(I12:L12) -> 0
A13: 유료도로사업 | C13: 유료도로사업 | D13: =SUM(D14:D15) -> 0 | E13: =SUM(E14:E15) -> 0 | F13: =SUM(F14:F15) -> 0 | G13: =SUM(G14:G15) -> 0 | H13: =SUM(H14:H15) -> 0 | I13: =SUM(I14:I15) -> 0 | J13: =SUM(J14:J15) -> 0 | K13: =SUM(K14:K15) -> 0 | L13: =SUM(L14:L15) -> 0
E14: =SUM(G14-F14) -> 0 | F14: =IF(H14>0,0,-H14) -> 0 | G14: =IF(H14>0,H14,0) -> 0 | H14: =SUM(I14:L14) -> 0
E15: =SUM(G15-F15) -> 0 | F15: =IF(H15>0,0,-H15) -> 0 | G15: =IF(H15>0,H15,0) -> 0 | H15: =SUM(I15:L15) -> 0
A16: 학교용지부담금 | C16: 학교용지부담금 | D16: =SUM(D17:D18) -> 0 | E16: =SUM(E17:E18) -> 0 | F16: =SUM(F17:F18) -> 0 | G16: =SUM(G17:G18) -> 0 | H16: =SUM(H17:H18) -> 0 | I16: =SUM(I17:I18) -> 0 | J16: =SUM(J17:J18) -> 0 | K16: =SUM(K17:K18) -> 0 | L16: =SUM(L17:L18) -> 0
A17: 평생교육국 | B17: 1239 | C17: 703-01 학교용지매입비 부담금 | E17: =SUM(G17-F17) -> 0 | H17: =SUM(I17:L17) -> 0
E18: =SUM(G18-F18) -> 0 | H18: =SUM(I18:L18) -> 0
A19: 광역교통시설 | C19: 광역교통시설 | D19: =SUM(D20:D21) -> 0 | E19: =SUM(E20:E21) -> 0 | F19: =SUM(F20:F21) -> 0 | G19: =SUM(G20:G21) -> 0 | H19: =SUM(H20:H21) -> 0 | I19: =SUM(I20:I21) -> 0 | J19: =SUM(J20:J21) -> 0 | K19: =SUM(K20:K21) -> 0 | L19: =SUM(L20:L21) -> 0
E20: =SUM(G20-F20) -> 0 | G20: =IF(H20>0,H20,0) -> 0 | H20: =SUM(I20:L20) -> 0
E21: =SUM(G21-F21) -> 0 | F21: =IF(H21>0,0,-H21) -> 0 | G21: =IF(H21>0,H21,0) -> 0 | H21: =SUM(I21:L21) -> 0
A22: 임진강유역댐정비 | C22: 임진강유역댐정비 | D22: =SUM(D23:D24) -> 0 | E22: =SUM(E23:E24) -> 0 | F22: =SUM(F23:F24) -> 0 | G22: =SUM(G23:G24) -> 0 | H22: =SUM(H23:H24) -> 0 | I22: =SUM(I23:I24) -> 0 | J22: =SUM(J23:J24) -> 0 | K22: =SUM(K23:K24) -> 0 | L22: =SUM(L23:L24) -> 0
E23: =SUM(G23-F23) -> 0 | F23: =IF(H23>0,0,-H23) -> 0 | G23: =IF(H23>0,H23,0) -> 0 | H23: =SUM(I23:L23) -> 0
E24: =SUM(G24-F24) -> 0 | F24: =IF(H24>0,0,-H24) -> 0 | G24: =IF(H24>0,H24,0) -> 0 | H24: =SUM(I24:L24) -> 0
A25: 지역개발기금 | C25: 지역개발기금 | D25: =SUM(D26:D27) -> 0 | E25: =SUM(E26:E27) -> 0 | F25: =SUM(F26:F27) -> 0 | G25: =SUM(G26:G27) -> 0 | H25: =SUM(H26:H27) -> 0 | I25: =SUM(I26:I27) -> 0 | J25: =SUM(J26:J27) -> 0 | K25: =SUM(K26:K27) -> 0 | L25: =SUM(L26:L27) -> 0
A28: 판교테크노밸리 | C28: 판교테크노밸리 | D28: =SUM(D29:D30) -> 0 | E28: =SUM(E29:E30) -> 0 | F28: =SUM(F29:F30) -> 0 | G28: =SUM(G29:G30) -> 0 | H28: =SUM(H29:H30) -> 0 | I28: =SUM(I29:I30) -> 0 | J28: =SUM(J29:J30) -> 0 | K28: =SUM(K29:K30) -> 0 | L28: =SUM(L29:L30) -> 0
E29: =SUM(G29-F29) -> 0 | F29: =IF(H29>0,0,-H29) -> 0 | G29: =IF(H29>0,H29,0) -> 0 | H29: =SUM(I29:L29) -> 0
E30: =SUM(G30-F30) -> 0 | F30: =IF(H30>0,0,-H30) -> 0 | G30: =IF(H30>0,H30,0) -> 0 | H30: =SUM(I30:L30) -> 0
A31: 고양관광문화단지 | C31: 고양관광문화단지 | D31: =SUM(D32:D33) -> 0 | E31: =SUM(E32:E33) -> 0 | F31: =SUM(F32:F33) -> 0 | G31: =SUM(G32:G33) -> 0 | H31: =SUM(H32:H33) -> 0 | I31: =SUM(I32:I33) -> 0 | J31: =SUM(J32:J33) -> 0 | K31: =SUM(K32:K33) -> 0 | L31: =SUM(L32:L33) -> 0
A34: 고덕국제화지구 | C34: 고덕국제화지구 | D34: =SUM(D35:D36) -> 0 | E34: =SUM(E35:E36) -> 0 | F34: =SUM(F35:F36) -> 0 | G34: =SUM(G35:G36) -> 0 | H34: =SUM(H35:H36) -> 0 | I34: =SUM(I35:I36) -> 0 | J34: =SUM(J35:J36) -> 0 | K34: =SUM(K35:K36) -> 0 | L34: =SUM(L35:L36) -> 0
E35: =SUM(G35-F35) -> 0 | F35: =IF(H35>0,0,-H35) -> 0 | G35: =IF(H35>0,H35,0) -> 0 | H35: =SUM(I35:L35) -> 0
E36: =SUM(G36-F36) -> 0 | F36: =IF(H36>0,0,-H36) -> 0 | G36: =IF(H36>0,H36,0) -> 0 | H36: =SUM(I36:L36) -> 0

Sheet 총괄표_기금
B1: 2012년도 경기도 기금운용계획 세입·세출 예산 수정안
B3: □ 총 괄
H4: (단위:천원)
B5: 구 분 | C5: 집행부 제출(안) | D5: 세입예산(안) | F5: 세출예산(안) | H5: 예산수정(안)
D6: 감 액 | E6: 증 액 | F6: 감 액 | G6: 증 액
B7: 합 계 | C7: =SUM(C8:C17) -> 0 | D7: =SUM(D8:D17) -> 0 | E7: =SUM(E8:E17) -> 0 | F7: =SUM(F8:F17) -> 0 | G7: =SUM(G8:G17) -> 0 | H7: =SUM(H8:H17) -> 0
B8: 운영위
B9: 기획위
B10: 경제위
B11: 행정위
B12: 문광위
B13: 농림위
B14: 복지위
B15: 건설위
B16: 도시위
B17: 여가평
B19: □ 회계별 예산총규모
H20: (단위:천원)
B21: 구 분 | C21: 집행부 제출(안) | D21: 세입예산(안) | F21: 세출예산(안) | H21: 예산수정(안)
D22: 감 액 | E22: 증 액 | F22: 감 액 | G22: 증 액
B23: 합 계 | C23: =SUM(C24:C25) -> 0 | D23: =SUM(D24:D25) -> 0 | E23: =SUM(E24:E25) -> 0 | F23: =SUM(F24:F25) -> 0 | G23: =SUM(G24:G25) -> 0 | H23: =SUM(H24:H25) -> 0
B24: 여성발전기금

Sheet 세입_기금
A1: 2012년도 경기도 기금운용계획 수정안
A2: □ 세입예산(기금)
G3: (단위:천원)
A4: 명세서 페이지 | B4: 사 업 명 | C4: 예산안 | D4: 조정액 | G4: 비 고
D5: 계 | E5: 감액 | F5: 증액
B6: 계 | C6: =SUM(C7:C13)/2 -> 0 | D6: =SUM(F6-E6) -> 0 | E6: =SUM(E7:E13)/2 -> 0 | F6: =SUM(F7:F13)/2 -> 0
B7: 여성발전기금 | C7: =SUM(C8:C9) -> 0 | D7: =F7-E7 -> 0 | E7: =SUM(E8:E9) -> 0 | F7: =SUM(F8:F9) -> 0
A8: 199 | B8: 여성발전기금 출연금 | D8: =F8-E8 -> 0
C9: 0 | D9: =F9-E9 -> 0 | F9: 0
C10: =SUM(C11:C13) -> 0 | D10: =F10-E10 -> 0 | E10: =SUM(E11:E13) -> 0 | F10: =SUM(F11:F13) -> 0
C11: 0 | D11: =F11-E11 -> 0 | E11: 0
C12: 0 | D12: =F12-E12 -> 0 | F12: 0
C13: 0 | D13: =F13-E13 -> 0 | F13: 0

Sheet 세출_기금
A1: 2012년도 경기도 기금운용계획 수정안
A2: □ 세출예산(기금)
G3: (단위:천원)
A4: 명세서 페이지 | B4: 부기명 | C4: 예산안 | D4: 조정액 | G4: 비 고
D5: 계 | E5: 감액 | F5: 증액
C6: =SUM(C7:C16)/2 -> 0 | D6: =SUM(F6-E6) -> 0 | E6: =SUM(E7:E16)/2 -> 0 | F6: =SUM(F7:F16)/2 -> 0
B7: 여성발전기금 | C7: =SUM(C8:C12) -> 0 | D7: =F7-E7 -> 0 | E7: =SUM(E8:E12) -> 0 | F7: =SUM(F8:F12) -> 0
A8: 199 | B8: 여성발전기금 예탁금 | C8: 0 | D8: =F8-E8 -> 0
D9: =F9-E9 -> 0
D10: =F10-E10 -> 0
C11: 0 | D11: =F11-E11 -> 0 | F11: 0
C12: 0 | D12: =F12-E12 -> 0 | F12: 0
C13: =SUM(C14:C16) -> 0 | D13: =F13-E13 -> 0 | E13: =SUM(E14:E16) -> 0 | F13: =SUM(F14:F16) -> 0
D14: =F14-E14 -> 0
D15: =F15-E15 -> 0
D16: =F16-E16 -> 0 | F16: 0
