Workbook

Sheet 총괄표
B1: 2012년도 제1회 추가경정 일반 및 특별회계 세입·세출 예산 수정안
B2: □ 총 괄
D3: 세입증감 | F3: 세출증감 | H3: 잔액
D4: =I8 -> 24529605 | F4: =J8 -> 24529605 | H4: =K8 -> 0
H5: (단위:천원) | N5: (일반+특별+기금)
B6: 구 분 | C6: 집행부제출(안) | D6: 세입예산(안) | F6: 세출예산(안) | H6: 예산수정(안) | I6: 일반회계 증감(총괄표) | K6: 잔액 | L6: 비 고 | M6: 전체 증감(시트) | O6: 비고
D7: 감 액 | E7: 증 액 | F7: 감 액 | G7: 증 액 | I7: 세입 | J7: 세출 | M7: 세입 | N7: 세출 | R7: 일반회계 | S7: 기타특별 | T7: 공기업
B8: 합 계 | C8: =SUM(C9:C19) -> 16397438363 | D8: =SUM(D9:D19) -> 2188000 | E8: =SUM(E9:E19) -> 26717605 | F8: =SUM(F9:F19) -> 28016124 | G8: =SUM(G9:G19) -> 52545729 | H8: =SUM(H9:H19) -> 16421967968 | I8: =E26-D26 -> 24529605 | J8: =+G26-F26 -> 24529605 | K8: =+I8-J8 -> 0 | L8: 예비비로 맞춘다 - 예산이면 감액에 + 예산이면 증액에 입력 | M8: =(세입_일반!H6-세입_일반!G6)+(세입_특별!G6-세입_특별!F6)+(세입_기금!F6-세입_기금!E6) -> 24529605 | N8: =+(세출_일반!H6-세출_일반!G6)+(세출_특별!G6-세출_특별!F6)+(세출_기금!F6-세출_기금!E6) -> 24529605 | O8: =+M8-I8 -> 0 | P8: =+N8-J8 -> 0 | R8: =SUM(R10:R19) -> 12798268006 | S8: =SUM(S10:S19) -> 1167035603 | T8: =SUM(T10:T19) -> 2432134754
B9: 기 타 | H9: =C9-F9+G9 -> 0
B10: 운 영 위 | C10: =R10+S10+T10 -> 29015568 | D10: =SUMIF(세입_일반!A7:A56,"=의회운영위원회",세입_일반!G7:G56) -> 0 | E10: =SUMIF(세입_일반!A7:A56,"=의회운영위원회",세입_일반!H7:H56) -> 0 | F10: =SUMIF(세출_일반!A9:A182,"=의회운영위원회",세출_일반!G9:G182) -> 0 | G10: =SUMIF(세출_일반!A9:A182,"=의회운영위원회",세출_일반!H9:H182) -> 283400 | H10: =C10-F10+G10 -> 29298968 | I10: 일반회계 증감(시트) | N10: 전체 증감 | R10: 29015568
B11: 기 획 위 | C11: =R11+S11+T11 -> 4871220268 | D11: =SUMIF(세입_일반!A7:A56,"=기획위원회",세입_일반!G7:G56)+세입_특별!F25 -> 0 | E11: =SUMIF(세입_일반!A7:A56,"=기획위원회",세입_일반!H7:H56)+세입_특별!G25 -> 888373 | F11: =SUMIF(세출_일반!A9:A182,"=기획위원회",세출_일반!G9:G182)+세출_특별!F25 -> 15431650 | G11: =SUMIF(세출_일반!A9:A182,"=기획위원회",세출_일반!H9:H182)+세출_특별!G25 -> 1097500 | H11: =C11-F11+G11 -> 4856886118 | I11: =세입_일반!F6 -> 24529605 | J11: =세출_일반!F6 -> 24529605 | N11: =+H8-C8 -> 24529605 | R11: 3058864036 | T11: 1812356232
B12: 경 제 위 | C12: =R12+S12+T12 -> 642448852 | D12: =SUMIF(세입_일반!A7:A56,"=경제투자위원회",세입_일반!G7:G56)+세입_특별!F28 -> 0 | E12: =SUMIF(세입_일반!A7:A56,"=경제투자위원회",세입_일반!H7:H56)+세입_특별!G28 -> 1992400 | F12: =SUMIF(세출_일반!A9:A182,"=경제투자위원회",세출_일반!G9:G182)+세출_특별!F28 -> 1213720 | G12: =SUMIF(세출_일반!A9:A182,"=경제투자위원회",세출_일반!H9:H182)+세출_특별!G28 -> 12046060 | H12: =C12-F12+G12 -> 653281192 | R12: 283520852 | T12: 358928000
B13: 행 정 위 | C13: =R13+S13+T13 -> 1076118841 | D13: =SUMIF(세입_일반!A7:A56,"=행정자치위원회",세입_일반!G7:G56) -> 0 | E13: =SUMIF(세입_일반!A7:A56,"=행정자치위원회",세입_일반!H7:H56) -> 124250 | F13: =SUMIF(세출_일반!A9:A182,"=행정자치위원회",세출_일반!G9:G182) -> 40000 | G13: =SUMIF(세출_일반!A9:A182,"=행정자치위원회",세출_일반!H9:H182) -> 1014250 | H13: =C13-F13+G13 -> 1077093091 | R13: 1076118841
B14: 문 광 위 | C14: =R14+S14+T14 -> 506016312 | D14: =SUMIF(세입_일반!A7:A56,"=문화체육관광위원회",세입_일반!G7:G56)+세입_특별!F31 -> 0 | E14: =SUMIF(세입_일반!A7:A56,"=문화체육관광위원회",세입_일반!H7:H56)+세입_특별!G31 -> 169000 | F14: =SUMIF(세출_일반!A9:A182,"=문화체육관광위원회",세출_일반!G9:G182)+세출_특별!F31 -> 106000 | G14: =SUMIF(세출_일반!A9:A182,"=문화체육관광위원회",세출_일반!H9:H182)+세출_특별!G31 -> 867750 | H14: =C14-F14+G14 -> 506778062 | R14: 250233790 | T14: 255782522
B15: 농 림 위 | C15: =R15+S15+T15 -> 544251242 | D15: =SUMIF(세입_일반!A7:A56,"=농림수산위원회",세입_일반!G7:G56) -> 0 | E15: =SUMIF(세입_일반!A7:A56,"=농림수산위원회",세입_일반!H7:H56) -> 8800877 | F15: =SUMIF(세출_일반!A9:A182,"=농림수산위원회",세출_일반!G9:G182) -> 133000 | G15: =SUMIF(세출_일반!A9:A182,"=농림수산위원회",세출_일반!H9:H182) -> 8922070 | H15: =C15-F15+G15 -> 553040312 | R15: 544251242
B16: 복 지 위 | C16: =R16+S16+T16 -> 2621925107 | D16: =SUMIF(세입_일반!A7:A56,"=보건복지공보위원회",세입_일반!G7:G56)+세입_특별!F7 -> 0 | E16: =SUMIF(세입_일반!A7:A56,"=보건복지공보위원회",세입_일반!H7:H56)+세입_특별!G7 -> 4025 | F16: =SUMIF(세출_일반!A9:A182,"=보건복지공보위원회",세출_일반!G9:G182)+세출_특별!F7 -> 1757500 | G16: =SUMIF(세출_일반!A9:A182,"=보건복지공보위원회",세출_일반!H9:H182)+세출_특별!G7 -> 1975334 | H16: =C16-F16+G16 -> 2622142941 | R16: 1888027001 | S16: 733898106
B17: 건 설 위 | C17: =R17+S17+T17 -> 1478262260 | D17: =SUMIF(세입_일반!A7:A56,"=건설교통위원회",세입_일반!G7:G56)+세입_특별!F13+세입_특별!F19+세입_특별!F22 -> 0 | E17: =SUMIF(세입_일반!A7:A56,"=건설교통위원회",세입_일반!H7:H56)+세입_특별!G13+세입_특별!G19+세입_특별!G22 -> 13449000 | F17: =SUMIF(세출_일반!A9:A182,"=건설교통위원회",세출_일반!G9:G182)+세출_특별!F13+세출_특별!F19+세출_특별!F22 -> 1000000 | G17: =SUMIF(세출_일반!A9:A182,"=건설교통위원회",세출_일반!H9:H182)+세출_특별!G13+세출_특별!G19+세출_특별!G22 -> 20291000 | H17: =C17-F17+G17 -> 1497553260 | R17: 1315536596 | S17: 162725664
B18: 도 시 위 | C18: =R18+S18+T18 -> 926340461 | D18: =SUMIF(세입_일반!A7:A56,"=도시환경위원회",세입_일반!G7:G56)+세입_특별!F10+세입_특별!F34 -> 2188000 | E18: =SUMIF(세입_일반!A7:A56,"=도시환경위원회",세입_일반!H7:H56)+세입_특별!G10+세입_특별!G34 -> 0 | F18: =SUMIF(세출_일반!A9:A182,"=도시환경위원회",세출_일반!G9:G182)+세출_특별!F10+세출_특별!F34 -> 8219424 | G18: =SUMIF(세출_일반!A9:A182,"=도시환경위원회",세출_일반!H9:H182)+세출_특별!G10+세출_특별!G34 -> 2040000 | H18: =C18-F18+G18 -> 920161037 | R18: 912960628 | S18: 8311833 | T18: 5068000
B19: 여가평위 | C19: =R19+S19+T19 -> 3701839452 | D19: =SUMIF(세입_일반!A7:A56,"=여성가족평생교육위원회",세입_일반!G7:G56)+세입_특별!F16 -> 0 | E19: =SUMIF(세입_일반!A7:A56,"=여성가족평생교육위원회",세입_일반!H7:H56)+세입_특별!G16 -> 1289680 | F19: =SUMIF(세출_일반!A9:A182,"=여성가족평생교육위원회",세출_일반!G9:G182)+세출_특별!F16 -> 114830 | G19: =SUMIF(세출_일반!A9:A182,"=여성가족평생교육위원회",세출_일반!H9:H182)+세출_특별!G16 -> 4008365 | H19: =C19-F19+G19 -> 3705732987 | R19: 3439739452 | S19: 262100000
B21: □ 회계별 예산총규모
H22: (단위:천원)
B23: 구 분 | C23: 세출예산액 (집행부제출 안) | D23: 세입예산(안) | F23: 세출예산(안) | H23: 예산수정(안)
D24: 감 액 | E24: 증 액 | F24: 감 액 | G24: 증 액 | I24: 세입기준 수정예산(안)
B25: 합 계 | C25: =SUM(C26:C27) -> 16397438363 | D25: =SUM(D26:D27) -> 2188000 | E25: =SUM(E26:E27) -> 26717605 | F25: =SUM(F26:F27) -> 28016124 | G25: =SUM(G26:G27) -> 52545729 | H25: =SUM(H26:H27) -> 16421967968 | I25: =+C25+E25-D25 -> 16421967968 | J25: =I25-H25 -> 0 | K25: (세출기준-세입기준)
B26: 일반회계 | C26: =R8 -> 12798268006 | D26: =+세입_일반!G6 -> 2188000 | E26: =+세입_일반!H6 -> 26717605 | F26: =+세출_일반!G6 -> 28016124 | G26: =+세출_일반!H6 -> 52545729 | H26: =+C26+G26-F26 -> 12822797611 | I26: =+C26+E26-D26 -> 12822797611 | J26: =I26-H26 -> 0 | K26: (세출기준-세입기준)
B27: 특별회계 | C27: =S8+T8 -> 3599170357 | D27: =세입_특별!F6 -> 0 | E27: =세입_특별!G6 -> 0 | F27: =세출_특별!F6 -> 0 | G27: =세출_특별!G6 -> 0 | H27: =+C27+G27-F27 -> 3599170357 | I27: =+C27+E27-D27 -> 3599170357 | J27: =I27-H27 -> 0 | K27: (세출기준-세입기준)
A78: 가족여성정책국
F80: 0
I206: ◦ 본청 83,000 증 ◦ 북부청 377,000 증
K336: -50000

Sheet 세입_일반
B1: 2012년도 제1회 추가경정 일반회계 세입 예산 수정안
B2: □ 세입예산(일반회계)
I3: (단위:천원)
A4: 실국명 | B4: 명세서 페이지 | C4: 사업명 | D4: 예산안 | E4: 조정예산안 | F4: 조정액 | I4: 비 고
F5: 계 | G5: 감액 | H5: 증액 | K5: 계 | L5: 국비 | M5: 도비
A6: 계 | D6: =SUM(D7:D55)/2 -> 14778224 | E6: =SUM(E7:E55)/2 -> 39307829 | F6: =SUM(F7:F55)/2 -> 24529605 | G6: =SUM(G7:G55)/2 -> 2188000 | H6: =SUM(H7:H55)/2 -> 26717605 | K6: =SUM(L6:M6) -> 24529605 | L6: =F6-M6 -> 23958530 | M6: =H12+H28 -> 571075
A7: 의회운영위원회 | C7: 의회운영위원회 | D7: =SUM(D8:D9) -> 0 | E7: =SUM(E8:E9) -> 0 | F7: =SUM(F8:F9) -> 0 | G7: =SUM(G8:G9) -> 0 | H7: =SUM(H8:H9) -> 0
E8: =D8+F8 -> 0 | F8: =H8-G8 -> 0
E9: =D9+F9 -> 0 | F9: =H9-G9 -> 0
A10: 기획위원회 | C10: 기획위원회 | D10: =SUM(D11:D14) -> 8126 | E10: =SUM(E11:E14) -> 896499 | F10: =SUM(F11:F14) -> 888373 | G10: =SUM(G11:G14) -> 0 | H10: =SUM(H11:H14) -> 888373
A11: 기획조정실 | B11: 신규 | C11: 자치단체 공통행정정보시스템 운영시설 보안강화 | E11: =D11+F11 -> 187500 | F11: =H11-G11 -> 187500 | H11: 187500 | I11: 국비 내시(특교세) 행안부 교부세과-960(5.2)
A12: 기획행정실 | B12: 235 | C12: 군관협력담당관 도비사용잔액 | D12: 8126 | E12: =D12+F12 -> 8999 | F12: =H12-G12 -> 873 | H12: 873 | I12: 도비 반환금 확정 군관협력담당관-2790(5.1)
A13: 균형발전국 | B13: 신규 | C13: 지방브랜드 세계화 시범사업 | E13: =D13+F13 -> 700000 | F13: =H13-G13 -> 700000 | H13: 700000 | I13: 국비 내시(특교세) 행안부 교부세과-960(5.2)
E14: =D14+F14 -> 0 | F14: =H14-G14 -> 0
A15: 경제투자위원회 | C15: 경제투자위원회 | D15: =SUM(D16:D18) -> 30000 | E15: =SUM(E16:E18) -> 2022400 | F15: =SUM(F16:F18) -> 1992400 | G15: =SUM(G16:G18) -> 0 | H15: =SUM(H16:H18) -> 1992400
A16: 경제투자실 | B16: 본예산 54 | C16: 신재생에너지 보급사업 | E16: =D16+F16 -> 1838400 | F16: =H16-G16 -> 1838400 | H16: 1838400 | I16: 국비 내시 (본예산 7,886,000)
A17: 경제투자실 | B17: 257 | C17: 지역맞춤형 일자리 사업지원 | D17: 30000 | E17: =D17+F17 -> 184000 | F17: =H17-G17 -> 154000 | H17: 154000 | I17: 국비 내시 (본예산 2,881,000)
E18: =D18+F18 -> 0 | F18: =H18-G18 -> 0
A19: 행정자치위원회 | C19: 행정자치위원회 | D19: =SUM(D20:D21) -> 0 | E19: =SUM(E20:E21) -> 124250 | F19: =SUM(F20:F21) -> 124250 | G19: =SUM(G20:G21) -> 0 | H19: =SUM(H20:H21) -> 124250
A20: 기획행정실 | B20: 신규 | C20: 재해로 인한 재산피해 복구비 (4.2∼4 강풍피해) | E20: =D20+F20 -> 124250 | F20: =H20-G20 -> 124250 | H20: 124250 | I20: 국비 내시 소방방재청(4.20)
E21: =D21+F21 -> 0 | F21: =H21-G21 -> 0
A22: 문화체육관광위원회 | C22: 문화체육관광위원회 | D22: =SUM(D23:D26) -> 0 | E22: =SUM(E23:E26) -> 169000 | F22: =SUM(F23:F26) -> 169000 | G22: =SUM(G23:G26) -> 0 | H22: =SUM(H23:H26) -> 169000
A23: 문화체육관광국 (문화예술과) | B23: 신규 | C23: 비지정문화재 기초조사사업 | E23: =D23+F23 -> 9000 | F23: =H23-G23 -> 9000 | H23: 9000 | I23: 국비 내시
A24: 문화체육관광국 (관광과) | B24: 신규 | C24: 시내순환 관광업(시티투어) 홍보지원 | E24: =D24+F24 -> 148000 | F24: =H24-G24 -> 148000 | H24: 148000 | I24: 국비 내시(기금)
A25: 문화체육관광국 (관광과) | B25: 본예산 68 | C25: 관광기념품 공모전 | E25: =D25+F25 -> 12000 | F25: =H25-G25 -> 12000 | H25: 12000 | I25: 국비 내시(기금)
E26: =D26+F26 -> 0 | F26: =H26-G26 -> 0
A27: 농림수산위원회 | C27: 농림수산위원회 | D27: =SUM(D28:D37) -> 10273020 | E27: =SUM(E28:E37) -> 19073897 | F27: =SUM(F28:F37) -> 8800877 | G27: =SUM(G28:G37) -> 0 | H27: =SUM(H28:H37) -> 8800877
A28: 농정국 | B28: 신규 | C28: 도비반환금 수입 | E28: =D28+F28 -> 570202 | F28: =H28-G28 -> 570202 | H28: 570202 | I28: 2011년도 도비사용잔액
A29: 농정국 | B29: 394 | C29: 농업인교육훈련 | D29: 18246 | E29: =D29+F29 -> 26246 | F29: =H29-G29 -> 8000 | H29: 8000 | I29: 국비 내시 농림부 경영인력과-1833(4.27)
A30: 농정국 | B30: 394 | C30: 배수개선사업 | D30: 2025000 | E30: =D30+F30 -> 2425000 | F30: =H30-G30 -> 400000 | H30: 400000 | I30: 국비 내시 농림부 농업기반과-1687(1.10) 농림부 농업기반과-2007(4.19)
A31: 농정국 | B31: 신규 | C31: 들녘별 쌀 경영체 육성 | E31: =D31+F31 -> 50000 | F31: =H31-G31 -> 50000 | H31: 50000 | I31: 국비 내시 농림부 식량산업과-1555(4.13)
A32: 농정국 | B32: 본예산 69 | C32: 시설원예 품질개선 | E32: =D32+F32 -> 732295 | F32: =H32-G32 -> 732295 | H32: 732295 | I32: 국비 내시 농림부 원예경영과-1228(3.27)
A33: 농정국 | B33: 신규 | C33: 농업용난방기 시간계측기 | E33: =D33+F33 -> 310320 | F33: =H33-G33 -> 310320 | H33: 310320 | I33: 국비 내시 농림부 원예경영과-1227(3.27)
A34: 농정국 | B34: 신규 | C34: 농작물병해충방제 | E34: =D34+F34 -> 42369 | F34: =H34-G34 -> 42369 | H34: 42369 | I34: 국비 내시 농진청 식량축산과-1812(4.17)
A35: 농정국 | B35: 신규 | C35: 밭농업 직불제 | E35: =D35+F35 -> 6638341 | F35: =H35-G35 -> 6638341 | H35: 6638341 | I35: 국비 내시 농림부 농가소득안정추진단-1264(4.23)
A36: 축산산림국 | B36: 445 | C36: 시도가축방역사업 | D36: 8229774 | E36: =D36+F36 -> 8279124 | F36: =H36-G36 -> 49350 | H36: 49350 | I36: 국비 내시 농림부 방역총괄과-2053(4.17)
E37: =D37+F37 -> 0 | F37: =H37-G37 -> 0
A38: 보건복지공보위원회 | C38: 보건복지공보위원회 | D38: =SUM(D39:D40) -> 0 | E38: =SUM(E39:E40) -> 4025 | F38: =SUM(F39:F40) -> 4025 | G38: =SUM(G39:G40) -> 0 | H38: =SUM(H39:H40) -> 4025
A39: 보건복지국 | B39: 본예산 58 | C39: 감염질환 역학조사 | E39: =D39+F39 -> 4025 | F39: =H39-G39 -> 4025 | H39: 4025 | I39: 국비 내시 질병관리본부 역학조사과-834(4.26)
E40: =D40+F40 -> 0 | F40: =H40-G40 -> 0
A41: 건설교통위원회 | C41: 건설교통위원회 | D41: =SUM(D42:D44) -> 0 | E41: =SUM(E42:E44) -> 13449000 | F41: =SUM(F42:F44) -> 13449000 | G41: =SUM(G42:G44) -> 0 | H41: =SUM(H42:H44) -> 13449000
A42: 건설본부 | B42: 신규 | C42: 국가하천유지보수비-한강 | E42: =D42+F42 -> 2535000 | F42: =H42-G42 -> 2535000 | H42: 2535000 | I42: 국비 내시
A43: 건설본부 | B43: 신규 | C43: 국가하천유지보수비-한강 외 | E43: =D43+F43 -> 10914000 | F43: =H43-G43 -> 10914000 | H43: 10914000 | I43: 국비 내시
E44: =D44+F44 -> 0 | F44: =H44-G44 -> 0
A45: 도시환경위원회 | C45: 도시환경위원회 | D45: =SUM(D46:D47) -> 3388000 | E45: =SUM(E46:E47) -> 1200000 | F45: =SUM(F46:F47) -> -2188000 | G45: =SUM(G46:G47) -> 2188000 | H45: =SUM(H46:H47) -> 0
A46: 팔당수질개선본부 | B46: 623 | C46: 생태하천복원사업 | D46: 3388000 | E46: =D46+F46 -> 1200000 | F46: =H46-G46 -> -2188000 | G46: 2188000 | I46: 국비 내시
E47: =D47+F47 -> 0 | F47: =H47-G47 -> 0
A48: 여성가족평생교육위원회 | C48: 여성가족평생교육위원회 | D48: =SUM(D49:D55) -> 1079078 | E48: =SUM(E49:E55) -> 2368758 | F48: =SUM(F49:F55) -> 1289680 | G48: =SUM(G49:G55) -> 0 | H48: =SUM(H49:H55) -> 1289680
A49: 여성가족국 (여성가족과) | B49: 658 | C49: 경력단절여성취업지원(성립전) | D49: 1019510 | E49: =D49+F49 -> 1129450 | F49: =H49-G49 -> 109940 | H49: 109940 | I49: 국비 내시 여가부 경력단절여성지원과-1272(4.30)
A50: 여성가족국 (보육정책과) | B50: 본예산 61 | C50: 육아종합지원서비스제공 | E50: =D50+F50 -> 1000000 | F50: =H50-G50 -> 1000000 | H50: 1000000 | I50: 국비 내시 복지부 보육기반과-1797(4.25)
A51: 여성가족국 (아동청소년과) | B51: 660 | C51: 청소년쉼터 운영지원 | D51: 59568 | E51: =D51+F51 -> 99308 | F51: =H51-G51 -> 39740 | H51: 39740 | I51: 국비 내시(기금) 여가부 청소년자립지원과-1366(4.25)
A52: 여성가족국 (다문화가족과) | B52: 신규 | C52: 외국인주민의사회적응 및 자립지원 | E52: =D52+F52 -> 100000 | F52: =H52-G52 -> 100000 | H52: 100000 | I52: 국비 내시 행안부 자치행정과-2273(4.25)
A53: 여성가족국 | B53: 신규 | C53: 여성창업과 경영지원 사업 | E53: =D53+F53 -> 40000 | F53: =H53-G53 -> 40000 | H53: 40000 | I53: 국비 내시
E54: =D54+F54 -> 0 | F54: =H54-G54 -> 0
E55: =D55+F55 -> 0 | F55: =H55-G55 -> 0

Sheet 세출_일반
B1: 2012년도 제1회 추가경정 일반회계 세출 예산 수정안
B2: □ 세출예산(일반회계) | L2: =L3-L6 -> 0
I3: (단위:천원) | J3: =J4-J6 -> 0 | L3: =J6-K6 -> 481075
A4: 실국명 | B4: 명세서 페이지 | C4: 사업명 | D4: 예산안 | E4: 조정예산안 | F4: 조정액 | I4: 비 고 | J4: =F6 -> 24529605 | K4: =세입_일반!L6 -> 23958530 | L4: =K4-K6 -> -90000
F5: 계 | G5: 감액 | H5: 증액 | J5: 계 | K5: 국비 | L5: 도비
A6: 계 | D6: =SUM(D7:D181)/2 -> 285463378 | E6: =SUM(E7:E181)/2 -> 309992983 | F6: =SUM(F7:F181)/2 -> 24529605 | G6: =SUM(G7:G181)/2 -> 28016124 | H6: =SUM(H7:H181)/2 -> 52545729 | J6: =SUM(J9:J181)/2 -> 24529605 | K6: =SUM(K9:K181)/2 -> 24048530 | L6: =SUM(L9:L181)/2 -> 481075
A7: 기타 | C7: 기타 | D7: =SUM(D8:D8) -> 0 | E7: =SUM(E8:E8) -> 0 | F7: =SUM(F8:F8) -> 0 | G7: =SUM(G8:G8) -> 0 | H7: =SUM(H8:H8) -> 0 | J7: =F7 -> 0 | L7: =J7-K7 -> 0
E8: =D8+F8 -> 0 | F8: =H8-G8 -> 0 | J8: =F8 -> 0 | L8: =J8-K8 -> 0
A9: 의회운영위원회 | C9: 의회운영위원회 | D9: =SUM(D10:D18) -> 15000 | E9: =SUM(E10:E18) -> 298400 | F9: =SUM(F10:F18) -> 283400 | G9: =SUM(G10:G18) -> 0 | H9: =SUM(H10:H18) -> 283400 | J9: =F9 -> 283400 | K9: =SUM(K10:K18) -> 0 | L9: =J9-K9 -> 283400
A10: 의회사무처 | B10: 211 | C10: 의장상장제작 | D10: 5000 | E10: =D10+F10 -> 8000 | F10: =H10-G10 -> 3000 | H10: 3000 | J10: =F10 -> 3000 | L10: =J10-K10 -> 3000
A11: 의회사무처 | B11: 212 | C11: 예산정책 세미나 토론회 개최 | D11: 10000 | E11: =D11+F11 -> 10000 | F11: =H11-G11 -> 0 | I11: 과목변경(단위/세부) 당초:의원활동비/의원입법및정책활동지원 변경:의회운영 및 지원/의정활동지원 | J11: =F11 -> 0 | L11: =J11-K11 -> 0
A12: 의회사무처 | B12: 신규 | C12: HD카메라 파일저장 스토리지 구입 | E12: =D12+F12 -> 150000 | F12: =H12-G12 -> 150000 | H12: 150000 | J12: =F12 -> 150000 | L12: =J12-K12 -> 150000
A13: 의회사무처 | B13: 본예산 80 | C13: 의정 간행물 원고료 | E13: =D13+F13 -> 4200 | F13: =H13-G13 -> 4200 | H13: 4200 | I13: (본예산 17,010) | J13: =F13 -> 4200 | L13: =J13-K13 -> 4200
A14: 의회사무처 | B14: 본예산 80 | C14: 간행물 우편요금 | E14: =D14+F14 -> 61200 | F14: =H14-G14 -> 61200 | H14: 61200 | I14: (본예산 241,280) | J14: =F14 -> 61200 | L14: =J14-K14 -> 61200
A15: 의회사무처 | B15: 신규 | C15: 상임위원회 회의실 컴퓨터 등 구입 (12개 상임위원회) | E15: =D15+F15 -> 28200 | F15: =H15-G15 -> 28200 | H15: 28200 | I15: 컴퓨터 1,350천원*12대 프린터 1,000천원*12대 | J15: =F15 -> 28200 | L15: =J15-K15 -> 28200
A16: 의회사무처 | B16: 신규 | C16: 여성가족평생교육위원회 컴퓨터등 물품구입 | E16: =D16+F16 -> 18800 | F16: =H16-G16 -> 18800 | H16: 18800 | J16: =F16 -> 18800 | L16: =J16-K16 -> 18800
A17: 의회사무처 | B17: 본예산 81 | C17: 뉴스통신 수신료 | E17: =D17+F17 -> 18000 | F17: =H17-G17 -> 18000 | H17: 18000 | I17: (본예산 72,000) | J17: =F17 -> 18000 | L17: =J17-K17 -> 18000
E18: =D18+F18 -> 0 | F18: =H18-G18 -> 0 | J18: =F18 -> 0 | L18: =J18-K18 -> 0
A19: 기획위원회 | C19: 기획위원회 | D19: =SUM(D20:D26) -> 249294650 | E19: =SUM(E20:E26) -> 234960500 | F19: =SUM(F20:F26) -> -14334150 | G19: =SUM(G20:G26) -> 15431650 | H19: =SUM(H20:H26) -> 1097500 | J19: =F19 -> -14334150 | K19: =SUM(K20:K26) -> 887500 | L19: =J19-K19 -> -15221650
A20: 기획조정실 | B20: 229 | C20: 스마트 소통 시스템 구축(자체/직접) | D20: 398000 | E20: =D20+F20 -> 398000 | F20: =H20-G20 -> 0 | H20: 0 | I20: 상임위 -198,000 | J20: =F20 -> 0 | L20: =J20-K20 -> 0
A21: 기획조정실 | B21: 신규 | C21: 자치단체 공통행정정보시스템 운영시설 보안강화(교부세/직접) | E21: =D21+F21 -> 187500 | F21: =H21-G21 -> 187500 | G21: 0 | H21: 187500 | I21: 국비 내시(특교세) (전액국비) | J21: =F21 -> 187500 | K21: 187500 | L21: =J21-K21 -> 0
A22: 균형발전국 | B22: 신규 | C22: DMZ 종합홍보관 설치(교부세/지원) | E22: =D22+F22 -> 390000 | F22: =H22-G22 -> 390000 | G22: 0 | H22: 390000 | I22: 국비 내시(특교세) (국비 300,000, 도비 90,000) | J22: =F22 -> 390000 | K22: 300000 | L22: =J22-K22 -> 90000
A23: 균형발전국 | B23: 신규 | C23: DMZ 일원 브랜드 마을 육성(교부세/지원) | E23: =D23+F23 -> 520000 | F23: =H23-G23 -> 520000 | G23: 0 | H23: 520000 | I23: 국비 내시(특교세) (국비 400,000, 도비 120,000) | J23: =F23 -> 520000 | K23: 400000 | L23: =J23-K23 -> 120000
E24: =D24+F24 -> 0 | F24: =H24-G24 -> 0 | J24: =F24 -> 0 | L24: =J24-K24 -> 0
A25: 예산담당관 | B25: 225 | C25: 재정보전금 | D25: 248896650 | E25: =D25+F25 -> 233465000 | F25: =H25-G25 -> -15431650 | G25: 15431650 | J25: =F25 -> -15431650 | L25: =J25-K25 -> -15431650
A26: 예산담당관 | E26: =D26+F26 -> 0 | F26: =H26-G26 -> 0 | J26: =F26 -> 0 | L26: =J26-K26 -> 0
A27: 경제투자위원회 | C27: 경제투자위원회 | D27: =SUM(D28:D53) -> 4185550 | E27: =SUM(E28:E53) -> 15017890 | F27: =SUM(F28:F53) -> 10832340 | G27: =SUM(G28:G53) -> 1213720 | H27: =SUM(H28:H53) -> 12046060 | J27: =F27 -> 10832340 | K27: =SUM(K28:K53) -> 1850500 | L27: =J27-K27 -> 8981840
A28: 경제투자실 | B28: 260 | C28: 경기도 경제단체연합회 지원(자체/직접) | D28: 850000 | E28: =D28+F28 -> 650000 | F28: =H28-G28 -> -200000 | G28: 200000 | I28: 규제완화 및 투자환경조성 홍보비 삭감 | J28: =F28 -> -200000 | L28: =J28-K28 -> -200000
A29: 경제투자실 | B29: 269 | C29: 마을기업 육성사업 | D29: 38350 | E29: =D29+F29 -> 838350 | F29: =H29-G29 -> 800000 | H29: 800000 | I29: 도비만 증액 | J29: =F29 -> 800000 | L29: =J29-K29 -> 800000
A30: 경제투자실 | B30: 신규 | C30: 경기도 여성기업 및 경력 단절여성 재취업 활성화방안 연구(자체/직접) | E30: =D30+F30 -> 100000 | F30: =H30-G30 -> 100000 | H30: 100000 | I30: 여성기업 활성화 및 여성 재취업 활성화를 위한 연구용역비 | J30: =F30 -> 100000 | L30: =J30-K30 -> 100000
A31: 경제투자실 | B31: 본예산 133 | C31: 경기신용보증재단 출연금(자체/직접) | E31: =D31+F31 -> 2100000 | F31: =H31-G31 -> 2100000 | H31: 2100000 | I31: (본예산 12,000,000) | J31: =F31 -> 2100000 | L31: =J31-K31 -> 2100000
A32: 경제투자실 | B32: 본예산 134 | C32: 중소기업육성기금 출연금 | E32: =D32+F32 -> 3000000 | F32: =H32-G32 -> 3000000 | H32: 3000000 | I32: (본예산 5,000,000) | J32: =F32 -> 3000000 | L32: =J32-K32 -> 3000000
A33: 경제투자실 | B33: 본예산 137 | C33: 신재생에너지 보급사업(국비/지원) 본청(남부) 관할 시군 | E33: =D33+F33 -> 1574530 | F33: =H33-G33 -> 1574530 | H33: 1574530 | I33: 국비 내시 (본예산 3,160,080) | J33: =F33 -> 1574530 | K33: 1149700 | L33: =J33-K33 -> 424830
A34: 경제투자실 | B34: 본예산 905 | C34: 신재생에너지 보급사업(국비/지원) 북부청 관할 시군 | E34: =D34+F34 -> 752130 | F34: =H34-G34 -> 752130 | H34: 752130 | I34: 국비 내시 (본예산 6,430,360) | J34: =F34 -> 752130 | K34: 497100 | L34: =J34-K34 -> 255030
A35: 경제투자실 | B35: 265 | C35: 나노소자특화팹센터 출연금(자체/직접) | D35: 880000 | E35: =D35+F35 -> 640000 | F35: =H35-G35 -> -240000 | G35: 240000 | I35: 팹시설운영관리비 일부 삭감 (자체충당금 활용) | J35: =F35 -> -240000 | L35: =J35-K35 -> -240000
A36: 경제투자실 | B36: 266 | C36: 고등학생 산업연수프로그램 지원(자체/직접) | D36: 300000 | E36: =D36+F36 -> 150000 | F36: =H36-G36 -> -150000 | G36: 150000 | J36: =F36 -> -150000 | L36: =J36-K36 -> -150000
A37: 경제투자실 | B37: 본예산 143 | C37: 전략산업 및 기업주도 기술개발사업 (자체/직접) | E37: =D37+F37 -> 2000000 | F37: =H37-G37 -> 2000000 | H37: 2000000 | I37: (본예산 11,000,000) | J37: =F37 -> 2000000 | L37: =J37-K37 -> 2000000
A38: 경제투자실 | B38: 본예산 141 | C38: 의료기기산업 지원센터 지원(자체/직접) | E38: =D38+F38 -> 250000 | F38: =H38-G38 -> 250000 | H38: 250000 | I38: (본예산 300,000) | J38: =F38 -> 250000 | L38: =J38-K38 -> 250000
A39: 경제투자실 | B39: 270 | C39: 특성화고생 취업지원(자체/직접) | D39: 410000 | E39: =D39+F39 -> 350000 | F39: =H39-G39 -> -60000 | G39: 60000 | I39: 취업인식개선 등 설명회 및 공직자멘토링 사업비 260,000천원 삭감 및 기업현장연수프로그램 등 지원 200,000천원 증액 | J39: =F39 -> -60000 | L39: =J39-K39 -> -60000
A40: 경제투자실 | B40: 270 | C40: 학습형 사회적 일자리 창출(자체/직접) | D40: 633200 | E40: =D40+F40 -> 333200 | F40: =H40-G40 -> -300000 | G40: 300000 | I40: 신규사업으로 사업비 조정 | J40: =F40 -> -300000 | L40: =J40-K40 -> -300000
A41: 경제투자실 | B41: 271 | C41: 민주노총 사무실 운영지원(자체/직접) | D41: 205000 | E41: =D41+F41 -> 276000 | F41: =H41-G41 -> 71000 | H41: 71000 | I41: 사무실 시설보강 등 | J41: =F41 -> 71000 | L41: =J41-K41 -> 71000
A42: 경제투자실 | B42: 본예산 149 | C42: 지역맞춤형 일자리사업지원(국비/지원) | E42: =D42+F42 -> 154000 | F42: =H42-G42 -> 154000 | H42: 154000 | I42: 국비 내시 (본예산 2,251,000) | J42: =F42 -> 154000 | K42: 154000 | L42: =J42-K42 -> 0
A43: 경제투자실 | B43: 신규 | C43: 일자리센터 운영실태평가 우수시군 포상금 (자체/지원) | E43: =D43+F43 -> 45000 | F43: =H43-G43 -> 45000 | H43: 45000 | J43: =F43 -> 45000 | L43: =J43-K43 -> 45000
A44: 경제투자실 | B44: 272 | C44: 베이비부머 재취업 프로그램 운영(자체/직접) | D44: 312000 | E44: =D44+F44 -> 200000 | F44: =H44-G44 -> -112000 | G44: 112000 | I44: 신규사업으로 사업비 조정 | J44: =F44 -> -112000 | L44: =J44-K44 -> -112000
A45: 경제투자실 | B45: 272 | C45: 취약계층 취업알선기관 역량강화(자체/직접) | D45: 57000 | E45: =D45+F45 -> 57000 | F45: =H45-G45 -> 0 | I45: 직업소개기관 종사자 교육 등은 고용노동부 및 시군 담당자 전문강사 섭외 조건 | J45: =F45 -> 0 | L45: =J45-K45 -> 0
A46: 경제투자실 | B46: 274 | C46: 테마파크 조성관련 출자(자체/직접) | E46: =D46+F46 -> 0 | F46: =H46-G46 -> 0 | I46: 예결위에서 관련 상임위 사전 협의 필요 조건 | J46: =F46 -> 0 | L46: =J46-K46 -> 0
A47: 경제투자실 | B47: 본예산 160 | C47: 국제교류.협력의 다원화(자체/직접) | E47: =D47+F47 -> 200000 | F47: =H47-G47 -> 200000 | H47: 200000 | I47: ODA 사업지원 (본예산 476,300) | J47: =F47 -> 200000 | L47: =J47-K47 -> 200000
A48: 경제투자실 (기술학교) | B48: 본예산 165 | C48: 교내시설환경개선(자체/직접) | E48: =D48+F48 -> -151720 | F48: =H48-G48 -> -151720 | G48: 151720 | I48: 국비 내시 (본예산 1,239,452) | J48: =F48 -> -151720 | L48: =J48-K48 -> -151720
A49: 경제투자실 | B49: 신규 | C49: 태양광발전장치 설치(국비/직접) | E49: =D49+F49 -> 99400 | F49: =H49-G49 -> 99400 | H49: 99400 | I49: 국비 내시 | J49: =F49 -> 99400 | K49: 49700 | L49: =J49-K49 -> 49700
A50: 균형발전국 | B50: 신규 | C50: 가구밀집지역 판매촉진 행사지원(자체/지원) | E50: =D50+F50 -> 100000 | F50: =H50-G50 -> 100000 | H50: 100000 | I50: 영세한 가구밀집매활성화 지원 | J50: =F50 -> 100000 | L50: =J50-K50 -> 100000
A51: 균형발전국 | B51: 신규 | C51: 섬유소재연구소 생산설비 보강(자체/직접) | E51: =D51+F51 -> 300000 | F51: =H51-G51 -> 300000 | H51: 300000 | I51: 섬유산업육성조례에 의한 섬유소재연구소 장비 보강 | J51: =F51 -> 300000 | L51: =J51-K51 -> 300000
A52: 경제투자실 | B52: 270 | C52: 사회적기업 특례보증 출연금 | D52: 500000 | E52: =D52+F52 -> 1000000 | F52: =H52-G52 -> 500000 | H52: 500000 | J52: =F52 -> 500000 | L52: =J52-K52 -> 500000
E53: =D53+F53 -> 0 | F53: =H53-G53 -> 0 | J53: =F53 -> 0 | L53: =J53-K53 -> 0
A54: 행정자치위원회 | C54: 행정자치위원회 | D54: =SUM(D55:D68) -> 2124650 | E54: =SUM(E55:E68) -> 3098900 | F54: =SUM(F55:F68) -> 974250 | G54: =SUM(G55:G68) -> 40000 | H54: =SUM(H55:H68) -> 1014250 | J54: =F54 -> 974250 | K54: =SUM(K55:K68) -> 214250 | L54: =J54-K54 -> 760000
A55: 자치행정국 | B55: 291 | C55: 스마트워크센터 사무실 환경 구축 | D55: 80000 | E55: =D55+F55 -> 60000 | F55: =H55-G55 -> -20000 | G55: 20000 | J55: =F55 -> -20000 | L55: =J55-K55 -> -20000
A56: 자치행정국 | B56: 291 | C56: 스마트워크센터 자산취득 | D56: 20000 | E56: =D56+F56 -> 10000 | F56: =H56-G56 -> -10000 | G56: 10000 | J56: =F56 -> -10000 | L56: =J56-K56 -> -10000
A57: 자치행정국 | B57: 293 | C57: 공무원 교양지 구독 | D57: 30000 | E57: =D57+F57 -> 20000 | F57: =H57-G57 -> -10000 | G57: 10000 | J57: =F57 -> -10000 | L57: =J57-K57 -> -10000
A58: 자치행정국 | B58: 신규 | C58: 재향군인회 건물 보수비 | E58: =D58+F58 -> 40000 | F58: =H58-G58 -> 40000 | H58: 40000 | J58: =F58 -> 40000 | L58: =J58-K58 -> 40000
A59: 비상기획관 | B59: 신규 | C59: 재해로 인한 재산피해 복구비 (4.2∼4 강풍피해) | E59: =D59+F59 -> 124250 | F59: =H59-G59 -> 124250 | H59: 124250 | I59: 국비 내시(소방방재청) | J59: =F59 -> 124250 | K59: 124250 | L59: =J59-K59 -> 0
A60: 소방재난본부 | B60: 310 | C60: 화재진압 및 안전장비 | D60: 1447650 | E60: =D60+F60 -> 1447650 | F60: =H60-G60 -> 0 | I60: 상임위 -100,000 | J60: =F60 -> 0 | L60: =J60-K60 -> 0
A61: 소방재난본부 | B61: 329 | C61: 소방관서 신축(김포소방서) | D61: 462000 | E61: =D61+F61 -> 462000 | F61: =H61-G61 -> 0 | I61: 상임위 -462,000 | J61: =F61 -> 0 | L61: =J61-K61 -> 0
A62: 소방재난본부 | B62: 신규 | C62: PTSD(외상후스트레스장애) 치유실 (부천소방서) | E62: =D62+F62 -> 50000 | F62: =H62-G62 -> 50000 | H62: 50000 | J62: =F62 -> 50000 | L62: =J62-K62 -> 50000
A63: 소방재난본부 | B63: 신규 | C63: 음식물 자연처리기 (소방본부,북부소방본부,34개소방서) | E63: =D63+F63 -> 250000 | F63: =H63-G63 -> 250000 | H63: 250000 | J63: =F63 -> 250000 | L63: =J63-K63 -> 250000
A64: 소방재난본부 | B64: 324 | C64: 소방관서이전 | D64: 85000 | E64: =D64+F64 -> 155000 | F64: =H64-G64 -> 70000 | H64: 70000 | I64: 광명소방서 | J64: =F64 -> 70000 | L64: =J64-K64 -> 70000
A65: 소방재난본부 | B65: 신규 | C65: 의용소방대 운영경비 | E65: =D65+F65 -> 220000 | F65: =H65-G65 -> 220000 | H65: 220000 | J65: =F65 -> 220000 | L65: =J65-K65 -> 220000
A66: 소방재난본부 | B66: 신규 | C66: 소방청사 청소용역비 | E66: =D66+F66 -> 170000 | F66: =H66-G66 -> 170000 | H66: 170000 | J66: =F66 -> 170000 | L66: =J66-K66 -> 170000
A67: 비상기획관 (재난대책담당관) | B67: 신규 | C67: 영상감시 시스템 및 장비 보강사업(자체/직접) | E67: =D67+F67 -> 90000 | F67: =H67-G67 -> 90000 | H67: 90000 | I67: 2011년 특별교부세 | J67: =F67 -> 90000 | K67: 90000 | L67: =J67-K67 -> 0
E68: =D68+F68 -> 0 | F68: =H68-G68 -> 0 | J68: =F68 -> 0 | L68: =J68-K68 -> 0
A69: 문화체육관광위원회 | C69: 문화체육관광위원회 | D69: =SUM(D70:D81) -> 433080 | E69: =SUM(E70:E81) -> 1194830 | F69: =SUM(F70:F81) -> 761750 | G69: =SUM(G70:G81) -> 106000 | H69: =SUM(H70:H81) -> 867750 | J69: =F69 -> 761750 | K69: =SUM(K70:K81) -> 169000 | L69: =J69-K69 -> 592750
A70: 문화체육관광국 (문화산업과) | B70: 379 | C70: 게임중독예방을 위한 상담요원 지원 | D70: 206000 | E70: =D70+F70 -> 100000 | F70: =H70-G70 -> -106000 | G70: 106000 | J70: =F70 -> -106000 | L70: =J70-K70 -> -106000
A71: 문화체육관광국 (체육과) | B71: 385 | C71: 경기도장애인체육회 사무처운영 | D71: 55830 | E71: =D71+F71 -> 55830 | F71: =H71-G71 -> 0 | I71: 상임위 -40,830 | J71: =F71 -> 0 | L71: =J71-K71 -> 0
A72: 문화체육관광국 (문화예술과) | B72: 본예산 202 | C72: 도단위 예술단체 문예진흥사업 | E72: =D72+F72 -> 100000 | F72: =H72-G72 -> 100000 | H72: 100000 | J72: =F72 -> 100000 | L72: =J72-K72 -> 100000
A73: 문화체육관광국 (문화산업과) | B73: 신규 | C73: 2012 대통령배 KeG 및 수원정보과학축제 지원 | E73: =D73+F73 -> 200000 | F73: =H73-G73 -> 200000 | H73: 200000 | J73: =F73 -> 200000 | L73: =J73-K73 -> 200000
A74: 문화체육관광국 (문화예술과) | B74: 본예산 203 | C74: 경기도문화의전당 출연금 (예술단 해외공연) | E74: =D74+F74 -> 250000 | F74: =H74-G74 -> 250000 | H74: 250000 | J74: =F74 -> 250000 | L74: =J74-K74 -> 250000
A75: 문화체육관광국 (문화예술과) | B75: 신규 | C75: 비지정문화재 기초조사사업 | E75: =D75+F75 -> 9000 | F75: =H75-G75 -> 9000 | H75: 9000 | I75: 국비 내시 | J75: =F75 -> 9000 | K75: 9000 | L75: =J75-K75 -> 0
A76: 문화체육관광국 (관광과) | B76: 신규 | C76: 시내순환 관광업(시티투어) 홍보지원 | E76: =D76+F76 -> 148000 | F76: =H76-G76 -> 148000 | H76: 148000 | I76: 국비 내시(관광진흥개발기금) | J76: =F76 -> 148000 | K76: 148000 | L76: =J76-K76 -> 0
A77: 문화체육관광국 (관광과) | B77: 본예산 219 | C77: 관광기념품 공모전 개최 | D77: 30000 | E77: =D77+F77 -> 42000 | F77: =H77-G77 -> 12000 | H77: 12000 | I77: 국비 내시(관광진흥개발기금) | J77: =F77 -> 12000 | K77: 12000 | L77: =J77-K77 -> 0
A78: 문화체육관광국 | B78: 378 | C78: 소외계층 템플스테이 | D78: 21250 | E78: =D78+F78 -> 60000 | F78: =H78-G78 -> 38750 | H78: 38750 | J78: =F78 -> 38750 | L78: =J78-K78 -> 38750
A79: 문화체육관광국 | B79: 381 | C79: 경기관광공사 출연금 | D79: 120000 | E79: =D79+F79 -> 200000 | F79: =H79-G79 -> 80000 | H79: 80000 | J79: =F79 -> 80000 | L79: =J79-K79 -> 80000
A80: 문화체육관광국 | B80: 신규 | C80: 대한민국휘호대회 10주년 | E80: =D80+F80 -> 30000 | F80: =H80-G80 -> 30000 | H80: 30000 | J80: =F80 -> 30000 | L80: =J80-K80 -> 30000
E81: =D81+F81 -> 0 | F81: =H81-G81 -> 0 | J81: =F81 -> 0 | L81: =J81-K81 -> 0
A82: 농림수산위원회 | C82: 농림수산위원회 | D82: =SUM(D83:D102) -> 2317246 | E82: =SUM(E83:E102) -> 11106316 | F82: =SUM(F83:F102) -> 8789070 | G82: =SUM(G83:G102) -> 133000 | H82: =SUM(H83:H102) -> 8922070 | J82: =F82 -> 8789070 | K82: =SUM(K83:K102) -> 8230675 | L82: =J82-K82 -> 558395
A83: 농정국 | B83: 398 | C83: 농업마이스터대학 교육(국비/직접) | D83: 48496 | E83: =D83+F83 -> 61914 | F83: =H83-G83 -> 13418 | H83: 13418 | I83: 국비 내시 (국비 8,000, 도비 5,418) | J83: =F83 -> 13418 | K83: 8000 | L83: =J83-K83 -> 5418
A84: 농정국 | B84: 399 | C84: 배수개선사업(국비/직접) | D84: 2025000 | E84: =D84+F84 -> 2425000 | F84: =H84-G84 -> 400000 | H84: 400000 | I84: 국비 내시 (전액국비) | J84: =F84 -> 400000 | K84: 400000 | L84: =J84-K84 -> 0
A85: 농정국 | B85: 신규 | C85: 들녘별 쌀 경영체 육성(국비/지원) | E85: =D85+F85 -> 62000 | F85: =H85-G85 -> 62000 | H85: 62000 | I85: 국비 내시 (국비 50,000, 도비 12,000) | J85: =F85 -> 62000 | K85: 50000 | L85: =J85-K85 -> 12000
A86: 농정국 | B86: 본예산 246 | C86: 시설원예품질개선(기금/지원) - 시설원예품질개선 | E86: =D86+F86 -> 254728 | F86: =H86-G86 -> 254728 | H86: 254728 | I86: 국비 내시 (국비 176,295, 도비 78,433) | J86: =F86 -> 254728 | K86: 176295 | L86: =J86-K86 -> 78433
A87: 농정국 | B87: 신규 | C87: 시설원예품질개선(기금/지원) - 시설원예품질개선(원예전문) | E87: =D87+F87 -> 806000 | F87: =H87-G87 -> 806000 | H87: 806000 | I87: 국비 내시 (국비 556,000, 도비 250,000) | J87: =F87 -> 806000 | K87: 556000 | L87: =J87-K87 -> 250000
A88: 농정국 | B88: 신규 | C88: 농업용난방기 시간계측기(국비/지원) | E88: =D88+F88 -> 449964 | F88: =H88-G88 -> 449964 | H88: 449964 | I88: 국비 내시 (국비 310,320, 도비 139,644) | J88: =F88 -> 449964 | K88: 310320 | L88: =J88-K88 -> 139644
A89: 농정국 | B89: 신규 | C89: 농작물병해충방제(국비/지원) | E89: =D89+F89 -> 42369 | F89: =H89-G89 -> 42369 | H89: 42369 | I89: 국비 내시 (전액국비) | J89: =F89 -> 42369 | K89: 42369 | L89: =J89-K89 -> 0
A90: 농정국 | B90: 신규 | C90: 밭농업 직불제(국비/지원) | E90: =D90+F90 -> 6463841 | F90: =H90-G90 -> 6463841 | H90: 6463841 | I90: 국비 내시 (전액국비) | J90: =F90 -> 6463841 | K90: 6463841 | L90: =J90-K90 -> 0
A91: 농정국 | B91: 신규 | C91: 밭농업 직불제 행정비(국비/지원) | E91: =D91+F91 -> 174500 | F91: =H91-G91 -> 174500 | H91: 174500 | I91: 국비 내시 (전액국비) | J91: =F91 -> 174500 | K91: 174500 | L91: =J91-K91 -> 0
A92: 농정국 | B92: 412 | C92: 해양수산 중장기 발전방안 연구용역(자체/직접) | D92: 100000 | E92: =D92+F92 -> 100000 | F92: =H92-G92 -> 0 | I92: 과목변경(통계목 403-02⇒207-01) 당초 : 공기관등에대한대행사업비 변경 : 연구용역비 | J92: =F92 -> 0 | L92: =J92-K92 -> 0
A93: 농정국 | B93: 400 | C93: 2012년 국제농업박람회 참가(자체/직접) | D93: 100000 | E93: =D93+F93 -> 0 | F93: =H93-G93 -> -100000 | G93: 100000 | I93: 농정예산의 효율적 활용 및 타사업지원 | J93: =F93 -> -100000 | L93: =J93-K93 -> -100000
A94: 농정국 | B94: 413 | C94: 임시숙소 임대료(자체/직접) | D94: 43750 | E94: =D94+F94 -> 10750 | F94: =H94-G94 -> -33000 | G94: 33000 | J94: =F94 -> -33000 | L94: =J94-K94 -> -33000
A95: 농정국 | B95: 본예산 237 | C95: 도정시책 홍보(자체/직접) | E95: =D95+F95 -> 30000 | F95: =H95-G95 -> 30000 | H95: 30000 | J95: =F95 -> 30000 | L95: =J95-K95 -> 30000
A96: 농정국 | B96: 본예산 237 | C96: 농정분야 국외업무여비(자체/직접) | E96: =D96+F96 -> 10000 | F96: =H96-G96 -> 10000 | H96: 10000 | J96: =F96 -> 10000 | L96: =J96-K96 -> 10000
A97: 농정국 | B97: 본예산 265 | C97: 어선원 재해보험 가입(자체/지원) | E97: =D97+F97 -> 53000 | F97: =H97-G97 -> 53000 | H97: 53000 | J97: =F97 -> 53000 | L97: =J97-K97 -> 53000
A98: 농정국 | B98: 신규 | C98: 수산정보지 지원(자체/지원) | E98: =D98+F98 -> 20000 | F98: =H98-G98 -> 20000 | H98: 20000 | J98: =F98 -> 20000 | L98: =J98-K98 -> 20000
A99: 축산산림국 | B99: 신규 | C99: 방역표지판 설치 지원(국비/직접) | E99: =D99+F99 -> 49350 | F99: =H99-G99 -> 49350 | H99: 49350 | I99: 국비 내시 | J99: =F99 -> 49350 | K99: 49350 | L99: =J99-K99 -> 0
A100: 축산산림국 | B100: 신규 | C100: 한우초음파측정지원사업(자체/지원) | E100: =D100+F100 -> 72900 | F100: =H100-G100 -> 72900 | H100: 72900 | J100: =F100 -> 72900 | L100: =J100-K100 -> 72900
...

Sheet 세입_특별
A1: 2012년도 경기도 특별회계 세입 예산 수정안
B2: □ 세입예산(특별회계)
M3: (단위:천원)
A4: 부서명 | B4: 명세서 페이지 | C4: 사업명 | D4: 예산안 | E4: 조정액 | H4: 재 원 현 황 | M4: 비 고
E5: 계 | F5: 감액 | G5: 증액 | H5: 계 | I5: 국비 | J5: 균특 | K5: 기금 | L5: 도비
C6: 계 | D6: =SUM(D7:D36)/2 -> 0 | E6: =SUM(E7:E36)/2 -> 0 | F6: =SUM(F7:F36)/2 -> 0 | G6: =SUM(G7:G36)/2 -> 0 | H6: =SUM(H7:H36) -> 0 | I6: =SUM(I7:I36) -> 0 | J6: =SUM(J7:J36) -> 0 | K6: =SUM(K7:K36) -> 0 | L6: =SUM(L7:L36) -> 0
A7: 의료급여기금 | C7: 의료급여기금 | D7: =SUM(D8:D9) -> 0 | E7: =SUM(E8:E9) -> 0 | F7: =SUM(F8:F9) -> 0 | G7: =SUM(G8:G9) -> 0 | H7: =SUM(H8:H9) -> 0 | I7: =SUM(I8:I9) -> 0 | J7: =SUM(J8:J9) -> 0 | K7: =SUM(K8:K9) -> 0 | L7: =SUM(L8:L9) -> 0
E8: =SUM(G8-F8) -> 0 | G8: =IF(H8>0,H8,0) -> 0 | H8: =SUM(I8:L8) -> 0
D9: 0 | E9: =SUM(G9-F9) -> 0 | F9: =IF(H9>0,0,-H9) -> 0 | G9: =IF(H9>0,H9,0) -> 0 | H9: =SUM(I9:L9) -> 0
A10: 팔당호관리 | C10: 팔당호관리 | D10: =SUM(D11:D12) -> 0 | E10: =SUM(E11:E12) -> 0 | F10: =SUM(F11:F12) -> 0 | G10: =SUM(G11:G12) -> 0 | H10: =SUM(H11:H12) -> 0 | I10: =SUM(I11:I12) -> 0 | J10: =SUM(J11:J12) -> 0 | K10: =SUM(K11:K12) -> 0 | L10: =SUM(L11:L12) -> 0
D11: 0 | E11: =SUM(G11-F11) -> 0 | F11: =IF(H11>0,0,-H11) -> 0 | G11: =IF(H11>0,H11,0) -> 0 | H11: =SUM(I11:L11) -> 0
D12: 0 | E12: =SUM(G12-F12) -> 0 | F12: =IF(H12>0,0,-H12) -> 0 | G12: =IF(H12>0,H12,0) -> 0 | H12: =SUM(I12:L12) -> 0
A13: 유료도로사업 | C13: 유료도로사업 | D13: =SUM(D14:D15) -> 0 | E13: =SUM(E14:E15) -> 0 | F13: =SUM(F14:F15) -> 0 | G13: =SUM(G14:G15) -> 0 | H13: =SUM(H14:H15) -> 0 | I13: =SUM(I14:I15) -> 0 | J13: =SUM(J14:J15) -> 0 | K13: =SUM(K14:K15) -> 0 | L13: =SUM(L14:L15) -> 0
D14: 0 | E14: =SUM(G14-F14) -> 0 | F14: =IF(H14>0,0,-H14) -> 0 | G14: =IF(H14>0,H14,0) -> 0 | H14: =SUM(I14:L14) -> 0
D15: 0 | E15: =SUM(G15-F15) -> 0 | F15: =IF(H15>0,0,-H15) -> 0 | G15: =IF(H15>0,H15,0) -> 0 | H15: =SUM(I15:L15) -> 0
A16: 학교용지부담금 | C16: 학교용지부담금 | D16: =SUM(D17:D18) -> 0 | E16: =SUM(E17:E18) -> 0 | F16: =SUM(F17:F18) -> 0 | G16: =SUM(G17:G18) -> 0 | H16: =SUM(H17:H18) -> 0 | I16: =SUM(I17:I18) -> 0 | J16: =SUM(J17:J18) -> 0 | K16: =SUM(K17:K18) -> 0 | L16: =SUM(L17:L18) -> 0
A17: 평생교육국 | B17: 1238 | C17: 227-02 개발부담금 | E17: =SUM(G17-F17) -> 0
E18: =SUM(G18-F18) -> 0
A19: 광역교통시설 | C19: 광역교통시설 | D19: =SUM(D20:D21) -> 0 | E19: =SUM(E20:E21) -> 0 | F19: =SUM(F20:F21) -> 0 | G19: =SUM(G20:G21) -> 0 | H19: =SUM(H20:H21) -> 0 | I19: =SUM(I20:I21) -> 0 | J19: =SUM(J20:J21) -> 0 | K19: =SUM(K20:K21) -> 0 | L19: =SUM(L20:L21) -> 0
D20: 0 | E20: =SUM(G20-F20) -> 0 | F20: =IF(H20>0,0,-H20) -> 0 | G20: =IF(H20>0,H20,0) -> 0 | H20: =SUM(I20:L20) -> 0
D21: 0 | E21: =SUM(G21-F21) -> 0 | F21: =IF(H21>0,0,-H21) -> 0 | G21: =IF(H21>0,H21,0) -> 0 | H21: =SUM(I21:L21) -> 0
A22: 임진강유역댐정비 | C22: 임진강유역댐정비 | D22: =SUM(D23:D24) -> 0 | E22: =SUM(E23:E24) -> 0 | F22: =SUM(F23:F24) -> 0 | G22: =SUM(G23:G24) -> 0 | H22: =SUM(H23:H24) -> 0 | I22: =SUM(I23:I24) -> 0 | J22: =SUM(J23:J24) -> 0 | K22: =SUM(K23:K24) -> 0 | L22: =SUM(L23:L24) -> 0
D23: 0 | E23: =SUM(G23-F23) -> 0 | F23: =IF(H23>0,0,-H23) -> 0 | G23: =IF(H23>0,H23,0) -> 0 | H23: =SUM(I23:L23) -> 0
D24: 0 | E24: =SUM(G24-F24) -> 0 | F24: =IF(H24>0,0,-H24) -> 0 | G24: =IF(H24>0,H24,0) -> 0 | H24: =SUM(I24:L24) -> 0
A25: 지역개발기금 | C25: 지역개발기금 | D25: =SUM(D26:D27) -> 0 | E25: =SUM(E26:E27) -> 0 | F25: =SUM(F26:F27) -> 0 | G25: =SUM(G26:G27) -> 0 | H25: =SUM(H26:H27) -> 0 | I25: =SUM(I26:I27) -> 0 | J25: =SUM(J26:J27) -> 0 | K25: =SUM(K26:K27) -> 0 | L25: =SUM(L26:L27) -> 0
D26: 0 | E26: =SUM(G26-F26) -> 0 | F26: =IF(H26>0,0,-H26) -> 0 | G26: =IF(H26>0,H26,0) -> 0 | H26: =SUM(I26:L26) -> 0
D27: 0 | E27: =SUM(G27-F27) -> 0 | F27: =IF(H27>0,0,-H27) -> 0 | G27: =IF(H27>0,H27,0) -> 0 | H27: =SUM(I27:L27) -> 0
A28: 판교테크노밸리 | C28: 판교테크노밸리 | D28: =SUM(D29:D30) -> 0 | E28: =SUM(E29:E30) -> 0 | F28: =SUM(F29:F30) -> 0 | G28: =SUM(G29:G30) -> 0 | H28: =SUM(H29:H30) -> 0 | I28: =SUM(I29:I30) -> 0 | J28: =SUM(J29:J30) -> 0 | K28: =SUM(K29:K30) -> 0 | L28: =SUM(L29:L30) -> 0
D29: 0 | E29: =SUM(G29-F29) -> 0 | F29: =IF(H29>0,0,-H29) -> 0 | G29: =IF(H29>0,H29,0) -> 0 | H29: =SUM(I29:L29) -> 0
D30: 0 | E30: =SUM(G30-F30) -> 0 | F30: =IF(H30>0,0,-H30) -> 0 | G30: =IF(H30>0,H30,0) -> 0 | H30: =SUM(I30:L30) -> 0
A31: 고양관광문화단지 | C31: 고양관광문화단지 | D31: =SUM(D32:D33) -> 0 | E31: =SUM(E32:E33) -> 0 | F31: =SUM(F32:F33) -> 0 | G31: =SUM(G32:G33) -> 0 | H31: =SUM(H32:H33) -> 0 | I31: =SUM(I32:I33) -> 0 | J31: =SUM(J32:J33) -> 0 | K31: =SUM(K32:K33) -> 0 | L31: =SUM(L32:L33) -> 0
H32: =SUM(I32:L32) -> 0
D33: 0 | E33: =SUM(G33-F33) -> 0 | F33: =IF(H33>0,0,-H33) -> 0 | G33: =IF(H33>0,H33,0) -> 0 | H33: =SUM(I33:L33) -> 0
A34: 고덕국제화지구 | C34: 고덕국제화지구 | D34: =SUM(D35:D36) -> 0 | E34: =SUM(E35:E36) -> 0 | F34: =SUM(F35:F36) -> 0 | G34: =SUM(G35:G36) -> 0 | H34: =SUM(H35:H36) -> 0 | I34: =SUM(I35:I36) -> 0 | J34: =SUM(J35:J36) -> 0 | K34: =SUM(K35:K36) -> 0 | L34: =SUM(L35:L36) -> 0
D35: 0 | E35: =SUM(G35-F35) -> 0 | F35: =IF(H35>0,0,-H35) -> 0 | G35: =IF(H35>0,H35,0) -> 0 | H35: =SUM(I35:L35) -> 0
D36: 0 | E36: =SUM(G36-F36) -> 0 | F36: =IF(H36>0,0,-H36) -> 0 | G36: =IF(H36>0,H36,0) -> 0 | H36: =SUM(I36:L36) -> 0

Sheet 세출_특별
A1: 2012년도 경기도 특별회계 세출 예산 수정안
B2: □ 세출예산(특별회계)
M3: (단위:천원)
A4: 부서명 | B4: 명세서 페이지 | C4: 사업명 | D4: 예산안 | E4: 조정액 | H4: 재 원 현 황 | M4: 비 고
E5: 계 | F5: 감액 | G5: 증액 | H5: 계 | I5: 국비 | J5: 균특 | K5: 기금 | L5: 도비
A6: 계 | C6: 계 | D6: =SUM(D7:D36)/2 -> 0 | E6: =SUM(E7:E36)/2 -> 0 | F6: =SUM(F7:F36)/2 -> 0 | G6: =SUM(G7:G36)/2 -> 0 | H6: =SUM(H7:H36)/2 -> 0 | I6: =SUM(I7:I36)/2 -> 0 | J6: =SUM(J7:J36)/2 -> 0 | K6: =SUM(K7:K36)/2 -> 0 | L6: =SUM(L7:L36)/2 -> 0
A7: 의료급여기금 | C7: 의료급여기금 | D7: =SUM(D8:D9) -> 0 | E7: =SUM(E8:E9) -> 0 | F7: =SUM(F8:F9) -> 0 | G7: =SUM(G8:G9) -> 0 | H7: =SUM(H8:H9) -> 0 | I7: =SUM(I8:I9) -> 0 | J7: =SUM(J8:J9) -> 0 | K7: =SUM(K8:K9) -> 0 | L7: =SUM(L8:L9) -> 0
E8: =SUM(G8-F8) -> 0 | G8: =IF(H8>0,H8,0) -> 0 | H8: =SUM(I8:L8) -> 0
E9: =SUM(G9-F9) -> 0 | F9: =IF(H9>0,0,-H9) -> 0 | G9: =IF(H9>0,H9,0) -> 0 | H9: =SUM(I9:L9) -> 0
A10: 팔당호관리 | C10: 팔당호관리 | D10: =SUM(D11:D12) -> 0 | E10: =SUM(E11:E12) -> 0 | F10: =SUM(F11:F12) -> 0 | G10: =SUM(G11:G12) -> 0 | H10: =SUM(H11:H12) -> 0 | I10: =SUM(I11:I12) -> 0 | J10: =SUM(J11:J12) -> 0 | K10: =SUM(K11:K12) -> 0 | L10: =SUM(L11:L12) -> 0
E11: =SUM(G11-F11) -> 0 | F11: =IF(H11>0,0,-H11) -> 0 | G11: =IF(H11>0,H11,0) -> 0 | H11: =SUM(I11:L11) -> 0
E12: =SUM(G12-F12) -> 0 | F12: =IF(H12>0,0,-H12) -> 0 | G12: =IF(H12>0,H12,0) -> 0 | H12: =SUM(I12:L12) -> 0
A13: 유료도로사업 | C13: 유료도로사업 | D13: =SUM(D14:D15) -> 0 | E13: =SUM(E14:E15) -> 0 | F13: =SUM(F14:F15) -> 0 | G13: =SUM(G14:G15) -> 0 | H13: =SUM(H14:H15) -> 0 | I13: =SUM(I14:I15) -> 0 | J13: =SUM(J14:J15) -> 0 | K13: =SUM(K14:K15) -> 0 | L13: =SUM(L14:L15) -> 0
E14: =SUM(G14-F14) -> 0 | F14: =IF(H14>0,0,-H14) -> 0 | G14: =IF(H14>0,H14,0) -> 0 | H14: =SUM(I14:L14) -> 0
E15: =SUM(G15-F15) -> 0 | F15: =IF(H15>0,0,-H15) -> 0 | G15: =IF(H15>0,H15,0) -> 0 | H15: =SUM(I15:L15) -> 0
A16: 학교용지부담금 | C16: 학교용지부담금 | D16: =SUM(D17:D18) -> 0 | E16: =SUM(E17:E18) -> 0 | F16: =SUM(F17:F18) -> 0 | G16: =SUM(G17:G18) -> 0 | H16: =SUM(H17:H18) -> 0 | I16: =SUM(I17:I18) -> 0 | J16: =SUM(J17:J18) -> 0 | K16: =SUM(K17:K18) -> 0 | L16: =SUM(L17:L18) -> 0
A17: 평생교육국 | B17: 1239 | C17: 703-01 학교용지매입비 부담금 | E17: =SUM(G17-F17) -> 0 | H17: =SUM(I17:L17) -> 0
E18: =SUM(G18-F18) -> 0 | H18: =SUM(I18:L18) -> 0
A19: 광역교통시설 | C19: 광역교통시설 | D19: =SUM(D20:D21) -> 0 | E19: =SUM(E20:E21) -> 0 | F19: =SUM(F20:F21) -> 0 | G19: =SUM(G20:G21) -> 0 | H19: =SUM(H20:H21) -> 0 | I19: =SUM(I20:I21) -> 0 | J19: =SUM(J20:J21) -> 0 | K19: =SUM(K20:K21) -> 0 | L19: =SUM(L20:L21) -> 0
E20: =SUM(G20-F20) -> 0 | G20: =IF(H20>0,H20,0) -> 0 | H20: =SUM(I20:L20) -> 0
E21: =SUM(G21-F21) -> 0 | F21: =IF(H21>0,0,-H21) -> 0 | G21: =IF(H21>0,H21,0) -> 0 | H21: =SUM(I21:L21) -> 0
A22: 임진강유역댐정비 | C22: 임진강유역댐정비 | D22: =SUM(D23:D24) -> 0 | E22: =SUM(E23:E24) -> 0 | F22: =SUM(F23:F24) -> 0 | G22: =SUM(G23:G24) -> 0 | H22: =SUM(H23:H24) -> 0 | I22: =SUM(I23:I24) -> 0 | J22: =SUM(J23:J24) -> 0 | K22: =SUM(K23:K24) -> 0 | L22: =SUM(L23:L24) -> 0
E23: =SUM(G23-F23) -> 0 | F23: =IF(H23>0,0,-H23) -> 0 | G23: =IF(H23>0,H23,0) -> 0 | H23: =SUM(I23:L23) -> 0
E24: =SUM(G24-F24) -> 0 | F24: =IF(H24>0,0,-H24) -> 0 | G24: =IF(H24>0,H24,0) -> 0 | H24: =SUM(I24:L24) -> 0
A25: 지역개발기금 | C25: 지역개발기금 | D25: =SUM(D26:D27) -> 0 | E25: =SUM(E26:E27) -> 0 | F25: =SUM(F26:F27) -> 0 | G25: =SUM(G26:G27) -> 0 | H25: =SUM(H26:H27) -> 0 | I25: =SUM(I26:I27) -> 0 | J25: =SUM(J26:J27) -> 0 | K25: =SUM(K26:K27) -> 0 | L25: =SUM(L26:L27) -> 0
A28: 판교테크노밸리 | C28: 판교테크노밸리 | D28: =SUM(D29:D30) -> 0 | E28: =SUM(E29:E30) -> 0 | F28: =SUM(F29:F30) -> 0 | G28: =SUM(G29:G30) -> 0 | H28: =SUM(H29:H30) -> 0 | I28: =SUM(I29:I30) -> 0 | J28: =SUM(J29:J30) -> 0 | K28: =SUM(K29:K30) -> 0 | L28: =SUM(L29:L30) -> 0
E29: =SUM(G29-F29) -> 0 | F29: =IF(H29>0,0,-H29) -> 0 | G29: =IF(H29>0,H29,0) -> 0 | H29: =SUM(I29:L29) -> 0
E30: =SUM(G30-F30) -> 0 | F30: =IF(H30>0,0,-H30) -> 0 | G30: =IF(H30>0,H30,0) -> 0 | H30: =SUM(I30:L30) -> 0
A31: 고양관광문화단지 | C31: 고양관광문화단지 | D31: =SUM(D32:D33) -> 0 | E31: =SUM(E32:E33) -> 0 | F31: =SUM(F32:F33) -> 0 | G31: =SUM(G32:G33) -> 0 | H31: =SUM(H32:H33) -> 0 | I31: =SUM(I32:I33) -> 0 | J31: =SUM(J32:J33) -> 0 | K31: =SUM(K32:K33) -> 0 | L31: =SUM(L32:L33) -> 0
A34: 고덕국제화지구 | C34: 고덕국제화지구 | D34: =SUM(D35:D36) -> 0 | E34: =SUM(E35:E36) -> 0 | F34: =SUM(F35:F36) -> 0 | G34: =SUM(G35:G36) -> 0 | H34: =SUM(H35:H36) -> 0 | I34: =SUM(I35:I36) -> 0 | J34: =SUM(J35:J36) -> 0 | K34: =SUM(K35:K36) -> 0 | L34: =SUM(L35:L36) -> 0
E35: =SUM(G35-F35) -> 0 | F35: =IF(H35>0,0,-H35) -> 0 | G35: =IF(H35>0,H35,0) -> 0 | H35: =SUM(I35:L35) -> 0
E36: =SUM(G36-F36) -> 0 | F36: =IF(H36>0,0,-H36) -> 0 | G36: =IF(H36>0,H36,0) -> 0 | H36: =SUM(I36:L36) -> 0

Sheet 총괄표_기금
B1: 2012년도 경기도 기금운용계획 세입·세출 예산 수정안
B3: □ 총 괄
H4: (단위:천원)
B5: 구 분 | C5: 집행부 제출(안) | D5: 세입예산(안) | F5: 세출예산(안) | H5: 예산수정(안)
D6: 감 액 | E6: 증 액 | F6: 감 액 | G6: 증 액
B7: 합 계 | C7: =SUM(C8:C17) -> 0 | D7: =SUM(D8:D17) -> 0 | E7: =SUM(E8:E17) -> 0 | F7: =SUM(F8:F17) -> 0 | G7: =SUM(G8:G17) -> 0 | H7: =SUM(H8:H17) -> 0
B8: 운영위
B9: 기획위
B10: 경제위
B11: 행정위
B12: 문광위
B13: 농림위
B14: 복지위
B15: 건설위
B16: 도시위
B17: 여가평
B19: □ 회계별 예산총규모
H20: (단위:천원)
B21: 구 분 | C21: 집행부 제출(안) | D21: 세입예산(안) | F21: 세출예산(안) | H21: 예산수정(안)
D22: 감 액 | E22: 증 액 | F22: 감 액 | G22: 증 액
B23: 합 계 | C23: =SUM(C24:C25) -> 0 | D23: =SUM(D24:D25) -> 0 | E23: =SUM(E24:E25) -> 0 | F23: =SUM(F24:F25) -> 0 | G23: =SUM(G24:G25) -> 0 | H23: =SUM(H24:H25) -> 0
B24: 여성발전기금

Sheet 세입_기금
A1: 2012년도 경기도 기금운용계획 수정안
A2: □ 세입예산(기금)
G3: (단위:천원)
A4: 명세서 페이지 | B4: 사 업 명 | C4: 예산안 | D4: 조정액 | G4: 비 고
D5: 계 | E5: 감액 | F5: 증액
B6: 계 | C6: =SUM(C7:C13)/2 -> 0 | D6: =SUM(F6-E6) -> 0 | E6: =SUM(E7:E13)/2 -> 0 | F6: =SUM(F7:F13)/2 -> 0
B7: 여성발전기금 | C7: =SUM(C8:C9) -> 0 | D7: =F7-E7 -> 0 | E7: =SUM(E8:E9) -> 0 | F7: =SUM(F8:F9) -> 0
A8: 199 | B8: 여성발전기금 출연금 | D8: =F8-E8 -> 0
C9: 0 | D9: =F9-E9 -> 0 | F9: 0
C10: =SUM(C11:C13) -> 0 | D10: =F10-E10 -> 0 | E10: =SUM(E11:E13) -> 0 | F10: =SUM(F11:F13) -> 0
C11: 0 | D11: =F11-E11 -> 0 | E11: 0
C12: 0 | D12: =F12-E12 -> 0 | F12: 0
C13: 0 | D13: =F13-E13 -> 0 | F13: 0

Sheet 세출_기금
A1: 2012년도 경기도 기금운용계획 수정안
A2: □ 세출예산(기금)
G3: (단위:천원)
A4: 명세서 페이지 | B4: 부기명 | C4: 예산안 | D4: 조정액 | G4: 비 고
D5: 계 | E5: 감액 | F5: 증액
C6: =SUM(C7:C16)/2 -> 0 | D6: =SUM(F6-E6) -> 0 | E6: =SUM(E7:E16)/2 -> 0 | F6: =SUM(F7:F16)/2 -> 0
B7: 여성발전기금 | C7: =SUM(C8:C12) -> 0 | D7: =F7-E7 -> 0 | E7: =SUM(E8:E12) -> 0 | F7: =SUM(F8:F12) -> 0
A8: 199 | B8: 여성발전기금 예탁금 | C8: 0 | D8: =F8-E8 -> 0
D9: =F9-E9 -> 0
D10: =F10-E10 -> 0
C11: 0 | D11: =F11-E11 -> 0 | F11: 0
C12: 0 | D12: =F12-E12 -> 0 | F12: 0
C13: =SUM(C14:C16) -> 0 | D13: =F13-E13 -> 0 | E13: =SUM(E14:E16) -> 0 | F13: =SUM(F14:F16) -> 0
D14: =F14-E14 -> 0
D15: =F15-E15 -> 0
D16: =F16-E16 -> 0 | F16: 0

Sheet Sheet1
