Workbook

Sheet 추가
A1: 2014년도 경기도 일반회계 세출 예산 예결위 수정(안)
A2: □세출예산
H3: =SUM(G6:H6) -> 0 | K3: =SUM(J6:K6) -> 4243336 | M3: (단위 : 천원)
A4: 위원회 | C4: 예산안 페이지 | D4: 부서명 | E4: 사업명 | F4: 예산안 (가) | G4: 상임위 예산안 조정액(라) | I4: 상임위 수정 예산안 (마=가+라) | J4: 예결위 예산안 조정액(마) | L4: 예결위 수정 예산안 (바=가+마) | M4: 비 고
G5: 감액 | H5: 증액 | J5: 감액 | K5: 증액
B6: 합 계 | F6: =SUM(F7:F1004) -> 3612129 | G6: =SUM(G7:G1004) -> 0 | H6: =SUM(H7:H1004) -> 0 | I6: =SUM(I7:I1004) -> 3612129 | J6: =SUM(J7:J1004) -> 0 | K6: =SUM(K7:K1004) -> 4243336 | L6: =SUM(L7:L1004) -> 7855465
C7: 78 | D7: 노인복지과 | E7: 시니어클럽운영 노인일자리 활성화 | F7: 252000 | I7: =F7+G7+H7 -> 252000 | K7: 63000 | L7: =F7+J7+K7 -> 315000
C8: 추가 | D8: 대중교통과 | E8: 시외버스터미널 기능보강 | I8: =F8+G8+H8 -> 0 | K8: 50000 | L8: =F8+J8+K8 -> 50000
C9: 50 | D9: 군관협력 | E9: 한미협력사업 | F9: 222500 | I9: =F9+G9+H9 -> 222500 | K9: 150000 | L9: =F9+J9+K9 -> 372500
C10: 설명서 65 | D10: 해양항만정책과 | E10: 평택항 홍보관운영 | F10: 500000 | I10: =F10+G10+H10 -> 500000 | K10: 100000 | L10: =F10+J10+K10 -> 600000
C11: 설명서 66 | D11: 해양항만경제과 | E11: 화물유치 인센티브 | F11: 474224 | I11: =F11+G11+H11 -> 474224 | K11: 200000 | L11: =F11+J11+K11 -> 674224
C12: 22 | D12: 교육정책과 | E12: 경기행복학습만들기 | F12: 130000 | I12: =F12+G12+H12 -> 130000 | K12: 100000 | L12: =F12+J12+K12 -> 230000
C13: 762 | D13: 건강증진과 | E13: 여성결혼이민자 건강검진사업 | F13: 150000 | I13: =F13+G13+H13 -> 150000 | K13: 100000 | L13: =F13+J13+K13 -> 250000
C14: 77 | D14: 균형발전국 | E14: 노동단체지원(북부) | F14: 210000 | I14: =F14+G14+H14 -> 210000 | K14: 40000 | L14: =F14+J14+K14 -> 250000
C15: 1220 | D15: 평생교육국 | E15: 작은도서관운영지원 | F15: 298000 | I15: =F15+G15+H15 -> 298000 | K15: 100000 | L15: =F15+J15+K15 -> 398000
C16: 설명서 73 | D16: 의정담당관 | E16: 속기사 근무복 구입 | F16: 4800 | I16: =F16+G16+H16 -> 4800 | K16: 1200 | L16: =F16+J16+K16 -> 6000
C17: 466 | D17: 문화유산과 | E17: 도지정문화재보수정비 | F17: 477105 | I17: =F17+G17+H17 -> 477105 | K17: 200000 | L17: =F17+J17+K17 -> 677105
C18: 259 | D18: 보건정책과 | E18: 헌혈활동 장려지원 | F18: 20000 | I18: =F18+G18+H18 -> 20000 | K18: 10000 | L18: =F18+J18+K18 -> 30000
C19: 1120 | D19: 특수보육과 | E19: 정부지원 어린이집 교재교구비 지원 | I19: =F19+G19+H19 -> 0 | K19: 150000 | L19: =F19+J19+K19 -> 150000
C20: 추가 | D20: 화성소방서 | E20: 소방청사 보강 및 직원복지 시설확충 | I20: =F20+G20+H20 -> 0 | K20: 153000 | L20: =F20+J20+K20 -> 153000
E21: 78번도로 | I21: =F21+G21+H21 -> 0 | K21: 500000 | L21: =F21+J21+K21 -> 500000
D22: 평생교육국 | E22: 사이버도서관 운영 | I22: =F22+G22+H22 -> 0 | K22: 90000 | L22: =F22+J22+K22 -> 90000
C23: 27 | D23: 교육정책과 | E23: 경기도청 평생학습 Gold Triangle 프로젝트 | F23: 500000 | I23: =F23+G23+H23 -> 500000 | K23: 100000 | L23: =F23+J23+K23 -> 600000
C24: 1217 | D24: 도서관과 | E24: 공공도서관건립지원 광특(금암도서관건립) | I24: =F24+G24+H24 -> 0 | K24: 500000 | L24: =F24+J24+K24 -> 500000
D25: 아동청소년과 | E25: 아동복지시설운영- 꿈나무아동종합상담소운영 | I25: =F25+G25+H25 -> 0 | K25: 70000 | L25: =F25+J25+K25 -> 70000
D26: 도시재생과 | E26: 재정비사업 추정분담금 프로그램 홍보 | I26: =F26+G26+H26 -> 0 | K26: 40000 | L26: =F26+J26+K26 -> 40000
D27: 체육과 | E27: 도생활체육지도자 배치 | I27: =F27+G27+H27 -> 0 | K27: 11136 | L27: =F27+J27+K27 -> 11136
D28: 평생교육진흥원 | E28: 출연금 | I28: =F28+G28+H28 -> 0 | K28: 150000 | L28: =F28+J28+K28 -> 150000
D29: 평생교육진흥원 | E29: 출연금 | I29: =F29+G29+H29 -> 0 | K29: 100000 | L29: =F29+J29+K29 -> 100000
D30: 문화산업과 | E30: 경기콘텐츠진흥원 영상위원회 DMZ 영화제 | I30: =F30+G30+H30 -> 0 | K30: 200000 | L30: =F30+J30+K30 -> 200000
D31: 체육과 | E31: 2014 전국체전 강화훈련 장비(기자재)지원 | I31: =F31+G31+H31 -> 0 | K31: 150000 | L31: =F31+J31+K31 -> 150000
C32: 1128 | D32: 여성가족과 | E32: 학교밖 청소년 지원 | F32: 77500 | I32: =F32+G32+H32 -> 77500 | K32: 50000 | L32: =F32+J32+K32 -> 127500
D33: 장애인복지과 | E33: 장애아단체 육성지원 | I33: =F33+G33+H33 -> 0 | K33: 20000 | L33: =F33+J33+K33 -> 20000
D34: 다문화과 | E34: 다문화센터지원 | I34: =F34+G34+H34 -> 0 | K34: 100000 | L34: =F34+J34+K34 -> 100000
D35: 보육정책과 | E35: 민간보육시설 환경개선 | I35: =F35+G35+H35 -> 0 | K35: 150000 | L35: =F35+J35+K35 -> 150000
C36: 630 | D36: 농업기술원 | E36: 자동화 식물생산시스템시험재료 | I36: =F36+G36+H36 -> 0 | K36: 50000 | L36: =F36+J36+K36 -> 50000
D37: 여성능력개발센터 | E37: 여성IT 전문직업훈련 | I37: =F37+G37+H37 -> 0 | K37: 60000 | L37: =F37+J37+K37 -> 60000
D38: 기업지원과 | E38: 제19회 경기도에너지 웅변대회 | I38: =F38+G38+H38 -> 0 | K38: 5000 | L38: =F38+J38+K38 -> 5000
C39: 768 | D39: 건강증진과 | E39: 장애인구강진료센터운영(국비/직접) | F39: 120000 | I39: =F39+G39+H39 -> 120000 | K39: 120000 | L39: =F39+J39+K39 -> 240000
C40: 760 | D40: 건강증진과 | E40: 취약계층 중장년 건강지원사업(자체/직첩) | F40: 16000 | I40: =F40+G40+H40 -> 16000 | K40: 100000 | L40: =F40+J40+K40 -> 116000
...

Sheet 감액
A1: 2014년도 경기도 일반회계 세출 예산 예결위 수정(안)
A2: □세출예산
H3: =SUM(G6:H6) -> 0 | K3: =SUM(J6:K6) -> -4717000 | M3: (단위 : 천원)
A4: 위원회 | C4: 예산안 페이지 | D4: 부서명 | E4: 사업명 | F4: 예산안 (가) | G4: 상임위 예산안 조정액(라) | I4: 상임위 수정 예산안 (마=가+라) | J4: 예결위 예산안 조정액(마) | L4: 예결위 수정 예산안 (바=가+마) | M4: 비 고
G5: 감액 | H5: 증액 | J5: 감액 | K5: 증액
B6: 합 계 | F6: =SUM(F7:F973) -> 10142832 | G6: =SUM(G7:G973) -> 0 | H6: =SUM(H7:H973) -> 0 | I6: =SUM(I7:I973) -> 417000 | J6: =SUM(J7:J973) -> -4717000 | K6: =SUM(K7:K973) -> 0 | L6: =SUM(L7:L973) -> 5425832
C7: 87 | D7: 평가담당관 | E7: 간부공무원 역량평가 | F7: 287000 | I7: =F7+G7+H7 -> 287000 | J7: -287000 | L7: =F7+J7+K7 -> 0
C8: 783 | D8: 대변인 | E8: 경기도대학생기자단운영(자체/지원) | F8: 130000 | I8: =F8+G8+H8 -> 130000 | J8: -130000 | L8: =F8+J8+K8 -> 0
C9: 429 | D9: 역량개발지원과 | E9: 수입대체경비활용사업(자체/직접) | F9: 3925832 | J9: -700000 | L9: =F9+J9+K9 -> 3225832
D10: 대변인 | E10: 도정여론조사 | F10: 200000 | J10: -100000 | L10: =F10+J10+K10 -> 100000
D11: 도로건설과 | E11: 구양수대교재가설공사 | F11: 5600000 | J11: -3500000 | L11: =F11+J11+K11 -> 2100000
K12: .

Sheet 표지
B5: 2014년도 일반회계 및 특별회계 세입·세출 예산안
B7: 예결위 계수조정 결과
B33: 예산결산특별위원회

Sheet 총괄표 
B1: 2014년도 경기도 일반 및 특별회계 세입·세출 예산 수정안[전체 예산 총괄]
B3: □ 총 괄
D4: 세입 증감액 | F4: 세출 증감액 | H4: (단위:천원) | M4: (일반+특별+기금) | O4: 특별+기금
B5: 구 분 | C5: 집행부제출(안) | D5: 세입예산(안) | F5: 세출예산(안) | H5: 예산수정(안) | I5: 일반회계 증감(총괄표) | K5: 예비비증감 | L5: 비 고 | M5: 전체 증감(시트) | O5: 비고
D6: 감 액 | E6: 증 액 | F6: 감 액 | G6: 증 액 | I6: 세입 | J6: 세출 | M6: 세입 | N6: 세출
B7: 합 계 | C7: =SUM(C8:C18) -> 15998797261 | D7: =SUM(D8:D18) -> -11496131 | E7: =SUM(E8:E18) -> 3293928 | F7: =SUM(F8:F18) -> -156386988 | G7: =SUM(G8:G18) -> 148184785 | H7: =SUM(H8:H18) -> 15990595058 | I7: =D25+E25 -> 1797797 | J7: =F25+G25 -> 1797797 | K7: =I7-J7 -> 0 | L7: 예비비 증감이 - 예산이면 감액에 + 예산이면 증액에 입력
B8: 기 타 | C8: 0 | H8: =C8-F8+G8 -> 0 | I8: =D7+E7 -> -8202203 | J8: =F7+G7 -> -8202203 | K8: =I8-J8 -> 0
B9: 운 영 위 | C9: 28464169 | D9: =SUMIF(일입!$A$7:$A$49,"의회운영위원회",일입!$J$6:$J$49) -> 0 | E9: =SUMIF(일입!$A$7:$A$49,"의회운영위원회",일입!$K$6:$K$49) -> 0 | F9: =SUMIF(일출!$A$7:$A$93,"의회운영위원회",일출!$J$7:$J$597) -> -92000 | G9: =SUMIF(일출!$A$7:$A$93,"의회운영위원회",일출!$K$7:$K$597) -> 1298060 | H9: =C9+F9+G9 -> 29670229 | I9: 일반회계 증감(시트) | N9: 전체 증감
B10: 기 획 위 | C10: 4357973500 | D10: =SUMIF(일입!$A$7:$A$49,"기획재정위원회",일입!$J$7:$J$49) -> -255093 | E10: =SUMIF(일입!$A$7:$A$49,"기획재정위원회",일입!$K$7:$K$49) -> 0 | F10: =SUMIF(일출!$A$7:$A$93,"기획재정위원회",일출!$J$7:$J$597) -> -110315093 | G10: =SUMIF(일출!$A$7:$A$93,"기획재정위원회",일출!$K$7:$K$597) -> 51665157 | H10: =C10+F10+G10 -> 4299323564 | I10: =일입!J6+일입!K6 -> 1797797 | J10: =일출!J6+일출!K6 -> 1797797 | N10: =M7-N7 -> 0
B11: 경 제 위 | C11: 533838788 | D11: =SUMIF(일입!$A$7:$A$49,"경제과학기술위원회",일입!$J$7:$J$49) -> 0 | E11: =SUMIF(일입!$A$7:$A$49,"경제과학기술위원회",일입!$K$7:$K$49) -> 0 | F11: =SUMIF(일출!$A$7:$A$93,"경제과학기술위원회",일출!$J$7:$J$597) -> -2331000 | G11: =SUMIF(일출!$A$7:$A$93,"경제과학기술위원회",일출!$K$7:$K$597) -> 12386446 | H11: =C11+F11+G11 -> 543894234
B12: 행 정 위 | C12: 1081293870 | D12: =SUMIF(일입!$A$7:$A$49,"행정자치위원회",일입!$J$7:$J$49) -> -35000 | E12: =SUMIF(일입!$A$7:$A$49,"행정자치위원회",일입!$K$7:$K$49) -> 884256 | F12: =SUMIF(일출!$A$7:$A$597,"행정자치위원회",일출!J7:J597) -> -121900 | G12: =SUMIF(일출!$A$7:$A$597,"행정자치위원회",일출!K7:K597) -> 10641222 | H12: =C12+F12+G12 -> 1091813192
B13: 문 광 위 | C13: 242843715 | D13: =SUMIF(일입!$A$7:$A$49,"문화체육관광위원회",일입!$J$7:$J$49) -> 0 | E13: =SUMIF(일입!$A$7:$A$49,"문화체육관광위원회",일입!$K$7:$K$49) -> 473388 | F13: =SUMIF(일출!$A$7:$A$597,"문화체육관광위원회",일출!J8:J598) -> -1111000 | G13: =SUMIF(일출!$A$7:$A$597,"문화체육관광위원회",일출!K8:K598) -> 5734136 | H13: =C13+F13+G13 -> 247466851 | N13: 기금
B14: 농 림 위 | C14: 401166483 | D14: =SUMIF(일입!$A$7:$A$49,"농림수산위원회",일입!$J$7:$J$49) -> -594638 | E14: =SUMIF(일입!$A$7:$A$49,"농림수산위원회",일입!$K$7:$K$49) -> 1172304 | F14: =SUMIF(일출!$A$7:$A$597,"농림수산위원회",일출!$J$7:$J$597) -> -3045424 | G14: =SUMIF(일출!$A$7:$A$597,"농림수산위원회",일출!$K$7:$K$597) -> 18770600 | H14: =C14+F14+G14 -> 416891659 | N14: =N10-J24 -> 0
B15: 복 지 위 | C15: 3203996030 | D15: =SUMIF(일입!$A$7:$A$49,"보건복지공보위원회",일입!$J$7:$J$49)+기특입출!J6 -> -10611400 | E15: =SUMIF(일입!$A$7:$A$49,"보건복지공보위원회",일입!$K$7:$K$49)+기특입출!K6 -> 32980 | F15: =SUMIF(일출!$A$7:$A$597,"보건복지공보위원회",일출!$J$7:$J$597)+기특입출!J15 -> -24120900 | G15: =SUMIF(일출!$A$7:$A$597,"보건복지공보위원회",일출!$K$7:$K$597)+기특입출!K15 -> 4907253 | H15: =C15+F15+G15 -> 3184782383
B16: 건 설 위 | C16: 1047622259 | D16: =SUMIF(일입!$A$7:$A$49,"건설교통위원회",일입!$J$7:$J$49) -> 0 | E16: =SUMIF(일입!$A$7:$A$49,"건설교통위원회",일입!$K$7:$K$49) -> 0 | F16: =SUMIF(일출!$A$7:$A$597,"건설교통위원회",일출!$J$7:$J$597) -> -13957551 | G16: =SUMIF(일출!$A$7:$A$597,"건설교통위원회",일출!$K$7:$K$597) -> 16618000 | H16: =C16+F16+G16 -> 1050282708
B17: 도 시 위 | C17: 782773870 | D17: =SUMIF(일입!$A$7:$A$49,"도시환경위원회",일입!$J$7:$J$49) -> 0 | E17: =SUMIF(일입!$A$7:$A$49,"도시환경위원회",일입!$K$7:$K$49) -> 0 | F17: =SUMIF(일출!$A$7:$A$597,"도시환경위원회",일출!J7:J597) -> -554620 | G17: =SUMIF(일출!$A$7:$A$597,"도시환경위원회",일출!K7:K597) -> 8726390 | H17: =C17+F17+G17 -> 790945640
B18: 여가평위 | C18: 4318824577 | D18: =SUMIF(일입!$A$7:$A$49,"여성가족평생교육위원회",일입!$J$7:$J$49) -> 0 | E18: =SUMIF(일입!$A$7:$A$49,"여성가족평생교육위원회",일입!$K$7:$K$49) -> 731000 | F18: =SUMIF(일출!$A$7:$A$597,"여성가족평생교육위원회",일출!$J$7:$J$597) -> -737500 | G18: =SUMIF(일출!$A$7:$A$597,"여성가족평생교육위원회",일출!$K$7:$K$597) -> 17437521 | H18: =C18+F18+G18 -> 4335524598
B20: □ 회계별 예산총규모
H21: (단위:천원)
B22: 구 분 | C22: 세출예산액 (집행부제출 안) | D22: 세입예산(안) | F22: 세출예산(안) | H22: 예산수정(안)
D23: 감 액 | E23: 증 액 | F23: 감 액 | G23: 증 액 | I23: 세입기준 수정예산안
B24: 합 계 | C24: =SUM(C25:C26) -> 15998797261 | D24: =SUM(D25:D26) -> -11496131 | E24: =SUM(E25:E26) -> 3293928 | F24: =SUM(F25:F26) -> -156386988 | G24: =SUM(G25:G26) -> 148184785 | H24: =SUM(H25:H26) -> 15990595058 | I24: =C24+D24+E24 -> 15990595058 | J24: =I24-H24 -> 0 | K24: (세출기준-세입기준)
B25: 일반회계 | C25: 12927432660 | D25: =일입!J6 -> -1496131 | E25: =일입!K6 -> 3293928 | F25: =일출!J6 -> -146386988 | G25: =일출!K6 -> 148184785 | H25: =C25+F25+G25 -> 12929230457 | I25: =C25+D25+E25 -> 12929230457 | J25: =I25-H25 -> 0 | K25: (세출기준-세입기준)
B26: 특별회계 | C26: 3071364601 | D26: =기특입출!J6 -> -10000000 | E26: =기특입출!K6 -> 0 | F26: =기특입출!J15 -> -10000000 | G26: =기특입출!K15 -> 0 | H26: =C26+F26+G26 -> 3061364601 | I26: =C26+D26+E26 -> 3061364601 | J26: =I26-H26 -> 0 | K26: (세출기준-세입기준)
B31: 위원회명 | C31: 일반+기특 | D31: 공기업 | E31: 합계
B32: 의회운영위원회 | C32: 28464169 | E32: =SUM(C32:D32) -> 28464169
B33: 기획재정위원회 | C33: 2963824127 | D33: 1394149373 | E33: =SUM(C33:D33) -> 4357973500
B34: 경제과학기술위원회 | C34: 134669886 | D34: 399168902 | E34: =SUM(C34:D34) -> 533838788
B35: 행정자치위원회 | C35: 1081293870 | E35: =SUM(C35:D35) -> 1081293870
B36: 문화체육관광위원회 | C36: 190359315 | D36: 52484400 | E36: =SUM(C36:D36) -> 242843715
B37: 농림수산위원회 | C37: 401166483 | E37: =SUM(C37:D37) -> 401166483
B38: 보건복지공보위원회 | C38: 3203996030 | E38: =SUM(C38:D38) -> 3203996030
B39: 건설교통위원회 | C39: 1047622259 | E39: =SUM(C39:D39) -> 1047622259
B40: 도시환경위원회 | C40: 754413870 | D40: 28360000 | E40: =SUM(C40:D40) -> 782773870
B41: 여성가족평생교육위원회 | C41: 4318824577 | E41: =SUM(C41:D41) -> 4318824577
B42: 총합계 | C42: =SUM(C32:C41) -> 14124634586 | D42: =SUM(D32:D41) -> 1874162675 | E42: =SUM(C42:D42) -> 15998797261
I181: ◦ 본청 83,000 증 ◦ 북부청 377,000 증
K311: -50000

Sheet 표
B1: 2014년도 경기도 일반 및 특별회계 세입·세출 예산안 계수조정 결과
H3: □ 일반회계
T4: (단위:천원, %)
B5: 구 분 | C5: 세입예산(안) | H5: 세출예산(안)
C6: 예산안 (A) | D6: 상임위 계수조정 | G6: 상임위조정 예산안 (A+B) | H6: 집행부제출안 (E) | I6: 상임위 계수조정 | L6: 상임위조정 예산안 (I=E+F) | M6: 예결위 계수조정 | P6: 예결위조정 예산안 (M=I+J) | Q6: 상임위 대비 증감
D7: 계 (B=C+D) | E7: 감액 (C) | F7: 증액 (D) | I7: 계 (F=G+H) | J7: 감액 (G) | K7: 증액 (H) | M7: 계 (J=K+L) | N7: 감액 (K) | O7: 증액 (L) | Q7: 계 (N=J-F) | R7: 증감율 (N/F) | S7: 감액 (K-G) | T7: 증액 (L-H)
B8: 합 계 | C8: =SUM(C9:C18) -> 45180229 | D8: =E8+F8 -> 1324409 | E8: =SUM(E9:E18) -> -1496131 | F8: =SUM(F9:F18) -> 2820540 | G8: =C8+D8 -> 46504638 | H8: =SUM(H9:H18) -> 3987267909 | I8: =SUM(I9:I18) -> 59347108 | J8: =SUM(J9:J18) -> -38265694 | K8: =SUM(K9:K18) -> 97612802 | L8: =H8+I8 -> 4046615017 | M8: =N8+O8 -> 1797797 | N8: =SUM(N9:N18) -> -146386988 | O8: =SUM(O9:O18) -> 148184785 | P8: =H8+N8+O8 -> 3989065706 | Q8: =S8+T8 -> -57549311 | R8: =Q8/I8*100 -> -96.970708 | S8: =N8-J8 -> -108121294 | T8: =O8-K8 -> 50571983
B9: 기 재 위 | C9: =일입!F7 -> 350133 | D9: =E9+F9 -> -255093 | E9: =일입!G7 -> -255093 | F9: =일입!H7 -> 0 | G9: =C9+D9 -> 95040 | H9: =일출!F30 -> 2332147076 | I9: =J9+K9 -> 210064 | J9: =일출!G30 -> -1055093 | K9: =일출!H30 -> 1265157 | L9: =H9+I9 -> 2332357140 | M9: =N9+O9 -> -58649936 | N9: =일출!J30 -> -110315093 | O9: =일출!K30 -> 51665157 | P9: =H9+N9+O9 -> 2273497140 | Q9: =S9+T9 -> -58860000 | R9: =Q9/I9*100 -> -28020.032 | S9: =N9-J9 -> -109260000 | T9: =O9-K9 -> 50400000
B10: 경과기위 | D10: =E10+F10 -> 0 | G10: =C10+D10 -> 0 | H10: =일출!F62 -> 32726201 | I10: =J10+K10 -> 12320446 | J10: =일출!G62 -> -2311000 | K10: =일출!H62 -> 14631446 | L10: =H10+I10 -> 45046647 | M10: =N10+O10 -> 10055446 | N10: =일출!J62 -> -2331000 | O10: =일출!K62 -> 12386446 | P10: =H10+N10+O10 -> 42781647 | Q10: =S10+T10 -> -2265000 | R10: =Q10/I10*100 -> -18.384075 | S10: =N10-J10 -> -20000 | T10: =O10-K10 -> -2245000
B11: 행 자 위 | C11: =일입!F11 -> 2362900 | D11: =E11+F11 -> 849256 | E11: =일입!G11 -> -35000 | F11: =일입!H11 -> 884256 | G11: =C11+D11 -> 3212156 | H11: =일출!F129 -> 18129543 | I11: =J11+K11 -> 8482682 | J11: =일출!G129 -> -1107040 | K11: =일출!H129 -> 9589722 | L11: =H11+I11 -> 26612225 | M11: =N11+O11 -> 10519322 | N11: =일출!J129 -> -121900 | O11: =일출!K129 -> 10641222 | P11: =H11+N11+O11 -> 28648865 | Q11: =S11+T11 -> 2036640 | R11: =Q11/I11*100 -> 24.009388 | S11: =N11-J11 -> 985140 | T11: =O11-K11 -> 1051500
B12: 문체관위 | D12: =E12+F12 -> 0 | G12: =C12+D12 -> 0 | H12: =일출!F298 -> 65993078 | I12: =J12+K12 -> 3480200 | J12: =일출!G298 -> -1273000 | K12: =일출!H298 -> 4753200 | L12: =H12+I12 -> 69473278 | M12: =N12+O12 -> 4623136 | N12: =일출!J298 -> -1111000 | O12: =일출!K298 -> 5734136 | P12: =H12+N12+O12 -> 70616214 | Q12: =S12+T12 -> 1142936 | R12: =Q12/I12*100 -> 32.841101 | S12: =N12-J12 -> 162000 | T12: =O12-K12 -> 980936
B13: 농 수 위 | C13: =일입!F21 -> 4207342 | D13: =E13+F13 -> 577666 | E13: =일입!G21 -> -594638 | F13: =일입!H21 -> 1172304 | G13: =C13+D13 -> 4785008 | H13: =일출!F338 -> 34102573 | I13: =J13+K13 -> 2157026 | J13: =일출!G338 -> -2998424 | K13: =일출!H338 -> 5155450 | L13: =H13+I13 -> 36259599 | M13: =N13+O13 -> 15725176 | N13: =일출!J338 -> -3045424 | O13: =일출!K338 -> 18770600 | P13: =H13+N13+O13 -> 49827749 | Q13: =S13+T13 -> 13568150 | R13: =Q13/I13*100 -> 629.02116 | S13: =N13-J13 -> -47000 | T13: =O13-K13 -> 13615150
B14: 보복공위 | C14: =일입!F35 -> 23653287 | D14: =E14+F14 -> -578420 | E14: =일입!G35 -> -611400 | F14: =일입!H35 -> 32980 | G14: =C14+D14 -> 23074867 | H14: =일출!F392 -> 1203765506 | I14: =J14+K14 -> 1723006 | J14: =일출!G392 -> -3990900 | K14: =일출!H392 -> 5713906 | L14: =H14+I14 -> 1205488512 | M14: =N14+O14 -> -9213647 | N14: =일출!J392 -> -14120900 | O14: =일출!K392 -> 4907253 | P14: =H14+N14+O14 -> 1194551859 | Q14: =S14+T14 -> -10936653 | R14: =Q14/I14*100 -> -634.7426 | S14: =N14-J14 -> -10130000 | T14: =O14-K14 -> -806653
B15: 건 교 위 | D15: =E15+F15 -> 0 | G15: =C15+D15 -> 0 | H15: =일출!F446 -> 176982263 | I15: =J15+K15 -> -683117 | J15: =일출!G446 -> -23058117 | K15: =일출!H446 -> 22375000 | L15: =H15+I15 -> 176299146 | M15: =N15+O15 -> 2660449 | N15: =일출!J446 -> -13957551 | O15: =일출!K446 -> 16618000 | P15: =H15+N15+O15 -> 179642712 | Q15: =S15+T15 -> 3343566 | R15: =Q15/I15*100 -> -489.4573 | S15: =N15-J15 -> 9100566 | T15: =O15-K15 -> -5757000
B16: 도 환 위 | D16: =E16+F16 -> 0 | G16: =C16+D16 -> 0 | H16: =일출!F478 -> 82963572 | I16: =J16+K16 -> 9124920 | J16: =일출!G478 -> -1354620 | K16: =일출!H478 -> 10479540 | L16: =H16+I16 -> 92088492 | M16: =N16+O16 -> 8171770 | N16: =일출!J478 -> -554620 | O16: =일출!K478 -> 8726390 | P16: =H16+N16+O16 -> 91135342 | Q16: =S16+T16 -> -953150 | R16: =Q16/I16*100 -> -10.445571 | S16: =N16-J16 -> 800000 | T16: =O16-K16 -> -1753150
B17: 여가평위 | C17: =일입!F42 -> 14606567 | D17: =E17+F17 -> 731000 | E17: =일입!G42 -> 0 | F17: =일입!H42 -> 731000 | G17: =C17+D17 -> 15337567 | H17: =일출!F532 -> 38700021 | I17: =J17+K17 -> 21670021 | J17: =일출!G532 -> -997500 | K17: =일출!H532 -> 22667521 | L17: =H17+I17 -> 60370042 | M17: =N17+O17 -> 16700021 | N17: =일출!J532 -> -737500 | O17: =일출!K532 -> 17437521 | P17: =H17+N17+O17 -> 55400042 | Q17: =S17+T17 -> -4970000 | R17: =Q17/I17*100 -> -22.934911 | S17: =N17-J17 -> 260000 | T17: =O17-K17 -> -5230000
B18: 운 영 위 | D18: =E18+F18 -> 0 | G18: =C18+D18 -> 0 | H18: =일출!F7 -> 1758076 | I18: =J18+K18 -> 861860 | J18: =일출!G7 -> -120000 | K18: =일출!H7 -> 981860 | L18: =H18+I18 -> 2619936 | M18: =N18+O18 -> 1206060 | N18: =일출!J7 -> -92000 | O18: =일출!K7 -> 1298060 | P18: =H18+N18+O18 -> 2964136 | Q18: =S18+T18 -> 344200 | R18: =Q18/I18*100 -> 39.936881 | S18: =N18-J18 -> 28000 | T18: =O18-K18 -> 316200
B20: □ 특별회계
L21: (단위:천원)
B22: 구 분 | C22: 세입예산(안) | H22: 세출예산(안)
C23: 예산안 (A) | D23: 상임위 계수조정 | G23: 상임위조정 예산안 (A+B) | H23: 집행부제출안 (E) | I23: 상임위 계수조정 | L23: 상임위조정 예산안 (E+F)
D24: 계 (B=C+D) | E24: 감액 (C) | F24: 증액 (D) | I24: 계 (F=G+H) | J24: 감액 (G) | K24: 증액 (F)
B25: 합 계 | C25: =SUM(C26:C27) -> 0 | E25: =SUM(E26:E27) -> 0 | F25: =SUM(F26:F27) -> 0 | G25: =SUM(G26:G27) -> 0 | H25: =SUM(H26:H27) -> 0 | J25: =SUM(J26:J27) -> 0 | K25: =SUM(K26:K27) -> 0 | L25: =SUM(L26:L27) -> 0
B26: 일반회계 | L26: =C26+J26+K26 -> 0
B27: 특별회계 | L27: =C27+J27+K27 -> 0
B32: 위원회명 | C32: 본예산(일반+기특) | E32: 일반+기특 증감 | F32: 본예산(공기업) | J32: 공기업증감 | K32: 합계
B33: 의회운영위원회 | C33: 29578422 | E33: -6681 | K33: =SUM(C33:J33) -> 29571741
B34: 기획재정위원회 | C34: 2891343461 | E34: -301742224 | F34: 1351739885 | K34: =SUM(C34:J34) -> 3941341122
B35: 경제과학기술위원회 | C35: 199560720 | E35: -4516046 | F35: 378135000 | J35: -4761215 | K35: =SUM(C35:J35) -> 568418459
B36: 행정자치위원회 | C36: 1087256623 | E36: -12367081 | K36: =SUM(C36:J36) -> 1074889542
B37: 문화체육관광위원회 | C37: 225697502 | E37: 31705187 | F37: 44512000 | K37: =SUM(C37:J37) -> 301914689
B38: 농림수산위원회 | C38: 479489486 | E38: 12586360 | K38: =SUM(C38:J38) -> 492075846
B39: 보건복지공보위원회 | C39: 2876706315 | E39: 67792337 | K39: =SUM(C39:J39) -> 2944498652
B40: 건설교통위원회 | C40: 1184970444 | E40: 20989907 | K40: =SUM(C40:J40) -> 1205960351
B41: 도시환경위원회 | C41: 823150380 | E41: 92836795 | F41: 15950000 | K41: =SUM(C41:J41) -> 931937175
B42: 여성가족평생교육위원회 | C42: 3979533449 | E42: 396509102 | K42: =SUM(C42:J42) -> 4376042551
B43: 총합계 | C43: =SUM(C33:C42) -> 13777286802 | E43: =SUM(E33:E42) -> 303787656 | F43: =SUM(F33:F42) -> 1790336885 | J43: =SUM(J33:J42) -> -4761215 | K43: =SUM(C43:J43) -> 15866650128
B45: 예비비 | C45: 62833918

Sheet 일입
A1: 2014년도 경기도 일반회계 세입 예산 예결위 조정(안)
A2: □세입예산
H3: =SUM(G6:H6) -> 1324409 | K3: =SUM(J6:K6) -> 1797797 | N3: (단위 : 천원) | P3: =IF(P6=일출!Q6,"OK","ERR") -> OK | Q3: =SUM(P6:Q6) -> 1797797 | R3: =IF(H3=Q3,"ok","검토") -> 검토
A4: 위원회 | C4: 예산안 페이지 | D4: 부서명 | E4: 사업명 | F4: 예산안 (가) | G4: 상임위 예산안 조정액(나) | I4: 상임위 수정 예산안 (다=가+나) | J4: 예결위 예산안 조정액(라) | L4: 예결위 수정 예산안 (마=가+라) | M4: 동의 대상 | N4: 비 고 | O4: 재원 | P4: 재원별 증감액
G5: 감액 | H5: 증액 | J5: 감액 | K5: 증액 | P5: 국비 등 | Q5: 도 비 | R5: 검 증
B6: 합 계 | F6: =SUM(F7:F105)/3 -> 45180229 | G6: =SUM(G7:G105)/3 -> -1496131 | H6: =SUM(H7:H105)/3 -> 2820540 | I6: =SUM(I7:I105)/3 -> 46504638 | J6: =SUM(J7:J105)/3 -> -1496131 | K6: =SUM(K7:K105)/3 -> 3293928 | L6: =SUM(L7:L105)/3 -> 46978026 | P6: =SUM(P7:P105)/3 -> 1684240 | Q6: =SUM(Q7:Q105)/3 -> 113557 | R6: =IF((G6+H6)=(P6+Q6),"ok","검토") -> 검토
A7: 기획재정위원회 | F7: =SUM(F8:F10)/2 -> 350133 | G7: =SUM(G8:G10)/2 -> -255093 | H7: =SUM(H8:H10)/2 -> 0 | I7: =SUM(I8:I10)/2 -> 95040 | J7: =SUM(J8:J10)/2 -> -255093 | K7: =SUM(K8:K10)/2 -> 0 | L7: =SUM(L8:L10)/2 -> 95040 | P7: =SUM(P8:P10)/2 -> -15840 | Q7: =SUM(Q8:Q10)/2 -> -239253 | R7: =IF((G7+H7)=(P7+Q7),"ok","검토") -> ok
B8: 기획조정실 | F8: =SUM(F9:F10) -> 350133 | G8: =SUM(G9:G10) -> -255093 | H8: =SUM(H9:H10) -> 0 | I8: =SUM(I9:I10) -> 95040 | J8: =SUM(J9:J10) -> -255093 | K8: =SUM(K9:K10) -> 0 | L8: =SUM(L9:L10) -> 95040 | P8: =SUM(P9:P10) -> -15840 | Q8: =SUM(Q9:Q10) -> -239253 | R8: =IF((G8+H8)=(P8+Q8),"ok","검토") -> ok
C9: 35 | D9: 정보기획담당관 | E9: 정보화마을 조성 | F9: 110880 | G9: -15840 | I9: =F9+G9+H9 -> 95040 | J9: =G9 -> -15840 | K9: =H9 -> 0 | L9: =F9+J9+K9 -> 95040 | M9: =IF(G9-J9<0,"동의필요","-") -> - | N9: 국비변경내시 ※ 안전행정부 전자정부지원과-2118(2013.10.15)호 | O9: 국비 | P9: -15840 | R9: =IF((G9+H9)=(P9+Q9),"ok","검토") -> ok
C10: 35 | D10: 정보통신보안담당관 | E10: 시군구 재해복구시스템 백업센터 유지보수비 | F10: 239253 | G10: -239253 | I10: =F10+G10+H10 -> 0 | J10: =G10 -> -239253 | K10: =H10 -> 0 | L10: =F10+J10+K10 -> 0 | M10: =IF(G10-J10<0,"동의필요","-") -> - | N10: 자치단체간부담금(시군 ⇒ 도) | O10: 도비 | Q10: -239253 | R10: =IF((G10+H10)=(P10+Q10),"ok","검토") -> ok
A11: 행정자치위원회 | F11: =SUM(F12:F16)/2 -> 2362900 | G11: =SUM(G12:G16)/2 -> -35000 | H11: =SUM(H12:H16)/2 -> 884256 | I11: =SUM(I12:I16)/2 -> 3212156 | J11: =SUM(J12:J16)/2 -> -35000 | K11: =SUM(K12:K16)/2 -> 884256 | L11: =SUM(L12:L16)/2 -> 3212156 | P11: =SUM(P12:P16)/2 -> 768000 | Q11: =SUM(Q12:Q16)/2 -> 81256 | R11: =IF((G11+H11)=(P11+Q11),"ok","검토") -> ok
B12: 안전행정실 | F12: =SUM(F13) -> 814500 | G12: =SUM(G13) -> 0 | H12: =SUM(H13) -> 768000 | I12: =SUM(I13) -> 1582500 | J12: =SUM(J13) -> 0 | K12: =SUM(K13) -> 768000 | L12: =SUM(L13) -> 1582500 | P12: =SUM(P13) -> 768000 | Q12: =SUM(Q13) -> 0 | R12: =IF((G12+H12)=(P12+Q12),"ok","검토") -> ok
C13: 401 | D13: 비상기획담당관 | E13: 민방위 시설장비 확충 | F13: 814500 | G13: 0 | H13: 768000 | I13: =F13+G13+H13 -> 1582500 | J13: =G13 -> 0 | K13: =H13 -> 768000 | L13: =F13+J13+K13 -> 1582500 | M13: =IF(G13-J13<0,"동의필요","-") -> - | N13: 소방방재청 민방위과-6167(2013.11.20) | O13: 국비 | P13: 768000 | Q13: 0 | R13: =IF((G13+H13)=(P13+Q13),"ok","검토") -> ok
B14: 인재개발원 | F14: =SUM(F15:F16) -> 1548400 | G14: =SUM(G15:G16) -> -35000 | H14: =SUM(H15:H16) -> 116256 | I14: =SUM(I15:I16) -> 1629656 | J14: =SUM(J15:J16) -> -35000 | K14: =SUM(K15:K16) -> 116256 | L14: =SUM(L15:L16) -> 1629656 | P14: =SUM(P15:P16) -> 0 | Q14: =SUM(Q15:Q16) -> 81256 | R14: =IF((G14+H14)=(P14+Q14),"ok","검토") -> ok
C15: 427 | D15: 경기도인재개발원 | E15: 도-시군 통합사이버모바일 교육부담금 | F15: 1548400 | G15: -35000 | I15: =F15+G15+H15 -> 1513400 | J15: =G15 -> -35000 | K15: =H15 -> 0 | L15: =F15+J15+K15 -> 1513400 | M15: =IF(G15-J15<0,"동의필요","-") -> - | N15: 수용 : 사업비 감소로 분담감소 | O15: 도비 | Q15: -35000 | R15: =IF((G15+H15)=(P15+Q15),"ok","검토") -> ok
C16: 추가 | D16: 경기도인재개발원 | E16: 구내식당 임대료 | H16: 116256 | I16: =F16+G16+H16 -> 116256 | J16: =G16 -> 0 | K16: =H16 -> 116256 | L16: =F16+J16+K16 -> 116256 | M16: =IF(G16-J16<0,"동의필요","-") -> - | N16: (임대료 수입 : 세입만 잡음) 수용 : 구내식당 계약방법 변경 | O16: 도비 | Q16: 116256 | R16: =IF((G16+H16)=(P16+Q16),"ok","검토") -> ok
A17: 문화체육관광위원회 | F17: =SUM(F18:F20)/2 -> 0 | G17: =SUM(G18:G20)/2 -> 0 | H17: =SUM(H18:H20)/2 -> 0 | I17: =SUM(I18:I20)/2 -> 0 | J17: =SUM(J18:J20)/2 -> 0 | K17: =SUM(K18:K20)/2 -> 473388 | L17: =SUM(L18:L20)/2 -> 473388 | P17: =SUM(P18:P20)/2 -> 470000 | Q17: =SUM(Q18:Q20)/2 -> 3388 | R17: =IF((G17+H17)=(P17+Q17),"ok","검토") -> 검토
B18: 문화체육관광국 | F18: =SUM(F19:F20) -> 0 | G18: =SUM(G19:G20) -> 0 | H18: =SUM(H19:H20) -> 0 | I18: =SUM(I19:I20) -> 0 | J18: =SUM(J19:J20) -> 0 | K18: =SUM(K19:K20) -> 473388 | L18: =SUM(L19:L20) -> 473388 | P18: =SUM(P19:P20) -> 470000 | Q18: =SUM(Q19:Q20) -> 3388 | R18: =IF((G18+H18)=(P18+Q18),"ok","검토") -> 검토
C19: 추가 | D19: 문화정책과 | E19: 경기도박물관 보증금 채권반납 | I19: =F19+G19+H19 -> 0 | K19: 3388 | L19: =F19+J19+K19 -> 3388 | M19: =IF(G19-J19<0,"동의필요","-") -> - | N19: 일반 전화선 14회선 채권반납 | O19: 도비 | Q19: =L19 -> 3388 | R19: =IF((G19+H19)=(P19+Q19),"ok","검토") -> 검토
C20: 추가 | D20: 관광과 | E20: 관광안내체계구축지원 | I20: =F20+G20+H20 -> 0 | K20: 470000 | L20: =F20+J20+K20 -> 470000 | M20: =IF(G20-J20<0,"동의필요","-") -> - | N20: 문화체육관광부 관광산업과-4039(2013.12.2) | O20: 국비 | P20: =L20 -> 470000 | R20: =IF((G20+H20)=(P20+Q20),"ok","검토") -> 검토
A21: 농림수산위원회 | F21: =SUM(F22:F34)/2 -> 4207342 | G21: =SUM(G22:G34)/2 -> -594638 | H21: =SUM(H22:H34)/2 -> 1172304 | I21: =SUM(I22:I34)/2 -> 4785008 | J21: =SUM(J22:J34)/2 -> -594638 | K21: =SUM(K22:K34)/2 -> 1172304 | L21: =SUM(L22:L34)/2 -> 4785008 | P21: =SUM(P22:P34)/2 -> 309500 | Q21: =SUM(Q22:Q34)/2 -> 268166 | R21: =IF((G21+H21)=(P21+Q21),"ok","검토") -> ok
B22: 농정해양국 | F22: =SUM(F23:F28) -> 1107000 | G22: =SUM(G23:G28) -> -328000 | H22: =SUM(H23:H28) -> 628500 | I22: =SUM(I23:I28) -> 1407500 | J22: =SUM(J23:J28) -> -328000 | K22: =SUM(K23:K28) -> 628500 | L22: =SUM(L23:L28) -> 1407500 | P22: =SUM(P23:P28) -> 300500 | Q22: =SUM(Q23:Q28) -> 0 | R22: =IF((G22+H22)=(P22+Q22),"ok","검토") -> ok
C23: 추가 | D23: 친환경농업과 | E23: 농식품ICT융복합확산사업 | H23: 84000 | I23: =F23+G23+H23 -> 84000 | J23: =G23 -> 0 | K23: =H23 -> 84000 | L23: =F23+J23+K23 -> 84000 | M23: =IF(G23-J23<0,"동의필요","-") -> - | N23: 농림축산식품부 정보화담당관실-2862 (2013.11.12.) | O23: 기금 | P23: 84000 | R23: =IF((G23+H23)=(P23+Q23),"ok","검토") -> ok
C24: 483 | D24: 농업정책과 | E24: 도농행복일자리교류사업단 운영 | F24: 250000 | G24: -250000 | I24: =F24+G24+H24 -> 0 | J24: =G24 -> -250000 | K24: =H24 -> 0 | L24: =F24+J24+K24 -> 0 | M24: =IF(G24-J24<0,"동의필요","-") -> - | N24: 국비사업감액 | O24: 국비 | P24: -250000 | R24: =IF((G24+H24)=(P24+Q24),"ok","검토") -> ok
C25: 486 | D25: 수산과 | E25: 자율관리어업 육성(국비) | F25: 583000 | H25: 419500 | I25: =F25+G25+H25 -> 1002500 | J25: =G25 -> 0 | K25: =H25 -> 419500 | L25: =F25+J25+K25 -> 1002500 | M25: =IF(G25-J25<0,"동의필요","-") -> - | N25: 해양수산부 자원관리과-3328(2013.11.14) | O25: 국비 | P25: 419500 | R25: =IF((G25+H25)=(P25+Q25),"ok","검토") -> ok
C26: 486 | D26: 수산과 | E26: 해양보호구역관리(국비) | F26: 200000 | G26: -50000 | I26: =F26+G26+H26 -> 150000 | J26: =G26 -> -50000 | K26: =H26 -> 0 | L26: =F26+J26+K26 -> 150000 | M26: =IF(G26-J26<0,"동의필요","-") -> - | N26: 해양수산부 해양생태과-2062(2013.11.22) | O26: 국비 | P26: -50000 | R26: =IF((G26+H26)=(P26+Q26),"ok","검토") -> ok
C27: 486 | D27: 수산과 | E27: 낚시산업선진화(국비) | F27: 74000 | G27: -28000 | I27: =F27+G27+H27 -> 46000 | J27: =G27 -> -28000 | K27: =H27 -> 0 | L27: =F27+J27+K27 -> 46000 | M27: =IF(G27-J27<0,"동의필요","-") -> - | N27: 해양수산부 해양생태과-3251(2013.11.25) | O27: 국비 | P27: -28000 | R27: =IF((G27+H27)=(P27+Q27),"ok","검토") -> ok
C28: 추가 | D28: 해양수산자원연구소 | E28: 내수면시험장 개보수 | H28: 125000 | I28: =F28+G28+H28 -> 125000 | J28: =G28 -> 0 | K28: =H28 -> 125000 | L28: =F28+J28+K28 -> 125000 | M28: =IF(G28-J28<0,"동의필요","-") -> - | N28: 해양수산부 해양생태과-3586(2013.11.29) | O28: 국비 | P28: 125000 | R28: =IF((G28+H28)=(P28+Q28),"ok","검토") -> ok
B29: 축산산림국 | F29: =SUM(F30:F32) -> 2006922 | G29: =SUM(G30:G32) -> -266638 | H29: =SUM(H30:H32) -> 534804 | I29: =SUM(I30:I32) -> 2275088 | J29: =SUM(J30:J32) -> -266638 | K29: =SUM(K30:K32) -> 534804 | L29: =SUM(L30:L32) -> 2275088 | P29: =SUM(P30:P32) -> 0 | Q29: =SUM(Q30:Q32) -> 268166 | R29: =IF((G29+H29)=(P29+Q29),"ok","검토") -> ok
C30: 추가 | D30: 축산정책과 | E30: 일반부담금(전문승용마 시범생산) | H30: 349500 | I30: =F30+G30+H30 -> 349500 | J30: =G30 -> 0 | K30: =H30 -> 349500 | L30: =F30+J30+K30 -> 349500 | M30: =IF(G30-J30<0,"동의필요","-") -> - | N30: 한국마사회 생산진흥팀-1113(2013.10.31) | O30: 도비 | Q30: =K30 -> 349500 | R30: =IF((G30+H30)=(P30+Q30),"ok","검토") -> ok
C31: 545 | D31: 산림과 | E31: 자치단체간부담금(사방사업) | F31: 523237 | G31: -266638 | I31: =F31+G31+H31 -> 256599 | J31: =G31 -> -266638 | K31: =H31 -> 0 | L31: =F31+J31+K31 -> 256599 | M31: =IF(G31-J31<0,"동의필요","-") -> - | N31: (세출은 예산안에 기 잡혀있음 602페이지) 사방사업(국비/직접), 사방사업 사업량변경 | O31: 도비 | Q31: -266638 | R31: =IF((G31+H31)=(P31+Q31),"ok","검토") -> ok
C32: 545 | D32: 산림과 | E32: 자치단체간부담금(사방댐조성관리) | F32: 1483685 | H32: 185304 | I32: =F32+G32+H32 -> 1668989 | J32: =G32 -> 0 | K32: =H32 -> 185304 | L32: =F32+J32+K32 -> 1668989 | M32: =IF(G32-J32<0,"동의필요","-") -> - | N32: (세출은 예산안에 기 잡혀있음 602페이지) 사방사업(국비/직접), 사방댐조성관리 사업량 변경 | O32: 도비 | Q32: 185304 | R32: =IF((G32+H32)=(P32+Q32),"ok","검토") -> ok
B33: 농업기술원 | F33: =SUM(F34) -> 1093420 | G33: =SUM(G34) -> 0 | H33: =SUM(H34) -> 9000 | I33: =SUM(I34) -> 1102420 | J33: =SUM(J34) -> 0 | K33: =SUM(K34) -> 9000 | L33: =SUM(L34) -> 1102420 | P33: =SUM(P34) -> 9000 | Q33: =SUM(Q34) -> 0 | R33: =IF((G33+H33)=(P33+Q33),"ok","검토") -> ok
C34: 614 | D34: 총무과 | E34: 농업전문인력양성 | F34: 1093420 | H34: 9000 | I34: =F34+G34+H34 -> 1102420 | J34: =G34 -> 0 | K34: =H34 -> 9000 | L34: =F34+J34+K34 -> 1102420 | M34: =IF(G34-J34<0,"동의필요","-") -> - | N34: 국비증액사업 | O34: 국비 | P34: 9000 | R34: =IF((G34+H34)=(P34+Q34),"ok","검토") -> ok
A35: 보건복지공보위원회 | F35: =SUM(F36:F41)/2 -> 23653287 | G35: =SUM(G36:G41)/2 -> -611400 | H35: =SUM(H36:H41)/2 -> 32980 | I35: =SUM(I36:I41)/2 -> 23074867 | J35: =SUM(J36:J41)/2 -> -611400 | K35: =SUM(K36:K41)/2 -> 32980 | L35: =SUM(L36:L41)/2 -> 23074867 | P35: =SUM(P36:P41)/2 -> -578420 | Q35: =SUM(Q36:Q41)/2 -> 0 | R35: =IF((G35+H35)=(P35+Q35),"ok","검토") -> ok
B36: 보건복지국 | F36: =SUM(F37:F38) -> 23533087 | G36: =SUM(G37:G38) -> -560000 | H36: =SUM(H37:H38) -> 31500 | I36: =SUM(I37:I38) -> 23004587 | J36: =SUM(J37:J38) -> -560000 | K36: =SUM(K37:K38) -> 31500 | L36: =SUM(L37:L38) -> 23004587 | P36: =SUM(P37:P38) -> -528500 | Q36: =SUM(Q37:Q38) -> 0 | R36: =IF((G36+H36)=(P36+Q36),"ok","검토") -> ok
C37: 699 | D37: 복지정책과 | E37: 공공복지전달체계 개선 | F37: 14578087 | H37: 31500 | I37: =F37+G37+H37 -> 14609587 | J37: =G37 -> 0 | K37: =H37 -> 31500 | L37: =F37+J37+K37 -> 14609587 | M37: =IF(G37-J37<0,"동의필요","-") -> - | N37: 국비변경내시 ※ 보건복지부 지역복지과-4508(2013.11.7.)호 | O37: 국비 | P37: 31500 | R37: =IF((G37+H37)=(P37+Q37),"ok","검토") -> ok
C38: 703 | D38: 건강증진과 | E38: 지역거점병원 공공성강화 | F38: 8955000 | G38: -560000 | I38: =F38+G38+H38 -> 8395000 | J38: =G38 -> -560000 | K38: =H38 -> 0 | L38: =F38+J38+K38 -> 8395000 | M38: =IF(G38-J38<0,"동의필요","-") -> - | N38: 국비변경내시 ※ 보건복지부 공공의료과-4197(2013.11.11)호 | O38: 국비 | P38: -560000 | R38: =IF((G38+H38)=(P38+Q38),"ok","검토") -> ok
B39: 보건환경연구원 | F39: =SUM(F40:F41) -> 120200 | G39: =SUM(G40:G41) -> -51400 | H39: =SUM(H40:H41) -> 1480 | I39: =F39+G39+H39 -> 70280 | J39: =SUM(J40:J41) -> -51400 | K39: =SUM(K40:K41) -> 1480 | L39: =SUM(L40:L41) -> 70280 | P39: =SUM(P40:P41) -> -49920 | Q39: =SUM(Q40:Q41) -> 0 | R39: =IF((G39+H39)=(P39+Q39),"ok","검토") -> ok
C40: 827 | D40: 총무과 | E40: 전력효율향상사업(LED) | F40: 51400 | G40: -51400 | I40: =F40+G40+H40 -> 0 | J40: =G40 -> -51400 | K40: =H40 -> 0 | L40: =F40+J40+K40 -> 0 | M40: =IF(G40-J40<0,"동의필요","-") -> - | N40: 국비 변경내시 ※ 산업통상자원부 에너지관리과-560(2013.10.31)호 | O40: 국비 | P40: -51400 | R40: =IF((G40+H40)=(P40+Q40),"ok","검토") -> ok
...

Sheet 일출
A1: 2014년도 경기도 일반회계 세출 예산 예결위 조정(안)
A2: □세출예산
H3: =SUM(G6:H6) -> 59347108 | J3: =일입!K3 -> 1797797 | K3: =J6+K6 -> 1797797 | L3: =일입!K3-일출!K3 -> 0 | M3: =K3-H3 -> -57549311 | O3: (단위 : 천원) | Q3: =IF(Q6=일입!P6,"OK","ERR") -> OK | R3: =SUM(Q6:R6) -> 85507919 | S3: =IF(H3=R3,"ok","검토") -> 검토
A4: 위원회 | C4: 예산안 페이지 | D4: 부서명 | E4: 사업명 | F4: 예산안 (가) | G4: 상임위 예산안 조정액(나) | I4: 상임위 수정 예산안 (다=가+나) | J4: 예결위 예산안 조정액(라) | L4: 예결위 수정 예산안 (마=가+라) | M4: 증감액 (마-다) | O4: 비 고 | P4: 재원 | Q4: 재원별 증감액
G5: 감액 | H5: 증액 | J5: 감액 | K5: 증액 | Q5: 국비 등 | R5: 도 비 | S5: 검 증
B6: 합 계 | F6: =SUM(F7:F1574)/3 -> 3987267909 | G6: =SUM(G7:G1574)/3 -> -38265694 | H6: =SUM(H7:H1574)/3 -> 97612802 | I6: =SUM(I7:I1574)/3 -> 4046615017 | J6: =SUM(J7:J1574)/3 -> -146386988 | K6: =SUM(K7:K1574)/3 -> 148184785 | L6: =SUM(L7:L1574)/3 -> 3989065706 | M6: =SUM(M7:M1574)/3 -> -57549311 | Q6: =SUM(Q7:Q1574)/3 -> 1684240 | R6: =SUM(R7:R1574)/3 -> 83823679 | S6: =IF((G6+H6)=(Q6+R6),"ok","검토") -> 검토
A7: 의회운영위원회 | F7: =SUM(F8:F29)/2 -> 1758076 | G7: =SUM(G8:G29)/2 -> -120000 | H7: =SUM(H8:H29)/2 -> 981860 | I7: =SUM(I8:I29)/2 -> 2619936 | J7: =SUM(J8:J29)/2 -> -92000 | K7: =SUM(K8:K29)/2 -> 1298060 | L7: =SUM(L8:L29)/2 -> 2964136 | M7: =L7-I7 -> 344200 | Q7: =SUM(Q8:Q29)/2 -> 0 | R7: =SUM(R8:R29)/2 -> 1206060 | S7: =IF((G7+H7)=(Q7+R7),"ok","검토") -> 검토
B8: 의회사무처 | F8: =SUM(F9:F29) -> 1758076 | G8: =SUM(G9:G29) -> -120000 | H8: =SUM(H9:H29) -> 981860 | I8: =SUM(I9:I29) -> 2619936 | J8: =SUM(J9:J29) -> -92000 | K8: =SUM(K9:K29) -> 1298060 | L8: =SUM(L9:L29) -> 2964136 | M8: =L8-I8 -> 344200 | Q8: =SUM(Q9:Q29) -> 0 | R8: =SUM(R9:R29) -> 1206060 | S8: =IF((G8+H8)=(Q8+R8),"ok","검토") -> 검토
C9: 9 | D9: 의회사무처 | E9: 의정현안 시책홍보 | F9: 691435 | H9: 517000 | I9: =F9+G9+H9 -> 1208435 | K9: 617000 | L9: =F9+J9+K9 -> 1308435 | M9: =L9-I9 -> 100000 | N9: =IF(AND(((G9+H9)<0),(J9+K9)>(G9+H9)),"검토","-") -> - | P9: 도비 | R9: =K9 -> 617000 | S9: =IF((G9+H9)=(Q9+R9),"ok","검토") -> 검토
C10: 9 | D10: 의회사무처 | E10: 뉴스통신 수신료 | F10: 98000 | H10: 40000 | I10: =F10+G10+H10 -> 138000 | K10: 40000 | L10: =F10+J10+K10 -> 138000 | M10: =L10-I10 -> 0 | N10: =IF(AND(((G10+H10)<0),(J10+K10)>(G10+H10)),"검토","-") -> - | P10: 도비 | R10: =K10 -> 40000 | S10: =IF((G10+H10)=(Q10+R10),"ok","검토") -> ok
A11: 1 | C11: 9 | D11: 의회사무처 | E11: G버스 TV를 통한 의정홍보 | F11: 138000 | G11: -28000 | I11: =F11+G11+H11 -> 110000 | J11: 0 | L11: =F11+J11+K11 -> 138000 | M11: =L11-I11 -> 28000 | N11: =IF(AND(((G11+H11)<0),(J11+K11)>(G11+H11)),"검토","-") -> 검토 | O11: 버스조합 홍보사업비 조정 | P11: 도비 | R11: =K11 -> 0 | S11: =IF((G11+H11)=(Q11+R11),"ok","검토") -> 검토
C12: 12 | D12: 의회사무처 | E12: 의원 국외출장 수행여비 | F12: 96000 | H12: 10000 | I12: =F12+G12+H12 -> 106000 | K12: 20000 | L12: =F12+J12+K12 -> 116000 | M12: =L12-I12 -> 10000 | N12: =IF(AND(((G12+H12)<0),(J12+K12)>(G12+H12)),"검토","-") -> - | P12: 도비 | R12: =K12 -> 20000 | S12: =IF((G12+H12)=(Q12+R12),"ok","검토") -> 검토
C13: 12 | D13: 의회사무처 | E13: 차량 유지관리 | F13: 140000 | H13: 20000 | I13: =F13+G13+H13 -> 160000 | K13: 20000 | L13: =F13+J13+K13 -> 160000 | M13: =L13-I13 -> 0 | N13: =IF(AND(((G13+H13)<0),(J13+K13)>(G13+H13)),"검토","-") -> - | O13: 버스 구입시기 연기에 따른 검사 및 수리비 | P13: 도비 | R13: =K13 -> 20000 | S13: =IF((G13+H13)=(Q13+R13),"ok","검토") -> ok
C14: 13 | D14: 의회사무처 | E14: 청사시설 유지관리 | F14: 90000 | H14: 150000 | I14: =F14+G14+H14 -> 240000 | K14: 150000 | L14: =F14+J14+K14 -> 240000 | M14: =L14-I14 -> 0 | N14: =IF(AND(((G14+H14)<0),(J14+K14)>(G14+H14)),"검토","-") -> - | O14: 9대 의회 개원에 따른 사무실 재배치 | P14: 도비 | R14: =K14 -> 150000 | S14: =IF((G14+H14)=(Q14+R14),"ok","검토") -> ok
C15: 14 | D15: 의회사무처 | E15: 의원입법활동 지원위원회 연찬회 | F15: 5000 | H15: 2000 | I15: =F15+G15+H15 -> 7000 | K15: 2000 | L15: =F15+J15+K15 -> 7000 | M15: =L15-I15 -> 0 | N15: =IF(AND(((G15+H15)<0),(J15+K15)>(G15+H15)),"검토","-") -> - | P15: 도비 | R15: =K15 -> 2000 | S15: =IF((G15+H15)=(Q15+R15),"ok","검토") -> ok
C16: 15 | D16: 의회사무처 | E16: 각종 세미나 등 지원 | F16: 40000 | H16: 30000 | I16: =F16+G16+H16 -> 70000 | K16: 30000 | L16: =F16+J16+K16 -> 70000 | M16: =L16-I16 -> 0 | N16: =IF(AND(((G16+H16)<0),(J16+K16)>(G16+H16)),"검토","-") -> - | P16: 도비 | R16: =K16 -> 30000 | S16: =IF((G16+H16)=(Q16+R16),"ok","검토") -> ok
C17: 19 | D17: 의회사무처 | E17: 부서운영업무추진비 의정담당관 | F17: 3021 | H17: 1140 | I17: =F17+G17+H17 -> 4161 | K17: 1140 | L17: =F17+J17+K17 -> 4161 | M17: =L17-I17 -> 0 | N17: =IF(AND(((G17+H17)<0),(J17+K17)>(G17+H17)),"검토","-") -> - | O17: 착오입력 | P17: 도비 | R17: =K17 -> 1140 | S17: =IF((G17+H17)=(Q17+R17),"ok","검토") -> ok
C18: 20 | D18: 의회사무처 | E18: 개인용컴퓨터 | F18: 16120 | H18: 9920 | I18: =F18+G18+H18 -> 26040 | K18: 9920 | L18: =F18+J18+K18 -> 26040 | M18: =L18-I18 -> 0 | N18: =IF(AND(((G18+H18)<0),(J18+K18)>(G18+H18)),"검토","-") -> - | O18: 운영전문위원실 컴퓨터 대체구입 | P18: 도비 | R18: =K18 -> 9920 | S18: =IF((G18+H18)=(Q18+R18),"ok","검토") -> ok
C19: 20 | D19: 의회사무처 | E19: 냉난방기 | F19: 13700 | H19: 10800 | I19: =F19+G19+H19 -> 24500 | K19: 10800 | L19: =F19+J19+K19 -> 24500 | M19: =L19-I19 -> 0 | N19: =IF(AND(((G19+H19)<0),(J19+K19)>(G19+H19)),"검토","-") -> - | O19: 대회의실 에어컨 대체구입 | P19: 도비 | R19: =K19 -> 10800 | S19: =IF((G19+H19)=(Q19+R19),"ok","검토") -> ok
C20: 20 | D20: 의회사무처 | E20: 공용차량 | F20: 252000 | G20: -92000 | I20: =F20+G20+H20 -> 160000 | J20: -92000 | L20: =F20+J20+K20 -> 160000 | M20: =L20-I20 -> 0 | N20: =IF(AND(((G20+H20)<0),(J20+K20)>(G20+H20)),"검토","-") -> - | O20: 대형버스 구입시기 연기 | P20: 도비 | R20: =J20 -> -92000 | S20: =IF((G20+H20)=(Q20+R20),"ok","검토") -> ok
C21: 추가 | D21: 의회사무처 | E21: 경기도의회 정책개발 연구용역 | H21: 90000 | I21: =F21+G21+H21 -> 90000 | K21: 90000 | L21: =F21+J21+K21 -> 90000 | M21: =L21-I21 -> 0 | N21: =IF(AND(((G21+H21)<0),(J21+K21)>(G21+H21)),"검토","-") -> - | O21: 연구용역비 기 반영(325백만원) | P21: 도비 | R21: =K21 -> 90000 | S21: =IF((G21+H21)=(Q21+R21),"ok","검토") -> ok
C22: 추가 | D22: 의회사무처 | E22: 의회운영 및 예산정책심사비교 연수 → 의회운영 및 예산 관련 비교 연수 | H22: 35000 | I22: =F22+G22+H22 -> 35000 | K22: 35000 | L22: =F22+J22+K22 -> 35000 | M22: =L22-I22 -> 0 | N22: =IF(AND(((G22+H22)<0),(J22+K22)>(G22+H22)),"검토","-") -> - | O22: 사업명 변경 특별, 운영 | P22: 도비 | R22: =K22 -> 35000 | S22: =IF((G22+H22)=(Q22+R22),"ok","검토") -> ok
C23: 추가 | D23: 의회사무처 | E23: 입법, 의정 관련 비교 연수 | I23: =F23+G23+H23 -> 0 | K23: 35000 | L23: =F23+J23+K23 -> 35000 | M23: =L23-I23 -> 35000 | N23: =IF(AND(((G23+H23)<0),(J23+K23)>(G23+H23)),"검토","-") -> - | P23: 도비 | R23: =K23 -> 35000 | S23: =IF((G23+H23)=(Q23+R23),"ok","검토") -> 검토
C24: 14 | D24: 의회사무처 | E24: 속기사 근무복 구입 | F24: 4800 | I24: =F24+G24+H24 -> 4800 | K24: 1200 | L24: =F24+J24+K24 -> 6000 | M24: =L24-I24 -> 1200 | N24: =IF(AND(((G24+H24)<0),(J24+K24)>(G24+H24)),"검토","-") -> - | P24: 도비 | R24: =K24 -> 1200 | S24: =IF((G24+H24)=(Q24+R24),"ok","검토") -> 검토
C25: 15 | D25: 의회사무처 | E25: 의원연구단체별 정책연구용역 | F25: 160000 | I25: =F25+G25+H25 -> 160000 | K25: 160000 | L25: =F25+J25+K25 -> 320000 | M25: =L25-I25 -> 160000 | N25: =IF(AND(((G25+H25)<0),(J25+K25)>(G25+H25)),"검토","-") -> - | P25: 도비 | R25: =K25 -> 160000 | S25: =IF((G25+H25)=(Q25+R25),"ok","검토") -> 검토
C26: 추가 | D26: 의회사무처 | E26: 공기청정기 | H26: 6000 | I26: =F26+G26+H26 -> 6000 | K26: 6000 | L26: =F26+J26+K26 -> 6000 | M26: =L26-I26 -> 0 | N26: =IF(AND(((G26+H26)<0),(J26+K26)>(G26+H26)),"검토","-") -> - | O26: 입법정책담당관실, 공보담당관실 | P26: 도비 | R26: =K26 -> 6000 | S26: =IF((G26+H26)=(Q26+R26),"ok","검토") -> ok
C27: 추가 | D27: 의회사무처 | E27: 의원 휴게실 및 사무실 노후소파, 탁자 등 집기 구입 | H27: 40000 | I27: =F27+G27+H27 -> 40000 | K27: 40000 | L27: =F27+J27+K27 -> 40000 | M27: =L27-I27 -> 0 | N27: =IF(AND(((G27+H27)<0),(J27+K27)>(G27+H27)),"검토","-") -> - | O27: 9대의회 개원 준비 | P27: 도비 | R27: =K27 -> 40000 | S27: =IF((G27+H27)=(Q27+R27),"ok","검토") -> ok
C28: 추가 | D28: 의회사무처 | E28: 1층 로비 조명 시설 설치 | H28: 20000 | I28: =F28+G28+H28 -> 20000 | K28: 20000 | L28: =F28+J28+K28 -> 20000 | M28: =L28-I28 -> 0 | N28: =IF(AND(((G28+H28)<0),(J28+K28)>(G28+H28)),"검토","-") -> - | O28: 1층 로비 전시시설 개선 | P28: 도비 | R28: =K28 -> 20000 | S28: =IF((G28+H28)=(Q28+R28),"ok","검토") -> ok
C29: 12 | D29: 의회사무처 | E29: 공무국외여행 방문지원 | F29: 10000 | I29: =F29+G29+H29 -> 10000 | K29: 10000 | L29: =F29+J29+K29 -> 20000 | M29: =L29-I29 -> 10000 | N29: =IF(AND(((G29+H29)<0),(J29+K29)>(G29+H29)),"검토","-") -> - | P29: 도비 | R29: =K29 -> 10000 | S29: =IF((G29+H29)=(Q29+R29),"ok","검토") -> 검토
A30: 기획재정위원회 | F30: =SUM(F31:F61)/2 -> 2332147076 | G30: =SUM(G31:G61)/2 -> -1055093 | H30: =SUM(H31:H61)/2 -> 1265157 | I30: =SUM(I31:I61)/2 -> 2332357140 | J30: =SUM(J31:J61)/2 -> -110315093 | K30: =SUM(K31:K61)/2 -> 51665157 | L30: =SUM(L31:L61)/2 -> 2273497140 | M30: =SUM(M31:M61)/2 -> -58860000 | Q30: =SUM(Q31:Q61)/2 -> -15840 | R30: =SUM(R31:R61)/2 -> 15909073 | S30: =IF((G30+H30)=(Q30+R30),"ok","검토") -> 검토
B31: 감사관 | F31: =SUM(F32:F41) -> 256040 | G31: =SUM(G32:G41) -> 0 | H31: =SUM(H32:H41) -> 64757 | I31: =SUM(I32:I41) -> 320797 | J31: =SUM(J32:J41) -> 0 | K31: =SUM(K32:K41) -> 64757 | L31: =F31+J31+K31 -> 320797 | M31: =L31-I31 -> 0 | Q31: =SUM(Q32:Q41) -> 0 | R31: =SUM(R32:R41) -> 64757 | S31: =IF((G31+H31)=(Q31+R31),"ok","검토") -> ok
C32: 28 | D32: 감사담당관 | E32: 자체감사 운영 및 중앙부처감사 지원(자체/직접) - 감사원감사 및 정부합동감사 등 수감(사무관리비) | F32: 10000 | H32: 5000 | I32: =F32+G32+H32 -> 15000 | K32: 5000 | L32: =F32+J32+K32 -> 15000 | M32: =L32-I32 -> 0 | N32: =IF(AND(((G32+H32)<0),(J32+K32)>(G32+H32)),"검토","-") -> - | O32: 현지 실사 등 사업특성상 증액 필요 | P32: 도비 | R32: =K32 -> 5000 | S32: =IF((G32+H32)=(Q32+R32),"ok","검토") -> ok
C33: 28 | D33: 감사담당관 | E33: 자체감사 운영 및 중앙부처감사 지원(자체/직접) - 감사 및 감사자료 수집 여비(국내여비) | F33: 131860 | H33: 10000 | I33: =F33+G33+H33 -> 141860 | K33: 10000 | L33: =F33+J33+K33 -> 141860 | M33: =L33-I33 -> 0 | N33: =IF(AND(((G33+H33)<0),(J33+K33)>(G33+H33)),"검토","-") -> - | O33: 현지 실사 등 사업특성상 증액 필요 | P33: 도비 | R33: =K33 -> 10000 | S33: =IF((G33+H33)=(Q33+R33),"ok","검토") -> ok
C34: 30 | D34: 조사담당관 | E34: 공직자 재산등록 운영(자체/직접) | F34: 12000 | H34: 3000 | I34: =F34+G34+H34 -> 15000 | K34: 3000 | L34: =F34+J34+K34 -> 15000 | M34: =L34-I34 -> 0 | N34: =IF(AND(((G34+H34)<0),(J34+K34)>(G34+H34)),"검토","-") -> - | O34: 현지 실사 등 사업특성상 증액 필요 | P34: 도비 | R34: =K34 -> 3000 | S34: =IF((G34+H34)=(Q34+R34),"ok","검토") -> ok
C35: 30 | D35: 조사담당관 | E35: 부패방지 시스템 구축(자체/직접) - 고위직공무원 청렴도 평가(사무관리비) | F35: 5000 | H35: 10000 | I35: =F35+G35+H35 -> 15000 | K35: 10000 | L35: =F35+J35+K35 -> 15000 | M35: =L35-I35 -> 0 | N35: =IF(AND(((G35+H35)<0),(J35+K35)>(G35+H35)),"검토","-") -> - | O35: 현지 실사 등 사업특성상 증액 필요 | P35: 도비 | R35: =K35 -> 10000 | S35: =IF((G35+H35)=(Q35+R35),"ok","검토") -> ok
C36: 30 | D36: 조사담당관 | E36: 부패방지 시스템 구축(자체/직접) - 청렴 홍보물 제작비(사무관리비) | F36: 6000 | H36: 6000 | I36: =F36+G36+H36 -> 12000 | K36: 6000 | L36: =F36+J36+K36 -> 12000 | M36: =L36-I36 -> 0 | N36: =IF(AND(((G36+H36)<0),(J36+K36)>(G36+H36)),"검토","-") -> - | O36: 현지 실사 등 사업특성상 증액 필요 | P36: 도비 | R36: =K36 -> 6000 | S36: =IF((G36+H36)=(Q36+R36),"ok","검토") -> ok
C37: 30 | D37: 조사담당관 | E37: 부패방지 시스템 구축(자체/직접) - 조사 및 감찰자료 수집 여비(국내여비) | F37: 37980 | H37: 1357 | I37: =F37+G37+H37 -> 39337 | K37: 1357 | L37: =F37+J37+K37 -> 39337 | M37: =L37-I37 -> 0 | N37: =IF(AND(((G37+H37)<0),(J37+K37)>(G37+H37)),"검토","-") -> - | O37: 현지 실사 등 사업특성상 증액 필요 | P37: 도비 | R37: =K37 -> 1357 | S37: =IF((G37+H37)=(Q37+R37),"ok","검토") -> ok
C38: 30 | D38: 조사담당관 | E38: 부패방지 시스템 구축(자체/직접) - 경기도 부조리 신고 보상금(기타보상금) | F38: 5000 | H38: 5000 | I38: =F38+G38+H38 -> 10000 | K38: 5000 | L38: =F38+J38+K38 -> 10000 | M38: =L38-I38 -> 0 | N38: =IF(AND(((G38+H38)<0),(J38+K38)>(G38+H38)),"검토","-") -> - | O38: 현지 실사 등 사업특성상 증액 필요 | P38: 도비 | R38: =K38 -> 5000 | S38: =IF((G38+H38)=(Q38+R38),"ok","검토") -> ok
C39: 30 | D39: 조사담당관 | E39: 부패방지 시스템 구축(자체/직접) - 경기도 청렴대상 시상(포상금) | F39: 5000 | H39: 10000 | I39: =F39+G39+H39 -> 15000 | K39: 10000 | L39: =F39+J39+K39 -> 15000 | M39: =L39-I39 -> 0 | N39: =IF(AND(((G39+H39)<0),(J39+K39)>(G39+H39)),"검토","-") -> - | O39: 현지 실사 등 사업특성상 증액 필요 | P39: 도비 | R39: =K39 -> 10000 | S39: =IF((G39+H39)=(Q39+R39),"ok","검토") -> ok
C40: 30 | D40: 조사담당관 | E40: 조사현안사항처리(자체/직접) - 조사현안 업무활동 추진(시책추진업무추진비) | F40: 4200 | H40: 5400 | I40: =F40+G40+H40 -> 9600 | K40: 5400 | L40: =F40+J40+K40 -> 9600 | M40: =L40-I40 -> 0 | N40: =IF(AND(((G40+H40)<0),(J40+K40)>(G40+H40)),"검토","-") -> - | O40: 현지 실사 등 사업특성상 증액 필요 | P40: 도비 | R40: =K40 -> 5400 | S40: =IF((G40+H40)=(Q40+R40),"ok","검토") -> ok
...

Sheet 특입
A1: 2014년도 경기도 특별회계 세입 예산 수정(안)
A2: □세입예산
N3: (단위 : 천원)
A4: 위원회 | C4: 예산안 페이지 | D4: 부서명 | E4: 사업명 | F4: 예산안 (가) | G4: 상임위 예산안 조정액(라) | I4: 상임위 수정 예산안 (마=가+라) | J4: 예결위 예산안 조정액(마) | L4: 예결위 수정 예산안 (바=가+마) | M4: 동의 대상 | N4: 비 고 | O4: 재원 | P4: 상임위 재원별 증감액 | T4: 상임위 조정액 | V4: 비 고
G5: 감액 | H5: 증액 | J5: 감액 | K5: 증액 | P5: 국비 등 | Q5: 도 비 | R5: 검 증 | T5: 감액 | U5: 증액
B6: 합 계
F7: =F8+F13 -> 0 | G7: =G8+G13 -> 0 | H7: =H8+H13 -> 0 | I7: =I8+I13 -> 0 | J7: =J8+J13 -> -1340000 | K7: =K8+K13 -> 750000 | L7: =L8+L13 -> -590000 | T7: =T8+T13 -> -200000 | U7: =U8+U13 -> 2000000
F8: =SUM(F9:F12) -> 0 | G8: =SUM(G9:G12) -> 0 | H8: =SUM(H9:H12) -> 0 | I8: =SUM(I9:I12) -> 0 | J8: =SUM(J9:J12) -> -1340000 | K8: =SUM(K9:K12) -> 750000 | L8: =SUM(L9:L12) -> -590000 | T8: =SUM(T9:T12) -> -100000 | U8: =SUM(U9:U12) -> 1000000
I9: =F9+G9+H9 -> 0 | J9: -740000 | L9: =F9+J9+K9 -> -740000 | M9: =IF(G9-J9<0,"동의필요","-") -> - | R9: =IF((G9+H9)=(P9+Q9),"ok","검토") -> ok
I10: =F10+G10+H10 -> 0 | K10: 750000 | L10: =F10+J10+K10 -> 750000 | M10: =IF(G10-J10<0,"동의필요","-") -> - | R10: =IF((G10+H10)=(P10+Q10),"ok","검토") -> ok
I11: =F11+G11+H11 -> 0 | J11: -600000 | L11: =F11+J11+K11 -> -600000 | M11: =IF(G11-J11<0,"동의필요","-") -> - | R11: =IF((G11+H11)=(P11+Q11),"ok","검토") -> ok | T11: -100000
I12: =F12+G12+H12 -> 0 | L12: =F12+J12+K12 -> 0 | M12: =IF(G12-J12<0,"동의필요","-") -> - | R12: =IF((G12+H12)=(P12+Q12),"ok","검토") -> ok | U12: 1000000
F13: =SUM(F14:F17) -> 0 | G13: =SUM(G14:G17) -> 0 | H13: =SUM(H14:H17) -> 0 | I13: =SUM(I14:I17) -> 0 | T13: =SUM(T14:T17) -> -100000 | U13: =SUM(U14:U17) -> 1000000
I14: =F14+G14+H14 -> 0 | L14: =F14+J14+K14 -> 0 | M14: =IF(G14-J14<0,"동의필요","-") -> - | R14: =IF((G14+H14)=(P14+Q14),"ok","검토") -> ok
I15: =F15+G15+H15 -> 0 | L15: =F15+J15+K15 -> 0 | M15: =IF(G15-J15<0,"동의필요","-") -> - | R15: =IF((G15+H15)=(P15+Q15),"ok","검토") -> ok
I16: =F16+G16+H16 -> 0 | L16: =F16+J16+K16 -> 0 | M16: =IF(G16-J16<0,"동의필요","-") -> - | R16: =IF((G16+H16)=(P16+Q16),"ok","검토") -> ok | T16: -100000
I17: =F17+G17+H17 -> 0 | L17: =F17+J17+K17 -> 0 | M17: =IF(G17-J17<0,"동의필요","-") -> - | R17: =IF((G17+H17)=(P17+Q17),"ok","검토") -> ok | U17: 1000000
F18: =SUM(F19:F22) -> 0 | G18: =SUM(G19:G22) -> 0 | H18: =SUM(H19:H22) -> 0 | I18: =SUM(I19:I22) -> 0 | T18: =SUM(T19:T22) -> -100000 | U18: =SUM(U19:U22) -> 1000000
I19: =F19+G19+H19 -> 0 | L19: =F19+J19+K19 -> 0 | M19: =IF(G19-J19<0,"동의필요","-") -> - | R19: =IF((G19+H19)=(P19+Q19),"ok","검토") -> ok
I20: =F20+G20+H20 -> 0 | L20: =F20+J20+K20 -> 0 | M20: =IF(G20-J20<0,"동의필요","-") -> - | R20: =IF((G20+H20)=(P20+Q20),"ok","검토") -> ok
I21: =F21+G21+H21 -> 0 | L21: =F21+J21+K21 -> 0 | M21: =IF(G21-J21<0,"동의필요","-") -> - | R21: =IF((G21+H21)=(P21+Q21),"ok","검토") -> ok | T21: -100000
I22: =F22+G22+H22 -> 0 | L22: =F22+J22+K22 -> 0 | M22: =IF(G22-J22<0,"동의필요","-") -> - | R22: =IF((G22+H22)=(P22+Q22),"ok","검토") -> ok | U22: 1000000

Sheet 특출
A1: 2014년도 경기도 특별회계 세출 예산 수정(안)
A2: □세출예산
N3: (단위 : 천원)
A4: 위원회 | C4: 예산안 페이지 | D4: 부서명 | E4: 사업명 | F4: 예산안 (가) | G4: 상임위 예산안 조정액(라) | I4: 상임위 수정 예산안 (마=가+라) | J4: 예결위 예산안 조정액(마) | L4: 예결위 수정 예산안 (바=가+마) | M4: 동의 대상 | N4: 비 고 | O4: 재원 | P4: 상임위 재원별 증감액 | T4: 상임위 조정액 | V4: 비 고
G5: 감액 | H5: 증액 | J5: 감액 | K5: 증액 | P5: 국비 등 | Q5: 도 비 | R5: 검 증 | T5: 감액 | U5: 증액
B6: 합 계
F7: =F8+F13 -> 0 | G7: =G8+G13 -> 0 | H7: =H8+H13 -> 0 | I7: =I8+I13 -> 0 | J7: =J8+J13 -> -1340000 | K7: =K8+K13 -> 750000 | L7: =L8+L13 -> -590000 | T7: =T8+T13 -> -200000 | U7: =U8+U13 -> 2000000
F8: =SUM(F9:F12) -> 0 | G8: =SUM(G9:G12) -> 0 | H8: =SUM(H9:H12) -> 0 | I8: =SUM(I9:I12) -> 0 | J8: =SUM(J9:J12) -> -1340000 | K8: =SUM(K9:K12) -> 750000 | L8: =SUM(L9:L12) -> -590000 | T8: =SUM(T9:T12) -> -100000 | U8: =SUM(U9:U12) -> 1000000
I9: =F9+G9+H9 -> 0 | J9: -740000 | L9: =F9+J9+K9 -> -740000 | M9: =IF(G9-J9<0,"동의필요","-") -> - | R9: =IF((G9+H9)=(P9+Q9),"ok","검토") -> ok
I10: =F10+G10+H10 -> 0 | K10: 750000 | L10: =F10+J10+K10 -> 750000 | M10: =IF(G10-J10<0,"동의필요","-") -> - | R10: =IF((G10+H10)=(P10+Q10),"ok","검토") -> ok
I11: =F11+G11+H11 -> 0 | J11: -600000 | L11: =F11+J11+K11 -> -600000 | M11: =IF(G11-J11<0,"동의필요","-") -> - | R11: =IF((G11+H11)=(P11+Q11),"ok","검토") -> ok | T11: -100000
I12: =F12+G12+H12 -> 0 | L12: =F12+J12+K12 -> 0 | M12: =IF(G12-J12<0,"동의필요","-") -> - | R12: =IF((G12+H12)=(P12+Q12),"ok","검토") -> ok | U12: 1000000
F13: =SUM(F14:F17) -> 0 | G13: =SUM(G14:G17) -> 0 | H13: =SUM(H14:H17) -> 0 | I13: =SUM(I14:I17) -> 0 | T13: =SUM(T14:T17) -> -100000 | U13: =SUM(U14:U17) -> 1000000
I14: =F14+G14+H14 -> 0 | L14: =F14+J14+K14 -> 0 | M14: =IF(G14-J14<0,"동의필요","-") -> - | R14: =IF((G14+H14)=(P14+Q14),"ok","검토") -> ok
I15: =F15+G15+H15 -> 0 | L15: =F15+J15+K15 -> 0 | M15: =IF(G15-J15<0,"동의필요","-") -> - | R15: =IF((G15+H15)=(P15+Q15),"ok","검토") -> ok
I16: =F16+G16+H16 -> 0 | L16: =F16+J16+K16 -> 0 | M16: =IF(G16-J16<0,"동의필요","-") -> - | R16: =IF((G16+H16)=(P16+Q16),"ok","검토") -> ok | T16: -100000
I17: =F17+G17+H17 -> 0 | L17: =F17+J17+K17 -> 0 | M17: =IF(G17-J17<0,"동의필요","-") -> - | R17: =IF((G17+H17)=(P17+Q17),"ok","검토") -> ok | U17: 1000000
F18: =SUM(F19:F22) -> 0 | G18: =SUM(G19:G22) -> 0 | H18: =SUM(H19:H22) -> 0 | I18: =SUM(I19:I22) -> 0 | T18: =SUM(T19:T22) -> -100000 | U18: =SUM(U19:U22) -> 1000000
I19: =F19+G19+H19 -> 0 | L19: =F19+J19+K19 -> 0 | M19: =IF(G19-J19<0,"동의필요","-") -> - | R19: =IF((G19+H19)=(P19+Q19),"ok","검토") -> ok
I20: =F20+G20+H20 -> 0 | L20: =F20+J20+K20 -> 0 | M20: =IF(G20-J20<0,"동의필요","-") -> - | R20: =IF((G20+H20)=(P20+Q20),"ok","검토") -> ok
I21: =F21+G21+H21 -> 0 | L21: =F21+J21+K21 -> 0 | M21: =IF(G21-J21<0,"동의필요","-") -> - | R21: =IF((G21+H21)=(P21+Q21),"ok","검토") -> ok | T21: -100000
I22: =F22+G22+H22 -> 0 | L22: =F22+J22+K22 -> 0 | M22: =IF(G22-J22<0,"동의필요","-") -> - | R22: =IF((G22+H22)=(P22+Q22),"ok","검토") -> ok | U22: 1000000

Sheet 표지(기특)
B5: 2014년도 기타특별회계 계획안
B7: 예결위 계수조정 결과
B33: 예산결산특별위원회

Sheet 기특입출
A1: 2014년도 경기도 기타특별회계 계획안 예결위 조정(안)
A2: □ 기타특별회게수입
H3: =G6+H6 -> 0 | N3: (단위 : 천원)
A4: 위원회 | C4: 예산안 페이지 | D4: 부서명 | E4: 사업명 | F4: 예산안 (가) | G4: 상임위 예산안 조정액(라) | I4: 상임위 수정 예산안 (마=가+라) | J4: 예결위 예산안 조정액(마) | L4: 예결위 수정 예산안 (바=가+마) | M4: 동의 대상 | N4: 비 고 | O4: 재원 | P4: 상임위 재원별 증감액 | T4: 상임위 조정액 | V4: 비 고
G5: 감액 | H5: 증액 | J5: 감액 | K5: 증액 | P5: 국비 등 | Q5: 도 비 | R5: 검 증 | T5: 감액 | U5: 증액
B6: 합 계 | F6: =F7 -> 118063889 | G6: =G7 -> 0 | H6: =H7 -> 0 | I6: =I7 -> 118063889 | J6: =J7 -> -10000000 | K6: =K7 -> 0 | L6: =L7 -> 108063889 | M6: =M7 -> 0 | P6: =P7 -> 0 | Q6: =Q7 -> 0 | R6: =IF((G6+H6)=(P6+Q6),"ok","검토") -> ok
A7: 보건복지공보위원회 | F7: =F8 -> 118063889 | G7: =G8 -> 0 | H7: =H8 -> 0 | I7: =I8 -> 118063889 | J7: =J8 -> -10000000 | K7: =K8 -> 0 | L7: =L8 -> 108063889 | M7: =M8 -> 0 | P7: =P8 -> 0 | Q7: =Q8 -> 0 | R7: =IF((G7+H7)=(P7+Q7),"ok","검토") -> ok | T7: =T8+#REF! -> #REF! | U7: =U8+#REF! -> #REF!
B8: 보건복지국 | E8: 의료급여기금 | F8: =SUM(F9:F9) -> 118063889 | G8: =SUM(G9:G9) -> 0 | H8: =SUM(H9:H9) -> 0 | I8: =SUM(I9:I9) -> 118063889 | J8: =SUM(J9:J9) -> -10000000 | K8: =SUM(K9:K9) -> 0 | L8: =SUM(L9:L9) -> 108063889 | M8: =SUM(M9:M9) -> 0 | ... Q8: =SUM(Q9:Q9) -> 0 | R8: =IF((G8+H8)=(P8+Q8),"ok","검토") -> ok | T8: =SUM(T9:T9) -> 0 | U8: =SUM(U9:U9) -> 0
C9: 861 | D9: 복지정책과 | E9: 의료급여 도비부담금 | F9: 118063889 | I9: =F9+G9+H9 -> 118063889 | J9: -10000000 | K9: 0 | L9: =F9+J9+K9 -> 108063889 | M9: =IF(G9-J9<0,"동의필요","-") -> - | R9: =IF((G9+H9)=(P9+Q9),"ok","검토") -> ok
A11: □ 기타특별회계지출
H12: =G15+H15 -> 0 | N12: (단위 : 천원)
A13: 위원회 | C13: 예산안 페이지 | D13: 부서명 | E13: 사업명 | F13: 예산안 (가) | G13: 상임위 예산안 조정액(라) | I13: 상임위 수정 예산안 (마=가+라) | J13: 예결위 예산안 조정액(마) | L13: 예결위 수정 예산안 (바=가+마) | M13: 동의 대상 | N13: 비 고 | O13: 재원 | P13: 상임위 재원별 증감액 | T13: 상임위 조정액 | V13: 비 고
G14: 감액 | H14: 증액 | J14: 감액 | K14: 증액 | P14: 국비 등 | Q14: 도 비 | R14: 검 증 | T14: 감액 | U14: 증액
B15: 합 계 | F15: =SUM(F16:F18)/3 -> 824639858 | G15: =SUM(G16:G18)/3 -> 0 | H15: =SUM(H16:H18)/3 -> 0 | I15: =SUM(I16:I18)/3 -> 824639858 | J15: =SUM(J16:J18)/3 -> -10000000 | K15: =SUM(K16:K18)/3 -> 0 | L15: =SUM(L16:L18)/3 -> 814639858 | M15: =M16 -> 0 | P15: =P16 -> 0 | Q15: =Q16 -> -10000000 | R15: =IF((G15+H15)=(P15+Q15),"ok","검토") -> 검토
A16: 보건복지공보위원회 | F16: =F17 -> 824639858 | G16: =G17 -> 0 | H16: =H17 -> 0 | I16: =I17 -> 824639858 | J16: =J17 -> -10000000 | K16: =K17 -> 0 | L16: =L17 -> 814639858 | M16: =M17 -> 0 | P16: =P17 -> 0 | Q16: =Q17 -> -10000000 | R16: =IF((G16+H16)=(P16+Q16),"ok","검토") -> 검토 | S16: =S17 -> 0 | T16: =T17 -> 0 | U16: =U17 -> 0 | V16: =V17 -> 0
B17: 보건복지국 | E17: 중소기업육성기금(운전자금) | F17: =SUM(F18:F18) -> 824639858 | G17: =SUM(G18:G18) -> 0 | H17: =SUM(H18:H18) -> 0 | I17: =SUM(I18:I18) -> 824639858 | J17: =SUM(J18:J18) -> -10000000 | K17: =SUM(K18:K18) -> 0 | L17: =SUM(L18:L18) -> 814639858 | M17: =SUM(M18:M18) -> 0 | P17: =SUM(P18:P18) -> 0 | Q17: =SUM(Q18:Q18) -> -10000000 | R17: =IF((G17+H17)=(P17+Q17),"ok","검토") -> 검토 | S17: =SUM(S18:S18) -> 0 | T17: =SUM(T18:T18) -> 0 | U17: =SUM(U18:U18) -> 0 | V17: =SUM(V18:V18) -> 0
C18: 862 | D18: 복지정책과 | E18: 의료급여(국비/직접) - 의료급여수급권자 진료비 및 건강생활비 | F18: 824639858 | G18: 0 | I18: =F18+G18+H18 -> 824639858 | J18: -10000000 | L18: =F18+J18+K18 -> 814639858 | M18: =IF(G18-J18<0,"동의필요","-") -> - | N18: 도비감액 | Q18: =J18 -> -10000000 | R18: =IF((G18+H18)=(P18+Q18),"ok","검토") -> 검토

Sheet 표지(기)
B5: 2014년도 기금운용계획안
B7: 예결위 계수조정 결과
B33: 예산결산특별위원회

Sheet 기입출
A1: 2014년도 경기도 기금운용계획안 예결위 조정(안)
A2: □ 기금수입
H3: =G6+H6 -> 15000000 | N3: (단위 : 천원)
A4: 위원회 | C4: 예산안 페이지 | D4: 부서명 | E4: 사업명 | F4: 예산안 (가) | G4: 상임위 예산안 조정액(라) | I4: 상임위 수정 예산안 (마=가+라) | J4: 예결위 예산안 조정액(마) | L4: 예결위 수정 예산안 (바=가+마) | M4: 동의 대상 | N4: 비 고 | O4: 재원 | P4: 상임위 재원별 증감액 | T4: 상임위 조정액 | V4: 비 고
G5: 감액 | H5: 증액 | J5: 감액 | K5: 증액 | P5: 국비 등 | Q5: 도 비 | R5: 검 증 | T5: 감액 | U5: 증액
B6: 합 계 | F6: =F7 -> 35000000 | G6: =G7 -> 0 | H6: =H7 -> 15000000 | I6: =I7 -> 50000000 | J6: =J7 -> 0 | K6: =K7 -> 0 | L6: =L7 -> 35000000 | M6: =M7 -> 0 | P6: =P7 -> 0 | Q6: =Q7 -> 15000000 | R6: =IF((G6+H6)=(P6+Q6),"ok","검토") -> ok
A7: 경제과학기술위원회 | F7: =F8 -> 35000000 | G7: =G8 -> 0 | H7: =H8 -> 15000000 | I7: =I8 -> 50000000 | J7: =J8 -> 0 | K7: =K8 -> 0 | L7: =L8 -> 35000000 | M7: =M8 -> 0 | P7: =P8 -> 0 | Q7: =Q8 -> 15000000 | R7: =IF((G7+H7)=(P7+Q7),"ok","검토") -> ok | T7: =T8+#REF! -> #REF! | U7: =U8+#REF! -> #REF!
B8: 경제투자실 | E8: 중소기업육성기금(운전자금) | F8: =SUM(F9:F9) -> 35000000 | G8: =SUM(G9:G9) -> 0 | H8: =SUM(H9:H9) -> 15000000 | I8: =SUM(I9:I9) -> 50000000 | J8: =SUM(J9:J9) -> 0 | K8: =SUM(K9:K9) -> 0 | L8: =SUM(L9:L9) -> 35000000 | M8: =SUM(M9:M9) -> 0 | ... Q8: =SUM(Q9:Q9) -> 15000000 | R8: =IF((G8+H8)=(P8+Q8),"ok","검토") -> ok | T8: =SUM(T9:T9) -> 0 | U8: =SUM(U9:U9) -> 0
C9: 44 | D9: 기업지원1과 | E9: 예탁금상환금 | F9: 35000000 | H9: 15000000 | I9: =F9+G9+H9 -> 50000000 | K9: 0 | L9: =F9+J9+K9 -> 35000000 | M9: =IF(G9-J9<0,"동의필요","-") -> - | N9: 2014년 추경에 150억 반영 | O9: 기금 | Q9: 15000000 | R9: =IF((G9+H9)=(P9+Q9),"ok","검토") -> ok
A11: □ 기금지출
H12: =G15+H15 -> 15000000 | N12: (단위 : 천원)
A13: 위원회 | C13: 예산안 페이지 | D13: 부서명 | E13: 사업명 | F13: 예산안 (가) | G13: 상임위 예산안 조정액(라) | I13: 상임위 수정 예산안 (마=가+라) | J13: 예결위 예산안 조정액(마) | L13: 예결위 수정 예산안 (바=가+마) | M13: 동의 대상 | N13: 비 고 | O13: 재원 | P13: 상임위 재원별 증감액 | T13: 상임위 조정액 | V13: 비 고
G14: 감액 | H14: 증액 | J14: 감액 | K14: 증액 | P14: 국비 등 | Q14: 도 비 | R14: 검 증 | T14: 감액 | U14: 증액
B15: 합 계 | F15: =F16+F19 -> 28926816 | G15: =G16+G19 -> -380000 | H15: =H16+H19 -> 15380000 | I15: =I16+I19 -> 43926816 | J15: =J16+J19 -> -380000 | K15: =K16+K19 -> 380000 | L15: =L16+L19 -> 28926816 | M15: =M16 -> 0 | P15: =P16 -> 0 | Q15: =Q16 -> 15000000 | R15: =IF((G15+H15)=(P15+Q15),"ok","검토") -> ok
A16: 경제과학기술위원회 | F16: =F17 -> 27326816 | G16: =G17 -> 0 | H16: =H17 -> 15000000 | I16: =I17 -> 42326816 | J16: =J17 -> 0 | K16: =K17 -> 0 | L16: =L17 -> 27326816 | M16: =M17 -> 0 | P16: =P17 -> 0 | Q16: =Q17 -> 15000000 | R16: =IF((G16+H16)=(P16+Q16),"ok","검토") -> ok | S16: =S17 -> 0 | T16: =T17 -> 0 | U16: =U17 -> 0 | V16: =V17 -> 0
B17: 경제투자실 | E17: 중소기업육성기금(운전자금) | F17: =SUM(F18:F18) -> 27326816 | G17: =SUM(G18:G18) -> 0 | H17: =SUM(H18:H18) -> 15000000 | I17: =SUM(I18:I18) -> 42326816 | J17: =SUM(J18:J18) -> 0 | K17: =SUM(K18:K18) -> 0 | L17: =SUM(L18:L18) -> 27326816 | M17: =SUM(M18:M18) -> 0 | P17: =SUM(P18:P18) -> 0 | Q17: =SUM(Q18:Q18) -> 15000000 | R17: =IF((G17+H17)=(P17+Q17),"ok","검토") -> ok | S17: =SUM(S18:S18) -> 0 | T17: =SUM(T18:T18) -> 0 | U17: =SUM(U18:U18) -> 0 | V17: =SUM(V18:V18) -> 0
C18: 44 | D18: 기업지원1과 | E18: 예치금 | F18: 27326816 | G18: 0 | H18: 15000000 | I18: =F18+G18+H18 -> 42326816 | L18: =F18+J18+K18 -> 27326816 | M18: =IF(G18-J18<0,"동의필요","-") -> - | O18: 기금 | Q18: 15000000 | R18: =IF((G18+H18)=(P18+Q18),"ok","검토") -> ok
A19: 문화체육관광위원회 | F19: =F20 -> 1600000 | G19: =G20 -> -380000 | H19: =H20 -> 380000 | I19: =I20 -> 1600000 | J19: =J20 -> -380000 | K19: =K20 -> 380000 | L19: =L20 -> 1600000 | M19: =M20 -> 0 | P19: =P20 -> 0 | Q19: =Q20 -> 0 | R19: =IF((G19+H19)=(P19+Q19),"ok","검토") -> ok | S19: =S20 -> 0 | T19: =T20 -> -100000 | U19: =U20 -> 1000000 | V19: =V20 -> 0
B20: 문화체육관광국 | E20: 체육진흥기금 | F20: =SUM(F21:F31) -> 1600000 | G20: =SUM(G21:G31) -> -380000 | H20: =SUM(H21:H31) -> 380000 | I20: =SUM(I21:I31) -> 1600000 | J20: =SUM(J21:J31) -> -380000 | K20: =SUM(K21:K31) -> 380000 | L20: =SUM(L21:L31) -> 1600000 | R20: =IF((G20+H20)=(P20+Q20),"ok","검토") -> ok | T20: =SUM(T21:T25) -> -100000 | U20: =SUM(U21:U25) -> 1000000
C21: 84 | D21: 체육과 | E21: 시군직장운동부 창단 지원 | F21: 370000 | G21: -70000 | I21: =F21+G21+H21 -> 300000 | J21: -70000 | L21: =F21+J21+K21 -> 300000 | M21: =IF(G21-J21<0,"동의필요","-") -> - | N21: - 사업명 변경 우수 엘리트체육인 경쟁력 지원 | O21: 기금 | Q21: -110000 | R21: =IF((G21+H21)=(P21+Q21),"ok","검토") -> 검토
C22: 84 | D22: 체육과 | E22: 경기도 종합사격장 시설 개선 | F22: 400000 | G22: -100000 | I22: =F22+G22+H22 -> 300000 | J22: -100000 | L22: =F22+J22+K22 -> 300000 | M22: =IF(G22-J22<0,"동의필요","-") -> - | O22: 기금 | Q22: -100000 | R22: =IF((G22+H22)=(P22+Q22),"ok","검토") -> ok
C23: 84 | D23: 체육과 | E23: 장애인체육 직장운동부 운영지원 | F23: 300000 | I23: =F23+G23+H23 -> 300000 | L23: =F23+J23+K23 -> 300000 | M23: =IF(G23-J23<0,"동의필요","-") -> - | O23: 기금 | R23: =IF((G23+H23)=(P23+Q23),"ok","검토") -> ok | T23: -100000
C24: 84 | D24: 체육과 | E24: 생활체육지도자 지도역량 강화 | F24: 100000 | H24: 40000 | I24: =F24+G24+H24 -> 140000 | K24: 40000 | L24: =F24+J24+K24 -> 140000 | M24: =IF(G24-J24<0,"동의필요","-") -> - | N24: - 사업명 변경 찾아가는생활체육 현장지도 활동강화 | O24: 기금 | Q24: 40000 | R24: =IF((G24+H24)=(P24+Q24),"ok","검토") -> ok | U24: 1000000
C25: 84 | D25: 체육과 | E25: 생활체육 콘텐츠 개발 및 활용 | F25: 30000 | G25: -30000 | I25: =F25+G25+H25 -> 0 | J25: -30000 | L25: =F25+J25+K25 -> 0 | M25: =IF(G25-J25<0,"동의필요","-") -> - | O25: 기금 | Q25: -30000 | R25: =IF((G25+H25)=(P25+Q25),"ok","검토") -> ok
C26: 84 | D26: 체육과 | E26: 생애주기별 생활체육 프로그램 개발 및 보급 | F26: 180000 | G26: -180000 | I26: =F26+G26+H26 -> 0 | J26: -180000 | L26: =F26+J26+K26 -> 0 | M26: =IF(G26-J26<0,"동의필요","-") -> - | O26: 기금 | Q26: -180000 | R26: =IF((G26+H26)=(P26+Q26),"ok","검토") -> ok
C27: 84 | D27: 체육과 | E27: 스포츠재능나눔체육복지 추진 | F27: 140000 | H27: 20000 | I27: =F27+G27+H27 -> 160000 | K27: 20000 | L27: =F27+J27+K27 -> 160000 | M27: =IF(G27-J27<0,"동의필요","-") -> - | O27: 기금 | Q27: 20000 | R27: =IF((G27+H27)=(P27+Q27),"ok","검토") -> ok
C28: 84 | D28: 체육과 | E28: 스포츠용품 박람회 참가 지원 | F28: 80000 | I28: =F28+G28+H28 -> 80000 | L28: =F28+J28+K28 -> 80000 | M28: =IF(G28-J28<0,"동의필요","-") -> - | N28: - 사업명 변경 스포츠용품 전시회 참가 지원 | O28: 기금 | R28: =IF((G28+H28)=(P28+Q28),"ok","검토") -> ok
C29: 추가 | D29: 체육과 | E29: 경기도대표스포츠이벤트발굴 및 운영 | H29: 150000 | I29: =F29+G29+H29 -> 150000 | K29: 150000 | L29: =F29+J29+K29 -> 150000 | M29: =IF(G29-J29<0,"동의필요","-") -> - | O29: 기금 | Q29: 200000 | R29: =IF((G29+H29)=(P29+Q29),"ok","검토") -> 검토
C30: 추가 | D30: 체육과 | E30: 공공기관 인프라활용 수익창출 프로그램개발 | H30: 20000 | I30: =F30+G30+H30 -> 20000 | K30: 20000 | L30: =F30+J30+K30 -> 20000 | M30: =IF(G30-J30<0,"동의필요","-") -> - | O30: 기금 | Q30: 20000 | R30: =IF((G30+H30)=(P30+Q30),"ok","검토") -> ok
C31: 추가 | D31: 체육과 | E31: 지역사회체육역량강화프로그램지원 | H31: 150000 | I31: =F31+G31+H31 -> 150000 | K31: 150000 | L31: =F31+J31+K31 -> 150000 | M31: =IF(G31-J31<0,"동의필요","-") -> - | O31: 기금 | Q31: 140000 | R31: =IF((G31+H31)=(P31+Q31),"ok","검토") -> 검토

Sheet 표지(중기)
B5: 2013~2017 중기지방재정계획안
B7: 예결위 계수조정 결과
B33: 예산결산특별위원회

Sheet 중기재정
B2: 중기지방재정계획 예결위 수정(안)
B4: □ 정정내용 : 2013~2017 중기지방재정계획 150쪽
B6: 구 분 | C6: 소계 | D6: 2013 | E6: 2014 | F6: 2015 | G6: 2016 | H6: 2017 | I6: 비고
B7: 예산안 | C7: 1922518 | D7: 59672 | E7: 59850 | F7: 600283 | G7: 600462 | H7: 602251
B8: 상임위안 | C8: 300908 | D8: 59672 | E8: 59850 | F8: 60283 | G8: 60462 | H8: 60641
B9: 예결위안 | C9: 300908 | D9: 59672 | E9: 59850 | F9: 60283 | G9: 60462 | H9: 60641

Sheet 추 표지
B5: 2013년도 제2회 일반회계 및 특별회계 추가경정 세입·세출 예산안
B7: 예결위 계수조정 결과
B33: 예산결산특별위원회

Sheet 총괄표
B1: '13년도 제2회 추경 일반 및 특별회계 세입·세출 예산 수정안[전체예산총괄]
B3: □ 총 괄
H4: (단위:천원) | M4: (일반+특별+기금) | O4: 특별+기금
B5: 구 분 | C5: 집행부제출(안) | D5: 세입예산(안) | F5: 세출예산(안) | H5: 예산수정(안) | I5: 일반회계 증감(총괄표) | K5: 예비비증감 | L5: 비 고 | M5: 전체 증감(시트) | O5: 비고
D6: 감 액 | E6: 증 액 | F6: 감 액 | G6: 증 액 | I6: 세입 | J6: 세출 | M6: 세입 | N6: 세출
B7: 합 계 | C7: =SUM(C8:C18) -> 16221327381 | D7: =SUM(D8:D18) -> -29472439 | E7: =SUM(E8:E18) -> 23408965 | F7: =SUM(F8:F18) -> -65746706 | G7: =SUM(G8:G18) -> 59683232 | H7: =SUM(H8:H18) -> 16215263907 | I7: =E25+D25 -> -6063474 | J7: =F25+G25 -> -6063474 | K7: =I7-J7 -> 0 | L7: 예비비 증감이 - 예산이면 감액에 + 예산이면 증액에 입력 | M7: =D24+E24 -> -6063474 | N7: =F24+G24 -> -6063474 | O7: 0 | P7: ='[1]13년 1회추경(세출)_기금'!H7+'[1]13년 1회추경(세출)_기금'!I7 -> 0
