Workbook

Sheet 추가
A1: 2014년도 경기도 일반회계 세출 예산 예결위 수정(안)
A2: □세출예산
H3: =SUM(G6:H6) -> 0 | K3: =SUM(J6:K6) -> 4243336 | M3: (단위 : 천원)
A4: 위원회 | C4: 예산안 페이지 | D4: 부서명 | E4: 사업명 | F4: 예산안 (가) | G4: 상임위 예산안 조정액(라) | I4: 상임위 수정 예산안 (마=가+라) | J4: 예결위 예산안 조정액(마) | L4: 예결위 수정 예산안 (바=가+마) | M4: 비 고
G5: 감액 | H5: 증액 | J5: 감액 | K5: 증액
B6: 합 계 | F6: =SUM(F7:F1004) -> 3612129 | G6: =SUM(G7:G1004) -> 0 | H6: =SUM(H7:H1004) -> 0 | I6: =SUM(I7:I1004) -> 3612129 | J6: =SUM(J7:J1004) -> 0 | K6: =SUM(K7:K1004) -> 4243336 | L6: =SUM(L7:L1004) -> 7855465
C7: 78 | D7: 노인복지과 | E7: 시니어클럽운영 노인일자리 활성화 | F7: 252000 | I7: =F7+G7+H7 -> 252000 | K7: 63000 | L7: =F7+J7+K7 -> 315000
C8: 추가 | D8: 대중교통과 | E8: 시외버스터미널 기능보강 | I8: =F8+G8+H8 -> 0 | K8: 50000 | L8: =F8+J8+K8 -> 50000
C9: 50 | D9: 군관협력 | E9: 한미협력사업 | F9: 222500 | I9: =F9+G9+H9 -> 222500 | K9: 150000 | L9: =F9+J9+K9 -> 372500
C10: 설명서 65 | D10: 해양항만정책과 | E10: 평택항 홍보관운영 | F10: 500000 | I10: =F10+G10+H10 -> 500000 | K10: 100000 | L10: =F10+J10+K10 -> 600000
C11: 설명서 66 | D11: 해양항만경제과 | E11: 화물유치 인센티브 | F11: 474224 | I11: =F11+G11+H11 -> 474224 | K11: 200000 | L11: =F11+J11+K11 -> 674224
C12: 22 | D12: 교육정책과 | E12: 경기행복학습만들기 | F12: 130000 | I12: =F12+G12+H12 -> 130000 | K12: 100000 | L12: =F12+J12+K12 -> 230000
C13: 762 | D13: 건강증진과 | E13: 여성결혼이민자 건강검진사업 | F13: 150000 | I13: =F13+G13+H13 -> 150000 | K13: 100000 | L13: =F13+J13+K13 -> 250000
C14: 77 | D14: 균형발전국 | E14: 노동단체지원(북부) | F14: 210000 | I14: =F14+G14+H14 -> 210000 | K14: 40000 | L14: =F14+J14+K14 -> 250000
C15: 1220 | D15: 평생교육국 | E15: 작은도서관운영지원 | F15: 298000 | I15: =F15+G15+H15 -> 298000 | K15: 100000 | L15: =F15+J15+K15 -> 398000
C16: 설명서 73 | D16: 의정담당관 | E16: 속기사 근무복 구입 | F16: 4800 | I16: =F16+G16+H16 -> 4800 | K16: 1200 | L16: =F16+J16+K16 -> 6000
C17: 466 | D17: 문화유산과 | E17: 도지정문화재보수정비 | F17: 477105 | I17: =F17+G17+H17 -> 477105 | K17: 200000 | L17: =F17+J17+K17 -> 677105
C18: 259 | D18: 보건정책과 | E18: 헌혈활동 장려지원 | F18: 20000 | I18: =F18+G18+H18 -> 20000 | K18: 10000 | L18: =F18+J18+K18 -> 30000
C19: 1120 | D19: 특수보육과 | E19: 정부지원 어린이집 교재교구비 지원 | I19: =F19+G19+H19 -> 0 | K19: 150000 | L19: =F19+J19+K19 -> 150000
C20: 추가 | D20: 화성소방서 | E20: 소방청사 보강 및 직원복지 시설확충 | I20: =F20+G20+H20 -> 0 | K20: 153000 | L20: =F20+J20+K20 -> 153000
E21: 78번도로 | I21: =F21+G21+H21 -> 0 | K21: 500000 | L21: =F21+J21+K21 -> 500000
D22: 평생교육국 | E22: 사이버도서관 운영 | I22: =F22+G22+H22 -> 0 | K22: 90000 | L22: =F22+J22+K22 -> 90000
C23: 27 | D23: 교육정책과 | E23: 경기도청 평생학습 Gold Triangle 프로젝트 | F23: 500000 | I23: =F23+G23+H23 -> 500000 | K23: 100000 | L23: =F23+J23+K23 -> 600000
C24: 1217 | D24: 도서관과 | E24: 공공도서관건립지원 광특(금암도서관건립) | I24: =F24+G24+H24 -> 0 | K24: 500000 | L24: =F24+J24+K24 -> 500000
D25: 아동청소년과 | E25: 아동복지시설운영- 꿈나무아동종합상담소운영 | I25: =F25+G25+H25 -> 0 | K25: 70000 | L25: =F25+J25+K25 -> 70000
D26: 도시재생과 | E26: 재정비사업 추정분담금 프로그램 홍보 | I26: =F26+G26+H26 -> 0 | K26: 40000 | L26: =F26+J26+K26 -> 40000
D27: 체육과 | E27: 도생활체육지도자 배치 | I27: =F27+G27+H27 -> 0 | K27: 11136 | L27: =F27+J27+K27 -> 11136
D28: 평생교육진흥원 | E28: 출연금 | I28: =F28+G28+H28 -> 0 | K28: 150000 | L28: =F28+J28+K28 -> 150000
D29: 평생교육진흥원 | E29: 출연금 | I29: =F29+G29+H29 -> 0 | K29: 100000 | L29: =F29+J29+K29 -> 100000
D30: 문화산업과 | E30: 경기콘텐츠진흥원 영상위원회 DMZ 영화제 | I30: =F30+G30+H30 -> 0 | K30: 200000 | L30: =F30+J30+K30 -> 200000
D31: 체육과 | E31: 2014 전국체전 강화훈련 장비(기자재)지원 | I31: =F31+G31+H31 -> 0 | K31: 150000 | L31: =F31+J31+K31 -> 150000
C32: 1128 | D32: 여성가족과 | E32: 학교밖 청소년 지원 | F32: 77500 | I32: =F32+G32+H32 -> 77500 | K32: 50000 | L32: =F32+J32+K32 -> 127500
D33: 장애인복지과 | E33: 장애아단체 육성지원 | I33: =F33+G33+H33 -> 0 | K33: 20000 | L33: =F33+J33+K33 -> 20000
D34: 다문화과 | E34: 다문화센터지원 | I34: =F34+G34+H34 -> 0 | K34: 100000 | L34: =F34+J34+K34 -> 100000
D35: 보육정책과 | E35: 민간보육시설 환경개선 | I35: =F35+G35+H35 -> 0 | K35: 150000 | L35: =F35+J35+K35 -> 150000
C36: 630 | D36: 농업기술원 | E36: 자동화 식물생산시스템시험재료 | I36: =F36+G36+H36 -> 0 | K36: 50000 | L36: =F36+J36+K36 -> 50000
D37: 여성능력개발센터 | E37: 여성IT 전문직업훈련 | I37: =F37+G37+H37 -> 0 | K37: 60000 | L37: =F37+J37+K37 -> 60000
D38: 기업지원과 | E38: 제19회 경기도에너지 웅변대회 | I38: =F38+G38+H38 -> 0 | K38: 5000 | L38: =F38+J38+K38 -> 5000
C39: 768 | D39: 건강증진과 | E39: 장애인구강진료센터운영(국비/직접) | F39: 120000 | I39: =F39+G39+H39 -> 120000 | K39: 120000 | L39: =F39+J39+K39 -> 240000
C40: 760 | D40: 건강증진과 | E40: 취약계층 중장년 건강지원사업(자체/직첩) | F40: 16000 | I40: =F40+G40+H40 -> 16000 | K40: 100000 | L40: =F40+J40+K40 -> 116000
D41: 과학기술과 | E41: 경기과학정책연구사업지원 | I41: =F41+G41+H41 -> 0 | K41: 100000 | L41: =F41+J41+K41 -> 100000
C42: 15 | D42: 입법정책담당관 | E42: 의원연구단체별 정책연구용역 | F42: 160000 | I42: =F42+G42+H42 -> 160000 | K42: 160000 | L42: =F42+J42+K42 -> 320000
K43: .

Sheet 감액
A1: 2014년도 경기도 일반회계 세출 예산 예결위 수정(안)
A2: □세출예산
H3: =SUM(G6:H6) -> 0 | K3: =SUM(J6:K6) -> -4717000 | M3: (단위 : 천원)
A4: 위원회 | C4: 예산안 페이지 | D4: 부서명 | E4: 사업명 | F4: 예산안 (가) | G4: 상임위 예산안 조정액(라) | I4: 상임위 수정 예산안 (마=가+라) | J4: 예결위 예산안 조정액(마) | L4: 예결위 수정 예산안 (바=가+마) | M4: 비 고
G5: 감액 | H5: 증액 | J5: 감액 | K5: 증액
B6: 합 계 | F6: =SUM(F7:F973) -> 10142832 | G6: =SUM(G7:G973) -> 0 | H6: =SUM(H7:H973) -> 0 | I6: =SUM(I7:I973) -> 417000 | J6: =SUM(J7:J973) -> -4717000 | K6: =SUM(K7:K973) -> 0 | L6: =SUM(L7:L973) -> 5425832
C7: 87 | D7: 평가담당관 | E7: 간부공무원 역량평가 | F7: 287000 | I7: =F7+G7+H7 -> 287000 | J7: -287000 | L7: =F7+J7+K7 -> 0
C8: 783 | D8: 대변인 | E8: 경기도대학생기자단운영(자체/지원) | F8: 130000 | I8: =F8+G8+H8 -> 130000 | J8: -130000 | L8: =F8+J8+K8 -> 0
C9: 429 | D9: 역량개발지원과 | E9: 수입대체경비활용사업(자체/직접) | F9: 3925832 | J9: -700000 | L9: =F9+J9+K9 -> 3225832
D10: 대변인 | E10: 도정여론조사 | F10: 200000 | J10: -100000 | L10: =F10+J10+K10 -> 100000
D11: 도로건설과 | E11: 구양수대교재가설공사 | F11: 5600000 | J11: -3500000 | L11: =F11+J11+K11 -> 2100000
K12: .

Sheet 표지
B5: 2014년도 일반회계 및 특별회계 세입·세출 예산안
B7: 예결위 계수조정 결과
B33: 예산결산특별위원회

Sheet 총괄표 
B1: 2014년도 경기도 일반 및 특별회계 세입·세출 예산 수정안[전체 예산 총괄]
B3: □ 총 괄
D4: 세입 증감액 | F4: 세출 증감액 | H4: (단위:천원) | M4: (일반+특별+기금) | O4: 특별+기금
B5: 구 분 | C5: 집행부제출(안) | D5: 세입예산(안) | F5: 세출예산(안) | H5: 예산수정(안) | I5: 일반회계 증감(총괄표) | K5: 예비비증감 | L5: 비 고 | M5: 전체 증감(시트) | O5: 비고
D6: 감 액 | E6: 증 액 | F6: 감 액 | G6: 증 액 | I6: 세입 | J6: 세출 | M6: 세입 | N6: 세출
B7: 합 계 | C7: =SUM(C8:C18) -> 15998797261 | D7: =SUM(D8:D18) -> -11496131 | E7: =SUM(E8:E18) -> 3293928 | F7: =SUM(F8:F18) -> -156386988 | G7: =SUM(G8:G18) -> 148184785 | H7: =SUM(H8:H18) -> 15990595058 | I7: =D25+E25 -> 1797797 | J7: =F25+G25 -> 1797797 | K7: =I7-J7 -> 0 | L7: 예비비 증감이 - 예산이면 감액에 + 예산이면 증액에 입력
B8: 기 타 | C8: 0 | H8: =C8-F8+G8 -> 0 | I8: =D7+E7 -> -8202203 | J8: =F7+G7 -> -8202203 | K8: =I8-J8 -> 0
B9: 운 영 위 | C9: 28464169 | D9: =SUMIF(일입!$A$7:$A$49,"의회운영위원회",일입!$J$6:$J$49) -> 0 | E9: =SUMIF(일입!$A$7:$A$49,"의회운영위원회",일입!$K$6:$K$49) -> 0 | F9: =SUMIF(일출!$A$7:$A$93,"의회운영위원회",일출!$J$7:$J$597) -> -92000 | G9: =SUMIF(일출!$A$7:$A$93,"의회운영위원회",일출!$K$7:$K$597) -> 1298060 | H9: =C9+F9+G9 -> 29670229 | I9: 일반회계 증감(시트) | N9: 전체 증감
B10: 기 획 위 | C10: 4357973500 | D10: =SUMIF(일입!$A$7:$A$49,"기획재정위원회",일입!$J$7:$J$49) -> -255093 | E10: =SUMIF(일입!$A$7:$A$49,"기획재정위원회",일입!$K$7:$K$49) -> 0 | F10: =SUMIF(일출!$A$7:$A$93,"기획재정위원회",일출!$J$7:$J$597) -> -110315093 | G10: =SUMIF(일출!$A$7:$A$93,"기획재정위원회",일출!$K$7:$K$597) -> 51665157 | H10: =C10+F10+G10 -> 4299323564 | I10: =일입!J6+일입!K6 -> 1797797 | J10: =일출!J6+일출!K6 -> 1797797 | N10: =M7-N7 -> 0
B11: 경 제 위 | C11: 533838788 | D11: =SUMIF(일입!$A$7:$A$49,"경제과학기술위원회",일입!$J$7:$J$49) -> 0 | E11: =SUMIF(일입!$A$7:$A$49,"경제과학기술위원회",일입!$K$7:$K$49) -> 0 | F11: =SUMIF(일출!$A$7:$A$93,"경제과학기술위원회",일출!$J$7:$J$597) -> -2331000 | G11: =SUMIF(일출!$A$7:$A$93,"경제과학기술위원회",일출!$K$7:$K$597) -> 12386446 | H11: =C11+F11+G11 -> 543894234
B12: 행 정 위 | C12: 1081293870 | D12: =SUMIF(일입!$A$7:$A$49,"행정자치위원회",일입!$J$7:$J$49) -> -35000 | E12: =SUMIF(일입!$A$7:$A$49,"행정자치위원회",일입!$K$7:$K$49) -> 884256 | F12: =SUMIF(일출!$A$7:$A$597,"행정자치위원회",일출!J7:J597) -> -121900 | G12: =SUMIF(일출!$A$7:$A$597,"행정자치위원회",일출!K7:K597) -> 10641222 | H12: =C12+F12+G12 -> 1091813192
B13: 문 광 위 | C13: 242843715 | D13: =SUMIF(일입!$A$7:$A$49,"문화체육관광위원회",일입!$J$7:$J$49) -> 0 | E13: =SUMIF(일입!$A$7:$A$49,"문화체육관광위원회",일입!$K$7:$K$49) -> 473388 | F13: =SUMIF(일출!$A$7:$A$597,"문화체육관광위원회",일출!J8:J598) -> -1111000 | G13: =SUMIF(일출!$A$7:$A$597,"문화체육관광위원회",일출!K8:K598) -> 5734136 | H13: =C13+F13+G13 -> 247466851 | N13: 기금
B14: 농 림 위 | C14: 401166483 | D14: =SUMIF(일입!$A$7:$A$49,"농림수산위원회",일입!$J$7:$J$49) -> -594638 | E14: =SUMIF(일입!$A$7:$A$49,"농림수산위원회",일입!$K$7:$K$49) -> 1172304 | F14: =SUMIF(일출!$A$7:$A$597,"농림수산위원회",일출!$J$7:$J$597) -> -3045424 | G14: =SUMIF(일출!$A$7:$A$597,"농림수산위원회",일출!$K$7:$K$597) -> 18770600 | H14: =C14+F14+G14 -> 416891659 | N14: =N10-J24 -> 0
B15: 복 지 위 | C15: 3203996030 | D15: =SUMIF(일입!$A$7:$A$49,"보건복지공보위원회",일입!$J$7:$J$49)+기특입출!J6 -> -10611400 | E15: =SUMIF(일입!$A$7:$A$49,"보건복지공보위원회",일입!$K$7:$K$49)+기특입출!K6 -> 32980 | F15: =SUMIF(일출!$A$7:$A$597,"보건복지공보위원회",일출!$J$7:$J$597)+기특입출!J15 -> -24120900 | G15: =SUMIF(일출!$A$7:$A$597,"보건복지공보위원회",일출!$K$7:$K$597)+기특입출!K15 -> 4907253 | H15: =C15+F15+G15 -> 3184782383
B16: 건 설 위 | C16: 1047622259 | D16: =SUMIF(일입!$A$7:$A$49,"건설교통위원회",일입!$J$7:$J$49) -> 0 | E16: =SUMIF(일입!$A$7:$A$49,"건설교통위원회",일입!$K$7:$K$49) -> 0 | F16: =SUMIF(일출!$A$7:$A$597,"건설교통위원회",일출!$J$7:$J$597) -> -13957551 | G16: =SUMIF(일출!$A$7:$A$597,"건설교통위원회",일출!$K$7:$K$597) -> 16618000 | H16: =C16+F16+G16 -> 1050282708
B17: 도 시 위 | C17: 782773870 | D17: =SUMIF(일입!$A$7:$A$49,"도시환경위원회",일입!$J$7:$J$49) -> 0 | E17: =SUMIF(일입!$A$7:$A$49,"도시환경위원회",일입!$K$7:$K$49) -> 0 | F17: =SUMIF(일출!$A$7:$A$597,"도시환경위원회",일출!J7:J597) -> -554620 | G17: =SUMIF(일출!$A$7:$A$597,"도시환경위원회",일출!K7:K597) -> 8726390 | H17: =C17+F17+G17 -> 790945640
B18: 여가평위 | C18: 4318824577 | D18: =SUMIF(일입!$A$7:$A$49,"여성가족평생교육위원회",일입!$J$7:$J$49) -> 0 | E18: =SUMIF(일입!$A$7:$A$49,"여성가족평생교육위원회",일입!$K$7:$K$49) -> 731000 | F18: =SUMIF(일출!$A$7:$A$597,"여성가족평생교육위원회",일출!$J$7:$J$597) -> -737500 | G18: =SUMIF(일출!$A$7:$A$597,"여성가족평생교육위원회",일출!$K$7:$K$597) -> 17437521 | H18: =C18+F18+G18 -> 4335524598
B20: □ 회계별 예산총규모
H21: (단위:천원)
B22: 구 분 | C22: 세출예산액 (집행부제출 안) | D22: 세입예산(안) | F22: 세출예산(안) | H22: 예산수정(안)
D23: 감 액 | E23: 증 액 | F23: 감 액 | G23: 증 액 | I23: 세입기준 수정예산안
B24: 합 계 | C24: =SUM(C25:C26) -> 15998797261 | D24: =SUM(D25:D26) -> -11496131 | E24: =SUM(E25:E26) -> 3293928 | F24: =SUM(F25:F26) -> -156386988 | G24: =SUM(G25:G26) -> 148184785 | H24: =SUM(H25:H26) -> 15990595058 | I24: =C24+D24+E24 -> 15990595058 | J24: =I24-H24 -> 0 | K24: (세출기준-세입기준)
B25: 일반회계 | C25: 12927432660 | D25: =일입!J6 -> -1496131 | E25: =일입!K6 -> 3293928 | F25: =일출!J6 -> -146386988 | G25: =일출!K6 -> 148184785 | H25: =C25+F25+G25 -> 12929230457 | I25: =C25+D25+E25 -> 12929230457 | J25: =I25-H25 -> 0 | K25: (세출기준-세입기준)
B26: 특별회계 | C26: 3071364601 | D26: =기특입출!J6 -> -10000000 | E26: =기특입출!K6 -> 0 | F26: =기특입출!J15 -> -10000000 | G26: =기특입출!K15 -> 0 | H26: =C26+F26+G26 -> 3061364601 | I26: =C26+D26+E26 -> 3061364601 | J26: =I26-H26 -> 0 | K26: (세출기준-세입기준)
B31: 위원회명 | C31: 일반+기특 | D31: 공기업 | E31: 합계
B32: 의회운영위원회 | C32: 28464169 | E32: =SUM(C32:D32) -> 28464169
B33: 기획재정위원회 | C33: 2963824127 | D33: 1394149373 | E33: =SUM(C33:D33) -> 4357973500
B34: 경제과학기술위원회 | C34: 134669886 | D34: 399168902 | E34: =SUM(C34:D34) -> 533838788
B35: 행정자치위원회 | C35: 1081293870 | E35: =SUM(C35:D35) -> 1081293870
B36: 문화체육관광위원회 | C36: 190359315 | D36: 52484400 | E36: =SUM(C36:D36) -> 242843715
B37: 농림수산위원회 | C37: 401166483 | E37: =SUM(C37:D37) -> 401166483
B38: 보건복지공보위원회 | C38: 3203996030 | E38: =SUM(C38:D38) -> 3203996030
B39: 건설교통위원회 | C39: 1047622259 | E39: =SUM(C39:D39) -> 1047622259
B40: 도시환경위원회 | C40: 754413870 | D40: 28360000 | E40: =SUM(C40:D40) -> 782773870
B41: 여성가족평생교육위원회 | C41: 4318824577 | E41: =SUM(C41:D41) -> 4318824577
B42: 총합계 | C42: =SUM(C32:C41) -> 14124634586 | D42: =SUM(D32:D41) -> 1874162675 | E42: =SUM(C42:D42) -> 15998797261
I181: ◦ 본청 83,000 증 ◦ 북부청 377,000 증
K311: -50000

Sheet 표
B1: 2014년도 경기도 일반 및 특별회계 세입·세출 예산안 계수조정 결과
H3: □ 일반회계
T4: (단위:천원, %)
B5: 구 분 | C5: 세입예산(안) | H5: 세출예산(안)
C6: 예산안 (A) | D6: 상임위 계수조정 | G6: 상임위조정 예산안 (A+B) | H6: 집행부제출안 (E) | I6: 상임위 계수조정 | L6: 상임위조정 예산안 (I=E+F) | M6: 예결위 계수조정 | P6: 예결위조정 예산안 (M=I+J) | Q6: 상임위 대비 증감
D7: 계 (B=C+D) | E7: 감액 (C) | F7: 증액 (D) | I7: 계 (F=G+H) | J7: 감액 (G) | K7: 증액 (H) | M7: 계 (J=K+L) | N7: 감액 (K) | O7: 증액 (L) | Q7: 계 (N=J-F) | R7: 증감율 (N/F) | S7: 감액 (K-G) | T7: 증액 (L-H)
B8: 합 계 | C8: =SUM(C9:C18) -> 45180229 | D8: =E8+F8 -> 1324409 | E8: =SUM(E9:E18) -> -1496131 | F8: =SUM(F9:F18) -> 2820540 | G8: =C8+D8 -> 46504638 | H8: =SUM(H9:H18) -> 3987267909 | I8: =SUM(I9:I18) -> 59347108 | J8: =SUM(J9:J18) -> -38265694 | K8: =SUM(K9:K18) -> 97612802 | L8: =H8+I8 -> 4046615017 | M8: =N8+O8 -> 1797797 | N8: =SUM(N9:N18) -> -146386988 | O8: =SUM(O9:O18) -> 148184785 | P8: =H8+N8+O8 -> 3989065706 | Q8: =S8+T8 -> -57549311 | R8: =Q8/I8*100 -> -96.970708 | S8: =N8-J8 -> -108121294 | T8: =O8-K8 -> 50571983
B9: 기 재 위 | C9: =일입!F7 -> 350133 | D9: =E9+F9 -> -255093 | E9: =일입!G7 -> -255093 | F9: =일입!H7 -> 0 | G9: =C9+D9 -> 95040 | H9: =일출!F30 -> 2332147076 | I9: =J9+K9 -> 210064 | J9: =일출!G30 -> -1055093 | K9: =일출!H30 -> 1265157 | L9: =H9+I9 -> 2332357140 | M9: =N9+O9 -> -58649936 | N9: =일출!J30 -> -110315093 | O9: =일출!K30 -> 51665157 | P9: =H9+N9+O9 -> 2273497140 | Q9: =S9+T9 -> -58860000 | R9: =Q9/I9*100 -> -28020.032 | S9: =N9-J9 -> -109260000 | T9: =O9-K9 -> 50400000
B10: 경과기위 | D10: =E10+F10 -> 0 | G10: =C10+D10 -> 0 | H10: =일출!F62 -> 32726201 | I10: =J10+K10 -> 12320446 | J10: =일출!G62 -> -2311000 | K10: =일출!H62 -> 14631446 | L10: =H10+I10 -> 45046647 | M10: =N10+O10 -> 10055446 | N10: =일출!J62 -> -2331000 | O10: =일출!K62 -> 12386446 | P10: =H10+N10+O10 -> 42781647 | Q10: =S10+T10 -> -2265000 | R10: =Q10/I10*100 -> -18.384075 | S10: =N10-J10 -> -20000 | T10: =O10-K10 -> -2245000
B11: 행 자 위 | C11: =일입!F11 -> 2362900 | D11: =E11+F11 -> 849256 | E11: =일입!G11 -> -35000 | F11: =일입!H11 -> 884256 | G11: =C11+D11 -> 3212156 | H11: =일출!F129 -> 18129543 | I11: =J11+K11 -> 8482682 | J11: =일출!G129 -> -1107040 | K11: =일출!H129 -> 9589722 | L11: =H11+I11 -> 26612225 | M11: =N11+O11 -> 10519322 | N11: =일출!J129 -> -121900 | O11: =일출!K129 -> 10641222 | P11: =H11+N11+O11 -> 28648865 | Q11: =S11+T11 -> 2036640 | R11: =Q11/I11*100 -> 24.009388 | S11: =N11-J11 -> 985140 | T11: =O11-K11 -> 1051500
B12: 문체관위 | D12: =E12+F12 -> 0 | G12: =C12+D12 -> 0 | H12: =일출!F298 -> 65993078 | I12: =J12+K12 -> 3480200 | J12: =일출!G298 -> -1273000 | K12: =일출!H298 -> 4753200 | L12: =H12+I12 -> 69473278 | M12: =N12+O12 -> 4623136 | N12: =일출!J298 -> -1111000 | O12: =일출!K298 -> 5734136 | P12: =H12+N12+O12 -> 70616214 | Q12: =S12+T12 -> 1142936 | R12: =Q12/I12*100 -> 32.841101 | S12: =N12-J12 -> 162000 | T12: =O12-K12 -> 980936
B13: 농 수 위 | C13: =일입!F21 -> 4207342 | D13: =E13+F13 -> 577666 | E13: =일입!G21 -> -594638 | F13: =일입!H21 -> 1172304 | G13: =C13+D13 -> 4785008 | H13: =일출!F338 -> 34102573 | I13: =J13+K13 -> 2157026 | J13: =일출!G338 -> -2998424 | K13: =일출!H338 -> 5155450 | L13: =H13+I13 -> 36259599 | M13: =N13+O13 -> 15725176 | N13: =일출!J338 -> -3045424 | O13: =일출!K338 -> 18770600 | P13: =H13+N13+O13 -> 49827749 | Q13: =S13+T13 -> 13568150 | R13: =Q13/I13*100 -> 629.02116 | S13: =N13-J13 -> -47000 | T13: =O13-K13 -> 13615150
B14: 보복공위 | C14: =일입!F35 -> 23653287 | D14: =E14+F14 -> -578420 | E14: =일입!G35 -> -611400 | F14: =일입!H35 -> 32980 | G14: =C14+D14 -> 23074867 | H14: =일출!F392 -> 1203765506 | I14: =J14+K14 -> 1723006 | J14: =일출!G392 -> -3990900 | K14: =일출!H392 -> 5713906 | L14: =H14+I14 -> 1205488512 | M14: =N14+O14 -> -9213647 | N14: =일출!J392 -> -14120900 | O14: =일출!K392 -> 4907253 | P14: =H14+N14+O14 -> 1194551859 | Q14: =S14+T14 -> -10936653 | R14: =Q14/I14*100 -> -634.7426 | S14: =N14-J14 -> -10130000 | T14: =O14-K14 -> -806653
B15: 건 교 위 | D15: =E15+F15 -> 0 | G15: =C15+D15 -> 0 | H15: =일출!F446 -> 176982263 | I15: =J15+K15 -> -683117 | J15: =일출!G446 -> -23058117 | K15: =일출!H446 -> 22375000 | L15: =H15+I15 -> 176299146 | M15: =N15+O15 -> 2660449 | N15: =일출!J446 -> -13957551 | O15: =일출!K446 -> 16618000 | P15: =H15+N15+O15 -> 179642712 | Q15: =S15+T15 -> 3343566 | R15: =Q15/I15*100 -> -489.4573 | S15: =N15-J15 -> 9100566 | T15: =O15-K15 -> -5757000
B16: 도 환 위 | D16: =E16+F16 -> 0 | G16: =C16+D16 -> 0 | H16: =일출!F478 -> 82963572 | I16: =J16+K16 -> 9124920 | J16: =일출!G478 -> -1354620 | K16: =일출!H478 -> 10479540 | L16: =H16+I16 -> 92088492 | M16: =N16+O16 -> 8171770 | N16: =일출!J478 -> -554620 | O16: =일출!K478 -> 8726390 | P16: =H16+N16+O16 -> 91135342 | Q16: =S16+T16 -> -953150 | R16: =Q16/I16*100 -> -10.445571 | S16: =N16-J16 -> 800000 | T16: =O16-K16 -> -1753150
B17: 여가평위 | C17: =일입!F42 -> 14606567 | D17: =E17+F17 -> 731000 | E17: =일입!G42 -> 0 | F17: =일입!H42 -> 731000 | G17: =C17+D17 -> 15337567 | H17: =일출!F532 -> 38700021 | I17: =J17+K17 -> 21670021 | J17: =일출!G532 -> -997500 | K17: =일출!H532 -> 22667521 | L17: =H17+I17 -> 60370042 | M17: =N17+O17 -> 16700021 | N17: =일출!J532 -> -737500 | O17: =일출!K532 -> 17437521 | P17: =H17+N17+O17 -> 55400042 | Q17: =S17+T17 -> -4970000 | R17: =Q17/I17*100 -> -22.934911 | S17: =N17-J17 -> 260000 | T17: =O17-K17 -> -5230000
B18: 운 영 위 | D18: =E18+F18 -> 0 | G18: =C18+D18 -> 0 | H18: =일출!F7 -> 1758076 | I18: =J18+K18 -> 861860 | J18: =일출!G7 -> -120000 | K18: =일출!H7 -> 981860 | L18: =H18+I18 -> 2619936 | M18: =N18+O18 -> 1206060 | N18: =일출!J7 -> -92000 | O18: =일출!K7 -> 1298060 | P18: =H18+N18+O18 -> 2964136 | Q18: =S18+T18 -> 344200 | R18: =Q18/I18*100 -> 39.936881 | S18: =N18-J18 -> 28000 | T18: =O18-K18 -> 316200
B20: □ 특별회계
L21: (단위:천원)
B22: 구 분 | C22: 세입예산(안) | H22: 세출예산(안)
C23: 예산안 (A) | D23: 상임위 계수조정 | G23: 상임위조정 예산안 (A+B) | H23: 집행부제출안 (E) | I23: 상임위 계수조정 | L23: 상임위조정 예산안 (E+F)
D24: 계 (B=C+D) | E24: 감액 (C) | F24: 증액 (D) | I24: 계 (F=G+H) | J24: 감액 (G) | K24: 증액 (F)
B25: 합 계 | C25: =SUM(C26:C27) -> 0 | E25: =SUM(E26:E27) -> 0 | F25: =SUM(F26:F27) -> 0 | G25: =SUM(G26:G27) -> 0 | H25: =SUM(H26:H27) -> 0 | J25: =SUM(J26:J27) -> 0 | K25: =SUM(K26:K27) -> 0 | L25: =SUM(L26:L27) -> 0
B26: 일반회계 | L26: =C26+J26+K26 -> 0
B27: 특별회계 | L27: =C27+J27+K27 -> 0
B32: 위원회명 | C32: 본예산(일반+기특) | E32: 일반+기특 증감 | F32: 본예산(공기업) | J32: 공기업증감 | K32: 합계
B33: 의회운영위원회 | C33: 29578422 | E33: -6681 | K33: =SUM(C33:J33) -> 29571741
B34: 기획재정위원회 | C34: 2891343461 | E34: -301742224 | F34: 1351739885 | K34: =SUM(C34:J34) -> 3941341122
B35: 경제과학기술위원회 | C35: 199560720 | E35: -4516046 | F35: 378135000 | J35: -4761215 | K35: =SUM(C35:J35) -> 568418459
B36: 행정자치위원회 | C36: 1087256623 | E36: -12367081 | K36: =SUM(C36:J36) -> 1074889542
B37: 문화체육관광위원회 | C37: 225697502 | E37: 31705187 | F37: 44512000 | K37: =SUM(C37:J37) -> 301914689
B38: 농림수산위원회 | C38: 479489486 | E38: 12586360 | K38: =SUM(C38:J38) -> 492075846
B39: 보건복지공보위원회 | C39: 2876706315 | E39: 67792337 | K39: =SUM(C39:J39) -> 2944498652
B40: 건설교통위원회 | C40: 1184970444 | E40: 20989907 | K40: =SUM(C40:J40) -> 1205960351
B41: 도시환경위원회 | C41: 823150380 | E41: 92836795 | F41: 15950000 | K41: =SUM(C41:J41) -> 931937175
B42: 여성가족평생교육위원회 | C42: 3979533449 | E42: 396509102 | K42: =SUM(C42:J42) -> 4376042551
B43: 총합계 | C43: =SUM(C33:C42) -> 13777286802 | E43: =SUM(E33:E42) -> 303787656 | F43: =SUM(F33:F42) -> 1790336885 | J43: =SUM(J33:J42) -> -4761215 | K43: =SUM(C43:J43) -> 15866650128
B45: 예비비 | C45: 62833918

Sheet 일입
A1: 2014년도 경기도 일반회계 세입 예산 예결위 조정(안)
A2: □세입예산
H3: =SUM(G6:H6) -> 1324409 | K3: =SUM(J6:K6) -> 1797797 | N3: (단위 : 천원) | P3: =IF(P6=일출!Q6,"OK","ERR") -> OK | Q3: =SUM(P6:Q6) -> 1797797 | R3: =IF(H3=Q3,"ok","검토") -> 검토
A4: 위원회 | C4: 예산안 페이지 | D4: 부서명 | E4: 사업명 | F4: 예산안 (가) | G4: 상임위 예산안 조정액(나) | I4: 상임위 수정 예산안 (다=가+나) | J4: 예결위 예산안 조정액(라) | L4: 예결위 수정 예산안 (마=가+라) | M4: 동의 대상 | N4: 비 고 | O4: 재원 | P4: 재원별 증감액
G5: 감액 | H5: 증액 | J5: 감액 | K5: 증액 | P5: 국비 등 | Q5: 도 비 | R5: 검 증
B6: 합 계 | F6: =SUM(F7:F105)/3 -> 45180229 | G6: =SUM(G7:G105)/3 -> -1496131 | H6: =SUM(H7:H105)/3 -> 2820540 | I6: =SUM(I7:I105)/3 -> 46504638 | J6: =SUM(J7:J105)/3 -> -1496131 | K6: =SUM(K7:K105)/3 -> 3293928 | L6: =SUM(L7:L105)/3 -> 46978026 | P6: =SUM(P7:P105)/3 -> 1684240 | Q6: =SUM(Q7:Q105)/3 -> 113557 | R6: =IF((G6+H6)=(P6+Q6),"ok","검토") -> 검토
A7: 기획재정위원회 | F7: =SUM(F8:F10)/2 -> 350133 | G7: =SUM(G8:G10)/2 -> -255093 | H7: =SUM(H8:H10)/2 -> 0 | I7: =SUM(I8:I10)/2 -> 95040 | J7: =SUM(J8:J10)/2 -> -255093 | K7: =SUM(K8:K10)/2 -> 0 | L7: =SUM(L8:L10)/2 -> 95040 | P7: =SUM(P8:P10)/2 -> -15840 | Q7: =SUM(Q8:Q10)/2 -> -239253 | R7: =IF((G7+H7)=(P7+Q7),"ok","검토") -> ok
B8: 기획조정실 | F8: =SUM(F9:F10) -> 350133 | G8: =SUM(G9:G10) -> -255093 | H8: =SUM(H9:H10) -> 0 | I8: =SUM(I9:I10) -> 95040 | J8: =SUM(J9:J10) -> -255093 | K8: =SUM(K9:K10) -> 0 | L8: =SUM(L9:L10) -> 95040 | P8: =SUM(P9:P10) -> -15840 | Q8: =SUM(Q9:Q10) -> -239253 | R8: =IF((G8+H8)=(P8+Q8),"ok","검토") -> ok
C9: 35 | D9: 정보기획담당관 | E9: 정보화마을 조성 | F9: 110880 | G9: -15840 | I9: =F9+G9+H9 -> 95040 | J9: =G9 -> -15840 | K9: =H9 -> 0 | L9: =F9+J9+K9 -> 95040 | M9: =IF(G9-J9<0,"동의필요","-") -> - | N9: 국비변경내시 ※ 안전행정부 전자정부지원과-2118(2013.10.15)호 | O9: 국비 | P9: -15840 | R9: =IF((G9+H9)=(P9+Q9),"ok","검토") -> ok
C10: 35 | D10: 정보통신보안담당관 | E10: 시군구 재해복구시스템 백업센터 유지보수비 | F10: 239253 | G10: -239253 | I10: =F10+G10+H10 -> 0 | J10: =G10 -> -239253 | K10: =H10 -> 0 | L10: =F10+J10+K10 -> 0 | M10: =IF(G10-J10<0,"동의필요","-") -> - | N10: 자치단체간부담금(시군 ⇒ 도) | O10: 도비 | Q10: -239253 | R10: =IF((G10+H10)=(P10+Q10),"ok","검토") -> ok
A11: 행정자치위원회 | F11: =SUM(F12:F16)/2 -> 2362900 | G11: =SUM(G12:G16)/2 -> -35000 | H11: =SUM(H12:H16)/2 -> 884256 | I11: =SUM(I12:I16)/2 -> 3212156 | J11: =SUM(J12:J16)/2 -> -35000 | K11: =SUM(K12:K16)/2 -> 884256 | L11: =SUM(L12:L16)/2 -> 3212156 | P11: =SUM(P12:P16)/2 -> 768000 | Q11: =SUM(Q12:Q16)/2 -> 81256 | R11: =IF((G11+H11)=(P11+Q11),"ok","검토") -> ok
B12: 안전행정실 | F12: =SUM(F13) -> 814500 | G12: =SUM(G13) -> 0 | H12: =SUM(H13) -> 768000 | I12: =SUM(I13) -> 1582500 | J12: =SUM(J13) -> 0 | K12: =SUM(K13) -> 768000 | L12: =SUM(L13) -> 1582500 | P12: =SUM(P13) -> 768000 | Q12: =SUM(Q13) -> 0 | R12: =IF((G12+H12)=(P12+Q12),"ok","검토") -> ok
C13: 401 | D13: 비상기획담당관 | E13: 민방위 시설장비 확충 | F13: 814500 | G13: 0 | H13: 768000 | I13: =F13+G13+H13 -> 1582500 | J13: =G13 -> 0 | K13: =H13 -> 768000 | L13: =F13+J13+K13 -> 1582500 | M13: =IF(G13-J13<0,"동의필요","-") -> - | N13: 소방방재청 민방위과-6167(2013.11.20) | O13: 국비 | P13: 768000 | Q13: 0 | R13: =IF((G13+H13)=(P13+Q13),"ok","검토") -> ok
B14: 인재개발원 | F14: =SUM(F15:F16) -> 1548400 | G14: =SUM(G15:G16) -> -35000 | H14: =SUM(H15:H16) -> 116256 | I14: =SUM(I15:I16) -> 1629656 | J14: =SUM(J15:J16) -> -35000 | K14: =SUM(K15:K16) -> 116256 | L14: =SUM(L15:L16) -> 1629656 | P14: =SUM(P15:P16) -> 0 | Q14: =SUM(Q15:Q16) -> 81256 | R14: =IF((G14+H14)=(P14+Q14),"ok","검토") -> ok
C15: 427 | D15: 경기도인재개발원 | E15: 도-시군 통합사이버모바일 교육부담금 | F15: 1548400 | G15: -35000 | I15: =F15+G15+H15 -> 1513400 | J15: =G15 -> -35000 | K15: =H15 -> 0 | L15: =F15+J15+K15 -> 1513400 | M15: =IF(G15-J15<0,"동의필요","-") -> - | N15: 수용 : 사업비 감소로 분담감소 | O15: 도비 | Q15: -35000 | R15: =IF((G15+H15)=(P15+Q15),"ok","검토") -> ok
C16: 추가 | D16: 경기도인재개발원 | E16: 구내식당 임대료 | H16: 116256 | I16: =F16+G16+H16 -> 116256 | J16: =G16 -> 0 | K16: =H16 -> 116256 | L16: =F16+J16+K16 -> 116256 | M16: =IF(G16-J16<0,"동의필요","-") -> - | N16: (임대료 수입 : 세입만 잡음) 수용 : 구내식당 계약방법 변경 | O16: 도비 | Q16: 116256 | R16: =IF((G16+H16)=(P16+Q16),"ok","검토") -> ok
A17: 문화체육관광위원회 | F17: =SUM(F18:F20)/2 -> 0 | G17: =SUM(G18:G20)/2 -> 0 | H17: =SUM(H18:H20)/2 -> 0 | I17: =SUM(I18:I20)/2 -> 0 | J17: =SUM(J18:J20)/2 -> 0 | K17: =SUM(K18:K20)/2 -> 473388 | L17: =SUM(L18:L20)/2 -> 473388 | P17: =SUM(P18:P20)/2 -> 470000 | Q17: =SUM(Q18:Q20)/2 -> 3388 | R17: =IF((G17+H17)=(P17+Q17),"ok","검토") -> 검토
B18: 문화체육관광국 | F18: =SUM(F19:F20) -> 0 | G18: =SUM(G19:G20) -> 0 | H18: =SUM(H19:H20) -> 0 | I18: =SUM(I19:I20) -> 0 | J18: =SUM(J19:J20) -> 0 | K18: =SUM(K19:K20) -> 473388 | L18: =SUM(L19:L20) -> 473388 | P18: =SUM(P19:P20) -> 470000 | Q18: =SUM(Q19:Q20) -> 3388 | R18: =IF((G18+H18)=(P18+Q18),"ok","검토") -> 검토
C19: 추가 | D19: 문화정책과 | E19: 경기도박물관 보증금 채권반납 | I19: =F19+G19+H19 -> 0 | K19: 3388 | L19: =F19+J19+K19 -> 3388 | M19: =IF(G19-J19<0,"동의필요","-") -> - | N19: 일반 전화선 14회선 채권반납 | O19: 도비 | Q19: =L19 -> 3388 | R19: =IF((G19+H19)=(P19+Q19),"ok","검토") -> 검토
C20: 추가 | D20: 관광과 | E20: 관광안내체계구축지원 | I20: =F20+G20+H20 -> 0 | K20: 470000 | L20: =F20+J20+K20 -> 470000 | M20: =IF(G20-J20<0,"동의필요","-") -> - | N20: 문화체육관광부 관광산업과-4039(2013.12.2) | O20: 국비 | P20: =L20 -> 470000 | R20: =IF((G20+H20)=(P20+Q20),"ok","검토") -> 검토
A21: 농림수산위원회 | F21: =SUM(F22:F34)/2 -> 4207342 | G21: =SUM(G22:G34)/2 -> -594638 | H21: =SUM(H22:H34)/2 -> 1172304 | I21: =SUM(I22:I34)/2 -> 4785008 | J21: =SUM(J22:J34)/2 -> -594638 | K21: =SUM(K22:K34)/2 -> 1172304 | L21: =SUM(L22:L34)/2 -> 4785008 | P21: =SUM(P22:P34)/2 -> 309500 | Q21: =SUM(Q22:Q34)/2 -> 268166 | R21: =IF((G21+H21)=(P21+Q21),"ok","검토") -> ok
B22: 농정해양국 | F22: =SUM(F23:F28) -> 1107000 | G22: =SUM(G23:G28) -> -328000 | H22: =SUM(H23:H28) -> 628500 | I22: =SUM(I23:I28) -> 1407500 | J22: =SUM(J23:J28) -> -328000 | K22: =SUM(K23:K28) -> 628500 | L22: =SUM(L23:L28) -> 1407500 | P22: =SUM(P23:P28) -> 300500 | Q22: =SUM(Q23:Q28) -> 0 | R22: =IF((G22+H22)=(P22+Q22),"ok","검토") -> ok
C23: 추가 | D23: 친환경농업과 | E23: 농식품ICT융복합확산사업 | H23: 84000 | I23: =F23+G23+H23 -> 84000 | J23: =G23 -> 0 | K23: =H23 -> 84000 | L23: =F23+J23+K23 -> 84000 | M23: =IF(G23-J23<0,"동의필요","-") -> - | N23: 농림축산식품부 정보화담당관실-2862 (2013.11.12.) | O23: 기금 | P23: 84000 | R23: =IF((G23+H23)=(P23+Q23),"ok","검토") -> ok
C24: 483 | D24: 농업정책과 | E24: 도농행복일자리교류사업단 운영 | F24: 250000 | G24: -250000 | I24: =F24+G24+H24 -> 0 | J24: =G24 -> -250000 | K24: =H24 -> 0 | L24: =F24+J24+K24 -> 0 | M24: =IF(G24-J24<0,"동의필요","-") -> - | N24: 국비사업감액 | O24: 국비 | P24: -250000 | R24: =IF((G24+H24)=(P24+Q24),"ok","검토") -> ok
C25: 486 | D25: 수산과 | E25: 자율관리어업 육성(국비) | F25: 583000 | H25: 419500 | I25: =F25+G25+H25 -> 1002500 | J25: =G25 -> 0 | K25: =H25 -> 419500 | L25: =F25+J25+K25 -> 1002500 | M25: =IF(G25-J25<0,"동의필요","-") -> - | N25: 해양수산부 자원관리과-3328(2013.11.14) | O25: 국비 | P25: 419500 | R25: =IF((G25+H25)=(P25+Q25),"ok","검토") -> ok
C26: 486 | D26: 수산과 | E26: 해양보호구역관리(국비) | F26: 200000 | G26: -50000 | I26: =F26+G26+H26 -> 150000 | J26: =G26 -> -50000 | K26: =H26 -> 0 | L26: =F26+J26+K26 -> 150000 | M26: =IF(G26-J26<0,"동의필요","-") -> - | N26: 해양수산부 해양생태과-2062(2013.11.22) | O26: 국비 | P26: -50000 | R26: =IF((G26+H26)=(P26+Q26),"ok","검토") -> ok
C27: 486 | D27: 수산과 | E27: 낚시산업선진화(국비) | F27: 74000 | G27: -28000 | I27: =F27+G27+H27 -> 46000 | J27: =G27 -> -28000 | K27: =H27 -> 0 | L27: =F27+J27+K27 -> 46000 | M27: =IF(G27-J27<0,"동의필요","-") -> - | N27: 해양수산부 해양생태과-3251(2013.11.25) | O27: 국비 | P27: -28000 | R27: =IF((G27+H27)=(P27+Q27),"ok","검토") -> ok
C28: 추가 | D28: 해양수산자원연구소 | E28: 내수면시험장 개보수 | H28: 125000 | I28: =F28+G28+H28 -> 125000 | J28: =G28 -> 0 | K28: =H28 -> 125000 | L28: =F28+J28+K28 -> 125000 | M28: =IF(G28-J28<0,"동의필요","-") -> - | N28: 해양수산부 해양생태과-3586(2013.11.29) | O28: 국비 | P28: 125000 | R28: =IF((G28+H28)=(P28+Q28),"ok","검토") -> ok
B29: 축산산림국 | F29: =SUM(F30:F32) -> 2006922 | G29: =SUM(G30:G32) -> -266638 | H29: =SUM(H30:H32) -> 534804 | I29: =SUM(I30:I32) -> 2275088 | J29: =SUM(J30:J32) -> -266638 | K29: =SUM(K30:K32) -> 534804 | L29: =SUM(L30:L32) -> 2275088 | P29: =SUM(P30:P32) -> 0 | Q29: =SUM(Q30:Q32) -> 268166 | R29: =IF((G29+H29)=(P29+Q29),"ok","검토") -> ok
C30: 추가 | D30: 축산정책과 | E30: 일반부담금(전문승용마 시범생산) | H30: 349500 | I30: =F30+G30+H30 -> 349500 | J30: =G30 -> 0 | K30: =H30 -> 349500 | L30: =F30+J30+K30 -> 349500 | M30: =IF(G30-J30<0,"동의필요","-") -> - | N30: 한국마사회 생산진흥팀-1113(2013.10.31) | O30: 도비 | Q30: =K30 -> 349500 | R30: =IF((G30+H30)=(P30+Q30),"ok","검토") -> ok
C31: 545 | D31: 산림과 | E31: 자치단체간부담금(사방사업) | F31: 523237 | G31: -266638 | I31: =F31+G31+H31 -> 256599 | J31: =G31 -> -266638 | K31: =H31 -> 0 | L31: =F31+J31+K31 -> 256599 | M31: =IF(G31-J31<0,"동의필요","-") -> - | N31: (세출은 예산안에 기 잡혀있음 602페이지) 사방사업(국비/직접), 사방사업 사업량변경 | O31: 도비 | Q31: -266638 | R31: =IF((G31+H31)=(P31+Q31),"ok","검토") -> ok
C32: 545 | D32: 산림과 | E32: 자치단체간부담금(사방댐조성관리) | F32: 1483685 | H32: 185304 | I32: =F32+G32+H32 -> 1668989 | J32: =G32 -> 0 | K32: =H32 -> 185304 | L32: =F32+J32+K32 -> 1668989 | M32: =IF(G32-J32<0,"동의필요","-") -> - | N32: (세출은 예산안에 기 잡혀있음 602페이지) 사방사업(국비/직접), 사방댐조성관리 사업량 변경 | O32: 도비 | Q32: 185304 | R32: =IF((G32+H32)=(P32+Q32),"ok","검토") -> ok
B33: 농업기술원 | F33: =SUM(F34) -> 1093420 | G33: =SUM(G34) -> 0 | H33: =SUM(H34) -> 9000 | I33: =SUM(I34) -> 1102420 | J33: =SUM(J34) -> 0 | K33: =SUM(K34) -> 9000 | L33: =SUM(L34) -> 1102420 | P33: =SUM(P34) -> 9000 | Q33: =SUM(Q34) -> 0 | R33: =IF((G33+H33)=(P33+Q33),"ok","검토") -> ok
C34: 614 | D34: 총무과 | E34: 농업전문인력양성 | F34: 1093420 | H34: 9000 | I34: =F34+G34+H34 -> 1102420 | J34: =G34 -> 0 | K34: =H34 -> 9000 | L34: =F34+J34+K34 -> 1102420 | M34: =IF(G34-J34<0,"동의필요","-") -> - | N34: 국비증액사업 | O34: 국비 | P34: 9000 | R34: =IF((G34+H34)=(P34+Q34),"ok","검토") -> ok
A35: 보건복지공보위원회 | F35: =SUM(F36:F41)/2 -> 23653287 | G35: =SUM(G36:G41)/2 -> -611400 | H35: =SUM(H36:H41)/2 -> 32980 | I35: =SUM(I36:I41)/2 -> 23074867 | J35: =SUM(J36:J41)/2 -> -611400 | K35: =SUM(K36:K41)/2 -> 32980 | L35: =SUM(L36:L41)/2 -> 23074867 | P35: =SUM(P36:P41)/2 -> -578420 | Q35: =SUM(Q36:Q41)/2 -> 0 | R35: =IF((G35+H35)=(P35+Q35),"ok","검토") -> ok
B36: 보건복지국 | F36: =SUM(F37:F38) -> 23533087 | G36: =SUM(G37:G38) -> -560000 | H36: =SUM(H37:H38) -> 31500 | I36: =SUM(I37:I38) -> 23004587 | J36: =SUM(J37:J38) -> -560000 | K36: =SUM(K37:K38) -> 31500 | L36: =SUM(L37:L38) -> 23004587 | P36: =SUM(P37:P38) -> -528500 | Q36: =SUM(Q37:Q38) -> 0 | R36: =IF((G36+H36)=(P36+Q36),"ok","검토") -> ok
C37: 699 | D37: 복지정책과 | E37: 공공복지전달체계 개선 | F37: 14578087 | H37: 31500 | I37: =F37+G37+H37 -> 14609587 | J37: =G37 -> 0 | K37: =H37 -> 31500 | L37: =F37+J37+K37 -> 14609587 | M37: =IF(G37-J37<0,"동의필요","-") -> - | N37: 국비변경내시 ※ 보건복지부 지역복지과-4508(2013.11.7.)호 | O37: 국비 | P37: 31500 | R37: =IF((G37+H37)=(P37+Q37),"ok","검토") -> ok
C38: 703 | D38: 건강증진과 | E38: 지역거점병원 공공성강화 | F38: 8955000 | G38: -560000 | I38: =F38+G38+H38 -> 8395000 | J38: =G38 -> -560000 | K38: =H38 -> 0 | L38: =F38+J38+K38 -> 8395000 | M38: =IF(G38-J38<0,"동의필요","-") -> - | N38: 국비변경내시 ※ 보건복지부 공공의료과-4197(2013.11.11)호 | O38: 국비 | P38: -560000 | R38: =IF((G38+H38)=(P38+Q38),"ok","검토") -> ok
B39: 보건환경연구원 | F39: =SUM(F40:F41) -> 120200 | G39: =SUM(G40:G41) -> -51400 | H39: =SUM(H40:H41) -> 1480 | I39: =F39+G39+H39 -> 70280 | J39: =SUM(J40:J41) -> -51400 | K39: =SUM(K40:K41) -> 1480 | L39: =SUM(L40:L41) -> 70280 | P39: =SUM(P40:P41) -> -49920 | Q39: =SUM(Q40:Q41) -> 0 | R39: =IF((G39+H39)=(P39+Q39),"ok","검토") -> ok
C40: 827 | D40: 총무과 | E40: 전력효율향상사업(LED) | F40: 51400 | G40: -51400 | I40: =F40+G40+H40 -> 0 | J40: =G40 -> -51400 | K40: =H40 -> 0 | L40: =F40+J40+K40 -> 0 | M40: =IF(G40-J40<0,"동의필요","-") -> - | N40: 국비 변경내시 ※ 산업통상자원부 에너지관리과-560(2013.10.31)호 | O40: 국비 | P40: -51400 | R40: =IF((G40+H40)=(P40+Q40),"ok","검토") -> ok
C41: 828 | D41: 총무과 | E41: 감염병지역거점진단 인프라구축 | F41: 68800 | H41: 1480 | I41: =F41+G41+H41 -> 70280 | J41: =G41 -> 0 | K41: =H41 -> 1480 | L41: =F41+J41+K41 -> 70280 | M41: =IF(G41-J41<0,"동의필요","-") -> - | N41: 국비 변경내시 ※ 질병관리본부 수인성질환과-2686(2013.11.06)호 | O41: 기금 | P41: 1480 | R41: =IF((G41+H41)=(P41+Q41),"ok","검토") -> ok
A42: 여성가족평생교육위원회 | F42: =SUM(F43:F49)/2 -> 14606567 | G42: =SUM(G43:G49)/2 -> 0 | H42: =SUM(H43:H49)/2 -> 731000 | I42: =SUM(I43:I49)/2 -> 15337567 | J42: =SUM(J43:J49)/2 -> 0 | K42: =SUM(K43:K49)/2 -> 731000 | L42: =SUM(L43:L49)/2 -> 15337567 | P42: =SUM(P43:P49)/2 -> 731000 | Q42: =SUM(Q43:Q49)/2 -> 0 | R42: =IF((G42+H42)=(P42+Q42),"ok","검토") -> ok
B43: 여성가족국 | F43: =SUM(F44:F49) -> 14606567 | G43: =SUM(G44:G49) -> 0 | H43: =SUM(H44:H49) -> 731000 | I43: =SUM(I44:I49) -> 15337567 | J43: =SUM(J44:J49) -> 0 | K43: =SUM(K44:K49) -> 731000 | L43: =SUM(L44:L49) -> 15337567 | P43: =SUM(P44:P49) -> 731000 | Q43: =SUM(Q44:Q49) -> 0 | R43: =IF((G43+H43)=(P43+Q43),"ok","검토") -> ok
C44: 1095 | D44: 여성가족과 | E44: 저소득 한부모가족 지원 (국비 ⇒ 기금) | F44: 11117000 | I44: =F44+G44+H44 -> 11117000 | J44: =G44 -> 0 | K44: =H44 -> 0 | L44: =F44+J44+K44 -> 11117000 | M44: =IF(G44-J44<0,"동의필요","-") -> - | O44: 기금 | R44: =IF((G44+H44)=(P44+Q44),"ok","검토") -> ok
C45: 1095 | D45: 여성가족과 | E45: 청소년 한부모 자립지원 (국비 ⇒ 기금) | F45: 450542 | I45: =F45+G45+H45 -> 450542 | J45: =G45 -> 0 | K45: =H45 -> 0 | L45: =F45+J45+K45 -> 450542 | M45: =IF(G45-J45<0,"동의필요","-") -> - | O45: 기금 | R45: =IF((G45+H45)=(P45+Q45),"ok","검토") -> ok
C46: 1095 | D46: 여성가족과 | E46: 미혼모 거점기관 운영 (국비 ⇒ 기금) | F46: 26500 | I46: =F46+G46+H46 -> 26500 | J46: =G46 -> 0 | K46: =H46 -> 0 | L46: =F46+J46+K46 -> 26500 | M46: =IF(G46-J46<0,"동의필요","-") -> - | O46: 기금 | R46: =IF((G46+H46)=(P46+Q46),"ok","검토") -> ok
C47: 1095 | D47: 여성가족과 | E47: 한부모가족 복지시설 기능보강 (국비 ⇒ 기금) | F47: 208525 | H47: 320000 | I47: =F47+G47+H47 -> 528525 | J47: =G47 -> 0 | K47: =H47 -> 320000 | L47: =F47+J47+K47 -> 528525 | M47: =IF(G47-J47<0,"동의필요","-") -> - | N47: 기금증액사업 | O47: 기금 | P47: 320000 | R47: =IF((G47+H47)=(P47+Q47),"ok","검토") -> ok
C48: 1095 | D48: 여성가족과 | E48: 한부모가족 복지시설 입소자 상담·치료 지원 (국비 ⇒ 기금) | F48: 44000 | I48: =F48+G48+H48 -> 44000 | J48: =G48 -> 0 | K48: =H48 -> 0 | L48: =F48+J48+K48 -> 44000 | M48: =IF(G48-J48<0,"동의필요","-") -> - | O48: 기금 | R48: =IF((G48+H48)=(P48+Q48),"ok","검토") -> ok
C49: 1097 | D49: 아동청소년과 | E49: 복권기금 지자체 지원금 | F49: 2760000 | H49: 411000 | I49: =F49+G49+H49 -> 3171000 | J49: =G49 -> 0 | K49: =H49 -> 411000 | L49: =F49+J49+K49 -> 3171000 | M49: =IF(G49-J49<0,"동의필요","-") -> - | O49: 기금 | P49: 411000 | R49: =IF((G49+H49)=(P49+Q49),"ok","검토") -> ok

Sheet 일출
A1: 2014년도 경기도 일반회계 세출 예산 예결위 조정(안)
A2: □세출예산
H3: =SUM(G6:H6) -> 59347108 | J3: =일입!K3 -> 1797797 | K3: =J6+K6 -> 1797797 | L3: =일입!K3-일출!K3 -> 0 | M3: =K3-H3 -> -57549311 | O3: (단위 : 천원) | Q3: =IF(Q6=일입!P6,"OK","ERR") -> OK | R3: =SUM(Q6:R6) -> 85507919 | S3: =IF(H3=R3,"ok","검토") -> 검토
A4: 위원회 | C4: 예산안 페이지 | D4: 부서명 | E4: 사업명 | F4: 예산안 (가) | G4: 상임위 예산안 조정액(나) | I4: 상임위 수정 예산안 (다=가+나) | J4: 예결위 예산안 조정액(라) | L4: 예결위 수정 예산안 (마=가+라) | M4: 증감액 (마-다) | O4: 비 고 | P4: 재원 | Q4: 재원별 증감액
G5: 감액 | H5: 증액 | J5: 감액 | K5: 증액 | Q5: 국비 등 | R5: 도 비 | S5: 검 증
B6: 합 계 | F6: =SUM(F7:F1574)/3 -> 3987267909 | G6: =SUM(G7:G1574)/3 -> -38265694 | H6: =SUM(H7:H1574)/3 -> 97612802 | I6: =SUM(I7:I1574)/3 -> 4046615017 | J6: =SUM(J7:J1574)/3 -> -146386988 | K6: =SUM(K7:K1574)/3 -> 148184785 | L6: =SUM(L7:L1574)/3 -> 3989065706 | M6: =SUM(M7:M1574)/3 -> -57549311 | Q6: =SUM(Q7:Q1574)/3 -> 1684240 | R6: =SUM(R7:R1574)/3 -> 83823679 | S6: =IF((G6+H6)=(Q6+R6),"ok","검토") -> 검토
A7: 의회운영위원회 | F7: =SUM(F8:F29)/2 -> 1758076 | G7: =SUM(G8:G29)/2 -> -120000 | H7: =SUM(H8:H29)/2 -> 981860 | I7: =SUM(I8:I29)/2 -> 2619936 | J7: =SUM(J8:J29)/2 -> -92000 | K7: =SUM(K8:K29)/2 -> 1298060 | L7: =SUM(L8:L29)/2 -> 2964136 | M7: =L7-I7 -> 344200 | Q7: =SUM(Q8:Q29)/2 -> 0 | R7: =SUM(R8:R29)/2 -> 1206060 | S7: =IF((G7+H7)=(Q7+R7),"ok","검토") -> 검토
B8: 의회사무처 | F8: =SUM(F9:F29) -> 1758076 | G8: =SUM(G9:G29) -> -120000 | H8: =SUM(H9:H29) -> 981860 | I8: =SUM(I9:I29) -> 2619936 | J8: =SUM(J9:J29) -> -92000 | K8: =SUM(K9:K29) -> 1298060 | L8: =SUM(L9:L29) -> 2964136 | M8: =L8-I8 -> 344200 | Q8: =SUM(Q9:Q29) -> 0 | R8: =SUM(R9:R29) -> 1206060 | S8: =IF((G8+H8)=(Q8+R8),"ok","검토") -> 검토
C9: 9 | D9: 의회사무처 | E9: 의정현안 시책홍보 | F9: 691435 | H9: 517000 | I9: =F9+G9+H9 -> 1208435 | K9: 617000 | L9: =F9+J9+K9 -> 1308435 | M9: =L9-I9 -> 100000 | N9: =IF(AND(((G9+H9)<0),(J9+K9)>(G9+H9)),"검토","-") -> - | P9: 도비 | R9: =K9 -> 617000 | S9: =IF((G9+H9)=(Q9+R9),"ok","검토") -> 검토
C10: 9 | D10: 의회사무처 | E10: 뉴스통신 수신료 | F10: 98000 | H10: 40000 | I10: =F10+G10+H10 -> 138000 | K10: 40000 | L10: =F10+J10+K10 -> 138000 | M10: =L10-I10 -> 0 | N10: =IF(AND(((G10+H10)<0),(J10+K10)>(G10+H10)),"검토","-") -> - | P10: 도비 | R10: =K10 -> 40000 | S10: =IF((G10+H10)=(Q10+R10),"ok","검토") -> ok
A11: 1 | C11: 9 | D11: 의회사무처 | E11: G버스 TV를 통한 의정홍보 | F11: 138000 | G11: -28000 | I11: =F11+G11+H11 -> 110000 | J11: 0 | L11: =F11+J11+K11 -> 138000 | M11: =L11-I11 -> 28000 | N11: =IF(AND(((G11+H11)<0),(J11+K11)>(G11+H11)),"검토","-") -> 검토 | O11: 버스조합 홍보사업비 조정 | P11: 도비 | R11: =K11 -> 0 | S11: =IF((G11+H11)=(Q11+R11),"ok","검토") -> 검토
C12: 12 | D12: 의회사무처 | E12: 의원 국외출장 수행여비 | F12: 96000 | H12: 10000 | I12: =F12+G12+H12 -> 106000 | K12: 20000 | L12: =F12+J12+K12 -> 116000 | M12: =L12-I12 -> 10000 | N12: =IF(AND(((G12+H12)<0),(J12+K12)>(G12+H12)),"검토","-") -> - | P12: 도비 | R12: =K12 -> 20000 | S12: =IF((G12+H12)=(Q12+R12),"ok","검토") -> 검토
C13: 12 | D13: 의회사무처 | E13: 차량 유지관리 | F13: 140000 | H13: 20000 | I13: =F13+G13+H13 -> 160000 | K13: 20000 | L13: =F13+J13+K13 -> 160000 | M13: =L13-I13 -> 0 | N13: =IF(AND(((G13+H13)<0),(J13+K13)>(G13+H13)),"검토","-") -> - | O13: 버스 구입시기 연기에 따른 검사 및 수리비 | P13: 도비 | R13: =K13 -> 20000 | S13: =IF((G13+H13)=(Q13+R13),"ok","검토") -> ok
C14: 13 | D14: 의회사무처 | E14: 청사시설 유지관리 | F14: 90000 | H14: 150000 | I14: =F14+G14+H14 -> 240000 | K14: 150000 | L14: =F14+J14+K14 -> 240000 | M14: =L14-I14 -> 0 | N14: =IF(AND(((G14+H14)<0),(J14+K14)>(G14+H14)),"검토","-") -> - | O14: 9대 의회 개원에 따른 사무실 재배치 | P14: 도비 | R14: =K14 -> 150000 | S14: =IF((G14+H14)=(Q14+R14),"ok","검토") -> ok
C15: 14 | D15: 의회사무처 | E15: 의원입법활동 지원위원회 연찬회 | F15: 5000 | H15: 2000 | I15: =F15+G15+H15 -> 7000 | K15: 2000 | L15: =F15+J15+K15 -> 7000 | M15: =L15-I15 -> 0 | N15: =IF(AND(((G15+H15)<0),(J15+K15)>(G15+H15)),"검토","-") -> - | P15: 도비 | R15: =K15 -> 2000 | S15: =IF((G15+H15)=(Q15+R15),"ok","검토") -> ok
C16: 15 | D16: 의회사무처 | E16: 각종 세미나 등 지원 | F16: 40000 | H16: 30000 | I16: =F16+G16+H16 -> 70000 | K16: 30000 | L16: =F16+J16+K16 -> 70000 | M16: =L16-I16 -> 0 | N16: =IF(AND(((G16+H16)<0),(J16+K16)>(G16+H16)),"검토","-") -> - | P16: 도비 | R16: =K16 -> 30000 | S16: =IF((G16+H16)=(Q16+R16),"ok","검토") -> ok
C17: 19 | D17: 의회사무처 | E17: 부서운영업무추진비 의정담당관 | F17: 3021 | H17: 1140 | I17: =F17+G17+H17 -> 4161 | K17: 1140 | L17: =F17+J17+K17 -> 4161 | M17: =L17-I17 -> 0 | N17: =IF(AND(((G17+H17)<0),(J17+K17)>(G17+H17)),"검토","-") -> - | O17: 착오입력 | P17: 도비 | R17: =K17 -> 1140 | S17: =IF((G17+H17)=(Q17+R17),"ok","검토") -> ok
C18: 20 | D18: 의회사무처 | E18: 개인용컴퓨터 | F18: 16120 | H18: 9920 | I18: =F18+G18+H18 -> 26040 | K18: 9920 | L18: =F18+J18+K18 -> 26040 | M18: =L18-I18 -> 0 | N18: =IF(AND(((G18+H18)<0),(J18+K18)>(G18+H18)),"검토","-") -> - | O18: 운영전문위원실 컴퓨터 대체구입 | P18: 도비 | R18: =K18 -> 9920 | S18: =IF((G18+H18)=(Q18+R18),"ok","검토") -> ok
C19: 20 | D19: 의회사무처 | E19: 냉난방기 | F19: 13700 | H19: 10800 | I19: =F19+G19+H19 -> 24500 | K19: 10800 | L19: =F19+J19+K19 -> 24500 | M19: =L19-I19 -> 0 | N19: =IF(AND(((G19+H19)<0),(J19+K19)>(G19+H19)),"검토","-") -> - | O19: 대회의실 에어컨 대체구입 | P19: 도비 | R19: =K19 -> 10800 | S19: =IF((G19+H19)=(Q19+R19),"ok","검토") -> ok
C20: 20 | D20: 의회사무처 | E20: 공용차량 | F20: 252000 | G20: -92000 | I20: =F20+G20+H20 -> 160000 | J20: -92000 | L20: =F20+J20+K20 -> 160000 | M20: =L20-I20 -> 0 | N20: =IF(AND(((G20+H20)<0),(J20+K20)>(G20+H20)),"검토","-") -> - | O20: 대형버스 구입시기 연기 | P20: 도비 | R20: =J20 -> -92000 | S20: =IF((G20+H20)=(Q20+R20),"ok","검토") -> ok
C21: 추가 | D21: 의회사무처 | E21: 경기도의회 정책개발 연구용역 | H21: 90000 | I21: =F21+G21+H21 -> 90000 | K21: 90000 | L21: =F21+J21+K21 -> 90000 | M21: =L21-I21 -> 0 | N21: =IF(AND(((G21+H21)<0),(J21+K21)>(G21+H21)),"검토","-") -> - | O21: 연구용역비 기 반영(325백만원) | P21: 도비 | R21: =K21 -> 90000 | S21: =IF((G21+H21)=(Q21+R21),"ok","검토") -> ok
C22: 추가 | D22: 의회사무처 | E22: 의회운영 및 예산정책심사비교 연수 → 의회운영 및 예산 관련 비교 연수 | H22: 35000 | I22: =F22+G22+H22 -> 35000 | K22: 35000 | L22: =F22+J22+K22 -> 35000 | M22: =L22-I22 -> 0 | N22: =IF(AND(((G22+H22)<0),(J22+K22)>(G22+H22)),"검토","-") -> - | O22: 사업명 변경 특별, 운영 | P22: 도비 | R22: =K22 -> 35000 | S22: =IF((G22+H22)=(Q22+R22),"ok","검토") -> ok
C23: 추가 | D23: 의회사무처 | E23: 입법, 의정 관련 비교 연수 | I23: =F23+G23+H23 -> 0 | K23: 35000 | L23: =F23+J23+K23 -> 35000 | M23: =L23-I23 -> 35000 | N23: =IF(AND(((G23+H23)<0),(J23+K23)>(G23+H23)),"검토","-") -> - | P23: 도비 | R23: =K23 -> 35000 | S23: =IF((G23+H23)=(Q23+R23),"ok","검토") -> 검토
C24: 14 | D24: 의회사무처 | E24: 속기사 근무복 구입 | F24: 4800 | I24: =F24+G24+H24 -> 4800 | K24: 1200 | L24: =F24+J24+K24 -> 6000 | M24: =L24-I24 -> 1200 | N24: =IF(AND(((G24+H24)<0),(J24+K24)>(G24+H24)),"검토","-") -> - | P24: 도비 | R24: =K24 -> 1200 | S24: =IF((G24+H24)=(Q24+R24),"ok","검토") -> 검토
C25: 15 | D25: 의회사무처 | E25: 의원연구단체별 정책연구용역 | F25: 160000 | I25: =F25+G25+H25 -> 160000 | K25: 160000 | L25: =F25+J25+K25 -> 320000 | M25: =L25-I25 -> 160000 | N25: =IF(AND(((G25+H25)<0),(J25+K25)>(G25+H25)),"검토","-") -> - | P25: 도비 | R25: =K25 -> 160000 | S25: =IF((G25+H25)=(Q25+R25),"ok","검토") -> 검토
C26: 추가 | D26: 의회사무처 | E26: 공기청정기 | H26: 6000 | I26: =F26+G26+H26 -> 6000 | K26: 6000 | L26: =F26+J26+K26 -> 6000 | M26: =L26-I26 -> 0 | N26: =IF(AND(((G26+H26)<0),(J26+K26)>(G26+H26)),"검토","-") -> - | O26: 입법정책담당관실, 공보담당관실 | P26: 도비 | R26: =K26 -> 6000 | S26: =IF((G26+H26)=(Q26+R26),"ok","검토") -> ok
C27: 추가 | D27: 의회사무처 | E27: 의원 휴게실 및 사무실 노후소파, 탁자 등 집기 구입 | H27: 40000 | I27: =F27+G27+H27 -> 40000 | K27: 40000 | L27: =F27+J27+K27 -> 40000 | M27: =L27-I27 -> 0 | N27: =IF(AND(((G27+H27)<0),(J27+K27)>(G27+H27)),"검토","-") -> - | O27: 9대의회 개원 준비 | P27: 도비 | R27: =K27 -> 40000 | S27: =IF((G27+H27)=(Q27+R27),"ok","검토") -> ok
C28: 추가 | D28: 의회사무처 | E28: 1층 로비 조명 시설 설치 | H28: 20000 | I28: =F28+G28+H28 -> 20000 | K28: 20000 | L28: =F28+J28+K28 -> 20000 | M28: =L28-I28 -> 0 | N28: =IF(AND(((G28+H28)<0),(J28+K28)>(G28+H28)),"검토","-") -> - | O28: 1층 로비 전시시설 개선 | P28: 도비 | R28: =K28 -> 20000 | S28: =IF((G28+H28)=(Q28+R28),"ok","검토") -> ok
C29: 12 | D29: 의회사무처 | E29: 공무국외여행 방문지원 | F29: 10000 | I29: =F29+G29+H29 -> 10000 | K29: 10000 | L29: =F29+J29+K29 -> 20000 | M29: =L29-I29 -> 10000 | N29: =IF(AND(((G29+H29)<0),(J29+K29)>(G29+H29)),"검토","-") -> - | P29: 도비 | R29: =K29 -> 10000 | S29: =IF((G29+H29)=(Q29+R29),"ok","검토") -> 검토
A30: 기획재정위원회 | F30: =SUM(F31:F61)/2 -> 2332147076 | G30: =SUM(G31:G61)/2 -> -1055093 | H30: =SUM(H31:H61)/2 -> 1265157 | I30: =SUM(I31:I61)/2 -> 2332357140 | J30: =SUM(J31:J61)/2 -> -110315093 | K30: =SUM(K31:K61)/2 -> 51665157 | L30: =SUM(L31:L61)/2 -> 2273497140 | M30: =SUM(M31:M61)/2 -> -58860000 | Q30: =SUM(Q31:Q61)/2 -> -15840 | R30: =SUM(R31:R61)/2 -> 15909073 | S30: =IF((G30+H30)=(Q30+R30),"ok","검토") -> 검토
B31: 감사관 | F31: =SUM(F32:F41) -> 256040 | G31: =SUM(G32:G41) -> 0 | H31: =SUM(H32:H41) -> 64757 | I31: =SUM(I32:I41) -> 320797 | J31: =SUM(J32:J41) -> 0 | K31: =SUM(K32:K41) -> 64757 | L31: =F31+J31+K31 -> 320797 | M31: =L31-I31 -> 0 | Q31: =SUM(Q32:Q41) -> 0 | R31: =SUM(R32:R41) -> 64757 | S31: =IF((G31+H31)=(Q31+R31),"ok","검토") -> ok
C32: 28 | D32: 감사담당관 | E32: 자체감사 운영 및 중앙부처감사 지원(자체/직접) - 감사원감사 및 정부합동감사 등 수감(사무관리비) | F32: 10000 | H32: 5000 | I32: =F32+G32+H32 -> 15000 | K32: 5000 | L32: =F32+J32+K32 -> 15000 | M32: =L32-I32 -> 0 | N32: =IF(AND(((G32+H32)<0),(J32+K32)>(G32+H32)),"검토","-") -> - | O32: 현지 실사 등 사업특성상 증액 필요 | P32: 도비 | R32: =K32 -> 5000 | S32: =IF((G32+H32)=(Q32+R32),"ok","검토") -> ok
C33: 28 | D33: 감사담당관 | E33: 자체감사 운영 및 중앙부처감사 지원(자체/직접) - 감사 및 감사자료 수집 여비(국내여비) | F33: 131860 | H33: 10000 | I33: =F33+G33+H33 -> 141860 | K33: 10000 | L33: =F33+J33+K33 -> 141860 | M33: =L33-I33 -> 0 | N33: =IF(AND(((G33+H33)<0),(J33+K33)>(G33+H33)),"검토","-") -> - | O33: 현지 실사 등 사업특성상 증액 필요 | P33: 도비 | R33: =K33 -> 10000 | S33: =IF((G33+H33)=(Q33+R33),"ok","검토") -> ok
C34: 30 | D34: 조사담당관 | E34: 공직자 재산등록 운영(자체/직접) | F34: 12000 | H34: 3000 | I34: =F34+G34+H34 -> 15000 | K34: 3000 | L34: =F34+J34+K34 -> 15000 | M34: =L34-I34 -> 0 | N34: =IF(AND(((G34+H34)<0),(J34+K34)>(G34+H34)),"검토","-") -> - | O34: 현지 실사 등 사업특성상 증액 필요 | P34: 도비 | R34: =K34 -> 3000 | S34: =IF((G34+H34)=(Q34+R34),"ok","검토") -> ok
C35: 30 | D35: 조사담당관 | E35: 부패방지 시스템 구축(자체/직접) - 고위직공무원 청렴도 평가(사무관리비) | F35: 5000 | H35: 10000 | I35: =F35+G35+H35 -> 15000 | K35: 10000 | L35: =F35+J35+K35 -> 15000 | M35: =L35-I35 -> 0 | N35: =IF(AND(((G35+H35)<0),(J35+K35)>(G35+H35)),"검토","-") -> - | O35: 현지 실사 등 사업특성상 증액 필요 | P35: 도비 | R35: =K35 -> 10000 | S35: =IF((G35+H35)=(Q35+R35),"ok","검토") -> ok
C36: 30 | D36: 조사담당관 | E36: 부패방지 시스템 구축(자체/직접) - 청렴 홍보물 제작비(사무관리비) | F36: 6000 | H36: 6000 | I36: =F36+G36+H36 -> 12000 | K36: 6000 | L36: =F36+J36+K36 -> 12000 | M36: =L36-I36 -> 0 | N36: =IF(AND(((G36+H36)<0),(J36+K36)>(G36+H36)),"검토","-") -> - | O36: 현지 실사 등 사업특성상 증액 필요 | P36: 도비 | R36: =K36 -> 6000 | S36: =IF((G36+H36)=(Q36+R36),"ok","검토") -> ok
C37: 30 | D37: 조사담당관 | E37: 부패방지 시스템 구축(자체/직접) - 조사 및 감찰자료 수집 여비(국내여비) | F37: 37980 | H37: 1357 | I37: =F37+G37+H37 -> 39337 | K37: 1357 | L37: =F37+J37+K37 -> 39337 | M37: =L37-I37 -> 0 | N37: =IF(AND(((G37+H37)<0),(J37+K37)>(G37+H37)),"검토","-") -> - | O37: 현지 실사 등 사업특성상 증액 필요 | P37: 도비 | R37: =K37 -> 1357 | S37: =IF((G37+H37)=(Q37+R37),"ok","검토") -> ok
C38: 30 | D38: 조사담당관 | E38: 부패방지 시스템 구축(자체/직접) - 경기도 부조리 신고 보상금(기타보상금) | F38: 5000 | H38: 5000 | I38: =F38+G38+H38 -> 10000 | K38: 5000 | L38: =F38+J38+K38 -> 10000 | M38: =L38-I38 -> 0 | N38: =IF(AND(((G38+H38)<0),(J38+K38)>(G38+H38)),"검토","-") -> - | O38: 현지 실사 등 사업특성상 증액 필요 | P38: 도비 | R38: =K38 -> 5000 | S38: =IF((G38+H38)=(Q38+R38),"ok","검토") -> ok
C39: 30 | D39: 조사담당관 | E39: 부패방지 시스템 구축(자체/직접) - 경기도 청렴대상 시상(포상금) | F39: 5000 | H39: 10000 | I39: =F39+G39+H39 -> 15000 | K39: 10000 | L39: =F39+J39+K39 -> 15000 | M39: =L39-I39 -> 0 | N39: =IF(AND(((G39+H39)<0),(J39+K39)>(G39+H39)),"검토","-") -> - | O39: 현지 실사 등 사업특성상 증액 필요 | P39: 도비 | R39: =K39 -> 10000 | S39: =IF((G39+H39)=(Q39+R39),"ok","검토") -> ok
C40: 30 | D40: 조사담당관 | E40: 조사현안사항처리(자체/직접) - 조사현안 업무활동 추진(시책추진업무추진비) | F40: 4200 | H40: 5400 | I40: =F40+G40+H40 -> 9600 | K40: 5400 | L40: =F40+J40+K40 -> 9600 | M40: =L40-I40 -> 0 | N40: =IF(AND(((G40+H40)<0),(J40+K40)>(G40+H40)),"검토","-") -> - | O40: 현지 실사 등 사업특성상 증액 필요 | P40: 도비 | R40: =K40 -> 5400 | S40: =IF((G40+H40)=(Q40+R40),"ok","검토") -> ok
C41: 31 | D41: 조사담당관 | E41: 행정운영경비(조사담당관) - 기본업무수행여비(국내여비) | F41: 39000 | H41: 9000 | I41: =F41+G41+H41 -> 48000 | K41: 9000 | L41: =F41+J41+K41 -> 48000 | M41: =L41-I41 -> 0 | N41: =IF(AND(((G41+H41)<0),(J41+K41)>(G41+H41)),"검토","-") -> - | O41: 현지 실사 등 사업특성상 증액 필요 | P41: 도비 | R41: =K41 -> 9000 | S41: =IF((G41+H41)=(Q41+R41),"ok","검토") -> ok
B42: 기획조정실 | F42: =SUM(F43:F55) -> 2331434536 | G42: =SUM(G43:G55) -> -1055093 | H42: =SUM(H43:H55) -> 1000000 | I42: =SUM(I43:I55) -> 2331379443 | J42: =SUM(J43:J55) -> -110315093 | K42: =SUM(K43:K55) -> 51250000 | L42: =SUM(L43:L55) -> 2272369443 | M42: =SUM(M43:M55) -> -59010000 | Q42: =SUM(Q43:Q55) -> -15840 | R42: =SUM(R43:R55) -> 410747 | S42: =IF((G42+H42)=(Q42+R42),"ok","검토") -> 검토
C43: 40 | D43: 창조행정담당관실 | E43: 경기개발연구원 출연(자체/직접) | F43: 9200000 | H43: 1000000 | I43: =F43+G43+H43 -> 10200000 | K43: =1000000+200000 -> 1200000 | L43: =F43+J43+K43 -> 10400000 | M43: =L43-I43 -> 200000 | N43: =IF(AND(((G43+H43)<0),(J43+K43)>(G43+H43)),"검토","-") -> - | O43: 도 재정상황 감안 필수경비 기반영 (의정연구센타운영비 12억 증액) | P43: 도비 | R43: =K43 -> 1200000 | S43: =IF((G43+H43)=(Q43+R43),"ok","검토") -> 검토
C44: 57 | D44: 정보기획담당관 | E44: 정보화마을 조성(국비/지원) | F44: 110880 | G44: -15840 | I44: =F44+G44+H44 -> 95040 | J44: -15840 | L44: =F44+J44+K44 -> 95040 | M44: =L44-I44 -> 0 | N44: =IF(AND(((G44+H44)<0),(J44+K44)>(G44+H44)),"검토","-") -> - | O44: 국비변경 내시 | P44: 국비 | Q44: -15840 | S44: =IF((G44+H44)=(Q44+R44),"ok","검토") -> ok
C45: 59 | D45: 정보기획담당관 | E45: 정보문화 육성 추진(자체/직접) | F45: 22080 | I45: =F45+G45+H45 -> 22080 | K45: 50000 | L45: =F45+J45+K45 -> 72080 | M45: =L45-I45 -> 50000 | P45: 도비 | R45: =K45 -> 50000 | S45: =IF((G45+H45)=(Q45+R45),"ok","검토") -> 검토
C46: 63 | D46: 정보통신보안담당관 | E46: 경기넷 백업시스템 기능 보강(자체/직접) | F46: 200000 | G46: -200000 | I46: =F46+G46+H46 -> 0 | J46: -200000 | L46: =F46+J46+K46 -> 0 | M46: =L46-I46 -> 0 | N46: =IF(AND(((G46+H46)<0),(J46+K46)>(G46+H46)),"검토","-") -> - | O46: 장비노후에 따른 잦은 고장으로 위험발생 | P46: 도비 | R46: =J46 -> -200000 | S46: =IF((G46+H46)=(Q46+R46),"ok","검토") -> ok
C47: 65 | D47: 정보통신보안담당관 | E47: 시군구 재해복구시스템 백업센터 유지보수(자체/직접) | F47: 315497 | G47: -239253 | I47: =F47+G47+H47 -> 76244 | J47: -239253 | L47: =F47+J47+K47 -> 76244 | M47: =L47-I47 -> 0 | N47: =IF(AND(((G47+H47)<0),(J47+K47)>(G47+H47)),"검토","-") -> - | O47: 자치단체간부담금 감액 (사업계획 변경에 의거 시군별 자체 추친) | P47: 도비 | R47: =J47 -> -239253 | S47: =IF((G47+H47)=(Q47+R47),"ok","검토") -> ok
C48: 68 | D48: 정보서비스담당관 | E48: 청년 D-School 운영(자체/직접) | F48: 500000 | G48: -100000 | I48: =F48+G48+H48 -> 400000 | J48: -100000 | L48: =F48+J48+K48 -> 400000 | M48: =L48-I48 -> 0 | N48: =IF(AND(((G48+H48)<0),(J48+K48)>(G48+H48)),"검토","-") -> - | O48: 모집인원 축소 등 사업량 축소 가능 | P48: 도비 | R48: =J48 -> -100000 | S48: =IF((G48+H48)=(Q48+R48),"ok","검토") -> ok
B49: 0 | C49: 47 | D49: 평가담당관 | E49: 간부공무원 역량평가(자체/직접) | F49: 287000 | I49: =F49+G49+H49 -> 287000 | L49: =F49+J49+K49 -> 287000 | M49: =L49-I49 -> 0 | N49: =IF(AND(((G49+H49)<0),(J49+K49)>(G49+H49)),"검토","-") -> - | O49: 2014년도에는 교육수료로 전환하되, 향후 1년간 시행하여 동제도의 교육과정과 능력 검증 평가시스템을 전면 보완 후에 계속 시행 여부를 결정 | P49: 도비 | S49: =IF((G49+H49)=(Q49+R49),"ok","검토") -> ok
C50: 68 | D50: 정보서비스담당관 | E50: 데이터 개방, 분석, 활용 기반 구축(자체/직접) - 데이터 개방, 분석, 활용기반구축(시설비) | F50: 1747000 | G50: -500000 | I50: =F50+G50+H50 -> 1247000 | J50: -300000 | L50: =F50+J50+K50 -> 1447000 | M50: =L50-I50 -> 200000 | N50: =IF(AND(((G50+H50)<0),(J50+K50)>(G50+H50)),"검토","-") -> 검토 | O50: 일부 기능 축소 등 사업량 축소가능 | P50: 도비 | R50: =J50 -> -300000 | S50: =IF((G50+H50)=(Q50+R50),"ok","검토") -> 검토
C51: 수정47 | D51: 예산담당관 | E51: 재정보전금지원(자체/지원) -일반재정보전금 | F51: 1359031490 | I51: =F51+G51+H51 -> 1359031490 | K51: 37400000 | L51: =F51+J51+K51 -> 1396431490 | M51: =L51-I51 -> 37400000 | N51: =IF(AND(((G51+H51)<0),(J51+K51)>(G51+H51)),"검토","-") -> -
C52: 수정47 | D52: 예산담당관 | E52: 재정보전금지원(자체/지원) -특별재정보전금 | F52: 453010830 | I52: =F52+G52+H52 -> 453010830 | K52: 12600000 | L52: =F52+J52+K52 -> 465610830 | M52: =L52-I52 -> 12600000 | N52: =IF(AND(((G52+H52)<0),(J52+K52)>(G52+H52)),"검토","-") -> -
C53: 수정47 | D53: 예산담당관 | E53: 재정보전금지원(자체/지원) -시책추진보전금 | F53: 201338035 | I53: =F53+G53+H53 -> 201338035 | J53: -50000000 | L53: =F53+J53+K53 -> 151338035 | M53: =L53-I53 -> -50000000 | N53: =IF(AND(((G53+H53)<0),(J53+K53)>(G53+H53)),"검토","-") -> -
C54: 44 | D54: 예산담당관 | E54: 상생발전기금 | F54: 179908000 | I54: =F54+G54+H54 -> 179908000 | J54: -50000000 | L54: =F54+J54+K54 -> 129908000 | M54: =L54-I54 -> -50000000 | N54: =IF(AND(((G54+H54)<0),(J54+K54)>(G54+H54)),"검토","-") -> -
C55: 44 | D55: 예산담당관 | E55: 예비비 | F55: 125763724 | I55: =F55+G55+H55 -> 125763724 | J55: =-10010000+40000+510000 -> -9460000 | L55: =F55+J55+K55 -> 116303724 | M55: =L55-I55 -> -9460000 | N55: =IF(AND(((G55+H55)<0),(J55+K55)>(G55+H55)),"검토","-") -> - | O55: 필수예비비 115,310.355
B56: 안전행정실 | F56: =SUM(F57:F59) -> 356500 | G56: =SUM(G57:G59) -> 0 | H56: =SUM(H57:H59) -> 100400 | I56: =SUM(I57:I59) -> 456900 | J56: =SUM(J57:J59) -> 0 | K56: =SUM(K57:K59) -> 250400 | L56: =F56+J56+K56 -> 606900 | M56: =L56-I56 -> 150000 | Q56: =SUM(Q57:Q59) -> 0 | R56: =SUM(R57:R59) -> 250400 | S56: =IF((G56+H56)=(Q56+R56),"ok","검토") -> 검토
C57: 90 | D57: 남북협력담당관 | E57: 북한이탈주민 맞춤형 취업지원 확대(자체/직접) - 북한이탈주민 취업지원 (행사운영비) | F57: 6000 | H57: 28400 | I57: =F57+G57+H57 -> 34400 | K57: 28400 | L57: =F57+J57+K57 -> 34400 | M57: =L57-I57 -> 0 | N57: =IF(AND(((G57+H57)<0),(J57+K57)>(G57+H57)),"검토","-") -> - | O57: 북한이탈주민 취업지원(증 28,400), | P57: 도비 | R57: =K57 -> 28400 | S57: =IF((G57+H57)=(Q57+R57),"ok","검토") -> ok
C58: 90 | D58: 남북협력담당관 | E58: 북한이탈주민 맞춤형 취업지원 확대(자체/직접) - 북한이탈주민 밎춤형 취업교육 (민간경상보조금) | F58: 128000 | H58: 72000 | I58: =F58+G58+H58 -> 200000 | K58: 72000 | L58: =F58+J58+K58 -> 200000 | M58: =L58-I58 -> 0 | N58: =IF(AND(((G58+H58)<0),(J58+K58)>(G58+H58)),"검토","-") -> - | O58: 북한이탈주민 맞춤형 취업지원(민간경상보조, 72,000) | P58: 도비 | R58: =K58 -> 72000 | S58: =IF((G58+H58)=(Q58+R58),"ok","검토") -> ok
C59: 50 | D59: 군관협력담당관 | E59: 한미협력사업 | F59: 222500 | I59: =F59+G59+H59 -> 222500 | K59: 150000 | L59: =F59+J59+K59 -> 372500 | M59: =L59-I59 -> 150000 | N59: =IF(AND(((G59+H59)<0),(J59+K59)>(G59+H59)),"검토","-") -> - | O59: 문화,역사 강좌 각 50백만원, 한미축제 100백만원 | P59: 도비 | R59: =K59 -> 150000 | S59: =IF((G59+H59)=(Q59+R59),"ok","검토") -> 검토
B60: 균형발전국 | F60: =SUM(F61:F61) -> 100000 | G60: =SUM(G61:G61) -> 0 | H60: =SUM(H61:H61) -> 100000 | I60: =SUM(I61:I61) -> 200000 | J60: =SUM(J61:J61) -> 0 | K60: =SUM(K61:K61) -> 100000 | L60: =SUM(L61:L61) -> 200000 | M60: =SUM(M61:M61) -> 0 | Q60: =SUM(Q61:Q128) -> 0 | R60: =SUM(R61:R128) -> 30266338 | S60: =IF((G60+H60)=(Q60+R60),"ok","검토") -> 검토
C61: 102 | D61: DMZ정책과 | E61: 평화누리길 자전거 퍼레이드(자체/직접) | F61: 100000 | H61: 100000 | I61: =F61+G61+H61 -> 200000 | K61: 100000 | L61: =F61+J61+K61 -> 200000 | M61: =L61-I61 -> 0 | N61: =IF(AND(((G61+H61)<0),(J61+K61)>(G61+H61)),"검토","-") -> - | O61: 전년도 수준 반영 필요 | P61: 도비 | R61: =K61 -> 100000 | S61: =IF((G61+H61)=(Q61+R61),"ok","검토") -> ok
A62: 경제과학기술위원회 | F62: =SUM(F63:F128)/2 -> 32726201 | G62: =SUM(G63:G128)/2 -> -2311000 | H62: =SUM(H63:H128)/2 -> 14631446 | I62: =SUM(I63:I128)/2 -> 45046647 | J62: =SUM(J63:J128)/2 -> -2331000 | K62: =SUM(K63:K128)/2 -> 12386446 | L62: =F62+J62+K62 -> 42781647 | M62: =L62-I62 -> -2265000 | Q62: =SUM(Q63:Q128)/2 -> 0 | R62: =SUM(R63:R128)/2 -> 10055446 | S62: =IF((G62+H62)=(Q62+R62),"ok","검토") -> 검토
B63: 경제투자실 | F63: =SUM(F64:F120) -> 31928201 | G63: =SUM(G64:G120) -> -2311000 | H63: =SUM(H64:H120) -> 13737446 | I63: =SUM(I64:I120) -> 43354647 | J63: =SUM(J64:J120) -> -2331000 | K63: =SUM(K64:K120) -> 11452446 | L63: =F63+J63+K63 -> 41049647 | M63: =L63-I63 -> -2305000 | Q63: =SUM(Q64:Q120) -> 0 | R63: =SUM(R64:R120) -> 9121446 | S63: =IF((G63+H63)=(Q63+R63),"ok","검토") -> 검토
C64: 124 | D64: 경제정책과 | E64: 경기도 경제단체연합회 지원(자체/직접) - 경기도 경제단체연합회 지원 | F64: 1485000 | G64: -200000 | I64: =F64+G64+H64 -> 1285000 | J64: -200000 | L64: =F64+J64+K64 -> 1285000 | M64: =L64-I64 -> 0 | N64: =IF(AND(((G64+H64)<0),(J64+K64)>(G64+H64)),"검토","-") -> - | O64: 인건비 1억감, 홍보비 1억감 | P64: 도비 | R64: =J64 -> -200000 | S64: =IF((G64+H64)=(Q64+R64),"ok","검토") -> ok
C65: 추가 | D65: 경제정책과 | E65: 경기도 경제단체연합회 지원(자체/직접) - 중소기업네트워크 교류협력사업 | H65: 400000 | I65: =F65+G65+H65 -> 400000 | K65: 400000 | L65: =F65+J65+K65 -> 400000 | M65: =L65-I65 -> 0 | N65: =IF(AND(((G65+H65)<0),(J65+K65)>(G65+H65)),"검토","-") -> - | O65: (신규) 중소기업네트워크 교류협력사업(증400,000) | P65: 도비 | R65: =K65 -> 400000 | S65: =IF((G65+H65)=(Q65+R65),"ok","검토") -> ok
C66: 124 | D66: 경제정책과 | E66: 협동조합 지원(자체/직접) | F66: 150000 | H66: 90000 | I66: =F66+G66+H66 -> 240000 | K66: 90000 | L66: =F66+J66+K66 -> 240000 | M66: =L66-I66 -> 0 | N66: =IF(AND(((G66+H66)<0),(J66+K66)>(G66+H66)),"검토","-") -> - | P66: 도비 | R66: =K66 -> 90000 | S66: =IF((G66+H66)=(Q66+R66),"ok","검토") -> ok
C67: 125 | D67: 경제정책과 | E67: 전통시장 활성화지원(자체/직접) - 전통시장 문화공연 사업 | F67: 50000 | H67: 150000 | I67: =F67+G67+H67 -> 200000 | K67: 150000 | L67: =F67+J67+K67 -> 200000 | M67: =L67-I67 -> 0 | N67: =IF(AND(((G67+H67)<0),(J67+K67)>(G67+H67)),"검토","-") -> - | O67: 전통시장 문화공연 사업(150,000) | P67: 도비 | R67: =K67 -> 150000 | S67: =IF((G67+H67)=(Q67+R67),"ok","검토") -> ok
A68: 1 | C68: 126 | D68: 경제정책과 | E68: 소상공인 지원(자체/직접) | F68: 1300000 | H68: 200000 | I68: =F68+G68+H68 -> 1500000 | K68: 400000 | L68: =F68+J68+K68 -> 1700000 | M68: =L68-I68 -> 200000 | N68: =IF(AND(((G68+H68)<0),(J68+K68)>(G68+H68)),"검토","-") -> - | O68: SSM사업조정 포함,소상공인박람회(2억) | P68: 도비 | R68: =K68 -> 400000 | S68: =IF((G68+H68)=(Q68+R68),"ok","검토") -> 검토
C69: 127 | D69: 경제정책과 | E69: 사회적기업 활성화 지원(자체/직접) - 사회적기업 설립 및 컨설팅 지원 | F69: 200000 | H69: 42000 | I69: =F69+G69+H69 -> 242000 | K69: 42000 | L69: =F69+J69+K69 -> 242000 | M69: =L69-I69 -> 0 | N69: =IF(AND(((G69+H69)<0),(J69+K69)>(G69+H69)),"검토","-") -> - | O69: 사회적기업설립 및 컨설팅 지원(42,000) | P69: 도비 | R69: =K69 -> 42000 | S69: =IF((G69+H69)=(Q69+R69),"ok","검토") -> ok
C70: 128 | D70: 경제정책과 | E70: 사회적기업 활성화 지원(자체/직접) - 사회적기업 박람회 지원 | F70: 50000 | H70: 50000 | I70: =F70+G70+H70 -> 100000 | K70: 50000 | L70: =F70+J70+K70 -> 100000 | M70: =L70-I70 -> 0 | N70: =IF(AND(((G70+H70)<0),(J70+K70)>(G70+H70)),"검토","-") -> - | O70: 사회적기업 박람회지원(50,000) | P70: 도비 | R70: =K70 -> 50000 | S70: =IF((G70+H70)=(Q70+R70),"ok","검토") -> ok
C71: 128 | D71: 경제정책과 | E71: 사회적기업 활성화 지원(자체/직접) - 사회적기업 온라인 판로개척 지원 | F71: 50000 | H71: 20000 | I71: =F71+G71+H71 -> 70000 | K71: 20000 | L71: =F71+J71+K71 -> 70000 | M71: =L71-I71 -> 0 | N71: =IF(AND(((G71+H71)<0),(J71+K71)>(G71+H71)),"검토","-") -> - | O71: 사회적기업 온라인 판로개척 지원(20,000) | P71: 도비 | R71: =K71 -> 20000 | S71: =IF((G71+H71)=(Q71+R71),"ok","검토") -> ok
C72: 추가 | D72: 경제정책과 | E72: 사회적기업 활성화 지원(자체/직접) - 사회적경제기업 홍보프로그램 제작 | H72: 200000 | I72: =F72+G72+H72 -> 200000 | K72: 200000 | L72: =F72+J72+K72 -> 200000 | M72: =L72-I72 -> 0 | N72: =IF(AND(((G72+H72)<0),(J72+K72)>(G72+H72)),"검토","-") -> - | O72: (신규) 사회적 경제기업 홍보프로그램제작(200,000) | P72: 도비 | R72: =K72 -> 200000 | S72: =IF((G72+H72)=(Q72+R72),"ok","검토") -> ok
C73: 추가 | D73: 경제정책과 | E73: 사회적기업 활성화 지원(자체/직접) - 사회적기업 s-ceo 네트워크 조성 | H73: 30000 | I73: =F73+G73+H73 -> 30000 | K73: 30000 | L73: =F73+J73+K73 -> 30000 | M73: =L73-I73 -> 0 | N73: =IF(AND(((G73+H73)<0),(J73+K73)>(G73+H73)),"검토","-") -> - | O73: (신규) 사회적기업 s-ceo 네트워크조성(30,000) | P73: 도비 | R73: =K73 -> 30000 | S73: =IF((G73+H73)=(Q73+R73),"ok","검토") -> ok
C74: 128 | D74: 경제정책과 | E74: 사회적기업 판로지원(자체/지원) | F74: 30000 | H74: 20000 | I74: =F74+G74+H74 -> 50000 | K74: 20000 | L74: =F74+J74+K74 -> 50000 | M74: =L74-I74 -> 0 | N74: =IF(AND(((G74+H74)<0),(J74+K74)>(G74+H74)),"검토","-") -> - | P74: 도비 | R74: =K74 -> 20000 | S74: =IF((G74+H74)=(Q74+R74),"ok","검토") -> ok
C75: 130 | D75: 기업지원1과 | E75: 중소기업종합지원센터 사업지원(자체/직접) | F75: 3636000 | G75: -200000 | I75: =F75+G75+H75 -> 3436000 | J75: -200000 | L75: =F75+J75+K75 -> 3436000 | M75: =L75-I75 -> 0 | N75: =IF(AND(((G75+H75)<0),(J75+K75)>(G75+H75)),"검토","-") -> - | P75: 도비 | R75: =J75 -> -200000 | S75: =IF((G75+H75)=(Q75+R75),"ok","검토") -> ok
C76: 131 | D76: 기업지원1과 | E76: 품질경영활동 지원(자체/직접) - 경기도 품질경영대회 운영 | F76: 11000 | H76: 5500 | I76: =F76+G76+H76 -> 16500 | K76: 5500 | L76: =F76+J76+K76 -> 16500 | M76: =L76-I76 -> 0 | N76: =IF(AND(((G76+H76)<0),(J76+K76)>(G76+H76)),"검토","-") -> - | O76: 경기도 품질경영대회 운영(5,500) | P76: 도비 | R76: =K76 -> 5500 | S76: =IF((G76+H76)=(Q76+R76),"ok","검토") -> ok
C77: 131 | D77: 기업지원1과 | E77: 품질경영활동 지원(자체/직접) - 유망중소기업 품질 경영컨설팅 | F77: 300000 | H77: 100000 | I77: =F77+G77+H77 -> 400000 | K77: 100000 | L77: =F77+J77+K77 -> 400000 | M77: =L77-I77 -> 0 | N77: =IF(AND(((G77+H77)<0),(J77+K77)>(G77+H77)),"검토","-") -> - | O77: 유망중소기업 품질 경영컨설팅(100,000) | P77: 도비 | R77: =K77 -> 100000 | S77: =IF((G77+H77)=(Q77+R77),"ok","검토") -> ok
C78: 추가 | D78: 기업지원1과 | E78: 품질경영활동 지원(자체/직접) - 선진품질경영 시스템 연수 | H78: 67000 | I78: =F78+G78+H78 -> 67000 | K78: 67000 | L78: =F78+J78+K78 -> 67000 | M78: =L78-I78 -> 0 | N78: =IF(AND(((G78+H78)<0),(J78+K78)>(G78+H78)),"검토","-") -> - | O78: 선진품질경영 시스템 연수(67,000) | P78: 도비 | R78: =K78 -> 67000 | S78: =IF((G78+H78)=(Q78+R78),"ok","검토") -> ok
C79: 131 | D79: 기업지원1과 | E79: 소규모 기업환경 개선사업(자체/지원) | F79: 2389000 | H79: 500000 | I79: =F79+G79+H79 -> 2889000 | K79: 500000 | L79: =F79+J79+K79 -> 2889000 | M79: =L79-I79 -> 0 | N79: =IF(AND(((G79+H79)<0),(J79+K79)>(G79+H79)),"검토","-") -> - | P79: 도비 | R79: =K79 -> 500000 | S79: =IF((G79+H79)=(Q79+R79),"ok","검토") -> ok
C80: 132 | D80: 기업지원1과 | E80: 공예품대전 행사개최 및 우수공예품 판로지원(자체/직접) -경기도 공예품 대전 행사비(민간경상보조) | F80: 33000 | I80: =F80+G80+H80 -> 33000 | K80: 20000 | L80: =F80+J80+K80 -> 53000 | M80: =L80-I80 -> 20000 | N80: =IF(AND(((G80+H80)<0),(J80+K80)>(G80+H80)),"검토","-") -> - | O80: 과목경정 | P80: 도비 | R80: =K80 -> 20000 | S80: =IF((G80+H80)=(Q80+R80),"ok","검토") -> 검토
C81: 132 | D81: 기업지원1과 | E81: 공예품대전 행사개최 및 우수공예품 판로지원(자체/직접) - 우수공예품 전시판매대회 참가 지원(민간행사보조) | F81: 20000 | I81: =F81+G81+H81 -> 20000 | J81: -20000 | L81: =F81+J81+K81 -> 0 | M81: =L81-I81 -> -20000 | N81: =IF(AND(((G81+H81)<0),(J81+K81)>(G81+H81)),"검토","-") -> - | O81: 과목경정 | P81: 도비 | R81: =J81 -> -20000 | S81: =IF((G81+H81)=(Q81+R81),"ok","검토") -> 검토
C82: 134 | D82: 기업지원2과 | E82: Green-All 사업 추진(자체/직접) | F82: 111000 | G82: -11000 | I82: =F82+G82+H82 -> 100000 | J82: -11000 | L82: =F82+J82+K82 -> 100000 | M82: =L82-I82 -> 0 | N82: =IF(AND(((G82+H82)<0),(J82+K82)>(G82+H82)),"검토","-") -> - | P82: 도비 | R82: =J82 -> -11000 | S82: =IF((G82+H82)=(Q82+R82),"ok","검토") -> ok
C83: 136 | D83: 기업지원2과 | E83: 사회복지시설 에너지 자립기반 시범 조성(자체/지원) | F83: 400000 | H83: 200000 | I83: =F83+G83+H83 -> 600000 | K83: 200000 | L83: =F83+J83+K83 -> 600000 | M83: =L83-I83 -> 0 | N83: =IF(AND(((G83+H83)<0),(J83+K83)>(G83+H83)),"검토","-") -> - | O83: 전년도수준 | P83: 도비 | R83: =K83 -> 200000 | S83: =IF((G83+H83)=(Q83+R83),"ok","검토") -> ok
C84: 137 | D84: 기업지원2과 | E84: 산업단지계획심의위원회 등 참석수당(자체/직접) | F84: 14904 | H84: 11000 | I84: =F84+G84+H84 -> 25904 | K84: 11000 | L84: =F84+J84+K84 -> 25904 | M84: =L84-I84 -> 0 | N84: =IF(AND(((G84+H84)<0),(J84+K84)>(G84+H84)),"검토","-") -> - | P84: 도비 | R84: =K84 -> 11000 | S84: =IF((G84+H84)=(Q84+R84),"ok","검토") -> ok
C85: 추가 | D85: 기업지원2과 | E85: 태양광 소규모발전 투자촉진보조금지원(자체/직접) | H85: 100000 | I85: =F85+G85+H85 -> 100000 | K85: 100000 | L85: =F85+J85+K85 -> 100000 | M85: =L85-I85 -> 0 | N85: =IF(AND(((G85+H85)<0),(J85+K85)>(G85+H85)),"검토","-") -> - | P85: 도비 | R85: =K85 -> 100000 | S85: =IF((G85+H85)=(Q85+R85),"ok","검토") -> ok
C86: 추가 | D86: 기업지원과2과 | E86: 제19회 경기도에너지 웅변대회(자체/직접) | I86: =F86+G86+H86 -> 0 | K86: 5000 | L86: =F86+J86+K86 -> 5000 | M86: =L86-I86 -> 5000 | N86: =IF(AND(((G86+H86)<0),(J86+K86)>(G86+H86)),"검토","-") -> - | P86: 도비 | R86: =K86 -> 5000 | S86: =IF((G86+H86)=(Q86+R86),"ok","검토") -> 검토
C87: 139 | D87: 과학기술과 | E87: 광교테크노밸리 통합운영(자체/직접) | F87: 70000 | H87: 230000 | I87: =F87+G87+H87 -> 300000 | K87: 230000 | L87: =F87+J87+K87 -> 300000 | M87: =L87-I87 -> 0 | N87: =IF(AND(((G87+H87)<0),(J87+K87)>(G87+H87)),"검토","-") -> - | O87: 전년도수준 | P87: 도비 | R87: =K87 -> 230000 | S87: =IF((G87+H87)=(Q87+R87),"ok","검토") -> ok
C88: 139 | D88: 과학기술과 | E88: 경기도 한국나노기술원 출연금(자체/직접) | F88: 900000 | G88: -100000 | I88: =F88+G88+H88 -> 800000 | J88: -100000 | L88: =F88+J88+K88 -> 800000 | M88: =L88-I88 -> 0 | N88: =IF(AND(((G88+H88)<0),(J88+K88)>(G88+H88)),"검토","-") -> - | P88: 도비 | R88: =J88 -> -100000 | S88: =IF((G88+H88)=(Q88+R88),"ok","검토") -> ok
C89: 139 | D89: 과학기술과 | E89: 천연물 신약 후보물질 발굴 및 전임상 평가사업(자체/직접) | F89: 770000 | H89: 200000 | I89: =F89+G89+H89 -> 970000 | K89: 200000 | L89: =F89+J89+K89 -> 970000 | M89: =L89-I89 -> 0 | N89: =IF(AND(((G89+H89)<0),(J89+K89)>(G89+H89)),"검토","-") -> - | O89: (신규) DMZ천연물기능성소재실용화연구(200,000) | P89: 도비 | R89: =K89 -> 200000 | S89: =IF((G89+H89)=(Q89+R89),"ok","검토") -> ok
C90: 140 | D90: 과학기술과 | E90: 로봇부품 사업화 지원사업(자체/지원) | F90: 400000 | H90: 100000 | I90: =F90+G90+H90 -> 500000 | K90: 100000 | L90: =F90+J90+K90 -> 500000 | M90: =L90-I90 -> 0 | N90: =IF(AND(((G90+H90)<0),(J90+K90)>(G90+H90)),"검토","-") -> - | O90: 전년도수준 | P90: 도비 | R90: =K90 -> 100000 | S90: =IF((G90+H90)=(Q90+R90),"ok","검토") -> ok
C91: 142 | D91: 과학기술과 | E91: 경기연구개발지원단 운영사업(자체/직접) | F91: 160000 | H91: 40000 | I91: =F91+G91+H91 -> 200000 | K91: 40000 | L91: =F91+J91+K91 -> 200000 | M91: =L91-I91 -> 0 | N91: =IF(AND(((G91+H91)<0),(J91+K91)>(G91+H91)),"검토","-") -> - | P91: 도비 | R91: =K91 -> 40000 | S91: =IF((G91+H91)=(Q91+R91),"ok","검토") -> ok
C92: 142 | D92: 과학기술과 | E92: 기업 기술개발사업(자체/직접) | F92: 5240000 | H92: 2000000 | I92: =F92+G92+H92 -> 7240000 | K92: 1500000 | L92: =F92+J92+K92 -> 6740000 | M92: =L92-I92 -> -500000 | N92: =IF(AND(((G92+H92)<0),(J92+K92)>(G92+H92)),"검토","-") -> - | O92: 중소기업 R&D 지원 | P92: 도비 | R92: =K92 -> 1500000 | S92: =IF((G92+H92)=(Q92+R92),"ok","검토") -> 검토
C93: 143 | D93: 과학기술과 | E93: 경기테크노파크 운영지원(자체/직접) (과목경정) | F93: 200000 | H93: 100000 | I93: =F93+G93+H93 -> 300000 | K93: 100000 | L93: =F93+J93+K93 -> 300000 | M93: =L93-I93 -> 0 | N93: =IF(AND(((G93+H93)<0),(J93+K93)>(G93+H93)),"검토","-") -> - | O93: (과목경정) 민간경상보조 ⇒ 출연금 | P93: 도비 | R93: =K93 -> 100000 | S93: =IF((G93+H93)=(Q93+R93),"ok","검토") -> ok
C94: 143 | D94: 과학기술과 | E94: 대중소기업 동반성장 R&D사업(자체/직접) | F94: 100000 | H94: 100000 | I94: =F94+G94+H94 -> 200000 | K94: 100000 | L94: =F94+J94+K94 -> 200000 | M94: =L94-I94 -> 0 | N94: =IF(AND(((G94+H94)<0),(J94+K94)>(G94+H94)),"검토","-") -> - | O94: 전년도수준 | P94: 도비 | R94: =K94 -> 100000 | S94: =IF((G94+H94)=(Q94+R94),"ok","검토") -> ok
C95: 144 | D95: 과학기술과 | E95: 경기지역협력연구센터(GRRC)지원(자체/직접) | F95: 2570000 | H95: 2000000 | I95: =F95+G95+H95 -> 4570000 | K95: 1500000 | L95: =F95+J95+K95 -> 4070000 | M95: =L95-I95 -> -500000 | N95: =IF(AND(((G95+H95)<0),(J95+K95)>(G95+H95)),"검토","-") -> - | O95: 중소기업 R&D활성화 | P95: 도비 | R95: =K95 -> 1500000 | S95: =IF((G95+H95)=(Q95+R95),"ok","검토") -> 검토
C96: 144 | D96: 과학기술과 | E96: 산학 공동기술개발지원사업(자체/직접) | F96: 1300000 | G96: -500000 | I96: =F96+G96+H96 -> 800000 | J96: -500000 | L96: =F96+J96+K96 -> 800000 | M96: =L96-I96 -> 0 | N96: =IF(AND(((G96+H96)<0),(J96+K96)>(G96+H96)),"검토","-") -> - | P96: 도비 | R96: =J96 -> -500000 | S96: =IF((G96+H96)=(Q96+R96),"ok","검토") -> ok
C97: 추가 | D97: 과학기술과 | E97: 지능형자동차연구센터 장비구축(자체/직접) | H97: 150000 | I97: =F97+G97+H97 -> 150000 | K97: 150000 | L97: =F97+J97+K97 -> 150000 | M97: =L97-I97 -> 0 | N97: =IF(AND(((G97+H97)<0),(J97+K97)>(G97+H97)),"검토","-") -> - | P97: 도비 | R97: =K97 -> 150000 | S97: =IF((G97+H97)=(Q97+R97),"ok","검토") -> ok
C98: 추가 | D98: 과학기술과 | E98: 산업혁신클러스터협의회(IICC)지원(자체/직접) | H98: 200000 | I98: =F98+G98+H98 -> 200000 | K98: 200000 | L98: =F98+J98+K98 -> 200000 | M98: =L98-I98 -> 0 | N98: =IF(AND(((G98+H98)<0),(J98+K98)>(G98+H98)),"검토","-") -> - | O98: 2013 본예산서 p430 (200,000) | P98: 도비 | R98: =K98 -> 200000 | S98: =IF((G98+H98)=(Q98+R98),"ok","검토") -> ok
C99: 추가 | D99: 과학기술과 | E99: 경기과학정책연구사업지원 | I99: =F99+G99+H99 -> 0 | K99: 100000 | L99: =F99+J99+K99 -> 100000 | M99: =L99-I99 -> 100000 | N99: =IF(AND(((G99+H99)<0),(J99+K99)>(G99+H99)),"검토","-") -> - | P99: 도비 | R99: =K99 -> 100000 | S99: =IF((G99+H99)=(Q99+R99),"ok","검토") -> 검토
C100: 141 | D100: 과학기술과 | E100: 경기 기능성 천연물산업 육성 지원(자체/직접) | F100: 90000 | I100: =F100+G100+H100 -> 90000 | K100: 90000 | L100: =F100+J100+K100 -> 180000 | M100: =L100-I100 -> 90000 | N100: =IF(AND(((G100+H100)<0),(J100+K100)>(G100+H100)),"검토","-") -> - | P100: 도비 | R100: =K100 -> 90000 | S100: =IF((G100+H100)=(Q100+R100),"ok","검토") -> 검토
...

Sheet 특입
A1: 2014년도 경기도 특별회계 세입 예산 수정(안)
A2: □세입예산
N3: (단위 : 천원)
A4: 위원회 | C4: 예산안 페이지 | D4: 부서명 | E4: 사업명 | F4: 예산안 (가) | G4: 상임위 예산안 조정액(라) | I4: 상임위 수정 예산안 (마=가+라) | J4: 예결위 예산안 조정액(마) | L4: 예결위 수정 예산안 (바=가+마) | M4: 동의 대상 | N4: 비 고 | O4: 재원 | P4: 상임위 재원별 증감액 | T4: 상임위 조정액 | V4: 비 고
G5: 감액 | H5: 증액 | J5: 감액 | K5: 증액 | P5: 국비 등 | Q5: 도 비 | R5: 검 증 | T5: 감액 | U5: 증액
B6: 합 계
F7: =F8+F13 -> 0 | G7: =G8+G13 -> 0 | H7: =H8+H13 -> 0 | I7: =I8+I13 -> 0 | J7: =J8+J13 -> -1340000 | K7: =K8+K13 -> 750000 | L7: =L8+L13 -> -590000 | T7: =T8+T13 -> -200000 | U7: =U8+U13 -> 2000000
F8: =SUM(F9:F12) -> 0 | G8: =SUM(G9:G12) -> 0 | H8: =SUM(H9:H12) -> 0 | I8: =SUM(I9:I12) -> 0 | J8: =SUM(J9:J12) -> -1340000 | K8: =SUM(K9:K12) -> 750000 | L8: =SUM(L9:L12) -> -590000 | T8: =SUM(T9:T12) -> -100000 | U8: =SUM(U9:U12) -> 1000000
I9: =F9+G9+H9 -> 0 | J9: -740000 | L9: =F9+J9+K9 -> -740000 | M9: =IF(G9-J9<0,"동의필요","-") -> - | R9: =IF((G9+H9)=(P9+Q9),"ok","검토") -> ok
I10: =F10+G10+H10 -> 0 | K10: 750000 | L10: =F10+J10+K10 -> 750000 | M10: =IF(G10-J10<0,"동의필요","-") -> - | R10: =IF((G10+H10)=(P10+Q10),"ok","검토") -> ok
I11: =F11+G11+H11 -> 0 | J11: -600000 | L11: =F11+J11+K11 -> -600000 | M11: =IF(G11-J11<0,"동의필요","-") -> - | R11: =IF((G11+H11)=(P11+Q11),"ok","검토") -> ok | T11: -100000
I12: =F12+G12+H12 -> 0 | L12: =F12+J12+K12 -> 0 | M12: =IF(G12-J12<0,"동의필요","-") -> - | R12: =IF((G12+H12)=(P12+Q12),"ok","검토") -> ok | U12: 1000000
F13: =SUM(F14:F17) -> 0 | G13: =SUM(G14:G17) -> 0 | H13: =SUM(H14:H17) -> 0 | I13: =SUM(I14:I17) -> 0 | T13: =SUM(T14:T17) -> -100000 | U13: =SUM(U14:U17) -> 1000000
I14: =F14+G14+H14 -> 0 | L14: =F14+J14+K14 -> 0 | M14: =IF(G14-J14<0,"동의필요","-") -> - | R14: =IF((G14+H14)=(P14+Q14),"ok","검토") -> ok
I15: =F15+G15+H15 -> 0 | L15: =F15+J15+K15 -> 0 | M15: =IF(G15-J15<0,"동의필요","-") -> - | R15: =IF((G15+H15)=(P15+Q15),"ok","검토") -> ok
I16: =F16+G16+H16 -> 0 | L16: =F16+J16+K16 -> 0 | M16: =IF(G16-J16<0,"동의필요","-") -> - | R16: =IF((G16+H16)=(P16+Q16),"ok","검토") -> ok | T16: -100000
I17: =F17+G17+H17 -> 0 | L17: =F17+J17+K17 -> 0 | M17: =IF(G17-J17<0,"동의필요","-") -> - | R17: =IF((G17+H17)=(P17+Q17),"ok","검토") -> ok | U17: 1000000
F18: =SUM(F19:F22) -> 0 | G18: =SUM(G19:G22) -> 0 | H18: =SUM(H19:H22) -> 0 | I18: =SUM(I19:I22) -> 0 | T18: =SUM(T19:T22) -> -100000 | U18: =SUM(U19:U22) -> 1000000
I19: =F19+G19+H19 -> 0 | L19: =F19+J19+K19 -> 0 | M19: =IF(G19-J19<0,"동의필요","-") -> - | R19: =IF((G19+H19)=(P19+Q19),"ok","검토") -> ok
I20: =F20+G20+H20 -> 0 | L20: =F20+J20+K20 -> 0 | M20: =IF(G20-J20<0,"동의필요","-") -> - | R20: =IF((G20+H20)=(P20+Q20),"ok","검토") -> ok
I21: =F21+G21+H21 -> 0 | L21: =F21+J21+K21 -> 0 | M21: =IF(G21-J21<0,"동의필요","-") -> - | R21: =IF((G21+H21)=(P21+Q21),"ok","검토") -> ok | T21: -100000
I22: =F22+G22+H22 -> 0 | L22: =F22+J22+K22 -> 0 | M22: =IF(G22-J22<0,"동의필요","-") -> - | R22: =IF((G22+H22)=(P22+Q22),"ok","검토") -> ok | U22: 1000000

Sheet 특출
A1: 2014년도 경기도 특별회계 세출 예산 수정(안)
A2: □세출예산
N3: (단위 : 천원)
A4: 위원회 | C4: 예산안 페이지 | D4: 부서명 | E4: 사업명 | F4: 예산안 (가) | G4: 상임위 예산안 조정액(라) | I4: 상임위 수정 예산안 (마=가+라) | J4: 예결위 예산안 조정액(마) | L4: 예결위 수정 예산안 (바=가+마) | M4: 동의 대상 | N4: 비 고 | O4: 재원 | P4: 상임위 재원별 증감액 | T4: 상임위 조정액 | V4: 비 고
G5: 감액 | H5: 증액 | J5: 감액 | K5: 증액 | P5: 국비 등 | Q5: 도 비 | R5: 검 증 | T5: 감액 | U5: 증액
B6: 합 계
F7: =F8+F13 -> 0 | G7: =G8+G13 -> 0 | H7: =H8+H13 -> 0 | I7: =I8+I13 -> 0 | J7: =J8+J13 -> -1340000 | K7: =K8+K13 -> 750000 | L7: =L8+L13 -> -590000 | T7: =T8+T13 -> -200000 | U7: =U8+U13 -> 2000000
F8: =SUM(F9:F12) -> 0 | G8: =SUM(G9:G12) -> 0 | H8: =SUM(H9:H12) -> 0 | I8: =SUM(I9:I12) -> 0 | J8: =SUM(J9:J12) -> -1340000 | K8: =SUM(K9:K12) -> 750000 | L8: =SUM(L9:L12) -> -590000 | T8: =SUM(T9:T12) -> -100000 | U8: =SUM(U9:U12) -> 1000000
I9: =F9+G9+H9 -> 0 | J9: -740000 | L9: =F9+J9+K9 -> -740000 | M9: =IF(G9-J9<0,"동의필요","-") -> - | R9: =IF((G9+H9)=(P9+Q9),"ok","검토") -> ok
I10: =F10+G10+H10 -> 0 | K10: 750000 | L10: =F10+J10+K10 -> 750000 | M10: =IF(G10-J10<0,"동의필요","-") -> - | R10: =IF((G10+H10)=(P10+Q10),"ok","검토") -> ok
I11: =F11+G11+H11 -> 0 | J11: -600000 | L11: =F11+J11+K11 -> -600000 | M11: =IF(G11-J11<0,"동의필요","-") -> - | R11: =IF((G11+H11)=(P11+Q11),"ok","검토") -> ok | T11: -100000
I12: =F12+G12+H12 -> 0 | L12: =F12+J12+K12 -> 0 | M12: =IF(G12-J12<0,"동의필요","-") -> - | R12: =IF((G12+H12)=(P12+Q12),"ok","검토") -> ok | U12: 1000000
F13: =SUM(F14:F17) -> 0 | G13: =SUM(G14:G17) -> 0 | H13: =SUM(H14:H17) -> 0 | I13: =SUM(I14:I17) -> 0 | T13: =SUM(T14:T17) -> -100000 | U13: =SUM(U14:U17) -> 1000000
I14: =F14+G14+H14 -> 0 | L14: =F14+J14+K14 -> 0 | M14: =IF(G14-J14<0,"동의필요","-") -> - | R14: =IF((G14+H14)=(P14+Q14),"ok","검토") -> ok
I15: =F15+G15+H15 -> 0 | L15: =F15+J15+K15 -> 0 | M15: =IF(G15-J15<0,"동의필요","-") -> - | R15: =IF((G15+H15)=(P15+Q15),"ok","검토") -> ok
I16: =F16+G16+H16 -> 0 | L16: =F16+J16+K16 -> 0 | M16: =IF(G16-J16<0,"동의필요","-") -> - | R16: =IF((G16+H16)=(P16+Q16),"ok","검토") -> ok | T16: -100000
I17: =F17+G17+H17 -> 0 | L17: =F17+J17+K17 -> 0 | M17: =IF(G17-J17<0,"동의필요","-") -> - | R17: =IF((G17+H17)=(P17+Q17),"ok","검토") -> ok | U17: 1000000
F18: =SUM(F19:F22) -> 0 | G18: =SUM(G19:G22) -> 0 | H18: =SUM(H19:H22) -> 0 | I18: =SUM(I19:I22) -> 0 | T18: =SUM(T19:T22) -> -100000 | U18: =SUM(U19:U22) -> 1000000
I19: =F19+G19+H19 -> 0 | L19: =F19+J19+K19 -> 0 | M19: =IF(G19-J19<0,"동의필요","-") -> - | R19: =IF((G19+H19)=(P19+Q19),"ok","검토") -> ok
I20: =F20+G20+H20 -> 0 | L20: =F20+J20+K20 -> 0 | M20: =IF(G20-J20<0,"동의필요","-") -> - | R20: =IF((G20+H20)=(P20+Q20),"ok","검토") -> ok
I21: =F21+G21+H21 -> 0 | L21: =F21+J21+K21 -> 0 | M21: =IF(G21-J21<0,"동의필요","-") -> - | R21: =IF((G21+H21)=(P21+Q21),"ok","검토") -> ok | T21: -100000
I22: =F22+G22+H22 -> 0 | L22: =F22+J22+K22 -> 0 | M22: =IF(G22-J22<0,"동의필요","-") -> - | R22: =IF((G22+H22)=(P22+Q22),"ok","검토") -> ok | U22: 1000000

Sheet 표지(기특)
B5: 2014년도 기타특별회계 계획안
B7: 예결위 계수조정 결과
B33: 예산결산특별위원회

Sheet 기특입출
A1: 2014년도 경기도 기타특별회계 계획안 예결위 조정(안)
A2: □ 기타특별회게수입
H3: =G6+H6 -> 0 | N3: (단위 : 천원)
A4: 위원회 | C4: 예산안 페이지 | D4: 부서명 | E4: 사업명 | F4: 예산안 (가) | G4: 상임위 예산안 조정액(라) | I4: 상임위 수정 예산안 (마=가+라) | J4: 예결위 예산안 조정액(마) | L4: 예결위 수정 예산안 (바=가+마) | M4: 동의 대상 | N4: 비 고 | O4: 재원 | P4: 상임위 재원별 증감액 | T4: 상임위 조정액 | V4: 비 고
G5: 감액 | H5: 증액 | J5: 감액 | K5: 증액 | P5: 국비 등 | Q5: 도 비 | R5: 검 증 | T5: 감액 | U5: 증액
B6: 합 계 | F6: =F7 -> 118063889 | G6: =G7 -> 0 | H6: =H7 -> 0 | I6: =I7 -> 118063889 | J6: =J7 -> -10000000 | K6: =K7 -> 0 | L6: =L7 -> 108063889 | M6: =M7 -> 0 | P6: =P7 -> 0 | Q6: =Q7 -> 0 | R6: =IF((G6+H6)=(P6+Q6),"ok","검토") -> ok
A7: 보건복지공보위원회 | F7: =F8 -> 118063889 | G7: =G8 -> 0 | H7: =H8 -> 0 | I7: =I8 -> 118063889 | J7: =J8 -> -10000000 | K7: =K8 -> 0 | L7: =L8 -> 108063889 | M7: =M8 -> 0 | P7: =P8 -> 0 | Q7: =Q8 -> 0 | R7: =IF((G7+H7)=(P7+Q7),"ok","검토") -> ok | T7: =T8+#REF! -> #REF! | U7: =U8+#REF! -> #REF!
B8: 보건복지국 | E8: 의료급여기금 | F8: =SUM(F9:F9) -> 118063889 | G8: =SUM(G9:G9) -> 0 | H8: =SUM(H9:H9) -> 0 | I8: =SUM(I9:I9) -> 118063889 | J8: =SUM(J9:J9) -> -10000000 | K8: =SUM(K9:K9) -> 0 | L8: =SUM(L9:L9) -> 108063889 | M8: =SUM(M9:M9) -> 0 | ... Q8: =SUM(Q9:Q9) -> 0 | R8: =IF((G8+H8)=(P8+Q8),"ok","검토") -> ok | T8: =SUM(T9:T9) -> 0 | U8: =SUM(U9:U9) -> 0
C9: 861 | D9: 복지정책과 | E9: 의료급여 도비부담금 | F9: 118063889 | I9: =F9+G9+H9 -> 118063889 | J9: -10000000 | K9: 0 | L9: =F9+J9+K9 -> 108063889 | M9: =IF(G9-J9<0,"동의필요","-") -> - | R9: =IF((G9+H9)=(P9+Q9),"ok","검토") -> ok
A11: □ 기타특별회계지출
H12: =G15+H15 -> 0 | N12: (단위 : 천원)
A13: 위원회 | C13: 예산안 페이지 | D13: 부서명 | E13: 사업명 | F13: 예산안 (가) | G13: 상임위 예산안 조정액(라) | I13: 상임위 수정 예산안 (마=가+라) | J13: 예결위 예산안 조정액(마) | L13: 예결위 수정 예산안 (바=가+마) | M13: 동의 대상 | N13: 비 고 | O13: 재원 | P13: 상임위 재원별 증감액 | T13: 상임위 조정액 | V13: 비 고
G14: 감액 | H14: 증액 | J14: 감액 | K14: 증액 | P14: 국비 등 | Q14: 도 비 | R14: 검 증 | T14: 감액 | U14: 증액
B15: 합 계 | F15: =SUM(F16:F18)/3 -> 824639858 | G15: =SUM(G16:G18)/3 -> 0 | H15: =SUM(H16:H18)/3 -> 0 | I15: =SUM(I16:I18)/3 -> 824639858 | J15: =SUM(J16:J18)/3 -> -10000000 | K15: =SUM(K16:K18)/3 -> 0 | L15: =SUM(L16:L18)/3 -> 814639858 | M15: =M16 -> 0 | P15: =P16 -> 0 | Q15: =Q16 -> -10000000 | R15: =IF((G15+H15)=(P15+Q15),"ok","검토") -> 검토
A16: 보건복지공보위원회 | F16: =F17 -> 824639858 | G16: =G17 -> 0 | H16: =H17 -> 0 | I16: =I17 -> 824639858 | J16: =J17 -> -10000000 | K16: =K17 -> 0 | L16: =L17 -> 814639858 | M16: =M17 -> 0 | P16: =P17 -> 0 | Q16: =Q17 -> -10000000 | R16: =IF((G16+H16)=(P16+Q16),"ok","검토") -> 검토 | S16: =S17 -> 0 | T16: =T17 -> 0 | U16: =U17 -> 0 | V16: =V17 -> 0
B17: 보건복지국 | E17: 중소기업육성기금(운전자금) | F17: =SUM(F18:F18) -> 824639858 | G17: =SUM(G18:G18) -> 0 | H17: =SUM(H18:H18) -> 0 | I17: =SUM(I18:I18) -> 824639858 | J17: =SUM(J18:J18) -> -10000000 | K17: =SUM(K18:K18) -> 0 | L17: =SUM(L18:L18) -> 814639858 | M17: =SUM(M18:M18) -> 0 | P17: =SUM(P18:P18) -> 0 | Q17: =SUM(Q18:Q18) -> -10000000 | R17: =IF((G17+H17)=(P17+Q17),"ok","검토") -> 검토 | S17: =SUM(S18:S18) -> 0 | T17: =SUM(T18:T18) -> 0 | U17: =SUM(U18:U18) -> 0 | V17: =SUM(V18:V18) -> 0
C18: 862 | D18: 복지정책과 | E18: 의료급여(국비/직접) - 의료급여수급권자 진료비 및 건강생활비 | F18: 824639858 | G18: 0 | I18: =F18+G18+H18 -> 824639858 | J18: -10000000 | L18: =F18+J18+K18 -> 814639858 | M18: =IF(G18-J18<0,"동의필요","-") -> - | N18: 도비감액 | Q18: =J18 -> -10000000 | R18: =IF((G18+H18)=(P18+Q18),"ok","검토") -> 검토

Sheet 표지(기)
B5: 2014년도 기금운용계획안
B7: 예결위 계수조정 결과
B33: 예산결산특별위원회

Sheet 기입출
A1: 2014년도 경기도 기금운용계획안 예결위 조정(안)
A2: □ 기금수입
H3: =G6+H6 -> 15000000 | N3: (단위 : 천원)
A4: 위원회 | C4: 예산안 페이지 | D4: 부서명 | E4: 사업명 | F4: 예산안 (가) | G4: 상임위 예산안 조정액(라) | I4: 상임위 수정 예산안 (마=가+라) | J4: 예결위 예산안 조정액(마) | L4: 예결위 수정 예산안 (바=가+마) | M4: 동의 대상 | N4: 비 고 | O4: 재원 | P4: 상임위 재원별 증감액 | T4: 상임위 조정액 | V4: 비 고
G5: 감액 | H5: 증액 | J5: 감액 | K5: 증액 | P5: 국비 등 | Q5: 도 비 | R5: 검 증 | T5: 감액 | U5: 증액
B6: 합 계 | F6: =F7 -> 35000000 | G6: =G7 -> 0 | H6: =H7 -> 15000000 | I6: =I7 -> 50000000 | J6: =J7 -> 0 | K6: =K7 -> 0 | L6: =L7 -> 35000000 | M6: =M7 -> 0 | P6: =P7 -> 0 | Q6: =Q7 -> 15000000 | R6: =IF((G6+H6)=(P6+Q6),"ok","검토") -> ok
A7: 경제과학기술위원회 | F7: =F8 -> 35000000 | G7: =G8 -> 0 | H7: =H8 -> 15000000 | I7: =I8 -> 50000000 | J7: =J8 -> 0 | K7: =K8 -> 0 | L7: =L8 -> 35000000 | M7: =M8 -> 0 | P7: =P8 -> 0 | Q7: =Q8 -> 15000000 | R7: =IF((G7+H7)=(P7+Q7),"ok","검토") -> ok | T7: =T8+#REF! -> #REF! | U7: =U8+#REF! -> #REF!
B8: 경제투자실 | E8: 중소기업육성기금(운전자금) | F8: =SUM(F9:F9) -> 35000000 | G8: =SUM(G9:G9) -> 0 | H8: =SUM(H9:H9) -> 15000000 | I8: =SUM(I9:I9) -> 50000000 | J8: =SUM(J9:J9) -> 0 | K8: =SUM(K9:K9) -> 0 | L8: =SUM(L9:L9) -> 35000000 | M8: =SUM(M9:M9) -> 0 | ... Q8: =SUM(Q9:Q9) -> 15000000 | R8: =IF((G8+H8)=(P8+Q8),"ok","검토") -> ok | T8: =SUM(T9:T9) -> 0 | U8: =SUM(U9:U9) -> 0
C9: 44 | D9: 기업지원1과 | E9: 예탁금상환금 | F9: 35000000 | H9: 15000000 | I9: =F9+G9+H9 -> 50000000 | K9: 0 | L9: =F9+J9+K9 -> 35000000 | M9: =IF(G9-J9<0,"동의필요","-") -> - | N9: 2014년 추경에 150억 반영 | O9: 기금 | Q9: 15000000 | R9: =IF((G9+H9)=(P9+Q9),"ok","검토") -> ok
A11: □ 기금지출
H12: =G15+H15 -> 15000000 | N12: (단위 : 천원)
A13: 위원회 | C13: 예산안 페이지 | D13: 부서명 | E13: 사업명 | F13: 예산안 (가) | G13: 상임위 예산안 조정액(라) | I13: 상임위 수정 예산안 (마=가+라) | J13: 예결위 예산안 조정액(마) | L13: 예결위 수정 예산안 (바=가+마) | M13: 동의 대상 | N13: 비 고 | O13: 재원 | P13: 상임위 재원별 증감액 | T13: 상임위 조정액 | V13: 비 고
G14: 감액 | H14: 증액 | J14: 감액 | K14: 증액 | P14: 국비 등 | Q14: 도 비 | R14: 검 증 | T14: 감액 | U14: 증액
B15: 합 계 | F15: =F16+F19 -> 28926816 | G15: =G16+G19 -> -380000 | H15: =H16+H19 -> 15380000 | I15: =I16+I19 -> 43926816 | J15: =J16+J19 -> -380000 | K15: =K16+K19 -> 380000 | L15: =L16+L19 -> 28926816 | M15: =M16 -> 0 | P15: =P16 -> 0 | Q15: =Q16 -> 15000000 | R15: =IF((G15+H15)=(P15+Q15),"ok","검토") -> ok
A16: 경제과학기술위원회 | F16: =F17 -> 27326816 | G16: =G17 -> 0 | H16: =H17 -> 15000000 | I16: =I17 -> 42326816 | J16: =J17 -> 0 | K16: =K17 -> 0 | L16: =L17 -> 27326816 | M16: =M17 -> 0 | P16: =P17 -> 0 | Q16: =Q17 -> 15000000 | R16: =IF((G16+H16)=(P16+Q16),"ok","검토") -> ok | S16: =S17 -> 0 | T16: =T17 -> 0 | U16: =U17 -> 0 | V16: =V17 -> 0
B17: 경제투자실 | E17: 중소기업육성기금(운전자금) | F17: =SUM(F18:F18) -> 27326816 | G17: =SUM(G18:G18) -> 0 | H17: =SUM(H18:H18) -> 15000000 | I17: =SUM(I18:I18) -> 42326816 | J17: =SUM(J18:J18) -> 0 | K17: =SUM(K18:K18) -> 0 | L17: =SUM(L18:L18) -> 27326816 | M17: =SUM(M18:M18) -> 0 | P17: =SUM(P18:P18) -> 0 | Q17: =SUM(Q18:Q18) -> 15000000 | R17: =IF((G17+H17)=(P17+Q17),"ok","검토") -> ok | S17: =SUM(S18:S18) -> 0 | T17: =SUM(T18:T18) -> 0 | U17: =SUM(U18:U18) -> 0 | V17: =SUM(V18:V18) -> 0
C18: 44 | D18: 기업지원1과 | E18: 예치금 | F18: 27326816 | G18: 0 | H18: 15000000 | I18: =F18+G18+H18 -> 42326816 | L18: =F18+J18+K18 -> 27326816 | M18: =IF(G18-J18<0,"동의필요","-") -> - | O18: 기금 | Q18: 15000000 | R18: =IF((G18+H18)=(P18+Q18),"ok","검토") -> ok
A19: 문화체육관광위원회 | F19: =F20 -> 1600000 | G19: =G20 -> -380000 | H19: =H20 -> 380000 | I19: =I20 -> 1600000 | J19: =J20 -> -380000 | K19: =K20 -> 380000 | L19: =L20 -> 1600000 | M19: =M20 -> 0 | P19: =P20 -> 0 | Q19: =Q20 -> 0 | R19: =IF((G19+H19)=(P19+Q19),"ok","검토") -> ok | S19: =S20 -> 0 | T19: =T20 -> -100000 | U19: =U20 -> 1000000 | V19: =V20 -> 0
B20: 문화체육관광국 | E20: 체육진흥기금 | F20: =SUM(F21:F31) -> 1600000 | G20: =SUM(G21:G31) -> -380000 | H20: =SUM(H21:H31) -> 380000 | I20: =SUM(I21:I31) -> 1600000 | J20: =SUM(J21:J31) -> -380000 | K20: =SUM(K21:K31) -> 380000 | L20: =SUM(L21:L31) -> 1600000 | R20: =IF((G20+H20)=(P20+Q20),"ok","검토") -> ok | T20: =SUM(T21:T25) -> -100000 | U20: =SUM(U21:U25) -> 1000000
C21: 84 | D21: 체육과 | E21: 시군직장운동부 창단 지원 | F21: 370000 | G21: -70000 | I21: =F21+G21+H21 -> 300000 | J21: -70000 | L21: =F21+J21+K21 -> 300000 | M21: =IF(G21-J21<0,"동의필요","-") -> - | N21: - 사업명 변경 우수 엘리트체육인 경쟁력 지원 | O21: 기금 | Q21: -110000 | R21: =IF((G21+H21)=(P21+Q21),"ok","검토") -> 검토
C22: 84 | D22: 체육과 | E22: 경기도 종합사격장 시설 개선 | F22: 400000 | G22: -100000 | I22: =F22+G22+H22 -> 300000 | J22: -100000 | L22: =F22+J22+K22 -> 300000 | M22: =IF(G22-J22<0,"동의필요","-") -> - | O22: 기금 | Q22: -100000 | R22: =IF((G22+H22)=(P22+Q22),"ok","검토") -> ok
C23: 84 | D23: 체육과 | E23: 장애인체육 직장운동부 운영지원 | F23: 300000 | I23: =F23+G23+H23 -> 300000 | L23: =F23+J23+K23 -> 300000 | M23: =IF(G23-J23<0,"동의필요","-") -> - | O23: 기금 | R23: =IF((G23+H23)=(P23+Q23),"ok","검토") -> ok | T23: -100000
C24: 84 | D24: 체육과 | E24: 생활체육지도자 지도역량 강화 | F24: 100000 | H24: 40000 | I24: =F24+G24+H24 -> 140000 | K24: 40000 | L24: =F24+J24+K24 -> 140000 | M24: =IF(G24-J24<0,"동의필요","-") -> - | N24: - 사업명 변경 찾아가는생활체육 현장지도 활동강화 | O24: 기금 | Q24: 40000 | R24: =IF((G24+H24)=(P24+Q24),"ok","검토") -> ok | U24: 1000000
C25: 84 | D25: 체육과 | E25: 생활체육 콘텐츠 개발 및 활용 | F25: 30000 | G25: -30000 | I25: =F25+G25+H25 -> 0 | J25: -30000 | L25: =F25+J25+K25 -> 0 | M25: =IF(G25-J25<0,"동의필요","-") -> - | O25: 기금 | Q25: -30000 | R25: =IF((G25+H25)=(P25+Q25),"ok","검토") -> ok
C26: 84 | D26: 체육과 | E26: 생애주기별 생활체육 프로그램 개발 및 보급 | F26: 180000 | G26: -180000 | I26: =F26+G26+H26 -> 0 | J26: -180000 | L26: =F26+J26+K26 -> 0 | M26: =IF(G26-J26<0,"동의필요","-") -> - | O26: 기금 | Q26: -180000 | R26: =IF((G26+H26)=(P26+Q26),"ok","검토") -> ok
C27: 84 | D27: 체육과 | E27: 스포츠재능나눔체육복지 추진 | F27: 140000 | H27: 20000 | I27: =F27+G27+H27 -> 160000 | K27: 20000 | L27: =F27+J27+K27 -> 160000 | M27: =IF(G27-J27<0,"동의필요","-") -> - | O27: 기금 | Q27: 20000 | R27: =IF((G27+H27)=(P27+Q27),"ok","검토") -> ok
C28: 84 | D28: 체육과 | E28: 스포츠용품 박람회 참가 지원 | F28: 80000 | I28: =F28+G28+H28 -> 80000 | L28: =F28+J28+K28 -> 80000 | M28: =IF(G28-J28<0,"동의필요","-") -> - | N28: - 사업명 변경 스포츠용품 전시회 참가 지원 | O28: 기금 | R28: =IF((G28+H28)=(P28+Q28),"ok","검토") -> ok
C29: 추가 | D29: 체육과 | E29: 경기도대표스포츠이벤트발굴 및 운영 | H29: 150000 | I29: =F29+G29+H29 -> 150000 | K29: 150000 | L29: =F29+J29+K29 -> 150000 | M29: =IF(G29-J29<0,"동의필요","-") -> - | O29: 기금 | Q29: 200000 | R29: =IF((G29+H29)=(P29+Q29),"ok","검토") -> 검토
C30: 추가 | D30: 체육과 | E30: 공공기관 인프라활용 수익창출 프로그램개발 | H30: 20000 | I30: =F30+G30+H30 -> 20000 | K30: 20000 | L30: =F30+J30+K30 -> 20000 | M30: =IF(G30-J30<0,"동의필요","-") -> - | O30: 기금 | Q30: 20000 | R30: =IF((G30+H30)=(P30+Q30),"ok","검토") -> ok
C31: 추가 | D31: 체육과 | E31: 지역사회체육역량강화프로그램지원 | H31: 150000 | I31: =F31+G31+H31 -> 150000 | K31: 150000 | L31: =F31+J31+K31 -> 150000 | M31: =IF(G31-J31<0,"동의필요","-") -> - | O31: 기금 | Q31: 140000 | R31: =IF((G31+H31)=(P31+Q31),"ok","검토") -> 검토

Sheet 표지(중기)
B5: 2013~2017 중기지방재정계획안
B7: 예결위 계수조정 결과
B33: 예산결산특별위원회

Sheet 중기재정
B2: 중기지방재정계획 예결위 수정(안)
B4: □ 정정내용 : 2013~2017 중기지방재정계획 150쪽
B6: 구 분 | C6: 소계 | D6: 2013 | E6: 2014 | F6: 2015 | G6: 2016 | H6: 2017 | I6: 비고
B7: 예산안 | C7: 1922518 | D7: 59672 | E7: 59850 | F7: 600283 | G7: 600462 | H7: 602251
B8: 상임위안 | C8: 300908 | D8: 59672 | E8: 59850 | F8: 60283 | G8: 60462 | H8: 60641
B9: 예결위안 | C9: 300908 | D9: 59672 | E9: 59850 | F9: 60283 | G9: 60462 | H9: 60641

Sheet 추 표지
B5: 2013년도 제2회 일반회계 및 특별회계 추가경정 세입·세출 예산안
B7: 예결위 계수조정 결과
B33: 예산결산특별위원회

Sheet 총괄표
B1: '13년도 제2회 추경 일반 및 특별회계 세입·세출 예산 수정안[전체예산총괄]
B3: □ 총 괄
H4: (단위:천원) | M4: (일반+특별+기금) | O4: 특별+기금
B5: 구 분 | C5: 집행부제출(안) | D5: 세입예산(안) | F5: 세출예산(안) | H5: 예산수정(안) | I5: 일반회계 증감(총괄표) | K5: 예비비증감 | L5: 비 고 | M5: 전체 증감(시트) | O5: 비고
D6: 감 액 | E6: 증 액 | F6: 감 액 | G6: 증 액 | I6: 세입 | J6: 세출 | M6: 세입 | N6: 세출
B7: 합 계 | C7: =SUM(C8:C18) -> 16221327381 | D7: =SUM(D8:D18) -> -29472439 | E7: =SUM(E8:E18) -> 23408965 | F7: =SUM(F8:F18) -> -65746706 | G7: =SUM(G8:G18) -> 59683232 | H7: =SUM(H8:H18) -> 16215263907 | I7: =E25+D25 -> -6063474 | J7: =F25+G25 -> -6063474 | K7: =I7-J7 -> 0 | L7: 예비비 증감이 - 예산이면 감액에 + 예산이면 증액에 입력 | M7: =D24+E24 -> -6063474 | N7: =F24+G24 -> -6063474 | O7: 0 | P7: ='[1]13년 1회추경(세출)_기금'!H7+'[1]13년 1회추경(세출)_기금'!I7 -> 0
B8: 기 타 | C8: 0 | H8: =C8-F8+G8 -> 0 | I8: =D7+E7 -> -6063474 | J8: =F7+G7 -> -6063474 | K8: =I8-J8 -> 0
B9: 운 영 위 | C9: 29571741 | D9: =SUMIF('추 일입'!$A$7:$A$88,"의회운영위원회",'추 일입'!$L$7:$L$88) -> 0 | E9: =SUMIF('추 일입'!$A$7:$A$88,"의회운영위원회",'추 일입'!$M$7:$M$88) -> 0 | F9: =SUMIF('추 일출'!$A$7:$A$128,"의회운영위원회",'추 일출'!$L$7:$L$128) -> -105000 | G9: =SUMIF('추 일출'!$A$7:$A$128,"의회운영위원회",'추 일출'!$M$7:$M$128) -> 0 | H9: =C9+F9+G9 -> 29466741 | I9: 일반회계 증감(시트) | N9: 전체 증감
B10: 기 획 위 | C10: 3898493309 | D10: =SUMIF('추 일입'!$A$7:$A$88,"기획재정위원회",'추 일입'!$L$7:$L$88) -> 0 | E10: =SUMIF('추 일입'!$A$7:$A$88,"기획재정위원회",'추 일입'!$M$7:$M$88) -> 0 | F10: =SUMIF('추 일출'!$A$7:$A$128,"기획재정위원회",'추 일출'!$L$7:$L$128) -> 0 | G10: =SUMIF('추 일출'!$A$7:$A$128,"기획재정위원회",'추 일출'!$M$7:$M$128) -> 344635 | H10: =C10+F10+G10 -> 3898837944 | I10: ='추 일입'!L6+'추 일입'!M6 -> -6063474 | J10: ='추 일출'!L6+'추 일출'!M6 -> -6063474 | N10: =M7-N7 -> 0
B11: 경 제 위 | C11: 568447623 | D11: =SUMIF('추 일입'!$A$7:$A$88,"경제과학기술위원회",'추 일입'!$L$7:$L$88) -> 0 | E11: =SUMIF('추 일입'!$A$7:$A$88,"경제과학기술위원회",'추 일입'!$M$7:$M$88) -> 202415 | F11: =SUMIF('추 일출'!$A$7:$A$128,"경제과학기술위원회",'추 일출'!$L$7:$L$128) -> 0 | G11: =SUMIF('추 일출'!$A$7:$A$128,"경제과학기술위원회",'추 일출'!$M$7:$M$128) -> 202415 | H11: =C11+F11+G11 -> 568650038
B12: 행 정 위 | C12: 1084349076 | D12: =SUMIF('추 일입'!$A$7:$A$88,"행정자치위원회",'추 일입'!$L$7:$L$88) -> 0 | E12: =SUMIF('추 일입'!$A$7:$A$88,"행정자치위원회",'추 일입'!$M$7:$M$88) -> 1648000 | F12: =SUMIF('추 일출'!$A$7:$A$128,"행정자치위원회",'추 일출'!$L$7:$L$128) -> 0 | G12: =SUMIF('추 일출'!$A$7:$A$128,"행정자치위원회",'추 일출'!$M$7:$M$128) -> 1648000 | H12: =C12+F12+G12 -> 1085997076
B13: 문 광 위 | C13: 273648191 | D13: =SUMIF('추 일입'!$A$7:$A$88,"문화체육관광위원회",'추 일입'!$L$7:$L$88) -> 0 | E13: =SUMIF('추 일입'!$A$7:$A$88,"문화체육관광위원회",'추 일입'!$M$7:$M$88) -> 2000000 | F13: =SUMIF('추 일출'!$A$7:$A$128,"문화체육관광위원회",'추 일출'!$L$7:$L$128) -> 0 | G13: =SUMIF('추 일출'!$A$7:$A$128,"문화체육관광위원회",'추 일출'!$M$7:$M$128) -> 2050000 | H13: =C13+F13+G13 -> 275698191 | N13: 기금
B14: 농 림 위 | C14: 536493471 | D14: =SUMIF('추 일입'!$A$7:$A$88,"농림수산위원회",'추 일입'!$L$7:$L$88) -> -3314524 | E14: =SUMIF('추 일입'!$A$7:$A$88,"농림수산위원회",'추 일입'!$M$7:$M$88) -> 6924909 | F14: =SUMIF('추 일출'!$A$7:$A$128,"농림수산위원회",'추 일출'!$L$7:$L$128) -> -3701586 | G14: =SUMIF('추 일출'!$A$7:$A$128,"농림수산위원회",'추 일출'!$M$7:$M$128) -> 6419445 | H14: =C14+F14+G14 -> 539211330 | N14: =N10-K7 -> 0
B15: 복 지 위 | C15: 2948270941 | D15: =SUMIF('추 일입'!$A$7:$A$88,"보건복지공보위원회",'추 일입'!$L$7:$L$88) -> -11526840 | E15: =SUMIF('추 일입'!$A$7:$A$88,"보건복지공보위원회",'추 일입'!$M$7:$M$88) -> 3108256 | F15: =SUMIF('추 일출'!$A$7:$A$128,"보건복지공보위원회",'추 일출'!$L$7:$L$128) -> -11703561 | G15: =SUMIF('추 일출'!$A$7:$A$128,"보건복지공보위원회",'추 일출'!$M$7:$M$128) -> 3401889 | H15: =C15+F15+G15 -> 2939969269
B16: 건 설 위 | C16: 1196035699 | D16: =SUMIF('추 일입'!$A$7:$A$88,"건설교통위원회",'추 일입'!$L$7:$L$88) -> -4052000 | E16: =SUMIF('추 일입'!$A$7:$A$88,"건설교통위원회",'추 일입'!$M$7:$M$88) -> 329000 | F16: =SUMIF('추 일출'!$A$7:$A$128,"건설교통위원회",'추 일출'!$L$7:$L$128) -> -4052000 | G16: =SUMIF('추 일출'!$A$7:$A$128,"건설교통위원회",'추 일출'!$M$7:$M$128) -> 387275 | H16: =C16+F16+G16 -> 1192370974
B17: 도 시 위 | C17: 916276929 | D17: =SUMIF('추 일입'!$A$7:$A$88,"도시환경위원회",'추 일입'!$L$7:$L$88) -> -5553000 | E17: =SUMIF('추 일입'!$A$7:$A$88,"도시환경위원회",'추 일입'!$M$7:$M$88) -> 3187800 | F17: =SUMIF('추 일출'!$A$7:$A$128,"도시환경위원회",'추 일출'!$L$7:$L$128) -> -5996357 | G17: =SUMIF('추 일출'!$A$7:$A$128,"도시환경위원회",'추 일출'!$M$7:$M$128) -> 3187800 | H17: =C17+F17+G17 -> 913468372
B18: 여가평위 | C18: 4769740401 | D18: =SUMIF('추 일입'!$A$7:$A$88,"여성가족평생교육위원회",'추 일입'!$L$7:$L$88) -> -5026075 | E18: =SUMIF('추 일입'!$A$7:$A$88,"여성가족평생교육위원회",'추 일입'!$M$7:$M$88) -> 6008585 | F18: =SUMIF('추 일출'!$A$7:$A$128,"여성가족평생교육위원회",'추 일출'!$L$7:$L$128) -> -40188202 | G18: =SUMIF('추 일출'!$A$7:$A$128,"여성가족평생교육위원회",'추 일출'!$M$7:$M$128) -> 42041773 | H18: =C18+F18+G18 -> 4771593972
B20: □ 회계별 예산총규모
H21: (단위:천원)
B22: 구 분 | C22: 세출예산액 (집행부제출 안) | D22: 세입예산(안) | F22: 세출예산(안) | H22: 예산수정(안)
D23: 감 액 | E23: 증 액 | F23: 감 액 | G23: 증 액 | I23: 세입기준 수정예산안
B24: 합 계 | C24: =SUM(C25:C26) -> 16221327381 | D24: =SUM(D25:D26) -> -29472439 | E24: =SUM(E25:E26) -> 23408965 | F24: =SUM(F25:F26) -> -65746706 | G24: =SUM(G25:G26) -> 59683232 | H24: =SUM(H25:H26) -> 16215263907 | I24: =C24+D24+E24 -> 16215263907 | J24: =I24-H24 -> 0 | K24: (세출기준-세입기준)
B25: 일반회계 | C25: 13099250390 | D25: ='추 일입'!L6 -> -29472439 | E25: ='추 일입'!M6 -> 23408965 | F25: ='추 일출'!L6 -> -65746706 | G25: ='추 일출'!M6 -> 59683232 | H25: =C25+F25+G25 -> 13093186916 | I25: =C25+D25+E25 -> 13093186916 | J25: =I25-H25 -> 0 | K25: (세출기준-세입기준)
B26: 특별회계 | C26: 3122076991 | H26: =C26+F26+G26 -> 3122076991 | I26: =C26+D26+E26 -> 3122076991 | J26: =I26-H26 -> 0 | K26: (세출기준-세입기준)
B30: 위원회명 | C30: 일반+기특 | D30: 공기업 | E30: 합계
B31: 의회운영위원회 | C31: 29571741 | E31: =SUM(C31:D31) -> 29571741
B32: 기획재정위원회 | C32: 2482731231 | D32: 1415762078 | E32: =SUM(C32:D32) -> 3898493309
B33: 경제과학기술위원회 | C33: 195073838 | D33: 373373785 | E33: =SUM(C33:D33) -> 568447623
B34: 행정자치위원회 | C34: 1084349076 | E34: =SUM(C34:D34) -> 1084349076
B35: 문화체육관광위원회 | C35: 257698191 | D35: 15950000 | E35: =SUM(C35:D35) -> 273648191
B36: 농림수산위원회 | C36: 536493471 | E36: =SUM(C36:D36) -> 536493471
B37: 보건복지공보위원회 | C37: 2948270941 | E37: =SUM(C37:D37) -> 2948270941
B38: 건설교통위원회 | C38: 1196035699 | E38: =SUM(C38:D38) -> 1196035699
B39: 도시환경위원회 | C39: 870225757 | D39: 46051172 | E39: =SUM(C39:D39) -> 916276929
B40: 여성가족평생교육위원회 | C40: 4769740401 | E40: =SUM(C40:D40) -> 4769740401
B41: 총합계 | C41: =SUM(C31:C40) -> 14370190346 | D41: =SUM(D31:D40) -> 1851137035 | E41: =SUM(C41:D41) -> 16221327381
B43: 예비비 | C43: =3922478-221377 -> 3701101
I181: ◦ 본청 83,000 증 ◦ 북부청 377,000 증
K311: -50000

Sheet 추 표
B1: 2013년도 경기도 제2회 일반 및 특별회계 세입·세출 추경예산안 계수조정 결과
B3: □ 일반회계
L4: (단위:천원) | Q4: (일반+특별+기금) | S4: 특별+기금
B5: 구 분 | C5: 세입예산(안) | H5: 세출예산(안) | M5: 일반회계 증감(총괄표) | O5: 예비비증감 | P5: 비 고 | Q5: 전체 증감(시트) | S5: 비고
C6: 예산안 (A) | D6: 상임위 계수조정 | G6: 상임위조정 예산안 (A+B) | H6: 집행부제출안 (E) | I6: 상임위 계수조정 | L6: 상임위조정 예산안 (E+F)
D7: 계 (B=C+D) | E7: 감액 (C) | F7: 증액 (D) | I7: 계 (F=G+H) | J7: 감액 (G) | K7: 증액 (F) | M7: 세입 | N7: 세출 | Q7: 세입 | R7: 세출
B8: 합 계 | C8: =SUM(C9:C18) -> 2492351373 | D8: =E8+F8 -> -11066054 | E8: =SUM(E9:E18) -> -32164019 | F8: =SUM(F9:F18) -> 21097965 | G8: =C8+D8 -> 2481285319 | H8: =SUM(H9:H18) -> 3281967608 | I8: =SUM(I9:I18) -> -9125189 | J8: =SUM(J9:J18) -> -69433913 | K8: =SUM(K9:K18) -> 60308724 | L8: =H8+I8 -> 3272842419 | M8: =F26-E26 -> 0 | N8: =+K26-J26 -> 0 | P8: 예비비 증감이 - 예산이면 감액에 + 예산이면 증액에 입력 | Q8: =[2]세입_일반!H6-[2]세입_일반!G6+[2]세입_공기업특별!H6-[2]세입_공기업특별!G6+[2]세입_기특!G6-[2]세입_기특!F6+[2]세입_기금!G6-[2]세입_기금!F6 -> 6601977 | R8: =[2]세출_일반!H6-[2]세출_일반!G6+[2]세출_공기업특별!H6-[2]세출_공기업특별!G6+[2]세출_기특!G6-[2]세출_기특!F6+[2]세출_기금!G6-[2]세출_기금!F6 -> 0 | S8: 0 | T8: ='[1]13년 1회추경(세출)_기금'!H7+'[1]13년 1회추경(세출)_기금'!I7 -> 0
B9: 기 재 위 | D9: =E9+F9 -> 0 | G9: =C9+D9 -> 0 | I9: =J9+K9 -> 0 | L9: =H9+I9 -> 0 | M9: =[2]세입_일반!F6 -> 265000 | N9: =[2]세출_일반!F6 -> -60824000
B10: 경과기위 | C10: ='추 일입'!F7 -> 2179000 | D10: =E10+F10 -> 202415 | E10: ='추 일입'!I7 -> 0 | F10: ='추 일입'!J7 -> 202415 | G10: =C10+D10 -> 2381415 | H10: ='추 일출'!F13 -> 2835927 | I10: =J10+K10 -> 202415 | J10: ='추 일출'!I13 -> 0 | K10: ='추 일출'!J13 -> 202415 | L10: =H10+I10 -> 3038342
B11: 행 자 위 | C11: ='추 일입'!F11 -> 0 | D11: =E11+F11 -> 1648000 | E11: ='추 일입'!I11 -> 0 | F11: ='추 일입'!J11 -> 1648000 | G11: =C11+D11 -> 1648000 | H11: ='추 일출'!F17 -> 0 | I11: =J11+K11 -> 1648000 | J11: ='추 일출'!I17 -> 0 | K11: ='추 일출'!J17 -> 1648000 | L11: =H11+I11 -> 1648000 | M11: =#REF! -> #REF! | N11: =#REF! -> #REF! | O11: =#REF! -> #REF! | P11: =#REF! -> #REF! | Q11: =#REF! -> #REF! | R11: =#REF! -> #REF! | S11: =#REF! -> #REF! | T11: =#REF! -> #REF!
B12: 문체관위 | D12: =E12+F12 -> 0 | G12: =C12+D12 -> 0 | H12: ='추 일출'!F23 -> 10225000 | I12: =J12+K12 -> 2050000 | J12: ='추 일출'!I23 -> 0 | K12: ='추 일출'!J23 -> 2050000 | L12: =H12+I12 -> 12275000 | R12: 기금
B13: 농 수 위 | C13: ='추 일입'!F20 -> 82516039 | D13: =E13+F13 -> 3618805 | E13: ='추 일입'!I20 -> -3306104 | F13: ='추 일입'!J20 -> 6924909 | G13: =C13+D13 -> 86134844 | H13: ='추 일출'!F27 -> 77487057 | I13: =J13+K13 -> 2726279 | J13: ='추 일출'!I27 -> -3693166 | K13: ='추 일출'!J27 -> 6419445 | L13: =H13+I13 -> 80213336 | R13: =R9-R8 -> 0
B14: 보복공위 | C14: ='추 일입'!F36 -> 1117130075 | D14: =E14+F14 -> -8418584 | E14: ='추 일입'!I36 -> -11526840 | F14: ='추 일입'!J36 -> 3108256 | G14: =C14+D14 -> 1108711491 | H14: ='추 일출'!F42 -> 1291576649 | I14: =J14+K14 -> -8301672 | J14: ='추 일출'!I42 -> -11684188 | K14: ='추 일출'!J42 -> 3382516 | L14: =H14+I14 -> 1283274977
B15: 건 교 위 | C15: ='추 일입'!F58 -> 130343000 | D15: =E15+F15 -> -3723000 | E15: ='추 일입'!I58 -> -4052000 | F15: ='추 일입'!J58 -> 329000 | G15: =C15+D15 -> 126620000 | H15: ='추 일출'!F86 -> 47531980 | I15: =J15+K15 -> -2364225 | J15: ='추 일출'!I86 -> -4052000 | K15: ='추 일출'!J86 -> 1687775 | L15: =H15+I15 -> 45167755
B16: 도 환 위 | C16: ='추 일입'!F67 -> 287406000 | D16: =E16+F16 -> -5376200 | E16: ='추 일입'!I67 -> -8253000 | F16: ='추 일입'!J67 -> 2876800 | G16: =C16+D16 -> 282029800 | H16: ='추 일출'!F96 -> 321066206 | I16: =J16+K16 -> -6939557 | J16: ='추 일출'!I96 -> -9816357 | K16: ='추 일출'!J96 -> 2876800 | L16: =H16+I16 -> 314126649
B17: 여가평위 | C17: ='추 일입'!F79 -> 872777259 | D17: =E17+F17 -> 982510 | E17: ='추 일입'!I79 -> -5026075 | F17: ='추 일입'!J79 -> 6008585 | G17: =C17+D17 -> 873759769 | H17: ='추 일출'!F108 -> 1531244789 | I17: =J17+K17 -> 1853571 | J17: ='추 일출'!I108 -> -40188202 | K17: ='추 일출'!J108 -> 42041773 | L17: =H17+I17 -> 1533098360
B18: 운 영 위 | D18: =E18+F18 -> 0 | G18: =C18+D18 -> 0 | I18: =J18+K18 -> 0 | L18: =H18+I18 -> 0
B20: □ 특별회계
L21: (단위:천원)
B22: 구 분 | C22: 세입예산(안) | H22: 세출예산(안)
C23: 예산안 (A) | D23: 상임위 계수조정 | G23: 상임위조정 예산안 (A+B) | H23: 집행부제출안 (E) | I23: 상임위 계수조정 | L23: 상임위조정 예산안 (E+F)
D24: 계 (B=C+D) | E24: 감액 (C) | F24: 증액 (D) | I24: 계 (F=G+H) | J24: 감액 (G) | K24: 증액 (F) | M24: 세입기준 수정예산안
B25: 합 계 | C25: =SUM(C26:C27) -> 0 | E25: =SUM(E26:E27) -> 0 | F25: =SUM(F26:F27) -> 0 | G25: =SUM(G26:G27) -> 0 | H25: =SUM(H26:H27) -> 0 | J25: =SUM(J26:J27) -> 0 | K25: =SUM(K26:K27) -> 0 | L25: =SUM(L26:L27) -> 0 | M25: =+C25+F25-E25 -> 0 | N25: =M25-L25 -> 0 | O25: (세출기준-세입기준)
B26: 일반회계 | L26: =C26+J26+K26 -> 0 | M26: =C26+E26+F26 -> 0 | N26: =M26-L26 -> 0 | O26: (세출기준-세입기준)
B27: 특별회계 | L27: =C27+J27+K27 -> 0 | M27: =C27+E27+F27 -> 0 | N27: =M27-L27 -> 0 | O27: (세출기준-세입기준)
B32: 위원회명 | C32: 본예산(일반+기특) | E32: 일반+기특 증감 | F32: 본예산(공기업) | J32: 공기업증감 | K32: 합계
B33: 의회운영위원회 | C33: 29578422 | E33: -6681 | K33: =SUM(C33:J33) -> 29571741
B34: 기획재정위원회 | C34: 2891343461 | E34: -301742224 | F34: 1351739885 | K34: =SUM(C34:J34) -> 3941341122
B35: 경제과학기술위원회 | C35: 199560720 | E35: -4516046 | F35: 378135000 | J35: -4761215 | K35: =SUM(C35:J35) -> 568418459
B36: 행정자치위원회 | C36: 1087256623 | E36: -12367081 | K36: =SUM(C36:J36) -> 1074889542
B37: 문화체육관광위원회 | C37: 225697502 | E37: 31705187 | F37: 44512000 | K37: =SUM(C37:J37) -> 301914689
B38: 농림수산위원회 | C38: 479489486 | E38: 12586360 | K38: =SUM(C38:J38) -> 492075846
B39: 보건복지공보위원회 | C39: 2876706315 | E39: 67792337 | K39: =SUM(C39:J39) -> 2944498652
B40: 건설교통위원회 | C40: 1184970444 | E40: 20989907 | K40: =SUM(C40:J40) -> 1205960351
B41: 도시환경위원회 | C41: 823150380 | E41: 92836795 | F41: 15950000 | K41: =SUM(C41:J41) -> 931937175
B42: 여성가족평생교육위원회 | C42: 3979533449 | E42: 396509102 | K42: =SUM(C42:J42) -> 4376042551
B43: 총합계 | C43: =SUM(C33:C42) -> 13777286802 | E43: =SUM(E33:E42) -> 303787656 | F43: =SUM(F33:F42) -> 1790336885 | J43: =SUM(J33:J42) -> -4761215 | K43: =SUM(C43:J43) -> 15866650128
B45: 예비비 | C45: 62833918
M183: ◦ 본청 83,000 증 ◦ 북부청 377,000 증
O313: -50000

Sheet 추 일입
A1: 2013년도 제2회 추경 경기도 일반회계 세입 예산 예결위 조정(안)
A2: □세입예산
J3: =SUM(I6:J6) -> -9066054 | M3: =L6+M6 -> -6063474 | P3: (단위 : 천원) | R3: =IF(R6='추 일출'!Q6,"OK","ERR") -> OK | S3: =SUM(R6:S6) -> -6063474 | T3: =IF(J3=S3,"ok","검토") -> 검토
A4: 위원회 | C4: 예산안 페이지 | D4: 부서명 | E4: 사업명 | F4: 제2회 추경 예산안 (가) | G4: 기정액 (나) | H4: 제2회 추경 증감액 (다=나-가) | I4: 상임위 제2회 추경 예산안 조정액(라) | K4: 상임위 수정 예산안 (마=가+라) | L4: 예결위 제2회 추경 예산안 조정액(마) | N4: 예결위 수정 예산안 (바=가+마) | O4: 동의 대상 | P4: 비 고 | Q4: 재원 | R4: 상임위 재원별 증감액 | V4: 상임위 조정액 | X4: 비 고
I5: 감액 | J5: 증액 | L5: 감액 | M5: 증액 | R5: 국비 등 | S5: 도 비 | T5: 검 증 | V5: 감액 | W5: 증액
B6: 합 계 | F6: =SUM(F7:F220)/3 -> 2500676373 | G6: =SUM(G7:G220)/3 -> 3069420337 | H6: =SUM(H7:H220)/3 -> -943490215 | I6: =SUM(I7:I220)/3 -> -32164019 | J6: =SUM(J7:J220)/3 -> 23097965 | K6: =SUM(K7:K220)/3 -> 2491610319 | L6: =SUM(L7:L220)/3 -> -29472439 | M6: =SUM(M7:M220)/3 -> 23408965 | N6: =SUM(N7:N220)/3 -> 2494612899 | R6: =SUM(R7:R220)/3 -> -7469930 | S6: =SUM(S7:S220)/3 -> 1406456 | T6: =IF((I6+J6)=(R6+S6),"ok","검토") -> 검토 | V6: =SUM(V7:V220)/3 -> 0 | W6: =SUM(W7:W220)/3 -> 0
A7: 경제과학기술위원회 | F7: =SUM(F8:F10)/2 -> 2179000 | G7: =SUM(G8:G10)/2 -> 0 | H7: =SUM(H8:H10)/2 -> 0 | I7: =SUM(I8:I10)/2 -> 0 | J7: =SUM(J8:J10)/2 -> 202415 | K7: =SUM(K8:K10)/2 -> 2381415 | L7: =SUM(L8:L10)/2 -> 0 | M7: =SUM(M8:M10)/2 -> 202415 | N7: =SUM(N8:N10)/2 -> 2381415 | R7: =SUM(R8:R10)/2 -> 200000 | S7: =SUM(S8:S10)/2 -> 2415 | T7: =IF((I7+J7)=(R7+S7),"ok","검토") -> ok | V7: =SUM(V8:V10)/2 -> 0 | W7: =SUM(W8:W10)/2 -> 0
B8: 경제투자실 | F8: =SUM(F9:F10) -> 2179000 | G8: =SUM(G9:G10) -> 0 | H8: =SUM(H9:H10) -> 0 | I8: =SUM(I9:I10) -> 0 | J8: =SUM(J9:J10) -> 202415 | K8: =SUM(K9:K10) -> 2381415 | L8: =SUM(L9:L10) -> 0 | M8: =SUM(M9:M10) -> 202415 | N8: =SUM(N9:N10) -> 2381415 | R8: =SUM(R9:R10) -> 200000 | S8: =SUM(S9:S10) -> 2415 | T8: =IF((I8+J8)=(R8+S8),"ok","검토") -> ok | V8: =SUM(V9:V10) -> 0 | W8: =SUM(W9:W10) -> 0
B9: =IF(SUMPRODUCT(COUNTIF(C9,{"*본예산*","*1회추경*","*신규*"})),"추가"," 2회") -> 추가 | C9: 신규 | D9: 경제정책과 | E9: 경제정책과 국비사용잔액 | H9: =IF(SUMPRODUCT(COUNTIF(C9,{"*본예산*","*1회추경*","*신규*"})),"-",F9-G9) -> - | J9: 2415 | K9: =F9+I9+J9 -> 2415 | M9: =J9 -> 2415 | N9: =F9+L9+M9 -> 2415 | O9: =IF(I9-L9<0,"동의필요","-") -> - | P9: 안전행정부 공문('13.11.19) | Q9: 도비 | S9: 2415 | T9: =IF((I9+J9)=(R9+S9),"ok","검토") -> ok
B10: =IF(SUMPRODUCT(COUNTIF(C10,{"*본예산*","*1회추경*","*신규*"})),"추가"," 2회") -> 추가 | C10: 본예산 58 | D10: 기업지원2과 | E10: 신재생에너지 지방보급사업 | F10: 2179000 | H10: =IF(SUMPRODUCT(COUNTIF(C10,{"*본예산*","*1회추경*","*신규*"})),"-",F10-G10) -> - | J10: 200000 | K10: =F10+I10+J10 -> 2379000 | M10: =J10 -> 200000 | N10: =F10+L10+M10 -> 2379000 | O10: =IF(I10-L10<0,"동의필요","-") -> - | P10: 산업통상자원부 공문('13.11.15) * 2013년 본예산 예산서 p58 | Q10: 국비 | R10: 200000 | T10: =IF((I10+J10)=(R10+S10),"ok","검토") -> ok
A11: 행정자치위원회 | F11: =SUM(F12:F16)/2 -> 0 | G11: =SUM(G12:G16)/2 -> 0 | H11: =SUM(H12:H16)/2 -> 0 | I11: =SUM(I12:I16)/2 -> 0 | J11: =SUM(J12:J16)/2 -> 1648000 | K11: =SUM(K12:K16)/2 -> 1648000 | L11: =SUM(L12:L16)/2 -> 0 | M11: =SUM(M12:M16)/2 -> 1648000 | N11: =SUM(N12:N16)/2 -> 1648000 | R11: =SUM(R12:R16)/2 -> 1648000 | S11: =SUM(S12:S16)/2 -> 0 | T11: =IF((I11+J11)=(R11+S11),"ok","검토") -> ok | V11: =SUM(V12:V16)/2 -> 0 | W11: =SUM(W12:W16)/2 -> 0
B12: 안전행정실(비상기획관) | F12: =SUM(F13:F16) -> 0 | G12: =SUM(G13:G16) -> 0 | H12: =SUM(H13:H16) -> 0 | I12: =SUM(I13:I16) -> 0 | J12: =SUM(J13:J16) -> 1648000 | K12: =SUM(K13:K16) -> 1648000 | L12: =SUM(L13:L16) -> 0 | M12: =SUM(M13:M16) -> 1648000 | N12: =SUM(N13:N16) -> 1648000 | R12: =SUM(R13:R16) -> 1648000 | S12: =SUM(S13:S16) -> 0 | T12: =IF((I12+J12)=(R12+S12),"ok","검토") -> ok | V12: =SUM(V13:V16) -> 0 | W12: =SUM(W13:W16) -> 0
B13: =IF(SUMPRODUCT(COUNTIF(C13,{"*본예산*","*1회추경*","*신규*"})),"추가"," 2회") -> 추가 | C13: 신규 | D13: 재난대책담당관 | E13: 재해위험지구 정비(특별교부세) | H13: =IF(SUMPRODUCT(COUNTIF(C13,{"*본예산*","*1회추경*","*신규*"})),"-",F13-G13) -> - | J13: 551000 | K13: =F13+I13+J13 -> 551000 | M13: =J13 -> 551000 | N13: =F13+L13+M13 -> 551000 | O13: =IF(I13-L13<0,"동의필요","-") -> - | P13: 안전행정부 교부세과-1897 (2013.11.21)교부 결정통지 | Q13: 특교 | R13: 551000 | T13: =IF((I13+J13)=(R13+S13),"ok","검토") -> ok
B14: =IF(SUMPRODUCT(COUNTIF(C14,{"*본예산*","*1회추경*","*신규*"})),"추가"," 2회") -> 추가 | C14: 신규 | D14: 재난대책담당관 | E14: 서민밀집위험지구 정비(특별교부세) | H14: =IF(SUMPRODUCT(COUNTIF(C14,{"*본예산*","*1회추경*","*신규*"})),"-",F14-G14) -> - | J14: 497000 | K14: =F14+I14+J14 -> 497000 | M14: =J14 -> 497000 | N14: =F14+L14+M14 -> 497000 | O14: =IF(I14-L14<0,"동의필요","-") -> - | P14: 안전행정부 교부세과-1897 (2013.11.22)교부 결정통지 | Q14: 특교 | R14: 497000 | T14: =IF((I14+J14)=(R14+S14),"ok","검토") -> ok
B15: =IF(SUMPRODUCT(COUNTIF(C15,{"*본예산*","*1회추경*","*신규*"})),"추가"," 2회") -> 추가 | C15: 신규 | D15: 재난대책담당관 | E15: 급경사지 정비(특별교부세) | H15: =IF(SUMPRODUCT(COUNTIF(C15,{"*본예산*","*1회추경*","*신규*"})),"-",F15-G15) -> - | J15: 44000 | K15: =F15+I15+J15 -> 44000 | M15: =J15 -> 44000 | N15: =F15+L15+M15 -> 44000 | O15: =IF(I15-L15<0,"동의필요","-") -> - | P15: 안전행정부 교부세과-1897 (2013.11.23)교부 결정통지 | Q15: 특교 | R15: 44000 | T15: =IF((I15+J15)=(R15+S15),"ok","검토") -> ok
B16: =IF(SUMPRODUCT(COUNTIF(C16,{"*본예산*","*1회추경*","*신규*"})),"추가"," 2회") -> 추가 | C16: 신규 | D16: 재난대책담당관 | E16: 우수저류시설 설치사업(특별교부세) | H16: =IF(SUMPRODUCT(COUNTIF(C16,{"*본예산*","*1회추경*","*신규*"})),"-",F16-G16) -> - | J16: 556000 | K16: =F16+I16+J16 -> 556000 | M16: =J16 -> 556000 | N16: =F16+L16+M16 -> 556000 | O16: =IF(I16-L16<0,"동의필요","-") -> - | P16: 안전행정부 교부세과-1897 (2013.11.24)교부 결정통지 | Q16: 특교 | R16: 556000 | T16: =IF((I16+J16)=(R16+S16),"ok","검토") -> ok
A17: 문화체육관광위원회 | F17: =SUM(F18:F19)/2 -> 8325000 | G17: =SUM(G18:G19)/2 -> 8225000 | H17: =SUM(H18:H19)/2 -> 100000 | I17: =SUM(I18:I19)/2 -> 0 | J17: =SUM(J18:J19)/2 -> 2000000 | K17: =SUM(K18:K19)/2 -> 10325000 | L17: =SUM(L18:L19)/2 -> 0 | M17: =SUM(M18:M19)/2 -> 2000000 | N17: =SUM(N18:N19)/2 -> 10325000 | R17: =SUM(R18:R19)/2 -> 2000000 | S17: =SUM(S18:S19)/2 -> 0 | T17: =IF((I17+J17)=(R17+S17),"ok","검토") -> ok | V17: =SUM(V18:V22)/2 -> 0 | W17: =SUM(W18:W22)/2 -> 0
B18: 문화체육관광국 | F18: =SUM(F19) -> 8325000 | G18: =SUM(G19) -> 8225000 | H18: =SUM(H19) -> 100000 | I18: =SUM(I19) -> 0 | J18: =SUM(J19) -> 2000000 | K18: =SUM(K19) -> 10325000 | L18: =SUM(L19) -> 0 | M18: =SUM(M19) -> 2000000 | N18: =SUM(N19) -> 10325000 | R18: =SUM(R19) -> 2000000 | S18: =SUM(S19) -> 0 | T18: =IF((I18+J18)=(R18+S18),"ok","검토") -> ok | V18: =SUM(V19:V22) -> 0 | W18: =SUM(W19:W22) -> 0
B19: =IF(SUMPRODUCT(COUNTIF(C19,{"*본예산*","*1회추경*","*신규*"})),"추가"," 2회") -> 2회 | C19: 290 | D19: 체육과 | E19: 운동장 생활체육시설 지원(성립전) | F19: 8325000 | G19: 8225000 | H19: =IF(SUMPRODUCT(COUNTIF(C19,{"*본예산*","*1회추경*","*신규*"})),"-",F19-G19) -> 100000 | J19: 2000000 | K19: =F19+I19+J19 -> 10325000 | M19: 2000000 | N19: =F19+L19+M19 -> 10325000 | O19: =IF(I19-L19<0,"동의필요","-") -> - | P19: 문화체육관광부 체육진흥과-4037(2013.10.1.),-5087(2013.12.10.)호 | Q19: 국비 | R19: 2000000 | T19: =IF((I19+J19)=(R19+S19),"ok","검토") -> ok
A20: 농림수산위원회 | F20: =SUM(F21:F35)/2 -> 82516039 | G20: =SUM(G21:G35)/2 -> 6687486 | H20: =SUM(H21:H35)/2 -> 2937216 | I20: =SUM(I21:I35)/2 -> -3306104 | J20: =SUM(J21:J35)/2 -> 6924909 | K20: =SUM(K21:K35)/2 -> 86134844 | L20: =SUM(L21:L35)/2 -> -3314524 | M20: =SUM(M21:M35)/2 -> 6924909 | N20: =SUM(N21:N35)/2 -> 86126424 | R20: =SUM(R21:R35)/2 -> 2477099 | S20: =SUM(S21:S35)/2 -> 1133286 | T20: =IF((I20+J20)=(R20+S20),"ok","검토") -> 검토 | V20: =SUM(V21:V35)/2 -> 0 | W20: =SUM(W21:W35)/2 -> 0
B21: 농정해양국 | F21: =SUM(F22:F28) -> 81516039 | G21: =SUM(G22:G28) -> 6687486 | H21: =SUM(H22:H28) -> 2937216 | I21: =SUM(I22:I28) -> -2306104 | J21: =SUM(J22:J28) -> 505464 | K21: =SUM(K22:K28) -> 79715399 | L21: =SUM(L22:L28) -> -2314524 | M21: =SUM(M22:M28) -> 505464 | N21: =SUM(N22:N28) -> 79706979 | R21: =SUM(R22:R28) -> -2314524 | S21: =SUM(S22:S28) -> 505464 | T21: =IF((I21+J21)=(R21+S21),"ok","검토") -> 검토 | V21: =SUM(V22:V28) -> 0 | W21: =SUM(W22:W28) -> 0
B22: =IF(SUMPRODUCT(COUNTIF(C22,{"*본예산*","*1회추경*","*신규*"})),"추가"," 2회") -> 추가 | C22: 1회추경 61 | D22: 친환경농업과 | E22: 쌀소득등보전직불제 | F22: 59671700 | H22: =IF(SUMPRODUCT(COUNTIF(C22,{"*본예산*","*1회추경*","*신규*"})),"-",F22-G22) -> - | I22: -841700 | K22: =F22+I22+J22 -> 58830000 | L22: =I22 -> -841700 | N22: =F22+L22+M22 -> 58830000 | O22: =IF(I22-L22<0,"동의필요","-") -> - | P22: 농림축산식품부 농가소득안정추진단-2387(2013.11.19) | Q22: 국비 | R22: -841700 | T22: =IF((I22+J22)=(R22+S22),"ok","검토") -> ok
B23: =IF(SUMPRODUCT(COUNTIF(C23,{"*본예산*","*1회추경*","*신규*"})),"추가"," 2회") -> 추가 | C23: 1회추경 61 | D23: 친환경농업과 | E23: 밭농업직불제 | F23: 2845445 | H23: =IF(SUMPRODUCT(COUNTIF(C23,{"*본예산*","*1회추경*","*신규*"})),"-",F23-G23) -> - | I23: -808863 | K23: =F23+I23+J23 -> 2036582 | L23: -817283 | N23: =F23+L23+M23 -> 2028162 | O23: =IF(I23-L23<0,"동의필요","-") -> - | P23: 농림축산식품부 농가소득안정추진단-2418(2013.11.21) | Q23: 국비 | R23: -817283 | T23: =IF((I23+J23)=(R23+S23),"ok","검토") -> 검토
B24: =IF(SUMPRODUCT(COUNTIF(C24,{"*본예산*","*1회추경*","*신규*"})),"추가"," 2회") -> 추가 | C24: 1회추경 61 | D24: 농업정책과 | E24: 농어촌보육여건 개선 | F24: 7453432 | H24: =IF(SUMPRODUCT(COUNTIF(C24,{"*본예산*","*1회추경*","*신규*"})),"-",F24-G24) -> - | I24: -257875 | K24: =F24+I24+J24 -> 7195557 | L24: =I24 -> -257875 | N24: =F24+L24+M24 -> 7195557 | O24: =IF(I24-L24<0,"동의필요","-") -> - | P24: 농림축산식품부 농촌복지여성과-523(2013.11.22) | Q24: 국비 | R24: -257875 | T24: =IF((I24+J24)=(R24+S24),"ok","검토") -> ok
B25: =IF(SUMPRODUCT(COUNTIF(C25,{"*본예산*","*1회추경*","*신규*"})),"추가"," 2회") -> 2회 | C25: 304 | D25: 농업정책과 | E25: 조건불리지역직접지불 | F25: 324702 | G25: 687486 | H25: =IF(SUMPRODUCT(COUNTIF(C25,{"*본예산*","*1회추경*","*신규*"})),"-",F25-G25) -> -362784 | I25: -8285 | K25: =F25+I25+J25 -> 316417 | L25: =I25 -> -8285 | N25: =F25+L25+M25 -> 316417 | O25: =IF(I25-L25<0,"동의필요","-") -> - | P25: 농림축산식품부 농가소득안정추진단-2475(2013.11.26) | Q25: 국비 | R25: -8285 | T25: =IF((I25+J25)=(R25+S25),"ok","검토") -> ok
B26: =IF(SUMPRODUCT(COUNTIF(C26,{"*본예산*","*1회추경*","*신규*"})),"추가"," 2회") -> 2회 | C26: 304 | D26: 농업정책과 | E26: 농지보전부담금 (징수교부금 수입) | F26: 9300000 | G26: 6000000 | H26: =IF(SUMPRODUCT(COUNTIF(C26,{"*본예산*","*1회추경*","*신규*"})),"-",F26-G26) -> 3300000 | J26: 505464 | K26: =F26+I26+J26 -> 9805464 | M26: 505464 | N26: =F26+L26+M26 -> 9805464 | O26: =IF(I26-L26<0,"동의필요","-") -> - | P26: 농지보전부담금 수수료 수납액 증가에 따른 세입예산 반영 | Q26: 도비 | S26: 505464 | T26: =IF((I26+J26)=(R26+S26),"ok","검토") -> ok
B27: =IF(SUMPRODUCT(COUNTIF(C27,{"*본예산*","*1회추경*","*신규*"})),"추가"," 2회") -> 추가 | C27: 본예산 52 | D27: 친환경농업과 | E27: 친환경농업직접지불 | F27: 1459000 | H27: =IF(SUMPRODUCT(COUNTIF(C27,{"*본예산*","*1회추경*","*신규*"})),"-",F27-G27) -> - | I27: -379021 | K27: =F27+I27+J27 -> 1079979 | L27: -379021 | N27: =F27+L27+M27 -> 1079979 | O27: =IF(I27-L27<0,"동의필요","-") -> - | P27: 농림축산식품부 친환경농업과-3276(2013.12.9) | Q27: 국비 | R27: -379021 | T27: =IF((I27+J27)=(R27+S27),"ok","검토") -> ok
B28: =IF(SUMPRODUCT(COUNTIF(C28,{"*본예산*","*1회추경*","*신규*"})),"추가"," 2회") -> 추가 | C28: 본예산 52 | D28: 친환경농업과 | E28: 녹비작물종자대 지원 | F28: 461760 | H28: =IF(SUMPRODUCT(COUNTIF(C28,{"*본예산*","*1회추경*","*신규*"})),"-",F28-G28) -> - | I28: -10360 | K28: =F28+I28+J28 -> 451400 | L28: -10360 | N28: =F28+L28+M28 -> 451400 | O28: =IF(I28-L28<0,"동의필요","-") -> - | P28: 농림축산식품부 친환경농업과-3070(2013.11.27) | Q28: 국비 | R28: -10360 | T28: =IF((I28+J28)=(R28+S28),"ok","검토") -> ok
B29: 축산산림국 | F29: =SUM(F30:F32) -> 0 | G29: =SUM(G30:G32) -> 0 | H29: =SUM(H30:H32) -> 0 | I29: =SUM(I30:I32) -> 0 | J29: =SUM(J30:J32) -> 6392445 | K29: =SUM(K30:K32) -> 6392445 | L29: =SUM(L30:L32) -> 0 | M29: =SUM(M30:M32) -> 6392445 | N29: =SUM(N30:N32) -> 6392445 | R29: =SUM(R30:R32) -> 5764623 | S29: =SUM(S30:S32) -> 627822 | T29: =IF((I29+J29)=(R29+S29),"ok","검토") -> ok | V29: =SUM(V32) -> 0 | W29: =SUM(W32) -> 0
B30: =IF(SUMPRODUCT(COUNTIF(C30,{"*본예산*","*1회추경*","*신규*"})),"추가"," 2회") -> 추가 | C30: 신규 | D30: 축산정책과 | E30: 축산정책과 국비사용잔액 | H30: =IF(SUMPRODUCT(COUNTIF(C30,{"*본예산*","*1회추경*","*신규*"})),"-",F30-G30) -> - | J30: 627822 | K30: =F30+I30+J30 -> 627822 | M30: =J30 -> 627822 | N30: =F30+L30+M30 -> 627822 | O30: =IF(I30-L30<0,"동의필요","-") -> - | P30: 농림축산식품부 방역관리과-3714(2013.10.28) | Q30: 도비 | S30: =M30 -> 627822 | T30: =IF((I30+J30)=(R30+S30),"ok","검토") -> ok
B31: =IF(SUMPRODUCT(COUNTIF(C31,{"*본예산*","*1회추경*","*신규*"})),"추가"," 2회") -> 추가 | C31: 신규 | D31: 축산정책과 | E31: 한우 FTA 피해보전 직불금 | H31: =IF(SUMPRODUCT(COUNTIF(C31,{"*본예산*","*1회추경*","*신규*"})),"-",F31-G31) -> - | J31: 1453000 | K31: =F31+I31+J31 -> 1453000 | M31: 1453000 | N31: =F31+L31+M31 -> 1453000 | O31: =IF(I31-L31<0,"동의필요","-") -> - | P31: 농림축산식품부 축산경영과-4596(2013.12.12) | Q31: 국비 | R31: 1453000 | T31: =IF((I31+J31)=(R31+S31),"ok","검토") -> ok
B32: =IF(SUMPRODUCT(COUNTIF(C32,{"*본예산*","*1회추경*","*신규*"})),"추가"," 2회") -> 추가 | C32: 신규 | D32: 축산정책과 | E32: 한우 FTA 폐업지원금 | H32: =IF(SUMPRODUCT(COUNTIF(C32,{"*본예산*","*1회추경*","*신규*"})),"-",F32-G32) -> - | J32: 4311623 | K32: =F32+I32+J32 -> 4311623 | M32: 4311623 | N32: =F32+L32+M32 -> 4311623 | O32: =IF(I32-L32<0,"동의필요","-") -> - | P32: 농림축산식품부 축산경영과- 4596(2013.12.12) | Q32: 국비 | R32: 4311623 | T32: =IF((I32+J32)=(R32+S32),"ok","검토") -> ok
B33: 농업기술원 | F33: =SUM(F34:F35) -> 1000000 | G33: =SUM(G34:G35) -> 0 | H33: =SUM(H34:H35) -> 0 | I33: =SUM(I34:I35) -> -1000000 | J33: =SUM(J34:J35) -> 27000 | K33: =SUM(K34:K35) -> 27000 | L33: =SUM(L34:L35) -> -1000000 | M33: =SUM(M34:M35) -> 27000 | N33: =SUM(N34:N35) -> 27000 | R33: =SUM(R34:R35) -> -973000 | S33: =SUM(S34:S35) -> 0 | T33: =IF((I33+J33)=(R33+S33),"ok","검토") -> ok | V33: =SUM(V35) -> 0 | W33: =SUM(W35) -> 0
B34: =IF(SUMPRODUCT(COUNTIF(C34,{"*본예산*","*1회추경*","*신규*"})),"추가"," 2회") -> 추가 | C34: 신규 | D34: 총무과 | E34: 밭농업직접지불사업 | H34: =IF(SUMPRODUCT(COUNTIF(C34,{"*본예산*","*1회추경*","*신규*"})),"-",F34-G34) -> - | J34: 27000 | K34: =F34+I34+J34 -> 27000 | M34: =J34 -> 27000 | N34: =F34+L34+M34 -> 27000 | O34: =IF(I34-L34<0,"동의필요","-") -> - | P34: 농림축산식품부 농가소득안정추진단-2287(2013.11.13) | Q34: 국비 | R34: 27000 | T34: =IF((I34+J34)=(R34+S34),"ok","검토") -> ok
B35: =IF(SUMPRODUCT(COUNTIF(C35,{"*본예산*","*1회추경*","*신규*"})),"추가"," 2회") -> 추가 | C35: 본예산 61 | D35: 총무과 | E35: 미래농업기반구축 | F35: 1000000 | H35: =IF(SUMPRODUCT(COUNTIF(C35,{"*본예산*","*1회추경*","*신규*"})),"-",F35-G35) -> - | I35: -1000000 | K35: =F35+I35+J35 -> 0 | L35: -1000000 | N35: =F35+L35+M35 -> 0 | O35: =IF(I35-L35<0,"동의필요","-") -> - | P35: 국비(10억원) 미교부 | Q35: 국비 | R35: -1000000 | T35: =IF((I35+J35)=(R35+S35),"ok","검토") -> ok
A36: 보건복지공보위원회 | F36: =SUM(F37:F57)/2 -> 1117130075 | G36: =SUM(G37:G57)/2 -> 1955084135 | H36: =SUM(H37:H57)/2 -> -943570492 | I36: =SUM(I37:I57)/2 -> -11526840 | J36: =SUM(J37:J57)/2 -> 3108256 | K36: =SUM(K37:K57)/2 -> 1108711491 | L36: =SUM(L37:L57)/2 -> -11526840 | M36: =SUM(M37:M57)/2 -> 3108256 | N36: =SUM(N37:N57)/2 -> 1108711491 | R36: =SUM(R37:R57)/2 -> -8472499 | S36: =SUM(S37:S57)/2 -> 53915 | T36: =IF((I36+J36)=(R36+S36),"ok","검토") -> ok | V36: =SUM(V37:V57)/2 -> 0 | W36: =SUM(W37:W57)/2 -> 0
B37: 보건복지국 | F37: =SUM(F38:F55) -> 1117128198 | G37: =SUM(G38:G55) -> 1955083067 | H37: =SUM(H38:H55) -> -943571301 | I37: =SUM(I38:I55) -> -11526840 | J37: =SUM(J38:J55) -> 3107772 | K37: =SUM(K38:K55) -> 1108709130 | L37: =SUM(L38:L55) -> -11526840 | M37: =SUM(M38:M55) -> 3107772 | N37: =SUM(N38:N55) -> 1108709130 | R37: =SUM(R38:R55) -> -8472499 | S37: =SUM(S38:S55) -> 53431 | T37: =IF((I37+J37)=(R37+S37),"ok","검토") -> ok | V37: =SUM(V38:V55) -> 0 | W37: =SUM(W38:W55) -> 0
B38: =IF(SUMPRODUCT(COUNTIF(C38,{"*본예산*","*1회추경*","*신규*"})),"추가"," 2회") -> 2회 | C38: 332 | D38: 복지정책과 | E38: 생계급여 | F38: 397051000 | G38: 387584041 | H38: =IF(SUMPRODUCT(COUNTIF(C38,{"*본예산*","*1회추경*","*신규*"})),"-",F38-G38) -> 9466959 | J38: 500000 | K38: =F38+I38+J38 -> 397551000 | M38: =J38 -> 500000 | N38: =F38+L38+M38 -> 397551000 | O38: =IF(I38-L38<0,"동의필요","-") -> - | P38: 국비 변경내시 ※ 보건복지부 기초생활보장과-3462(2013.11.05)호 | Q38: 국비 | R38: 500000 | T38: =IF((I38+J38)=(R38+S38),"ok","검토") -> ok
B39: =IF(SUMPRODUCT(COUNTIF(C39,{"*본예산*","*1회추경*","*신규*"})),"추가"," 2회") -> 2회 | C39: 332 | D39: 복지정책과 | E39: 주거급여 | F39: 87787000 | G39: 82347323 | H39: =IF(SUMPRODUCT(COUNTIF(C39,{"*본예산*","*1회추경*","*신규*"})),"-",F39-G39) -> 5439677 | I39: -300000 | K39: =F39+I39+J39 -> 87487000 | L39: =I39 -> -300000 | N39: =F39+L39+M39 -> 87487000 | O39: =IF(I39-L39<0,"동의필요","-") -> - | P39: 국비 변경내시 ※ 보건복지부 기초생활보장과-3462(2013.11.05)호 | Q39: 국비 | R39: -300000 | T39: =IF((I39+J39)=(R39+S39),"ok","검토") -> ok
B40: =IF(SUMPRODUCT(COUNTIF(C40,{"*본예산*","*1회추경*","*신규*"})),"추가"," 2회") -> 2회 | C40: 332 | D40: 복지정책과 | E40: 교육급여 | F40: 14540000 | G40: 18029510 | H40: =IF(SUMPRODUCT(COUNTIF(C40,{"*본예산*","*1회추경*","*신규*"})),"-",F40-G40) -> -3489510 | J40: 465000 | K40: =F40+I40+J40 -> 15005000 | M40: =J40 -> 465000 | N40: =F40+L40+M40 -> 15005000 | O40: =IF(I40-L40<0,"동의필요","-") -> - | P40: 국비 변경내시 ※ 보건복지부 기초생활보장과-3462(2013.11.05)호 | Q40: 국비 | R40: 465000 | T40: =IF((I40+J40)=(R40+S40),"ok","검토") -> ok
B41: =IF(SUMPRODUCT(COUNTIF(C41,{"*본예산*","*1회추경*","*신규*"})),"추가"," 2회") -> 2회 | C41: 332 | D41: 복지정책과 | E41: 해산장제급여 | F41: 3216000 | G41: 3064398 | H41: =IF(SUMPRODUCT(COUNTIF(C41,{"*본예산*","*1회추경*","*신규*"})),"-",F41-G41) -> 151602 | J41: 49472 | K41: =F41+I41+J41 -> 3265472 | M41: =J41 -> 49472 | N41: =F41+L41+M41 -> 3265472 | O41: =IF(I41-L41<0,"동의필요","-") -> - | P41: 국비 변경내시 ※ 보건복지부 기초생활보장과-3462(2013.11.05)호 | Q41: 국비 | R41: 49472 | T41: =IF((I41+J41)=(R41+S41),"ok","검토") -> ok
B42: =IF(SUMPRODUCT(COUNTIF(C42,{"*본예산*","*1회추경*","*신규*"})),"추가"," 2회") -> 추가 | C42: 1회추경 62 | D42: 복지정책과 | E42: 광역자활지원센터 운영 지원 | F42: 319627 | H42: =IF(SUMPRODUCT(COUNTIF(C42,{"*본예산*","*1회추경*","*신규*"})),"-",F42-G42) -> - | J42: 28000 | K42: =F42+I42+J42 -> 347627 | M42: =J42 -> 28000 | N42: =F42+L42+M42 -> 347627 | O42: =IF(I42-L42<0,"동의필요","-") -> - | P42: 국비 변경내시 ※ 보건복지부 자립지원과-4361(2013.11.25)호 | Q42: 국비 | R42: 28000 | T42: =IF((I42+J42)=(R42+S42),"ok","검토") -> ok
B43: =IF(SUMPRODUCT(COUNTIF(C43,{"*본예산*","*1회추경*","*신규*"})),"추가"," 2회") -> 추가 | C43: 1회추경 62 | D43: 복지정책과 | E43: 2013년 지역복지계획 시행평가 우수지자체 시상금 | F43: 280000 | H43: =IF(SUMPRODUCT(COUNTIF(C43,{"*본예산*","*1회추경*","*신규*"})),"-",F43-G43) -> - | J43: 216000 | K43: =F43+I43+J43 -> 496000 | M43: =J43 -> 216000 | N43: =F43+L43+M43 -> 496000 | O43: =IF(I43-L43<0,"동의필요","-") -> - | P43: 국비변경내시 ※ 보건복지부 지역복지과-4943(2013.11.20.)호 | Q43: 국비 | R43: 216000 | T43: =IF((I43+J43)=(R43+S43),"ok","검토") -> ok
B44: =IF(SUMPRODUCT(COUNTIF(C44,{"*본예산*","*1회추경*","*신규*"})),"추가"," 2회") -> 추가 | C44: 신규 | D44: 복지정책과 | E44: 재해재난긴급구호 | H44: =IF(SUMPRODUCT(COUNTIF(C44,{"*본예산*","*1회추경*","*신규*"})),"-",F44-G44) -> - | J44: 114637 | K44: =F44+I44+J44 -> 114637 | M44: =J44 -> 114637 | N44: =F44+L44+M44 -> 114637 | O44: =IF(I44-L44<0,"동의필요","-") -> - | P44: 국비 내시 ※ 소방방재청 복구지원과-3771(2013.11.11.)호 | Q44: 기금 | R44: 114637 | T44: =IF((I44+J44)=(R44+S44),"ok","검토") -> ok
B45: =IF(SUMPRODUCT(COUNTIF(C45,{"*본예산*","*1회추경*","*신규*"})),"추가"," 2회") -> 2회 | C45: 332 | D45: 노인복지과 | E45: 기초노령연금(국비 증액사업) | F45: 495519252 | G45: 488019265 | H45: =IF(SUMPRODUCT(COUNTIF(C45,{"*본예산*","*1회추경*","*신규*"})),"-",F45-G45) -> 7499987 | I45: -311381 | K45: =F45+I45+J45 -> 495207871 | L45: =I45 -> -311381 | N45: =F45+L45+M45 -> 495207871 | O45: =IF(I45-L45<0,"동의필요","-") -> - | P45: 국비 변경내시 ※ 보건복지부 기초노령연금과-3012(2013.11.22)호 | Q45: 국비 | R45: -311381 | T45: =IF((I45+J45)=(R45+S45),"ok","검토") -> ok
B46: =IF(SUMPRODUCT(COUNTIF(C46,{"*본예산*","*1회추경*","*신규*"})),"추가"," 2회") -> 추가 | C46: 본예산 54 | D46: 장애인복지과 | E46: 장애인연금 | F46: 58890831 | H46: =IF(SUMPRODUCT(COUNTIF(C46,{"*본예산*","*1회추경*","*신규*"})),"-",F46-G46) -> - | I46: -1000000 | K46: =F46+I46+J46 -> 57890831 | L46: =I46 -> -1000000 | N46: =F46+L46+M46 -> 57890831 | O46: =IF(I46-L46<0,"동의필요","-") -> - | P46: 국비변경내시 ※ 보건복지부 장애인자립기반과 - 7231(2013.11.12.)호 | Q46: 국비 | R46: -1000000 | T46: =IF((I46+J46)=(R46+S46),"ok","검토") -> ok
B47: =IF(SUMPRODUCT(COUNTIF(C47,{"*본예산*","*1회추경*","*신규*"})),"추가"," 2회") -> 추가 | C47: 1회추경 63 | D47: 장애인복지과 | E47: 장애아동가족지원 | F47: 14153022 | H47: =IF(SUMPRODUCT(COUNTIF(C47,{"*본예산*","*1회추경*","*신규*"})),"-",F47-G47) -> - | J47: 1346000 | K47: =F47+I47+J47 -> 15499022 | M47: =J47 -> 1346000 | N47: =F47+L47+M47 -> 15499022 | O47: =IF(I47-L47<0,"동의필요","-") -> - | P47: 국비변경내시 ※보건복지부 장애인서비스과-3705(2013.10.30.)호 | Q47: 국비 | R47: 1346000 | T47: =IF((I47+J47)=(R47+S47),"ok","검토") -> ok
B48: =IF(SUMPRODUCT(COUNTIF(C48,{"*본예산*","*1회추경*","*신규*"})),"추가"," 2회") -> 추가 | C48: 1회추경 63 | D48: 장애인복지과 | E48: 장애인직업재활시설 기능보강 | F48: 1977936 | H48: =IF(SUMPRODUCT(COUNTIF(C48,{"*본예산*","*1회추경*","*신규*"})),"-",F48-G48) -> - | J48: 266757 | K48: =F48+I48+J48 -> 2244693 | M48: =J48 -> 266757 | N48: =F48+L48+M48 -> 2244693 | O48: =IF(I48-L48<0,"동의필요","-") -> - | P48: 국비변경내시 ※ 보건복지부 장애인자립기반과-6838(2013.10.25)호 | Q48: 국비 | R48: 266757 | T48: =IF((I48+J48)=(R48+S48),"ok","검토") -> ok
B49: =IF(SUMPRODUCT(COUNTIF(C49,{"*본예산*","*1회추경*","*신규*"})),"추가"," 2회") -> 추가 | C49: 1회추경 63 | D49: 무한돌봄센터 | E49: 긴급복지지원사업 | F49: 21184872 | H49: =IF(SUMPRODUCT(COUNTIF(C49,{"*본예산*","*1회추경*","*신규*"})),"-",F49-G49) -> - | I49: -6845954 | K49: =F49+I49+J49 -> 14338918 | L49: =I49 -> -6845954 | N49: =F49+L49+M49 -> 14338918 | O49: =IF(I49-L49<0,"동의필요","-") -> - | P49: 국비변경내시 ※ 보건복지부 기초생활보장과-3475(2013.11.7)호 | Q49: 국비 | R49: -6845954 | T49: =IF((I49+J49)=(R49+S49),"ok","검토") -> ok
B50: =IF(SUMPRODUCT(COUNTIF(C50,{"*본예산*","*1회추경*","*신규*"})),"추가"," 2회") -> 추가 | C50: 본예산 55 | D50: 보건정책과 | E50: 마약중독자 치료보호비 | F50: 30000 | H50: =IF(SUMPRODUCT(COUNTIF(C50,{"*본예산*","*1회추경*","*신규*"})),"-",F50-G50) -> - | I50: -500 | K50: =F50+I50+J50 -> 29500 | L50: =I50 -> -500 | N50: =F50+L50+M50 -> 29500 | O50: =IF(I50-L50<0,"동의필요","-") -> - | P50: 국비변경내시 ※ 보건복지부 정신건강정책과-5508(2013.11.5)호 | Q50: 국비 | R50: -500 | T50: =IF((I50+J50)=(R50+S50),"ok","검토") -> ok
B51: =IF(SUMPRODUCT(COUNTIF(C51,{"*본예산*","*1회추경*","*신규*"})),"추가"," 2회") -> 추가 | C51: 1회추경 63 | D51: 식품안전과 | E51: 어린이급식관리지원센터 운영 | F51: 3323000 | H51: =IF(SUMPRODUCT(COUNTIF(C51,{"*본예산*","*1회추경*","*신규*"})),"-",F51-G51) -> - | I51: -1974000 | K51: =F51+I51+J51 -> 1349000 | L51: =I51 -> -1974000 | N51: =F51+L51+M51 -> 1349000 | O51: =IF(I51-L51<0,"동의필요","-") -> - | P51: 국비 변경내시 ※ 식품의약품안전청 식생활안전과-3167(2013.11.4.)호 | Q51: 국비 | R51: -1974000 | T51: =IF((I51+J51)=(R51+S51),"ok","검토") -> ok
B52: =IF(SUMPRODUCT(COUNTIF(C52,{"*본예산*","*1회추경*","*신규*"})),"추가"," 2회") -> 2회 | C52: 332 | D52: 노인복지과 | E52: 노인생활시설기능보강(국비 감액사업) | F52: 6990480 | G52: 488019265 | H52: =IF(SUMPRODUCT(COUNTIF(C52,{"*본예산*","*1회추경*","*신규*"})),"-",F52-G52) -> -481028785 | I52: -1059005 | K52: =F52+I52+J52 -> 5931475 | L52: -1059005 | N52: =F52+L52+M52 -> 5931475 | O52: =IF(I52-L52<0,"동의필요","-") -> - | P52: 국비 변경내시 ※ 보건복지부 요양보험운영과(2013.12.10)호 | Q52: 국비 | R52: -1059005 | T52: =IF((I52+J52)=(R52+S52),"ok","검토") -> ok
B53: =IF(SUMPRODUCT(COUNTIF(C53,{"*본예산*","*1회추경*","*신규*"})),"추가"," 2회") -> 2회 | C53: 334 | D53: 건강증진과 | E53: 영유아사전예방적건강관리 | F53: 6408034 | G53: 488019265 | H53: =IF(SUMPRODUCT(COUNTIF(C53,{"*본예산*","*1회추경*","*신규*"})),"-",F53-G53) -> -481611231 | J53: 68475 | K53: =F53+I53+J53 -> 6476509 | M53: 68475 | N53: =F53+L53+M53 -> 6476509 | O53: =IF(I53-L53<0,"동의필요","-") -> - | P53: 국비 변경내시 ※ 보건복지부 출산정책과-3676(2013.12.10)호 | Q53: 국비 | R53: 68475 | T53: =IF((I53+J53)=(R53+S53),"ok","검토") -> ok
B54: =IF(SUMPRODUCT(COUNTIF(C54,{"*본예산*","*1회추경*","*신규*"})),"추가"," 2회") -> 추가 | C54: 1회추경 55 | D54: 보건정책과 | E54: 보건정책과 국비사용잔액 등(12년이전 사업) | F54: 891832 | H54: =IF(SUMPRODUCT(COUNTIF(C54,{"*본예산*","*1회추경*","*신규*"})),"-",F54-G54) -> - | J54: 53431 | K54: =F54+I54+J54 -> 945263 | M54: 53431 | N54: =F54+L54+M54 -> 945263 | O54: =IF(I54-L54<0,"동의필요","-") -> - | P54: 보건정책과 국비사용잔액 이자 ※ 보건복지부응급의료과 -3331(2013.10.11.)호 | Q54: 도비 | S54: 53431 | T54: =IF((I54+J54)=(R54+S54),"ok","검토") -> ok
B55: =IF(SUMPRODUCT(COUNTIF(C55,{"*본예산*","*1회추경*","*신규*"})),"추가"," 2회") -> 추가 | C55: 1회추경 70 | D55: 보건정책과 | E55: 응급의료기관지원발전프로그램(국비감액사업) | F55: 4565312 | H55: =IF(SUMPRODUCT(COUNTIF(C55,{"*본예산*","*1회추경*","*신규*"})),"-",F55-G55) -> - | I55: -36000 | K55: =F55+I55+J55 -> 4529312 | L55: -36000 | N55: =F55+L55+M55 -> 4529312 | O55: =IF(I55-L55<0,"동의필요","-") -> - | P55: 국비변경내시 ※ 보건복지부 응급의료과-4112(2013.11.17)호 | Q55: 국비 | R55: -36000 | T55: =IF((I55+J55)=(R55+S55),"ok","검토") -> ok
B56: 복지여성실 | F56: =SUM(F57) -> 1877 | G56: =SUM(G57) -> 1068 | H56: =SUM(H57) -> 809 | I56: =SUM(I57) -> 0 | J56: =SUM(J57) -> 484 | K56: =SUM(K57) -> 2361 | L56: =SUM(L57) -> 0 | M56: =SUM(M57) -> 484 | N56: =SUM(N57) -> 2361 | R56: =SUM(R57) -> 0 | S56: =SUM(S57) -> 484 | T56: =IF((I56+J56)=(R56+S56),"ok","검토") -> ok | V56: =SUM(V57) -> 0 | W56: =SUM(W57) -> 0
B57: =IF(SUMPRODUCT(COUNTIF(C57,{"*본예산*","*1회추경*","*신규*"})),"추가"," 2회") -> 2회 | C57: 351 | D57: 보건위생담당관 | E57: 보건위생담당관 도비 민간이전 사용잔액등 | F57: 1877 | G57: 1068 | H57: =IF(SUMPRODUCT(COUNTIF(C57,{"*본예산*","*1회추경*","*신규*"})),"-",F57-G57) -> 809 | J57: 484 | K57: =F57+I57+J57 -> 2361 | M57: =J57 -> 484 | N57: =F57+L57+M57 -> 2361 | O57: =IF(I57-L57<0,"동의필요","-") -> - | P57: 2008~2010 한센병 관리사업에 대한 이자 발생액 ·질병관리본부 추가통보(2013.10.25.) ·질병관리본부 에이즈·결핵관리과-2317(2011.6.8.) ·질병관리본부 에이즈·결핵관리과-4292(2011.10.25.) | Q57: 도비 | S57: 484 | T57: =IF((I57+J57)=(R57+S57),"ok","검토") -> ok
A58: 건설교통위원회 | F58: =SUM(F59:F66)/2 -> 130343000 | G58: =SUM(G59:G66)/2 -> 0 | H58: =SUM(H59:H66)/2 -> 0 | I58: =SUM(I59:I66)/2 -> -4052000 | J58: =SUM(J59:J66)/2 -> 329000 | K58: =SUM(K59:K66)/2 -> 126620000 | L58: =SUM(L59:L66)/2 -> -4052000 | M58: =SUM(M59:M66)/2 -> 329000 | N58: =SUM(N59:N66)/2 -> 126620000 | R58: =SUM(R59:R66)/2 -> -3723000 | S58: =SUM(S59:S66)/2 -> 0 | T58: =IF((I58+J58)=(R58+S58),"ok","검토") -> ok | V58: =SUM(V59:V66)/2 -> 0 | W58: =SUM(W59:W66)/2 -> 0
B59: 철도물류국 | F59: =SUM(F60) -> 3039350 | G59: =SUM(G60) -> 0 | H59: =SUM(H60) -> 0 | I59: =SUM(I60) -> 0 | J59: =SUM(J60) -> 90150 | K59: =SUM(K60) -> 3129500 | L59: =SUM(L60) -> 0 | M59: =SUM(M60) -> 90150 | N59: =SUM(N60) -> 3129500 | R59: =SUM(R60) -> 90150 | S59: =SUM(S60) -> 0 | T59: =IF((I59+J59)=(R59+S59),"ok","검토") -> ok | V59: =SUM(V60) -> 0 | W59: =SUM(W60) -> 0
B60: =IF(SUMPRODUCT(COUNTIF(C60,{"*본예산*","*1회추경*","*신규*"})),"추가"," 2회") -> 추가 | C60: 1회추경 64 | D60: 물류과 | E60: 화물차 디지털운행기록장치 설치 (국비 증액사업) | F60: 3039350 | H60: =IF(SUMPRODUCT(COUNTIF(C60,{"*본예산*","*1회추경*","*신규*"})),"-",F60-G60) -> - | J60: 90150 | K60: =F60+I60+J60 -> 3129500 | M60: =J60 -> 90150 | N60: =F60+L60+M60 -> 3129500 | O60: =IF(I60-L60<0,"동의필요","-") -> - | P60: 국비 추가내시(1회 추경예산서 64쪽) | Q60: 국비 | R60: 90150 | T60: =IF((I60+J60)=(R60+S60),"ok","검토") -> ok
B61: 교통건설국 | F61: =SUM(F62:F64) -> 112613650 | G61: =SUM(G62:G64) -> 0 | H61: =SUM(H62:H64) -> 0 | I61: =SUM(I62:I64) -> -3145000 | J61: =SUM(J62:J64) -> 238850 | K61: =SUM(K62:K64) -> 109707500 | L61: =SUM(L62:L64) -> -3145000 | M61: =SUM(M62:M64) -> 238850 | N61: =SUM(N62:N64) -> 109707500 | R61: =SUM(R62:R64) -> -2906150 | S61: =SUM(S62:S64) -> 0 | T61: =IF((I61+J61)=(R61+S61),"ok","검토") -> ok | V61: =SUM(V64:V64) -> 0 | W61: =SUM(W64:W64) -> 0
B62: =IF(SUMPRODUCT(COUNTIF(C62,{"*본예산*","*1회추경*","*신규*"})),"추가"," 2회") -> 추가 | C62: 1회추경 67 | D62: 교통정책과 | E62: 택시 디지털운행기록장치 설치지원 (국비 증액사업) | F62: 1261650 | H62: =IF(SUMPRODUCT(COUNTIF(C62,{"*본예산*","*1회추경*","*신규*"})),"-",F62-G62) -> - | J62: 38850 | K62: =F62+I62+J62 -> 1300500 | M62: =J62 -> 38850 | N62: =F62+L62+M62 -> 1300500 | O62: =IF(I62-L62<0,"동의필요","-") -> - | P62: 국비 추가내시(1회 추경예산서 67쪽) | Q62: 국비 | R62: 38850 | T62: =IF((I62+J62)=(R62+S62),"ok","검토") -> ok
B63: =IF(SUMPRODUCT(COUNTIF(C63,{"*본예산*","*1회추경*","*신규*"})),"추가"," 2회") -> 추가 | C63: 1회추경 68 | D63: 도로계획과 | E63: 국가지원지방도 확포장 | F63: 109003000 | H63: =IF(SUMPRODUCT(COUNTIF(C63,{"*본예산*","*1회추경*","*신규*"})),"-",F63-G63) -> - | I63: -3145000 | K63: =F63+I63+J63 -> 105858000 | L63: -3145000 | N63: =F63+L63+M63 -> 105858000 | O63: =IF(I63-L63<0,"동의필요","-") -> - | P63: 국지도 예산 내시 변경으로 3,145백만원 감액 국토교통부 재정담당관-2007(2013.12.08) | Q63: 광특 | R63: -3145000 | T63: =IF((I63+J63)=(R63+S63),"ok","검토") -> ok
B64: =IF(SUMPRODUCT(COUNTIF(C64,{"*본예산*","*1회추경*","*신규*"})),"추가"," 2회") -> 추가 | C64: 본예산 60 | D64: 도로계획과 | E64: 국가자전거도로 구축 | F64: 2349000 | H64: =IF(SUMPRODUCT(COUNTIF(C64,{"*본예산*","*1회추경*","*신규*"})),"-",F64-G64) -> - | J64: 200000 | K64: =F64+I64+J64 -> 2549000 | M64: 200000 | N64: =F64+L64+M64 -> 2549000 | O64: =IF(I64-L64<0,"동의필요","-") -> - | P64: 국비추가내시 안전행정부 자전거정책과-2483 ('13.12.05) | Q64: 국비 | R64: 200000 | T64: =IF((I64+J64)=(R64+S64),"ok","검토") -> ok
B65: 건설본부 | F65: =SUM(F66) -> 14690000 | G65: =SUM(G66) -> 0 | H65: =SUM(H66) -> 0 | I65: =SUM(I66) -> -907000 | J65: =SUM(J66) -> 0 | K65: =SUM(K66) -> 13783000 | L65: =SUM(L66) -> -907000 | M65: =SUM(M66) -> 0 | N65: =SUM(N66) -> 13783000 | R65: =SUM(R66) -> -907000 | S65: =SUM(S66) -> 0 | T65: =IF((I65+J65)=(R65+S65),"ok","검토") -> ok | V65: =SUM(V66) -> 0 | W65: =SUM(W66) -> 0
B66: =IF(SUMPRODUCT(COUNTIF(C66,{"*본예산*","*1회추경*","*신규*"})),"추가"," 2회") -> 추가 | C66: 본예산 61 | D66: 하천과 | E66: 국가하천유지보수비(국비 감액사업) | F66: 14690000 | H66: =IF(SUMPRODUCT(COUNTIF(C66,{"*본예산*","*1회추경*","*신규*"})),"-",F66-G66) -> - | I66: -907000 | K66: =F66+I66+J66 -> 13783000 | L66: =I66 -> -907000 | N66: =F66+L66+M66 -> 13783000 | O66: =IF(I66-L66<0,"동의필요","-") -> - | P66: 국비 변경내시(본예산서 61쪽) | Q66: 국비 | R66: -907000 | T66: =IF((I66+J66)=(R66+S66),"ok","검토") -> ok
A67: 도시환경위원회 | F67: =SUM(F68:F78)/2 -> 287406000 | G67: =SUM(G68:G78)/2 -> 278817000 | H67: =SUM(H68:H78)/2 -> -37980000 | I67: =SUM(I68:I78)/2 -> -8253000 | J67: =SUM(J68:J78)/2 -> 2876800 | K67: =SUM(K68:K78)/2 -> 282029800 | L67: =SUM(L68:L78)/2 -> -5553000 | M67: =SUM(M68:M78)/2 -> 3187800 | N67: =SUM(N68:N78)/2 -> 285040800 | R67: =SUM(R68:R78)/2 -> -2365200 | S67: =SUM(S68:S78)/2 -> 0 | T67: =IF((I67+J67)=(R67+S67),"ok","검토") -> 검토 | V67: =SUM(V68:V78)/2 -> 0 | W67: =SUM(W68:W78)/2 -> 0
B68: 도시주택실 | F68: =SUM(F69) -> 0 | G68: =SUM(G69) -> 0 | H68: =SUM(H69) -> 0 | I68: =SUM(I69) -> 0 | J68: =SUM(J69) -> 140800 | K68: =SUM(K69) -> 140800 | L68: =SUM(L69) -> 0 | M68: =SUM(M69) -> 140800 | N68: =SUM(N69) -> 140800 | R68: =SUM(R69) -> 140800 | S68: =SUM(S69) -> 0 | T68: =IF((I68+J68)=(R68+S68),"ok","검토") -> ok | V68: =SUM(V69) -> 0 | W68: =SUM(W69) -> 0
B69: =IF(SUMPRODUCT(COUNTIF(C69,{"*본예산*","*1회추경*","*신규*"})),"추가"," 2회") -> 추가 | C69: 신규 | D69: 토지정보과 | E69: 도로명주소 전면사용 안내 | H69: =IF(SUMPRODUCT(COUNTIF(C69,{"*본예산*","*1회추경*","*신규*"})),"-",F69-G69) -> - | J69: 140800 | K69: =F69+I69+J69 -> 140800 | M69: =J69 -> 140800 | N69: =F69+L69+M69 -> 140800 | O69: =IF(I69-L69<0,"동의필요","-") -> - | P69: 안전행정부 교부세과-1819(2013.11.13) | Q69: 특교 | R69: 140800 | T69: =IF((I69+J69)=(R69+S69),"ok","검토") -> ok
B70: 환경국 | F70: =SUM(F71) -> 2895000 | G70: =SUM(G71) -> 0 | H70: =SUM(H71) -> 0 | I70: =SUM(I71) -> -450000 | J70: =SUM(J71) -> 0 | K70: =SUM(K71) -> 2445000 | L70: =SUM(L71) -> -450000 | M70: =SUM(M71) -> 0 | N70: =SUM(N71) -> 2445000 | R70: =SUM(R71) -> -450000 | S70: =SUM(S71) -> 0 | T70: =IF((I70+J70)=(R70+S70),"ok","검토") -> ok | V70: =SUM(V71) -> 0 | W70: =SUM(W71) -> 0
B71: =IF(SUMPRODUCT(COUNTIF(C71,{"*본예산*","*1회추경*","*신규*"})),"추가"," 2회") -> 추가 | C71: 본예산 56 | D71: 자원순환과 | E71: 폐기물자원화사업 | F71: 2895000 | H71: =IF(SUMPRODUCT(COUNTIF(C71,{"*본예산*","*1회추경*","*신규*"})),"-",F71-G71) -> - | I71: -450000 | K71: =F71+I71+J71 -> 2445000 | L71: -450000 | N71: =F71+L71+M71 -> 2445000 | O71: =IF(I71-L71<0,"동의필요","-") -> - | P71: 국비 변경내시(본예산서 56쪽) 환경부 폐자원에너지과-1591(2013.12.11.)호 | Q71: 국비 | R71: -450000 | T71: =IF((I71+J71)=(R71+S71),"ok","검토") -> ok
B72: 팔당수질개선본부 | F72: =SUM(F73:F78) -> 284511000 | G72: =SUM(G73:G78) -> 278817000 | H72: =SUM(H73:H78) -> -37980000 | I72: =SUM(I73:I78) -> -7803000 | J72: =SUM(J73:J78) -> 2736000 | K72: =SUM(K73:K78) -> 279444000 | L72: =SUM(L73:L78) -> -5103000 | M72: =SUM(M73:M78) -> 3047000 | N72: =SUM(N73:N78) -> 282455000 | R72: =SUM(R73:R78) -> -2056000 | S72: =SUM(S73:S78) -> 0 | T72: =IF((I72+J72)=(R72+S72),"ok","검토") -> 검토 | V72: =SUM(V73:V78) -> 0 | W72: =SUM(W73:W78) -> 0
B73: =IF(SUMPRODUCT(COUNTIF(C73,{"*본예산*","*1회추경*","*신규*"})),"추가"," 2회") -> 추가 | C73: 1회추경 67 | D73: 수질관리과 | E73: 가축분뇨공공처리시설 설치 | F73: 22894000 | H73: =IF(SUMPRODUCT(COUNTIF(C73,{"*본예산*","*1회추경*","*신규*"})),"-",F73-G73) -> - | I73: -3400000 | K73: =F73+I73+J73 -> 19494000 | L73: =I73 -> -3400000 | N73: =F73+L73+M73 -> 19494000 | O73: =IF(I73-L73<0,"동의필요","-") -> - | P73: 환경부 유역총량과-2531(13.11.20) | Q73: 국비 | R73: -3400000 | T73: =IF((I73+J73)=(R73+S73),"ok","검토") -> ok
B74: =IF(SUMPRODUCT(COUNTIF(C74,{"*본예산*","*1회추경*","*신규*"})),"추가"," 2회") -> 2회 | C74: 434 | D74: 상하수과 | E74: 하수처리장 확충 | F74: 97437000 | G74: 119614000 | H74: =IF(SUMPRODUCT(COUNTIF(C74,{"*본예산*","*1회추경*","*신규*"})),"-",F74-G74) -> -22177000 | I74: -3112000 | K74: =F74+I74+J74 -> 94325000 | L74: -412000 | N74: =F74+L74+M74 -> 97025000 | O74: =IF(I74-L74<0,"동의필요","-") -> 동의필요 | P74: 한강유역환경청 수질총량관리과-7127(13.11.1), -7475(13.11.14) | Q74: 국비 | R74: -412000 | T74: =IF((I74+J74)=(R74+S74),"ok","검토") -> 검토
B75: =IF(SUMPRODUCT(COUNTIF(C75,{"*본예산*","*1회추경*","*신규*"})),"추가"," 2회") -> 추가 | C75: 본예산 62 | D75: 상하수과 | E75: 하수처리장융자금원리금상환 | F75: 4215000 | H75: =IF(SUMPRODUCT(COUNTIF(C75,{"*본예산*","*1회추경*","*신규*"})),"-",F75-G75) -> - | J75: 171000 | K75: =F75+I75+J75 -> 4386000 | M75: 482000 | N75: =F75+L75+M75 -> 4697000 | O75: =IF(I75-L75<0,"동의필요","-") -> - | P75: 한강유역환경청 수질총량관리과-7896(13.11.28) | Q75: 국비 | R75: 482000 | T75: =IF((I75+J75)=(R75+S75),"ok","검토") -> 검토
B76: =IF(SUMPRODUCT(COUNTIF(C76,{"*본예산*","*1회추경*","*신규*"})),"추가"," 2회") -> 2회 | C76: 434 | D76: 상하수과 | E76: 하수관거정비 | F76: 139400000 | G76: 159203000 | H76: =IF(SUMPRODUCT(COUNTIF(C76,{"*본예산*","*1회추경*","*신규*"})),"-",F76-G76) -> -19803000 | J76: 2565000 | K76: =F76+I76+J76 -> 141965000 | M76: 2565000 | N76: =F76+L76+M76 -> 141965000 | O76: =IF(I76-L76<0,"동의필요","-") -> - | P76: 한강유역환경청 수질총량관리과-8028(13.12.3) | Q76: 국비 | R76: 2565000 | T76: =IF((I76+J76)=(R76+S76),"ok","검토") -> ok
B77: =IF(SUMPRODUCT(COUNTIF(C77,{"*본예산*","*1회추경*","*신규*"})),"추가"," 2회") -> 2회 | C77: 434 | D77: 상하수과 | E77: 고도정수처리시설 시범사업(광특/지원) | F77: 4000000 | G77: 0 | H77: =IF(SUMPRODUCT(COUNTIF(C77,{"*본예산*","*1회추경*","*신규*"})),"-",F77-G77) -> 4000000 | I77: -1200000 | K77: =F77+I77+J77 -> 2800000 | L77: -1200000 | N77: =F77+L77+M77 -> 2800000 | O77: =IF(I77-L77<0,"동의필요","-") -> - | P77: 환경부 수도정책과-6920(2013.12.05) | Q77: 광특 | R77: -1200000 | T77: =IF((I77+J77)=(R77+S77),"ok","검토") -> ok
B78: =IF(SUMPRODUCT(COUNTIF(C78,{"*본예산*","*1회추경*","*신규*"})),"추가"," 2회") -> 추가 | C78: 본예산 62 | D78: 상하수과 | E78: 하수관거정비BTL사업 임대료 지급 | F78: 16565000 | H78: =IF(SUMPRODUCT(COUNTIF(C78,{"*본예산*","*1회추경*","*신규*"})),"-",F78-G78) -> - | I78: -91000 | K78: =F78+I78+J78 -> 16474000 | L78: -91000 | N78: =F78+L78+M78 -> 16474000 | O78: =IF(I78-L78<0,"동의필요","-") -> - | P78: 한강유역환경청 수질총량관리과-8028(13.12.3) | Q78: 국비 | R78: -91000 | T78: =IF((I78+J78)=(R78+S78),"ok","검토") -> ok
A79: 여성가족평생교육위원회 | F79: =SUM(F80:F88)/2 -> 872777259 | G79: =SUM(G80:G88)/2 -> 820606716 | H79: =SUM(H80:H88)/2 -> 35023061 | I79: =SUM(I80:I88)/2 -> -5026075 | J79: =SUM(J80:J88)/2 -> 6008585 | K79: =SUM(K80:K88)/2 -> 873759769 | L79: =SUM(L80:L88)/2 -> -5026075 | M79: =SUM(M80:M88)/2 -> 6008585 | N79: =SUM(N80:N88)/2 -> 873759769 | R79: =SUM(R80:R88)/2 -> 765670 | S79: =SUM(S80:S88)/2 -> 216840 | T79: =IF((I79+J79)=(R79+S79),"ok","검토") -> ok | V79: =SUM(V80:V88)/2 -> 0 | W79: =SUM(W80:W88)/2 -> 0
B80: 여성가족국 | F80: =SUM(F81:F86) -> 872315700 | G80: =SUM(G81:G86) -> 820606716 | H80: =SUM(H81:H86) -> 34561502 | I80: =SUM(I81:I86) -> -5026075 | J80: =SUM(J81:J86) -> 5791745 | K80: =SUM(K81:K86) -> 873081370 | L80: =SUM(L81:L86) -> -5026075 | M80: =SUM(M81:M86) -> 5791745 | N80: =SUM(N81:N86) -> 873081370 | R80: =SUM(R81:R86) -> 765670 | S80: =SUM(S81:S86) -> 0 | T80: =IF((I80+J80)=(R80+S80),"ok","검토") -> ok | V80: =SUM(V81:V86) -> 0 | W80: =SUM(W81:W86) -> 0
B81: =IF(SUMPRODUCT(COUNTIF(C81,{"*본예산*","*1회추경*","*신규*"})),"추가"," 2회") -> 추가 | C81: 1회추경 64 | D81: 여성가족과 | E81: 아이돌보미 지원사업 | F81: 12193741 | H81: =IF(SUMPRODUCT(COUNTIF(C81,{"*본예산*","*1회추경*","*신규*"})),"-",F81-G81) -> - | I81: -1740278 | K81: =F81+I81+J81 -> 10453463 | L81: =I81 -> -1740278 | N81: =F81+L81+M81 -> 10453463 | O81: =IF(I81-L81<0,"동의필요","-") -> - | P81: 여성가족부 가족지원과-3623(2013.11.21)호 | Q81: 국비 | R81: -1740278 | T81: =IF((I81+J81)=(R81+S81),"ok","검토") -> ok
B82: =IF(SUMPRODUCT(COUNTIF(C82,{"*본예산*","*1회추경*","*신규*"})),"추가"," 2회") -> 추가 | C82: 1회추경 64 | D82: 여성가족과 | E82: 한부모가족 복지시설 기능보강 사업 | F82: 332841 | H82: =IF(SUMPRODUCT(COUNTIF(C82,{"*본예산*","*1회추경*","*신규*"})),"-",F82-G82) -> - | I82: -320000 | K82: =F82+I82+J82 -> 12841 | L82: =I82 -> -320000 | N82: =F82+L82+M82 -> 12841 | O82: =IF(I82-L82<0,"동의필요","-") -> - | P82: 여성가족부 가족지원과-3545(2013.11.14.)호 | Q82: 국비 | R82: -320000 | T82: =IF((I82+J82)=(R82+S82),"ok","검토") -> ok
B83: =IF(SUMPRODUCT(COUNTIF(C83,{"*본예산*","*1회추경*","*신규*"})),"추가"," 2회") -> 2회 | C83: 446 | D83: 여성가족과 | E83: 저소득한부모가족지원 | F83: 11586064 | G83: 9837760 | H83: =IF(SUMPRODUCT(COUNTIF(C83,{"*본예산*","*1회추경*","*신규*"})),"-",F83-G83) -> 1748304 | J83: 450000 | K83: =F83+I83+J83 -> 12036064 | M83: =J83 -> 450000 | N83: =F83+L83+M83 -> 12036064 | O83: =IF(I83-L83<0,"동의필요","-") -> - | P83: 여성가족부 가족지원과-3417(2013.11.6.)호 | Q83: 국비 | R83: 450000 | T83: =IF((I83+J83)=(R83+S83),"ok","검토") -> ok
B84: =IF(SUMPRODUCT(COUNTIF(C84,{"*본예산*","*1회추경*","*신규*"})),"추가"," 2회") -> 2회 | C84: 446 | D84: 보육정책과 | E84: 교직원인건비 | F84: 77547309 | G84: 72286835 | H84: =IF(SUMPRODUCT(COUNTIF(C84,{"*본예산*","*1회추경*","*신규*"})),"-",F84-G84) -> 5260474 | I84: -2849797 | K84: =F84+I84+J84 -> 74697512 | L84: =I84 -> -2849797 | N84: =F84+L84+M84 -> 74697512 | O84: =IF(I84-L84<0,"동의필요","-") -> - | P84: 보건복지부 보육기반과-4699(2013.11.13.)호 | Q84: 국비 | R84: -2849797 | T84: =IF((I84+J84)=(R84+S84),"ok","검토") -> ok
B85: =IF(SUMPRODUCT(COUNTIF(C85,{"*본예산*","*1회추경*","*신규*"})),"추가"," 2회") -> 추가 | C85: 1회추경 65 | D85: 아동청소년과 | E85: 입양아동가족지원 | F85: 4620900 | H85: =IF(SUMPRODUCT(COUNTIF(C85,{"*본예산*","*1회추경*","*신규*"})),"-",F85-G85) -> - | I85: -116000 | K85: =F85+I85+J85 -> 4504900 | L85: =I85 -> -116000 | N85: =F85+L85+M85 -> 4504900 | O85: =IF(I85-L85<0,"동의필요","-") -> - | P85: 보건복지부 아동복지정책과-3348(2013.10.28.)호 | Q85: 국비 | R85: -116000 | T85: =IF((I85+J85)=(R85+S85),"ok","검토") -> ok
B86: =IF(SUMPRODUCT(COUNTIF(C86,{"*본예산*","*1회추경*","*신규*"})),"추가"," 2회") -> 2회 | C86: 446 | D86: 보육정책과 | E86: 영유아보육료 지원 | F86: 766034845 | G86: 738482121 | H86: =IF(SUMPRODUCT(COUNTIF(C86,{"*본예산*","*1회추경*","*신규*"})),"-",F86-G86) -> 27552724 | J86: 5341745 | K86: =F86+I86+J86 -> 771376590 | M86: 5341745 | N86: =F86+L86+M86 -> 771376590 | O86: =IF(I86-L86<0,"동의필요","-") -> - | P86: 보건복지부 보육사업기획과-4876(2013.12.9.)호 | Q86: 국비 | R86: 5341745 | T86: =IF((I86+J86)=(R86+S86),"ok","검토") -> ok
B87: 평생교육국 | F87: =SUM(F88) -> 461559 | G87: =SUM(G88) -> 0 | H87: =SUM(H88) -> 461559 | I87: =SUM(I88) -> 0 | J87: =SUM(J88) -> 216840 | K87: =SUM(K88) -> 678399 | L87: =SUM(L88) -> 0 | M87: =SUM(M88) -> 216840 | N87: =SUM(N88) -> 678399 | R87: =SUM(R88) -> 0 | S87: =SUM(S88) -> 216840 | T87: =IF((I87+J87)=(R87+S87),"ok","검토") -> ok | V87: =SUM(V88) -> 0 | W87: =SUM(W88) -> 0
B88: =IF(SUMPRODUCT(COUNTIF(C88,{"*본예산*","*1회추경*","*신규*"})),"추가"," 2회") -> 2회 | C88: 472 | D88: 도서관과 | E88: 도서관과 도비사용잔액 | F88: 461559 | G88: 0 | H88: =IF(SUMPRODUCT(COUNTIF(C88,{"*본예산*","*1회추경*","*신규*"})),"-",F88-G88) -> 461559 | J88: 216840 | K88: =F88+I88+J88 -> 678399 | M88: =J88 -> 216840 | N88: =F88+L88+M88 -> 678399 | O88: =IF(I88-L88<0,"동의필요","-") -> - | P88: 12-13년 공공도서관 건립지원 도비 반납 추가 ※ 도서관과-9486(2013.11.20) | Q88: 도비 | S88: 216840 | T88: =IF((I88+J88)=(R88+S88),"ok","검토") -> ok

Sheet 추 일출
A1: 2013년도 제2회 추경 경기도 일반회계 세출 예산 예결위 수정(안)
A2: □세출예산
J3: =SUM(I6:J6) -> -9125189 | L3: ='추 일입'!M3 -> -6063474 | M3: =SUM(L6:M6) -> -6063474 | N3: =L3-M3 -> 0 | O3: (단위 : 천원) | Q3: =IF(Q6='추 일입'!R6,"OK","ERR") -> OK | R3: =SUM(Q6:R6) -> -6063474 | S3: =IF(J3=R3,"ok","검토") -> 검토
A4: 위원회 | C4: 예산안 페이지 | D4: 부서명 | E4: 사업명 | F4: 제2회 추경 예산안 (가) | G4: 기정액 (나) | H4: 제2회 추경 증감액 (다=나-가) | I4: 상임위 제2회 추경 예산안 조정액(라) | K4: 상임위 수정 예산안 (마=가+라) | L4: 예결위 제2회 추경 예산안 조정액(라) | N4: 상임위 수정 예산안 (마=가+라) | O4: 비 고 | P4: 재원 | Q4: 상임위 재원별 증감액 | U4: 상임위 조정액 | W4: 비 고
I5: 감액 | J5: 증액 | L5: 감액 | M5: 증액 | Q5: 국비 등 | R5: 도 비 | S5: 검 증 | U5: 감액 | V5: 증액
B6: 합 계 | F6: =SUM(F7:F430)/3 -> 3334071208 | G6: =SUM(G7:G430)/3 -> 2842605996 | H6: =SUM(H7:H430)/3 -> 93443260 | I6: =SUM(I7:I430)/3 -> -69433913 | J6: =SUM(J7:J430)/3 -> 60308724 | K6: =SUM(K7:K430)/3 -> 3324946019 | L6: =SUM(L7:L430)/3 -> -65746706 | M6: =SUM(M7:M430)/3 -> 59683232 | N6: =F6+L6+M6 -> 3328007734 | Q6: =SUM(Q7:Q430)/3 -> -7469930 | R6: =SUM(R7:R430)/3 -> 1406456 | S6: =IF((L6+M6)=(Q6+R6),"ok","검토") -> ok | U6: =SUM(U13:U430)/3 -> #REF! | V6: =SUM(V13:V430)/3 -> #REF!
A7: 의회운영위원회 | F7: =SUM(F8:F9)/2 -> 150000 | G7: =SUM(G8:G9)/2 -> 0 | H7: =SUM(H8:H9)/2 -> 0 | I7: =SUM(I8:I9)/2 -> 0 | J7: =SUM(J8:J9)/2 -> 0 | K7: =SUM(K8:K9)/2 -> 150000 | L7: =SUM(L8:L9)/2 -> -105000 | M7: =SUM(M8:M9)/2 -> 0 | N7: =F7+L7+M7 -> 45000 | Q7: =SUM(Q8:Q9)/2 -> 0 | R7: =SUM(R8:R9)/2 -> -105000 | S7: =IF((L7+M7)=(Q7+R7),"ok","검토") -> ok
B8: 의회사무처 | F8: =F9 -> 150000 | G8: =G9 -> 0 | H8: =H9 -> - | I8: =I9 -> 0 | J8: =J9 -> 0 | K8: =K9 -> 150000 | L8: =L9 -> -105000 | M8: =M9 -> 0 | N8: =F8+L8+M8 -> 45000 | Q8: =Q9 -> 0 | R8: =R9 -> -105000 | S8: =IF((L8+M8)=(Q8+R8),"ok","검토") -> ok
B9: =IF(SUMPRODUCT(COUNTIF(C9,{"*본예산*","*1회추경*","*신규*"})),"추가"," 2회") -> 추가 | C9: 본예산 76 | D9: 의회사무처 | E9: 도의원 생활관 임차료 등 | F9: 150000 | H9: =IF(SUMPRODUCT(COUNTIF(C9,{"*본예산*","*1회추경*","*신규*"})),"-",F9-G9) -> - | K9: =F9+I9+J9 -> 150000 | L9: -105000 | N9: =F9+L9+M9 -> 45000 | P9: 도비 | R9: -105000 | S9: =IF((L9+M9)=(Q9+R9),"ok","검토") -> ok
A10: 기획재정위원회 | F10: =SUM(F11:F12)/2 -> 51953600 | G10: =SUM(G11:G12)/2 -> 0 | H10: =SUM(H11:H12)/2 -> 0 | I10: =SUM(I11:I12)/2 -> 0 | J10: =SUM(J11:J12)/2 -> 0 | K10: =SUM(K11:K12)/2 -> 51953600 | L10: =SUM(L11:L12)/2 -> 0 | M10: =SUM(M11:M12)/2 -> 344635 | N10: =F10+L10+M10 -> 52298235 | Q10: =SUM(Q11:Q12)/2 -> 0 | R10: =SUM(R11:R12)/2 -> 344635 | S10: =IF((L10+M10)=(Q10+R10),"ok","검토") -> ok | U10: =SUM(U11:U12)/2 -> 0 | V10: =SUM(V11:V12)/2 -> 0
B11: 기획조정실 | F11: =SUM(F12:F12) -> 51953600 | G11: =SUM(G12:G12) -> 0 | H11: =SUM(H12:H12) -> 0 | I11: =SUM(I12:I12) -> 0 | J11: =SUM(J12:J12) -> 0 | K11: =SUM(K12:K12) -> 51953600 | L11: =SUM(L12:L12) -> 0 | M11: =SUM(M12:M12) -> 344635 | N11: =F11+L11+M11 -> 52298235 | Q11: =SUM(Q12:Q12) -> 0 | R11: =SUM(R12:R12) -> 344635 | S11: =IF((L11+M11)=(Q11+R11),"ok","검토") -> ok | U11: =SUM(U12:U12) -> 0 | V11: =SUM(V12:V12) -> 0
B12: 2회 | C12: 2회수정 236 | D12: 예산담당관 | E12: 예비비 | F12: 51953600 | K12: =F12+I12+J12 -> 51953600 | M12: 344635 | N12: =F12+L12+M12 -> 52298235 | O12: =IF(I12-L12<0,"동의필요","-") -> - | P12: 도비 | R12: =M12 -> 344635 | S12: =IF((L12+M12)=(Q12+R12),"ok","검토") -> ok
A13: 경제과학기술위원회 | F13: =SUM(F14:F16)/2 -> 2835927 | G13: =SUM(G14:G16)/2 -> 0 | H13: =SUM(H14:H16)/2 -> 63027 | I13: =SUM(I14:I16)/2 -> 0 | J13: =SUM(J14:J16)/2 -> 202415 | K13: =SUM(K14:K16)/2 -> 3038342 | L13: =SUM(L14:L16)/2 -> 0 | M13: =SUM(M14:M16)/2 -> 202415 | N13: =F13+L13+M13 -> 3038342 | Q13: =SUM(Q14:Q16)/2 -> 200000 | R13: =SUM(R14:R16)/2 -> 2415 | S13: =IF((L13+M13)=(Q13+R13),"ok","검토") -> ok | U13: =SUM(U14:U16)/2 -> 0 | V13: =SUM(V14:V16)/2 -> 0
B14: 경제투자실 | F14: =SUM(F15:F16) -> 2835927 | G14: =SUM(G15:G16) -> 0 | H14: =SUM(H15:H16) -> 63027 | I14: =SUM(I15:I16) -> 0 | J14: =SUM(J15:J16) -> 202415 | K14: =SUM(K15:K16) -> 3038342 | L14: =SUM(L15:L16) -> 0 | M14: =SUM(M15:M16) -> 202415 | N14: =F14+L14+M14 -> 3038342 | Q14: =SUM(Q15:Q16) -> 200000 | R14: =SUM(R15:R16) -> 2415 | S14: =IF((L14+M14)=(Q14+R14),"ok","검토") -> ok | U14: =SUM(U15:U16) -> 0 | V14: =SUM(V15:V16) -> 0
B15: =IF(SUMPRODUCT(COUNTIF(C15,{"*본예산*","*1회추경*","*신규*"})),"추가"," 2회") -> 2회 | C15: 252 | D15: 경제정책과 | E15: 반환금기타(국비사용잔액) | F15: 63027 | G15: 0 | H15: =IF(SUMPRODUCT(COUNTIF(C15,{"*본예산*","*1회추경*","*신규*"})),"-",F15-G15) -> 63027 | J15: 2415 | K15: =F15+I15+J15 -> 65442 | M15: 2415 | N15: =F15+L15+M15 -> 65442 | O15: 안전행정부 공문('13.11.19) | P15: 도비 | R15: 2415 | S15: =IF((L15+M15)=(Q15+R15),"ok","검토") -> ok
B16: =IF(SUMPRODUCT(COUNTIF(C16,{"*본예산*","*1회추경*","*신규*"})),"추가"," 2회") -> 추가 | C16: 본예산 422 | D16: 기업지원2과 | E16: 신재생에너지 보급사업(국비/지원) | F16: 2772900 | H16: =IF(SUMPRODUCT(COUNTIF(C16,{"*본예산*","*1회추경*","*신규*"})),"-",F16-G16) -> - | J16: 200000 | K16: =F16+I16+J16 -> 2972900 | M16: 200000 | N16: =F16+L16+M16 -> 2972900 | O16: 산업통상자원부 공문('13.11.15) * 13년 본예산 예산서 p422 | P16: 국비 | Q16: 200000 | R16: 0 | S16: =IF((L16+M16)=(Q16+R16),"ok","검토") -> ok
A17: 행정자치위원회 | F17: =SUM(F18:F22)/2 -> 0 | G17: =SUM(G18:G22)/2 -> 0 | H17: =SUM(H18:H22)/2 -> 0 | I17: =SUM(I18:I22)/2 -> 0 | J17: =SUM(J18:J22)/2 -> 1648000 | K17: =SUM(K18:K22)/2 -> 1648000 | L17: =SUM(L18:L22)/2 -> 0 | M17: =SUM(M18:M22)/2 -> 1648000 | N17: =F17+L17+M17 -> 1648000 | Q17: =SUM(Q18:Q22)/2 -> 1648000 | R17: =SUM(R18:R22)/2 -> 0 | S17: =IF((L17+M17)=(Q17+R17),"ok","검토") -> ok | U17: =SUM(U18:U22)/2 -> 0 | V17: =SUM(V18:V22)/2 -> 0
B18: 안전행정실(비상기획관) | F18: =SUM(F19:F22) -> 0 | G18: =SUM(G19:G22) -> 0 | H18: =SUM(H19:H22) -> 0 | I18: =SUM(I19:I22) -> 0 | J18: =SUM(J19:J22) -> 1648000 | K18: =SUM(K19:K22) -> 1648000 | L18: =SUM(L19:L22) -> 0 | M18: =SUM(M19:M22) -> 1648000 | N18: =F18+L18+M18 -> 1648000 | Q18: =SUM(Q19:Q22) -> 1648000 | R18: =SUM(R19:R22) -> 0 | S18: =IF((L18+M18)=(Q18+R18),"ok","검토") -> ok | U18: =SUM(U19:U22) -> 0 | V18: =SUM(V19:V22) -> 0
B19: =IF(SUMPRODUCT(COUNTIF(C19,{"*본예산*","*1회추경*","*신규*"})),"추가"," 2회") -> 추가 | C19: 신규 | D19: 재난대책담당관 | E19: 재해위험지구 정비(교부세/지원) | H19: =IF(SUMPRODUCT(COUNTIF(C19,{"*본예산*","*1회추경*","*신규*"})),"-",F19-G19) -> - | J19: 551000 | K19: =F19+I19+J19 -> 551000 | M19: 551000 | N19: =F19+L19+M19 -> 551000 | O19: 안전행정부 교부세과-1897 (2013.11.21)교부 결정통지 | P19: 특교 | Q19: 551000 | S19: =IF((L19+M19)=(Q19+R19),"ok","검토") -> ok
B20: =IF(SUMPRODUCT(COUNTIF(C20,{"*본예산*","*1회추경*","*신규*"})),"추가"," 2회") -> 추가 | C20: 신규 | D20: 재난대책담당관 | E20: 서민밀집위험지구 정비(교부세/지원) | H20: =IF(SUMPRODUCT(COUNTIF(C20,{"*본예산*","*1회추경*","*신규*"})),"-",F20-G20) -> - | J20: 497000 | K20: =F20+I20+J20 -> 497000 | M20: 497000 | N20: =F20+L20+M20 -> 497000 | O20: 안전행정부 교부세과-1897 (2013.11.22)교부 결정통지 | P20: 특교 | Q20: 497000 | S20: =IF((L20+M20)=(Q20+R20),"ok","검토") -> ok
B21: =IF(SUMPRODUCT(COUNTIF(C21,{"*본예산*","*1회추경*","*신규*"})),"추가"," 2회") -> 추가 | C21: 신규 | D21: 재난대책담당관 | E21: 급경사지 정비(교부세/지원) | H21: =IF(SUMPRODUCT(COUNTIF(C21,{"*본예산*","*1회추경*","*신규*"})),"-",F21-G21) -> - | J21: 44000 | K21: =F21+I21+J21 -> 44000 | M21: 44000 | N21: =F21+L21+M21 -> 44000 | O21: 안전행정부 교부세과-1897 (2013.11.23)교부 결정통지 | P21: 특교 | Q21: 44000 | S21: =IF((L21+M21)=(Q21+R21),"ok","검토") -> ok
B22: =IF(SUMPRODUCT(COUNTIF(C22,{"*본예산*","*1회추경*","*신규*"})),"추가"," 2회") -> 추가 | C22: 신규 | D22: 재난대책담당관 | E22: 우수저류시설 설치사업(교부세/지원) | H22: =IF(SUMPRODUCT(COUNTIF(C22,{"*본예산*","*1회추경*","*신규*"})),"-",F22-G22) -> - | J22: 556000 | K22: =F22+I22+J22 -> 556000 | M22: 556000 | N22: =F22+L22+M22 -> 556000 | O22: 안전행정부 교부세과-1897 (2013.11.24)교부 결정통지 | P22: 특교 | Q22: 556000 | S22: =IF((L22+M22)=(Q22+R22),"ok","검토") -> ok
A23: 문화체육관광위원회 | F23: =SUM(F24:F26)/2 -> 10225000 | G23: =SUM(G24:G26)/2 -> 8225000 | H23: =SUM(H24:H26)/2 -> 100000 | I23: =SUM(I24:I26)/2 -> 0 | J23: =SUM(J24:J26)/2 -> 2050000 | K23: =SUM(K24:K26)/2 -> 12275000 | L23: =SUM(L24:L26)/2 -> 0 | M23: =SUM(M24:M26)/2 -> 2050000 | N23: =F23+L23+M23 -> 12275000 | Q23: =SUM(Q24:Q26)/2 -> 2000000 | R23: =SUM(R24:R26)/2 -> 50000 | S23: =IF((L23+M23)=(Q23+R23),"ok","검토") -> ok | U23: =SUM(U24:U26)/2 -> 0 | V23: =SUM(V24:V26)/2 -> 0
B24: 문화체육관광국 | F24: =SUM(F25:F26) -> 10225000 | G24: =SUM(G25:G26) -> 8225000 | H24: =SUM(H25:H26) -> 100000 | I24: =SUM(I25:I26) -> 0 | J24: =SUM(J25:J26) -> 2050000 | K24: =SUM(K25:K26) -> 12275000 | L24: =SUM(L25:L26) -> 0 | M24: =SUM(M25:M26) -> 2050000 | N24: =SUM(N25:N26) -> 12275000 | Q24: =SUM(Q25:Q26) -> 2000000 | R24: =SUM(R25:R26) -> 50000 | S24: =IF((L24+M24)=(Q24+R24),"ok","검토") -> ok | U24: =SUM(U26) -> 0 | V24: =SUM(V26) -> 0
B25: =IF(SUMPRODUCT(COUNTIF(C25,{"*본예산*","*1회추경*","*신규*"})),"추가"," 2회") -> 추가 | C25: 본예산 177 | D25: 문화정책과 | E25: 도단위 예술단체 문예진흥(자체/직접) | F25: 1900000 | H25: =IF(SUMPRODUCT(COUNTIF(C25,{"*본예산*","*1회추경*","*신규*"})),"-",F25-G25) -> - | J25: 50000 | K25: =F25+I25+J25 -> 1950000 | M25: 50000 | N25: =F25+L25+M25 -> 1950000 | P25: 도비 | R25: 50000 | S25: =IF((L25+M25)=(Q25+R25),"ok","검토") -> ok
B26: =IF(SUMPRODUCT(COUNTIF(C26,{"*본예산*","*1회추경*","*신규*"})),"추가"," 2회") -> 2회 | C26: 294 | D26: 체육과 | E26: 운동장 생활체육 시설지원(기금/지원) | F26: 8325000 | G26: 8225000 | H26: =IF(SUMPRODUCT(COUNTIF(C26,{"*본예산*","*1회추경*","*신규*"})),"-",F26-G26) -> 100000 | J26: 2000000 | K26: =F26+I26+J26 -> 10325000 | M26: 2000000 | N26: =F26+L26+M26 -> 10325000 | O26: 문화체육관광부 체육진흥과-4037(2013.10.1.),-5087(2013.12.10.)호 | P26: 국비 | Q26: 2000000 | S26: =IF((L26+M26)=(Q26+R26),"ok","검토") -> ok
A27: 농림수산위원회 | F27: =SUM(F28:F41)/2 -> 77487057 | G27: =SUM(G28:G41)/2 -> 739048 | H27: =SUM(H28:H41)/2 -> -389993 | I27: =SUM(I28:I41)/2 -> -3693166 | J27: =SUM(J28:J41)/2 -> 6419445 | K27: =SUM(K28:K41)/2 -> 80213336 | L27: =SUM(L28:L41)/2 -> -3701586 | M27: =SUM(M28:M41)/2 -> 6419445 | N27: =F27+L27+M27 -> 80204916 | Q27: =SUM(Q28:Q41)/2 -> 2477099 | R27: =SUM(R28:R41)/2 -> 240760 | S27: =IF((L27+M27)=(Q27+R27),"ok","검토") -> ok | U27: =SUM(U28:U41)/2 -> #REF! | V27: =SUM(V28:V41)/2 -> #REF!
B28: 농정해양국 | F28: =SUM(F29:F34) -> 76487057 | G28: =SUM(G29:G34) -> 739048 | H28: =SUM(H29:H34) -> -389993 | I28: =SUM(I29:I34) -> -2693166 | J28: =SUM(J29:J34) -> 0 | K28: =SUM(K29:K34) -> 73793891 | L28: =SUM(L29:L34) -> -2701586 | M28: =SUM(M29:M34) -> 0 | N28: =F28+L28+M28 -> 73785471 | Q28: =SUM(Q29:Q34) -> -2314524 | R28: =SUM(R29:R34) -> -387062 | S28: =IF((L28+M28)=(Q28+R28),"ok","검토") -> ok | U28: =SUM(U29:U34) -> 0 | V28: =SUM(V29:V34) -> 0
B29: =IF(SUMPRODUCT(COUNTIF(C29,{"*본예산*","*1회추경*","*신규*"})),"추가"," 2회") -> 추가 | C29: 본예산 208 | D29: 농업정책과 | E29: 농어촌보육여건개선(국비/지원) - 농촌보육교사특별수당 | F29: 11537750 | H29: =IF(SUMPRODUCT(COUNTIF(C29,{"*본예산*","*1회추경*","*신규*"})),"-",F29-G29) -> - | I29: -639653 | K29: =F29+I29+J29 -> 10898097 | L29: -639653 | N29: =F29+L29+M29 -> 10898097 | O29: 농림축산식품부 농촌복지여성과-523(2013.11.22) | Q29: -257875 | R29: -381778 | S29: =IF((L29+M29)=(Q29+R29),"ok","검토") -> ok
B30: =IF(SUMPRODUCT(COUNTIF(C30,{"*본예산*","*1회추경*","*신규*"})),"추가"," 2회") -> 2회 | C30: 307 | D30: 농업정책과 | E30: 조건불리지역직접지불(국비/지원) | F30: 349055 | G30: 739048 | H30: =IF(SUMPRODUCT(COUNTIF(C30,{"*본예산*","*1회추경*","*신규*"})),"-",F30-G30) -> -389993 | I30: -8907 | K30: =F30+I30+J30 -> 340148 | L30: -8907 | N30: =F30+L30+M30 -> 340148 | O30: 농림축산식품부 농가소득안정추진단-2475(2013.11.26) | P30: 국도비 | Q30: -8285 | R30: -622 | S30: =IF((L30+M30)=(Q30+R30),"ok","검토") -> ok
B31: =IF(SUMPRODUCT(COUNTIF(C31,{"*본예산*","*1회추경*","*신규*"})),"추가"," 2회") -> 추가 | C31: 1회추경 167 | D31: 친환경농업과 | E31: 쌀소득등보전직불제(국비/지원) | F31: 59671700 | H31: =IF(SUMPRODUCT(COUNTIF(C31,{"*본예산*","*1회추경*","*신규*"})),"-",F31-G31) -> - | I31: -841700 | K31: =F31+I31+J31 -> 58830000 | L31: -841700 | N31: =F31+L31+M31 -> 58830000 | O31: 농림축산식품부 농가소득안정추진단-2387(2013.11.19) | P31: 국비 | Q31: -841700 | S31: =IF((L31+M31)=(Q31+R31),"ok","검토") -> ok
B32: =IF(SUMPRODUCT(COUNTIF(C32,{"*본예산*","*1회추경*","*신규*"})),"추가"," 2회") -> 추가 | C32: 본예산 224 | D32: 친환경농업과 | E32: 밭농업직불제(국비/지원) | F32: 2800000 | H32: =IF(SUMPRODUCT(COUNTIF(C32,{"*본예산*","*1회추경*","*신규*"})),"-",F32-G32) -> - | I32: -808863 | K32: =F32+I32+J32 -> 1991137 | L32: -817283 | N32: =F32+L32+M32 -> 1982717 | O32: 농림축산식품부 농가소득안정추진단-2418(2013.11.21) | P32: 국비 | Q32: -817283 | S32: =IF((L32+M32)=(Q32+R32),"ok","검토") -> ok
B33: =IF(SUMPRODUCT(COUNTIF(C33,{"*본예산*","*1회추경*","*신규*"})),"추가"," 2회") -> 추가 | C33: 본예산 223 | D33: 친환경농업과 | E33: 친환경농업직접지불(국비/지원) | F33: 1459000 | H33: =IF(SUMPRODUCT(COUNTIF(C33,{"*본예산*","*1회추경*","*신규*"})),"-",F33-G33) -> - | I33: -379021 | K33: =F33+I33+J33 -> 1079979 | L33: -379021 | N33: =F33+L33+M33 -> 1079979 | O33: 농림축산식품부 친환경농업과-3276(2013.12.9) | P33: 국비 | Q33: -379021 | S33: =IF((L33+M33)=(Q33+R33),"ok","검토") -> ok
B34: =IF(SUMPRODUCT(COUNTIF(C34,{"*본예산*","*1회추경*","*신규*"})),"추가"," 2회") -> 추가 | C34: 본예산 223 | D34: 친환경농업과 | E34: 녹비작물종자대 지원(국비/지원) | F34: 669552 | H34: =IF(SUMPRODUCT(COUNTIF(C34,{"*본예산*","*1회추경*","*신규*"})),"-",F34-G34) -> - | I34: -15022 | K34: =F34+I34+J34 -> 654530 | L34: -15022 | N34: =F34+L34+M34 -> 654530 | O34: 농림축산식품부 친환경농업과-3070(2013.11.27) | P34: 국도비 | Q34: -10360 | R34: -4662 | S34: =IF((L34+M34)=(Q34+R34),"ok","검토") -> ok
B35: 축산산림국 | F35: =SUM(F36:F38) -> 0 | G35: =SUM(G36:G38) -> 0 | H35: =SUM(H36:H38) -> 0 | I35: =SUM(I36:I38) -> 0 | J35: =SUM(J36:J38) -> 6392445 | K35: =SUM(K36:K38) -> 6392445 | L35: =SUM(L36:L38) -> 0 | M35: =SUM(M36:M38) -> 6392445 | N35: =SUM(N36:N38) -> 6392445 | Q35: =SUM(Q36:Q38) -> 5764623 | R35: =SUM(R36:R38) -> 627822 | S35: =IF((L35+M35)=(Q35+R35),"ok","검토") -> ok | U35: =SUM(U38) -> 0 | V35: =SUM(V38) -> 0
B36: =IF(SUMPRODUCT(COUNTIF(C36,{"*본예산*","*1회추경*","*신규*"})),"추가"," 2회") -> 추가 | C36: 신규 | D36: 축산정책과 | E36: 반환금기타(국비사용잔액) | H36: =IF(SUMPRODUCT(COUNTIF(C36,{"*본예산*","*1회추경*","*신규*"})),"-",F36-G36) -> - | J36: 627822 | K36: =F36+I36+J36 -> 627822 | M36: 627822 | N36: =F36+L36+M36 -> 627822 | O36: 농림축산식품부 방역관리과-3714(2013.10.28) | P36: 도비 | R36: =M36 -> 627822 | S36: =IF((L36+M36)=(Q36+R36),"ok","검토") -> ok
B37: =IF(SUMPRODUCT(COUNTIF(C37,{"*본예산*","*1회추경*","*신규*"})),"추가"," 2회") -> 추가 | C37: 신규 | D37: 축산정책과 | E37: 한우 FTA 피해보전 직불금(국비/지원) - 한우 FTA 피해보전 직불금 | H37: =IF(SUMPRODUCT(COUNTIF(C37,{"*본예산*","*1회추경*","*신규*"})),"-",F37-G37) -> - | J37: 1453000 | K37: =F37+I37+J37 -> 1453000 | M37: 1453000 | N37: =F37+L37+M37 -> 1453000 | O37: 농림축산식품부 축산경영과-4596(2013.12.12) | P37: 국비 | Q37: 1453000 | S37: =IF((L37+M37)=(Q37+R37),"ok","검토") -> ok
B38: =IF(SUMPRODUCT(COUNTIF(C38,{"*본예산*","*1회추경*","*신규*"})),"추가"," 2회") -> 추가 | C38: 신규 | D38: 축산정책과 | E38: 한우 FTA 폐업지원금(국비/지원) - 한우 FTA 폐업지원금 | H38: =IF(SUMPRODUCT(COUNTIF(C38,{"*본예산*","*1회추경*","*신규*"})),"-",F38-G38) -> - | J38: 4311623 | K38: =F38+I38+J38 -> 4311623 | M38: 4311623 | N38: =F38+L38+M38 -> 4311623 | O38: 농림축산식품부 축산경영과-4596(2013.12.12) | P38: 국비 | Q38: 4311623 | S38: =IF((L38+M38)=(Q38+R38),"ok","검토") -> ok
B39: 농업기술원 | F39: =SUM(F40:F41) -> 1000000 | G39: =SUM(G40:G41) -> 0 | H39: =SUM(H40:H41) -> 0 | I39: =SUM(I40:I41) -> -1000000 | J39: =SUM(J40:J41) -> 27000 | K39: =SUM(K40:K41) -> 27000 | L39: =SUM(L40:L41) -> -1000000 | M39: =SUM(M40:M41) -> 27000 | N39: =F39+L39+M39 -> 27000 | Q39: =SUM(Q40:Q41) -> -973000 | R39: =SUM(R40:R41) -> 0 | S39: =IF((L39+M39)=(Q39+R39),"ok","검토") -> ok | U39: =SUM(#REF!) -> #REF! | V39: =SUM(#REF!) -> #REF!
B40: =IF(SUMPRODUCT(COUNTIF(C40,{"*본예산*","*1회추경*","*신규*"})),"추가"," 2회") -> 추가 | C40: 신규 | D40: 친환경기술과 | E40: 밭농업직접지불사업 | H40: =IF(SUMPRODUCT(COUNTIF(C40,{"*본예산*","*1회추경*","*신규*"})),"-",F40-G40) -> - | J40: 27000 | K40: =F40+I40+J40 -> 27000 | M40: 27000 | N40: =F40+L40+M40 -> 27000 | O40: 농림축산식품부 농가소득안정추진단-2287(2013.11.13) | P40: 국비 | Q40: 27000 | S40: =IF((L40+M40)=(Q40+R40),"ok","검토") -> ok
B41: =IF(SUMPRODUCT(COUNTIF(C41,{"*본예산*","*1회추경*","*신규*"})),"추가"," 2회") -> 추가 | C41: 1회추경 337 | D41: 생활경영과 | E41: 지역곤충자원산업화 지원센터 건립(국비/직접) | F41: 1000000 | H41: =IF(SUMPRODUCT(COUNTIF(C41,{"*본예산*","*1회추경*","*신규*"})),"-",F41-G41) -> - | I41: -1000000 | K41: =F41+I41+J41 -> 0 | L41: -1000000 | N41: =F41+L41+M41 -> 0 | O41: 국비(10억원) 미교부 | P41: 국비 | Q41: -1000000 | S41: =IF((L41+M41)=(Q41+R41),"ok","검토") -> ok
A42: 보건복지공보위원회 | F42: =SUM(F43:F85)/2 -> 1291576649 | G42: =SUM(G43:G85)/2 -> 1114223316 | H42: =SUM(H43:H85)/2 -> 22503036 | I42: =SUM(I43:I85)/2 -> -11684188 | J42: =SUM(J43:J85)/2 -> 3382516 | K42: =SUM(K43:K85)/2 -> 1283274977 | L42: =SUM(L43:L85)/2 -> -11703561 | M42: =SUM(M43:M85)/2 -> 3401889 | N42: =SUM(N43:N85)/2 -> 1283274977 | Q42: =SUM(Q43:Q85)/2 -> -8472499 | R42: =SUM(R43:R85)/2 -> 170827 | S42: =IF((L42+M42)=(Q42+R42),"ok","검토") -> ok | U42: =SUM(U43:U81)/2 -> 0 | V42: =SUM(V43:V81)/2 -> 0
B43: 보건복지국 | F43: =SUM(F44:F68) -> 895318519 | G43: =SUM(G44:G68) -> 759041109 | H43: =SUM(H44:H68) -> 14727069 | I43: =SUM(I44:I68) -> -8784961 | J43: =SUM(J44:J68) -> 2671016 | K43: =SUM(K44:K68) -> 889204574 | L43: =SUM(L44:L68) -> -8784961 | M43: =SUM(M44:M68) -> 2671016 | N43: =F43+L43+M43 -> 889204574 | Q43: =SUM(Q44:Q68) -> -6137804 | R43: =SUM(R44:R68) -> 23859 | S43: =IF((L43+M43)=(Q43+R43),"ok","검토") -> ok | U43: =SUM(U44:U68) -> 0 | V43: =SUM(V44:V68) -> 0
B44: =IF(SUMPRODUCT(COUNTIF(C44,{"*본예산*","*1회추경*","*신규*"})),"추가"," 2회") -> 2회 | C44: 336 | D44: 복지정책과 | E44: 생계급여(국비/지원) | F44: 296888529 | G44: 290731370 | H44: =IF(SUMPRODUCT(COUNTIF(C44,{"*본예산*","*1회추경*","*신규*"})),"-",F44-G44) -> 6157159 | J44: 410000 | K44: =F44+I44+J44 -> 297298529 | M44: 410000 | N44: =F44+L44+M44 -> 297298529 | O44: 국비 변경내시 ※ 보건복지부 기초생활보장과-3462(2013.11.05)호 | P44: 국비 | Q44: 410000 | S44: =IF((L44+M44)=(Q44+R44),"ok","검토") -> ok
B45: =IF(SUMPRODUCT(COUNTIF(C45,{"*본예산*","*1회추경*","*신규*"})),"추가"," 2회") -> 2회 | C45: 336 | D45: 복지정책과 | E45: 주거급여(국비/지원) | F45: 65859414 | G45: 61961082 | H45: =IF(SUMPRODUCT(COUNTIF(C45,{"*본예산*","*1회추경*","*신규*"})),"-",F45-G45) -> 3898332 | I45: -191127 | K45: =F45+I45+J45 -> 65668287 | L45: -191127 | N45: =F45+L45+M45 -> 65668287 | O45: 국비 변경내시 ※ 보건복지부 기초생활보장과-3462(2013.11.05)호 | P45: 국비 | Q45: -191127 | S45: =IF((L45+M45)=(Q45+R45),"ok","검토") -> ok
B46: =IF(SUMPRODUCT(COUNTIF(C46,{"*본예산*","*1회추경*","*신규*"})),"추가"," 2회") -> 2회 | C46: 337 | D46: 복지정책과 | E46: 교육급여(국비/지원) | F46: 11452833 | G46: 14152282 | H46: =IF(SUMPRODUCT(COUNTIF(C46,{"*본예산*","*1회추경*","*신규*"})),"-",F46-G46) -> -2699449 | J46: 366261 | K46: =F46+I46+J46 -> 11819094 | M46: 366261 | N46: =F46+L46+M46 -> 11819094 | O46: 국비 변경내시 ※ 보건복지부 기초생활보장과-3462(2013.11.05)호 | P46: 국비 | Q46: 327785 | R46: 38476 | S46: =IF((L46+M46)=(Q46+R46),"ok","검토") -> ok
B47: =IF(SUMPRODUCT(COUNTIF(C47,{"*본예산*","*1회추경*","*신규*"})),"추가"," 2회") -> 2회 | C47: 337 | D47: 복지정책과 | E47: 해산장제급여(국비/지원) | F47: 2387535 | G47: 2299193 | H47: =IF(SUMPRODUCT(COUNTIF(C47,{"*본예산*","*1회추경*","*신규*"})),"-",F47-G47) -> 88342 | J47: 32000 | K47: =F47+I47+J47 -> 2419535 | M47: 32000 | N47: =F47+L47+M47 -> 2419535 | O47: 국비 변경내시 ※ 보건복지부 기초생활보장과-3462(2013.11.05)호 | P47: 국비 | Q47: 32000 | S47: =IF((L47+M47)=(Q47+R47),"ok","검토") -> ok
B48: =IF(SUMPRODUCT(COUNTIF(C48,{"*본예산*","*1회추경*","*신규*"})),"추가"," 2회") -> 2회 | C48: 338 | D48: 복지정책과 | E48: 지역사회서비스 투자사업(국비/지원) | F48: 18986128 | G48: 18881812 | H48: =IF(SUMPRODUCT(COUNTIF(C48,{"*본예산*","*1회추경*","*신규*"})),"-",F48-G48) -> 104316 | J48: 22353 | K48: =F48+I48+J48 -> 19008481 | M48: 22353 | N48: =F48+L48+M48 -> 19008481 | O48: 가사간병방문 서비스사업간 도비예산 조정임 | P48: 국비 | R48: 22353 | S48: =IF((L48+M48)=(Q48+R48),"ok","검토") -> ok
B49: =IF(SUMPRODUCT(COUNTIF(C49,{"*본예산*","*1회추경*","*신규*"})),"추가"," 2회") -> 추가 | C49: 1회추경 184 | D49: 복지정책과 | E49: 광역자활센터운영지원(국비/직접) | F49: 532712 | H49: =IF(SUMPRODUCT(COUNTIF(C49,{"*본예산*","*1회추경*","*신규*"})),"-",F49-G49) -> - | J49: 40000 | K49: =F49+I49+J49 -> 572712 | M49: 40000 | N49: =F49+L49+M49 -> 572712 | O49: 보건복지부 평가(최우수기관 선정)에 따른 인센티브 반영 | P49: 국비 | Q49: 28000 | R49: 12000 | S49: =IF((L49+M49)=(Q49+R49),"ok","검토") -> ok
B50: =IF(SUMPRODUCT(COUNTIF(C50,{"*본예산*","*1회추경*","*신규*"})),"추가"," 2회") -> 추가 | C50: 신규 | D50: 복지정책과 | E50: 재해재난 긴급구호(기금/직접) | H50: =IF(SUMPRODUCT(COUNTIF(C50,{"*본예산*","*1회추경*","*신규*"})),"-",F50-G50) -> - | J50: 114637 | K50: =F50+I50+J50 -> 114637 | M50: 114637 | N50: =F50+L50+M50 -> 114637 | O50: 국비 내시 ※ 소방방재청 복구지원과-3771(2013.11.11.)호 | P50: 국비 | Q50: 114637 | S50: =IF((L50+M50)=(Q50+R50),"ok","검토") -> ok
B51: =IF(SUMPRODUCT(COUNTIF(C51,{"*본예산*","*1회추경*","*신규*"})),"추가"," 2회") -> 추가 | C51: 1회추경 184 | D51: 복지정책과 | E51: 지역사회복지사업(국비/지원) - 지역복지계획시행평가 우수지자체 지원 | F51: 270000 | H51: =IF(SUMPRODUCT(COUNTIF(C51,{"*본예산*","*1회추경*","*신규*"})),"-",F51-G51) -> - | J51: 176000 | K51: =F51+I51+J51 -> 446000 | M51: 176000 | N51: =F51+L51+M51 -> 446000 | O51: 복지부 복지행정상 조례부분 대상 수상 포상금 ※ 보건복지부 지역복지과-4943(2013.11.20.)호 | P51: 국비 | Q51: 176000 | S51: =IF((L51+M51)=(Q51+R51),"ok","검토") -> ok
B52: =IF(SUMPRODUCT(COUNTIF(C52,{"*본예산*","*1회추경*","*신규*"})),"추가"," 2회") -> 추가 | C52: 신규 | D52: 복지정책과 | E52: 지역사회복지사업(국비/직접) - 동절기 노숙인 지원 800만 (사회복지보조) | H52: =IF(SUMPRODUCT(COUNTIF(C52,{"*본예산*","*1회추경*","*신규*"})),"-",F52-G52) -> - | J52: 8000 | K52: =F52+I52+J52 -> 8000 | M52: 8000 | N52: =F52+L52+M52 -> 8000 | O52: 복지부 복지행정상 조례부분 대상 수상 포상금 ※ 보건복지부 지역복지과-4943(2013.11.20.)호 | P52: 국비 | Q52: 8000 | S52: =IF((L52+M52)=(Q52+R52),"ok","검토") -> ok
B53: =IF(SUMPRODUCT(COUNTIF(C53,{"*본예산*","*1회추경*","*신규*"})),"추가"," 2회") -> 추가 | C53: 신규 | D53: 복지정책과 | E53: 지역사회복지사업(국비/직접) - 직원역량 강화 200만 (사무관리비) | H53: =IF(SUMPRODUCT(COUNTIF(C53,{"*본예산*","*1회추경*","*신규*"})),"-",F53-G53) -> - | J53: 2000 | K53: =F53+I53+J53 -> 2000 | M53: 2000 | N53: =F53+L53+M53 -> 2000 | O53: 복지부 복지행정상 조례부분 대상 수상 포상금 ※ 보건복지부 지역복지과-4943(2013.11.20.)호 | P53: 국비 | Q53: 2000 | S53: =IF((L53+M53)=(Q53+R53),"ok","검토") -> ok
B54: =IF(SUMPRODUCT(COUNTIF(C54,{"*본예산*","*1회추경*","*신규*"})),"추가"," 2회") -> 2회 | C54: 340 | D54: 노인복지과 | E54: 기초노령연금(국비/지원) | F54: 367215347 | G54: 362535384 | H54: =IF(SUMPRODUCT(COUNTIF(C54,{"*본예산*","*1회추경*","*신규*"})),"-",F54-G54) -> 4679963 | I54: -28661 | K54: =F54+I54+J54 -> 367186686 | L54: -28661 | N54: =F54+L54+M54 -> 367186686 | O54: 국비변경내시 ※ 보건복지부 기초노령연금과-3012(2013.11.22) | P54: 국비 | Q54: -227056 | R54: 198395 | S54: =IF((L54+M54)=(Q54+R54),"ok","검토") -> ok
B55: =IF(SUMPRODUCT(COUNTIF(C55,{"*본예산*","*1회추경*","*신규*"})),"추가"," 2회") -> 추가 | C55: 신규 | D55: 노인복지과 | E55: 어르신종합지원센터 운영(국비/직접) - 경기도 어르신종합지원센터 설치 (사회복지보조) | H55: =IF(SUMPRODUCT(COUNTIF(C55,{"*본예산*","*1회추경*","*신규*"})),"-",F55-G55) -> - | J55: 24000 | K55: =F55+I55+J55 -> 24000 | M55: 24000 | N55: =F55+L55+M55 -> 24000 | O55: 복지부 복지행정상 노인분야 대상 수상 포상금 ※ 보건복지부 지역복지과-4943(2013.11.20.)호 | P55: 국비 | Q55: 24000 | S55: =IF((L55+M55)=(Q55+R55),"ok","검토") -> ok
B56: =IF(SUMPRODUCT(COUNTIF(C56,{"*본예산*","*1회추경*","*신규*"})),"추가"," 2회") -> 추가 | C56: 신규 | D56: 노인복지과 | E56: 노인복지사업 선진지 견학(국비/직접) | H56: =IF(SUMPRODUCT(COUNTIF(C56,{"*본예산*","*1회추경*","*신규*"})),"-",F56-G56) -> - | J56: 6000 | K56: =F56+I56+J56 -> 6000 | M56: 6000 | N56: =F56+L56+M56 -> 6000 | O56: 복지부 복지행정상 노인분야 대상 수상 포상금 ※ 보건복지부 지역복지과-4943(2013.11.20.)호 | P56: 국비 | Q56: 6000 | S56: =IF((L56+M56)=(Q56+R56),"ok","검토") -> ok
B57: =IF(SUMPRODUCT(COUNTIF(C57,{"*본예산*","*1회추경*","*신규*"})),"추가"," 2회") -> 추가 | C57: 본예산 268 | D57: 장애인복지과 | E57: 장애인연금(국비/지원) | F57: 48627001 | H57: =IF(SUMPRODUCT(COUNTIF(C57,{"*본예산*","*1회추경*","*신규*"})),"-",F57-G57) -> - | I57: -1214286 | K57: =F57+I57+J57 -> 47412715 | L57: -1214286 | N57: =F57+L57+M57 -> 47412715 | O57: 국비변경내시 ※ 보건복지부 장애인자립기반과 - 7231(2013.11.12.)호 | P57: 국비 | Q57: -1000000 | R57: -214286 | S57: =IF((L57+M57)=(Q57+R57),"ok","검토") -> ok
B58: =IF(SUMPRODUCT(COUNTIF(C58,{"*본예산*","*1회추경*","*신규*"})),"추가"," 2회") -> 추가 | C58: 본예산 270 | D58: 장애인복지과 | E58: 장애아동가족지원(국비/지원) - 장애아동 재활치료바우처 | F58: 10812867 | H58: =IF(SUMPRODUCT(COUNTIF(C58,{"*본예산*","*1회추경*","*신규*"})),"-",F58-G58) -> - | J58: 1109762 | K58: =F58+I58+J58 -> 11922629 | M58: 1109762 | N58: =F58+L58+M58 -> 11922629 | O58: 국비변경내시 ※보건복지부 장애인서비스과-3705(2013.10.30.)호 | P58: 국비 | Q58: 1109762 | S58: =IF((L58+M58)=(Q58+R58),"ok","검토") -> ok
B59: =IF(SUMPRODUCT(COUNTIF(C59,{"*본예산*","*1회추경*","*신규*"})),"추가"," 2회") -> 추가 | C59: 1회추경 198 | D59: 장애인복지과 | E59: 장애인직업재활시설 기능보강(국비/지원) | F59: 3252117 | H59: =IF(SUMPRODUCT(COUNTIF(C59,{"*본예산*","*1회추경*","*신규*"})),"-",F59-G59) -> - | J59: 238097 | K59: =F59+I59+J59 -> 3490214 | M59: 238097 | N59: =F59+L59+M59 -> 3490214 | O59: 국비변경내시 ※ 보건복지부 장애인자립기반과-6838(2013.10.25)호 | P59: 국비 | Q59: 238097 | S59: =IF((L59+M59)=(Q59+R59),"ok","검토") -> ok
B60: =IF(SUMPRODUCT(COUNTIF(C60,{"*본예산*","*1회추경*","*신규*"})),"추가"," 2회") -> 추가 | C60: 1회추경 197 | D60: 장애인복지과 | E60: 장애인생활시설 운영(분권/지원) | F60: 39736881 | H60: =IF(SUMPRODUCT(COUNTIF(C60,{"*본예산*","*1회추경*","*신규*"})),"-",F60-G60) -> - | I60: -150042 | K60: =F60+I60+J60 -> 39586839 | L60: -150042 | N60: =F60+L60+M60 -> 39586839 | O60: 본청, 북부청간 사업비 조정 (분권 121,440, 도비28,602) | P60: 국비 | Q60: -121440 | R60: -28602 | S60: =IF((L60+M60)=(Q60+R60),"ok","검토") -> ok
B61: =IF(SUMPRODUCT(COUNTIF(C61,{"*본예산*","*1회추경*","*신규*"})),"추가"," 2회") -> 추가 | C61: 1회추경 200 | D61: 무한돌봄센터 | E61: 긴급복지지원사업(국비/지원) | F61: 14802263 | H61: =IF(SUMPRODUCT(COUNTIF(C61,{"*본예산*","*1회추경*","*신규*"})),"-",F61-G61) -> - | I61: -4634590 | K61: =F61+I61+J61 -> 10167673 | L61: -4634590 | N61: =F61+L61+M61 -> 10167673 | O61: 국비변경내시 ※ 보건복지부 기초생활보장과-3475(2013.11.7)호 | P61: 국비 | Q61: -4586682 | R61: -47908 | S61: =IF((L61+M61)=(Q61+R61),"ok","검토") -> ok
B62: =IF(SUMPRODUCT(COUNTIF(C62,{"*본예산*","*1회추경*","*신규*"})),"추가"," 2회") -> 추가 | C62: 본예산 294 | D62: 보건정책과 | E62: 마약중독자 치료보호(국비/직접) - 마약중독자 치료보호비 지원 | F62: 40000 | H62: =IF(SUMPRODUCT(COUNTIF(C62,{"*본예산*","*1회추경*","*신규*"})),"-",F62-G62) -> - | I62: -1000 | K62: =F62+I62+J62 -> 39000 | L62: -1000 | N62: =F62+L62+M62 -> 39000 | O62: 국비변경내시 ※ 보건복지부 정신건강정책과-5508(2013.11.5.)호 | P62: 국비 | Q62: -500 | R62: -500 | S62: =IF((L62+M62)=(Q62+R62),"ok","검토") -> ok
B63: =IF(SUMPRODUCT(COUNTIF(C63,{"*본예산*","*1회추경*","*신규*"})),"추가"," 2회") -> 추가 | C63: 본예산 303 | D63: 보건정책과 | E63: 인건비 - 공중보건의사 보건사업 활동비 | F63: 9500 | H63: =IF(SUMPRODUCT(COUNTIF(C63,{"*본예산*","*1회추경*","*신규*"})),"-",F63-G63) -> - | I63: -9500 | K63: =F63+I63+J63 -> 0 | L63: -9500 | N63: =F63+L63+M63 -> 0 | O63: 공중보건의사(역학조사관) 활동비로 현재 국비사업으로 지원 중. 도자체 인건비 전액 감액 | P63: 도비 | R63: -9500 | S63: =IF((L63+M63)=(Q63+R63),"ok","검토") -> ok
B64: =IF(SUMPRODUCT(COUNTIF(C64,{"*본예산*","*1회추경*","*신규*"})),"추가"," 2회") -> 추가 | C64: 1회추경 218 | D64: 식품안전과 | E64: 어린이 급식관리지원센터 운영(국비/지원) | F64: 3323000 | H64: =IF(SUMPRODUCT(COUNTIF(C64,{"*본예산*","*1회추경*","*신규*"})),"-",F64-G64) -> - | I64: -1974000 | K64: =F64+I64+J64 -> 1349000 | L64: -1974000 | N64: =F64+L64+M64 -> 1349000 | O64: 국비 변경내시 ※ 식품의약품안전청 식생활안전과-3167(2013.11.4.)호 | P64: 국비 | Q64: -1974000 | S64: =IF((L64+M64)=(Q64+R64),"ok","검토") -> ok
B65: =IF(SUMPRODUCT(COUNTIF(C65,{"*본예산*","*1회추경*","*신규*"})),"추가"," 2회") -> 2회 | C65: 340 | D65: 노인복지과 | E65: 노인생활시설기능보강(국비/지원) - 노인요양시설기능보강 (자치단체자본보조) | F65: 5023716 | G65: 4146375 | H65: =IF(SUMPRODUCT(COUNTIF(C65,{"*본예산*","*1회추경*","*신규*"})),"-",F65-G65) -> 877341 | I65: -545755 | K65: =F65+I65+J65 -> 4477961 | L65: -545755 | N65: =F65+L65+M65 -> 4477961 | O65: 국비 변경내시 ※ 보건복지부 요양보험운영과(2013.12.10)호 | P65: 국비 | Q65: -545755 | S65: =IF((L65+M65)=(Q65+R65),"ok","검토") -> ok
B66: =IF(SUMPRODUCT(COUNTIF(C66,{"*본예산*","*1회추경*","*신규*"})),"추가"," 2회") -> 2회 | C66: 345 | D66: 보건정책과 | E66: 반환금기타 - 국비사용잔액 | F66: 1078172 | G66: 1075461 | H66: =IF(SUMPRODUCT(COUNTIF(C66,{"*본예산*","*1회추경*","*신규*"})),"-",F66-G66) -> 2711 | J66: 53431 | K66: =F66+I66+J66 -> 1131603 | M66: 53431 | N66: =F66+L66+M66 -> 1131603 | O66: 보건정책과 국비사용잔액 이자 ※ 보건복지부응급의료과 -3331(2013.10.11.)호 | P66: 도비 | R66: 53431 | S66: =IF((L66+M66)=(Q66+R66),"ok","검토") -> ok
B67: =IF(SUMPRODUCT(COUNTIF(C67,{"*본예산*","*1회추경*","*신규*"})),"추가"," 2회") -> 2회 | C67: 346 | D67: 건강증진과 | E67: 영유아 사전예방적 건강관리(기금/지원) - 미숙아 및 선청성 이상아 의료비 지원 | F67: 4876504 | G67: 3258150 | H67: =IF(SUMPRODUCT(COUNTIF(C67,{"*본예산*","*1회추경*","*신규*"})),"-",F67-G67) -> 1618354 | J67: 68475 | K67: =F67+I67+J67 -> 4944979 | M67: 68475 | N67: =F67+L67+M67 -> 4944979 | O67: 국비 변경내시 ※ 보건복지부 출산정책과-3676(2013.12.10)호 | P67: 국비 | Q67: 68475 | S67: =IF((L67+M67)=(Q67+R67),"ok","검토") -> ok
B68: =IF(SUMPRODUCT(COUNTIF(C68,{"*본예산*","*1회추경*","*신규*"})),"추가"," 2회") -> 추가 | C68: 1회추경 209 | D68: 보건정책과 | E68: 소아전용응급실 운영지원(기금/직접) | F68: 144000 | G68: 0 | H68: =IF(SUMPRODUCT(COUNTIF(C68,{"*본예산*","*1회추경*","*신규*"})),"-",F68-G68) -> - | I68: -36000 | K68: =F68+I68+J68 -> 108000 | L68: -36000 | N68: =F68+L68+M68 -> 108000 | O68: 국비변경내시 ※ 보건복지부 응급의료과-4112(2013.11.17)호 | P68: 국비 | Q68: -36000 | S68: =IF((L68+M68)=(Q68+R68),"ok","검토") -> ok
B69: 복지여성실 | F69: =SUM(F70:F81) -> 395880185 | G69: =SUM(G70:G81) -> 355182207 | H69: =SUM(H70:H81) -> 7775967 | I69: =SUM(I70:I81) -> -2899227 | J69: =SUM(J70:J81) -> 711500 | K69: =SUM(K70:K81) -> 393692458 | L69: =SUM(L70:L81) -> -2899227 | M69: =SUM(M70:M81) -> 711500 | N69: =F69+L69+M69 -> 393692458 | Q69: =SUM(Q70:Q81) -> -2334695 | R69: =SUM(R70:R81) -> 146968 | S69: =IF((L69+M69)=(Q69+R69),"ok","검토") -> ok | U69: =SUM(U70:U81) -> 0 | V69: =SUM(V70:V81) -> 0
B70: =IF(SUMPRODUCT(COUNTIF(C70,{"*본예산*","*1회추경*","*신규*"})),"추가"," 2회") -> 2회 | C70: 353 | D70: 사회복지담당관 | E70: 생계급여(국비/지원) | F70: 146266547 | G70: 142400401 | H70: =IF(SUMPRODUCT(COUNTIF(C70,{"*본예산*","*1회추경*","*신규*"})),"-",F70-G70) -> 3866146 | J70: 90000 | K70: =F70+I70+J70 -> 146356547 | M70: 90000 | N70: =F70+L70+M70 -> 146356547 | O70: 국비 변경내시 ※ 보건복지부 기초생활보장과-3462(2013.11.05)호 | P70: 국비 | Q70: 90000 | S70: =IF((L70+M70)=(Q70+R70),"ok","검토") -> ok
B71: =IF(SUMPRODUCT(COUNTIF(C71,{"*본예산*","*1회추경*","*신규*"})),"추가"," 2회") -> 2회 | C71: 353 | D71: 사회복지담당관 | E71: 주거급여(국비/지원) | F71: 31954327 | G71: 30094629 | H71: =IF(SUMPRODUCT(COUNTIF(C71,{"*본예산*","*1회추경*","*신규*"})),"-",F71-G71) -> 1859698 | I71: -108873 | K71: =F71+I71+J71 -> 31845454 | L71: -108873 | N71: =F71+L71+M71 -> 31845454 | O71: 국비 변경내시 ※ 보건복지부 기초생활보장과-3462(2013.11.05)호 | P71: 국비 | Q71: -108873 | S71: =IF((L71+M71)=(Q71+R71),"ok","검토") -> ok
B72: =IF(SUMPRODUCT(COUNTIF(C72,{"*본예산*","*1회추경*","*신규*"})),"추가"," 2회") -> 2회 | C72: 353 | D72: 사회복지담당관 | E72: 교육급여(국비/지원) | F72: 4782918 | G72: 5982012 | H72: =IF(SUMPRODUCT(COUNTIF(C72,{"*본예산*","*1회추경*","*신규*"})),"-",F72-G72) -> -1199094 | J72: 152962 | K72: =F72+I72+J72 -> 4935880 | M72: 152962 | N72: =F72+L72+M72 -> 4935880 | O72: 국비 변경내시 ※ 보건복지부 기초생활보장과-3462(2013.11.05)호 | P72: 국비 | Q72: 137215 | R72: 15747 | S72: =IF((L72+M72)=(Q72+R72),"ok","검토") -> ok
B73: =IF(SUMPRODUCT(COUNTIF(C73,{"*본예산*","*1회추경*","*신규*"})),"추가"," 2회") -> 2회 | C73: 354 | D73: 사회복지담당관 | E73: 해산장제급여(국비/지원) | F73: 1199844 | G73: 1127324 | H73: =IF(SUMPRODUCT(COUNTIF(C73,{"*본예산*","*1회추경*","*신규*"})),"-",F73-G73) -> 72520 | J73: 17472 | K73: =F73+I73+J73 -> 1217316 | M73: 17472 | N73: =F73+L73+M73 -> 1217316 | O73: 국비 변경내시 ※ 보건복지부 기초생활보장과-3462(2013.11.05)호 | P73: 국비 | Q73: 17472 | S73: =IF((L73+M73)=(Q73+R73),"ok","검토") -> ok
B74: =IF(SUMPRODUCT(COUNTIF(C74,{"*본예산*","*1회추경*","*신규*"})),"추가"," 2회") -> 2회 | C74: 354 | D74: 사회복지담당관 | E74: 지역사회서비스 투자사업(국비/지원) | F74: 6577405 | G74: 6557271 | H74: =IF(SUMPRODUCT(COUNTIF(C74,{"*본예산*","*1회추경*","*신규*"})),"-",F74-G74) -> 20134 | J74: 4315 | K74: =F74+I74+J74 -> 6581720 | M74: 4315 | N74: =F74+L74+M74 -> 6581720 | O74: 가사간병방문 서비스사업간 도비예산 조정임 | P74: 국비 | R74: 4315 | S74: =IF((L74+M74)=(Q74+R74),"ok","검토") -> ok
B75: =IF(SUMPRODUCT(COUNTIF(C75,{"*본예산*","*1회추경*","*신규*"})),"추가"," 2회") -> 2회 | C75: 356 | D75: 사회복지담당관 | E75: 기초노령연금(국비/지원) | F75: 172177133 | G75: 169020570 | H75: =IF(SUMPRODUCT(COUNTIF(C75,{"*본예산*","*1회추경*","*신규*"})),"-",F75-G75) -> 3156563 | J75: 31811 | K75: =F75+I75+J75 -> 172208944 | M75: 31811 | N75: =F75+L75+M75 -> 172208944 | O75: 사업량 증가에 따른 국비 변경내시 ※ 근거 : 보건복지부 기초노령연금과-3012(2013.11.22)호. | P75: 국비 | Q75: -84325 | R75: 116136 | S75: =IF((L75+M75)=(Q75+R75),"ok","검토") -> ok
B76: =IF(SUMPRODUCT(COUNTIF(C76,{"*본예산*","*1회추경*","*신규*"})),"추가"," 2회") -> 추가 | C76: 1회추경 493 | D76: 사회복지담당관 | E76: 긴급복지(국비/지원) | F76: 7411653 | H76: =IF(SUMPRODUCT(COUNTIF(C76,{"*본예산*","*1회추경*","*신규*"})),"-",F76-G76) -> - | I76: -2266317 | K76: =F76+I76+J76 -> 5145336 | L76: -2266317 | N76: =F76+L76+M76 -> 5145336 | O76: 국비 변경내시 ※ 보건복지부 기초생활보장과-3475(2013.11.7)호 | P76: 국비 | Q76: -2259272 | R76: -7045 | S76: =IF((L76+M76)=(Q76+R76),"ok","검토") -> ok
B77: =IF(SUMPRODUCT(COUNTIF(C77,{"*본예산*","*1회추경*","*신규*"})),"추가"," 2회") -> 추가 | C77: 본예산 803 | D77: 사회복지담당관 | E77: 장애아동 가족지원(국비/지원) - 장애아동 재활치료 바우처 | F77: 4634086 | H77: =IF(SUMPRODUCT(COUNTIF(C77,{"*본예산*","*1회추경*","*신규*"})),"-",F77-G77) -> - | J77: 236238 | K77: =F77+I77+J77 -> 4870324 | M77: 236238 | N77: =F77+L77+M77 -> 4870324 | O77: 사업량 증가에 따른 국비 변경내시 ※ 근거 : 보건복지부 장애인서비스과-3705(2013.10.30.)호 | P77: 국비 | Q77: 236238 | S77: =IF((L77+M77)=(Q77+R77),"ok","검토") -> ok
B78: =IF(SUMPRODUCT(COUNTIF(C78,{"*본예산*","*1회추경*","*신규*"})),"추가"," 2회") -> 추가 | C78: 1회추경 500 | D78: 사회복지담당관 | E78: 장애인 복지시설 지원(차체/지원) - 장애인복지시설 입소자 지원(4종) | F78: 275560 | H78: =IF(SUMPRODUCT(COUNTIF(C78,{"*본예산*","*1회추경*","*신규*"})),"-",F78-G78) -> - | I78: -10787 | K78: =F78+I78+J78 -> 264773 | L78: -10787 | N78: =F78+L78+M78 -> 264773 | O78: 사업량 감소에 따른 감액 | P78: 도비 | R78: -10787 | S78: =IF((L78+M78)=(Q78+R78),"ok","검토") -> ok
B79: =IF(SUMPRODUCT(COUNTIF(C79,{"*본예산*","*1회추경*","*신규*"})),"추가"," 2회") -> 추가 | C79: 1회추경 500 | D79: 사회복지담당관 | E79: 장애인 직업재활시설 기능보강(국비/지원) | F79: 461170 | H79: =IF(SUMPRODUCT(COUNTIF(C79,{"*본예산*","*1회추경*","*신규*"})),"-",F79-G79) -> - | J79: 28660 | K79: =F79+I79+J79 -> 489830 | M79: 28660 | N79: =F79+L79+M79 -> 489830 | O79: 사업량 증가에 따른 국비 변경내시 ※ 근거 : 보건복지부 장애인자립기반과-6938(2013.10.25.)호 | P79: 국비 | Q79: 28660 | S79: =IF((L79+M79)=(Q79+R79),"ok","검토") -> ok
B80: =IF(SUMPRODUCT(COUNTIF(C80,{"*본예산*","*1회추경*","*신규*"})),"추가"," 2회") -> 추가 | C80: 1회추경 501 | D80: 사회복지담당관 | E80: 장애인복지시설 운영지원(분권/지원) - 장애인생활시설 운영 | F80: 17952605 | H80: =IF(SUMPRODUCT(COUNTIF(C80,{"*본예산*","*1회추경*","*신규*"})),"-",F80-G80) -> - | J80: 150042 | K80: =F80+I80+J80 -> 18102647 | M80: 150042 | N80: =F80+L80+M80 -> 18102647 | O80: 본청, 북부청간 사업비 조정 (분권 121,440, 도비28,602) | P80: 분권 | Q80: 121440 | R80: 28602 | S80: =IF((L80+M80)=(Q80+R80),"ok","검토") -> ok
B81: =IF(SUMPRODUCT(COUNTIF(C81,{"*본예산*","*1회추경*","*신규*"})),"추가"," 2회") -> 추가 | C81: 1회추경 495 | D81: 사회복지담당관 | E81: 노인생활시설기능보강(국비/지원) - 노인요양시설 기능보강 (자치단체자본보조) | F81: 2186937 | H81: =IF(SUMPRODUCT(COUNTIF(C81,{"*본예산*","*1회추경*","*신규*"})),"-",F81-G81) -> - | I81: -513250 | K81: =F81+I81+J81 -> 1673687 | L81: -513250 | N81: =F81+L81+M81 -> 1673687 | O81: 국비 변경내시 ※ 보건복지부 요양보험운영과(2013.12.10)호 | P81: 국비 | Q81: -513250 | S81: =IF((L81+M81)=(Q81+R81),"ok","검토") -> ok
B82: 보건환경연구원 | F82: =SUM(F83:F85) -> 377945 | G82: =SUM(G83:G85) -> 0 | H82: =SUM(H83:H85) -> 0 | I82: =SUM(I83:I85) -> 0 | J82: =SUM(J83:J85) -> 0 | K82: =SUM(K83:K85) -> 377945 | L82: =SUM(L83:L85) -> -19373 | M82: =SUM(M83:M85) -> 19373 | N82: =SUM(N83:N85) -> 377945 | Q82: =SUM(Q83:Q85) -> 0 | R82: =SUM(R83:R85) -> 0 | S82: =IF((L82+M82)=(Q82+R82),"ok","검토") -> ok | U82: =SUM(U85) -> 0 | V82: =SUM(V85) -> 0
B83: =IF(SUMPRODUCT(COUNTIF(C83,{"*본예산*","*1회추경*","*신규*"})),"추가"," 2회") -> 추가 | C83: 본예산 538 | D83: 총무과 | E83: 인력운영비 - 인건비 (무기계약근로자) - 조리사 - 시간외수당 | F83: 5367 | H83: =IF(SUMPRODUCT(COUNTIF(C83,{"*본예산*","*1회추경*","*신규*"})),"-",F83-G83) -> - | K83: =F83+I83+J83 -> 5367 | L83: -895 | N83: =F83+L83+M83 -> 4472 | P83: 도비 | S83: =IF((L83+M83)=(Q83+R83),"ok","검토") -> 검토
B84: =IF(SUMPRODUCT(COUNTIF(C84,{"*본예산*","*1회추경*","*신규*"})),"추가"," 2회") -> 추가 | C84: 본예산 538 | D84: 총무과 | E84: 인력운영비 - 인건비 (무기계약근로자) - 무기계약근로자퇴직금 | F84: 18478 | H84: =IF(SUMPRODUCT(COUNTIF(C84,{"*본예산*","*1회추경*","*신규*"})),"-",F84-G84) -> - | K84: =F84+I84+J84 -> 18478 | L84: -18478 | N84: =F84+L84+M84 -> 0 | P84: 도비 | S84: =IF((L84+M84)=(Q84+R84),"ok","검토") -> 검토
B85: =IF(SUMPRODUCT(COUNTIF(C85,{"*본예산*","*1회추경*","*신규*"})),"추가"," 2회") -> 추가 | C85: 1회추경 370 | D85: 수원농산물검사소 | E85: 안산농산물 정밀검사(자체/직접) - 액체크로마토그래피질량분석기 (자산및물품취득비) | F85: 354100 | H85: =IF(SUMPRODUCT(COUNTIF(C85,{"*본예산*","*1회추경*","*신규*"})),"-",F85-G85) -> - | K85: =F85+I85+J85 -> 354100 | M85: 19373 | N85: =F85+L85+M85 -> 373473 | P85: 도비 | S85: =IF((L85+M85)=(Q85+R85),"ok","검토") -> 검토
A86: 건설교통위원회 | F86: =SUM(F87:F95)/2 -> 47531980 | G86: =SUM(G87:G95)/2 -> 11101000 | H86: =SUM(H87:H95)/2 -> 587280 | I86: =SUM(I87:I95)/2 -> -4052000 | J86: =SUM(J87:J95)/2 -> 1687775 | K86: =SUM(K87:K95)/2 -> 45167755 | L86: =SUM(L87:L95)/2 -> -4052000 | M86: =SUM(M87:M95)/2 -> 387275 | N86: =F86+L86+M86 -> 43867255 | Q86: =SUM(Q87:Q95)/2 -> -3723000 | R86: =SUM(R87:R95)/2 -> 58275 | S86: =IF((L86+M86)=(Q86+R86),"ok","검토") -> ok | U86: =SUM(U87:U95)/2 -> 0 | V86: =SUM(V87:V95)/2 -> 0
B87: 철도물류국 | F87: =SUM(F88) -> 3951155 | G87: =SUM(G88) -> 3039350 | H87: =SUM(H88) -> 911805 | I87: =SUM(I88) -> 0 | J87: =SUM(J88) -> 90150 | K87: =SUM(K88) -> 4041305 | L87: =SUM(L88) -> 0 | M87: =SUM(M88) -> 90150 | N87: =F87+L87+M87 -> 4041305 | Q87: =SUM(Q88) -> 90150 | R87: =SUM(R88) -> 0 | S87: =IF((L87+M87)=(Q87+R87),"ok","검토") -> ok | U87: =SUM(U88) -> 0 | V87: =SUM(V88) -> 0
B88: =IF(SUMPRODUCT(COUNTIF(C88,{"*본예산*","*1회추경*","*신규*"})),"추가"," 2회") -> 2회 | C88: 373 | D88: 물류과 | E88: 화물차 디지털운행기록장치 설치지원(국비/지원) | F88: 3951155 | G88: 3039350 | H88: =IF(SUMPRODUCT(COUNTIF(C88,{"*본예산*","*1회추경*","*신규*"})),"-",F88-G88) -> 911805 | J88: 90150 | K88: =F88+I88+J88 -> 4041305 | M88: 90150 | N88: =F88+L88+M88 -> 4041305 | O88: 국비 추가내시 | P88: 국비 | Q88: 90150 | S88: =IF((L88+M88)=(Q88+R88),"ok","검토") -> ok
B89: 교통건설국 | F89: =SUM(F90:F93) -> 28890825 | G89: =SUM(G90:G93) -> 8061650 | H89: =SUM(H90:H93) -> -324525 | I89: =SUM(I90:I93) -> -3145000 | J89: =SUM(J90:J93) -> 1597625 | K89: =SUM(K90:K93) -> 27343450 | L89: =SUM(L90:L93) -> -3145000 | M89: =SUM(M90:M93) -> 297125 | N89: =F89+L89+M89 -> 26042950 | Q89: =SUM(Q90:Q93) -> -2906150 | R89: =SUM(R90:R93) -> 58275 | S89: =IF((L89+M89)=(Q89+R89),"ok","검토") -> ok | U89: =SUM(U93:U93) -> 0 | V89: =SUM(V93:V93) -> 0
B90: =IF(SUMPRODUCT(COUNTIF(C90,{"*본예산*","*1회추경*","*신규*"})),"추가"," 2회") -> 2회 | C90: 379 | D90: 교통정책과 | E90: 택시 디지털운행기록장치 설치지원(국비/지원) | F90: 3154125 | G90: 1261650 | H90: =IF(SUMPRODUCT(COUNTIF(C90,{"*본예산*","*1회추경*","*신규*"})),"-",F90-G90) -> 1892475 | J90: 1397625 | K90: =F90+I90+J90 -> 4551750 | M90: 97125 | N90: =F90+L90+M90 -> 3251250 | O90: 국비 추가내시(38,850) 및 도비추가(상임위 5:5 1,358,775) 도비변경(예결위 3:7 58,275) | P90: 국비 | Q90: 38850 | R90: 58275 | S90: =IF((L90+M90)=(Q90+R90),"ok","검토") -> ok
B91: =IF(SUMPRODUCT(COUNTIF(C91,{"*본예산*","*1회추경*","*신규*"})),"추가"," 2회") -> 추가 | C91: 1회추경 594 | D91: 도로계획과 | E91: 덕양~용미 국지도건설(광특/직접) - 덕양-용미 도로확포장 (시설비) | F91: 21500000 | H91: =IF(SUMPRODUCT(COUNTIF(C91,{"*본예산*","*1회추경*","*신규*"})),"-",F91-G91) -> - | I91: -2500000 | K91: =F91+I91+J91 -> 19000000 | L91: -2500000 | N91: =F91+L91+M91 -> 19000000 | O91: 국가지원도 예산 감액변경내시 국토교통부 재정담당관-2007(2013.12.08) | P91: 광특 | Q91: -2500000 | S91: =IF((L91+M91)=(Q91+R91),"ok","검토") -> ok
B92: =IF(SUMPRODUCT(COUNTIF(C92,{"*본예산*","*1회추경*","*신규*"})),"추가"," 2회") -> 2회 | C92: 383 | D92: 도로계획과 | E92: 초지대교~인천 국지도건설(광특/직접) - 초지대교~인천 도로확포장 (시설비) | F92: 1183000 | G92: 3400000 | H92: =IF(SUMPRODUCT(COUNTIF(C92,{"*본예산*","*1회추경*","*신규*"})),"-",F92-G92) -> -2217000 | I92: -645000 | K92: =F92+I92+J92 -> 538000 | L92: -645000 | N92: =F92+L92+M92 -> 538000 | O92: 국가지원도 예산 감액변경내시 국토교통부 재정담당관-2007(2013.12.08) | P92: 광특 | Q92: -645000 | S92: =IF((L92+M92)=(Q92+R92),"ok","검토") -> ok
B93: =IF(SUMPRODUCT(COUNTIF(C93,{"*본예산*","*1회추경*","*신규*"})),"추가"," 2회") -> 추가 | C93: 본예산 982 | D93: 도로계획과 | E93: 국가 자전거도로 구축사업(국비/지원) | F93: 3053700 | G93: 3400000 | H93: =IF(SUMPRODUCT(COUNTIF(C93,{"*본예산*","*1회추경*","*신규*"})),"-",F93-G93) -> - | J93: 200000 | K93: =F93+I93+J93 -> 3253700 | M93: 200000 | N93: =F93+L93+M93 -> 3253700 | O93: 국비추가내시 안전행정부 자전거정책과-2483 ('13.12.05) | P93: 국비 | Q93: 200000 | S93: =IF((L93+M93)=(Q93+R93),"ok","검토") -> ok
B94: 건설본부 | F94: =SUM(F95) -> 14690000 | G94: =SUM(G95) -> 0 | H94: =SUM(H95) -> 0 | I94: =SUM(I95) -> -907000 | J94: =SUM(J95) -> 0 | K94: =SUM(K95) -> 13783000 | L94: =SUM(L95) -> -907000 | M94: =SUM(M95) -> 0 | N94: =F94+L94+M94 -> 13783000 | Q94: =SUM(Q95) -> -907000 | R94: =SUM(R95) -> 0 | S94: =IF((L94+M94)=(Q94+R94),"ok","검토") -> ok | U94: =SUM(U95) -> 0 | V94: =SUM(V95) -> 0
B95: =IF(SUMPRODUCT(COUNTIF(C95,{"*본예산*","*1회추경*","*신규*"})),"추가"," 2회") -> 추가 | C95: 본예산 590 | D95: 하천과 | E95: 국가하천유지보수(국비/지원) | F95: 14690000 | H95: =IF(SUMPRODUCT(COUNTIF(C95,{"*본예산*","*1회추경*","*신규*"})),"-",F95-G95) -> - | I95: -907000 | K95: =F95+I95+J95 -> 13783000 | L95: -907000 | N95: =F95+L95+M95 -> 13783000 | O95: 국비 변경내시(본예산서 590쪽) | P95: 국비 | Q95: -907000 | S95: =IF((L95+M95)=(Q95+R95),"ok","검토") -> ok
A96: 도시환경위원회 | F96: =SUM(F97:F107)/2 -> 321066206 | G96: =SUM(G97:G107)/2 -> 336171750 | H96: =SUM(H97:H107)/2 -> -42158044 | I96: =SUM(I97:I107)/2 -> -9816357 | J96: =SUM(J97:J107)/2 -> 2876800 | K96: =SUM(K97:K107)/2 -> 314126649 | L96: =SUM(L97:L107)/2 -> -5996357 | M96: =SUM(M97:M107)/2 -> 3187800 | N96: =F96+L96+M96 -> 318257649 | Q96: =SUM(Q97:Q107)/2 -> -2365200 | R96: =SUM(R97:R107)/2 -> -443357 | S96: =IF((L96+M96)=(Q96+R96),"ok","검토") -> ok | U96: =SUM(U97:U107)/2 -> 0 | V96: =SUM(V97:V107)/2 -> 0
B97: 도시주택실 | F97: =SUM(F98) -> 0 | G97: =SUM(G98) -> 0 | H97: =SUM(H98) -> 0 | I97: =SUM(I98) -> 0 | J97: =SUM(J98) -> 140800 | K97: =SUM(K98) -> 140800 | L97: =SUM(L98) -> 0 | M97: =SUM(M98) -> 140800 | N97: =F97+L97+M97 -> 140800 | Q97: =SUM(Q98) -> 140800 | R97: =SUM(R98) -> 0 | S97: =IF((L97+M97)=(Q97+R97),"ok","검토") -> ok | U97: =SUM(U98) -> 0 | V97: =SUM(V98) -> 0
B98: =IF(SUMPRODUCT(COUNTIF(C98,{"*본예산*","*1회추경*","*신규*"})),"추가"," 2회") -> 추가 | C98: 신규 | D98: 토지정보과 | E98: 도로명주소 전면사용 안내(국비/지원) | H98: =IF(SUMPRODUCT(COUNTIF(C98,{"*본예산*","*1회추경*","*신규*"})),"-",F98-G98) -> - | J98: 140800 | K98: =F98+I98+J98 -> 140800 | M98: 140800 | N98: =F98+L98+M98 -> 140800 | O98: 안전행정부 교부세과-1819(2013.11.13) | P98: 특교 | Q98: 140800 | R98: 0 | S98: =IF((L98+M98)=(Q98+R98),"ok","검토") -> ok
B99: 환경국 | F99: =SUM(F100) -> 6272500 | G99: =SUM(G100) -> 0 | H99: =SUM(H100) -> 0 | I99: =SUM(I100) -> -975000 | J99: =SUM(J100) -> 0 | K99: =SUM(K100) -> 5297500 | L99: =SUM(L100) -> -975000 | M99: =SUM(M100) -> 0 | N99: =F99+L99+M99 -> 5297500 | Q99: =SUM(Q100) -> -450000 | R99: =SUM(R100) -> -525000 | S99: =IF((L99+M99)=(Q99+R99),"ok","검토") -> ok | U99: =SUM(U100) -> 0 | V99: =SUM(V100) -> 0
B100: =IF(SUMPRODUCT(COUNTIF(C100,{"*본예산*","*1회추경*","*신규*"})),"추가"," 2회") -> 추가 | C100: 본예산 325 | D100: 자원순환과 | E100: 유기성폐자원바이오가스화시설 설치(국비/지원) | F100: 6272500 | H100: =IF(SUMPRODUCT(COUNTIF(C100,{"*본예산*","*1회추경*","*신규*"})),"-",F100-G100) -> - | I100: -975000 | K100: =F100+I100+J100 -> 5297500 | L100: -975000 | N100: =F100+L100+M100 -> 5297500 | O100: 국비 변경내시(본예산서 325쪽) 환경부 폐자원에너지과-1591(2013.12.11.)호 | P100: 국비 | Q100: -450000 | R100: -525000 | S100: =IF((L100+M100)=(Q100+R100),"ok","검토") -> ok
...

Sheet 추 표지(명)
A5: 2013년도 명시이월조서안
A7: 예결위 계수조정 결과
B33: 예결위원회 계수조정 결과

Sheet 명시
B1: 2013년도 제2회 추경 경기도 명시이월 사업조서 예결위 조정(안)
K3: (단위 : 천원)
B4: 예 산 과 목 | F4: 명시이월내용 | G4: 예산액 | H4: 2013년 이월액 | K4: 사유
B5: 정책사업 | C5: 단위사업 | D5: 세부사업 | E5: 편성목 (통계목) | H5: 이월안 | J5: 예결위안
B6: 합계 | G6: =SUM(G7:G42)/2 -> 20554650 | H6: =SUM(H7:H42)/2 -> 3800283 | J6: =SUM(K7:K42)/2 -> 0
B7: 기획재정위원회 | G7: =SUM(G8:G10) -> 2464900 | H7: =SUM(H8:H10) -> 2464900 | I7: =SUM(I8:I10) -> 0 | J7: =SUM(J8:J10) -> 2464900
B8: 이용자 중심의 정보통신 기반 마련 (정보통신보안담당관) | C8: 정보보호 강화 | D8: 스마트 보안관리 체계 구축 (자체/직접) | E8: 시설비및부대비 (시설비) | F8: 스마트 보안관리시스템 구축 | G8: 2344900 | H8: 2344900 | J8: 2344900 | K8: ○ 스마트 보안관리시스템 구축사업과 관련하여, 부서 정책 설명회 및 법률자문 등 면밀한 내부검토로 인한 조달청 사전공고 및 본공고등의 지연에 따른 계약체결 지연
E9: 시설비및부대비 (감리비) | F9: 스마트 보안관리시스템 구축 사업 감리용역 | G9: 70000 | H9: 70000 | J9: 70000
E10: 시설비및부대비 (시설부대비) | F10: 조달수수료 | G10: 50000 | H10: 50000 | J10: 50000
B11: 문화체육관광위원회 | G11: =SUM(G12) -> 18904000 | H11: =SUM(H12) -> 2221000 | J11: =SUM(J12) -> 2221000
B12: 평생체육활동여건조성 (체육과) | C12: 체육기반시설확충 | D12: 지방체육시설건립및리모델링(광특/지원) | E12: 자치단체등자본이전 (자치단체자본보조) | F12: 지방체육시설건립및리모델링 | G12: 18904000 | H12: 2221000 | J12: 2221000 | K12: ○ 국비(광특) 1,307백만원 이월에 따른 매칭도비 914백만원 이월 (집행시기 미도래/공사착공 연기) - 의왕 부곡스포츠센터 건립 : 1,020백만원(국600,도420) - 광주 종합운동장 건립 : 1,201백만원(국707,도494) < 문화체육관광부 체육진흥과 – 4951(2013.11.29.) >
K14: (단위 : 천원)
B15: 예 산 과 목 | F15: 명시이월내용 | G15: 예산액 | H15: 2013년 이월액 | K15: 사유
B16: 정책사업 | C16: 단위사업 | D16: 세부사업 | E16: 편성목 (통계목) | H16: 이월안 | I16: 상임위안 | J16: 예결위안
B17: 농림수산위원회 | G17: =SUM(G18:G24) -> -814250 | H17: =SUM(H18:H24) -> -885617 | I17: =SUM(I18:I24) -> -1114383 | J17: =SUM(J18:J24) -> -1069283
B18: 생활경영 경쟁력 강화 (농업기술원) | C18: 미래농업 기반구축 | D18: 지역곤충자원산업화 지원센터 건립 (국비/직접) | E18: 시설비및부대비 (시설비) | F18: 지역곤충자원산업화지원센터 신축 | G18: -1000000 | H18: -1000000 | I18: -1000000 | J18: -1000000 | K18: ○ 국비 미교부 및 도비 미반영에 따른 명시이월사업 제외 * 2회 추경 P217
B19: 축산위생연구 (축산위생연구소) | C19: 가축연구 | D19: 경기도 말 시험사육장조성(자체/직접) | E19: 인건비 (기간제근로자등보수) | G19: 10000 | H19: 10000 | I19: -10000 | J19: 10000 | K19: ○ 본예산 930
E20: 일반운영비 (사무관리비) | G20: 12550 | H20: 12550 | I20: -12550 | J20: 12550 | K20: ○ 1회추경 573
E21: 재료비 (재료비) | F21: 사료 구입 | G21: 8400 | H21: 8400 | I21: -8400 | J21: -8400 | K21: ○ '13년도내 전액 집행예정에 따라 명시이월사업 제외 * 2회 추경 P217
E22: 시설비및부대비 (시설비) | F22: 마사조성, 설치 | G22: 75000 | H22: 3633 | I22: -3633 | J22: -3633
E23: 자산취득비 (자산물품취득비) | F23: 말 구입 | G23: 49000 | H23: 49000 | I23: -49000 | J23: -49000
E24: 자산취득비 (자산물품취득비) | F24: 장구(안장) 구입 | G24: 30800 | H24: 30800 | I24: -30800 | J24: -30800

Sheet 추 기입출
A1: 2014년도 경기도 일반회계 세입 예산 상임위 수정(안)
A2: □기금수입
H3: =G6+H6 -> 0 | N3: (단위 : 천원)
A4: 위원회 | C4: 예산안 페이지 | D4: 부서명 | E4: 사업명 | F4: 예산안 (가) | G4: 상임위 예산안 조정액(라) | I4: 상임위 수정 예산안 (마=가+라) | J4: 예결위 예산안 조정액(마) | L4: 예결위 수정 예산안 (바=가+마) | M4: 동의 대상 | N4: 비 고 | O4: 재원 | P4: 상임위 재원별 증감액 | T4: 상임위 조정액 | V4: 비 고
G5: 감액 | H5: 증액 | J5: 감액 | K5: 증액 | P5: 국비 등 | Q5: 도 비 | R5: 검 증 | T5: 감액 | U5: 증액
B6: 합 계 | F6: =F7 -> 0 | G6: =G7 -> 0 | H6: =H7 -> 0 | I6: =I7 -> 0 | J6: =J7 -> -740000 | K6: =K7 -> 0 | L6: =L7 -> -740000 | M6: =M7 -> 0 | P6: =P7 -> 0 | Q6: =Q7 -> 15000000 | R6: =IF((G6+H6)=(P6+Q6),"ok","검토") -> 검토
F7: =F8 -> 0 | G7: =G8 -> 0 | H7: =H8 -> 0 | I7: =I8 -> 0 | J7: =J8 -> -740000 | K7: =K8 -> 0 | L7: =L8 -> -740000 | M7: =M8 -> 0 | P7: =P8 -> 0 | Q7: =Q8 -> 15000000 | R7: =IF((G7+H7)=(P7+Q7),"ok","검토") -> 검토 | T7: =T8+#REF! -> #REF! | U7: =U8+#REF! -> #REF!
F8: =SUM(F9:F9) -> 0 | G8: =SUM(G9:G9) -> 0 | H8: =SUM(H9:H9) -> 0 | I8: =SUM(I9:I9) -> 0 | J8: =SUM(J9:J9) -> -740000 | K8: =SUM(K9:K9) -> 0 | L8: =SUM(L9:L9) -> -740000 | M8: =SUM(M9:M9) -> 0 | ... Q8: =SUM(Q9:Q9) -> 15000000 | R8: =IF((G8+H8)=(P8+Q8),"ok","검토") -> 검토 | T8: =SUM(T9:T9) -> 0 | U8: =SUM(U9:U9) -> 0
I9: =F9+G9+H9 -> 0 | J9: -740000 | L9: =F9+J9+K9 -> -740000 | M9: =IF(G9-J9<0,"동의필요","-") -> - | O9: 기금 | Q9: 15000000 | R9: =IF((G9+H9)=(P9+Q9),"ok","검토") -> 검토
A11: □기금지출
H12: =G15+H15 -> 0 | N12: (단위 : 천원)
A13: 위원회 | C13: 예산안 페이지 | D13: 부서명 | E13: 사업명 | F13: 예산안 (가) | G13: 상임위 예산안 조정액(라) | I13: 상임위 수정 예산안 (마=가+라) | J13: 예결위 예산안 조정액(마) | L13: 예결위 수정 예산안 (바=가+마) | M13: 동의 대상 | N13: 비 고 | O13: 재원 | P13: 상임위 재원별 증감액 | T13: 상임위 조정액 | V13: 비 고
G14: 감액 | H14: 증액 | J14: 감액 | K14: 증액 | P14: 국비 등 | Q14: 도 비 | R14: 검 증 | T14: 감액 | U14: 증액
B15: 합 계 | F15: =F16+F19 -> 0 | G15: =G16+G19 -> 0 | H15: =H16+H19 -> 0 | I15: =I16+I19 -> 0 | J15: =J16 -> -740000 | K15: =K16 -> 0 | L15: =L16 -> -740000 | M15: =M16 -> 0 | P15: =P16 -> 0 | Q15: =Q16 -> 0 | R15: =IF((G15+H15)=(P15+Q15),"ok","검토") -> ok
A16: 경제과학기술위원회 | F16: =F17 -> 0 | G16: =G17 -> 0 | H16: =H17 -> 0 | I16: =I17 -> 0 | J16: =J17 -> -740000 | K16: =K17 -> 0 | L16: =L17 -> -740000 | M16: =M17 -> 0 | P16: =P17 -> 0 | Q16: =Q17 -> 0 | R16: =IF((G16+H16)=(P16+Q16),"ok","검토") -> ok | S16: =S17 -> 0 | T16: =T17 -> 0 | U16: =U17 -> 0 | V16: =V17 -> 0
F17: =SUM(F18:F18) -> 0 | G17: =SUM(G18:G18) -> 0 | H17: =SUM(H18:H18) -> 0 | I17: =SUM(I18:I18) -> 0 | J17: =SUM(J18:J18) -> -740000 | K17: =SUM(K18:K18) -> 0 | L17: =SUM(L18:L18) -> -740000 | M17: =SUM(M18:M18) -> 0 | P17: =SUM(P18:P18) -> 0 | Q17: =SUM(Q18:Q18) -> 0 | R17: =IF((G17+H17)=(P17+Q17),"ok","검토") -> ok | S17: =SUM(S18:S18) -> 0 | T17: =SUM(T18:T18) -> 0 | U17: =SUM(U18:U18) -> 0 | V17: =SUM(V18:V18) -> 0
I18: =F18+G18+H18 -> 0 | J18: -740000 | L18: =F18+J18+K18 -> -740000 | M18: =IF(G18-J18<0,"동의필요","-") -> - | R18: =IF((G18+H18)=(P18+Q18),"ok","검토") -> ok
A19: 문화체육관광위원회 | F19: =F20 -> 0 | G19: =G20 -> 0 | H19: =H20 -> 0 | I19: =I20 -> 0 | J19: =J20 -> -1340000 | K19: =K20 -> 750000 | L19: =L20 -> -590000 | M19: =M20 -> 0 | P19: =P20 -> 0 | Q19: =Q20 -> 0 | R19: =IF((G19+H19)=(P19+Q19),"ok","검토") -> ok | S19: =S20 -> 0 | T19: =T20 -> -100000 | U19: =U20 -> 0 | V19: =V20 -> 0
F20: =SUM(F21:F31) -> 0 | G20: =SUM(G21:G31) -> 0 | H20: =SUM(H21:H31) -> 0 | I20: =SUM(I21:I31) -> 0 | J20: =SUM(J21:J25) -> -1340000 | K20: =SUM(K21:K25) -> 750000 | L20: =SUM(L21:L25) -> -590000 | R20: =IF((G20+H20)=(P20+Q20),"ok","검토") -> ok | T20: =SUM(T21:T25) -> -100000 | U20: =SUM(U21:U25) -> 0
I21: =F21+G21+H21 -> 0 | J21: -740000 | L21: =F21+J21+K21 -> -740000 | M21: =IF(G21-J21<0,"동의필요","-") -> - | R21: =IF((G21+H21)=(P21+Q21),"ok","검토") -> ok
I22: =F22+G22+H22 -> 0 | K22: 750000 | L22: =F22+J22+K22 -> 750000 | M22: =IF(G22-J22<0,"동의필요","-") -> - | R22: =IF((G22+H22)=(P22+Q22),"ok","검토") -> ok
I23: =F23+G23+H23 -> 0 | J23: -600000 | L23: =F23+J23+K23 -> -600000 | M23: =IF(G23-J23<0,"동의필요","-") -> - | R23: =IF((G23+H23)=(P23+Q23),"ok","검토") -> ok | T23: -100000
