Workbook

Sheet 추 표지
B5: 2014년도 제1회 일반회계 및 특별회계 추가경정 세입·세출 예산안
B7: 예결위 계수조정 결과
B33: 예산결산특별위원회

Sheet 총괄표
B1: '14년도 제1회 추경 일반 및 특별회계 세입·세출 예산 수정안[전체예산총괄]
B3: □ 총 괄
H4: (단위:천원) | M4: (일반+특별+기금) | O4: 특별+기금
B5: 구 분 | C5: 집행부제출(안) | D5: 세입예산(안) | F5: 세출예산(안) | H5: 예산수정(안) | I5: 일반회계 증감(총괄표) | K5: 예비비증감 | L5: 비 고 | M5: 전체 증감(시트) | O5: 비고
D6: 감 액 | E6: 증 액 | F6: 감 액 | G6: 증 액 | I6: 세입 | J6: 세출 | M6: 세입 | N6: 세출
B7: 합 계 | C7: =SUM(C8:C18) -> 16221327381 | D7: =SUM(D8:D18) -> 0 | E7: =SUM(E8:E18) -> 0 | F7: =SUM(F8:F18) -> #REF! | G7: =SUM(G8:G18) -> #REF! | H7: =SUM(H8:H18) -> #REF! | I7: =E25+D25 -> 0 | J7: =F25+G25 -> #REF! | K7: =I7-J7 -> #REF! | L7: 예비비 증감이 - 예산이면 감액에 + 예산이면 증액에 입력 | M7: =D24+E24 -> 0 | N7: =F24+G24 -> #REF! | O7: 0 | P7: 0
B8: 기 타 | C8: 0 | H8: =C8-F8+G8 -> 0 | I8: =D7+E7 -> 0 | J8: =F7+G7 -> #REF! | K8: =I8-J8 -> #REF!
B9: 운 영 위 | C9: 29571741 | D9: =SUMIF('일반 세입'!$A$7:$A$15,"의회운영위원회",'일반 세입'!$L$7:$L$15) -> 0 | E9: =SUMIF('일반 세입'!$A$7:$A$15,"의회운영위원회",'일반 세입'!$M$7:$M$15) -> 0 | F9: =SUMIF(#REF!,"의회운영위원회",#REF!) -> #REF! | G9: =SUMIF(#REF!,"의회운영위원회",#REF!) -> #REF! | H9: =C9+F9+G9 -> #REF! | I9: 일반회계 증감(시트) | N9: 전체 증감
B10: 기 획 위 | C10: 3898493309 | D10: =SUMIF('일반 세입'!$A$7:$A$15,"기획재정위원회",'일반 세입'!$L$7:$L$15) -> 0 | E10: =SUMIF('일반 세입'!$A$7:$A$15,"기획재정위원회",'일반 세입'!$M$7:$M$15) -> 0 | F10: =SUMIF(#REF!,"기획재정위원회",#REF!) -> #REF! | G10: =SUMIF(#REF!,"기획재정위원회",#REF!) -> #REF! | H10: =C10+F10+G10 -> #REF! | I10: ='일반 세입'!L6+'일반 세입'!M6 -> 0 | J10: =#REF!+#REF! -> #REF! | N10: =M7-N7 -> #REF!
B11: 경 제 위 | C11: 568447623 | D11: =SUMIF('일반 세입'!$A$7:$A$15,"경제과학기술위원회",'일반 세입'!$L$7:$L$15) -> 0 | E11: =SUMIF('일반 세입'!$A$7:$A$15,"경제과학기술위원회",'일반 세입'!$M$7:$M$15) -> 0 | F11: =SUMIF(#REF!,"경제과학기술위원회",#REF!) -> #REF! | G11: =SUMIF(#REF!,"경제과학기술위원회",#REF!) -> #REF! | H11: =C11+F11+G11 -> #REF!
B12: 행 정 위 | C12: 1084349076 | D12: =SUMIF('일반 세입'!$A$7:$A$15,"행정자치위원회",'일반 세입'!$L$7:$L$15) -> 0 | E12: =SUMIF('일반 세입'!$A$7:$A$15,"행정자치위원회",'일반 세입'!$M$7:$M$15) -> 0 | F12: =SUMIF(#REF!,"행정자치위원회",#REF!) -> #REF! | G12: =SUMIF(#REF!,"행정자치위원회",#REF!) -> #REF! | H12: =C12+F12+G12 -> #REF!
B13: 문 광 위 | C13: 273648191 | D13: =SUMIF('일반 세입'!$A$7:$A$15,"문화체육관광위원회",'일반 세입'!$L$7:$L$15) -> 0 | E13: =SUMIF('일반 세입'!$A$7:$A$15,"문화체육관광위원회",'일반 세입'!$M$7:$M$15) -> 0 | F13: =SUMIF(#REF!,"문화체육관광위원회",#REF!) -> #REF! | G13: =SUMIF(#REF!,"문화체육관광위원회",#REF!) -> #REF! | H13: =C13+F13+G13 -> #REF! | N13: 기금
B14: 농 림 위 | C14: 536493471 | D14: =SUMIF('일반 세입'!$A$7:$A$15,"농림수산위원회",'일반 세입'!$L$7:$L$15) -> 0 | E14: =SUMIF('일반 세입'!$A$7:$A$15,"농림수산위원회",'일반 세입'!$M$7:$M$15) -> 0 | F14: =SUMIF(#REF!,"농림수산위원회",#REF!) -> #REF! | G14: =SUMIF(#REF!,"농림수산위원회",#REF!) -> #REF! | H14: =C14+F14+G14 -> #REF! | N14: =N10-K7 -> #REF!
B15: 복 지 위 | C15: 2948270941 | D15: =SUMIF('일반 세입'!$A$7:$A$15,"보건복지공보위원회",'일반 세입'!$L$7:$L$15) -> 0 | E15: =SUMIF('일반 세입'!$A$7:$A$15,"보건복지공보위원회",'일반 세입'!$M$7:$M$15) -> 0 | F15: =SUMIF(#REF!,"보건복지공보위원회",#REF!) -> #REF! | G15: =SUMIF(#REF!,"보건복지공보위원회",#REF!) -> #REF! | H15: =C15+F15+G15 -> #REF!
B16: 건 설 위 | C16: 1196035699 | D16: =SUMIF('일반 세입'!$A$7:$A$15,"건설교통위원회",'일반 세입'!$L$7:$L$15) -> 0 | E16: =SUMIF('일반 세입'!$A$7:$A$15,"건설교통위원회",'일반 세입'!$M$7:$M$15) -> 0 | F16: =SUMIF(#REF!,"건설교통위원회",#REF!) -> #REF! | G16: =SUMIF(#REF!,"건설교통위원회",#REF!) -> #REF! | H16: =C16+F16+G16 -> #REF!
B17: 도 시 위 | C17: 916276929 | D17: =SUMIF('일반 세입'!$A$7:$A$15,"도시환경위원회",'일반 세입'!$L$7:$L$15) -> 0 | E17: =SUMIF('일반 세입'!$A$7:$A$15,"도시환경위원회",'일반 세입'!$M$7:$M$15) -> 0 | F17: =SUMIF(#REF!,"도시환경위원회",#REF!) -> #REF! | G17: =SUMIF(#REF!,"도시환경위원회",#REF!) -> #REF! | H17: =C17+F17+G17 -> #REF!
B18: 여가평위 | C18: 4769740401 | D18: =SUMIF('일반 세입'!$A$7:$A$15,"여성가족평생교육위원회",'일반 세입'!$L$7:$L$15) -> 0 | E18: =SUMIF('일반 세입'!$A$7:$A$15,"여성가족평생교육위원회",'일반 세입'!$M$7:$M$15) -> 0 | F18: =SUMIF(#REF!,"여성가족평생교육위원회",#REF!) -> #REF! | G18: =SUMIF(#REF!,"여성가족평생교육위원회",#REF!) -> #REF! | H18: =C18+F18+G18 -> #REF!
B20: □ 회계별 예산총규모
H21: (단위:천원)
B22: 구 분 | C22: 세출예산액 (집행부제출 안) | D22: 세입예산(안) | F22: 세출예산(안) | H22: 예산수정(안)
D23: 감 액 | E23: 증 액 | F23: 감 액 | G23: 증 액 | I23: 세입기준 수정예산안
B24: 합 계 | C24: =SUM(C25:C26) -> 16221327381 | D24: =SUM(D25:D26) -> 0 | E24: =SUM(E25:E26) -> 0 | F24: =SUM(F25:F26) -> #REF! | G24: =SUM(G25:G26) -> #REF! | H24: =SUM(H25:H26) -> #REF! | I24: =C24+D24+E24 -> 16221327381 | J24: =I24-H24 -> #REF! | K24: (세출기준-세입기준)
B25: 일반회계 | C25: 13099250390 | D25: ='일반 세입'!L6 -> 0 | E25: ='일반 세입'!M6 -> 0 | F25: =#REF! -> #REF! | G25: =#REF! -> #REF! | H25: =C25+F25+G25 -> #REF! | I25: =C25+D25+E25 -> 13099250390 | J25: =I25-H25 -> #REF! | K25: (세출기준-세입기준)
B26: 특별회계 | C26: 3122076991 | H26: =C26+F26+G26 -> 3122076991 | I26: =C26+D26+E26 -> 3122076991 | J26: =I26-H26 -> 0 | K26: (세출기준-세입기준)
B30: 위원회명 | C30: 일반+기특 | D30: 공기업 | E30: 합계
B31: 의회운영위원회 | C31: 29571741 | E31: =SUM(C31:D31) -> 29571741
B32: 기획재정위원회 | C32: 2482731231 | D32: 1415762078 | E32: =SUM(C32:D32) -> 3898493309
B33: 경제과학기술위원회 | C33: 195073838 | D33: 373373785 | E33: =SUM(C33:D33) -> 568447623
B34: 행정자치위원회 | C34: 1084349076 | E34: =SUM(C34:D34) -> 1084349076
B35: 문화체육관광위원회 | C35: 257698191 | D35: 15950000 | E35: =SUM(C35:D35) -> 273648191
B36: 농림수산위원회 | C36: 536493471 | E36: =SUM(C36:D36) -> 536493471
B37: 보건복지공보위원회 | C37: 2948270941 | E37: =SUM(C37:D37) -> 2948270941
B38: 건설교통위원회 | C38: 1196035699 | E38: =SUM(C38:D38) -> 1196035699
B39: 도시환경위원회 | C39: 870225757 | D39: 46051172 | E39: =SUM(C39:D39) -> 916276929
B40: 여성가족평생교육위원회 | C40: 4769740401 | E40: =SUM(C40:D40) -> 4769740401
B41: 총합계 | C41: =SUM(C31:C40) -> 14370190346 | D41: =SUM(D31:D40) -> 1851137035 | E41: =SUM(C41:D41) -> 16221327381
B43: 예비비 | C43: =3922478-221377 -> 3701101
I181: ◦ 본청 83,000 증 ◦ 북부청 377,000 증
K311: -50000

Sheet 일반 세입
A1: 2014년도 제1회 추경 경기도 일반회계 세입 예산 조정(안)
A2: □세입예산
P3: (단위 : 천원)
A4: 위원회 | C4: 예산안 페이지 | D4: 부서명 | E4: 사업명 | F4: 제1회 추경 예산안 (가) | G4: 기정액 (나) | H4: 제1회 추경 증감액 (다=나-가) | I4: 상임위 제1회 추경 예산안 조정액(라) | K4: 상임위 수정 예산안 (마=가+라) | L4: 예결위 제1회 추경 예산안 조정액(마) | N4: 예결위 수정 예산안 (바=가+마) | O4: 동의 대상 | P4: 비 고 | Q4: 재원 | R4: 상임위 재원별 증감액
I5: 감액 | J5: 증액 | L5: 감액 | M5: 증액 | R5: 국비 등 | S5: 도 비 | T5: 검 증
B6: 합 계 | F6: =SUM(F7:F146)/3 -> 236817 | G6: =SUM(G7:G146)/3 -> 0 | H6: =SUM(H7:H146)/3 -> 236817 | I6: =SUM(I7:I146)/3 -> -200161 | J6: =SUM(J7:J146)/3 -> 3320 | K6: =SUM(K7:K146)/3 -> 39976 | L6: =SUM(L7:L146)/3 -> 0 | M6: =SUM(M7:M146)/3 -> 0 | N6: =SUM(N7:N146)/3 -> 0 | R6: =SUM(R7:R146)/3 -> -196841 | S6: =SUM(S7:S146)/3 -> 0 | T6: =IF((I6+J6)=(R6+S6),"ok","검토") -> ok
A7: 보건복지위원회 | F7: =SUM(F8:F15)/2 -> 236817 | G7: =SUM(G8:G15)/2 -> 0 | H7: =SUM(H8:H15)/2 -> 236817 | I7: =SUM(I8:I15)/2 -> -200161 | J7: =SUM(J8:J15)/2 -> 3320 | K7: =SUM(K8:K15)/2 -> 39976 | L7: =SUM(L8:L15)/2 -> 0 | M7: =SUM(M8:M15)/2 -> 0 | N7: =SUM(N8:N15)/2 -> 0 | R7: =SUM(R8:R15)/2 -> -196841 | S7: =SUM(S8:S15)/2 -> 0 | T7: =IF((I7+J7)=(R7+S7),"ok","검토") -> ok
B8: 보건복지국 | F8: =SUM(F9:F15) -> 236817 | G8: =SUM(G9:G15) -> 0 | H8: =SUM(H9:H15) -> 236817 | I8: =SUM(I9:I15) -> -200161 | J8: =SUM(J9:J15) -> 3320 | K8: =SUM(K9:K15) -> 39976 | L8: =SUM(L9:L15) -> 0 | M8: =SUM(M9:M15) -> 0 | N8: =SUM(N9:N15) -> 0 | R8: =SUM(R9:R15) -> -196841 | S8: =SUM(S9:S15) -> 0 | T8: =IF((I8+J8)=(R8+S8),"ok","검토") -> ok
B9: 추가 | C9: 본예산 54 | D9: 장애인복지과 | E9: 장애인생산품 판매시설 지원 | H9: =IF(SUMPRODUCT(COUNTIF(C9,{"*본예산*","*1회추경*","*신규*"})),"-",F9-G9) -> - | J9: 3320 | K9: =F9+I9+J9 -> 3320 | O9: =IF(I9-L9<0,"동의필요","-") -> - | P9: 국비변경내시(증액) 보건복지부 장애인자립기반과-6034(2014. 9. 17) | Q9: 국비 | R9: 3320 | T9: =IF((I9+J9)=(R9+S9),"ok","검토") -> ok
B10: 1회 | C10: 538 | D10: 보건정책과 | E10: 도비민간이전사용잔액 | F10: 236817 | H10: =IF(SUMPRODUCT(COUNTIF(C10,{"*본예산*","*1회추경*","*신규*"})),"-",F10-G10) -> 236817 | I10: -200161 | K10: =F10+I10+J10 -> 36656 | O10: =IF(I10-L10<0,"동의필요","-") -> 동의필요 | P10: 국가지정 격리병상구축사업 지원사업 정산 착오 | Q10: 도비 | R10: -200161 | T10: =IF((I10+J10)=(R10+S10),"ok","검토") -> ok
H11: =IF(SUMPRODUCT(COUNTIF(C11,{"*본예산*","*1회추경*","*신규*"})),"-",F11-G11) -> 0 | K11: =F11+I11+J11 -> 0 | O11: =IF(I11-L11<0,"동의필요","-") -> - | T11: =IF((I11+J11)=(R11+S11),"ok","검토") -> ok
H12: =IF(SUMPRODUCT(COUNTIF(C12,{"*본예산*","*1회추경*","*신규*"})),"-",F12-G12) -> 0 | K12: =F12+I12+J12 -> 0 | O12: =IF(I12-L12<0,"동의필요","-") -> - | T12: =IF((I12+J12)=(R12+S12),"ok","검토") -> ok
H13: =IF(SUMPRODUCT(COUNTIF(C13,{"*본예산*","*1회추경*","*신규*"})),"-",F13-G13) -> 0 | K13: =F13+I13+J13 -> 0 | O13: =IF(I13-L13<0,"동의필요","-") -> - | T13: =IF((I13+J13)=(R13+S13),"ok","검토") -> ok
H14: =IF(SUMPRODUCT(COUNTIF(C14,{"*본예산*","*1회추경*","*신규*"})),"-",F14-G14) -> 0 | K14: =F14+I14+J14 -> 0 | O14: =IF(I14-L14<0,"동의필요","-") -> - | T14: =IF((I14+J14)=(R14+S14),"ok","검토") -> ok
H15: =IF(SUMPRODUCT(COUNTIF(C15,{"*본예산*","*1회추경*","*신규*"})),"-",F15-G15) -> 0 | K15: =F15+I15+J15 -> 0 | O15: =IF(I15-L15<0,"동의필요","-") -> - | T15: =IF((I15+J15)=(R15+S15),"ok","검토") -> ok
B17: ※ 예산안 페이지 작성 방법
B18: 1회 | C18: 290 | D18: 1회 추경 예산안에 요구된 사업의 경우 "1회"라고 기재하고 추경예산안의 페이지 기재
B19: 추가 | C19: 신규 | D19: 본예산에도 없고 추경예산안에서도 요구하지 않은 신규 사업울 추가할 경우 "추가"라고 기재하고 "신규"라고 기재
B20: 추가 | C20: 본예산 58 | D20: 본예산에는 있고 추경예산안에서는 요구하지 않은 사업을 추가하는 경우 "추가"라고 기재하고 "본예산 페이지" 기재

Sheet 일반 세출
A1: 2014년도 제1회 추경 경기도 일반회계 세출 예산 조정(안)
A2: □세출예산
O3: (단위 : 천원)
A4: 위원회 | C4: 예산안 페이지 | D4: 부서명 | E4: 사업명 | F4: 제1회 추경 예산안 (가) | G4: 기정액 (나) | H4: 제1회 추경 증감액 (다=나-가) | I4: 상임위 제1회 추경 예산안 조정액(라) | K4: 상임위 수정 예산안 (마=가+라) | L4: 예결위 제1회 추경 예산안 조정액(라) | N4: 예결위 수정 예산안 (바=가+마) | O4: 비 고 | P4: 재원 | Q4: 상임위 재원별 증감액
I5: 감액 | J5: 증액 | L5: 감액 | M5: 증액 | Q5: 국비 등 | R5: 도 비 | S5: 검 증
B6: 합 계 | S6: =IF((L6+M6)=(Q6+R6),"ok","검토") -> ok
A7: 보건복지위원회 | F7: =SUM(F8:F20)/2 -> 2222190 | G7: =SUM(G8:G20)/2 -> 1559036 | H7: =SUM(H8:H20)/2 -> 663154 | I7: =SUM(I8:I20)/2 -> -145000 | J7: =SUM(J8:J20)/2 -> 500525 | K7: =SUM(K8:K20)/2 -> 2577715 | L7: =SUM(L8:L20)/2 -> 0 | M7: =SUM(M8:M20)/2 -> 0 | N7: =SUM(N8:N21)/2 -> 0 | Q7: =SUM(Q8:Q20)/2 -> 3320 | R7: =SUM(R8:R20)/2 -> 352205 | S7: =IF((L7+M7)=(Q7+R7),"ok","검토") -> 검토
B8: 보건복지국 | F8: =SUM(F9:F13) -> 1775247 | G8: =SUM(G9:G13) -> 1362093 | H8: =SUM(H9:H13) -> 413154 | I8: =SUM(I9:I13) -> -145000 | J8: =SUM(J9:J13) -> 397811 | K8: =SUM(K9:K13) -> 2028058 | L8: =SUM(L9:L13) -> 0 | M8: =SUM(M9:M13) -> 0 | N8: =SUM(N9:N13) -> 0 | Q8: =SUM(Q9:Q13) -> 3320 | R8: =SUM(R9:R13) -> 249491 | S8: =IF((L8+M8)=(Q8+R8),"ok","검토") -> 검토
B9: 1회 | C9: 548 | D9: 노인복지과 | E9: 전국노인건강대축제 지원 | F9: 100000 | H9: =IF(SUMPRODUCT(COUNTIF(C9,{"*본예산*","*1회추경*","*신규*"})),"-",F9-G9) -> 100000 | I9: -100000 | K9: =F9+I9+J9 -> 0 | O9: 행사성경비 | P9: 도비 | R9: -100000 | S9: =IF((L9+M9)=(Q9+R9),"ok","검토") -> 검토
B10: 1회 | C10: 567 | D10: 건강증진과 | E10: 이천병원 신축 연구용역(평가) | F10: 45000 | H10: =IF(SUMPRODUCT(COUNTIF(C10,{"*본예산*","*1회추경*","*신규*"})),"-",F10-G10) -> 45000 | I10: -45000 | K10: =F10+I10+J10 -> 0 | O10: 추가검토필요 | P10: 도비 | R10: -45000 | S10: =IF((L10+M10)=(Q10+R10),"ok","검토") -> 검토
B11: 1회 | C11: 554 | D11: 장애인복지과 | E11: 중증장애인 사회활동지원 | F11: 664553 | G11: 414553 | H11: =IF(SUMPRODUCT(COUNTIF(C11,{"*본예산*","*1회추경*","*신규*"})),"-",F11-G11) -> 250000 | J11: 146551 | K11: =F11+I11+J11 -> 811104 | O11: 이용자 증가 및 급여량 확대로 예산 조기 소진에 따른 증액 | P11: 도비 | R11: 146551 | S11: =IF((L11+M11)=(Q11+R11),"ok","검토") -> 검토
B12: 1회 | C12: 556 | D12: 장애인복지과 | E12: 장애인주간보호시설 운영 | F12: 965694 | G12: 947540 | H12: =IF(SUMPRODUCT(COUNTIF(C12,{"*본예산*","*1회추경*","*신규*"})),"-",F12-G12) -> 18154 | J12: 247940 | K12: =F12+I12+J12 -> 1213634 | O12: 장애인주간보호시설 운영 인건비 부족분 반영 | P12: 도비 | R12: 247940 | S12: =IF((L12+M12)=(Q12+R12),"ok","검토") -> 검토
B13: 추가 | C13: 본예산 279 | D13: 장애인복지과 | E13: 장애인생산픔 판매시설 운영 | H13: =IF(SUMPRODUCT(COUNTIF(C13,{"*본예산*","*1회추경*","*신규*"})),"-",F13-G13) -> - | J13: 3320 | K13: =F13+I13+J13 -> 3320 | O13: 국가지정 격리병상구축사업 지원사업 정산 착오 | P13: 국비 | Q13: 3320 | S13: =IF((L13+M13)=(Q13+R13),"ok","검토") -> 검토
B14: 복지여성실 | F14: =SUM(F15:F16) -> 446943 | G14: =SUM(G15:G16) -> 196943 | H14: =SUM(H15:H16) -> 250000 | I14: =SUM(I15:I16) -> 0 | J14: =SUM(J15:J16) -> 102714 | K14: =SUM(K15:K16) -> 549657 | L14: =SUM(L15:L16) -> 0 | M14: =SUM(M15:M16) -> 0 | N14: =SUM(N15:N16) -> 0 | Q14: =SUM(Q15:Q16) -> 0 | R14: =SUM(R15:R16) -> 102714 | S14: =IF((L14+M14)=(Q14+R14),"ok","검토") -> 검토
B15: 1회 | C15: 587 | D15: 사회복지담당관 | E15: 중증장애인 사회활동지원 | F15: 446943 | G15: 196943 | H15: =IF(SUMPRODUCT(COUNTIF(C15,{"*본예산*","*1회추경*","*신규*"})),"-",F15-G15) -> 250000 | J15: 82547 | K15: =F15+I15+J15 -> 529490 | O15: 이용자 증가 및 급여량 확대로 예산 조기 소진에 따른 증액 | P15: 도비 | R15: 82547 | S15: =IF((L15+M15)=(Q15+R15),"ok","검토") -> 검토
B16: 추가 | C16: 본예산 785 | D16: 사회복지담당관 | E16: 장애인주간보호시설 운영 | H16: =IF(SUMPRODUCT(COUNTIF(C16,{"*본예산*","*1회추경*","*신규*"})),"-",F16-G16) -> - | J16: 20167 | K16: =F16+I16+J16 -> 20167 | O16: 장애인주간보호시설 운영 인건비 부족분 반영 | P16: 도비 | R16: 20167 | S16: =IF((L16+M16)=(Q16+R16),"ok","검토") -> 검토
H17: =IF(SUMPRODUCT(COUNTIF(C17,{"*본예산*","*1회추경*","*신규*"})),"-",F17-G17) -> 0 | K17: =F17+I17+J17 -> 0 | S17: =IF((L17+M17)=(Q17+R17),"ok","검토") -> ok
H18: =IF(SUMPRODUCT(COUNTIF(C18,{"*본예산*","*1회추경*","*신규*"})),"-",F18-G18) -> 0 | K18: =F18+I18+J18 -> 0 | S18: =IF((L18+M18)=(Q18+R18),"ok","검토") -> ok
H19: =IF(SUMPRODUCT(COUNTIF(C19,{"*본예산*","*1회추경*","*신규*"})),"-",F19-G19) -> 0 | K19: =F19+I19+J19 -> 0 | S19: =IF((L19+M19)=(Q19+R19),"ok","검토") -> ok
H20: =IF(SUMPRODUCT(COUNTIF(C20,{"*본예산*","*1회추경*","*신규*"})),"-",F20-G20) -> 0 | K20: =F20+I20+J20 -> 0 | S20: =IF((L20+M20)=(Q20+R20),"ok","검토") -> ok
H21: =IF(SUMPRODUCT(COUNTIF(C21,{"*본예산*","*1회추경*","*신규*"})),"-",F21-G21) -> 0 | K21: =F21+I21+J21 -> 0 | S21: =IF((L21+M21)=(Q21+R21),"ok","검토") -> ok
B23: ※ 예산안 페이지 작성 방법
B24: 1회 | C24: 290 | D24: 1회 추경 예산안에 요구된 사업의 경우 "1회"라고 기재하고 추경예산안의 페이지 기재
B25: 추가 | C25: 신규 | D25: 본예산에도 없고 추경예산안에서도 요구하지 않은 신규 사업울 추가할 경우 "추가"라고 기재하고 "신규"라고 기재
B26: 추가 | C26: 본예산 58 | D26: 본예산에는 있고 추경예산안에서는 요구하지 않은 사업을 추가하는 경우 "추가"라고 기재하고 "본예산 페이지" 기재
