Workbook

Sheet 추 표지
B5: 2014년도 제1회 일반회계 및 특별회계 추가경정 세입·세출 예산안
B7: 예결위 계수조정 결과
B33: 예산결산특별위원회

Sheet 총괄표
B1: '14년도 제1회 추경 일반 및 특별회계 세입·세출 예산 수정안[전체예산총괄]
B3: □ 총 괄
H4: (단위:천원) | M4: (일반+특별+기금) | O4: 특별+기금
B5: 구 분 | C5: 집행부제출(안) | D5: 세입예산(안) | F5: 세출예산(안) | H5: 예산수정(안) | I5: 일반회계 증감(총괄표) | K5: 예비비증감 | L5: 비 고 | M5: 전체 증감(시트) | O5: 비고
D6: 감 액 | E6: 증 액 | F6: 감 액 | G6: 증 액 | I6: 세입 | J6: 세출 | M6: 세입 | N6: 세출
B7: 합 계 | C7: =SUM(C8:C18) -> 16221327381 | D7: =SUM(D8:D18) -> 0 | E7: =SUM(E8:E18) -> 0 | F7: =SUM(F8:F18) -> 0 | G7: =SUM(G8:G18) -> 0 | H7: =SUM(H8:H18) -> 16221327381 | I7: =E25+D25 -> 0 | J7: =F25+G25 -> 0 | K7: =I7-J7 -> 0 | L7: 예비비 증감이 - 예산이면 감액에 + 예산이면 증액에 입력 | M7: =D24+E24 -> 0 | N7: =F24+G24 -> 0 | O7: 0 | P7: 0
B8: 기 타 | C8: 0 | H8: =C8-F8+G8 -> 0 | I8: =D7+E7 -> 0 | J8: =F7+G7 -> 0 | K8: =I8-J8 -> 0
B9: 운 영 위 | C9: 29571741 | D9: =SUMIF('일반 세입'!$A$7:$A$11,"의회운영위원회",'일반 세입'!$L$7:$L$11) -> 0 | E9: =SUMIF('일반 세입'!$A$7:$A$11,"의회운영위원회",'일반 세입'!$M$7:$M$11) -> 0 | F9: =SUMIF('일반 세출'!$A$7:$A$11,"의회운영위원회",'일반 세출'!$L$7:$L$11) -> 0 | G9: =SUMIF('일반 세출'!$A$7:$A$11,"의회운영위원회",'일반 세출'!$M$7:$M$11) -> 0 | H9: =C9+F9+G9 -> 29571741 | I9: 일반회계 증감(시트) | N9: 전체 증감
B10: 기 획 위 | C10: 3898493309 | D10: =SUMIF('일반 세입'!$A$7:$A$11,"기획재정위원회",'일반 세입'!$L$7:$L$11) -> 0 | E10: =SUMIF('일반 세입'!$A$7:$A$11,"기획재정위원회",'일반 세입'!$M$7:$M$11) -> 0 | F10: =SUMIF('일반 세출'!$A$7:$A$11,"기획재정위원회",'일반 세출'!$L$7:$L$11) -> 0 | G10: =SUMIF('일반 세출'!$A$7:$A$11,"기획재정위원회",'일반 세출'!$M$7:$M$11) -> 0 | H10: =C10+F10+G10 -> 3898493309 | I10: ='일반 세입'!L6+'일반 세입'!M6 -> 0 | J10: ='일반 세출'!L6+'일반 세출'!M6 -> 0 | N10: =M7-N7 -> 0
B11: 경 제 위 | C11: 568447623 | D11: =SUMIF('일반 세입'!$A$7:$A$11,"경제과학기술위원회",'일반 세입'!$L$7:$L$11) -> 0 | E11: =SUMIF('일반 세입'!$A$7:$A$11,"경제과학기술위원회",'일반 세입'!$M$7:$M$11) -> 0 | F11: =SUMIF('일반 세출'!$A$7:$A$11,"경제과학기술위원회",'일반 세출'!$L$7:$L$11) -> 0 | G11: =SUMIF('일반 세출'!$A$7:$A$11,"경제과학기술위원회",'일반 세출'!$M$7:$M$11) -> 0 | H11: =C11+F11+G11 -> 568447623
B12: 행 정 위 | C12: 1084349076 | D12: =SUMIF('일반 세입'!$A$7:$A$11,"행정자치위원회",'일반 세입'!$L$7:$L$11) -> 0 | E12: =SUMIF('일반 세입'!$A$7:$A$11,"행정자치위원회",'일반 세입'!$M$7:$M$11) -> 0 | F12: =SUMIF('일반 세출'!$A$7:$A$11,"행정자치위원회",'일반 세출'!$L$7:$L$11) -> 0 | G12: =SUMIF('일반 세출'!$A$7:$A$11,"행정자치위원회",'일반 세출'!$M$7:$M$11) -> 0 | H12: =C12+F12+G12 -> 1084349076
B13: 문 광 위 | C13: 273648191 | D13: =SUMIF('일반 세입'!$A$7:$A$11,"문화체육관광위원회",'일반 세입'!$L$7:$L$11) -> 0 | E13: =SUMIF('일반 세입'!$A$7:$A$11,"문화체육관광위원회",'일반 세입'!$M$7:$M$11) -> 0 | F13: =SUMIF('일반 세출'!$A$7:$A$11,"문화체육관광위원회",'일반 세출'!$L$7:$L$11) -> 0 | G13: =SUMIF('일반 세출'!$A$7:$A$11,"문화체육관광위원회",'일반 세출'!$M$7:$M$11) -> 0 | H13: =C13+F13+G13 -> 273648191 | N13: 기금
B14: 농 림 위 | C14: 536493471 | D14: =SUMIF('일반 세입'!$A$7:$A$11,"농림수산위원회",'일반 세입'!$L$7:$L$11) -> 0 | E14: =SUMIF('일반 세입'!$A$7:$A$11,"농림수산위원회",'일반 세입'!$M$7:$M$11) -> 0 | F14: =SUMIF('일반 세출'!$A$7:$A$11,"농림수산위원회",'일반 세출'!$L$7:$L$11) -> 0 | G14: =SUMIF('일반 세출'!$A$7:$A$11,"농림수산위원회",'일반 세출'!$M$7:$M$11) -> 0 | H14: =C14+F14+G14 -> 536493471 | N14: =N10-K7 -> 0
B15: 복 지 위 | C15: 2948270941 | D15: =SUMIF('일반 세입'!$A$7:$A$11,"보건복지공보위원회",'일반 세입'!$L$7:$L$11) -> 0 | E15: =SUMIF('일반 세입'!$A$7:$A$11,"보건복지공보위원회",'일반 세입'!$M$7:$M$11) -> 0 | F15: =SUMIF('일반 세출'!$A$7:$A$11,"보건복지공보위원회",'일반 세출'!$L$7:$L$11) -> 0 | G15: =SUMIF('일반 세출'!$A$7:$A$11,"보건복지공보위원회",'일반 세출'!$M$7:$M$11) -> 0 | H15: =C15+F15+G15 -> 2948270941
B16: 건 설 위 | C16: 1196035699 | D16: =SUMIF('일반 세입'!$A$7:$A$11,"건설교통위원회",'일반 세입'!$L$7:$L$11) -> 0 | E16: =SUMIF('일반 세입'!$A$7:$A$11,"건설교통위원회",'일반 세입'!$M$7:$M$11) -> 0 | F16: =SUMIF('일반 세출'!$A$7:$A$11,"건설교통위원회",'일반 세출'!$L$7:$L$11) -> 0 | G16: =SUMIF('일반 세출'!$A$7:$A$11,"건설교통위원회",'일반 세출'!$M$7:$M$11) -> 0 | H16: =C16+F16+G16 -> 1196035699
B17: 도 시 위 | C17: 916276929 | D17: =SUMIF('일반 세입'!$A$7:$A$11,"도시환경위원회",'일반 세입'!$L$7:$L$11) -> 0 | E17: =SUMIF('일반 세입'!$A$7:$A$11,"도시환경위원회",'일반 세입'!$M$7:$M$11) -> 0 | F17: =SUMIF('일반 세출'!$A$7:$A$11,"도시환경위원회",'일반 세출'!$L$7:$L$11) -> 0 | G17: =SUMIF('일반 세출'!$A$7:$A$11,"도시환경위원회",'일반 세출'!$M$7:$M$11) -> 0 | H17: =C17+F17+G17 -> 916276929
B18: 여가평위 | C18: 4769740401 | D18: =SUMIF('일반 세입'!$A$7:$A$11,"여성가족평생교육위원회",'일반 세입'!$L$7:$L$11) -> 0 | E18: =SUMIF('일반 세입'!$A$7:$A$11,"여성가족평생교육위원회",'일반 세입'!$M$7:$M$11) -> 0 | F18: =SUMIF('일반 세출'!$A$7:$A$11,"여성가족평생교육위원회",'일반 세출'!$L$7:$L$11) -> 0 | G18: =SUMIF('일반 세출'!$A$7:$A$11,"여성가족평생교육위원회",'일반 세출'!$M$7:$M$11) -> 0 | H18: =C18+F18+G18 -> 4769740401
B20: □ 회계별 예산총규모
H21: (단위:천원)
B22: 구 분 | C22: 세출예산액 (집행부제출 안) | D22: 세입예산(안) | F22: 세출예산(안) | H22: 예산수정(안)
D23: 감 액 | E23: 증 액 | F23: 감 액 | G23: 증 액 | I23: 세입기준 수정예산안
B24: 합 계 | C24: =SUM(C25:C26) -> 16221327381 | D24: =SUM(D25:D26) -> 0 | E24: =SUM(E25:E26) -> 0 | F24: =SUM(F25:F26) -> 0 | G24: =SUM(G25:G26) -> 0 | H24: =SUM(H25:H26) -> 16221327381 | I24: =C24+D24+E24 -> 16221327381 | J24: =I24-H24 -> 0 | K24: (세출기준-세입기준)
B25: 일반회계 | C25: 13099250390 | D25: ='일반 세입'!L6 -> 0 | E25: ='일반 세입'!M6 -> 0 | F25: ='일반 세출'!L6 -> 0 | G25: ='일반 세출'!M6 -> 0 | H25: =C25+F25+G25 -> 13099250390 | I25: =C25+D25+E25 -> 13099250390 | J25: =I25-H25 -> 0 | K25: (세출기준-세입기준)
B26: 특별회계 | C26: 3122076991 | H26: =C26+F26+G26 -> 3122076991 | I26: =C26+D26+E26 -> 3122076991 | J26: =I26-H26 -> 0 | K26: (세출기준-세입기준)
B30: 위원회명 | C30: 일반+기특 | D30: 공기업 | E30: 합계
B31: 의회운영위원회 | C31: 29571741 | E31: =SUM(C31:D31) -> 29571741
B32: 기획재정위원회 | C32: 2482731231 | D32: 1415762078 | E32: =SUM(C32:D32) -> 3898493309
B33: 경제과학기술위원회 | C33: 195073838 | D33: 373373785 | E33: =SUM(C33:D33) -> 568447623
B34: 행정자치위원회 | C34: 1084349076 | E34: =SUM(C34:D34) -> 1084349076
B35: 문화체육관광위원회 | C35: 257698191 | D35: 15950000 | E35: =SUM(C35:D35) -> 273648191
B36: 농림수산위원회 | C36: 536493471 | E36: =SUM(C36:D36) -> 536493471
B37: 보건복지공보위원회 | C37: 2948270941 | E37: =SUM(C37:D37) -> 2948270941
B38: 건설교통위원회 | C38: 1196035699 | E38: =SUM(C38:D38) -> 1196035699
B39: 도시환경위원회 | C39: 870225757 | D39: 46051172 | E39: =SUM(C39:D39) -> 916276929
B40: 여성가족평생교육위원회 | C40: 4769740401 | E40: =SUM(C40:D40) -> 4769740401
B41: 총합계 | C41: =SUM(C31:C40) -> 14370190346 | D41: =SUM(D31:D40) -> 1851137035 | E41: =SUM(C41:D41) -> 16221327381
B43: 예비비 | C43: =3922478-221377 -> 3701101
I181: ◦ 본청 83,000 증 ◦ 북부청 377,000 증
K311: -50000

Sheet 일반 세입
A1: 2014년도 제1회 추경 경기도 일반회계 세입 예산 조정(안)
A2: □세입예산
P3: (단위 : 천원)
A4: 위원회 | C4: 예산안 페이지 | D4: 부서명 | E4: 사업명 | F4: 제1회 추경 예산안 (가) | G4: 기정액 (나) | H4: 제1회 추경 증감액 (다=나-가) | I4: 상임위 제1회 추경 예산안 조정액(라) | K4: 상임위 수정 예산안 (마=가+라) | L4: 예결위 제1회 추경 예산안 조정액(마) | N4: 예결위 수정 예산안 (바=가+마) | O4: 동의 대상 | P4: 비 고 | Q4: 재원 | R4: 상임위 재원별 증감액
I5: 감액 | J5: 증액 | L5: 감액 | M5: 증액 | R5: 국비 등 | S5: 도 비 | T5: 검 증
B6: 합 계 | F6: =SUM(F7:F142)/3 -> 28519191 | G6: =SUM(G7:G142)/3 -> 28261260 | H6: =SUM(H7:H142)/3 -> 257931 | I6: =SUM(I7:I142)/3 -> -2594 | J6: =SUM(J7:J142)/3 -> 2154797 | K6: =SUM(K7:K142)/3 -> 30671394 | L6: =SUM(L7:L142)/3 -> 0 | M6: =SUM(M7:M142)/3 -> 0 | N6: =SUM(N7:N142)/3 -> 0 | R6: =SUM(R7:R142)/3 -> 2152203 | S6: =SUM(S7:S142)/3 -> 2294 | T6: =IF((I6+J6)=(R6+S6),"ok","검토") -> 검토
A7: 여성가족평생교육위원회 | F7: =F8+F16 -> 28519191 | G7: =G8+G16 -> 28261260 | H7: =H8+H16 -> 257931 | I7: =I8+I16 -> -2594 | J7: =J8+J16 -> 2154797 | K7: =K8+K16 -> 30671394 | L7: =L8+L16 -> 0 | M7: =M8+M16 -> 0 | N7: =N8+N16 -> 0 | R7: =R8+R16 -> 2152203 | S7: =S8+S16 -> 2294 | T7: =IF((I7+J7)=(R7+S7),"ok","검토") -> 검토
B8: 여성가족국 | F8: =SUM(F9:F15) -> 28516597 | G8: =SUM(G9:G15) -> 28261260 | H8: =SUM(H9:H15) -> 255337 | I8: =SUM(I9:I15) -> 0 | J8: =SUM(J9:J15) -> 2152203 | K8: =SUM(K9:K15) -> 30668800 | L8: =SUM(L9:L15) -> 0 | M8: =SUM(M9:M15) -> 0 | N8: =SUM(N9:N15) -> 0 | R8: =SUM(R9:R15) -> 2152203 | S8: =SUM(S9:S11) -> 0 | T8: =IF((I8+J8)=(R8+S8),"ok","검토") -> ok
B9: 1회 | C9: 743 | D9: 여성가족과 | E9: 아이돌봄 지원 | F9: 13370578 | G9: 13123578 | H9: 247000 | J9: 600000 | K9: =F9+J9 -> 13970578 | P9: 국비 변경내시(국비) ※여성가족부 가족지원과-3184(2014.9.16.)호 | R9: 600000 | T9: =IF((I9+J9)=(R9+S9),"ok","검토") -> ok
B10: 추가 | C10: 본예산 56 | D10: 여성가족과 | E10: 가족역량 강화지원 사업 | F10: 263000 | G10: 263000 | H10: =G10-F10 -> 0 | J10: 25000 | K10: =F10+J10 -> 288000 | P10: 국비 변경내시(국비) ※여성가족부 가족지원과-2970(2013.8.20.)호 | R10: 25000 | T10: =IF((I10+J10)=(R10+S10),"ok","검토") -> ok
B11: 추가 | C11: 본예산 68 | D11: 여성가족과 | E11: 저소득 한부모가족 지원 | F11: 11117000 | G11: 11117000 | H11: =F11-G11 -> 0 | J11: 1432800 | K11: =F11+J11 -> 12549800 | P11: 국비 변경내시(기금) ※여성가족부 가족지원과-3206(2013.9.17.)호 | R11: 1432800 | T11: =IF((I11+J11)=(R11+S11),"ok","검토") -> ok
B12: 추가 | C12: 본예산 68 | D12: 여성가족과 | E12: 청소년한부모 자립지원 | F12: 450542 | G12: 450542 | H12: =F12-G12 -> 0 | J12: 29458 | K12: =F12+J12 -> 480000 | P12: 국비 변경내시(기금) ※여성가족부 가족지원과-3206(2013.9.17.)호 | R12: 29458
B13: 추가 | C13: 본예산 68 | D13: 여성가족과 | E13: 한부모가족복지시설 기능보강사업 | F13: 528525 | G13: 528525 | H13: =F13-G13 -> 0 | J13: 20100 | K13: =F13+J13 -> 548625 | P13: 국비 변경내시(기금) ※여성가족부 가족지원과-3181(2013.9.15.)호 | R13: 20100
B14: 1회 | C14: 744 | D14: 여성가족과 | E14: 성폭력방지 및 피해자지원사업 | F14: 2381652 | G14: 2377515 | H14: =F14-G14 -> 4137 | J14: 42075 | K14: =F14+J14 -> 2423727 | P14: 국비 변경내시(기금) ※여성가족부 권익정책과-3487(2013.9.16.)호 | R14: 42075
B15: 1회 | C15: 744 | D15: 여성가족과 | E15: 여성학교폭력피해자 원스톱지원센터 | F15: 405300 | G15: 401100 | H15: =F15-G15 -> 4200 | J15: 2770 | K15: =F15+J15 -> 408070 | P15: 국비 변경내시(기금) ※여성가족부 권익정책과-3487(2013.9.16.)호 | R15: 2770
B16: 복지여성실 | F16: =SUM(F17:F18) -> 2594 | G16: =SUM(G17:G18) -> 0 | H16: =SUM(H17:H18) -> 2594 | I16: =SUM(I17:I18) -> -2594 | J16: =SUM(J17:J18) -> 2594 | K16: =SUM(K17:K18) -> 2594 | L16: =SUM(L17:L18) -> 0 | M16: =SUM(M17:M18) -> 0 | N16: =SUM(N17:N18) -> 0 | R16: =SUM(R17:R18) -> 0 | S16: =SUM(S17:S18) -> 2294 | T16: =IF((I16+J16)=(R16+S16),"ok","검토") -> 검토
B17: 1회 | C17: 785 | D17: 북부여성비전센터 | E17: 223-09 기타수입 - 북부여성비전센터 도비 민간이전 사용잔액 | F17: 2594 | G17: =-G163 -> 0 | H17: 2594 | I17: -2594 | K17: =F17+I17+J17 -> 0 | P17: 예산과목변경
B18: 1회 | C18: 785 | D18: 북부여성비전센터 | E18: 223-07 시도비반환금수입 - 북부여성비전센터 도비 사용잔액 | J18: 2594 | K18: =F18+I18+J18 -> 2594 | P18: 예산과목변경 | S18: 2294

Sheet 일반 세출
A1: 2014년도 제1회 추경 경기도 일반회계 세출 예산 조정(안)
A2: □세출예산
O3: (단위 : 천원)
A4: 위원회 | C4: 예산안 페이지 | D4: 부서명 | E4: 사업명 | F4: 제1회 추경 예산안 (가) | G4: 기정액 (나) | H4: 제1회 추경 증감액 (다=나-가) | I4: 상임위 제1회 추경 예산안 조정액(라) | K4: 상임위 수정 예산안 (마=가+라) | L4: 예결위 제1회 추경 예산안 조정액(라) | N4: 예결위 수정 예산안 (바=가+마) | O4: 비 고 | P4: 재원 | Q4: 상임위 재원별 증감액
I5: 감액 | J5: 증액 | L5: 감액 | M5: 증액 | Q5: 국비 등 | R5: 도 비 | S5: 검 증
B6: 합 계 | F6: =SUM(F7:F319)/3 -> 29139555 | G6: =SUM(G7:G319)/3 -> 28827623 | H6: =SUM(H7:H319)/3 -> 311932 | I6: =SUM(I7:I319)/3 -> -50000 | J6: =SUM(J7:J319)/3 -> 12429652 | K6: =SUM(K7:K319)/3 -> 41519207 | L6: =SUM(L7:L319)/3 -> 0 | M6: =SUM(M7:M319)/3 -> 0 | N6: =F6+L6+M6 -> 29139555 | Q6: =SUM(Q7:Q319)/3 -> 2152203 | R6: =SUM(R7:R319)/3 -> 10294116 | S6: =IF((L6+M6)=(Q6+R6),"ok","검토") -> 검토
A7: 여성가족평생교육위원회 | F7: =F8+F16+F22 -> 29139555 | G7: =G8+G16+G22 -> 28827623 | H7: =H8+H16+H22 -> 311932 | I7: =I8+I16+I22 -> -50000 | J7: =J8+J16+J22 -> 12429652 | K7: =K8+K16+K22 -> 41519207 | L7: =L8+L16+L22 -> 0 | M7: =M8+M16+M22 -> 0 | N7: =N8+N16+N22 -> 0 | Q7: =Q8+Q16+Q22 -> 2152203 | R7: =R8+R16+R22 -> 10277449 | S7: =IF((L7+M7)=(Q7+R7),"ok","검토") -> 검토
B8: 여성가족국 | F8: =SUM(F9:F15) -> 20432272 | G8: =SUM(G9:G15) -> 20254352 | H8: =SUM(H9:H15) -> 177920 | I8: =SUM(I9:I15) -> 0 | J8: =SUM(J9:J15) -> 1680449 | K8: =SUM(K9:K15) -> 22112721 | L8: =SUM(L9:L15) -> 0 | M8: =SUM(M9:M15) -> 0 | N8: =SUM(N9:N15) -> 0 | Q8: =SUM(Q9:Q15) -> 1488761 | R8: =SUM(R9:R15) -> 191688 | S8: =IF((L8+M8)=(Q8+R8),"ok","검토") -> 검토
B9: 1회 | C9: 750 | D9: 여성가족과 | E9: 아이돌봄 지원(국비/지원) | F9: 10437876 | G9: 10243131 | H9: =F9-G9 -> 194745 | J9: 564284 | K9: =F9+I9+J9 -> 11002160 | O9: 국비 변경내시 ※여성가족부 가족지원과-3184(2014.9.16.)호 | Q9: 500000 | R9: 64284 | S9: =IF((L9+M9)=(Q9+R9),"ok","검토") -> 검토
B10: 추가 | C10: 본예산 346 | D10: 여성가족과 | E10: 가족역량강화지원(국비/지원) - 가족역량강화지원 | F10: 119250 | G10: 119250 | H10: =F10-G10 -> 0 | J10: 25000 | K10: =F10+I10+J10 -> 144250 | O10: 국비 변경내시 ※여성가족부 가족지원과-3181(2013.9.15.)호 | P10: 국비 | Q10: 25000 | R10: 0 | S10: =IF((L10+M10)=(Q10+R10),"ok","검토") -> 검토
B11: 추가 | C11: 본예산 346 | D11: 여성가족과 | E11: 저소득 한부모가족 지원(기금/지원) | F11: 8629716 | G11: 8629716 | H11: =F11-G11 -> 0 | J11: 1023912 | K11: =F11+I11+J11 -> 9653628 | O11: 국비 변경내시 ※여성가족부 가족지원과-3206(2013.9.17.)호 | Q11: 910144 | R11: 113768 | S11: =IF((L11+M11)=(Q11+R11),"ok","검토") -> 검토
B12: 추가 | C12: 본예산 346 | D12: 여성가족과 | E12: 청소년 한부모 자립지원(기금/지원) | F12: 364939 | G12: 364939 | H12: =F12-G12 -> 0 | J12: 5400 | K12: =F12+I12+J12 -> 370339 | O12: 국비 변경내시 ※여성가족부 가족지원과-3206(2013.9.17.)호 | Q12: 4800 | R12: 600 | S12: =IF((L12+M12)=(Q12+R12),"ok","검토") -> 검토
B13: 추가 | C13: 본예산 347 | D13: 여성가족과 | E13: 한부모가족 복지시설 기능보강(기금/지원) | F13: 312788 | G13: 312788 | H13: =F13-G13 -> 0 | J13: 30150 | K13: =F13+I13+J13 -> 342938 | O13: 국비 변경내시 ※여성가족부 가족지원과-3181(2013.9.15.)호 | Q13: 20100 | R13: 10050 | S13: =IF((L13+M13)=(Q13+R13),"ok","검토") -> 검토
B14: 추가 | C14: 본예산 351 | D14: 여성가족과 | E14: 성폭력방지 및 피해자지원(기금/지원) - 성폭력피해자 의료비 지원 | F14: 430571 | G14: 430571 | H14: =F14-G14 -> 0 | J14: 26212 | K14: =F14+I14+J14 -> 456783 | O14: 국비 변경내시 ※여성가족부 권익정책과-3487(2013.9.16.)호 | Q14: 23226 | R14: 2986 | S14: =IF((L14+M14)=(Q14+R14),"ok","검토") -> 검토
B15: 1회 | C15: 753 | D15: 여성가족과 | E15: 성폭력방지 및 피해자지원(기금/지원) - 아동청소년전용쉼터 운영 | F15: 137132 | G15: 153957 | H15: =F15-G15 -> -16825 | J15: 5491 | K15: =F15+I15+J15 -> 142623 | O15: 국비 변경내시 ※여성가족부 권익정책과-3487(2013.9.16.)호 | P15: 국비 | Q15: 5491 | R15: 0 | S15: =IF((L15+M15)=(Q15+R15),"ok","검토") -> 검토
B16: 복지여성실 | F16: =SUM(F17:F21) -> 8657283 | G16: =SUM(G17:G21) -> 8573271 | H16: =SUM(H17:H21) -> 84012 | I16: =SUM(I17:I21) -> 0 | J16: =SUM(J17:J21) -> 749203 | K16: =SUM(K17:K21) -> 9406486 | L16: =SUM(L17:L21) -> 0 | M16: =SUM(M17:M21) -> 0 | N16: =SUM(N17:N21) -> 0 | Q16: =SUM(Q17:Q21) -> 663442 | R16: =SUM(R17:R21) -> 85761 | S16: =IF((L16+M16)=(Q16+R16),"ok","검토") -> 검토
B17: 1회 | C17: 787 | D17: 가족여성담당관 | E17: 아이돌봄 지원사업(국비/지원) | F17: 4530909 | G17: 4446897 | H17: =F17-G17 -> 84012 | J17: 112858 | K17: =F17+I17+J17 -> 4643767 | O17: 국비 변경내시 ※여성가족부 가족지원과-3184(2014.9.16.)호 | Q17: 100000 | R17: 12858
B18: 추가 | C18: 본예산 759 | D18: 가족여성담당관 | E18: 저소득 한부모 가족지원(기금/지원) -저소득 한부모가족 지원 | F18: 3876909 | G18: 3876909 | H18: =F18-G18 -> 0 | J18: 587989 | K18: =F18+I18+J18 -> 4464898 | O18: 국비 변경내시 ※여성가족부 가족지원과-3206(2013.9.17.)호 | Q18: 522656 | R18: 65333
B19: 추가 | C19: 본예산 759 | D19: 가족여성담당관 | E19: 저소득 한부모 가족지원(기금/지원) - 청소년 한부모 자립지원 | F19: 141921 | G19: 141921 | H19: =F19-G19 -> 0 | J19: 27740 | K19: =F19+I19+J19 -> 169661 | O19: 국비 변경내시 ※여성가족부 가족지원과-3206(2013.9.17.)호 | Q19: 24658 | R19: 3082
B20: 추가 | C20: 본예산 766 | D20: 가족여성담당관 | E20: 성폭력방지 및 피해자지원(기금/지원) - 성폭력피해자 의료비 지원 | F20: 107544 | G20: 107544 | H20: =F20-G20 -> 0 | J20: 15076 | K20: =F20+I20+J20 -> 122620 | O20: 국비 변경내시 ※여성가족부 권익정책과-3487(2013.9.16.)호 | Q20: 13358 | R20: 1718
B21: 추가 | C21: 본예산 767 | D21: 가족여성담당관 | E21: 경기북부 여성학교폭력피해자 원스톱 지원센터 운영(기금/직접) - 경기북부 여성학교폭력피해자 원스톱 지원센터 기능보강 | H21: =F21-G21 -> 0 | J21: 5540 | K21: =F21+I21+J21 -> 5540 | O21: 국비 변경내시 ※여성가족부 권익정책과-3487(2013.9.16.)호 | Q21: 2770 | R21: 2770
B22: 평생교육국 | F22: =SUM(F23:F24) -> 50000 | G22: =SUM(G23:G24) -> 0 | H22: =SUM(H23:H24) -> 50000 | I22: =SUM(I23:I24) -> -50000 | J22: =SUM(J23:J24) -> 10000000 | K22: =SUM(K23:K24) -> 10000000 | L22: =SUM(L23:L24) -> 0 | M22: =SUM(M23:M24) -> 0 | N22: =SUM(N23:N24) -> 0 | Q22: =Q24 -> 0 | R22: =R24 -> 10000000 | S22: =IF((L22+M22)=(Q22+R22),"ok","검토") -> 검토
B23: 1회 | C23: 810 | D23: 교육정책과 | E23: (재)경기영어마을 오수관로공사(자체/직접) | F23: 50000 | G23: 0 | H23: =F23-G23 -> 50000 | I23: -50000 | K23: =F23+I23+J23 -> 0 | R23: 50000
B24: 추가 | C24: 신규 | H24: =F24-G24 -> 0 | J24: 10000000 | K24: =F24+I24+J24 -> 10000000 | R24: 10000000
