Workbook

Sheet 추 표지
B5: 2014년도 제1회 일반회계 및 특별회계 추가경정 세입·세출 예산안
B7: 예결위 계수조정 결과
B33: 예산결산특별위원회

Sheet 총괄표
B1: '14년도 제1회 추경 일반 및 특별회계 세입·세출 예산 수정안[전체예산총괄]
B3: □ 총 괄
H4: (단위:천원) | M4: (일반+특별+기금) | O4: 특별+기금
B5: 구 분 | C5: 집행부제출(안) | D5: 세입예산(안) | F5: 세출예산(안) | H5: 예산수정(안) | I5: 일반회계 증감(총괄표) | K5: 예비비증감 | L5: 비 고 | M5: 전체 증감(시트) | O5: 비고
D6: 감 액 | E6: 증 액 | F6: 감 액 | G6: 증 액 | I6: 세입 | J6: 세출 | M6: 세입 | N6: 세출
B7: 합 계 | C7: =SUM(C8:C18) -> 16221327381 | D7: =SUM(D8:D18) -> #REF! | E7: =SUM(E8:E18) -> #REF! | F7: =SUM(F8:F18) -> #REF! | G7: =SUM(G8:G18) -> #REF! | H7: =SUM(H8:H18) -> #REF! | I7: =E25+D25 -> #REF! | J7: =F25+G25 -> #REF! | K7: =I7-J7 -> #REF! | L7: 예비비 증감이 - 예산이면 감액에 + 예산이면 증액에 입력 | M7: =D24+E24 -> #REF! | N7: =F24+G24 -> #REF! | O7: 0 | P7: 0
B8: 기 타 | C8: 0 | H8: =C8-F8+G8 -> 0 | I8: =D7+E7 -> #REF! | J8: =F7+G7 -> #REF! | K8: =I8-J8 -> #REF!
B9: 운 영 위 | C9: 29571741 | D9: =SUMIF(#REF!,"의회운영위원회",#REF!) -> #REF! | E9: =SUMIF(#REF!,"의회운영위원회",#REF!) -> #REF! | F9: =SUMIF('일반 세출'!$A$7:$A$9,"의회운영위원회",'일반 세출'!#REF!) -> #REF! | G9: =SUMIF('일반 세출'!$A$7:$A$9,"의회운영위원회",'일반 세출'!#REF!) -> #REF! | H9: =C9+F9+G9 -> #REF! | I9: 일반회계 증감(시트) | N9: 전체 증감
B10: 기 획 위 | C10: 3898493309 | D10: =SUMIF(#REF!,"기획재정위원회",#REF!) -> #REF! | E10: =SUMIF(#REF!,"기획재정위원회",#REF!) -> #REF! | F10: =SUMIF('일반 세출'!$A$7:$A$9,"기획재정위원회",'일반 세출'!#REF!) -> #REF! | G10: =SUMIF('일반 세출'!$A$7:$A$9,"기획재정위원회",'일반 세출'!#REF!) -> #REF! | H10: =C10+F10+G10 -> #REF! | I10: =#REF!+#REF! -> #REF! | J10: ='일반 세출'!#REF!+'일반 세출'!#REF! -> #REF! | N10: =M7-N7 -> #REF!
B11: 경 제 위 | C11: 568447623 | D11: =SUMIF(#REF!,"경제과학기술위원회",#REF!) -> #REF! | E11: =SUMIF(#REF!,"경제과학기술위원회",#REF!) -> #REF! | F11: =SUMIF('일반 세출'!$A$7:$A$9,"경제과학기술위원회",'일반 세출'!#REF!) -> #REF! | G11: =SUMIF('일반 세출'!$A$7:$A$9,"경제과학기술위원회",'일반 세출'!#REF!) -> #REF! | H11: =C11+F11+G11 -> #REF!
B12: 행 정 위 | C12: 1084349076 | D12: =SUMIF(#REF!,"행정자치위원회",#REF!) -> #REF! | E12: =SUMIF(#REF!,"행정자치위원회",#REF!) -> #REF! | F12: =SUMIF('일반 세출'!$A$7:$A$9,"행정자치위원회",'일반 세출'!#REF!) -> #REF! | G12: =SUMIF('일반 세출'!$A$7:$A$9,"행정자치위원회",'일반 세출'!#REF!) -> #REF! | H12: =C12+F12+G12 -> #REF!
B13: 문 광 위 | C13: 273648191 | D13: =SUMIF(#REF!,"문화체육관광위원회",#REF!) -> #REF! | E13: =SUMIF(#REF!,"문화체육관광위원회",#REF!) -> #REF! | F13: =SUMIF('일반 세출'!$A$7:$A$9,"문화체육관광위원회",'일반 세출'!#REF!) -> #REF! | G13: =SUMIF('일반 세출'!$A$7:$A$9,"문화체육관광위원회",'일반 세출'!#REF!) -> #REF! | H13: =C13+F13+G13 -> #REF! | N13: 기금
B14: 농 림 위 | C14: 536493471 | D14: =SUMIF(#REF!,"농림수산위원회",#REF!) -> #REF! | E14: =SUMIF(#REF!,"농림수산위원회",#REF!) -> #REF! | F14: =SUMIF('일반 세출'!$A$7:$A$9,"농림수산위원회",'일반 세출'!#REF!) -> #REF! | G14: =SUMIF('일반 세출'!$A$7:$A$9,"농림수산위원회",'일반 세출'!#REF!) -> #REF! | H14: =C14+F14+G14 -> #REF! | N14: =N10-K7 -> #REF!
B15: 복 지 위 | C15: 2948270941 | D15: =SUMIF(#REF!,"보건복지공보위원회",#REF!) -> #REF! | E15: =SUMIF(#REF!,"보건복지공보위원회",#REF!) -> #REF! | F15: =SUMIF('일반 세출'!$A$7:$A$9,"보건복지공보위원회",'일반 세출'!#REF!) -> #REF! | G15: =SUMIF('일반 세출'!$A$7:$A$9,"보건복지공보위원회",'일반 세출'!#REF!) -> #REF! | H15: =C15+F15+G15 -> #REF!
B16: 건 설 위 | C16: 1196035699 | D16: =SUMIF(#REF!,"건설교통위원회",#REF!) -> #REF! | E16: =SUMIF(#REF!,"건설교통위원회",#REF!) -> #REF! | F16: =SUMIF('일반 세출'!$A$7:$A$9,"건설교통위원회",'일반 세출'!#REF!) -> #REF! | G16: =SUMIF('일반 세출'!$A$7:$A$9,"건설교통위원회",'일반 세출'!#REF!) -> #REF! | H16: =C16+F16+G16 -> #REF!
B17: 도 시 위 | C17: 916276929 | D17: =SUMIF(#REF!,"도시환경위원회",#REF!) -> #REF! | E17: =SUMIF(#REF!,"도시환경위원회",#REF!) -> #REF! | F17: =SUMIF('일반 세출'!$A$7:$A$9,"도시환경위원회",'일반 세출'!#REF!) -> #REF! | G17: =SUMIF('일반 세출'!$A$7:$A$9,"도시환경위원회",'일반 세출'!#REF!) -> #REF! | H17: =C17+F17+G17 -> #REF!
B18: 여가평위 | C18: 4769740401 | D18: =SUMIF(#REF!,"여성가족평생교육위원회",#REF!) -> #REF! | E18: =SUMIF(#REF!,"여성가족평생교육위원회",#REF!) -> #REF! | F18: =SUMIF('일반 세출'!$A$7:$A$9,"여성가족평생교육위원회",'일반 세출'!#REF!) -> #REF! | G18: =SUMIF('일반 세출'!$A$7:$A$9,"여성가족평생교육위원회",'일반 세출'!#REF!) -> #REF! | H18: =C18+F18+G18 -> #REF!
B20: □ 회계별 예산총규모
H21: (단위:천원)
B22: 구 분 | C22: 세출예산액 (집행부제출 안) | D22: 세입예산(안) | F22: 세출예산(안) | H22: 예산수정(안)
D23: 감 액 | E23: 증 액 | F23: 감 액 | G23: 증 액 | I23: 세입기준 수정예산안
B24: 합 계 | C24: =SUM(C25:C26) -> 16221327381 | D24: =SUM(D25:D26) -> #REF! | E24: =SUM(E25:E26) -> #REF! | F24: =SUM(F25:F26) -> #REF! | G24: =SUM(G25:G26) -> #REF! | H24: =SUM(H25:H26) -> #REF! | I24: =C24+D24+E24 -> #REF! | J24: =I24-H24 -> #REF! | K24: (세출기준-세입기준)
B25: 일반회계 | C25: 13099250390 | D25: =#REF! -> #REF! | E25: =#REF! -> #REF! | F25: ='일반 세출'!#REF! -> #REF! | G25: ='일반 세출'!#REF! -> #REF! | H25: =C25+F25+G25 -> #REF! | I25: =C25+D25+E25 -> #REF! | J25: =I25-H25 -> #REF! | K25: (세출기준-세입기준)
B26: 특별회계 | C26: 3122076991 | H26: =C26+F26+G26 -> 3122076991 | I26: =C26+D26+E26 -> 3122076991 | J26: =I26-H26 -> 0 | K26: (세출기준-세입기준)
B30: 위원회명 | C30: 일반+기특 | D30: 공기업 | E30: 합계
B31: 의회운영위원회 | C31: 29571741 | E31: =SUM(C31:D31) -> 29571741
B32: 기획재정위원회 | C32: 2482731231 | D32: 1415762078 | E32: =SUM(C32:D32) -> 3898493309
B33: 경제과학기술위원회 | C33: 195073838 | D33: 373373785 | E33: =SUM(C33:D33) -> 568447623
B34: 행정자치위원회 | C34: 1084349076 | E34: =SUM(C34:D34) -> 1084349076
B35: 문화체육관광위원회 | C35: 257698191 | D35: 15950000 | E35: =SUM(C35:D35) -> 273648191
B36: 농림수산위원회 | C36: 536493471 | E36: =SUM(C36:D36) -> 536493471
B37: 보건복지공보위원회 | C37: 2948270941 | E37: =SUM(C37:D37) -> 2948270941
B38: 건설교통위원회 | C38: 1196035699 | E38: =SUM(C38:D38) -> 1196035699
B39: 도시환경위원회 | C39: 870225757 | D39: 46051172 | E39: =SUM(C39:D39) -> 916276929
B40: 여성가족평생교육위원회 | C40: 4769740401 | E40: =SUM(C40:D40) -> 4769740401
B41: 총합계 | C41: =SUM(C31:C40) -> 14370190346 | D41: =SUM(D31:D40) -> 1851137035 | E41: =SUM(C41:D41) -> 16221327381
B43: 예비비 | C43: =3922478-221377 -> 3701101
I181: ◦ 본청 83,000 증 ◦ 북부청 377,000 증
K311: -50000

Sheet 일반 세출
A1: 2014년도 제1회 추경 경기도 일반회계 세출 예산 조정(안)
A2: □세출예산
L3: (단위 : 천원)
A4: 위원회 | C4: 예산안 페이지 | D4: 부서명 | E4: 사업명 | F4: 제1회 추경 예산안 (가) | G4: 기정액 (나) | H4: 제1회 추경 증감액 (다=나-가) | I4: 상임위 제1회 추경 예산안 조정액(라) | K4: 상임위 수정 예산안 (마=가+라) | L4: 비 고 | M4: 재원
I5: 감액 | J5: 증액
B6: 합 계 | F6: =SUM(F7:F319)/3 -> 1513145 | G6: =SUM(G7:G319)/3 -> 1922990 | H6: =SUM(H7:H319)/3 -> 1490155 | I6: =SUM(I7:I319)/3 -> -804840 | J6: =SUM(J7:J319)/3 -> 5525500 | K6: =SUM(K7:K319)/3 -> 6233805
A7: 안전행정위원회 | F7: =SUM(F8:F19)/2 -> 1513145 | G7: =SUM(G8:G19)/2 -> 1922990 | H7: =SUM(H8:H19)/2 -> 1490155 | I7: =SUM(I8:I19)/2 -> -804840 | J7: =SUM(J8:J19)/2 -> 5525500 | K7: =SUM(K8:K19)/2 -> 6233805
B8: 자치행정국 | F8: =SUM(F9:F9) -> 1502695 | G8: =SUM(G9:G9) -> 0 | H8: =SUM(H9:H9) -> 1502695 | I8: =SUM(I9:I9) -> -804840 | J8: =SUM(J9:J9) -> 0 | K8: =SUM(K9:K9) -> 697855
B9: 1회 | C9: 342 | D9: 회계과 | E9: 관사증축 등 리모델링 공사 | F9: 1502695 | G9: 0 | H9: 1502695 | I9: -804840 | K9: =F9+I9+J9 -> 697855 | L9: 리모델링 602,572천원 설계및감리비등 95,283천원 | M9: 도비
B10: 소방재난본부 | F10: =SUM(F11:F17) -> 10450 | G10: =SUM(G11:G17) -> 1022990 | H10: =SUM(H11:H17) -> -12540 | I10: =SUM(I11:I17) -> 0 | J10: =SUM(J11:J17) -> 4255500 | K10: =SUM(K11:K17) -> 4265950
B11: 추가 | C11: 본예산 641 | D11: 부천소방서 | E11: 내동119 안전센터 신축 | F11: 0 | G11: 500000 | H11: =IF(SUMPRODUCT(COUNTIF(C11,{"*본예산*","*1회추경*","*신규*"})),"-",F11-G11) -> - | J11: 1140000 | K11: =F11+I11+J11 -> 1140000 | M11: 도비
B12: 추가 | C12: 본예산642 | D12: 안산소방서 | E12: 반월 119안전센터 신축 | F12: 0 | G12: 500000 | H12: =IF(SUMPRODUCT(COUNTIF(C12,{"*본예산*","*1회추경*","*신규*"})),"-",F12-G12) -> - | J12: 1100000 | K12: =F12+I12+J12 -> 1100000 | M12: 도비
B13: 1회 | C13: 357 | D13: 소방행정과 | E13: 기관운영업무추진비(소방재난본부장) | F13: 10450 | G13: 22990 | H13: =IF(SUMPRODUCT(COUNTIF(C13,{"*본예산*","*1회추경*","*신규*"})),"-",F13-G13) -> -12540 | J13: 12500 | K13: =F13+I13+J13 -> 22950 | M13: 도비
B14: 추가 | C14: 신규 | D14: 재난대응과 | E14: 개인안전장비보강 | F14: 0 | G14: 0 | H14: =IF(SUMPRODUCT(COUNTIF(C14,{"*본예산*","*1회추경*","*신규*"})),"-",F14-G14) -> - | J14: 1290000 | K14: =F14+I14+J14 -> 1290000 | L14: 소방장비보강 자산및물품취득비 | M14: 도비
B15: 추가 | C15: 신규 | D15: 재난대응과 | E15: 붕괴구조장비보강 | F15: 0 | G15: 0 | H15: =IF(SUMPRODUCT(COUNTIF(C15,{"*본예산*","*1회추경*","*신규*"})),"-",F15-G15) -> - | J15: 243000 | K15: =F15+I15+J15 -> 243000 | L15: 구조구급장비보강 자산및물품취득비 | M15: 도비
B16: 추가 | C16: 신규 | D16: 평택소방서 | E16: 본서리모델링 | F16: 0 | G16: 0 | H16: =IF(SUMPRODUCT(COUNTIF(C16,{"*본예산*","*1회추경*","*신규*"})),"-",F16-G16) -> - | J16: 300000 | K16: =F16+I16+J16 -> 300000 | L16: 소방관서리모델링 시설비 | M16: 도비
B17: 추가 | C17: 신규 | D17: 의왕소방서 | E17: 본서훈련탑설치 | F17: 0 | G17: 0 | H17: =IF(SUMPRODUCT(COUNTIF(C17,{"*본예산*","*1회추경*","*신규*"})),"-",F17-G17) -> - | J17: 170000 | K17: =F17+I17+J17 -> 170000 | L17: 소방관서증축 시설비 | M17: 도비
B18: 북부소방재난본부 | F18: =SUM(F19:F20) -> 0 | G18: =SUM(G19:G20) -> 900000 | H18: =SUM(H19:H20) -> 0 | I18: =SUM(I19:I20) -> 0 | J18: =SUM(J19:J20) -> 1270000 | K18: =SUM(K19:K20) -> 1270000
B19: 추가 | C19: 본예산 717 | D19: 고양소방서 | E19: 화전 119안전센터 신축 | F19: 0 | G19: 900000 | H19: =IF(SUMPRODUCT(COUNTIF(C19,{"*본예산*","*1회추경*","*신규*"})),"-",F19-G19) -> - | J19: 1270000 | K19: =F19+I19+J19 -> 1270000 | M19: 도비
B21: ※ 예산안 페이지 작성 방법
B22: 1회 | C22: 290 | D22: 1회 추경 예산안에 요구된 사업의 경우 "1회"라고 기재하고 추경예산안의 페이지 기재
B23: 추가 | C23: 신규 | D23: 본예산에도 없고 추경예산안에서도 요구하지 않은 신규 사업울 추가할 경우 "추가"라고 기재하고 "신규"라고 기재
B24: 추가 | C24: 본예산 58 | D24: 본예산에는 있고 추경예산안에서는 요구하지 않은 사업을 추가하는 경우 "추가"라고 기재하고 "본예산 페이지" 기재
