Workbook

Sheet 추 표지
B5: 2014년도 제1회 일반회계 및 특별회계 추가경정 세입·세출 예산안
B7: 예결위 계수조정 결과
B33: 예산결산특별위원회

Sheet 총괄표
B1: '14년도 제1회 추경 일반 및 특별회계 세입·세출 예산 수정안[전체예산총괄]
B3: □ 총 괄
H4: (단위:천원) | M4: (일반+특별+기금) | O4: 특별+기금
B5: 구 분 | C5: 집행부제출(안) | D5: 세입예산(안) | F5: 세출예산(안) | H5: 예산수정(안) | I5: 일반회계 증감(총괄표) | K5: 예비비증감 | L5: 비 고 | M5: 전체 증감(시트) | O5: 비고
D6: 감 액 | E6: 증 액 | F6: 감 액 | G6: 증 액 | I6: 세입 | J6: 세출 | M6: 세입 | N6: 세출
B7: 합 계 | C7: =SUM(C8:C18) -> 16221327381 | D7: =SUM(D8:D18) -> 0 | E7: =SUM(E8:E18) -> 0 | F7: =SUM(F8:F18) -> #REF! | G7: =SUM(G8:G18) -> #REF! | H7: =SUM(H8:H18) -> #REF! | I7: =E25+D25 -> 0 | J7: =F25+G25 -> #REF! | K7: =I7-J7 -> #REF! | L7: 예비비 증감이 - 예산이면 감액에 + 예산이면 증액에 입력 | M7: =D24+E24 -> 0 | N7: =F24+G24 -> #REF! | O7: 0 | P7: 0
B8: 기 타 | C8: 0 | H8: =C8-F8+G8 -> 0 | I8: =D7+E7 -> 0 | J8: =F7+G7 -> #REF! | K8: =I8-J8 -> #REF!
B9: 운 영 위 | C9: 29571741 | D9: =SUMIF('계수조정최종(세출)'!$A$7:$A$15,"의회운영위원회",'계수조정최종(세출)'!$L$7:$L$15) -> 0 | E9: =SUMIF('계수조정최종(세출)'!$A$7:$A$15,"의회운영위원회",'계수조정최종(세출)'!$M$7:$M$15) -> 0 | F9: =SUMIF(#REF!,"의회운영위원회",#REF!) -> #REF! | G9: =SUMIF(#REF!,"의회운영위원회",#REF!) -> #REF! | H9: =C9+F9+G9 -> #REF! | I9: 일반회계 증감(시트) | N9: 전체 증감
B10: 기 획 위 | C10: 3898493309 | D10: =SUMIF('계수조정최종(세출)'!$A$7:$A$15,"기획재정위원회",'계수조정최종(세출)'!$L$7:$L$15) -> 0 | E10: =SUMIF('계수조정최종(세출)'!$A$7:$A$15,"기획재정위원회",'계수조정최종(세출)'!$M$7:$M$15) -> 0 | F10: =SUMIF(#REF!,"기획재정위원회",#REF!) -> #REF! | G10: =SUMIF(#REF!,"기획재정위원회",#REF!) -> #REF! | H10: =C10+F10+G10 -> #REF! | I10: ='계수조정최종(세출)'!L6+'계수조정최종(세출)'!M6 -> 0 | J10: =#REF!+#REF! -> #REF! | N10: =M7-N7 -> #REF!
B11: 경 제 위 | C11: 568447623 | D11: =SUMIF('계수조정최종(세출)'!$A$7:$A$15,"경제과학기술위원회",'계수조정최종(세출)'!$L$7:$L$15) -> 0 | E11: =SUMIF('계수조정최종(세출)'!$A$7:$A$15,"경제과학기술위원회",'계수조정최종(세출)'!$M$7:$M$15) -> 0 | F11: =SUMIF(#REF!,"경제과학기술위원회",#REF!) -> #REF! | G11: =SUMIF(#REF!,"경제과학기술위원회",#REF!) -> #REF! | H11: =C11+F11+G11 -> #REF!
B12: 행 정 위 | C12: 1084349076 | D12: =SUMIF('계수조정최종(세출)'!$A$7:$A$15,"행정자치위원회",'계수조정최종(세출)'!$L$7:$L$15) -> 0 | E12: =SUMIF('계수조정최종(세출)'!$A$7:$A$15,"행정자치위원회",'계수조정최종(세출)'!$M$7:$M$15) -> 0 | F12: =SUMIF(#REF!,"행정자치위원회",#REF!) -> #REF! | G12: =SUMIF(#REF!,"행정자치위원회",#REF!) -> #REF! | H12: =C12+F12+G12 -> #REF!
B13: 문 광 위 | C13: 273648191 | D13: =SUMIF('계수조정최종(세출)'!$A$7:$A$15,"문화체육관광위원회",'계수조정최종(세출)'!$L$7:$L$15) -> 0 | E13: =SUMIF('계수조정최종(세출)'!$A$7:$A$15,"문화체육관광위원회",'계수조정최종(세출)'!$M$7:$M$15) -> 0 | F13: =SUMIF(#REF!,"문화체육관광위원회",#REF!) -> #REF! | G13: =SUMIF(#REF!,"문화체육관광위원회",#REF!) -> #REF! | H13: =C13+F13+G13 -> #REF! | N13: 기금
B14: 농 림 위 | C14: 536493471 | D14: =SUMIF('계수조정최종(세출)'!$A$7:$A$15,"농림수산위원회",'계수조정최종(세출)'!$L$7:$L$15) -> 0 | E14: =SUMIF('계수조정최종(세출)'!$A$7:$A$15,"농림수산위원회",'계수조정최종(세출)'!$M$7:$M$15) -> 0 | F14: =SUMIF(#REF!,"농림수산위원회",#REF!) -> #REF! | G14: =SUMIF(#REF!,"농림수산위원회",#REF!) -> #REF! | H14: =C14+F14+G14 -> #REF! | N14: =N10-K7 -> #REF!
B15: 복 지 위 | C15: 2948270941 | D15: =SUMIF('계수조정최종(세출)'!$A$7:$A$15,"보건복지공보위원회",'계수조정최종(세출)'!$L$7:$L$15) -> 0 | E15: =SUMIF('계수조정최종(세출)'!$A$7:$A$15,"보건복지공보위원회",'계수조정최종(세출)'!$M$7:$M$15) -> 0 | F15: =SUMIF(#REF!,"보건복지공보위원회",#REF!) -> #REF! | G15: =SUMIF(#REF!,"보건복지공보위원회",#REF!) -> #REF! | H15: =C15+F15+G15 -> #REF!
B16: 건 설 위 | C16: 1196035699 | D16: =SUMIF('계수조정최종(세출)'!$A$7:$A$15,"건설교통위원회",'계수조정최종(세출)'!$L$7:$L$15) -> 0 | E16: =SUMIF('계수조정최종(세출)'!$A$7:$A$15,"건설교통위원회",'계수조정최종(세출)'!$M$7:$M$15) -> 0 | F16: =SUMIF(#REF!,"건설교통위원회",#REF!) -> #REF! | G16: =SUMIF(#REF!,"건설교통위원회",#REF!) -> #REF! | H16: =C16+F16+G16 -> #REF!
B17: 도 시 위 | C17: 916276929 | D17: =SUMIF('계수조정최종(세출)'!$A$7:$A$15,"도시환경위원회",'계수조정최종(세출)'!$L$7:$L$15) -> 0 | E17: =SUMIF('계수조정최종(세출)'!$A$7:$A$15,"도시환경위원회",'계수조정최종(세출)'!$M$7:$M$15) -> 0 | F17: =SUMIF(#REF!,"도시환경위원회",#REF!) -> #REF! | G17: =SUMIF(#REF!,"도시환경위원회",#REF!) -> #REF! | H17: =C17+F17+G17 -> #REF!
B18: 여가평위 | C18: 4769740401 | D18: =SUMIF('계수조정최종(세출)'!$A$7:$A$15,"여성가족평생교육위원회",'계수조정최종(세출)'!$L$7:$L$15) -> 0 | E18: =SUMIF('계수조정최종(세출)'!$A$7:$A$15,"여성가족평생교육위원회",'계수조정최종(세출)'!$M$7:$M$15) -> 0 | F18: =SUMIF(#REF!,"여성가족평생교육위원회",#REF!) -> #REF! | G18: =SUMIF(#REF!,"여성가족평생교육위원회",#REF!) -> #REF! | H18: =C18+F18+G18 -> #REF!
B20: □ 회계별 예산총규모
H21: (단위:천원)
B22: 구 분 | C22: 세출예산액 (집행부제출 안) | D22: 세입예산(안) | F22: 세출예산(안) | H22: 예산수정(안)
D23: 감 액 | E23: 증 액 | F23: 감 액 | G23: 증 액 | I23: 세입기준 수정예산안
B24: 합 계 | C24: =SUM(C25:C26) -> 16221327381 | D24: =SUM(D25:D26) -> 0 | E24: =SUM(E25:E26) -> 0 | F24: =SUM(F25:F26) -> #REF! | G24: =SUM(G25:G26) -> #REF! | H24: =SUM(H25:H26) -> #REF! | I24: =C24+D24+E24 -> 16221327381 | J24: =I24-H24 -> #REF! | K24: (세출기준-세입기준)
B25: 일반회계 | C25: 13099250390 | D25: ='계수조정최종(세출)'!L6 -> 0 | E25: ='계수조정최종(세출)'!M6 -> 0 | F25: =#REF! -> #REF! | G25: =#REF! -> #REF! | H25: =C25+F25+G25 -> #REF! | I25: =C25+D25+E25 -> 13099250390 | J25: =I25-H25 -> #REF! | K25: (세출기준-세입기준)
B26: 특별회계 | C26: 3122076991 | H26: =C26+F26+G26 -> 3122076991 | I26: =C26+D26+E26 -> 3122076991 | J26: =I26-H26 -> 0 | K26: (세출기준-세입기준)
B30: 위원회명 | C30: 일반+기특 | D30: 공기업 | E30: 합계
B31: 의회운영위원회 | C31: 29571741 | E31: =SUM(C31:D31) -> 29571741
B32: 기획재정위원회 | C32: 2482731231 | D32: 1415762078 | E32: =SUM(C32:D32) -> 3898493309
B33: 경제과학기술위원회 | C33: 195073838 | D33: 373373785 | E33: =SUM(C33:D33) -> 568447623
B34: 행정자치위원회 | C34: 1084349076 | E34: =SUM(C34:D34) -> 1084349076
B35: 문화체육관광위원회 | C35: 257698191 | D35: 15950000 | E35: =SUM(C35:D35) -> 273648191
B36: 농림수산위원회 | C36: 536493471 | E36: =SUM(C36:D36) -> 536493471
B37: 보건복지공보위원회 | C37: 2948270941 | E37: =SUM(C37:D37) -> 2948270941
B38: 건설교통위원회 | C38: 1196035699 | E38: =SUM(C38:D38) -> 1196035699
B39: 도시환경위원회 | C39: 870225757 | D39: 46051172 | E39: =SUM(C39:D39) -> 916276929
B40: 여성가족평생교육위원회 | C40: 4769740401 | E40: =SUM(C40:D40) -> 4769740401
B41: 총합계 | C41: =SUM(C31:C40) -> 14370190346 | D41: =SUM(D31:D40) -> 1851137035 | E41: =SUM(C41:D41) -> 16221327381
B43: 예비비 | C43: =3922478-221377 -> 3701101
I181: ◦ 본청 83,000 증 ◦ 북부청 377,000 증
K311: -50000

Sheet 계수조정최종(세출)
A1: 2014년도 제1회 추경 경기도 일반회계 세출 예산 조정(안)
A2: □세입예산 | B2: 세출예산
P3: (단위 : 천원)
A4: 위원회 | C4: 예산안 페이지 | D4: 부서명 | E4: 사업명 | F4: 제1회 추경 예산안 (가) | G4: 기정액 (나) | H4: 제1회 추경 증감액 (다=나-가) | I4: 상임위 제1회 추경 예산안 조정액(라) | K4: 상임위 수정 예산안 (마=가+라) | L4: 예결위 제1회 추경 예산안 조정액(마) | N4: 예결위 수정 예산안 (바=가+마) | O4: 동의 대상 | P4: 비 고 | Q4: 재원 | R4: 상임위 재원별 증감액
I5: 감액 | J5: 증액 | L5: 감액 | M5: 증액 | R5: 국비 등 | S5: 도 비 | T5: 검 증
B6: 합 계 | F6: =SUM(F7:F146)/3 -> 33170811 | G6: =SUM(G7:G146)/3 -> 25880811 | H6: =SUM(H7:H146)/3 -> 7290000 | I6: =SUM(I7:I146)/3 -> -40000 | J6: =SUM(J7:J146)/3 -> 6860000 | K6: =SUM(K7:K146)/3 -> 39990811 | L6: =SUM(L7:L146)/3 -> 0 | M6: =SUM(M7:M146)/3 -> 0 | N6: =SUM(N7:N146)/3 -> 33170811 | R6: =SUM(R7:R146)/3 -> 0 | S6: =SUM(S7:S146)/3 -> 5120000 | T6: =IF((I6+J6)=(R6+S6),"ok","검토") -> 검토
A7: 건설교통위원회 | F7: =SUM(F8:F15)/2 -> 33170811 | G7: =SUM(G8:G15)/2 -> 25880811 | H7: =SUM(H8:H15)/2 -> 7290000 | I7: =SUM(I8:I15)/2 -> -40000 | J7: =SUM(J8:J15)/2 -> 6860000 | K7: =SUM(K8:K15)/2 -> 39990811 | L7: =SUM(L8:L15)/2 -> 0 | M7: =SUM(M8:M15)/2 -> 0 | N7: =SUM(N8:N15)/2 -> 33170811 | R7: =SUM(R8:R15)/2 -> 0 | S7: =SUM(S8:S15)/2 -> 5120000 | T7: =IF((I7+J7)=(R7+S7),"ok","검토") -> 검토
B8: 교통건설국 | F8: =SUM(F9:F15) -> 33170811 | G8: =SUM(G9:G15) -> 25880811 | H8: =SUM(H9:H15) -> 7290000 | I8: =SUM(I9:I15) -> -40000 | J8: =SUM(J9:J15) -> 6860000 | K8: =SUM(K9:K15) -> 39990811 | L8: =SUM(L9:L15) -> 0 | M8: =SUM(M9:M15) -> 0 | N8: =SUM(N9:N15) -> 33170811 | R8: =SUM(R9:R15) -> 0 | S8: =SUM(S9:S11) -> 1750000 | T8: =IF((I8+J8)=(R8+S8),"ok","검토") -> 검토
B9: 추가 | C9: 신규 | D9: 교통정책과 | E9: 광역이동지원센터시스템 구축 | F9: 0 | G9: 0 | H9: =IF(SUMPRODUCT(COUNTIF(C9,{"*본예산*","*1회추경*","*신규*"})),"-",F9-G9) -> - | J9: 650000 | K9: =F9+I9+J9 -> 650000 | M9: 0 | N9: =F9+L9+M9 -> 0 | O9: =IF(I9-L9<0,"동의필요","-") -> - | Q9: 도비 | R9: 0 | S9: 650000 | T9: =IF((I9+J9)=(R9+S9),"ok","검토") -> ok
B10: 1회 | C10: 645 | D10: 도로계획과 | E10: 도로구역 정비 추진(자체/직접) | F10: 20000 | G10: 0 | H10: =IF(SUMPRODUCT(COUNTIF(C10,{"*본예산*","*1회추경*","*신규*"})),"-",F10-G10) -> 20000 | J10: 100000 | K10: =F10+I10+J10 -> 120000 | N10: =F10+L10+M10 -> 20000 | P10: 양평군 1억원 | Q10: 도비 | S10: 100000
B11: 추가 | C11: 신규 | D11: 도로계획과 | E11: 범안로 도로확포장공사(자체/직접) | F11: 0 | G11: 0 | H11: =IF(SUMPRODUCT(COUNTIF(C11,{"*본예산*","*1회추경*","*신규*"})),"-",F11-G11) -> - | J11: 1000000 | K11: =F11+I11+J11 -> 1000000 | M11: 0 | N11: =F11+L11+M11 -> 0 | O11: =IF(I11-L11<0,"동의필요","-") -> - | Q11: 도비 | S11: 1000000 | T11: =IF((I11+J11)=(R11+S11),"ok","검토") -> ok
B12: 건설본부 | F12: =SUM(F15:F18) -> 14657051 | G12: =SUM(G15:G18) -> 11302051 | H12: =SUM(H15:H18) -> 3355000 | I12: =SUM(I15:I18) -> 0 | J12: =SUM(J15:J18) -> 1700000 | K12: =SUM(K15:K18) -> 16357051 | L12: =SUM(L15:L18) -> 0 | M12: =SUM(M15:M18) -> 0 | N12: =SUM(N15:N18) -> 14657051 | R12: =SUM(R15:R18) -> 0 | S12: =SUM(S13:S15) -> 3370000 | T12: =IF((I12+J12)=(R12+S12),"ok","검토") -> 검토
B13: 1회 | C13: 655 | D13: 도로건설과 | E13: 구조물유지관리(자체/직접) | F13: 3776709 | G13: 3276709 | H13: =IF(SUMPRODUCT(COUNTIF(C13,{"*본예산*","*1회추경*","*신규*"})),"-",F13-G13) -> 500000 | J13: 1700000 | K13: =F13+I13+J13 -> 5476709 | N13: =F13+L13+M13 -> 3776709 | Q13: 도비 | S13: 1700000 | T13: =IF((I13+J13)=(R13+S13),"ok","검토") -> ok
B14: 1회 | C14: 657 | D14: 건축시설과 | E14: 도 신청사 관련 벤치마킹(자체/직접) | F14: 60000 | G14: 0 | H14: =IF(SUMPRODUCT(COUNTIF(C14,{"*본예산*","*1회추경*","*신규*"})),"-",F14-G14) -> 60000 | I14: -40000 | J14: 10000 | K14: =F14+I14+J14 -> 30000 | N14: =F14+L14+M14 -> 60000 | P14: 민간인국외여비(감4천만원) 국제화여비(공무원)(증1천만원) | Q14: 도비 | S14: -30000 | T14: =IF((I14+J14)=(R14+S14),"ok","검토") -> ok
B15: 1회 | C15: 662 | D15: 하천과 | E15: 지방하천개수시군대행사업(자체/지원) | F15: 14657051 | G15: 11302051 | H15: =IF(SUMPRODUCT(COUNTIF(C15,{"*본예산*","*1회추경*","*신규*"})),"-",F15-G15) -> 3355000 | J15: 1700000 | K15: =F15+I15+J15 -> 16357051 | M15: 0 | N15: =F15+L15+M15 -> 14657051 | O15: =IF(I15-L15<0,"동의필요","-") -> - | P15: 파주 놀노천(10억원) 김포 나진포천(7억원) | Q15: 도비 | S15: 1700000 | T15: =IF((I15+J15)=(R15+S15),"ok","검토") -> ok
B17: ※ 예산안 페이지 작성 방법
B18: 1회 | C18: 290 | D18: 1회 추경 예산안에 요구된 사업의 경우 "1회"라고 기재하고 추경예산안의 페이지 기재
B19: 추가 | C19: 신규 | D19: 본예산에도 없고 추경예산안에서도 요구하지 않은 신규 사업울 추가할 경우 "추가"라고 기재하고 "신규"라고 기재
B20: 추가 | C20: 본예산 58 | D20: 본예산에는 있고 추경예산안에서는 요구하지 않은 사업을 추가하는 경우 "추가"라고 기재하고 "본예산 페이지" 기재
