Workbook

Sheet 추 표지
B5: 2014년도 제1회 일반회계 및 특별회계 추가경정 세입·세출 예산안
B7: 예결위 계수조정 결과
B33: 예산결산특별위원회

Sheet 총괄표
B1: '14년도 제1회 추경 일반 및 특별회계 세입·세출 예산 수정안[전체예산총괄]
B3: □ 총 괄
H4: (단위:천원) | M4: (일반+특별+기금) | O4: 특별+기금
B5: 구 분 | C5: 집행부제출(안) | D5: 세입예산(안) | F5: 세출예산(안) | H5: 예산수정(안) | I5: 일반회계 증감(총괄표) | K5: 예비비증감 | L5: 비 고 | M5: 전체 증감(시트) | O5: 비고
D6: 감 액 | E6: 증 액 | F6: 감 액 | G6: 증 액 | I6: 세입 | J6: 세출 | M6: 세입 | N6: 세출
B7: 합 계 | C7: =SUM(C8:C18) -> 16221327381 | D7: =SUM(D8:D18) -> 0 | E7: =SUM(E8:E18) -> 0 | F7: =SUM(F8:F18) -> #REF! | G7: =SUM(G8:G18) -> #REF! | H7: =SUM(H8:H18) -> #REF! | I7: =E25+D25 -> 0 | J7: =F25+G25 -> #REF! | K7: =I7-J7 -> #REF! | L7: 예비비 증감이 - 예산이면 감액에 + 예산이면 증액에 입력 | M7: =D24+E24 -> 0 | N7: =F24+G24 -> #REF! | O7: 0 | P7: 0
B8: 기 타 | C8: 0 | H8: =C8-F8+G8 -> 0 | I8: =D7+E7 -> 0 | J8: =F7+G7 -> #REF! | K8: =I8-J8 -> #REF!
B9: 운 영 위 | C9: 29571741 | D9: =SUMIF('일반 세입'!$A$7:$A$11,"의회운영위원회",'일반 세입'!$L$7:$L$11) -> 0 | E9: =SUMIF('일반 세입'!$A$7:$A$11,"의회운영위원회",'일반 세입'!$M$7:$M$11) -> 0 | F9: =SUMIF(#REF!,"의회운영위원회",#REF!) -> #REF! | G9: =SUMIF(#REF!,"의회운영위원회",#REF!) -> #REF! | H9: =C9+F9+G9 -> #REF! | I9: 일반회계 증감(시트) | N9: 전체 증감
B10: 기 획 위 | C10: 3898493309 | D10: =SUMIF('일반 세입'!$A$7:$A$11,"기획재정위원회",'일반 세입'!$L$7:$L$11) -> 0 | E10: =SUMIF('일반 세입'!$A$7:$A$11,"기획재정위원회",'일반 세입'!$M$7:$M$11) -> 0 | F10: =SUMIF(#REF!,"기획재정위원회",#REF!) -> #REF! | G10: =SUMIF(#REF!,"기획재정위원회",#REF!) -> #REF! | H10: =C10+F10+G10 -> #REF! | I10: ='일반 세입'!L6+'일반 세입'!M6 -> 0 | J10: =#REF!+#REF! -> #REF! | N10: =M7-N7 -> #REF!
B11: 경 제 위 | C11: 568447623 | D11: =SUMIF('일반 세입'!$A$7:$A$11,"경제과학기술위원회",'일반 세입'!$L$7:$L$11) -> 0 | E11: =SUMIF('일반 세입'!$A$7:$A$11,"경제과학기술위원회",'일반 세입'!$M$7:$M$11) -> 0 | F11: =SUMIF(#REF!,"경제과학기술위원회",#REF!) -> #REF! | G11: =SUMIF(#REF!,"경제과학기술위원회",#REF!) -> #REF! | H11: =C11+F11+G11 -> #REF!
B12: 행 정 위 | C12: 1084349076 | D12: =SUMIF('일반 세입'!$A$7:$A$11,"행정자치위원회",'일반 세입'!$L$7:$L$11) -> 0 | E12: =SUMIF('일반 세입'!$A$7:$A$11,"행정자치위원회",'일반 세입'!$M$7:$M$11) -> 0 | F12: =SUMIF(#REF!,"행정자치위원회",#REF!) -> #REF! | G12: =SUMIF(#REF!,"행정자치위원회",#REF!) -> #REF! | H12: =C12+F12+G12 -> #REF!
B13: 문 광 위 | C13: 273648191 | D13: =SUMIF('일반 세입'!$A$7:$A$11,"문화체육관광위원회",'일반 세입'!$L$7:$L$11) -> 0 | E13: =SUMIF('일반 세입'!$A$7:$A$11,"문화체육관광위원회",'일반 세입'!$M$7:$M$11) -> 0 | F13: =SUMIF(#REF!,"문화체육관광위원회",#REF!) -> #REF! | G13: =SUMIF(#REF!,"문화체육관광위원회",#REF!) -> #REF! | H13: =C13+F13+G13 -> #REF! | N13: 기금
B14: 농 림 위 | C14: 536493471 | D14: =SUMIF('일반 세입'!$A$7:$A$11,"농림수산위원회",'일반 세입'!$L$7:$L$11) -> 0 | E14: =SUMIF('일반 세입'!$A$7:$A$11,"농림수산위원회",'일반 세입'!$M$7:$M$11) -> 0 | F14: =SUMIF(#REF!,"농림수산위원회",#REF!) -> #REF! | G14: =SUMIF(#REF!,"농림수산위원회",#REF!) -> #REF! | H14: =C14+F14+G14 -> #REF! | N14: =N10-K7 -> #REF!
B15: 복 지 위 | C15: 2948270941 | D15: =SUMIF('일반 세입'!$A$7:$A$11,"보건복지공보위원회",'일반 세입'!$L$7:$L$11) -> 0 | E15: =SUMIF('일반 세입'!$A$7:$A$11,"보건복지공보위원회",'일반 세입'!$M$7:$M$11) -> 0 | F15: =SUMIF(#REF!,"보건복지공보위원회",#REF!) -> #REF! | G15: =SUMIF(#REF!,"보건복지공보위원회",#REF!) -> #REF! | H15: =C15+F15+G15 -> #REF!
B16: 건 설 위 | C16: 1196035699 | D16: =SUMIF('일반 세입'!$A$7:$A$11,"건설교통위원회",'일반 세입'!$L$7:$L$11) -> 0 | E16: =SUMIF('일반 세입'!$A$7:$A$11,"건설교통위원회",'일반 세입'!$M$7:$M$11) -> 0 | F16: =SUMIF(#REF!,"건설교통위원회",#REF!) -> #REF! | G16: =SUMIF(#REF!,"건설교통위원회",#REF!) -> #REF! | H16: =C16+F16+G16 -> #REF!
B17: 도 시 위 | C17: 916276929 | D17: =SUMIF('일반 세입'!$A$7:$A$11,"도시환경위원회",'일반 세입'!$L$7:$L$11) -> 0 | E17: =SUMIF('일반 세입'!$A$7:$A$11,"도시환경위원회",'일반 세입'!$M$7:$M$11) -> 0 | F17: =SUMIF(#REF!,"도시환경위원회",#REF!) -> #REF! | G17: =SUMIF(#REF!,"도시환경위원회",#REF!) -> #REF! | H17: =C17+F17+G17 -> #REF!
B18: 여가평위 | C18: 4769740401 | D18: =SUMIF('일반 세입'!$A$7:$A$11,"여성가족평생교육위원회",'일반 세입'!$L$7:$L$11) -> 0 | E18: =SUMIF('일반 세입'!$A$7:$A$11,"여성가족평생교육위원회",'일반 세입'!$M$7:$M$11) -> 0 | F18: =SUMIF(#REF!,"여성가족평생교육위원회",#REF!) -> #REF! | G18: =SUMIF(#REF!,"여성가족평생교육위원회",#REF!) -> #REF! | H18: =C18+F18+G18 -> #REF!
B20: □ 회계별 예산총규모
H21: (단위:천원)
B22: 구 분 | C22: 세출예산액 (집행부제출 안) | D22: 세입예산(안) | F22: 세출예산(안) | H22: 예산수정(안)
D23: 감 액 | E23: 증 액 | F23: 감 액 | G23: 증 액 | I23: 세입기준 수정예산안
B24: 합 계 | C24: =SUM(C25:C26) -> 16221327381 | D24: =SUM(D25:D26) -> 0 | E24: =SUM(E25:E26) -> 0 | F24: =SUM(F25:F26) -> #REF! | G24: =SUM(G25:G26) -> #REF! | H24: =SUM(H25:H26) -> #REF! | I24: =C24+D24+E24 -> 16221327381 | J24: =I24-H24 -> #REF! | K24: (세출기준-세입기준)
B25: 일반회계 | C25: 13099250390 | D25: ='일반 세입'!L6 -> 0 | E25: ='일반 세입'!M6 -> 0 | F25: =#REF! -> #REF! | G25: =#REF! -> #REF! | H25: =C25+F25+G25 -> #REF! | I25: =C25+D25+E25 -> 13099250390 | J25: =I25-H25 -> #REF! | K25: (세출기준-세입기준)
B26: 특별회계 | C26: 3122076991 | H26: =C26+F26+G26 -> 3122076991 | I26: =C26+D26+E26 -> 3122076991 | J26: =I26-H26 -> 0 | K26: (세출기준-세입기준)
B30: 위원회명 | C30: 일반+기특 | D30: 공기업 | E30: 합계
B31: 의회운영위원회 | C31: 29571741 | E31: =SUM(C31:D31) -> 29571741
B32: 기획재정위원회 | C32: 2482731231 | D32: 1415762078 | E32: =SUM(C32:D32) -> 3898493309
B33: 경제과학기술위원회 | C33: 195073838 | D33: 373373785 | E33: =SUM(C33:D33) -> 568447623
B34: 행정자치위원회 | C34: 1084349076 | E34: =SUM(C34:D34) -> 1084349076
B35: 문화체육관광위원회 | C35: 257698191 | D35: 15950000 | E35: =SUM(C35:D35) -> 273648191
B36: 농림수산위원회 | C36: 536493471 | E36: =SUM(C36:D36) -> 536493471
B37: 보건복지공보위원회 | C37: 2948270941 | E37: =SUM(C37:D37) -> 2948270941
B38: 건설교통위원회 | C38: 1196035699 | E38: =SUM(C38:D38) -> 1196035699
B39: 도시환경위원회 | C39: 870225757 | D39: 46051172 | E39: =SUM(C39:D39) -> 916276929
B40: 여성가족평생교육위원회 | C40: 4769740401 | E40: =SUM(C40:D40) -> 4769740401
B41: 총합계 | C41: =SUM(C31:C40) -> 14370190346 | D41: =SUM(D31:D40) -> 1851137035 | E41: =SUM(C41:D41) -> 16221327381
B43: 예비비 | C43: =3922478-221377 -> 3701101
I181: ◦ 본청 83,000 증 ◦ 북부청 377,000 증
K311: -50000

Sheet 일반 세입
A1: 2014년도 제1회 추경 경기도 일반회계 세입 예산 조정(안)
A2: □세입예산
P3: (단위 : 천원)
A4: 위원회 | C4: 예산안 페이지 | D4: 부서명 | E4: 사업명 | F4: 제1회 추경 예산안 (가) | G4: 기정액 (나) | H4: 제1회 추경 증감액 (다=나-가) | I4: 상임위 제1회 추경 예산안 조정액(라) | K4: 상임위 수정 예산안 (마=가+라) | L4: 예결위 제1회 추경 예산안 조정액(마) | N4: 예결위 수정 예산안 (바=가+마) | O4: 동의 대상 | P4: 비 고 | Q4: 재원 | R4: 상임위 재원별 증감액
I5: 감액 | J5: 증액 | L5: 감액 | M5: 증액 | R5: 국비 등 | S5: 도 비 | T5: 검 증
B6: 합 계 | F6: =SUM(F7:F146)/3 -> 36282860 | G6: =SUM(G7:G146)/3 -> 34553140 | H6: =SUM(H7:H146)/3 -> 1729720 | I6: =SUM(I7:I146)/3 -> 0 | J6: =SUM(J7:J146)/3 -> 1088067 | K6: =SUM(K7:K146)/3 -> 37370927 | L6: =SUM(L7:L146)/3 -> 0 | M6: =SUM(M7:M146)/3 -> 0 | N6: =SUM(N7:N146)/3 -> 36282860 | R6: =SUM(R7:R146)/3 -> 1088067 | S6: =SUM(S7:S146)/3 -> 0 | T6: =IF((I6+J6)=(R6+S6),"ok","검토") -> ok
A7: 농정해양위원회 | F7: =F8+F12+F16 -> 36282860 | G7: =G8+G12+G16 -> 34553140 | H7: =H8+H12+H16 -> 1729720 | I7: =I8+I12+I16 -> 0 | J7: =J8+J12+J16 -> 1088067 | K7: =K8+K12+K16 -> 37370927 | L7: =L8+L12+L16 -> 0 | M7: =M8+M12+M16 -> 0 | ... S7: =S8+S12+S16 -> 0 | T7: =IF((I7+J7)=(R7+S7),"ok","검토") -> ok
B8: 농정해양국 | F8: =SUM(F9:F11) -> 23888164 | G8: =SUM(G9:G11) -> 22994613 | H8: =SUM(H9:H11) -> 893551 | I8: =SUM(I9:I11) -> 0 | J8: =SUM(J9:J11) -> 5067 | K8: =SUM(K9:K11) -> 23893231 | L8: =SUM(L9:L11) -> 0 | M8: =SUM(M9:M11) -> 0 | N8: =SUM(N9:N11) -> 23888164 | R8: =SUM(R9:R11) -> 5067 | S8: =SUM(S9:S11) -> 0 | T8: =IF((I8+J8)=(R8+S8),"ok","검토") -> ok
B9: 1회 | C9: 445 | D9: 친환경농업과 | E9: 친환경농자재 지원 | F9: 23888164 | G9: 22994613 | H9: =IF(SUMPRODUCT(COUNTIF(C9,{"*본예산*","*1회추경*","*신규*"})),"-",F9-G9) -> 893551 | J9: 5067 | K9: =F9+I9+J9 -> 23893231 | N9: =F9+L9+M9 -> 23888164 | O9: =IF(I9-L9<0,"동의필요","-") -> - | P9: 농림축산식품부 친환경농업과-2748(2014.8.4)호 | Q9: 국비 | R9: 5067 | T9: =IF((I9+J9)=(R9+S9),"ok","검토") -> ok
H10: =IF(SUMPRODUCT(COUNTIF(C10,{"*본예산*","*1회추경*","*신규*"})),"-",F10-G10) -> 0 | K10: =F10+I10+J10 -> 0 | M10: =J10 -> 0 | N10: =F10+L10+M10 -> 0 | O10: =IF(I10-L10<0,"동의필요","-") -> - | T10: =IF((I10+J10)=(R10+S10),"ok","검토") -> ok
H11: =IF(SUMPRODUCT(COUNTIF(C11,{"*본예산*","*1회추경*","*신규*"})),"-",F11-G11) -> 0 | K11: =F11+I11+J11 -> 0 | M11: =J11 -> 0 | N11: =F11+L11+M11 -> 0 | O11: =IF(I11-L11<0,"동의필요","-") -> - | T11: =IF((I11+J11)=(R11+S11),"ok","검토") -> ok
B12: 축산산림국 | F12: =SUM(F13:F15) -> 12394696 | G12: =SUM(G13:G15) -> 11558527 | H12: =SUM(H13:H15) -> 836169 | I12: =SUM(I13:I15) -> 0 | J12: =SUM(J13:J15) -> 1083000 | K12: =SUM(K13:K15) -> 13477696 | L12: =SUM(L13:L15) -> 0 | M12: =SUM(M13:M15) -> 0 | N12: =SUM(N13:N15) -> 12394696 | R12: =SUM(R13:R15) -> 1083000 | S12: =SUM(S13:S15) -> 0 | T12: =IF((I12+J12)=(R12+S12),"ok","검토") -> ok
B13: 1회 | C13: 472 | D13: 동물방역위생과 | E13: 시도가축방역사업(성립전) | F13: 12394696 | G13: 11558527 | H13: =IF(SUMPRODUCT(COUNTIF(C13,{"*본예산*","*1회추경*","*신규*"})),"-",F13-G13) -> 836169 | J13: 1083000 | K13: =F13+I13+J13 -> 13477696 | N13: =F13+L13+M13 -> 12394696 | O13: =IF(I13-L13<0,"동의필요","-") -> - | P13: 농림축산식품부 방역총괄과-5800(2014.9.3)호 | Q13: 국비 | R13: 1083000 | T13: =IF((I13+J13)=(R13+S13),"ok","검토") -> ok
H14: =IF(SUMPRODUCT(COUNTIF(C14,{"*본예산*","*1회추경*","*신규*"})),"-",F14-G14) -> 0 | K14: =F14+I14+J14 -> 0 | M14: =J14 -> 0 | N14: =F14+L14+M14 -> 0 | O14: =IF(I14-L14<0,"동의필요","-") -> - | T14: =IF((I14+J14)=(R14+S14),"ok","검토") -> ok
H15: =IF(SUMPRODUCT(COUNTIF(C15,{"*본예산*","*1회추경*","*신규*"})),"-",F15-G15) -> 0 | K15: =F15+I15+J15 -> 0 | M15: =J15 -> 0 | N15: =F15+L15+M15 -> 0 | O15: =IF(I15-L15<0,"동의필요","-") -> - | T15: =IF((I15+J15)=(R15+S15),"ok","검토") -> ok
B16: 농업기술원 | F16: =SUM(F17:F19) -> 0 | G16: =SUM(G17:G19) -> 0 | H16: =SUM(H17:H19) -> 0 | I16: =SUM(I17:I19) -> 0 | J16: =SUM(J17:J19) -> 0 | K16: =SUM(K17:K19) -> 0 | L16: =SUM(L17:L19) -> 0 | M16: =SUM(M17:M19) -> 0 | N16: =SUM(N17:N19) -> 0 | R16: =SUM(R17:R19) -> 0 | S16: =SUM(S17:S19) -> 0 | T16: =IF((I16+J16)=(R16+S16),"ok","검토") -> ok
H17: =IF(SUMPRODUCT(COUNTIF(C17,{"*본예산*","*1회추경*","*신규*"})),"-",F17-G17) -> 0 | K17: =F17+I17+J17 -> 0 | N17: =F17+L17+M17 -> 0 | O17: =IF(I17-L17<0,"동의필요","-") -> - | T17: =IF((I17+J17)=(R17+S17),"ok","검토") -> ok
H18: =IF(SUMPRODUCT(COUNTIF(C18,{"*본예산*","*1회추경*","*신규*"})),"-",F18-G18) -> 0 | K18: =F18+I18+J18 -> 0 | M18: =J18 -> 0 | N18: =F18+L18+M18 -> 0 | O18: =IF(I18-L18<0,"동의필요","-") -> - | T18: =IF((I18+J18)=(R18+S18),"ok","검토") -> ok
H19: =IF(SUMPRODUCT(COUNTIF(C19,{"*본예산*","*1회추경*","*신규*"})),"-",F19-G19) -> 0 | K19: =F19+I19+J19 -> 0 | M19: =J19 -> 0 | N19: =F19+L19+M19 -> 0 | O19: =IF(I19-L19<0,"동의필요","-") -> - | T19: =IF((I19+J19)=(R19+S19),"ok","검토") -> ok

Sheet 일반 세입 (집행부)
A1: 2014년도 제1회 추경 경기도 일반회계 세입 예산 조정(안)
A2: □세입예산
P3: (단위 : 천원)
A4: 위원회 | C4: 예산안 페이지 | D4: 부서명 | E4: 사업명 | F4: 제1회 추경 예산안 (가) | G4: 기정액 (나) | H4: 제1회 추경 증감액 (다=나-가) | I4: 상임위 제1회 추경 예산안 조정액(라) | K4: 상임위 수정 예산안 (마=가+라) | L4: 예결위 제1회 추경 예산안 조정액(마) | N4: 예결위 수정 예산안 (바=가+마) | O4: 동의 대상 | P4: 비 고 | Q4: 재원 | R4: 상임위 재원별 증감액
I5: 감액 | J5: 증액 | L5: 감액 | M5: 증액 | R5: 국비 등 | S5: 도 비 | T5: 검 증
A6: 농정해양위원회 | F6: =F7+F10 -> 36282860 | G6: =G7+G10 -> 34553140 | H6: =H7+H10 -> 1729720 | I6: =I7+I10 -> 0 | J6: =J7+J10 -> 1088067 | K6: =K7+K10 -> 37370927 | R6: =R7+R10 -> 1088067
B7: 농정해양국 | F7: =SUM(F8:F9) -> 23888164 | G7: =SUM(G8:G9) -> 22994613 | H7: =SUM(H8:H9) -> 893551 | I7: =SUM(I8:I9) -> 0 | J7: =SUM(J8:J9) -> 5067 | K7: =SUM(K8:K9) -> 23893231 | L7: =SUM(L8:L9) -> 0 | M7: =SUM(M8:M9) -> 0 | N7: =SUM(N8:N9) -> 23888164 | R7: =SUM(R8:R9) -> 5067 | S7: =SUM(S8:S9) -> 0 | T7: =IF((I7+J7)=(R7+S7),"ok","검토") -> ok
B8: 1회 | C8: 445 | D8: 친환경농업과 | E8: 친환경농자재 지원 | F8: 23888164 | G8: 22994613 | H8: =IF(SUMPRODUCT(COUNTIF(C8,{"*본예산*","*1회추경*","*신규*"})),"-",F8-G8) -> 893551 | J8: 5067 | K8: =F8+I8+J8 -> 23893231 | N8: =F8+L8+M8 -> 23888164 | O8: =IF(I8-L8<0,"동의필요","-") -> - | P8: 농림축산식품부 친환경농업과-2748(2014.8.4)호 | Q8: 국비 | R8: 5067 | T8: =IF((I8+J8)=(R8+S8),"ok","검토") -> ok
H9: =IF(SUMPRODUCT(COUNTIF(C9,{"*본예산*","*1회추경*","*신규*"})),"-",F9-G9) -> 0 | K9: =F9+I9+J9 -> 0 | M9: =J9 -> 0 | N9: =F9+L9+M9 -> 0 | O9: =IF(I9-L9<0,"동의필요","-") -> - | T9: =IF((I9+J9)=(R9+S9),"ok","검토") -> ok
B10: 축산산림국 | F10: =SUM(F11:F12) -> 12394696 | G10: =SUM(G11:G12) -> 11558527 | H10: =SUM(H11:H12) -> 836169 | I10: =SUM(I11:I12) -> 0 | J10: =SUM(J11:J12) -> 1083000 | K10: =SUM(K11:K12) -> 13477696 | L10: =SUM(L11:L12) -> 0 | M10: =SUM(M11:M12) -> 0 | N10: =SUM(N11:N12) -> 12394696 | R10: =SUM(R11:R12) -> 1083000 | S10: =SUM(S11:S12) -> 0 | T10: =IF((I10+J10)=(R10+S10),"ok","검토") -> ok
B11: 1회 | C11: 472 | D11: 동물방역위생과 | E11: 시도가축방역사업(성립전) | F11: 12394696 | G11: 11558527 | H11: =IF(SUMPRODUCT(COUNTIF(C11,{"*본예산*","*1회추경*","*신규*"})),"-",F11-G11) -> 836169 | J11: 1083000 | K11: =F11+I11+J11 -> 13477696 | N11: =F11+L11+M11 -> 12394696 | O11: =IF(I11-L11<0,"동의필요","-") -> - | P11: 농림축산식품부 방역총괄과-5800(2014.9.3)호 | Q11: 국비 | R11: 1083000 | T11: =IF((I11+J11)=(R11+S11),"ok","검토") -> ok
H12: =IF(SUMPRODUCT(COUNTIF(C12,{"*본예산*","*1회추경*","*신규*"})),"-",F12-G12) -> 0 | K12: =F12+I12+J12 -> 0 | M12: =J12 -> 0 | N12: =F12+L12+M12 -> 0 | O12: =IF(I12-L12<0,"동의필요","-") -> - | T12: =IF((I12+J12)=(R12+S12),"ok","검토") -> ok

Sheet 일반 세출 (집행부)
A1: 2014년도 제1회 추경 경기도 일반회계 세출 예산 조정(안)
A2: □세출예산
O3: (단위 : 천원)
A4: 위원회 | C4: 예산안 페이지 | D4: 부서명 | E4: 사업명 | F4: 제1회 추경 예산안 (가) | G4: 기정액 (나) | H4: 제1회 추경 증감액 (다=나-가) | I4: 상임위 제1회 추경 예산안 조정액(라) | K4: 상임위 수정 예산안 (마=가+라) | L4: 예결위 제1회 추경 예산안 조정액(라) | N4: 예결위 수정 예산안 (바=가+마) | O4: 비 고 | P4: 재원 | Q4: 상임위 재원별 증감액
I5: 감액 | J5: 증액 | L5: 감액 | M5: 증액 | Q5: 국비 등 | R5: 도 비 | S5: 검 증
B6: 합 계 | F6: =SUM(F7:F319)/3 -> 27949502 | G6: =SUM(G7:G319)/3 -> 6327000 | H6: =SUM(H7:H319)/3 -> 16439052 | I6: =SUM(I7:I319)/3 -> 0 | J6: =SUM(J7:J319)/3 -> 3578067 | K6: =SUM(K7:K319)/3 -> 31527569 | L6: =SUM(L7:L319)/3 -> 0 | M6: =SUM(M7:M319)/3 -> 0 | N6: =F6+L6+M6 -> 27949502 | Q6: =SUM(Q7:Q319)/3 -> 1088067 | R6: =SUM(R7:R319)/3 -> 2490000 | S6: =IF((L6+M6)=(Q6+R6),"ok","검토") -> 검토
A7: 농정해양위원회 | F7: =F8+F14+F21 -> 27949502 | G7: =G8+G14+G21 -> 6327000 | H7: =H8+H14+H21 -> 16439052 | I7: =I8+I14+I21 -> 0 | J7: =J8+J14+J21 -> 3578067 | K7: =K8+K14+K21 -> 31527569 | L7: =L8+L14+L21 -> 0 | M7: =M8+M14+M21 -> 0 | N7: =N8+N14+N21 -> 861052 | Q7: =Q8+Q14+Q21 -> 1088067 | R7: =R8+R14+R21 -> 2490000 | S7: =IF((L7+M7)=(Q7+R7),"ok","검토") -> 검토
B8: 농정해양국 | F8: =SUM(F9:F13) -> 540052 | G8: =SUM(G9:G13) -> 327000 | H8: =SUM(H9:H13) -> 43052 | I8: =SUM(I9:I13) -> 0 | J8: =SUM(J9:J13) -> 180067 | K8: =SUM(K9:K13) -> 720119 | L8: =SUM(L9:L13) -> 0 | M8: =SUM(M9:M13) -> 0 | N8: =SUM(N9:N13) -> 365052 | Q8: =SUM(Q9:Q13) -> 5067 | R8: =SUM(R9:R13) -> 175000 | S8: =IF((L8+M8)=(Q8+R8),"ok","검토") -> 검토
B9: 1회 | C9: 461 | D9: 친환경농업과 | E9: 친환경농자재 지원 | F9: 295052 | G9: 277000 | H9: =IF(SUMPRODUCT(COUNTIF(C9,{"*본예산*","*1회추경*","*신규*"})),"-",F9-G9) -> 18052 | J9: 5067 | K9: =F9+I9+J9 -> 300119 | N9: =F9+L9+M9 -> 295052 | O9: 농림축산식품부 친환경농업과-2748(2014.8.4)호 근거 | P9: 국비 | Q9: 5067 | R9: 0 | S9: =IF((L9+M9)=(Q9+R9),"ok","검토") -> 검토
B10: 1회 | C10: 450 | D10: 농업정책과 | E10: 도정시책홍보 | F10: 75000 | G10: 50000 | H10: =IF(SUMPRODUCT(COUNTIF(C10,{"*본예산*","*1회추경*","*신규*"})),"-",F10-G10) -> 25000 | J10: 25000 | K10: =F10+I10+J10 -> 100000 | O10: 사업량 확대 | P10: 도비 | R10: 25000 | S10: =IF((L10+M10)=(Q10+R10),"ok","검토") -> 검토
B11: 추가 | C11: 본예산225 | D11: 친환경농업과 | E11: 경기미우수단지 농기계공급 (민간자본보조) | F11: 70000 | G11: 0 | H11: =IF(SUMPRODUCT(COUNTIF(C11,{"*본예산*","*1회추경*","*신규*"})),"-",F11-G11) -> - | J11: 70000 | K11: =F11+I11+J11 -> 140000 | N11: =F11+L11+M11 -> 70000 | O11: 사업량 확대 | P11: 도비 | R11: 70000 | S11: =IF((L11+M11)=(Q11+R11),"ok","검토") -> 검토
B12: 추가 | C12: 신규 | D12: 농업정책과 | E12: 시군농정평가 시상금 | F12: 0 | G12: 0 | H12: =IF(SUMPRODUCT(COUNTIF(C12,{"*본예산*","*1회추경*","*신규*"})),"-",F12-G12) -> - | J12: 50000 | K12: =F12+I12+J12 -> 50000 | O12: 신규사업 | P12: 도비 | R12: 50000 | S12: =IF((L12+M12)=(Q12+R12),"ok","검토") -> 검토
B13: 추가 | C13: 본예산223 | D13: 농식품유통과 | E13: 우수외식업지구 육성사업 | F13: 100000 | H13: =IF(SUMPRODUCT(COUNTIF(C13,{"*본예산*","*1회추경*","*신규*"})),"-",F13-G13) -> - | J13: 30000 | K13: =F13+I13+J13 -> 130000 | O13: 도비 부담액 반영 | P13: 도비 | R13: 30000 | S13: =IF((L13+M13)=(Q13+R13),"ok","검토") -> 검토
B14: 축산산림국 | F14: =SUM(F15:F20) -> 27409450 | G14: =SUM(G15:G20) -> 6000000 | H14: =SUM(H15:H20) -> 16396000 | I14: =SUM(I15:I20) -> 0 | J14: =SUM(J15:J20) -> 3398000 | K14: =SUM(K15:K20) -> 30807450 | L14: =SUM(L15:L20) -> 0 | M14: =SUM(M15:M20) -> 0 | N14: =SUM(N15:N20) -> 496000 | Q14: =SUM(Q15:Q20) -> 1083000 | R14: =SUM(R15:R20) -> 2315000 | S14: =IF((L14+M14)=(Q14+R14),"ok","검토") -> 검토
B15: 1회 | C15: 483 | D15: 동물방역위생과 | E15: 시도가축방역사업(통제초소운영 등)(성립전) | F15: 496000 | G15: 0 | H15: =IF(SUMPRODUCT(COUNTIF(C15,{"*본예산*","*1회추경*","*신규*"})),"-",F15-G15) -> 496000 | J15: 663000 | K15: =F15+I15+J15 -> 1159000 | N15: =F15+L15+M15 -> 496000 | O15: 농림축산식품부 방역총괄과-5800(2014.9.3)호 근거 | P15: 국비 | Q15: 663000 | S15: =IF((L15+M15)=(Q15+R15),"ok","검토") -> 검토
B16: 추가 | C16: 신규 | D16: 동물방역위생과 | E16: AI 구제역 방역비 | F16: 0 | G16: 0 | H16: =IF(SUMPRODUCT(COUNTIF(C16,{"*본예산*","*1회추경*","*신규*"})),"-",F16-G16) -> - | J16: 420000 | K16: =F16+I16+J16 -> 420000 | N16: =F16+L16+M16 -> 0 | O16: 농림축산식품부 방역총괄과-5800(2014.9.3)호 근거 | P16: 국비 | Q16: 420000 | S16: =IF((L16+M16)=(Q16+R16),"ok","검토") -> 검토
B17: 1회 | C17: 482 | D17: 동물방역위생과 | E17: 유기동물보호시설 설치지원(용인시) | F17: 300000 | G17: 0 | H17: =IF(SUMPRODUCT(COUNTIF(C17,{"*본예산*","*1회추경*","*신규*"})),"-",F17-G17) -> 300000 | J17: 210000 | K17: =F17+I17+J17 -> 510000 | O17: 국비매칭 도비부담액 반영 | P17: 도비 | R17: 210000 | S17: =IF((L17+M17)=(Q17+R17),"ok","검토") -> 검토
B18: 1회 | C18: 481 | D18: 동물방역위생과 | E18: 살처분보상금지원 | F18: 21600000 | G18: 6000000 | H18: =IF(SUMPRODUCT(COUNTIF(C18,{"*본예산*","*1회추경*","*신규*"})),"-",F18-G18) -> 15600000 | J18: 1320000 | K18: =F18+I18+J18 -> 22920000 | O18: 국비매칭 도비부담액 반영 | P18: 도비 | R18: 1320000 | S18: =IF((L18+M18)=(Q18+R18),"ok","검토") -> 검토
B19: 추가 | C19: 본예산873 | D19: 축산정책과 | E19: 가축분뇨처리시설 지원 | F19: 4686200 | H19: =IF(SUMPRODUCT(COUNTIF(C19,{"*본예산*","*1회추경*","*신규*"})),"-",F19-G19) -> - | J19: 585000 | K19: =F19+I19+J19 -> 5271200 | O19: 국비매칭 도비부담액 반영 | P19: 도비 | R19: 585000 | S19: =IF((L19+M19)=(Q19+R19),"ok","검토") -> 검토
B20: 추가 | C20: 본예산874 | D20: 축산정책과 | E20: 축산환경개선사업 | F20: 327250 | H20: =IF(SUMPRODUCT(COUNTIF(C20,{"*본예산*","*1회추경*","*신규*"})),"-",F20-G20) -> - | J20: 200000 | K20: =F20+I20+J20 -> 527250 | O20: 도비 부담액 반영 | P20: 도비 | R20: 200000 | S20: =IF((L20+M20)=(Q20+R20),"ok","검토") -> 검토
B21: 농업기술원 | F21: =SUM(F22:F23) -> 0 | G21: =SUM(G22:G23) -> 0 | H21: =SUM(H22:H23) -> 0 | I21: =SUM(I22:I23) -> 0 | J21: =SUM(J22:J23) -> 0 | K21: =SUM(K22:K23) -> 0 | L21: =SUM(L22:L23) -> 0 | M21: =SUM(M22:M23) -> 0 | N21: =SUM(N22:N23) -> 0 | Q21: =SUM(Q22:Q23) -> 0 | R21: =SUM(R22:R23) -> 0 | S21: =IF((L21+M21)=(Q21+R21),"ok","검토") -> ok
G22: 0 | H22: =IF(SUMPRODUCT(COUNTIF(C22,{"*본예산*","*1회추경*","*신규*"})),"-",F22-G22) -> 0 | K22: =F22+I22+J22 -> 0 | N22: =F22+L22+M22 -> 0 | S22: =IF((L22+M22)=(Q22+R22),"ok","검토") -> ok
H23: =IF(SUMPRODUCT(COUNTIF(C23,{"*본예산*","*1회추경*","*신규*"})),"-",F23-G23) -> 0 | K23: =F23+I23+J23 -> 0 | N23: =F23+L23+M23 -> 0 | S23: =IF((L23+M23)=(Q23+R23),"ok","검토") -> ok

Sheet Sheet3
