Workbook

Sheet 상임 표지
D2: 2014년도 제1회 일반회계 및 특별회계 추가경정 세입·세출 예산안
D4: 상 임 위 계 수 조 정 결 과
D16: 예산결산특별위원회

Sheet 예결 표지
B5: 2014년도 제1회 일반회계 및 특별회계 추가경정 세입·세출 예산안
B7: 예결위 계수조정 결과
B33: 예산결산특별위원회

Sheet 예결 표지(가로)
B3: 2014년도 제1회 일반회계 및 특별회계 추가경정 세입·세출 예산안
B5: 예결위 계수조정 결과
B24: 예산결산특별위원회

Sheet 총괄표
B1: '14년도 제1회 추경 일반 및 특별회계 세입·세출 예산 수정안[전체예산총괄]
B3: □ 총 괄 | D3: 세입예산증감 | E3: =SUM(D7:E7) -> 3134642 | F3: 세출예산증감 | G3: =SUM(F7:G7) -> 3134642
H4: (단위:천원) | M4: (일반+특별+기금) | O4: 특별+기금
B5: 구 분 | C5: 집행부제출(안) | D5: 세입예산(안) | F5: 세출예산(안) | H5: 예산수정(안) | I5: 일반회계 증감(총괄표) | K5: 예비비증감 | L5: 비 고 | M5: 전체 증감(시트) | O5: 비고
D6: 감 액 | E6: 증 액 | F6: 감 액 | G6: 증 액 | I6: 세입 | J6: 세출 | M6: 세입 | N6: 세출
B7: 합 계 | C7: =SUM(C8:C18) -> 17802852244 | D7: =SUM(D8:D18) -> -200161 | E7: =SUM(E8:E18) -> 3334803 | F7: =SUM(F8:F18) -> -18673514 | G7: =SUM(G8:G18) -> 21808156 | H7: =SUM(H8:H18) -> 17805986886 | I7: =E25+D25 -> 3134642 | J7: =F25+G25 -> 3134642 | K7: =I7-J7 -> 0 | L7: 예비비 증감이 - 예산이면 감액에 + 예산이면 증액에 입력 | M7: =D24+E24 -> 3134642 | N7: =F24+G24 -> 3134642 | O7: 0 | P7: 0
B8: 기 타 | C8: 0 | H8: =C8-F8+G8 -> 0 | I8: =D7+E7 -> 3134642 | J8: =F7+G7 -> 3134642 | K8: =I8-J8 -> 0
B9: 의회운영위원회 | C9: 39922113 | D9: =SUMIFS('일반 세입'!$L$7:$L$1000,'일반 세입'!$A$7:$A$1000,총괄표!$B9) -> 0 | E9: =SUMIFS('일반 세입'!$M$7:$M$1000,'일반 세입'!$A$7:$A$1000,총괄표!$B9) -> 0 | F9: =SUMIFS('일반 세출'!$L$7:$L$1001,'일반 세출'!$A$7:$A$1001,총괄표!$B9) -> -1040000 | G9: =SUMIFS('일반 세출'!$M$7:$M$1001,'일반 세출'!$A$7:$A$1001,총괄표!$B9) -> 60920 | H9: =C9+F9+G9 -> 38943033 | I9: 일반회계 증감(시트) | N9: 전체 증감
B10: 기획재정위원회 | C10: 5083518101 | D10: =SUMIFS('일반 세입'!$L$7:$L$1000,'일반 세입'!$A$7:$A$1000,총괄표!$B10) -> 0 | E10: =SUMIFS('일반 세입'!$M$7:$M$1000,'일반 세입'!$A$7:$A$1000,총괄표!$B10) -> 0 | F10: =SUMIFS('일반 세출'!$L$7:$L$1001,'일반 세출'!$A$7:$A$1001,총괄표!$B10) -> -14046635 | G10: =SUMIFS('일반 세출'!$M$7:$M$1001,'일반 세출'!$A$7:$A$1001,총괄표!$B10) -> 0 | H10: =C10+F10+G10 -> 5069471466 | I10: ='일반 세입'!L6+'일반 세입'!M6 -> 3134642 | J10: =#REF!+#REF! -> #REF! | N10: =M7-N7 -> 0
B11: 경제과학기술위원회 | C11: 540073060 | D11: =SUMIFS('일반 세입'!$L$7:$L$1000,'일반 세입'!$A$7:$A$1000,총괄표!$B11) -> 0 | E11: =SUMIFS('일반 세입'!$M$7:$M$1000,'일반 세입'!$A$7:$A$1000,총괄표!$B11) -> 0 | F11: =SUMIFS('일반 세출'!$L$7:$L$1001,'일반 세출'!$A$7:$A$1001,총괄표!$B11) -> -180000 | G11: =SUMIFS('일반 세출'!$M$7:$M$1001,'일반 세출'!$A$7:$A$1001,총괄표!$B11) -> 1660000 | H11: =C11+F11+G11 -> 541553060
B12: 안전행정위원회 | C12: 1142858974 | D12: =SUMIFS('일반 세입'!$L$7:$L$1000,'일반 세입'!$A$7:$A$1000,총괄표!$B12) -> 0 | E12: =SUMIFS('일반 세입'!$M$7:$M$1000,'일반 세입'!$A$7:$A$1000,총괄표!$B12) -> 1421 | F12: =SUMIFS('일반 세출'!$L$7:$L$1001,'일반 세출'!$A$7:$A$1001,총괄표!$B12) -> -1302695 | G12: =SUMIFS('일반 세출'!$M$7:$M$1001,'일반 세출'!$A$7:$A$1001,총괄표!$B12) -> 5514421 | H12: =C12+F12+G12 -> 1147070700
B13: 문화체육관광위원회 | C13: 276727608 | D13: =SUMIFS('일반 세입'!$L$7:$L$1000,'일반 세입'!$A$7:$A$1000,총괄표!$B13) -> 0 | E13: =SUMIFS('일반 세입'!$M$7:$M$1000,'일반 세입'!$A$7:$A$1000,총괄표!$B13) -> 10000 | F13: =SUMIFS('일반 세출'!$L$7:$L$1001,'일반 세출'!$A$7:$A$1001,총괄표!$B13) -> -1792534 | G13: =SUMIFS('일반 세출'!$M$7:$M$1001,'일반 세출'!$A$7:$A$1001,총괄표!$B13) -> 2632534 | H13: =C13+F13+G13 -> 277567608 | N13: 기금
B14: 농정해양위원회 | C14: 466978999 | D14: =SUMIFS('일반 세입'!$L$7:$L$1000,'일반 세입'!$A$7:$A$1000,총괄표!$B14) -> 0 | E14: =SUMIFS('일반 세입'!$M$7:$M$1000,'일반 세입'!$A$7:$A$1000,총괄표!$B14) -> 1094246 | F14: =SUMIFS('일반 세출'!$L$7:$L$1001,'일반 세출'!$A$7:$A$1001,총괄표!$B14) -> 0 | G14: =SUMIFS('일반 세출'!$M$7:$M$1001,'일반 세출'!$A$7:$A$1001,총괄표!$B14) -> 3584246 | H14: =C14+F14+G14 -> 470563245 | N14: =N10-K7 -> 0
B15: 보건복지위원회 | C15: 3254006708 | D15: =SUMIFS('일반 세입'!$L$7:$L$1000,'일반 세입'!$A$7:$A$1000,총괄표!$B15) -> -200161 | E15: =SUMIFS('일반 세입'!$M$7:$M$1000,'일반 세입'!$A$7:$A$1000,총괄표!$B15) -> 3320 | F15: =SUMIFS('일반 세출'!$L$7:$L$1001,'일반 세출'!$A$7:$A$1001,총괄표!$B15) -> -171650 | G15: =SUMIFS('일반 세출'!$M$7:$M$1001,'일반 세출'!$A$7:$A$1001,총괄표!$B15) -> 627175 | H15: =C15+F15+G15 -> 3254462233
B16: 건설교통위원회 | C16: 1220859831 | D16: =SUMIFS('일반 세입'!$L$7:$L$1000,'일반 세입'!$A$7:$A$1000,총괄표!$B16) -> 0 | E16: =SUMIFS('일반 세입'!$M$7:$M$1000,'일반 세입'!$A$7:$A$1000,총괄표!$B16) -> 0 | F16: =SUMIFS('일반 세출'!$L$7:$L$1001,'일반 세출'!$A$7:$A$1001,총괄표!$B16) -> -40000 | G16: =SUMIFS('일반 세출'!$M$7:$M$1001,'일반 세출'!$A$7:$A$1001,총괄표!$B16) -> 5160000 | H16: =C16+F16+G16 -> 1225979831
B17: 도시환경위원회 | C17: 895323933 | D17: =SUMIFS('일반 세입'!$L$7:$L$1000,'일반 세입'!$A$7:$A$1000,총괄표!$B17) -> 0 | E17: =SUMIFS('일반 세입'!$M$7:$M$1000,'일반 세입'!$A$7:$A$1000,총괄표!$B17) -> 0 | F17: =SUMIFS('일반 세출'!$L$7:$L$1001,'일반 세출'!$A$7:$A$1001,총괄표!$B17) -> -50000 | G17: =SUMIFS('일반 세출'!$M$7:$M$1001,'일반 세출'!$A$7:$A$1001,총괄표!$B17) -> 53000 | H17: =C17+F17+G17 -> 895326933
B18: 여성가족평생교육위원회 | C18: 4882582917 | D18: =SUMIFS('일반 세입'!$L$7:$L$1000,'일반 세입'!$A$7:$A$1000,총괄표!$B18) -> 0 | E18: =SUMIFS('일반 세입'!$M$7:$M$1000,'일반 세입'!$A$7:$A$1000,총괄표!$B18) -> 2225816 | F18: =SUMIFS('일반 세출'!$L$7:$L$1001,'일반 세출'!$A$7:$A$1001,총괄표!$B18) -> -50000 | G18: =SUMIFS('일반 세출'!$M$7:$M$1001,'일반 세출'!$A$7:$A$1001,총괄표!$B18) -> 2515860 | H18: =C18+F18+G18 -> 4885048777
B20: □ 회계별 예산총규모
H21: (단위:천원)
B22: 구 분 | C22: 세출예산액 (집행부제출 안) | D22: 세입예산(안) | F22: 세출예산(안) | H22: 예산수정(안)
D23: 감 액 | E23: 증 액 | F23: 감 액 | G23: 증 액 | I23: 세입기준 수정예산안
B24: 합 계 | C24: =SUM(C25:C26) -> 17802852244 | D24: =SUM(D25:D26) -> -200161 | E24: =SUM(E25:E26) -> 3334803 | F24: =SUM(F25:F26) -> -18673514 | G24: =SUM(G25:G26) -> 21808156 | H24: =SUM(H25:H26) -> 17805986886 | I24: =C24+D24+E24 -> 17805986886 | J24: =I24-H24 -> 0 | K24: (세출기준-세입기준)
B25: 일반회계 | C25: 14332606235 | D25: ='일반 세입'!L6 -> -200161 | E25: ='일반 세입'!M6 -> 3334803 | F25: ='일반 세출'!L6 -> -18673514 | G25: ='일반 세출'!M6 -> 21808156 | H25: =C25+F25+G25 -> 14335740877 | I25: =C25+D25+E25 -> 14335740877 | J25: =I25-H25 -> 0 | K25: (세출기준-세입기준)
B26: 특별회계 | C26: 3470246009 | H26: =C26+F26+G26 -> 3470246009 | I26: =C26+D26+E26 -> 3470246009 | J26: =I26-H26 -> 0 | K26: (세출기준-세입기준)
B30: 위원회명 | C30: 일반+기특 | D30: 공기업 | E30: 합계
B31: 의회운영위원회 | C31: 39922113 | E31: =SUM(C31:D31) -> 39922113
B32: 기획재정위원회 | C32: 3302571667 | D32: 1780946434 | E32: =SUM(C32:D32) -> 5083518101
B33: 경제과학기술위원회 | C33: 155329320 | D33: 384743740 | E33: =SUM(C33:D33) -> 540073060
B34: 안전행정위원회 | C34: 1142858974 | E34: =SUM(C34:D34) -> 1142858974
B35: 문화체육관광위원회 | C35: 224243208 | D35: 52484400 | E35: =SUM(C35:D35) -> 276727608
B36: 농정해양위원회 | C36: 466978999 | E36: =SUM(C36:D36) -> 466978999
B37: 보건복지위원회 | C37: 3254006708 | E37: =SUM(C37:D37) -> 3254006708
B38: 건설교통위원회 | C38: 1220859831 | E38: =SUM(C38:D38) -> 1220859831
B39: 도시환경위원회 | C39: 866963933 | D39: 28360000 | E39: =SUM(C39:D39) -> 895323933
B40: 여성가족평생교육위원회 | C40: 4882582917 | E40: =SUM(C40:D40) -> 4882582917
B41: 총합계 | C41: =SUM(C31:C40) -> 15556317670 | D41: =SUM(D31:D40) -> 2246534574 | E41: =SUM(C41:D41) -> 17802852244
B43: 예비비 | C43: =3922478-221377 -> 3701101
I160: ◦ 본청 83,000 증 ◦ 북부청 377,000 증
K290: -50000

Sheet 총괄표(실국별)
B1: '14년도 제1회 추경 일반 및 특별회계 세입·세출 예산 수정안[전체예산총괄]
B3: □ 총괄(실국별) | E3: =SUM(D7:E7) -> 3134642 | G3: =SUM(F7:G7) -> #REF!
H4: (단위:천원) | M4: (일반+특별+기금) | O4: 특별+기금
B5: 구 분 | C5: 집행부제출(안) | D5: 세입예산(안) | F5: 세출예산(안) | H5: 예산수정(안) | I5: 일반회계 증감(총괄표) | K5: 예비비증감 | L5: 비 고 | M5: 전체 증감(시트) | O5: 비고
D6: 감 액 | E6: 증 액 | F6: 감 액 | G6: 증 액 | I6: 세입 | J6: 세출 | M6: 세입 | N6: 세출
B7: 합 계 | C7: =SUM(C8:C36) -> 17802852244 | D7: =SUM(D8:D36) -> -200161 | E7: =SUM(E8:E36) -> 3334803 | F7: =SUM(F8:F36) -> #REF! | G7: =SUM(G8:G36) -> #REF! | H7: =SUM(H8:H36) -> #REF! | I7: =#REF!+#REF! -> #REF! | J7: =#REF!+#REF! -> #REF! | K7: =I7-J7 -> #REF! | L7: 예비비 증감이 - 예산이면 감액에 + 예산이면 증액에 입력 | M7: =#REF!+#REF! -> #REF! | N7: =#REF!+#REF! -> #REF! | O7: 0 | P7: 0
B8: 감사관 | C8: 914581 | D8: =SUMIFS('일반 세입'!$L$7:$L$1000,'일반 세입'!$B$7:$B$1000,'총괄표(실국별)'!$B8) -> 0 | E8: =SUMIFS('일반 세입'!$M$7:$M$1000,'일반 세입'!$B$7:$B$1000,'총괄표(실국별)'!$B8) -> 0 | F8: =SUMIFS(#REF!,#REF!,'총괄표(실국별)'!$B8) -> #REF! | G8: =SUMIFS(#REF!,#REF!,'총괄표(실국별)'!$B8) -> #REF! | H8: =C8+F8+G8 -> #REF! | I8: 일반회계 증감(시트) | N8: 전체 증감
B9: 기획조정실 | C9: 4900754235 | D9: =SUMIFS('일반 세입'!$L$7:$L$1000,'일반 세입'!$B$7:$B$1000,'총괄표(실국별)'!$B9) -> 0 | E9: =SUMIFS('일반 세입'!$M$7:$M$1000,'일반 세입'!$B$7:$B$1000,'총괄표(실국별)'!$B9) -> 0 | F9: =SUMIFS(#REF!,#REF!,'총괄표(실국별)'!$B9) -> #REF! | G9: =SUMIFS(#REF!,#REF!,'총괄표(실국별)'!$B9) -> #REF! | H9: =C9+F9+G9 -> #REF! | I9: ='일반 세입'!#REF!+'일반 세입'!#REF! -> #REF! | J9: =#REF!+#REF! -> #REF! | N9: =#REF!-#REF! -> #REF!
B10: 도시주택실 | C10: 218469521 | D10: =SUMIFS('일반 세입'!$L$7:$L$1000,'일반 세입'!$B$7:$B$1000,'총괄표(실국별)'!$B10) -> 0 | E10: =SUMIFS('일반 세입'!$M$7:$M$1000,'일반 세입'!$B$7:$B$1000,'총괄표(실국별)'!$B10) -> 0 | F10: =SUMIFS(#REF!,#REF!,'총괄표(실국별)'!$B10) -> #REF! | G10: =SUMIFS(#REF!,#REF!,'총괄표(실국별)'!$B10) -> #REF! | H10: =C10+F10+G10 -> #REF! | I10: ='일반 세입'!#REF!+'일반 세입'!#REF! -> #REF! | J10: =#REF!+#REF! -> #REF! | N10: =#REF!-#REF! -> #REF!
B11: 자치행정국 | C11: 544196314 | D11: =SUMIFS('일반 세입'!$L$7:$L$1000,'일반 세입'!$B$7:$B$1000,'총괄표(실국별)'!$B11) -> 0 | E11: =SUMIFS('일반 세입'!$M$7:$M$1000,'일반 세입'!$B$7:$B$1000,'총괄표(실국별)'!$B11) -> 1421 | F11: =SUMIFS(#REF!,#REF!,'총괄표(실국별)'!$B11) -> #REF! | G11: =SUMIFS(#REF!,#REF!,'총괄표(실국별)'!$B11) -> #REF! | H11: =C11+F11+G11 -> #REF!
B12: 문화체육관광국 | C12: 276727608 | D12: =SUMIFS('일반 세입'!$L$7:$L$1000,'일반 세입'!$B$7:$B$1000,'총괄표(실국별)'!$B12) -> 0 | E12: =SUMIFS('일반 세입'!$M$7:$M$1000,'일반 세입'!$B$7:$B$1000,'총괄표(실국별)'!$B12) -> 10000 | F12: =SUMIFS(#REF!,#REF!,'총괄표(실국별)'!$B12) -> #REF! | G12: =SUMIFS(#REF!,#REF!,'총괄표(실국별)'!$B12) -> #REF! | H12: =C12+F12+G12 -> #REF!
B13: 농정해양국 | C13: 249710070 | D13: =SUMIFS('일반 세입'!$L$7:$L$1000,'일반 세입'!$B$7:$B$1000,'총괄표(실국별)'!$B13) -> 0 | E13: =SUMIFS('일반 세입'!$M$7:$M$1000,'일반 세입'!$B$7:$B$1000,'총괄표(실국별)'!$B13) -> 5067 | F13: =SUMIFS(#REF!,#REF!,'총괄표(실국별)'!$B13) -> #REF! | G13: =SUMIFS(#REF!,#REF!,'총괄표(실국별)'!$B13) -> #REF! | H13: =C13+F13+G13 -> #REF! | N13: 기금
B14: 보건복지국 | C14: 2571625696 | D14: =SUMIFS('일반 세입'!$L$7:$L$1000,'일반 세입'!$B$7:$B$1000,'총괄표(실국별)'!$B14) -> -200161 | E14: =SUMIFS('일반 세입'!$M$7:$M$1000,'일반 세입'!$B$7:$B$1000,'총괄표(실국별)'!$B14) -> 3320 | F14: =SUMIFS(#REF!,#REF!,'총괄표(실국별)'!$B14) -> #REF! | G14: =SUMIFS(#REF!,#REF!,'총괄표(실국별)'!$B14) -> #REF! | H14: =C14+F14+G14 -> #REF! | N14: =N10-#REF! -> #REF!
B15: 환경국 | C15: 94671441 | D15: =SUMIFS('일반 세입'!$L$7:$L$1000,'일반 세입'!$B$7:$B$1000,'총괄표(실국별)'!$B15) -> 0 | E15: =SUMIFS('일반 세입'!$M$7:$M$1000,'일반 세입'!$B$7:$B$1000,'총괄표(실국별)'!$B15) -> 0 | F15: =SUMIFS(#REF!,#REF!,'총괄표(실국별)'!$B15) -> #REF! | G15: =SUMIFS(#REF!,#REF!,'총괄표(실국별)'!$B15) -> #REF! | H15: =C15+F15+G15 -> #REF!
B16: 철도물류국 | C16: 107956457 | D16: =SUMIFS('일반 세입'!$L$7:$L$1000,'일반 세입'!$B$7:$B$1000,'총괄표(실국별)'!$B16) -> 0 | E16: =SUMIFS('일반 세입'!$M$7:$M$1000,'일반 세입'!$B$7:$B$1000,'총괄표(실국별)'!$B16) -> 0 | F16: =SUMIFS(#REF!,#REF!,'총괄표(실국별)'!$B16) -> #REF! | G16: =SUMIFS(#REF!,#REF!,'총괄표(실국별)'!$B16) -> #REF! | H16: =C16+F16+G16 -> #REF!
B17: 여성가족국 | C17: 1879955306 | D17: =SUMIFS('일반 세입'!$L$7:$L$1000,'일반 세입'!$B$7:$B$1000,'총괄표(실국별)'!$B17) -> 0 | E17: =SUMIFS('일반 세입'!$M$7:$M$1000,'일반 세입'!$B$7:$B$1000,'총괄표(실국별)'!$B17) -> 2225816 | F17: =SUMIFS(#REF!,#REF!,'총괄표(실국별)'!$B17) -> #REF! | G17: =SUMIFS(#REF!,#REF!,'총괄표(실국별)'!$B17) -> #REF! | H17: =C17+F17+G17 -> #REF!
B18: 소방재난본부 | C18: 475412376 | D18: =SUMIFS('일반 세입'!$L$7:$L$1000,'일반 세입'!$B$7:$B$1000,'총괄표(실국별)'!$B18) -> 0 | E18: =SUMIFS('일반 세입'!$M$7:$M$1000,'일반 세입'!$B$7:$B$1000,'총괄표(실국별)'!$B18) -> 0 | F18: =SUMIFS(#REF!,#REF!,'총괄표(실국별)'!$B18) -> #REF! | G18: =SUMIFS(#REF!,#REF!,'총괄표(실국별)'!$B18) -> #REF! | H18: =C18+F18+G18 -> #REF! | I18: ='일반 세입'!#REF!+'일반 세입'!#REF! -> #REF! | J18: =#REF!+#REF! -> #REF! | N18: =#REF!-#REF! -> #REF!
B19: 경제투자실 | C19: 532996110 | D19: =SUMIFS('일반 세입'!$L$7:$L$1000,'일반 세입'!$B$7:$B$1000,'총괄표(실국별)'!$B19) -> 0 | E19: =SUMIFS('일반 세입'!$M$7:$M$1000,'일반 세입'!$B$7:$B$1000,'총괄표(실국별)'!$B19) -> 0 | F19: =SUMIFS(#REF!,#REF!,'총괄표(실국별)'!$B19) -> #REF! | G19: =SUMIFS(#REF!,#REF!,'총괄표(실국별)'!$B19) -> #REF! | H19: =C19+F19+G19 -> #REF!
B20: 대변인 | C20: 9607826 | D20: =SUMIFS('일반 세입'!$L$7:$L$1000,'일반 세입'!$B$7:$B$1000,'총괄표(실국별)'!$B20) -> 0 | E20: =SUMIFS('일반 세입'!$M$7:$M$1000,'일반 세입'!$B$7:$B$1000,'총괄표(실국별)'!$B20) -> 0 | F20: =SUMIFS(#REF!,#REF!,'총괄표(실국별)'!$B20) -> #REF! | G20: =SUMIFS(#REF!,#REF!,'총괄표(실국별)'!$B20) -> #REF! | H20: =C20+F20+G20 -> #REF!
B21: 대외협력담당관 | C21: 384069 | D21: =SUMIFS('일반 세입'!$L$7:$L$1000,'일반 세입'!$B$7:$B$1000,'총괄표(실국별)'!$B21) -> 0 | E21: =SUMIFS('일반 세입'!$M$7:$M$1000,'일반 세입'!$B$7:$B$1000,'총괄표(실국별)'!$B21) -> 0 | F21: =SUMIFS(#REF!,#REF!,'총괄표(실국별)'!$B21) -> #REF! | G21: =SUMIFS(#REF!,#REF!,'총괄표(실국별)'!$B21) -> #REF! | H21: =C21+F21+G21 -> #REF! | N21: 기금
B22: 복지여성실 | C22: 1353512493 | D22: =SUMIFS('일반 세입'!$L$7:$L$1000,'일반 세입'!$B$7:$B$1000,'총괄표(실국별)'!$B22) -> 0 | E22: =SUMIFS('일반 세입'!$M$7:$M$1000,'일반 세입'!$B$7:$B$1000,'총괄표(실국별)'!$B22) -> 0 | F22: =SUMIFS(#REF!,#REF!,'총괄표(실국별)'!$B22) -> #REF! | G22: =SUMIFS(#REF!,#REF!,'총괄표(실국별)'!$B22) -> #REF! | H22: =C22+F22+G22 -> #REF! | N22: =N18-#REF! -> #REF!
B23: 안전행정실 | C23: 69450506 | D23: =SUMIFS('일반 세입'!$L$7:$L$1000,'일반 세입'!$B$7:$B$1000,'총괄표(실국별)'!$B23) -> 0 | E23: =SUMIFS('일반 세입'!$M$7:$M$1000,'일반 세입'!$B$7:$B$1000,'총괄표(실국별)'!$B23) -> 0 | F23: =SUMIFS(#REF!,#REF!,'총괄표(실국별)'!$B23) -> #REF! | G23: =SUMIFS(#REF!,#REF!,'총괄표(실국별)'!$B23) -> #REF! | H23: =C23+F23+G23 -> #REF!
B24: 균형발전국 | C24: 173302168 | D24: =SUMIFS('일반 세입'!$L$7:$L$1000,'일반 세입'!$B$7:$B$1000,'총괄표(실국별)'!$B24) -> 0 | E24: =SUMIFS('일반 세입'!$M$7:$M$1000,'일반 세입'!$B$7:$B$1000,'총괄표(실국별)'!$B24) -> 0 | F24: =SUMIFS(#REF!,#REF!,'총괄표(실국별)'!$B24) -> #REF! | G24: =SUMIFS(#REF!,#REF!,'총괄표(실국별)'!$B24) -> #REF! | H24: =C24+F24+G24 -> #REF!
B25: 평생교육국 | C25: 2325292998 | D25: =SUMIFS('일반 세입'!$L$7:$L$1000,'일반 세입'!$B$7:$B$1000,'총괄표(실국별)'!$B25) -> 0 | E25: =SUMIFS('일반 세입'!$M$7:$M$1000,'일반 세입'!$B$7:$B$1000,'총괄표(실국별)'!$B25) -> 0 | F25: =SUMIFS(#REF!,#REF!,'총괄표(실국별)'!$B25) -> #REF! | G25: =SUMIFS(#REF!,#REF!,'총괄표(실국별)'!$B25) -> #REF! | H25: =C25+F25+G25 -> #REF!
B26: 축산산림국 | C26: 193048941 | D26: =SUMIFS('일반 세입'!$L$7:$L$1000,'일반 세입'!$B$7:$B$1000,'총괄표(실국별)'!$B26) -> 0 | E26: =SUMIFS('일반 세입'!$M$7:$M$1000,'일반 세입'!$B$7:$B$1000,'총괄표(실국별)'!$B26) -> 1089179 | F26: =SUMIFS(#REF!,#REF!,'총괄표(실국별)'!$B26) -> #REF! | G26: =SUMIFS(#REF!,#REF!,'총괄표(실국별)'!$B26) -> #REF! | H26: =C26+F26+G26 -> #REF! | I26: ='일반 세입'!L1+'일반 세입'!M1 -> 0 | J26: =#REF!+#REF! -> #REF! | N26: =M2-N2 -> 0
B27: 교통건설국 | C27: 866196185 | D27: =SUMIFS('일반 세입'!$L$7:$L$1000,'일반 세입'!$B$7:$B$1000,'총괄표(실국별)'!$B27) -> 0 | E27: =SUMIFS('일반 세입'!$M$7:$M$1000,'일반 세입'!$B$7:$B$1000,'총괄표(실국별)'!$B27) -> 0 | F27: =SUMIFS(#REF!,#REF!,'총괄표(실국별)'!$B27) -> #REF! | G27: =SUMIFS(#REF!,#REF!,'총괄표(실국별)'!$B27) -> #REF! | H27: =C27+F27+G27 -> #REF!
B28: 북부소방재난본부 | C28: 1402108 | D28: =SUMIFS('일반 세입'!$L$7:$L$1000,'일반 세입'!$B$7:$B$1000,'총괄표(실국별)'!$B28) -> 0 | E28: =SUMIFS('일반 세입'!$M$7:$M$1000,'일반 세입'!$B$7:$B$1000,'총괄표(실국별)'!$B28) -> 0 | F28: =SUMIFS(#REF!,#REF!,'총괄표(실국별)'!$B28) -> #REF! | G28: =SUMIFS(#REF!,#REF!,'총괄표(실국별)'!$B28) -> #REF! | H28: =C28+F28+G28 -> #REF!
B29: 의회사무처 | C29: 29930218 | D29: =SUMIFS('일반 세입'!$L$7:$L$1000,'일반 세입'!$B$7:$B$1000,'총괄표(실국별)'!$B29) -> 0 | E29: =SUMIFS('일반 세입'!$M$7:$M$1000,'일반 세입'!$B$7:$B$1000,'총괄표(실국별)'!$B29) -> 0 | F29: =SUMIFS(#REF!,#REF!,'총괄표(실국별)'!$B29) -> #REF! | G29: =SUMIFS(#REF!,#REF!,'총괄표(실국별)'!$B29) -> #REF! | H29: =C29+F29+G29 -> #REF! | N29: 기금
B30: 농업기술원 | C30: 39275302 | D30: =SUMIFS('일반 세입'!$L$7:$L$1000,'일반 세입'!$B$7:$B$1000,'총괄표(실국별)'!$B30) -> 0 | E30: =SUMIFS('일반 세입'!$M$7:$M$1000,'일반 세입'!$B$7:$B$1000,'총괄표(실국별)'!$B30) -> 0 | F30: =SUMIFS(#REF!,#REF!,'총괄표(실국별)'!$B30) -> #REF! | G30: =SUMIFS(#REF!,#REF!,'총괄표(실국별)'!$B30) -> #REF! | H30: =C30+F30+G30 -> #REF! | N30: =N26-K2 -> 0
B31: 인재개발원 | C31: 8910247 | D31: =SUMIFS('일반 세입'!$L$7:$L$1000,'일반 세입'!$B$7:$B$1000,'총괄표(실국별)'!$B31) -> 0 | E31: =SUMIFS('일반 세입'!$M$7:$M$1000,'일반 세입'!$B$7:$B$1000,'총괄표(실국별)'!$B31) -> 0 | F31: =SUMIFS(#REF!,#REF!,'총괄표(실국별)'!$B31) -> #REF! | G31: =SUMIFS(#REF!,#REF!,'총괄표(실국별)'!$B31) -> #REF! | H31: =C31+F31+G31 -> #REF! | I31: ='일반 세입'!L6+'일반 세입'!M6 -> 3134642 | J31: =#REF!+#REF! -> #REF! | N31: =M7-N7 -> #REF!
B32: 보건환경연구원 | C32: 9409184 | D32: =SUMIFS('일반 세입'!$L$7:$L$1000,'일반 세입'!$B$7:$B$1000,'총괄표(실국별)'!$B32) -> 0 | E32: =SUMIFS('일반 세입'!$M$7:$M$1000,'일반 세입'!$B$7:$B$1000,'총괄표(실국별)'!$B32) -> 0 | F32: =SUMIFS(#REF!,#REF!,'총괄표(실국별)'!$B32) -> #REF! | G32: =SUMIFS(#REF!,#REF!,'총괄표(실국별)'!$B32) -> #REF! | H32: =C32+F32+G32 -> #REF!
B33: 팔당수질개선본부 | C33: 563921605 | D33: =SUMIFS('일반 세입'!$L$7:$L$1000,'일반 세입'!$B$7:$B$1000,'총괄표(실국별)'!$B33) -> 0 | E33: =SUMIFS('일반 세입'!$M$7:$M$1000,'일반 세입'!$B$7:$B$1000,'총괄표(실국별)'!$B33) -> 0 | F33: =SUMIFS(#REF!,#REF!,'총괄표(실국별)'!$B33) -> #REF! | G33: =SUMIFS(#REF!,#REF!,'총괄표(실국별)'!$B33) -> #REF! | H33: =C33+F33+G33 -> #REF!
B34: 건설본부 | C34: 246707189 | D34: =SUMIFS('일반 세입'!$L$7:$L$1000,'일반 세입'!$B$7:$B$1000,'총괄표(실국별)'!$B34) -> 0 | E34: =SUMIFS('일반 세입'!$M$7:$M$1000,'일반 세입'!$B$7:$B$1000,'총괄표(실국별)'!$B34) -> 0 | F34: =SUMIFS(#REF!,#REF!,'총괄표(실국별)'!$B34) -> #REF! | G34: =SUMIFS(#REF!,#REF!,'총괄표(실국별)'!$B34) -> #REF! | H34: =C34+F34+G34 -> #REF! | N34: 기금
B35: 소방학교 | C35: 5137721 | D35: =SUMIFS('일반 세입'!$L$7:$L$1000,'일반 세입'!$B$7:$B$1000,'총괄표(실국별)'!$B35) -> 0 | E35: =SUMIFS('일반 세입'!$M$7:$M$1000,'일반 세입'!$B$7:$B$1000,'총괄표(실국별)'!$B35) -> 0 | F35: =SUMIFS(#REF!,#REF!,'총괄표(실국별)'!$B35) -> #REF! | G35: =SUMIFS(#REF!,#REF!,'총괄표(실국별)'!$B35) -> #REF! | H35: =C35+F35+G35 -> #REF! | N35: =N31-K7 -> #REF!
B36: 소방서 | C36: 53973769 | D36: =SUMIFS('일반 세입'!$L$7:$L$1000,'일반 세입'!$B$7:$B$1000,'총괄표(실국별)'!$B36) -> 0 | E36: =SUMIFS('일반 세입'!$M$7:$M$1000,'일반 세입'!$B$7:$B$1000,'총괄표(실국별)'!$B36) -> 0 | F36: =SUMIFS(#REF!,#REF!,'총괄표(실국별)'!$B36) -> #REF! | G36: =SUMIFS(#REF!,#REF!,'총괄표(실국별)'!$B36) -> #REF! | H36: =C36+F36+G36 -> #REF!
B40: 위원회명 | C40: 일반+기특 | D40: 공기업 | E40: 합계
B41: 감사관 | C41: 914581 | E41: =SUM(C41:D41) -> 914581
B42: 기획조정실 | C42: 3119807801 | D42: 1780946434 | E42: =SUM(C42:D42) -> 4900754235
B43: 도시주택실 | C43: 190109521 | D43: 28360000 | E43: =SUM(C43:D43) -> 218469521
B44: 자치행정국 | C44: 544196314 | E44: =SUM(C44:D44) -> 544196314
...

Sheet 검증
A1: 세입 = 세출 검증, 재정보전금 자동계산
F3: 1회추경 재정보전금 | G3: 2322131292 | K3: =F12-G12 -> 0
H4: (단위 : 천원) | K4: =F14-G14 -> 0
A5: 구 분 | B5: 상임위 | F5: 예결위 | J5: 최종(예결위 + 국비변경)삭제
B6: 세입 | C6: 세출 | D6: 검증 | F6: 세입 | G6: 세출 | H6: 검증 | J6: 세입 | K6: 세출 | L6: 검증
A7: 전체 총계 | B7: =SUM(B8,B11) -> 3053429 | C7: =SUM(C8,C11) -> 29008824 | F7: =SUM(F8,F11) -> 3134642 | G7: =SUM(G8,G11) -> 3134642 | J7: =SUM(J8,J11) -> 3215855 | K7: =SUM(K8,K11) -> 3228450 | L7: =IF(J7=K7,"OK","@@") -> @@
A8: 자체 총계 | B8: ='일반 세입'!X6 -> -200161 | C8: ='일반 세출'!X6 -> 25755234 | F8: ='일반 세입'!S6 -> -200161 | G8: ='일반 세출'!S6 -> -200161 | J8: ='일반 세입'!S6+'국비변경(일반 세입)(삭제)'!S6 -> -200161 | K8: ='일반 세출'!S6+'국비변경(일반 세출)(삭제)'!S6 -> -187566
A9: 자체 - 의존도비 | G9: =G8-G10 -> -490205 | K9: =K8-K10 -> -490205
A10: 의존 매칭 도비 | G10: =SUMIFS('일반 세출'!S7:S1010,'일반 세출'!Q7:Q1010,"국비")+SUMIFS('일반 세출'!S7:S1010,'일반 세출'!Q7:Q1010,"기금") -> 290044 | K10: =G10+SUMIFS('국비변경(일반 세출)(삭제)'!S7:S1000,'국비변경(일반 세출)(삭제)'!Q7:Q1000,"국비")+SUMIFS('국비변경(일반 세출)(삭제)'!S7:S1000,'국비변경(일반 세출)(삭제)'!Q7:Q1000,"기금") -> 302639
A11: 의존계 | B11: =SUM(B12:B16) -> 3253590 | C11: =SUM(C12:C16) -> 3253590 | D11: =IF(B11=C11,"OK","@@") -> OK | F11: =SUM(F12:F16) -> 3334803 | G11: =SUM(G12:G16) -> 3334803 | H11: =IF(F11=G11,"OK","@@") -> OK | J11: =SUM(J12:J16) -> 3416016 | K11: =SUM(K12:K16) -> 3416016 | L11: =IF(J11=K11,"OK","@@") -> OK
A12: 국비 | B12: =SUMIFS('일반 세입'!$W$7:$W$1008,'일반 세입'!$V$7:$V$1008,$A12) -> 1716387 | C12: =SUMIFS('일반 세출'!$W$7:$W$1028,'일반 세출'!$V$7:$V$1028,$A12) -> 1716387 | D12: =IF(B12=C12,"OK","@@") -> OK | F12: =SUMIFS('일반 세입'!$R$7:$R$1008,'일반 세입'!$Q$7:$Q$1008,$A12) -> 1747808 | G12: =SUMIFS('일반 세출'!$R$7:$R$1027,'일반 세출'!$Q$7:$Q$1027,$A12) -> 1747808 | H12: =IF(F12=G12,"OK","@@") -> OK | J12: =SUMIFS('일반 세입'!$R$7:$R$1008,'일반 세입'!$Q$7:$Q$1008,$A12)+SUMIFS('국비변경(일반 세입)(삭제)'!$R$7:$R$1000,'국비변경(일반 세입)(삭제)'!$Q$7:$Q$1000,$A12) -> 1779229 | K12: =SUMIFS('일반 세출'!$R$7:$R$1027,'일반 세출'!$Q$7:$Q$1027,$A12)+SUMIFS('국비변경(일반 세출)(삭제)'!$R$7:$R$1012,'국비변경(일반 세출)(삭제)'!$Q$7:$Q$1012,$A12) -> 1779229 | L12: =IF(J12=K12,"OK","@@") -> OK
A13: 광특 | B13: =SUMIFS('일반 세입'!$W$7:$W$1008,'일반 세입'!$V$7:$V$1008,$A13) -> 0 | C13: =SUMIFS('일반 세출'!$W$7:$W$1028,'일반 세출'!$V$7:$V$1028,$A13) -> 0 | D13: =IF(B13=C13,"OK","@@") -> OK | F13: =SUMIFS('일반 세입'!$R$7:$R$1008,'일반 세입'!$Q$7:$Q$1008,$A13) -> 0 | G13: =SUMIFS('일반 세출'!$R$7:$R$1027,'일반 세출'!$Q$7:$Q$1027,$A13) -> 0 | H13: =IF(F13=G13,"OK","@@") -> OK | J13: =SUMIFS('일반 세입'!$R$7:$R$1008,'일반 세입'!$Q$7:$Q$1008,$A13)+SUMIFS('국비변경(일반 세입)(삭제)'!$R$7:$R$1000,'국비변경(일반 세입)(삭제)'!$Q$7:$Q$1000,$A13) -> 0 | K13: =SUMIFS('일반 세출'!$R$7:$R$1027,'일반 세출'!$Q$7:$Q$1027,$A13)+SUMIFS('국비변경(일반 세출)(삭제)'!$R$7:$R$1012,'국비변경(일반 세출)(삭제)'!$Q$7:$Q$1012,$A13) -> 0 | L13: =IF(J13=K13,"OK","@@") -> OK
A14: 기금 | B14: =SUMIFS('일반 세입'!$W$7:$W$1008,'일반 세입'!$V$7:$V$1008,$A14) -> 1537203 | C14: =SUMIFS('일반 세출'!$W$7:$W$1028,'일반 세출'!$V$7:$V$1028,$A14) -> 1537203 | D14: =IF(B14=C14,"OK","@@") -> OK | F14: =SUMIFS('일반 세입'!$R$7:$R$1008,'일반 세입'!$Q$7:$Q$1008,$A14) -> 1586995 | G14: =SUMIFS('일반 세출'!$R$7:$R$1027,'일반 세출'!$Q$7:$Q$1027,$A14) -> 1586995 | H14: =IF(F14=G14,"OK","@@") -> OK | J14: =SUMIFS('일반 세입'!$R$7:$R$1008,'일반 세입'!$Q$7:$Q$1008,$A14)+SUMIFS('국비변경(일반 세입)(삭제)'!$R$7:$R$1000,'국비변경(일반 세입)(삭제)'!$Q$7:$Q$1000,$A14) -> 1636787 | K14: =SUMIFS('일반 세출'!$R$7:$R$1027,'일반 세출'!$Q$7:$Q$1027,$A14)+SUMIFS('국비변경(일반 세출)(삭제)'!$R$7:$R$1012,'국비변경(일반 세출)(삭제)'!$Q$7:$Q$1012,$A14) -> 1636787 | L14: =IF(J14=K14,"OK","@@") -> OK
A15: 분권 | B15: =SUMIFS('일반 세입'!$W$7:$W$1008,'일반 세입'!$V$7:$V$1008,$A15) -> 0 | C15: =SUMIFS('일반 세출'!$W$7:$W$1028,'일반 세출'!$V$7:$V$1028,$A15) -> 0 | D15: =IF(B15=C15,"OK","@@") -> OK | F15: =SUMIFS('일반 세입'!$R$7:$R$1008,'일반 세입'!$Q$7:$Q$1008,$A15) -> 0 | G15: =SUMIFS('일반 세출'!$R$7:$R$1027,'일반 세출'!$Q$7:$Q$1027,$A15) -> 0 | H15: =IF(F15=G15,"OK","@@") -> OK | J15: =SUMIFS('일반 세입'!$R$7:$R$1008,'일반 세입'!$Q$7:$Q$1008,$A15)+SUMIFS('국비변경(일반 세입)(삭제)'!$R$7:$R$1000,'국비변경(일반 세입)(삭제)'!$Q$7:$Q$1000,$A15) -> 0 | K15: =SUMIFS('일반 세출'!$R$7:$R$1027,'일반 세출'!$Q$7:$Q$1027,$A15)+SUMIFS('국비변경(일반 세출)(삭제)'!$R$7:$R$1012,'국비변경(일반 세출)(삭제)'!$Q$7:$Q$1012,$A15) -> 0 | L15: =IF(J15=K15,"OK","@@") -> OK
A16: 특별 | B16: =SUMIFS('일반 세입'!$W$7:$W$1008,'일반 세입'!$V$7:$V$1008,$A16) -> 0 | C16: =SUMIFS('일반 세출'!$W$7:$W$1028,'일반 세출'!$V$7:$V$1028,$A16) -> 0 | D16: =IF(B16=C16,"OK","@@") -> OK | F16: =SUMIFS('일반 세입'!$R$7:$R$1008,'일반 세입'!$Q$7:$Q$1008,$A16) -> 0 | G16: =SUMIFS('일반 세출'!$R$7:$R$1027,'일반 세출'!$Q$7:$Q$1027,$A16) -> 0 | H16: =IF(F16=G16,"OK","@@") -> OK | J16: =SUMIFS('일반 세입'!$R$7:$R$1008,'일반 세입'!$Q$7:$Q$1008,$A16)+SUMIFS('국비변경(일반 세입)(삭제)'!$R$7:$R$1000,'국비변경(일반 세입)(삭제)'!$Q$7:$Q$1000,$A16) -> 0 | K16: =SUMIFS('일반 세출'!$R$7:$R$1027,'일반 세출'!$Q$7:$Q$1027,$A16)+SUMIFS('국비변경(일반 세출)(삭제)'!$R$7:$R$1012,'국비변경(일반 세출)(삭제)'!$Q$7:$Q$1012,$A16) -> 0 | L16: =IF(J16=K16,"OK","@@") -> OK
A18: 재정보전금 조정액 | C18: =B7-C7 -> -25955395 | F18: ='일반 세출'!L20 -> -12146635 | J18: =J7-K7 -> -12595
F20: =F7-G7 -> 0 | J20: =J7-K7 -> -12595
A22: 재정보전금 조정잔액 | F22: =G3+'일반 세출'!L20 -> 2309984657 | J22: =G3+'일반 세출'!L20 -> 2309984657

Sheet 총괄표(가로)
B1: '14년도 제1회 경기도 일반 및 특별회계 세입·세출 추가경정예산 수정안[전체예산총괄]
B3: □ 총 괄 | D3: 세입예산증감 | E3: =SUM(D7:E7) -> 3134642 | F3: 세출예산증감 | G3: =SUM(F7:G7) -> 3134642 | R3: =G3-E3 -> 0
H4: (단위:천원) | M4: (일반+특별+기금) | O4: 특별+기금
B5: 구 분 | C5: 집행부제출(안) | D5: 세입예산(안) | F5: 세출예산(안) | H5: 예산수정(안) | I5: 일반회계 증감(총괄표) | K5: 예비비증감 | L5: 비 고 | M5: 전체 증감(시트) | O5: 비고
D6: 감 액 | E6: 증 액 | F6: 감 액 | G6: 증 액 | I6: 세입 | J6: 세출 | M6: 세입 | N6: 세출
B7: 합 계 | C7: =SUM(C8:C18) -> 17802852244 | D7: =SUM(D8:D18) -> -200161 | E7: =SUM(E8:E18) -> 3334803 | F7: =SUM(F8:F18) -> -18673514 | G7: =SUM(G8:G18) -> 21808156 | H7: =SUM(H8:H18) -> 17805986886 | I7: =E25+D25 -> 3134642 | J7: =F25+G25 -> 3134642 | K7: =I7-J7 -> 0 | L7: 예비비 증감이 - 예산이면 감액에 + 예산이면 증액에 입력 | M7: =D24+E24 -> 3134642 | N7: =F24+G24 -> 3134642 | O7: 0 | P7: 0
B8: 기 타 | C8: 0 | H8: =C8-F8+G8 -> 0 | I8: =D7+E7 -> 3134642 | J8: =F7+G7 -> 3134642 | K8: =I8-J8 -> 0
B9: 의회운영위원회 | C9: 39922113 | D9: =SUMIFS('일반 세입'!$L$7:$L$1000,'일반 세입'!$A$7:$A$1000,'총괄표(가로)'!$B9) -> 0 | E9: =SUMIFS('일반 세입'!$M$7:$M$1000,'일반 세입'!$A$7:$A$1000,'총괄표(가로)'!$B9) -> 0 | F9: =SUMIFS('일반 세출'!$L$7:$L$1001,'일반 세출'!$A$7:$A$1001,'총괄표(가로)'!$B9) -> -1040000 | G9: =SUMIFS('일반 세출'!$M$7:$M$1001,'일반 세출'!$A$7:$A$1001,'총괄표(가로)'!$B9) -> 60920 | H9: =C9+F9+G9 -> 38943033 | I9: 일반회계 증감(시트) | N9: 전체 증감
B10: 기획재정위원회 | C10: 5083518101 | D10: =SUMIFS('일반 세입'!$L$7:$L$1000,'일반 세입'!$A$7:$A$1000,'총괄표(가로)'!$B10) -> 0 | E10: =SUMIFS('일반 세입'!$M$7:$M$1000,'일반 세입'!$A$7:$A$1000,'총괄표(가로)'!$B10) -> 0 | F10: =SUMIFS('일반 세출'!$L$7:$L$1001,'일반 세출'!$A$7:$A$1001,'총괄표(가로)'!$B10) -> -14046635 | G10: =SUMIFS('일반 세출'!$M$7:$M$1001,'일반 세출'!$A$7:$A$1001,'총괄표(가로)'!$B10) -> 0 | H10: =C10+F10+G10 -> 5069471466 | I10: ='일반 세입'!L6+'일반 세입'!M6 -> 3134642 | J10: =#REF!+#REF! -> #REF! | N10: =M7-N7 -> 0
B11: 경제과학기술위원회 | C11: 540073060 | D11: =SUMIFS('일반 세입'!$L$7:$L$1000,'일반 세입'!$A$7:$A$1000,'총괄표(가로)'!$B11) -> 0 | E11: =SUMIFS('일반 세입'!$M$7:$M$1000,'일반 세입'!$A$7:$A$1000,'총괄표(가로)'!$B11) -> 0 | F11: =SUMIFS('일반 세출'!$L$7:$L$1001,'일반 세출'!$A$7:$A$1001,'총괄표(가로)'!$B11) -> -180000 | G11: =SUMIFS('일반 세출'!$M$7:$M$1001,'일반 세출'!$A$7:$A$1001,'총괄표(가로)'!$B11) -> 1660000 | H11: =C11+F11+G11 -> 541553060
B12: 안전행정위원회 | C12: 1142858974 | D12: =SUMIFS('일반 세입'!$L$7:$L$1000,'일반 세입'!$A$7:$A$1000,'총괄표(가로)'!$B12) -> 0 | E12: =SUMIFS('일반 세입'!$M$7:$M$1000,'일반 세입'!$A$7:$A$1000,'총괄표(가로)'!$B12) -> 1421 | F12: =SUMIFS('일반 세출'!$L$7:$L$1001,'일반 세출'!$A$7:$A$1001,'총괄표(가로)'!$B12) -> -1302695 | G12: =SUMIFS('일반 세출'!$M$7:$M$1001,'일반 세출'!$A$7:$A$1001,'총괄표(가로)'!$B12) -> 5514421 | H12: =C12+F12+G12 -> 1147070700
B13: 문화체육관광위원회 | C13: 276727608 | D13: =SUMIFS('일반 세입'!$L$7:$L$1000,'일반 세입'!$A$7:$A$1000,'총괄표(가로)'!$B13) -> 0 | E13: =SUMIFS('일반 세입'!$M$7:$M$1000,'일반 세입'!$A$7:$A$1000,'총괄표(가로)'!$B13) -> 10000 | F13: =SUMIFS('일반 세출'!$L$7:$L$1001,'일반 세출'!$A$7:$A$1001,'총괄표(가로)'!$B13) -> -1792534 | G13: =SUMIFS('일반 세출'!$M$7:$M$1001,'일반 세출'!$A$7:$A$1001,'총괄표(가로)'!$B13) -> 2632534 | H13: =C13+F13+G13 -> 277567608 | N13: 기금
B14: 농정해양위원회 | C14: 466978999 | D14: =SUMIFS('일반 세입'!$L$7:$L$1000,'일반 세입'!$A$7:$A$1000,'총괄표(가로)'!$B14) -> 0 | E14: =SUMIFS('일반 세입'!$M$7:$M$1000,'일반 세입'!$A$7:$A$1000,'총괄표(가로)'!$B14) -> 1094246 | F14: =SUMIFS('일반 세출'!$L$7:$L$1001,'일반 세출'!$A$7:$A$1001,'총괄표(가로)'!$B14) -> 0 | G14: =SUMIFS('일반 세출'!$M$7:$M$1001,'일반 세출'!$A$7:$A$1001,'총괄표(가로)'!$B14) -> 3584246 | H14: =C14+F14+G14 -> 470563245 | N14: =N10-K7 -> 0
B15: 보건복지위원회 | C15: 3254006708 | D15: =SUMIFS('일반 세입'!$L$7:$L$1000,'일반 세입'!$A$7:$A$1000,'총괄표(가로)'!$B15) -> -200161 | E15: =SUMIFS('일반 세입'!$M$7:$M$1000,'일반 세입'!$A$7:$A$1000,'총괄표(가로)'!$B15) -> 3320 | F15: =SUMIFS('일반 세출'!$L$7:$L$1001,'일반 세출'!$A$7:$A$1001,'총괄표(가로)'!$B15) -> -171650 | G15: =SUMIFS('일반 세출'!$M$7:$M$1001,'일반 세출'!$A$7:$A$1001,'총괄표(가로)'!$B15) -> 627175 | H15: =C15+F15+G15 -> 3254462233
B16: 건설교통위원회 | C16: 1220859831 | D16: =SUMIFS('일반 세입'!$L$7:$L$1000,'일반 세입'!$A$7:$A$1000,'총괄표(가로)'!$B16) -> 0 | E16: =SUMIFS('일반 세입'!$M$7:$M$1000,'일반 세입'!$A$7:$A$1000,'총괄표(가로)'!$B16) -> 0 | F16: =SUMIFS('일반 세출'!$L$7:$L$1001,'일반 세출'!$A$7:$A$1001,'총괄표(가로)'!$B16) -> -40000 | G16: =SUMIFS('일반 세출'!$M$7:$M$1001,'일반 세출'!$A$7:$A$1001,'총괄표(가로)'!$B16) -> 5160000 | H16: =C16+F16+G16 -> 1225979831
B17: 도시환경위원회 | C17: 895323933 | D17: =SUMIFS('일반 세입'!$L$7:$L$1000,'일반 세입'!$A$7:$A$1000,'총괄표(가로)'!$B17) -> 0 | E17: =SUMIFS('일반 세입'!$M$7:$M$1000,'일반 세입'!$A$7:$A$1000,'총괄표(가로)'!$B17) -> 0 | F17: =SUMIFS('일반 세출'!$L$7:$L$1001,'일반 세출'!$A$7:$A$1001,'총괄표(가로)'!$B17) -> -50000 | G17: =SUMIFS('일반 세출'!$M$7:$M$1001,'일반 세출'!$A$7:$A$1001,'총괄표(가로)'!$B17) -> 53000 | H17: =C17+F17+G17 -> 895326933
B18: 여성가족평생교육위원회 | C18: 4882582917 | D18: =SUMIFS('일반 세입'!$L$7:$L$1000,'일반 세입'!$A$7:$A$1000,'총괄표(가로)'!$B18) -> 0 | E18: =SUMIFS('일반 세입'!$M$7:$M$1000,'일반 세입'!$A$7:$A$1000,'총괄표(가로)'!$B18) -> 2225816 | F18: =SUMIFS('일반 세출'!$L$7:$L$1001,'일반 세출'!$A$7:$A$1001,'총괄표(가로)'!$B18) -> -50000 | G18: =SUMIFS('일반 세출'!$M$7:$M$1001,'일반 세출'!$A$7:$A$1001,'총괄표(가로)'!$B18) -> 2515860 | H18: =C18+F18+G18 -> 4885048777
B20: □ 회계별 예산총규모
H21: (단위:천원)
B22: 구 분 | C22: 세출예산액 (집행부제출 안) | D22: 세입예산(안) | F22: 세출예산(안) | H22: 예산수정(안)
D23: 감 액 | E23: 증 액 | F23: 감 액 | G23: 증 액 | I23: 세입기준 수정예산안
B24: 합 계 | C24: =SUM(C25:C26) -> 17802852244 | D24: =SUM(D25:D26) -> -200161 | E24: =SUM(E25:E26) -> 3334803 | F24: =SUM(F25:F26) -> -18673514 | G24: =SUM(G25:G26) -> 21808156 | H24: =SUM(H25:H26) -> 17805986886 | I24: =C24+D24+E24 -> 17805986886 | J24: =I24-H24 -> 0 | K24: (세출기준-세입기준)
B25: 일반회계 | C25: 14332606235 | D25: ='일반 세입'!L6 -> -200161 | E25: ='일반 세입'!M6 -> 3334803 | F25: ='일반 세출'!L6 -> -18673514 | G25: ='일반 세출'!M6 -> 21808156 | H25: =C25+F25+G25 -> 14335740877 | I25: =C25+D25+E25 -> 14335740877 | J25: =I25-H25 -> 0 | K25: (세출기준-세입기준)
B26: 특별회계 | C26: 3470246009 | H26: =C26+F26+G26 -> 3470246009 | I26: =C26+D26+E26 -> 3470246009 | J26: =I26-H26 -> 0 | K26: (세출기준-세입기준)
B30: 위원회명 | C30: 일반+기특 | D30: 공기업 | E30: 합계
B31: 의회운영위원회 | C31: 39922113 | E31: =SUM(C31:D31) -> 39922113
B32: 기획재정위원회 | C32: 3302571667 | D32: 1780946434 | E32: =SUM(C32:D32) -> 5083518101
B33: 경제과학기술위원회 | C33: 155329320 | D33: 384743740 | E33: =SUM(C33:D33) -> 540073060
B34: 안전행정위원회 | C34: 1142858974 | E34: =SUM(C34:D34) -> 1142858974
B35: 문화체육관광위원회 | C35: 224243208 | D35: 52484400 | E35: =SUM(C35:D35) -> 276727608
B36: 농정해양위원회 | C36: 466978999 | E36: =SUM(C36:D36) -> 466978999
B37: 보건복지위원회 | C37: 3254006708 | E37: =SUM(C37:D37) -> 3254006708
B38: 건설교통위원회 | C38: 1220859831 | E38: =SUM(C38:D38) -> 1220859831
B39: 도시환경위원회 | C39: 866963933 | D39: 28360000 | E39: =SUM(C39:D39) -> 895323933
B40: 여성가족평생교육위원회 | C40: 4882582917 | E40: =SUM(C40:D40) -> 4882582917
B41: 총합계 | C41: =SUM(C31:C40) -> 15556317670 | D41: =SUM(D31:D40) -> 2246534574 | E41: =SUM(C41:D41) -> 17802852244
B43: 예비비 | C43: =3922478-221377 -> 3701101
I160: ◦ 본청 83,000 증 ◦ 북부청 377,000 증
K290: -50000

Sheet 일반 세입
A1: 2014년도 제1회 추경 경기도 일반회계 세입 예산 조정(안)
A2: □세입예산 | R2: 세입 = 세출 | W2: 세입 = 세출
J3: =SUM(I6:J6) -> 3053429 | M3: =SUM(L6:M6) -> 3134642 | P3: (단위 : 천원) | R3: =IF(R6='일반 세출'!R6,"OK","@@") -> OK | S3: =SUM(R6:S6) -> 3134642 | T3: =IF(COUNTIF(T6:T1008,"@@")>0,"@@","OK") -> OK | W3: =IF(W6='일반 세출'!W6,"OK","@@") -> OK | X3: =SUM(W6:X6) -> 3053429 | Y3: =IF(COUNTIF(Y6:Y1008,"@@")>0,"@@","OK") -> OK
A4: 위원회 | C4: 예산안 페이지 | D4: 부서명 | E4: 사업명 | F4: 제1회 추경 예산안 (가) | G4: 기정액 (나) | H4: 제1회 추경 증감액 (다=가-나) | I4: 상임위 제1회 추경 예산안 조정액 | K4: 상임위 수정 예산안 (마=가or나+라) | L4: 예결위 제1회 추경 예산안 조정액(라) | N4: 예결위 수정 예산안 (마=나+다+라) | O4: 동의 대상 | P4: 비 고 | Q4: 재원 | R4: 예결위 재원별 증감액 | V4: 재원 | W4: 상임위 재원별 증감액
I5: 감액 | J5: 증액 | L5: 감액 | M5: 증액 | R5: 국비 등 | S5: 도 비 | T5: 검 증 | W5: 국비 등 | X5: 도 비 | Y5: 검 증
B6: 합 계 | F6: =SUM(F7:F164)/3 -> 55210346 | G6: =SUM(G7:G164)/3 -> 66014215 | H6: =SUM(H7:H164)/3 -> 2436948 | I6: =SUM(I7:I40)/3 -> -200161 | J6: =SUM(J7:J40)/3 -> 3253590 | K6: =SUM(K7:K40)/3 -> 71504592 | L6: =SUM(L7:L164)/3 -> -200161 | M6: =SUM(M7:M164)/3 -> 3334803 | N6: =SUM(N7:N164)/3 -> 71585805 | R6: =SUM(R7:R164)/3 -> 3334803 | S6: =SUM(S7:S164)/3 -> -200161 | T6: =IF((L6+M6)=(R6+S6),"OK","검토") -> OK | W6: =SUM(W7:W164)/3 -> 3253590 | X6: =SUM(X7:X164)/3 -> -200161 | Y6: =IF((I6+J6)=(W6+X6),"OK","검토") -> OK
A7: 기획재정위원회 | F7: =SUM(F8:F9)/2 -> 21558 | G7: =SUM(G8:G9)/2 -> 0 | H7: =SUM(H8:H9)/2 -> 21558 | I7: =SUM(I8:I9)/2 -> 0 | J7: =SUM(J8:J9)/2 -> 0 | K7: =SUM(K8:K9)/2 -> 21558 | L7: =SUM(L8:L9)/2 -> 0 | M7: =SUM(M8:M9)/2 -> 0 | N7: =SUM(N8:N9)/2 -> 21558 | R7: =SUM(R8:R9)/2 -> 0 | S7: =SUM(S8:S9)/2 -> 0 | T7: =IF((L7+M7)=(R7+S7),"ok","검토") -> ok | W7: =SUM(W8:W9)/2 -> 0 | X7: =SUM(X8:X9)/2 -> 0 | Y7: =IF((I7+J7)=(W7+X7),"ok","검토") -> ok
B8: 기획조정실 | F8: =SUM(F9:F9) -> 21558 | G8: =SUM(G9:G9) -> 0 | H8: =SUM(H9:H9) -> 21558 | I8: =SUM(I9:I9) -> 0 | J8: =SUM(J9:J9) -> 0 | K8: =SUM(K9:K9) -> 21558 | L8: =SUM(L9:L9) -> 0 | M8: =SUM(M9:M9) -> 0 | N8: =SUM(N9:N9) -> 21558 | R8: =SUM(R9:R9) -> 0 | S8: =SUM(S9:S9) -> 0 | T8: =IF((L8+M8)=(R8+S8),"ok","검토") -> ok | W8: =SUM(W9:W9) -> 0 | X8: =SUM(X9:X9) -> 0 | Y8: =IF((I8+J8)=(W8+X8),"ok","검토") -> ok
B9: 1회 | C9: 258 | D9: 정보통신보안담당관 | E9: 정보통신담당관 도비 민간이전 사용잔액 (과목경정) : 부기명 정보통신담당관 ⇒ 정보통신보안담당관 | F9: 21558 | H9: =IF(SUMPRODUCT(COUNTIF(C9,{"*본예산*","*신규*"})),"-",F9-G9) -> 21558 | K9: =IF(F9=0,G9+I9+J9,F9+I9+J9) -> 21558 | L9: 0 | M9: 0 | N9: =IF(F9=0,G9+L9+M9,F9+L9+M9) -> 21558 | O9: =IF(I9-L9<0,"동의필요","-") -> - | P9: (과목경정) : 부기명 | Q9: 도비 | R9: =IF(Q9<>"도비",SUM(L9:M9),) -> 0 | S9: =IF(Q9="도비",SUM(L9:M9),SUM(L9:M9)-R9) -> 0 | T9: =IF((L9+M9)=(R9+S9),"ok","검토") -> ok | V9: 도비 | W9: =IF(V9<>"도비",SUM(I9:J9),) -> 0 | X9: =IF(V9="도비",SUM(I9:J9),SUM(I9:J9)-W9) -> 0 | Y9: =IF((I9+J9)=(W9+X9),"ok","검토") -> ok
A10: 안전행정위원회 | F10: =SUM(F11:F12)/2 -> 924743 | G10: =SUM(G11:G12)/2 -> 909307 | H10: =SUM(H11:H12)/2 -> 15436 | I10: =SUM(I11:I12)/2 -> 0 | J10: =SUM(J11:J12)/2 -> 0 | K10: =SUM(K11:K12)/2 -> 924743 | L10: =SUM(L11:L12)/2 -> 0 | M10: =SUM(M11:M12)/2 -> 1421 | N10: =SUM(N11:N12)/2 -> 926164 | R10: =SUM(R11:R12)/2 -> 1421 | S10: =SUM(S11:S12)/2 -> 0 | T10: =IF((L10+M10)=(R10+S10),"ok","검토") -> ok | W10: =SUM(W11:W12)/2 -> 0 | X10: =SUM(X11:X12)/2 -> 0 | Y10: =IF((I10+J10)=(W10+X10),"ok","검토") -> ok
B11: 자치행정국 | F11: =SUM(F12:F12) -> 924743 | G11: =SUM(G12:G12) -> 909307 | H11: =SUM(H12:H12) -> 15436 | I11: =SUM(I12:I12) -> 0 | J11: =SUM(J12:J12) -> 0 | K11: =SUM(K12:K12) -> 924743 | L11: =SUM(L12:L12) -> 0 | M11: =SUM(M12:M12) -> 1421 | N11: =SUM(N12:N12) -> 926164 | R11: =SUM(R12:R12) -> 1421 | S11: =SUM(S12:S12) -> 0 | T11: =IF((L11+M11)=(R11+S11),"ok","검토") -> ok | W11: =SUM(W12:W12) -> 0 | X11: =SUM(X12:X12) -> 0 | Y11: =IF((I11+J11)=(W11+X11),"ok","검토") -> ok
B12: 추가 | C12: 328 | D12: 언제나민원실 | E12: 여권발급 | F12: 924743 | G12: 909307 | H12: =IF(SUMPRODUCT(COUNTIF(C12,{"*본예산*","*신규*"})),"-",F12-G12) -> 15436 | K12: =IF(F12=0,G12+I12+J12,F12+I12+J12) -> 924743 | M12: 1421 | N12: =IF(F12=0,G12+L12+M12,F12+L12+M12) -> 926164 | O12: =IF(I12-L12<0,"동의필요","-") -> - | P12: 외교부 여권과-38242(2014.9.4) 변경내시(국비 증액) | Q12: 국비 | R12: =IF(Q12<>"도비",SUM(L12:M12),) -> 1421 | S12: =IF(Q12="도비",SUM(L12:M12),SUM(L12:M12)-R12) -> 0 | T12: =IF((L12+M12)=(R12+S12),"ok","검토") -> ok | V12: 국비 | W12: =IF(V12<>"도비",SUM(I12:J12),) -> 0 | X12: =IF(V12="도비",SUM(I12:J12),SUM(I12:J12)-W12) -> 0 | Y12: =IF((I12+J12)=(W12+X12),"ok","검토") -> ok | Z12: 국비변경
A13: 문화체육관광위원회 | F13: =SUM(F14:F15)/2 -> 0 | G13: =SUM(G14:G15)/2 -> 470000 | H13: =SUM(H14:H15)/2 -> 0 | I13: =SUM(I14:I15)/2 -> 0 | J13: =SUM(J14:J15)/2 -> 10000 | K13: =SUM(K14:K15)/2 -> 480000 | L13: =SUM(L14:L15)/2 -> 0 | M13: =SUM(M14:M15)/2 -> 10000 | N13: =SUM(N14:N15)/2 -> 480000 | R13: =SUM(R14:R15)/2 -> 10000 | S13: =SUM(S14:S15)/2 -> 0 | T13: =IF((L13+M13)=(R13+S13),"ok","검토") -> ok | W13: =SUM(W14:W15)/2 -> 10000 | X13: =SUM(X14:X15)/2 -> 0 | Y13: =IF((I13+J13)=(W13+X13),"ok","검토") -> ok
B14: 문화체육관광국 | F14: =SUM(F15:F15) -> 0 | G14: =SUM(G15:G15) -> 470000 | H14: =SUM(H15:H15) -> 0 | I14: =SUM(I15:I15) -> 0 | J14: =SUM(J15:J15) -> 10000 | K14: =SUM(K15:K15) -> 480000 | L14: =SUM(L15:L15) -> 0 | M14: =SUM(M15:M15) -> 10000 | N14: =SUM(N15:N15) -> 480000 | R14: =SUM(R15:R15) -> 10000 | S14: =SUM(S15:S15) -> 0 | T14: =IF((L14+M14)=(R14+S14),"ok","검토") -> ok | W14: =SUM(W15:W15) -> 10000 | X14: =SUM(X15:X15) -> 0 | Y14: =IF((I14+J14)=(W14+X14),"ok","검토") -> ok
B15: 추가 | C15: 본예산 66 | D15: 관광과 | E15: 관광안내체계구축지원 | G15: 470000 | H15: =IF(SUMPRODUCT(COUNTIF(C15,{"*본예산*","*신규*"})),"-",F15-G15) -> - | J15: 10000 | K15: =IF(F15=0,G15+I15+J15,F15+I15+J15) -> 480000 | M15: 10000 | N15: =IF(F15=0,G15+L15+M15,F15+L15+M15) -> 480000 | O15: =IF(I15-L15<0,"동의필요","-") -> - | P15: 문화체육관광부 관광산업과-4553(2014.08.29)호 | Q15: 기금 | R15: =IF(Q15<>"도비",SUM(L15:M15),) -> 10000 | S15: =IF(Q15="도비",SUM(L15:M15),SUM(L15:M15)-R15) -> 0 | T15: =IF((L15+M15)=(R15+S15),"ok","검토") -> ok | V15: 기금 | W15: =IF(V15<>"도비",SUM(I15:J15),) -> 10000 | X15: =IF(V15="도비",SUM(I15:J15),SUM(I15:J15)-W15) -> 0 | Y15: =IF((I15+J15)=(W15+X15),"ok","검토") -> ok
A16: 농정해양위원회 | F16: =SUM(F17:F21)/2 -> 36484036 | G16: =SUM(G17:G21)/2 -> 34553140 | H16: =SUM(H17:H21)/2 -> 1930896 | I16: =SUM(I17:I21)/2 -> 0 | J16: =SUM(J17:J21)/2 -> 1088067 | K16: =SUM(K17:K21)/2 -> 37572103 | L16: =SUM(L17:L21)/2 -> 0 | M16: =SUM(M17:M21)/2 -> 1094246 | N16: =SUM(N17:N21)/2 -> 37578282 | R16: =SUM(R17:R21)/2 -> 1094246 | S16: =SUM(S17:S21)/2 -> 0 | T16: =IF((L16+M16)=(R16+S16),"ok","검토") -> ok | W16: =SUM(W17:W21)/2 -> 1088067 | X16: =SUM(X17:X21)/2 -> 0 | Y16: =IF((I16+J16)=(W16+X16),"ok","검토") -> ok
B17: 농정해양국 | F17: =SUM(F18:F18) -> 23888164 | G17: =SUM(G18:G18) -> 22994613 | H17: =SUM(H18:H18) -> 893551 | I17: =SUM(I18:I18) -> 0 | J17: =SUM(J18:J18) -> 5067 | K17: =SUM(K18:K18) -> 23893231 | L17: =SUM(L18:L18) -> 0 | M17: =SUM(M18:M18) -> 5067 | N17: =SUM(N18:N18) -> 23893231 | R17: =SUM(R18:R18) -> 5067 | S17: =SUM(S18:S18) -> 0 | T17: =IF((L17+M17)=(R17+S17),"ok","검토") -> ok | W17: =SUM(W18:W18) -> 5067 | X17: =SUM(X18:X18) -> 0 | Y17: =IF((I17+J17)=(W17+X17),"ok","검토") -> ok
B18: 1회 | C18: 445 | D18: 친환경농업과 | E18: 친환경농자재 지원 | F18: 23888164 | G18: 22994613 | H18: =IF(SUMPRODUCT(COUNTIF(C18,{"*본예산*","*신규*"})),"-",F18-G18) -> 893551 | J18: 5067 | K18: =IF(F18=0,G18+I18+J18,F18+I18+J18) -> 23893231 | M18: 5067 | N18: =IF(F18=0,G18+L18+M18,F18+L18+M18) -> 23893231 | O18: =IF(I18-L18<0,"동의필요","-") -> - | P18: 농림축산식품부 친환경농업과-2748(2014.8.4)호 | Q18: 국비 | R18: =IF(Q18<>"도비",SUM(L18:M18),) -> 5067 | S18: =IF(Q18="도비",SUM(L18:M18),SUM(L18:M18)-R18) -> 0 | T18: =IF((L18+M18)=(R18+S18),"ok","검토") -> ok | V18: 국비 | W18: =IF(V18<>"도비",SUM(I18:J18),) -> 5067 | X18: =IF(V18="도비",SUM(I18:J18),SUM(I18:J18)-W18) -> 0 | Y18: =IF((I18+J18)=(W18+X18),"ok","검토") -> ok
B19: 축산산림국 | F19: =SUM(F20:F21) -> 12595872 | G19: =SUM(G20:G21) -> 11558527 | H19: =SUM(H20:H21) -> 1037345 | I19: =SUM(I20:I21) -> 0 | J19: =SUM(J20:J21) -> 1083000 | K19: =SUM(K20:K21) -> 13678872 | L19: =SUM(L20:L21) -> 0 | M19: =SUM(M20:M21) -> 1089179 | N19: =SUM(N20:N21) -> 13685051 | R19: =SUM(R20:R21) -> 1089179 | S19: =SUM(S20:S21) -> 0 | T19: =IF((L19+M19)=(R19+S19),"ok","검토") -> ok | W19: =SUM(W20:W21) -> 1083000 | X19: =SUM(X20:X21) -> 0 | Y19: =IF((I19+J19)=(W19+X19),"ok","검토") -> ok
B20: 1회 | C20: 471 | D20: 축산정책과 | E20: 소득안정자금(성립전) | F20: 201176 | H20: =IF(SUMPRODUCT(COUNTIF(C20,{"*본예산*","*신규*"})),"-",F20-G20) -> 201176 | K20: =IF(F20=0,G20+I20+J20,F20+I20+J20) -> 201176 | M20: 6179 | N20: =IF(F20=0,G20+L20+M20,F20+L20+M20) -> 207355 | O20: =IF(I20-L20<0,"동의필요","-") -> - | P20: 농림축산식품부 축산경영과-5365(2014.9.26)호 변경내시 | Q20: 기금 | R20: =IF(Q20<>"도비",SUM(L20:M20),) -> 6179 | S20: =IF(Q20="도비",SUM(L20:M20),SUM(L20:M20)-R20) -> 0 | T20: =IF((L20+M20)=(R20+S20),"ok","검토") -> ok | V20: 국비 | W20: =IF(V20<>"도비",SUM(I20:J20),) -> 0 | X20: =IF(V20="도비",SUM(I20:J20),SUM(I20:J20)-W20) -> 0 | Y20: =IF((I20+J20)=(W20+X20),"ok","검토") -> ok | Z20: 국비변경
B21: 1회 | C21: 472 | D21: 동물방역위생과 | E21: 시도가축방역사업(성립전) | F21: 12394696 | G21: 11558527 | H21: =IF(SUMPRODUCT(COUNTIF(C21,{"*본예산*","*신규*"})),"-",F21-G21) -> 836169 | J21: 1083000 | K21: =IF(F21=0,G21+I21+J21,F21+I21+J21) -> 13477696 | M21: 1083000 | N21: =IF(F21=0,G21+L21+M21,F21+L21+M21) -> 13477696 | O21: =IF(I21-L21<0,"동의필요","-") -> - | P21: 농림축산식품부 방역총괄과-5800(2014.9.3)호 | Q21: 국비 | R21: =IF(Q21<>"도비",SUM(L21:M21),) -> 1083000 | S21: =IF(Q21="도비",SUM(L21:M21),SUM(L21:M21)-R21) -> 0 | T21: =IF((L21+M21)=(R21+S21),"ok","검토") -> ok | V21: 국비 | W21: =IF(V21<>"도비",SUM(I21:J21),) -> 1083000 | X21: =IF(V21="도비",SUM(I21:J21),SUM(I21:J21)-W21) -> 0 | Y21: =IF((I21+J21)=(W21+X21),"ok","검토") -> ok
A22: 보건복지위원회 | F22: =SUM(F23:F25)/2 -> 236817 | G22: =SUM(G23:G25)/2 -> 59250 | H22: =SUM(H23:H25)/2 -> 236817 | I22: =SUM(I23:I25)/2 -> -200161 | J22: =SUM(J23:J25)/2 -> 3320 | K22: =SUM(K23:K25)/2 -> 99226 | L22: =SUM(L23:L25)/2 -> -200161 | M22: =SUM(M23:M25)/2 -> 3320 | N22: =SUM(N23:N25)/2 -> 99226 | R22: =SUM(R23:R25)/2 -> 3320 | S22: =SUM(S23:S25)/2 -> -200161 | T22: =IF((L22+M22)=(R22+S22),"ok","검토") -> ok | W22: =SUM(W23:W25)/2 -> 3320 | X22: =SUM(X23:X25)/2 -> -200161 | Y22: =IF((I22+J22)=(W22+X22),"ok","검토") -> ok
B23: 보건복지국 | F23: =SUM(F24:F25) -> 236817 | G23: =SUM(G24:G25) -> 59250 | H23: =SUM(H24:H25) -> 236817 | I23: =SUM(I24:I25) -> -200161 | J23: =SUM(J24:J25) -> 3320 | K23: =SUM(K24:K25) -> 99226 | L23: =SUM(L24:L25) -> -200161 | M23: =SUM(M24:M25) -> 3320 | N23: =SUM(N24:N25) -> 99226 | R23: =SUM(R24:R25) -> 3320 | S23: =SUM(S24:S25) -> -200161 | T23: =IF((L23+M23)=(R23+S23),"ok","검토") -> ok | W23: =SUM(W24:W25) -> 3320 | X23: =SUM(X24:X25) -> -200161 | Y23: =IF((I23+J23)=(W23+X23),"ok","검토") -> ok
B24: 추가 | C24: 본예산 54 | D24: 장애인복지과 | E24: 장애인생산품 판매시설 지원 | G24: 59250 | H24: =IF(SUMPRODUCT(COUNTIF(C24,{"*본예산*","*신규*"})),"-",F24-G24) -> - | J24: 3320 | K24: =IF(F24=0,G24+I24+J24,F24+I24+J24) -> 62570 | M24: 3320 | N24: =IF(F24=0,G24+L24+M24,F24+L24+M24) -> 62570 | O24: =IF(I24-L24<0,"동의필요","-") -> - | P24: 국비변경내시(증액) 보건복지부 장애인자립기반과-6034(2014. 9. 17) | Q24: 국비 | R24: =IF(Q24<>"도비",SUM(L24:M24),) -> 3320 | S24: =IF(Q24="도비",SUM(L24:M24),SUM(L24:M24)-R24) -> 0 | T24: =IF((L24+M24)=(R24+S24),"ok","검토") -> ok | V24: 국비 | W24: =IF(V24<>"도비",SUM(I24:J24),) -> 3320 | X24: =IF(V24="도비",SUM(I24:J24),SUM(I24:J24)-W24) -> 0 | Y24: =IF((I24+J24)=(W24+X24),"ok","검토") -> ok
B25: 1회 | C25: 538 | D25: 보건정책과 | E25: 보건정책과 도비 민간이전 사용잔액 | F25: 236817 | H25: =IF(SUMPRODUCT(COUNTIF(C25,{"*본예산*","*신규*"})),"-",F25-G25) -> 236817 | I25: -200161 | K25: =IF(F25=0,G25+I25+J25,F25+I25+J25) -> 36656 | L25: -200161 | N25: =IF(F25=0,G25+L25+M25,F25+L25+M25) -> 36656 | O25: =IF(I25-L25<0,"동의필요","-") -> - | P25: 국가지정 격리병상구축사업 지원사업 정산 착오 | Q25: 도비 | R25: =IF(Q25<>"도비",SUM(L25:M25),) -> 0 | S25: =IF(Q25="도비",SUM(L25:M25),SUM(L25:M25)-R25) -> -200161 | T25: =IF((L25+M25)=(R25+S25),"ok","검토") -> ok | V25: 도비 | W25: =IF(V25<>"도비",SUM(I25:J25),) -> 0 | X25: =IF(V25="도비",SUM(I25:J25),SUM(I25:J25)-W25) -> -200161 | Y25: =IF((I25+J25)=(W25+X25),"ok","검토") -> ok
A26: 여성가족평생교육위원회 | F26: =SUM(F27:F40)/2 -> 17543192 | G26: =SUM(G27:G40)/2 -> 30022518 | H26: =SUM(H27:H40)/2 -> 232241 | I26: =SUM(I27:I40)/2 -> 0 | J26: =SUM(J27:J40)/2 -> 2152203 | K26: =SUM(K27:K40)/2 -> 32406962 | L26: =SUM(L27:L40)/2 -> 0 | M26: =SUM(M27:M40)/2 -> 2225816 | N26: =SUM(N27:N40)/2 -> 32480575 | R26: =R27+R39 -> 2225816 | S26: =S27+S39 -> 0 | T26: =IF((L26+M26)=(R26+S26),"ok","검토") -> ok | W26: =W27+W39 -> 2152203 | X26: =X27+X39 -> 0 | Y26: =IF((I26+J26)=(W26+X26),"ok","검토") -> ok
B27: 여성가족국 | F27: =SUM(F28:F38) -> 17540598 | G27: =SUM(G28:G38) -> 30022518 | H27: =SUM(H28:H38) -> 229647 | I27: =SUM(I28:I38) -> 0 | J27: =SUM(J28:J38) -> 2152203 | K27: =SUM(K28:K38) -> 32404368 | L27: =SUM(L28:L38) -> 0 | M27: =SUM(M28:M38) -> 2225816 | N27: =SUM(N28:N38) -> 32477981 | R27: =SUM(R28:R38) -> 2225816 | S27: =SUM(S28:S38) -> 0 | T27: =IF((L27+M27)=(R27+S27),"ok","검토") -> ok | W27: =SUM(W28:W38) -> 2152203 | X27: =SUM(X28:X38) -> 0 | Y27: =IF((I27+J27)=(W27+X27),"ok","검토") -> ok
B28: 1회 | C28: 743 | D28: 여성가족과 | E28: 아이돌봄 지원사업 | F28: 13370578 | G28: 13123578 | H28: =IF(SUMPRODUCT(COUNTIF(C28,{"*본예산*","*신규*"})),"-",F28-G28) -> 247000 | J28: 600000 | K28: =IF(F28=0,G28+I28+J28,F28+I28+J28) -> 13970578 | M28: 600000 | N28: =IF(F28=0,G28+L28+M28,F28+L28+M28) -> 13970578 | P28: 국비 변경내시(국비) ※여성가족부 가족지원과-3184(2014.9.16.)호 | Q28: 국비 | R28: =IF(Q28<>"도비",SUM(L28:M28),) -> 600000 | S28: =IF(Q28="도비",SUM(L28:M28),SUM(L28:M28)-R28) -> 0 | T28: =IF((L28+M28)=(R28+S28),"ok","검토") -> ok | V28: 국비 | W28: =IF(V28<>"도비",SUM(I28:J28),) -> 600000 | X28: =IF(V28="도비",SUM(I28:J28),SUM(I28:J28)-W28) -> 0 | Y28: =IF((I28+J28)=(W28+X28),"ok","검토") -> ok
B29: 추가 | C29: 본예산 56 | D29: 여성가족과 | E29: 가족역량 강화지원 | G29: 263000 | H29: =IF(SUMPRODUCT(COUNTIF(C29,{"*본예산*","*신규*"})),"-",F29-G29) -> - | J29: 25000 | K29: =IF(F29=0,G29+I29+J29,F29+I29+J29) -> 288000 | M29: 25000 | N29: =IF(F29=0,G29+L29+M29,F29+L29+M29) -> 288000 | P29: 국비 변경내시(국비) ※여성가족부 가족지원과-2970(2013.8.20.)호 | Q29: 국비 | R29: =IF(Q29<>"도비",SUM(L29:M29),) -> 25000 | S29: =IF(Q29="도비",SUM(L29:M29),SUM(L29:M29)-R29) -> 0 | T29: =IF((L29+M29)=(R29+S29),"ok","검토") -> ok | V29: 국비 | W29: =IF(V29<>"도비",SUM(I29:J29),) -> 25000 | X29: =IF(V29="도비",SUM(I29:J29),SUM(I29:J29)-W29) -> 0 | Y29: =IF((I29+J29)=(W29+X29),"ok","검토") -> ok
B30: 추가 | C30: 본예산 68 | D30: 여성가족과 | E30: 저소득한부모가족 지원 | G30: 11117000 | H30: =IF(SUMPRODUCT(COUNTIF(C30,{"*본예산*","*신규*"})),"-",F30-G30) -> - | J30: 1432800 | K30: =IF(F30=0,G30+I30+J30,F30+I30+J30) -> 12549800 | M30: 1432800 | N30: =IF(F30=0,G30+L30+M30,F30+L30+M30) -> 12549800 | P30: 국비 변경내시(기금) ※여성가족부 가족지원과-3206(2013.9.17.)호 | Q30: 기금 | R30: =IF(Q30<>"도비",SUM(L30:M30),) -> 1432800 | S30: =IF(Q30="도비",SUM(L30:M30),SUM(L30:M30)-R30) -> 0 | T30: =IF((L30+M30)=(R30+S30),"ok","검토") -> ok | V30: 기금 | W30: =IF(V30<>"도비",SUM(I30:J30),) -> 1432800 | X30: =IF(V30="도비",SUM(I30:J30),SUM(I30:J30)-W30) -> 0 | Y30: =IF((I30+J30)=(W30+X30),"ok","검토") -> ok
B31: 추가 | C31: 본예산 68 | D31: 여성가족과 | E31: 청소년한부모 자립지원 | G31: 450542 | H31: =IF(SUMPRODUCT(COUNTIF(C31,{"*본예산*","*신규*"})),"-",F31-G31) -> - | J31: 29458 | K31: =IF(F31=0,G31+I31+J31,F31+I31+J31) -> 480000 | M31: 29458 | N31: =IF(F31=0,G31+L31+M31,F31+L31+M31) -> 480000 | P31: 국비 변경내시(기금) ※여성가족부 가족지원과-3206(2013.9.17.)호 | Q31: 기금 | R31: =IF(Q31<>"도비",SUM(L31:M31),) -> 29458 | S31: =IF(Q31="도비",SUM(L31:M31),SUM(L31:M31)-R31) -> 0 | T31: =IF((L31+M31)=(R31+S31),"ok","검토") -> ok | V31: 기금 | W31: =IF(V31<>"도비",SUM(I31:J31),) -> 29458 | X31: =IF(V31="도비",SUM(I31:J31),SUM(I31:J31)-W31) -> 0 | Y31: =IF((I31+J31)=(W31+X31),"ok","검토") -> ok
B32: 추가 | C32: 본예산 68 | D32: 여성가족과 | E32: 한부모가족복지시설 기능보강사업 | G32: 528525 | H32: =IF(SUMPRODUCT(COUNTIF(C32,{"*본예산*","*신규*"})),"-",F32-G32) -> - | J32: 20100 | K32: =IF(F32=0,G32+I32+J32,F32+I32+J32) -> 548625 | M32: 20100 | N32: =IF(F32=0,G32+L32+M32,F32+L32+M32) -> 548625 | P32: 국비 변경내시(기금) ※여성가족부 가족지원과-3181(2013.9.15.)호 | Q32: 기금 | R32: =IF(Q32<>"도비",SUM(L32:M32),) -> 20100 | S32: =IF(Q32="도비",SUM(L32:M32),SUM(L32:M32)-R32) -> 0 | T32: =IF((L32+M32)=(R32+S32),"ok","검토") -> ok | V32: 기금 | W32: =IF(V32<>"도비",SUM(I32:J32),) -> 20100 | X32: =IF(V32="도비",SUM(I32:J32),SUM(I32:J32)-W32) -> 0 | Y32: =IF((I32+J32)=(W32+X32),"ok","검토") -> ok
B33: 1회 | C33: 744 | D33: 여성가족과 | E33: 성폭력방지 및 피해자지원사업 | F33: 2381652 | G33: 2377515 | H33: =IF(SUMPRODUCT(COUNTIF(C33,{"*본예산*","*신규*"})),"-",F33-G33) -> 4137 | J33: 42075 | K33: =IF(F33=0,G33+I33+J33,F33+I33+J33) -> 2423727 | M33: 42075 | N33: =IF(F33=0,G33+L33+M33,F33+L33+M33) -> 2423727 | P33: 국비 변경내시(기금) ※여성가족부 권익정책과-3487(2013.9.16.)호 | Q33: 기금 | R33: =IF(Q33<>"도비",SUM(L33:M33),) -> 42075 | S33: =IF(Q33="도비",SUM(L33:M33),SUM(L33:M33)-R33) -> 0 | T33: =IF((L33+M33)=(R33+S33),"ok","검토") -> ok | V33: 기금 | W33: =IF(V33<>"도비",SUM(I33:J33),) -> 42075 | X33: =IF(V33="도비",SUM(I33:J33),SUM(I33:J33)-W33) -> 0 | Y33: =IF((I33+J33)=(W33+X33),"ok","검토") -> ok
B34: 1회 | C34: 744 | D34: 여성가족과 | E34: 여성 학교폭력피해자 원스톱지원센터 | F34: 405300 | G34: 401100 | H34: =IF(SUMPRODUCT(COUNTIF(C34,{"*본예산*","*신규*"})),"-",F34-G34) -> 4200 | J34: 2770 | K34: =IF(F34=0,G34+I34+J34,F34+I34+J34) -> 408070 | M34: 2770 | N34: =IF(F34=0,G34+L34+M34,F34+L34+M34) -> 408070 | P34: 국비 변경내시(기금) ※여성가족부 권익정책과-3487(2013.9.16.)호 | Q34: 기금 | R34: =IF(Q34<>"도비",SUM(L34:M34),) -> 2770 | S34: =IF(Q34="도비",SUM(L34:M34),SUM(L34:M34)-R34) -> 0 | T34: =IF((L34+M34)=(R34+S34),"ok","검토") -> ok | V34: 기금 | W34: =IF(V34<>"도비",SUM(I34:J34),) -> 2770 | X34: =IF(V34="도비",SUM(I34:J34),SUM(I34:J34)-W34) -> 0 | Y34: =IF((I34+J34)=(W34+X34),"ok","검토") -> ok
B35: 1회 | C35: 743 | D35: 여성가족과 | E35: 가정폭력가해자 고정,치료 프로그램 운영 | F35: 321500 | G35: 348758 | H35: =IF(SUMPRODUCT(COUNTIF(C35,{"*본예산*","*신규*"})),"-",F35-G35) -> -27258 | K35: =IF(F35=0,G35+I35+J35,F35+I35+J35) -> 321500 | M35: 37104 | N35: =IF(F35=0,G35+L35+M35,F35+L35+M35) -> 358604 | P35: 여성가족부 복지지원과-2826(2014.9.25) | Q35: 기금 | R35: =IF(Q35<>"도비",SUM(L35:M35),) -> 37104 | S35: =IF(Q35="도비",SUM(L35:M35),SUM(L35:M35)-R35) -> 0 | T35: =IF((L35+M35)=(R35+S35),"ok","검토") -> ok | V35: 국비 | W35: =IF(V35<>"도비",SUM(I35:J35),) -> 0 | X35: =IF(V35="도비",SUM(I35:J35),SUM(I35:J35)-W35) -> 0 | Y35: =IF((I35+J35)=(W35+X35),"ok","검토") -> ok | Z35: 국비변경
B36: 1회 | C36: 743 | D36: 여성가족과 | E36: 성매매피해자 지원시설 및 상담소 운영 | F36: 1061568 | G36: 1060000 | H36: =IF(SUMPRODUCT(COUNTIF(C36,{"*본예산*","*신규*"})),"-",F36-G36) -> 1568 | K36: =IF(F36=0,G36+I36+J36,F36+I36+J36) -> 1061568 | M36: 28000 | N36: =IF(F36=0,G36+L36+M36,F36+L36+M36) -> 1089568 | P36: 여성가족부 권익지원과-2334(2014.9.24) | Q36: 국비 | R36: =IF(Q36<>"도비",SUM(L36:M36),) -> 28000 | S36: =IF(Q36="도비",SUM(L36:M36),SUM(L36:M36)-R36) -> 0 | T36: =IF((L36+M36)=(R36+S36),"ok","검토") -> ok | V36: 국비 | W36: =IF(V36<>"도비",SUM(I36:J36),) -> 0 | X36: =IF(V36="도비",SUM(I36:J36),SUM(I36:J36)-W36) -> 0 | Y36: =IF((I36+J36)=(W36+X36),"ok","검토") -> ok | Z36: 국비변경
B37: 추가 | C37: 본예산 56 | D37: 여성가족과 | E37: 성매매피해자 구조지원 사업 | G37: 205000 | H37: =IF(SUMPRODUCT(COUNTIF(C37,{"*본예산*","*신규*"})),"-",F37-G37) -> - | K37: =IF(F37=0,G37+I37+J37,F37+I37+J37) -> 205000 | M37: 2000 | N37: =IF(F37=0,G37+L37+M37,F37+L37+M37) -> 207000 | P37: 여성가족부 권익지원과-2334(2014.9.24) | Q37: 국비 | R37: =IF(Q37<>"도비",SUM(L37:M37),) -> 2000 | S37: =IF(Q37="도비",SUM(L37:M37),SUM(L37:M37)-R37) -> 0 | T37: =IF((L37+M37)=(R37+S37),"ok","검토") -> ok | V37: 국비 | W37: =IF(V37<>"도비",SUM(I37:J37),) -> 0 | X37: =IF(V37="도비",SUM(I37:J37),SUM(I37:J37)-W37) -> 0 | Y37: =IF((I37+J37)=(W37+X37),"ok","검토") -> ok | Z37: 국비변경
B38: 추가 | C38: 본예산 56 | D38: 여성가족과 | E38: 성매매집결지 현장기능강화사업 | G38: 147500 | H38: =IF(SUMPRODUCT(COUNTIF(C38,{"*본예산*","*신규*"})),"-",F38-G38) -> - | K38: =IF(F38=0,G38+I38+J38,F38+I38+J38) -> 147500 | M38: 6509 | N38: =IF(F38=0,G38+L38+M38,F38+L38+M38) -> 154009 | P38: 여성가족부 권익지원과-2334(2014.9.24) | Q38: 기금 | R38: =IF(Q38<>"도비",SUM(L38:M38),) -> 6509 | S38: =IF(Q38="도비",SUM(L38:M38),SUM(L38:M38)-R38) -> 0 | T38: =IF((L38+M38)=(R38+S38),"ok","검토") -> ok | V38: 기금 | W38: =IF(V38<>"도비",SUM(I38:J38),) -> 0 | X38: =IF(V38="도비",SUM(I38:J38),SUM(I38:J38)-W38) -> 0 | Y38: =IF((I38+J38)=(W38+X38),"ok","검토") -> ok | Z38: 국비변경
B39: 복지여성실 | F39: =SUM(F40:F40) -> 2594 | G39: =SUM(G40:G40) -> 0 | H39: =SUM(H40:H40) -> 2594 | I39: =SUM(I40:I40) -> 0 | J39: =SUM(J40:J40) -> 0 | K39: =SUM(K40:K40) -> 2594 | L39: =SUM(L40:L40) -> 0 | M39: =SUM(M40:M40) -> 0 | N39: =SUM(N40:N40) -> 2594 | R39: =SUM(R40:R40) -> 0 | S39: =SUM(S40:S40) -> 0 | T39: =IF((L39+M39)=(R39+S39),"ok","검토") -> ok | W39: =SUM(W40:W40) -> 0 | X39: =SUM(X40:X40) -> 0 | Y39: =IF((I39+J39)=(W39+X39),"ok","검토") -> ok
B40: 1회 | C40: 785 | D40: 북부여성비전센터 | E40: 북부여성비전센터 도비 민간이전 사용잔액 (과목경정) : 부기명, 통계목 도비 민간이전 사용잔액 ⇒ 도비 사용잔액 그외수입 ⇒ 시도비 반환금수입 | F40: 2594 | H40: =IF(SUMPRODUCT(COUNTIF(C40,{"*본예산*","*신규*"})),"-",F40-G40) -> 2594 | K40: =IF(F40=0,G40+I40+J40,F40+I40+J40) -> 2594 | L40: 0 | M40: 0 | N40: =IF(F40=0,G40+L40+M40,F40+L40+M40) -> 2594 | P40: (과목경정) : 부기명, 통계목 | Q40: 도비 | R40: =IF(Q40<>"도비",SUM(L40:M40),) -> 0 | S40: =IF(Q40="도비",SUM(L40:M40),SUM(L40:M40)-R40) -> 0 | T40: =IF((L40+M40)=(R40+S40),"ok","검토") -> ok | V40: 도비 | W40: =IF(V40<>"도비",SUM(I40:J40),) -> 0 | X40: =IF(V40="도비",SUM(I40:J40),SUM(I40:J40)-W40) -> 0 | Y40: =IF((I40+J40)=(W40+X40),"ok","검토") -> ok

Sheet 일반 세출
A1: 2014년도 제1회 추경 경기도 일반회계 세출 예산 조정(안)
A2: □세출예산 | R2: 세입 = 세출 | W2: 세입 = 세출
H3: =G3-E3 -> 0 | J3: =SUM(I6:J6) -> 29008824 | M3: =SUM(L6:M6) -> 3134642 | P3: (단위 : 천원) | R3: =IF(R6='일반 세입'!R6,"OK","@@") -> OK | S3: =SUM(R6:S6) -> 3134642 | T3: =IF(COUNTIF(T6:T1027,"@@")>0,"@@","OK") -> OK | W3: =IF(W6='일반 세입'!W6,"OK","@@") -> OK | X3: =SUM(W6:X6) -> 29008824 | Y3: =IF(COUNTIF(Y6:Y1027,"@@")>0,"@@","OK") -> OK | AB3: =SUM(AA6:AB6) -> 97
A4: 위원회 | C4: 예산안 페이지 | D4: 부서명 | E4: 사업명 | F4: 제1회 추경 예산안 (가) | G4: 기정액 (나) | H4: 제1회 추경 증감액 (다=가-나) | I4: 상임위 제1회 추경 예산안 조정액 | K4: 상임위 수정 예산안 (마=가or나+라) | L4: 예결위 제1회 추경 예산안 조정액(라) | N4: 예결위 수정 예산안 (마=나+다+라) | O4: 동의 대상 | P4: 비고(부대의견) | Q4: 재원 | R4: 예결위 재원별 증감액 | V4: 재원 | W4: 상임위 재원별 증감액 | AA4: 예결위 제1회 추경 예산안 조정액
I5: 감액 | J5: 증액 | L5: 감액 | M5: 증액 | R5: 국비 등 | S5: 도 비 | T5: 검 증 | W5: 국비 등 | X5: 도 비 | Y5: 검 증 | AA5: 감액 | AB5: 증액
B6: 합 계 | F6: =SUM(F7:F134)/3 -> 1702695634 | G6: =SUM(G7:G134)/3 -> 1537936588 | H6: =SUM(H7:H134)/3 -> 211987699 | I6: =SUM(I7:I134)/3 -> -4102374 | J6: =SUM(J7:J134)/3 -> 33111198 | K6: =SUM(K7:K134)/3 -> 1778933111 | L6: =SUM(L7:L134)/3 -> -18673514 | M6: =SUM(M7:M134)/3 -> 21808156 | N6: =SUM(N7:N134)/3 -> 1753058929 | R6: =SUM(R7:R134)/3 -> 3334803 | S6: =SUM(S7:S134)/3 -> -200161 | T6: =IF((L6+M6)=(R6+S6),"OK","검토") -> OK | W6: =SUM(W7:W134)/3 -> 3253590 | X6: =SUM(X7:X134)/3 -> 25755234 | Y6: =IF((I6+J6)=(W6+X6),"OK","검토") -> OK | AA6: =SUM(AA7:AA134) -> 97 | AB6: =SUM(AB7:AB134) -> 0
A7: 의회운영위원회 | F7: =SUM(F8:F14)/2 -> 6043490 | G7: =SUM(G8:G14)/2 -> 4932490 | H7: =SUM(H8:H14)/2 -> 1111000 | I7: =SUM(I8:I14)/2 -> 0 | J7: =SUM(J8:J14)/2 -> 60920 | K7: =SUM(K8:K14)/2 -> 6104410 | L7: =SUM(L8:L14)/2 -> -1040000 | M7: =SUM(M8:M14)/2 -> 60920 | N7: =SUM(N8:N14)/2 -> 5064410 | R7: =SUM(R8:R14)/2 -> 0 | S7: =SUM(S8:S14)/2 -> -979080 | T7: =IF((L7+M7)=(R7+S7),"ok","검토") -> ok | W7: =SUM(W8:W14)/2 -> 0 | X7: =SUM(X8:X14)/2 -> 60920 | Y7: =IF((I7+J7)=(W7+X7),"ok","검토") -> ok
B8: 의회사무처 | F8: =SUM(F9:F11) -> 537490 | G8: =SUM(G9:G11) -> 366490 | H8: =SUM(H9:H11) -> 171000 | I8: =SUM(I9:I11) -> 0 | J8: =SUM(J9:J11) -> 60920 | K8: =SUM(K9:K11) -> 598410 | L8: =SUM(L9:L11) -> -100000 | M8: =SUM(M9:M11) -> 60920 | N8: =SUM(N9:N11) -> 498410 | R8: =SUM(R9:R11) -> 0 | S8: =SUM(S9:S11) -> -39080 | T8: =IF((L8+M8)=(R8+S8),"ok","검토") -> ok | W8: =SUM(W9:W11) -> 0 | X8: =SUM(X9:X11) -> 60920 | Y8: =IF((I8+J8)=(W8+X8),"ok","검토") -> ok
B9: 1회 | C9: 233 | D9: 의회사무처 | E9: 자산취득비 | F9: 358890 | G9: 287890 | H9: =IF(SUMPRODUCT(COUNTIF(C9,{"*본예산*","*신규*"})),"-",F9-G9) -> 71000 | J9: 60920 | K9: =IF(F9=0,G9+I9+J9,F9+I9+J9) -> 419810 | M9: 60920 | N9: =IF(F9=0,G9+L9+M9,F9+L9+M9) -> 419810 | O9: =IF(I9-L9<0,"동의필요","-") -> - | P9: 상임위 의견 반영 | Q9: 도비 | R9: =IF(Q9<>"도비",SUM(L9:M9),) -> 0 | S9: =IF(Q9="도비",SUM(L9:M9),SUM(L9:M9)-R9) -> 60920 | T9: =IF((L9+M9)=(R9+S9),"ok","검토") -> ok | V9: 도비 | W9: =IF(V9<>"도비",SUM(I9:J9),) -> 0 | X9: =IF(V9="도비",SUM(I9:J9),SUM(I9:J9)-W9) -> 60920 | Y9: =IF((I9+J9)=(W9+X9),"ok","검토") -> ok | AA9: 1
B10: 1회 | C10: 232 | D10: 의회사무처 | E10: 미디어 홍보(자체/직접) - SNS 홍보매체 운영 | F10: 70000 | H10: =IF(SUMPRODUCT(COUNTIF(C10,{"*본예산*","*신규*"})),"-",F10-G10) -> 70000 | K10: =IF(F10=0,G10+I10+J10,F10+I10+J10) -> 70000 | L10: -70000 | N10: =IF(F10=0,G10+L10+M10,F10+L10+M10) -> 0 | O10: =IF(I10-L10<0,"동의필요","-") -> - | P10: 사업효과성 미흡 | Q10: 도비 | R10: =IF(Q10<>"도비",SUM(L10:M10),) -> 0 | S10: =IF(Q10="도비",SUM(L10:M10),SUM(L10:M10)-R10) -> -70000 | T10: =IF((L10+M10)=(R10+S10),"ok","검토") -> ok | V10: 도비 | W10: =IF(V10<>"도비",SUM(I10:J10),) -> 0 | X10: =IF(V10="도비",SUM(I10:J10),SUM(I10:J10)-W10) -> 0 | Y10: =IF((I10+J10)=(W10+X10),"ok","검토") -> ok | AA10: 1
B11: 1회 | C11: 232 | D11: 의회사무처 | E11: 의정지원 기준경비(자체/직접) - 국제행사 참여 | F11: 108600 | G11: 78600 | H11: =IF(SUMPRODUCT(COUNTIF(C11,{"*본예산*","*신규*"})),"-",F11-G11) -> 30000 | K11: =IF(F11=0,G11+I11+J11,F11+I11+J11) -> 108600 | L11: -30000 | N11: =IF(F11=0,G11+L11+M11,F11+L11+M11) -> 78600 | O11: =IF(I11-L11<0,"동의필요","-") -> - | P11: 예산편성 기준 준수 | Q11: 도비 | R11: =IF(Q11<>"도비",SUM(L11:M11),) -> 0 | S11: =IF(Q11="도비",SUM(L11:M11),SUM(L11:M11)-R11) -> -30000 | T11: =IF((L11+M11)=(R11+S11),"ok","검토") -> ok | V11: 도비 | W11: =IF(V11<>"도비",SUM(I11:J11),) -> 0 | X11: =IF(V11="도비",SUM(I11:J11),SUM(I11:J11)-W11) -> 0 | Y11: =IF((I11+J11)=(W11+X11),"ok","검토") -> ok | AA11: 1
B12: 대변인 | F12: =SUM(F13:F14) -> 5506000 | G12: =SUM(G13:G14) -> 4566000 | H12: =SUM(H13:H14) -> 940000 | I12: =SUM(I13:I14) -> 0 | J12: =SUM(J13:J14) -> 0 | K12: =SUM(K13:K14) -> 5506000 | L12: =SUM(L13:L14) -> -940000 | M12: =SUM(M13:M14) -> 0 | N12: =SUM(N13:N14) -> 4566000 | R12: =SUM(R13:R14) -> 0 | S12: =SUM(S13:S14) -> -940000 | T12: =IF((L12+M12)=(R12+S12),"ok","검토") -> ok | W12: =SUM(W13:W14) -> 0 | X12: =SUM(X13:X14) -> 0 | Y12: =IF((I12+J12)=(W12+X12),"ok","검토") -> ok
B13: 1회 | C13: 238 | D13: 언론담당관 | E13: 신문을 통한 홍보(자체/직접) - 언론공익광고 | F13: 1776000 | G13: 1226000 | H13: =IF(SUMPRODUCT(COUNTIF(C13,{"*본예산*","*신규*"})),"-",F13-G13) -> 550000 | K13: =IF(F13=0,G13+I13+J13,F13+I13+J13) -> 1776000 | L13: -550000 | N13: =IF(F13=0,G13+L13+M13,F13+L13+M13) -> 1226000 | O13: =IF(I13-L13<0,"동의필요","-") -> - | P13: 사업계획 미흡, 본예산 검토 | Q13: 도비 | R13: =IF(Q13<>"도비",SUM(L13:M13),) -> 0 | S13: =IF(Q13="도비",SUM(L13:M13),SUM(L13:M13)-R13) -> -550000 | T13: =IF((L13+M13)=(R13+S13),"ok","검토") -> ok | V13: 도비 | W13: =IF(V13<>"도비",SUM(I13:J13),) -> 0 | X13: =IF(V13="도비",SUM(I13:J13),SUM(I13:J13)-W13) -> 0 | Y13: =IF((I13+J13)=(W13+X13),"ok","검토") -> ok | AA13: 1
B14: 1회 | C14: 239 | D14: 홍보담당관 | E14: 도정기획홍보(자체/직접) - 도정기획홍보 | F14: 3730000 | G14: 3340000 | H14: =IF(SUMPRODUCT(COUNTIF(C14,{"*본예산*","*신규*"})),"-",F14-G14) -> 390000 | K14: =IF(F14=0,G14+I14+J14,F14+I14+J14) -> 3730000 | L14: -390000 | N14: =IF(F14=0,G14+L14+M14,F14+L14+M14) -> 3340000 | O14: =IF(I14-L14<0,"동의필요","-") -> - | P14: 사업계획 미흡, 본예산 검토 | Q14: 도비 | R14: =IF(Q14<>"도비",SUM(L14:M14),) -> 0 | S14: =IF(Q14="도비",SUM(L14:M14),SUM(L14:M14)-R14) -> -390000 | T14: =IF((L14+M14)=(R14+S14),"ok","검토") -> ok | V14: 도비 | W14: =IF(V14<>"도비",SUM(I14:J14),) -> 0 | X14: =IF(V14="도비",SUM(I14:J14),SUM(I14:J14)-W14) -> 0 | Y14: =IF((I14+J14)=(W14+X14),"ok","검토") -> ok | AA14: 1
A15: 기획재정위원회 | F15: =SUM(F16:F23)/2 -> 1570648622 | G15: =SUM(G16:G23)/2 -> 1399359490 | H15: =SUM(H16:H23)/2 -> 171289132 | I15: =SUM(I16:I23)/2 -> -1910000 | J15: =SUM(J16:J23)/2 -> 0 | K15: =SUM(K16:K23)/2 -> 1568738622 | L15: =SUM(L16:L23)/2 -> -14046635 | M15: =SUM(M16:M23)/2 -> 0 | N15: =SUM(N16:N23)/2 -> 1556601987 | R15: =SUM(R16:R23)/2 -> 0 | S15: =SUM(S16:S23)/2 -> -14046635 | T15: =IF((L15+M15)=(R15+S15),"ok","검토") -> ok | W15: =SUM(W16:W23)/2 -> 0 | X15: =SUM(X16:X23)/2 -> -1910000 | Y15: =IF((I15+J15)=(W15+X15),"ok","검토") -> ok
B16: 기획조정실 | F16: =SUM(F17:F20) -> 1570348622 | G16: =SUM(G17:G20) -> 1399359490 | H16: =SUM(H17:H20) -> 170989132 | I16: =SUM(I17:I20) -> -1910000 | J16: =SUM(J17:J20) -> 0 | K16: =SUM(K17:K20) -> 1568438622 | L16: =SUM(L17:L20) -> -13846635 | M16: =SUM(M17:M20) -> 0 | N16: =SUM(N17:N20) -> 1556501987 | R16: =SUM(R17:R20) -> 0 | S16: =SUM(S17:S20) -> -13846635 | T16: =IF((L16+M16)=(R16+S16),"ok","검토") -> ok | W16: =SUM(W17:W20) -> 0 | X16: =SUM(X17:X20) -> -1910000 | Y16: =IF((I16+J16)=(W16+X16),"ok","검토") -> ok
B17: 1회 | C17: 261 | D17: 창조행정담당관 | E17: 도정발전 연구용역(자체/직접) - 도정발전 연구용역(pool) | F17: 1000000 | G17: 300000 | H17: =IF(SUMPRODUCT(COUNTIF(C17,{"*본예산*","*신규*"})),"-",F17-G17) -> 700000 | I17: -500000 | K17: =IF(F17=0,G17+I17+J17,F17+I17+J17) -> 500000 | L17: -500000 | N17: =IF(F17=0,G17+L17+M17,F17+L17+M17) -> 500000 | O17: =IF(I17-L17<0,"동의필요","-") -> - | P17: 예산편성 과다 | Q17: 도비 | R17: =IF(Q17<>"도비",SUM(L17:M17),) -> 0 | S17: =IF(Q17="도비",SUM(L17:M17),SUM(L17:M17)-R17) -> -500000 | T17: =IF((L17+M17)=(R17+S17),"ok","검토") -> ok | V17: 도비 | W17: =IF(V17<>"도비",SUM(I17:J17),) -> 0 | X17: =IF(V17="도비",SUM(I17:J17),SUM(I17:J17)-W17) -> -500000 | Y17: =IF((I17+J17)=(W17+X17),"ok","검토") -> ok | AA17: 1
B18: 1회 | C18: 269 | D18: 정보서비스담당관 | E18: 스마트타운 플랫폼 구축(자체/직접) - 스마트타운 플랫폼 구축(국가직접 사업) | F18: 210000 | H18: =IF(SUMPRODUCT(COUNTIF(C18,{"*본예산*","*신규*"})),"-",F18-G18) -> 210000 | I18: -210000 | K18: =IF(F18=0,G18+I18+J18,F18+I18+J18) -> 0 | L18: 0 | M18: 0 | N18: =IF(F18=0,G18+L18+M18,F18+L18+M18) -> 210000 | O18: =IF(I18-L18<0,"동의필요","-") -> 동의필요 | P18: 사업필요성 인정 | Q18: 도비 | R18: =IF(Q18<>"도비",SUM(L18:M18),) -> 0 | S18: =IF(Q18="도비",SUM(L18:M18),SUM(L18:M18)-R18) -> 0 | T18: =IF((L18+M18)=(R18+S18),"ok","검토") -> ok | V18: 도비 | W18: =IF(V18<>"도비",SUM(I18:J18),) -> 0 | X18: =IF(V18="도비",SUM(I18:J18),SUM(I18:J18)-W18) -> -210000 | Y18: =IF((I18+J18)=(W18+X18),"ok","검토") -> ok | AA18: 1
