Workbook

Sheet 상임 표지
D2: 2014년도 제1회 일반회계 및 특별회계 추가경정 세입·세출 예산안
D4: 상 임 위 계 수 조 정 결 과
D16: 예산결산특별위원회

Sheet 예결 표지
B5: 2014년도 제1회 일반회계 및 특별회계 추가경정 세입·세출 예산안
B7: 예결위 계수조정 결과
B33: 예산결산특별위원회

Sheet 예결 표지(가로)
B3: 2014년도 제1회 일반회계 및 특별회계 추가경정 세입·세출 예산안
B5: 예결위 계수조정 결과
B24: 예산결산특별위원회

Sheet 총괄표
B1: '14년도 제1회 추경 일반 및 특별회계 세입·세출 예산 수정안[전체예산총괄]
B3: □ 총 괄 | D3: 세입예산증감 | E3: =SUM(D7:E7) -> 3134642 | F3: 세출예산증감 | G3: =SUM(F7:G7) -> 3134642
H4: (단위:천원) | M4: (일반+특별+기금) | O4: 특별+기금
B5: 구 분 | C5: 집행부제출(안) | D5: 세입예산(안) | F5: 세출예산(안) | H5: 예산수정(안) | I5: 일반회계 증감(총괄표) | K5: 예비비증감 | L5: 비 고 | M5: 전체 증감(시트) | O5: 비고
D6: 감 액 | E6: 증 액 | F6: 감 액 | G6: 증 액 | I6: 세입 | J6: 세출 | M6: 세입 | N6: 세출
B7: 합 계 | C7: =SUM(C8:C18) -> 17802852244 | D7: =SUM(D8:D18) -> -200161 | E7: =SUM(E8:E18) -> 3334803 | F7: =SUM(F8:F18) -> -18673514 | G7: =SUM(G8:G18) -> 21808156 | H7: =SUM(H8:H18) -> 17805986886 | I7: =E25+D25 -> 3134642 | J7: =F25+G25 -> 3134642 | K7: =I7-J7 -> 0 | L7: 예비비 증감이 - 예산이면 감액에 + 예산이면 증액에 입력 | M7: =D24+E24 -> 3134642 | N7: =F24+G24 -> 3134642 | O7: 0 | P7: 0
B8: 기 타 | C8: 0 | H8: =C8-F8+G8 -> 0 | I8: =D7+E7 -> 3134642 | J8: =F7+G7 -> 3134642 | K8: =I8-J8 -> 0
B9: 의회운영위원회 | C9: 39922113 | D9: =SUMIFS('일반 세입'!$L$7:$L$1000,'일반 세입'!$A$7:$A$1000,총괄표!$B9) -> 0 | E9: =SUMIFS('일반 세입'!$M$7:$M$1000,'일반 세입'!$A$7:$A$1000,총괄표!$B9) -> 0 | F9: =SUMIFS('일반 세출'!$L$7:$L$1001,'일반 세출'!$A$7:$A$1001,총괄표!$B9) -> -1040000 | G9: =SUMIFS('일반 세출'!$M$7:$M$1001,'일반 세출'!$A$7:$A$1001,총괄표!$B9) -> 60920 | H9: =C9+F9+G9 -> 38943033 | I9: 일반회계 증감(시트) | N9: 전체 증감
B10: 기획재정위원회 | C10: 5083518101 | D10: =SUMIFS('일반 세입'!$L$7:$L$1000,'일반 세입'!$A$7:$A$1000,총괄표!$B10) -> 0 | E10: =SUMIFS('일반 세입'!$M$7:$M$1000,'일반 세입'!$A$7:$A$1000,총괄표!$B10) -> 0 | F10: =SUMIFS('일반 세출'!$L$7:$L$1001,'일반 세출'!$A$7:$A$1001,총괄표!$B10) -> -14046635 | G10: =SUMIFS('일반 세출'!$M$7:$M$1001,'일반 세출'!$A$7:$A$1001,총괄표!$B10) -> 0 | H10: =C10+F10+G10 -> 5069471466 | I10: ='일반 세입'!L6+'일반 세입'!M6 -> 3134642 | J10: =#REF!+#REF! -> #REF! | N10: =M7-N7 -> 0
B11: 경제과학기술위원회 | C11: 540073060 | D11: =SUMIFS('일반 세입'!$L$7:$L$1000,'일반 세입'!$A$7:$A$1000,총괄표!$B11) -> 0 | E11: =SUMIFS('일반 세입'!$M$7:$M$1000,'일반 세입'!$A$7:$A$1000,총괄표!$B11) -> 0 | F11: =SUMIFS('일반 세출'!$L$7:$L$1001,'일반 세출'!$A$7:$A$1001,총괄표!$B11) -> -180000 | G11: =SUMIFS('일반 세출'!$M$7:$M$1001,'일반 세출'!$A$7:$A$1001,총괄표!$B11) -> 1660000 | H11: =C11+F11+G11 -> 541553060
B12: 안전행정위원회 | C12: 1142858974 | D12: =SUMIFS('일반 세입'!$L$7:$L$1000,'일반 세입'!$A$7:$A$1000,총괄표!$B12) -> 0 | E12: =SUMIFS('일반 세입'!$M$7:$M$1000,'일반 세입'!$A$7:$A$1000,총괄표!$B12) -> 1421 | F12: =SUMIFS('일반 세출'!$L$7:$L$1001,'일반 세출'!$A$7:$A$1001,총괄표!$B12) -> -1302695 | G12: =SUMIFS('일반 세출'!$M$7:$M$1001,'일반 세출'!$A$7:$A$1001,총괄표!$B12) -> 5514421 | H12: =C12+F12+G12 -> 1147070700
B13: 문화체육관광위원회 | C13: 276727608 | D13: =SUMIFS('일반 세입'!$L$7:$L$1000,'일반 세입'!$A$7:$A$1000,총괄표!$B13) -> 0 | E13: =SUMIFS('일반 세입'!$M$7:$M$1000,'일반 세입'!$A$7:$A$1000,총괄표!$B13) -> 10000 | F13: =SUMIFS('일반 세출'!$L$7:$L$1001,'일반 세출'!$A$7:$A$1001,총괄표!$B13) -> -1792534 | G13: =SUMIFS('일반 세출'!$M$7:$M$1001,'일반 세출'!$A$7:$A$1001,총괄표!$B13) -> 2632534 | H13: =C13+F13+G13 -> 277567608 | N13: 기금
B14: 농정해양위원회 | C14: 466978999 | D14: =SUMIFS('일반 세입'!$L$7:$L$1000,'일반 세입'!$A$7:$A$1000,총괄표!$B14) -> 0 | E14: =SUMIFS('일반 세입'!$M$7:$M$1000,'일반 세입'!$A$7:$A$1000,총괄표!$B14) -> 1094246 | F14: =SUMIFS('일반 세출'!$L$7:$L$1001,'일반 세출'!$A$7:$A$1001,총괄표!$B14) -> 0 | G14: =SUMIFS('일반 세출'!$M$7:$M$1001,'일반 세출'!$A$7:$A$1001,총괄표!$B14) -> 3584246 | H14: =C14+F14+G14 -> 470563245 | N14: =N10-K7 -> 0
B15: 보건복지위원회 | C15: 3254006708 | D15: =SUMIFS('일반 세입'!$L$7:$L$1000,'일반 세입'!$A$7:$A$1000,총괄표!$B15) -> -200161 | E15: =SUMIFS('일반 세입'!$M$7:$M$1000,'일반 세입'!$A$7:$A$1000,총괄표!$B15) -> 3320 | F15: =SUMIFS('일반 세출'!$L$7:$L$1001,'일반 세출'!$A$7:$A$1001,총괄표!$B15) -> -171650 | G15: =SUMIFS('일반 세출'!$M$7:$M$1001,'일반 세출'!$A$7:$A$1001,총괄표!$B15) -> 627175 | H15: =C15+F15+G15 -> 3254462233
B16: 건설교통위원회 | C16: 1220859831 | D16: =SUMIFS('일반 세입'!$L$7:$L$1000,'일반 세입'!$A$7:$A$1000,총괄표!$B16) -> 0 | E16: =SUMIFS('일반 세입'!$M$7:$M$1000,'일반 세입'!$A$7:$A$1000,총괄표!$B16) -> 0 | F16: =SUMIFS('일반 세출'!$L$7:$L$1001,'일반 세출'!$A$7:$A$1001,총괄표!$B16) -> -40000 | G16: =SUMIFS('일반 세출'!$M$7:$M$1001,'일반 세출'!$A$7:$A$1001,총괄표!$B16) -> 5160000 | H16: =C16+F16+G16 -> 1225979831
B17: 도시환경위원회 | C17: 895323933 | D17: =SUMIFS('일반 세입'!$L$7:$L$1000,'일반 세입'!$A$7:$A$1000,총괄표!$B17) -> 0 | E17: =SUMIFS('일반 세입'!$M$7:$M$1000,'일반 세입'!$A$7:$A$1000,총괄표!$B17) -> 0 | F17: =SUMIFS('일반 세출'!$L$7:$L$1001,'일반 세출'!$A$7:$A$1001,총괄표!$B17) -> -50000 | G17: =SUMIFS('일반 세출'!$M$7:$M$1001,'일반 세출'!$A$7:$A$1001,총괄표!$B17) -> 53000 | H17: =C17+F17+G17 -> 895326933
B18: 여성가족평생교육위원회 | C18: 4882582917 | D18: =SUMIFS('일반 세입'!$L$7:$L$1000,'일반 세입'!$A$7:$A$1000,총괄표!$B18) -> 0 | E18: =SUMIFS('일반 세입'!$M$7:$M$1000,'일반 세입'!$A$7:$A$1000,총괄표!$B18) -> 2225816 | F18: =SUMIFS('일반 세출'!$L$7:$L$1001,'일반 세출'!$A$7:$A$1001,총괄표!$B18) -> -50000 | G18: =SUMIFS('일반 세출'!$M$7:$M$1001,'일반 세출'!$A$7:$A$1001,총괄표!$B18) -> 2515860 | H18: =C18+F18+G18 -> 4885048777
B20: □ 회계별 예산총규모
H21: (단위:천원)
B22: 구 분 | C22: 세출예산액 (집행부제출 안) | D22: 세입예산(안) | F22: 세출예산(안) | H22: 예산수정(안)
D23: 감 액 | E23: 증 액 | F23: 감 액 | G23: 증 액 | I23: 세입기준 수정예산안
B24: 합 계 | C24: =SUM(C25:C26) -> 17802852244 | D24: =SUM(D25:D26) -> -200161 | E24: =SUM(E25:E26) -> 3334803 | F24: =SUM(F25:F26) -> -18673514 | G24: =SUM(G25:G26) -> 21808156 | H24: =SUM(H25:H26) -> 17805986886 | I24: =C24+D24+E24 -> 17805986886 | J24: =I24-H24 -> 0 | K24: (세출기준-세입기준)
B25: 일반회계 | C25: 14332606235 | D25: ='일반 세입'!L6 -> -200161 | E25: ='일반 세입'!M6 -> 3334803 | F25: ='일반 세출'!L6 -> -18673514 | G25: ='일반 세출'!M6 -> 21808156 | H25: =C25+F25+G25 -> 14335740877 | I25: =C25+D25+E25 -> 14335740877 | J25: =I25-H25 -> 0 | K25: (세출기준-세입기준)
B26: 특별회계 | C26: 3470246009 | H26: =C26+F26+G26 -> 3470246009 | I26: =C26+D26+E26 -> 3470246009 | J26: =I26-H26 -> 0 | K26: (세출기준-세입기준)
B30: 위원회명 | C30: 일반+기특 | D30: 공기업 | E30: 합계
B31: 의회운영위원회 | C31: 39922113 | E31: =SUM(C31:D31) -> 39922113
B32: 기획재정위원회 | C32: 3302571667 | D32: 1780946434 | E32: =SUM(C32:D32) -> 5083518101
B33: 경제과학기술위원회 | C33: 155329320 | D33: 384743740 | E33: =SUM(C33:D33) -> 540073060
B34: 안전행정위원회 | C34: 1142858974 | E34: =SUM(C34:D34) -> 1142858974
B35: 문화체육관광위원회 | C35: 224243208 | D35: 52484400 | E35: =SUM(C35:D35) -> 276727608
B36: 농정해양위원회 | C36: 466978999 | E36: =SUM(C36:D36) -> 466978999
B37: 보건복지위원회 | C37: 3254006708 | E37: =SUM(C37:D37) -> 3254006708
B38: 건설교통위원회 | C38: 1220859831 | E38: =SUM(C38:D38) -> 1220859831
B39: 도시환경위원회 | C39: 866963933 | D39: 28360000 | E39: =SUM(C39:D39) -> 895323933
B40: 여성가족평생교육위원회 | C40: 4882582917 | E40: =SUM(C40:D40) -> 4882582917
B41: 총합계 | C41: =SUM(C31:C40) -> 15556317670 | D41: =SUM(D31:D40) -> 2246534574 | E41: =SUM(C41:D41) -> 17802852244
B43: 예비비 | C43: =3922478-221377 -> 3701101
I160: ◦ 본청 83,000 증 ◦ 북부청 377,000 증
K290: -50000

Sheet 총괄표(실국별)
B1: '14년도 제1회 추경 일반 및 특별회계 세입·세출 예산 수정안[전체예산총괄]
B3: □ 총괄(실국별) | E3: =SUM(D7:E7) -> 3134642 | G3: =SUM(F7:G7) -> #REF!
H4: (단위:천원) | M4: (일반+특별+기금) | O4: 특별+기금
B5: 구 분 | C5: 집행부제출(안) | D5: 세입예산(안) | F5: 세출예산(안) | H5: 예산수정(안) | I5: 일반회계 증감(총괄표) | K5: 예비비증감 | L5: 비 고 | M5: 전체 증감(시트) | O5: 비고
D6: 감 액 | E6: 증 액 | F6: 감 액 | G6: 증 액 | I6: 세입 | J6: 세출 | M6: 세입 | N6: 세출
B7: 합 계 | C7: =SUM(C8:C36) -> 17802852244 | D7: =SUM(D8:D36) -> -200161 | E7: =SUM(E8:E36) -> 3334803 | F7: =SUM(F8:F36) -> #REF! | G7: =SUM(G8:G36) -> #REF! | H7: =SUM(H8:H36) -> #REF! | I7: =#REF!+#REF! -> #REF! | J7: =#REF!+#REF! -> #REF! | K7: =I7-J7 -> #REF! | L7: 예비비 증감이 - 예산이면 감액에 + 예산이면 증액에 입력 | M7: =#REF!+#REF! -> #REF! | N7: =#REF!+#REF! -> #REF! | O7: 0 | P7: 0
B8: 감사관 | C8: 914581 | D8: =SUMIFS('일반 세입'!$L$7:$L$1000,'일반 세입'!$B$7:$B$1000,'총괄표(실국별)'!$B8) -> 0 | E8: =SUMIFS('일반 세입'!$M$7:$M$1000,'일반 세입'!$B$7:$B$1000,'총괄표(실국별)'!$B8) -> 0 | F8: =SUMIFS(#REF!,#REF!,'총괄표(실국별)'!$B8) -> #REF! | G8: =SUMIFS(#REF!,#REF!,'총괄표(실국별)'!$B8) -> #REF! | H8: =C8+F8+G8 -> #REF! | I8: 일반회계 증감(시트) | N8: 전체 증감
B9: 기획조정실 | C9: 4900754235 | D9: =SUMIFS('일반 세입'!$L$7:$L$1000,'일반 세입'!$B$7:$B$1000,'총괄표(실국별)'!$B9) -> 0 | E9: =SUMIFS('일반 세입'!$M$7:$M$1000,'일반 세입'!$B$7:$B$1000,'총괄표(실국별)'!$B9) -> 0 | F9: =SUMIFS(#REF!,#REF!,'총괄표(실국별)'!$B9) -> #REF! | G9: =SUMIFS(#REF!,#REF!,'총괄표(실국별)'!$B9) -> #REF! | H9: =C9+F9+G9 -> #REF! | I9: ='일반 세입'!#REF!+'일반 세입'!#REF! -> #REF! | J9: =#REF!+#REF! -> #REF! | N9: =#REF!-#REF! -> #REF!
B10: 도시주택실 | C10: 218469521 | D10: =SUMIFS('일반 세입'!$L$7:$L$1000,'일반 세입'!$B$7:$B$1000,'총괄표(실국별)'!$B10) -> 0 | E10: =SUMIFS('일반 세입'!$M$7:$M$1000,'일반 세입'!$B$7:$B$1000,'총괄표(실국별)'!$B10) -> 0 | F10: =SUMIFS(#REF!,#REF!,'총괄표(실국별)'!$B10) -> #REF! | G10: =SUMIFS(#REF!,#REF!,'총괄표(실국별)'!$B10) -> #REF! | H10: =C10+F10+G10 -> #REF! | I10: ='일반 세입'!#REF!+'일반 세입'!#REF! -> #REF! | J10: =#REF!+#REF! -> #REF! | N10: =#REF!-#REF! -> #REF!
B11: 자치행정국 | C11: 544196314 | D11: =SUMIFS('일반 세입'!$L$7:$L$1000,'일반 세입'!$B$7:$B$1000,'총괄표(실국별)'!$B11) -> 0 | E11: =SUMIFS('일반 세입'!$M$7:$M$1000,'일반 세입'!$B$7:$B$1000,'총괄표(실국별)'!$B11) -> 1421 | F11: =SUMIFS(#REF!,#REF!,'총괄표(실국별)'!$B11) -> #REF! | G11: =SUMIFS(#REF!,#REF!,'총괄표(실국별)'!$B11) -> #REF! | H11: =C11+F11+G11 -> #REF!
B12: 문화체육관광국 | C12: 276727608 | D12: =SUMIFS('일반 세입'!$L$7:$L$1000,'일반 세입'!$B$7:$B$1000,'총괄표(실국별)'!$B12) -> 0 | E12: =SUMIFS('일반 세입'!$M$7:$M$1000,'일반 세입'!$B$7:$B$1000,'총괄표(실국별)'!$B12) -> 10000 | F12: =SUMIFS(#REF!,#REF!,'총괄표(실국별)'!$B12) -> #REF! | G12: =SUMIFS(#REF!,#REF!,'총괄표(실국별)'!$B12) -> #REF! | H12: =C12+F12+G12 -> #REF!
B13: 농정해양국 | C13: 249710070 | D13: =SUMIFS('일반 세입'!$L$7:$L$1000,'일반 세입'!$B$7:$B$1000,'총괄표(실국별)'!$B13) -> 0 | E13: =SUMIFS('일반 세입'!$M$7:$M$1000,'일반 세입'!$B$7:$B$1000,'총괄표(실국별)'!$B13) -> 5067 | F13: =SUMIFS(#REF!,#REF!,'총괄표(실국별)'!$B13) -> #REF! | G13: =SUMIFS(#REF!,#REF!,'총괄표(실국별)'!$B13) -> #REF! | H13: =C13+F13+G13 -> #REF! | N13: 기금
B14: 보건복지국 | C14: 2571625696 | D14: =SUMIFS('일반 세입'!$L$7:$L$1000,'일반 세입'!$B$7:$B$1000,'총괄표(실국별)'!$B14) -> -200161 | E14: =SUMIFS('일반 세입'!$M$7:$M$1000,'일반 세입'!$B$7:$B$1000,'총괄표(실국별)'!$B14) -> 3320 | F14: =SUMIFS(#REF!,#REF!,'총괄표(실국별)'!$B14) -> #REF! | G14: =SUMIFS(#REF!,#REF!,'총괄표(실국별)'!$B14) -> #REF! | H14: =C14+F14+G14 -> #REF! | N14: =N10-#REF! -> #REF!
B15: 환경국 | C15: 94671441 | D15: =SUMIFS('일반 세입'!$L$7:$L$1000,'일반 세입'!$B$7:$B$1000,'총괄표(실국별)'!$B15) -> 0 | E15: =SUMIFS('일반 세입'!$M$7:$M$1000,'일반 세입'!$B$7:$B$1000,'총괄표(실국별)'!$B15) -> 0 | F15: =SUMIFS(#REF!,#REF!,'총괄표(실국별)'!$B15) -> #REF! | G15: =SUMIFS(#REF!,#REF!,'총괄표(실국별)'!$B15) -> #REF! | H15: =C15+F15+G15 -> #REF!
B16: 철도물류국 | C16: 107956457 | D16: =SUMIFS('일반 세입'!$L$7:$L$1000,'일반 세입'!$B$7:$B$1000,'총괄표(실국별)'!$B16) -> 0 | E16: =SUMIFS('일반 세입'!$M$7:$M$1000,'일반 세입'!$B$7:$B$1000,'총괄표(실국별)'!$B16) -> 0 | F16: =SUMIFS(#REF!,#REF!,'총괄표(실국별)'!$B16) -> #REF! | G16: =SUMIFS(#REF!,#REF!,'총괄표(실국별)'!$B16) -> #REF! | H16: =C16+F16+G16 -> #REF!
B17: 여성가족국 | C17: 1879955306 | D17: =SUMIFS('일반 세입'!$L$7:$L$1000,'일반 세입'!$B$7:$B$1000,'총괄표(실국별)'!$B17) -> 0 | E17: =SUMIFS('일반 세입'!$M$7:$M$1000,'일반 세입'!$B$7:$B$1000,'총괄표(실국별)'!$B17) -> 2225816 | F17: =SUMIFS(#REF!,#REF!,'총괄표(실국별)'!$B17) -> #REF! | G17: =SUMIFS(#REF!,#REF!,'총괄표(실국별)'!$B17) -> #REF! | H17: =C17+F17+G17 -> #REF!
B18: 소방재난본부 | C18: 475412376 | D18: =SUMIFS('일반 세입'!$L$7:$L$1000,'일반 세입'!$B$7:$B$1000,'총괄표(실국별)'!$B18) -> 0 | E18: =SUMIFS('일반 세입'!$M$7:$M$1000,'일반 세입'!$B$7:$B$1000,'총괄표(실국별)'!$B18) -> 0 | F18: =SUMIFS(#REF!,#REF!,'총괄표(실국별)'!$B18) -> #REF! | G18: =SUMIFS(#REF!,#REF!,'총괄표(실국별)'!$B18) -> #REF! | H18: =C18+F18+G18 -> #REF! | I18: ='일반 세입'!#REF!+'일반 세입'!#REF! -> #REF! | J18: =#REF!+#REF! -> #REF! | N18: =#REF!-#REF! -> #REF!
B19: 경제투자실 | C19: 532996110 | D19: =SUMIFS('일반 세입'!$L$7:$L$1000,'일반 세입'!$B$7:$B$1000,'총괄표(실국별)'!$B19) -> 0 | E19: =SUMIFS('일반 세입'!$M$7:$M$1000,'일반 세입'!$B$7:$B$1000,'총괄표(실국별)'!$B19) -> 0 | F19: =SUMIFS(#REF!,#REF!,'총괄표(실국별)'!$B19) -> #REF! | G19: =SUMIFS(#REF!,#REF!,'총괄표(실국별)'!$B19) -> #REF! | H19: =C19+F19+G19 -> #REF!
B20: 대변인 | C20: 9607826 | D20: =SUMIFS('일반 세입'!$L$7:$L$1000,'일반 세입'!$B$7:$B$1000,'총괄표(실국별)'!$B20) -> 0 | E20: =SUMIFS('일반 세입'!$M$7:$M$1000,'일반 세입'!$B$7:$B$1000,'총괄표(실국별)'!$B20) -> 0 | F20: =SUMIFS(#REF!,#REF!,'총괄표(실국별)'!$B20) -> #REF! | G20: =SUMIFS(#REF!,#REF!,'총괄표(실국별)'!$B20) -> #REF! | H20: =C20+F20+G20 -> #REF!
B21: 대외협력담당관 | C21: 384069 | D21: =SUMIFS('일반 세입'!$L$7:$L$1000,'일반 세입'!$B$7:$B$1000,'총괄표(실국별)'!$B21) -> 0 | E21: =SUMIFS('일반 세입'!$M$7:$M$1000,'일반 세입'!$B$7:$B$1000,'총괄표(실국별)'!$B21) -> 0 | F21: =SUMIFS(#REF!,#REF!,'총괄표(실국별)'!$B21) -> #REF! | G21: =SUMIFS(#REF!,#REF!,'총괄표(실국별)'!$B21) -> #REF! | H21: =C21+F21+G21 -> #REF! | N21: 기금
B22: 복지여성실 | C22: 1353512493 | D22: =SUMIFS('일반 세입'!$L$7:$L$1000,'일반 세입'!$B$7:$B$1000,'총괄표(실국별)'!$B22) -> 0 | E22: =SUMIFS('일반 세입'!$M$7:$M$1000,'일반 세입'!$B$7:$B$1000,'총괄표(실국별)'!$B22) -> 0 | F22: =SUMIFS(#REF!,#REF!,'총괄표(실국별)'!$B22) -> #REF! | G22: =SUMIFS(#REF!,#REF!,'총괄표(실국별)'!$B22) -> #REF! | H22: =C22+F22+G22 -> #REF! | N22: =N18-#REF! -> #REF!
B23: 안전행정실 | C23: 69450506 | D23: =SUMIFS('일반 세입'!$L$7:$L$1000,'일반 세입'!$B$7:$B$1000,'총괄표(실국별)'!$B23) -> 0 | E23: =SUMIFS('일반 세입'!$M$7:$M$1000,'일반 세입'!$B$7:$B$1000,'총괄표(실국별)'!$B23) -> 0 | F23: =SUMIFS(#REF!,#REF!,'총괄표(실국별)'!$B23) -> #REF! | G23: =SUMIFS(#REF!,#REF!,'총괄표(실국별)'!$B23) -> #REF! | H23: =C23+F23+G23 -> #REF!
B24: 균형발전국 | C24: 173302168 | D24: =SUMIFS('일반 세입'!$L$7:$L$1000,'일반 세입'!$B$7:$B$1000,'총괄표(실국별)'!$B24) -> 0 | E24: =SUMIFS('일반 세입'!$M$7:$M$1000,'일반 세입'!$B$7:$B$1000,'총괄표(실국별)'!$B24) -> 0 | F24: =SUMIFS(#REF!,#REF!,'총괄표(실국별)'!$B24) -> #REF! | G24: =SUMIFS(#REF!,#REF!,'총괄표(실국별)'!$B24) -> #REF! | H24: =C24+F24+G24 -> #REF!
B25: 평생교육국 | C25: 2325292998 | D25: =SUMIFS('일반 세입'!$L$7:$L$1000,'일반 세입'!$B$7:$B$1000,'총괄표(실국별)'!$B25) -> 0 | E25: =SUMIFS('일반 세입'!$M$7:$M$1000,'일반 세입'!$B$7:$B$1000,'총괄표(실국별)'!$B25) -> 0 | F25: =SUMIFS(#REF!,#REF!,'총괄표(실국별)'!$B25) -> #REF! | G25: =SUMIFS(#REF!,#REF!,'총괄표(실국별)'!$B25) -> #REF! | H25: =C25+F25+G25 -> #REF!
B26: 축산산림국 | C26: 193048941 | D26: =SUMIFS('일반 세입'!$L$7:$L$1000,'일반 세입'!$B$7:$B$1000,'총괄표(실국별)'!$B26) -> 0 | E26: =SUMIFS('일반 세입'!$M$7:$M$1000,'일반 세입'!$B$7:$B$1000,'총괄표(실국별)'!$B26) -> 1089179 | F26: =SUMIFS(#REF!,#REF!,'총괄표(실국별)'!$B26) -> #REF! | G26: =SUMIFS(#REF!,#REF!,'총괄표(실국별)'!$B26) -> #REF! | H26: =C26+F26+G26 -> #REF! | I26: ='일반 세입'!L1+'일반 세입'!M1 -> 0 | J26: =#REF!+#REF! -> #REF! | N26: =M2-N2 -> 0
B27: 교통건설국 | C27: 866196185 | D27: =SUMIFS('일반 세입'!$L$7:$L$1000,'일반 세입'!$B$7:$B$1000,'총괄표(실국별)'!$B27) -> 0 | E27: =SUMIFS('일반 세입'!$M$7:$M$1000,'일반 세입'!$B$7:$B$1000,'총괄표(실국별)'!$B27) -> 0 | F27: =SUMIFS(#REF!,#REF!,'총괄표(실국별)'!$B27) -> #REF! | G27: =SUMIFS(#REF!,#REF!,'총괄표(실국별)'!$B27) -> #REF! | H27: =C27+F27+G27 -> #REF!
B28: 북부소방재난본부 | C28: 1402108 | D28: =SUMIFS('일반 세입'!$L$7:$L$1000,'일반 세입'!$B$7:$B$1000,'총괄표(실국별)'!$B28) -> 0 | E28: =SUMIFS('일반 세입'!$M$7:$M$1000,'일반 세입'!$B$7:$B$1000,'총괄표(실국별)'!$B28) -> 0 | F28: =SUMIFS(#REF!,#REF!,'총괄표(실국별)'!$B28) -> #REF! | G28: =SUMIFS(#REF!,#REF!,'총괄표(실국별)'!$B28) -> #REF! | H28: =C28+F28+G28 -> #REF!
B29: 의회사무처 | C29: 29930218 | D29: =SUMIFS('일반 세입'!$L$7:$L$1000,'일반 세입'!$B$7:$B$1000,'총괄표(실국별)'!$B29) -> 0 | E29: =SUMIFS('일반 세입'!$M$7:$M$1000,'일반 세입'!$B$7:$B$1000,'총괄표(실국별)'!$B29) -> 0 | F29: =SUMIFS(#REF!,#REF!,'총괄표(실국별)'!$B29) -> #REF! | G29: =SUMIFS(#REF!,#REF!,'총괄표(실국별)'!$B29) -> #REF! | H29: =C29+F29+G29 -> #REF! | N29: 기금
B30: 농업기술원 | C30: 39275302 | D30: =SUMIFS('일반 세입'!$L$7:$L$1000,'일반 세입'!$B$7:$B$1000,'총괄표(실국별)'!$B30) -> 0 | E30: =SUMIFS('일반 세입'!$M$7:$M$1000,'일반 세입'!$B$7:$B$1000,'총괄표(실국별)'!$B30) -> 0 | F30: =SUMIFS(#REF!,#REF!,'총괄표(실국별)'!$B30) -> #REF! | G30: =SUMIFS(#REF!,#REF!,'총괄표(실국별)'!$B30) -> #REF! | H30: =C30+F30+G30 -> #REF! | N30: =N26-K2 -> 0
B31: 인재개발원 | C31: 8910247 | D31: =SUMIFS('일반 세입'!$L$7:$L$1000,'일반 세입'!$B$7:$B$1000,'총괄표(실국별)'!$B31) -> 0 | E31: =SUMIFS('일반 세입'!$M$7:$M$1000,'일반 세입'!$B$7:$B$1000,'총괄표(실국별)'!$B31) -> 0 | F31: =SUMIFS(#REF!,#REF!,'총괄표(실국별)'!$B31) -> #REF! | G31: =SUMIFS(#REF!,#REF!,'총괄표(실국별)'!$B31) -> #REF! | H31: =C31+F31+G31 -> #REF! | I31: ='일반 세입'!L6+'일반 세입'!M6 -> 3134642 | J31: =#REF!+#REF! -> #REF! | N31: =M7-N7 -> #REF!
B32: 보건환경연구원 | C32: 9409184 | D32: =SUMIFS('일반 세입'!$L$7:$L$1000,'일반 세입'!$B$7:$B$1000,'총괄표(실국별)'!$B32) -> 0 | E32: =SUMIFS('일반 세입'!$M$7:$M$1000,'일반 세입'!$B$7:$B$1000,'총괄표(실국별)'!$B32) -> 0 | F32: =SUMIFS(#REF!,#REF!,'총괄표(실국별)'!$B32) -> #REF! | G32: =SUMIFS(#REF!,#REF!,'총괄표(실국별)'!$B32) -> #REF! | H32: =C32+F32+G32 -> #REF!
B33: 팔당수질개선본부 | C33: 563921605 | D33: =SUMIFS('일반 세입'!$L$7:$L$1000,'일반 세입'!$B$7:$B$1000,'총괄표(실국별)'!$B33) -> 0 | E33: =SUMIFS('일반 세입'!$M$7:$M$1000,'일반 세입'!$B$7:$B$1000,'총괄표(실국별)'!$B33) -> 0 | F33: =SUMIFS(#REF!,#REF!,'총괄표(실국별)'!$B33) -> #REF! | G33: =SUMIFS(#REF!,#REF!,'총괄표(실국별)'!$B33) -> #REF! | H33: =C33+F33+G33 -> #REF!
B34: 건설본부 | C34: 246707189 | D34: =SUMIFS('일반 세입'!$L$7:$L$1000,'일반 세입'!$B$7:$B$1000,'총괄표(실국별)'!$B34) -> 0 | E34: =SUMIFS('일반 세입'!$M$7:$M$1000,'일반 세입'!$B$7:$B$1000,'총괄표(실국별)'!$B34) -> 0 | F34: =SUMIFS(#REF!,#REF!,'총괄표(실국별)'!$B34) -> #REF! | G34: =SUMIFS(#REF!,#REF!,'총괄표(실국별)'!$B34) -> #REF! | H34: =C34+F34+G34 -> #REF! | N34: 기금
B35: 소방학교 | C35: 5137721 | D35: =SUMIFS('일반 세입'!$L$7:$L$1000,'일반 세입'!$B$7:$B$1000,'총괄표(실국별)'!$B35) -> 0 | E35: =SUMIFS('일반 세입'!$M$7:$M$1000,'일반 세입'!$B$7:$B$1000,'총괄표(실국별)'!$B35) -> 0 | F35: =SUMIFS(#REF!,#REF!,'총괄표(실국별)'!$B35) -> #REF! | G35: =SUMIFS(#REF!,#REF!,'총괄표(실국별)'!$B35) -> #REF! | H35: =C35+F35+G35 -> #REF! | N35: =N31-K7 -> #REF!
B36: 소방서 | C36: 53973769 | D36: =SUMIFS('일반 세입'!$L$7:$L$1000,'일반 세입'!$B$7:$B$1000,'총괄표(실국별)'!$B36) -> 0 | E36: =SUMIFS('일반 세입'!$M$7:$M$1000,'일반 세입'!$B$7:$B$1000,'총괄표(실국별)'!$B36) -> 0 | F36: =SUMIFS(#REF!,#REF!,'총괄표(실국별)'!$B36) -> #REF! | G36: =SUMIFS(#REF!,#REF!,'총괄표(실국별)'!$B36) -> #REF! | H36: =C36+F36+G36 -> #REF!
B40: 위원회명 | C40: 일반+기특 | D40: 공기업 | E40: 합계
B41: 감사관 | C41: 914581 | E41: =SUM(C41:D41) -> 914581
B42: 기획조정실 | C42: 3119807801 | D42: 1780946434 | E42: =SUM(C42:D42) -> 4900754235
B43: 도시주택실 | C43: 190109521 | D43: 28360000 | E43: =SUM(C43:D43) -> 218469521
B44: 자치행정국 | C44: 544196314 | E44: =SUM(C44:D44) -> 544196314
B45: 문화체육관광국 | C45: 224243208 | D45: 52484400 | E45: =SUM(C45:D45) -> 276727608
B46: 농정해양국 | C46: 249710070 | E46: =SUM(C46:D46) -> 249710070
B47: 보건복지국 | C47: 2571625696 | E47: =SUM(C47:D47) -> 2571625696
B48: 환경국 | C48: 94671441 | E48: =SUM(C48:D48) -> 94671441
B49: 철도물류국 | C49: 107956457 | E49: =SUM(C49:D49) -> 107956457
B50: 여성가족국 | C50: 1879955306 | E50: =SUM(C50:D50) -> 1879955306
B51: 소방재난본부 | C51: 475412376 | E51: =SUM(C51:D51) -> 475412376
B52: 경제투자실 | C52: 148252370 | D52: 384743740 | E52: =SUM(C52:D52) -> 532996110
B53: 대변인 | C53: 9607826 | E53: =SUM(C53:D53) -> 9607826
B54: 대외협력담당관 | C54: 384069 | E54: =SUM(C54:D54) -> 384069
B55: 복지여성실 | C55: 1353512493 | E55: =SUM(C55:D55) -> 1353512493
B56: 안전행정실 | C56: 69450506 | E56: =SUM(C56:D56) -> 69450506
B57: 균형발전국 | C57: 173302168 | E57: =SUM(C57:D57) -> 173302168
B58: 평생교육국 | C58: 2325292998 | E58: =SUM(C58:D58) -> 2325292998
B59: 축산산림국 | C59: 193048941 | E59: =SUM(C59:D59) -> 193048941
B60: 교통건설국 | C60: 866196185 | E60: =SUM(C60:D60) -> 866196185
B61: 북부소방재난본부 | C61: 1402108 | E61: =SUM(C61:D61) -> 1402108
B62: 의회사무처 | C62: 29930218 | E62: =SUM(C62:D62) -> 29930218
B63: 경기도농업기술원 | C63: 39275302 | E63: =SUM(C63:D63) -> 39275302
B64: 경기도인재개발원 | C64: 8910247 | E64: =SUM(C64:D64) -> 8910247
... B69: 소방서 | C69: 53973769 | E69: =SUM(C69:D69) -> 53973769
B70: 총합계 | C70: =SUM(C41:C69) -> 15556317670 | D70: =SUM(D41:D69) -> 2246534574 | E70: =SUM(C70:D70) -> 17802852244
I170: ◦ 본청 83,000 증 ◦ 북부청 377,000 증
K300: -50000

Sheet 검증
A1: 세입 = 세출 검증, 재정보전금 자동계산
F3: 1회추경 재정보전금 | G3: 2322131292 | K3: =F12-G12 -> 0
H4: (단위 : 천원) | K4: =F14-G14 -> 0
A5: 구 분 | B5: 상임위 | F5: 예결위 | J5: 최종(예결위 + 국비변경)삭제
B6: 세입 | C6: 세출 | D6: 검증 | F6: 세입 | G6: 세출 | H6: 검증 | J6: 세입 | K6: 세출 | L6: 검증
A7: 전체 총계 | B7: =SUM(B8,B11) -> 3053429 | C7: =SUM(C8,C11) -> 29008824 | F7: =SUM(F8,F11) -> 3134642 | G7: =SUM(G8,G11) -> 3134642 | J7: =SUM(J8,J11) -> 3215855 | K7: =SUM(K8,K11) -> 3228450 | L7: =IF(J7=K7,"OK","@@") -> @@
A8: 자체 총계 | B8: ='일반 세입'!X6 -> -200161 | C8: ='일반 세출'!X6 -> 25755234 | F8: ='일반 세입'!S6 -> -200161 | G8: ='일반 세출'!S6 -> -200161 | J8: ='일반 세입'!S6+'국비변경(일반 세입)(삭제)'!S6 -> -200161 | K8: ='일반 세출'!S6+'국비변경(일반 세출)(삭제)'!S6 -> -187566
A9: 자체 - 의존도비 | G9: =G8-G10 -> -490205 | K9: =K8-K10 -> -490205
A10: 의존 매칭 도비 | G10: =SUMIFS('일반 세출'!S7:S1010,'일반 세출'!Q7:Q1010,"국비")+SUMIFS('일반 세출'!S7:S1010,'일반 세출'!Q7:Q1010,"기금") -> 290044 | K10: =G10+SUMIFS('국비변경(일반 세출)(삭제)'!S7:S1000,'국비변경(일반 세출)(삭제)'!Q7:Q1000,"국비")+SUMIFS('국비변경(일반 세출)(삭제)'!S7:S1000,'국비변경(일반 세출)(삭제)'!Q7:Q1000,"기금") -> 302639
A11: 의존계 | B11: =SUM(B12:B16) -> 3253590 | C11: =SUM(C12:C16) -> 3253590 | D11: =IF(B11=C11,"OK","@@") -> OK | F11: =SUM(F12:F16) -> 3334803 | G11: =SUM(G12:G16) -> 3334803 | H11: =IF(F11=G11,"OK","@@") -> OK | J11: =SUM(J12:J16) -> 3416016 | K11: =SUM(K12:K16) -> 3416016 | L11: =IF(J11=K11,"OK","@@") -> OK
A12: 국비 | B12: =SUMIFS('일반 세입'!$W$7:$W$1008,'일반 세입'!$V$7:$V$1008,$A12) -> 1716387 | C12: =SUMIFS('일반 세출'!$W$7:$W$1028,'일반 세출'!$V$7:$V$1028,$A12) -> 1716387 | D12: =IF(B12=C12,"OK","@@") -> OK | F12: =SUMIFS('일반 세입'!$R$7:$R$1008,'일반 세입'!$Q$7:$Q$1008,$A12) -> 1747808 | G12: =SUMIFS('일반 세출'!$R$7:$R$1027,'일반 세출'!$Q$7:$Q$1027,$A12) -> 1747808 | H12: =IF(F12=G12,"OK","@@") -> OK | J12: =SUMIFS('일반 세입'!$R$7:$R$1008,'일반 세입'!$Q$7:$Q$1008,$A12)+SUMIFS('국비변경(일반 세입)(삭제)'!$R$7:$R$1000,'국비변경(일반 세입)(삭제)'!$Q$7:$Q$1000,$A12) -> 1779229 | K12: =SUMIFS('일반 세출'!$R$7:$R$1027,'일반 세출'!$Q$7:$Q$1027,$A12)+SUMIFS('국비변경(일반 세출)(삭제)'!$R$7:$R$1012,'국비변경(일반 세출)(삭제)'!$Q$7:$Q$1012,$A12) -> 1779229 | L12: =IF(J12=K12,"OK","@@") -> OK
A13: 광특 | B13: =SUMIFS('일반 세입'!$W$7:$W$1008,'일반 세입'!$V$7:$V$1008,$A13) -> 0 | C13: =SUMIFS('일반 세출'!$W$7:$W$1028,'일반 세출'!$V$7:$V$1028,$A13) -> 0 | D13: =IF(B13=C13,"OK","@@") -> OK | F13: =SUMIFS('일반 세입'!$R$7:$R$1008,'일반 세입'!$Q$7:$Q$1008,$A13) -> 0 | G13: =SUMIFS('일반 세출'!$R$7:$R$1027,'일반 세출'!$Q$7:$Q$1027,$A13) -> 0 | H13: =IF(F13=G13,"OK","@@") -> OK | J13: =SUMIFS('일반 세입'!$R$7:$R$1008,'일반 세입'!$Q$7:$Q$1008,$A13)+SUMIFS('국비변경(일반 세입)(삭제)'!$R$7:$R$1000,'국비변경(일반 세입)(삭제)'!$Q$7:$Q$1000,$A13) -> 0 | K13: =SUMIFS('일반 세출'!$R$7:$R$1027,'일반 세출'!$Q$7:$Q$1027,$A13)+SUMIFS('국비변경(일반 세출)(삭제)'!$R$7:$R$1012,'국비변경(일반 세출)(삭제)'!$Q$7:$Q$1012,$A13) -> 0 | L13: =IF(J13=K13,"OK","@@") -> OK
A14: 기금 | B14: =SUMIFS('일반 세입'!$W$7:$W$1008,'일반 세입'!$V$7:$V$1008,$A14) -> 1537203 | C14: =SUMIFS('일반 세출'!$W$7:$W$1028,'일반 세출'!$V$7:$V$1028,$A14) -> 1537203 | D14: =IF(B14=C14,"OK","@@") -> OK | F14: =SUMIFS('일반 세입'!$R$7:$R$1008,'일반 세입'!$Q$7:$Q$1008,$A14) -> 1586995 | G14: =SUMIFS('일반 세출'!$R$7:$R$1027,'일반 세출'!$Q$7:$Q$1027,$A14) -> 1586995 | H14: =IF(F14=G14,"OK","@@") -> OK | J14: =SUMIFS('일반 세입'!$R$7:$R$1008,'일반 세입'!$Q$7:$Q$1008,$A14)+SUMIFS('국비변경(일반 세입)(삭제)'!$R$7:$R$1000,'국비변경(일반 세입)(삭제)'!$Q$7:$Q$1000,$A14) -> 1636787 | K14: =SUMIFS('일반 세출'!$R$7:$R$1027,'일반 세출'!$Q$7:$Q$1027,$A14)+SUMIFS('국비변경(일반 세출)(삭제)'!$R$7:$R$1012,'국비변경(일반 세출)(삭제)'!$Q$7:$Q$1012,$A14) -> 1636787 | L14: =IF(J14=K14,"OK","@@") -> OK
A15: 분권 | B15: =SUMIFS('일반 세입'!$W$7:$W$1008,'일반 세입'!$V$7:$V$1008,$A15) -> 0 | C15: =SUMIFS('일반 세출'!$W$7:$W$1028,'일반 세출'!$V$7:$V$1028,$A15) -> 0 | D15: =IF(B15=C15,"OK","@@") -> OK | F15: =SUMIFS('일반 세입'!$R$7:$R$1008,'일반 세입'!$Q$7:$Q$1008,$A15) -> 0 | G15: =SUMIFS('일반 세출'!$R$7:$R$1027,'일반 세출'!$Q$7:$Q$1027,$A15) -> 0 | H15: =IF(F15=G15,"OK","@@") -> OK | J15: =SUMIFS('일반 세입'!$R$7:$R$1008,'일반 세입'!$Q$7:$Q$1008,$A15)+SUMIFS('국비변경(일반 세입)(삭제)'!$R$7:$R$1000,'국비변경(일반 세입)(삭제)'!$Q$7:$Q$1000,$A15) -> 0 | K15: =SUMIFS('일반 세출'!$R$7:$R$1027,'일반 세출'!$Q$7:$Q$1027,$A15)+SUMIFS('국비변경(일반 세출)(삭제)'!$R$7:$R$1012,'국비변경(일반 세출)(삭제)'!$Q$7:$Q$1012,$A15) -> 0 | L15: =IF(J15=K15,"OK","@@") -> OK
A16: 특별 | B16: =SUMIFS('일반 세입'!$W$7:$W$1008,'일반 세입'!$V$7:$V$1008,$A16) -> 0 | C16: =SUMIFS('일반 세출'!$W$7:$W$1028,'일반 세출'!$V$7:$V$1028,$A16) -> 0 | D16: =IF(B16=C16,"OK","@@") -> OK | F16: =SUMIFS('일반 세입'!$R$7:$R$1008,'일반 세입'!$Q$7:$Q$1008,$A16) -> 0 | G16: =SUMIFS('일반 세출'!$R$7:$R$1027,'일반 세출'!$Q$7:$Q$1027,$A16) -> 0 | H16: =IF(F16=G16,"OK","@@") -> OK | J16: =SUMIFS('일반 세입'!$R$7:$R$1008,'일반 세입'!$Q$7:$Q$1008,$A16)+SUMIFS('국비변경(일반 세입)(삭제)'!$R$7:$R$1000,'국비변경(일반 세입)(삭제)'!$Q$7:$Q$1000,$A16) -> 0 | K16: =SUMIFS('일반 세출'!$R$7:$R$1027,'일반 세출'!$Q$7:$Q$1027,$A16)+SUMIFS('국비변경(일반 세출)(삭제)'!$R$7:$R$1012,'국비변경(일반 세출)(삭제)'!$Q$7:$Q$1012,$A16) -> 0 | L16: =IF(J16=K16,"OK","@@") -> OK
A18: 재정보전금 조정액 | C18: =B7-C7 -> -25955395 | F18: ='일반 세출'!L20 -> -12146635 | J18: =J7-K7 -> -12595
F20: =F7-G7 -> 0 | J20: =J7-K7 -> -12595
A22: 재정보전금 조정잔액 | F22: =G3+'일반 세출'!L20 -> 2309984657 | J22: =G3+'일반 세출'!L20 -> 2309984657

Sheet 총괄표(가로)
B1: '14년도 제1회 경기도 일반 및 특별회계 세입·세출 추가경정예산 수정안[전체예산총괄]
B3: □ 총 괄 | D3: 세입예산증감 | E3: =SUM(D7:E7) -> 3134642 | F3: 세출예산증감 | G3: =SUM(F7:G7) -> 3134642 | R3: =G3-E3 -> 0
H4: (단위:천원) | M4: (일반+특별+기금) | O4: 특별+기금
B5: 구 분 | C5: 집행부제출(안) | D5: 세입예산(안) | F5: 세출예산(안) | H5: 예산수정(안) | I5: 일반회계 증감(총괄표) | K5: 예비비증감 | L5: 비 고 | M5: 전체 증감(시트) | O5: 비고
D6: 감 액 | E6: 증 액 | F6: 감 액 | G6: 증 액 | I6: 세입 | J6: 세출 | M6: 세입 | N6: 세출
B7: 합 계 | C7: =SUM(C8:C18) -> 17802852244 | D7: =SUM(D8:D18) -> -200161 | E7: =SUM(E8:E18) -> 3334803 | F7: =SUM(F8:F18) -> -18673514 | G7: =SUM(G8:G18) -> 21808156 | H7: =SUM(H8:H18) -> 17805986886 | I7: =E25+D25 -> 3134642 | J7: =F25+G25 -> 3134642 | K7: =I7-J7 -> 0 | L7: 예비비 증감이 - 예산이면 감액에 + 예산이면 증액에 입력 | M7: =D24+E24 -> 3134642 | N7: =F24+G24 -> 3134642 | O7: 0 | P7: 0
B8: 기 타 | C8: 0 | H8: =C8-F8+G8 -> 0 | I8: =D7+E7 -> 3134642 | J8: =F7+G7 -> 3134642 | K8: =I8-J8 -> 0
B9: 의회운영위원회 | C9: 39922113 | D9: =SUMIFS('일반 세입'!$L$7:$L$1000,'일반 세입'!$A$7:$A$1000,'총괄표(가로)'!$B9) -> 0 | E9: =SUMIFS('일반 세입'!$M$7:$M$1000,'일반 세입'!$A$7:$A$1000,'총괄표(가로)'!$B9) -> 0 | F9: =SUMIFS('일반 세출'!$L$7:$L$1001,'일반 세출'!$A$7:$A$1001,'총괄표(가로)'!$B9) -> -1040000 | G9: =SUMIFS('일반 세출'!$M$7:$M$1001,'일반 세출'!$A$7:$A$1001,'총괄표(가로)'!$B9) -> 60920 | H9: =C9+F9+G9 -> 38943033 | I9: 일반회계 증감(시트) | N9: 전체 증감
B10: 기획재정위원회 | C10: 5083518101 | D10: =SUMIFS('일반 세입'!$L$7:$L$1000,'일반 세입'!$A$7:$A$1000,'총괄표(가로)'!$B10) -> 0 | E10: =SUMIFS('일반 세입'!$M$7:$M$1000,'일반 세입'!$A$7:$A$1000,'총괄표(가로)'!$B10) -> 0 | F10: =SUMIFS('일반 세출'!$L$7:$L$1001,'일반 세출'!$A$7:$A$1001,'총괄표(가로)'!$B10) -> -14046635 | G10: =SUMIFS('일반 세출'!$M$7:$M$1001,'일반 세출'!$A$7:$A$1001,'총괄표(가로)'!$B10) -> 0 | H10: =C10+F10+G10 -> 5069471466 | I10: ='일반 세입'!L6+'일반 세입'!M6 -> 3134642 | J10: =#REF!+#REF! -> #REF! | N10: =M7-N7 -> 0
B11: 경제과학기술위원회 | C11: 540073060 | D11: =SUMIFS('일반 세입'!$L$7:$L$1000,'일반 세입'!$A$7:$A$1000,'총괄표(가로)'!$B11) -> 0 | E11: =SUMIFS('일반 세입'!$M$7:$M$1000,'일반 세입'!$A$7:$A$1000,'총괄표(가로)'!$B11) -> 0 | F11: =SUMIFS('일반 세출'!$L$7:$L$1001,'일반 세출'!$A$7:$A$1001,'총괄표(가로)'!$B11) -> -180000 | G11: =SUMIFS('일반 세출'!$M$7:$M$1001,'일반 세출'!$A$7:$A$1001,'총괄표(가로)'!$B11) -> 1660000 | H11: =C11+F11+G11 -> 541553060
B12: 안전행정위원회 | C12: 1142858974 | D12: =SUMIFS('일반 세입'!$L$7:$L$1000,'일반 세입'!$A$7:$A$1000,'총괄표(가로)'!$B12) -> 0 | E12: =SUMIFS('일반 세입'!$M$7:$M$1000,'일반 세입'!$A$7:$A$1000,'총괄표(가로)'!$B12) -> 1421 | F12: =SUMIFS('일반 세출'!$L$7:$L$1001,'일반 세출'!$A$7:$A$1001,'총괄표(가로)'!$B12) -> -1302695 | G12: =SUMIFS('일반 세출'!$M$7:$M$1001,'일반 세출'!$A$7:$A$1001,'총괄표(가로)'!$B12) -> 5514421 | H12: =C12+F12+G12 -> 1147070700
B13: 문화체육관광위원회 | C13: 276727608 | D13: =SUMIFS('일반 세입'!$L$7:$L$1000,'일반 세입'!$A$7:$A$1000,'총괄표(가로)'!$B13) -> 0 | E13: =SUMIFS('일반 세입'!$M$7:$M$1000,'일반 세입'!$A$7:$A$1000,'총괄표(가로)'!$B13) -> 10000 | F13: =SUMIFS('일반 세출'!$L$7:$L$1001,'일반 세출'!$A$7:$A$1001,'총괄표(가로)'!$B13) -> -1792534 | G13: =SUMIFS('일반 세출'!$M$7:$M$1001,'일반 세출'!$A$7:$A$1001,'총괄표(가로)'!$B13) -> 2632534 | H13: =C13+F13+G13 -> 277567608 | N13: 기금
B14: 농정해양위원회 | C14: 466978999 | D14: =SUMIFS('일반 세입'!$L$7:$L$1000,'일반 세입'!$A$7:$A$1000,'총괄표(가로)'!$B14) -> 0 | E14: =SUMIFS('일반 세입'!$M$7:$M$1000,'일반 세입'!$A$7:$A$1000,'총괄표(가로)'!$B14) -> 1094246 | F14: =SUMIFS('일반 세출'!$L$7:$L$1001,'일반 세출'!$A$7:$A$1001,'총괄표(가로)'!$B14) -> 0 | G14: =SUMIFS('일반 세출'!$M$7:$M$1001,'일반 세출'!$A$7:$A$1001,'총괄표(가로)'!$B14) -> 3584246 | H14: =C14+F14+G14 -> 470563245 | N14: =N10-K7 -> 0
B15: 보건복지위원회 | C15: 3254006708 | D15: =SUMIFS('일반 세입'!$L$7:$L$1000,'일반 세입'!$A$7:$A$1000,'총괄표(가로)'!$B15) -> -200161 | E15: =SUMIFS('일반 세입'!$M$7:$M$1000,'일반 세입'!$A$7:$A$1000,'총괄표(가로)'!$B15) -> 3320 | F15: =SUMIFS('일반 세출'!$L$7:$L$1001,'일반 세출'!$A$7:$A$1001,'총괄표(가로)'!$B15) -> -171650 | G15: =SUMIFS('일반 세출'!$M$7:$M$1001,'일반 세출'!$A$7:$A$1001,'총괄표(가로)'!$B15) -> 627175 | H15: =C15+F15+G15 -> 3254462233
B16: 건설교통위원회 | C16: 1220859831 | D16: =SUMIFS('일반 세입'!$L$7:$L$1000,'일반 세입'!$A$7:$A$1000,'총괄표(가로)'!$B16) -> 0 | E16: =SUMIFS('일반 세입'!$M$7:$M$1000,'일반 세입'!$A$7:$A$1000,'총괄표(가로)'!$B16) -> 0 | F16: =SUMIFS('일반 세출'!$L$7:$L$1001,'일반 세출'!$A$7:$A$1001,'총괄표(가로)'!$B16) -> -40000 | G16: =SUMIFS('일반 세출'!$M$7:$M$1001,'일반 세출'!$A$7:$A$1001,'총괄표(가로)'!$B16) -> 5160000 | H16: =C16+F16+G16 -> 1225979831
B17: 도시환경위원회 | C17: 895323933 | D17: =SUMIFS('일반 세입'!$L$7:$L$1000,'일반 세입'!$A$7:$A$1000,'총괄표(가로)'!$B17) -> 0 | E17: =SUMIFS('일반 세입'!$M$7:$M$1000,'일반 세입'!$A$7:$A$1000,'총괄표(가로)'!$B17) -> 0 | F17: =SUMIFS('일반 세출'!$L$7:$L$1001,'일반 세출'!$A$7:$A$1001,'총괄표(가로)'!$B17) -> -50000 | G17: =SUMIFS('일반 세출'!$M$7:$M$1001,'일반 세출'!$A$7:$A$1001,'총괄표(가로)'!$B17) -> 53000 | H17: =C17+F17+G17 -> 895326933
B18: 여성가족평생교육위원회 | C18: 4882582917 | D18: =SUMIFS('일반 세입'!$L$7:$L$1000,'일반 세입'!$A$7:$A$1000,'총괄표(가로)'!$B18) -> 0 | E18: =SUMIFS('일반 세입'!$M$7:$M$1000,'일반 세입'!$A$7:$A$1000,'총괄표(가로)'!$B18) -> 2225816 | F18: =SUMIFS('일반 세출'!$L$7:$L$1001,'일반 세출'!$A$7:$A$1001,'총괄표(가로)'!$B18) -> -50000 | G18: =SUMIFS('일반 세출'!$M$7:$M$1001,'일반 세출'!$A$7:$A$1001,'총괄표(가로)'!$B18) -> 2515860 | H18: =C18+F18+G18 -> 4885048777
B20: □ 회계별 예산총규모
H21: (단위:천원)
B22: 구 분 | C22: 세출예산액 (집행부제출 안) | D22: 세입예산(안) | F22: 세출예산(안) | H22: 예산수정(안)
D23: 감 액 | E23: 증 액 | F23: 감 액 | G23: 증 액 | I23: 세입기준 수정예산안
B24: 합 계 | C24: =SUM(C25:C26) -> 17802852244 | D24: =SUM(D25:D26) -> -200161 | E24: =SUM(E25:E26) -> 3334803 | F24: =SUM(F25:F26) -> -18673514 | G24: =SUM(G25:G26) -> 21808156 | H24: =SUM(H25:H26) -> 17805986886 | I24: =C24+D24+E24 -> 17805986886 | J24: =I24-H24 -> 0 | K24: (세출기준-세입기준)
B25: 일반회계 | C25: 14332606235 | D25: ='일반 세입'!L6 -> -200161 | E25: ='일반 세입'!M6 -> 3334803 | F25: ='일반 세출'!L6 -> -18673514 | G25: ='일반 세출'!M6 -> 21808156 | H25: =C25+F25+G25 -> 14335740877 | I25: =C25+D25+E25 -> 14335740877 | J25: =I25-H25 -> 0 | K25: (세출기준-세입기준)
B26: 특별회계 | C26: 3470246009 | H26: =C26+F26+G26 -> 3470246009 | I26: =C26+D26+E26 -> 3470246009 | J26: =I26-H26 -> 0 | K26: (세출기준-세입기준)
B30: 위원회명 | C30: 일반+기특 | D30: 공기업 | E30: 합계
B31: 의회운영위원회 | C31: 39922113 | E31: =SUM(C31:D31) -> 39922113
B32: 기획재정위원회 | C32: 3302571667 | D32: 1780946434 | E32: =SUM(C32:D32) -> 5083518101
B33: 경제과학기술위원회 | C33: 155329320 | D33: 384743740 | E33: =SUM(C33:D33) -> 540073060
B34: 안전행정위원회 | C34: 1142858974 | E34: =SUM(C34:D34) -> 1142858974
B35: 문화체육관광위원회 | C35: 224243208 | D35: 52484400 | E35: =SUM(C35:D35) -> 276727608
B36: 농정해양위원회 | C36: 466978999 | E36: =SUM(C36:D36) -> 466978999
B37: 보건복지위원회 | C37: 3254006708 | E37: =SUM(C37:D37) -> 3254006708
B38: 건설교통위원회 | C38: 1220859831 | E38: =SUM(C38:D38) -> 1220859831
B39: 도시환경위원회 | C39: 866963933 | D39: 28360000 | E39: =SUM(C39:D39) -> 895323933
B40: 여성가족평생교육위원회 | C40: 4882582917 | E40: =SUM(C40:D40) -> 4882582917
B41: 총합계 | C41: =SUM(C31:C40) -> 15556317670 | D41: =SUM(D31:D40) -> 2246534574 | E41: =SUM(C41:D41) -> 17802852244
B43: 예비비 | C43: =3922478-221377 -> 3701101
I160: ◦ 본청 83,000 증 ◦ 북부청 377,000 증
K290: -50000

Sheet 일반 세입
A1: 2014년도 제1회 추경 경기도 일반회계 세입 예산 조정(안)
A2: □세입예산 | R2: 세입 = 세출 | W2: 세입 = 세출
J3: =SUM(I6:J6) -> 3053429 | M3: =SUM(L6:M6) -> 3134642 | P3: (단위 : 천원) | R3: =IF(R6='일반 세출'!R6,"OK","@@") -> OK | S3: =SUM(R6:S6) -> 3134642 | T3: =IF(COUNTIF(T6:T1008,"@@")>0,"@@","OK") -> OK | W3: =IF(W6='일반 세출'!W6,"OK","@@") -> OK | X3: =SUM(W6:X6) -> 3053429 | Y3: =IF(COUNTIF(Y6:Y1008,"@@")>0,"@@","OK") -> OK
A4: 위원회 | C4: 예산안 페이지 | D4: 부서명 | E4: 사업명 | F4: 제1회 추경 예산안 (가) | G4: 기정액 (나) | H4: 제1회 추경 증감액 (다=가-나) | I4: 상임위 제1회 추경 예산안 조정액 | K4: 상임위 수정 예산안 (마=가or나+라) | L4: 예결위 제1회 추경 예산안 조정액(라) | N4: 예결위 수정 예산안 (마=나+다+라) | O4: 동의 대상 | P4: 비 고 | Q4: 재원 | R4: 예결위 재원별 증감액 | V4: 재원 | W4: 상임위 재원별 증감액
I5: 감액 | J5: 증액 | L5: 감액 | M5: 증액 | R5: 국비 등 | S5: 도 비 | T5: 검 증 | W5: 국비 등 | X5: 도 비 | Y5: 검 증
B6: 합 계 | F6: =SUM(F7:F164)/3 -> 55210346 | G6: =SUM(G7:G164)/3 -> 66014215 | H6: =SUM(H7:H164)/3 -> 2436948 | I6: =SUM(I7:I40)/3 -> -200161 | J6: =SUM(J7:J40)/3 -> 3253590 | K6: =SUM(K7:K40)/3 -> 71504592 | L6: =SUM(L7:L164)/3 -> -200161 | M6: =SUM(M7:M164)/3 -> 3334803 | N6: =SUM(N7:N164)/3 -> 71585805 | R6: =SUM(R7:R164)/3 -> 3334803 | S6: =SUM(S7:S164)/3 -> -200161 | T6: =IF((L6+M6)=(R6+S6),"OK","검토") -> OK | W6: =SUM(W7:W164)/3 -> 3253590 | X6: =SUM(X7:X164)/3 -> -200161 | Y6: =IF((I6+J6)=(W6+X6),"OK","검토") -> OK
A7: 기획재정위원회 | F7: =SUM(F8:F9)/2 -> 21558 | G7: =SUM(G8:G9)/2 -> 0 | H7: =SUM(H8:H9)/2 -> 21558 | I7: =SUM(I8:I9)/2 -> 0 | J7: =SUM(J8:J9)/2 -> 0 | K7: =SUM(K8:K9)/2 -> 21558 | L7: =SUM(L8:L9)/2 -> 0 | M7: =SUM(M8:M9)/2 -> 0 | N7: =SUM(N8:N9)/2 -> 21558 | R7: =SUM(R8:R9)/2 -> 0 | S7: =SUM(S8:S9)/2 -> 0 | T7: =IF((L7+M7)=(R7+S7),"ok","검토") -> ok | W7: =SUM(W8:W9)/2 -> 0 | X7: =SUM(X8:X9)/2 -> 0 | Y7: =IF((I7+J7)=(W7+X7),"ok","검토") -> ok
B8: 기획조정실 | F8: =SUM(F9:F9) -> 21558 | G8: =SUM(G9:G9) -> 0 | H8: =SUM(H9:H9) -> 21558 | I8: =SUM(I9:I9) -> 0 | J8: =SUM(J9:J9) -> 0 | K8: =SUM(K9:K9) -> 21558 | L8: =SUM(L9:L9) -> 0 | M8: =SUM(M9:M9) -> 0 | N8: =SUM(N9:N9) -> 21558 | R8: =SUM(R9:R9) -> 0 | S8: =SUM(S9:S9) -> 0 | T8: =IF((L8+M8)=(R8+S8),"ok","검토") -> ok | W8: =SUM(W9:W9) -> 0 | X8: =SUM(X9:X9) -> 0 | Y8: =IF((I8+J8)=(W8+X8),"ok","검토") -> ok
B9: 1회 | C9: 258 | D9: 정보통신보안담당관 | E9: 정보통신담당관 도비 민간이전 사용잔액 (과목경정) : 부기명 정보통신담당관 ⇒ 정보통신보안담당관 | F9: 21558 | H9: =IF(SUMPRODUCT(COUNTIF(C9,{"*본예산*","*신규*"})),"-",F9-G9) -> 21558 | K9: =IF(F9=0,G9+I9+J9,F9+I9+J9) -> 21558 | L9: 0 | M9: 0 | N9: =IF(F9=0,G9+L9+M9,F9+L9+M9) -> 21558 | O9: =IF(I9-L9<0,"동의필요","-") -> - | P9: (과목경정) : 부기명 | Q9: 도비 | R9: =IF(Q9<>"도비",SUM(L9:M9),) -> 0 | S9: =IF(Q9="도비",SUM(L9:M9),SUM(L9:M9)-R9) -> 0 | T9: =IF((L9+M9)=(R9+S9),"ok","검토") -> ok | V9: 도비 | W9: =IF(V9<>"도비",SUM(I9:J9),) -> 0 | X9: =IF(V9="도비",SUM(I9:J9),SUM(I9:J9)-W9) -> 0 | Y9: =IF((I9+J9)=(W9+X9),"ok","검토") -> ok
A10: 안전행정위원회 | F10: =SUM(F11:F12)/2 -> 924743 | G10: =SUM(G11:G12)/2 -> 909307 | H10: =SUM(H11:H12)/2 -> 15436 | I10: =SUM(I11:I12)/2 -> 0 | J10: =SUM(J11:J12)/2 -> 0 | K10: =SUM(K11:K12)/2 -> 924743 | L10: =SUM(L11:L12)/2 -> 0 | M10: =SUM(M11:M12)/2 -> 1421 | N10: =SUM(N11:N12)/2 -> 926164 | R10: =SUM(R11:R12)/2 -> 1421 | S10: =SUM(S11:S12)/2 -> 0 | T10: =IF((L10+M10)=(R10+S10),"ok","검토") -> ok | W10: =SUM(W11:W12)/2 -> 0 | X10: =SUM(X11:X12)/2 -> 0 | Y10: =IF((I10+J10)=(W10+X10),"ok","검토") -> ok
B11: 자치행정국 | F11: =SUM(F12:F12) -> 924743 | G11: =SUM(G12:G12) -> 909307 | H11: =SUM(H12:H12) -> 15436 | I11: =SUM(I12:I12) -> 0 | J11: =SUM(J12:J12) -> 0 | K11: =SUM(K12:K12) -> 924743 | L11: =SUM(L12:L12) -> 0 | M11: =SUM(M12:M12) -> 1421 | N11: =SUM(N12:N12) -> 926164 | R11: =SUM(R12:R12) -> 1421 | S11: =SUM(S12:S12) -> 0 | T11: =IF((L11+M11)=(R11+S11),"ok","검토") -> ok | W11: =SUM(W12:W12) -> 0 | X11: =SUM(X12:X12) -> 0 | Y11: =IF((I11+J11)=(W11+X11),"ok","검토") -> ok
B12: 추가 | C12: 328 | D12: 언제나민원실 | E12: 여권발급 | F12: 924743 | G12: 909307 | H12: =IF(SUMPRODUCT(COUNTIF(C12,{"*본예산*","*신규*"})),"-",F12-G12) -> 15436 | K12: =IF(F12=0,G12+I12+J12,F12+I12+J12) -> 924743 | M12: 1421 | N12: =IF(F12=0,G12+L12+M12,F12+L12+M12) -> 926164 | O12: =IF(I12-L12<0,"동의필요","-") -> - | P12: 외교부 여권과-38242(2014.9.4) 변경내시(국비 증액) | Q12: 국비 | R12: =IF(Q12<>"도비",SUM(L12:M12),) -> 1421 | S12: =IF(Q12="도비",SUM(L12:M12),SUM(L12:M12)-R12) -> 0 | T12: =IF((L12+M12)=(R12+S12),"ok","검토") -> ok | V12: 국비 | W12: =IF(V12<>"도비",SUM(I12:J12),) -> 0 | X12: =IF(V12="도비",SUM(I12:J12),SUM(I12:J12)-W12) -> 0 | Y12: =IF((I12+J12)=(W12+X12),"ok","검토") -> ok | Z12: 국비변경
A13: 문화체육관광위원회 | F13: =SUM(F14:F15)/2 -> 0 | G13: =SUM(G14:G15)/2 -> 470000 | H13: =SUM(H14:H15)/2 -> 0 | I13: =SUM(I14:I15)/2 -> 0 | J13: =SUM(J14:J15)/2 -> 10000 | K13: =SUM(K14:K15)/2 -> 480000 | L13: =SUM(L14:L15)/2 -> 0 | M13: =SUM(M14:M15)/2 -> 10000 | N13: =SUM(N14:N15)/2 -> 480000 | R13: =SUM(R14:R15)/2 -> 10000 | S13: =SUM(S14:S15)/2 -> 0 | T13: =IF((L13+M13)=(R13+S13),"ok","검토") -> ok | W13: =SUM(W14:W15)/2 -> 10000 | X13: =SUM(X14:X15)/2 -> 0 | Y13: =IF((I13+J13)=(W13+X13),"ok","검토") -> ok
B14: 문화체육관광국 | F14: =SUM(F15:F15) -> 0 | G14: =SUM(G15:G15) -> 470000 | H14: =SUM(H15:H15) -> 0 | I14: =SUM(I15:I15) -> 0 | J14: =SUM(J15:J15) -> 10000 | K14: =SUM(K15:K15) -> 480000 | L14: =SUM(L15:L15) -> 0 | M14: =SUM(M15:M15) -> 10000 | N14: =SUM(N15:N15) -> 480000 | R14: =SUM(R15:R15) -> 10000 | S14: =SUM(S15:S15) -> 0 | T14: =IF((L14+M14)=(R14+S14),"ok","검토") -> ok | W14: =SUM(W15:W15) -> 10000 | X14: =SUM(X15:X15) -> 0 | Y14: =IF((I14+J14)=(W14+X14),"ok","검토") -> ok
B15: 추가 | C15: 본예산 66 | D15: 관광과 | E15: 관광안내체계구축지원 | G15: 470000 | H15: =IF(SUMPRODUCT(COUNTIF(C15,{"*본예산*","*신규*"})),"-",F15-G15) -> - | J15: 10000 | K15: =IF(F15=0,G15+I15+J15,F15+I15+J15) -> 480000 | M15: 10000 | N15: =IF(F15=0,G15+L15+M15,F15+L15+M15) -> 480000 | O15: =IF(I15-L15<0,"동의필요","-") -> - | P15: 문화체육관광부 관광산업과-4553(2014.08.29)호 | Q15: 기금 | R15: =IF(Q15<>"도비",SUM(L15:M15),) -> 10000 | S15: =IF(Q15="도비",SUM(L15:M15),SUM(L15:M15)-R15) -> 0 | T15: =IF((L15+M15)=(R15+S15),"ok","검토") -> ok | V15: 기금 | W15: =IF(V15<>"도비",SUM(I15:J15),) -> 10000 | X15: =IF(V15="도비",SUM(I15:J15),SUM(I15:J15)-W15) -> 0 | Y15: =IF((I15+J15)=(W15+X15),"ok","검토") -> ok
A16: 농정해양위원회 | F16: =SUM(F17:F21)/2 -> 36484036 | G16: =SUM(G17:G21)/2 -> 34553140 | H16: =SUM(H17:H21)/2 -> 1930896 | I16: =SUM(I17:I21)/2 -> 0 | J16: =SUM(J17:J21)/2 -> 1088067 | K16: =SUM(K17:K21)/2 -> 37572103 | L16: =SUM(L17:L21)/2 -> 0 | M16: =SUM(M17:M21)/2 -> 1094246 | N16: =SUM(N17:N21)/2 -> 37578282 | R16: =SUM(R17:R21)/2 -> 1094246 | S16: =SUM(S17:S21)/2 -> 0 | T16: =IF((L16+M16)=(R16+S16),"ok","검토") -> ok | W16: =SUM(W17:W21)/2 -> 1088067 | X16: =SUM(X17:X21)/2 -> 0 | Y16: =IF((I16+J16)=(W16+X16),"ok","검토") -> ok
B17: 농정해양국 | F17: =SUM(F18:F18) -> 23888164 | G17: =SUM(G18:G18) -> 22994613 | H17: =SUM(H18:H18) -> 893551 | I17: =SUM(I18:I18) -> 0 | J17: =SUM(J18:J18) -> 5067 | K17: =SUM(K18:K18) -> 23893231 | L17: =SUM(L18:L18) -> 0 | M17: =SUM(M18:M18) -> 5067 | N17: =SUM(N18:N18) -> 23893231 | R17: =SUM(R18:R18) -> 5067 | S17: =SUM(S18:S18) -> 0 | T17: =IF((L17+M17)=(R17+S17),"ok","검토") -> ok | W17: =SUM(W18:W18) -> 5067 | X17: =SUM(X18:X18) -> 0 | Y17: =IF((I17+J17)=(W17+X17),"ok","검토") -> ok
B18: 1회 | C18: 445 | D18: 친환경농업과 | E18: 친환경농자재 지원 | F18: 23888164 | G18: 22994613 | H18: =IF(SUMPRODUCT(COUNTIF(C18,{"*본예산*","*신규*"})),"-",F18-G18) -> 893551 | J18: 5067 | K18: =IF(F18=0,G18+I18+J18,F18+I18+J18) -> 23893231 | M18: 5067 | N18: =IF(F18=0,G18+L18+M18,F18+L18+M18) -> 23893231 | O18: =IF(I18-L18<0,"동의필요","-") -> - | P18: 농림축산식품부 친환경농업과-2748(2014.8.4)호 | Q18: 국비 | R18: =IF(Q18<>"도비",SUM(L18:M18),) -> 5067 | S18: =IF(Q18="도비",SUM(L18:M18),SUM(L18:M18)-R18) -> 0 | T18: =IF((L18+M18)=(R18+S18),"ok","검토") -> ok | V18: 국비 | W18: =IF(V18<>"도비",SUM(I18:J18),) -> 5067 | X18: =IF(V18="도비",SUM(I18:J18),SUM(I18:J18)-W18) -> 0 | Y18: =IF((I18+J18)=(W18+X18),"ok","검토") -> ok
B19: 축산산림국 | F19: =SUM(F20:F21) -> 12595872 | G19: =SUM(G20:G21) -> 11558527 | H19: =SUM(H20:H21) -> 1037345 | I19: =SUM(I20:I21) -> 0 | J19: =SUM(J20:J21) -> 1083000 | K19: =SUM(K20:K21) -> 13678872 | L19: =SUM(L20:L21) -> 0 | M19: =SUM(M20:M21) -> 1089179 | N19: =SUM(N20:N21) -> 13685051 | R19: =SUM(R20:R21) -> 1089179 | S19: =SUM(S20:S21) -> 0 | T19: =IF((L19+M19)=(R19+S19),"ok","검토") -> ok | W19: =SUM(W20:W21) -> 1083000 | X19: =SUM(X20:X21) -> 0 | Y19: =IF((I19+J19)=(W19+X19),"ok","검토") -> ok
B20: 1회 | C20: 471 | D20: 축산정책과 | E20: 소득안정자금(성립전) | F20: 201176 | H20: =IF(SUMPRODUCT(COUNTIF(C20,{"*본예산*","*신규*"})),"-",F20-G20) -> 201176 | K20: =IF(F20=0,G20+I20+J20,F20+I20+J20) -> 201176 | M20: 6179 | N20: =IF(F20=0,G20+L20+M20,F20+L20+M20) -> 207355 | O20: =IF(I20-L20<0,"동의필요","-") -> - | P20: 농림축산식품부 축산경영과-5365(2014.9.26)호 변경내시 | Q20: 기금 | R20: =IF(Q20<>"도비",SUM(L20:M20),) -> 6179 | S20: =IF(Q20="도비",SUM(L20:M20),SUM(L20:M20)-R20) -> 0 | T20: =IF((L20+M20)=(R20+S20),"ok","검토") -> ok | V20: 국비 | W20: =IF(V20<>"도비",SUM(I20:J20),) -> 0 | X20: =IF(V20="도비",SUM(I20:J20),SUM(I20:J20)-W20) -> 0 | Y20: =IF((I20+J20)=(W20+X20),"ok","검토") -> ok | Z20: 국비변경
B21: 1회 | C21: 472 | D21: 동물방역위생과 | E21: 시도가축방역사업(성립전) | F21: 12394696 | G21: 11558527 | H21: =IF(SUMPRODUCT(COUNTIF(C21,{"*본예산*","*신규*"})),"-",F21-G21) -> 836169 | J21: 1083000 | K21: =IF(F21=0,G21+I21+J21,F21+I21+J21) -> 13477696 | M21: 1083000 | N21: =IF(F21=0,G21+L21+M21,F21+L21+M21) -> 13477696 | O21: =IF(I21-L21<0,"동의필요","-") -> - | P21: 농림축산식품부 방역총괄과-5800(2014.9.3)호 | Q21: 국비 | R21: =IF(Q21<>"도비",SUM(L21:M21),) -> 1083000 | S21: =IF(Q21="도비",SUM(L21:M21),SUM(L21:M21)-R21) -> 0 | T21: =IF((L21+M21)=(R21+S21),"ok","검토") -> ok | V21: 국비 | W21: =IF(V21<>"도비",SUM(I21:J21),) -> 1083000 | X21: =IF(V21="도비",SUM(I21:J21),SUM(I21:J21)-W21) -> 0 | Y21: =IF((I21+J21)=(W21+X21),"ok","검토") -> ok
A22: 보건복지위원회 | F22: =SUM(F23:F25)/2 -> 236817 | G22: =SUM(G23:G25)/2 -> 59250 | H22: =SUM(H23:H25)/2 -> 236817 | I22: =SUM(I23:I25)/2 -> -200161 | J22: =SUM(J23:J25)/2 -> 3320 | K22: =SUM(K23:K25)/2 -> 99226 | L22: =SUM(L23:L25)/2 -> -200161 | M22: =SUM(M23:M25)/2 -> 3320 | N22: =SUM(N23:N25)/2 -> 99226 | R22: =SUM(R23:R25)/2 -> 3320 | S22: =SUM(S23:S25)/2 -> -200161 | T22: =IF((L22+M22)=(R22+S22),"ok","검토") -> ok | W22: =SUM(W23:W25)/2 -> 3320 | X22: =SUM(X23:X25)/2 -> -200161 | Y22: =IF((I22+J22)=(W22+X22),"ok","검토") -> ok
B23: 보건복지국 | F23: =SUM(F24:F25) -> 236817 | G23: =SUM(G24:G25) -> 59250 | H23: =SUM(H24:H25) -> 236817 | I23: =SUM(I24:I25) -> -200161 | J23: =SUM(J24:J25) -> 3320 | K23: =SUM(K24:K25) -> 99226 | L23: =SUM(L24:L25) -> -200161 | M23: =SUM(M24:M25) -> 3320 | N23: =SUM(N24:N25) -> 99226 | R23: =SUM(R24:R25) -> 3320 | S23: =SUM(S24:S25) -> -200161 | T23: =IF((L23+M23)=(R23+S23),"ok","검토") -> ok | W23: =SUM(W24:W25) -> 3320 | X23: =SUM(X24:X25) -> -200161 | Y23: =IF((I23+J23)=(W23+X23),"ok","검토") -> ok
B24: 추가 | C24: 본예산 54 | D24: 장애인복지과 | E24: 장애인생산품 판매시설 지원 | G24: 59250 | H24: =IF(SUMPRODUCT(COUNTIF(C24,{"*본예산*","*신규*"})),"-",F24-G24) -> - | J24: 3320 | K24: =IF(F24=0,G24+I24+J24,F24+I24+J24) -> 62570 | M24: 3320 | N24: =IF(F24=0,G24+L24+M24,F24+L24+M24) -> 62570 | O24: =IF(I24-L24<0,"동의필요","-") -> - | P24: 국비변경내시(증액) 보건복지부 장애인자립기반과-6034(2014. 9. 17) | Q24: 국비 | R24: =IF(Q24<>"도비",SUM(L24:M24),) -> 3320 | S24: =IF(Q24="도비",SUM(L24:M24),SUM(L24:M24)-R24) -> 0 | T24: =IF((L24+M24)=(R24+S24),"ok","검토") -> ok | V24: 국비 | W24: =IF(V24<>"도비",SUM(I24:J24),) -> 3320 | X24: =IF(V24="도비",SUM(I24:J24),SUM(I24:J24)-W24) -> 0 | Y24: =IF((I24+J24)=(W24+X24),"ok","검토") -> ok
B25: 1회 | C25: 538 | D25: 보건정책과 | E25: 보건정책과 도비 민간이전 사용잔액 | F25: 236817 | H25: =IF(SUMPRODUCT(COUNTIF(C25,{"*본예산*","*신규*"})),"-",F25-G25) -> 236817 | I25: -200161 | K25: =IF(F25=0,G25+I25+J25,F25+I25+J25) -> 36656 | L25: -200161 | N25: =IF(F25=0,G25+L25+M25,F25+L25+M25) -> 36656 | O25: =IF(I25-L25<0,"동의필요","-") -> - | P25: 국가지정 격리병상구축사업 지원사업 정산 착오 | Q25: 도비 | R25: =IF(Q25<>"도비",SUM(L25:M25),) -> 0 | S25: =IF(Q25="도비",SUM(L25:M25),SUM(L25:M25)-R25) -> -200161 | T25: =IF((L25+M25)=(R25+S25),"ok","검토") -> ok | V25: 도비 | W25: =IF(V25<>"도비",SUM(I25:J25),) -> 0 | X25: =IF(V25="도비",SUM(I25:J25),SUM(I25:J25)-W25) -> -200161 | Y25: =IF((I25+J25)=(W25+X25),"ok","검토") -> ok
A26: 여성가족평생교육위원회 | F26: =SUM(F27:F40)/2 -> 17543192 | G26: =SUM(G27:G40)/2 -> 30022518 | H26: =SUM(H27:H40)/2 -> 232241 | I26: =SUM(I27:I40)/2 -> 0 | J26: =SUM(J27:J40)/2 -> 2152203 | K26: =SUM(K27:K40)/2 -> 32406962 | L26: =SUM(L27:L40)/2 -> 0 | M26: =SUM(M27:M40)/2 -> 2225816 | N26: =SUM(N27:N40)/2 -> 32480575 | R26: =R27+R39 -> 2225816 | S26: =S27+S39 -> 0 | T26: =IF((L26+M26)=(R26+S26),"ok","검토") -> ok | W26: =W27+W39 -> 2152203 | X26: =X27+X39 -> 0 | Y26: =IF((I26+J26)=(W26+X26),"ok","검토") -> ok
B27: 여성가족국 | F27: =SUM(F28:F38) -> 17540598 | G27: =SUM(G28:G38) -> 30022518 | H27: =SUM(H28:H38) -> 229647 | I27: =SUM(I28:I38) -> 0 | J27: =SUM(J28:J38) -> 2152203 | K27: =SUM(K28:K38) -> 32404368 | L27: =SUM(L28:L38) -> 0 | M27: =SUM(M28:M38) -> 2225816 | N27: =SUM(N28:N38) -> 32477981 | R27: =SUM(R28:R38) -> 2225816 | S27: =SUM(S28:S38) -> 0 | T27: =IF((L27+M27)=(R27+S27),"ok","검토") -> ok | W27: =SUM(W28:W38) -> 2152203 | X27: =SUM(X28:X38) -> 0 | Y27: =IF((I27+J27)=(W27+X27),"ok","검토") -> ok
B28: 1회 | C28: 743 | D28: 여성가족과 | E28: 아이돌봄 지원사업 | F28: 13370578 | G28: 13123578 | H28: =IF(SUMPRODUCT(COUNTIF(C28,{"*본예산*","*신규*"})),"-",F28-G28) -> 247000 | J28: 600000 | K28: =IF(F28=0,G28+I28+J28,F28+I28+J28) -> 13970578 | M28: 600000 | N28: =IF(F28=0,G28+L28+M28,F28+L28+M28) -> 13970578 | P28: 국비 변경내시(국비) ※여성가족부 가족지원과-3184(2014.9.16.)호 | Q28: 국비 | R28: =IF(Q28<>"도비",SUM(L28:M28),) -> 600000 | S28: =IF(Q28="도비",SUM(L28:M28),SUM(L28:M28)-R28) -> 0 | T28: =IF((L28+M28)=(R28+S28),"ok","검토") -> ok | V28: 국비 | W28: =IF(V28<>"도비",SUM(I28:J28),) -> 600000 | X28: =IF(V28="도비",SUM(I28:J28),SUM(I28:J28)-W28) -> 0 | Y28: =IF((I28+J28)=(W28+X28),"ok","검토") -> ok
B29: 추가 | C29: 본예산 56 | D29: 여성가족과 | E29: 가족역량 강화지원 | G29: 263000 | H29: =IF(SUMPRODUCT(COUNTIF(C29,{"*본예산*","*신규*"})),"-",F29-G29) -> - | J29: 25000 | K29: =IF(F29=0,G29+I29+J29,F29+I29+J29) -> 288000 | M29: 25000 | N29: =IF(F29=0,G29+L29+M29,F29+L29+M29) -> 288000 | P29: 국비 변경내시(국비) ※여성가족부 가족지원과-2970(2013.8.20.)호 | Q29: 국비 | R29: =IF(Q29<>"도비",SUM(L29:M29),) -> 25000 | S29: =IF(Q29="도비",SUM(L29:M29),SUM(L29:M29)-R29) -> 0 | T29: =IF((L29+M29)=(R29+S29),"ok","검토") -> ok | V29: 국비 | W29: =IF(V29<>"도비",SUM(I29:J29),) -> 25000 | X29: =IF(V29="도비",SUM(I29:J29),SUM(I29:J29)-W29) -> 0 | Y29: =IF((I29+J29)=(W29+X29),"ok","검토") -> ok
B30: 추가 | C30: 본예산 68 | D30: 여성가족과 | E30: 저소득한부모가족 지원 | G30: 11117000 | H30: =IF(SUMPRODUCT(COUNTIF(C30,{"*본예산*","*신규*"})),"-",F30-G30) -> - | J30: 1432800 | K30: =IF(F30=0,G30+I30+J30,F30+I30+J30) -> 12549800 | M30: 1432800 | N30: =IF(F30=0,G30+L30+M30,F30+L30+M30) -> 12549800 | P30: 국비 변경내시(기금) ※여성가족부 가족지원과-3206(2013.9.17.)호 | Q30: 기금 | R30: =IF(Q30<>"도비",SUM(L30:M30),) -> 1432800 | S30: =IF(Q30="도비",SUM(L30:M30),SUM(L30:M30)-R30) -> 0 | T30: =IF((L30+M30)=(R30+S30),"ok","검토") -> ok | V30: 기금 | W30: =IF(V30<>"도비",SUM(I30:J30),) -> 1432800 | X30: =IF(V30="도비",SUM(I30:J30),SUM(I30:J30)-W30) -> 0 | Y30: =IF((I30+J30)=(W30+X30),"ok","검토") -> ok
B31: 추가 | C31: 본예산 68 | D31: 여성가족과 | E31: 청소년한부모 자립지원 | G31: 450542 | H31: =IF(SUMPRODUCT(COUNTIF(C31,{"*본예산*","*신규*"})),"-",F31-G31) -> - | J31: 29458 | K31: =IF(F31=0,G31+I31+J31,F31+I31+J31) -> 480000 | M31: 29458 | N31: =IF(F31=0,G31+L31+M31,F31+L31+M31) -> 480000 | P31: 국비 변경내시(기금) ※여성가족부 가족지원과-3206(2013.9.17.)호 | Q31: 기금 | R31: =IF(Q31<>"도비",SUM(L31:M31),) -> 29458 | S31: =IF(Q31="도비",SUM(L31:M31),SUM(L31:M31)-R31) -> 0 | T31: =IF((L31+M31)=(R31+S31),"ok","검토") -> ok | V31: 기금 | W31: =IF(V31<>"도비",SUM(I31:J31),) -> 29458 | X31: =IF(V31="도비",SUM(I31:J31),SUM(I31:J31)-W31) -> 0 | Y31: =IF((I31+J31)=(W31+X31),"ok","검토") -> ok
B32: 추가 | C32: 본예산 68 | D32: 여성가족과 | E32: 한부모가족복지시설 기능보강사업 | G32: 528525 | H32: =IF(SUMPRODUCT(COUNTIF(C32,{"*본예산*","*신규*"})),"-",F32-G32) -> - | J32: 20100 | K32: =IF(F32=0,G32+I32+J32,F32+I32+J32) -> 548625 | M32: 20100 | N32: =IF(F32=0,G32+L32+M32,F32+L32+M32) -> 548625 | P32: 국비 변경내시(기금) ※여성가족부 가족지원과-3181(2013.9.15.)호 | Q32: 기금 | R32: =IF(Q32<>"도비",SUM(L32:M32),) -> 20100 | S32: =IF(Q32="도비",SUM(L32:M32),SUM(L32:M32)-R32) -> 0 | T32: =IF((L32+M32)=(R32+S32),"ok","검토") -> ok | V32: 기금 | W32: =IF(V32<>"도비",SUM(I32:J32),) -> 20100 | X32: =IF(V32="도비",SUM(I32:J32),SUM(I32:J32)-W32) -> 0 | Y32: =IF((I32+J32)=(W32+X32),"ok","검토") -> ok
B33: 1회 | C33: 744 | D33: 여성가족과 | E33: 성폭력방지 및 피해자지원사업 | F33: 2381652 | G33: 2377515 | H33: =IF(SUMPRODUCT(COUNTIF(C33,{"*본예산*","*신규*"})),"-",F33-G33) -> 4137 | J33: 42075 | K33: =IF(F33=0,G33+I33+J33,F33+I33+J33) -> 2423727 | M33: 42075 | N33: =IF(F33=0,G33+L33+M33,F33+L33+M33) -> 2423727 | P33: 국비 변경내시(기금) ※여성가족부 권익정책과-3487(2013.9.16.)호 | Q33: 기금 | R33: =IF(Q33<>"도비",SUM(L33:M33),) -> 42075 | S33: =IF(Q33="도비",SUM(L33:M33),SUM(L33:M33)-R33) -> 0 | T33: =IF((L33+M33)=(R33+S33),"ok","검토") -> ok | V33: 기금 | W33: =IF(V33<>"도비",SUM(I33:J33),) -> 42075 | X33: =IF(V33="도비",SUM(I33:J33),SUM(I33:J33)-W33) -> 0 | Y33: =IF((I33+J33)=(W33+X33),"ok","검토") -> ok
B34: 1회 | C34: 744 | D34: 여성가족과 | E34: 여성 학교폭력피해자 원스톱지원센터 | F34: 405300 | G34: 401100 | H34: =IF(SUMPRODUCT(COUNTIF(C34,{"*본예산*","*신규*"})),"-",F34-G34) -> 4200 | J34: 2770 | K34: =IF(F34=0,G34+I34+J34,F34+I34+J34) -> 408070 | M34: 2770 | N34: =IF(F34=0,G34+L34+M34,F34+L34+M34) -> 408070 | P34: 국비 변경내시(기금) ※여성가족부 권익정책과-3487(2013.9.16.)호 | Q34: 기금 | R34: =IF(Q34<>"도비",SUM(L34:M34),) -> 2770 | S34: =IF(Q34="도비",SUM(L34:M34),SUM(L34:M34)-R34) -> 0 | T34: =IF((L34+M34)=(R34+S34),"ok","검토") -> ok | V34: 기금 | W34: =IF(V34<>"도비",SUM(I34:J34),) -> 2770 | X34: =IF(V34="도비",SUM(I34:J34),SUM(I34:J34)-W34) -> 0 | Y34: =IF((I34+J34)=(W34+X34),"ok","검토") -> ok
B35: 1회 | C35: 743 | D35: 여성가족과 | E35: 가정폭력가해자 고정,치료 프로그램 운영 | F35: 321500 | G35: 348758 | H35: =IF(SUMPRODUCT(COUNTIF(C35,{"*본예산*","*신규*"})),"-",F35-G35) -> -27258 | K35: =IF(F35=0,G35+I35+J35,F35+I35+J35) -> 321500 | M35: 37104 | N35: =IF(F35=0,G35+L35+M35,F35+L35+M35) -> 358604 | P35: 여성가족부 복지지원과-2826(2014.9.25) | Q35: 기금 | R35: =IF(Q35<>"도비",SUM(L35:M35),) -> 37104 | S35: =IF(Q35="도비",SUM(L35:M35),SUM(L35:M35)-R35) -> 0 | T35: =IF((L35+M35)=(R35+S35),"ok","검토") -> ok | V35: 국비 | W35: =IF(V35<>"도비",SUM(I35:J35),) -> 0 | X35: =IF(V35="도비",SUM(I35:J35),SUM(I35:J35)-W35) -> 0 | Y35: =IF((I35+J35)=(W35+X35),"ok","검토") -> ok | Z35: 국비변경
B36: 1회 | C36: 743 | D36: 여성가족과 | E36: 성매매피해자 지원시설 및 상담소 운영 | F36: 1061568 | G36: 1060000 | H36: =IF(SUMPRODUCT(COUNTIF(C36,{"*본예산*","*신규*"})),"-",F36-G36) -> 1568 | K36: =IF(F36=0,G36+I36+J36,F36+I36+J36) -> 1061568 | M36: 28000 | N36: =IF(F36=0,G36+L36+M36,F36+L36+M36) -> 1089568 | P36: 여성가족부 권익지원과-2334(2014.9.24) | Q36: 국비 | R36: =IF(Q36<>"도비",SUM(L36:M36),) -> 28000 | S36: =IF(Q36="도비",SUM(L36:M36),SUM(L36:M36)-R36) -> 0 | T36: =IF((L36+M36)=(R36+S36),"ok","검토") -> ok | V36: 국비 | W36: =IF(V36<>"도비",SUM(I36:J36),) -> 0 | X36: =IF(V36="도비",SUM(I36:J36),SUM(I36:J36)-W36) -> 0 | Y36: =IF((I36+J36)=(W36+X36),"ok","검토") -> ok | Z36: 국비변경
B37: 추가 | C37: 본예산 56 | D37: 여성가족과 | E37: 성매매피해자 구조지원 사업 | G37: 205000 | H37: =IF(SUMPRODUCT(COUNTIF(C37,{"*본예산*","*신규*"})),"-",F37-G37) -> - | K37: =IF(F37=0,G37+I37+J37,F37+I37+J37) -> 205000 | M37: 2000 | N37: =IF(F37=0,G37+L37+M37,F37+L37+M37) -> 207000 | P37: 여성가족부 권익지원과-2334(2014.9.24) | Q37: 국비 | R37: =IF(Q37<>"도비",SUM(L37:M37),) -> 2000 | S37: =IF(Q37="도비",SUM(L37:M37),SUM(L37:M37)-R37) -> 0 | T37: =IF((L37+M37)=(R37+S37),"ok","검토") -> ok | V37: 국비 | W37: =IF(V37<>"도비",SUM(I37:J37),) -> 0 | X37: =IF(V37="도비",SUM(I37:J37),SUM(I37:J37)-W37) -> 0 | Y37: =IF((I37+J37)=(W37+X37),"ok","검토") -> ok | Z37: 국비변경
B38: 추가 | C38: 본예산 56 | D38: 여성가족과 | E38: 성매매집결지 현장기능강화사업 | G38: 147500 | H38: =IF(SUMPRODUCT(COUNTIF(C38,{"*본예산*","*신규*"})),"-",F38-G38) -> - | K38: =IF(F38=0,G38+I38+J38,F38+I38+J38) -> 147500 | M38: 6509 | N38: =IF(F38=0,G38+L38+M38,F38+L38+M38) -> 154009 | P38: 여성가족부 권익지원과-2334(2014.9.24) | Q38: 기금 | R38: =IF(Q38<>"도비",SUM(L38:M38),) -> 6509 | S38: =IF(Q38="도비",SUM(L38:M38),SUM(L38:M38)-R38) -> 0 | T38: =IF((L38+M38)=(R38+S38),"ok","검토") -> ok | V38: 기금 | W38: =IF(V38<>"도비",SUM(I38:J38),) -> 0 | X38: =IF(V38="도비",SUM(I38:J38),SUM(I38:J38)-W38) -> 0 | Y38: =IF((I38+J38)=(W38+X38),"ok","검토") -> ok | Z38: 국비변경
B39: 복지여성실 | F39: =SUM(F40:F40) -> 2594 | G39: =SUM(G40:G40) -> 0 | H39: =SUM(H40:H40) -> 2594 | I39: =SUM(I40:I40) -> 0 | J39: =SUM(J40:J40) -> 0 | K39: =SUM(K40:K40) -> 2594 | L39: =SUM(L40:L40) -> 0 | M39: =SUM(M40:M40) -> 0 | N39: =SUM(N40:N40) -> 2594 | R39: =SUM(R40:R40) -> 0 | S39: =SUM(S40:S40) -> 0 | T39: =IF((L39+M39)=(R39+S39),"ok","검토") -> ok | W39: =SUM(W40:W40) -> 0 | X39: =SUM(X40:X40) -> 0 | Y39: =IF((I39+J39)=(W39+X39),"ok","검토") -> ok
B40: 1회 | C40: 785 | D40: 북부여성비전센터 | E40: 북부여성비전센터 도비 민간이전 사용잔액 (과목경정) : 부기명, 통계목 도비 민간이전 사용잔액 ⇒ 도비 사용잔액 그외수입 ⇒ 시도비 반환금수입 | F40: 2594 | H40: =IF(SUMPRODUCT(COUNTIF(C40,{"*본예산*","*신규*"})),"-",F40-G40) -> 2594 | K40: =IF(F40=0,G40+I40+J40,F40+I40+J40) -> 2594 | L40: 0 | M40: 0 | N40: =IF(F40=0,G40+L40+M40,F40+L40+M40) -> 2594 | P40: (과목경정) : 부기명, 통계목 | Q40: 도비 | R40: =IF(Q40<>"도비",SUM(L40:M40),) -> 0 | S40: =IF(Q40="도비",SUM(L40:M40),SUM(L40:M40)-R40) -> 0 | T40: =IF((L40+M40)=(R40+S40),"ok","검토") -> ok | V40: 도비 | W40: =IF(V40<>"도비",SUM(I40:J40),) -> 0 | X40: =IF(V40="도비",SUM(I40:J40),SUM(I40:J40)-W40) -> 0 | Y40: =IF((I40+J40)=(W40+X40),"ok","검토") -> ok

Sheet 일반 세출
A1: 2014년도 제1회 추경 경기도 일반회계 세출 예산 조정(안)
A2: □세출예산 | R2: 세입 = 세출 | W2: 세입 = 세출
H3: =G3-E3 -> 0 | J3: =SUM(I6:J6) -> 29008824 | M3: =SUM(L6:M6) -> 3134642 | P3: (단위 : 천원) | R3: =IF(R6='일반 세입'!R6,"OK","@@") -> OK | S3: =SUM(R6:S6) -> 3134642 | T3: =IF(COUNTIF(T6:T1027,"@@")>0,"@@","OK") -> OK | W3: =IF(W6='일반 세입'!W6,"OK","@@") -> OK | X3: =SUM(W6:X6) -> 29008824 | Y3: =IF(COUNTIF(Y6:Y1027,"@@")>0,"@@","OK") -> OK | AB3: =SUM(AA6:AB6) -> 97
A4: 위원회 | C4: 예산안 페이지 | D4: 부서명 | E4: 사업명 | F4: 제1회 추경 예산안 (가) | G4: 기정액 (나) | H4: 제1회 추경 증감액 (다=가-나) | I4: 상임위 제1회 추경 예산안 조정액 | K4: 상임위 수정 예산안 (마=가or나+라) | L4: 예결위 제1회 추경 예산안 조정액(라) | N4: 예결위 수정 예산안 (마=나+다+라) | O4: 동의 대상 | P4: 비고(부대의견) | Q4: 재원 | R4: 예결위 재원별 증감액 | V4: 재원 | W4: 상임위 재원별 증감액 | AA4: 예결위 제1회 추경 예산안 조정액
I5: 감액 | J5: 증액 | L5: 감액 | M5: 증액 | R5: 국비 등 | S5: 도 비 | T5: 검 증 | W5: 국비 등 | X5: 도 비 | Y5: 검 증 | AA5: 감액 | AB5: 증액
B6: 합 계 | F6: =SUM(F7:F134)/3 -> 1702695634 | G6: =SUM(G7:G134)/3 -> 1537936588 | H6: =SUM(H7:H134)/3 -> 211987699 | I6: =SUM(I7:I134)/3 -> -4102374 | J6: =SUM(J7:J134)/3 -> 33111198 | K6: =SUM(K7:K134)/3 -> 1778933111 | L6: =SUM(L7:L134)/3 -> -18673514 | M6: =SUM(M7:M134)/3 -> 21808156 | N6: =SUM(N7:N134)/3 -> 1753058929 | R6: =SUM(R7:R134)/3 -> 3334803 | S6: =SUM(S7:S134)/3 -> -200161 | T6: =IF((L6+M6)=(R6+S6),"OK","검토") -> OK | W6: =SUM(W7:W134)/3 -> 3253590 | X6: =SUM(X7:X134)/3 -> 25755234 | Y6: =IF((I6+J6)=(W6+X6),"OK","검토") -> OK | AA6: =SUM(AA7:AA134) -> 97 | AB6: =SUM(AB7:AB134) -> 0
A7: 의회운영위원회 | F7: =SUM(F8:F14)/2 -> 6043490 | G7: =SUM(G8:G14)/2 -> 4932490 | H7: =SUM(H8:H14)/2 -> 1111000 | I7: =SUM(I8:I14)/2 -> 0 | J7: =SUM(J8:J14)/2 -> 60920 | K7: =SUM(K8:K14)/2 -> 6104410 | L7: =SUM(L8:L14)/2 -> -1040000 | M7: =SUM(M8:M14)/2 -> 60920 | N7: =SUM(N8:N14)/2 -> 5064410 | R7: =SUM(R8:R14)/2 -> 0 | S7: =SUM(S8:S14)/2 -> -979080 | T7: =IF((L7+M7)=(R7+S7),"ok","검토") -> ok | W7: =SUM(W8:W14)/2 -> 0 | X7: =SUM(X8:X14)/2 -> 60920 | Y7: =IF((I7+J7)=(W7+X7),"ok","검토") -> ok
B8: 의회사무처 | F8: =SUM(F9:F11) -> 537490 | G8: =SUM(G9:G11) -> 366490 | H8: =SUM(H9:H11) -> 171000 | I8: =SUM(I9:I11) -> 0 | J8: =SUM(J9:J11) -> 60920 | K8: =SUM(K9:K11) -> 598410 | L8: =SUM(L9:L11) -> -100000 | M8: =SUM(M9:M11) -> 60920 | N8: =SUM(N9:N11) -> 498410 | R8: =SUM(R9:R11) -> 0 | S8: =SUM(S9:S11) -> -39080 | T8: =IF((L8+M8)=(R8+S8),"ok","검토") -> ok | W8: =SUM(W9:W11) -> 0 | X8: =SUM(X9:X11) -> 60920 | Y8: =IF((I8+J8)=(W8+X8),"ok","검토") -> ok
B9: 1회 | C9: 233 | D9: 의회사무처 | E9: 자산취득비 | F9: 358890 | G9: 287890 | H9: =IF(SUMPRODUCT(COUNTIF(C9,{"*본예산*","*신규*"})),"-",F9-G9) -> 71000 | J9: 60920 | K9: =IF(F9=0,G9+I9+J9,F9+I9+J9) -> 419810 | M9: 60920 | N9: =IF(F9=0,G9+L9+M9,F9+L9+M9) -> 419810 | O9: =IF(I9-L9<0,"동의필요","-") -> - | P9: 상임위 의견 반영 | Q9: 도비 | R9: =IF(Q9<>"도비",SUM(L9:M9),) -> 0 | S9: =IF(Q9="도비",SUM(L9:M9),SUM(L9:M9)-R9) -> 60920 | T9: =IF((L9+M9)=(R9+S9),"ok","검토") -> ok | V9: 도비 | W9: =IF(V9<>"도비",SUM(I9:J9),) -> 0 | X9: =IF(V9="도비",SUM(I9:J9),SUM(I9:J9)-W9) -> 60920 | Y9: =IF((I9+J9)=(W9+X9),"ok","검토") -> ok | AA9: 1
B10: 1회 | C10: 232 | D10: 의회사무처 | E10: 미디어 홍보(자체/직접) - SNS 홍보매체 운영 | F10: 70000 | H10: =IF(SUMPRODUCT(COUNTIF(C10,{"*본예산*","*신규*"})),"-",F10-G10) -> 70000 | K10: =IF(F10=0,G10+I10+J10,F10+I10+J10) -> 70000 | L10: -70000 | N10: =IF(F10=0,G10+L10+M10,F10+L10+M10) -> 0 | O10: =IF(I10-L10<0,"동의필요","-") -> - | P10: 사업효과성 미흡 | Q10: 도비 | R10: =IF(Q10<>"도비",SUM(L10:M10),) -> 0 | S10: =IF(Q10="도비",SUM(L10:M10),SUM(L10:M10)-R10) -> -70000 | T10: =IF((L10+M10)=(R10+S10),"ok","검토") -> ok | V10: 도비 | W10: =IF(V10<>"도비",SUM(I10:J10),) -> 0 | X10: =IF(V10="도비",SUM(I10:J10),SUM(I10:J10)-W10) -> 0 | Y10: =IF((I10+J10)=(W10+X10),"ok","검토") -> ok | AA10: 1
B11: 1회 | C11: 232 | D11: 의회사무처 | E11: 의정지원 기준경비(자체/직접) - 국제행사 참여 | F11: 108600 | G11: 78600 | H11: =IF(SUMPRODUCT(COUNTIF(C11,{"*본예산*","*신규*"})),"-",F11-G11) -> 30000 | K11: =IF(F11=0,G11+I11+J11,F11+I11+J11) -> 108600 | L11: -30000 | N11: =IF(F11=0,G11+L11+M11,F11+L11+M11) -> 78600 | O11: =IF(I11-L11<0,"동의필요","-") -> - | P11: 예산편성 기준 준수 | Q11: 도비 | R11: =IF(Q11<>"도비",SUM(L11:M11),) -> 0 | S11: =IF(Q11="도비",SUM(L11:M11),SUM(L11:M11)-R11) -> -30000 | T11: =IF((L11+M11)=(R11+S11),"ok","검토") -> ok | V11: 도비 | W11: =IF(V11<>"도비",SUM(I11:J11),) -> 0 | X11: =IF(V11="도비",SUM(I11:J11),SUM(I11:J11)-W11) -> 0 | Y11: =IF((I11+J11)=(W11+X11),"ok","검토") -> ok | AA11: 1
B12: 대변인 | F12: =SUM(F13:F14) -> 5506000 | G12: =SUM(G13:G14) -> 4566000 | H12: =SUM(H13:H14) -> 940000 | I12: =SUM(I13:I14) -> 0 | J12: =SUM(J13:J14) -> 0 | K12: =SUM(K13:K14) -> 5506000 | L12: =SUM(L13:L14) -> -940000 | M12: =SUM(M13:M14) -> 0 | N12: =SUM(N13:N14) -> 4566000 | R12: =SUM(R13:R14) -> 0 | S12: =SUM(S13:S14) -> -940000 | T12: =IF((L12+M12)=(R12+S12),"ok","검토") -> ok | W12: =SUM(W13:W14) -> 0 | X12: =SUM(X13:X14) -> 0 | Y12: =IF((I12+J12)=(W12+X12),"ok","검토") -> ok
B13: 1회 | C13: 238 | D13: 언론담당관 | E13: 신문을 통한 홍보(자체/직접) - 언론공익광고 | F13: 1776000 | G13: 1226000 | H13: =IF(SUMPRODUCT(COUNTIF(C13,{"*본예산*","*신규*"})),"-",F13-G13) -> 550000 | K13: =IF(F13=0,G13+I13+J13,F13+I13+J13) -> 1776000 | L13: -550000 | N13: =IF(F13=0,G13+L13+M13,F13+L13+M13) -> 1226000 | O13: =IF(I13-L13<0,"동의필요","-") -> - | P13: 사업계획 미흡, 본예산 검토 | Q13: 도비 | R13: =IF(Q13<>"도비",SUM(L13:M13),) -> 0 | S13: =IF(Q13="도비",SUM(L13:M13),SUM(L13:M13)-R13) -> -550000 | T13: =IF((L13+M13)=(R13+S13),"ok","검토") -> ok | V13: 도비 | W13: =IF(V13<>"도비",SUM(I13:J13),) -> 0 | X13: =IF(V13="도비",SUM(I13:J13),SUM(I13:J13)-W13) -> 0 | Y13: =IF((I13+J13)=(W13+X13),"ok","검토") -> ok | AA13: 1
B14: 1회 | C14: 239 | D14: 홍보담당관 | E14: 도정기획홍보(자체/직접) - 도정기획홍보 | F14: 3730000 | G14: 3340000 | H14: =IF(SUMPRODUCT(COUNTIF(C14,{"*본예산*","*신규*"})),"-",F14-G14) -> 390000 | K14: =IF(F14=0,G14+I14+J14,F14+I14+J14) -> 3730000 | L14: -390000 | N14: =IF(F14=0,G14+L14+M14,F14+L14+M14) -> 3340000 | O14: =IF(I14-L14<0,"동의필요","-") -> - | P14: 사업계획 미흡, 본예산 검토 | Q14: 도비 | R14: =IF(Q14<>"도비",SUM(L14:M14),) -> 0 | S14: =IF(Q14="도비",SUM(L14:M14),SUM(L14:M14)-R14) -> -390000 | T14: =IF((L14+M14)=(R14+S14),"ok","검토") -> ok | V14: 도비 | W14: =IF(V14<>"도비",SUM(I14:J14),) -> 0 | X14: =IF(V14="도비",SUM(I14:J14),SUM(I14:J14)-W14) -> 0 | Y14: =IF((I14+J14)=(W14+X14),"ok","검토") -> ok | AA14: 1
A15: 기획재정위원회 | F15: =SUM(F16:F23)/2 -> 1570648622 | G15: =SUM(G16:G23)/2 -> 1399359490 | H15: =SUM(H16:H23)/2 -> 171289132 | I15: =SUM(I16:I23)/2 -> -1910000 | J15: =SUM(J16:J23)/2 -> 0 | K15: =SUM(K16:K23)/2 -> 1568738622 | L15: =SUM(L16:L23)/2 -> -14046635 | M15: =SUM(M16:M23)/2 -> 0 | N15: =SUM(N16:N23)/2 -> 1556601987 | R15: =SUM(R16:R23)/2 -> 0 | S15: =SUM(S16:S23)/2 -> -14046635 | T15: =IF((L15+M15)=(R15+S15),"ok","검토") -> ok | W15: =SUM(W16:W23)/2 -> 0 | X15: =SUM(X16:X23)/2 -> -1910000 | Y15: =IF((I15+J15)=(W15+X15),"ok","검토") -> ok
B16: 기획조정실 | F16: =SUM(F17:F20) -> 1570348622 | G16: =SUM(G17:G20) -> 1399359490 | H16: =SUM(H17:H20) -> 170989132 | I16: =SUM(I17:I20) -> -1910000 | J16: =SUM(J17:J20) -> 0 | K16: =SUM(K17:K20) -> 1568438622 | L16: =SUM(L17:L20) -> -13846635 | M16: =SUM(M17:M20) -> 0 | N16: =SUM(N17:N20) -> 1556501987 | R16: =SUM(R17:R20) -> 0 | S16: =SUM(S17:S20) -> -13846635 | T16: =IF((L16+M16)=(R16+S16),"ok","검토") -> ok | W16: =SUM(W17:W20) -> 0 | X16: =SUM(X17:X20) -> -1910000 | Y16: =IF((I16+J16)=(W16+X16),"ok","검토") -> ok
B17: 1회 | C17: 261 | D17: 창조행정담당관 | E17: 도정발전 연구용역(자체/직접) - 도정발전 연구용역(pool) | F17: 1000000 | G17: 300000 | H17: =IF(SUMPRODUCT(COUNTIF(C17,{"*본예산*","*신규*"})),"-",F17-G17) -> 700000 | I17: -500000 | K17: =IF(F17=0,G17+I17+J17,F17+I17+J17) -> 500000 | L17: -500000 | N17: =IF(F17=0,G17+L17+M17,F17+L17+M17) -> 500000 | O17: =IF(I17-L17<0,"동의필요","-") -> - | P17: 예산편성 과다 | Q17: 도비 | R17: =IF(Q17<>"도비",SUM(L17:M17),) -> 0 | S17: =IF(Q17="도비",SUM(L17:M17),SUM(L17:M17)-R17) -> -500000 | T17: =IF((L17+M17)=(R17+S17),"ok","검토") -> ok | V17: 도비 | W17: =IF(V17<>"도비",SUM(I17:J17),) -> 0 | X17: =IF(V17="도비",SUM(I17:J17),SUM(I17:J17)-W17) -> -500000 | Y17: =IF((I17+J17)=(W17+X17),"ok","검토") -> ok | AA17: 1
B18: 1회 | C18: 269 | D18: 정보서비스담당관 | E18: 스마트타운 플랫폼 구축(자체/직접) - 스마트타운 플랫폼 구축(국가직접 사업) | F18: 210000 | H18: =IF(SUMPRODUCT(COUNTIF(C18,{"*본예산*","*신규*"})),"-",F18-G18) -> 210000 | I18: -210000 | K18: =IF(F18=0,G18+I18+J18,F18+I18+J18) -> 0 | L18: 0 | M18: 0 | N18: =IF(F18=0,G18+L18+M18,F18+L18+M18) -> 210000 | O18: =IF(I18-L18<0,"동의필요","-") -> 동의필요 | P18: 사업필요성 인정 | Q18: 도비 | R18: =IF(Q18<>"도비",SUM(L18:M18),) -> 0 | S18: =IF(Q18="도비",SUM(L18:M18),SUM(L18:M18)-R18) -> 0 | T18: =IF((L18+M18)=(R18+S18),"ok","검토") -> ok | V18: 도비 | W18: =IF(V18<>"도비",SUM(I18:J18),) -> 0 | X18: =IF(V18="도비",SUM(I18:J18),SUM(I18:J18)-W18) -> -210000 | Y18: =IF((I18+J18)=(W18+X18),"ok","검토") -> ok | AA18: 1
B19: 1회 | C19: 269 | D19: 정보서비스담당관 | E19: 빅파이 프로젝트 사업 추진(자체/직접) - 빅파이 프로젝트 사업 추진 (과목경정) : 통계목 출연금 ⇒ 민간경상보조 | F19: 1700000 | H19: =IF(SUMPRODUCT(COUNTIF(C19,{"*본예산*","*신규*"})),"-",F19-G19) -> 1700000 | I19: -1200000 | K19: =IF(F19=0,G19+I19+J19,F19+I19+J19) -> 500000 | L19: -1200000 | N19: =IF(F19=0,G19+L19+M19,F19+L19+M19) -> 500000 | O19: =IF(I19-L19<0,"동의필요","-") -> - | P19: 사업효과성 미흡 | Q19: 도비 | R19: =IF(Q19<>"도비",SUM(L19:M19),) -> 0 | S19: =IF(Q19="도비",SUM(L19:M19),SUM(L19:M19)-R19) -> -1200000 | T19: =IF((L19+M19)=(R19+S19),"ok","검토") -> ok | V19: 도비 | W19: =IF(V19<>"도비",SUM(I19:J19),) -> 0 | X19: =IF(V19="도비",SUM(I19:J19),SUM(I19:J19)-W19) -> -1200000 | Y19: =IF((I19+J19)=(W19+X19),"ok","검토") -> ok | AA19: 1
B20: 1회 | C20: 263 | D20: 예산담당관 | E20: 재정보전금지원(자체/지원) -일반재정보전금 | F20: 1567438622 | G20: 1399059490 | H20: =IF(SUMPRODUCT(COUNTIF(C20,{"*본예산*","*신규*"})),"-",F20-G20) -> 168379132 | K20: =IF(F20=0,G20+I20+J20,F20+I20+J20) -> 1567438622 | L20: =-11446635-700000 -> -12146635 | N20: =IF(F20=0,G20+L20+M20,F20+L20+M20) -> 1555291987 | O20: =IF(I20-L20<0,"동의필요","-") -> - | P20: 세입 세출 일치를 위해 세출증감액 분 감액 | Q20: 도비 | R20: =IF(Q20<>"도비",SUM(L20:M20),) -> 0 | S20: =IF(Q20="도비",SUM(L20:M20),SUM(L20:M20)-R20) -> -12146635 | T20: =IF((L20+M20)=(R20+S20),"ok","검토") -> ok | V20: 도비 | W20: =IF(V20<>"도비",SUM(I20:J20),) -> 0 | X20: =IF(V20="도비",SUM(I20:J20),SUM(I20:J20)-W20) -> 0 | Y20: =IF((I20+J20)=(W20+X20),"ok","검토") -> ok | AA20: 1
B21: 안전행정실 | F21: =SUM(F22:F23) -> 300000 | G21: =SUM(G22:G23) -> 0 | H21: =SUM(H22:H23) -> 300000 | I21: =SUM(I22:I23) -> 0 | J21: =SUM(J22:J23) -> 0 | K21: =SUM(K22:K23) -> 300000 | L21: =SUM(L22:L23) -> -200000 | M21: =SUM(M22:M23) -> 0 | N21: =SUM(N22:N23) -> 100000 | R21: =SUM(R22:R23) -> 0 | S21: =SUM(S22:S23) -> -200000 | T21: =IF((L21+M21)=(R21+S21),"ok","검토") -> ok | W21: =SUM(W22:W23) -> 0 | X21: =SUM(X22:X23) -> 0 | Y21: =IF((I21+J21)=(W21+X21),"ok","검토") -> ok
B22: 1회 | C22: 276 | D22: 기획예산담당관 | E22: 경기북부 민간사업 전략 개발(자체/직접) - 경기북부 민간사업 전략개발 지원 | F22: 200000 | H22: =IF(SUMPRODUCT(COUNTIF(C22,{"*본예산*","*신규*"})),"-",F22-G22) -> 200000 | K22: =IF(F22=0,G22+I22+J22,F22+I22+J22) -> 200000 | L22: -200000 | N22: =IF(F22=0,G22+L22+M22,F22+L22+M22) -> 0 | O22: =IF(I22-L22<0,"동의필요","-") -> - | P22: 사업효과성 미흡 | Q22: 도비 | R22: =IF(Q22<>"도비",SUM(L22:M22),) -> 0 | S22: =IF(Q22="도비",SUM(L22:M22),SUM(L22:M22)-R22) -> -200000 | T22: =IF((L22+M22)=(R22+S22),"ok","검토") -> ok | V22: 도비 | W22: =IF(V22<>"도비",SUM(I22:J22),) -> 0 | X22: =IF(V22="도비",SUM(I22:J22),SUM(I22:J22)-W22) -> 0 | Y22: =IF((I22+J22)=(W22+X22),"ok","검토") -> ok | AA22: 1
B23: 1회 | C23: 280 | D23: 군관협력담당관 | E23: 한미친선 교류협력(자체/지원) - 한미축제 | F23: 100000 | H23: =IF(SUMPRODUCT(COUNTIF(C23,{"*본예산*","*신규*"})),"-",F23-G23) -> 100000 | K23: =IF(F23=0,G23+I23+J23,F23+I23+J23) -> 100000 | M23: 0 | N23: =IF(F23=0,G23+L23+M23,F23+L23+M23) -> 100000 | O23: =IF(I23-L23<0,"동의필요","-") -> - | Q23: 도비 | R23: =IF(Q23<>"도비",SUM(L23:M23),) -> 0 | S23: =IF(Q23="도비",SUM(L23:M23),SUM(L23:M23)-R23) -> 0 | T23: =IF((L23+M23)=(R23+S23),"ok","검토") -> ok | V23: 도비 | W23: =IF(V23<>"도비",SUM(I23:J23),) -> 0 | X23: =IF(V23="도비",SUM(I23:J23),SUM(I23:J23)-W23) -> 0 | Y23: =IF((I23+J23)=(W23+X23),"ok","검토") -> ok | AA23: 1
A24: 경제과학기술위원회 | F24: =SUM(F25:F41)/2 -> 3030000 | G24: =SUM(G25:G41)/2 -> 13188800 | H24: =SUM(H25:H41)/2 -> 1430000 | I24: =SUM(I25:I41)/2 -> -180000 | J24: =SUM(J25:J41)/2 -> 3741000 | K24: =SUM(K25:K41)/2 -> 18179800 | L24: =SUM(L25:L41)/2 -> -180000 | M24: =SUM(M25:M41)/2 -> 1660000 | N24: =SUM(N25:N41)/2 -> 16098800 | R24: =SUM(R25:R41)/2 -> 0 | S24: =SUM(S25:S41)/2 -> 1480000 | T24: =IF((L24+M24)=(R24+S24),"ok","검토") -> ok | W24: =SUM(W25:W41)/2 -> 0 | X24: =SUM(X25:X41)/2 -> 3561000 | Y24: =IF((I24+J24)=(W24+X24),"ok","검토") -> ok
B25: 경제투자실 | F25: =SUM(F26:F39) -> 3030000 | G25: =SUM(G26:G39) -> 12988800 | H25: =SUM(H26:H39) -> 1430000 | I25: =SUM(I26:I39) -> -180000 | J25: =SUM(J26:J39) -> 3491000 | K25: =SUM(K26:K39) -> 17729800 | L25: =SUM(L26:L39) -> -180000 | M25: =SUM(M26:M39) -> 1410000 | N25: =SUM(N26:N39) -> 15648800 | R25: =SUM(R26:R39) -> 0 | S25: =SUM(S26:S39) -> 1230000 | T25: =IF((L25+M25)=(R25+S25),"ok","검토") -> ok | W25: =SUM(W26:W39) -> 0 | X25: =SUM(X26:X39) -> 3311000 | Y25: =IF((I25+J25)=(W25+X25),"ok","검토") -> ok
B26: 1회 | C26: 303 | D26: 기업지원1과 | E26: 중소기업종합지원센터 사업지원(자체/직접) - G-베이스캠프 조성 | F26: 400000 | H26: =IF(SUMPRODUCT(COUNTIF(C26,{"*본예산*","*신규*"})),"-",F26-G26) -> 400000 | K26: =IF(F26=0,G26+I26+J26,F26+I26+J26) -> 400000 | L26: 0 | M26: 0 | N26: =IF(F26=0,G26+L26+M26,F26+L26+M26) -> 400000 | O26: =IF(I26-L26<0,"동의필요","-") -> - | P26: 부대의견 : 실질적으로 인큐베이팅 전에 자신의 정보를 획득 교류 할 수 있도록 프로그램운영 내실화 할 것 | Q26: 도비 | R26: =IF(Q26<>"도비",SUM(L26:M26),) -> 0 | S26: =IF(Q26="도비",SUM(L26:M26),SUM(L26:M26)-R26) -> 0 | T26: =IF((L26+M26)=(R26+S26),"ok","검토") -> ok | V26: 도비 | W26: =IF(V26<>"도비",SUM(I26:J26),) -> 0 | X26: =IF(V26="도비",SUM(I26:J26),SUM(I26:J26)-W26) -> 0 | Y26: =IF((I26+J26)=(W26+X26),"ok","검토") -> ok | AA26: 1
B27: 1회 | C27: 303 | D27: 기업지원1과 | E27: 뿌리산업 특화단지 고도화 지원(자체/직접) - 뿌리산업 특화단지 고도화 지원(국가직접지원) | F27: 200000 | H27: =IF(SUMPRODUCT(COUNTIF(C27,{"*본예산*","*신규*"})),"-",F27-G27) -> 200000 | J27: 300000 | K27: =IF(F27=0,G27+I27+J27,F27+I27+J27) -> 500000 | M27: 200000 | N27: =IF(F27=0,G27+L27+M27,F27+L27+M27) -> 400000 | O27: =IF(I27-L27<0,"동의필요","-") -> - | P27: 협약금액 반영 | Q27: 도비 | R27: =IF(Q27<>"도비",SUM(L27:M27),) -> 0 | S27: =IF(Q27="도비",SUM(L27:M27),SUM(L27:M27)-R27) -> 200000 | T27: =IF((L27+M27)=(R27+S27),"ok","검토") -> ok | V27: 도비 | W27: =IF(V27<>"도비",SUM(I27:J27),) -> 0 | X27: =IF(V27="도비",SUM(I27:J27),SUM(I27:J27)-W27) -> 300000 | Y27: =IF((I27+J27)=(W27+X27),"ok","검토") -> ok | AA27: 1
B28: 1회 | C28: 306 | D28: 과학기술과 | E28: 기술닥터사업(자체/직접) - 기술닥터사업 | F28: 2000000 | G28: 1600000 | H28: =IF(SUMPRODUCT(COUNTIF(C28,{"*본예산*","*신규*"})),"-",F28-G28) -> 400000 | K28: =IF(F28=0,G28+I28+J28,F28+I28+J28) -> 2000000 | L28: 0 | M28: 0 | N28: =IF(F28=0,G28+L28+M28,F28+L28+M28) -> 2000000 | O28: =IF(I28-L28<0,"동의필요","-") -> - | P28: 부대의견 : 실국별 흩어져 있는 기술닥터 사업 통합 연계방안 강구 및 홍보강화 | Q28: 도비 | R28: =IF(Q28<>"도비",SUM(L28:M28),) -> 0 | S28: =IF(Q28="도비",SUM(L28:M28),SUM(L28:M28)-R28) -> 0 | T28: =IF((L28+M28)=(R28+S28),"ok","검토") -> ok | V28: 도비 | W28: =IF(V28<>"도비",SUM(I28:J28),) -> 0 | X28: =IF(V28="도비",SUM(I28:J28),SUM(I28:J28)-W28) -> 0 | Y28: =IF((I28+J28)=(W28+X28),"ok","검토") -> ok | AA28: 1
B29: 1회 | C29: 310 | D29: 일자리센터 | E29: 경기 청년해외진출지원사업(자체/직접) - 경기 청년해외진출지원사업 | F29: 180000 | H29: =IF(SUMPRODUCT(COUNTIF(C29,{"*본예산*","*신규*"})),"-",F29-G29) -> 180000 | I29: -180000 | K29: =IF(F29=0,G29+I29+J29,F29+I29+J29) -> 0 | L29: -180000 | N29: =IF(F29=0,G29+L29+M29,F29+L29+M29) -> 0 | O29: =IF(I29-L29<0,"동의필요","-") -> - | P29: 2015년 본예산에 10억원 확보하여 완벽한 사업계획수립 및 추진을 조건으로 전액삭감 | Q29: 도비 | R29: =IF(Q29<>"도비",SUM(L29:M29),) -> 0 | S29: =IF(Q29="도비",SUM(L29:M29),SUM(L29:M29)-R29) -> -180000 | T29: =IF((L29+M29)=(R29+S29),"ok","검토") -> ok | V29: 도비 | W29: =IF(V29<>"도비",SUM(I29:J29),) -> 0 | X29: =IF(V29="도비",SUM(I29:J29),SUM(I29:J29)-W29) -> -180000 | Y29: =IF((I29+J29)=(W29+X29),"ok","검토") -> ok | AA29: 1
B30: 1회 | C30: 310 | D30: 일자리센터 | E30: 4050 재취업 지원사업(자체/직접) - 4050 재취업 지원사업 | F30: 200000 | H30: =IF(SUMPRODUCT(COUNTIF(C30,{"*본예산*","*신규*"})),"-",F30-G30) -> 200000 | K30: =IF(F30=0,G30+I30+J30,F30+I30+J30) -> 200000 | L30: 0 | M30: 0 | N30: =IF(F30=0,G30+L30+M30,F30+L30+M30) -> 200000 | O30: =IF(I30-L30<0,"동의필요","-") -> - | P30: 부대의견 : 실수요자 위주의 교육프로그램 강화 | Q30: 도비 | R30: =IF(Q30<>"도비",SUM(L30:M30),) -> 0 | S30: =IF(Q30="도비",SUM(L30:M30),SUM(L30:M30)-R30) -> 0 | T30: =IF((L30+M30)=(R30+S30),"ok","검토") -> ok | V30: 도비 | W30: =IF(V30<>"도비",SUM(I30:J30),) -> 0 | X30: =IF(V30="도비",SUM(I30:J30),SUM(I30:J30)-W30) -> 0 | Y30: =IF((I30+J30)=(W30+X30),"ok","검토") -> ok | AA30: 1
B31: 1회 | C31: 311 | D31: 서비스산업과 | E31: 전통시장 활성화지원(자체/직접) -2014 경기도 우수시장 박람회 개최지원 | F31: 50000 | H31: =IF(SUMPRODUCT(COUNTIF(C31,{"*본예산*","*신규*"})),"-",F31-G31) -> 50000 | J31: 20000 | K31: =IF(F31=0,G31+I31+J31,F31+I31+J31) -> 70000 | M31: 0 | N31: =IF(F31=0,G31+L31+M31,F31+L31+M31) -> 50000 | O31: =IF(I31-L31<0,"동의필요","-") -> - | P31: 성공적인 우수시장 박람회 개최 | Q31: 도비 | R31: =IF(Q31<>"도비",SUM(L31:M31),) -> 0 | S31: =IF(Q31="도비",SUM(L31:M31),SUM(L31:M31)-R31) -> 0 | T31: =IF((L31+M31)=(R31+S31),"ok","검토") -> ok | V31: 도비 | W31: =IF(V31<>"도비",SUM(I31:J31),) -> 0 | X31: =IF(V31="도비",SUM(I31:J31),SUM(I31:J31)-W31) -> 20000 | Y31: =IF((I31+J31)=(W31+X31),"ok","검토") -> ok | AA31: 1
B32: 추가 | C32: 본예산 421 | D32: 과학기술과 | E32: 경기지역협력연구센터(GRRC)지원(자체/직접) - 경기지역협력연구센터(GRRC)지원 | G32: 4070000 | H32: =IF(SUMPRODUCT(COUNTIF(C32,{"*본예산*","*신규*"})),"-",F32-G32) -> - | J32: 500000 | K32: =IF(F32=0,G32+I32+J32,F32+I32+J32) -> 4570000 | M32: 0 | N32: =IF(F32=0,G32+L32+M32,F32+L32+M32) -> 4070000 | O32: =IF(I32-L32<0,"동의필요","-") -> - | Q32: 도비 | R32: =IF(Q32<>"도비",SUM(L32:M32),) -> 0 | S32: =IF(Q32="도비",SUM(L32:M32),SUM(L32:M32)-R32) -> 0 | T32: =IF((L32+M32)=(R32+S32),"ok","검토") -> ok | V32: 도비 | W32: =IF(V32<>"도비",SUM(I32:J32),) -> 0 | X32: =IF(V32="도비",SUM(I32:J32),SUM(I32:J32)-W32) -> 500000 | Y32: =IF((I32+J32)=(W32+X32),"ok","검토") -> ok | AA32: 1
B33: 추가 | C33: 본예산 422 | D33: 과학기술과 | E33: 광역경제권 연계협력 사업(자체/직접) - 광역경제권연계협력 사업(국가직접지원) | G33: 160000 | H33: =IF(SUMPRODUCT(COUNTIF(C33,{"*본예산*","*신규*"})),"-",F33-G33) -> - | J33: 140000 | K33: =IF(F33=0,G33+I33+J33,F33+I33+J33) -> 300000 | M33: 140000 | N33: =IF(F33=0,G33+L33+M33,F33+L33+M33) -> 300000 | O33: =IF(I33-L33<0,"동의필요","-") -> - | P33: 국고 매칭 사업 | Q33: 도비 | R33: =IF(Q33<>"도비",SUM(L33:M33),) -> 0 | S33: =IF(Q33="도비",SUM(L33:M33),SUM(L33:M33)-R33) -> 140000 | T33: =IF((L33+M33)=(R33+S33),"ok","검토") -> ok | V33: 도비 | W33: =IF(V33<>"도비",SUM(I33:J33),) -> 0 | X33: =IF(V33="도비",SUM(I33:J33),SUM(I33:J33)-W33) -> 140000 | Y33: =IF((I33+J33)=(W33+X33),"ok","검토") -> ok | AA33: 1
B34: 추가 | C34: 본예산 429 | D34: 일자리센터 | E34: 청년 제대군인 취업지원사업(자체/직접) - 청년 제대군인 취업지원사업 | G34: 1550000 | H34: =IF(SUMPRODUCT(COUNTIF(C34,{"*본예산*","*신규*"})),"-",F34-G34) -> - | J34: 300000 | K34: =IF(F34=0,G34+I34+J34,F34+I34+J34) -> 1850000 | M34: 300000 | N34: =IF(F34=0,G34+L34+M34,F34+L34+M34) -> 1850000 | O34: =IF(I34-L34<0,"동의필요","-") -> - | P34: 청년 실업난 해소 및 일자리 창출을 위해 특화형 취업프로그램 운영 | Q34: 도비 | R34: =IF(Q34<>"도비",SUM(L34:M34),) -> 0 | S34: =IF(Q34="도비",SUM(L34:M34),SUM(L34:M34)-R34) -> 300000 | T34: =IF((L34+M34)=(R34+S34),"ok","검토") -> ok | V34: 도비 | W34: =IF(V34<>"도비",SUM(I34:J34),) -> 0 | X34: =IF(V34="도비",SUM(I34:J34),SUM(I34:J34)-W34) -> 300000 | Y34: =IF((I34+J34)=(W34+X34),"ok","검토") -> ok | AA34: 1
B35: 추가 | C35: 본예산 433 | D35: 서비스산업과 | E35: 서민금융(햇살론) 지원(자체/직접) - 서민금융 햇살론(국가직접지원) | G35: 5508800 | H35: =IF(SUMPRODUCT(COUNTIF(C35,{"*본예산*","*신규*"})),"-",F35-G35) -> - | J35: 1761000 | K35: =IF(F35=0,G35+I35+J35,F35+I35+J35) -> 7269800 | M35: 300000 | N35: =IF(F35=0,G35+L35+M35,F35+L35+M35) -> 5808800 | O35: =IF(I35-L35<0,"동의필요","-") -> - | P35: 영세사업자와 서민들의 경제적 어려움 증대해소(경기신용보증재단 출연금을 2015년 본예산에 100억원 확보조치) | Q35: 도비 | R35: =IF(Q35<>"도비",SUM(L35:M35),) -> 0 | S35: =IF(Q35="도비",SUM(L35:M35),SUM(L35:M35)-R35) -> 300000 | T35: =IF((L35+M35)=(R35+S35),"ok","검토") -> ok | V35: 도비 | W35: =IF(V35<>"도비",SUM(I35:J35),) -> 0 | X35: =IF(V35="도비",SUM(I35:J35),SUM(I35:J35)-W35) -> 1761000 | Y35: =IF((I35+J35)=(W35+X35),"ok","검토") -> ok | AA35: 1
B36: 추가 | C36: 본예산 439 | D36: 교류통상과 | E36: 국제개발협력사업(자체/직접) - 공적개발원조(ODA)사업추진 | G36: 100000 | H36: =IF(SUMPRODUCT(COUNTIF(C36,{"*본예산*","*신규*"})),"-",F36-G36) -> - | J36: 200000 | K36: =IF(F36=0,G36+I36+J36,F36+I36+J36) -> 300000 | M36: 200000 | N36: =IF(F36=0,G36+L36+M36,F36+L36+M36) -> 300000 | O36: =IF(I36-L36<0,"동의필요","-") -> - | P36: 몽골지역의 전략적 중요성을 고려하여 자매결연 추진중으로 우호여건조성 | Q36: 도비 | R36: =IF(Q36<>"도비",SUM(L36:M36),) -> 0 | S36: =IF(Q36="도비",SUM(L36:M36),SUM(L36:M36)-R36) -> 200000 | T36: =IF((L36+M36)=(R36+S36),"ok","검토") -> ok | V36: 도비 | W36: =IF(V36<>"도비",SUM(I36:J36),) -> 0 | X36: =IF(V36="도비",SUM(I36:J36),SUM(I36:J36)-W36) -> 200000 | Y36: =IF((I36+J36)=(W36+X36),"ok","검토") -> ok | AA36: 1
B37: 추가 | C37: 신규 | D37: 과학기술과 | E37: 광응용기기 핵심전력부품 및 제품화 지원 사업(자체/직접) | H37: =IF(SUMPRODUCT(COUNTIF(C37,{"*본예산*","*신규*"})),"-",F37-G37) -> - | J37: 130000 | K37: =IF(F37=0,G37+I37+J37,F37+I37+J37) -> 130000 | M37: 130000 | N37: =IF(F37=0,G37+L37+M37,F37+L37+M37) -> 130000 | O37: =IF(I37-L37<0,"동의필요","-") -> - | P37: 국비지원이 확정되어 도비매칭 필요 | Q37: 도비 | R37: =IF(Q37<>"도비",SUM(L37:M37),) -> 0 | S37: =IF(Q37="도비",SUM(L37:M37),SUM(L37:M37)-R37) -> 130000 | T37: =IF((L37+M37)=(R37+S37),"ok","검토") -> ok | V37: 도비 | W37: =IF(V37<>"도비",SUM(I37:J37),) -> 0 | X37: =IF(V37="도비",SUM(I37:J37),SUM(I37:J37)-W37) -> 130000 | Y37: =IF((I37+J37)=(W37+X37),"ok","검토") -> ok | AA37: 1
B38: 추가 | C38: 신규 | D38: 서비스산업과 | E38: 전통시장 전기정밀안전점검 지원(자체/직접) | H38: =IF(SUMPRODUCT(COUNTIF(C38,{"*본예산*","*신규*"})),"-",F38-G38) -> - | J38: 110000 | K38: =IF(F38=0,G38+I38+J38,F38+I38+J38) -> 110000 | M38: 110000 | N38: =IF(F38=0,G38+L38+M38,F38+L38+M38) -> 110000 | O38: =IF(I38-L38<0,"동의필요","-") -> - | P38: 전통시장에서 취약한 화재예방을 위해 전기정밀안전점검 지원 | Q38: 도비 | R38: =IF(Q38<>"도비",SUM(L38:M38),) -> 0 | S38: =IF(Q38="도비",SUM(L38:M38),SUM(L38:M38)-R38) -> 110000 | T38: =IF((L38+M38)=(R38+S38),"ok","검토") -> ok | V38: 도비 | W38: =IF(V38<>"도비",SUM(I38:J38),) -> 0 | X38: =IF(V38="도비",SUM(I38:J38),SUM(I38:J38)-W38) -> 110000 | Y38: =IF((I38+J38)=(W38+X38),"ok","검토") -> ok | AA38: 1
B39: 추가 | C39: 신규 | D39: 서비스산업과 | E39: 경기해양레저산업 경쟁력 강화 사업지원 (자체/직접) | H39: =IF(SUMPRODUCT(COUNTIF(C39,{"*본예산*","*신규*"})),"-",F39-G39) -> - | J39: 30000 | K39: =IF(F39=0,G39+I39+J39,F39+I39+J39) -> 30000 | M39: 30000 | N39: =IF(F39=0,G39+L39+M39,F39+L39+M39) -> 30000 | O39: =IF(I39-L39<0,"동의필요","-") -> - | P39: 레저선박부품 사업부문 확대 및 레저선박기업 창업기회 확대를 위한 연구 | Q39: 도비 | R39: =IF(Q39<>"도비",SUM(L39:M39),) -> 0 | S39: =IF(Q39="도비",SUM(L39:M39),SUM(L39:M39)-R39) -> 30000 | T39: =IF((L39+M39)=(R39+S39),"ok","검토") -> ok | V39: 도비 | W39: =IF(V39<>"도비",SUM(I39:J39),) -> 0 | X39: =IF(V39="도비",SUM(I39:J39),SUM(I39:J39)-W39) -> 30000 | Y39: =IF((I39+J39)=(W39+X39),"ok","검토") -> ok | AA39: 1
B40: 균형발전국 | F40: =SUM(F41:F41) -> 0 | G40: =SUM(G41:G41) -> 200000 | H40: =SUM(H41:H41) -> 0 | I40: =SUM(I41:I41) -> 0 | J40: =SUM(J41:J41) -> 250000 | K40: =SUM(K41:K41) -> 450000 | L40: =SUM(L41:L41) -> 0 | M40: =SUM(M41:M41) -> 250000 | N40: =SUM(N41:N41) -> 450000 | R40: =SUM(R41:R41) -> 0 | S40: =SUM(S41:S41) -> 250000 | T40: =IF((L40+M40)=(R40+S40),"ok","검토") -> ok | W40: =SUM(W41:W41) -> 0 | X40: =SUM(X41:X41) -> 250000 | Y40: =IF((I40+J40)=(W40+X40),"ok","검토") -> ok
B41: 추가 | C41: 본예산 859 | D41: 특화산업과 | E41: 특화산업 육성 지원(자체/직접) - 섬유소재연구소 운영 지원 | G41: 200000 | H41: =IF(SUMPRODUCT(COUNTIF(C41,{"*본예산*","*신규*"})),"-",F41-G41) -> - | J41: 250000 | K41: =IF(F41=0,G41+I41+J41,F41+I41+J41) -> 450000 | M41: 250000 | N41: =IF(F41=0,G41+L41+M41,F41+L41+M41) -> 450000 | O41: =IF(I41-L41<0,"동의필요","-") -> - | P41: 섬유중소기업에 대하여 기술 등을 지원하는 섬유소재연구소 운영비 지원 | Q41: 도비 | R41: =IF(Q41<>"도비",SUM(L41:M41),) -> 0 | S41: =IF(Q41="도비",SUM(L41:M41),SUM(L41:M41)-R41) -> 250000 | T41: =IF((L41+M41)=(R41+S41),"ok","검토") -> ok | V41: 도비 | W41: =IF(V41<>"도비",SUM(I41:J41),) -> 0 | X41: =IF(V41="도비",SUM(I41:J41),SUM(I41:J41)-W41) -> 250000 | Y41: =IF((I41+J41)=(W41+X41),"ok","검토") -> ok | AA41: 1
A42: 안전행정위원회 | F42: =SUM(F43:F56)/2 -> 1544355 | G42: =SUM(G43:G56)/2 -> 1953564 | H42: =SUM(H43:H56)/2 -> 1490791 | I42: =SUM(I43:I56)/2 -> -804840 | J42: =SUM(J43:J56)/2 -> 5525500 | K42: =SUM(K43:K56)/2 -> 8165015 | L42: =SUM(L43:L56)/2 -> -1302695 | M42: =SUM(M43:M56)/2 -> 5514421 | N42: =SUM(N43:N56)/2 -> 7656081 | R42: =SUM(R43:R56)/2 -> 1421 | S42: =SUM(S43:S56)/2 -> 4210305 | T42: =IF((L42+M42)=(R42+S42),"ok","검토") -> ok | W42: =SUM(W43:W56)/2 -> 0 | X42: =SUM(X43:X56)/2 -> 4720660 | Y42: =IF((I42+J42)=(W42+X42),"ok","검토") -> ok
B43: 자치행정국 | F43: =SUM(F44:F44) -> 1502695 | G43: =SUM(G44:G44) -> 0 | H43: =SUM(H44:H44) -> 1502695 | I43: =SUM(I44:I44) -> -804840 | J43: =SUM(J44:J44) -> 0 | K43: =SUM(K44:K44) -> 697855 | L43: =SUM(L44:L44) -> -1302695 | M43: =SUM(M44:M44) -> 0 | N43: =SUM(N44:N44) -> 200000 | R43: =SUM(R44:R44) -> 0 | S43: =SUM(S44:S44) -> -1302695 | T43: =IF((L43+M43)=(R43+S43),"ok","검토") -> ok | W43: =SUM(W44:W44) -> 0 | X43: =SUM(X44:X44) -> -804840 | Y43: =IF((I43+J43)=(W43+X43),"ok","검토") -> ok
B44: 1회 | C44: 342 | D44: 회계과 | E44: 관사증축 등 리모델링 공사(자체/직접) | F44: 1502695 | H44: =IF(SUMPRODUCT(COUNTIF(C44,{"*본예산*","*신규*"})),"-",F44-G44) -> 1502695 | I44: -804840 | K44: =IF(F44=0,G44+I44+J44,F44+I44+J44) -> 697855 | L44: -1302695 | N44: =IF(F44=0,G44+L44+M44,F44+L44+M44) -> 200000 | O44: =IF(I44-L44<0,"동의필요","-") -> - | Q44: 도비 | R44: =IF(Q44<>"도비",SUM(L44:M44),) -> 0 | S44: =IF(Q44="도비",SUM(L44:M44),SUM(L44:M44)-R44) -> -1302695 | T44: =IF((L44+M44)=(R44+S44),"ok","검토") -> ok | V44: 도비 | W44: =IF(V44<>"도비",SUM(I44:J44),) -> 0 | X44: =IF(V44="도비",SUM(I44:J44),SUM(I44:J44)-W44) -> -804840 | Y44: =IF((I44+J44)=(W44+X44),"ok","검토") -> ok | AA44: 1
B45: 안전행정실 | F45: =SUM(F46:F46) -> 31210 | G45: =SUM(G46:G46) -> 30574 | H45: =SUM(H46:H46) -> 636 | I45: =SUM(I46:I46) -> 0 | J45: =SUM(J46:J46) -> 0 | K45: =SUM(K46:K46) -> 31210 | L45: =SUM(L46:L46) -> 0 | M45: =SUM(M46:M46) -> 1421 | N45: =SUM(N46:N46) -> 32631 | R45: =SUM(R46:R46) -> 1421 | S45: =SUM(S46:S46) -> 0 | T45: =IF((L45+M45)=(R45+S45),"ok","검토") -> ok | W45: =SUM(W46:W46) -> 0 | X45: =SUM(X46:X46) -> 0 | Y45: =IF((I45+J45)=(W45+X45),"ok","검토") -> ok
B46: 1회 | C46: 395 | D46: 행정관리담당관 | E46: 여권민원서비스 제고(국비/직접) - 여권민원실 운영비 | F46: 31210 | G46: 30574 | H46: =IF(SUMPRODUCT(COUNTIF(C46,{"*본예산*","*신규*"})),"-",F46-G46) -> 636 | K46: =IF(F46=0,G46+I46+J46,F46+I46+J46) -> 31210 | M46: 1421 | N46: =IF(F46=0,G46+L46+M46,F46+L46+M46) -> 32631 | O46: =IF(I46-L46<0,"동의필요","-") -> - | P46: 외교부 여권과-38242(2014.9.4)호, 변경내시(국비 증액) | Q46: 국비 | R46: =IF(Q46<>"도비",SUM(L46:M46),) -> 1421 | S46: =IF(Q46="도비",SUM(L46:M46),SUM(L46:M46)-R46) -> 0 | T46: =IF((L46+M46)=(R46+S46),"ok","검토") -> ok | V46: 국비 | W46: =IF(V46<>"도비",SUM(I46:J46),) -> 0 | X46: =IF(V46="도비",SUM(I46:J46),SUM(I46:J46)-W46) -> 0 | Y46: =IF((I46+J46)=(W46+X46),"ok","검토") -> ok | Z46: 국비변경 | AA46: 1
B47: 소방재난본부 | F47: =SUM(F48:F54) -> 10450 | G47: =SUM(G48:G54) -> 1022990 | H47: =SUM(H48:H54) -> -12540 | I47: =SUM(I48:I54) -> 0 | J47: =SUM(J48:J54) -> 4255500 | K47: =SUM(K48:K54) -> 5265950 | L47: =SUM(L48:L54) -> 0 | M47: =SUM(M48:M54) -> 4243000 | N47: =SUM(N48:N54) -> 5253450 | R47: =SUM(R48:R54) -> 0 | S47: =SUM(S48:S54) -> 4243000 | T47: =IF((L47+M47)=(R47+S47),"ok","검토") -> ok | W47: =SUM(W48:W54) -> 0 | X47: =SUM(X48:X54) -> 4255500 | Y47: =IF((I47+J47)=(W47+X47),"ok","검토") -> ok
B48: 1회 | C48: 357 | D48: 소방행정과 | E48: 업무추진비 - 소방재난본부장 (기관운영업무추진비) | F48: 10450 | G48: 22990 | H48: =IF(SUMPRODUCT(COUNTIF(C48,{"*본예산*","*신규*"})),"-",F48-G48) -> -12540 | J48: 12500 | K48: =IF(F48=0,G48+I48+J48,F48+I48+J48) -> 22950 | M48: 0 | N48: =IF(F48=0,G48+L48+M48,F48+L48+M48) -> 10450 | O48: =IF(I48-L48<0,"동의필요","-") -> - | P48: 지침위반 | Q48: 도비 | R48: =IF(Q48<>"도비",SUM(L48:M48),) -> 0 | S48: =IF(Q48="도비",SUM(L48:M48),SUM(L48:M48)-R48) -> 0 | T48: =IF((L48+M48)=(R48+S48),"ok","검토") -> ok | V48: 도비 | W48: =IF(V48<>"도비",SUM(I48:J48),) -> 0 | X48: =IF(V48="도비",SUM(I48:J48),SUM(I48:J48)-W48) -> 12500 | Y48: =IF((I48+J48)=(W48+X48),"ok","검토") -> ok | AA48: 1
B49: 추가 | C49: 본예산 641 | D49: 부천소방서 | E49: 소방관서 신축 및 이전(자체/직접) - 내동119 안전센터 신축 | G49: 500000 | H49: =IF(SUMPRODUCT(COUNTIF(C49,{"*본예산*","*신규*"})),"-",F49-G49) -> - | J49: 1140000 | K49: =IF(F49=0,G49+I49+J49,F49+I49+J49) -> 1640000 | M49: 1140000 | N49: =IF(F49=0,G49+L49+M49,F49+L49+M49) -> 1640000 | O49: =IF(I49-L49<0,"동의필요","-") -> - | P49: 상임위 의견 반영 | Q49: 도비 | R49: =IF(Q49<>"도비",SUM(L49:M49),) -> 0 | S49: =IF(Q49="도비",SUM(L49:M49),SUM(L49:M49)-R49) -> 1140000 | T49: =IF((L49+M49)=(R49+S49),"ok","검토") -> ok | V49: 도비 | W49: =IF(V49<>"도비",SUM(I49:J49),) -> 0 | X49: =IF(V49="도비",SUM(I49:J49),SUM(I49:J49)-W49) -> 1140000 | Y49: =IF((I49+J49)=(W49+X49),"ok","검토") -> ok | AA49: 1
B50: 추가 | C50: 본예산 649 | D50: 안산소방서 | E50: 소방관서 신축 및 이전(자체/직접) - 반월 119안전센터 신축 | G50: 500000 | H50: =IF(SUMPRODUCT(COUNTIF(C50,{"*본예산*","*신규*"})),"-",F50-G50) -> - | J50: 1100000 | K50: =IF(F50=0,G50+I50+J50,F50+I50+J50) -> 1600000 | M50: 1100000 | N50: =IF(F50=0,G50+L50+M50,F50+L50+M50) -> 1600000 | O50: =IF(I50-L50<0,"동의필요","-") -> - | P50: 상임위 의견 반영 | Q50: 도비 | R50: =IF(Q50<>"도비",SUM(L50:M50),) -> 0 | S50: =IF(Q50="도비",SUM(L50:M50),SUM(L50:M50)-R50) -> 1100000 | T50: =IF((L50+M50)=(R50+S50),"ok","검토") -> ok | V50: 도비 | W50: =IF(V50<>"도비",SUM(I50:J50),) -> 0 | X50: =IF(V50="도비",SUM(I50:J50),SUM(I50:J50)-W50) -> 1100000 | Y50: =IF((I50+J50)=(W50+X50),"ok","검토") -> ok | AA50: 1
B51: 추가 | C51: 신규 | D51: 재난대응과 | E51: 소방장비 보강(자체/직접) - 개인안전장비 보강 | H51: =IF(SUMPRODUCT(COUNTIF(C51,{"*본예산*","*신규*"})),"-",F51-G51) -> - | J51: 1290000 | K51: =IF(F51=0,G51+I51+J51,F51+I51+J51) -> 1290000 | M51: 1290000 | N51: =IF(F51=0,G51+L51+M51,F51+L51+M51) -> 1290000 | O51: =IF(I51-L51<0,"동의필요","-") -> - | P51: 상임위 의견 반영 | Q51: 도비 | R51: =IF(Q51<>"도비",SUM(L51:M51),) -> 0 | S51: =IF(Q51="도비",SUM(L51:M51),SUM(L51:M51)-R51) -> 1290000 | T51: =IF((L51+M51)=(R51+S51),"ok","검토") -> ok | V51: 도비 | W51: =IF(V51<>"도비",SUM(I51:J51),) -> 0 | X51: =IF(V51="도비",SUM(I51:J51),SUM(I51:J51)-W51) -> 1290000 | Y51: =IF((I51+J51)=(W51+X51),"ok","검토") -> ok | AA51: 1
B52: 추가 | C52: 신규 | D52: 재난대응과 | E52: 구조구급장비 보강(자체/직접) - 붕괴구조장비보강(자산취득비) | H52: =IF(SUMPRODUCT(COUNTIF(C52,{"*본예산*","*신규*"})),"-",F52-G52) -> - | J52: 243000 | K52: =IF(F52=0,G52+I52+J52,F52+I52+J52) -> 243000 | M52: 243000 | N52: =IF(F52=0,G52+L52+M52,F52+L52+M52) -> 243000 | O52: =IF(I52-L52<0,"동의필요","-") -> - | P52: 상임위 의견 반영 | Q52: 도비 | R52: =IF(Q52<>"도비",SUM(L52:M52),) -> 0 | S52: =IF(Q52="도비",SUM(L52:M52),SUM(L52:M52)-R52) -> 243000 | T52: =IF((L52+M52)=(R52+S52),"ok","검토") -> ok | V52: 도비 | W52: =IF(V52<>"도비",SUM(I52:J52),) -> 0 | X52: =IF(V52="도비",SUM(I52:J52),SUM(I52:J52)-W52) -> 243000 | Y52: =IF((I52+J52)=(W52+X52),"ok","검토") -> ok | AA52: 1
B53: 추가 | C53: 신규 | D53: 평택소방서 | E53: 소방관서 리모델링(자체/직접) -본서 리모델링 | H53: =IF(SUMPRODUCT(COUNTIF(C53,{"*본예산*","*신규*"})),"-",F53-G53) -> - | J53: 300000 | K53: =IF(F53=0,G53+I53+J53,F53+I53+J53) -> 300000 | M53: 300000 | N53: =IF(F53=0,G53+L53+M53,F53+L53+M53) -> 300000 | O53: =IF(I53-L53<0,"동의필요","-") -> - | P53: 상임위 의견 반영 | Q53: 도비 | R53: =IF(Q53<>"도비",SUM(L53:M53),) -> 0 | S53: =IF(Q53="도비",SUM(L53:M53),SUM(L53:M53)-R53) -> 300000 | T53: =IF((L53+M53)=(R53+S53),"ok","검토") -> ok | V53: 도비 | W53: =IF(V53<>"도비",SUM(I53:J53),) -> 0 | X53: =IF(V53="도비",SUM(I53:J53),SUM(I53:J53)-W53) -> 300000 | Y53: =IF((I53+J53)=(W53+X53),"ok","검토") -> ok | AA53: 1
B54: 추가 | C54: 신규 | D54: 의왕소방서 | E54: 소방관서 증축(자체/직접) - 본서 훈련탑설치 | H54: =IF(SUMPRODUCT(COUNTIF(C54,{"*본예산*","*신규*"})),"-",F54-G54) -> - | J54: 170000 | K54: =IF(F54=0,G54+I54+J54,F54+I54+J54) -> 170000 | M54: 170000 | N54: =IF(F54=0,G54+L54+M54,F54+L54+M54) -> 170000 | O54: =IF(I54-L54<0,"동의필요","-") -> - | P54: 상임위 의견 반영 | Q54: 도비 | R54: =IF(Q54<>"도비",SUM(L54:M54),) -> 0 | S54: =IF(Q54="도비",SUM(L54:M54),SUM(L54:M54)-R54) -> 170000 | T54: =IF((L54+M54)=(R54+S54),"ok","검토") -> ok | V54: 도비 | W54: =IF(V54<>"도비",SUM(I54:J54),) -> 0 | X54: =IF(V54="도비",SUM(I54:J54),SUM(I54:J54)-W54) -> 170000 | Y54: =IF((I54+J54)=(W54+X54),"ok","검토") -> ok | AA54: 1
B55: 북부소방재난본부 | F55: =SUM(F56) -> 0 | G55: =SUM(G56) -> 900000 | H55: =SUM(H56) -> 0 | I55: =SUM(I56) -> 0 | J55: =SUM(J56) -> 1270000 | K55: =SUM(K56) -> 2170000 | L55: =SUM(L56) -> 0 | M55: =SUM(M56) -> 1270000 | N55: =SUM(N56) -> 2170000 | R55: =SUM(R56) -> 0 | S55: =SUM(S56) -> 1270000 | T55: =IF((L55+M55)=(R55+S55),"ok","검토") -> ok | W55: =SUM(W56) -> 0 | X55: =SUM(X56) -> 1270000 | Y55: =IF((I55+J55)=(W55+X55),"ok","검토") -> ok
B56: 추가 | C56: 본예산 717 | D56: 고양소방서 | E56: 소방관서 신축 및 이전(자체/직접) - 화전 119안전센터 신축 | G56: 900000 | H56: =IF(SUMPRODUCT(COUNTIF(C56,{"*본예산*","*신규*"})),"-",F56-G56) -> - | J56: 1270000 | K56: =IF(F56=0,G56+I56+J56,F56+I56+J56) -> 2170000 | M56: 1270000 | N56: =IF(F56=0,G56+L56+M56,F56+L56+M56) -> 2170000 | O56: =IF(I56-L56<0,"동의필요","-") -> - | Q56: 도비 | R56: =IF(Q56<>"도비",SUM(L56:M56),) -> 0 | S56: =IF(Q56="도비",SUM(L56:M56),SUM(L56:M56)-R56) -> 1270000 | T56: =IF((L56+M56)=(R56+S56),"ok","검토") -> ok | V56: 도비 | W56: =IF(V56<>"도비",SUM(I56:J56),) -> 0 | X56: =IF(V56="도비",SUM(I56:J56),SUM(I56:J56)-W56) -> 1270000 | Y56: =IF((I56+J56)=(W56+X56),"ok","검토") -> ok | AA56: 1
A57: 문화체육관광위원회 | F57: =SUM(F58:F66)/2 -> 50328000 | G57: =SUM(G58:G66)/2 -> 46258000 | H57: =SUM(H58:H66)/2 -> 4240000 | I57: =SUM(I58:I66)/2 -> -922534 | J57: =SUM(J58:J66)/2 -> 2062534 | K57: =SUM(K58:K66)/2 -> 51638000 | L57: =SUM(L58:L66)/2 -> -1792534 | M57: =SUM(M58:M66)/2 -> 2632534 | N57: =SUM(N58:N66)/2 -> 51338000 | R57: =SUM(R58:R66)/2 -> 10000 | S57: =SUM(S58:S66)/2 -> 830000 | T57: =IF((L57+M57)=(R57+S57),"ok","검토") -> ok | W57: =SUM(W58:W66)/2 -> 10000 | X57: =SUM(X58:X66)/2 -> 1130000 | Y57: =IF((I57+J57)=(W57+X57),"ok","검토") -> ok
B58: 문화체육관광국 | F58: =SUM(F59:F66) -> 50328000 | G58: =SUM(G59:G66) -> 46258000 | H58: =SUM(H59:H66) -> 4240000 | I58: =SUM(I59:I66) -> -922534 | J58: =SUM(J59:J66) -> 2062534 | K58: =SUM(K59:K66) -> 51638000 | L58: =SUM(L59:L66) -> -1792534 | M58: =SUM(M59:M66) -> 2632534 | N58: =SUM(N59:N66) -> 51338000 | R58: =SUM(R59:R66) -> 10000 | S58: =SUM(S59:S66) -> 830000 | T58: =IF((L58+M58)=(R58+S58),"ok","검토") -> ok | W58: =SUM(W59:W66) -> 10000 | X58: =SUM(X59:X66) -> 1130000 | Y58: =IF((I58+J58)=(W58+X58),"ok","검토") -> ok
B59: 1회 | C59: 418 | D59: 문화정책과 | E59: 경기도 문화의전당 운영(자체/직접) - 경기도 문화의전당 운영 | F59: 20637000 | G59: 20137000 | H59: =IF(SUMPRODUCT(COUNTIF(C59,{"*본예산*","*신규*"})),"-",F59-G59) -> 500000 | J59: 50000 | K59: =IF(F59=0,G59+I59+J59,F59+I59+J59) -> 20687000 | L59: 0 | M59: 50000 | N59: =IF(F59=0,G59+L59+M59,F59+L59+M59) -> 20687000 | O59: =IF(I59-L59<0,"동의필요","-") -> - | P59: 상임위 의견 반영 | Q59: 도비 | R59: =IF(Q59<>"도비",SUM(L59:M59),) -> 0 | S59: =IF(Q59="도비",SUM(L59:M59),SUM(L59:M59)-R59) -> 50000 | T59: =IF((L59+M59)=(R59+S59),"ok","검토") -> ok | V59: 도비 | W59: =IF(V59<>"도비",SUM(I59:J59),) -> 0 | X59: =IF(V59="도비",SUM(I59:J59),SUM(I59:J59)-W59) -> 50000 | Y59: =IF((I59+J59)=(W59+X59),"ok","검토") -> ok | AA59: 1
B60: 1회 | C60: 419 | D60: 문화정책과 | E60: 경기문화재단 운영(자체/직접) - 경기문화재단 운영 | F60: 18765000 | G60: 17895000 | H60: =IF(SUMPRODUCT(COUNTIF(C60,{"*본예산*","*신규*"})),"-",F60-G60) -> 870000 | J60: =500000-70000 -> 430000 | K60: =IF(F60=0,G60+I60+J60,F60+I60+J60) -> 19195000 | L60: -270000 | N60: =IF(F60=0,G60+L60+M60,F60+L60+M60) -> 18495000 | O60: =IF(I60-L60<0,"동의필요","-") -> - | P60: o 예결위 부대의견 - 신임이사장 및 경영혁신 자문역 운영 : 감 7천만원 - 관사 교육체험형 문화프로그램 운영 : 감 2억원, 5천만원은 각 지역 소규모 축제 지원 용도 | Q60: 도비 | R60: =IF(Q60<>"도비",SUM(L60:M60),) -> 0 | S60: =IF(Q60="도비",SUM(L60:M60),SUM(L60:M60)-R60) -> -270000 | T60: =IF((L60+M60)=(R60+S60),"ok","검토") -> ok | V60: 도비 | W60: =IF(V60<>"도비",SUM(I60:J60),) -> 0 | X60: =IF(V60="도비",SUM(I60:J60),SUM(I60:J60)-W60) -> 430000 | Y60: =IF((I60+J60)=(W60+X60),"ok","검토") -> ok | AA60: 1
B61: 1회 | C61: 420 | D61: 문화정책과 | E61: 송년제야행사(자체/직접) - 2014 송년제야행사 | F61: 150000 | H61: =IF(SUMPRODUCT(COUNTIF(C61,{"*본예산*","*신규*"})),"-",F61-G61) -> 150000 | I61: -50000 | K61: =IF(F61=0,G61+I61+J61,F61+I61+J61) -> 100000 | L61: -50000 | N61: =IF(F61=0,G61+L61+M61,F61+L61+M61) -> 100000 | O61: =IF(I61-L61<0,"동의필요","-") -> - | P61: 당초예산 일몰사업으로 보고 | Q61: 도비 | R61: =IF(Q61<>"도비",SUM(L61:M61),) -> 0 | S61: =IF(Q61="도비",SUM(L61:M61),SUM(L61:M61)-R61) -> -50000 | T61: =IF((L61+M61)=(R61+S61),"ok","검토") -> ok | V61: 도비 | W61: =IF(V61<>"도비",SUM(I61:J61),) -> 0 | X61: =IF(V61="도비",SUM(I61:J61),SUM(I61:J61)-W61) -> -50000 | Y61: =IF((I61+J61)=(W61+X61),"ok","검토") -> ok | AA61: 1
B62: 1회 | C62: 424 | D62: 체육과 | E62: 지방체육시설 지원(자체/지원) - 수원야구장 증축 및 리모델링 지원 | F62: 4000000 | G62: 2000000 | H62: =IF(SUMPRODUCT(COUNTIF(C62,{"*본예산*","*신규*"})),"-",F62-G62) -> 2000000 | J62: 700000 | K62: =IF(F62=0,G62+I62+J62,F62+I62+J62) -> 4700000 | M62: 1700000 | N62: =IF(F62=0,G62+L62+M62,F62+L62+M62) -> 5700000 | O62: =IF(I62-L62<0,"동의필요","-") -> - | P62: 추가 지원 필요 | Q62: 도비 | R62: =IF(Q62<>"도비",SUM(L62:M62),) -> 0 | S62: =IF(Q62="도비",SUM(L62:M62),SUM(L62:M62)-R62) -> 1700000 | T62: =IF((L62+M62)=(R62+S62),"ok","검토") -> ok | V62: 도비 | W62: =IF(V62<>"도비",SUM(I62:J62),) -> 0 | X62: =IF(V62="도비",SUM(I62:J62),SUM(I62:J62)-W62) -> 700000 | Y62: =IF((I62+J62)=(W62+X62),"ok","검토") -> ok | AA62: 1
B63: 1회 | C63: 431 | D63: 문화산업과 | E63: 경기콘텐츠진흥원 운영(자체/직접) - 경기콘텐츠진흥원 운영 | F63: 6176000 | G63: 6056000 | H63: =IF(SUMPRODUCT(COUNTIF(C63,{"*본예산*","*신규*"})),"-",F63-G63) -> 120000 | I63: -872534 | K63: =IF(F63=0,G63+I63+J63,F63+I63+J63) -> 5303466 | L63: -872534 | N63: =IF(F63=0,G63+L63+M63,F63+L63+M63) -> 5303466 | O63: =IF(I63-L63<0,"동의필요","-") -> - | P63: DMZ 국제다큐영화제 예산 분리 | Q63: 도비 | R63: =IF(Q63<>"도비",SUM(L63:M63),) -> 0 | S63: =IF(Q63="도비",SUM(L63:M63),SUM(L63:M63)-R63) -> -872534 | T63: =IF((L63+M63)=(R63+S63),"ok","검토") -> ok | V63: 도비 | W63: =IF(V63<>"도비",SUM(I63:J63),) -> 0 | X63: =IF(V63="도비",SUM(I63:J63),SUM(I63:J63)-W63) -> -872534 | Y63: =IF((I63+J63)=(W63+X63),"ok","검토") -> ok | AA63: 1
B64: 추가 | C64: 신규 | D64: 문화산업과 | E64: 경기콘텐츠진흥원 운영(자체/직접) - (사)DMZ 국제다큐영화제 (출연금) | H64: =IF(SUMPRODUCT(COUNTIF(C64,{"*본예산*","*신규*"})),"-",F64-G64) -> - | J64: 872534 | K64: =IF(F64=0,G64+I64+J64,F64+I64+J64) -> 872534 | M64: 872534 | N64: =IF(F64=0,G64+L64+M64,F64+L64+M64) -> 872534 | O64: =IF(I64-L64<0,"동의필요","-") -> - | P64: 6.5일자 신규 설립 | Q64: 도비 | R64: =IF(Q64<>"도비",SUM(L64:M64),) -> 0 | S64: =IF(Q64="도비",SUM(L64:M64),SUM(L64:M64)-R64) -> 872534 | T64: =IF((L64+M64)=(R64+S64),"ok","검토") -> ok | V64: 도비 | W64: =IF(V64<>"도비",SUM(I64:J64),) -> 0 | X64: =IF(V64="도비",SUM(I64:J64),SUM(I64:J64)-W64) -> 872534 | Y64: =IF((I64+J64)=(W64+X64),"ok","검토") -> ok | AA64: 1
B65: 1회 | C65: 436 | D65: 관광과 | E65: 경기항공전 개최(자체/직접) - 2014 경기항공전 개최 | F65: 600000 | H65: =IF(SUMPRODUCT(COUNTIF(C65,{"*본예산*","*신규*"})),"-",F65-G65) -> 600000 | K65: =IF(F65=0,G65+I65+J65,F65+I65+J65) -> 600000 | L65: -600000 | N65: =IF(F65=0,G65+L65+M65,F65+L65+M65) -> 0 | O65: =IF(I65-L65<0,"동의필요","-") -> - | P65: 행사성경비 삭감 | Q65: 도비 | R65: =IF(Q65<>"도비",SUM(L65:M65),) -> 0 | S65: =IF(Q65="도비",SUM(L65:M65),SUM(L65:M65)-R65) -> -600000 | T65: =IF((L65+M65)=(R65+S65),"ok","검토") -> ok | V65: 도비 | W65: =IF(V65<>"도비",SUM(I65:J65),) -> 0 | X65: =IF(V65="도비",SUM(I65:J65),SUM(I65:J65)-W65) -> 0 | Y65: =IF((I65+J65)=(W65+X65),"ok","검토") -> ok | AA65: 1
B66: 추가 | C66: 본예산 208 | D66: 관광과 | E66: 다국어 관광안내지도 제작(기금/지원) - 다국어 관광안내지도 제작 | G66: 170000 | H66: =IF(SUMPRODUCT(COUNTIF(C66,{"*본예산*","*신규*"})),"-",F66-G66) -> - | J66: 10000 | K66: =IF(F66=0,G66+I66+J66,F66+I66+J66) -> 180000 | M66: 10000 | N66: =IF(F66=0,G66+L66+M66,F66+L66+M66) -> 180000 | O66: =IF(I66-L66<0,"동의필요","-") -> - | P66: 문화체육관광부 관광산업과-4553(2014.08.29)호 | Q66: 기금 | R66: =IF(Q66<>"도비",SUM(L66:M66),) -> 10000 | S66: =IF(Q66="도비",SUM(L66:M66),SUM(L66:M66)-R66) -> 0 | T66: =IF((L66+M66)=(R66+S66),"ok","검토") -> ok | V66: 기금 | W66: =IF(V66<>"도비",SUM(I66:J66),) -> 10000 | X66: =IF(V66="도비",SUM(I66:J66),SUM(I66:J66)-W66) -> 0 | Y66: =IF((I66+J66)=(W66+X66),"ok","검토") -> ok | AA66: 1
A67: 농정해양위원회 | F67: =SUM(F68:F81)/2 -> 22778747 | G67: =SUM(G68:G81)/2 -> 11510450 | H67: =SUM(H68:H81)/2 -> 16451747 | I67: =SUM(I68:I81)/2 -> 0 | J67: =SUM(J68:J81)/2 -> 3578067 | K67: =SUM(K68:K81)/2 -> 31540264 | L67: =SUM(L68:L81)/2 -> 0 | M67: =SUM(M68:M81)/2 -> 3584246 | N67: =SUM(N68:N81)/2 -> 31546443 | R67: =SUM(R68:R81)/2 -> 1094246 | S67: =SUM(S68:S81)/2 -> 2490000 | T67: =IF((L67+M67)=(R67+S67),"ok","검토") -> ok | W67: =SUM(W68:W81)/2 -> 1088067 | X67: =SUM(X68:X81)/2 -> 2490000 | Y67: =IF((I67+J67)=(W67+X67),"ok","검토") -> ok
B68: 농정해양국 | F68: =SUM(F69:F73) -> 370052 | G68: =SUM(G69:G73) -> 497000 | H68: =SUM(H69:H73) -> 43052 | I68: =SUM(I69:I73) -> 0 | J68: =SUM(J69:J73) -> 180067 | K68: =SUM(K69:K73) -> 720119 | L68: =SUM(L69:L73) -> 0 | M68: =SUM(M69:M73) -> 180067 | N68: =SUM(N69:N73) -> 720119 | R68: =SUM(R69:R73) -> 5067 | S68: =SUM(S69:S73) -> 175000 | T68: =IF((L68+M68)=(R68+S68),"ok","검토") -> ok | W68: =SUM(W69:W73) -> 5067 | X68: =SUM(X69:X73) -> 175000 | Y68: =IF((I68+J68)=(W68+X68),"ok","검토") -> ok
B69: 1회 | C69: 450 | D69: 농업정책과 | E69: 지역농업발전(자체/직접) - 도정시책홍보 | F69: 75000 | G69: 50000 | H69: =IF(SUMPRODUCT(COUNTIF(C69,{"*본예산*","*신규*"})),"-",F69-G69) -> 25000 | J69: 25000 | K69: =IF(F69=0,G69+I69+J69,F69+I69+J69) -> 100000 | M69: 25000 | N69: =IF(F69=0,G69+L69+M69,F69+L69+M69) -> 100000 | O69: =IF(I69-L69<0,"동의필요","-") -> - | P69: 사업량 확대 | Q69: 도비 | R69: =IF(Q69<>"도비",SUM(L69:M69),) -> 0 | S69: =IF(Q69="도비",SUM(L69:M69),SUM(L69:M69)-R69) -> 25000 | T69: =IF((L69+M69)=(R69+S69),"ok","검토") -> ok | V69: 도비 | W69: =IF(V69<>"도비",SUM(I69:J69),) -> 0 | X69: =IF(V69="도비",SUM(I69:J69),SUM(I69:J69)-W69) -> 25000 | Y69: =IF((I69+J69)=(W69+X69),"ok","검토") -> ok | AA69: 1
B70: 1회 | C70: 461 | D70: 친환경농업과 | E70: 친환경농자재지원(국비/지원) - 친환경농자재 지원 | F70: 295052 | G70: 277000 | H70: =IF(SUMPRODUCT(COUNTIF(C70,{"*본예산*","*신규*"})),"-",F70-G70) -> 18052 | J70: 5067 | K70: =IF(F70=0,G70+I70+J70,F70+I70+J70) -> 300119 | M70: 5067 | N70: =IF(F70=0,G70+L70+M70,F70+L70+M70) -> 300119 | O70: =IF(I70-L70<0,"동의필요","-") -> - | P70: 농림축산식품부 친환경농업과-2748(2014.8.4)호 근거 | Q70: 국비 | R70: =IF(Q70<>"도비",SUM(L70:M70),) -> 5067 | S70: =IF(Q70="도비",SUM(L70:M70),SUM(L70:M70)-R70) -> 0 | T70: =IF((L70+M70)=(R70+S70),"ok","검토") -> ok | V70: 국비 | W70: =IF(V70<>"도비",SUM(I70:J70),) -> 5067 | X70: =IF(V70="도비",SUM(I70:J70),SUM(I70:J70)-W70) -> 0 | Y70: =IF((I70+J70)=(W70+X70),"ok","검토") -> ok | AA70: 1
B71: 추가 | C71: 본예산223 | D71: 농식품유통과 | E71: 우수외식업지구 육성사업(국비/지원) - 우수외식업지구 육성사업 | G71: 100000 | H71: =IF(SUMPRODUCT(COUNTIF(C71,{"*본예산*","*신규*"})),"-",F71-G71) -> - | J71: 30000 | K71: =IF(F71=0,G71+I71+J71,F71+I71+J71) -> 130000 | M71: 30000 | N71: =IF(F71=0,G71+L71+M71,F71+L71+M71) -> 130000 | O71: =IF(I71-L71<0,"동의필요","-") -> - | P71: 도비 부담액 반영 | Q71: 도비 | R71: =IF(Q71<>"도비",SUM(L71:M71),) -> 0 | S71: =IF(Q71="도비",SUM(L71:M71),SUM(L71:M71)-R71) -> 30000 | T71: =IF((L71+M71)=(R71+S71),"ok","검토") -> ok | V71: 도비 | W71: =IF(V71<>"도비",SUM(I71:J71),) -> 0 | X71: =IF(V71="도비",SUM(I71:J71),SUM(I71:J71)-W71) -> 30000 | Y71: =IF((I71+J71)=(W71+X71),"ok","검토") -> ok | AA71: 1
B72: 추가 | C72: 본예산225 | D72: 친환경농업과 | E72: 경기미 생산지원(자체/직접) - 경기미우수단지농기계공급 | G72: 70000 | H72: =IF(SUMPRODUCT(COUNTIF(C72,{"*본예산*","*신규*"})),"-",F72-G72) -> - | J72: 70000 | K72: =IF(F72=0,G72+I72+J72,F72+I72+J72) -> 140000 | M72: 70000 | N72: =IF(F72=0,G72+L72+M72,F72+L72+M72) -> 140000 | O72: =IF(I72-L72<0,"동의필요","-") -> - | P72: 사업량 확대 | Q72: 도비 | R72: =IF(Q72<>"도비",SUM(L72:M72),) -> 0 | S72: =IF(Q72="도비",SUM(L72:M72),SUM(L72:M72)-R72) -> 70000 | T72: =IF((L72+M72)=(R72+S72),"ok","검토") -> ok | V72: 도비 | W72: =IF(V72<>"도비",SUM(I72:J72),) -> 0 | X72: =IF(V72="도비",SUM(I72:J72),SUM(I72:J72)-W72) -> 70000 | Y72: =IF((I72+J72)=(W72+X72),"ok","검토") -> ok | AA72: 1
B73: 추가 | C73: 신규 | D73: 농업정책과 | E73: 시군농정평가 시상금 | H73: =IF(SUMPRODUCT(COUNTIF(C73,{"*본예산*","*신규*"})),"-",F73-G73) -> - | J73: 50000 | K73: =IF(F73=0,G73+I73+J73,F73+I73+J73) -> 50000 | M73: 50000 | N73: =IF(F73=0,G73+L73+M73,F73+L73+M73) -> 50000 | O73: =IF(I73-L73<0,"동의필요","-") -> - | P73: 사업 필요성 인정 | Q73: 도비 | R73: =IF(Q73<>"도비",SUM(L73:M73),) -> 0 | S73: =IF(Q73="도비",SUM(L73:M73),SUM(L73:M73)-R73) -> 50000 | T73: =IF((L73+M73)=(R73+S73),"ok","검토") -> ok | V73: 도비 | W73: =IF(V73<>"도비",SUM(I73:J73),) -> 0 | X73: =IF(V73="도비",SUM(I73:J73),SUM(I73:J73)-W73) -> 50000 | Y73: =IF((I73+J73)=(W73+X73),"ok","검토") -> ok | AA73: 1
B74: 축산산림국 | F74: =SUM(F75:F81) -> 22408695 | G74: =SUM(G75:G81) -> 11013450 | H74: =SUM(H75:H81) -> 16408695 | I74: =SUM(I75:I81) -> 0 | J74: =SUM(J75:J81) -> 3398000 | K74: =SUM(K75:K81) -> 30820145 | L74: =SUM(L75:L81) -> 0 | M74: =SUM(M75:M81) -> 3404179 | N74: =SUM(N75:N81) -> 30826324 | R74: =SUM(R75:R81) -> 1089179 | S74: =SUM(S75:S81) -> 2315000 | T74: =IF((L74+M74)=(R74+S74),"ok","검토") -> ok | W74: =SUM(W75:W81) -> 1083000 | X74: =SUM(X75:X81) -> 2315000 | Y74: =IF((I74+J74)=(W74+X74),"ok","검토") -> ok
B75: 1회 | C75: 477 | D75: 축산정책과 | E75: 소득안정자금(기금/지원) - 소득안정자금 | F75: 12695 | H75: =IF(SUMPRODUCT(COUNTIF(C75,{"*본예산*","*신규*"})),"-",F75-G75) -> 12695 | K75: =IF(F75=0,G75+I75+J75,F75+I75+J75) -> 12695 | M75: 6179 | N75: =IF(F75=0,G75+L75+M75,F75+L75+M75) -> 18874 | O75: =IF(I75-L75<0,"동의필요","-") -> - | P75: 농림축산식품부 축산경영과-5365(2014.9.26)호 변경내시 | Q75: 기금 | R75: =IF(Q75<>"도비",SUM(L75:M75),) -> 6179 | S75: =IF(Q75="도비",SUM(L75:M75),SUM(L75:M75)-R75) -> 0 | T75: =IF((L75+M75)=(R75+S75),"ok","검토") -> ok | V75: 기금 | W75: =IF(V75<>"도비",SUM(I75:J75),) -> 0 | X75: =IF(V75="도비",SUM(I75:J75),SUM(I75:J75)-W75) -> 0 | Y75: =IF((I75+J75)=(W75+X75),"ok","검토") -> ok | Z75: 국비변경 | AA75: 1
B76: 1회 | C76: 481 | D76: 동물방역위생과 | E76: 살처분보상금지원사업(국비/지원) - 살처분보상금지원(성립전) | F76: 21600000 | G76: 6000000 | H76: =IF(SUMPRODUCT(COUNTIF(C76,{"*본예산*","*신규*"})),"-",F76-G76) -> 15600000 | J76: 1320000 | K76: =IF(F76=0,G76+I76+J76,F76+I76+J76) -> 22920000 | M76: 1320000 | N76: =IF(F76=0,G76+L76+M76,F76+L76+M76) -> 22920000 | O76: =IF(I76-L76<0,"동의필요","-") -> - | P76: 국비매칭 도비부담액 반영 | Q76: 도비 | R76: =IF(Q76<>"도비",SUM(L76:M76),) -> 0 | S76: =IF(Q76="도비",SUM(L76:M76),SUM(L76:M76)-R76) -> 1320000 | T76: =IF((L76+M76)=(R76+S76),"ok","검토") -> ok | V76: 도비 | W76: =IF(V76<>"도비",SUM(I76:J76),) -> 0 | X76: =IF(V76="도비",SUM(I76:J76),SUM(I76:J76)-W76) -> 1320000 | Y76: =IF((I76+J76)=(W76+X76),"ok","검토") -> ok | AA76: 1
B77: 1회 | C77: 482 | D77: 동물방역위생과 | E77: 광역유기동물 보호시설 설치(국비/지원) - 유기동물 보호시설 설치 지원(용인시) | F77: 300000 | H77: =IF(SUMPRODUCT(COUNTIF(C77,{"*본예산*","*신규*"})),"-",F77-G77) -> 300000 | J77: 210000 | K77: =IF(F77=0,G77+I77+J77,F77+I77+J77) -> 510000 | M77: 210000 | N77: =IF(F77=0,G77+L77+M77,F77+L77+M77) -> 510000 | O77: =IF(I77-L77<0,"동의필요","-") -> - | P77: 국비매칭 도비부담액 반영 | Q77: 도비 | R77: =IF(Q77<>"도비",SUM(L77:M77),) -> 0 | S77: =IF(Q77="도비",SUM(L77:M77),SUM(L77:M77)-R77) -> 210000 | T77: =IF((L77+M77)=(R77+S77),"ok","검토") -> ok | V77: 도비 | W77: =IF(V77<>"도비",SUM(I77:J77),) -> 0 | X77: =IF(V77="도비",SUM(I77:J77),SUM(I77:J77)-W77) -> 210000 | Y77: =IF((I77+J77)=(W77+X77),"ok","검토") -> ok | AA77: 1
B78: 1회 | C78: 483 | D78: 동물방역위생과 | E78: 시도가축방역사업(국비/지원) - 시도가축방역사업(통제초소운영등)(성립전) | F78: 496000 | H78: =IF(SUMPRODUCT(COUNTIF(C78,{"*본예산*","*신규*"})),"-",F78-G78) -> 496000 | J78: 663000 | K78: =IF(F78=0,G78+I78+J78,F78+I78+J78) -> 1159000 | M78: 663000 | N78: =IF(F78=0,G78+L78+M78,F78+L78+M78) -> 1159000 | O78: =IF(I78-L78<0,"동의필요","-") -> - | P78: 농림축산식품부 방역총괄과-5800(2014.9.3)호 근거 | Q78: 국비 | R78: =IF(Q78<>"도비",SUM(L78:M78),) -> 663000 | S78: =IF(Q78="도비",SUM(L78:M78),SUM(L78:M78)-R78) -> 0 | T78: =IF((L78+M78)=(R78+S78),"ok","검토") -> ok | V78: 국비 | W78: =IF(V78<>"도비",SUM(I78:J78),) -> 663000 | X78: =IF(V78="도비",SUM(I78:J78),SUM(I78:J78)-W78) -> 0 | Y78: =IF((I78+J78)=(W78+X78),"ok","검토") -> ok | AA78: 1
B79: 추가 | C79: 본예산873 | D79: 축산정책과 | E79: 가축분뇨 처리사업(기금/지원) - 가축분뇨처리시설지원 | G79: 4686200 | H79: =IF(SUMPRODUCT(COUNTIF(C79,{"*본예산*","*신규*"})),"-",F79-G79) -> - | J79: 585000 | K79: =IF(F79=0,G79+I79+J79,F79+I79+J79) -> 5271200 | M79: 585000 | N79: =IF(F79=0,G79+L79+M79,F79+L79+M79) -> 5271200 | O79: =IF(I79-L79<0,"동의필요","-") -> - | P79: 국비매칭 도비부담액 반영 | Q79: 도비 | R79: =IF(Q79<>"도비",SUM(L79:M79),) -> 0 | S79: =IF(Q79="도비",SUM(L79:M79),SUM(L79:M79)-R79) -> 585000 | T79: =IF((L79+M79)=(R79+S79),"ok","검토") -> ok | V79: 도비 | W79: =IF(V79<>"도비",SUM(I79:J79),) -> 0 | X79: =IF(V79="도비",SUM(I79:J79),SUM(I79:J79)-W79) -> 585000 | Y79: =IF((I79+J79)=(W79+X79),"ok","검토") -> ok | AA79: 1
B80: 추가 | C80: 본예산874 | D80: 축산정책과 | E80: 축산환경개선(자체/지원) - 축산환경개선사업 | G80: 327250 | H80: =IF(SUMPRODUCT(COUNTIF(C80,{"*본예산*","*신규*"})),"-",F80-G80) -> - | J80: 200000 | K80: =IF(F80=0,G80+I80+J80,F80+I80+J80) -> 527250 | M80: 200000 | N80: =IF(F80=0,G80+L80+M80,F80+L80+M80) -> 527250 | O80: =IF(I80-L80<0,"동의필요","-") -> - | P80: 도비 부담액 반영 | Q80: 도비 | R80: =IF(Q80<>"도비",SUM(L80:M80),) -> 0 | S80: =IF(Q80="도비",SUM(L80:M80),SUM(L80:M80)-R80) -> 200000 | T80: =IF((L80+M80)=(R80+S80),"ok","검토") -> ok | V80: 도비 | W80: =IF(V80<>"도비",SUM(I80:J80),) -> 0 | X80: =IF(V80="도비",SUM(I80:J80),SUM(I80:J80)-W80) -> 200000 | Y80: =IF((I80+J80)=(W80+X80),"ok","검토") -> ok | AA80: 1
B81: 추가 | C81: 신규 | D81: 동물방역위생과 | E81: AI 구제역 방역비(국비/지원) | H81: =IF(SUMPRODUCT(COUNTIF(C81,{"*본예산*","*신규*"})),"-",F81-G81) -> - | J81: 420000 | K81: =IF(F81=0,G81+I81+J81,F81+I81+J81) -> 420000 | M81: 420000 | N81: =IF(F81=0,G81+L81+M81,F81+L81+M81) -> 420000 | O81: =IF(I81-L81<0,"동의필요","-") -> - | P81: 농림축산식품부 방역총괄과-5800(2014.9.3)호 근거 | Q81: 국비 | R81: =IF(Q81<>"도비",SUM(L81:M81),) -> 420000 | S81: =IF(Q81="도비",SUM(L81:M81),SUM(L81:M81)-R81) -> 0 | T81: =IF((L81+M81)=(R81+S81),"ok","검토") -> ok | V81: 국비 | W81: =IF(V81<>"도비",SUM(I81:J81),) -> 420000 | X81: =IF(V81="도비",SUM(I81:J81),SUM(I81:J81)-W81) -> 0 | Y81: =IF((I81+J81)=(W81+X81),"ok","검토") -> ok | AA81: 1
A82: 보건복지위원회 | F82: =SUM(F83:F93)/2 -> 2222190 | G82: =SUM(G83:G93)/2 -> 10727689 | H82: =SUM(H83:H93)/2 -> 663154 | I82: =SUM(I83:I93)/2 -> -145000 | J82: =SUM(J83:J93)/2 -> 500525 | K82: =SUM(K83:K93)/2 -> 11746368 | L82: =SUM(L83:L93)/2 -> -171650 | M82: =SUM(M83:M93)/2 -> 627175 | N82: =SUM(N83:N93)/2 -> 11846368 | R82: =SUM(R83:R93)/2 -> 3320 | S82: =SUM(S83:S93)/2 -> 452205 | T82: =IF((L82+M82)=(R82+S82),"ok","검토") -> ok | W82: =SUM(W83:W93)/2 -> 3320 | X82: =SUM(X83:X93)/2 -> 352205 | Y82: =IF((I82+J82)=(W82+X82),"ok","검토") -> ok
B83: 보건복지국 | F83: =SUM(F84:F89) -> 1775247 | G83: =SUM(G84:G89) -> 7605651 | H83: =SUM(H84:H89) -> 413154 | I83: =SUM(I84:I89) -> -145000 | J83: =SUM(J84:J89) -> 397811 | K83: =SUM(K84:K89) -> 8271616 | L83: =SUM(L84:L89) -> -171650 | M83: =SUM(M84:M89) -> 397811 | N83: =SUM(N84:N89) -> 8244966 | R83: =SUM(R84:R89) -> -115680 | S83: =SUM(S84:S89) -> 341841 | T83: =IF((L83+M83)=(R83+S83),"ok","검토") -> ok | W83: =SUM(W84:W89) -> 3320 | X83: =SUM(X84:X89) -> 249491 | Y83: =IF((I83+J83)=(W83+X83),"ok","검토") -> ok
B84: 1회 | C84: 548 | D84: 노인복지과 | E84: 사회복지단체 활성화(자체/직접) - 전국 노인건강 대축제 지원 | F84: 100000 | H84: =IF(SUMPRODUCT(COUNTIF(C84,{"*본예산*","*신규*"})),"-",F84-G84) -> 100000 | I84: -100000 | K84: =IF(F84=0,G84+I84+J84,F84+I84+J84) -> 0 | L84: 0 | M84: 0 | N84: =IF(F84=0,G84+L84+M84,F84+L84+M84) -> 100000 | O84: =IF(I84-L84<0,"동의필요","-") -> 동의필요 | P84: 노인건강을 위한 사업 필요성 인정 | Q84: 도비 | R84: =IF(Q84<>"도비",SUM(L84:M84),) -> 0 | S84: =IF(Q84="도비",SUM(L84:M84),SUM(L84:M84)-R84) -> 0 | T84: =IF((L84+M84)=(R84+S84),"ok","검토") -> ok | V84: 도비 | W84: =IF(V84<>"도비",SUM(I84:J84),) -> 0 | X84: =IF(V84="도비",SUM(I84:J84),SUM(I84:J84)-W84) -> -100000 | Y84: =IF((I84+J84)=(W84+X84),"ok","검토") -> ok | AA84: 1
B85: 1회 | C85: 554 | D85: 장애인복지과 | E85: 장애인사회활동지원(자체/지원) - 중증장애인 사회활동지원 | F85: 664553 | G85: 414553 | H85: =IF(SUMPRODUCT(COUNTIF(C85,{"*본예산*","*신규*"})),"-",F85-G85) -> 250000 | J85: 146551 | K85: =IF(F85=0,G85+I85+J85,F85+I85+J85) -> 811104 | M85: 146551 | N85: =IF(F85=0,G85+L85+M85,F85+L85+M85) -> 811104 | O85: =IF(I85-L85<0,"동의필요","-") -> - | P85: 이용자 증가 및 급여량 확대로 예산 조기 소진에 따른 증액 | Q85: 도비 | R85: =IF(Q85<>"도비",SUM(L85:M85),) -> 0 | S85: =IF(Q85="도비",SUM(L85:M85),SUM(L85:M85)-R85) -> 146551 | T85: =IF((L85+M85)=(R85+S85),"ok","검토") -> ok | V85: 도비 | W85: =IF(V85<>"도비",SUM(I85:J85),) -> 0 | X85: =IF(V85="도비",SUM(I85:J85),SUM(I85:J85)-W85) -> 146551 | Y85: =IF((I85+J85)=(W85+X85),"ok","검토") -> ok | AA85: 1
B86: 1회 | C86: 556 | D86: 장애인복지과 | E86: 장애인복지시설 운영 지원(분권/지원) - 장애인주간보호시설운영 | F86: 965694 | G86: 947540 | H86: =IF(SUMPRODUCT(COUNTIF(C86,{"*본예산*","*신규*"})),"-",F86-G86) -> 18154 | J86: 247940 | K86: =IF(F86=0,G86+I86+J86,F86+I86+J86) -> 1213634 | M86: 247940 | N86: =IF(F86=0,G86+L86+M86,F86+L86+M86) -> 1213634 | O86: =IF(I86-L86<0,"동의필요","-") -> - | P86: 장애인주간보호시설 운영 인건비 부족분 반영 | Q86: 도비 | R86: =IF(Q86<>"도비",SUM(L86:M86),) -> 0 | S86: =IF(Q86="도비",SUM(L86:M86),SUM(L86:M86)-R86) -> 247940 | T86: =IF((L86+M86)=(R86+S86),"ok","검토") -> ok | V86: 도비 | W86: =IF(V86<>"도비",SUM(I86:J86),) -> 0 | X86: =IF(V86="도비",SUM(I86:J86),SUM(I86:J86)-W86) -> 247940 | Y86: =IF((I86+J86)=(W86+X86),"ok","검토") -> ok | AA86: 1
B87: 1회 | C87: 567 | D87: 건강증진과 | E87: 경기도의료원 기능보강사업(지방채/직접) - 이천병원 신축 연구용역(평가) | F87: 45000 | H87: =IF(SUMPRODUCT(COUNTIF(C87,{"*본예산*","*신규*"})),"-",F87-G87) -> 45000 | I87: -45000 | K87: =IF(F87=0,G87+I87+J87,F87+I87+J87) -> 0 | L87: -45000 | N87: =IF(F87=0,G87+L87+M87,F87+L87+M87) -> 0 | O87: =IF(I87-L87<0,"동의필요","-") -> - | P87: 추가검토필요 | Q87: 도비 | R87: =IF(Q87<>"도비",SUM(L87:M87),) -> 0 | S87: =IF(Q87="도비",SUM(L87:M87),SUM(L87:M87)-R87) -> -45000 | T87: =IF((L87+M87)=(R87+S87),"ok","검토") -> ok | V87: 도비 | W87: =IF(V87<>"도비",SUM(I87:J87),) -> 0 | X87: =IF(V87="도비",SUM(I87:J87),SUM(I87:J87)-W87) -> -45000 | Y87: =IF((I87+J87)=(W87+X87),"ok","검토") -> ok | AA87: 1
B88: 추가 | C88: 본예산 272 | D88: 장애인복지과 | E88: 장애수당(차상위등)(국비/지원) -장애수당(차상위 등) | G88: 6158915 | H88: =IF(SUMPRODUCT(COUNTIF(C88,{"*본예산*","*신규*"})),"-",F88-G88) -> - | K88: =IF(F88=0,G88+I88+J88,F88+I88+J88) -> 6158915 | L88: -126650 | N88: =IF(F88=0,G88+L88+M88,F88+L88+M88) -> 6032265 | O88: =IF(I88-L88<0,"동의필요","-") -> - | P88: 남양주시 예산부족에 따른 남북부청간 조정(남양주시 사회복지과-26026,2014.9.22) (국비 △119,000, 도비 △7,650) | Q88: 국비 | R88: -119000 | S88: =IF(Q88="도비",SUM(L88:M88),SUM(L88:M88)-R88) -> -7650 | T88: =IF((L88+M88)=(R88+S88),"ok","검토") -> ok | V88: 도비 | W88: =IF(V88<>"도비",SUM(I88:J88),) -> 0 | X88: =IF(V88="도비",SUM(I88:J88),SUM(I88:J88)-W88) -> 0 | Y88: =IF((I88+J88)=(W88+X88),"ok","검토") -> ok | Z88: 국비변경 | AA88: 1
B89: 추가 | C89: 본예산 279 | D89: 장애인복지과 | E89: 장애인생산품 판매시설 지원(국비/직접) - 장애인생산품 판매시설 운영 | G89: 84643 | H89: =IF(SUMPRODUCT(COUNTIF(C89,{"*본예산*","*신규*"})),"-",F89-G89) -> - | J89: 3320 | K89: =IF(F89=0,G89+I89+J89,F89+I89+J89) -> 87963 | M89: 3320 | N89: =IF(F89=0,G89+L89+M89,F89+L89+M89) -> 87963 | O89: =IF(I89-L89<0,"동의필요","-") -> - | P89: 보건복지부 장애인자립기반과-6034(2014.9.17) | Q89: 국비 | R89: =IF(Q89<>"도비",SUM(L89:M89),) -> 3320 | S89: =IF(Q89="도비",SUM(L89:M89),SUM(L89:M89)-R89) -> 0 | T89: =IF((L89+M89)=(R89+S89),"ok","검토") -> ok | V89: 국비 | W89: =IF(V89<>"도비",SUM(I89:J89),) -> 3320 | X89: =IF(V89="도비",SUM(I89:J89),SUM(I89:J89)-W89) -> 0 | Y89: =IF((I89+J89)=(W89+X89),"ok","검토") -> ok | AA89: 1
B90: 복지여성실 | F90: =SUM(F91:F93) -> 446943 | G90: =SUM(G91:G93) -> 3122038 | H90: =SUM(H91:H93) -> 250000 | I90: =SUM(I91:I93) -> 0 | J90: =SUM(J91:J93) -> 102714 | K90: =SUM(K91:K93) -> 3474752 | L90: =SUM(L91:L93) -> 0 | M90: =SUM(M91:M93) -> 229364 | N90: =SUM(N91:N93) -> 3601402 | R90: =SUM(R91:R93) -> 119000 | S90: =SUM(S91:S93) -> 110364 | T90: =IF((L90+M90)=(R90+S90),"ok","검토") -> ok | W90: =SUM(W91:W93) -> 0 | X90: =SUM(X91:X93) -> 102714 | Y90: =IF((I90+J90)=(W90+X90),"ok","검토") -> ok
B91: 1회 | C91: 587 | D91: 사회복지담당관 | E91: 장애인 사회활동지원(자체/지원) - 중증장애인 사회활동지원 | F91: 446943 | G91: 196943 | H91: =IF(SUMPRODUCT(COUNTIF(C91,{"*본예산*","*신규*"})),"-",F91-G91) -> 250000 | J91: 82547 | K91: =IF(F91=0,G91+I91+J91,F91+I91+J91) -> 529490 | M91: 82547 | N91: =IF(F91=0,G91+L91+M91,F91+L91+M91) -> 529490 | O91: =IF(I91-L91<0,"동의필요","-") -> - | P91: 이용자 증가 및 급여량 확대로 예산 조기 소진에 따른 증액 | Q91: 도비 | R91: =IF(Q91<>"도비",SUM(L91:M91),) -> 0 | S91: =IF(Q91="도비",SUM(L91:M91),SUM(L91:M91)-R91) -> 82547 | T91: =IF((L91+M91)=(R91+S91),"ok","검토") -> ok | V91: 도비 | W91: =IF(V91<>"도비",SUM(I91:J91),) -> 0 | X91: =IF(V91="도비",SUM(I91:J91),SUM(I91:J91)-W91) -> 82547 | Y91: =IF((I91+J91)=(W91+X91),"ok","검토") -> ok | AA91: 1
B92: 추가 | C92: 본예산780 | D92: 사회복지담당관 | E92: 장애수당(차상위등)(국비/지원) -장애수당(차상위등) | G92: 2639535 | H92: =IF(SUMPRODUCT(COUNTIF(C92,{"*본예산*","*신규*"})),"-",F92-G92) -> - | K92: =IF(F92=0,G92+I92+J92,F92+I92+J92) -> 2639535 | M92: 126650 | N92: =IF(F92=0,G92+L92+M92,F92+L92+M92) -> 2766185 | O92: =IF(I92-L92<0,"동의필요","-") -> - | P92: 남양주시 예산부족에 따른 남북부청간 조정(남양주시 사회복지과-26026,2014.9.22) (국비 119,000, 도비 7,650) | Q92: 국비 | R92: 119000 | S92: =IF(Q92="도비",SUM(L92:M92),SUM(L92:M92)-R92) -> 7650 | T92: =IF((L92+M92)=(R92+S92),"ok","검토") -> ok | V92: 도비 | W92: =IF(V92<>"도비",SUM(I92:J92),) -> 0 | X92: =IF(V92="도비",SUM(I92:J92),SUM(I92:J92)-W92) -> 0 | Y92: =IF((I92+J92)=(W92+X92),"ok","검토") -> ok | Z92: 국비변경 | AA92: 1
B93: 추가 | C93: 본예산 785 | D93: 사회복지담당관 | E93: 장애인 지역사회재활시설등 지원(분권/지원) - 장애인주간보호시설운영 | G93: 285560 | H93: =IF(SUMPRODUCT(COUNTIF(C93,{"*본예산*","*신규*"})),"-",F93-G93) -> - | J93: 20167 | K93: =IF(F93=0,G93+I93+J93,F93+I93+J93) -> 305727 | M93: 20167 | N93: =IF(F93=0,G93+L93+M93,F93+L93+M93) -> 305727 | O93: =IF(I93-L93<0,"동의필요","-") -> - | P93: 장애인주간보호시설 운영 인건비 부족분 반영 | Q93: 도비 | R93: =IF(Q93<>"도비",SUM(L93:M93),) -> 0 | S93: =IF(Q93="도비",SUM(L93:M93),SUM(L93:M93)-R93) -> 20167 | T93: =IF((L93+M93)=(R93+S93),"ok","검토") -> ok | V93: 도비 | W93: =IF(V93<>"도비",SUM(I93:J93),) -> 0 | X93: =IF(V93="도비",SUM(I93:J93),SUM(I93:J93)-W93) -> 20167 | Y93: =IF((I93+J93)=(W93+X93),"ok","검토") -> ok | AA93: 1
A94: 건설교통위원회 | F94: =SUM(F95:F107)/2 -> 29840406 | G94: =SUM(G95:G107)/2 -> 19375597 | H94: =SUM(H95:H107)/2 -> 14938355 | I94: =SUM(I95:I107)/2 -> -40000 | J94: =SUM(J95:J107)/2 -> 5160000 | K94: =SUM(K95:K107)/2 -> 39433952 | L94: =SUM(L95:L107)/2 -> -40000 | M94: =SUM(M95:M107)/2 -> 5160000 | N94: =SUM(N95:N107)/2 -> 39433952 | R94: =SUM(R95:R107)/2 -> 0 | S94: =SUM(S95:S107)/2 -> 5120000 | T94: =IF((L94+M94)=(R94+S94),"ok","검토") -> ok | W94: =SUM(W95:W107)/2 -> 0 | X94: =SUM(X95:X107)/2 -> 5120000 | Y94: =IF((I94+J94)=(W94+X94),"ok","검토") -> ok
B95: 교통건설국 | F95: =SUM(F96:F102) -> 15123355 | G95: =SUM(G96:G102) -> 3600000 | H95: =SUM(H96:H102) -> 11523355 | I95: =SUM(I96:I102) -> 0 | J95: =SUM(J96:J102) -> 1750000 | K95: =SUM(K96:K102) -> 16873355 | L95: =SUM(L96:L102) -> 0 | M95: =SUM(M96:M102) -> 1750000 | N95: =SUM(N96:N102) -> 16873355 | R95: =SUM(R96:R102) -> 0 | S95: =SUM(S96:S102) -> 1750000 | T95: =IF((L95+M95)=(R95+S95),"ok","검토") -> ok | W95: =SUM(W96:W102) -> 0 | X95: =SUM(X96:X102) -> 1750000 | Y95: =IF((I95+J95)=(W95+X95),"ok","검토") -> ok
B96: 1회 | C96: 645 | D96: 도로계획과 | E96: 도로구역 정비 추진(자체/직접) - 도로구역 정비 추진 | F96: 20000 | H96: =IF(SUMPRODUCT(COUNTIF(C96,{"*본예산*","*신규*"})),"-",F96-G96) -> 20000 | J96: 10000 | K96: =IF(F96=0,G96+I96+J96,F96+I96+J96) -> 30000 | M96: 10000 | N96: =IF(F96=0,G96+L96+M96,F96+L96+M96) -> 30000 | O96: =IF(I96-L96<0,"동의필요","-") -> - | P96: 양평군 1천만원 | Q96: 도비 | R96: =IF(Q96<>"도비",SUM(L96:M96),) -> 0 | S96: =IF(Q96="도비",SUM(L96:M96),SUM(L96:M96)-R96) -> 10000 | T96: =IF((L96+M96)=(R96+S96),"ok","검토") -> ok | V96: 도비 | W96: =IF(V96<>"도비",SUM(I96:J96),) -> 0 | X96: =IF(V96="도비",SUM(I96:J96),SUM(I96:J96)-W96) -> 10000 | Y96: =IF((I96+J96)=(W96+X96),"ok","검토") -> ok | AA96: 1
B97: 1회 | C97: 646 | D97: 도로계획과 | E97: 지방도미불용지(자체/직접) - 지방도 미불용지 보상 | F97: 6100000 | G97: 3600000 | H97: =IF(SUMPRODUCT(COUNTIF(C97,{"*본예산*","*신규*"})),"-",F97-G97) -> 2500000 | J97: 90000 | K97: =IF(F97=0,G97+I97+J97,F97+I97+J97) -> 6190000 | M97: 90000 | N97: =IF(F97=0,G97+L97+M97,F97+L97+M97) -> 6190000 | O97: =IF(I97-L97<0,"동의필요","-") -> - | P97: 양평군 9천만원 | Q97: 도비 | R97: =IF(Q97<>"도비",SUM(L97:M97),) -> 0 | S97: =IF(Q97="도비",SUM(L97:M97),SUM(L97:M97)-R97) -> 90000 | T97: =IF((L97+M97)=(R97+S97),"ok","검토") -> ok | V97: 도비 | W97: =IF(V97<>"도비",SUM(I97:J97),) -> 0 | X97: =IF(V97="도비",SUM(I97:J97),SUM(I97:J97)-W97) -> 90000 | Y97: =IF((I97+J97)=(W97+X97),"ok","검토") -> ok | AA97: 1
B98: 1회 | C98: 633 | D98: 교통정책과 | E98: 택시 카드단말기 통신료 지원(자체/지원) - 택시 카드단말기 통신료 지원 | F98: 662076 | H98: =IF(SUMPRODUCT(COUNTIF(C98,{"*본예산*","*신규*"})),"-",F98-G98) -> 662076 | K98: =IF(F98=0,G98+I98+J98,F98+I98+J98) -> 662076 | L98: 0 | M98: 0 | N98: =IF(F98=0,G98+L98+M98,F98+L98+M98) -> 662076 | O98: =IF(I98-L98<0,"동의필요","-") -> - | P98: 부대의견 : 일몰시점을 명확히 하고 연차계획 수립할것 | Q98: 도비 | R98: =IF(Q98<>"도비",SUM(L98:M98),) -> 0 | S98: =IF(Q98="도비",SUM(L98:M98),SUM(L98:M98)-R98) -> 0 | T98: =IF((L98+M98)=(R98+S98),"ok","검토") -> ok | V98: 도비 | W98: =IF(V98<>"도비",SUM(I98:J98),) -> 0 | X98: =IF(V98="도비",SUM(I98:J98),SUM(I98:J98)-W98) -> 0 | Y98: =IF((I98+J98)=(W98+X98),"ok","검토") -> ok | AA98: 1
B99: 1회 | C99: 633 | D99: 교통정책과 | E99: 택시 카드결재수수료(자체/지원) - 택시 카드결재수수료 | F99: 2576979 | H99: =IF(SUMPRODUCT(COUNTIF(C99,{"*본예산*","*신규*"})),"-",F99-G99) -> 2576979 | K99: =IF(F99=0,G99+I99+J99,F99+I99+J99) -> 2576979 | L99: 0 | M99: 0 | N99: =IF(F99=0,G99+L99+M99,F99+L99+M99) -> 2576979 | O99: =IF(I99-L99<0,"동의필요","-") -> - | P99: 부대의견 : 일몰시점을 명확히 하고 연차계획 수립할것 | Q99: 도비 | R99: =IF(Q99<>"도비",SUM(L99:M99),) -> 0 | S99: =IF(Q99="도비",SUM(L99:M99),SUM(L99:M99)-R99) -> 0 | T99: =IF((L99+M99)=(R99+S99),"ok","검토") -> ok | V99: 도비 | W99: =IF(V99<>"도비",SUM(I99:J99),) -> 0 | X99: =IF(V99="도비",SUM(I99:J99),SUM(I99:J99)-W99) -> 0 | Y99: =IF((I99+J99)=(W99+X99),"ok","검토") -> ok | AA99: 1
B100: 1회 | C100: 636 | D100: 대중교통과 | E100: 버스 좌석제 운행 손실보전(자체/지원) - 버스 좌석제 운행 손실보전금 | F100: 5764300 | H100: =IF(SUMPRODUCT(COUNTIF(C100,{"*본예산*","*신규*"})),"-",F100-G100) -> 5764300 | K100: =IF(F100=0,G100+I100+J100,F100+I100+J100) -> 5764300 | L100: 0 | M100: 0 | N100: =IF(F100=0,G100+L100+M100,F100+L100+M100) -> 5764300 | O100: =IF(I100-L100<0,"동의필요","-") -> - | P100: 부대의견 : 국토부와 협의한 것으로 국가정책으로 확정한 것이기 때문에 경기도는 국비지원 요청 착수할 것 | Q100: 도비 | R100: =IF(Q100<>"도비",SUM(L100:M100),) -> 0 | S100: =IF(Q100="도비",SUM(L100:M100),SUM(L100:M100)-R100) -> 0 | T100: =IF((L100+M100)=(R100+S100),"ok","검토") -> ok | V100: 도비 | W100: =IF(V100<>"도비",SUM(I100:J100),) -> 0 | X100: =IF(V100="도비",SUM(I100:J100),SUM(I100:J100)-W100) -> 0 | Y100: =IF((I100+J100)=(W100+X100),"ok","검토") -> ok | AA100: 1
...

Sheet 중소기업육성기금
A1: 2014년도 제1회 추경 경기도 기금 상임위 수정(안)
A2: □ 기금 수입
H3: =G3-E3 -> 0 | K3: (단위 : 백만원)
A4: 위원회 | C4: 예산안 페이지 | D4: 부서명 | E4: 사업명 | F4: 총예산 (A+B+C) | G4: 기정액 (A) | H4: 1회 추경 증감액 (B) | I4: 상임위 조정액 (C) | J4: 예결위 조정액 | K4: 비고
B6: 합 계
A7: 경제과학기술위원회 | F7: =SUM(F8:F9)/2 -> 50000 | G7: =SUM(G8:G9)/2 -> 35000 | H7: =SUM(H8:H9)/2 -> 0 | I7: =SUM(I8:I9)/2 -> 15000 | J7: 0
B8: 경제투자실 | E8: 중소기업육성기금(운전자금) | F8: 50000 | G8: 35000 | I8: 15000 | J8: 0
D9: 기업지원1과 | E9: 예탁금원금 회수수입 | F9: 50000 | G9: 35000 | I9: 15000 | J9: 0
A11: □ 기금 지출
A13: 위원회 | C13: 예산안 페이지 | D13: 부서명 | E13: 사업명 | F13: 총예산 (A+B+C) | G13: 기정액 (A) | H13: 1회 추경 반영액 (B) | I13: 상임위 조정액 (C) | J13: 예결위 조정액 | K13: 비고
B15: 합 계
A16: 경제과학기술위원회 | F16: =SUM(F17:F18)/2 -> 250591 | G16: =SUM(G17:G18)/2 -> 235591 | H16: =SUM(H17:H18)/2 -> 0 | I16: =SUM(I17:I18)/2 -> 15000 | J16: 0
B17: 경제투자실 | E17: 중소기업육성기금(운전자금) | F17: 250591 | G17: 235591 | I17: =F17-G17 -> 15000 | J17: 0
D18: 기업지원1과 | E18: 도금고 예치금 | F18: 250591 | G18: 235591 | I18: =F18-G18 -> 15000 | J18: 0

Sheet 국비변경(일반 세입)(삭제)
A1: 예결위 국비 변경 (일반 세입)
A2: □세입예산 | R2: 세입 = 세출 | W2: 세입 = 세출
J3: =SUM(I6:J6) -> 0 | M3: =SUM(L6:M6) -> 81213 | P3: (단위 : 천원) | R3: =IF(R6='국비변경(일반 세출)(삭제)'!R6,"OK","@@") -> OK | S3: =SUM(R6:S6) -> 81213 | T3: =IF(COUNTIF(T6:T986,"@@")>0,"@@","OK") -> OK | W3: =IF(W6='국비변경(일반 세출)(삭제)'!W6,"OK","@@") -> OK | X3: =SUM(W6:X6) -> 0 | Y3: =IF(COUNTIF(Y6:Y986,"@@")>0,"@@","OK") -> OK
A4: 위원회 | C4: 예산안 페이지 | D4: 부서명 | E4: 사업명 | F4: 제1회 추경 예산안 (가) | G4: 기정액 | H4: 제1회 추경 증감액 | I4: 상임위 제1회 추경 예산안 조정액 | K4: 상임위 수정 예산안 (마=가or나+라) | L4: 예결위 제1회 추경 예산안 조정액 | N4: 예결위 수정 예산안 (사=나+바) | O4: 동의 대상 | P4: 비 고 | Q4: 재원 | R4: 예결위 재원별 증감액 | V4: 재원 | W4: 상임위 재원별 증감액
I5: 감액 | J5: 증액 | L5: 감액 | M5: 증액 | R5: 국비 등 | S5: 도 비 | T5: 검 증 | W5: 국비 등 | X5: 도 비 | Y5: 검 증
B6: 합 계 | F6: =SUM(F7:F142)/3 -> 2508987 | G6: =SUM(G7:G142)/3 -> 2670565 | H6: =SUM(H7:H142)/3 -> 190922 | I6: =SUM(I7:I18)/3 -> 0 | J6: =SUM(J7:J18)/3 -> 0 | K6: =SUM(K7:K18)/3 -> 2861487 | L6: =SUM(L7:L142)/3 -> 0 | M6: =SUM(M7:M142)/3 -> 81213 | N6: =SUM(N7:N142)/3 -> 2942700 | R6: =SUM(R7:R142)/3 -> 81213 | S6: =SUM(S7:S142)/3 -> 0 | T6: =IF((L6+M6)=(R6+S6),"OK","검토") -> OK | W6: =SUM(W7:W142)/3 -> 0 | X6: =SUM(X7:X142)/3 -> 0 | Y6: =IF((I6+J6)=(W6+X6),"OK","검토") -> OK
A7: 안전행정위원회 | F7: =SUM(F8:F9)/2 -> 924743 | G7: =SUM(G8:G9)/2 -> 909307 | H7: =SUM(H8:H9)/2 -> 15436 | I7: =SUM(I8:I9)/2 -> 0 | J7: =SUM(J8:J9)/2 -> 0 | K7: =SUM(K8:K9)/2 -> 924743 | L7: =SUM(L8:L9)/2 -> 0 | M7: =SUM(M8:M9)/2 -> 1421 | N7: =SUM(N8:N9)/2 -> 926164 | R7: =SUM(R8:R9)/2 -> 1421 | S7: =SUM(S8:S9)/2 -> 0 | T7: =IF((L7+M7)=(R7+S7),"ok","검토") -> ok | W7: =SUM(W8:W9)/2 -> 0 | X7: =SUM(X8:X9)/2 -> 0 | Y7: =IF((I7+J7)=(W7+X7),"ok","검토") -> ok
B8: 자치행정국 | F8: =SUM(F9:F9) -> 924743 | G8: =SUM(G9:G9) -> 909307 | H8: =SUM(H9:H9) -> 15436 | I8: =SUM(I9:I9) -> 0 | J8: =SUM(J9:J9) -> 0 | K8: =SUM(K9:K9) -> 924743 | L8: =SUM(L9:L9) -> 0 | M8: =SUM(M9:M9) -> 1421 | N8: =SUM(N9:N9) -> 926164 | R8: =SUM(R9:R9) -> 1421 | S8: =SUM(S9:S9) -> 0 | T8: =IF((L8+M8)=(R8+S8),"ok","검토") -> ok | W8: =SUM(W9:W9) -> 0 | X8: =SUM(X9:X9) -> 0 | Y8: =IF((I8+J8)=(W8+X8),"ok","검토") -> ok
B9: 추가 | C9: 328 | D9: 언제나민원실 | E9: 여권발급 | F9: 924743 | G9: 909307 | H9: =IF(SUMPRODUCT(COUNTIF(C9,{"*본예산*","*신규*"})),"-",F9-G9) -> 15436 | K9: =IF(F9=0,G9+I9+J9,F9+I9+J9) -> 924743 | M9: 1421 | N9: =IF(F9=0,G9+L9+M9,F9+L9+M9) -> 926164 | O9: =IF(I9-L9<0,"동의필요","-") -> - | P9: 외교부 여권과-38242(2014.9.4) 변경내시(국비 증액) | Q9: 국비 | R9: =IF(Q9<>"도비",SUM(L9:M9),) -> 1421 | S9: =IF(Q9="도비",SUM(L9:M9),SUM(L9:M9)-R9) -> 0 | T9: =IF((L9+M9)=(R9+S9),"ok","검토") -> ok | V9: 국비 | W9: =IF(V9<>"도비",SUM(I9:J9),) -> 0 | X9: =IF(V9="도비",SUM(I9:J9),SUM(I9:J9)-W9) -> 0 | Y9: =IF((I9+J9)=(W9+X9),"ok","검토") -> ok
A10: 농정해양위원회 | F10: =SUM(F11:F12)/2 -> 201176 | G10: =SUM(G11:G12)/2 -> 0 | H10: =SUM(H11:H12)/2 -> 201176 | I10: =SUM(I11:I12)/2 -> 0 | J10: =SUM(J11:J12)/2 -> 0 | K10: =SUM(K11:K12)/2 -> 201176 | L10: =SUM(L11:L12)/2 -> 0 | M10: =SUM(M11:M12)/2 -> 6179 | N10: =SUM(N11:N12)/2 -> 207355 | R10: =R11 -> 6179 | S10: =S11 -> 0 | T10: =IF((L10+M10)=(R10+S10),"ok","검토") -> ok | W10: =W11 -> 0 | X10: =X11 -> 0 | Y10: =IF((I10+J10)=(W10+X10),"ok","검토") -> ok
B11: 농정해양국 | F11: =SUM(F12:F12) -> 201176 | G11: =SUM(G12:G12) -> 0 | H11: =SUM(H12:H12) -> 201176 | I11: =SUM(I12:I12) -> 0 | J11: =SUM(J12:J12) -> 0 | K11: =SUM(K12:K12) -> 201176 | L11: =SUM(L12:L12) -> 0 | M11: =SUM(M12:M12) -> 6179 | N11: =SUM(N12:N12) -> 207355 | R11: =SUM(R12:R12) -> 6179 | S11: =SUM(S12:S12) -> 0 | T11: =IF((L11+M11)=(R11+S11),"ok","검토") -> ok | W11: =SUM(W12:W12) -> 0 | X11: =SUM(X12:X12) -> 0 | Y11: =IF((I11+J11)=(W11+X11),"ok","검토") -> ok
B12: 1회 | C12: 471 | D12: 축산정책과 | E12: 소득안정자금(성립전) | F12: 201176 | H12: =IF(SUMPRODUCT(COUNTIF(C12,{"*본예산*","*신규*"})),"-",F12-G12) -> 201176 | K12: =IF(F12=0,G12+I12+J12,F12+I12+J12) -> 201176 | M12: 6179 | N12: =IF(F12=0,G12+L12+M12,F12+L12+M12) -> 207355 | O12: =IF(I12-L12<0,"동의필요","-") -> - | P12: 농림축산식품부 축산경영과-5365(2014.9.26)호 변경내시 | Q12: 기금 | R12: =IF(Q12<>"도비",SUM(L12:M12),) -> 6179 | S12: =IF(Q12="도비",SUM(L12:M12),SUM(L12:M12)-R12) -> 0 | T12: =IF((L12+M12)=(R12+S12),"ok","검토") -> ok | V12: 국비 | W12: =IF(V12<>"도비",SUM(I12:J12),) -> 0 | X12: =IF(V12="도비",SUM(I12:J12),SUM(I12:J12)-W12) -> 0 | Y12: =IF((I12+J12)=(W12+X12),"ok","검토") -> ok
A13: 여성가족평생교육위원회 | F13: =SUM(F14:F18)/2 -> 1383068 | G13: =SUM(G14:G18)/2 -> 1761258 | H13: =SUM(H14:H18)/2 -> -25690 | I13: =SUM(I14:I18)/2 -> 0 | J13: =SUM(J14:J18)/2 -> 0 | K13: =SUM(K14:K18)/2 -> 1735568 | L13: =SUM(L14:L18)/2 -> 0 | M13: =SUM(M14:M18)/2 -> 73613 | N13: =SUM(N14:N18)/2 -> 1809181 | R13: =R14 -> 73613 | S13: =S14 -> 0 | T13: =IF((L13+M13)=(R13+S13),"ok","검토") -> ok | W13: =W14 -> 0 | X13: =X14 -> 0 | Y13: =IF((I13+J13)=(W13+X13),"ok","검토") -> ok
B14: 여성가족국 | F14: =SUM(F15:F18) -> 1383068 | G14: =SUM(G15:G18) -> 1761258 | H14: =SUM(H15:H18) -> -25690 | I14: =SUM(I15:I18) -> 0 | J14: =SUM(J15:J18) -> 0 | K14: =SUM(K15:K18) -> 1735568 | L14: =SUM(L15:L18) -> 0 | M14: =SUM(M15:M18) -> 73613 | N14: =SUM(N15:N18) -> 1809181 | R14: =SUM(R15:R18) -> 73613 | S14: =SUM(S15:S18) -> 0 | T14: =IF((L14+M14)=(R14+S14),"ok","검토") -> ok | W14: =SUM(W15:W18) -> 0 | X14: =SUM(X15:X18) -> 0 | Y14: =IF((I14+J14)=(W14+X14),"ok","검토") -> ok
B15: 1회 | C15: 743 | D15: 여성가족과 | E15: 가정폭력가해자 고정,치료 프로그램 운영 | F15: 321500 | G15: 348758 | H15: =IF(SUMPRODUCT(COUNTIF(C15,{"*본예산*","*신규*"})),"-",F15-G15) -> -27258 | K15: =IF(F15=0,G15+I15+J15,F15+I15+J15) -> 321500 | M15: 37104 | N15: =IF(F15=0,G15+L15+M15,F15+L15+M15) -> 358604 | P15: 여성가족부 복지지원과-2826(2014.9.25) | Q15: 기금 | R15: =IF(Q15<>"도비",SUM(L15:M15),) -> 37104 | S15: =IF(Q15="도비",SUM(L15:M15),SUM(L15:M15)-R15) -> 0 | T15: =IF((L15+M15)=(R15+S15),"ok","검토") -> ok | V15: 국비 | W15: =IF(V15<>"도비",SUM(I15:J15),) -> 0 | X15: =IF(V15="도비",SUM(I15:J15),SUM(I15:J15)-W15) -> 0 | Y15: =IF((I15+J15)=(W15+X15),"ok","검토") -> ok
B16: 1회 | C16: 743 | D16: 여성가족과 | E16: 성매매피해자 지원시설 및 상담소 운영 | F16: 1061568 | G16: 1060000 | H16: =IF(SUMPRODUCT(COUNTIF(C16,{"*본예산*","*신규*"})),"-",F16-G16) -> 1568 | K16: =IF(F16=0,G16+I16+J16,F16+I16+J16) -> 1061568 | M16: 28000 | N16: =IF(F16=0,G16+L16+M16,F16+L16+M16) -> 1089568 | P16: 여성가족부 권익지원과-2334(2014.9.24) | Q16: 국비 | R16: =IF(Q16<>"도비",SUM(L16:M16),) -> 28000 | S16: =IF(Q16="도비",SUM(L16:M16),SUM(L16:M16)-R16) -> 0 | T16: =IF((L16+M16)=(R16+S16),"ok","검토") -> ok | V16: 국비 | W16: =IF(V16<>"도비",SUM(I16:J16),) -> 0 | X16: =IF(V16="도비",SUM(I16:J16),SUM(I16:J16)-W16) -> 0 | Y16: =IF((I16+J16)=(W16+X16),"ok","검토") -> ok
B17: 추가 | C17: 본예산 56 | D17: 여성가족과 | E17: 성매매피해자 구조지원 사업 | G17: 205000 | H17: =IF(SUMPRODUCT(COUNTIF(C17,{"*본예산*","*신규*"})),"-",F17-G17) -> - | K17: =IF(F17=0,G17+I17+J17,F17+I17+J17) -> 205000 | M17: 2000 | N17: =IF(F17=0,G17+L17+M17,F17+L17+M17) -> 207000 | P17: 여성가족부 권익지원과-2334(2014.9.24) | Q17: 국비 | R17: =IF(Q17<>"도비",SUM(L17:M17),) -> 2000 | S17: =IF(Q17="도비",SUM(L17:M17),SUM(L17:M17)-R17) -> 0 | T17: =IF((L17+M17)=(R17+S17),"ok","검토") -> ok | V17: 국비 | W17: =IF(V17<>"도비",SUM(I17:J17),) -> 0 | X17: =IF(V17="도비",SUM(I17:J17),SUM(I17:J17)-W17) -> 0 | Y17: =IF((I17+J17)=(W17+X17),"ok","검토") -> ok
B18: 추가 | C18: 본예산 56 | D18: 여성가족과 | E18: 성매매집결지 현장기능강화사업 | G18: 147500 | H18: =IF(SUMPRODUCT(COUNTIF(C18,{"*본예산*","*신규*"})),"-",F18-G18) -> - | K18: =IF(F18=0,G18+I18+J18,F18+I18+J18) -> 147500 | M18: 6509 | N18: =IF(F18=0,G18+L18+M18,F18+L18+M18) -> 154009 | P18: 여성가족부 권익지원과-2334(2014.9.24) | Q18: 기금 | R18: =IF(Q18<>"도비",SUM(L18:M18),) -> 6509 | S18: =IF(Q18="도비",SUM(L18:M18),SUM(L18:M18)-R18) -> 0 | T18: =IF((L18+M18)=(R18+S18),"ok","검토") -> ok | V18: 기금 | W18: =IF(V18<>"도비",SUM(I18:J18),) -> 0 | X18: =IF(V18="도비",SUM(I18:J18),SUM(I18:J18)-W18) -> 0 | Y18: =IF((I18+J18)=(W18+X18),"ok","검토") -> ok

Sheet 국비변경(일반 세출)(삭제)
A1: 예결위 국비 변경 (일반 세출)
A2: □세출예산 | R2: 세입 = 세출 | W2: 세입 = 세출
J3: =SUM(I6:J6) -> 0 | M3: =SUM(L6:M6) -> 93808 | P3: (단위 : 천원) | R3: OK | S3: =SUM(R6:S6) -> 93808 | T3: =IF(COUNTIF(T6:T918,"@@")>0,"@@","OK") -> OK | W3: OK | X3: =SUM(W6:X6) -> 0 | Y3: =IF(COUNTIF(Y6:Y918,"@@")>0,"@@","OK") -> OK
A4: 위원회 | C4: 예산안 페이지 | D4: 부서명 | E4: 사업명 | F4: 제1회 추경 예산안 (가) | G4: 기정액 | H4: 제1회 추경 증감액 | I4: 상임위 제1회 추경 예산안 조정액 | K4: 상임위 수정 예산안 (마=가or나+라) | L4: 예결위 제1회 추경 예산안 조정액 | N4: 예결위 수정 예산안 (사=나+바) | O4: 동의 대상 | P4: 비 고 | Q4: 재원 | R4: 예결위 재원별 증감액 | V4: 재원 | W4: 상임위 재원별 증감액
I5: 감액 | J5: 증액 | L5: 감액 | M5: 증액 | R5: 국비 등 | S5: 도 비 | T5: 검 증 | W5: 국비 등 | X5: 도 비 | Y5: 검 증
B6: 합 계 | F6: =SUM(F7:F25)/3 -> 1017492 | G6: =SUM(G7:G25)/3 -> 10136789 | H6: =SUM(H7:H25)/3 -> -25081 | I6: =SUM(I7:I25)/3 -> 0 | J6: =SUM(J7:J25)/3 -> 0 | K6: =SUM(K7:K25)/3 -> 10111708 | L6: =SUM(L7:L25)/3 -> -126650 | M6: =SUM(M7:M25)/3 -> 220458 | N6: =SUM(N7:N25)/3 -> 10205516 | R6: =SUM(R7:R25)/3 -> 81213 | S6: =SUM(S7:S25)/3 -> 12595 | T6: =IF((L6+M6)=(R6+S6),"OK","검토") -> OK | W6: =SUM(W7:W25)/3 -> 0 | X6: =SUM(X7:X25)/3 -> 0 | Y6: =IF((I6+J6)=(W6+X6),"OK","검토") -> OK
A7: 안전행정위원회 | F7: =SUM(F8:F9)/2 -> 31210 | G7: =SUM(G8:G9)/2 -> 30574 | H7: =SUM(H8:H9)/2 -> 636 | I7: =SUM(I8:I9)/2 -> 0 | J7: =SUM(J8:J9)/2 -> 0 | K7: =SUM(K8:K9)/2 -> 31210 | L7: =SUM(L8:L9)/2 -> 0 | M7: =SUM(M8:M9)/2 -> 1421 | N7: =SUM(N8:N9)/2 -> 32631 | R7: =SUM(R8:R9)/2 -> 1421 | S7: =SUM(S8:S9)/2 -> 0 | T7: =IF((L7+M7)=(R7+S7),"ok","검토") -> ok | W7: =SUM(W8:W9)/2 -> 0 | X7: =SUM(X8:X9)/2 -> 0 | Y7: =IF((I7+J7)=(W7+X7),"ok","검토") -> ok
B8: 자치행정국 | F8: =SUM(F9:F9) -> 31210 | G8: =SUM(G9:G9) -> 30574 | H8: =SUM(H9:H9) -> 636 | I8: =SUM(I9:I9) -> 0 | J8: =SUM(J9:J9) -> 0 | K8: =SUM(K9:K9) -> 31210 | L8: =SUM(L9:L9) -> 0 | M8: =SUM(M9:M9) -> 1421 | N8: =SUM(N9:N9) -> 32631 | R8: =SUM(R9) -> 1421 | S8: =SUM(S9) -> 0 | T8: =IF((L8+M8)=(R8+S8),"ok","검토") -> ok | W8: =SUM(W9) -> 0 | X8: =SUM(X9) -> 0 | Y8: =IF((I8+J8)=(W8+X8),"ok","검토") -> ok
B9: 1회 | C9: 395 | D9: 행정관리담당관 | E9: 여권민원서비스 제고(국비/직접) - 여권민원실 운영비 | F9: 31210 | G9: 30574 | H9: =IF(SUMPRODUCT(COUNTIF(C9,{"*본예산*","*신규*"})),"-",F9-G9) -> 636 | K9: =IF(F9=0,G9+I9+J9,F9+I9+J9) -> 31210 | M9: 1421 | N9: =IF(F9=0,G9+L9+M9,F9+L9+M9) -> 32631 | O9: =IF(I9-L9<0,"동의필요","-") -> - | P9: 외교부 여권과-38242(2014.9.4)호, 변경내시(국비 증액) | Q9: 국비 | R9: =IF(Q9<>"도비",SUM(L9:M9),) -> 1421 | S9: =IF(Q9="도비",SUM(L9:M9),SUM(L9:M9)-R9) -> 0 | T9: =IF((L9+M9)=(R9+S9),"ok","검토") -> ok | V9: 국비 | W9: =IF(V9<>"도비",SUM(I9:J9),) -> 0 | X9: =IF(V9="도비",SUM(I9:J9),SUM(I9:J9)-W9) -> 0 | Y9: =IF((I9+J9)=(W9+X9),"ok","검토") -> ok
A10: 농정해양위원회 | F10: =SUM(F11:F12)/2 -> 12695 | G10: =SUM(G11:G12)/2 -> 0 | H10: =SUM(H11:H12)/2 -> 12695 | I10: =SUM(I11:I12)/2 -> 0 | J10: =SUM(J11:J12)/2 -> 0 | K10: =SUM(K11:K12)/2 -> 12695 | L10: =SUM(L11:L12)/2 -> 0 | M10: =SUM(M11:M12)/2 -> 6179 | N10: =SUM(N11:N12)/2 -> 18874 | R10: =SUM(R11:R12)/2 -> 6179 | S10: =SUM(S11:S12)/2 -> 0 | T10: =IF((L10+M10)=(R10+S10),"ok","검토") -> ok | W10: =SUM(W11:W12)/2 -> 0 | X10: =SUM(X11:X12)/2 -> 0 | Y10: =IF((I10+J10)=(W10+X10),"ok","검토") -> ok
B11: 농정해양국 | F11: =SUM(F12:F12) -> 12695 | G11: =SUM(G12:G12) -> 0 | H11: =SUM(H12:H12) -> 12695 | I11: =SUM(I12:I12) -> 0 | J11: =SUM(J12:J12) -> 0 | K11: =SUM(K12:K12) -> 12695 | L11: =SUM(L12:L12) -> 0 | M11: =SUM(M12:M12) -> 6179 | N11: =SUM(N12:N12) -> 18874 | R11: =SUM(R12:R12) -> 6179 | S11: =SUM(S12:S12) -> 0 | T11: =IF((L11+M11)=(R11+S11),"ok","검토") -> ok | W11: =SUM(W12:W12) -> 0 | X11: =SUM(X12:X12) -> 0 | Y11: =IF((I11+J11)=(W11+X11),"ok","검토") -> ok
B12: 1회 | C12: 477 | D12: 축산정책과 | E12: 소득안정자금(기금/지원) - 소득안정자금 | F12: 12695 | H12: =IF(SUMPRODUCT(COUNTIF(C12,{"*본예산*","*신규*"})),"-",F12-G12) -> 12695 | K12: =IF(F12=0,G12+I12+J12,F12+I12+J12) -> 12695 | M12: 6179 | N12: =IF(F12=0,G12+L12+M12,F12+L12+M12) -> 18874 | O12: =IF(I12-L12<0,"동의필요","-") -> - | P12: 농림축산식품부 축산경영과-5365(2014.9.26)호 변경내시 | Q12: 기금 | R12: =IF(Q12<>"도비",SUM(L12:M12),) -> 6179 | S12: =IF(Q12="도비",SUM(L12:M12),SUM(L12:M12)-R12) -> 0 | T12: =IF((L12+M12)=(R12+S12),"ok","검토") -> ok | V12: 기금 | W12: =IF(V12<>"도비",SUM(I12:J12),) -> 0 | X12: =IF(V12="도비",SUM(I12:J12),SUM(I12:J12)-W12) -> 0 | Y12: =IF((I12+J12)=(W12+X12),"ok","검토") -> ok
A13: 보건복지위원회 | F13: =SUM(F14:F17)/2 -> 0 | G13: =SUM(G14:G17)/2 -> 8798450 | H13: =SUM(H14:H17)/2 -> 0 | I13: =SUM(I14:I17)/2 -> 0 | J13: =SUM(J14:J17)/2 -> 0 | K13: =SUM(K14:K17)/2 -> 8798450 | L13: =SUM(L14:L17)/2 -> -126650 | M13: =SUM(M14:M17)/2 -> 126650 | N13: =SUM(N14:N17)/2 -> 8798450 | R13: =SUM(R14:R17)/2 -> 0 | S13: =SUM(S14:S17)/2 -> 0 | T13: =IF((L13+M13)=(R13+S13),"ok","검토") -> ok | W13: =SUM(W14:W17)/2 -> 0 | X13: =SUM(X14:X17)/2 -> 0 | Y13: =IF((I13+J13)=(W13+X13),"ok","검토") -> ok
B14: 보건복지국 | F14: =SUM(F15:F15) -> 0 | G14: =SUM(G15:G15) -> 6158915 | H14: =SUM(H15:H15) -> 0 | I14: =SUM(I15:I15) -> 0 | J14: =SUM(J15:J15) -> 0 | K14: =SUM(K15:K15) -> 6158915 | L14: =SUM(L15:L15) -> -126650 | M14: =SUM(M15:M15) -> 0 | N14: =SUM(N15:N15) -> 6032265 | R14: =SUM(R15:R15) -> -119000 | S14: =SUM(S15:S15) -> -7650 | T14: =IF((L14+M14)=(R14+S14),"ok","검토") -> ok | W14: =SUM(W15:W15) -> 0 | X14: =SUM(X15:X15) -> 0 | Y14: =IF((I14+J14)=(W14+X14),"ok","검토") -> ok
B15: 추가 | C15: 본예산 272 | D15: 장애인복지과 | E15: 장애수당(차상위등)(국비/지원) -장애수당(차상위 등) | G15: 6158915 | H15: =IF(SUMPRODUCT(COUNTIF(C15,{"*본예산*","*신규*"})),"-",F15-G15) -> - | K15: =IF(F15=0,G15+I15+J15,F15+I15+J15) -> 6158915 | L15: -126650 | N15: =IF(F15=0,G15+L15+M15,F15+L15+M15) -> 6032265 | O15: =IF(I15-L15<0,"동의필요","-") -> - | P15: 남양주시 예산부족에 따른 남북부청간 조정(남양주시 사회복지과-26026,2014.9.22) (국비 △119,000, 도비 △7,650) | Q15: 국비 | R15: -119000 | S15: =IF(Q15="도비",SUM(L15:M15),SUM(L15:M15)-R15) -> -7650 | T15: =IF((L15+M15)=(R15+S15),"ok","검토") -> ok | V15: 도비 | W15: =IF(V15<>"도비",SUM(I15:J15),) -> 0 | X15: =IF(V15="도비",SUM(I15:J15),SUM(I15:J15)-W15) -> 0 | Y15: =IF((I15+J15)=(W15+X15),"ok","검토") -> ok
B16: 복지여성실 | F16: =SUM(F17:F17) -> 0 | G16: =SUM(G17:G17) -> 2639535 | H16: =SUM(H17:H17) -> 0 | I16: =SUM(I17:I17) -> 0 | J16: =SUM(J17:J17) -> 0 | K16: =SUM(K17:K17) -> 2639535 | L16: =SUM(L17:L17) -> 0 | M16: =SUM(M17:M17) -> 126650 | N16: =SUM(N17:N17) -> 2766185 | R16: =SUM(R17:R17) -> 119000 | S16: =SUM(S17:S17) -> 7650 | T16: =IF((L16+M16)=(R16+S16),"ok","검토") -> ok | W16: =SUM(W17:W17) -> 0 | X16: =SUM(X17:X17) -> 0 | Y16: =IF((I16+J16)=(W16+X16),"ok","검토") -> ok
B17: 추가 | C17: 본예산780 | D17: 사회복지담당관 | E17: 장애수당(차상위등)(국비/지원) -장애수당(차상위등) | G17: 2639535 | H17: =IF(SUMPRODUCT(COUNTIF(C17,{"*본예산*","*신규*"})),"-",F17-G17) -> - | K17: =IF(F17=0,G17+I17+J17,F17+I17+J17) -> 2639535 | M17: 126650 | N17: =IF(F17=0,G17+L17+M17,F17+L17+M17) -> 2766185 | O17: =IF(I17-L17<0,"동의필요","-") -> - | P17: 남양주시 예산부족에 따른 남북부청간 조정(남양주시 사회복지과-26026,2014.9.22) (국비 119,000, 도비 7,650) | Q17: 국비 | R17: 119000 | S17: =IF(Q17="도비",SUM(L17:M17),SUM(L17:M17)-R17) -> 7650 | T17: =IF((L17+M17)=(R17+S17),"ok","검토") -> ok | V17: 도비 | W17: =IF(V17<>"도비",SUM(I17:J17),) -> 0 | X17: =IF(V17="도비",SUM(I17:J17),SUM(I17:J17)-W17) -> 0 | Y17: =IF((I17+J17)=(W17+X17),"ok","검토") -> ok
A18: 여성가족평생교육위원회 | F18: =SUM(F19:F25)/2 -> 973587 | G18: =SUM(G19:G25)/2 -> 1307765 | H18: =SUM(H19:H25)/2 -> -38412 | I18: =SUM(I19:I25)/2 -> 0 | J18: =SUM(J19:J25)/2 -> 0 | K18: =SUM(K19:K25)/2 -> 1269353 | L18: =SUM(L19:L25)/2 -> 0 | M18: =SUM(M19:M25)/2 -> 86208 | N18: =SUM(N19:N25)/2 -> 1355561 | R18: =SUM(R19:R25)/2 -> 73613 | S18: =SUM(S19:S25)/2 -> 12595 | T18: =IF((L18+M18)=(R18+S18),"ok","검토") -> ok | W18: =SUM(W19:W25)/2 -> 0 | X18: =SUM(X19:X25)/2 -> 0 | Y18: =IF((I18+J18)=(W18+X18),"ok","검토") -> ok
B19: 여성가족국 | F19: =SUM(F20:F22) -> 258746 | G19: =SUM(G20:G22) -> 581333 | H19: =SUM(H20:H22) -> -26821 | I19: =SUM(I20:I22) -> 0 | J19: =SUM(J20:J22) -> 0 | K19: =SUM(K20:K22) -> 554512 | L19: =SUM(L20:L22) -> 0 | M19: =SUM(M20:M22) -> 30371 | N19: =SUM(N20:N22) -> 584883 | R19: =SUM(R20:R22) -> 26263 | S19: =SUM(S20:S22) -> 4108 | T19: =IF((L19+M19)=(R19+S19),"ok","검토") -> ok | W19: =SUM(W20:W22) -> 0 | X19: =SUM(X20:X22) -> 0 | Y19: =IF((I19+J19)=(W19+X19),"ok","검토") -> ok
B20: 1회 | C20: 752 | D20: 여성가족과 | E20: 가정폭력가해자 교정, 치료프로그램운영(기금/지원) - 가정폭력가해자 교정, 치료 프로그램 운영 | F20: 258746 | G20: 285567 | H20: =IF(SUMPRODUCT(COUNTIF(C20,{"*본예산*","*신규*"})),"-",F20-G20) -> -26821 | K20: =IF(F20=0,G20+I20+J20,F20+I20+J20) -> 258746 | M20: 20037 | N20: =IF(F20=0,G20+L20+M20,F20+L20+M20) -> 278783 | O20: =IF(I20-L20<0,"동의필요","-") -> - | P20: 여성가족부 복지지원과-2826(2014.9.25) | Q20: 기금 | R20: 17754 | S20: =IF(Q20="도비",SUM(L20:M20),SUM(L20:M20)-R20) -> 2283 | T20: =IF((L20+M20)=(R20+S20),"ok","검토") -> ok | V20: 국비 | W20: =IF(V20<>"도비",SUM(I20:J20),) -> 0 | X20: =IF(V20="도비",SUM(I20:J20),SUM(I20:J20)-W20) -> 0 | Y20: =IF((I20+J20)=(W20+X20),"ok","검토") -> ok
B21: 추가 | C21: 본예산 351 | D21: 여성가족과 | E21: 성매매피해자 구조지원(국비/지원) - 성매매피해자 구조지원사업 | G21: 170578 | H21: =IF(SUMPRODUCT(COUNTIF(C21,{"*본예산*","*신규*"})),"-",F21-G21) -> - | K21: =IF(F21=0,G21+I21+J21,F21+I21+J21) -> 170578 | M21: 2429 | N21: =IF(F21=0,G21+L21+M21,F21+L21+M21) -> 173007 | O21: =IF(I21-L21<0,"동의필요","-") -> - | P21: 여성가족부 권익지원과-2334(2014.9.24) (국비 2,000, 도비 429) | Q21: 국비 | R21: 2000 | S21: =IF(Q21="도비",SUM(L21:M21),SUM(L21:M21)-R21) -> 429 | T21: =IF((L21+M21)=(R21+S21),"ok","검토") -> ok | V21: 국비 | W21: =IF(V21<>"도비",SUM(I21:J21),) -> 0 | X21: =IF(V21="도비",SUM(I21:J21),SUM(I21:J21)-W21) -> 0 | Y21: =IF((I21+J21)=(W21+X21),"ok","검토") -> ok
B22: 추가 | C22: 본예산 351 | D22: 여성가족과 | E22: 성매매 집결지 현장기능 강화사업 (국비/지원) - 성매매 집결지 현장기능 강화사업 | G22: 125188 | H22: =IF(SUMPRODUCT(COUNTIF(C22,{"*본예산*","*신규*"})),"-",F22-G22) -> - | K22: =IF(F22=0,G22+I22+J22,F22+I22+J22) -> 125188 | M22: 7905 | N22: =IF(F22=0,G22+L22+M22,F22+L22+M22) -> 133093 | O22: =IF(I22-L22<0,"동의필요","-") -> - | P22: 여성가족부 권익지원과-2334(2014.9.24) (국비 6,509, 도비 1,396) | Q22: 기금 | R22: 6509 | S22: =IF(Q22="도비",SUM(L22:M22),SUM(L22:M22)-R22) -> 1396 | T22: =IF((L22+M22)=(R22+S22),"ok","검토") -> ok | V22: 기금 | W22: =IF(V22<>"도비",SUM(I22:J22),) -> 0 | X22: =IF(V22="도비",SUM(I22:J22),SUM(I22:J22)-W22) -> 0 | Y22: =IF((I22+J22)=(W22+X22),"ok","검토") -> ok
B23: 복지여성실 | F23: =SUM(F24:F25) -> 714841 | G23: =SUM(G24:G25) -> 726432 | H23: =SUM(H24:H25) -> -11591 | I23: =SUM(I24:I25) -> 0 | J23: =SUM(J24:J25) -> 0 | K23: =SUM(K24:K25) -> 714841 | L23: =SUM(L24:L25) -> 0 | M23: =SUM(M24:M25) -> 55837 | N23: =SUM(N24:N25) -> 770678 | R23: =SUM(R24:R25) -> 47350 | S23: =SUM(S24:S25) -> 8487 | T23: =IF((L23+M23)=(R23+S23),"ok","검토") -> ok | W23: =SUM(W24:W25) -> 0 | X23: =SUM(X24:X25) -> 0 | Y23: =IF((I23+J23)=(W23+X23),"ok","검토") -> ok
B24: 1회 | C24: 789 | D24: 가족여성담당관 | E24: 가정폭력가해자 교정치료 프로그램 운영(기금/지원) - 가정폭력가해자 교정,치료프로그램 운영 | F24: 104089 | G24: 108032 | H24: =IF(SUMPRODUCT(COUNTIF(C24,{"*본예산*","*신규*"})),"-",F24-G24) -> -3943 | K24: =IF(F24=0,G24+I24+J24,F24+I24+J24) -> 104089 | M24: 21837 | N24: =IF(F24=0,G24+L24+M24,F24+L24+M24) -> 125926 | O24: =IF(I24-L24<0,"동의필요","-") -> - | P24: 여성가족부 복지지원과-2826(2014.9.25) 증액(국비 19,350, 도비 2,487) | Q24: 기금 | R24: 19350 | S24: =IF(Q24="도비",SUM(L24:M24),SUM(L24:M24)-R24) -> 2487 | T24: =IF((L24+M24)=(R24+S24),"ok","검토") -> ok | V24: 국비 | W24: =IF(V24<>"도비",SUM(I24:J24),) -> 0 | X24: =IF(V24="도비",SUM(I24:J24),SUM(I24:J24)-W24) -> 0 | Y24: =IF((I24+J24)=(W24+X24),"ok","검토") -> ok
B25: 1회 | C25: 790 | D25: 가족여성담당관 | E25: 성매매 피해자 지원시설 및 상담소 운영지원(국비/지원) - 성매매피해자 지원시설 및 상담소 운영지원 | F25: 610752 | G25: 618400 | H25: =IF(SUMPRODUCT(COUNTIF(C25,{"*본예산*","*신규*"})),"-",F25-G25) -> -7648 | K25: =IF(F25=0,G25+I25+J25,F25+I25+J25) -> 610752 | M25: 34000 | N25: =IF(F25=0,G25+L25+M25,F25+L25+M25) -> 644752 | O25: =IF(I25-L25<0,"동의필요","-") -> - | P25: 여성가족부 권익지원과-2334(2014.9.24) (국비 28,000, 도비 6,000) | Q25: 국비 | R25: 28000 | S25: =IF(Q25="도비",SUM(L25:M25),SUM(L25:M25)-R25) -> 6000 | T25: =IF((L25+M25)=(R25+S25),"ok","검토") -> ok | V25: 국비 | W25: =IF(V25<>"도비",SUM(I25:J25),) -> 0 | X25: =IF(V25="도비",SUM(I25:J25),SUM(I25:J25)-W25) -> 0 | Y25: =IF((I25+J25)=(W25+X25),"ok","검토") -> ok

Sheet 표지
D2: 2014년도 제1회 일반회계 및 특별회계 추가경정 세입·세출 예산안
A4: 예결위 계수조정 결과
D16: 예산결산특별위원회
