Workbook

Sheet 구분표
A1: 실과명 조정 | B1: 위원회명 조정 | C1: 실국명 조정 | E1: 실국명 | F1: 실과명 | G1: 위원회명 | H1: 정렬순서 | I1: 정렬코드 | K1: 2014재원 | L1: 2015재원 | N1: 본예산 | O1: 2회추경
A2: =IF(COUNT(AND(FIND("북부소방재난본부",$E2),FIND("특수대응단",$F2))),"특수대응단(북부)",IF(COUNT(FIND("작물연구과",$F2)),"작물연구과",IF(COUNT(FIND("원예연구과",$F2)),"원예연구과",IF(COUNT(FIND("환경농업연구과",$F2)),"환경농업연구과",IF(COUNT(FIND("지원기획과",$F2)),"지원기획과",IF(COUNT(FIND("기술보급과",$F2)),"기술보급과",IF(COUNT(FIND("농촌자원과",$F2)),"농촌자원과",IF(COUNT(FIND("종자관리소",$F2)),"종자관리소",IF(COUNT(FIND("버섯연구소",$F2)),"버섯연구소",IF(COUNT(FIND("소득자원연구소",$F2)),"소득자원연구소",IF(COUNT(FIND("선인장다육식물연구소",$F2)),"선인장다육식물연구소",IF(COUNT(FIND("보건연구부",$F2)),"보건연구부",IF(COUNT(FIND("대기연구부",$F2)),"대기연구부",IF(COUNT(FIND("수질연구부",$F2)),"수질연구부",IF(COUNT(FIND("북부지원",$F2)),"북부지원",IF(COUNT(FIND("수원농산물검사소",$F2)),"수원농산물검사소",IF(COUNT(FIND("건설본부(관리과)",$F2)),"관리과",IF(COUNT(FIND("도로건설과",$F2)),"도로건설과",IF(COUNT(FIND("북부도로과",$F2)),"북부도로과",IF(COUNT(FIND("건축시설과",$F2)),"건축시설과",IF(COUNT(FIND("신청사건립추진단",$F2)),"신청사건립추진단",$F2))))))))))))))))))))) -> 의회사무처 | B2: =G2 -> 의회운영위원회 | C2: =IF(COUNT(FIND("경기도건설본부",$E2)),"건설본부",IF(COUNT(FIND("경기도농업기술원",$E2)),"농업기술원",IF(COUNT(FIND("경기도보건환경연구원",$E2)),"보건환경연구원",IF(COUNT(FIND("소방재난본부",$E2)),"재난안전본부",IF(COUNT(FIND("경기도소방학교",$E2)),"재난안전본부",IF(COUNT(FIND("경기도인재개발원",$E2)),"인재개발원",IF(COUNT(FIND("북부소방재난본부",$E2)),"재난안전본부",IF(COUNT(FIND("소방서",$E2)),"재난안전본부",$E2)))))))) -> 의회사무처 | E2: 의회사무처 | F2: 의회사무처 | G2: 의회운영위원회 | H2: 1 | I2: 0101 | K2: 도비 | L2: 도비 | N2: 본예산 | O2: 2회추경
A3: =IF(COUNT(AND(FIND("북부소방재난본부",$E3),FIND("특수대응단",$F3))),"특수대응단(북부)",IF(COUNT(FIND("작물연구과",$F3)),"작물연구과",IF(COUNT(FIND("원예연구과",$F3)),"원예연구과",IF(COUNT(FIND("환경농업연구과",$F3)),"환경농업연구과",IF(COUNT(FIND("지원기획과",$F3)),"지원기획과",IF(COUNT(FIND("기술보급과",$F3)),"기술보급과",IF(COUNT(FIND("농촌자원과",$F3)),"농촌자원과",IF(COUNT(FIND("종자관리소",$F3)),"종자관리소",IF(COUNT(FIND("버섯연구소",$F3)),"버섯연구소",IF(COUNT(FIND("소득자원연구소",$F3)),"소득자원연구소",IF(COUNT(FIND("선인장다육식물연구소",$F3)),"선인장다육식물연구소",IF(COUNT(FIND("보건연구부",$F3)),"보건연구부",IF(COUNT(FIND("대기연구부",$F3)),"대기연구부",IF(COUNT(FIND("수질연구부",$F3)),"수질연구부",IF(COUNT(FIND("북부지원",$F3)),"북부지원",IF(COUNT(FIND("수원농산물검사소",$F3)),"수원농산물검사소",IF(COUNT(FIND("건설본부(관리과)",$F3)),"관리과",IF(COUNT(FIND("도로건설과",$F3)),"도로건설과",IF(COUNT(FIND("북부도로과",$F3)),"북부도로과",IF(COUNT(FIND("건축시설과",$F3)),"건축시설과",IF(COUNT(FIND("신청사건립추진단",$F3)),"신청사건립추진단",$F3))))))))))))))))))))) -> 언론담당관 | B3: =G3 -> 의회운영위원회 | C3: =IF(COUNT(FIND("경기도건설본부",$E3)),"건설본부",IF(COUNT(FIND("경기도농업기술원",$E3)),"농업기술원",IF(COUNT(FIND("경기도보건환경연구원",$E3)),"보건환경연구원",IF(COUNT(FIND("소방재난본부",$E3)),"재난안전본부",IF(COUNT(FIND("경기도소방학교",$E3)),"재난안전본부",IF(COUNT(FIND("경기도인재개발원",$E3)),"인재개발원",IF(COUNT(FIND("북부소방재난본부",$E3)),"재난안전본부",IF(COUNT(FIND("소방서",$E3)),"재난안전본부",$E3)))))))) -> 대변인 | E3: 대변인 | F3: 언론담당관 | G3: 의회운영위원회 | H3: 2 | I3: 0201 | K3: 국비 | L3: 국비 | N3: 신규 | O3: 1회추경
A4: =IF(COUNT(AND(FIND("북부소방재난본부",$E4),FIND("특수대응단",$F4))),"특수대응단(북부)",IF(COUNT(FIND("작물연구과",$F4)),"작물연구과",IF(COUNT(FIND("원예연구과",$F4)),"원예연구과",IF(COUNT(FIND("환경농업연구과",$F4)),"환경농업연구과",IF(COUNT(FIND("지원기획과",$F4)),"지원기획과",IF(COUNT(FIND("기술보급과",$F4)),"기술보급과",IF(COUNT(FIND("농촌자원과",$F4)),"농촌자원과",IF(COUNT(FIND("종자관리소",$F4)),"종자관리소",IF(COUNT(FIND("버섯연구소",$F4)),"버섯연구소",IF(COUNT(FIND("소득자원연구소",$F4)),"소득자원연구소",IF(COUNT(FIND("선인장다육식물연구소",$F4)),"선인장다육식물연구소",IF(COUNT(FIND("보건연구부",$F4)),"보건연구부",IF(COUNT(FIND("대기연구부",$F4)),"대기연구부",IF(COUNT(FIND("수질연구부",$F4)),"수질연구부",IF(COUNT(FIND("북부지원",$F4)),"북부지원",IF(COUNT(FIND("수원농산물검사소",$F4)),"수원농산물검사소",IF(COUNT(FIND("건설본부(관리과)",$F4)),"관리과",IF(COUNT(FIND("도로건설과",$F4)),"도로건설과",IF(COUNT(FIND("북부도로과",$F4)),"북부도로과",IF(COUNT(FIND("건축시설과",$F4)),"건축시설과",IF(COUNT(FIND("신청사건립추진단",$F4)),"신청사건립추진단",$F4))))))))))))))))))))) -> 홍보담당관 | B4: =G4 -> 의회운영위원회 | C4: =IF(COUNT(FIND("경기도건설본부",$E4)),"건설본부",IF(COUNT(FIND("경기도농업기술원",$E4)),"농업기술원",IF(COUNT(FIND("경기도보건환경연구원",$E4)),"보건환경연구원",IF(COUNT(FIND("소방재난본부",$E4)),"재난안전본부",IF(COUNT(FIND("경기도소방학교",$E4)),"재난안전본부",IF(COUNT(FIND("경기도인재개발원",$E4)),"인재개발원",IF(COUNT(FIND("북부소방재난본부",$E4)),"재난안전본부",IF(COUNT(FIND("소방서",$E4)),"재난안전본부",$E4)))))))) -> 대변인 | E4: 대변인 | F4: 홍보담당관 | G4: 의회운영위원회 | H4: 3 | I4: 0202 | K4: 광특 | L4: 지특 | O4: 본예산
A5: =IF(COUNT(AND(FIND("북부소방재난본부",$E5),FIND("특수대응단",$F5))),"특수대응단(북부)",IF(COUNT(FIND("작물연구과",$F5)),"작물연구과",IF(COUNT(FIND("원예연구과",$F5)),"원예연구과",IF(COUNT(FIND("환경농업연구과",$F5)),"환경농업연구과",IF(COUNT(FIND("지원기획과",$F5)),"지원기획과",IF(COUNT(FIND("기술보급과",$F5)),"기술보급과",IF(COUNT(FIND("농촌자원과",$F5)),"농촌자원과",IF(COUNT(FIND("종자관리소",$F5)),"종자관리소",IF(COUNT(FIND("버섯연구소",$F5)),"버섯연구소",IF(COUNT(FIND("소득자원연구소",$F5)),"소득자원연구소",IF(COUNT(FIND("선인장다육식물연구소",$F5)),"선인장다육식물연구소",IF(COUNT(FIND("보건연구부",$F5)),"보건연구부",IF(COUNT(FIND("대기연구부",$F5)),"대기연구부",IF(COUNT(FIND("수질연구부",$F5)),"수질연구부",IF(COUNT(FIND("북부지원",$F5)),"북부지원",IF(COUNT(FIND("수원농산물검사소",$F5)),"수원농산물검사소",IF(COUNT(FIND("건설본부(관리과)",$F5)),"관리과",IF(COUNT(FIND("도로건설과",$F5)),"도로건설과",IF(COUNT(FIND("북부도로과",$F5)),"북부도로과",IF(COUNT(FIND("건축시설과",$F5)),"건축시설과",IF(COUNT(FIND("신청사건립추진단",$F5)),"신청사건립추진단",$F5))))))))))))))))))))) -> 소통담당관 | B5: =G5 -> 의회운영위원회 | C5: =IF(COUNT(FIND("경기도건설본부",$E5)),"건설본부",IF(COUNT(FIND("경기도농업기술원",$E5)),"농업기술원",IF(COUNT(FIND("경기도보건환경연구원",$E5)),"보건환경연구원",IF(COUNT(FIND("소방재난본부",$E5)),"재난안전본부",IF(COUNT(FIND("경기도소방학교",$E5)),"재난안전본부",IF(COUNT(FIND("경기도인재개발원",$E5)),"인재개발원",IF(COUNT(FIND("북부소방재난본부",$E5)),"재난안전본부",IF(COUNT(FIND("소방서",$E5)),"재난안전본부",$E5)))))))) -> 대변인 | E5: 대변인 | F5: 소통담당관 | G5: 의회운영위원회 | H5: 4 | I5: 0203 | K5: 기금 | L5: 기금 | O5: 신규
A6: =IF(COUNT(AND(FIND("북부소방재난본부",$E6),FIND("특수대응단",$F6))),"특수대응단(북부)",IF(COUNT(FIND("작물연구과",$F6)),"작물연구과",IF(COUNT(FIND("원예연구과",$F6)),"원예연구과",IF(COUNT(FIND("환경농업연구과",$F6)),"환경농업연구과",IF(COUNT(FIND("지원기획과",$F6)),"지원기획과",IF(COUNT(FIND("기술보급과",$F6)),"기술보급과",IF(COUNT(FIND("농촌자원과",$F6)),"농촌자원과",IF(COUNT(FIND("종자관리소",$F6)),"종자관리소",IF(COUNT(FIND("버섯연구소",$F6)),"버섯연구소",IF(COUNT(FIND("소득자원연구소",$F6)),"소득자원연구소",IF(COUNT(FIND("선인장다육식물연구소",$F6)),"선인장다육식물연구소",IF(COUNT(FIND("보건연구부",$F6)),"보건연구부",IF(COUNT(FIND("대기연구부",$F6)),"대기연구부",IF(COUNT(FIND("수질연구부",$F6)),"수질연구부",IF(COUNT(FIND("북부지원",$F6)),"북부지원",IF(COUNT(FIND("수원농산물검사소",$F6)),"수원농산물검사소",IF(COUNT(FIND("건설본부(관리과)",$F6)),"관리과",IF(COUNT(FIND("도로건설과",$F6)),"도로건설과",IF(COUNT(FIND("북부도로과",$F6)),"북부도로과",IF(COUNT(FIND("건축시설과",$F6)),"건축시설과",IF(COUNT(FIND("신청사건립추진단",$F6)),"신청사건립추진단",$F6))))))))))))))))))))) -> 대외협력담당관 | B6: =G6 -> 의회운영위원회 | C6: =IF(COUNT(FIND("경기도건설본부",$E6)),"건설본부",IF(COUNT(FIND("경기도농업기술원",$E6)),"농업기술원",IF(COUNT(FIND("경기도보건환경연구원",$E6)),"보건환경연구원",IF(COUNT(FIND("소방재난본부",$E6)),"재난안전본부",IF(COUNT(FIND("경기도소방학교",$E6)),"재난안전본부",IF(COUNT(FIND("경기도인재개발원",$E6)),"인재개발원",IF(COUNT(FIND("북부소방재난본부",$E6)),"재난안전본부",IF(COUNT(FIND("소방서",$E6)),"재난안전본부",$E6)))))))) -> 대외협력담당관 | E6: 대외협력담당관 | F6: 대외협력담당관 | G6: 의회운영위원회 | H6: 5 | I6: 0301 | K6: 분권 | L6: 특교
A7: =IF(COUNT(AND(FIND("북부소방재난본부",$E7),FIND("특수대응단",$F7))),"특수대응단(북부)",IF(COUNT(FIND("작물연구과",$F7)),"작물연구과",IF(COUNT(FIND("원예연구과",$F7)),"원예연구과",IF(COUNT(FIND("환경농업연구과",$F7)),"환경농업연구과",IF(COUNT(FIND("지원기획과",$F7)),"지원기획과",IF(COUNT(FIND("기술보급과",$F7)),"기술보급과",IF(COUNT(FIND("농촌자원과",$F7)),"농촌자원과",IF(COUNT(FIND("종자관리소",$F7)),"종자관리소",IF(COUNT(FIND("버섯연구소",$F7)),"버섯연구소",IF(COUNT(FIND("소득자원연구소",$F7)),"소득자원연구소",IF(COUNT(FIND("선인장다육식물연구소",$F7)),"선인장다육식물연구소",IF(COUNT(FIND("보건연구부",$F7)),"보건연구부",IF(COUNT(FIND("대기연구부",$F7)),"대기연구부",IF(COUNT(FIND("수질연구부",$F7)),"수질연구부",IF(COUNT(FIND("북부지원",$F7)),"북부지원",IF(COUNT(FIND("수원농산물검사소",$F7)),"수원농산물검사소",IF(COUNT(FIND("건설본부(관리과)",$F7)),"관리과",IF(COUNT(FIND("도로건설과",$F7)),"도로건설과",IF(COUNT(FIND("북부도로과",$F7)),"북부도로과",IF(COUNT(FIND("건축시설과",$F7)),"건축시설과",IF(COUNT(FIND("신청사건립추진단",$F7)),"신청사건립추진단",$F7))))))))))))))))))))) -> 서울사무소 | B7: =G7 -> 의회운영위원회 | C7: =IF(COUNT(FIND("경기도건설본부",$E7)),"건설본부",IF(COUNT(FIND("경기도농업기술원",$E7)),"농업기술원",IF(COUNT(FIND("경기도보건환경연구원",$E7)),"보건환경연구원",IF(COUNT(FIND("소방재난본부",$E7)),"재난안전본부",IF(COUNT(FIND("경기도소방학교",$E7)),"재난안전본부",IF(COUNT(FIND("경기도인재개발원",$E7)),"인재개발원",IF(COUNT(FIND("북부소방재난본부",$E7)),"재난안전본부",IF(COUNT(FIND("소방서",$E7)),"재난안전본부",$E7)))))))) -> 대외협력담당관 | E7: 대외협력담당관 | F7: 서울사무소 | G7: 의회운영위원회 | H7: 6 | I7: 0302 | K7: 특교
A8: =IF(COUNT(AND(FIND("북부소방재난본부",$E8),FIND("특수대응단",$F8))),"특수대응단(북부)",IF(COUNT(FIND("작물연구과",$F8)),"작물연구과",IF(COUNT(FIND("원예연구과",$F8)),"원예연구과",IF(COUNT(FIND("환경농업연구과",$F8)),"환경농업연구과",IF(COUNT(FIND("지원기획과",$F8)),"지원기획과",IF(COUNT(FIND("기술보급과",$F8)),"기술보급과",IF(COUNT(FIND("농촌자원과",$F8)),"농촌자원과",IF(COUNT(FIND("종자관리소",$F8)),"종자관리소",IF(COUNT(FIND("버섯연구소",$F8)),"버섯연구소",IF(COUNT(FIND("소득자원연구소",$F8)),"소득자원연구소",IF(COUNT(FIND("선인장다육식물연구소",$F8)),"선인장다육식물연구소",IF(COUNT(FIND("보건연구부",$F8)),"보건연구부",IF(COUNT(FIND("대기연구부",$F8)),"대기연구부",IF(COUNT(FIND("수질연구부",$F8)),"수질연구부",IF(COUNT(FIND("북부지원",$F8)),"북부지원",IF(COUNT(FIND("수원농산물검사소",$F8)),"수원농산물검사소",IF(COUNT(FIND("건설본부(관리과)",$F8)),"관리과",IF(COUNT(FIND("도로건설과",$F8)),"도로건설과",IF(COUNT(FIND("북부도로과",$F8)),"북부도로과",IF(COUNT(FIND("건축시설과",$F8)),"건축시설과",IF(COUNT(FIND("신청사건립추진단",$F8)),"신청사건립추진단",$F8))))))))))))))))))))) -> 감사총괄담당관 | B8: =G8 -> 기획재정위원회 | C8: =IF(COUNT(FIND("경기도건설본부",$E8)),"건설본부",IF(COUNT(FIND("경기도농업기술원",$E8)),"농업기술원",IF(COUNT(FIND("경기도보건환경연구원",$E8)),"보건환경연구원",IF(COUNT(FIND("소방재난본부",$E8)),"재난안전본부",IF(COUNT(FIND("경기도소방학교",$E8)),"재난안전본부",IF(COUNT(FIND("경기도인재개발원",$E8)),"인재개발원",IF(COUNT(FIND("북부소방재난본부",$E8)),"재난안전본부",IF(COUNT(FIND("소방서",$E8)),"재난안전본부",$E8)))))))) -> 감사관 | E8: 감사관 | F8: 감사총괄담당관 | G8: 기획재정위원회 | H8: 7 | I8: 0401
A9: =IF(COUNT(AND(FIND("북부소방재난본부",$E9),FIND("특수대응단",$F9))),"특수대응단(북부)",IF(COUNT(FIND("작물연구과",$F9)),"작물연구과",IF(COUNT(FIND("원예연구과",$F9)),"원예연구과",IF(COUNT(FIND("환경농업연구과",$F9)),"환경농업연구과",IF(COUNT(FIND("지원기획과",$F9)),"지원기획과",IF(COUNT(FIND("기술보급과",$F9)),"기술보급과",IF(COUNT(FIND("농촌자원과",$F9)),"농촌자원과",IF(COUNT(FIND("종자관리소",$F9)),"종자관리소",IF(COUNT(FIND("버섯연구소",$F9)),"버섯연구소",IF(COUNT(FIND("소득자원연구소",$F9)),"소득자원연구소",IF(COUNT(FIND("선인장다육식물연구소",$F9)),"선인장다육식물연구소",IF(COUNT(FIND("보건연구부",$F9)),"보건연구부",IF(COUNT(FIND("대기연구부",$F9)),"대기연구부",IF(COUNT(FIND("수질연구부",$F9)),"수질연구부",IF(COUNT(FIND("북부지원",$F9)),"북부지원",IF(COUNT(FIND("수원농산물검사소",$F9)),"수원농산물검사소",IF(COUNT(FIND("건설본부(관리과)",$F9)),"관리과",IF(COUNT(FIND("도로건설과",$F9)),"도로건설과",IF(COUNT(FIND("북부도로과",$F9)),"북부도로과",IF(COUNT(FIND("건축시설과",$F9)),"건축시설과",IF(COUNT(FIND("신청사건립추진단",$F9)),"신청사건립추진단",$F9))))))))))))))))))))) -> 조사담당관 | B9: =G9 -> 기획재정위원회 | C9: =IF(COUNT(FIND("경기도건설본부",$E9)),"건설본부",IF(COUNT(FIND("경기도농업기술원",$E9)),"농업기술원",IF(COUNT(FIND("경기도보건환경연구원",$E9)),"보건환경연구원",IF(COUNT(FIND("소방재난본부",$E9)),"재난안전본부",IF(COUNT(FIND("경기도소방학교",$E9)),"재난안전본부",IF(COUNT(FIND("경기도인재개발원",$E9)),"인재개발원",IF(COUNT(FIND("북부소방재난본부",$E9)),"재난안전본부",IF(COUNT(FIND("소방서",$E9)),"재난안전본부",$E9)))))))) -> 감사관 | E9: 감사관 | F9: 조사담당관 | G9: 기획재정위원회 | H9: 8 | I9: 0402
A10: =IF(COUNT(AND(FIND("북부소방재난본부",$E10),FIND("특수대응단",$F10))),"특수대응단(북부)",IF(COUNT(FIND("작물연구과",$F10)),"작물연구과",IF(COUNT(FIND("원예연구과",$F10)),"원예연구과",IF(COUNT(FIND("환경농업연구과",$F10)),"환경농업연구과",IF(COUNT(FIND("지원기획과",$F10)),"지원기획과",IF(COUNT(FIND("기술보급과",$F10)),"기술보급과",IF(COUNT(FIND("농촌자원과",$F10)),"농촌자원과",IF(COUNT(FIND("종자관리소",$F10)),"종자관리소",IF(COUNT(FIND("버섯연구소",$F10)),"버섯연구소",IF(COUNT(FIND("소득자원연구소",$F10)),"소득자원연구소",IF(COUNT(FIND("선인장다육식물연구소",$F10)),"선인장다육식물연구소",IF(COUNT(FIND("보건연구부",$F10)),"보건연구부",IF(COUNT(FIND("대기연구부",$F10)),"대기연구부",IF(COUNT(FIND("수질연구부",$F10)),"수질연구부",IF(COUNT(FIND("북부지원",$F10)),"북부지원",IF(COUNT(FIND("수원농산물검사소",$F10)),"수원농산물검사소",IF(COUNT(FIND("건설본부(관리과)",$F10)),"관리과",IF(COUNT(FIND("도로건설과",$F10)),"도로건설과",IF(COUNT(FIND("북부도로과",$F10)),"북부도로과",IF(COUNT(FIND("건축시설과",$F10)),"건축시설과",IF(COUNT(FIND("신청사건립추진단",$F10)),"신청사건립추진단",$F10))))))))))))))))))))) -> 감사담당관 | B10: =G10 -> 기획재정위원회 | C10: =IF(COUNT(FIND("경기도건설본부",$E10)),"건설본부",IF(COUNT(FIND("경기도농업기술원",$E10)),"농업기술원",IF(COUNT(FIND("경기도보건환경연구원",$E10)),"보건환경연구원",IF(COUNT(FIND("소방재난본부",$E10)),"재난안전본부",IF(COUNT(FIND("경기도소방학교",$E10)),"재난안전본부",IF(COUNT(FIND("경기도인재개발원",$E10)),"인재개발원",IF(COUNT(FIND("북부소방재난본부",$E10)),"재난안전본부",IF(COUNT(FIND("소방서",$E10)),"재난안전본부",$E10)))))))) -> 감사관 | E10: 감사관 | F10: 감사담당관 | G10: 기획재정위원회 | H10: 9 | I10: 0403
A11: =IF(COUNT(AND(FIND("북부소방재난본부",$E11),FIND("특수대응단",$F11))),"특수대응단(북부)",IF(COUNT(FIND("작물연구과",$F11)),"작물연구과",IF(COUNT(FIND("원예연구과",$F11)),"원예연구과",IF(COUNT(FIND("환경농업연구과",$F11)),"환경농업연구과",IF(COUNT(FIND("지원기획과",$F11)),"지원기획과",IF(COUNT(FIND("기술보급과",$F11)),"기술보급과",IF(COUNT(FIND("농촌자원과",$F11)),"농촌자원과",IF(COUNT(FIND("종자관리소",$F11)),"종자관리소",IF(COUNT(FIND("버섯연구소",$F11)),"버섯연구소",IF(COUNT(FIND("소득자원연구소",$F11)),"소득자원연구소",IF(COUNT(FIND("선인장다육식물연구소",$F11)),"선인장다육식물연구소",IF(COUNT(FIND("보건연구부",$F11)),"보건연구부",IF(COUNT(FIND("대기연구부",$F11)),"대기연구부",IF(COUNT(FIND("수질연구부",$F11)),"수질연구부",IF(COUNT(FIND("북부지원",$F11)),"북부지원",IF(COUNT(FIND("수원농산물검사소",$F11)),"수원농산물검사소",IF(COUNT(FIND("건설본부(관리과)",$F11)),"관리과",IF(COUNT(FIND("도로건설과",$F11)),"도로건설과",IF(COUNT(FIND("북부도로과",$F11)),"북부도로과",IF(COUNT(FIND("건축시설과",$F11)),"건축시설과",IF(COUNT(FIND("신청사건립추진단",$F11)),"신청사건립추진단",$F11))))))))))))))))))))) -> 계약심사담당관 | B11: =G11 -> 기획재정위원회 | C11: =IF(COUNT(FIND("경기도건설본부",$E11)),"건설본부",IF(COUNT(FIND("경기도농업기술원",$E11)),"농업기술원",IF(COUNT(FIND("경기도보건환경연구원",$E11)),"보건환경연구원",IF(COUNT(FIND("소방재난본부",$E11)),"재난안전본부",IF(COUNT(FIND("경기도소방학교",$E11)),"재난안전본부",IF(COUNT(FIND("경기도인재개발원",$E11)),"인재개발원",IF(COUNT(FIND("북부소방재난본부",$E11)),"재난안전본부",IF(COUNT(FIND("소방서",$E11)),"재난안전본부",$E11)))))))) -> 감사관 | E11: 감사관 | F11: 계약심사담당관 | G11: 기획재정위원회 | H11: 10 | I11: 0404
A12: =IF(COUNT(AND(FIND("북부소방재난본부",$E12),FIND("특수대응단",$F12))),"특수대응단(북부)",IF(COUNT(FIND("작물연구과",$F12)),"작물연구과",IF(COUNT(FIND("원예연구과",$F12)),"원예연구과",IF(COUNT(FIND("환경농업연구과",$F12)),"환경농업연구과",IF(COUNT(FIND("지원기획과",$F12)),"지원기획과",IF(COUNT(FIND("기술보급과",$F12)),"기술보급과",IF(COUNT(FIND("농촌자원과",$F12)),"농촌자원과",IF(COUNT(FIND("종자관리소",$F12)),"종자관리소",IF(COUNT(FIND("버섯연구소",$F12)),"버섯연구소",IF(COUNT(FIND("소득자원연구소",$F12)),"소득자원연구소",IF(COUNT(FIND("선인장다육식물연구소",$F12)),"선인장다육식물연구소",IF(COUNT(FIND("보건연구부",$F12)),"보건연구부",IF(COUNT(FIND("대기연구부",$F12)),"대기연구부",IF(COUNT(FIND("수질연구부",$F12)),"수질연구부",IF(COUNT(FIND("북부지원",$F12)),"북부지원",IF(COUNT(FIND("수원농산물검사소",$F12)),"수원농산물검사소",IF(COUNT(FIND("건설본부(관리과)",$F12)),"관리과",IF(COUNT(FIND("도로건설과",$F12)),"도로건설과",IF(COUNT(FIND("북부도로과",$F12)),"북부도로과",IF(COUNT(FIND("건축시설과",$F12)),"건축시설과",IF(COUNT(FIND("신청사건립추진단",$F12)),"신청사건립추진단",$F12))))))))))))))))))))) -> 기획담당관 | B12: =G12 -> 기획재정위원회 | C12: =IF(COUNT(FIND("경기도건설본부",$E12)),"건설본부",IF(COUNT(FIND("경기도농업기술원",$E12)),"농업기술원",IF(COUNT(FIND("경기도보건환경연구원",$E12)),"보건환경연구원",IF(COUNT(FIND("소방재난본부",$E12)),"재난안전본부",IF(COUNT(FIND("경기도소방학교",$E12)),"재난안전본부",IF(COUNT(FIND("경기도인재개발원",$E12)),"인재개발원",IF(COUNT(FIND("북부소방재난본부",$E12)),"재난안전본부",IF(COUNT(FIND("소방서",$E12)),"재난안전본부",$E12)))))))) -> 기획조정실 | E12: 기획조정실 | F12: 기획담당관 | G12: 기획재정위원회 | H12: 11 | I12: 0501
A13: =IF(COUNT(AND(FIND("북부소방재난본부",$E13),FIND("특수대응단",$F13))),"특수대응단(북부)",IF(COUNT(FIND("작물연구과",$F13)),"작물연구과",IF(COUNT(FIND("원예연구과",$F13)),"원예연구과",IF(COUNT(FIND("환경농업연구과",$F13)),"환경농업연구과",IF(COUNT(FIND("지원기획과",$F13)),"지원기획과",IF(COUNT(FIND("기술보급과",$F13)),"기술보급과",IF(COUNT(FIND("농촌자원과",$F13)),"농촌자원과",IF(COUNT(FIND("종자관리소",$F13)),"종자관리소",IF(COUNT(FIND("버섯연구소",$F13)),"버섯연구소",IF(COUNT(FIND("소득자원연구소",$F13)),"소득자원연구소",IF(COUNT(FIND("선인장다육식물연구소",$F13)),"선인장다육식물연구소",IF(COUNT(FIND("보건연구부",$F13)),"보건연구부",IF(COUNT(FIND("대기연구부",$F13)),"대기연구부",IF(COUNT(FIND("수질연구부",$F13)),"수질연구부",IF(COUNT(FIND("북부지원",$F13)),"북부지원",IF(COUNT(FIND("수원농산물검사소",$F13)),"수원농산물검사소",IF(COUNT(FIND("건설본부(관리과)",$F13)),"관리과",IF(COUNT(FIND("도로건설과",$F13)),"도로건설과",IF(COUNT(FIND("북부도로과",$F13)),"북부도로과",IF(COUNT(FIND("건축시설과",$F13)),"건축시설과",IF(COUNT(FIND("신청사건립추진단",$F13)),"신청사건립추진단",$F13))))))))))))))))))))) -> 미래전략담당관 | B13: =G13 -> 기획재정위원회 | C13: =IF(COUNT(FIND("경기도건설본부",$E13)),"건설본부",IF(COUNT(FIND("경기도농업기술원",$E13)),"농업기술원",IF(COUNT(FIND("경기도보건환경연구원",$E13)),"보건환경연구원",IF(COUNT(FIND("소방재난본부",$E13)),"재난안전본부",IF(COUNT(FIND("경기도소방학교",$E13)),"재난안전본부",IF(COUNT(FIND("경기도인재개발원",$E13)),"인재개발원",IF(COUNT(FIND("북부소방재난본부",$E13)),"재난안전본부",IF(COUNT(FIND("소방서",$E13)),"재난안전본부",$E13)))))))) -> 기획조정실 | E13: 기획조정실 | F13: 미래전략담당관 | G13: 기획재정위원회 | H13: 12 | I13: 0502
A14: =IF(COUNT(AND(FIND("북부소방재난본부",$E14),FIND("특수대응단",$F14))),"특수대응단(북부)",IF(COUNT(FIND("작물연구과",$F14)),"작물연구과",IF(COUNT(FIND("원예연구과",$F14)),"원예연구과",IF(COUNT(FIND("환경농업연구과",$F14)),"환경농업연구과",IF(COUNT(FIND("지원기획과",$F14)),"지원기획과",IF(COUNT(FIND("기술보급과",$F14)),"기술보급과",IF(COUNT(FIND("농촌자원과",$F14)),"농촌자원과",IF(COUNT(FIND("종자관리소",$F14)),"종자관리소",IF(COUNT(FIND("버섯연구소",$F14)),"버섯연구소",IF(COUNT(FIND("소득자원연구소",$F14)),"소득자원연구소",IF(COUNT(FIND("선인장다육식물연구소",$F14)),"선인장다육식물연구소",IF(COUNT(FIND("보건연구부",$F14)),"보건연구부",IF(COUNT(FIND("대기연구부",$F14)),"대기연구부",IF(COUNT(FIND("수질연구부",$F14)),"수질연구부",IF(COUNT(FIND("북부지원",$F14)),"북부지원",IF(COUNT(FIND("수원농산물검사소",$F14)),"수원농산물검사소",IF(COUNT(FIND("건설본부(관리과)",$F14)),"관리과",IF(COUNT(FIND("도로건설과",$F14)),"도로건설과",IF(COUNT(FIND("북부도로과",$F14)),"북부도로과",IF(COUNT(FIND("건축시설과",$F14)),"건축시설과",IF(COUNT(FIND("신청사건립추진단",$F14)),"신청사건립추진단",$F14))))))))))))))))))))) -> 예산담당관 | B14: =G14 -> 기획재정위원회 | C14: =IF(COUNT(FIND("경기도건설본부",$E14)),"건설본부",IF(COUNT(FIND("경기도농업기술원",$E14)),"농업기술원",IF(COUNT(FIND("경기도보건환경연구원",$E14)),"보건환경연구원",IF(COUNT(FIND("소방재난본부",$E14)),"재난안전본부",IF(COUNT(FIND("경기도소방학교",$E14)),"재난안전본부",IF(COUNT(FIND("경기도인재개발원",$E14)),"인재개발원",IF(COUNT(FIND("북부소방재난본부",$E14)),"재난안전본부",IF(COUNT(FIND("소방서",$E14)),"재난안전본부",$E14)))))))) -> 기획조정실 | E14: 기획조정실 | F14: 예산담당관 | G14: 기획재정위원회 | H14: 13 | I14: 0503
A15: =IF(COUNT(AND(FIND("북부소방재난본부",$E15),FIND("특수대응단",$F15))),"특수대응단(북부)",IF(COUNT(FIND("작물연구과",$F15)),"작물연구과",IF(COUNT(FIND("원예연구과",$F15)),"원예연구과",IF(COUNT(FIND("환경농업연구과",$F15)),"환경농업연구과",IF(COUNT(FIND("지원기획과",$F15)),"지원기획과",IF(COUNT(FIND("기술보급과",$F15)),"기술보급과",IF(COUNT(FIND("농촌자원과",$F15)),"농촌자원과",IF(COUNT(FIND("종자관리소",$F15)),"종자관리소",IF(COUNT(FIND("버섯연구소",$F15)),"버섯연구소",IF(COUNT(FIND("소득자원연구소",$F15)),"소득자원연구소",IF(COUNT(FIND("선인장다육식물연구소",$F15)),"선인장다육식물연구소",IF(COUNT(FIND("보건연구부",$F15)),"보건연구부",IF(COUNT(FIND("대기연구부",$F15)),"대기연구부",IF(COUNT(FIND("수질연구부",$F15)),"수질연구부",IF(COUNT(FIND("북부지원",$F15)),"북부지원",IF(COUNT(FIND("수원농산물검사소",$F15)),"수원농산물검사소",IF(COUNT(FIND("건설본부(관리과)",$F15)),"관리과",IF(COUNT(FIND("도로건설과",$F15)),"도로건설과",IF(COUNT(FIND("북부도로과",$F15)),"북부도로과",IF(COUNT(FIND("건축시설과",$F15)),"건축시설과",IF(COUNT(FIND("신청사건립추진단",$F15)),"신청사건립추진단",$F15))))))))))))))))))))) -> 평가담당관 | B15: =G15 -> 기획재정위원회 | C15: =IF(COUNT(FIND("경기도건설본부",$E15)),"건설본부",IF(COUNT(FIND("경기도농업기술원",$E15)),"농업기술원",IF(COUNT(FIND("경기도보건환경연구원",$E15)),"보건환경연구원",IF(COUNT(FIND("소방재난본부",$E15)),"재난안전본부",IF(COUNT(FIND("경기도소방학교",$E15)),"재난안전본부",IF(COUNT(FIND("경기도인재개발원",$E15)),"인재개발원",IF(COUNT(FIND("북부소방재난본부",$E15)),"재난안전본부",IF(COUNT(FIND("소방서",$E15)),"재난안전본부",$E15)))))))) -> 기획조정실 | E15: 기획조정실 | F15: 평가담당관 | G15: 기획재정위원회 | H15: 14 | I15: 0504
A16: =IF(COUNT(AND(FIND("북부소방재난본부",$E16),FIND("특수대응단",$F16))),"특수대응단(북부)",IF(COUNT(FIND("작물연구과",$F16)),"작물연구과",IF(COUNT(FIND("원예연구과",$F16)),"원예연구과",IF(COUNT(FIND("환경농업연구과",$F16)),"환경농업연구과",IF(COUNT(FIND("지원기획과",$F16)),"지원기획과",IF(COUNT(FIND("기술보급과",$F16)),"기술보급과",IF(COUNT(FIND("농촌자원과",$F16)),"농촌자원과",IF(COUNT(FIND("종자관리소",$F16)),"종자관리소",IF(COUNT(FIND("버섯연구소",$F16)),"버섯연구소",IF(COUNT(FIND("소득자원연구소",$F16)),"소득자원연구소",IF(COUNT(FIND("선인장다육식물연구소",$F16)),"선인장다육식물연구소",IF(COUNT(FIND("보건연구부",$F16)),"보건연구부",IF(COUNT(FIND("대기연구부",$F16)),"대기연구부",IF(COUNT(FIND("수질연구부",$F16)),"수질연구부",IF(COUNT(FIND("북부지원",$F16)),"북부지원",IF(COUNT(FIND("수원농산물검사소",$F16)),"수원농산물검사소",IF(COUNT(FIND("건설본부(관리과)",$F16)),"관리과",IF(COUNT(FIND("도로건설과",$F16)),"도로건설과",IF(COUNT(FIND("북부도로과",$F16)),"북부도로과",IF(COUNT(FIND("건축시설과",$F16)),"건축시설과",IF(COUNT(FIND("신청사건립추진단",$F16)),"신청사건립추진단",$F16))))))))))))))))))))) -> 법무담당관 | B16: =G16 -> 기획재정위원회 | C16: =IF(COUNT(FIND("경기도건설본부",$E16)),"건설본부",IF(COUNT(FIND("경기도농업기술원",$E16)),"농업기술원",IF(COUNT(FIND("경기도보건환경연구원",$E16)),"보건환경연구원",IF(COUNT(FIND("소방재난본부",$E16)),"재난안전본부",IF(COUNT(FIND("경기도소방학교",$E16)),"재난안전본부",IF(COUNT(FIND("경기도인재개발원",$E16)),"인재개발원",IF(COUNT(FIND("북부소방재난본부",$E16)),"재난안전본부",IF(COUNT(FIND("소방서",$E16)),"재난안전본부",$E16)))))))) -> 기획조정실 | E16: 기획조정실 | F16: 법무담당관 | G16: 기획재정위원회 | H16: 15 | I16: 0505
A17: =IF(COUNT(AND(FIND("북부소방재난본부",$E17),FIND("특수대응단",$F17))),"특수대응단(북부)",IF(COUNT(FIND("작물연구과",$F17)),"작물연구과",IF(COUNT(FIND("원예연구과",$F17)),"원예연구과",IF(COUNT(FIND("환경농업연구과",$F17)),"환경농업연구과",IF(COUNT(FIND("지원기획과",$F17)),"지원기획과",IF(COUNT(FIND("기술보급과",$F17)),"기술보급과",IF(COUNT(FIND("농촌자원과",$F17)),"농촌자원과",IF(COUNT(FIND("종자관리소",$F17)),"종자관리소",IF(COUNT(FIND("버섯연구소",$F17)),"버섯연구소",IF(COUNT(FIND("소득자원연구소",$F17)),"소득자원연구소",IF(COUNT(FIND("선인장다육식물연구소",$F17)),"선인장다육식물연구소",IF(COUNT(FIND("보건연구부",$F17)),"보건연구부",IF(COUNT(FIND("대기연구부",$F17)),"대기연구부",IF(COUNT(FIND("수질연구부",$F17)),"수질연구부",IF(COUNT(FIND("북부지원",$F17)),"북부지원",IF(COUNT(FIND("수원농산물검사소",$F17)),"수원농산물검사소",IF(COUNT(FIND("건설본부(관리과)",$F17)),"관리과",IF(COUNT(FIND("도로건설과",$F17)),"도로건설과",IF(COUNT(FIND("북부도로과",$F17)),"북부도로과",IF(COUNT(FIND("건축시설과",$F17)),"건축시설과",IF(COUNT(FIND("신청사건립추진단",$F17)),"신청사건립추진단",$F17))))))))))))))))))))) -> 규제개혁추진단 | B17: =G17 -> 기획재정위원회 | C17: =IF(COUNT(FIND("경기도건설본부",$E17)),"건설본부",IF(COUNT(FIND("경기도농업기술원",$E17)),"농업기술원",IF(COUNT(FIND("경기도보건환경연구원",$E17)),"보건환경연구원",IF(COUNT(FIND("소방재난본부",$E17)),"재난안전본부",IF(COUNT(FIND("경기도소방학교",$E17)),"재난안전본부",IF(COUNT(FIND("경기도인재개발원",$E17)),"인재개발원",IF(COUNT(FIND("북부소방재난본부",$E17)),"재난안전본부",IF(COUNT(FIND("소방서",$E17)),"재난안전본부",$E17)))))))) -> 기획조정실 | E17: 기획조정실 | F17: 규제개혁추진단 | G17: 기획재정위원회 | H17: 16 | I17: 0506
A18: =IF(COUNT(AND(FIND("북부소방재난본부",$E18),FIND("특수대응단",$F18))),"특수대응단(북부)",IF(COUNT(FIND("작물연구과",$F18)),"작물연구과",IF(COUNT(FIND("원예연구과",$F18)),"원예연구과",IF(COUNT(FIND("환경농업연구과",$F18)),"환경농업연구과",IF(COUNT(FIND("지원기획과",$F18)),"지원기획과",IF(COUNT(FIND("기술보급과",$F18)),"기술보급과",IF(COUNT(FIND("농촌자원과",$F18)),"농촌자원과",IF(COUNT(FIND("종자관리소",$F18)),"종자관리소",IF(COUNT(FIND("버섯연구소",$F18)),"버섯연구소",IF(COUNT(FIND("소득자원연구소",$F18)),"소득자원연구소",IF(COUNT(FIND("선인장다육식물연구소",$F18)),"선인장다육식물연구소",IF(COUNT(FIND("보건연구부",$F18)),"보건연구부",IF(COUNT(FIND("대기연구부",$F18)),"대기연구부",IF(COUNT(FIND("수질연구부",$F18)),"수질연구부",IF(COUNT(FIND("북부지원",$F18)),"북부지원",IF(COUNT(FIND("수원농산물검사소",$F18)),"수원농산물검사소",IF(COUNT(FIND("건설본부(관리과)",$F18)),"관리과",IF(COUNT(FIND("도로건설과",$F18)),"도로건설과",IF(COUNT(FIND("북부도로과",$F18)),"북부도로과",IF(COUNT(FIND("건축시설과",$F18)),"건축시설과",IF(COUNT(FIND("신청사건립추진단",$F18)),"신청사건립추진단",$F18))))))))))))))))))))) -> 따복공동체지원단 | B18: =G18 -> 기획재정위원회 | C18: =IF(COUNT(FIND("경기도건설본부",$E18)),"건설본부",IF(COUNT(FIND("경기도농업기술원",$E18)),"농업기술원",IF(COUNT(FIND("경기도보건환경연구원",$E18)),"보건환경연구원",IF(COUNT(FIND("소방재난본부",$E18)),"재난안전본부",IF(COUNT(FIND("경기도소방학교",$E18)),"재난안전본부",IF(COUNT(FIND("경기도인재개발원",$E18)),"인재개발원",IF(COUNT(FIND("북부소방재난본부",$E18)),"재난안전본부",IF(COUNT(FIND("소방서",$E18)),"재난안전본부",$E18)))))))) -> 기획조정실 | E18: 기획조정실 | F18: 따복공동체지원단 | G18: 기획재정위원회 | H18: 17 | I18: 0507
A19: =IF(COUNT(AND(FIND("북부소방재난본부",$E19),FIND("특수대응단",$F19))),"특수대응단(북부)",IF(COUNT(FIND("작물연구과",$F19)),"작물연구과",IF(COUNT(FIND("원예연구과",$F19)),"원예연구과",IF(COUNT(FIND("환경농업연구과",$F19)),"환경농업연구과",IF(COUNT(FIND("지원기획과",$F19)),"지원기획과",IF(COUNT(FIND("기술보급과",$F19)),"기술보급과",IF(COUNT(FIND("농촌자원과",$F19)),"농촌자원과",IF(COUNT(FIND("종자관리소",$F19)),"종자관리소",IF(COUNT(FIND("버섯연구소",$F19)),"버섯연구소",IF(COUNT(FIND("소득자원연구소",$F19)),"소득자원연구소",IF(COUNT(FIND("선인장다육식물연구소",$F19)),"선인장다육식물연구소",IF(COUNT(FIND("보건연구부",$F19)),"보건연구부",IF(COUNT(FIND("대기연구부",$F19)),"대기연구부",IF(COUNT(FIND("수질연구부",$F19)),"수질연구부",IF(COUNT(FIND("북부지원",$F19)),"북부지원",IF(COUNT(FIND("수원농산물검사소",$F19)),"수원농산물검사소",IF(COUNT(FIND("건설본부(관리과)",$F19)),"관리과",IF(COUNT(FIND("도로건설과",$F19)),"도로건설과",IF(COUNT(FIND("북부도로과",$F19)),"북부도로과",IF(COUNT(FIND("건축시설과",$F19)),"건축시설과",IF(COUNT(FIND("신청사건립추진단",$F19)),"신청사건립추진단",$F19))))))))))))))))))))) -> 정보기획담당관 | B19: =G19 -> 기획재정위원회 | C19: =IF(COUNT(FIND("경기도건설본부",$E19)),"건설본부",IF(COUNT(FIND("경기도농업기술원",$E19)),"농업기술원",IF(COUNT(FIND("경기도보건환경연구원",$E19)),"보건환경연구원",IF(COUNT(FIND("소방재난본부",$E19)),"재난안전본부",IF(COUNT(FIND("경기도소방학교",$E19)),"재난안전본부",IF(COUNT(FIND("경기도인재개발원",$E19)),"인재개발원",IF(COUNT(FIND("북부소방재난본부",$E19)),"재난안전본부",IF(COUNT(FIND("소방서",$E19)),"재난안전본부",$E19)))))))) -> 기획조정실 | E19: 기획조정실 | F19: 정보기획담당관 | G19: 기획재정위원회 | H19: 18 | I19: 0508
... A174: =IF(COUNT(AND(FIND("북부소방재난본부",$E174),FIND("특수대응단",$F174))),"특수대응단(북부)",IF(COUNT(FIND("작물연구과",$F174)),"작물연구과",IF(COUNT(FIND("원예연구과",$F174)),"원예연구과",IF(COUNT(FIND("환경농업연구과",$F174)),"환경농업연구과",IF(COUNT(FIND("지원기획과",$F174)),"지원기획과",IF(COUNT(FIND("기술보급과",$F174)),"기술보급과",IF(COUNT(FIND("농촌자원과",$F174)),"농촌자원과",IF(COUNT(FIND("종자관리소",$F174)),"종자관리소",IF(COUNT(FIND("버섯연구소",$F174)),"버섯연구소",IF(COUNT(FIND("소득자원연구소",$F174)),"소득자원연구소",IF(COUNT(FIND("선인장다육식물연구소",$F174)),"선인장다육식물연구소",IF(COUNT(FIND("보건연구부",$F174)),"보건연구부",IF(COUNT(FIND("대기연구부",$F174)),"대기연구부",IF(COUNT(FIND("수질연구부",$F174)),"수질연구부",IF(COUNT(FIND("북부지원",$F174)),"북부지원",IF(COUNT(FIND("수원농산물검사소",$F174)),"수원농산물검사소",IF(COUNT(FIND("건설본부(관리과)",$F174)),"관리과",IF(COUNT(FIND("도로건설과",$F174)),"도로건설과",IF(COUNT(FIND("북부도로과",$F174)),"북부도로과",IF(COUNT(FIND("건축시설과",$F174)),"건축시설과",IF(COUNT(FIND("신청사건립추진단",$F174)),"신청사건립추진단",$F174))))))))))))))))))))) -> 수질연구부 | B174: =G174 -> 도시환경위원회 | C174: =IF(COUNT(FIND("경기도건설본부",$E174)),"건설본부",IF(COUNT(FIND("경기도농업기술원",$E174)),"농업기술원",IF(COUNT(FIND("경기도보건환경연구원",$E174)),"보건환경연구원",IF(COUNT(FIND("소방재난본부",$E174)),"재난안전본부",IF(COUNT(FIND("경기도소방학교",$E174)),"재난안전본부",IF(COUNT(FIND("경기도인재개발원",$E174)),"인재개발원",IF(COUNT(FIND("북부소방재난본부",$E174)),"재난안전본부",IF(COUNT(FIND("소방서",$E174)),"재난안전본부",$E174)))))))) -> 보건환경연구원 | E174: 경기도보건환경연구원 | F174: 보건환경연구원(수질연구부) | G174: 도시환경위원회 | H174: 173 | I174: 2902
A175: =IF(COUNT(AND(FIND("북부소방재난본부",$E175),FIND("특수대응단",$F175))),"특수대응단(북부)",IF(COUNT(FIND("작물연구과",$F175)),"작물연구과",IF(COUNT(FIND("원예연구과",$F175)),"원예연구과",IF(COUNT(FIND("환경농업연구과",$F175)),"환경농업연구과",IF(COUNT(FIND("지원기획과",$F175)),"지원기획과",IF(COUNT(FIND("기술보급과",$F175)),"기술보급과",IF(COUNT(FIND("농촌자원과",$F175)),"농촌자원과",IF(COUNT(FIND("종자관리소",$F175)),"종자관리소",IF(COUNT(FIND("버섯연구소",$F175)),"버섯연구소",IF(COUNT(FIND("소득자원연구소",$F175)),"소득자원연구소",IF(COUNT(FIND("선인장다육식물연구소",$F175)),"선인장다육식물연구소",IF(COUNT(FIND("보건연구부",$F175)),"보건연구부",IF(COUNT(FIND("대기연구부",$F175)),"대기연구부",IF(COUNT(FIND("수질연구부",$F175)),"수질연구부",IF(COUNT(FIND("북부지원",$F175)),"북부지원",IF(COUNT(FIND("수원농산물검사소",$F175)),"수원농산물검사소",IF(COUNT(FIND("건설본부(관리과)",$F175)),"관리과",IF(COUNT(FIND("도로건설과",$F175)),"도로건설과",IF(COUNT(FIND("북부도로과",$F175)),"북부도로과",IF(COUNT(FIND("건축시설과",$F175)),"건축시설과",IF(COUNT(FIND("신청사건립추진단",$F175)),"신청사건립추진단",$F175))))))))))))))))))))) -> 북부지원 | B175: =G175 -> 도시환경위원회 | C175: =IF(COUNT(FIND("경기도건설본부",$E175)),"건설본부",IF(COUNT(FIND("경기도농업기술원",$E175)),"농업기술원",IF(COUNT(FIND("경기도보건환경연구원",$E175)),"보건환경연구원",IF(COUNT(FIND("소방재난본부",$E175)),"재난안전본부",IF(COUNT(FIND("경기도소방학교",$E175)),"재난안전본부",IF(COUNT(FIND("경기도인재개발원",$E175)),"인재개발원",IF(COUNT(FIND("북부소방재난본부",$E175)),"재난안전본부",IF(COUNT(FIND("소방서",$E175)),"재난안전본부",$E175)))))))) -> 보건환경연구원 | E175: 경기도보건환경연구원 | F175: 보건환경연구원북부지원 | G175: 도시환경위원회 | H175: 187 | I175: 2903
A176: =IF(COUNT(AND(FIND("북부소방재난본부",$E176),FIND("특수대응단",$F176))),"특수대응단(북부)",IF(COUNT(FIND("작물연구과",$F176)),"작물연구과",IF(COUNT(FIND("원예연구과",$F176)),"원예연구과",IF(COUNT(FIND("환경농업연구과",$F176)),"환경농업연구과",IF(COUNT(FIND("지원기획과",$F176)),"지원기획과",IF(COUNT(FIND("기술보급과",$F176)),"기술보급과",IF(COUNT(FIND("농촌자원과",$F176)),"농촌자원과",IF(COUNT(FIND("종자관리소",$F176)),"종자관리소",IF(COUNT(FIND("버섯연구소",$F176)),"버섯연구소",IF(COUNT(FIND("소득자원연구소",$F176)),"소득자원연구소",IF(COUNT(FIND("선인장다육식물연구소",$F176)),"선인장다육식물연구소",IF(COUNT(FIND("보건연구부",$F176)),"보건연구부",IF(COUNT(FIND("대기연구부",$F176)),"대기연구부",IF(COUNT(FIND("수질연구부",$F176)),"수질연구부",IF(COUNT(FIND("북부지원",$F176)),"북부지원",IF(COUNT(FIND("수원농산물검사소",$F176)),"수원농산물검사소",IF(COUNT(FIND("건설본부(관리과)",$F176)),"관리과",IF(COUNT(FIND("도로건설과",$F176)),"도로건설과",IF(COUNT(FIND("북부도로과",$F176)),"북부도로과",IF(COUNT(FIND("건축시설과",$F176)),"건축시설과",IF(COUNT(FIND("신청사건립추진단",$F176)),"신청사건립추진단",$F176))))))))))))))))))))) -> 수자원본부 | B176: =G176 -> 도시환경위원회 | C176: =IF(COUNT(FIND("경기도건설본부",$E176)),"건설본부",IF(COUNT(FIND("경기도농업기술원",$E176)),"농업기술원",IF(COUNT(FIND("경기도보건환경연구원",$E176)),"보건환경연구원",IF(COUNT(FIND("소방재난본부",$E176)),"재난안전본부",IF(COUNT(FIND("경기도소방학교",$E176)),"재난안전본부",IF(COUNT(FIND("경기도인재개발원",$E176)),"인재개발원",IF(COUNT(FIND("북부소방재난본부",$E176)),"재난안전본부",IF(COUNT(FIND("소방서",$E176)),"재난안전본부",$E176)))))))) -> 수자원본부 | E176: 수자원본부 | F176: 수자원본부 | G176: 도시환경위원회 | H176: 174 | I176: 3001
A177: =IF(COUNT(AND(FIND("북부소방재난본부",$E177),FIND("특수대응단",$F177))),"특수대응단(북부)",IF(COUNT(FIND("작물연구과",$F177)),"작물연구과",IF(COUNT(FIND("원예연구과",$F177)),"원예연구과",IF(COUNT(FIND("환경농업연구과",$F177)),"환경농업연구과",IF(COUNT(FIND("지원기획과",$F177)),"지원기획과",IF(COUNT(FIND("기술보급과",$F177)),"기술보급과",IF(COUNT(FIND("농촌자원과",$F177)),"농촌자원과",IF(COUNT(FIND("종자관리소",$F177)),"종자관리소",IF(COUNT(FIND("버섯연구소",$F177)),"버섯연구소",IF(COUNT(FIND("소득자원연구소",$F177)),"소득자원연구소",IF(COUNT(FIND("선인장다육식물연구소",$F177)),"선인장다육식물연구소",IF(COUNT(FIND("보건연구부",$F177)),"보건연구부",IF(COUNT(FIND("대기연구부",$F177)),"대기연구부",IF(COUNT(FIND("수질연구부",$F177)),"수질연구부",IF(COUNT(FIND("북부지원",$F177)),"북부지원",IF(COUNT(FIND("수원농산물검사소",$F177)),"수원농산물검사소",IF(COUNT(FIND("건설본부(관리과)",$F177)),"관리과",IF(COUNT(FIND("도로건설과",$F177)),"도로건설과",IF(COUNT(FIND("북부도로과",$F177)),"북부도로과",IF(COUNT(FIND("건축시설과",$F177)),"건축시설과",IF(COUNT(FIND("신청사건립추진단",$F177)),"신청사건립추진단",$F177))))))))))))))))))))) -> 교육정책과 | B177: =G177 -> 여성가족교육협력위원회 | C177: =IF(COUNT(FIND("경기도건설본부",$E177)),"건설본부",IF(COUNT(FIND("경기도농업기술원",$E177)),"농업기술원",IF(COUNT(FIND("경기도보건환경연구원",$E177)),"보건환경연구원",IF(COUNT(FIND("소방재난본부",$E177)),"재난안전본부",IF(COUNT(FIND("경기도소방학교",$E177)),"재난안전본부",IF(COUNT(FIND("경기도인재개발원",$E177)),"인재개발원",IF(COUNT(FIND("북부소방재난본부",$E177)),"재난안전본부",IF(COUNT(FIND("소방서",$E177)),"재난안전본부",$E177)))))))) -> 교육협력국 | E177: 교육협력국 | F177: 교육정책과 | G177: 여성가족교육협력위원회 | H177: 175 | I177: 3101
A178: =IF(COUNT(AND(FIND("북부소방재난본부",$E178),FIND("특수대응단",$F178))),"특수대응단(북부)",IF(COUNT(FIND("작물연구과",$F178)),"작물연구과",IF(COUNT(FIND("원예연구과",$F178)),"원예연구과",IF(COUNT(FIND("환경농업연구과",$F178)),"환경농업연구과",IF(COUNT(FIND("지원기획과",$F178)),"지원기획과",IF(COUNT(FIND("기술보급과",$F178)),"기술보급과",IF(COUNT(FIND("농촌자원과",$F178)),"농촌자원과",IF(COUNT(FIND("종자관리소",$F178)),"종자관리소",IF(COUNT(FIND("버섯연구소",$F178)),"버섯연구소",IF(COUNT(FIND("소득자원연구소",$F178)),"소득자원연구소",IF(COUNT(FIND("선인장다육식물연구소",$F178)),"선인장다육식물연구소",IF(COUNT(FIND("보건연구부",$F178)),"보건연구부",IF(COUNT(FIND("대기연구부",$F178)),"대기연구부",IF(COUNT(FIND("수질연구부",$F178)),"수질연구부",IF(COUNT(FIND("북부지원",$F178)),"북부지원",IF(COUNT(FIND("수원농산물검사소",$F178)),"수원농산물검사소",IF(COUNT(FIND("건설본부(관리과)",$F178)),"관리과",IF(COUNT(FIND("도로건설과",$F178)),"도로건설과",IF(COUNT(FIND("북부도로과",$F178)),"북부도로과",IF(COUNT(FIND("건축시설과",$F178)),"건축시설과",IF(COUNT(FIND("신청사건립추진단",$F178)),"신청사건립추진단",$F178))))))))))))))))))))) -> 교육협력과 | B178: =G178 -> 여성가족교육협력위원회 | C178: =IF(COUNT(FIND("경기도건설본부",$E178)),"건설본부",IF(COUNT(FIND("경기도농업기술원",$E178)),"농업기술원",IF(COUNT(FIND("경기도보건환경연구원",$E178)),"보건환경연구원",IF(COUNT(FIND("소방재난본부",$E178)),"재난안전본부",IF(COUNT(FIND("경기도소방학교",$E178)),"재난안전본부",IF(COUNT(FIND("경기도인재개발원",$E178)),"인재개발원",IF(COUNT(FIND("북부소방재난본부",$E178)),"재난안전본부",IF(COUNT(FIND("소방서",$E178)),"재난안전본부",$E178)))))))) -> 교육협력국 | E178: 교육협력국 | F178: 교육협력과 | G178: 여성가족교육협력위원회 | H178: 176 | I178: 3102
A179: =IF(COUNT(AND(FIND("북부소방재난본부",$E179),FIND("특수대응단",$F179))),"특수대응단(북부)",IF(COUNT(FIND("작물연구과",$F179)),"작물연구과",IF(COUNT(FIND("원예연구과",$F179)),"원예연구과",IF(COUNT(FIND("환경농업연구과",$F179)),"환경농업연구과",IF(COUNT(FIND("지원기획과",$F179)),"지원기획과",IF(COUNT(FIND("기술보급과",$F179)),"기술보급과",IF(COUNT(FIND("농촌자원과",$F179)),"농촌자원과",IF(COUNT(FIND("종자관리소",$F179)),"종자관리소",IF(COUNT(FIND("버섯연구소",$F179)),"버섯연구소",IF(COUNT(FIND("소득자원연구소",$F179)),"소득자원연구소",IF(COUNT(FIND("선인장다육식물연구소",$F179)),"선인장다육식물연구소",IF(COUNT(FIND("보건연구부",$F179)),"보건연구부",IF(COUNT(FIND("대기연구부",$F179)),"대기연구부",IF(COUNT(FIND("수질연구부",$F179)),"수질연구부",IF(COUNT(FIND("북부지원",$F179)),"북부지원",IF(COUNT(FIND("수원농산물검사소",$F179)),"수원농산물검사소",IF(COUNT(FIND("건설본부(관리과)",$F179)),"관리과",IF(COUNT(FIND("도로건설과",$F179)),"도로건설과",IF(COUNT(FIND("북부도로과",$F179)),"북부도로과",IF(COUNT(FIND("건축시설과",$F179)),"건축시설과",IF(COUNT(FIND("신청사건립추진단",$F179)),"신청사건립추진단",$F179))))))))))))))))))))) -> 도서관정책과 | B179: =G179 -> 여성가족교육협력위원회 | C179: =IF(COUNT(FIND("경기도건설본부",$E179)),"건설본부",IF(COUNT(FIND("경기도농업기술원",$E179)),"농업기술원",IF(COUNT(FIND("경기도보건환경연구원",$E179)),"보건환경연구원",IF(COUNT(FIND("소방재난본부",$E179)),"재난안전본부",IF(COUNT(FIND("경기도소방학교",$E179)),"재난안전본부",IF(COUNT(FIND("경기도인재개발원",$E179)),"인재개발원",IF(COUNT(FIND("북부소방재난본부",$E179)),"재난안전본부",IF(COUNT(FIND("소방서",$E179)),"재난안전본부",$E179)))))))) -> 교육협력국 | E179: 교육협력국 | F179: 도서관정책과 | G179: 여성가족교육협력위원회 | H179: 177 | I179: 3103
A180: =IF(COUNT(AND(FIND("북부소방재난본부",$E180),FIND("특수대응단",$F180))),"특수대응단(북부)",IF(COUNT(FIND("작물연구과",$F180)),"작물연구과",IF(COUNT(FIND("원예연구과",$F180)),"원예연구과",IF(COUNT(FIND("환경농업연구과",$F180)),"환경농업연구과",IF(COUNT(FIND("지원기획과",$F180)),"지원기획과",IF(COUNT(FIND("기술보급과",$F180)),"기술보급과",IF(COUNT(FIND("농촌자원과",$F180)),"농촌자원과",IF(COUNT(FIND("종자관리소",$F180)),"종자관리소",IF(COUNT(FIND("버섯연구소",$F180)),"버섯연구소",IF(COUNT(FIND("소득자원연구소",$F180)),"소득자원연구소",IF(COUNT(FIND("선인장다육식물연구소",$F180)),"선인장다육식물연구소",IF(COUNT(FIND("보건연구부",$F180)),"보건연구부",IF(COUNT(FIND("대기연구부",$F180)),"대기연구부",IF(COUNT(FIND("수질연구부",$F180)),"수질연구부",IF(COUNT(FIND("북부지원",$F180)),"북부지원",IF(COUNT(FIND("수원농산물검사소",$F180)),"수원농산물검사소",IF(COUNT(FIND("건설본부(관리과)",$F180)),"관리과",IF(COUNT(FIND("도로건설과",$F180)),"도로건설과",IF(COUNT(FIND("북부도로과",$F180)),"북부도로과",IF(COUNT(FIND("건축시설과",$F180)),"건축시설과",IF(COUNT(FIND("신청사건립추진단",$F180)),"신청사건립추진단",$F180))))))))))))))))))))) -> 여성가족과 | B180: =G180 -> 여성가족교육협력위원회 | C180: =IF(COUNT(FIND("경기도건설본부",$E180)),"건설본부",IF(COUNT(FIND("경기도농업기술원",$E180)),"농업기술원",IF(COUNT(FIND("경기도보건환경연구원",$E180)),"보건환경연구원",IF(COUNT(FIND("소방재난본부",$E180)),"재난안전본부",IF(COUNT(FIND("경기도소방학교",$E180)),"재난안전본부",IF(COUNT(FIND("경기도인재개발원",$E180)),"인재개발원",IF(COUNT(FIND("북부소방재난본부",$E180)),"재난안전본부",IF(COUNT(FIND("소방서",$E180)),"재난안전본부",$E180)))))))) -> 여성가족국 | E180: 여성가족국 | F180: 여성가족과 | G180: 여성가족교육협력위원회 | H180: 178 | I180: 3201
A181: =IF(COUNT(AND(FIND("북부소방재난본부",$E181),FIND("특수대응단",$F181))),"특수대응단(북부)",IF(COUNT(FIND("작물연구과",$F181)),"작물연구과",IF(COUNT(FIND("원예연구과",$F181)),"원예연구과",IF(COUNT(FIND("환경농업연구과",$F181)),"환경농업연구과",IF(COUNT(FIND("지원기획과",$F181)),"지원기획과",IF(COUNT(FIND("기술보급과",$F181)),"기술보급과",IF(COUNT(FIND("농촌자원과",$F181)),"농촌자원과",IF(COUNT(FIND("종자관리소",$F181)),"종자관리소",IF(COUNT(FIND("버섯연구소",$F181)),"버섯연구소",IF(COUNT(FIND("소득자원연구소",$F181)),"소득자원연구소",IF(COUNT(FIND("선인장다육식물연구소",$F181)),"선인장다육식물연구소",IF(COUNT(FIND("보건연구부",$F181)),"보건연구부",IF(COUNT(FIND("대기연구부",$F181)),"대기연구부",IF(COUNT(FIND("수질연구부",$F181)),"수질연구부",IF(COUNT(FIND("북부지원",$F181)),"북부지원",IF(COUNT(FIND("수원농산물검사소",$F181)),"수원농산물검사소",IF(COUNT(FIND("건설본부(관리과)",$F181)),"관리과",IF(COUNT(FIND("도로건설과",$F181)),"도로건설과",IF(COUNT(FIND("북부도로과",$F181)),"북부도로과",IF(COUNT(FIND("건축시설과",$F181)),"건축시설과",IF(COUNT(FIND("신청사건립추진단",$F181)),"신청사건립추진단",$F181))))))))))))))))))))) -> 보육정책과 | B181: =G181 -> 여성가족교육협력위원회 | C181: =IF(COUNT(FIND("경기도건설본부",$E181)),"건설본부",IF(COUNT(FIND("경기도농업기술원",$E181)),"농업기술원",IF(COUNT(FIND("경기도보건환경연구원",$E181)),"보건환경연구원",IF(COUNT(FIND("소방재난본부",$E181)),"재난안전본부",IF(COUNT(FIND("경기도소방학교",$E181)),"재난안전본부",IF(COUNT(FIND("경기도인재개발원",$E181)),"인재개발원",IF(COUNT(FIND("북부소방재난본부",$E181)),"재난안전본부",IF(COUNT(FIND("소방서",$E181)),"재난안전본부",$E181)))))))) -> 여성가족국 | E181: 여성가족국 | F181: 보육정책과 | G181: 여성가족교육협력위원회 | H181: 179 | I181: 3202
A182: =IF(COUNT(AND(FIND("북부소방재난본부",$E182),FIND("특수대응단",$F182))),"특수대응단(북부)",IF(COUNT(FIND("작물연구과",$F182)),"작물연구과",IF(COUNT(FIND("원예연구과",$F182)),"원예연구과",IF(COUNT(FIND("환경농업연구과",$F182)),"환경농업연구과",IF(COUNT(FIND("지원기획과",$F182)),"지원기획과",IF(COUNT(FIND("기술보급과",$F182)),"기술보급과",IF(COUNT(FIND("농촌자원과",$F182)),"농촌자원과",IF(COUNT(FIND("종자관리소",$F182)),"종자관리소",IF(COUNT(FIND("버섯연구소",$F182)),"버섯연구소",IF(COUNT(FIND("소득자원연구소",$F182)),"소득자원연구소",IF(COUNT(FIND("선인장다육식물연구소",$F182)),"선인장다육식물연구소",IF(COUNT(FIND("보건연구부",$F182)),"보건연구부",IF(COUNT(FIND("대기연구부",$F182)),"대기연구부",IF(COUNT(FIND("수질연구부",$F182)),"수질연구부",IF(COUNT(FIND("북부지원",$F182)),"북부지원",IF(COUNT(FIND("수원농산물검사소",$F182)),"수원농산물검사소",IF(COUNT(FIND("건설본부(관리과)",$F182)),"관리과",IF(COUNT(FIND("도로건설과",$F182)),"도로건설과",IF(COUNT(FIND("북부도로과",$F182)),"북부도로과",IF(COUNT(FIND("건축시설과",$F182)),"건축시설과",IF(COUNT(FIND("신청사건립추진단",$F182)),"신청사건립추진단",$F182))))))))))))))))))))) -> 아동청소년과 | B182: =G182 -> 여성가족교육협력위원회 | C182: =IF(COUNT(FIND("경기도건설본부",$E182)),"건설본부",IF(COUNT(FIND("경기도농업기술원",$E182)),"농업기술원",IF(COUNT(FIND("경기도보건환경연구원",$E182)),"보건환경연구원",IF(COUNT(FIND("소방재난본부",$E182)),"재난안전본부",IF(COUNT(FIND("경기도소방학교",$E182)),"재난안전본부",IF(COUNT(FIND("경기도인재개발원",$E182)),"인재개발원",IF(COUNT(FIND("북부소방재난본부",$E182)),"재난안전본부",IF(COUNT(FIND("소방서",$E182)),"재난안전본부",$E182)))))))) -> 여성가족국 | E182: 여성가족국 | F182: 아동청소년과 | G182: 여성가족교육협력위원회 | H182: 180 | I182: 3203
A183: =IF(COUNT(AND(FIND("북부소방재난본부",$E183),FIND("특수대응단",$F183))),"특수대응단(북부)",IF(COUNT(FIND("작물연구과",$F183)),"작물연구과",IF(COUNT(FIND("원예연구과",$F183)),"원예연구과",IF(COUNT(FIND("환경농업연구과",$F183)),"환경농업연구과",IF(COUNT(FIND("지원기획과",$F183)),"지원기획과",IF(COUNT(FIND("기술보급과",$F183)),"기술보급과",IF(COUNT(FIND("농촌자원과",$F183)),"농촌자원과",IF(COUNT(FIND("종자관리소",$F183)),"종자관리소",IF(COUNT(FIND("버섯연구소",$F183)),"버섯연구소",IF(COUNT(FIND("소득자원연구소",$F183)),"소득자원연구소",IF(COUNT(FIND("선인장다육식물연구소",$F183)),"선인장다육식물연구소",IF(COUNT(FIND("보건연구부",$F183)),"보건연구부",IF(COUNT(FIND("대기연구부",$F183)),"대기연구부",IF(COUNT(FIND("수질연구부",$F183)),"수질연구부",IF(COUNT(FIND("북부지원",$F183)),"북부지원",IF(COUNT(FIND("수원농산물검사소",$F183)),"수원농산물검사소",IF(COUNT(FIND("건설본부(관리과)",$F183)),"관리과",IF(COUNT(FIND("도로건설과",$F183)),"도로건설과",IF(COUNT(FIND("북부도로과",$F183)),"북부도로과",IF(COUNT(FIND("건축시설과",$F183)),"건축시설과",IF(COUNT(FIND("신청사건립추진단",$F183)),"신청사건립추진단",$F183))))))))))))))))))))) -> 다문화가족과 | B183: =G183 -> 여성가족교육협력위원회 | C183: =IF(COUNT(FIND("경기도건설본부",$E183)),"건설본부",IF(COUNT(FIND("경기도농업기술원",$E183)),"농업기술원",IF(COUNT(FIND("경기도보건환경연구원",$E183)),"보건환경연구원",IF(COUNT(FIND("소방재난본부",$E183)),"재난안전본부",IF(COUNT(FIND("경기도소방학교",$E183)),"재난안전본부",IF(COUNT(FIND("경기도인재개발원",$E183)),"인재개발원",IF(COUNT(FIND("북부소방재난본부",$E183)),"재난안전본부",IF(COUNT(FIND("소방서",$E183)),"재난안전본부",$E183)))))))) -> 여성가족국 | E183: 여성가족국 | F183: 다문화가족과 | G183: 여성가족교육협력위원회 | H183: 181 | I183: 3204
A184: =IF(COUNT(AND(FIND("북부소방재난본부",$E184),FIND("특수대응단",$F184))),"특수대응단(북부)",IF(COUNT(FIND("작물연구과",$F184)),"작물연구과",IF(COUNT(FIND("원예연구과",$F184)),"원예연구과",IF(COUNT(FIND("환경농업연구과",$F184)),"환경농업연구과",IF(COUNT(FIND("지원기획과",$F184)),"지원기획과",IF(COUNT(FIND("기술보급과",$F184)),"기술보급과",IF(COUNT(FIND("농촌자원과",$F184)),"농촌자원과",IF(COUNT(FIND("종자관리소",$F184)),"종자관리소",IF(COUNT(FIND("버섯연구소",$F184)),"버섯연구소",IF(COUNT(FIND("소득자원연구소",$F184)),"소득자원연구소",IF(COUNT(FIND("선인장다육식물연구소",$F184)),"선인장다육식물연구소",IF(COUNT(FIND("보건연구부",$F184)),"보건연구부",IF(COUNT(FIND("대기연구부",$F184)),"대기연구부",IF(COUNT(FIND("수질연구부",$F184)),"수질연구부",IF(COUNT(FIND("북부지원",$F184)),"북부지원",IF(COUNT(FIND("수원농산물검사소",$F184)),"수원농산물검사소",IF(COUNT(FIND("건설본부(관리과)",$F184)),"관리과",IF(COUNT(FIND("도로건설과",$F184)),"도로건설과",IF(COUNT(FIND("북부도로과",$F184)),"북부도로과",IF(COUNT(FIND("건축시설과",$F184)),"건축시설과",IF(COUNT(FIND("신청사건립추진단",$F184)),"신청사건립추진단",$F184))))))))))))))))))))) -> 여성비전센터 | B184: =G184 -> 여성가족교육협력위원회 | C184: =IF(COUNT(FIND("경기도건설본부",$E184)),"건설본부",IF(COUNT(FIND("경기도농업기술원",$E184)),"농업기술원",IF(COUNT(FIND("경기도보건환경연구원",$E184)),"보건환경연구원",IF(COUNT(FIND("소방재난본부",$E184)),"재난안전본부",IF(COUNT(FIND("경기도소방학교",$E184)),"재난안전본부",IF(COUNT(FIND("경기도인재개발원",$E184)),"인재개발원",IF(COUNT(FIND("북부소방재난본부",$E184)),"재난안전본부",IF(COUNT(FIND("소방서",$E184)),"재난안전본부",$E184)))))))) -> 여성가족국 | E184: 여성가족국 | F184: 여성비전센터 | G184: 여성가족교육협력위원회 | H184: 182 | I184: 3205
A185: =IF(COUNT(AND(FIND("북부소방재난본부",$E185),FIND("특수대응단",$F185))),"특수대응단(북부)",IF(COUNT(FIND("작물연구과",$F185)),"작물연구과",IF(COUNT(FIND("원예연구과",$F185)),"원예연구과",IF(COUNT(FIND("환경농업연구과",$F185)),"환경농업연구과",IF(COUNT(FIND("지원기획과",$F185)),"지원기획과",IF(COUNT(FIND("기술보급과",$F185)),"기술보급과",IF(COUNT(FIND("농촌자원과",$F185)),"농촌자원과",IF(COUNT(FIND("종자관리소",$F185)),"종자관리소",IF(COUNT(FIND("버섯연구소",$F185)),"버섯연구소",IF(COUNT(FIND("소득자원연구소",$F185)),"소득자원연구소",IF(COUNT(FIND("선인장다육식물연구소",$F185)),"선인장다육식물연구소",IF(COUNT(FIND("보건연구부",$F185)),"보건연구부",IF(COUNT(FIND("대기연구부",$F185)),"대기연구부",IF(COUNT(FIND("수질연구부",$F185)),"수질연구부",IF(COUNT(FIND("북부지원",$F185)),"북부지원",IF(COUNT(FIND("수원농산물검사소",$F185)),"수원농산물검사소",IF(COUNT(FIND("건설본부(관리과)",$F185)),"관리과",IF(COUNT(FIND("도로건설과",$F185)),"도로건설과",IF(COUNT(FIND("북부도로과",$F185)),"북부도로과",IF(COUNT(FIND("건축시설과",$F185)),"건축시설과",IF(COUNT(FIND("신청사건립추진단",$F185)),"신청사건립추진단",$F185))))))))))))))))))))) -> 여성능력개발센터 | B185: =G185 -> 여성가족교육협력위원회 | C185: =IF(COUNT(FIND("경기도건설본부",$E185)),"건설본부",IF(COUNT(FIND("경기도농업기술원",$E185)),"농업기술원",IF(COUNT(FIND("경기도보건환경연구원",$E185)),"보건환경연구원",IF(COUNT(FIND("소방재난본부",$E185)),"재난안전본부",IF(COUNT(FIND("경기도소방학교",$E185)),"재난안전본부",IF(COUNT(FIND("경기도인재개발원",$E185)),"인재개발원",IF(COUNT(FIND("북부소방재난본부",$E185)),"재난안전본부",IF(COUNT(FIND("소방서",$E185)),"재난안전본부",$E185)))))))) -> 여성가족국 | E185: 여성가족국 | F185: 여성능력개발센터 | G185: 여성가족교육협력위원회 | H185: 183 | I185: 3206
A186: =IF(COUNT(AND(FIND("북부소방재난본부",$E186),FIND("특수대응단",$F186))),"특수대응단(북부)",IF(COUNT(FIND("작물연구과",$F186)),"작물연구과",IF(COUNT(FIND("원예연구과",$F186)),"원예연구과",IF(COUNT(FIND("환경농업연구과",$F186)),"환경농업연구과",IF(COUNT(FIND("지원기획과",$F186)),"지원기획과",IF(COUNT(FIND("기술보급과",$F186)),"기술보급과",IF(COUNT(FIND("농촌자원과",$F186)),"농촌자원과",IF(COUNT(FIND("종자관리소",$F186)),"종자관리소",IF(COUNT(FIND("버섯연구소",$F186)),"버섯연구소",IF(COUNT(FIND("소득자원연구소",$F186)),"소득자원연구소",IF(COUNT(FIND("선인장다육식물연구소",$F186)),"선인장다육식물연구소",IF(COUNT(FIND("보건연구부",$F186)),"보건연구부",IF(COUNT(FIND("대기연구부",$F186)),"대기연구부",IF(COUNT(FIND("수질연구부",$F186)),"수질연구부",IF(COUNT(FIND("북부지원",$F186)),"북부지원",IF(COUNT(FIND("수원농산물검사소",$F186)),"수원농산물검사소",IF(COUNT(FIND("건설본부(관리과)",$F186)),"관리과",IF(COUNT(FIND("도로건설과",$F186)),"도로건설과",IF(COUNT(FIND("북부도로과",$F186)),"북부도로과",IF(COUNT(FIND("건축시설과",$F186)),"건축시설과",IF(COUNT(FIND("신청사건립추진단",$F186)),"신청사건립추진단",$F186))))))))))))))))))))) -> 가족여성담당관 | B186: =G186 -> 여성가족교육협력위원회 | C186: =IF(COUNT(FIND("경기도건설본부",$E186)),"건설본부",IF(COUNT(FIND("경기도농업기술원",$E186)),"농업기술원",IF(COUNT(FIND("경기도보건환경연구원",$E186)),"보건환경연구원",IF(COUNT(FIND("소방재난본부",$E186)),"재난안전본부",IF(COUNT(FIND("경기도소방학교",$E186)),"재난안전본부",IF(COUNT(FIND("경기도인재개발원",$E186)),"인재개발원",IF(COUNT(FIND("북부소방재난본부",$E186)),"재난안전본부",IF(COUNT(FIND("소방서",$E186)),"재난안전본부",$E186)))))))) -> 복지여성실 | E186: 복지여성실 | F186: 가족여성담당관 | G186: 여성가족교육협력위원회 | H186: 184 | I186: 3301
A187: =IF(COUNT(AND(FIND("북부소방재난본부",$E187),FIND("특수대응단",$F187))),"특수대응단(북부)",IF(COUNT(FIND("작물연구과",$F187)),"작물연구과",IF(COUNT(FIND("원예연구과",$F187)),"원예연구과",IF(COUNT(FIND("환경농업연구과",$F187)),"환경농업연구과",IF(COUNT(FIND("지원기획과",$F187)),"지원기획과",IF(COUNT(FIND("기술보급과",$F187)),"기술보급과",IF(COUNT(FIND("농촌자원과",$F187)),"농촌자원과",IF(COUNT(FIND("종자관리소",$F187)),"종자관리소",IF(COUNT(FIND("버섯연구소",$F187)),"버섯연구소",IF(COUNT(FIND("소득자원연구소",$F187)),"소득자원연구소",IF(COUNT(FIND("선인장다육식물연구소",$F187)),"선인장다육식물연구소",IF(COUNT(FIND("보건연구부",$F187)),"보건연구부",IF(COUNT(FIND("대기연구부",$F187)),"대기연구부",IF(COUNT(FIND("수질연구부",$F187)),"수질연구부",IF(COUNT(FIND("북부지원",$F187)),"북부지원",IF(COUNT(FIND("수원농산물검사소",$F187)),"수원농산물검사소",IF(COUNT(FIND("건설본부(관리과)",$F187)),"관리과",IF(COUNT(FIND("도로건설과",$F187)),"도로건설과",IF(COUNT(FIND("북부도로과",$F187)),"북부도로과",IF(COUNT(FIND("건축시설과",$F187)),"건축시설과",IF(COUNT(FIND("신청사건립추진단",$F187)),"신청사건립추진단",$F187))))))))))))))))))))) -> 보육청소년담당관 | B187: =G187 -> 여성가족교육협력위원회 | C187: =IF(COUNT(FIND("경기도건설본부",$E187)),"건설본부",IF(COUNT(FIND("경기도농업기술원",$E187)),"농업기술원",IF(COUNT(FIND("경기도보건환경연구원",$E187)),"보건환경연구원",IF(COUNT(FIND("소방재난본부",$E187)),"재난안전본부",IF(COUNT(FIND("경기도소방학교",$E187)),"재난안전본부",IF(COUNT(FIND("경기도인재개발원",$E187)),"인재개발원",IF(COUNT(FIND("북부소방재난본부",$E187)),"재난안전본부",IF(COUNT(FIND("소방서",$E187)),"재난안전본부",$E187)))))))) -> 복지여성실 | E187: 복지여성실 | F187: 보육청소년담당관 | G187: 여성가족교육협력위원회 | H187: 185 | I187: 3302
A188: =IF(COUNT(AND(FIND("북부소방재난본부",$E188),FIND("특수대응단",$F188))),"특수대응단(북부)",IF(COUNT(FIND("작물연구과",$F188)),"작물연구과",IF(COUNT(FIND("원예연구과",$F188)),"원예연구과",IF(COUNT(FIND("환경농업연구과",$F188)),"환경농업연구과",IF(COUNT(FIND("지원기획과",$F188)),"지원기획과",IF(COUNT(FIND("기술보급과",$F188)),"기술보급과",IF(COUNT(FIND("농촌자원과",$F188)),"농촌자원과",IF(COUNT(FIND("종자관리소",$F188)),"종자관리소",IF(COUNT(FIND("버섯연구소",$F188)),"버섯연구소",IF(COUNT(FIND("소득자원연구소",$F188)),"소득자원연구소",IF(COUNT(FIND("선인장다육식물연구소",$F188)),"선인장다육식물연구소",IF(COUNT(FIND("보건연구부",$F188)),"보건연구부",IF(COUNT(FIND("대기연구부",$F188)),"대기연구부",IF(COUNT(FIND("수질연구부",$F188)),"수질연구부",IF(COUNT(FIND("북부지원",$F188)),"북부지원",IF(COUNT(FIND("수원농산물검사소",$F188)),"수원농산물검사소",IF(COUNT(FIND("건설본부(관리과)",$F188)),"관리과",IF(COUNT(FIND("도로건설과",$F188)),"도로건설과",IF(COUNT(FIND("북부도로과",$F188)),"북부도로과",IF(COUNT(FIND("건축시설과",$F188)),"건축시설과",IF(COUNT(FIND("신청사건립추진단",$F188)),"신청사건립추진단",$F188))))))))))))))))))))) -> 북부여성비전센터 | B188: =G188 -> 여성가족교육협력위원회 | C188: =IF(COUNT(FIND("경기도건설본부",$E188)),"건설본부",IF(COUNT(FIND("경기도농업기술원",$E188)),"농업기술원",IF(COUNT(FIND("경기도보건환경연구원",$E188)),"보건환경연구원",IF(COUNT(FIND("소방재난본부",$E188)),"재난안전본부",IF(COUNT(FIND("경기도소방학교",$E188)),"재난안전본부",IF(COUNT(FIND("경기도인재개발원",$E188)),"인재개발원",IF(COUNT(FIND("북부소방재난본부",$E188)),"재난안전본부",IF(COUNT(FIND("소방서",$E188)),"재난안전본부",$E188)))))))) -> 복지여성실 | E188: 복지여성실 | F188: 북부여성비전센터 | G188: 여성가족교육협력위원회 | H188: 186 | I188: 3303

Sheet 15년검증
A1: 2015년 본예산 검증 | G1: 본예산 예비비 | I1: 124682800
K2: (단위 : 천원)
A3: 구 분 | B3: 상임위 | G3: 구 분 | H3: 예결위
B4: 세입 | C4: 검증 | D4: 세출 | E4: 검증 | H4: 세입 | I4: 검증 | J4: 세출 | K4: 검증
A5: 전체 총계 | B5: =SUM(B6,B9) -> -160654 | C5: =IF(B5='15년일입'!V3,"OK","@@") -> OK | D5: =SUM(D6,D9) -> 880554 | E5: =IF(D5='15년일출'!V3,"OK","@@") -> @@ | G5: 전체 총계 | H5: =SUM(H6,H9) -> 0 | I5: =IF(H5='15년일입'!AA3,"OK","@@") -> OK | J5: =SUM(J6,J9) -> 0 | K5: =IF(J5='15년일출'!AA3,"OK","@@") -> OK
A6: 자체 총계 | B6: =SUM(B7:B8) -> 0 | C6: =IF(B6='15년일입'!V6,"OK","@@") -> OK | D6: =SUM(D7:D8) -> -526044 | E6: =IF($D$6='15년일출'!$V$6,"OK","@@") -> @@ | G6: 자체 총계 | H6: =SUM(H7:H8) -> 0 | I6: =IF(H6='15년일입'!AA6,"OK","@@") -> OK | J6: =SUM(J7:J8) -> 0 | K6: =IF($J6='15년일출'!$AA6,"OK","@@") -> OK
A7: 자체 도비 | B7: =SUMIFS('15년일입'!$V$7:$V$644,'15년일입'!$T$7:$T$644,"도비") -> 0 | D7: =SUMIFS('15년일출'!$V$31:$V$733,'15년일출'!$T$31:$T$733,"도비") -> -33320 | G7: 자체 - 의존도비 | H7: =SUMIFS('15년일입'!$AA$7:$AA$644,'15년일입'!$Y$7:$Y$644,"도비") -> 0 | J7: =SUMIFS('15년일출'!$AA$31:$AA$733,'15년일출'!$Y$31:$Y$733,"도비") -> 0
A8: 의존 매칭 도비 | B8: =SUMIFS('15년일입'!$V$7:$V$644,'15년일입'!$T$7:$T$644,"국비")+SUMIFS('15년일입'!$V$7:$V$644,'15년일입'!$T$7:$T$644,"광특")+SUMIFS('15년일입'!$V$7:$V$644,'15년일입'!$T$7:$T$644,"기금")+SUMIFS('15년일입'!$V$7:$V$644,'15년일입'!$T$7:$T$644,"분권")+SUMIFS('15년일입'!$V$7:$V$644,'15년일입'!$T$7:$T$644,"특교") -> 0 | D8: =SUMIFS('15년일출'!$V$31:$V$733,'15년일출'!$T$31:$T$733,"국비")+SUMIFS('15년일출'!$V$31:$V$733,'15년일출'!$T$31:$T$733,"광특")+SUMIFS('15년일출'!$V$31:$V$733,'15년일출'!$T$31:$T$733,"기금")+SUMIFS('15년일출'!$V$31:$V$733,'15년일출'!$T$31:$T$733,"분권")+SUMIFS('15년일출'!$V$31:$V$733,'15년일출'!$T$31:$T$733,"특교") -> -492724 | G8: 의존 매칭 도비 | H8: =SUMIFS('15년일입'!$AA$7:$AA$644,'15년일입'!$Y$7:$Y$644,"국비")+SUMIFS('15년일입'!$AA$7:$AA$644,'15년일입'!$Y$7:$Y$644,"광특")+SUMIFS('15년일입'!$AA$7:$AA$644,'15년일입'!$Y$7:$Y$644,"기금")+SUMIFS('15년일입'!$AA$7:$AA$644,'15년일입'!$Y$7:$Y$644,"분권")+SUMIFS('15년일입'!$AA$7:$AA$644,'15년일입'!$Y$7:$Y$644,"특교") -> 0 | J8: =SUMIFS('15년일출'!$AA$31:$AA$733,'15년일출'!$Y$31:$Y$733,"국비")+SUMIFS('15년일출'!$AA$31:$AA$733,'15년일출'!$Y$31:$Y$733,"광특")+SUMIFS('15년일출'!$AA$31:$AA$733,'15년일출'!$Y$31:$Y$733,"기금")+SUMIFS('15년일출'!$AA$31:$AA$733,'15년일출'!$Y$31:$Y$733,"분권")+SUMIFS('15년일출'!$AA$31:$AA$733,'15년일출'!$Y$31:$Y$733,"특교") -> 0
A9: 의존계 | B9: =SUM(B10:B14) -> -160654 | C9: =IF(B9='15년일입'!U6,"OK","@@") -> OK | D9: =SUM(D10:D14) -> 1406598 | E9: =IF(B9=D9,"OK","@@") -> @@ | G9: 의존계 | H9: =SUM(H10:H14) -> 0 | I9: =IF(H9='15년일입'!Z6,"OK","@@") -> OK | J9: =SUM(J10:J14) -> 0 | K9: =IF(H9=J9,"OK","@@") -> OK
A10: 국비 | B10: =SUMIFS('15년일입'!$U$7:$U$644,'15년일입'!$T$7:$T$644,'15년검증'!$A10) -> 3529519 | D10: =SUMIFS('15년일출'!$U$31:$U$733,'15년일출'!$T$31:$T$733,'15년검증'!$A10) -> 1377710 | E10: =IF(B10=D10,"OK","@@") -> @@ | G10: 국비 | H10: =SUMIFS('15년일입'!$Z$7:$Z$644,'15년일입'!$Y$7:$Y$644,'15년검증'!$A10) -> 0 | J10: =SUMIFS('15년일출'!$Z$31:$Z$733,'15년일출'!$Y$31:$Y$733,'15년검증'!$A10) -> 0 | K10: =IF(H10=J10,"OK","@@") -> OK
A11: 광특 | B11: =SUMIFS('15년일입'!$U$7:$U$644,'15년일입'!$T$7:$T$644,'15년검증'!$A11) -> 0 | D11: =SUMIFS('15년일출'!$U$31:$U$733,'15년일출'!$T$31:$T$733,'15년검증'!$A11) -> 0 | E11: =IF(B11=D11,"OK","@@") -> OK | G11: 광특 | H11: =SUMIFS('15년일입'!$Z$7:$Z$644,'15년일입'!$Y$7:$Y$644,'15년검증'!$A11) -> 0 | J11: =SUMIFS('15년일출'!$Z$31:$Z$733,'15년일출'!$Y$31:$Y$733,'15년검증'!$A11) -> 0 | K11: =IF(H11=J11,"OK","@@") -> OK
A12: 기금 | B12: =SUMIFS('15년일입'!$U$7:$U$644,'15년일입'!$T$7:$T$644,'15년검증'!$A12) -> -3690173 | D12: =SUMIFS('15년일출'!$U$31:$U$733,'15년일출'!$T$31:$T$733,'15년검증'!$A12) -> 28888 | E12: =IF(B12=D12,"OK","@@") -> @@ | G12: 기금 | H12: =SUMIFS('15년일입'!$Z$7:$Z$644,'15년일입'!$Y$7:$Y$644,'15년검증'!$A12) -> 0 | J12: =SUMIFS('15년일출'!$Z$31:$Z$733,'15년일출'!$Y$31:$Y$733,'15년검증'!$A12) -> 0 | K12: =IF(H12=J12,"OK","@@") -> OK
A13: 분권 | B13: =SUMIFS('15년일입'!$U$7:$U$644,'15년일입'!$T$7:$T$644,'15년검증'!$A13) -> 0 | D13: =SUMIFS('15년일출'!$U$31:$U$733,'15년일출'!$T$31:$T$733,'15년검증'!$A13) -> 0 | E13: =IF(B13=D13,"OK","@@") -> OK | G13: 분권 | H13: =SUMIFS('15년일입'!$Z$7:$Z$644,'15년일입'!$Y$7:$Y$644,'15년검증'!$A13) -> 0 | J13: =SUMIFS('15년일출'!$Z$31:$Z$733,'15년일출'!$Y$31:$Y$733,'15년검증'!$A13) -> 0 | K13: =IF(H13=J13,"OK","@@") -> OK
A14: 특교 | B14: =SUMIFS('15년일입'!$U$7:$U$644,'15년일입'!$T$7:$T$644,'15년검증'!$A14) -> 0 | D14: =SUMIFS('15년일출'!$U$31:$U$733,'15년일출'!$T$31:$T$733,'15년검증'!$A14) -> 0 | E14: =IF(B14=D14,"OK","@@") -> OK | G14: 특교 | H14: =SUMIFS('15년일입'!$Z$7:$Z$644,'15년일입'!$Y$7:$Y$644,'15년검증'!$A14) -> 0 | J14: =SUMIFS('15년일출'!$Z$31:$Z$733,'15년일출'!$Y$31:$Y$733,'15년검증'!$A14) -> 0 | K14: =IF(H14=J14,"OK","@@") -> OK
G16: 예비비 조정액 | H16: =INDEX('15년일출'!AA31:AA733,MATCH("*예비비*",'15년일출'!G31:G733,0)) -> #N/A
H18: =H5-J5 -> 0
G20: 예비비 조정잔액 | H20: =I1+H16 -> #N/A

Sheet 2추검증
A1: 2회추경 검증 | G1: 2회추경 예비비 | I1: 22466366
K2: (단위 : 천원)
A3: 구 분 | B3: 상임위 | G3: 구 분 | H3: 예결위
B4: 세입 | C4: 검증 | D4: 세출 | E4: 검증 | H4: 세입 | I4: 검증 | J4: 세출 | K4: 검증
A5: 전체 총계 | B5: =SUM(B6,B9) -> -9078896 | C5: =IF(B5='2추일입'!W3,"OK","@@") -> OK | D5: =SUM(D6,D9) -> -427993 | E5: =IF(D5='2추일출'!W3,"OK","@@") -> @@ | G5: 전체 총계 | H5: =SUM(H6,H9) -> 0 | I5: =IF(H5='2추일입'!AB3,"OK","@@") -> OK | J5: =SUM(J6,J9) -> 0 | K5: =IF(J5='2추일출'!AB3,"OK","@@") -> OK
A6: 자체 총계 | B6: =SUM(B7:B8) -> 4750 | C6: =IF(B6='2추일입'!W6,"OK","@@") -> OK | D6: =SUM(D7:D8) -> -327335 | E6: =IF($D$6='2추일출'!$W$6,"OK","@@") -> @@ | G6: 자체 총계 | H6: =SUM(H7:H8) -> 0 | I6: =IF(H6='2추일입'!AB6,"OK","@@") -> OK | J6: =SUM(J7:J8) -> 0 | K6: =IF($J6='2추일출'!$AB6,"OK","@@") -> OK
A7: 자체 도비 | B7: =SUMIFS('2추일입'!$W$7:$W$645,'2추일입'!$U$7:$U$645,"도비") -> 4750 | D7: =SUMIFS('2추일출'!$W$25:$W$657,'2추일출'!$U$25:$U$657,"도비") -> 0 | G7: 자체 - 의존도비 | H7: =SUMIFS('2추일입'!$AB$7:$AB$645,'2추일입'!$Z$7:$Z$645,"도비") -> 0 | J7: =SUMIFS('2추일출'!$AB$25:$AB$657,'2추일출'!$Z$25:$Z$657,"도비") -> 0
A8: 의존 매칭 도비 | B8: =SUMIFS('2추일입'!$W$7:$W$645,'2추일입'!$U$7:$U$645,"국비")+SUMIFS('2추일입'!$W$7:$W$645,'2추일입'!$U$7:$U$645,"광특")+SUMIFS('2추일입'!$W$7:$W$645,'2추일입'!$U$7:$U$645,"기금")+SUMIFS('2추일입'!$W$7:$W$645,'2추일입'!$U$7:$U$645,"분권")+SUMIFS('2추일입'!$W$7:$W$645,'2추일입'!$U$7:$U$645,"특교") -> 0 | D8: =SUMIFS('2추일출'!$W$25:$W$657,'2추일출'!$U$25:$U$657,"국비")+SUMIFS('2추일출'!$W$25:$W$657,'2추일출'!$U$25:$U$657,"광특")+SUMIFS('2추일출'!$W$25:$W$657,'2추일출'!$U$25:$U$657,"기금")+SUMIFS('2추일출'!$W$25:$W$657,'2추일출'!$U$25:$U$657,"분권")+SUMIFS('2추일출'!$W$25:$W$657,'2추일출'!$U$25:$U$657,"특교") -> -327335 | G8: 의존 매칭 도비 | H8: =SUMIFS('2추일입'!$AB$7:$AB$645,'2추일입'!$Z$7:$Z$645,"국비")+SUMIFS('2추일입'!$AB$7:$AB$645,'2추일입'!$Z$7:$Z$645,"광특")+SUMIFS('2추일입'!$AB$7:$AB$645,'2추일입'!$Z$7:$Z$645,"기금")+SUMIFS('2추일입'!$AB$7:$AB$645,'2추일입'!$Z$7:$Z$645,"분권")+SUMIFS('2추일입'!$AB$7:$AB$645,'2추일입'!$Z$7:$Z$645,"특교") -> 0 | J8: =SUMIFS('2추일출'!$AB$25:$AB$657,'2추일출'!$Z$25:$Z$657,"국비")+SUMIFS('2추일출'!$AB$25:$AB$657,'2추일출'!$Z$25:$Z$657,"광특")+SUMIFS('2추일출'!$AB$25:$AB$657,'2추일출'!$Z$25:$Z$657,"기금")+SUMIFS('2추일출'!$AB$25:$AB$657,'2추일출'!$Z$25:$Z$657,"분권")+SUMIFS('2추일출'!$AB$25:$AB$657,'2추일출'!$Z$25:$Z$657,"특교") -> 0
A9: 의존계 | B9: =SUM(B10:B14) -> -9083646 | C9: =IF(B9='2추일입'!V6,"OK","@@") -> OK | D9: =SUM(D10:D14) -> -100658 | E9: =IF(B9=D9,"OK","@@") -> @@ | G9: 의존계 | H9: =SUM(H10:H14) -> 0 | I9: =IF(H9='2추일입'!AA6,"OK","@@") -> OK | J9: =SUM(J10:J14) -> 0 | K9: =IF(H9=J9,"OK","@@") -> OK
A10: 국비 | B10: =SUMIFS('2추일입'!$V$7:$V$645,'2추일입'!$U$7:$U$645,'2추검증'!$A10) -> -10978269 | D10: =SUMIFS('2추일출'!$V$25:$V$657,'2추일출'!$U$25:$U$657,'2추검증'!$A10) -> -521949 | E10: =IF(B10=D10,"OK","@@") -> @@ | G10: 국비 | H10: =SUMIFS('2추일입'!$AA$7:$AA$645,'2추일입'!$Z$7:$Z$645,'2추검증'!$A10) -> 0 | J10: =SUMIFS('2추일출'!$AA$25:$AA$657,'2추일출'!$Z$25:$Z$657,'2추검증'!$A10) -> 0 | K10: =IF(H10=J10,"OK","@@") -> OK
A11: 광특 | B11: =SUMIFS('2추일입'!$V$7:$V$645,'2추일입'!$U$7:$U$645,'2추검증'!$A11) -> 0 | D11: =SUMIFS('2추일출'!$V$25:$V$657,'2추일출'!$U$25:$U$657,'2추검증'!$A11) -> 0 | E11: =IF(B11=D11,"OK","@@") -> OK | G11: 광특 | H11: =SUMIFS('2추일입'!$AA$7:$AA$645,'2추일입'!$Z$7:$Z$645,'2추검증'!$A11) -> 0 | J11: =SUMIFS('2추일출'!$AA$25:$AA$657,'2추일출'!$Z$25:$Z$657,'2추검증'!$A11) -> 0 | K11: =IF(H11=J11,"OK","@@") -> OK
A12: 기금 | B12: =SUMIFS('2추일입'!$V$7:$V$645,'2추일입'!$U$7:$U$645,'2추검증'!$A12) -> 1894623 | D12: =SUMIFS('2추일출'!$V$25:$V$657,'2추일출'!$U$25:$U$657,'2추검증'!$A12) -> 421291 | E12: =IF(B12=D12,"OK","@@") -> @@ | G12: 기금 | H12: =SUMIFS('2추일입'!$AA$7:$AA$645,'2추일입'!$Z$7:$Z$645,'2추검증'!$A12) -> 0 | J12: =SUMIFS('2추일출'!$AA$25:$AA$657,'2추일출'!$Z$25:$Z$657,'2추검증'!$A12) -> 0 | K12: =IF(H12=J12,"OK","@@") -> OK
A13: 분권 | B13: =SUMIFS('2추일입'!$V$7:$V$645,'2추일입'!$U$7:$U$645,'2추검증'!$A13) -> 0 | D13: =SUMIFS('2추일출'!$V$25:$V$657,'2추일출'!$U$25:$U$657,'2추검증'!$A13) -> 0 | E13: =IF(B13=D13,"OK","@@") -> OK | G13: 분권 | H13: =SUMIFS('2추일입'!$AA$7:$AA$645,'2추일입'!$Z$7:$Z$645,'2추검증'!$A13) -> 0 | J13: =SUMIFS('2추일출'!$AA$25:$AA$657,'2추일출'!$Z$25:$Z$657,'2추검증'!$A13) -> 0 | K13: =IF(H13=J13,"OK","@@") -> OK
A14: 특교 | B14: =SUMIFS('2추일입'!$V$7:$V$645,'2추일입'!$U$7:$U$645,'2추검증'!$A14) -> 0 | D14: =SUMIFS('2추일출'!$V$25:$V$657,'2추일출'!$U$25:$U$657,'2추검증'!$A14) -> 0 | E14: =IF(B14=D14,"OK","@@") -> OK | G14: 특교 | H14: =SUMIFS('2추일입'!$AA$7:$AA$645,'2추일입'!$Z$7:$Z$645,'2추검증'!$A14) -> 0 | J14: =SUMIFS('2추일출'!$AA$25:$AA$657,'2추일출'!$Z$25:$Z$657,'2추검증'!$A14) -> 0 | K14: =IF(H14=J14,"OK","@@") -> OK
G16: 예비비 조정액 | H16: =INDEX('2추일출'!AB25:AB657,MATCH("*예비비*",'2추일출'!F25:F657,0)) -> #N/A
H18: =H5-J5 -> 0
G20: 예비비 조정잔액 | H20: =I1-H16 -> #N/A

Sheet 상임 표지
D2: 2014년도 제2회 일반회계 및 특별회계 추가경정 세입·세출 예산안
D4: 상 임 위 계 수 조 정 결 과
D16: 예산결산특별위원회

Sheet 표지
D2: 2014년도 제2회 일반회계 및 특별회계 추가경정 세입·세출 예산안
A4: 예결위 계수조정 결과
D16: 예산결산특별위원회

Sheet 예결 표지
B5: 2014년도 제2회 일반회계 및 특별회계 추가경정 세입·세출 예산안
B7: 예결위 계수조정 결과
B33: 예산결산특별위원회

Sheet 예결 표지(가로)
B3: 2014년도 제2회 일반회계 및 특별회계 추가경정 세입·세출 예산안
B5: 예결위 계수조정 결과
B24: 예산결산특별위원회

Sheet 15년총괄표
B1: 2015년도 경기도 일반 및 특별회계 세입·세출 예산안[전체예산총괄]
B3: □ 총 괄 | D3: 세입예산증감 | E3: =SUM(D7:E7) -> 0 | F3: 세출예산증감 | G3: =SUM(F7:G7) -> 0
H4: (단위:천원) | M4: (일반+특별+기금) | O4: 특별+기금
B5: 구 분 | C5: 집행부제출(안) | D5: 세입예산(안) | F5: 세출예산(안) | H5: 예산수정(안) | I5: 일반회계 증감(총괄표) | K5: 예비비증감 | L5: 비 고 | M5: 전체 증감(시트) | O5: 비고
D6: 감 액 | E6: 증 액 | F6: 감 액 | G6: 증 액 | I6: 세입 | J6: 세출 | M6: 세입 | N6: 세출
B7: 합 계 | C7: =SUM(C8:C18) -> 0 | D7: =SUM(D8:D18) -> 0 | E7: =SUM(E8:E18) -> 0 | F7: =SUM(F8:F18) -> 0 | G7: =SUM(G8:G18) -> 0 | H7: =SUM(H8:H18) -> 0 | I7: =E25+D25 -> 0 | J7: =F25+G25 -> 0 | K7: =I7-J7 -> 0 | L7: 예비비 증감이 - 예산이면 감액에 + 예산이면 증액에 입력 | M7: =D24+E24 -> 0 | N7: =F24+G24 -> 0 | O7: 0 | P7: 0
B8: 기 타 | C8: 0 | H8: =C8-F8+G8 -> 0 | I8: =D7+E7 -> 0 | J8: =F7+G7 -> 0 | K8: =I8-J8 -> 0
B9: 의회운영위원회 | D9: =SUMIFS('15년일입'!$L$7:$L$644,'15년일입'!$B$7:$B$644,'15년총괄표'!$B9) -> 0 | E9: =SUMIFS('15년일입'!$M$7:$M$644,'15년일입'!$B$7:$B$644,'15년총괄표'!$B9) -> 0 | F9: =SUMIFS('15년일출'!$L$31:$L$733,'15년일출'!$B$31:$B$733,'15년총괄표'!$B9) -> 0 | G9: =SUMIFS('15년일출'!$M$31:$M$733,'15년일출'!$B$31:$B$733,'15년총괄표'!$B9) -> 0 | H9: =C9+F9+G9 -> 0 | I9: 일반회계 증감(시트) | N9: 전체 증감
B10: 기획재정위원회 | D10: =SUMIFS('15년일입'!$L$7:$L$644,'15년일입'!$B$7:$B$644,'15년총괄표'!$B10) -> 0 | E10: =SUMIFS('15년일입'!$M$7:$M$644,'15년일입'!$B$7:$B$644,'15년총괄표'!$B10) -> 0 | F10: =SUMIFS('15년일출'!$L$31:$L$733,'15년일출'!$B$31:$B$733,'15년총괄표'!$B10) -> 0 | G10: =SUMIFS('15년일출'!$M$31:$M$733,'15년일출'!$B$31:$B$733,'15년총괄표'!$B10) -> 0 | H10: =C10+F10+G10 -> 0 | I10: =#REF!+#REF! -> #REF! | J10: =#REF!+#REF! -> #REF! | N10: =M7-N7 -> 0
B11: 경제과학기술위원회 | D11: =SUMIFS('15년일입'!$L$7:$L$644,'15년일입'!$B$7:$B$644,'15년총괄표'!$B11) -> 0 | E11: =SUMIFS('15년일입'!$M$7:$M$644,'15년일입'!$B$7:$B$644,'15년총괄표'!$B11) -> 0 | F11: =SUMIFS('15년일출'!$L$31:$L$733,'15년일출'!$B$31:$B$733,'15년총괄표'!$B11) -> 0 | G11: =SUMIFS('15년일출'!$M$31:$M$733,'15년일출'!$B$31:$B$733,'15년총괄표'!$B11) -> 0 | H11: =C11+F11+G11 -> 0
B12: 안전행정위원회 | D12: =SUMIFS('15년일입'!$L$7:$L$644,'15년일입'!$B$7:$B$644,'15년총괄표'!$B12) -> 0 | E12: =SUMIFS('15년일입'!$M$7:$M$644,'15년일입'!$B$7:$B$644,'15년총괄표'!$B12) -> 0 | F12: =SUMIFS('15년일출'!$L$31:$L$733,'15년일출'!$B$31:$B$733,'15년총괄표'!$B12) -> 0 | G12: =SUMIFS('15년일출'!$M$31:$M$733,'15년일출'!$B$31:$B$733,'15년총괄표'!$B12) -> 0 | H12: =C12+F12+G12 -> 0
B13: 문화체육관광위원회 | D13: =SUMIFS('15년일입'!$L$7:$L$644,'15년일입'!$B$7:$B$644,'15년총괄표'!$B13) -> 0 | E13: =SUMIFS('15년일입'!$M$7:$M$644,'15년일입'!$B$7:$B$644,'15년총괄표'!$B13) -> 0 | F13: =SUMIFS('15년일출'!$L$31:$L$733,'15년일출'!$B$31:$B$733,'15년총괄표'!$B13) -> 0 | G13: =SUMIFS('15년일출'!$M$31:$M$733,'15년일출'!$B$31:$B$733,'15년총괄표'!$B13) -> 0 | H13: =C13+F13+G13 -> 0 | N13: 기금
B14: 농정해양위원회 | D14: =SUMIFS('15년일입'!$L$7:$L$644,'15년일입'!$B$7:$B$644,'15년총괄표'!$B14) -> 0 | E14: =SUMIFS('15년일입'!$M$7:$M$644,'15년일입'!$B$7:$B$644,'15년총괄표'!$B14) -> 0 | F14: =SUMIFS('15년일출'!$L$31:$L$733,'15년일출'!$B$31:$B$733,'15년총괄표'!$B14) -> 0 | G14: =SUMIFS('15년일출'!$M$31:$M$733,'15년일출'!$B$31:$B$733,'15년총괄표'!$B14) -> 0 | H14: =C14+F14+G14 -> 0 | N14: =N10-K7 -> 0
B15: 보건복지위원회 | D15: =SUMIFS('15년일입'!$L$7:$L$644,'15년일입'!$B$7:$B$644,'15년총괄표'!$B15) -> 0 | E15: =SUMIFS('15년일입'!$M$7:$M$644,'15년일입'!$B$7:$B$644,'15년총괄표'!$B15) -> 0 | F15: =SUMIFS('15년일출'!$L$31:$L$733,'15년일출'!$B$31:$B$733,'15년총괄표'!$B15) -> 0 | G15: =SUMIFS('15년일출'!$M$31:$M$733,'15년일출'!$B$31:$B$733,'15년총괄표'!$B15) -> 0 | H15: =C15+F15+G15 -> 0
B16: 건설교통위원회 | D16: =SUMIFS('15년일입'!$L$7:$L$644,'15년일입'!$B$7:$B$644,'15년총괄표'!$B16) -> 0 | E16: =SUMIFS('15년일입'!$M$7:$M$644,'15년일입'!$B$7:$B$644,'15년총괄표'!$B16) -> 0 | F16: =SUMIFS('15년일출'!$L$31:$L$733,'15년일출'!$B$31:$B$733,'15년총괄표'!$B16) -> 0 | G16: =SUMIFS('15년일출'!$M$31:$M$733,'15년일출'!$B$31:$B$733,'15년총괄표'!$B16) -> 0 | H16: =C16+F16+G16 -> 0
B17: 도시환경위원회 | D17: =SUMIFS('15년일입'!$L$7:$L$644,'15년일입'!$B$7:$B$644,'15년총괄표'!$B17) -> 0 | E17: =SUMIFS('15년일입'!$M$7:$M$644,'15년일입'!$B$7:$B$644,'15년총괄표'!$B17) -> 0 | F17: =SUMIFS('15년일출'!$L$31:$L$733,'15년일출'!$B$31:$B$733,'15년총괄표'!$B17) -> 0 | G17: =SUMIFS('15년일출'!$M$31:$M$733,'15년일출'!$B$31:$B$733,'15년총괄표'!$B17) -> 0 | H17: =C17+F17+G17 -> 0
B18: 여성가족교육협력위원회 | D18: =SUMIFS('15년일입'!$L$7:$L$644,'15년일입'!$B$7:$B$644,'15년총괄표'!$B18) -> 0 | E18: =SUMIFS('15년일입'!$M$7:$M$644,'15년일입'!$B$7:$B$644,'15년총괄표'!$B18) -> 0 | F18: =SUMIFS('15년일출'!$L$31:$L$733,'15년일출'!$B$31:$B$733,'15년총괄표'!$B18) -> 0 | G18: =SUMIFS('15년일출'!$M$31:$M$733,'15년일출'!$B$31:$B$733,'15년총괄표'!$B18) -> 0 | H18: =C18+F18+G18 -> 0
B20: □ 회계별 예산총규모
H21: (단위:천원)
B22: 구 분 | C22: 세출예산액 (집행부제출 안) | D22: 세입예산(안) | F22: 세출예산(안) | H22: 예산수정(안)
D23: 감 액 | E23: 증 액 | F23: 감 액 | G23: 증 액 | I23: 세입기준 수정예산안
B24: 합 계 | C24: =SUM(C25:C26) -> 0 | D24: =SUM(D25:D26) -> 0 | E24: =SUM(E25:E26) -> 0 | F24: =SUM(F25:F26) -> 0 | G24: =SUM(G25:G26) -> 0 | H24: =SUM(H25:H26) -> 0 | I24: =C24+D24+E24 -> 0 | J24: =I24-H24 -> 0 | K24: (세출기준-세입기준)
B25: 일반회계 | D25: ='15년일입'!$L$6 -> 0 | E25: ='15년일입'!$M$6 -> 0 | F25: ='15년일출'!$L$6 -> 0 | G25: ='15년일출'!$M$6 -> 0 | H25: =C25+F25+G25 -> 0 | I25: =C25+D25+E25 -> 0 | J25: =I25-H25 -> 0 | K25: (세출기준-세입기준)
B26: 특별회계 | H26: =C26+F26+G26 -> 0 | I26: =C26+D26+E26 -> 0 | J26: =I26-H26 -> 0 | K26: (세출기준-세입기준)
B30: 위원회명 | C30: 일반+기특 | D30: 공기업 | E30: 합계
B31: 의회운영위원회 | C31: 39922113 | E31: =SUM(C31:D31) -> 39922113
B32: 기획재정위원회 | C32: 3302571667 | D32: 1780946434 | E32: =SUM(C32:D32) -> 5083518101
B33: 경제과학기술위원회 | C33: 155329320 | D33: 384743740 | E33: =SUM(C33:D33) -> 540073060
B34: 안전행정위원회 | C34: 1142858974 | E34: =SUM(C34:D34) -> 1142858974
B35: 문화체육관광위원회 | C35: 224243208 | D35: 52484400 | E35: =SUM(C35:D35) -> 276727608
B36: 농정해양위원회 | C36: 466978999 | E36: =SUM(C36:D36) -> 466978999
B37: 보건복지위원회 | C37: 3254006708 | E37: =SUM(C37:D37) -> 3254006708
B38: 건설교통위원회 | C38: 1220859831 | E38: =SUM(C38:D38) -> 1220859831
B39: 도시환경위원회 | C39: 866963933 | D39: 28360000 | E39: =SUM(C39:D39) -> 895323933
B40: 여성가족평생교육위원회 | C40: 4882582917 | E40: =SUM(C40:D40) -> 4882582917
B41: 총합계 | C41: =SUM(C31:C40) -> 15556317670 | D41: =SUM(D31:D40) -> 2246534574 | E41: =SUM(C41:D41) -> 17802852244
B43: 예비비 | C43: =3922478-221377 -> 3701101
I160: ◦ 본청 83,000 증 ◦ 북부청 377,000 증
K290: -50000

Sheet 15년총괄표(실국별)
B1: 2015년도 경기도 일반 및 특별회계 세입·세출 예산안[전체예산총괄]
B3: □ 총괄(실국별) | E3: =SUM(D7:E7) -> 0 | G3: =SUM(F7:G7) -> 0
H4: (단위:천원) | M4: (일반+특별+기금) | O4: 특별+기금
B5: 구 분 | C5: 집행부제출(안) | D5: 세입예산(안) | F5: 세출예산(안) | H5: 예산수정(안) | I5: 일반회계 증감(총괄표) | K5: 예비비증감 | L5: 비 고 | M5: 전체 증감(시트) | O5: 비고
D6: 감 액 | E6: 증 액 | F6: 감 액 | G6: 증 액 | I6: 세입 | J6: 세출 | M6: 세입 | N6: 세출
B7: 합 계 | C7: =SUM(C8:C33) -> 0 | D7: =SUM(D8:D33) -> 0 | E7: =SUM(E8:E33) -> 0 | F7: =SUM(F8:F33) -> 0 | G7: =SUM(G8:G33) -> 0 | H7: =SUM(H8:H33) -> 0 | I7: =#REF!+#REF! -> #REF! | J7: =#REF!+#REF! -> #REF! | K7: =I7-J7 -> #REF! | L7: 예비비 증감이 - 예산이면 감액에 + 예산이면 증액에 입력 | M7: =#REF!+#REF! -> #REF! | N7: =#REF!+#REF! -> #REF! | O7: 0 | P7: 0
B8: 감사관 | D8: =SUMIFS('15년일입'!$L$7:$L$644,'15년일입'!$C$7:$C$644,'15년총괄표(실국별)'!$B8) -> 0 | E8: =SUMIFS('15년일입'!$M$7:$M$644,'15년일입'!$C$7:$C$644,'15년총괄표(실국별)'!$B8) -> 0 | F8: =SUMIFS('15년일출'!$L$31:$L$733,'15년일출'!$C$31:$C$733,'15년총괄표(실국별)'!$B8) -> 0 | G8: =SUMIFS('15년일출'!$M$31:$M$733,'15년일출'!$C$31:$C$733,'15년총괄표(실국별)'!$B8) -> 0 | H8: =C8+F8+G8 -> 0 | I8: 일반회계 증감(시트) | N8: 전체 증감
B9: 기획조정실 | D9: =SUMIFS('15년일입'!$L$7:$L$644,'15년일입'!$C$7:$C$644,'15년총괄표(실국별)'!$B9) -> 0 | E9: =SUMIFS('15년일입'!$M$7:$M$644,'15년일입'!$C$7:$C$644,'15년총괄표(실국별)'!$B9) -> 0 | F9: =SUMIFS('15년일출'!$L$31:$L$733,'15년일출'!$C$31:$C$733,'15년총괄표(실국별)'!$B9) -> 0 | G9: =SUMIFS('15년일출'!$M$31:$M$733,'15년일출'!$C$31:$C$733,'15년총괄표(실국별)'!$B9) -> 0 | H9: =C9+F9+G9 -> 0 | I9: =#REF!+#REF! -> #REF! | J9: =#REF!+#REF! -> #REF! | N9: =#REF!-#REF! -> #REF!
B10: 도시주택실 | D10: =SUMIFS('15년일입'!$L$7:$L$644,'15년일입'!$C$7:$C$644,'15년총괄표(실국별)'!$B10) -> 0 | E10: =SUMIFS('15년일입'!$M$7:$M$644,'15년일입'!$C$7:$C$644,'15년총괄표(실국별)'!$B10) -> 0 | F10: =SUMIFS('15년일출'!$L$31:$L$733,'15년일출'!$C$31:$C$733,'15년총괄표(실국별)'!$B10) -> 0 | G10: =SUMIFS('15년일출'!$M$31:$M$733,'15년일출'!$C$31:$C$733,'15년총괄표(실국별)'!$B10) -> 0 | H10: =C10+F10+G10 -> 0 | I10: =#REF!+#REF! -> #REF! | J10: =#REF!+#REF! -> #REF! | N10: =#REF!-#REF! -> #REF!
B11: 자치행정국 | D11: =SUMIFS('15년일입'!$L$7:$L$644,'15년일입'!$C$7:$C$644,'15년총괄표(실국별)'!$B11) -> 0 | E11: =SUMIFS('15년일입'!$M$7:$M$644,'15년일입'!$C$7:$C$644,'15년총괄표(실국별)'!$B11) -> 0 | F11: =SUMIFS('15년일출'!$L$31:$L$733,'15년일출'!$C$31:$C$733,'15년총괄표(실국별)'!$B11) -> 0 | G11: =SUMIFS('15년일출'!$M$31:$M$733,'15년일출'!$C$31:$C$733,'15년총괄표(실국별)'!$B11) -> 0 | H11: =C11+F11+G11 -> 0
B12: 교육협력국 | D12: =SUMIFS('15년일입'!$L$7:$L$644,'15년일입'!$C$7:$C$644,'15년총괄표(실국별)'!$B12) -> 0 | E12: =SUMIFS('15년일입'!$M$7:$M$644,'15년일입'!$C$7:$C$644,'15년총괄표(실국별)'!$B12) -> 0 | F12: =SUMIFS('15년일출'!$L$31:$L$733,'15년일출'!$C$31:$C$733,'15년총괄표(실국별)'!$B12) -> 0 | G12: =SUMIFS('15년일출'!$M$31:$M$733,'15년일출'!$C$31:$C$733,'15년총괄표(실국별)'!$B12) -> 0 | H12: =C12+F12+G12 -> 0
B13: 문화체육관광국 | D13: =SUMIFS('15년일입'!$L$7:$L$644,'15년일입'!$C$7:$C$644,'15년총괄표(실국별)'!$B13) -> 0 | E13: =SUMIFS('15년일입'!$M$7:$M$644,'15년일입'!$C$7:$C$644,'15년총괄표(실국별)'!$B13) -> 0 | F13: =SUMIFS('15년일출'!$L$31:$L$733,'15년일출'!$C$31:$C$733,'15년총괄표(실국별)'!$B13) -> 0 | G13: =SUMIFS('15년일출'!$M$31:$M$733,'15년일출'!$C$31:$C$733,'15년총괄표(실국별)'!$B13) -> 0 | H13: =C13+F13+G13 -> 0 | N13: 기금
B14: 농정해양국 | D14: =SUMIFS('15년일입'!$L$7:$L$644,'15년일입'!$C$7:$C$644,'15년총괄표(실국별)'!$B14) -> 0 | E14: =SUMIFS('15년일입'!$M$7:$M$644,'15년일입'!$C$7:$C$644,'15년총괄표(실국별)'!$B14) -> 0 | F14: =SUMIFS('15년일출'!$L$31:$L$733,'15년일출'!$C$31:$C$733,'15년총괄표(실국별)'!$B14) -> 0 | G14: =SUMIFS('15년일출'!$M$31:$M$733,'15년일출'!$C$31:$C$733,'15년총괄표(실국별)'!$B14) -> 0 | H14: =C14+F14+G14 -> 0 | N14: =N10-#REF! -> #REF!
B15: 철도국 | D15: =SUMIFS('15년일입'!$L$7:$L$644,'15년일입'!$C$7:$C$644,'15년총괄표(실국별)'!$B15) -> 0 | E15: =SUMIFS('15년일입'!$M$7:$M$644,'15년일입'!$C$7:$C$644,'15년총괄표(실국별)'!$B15) -> 0 | F15: =SUMIFS('15년일출'!$L$31:$L$733,'15년일출'!$C$31:$C$733,'15년총괄표(실국별)'!$B15) -> 0 | G15: =SUMIFS('15년일출'!$M$31:$M$733,'15년일출'!$C$31:$C$733,'15년총괄표(실국별)'!$B15) -> 0 | H15: =C15+F15+G15 -> 0
B16: 재난안전본부 | D16: =SUMIFS('15년일입'!$L$7:$L$644,'15년일입'!$C$7:$C$644,'15년총괄표(실국별)'!$B16) -> 0 | E16: =SUMIFS('15년일입'!$M$7:$M$644,'15년일입'!$C$7:$C$644,'15년총괄표(실국별)'!$B16) -> 0 | F16: =SUMIFS('15년일출'!$L$31:$L$733,'15년일출'!$C$31:$C$733,'15년총괄표(실국별)'!$B16) -> 0 | G16: =SUMIFS('15년일출'!$M$31:$M$733,'15년일출'!$C$31:$C$733,'15년총괄표(실국별)'!$B16) -> 0 | H16: =C16+F16+G16 -> 0
B17: 의회사무처 | D17: =SUMIFS('15년일입'!$L$7:$L$644,'15년일입'!$C$7:$C$644,'15년총괄표(실국별)'!$B17) -> 0 | E17: =SUMIFS('15년일입'!$M$7:$M$644,'15년일입'!$C$7:$C$644,'15년총괄표(실국별)'!$B17) -> 0 | F17: =SUMIFS('15년일출'!$L$31:$L$733,'15년일출'!$C$31:$C$733,'15년총괄표(실국별)'!$B17) -> 0 | G17: =SUMIFS('15년일출'!$M$31:$M$733,'15년일출'!$C$31:$C$733,'15년총괄표(실국별)'!$B17) -> 0 | H17: =C17+F17+G17 -> 0
B18: 대변인 | D18: =SUMIFS('15년일입'!$L$7:$L$644,'15년일입'!$C$7:$C$644,'15년총괄표(실국별)'!$B18) -> 0 | E18: =SUMIFS('15년일입'!$M$7:$M$644,'15년일입'!$C$7:$C$644,'15년총괄표(실국별)'!$B18) -> 0 | F18: =SUMIFS('15년일출'!$L$31:$L$733,'15년일출'!$C$31:$C$733,'15년총괄표(실국별)'!$B18) -> 0 | G18: =SUMIFS('15년일출'!$M$31:$M$733,'15년일출'!$C$31:$C$733,'15년총괄표(실국별)'!$B18) -> 0 | H18: =C18+F18+G18 -> 0 | I18: =#REF!+#REF! -> #REF! | J18: =#REF!+#REF! -> #REF! | N18: =#REF!-#REF! -> #REF!
B19: 대외협력담당관 | D19: =SUMIFS('15년일입'!$L$7:$L$644,'15년일입'!$C$7:$C$644,'15년총괄표(실국별)'!$B19) -> 0 | E19: =SUMIFS('15년일입'!$M$7:$M$644,'15년일입'!$C$7:$C$644,'15년총괄표(실국별)'!$B19) -> 0 | F19: =SUMIFS('15년일출'!$L$31:$L$733,'15년일출'!$C$31:$C$733,'15년총괄표(실국별)'!$B19) -> 0 | G19: =SUMIFS('15년일출'!$M$31:$M$733,'15년일출'!$C$31:$C$733,'15년총괄표(실국별)'!$B19) -> 0 | H19: =C19+F19+G19 -> 0
B20: 보건복지국 | D20: =SUMIFS('15년일입'!$L$7:$L$644,'15년일입'!$C$7:$C$644,'15년총괄표(실국별)'!$B20) -> 0 | E20: =SUMIFS('15년일입'!$M$7:$M$644,'15년일입'!$C$7:$C$644,'15년총괄표(실국별)'!$B20) -> 0 | F20: =SUMIFS('15년일출'!$L$31:$L$733,'15년일출'!$C$31:$C$733,'15년총괄표(실국별)'!$B20) -> 0 | G20: =SUMIFS('15년일출'!$M$31:$M$733,'15년일출'!$C$31:$C$733,'15년총괄표(실국별)'!$B20) -> 0 | H20: =C20+F20+G20 -> 0
B21: 환경국 | D21: =SUMIFS('15년일입'!$L$7:$L$644,'15년일입'!$C$7:$C$644,'15년총괄표(실국별)'!$B21) -> 0 | E21: =SUMIFS('15년일입'!$M$7:$M$644,'15년일입'!$C$7:$C$644,'15년총괄표(실국별)'!$B21) -> 0 | F21: =SUMIFS('15년일출'!$L$31:$L$733,'15년일출'!$C$31:$C$733,'15년총괄표(실국별)'!$B21) -> 0 | G21: =SUMIFS('15년일출'!$M$31:$M$733,'15년일출'!$C$31:$C$733,'15년총괄표(실국별)'!$B21) -> 0 | H21: =C21+F21+G21 -> 0 | N21: 기금
B22: 여성가족국 | D22: =SUMIFS('15년일입'!$L$7:$L$644,'15년일입'!$C$7:$C$644,'15년총괄표(실국별)'!$B22) -> 0 | E22: =SUMIFS('15년일입'!$M$7:$M$644,'15년일입'!$C$7:$C$644,'15년총괄표(실국별)'!$B22) -> 0 | F22: =SUMIFS('15년일출'!$L$31:$L$733,'15년일출'!$C$31:$C$733,'15년총괄표(실국별)'!$B22) -> 0 | G22: =SUMIFS('15년일출'!$M$31:$M$733,'15년일출'!$C$31:$C$733,'15년총괄표(실국별)'!$B22) -> 0 | H22: =C22+F22+G22 -> 0 | N22: =N18-#REF! -> #REF!
B23: 농업기술원 | D23: =SUMIFS('15년일입'!$L$7:$L$644,'15년일입'!$C$7:$C$644,'15년총괄표(실국별)'!$B23) -> 0 | E23: =SUMIFS('15년일입'!$M$7:$M$644,'15년일입'!$C$7:$C$644,'15년총괄표(실국별)'!$B23) -> 0 | F23: =SUMIFS('15년일출'!$L$31:$L$733,'15년일출'!$C$31:$C$733,'15년총괄표(실국별)'!$B23) -> 0 | G23: =SUMIFS('15년일출'!$M$31:$M$733,'15년일출'!$C$31:$C$733,'15년총괄표(실국별)'!$B23) -> 0 | H23: =C23+F23+G23 -> 0
B24: 인재개발원 | D24: =SUMIFS('15년일입'!$L$7:$L$644,'15년일입'!$C$7:$C$644,'15년총괄표(실국별)'!$B24) -> 0 | E24: =SUMIFS('15년일입'!$M$7:$M$644,'15년일입'!$C$7:$C$644,'15년총괄표(실국별)'!$B24) -> 0 | F24: =SUMIFS('15년일출'!$L$31:$L$733,'15년일출'!$C$31:$C$733,'15년총괄표(실국별)'!$B24) -> 0 | G24: =SUMIFS('15년일출'!$M$31:$M$733,'15년일출'!$C$31:$C$733,'15년총괄표(실국별)'!$B24) -> 0 | H24: =C24+F24+G24 -> 0
B25: 보건환경연구원 | D25: =SUMIFS('15년일입'!$L$7:$L$644,'15년일입'!$C$7:$C$644,'15년총괄표(실국별)'!$B25) -> 0 | E25: =SUMIFS('15년일입'!$M$7:$M$644,'15년일입'!$C$7:$C$644,'15년총괄표(실국별)'!$B25) -> 0 | F25: =SUMIFS('15년일출'!$L$31:$L$733,'15년일출'!$C$31:$C$733,'15년총괄표(실국별)'!$B25) -> 0 | G25: =SUMIFS('15년일출'!$M$31:$M$733,'15년일출'!$C$31:$C$733,'15년총괄표(실국별)'!$B25) -> 0 | H25: =C25+F25+G25 -> 0
B26: 수자원본부 | D26: =SUMIFS('15년일입'!$L$7:$L$644,'15년일입'!$C$7:$C$644,'15년총괄표(실국별)'!$B26) -> 0 | E26: =SUMIFS('15년일입'!$M$7:$M$644,'15년일입'!$C$7:$C$644,'15년총괄표(실국별)'!$B26) -> 0 | F26: =SUMIFS('15년일출'!$L$31:$L$733,'15년일출'!$C$31:$C$733,'15년총괄표(실국별)'!$B26) -> 0 | G26: =SUMIFS('15년일출'!$M$31:$M$733,'15년일출'!$C$31:$C$733,'15년총괄표(실국별)'!$B26) -> 0 | H26: =C26+F26+G26 -> 0 | I26: =#REF!+#REF! -> #REF! | J26: =#REF!+#REF! -> #REF! | N26: =M2-N2 -> 0
B27: 복지여성실 | D27: =SUMIFS('15년일입'!$L$7:$L$644,'15년일입'!$C$7:$C$644,'15년총괄표(실국별)'!$B27) -> 0 | E27: =SUMIFS('15년일입'!$M$7:$M$644,'15년일입'!$C$7:$C$644,'15년총괄표(실국별)'!$B27) -> 0 | F27: =SUMIFS('15년일출'!$L$31:$L$733,'15년일출'!$C$31:$C$733,'15년총괄표(실국별)'!$B27) -> 0 | G27: =SUMIFS('15년일출'!$M$31:$M$733,'15년일출'!$C$31:$C$733,'15년총괄표(실국별)'!$B27) -> 0 | H27: =C27+F27+G27 -> 0
B28: 균형발전기획실 | D28: =SUMIFS('15년일입'!$L$7:$L$644,'15년일입'!$C$7:$C$644,'15년총괄표(실국별)'!$B28) -> 0 | E28: =SUMIFS('15년일입'!$M$7:$M$644,'15년일입'!$C$7:$C$644,'15년총괄표(실국별)'!$B28) -> 0 | F28: =SUMIFS('15년일출'!$L$31:$L$733,'15년일출'!$C$31:$C$733,'15년총괄표(실국별)'!$B28) -> 0 | G28: =SUMIFS('15년일출'!$M$31:$M$733,'15년일출'!$C$31:$C$733,'15년총괄표(실국별)'!$B28) -> 0 | H28: =C28+F28+G28 -> 0
B29: 경제실 | D29: =SUMIFS('15년일입'!$L$7:$L$644,'15년일입'!$C$7:$C$644,'15년총괄표(실국별)'!$B29) -> 0 | E29: =SUMIFS('15년일입'!$M$7:$M$644,'15년일입'!$C$7:$C$644,'15년총괄표(실국별)'!$B29) -> 0 | F29: =SUMIFS('15년일출'!$L$31:$L$733,'15년일출'!$C$31:$C$733,'15년총괄표(실국별)'!$B29) -> 0 | G29: =SUMIFS('15년일출'!$M$31:$M$733,'15년일출'!$C$31:$C$733,'15년총괄표(실국별)'!$B29) -> 0 | H29: =C29+F29+G29 -> 0 | N29: 기금
B30: 축산산림국 | D30: =SUMIFS('15년일입'!$L$7:$L$644,'15년일입'!$C$7:$C$644,'15년총괄표(실국별)'!$B30) -> 0 | E30: =SUMIFS('15년일입'!$M$7:$M$644,'15년일입'!$C$7:$C$644,'15년총괄표(실국별)'!$B30) -> 0 | F30: =SUMIFS('15년일출'!$L$31:$L$733,'15년일출'!$C$31:$C$733,'15년총괄표(실국별)'!$B30) -> 0 | G30: =SUMIFS('15년일출'!$M$31:$M$733,'15년일출'!$C$31:$C$733,'15년총괄표(실국별)'!$B30) -> 0 | H30: =C30+F30+G30 -> 0 | N30: =N26-K2 -> 0
B31: 교통국 | D31: =SUMIFS('15년일입'!$L$7:$L$644,'15년일입'!$C$7:$C$644,'15년총괄표(실국별)'!$B31) -> 0 | E31: =SUMIFS('15년일입'!$M$7:$M$644,'15년일입'!$C$7:$C$644,'15년총괄표(실국별)'!$B31) -> 0 | F31: =SUMIFS('15년일출'!$L$31:$L$733,'15년일출'!$C$31:$C$733,'15년총괄표(실국별)'!$B31) -> 0 | G31: =SUMIFS('15년일출'!$M$31:$M$733,'15년일출'!$C$31:$C$733,'15년총괄표(실국별)'!$B31) -> 0 | H31: =C31+F31+G31 -> 0 | I31: =#REF!+#REF! -> #REF! | J31: =#REF!+#REF! -> #REF! | N31: =M7-N7 -> #REF!
B32: 건설국 | D32: =SUMIFS('15년일입'!$L$7:$L$644,'15년일입'!$C$7:$C$644,'15년총괄표(실국별)'!$B32) -> 0 | E32: =SUMIFS('15년일입'!$M$7:$M$644,'15년일입'!$C$7:$C$644,'15년총괄표(실국별)'!$B32) -> 0 | F32: =SUMIFS('15년일출'!$L$31:$L$733,'15년일출'!$C$31:$C$733,'15년총괄표(실국별)'!$B32) -> 0 | G32: =SUMIFS('15년일출'!$M$31:$M$733,'15년일출'!$C$31:$C$733,'15년총괄표(실국별)'!$B32) -> 0 | H32: =C32+F32+G32 -> 0
B33: 건설본부 | D33: =SUMIFS('15년일입'!$L$7:$L$644,'15년일입'!$C$7:$C$644,'15년총괄표(실국별)'!$B33) -> 0 | E33: =SUMIFS('15년일입'!$M$7:$M$644,'15년일입'!$C$7:$C$644,'15년총괄표(실국별)'!$B33) -> 0 | F33: =SUMIFS('15년일출'!$L$31:$L$733,'15년일출'!$C$31:$C$733,'15년총괄표(실국별)'!$B33) -> 0 | G33: =SUMIFS('15년일출'!$M$31:$M$733,'15년일출'!$C$31:$C$733,'15년총괄표(실국별)'!$B33) -> 0 | H33: =C33+F33+G33 -> 0
B37: 위원회명 | C37: 일반+기특 | D37: 공기업 | E37: 합계
B38: 감사관 | C38: 914581 | E38: =SUM(C38:D38) -> 914581
B39: 기획조정실 | C39: 3119807801 | D39: 1780946434 | E39: =SUM(C39:D39) -> 4900754235
B40: 도시주택실 | C40: 190109521 | D40: 28360000 | E40: =SUM(C40:D40) -> 218469521
B41: 자치행정국 | C41: 544196314 | E41: =SUM(C41:D41) -> 544196314
B42: 문화체육관광국 | C42: 224243208 | D42: 52484400 | E42: =SUM(C42:D42) -> 276727608
B43: 농정해양국 | C43: 249710070 | E43: =SUM(C43:D43) -> 249710070
B44: 보건복지국 | C44: 2571625696 | E44: =SUM(C44:D44) -> 2571625696
B45: 환경국 | C45: 94671441 | E45: =SUM(C45:D45) -> 94671441
B46: 철도물류국 | C46: 107956457 | E46: =SUM(C46:D46) -> 107956457
B47: 여성가족국 | C47: 1879955306 | E47: =SUM(C47:D47) -> 1879955306
B48: 소방재난본부 | C48: 475412376 | E48: =SUM(C48:D48) -> 475412376
B49: 경제투자실 | C49: 148252370 | D49: 384743740 | E49: =SUM(C49:D49) -> 532996110
B50: 대변인 | C50: 9607826 | E50: =SUM(C50:D50) -> 9607826
B51: 대외협력담당관 | C51: 384069 | E51: =SUM(C51:D51) -> 384069
B52: 복지여성실 | C52: 1353512493 | E52: =SUM(C52:D52) -> 1353512493
B53: 안전행정실 | C53: 69450506 | E53: =SUM(C53:D53) -> 69450506
B54: 균형발전국 | C54: 173302168 | E54: =SUM(C54:D54) -> 173302168
B55: 평생교육국 | C55: 2325292998 | E55: =SUM(C55:D55) -> 2325292998
B56: 축산산림국 | C56: 193048941 | E56: =SUM(C56:D56) -> 193048941
B57: 교통건설국 | C57: 866196185 | E57: =SUM(C57:D57) -> 866196185
B58: 북부소방재난본부 | C58: 1402108 | E58: =SUM(C58:D58) -> 1402108
B59: 의회사무처 | C59: 29930218 | E59: =SUM(C59:D59) -> 29930218
B60: 경기도농업기술원 | C60: 39275302 | E60: =SUM(C60:D60) -> 39275302
B61: 경기도인재개발원 | C61: 8910247 | E61: =SUM(C61:D61) -> 8910247
... B66: 소방서 | C66: 53973769 | E66: =SUM(C66:D66) -> 53973769
B67: 총합계 | C67: =SUM(C38:C66) -> 15556317670 | D67: =SUM(D38:D66) -> 2246534574 | E67: =SUM(C67:D67) -> 17802852244
I167: ◦ 본청 83,000 증 ◦ 북부청 377,000 증
K297: -50000

Sheet 15년위원회별
B1: 2015년도 경기도 일반회계 세입 세출 총괄표
H2: =IF(H6=T6,"OK","@@") -> OK | M2: =IF(M6=Y6,"OK","@@") -> OK | T2: =IF(T6=H6,"OK","@@") -> OK | Y2: =IF(Y6=M6,"OK","@@") -> OK
B3: 위원회 및 실국명 | D3: 세입 | P3: 세출
D4: 예산안 (가) | E4: 상임위 예산안 조정액(나) | G4: 상임위 수정 예산안 (다=가+나) | H4: 상임위 재원별 증감액 | J4: 예결위 예산안 조정액(라) | L4: 예결위 수정 예산안 (마=가+라) | M4: 예결위 재원별 증감액 | P4: 예산안 (가) | Q4: 상임위 예산안 조정액(나) | S4: 상임위 수정 예산안 (다=가+나) | T4: 상임위 재원별 증감액 | V4: 예결위 예산안 조정액(라) | X4: 예결위 수정 예산안 (마=가+라) | Y4: 예결위 재원별 증감액
E5: 감액 | F5: 증액 | H5: 국비 등 | I5: 도 비 | J5: 감액 | K5: 증액 | M5: 국비 등 | N5: 도 비 | Q5: 감액 | R5: 증액 | T5: 국비 등 | U5: 도 비 | V5: 감액 | W5: 증액 | Y5: 국비 등 | Z5: 도 비
B6: 합 계 | D6: =SUM(D7:D46)/2 -> 64916382 | E6: =SUM(E7:E46)/2 -> -4443907 | F6: =SUM(F7:F46)/2 -> 4283253 | G6: =SUM(G7:G46)/2 -> 64755728 | H6: =SUM(H7:H46)/2 -> -160654 | I6: =SUM(I7:I46)/2 -> 0 | J6: =SUM(J7:J46)/2 -> 0 | K6: =SUM(K7:K46)/2 -> 0 | ... N6: =SUM(N7:N46)/2 -> 0 | P6: =SUM(P7:P46)/2 -> 116929303 | Q6: =SUM(Q7:Q46)/2 -> -21538359 | R6: =SUM(R7:R46)/2 -> 9925018 | S6: =SUM(S7:S46)/2 -> 105315962 | T6: =SUM(T7:T46)/2 -> -160654 | U6: =SUM(U7:U46)/2 -> -11452687 | V6: =SUM(V7:V46)/2 -> 0 | W6: =SUM(W7:W46)/2 -> 0 | ... Z6: =SUM(Z7:Z46)/2 -> 0
B7: 의회운영위원회 | D7: =SUM(D8:D10) -> 0 | E7: =SUM(E8:E10) -> 0 | F7: =SUM(F8:F10) -> 0 | G7: =SUM(G8:G10) -> 0 | H7: =SUM(H8:H10) -> 0 | I7: =SUM(I8:I10) -> 0 | J7: =SUM(J8:J10) -> 0 | K7: =SUM(K8:K10) -> 0 | ... N7: =SUM(N8:N10) -> 0 | P7: =SUM(P8:P10) -> 0 | Q7: =SUM(Q8:Q10) -> 0 | R7: =SUM(R8:R10) -> 0 | S7: =SUM(S8:S10) -> 0 | T7: =SUM(T8:T10) -> 0 | U7: =SUM(U8:U10) -> 0 | V7: =SUM(V8:V10) -> 0 | W7: =SUM(W8:W10) -> 0 | ... Z7: =SUM(Z8:Z10) -> 0
A8: 의회운영위원회 | C8: 의회사무처 | D8: =SUMIFS('15년일입'!$H$7:$H$644,'15년일입'!$B$7:$B$644,'15년위원회별'!$A8,'15년일입'!$C$7:$C$644,'15년위원회별'!$C8) -> 0 | E8: =SUMIFS('15년일입'!$I$7:$I$644,'15년일입'!$B$7:$B$644,'15년위원회별'!$A8,'15년일입'!$C$7:$C$644,'15년위원회별'!$C8) -> 0 | F8: =SUMIFS('15년일입'!$J$7:$J$644,'15년일입'!$B$7:$B$644,'15년위원회별'!$A8,'15년일입'!$C$7:$C$644,'15년위원회별'!$C8) -> 0 | G8: =SUMIFS('15년일입'!$K$7:$K$644,'15년일입'!$B$7:$B$644,'15년위원회별'!$A8,'15년일입'!$C$7:$C$644,'15년위원회별'!$C8) -> 0 | H8: =SUMIFS('15년일입'!$U$7:$U$644,'15년일입'!$B$7:$B$644,'15년위원회별'!$A8,'15년일입'!$C$7:$C$644,'15년위원회별'!$C8) -> 0 | I8: =SUMIFS('15년일입'!$V$7:$V$644,'15년일입'!$B$7:$B$644,'15년위원회별'!$A8,'15년일입'!$C$7:$C$644,'15년위원회별'!$C8) -> 0 | J8: =SUMIFS('15년일입'!$L$7:$L$644,'15년일입'!$B$7:$B$644,'15년위원회별'!$A8,'15년일입'!$C$7:$C$644,'15년위원회별'!$C8) -> 0 | K8: =SUMIFS('15년일입'!$M$7:$M$644,'15년일입'!$B$7:$B$644,'15년위원회별'!$A8,'15년일입'!$C$7:$C$644,'15년위원회별'!$C8) -> 0 | L8: =SUMIFS('15년일입'!$N$7:$N$644,'15년일입'!$B$7:$B$644,'15년위원회별'!$A8,'15년일입'!$C$7:$C$644,'15년위원회별'!$C8) -> 0 | M8: =SUMIFS('15년일입'!$Z$7:$Z$644,'15년일입'!$B$7:$B$644,'15년위원회별'!$A8,'15년일입'!$C$7:$C$644,'15년위원회별'!$C8) -> 0 | N8: =SUMIFS('15년일입'!$AA$7:$AA$644,'15년일입'!$B$7:$B$644,'15년위원회별'!$A8,'15년일입'!$C$7:$C$644,'15년위원회별'!$C8) -> 0 | P8: =SUMIFS('15년일출'!$H$31:$H$733,'15년일출'!$B$31:$B$733,'15년위원회별'!$A8,'15년일출'!$C$31:$C$733,'15년위원회별'!$C8) -> 0 | Q8: =SUMIFS('15년일출'!$I$31:$I$733,'15년일출'!$B$31:$B$733,'15년위원회별'!$A8,'15년일출'!$C$31:$C$733,'15년위원회별'!$C8) -> 0 | R8: =SUMIFS('15년일출'!$J$31:$J$733,'15년일출'!$B$31:$B$733,'15년위원회별'!$A8,'15년일출'!$C$31:$C$733,'15년위원회별'!$C8) -> 0 | S8: =SUMIFS('15년일출'!$K$31:$K$733,'15년일출'!$B$31:$B$733,'15년위원회별'!$A8,'15년일출'!$C$31:$C$733,'15년위원회별'!$C8) -> 0 | T8: =SUMIFS('15년일출'!$U$31:$U$733,'15년일출'!$B$31:$B$733,'15년위원회별'!$A8,'15년일출'!$C$31:$C$733,'15년위원회별'!$C8) -> 0 | U8: =SUMIFS('15년일출'!$V$31:$V$733,'15년일출'!$B$31:$B$733,'15년위원회별'!$A8,'15년일출'!$C$31:$C$733,'15년위원회별'!$C8) -> 0 | V8: =SUMIFS('15년일출'!$L$31:$L$733,'15년일출'!$B$31:$B$733,'15년위원회별'!$A8,'15년일출'!$C$31:$C$733,'15년위원회별'!$C8) -> 0 | W8: =SUMIFS('15년일출'!$M$31:$M$733,'15년일출'!$B$31:$B$733,'15년위원회별'!$A8,'15년일출'!$C$31:$C$733,'15년위원회별'!$C8) -> 0 | X8: =SUMIFS('15년일출'!$N$31:$N$733,'15년일출'!$B$31:$B$733,'15년위원회별'!$A8,'15년일출'!$C$31:$C$733,'15년위원회별'!$C8) -> 0 | Y8: =SUMIFS('15년일출'!$Z$31:$Z$733,'15년일출'!$B$31:$B$733,'15년위원회별'!$A8,'15년일출'!$C$31:$C$733,'15년위원회별'!$C8) -> 0 | Z8: =SUMIFS('15년일출'!$AA$31:$AA$733,'15년일출'!$B$31:$B$733,'15년위원회별'!$A8,'15년일출'!$C$31:$C$733,'15년위원회별'!$C8) -> 0
A9: 의회운영위원회 | C9: 대변인 | D9: =SUMIFS('15년일입'!$H$7:$H$644,'15년일입'!$B$7:$B$644,'15년위원회별'!$A9,'15년일입'!$C$7:$C$644,'15년위원회별'!$C9) -> 0 | E9: =SUMIFS('15년일입'!$I$7:$I$644,'15년일입'!$B$7:$B$644,'15년위원회별'!$A9,'15년일입'!$C$7:$C$644,'15년위원회별'!$C9) -> 0 | F9: =SUMIFS('15년일입'!$J$7:$J$644,'15년일입'!$B$7:$B$644,'15년위원회별'!$A9,'15년일입'!$C$7:$C$644,'15년위원회별'!$C9) -> 0 | G9: =SUMIFS('15년일입'!$K$7:$K$644,'15년일입'!$B$7:$B$644,'15년위원회별'!$A9,'15년일입'!$C$7:$C$644,'15년위원회별'!$C9) -> 0 | H9: =SUMIFS('15년일입'!$U$7:$U$644,'15년일입'!$B$7:$B$644,'15년위원회별'!$A9,'15년일입'!$C$7:$C$644,'15년위원회별'!$C9) -> 0 | I9: =SUMIFS('15년일입'!$V$7:$V$644,'15년일입'!$B$7:$B$644,'15년위원회별'!$A9,'15년일입'!$C$7:$C$644,'15년위원회별'!$C9) -> 0 | J9: =SUMIFS('15년일입'!$L$7:$L$644,'15년일입'!$B$7:$B$644,'15년위원회별'!$A9,'15년일입'!$C$7:$C$644,'15년위원회별'!$C9) -> 0 | K9: =SUMIFS('15년일입'!$M$7:$M$644,'15년일입'!$B$7:$B$644,'15년위원회별'!$A9,'15년일입'!$C$7:$C$644,'15년위원회별'!$C9) -> 0 | L9: =SUMIFS('15년일입'!$N$7:$N$644,'15년일입'!$B$7:$B$644,'15년위원회별'!$A9,'15년일입'!$C$7:$C$644,'15년위원회별'!$C9) -> 0 | M9: =SUMIFS('15년일입'!$Z$7:$Z$644,'15년일입'!$B$7:$B$644,'15년위원회별'!$A9,'15년일입'!$C$7:$C$644,'15년위원회별'!$C9) -> 0 | N9: =SUMIFS('15년일입'!$AA$7:$AA$644,'15년일입'!$B$7:$B$644,'15년위원회별'!$A9,'15년일입'!$C$7:$C$644,'15년위원회별'!$C9) -> 0 | P9: =SUMIFS('15년일출'!$H$31:$H$733,'15년일출'!$B$31:$B$733,'15년위원회별'!$A9,'15년일출'!$C$31:$C$733,'15년위원회별'!$C9) -> 0 | Q9: =SUMIFS('15년일출'!$I$31:$I$733,'15년일출'!$B$31:$B$733,'15년위원회별'!$A9,'15년일출'!$C$31:$C$733,'15년위원회별'!$C9) -> 0 | R9: =SUMIFS('15년일출'!$J$31:$J$733,'15년일출'!$B$31:$B$733,'15년위원회별'!$A9,'15년일출'!$C$31:$C$733,'15년위원회별'!$C9) -> 0 | S9: =SUMIFS('15년일출'!$K$31:$K$733,'15년일출'!$B$31:$B$733,'15년위원회별'!$A9,'15년일출'!$C$31:$C$733,'15년위원회별'!$C9) -> 0 | T9: =SUMIFS('15년일출'!$U$31:$U$733,'15년일출'!$B$31:$B$733,'15년위원회별'!$A9,'15년일출'!$C$31:$C$733,'15년위원회별'!$C9) -> 0 | U9: =SUMIFS('15년일출'!$V$31:$V$733,'15년일출'!$B$31:$B$733,'15년위원회별'!$A9,'15년일출'!$C$31:$C$733,'15년위원회별'!$C9) -> 0 | V9: =SUMIFS('15년일출'!$L$31:$L$733,'15년일출'!$B$31:$B$733,'15년위원회별'!$A9,'15년일출'!$C$31:$C$733,'15년위원회별'!$C9) -> 0 | W9: =SUMIFS('15년일출'!$M$31:$M$733,'15년일출'!$B$31:$B$733,'15년위원회별'!$A9,'15년일출'!$C$31:$C$733,'15년위원회별'!$C9) -> 0 | X9: =SUMIFS('15년일출'!$N$31:$N$733,'15년일출'!$B$31:$B$733,'15년위원회별'!$A9,'15년일출'!$C$31:$C$733,'15년위원회별'!$C9) -> 0 | Y9: =SUMIFS('15년일출'!$Z$31:$Z$733,'15년일출'!$B$31:$B$733,'15년위원회별'!$A9,'15년일출'!$C$31:$C$733,'15년위원회별'!$C9) -> 0 | Z9: =SUMIFS('15년일출'!$AA$31:$AA$733,'15년일출'!$B$31:$B$733,'15년위원회별'!$A9,'15년일출'!$C$31:$C$733,'15년위원회별'!$C9) -> 0
A10: 의회운영위원회 | C10: 대외협력담당관 | D10: =SUMIFS('15년일입'!$H$7:$H$644,'15년일입'!$B$7:$B$644,'15년위원회별'!$A10,'15년일입'!$C$7:$C$644,'15년위원회별'!$C10) -> 0 | E10: =SUMIFS('15년일입'!$I$7:$I$644,'15년일입'!$B$7:$B$644,'15년위원회별'!$A10,'15년일입'!$C$7:$C$644,'15년위원회별'!$C10) -> 0 | F10: =SUMIFS('15년일입'!$J$7:$J$644,'15년일입'!$B$7:$B$644,'15년위원회별'!$A10,'15년일입'!$C$7:$C$644,'15년위원회별'!$C10) -> 0 | G10: =SUMIFS('15년일입'!$K$7:$K$644,'15년일입'!$B$7:$B$644,'15년위원회별'!$A10,'15년일입'!$C$7:$C$644,'15년위원회별'!$C10) -> 0 | H10: =SUMIFS('15년일입'!$U$7:$U$644,'15년일입'!$B$7:$B$644,'15년위원회별'!$A10,'15년일입'!$C$7:$C$644,'15년위원회별'!$C10) -> 0 | I10: =SUMIFS('15년일입'!$V$7:$V$644,'15년일입'!$B$7:$B$644,'15년위원회별'!$A10,'15년일입'!$C$7:$C$644,'15년위원회별'!$C10) -> 0 | J10: =SUMIFS('15년일입'!$L$7:$L$644,'15년일입'!$B$7:$B$644,'15년위원회별'!$A10,'15년일입'!$C$7:$C$644,'15년위원회별'!$C10) -> 0 | K10: =SUMIFS('15년일입'!$M$7:$M$644,'15년일입'!$B$7:$B$644,'15년위원회별'!$A10,'15년일입'!$C$7:$C$644,'15년위원회별'!$C10) -> 0 | L10: =SUMIFS('15년일입'!$N$7:$N$644,'15년일입'!$B$7:$B$644,'15년위원회별'!$A10,'15년일입'!$C$7:$C$644,'15년위원회별'!$C10) -> 0 | M10: =SUMIFS('15년일입'!$Z$7:$Z$644,'15년일입'!$B$7:$B$644,'15년위원회별'!$A10,'15년일입'!$C$7:$C$644,'15년위원회별'!$C10) -> 0 | N10: =SUMIFS('15년일입'!$AA$7:$AA$644,'15년일입'!$B$7:$B$644,'15년위원회별'!$A10,'15년일입'!$C$7:$C$644,'15년위원회별'!$C10) -> 0 | P10: =SUMIFS('15년일출'!$H$31:$H$733,'15년일출'!$B$31:$B$733,'15년위원회별'!$A10,'15년일출'!$C$31:$C$733,'15년위원회별'!$C10) -> 0 | Q10: =SUMIFS('15년일출'!$I$31:$I$733,'15년일출'!$B$31:$B$733,'15년위원회별'!$A10,'15년일출'!$C$31:$C$733,'15년위원회별'!$C10) -> 0 | R10: =SUMIFS('15년일출'!$J$31:$J$733,'15년일출'!$B$31:$B$733,'15년위원회별'!$A10,'15년일출'!$C$31:$C$733,'15년위원회별'!$C10) -> 0 | S10: =SUMIFS('15년일출'!$K$31:$K$733,'15년일출'!$B$31:$B$733,'15년위원회별'!$A10,'15년일출'!$C$31:$C$733,'15년위원회별'!$C10) -> 0 | T10: =SUMIFS('15년일출'!$U$31:$U$733,'15년일출'!$B$31:$B$733,'15년위원회별'!$A10,'15년일출'!$C$31:$C$733,'15년위원회별'!$C10) -> 0 | U10: =SUMIFS('15년일출'!$V$31:$V$733,'15년일출'!$B$31:$B$733,'15년위원회별'!$A10,'15년일출'!$C$31:$C$733,'15년위원회별'!$C10) -> 0 | V10: =SUMIFS('15년일출'!$L$31:$L$733,'15년일출'!$B$31:$B$733,'15년위원회별'!$A10,'15년일출'!$C$31:$C$733,'15년위원회별'!$C10) -> 0 | W10: =SUMIFS('15년일출'!$M$31:$M$733,'15년일출'!$B$31:$B$733,'15년위원회별'!$A10,'15년일출'!$C$31:$C$733,'15년위원회별'!$C10) -> 0 | X10: =SUMIFS('15년일출'!$N$31:$N$733,'15년일출'!$B$31:$B$733,'15년위원회별'!$A10,'15년일출'!$C$31:$C$733,'15년위원회별'!$C10) -> 0 | Y10: =SUMIFS('15년일출'!$Z$31:$Z$733,'15년일출'!$B$31:$B$733,'15년위원회별'!$A10,'15년일출'!$C$31:$C$733,'15년위원회별'!$C10) -> 0 | Z10: =SUMIFS('15년일출'!$AA$31:$AA$733,'15년일출'!$B$31:$B$733,'15년위원회별'!$A10,'15년일출'!$C$31:$C$733,'15년위원회별'!$C10) -> 0
B11: 기획재정위원회 | D11: =SUM(D12:D14) -> 0 | E11: =SUM(E12:E14) -> 0 | F11: =SUM(F12:F14) -> 0 | G11: =SUM(G12:G14) -> 0 | H11: =SUM(H12:H14) -> 0 | I11: =SUM(I12:I14) -> 0 | J11: =SUM(J12:J14) -> 0 | K11: =SUM(K12:K14) -> 0 | ... N11: =SUM(N12:N14) -> 0 | P11: =SUM(P12:P14) -> 0 | Q11: =SUM(Q12:Q14) -> 0 | R11: =SUM(R12:R14) -> 0 | S11: =SUM(S12:S14) -> 0 | T11: =SUM(T12:T14) -> 0 | U11: =SUM(U12:U14) -> 0 | V11: =SUM(V12:V14) -> 0 | W11: =SUM(W12:W14) -> 0 | ... Z11: =SUM(Z12:Z14) -> 0
A12: 기획재정위원회 | C12: 감사관 | D12: =SUMIFS('15년일입'!$H$7:$H$644,'15년일입'!$B$7:$B$644,'15년위원회별'!$A12,'15년일입'!$C$7:$C$644,'15년위원회별'!$C12) -> 0 | E12: =SUMIFS('15년일입'!$I$7:$I$644,'15년일입'!$B$7:$B$644,'15년위원회별'!$A12,'15년일입'!$C$7:$C$644,'15년위원회별'!$C12) -> 0 | F12: =SUMIFS('15년일입'!$J$7:$J$644,'15년일입'!$B$7:$B$644,'15년위원회별'!$A12,'15년일입'!$C$7:$C$644,'15년위원회별'!$C12) -> 0 | G12: =SUMIFS('15년일입'!$K$7:$K$644,'15년일입'!$B$7:$B$644,'15년위원회별'!$A12,'15년일입'!$C$7:$C$644,'15년위원회별'!$C12) -> 0 | H12: =SUMIFS('15년일입'!$U$7:$U$644,'15년일입'!$B$7:$B$644,'15년위원회별'!$A12,'15년일입'!$C$7:$C$644,'15년위원회별'!$C12) -> 0 | I12: =SUMIFS('15년일입'!$V$7:$V$644,'15년일입'!$B$7:$B$644,'15년위원회별'!$A12,'15년일입'!$C$7:$C$644,'15년위원회별'!$C12) -> 0 | J12: =SUMIFS('15년일입'!$L$7:$L$644,'15년일입'!$B$7:$B$644,'15년위원회별'!$A12,'15년일입'!$C$7:$C$644,'15년위원회별'!$C12) -> 0 | K12: =SUMIFS('15년일입'!$M$7:$M$644,'15년일입'!$B$7:$B$644,'15년위원회별'!$A12,'15년일입'!$C$7:$C$644,'15년위원회별'!$C12) -> 0 | L12: =SUMIFS('15년일입'!$N$7:$N$644,'15년일입'!$B$7:$B$644,'15년위원회별'!$A12,'15년일입'!$C$7:$C$644,'15년위원회별'!$C12) -> 0 | M12: =SUMIFS('15년일입'!$Z$7:$Z$644,'15년일입'!$B$7:$B$644,'15년위원회별'!$A12,'15년일입'!$C$7:$C$644,'15년위원회별'!$C12) -> 0 | N12: =SUMIFS('15년일입'!$AA$7:$AA$644,'15년일입'!$B$7:$B$644,'15년위원회별'!$A12,'15년일입'!$C$7:$C$644,'15년위원회별'!$C12) -> 0 | P12: =SUMIFS('15년일출'!$H$31:$H$733,'15년일출'!$B$31:$B$733,'15년위원회별'!$A12,'15년일출'!$C$31:$C$733,'15년위원회별'!$C12) -> 0 | Q12: =SUMIFS('15년일출'!$I$31:$I$733,'15년일출'!$B$31:$B$733,'15년위원회별'!$A12,'15년일출'!$C$31:$C$733,'15년위원회별'!$C12) -> 0 | R12: =SUMIFS('15년일출'!$J$31:$J$733,'15년일출'!$B$31:$B$733,'15년위원회별'!$A12,'15년일출'!$C$31:$C$733,'15년위원회별'!$C12) -> 0 | S12: =SUMIFS('15년일출'!$K$31:$K$733,'15년일출'!$B$31:$B$733,'15년위원회별'!$A12,'15년일출'!$C$31:$C$733,'15년위원회별'!$C12) -> 0 | T12: =SUMIFS('15년일출'!$U$31:$U$733,'15년일출'!$B$31:$B$733,'15년위원회별'!$A12,'15년일출'!$C$31:$C$733,'15년위원회별'!$C12) -> 0 | U12: =SUMIFS('15년일출'!$V$31:$V$733,'15년일출'!$B$31:$B$733,'15년위원회별'!$A12,'15년일출'!$C$31:$C$733,'15년위원회별'!$C12) -> 0 | V12: =SUMIFS('15년일출'!$L$31:$L$733,'15년일출'!$B$31:$B$733,'15년위원회별'!$A12,'15년일출'!$C$31:$C$733,'15년위원회별'!$C12) -> 0 | W12: =SUMIFS('15년일출'!$M$31:$M$733,'15년일출'!$B$31:$B$733,'15년위원회별'!$A12,'15년일출'!$C$31:$C$733,'15년위원회별'!$C12) -> 0 | X12: =SUMIFS('15년일출'!$N$31:$N$733,'15년일출'!$B$31:$B$733,'15년위원회별'!$A12,'15년일출'!$C$31:$C$733,'15년위원회별'!$C12) -> 0 | Y12: =SUMIFS('15년일출'!$Z$31:$Z$733,'15년일출'!$B$31:$B$733,'15년위원회별'!$A12,'15년일출'!$C$31:$C$733,'15년위원회별'!$C12) -> 0 | Z12: =SUMIFS('15년일출'!$AA$31:$AA$733,'15년일출'!$B$31:$B$733,'15년위원회별'!$A12,'15년일출'!$C$31:$C$733,'15년위원회별'!$C12) -> 0
A13: 기획재정위원회 | C13: 기획조정실 | D13: =SUMIFS('15년일입'!$H$7:$H$644,'15년일입'!$B$7:$B$644,'15년위원회별'!$A13,'15년일입'!$C$7:$C$644,'15년위원회별'!$C13) -> 0 | E13: =SUMIFS('15년일입'!$I$7:$I$644,'15년일입'!$B$7:$B$644,'15년위원회별'!$A13,'15년일입'!$C$7:$C$644,'15년위원회별'!$C13) -> 0 | F13: =SUMIFS('15년일입'!$J$7:$J$644,'15년일입'!$B$7:$B$644,'15년위원회별'!$A13,'15년일입'!$C$7:$C$644,'15년위원회별'!$C13) -> 0 | G13: =SUMIFS('15년일입'!$K$7:$K$644,'15년일입'!$B$7:$B$644,'15년위원회별'!$A13,'15년일입'!$C$7:$C$644,'15년위원회별'!$C13) -> 0 | H13: =SUMIFS('15년일입'!$U$7:$U$644,'15년일입'!$B$7:$B$644,'15년위원회별'!$A13,'15년일입'!$C$7:$C$644,'15년위원회별'!$C13) -> 0 | I13: =SUMIFS('15년일입'!$V$7:$V$644,'15년일입'!$B$7:$B$644,'15년위원회별'!$A13,'15년일입'!$C$7:$C$644,'15년위원회별'!$C13) -> 0 | J13: =SUMIFS('15년일입'!$L$7:$L$644,'15년일입'!$B$7:$B$644,'15년위원회별'!$A13,'15년일입'!$C$7:$C$644,'15년위원회별'!$C13) -> 0 | K13: =SUMIFS('15년일입'!$M$7:$M$644,'15년일입'!$B$7:$B$644,'15년위원회별'!$A13,'15년일입'!$C$7:$C$644,'15년위원회별'!$C13) -> 0 | L13: =SUMIFS('15년일입'!$N$7:$N$644,'15년일입'!$B$7:$B$644,'15년위원회별'!$A13,'15년일입'!$C$7:$C$644,'15년위원회별'!$C13) -> 0 | M13: =SUMIFS('15년일입'!$Z$7:$Z$644,'15년일입'!$B$7:$B$644,'15년위원회별'!$A13,'15년일입'!$C$7:$C$644,'15년위원회별'!$C13) -> 0 | N13: =SUMIFS('15년일입'!$AA$7:$AA$644,'15년일입'!$B$7:$B$644,'15년위원회별'!$A13,'15년일입'!$C$7:$C$644,'15년위원회별'!$C13) -> 0 | P13: =SUMIFS('15년일출'!$H$31:$H$733,'15년일출'!$B$31:$B$733,'15년위원회별'!$A13,'15년일출'!$C$31:$C$733,'15년위원회별'!$C13) -> 0 | Q13: =SUMIFS('15년일출'!$I$31:$I$733,'15년일출'!$B$31:$B$733,'15년위원회별'!$A13,'15년일출'!$C$31:$C$733,'15년위원회별'!$C13) -> 0 | R13: =SUMIFS('15년일출'!$J$31:$J$733,'15년일출'!$B$31:$B$733,'15년위원회별'!$A13,'15년일출'!$C$31:$C$733,'15년위원회별'!$C13) -> 0 | S13: =SUMIFS('15년일출'!$K$31:$K$733,'15년일출'!$B$31:$B$733,'15년위원회별'!$A13,'15년일출'!$C$31:$C$733,'15년위원회별'!$C13) -> 0 | T13: =SUMIFS('15년일출'!$U$31:$U$733,'15년일출'!$B$31:$B$733,'15년위원회별'!$A13,'15년일출'!$C$31:$C$733,'15년위원회별'!$C13) -> 0 | U13: =SUMIFS('15년일출'!$V$31:$V$733,'15년일출'!$B$31:$B$733,'15년위원회별'!$A13,'15년일출'!$C$31:$C$733,'15년위원회별'!$C13) -> 0 | V13: =SUMIFS('15년일출'!$L$31:$L$733,'15년일출'!$B$31:$B$733,'15년위원회별'!$A13,'15년일출'!$C$31:$C$733,'15년위원회별'!$C13) -> 0 | W13: =SUMIFS('15년일출'!$M$31:$M$733,'15년일출'!$B$31:$B$733,'15년위원회별'!$A13,'15년일출'!$C$31:$C$733,'15년위원회별'!$C13) -> 0 | X13: =SUMIFS('15년일출'!$N$31:$N$733,'15년일출'!$B$31:$B$733,'15년위원회별'!$A13,'15년일출'!$C$31:$C$733,'15년위원회별'!$C13) -> 0 | Y13: =SUMIFS('15년일출'!$Z$31:$Z$733,'15년일출'!$B$31:$B$733,'15년위원회별'!$A13,'15년일출'!$C$31:$C$733,'15년위원회별'!$C13) -> 0 | Z13: =SUMIFS('15년일출'!$AA$31:$AA$733,'15년일출'!$B$31:$B$733,'15년위원회별'!$A13,'15년일출'!$C$31:$C$733,'15년위원회별'!$C13) -> 0
A14: 기획재정위원회 | C14: 균형발전기획실 | D14: =SUMIFS('15년일입'!$H$7:$H$644,'15년일입'!$B$7:$B$644,'15년위원회별'!$A14,'15년일입'!$C$7:$C$644,'15년위원회별'!$C14) -> 0 | E14: =SUMIFS('15년일입'!$I$7:$I$644,'15년일입'!$B$7:$B$644,'15년위원회별'!$A14,'15년일입'!$C$7:$C$644,'15년위원회별'!$C14) -> 0 | F14: =SUMIFS('15년일입'!$J$7:$J$644,'15년일입'!$B$7:$B$644,'15년위원회별'!$A14,'15년일입'!$C$7:$C$644,'15년위원회별'!$C14) -> 0 | G14: =SUMIFS('15년일입'!$K$7:$K$644,'15년일입'!$B$7:$B$644,'15년위원회별'!$A14,'15년일입'!$C$7:$C$644,'15년위원회별'!$C14) -> 0 | H14: =SUMIFS('15년일입'!$U$7:$U$644,'15년일입'!$B$7:$B$644,'15년위원회별'!$A14,'15년일입'!$C$7:$C$644,'15년위원회별'!$C14) -> 0 | I14: =SUMIFS('15년일입'!$V$7:$V$644,'15년일입'!$B$7:$B$644,'15년위원회별'!$A14,'15년일입'!$C$7:$C$644,'15년위원회별'!$C14) -> 0 | J14: =SUMIFS('15년일입'!$L$7:$L$644,'15년일입'!$B$7:$B$644,'15년위원회별'!$A14,'15년일입'!$C$7:$C$644,'15년위원회별'!$C14) -> 0 | K14: =SUMIFS('15년일입'!$M$7:$M$644,'15년일입'!$B$7:$B$644,'15년위원회별'!$A14,'15년일입'!$C$7:$C$644,'15년위원회별'!$C14) -> 0 | L14: =SUMIFS('15년일입'!$N$7:$N$644,'15년일입'!$B$7:$B$644,'15년위원회별'!$A14,'15년일입'!$C$7:$C$644,'15년위원회별'!$C14) -> 0 | M14: =SUMIFS('15년일입'!$Z$7:$Z$644,'15년일입'!$B$7:$B$644,'15년위원회별'!$A14,'15년일입'!$C$7:$C$644,'15년위원회별'!$C14) -> 0 | N14: =SUMIFS('15년일입'!$AA$7:$AA$644,'15년일입'!$B$7:$B$644,'15년위원회별'!$A14,'15년일입'!$C$7:$C$644,'15년위원회별'!$C14) -> 0 | P14: =SUMIFS('15년일출'!$H$31:$H$733,'15년일출'!$B$31:$B$733,'15년위원회별'!$A14,'15년일출'!$C$31:$C$733,'15년위원회별'!$C14) -> 0 | Q14: =SUMIFS('15년일출'!$I$31:$I$733,'15년일출'!$B$31:$B$733,'15년위원회별'!$A14,'15년일출'!$C$31:$C$733,'15년위원회별'!$C14) -> 0 | R14: =SUMIFS('15년일출'!$J$31:$J$733,'15년일출'!$B$31:$B$733,'15년위원회별'!$A14,'15년일출'!$C$31:$C$733,'15년위원회별'!$C14) -> 0 | S14: =SUMIFS('15년일출'!$K$31:$K$733,'15년일출'!$B$31:$B$733,'15년위원회별'!$A14,'15년일출'!$C$31:$C$733,'15년위원회별'!$C14) -> 0 | T14: =SUMIFS('15년일출'!$U$31:$U$733,'15년일출'!$B$31:$B$733,'15년위원회별'!$A14,'15년일출'!$C$31:$C$733,'15년위원회별'!$C14) -> 0 | U14: =SUMIFS('15년일출'!$V$31:$V$733,'15년일출'!$B$31:$B$733,'15년위원회별'!$A14,'15년일출'!$C$31:$C$733,'15년위원회별'!$C14) -> 0 | V14: =SUMIFS('15년일출'!$L$31:$L$733,'15년일출'!$B$31:$B$733,'15년위원회별'!$A14,'15년일출'!$C$31:$C$733,'15년위원회별'!$C14) -> 0 | W14: =SUMIFS('15년일출'!$M$31:$M$733,'15년일출'!$B$31:$B$733,'15년위원회별'!$A14,'15년일출'!$C$31:$C$733,'15년위원회별'!$C14) -> 0 | X14: =SUMIFS('15년일출'!$N$31:$N$733,'15년일출'!$B$31:$B$733,'15년위원회별'!$A14,'15년일출'!$C$31:$C$733,'15년위원회별'!$C14) -> 0 | Y14: =SUMIFS('15년일출'!$Z$31:$Z$733,'15년일출'!$B$31:$B$733,'15년위원회별'!$A14,'15년일출'!$C$31:$C$733,'15년위원회별'!$C14) -> 0 | Z14: =SUMIFS('15년일출'!$AA$31:$AA$733,'15년일출'!$B$31:$B$733,'15년위원회별'!$A14,'15년일출'!$C$31:$C$733,'15년위원회별'!$C14) -> 0
B15: 경제과학기술위원회 | D15: =SUM(D16) -> 0 | E15: =SUM(E16) -> 0 | F15: =SUM(F16) -> 0 | G15: =SUM(G16) -> 0 | H15: =SUM(H16) -> 0 | I15: =SUM(I16) -> 0 | J15: =SUM(J16) -> 0 | K15: =SUM(K16) -> 0 | ... N15: =SUM(N16) -> 0 | P15: =SUM(P16) -> 0 | Q15: =SUM(Q16) -> 0 | R15: =SUM(R16) -> 0 | S15: =SUM(S16) -> 0 | T15: =SUM(T16) -> 0 | U15: =SUM(U16) -> 0 | V15: =SUM(V16) -> 0 | W15: =SUM(W16) -> 0 | ... Z15: =SUM(Z16) -> 0
A16: 경제과학기술위원회 | C16: 경제실 | D16: =SUMIFS('15년일입'!$H$7:$H$644,'15년일입'!$B$7:$B$644,'15년위원회별'!$A16,'15년일입'!$C$7:$C$644,'15년위원회별'!$C16) -> 0 | E16: =SUMIFS('15년일입'!$I$7:$I$644,'15년일입'!$B$7:$B$644,'15년위원회별'!$A16,'15년일입'!$C$7:$C$644,'15년위원회별'!$C16) -> 0 | F16: =SUMIFS('15년일입'!$J$7:$J$644,'15년일입'!$B$7:$B$644,'15년위원회별'!$A16,'15년일입'!$C$7:$C$644,'15년위원회별'!$C16) -> 0 | G16: =SUMIFS('15년일입'!$K$7:$K$644,'15년일입'!$B$7:$B$644,'15년위원회별'!$A16,'15년일입'!$C$7:$C$644,'15년위원회별'!$C16) -> 0 | H16: =SUMIFS('15년일입'!$U$7:$U$644,'15년일입'!$B$7:$B$644,'15년위원회별'!$A16,'15년일입'!$C$7:$C$644,'15년위원회별'!$C16) -> 0 | I16: =SUMIFS('15년일입'!$V$7:$V$644,'15년일입'!$B$7:$B$644,'15년위원회별'!$A16,'15년일입'!$C$7:$C$644,'15년위원회별'!$C16) -> 0 | J16: =SUMIFS('15년일입'!$L$7:$L$644,'15년일입'!$B$7:$B$644,'15년위원회별'!$A16,'15년일입'!$C$7:$C$644,'15년위원회별'!$C16) -> 0 | K16: =SUMIFS('15년일입'!$M$7:$M$644,'15년일입'!$B$7:$B$644,'15년위원회별'!$A16,'15년일입'!$C$7:$C$644,'15년위원회별'!$C16) -> 0 | L16: =SUMIFS('15년일입'!$N$7:$N$644,'15년일입'!$B$7:$B$644,'15년위원회별'!$A16,'15년일입'!$C$7:$C$644,'15년위원회별'!$C16) -> 0 | M16: =SUMIFS('15년일입'!$Z$7:$Z$644,'15년일입'!$B$7:$B$644,'15년위원회별'!$A16,'15년일입'!$C$7:$C$644,'15년위원회별'!$C16) -> 0 | N16: =SUMIFS('15년일입'!$AA$7:$AA$644,'15년일입'!$B$7:$B$644,'15년위원회별'!$A16,'15년일입'!$C$7:$C$644,'15년위원회별'!$C16) -> 0 | P16: =SUMIFS('15년일출'!$H$31:$H$733,'15년일출'!$B$31:$B$733,'15년위원회별'!$A16,'15년일출'!$C$31:$C$733,'15년위원회별'!$C16) -> 0 | Q16: =SUMIFS('15년일출'!$I$31:$I$733,'15년일출'!$B$31:$B$733,'15년위원회별'!$A16,'15년일출'!$C$31:$C$733,'15년위원회별'!$C16) -> 0 | R16: =SUMIFS('15년일출'!$J$31:$J$733,'15년일출'!$B$31:$B$733,'15년위원회별'!$A16,'15년일출'!$C$31:$C$733,'15년위원회별'!$C16) -> 0 | S16: =SUMIFS('15년일출'!$K$31:$K$733,'15년일출'!$B$31:$B$733,'15년위원회별'!$A16,'15년일출'!$C$31:$C$733,'15년위원회별'!$C16) -> 0 | T16: =SUMIFS('15년일출'!$U$31:$U$733,'15년일출'!$B$31:$B$733,'15년위원회별'!$A16,'15년일출'!$C$31:$C$733,'15년위원회별'!$C16) -> 0 | U16: =SUMIFS('15년일출'!$V$31:$V$733,'15년일출'!$B$31:$B$733,'15년위원회별'!$A16,'15년일출'!$C$31:$C$733,'15년위원회별'!$C16) -> 0 | V16: =SUMIFS('15년일출'!$L$31:$L$733,'15년일출'!$B$31:$B$733,'15년위원회별'!$A16,'15년일출'!$C$31:$C$733,'15년위원회별'!$C16) -> 0 | W16: =SUMIFS('15년일출'!$M$31:$M$733,'15년일출'!$B$31:$B$733,'15년위원회별'!$A16,'15년일출'!$C$31:$C$733,'15년위원회별'!$C16) -> 0 | X16: =SUMIFS('15년일출'!$N$31:$N$733,'15년일출'!$B$31:$B$733,'15년위원회별'!$A16,'15년일출'!$C$31:$C$733,'15년위원회별'!$C16) -> 0 | Y16: =SUMIFS('15년일출'!$Z$31:$Z$733,'15년일출'!$B$31:$B$733,'15년위원회별'!$A16,'15년일출'!$C$31:$C$733,'15년위원회별'!$C16) -> 0 | Z16: =SUMIFS('15년일출'!$AA$31:$AA$733,'15년일출'!$B$31:$B$733,'15년위원회별'!$A16,'15년일출'!$C$31:$C$733,'15년위원회별'!$C16) -> 0
B17: 안전행정위원회 | D17: =SUM(D18:D21) -> 0 | E17: =SUM(E18:E21) -> 0 | F17: =SUM(F18:F21) -> 0 | G17: =SUM(G18:G21) -> 0 | H17: =SUM(H18:H21) -> 0 | I17: =SUM(I18:I21) -> 0 | J17: =SUM(J18:J21) -> 0 | K17: =SUM(K18:K21) -> 0 | ... N17: =SUM(N18:N21) -> 0 | P17: =SUM(P18:P21) -> 0 | Q17: =SUM(Q18:Q21) -> 0 | R17: =SUM(R18:R21) -> 0 | S17: =SUM(S18:S21) -> 0 | T17: =SUM(T18:T21) -> 0 | U17: =SUM(U18:U21) -> 0 | V17: =SUM(V18:V21) -> 0 | W17: =SUM(W18:W21) -> 0 | ... Z17: =SUM(Z18:Z21) -> 0
A18: 안전행정위원회 | C18: 자치행정국 | D18: =SUMIFS('15년일입'!$H$7:$H$644,'15년일입'!$B$7:$B$644,'15년위원회별'!$A18,'15년일입'!$C$7:$C$644,'15년위원회별'!$C18) -> 0 | E18: =SUMIFS('15년일입'!$I$7:$I$644,'15년일입'!$B$7:$B$644,'15년위원회별'!$A18,'15년일입'!$C$7:$C$644,'15년위원회별'!$C18) -> 0 | F18: =SUMIFS('15년일입'!$J$7:$J$644,'15년일입'!$B$7:$B$644,'15년위원회별'!$A18,'15년일입'!$C$7:$C$644,'15년위원회별'!$C18) -> 0 | G18: =SUMIFS('15년일입'!$K$7:$K$644,'15년일입'!$B$7:$B$644,'15년위원회별'!$A18,'15년일입'!$C$7:$C$644,'15년위원회별'!$C18) -> 0 | H18: =SUMIFS('15년일입'!$U$7:$U$644,'15년일입'!$B$7:$B$644,'15년위원회별'!$A18,'15년일입'!$C$7:$C$644,'15년위원회별'!$C18) -> 0 | I18: =SUMIFS('15년일입'!$V$7:$V$644,'15년일입'!$B$7:$B$644,'15년위원회별'!$A18,'15년일입'!$C$7:$C$644,'15년위원회별'!$C18) -> 0 | J18: =SUMIFS('15년일입'!$L$7:$L$644,'15년일입'!$B$7:$B$644,'15년위원회별'!$A18,'15년일입'!$C$7:$C$644,'15년위원회별'!$C18) -> 0 | K18: =SUMIFS('15년일입'!$M$7:$M$644,'15년일입'!$B$7:$B$644,'15년위원회별'!$A18,'15년일입'!$C$7:$C$644,'15년위원회별'!$C18) -> 0 | L18: =SUMIFS('15년일입'!$N$7:$N$644,'15년일입'!$B$7:$B$644,'15년위원회별'!$A18,'15년일입'!$C$7:$C$644,'15년위원회별'!$C18) -> 0 | M18: =SUMIFS('15년일입'!$Z$7:$Z$644,'15년일입'!$B$7:$B$644,'15년위원회별'!$A18,'15년일입'!$C$7:$C$644,'15년위원회별'!$C18) -> 0 | N18: =SUMIFS('15년일입'!$AA$7:$AA$644,'15년일입'!$B$7:$B$644,'15년위원회별'!$A18,'15년일입'!$C$7:$C$644,'15년위원회별'!$C18) -> 0 | P18: =SUMIFS('15년일출'!$H$31:$H$733,'15년일출'!$B$31:$B$733,'15년위원회별'!$A18,'15년일출'!$C$31:$C$733,'15년위원회별'!$C18) -> 0 | Q18: =SUMIFS('15년일출'!$I$31:$I$733,'15년일출'!$B$31:$B$733,'15년위원회별'!$A18,'15년일출'!$C$31:$C$733,'15년위원회별'!$C18) -> 0 | R18: =SUMIFS('15년일출'!$J$31:$J$733,'15년일출'!$B$31:$B$733,'15년위원회별'!$A18,'15년일출'!$C$31:$C$733,'15년위원회별'!$C18) -> 0 | S18: =SUMIFS('15년일출'!$K$31:$K$733,'15년일출'!$B$31:$B$733,'15년위원회별'!$A18,'15년일출'!$C$31:$C$733,'15년위원회별'!$C18) -> 0 | T18: =SUMIFS('15년일출'!$U$31:$U$733,'15년일출'!$B$31:$B$733,'15년위원회별'!$A18,'15년일출'!$C$31:$C$733,'15년위원회별'!$C18) -> 0 | U18: =SUMIFS('15년일출'!$V$31:$V$733,'15년일출'!$B$31:$B$733,'15년위원회별'!$A18,'15년일출'!$C$31:$C$733,'15년위원회별'!$C18) -> 0 | V18: =SUMIFS('15년일출'!$L$31:$L$733,'15년일출'!$B$31:$B$733,'15년위원회별'!$A18,'15년일출'!$C$31:$C$733,'15년위원회별'!$C18) -> 0 | W18: =SUMIFS('15년일출'!$M$31:$M$733,'15년일출'!$B$31:$B$733,'15년위원회별'!$A18,'15년일출'!$C$31:$C$733,'15년위원회별'!$C18) -> 0 | X18: =SUMIFS('15년일출'!$N$31:$N$733,'15년일출'!$B$31:$B$733,'15년위원회별'!$A18,'15년일출'!$C$31:$C$733,'15년위원회별'!$C18) -> 0 | Y18: =SUMIFS('15년일출'!$Z$31:$Z$733,'15년일출'!$B$31:$B$733,'15년위원회별'!$A18,'15년일출'!$C$31:$C$733,'15년위원회별'!$C18) -> 0 | Z18: =SUMIFS('15년일출'!$AA$31:$AA$733,'15년일출'!$B$31:$B$733,'15년위원회별'!$A18,'15년일출'!$C$31:$C$733,'15년위원회별'!$C18) -> 0
A19: 안전행정위원회 | C19: 재난안전본부 | D19: =SUMIFS('15년일입'!$H$7:$H$644,'15년일입'!$B$7:$B$644,'15년위원회별'!$A19,'15년일입'!$C$7:$C$644,'15년위원회별'!$C19) -> 0 | E19: =SUMIFS('15년일입'!$I$7:$I$644,'15년일입'!$B$7:$B$644,'15년위원회별'!$A19,'15년일입'!$C$7:$C$644,'15년위원회별'!$C19) -> 0 | F19: =SUMIFS('15년일입'!$J$7:$J$644,'15년일입'!$B$7:$B$644,'15년위원회별'!$A19,'15년일입'!$C$7:$C$644,'15년위원회별'!$C19) -> 0 | G19: =SUMIFS('15년일입'!$K$7:$K$644,'15년일입'!$B$7:$B$644,'15년위원회별'!$A19,'15년일입'!$C$7:$C$644,'15년위원회별'!$C19) -> 0 | H19: =SUMIFS('15년일입'!$U$7:$U$644,'15년일입'!$B$7:$B$644,'15년위원회별'!$A19,'15년일입'!$C$7:$C$644,'15년위원회별'!$C19) -> 0 | I19: =SUMIFS('15년일입'!$V$7:$V$644,'15년일입'!$B$7:$B$644,'15년위원회별'!$A19,'15년일입'!$C$7:$C$644,'15년위원회별'!$C19) -> 0 | J19: =SUMIFS('15년일입'!$L$7:$L$644,'15년일입'!$B$7:$B$644,'15년위원회별'!$A19,'15년일입'!$C$7:$C$644,'15년위원회별'!$C19) -> 0 | K19: =SUMIFS('15년일입'!$M$7:$M$644,'15년일입'!$B$7:$B$644,'15년위원회별'!$A19,'15년일입'!$C$7:$C$644,'15년위원회별'!$C19) -> 0 | L19: =SUMIFS('15년일입'!$N$7:$N$644,'15년일입'!$B$7:$B$644,'15년위원회별'!$A19,'15년일입'!$C$7:$C$644,'15년위원회별'!$C19) -> 0 | M19: =SUMIFS('15년일입'!$Z$7:$Z$644,'15년일입'!$B$7:$B$644,'15년위원회별'!$A19,'15년일입'!$C$7:$C$644,'15년위원회별'!$C19) -> 0 | N19: =SUMIFS('15년일입'!$AA$7:$AA$644,'15년일입'!$B$7:$B$644,'15년위원회별'!$A19,'15년일입'!$C$7:$C$644,'15년위원회별'!$C19) -> 0 | P19: =SUMIFS('15년일출'!$H$31:$H$733,'15년일출'!$B$31:$B$733,'15년위원회별'!$A19,'15년일출'!$C$31:$C$733,'15년위원회별'!$C19) -> 0 | Q19: =SUMIFS('15년일출'!$I$31:$I$733,'15년일출'!$B$31:$B$733,'15년위원회별'!$A19,'15년일출'!$C$31:$C$733,'15년위원회별'!$C19) -> 0 | R19: =SUMIFS('15년일출'!$J$31:$J$733,'15년일출'!$B$31:$B$733,'15년위원회별'!$A19,'15년일출'!$C$31:$C$733,'15년위원회별'!$C19) -> 0 | S19: =SUMIFS('15년일출'!$K$31:$K$733,'15년일출'!$B$31:$B$733,'15년위원회별'!$A19,'15년일출'!$C$31:$C$733,'15년위원회별'!$C19) -> 0 | T19: =SUMIFS('15년일출'!$U$31:$U$733,'15년일출'!$B$31:$B$733,'15년위원회별'!$A19,'15년일출'!$C$31:$C$733,'15년위원회별'!$C19) -> 0 | U19: =SUMIFS('15년일출'!$V$31:$V$733,'15년일출'!$B$31:$B$733,'15년위원회별'!$A19,'15년일출'!$C$31:$C$733,'15년위원회별'!$C19) -> 0 | V19: =SUMIFS('15년일출'!$L$31:$L$733,'15년일출'!$B$31:$B$733,'15년위원회별'!$A19,'15년일출'!$C$31:$C$733,'15년위원회별'!$C19) -> 0 | W19: =SUMIFS('15년일출'!$M$31:$M$733,'15년일출'!$B$31:$B$733,'15년위원회별'!$A19,'15년일출'!$C$31:$C$733,'15년위원회별'!$C19) -> 0 | X19: =SUMIFS('15년일출'!$N$31:$N$733,'15년일출'!$B$31:$B$733,'15년위원회별'!$A19,'15년일출'!$C$31:$C$733,'15년위원회별'!$C19) -> 0 | Y19: =SUMIFS('15년일출'!$Z$31:$Z$733,'15년일출'!$B$31:$B$733,'15년위원회별'!$A19,'15년일출'!$C$31:$C$733,'15년위원회별'!$C19) -> 0 | Z19: =SUMIFS('15년일출'!$AA$31:$AA$733,'15년일출'!$B$31:$B$733,'15년위원회별'!$A19,'15년일출'!$C$31:$C$733,'15년위원회별'!$C19) -> 0
A20: 안전행정위원회 | C20: 균형발전기획실 | D20: =SUMIFS('15년일입'!$H$7:$H$644,'15년일입'!$B$7:$B$644,'15년위원회별'!$A20,'15년일입'!$C$7:$C$644,'15년위원회별'!$C20) -> 0 | E20: =SUMIFS('15년일입'!$I$7:$I$644,'15년일입'!$B$7:$B$644,'15년위원회별'!$A20,'15년일입'!$C$7:$C$644,'15년위원회별'!$C20) -> 0 | F20: =SUMIFS('15년일입'!$J$7:$J$644,'15년일입'!$B$7:$B$644,'15년위원회별'!$A20,'15년일입'!$C$7:$C$644,'15년위원회별'!$C20) -> 0 | G20: =SUMIFS('15년일입'!$K$7:$K$644,'15년일입'!$B$7:$B$644,'15년위원회별'!$A20,'15년일입'!$C$7:$C$644,'15년위원회별'!$C20) -> 0 | H20: =SUMIFS('15년일입'!$U$7:$U$644,'15년일입'!$B$7:$B$644,'15년위원회별'!$A20,'15년일입'!$C$7:$C$644,'15년위원회별'!$C20) -> 0 | I20: =SUMIFS('15년일입'!$V$7:$V$644,'15년일입'!$B$7:$B$644,'15년위원회별'!$A20,'15년일입'!$C$7:$C$644,'15년위원회별'!$C20) -> 0 | J20: =SUMIFS('15년일입'!$L$7:$L$644,'15년일입'!$B$7:$B$644,'15년위원회별'!$A20,'15년일입'!$C$7:$C$644,'15년위원회별'!$C20) -> 0 | K20: =SUMIFS('15년일입'!$M$7:$M$644,'15년일입'!$B$7:$B$644,'15년위원회별'!$A20,'15년일입'!$C$7:$C$644,'15년위원회별'!$C20) -> 0 | L20: =SUMIFS('15년일입'!$N$7:$N$644,'15년일입'!$B$7:$B$644,'15년위원회별'!$A20,'15년일입'!$C$7:$C$644,'15년위원회별'!$C20) -> 0 | M20: =SUMIFS('15년일입'!$Z$7:$Z$644,'15년일입'!$B$7:$B$644,'15년위원회별'!$A20,'15년일입'!$C$7:$C$644,'15년위원회별'!$C20) -> 0 | N20: =SUMIFS('15년일입'!$AA$7:$AA$644,'15년일입'!$B$7:$B$644,'15년위원회별'!$A20,'15년일입'!$C$7:$C$644,'15년위원회별'!$C20) -> 0 | P20: =SUMIFS('15년일출'!$H$31:$H$733,'15년일출'!$B$31:$B$733,'15년위원회별'!$A20,'15년일출'!$C$31:$C$733,'15년위원회별'!$C20) -> 0 | Q20: =SUMIFS('15년일출'!$I$31:$I$733,'15년일출'!$B$31:$B$733,'15년위원회별'!$A20,'15년일출'!$C$31:$C$733,'15년위원회별'!$C20) -> 0 | R20: =SUMIFS('15년일출'!$J$31:$J$733,'15년일출'!$B$31:$B$733,'15년위원회별'!$A20,'15년일출'!$C$31:$C$733,'15년위원회별'!$C20) -> 0 | S20: =SUMIFS('15년일출'!$K$31:$K$733,'15년일출'!$B$31:$B$733,'15년위원회별'!$A20,'15년일출'!$C$31:$C$733,'15년위원회별'!$C20) -> 0 | T20: =SUMIFS('15년일출'!$U$31:$U$733,'15년일출'!$B$31:$B$733,'15년위원회별'!$A20,'15년일출'!$C$31:$C$733,'15년위원회별'!$C20) -> 0 | U20: =SUMIFS('15년일출'!$V$31:$V$733,'15년일출'!$B$31:$B$733,'15년위원회별'!$A20,'15년일출'!$C$31:$C$733,'15년위원회별'!$C20) -> 0 | V20: =SUMIFS('15년일출'!$L$31:$L$733,'15년일출'!$B$31:$B$733,'15년위원회별'!$A20,'15년일출'!$C$31:$C$733,'15년위원회별'!$C20) -> 0 | W20: =SUMIFS('15년일출'!$M$31:$M$733,'15년일출'!$B$31:$B$733,'15년위원회별'!$A20,'15년일출'!$C$31:$C$733,'15년위원회별'!$C20) -> 0 | X20: =SUMIFS('15년일출'!$N$31:$N$733,'15년일출'!$B$31:$B$733,'15년위원회별'!$A20,'15년일출'!$C$31:$C$733,'15년위원회별'!$C20) -> 0 | Y20: =SUMIFS('15년일출'!$Z$31:$Z$733,'15년일출'!$B$31:$B$733,'15년위원회별'!$A20,'15년일출'!$C$31:$C$733,'15년위원회별'!$C20) -> 0 | Z20: =SUMIFS('15년일출'!$AA$31:$AA$733,'15년일출'!$B$31:$B$733,'15년위원회별'!$A20,'15년일출'!$C$31:$C$733,'15년위원회별'!$C20) -> 0
A21: 안전행정위원회 | C21: 인재개발원 | D21: =SUMIFS('15년일입'!$H$7:$H$644,'15년일입'!$B$7:$B$644,'15년위원회별'!$A21,'15년일입'!$C$7:$C$644,'15년위원회별'!$C21) -> 0 | E21: =SUMIFS('15년일입'!$I$7:$I$644,'15년일입'!$B$7:$B$644,'15년위원회별'!$A21,'15년일입'!$C$7:$C$644,'15년위원회별'!$C21) -> 0 | F21: =SUMIFS('15년일입'!$J$7:$J$644,'15년일입'!$B$7:$B$644,'15년위원회별'!$A21,'15년일입'!$C$7:$C$644,'15년위원회별'!$C21) -> 0 | G21: =SUMIFS('15년일입'!$K$7:$K$644,'15년일입'!$B$7:$B$644,'15년위원회별'!$A21,'15년일입'!$C$7:$C$644,'15년위원회별'!$C21) -> 0 | H21: =SUMIFS('15년일입'!$U$7:$U$644,'15년일입'!$B$7:$B$644,'15년위원회별'!$A21,'15년일입'!$C$7:$C$644,'15년위원회별'!$C21) -> 0 | I21: =SUMIFS('15년일입'!$V$7:$V$644,'15년일입'!$B$7:$B$644,'15년위원회별'!$A21,'15년일입'!$C$7:$C$644,'15년위원회별'!$C21) -> 0 | J21: =SUMIFS('15년일입'!$L$7:$L$644,'15년일입'!$B$7:$B$644,'15년위원회별'!$A21,'15년일입'!$C$7:$C$644,'15년위원회별'!$C21) -> 0 | K21: =SUMIFS('15년일입'!$M$7:$M$644,'15년일입'!$B$7:$B$644,'15년위원회별'!$A21,'15년일입'!$C$7:$C$644,'15년위원회별'!$C21) -> 0 | L21: =SUMIFS('15년일입'!$N$7:$N$644,'15년일입'!$B$7:$B$644,'15년위원회별'!$A21,'15년일입'!$C$7:$C$644,'15년위원회별'!$C21) -> 0 | M21: =SUMIFS('15년일입'!$Z$7:$Z$644,'15년일입'!$B$7:$B$644,'15년위원회별'!$A21,'15년일입'!$C$7:$C$644,'15년위원회별'!$C21) -> 0 | N21: =SUMIFS('15년일입'!$AA$7:$AA$644,'15년일입'!$B$7:$B$644,'15년위원회별'!$A21,'15년일입'!$C$7:$C$644,'15년위원회별'!$C21) -> 0 | P21: =SUMIFS('15년일출'!$H$31:$H$733,'15년일출'!$B$31:$B$733,'15년위원회별'!$A21,'15년일출'!$C$31:$C$733,'15년위원회별'!$C21) -> 0 | Q21: =SUMIFS('15년일출'!$I$31:$I$733,'15년일출'!$B$31:$B$733,'15년위원회별'!$A21,'15년일출'!$C$31:$C$733,'15년위원회별'!$C21) -> 0 | R21: =SUMIFS('15년일출'!$J$31:$J$733,'15년일출'!$B$31:$B$733,'15년위원회별'!$A21,'15년일출'!$C$31:$C$733,'15년위원회별'!$C21) -> 0 | S21: =SUMIFS('15년일출'!$K$31:$K$733,'15년일출'!$B$31:$B$733,'15년위원회별'!$A21,'15년일출'!$C$31:$C$733,'15년위원회별'!$C21) -> 0 | T21: =SUMIFS('15년일출'!$U$31:$U$733,'15년일출'!$B$31:$B$733,'15년위원회별'!$A21,'15년일출'!$C$31:$C$733,'15년위원회별'!$C21) -> 0 | U21: =SUMIFS('15년일출'!$V$31:$V$733,'15년일출'!$B$31:$B$733,'15년위원회별'!$A21,'15년일출'!$C$31:$C$733,'15년위원회별'!$C21) -> 0 | V21: =SUMIFS('15년일출'!$L$31:$L$733,'15년일출'!$B$31:$B$733,'15년위원회별'!$A21,'15년일출'!$C$31:$C$733,'15년위원회별'!$C21) -> 0 | W21: =SUMIFS('15년일출'!$M$31:$M$733,'15년일출'!$B$31:$B$733,'15년위원회별'!$A21,'15년일출'!$C$31:$C$733,'15년위원회별'!$C21) -> 0 | X21: =SUMIFS('15년일출'!$N$31:$N$733,'15년일출'!$B$31:$B$733,'15년위원회별'!$A21,'15년일출'!$C$31:$C$733,'15년위원회별'!$C21) -> 0 | Y21: =SUMIFS('15년일출'!$Z$31:$Z$733,'15년일출'!$B$31:$B$733,'15년위원회별'!$A21,'15년일출'!$C$31:$C$733,'15년위원회별'!$C21) -> 0 | Z21: =SUMIFS('15년일출'!$AA$31:$AA$733,'15년일출'!$B$31:$B$733,'15년위원회별'!$A21,'15년일출'!$C$31:$C$733,'15년위원회별'!$C21) -> 0
B22: 문화체육관광위원회 | D22: =SUM(D23) -> 0 | E22: =SUM(E23) -> 0 | F22: =SUM(F23) -> 0 | G22: =SUM(G23) -> 0 | H22: =SUM(H23) -> 0 | I22: =SUM(I23) -> 0 | J22: =SUM(J23) -> 0 | K22: =SUM(K23) -> 0 | ... N22: =SUM(N23) -> 0 | P22: =SUM(P23) -> 0 | Q22: =SUM(Q23) -> 0 | R22: =SUM(R23) -> 0 | S22: =SUM(S23) -> 0 | T22: =SUM(T23) -> 0 | U22: =SUM(U23) -> 0 | V22: =SUM(V23) -> 0 | W22: =SUM(W23) -> 0 | ... Z22: =SUM(Z23) -> 0
A23: 문화체육관광위원회 | C23: 문화체육관광국 | D23: =SUMIFS('15년일입'!$H$7:$H$644,'15년일입'!$B$7:$B$644,'15년위원회별'!$A23,'15년일입'!$C$7:$C$644,'15년위원회별'!$C23) -> 0 | E23: =SUMIFS('15년일입'!$I$7:$I$644,'15년일입'!$B$7:$B$644,'15년위원회별'!$A23,'15년일입'!$C$7:$C$644,'15년위원회별'!$C23) -> 0 | F23: =SUMIFS('15년일입'!$J$7:$J$644,'15년일입'!$B$7:$B$644,'15년위원회별'!$A23,'15년일입'!$C$7:$C$644,'15년위원회별'!$C23) -> 0 | G23: =SUMIFS('15년일입'!$K$7:$K$644,'15년일입'!$B$7:$B$644,'15년위원회별'!$A23,'15년일입'!$C$7:$C$644,'15년위원회별'!$C23) -> 0 | H23: =SUMIFS('15년일입'!$U$7:$U$644,'15년일입'!$B$7:$B$644,'15년위원회별'!$A23,'15년일입'!$C$7:$C$644,'15년위원회별'!$C23) -> 0 | I23: =SUMIFS('15년일입'!$V$7:$V$644,'15년일입'!$B$7:$B$644,'15년위원회별'!$A23,'15년일입'!$C$7:$C$644,'15년위원회별'!$C23) -> 0 | J23: =SUMIFS('15년일입'!$L$7:$L$644,'15년일입'!$B$7:$B$644,'15년위원회별'!$A23,'15년일입'!$C$7:$C$644,'15년위원회별'!$C23) -> 0 | K23: =SUMIFS('15년일입'!$M$7:$M$644,'15년일입'!$B$7:$B$644,'15년위원회별'!$A23,'15년일입'!$C$7:$C$644,'15년위원회별'!$C23) -> 0 | L23: =SUMIFS('15년일입'!$N$7:$N$644,'15년일입'!$B$7:$B$644,'15년위원회별'!$A23,'15년일입'!$C$7:$C$644,'15년위원회별'!$C23) -> 0 | M23: =SUMIFS('15년일입'!$Z$7:$Z$644,'15년일입'!$B$7:$B$644,'15년위원회별'!$A23,'15년일입'!$C$7:$C$644,'15년위원회별'!$C23) -> 0 | N23: =SUMIFS('15년일입'!$AA$7:$AA$644,'15년일입'!$B$7:$B$644,'15년위원회별'!$A23,'15년일입'!$C$7:$C$644,'15년위원회별'!$C23) -> 0 | P23: =SUMIFS('15년일출'!$H$31:$H$733,'15년일출'!$B$31:$B$733,'15년위원회별'!$A23,'15년일출'!$C$31:$C$733,'15년위원회별'!$C23) -> 0 | Q23: =SUMIFS('15년일출'!$I$31:$I$733,'15년일출'!$B$31:$B$733,'15년위원회별'!$A23,'15년일출'!$C$31:$C$733,'15년위원회별'!$C23) -> 0 | R23: =SUMIFS('15년일출'!$J$31:$J$733,'15년일출'!$B$31:$B$733,'15년위원회별'!$A23,'15년일출'!$C$31:$C$733,'15년위원회별'!$C23) -> 0 | S23: =SUMIFS('15년일출'!$K$31:$K$733,'15년일출'!$B$31:$B$733,'15년위원회별'!$A23,'15년일출'!$C$31:$C$733,'15년위원회별'!$C23) -> 0 | T23: =SUMIFS('15년일출'!$U$31:$U$733,'15년일출'!$B$31:$B$733,'15년위원회별'!$A23,'15년일출'!$C$31:$C$733,'15년위원회별'!$C23) -> 0 | U23: =SUMIFS('15년일출'!$V$31:$V$733,'15년일출'!$B$31:$B$733,'15년위원회별'!$A23,'15년일출'!$C$31:$C$733,'15년위원회별'!$C23) -> 0 | V23: =SUMIFS('15년일출'!$L$31:$L$733,'15년일출'!$B$31:$B$733,'15년위원회별'!$A23,'15년일출'!$C$31:$C$733,'15년위원회별'!$C23) -> 0 | W23: =SUMIFS('15년일출'!$M$31:$M$733,'15년일출'!$B$31:$B$733,'15년위원회별'!$A23,'15년일출'!$C$31:$C$733,'15년위원회별'!$C23) -> 0 | X23: =SUMIFS('15년일출'!$N$31:$N$733,'15년일출'!$B$31:$B$733,'15년위원회별'!$A23,'15년일출'!$C$31:$C$733,'15년위원회별'!$C23) -> 0 | Y23: =SUMIFS('15년일출'!$Z$31:$Z$733,'15년일출'!$B$31:$B$733,'15년위원회별'!$A23,'15년일출'!$C$31:$C$733,'15년위원회별'!$C23) -> 0 | Z23: =SUMIFS('15년일출'!$AA$31:$AA$733,'15년일출'!$B$31:$B$733,'15년위원회별'!$A23,'15년일출'!$C$31:$C$733,'15년위원회별'!$C23) -> 0
B24: 농정해양위원회 | D24: =SUM(D25:D27) -> 0 | E24: =SUM(E25:E27) -> 0 | F24: =SUM(F25:F27) -> 0 | G24: =SUM(G25:G27) -> 0 | H24: =SUM(H25:H27) -> 0 | I24: =SUM(I25:I27) -> 0 | J24: =SUM(J25:J27) -> 0 | K24: =SUM(K25:K27) -> 0 | ... N24: =SUM(N25:N27) -> 0 | P24: =SUM(P25:P27) -> 0 | Q24: =SUM(Q25:Q27) -> 0 | R24: =SUM(R25:R27) -> 0 | S24: =SUM(S25:S27) -> 0 | T24: =SUM(T25:T27) -> 0 | U24: =SUM(U25:U27) -> 0 | V24: =SUM(V25:V27) -> 0 | W24: =SUM(W25:W27) -> 0 | ... Z24: =SUM(Z25:Z27) -> 0
A25: 농정해양위원회 | C25: 농정해양국 | D25: =SUMIFS('15년일입'!$H$7:$H$644,'15년일입'!$B$7:$B$644,'15년위원회별'!$A25,'15년일입'!$C$7:$C$644,'15년위원회별'!$C25) -> 0 | E25: =SUMIFS('15년일입'!$I$7:$I$644,'15년일입'!$B$7:$B$644,'15년위원회별'!$A25,'15년일입'!$C$7:$C$644,'15년위원회별'!$C25) -> 0 | F25: =SUMIFS('15년일입'!$J$7:$J$644,'15년일입'!$B$7:$B$644,'15년위원회별'!$A25,'15년일입'!$C$7:$C$644,'15년위원회별'!$C25) -> 0 | G25: =SUMIFS('15년일입'!$K$7:$K$644,'15년일입'!$B$7:$B$644,'15년위원회별'!$A25,'15년일입'!$C$7:$C$644,'15년위원회별'!$C25) -> 0 | H25: =SUMIFS('15년일입'!$U$7:$U$644,'15년일입'!$B$7:$B$644,'15년위원회별'!$A25,'15년일입'!$C$7:$C$644,'15년위원회별'!$C25) -> 0 | I25: =SUMIFS('15년일입'!$V$7:$V$644,'15년일입'!$B$7:$B$644,'15년위원회별'!$A25,'15년일입'!$C$7:$C$644,'15년위원회별'!$C25) -> 0 | J25: =SUMIFS('15년일입'!$L$7:$L$644,'15년일입'!$B$7:$B$644,'15년위원회별'!$A25,'15년일입'!$C$7:$C$644,'15년위원회별'!$C25) -> 0 | K25: =SUMIFS('15년일입'!$M$7:$M$644,'15년일입'!$B$7:$B$644,'15년위원회별'!$A25,'15년일입'!$C$7:$C$644,'15년위원회별'!$C25) -> 0 | L25: =SUMIFS('15년일입'!$N$7:$N$644,'15년일입'!$B$7:$B$644,'15년위원회별'!$A25,'15년일입'!$C$7:$C$644,'15년위원회별'!$C25) -> 0 | M25: =SUMIFS('15년일입'!$Z$7:$Z$644,'15년일입'!$B$7:$B$644,'15년위원회별'!$A25,'15년일입'!$C$7:$C$644,'15년위원회별'!$C25) -> 0 | N25: =SUMIFS('15년일입'!$AA$7:$AA$644,'15년일입'!$B$7:$B$644,'15년위원회별'!$A25,'15년일입'!$C$7:$C$644,'15년위원회별'!$C25) -> 0 | P25: =SUMIFS('15년일출'!$H$31:$H$733,'15년일출'!$B$31:$B$733,'15년위원회별'!$A25,'15년일출'!$C$31:$C$733,'15년위원회별'!$C25) -> 0 | Q25: =SUMIFS('15년일출'!$I$31:$I$733,'15년일출'!$B$31:$B$733,'15년위원회별'!$A25,'15년일출'!$C$31:$C$733,'15년위원회별'!$C25) -> 0 | R25: =SUMIFS('15년일출'!$J$31:$J$733,'15년일출'!$B$31:$B$733,'15년위원회별'!$A25,'15년일출'!$C$31:$C$733,'15년위원회별'!$C25) -> 0 | S25: =SUMIFS('15년일출'!$K$31:$K$733,'15년일출'!$B$31:$B$733,'15년위원회별'!$A25,'15년일출'!$C$31:$C$733,'15년위원회별'!$C25) -> 0 | T25: =SUMIFS('15년일출'!$U$31:$U$733,'15년일출'!$B$31:$B$733,'15년위원회별'!$A25,'15년일출'!$C$31:$C$733,'15년위원회별'!$C25) -> 0 | U25: =SUMIFS('15년일출'!$V$31:$V$733,'15년일출'!$B$31:$B$733,'15년위원회별'!$A25,'15년일출'!$C$31:$C$733,'15년위원회별'!$C25) -> 0 | V25: =SUMIFS('15년일출'!$L$31:$L$733,'15년일출'!$B$31:$B$733,'15년위원회별'!$A25,'15년일출'!$C$31:$C$733,'15년위원회별'!$C25) -> 0 | W25: =SUMIFS('15년일출'!$M$31:$M$733,'15년일출'!$B$31:$B$733,'15년위원회별'!$A25,'15년일출'!$C$31:$C$733,'15년위원회별'!$C25) -> 0 | X25: =SUMIFS('15년일출'!$N$31:$N$733,'15년일출'!$B$31:$B$733,'15년위원회별'!$A25,'15년일출'!$C$31:$C$733,'15년위원회별'!$C25) -> 0 | Y25: =SUMIFS('15년일출'!$Z$31:$Z$733,'15년일출'!$B$31:$B$733,'15년위원회별'!$A25,'15년일출'!$C$31:$C$733,'15년위원회별'!$C25) -> 0 | Z25: =SUMIFS('15년일출'!$AA$31:$AA$733,'15년일출'!$B$31:$B$733,'15년위원회별'!$A25,'15년일출'!$C$31:$C$733,'15년위원회별'!$C25) -> 0
A26: 농정해양위원회 | C26: 축산산림국 | D26: =SUMIFS('15년일입'!$H$7:$H$644,'15년일입'!$B$7:$B$644,'15년위원회별'!$A26,'15년일입'!$C$7:$C$644,'15년위원회별'!$C26) -> 0 | E26: =SUMIFS('15년일입'!$I$7:$I$644,'15년일입'!$B$7:$B$644,'15년위원회별'!$A26,'15년일입'!$C$7:$C$644,'15년위원회별'!$C26) -> 0 | F26: =SUMIFS('15년일입'!$J$7:$J$644,'15년일입'!$B$7:$B$644,'15년위원회별'!$A26,'15년일입'!$C$7:$C$644,'15년위원회별'!$C26) -> 0 | G26: =SUMIFS('15년일입'!$K$7:$K$644,'15년일입'!$B$7:$B$644,'15년위원회별'!$A26,'15년일입'!$C$7:$C$644,'15년위원회별'!$C26) -> 0 | H26: =SUMIFS('15년일입'!$U$7:$U$644,'15년일입'!$B$7:$B$644,'15년위원회별'!$A26,'15년일입'!$C$7:$C$644,'15년위원회별'!$C26) -> 0 | I26: =SUMIFS('15년일입'!$V$7:$V$644,'15년일입'!$B$7:$B$644,'15년위원회별'!$A26,'15년일입'!$C$7:$C$644,'15년위원회별'!$C26) -> 0 | J26: =SUMIFS('15년일입'!$L$7:$L$644,'15년일입'!$B$7:$B$644,'15년위원회별'!$A26,'15년일입'!$C$7:$C$644,'15년위원회별'!$C26) -> 0 | K26: =SUMIFS('15년일입'!$M$7:$M$644,'15년일입'!$B$7:$B$644,'15년위원회별'!$A26,'15년일입'!$C$7:$C$644,'15년위원회별'!$C26) -> 0 | L26: =SUMIFS('15년일입'!$N$7:$N$644,'15년일입'!$B$7:$B$644,'15년위원회별'!$A26,'15년일입'!$C$7:$C$644,'15년위원회별'!$C26) -> 0 | M26: =SUMIFS('15년일입'!$Z$7:$Z$644,'15년일입'!$B$7:$B$644,'15년위원회별'!$A26,'15년일입'!$C$7:$C$644,'15년위원회별'!$C26) -> 0 | N26: =SUMIFS('15년일입'!$AA$7:$AA$644,'15년일입'!$B$7:$B$644,'15년위원회별'!$A26,'15년일입'!$C$7:$C$644,'15년위원회별'!$C26) -> 0 | P26: =SUMIFS('15년일출'!$H$31:$H$733,'15년일출'!$B$31:$B$733,'15년위원회별'!$A26,'15년일출'!$C$31:$C$733,'15년위원회별'!$C26) -> 0 | Q26: =SUMIFS('15년일출'!$I$31:$I$733,'15년일출'!$B$31:$B$733,'15년위원회별'!$A26,'15년일출'!$C$31:$C$733,'15년위원회별'!$C26) -> 0 | R26: =SUMIFS('15년일출'!$J$31:$J$733,'15년일출'!$B$31:$B$733,'15년위원회별'!$A26,'15년일출'!$C$31:$C$733,'15년위원회별'!$C26) -> 0 | S26: =SUMIFS('15년일출'!$K$31:$K$733,'15년일출'!$B$31:$B$733,'15년위원회별'!$A26,'15년일출'!$C$31:$C$733,'15년위원회별'!$C26) -> 0 | T26: =SUMIFS('15년일출'!$U$31:$U$733,'15년일출'!$B$31:$B$733,'15년위원회별'!$A26,'15년일출'!$C$31:$C$733,'15년위원회별'!$C26) -> 0 | U26: =SUMIFS('15년일출'!$V$31:$V$733,'15년일출'!$B$31:$B$733,'15년위원회별'!$A26,'15년일출'!$C$31:$C$733,'15년위원회별'!$C26) -> 0 | V26: =SUMIFS('15년일출'!$L$31:$L$733,'15년일출'!$B$31:$B$733,'15년위원회별'!$A26,'15년일출'!$C$31:$C$733,'15년위원회별'!$C26) -> 0 | W26: =SUMIFS('15년일출'!$M$31:$M$733,'15년일출'!$B$31:$B$733,'15년위원회별'!$A26,'15년일출'!$C$31:$C$733,'15년위원회별'!$C26) -> 0 | X26: =SUMIFS('15년일출'!$N$31:$N$733,'15년일출'!$B$31:$B$733,'15년위원회별'!$A26,'15년일출'!$C$31:$C$733,'15년위원회별'!$C26) -> 0 | Y26: =SUMIFS('15년일출'!$Z$31:$Z$733,'15년일출'!$B$31:$B$733,'15년위원회별'!$A26,'15년일출'!$C$31:$C$733,'15년위원회별'!$C26) -> 0 | Z26: =SUMIFS('15년일출'!$AA$31:$AA$733,'15년일출'!$B$31:$B$733,'15년위원회별'!$A26,'15년일출'!$C$31:$C$733,'15년위원회별'!$C26) -> 0
A27: 농정해양위원회 | C27: 농업기술원 | D27: =SUMIFS('15년일입'!$H$7:$H$644,'15년일입'!$B$7:$B$644,'15년위원회별'!$A27,'15년일입'!$C$7:$C$644,'15년위원회별'!$C27) -> 0 | E27: =SUMIFS('15년일입'!$I$7:$I$644,'15년일입'!$B$7:$B$644,'15년위원회별'!$A27,'15년일입'!$C$7:$C$644,'15년위원회별'!$C27) -> 0 | F27: =SUMIFS('15년일입'!$J$7:$J$644,'15년일입'!$B$7:$B$644,'15년위원회별'!$A27,'15년일입'!$C$7:$C$644,'15년위원회별'!$C27) -> 0 | G27: =SUMIFS('15년일입'!$K$7:$K$644,'15년일입'!$B$7:$B$644,'15년위원회별'!$A27,'15년일입'!$C$7:$C$644,'15년위원회별'!$C27) -> 0 | H27: =SUMIFS('15년일입'!$U$7:$U$644,'15년일입'!$B$7:$B$644,'15년위원회별'!$A27,'15년일입'!$C$7:$C$644,'15년위원회별'!$C27) -> 0 | I27: =SUMIFS('15년일입'!$V$7:$V$644,'15년일입'!$B$7:$B$644,'15년위원회별'!$A27,'15년일입'!$C$7:$C$644,'15년위원회별'!$C27) -> 0 | J27: =SUMIFS('15년일입'!$L$7:$L$644,'15년일입'!$B$7:$B$644,'15년위원회별'!$A27,'15년일입'!$C$7:$C$644,'15년위원회별'!$C27) -> 0 | K27: =SUMIFS('15년일입'!$M$7:$M$644,'15년일입'!$B$7:$B$644,'15년위원회별'!$A27,'15년일입'!$C$7:$C$644,'15년위원회별'!$C27) -> 0 | L27: =SUMIFS('15년일입'!$N$7:$N$644,'15년일입'!$B$7:$B$644,'15년위원회별'!$A27,'15년일입'!$C$7:$C$644,'15년위원회별'!$C27) -> 0 | M27: =SUMIFS('15년일입'!$Z$7:$Z$644,'15년일입'!$B$7:$B$644,'15년위원회별'!$A27,'15년일입'!$C$7:$C$644,'15년위원회별'!$C27) -> 0 | N27: =SUMIFS('15년일입'!$AA$7:$AA$644,'15년일입'!$B$7:$B$644,'15년위원회별'!$A27,'15년일입'!$C$7:$C$644,'15년위원회별'!$C27) -> 0 | P27: =SUMIFS('15년일출'!$H$31:$H$733,'15년일출'!$B$31:$B$733,'15년위원회별'!$A27,'15년일출'!$C$31:$C$733,'15년위원회별'!$C27) -> 0 | Q27: =SUMIFS('15년일출'!$I$31:$I$733,'15년일출'!$B$31:$B$733,'15년위원회별'!$A27,'15년일출'!$C$31:$C$733,'15년위원회별'!$C27) -> 0 | R27: =SUMIFS('15년일출'!$J$31:$J$733,'15년일출'!$B$31:$B$733,'15년위원회별'!$A27,'15년일출'!$C$31:$C$733,'15년위원회별'!$C27) -> 0 | S27: =SUMIFS('15년일출'!$K$31:$K$733,'15년일출'!$B$31:$B$733,'15년위원회별'!$A27,'15년일출'!$C$31:$C$733,'15년위원회별'!$C27) -> 0 | T27: =SUMIFS('15년일출'!$U$31:$U$733,'15년일출'!$B$31:$B$733,'15년위원회별'!$A27,'15년일출'!$C$31:$C$733,'15년위원회별'!$C27) -> 0 | U27: =SUMIFS('15년일출'!$V$31:$V$733,'15년일출'!$B$31:$B$733,'15년위원회별'!$A27,'15년일출'!$C$31:$C$733,'15년위원회별'!$C27) -> 0 | V27: =SUMIFS('15년일출'!$L$31:$L$733,'15년일출'!$B$31:$B$733,'15년위원회별'!$A27,'15년일출'!$C$31:$C$733,'15년위원회별'!$C27) -> 0 | W27: =SUMIFS('15년일출'!$M$31:$M$733,'15년일출'!$B$31:$B$733,'15년위원회별'!$A27,'15년일출'!$C$31:$C$733,'15년위원회별'!$C27) -> 0 | X27: =SUMIFS('15년일출'!$N$31:$N$733,'15년일출'!$B$31:$B$733,'15년위원회별'!$A27,'15년일출'!$C$31:$C$733,'15년위원회별'!$C27) -> 0 | Y27: =SUMIFS('15년일출'!$Z$31:$Z$733,'15년일출'!$B$31:$B$733,'15년위원회별'!$A27,'15년일출'!$C$31:$C$733,'15년위원회별'!$C27) -> 0 | Z27: =SUMIFS('15년일출'!$AA$31:$AA$733,'15년일출'!$B$31:$B$733,'15년위원회별'!$A27,'15년일출'!$C$31:$C$733,'15년위원회별'!$C27) -> 0
B28: 보건복지위원회 | D28: =SUM(D29:D31) -> 64916382 | E28: =SUM(E29:E31) -> -4443907 | F28: =SUM(F29:F31) -> 4283253 | G28: =SUM(G29:G31) -> 64755728 | H28: =SUM(H29:H31) -> -160654 | I28: =SUM(I29:I31) -> 0 | J28: =SUM(J29:J31) -> 0 | K28: =SUM(K29:K31) -> 0 | ... N28: =SUM(N29:N31) -> 0 | P28: =SUM(P29:P31) -> 116929303 | Q28: =SUM(Q29:Q31) -> -21538359 | R28: =SUM(R29:R31) -> 9925018 | S28: =SUM(S29:S31) -> 105315962 | T28: =SUM(T29:T31) -> -160654 | U28: =SUM(U29:U31) -> -11452687 | V28: =SUM(V29:V31) -> 0 | W28: =SUM(W29:W31) -> 0 | ... Z28: =SUM(Z29:Z31) -> 0
A29: 보건복지위원회 | C29: 보건복지국 | D29: =SUMIFS('15년일입'!$H$7:$H$644,'15년일입'!$B$7:$B$644,'15년위원회별'!$A29,'15년일입'!$C$7:$C$644,'15년위원회별'!$C29) -> 64854159 | E29: =SUMIFS('15년일입'!$I$7:$I$644,'15년일입'!$B$7:$B$644,'15년위원회별'!$A29,'15년일입'!$C$7:$C$644,'15년위원회별'!$C29) -> -4443907 | F29: =SUMIFS('15년일입'!$J$7:$J$644,'15년일입'!$B$7:$B$644,'15년위원회별'!$A29,'15년일입'!$C$7:$C$644,'15년위원회별'!$C29) -> 4282921 | G29: =SUMIFS('15년일입'!$K$7:$K$644,'15년일입'!$B$7:$B$644,'15년위원회별'!$A29,'15년일입'!$C$7:$C$644,'15년위원회별'!$C29) -> 64693173 | H29: =SUMIFS('15년일입'!$U$7:$U$644,'15년일입'!$B$7:$B$644,'15년위원회별'!$A29,'15년일입'!$C$7:$C$644,'15년위원회별'!$C29) -> -160986 | I29: =SUMIFS('15년일입'!$V$7:$V$644,'15년일입'!$B$7:$B$644,'15년위원회별'!$A29,'15년일입'!$C$7:$C$644,'15년위원회별'!$C29) -> 0 | J29: =SUMIFS('15년일입'!$L$7:$L$644,'15년일입'!$B$7:$B$644,'15년위원회별'!$A29,'15년일입'!$C$7:$C$644,'15년위원회별'!$C29) -> 0 | K29: =SUMIFS('15년일입'!$M$7:$M$644,'15년일입'!$B$7:$B$644,'15년위원회별'!$A29,'15년일입'!$C$7:$C$644,'15년위원회별'!$C29) -> 0 | L29: =SUMIFS('15년일입'!$N$7:$N$644,'15년일입'!$B$7:$B$644,'15년위원회별'!$A29,'15년일입'!$C$7:$C$644,'15년위원회별'!$C29) -> 64854159 | M29: =SUMIFS('15년일입'!$Z$7:$Z$644,'15년일입'!$B$7:$B$644,'15년위원회별'!$A29,'15년일입'!$C$7:$C$644,'15년위원회별'!$C29) -> 0 | N29: =SUMIFS('15년일입'!$AA$7:$AA$644,'15년일입'!$B$7:$B$644,'15년위원회별'!$A29,'15년일입'!$C$7:$C$644,'15년위원회별'!$C29) -> 0 | P29: =SUMIFS('15년일출'!$H$7:$H$733,'15년일출'!$B$7:$B$733,'15년위원회별'!$A29,'15년일출'!$C$7:$C$733,'15년위원회별'!$C29) -> 92626941 | Q29: =SUMIFS('15년일출'!$I$7:$I$733,'15년일출'!$B$7:$B$733,'15년위원회별'!$A29,'15년일출'!$C$7:$C$733,'15년위원회별'!$C29) -> -20834508 | R29: =SUMIFS('15년일출'!$J$7:$J$733,'15년일출'!$B$7:$B$733,'15년위원회별'!$A29,'15년일출'!$C$7:$C$733,'15년위원회별'!$C29) -> 6693029 | S29: =SUMIFS('15년일출'!$K$7:$K$733,'15년일출'!$B$7:$B$733,'15년위원회별'!$A29,'15년일출'!$C$7:$C$733,'15년위원회별'!$C29) -> 78485462 | T29: =SUMIFS('15년일출'!$U$7:$U$733,'15년일출'!$B$7:$B$733,'15년위원회별'!$A29,'15년일출'!$C$7:$C$733,'15년위원회별'!$C29) -> -1567252 | U29: =SUMIFS('15년일출'!$V$7:$V$733,'15년일출'!$B$7:$B$733,'15년위원회별'!$A29,'15년일출'!$C$7:$C$733,'15년위원회별'!$C29) -> -12574227 | V29: =SUMIFS('15년일출'!$L$31:$L$733,'15년일출'!$B$31:$B$733,'15년위원회별'!$A29,'15년일출'!$C$31:$C$733,'15년위원회별'!$C29) -> 0 | W29: =SUMIFS('15년일출'!$M$31:$M$733,'15년일출'!$B$31:$B$733,'15년위원회별'!$A29,'15년일출'!$C$31:$C$733,'15년위원회별'!$C29) -> 0 | X29: =SUMIFS('15년일출'!$N$31:$N$733,'15년일출'!$B$31:$B$733,'15년위원회별'!$A29,'15년일출'!$C$31:$C$733,'15년위원회별'!$C29) -> 18713581 | Y29: =SUMIFS('15년일출'!$Z$31:$Z$733,'15년일출'!$B$31:$B$733,'15년위원회별'!$A29,'15년일출'!$C$31:$C$733,'15년위원회별'!$C29) -> 0 | Z29: =SUMIFS('15년일출'!$AA$31:$AA$733,'15년일출'!$B$31:$B$733,'15년위원회별'!$A29,'15년일출'!$C$31:$C$733,'15년위원회별'!$C29) -> 0
A30: 보건복지위원회 | C30: 복지여성실 | D30: =SUMIFS('15년일입'!$H$7:$H$644,'15년일입'!$B$7:$B$644,'15년위원회별'!$A30,'15년일입'!$C$7:$C$644,'15년위원회별'!$C30) -> 0 | E30: =SUMIFS('15년일입'!$I$7:$I$644,'15년일입'!$B$7:$B$644,'15년위원회별'!$A30,'15년일입'!$C$7:$C$644,'15년위원회별'!$C30) -> 0 | F30: =SUMIFS('15년일입'!$J$7:$J$644,'15년일입'!$B$7:$B$644,'15년위원회별'!$A30,'15년일입'!$C$7:$C$644,'15년위원회별'!$C30) -> 0 | G30: =SUMIFS('15년일입'!$K$7:$K$644,'15년일입'!$B$7:$B$644,'15년위원회별'!$A30,'15년일입'!$C$7:$C$644,'15년위원회별'!$C30) -> 0 | H30: =SUMIFS('15년일입'!$U$7:$U$644,'15년일입'!$B$7:$B$644,'15년위원회별'!$A30,'15년일입'!$C$7:$C$644,'15년위원회별'!$C30) -> 0 | I30: =SUMIFS('15년일입'!$V$7:$V$644,'15년일입'!$B$7:$B$644,'15년위원회별'!$A30,'15년일입'!$C$7:$C$644,'15년위원회별'!$C30) -> 0 | J30: =SUMIFS('15년일입'!$L$7:$L$644,'15년일입'!$B$7:$B$644,'15년위원회별'!$A30,'15년일입'!$C$7:$C$644,'15년위원회별'!$C30) -> 0 | K30: =SUMIFS('15년일입'!$M$7:$M$644,'15년일입'!$B$7:$B$644,'15년위원회별'!$A30,'15년일입'!$C$7:$C$644,'15년위원회별'!$C30) -> 0 | L30: =SUMIFS('15년일입'!$N$7:$N$644,'15년일입'!$B$7:$B$644,'15년위원회별'!$A30,'15년일입'!$C$7:$C$644,'15년위원회별'!$C30) -> 0 | M30: =SUMIFS('15년일입'!$Z$7:$Z$644,'15년일입'!$B$7:$B$644,'15년위원회별'!$A30,'15년일입'!$C$7:$C$644,'15년위원회별'!$C30) -> 0 | N30: =SUMIFS('15년일입'!$AA$7:$AA$644,'15년일입'!$B$7:$B$644,'15년위원회별'!$A30,'15년일입'!$C$7:$C$644,'15년위원회별'!$C30) -> 0 | P30: =SUMIFS('15년일출'!$H$7:$H$733,'15년일출'!$B$7:$B$733,'15년위원회별'!$A30,'15년일출'!$C$7:$C$733,'15년위원회별'!$C30) -> 24158404 | Q30: =SUMIFS('15년일출'!$I$7:$I$733,'15년일출'!$B$7:$B$733,'15년위원회별'!$A30,'15년일출'!$C$7:$C$733,'15년위원회별'!$C30) -> -703851 | R30: =SUMIFS('15년일출'!$J$7:$J$733,'15년일출'!$B$7:$B$733,'15년위원회별'!$A30,'15년일출'!$C$7:$C$733,'15년위원회별'!$C30) -> 2487319 | S30: =SUMIFS('15년일출'!$K$7:$K$733,'15년일출'!$B$7:$B$733,'15년위원회별'!$A30,'15년일출'!$C$7:$C$733,'15년위원회별'!$C30) -> 25941872 | T30: =SUMIFS('15년일출'!$U$7:$U$733,'15년일출'!$B$7:$B$733,'15년위원회별'!$A30,'15년일출'!$C$7:$C$733,'15년위원회별'!$C30) -> 1406266 | U30: =SUMIFS('15년일출'!$V$7:$V$733,'15년일출'!$B$7:$B$733,'15년위원회별'!$A30,'15년일출'!$C$7:$C$733,'15년위원회별'!$C30) -> 377202 | V30: =SUMIFS('15년일출'!$L$31:$L$733,'15년일출'!$B$31:$B$733,'15년위원회별'!$A30,'15년일출'!$C$31:$C$733,'15년위원회별'!$C30) -> 0 | W30: =SUMIFS('15년일출'!$M$31:$M$733,'15년일출'!$B$31:$B$733,'15년위원회별'!$A30,'15년일출'!$C$31:$C$733,'15년위원회별'!$C30) -> 0 | X30: =SUMIFS('15년일출'!$N$31:$N$733,'15년일출'!$B$31:$B$733,'15년위원회별'!$A30,'15년일출'!$C$31:$C$733,'15년위원회별'!$C30) -> 23323878 | Y30: =SUMIFS('15년일출'!$Z$31:$Z$733,'15년일출'!$B$31:$B$733,'15년위원회별'!$A30,'15년일출'!$C$31:$C$733,'15년위원회별'!$C30) -> 0 | Z30: =SUMIFS('15년일출'!$AA$31:$AA$733,'15년일출'!$B$31:$B$733,'15년위원회별'!$A30,'15년일출'!$C$31:$C$733,'15년위원회별'!$C30) -> 0
A31: 보건복지위원회 | C31: 보건환경연구원 | D31: =SUMIFS('15년일입'!$H$7:$H$644,'15년일입'!$B$7:$B$644,'15년위원회별'!$A31,'15년일입'!$C$7:$C$644,'15년위원회별'!$C31) -> 62223 | E31: =SUMIFS('15년일입'!$I$7:$I$644,'15년일입'!$B$7:$B$644,'15년위원회별'!$A31,'15년일입'!$C$7:$C$644,'15년위원회별'!$C31) -> 0 | F31: =SUMIFS('15년일입'!$J$7:$J$644,'15년일입'!$B$7:$B$644,'15년위원회별'!$A31,'15년일입'!$C$7:$C$644,'15년위원회별'!$C31) -> 332 | G31: =SUMIFS('15년일입'!$K$7:$K$644,'15년일입'!$B$7:$B$644,'15년위원회별'!$A31,'15년일입'!$C$7:$C$644,'15년위원회별'!$C31) -> 62555 | H31: =SUMIFS('15년일입'!$U$7:$U$644,'15년일입'!$B$7:$B$644,'15년위원회별'!$A31,'15년일입'!$C$7:$C$644,'15년위원회별'!$C31) -> 332 | I31: =SUMIFS('15년일입'!$V$7:$V$644,'15년일입'!$B$7:$B$644,'15년위원회별'!$A31,'15년일입'!$C$7:$C$644,'15년위원회별'!$C31) -> 0 | J31: =SUMIFS('15년일입'!$L$7:$L$644,'15년일입'!$B$7:$B$644,'15년위원회별'!$A31,'15년일입'!$C$7:$C$644,'15년위원회별'!$C31) -> 0 | K31: =SUMIFS('15년일입'!$M$7:$M$644,'15년일입'!$B$7:$B$644,'15년위원회별'!$A31,'15년일입'!$C$7:$C$644,'15년위원회별'!$C31) -> 0 | L31: =SUMIFS('15년일입'!$N$7:$N$644,'15년일입'!$B$7:$B$644,'15년위원회별'!$A31,'15년일입'!$C$7:$C$644,'15년위원회별'!$C31) -> 62223 | M31: =SUMIFS('15년일입'!$Z$7:$Z$644,'15년일입'!$B$7:$B$644,'15년위원회별'!$A31,'15년일입'!$C$7:$C$644,'15년위원회별'!$C31) -> 0 | N31: =SUMIFS('15년일입'!$AA$7:$AA$644,'15년일입'!$B$7:$B$644,'15년위원회별'!$A31,'15년일입'!$C$7:$C$644,'15년위원회별'!$C31) -> 0 | P31: =SUMIFS('15년일출'!$H$7:$H$733,'15년일출'!$B$7:$B$733,'15년위원회별'!$A31,'15년일출'!$C$7:$C$733,'15년위원회별'!$C31) -> 143958 | Q31: =SUMIFS('15년일출'!$I$7:$I$733,'15년일출'!$B$7:$B$733,'15년위원회별'!$A31,'15년일출'!$C$7:$C$733,'15년위원회별'!$C31) -> 0 | R31: =SUMIFS('15년일출'!$J$7:$J$733,'15년일출'!$B$7:$B$733,'15년위원회별'!$A31,'15년일출'!$C$7:$C$733,'15년위원회별'!$C31) -> 744670 | S31: =SUMIFS('15년일출'!$K$7:$K$733,'15년일출'!$B$7:$B$733,'15년위원회별'!$A31,'15년일출'!$C$7:$C$733,'15년위원회별'!$C31) -> 888628 | T31: =SUMIFS('15년일출'!$U$7:$U$733,'15년일출'!$B$7:$B$733,'15년위원회별'!$A31,'15년일출'!$C$7:$C$733,'15년위원회별'!$C31) -> 332 | U31: =SUMIFS('15년일출'!$V$7:$V$733,'15년일출'!$B$7:$B$733,'15년위원회별'!$A31,'15년일출'!$C$7:$C$733,'15년위원회별'!$C31) -> 744338 | V31: =SUMIFS('15년일출'!$L$31:$L$733,'15년일출'!$B$31:$B$733,'15년위원회별'!$A31,'15년일출'!$C$31:$C$733,'15년위원회별'!$C31) -> 0 | W31: =SUMIFS('15년일출'!$M$31:$M$733,'15년일출'!$B$31:$B$733,'15년위원회별'!$A31,'15년일출'!$C$31:$C$733,'15년위원회별'!$C31) -> 0 | X31: =SUMIFS('15년일출'!$N$31:$N$733,'15년일출'!$B$31:$B$733,'15년위원회별'!$A31,'15년일출'!$C$31:$C$733,'15년위원회별'!$C31) -> 0 | Y31: =SUMIFS('15년일출'!$Z$31:$Z$733,'15년일출'!$B$31:$B$733,'15년위원회별'!$A31,'15년일출'!$C$31:$C$733,'15년위원회별'!$C31) -> 0 | Z31: =SUMIFS('15년일출'!$AA$31:$AA$733,'15년일출'!$B$31:$B$733,'15년위원회별'!$A31,'15년일출'!$C$31:$C$733,'15년위원회별'!$C31) -> 0
B32: 건설교통위원회 | D32: =SUM(D33:D36) -> 0 | E32: =SUM(E33:E36) -> 0 | F32: =SUM(F33:F36) -> 0 | G32: =SUM(G33:G36) -> 0 | H32: =SUM(H33:H36) -> 0 | I32: =SUM(I33:I36) -> 0 | J32: =SUM(J33:J36) -> 0 | K32: =SUM(K33:K36) -> 0 | ... N32: =SUM(N33:N36) -> 0 | P32: =SUM(P33:P36) -> 0 | Q32: =SUM(Q33:Q36) -> 0 | R32: =SUM(R33:R36) -> 0 | S32: =SUM(S33:S36) -> 0 | T32: =SUM(T33:T36) -> 0 | U32: =SUM(U33:U36) -> 0 | V32: =SUM(V33:V36) -> 0 | W32: =SUM(W33:W36) -> 0 | ... Z32: =SUM(Z33:Z36) -> 0
A33: 건설교통위원회 | C33: 철도국 | D33: =SUMIFS('15년일입'!$H$7:$H$644,'15년일입'!$B$7:$B$644,'15년위원회별'!$A33,'15년일입'!$C$7:$C$644,'15년위원회별'!$C33) -> 0 | E33: =SUMIFS('15년일입'!$I$7:$I$644,'15년일입'!$B$7:$B$644,'15년위원회별'!$A33,'15년일입'!$C$7:$C$644,'15년위원회별'!$C33) -> 0 | F33: =SUMIFS('15년일입'!$J$7:$J$644,'15년일입'!$B$7:$B$644,'15년위원회별'!$A33,'15년일입'!$C$7:$C$644,'15년위원회별'!$C33) -> 0 | G33: =SUMIFS('15년일입'!$K$7:$K$644,'15년일입'!$B$7:$B$644,'15년위원회별'!$A33,'15년일입'!$C$7:$C$644,'15년위원회별'!$C33) -> 0 | H33: =SUMIFS('15년일입'!$U$7:$U$644,'15년일입'!$B$7:$B$644,'15년위원회별'!$A33,'15년일입'!$C$7:$C$644,'15년위원회별'!$C33) -> 0 | I33: =SUMIFS('15년일입'!$V$7:$V$644,'15년일입'!$B$7:$B$644,'15년위원회별'!$A33,'15년일입'!$C$7:$C$644,'15년위원회별'!$C33) -> 0 | J33: =SUMIFS('15년일입'!$L$7:$L$644,'15년일입'!$B$7:$B$644,'15년위원회별'!$A33,'15년일입'!$C$7:$C$644,'15년위원회별'!$C33) -> 0 | K33: =SUMIFS('15년일입'!$M$7:$M$644,'15년일입'!$B$7:$B$644,'15년위원회별'!$A33,'15년일입'!$C$7:$C$644,'15년위원회별'!$C33) -> 0 | L33: =SUMIFS('15년일입'!$N$7:$N$644,'15년일입'!$B$7:$B$644,'15년위원회별'!$A33,'15년일입'!$C$7:$C$644,'15년위원회별'!$C33) -> 0 | M33: =SUMIFS('15년일입'!$Z$7:$Z$644,'15년일입'!$B$7:$B$644,'15년위원회별'!$A33,'15년일입'!$C$7:$C$644,'15년위원회별'!$C33) -> 0 | N33: =SUMIFS('15년일입'!$AA$7:$AA$644,'15년일입'!$B$7:$B$644,'15년위원회별'!$A33,'15년일입'!$C$7:$C$644,'15년위원회별'!$C33) -> 0 | P33: =SUMIFS('15년일출'!$H$31:$H$733,'15년일출'!$B$31:$B$733,'15년위원회별'!$A33,'15년일출'!$C$31:$C$733,'15년위원회별'!$C33) -> 0 | Q33: =SUMIFS('15년일출'!$I$31:$I$733,'15년일출'!$B$31:$B$733,'15년위원회별'!$A33,'15년일출'!$C$31:$C$733,'15년위원회별'!$C33) -> 0 | R33: =SUMIFS('15년일출'!$J$31:$J$733,'15년일출'!$B$31:$B$733,'15년위원회별'!$A33,'15년일출'!$C$31:$C$733,'15년위원회별'!$C33) -> 0 | S33: =SUMIFS('15년일출'!$K$31:$K$733,'15년일출'!$B$31:$B$733,'15년위원회별'!$A33,'15년일출'!$C$31:$C$733,'15년위원회별'!$C33) -> 0 | T33: =SUMIFS('15년일출'!$U$31:$U$733,'15년일출'!$B$31:$B$733,'15년위원회별'!$A33,'15년일출'!$C$31:$C$733,'15년위원회별'!$C33) -> 0 | U33: =SUMIFS('15년일출'!$V$31:$V$733,'15년일출'!$B$31:$B$733,'15년위원회별'!$A33,'15년일출'!$C$31:$C$733,'15년위원회별'!$C33) -> 0 | V33: =SUMIFS('15년일출'!$L$31:$L$733,'15년일출'!$B$31:$B$733,'15년위원회별'!$A33,'15년일출'!$C$31:$C$733,'15년위원회별'!$C33) -> 0 | W33: =SUMIFS('15년일출'!$M$31:$M$733,'15년일출'!$B$31:$B$733,'15년위원회별'!$A33,'15년일출'!$C$31:$C$733,'15년위원회별'!$C33) -> 0 | X33: =SUMIFS('15년일출'!$N$31:$N$733,'15년일출'!$B$31:$B$733,'15년위원회별'!$A33,'15년일출'!$C$31:$C$733,'15년위원회별'!$C33) -> 0 | Y33: =SUMIFS('15년일출'!$Z$31:$Z$733,'15년일출'!$B$31:$B$733,'15년위원회별'!$A33,'15년일출'!$C$31:$C$733,'15년위원회별'!$C33) -> 0 | Z33: =SUMIFS('15년일출'!$AA$31:$AA$733,'15년일출'!$B$31:$B$733,'15년위원회별'!$A33,'15년일출'!$C$31:$C$733,'15년위원회별'!$C33) -> 0
A34: 건설교통위원회 | C34: 교통국 | D34: =SUMIFS('15년일입'!$H$7:$H$644,'15년일입'!$B$7:$B$644,'15년위원회별'!$A34,'15년일입'!$C$7:$C$644,'15년위원회별'!$C34) -> 0 | E34: =SUMIFS('15년일입'!$I$7:$I$644,'15년일입'!$B$7:$B$644,'15년위원회별'!$A34,'15년일입'!$C$7:$C$644,'15년위원회별'!$C34) -> 0 | F34: =SUMIFS('15년일입'!$J$7:$J$644,'15년일입'!$B$7:$B$644,'15년위원회별'!$A34,'15년일입'!$C$7:$C$644,'15년위원회별'!$C34) -> 0 | G34: =SUMIFS('15년일입'!$K$7:$K$644,'15년일입'!$B$7:$B$644,'15년위원회별'!$A34,'15년일입'!$C$7:$C$644,'15년위원회별'!$C34) -> 0 | H34: =SUMIFS('15년일입'!$U$7:$U$644,'15년일입'!$B$7:$B$644,'15년위원회별'!$A34,'15년일입'!$C$7:$C$644,'15년위원회별'!$C34) -> 0 | I34: =SUMIFS('15년일입'!$V$7:$V$644,'15년일입'!$B$7:$B$644,'15년위원회별'!$A34,'15년일입'!$C$7:$C$644,'15년위원회별'!$C34) -> 0 | J34: =SUMIFS('15년일입'!$L$7:$L$644,'15년일입'!$B$7:$B$644,'15년위원회별'!$A34,'15년일입'!$C$7:$C$644,'15년위원회별'!$C34) -> 0 | K34: =SUMIFS('15년일입'!$M$7:$M$644,'15년일입'!$B$7:$B$644,'15년위원회별'!$A34,'15년일입'!$C$7:$C$644,'15년위원회별'!$C34) -> 0 | L34: =SUMIFS('15년일입'!$N$7:$N$644,'15년일입'!$B$7:$B$644,'15년위원회별'!$A34,'15년일입'!$C$7:$C$644,'15년위원회별'!$C34) -> 0 | M34: =SUMIFS('15년일입'!$Z$7:$Z$644,'15년일입'!$B$7:$B$644,'15년위원회별'!$A34,'15년일입'!$C$7:$C$644,'15년위원회별'!$C34) -> 0 | N34: =SUMIFS('15년일입'!$AA$7:$AA$644,'15년일입'!$B$7:$B$644,'15년위원회별'!$A34,'15년일입'!$C$7:$C$644,'15년위원회별'!$C34) -> 0 | P34: =SUMIFS('15년일출'!$H$31:$H$733,'15년일출'!$B$31:$B$733,'15년위원회별'!$A34,'15년일출'!$C$31:$C$733,'15년위원회별'!$C34) -> 0 | Q34: =SUMIFS('15년일출'!$I$31:$I$733,'15년일출'!$B$31:$B$733,'15년위원회별'!$A34,'15년일출'!$C$31:$C$733,'15년위원회별'!$C34) -> 0 | R34: =SUMIFS('15년일출'!$J$31:$J$733,'15년일출'!$B$31:$B$733,'15년위원회별'!$A34,'15년일출'!$C$31:$C$733,'15년위원회별'!$C34) -> 0 | S34: =SUMIFS('15년일출'!$K$31:$K$733,'15년일출'!$B$31:$B$733,'15년위원회별'!$A34,'15년일출'!$C$31:$C$733,'15년위원회별'!$C34) -> 0 | T34: =SUMIFS('15년일출'!$U$31:$U$733,'15년일출'!$B$31:$B$733,'15년위원회별'!$A34,'15년일출'!$C$31:$C$733,'15년위원회별'!$C34) -> 0 | U34: =SUMIFS('15년일출'!$V$31:$V$733,'15년일출'!$B$31:$B$733,'15년위원회별'!$A34,'15년일출'!$C$31:$C$733,'15년위원회별'!$C34) -> 0 | V34: =SUMIFS('15년일출'!$L$31:$L$733,'15년일출'!$B$31:$B$733,'15년위원회별'!$A34,'15년일출'!$C$31:$C$733,'15년위원회별'!$C34) -> 0 | W34: =SUMIFS('15년일출'!$M$31:$M$733,'15년일출'!$B$31:$B$733,'15년위원회별'!$A34,'15년일출'!$C$31:$C$733,'15년위원회별'!$C34) -> 0 | X34: =SUMIFS('15년일출'!$N$31:$N$733,'15년일출'!$B$31:$B$733,'15년위원회별'!$A34,'15년일출'!$C$31:$C$733,'15년위원회별'!$C34) -> 0 | Y34: =SUMIFS('15년일출'!$Z$31:$Z$733,'15년일출'!$B$31:$B$733,'15년위원회별'!$A34,'15년일출'!$C$31:$C$733,'15년위원회별'!$C34) -> 0 | Z34: =SUMIFS('15년일출'!$AA$31:$AA$733,'15년일출'!$B$31:$B$733,'15년위원회별'!$A34,'15년일출'!$C$31:$C$733,'15년위원회별'!$C34) -> 0
A35: 건설교통위원회 | C35: 건설국 | D35: =SUMIFS('15년일입'!$H$7:$H$644,'15년일입'!$B$7:$B$644,'15년위원회별'!$A35,'15년일입'!$C$7:$C$644,'15년위원회별'!$C35) -> 0 | E35: =SUMIFS('15년일입'!$I$7:$I$644,'15년일입'!$B$7:$B$644,'15년위원회별'!$A35,'15년일입'!$C$7:$C$644,'15년위원회별'!$C35) -> 0 | F35: =SUMIFS('15년일입'!$J$7:$J$644,'15년일입'!$B$7:$B$644,'15년위원회별'!$A35,'15년일입'!$C$7:$C$644,'15년위원회별'!$C35) -> 0 | G35: =SUMIFS('15년일입'!$K$7:$K$644,'15년일입'!$B$7:$B$644,'15년위원회별'!$A35,'15년일입'!$C$7:$C$644,'15년위원회별'!$C35) -> 0 | H35: =SUMIFS('15년일입'!$U$7:$U$644,'15년일입'!$B$7:$B$644,'15년위원회별'!$A35,'15년일입'!$C$7:$C$644,'15년위원회별'!$C35) -> 0 | I35: =SUMIFS('15년일입'!$V$7:$V$644,'15년일입'!$B$7:$B$644,'15년위원회별'!$A35,'15년일입'!$C$7:$C$644,'15년위원회별'!$C35) -> 0 | J35: =SUMIFS('15년일입'!$L$7:$L$644,'15년일입'!$B$7:$B$644,'15년위원회별'!$A35,'15년일입'!$C$7:$C$644,'15년위원회별'!$C35) -> 0 | K35: =SUMIFS('15년일입'!$M$7:$M$644,'15년일입'!$B$7:$B$644,'15년위원회별'!$A35,'15년일입'!$C$7:$C$644,'15년위원회별'!$C35) -> 0 | L35: =SUMIFS('15년일입'!$N$7:$N$644,'15년일입'!$B$7:$B$644,'15년위원회별'!$A35,'15년일입'!$C$7:$C$644,'15년위원회별'!$C35) -> 0 | M35: =SUMIFS('15년일입'!$Z$7:$Z$644,'15년일입'!$B$7:$B$644,'15년위원회별'!$A35,'15년일입'!$C$7:$C$644,'15년위원회별'!$C35) -> 0 | N35: =SUMIFS('15년일입'!$AA$7:$AA$644,'15년일입'!$B$7:$B$644,'15년위원회별'!$A35,'15년일입'!$C$7:$C$644,'15년위원회별'!$C35) -> 0 | P35: =SUMIFS('15년일출'!$H$31:$H$733,'15년일출'!$B$31:$B$733,'15년위원회별'!$A35,'15년일출'!$C$31:$C$733,'15년위원회별'!$C35) -> 0 | Q35: =SUMIFS('15년일출'!$I$31:$I$733,'15년일출'!$B$31:$B$733,'15년위원회별'!$A35,'15년일출'!$C$31:$C$733,'15년위원회별'!$C35) -> 0 | R35: =SUMIFS('15년일출'!$J$31:$J$733,'15년일출'!$B$31:$B$733,'15년위원회별'!$A35,'15년일출'!$C$31:$C$733,'15년위원회별'!$C35) -> 0 | S35: =SUMIFS('15년일출'!$K$31:$K$733,'15년일출'!$B$31:$B$733,'15년위원회별'!$A35,'15년일출'!$C$31:$C$733,'15년위원회별'!$C35) -> 0 | T35: =SUMIFS('15년일출'!$U$31:$U$733,'15년일출'!$B$31:$B$733,'15년위원회별'!$A35,'15년일출'!$C$31:$C$733,'15년위원회별'!$C35) -> 0 | U35: =SUMIFS('15년일출'!$V$31:$V$733,'15년일출'!$B$31:$B$733,'15년위원회별'!$A35,'15년일출'!$C$31:$C$733,'15년위원회별'!$C35) -> 0 | V35: =SUMIFS('15년일출'!$L$31:$L$733,'15년일출'!$B$31:$B$733,'15년위원회별'!$A35,'15년일출'!$C$31:$C$733,'15년위원회별'!$C35) -> 0 | W35: =SUMIFS('15년일출'!$M$31:$M$733,'15년일출'!$B$31:$B$733,'15년위원회별'!$A35,'15년일출'!$C$31:$C$733,'15년위원회별'!$C35) -> 0 | X35: =SUMIFS('15년일출'!$N$31:$N$733,'15년일출'!$B$31:$B$733,'15년위원회별'!$A35,'15년일출'!$C$31:$C$733,'15년위원회별'!$C35) -> 0 | Y35: =SUMIFS('15년일출'!$Z$31:$Z$733,'15년일출'!$B$31:$B$733,'15년위원회별'!$A35,'15년일출'!$C$31:$C$733,'15년위원회별'!$C35) -> 0 | Z35: =SUMIFS('15년일출'!$AA$31:$AA$733,'15년일출'!$B$31:$B$733,'15년위원회별'!$A35,'15년일출'!$C$31:$C$733,'15년위원회별'!$C35) -> 0
A36: 건설교통위원회 | C36: 건설본부 | D36: =SUMIFS('15년일입'!$H$7:$H$644,'15년일입'!$B$7:$B$644,'15년위원회별'!$A36,'15년일입'!$C$7:$C$644,'15년위원회별'!$C36) -> 0 | E36: =SUMIFS('15년일입'!$I$7:$I$644,'15년일입'!$B$7:$B$644,'15년위원회별'!$A36,'15년일입'!$C$7:$C$644,'15년위원회별'!$C36) -> 0 | F36: =SUMIFS('15년일입'!$J$7:$J$644,'15년일입'!$B$7:$B$644,'15년위원회별'!$A36,'15년일입'!$C$7:$C$644,'15년위원회별'!$C36) -> 0 | G36: =SUMIFS('15년일입'!$K$7:$K$644,'15년일입'!$B$7:$B$644,'15년위원회별'!$A36,'15년일입'!$C$7:$C$644,'15년위원회별'!$C36) -> 0 | H36: =SUMIFS('15년일입'!$U$7:$U$644,'15년일입'!$B$7:$B$644,'15년위원회별'!$A36,'15년일입'!$C$7:$C$644,'15년위원회별'!$C36) -> 0 | I36: =SUMIFS('15년일입'!$V$7:$V$644,'15년일입'!$B$7:$B$644,'15년위원회별'!$A36,'15년일입'!$C$7:$C$644,'15년위원회별'!$C36) -> 0 | J36: =SUMIFS('15년일입'!$L$7:$L$644,'15년일입'!$B$7:$B$644,'15년위원회별'!$A36,'15년일입'!$C$7:$C$644,'15년위원회별'!$C36) -> 0 | K36: =SUMIFS('15년일입'!$M$7:$M$644,'15년일입'!$B$7:$B$644,'15년위원회별'!$A36,'15년일입'!$C$7:$C$644,'15년위원회별'!$C36) -> 0 | L36: =SUMIFS('15년일입'!$N$7:$N$644,'15년일입'!$B$7:$B$644,'15년위원회별'!$A36,'15년일입'!$C$7:$C$644,'15년위원회별'!$C36) -> 0 | M36: =SUMIFS('15년일입'!$Z$7:$Z$644,'15년일입'!$B$7:$B$644,'15년위원회별'!$A36,'15년일입'!$C$7:$C$644,'15년위원회별'!$C36) -> 0 | N36: =SUMIFS('15년일입'!$AA$7:$AA$644,'15년일입'!$B$7:$B$644,'15년위원회별'!$A36,'15년일입'!$C$7:$C$644,'15년위원회별'!$C36) -> 0 | P36: =SUMIFS('15년일출'!$H$31:$H$733,'15년일출'!$B$31:$B$733,'15년위원회별'!$A36,'15년일출'!$C$31:$C$733,'15년위원회별'!$C36) -> 0 | Q36: =SUMIFS('15년일출'!$I$31:$I$733,'15년일출'!$B$31:$B$733,'15년위원회별'!$A36,'15년일출'!$C$31:$C$733,'15년위원회별'!$C36) -> 0 | R36: =SUMIFS('15년일출'!$J$31:$J$733,'15년일출'!$B$31:$B$733,'15년위원회별'!$A36,'15년일출'!$C$31:$C$733,'15년위원회별'!$C36) -> 0 | S36: =SUMIFS('15년일출'!$K$31:$K$733,'15년일출'!$B$31:$B$733,'15년위원회별'!$A36,'15년일출'!$C$31:$C$733,'15년위원회별'!$C36) -> 0 | T36: =SUMIFS('15년일출'!$U$31:$U$733,'15년일출'!$B$31:$B$733,'15년위원회별'!$A36,'15년일출'!$C$31:$C$733,'15년위원회별'!$C36) -> 0 | U36: =SUMIFS('15년일출'!$V$31:$V$733,'15년일출'!$B$31:$B$733,'15년위원회별'!$A36,'15년일출'!$C$31:$C$733,'15년위원회별'!$C36) -> 0 | V36: =SUMIFS('15년일출'!$L$31:$L$733,'15년일출'!$B$31:$B$733,'15년위원회별'!$A36,'15년일출'!$C$31:$C$733,'15년위원회별'!$C36) -> 0 | W36: =SUMIFS('15년일출'!$M$31:$M$733,'15년일출'!$B$31:$B$733,'15년위원회별'!$A36,'15년일출'!$C$31:$C$733,'15년위원회별'!$C36) -> 0 | X36: =SUMIFS('15년일출'!$N$31:$N$733,'15년일출'!$B$31:$B$733,'15년위원회별'!$A36,'15년일출'!$C$31:$C$733,'15년위원회별'!$C36) -> 0 | Y36: =SUMIFS('15년일출'!$Z$31:$Z$733,'15년일출'!$B$31:$B$733,'15년위원회별'!$A36,'15년일출'!$C$31:$C$733,'15년위원회별'!$C36) -> 0 | Z36: =SUMIFS('15년일출'!$AA$31:$AA$733,'15년일출'!$B$31:$B$733,'15년위원회별'!$A36,'15년일출'!$C$31:$C$733,'15년위원회별'!$C36) -> 0
B37: 도시환경위원회 | D37: =SUM(D38:D42) -> 0 | E37: =SUM(E38:E42) -> 0 | F37: =SUM(F38:F42) -> 0 | G37: =SUM(G38:G42) -> 0 | H37: =SUM(H38:H42) -> 0 | I37: =SUM(I38:I42) -> 0 | J37: =SUM(J38:J42) -> 0 | K37: =SUM(K38:K42) -> 0 | ... N37: =SUM(N38:N42) -> 0 | P37: =SUM(P38:P42) -> 0 | Q37: =SUM(Q38:Q42) -> 0 | R37: =SUM(R38:R42) -> 0 | S37: =SUM(S38:S42) -> 0 | T37: =SUM(T38:T42) -> 0 | U37: =SUM(U38:U42) -> 0 | V37: =SUM(V38:V42) -> 0 | W37: =SUM(W38:W42) -> 0 | ... Z37: =SUM(Z38:Z42) -> 0
A38: 도시환경위원회 | C38: 도시주택실 | D38: =SUMIFS('15년일입'!$H$7:$H$644,'15년일입'!$B$7:$B$644,'15년위원회별'!$A38,'15년일입'!$C$7:$C$644,'15년위원회별'!$C38) -> 0 | E38: =SUMIFS('15년일입'!$I$7:$I$644,'15년일입'!$B$7:$B$644,'15년위원회별'!$A38,'15년일입'!$C$7:$C$644,'15년위원회별'!$C38) -> 0 | F38: =SUMIFS('15년일입'!$J$7:$J$644,'15년일입'!$B$7:$B$644,'15년위원회별'!$A38,'15년일입'!$C$7:$C$644,'15년위원회별'!$C38) -> 0 | G38: =SUMIFS('15년일입'!$K$7:$K$644,'15년일입'!$B$7:$B$644,'15년위원회별'!$A38,'15년일입'!$C$7:$C$644,'15년위원회별'!$C38) -> 0 | H38: =SUMIFS('15년일입'!$U$7:$U$644,'15년일입'!$B$7:$B$644,'15년위원회별'!$A38,'15년일입'!$C$7:$C$644,'15년위원회별'!$C38) -> 0 | I38: =SUMIFS('15년일입'!$V$7:$V$644,'15년일입'!$B$7:$B$644,'15년위원회별'!$A38,'15년일입'!$C$7:$C$644,'15년위원회별'!$C38) -> 0 | J38: =SUMIFS('15년일입'!$L$7:$L$644,'15년일입'!$B$7:$B$644,'15년위원회별'!$A38,'15년일입'!$C$7:$C$644,'15년위원회별'!$C38) -> 0 | K38: =SUMIFS('15년일입'!$M$7:$M$644,'15년일입'!$B$7:$B$644,'15년위원회별'!$A38,'15년일입'!$C$7:$C$644,'15년위원회별'!$C38) -> 0 | L38: =SUMIFS('15년일입'!$N$7:$N$644,'15년일입'!$B$7:$B$644,'15년위원회별'!$A38,'15년일입'!$C$7:$C$644,'15년위원회별'!$C38) -> 0 | M38: =SUMIFS('15년일입'!$Z$7:$Z$644,'15년일입'!$B$7:$B$644,'15년위원회별'!$A38,'15년일입'!$C$7:$C$644,'15년위원회별'!$C38) -> 0 | N38: =SUMIFS('15년일입'!$AA$7:$AA$644,'15년일입'!$B$7:$B$644,'15년위원회별'!$A38,'15년일입'!$C$7:$C$644,'15년위원회별'!$C38) -> 0 | P38: =SUMIFS('15년일출'!$H$31:$H$733,'15년일출'!$B$31:$B$733,'15년위원회별'!$A38,'15년일출'!$C$31:$C$733,'15년위원회별'!$C38) -> 0 | Q38: =SUMIFS('15년일출'!$I$31:$I$733,'15년일출'!$B$31:$B$733,'15년위원회별'!$A38,'15년일출'!$C$31:$C$733,'15년위원회별'!$C38) -> 0 | R38: =SUMIFS('15년일출'!$J$31:$J$733,'15년일출'!$B$31:$B$733,'15년위원회별'!$A38,'15년일출'!$C$31:$C$733,'15년위원회별'!$C38) -> 0 | S38: =SUMIFS('15년일출'!$K$31:$K$733,'15년일출'!$B$31:$B$733,'15년위원회별'!$A38,'15년일출'!$C$31:$C$733,'15년위원회별'!$C38) -> 0 | T38: =SUMIFS('15년일출'!$U$31:$U$733,'15년일출'!$B$31:$B$733,'15년위원회별'!$A38,'15년일출'!$C$31:$C$733,'15년위원회별'!$C38) -> 0 | U38: =SUMIFS('15년일출'!$V$31:$V$733,'15년일출'!$B$31:$B$733,'15년위원회별'!$A38,'15년일출'!$C$31:$C$733,'15년위원회별'!$C38) -> 0 | V38: =SUMIFS('15년일출'!$L$31:$L$733,'15년일출'!$B$31:$B$733,'15년위원회별'!$A38,'15년일출'!$C$31:$C$733,'15년위원회별'!$C38) -> 0 | W38: =SUMIFS('15년일출'!$M$31:$M$733,'15년일출'!$B$31:$B$733,'15년위원회별'!$A38,'15년일출'!$C$31:$C$733,'15년위원회별'!$C38) -> 0 | X38: =SUMIFS('15년일출'!$N$31:$N$733,'15년일출'!$B$31:$B$733,'15년위원회별'!$A38,'15년일출'!$C$31:$C$733,'15년위원회별'!$C38) -> 0 | Y38: =SUMIFS('15년일출'!$Z$31:$Z$733,'15년일출'!$B$31:$B$733,'15년위원회별'!$A38,'15년일출'!$C$31:$C$733,'15년위원회별'!$C38) -> 0 | Z38: =SUMIFS('15년일출'!$AA$31:$AA$733,'15년일출'!$B$31:$B$733,'15년위원회별'!$A38,'15년일출'!$C$31:$C$733,'15년위원회별'!$C38) -> 0
A39: 도시환경위원회 | C39: 환경국 | D39: =SUMIFS('15년일입'!$H$7:$H$644,'15년일입'!$B$7:$B$644,'15년위원회별'!$A39,'15년일입'!$C$7:$C$644,'15년위원회별'!$C39) -> 0 | E39: =SUMIFS('15년일입'!$I$7:$I$644,'15년일입'!$B$7:$B$644,'15년위원회별'!$A39,'15년일입'!$C$7:$C$644,'15년위원회별'!$C39) -> 0 | F39: =SUMIFS('15년일입'!$J$7:$J$644,'15년일입'!$B$7:$B$644,'15년위원회별'!$A39,'15년일입'!$C$7:$C$644,'15년위원회별'!$C39) -> 0 | G39: =SUMIFS('15년일입'!$K$7:$K$644,'15년일입'!$B$7:$B$644,'15년위원회별'!$A39,'15년일입'!$C$7:$C$644,'15년위원회별'!$C39) -> 0 | H39: =SUMIFS('15년일입'!$U$7:$U$644,'15년일입'!$B$7:$B$644,'15년위원회별'!$A39,'15년일입'!$C$7:$C$644,'15년위원회별'!$C39) -> 0 | I39: =SUMIFS('15년일입'!$V$7:$V$644,'15년일입'!$B$7:$B$644,'15년위원회별'!$A39,'15년일입'!$C$7:$C$644,'15년위원회별'!$C39) -> 0 | J39: =SUMIFS('15년일입'!$L$7:$L$644,'15년일입'!$B$7:$B$644,'15년위원회별'!$A39,'15년일입'!$C$7:$C$644,'15년위원회별'!$C39) -> 0 | K39: =SUMIFS('15년일입'!$M$7:$M$644,'15년일입'!$B$7:$B$644,'15년위원회별'!$A39,'15년일입'!$C$7:$C$644,'15년위원회별'!$C39) -> 0 | L39: =SUMIFS('15년일입'!$N$7:$N$644,'15년일입'!$B$7:$B$644,'15년위원회별'!$A39,'15년일입'!$C$7:$C$644,'15년위원회별'!$C39) -> 0 | M39: =SUMIFS('15년일입'!$Z$7:$Z$644,'15년일입'!$B$7:$B$644,'15년위원회별'!$A39,'15년일입'!$C$7:$C$644,'15년위원회별'!$C39) -> 0 | N39: =SUMIFS('15년일입'!$AA$7:$AA$644,'15년일입'!$B$7:$B$644,'15년위원회별'!$A39,'15년일입'!$C$7:$C$644,'15년위원회별'!$C39) -> 0 | P39: =SUMIFS('15년일출'!$H$31:$H$733,'15년일출'!$B$31:$B$733,'15년위원회별'!$A39,'15년일출'!$C$31:$C$733,'15년위원회별'!$C39) -> 0 | Q39: =SUMIFS('15년일출'!$I$31:$I$733,'15년일출'!$B$31:$B$733,'15년위원회별'!$A39,'15년일출'!$C$31:$C$733,'15년위원회별'!$C39) -> 0 | R39: =SUMIFS('15년일출'!$J$31:$J$733,'15년일출'!$B$31:$B$733,'15년위원회별'!$A39,'15년일출'!$C$31:$C$733,'15년위원회별'!$C39) -> 0 | S39: =SUMIFS('15년일출'!$K$31:$K$733,'15년일출'!$B$31:$B$733,'15년위원회별'!$A39,'15년일출'!$C$31:$C$733,'15년위원회별'!$C39) -> 0 | T39: =SUMIFS('15년일출'!$U$31:$U$733,'15년일출'!$B$31:$B$733,'15년위원회별'!$A39,'15년일출'!$C$31:$C$733,'15년위원회별'!$C39) -> 0 | U39: =SUMIFS('15년일출'!$V$31:$V$733,'15년일출'!$B$31:$B$733,'15년위원회별'!$A39,'15년일출'!$C$31:$C$733,'15년위원회별'!$C39) -> 0 | V39: =SUMIFS('15년일출'!$L$31:$L$733,'15년일출'!$B$31:$B$733,'15년위원회별'!$A39,'15년일출'!$C$31:$C$733,'15년위원회별'!$C39) -> 0 | W39: =SUMIFS('15년일출'!$M$31:$M$733,'15년일출'!$B$31:$B$733,'15년위원회별'!$A39,'15년일출'!$C$31:$C$733,'15년위원회별'!$C39) -> 0 | X39: =SUMIFS('15년일출'!$N$31:$N$733,'15년일출'!$B$31:$B$733,'15년위원회별'!$A39,'15년일출'!$C$31:$C$733,'15년위원회별'!$C39) -> 0 | Y39: =SUMIFS('15년일출'!$Z$31:$Z$733,'15년일출'!$B$31:$B$733,'15년위원회별'!$A39,'15년일출'!$C$31:$C$733,'15년위원회별'!$C39) -> 0 | Z39: =SUMIFS('15년일출'!$AA$31:$AA$733,'15년일출'!$B$31:$B$733,'15년위원회별'!$A39,'15년일출'!$C$31:$C$733,'15년위원회별'!$C39) -> 0
A40: 도시환경위원회 | C40: 축산산림국 | D40: =SUMIFS('15년일입'!$H$7:$H$644,'15년일입'!$B$7:$B$644,'15년위원회별'!$A40,'15년일입'!$C$7:$C$644,'15년위원회별'!$C40) -> 0 | E40: =SUMIFS('15년일입'!$I$7:$I$644,'15년일입'!$B$7:$B$644,'15년위원회별'!$A40,'15년일입'!$C$7:$C$644,'15년위원회별'!$C40) -> 0 | F40: =SUMIFS('15년일입'!$J$7:$J$644,'15년일입'!$B$7:$B$644,'15년위원회별'!$A40,'15년일입'!$C$7:$C$644,'15년위원회별'!$C40) -> 0 | G40: =SUMIFS('15년일입'!$K$7:$K$644,'15년일입'!$B$7:$B$644,'15년위원회별'!$A40,'15년일입'!$C$7:$C$644,'15년위원회별'!$C40) -> 0 | H40: =SUMIFS('15년일입'!$U$7:$U$644,'15년일입'!$B$7:$B$644,'15년위원회별'!$A40,'15년일입'!$C$7:$C$644,'15년위원회별'!$C40) -> 0 | I40: =SUMIFS('15년일입'!$V$7:$V$644,'15년일입'!$B$7:$B$644,'15년위원회별'!$A40,'15년일입'!$C$7:$C$644,'15년위원회별'!$C40) -> 0 | J40: =SUMIFS('15년일입'!$L$7:$L$644,'15년일입'!$B$7:$B$644,'15년위원회별'!$A40,'15년일입'!$C$7:$C$644,'15년위원회별'!$C40) -> 0 | K40: =SUMIFS('15년일입'!$M$7:$M$644,'15년일입'!$B$7:$B$644,'15년위원회별'!$A40,'15년일입'!$C$7:$C$644,'15년위원회별'!$C40) -> 0 | L40: =SUMIFS('15년일입'!$N$7:$N$644,'15년일입'!$B$7:$B$644,'15년위원회별'!$A40,'15년일입'!$C$7:$C$644,'15년위원회별'!$C40) -> 0 | M40: =SUMIFS('15년일입'!$Z$7:$Z$644,'15년일입'!$B$7:$B$644,'15년위원회별'!$A40,'15년일입'!$C$7:$C$644,'15년위원회별'!$C40) -> 0 | N40: =SUMIFS('15년일입'!$AA$7:$AA$644,'15년일입'!$B$7:$B$644,'15년위원회별'!$A40,'15년일입'!$C$7:$C$644,'15년위원회별'!$C40) -> 0 | P40: =SUMIFS('15년일출'!$H$31:$H$733,'15년일출'!$B$31:$B$733,'15년위원회별'!$A40,'15년일출'!$C$31:$C$733,'15년위원회별'!$C40) -> 0 | Q40: =SUMIFS('15년일출'!$I$31:$I$733,'15년일출'!$B$31:$B$733,'15년위원회별'!$A40,'15년일출'!$C$31:$C$733,'15년위원회별'!$C40) -> 0 | R40: =SUMIFS('15년일출'!$J$31:$J$733,'15년일출'!$B$31:$B$733,'15년위원회별'!$A40,'15년일출'!$C$31:$C$733,'15년위원회별'!$C40) -> 0 | S40: =SUMIFS('15년일출'!$K$31:$K$733,'15년일출'!$B$31:$B$733,'15년위원회별'!$A40,'15년일출'!$C$31:$C$733,'15년위원회별'!$C40) -> 0 | T40: =SUMIFS('15년일출'!$U$31:$U$733,'15년일출'!$B$31:$B$733,'15년위원회별'!$A40,'15년일출'!$C$31:$C$733,'15년위원회별'!$C40) -> 0 | U40: =SUMIFS('15년일출'!$V$31:$V$733,'15년일출'!$B$31:$B$733,'15년위원회별'!$A40,'15년일출'!$C$31:$C$733,'15년위원회별'!$C40) -> 0 | V40: =SUMIFS('15년일출'!$L$31:$L$733,'15년일출'!$B$31:$B$733,'15년위원회별'!$A40,'15년일출'!$C$31:$C$733,'15년위원회별'!$C40) -> 0 | W40: =SUMIFS('15년일출'!$M$31:$M$733,'15년일출'!$B$31:$B$733,'15년위원회별'!$A40,'15년일출'!$C$31:$C$733,'15년위원회별'!$C40) -> 0 | X40: =SUMIFS('15년일출'!$N$31:$N$733,'15년일출'!$B$31:$B$733,'15년위원회별'!$A40,'15년일출'!$C$31:$C$733,'15년위원회별'!$C40) -> 0 | Y40: =SUMIFS('15년일출'!$Z$31:$Z$733,'15년일출'!$B$31:$B$733,'15년위원회별'!$A40,'15년일출'!$C$31:$C$733,'15년위원회별'!$C40) -> 0 | Z40: =SUMIFS('15년일출'!$AA$31:$AA$733,'15년일출'!$B$31:$B$733,'15년위원회별'!$A40,'15년일출'!$C$31:$C$733,'15년위원회별'!$C40) -> 0
A41: 도시환경위원회 | C41: 보건환경연구원 | D41: =SUMIFS('15년일입'!$H$7:$H$644,'15년일입'!$B$7:$B$644,'15년위원회별'!$A41,'15년일입'!$C$7:$C$644,'15년위원회별'!$C41) -> 0 | E41: =SUMIFS('15년일입'!$I$7:$I$644,'15년일입'!$B$7:$B$644,'15년위원회별'!$A41,'15년일입'!$C$7:$C$644,'15년위원회별'!$C41) -> 0 | F41: =SUMIFS('15년일입'!$J$7:$J$644,'15년일입'!$B$7:$B$644,'15년위원회별'!$A41,'15년일입'!$C$7:$C$644,'15년위원회별'!$C41) -> 0 | G41: =SUMIFS('15년일입'!$K$7:$K$644,'15년일입'!$B$7:$B$644,'15년위원회별'!$A41,'15년일입'!$C$7:$C$644,'15년위원회별'!$C41) -> 0 | H41: =SUMIFS('15년일입'!$U$7:$U$644,'15년일입'!$B$7:$B$644,'15년위원회별'!$A41,'15년일입'!$C$7:$C$644,'15년위원회별'!$C41) -> 0 | I41: =SUMIFS('15년일입'!$V$7:$V$644,'15년일입'!$B$7:$B$644,'15년위원회별'!$A41,'15년일입'!$C$7:$C$644,'15년위원회별'!$C41) -> 0 | J41: =SUMIFS('15년일입'!$L$7:$L$644,'15년일입'!$B$7:$B$644,'15년위원회별'!$A41,'15년일입'!$C$7:$C$644,'15년위원회별'!$C41) -> 0 | K41: =SUMIFS('15년일입'!$M$7:$M$644,'15년일입'!$B$7:$B$644,'15년위원회별'!$A41,'15년일입'!$C$7:$C$644,'15년위원회별'!$C41) -> 0 | L41: =SUMIFS('15년일입'!$N$7:$N$644,'15년일입'!$B$7:$B$644,'15년위원회별'!$A41,'15년일입'!$C$7:$C$644,'15년위원회별'!$C41) -> 0 | M41: =SUMIFS('15년일입'!$Z$7:$Z$644,'15년일입'!$B$7:$B$644,'15년위원회별'!$A41,'15년일입'!$C$7:$C$644,'15년위원회별'!$C41) -> 0 | N41: =SUMIFS('15년일입'!$AA$7:$AA$644,'15년일입'!$B$7:$B$644,'15년위원회별'!$A41,'15년일입'!$C$7:$C$644,'15년위원회별'!$C41) -> 0 | P41: =SUMIFS('15년일출'!$H$31:$H$733,'15년일출'!$B$31:$B$733,'15년위원회별'!$A41,'15년일출'!$C$31:$C$733,'15년위원회별'!$C41) -> 0 | Q41: =SUMIFS('15년일출'!$I$31:$I$733,'15년일출'!$B$31:$B$733,'15년위원회별'!$A41,'15년일출'!$C$31:$C$733,'15년위원회별'!$C41) -> 0 | R41: =SUMIFS('15년일출'!$J$31:$J$733,'15년일출'!$B$31:$B$733,'15년위원회별'!$A41,'15년일출'!$C$31:$C$733,'15년위원회별'!$C41) -> 0 | S41: =SUMIFS('15년일출'!$K$31:$K$733,'15년일출'!$B$31:$B$733,'15년위원회별'!$A41,'15년일출'!$C$31:$C$733,'15년위원회별'!$C41) -> 0 | T41: =SUMIFS('15년일출'!$U$31:$U$733,'15년일출'!$B$31:$B$733,'15년위원회별'!$A41,'15년일출'!$C$31:$C$733,'15년위원회별'!$C41) -> 0 | U41: =SUMIFS('15년일출'!$V$31:$V$733,'15년일출'!$B$31:$B$733,'15년위원회별'!$A41,'15년일출'!$C$31:$C$733,'15년위원회별'!$C41) -> 0 | V41: =SUMIFS('15년일출'!$L$31:$L$733,'15년일출'!$B$31:$B$733,'15년위원회별'!$A41,'15년일출'!$C$31:$C$733,'15년위원회별'!$C41) -> 0 | W41: =SUMIFS('15년일출'!$M$31:$M$733,'15년일출'!$B$31:$B$733,'15년위원회별'!$A41,'15년일출'!$C$31:$C$733,'15년위원회별'!$C41) -> 0 | X41: =SUMIFS('15년일출'!$N$31:$N$733,'15년일출'!$B$31:$B$733,'15년위원회별'!$A41,'15년일출'!$C$31:$C$733,'15년위원회별'!$C41) -> 0 | Y41: =SUMIFS('15년일출'!$Z$31:$Z$733,'15년일출'!$B$31:$B$733,'15년위원회별'!$A41,'15년일출'!$C$31:$C$733,'15년위원회별'!$C41) -> 0 | Z41: =SUMIFS('15년일출'!$AA$31:$AA$733,'15년일출'!$B$31:$B$733,'15년위원회별'!$A41,'15년일출'!$C$31:$C$733,'15년위원회별'!$C41) -> 0
A42: 도시환경위원회 | C42: 수자원본부 | D42: =SUMIFS('15년일입'!$H$7:$H$644,'15년일입'!$B$7:$B$644,'15년위원회별'!$A42,'15년일입'!$C$7:$C$644,'15년위원회별'!$C42) -> 0 | E42: =SUMIFS('15년일입'!$I$7:$I$644,'15년일입'!$B$7:$B$644,'15년위원회별'!$A42,'15년일입'!$C$7:$C$644,'15년위원회별'!$C42) -> 0 | F42: =SUMIFS('15년일입'!$J$7:$J$644,'15년일입'!$B$7:$B$644,'15년위원회별'!$A42,'15년일입'!$C$7:$C$644,'15년위원회별'!$C42) -> 0 | G42: =SUMIFS('15년일입'!$K$7:$K$644,'15년일입'!$B$7:$B$644,'15년위원회별'!$A42,'15년일입'!$C$7:$C$644,'15년위원회별'!$C42) -> 0 | H42: =SUMIFS('15년일입'!$U$7:$U$644,'15년일입'!$B$7:$B$644,'15년위원회별'!$A42,'15년일입'!$C$7:$C$644,'15년위원회별'!$C42) -> 0 | I42: =SUMIFS('15년일입'!$V$7:$V$644,'15년일입'!$B$7:$B$644,'15년위원회별'!$A42,'15년일입'!$C$7:$C$644,'15년위원회별'!$C42) -> 0 | J42: =SUMIFS('15년일입'!$L$7:$L$644,'15년일입'!$B$7:$B$644,'15년위원회별'!$A42,'15년일입'!$C$7:$C$644,'15년위원회별'!$C42) -> 0 | K42: =SUMIFS('15년일입'!$M$7:$M$644,'15년일입'!$B$7:$B$644,'15년위원회별'!$A42,'15년일입'!$C$7:$C$644,'15년위원회별'!$C42) -> 0 | L42: =SUMIFS('15년일입'!$N$7:$N$644,'15년일입'!$B$7:$B$644,'15년위원회별'!$A42,'15년일입'!$C$7:$C$644,'15년위원회별'!$C42) -> 0 | M42: =SUMIFS('15년일입'!$Z$7:$Z$644,'15년일입'!$B$7:$B$644,'15년위원회별'!$A42,'15년일입'!$C$7:$C$644,'15년위원회별'!$C42) -> 0 | N42: =SUMIFS('15년일입'!$AA$7:$AA$644,'15년일입'!$B$7:$B$644,'15년위원회별'!$A42,'15년일입'!$C$7:$C$644,'15년위원회별'!$C42) -> 0 | P42: =SUMIFS('15년일출'!$H$31:$H$733,'15년일출'!$B$31:$B$733,'15년위원회별'!$A42,'15년일출'!$C$31:$C$733,'15년위원회별'!$C42) -> 0 | Q42: =SUMIFS('15년일출'!$I$31:$I$733,'15년일출'!$B$31:$B$733,'15년위원회별'!$A42,'15년일출'!$C$31:$C$733,'15년위원회별'!$C42) -> 0 | R42: =SUMIFS('15년일출'!$J$31:$J$733,'15년일출'!$B$31:$B$733,'15년위원회별'!$A42,'15년일출'!$C$31:$C$733,'15년위원회별'!$C42) -> 0 | S42: =SUMIFS('15년일출'!$K$31:$K$733,'15년일출'!$B$31:$B$733,'15년위원회별'!$A42,'15년일출'!$C$31:$C$733,'15년위원회별'!$C42) -> 0 | T42: =SUMIFS('15년일출'!$U$31:$U$733,'15년일출'!$B$31:$B$733,'15년위원회별'!$A42,'15년일출'!$C$31:$C$733,'15년위원회별'!$C42) -> 0 | U42: =SUMIFS('15년일출'!$V$31:$V$733,'15년일출'!$B$31:$B$733,'15년위원회별'!$A42,'15년일출'!$C$31:$C$733,'15년위원회별'!$C42) -> 0 | V42: =SUMIFS('15년일출'!$L$31:$L$733,'15년일출'!$B$31:$B$733,'15년위원회별'!$A42,'15년일출'!$C$31:$C$733,'15년위원회별'!$C42) -> 0 | W42: =SUMIFS('15년일출'!$M$31:$M$733,'15년일출'!$B$31:$B$733,'15년위원회별'!$A42,'15년일출'!$C$31:$C$733,'15년위원회별'!$C42) -> 0 | X42: =SUMIFS('15년일출'!$N$31:$N$733,'15년일출'!$B$31:$B$733,'15년위원회별'!$A42,'15년일출'!$C$31:$C$733,'15년위원회별'!$C42) -> 0 | Y42: =SUMIFS('15년일출'!$Z$31:$Z$733,'15년일출'!$B$31:$B$733,'15년위원회별'!$A42,'15년일출'!$C$31:$C$733,'15년위원회별'!$C42) -> 0 | Z42: =SUMIFS('15년일출'!$AA$31:$AA$733,'15년일출'!$B$31:$B$733,'15년위원회별'!$A42,'15년일출'!$C$31:$C$733,'15년위원회별'!$C42) -> 0
B43: 여성가족교육협력위원회 | D43: =SUM(D44:D46) -> 0 | E43: =SUM(E44:E46) -> 0 | F43: =SUM(F44:F46) -> 0 | G43: =SUM(G44:G46) -> 0 | H43: =SUM(H44:H46) -> 0 | I43: =SUM(I44:I46) -> 0 | J43: =SUM(J44:J46) -> 0 | K43: =SUM(K44:K46) -> 0 | ... N43: =SUM(N44:N46) -> 0 | P43: =SUM(P44:P46) -> 0 | Q43: =SUM(Q44:Q46) -> 0 | R43: =SUM(R44:R46) -> 0 | S43: =SUM(S44:S46) -> 0 | T43: =SUM(T44:T46) -> 0 | U43: =SUM(U44:U46) -> 0 | V43: =SUM(V44:V46) -> 0 | W43: =SUM(W44:W46) -> 0 | ... Z43: =SUM(Z44:Z46) -> 0
A44: 여성가족교육협력위원회 | C44: 교육협력국 | D44: =SUMIFS('15년일입'!$H$7:$H$644,'15년일입'!$B$7:$B$644,'15년위원회별'!$A44,'15년일입'!$C$7:$C$644,'15년위원회별'!$C44) -> 0 | E44: =SUMIFS('15년일입'!$I$7:$I$644,'15년일입'!$B$7:$B$644,'15년위원회별'!$A44,'15년일입'!$C$7:$C$644,'15년위원회별'!$C44) -> 0 | F44: =SUMIFS('15년일입'!$J$7:$J$644,'15년일입'!$B$7:$B$644,'15년위원회별'!$A44,'15년일입'!$C$7:$C$644,'15년위원회별'!$C44) -> 0 | G44: =SUMIFS('15년일입'!$K$7:$K$644,'15년일입'!$B$7:$B$644,'15년위원회별'!$A44,'15년일입'!$C$7:$C$644,'15년위원회별'!$C44) -> 0 | H44: =SUMIFS('15년일입'!$U$7:$U$644,'15년일입'!$B$7:$B$644,'15년위원회별'!$A44,'15년일입'!$C$7:$C$644,'15년위원회별'!$C44) -> 0 | I44: =SUMIFS('15년일입'!$V$7:$V$644,'15년일입'!$B$7:$B$644,'15년위원회별'!$A44,'15년일입'!$C$7:$C$644,'15년위원회별'!$C44) -> 0 | J44: =SUMIFS('15년일입'!$L$7:$L$644,'15년일입'!$B$7:$B$644,'15년위원회별'!$A44,'15년일입'!$C$7:$C$644,'15년위원회별'!$C44) -> 0 | K44: =SUMIFS('15년일입'!$M$7:$M$644,'15년일입'!$B$7:$B$644,'15년위원회별'!$A44,'15년일입'!$C$7:$C$644,'15년위원회별'!$C44) -> 0 | L44: =SUMIFS('15년일입'!$N$7:$N$644,'15년일입'!$B$7:$B$644,'15년위원회별'!$A44,'15년일입'!$C$7:$C$644,'15년위원회별'!$C44) -> 0 | M44: =SUMIFS('15년일입'!$Z$7:$Z$644,'15년일입'!$B$7:$B$644,'15년위원회별'!$A44,'15년일입'!$C$7:$C$644,'15년위원회별'!$C44) -> 0 | N44: =SUMIFS('15년일입'!$AA$7:$AA$644,'15년일입'!$B$7:$B$644,'15년위원회별'!$A44,'15년일입'!$C$7:$C$644,'15년위원회별'!$C44) -> 0 | P44: =SUMIFS('15년일출'!$H$31:$H$733,'15년일출'!$B$31:$B$733,'15년위원회별'!$A44,'15년일출'!$C$31:$C$733,'15년위원회별'!$C44) -> 0 | Q44: =SUMIFS('15년일출'!$I$31:$I$733,'15년일출'!$B$31:$B$733,'15년위원회별'!$A44,'15년일출'!$C$31:$C$733,'15년위원회별'!$C44) -> 0 | R44: =SUMIFS('15년일출'!$J$31:$J$733,'15년일출'!$B$31:$B$733,'15년위원회별'!$A44,'15년일출'!$C$31:$C$733,'15년위원회별'!$C44) -> 0 | S44: =SUMIFS('15년일출'!$K$31:$K$733,'15년일출'!$B$31:$B$733,'15년위원회별'!$A44,'15년일출'!$C$31:$C$733,'15년위원회별'!$C44) -> 0 | T44: =SUMIFS('15년일출'!$U$31:$U$733,'15년일출'!$B$31:$B$733,'15년위원회별'!$A44,'15년일출'!$C$31:$C$733,'15년위원회별'!$C44) -> 0 | U44: =SUMIFS('15년일출'!$V$31:$V$733,'15년일출'!$B$31:$B$733,'15년위원회별'!$A44,'15년일출'!$C$31:$C$733,'15년위원회별'!$C44) -> 0 | V44: =SUMIFS('15년일출'!$L$31:$L$733,'15년일출'!$B$31:$B$733,'15년위원회별'!$A44,'15년일출'!$C$31:$C$733,'15년위원회별'!$C44) -> 0 | W44: =SUMIFS('15년일출'!$M$31:$M$733,'15년일출'!$B$31:$B$733,'15년위원회별'!$A44,'15년일출'!$C$31:$C$733,'15년위원회별'!$C44) -> 0 | X44: =SUMIFS('15년일출'!$N$31:$N$733,'15년일출'!$B$31:$B$733,'15년위원회별'!$A44,'15년일출'!$C$31:$C$733,'15년위원회별'!$C44) -> 0 | Y44: =SUMIFS('15년일출'!$Z$31:$Z$733,'15년일출'!$B$31:$B$733,'15년위원회별'!$A44,'15년일출'!$C$31:$C$733,'15년위원회별'!$C44) -> 0 | Z44: =SUMIFS('15년일출'!$AA$31:$AA$733,'15년일출'!$B$31:$B$733,'15년위원회별'!$A44,'15년일출'!$C$31:$C$733,'15년위원회별'!$C44) -> 0
A45: 여성가족교육협력위원회 | C45: 여성가족국 | D45: =SUMIFS('15년일입'!$H$7:$H$644,'15년일입'!$B$7:$B$644,'15년위원회별'!$A45,'15년일입'!$C$7:$C$644,'15년위원회별'!$C45) -> 0 | E45: =SUMIFS('15년일입'!$I$7:$I$644,'15년일입'!$B$7:$B$644,'15년위원회별'!$A45,'15년일입'!$C$7:$C$644,'15년위원회별'!$C45) -> 0 | F45: =SUMIFS('15년일입'!$J$7:$J$644,'15년일입'!$B$7:$B$644,'15년위원회별'!$A45,'15년일입'!$C$7:$C$644,'15년위원회별'!$C45) -> 0 | G45: =SUMIFS('15년일입'!$K$7:$K$644,'15년일입'!$B$7:$B$644,'15년위원회별'!$A45,'15년일입'!$C$7:$C$644,'15년위원회별'!$C45) -> 0 | H45: =SUMIFS('15년일입'!$U$7:$U$644,'15년일입'!$B$7:$B$644,'15년위원회별'!$A45,'15년일입'!$C$7:$C$644,'15년위원회별'!$C45) -> 0 | I45: =SUMIFS('15년일입'!$V$7:$V$644,'15년일입'!$B$7:$B$644,'15년위원회별'!$A45,'15년일입'!$C$7:$C$644,'15년위원회별'!$C45) -> 0 | J45: =SUMIFS('15년일입'!$L$7:$L$644,'15년일입'!$B$7:$B$644,'15년위원회별'!$A45,'15년일입'!$C$7:$C$644,'15년위원회별'!$C45) -> 0 | K45: =SUMIFS('15년일입'!$M$7:$M$644,'15년일입'!$B$7:$B$644,'15년위원회별'!$A45,'15년일입'!$C$7:$C$644,'15년위원회별'!$C45) -> 0 | L45: =SUMIFS('15년일입'!$N$7:$N$644,'15년일입'!$B$7:$B$644,'15년위원회별'!$A45,'15년일입'!$C$7:$C$644,'15년위원회별'!$C45) -> 0 | M45: =SUMIFS('15년일입'!$Z$7:$Z$644,'15년일입'!$B$7:$B$644,'15년위원회별'!$A45,'15년일입'!$C$7:$C$644,'15년위원회별'!$C45) -> 0 | N45: =SUMIFS('15년일입'!$AA$7:$AA$644,'15년일입'!$B$7:$B$644,'15년위원회별'!$A45,'15년일입'!$C$7:$C$644,'15년위원회별'!$C45) -> 0 | P45: =SUMIFS('15년일출'!$H$31:$H$733,'15년일출'!$B$31:$B$733,'15년위원회별'!$A45,'15년일출'!$C$31:$C$733,'15년위원회별'!$C45) -> 0 | Q45: =SUMIFS('15년일출'!$I$31:$I$733,'15년일출'!$B$31:$B$733,'15년위원회별'!$A45,'15년일출'!$C$31:$C$733,'15년위원회별'!$C45) -> 0 | R45: =SUMIFS('15년일출'!$J$31:$J$733,'15년일출'!$B$31:$B$733,'15년위원회별'!$A45,'15년일출'!$C$31:$C$733,'15년위원회별'!$C45) -> 0 | S45: =SUMIFS('15년일출'!$K$31:$K$733,'15년일출'!$B$31:$B$733,'15년위원회별'!$A45,'15년일출'!$C$31:$C$733,'15년위원회별'!$C45) -> 0 | T45: =SUMIFS('15년일출'!$U$31:$U$733,'15년일출'!$B$31:$B$733,'15년위원회별'!$A45,'15년일출'!$C$31:$C$733,'15년위원회별'!$C45) -> 0 | U45: =SUMIFS('15년일출'!$V$31:$V$733,'15년일출'!$B$31:$B$733,'15년위원회별'!$A45,'15년일출'!$C$31:$C$733,'15년위원회별'!$C45) -> 0 | V45: =SUMIFS('15년일출'!$L$31:$L$733,'15년일출'!$B$31:$B$733,'15년위원회별'!$A45,'15년일출'!$C$31:$C$733,'15년위원회별'!$C45) -> 0 | W45: =SUMIFS('15년일출'!$M$31:$M$733,'15년일출'!$B$31:$B$733,'15년위원회별'!$A45,'15년일출'!$C$31:$C$733,'15년위원회별'!$C45) -> 0 | X45: =SUMIFS('15년일출'!$N$31:$N$733,'15년일출'!$B$31:$B$733,'15년위원회별'!$A45,'15년일출'!$C$31:$C$733,'15년위원회별'!$C45) -> 0 | Y45: =SUMIFS('15년일출'!$Z$31:$Z$733,'15년일출'!$B$31:$B$733,'15년위원회별'!$A45,'15년일출'!$C$31:$C$733,'15년위원회별'!$C45) -> 0 | Z45: =SUMIFS('15년일출'!$AA$31:$AA$733,'15년일출'!$B$31:$B$733,'15년위원회별'!$A45,'15년일출'!$C$31:$C$733,'15년위원회별'!$C45) -> 0
A46: 여성가족교육협력위원회 | C46: 복지여성실 | D46: =SUMIFS('15년일입'!$H$7:$H$644,'15년일입'!$B$7:$B$644,'15년위원회별'!$A46,'15년일입'!$C$7:$C$644,'15년위원회별'!$C46) -> 0 | E46: =SUMIFS('15년일입'!$I$7:$I$644,'15년일입'!$B$7:$B$644,'15년위원회별'!$A46,'15년일입'!$C$7:$C$644,'15년위원회별'!$C46) -> 0 | F46: =SUMIFS('15년일입'!$J$7:$J$644,'15년일입'!$B$7:$B$644,'15년위원회별'!$A46,'15년일입'!$C$7:$C$644,'15년위원회별'!$C46) -> 0 | G46: =SUMIFS('15년일입'!$K$7:$K$644,'15년일입'!$B$7:$B$644,'15년위원회별'!$A46,'15년일입'!$C$7:$C$644,'15년위원회별'!$C46) -> 0 | H46: =SUMIFS('15년일입'!$U$7:$U$644,'15년일입'!$B$7:$B$644,'15년위원회별'!$A46,'15년일입'!$C$7:$C$644,'15년위원회별'!$C46) -> 0 | I46: =SUMIFS('15년일입'!$V$7:$V$644,'15년일입'!$B$7:$B$644,'15년위원회별'!$A46,'15년일입'!$C$7:$C$644,'15년위원회별'!$C46) -> 0 | J46: =SUMIFS('15년일입'!$L$7:$L$644,'15년일입'!$B$7:$B$644,'15년위원회별'!$A46,'15년일입'!$C$7:$C$644,'15년위원회별'!$C46) -> 0 | K46: =SUMIFS('15년일입'!$M$7:$M$644,'15년일입'!$B$7:$B$644,'15년위원회별'!$A46,'15년일입'!$C$7:$C$644,'15년위원회별'!$C46) -> 0 | L46: =SUMIFS('15년일입'!$N$7:$N$644,'15년일입'!$B$7:$B$644,'15년위원회별'!$A46,'15년일입'!$C$7:$C$644,'15년위원회별'!$C46) -> 0 | M46: =SUMIFS('15년일입'!$Z$7:$Z$644,'15년일입'!$B$7:$B$644,'15년위원회별'!$A46,'15년일입'!$C$7:$C$644,'15년위원회별'!$C46) -> 0 | N46: =SUMIFS('15년일입'!$AA$7:$AA$644,'15년일입'!$B$7:$B$644,'15년위원회별'!$A46,'15년일입'!$C$7:$C$644,'15년위원회별'!$C46) -> 0 | P46: =SUMIFS('15년일출'!$H$31:$H$733,'15년일출'!$B$31:$B$733,'15년위원회별'!$A46,'15년일출'!$C$31:$C$733,'15년위원회별'!$C46) -> 0 | Q46: =SUMIFS('15년일출'!$I$31:$I$733,'15년일출'!$B$31:$B$733,'15년위원회별'!$A46,'15년일출'!$C$31:$C$733,'15년위원회별'!$C46) -> 0 | R46: =SUMIFS('15년일출'!$J$31:$J$733,'15년일출'!$B$31:$B$733,'15년위원회별'!$A46,'15년일출'!$C$31:$C$733,'15년위원회별'!$C46) -> 0 | S46: =SUMIFS('15년일출'!$K$31:$K$733,'15년일출'!$B$31:$B$733,'15년위원회별'!$A46,'15년일출'!$C$31:$C$733,'15년위원회별'!$C46) -> 0 | T46: =SUMIFS('15년일출'!$U$31:$U$733,'15년일출'!$B$31:$B$733,'15년위원회별'!$A46,'15년일출'!$C$31:$C$733,'15년위원회별'!$C46) -> 0 | U46: =SUMIFS('15년일출'!$V$31:$V$733,'15년일출'!$B$31:$B$733,'15년위원회별'!$A46,'15년일출'!$C$31:$C$733,'15년위원회별'!$C46) -> 0 | V46: =SUMIFS('15년일출'!$L$31:$L$733,'15년일출'!$B$31:$B$733,'15년위원회별'!$A46,'15년일출'!$C$31:$C$733,'15년위원회별'!$C46) -> 0 | W46: =SUMIFS('15년일출'!$M$31:$M$733,'15년일출'!$B$31:$B$733,'15년위원회별'!$A46,'15년일출'!$C$31:$C$733,'15년위원회별'!$C46) -> 0 | X46: =SUMIFS('15년일출'!$N$31:$N$733,'15년일출'!$B$31:$B$733,'15년위원회별'!$A46,'15년일출'!$C$31:$C$733,'15년위원회별'!$C46) -> 0 | Y46: =SUMIFS('15년일출'!$Z$31:$Z$733,'15년일출'!$B$31:$B$733,'15년위원회별'!$A46,'15년일출'!$C$31:$C$733,'15년위원회별'!$C46) -> 0 | Z46: =SUMIFS('15년일출'!$AA$31:$AA$733,'15년일출'!$B$31:$B$733,'15년위원회별'!$A46,'15년일출'!$C$31:$C$733,'15년위원회별'!$C46) -> 0

Sheet 15년일입
B1: 2015년도 경기도 일반회계 세입 예산 조정(안)
B2: □세입예산 | U2: 세입 = 세출 | Z2: 세입 = 세출
I3: =COUNTA(I7:I22) -> 6 | J3: =COUNTA(J7:J22) -> 8 | K3: =I6+J6 -> -160654 | L3: =COUNTA(L7:L22) -> 0 | M3: =COUNTA(M7:M22) -> 0 | P3: (단위 : 천원) | U3: =IF(U6='15년일출'!$U$6,"OK","@@") -> OK | V3: =SUM(U6:V6) -> -160654 | W3: =IF(COUNTIF(W6:W915,"@@")>0,"@@","OK") -> OK | Z3: =IF(Z6='2추일출'!$AA$6,"OK","@@") -> OK | AA3: =SUM(Z6:AA6) -> 0 | AB3: =IF(COUNTIF(AB6:AB915,"@@")>0,"@@","OK") -> OK
B4: 위원회명 | C4: 실국명 | D4: 부서명 | E4: 편성 구분 | F4: 예산안 페이지 | G4: 사업명 | H4: 예산안 (가) | I4: 상임위 예산안 조정액(나) | K4: 상임위 수정 예산안 (다=가+나) | L4: 예결위 예산안 조정액(라) | N4: 예결위 수정 예산안 (마=가+라) | O4: 동의대상 | P4: 비고(부대의견) | R4: 국도비 등 여부 | T4: 재원 | U4: 상임위 재원별 증감액 | Y4: 재원 | Z4: 예결위 재원별 증감액 | AD4: 위원회 부서별 정렬
I5: 감액 | J5: 증액 | L5: 감액 | M5: 증액 | U5: 국비 등 | V5: 도 비 | W5: 검증 | Z5: 국비 등 | AA5: 도 비 | AB5: 검증
B6: C열 부서명 입력하면 자동 입력 됩니다 | C6: C열 부서명 입력하면 자동 입력 됩니다 | E6: 선택입력 | G6: 예산안의 사업명과 동일하게 입력하세요 | H6: =SUBTOTAL(9,H7:H827) -> 64916382 | I6: =SUBTOTAL(9,I7:I827) -> -4443907 | J6: =SUBTOTAL(9,J7:J827) -> 4283253 | K6: =SUBTOTAL(9,K7:K827) -> 64755728 | L6: =SUBTOTAL(9,L7:L827) -> 0 | M6: =SUBTOTAL(9,M7:M827) -> 0 | N6: =SUBTOTAL(9,N7:N827) -> 64916382 | U6: =SUBTOTAL(9,U7:U827) -> -160654 | V6: =SUBTOTAL(9,V7:V827) -> 0 | W6: =IF((I6+J6)=(U6+V6),"OK","검토") -> OK | Z6: =SUBTOTAL(9,Z7:Z827) -> 0 | AA6: =SUBTOTAL(9,AA7:AA827) -> 0 | AB6: =IF((L6+M6)=(Z6+AA6),"OK","검토") -> OK
B7: =IFERROR(VLOOKUP('15년일입'!$D7,구분표!$A$2:$C$1001,2,FALSE),"") -> 보건복지위원회 | C7: =IFERROR(VLOOKUP('15년일입'!$D7,구분표!$A$2:$C$1001,3,FALSE),"") -> 보건복지국 | D7: 무한돌봄복지과 | E7: 신규 | G7: 국고보조금 (지역사회복지협의체 지역대회) | H7: 0 | J7: 16500 | K7: =SUM(H7+I7+J7) -> 16500 | N7: =SUM(H7+L7+M7) -> 0 | O7: =IF(I7-L7<0,"동의필요","-") -> - | P7: 국비 내시 추가(신규) ※ 보건복지부 지역복지과-4907호(2014.10.20) | T7: 국비 | U7: =IF($T7<>"도비",IF($R7="국도비","직접입력",SUM($I7:$J7)),) -> 16500 | V7: =IF($T7="도비",SUM($I7:$J7),IF($R7="국도비","직접입력",SUM($I7:$J7)-$U7)) -> 0 | W7: =IF($R7="국도비","ok",IF(($I7+$J7)=($U7+$V7),"ok","검토")) -> ok | Y7: =$T7 -> 국비 | Z7: =IF($Y7<>"도비",IF($R7="국도비","직접입력",SUM($L7:$M7)),) -> 0 | AA7: =IF($Y7="도비",SUM($L7:$M7),IF($R7="국도비","직접입력",SUM($L7:$M7)-$Z7)) -> 0 | AB7: =IF($R7="국도비","ok",IF(($L7+$M7)=($Z7+$AA7),"ok","검토")) -> ok | AD7: {=IFERROR(IF($D7="","",INDEX(구분표!$I$2:$I$1001,MATCH(1,(구분표!$B$2:$B$1001='15년일입'!$B7)*(구분표!$C$2:$C$1001='15년일입'!$C7)*(구분표!$A$2:$A$1001='15년일입'!$D7),0))),"@@")} -> 1901
B8: =IFERROR(VLOOKUP('15년일입'!$D8,구분표!$A$2:$C$1001,2,FALSE),"") -> 보건복지위원회 | C8: =IFERROR(VLOOKUP('15년일입'!$D8,구분표!$A$2:$C$1001,3,FALSE),"") -> 보건복지국 | D8: 사회적일자리과 | E8: 본예산 | F8: 731 | G8: 국고보조금 (노인 일자리 확충) | H8: 33642495 | J8: 3422638 | K8: =SUM(H8+I8+J8) -> 37065133 | N8: =SUM(H8+L8+M8) -> 33642495 | O8: =IF(I8-L8<0,"동의필요","-") -> - | P8: 국비 내시 변경 ※ 보건복지부 노인지원과-4407호(2014.10.28.) 및 보건복지부 노인지원과 업무협조(2014.11.18) | T8: 국비 | U8: =IF($T8<>"도비",IF($R8="국도비","직접입력",SUM($I8:$J8)),) -> 3422638 | V8: =IF($T8="도비",SUM($I8:$J8),IF($R8="국도비","직접입력",SUM($I8:$J8)-$U8)) -> 0 | W8: =IF($R8="국도비","ok",IF(($I8+$J8)=($U8+$V8),"ok","검토")) -> ok | Y8: =$T8 -> 국비 | Z8: =IF($Y8<>"도비",IF($R8="국도비","직접입력",SUM($L8:$M8)),) -> 0 | AA8: =IF($Y8="도비",SUM($L8:$M8),IF($R8="국도비","직접입력",SUM($L8:$M8)-$Z8)) -> 0 | AB8: =IF($R8="국도비","ok",IF(($L8+$M8)=($Z8+$AA8),"ok","검토")) -> ok | AD8: {=IFERROR(IF($D8="","",INDEX(구분표!$I$2:$I$1001,MATCH(1,(구분표!$B$2:$B$1001='15년일입'!$B8)*(구분표!$C$2:$C$1001='15년일입'!$C8)*(구분표!$A$2:$A$1001='15년일입'!$D8),0))),"@@")} -> 1902
B9: =IFERROR(VLOOKUP('15년일입'!$D9,구분표!$A$2:$C$1001,2,FALSE),"") -> 보건복지위원회 | C9: =IFERROR(VLOOKUP('15년일입'!$D9,구분표!$A$2:$C$1001,3,FALSE),"") -> 보건복지국 | D9: 노인복지과 | E9: 본예산 | F9: 732 | G9: 국고보조금 (노인양로시설 운영) | H9: 5636188 | I9: -261000 | K9: =SUM(H9+I9+J9) -> 5375188 | N9: =SUM(H9+L9+M9) -> 5636188 | O9: =IF(I9-L9<0,"동의필요","-") -> 동의필요 | P9: 국비 내시 변경 ※ 보건복지부 요양보험운영과-5279호(2014.10.13) | T9: 국비 | U9: =IF($T9<>"도비",IF($R9="국도비","직접입력",SUM($I9:$J9)),) -> -261000 | V9: =IF($T9="도비",SUM($I9:$J9),IF($R9="국도비","직접입력",SUM($I9:$J9)-$U9)) -> 0 | W9: =IF($R9="국도비","ok",IF(($I9+$J9)=($U9+$V9),"ok","검토")) -> ok | Y9: =$T9 -> 국비 | Z9: =IF($Y9<>"도비",IF($R9="국도비","직접입력",SUM($L9:$M9)),) -> 0 | AA9: =IF($Y9="도비",SUM($L9:$M9),IF($R9="국도비","직접입력",SUM($L9:$M9)-$Z9)) -> 0 | AB9: =IF($R9="국도비","ok",IF(($L9+$M9)=($Z9+$AA9),"ok","검토")) -> ok | AD9: {=IFERROR(IF($D9="","",INDEX(구분표!$I$2:$I$1001,MATCH(1,(구분표!$B$2:$B$1001='15년일입'!$B9)*(구분표!$C$2:$C$1001='15년일입'!$C9)*(구분표!$A$2:$A$1001='15년일입'!$D9),0))),"@@")} -> 1903
B10: =IFERROR(VLOOKUP('15년일입'!$D10,구분표!$A$2:$C$1001,2,FALSE),"") -> 보건복지위원회 | C10: =IFERROR(VLOOKUP('15년일입'!$D10,구분표!$A$2:$C$1001,3,FALSE),"") -> 보건복지국 | D10: 보건정책과 | E10: 본예산 | F10: 733 | G10: 국고보조금 (농어촌의료서비스개선사업) | H10: 2622581 | J10: 59004 | K10: =SUM(H10+I10+J10) -> 2681585 | N10: =SUM(H10+L10+M10) -> 2622581 | O10: =IF(I10-L10<0,"동의필요","-") -> - | P10: 국비 내시 변경 ※ 보건복지부 건강정책과-7090호(2014.11.21) | T10: 국비 | U10: =IF($T10<>"도비",IF($R10="국도비","직접입력",SUM($I10:$J10)),) -> 59004 | V10: =IF($T10="도비",SUM($I10:$J10),IF($R10="국도비","직접입력",SUM($I10:$J10)-$U10)) -> 0 | W10: =IF($R10="국도비","ok",IF(($I10+$J10)=($U10+$V10),"ok","검토")) -> ok | Y10: =$T10 -> 국비 | Z10: =IF($Y10<>"도비",IF($R10="국도비","직접입력",SUM($L10:$M10)),) -> 0 | AA10: =IF($Y10="도비",SUM($L10:$M10),IF($R10="국도비","직접입력",SUM($L10:$M10)-$Z10)) -> 0 | AB10: =IF($R10="국도비","ok",IF(($L10+$M10)=($Z10+$AA10),"ok","검토")) -> ok | AD10: {=IFERROR(IF($D10="","",INDEX(구분표!$I$2:$I$1001,MATCH(1,(구분표!$B$2:$B$1001='15년일입'!$B10)*(구분표!$C$2:$C$1001='15년일입'!$C10)*(구분표!$A$2:$A$1001='15년일입'!$D10),0))),"@@")} -> 1905
B11: =IFERROR(VLOOKUP('15년일입'!$D11,구분표!$A$2:$C$1001,2,FALSE),"") -> 보건복지위원회 | C11: =IFERROR(VLOOKUP('15년일입'!$D11,구분표!$A$2:$C$1001,3,FALSE),"") -> 보건복지국 | D11: 보건정책과 | E11: 본예산 | F11: 733 | G11: 국고보조금 (외국인근로자 등 의료지원사업) | H11: 347900 | I11: -81900 | K11: =SUM(H11+I11+J11) -> 266000 | N11: =SUM(H11+L11+M11) -> 347900 | O11: =IF(I11-L11<0,"동의필요","-") -> 동의필요 | P11: 국비 내시 변경 ※보건복지부 공공의료과-6233호(2014.11.09) | T11: 국비 | U11: =IF($T11<>"도비",IF($R11="국도비","직접입력",SUM($I11:$J11)),) -> -81900 | V11: =IF($T11="도비",SUM($I11:$J11),IF($R11="국도비","직접입력",SUM($I11:$J11)-$U11)) -> 0 | W11: =IF($R11="국도비","ok",IF(($I11+$J11)=($U11+$V11),"ok","검토")) -> ok | Y11: =$T11 -> 국비 | Z11: =IF($Y11<>"도비",IF($R11="국도비","직접입력",SUM($L11:$M11)),) -> 0 | AA11: =IF($Y11="도비",SUM($L11:$M11),IF($R11="국도비","직접입력",SUM($L11:$M11)-$Z11)) -> 0 | AB11: =IF($R11="국도비","ok",IF(($L11+$M11)=($Z11+$AA11),"ok","검토")) -> ok | AD11: {=IFERROR(IF($D11="","",INDEX(구분표!$I$2:$I$1001,MATCH(1,(구분표!$B$2:$B$1001='15년일입'!$B11)*(구분표!$C$2:$C$1001='15년일입'!$C11)*(구분표!$A$2:$A$1001='15년일입'!$D11),0))),"@@")} -> 1905
B12: =IFERROR(VLOOKUP('15년일입'!$D12,구분표!$A$2:$C$1001,2,FALSE),"") -> 보건복지위원회 | C12: =IFERROR(VLOOKUP('15년일입'!$D12,구분표!$A$2:$C$1001,3,FALSE),"") -> 보건복지국 | D12: 보건정책과 | E12: 본예산 | F12: 733 | G12: 국고보조금 (감염병전문가교육) | H12: 171108 | I12: -6984 | K12: =SUM(H12+I12+J12) -> 164124 | N12: =SUM(H12+L12+M12) -> 171108 | O12: =IF(I12-L12<0,"동의필요","-") -> 동의필요 | P12: 국비 내시 변경 ※질병관리본부 감염병관리과-3856호(2014.10.14.) | T12: 국비 | U12: =IF($T12<>"도비",IF($R12="국도비","직접입력",SUM($I12:$J12)),) -> -6984 | V12: =IF($T12="도비",SUM($I12:$J12),IF($R12="국도비","직접입력",SUM($I12:$J12)-$U12)) -> 0 | W12: =IF($R12="국도비","ok",IF(($I12+$J12)=($U12+$V12),"ok","검토")) -> ok | Y12: =$T12 -> 국비 | Z12: =IF($Y12<>"도비",IF($R12="국도비","직접입력",SUM($L12:$M12)),) -> 0 | AA12: =IF($Y12="도비",SUM($L12:$M12),IF($R12="국도비","직접입력",SUM($L12:$M12)-$Z12)) -> 0 | AB12: =IF($R12="국도비","ok",IF(($L12+$M12)=($Z12+$AA12),"ok","검토")) -> ok | AD12: {=IFERROR(IF($D12="","",INDEX(구분표!$I$2:$I$1001,MATCH(1,(구분표!$B$2:$B$1001='15년일입'!$B12)*(구분표!$C$2:$C$1001='15년일입'!$C12)*(구분표!$A$2:$A$1001='15년일입'!$D12),0))),"@@")} -> 1905
B13: =IFERROR(VLOOKUP('15년일입'!$D13,구분표!$A$2:$C$1001,2,FALSE),"") -> 보건복지위원회 | C13: =IFERROR(VLOOKUP('15년일입'!$D13,구분표!$A$2:$C$1001,3,FALSE),"") -> 보건복지국 | D13: 보건정책과 | E13: 본예산 | F13: 734 | G13: 기금 (국가결핵예방) | H13: 3685458 | J13: 59000 | K13: =SUM(H13+I13+J13) -> 3744458 | N13: =SUM(H13+L13+M13) -> 3685458 | O13: =IF(I13-L13<0,"동의필요","-") -> - | P13: 국비 내시 변경 질병관리본부 에이즈결핵관리과-4768호(2014.11.18.) | T13: 기금 | U13: =IF($T13<>"도비",IF($R13="국도비","직접입력",SUM($I13:$J13)),) -> 59000 | V13: =IF($T13="도비",SUM($I13:$J13),IF($R13="국도비","직접입력",SUM($I13:$J13)-$U13)) -> 0 | W13: =IF($R13="국도비","ok",IF(($I13+$J13)=($U13+$V13),"ok","검토")) -> ok | Y13: =$T13 -> 기금 | Z13: =IF($Y13<>"도비",IF($R13="국도비","직접입력",SUM($L13:$M13)),) -> 0 | AA13: =IF($Y13="도비",SUM($L13:$M13),IF($R13="국도비","직접입력",SUM($L13:$M13)-$Z13)) -> 0 | AB13: =IF($R13="국도비","ok",IF(($L13+$M13)=($Z13+$AA13),"ok","검토")) -> ok | AD13: {=IFERROR(IF($D13="","",INDEX(구분표!$I$2:$I$1001,MATCH(1,(구분표!$B$2:$B$1001='15년일입'!$B13)*(구분표!$C$2:$C$1001='15년일입'!$C13)*(구분표!$A$2:$A$1001='15년일입'!$D13),0))),"@@")} -> 1905
B14: =IFERROR(VLOOKUP('15년일입'!$D14,구분표!$A$2:$C$1001,2,FALSE),"") -> 보건복지위원회 | C14: =IFERROR(VLOOKUP('15년일입'!$D14,구분표!$A$2:$C$1001,3,FALSE),"") -> 보건복지국 | D14: 건강증진과 | E14: 본예산 | F14: 734 | G14: 국고보조금 (정신요양시설 운영) | H14: 8170178 | J14: 380929 | K14: =SUM(H14+I14+J14) -> 8551107 | N14: =SUM(H14+L14+M14) -> 8170178 | O14: =IF(I14-L14<0,"동의필요","-") -> - | P14: 국비 내시 변경 ※ 보건복지부 정신건강정책과-6384호(2014.11.14.) | T14: 국비 | U14: =IF($T14<>"도비",IF($R14="국도비","직접입력",SUM($I14:$J14)),) -> 380929 | V14: =IF($T14="도비",SUM($I14:$J14),IF($R14="국도비","직접입력",SUM($I14:$J14)-$U14)) -> 0 | W14: =IF($R14="국도비","ok",IF(($I14+$J14)=($U14+$V14),"ok","검토")) -> ok | Y14: =$T14 -> 국비 | Z14: =IF($Y14<>"도비",IF($R14="국도비","직접입력",SUM($L14:$M14)),) -> 0 | AA14: =IF($Y14="도비",SUM($L14:$M14),IF($R14="국도비","직접입력",SUM($L14:$M14)-$Z14)) -> 0 | AB14: =IF($R14="국도비","ok",IF(($L14+$M14)=($Z14+$AA14),"ok","검토")) -> ok | AD14: {=IFERROR(IF($D14="","",INDEX(구분표!$I$2:$I$1001,MATCH(1,(구분표!$B$2:$B$1001='15년일입'!$B14)*(구분표!$C$2:$C$1001='15년일입'!$C14)*(구분표!$A$2:$A$1001='15년일입'!$D14),0))),"@@")} -> 1906
B15: =IFERROR(VLOOKUP('15년일입'!$D15,구분표!$A$2:$C$1001,2,FALSE),"") -> 보건복지위원회 | C15: =IFERROR(VLOOKUP('15년일입'!$D15,구분표!$A$2:$C$1001,3,FALSE),"") -> 보건복지국 | D15: 건강증진과 | E15: 본예산 | F15: 734 | G15: 기금 (지역사회건강조사) | H15: 1884921 | I15: -813554 | K15: =SUM(H15+I15+J15) -> 1071367 | N15: =SUM(H15+L15+M15) -> 1884921 | O15: =IF(I15-L15<0,"동의필요","-") -> 동의필요 | P15: 국비 내시액 착오 반영분 정정 ※ 질병관리본부 만성질환관리과-3206호(2014.10.15.) | T15: 기금 | U15: =IF($T15<>"도비",IF($R15="국도비","직접입력",SUM($I15:$J15)),) -> -813554 | V15: =IF($T15="도비",SUM($I15:$J15),IF($R15="국도비","직접입력",SUM($I15:$J15)-$U15)) -> 0 | W15: =IF($R15="국도비","ok",IF(($I15+$J15)=($U15+$V15),"ok","검토")) -> ok | Y15: =$T15 -> 기금 | Z15: =IF($Y15<>"도비",IF($R15="국도비","직접입력",SUM($L15:$M15)),) -> 0 | AA15: =IF($Y15="도비",SUM($L15:$M15),IF($R15="국도비","직접입력",SUM($L15:$M15)-$Z15)) -> 0 | AB15: =IF($R15="국도비","ok",IF(($L15+$M15)=($Z15+$AA15),"ok","검토")) -> ok | AD15: {=IFERROR(IF($D15="","",INDEX(구분표!$I$2:$I$1001,MATCH(1,(구분표!$B$2:$B$1001='15년일입'!$B15)*(구분표!$C$2:$C$1001='15년일입'!$C15)*(구분표!$A$2:$A$1001='15년일입'!$D15),0))),"@@")} -> 1906
B16: =IFERROR(VLOOKUP('15년일입'!$D16,구분표!$A$2:$C$1001,2,FALSE),"") -> 보건복지위원회 | C16: =IFERROR(VLOOKUP('15년일입'!$D16,구분표!$A$2:$C$1001,3,FALSE),"") -> 보건복지국 | D16: 건강증진과 | E16: 본예산 | F16: 734 | G16: 기금 (혁신형 건강플랫폼 구축지원) | H16: 229500 | I16: -97500 | K16: =SUM(H16+I16+J16) -> 132000 | N16: =SUM(H16+L16+M16) -> 229500 | O16: =IF(I16-L16<0,"동의필요","-") -> 동의필요 | P16: 국비 내시액 착오 반영분 정정 ※ 보건복지부 보건의료정책과- 4803(2014.10.14.)호 | T16: 기금 | U16: =IF($T16<>"도비",IF($R16="국도비","직접입력",SUM($I16:$J16)),) -> -97500 | V16: =IF($T16="도비",SUM($I16:$J16),IF($R16="국도비","직접입력",SUM($I16:$J16)-$U16)) -> 0 | W16: =IF($R16="국도비","ok",IF(($I16+$J16)=($U16+$V16),"ok","검토")) -> ok | Y16: =$T16 -> 기금 | Z16: =IF($Y16<>"도비",IF($R16="국도비","직접입력",SUM($L16:$M16)),) -> 0 | AA16: =IF($Y16="도비",SUM($L16:$M16),IF($R16="국도비","직접입력",SUM($L16:$M16)-$Z16)) -> 0 | AB16: =IF($R16="국도비","ok",IF(($L16+$M16)=($Z16+$AA16),"ok","검토")) -> ok | AD16: {=IFERROR(IF($D16="","",INDEX(구분표!$I$2:$I$1001,MATCH(1,(구분표!$B$2:$B$1001='15년일입'!$B16)*(구분표!$C$2:$C$1001='15년일입'!$C16)*(구분표!$A$2:$A$1001='15년일입'!$D16),0))),"@@")} -> 1906
B17: =IFERROR(VLOOKUP('15년일입'!$D17,구분표!$A$2:$C$1001,2,FALSE),"") -> 보건복지위원회 | C17: =IFERROR(VLOOKUP('15년일입'!$D17,구분표!$A$2:$C$1001,3,FALSE),"") -> 보건복지국 | D17: 건강증진과 | E17: 본예산 | F17: 734 | G17: 기금 (구강건강관리) | H17: 1134272 | J17: 13650 | K17: =SUM(H17+I17+J17) -> 1147922 | N17: =SUM(H17+L17+M17) -> 1134272 | O17: =IF(I17-L17<0,"동의필요","-") -> - | P17: 국비 내시 변경 ※ 보건복지부 구강생활건강과-4643호(2014.10.28.) | T17: 기금 | U17: =IF($T17<>"도비",IF($R17="국도비","직접입력",SUM($I17:$J17)),) -> 13650 | V17: =IF($T17="도비",SUM($I17:$J17),IF($R17="국도비","직접입력",SUM($I17:$J17)-$U17)) -> 0 | W17: =IF($R17="국도비","ok",IF(($I17+$J17)=($U17+$V17),"ok","검토")) -> ok | Y17: =$T17 -> 기금 | Z17: =IF($Y17<>"도비",IF($R17="국도비","직접입력",SUM($L17:$M17)),) -> 0 | AA17: =IF($Y17="도비",SUM($L17:$M17),IF($R17="국도비","직접입력",SUM($L17:$M17)-$Z17)) -> 0 | AB17: =IF($R17="국도비","ok",IF(($L17+$M17)=($Z17+$AA17),"ok","검토")) -> ok | AD17: {=IFERROR(IF($D17="","",INDEX(구분표!$I$2:$I$1001,MATCH(1,(구분표!$B$2:$B$1001='15년일입'!$B17)*(구분표!$C$2:$C$1001='15년일입'!$C17)*(구분표!$A$2:$A$1001='15년일입'!$D17),0))),"@@")} -> 1906
B18: =IFERROR(VLOOKUP('15년일입'!$D18,구분표!$A$2:$C$1001,2,FALSE),"") -> 보건복지위원회 | C18: =IFERROR(VLOOKUP('15년일입'!$D18,구분표!$A$2:$C$1001,3,FALSE),"") -> 보건복지국 | D18: 건강증진과 | E18: 본예산 | F18: 734 | G18: 기금 (주요만성질환 예방관리) | H18: 7003758 | I18: -3182969 | K18: =SUM(H18+I18+J18) -> 3820789 | N18: =SUM(H18+L18+M18) -> 7003758 | O18: =IF(I18-L18<0,"동의필요","-") -> 동의필요 | P18: 국비 내시액 착오 반영분 정정 ※ 질병관리본부 만성질환관리과-3246(2014.10.17.)호 | T18: 기금 | U18: =IF($T18<>"도비",IF($R18="국도비","직접입력",SUM($I18:$J18)),) -> -3182969 | V18: =IF($T18="도비",SUM($I18:$J18),IF($R18="국도비","직접입력",SUM($I18:$J18)-$U18)) -> 0 | W18: =IF($R18="국도비","ok",IF(($I18+$J18)=($U18+$V18),"ok","검토")) -> ok | Y18: =$T18 -> 기금 | Z18: =IF($Y18<>"도비",IF($R18="국도비","직접입력",SUM($L18:$M18)),) -> 0 | AA18: =IF($Y18="도비",SUM($L18:$M18),IF($R18="국도비","직접입력",SUM($L18:$M18)-$Z18)) -> 0 | AB18: =IF($R18="국도비","ok",IF(($L18+$M18)=($Z18+$AA18),"ok","검토")) -> ok | AD18: {=IFERROR(IF($D18="","",INDEX(구분표!$I$2:$I$1001,MATCH(1,(구분표!$B$2:$B$1001='15년일입'!$B18)*(구분표!$C$2:$C$1001='15년일입'!$C18)*(구분표!$A$2:$A$1001='15년일입'!$D18),0))),"@@")} -> 1906
B19: =IFERROR(VLOOKUP('15년일입'!$D19,구분표!$A$2:$C$1001,2,FALSE),"") -> 보건복지위원회 | C19: =IFERROR(VLOOKUP('15년일입'!$D19,구분표!$A$2:$C$1001,3,FALSE),"") -> 보건복지국 | D19: 건강증진과 | E19: 본예산 | F19: 734 | G19: 기금 (지방의료원 등 정보화 지원 사업) | H19: 325800 | J19: 331200 | K19: =SUM(H19+I19+J19) -> 657000 | N19: =SUM(H19+L19+M19) -> 325800 | O19: =IF(I19-L19<0,"동의필요","-") -> - | P19: 국비 내시 변경 ※ 보건복지부 공공의료과-6403호(2014.11.15.) | T19: 기금 | U19: =IF($T19<>"도비",IF($R19="국도비","직접입력",SUM($I19:$J19)),) -> 331200 | V19: =IF($T19="도비",SUM($I19:$J19),IF($R19="국도비","직접입력",SUM($I19:$J19)-$U19)) -> 0 | W19: =IF($R19="국도비","ok",IF(($I19+$J19)=($U19+$V19),"ok","검토")) -> ok | Y19: =$T19 -> 기금 | Z19: =IF($Y19<>"도비",IF($R19="국도비","직접입력",SUM($L19:$M19)),) -> 0 | AA19: =IF($Y19="도비",SUM($L19:$M19),IF($R19="국도비","직접입력",SUM($L19:$M19)-$Z19)) -> 0 | AB19: =IF($R19="국도비","ok",IF(($L19+$M19)=($Z19+$AA19),"ok","검토")) -> ok | AD19: {=IFERROR(IF($D19="","",INDEX(구분표!$I$2:$I$1001,MATCH(1,(구분표!$B$2:$B$1001='15년일입'!$B19)*(구분표!$C$2:$C$1001='15년일입'!$C19)*(구분표!$A$2:$A$1001='15년일입'!$D19),0))),"@@")} -> 1906
B20: =IFERROR(VLOOKUP('15년일입'!$D20,구분표!$A$2:$C$1001,2,FALSE),"") -> 보건복지위원회 | C20: =IFERROR(VLOOKUP('15년일입'!$D20,구분표!$A$2:$C$1001,3,FALSE),"") -> 보건환경연구원 | D20: 보건연구부 | E20: 본예산 | F20: 853 | G20: 국고보조금 (식중독 및 예방관리) | H20: 62223 | J20: 332 | K20: =SUM(H20+I20+J20) -> 62555 | N20: =SUM(H20+L20+M20) -> 62223 | O20: =IF(I20-L20<0,"동의필요","-") -> - | P20: 국비변경내시 ※ 식의약처 식중독예방과 - 4223(2014.10.14)호 | T20: 국비 | U20: =IF($T20<>"도비",IF($R20="국도비","직접입력",SUM($I20:$J20)),) -> 332 | V20: =IF($T20="도비",SUM($I20:$J20),IF($R20="국도비","직접입력",SUM($I20:$J20)-$U20)) -> 0 | W20: =IF($R20="국도비","ok",IF(($I20+$J20)=($U20+$V20),"ok","검토")) -> ok | Y20: =$T20 -> 국비 | Z20: =IF($Y20<>"도비",IF($R20="국도비","직접입력",SUM($L20:$M20)),) -> 0 | AA20: =IF($Y20="도비",SUM($L20:$M20),IF($R20="국도비","직접입력",SUM($L20:$M20)-$Z20)) -> 0 | AB20: =IF($R20="국도비","ok",IF(($L20+$M20)=($Z20+$AA20),"ok","검토")) -> ok | AD20: {=IFERROR(IF($D20="","",INDEX(구분표!$I$2:$I$1001,MATCH(1,(구분표!$B$2:$B$1001='15년일입'!$B20)*(구분표!$C$2:$C$1001='15년일입'!$C20)*(구분표!$A$2:$A$1001='15년일입'!$D20),0))),"@@")} -> 2102
B21: =IFERROR(VLOOKUP('15년일입'!$D21,구분표!$A$2:$C$1001,2,FALSE),"") | C21: =IFERROR(VLOOKUP('15년일입'!$D21,구분표!$A$2:$C$1001,3,FALSE),"") | K21: =SUM(H21+I21+J21) -> 0 | N21: =SUM(H21+L21+M21) -> 0 | O21: =IF(I21-L21<0,"동의필요","-") -> - | U21: =IF($T21<>"도비",IF($R21="국도비","직접입력",SUM($I21:$J21)),) -> 0 | V21: =IF($T21="도비",SUM($I21:$J21),IF($R21="국도비","직접입력",SUM($I21:$J21)-$U21)) -> 0 | W21: =IF($R21="국도비","ok",IF(($I21+$J21)=($U21+$V21),"ok","검토")) -> ok | Y21: =$T21 -> 0 | Z21: =IF($Y21<>"도비",IF($R21="국도비","직접입력",SUM($L21:$M21)),) -> 0 | AA21: =IF($Y21="도비",SUM($L21:$M21),IF($R21="국도비","직접입력",SUM($L21:$M21)-$Z21)) -> 0 | AB21: =IF($R21="국도비","ok",IF(($L21+$M21)=($Z21+$AA21),"ok","검토")) -> ok | AD21: {=IFERROR(IF($D21="","",INDEX(구분표!$I$2:$I$1001,MATCH(1,(구분표!$B$2:$B$1001='15년일입'!$B21)*(구분표!$C$2:$C$1001='15년일입'!$C21)*(구분표!$A$2:$A$1001='15년일입'!$D21),0))),"@@")}
B22: =IFERROR(VLOOKUP('15년일입'!$D22,구분표!$A$2:$C$1001,2,FALSE),"") | C22: =IFERROR(VLOOKUP('15년일입'!$D22,구분표!$A$2:$C$1001,3,FALSE),"") | K22: =SUM(H22+I22+J22) -> 0 | N22: =SUM(H22+L22+M22) -> 0 | O22: =IF(I22-L22<0,"동의필요","-") -> - | U22: =IF($T22<>"도비",IF($R22="국도비","직접입력",SUM($I22:$J22)),) -> 0 | V22: =IF($T22="도비",SUM($I22:$J22),IF($R22="국도비","직접입력",SUM($I22:$J22)-$U22)) -> 0 | W22: =IF($R22="국도비","ok",IF(($I22+$J22)=($U22+$V22),"ok","검토")) -> ok | Y22: =$T22 -> 0 | Z22: =IF($Y22<>"도비",IF($R22="국도비","직접입력",SUM($L22:$M22)),) -> 0 | AA22: =IF($Y22="도비",SUM($L22:$M22),IF($R22="국도비","직접입력",SUM($L22:$M22)-$Z22)) -> 0 | AB22: =IF($R22="국도비","ok",IF(($L22+$M22)=($Z22+$AA22),"ok","검토")) -> ok | AD22: {=IFERROR(IF($D22="","",INDEX(구분표!$I$2:$I$1001,MATCH(1,(구분표!$B$2:$B$1001='15년일입'!$B22)*(구분표!$C$2:$C$1001='15년일입'!$C22)*(구분표!$A$2:$A$1001='15년일입'!$D22),0))),"@@")}

Sheet 15년일출
B1: 2015년도 경기도 일반회계 세출 예산 조정(안)
B2: □세출예산 | U2: 세입 = 세출 | Z2: 세입 = 세출
I3: =COUNTA(I7:I111) -> 29 | J3: =COUNTA(J7:J111) -> 75 | K3: =I6+J6 -> -11613341 | L3: =COUNTA(L31:L111) -> 1 | M3: =COUNTA(M31:M111) -> 0 | P3: (단위 : 천원) | U3: =IF(U6='15년일입'!$U$6,"OK","@@") -> OK | V3: =U6+V6 -> -11613341 | W3: =IF(COUNTIF(W6:W1004,"@@")>0,"@@","OK") -> OK | Z3: =IF(Z6='2추일입'!$AA$6,"OK","@@") -> OK | AA3: =SUM(Z6:AA6) -> 0 | AB3: =IF(COUNTIF(AB6:AB1004,"@@")>0,"@@","OK") -> OK
B4: 위원회명 | C4: 실국명 | D4: 부서명 | E4: 편성 구분 | F4: 예산안 페이지 | G4: 세부사업명 및 부기명 | H4: 예산안 (가) | I4: 상임위 예산안 조정액(나) | K4: 상임위 수정 예산안 (다=가+나) | L4: 예결위 예산안 조정액(라) | N4: 예결위 수정 예산안 (마=가+라) | O4: 동의대상 | P4: 비고(부대의견) | R4: 국도비 등 여부 | T4: 재원 | U4: 상임위 재원별 증감액 | Y4: 재원 | Z4: 예결위 재원별 증감액 | AD4: 위원회 부서별 정렬
I5: 감액 | J5: 증액 | L5: 감액 | M5: 증액 | U5: 국비 등 | V5: 도 비 | W5: 검증 | Z5: 국비 등 | AA5: 도 비 | AB5: 검증
B6: C열 부서명 입력하면 자동 입력 됩니다 | C6: C열 부서명 입력하면 자동 입력 됩니다 | E6: 선택입력 | G6: 예산안의 세부사업명 및 부기명과 동일하게 입력하세요 | H6: =SUBTOTAL(9,H7:H916) -> 116929303 | I6: =SUBTOTAL(9,I7:I916) -> -21538359 | J6: =SUBTOTAL(9,J7:J916) -> 9925018 | K6: =SUBTOTAL(9,K7:K916) -> 105315962 | L6: =SUBTOTAL(9,L31:L916) -> 0 | M6: =SUBTOTAL(9,M31:M916) -> 0 | N6: =SUBTOTAL(9,N31:N916) -> 42037459 | T6: 자동 입력 | U6: =SUBTOTAL(9,U7:U916) -> -160654 | V6: =SUBTOTAL(9,V7:V916) -> -11452687 | W6: =IF((I6+J6)=(U6+V6),"OK","검토") -> OK | Z6: =SUBTOTAL(9,Z31:Z916) -> 0 | AA6: =SUBTOTAL(9,AA31:AA916) -> 0 | AB6: =IF((L6+M6)=(Z6+AA6),"OK","검토") -> OK | AD6: =IF(COUNTIF(AD31:AD733,"@@")>0,"@@","OK") -> @@
B7: =IFERROR(VLOOKUP('15년일출'!$D7,구분표!$A$2:$C$1001,2,FALSE),"") -> 보건복지위원회 | C7: =IFERROR(VLOOKUP('15년일출'!$D7,구분표!$A$2:$C$1001,3,FALSE),"") -> 보건복지국 | D7: 무한돌봄복지과 | E7: 신규 | G7: 지역사회복지협의체 지역대회(국비/직접) | H7: 0 | J7: 16500 | K7: =SUM(H7+I7+J7) -> 16500 | N7: =SUM(H7+L7+M7) -> 0 | O7: =IF(I7-L7<0,"동의필요","-") -> - | P7: 국비 내시 추가 ※ 보건복지부 지역복지과-4907호(2014.10.20) | T7: =IF($R7="도비","도비",IF(COUNT(FIND("국비/",$G7)),"국비",IF(COUNT(FIND("지특/",$G7)),"지특",IF(COUNT(FIND("기금/",$G7)),"기금",IF(COUNT(FIND("교부세/",$G7)),"특교",IF(COUNT(FIND("자체/",$G7)),"도비","")))))) -> 국비 | U7: =IF($T7<>"도비",IF($R7="국도비","직접입력",SUM($I7:$J7)),) -> 16500 | V7: =IF($T7="도비",SUM($I7:$J7),IF($R7="국도비","직접입력",SUM($I7:$J7)-$U7)) -> 0 | W7: =IF($R7="국도비","ok",IF(($I7+$J7)=($U7+$V7),"ok","검토")) -> ok | Y7: =$T7 -> 국비 | Z7: =IF($Y7<>"도비",IF($R7="국도비","직접입력",SUM($L7:$M7)),) -> 0 | AA7: =IF($Y7="도비",SUM($L7:$M7),IF($R7="국도비","직접입력",SUM($L7:$M7)-$Z7)) -> 0 | AB7: =IF($R7="국도비","ok",IF(($L7+$M7)=($Z7+$AA7),"ok","검토")) -> ok | AD7: {=IFERROR(IF($D7="","",INDEX(구분표!$I$2:$I$1001,MATCH(1,(구분표!$B$2:$B$1001='15년일출'!$B7)*(구분표!$C$2:$C$1001='15년일출'!$C7)*(구분표!$A$2:$A$1001='15년일출'!$D7),0))),"@@")} -> 1901
B8: =IFERROR(VLOOKUP('15년일출'!$D8,구분표!$A$2:$C$1001,2,FALSE),"") -> 보건복지위원회 | C8: =IFERROR(VLOOKUP('15년일출'!$D8,구분표!$A$2:$C$1001,3,FALSE),"") -> 보건복지국 | D8: 사회적일자리과 | E8: 본예산 | F8: 750 | G8: 노인일자리 확충(국비/직접) -일자리 전담인력 인건비 | H8: 19800 | I8: -24 | K8: =SUM(H8+I8+J8) -> 19776 | N8: =SUM(H8+L8+M8) -> 19800 | O8: =IF(I8-L8<0,"동의필요","-") -> 동의필요 | P8: 국비 내시 변경 ※ 보건복지부 노인지원과-4407(2014.10.28.)호 및 업무협조(2014.11.18) | T8: =IF($R8="도비","도비",IF(COUNT(FIND("국비/",$G8)),"국비",IF(COUNT(FIND("지특/",$G8)),"지특",IF(COUNT(FIND("기금/",$G8)),"기금",IF(COUNT(FIND("교부세/",$G8)),"특교",IF(COUNT(FIND("자체/",$G8)),"도비","")))))) -> 국비 | U8: -12 | V8: =IF($T8="도비",SUM($I8:$J8),IF($R8="국도비","직접입력",SUM($I8:$J8)-$U8)) -> -12 | W8: =IF($R8="국도비","ok",IF(($I8+$J8)=($U8+$V8),"ok","검토")) -> ok | Y8: =$T8 -> 국비 | Z8: =IF($Y8<>"도비",IF($R8="국도비","직접입력",SUM($L8:$M8)),) -> 0 | AA8: =IF($Y8="도비",SUM($L8:$M8),IF($R8="국도비","직접입력",SUM($L8:$M8)-$Z8)) -> 0 | AB8: =IF($R8="국도비","ok",IF(($L8+$M8)=($Z8+$AA8),"ok","검토")) -> ok | AD8: {=IFERROR(IF($D8="","",INDEX(구분표!$I$2:$I$1001,MATCH(1,(구분표!$B$2:$B$1001='15년일출'!$B8)*(구분표!$C$2:$C$1001='15년일출'!$C8)*(구분표!$A$2:$A$1001='15년일출'!$D8),0))),"@@")} -> 1902
B9: =IFERROR(VLOOKUP('15년일출'!$D9,구분표!$A$2:$C$1001,2,FALSE),"") -> 보건복지위원회 | C9: =IFERROR(VLOOKUP('15년일출'!$D9,구분표!$A$2:$C$1001,3,FALSE),"") -> 보건복지국 | D9: 사회적일자리과 | E9: 본예산 | F9: 750 | G9: 노인일자리 확충(국비/지원) -노인일자리 지원 | H9: 25840675 | J9: 2822643 | K9: =SUM(H9+I9+J9) -> 28663318 | N9: =SUM(H9+L9+M9) -> 25840675 | O9: =IF(I9-L9<0,"동의필요","-") -> - | P9: 국비 내시 변경 ※ 보건복지부 노인지원과-4407(2014.10.28.)호 및 업무협조(2014.11.18) | T9: =IF($R9="도비","도비",IF(COUNT(FIND("국비/",$G9)),"국비",IF(COUNT(FIND("지특/",$G9)),"지특",IF(COUNT(FIND("기금/",$G9)),"기금",IF(COUNT(FIND("교부세/",$G9)),"특교",IF(COUNT(FIND("자체/",$G9)),"도비","")))))) -> 국비 | U9: 2226735 | V9: =IF($T9="도비",SUM($I9:$J9),IF($R9="국도비","직접입력",SUM($I9:$J9)-$U9)) -> 595908 | W9: =IF($R9="국도비","ok",IF(($I9+$J9)=($U9+$V9),"ok","검토")) -> ok | Y9: =$T9 -> 국비 | Z9: =IF($Y9<>"도비",IF($R9="국도비","직접입력",SUM($L9:$M9)),) -> 0 | AA9: =IF($Y9="도비",SUM($L9:$M9),IF($R9="국도비","직접입력",SUM($L9:$M9)-$Z9)) -> 0 | AB9: =IF($R9="국도비","ok",IF(($L9+$M9)=($Z9+$AA9),"ok","검토")) -> ok | AD9: {=IFERROR(IF($D9="","",INDEX(구분표!$I$2:$I$1001,MATCH(1,(구분표!$B$2:$B$1001='15년일출'!$B9)*(구분표!$C$2:$C$1001='15년일출'!$C9)*(구분표!$A$2:$A$1001='15년일출'!$D9),0))),"@@")} -> 1902
B10: =IFERROR(VLOOKUP('15년일출'!$D10,구분표!$A$2:$C$1001,2,FALSE),"") -> 보건복지위원회 | C10: =IFERROR(VLOOKUP('15년일출'!$D10,구분표!$A$2:$C$1001,3,FALSE),"") -> 보건복지국 | D10: 사회적일자리과 | E10: 본예산 | F10: 750 | G10: 노인일자리 확충(국비/지원) -수행기관 전담인력 인건비 | H10: 1089292 | J10: 68942 | K10: =SUM(H10+I10+J10) -> 1158234 | N10: =SUM(H10+L10+M10) -> 1089292 | O10: =IF(I10-L10<0,"동의필요","-") -> - | P10: 국비 내시 변경 ※ 보건복지부 노인지원과-4407(2014.10.28.)호 및 업무협조(2014.11.18) | T10: =IF($R10="도비","도비",IF(COUNT(FIND("국비/",$G10)),"국비",IF(COUNT(FIND("지특/",$G10)),"지특",IF(COUNT(FIND("기금/",$G10)),"기금",IF(COUNT(FIND("교부세/",$G10)),"특교",IF(COUNT(FIND("자체/",$G10)),"도비","")))))) -> 국비 | U10: 59950 | V10: =IF($T10="도비",SUM($I10:$J10),IF($R10="국도비","직접입력",SUM($I10:$J10)-$U10)) -> 8992 | W10: =IF($R10="국도비","ok",IF(($I10+$J10)=($U10+$V10),"ok","검토")) -> ok | Y10: =$T10 -> 국비 | Z10: =IF($Y10<>"도비",IF($R10="국도비","직접입력",SUM($L10:$M10)),) -> 0 | AA10: =IF($Y10="도비",SUM($L10:$M10),IF($R10="국도비","직접입력",SUM($L10:$M10)-$Z10)) -> 0 | AB10: =IF($R10="국도비","ok",IF(($L10+$M10)=($Z10+$AA10),"ok","검토")) -> ok | AD10: {=IFERROR(IF($D10="","",INDEX(구분표!$I$2:$I$1001,MATCH(1,(구분표!$B$2:$B$1001='15년일출'!$B10)*(구분표!$C$2:$C$1001='15년일출'!$C10)*(구분표!$A$2:$A$1001='15년일출'!$D10),0))),"@@")} -> 1902
B11: =IFERROR(VLOOKUP('15년일출'!$D11,구분표!$A$2:$C$1001,2,FALSE),"") -> 보건복지위원회 | C11: =IFERROR(VLOOKUP('15년일출'!$D11,구분표!$A$2:$C$1001,3,FALSE),"") -> 보건복지국 | D11: 사회적일자리과 | E11: 본예산 | F11: 750 | G11: 노인일자리 확충(국비/지원) -시장형수행기관 인센티브지원 | H11: 189750 | J11: 37950 | K11: =SUM(H11+I11+J11) -> 227700 | N11: =SUM(H11+L11+M11) -> 189750 | O11: =IF(I11-L11<0,"동의필요","-") -> - | P11: 국비 내시 변경 ※ 보건복지부 노인지원과-4407(2014.10.28.)호 및 업무협조(2014.11.18) | T11: =IF($R11="도비","도비",IF(COUNT(FIND("국비/",$G11)),"국비",IF(COUNT(FIND("지특/",$G11)),"지특",IF(COUNT(FIND("기금/",$G11)),"기금",IF(COUNT(FIND("교부세/",$G11)),"특교",IF(COUNT(FIND("자체/",$G11)),"도비","")))))) -> 국비 | U11: 33000 | V11: =IF($T11="도비",SUM($I11:$J11),IF($R11="국도비","직접입력",SUM($I11:$J11)-$U11)) -> 4950 | W11: =IF($R11="국도비","ok",IF(($I11+$J11)=($U11+$V11),"ok","검토")) -> ok | Y11: =$T11 -> 국비 | Z11: =IF($Y11<>"도비",IF($R11="국도비","직접입력",SUM($L11:$M11)),) -> 0 | AA11: =IF($Y11="도비",SUM($L11:$M11),IF($R11="국도비","직접입력",SUM($L11:$M11)-$Z11)) -> 0 | AB11: =IF($R11="국도비","ok",IF(($L11+$M11)=($Z11+$AA11),"ok","검토")) -> ok | AD11: {=IFERROR(IF($D11="","",INDEX(구분표!$I$2:$I$1001,MATCH(1,(구분표!$B$2:$B$1001='15년일출'!$B11)*(구분표!$C$2:$C$1001='15년일출'!$C11)*(구분표!$A$2:$A$1001='15년일출'!$D11),0))),"@@")} -> 1902
B12: =IFERROR(VLOOKUP('15년일출'!$D12,구분표!$A$2:$C$1001,2,FALSE),"") -> 보건복지위원회 | C12: =IFERROR(VLOOKUP('15년일출'!$D12,구분표!$A$2:$C$1001,3,FALSE),"") -> 보건복지국 | D12: 사회적일자리과 | E12: 본예산 | F12: 751 | G12: 장애인 복지일자리 지원(국비/지원) -장애인 복지일자리 지원 | H12: 2013037 | J12: 19890 | K12: =SUM(H12+I12+J12) -> 2032927 | N12: =SUM(H12+L12+M12) -> 2013037 | O12: =IF(I12-L12<0,"동의필요","-") -> - | P12: 국비 내시 변경 ※ 보건복지부 장애인자립기반과-7290호(2014.11.04.) -사업량 9명 증가 | T12: =IF($R12="도비","도비",IF(COUNT(FIND("국비/",$G12)),"국비",IF(COUNT(FIND("지특/",$G12)),"지특",IF(COUNT(FIND("기금/",$G12)),"기금",IF(COUNT(FIND("교부세/",$G12)),"특교",IF(COUNT(FIND("자체/",$G12)),"도비","")))))) -> 국비 | U12: 17295 | V12: =IF($T12="도비",SUM($I12:$J12),IF($R12="국도비","직접입력",SUM($I12:$J12)-$U12)) -> 2595 | W12: =IF($R12="국도비","ok",IF(($I12+$J12)=($U12+$V12),"ok","검토")) -> ok | Y12: =$T12 -> 국비 | Z12: =IF($Y12<>"도비",IF($R12="국도비","직접입력",SUM($L12:$M12)),) -> 0 | AA12: =IF($Y12="도비",SUM($L12:$M12),IF($R12="국도비","직접입력",SUM($L12:$M12)-$Z12)) -> 0 | AB12: =IF($R12="국도비","ok",IF(($L12+$M12)=($Z12+$AA12),"ok","검토")) -> ok | AD12: {=IFERROR(IF($D12="","",INDEX(구분표!$I$2:$I$1001,MATCH(1,(구분표!$B$2:$B$1001='15년일출'!$B12)*(구분표!$C$2:$C$1001='15년일출'!$C12)*(구분표!$A$2:$A$1001='15년일출'!$D12),0))),"@@")} -> 1902
B13: =IFERROR(VLOOKUP('15년일출'!$D13,구분표!$A$2:$C$1001,2,FALSE),"") -> 보건복지위원회 | C13: =IFERROR(VLOOKUP('15년일출'!$D13,구분표!$A$2:$C$1001,3,FALSE),"") -> 보건복지국 | D13: 사회적일자리과 | E13: 본예산 | F13: 751 | G13: 장애인일반형일자리지원(국비/지원) -장애인 일반형(舊 행정도우미)일자리 지원 | H13: 6128836 | J13: 178943 | K13: =SUM(H13+I13+J13) -> 6307779 | N13: =SUM(H13+L13+M13) -> 6128836 | O13: =IF(I13-L13<0,"동의필요","-") -> - | P13: 국비 내시 변경 ※ 보건복지부 장애인자립기반과-7290호(2014.11.04.) -사업량 19명 증가 | T13: =IF($R13="도비","도비",IF(COUNT(FIND("국비/",$G13)),"국비",IF(COUNT(FIND("지특/",$G13)),"지특",IF(COUNT(FIND("기금/",$G13)),"기금",IF(COUNT(FIND("교부세/",$G13)),"특교",IF(COUNT(FIND("자체/",$G13)),"도비","")))))) -> 국비 | U13: 155603 | V13: =IF($T13="도비",SUM($I13:$J13),IF($R13="국도비","직접입력",SUM($I13:$J13)-$U13)) -> 23340 | W13: =IF($R13="국도비","ok",IF(($I13+$J13)=($U13+$V13),"ok","검토")) -> ok | Y13: =$T13 -> 국비 | Z13: =IF($Y13<>"도비",IF($R13="국도비","직접입력",SUM($L13:$M13)),) -> 0 | AA13: =IF($Y13="도비",SUM($L13:$M13),IF($R13="국도비","직접입력",SUM($L13:$M13)-$Z13)) -> 0 | AB13: =IF($R13="국도비","ok",IF(($L13+$M13)=($Z13+$AA13),"ok","검토")) -> ok | AD13: {=IFERROR(IF($D13="","",INDEX(구분표!$I$2:$I$1001,MATCH(1,(구분표!$B$2:$B$1001='15년일출'!$B13)*(구분표!$C$2:$C$1001='15년일출'!$C13)*(구분표!$A$2:$A$1001='15년일출'!$D13),0))),"@@")} -> 1902
B14: =IFERROR(VLOOKUP('15년일출'!$D14,구분표!$A$2:$C$1001,2,FALSE),"") -> 보건복지위원회 | C14: =IFERROR(VLOOKUP('15년일출'!$D14,구분표!$A$2:$C$1001,3,FALSE),"") -> 보건복지국 | D14: 사회적일자리과 | E14: 본예산 | F14: 752 | G14: 발달장애인 바리스타 일자리 시범사업 (국비/지원) | H14: 205564 | I14: -205564 | K14: =SUM(H14+I14+J14) -> 0 | N14: =SUM(H14+L14+M14) -> 205564 | O14: =IF(I14-L14<0,"동의필요","-") -> 동의필요 | P14: 국비 내시 변경 ※ 보건복지부 장애인자립기반과-7652(‘14.11.14.)호 -보건복지부 사업 계획변경 | T14: =IF($R14="도비","도비",IF(COUNT(FIND("국비/",$G14)),"국비",IF(COUNT(FIND("지특/",$G14)),"지특",IF(COUNT(FIND("기금/",$G14)),"기금",IF(COUNT(FIND("교부세/",$G14)),"특교",IF(COUNT(FIND("자체/",$G14)),"도비","")))))) -> 국비 | U14: -178751 | V14: =IF($T14="도비",SUM($I14:$J14),IF($R14="국도비","직접입력",SUM($I14:$J14)-$U14)) -> -26813 | W14: =IF($R14="국도비","ok",IF(($I14+$J14)=($U14+$V14),"ok","검토")) -> ok | Y14: =$T14 -> 국비 | Z14: =IF($Y14<>"도비",IF($R14="국도비","직접입력",SUM($L14:$M14)),) -> 0 | AA14: =IF($Y14="도비",SUM($L14:$M14),IF($R14="국도비","직접입력",SUM($L14:$M14)-$Z14)) -> 0 | AB14: =IF($R14="국도비","ok",IF(($L14+$M14)=($Z14+$AA14),"ok","검토")) -> ok | AD14: {=IFERROR(IF($D14="","",INDEX(구분표!$I$2:$I$1001,MATCH(1,(구분표!$B$2:$B$1001='15년일출'!$B14)*(구분표!$C$2:$C$1001='15년일출'!$C14)*(구분표!$A$2:$A$1001='15년일출'!$D14),0))),"@@")} -> 1902
B15: =IFERROR(VLOOKUP('15년일출'!$D15,구분표!$A$2:$C$1001,2,FALSE),"") -> 보건복지위원회 | C15: =IFERROR(VLOOKUP('15년일출'!$D15,구분표!$A$2:$C$1001,3,FALSE),"") -> 보건복지국 | D15: 노인복지과 | E15: 본예산 | F15: 756 | G15: 노인생활시설 지원(국비/지원) -노인양로시설운영 | H15: 4607772 | I15: -261000 | K15: =SUM(H15+I15+J15) -> 4346772 | N15: =SUM(H15+L15+M15) -> 4607772 | O15: =IF(I15-L15<0,"동의필요","-") -> 동의필요 | P15: 국고보조 변경내시 반영 ※ 보건복지부 요양보험운영과-5279(2014.10.13)호 | T15: =IF($R15="도비","도비",IF(COUNT(FIND("국비/",$G15)),"국비",IF(COUNT(FIND("지특/",$G15)),"지특",IF(COUNT(FIND("기금/",$G15)),"기금",IF(COUNT(FIND("교부세/",$G15)),"특교",IF(COUNT(FIND("자체/",$G15)),"도비","")))))) -> 국비 | U15: -261000 | V15: =IF($T15="도비",SUM($I15:$J15),IF($R15="국도비","직접입력",SUM($I15:$J15)-$U15)) -> 0 | W15: =IF($R15="국도비","ok",IF(($I15+$J15)=($U15+$V15),"ok","검토")) -> ok | Y15: =$T15 -> 국비 | Z15: =IF($Y15<>"도비",IF($R15="국도비","직접입력",SUM($L15:$M15)),) -> 0 | AA15: =IF($Y15="도비",SUM($L15:$M15),IF($R15="국도비","직접입력",SUM($L15:$M15)-$Z15)) -> 0 | AB15: =IF($R15="국도비","ok",IF(($L15+$M15)=($Z15+$AA15),"ok","검토")) -> ok | AD15: {=IFERROR(IF($D15="","",INDEX(구분표!$I$2:$I$1001,MATCH(1,(구분표!$B$2:$B$1001='15년일출'!$B15)*(구분표!$C$2:$C$1001='15년일출'!$C15)*(구분표!$A$2:$A$1001='15년일출'!$D15),0))),"@@")} -> 1903
B16: =IFERROR(VLOOKUP('15년일출'!$D16,구분표!$A$2:$C$1001,2,FALSE),"") -> 보건복지위원회 | C16: =IFERROR(VLOOKUP('15년일출'!$D16,구분표!$A$2:$C$1001,3,FALSE),"") -> 보건복지국 | D16: 노인복지과 | E16: 본예산 | F16: 757 | G16: 독거노인응급안전돌보미(기금/지원) - 독거노인 응급안전 돌보미 설치 | H16: 404670 | I16: -14850 | K16: =SUM(H16+I16+J16) -> 389820 | N16: =SUM(H16+L16+M16) -> 404670 | O16: =IF(I16-L16<0,"동의필요","-") -> 동의필요 | P16: 국비 내시 변경 - 사업량 감소 (3,310가구→2,913가구) ※ 보건복지부 노인정책과- 6144(2014.10.15)호 | T16: =IF($R16="도비","도비",IF(COUNT(FIND("국비/",$G16)),"국비",IF(COUNT(FIND("지특/",$G16)),"지특",IF(COUNT(FIND("기금/",$G16)),"기금",IF(COUNT(FIND("교부세/",$G16)),"특교",IF(COUNT(FIND("자체/",$G16)),"도비","")))))) -> 기금 | U16: -14850 | V16: =IF($T16="도비",SUM($I16:$J16),IF($R16="국도비","직접입력",SUM($I16:$J16)-$U16)) -> 0 | W16: =IF($R16="국도비","ok",IF(($I16+$J16)=($U16+$V16),"ok","검토")) -> ok | Y16: =$T16 -> 기금 | Z16: =IF($Y16<>"도비",IF($R16="국도비","직접입력",SUM($L16:$M16)),) -> 0 | AA16: =IF($Y16="도비",SUM($L16:$M16),IF($R16="국도비","직접입력",SUM($L16:$M16)-$Z16)) -> 0 | AB16: =IF($R16="국도비","ok",IF(($L16+$M16)=($Z16+$AA16),"ok","검토")) -> ok | AD16: {=IFERROR(IF($D16="","",INDEX(구분표!$I$2:$I$1001,MATCH(1,(구분표!$B$2:$B$1001='15년일출'!$B16)*(구분표!$C$2:$C$1001='15년일출'!$C16)*(구분표!$A$2:$A$1001='15년일출'!$D16),0))),"@@")} -> 1903
B17: =IFERROR(VLOOKUP('15년일출'!$D17,구분표!$A$2:$C$1001,2,FALSE),"") -> 보건복지위원회 | C17: =IFERROR(VLOOKUP('15년일출'!$D17,구분표!$A$2:$C$1001,3,FALSE),"") -> 보건복지국 | D17: 노인복지과 | E17: 본예산 | F17: 757 | G17: 독거노인응급안전돌보미(기금/지원) - 독거노인 응급안전 돌보미 운영 | H17: 621626 | I17: -12670 | K17: =SUM(H17+I17+J17) -> 608956 | N17: =SUM(H17+L17+M17) -> 621626 | O17: =IF(I17-L17<0,"동의필요","-") -> 동의필요 | P17: 국비 내시 변경 - 사업량 감소 (3,310가구→2,913가구) ※ 보건복지부 노인정책과- 6144(2014.10.15)호 | T17: =IF($R17="도비","도비",IF(COUNT(FIND("국비/",$G17)),"국비",IF(COUNT(FIND("지특/",$G17)),"지특",IF(COUNT(FIND("기금/",$G17)),"기금",IF(COUNT(FIND("교부세/",$G17)),"특교",IF(COUNT(FIND("자체/",$G17)),"도비","")))))) -> 기금 | U17: -12670 | V17: =IF($T17="도비",SUM($I17:$J17),IF($R17="국도비","직접입력",SUM($I17:$J17)-$U17)) -> 0 | W17: =IF($R17="국도비","ok",IF(($I17+$J17)=($U17+$V17),"ok","검토")) -> ok | Y17: =$T17 -> 기금 | Z17: =IF($Y17<>"도비",IF($R17="국도비","직접입력",SUM($L17:$M17)),) -> 0 | AA17: =IF($Y17="도비",SUM($L17:$M17),IF($R17="국도비","직접입력",SUM($L17:$M17)-$Z17)) -> 0 | AB17: =IF($R17="국도비","ok",IF(($L17+$M17)=($Z17+$AA17),"ok","검토")) -> ok | AD17: {=IFERROR(IF($D17="","",INDEX(구분표!$I$2:$I$1001,MATCH(1,(구분표!$B$2:$B$1001='15년일출'!$B17)*(구분표!$C$2:$C$1001='15년일출'!$C17)*(구분표!$A$2:$A$1001='15년일출'!$D17),0))),"@@")} -> 1903
B18: =IFERROR(VLOOKUP('15년일출'!$D18,구분표!$A$2:$C$1001,2,FALSE),"") -> 보건복지위원회 | C18: =IFERROR(VLOOKUP('15년일출'!$D18,구분표!$A$2:$C$1001,3,FALSE),"") -> 보건복지국 | D18: 보건정책과 | E18: 본예산 | F18: 774 | G18: 농어촌의료서비스 개선(국비/지원) -농어촌의료서비스개선사업 | H18: 3298094 | J18: 93738 | K18: =SUM(H18+I18+J18) -> 3391832 | N18: =SUM(H18+L18+M18) -> 3298094 | O18: =IF(I18-L18<0,"동의필요","-") -> - | P18: 국비 내시 변경 ※보건복지부 건강정책과-7090호(2014.11.21) | T18: =IF($R18="도비","도비",IF(COUNT(FIND("국비/",$G18)),"국비",IF(COUNT(FIND("지특/",$G18)),"지특",IF(COUNT(FIND("기금/",$G18)),"기금",IF(COUNT(FIND("교부세/",$G18)),"특교",IF(COUNT(FIND("자체/",$G18)),"도비","")))))) -> 국비 | U18: 59004 | V18: =IF($T18="도비",SUM($I18:$J18),IF($R18="국도비","직접입력",SUM($I18:$J18)-$U18)) -> 34734 | W18: =IF($R18="국도비","ok",IF(($I18+$J18)=($U18+$V18),"ok","검토")) -> ok | Y18: =$T18 -> 국비 | Z18: =IF($Y18<>"도비",IF($R18="국도비","직접입력",SUM($L18:$M18)),) -> 0 | AA18: =IF($Y18="도비",SUM($L18:$M18),IF($R18="국도비","직접입력",SUM($L18:$M18)-$Z18)) -> 0 | AB18: =IF($R18="국도비","ok",IF(($L18+$M18)=($Z18+$AA18),"ok","검토")) -> ok | AD18: {=IFERROR(IF($D18="","",INDEX(구분표!$I$2:$I$1001,MATCH(1,(구분표!$B$2:$B$1001='15년일출'!$B18)*(구분표!$C$2:$C$1001='15년일출'!$C18)*(구분표!$A$2:$A$1001='15년일출'!$D18),0))),"@@")} -> 1905
B19: =IFERROR(VLOOKUP('15년일출'!$D19,구분표!$A$2:$C$1001,2,FALSE),"") -> 보건복지위원회 | C19: =IFERROR(VLOOKUP('15년일출'!$D19,구분표!$A$2:$C$1001,3,FALSE),"") -> 보건복지국 | D19: 보건정책과 | E19: 본예산 | F19: 776 | G19: 감염병전문가 교육(국비/지원) - 감염병전문가교육(지원) | H19: 164124 | I19: -6984 | K19: =SUM(H19+I19+J19) -> 157140 | N19: =SUM(H19+L19+M19) -> 164124 | O19: =IF(I19-L19<0,"동의필요","-") -> 동의필요 | P19: 국비 내시 변경 ※질병관리본부 감염병관리과-3856호(2014.10.14.) | T19: =IF($R19="도비","도비",IF(COUNT(FIND("국비/",$G19)),"국비",IF(COUNT(FIND("지특/",$G19)),"지특",IF(COUNT(FIND("기금/",$G19)),"기금",IF(COUNT(FIND("교부세/",$G19)),"특교",IF(COUNT(FIND("자체/",$G19)),"도비","")))))) -> 국비 | U19: -6984 | V19: =IF($T19="도비",SUM($I19:$J19),IF($R19="국도비","직접입력",SUM($I19:$J19)-$U19)) -> 0 | W19: =IF($R19="국도비","ok",IF(($I19+$J19)=($U19+$V19),"ok","검토")) -> ok | Y19: =$T19 -> 국비 | Z19: =IF($Y19<>"도비",IF($R19="국도비","직접입력",SUM($L19:$M19)),) -> 0 | AA19: =IF($Y19="도비",SUM($L19:$M19),IF($R19="국도비","직접입력",SUM($L19:$M19)-$Z19)) -> 0 | AB19: =IF($R19="국도비","ok",IF(($L19+$M19)=($Z19+$AA19),"ok","검토")) -> ok | AD19: {=IFERROR(IF($D19="","",INDEX(구분표!$I$2:$I$1001,MATCH(1,(구분표!$B$2:$B$1001='15년일출'!$B19)*(구분표!$C$2:$C$1001='15년일출'!$C19)*(구분표!$A$2:$A$1001='15년일출'!$D19),0))),"@@")} -> 1905
B20: =IFERROR(VLOOKUP('15년일출'!$D20,구분표!$A$2:$C$1001,2,FALSE),"") -> 보건복지위원회 | C20: =IFERROR(VLOOKUP('15년일출'!$D20,구분표!$A$2:$C$1001,3,FALSE),"") -> 보건복지국 | D20: 보건정책과 | E20: 본예산 | F20: 780 | G20: 국가예방접종사업(자체/지원) - 인플루엔자 무료예방접종 | H20: 889660 | I20: -889660 | K20: =SUM(H20+I20+J20) -> 0 | N20: =SUM(H20+L20+M20) -> 889660 | O20: =IF(I20-L20<0,"동의필요","-") -> 동의필요 | P20: 자체사업에서 국비(기금)지원사업으로 전환되어 감액 편성 ※질병관리본부 예방접종관리과-3246호(2014.10.15) | T20: =IF($R20="도비","도비",IF(COUNT(FIND("국비/",$G20)),"국비",IF(COUNT(FIND("지특/",$G20)),"지특",IF(COUNT(FIND("기금/",$G20)),"기금",IF(COUNT(FIND("교부세/",$G20)),"특교",IF(COUNT(FIND("자체/",$G20)),"도비","")))))) -> 도비 | U20: 0 | V20: =IF($T20="도비",SUM($I20:$J20),IF($R20="국도비","직접입력",SUM($I20:$J20)-$U20)) -> -889660 | W20: =IF($R20="국도비","ok",IF(($I20+$J20)=($U20+$V20),"ok","검토")) -> ok | Y20: =$T20 -> 도비 | Z20: =IF($Y20<>"도비",IF($R20="국도비","직접입력",SUM($L20:$M20)),) -> 0 | AA20: =IF($Y20="도비",SUM($L20:$M20),IF($R20="국도비","직접입력",SUM($L20:$M20)-$Z20)) -> 0 | AB20: =IF($R20="국도비","ok",IF(($L20+$M20)=($Z20+$AA20),"ok","검토")) -> ok | AD20: {=IFERROR(IF($D20="","",INDEX(구분표!$I$2:$I$1001,MATCH(1,(구분표!$B$2:$B$1001='15년일출'!$B20)*(구분표!$C$2:$C$1001='15년일출'!$C20)*(구분표!$A$2:$A$1001='15년일출'!$D20),0))),"@@")} -> 1905
B21: =IFERROR(VLOOKUP('15년일출'!$D21,구분표!$A$2:$C$1001,2,FALSE),"") -> 보건복지위원회 | C21: =IFERROR(VLOOKUP('15년일출'!$D21,구분표!$A$2:$C$1001,3,FALSE),"") -> 보건복지국 | D21: 보건정책과 | E21: 본예산 | F21: 781 | G21: 국가결핵예방(기금/지원) -국가결핵예방 | H21: 2956151 | J21: 57632 | K21: =SUM(H21+I21+J21) -> 3013783 | N21: =SUM(H21+L21+M21) -> 2956151 | O21: =IF(I21-L21<0,"동의필요","-") -> - | P21: 국비 내시 변경 ※질병관리본부 에이즈결핵관리과-4768(2014.11.18.)호 | T21: =IF($R21="도비","도비",IF(COUNT(FIND("국비/",$G21)),"국비",IF(COUNT(FIND("지특/",$G21)),"지특",IF(COUNT(FIND("기금/",$G21)),"기금",IF(COUNT(FIND("교부세/",$G21)),"특교",IF(COUNT(FIND("자체/",$G21)),"도비","")))))) -> 기금 | U21: 57632 | V21: =IF($T21="도비",SUM($I21:$J21),IF($R21="국도비","직접입력",SUM($I21:$J21)-$U21)) -> 0 | W21: =IF($R21="국도비","ok",IF(($I21+$J21)=($U21+$V21),"ok","검토")) -> ok | Y21: =$T21 -> 기금 | Z21: =IF($Y21<>"도비",IF($R21="국도비","직접입력",SUM($L21:$M21)),) -> 0 | AA21: =IF($Y21="도비",SUM($L21:$M21),IF($R21="국도비","직접입력",SUM($L21:$M21)-$Z21)) -> 0 | AB21: =IF($R21="국도비","ok",IF(($L21+$M21)=($Z21+$AA21),"ok","검토")) -> ok | AD21: {=IFERROR(IF($D21="","",INDEX(구분표!$I$2:$I$1001,MATCH(1,(구분표!$B$2:$B$1001='15년일출'!$B21)*(구분표!$C$2:$C$1001='15년일출'!$C21)*(구분표!$A$2:$A$1001='15년일출'!$D21),0))),"@@")} -> 1905
B22: =IFERROR(VLOOKUP('15년일출'!$D22,구분표!$A$2:$C$1001,2,FALSE),"") -> 보건복지위원회 | C22: =IFERROR(VLOOKUP('15년일출'!$D22,구분표!$A$2:$C$1001,3,FALSE),"") -> 보건복지국 | D22: 보건정책과 | E22: 본예산 | F22: 786 | G22: 중증외상센터 설립 지원(자체/직접) -경기도 중증외상센터 건립 지원 | H22: 11000000 | I22: -11000000 | K22: =SUM(H22+I22+J22) -> 0 | O22: =IF(I22-L22<0,"동의필요","-") -> 동의필요 | P22: 도비 70억원 지방채 40억원 | T22: =IF($R22="도비","도비",IF(COUNT(FIND("국비/",$G22)),"국비",IF(COUNT(FIND("지특/",$G22)),"지특",IF(COUNT(FIND("기금/",$G22)),"기금",IF(COUNT(FIND("교부세/",$G22)),"특교",IF(COUNT(FIND("자체/",$G22)),"도비","")))))) -> 도비 | V22: =IF($T22="도비",SUM($I22:$J22),IF($R22="국도비","직접입력",SUM($I22:$J22)-$U22)) -> -11000000 | W22: =IF($R22="국도비","ok",IF(($I22+$J22)=($U22+$V22),"ok","검토")) -> ok
B23: =IFERROR(VLOOKUP('15년일출'!$D23,구분표!$A$2:$C$1001,2,FALSE),"") -> 보건복지위원회 | C23: =IFERROR(VLOOKUP('15년일출'!$D23,구분표!$A$2:$C$1001,3,FALSE),"") -> 보건복지국 | D23: 보건정책과 | E23: 본예산 | F23: 788 | G23: 외국인근로자 등 소외계층 의료서비스 지원(국비/직접) - 외국인근로자 등 소외계층 의료서비스 지원 | H23: 497000 | I23: -117000 | K23: =SUM(H23+I23+J23) -> 380000 | N23: =SUM(H23+L23+M23) -> 497000 | O23: =IF(I23-L23<0,"동의필요","-") -> 동의필요 | P23: 국비 내시 변경 ※보건복지부 공공의료과-6233호(2014.11.09) | T23: =IF($R23="도비","도비",IF(COUNT(FIND("국비/",$G23)),"국비",IF(COUNT(FIND("지특/",$G23)),"지특",IF(COUNT(FIND("기금/",$G23)),"기금",IF(COUNT(FIND("교부세/",$G23)),"특교",IF(COUNT(FIND("자체/",$G23)),"도비","")))))) -> 국비 | U23: -81900 | V23: =IF($T23="도비",SUM($I23:$J23),IF($R23="국도비","직접입력",SUM($I23:$J23)-$U23)) -> -35100 | W23: =IF($R23="국도비","ok",IF(($I23+$J23)=($U23+$V23),"ok","검토")) -> ok | Y23: =$T23 -> 국비 | Z23: =IF($Y23<>"도비",IF($R23="국도비","직접입력",SUM($L23:$M23)),) -> 0 | AA23: =IF($Y23="도비",SUM($L23:$M23),IF($R23="국도비","직접입력",SUM($L23:$M23)-$Z23)) -> 0 | AB23: =IF($R23="국도비","ok",IF(($L23+$M23)=($Z23+$AA23),"ok","검토")) -> ok | AD23: {=IFERROR(IF($D23="","",INDEX(구분표!$I$2:$I$1001,MATCH(1,(구분표!$B$2:$B$1001='15년일출'!$B23)*(구분표!$C$2:$C$1001='15년일출'!$C23)*(구분표!$A$2:$A$1001='15년일출'!$D23),0))),"@@")} -> 1905
B24: =IFERROR(VLOOKUP('15년일출'!$D24,구분표!$A$2:$C$1001,2,FALSE),"") -> 보건복지위원회 | C24: =IFERROR(VLOOKUP('15년일출'!$D24,구분표!$A$2:$C$1001,3,FALSE),"") -> 보건복지국 | D24: 건강증진과 | E24: 본예산 | F24: 794 | G24: 지역사회 건강조사(기금/지원) -지역사회 건강조사 | H24: 1599608 | I24: -813554 | K24: =SUM(H24+I24+J24) -> 786054 | N24: =SUM(H24+L24+M24) -> 1599608 | O24: =IF(I24-L24<0,"동의필요","-") -> 동의필요 | P24: 국비 내시액 착오 반영분 정정 ※ 질병관리본부 만성질환관리과-3206호(2014.10.15.) | T24: =IF($R24="도비","도비",IF(COUNT(FIND("국비/",$G24)),"국비",IF(COUNT(FIND("지특/",$G24)),"지특",IF(COUNT(FIND("기금/",$G24)),"기금",IF(COUNT(FIND("교부세/",$G24)),"특교",IF(COUNT(FIND("자체/",$G24)),"도비","")))))) -> 기금 | U24: -813554 | V24: =IF($T24="도비",SUM($I24:$J24),IF($R24="국도비","직접입력",SUM($I24:$J24)-$U24)) -> 0 | W24: =IF($R24="국도비","ok",IF(($I24+$J24)=($U24+$V24),"ok","검토")) -> ok | Y24: =$T24 -> 기금 | Z24: =IF($Y24<>"도비",IF($R24="국도비","직접입력",SUM($L24:$M24)),) -> 0 | AA24: =IF($Y24="도비",SUM($L24:$M24),IF($R24="국도비","직접입력",SUM($L24:$M24)-$Z24)) -> 0 | AB24: =IF($R24="국도비","ok",IF(($L24+$M24)=($Z24+$AA24),"ok","검토")) -> ok | AD24: {=IFERROR(IF($D24="","",INDEX(구분표!$I$2:$I$1001,MATCH(1,(구분표!$B$2:$B$1001='15년일출'!$B24)*(구분표!$C$2:$C$1001='15년일출'!$C24)*(구분표!$A$2:$A$1001='15년일출'!$D24),0))),"@@")} -> 1906
B25: =IFERROR(VLOOKUP('15년일출'!$D25,구분표!$A$2:$C$1001,2,FALSE),"") -> 보건복지위원회 | C25: =IFERROR(VLOOKUP('15년일출'!$D25,구분표!$A$2:$C$1001,3,FALSE),"") -> 보건복지국 | D25: 건강증진과 | E25: 본예산 | F25: 797 | G25: 지방의료원 등 정보화 지원(기금/직접) | H25: 651600 | J25: 662400 | K25: =SUM(H25+I25+J25) -> 1314000 | N25: =SUM(H25+L25+M25) -> 651600 | O25: =IF(I25-L25<0,"동의필요","-") -> - | P25: 국비 내시 변경 ※ 보건복지부 공공의료과-6638호(2014.11.24.) | T25: =IF($R25="도비","도비",IF(COUNT(FIND("국비/",$G25)),"국비",IF(COUNT(FIND("지특/",$G25)),"지특",IF(COUNT(FIND("기금/",$G25)),"기금",IF(COUNT(FIND("교부세/",$G25)),"특교",IF(COUNT(FIND("자체/",$G25)),"도비","")))))) -> 기금 | U25: 331200 | V25: =IF($T25="도비",SUM($I25:$J25),IF($R25="국도비","직접입력",SUM($I25:$J25)-$U25)) -> 331200 | W25: =IF($R25="국도비","ok",IF(($I25+$J25)=($U25+$V25),"ok","검토")) -> ok | Y25: =$T25 -> 기금 | Z25: =IF($Y25<>"도비",IF($R25="국도비","직접입력",SUM($L25:$M25)),) -> 0 | AA25: =IF($Y25="도비",SUM($L25:$M25),IF($R25="국도비","직접입력",SUM($L25:$M25)-$Z25)) -> 0 | AB25: =IF($R25="국도비","ok",IF(($L25+$M25)=($Z25+$AA25),"ok","검토")) -> ok | AD25: {=IFERROR(IF($D25="","",INDEX(구분표!$I$2:$I$1001,MATCH(1,(구분표!$B$2:$B$1001='15년일출'!$B25)*(구분표!$C$2:$C$1001='15년일출'!$C25)*(구분표!$A$2:$A$1001='15년일출'!$D25),0))),"@@")} -> 1906
B26: =IFERROR(VLOOKUP('15년일출'!$D26,구분표!$A$2:$C$1001,2,FALSE),"") -> 보건복지위원회 | C26: =IFERROR(VLOOKUP('15년일출'!$D26,구분표!$A$2:$C$1001,3,FALSE),"") -> 보건복지국 | D26: 건강증진과 | E26: 본예산 | F26: 799 | G26: 심뇌혈관질환 관리사업(기금/직접) -심뇌혈관질환 예방관리사업 | H26: 750000 | I26: -350000 | K26: =SUM(H26+I26+J26) -> 400000 | N26: =SUM(H26+L26+M26) -> 750000 | O26: =IF(I26-L26<0,"동의필요","-") -> 동의필요 | P26: 국비 내시액 착오 반영분 정정 ※ 질병관리본부 만성질환관리과-3246(2014.10.17.)호 | T26: =IF($R26="도비","도비",IF(COUNT(FIND("국비/",$G26)),"국비",IF(COUNT(FIND("지특/",$G26)),"지특",IF(COUNT(FIND("기금/",$G26)),"기금",IF(COUNT(FIND("교부세/",$G26)),"특교",IF(COUNT(FIND("자체/",$G26)),"도비","")))))) -> 기금 | U26: -300000 | V26: =IF($T26="도비",SUM($I26:$J26),IF($R26="국도비","직접입력",SUM($I26:$J26)-$U26)) -> -50000 | W26: =IF($R26="국도비","ok",IF(($I26+$J26)=($U26+$V26),"ok","검토")) -> ok | Y26: =$T26 -> 기금 | Z26: =IF($Y26<>"도비",IF($R26="국도비","직접입력",SUM($L26:$M26)),) -> 0 | AA26: =IF($Y26="도비",SUM($L26:$M26),IF($R26="국도비","직접입력",SUM($L26:$M26)-$Z26)) -> 0 | AB26: =IF($R26="국도비","ok",IF(($L26+$M26)=($Z26+$AA26),"ok","검토")) -> ok | AD26: {=IFERROR(IF($D26="","",INDEX(구분표!$I$2:$I$1001,MATCH(1,(구분표!$B$2:$B$1001='15년일출'!$B26)*(구분표!$C$2:$C$1001='15년일출'!$C26)*(구분표!$A$2:$A$1001='15년일출'!$D26),0))),"@@")} -> 1906
B27: =IFERROR(VLOOKUP('15년일출'!$D27,구분표!$A$2:$C$1001,2,FALSE),"") -> 보건복지위원회 | C27: =IFERROR(VLOOKUP('15년일출'!$D27,구분표!$A$2:$C$1001,3,FALSE),"") -> 보건복지국 | D27: 건강증진과 | E27: 본예산 | F27: 800 | G27: 고혈압 당뇨병 등록관리 사업(기금/지원) -고혈압, 당뇨병 등록관리사업 | H27: 6219758 | I27: -2882969 | K27: =SUM(H27+I27+J27) -> 3336789 | N27: =SUM(H27+L27+M27) -> 6219758 | O27: =IF(I27-L27<0,"동의필요","-") -> 동의필요 | P27: 국비 내시액 착오 반영분 정정 ※ 질병관리본부 만성질환관리과-3246(2014.10.17.)호 | T27: =IF($R27="도비","도비",IF(COUNT(FIND("국비/",$G27)),"국비",IF(COUNT(FIND("지특/",$G27)),"지특",IF(COUNT(FIND("기금/",$G27)),"기금",IF(COUNT(FIND("교부세/",$G27)),"특교",IF(COUNT(FIND("자체/",$G27)),"도비","")))))) -> 기금 | U27: -2882969 | V27: =IF($T27="도비",SUM($I27:$J27),IF($R27="국도비","직접입력",SUM($I27:$J27)-$U27)) -> 0 | W27: =IF($R27="국도비","ok",IF(($I27+$J27)=($U27+$V27),"ok","검토")) -> ok | Y27: =$T27 -> 기금 | Z27: =IF($Y27<>"도비",IF($R27="국도비","직접입력",SUM($L27:$M27)),) -> 0 | AA27: =IF($Y27="도비",SUM($L27:$M27),IF($R27="국도비","직접입력",SUM($L27:$M27)-$Z27)) -> 0 | AB27: =IF($R27="국도비","ok",IF(($L27+$M27)=($Z27+$AA27),"ok","검토")) -> ok | AD27: {=IFERROR(IF($D27="","",INDEX(구분표!$I$2:$I$1001,MATCH(1,(구분표!$B$2:$B$1001='15년일출'!$B27)*(구분표!$C$2:$C$1001='15년일출'!$C27)*(구분표!$A$2:$A$1001='15년일출'!$D27),0))),"@@")} -> 1906
B28: =IFERROR(VLOOKUP('15년일출'!$D28,구분표!$A$2:$C$1001,2,FALSE),"") -> 보건복지위원회 | C28: =IFERROR(VLOOKUP('15년일출'!$D28,구분표!$A$2:$C$1001,3,FALSE),"") -> 보건복지국 | D28: 건강증진과 | E28: 본예산 | F28: 801 | G28: 구강건강관리(구강보건센터 설치)(기금/지원) -구강건강관리(구강보건센터 설치) | H28: 90000 | J28: 13650 | K28: =SUM(H28+I28+J28) -> 103650 | N28: =SUM(H28+L28+M28) -> 90000 | O28: =IF(I28-L28<0,"동의필요","-") -> - | P28: 국비 변경 내시액 반영 및 통계목 변경 - 자치단체경상보조금 ⇒ 자치단체자본보조 ※ 보건복지부 구강생활건강과 -4643(2014.10.28.)호 | T28: =IF($R28="도비","도비",IF(COUNT(FIND("국비/",$G28)),"국비",IF(COUNT(FIND("지특/",$G28)),"지특",IF(COUNT(FIND("기금/",$G28)),"기금",IF(COUNT(FIND("교부세/",$G28)),"특교",IF(COUNT(FIND("자체/",$G28)),"도비","")))))) -> 기금 | U28: 13650 | V28: =IF($T28="도비",SUM($I28:$J28),IF($R28="국도비","직접입력",SUM($I28:$J28)-$U28)) -> 0 | W28: =IF($R28="국도비","ok",IF(($I28+$J28)=($U28+$V28),"ok","검토")) -> ok | Y28: =$T28 -> 기금 | Z28: =IF($Y28<>"도비",IF($R28="국도비","직접입력",SUM($L28:$M28)),) -> 0 | AA28: =IF($Y28="도비",SUM($L28:$M28),IF($R28="국도비","직접입력",SUM($L28:$M28)-$Z28)) -> 0 | AB28: =IF($R28="국도비","ok",IF(($L28+$M28)=($Z28+$AA28),"ok","검토")) -> ok | AD28: {=IFERROR(IF($D28="","",INDEX(구분표!$I$2:$I$1001,MATCH(1,(구분표!$B$2:$B$1001='15년일출'!$B28)*(구분표!$C$2:$C$1001='15년일출'!$C28)*(구분표!$A$2:$A$1001='15년일출'!$D28),0))),"@@")} -> 1906
B29: =IFERROR(VLOOKUP('15년일출'!$D29,구분표!$A$2:$C$1001,2,FALSE),"") -> 보건복지위원회 | C29: =IFERROR(VLOOKUP('15년일출'!$D29,구분표!$A$2:$C$1001,3,FALSE),"") -> 보건복지국 | D29: 건강증진과 | E29: 본예산 | F29: 801 | G29: 혁신형 건강플랫폼 구축(기금/지원) -혁신형 건강플랫폼 구축 | H29: 229500 | I29: -31500 | K29: =SUM(H29+I29+J29) -> 198000 | N29: =SUM(H29+L29+M29) -> 229500 | O29: =IF(I29-L29<0,"동의필요","-") -> 동의필요 | P29: 국비 내시액 착오 반영분 정정 ※ 보건복지부 보건의료정책과- 4803(2014.10.14.)호 | T29: =IF($R29="도비","도비",IF(COUNT(FIND("국비/",$G29)),"국비",IF(COUNT(FIND("지특/",$G29)),"지특",IF(COUNT(FIND("기금/",$G29)),"기금",IF(COUNT(FIND("교부세/",$G29)),"특교",IF(COUNT(FIND("자체/",$G29)),"도비","")))))) -> 기금 | U29: -97500 | V29: 66000 | W29: =IF($R29="국도비","ok",IF(($I29+$J29)=($U29+$V29),"ok","검토")) -> ok | Y29: =$T29 -> 기금 | Z29: =IF($Y29<>"도비",IF($R29="국도비","직접입력",SUM($L29:$M29)),) -> 0 | AA29: =IF($Y29="도비",SUM($L29:$M29),IF($R29="국도비","직접입력",SUM($L29:$M29)-$Z29)) -> 0 | AB29: =IF($R29="국도비","ok",IF(($L29+$M29)=($Z29+$AA29),"ok","검토")) -> ok | AD29: {=IFERROR(IF($D29="","",INDEX(구분표!$I$2:$I$1001,MATCH(1,(구분표!$B$2:$B$1001='15년일출'!$B29)*(구분표!$C$2:$C$1001='15년일출'!$C29)*(구분표!$A$2:$A$1001='15년일출'!$D29),0))),"@@")} -> 1906
