Workbook

Sheet 구분표
A1: 실과명 조정 | B1: 위원회명 조정 | C1: 실국명 조정 | E1: 실국명 | F1: 실과명 | G1: 위원회명 | H1: 정렬순서 | I1: 정렬코드 | K1: 2014재원 | L1: 2015재원 | N1: 본예산 | O1: 2회추경
A2: =IF(COUNT(AND(FIND("북부소방재난본부",$E2),FIND("특수대응단",$F2))),"특수대응단(북부)",IF(COUNT(FIND("작물연구과",$F2)),"작물연구과",IF(COUNT(FIND("원예연구과",$F2)),"원예연구과",IF(COUNT(FIND("환경농업연구과",$F2)),"환경농업연구과",IF(COUNT(FIND("지원기획과",$F2)),"지원기획과",IF(COUNT(FIND("기술보급과",$F2)),"기술보급과",IF(COUNT(FIND("농촌자원과",$F2)),"농촌자원과",IF(COUNT(FIND("종자관리소",$F2)),"종자관리소",IF(COUNT(FIND("버섯연구소",$F2)),"버섯연구소",IF(COUNT(FIND("소득자원연구소",$F2)),"소득자원연구소",IF(COUNT(FIND("선인장다육식물연구소",$F2)),"선인장다육식물연구소",IF(COUNT(FIND("보건연구부",$F2)),"보건연구부",IF(COUNT(FIND("대기연구부",$F2)),"대기연구부",IF(COUNT(FIND("수질연구부",$F2)),"수질연구부",IF(COUNT(FIND("북부지원",$F2)),"북부지원",IF(COUNT(FIND("수원농산물검사소",$F2)),"수원농산물검사소",IF(COUNT(FIND("건설본부(관리과)",$F2)),"관리과",IF(COUNT(FIND("도로건설과",$F2)),"도로건설과",IF(COUNT(FIND("북부도로과",$F2)),"북부도로과",IF(COUNT(FIND("건축시설과",$F2)),"건축시설과",IF(COUNT(FIND("신청사건립추진단",$F2)),"신청사건립추진단",$F2))))))))))))))))))))) -> 의회사무처 | B2: =G2 -> 의회운영위원회 | C2: =IF(COUNT(FIND("경기도건설본부",$E2)),"건설본부",IF(COUNT(FIND("경기도농업기술원",$E2)),"농업기술원",IF(COUNT(FIND("경기도보건환경연구원",$E2)),"보건환경연구원",IF(COUNT(FIND("소방재난본부",$E2)),"재난안전본부",IF(COUNT(FIND("경기도소방학교",$E2)),"재난안전본부",IF(COUNT(FIND("경기도인재개발원",$E2)),"인재개발원",IF(COUNT(FIND("북부소방재난본부",$E2)),"재난안전본부",IF(COUNT(FIND("소방서",$E2)),"재난안전본부",$E2)))))))) -> 의회사무처 | E2: 의회사무처 | F2: 의회사무처 | G2: 의회운영위원회 | H2: 1 | I2: 0101 | K2: 도비 | L2: 도비 | N2: 본예산 | O2: 2회추경
A3: =IF(COUNT(AND(FIND("북부소방재난본부",$E3),FIND("특수대응단",$F3))),"특수대응단(북부)",IF(COUNT(FIND("작물연구과",$F3)),"작물연구과",IF(COUNT(FIND("원예연구과",$F3)),"원예연구과",IF(COUNT(FIND("환경농업연구과",$F3)),"환경농업연구과",IF(COUNT(FIND("지원기획과",$F3)),"지원기획과",IF(COUNT(FIND("기술보급과",$F3)),"기술보급과",IF(COUNT(FIND("농촌자원과",$F3)),"농촌자원과",IF(COUNT(FIND("종자관리소",$F3)),"종자관리소",IF(COUNT(FIND("버섯연구소",$F3)),"버섯연구소",IF(COUNT(FIND("소득자원연구소",$F3)),"소득자원연구소",IF(COUNT(FIND("선인장다육식물연구소",$F3)),"선인장다육식물연구소",IF(COUNT(FIND("보건연구부",$F3)),"보건연구부",IF(COUNT(FIND("대기연구부",$F3)),"대기연구부",IF(COUNT(FIND("수질연구부",$F3)),"수질연구부",IF(COUNT(FIND("북부지원",$F3)),"북부지원",IF(COUNT(FIND("수원농산물검사소",$F3)),"수원농산물검사소",IF(COUNT(FIND("건설본부(관리과)",$F3)),"관리과",IF(COUNT(FIND("도로건설과",$F3)),"도로건설과",IF(COUNT(FIND("북부도로과",$F3)),"북부도로과",IF(COUNT(FIND("건축시설과",$F3)),"건축시설과",IF(COUNT(FIND("신청사건립추진단",$F3)),"신청사건립추진단",$F3))))))))))))))))))))) -> 언론담당관 | B3: =G3 -> 의회운영위원회 | C3: =IF(COUNT(FIND("경기도건설본부",$E3)),"건설본부",IF(COUNT(FIND("경기도농업기술원",$E3)),"농업기술원",IF(COUNT(FIND("경기도보건환경연구원",$E3)),"보건환경연구원",IF(COUNT(FIND("소방재난본부",$E3)),"재난안전본부",IF(COUNT(FIND("경기도소방학교",$E3)),"재난안전본부",IF(COUNT(FIND("경기도인재개발원",$E3)),"인재개발원",IF(COUNT(FIND("북부소방재난본부",$E3)),"재난안전본부",IF(COUNT(FIND("소방서",$E3)),"재난안전본부",$E3)))))))) -> 대변인 | E3: 대변인 | F3: 언론담당관 | G3: 의회운영위원회 | H3: 2 | I3: 0201 | K3: 국비 | L3: 국비 | N3: 신규 | O3: 1회추경
A4: =IF(COUNT(AND(FIND("북부소방재난본부",$E4),FIND("특수대응단",$F4))),"특수대응단(북부)",IF(COUNT(FIND("작물연구과",$F4)),"작물연구과",IF(COUNT(FIND("원예연구과",$F4)),"원예연구과",IF(COUNT(FIND("환경농업연구과",$F4)),"환경농업연구과",IF(COUNT(FIND("지원기획과",$F4)),"지원기획과",IF(COUNT(FIND("기술보급과",$F4)),"기술보급과",IF(COUNT(FIND("농촌자원과",$F4)),"농촌자원과",IF(COUNT(FIND("종자관리소",$F4)),"종자관리소",IF(COUNT(FIND("버섯연구소",$F4)),"버섯연구소",IF(COUNT(FIND("소득자원연구소",$F4)),"소득자원연구소",IF(COUNT(FIND("선인장다육식물연구소",$F4)),"선인장다육식물연구소",IF(COUNT(FIND("보건연구부",$F4)),"보건연구부",IF(COUNT(FIND("대기연구부",$F4)),"대기연구부",IF(COUNT(FIND("수질연구부",$F4)),"수질연구부",IF(COUNT(FIND("북부지원",$F4)),"북부지원",IF(COUNT(FIND("수원농산물검사소",$F4)),"수원농산물검사소",IF(COUNT(FIND("건설본부(관리과)",$F4)),"관리과",IF(COUNT(FIND("도로건설과",$F4)),"도로건설과",IF(COUNT(FIND("북부도로과",$F4)),"북부도로과",IF(COUNT(FIND("건축시설과",$F4)),"건축시설과",IF(COUNT(FIND("신청사건립추진단",$F4)),"신청사건립추진단",$F4))))))))))))))))))))) -> 홍보담당관 | B4: =G4 -> 의회운영위원회 | C4: =IF(COUNT(FIND("경기도건설본부",$E4)),"건설본부",IF(COUNT(FIND("경기도농업기술원",$E4)),"농업기술원",IF(COUNT(FIND("경기도보건환경연구원",$E4)),"보건환경연구원",IF(COUNT(FIND("소방재난본부",$E4)),"재난안전본부",IF(COUNT(FIND("경기도소방학교",$E4)),"재난안전본부",IF(COUNT(FIND("경기도인재개발원",$E4)),"인재개발원",IF(COUNT(FIND("북부소방재난본부",$E4)),"재난안전본부",IF(COUNT(FIND("소방서",$E4)),"재난안전본부",$E4)))))))) -> 대변인 | E4: 대변인 | F4: 홍보담당관 | G4: 의회운영위원회 | H4: 3 | I4: 0202 | K4: 광특 | L4: 지특 | O4: 본예산
A5: =IF(COUNT(AND(FIND("북부소방재난본부",$E5),FIND("특수대응단",$F5))),"특수대응단(북부)",IF(COUNT(FIND("작물연구과",$F5)),"작물연구과",IF(COUNT(FIND("원예연구과",$F5)),"원예연구과",IF(COUNT(FIND("환경농업연구과",$F5)),"환경농업연구과",IF(COUNT(FIND("지원기획과",$F5)),"지원기획과",IF(COUNT(FIND("기술보급과",$F5)),"기술보급과",IF(COUNT(FIND("농촌자원과",$F5)),"농촌자원과",IF(COUNT(FIND("종자관리소",$F5)),"종자관리소",IF(COUNT(FIND("버섯연구소",$F5)),"버섯연구소",IF(COUNT(FIND("소득자원연구소",$F5)),"소득자원연구소",IF(COUNT(FIND("선인장다육식물연구소",$F5)),"선인장다육식물연구소",IF(COUNT(FIND("보건연구부",$F5)),"보건연구부",IF(COUNT(FIND("대기연구부",$F5)),"대기연구부",IF(COUNT(FIND("수질연구부",$F5)),"수질연구부",IF(COUNT(FIND("북부지원",$F5)),"북부지원",IF(COUNT(FIND("수원농산물검사소",$F5)),"수원농산물검사소",IF(COUNT(FIND("건설본부(관리과)",$F5)),"관리과",IF(COUNT(FIND("도로건설과",$F5)),"도로건설과",IF(COUNT(FIND("북부도로과",$F5)),"북부도로과",IF(COUNT(FIND("건축시설과",$F5)),"건축시설과",IF(COUNT(FIND("신청사건립추진단",$F5)),"신청사건립추진단",$F5))))))))))))))))))))) -> 소통담당관 | B5: =G5 -> 의회운영위원회 | C5: =IF(COUNT(FIND("경기도건설본부",$E5)),"건설본부",IF(COUNT(FIND("경기도농업기술원",$E5)),"농업기술원",IF(COUNT(FIND("경기도보건환경연구원",$E5)),"보건환경연구원",IF(COUNT(FIND("소방재난본부",$E5)),"재난안전본부",IF(COUNT(FIND("경기도소방학교",$E5)),"재난안전본부",IF(COUNT(FIND("경기도인재개발원",$E5)),"인재개발원",IF(COUNT(FIND("북부소방재난본부",$E5)),"재난안전본부",IF(COUNT(FIND("소방서",$E5)),"재난안전본부",$E5)))))))) -> 대변인 | E5: 대변인 | F5: 소통담당관 | G5: 의회운영위원회 | H5: 4 | I5: 0203 | K5: 기금 | L5: 기금 | O5: 신규
A6: =IF(COUNT(AND(FIND("북부소방재난본부",$E6),FIND("특수대응단",$F6))),"특수대응단(북부)",IF(COUNT(FIND("작물연구과",$F6)),"작물연구과",IF(COUNT(FIND("원예연구과",$F6)),"원예연구과",IF(COUNT(FIND("환경농업연구과",$F6)),"환경농업연구과",IF(COUNT(FIND("지원기획과",$F6)),"지원기획과",IF(COUNT(FIND("기술보급과",$F6)),"기술보급과",IF(COUNT(FIND("농촌자원과",$F6)),"농촌자원과",IF(COUNT(FIND("종자관리소",$F6)),"종자관리소",IF(COUNT(FIND("버섯연구소",$F6)),"버섯연구소",IF(COUNT(FIND("소득자원연구소",$F6)),"소득자원연구소",IF(COUNT(FIND("선인장다육식물연구소",$F6)),"선인장다육식물연구소",IF(COUNT(FIND("보건연구부",$F6)),"보건연구부",IF(COUNT(FIND("대기연구부",$F6)),"대기연구부",IF(COUNT(FIND("수질연구부",$F6)),"수질연구부",IF(COUNT(FIND("북부지원",$F6)),"북부지원",IF(COUNT(FIND("수원농산물검사소",$F6)),"수원농산물검사소",IF(COUNT(FIND("건설본부(관리과)",$F6)),"관리과",IF(COUNT(FIND("도로건설과",$F6)),"도로건설과",IF(COUNT(FIND("북부도로과",$F6)),"북부도로과",IF(COUNT(FIND("건축시설과",$F6)),"건축시설과",IF(COUNT(FIND("신청사건립추진단",$F6)),"신청사건립추진단",$F6))))))))))))))))))))) -> 대외협력담당관 | B6: =G6 -> 의회운영위원회 | C6: =IF(COUNT(FIND("경기도건설본부",$E6)),"건설본부",IF(COUNT(FIND("경기도농업기술원",$E6)),"농업기술원",IF(COUNT(FIND("경기도보건환경연구원",$E6)),"보건환경연구원",IF(COUNT(FIND("소방재난본부",$E6)),"재난안전본부",IF(COUNT(FIND("경기도소방학교",$E6)),"재난안전본부",IF(COUNT(FIND("경기도인재개발원",$E6)),"인재개발원",IF(COUNT(FIND("북부소방재난본부",$E6)),"재난안전본부",IF(COUNT(FIND("소방서",$E6)),"재난안전본부",$E6)))))))) -> 대외협력담당관 | E6: 대외협력담당관 | F6: 대외협력담당관 | G6: 의회운영위원회 | H6: 5 | I6: 0301 | K6: 분권 | L6: 특교
A7: =IF(COUNT(AND(FIND("북부소방재난본부",$E7),FIND("특수대응단",$F7))),"특수대응단(북부)",IF(COUNT(FIND("작물연구과",$F7)),"작물연구과",IF(COUNT(FIND("원예연구과",$F7)),"원예연구과",IF(COUNT(FIND("환경농업연구과",$F7)),"환경농업연구과",IF(COUNT(FIND("지원기획과",$F7)),"지원기획과",IF(COUNT(FIND("기술보급과",$F7)),"기술보급과",IF(COUNT(FIND("농촌자원과",$F7)),"농촌자원과",IF(COUNT(FIND("종자관리소",$F7)),"종자관리소",IF(COUNT(FIND("버섯연구소",$F7)),"버섯연구소",IF(COUNT(FIND("소득자원연구소",$F7)),"소득자원연구소",IF(COUNT(FIND("선인장다육식물연구소",$F7)),"선인장다육식물연구소",IF(COUNT(FIND("보건연구부",$F7)),"보건연구부",IF(COUNT(FIND("대기연구부",$F7)),"대기연구부",IF(COUNT(FIND("수질연구부",$F7)),"수질연구부",IF(COUNT(FIND("북부지원",$F7)),"북부지원",IF(COUNT(FIND("수원농산물검사소",$F7)),"수원농산물검사소",IF(COUNT(FIND("건설본부(관리과)",$F7)),"관리과",IF(COUNT(FIND("도로건설과",$F7)),"도로건설과",IF(COUNT(FIND("북부도로과",$F7)),"북부도로과",IF(COUNT(FIND("건축시설과",$F7)),"건축시설과",IF(COUNT(FIND("신청사건립추진단",$F7)),"신청사건립추진단",$F7))))))))))))))))))))) -> 서울사무소 | B7: =G7 -> 의회운영위원회 | C7: =IF(COUNT(FIND("경기도건설본부",$E7)),"건설본부",IF(COUNT(FIND("경기도농업기술원",$E7)),"농업기술원",IF(COUNT(FIND("경기도보건환경연구원",$E7)),"보건환경연구원",IF(COUNT(FIND("소방재난본부",$E7)),"재난안전본부",IF(COUNT(FIND("경기도소방학교",$E7)),"재난안전본부",IF(COUNT(FIND("경기도인재개발원",$E7)),"인재개발원",IF(COUNT(FIND("북부소방재난본부",$E7)),"재난안전본부",IF(COUNT(FIND("소방서",$E7)),"재난안전본부",$E7)))))))) -> 대외협력담당관 | E7: 대외협력담당관 | F7: 서울사무소 | G7: 의회운영위원회 | H7: 6 | I7: 0302 | K7: 특교
A8: =IF(COUNT(AND(FIND("북부소방재난본부",$E8),FIND("특수대응단",$F8))),"특수대응단(북부)",IF(COUNT(FIND("작물연구과",$F8)),"작물연구과",IF(COUNT(FIND("원예연구과",$F8)),"원예연구과",IF(COUNT(FIND("환경농업연구과",$F8)),"환경농업연구과",IF(COUNT(FIND("지원기획과",$F8)),"지원기획과",IF(COUNT(FIND("기술보급과",$F8)),"기술보급과",IF(COUNT(FIND("농촌자원과",$F8)),"농촌자원과",IF(COUNT(FIND("종자관리소",$F8)),"종자관리소",IF(COUNT(FIND("버섯연구소",$F8)),"버섯연구소",IF(COUNT(FIND("소득자원연구소",$F8)),"소득자원연구소",IF(COUNT(FIND("선인장다육식물연구소",$F8)),"선인장다육식물연구소",IF(COUNT(FIND("보건연구부",$F8)),"보건연구부",IF(COUNT(FIND("대기연구부",$F8)),"대기연구부",IF(COUNT(FIND("수질연구부",$F8)),"수질연구부",IF(COUNT(FIND("북부지원",$F8)),"북부지원",IF(COUNT(FIND("수원농산물검사소",$F8)),"수원농산물검사소",IF(COUNT(FIND("건설본부(관리과)",$F8)),"관리과",IF(COUNT(FIND("도로건설과",$F8)),"도로건설과",IF(COUNT(FIND("북부도로과",$F8)),"북부도로과",IF(COUNT(FIND("건축시설과",$F8)),"건축시설과",IF(COUNT(FIND("신청사건립추진단",$F8)),"신청사건립추진단",$F8))))))))))))))))))))) -> 감사총괄담당관 | B8: =G8 -> 기획재정위원회 | C8: =IF(COUNT(FIND("경기도건설본부",$E8)),"건설본부",IF(COUNT(FIND("경기도농업기술원",$E8)),"농업기술원",IF(COUNT(FIND("경기도보건환경연구원",$E8)),"보건환경연구원",IF(COUNT(FIND("소방재난본부",$E8)),"재난안전본부",IF(COUNT(FIND("경기도소방학교",$E8)),"재난안전본부",IF(COUNT(FIND("경기도인재개발원",$E8)),"인재개발원",IF(COUNT(FIND("북부소방재난본부",$E8)),"재난안전본부",IF(COUNT(FIND("소방서",$E8)),"재난안전본부",$E8)))))))) -> 감사관 | E8: 감사관 | F8: 감사총괄담당관 | G8: 기획재정위원회 | H8: 7 | I8: 0401
A9: =IF(COUNT(AND(FIND("북부소방재난본부",$E9),FIND("특수대응단",$F9))),"특수대응단(북부)",IF(COUNT(FIND("작물연구과",$F9)),"작물연구과",IF(COUNT(FIND("원예연구과",$F9)),"원예연구과",IF(COUNT(FIND("환경농업연구과",$F9)),"환경농업연구과",IF(COUNT(FIND("지원기획과",$F9)),"지원기획과",IF(COUNT(FIND("기술보급과",$F9)),"기술보급과",IF(COUNT(FIND("농촌자원과",$F9)),"농촌자원과",IF(COUNT(FIND("종자관리소",$F9)),"종자관리소",IF(COUNT(FIND("버섯연구소",$F9)),"버섯연구소",IF(COUNT(FIND("소득자원연구소",$F9)),"소득자원연구소",IF(COUNT(FIND("선인장다육식물연구소",$F9)),"선인장다육식물연구소",IF(COUNT(FIND("보건연구부",$F9)),"보건연구부",IF(COUNT(FIND("대기연구부",$F9)),"대기연구부",IF(COUNT(FIND("수질연구부",$F9)),"수질연구부",IF(COUNT(FIND("북부지원",$F9)),"북부지원",IF(COUNT(FIND("수원농산물검사소",$F9)),"수원농산물검사소",IF(COUNT(FIND("건설본부(관리과)",$F9)),"관리과",IF(COUNT(FIND("도로건설과",$F9)),"도로건설과",IF(COUNT(FIND("북부도로과",$F9)),"북부도로과",IF(COUNT(FIND("건축시설과",$F9)),"건축시설과",IF(COUNT(FIND("신청사건립추진단",$F9)),"신청사건립추진단",$F9))))))))))))))))))))) -> 조사담당관 | B9: =G9 -> 기획재정위원회 | C9: =IF(COUNT(FIND("경기도건설본부",$E9)),"건설본부",IF(COUNT(FIND("경기도농업기술원",$E9)),"농업기술원",IF(COUNT(FIND("경기도보건환경연구원",$E9)),"보건환경연구원",IF(COUNT(FIND("소방재난본부",$E9)),"재난안전본부",IF(COUNT(FIND("경기도소방학교",$E9)),"재난안전본부",IF(COUNT(FIND("경기도인재개발원",$E9)),"인재개발원",IF(COUNT(FIND("북부소방재난본부",$E9)),"재난안전본부",IF(COUNT(FIND("소방서",$E9)),"재난안전본부",$E9)))))))) -> 감사관 | E9: 감사관 | F9: 조사담당관 | G9: 기획재정위원회 | H9: 8 | I9: 0402
A10: =IF(COUNT(AND(FIND("북부소방재난본부",$E10),FIND("특수대응단",$F10))),"특수대응단(북부)",IF(COUNT(FIND("작물연구과",$F10)),"작물연구과",IF(COUNT(FIND("원예연구과",$F10)),"원예연구과",IF(COUNT(FIND("환경농업연구과",$F10)),"환경농업연구과",IF(COUNT(FIND("지원기획과",$F10)),"지원기획과",IF(COUNT(FIND("기술보급과",$F10)),"기술보급과",IF(COUNT(FIND("농촌자원과",$F10)),"농촌자원과",IF(COUNT(FIND("종자관리소",$F10)),"종자관리소",IF(COUNT(FIND("버섯연구소",$F10)),"버섯연구소",IF(COUNT(FIND("소득자원연구소",$F10)),"소득자원연구소",IF(COUNT(FIND("선인장다육식물연구소",$F10)),"선인장다육식물연구소",IF(COUNT(FIND("보건연구부",$F10)),"보건연구부",IF(COUNT(FIND("대기연구부",$F10)),"대기연구부",IF(COUNT(FIND("수질연구부",$F10)),"수질연구부",IF(COUNT(FIND("북부지원",$F10)),"북부지원",IF(COUNT(FIND("수원농산물검사소",$F10)),"수원농산물검사소",IF(COUNT(FIND("건설본부(관리과)",$F10)),"관리과",IF(COUNT(FIND("도로건설과",$F10)),"도로건설과",IF(COUNT(FIND("북부도로과",$F10)),"북부도로과",IF(COUNT(FIND("건축시설과",$F10)),"건축시설과",IF(COUNT(FIND("신청사건립추진단",$F10)),"신청사건립추진단",$F10))))))))))))))))))))) -> 감사담당관 | B10: =G10 -> 기획재정위원회 | C10: =IF(COUNT(FIND("경기도건설본부",$E10)),"건설본부",IF(COUNT(FIND("경기도농업기술원",$E10)),"농업기술원",IF(COUNT(FIND("경기도보건환경연구원",$E10)),"보건환경연구원",IF(COUNT(FIND("소방재난본부",$E10)),"재난안전본부",IF(COUNT(FIND("경기도소방학교",$E10)),"재난안전본부",IF(COUNT(FIND("경기도인재개발원",$E10)),"인재개발원",IF(COUNT(FIND("북부소방재난본부",$E10)),"재난안전본부",IF(COUNT(FIND("소방서",$E10)),"재난안전본부",$E10)))))))) -> 감사관 | E10: 감사관 | F10: 감사담당관 | G10: 기획재정위원회 | H10: 9 | I10: 0403
A11: =IF(COUNT(AND(FIND("북부소방재난본부",$E11),FIND("특수대응단",$F11))),"특수대응단(북부)",IF(COUNT(FIND("작물연구과",$F11)),"작물연구과",IF(COUNT(FIND("원예연구과",$F11)),"원예연구과",IF(COUNT(FIND("환경농업연구과",$F11)),"환경농업연구과",IF(COUNT(FIND("지원기획과",$F11)),"지원기획과",IF(COUNT(FIND("기술보급과",$F11)),"기술보급과",IF(COUNT(FIND("농촌자원과",$F11)),"농촌자원과",IF(COUNT(FIND("종자관리소",$F11)),"종자관리소",IF(COUNT(FIND("버섯연구소",$F11)),"버섯연구소",IF(COUNT(FIND("소득자원연구소",$F11)),"소득자원연구소",IF(COUNT(FIND("선인장다육식물연구소",$F11)),"선인장다육식물연구소",IF(COUNT(FIND("보건연구부",$F11)),"보건연구부",IF(COUNT(FIND("대기연구부",$F11)),"대기연구부",IF(COUNT(FIND("수질연구부",$F11)),"수질연구부",IF(COUNT(FIND("북부지원",$F11)),"북부지원",IF(COUNT(FIND("수원농산물검사소",$F11)),"수원농산물검사소",IF(COUNT(FIND("건설본부(관리과)",$F11)),"관리과",IF(COUNT(FIND("도로건설과",$F11)),"도로건설과",IF(COUNT(FIND("북부도로과",$F11)),"북부도로과",IF(COUNT(FIND("건축시설과",$F11)),"건축시설과",IF(COUNT(FIND("신청사건립추진단",$F11)),"신청사건립추진단",$F11))))))))))))))))))))) -> 계약심사담당관 | B11: =G11 -> 기획재정위원회 | C11: =IF(COUNT(FIND("경기도건설본부",$E11)),"건설본부",IF(COUNT(FIND("경기도농업기술원",$E11)),"농업기술원",IF(COUNT(FIND("경기도보건환경연구원",$E11)),"보건환경연구원",IF(COUNT(FIND("소방재난본부",$E11)),"재난안전본부",IF(COUNT(FIND("경기도소방학교",$E11)),"재난안전본부",IF(COUNT(FIND("경기도인재개발원",$E11)),"인재개발원",IF(COUNT(FIND("북부소방재난본부",$E11)),"재난안전본부",IF(COUNT(FIND("소방서",$E11)),"재난안전본부",$E11)))))))) -> 감사관 | E11: 감사관 | F11: 계약심사담당관 | G11: 기획재정위원회 | H11: 10 | I11: 0404
A12: =IF(COUNT(AND(FIND("북부소방재난본부",$E12),FIND("특수대응단",$F12))),"특수대응단(북부)",IF(COUNT(FIND("작물연구과",$F12)),"작물연구과",IF(COUNT(FIND("원예연구과",$F12)),"원예연구과",IF(COUNT(FIND("환경농업연구과",$F12)),"환경농업연구과",IF(COUNT(FIND("지원기획과",$F12)),"지원기획과",IF(COUNT(FIND("기술보급과",$F12)),"기술보급과",IF(COUNT(FIND("농촌자원과",$F12)),"농촌자원과",IF(COUNT(FIND("종자관리소",$F12)),"종자관리소",IF(COUNT(FIND("버섯연구소",$F12)),"버섯연구소",IF(COUNT(FIND("소득자원연구소",$F12)),"소득자원연구소",IF(COUNT(FIND("선인장다육식물연구소",$F12)),"선인장다육식물연구소",IF(COUNT(FIND("보건연구부",$F12)),"보건연구부",IF(COUNT(FIND("대기연구부",$F12)),"대기연구부",IF(COUNT(FIND("수질연구부",$F12)),"수질연구부",IF(COUNT(FIND("북부지원",$F12)),"북부지원",IF(COUNT(FIND("수원농산물검사소",$F12)),"수원농산물검사소",IF(COUNT(FIND("건설본부(관리과)",$F12)),"관리과",IF(COUNT(FIND("도로건설과",$F12)),"도로건설과",IF(COUNT(FIND("북부도로과",$F12)),"북부도로과",IF(COUNT(FIND("건축시설과",$F12)),"건축시설과",IF(COUNT(FIND("신청사건립추진단",$F12)),"신청사건립추진단",$F12))))))))))))))))))))) -> 기획담당관 | B12: =G12 -> 기획재정위원회 | C12: =IF(COUNT(FIND("경기도건설본부",$E12)),"건설본부",IF(COUNT(FIND("경기도농업기술원",$E12)),"농업기술원",IF(COUNT(FIND("경기도보건환경연구원",$E12)),"보건환경연구원",IF(COUNT(FIND("소방재난본부",$E12)),"재난안전본부",IF(COUNT(FIND("경기도소방학교",$E12)),"재난안전본부",IF(COUNT(FIND("경기도인재개발원",$E12)),"인재개발원",IF(COUNT(FIND("북부소방재난본부",$E12)),"재난안전본부",IF(COUNT(FIND("소방서",$E12)),"재난안전본부",$E12)))))))) -> 기획조정실 | E12: 기획조정실 | F12: 기획담당관 | G12: 기획재정위원회 | H12: 11 | I12: 0501
A13: =IF(COUNT(AND(FIND("북부소방재난본부",$E13),FIND("특수대응단",$F13))),"특수대응단(북부)",IF(COUNT(FIND("작물연구과",$F13)),"작물연구과",IF(COUNT(FIND("원예연구과",$F13)),"원예연구과",IF(COUNT(FIND("환경농업연구과",$F13)),"환경농업연구과",IF(COUNT(FIND("지원기획과",$F13)),"지원기획과",IF(COUNT(FIND("기술보급과",$F13)),"기술보급과",IF(COUNT(FIND("농촌자원과",$F13)),"농촌자원과",IF(COUNT(FIND("종자관리소",$F13)),"종자관리소",IF(COUNT(FIND("버섯연구소",$F13)),"버섯연구소",IF(COUNT(FIND("소득자원연구소",$F13)),"소득자원연구소",IF(COUNT(FIND("선인장다육식물연구소",$F13)),"선인장다육식물연구소",IF(COUNT(FIND("보건연구부",$F13)),"보건연구부",IF(COUNT(FIND("대기연구부",$F13)),"대기연구부",IF(COUNT(FIND("수질연구부",$F13)),"수질연구부",IF(COUNT(FIND("북부지원",$F13)),"북부지원",IF(COUNT(FIND("수원농산물검사소",$F13)),"수원농산물검사소",IF(COUNT(FIND("건설본부(관리과)",$F13)),"관리과",IF(COUNT(FIND("도로건설과",$F13)),"도로건설과",IF(COUNT(FIND("북부도로과",$F13)),"북부도로과",IF(COUNT(FIND("건축시설과",$F13)),"건축시설과",IF(COUNT(FIND("신청사건립추진단",$F13)),"신청사건립추진단",$F13))))))))))))))))))))) -> 미래전략담당관 | B13: =G13 -> 기획재정위원회 | C13: =IF(COUNT(FIND("경기도건설본부",$E13)),"건설본부",IF(COUNT(FIND("경기도농업기술원",$E13)),"농업기술원",IF(COUNT(FIND("경기도보건환경연구원",$E13)),"보건환경연구원",IF(COUNT(FIND("소방재난본부",$E13)),"재난안전본부",IF(COUNT(FIND("경기도소방학교",$E13)),"재난안전본부",IF(COUNT(FIND("경기도인재개발원",$E13)),"인재개발원",IF(COUNT(FIND("북부소방재난본부",$E13)),"재난안전본부",IF(COUNT(FIND("소방서",$E13)),"재난안전본부",$E13)))))))) -> 기획조정실 | E13: 기획조정실 | F13: 미래전략담당관 | G13: 기획재정위원회 | H13: 12 | I13: 0502
A14: =IF(COUNT(AND(FIND("북부소방재난본부",$E14),FIND("특수대응단",$F14))),"특수대응단(북부)",IF(COUNT(FIND("작물연구과",$F14)),"작물연구과",IF(COUNT(FIND("원예연구과",$F14)),"원예연구과",IF(COUNT(FIND("환경농업연구과",$F14)),"환경농업연구과",IF(COUNT(FIND("지원기획과",$F14)),"지원기획과",IF(COUNT(FIND("기술보급과",$F14)),"기술보급과",IF(COUNT(FIND("농촌자원과",$F14)),"농촌자원과",IF(COUNT(FIND("종자관리소",$F14)),"종자관리소",IF(COUNT(FIND("버섯연구소",$F14)),"버섯연구소",IF(COUNT(FIND("소득자원연구소",$F14)),"소득자원연구소",IF(COUNT(FIND("선인장다육식물연구소",$F14)),"선인장다육식물연구소",IF(COUNT(FIND("보건연구부",$F14)),"보건연구부",IF(COUNT(FIND("대기연구부",$F14)),"대기연구부",IF(COUNT(FIND("수질연구부",$F14)),"수질연구부",IF(COUNT(FIND("북부지원",$F14)),"북부지원",IF(COUNT(FIND("수원농산물검사소",$F14)),"수원농산물검사소",IF(COUNT(FIND("건설본부(관리과)",$F14)),"관리과",IF(COUNT(FIND("도로건설과",$F14)),"도로건설과",IF(COUNT(FIND("북부도로과",$F14)),"북부도로과",IF(COUNT(FIND("건축시설과",$F14)),"건축시설과",IF(COUNT(FIND("신청사건립추진단",$F14)),"신청사건립추진단",$F14))))))))))))))))))))) -> 예산담당관 | B14: =G14 -> 기획재정위원회 | C14: =IF(COUNT(FIND("경기도건설본부",$E14)),"건설본부",IF(COUNT(FIND("경기도농업기술원",$E14)),"농업기술원",IF(COUNT(FIND("경기도보건환경연구원",$E14)),"보건환경연구원",IF(COUNT(FIND("소방재난본부",$E14)),"재난안전본부",IF(COUNT(FIND("경기도소방학교",$E14)),"재난안전본부",IF(COUNT(FIND("경기도인재개발원",$E14)),"인재개발원",IF(COUNT(FIND("북부소방재난본부",$E14)),"재난안전본부",IF(COUNT(FIND("소방서",$E14)),"재난안전본부",$E14)))))))) -> 기획조정실 | E14: 기획조정실 | F14: 예산담당관 | G14: 기획재정위원회 | H14: 13 | I14: 0503
A15: =IF(COUNT(AND(FIND("북부소방재난본부",$E15),FIND("특수대응단",$F15))),"특수대응단(북부)",IF(COUNT(FIND("작물연구과",$F15)),"작물연구과",IF(COUNT(FIND("원예연구과",$F15)),"원예연구과",IF(COUNT(FIND("환경농업연구과",$F15)),"환경농업연구과",IF(COUNT(FIND("지원기획과",$F15)),"지원기획과",IF(COUNT(FIND("기술보급과",$F15)),"기술보급과",IF(COUNT(FIND("농촌자원과",$F15)),"농촌자원과",IF(COUNT(FIND("종자관리소",$F15)),"종자관리소",IF(COUNT(FIND("버섯연구소",$F15)),"버섯연구소",IF(COUNT(FIND("소득자원연구소",$F15)),"소득자원연구소",IF(COUNT(FIND("선인장다육식물연구소",$F15)),"선인장다육식물연구소",IF(COUNT(FIND("보건연구부",$F15)),"보건연구부",IF(COUNT(FIND("대기연구부",$F15)),"대기연구부",IF(COUNT(FIND("수질연구부",$F15)),"수질연구부",IF(COUNT(FIND("북부지원",$F15)),"북부지원",IF(COUNT(FIND("수원농산물검사소",$F15)),"수원농산물검사소",IF(COUNT(FIND("건설본부(관리과)",$F15)),"관리과",IF(COUNT(FIND("도로건설과",$F15)),"도로건설과",IF(COUNT(FIND("북부도로과",$F15)),"북부도로과",IF(COUNT(FIND("건축시설과",$F15)),"건축시설과",IF(COUNT(FIND("신청사건립추진단",$F15)),"신청사건립추진단",$F15))))))))))))))))))))) -> 평가담당관 | B15: =G15 -> 기획재정위원회 | C15: =IF(COUNT(FIND("경기도건설본부",$E15)),"건설본부",IF(COUNT(FIND("경기도농업기술원",$E15)),"농업기술원",IF(COUNT(FIND("경기도보건환경연구원",$E15)),"보건환경연구원",IF(COUNT(FIND("소방재난본부",$E15)),"재난안전본부",IF(COUNT(FIND("경기도소방학교",$E15)),"재난안전본부",IF(COUNT(FIND("경기도인재개발원",$E15)),"인재개발원",IF(COUNT(FIND("북부소방재난본부",$E15)),"재난안전본부",IF(COUNT(FIND("소방서",$E15)),"재난안전본부",$E15)))))))) -> 기획조정실 | E15: 기획조정실 | F15: 평가담당관 | G15: 기획재정위원회 | H15: 14 | I15: 0504
A16: =IF(COUNT(AND(FIND("북부소방재난본부",$E16),FIND("특수대응단",$F16))),"특수대응단(북부)",IF(COUNT(FIND("작물연구과",$F16)),"작물연구과",IF(COUNT(FIND("원예연구과",$F16)),"원예연구과",IF(COUNT(FIND("환경농업연구과",$F16)),"환경농업연구과",IF(COUNT(FIND("지원기획과",$F16)),"지원기획과",IF(COUNT(FIND("기술보급과",$F16)),"기술보급과",IF(COUNT(FIND("농촌자원과",$F16)),"농촌자원과",IF(COUNT(FIND("종자관리소",$F16)),"종자관리소",IF(COUNT(FIND("버섯연구소",$F16)),"버섯연구소",IF(COUNT(FIND("소득자원연구소",$F16)),"소득자원연구소",IF(COUNT(FIND("선인장다육식물연구소",$F16)),"선인장다육식물연구소",IF(COUNT(FIND("보건연구부",$F16)),"보건연구부",IF(COUNT(FIND("대기연구부",$F16)),"대기연구부",IF(COUNT(FIND("수질연구부",$F16)),"수질연구부",IF(COUNT(FIND("북부지원",$F16)),"북부지원",IF(COUNT(FIND("수원농산물검사소",$F16)),"수원농산물검사소",IF(COUNT(FIND("건설본부(관리과)",$F16)),"관리과",IF(COUNT(FIND("도로건설과",$F16)),"도로건설과",IF(COUNT(FIND("북부도로과",$F16)),"북부도로과",IF(COUNT(FIND("건축시설과",$F16)),"건축시설과",IF(COUNT(FIND("신청사건립추진단",$F16)),"신청사건립추진단",$F16))))))))))))))))))))) -> 법무담당관 | B16: =G16 -> 기획재정위원회 | C16: =IF(COUNT(FIND("경기도건설본부",$E16)),"건설본부",IF(COUNT(FIND("경기도농업기술원",$E16)),"농업기술원",IF(COUNT(FIND("경기도보건환경연구원",$E16)),"보건환경연구원",IF(COUNT(FIND("소방재난본부",$E16)),"재난안전본부",IF(COUNT(FIND("경기도소방학교",$E16)),"재난안전본부",IF(COUNT(FIND("경기도인재개발원",$E16)),"인재개발원",IF(COUNT(FIND("북부소방재난본부",$E16)),"재난안전본부",IF(COUNT(FIND("소방서",$E16)),"재난안전본부",$E16)))))))) -> 기획조정실 | E16: 기획조정실 | F16: 법무담당관 | G16: 기획재정위원회 | H16: 15 | I16: 0505
A17: =IF(COUNT(AND(FIND("북부소방재난본부",$E17),FIND("특수대응단",$F17))),"특수대응단(북부)",IF(COUNT(FIND("작물연구과",$F17)),"작물연구과",IF(COUNT(FIND("원예연구과",$F17)),"원예연구과",IF(COUNT(FIND("환경농업연구과",$F17)),"환경농업연구과",IF(COUNT(FIND("지원기획과",$F17)),"지원기획과",IF(COUNT(FIND("기술보급과",$F17)),"기술보급과",IF(COUNT(FIND("농촌자원과",$F17)),"농촌자원과",IF(COUNT(FIND("종자관리소",$F17)),"종자관리소",IF(COUNT(FIND("버섯연구소",$F17)),"버섯연구소",IF(COUNT(FIND("소득자원연구소",$F17)),"소득자원연구소",IF(COUNT(FIND("선인장다육식물연구소",$F17)),"선인장다육식물연구소",IF(COUNT(FIND("보건연구부",$F17)),"보건연구부",IF(COUNT(FIND("대기연구부",$F17)),"대기연구부",IF(COUNT(FIND("수질연구부",$F17)),"수질연구부",IF(COUNT(FIND("북부지원",$F17)),"북부지원",IF(COUNT(FIND("수원농산물검사소",$F17)),"수원농산물검사소",IF(COUNT(FIND("건설본부(관리과)",$F17)),"관리과",IF(COUNT(FIND("도로건설과",$F17)),"도로건설과",IF(COUNT(FIND("북부도로과",$F17)),"북부도로과",IF(COUNT(FIND("건축시설과",$F17)),"건축시설과",IF(COUNT(FIND("신청사건립추진단",$F17)),"신청사건립추진단",$F17))))))))))))))))))))) -> 규제개혁추진단 | B17: =G17 -> 기획재정위원회 | C17: =IF(COUNT(FIND("경기도건설본부",$E17)),"건설본부",IF(COUNT(FIND("경기도농업기술원",$E17)),"농업기술원",IF(COUNT(FIND("경기도보건환경연구원",$E17)),"보건환경연구원",IF(COUNT(FIND("소방재난본부",$E17)),"재난안전본부",IF(COUNT(FIND("경기도소방학교",$E17)),"재난안전본부",IF(COUNT(FIND("경기도인재개발원",$E17)),"인재개발원",IF(COUNT(FIND("북부소방재난본부",$E17)),"재난안전본부",IF(COUNT(FIND("소방서",$E17)),"재난안전본부",$E17)))))))) -> 기획조정실 | E17: 기획조정실 | F17: 규제개혁추진단 | G17: 기획재정위원회 | H17: 16 | I17: 0506
A18: =IF(COUNT(AND(FIND("북부소방재난본부",$E18),FIND("특수대응단",$F18))),"특수대응단(북부)",IF(COUNT(FIND("작물연구과",$F18)),"작물연구과",IF(COUNT(FIND("원예연구과",$F18)),"원예연구과",IF(COUNT(FIND("환경농업연구과",$F18)),"환경농업연구과",IF(COUNT(FIND("지원기획과",$F18)),"지원기획과",IF(COUNT(FIND("기술보급과",$F18)),"기술보급과",IF(COUNT(FIND("농촌자원과",$F18)),"농촌자원과",IF(COUNT(FIND("종자관리소",$F18)),"종자관리소",IF(COUNT(FIND("버섯연구소",$F18)),"버섯연구소",IF(COUNT(FIND("소득자원연구소",$F18)),"소득자원연구소",IF(COUNT(FIND("선인장다육식물연구소",$F18)),"선인장다육식물연구소",IF(COUNT(FIND("보건연구부",$F18)),"보건연구부",IF(COUNT(FIND("대기연구부",$F18)),"대기연구부",IF(COUNT(FIND("수질연구부",$F18)),"수질연구부",IF(COUNT(FIND("북부지원",$F18)),"북부지원",IF(COUNT(FIND("수원농산물검사소",$F18)),"수원농산물검사소",IF(COUNT(FIND("건설본부(관리과)",$F18)),"관리과",IF(COUNT(FIND("도로건설과",$F18)),"도로건설과",IF(COUNT(FIND("북부도로과",$F18)),"북부도로과",IF(COUNT(FIND("건축시설과",$F18)),"건축시설과",IF(COUNT(FIND("신청사건립추진단",$F18)),"신청사건립추진단",$F18))))))))))))))))))))) -> 따복공동체지원단 | B18: =G18 -> 기획재정위원회 | C18: =IF(COUNT(FIND("경기도건설본부",$E18)),"건설본부",IF(COUNT(FIND("경기도농업기술원",$E18)),"농업기술원",IF(COUNT(FIND("경기도보건환경연구원",$E18)),"보건환경연구원",IF(COUNT(FIND("소방재난본부",$E18)),"재난안전본부",IF(COUNT(FIND("경기도소방학교",$E18)),"재난안전본부",IF(COUNT(FIND("경기도인재개발원",$E18)),"인재개발원",IF(COUNT(FIND("북부소방재난본부",$E18)),"재난안전본부",IF(COUNT(FIND("소방서",$E18)),"재난안전본부",$E18)))))))) -> 기획조정실 | E18: 기획조정실 | F18: 따복공동체지원단 | G18: 기획재정위원회 | H18: 17 | I18: 0507
A19: =IF(COUNT(AND(FIND("북부소방재난본부",$E19),FIND("특수대응단",$F19))),"특수대응단(북부)",IF(COUNT(FIND("작물연구과",$F19)),"작물연구과",IF(COUNT(FIND("원예연구과",$F19)),"원예연구과",IF(COUNT(FIND("환경농업연구과",$F19)),"환경농업연구과",IF(COUNT(FIND("지원기획과",$F19)),"지원기획과",IF(COUNT(FIND("기술보급과",$F19)),"기술보급과",IF(COUNT(FIND("농촌자원과",$F19)),"농촌자원과",IF(COUNT(FIND("종자관리소",$F19)),"종자관리소",IF(COUNT(FIND("버섯연구소",$F19)),"버섯연구소",IF(COUNT(FIND("소득자원연구소",$F19)),"소득자원연구소",IF(COUNT(FIND("선인장다육식물연구소",$F19)),"선인장다육식물연구소",IF(COUNT(FIND("보건연구부",$F19)),"보건연구부",IF(COUNT(FIND("대기연구부",$F19)),"대기연구부",IF(COUNT(FIND("수질연구부",$F19)),"수질연구부",IF(COUNT(FIND("북부지원",$F19)),"북부지원",IF(COUNT(FIND("수원농산물검사소",$F19)),"수원농산물검사소",IF(COUNT(FIND("건설본부(관리과)",$F19)),"관리과",IF(COUNT(FIND("도로건설과",$F19)),"도로건설과",IF(COUNT(FIND("북부도로과",$F19)),"북부도로과",IF(COUNT(FIND("건축시설과",$F19)),"건축시설과",IF(COUNT(FIND("신청사건립추진단",$F19)),"신청사건립추진단",$F19))))))))))))))))))))) -> 정보기획담당관 | B19: =G19 -> 기획재정위원회 | C19: =IF(COUNT(FIND("경기도건설본부",$E19)),"건설본부",IF(COUNT(FIND("경기도농업기술원",$E19)),"농업기술원",IF(COUNT(FIND("경기도보건환경연구원",$E19)),"보건환경연구원",IF(COUNT(FIND("소방재난본부",$E19)),"재난안전본부",IF(COUNT(FIND("경기도소방학교",$E19)),"재난안전본부",IF(COUNT(FIND("경기도인재개발원",$E19)),"인재개발원",IF(COUNT(FIND("북부소방재난본부",$E19)),"재난안전본부",IF(COUNT(FIND("소방서",$E19)),"재난안전본부",$E19)))))))) -> 기획조정실 | E19: 기획조정실 | F19: 정보기획담당관 | G19: 기획재정위원회 | H19: 18 | I19: 0508
... A174: =IF(COUNT(AND(FIND("북부소방재난본부",$E174),FIND("특수대응단",$F174))),"특수대응단(북부)",IF(COUNT(FIND("작물연구과",$F174)),"작물연구과",IF(COUNT(FIND("원예연구과",$F174)),"원예연구과",IF(COUNT(FIND("환경농업연구과",$F174)),"환경농업연구과",IF(COUNT(FIND("지원기획과",$F174)),"지원기획과",IF(COUNT(FIND("기술보급과",$F174)),"기술보급과",IF(COUNT(FIND("농촌자원과",$F174)),"농촌자원과",IF(COUNT(FIND("종자관리소",$F174)),"종자관리소",IF(COUNT(FIND("버섯연구소",$F174)),"버섯연구소",IF(COUNT(FIND("소득자원연구소",$F174)),"소득자원연구소",IF(COUNT(FIND("선인장다육식물연구소",$F174)),"선인장다육식물연구소",IF(COUNT(FIND("보건연구부",$F174)),"보건연구부",IF(COUNT(FIND("대기연구부",$F174)),"대기연구부",IF(COUNT(FIND("수질연구부",$F174)),"수질연구부",IF(COUNT(FIND("북부지원",$F174)),"북부지원",IF(COUNT(FIND("수원농산물검사소",$F174)),"수원농산물검사소",IF(COUNT(FIND("건설본부(관리과)",$F174)),"관리과",IF(COUNT(FIND("도로건설과",$F174)),"도로건설과",IF(COUNT(FIND("북부도로과",$F174)),"북부도로과",IF(COUNT(FIND("건축시설과",$F174)),"건축시설과",IF(COUNT(FIND("신청사건립추진단",$F174)),"신청사건립추진단",$F174))))))))))))))))))))) -> 수질연구부 | B174: =G174 -> 도시환경위원회 | C174: =IF(COUNT(FIND("경기도건설본부",$E174)),"건설본부",IF(COUNT(FIND("경기도농업기술원",$E174)),"농업기술원",IF(COUNT(FIND("경기도보건환경연구원",$E174)),"보건환경연구원",IF(COUNT(FIND("소방재난본부",$E174)),"재난안전본부",IF(COUNT(FIND("경기도소방학교",$E174)),"재난안전본부",IF(COUNT(FIND("경기도인재개발원",$E174)),"인재개발원",IF(COUNT(FIND("북부소방재난본부",$E174)),"재난안전본부",IF(COUNT(FIND("소방서",$E174)),"재난안전본부",$E174)))))))) -> 보건환경연구원 | E174: 경기도보건환경연구원 | F174: 보건환경연구원(수질연구부) | G174: 도시환경위원회 | H174: 173 | I174: 2902
A175: =IF(COUNT(AND(FIND("북부소방재난본부",$E175),FIND("특수대응단",$F175))),"특수대응단(북부)",IF(COUNT(FIND("작물연구과",$F175)),"작물연구과",IF(COUNT(FIND("원예연구과",$F175)),"원예연구과",IF(COUNT(FIND("환경농업연구과",$F175)),"환경농업연구과",IF(COUNT(FIND("지원기획과",$F175)),"지원기획과",IF(COUNT(FIND("기술보급과",$F175)),"기술보급과",IF(COUNT(FIND("농촌자원과",$F175)),"농촌자원과",IF(COUNT(FIND("종자관리소",$F175)),"종자관리소",IF(COUNT(FIND("버섯연구소",$F175)),"버섯연구소",IF(COUNT(FIND("소득자원연구소",$F175)),"소득자원연구소",IF(COUNT(FIND("선인장다육식물연구소",$F175)),"선인장다육식물연구소",IF(COUNT(FIND("보건연구부",$F175)),"보건연구부",IF(COUNT(FIND("대기연구부",$F175)),"대기연구부",IF(COUNT(FIND("수질연구부",$F175)),"수질연구부",IF(COUNT(FIND("북부지원",$F175)),"북부지원",IF(COUNT(FIND("수원농산물검사소",$F175)),"수원농산물검사소",IF(COUNT(FIND("건설본부(관리과)",$F175)),"관리과",IF(COUNT(FIND("도로건설과",$F175)),"도로건설과",IF(COUNT(FIND("북부도로과",$F175)),"북부도로과",IF(COUNT(FIND("건축시설과",$F175)),"건축시설과",IF(COUNT(FIND("신청사건립추진단",$F175)),"신청사건립추진단",$F175))))))))))))))))))))) -> 북부지원 | B175: =G175 -> 도시환경위원회 | C175: =IF(COUNT(FIND("경기도건설본부",$E175)),"건설본부",IF(COUNT(FIND("경기도농업기술원",$E175)),"농업기술원",IF(COUNT(FIND("경기도보건환경연구원",$E175)),"보건환경연구원",IF(COUNT(FIND("소방재난본부",$E175)),"재난안전본부",IF(COUNT(FIND("경기도소방학교",$E175)),"재난안전본부",IF(COUNT(FIND("경기도인재개발원",$E175)),"인재개발원",IF(COUNT(FIND("북부소방재난본부",$E175)),"재난안전본부",IF(COUNT(FIND("소방서",$E175)),"재난안전본부",$E175)))))))) -> 보건환경연구원 | E175: 경기도보건환경연구원 | F175: 보건환경연구원북부지원 | G175: 도시환경위원회 | H175: 187 | I175: 2903
A176: =IF(COUNT(AND(FIND("북부소방재난본부",$E176),FIND("특수대응단",$F176))),"특수대응단(북부)",IF(COUNT(FIND("작물연구과",$F176)),"작물연구과",IF(COUNT(FIND("원예연구과",$F176)),"원예연구과",IF(COUNT(FIND("환경농업연구과",$F176)),"환경농업연구과",IF(COUNT(FIND("지원기획과",$F176)),"지원기획과",IF(COUNT(FIND("기술보급과",$F176)),"기술보급과",IF(COUNT(FIND("농촌자원과",$F176)),"농촌자원과",IF(COUNT(FIND("종자관리소",$F176)),"종자관리소",IF(COUNT(FIND("버섯연구소",$F176)),"버섯연구소",IF(COUNT(FIND("소득자원연구소",$F176)),"소득자원연구소",IF(COUNT(FIND("선인장다육식물연구소",$F176)),"선인장다육식물연구소",IF(COUNT(FIND("보건연구부",$F176)),"보건연구부",IF(COUNT(FIND("대기연구부",$F176)),"대기연구부",IF(COUNT(FIND("수질연구부",$F176)),"수질연구부",IF(COUNT(FIND("북부지원",$F176)),"북부지원",IF(COUNT(FIND("수원농산물검사소",$F176)),"수원농산물검사소",IF(COUNT(FIND("건설본부(관리과)",$F176)),"관리과",IF(COUNT(FIND("도로건설과",$F176)),"도로건설과",IF(COUNT(FIND("북부도로과",$F176)),"북부도로과",IF(COUNT(FIND("건축시설과",$F176)),"건축시설과",IF(COUNT(FIND("신청사건립추진단",$F176)),"신청사건립추진단",$F176))))))))))))))))))))) -> 수자원본부 | B176: =G176 -> 도시환경위원회 | C176: =IF(COUNT(FIND("경기도건설본부",$E176)),"건설본부",IF(COUNT(FIND("경기도농업기술원",$E176)),"농업기술원",IF(COUNT(FIND("경기도보건환경연구원",$E176)),"보건환경연구원",IF(COUNT(FIND("소방재난본부",$E176)),"재난안전본부",IF(COUNT(FIND("경기도소방학교",$E176)),"재난안전본부",IF(COUNT(FIND("경기도인재개발원",$E176)),"인재개발원",IF(COUNT(FIND("북부소방재난본부",$E176)),"재난안전본부",IF(COUNT(FIND("소방서",$E176)),"재난안전본부",$E176)))))))) -> 수자원본부 | E176: 수자원본부 | F176: 수자원본부 | G176: 도시환경위원회 | H176: 174 | I176: 3001
A177: =IF(COUNT(AND(FIND("북부소방재난본부",$E177),FIND("특수대응단",$F177))),"특수대응단(북부)",IF(COUNT(FIND("작물연구과",$F177)),"작물연구과",IF(COUNT(FIND("원예연구과",$F177)),"원예연구과",IF(COUNT(FIND("환경농업연구과",$F177)),"환경농업연구과",IF(COUNT(FIND("지원기획과",$F177)),"지원기획과",IF(COUNT(FIND("기술보급과",$F177)),"기술보급과",IF(COUNT(FIND("농촌자원과",$F177)),"농촌자원과",IF(COUNT(FIND("종자관리소",$F177)),"종자관리소",IF(COUNT(FIND("버섯연구소",$F177)),"버섯연구소",IF(COUNT(FIND("소득자원연구소",$F177)),"소득자원연구소",IF(COUNT(FIND("선인장다육식물연구소",$F177)),"선인장다육식물연구소",IF(COUNT(FIND("보건연구부",$F177)),"보건연구부",IF(COUNT(FIND("대기연구부",$F177)),"대기연구부",IF(COUNT(FIND("수질연구부",$F177)),"수질연구부",IF(COUNT(FIND("북부지원",$F177)),"북부지원",IF(COUNT(FIND("수원농산물검사소",$F177)),"수원농산물검사소",IF(COUNT(FIND("건설본부(관리과)",$F177)),"관리과",IF(COUNT(FIND("도로건설과",$F177)),"도로건설과",IF(COUNT(FIND("북부도로과",$F177)),"북부도로과",IF(COUNT(FIND("건축시설과",$F177)),"건축시설과",IF(COUNT(FIND("신청사건립추진단",$F177)),"신청사건립추진단",$F177))))))))))))))))))))) -> 교육정책과 | B177: =G177 -> 여성가족교육협력위원회 | C177: =IF(COUNT(FIND("경기도건설본부",$E177)),"건설본부",IF(COUNT(FIND("경기도농업기술원",$E177)),"농업기술원",IF(COUNT(FIND("경기도보건환경연구원",$E177)),"보건환경연구원",IF(COUNT(FIND("소방재난본부",$E177)),"재난안전본부",IF(COUNT(FIND("경기도소방학교",$E177)),"재난안전본부",IF(COUNT(FIND("경기도인재개발원",$E177)),"인재개발원",IF(COUNT(FIND("북부소방재난본부",$E177)),"재난안전본부",IF(COUNT(FIND("소방서",$E177)),"재난안전본부",$E177)))))))) -> 교육협력국 | E177: 교육협력국 | F177: 교육정책과 | G177: 여성가족교육협력위원회 | H177: 175 | I177: 3101
A178: =IF(COUNT(AND(FIND("북부소방재난본부",$E178),FIND("특수대응단",$F178))),"특수대응단(북부)",IF(COUNT(FIND("작물연구과",$F178)),"작물연구과",IF(COUNT(FIND("원예연구과",$F178)),"원예연구과",IF(COUNT(FIND("환경농업연구과",$F178)),"환경농업연구과",IF(COUNT(FIND("지원기획과",$F178)),"지원기획과",IF(COUNT(FIND("기술보급과",$F178)),"기술보급과",IF(COUNT(FIND("농촌자원과",$F178)),"농촌자원과",IF(COUNT(FIND("종자관리소",$F178)),"종자관리소",IF(COUNT(FIND("버섯연구소",$F178)),"버섯연구소",IF(COUNT(FIND("소득자원연구소",$F178)),"소득자원연구소",IF(COUNT(FIND("선인장다육식물연구소",$F178)),"선인장다육식물연구소",IF(COUNT(FIND("보건연구부",$F178)),"보건연구부",IF(COUNT(FIND("대기연구부",$F178)),"대기연구부",IF(COUNT(FIND("수질연구부",$F178)),"수질연구부",IF(COUNT(FIND("북부지원",$F178)),"북부지원",IF(COUNT(FIND("수원농산물검사소",$F178)),"수원농산물검사소",IF(COUNT(FIND("건설본부(관리과)",$F178)),"관리과",IF(COUNT(FIND("도로건설과",$F178)),"도로건설과",IF(COUNT(FIND("북부도로과",$F178)),"북부도로과",IF(COUNT(FIND("건축시설과",$F178)),"건축시설과",IF(COUNT(FIND("신청사건립추진단",$F178)),"신청사건립추진단",$F178))))))))))))))))))))) -> 교육협력과 | B178: =G178 -> 여성가족교육협력위원회 | C178: =IF(COUNT(FIND("경기도건설본부",$E178)),"건설본부",IF(COUNT(FIND("경기도농업기술원",$E178)),"농업기술원",IF(COUNT(FIND("경기도보건환경연구원",$E178)),"보건환경연구원",IF(COUNT(FIND("소방재난본부",$E178)),"재난안전본부",IF(COUNT(FIND("경기도소방학교",$E178)),"재난안전본부",IF(COUNT(FIND("경기도인재개발원",$E178)),"인재개발원",IF(COUNT(FIND("북부소방재난본부",$E178)),"재난안전본부",IF(COUNT(FIND("소방서",$E178)),"재난안전본부",$E178)))))))) -> 교육협력국 | E178: 교육협력국 | F178: 교육협력과 | G178: 여성가족교육협력위원회 | H178: 176 | I178: 3102
A179: =IF(COUNT(AND(FIND("북부소방재난본부",$E179),FIND("특수대응단",$F179))),"특수대응단(북부)",IF(COUNT(FIND("작물연구과",$F179)),"작물연구과",IF(COUNT(FIND("원예연구과",$F179)),"원예연구과",IF(COUNT(FIND("환경농업연구과",$F179)),"환경농업연구과",IF(COUNT(FIND("지원기획과",$F179)),"지원기획과",IF(COUNT(FIND("기술보급과",$F179)),"기술보급과",IF(COUNT(FIND("농촌자원과",$F179)),"농촌자원과",IF(COUNT(FIND("종자관리소",$F179)),"종자관리소",IF(COUNT(FIND("버섯연구소",$F179)),"버섯연구소",IF(COUNT(FIND("소득자원연구소",$F179)),"소득자원연구소",IF(COUNT(FIND("선인장다육식물연구소",$F179)),"선인장다육식물연구소",IF(COUNT(FIND("보건연구부",$F179)),"보건연구부",IF(COUNT(FIND("대기연구부",$F179)),"대기연구부",IF(COUNT(FIND("수질연구부",$F179)),"수질연구부",IF(COUNT(FIND("북부지원",$F179)),"북부지원",IF(COUNT(FIND("수원농산물검사소",$F179)),"수원농산물검사소",IF(COUNT(FIND("건설본부(관리과)",$F179)),"관리과",IF(COUNT(FIND("도로건설과",$F179)),"도로건설과",IF(COUNT(FIND("북부도로과",$F179)),"북부도로과",IF(COUNT(FIND("건축시설과",$F179)),"건축시설과",IF(COUNT(FIND("신청사건립추진단",$F179)),"신청사건립추진단",$F179))))))))))))))))))))) -> 도서관정책과 | B179: =G179 -> 여성가족교육협력위원회 | C179: =IF(COUNT(FIND("경기도건설본부",$E179)),"건설본부",IF(COUNT(FIND("경기도농업기술원",$E179)),"농업기술원",IF(COUNT(FIND("경기도보건환경연구원",$E179)),"보건환경연구원",IF(COUNT(FIND("소방재난본부",$E179)),"재난안전본부",IF(COUNT(FIND("경기도소방학교",$E179)),"재난안전본부",IF(COUNT(FIND("경기도인재개발원",$E179)),"인재개발원",IF(COUNT(FIND("북부소방재난본부",$E179)),"재난안전본부",IF(COUNT(FIND("소방서",$E179)),"재난안전본부",$E179)))))))) -> 교육협력국 | E179: 교육협력국 | F179: 도서관정책과 | G179: 여성가족교육협력위원회 | H179: 177 | I179: 3103
A180: =IF(COUNT(AND(FIND("북부소방재난본부",$E180),FIND("특수대응단",$F180))),"특수대응단(북부)",IF(COUNT(FIND("작물연구과",$F180)),"작물연구과",IF(COUNT(FIND("원예연구과",$F180)),"원예연구과",IF(COUNT(FIND("환경농업연구과",$F180)),"환경농업연구과",IF(COUNT(FIND("지원기획과",$F180)),"지원기획과",IF(COUNT(FIND("기술보급과",$F180)),"기술보급과",IF(COUNT(FIND("농촌자원과",$F180)),"농촌자원과",IF(COUNT(FIND("종자관리소",$F180)),"종자관리소",IF(COUNT(FIND("버섯연구소",$F180)),"버섯연구소",IF(COUNT(FIND("소득자원연구소",$F180)),"소득자원연구소",IF(COUNT(FIND("선인장다육식물연구소",$F180)),"선인장다육식물연구소",IF(COUNT(FIND("보건연구부",$F180)),"보건연구부",IF(COUNT(FIND("대기연구부",$F180)),"대기연구부",IF(COUNT(FIND("수질연구부",$F180)),"수질연구부",IF(COUNT(FIND("북부지원",$F180)),"북부지원",IF(COUNT(FIND("수원농산물검사소",$F180)),"수원농산물검사소",IF(COUNT(FIND("건설본부(관리과)",$F180)),"관리과",IF(COUNT(FIND("도로건설과",$F180)),"도로건설과",IF(COUNT(FIND("북부도로과",$F180)),"북부도로과",IF(COUNT(FIND("건축시설과",$F180)),"건축시설과",IF(COUNT(FIND("신청사건립추진단",$F180)),"신청사건립추진단",$F180))))))))))))))))))))) -> 여성가족과 | B180: =G180 -> 여성가족교육협력위원회 | C180: =IF(COUNT(FIND("경기도건설본부",$E180)),"건설본부",IF(COUNT(FIND("경기도농업기술원",$E180)),"농업기술원",IF(COUNT(FIND("경기도보건환경연구원",$E180)),"보건환경연구원",IF(COUNT(FIND("소방재난본부",$E180)),"재난안전본부",IF(COUNT(FIND("경기도소방학교",$E180)),"재난안전본부",IF(COUNT(FIND("경기도인재개발원",$E180)),"인재개발원",IF(COUNT(FIND("북부소방재난본부",$E180)),"재난안전본부",IF(COUNT(FIND("소방서",$E180)),"재난안전본부",$E180)))))))) -> 여성가족국 | E180: 여성가족국 | F180: 여성가족과 | G180: 여성가족교육협력위원회 | H180: 178 | I180: 3201
A181: =IF(COUNT(AND(FIND("북부소방재난본부",$E181),FIND("특수대응단",$F181))),"특수대응단(북부)",IF(COUNT(FIND("작물연구과",$F181)),"작물연구과",IF(COUNT(FIND("원예연구과",$F181)),"원예연구과",IF(COUNT(FIND("환경농업연구과",$F181)),"환경농업연구과",IF(COUNT(FIND("지원기획과",$F181)),"지원기획과",IF(COUNT(FIND("기술보급과",$F181)),"기술보급과",IF(COUNT(FIND("농촌자원과",$F181)),"농촌자원과",IF(COUNT(FIND("종자관리소",$F181)),"종자관리소",IF(COUNT(FIND("버섯연구소",$F181)),"버섯연구소",IF(COUNT(FIND("소득자원연구소",$F181)),"소득자원연구소",IF(COUNT(FIND("선인장다육식물연구소",$F181)),"선인장다육식물연구소",IF(COUNT(FIND("보건연구부",$F181)),"보건연구부",IF(COUNT(FIND("대기연구부",$F181)),"대기연구부",IF(COUNT(FIND("수질연구부",$F181)),"수질연구부",IF(COUNT(FIND("북부지원",$F181)),"북부지원",IF(COUNT(FIND("수원농산물검사소",$F181)),"수원농산물검사소",IF(COUNT(FIND("건설본부(관리과)",$F181)),"관리과",IF(COUNT(FIND("도로건설과",$F181)),"도로건설과",IF(COUNT(FIND("북부도로과",$F181)),"북부도로과",IF(COUNT(FIND("건축시설과",$F181)),"건축시설과",IF(COUNT(FIND("신청사건립추진단",$F181)),"신청사건립추진단",$F181))))))))))))))))))))) -> 보육정책과 | B181: =G181 -> 여성가족교육협력위원회 | C181: =IF(COUNT(FIND("경기도건설본부",$E181)),"건설본부",IF(COUNT(FIND("경기도농업기술원",$E181)),"농업기술원",IF(COUNT(FIND("경기도보건환경연구원",$E181)),"보건환경연구원",IF(COUNT(FIND("소방재난본부",$E181)),"재난안전본부",IF(COUNT(FIND("경기도소방학교",$E181)),"재난안전본부",IF(COUNT(FIND("경기도인재개발원",$E181)),"인재개발원",IF(COUNT(FIND("북부소방재난본부",$E181)),"재난안전본부",IF(COUNT(FIND("소방서",$E181)),"재난안전본부",$E181)))))))) -> 여성가족국 | E181: 여성가족국 | F181: 보육정책과 | G181: 여성가족교육협력위원회 | H181: 179 | I181: 3202
A182: =IF(COUNT(AND(FIND("북부소방재난본부",$E182),FIND("특수대응단",$F182))),"특수대응단(북부)",IF(COUNT(FIND("작물연구과",$F182)),"작물연구과",IF(COUNT(FIND("원예연구과",$F182)),"원예연구과",IF(COUNT(FIND("환경농업연구과",$F182)),"환경농업연구과",IF(COUNT(FIND("지원기획과",$F182)),"지원기획과",IF(COUNT(FIND("기술보급과",$F182)),"기술보급과",IF(COUNT(FIND("농촌자원과",$F182)),"농촌자원과",IF(COUNT(FIND("종자관리소",$F182)),"종자관리소",IF(COUNT(FIND("버섯연구소",$F182)),"버섯연구소",IF(COUNT(FIND("소득자원연구소",$F182)),"소득자원연구소",IF(COUNT(FIND("선인장다육식물연구소",$F182)),"선인장다육식물연구소",IF(COUNT(FIND("보건연구부",$F182)),"보건연구부",IF(COUNT(FIND("대기연구부",$F182)),"대기연구부",IF(COUNT(FIND("수질연구부",$F182)),"수질연구부",IF(COUNT(FIND("북부지원",$F182)),"북부지원",IF(COUNT(FIND("수원농산물검사소",$F182)),"수원농산물검사소",IF(COUNT(FIND("건설본부(관리과)",$F182)),"관리과",IF(COUNT(FIND("도로건설과",$F182)),"도로건설과",IF(COUNT(FIND("북부도로과",$F182)),"북부도로과",IF(COUNT(FIND("건축시설과",$F182)),"건축시설과",IF(COUNT(FIND("신청사건립추진단",$F182)),"신청사건립추진단",$F182))))))))))))))))))))) -> 아동청소년과 | B182: =G182 -> 여성가족교육협력위원회 | C182: =IF(COUNT(FIND("경기도건설본부",$E182)),"건설본부",IF(COUNT(FIND("경기도농업기술원",$E182)),"농업기술원",IF(COUNT(FIND("경기도보건환경연구원",$E182)),"보건환경연구원",IF(COUNT(FIND("소방재난본부",$E182)),"재난안전본부",IF(COUNT(FIND("경기도소방학교",$E182)),"재난안전본부",IF(COUNT(FIND("경기도인재개발원",$E182)),"인재개발원",IF(COUNT(FIND("북부소방재난본부",$E182)),"재난안전본부",IF(COUNT(FIND("소방서",$E182)),"재난안전본부",$E182)))))))) -> 여성가족국 | E182: 여성가족국 | F182: 아동청소년과 | G182: 여성가족교육협력위원회 | H182: 180 | I182: 3203
A183: =IF(COUNT(AND(FIND("북부소방재난본부",$E183),FIND("특수대응단",$F183))),"특수대응단(북부)",IF(COUNT(FIND("작물연구과",$F183)),"작물연구과",IF(COUNT(FIND("원예연구과",$F183)),"원예연구과",IF(COUNT(FIND("환경농업연구과",$F183)),"환경농업연구과",IF(COUNT(FIND("지원기획과",$F183)),"지원기획과",IF(COUNT(FIND("기술보급과",$F183)),"기술보급과",IF(COUNT(FIND("농촌자원과",$F183)),"농촌자원과",IF(COUNT(FIND("종자관리소",$F183)),"종자관리소",IF(COUNT(FIND("버섯연구소",$F183)),"버섯연구소",IF(COUNT(FIND("소득자원연구소",$F183)),"소득자원연구소",IF(COUNT(FIND("선인장다육식물연구소",$F183)),"선인장다육식물연구소",IF(COUNT(FIND("보건연구부",$F183)),"보건연구부",IF(COUNT(FIND("대기연구부",$F183)),"대기연구부",IF(COUNT(FIND("수질연구부",$F183)),"수질연구부",IF(COUNT(FIND("북부지원",$F183)),"북부지원",IF(COUNT(FIND("수원농산물검사소",$F183)),"수원농산물검사소",IF(COUNT(FIND("건설본부(관리과)",$F183)),"관리과",IF(COUNT(FIND("도로건설과",$F183)),"도로건설과",IF(COUNT(FIND("북부도로과",$F183)),"북부도로과",IF(COUNT(FIND("건축시설과",$F183)),"건축시설과",IF(COUNT(FIND("신청사건립추진단",$F183)),"신청사건립추진단",$F183))))))))))))))))))))) -> 다문화가족과 | B183: =G183 -> 여성가족교육협력위원회 | C183: =IF(COUNT(FIND("경기도건설본부",$E183)),"건설본부",IF(COUNT(FIND("경기도농업기술원",$E183)),"농업기술원",IF(COUNT(FIND("경기도보건환경연구원",$E183)),"보건환경연구원",IF(COUNT(FIND("소방재난본부",$E183)),"재난안전본부",IF(COUNT(FIND("경기도소방학교",$E183)),"재난안전본부",IF(COUNT(FIND("경기도인재개발원",$E183)),"인재개발원",IF(COUNT(FIND("북부소방재난본부",$E183)),"재난안전본부",IF(COUNT(FIND("소방서",$E183)),"재난안전본부",$E183)))))))) -> 여성가족국 | E183: 여성가족국 | F183: 다문화가족과 | G183: 여성가족교육협력위원회 | H183: 181 | I183: 3204
A184: =IF(COUNT(AND(FIND("북부소방재난본부",$E184),FIND("특수대응단",$F184))),"특수대응단(북부)",IF(COUNT(FIND("작물연구과",$F184)),"작물연구과",IF(COUNT(FIND("원예연구과",$F184)),"원예연구과",IF(COUNT(FIND("환경농업연구과",$F184)),"환경농업연구과",IF(COUNT(FIND("지원기획과",$F184)),"지원기획과",IF(COUNT(FIND("기술보급과",$F184)),"기술보급과",IF(COUNT(FIND("농촌자원과",$F184)),"농촌자원과",IF(COUNT(FIND("종자관리소",$F184)),"종자관리소",IF(COUNT(FIND("버섯연구소",$F184)),"버섯연구소",IF(COUNT(FIND("소득자원연구소",$F184)),"소득자원연구소",IF(COUNT(FIND("선인장다육식물연구소",$F184)),"선인장다육식물연구소",IF(COUNT(FIND("보건연구부",$F184)),"보건연구부",IF(COUNT(FIND("대기연구부",$F184)),"대기연구부",IF(COUNT(FIND("수질연구부",$F184)),"수질연구부",IF(COUNT(FIND("북부지원",$F184)),"북부지원",IF(COUNT(FIND("수원농산물검사소",$F184)),"수원농산물검사소",IF(COUNT(FIND("건설본부(관리과)",$F184)),"관리과",IF(COUNT(FIND("도로건설과",$F184)),"도로건설과",IF(COUNT(FIND("북부도로과",$F184)),"북부도로과",IF(COUNT(FIND("건축시설과",$F184)),"건축시설과",IF(COUNT(FIND("신청사건립추진단",$F184)),"신청사건립추진단",$F184))))))))))))))))))))) -> 여성비전센터 | B184: =G184 -> 여성가족교육협력위원회 | C184: =IF(COUNT(FIND("경기도건설본부",$E184)),"건설본부",IF(COUNT(FIND("경기도농업기술원",$E184)),"농업기술원",IF(COUNT(FIND("경기도보건환경연구원",$E184)),"보건환경연구원",IF(COUNT(FIND("소방재난본부",$E184)),"재난안전본부",IF(COUNT(FIND("경기도소방학교",$E184)),"재난안전본부",IF(COUNT(FIND("경기도인재개발원",$E184)),"인재개발원",IF(COUNT(FIND("북부소방재난본부",$E184)),"재난안전본부",IF(COUNT(FIND("소방서",$E184)),"재난안전본부",$E184)))))))) -> 여성가족국 | E184: 여성가족국 | F184: 여성비전센터 | G184: 여성가족교육협력위원회 | H184: 182 | I184: 3205
A185: =IF(COUNT(AND(FIND("북부소방재난본부",$E185),FIND("특수대응단",$F185))),"특수대응단(북부)",IF(COUNT(FIND("작물연구과",$F185)),"작물연구과",IF(COUNT(FIND("원예연구과",$F185)),"원예연구과",IF(COUNT(FIND("환경농업연구과",$F185)),"환경농업연구과",IF(COUNT(FIND("지원기획과",$F185)),"지원기획과",IF(COUNT(FIND("기술보급과",$F185)),"기술보급과",IF(COUNT(FIND("농촌자원과",$F185)),"농촌자원과",IF(COUNT(FIND("종자관리소",$F185)),"종자관리소",IF(COUNT(FIND("버섯연구소",$F185)),"버섯연구소",IF(COUNT(FIND("소득자원연구소",$F185)),"소득자원연구소",IF(COUNT(FIND("선인장다육식물연구소",$F185)),"선인장다육식물연구소",IF(COUNT(FIND("보건연구부",$F185)),"보건연구부",IF(COUNT(FIND("대기연구부",$F185)),"대기연구부",IF(COUNT(FIND("수질연구부",$F185)),"수질연구부",IF(COUNT(FIND("북부지원",$F185)),"북부지원",IF(COUNT(FIND("수원농산물검사소",$F185)),"수원농산물검사소",IF(COUNT(FIND("건설본부(관리과)",$F185)),"관리과",IF(COUNT(FIND("도로건설과",$F185)),"도로건설과",IF(COUNT(FIND("북부도로과",$F185)),"북부도로과",IF(COUNT(FIND("건축시설과",$F185)),"건축시설과",IF(COUNT(FIND("신청사건립추진단",$F185)),"신청사건립추진단",$F185))))))))))))))))))))) -> 여성능력개발센터 | B185: =G185 -> 여성가족교육협력위원회 | C185: =IF(COUNT(FIND("경기도건설본부",$E185)),"건설본부",IF(COUNT(FIND("경기도농업기술원",$E185)),"농업기술원",IF(COUNT(FIND("경기도보건환경연구원",$E185)),"보건환경연구원",IF(COUNT(FIND("소방재난본부",$E185)),"재난안전본부",IF(COUNT(FIND("경기도소방학교",$E185)),"재난안전본부",IF(COUNT(FIND("경기도인재개발원",$E185)),"인재개발원",IF(COUNT(FIND("북부소방재난본부",$E185)),"재난안전본부",IF(COUNT(FIND("소방서",$E185)),"재난안전본부",$E185)))))))) -> 여성가족국 | E185: 여성가족국 | F185: 여성능력개발센터 | G185: 여성가족교육협력위원회 | H185: 183 | I185: 3206
A186: =IF(COUNT(AND(FIND("북부소방재난본부",$E186),FIND("특수대응단",$F186))),"특수대응단(북부)",IF(COUNT(FIND("작물연구과",$F186)),"작물연구과",IF(COUNT(FIND("원예연구과",$F186)),"원예연구과",IF(COUNT(FIND("환경농업연구과",$F186)),"환경농업연구과",IF(COUNT(FIND("지원기획과",$F186)),"지원기획과",IF(COUNT(FIND("기술보급과",$F186)),"기술보급과",IF(COUNT(FIND("농촌자원과",$F186)),"농촌자원과",IF(COUNT(FIND("종자관리소",$F186)),"종자관리소",IF(COUNT(FIND("버섯연구소",$F186)),"버섯연구소",IF(COUNT(FIND("소득자원연구소",$F186)),"소득자원연구소",IF(COUNT(FIND("선인장다육식물연구소",$F186)),"선인장다육식물연구소",IF(COUNT(FIND("보건연구부",$F186)),"보건연구부",IF(COUNT(FIND("대기연구부",$F186)),"대기연구부",IF(COUNT(FIND("수질연구부",$F186)),"수질연구부",IF(COUNT(FIND("북부지원",$F186)),"북부지원",IF(COUNT(FIND("수원농산물검사소",$F186)),"수원농산물검사소",IF(COUNT(FIND("건설본부(관리과)",$F186)),"관리과",IF(COUNT(FIND("도로건설과",$F186)),"도로건설과",IF(COUNT(FIND("북부도로과",$F186)),"북부도로과",IF(COUNT(FIND("건축시설과",$F186)),"건축시설과",IF(COUNT(FIND("신청사건립추진단",$F186)),"신청사건립추진단",$F186))))))))))))))))))))) -> 가족여성담당관 | B186: =G186 -> 여성가족교육협력위원회 | C186: =IF(COUNT(FIND("경기도건설본부",$E186)),"건설본부",IF(COUNT(FIND("경기도농업기술원",$E186)),"농업기술원",IF(COUNT(FIND("경기도보건환경연구원",$E186)),"보건환경연구원",IF(COUNT(FIND("소방재난본부",$E186)),"재난안전본부",IF(COUNT(FIND("경기도소방학교",$E186)),"재난안전본부",IF(COUNT(FIND("경기도인재개발원",$E186)),"인재개발원",IF(COUNT(FIND("북부소방재난본부",$E186)),"재난안전본부",IF(COUNT(FIND("소방서",$E186)),"재난안전본부",$E186)))))))) -> 복지여성실 | E186: 복지여성실 | F186: 가족여성담당관 | G186: 여성가족교육협력위원회 | H186: 184 | I186: 3301
A187: =IF(COUNT(AND(FIND("북부소방재난본부",$E187),FIND("특수대응단",$F187))),"특수대응단(북부)",IF(COUNT(FIND("작물연구과",$F187)),"작물연구과",IF(COUNT(FIND("원예연구과",$F187)),"원예연구과",IF(COUNT(FIND("환경농업연구과",$F187)),"환경농업연구과",IF(COUNT(FIND("지원기획과",$F187)),"지원기획과",IF(COUNT(FIND("기술보급과",$F187)),"기술보급과",IF(COUNT(FIND("농촌자원과",$F187)),"농촌자원과",IF(COUNT(FIND("종자관리소",$F187)),"종자관리소",IF(COUNT(FIND("버섯연구소",$F187)),"버섯연구소",IF(COUNT(FIND("소득자원연구소",$F187)),"소득자원연구소",IF(COUNT(FIND("선인장다육식물연구소",$F187)),"선인장다육식물연구소",IF(COUNT(FIND("보건연구부",$F187)),"보건연구부",IF(COUNT(FIND("대기연구부",$F187)),"대기연구부",IF(COUNT(FIND("수질연구부",$F187)),"수질연구부",IF(COUNT(FIND("북부지원",$F187)),"북부지원",IF(COUNT(FIND("수원농산물검사소",$F187)),"수원농산물검사소",IF(COUNT(FIND("건설본부(관리과)",$F187)),"관리과",IF(COUNT(FIND("도로건설과",$F187)),"도로건설과",IF(COUNT(FIND("북부도로과",$F187)),"북부도로과",IF(COUNT(FIND("건축시설과",$F187)),"건축시설과",IF(COUNT(FIND("신청사건립추진단",$F187)),"신청사건립추진단",$F187))))))))))))))))))))) -> 보육청소년담당관 | B187: =G187 -> 여성가족교육협력위원회 | C187: =IF(COUNT(FIND("경기도건설본부",$E187)),"건설본부",IF(COUNT(FIND("경기도농업기술원",$E187)),"농업기술원",IF(COUNT(FIND("경기도보건환경연구원",$E187)),"보건환경연구원",IF(COUNT(FIND("소방재난본부",$E187)),"재난안전본부",IF(COUNT(FIND("경기도소방학교",$E187)),"재난안전본부",IF(COUNT(FIND("경기도인재개발원",$E187)),"인재개발원",IF(COUNT(FIND("북부소방재난본부",$E187)),"재난안전본부",IF(COUNT(FIND("소방서",$E187)),"재난안전본부",$E187)))))))) -> 복지여성실 | E187: 복지여성실 | F187: 보육청소년담당관 | G187: 여성가족교육협력위원회 | H187: 185 | I187: 3302
A188: =IF(COUNT(AND(FIND("북부소방재난본부",$E188),FIND("특수대응단",$F188))),"특수대응단(북부)",IF(COUNT(FIND("작물연구과",$F188)),"작물연구과",IF(COUNT(FIND("원예연구과",$F188)),"원예연구과",IF(COUNT(FIND("환경농업연구과",$F188)),"환경농업연구과",IF(COUNT(FIND("지원기획과",$F188)),"지원기획과",IF(COUNT(FIND("기술보급과",$F188)),"기술보급과",IF(COUNT(FIND("농촌자원과",$F188)),"농촌자원과",IF(COUNT(FIND("종자관리소",$F188)),"종자관리소",IF(COUNT(FIND("버섯연구소",$F188)),"버섯연구소",IF(COUNT(FIND("소득자원연구소",$F188)),"소득자원연구소",IF(COUNT(FIND("선인장다육식물연구소",$F188)),"선인장다육식물연구소",IF(COUNT(FIND("보건연구부",$F188)),"보건연구부",IF(COUNT(FIND("대기연구부",$F188)),"대기연구부",IF(COUNT(FIND("수질연구부",$F188)),"수질연구부",IF(COUNT(FIND("북부지원",$F188)),"북부지원",IF(COUNT(FIND("수원농산물검사소",$F188)),"수원농산물검사소",IF(COUNT(FIND("건설본부(관리과)",$F188)),"관리과",IF(COUNT(FIND("도로건설과",$F188)),"도로건설과",IF(COUNT(FIND("북부도로과",$F188)),"북부도로과",IF(COUNT(FIND("건축시설과",$F188)),"건축시설과",IF(COUNT(FIND("신청사건립추진단",$F188)),"신청사건립추진단",$F188))))))))))))))))))))) -> 북부여성비전센터 | B188: =G188 -> 여성가족교육협력위원회 | C188: =IF(COUNT(FIND("경기도건설본부",$E188)),"건설본부",IF(COUNT(FIND("경기도농업기술원",$E188)),"농업기술원",IF(COUNT(FIND("경기도보건환경연구원",$E188)),"보건환경연구원",IF(COUNT(FIND("소방재난본부",$E188)),"재난안전본부",IF(COUNT(FIND("경기도소방학교",$E188)),"재난안전본부",IF(COUNT(FIND("경기도인재개발원",$E188)),"인재개발원",IF(COUNT(FIND("북부소방재난본부",$E188)),"재난안전본부",IF(COUNT(FIND("소방서",$E188)),"재난안전본부",$E188)))))))) -> 복지여성실 | E188: 복지여성실 | F188: 북부여성비전센터 | G188: 여성가족교육협력위원회 | H188: 186 | I188: 3303

Sheet 15년검증
A1: 2015년 본예산 검증 | G1: 본예산 예비비 | I1: 124682800
K2: (단위 : 천원)
A3: 구 분 | B3: 상임위 | G3: 구 분 | H3: 예결위
B4: 세입 | C4: 검증 | D4: 세출 | E4: 검증 | H4: 세입 | I4: 검증 | J4: 세출 | K4: 검증
A5: 전체 총계 | B5: =SUM(B6,B9) -> 211919667 | C5: =IF(B5='2015년본예산(세입)'!U3,"OK","@@") -> OK | D5: =SUM(D6,D9) -> 221182140 | E5: =IF(D5='2015년본예산(세출)'!U3,"OK","@@") -> OK | G5: 전체 총계 | H5: =SUM(H6,H9) -> 0 | I5: =IF(H5='2015년본예산(세입)'!Z3,"OK","@@") -> OK | J5: =SUM(J6,J9) -> 0 | K5: =IF(J5='2015년본예산(세출)'!Z3,"OK","@@") -> OK
A6: 자체 총계 | B6: =SUM(B7:B8) -> 215545084 | C6: =IF(B6='2015년본예산(세입)'!U6,"OK","@@") -> OK | D6: =SUM(D7:D8) -> 224807557 | E6: =IF($D$6='2015년본예산(세출)'!$U$6,"OK","@@") -> OK | G6: 자체 총계 | H6: =SUM(H7:H8) -> 0 | I6: =IF(H6='2015년본예산(세입)'!Z6,"OK","@@") -> OK | J6: =SUM(J7:J8) -> 0 | K6: =IF($J6='2015년본예산(세출)'!$Z6,"OK","@@") -> OK
A7: 자체 도비 | B7: =SUMIFS('2015년본예산(세입)'!$U$7:$U$640,'2015년본예산(세입)'!$S$7:$S$640,"도비") -> 215545084 | D7: =SUMIFS('2015년본예산(세출)'!$U$7:$U$607,'2015년본예산(세출)'!$S$7:$S$607,"도비") -> 226590891 | G7: 자체 - 의존도비 | H7: =SUMIFS('2015년본예산(세입)'!$Z$7:$Z$640,'2015년본예산(세입)'!$X$7:$X$640,"도비") -> 0 | J7: =SUMIFS('2015년본예산(세출)'!$Z$7:$Z$607,'2015년본예산(세출)'!$X$7:$X$607,"도비") -> 0
A8: 의존 매칭 도비 | B8: =SUMIFS('2015년본예산(세입)'!$U$7:$U$640,'2015년본예산(세입)'!$S$7:$S$640,"국비")+SUMIFS('2015년본예산(세입)'!$U$7:$U$640,'2015년본예산(세입)'!$S$7:$S$640,"광특")+SUMIFS('2015년본예산(세입)'!$U$7:$U$640,'2015년본예산(세입)'!$S$7:$S$640,"기금")+SUMIFS('2015년본예산(세입)'!$U$7:$U$640,'2015년본예산(세입)'!$S$7:$S$640,"분권")+SUMIFS('2015년본예산(세입)'!$U$7:$U$640,'2015년본예산(세입)'!$S$7:$S$640,"특교") -> 0 | D8: =SUMIFS('2015년본예산(세출)'!$U$7:$U$607,'2015년본예산(세출)'!$S$7:$S$607,"국비")+SUMIFS('2015년본예산(세출)'!$U$7:$U$607,'2015년본예산(세출)'!$S$7:$S$607,"광특")+SUMIFS('2015년본예산(세출)'!$U$7:$U$607,'2015년본예산(세출)'!$S$7:$S$607,"기금")+SUMIFS('2015년본예산(세출)'!$U$7:$U$607,'2015년본예산(세출)'!$S$7:$S$607,"분권")+SUMIFS('2015년본예산(세출)'!$U$7:$U$607,'2015년본예산(세출)'!$S$7:$S$607,"특교") -> -1783334 | G8: 의존 매칭 도비 | H8: =SUMIFS('2015년본예산(세입)'!$Z$7:$Z$640,'2015년본예산(세입)'!$X$7:$X$640,"국비")+SUMIFS('2015년본예산(세입)'!$Z$7:$Z$640,'2015년본예산(세입)'!$X$7:$X$640,"광특")+SUMIFS('2015년본예산(세입)'!$Z$7:$Z$640,'2015년본예산(세입)'!$X$7:$X$640,"기금")+SUMIFS('2015년본예산(세입)'!$Z$7:$Z$640,'2015년본예산(세입)'!$X$7:$X$640,"분권")+SUMIFS('2015년본예산(세입)'!$Z$7:$Z$640,'2015년본예산(세입)'!$X$7:$X$640,"특교") -> 0 | J8: =SUMIFS('2015년본예산(세출)'!$Z$7:$Z$607,'2015년본예산(세출)'!$X$7:$X$607,"국비")+SUMIFS('2015년본예산(세출)'!$Z$7:$Z$607,'2015년본예산(세출)'!$X$7:$X$607,"광특")+SUMIFS('2015년본예산(세출)'!$Z$7:$Z$607,'2015년본예산(세출)'!$X$7:$X$607,"기금")+SUMIFS('2015년본예산(세출)'!$Z$7:$Z$607,'2015년본예산(세출)'!$X$7:$X$607,"분권")+SUMIFS('2015년본예산(세출)'!$Z$7:$Z$607,'2015년본예산(세출)'!$X$7:$X$607,"특교") -> 0
A9: 의존계 | B9: =SUM(B10:B14) -> -3625417 | C9: =IF(B9='2015년본예산(세입)'!T6,"OK","@@") -> OK | D9: =SUM(D10:D14) -> -3625417 | E9: =IF(B9=D9,"OK","@@") -> OK | G9: 의존계 | H9: =SUM(H10:H14) -> 0 | I9: =IF(H9='2015년본예산(세입)'!Y6,"OK","@@") -> OK | J9: =SUM(J10:J14) -> 0 | K9: =IF(H9=J9,"OK","@@") -> OK
A10: 국비 | B10: =SUMIFS('2015년본예산(세입)'!$T$7:$T$640,'2015년본예산(세입)'!$S$7:$S$640,'15년검증'!$A10) -> -3695209 | D10: =SUMIFS('2015년본예산(세출)'!$T$7:$T$607,'2015년본예산(세출)'!$S$7:$S$607,'15년검증'!$A10) -> -3695209 | E10: =IF(B10=D10,"OK","@@") -> OK | G10: 국비 | H10: =SUMIFS('2015년본예산(세입)'!$Y$7:$Y$640,'2015년본예산(세입)'!$X$7:$X$640,'15년검증'!$A10) -> 0 | J10: =SUMIFS('2015년본예산(세출)'!$Y$7:$Y$607,'2015년본예산(세출)'!$X$7:$X$607,'15년검증'!$A10) -> 0 | K10: =IF(H10=J10,"OK","@@") -> OK
A11: 광특 | B11: =SUMIFS('2015년본예산(세입)'!$T$7:$T$640,'2015년본예산(세입)'!$S$7:$S$640,'15년검증'!$A11) -> 0 | D11: =SUMIFS('2015년본예산(세출)'!$T$7:$T$607,'2015년본예산(세출)'!$S$7:$S$607,'15년검증'!$A11) -> 0 | E11: =IF(B11=D11,"OK","@@") -> OK | G11: 광특 | H11: =SUMIFS('2015년본예산(세입)'!$Y$7:$Y$640,'2015년본예산(세입)'!$X$7:$X$640,'15년검증'!$A11) -> 0 | J11: =SUMIFS('2015년본예산(세출)'!$Y$7:$Y$607,'2015년본예산(세출)'!$X$7:$X$607,'15년검증'!$A11) -> 0 | K11: =IF(H11=J11,"OK","@@") -> OK
A12: 기금 | B12: =SUMIFS('2015년본예산(세입)'!$T$7:$T$640,'2015년본예산(세입)'!$S$7:$S$640,'15년검증'!$A12) -> 69792 | D12: =SUMIFS('2015년본예산(세출)'!$T$7:$T$607,'2015년본예산(세출)'!$S$7:$S$607,'15년검증'!$A12) -> 69792 | E12: =IF(B12=D12,"OK","@@") -> OK | G12: 기금 | H12: =SUMIFS('2015년본예산(세입)'!$Y$7:$Y$640,'2015년본예산(세입)'!$X$7:$X$640,'15년검증'!$A12) -> 0 | J12: =SUMIFS('2015년본예산(세출)'!$Y$7:$Y$607,'2015년본예산(세출)'!$X$7:$X$607,'15년검증'!$A12) -> 0 | K12: =IF(H12=J12,"OK","@@") -> OK
A13: 분권 | B13: =SUMIFS('2015년본예산(세입)'!$T$7:$T$640,'2015년본예산(세입)'!$S$7:$S$640,'15년검증'!$A13) -> 0 | D13: =SUMIFS('2015년본예산(세출)'!$T$7:$T$607,'2015년본예산(세출)'!$S$7:$S$607,'15년검증'!$A13) -> 0 | E13: =IF(B13=D13,"OK","@@") -> OK | G13: 분권 | H13: =SUMIFS('2015년본예산(세입)'!$Y$7:$Y$640,'2015년본예산(세입)'!$X$7:$X$640,'15년검증'!$A13) -> 0 | J13: =SUMIFS('2015년본예산(세출)'!$Y$7:$Y$607,'2015년본예산(세출)'!$X$7:$X$607,'15년검증'!$A13) -> 0 | K13: =IF(H13=J13,"OK","@@") -> OK
A14: 특교 | B14: =SUMIFS('2015년본예산(세입)'!$T$7:$T$640,'2015년본예산(세입)'!$S$7:$S$640,'15년검증'!$A14) -> 0 | D14: =SUMIFS('2015년본예산(세출)'!$T$7:$T$607,'2015년본예산(세출)'!$S$7:$S$607,'15년검증'!$A14) -> 0 | E14: =IF(B14=D14,"OK","@@") -> OK | G14: 특교 | H14: =SUMIFS('2015년본예산(세입)'!$Y$7:$Y$640,'2015년본예산(세입)'!$X$7:$X$640,'15년검증'!$A14) -> 0 | J14: =SUMIFS('2015년본예산(세출)'!$Y$7:$Y$607,'2015년본예산(세출)'!$X$7:$X$607,'15년검증'!$A14) -> 0 | K14: =IF(H14=J14,"OK","@@") -> OK
G16: 예비비 조정액 | H16: =INDEX('2015년본예산(세출)'!Z7:Z607,MATCH("*예비비*",'2015년본예산(세출)'!F7:F607,0)) -> #N/A
H18: =H5-J5 -> 0
G20: 예비비 조정잔액 | H20: =I1+H16 -> #N/A

Sheet 2추검증
A1: 2회추경 검증 | G1: 2회추경 예비비 | I1: 22466366
K2: (단위 : 천원)
A3: 구 분 | B3: 상임위 | G3: 구 분 | H3: 예결위
B4: 세입 | C4: 검증 | D4: 세출 | E4: 검증 | H4: 세입 | I4: 검증 | J4: 세출 | K4: 검증
A5: 전체 총계 | B5: =SUM(B6,B9) -> #REF! | C5: =IF(B5=#REF!,"OK","@@") -> #REF! | D5: =SUM(D6,D9) -> #REF! | E5: =IF(D5=#REF!,"OK","@@") -> #REF! | G5: 전체 총계 | H5: =SUM(H6,H9) -> #REF! | I5: =IF(H5=#REF!,"OK","@@") -> #REF! | J5: =SUM(J6,J9) -> #REF! | K5: =IF(J5=#REF!,"OK","@@") -> #REF!
A6: 자체 총계 | B6: =SUM(B7:B8) -> #REF! | C6: =IF(B6=#REF!,"OK","@@") -> #REF! | D6: =SUM(D7:D8) -> #REF! | E6: =IF($D$6=#REF!,"OK","@@") -> #REF! | G6: 자체 총계 | H6: =SUM(H7:H8) -> #REF! | I6: =IF(H6=#REF!,"OK","@@") -> #REF! | J6: =SUM(J7:J8) -> #REF! | K6: =IF($J6=#REF!,"OK","@@") -> #REF!
A7: 자체 도비 | B7: =SUMIFS(#REF!,#REF!,"도비") -> #REF! | D7: =SUMIFS(#REF!,#REF!,"도비") -> #REF! | G7: 자체 - 의존도비 | H7: =SUMIFS(#REF!,#REF!,"도비") -> #REF! | J7: =SUMIFS(#REF!,#REF!,"도비") -> #REF!
A8: 의존 매칭 도비 | B8: =SUMIFS(#REF!,#REF!,"국비")+SUMIFS(#REF!,#REF!,"광특")+SUMIFS(#REF!,#REF!,"기금")+SUMIFS(#REF!,#REF!,"분권")+SUMIFS(#REF!,#REF!,"특교") -> #REF! | D8: =SUMIFS(#REF!,#REF!,"국비")+SUMIFS(#REF!,#REF!,"광특")+SUMIFS(#REF!,#REF!,"기금")+SUMIFS(#REF!,#REF!,"분권")+SUMIFS(#REF!,#REF!,"특교") -> #REF! | G8: 의존 매칭 도비 | H8: =SUMIFS(#REF!,#REF!,"국비")+SUMIFS(#REF!,#REF!,"광특")+SUMIFS(#REF!,#REF!,"기금")+SUMIFS(#REF!,#REF!,"분권")+SUMIFS(#REF!,#REF!,"특교") -> #REF! | J8: =SUMIFS(#REF!,#REF!,"국비")+SUMIFS(#REF!,#REF!,"광특")+SUMIFS(#REF!,#REF!,"기금")+SUMIFS(#REF!,#REF!,"분권")+SUMIFS(#REF!,#REF!,"특교") -> #REF!
A9: 의존계 | B9: =SUM(B10:B14) -> #REF! | C9: =IF(B9=#REF!,"OK","@@") -> #REF! | D9: =SUM(D10:D14) -> #REF! | E9: =IF(B9=D9,"OK","@@") -> #REF! | G9: 의존계 | H9: =SUM(H10:H14) -> #REF! | I9: =IF(H9=#REF!,"OK","@@") -> #REF! | J9: =SUM(J10:J14) -> #REF! | K9: =IF(H9=J9,"OK","@@") -> #REF!
A10: 국비 | B10: =SUMIFS(#REF!,#REF!,'2추검증'!$A10) -> #REF! | D10: =SUMIFS(#REF!,#REF!,'2추검증'!$A10) -> #REF! | E10: =IF(B10=D10,"OK","@@") -> #REF! | G10: 국비 | H10: =SUMIFS(#REF!,#REF!,'2추검증'!$A10) -> #REF! | J10: =SUMIFS(#REF!,#REF!,'2추검증'!$A10) -> #REF! | K10: =IF(H10=J10,"OK","@@") -> #REF!
A11: 광특 | B11: =SUMIFS(#REF!,#REF!,'2추검증'!$A11) -> #REF! | D11: =SUMIFS(#REF!,#REF!,'2추검증'!$A11) -> #REF! | E11: =IF(B11=D11,"OK","@@") -> #REF! | G11: 광특 | H11: =SUMIFS(#REF!,#REF!,'2추검증'!$A11) -> #REF! | J11: =SUMIFS(#REF!,#REF!,'2추검증'!$A11) -> #REF! | K11: =IF(H11=J11,"OK","@@") -> #REF!
A12: 기금 | B12: =SUMIFS(#REF!,#REF!,'2추검증'!$A12) -> #REF! | D12: =SUMIFS(#REF!,#REF!,'2추검증'!$A12) -> #REF! | E12: =IF(B12=D12,"OK","@@") -> #REF! | G12: 기금 | H12: =SUMIFS(#REF!,#REF!,'2추검증'!$A12) -> #REF! | J12: =SUMIFS(#REF!,#REF!,'2추검증'!$A12) -> #REF! | K12: =IF(H12=J12,"OK","@@") -> #REF!
A13: 분권 | B13: =SUMIFS(#REF!,#REF!,'2추검증'!$A13) -> #REF! | D13: =SUMIFS(#REF!,#REF!,'2추검증'!$A13) -> #REF! | E13: =IF(B13=D13,"OK","@@") -> #REF! | G13: 분권 | H13: =SUMIFS(#REF!,#REF!,'2추검증'!$A13) -> #REF! | J13: =SUMIFS(#REF!,#REF!,'2추검증'!$A13) -> #REF! | K13: =IF(H13=J13,"OK","@@") -> #REF!
A14: 특교 | B14: =SUMIFS(#REF!,#REF!,'2추검증'!$A14) -> #REF! | D14: =SUMIFS(#REF!,#REF!,'2추검증'!$A14) -> #REF! | E14: =IF(B14=D14,"OK","@@") -> #REF! | G14: 특교 | H14: =SUMIFS(#REF!,#REF!,'2추검증'!$A14) -> #REF! | J14: =SUMIFS(#REF!,#REF!,'2추검증'!$A14) -> #REF! | K14: =IF(H14=J14,"OK","@@") -> #REF!
G16: 예비비 조정액 | H16: =INDEX(#REF!,MATCH("*예비비*",#REF!,0)) -> #REF!
H18: =H5-J5 -> #REF!
G20: 예비비 조정잔액 | H20: =I1-H16 -> #REF!

Sheet 상임 표지
D2: 2014년도 제2회 일반회계 및 특별회계 추가경정 세입·세출 예산안
D4: 상 임 위 계 수 조 정 결 과
D16: 예산결산특별위원회

Sheet 표지
D2: 2014년도 제2회 일반회계 및 특별회계 추가경정 세입·세출 예산안
A4: 예결위 계수조정 결과
D16: 예산결산특별위원회

Sheet 예결 표지
B5: 2014년도 제2회 일반회계 및 특별회계 추가경정 세입·세출 예산안
B7: 예결위 계수조정 결과
B33: 예산결산특별위원회

Sheet 예결 표지(가로)
B3: 2014년도 제2회 일반회계 및 특별회계 추가경정 세입·세출 예산안
B5: 예결위 계수조정 결과
B24: 예산결산특별위원회

Sheet 15년총괄표
B1: 2015년도 경기도 일반 및 특별회계 세입·세출 예산안[전체예산총괄]
B3: □ 총 괄 | D3: 세입예산증감 | E3: =SUM(D7:E7) -> 0 | F3: 세출예산증감 | G3: =SUM(F7:G7) -> 0
H4: (단위:천원) | M4: (일반+특별+기금) | O4: 특별+기금
B5: 구 분 | C5: 집행부제출(안) | D5: 세입예산(안) | F5: 세출예산(안) | H5: 예산수정(안) | I5: 일반회계 증감(총괄표) | K5: 예비비증감 | L5: 비 고 | M5: 전체 증감(시트) | O5: 비고
D6: 감 액 | E6: 증 액 | F6: 감 액 | G6: 증 액 | I6: 세입 | J6: 세출 | M6: 세입 | N6: 세출
B7: 합 계 | C7: =SUM(C8:C18) -> 0 | D7: =SUM(D8:D18) -> 0 | E7: =SUM(E8:E18) -> 0 | F7: =SUM(F8:F18) -> 0 | G7: =SUM(G8:G18) -> 0 | H7: =SUM(H8:H18) -> 0 | I7: =E25+D25 -> 0 | J7: =F25+G25 -> 0 | K7: =I7-J7 -> 0 | L7: 예비비 증감이 - 예산이면 감액에 + 예산이면 증액에 입력 | M7: =D24+E24 -> 0 | N7: =F24+G24 -> 0 | O7: 0 | P7: 0
B8: 기 타 | C8: 0 | H8: =C8-F8+G8 -> 0 | I8: =D7+E7 -> 0 | J8: =F7+G7 -> 0 | K8: =I8-J8 -> 0
B9: 의회운영위원회 | D9: =SUMIFS('2015년본예산(세입)'!$K$7:$K$640,'2015년본예산(세입)'!$A$7:$A$640,'15년총괄표'!$B9) -> 0 | E9: =SUMIFS('2015년본예산(세입)'!$L$7:$L$640,'2015년본예산(세입)'!$A$7:$A$640,'15년총괄표'!$B9) -> 0 | F9: =SUMIFS('2015년본예산(세출)'!$K$7:$K$607,'2015년본예산(세출)'!$A$7:$A$607,'15년총괄표'!$B9) -> 0 | G9: =SUMIFS('2015년본예산(세출)'!$L$7:$L$607,'2015년본예산(세출)'!$A$7:$A$607,'15년총괄표'!$B9) -> 0 | H9: =C9+F9+G9 -> 0 | I9: 일반회계 증감(시트) | N9: 전체 증감
B10: 기획재정위원회 | D10: =SUMIFS('2015년본예산(세입)'!$K$7:$K$640,'2015년본예산(세입)'!$A$7:$A$640,'15년총괄표'!$B10) -> 0 | E10: =SUMIFS('2015년본예산(세입)'!$L$7:$L$640,'2015년본예산(세입)'!$A$7:$A$640,'15년총괄표'!$B10) -> 0 | F10: =SUMIFS('2015년본예산(세출)'!$K$7:$K$607,'2015년본예산(세출)'!$A$7:$A$607,'15년총괄표'!$B10) -> 0 | G10: =SUMIFS('2015년본예산(세출)'!$L$7:$L$607,'2015년본예산(세출)'!$A$7:$A$607,'15년총괄표'!$B10) -> 0 | H10: =C10+F10+G10 -> 0 | I10: =#REF!+#REF! -> #REF! | J10: =#REF!+#REF! -> #REF! | N10: =M7-N7 -> 0
B11: 경제과학기술위원회 | D11: =SUMIFS('2015년본예산(세입)'!$K$7:$K$640,'2015년본예산(세입)'!$A$7:$A$640,'15년총괄표'!$B11) -> 0 | E11: =SUMIFS('2015년본예산(세입)'!$L$7:$L$640,'2015년본예산(세입)'!$A$7:$A$640,'15년총괄표'!$B11) -> 0 | F11: =SUMIFS('2015년본예산(세출)'!$K$7:$K$607,'2015년본예산(세출)'!$A$7:$A$607,'15년총괄표'!$B11) -> 0 | G11: =SUMIFS('2015년본예산(세출)'!$L$7:$L$607,'2015년본예산(세출)'!$A$7:$A$607,'15년총괄표'!$B11) -> 0 | H11: =C11+F11+G11 -> 0
B12: 안전행정위원회 | D12: =SUMIFS('2015년본예산(세입)'!$K$7:$K$640,'2015년본예산(세입)'!$A$7:$A$640,'15년총괄표'!$B12) -> 0 | E12: =SUMIFS('2015년본예산(세입)'!$L$7:$L$640,'2015년본예산(세입)'!$A$7:$A$640,'15년총괄표'!$B12) -> 0 | F12: =SUMIFS('2015년본예산(세출)'!$K$7:$K$607,'2015년본예산(세출)'!$A$7:$A$607,'15년총괄표'!$B12) -> 0 | G12: =SUMIFS('2015년본예산(세출)'!$L$7:$L$607,'2015년본예산(세출)'!$A$7:$A$607,'15년총괄표'!$B12) -> 0 | H12: =C12+F12+G12 -> 0
B13: 문화체육관광위원회 | D13: =SUMIFS('2015년본예산(세입)'!$K$7:$K$640,'2015년본예산(세입)'!$A$7:$A$640,'15년총괄표'!$B13) -> 0 | E13: =SUMIFS('2015년본예산(세입)'!$L$7:$L$640,'2015년본예산(세입)'!$A$7:$A$640,'15년총괄표'!$B13) -> 0 | F13: =SUMIFS('2015년본예산(세출)'!$K$7:$K$607,'2015년본예산(세출)'!$A$7:$A$607,'15년총괄표'!$B13) -> 0 | G13: =SUMIFS('2015년본예산(세출)'!$L$7:$L$607,'2015년본예산(세출)'!$A$7:$A$607,'15년총괄표'!$B13) -> 0 | H13: =C13+F13+G13 -> 0 | N13: 기금
B14: 농정해양위원회 | D14: =SUMIFS('2015년본예산(세입)'!$K$7:$K$640,'2015년본예산(세입)'!$A$7:$A$640,'15년총괄표'!$B14) -> 0 | E14: =SUMIFS('2015년본예산(세입)'!$L$7:$L$640,'2015년본예산(세입)'!$A$7:$A$640,'15년총괄표'!$B14) -> 0 | F14: =SUMIFS('2015년본예산(세출)'!$K$7:$K$607,'2015년본예산(세출)'!$A$7:$A$607,'15년총괄표'!$B14) -> 0 | G14: =SUMIFS('2015년본예산(세출)'!$L$7:$L$607,'2015년본예산(세출)'!$A$7:$A$607,'15년총괄표'!$B14) -> 0 | H14: =C14+F14+G14 -> 0 | N14: =N10-K7 -> 0
B15: 보건복지위원회 | D15: =SUMIFS('2015년본예산(세입)'!$K$7:$K$640,'2015년본예산(세입)'!$A$7:$A$640,'15년총괄표'!$B15) -> 0 | E15: =SUMIFS('2015년본예산(세입)'!$L$7:$L$640,'2015년본예산(세입)'!$A$7:$A$640,'15년총괄표'!$B15) -> 0 | F15: =SUMIFS('2015년본예산(세출)'!$K$7:$K$607,'2015년본예산(세출)'!$A$7:$A$607,'15년총괄표'!$B15) -> 0 | G15: =SUMIFS('2015년본예산(세출)'!$L$7:$L$607,'2015년본예산(세출)'!$A$7:$A$607,'15년총괄표'!$B15) -> 0 | H15: =C15+F15+G15 -> 0
B16: 건설교통위원회 | D16: =SUMIFS('2015년본예산(세입)'!$K$7:$K$640,'2015년본예산(세입)'!$A$7:$A$640,'15년총괄표'!$B16) -> 0 | E16: =SUMIFS('2015년본예산(세입)'!$L$7:$L$640,'2015년본예산(세입)'!$A$7:$A$640,'15년총괄표'!$B16) -> 0 | F16: =SUMIFS('2015년본예산(세출)'!$K$7:$K$607,'2015년본예산(세출)'!$A$7:$A$607,'15년총괄표'!$B16) -> 0 | G16: =SUMIFS('2015년본예산(세출)'!$L$7:$L$607,'2015년본예산(세출)'!$A$7:$A$607,'15년총괄표'!$B16) -> 0 | H16: =C16+F16+G16 -> 0
B17: 도시환경위원회 | D17: =SUMIFS('2015년본예산(세입)'!$K$7:$K$640,'2015년본예산(세입)'!$A$7:$A$640,'15년총괄표'!$B17) -> 0 | E17: =SUMIFS('2015년본예산(세입)'!$L$7:$L$640,'2015년본예산(세입)'!$A$7:$A$640,'15년총괄표'!$B17) -> 0 | F17: =SUMIFS('2015년본예산(세출)'!$K$7:$K$607,'2015년본예산(세출)'!$A$7:$A$607,'15년총괄표'!$B17) -> 0 | G17: =SUMIFS('2015년본예산(세출)'!$L$7:$L$607,'2015년본예산(세출)'!$A$7:$A$607,'15년총괄표'!$B17) -> 0 | H17: =C17+F17+G17 -> 0
B18: 여성가족교육협력위원회 | D18: =SUMIFS('2015년본예산(세입)'!$K$7:$K$640,'2015년본예산(세입)'!$A$7:$A$640,'15년총괄표'!$B18) -> 0 | E18: =SUMIFS('2015년본예산(세입)'!$L$7:$L$640,'2015년본예산(세입)'!$A$7:$A$640,'15년총괄표'!$B18) -> 0 | F18: =SUMIFS('2015년본예산(세출)'!$K$7:$K$607,'2015년본예산(세출)'!$A$7:$A$607,'15년총괄표'!$B18) -> 0 | G18: =SUMIFS('2015년본예산(세출)'!$L$7:$L$607,'2015년본예산(세출)'!$A$7:$A$607,'15년총괄표'!$B18) -> 0 | H18: =C18+F18+G18 -> 0
B20: □ 회계별 예산총규모
H21: (단위:천원)
B22: 구 분 | C22: 세출예산액 (집행부제출 안) | D22: 세입예산(안) | F22: 세출예산(안) | H22: 예산수정(안)
D23: 감 액 | E23: 증 액 | F23: 감 액 | G23: 증 액 | I23: 세입기준 수정예산안
B24: 합 계 | C24: =SUM(C25:C26) -> 0 | D24: =SUM(D25:D26) -> 0 | E24: =SUM(E25:E26) -> 0 | F24: =SUM(F25:F26) -> 0 | G24: =SUM(G25:G26) -> 0 | H24: =SUM(H25:H26) -> 0 | I24: =C24+D24+E24 -> 0 | J24: =I24-H24 -> 0 | K24: (세출기준-세입기준)
B25: 일반회계 | D25: ='2015년본예산(세입)'!$K$6 -> 0 | E25: ='2015년본예산(세입)'!$L$6 -> 0 | F25: ='2015년본예산(세출)'!$K$6 -> 0 | G25: ='2015년본예산(세출)'!$L$6 -> 0 | H25: =C25+F25+G25 -> 0 | I25: =C25+D25+E25 -> 0 | J25: =I25-H25 -> 0 | K25: (세출기준-세입기준)
B26: 특별회계 | H26: =C26+F26+G26 -> 0 | I26: =C26+D26+E26 -> 0 | J26: =I26-H26 -> 0 | K26: (세출기준-세입기준)
B30: 위원회명 | C30: 일반+기특 | D30: 공기업 | E30: 합계
B31: 의회운영위원회 | C31: 39922113 | E31: =SUM(C31:D31) -> 39922113
B32: 기획재정위원회 | C32: 3302571667 | D32: 1780946434 | E32: =SUM(C32:D32) -> 5083518101
B33: 경제과학기술위원회 | C33: 155329320 | D33: 384743740 | E33: =SUM(C33:D33) -> 540073060
B34: 안전행정위원회 | C34: 1142858974 | E34: =SUM(C34:D34) -> 1142858974
B35: 문화체육관광위원회 | C35: 224243208 | D35: 52484400 | E35: =SUM(C35:D35) -> 276727608
B36: 농정해양위원회 | C36: 466978999 | E36: =SUM(C36:D36) -> 466978999
B37: 보건복지위원회 | C37: 3254006708 | E37: =SUM(C37:D37) -> 3254006708
B38: 건설교통위원회 | C38: 1220859831 | E38: =SUM(C38:D38) -> 1220859831
B39: 도시환경위원회 | C39: 866963933 | D39: 28360000 | E39: =SUM(C39:D39) -> 895323933
B40: 여성가족평생교육위원회 | C40: 4882582917 | E40: =SUM(C40:D40) -> 4882582917
B41: 총합계 | C41: =SUM(C31:C40) -> 15556317670 | D41: =SUM(D31:D40) -> 2246534574 | E41: =SUM(C41:D41) -> 17802852244
B43: 예비비 | C43: =3922478-221377 -> 3701101
I160: ◦ 본청 83,000 증 ◦ 북부청 377,000 증
K290: -50000

Sheet 15년총괄표(실국별)
B1: 2015년도 경기도 일반 및 특별회계 세입·세출 예산안[전체예산총괄]
B3: □ 총괄(실국별) | E3: =SUM(D7:E7) -> 0 | G3: =SUM(F7:G7) -> 0
H4: (단위:천원) | M4: (일반+특별+기금) | O4: 특별+기금
B5: 구 분 | C5: 집행부제출(안) | D5: 세입예산(안) | F5: 세출예산(안) | H5: 예산수정(안) | I5: 일반회계 증감(총괄표) | K5: 예비비증감 | L5: 비 고 | M5: 전체 증감(시트) | O5: 비고
D6: 감 액 | E6: 증 액 | F6: 감 액 | G6: 증 액 | I6: 세입 | J6: 세출 | M6: 세입 | N6: 세출
B7: 합 계 | C7: =SUM(C8:C33) -> 0 | D7: =SUM(D8:D33) -> 0 | E7: =SUM(E8:E33) -> 0 | F7: =SUM(F8:F33) -> 0 | G7: =SUM(G8:G33) -> 0 | H7: =SUM(H8:H33) -> 0 | I7: =#REF!+#REF! -> #REF! | J7: =#REF!+#REF! -> #REF! | K7: =I7-J7 -> #REF! | L7: 예비비 증감이 - 예산이면 감액에 + 예산이면 증액에 입력 | M7: =#REF!+#REF! -> #REF! | N7: =#REF!+#REF! -> #REF! | O7: 0 | P7: 0
B8: 감사관 | D8: =SUMIFS('2015년본예산(세입)'!$K$7:$K$640,'2015년본예산(세입)'!$B$7:$B$640,'15년총괄표(실국별)'!$B8) -> 0 | E8: =SUMIFS('2015년본예산(세입)'!$L$7:$L$640,'2015년본예산(세입)'!$B$7:$B$640,'15년총괄표(실국별)'!$B8) -> 0 | F8: =SUMIFS('2015년본예산(세출)'!$K$7:$K$607,'2015년본예산(세출)'!$B$7:$B$607,'15년총괄표(실국별)'!$B8) -> 0 | G8: =SUMIFS('2015년본예산(세출)'!$L$7:$L$607,'2015년본예산(세출)'!$B$7:$B$607,'15년총괄표(실국별)'!$B8) -> 0 | H8: =C8+F8+G8 -> 0 | I8: 일반회계 증감(시트) | N8: 전체 증감
B9: 기획조정실 | D9: =SUMIFS('2015년본예산(세입)'!$K$7:$K$640,'2015년본예산(세입)'!$B$7:$B$640,'15년총괄표(실국별)'!$B9) -> 0 | E9: =SUMIFS('2015년본예산(세입)'!$L$7:$L$640,'2015년본예산(세입)'!$B$7:$B$640,'15년총괄표(실국별)'!$B9) -> 0 | F9: =SUMIFS('2015년본예산(세출)'!$K$7:$K$607,'2015년본예산(세출)'!$B$7:$B$607,'15년총괄표(실국별)'!$B9) -> 0 | G9: =SUMIFS('2015년본예산(세출)'!$L$7:$L$607,'2015년본예산(세출)'!$B$7:$B$607,'15년총괄표(실국별)'!$B9) -> 0 | H9: =C9+F9+G9 -> 0 | I9: =#REF!+#REF! -> #REF! | J9: =#REF!+#REF! -> #REF! | N9: =#REF!-#REF! -> #REF!
B10: 도시주택실 | D10: =SUMIFS('2015년본예산(세입)'!$K$7:$K$640,'2015년본예산(세입)'!$B$7:$B$640,'15년총괄표(실국별)'!$B10) -> 0 | E10: =SUMIFS('2015년본예산(세입)'!$L$7:$L$640,'2015년본예산(세입)'!$B$7:$B$640,'15년총괄표(실국별)'!$B10) -> 0 | F10: =SUMIFS('2015년본예산(세출)'!$K$7:$K$607,'2015년본예산(세출)'!$B$7:$B$607,'15년총괄표(실국별)'!$B10) -> 0 | G10: =SUMIFS('2015년본예산(세출)'!$L$7:$L$607,'2015년본예산(세출)'!$B$7:$B$607,'15년총괄표(실국별)'!$B10) -> 0 | H10: =C10+F10+G10 -> 0 | I10: =#REF!+#REF! -> #REF! | J10: =#REF!+#REF! -> #REF! | N10: =#REF!-#REF! -> #REF!
B11: 자치행정국 | D11: =SUMIFS('2015년본예산(세입)'!$K$7:$K$640,'2015년본예산(세입)'!$B$7:$B$640,'15년총괄표(실국별)'!$B11) -> 0 | E11: =SUMIFS('2015년본예산(세입)'!$L$7:$L$640,'2015년본예산(세입)'!$B$7:$B$640,'15년총괄표(실국별)'!$B11) -> 0 | F11: =SUMIFS('2015년본예산(세출)'!$K$7:$K$607,'2015년본예산(세출)'!$B$7:$B$607,'15년총괄표(실국별)'!$B11) -> 0 | G11: =SUMIFS('2015년본예산(세출)'!$L$7:$L$607,'2015년본예산(세출)'!$B$7:$B$607,'15년총괄표(실국별)'!$B11) -> 0 | H11: =C11+F11+G11 -> 0
B12: 교육협력국 | D12: =SUMIFS('2015년본예산(세입)'!$K$7:$K$640,'2015년본예산(세입)'!$B$7:$B$640,'15년총괄표(실국별)'!$B12) -> 0 | E12: =SUMIFS('2015년본예산(세입)'!$L$7:$L$640,'2015년본예산(세입)'!$B$7:$B$640,'15년총괄표(실국별)'!$B12) -> 0 | F12: =SUMIFS('2015년본예산(세출)'!$K$7:$K$607,'2015년본예산(세출)'!$B$7:$B$607,'15년총괄표(실국별)'!$B12) -> 0 | G12: =SUMIFS('2015년본예산(세출)'!$L$7:$L$607,'2015년본예산(세출)'!$B$7:$B$607,'15년총괄표(실국별)'!$B12) -> 0 | H12: =C12+F12+G12 -> 0
B13: 문화체육관광국 | D13: =SUMIFS('2015년본예산(세입)'!$K$7:$K$640,'2015년본예산(세입)'!$B$7:$B$640,'15년총괄표(실국별)'!$B13) -> 0 | E13: =SUMIFS('2015년본예산(세입)'!$L$7:$L$640,'2015년본예산(세입)'!$B$7:$B$640,'15년총괄표(실국별)'!$B13) -> 0 | F13: =SUMIFS('2015년본예산(세출)'!$K$7:$K$607,'2015년본예산(세출)'!$B$7:$B$607,'15년총괄표(실국별)'!$B13) -> 0 | G13: =SUMIFS('2015년본예산(세출)'!$L$7:$L$607,'2015년본예산(세출)'!$B$7:$B$607,'15년총괄표(실국별)'!$B13) -> 0 | H13: =C13+F13+G13 -> 0 | N13: 기금
B14: 농정해양국 | D14: =SUMIFS('2015년본예산(세입)'!$K$7:$K$640,'2015년본예산(세입)'!$B$7:$B$640,'15년총괄표(실국별)'!$B14) -> 0 | E14: =SUMIFS('2015년본예산(세입)'!$L$7:$L$640,'2015년본예산(세입)'!$B$7:$B$640,'15년총괄표(실국별)'!$B14) -> 0 | F14: =SUMIFS('2015년본예산(세출)'!$K$7:$K$607,'2015년본예산(세출)'!$B$7:$B$607,'15년총괄표(실국별)'!$B14) -> 0 | G14: =SUMIFS('2015년본예산(세출)'!$L$7:$L$607,'2015년본예산(세출)'!$B$7:$B$607,'15년총괄표(실국별)'!$B14) -> 0 | H14: =C14+F14+G14 -> 0 | N14: =N10-#REF! -> #REF!
B15: 철도국 | D15: =SUMIFS('2015년본예산(세입)'!$K$7:$K$640,'2015년본예산(세입)'!$B$7:$B$640,'15년총괄표(실국별)'!$B15) -> 0 | E15: =SUMIFS('2015년본예산(세입)'!$L$7:$L$640,'2015년본예산(세입)'!$B$7:$B$640,'15년총괄표(실국별)'!$B15) -> 0 | F15: =SUMIFS('2015년본예산(세출)'!$K$7:$K$607,'2015년본예산(세출)'!$B$7:$B$607,'15년총괄표(실국별)'!$B15) -> 0 | G15: =SUMIFS('2015년본예산(세출)'!$L$7:$L$607,'2015년본예산(세출)'!$B$7:$B$607,'15년총괄표(실국별)'!$B15) -> 0 | H15: =C15+F15+G15 -> 0
B16: 재난안전본부 | D16: =SUMIFS('2015년본예산(세입)'!$K$7:$K$640,'2015년본예산(세입)'!$B$7:$B$640,'15년총괄표(실국별)'!$B16) -> 0 | E16: =SUMIFS('2015년본예산(세입)'!$L$7:$L$640,'2015년본예산(세입)'!$B$7:$B$640,'15년총괄표(실국별)'!$B16) -> 0 | F16: =SUMIFS('2015년본예산(세출)'!$K$7:$K$607,'2015년본예산(세출)'!$B$7:$B$607,'15년총괄표(실국별)'!$B16) -> 0 | G16: =SUMIFS('2015년본예산(세출)'!$L$7:$L$607,'2015년본예산(세출)'!$B$7:$B$607,'15년총괄표(실국별)'!$B16) -> 0 | H16: =C16+F16+G16 -> 0
B17: 의회사무처 | D17: =SUMIFS('2015년본예산(세입)'!$K$7:$K$640,'2015년본예산(세입)'!$B$7:$B$640,'15년총괄표(실국별)'!$B17) -> 0 | E17: =SUMIFS('2015년본예산(세입)'!$L$7:$L$640,'2015년본예산(세입)'!$B$7:$B$640,'15년총괄표(실국별)'!$B17) -> 0 | F17: =SUMIFS('2015년본예산(세출)'!$K$7:$K$607,'2015년본예산(세출)'!$B$7:$B$607,'15년총괄표(실국별)'!$B17) -> 0 | G17: =SUMIFS('2015년본예산(세출)'!$L$7:$L$607,'2015년본예산(세출)'!$B$7:$B$607,'15년총괄표(실국별)'!$B17) -> 0 | H17: =C17+F17+G17 -> 0
B18: 대변인 | D18: =SUMIFS('2015년본예산(세입)'!$K$7:$K$640,'2015년본예산(세입)'!$B$7:$B$640,'15년총괄표(실국별)'!$B18) -> 0 | E18: =SUMIFS('2015년본예산(세입)'!$L$7:$L$640,'2015년본예산(세입)'!$B$7:$B$640,'15년총괄표(실국별)'!$B18) -> 0 | F18: =SUMIFS('2015년본예산(세출)'!$K$7:$K$607,'2015년본예산(세출)'!$B$7:$B$607,'15년총괄표(실국별)'!$B18) -> 0 | G18: =SUMIFS('2015년본예산(세출)'!$L$7:$L$607,'2015년본예산(세출)'!$B$7:$B$607,'15년총괄표(실국별)'!$B18) -> 0 | H18: =C18+F18+G18 -> 0 | I18: =#REF!+#REF! -> #REF! | J18: =#REF!+#REF! -> #REF! | N18: =#REF!-#REF! -> #REF!
B19: 대외협력담당관 | D19: =SUMIFS('2015년본예산(세입)'!$K$7:$K$640,'2015년본예산(세입)'!$B$7:$B$640,'15년총괄표(실국별)'!$B19) -> 0 | E19: =SUMIFS('2015년본예산(세입)'!$L$7:$L$640,'2015년본예산(세입)'!$B$7:$B$640,'15년총괄표(실국별)'!$B19) -> 0 | F19: =SUMIFS('2015년본예산(세출)'!$K$7:$K$607,'2015년본예산(세출)'!$B$7:$B$607,'15년총괄표(실국별)'!$B19) -> 0 | G19: =SUMIFS('2015년본예산(세출)'!$L$7:$L$607,'2015년본예산(세출)'!$B$7:$B$607,'15년총괄표(실국별)'!$B19) -> 0 | H19: =C19+F19+G19 -> 0
B20: 보건복지국 | D20: =SUMIFS('2015년본예산(세입)'!$K$7:$K$640,'2015년본예산(세입)'!$B$7:$B$640,'15년총괄표(실국별)'!$B20) -> 0 | E20: =SUMIFS('2015년본예산(세입)'!$L$7:$L$640,'2015년본예산(세입)'!$B$7:$B$640,'15년총괄표(실국별)'!$B20) -> 0 | F20: =SUMIFS('2015년본예산(세출)'!$K$7:$K$607,'2015년본예산(세출)'!$B$7:$B$607,'15년총괄표(실국별)'!$B20) -> 0 | G20: =SUMIFS('2015년본예산(세출)'!$L$7:$L$607,'2015년본예산(세출)'!$B$7:$B$607,'15년총괄표(실국별)'!$B20) -> 0 | H20: =C20+F20+G20 -> 0
B21: 환경국 | D21: =SUMIFS('2015년본예산(세입)'!$K$7:$K$640,'2015년본예산(세입)'!$B$7:$B$640,'15년총괄표(실국별)'!$B21) -> 0 | E21: =SUMIFS('2015년본예산(세입)'!$L$7:$L$640,'2015년본예산(세입)'!$B$7:$B$640,'15년총괄표(실국별)'!$B21) -> 0 | F21: =SUMIFS('2015년본예산(세출)'!$K$7:$K$607,'2015년본예산(세출)'!$B$7:$B$607,'15년총괄표(실국별)'!$B21) -> 0 | G21: =SUMIFS('2015년본예산(세출)'!$L$7:$L$607,'2015년본예산(세출)'!$B$7:$B$607,'15년총괄표(실국별)'!$B21) -> 0 | H21: =C21+F21+G21 -> 0 | N21: 기금
B22: 여성가족국 | D22: =SUMIFS('2015년본예산(세입)'!$K$7:$K$640,'2015년본예산(세입)'!$B$7:$B$640,'15년총괄표(실국별)'!$B22) -> 0 | E22: =SUMIFS('2015년본예산(세입)'!$L$7:$L$640,'2015년본예산(세입)'!$B$7:$B$640,'15년총괄표(실국별)'!$B22) -> 0 | F22: =SUMIFS('2015년본예산(세출)'!$K$7:$K$607,'2015년본예산(세출)'!$B$7:$B$607,'15년총괄표(실국별)'!$B22) -> 0 | G22: =SUMIFS('2015년본예산(세출)'!$L$7:$L$607,'2015년본예산(세출)'!$B$7:$B$607,'15년총괄표(실국별)'!$B22) -> 0 | H22: =C22+F22+G22 -> 0 | N22: =N18-#REF! -> #REF!
B23: 농업기술원 | D23: =SUMIFS('2015년본예산(세입)'!$K$7:$K$640,'2015년본예산(세입)'!$B$7:$B$640,'15년총괄표(실국별)'!$B23) -> 0 | E23: =SUMIFS('2015년본예산(세입)'!$L$7:$L$640,'2015년본예산(세입)'!$B$7:$B$640,'15년총괄표(실국별)'!$B23) -> 0 | F23: =SUMIFS('2015년본예산(세출)'!$K$7:$K$607,'2015년본예산(세출)'!$B$7:$B$607,'15년총괄표(실국별)'!$B23) -> 0 | G23: =SUMIFS('2015년본예산(세출)'!$L$7:$L$607,'2015년본예산(세출)'!$B$7:$B$607,'15년총괄표(실국별)'!$B23) -> 0 | H23: =C23+F23+G23 -> 0
B24: 인재개발원 | D24: =SUMIFS('2015년본예산(세입)'!$K$7:$K$640,'2015년본예산(세입)'!$B$7:$B$640,'15년총괄표(실국별)'!$B24) -> 0 | E24: =SUMIFS('2015년본예산(세입)'!$L$7:$L$640,'2015년본예산(세입)'!$B$7:$B$640,'15년총괄표(실국별)'!$B24) -> 0 | F24: =SUMIFS('2015년본예산(세출)'!$K$7:$K$607,'2015년본예산(세출)'!$B$7:$B$607,'15년총괄표(실국별)'!$B24) -> 0 | G24: =SUMIFS('2015년본예산(세출)'!$L$7:$L$607,'2015년본예산(세출)'!$B$7:$B$607,'15년총괄표(실국별)'!$B24) -> 0 | H24: =C24+F24+G24 -> 0
B25: 보건환경연구원 | D25: =SUMIFS('2015년본예산(세입)'!$K$7:$K$640,'2015년본예산(세입)'!$B$7:$B$640,'15년총괄표(실국별)'!$B25) -> 0 | E25: =SUMIFS('2015년본예산(세입)'!$L$7:$L$640,'2015년본예산(세입)'!$B$7:$B$640,'15년총괄표(실국별)'!$B25) -> 0 | F25: =SUMIFS('2015년본예산(세출)'!$K$7:$K$607,'2015년본예산(세출)'!$B$7:$B$607,'15년총괄표(실국별)'!$B25) -> 0 | G25: =SUMIFS('2015년본예산(세출)'!$L$7:$L$607,'2015년본예산(세출)'!$B$7:$B$607,'15년총괄표(실국별)'!$B25) -> 0 | H25: =C25+F25+G25 -> 0
B26: 수자원본부 | D26: =SUMIFS('2015년본예산(세입)'!$K$7:$K$640,'2015년본예산(세입)'!$B$7:$B$640,'15년총괄표(실국별)'!$B26) -> 0 | E26: =SUMIFS('2015년본예산(세입)'!$L$7:$L$640,'2015년본예산(세입)'!$B$7:$B$640,'15년총괄표(실국별)'!$B26) -> 0 | F26: =SUMIFS('2015년본예산(세출)'!$K$7:$K$607,'2015년본예산(세출)'!$B$7:$B$607,'15년총괄표(실국별)'!$B26) -> 0 | G26: =SUMIFS('2015년본예산(세출)'!$L$7:$L$607,'2015년본예산(세출)'!$B$7:$B$607,'15년총괄표(실국별)'!$B26) -> 0 | H26: =C26+F26+G26 -> 0 | I26: =#REF!+#REF! -> #REF! | J26: =#REF!+#REF! -> #REF! | N26: =M2-N2 -> 0
B27: 복지여성실 | D27: =SUMIFS('2015년본예산(세입)'!$K$7:$K$640,'2015년본예산(세입)'!$B$7:$B$640,'15년총괄표(실국별)'!$B27) -> 0 | E27: =SUMIFS('2015년본예산(세입)'!$L$7:$L$640,'2015년본예산(세입)'!$B$7:$B$640,'15년총괄표(실국별)'!$B27) -> 0 | F27: =SUMIFS('2015년본예산(세출)'!$K$7:$K$607,'2015년본예산(세출)'!$B$7:$B$607,'15년총괄표(실국별)'!$B27) -> 0 | G27: =SUMIFS('2015년본예산(세출)'!$L$7:$L$607,'2015년본예산(세출)'!$B$7:$B$607,'15년총괄표(실국별)'!$B27) -> 0 | H27: =C27+F27+G27 -> 0
B28: 균형발전기획실 | D28: =SUMIFS('2015년본예산(세입)'!$K$7:$K$640,'2015년본예산(세입)'!$B$7:$B$640,'15년총괄표(실국별)'!$B28) -> 0 | E28: =SUMIFS('2015년본예산(세입)'!$L$7:$L$640,'2015년본예산(세입)'!$B$7:$B$640,'15년총괄표(실국별)'!$B28) -> 0 | F28: =SUMIFS('2015년본예산(세출)'!$K$7:$K$607,'2015년본예산(세출)'!$B$7:$B$607,'15년총괄표(실국별)'!$B28) -> 0 | G28: =SUMIFS('2015년본예산(세출)'!$L$7:$L$607,'2015년본예산(세출)'!$B$7:$B$607,'15년총괄표(실국별)'!$B28) -> 0 | H28: =C28+F28+G28 -> 0
B29: 경제실 | D29: =SUMIFS('2015년본예산(세입)'!$K$7:$K$640,'2015년본예산(세입)'!$B$7:$B$640,'15년총괄표(실국별)'!$B29) -> 0 | E29: =SUMIFS('2015년본예산(세입)'!$L$7:$L$640,'2015년본예산(세입)'!$B$7:$B$640,'15년총괄표(실국별)'!$B29) -> 0 | F29: =SUMIFS('2015년본예산(세출)'!$K$7:$K$607,'2015년본예산(세출)'!$B$7:$B$607,'15년총괄표(실국별)'!$B29) -> 0 | G29: =SUMIFS('2015년본예산(세출)'!$L$7:$L$607,'2015년본예산(세출)'!$B$7:$B$607,'15년총괄표(실국별)'!$B29) -> 0 | H29: =C29+F29+G29 -> 0 | N29: 기금
B30: 축산산림국 | D30: =SUMIFS('2015년본예산(세입)'!$K$7:$K$640,'2015년본예산(세입)'!$B$7:$B$640,'15년총괄표(실국별)'!$B30) -> 0 | E30: =SUMIFS('2015년본예산(세입)'!$L$7:$L$640,'2015년본예산(세입)'!$B$7:$B$640,'15년총괄표(실국별)'!$B30) -> 0 | F30: =SUMIFS('2015년본예산(세출)'!$K$7:$K$607,'2015년본예산(세출)'!$B$7:$B$607,'15년총괄표(실국별)'!$B30) -> 0 | G30: =SUMIFS('2015년본예산(세출)'!$L$7:$L$607,'2015년본예산(세출)'!$B$7:$B$607,'15년총괄표(실국별)'!$B30) -> 0 | H30: =C30+F30+G30 -> 0 | N30: =N26-K2 -> 0
B31: 교통국 | D31: =SUMIFS('2015년본예산(세입)'!$K$7:$K$640,'2015년본예산(세입)'!$B$7:$B$640,'15년총괄표(실국별)'!$B31) -> 0 | E31: =SUMIFS('2015년본예산(세입)'!$L$7:$L$640,'2015년본예산(세입)'!$B$7:$B$640,'15년총괄표(실국별)'!$B31) -> 0 | F31: =SUMIFS('2015년본예산(세출)'!$K$7:$K$607,'2015년본예산(세출)'!$B$7:$B$607,'15년총괄표(실국별)'!$B31) -> 0 | G31: =SUMIFS('2015년본예산(세출)'!$L$7:$L$607,'2015년본예산(세출)'!$B$7:$B$607,'15년총괄표(실국별)'!$B31) -> 0 | H31: =C31+F31+G31 -> 0 | I31: =#REF!+#REF! -> #REF! | J31: =#REF!+#REF! -> #REF! | N31: =M7-N7 -> #REF!
B32: 건설국 | D32: =SUMIFS('2015년본예산(세입)'!$K$7:$K$640,'2015년본예산(세입)'!$B$7:$B$640,'15년총괄표(실국별)'!$B32) -> 0 | E32: =SUMIFS('2015년본예산(세입)'!$L$7:$L$640,'2015년본예산(세입)'!$B$7:$B$640,'15년총괄표(실국별)'!$B32) -> 0 | F32: =SUMIFS('2015년본예산(세출)'!$K$7:$K$607,'2015년본예산(세출)'!$B$7:$B$607,'15년총괄표(실국별)'!$B32) -> 0 | G32: =SUMIFS('2015년본예산(세출)'!$L$7:$L$607,'2015년본예산(세출)'!$B$7:$B$607,'15년총괄표(실국별)'!$B32) -> 0 | H32: =C32+F32+G32 -> 0
B33: 건설본부 | D33: =SUMIFS('2015년본예산(세입)'!$K$7:$K$640,'2015년본예산(세입)'!$B$7:$B$640,'15년총괄표(실국별)'!$B33) -> 0 | E33: =SUMIFS('2015년본예산(세입)'!$L$7:$L$640,'2015년본예산(세입)'!$B$7:$B$640,'15년총괄표(실국별)'!$B33) -> 0 | F33: =SUMIFS('2015년본예산(세출)'!$K$7:$K$607,'2015년본예산(세출)'!$B$7:$B$607,'15년총괄표(실국별)'!$B33) -> 0 | G33: =SUMIFS('2015년본예산(세출)'!$L$7:$L$607,'2015년본예산(세출)'!$B$7:$B$607,'15년총괄표(실국별)'!$B33) -> 0 | H33: =C33+F33+G33 -> 0
B37: 위원회명 | C37: 일반+기특 | D37: 공기업 | E37: 합계
B38: 감사관 | C38: 914581 | E38: =SUM(C38:D38) -> 914581
B39: 기획조정실 | C39: 3119807801 | D39: 1780946434 | E39: =SUM(C39:D39) -> 4900754235
B40: 도시주택실 | C40: 190109521 | D40: 28360000 | E40: =SUM(C40:D40) -> 218469521
B41: 자치행정국 | C41: 544196314 | E41: =SUM(C41:D41) -> 544196314
B42: 문화체육관광국 | C42: 224243208 | D42: 52484400 | E42: =SUM(C42:D42) -> 276727608
B43: 농정해양국 | C43: 249710070 | E43: =SUM(C43:D43) -> 249710070
B44: 보건복지국 | C44: 2571625696 | E44: =SUM(C44:D44) -> 2571625696
B45: 환경국 | C45: 94671441 | E45: =SUM(C45:D45) -> 94671441
B46: 철도물류국 | C46: 107956457 | E46: =SUM(C46:D46) -> 107956457
B47: 여성가족국 | C47: 1879955306 | E47: =SUM(C47:D47) -> 1879955306
B48: 소방재난본부 | C48: 475412376 | E48: =SUM(C48:D48) -> 475412376
B49: 경제투자실 | C49: 148252370 | D49: 384743740 | E49: =SUM(C49:D49) -> 532996110
B50: 대변인 | C50: 9607826 | E50: =SUM(C50:D50) -> 9607826
B51: 대외협력담당관 | C51: 384069 | E51: =SUM(C51:D51) -> 384069
B52: 복지여성실 | C52: 1353512493 | E52: =SUM(C52:D52) -> 1353512493
B53: 안전행정실 | C53: 69450506 | E53: =SUM(C53:D53) -> 69450506
B54: 균형발전국 | C54: 173302168 | E54: =SUM(C54:D54) -> 173302168
B55: 평생교육국 | C55: 2325292998 | E55: =SUM(C55:D55) -> 2325292998
B56: 축산산림국 | C56: 193048941 | E56: =SUM(C56:D56) -> 193048941
B57: 교통건설국 | C57: 866196185 | E57: =SUM(C57:D57) -> 866196185
B58: 북부소방재난본부 | C58: 1402108 | E58: =SUM(C58:D58) -> 1402108
B59: 의회사무처 | C59: 29930218 | E59: =SUM(C59:D59) -> 29930218
B60: 경기도농업기술원 | C60: 39275302 | E60: =SUM(C60:D60) -> 39275302
B61: 경기도인재개발원 | C61: 8910247 | E61: =SUM(C61:D61) -> 8910247
... B66: 소방서 | C66: 53973769 | E66: =SUM(C66:D66) -> 53973769
B67: 총합계 | C67: =SUM(C38:C66) -> 15556317670 | D67: =SUM(D38:D66) -> 2246534574 | E67: =SUM(C67:D67) -> 17802852244
I167: ◦ 본청 83,000 증 ◦ 북부청 377,000 증
K297: -50000

Sheet 2015년본예산(세입)
A1: 2015년도 경기도 일반회계 세입 예산 조정(안)
A2: □세입예산 | T2: 세입 = 세출 | Y2: 세입 = 세출
K3: =COUNTA(K7:K18) -> 0 | L3: =COUNTA(L7:L18) -> 0 | O3: (단위 : 천원) | T3: =IF(T6='2015년본예산(세출)'!$T$6,"OK","@@") -> OK | U3: =SUM(T6:U6) -> 211919667 | V3: =IF(COUNTIF(V6:V911,"@@")>0,"@@","OK") -> OK | Y3: =IF(Y6=#REF!,"OK","@@") -> #REF! | Z3: =SUM(Y6:Z6) -> 0 | AA3: =IF(COUNTIF(AA6:AA911,"@@")>0,"@@","OK") -> OK
A4: 위원회명 | B4: 실국명 | C4: 부서명 | D4: 편성 구분 | E4: 예산안 페이지 | F4: 사업명 | G4: 예산안 (가) | H4: 상임위 예산안 조정액(나) | J4: 상임위 수정 예산안 (다=가+나) | K4: 예결위 예산안 조정액(라) | M4: 예결위 수정 예산안 (마=가+라) | N4: 동의대상 | O4: 비고(부대의견) | Q4: 국도비 등 여부 | S4: 재원 | T4: 상임위 재원별 증감액 | X4: 재원 | Y4: 예결위 재원별 증감액 | AC4: 위원회 부서별 정렬
H5: 감액 | I5: 증액 | K5: 감액 | L5: 증액 | T5: 국비 등 | U5: 도 비 | V5: 검증 | Y5: 국비 등 | Z5: 도 비 | AA5: 검증
A6: C열 부서명 입력하면 자동 입력 됩니다 | B6: C열 부서명 입력하면 자동 입력 됩니다 | D6: 선택입력 | F6: 예산안의 사업명과 동일하게 입력하세요 | G6: =SUBTOTAL(9,G7:G823) -> 14725282 | H6: =SUBTOTAL(9,H7:H823) -> -3757329 | I6: =SUBTOTAL(9,I7:I823) -> 215676996 | J6: =SUBTOTAL(9,J7:J823) -> 226644949 | K6: =SUBTOTAL(9,K7:K823) -> 0 | L6: =SUBTOTAL(9,L7:L823) -> 0 | M6: =SUBTOTAL(9,M7:M823) -> 9364201 | T6: =SUBTOTAL(9,T7:T823) -> -3625417 | U6: =SUBTOTAL(9,U7:U823) -> 215545084 | V6: =IF((H6+I6)=(T6+U6),"OK","검토") -> OK | Y6: =SUBTOTAL(9,Y7:Y823) -> 0 | Z6: =SUBTOTAL(9,Z7:Z823) -> 0 | AA6: =IF((K6+L6)=(Y6+Z6),"OK","검토") -> OK
A7: 여성가족평생교육위원회 | B7: 여성가족국 | C7: 여성가족과 | D7: 본예산 | E7: 1161 | F7: 여성긴급전화 1366운영 | G7: 364792 | I7: 13000 | J7: =SUM(G7+H7+I7) -> 377792 | M7: =SUM(G7+K7+L7) -> 364792 | N7: =IF(H7-K7<0,"동의필요","-") -> - | O7: 국비 가내시 여성가족부 복지지원과-3426(2014.11.25.) | S7: 기금 | T7: =IF($S7<>"도비",IF($Q7="국도비","직접입력",SUM($H7:$I7)),) -> 13000 | U7: =IF($S7="도비",SUM($H7:$I7),IF($Q7="국도비","직접입력",SUM($H7:$I7)-$T7)) -> 0 | V7: =IF($Q7="국도비","ok",IF(($H7+$I7)=($T7+$U7),"ok","검토")) -> ok | X7: =$S7 -> 기금 | Y7: =IF($X7<>"도비",IF($Q7="국도비","직접입력",SUM($K7:$L7)),) -> 0 | Z7: =IF($X7="도비",SUM($K7:$L7),IF($Q7="국도비","직접입력",SUM($K7:$L7)-$Y7)) -> 0 | AA7: =IF($Q7="국도비","ok",IF(($K7+$L7)=($Y7+$Z7),"ok","검토")) -> ok | AC7: {=IFERROR(IF($C7="","",INDEX(구분표!$I$2:$I$1001,MATCH(1,(구분표!$B$2:$B$1001='2015년본예산(세입)'!$A7)*(구분표!$C$2:$C$1001='2015년본예산(세입)'!$B7)*(구분표!$A$2:$A$1001='2015년본예산(세입)'!$C7),0))),"@@")} -> @@
A8: 여성가족평생교육위원회 | B8: 여성가족국 | C8: 여성가족과 | D8: 본예산 | E8: 1161 | F8: 가정폭력방지 및 피해자지원 사업 | G8: 1180925 | I8: 28001 | J8: =SUM(G8+H8+I8) -> 1208926 | M8: =SUM(G8+K8+L8) -> 1180925 | N8: =IF(H8-K8<0,"동의필요","-") -> - | O8: 국비 가내시 여성가족부 복지지원과-3426(2014.11.25.) | S8: 기금 | T8: =IF($S8<>"도비",IF($Q8="국도비","직접입력",SUM($H8:$I8)),) -> 28001 | U8: =IF($S8="도비",SUM($H8:$I8),IF($Q8="국도비","직접입력",SUM($H8:$I8)-$T8)) -> 0 | V8: =IF($Q8="국도비","ok",IF(($H8+$I8)=($T8+$U8),"ok","검토")) -> ok | X8: =$S8 -> 기금 | Y8: =IF($X8<>"도비",IF($Q8="국도비","직접입력",SUM($K8:$L8)),) -> 0 | Z8: =IF($X8="도비",SUM($K8:$L8),IF($Q8="국도비","직접입력",SUM($K8:$L8)-$Y8)) -> 0 | AA8: =IF($Q8="국도비","ok",IF(($K8+$L8)=($Y8+$Z8),"ok","검토")) -> ok | AC8: {=IFERROR(IF($C8="","",INDEX(구분표!$I$2:$I$1001,MATCH(1,(구분표!$B$2:$B$1001='2015년본예산(세입)'!$A8)*(구분표!$C$2:$C$1001='2015년본예산(세입)'!$B8)*(구분표!$A$2:$A$1001='2015년본예산(세입)'!$C8),0))),"@@")} -> @@
A9: 여성가족평생교육위원회 | B9: 여성가족국 | C9: 보육정책과 | D9: 본예산 | E9: 1162 | F9: 어린이집 확충 | G9: 4497000 | H9: -3496247 | J9: =SUM(G9+H9+I9) -> 1000753 | O9: 국비 변경내시 보건복지부 보육기반과-6287(2014.10.31.) | S9: 국비 | T9: =IF($S9<>"도비",IF($Q9="국도비","직접입력",SUM($H9:$I9)),) -> -3496247 | U9: =IF($S9="도비",SUM($H9:$I9),IF($Q9="국도비","직접입력",SUM($H9:$I9)-$T9)) -> 0 | V9: =IF($Q9="국도비","ok",IF(($H9+$I9)=($T9+$U9),"ok","검토")) -> ok | X9: =$S9 -> 국비 | Y9: =IF($X9<>"도비",IF($Q9="국도비","직접입력",SUM($K9:$L9)),) -> 0 | Z9: =IF($X9="도비",SUM($K9:$L9),IF($Q9="국도비","직접입력",SUM($K9:$L9)-$Y9)) -> 0 | AA9: =IF($Q9="국도비","ok",IF(($K9+$L9)=($Y9+$Z9),"ok","검토")) -> ok | AC9: {=IFERROR(IF($C9="","",INDEX(구분표!$I$2:$I$1001,MATCH(1,(구분표!$B$2:$B$1001='2015년본예산(세입)'!$A9)*(구분표!$C$2:$C$1001='2015년본예산(세입)'!$B9)*(구분표!$A$2:$A$1001='2015년본예산(세입)'!$C9),0))),"@@")} -> @@
A10: 여성가족평생교육위원회 | B10: 여성가족국 | C10: 보육정책과 | D10: 본예산 | E10: 1162 | F10: 어린이집 환경개선 | G10: 864081 | H10: -153035 | J10: =SUM(G10+H10+I10) -> 711046 | O10: 국비 변경내시 보건복지부 보육기반과-5804(2014.10.16.) | S10: 국비 | T10: =IF($S10<>"도비",IF($Q10="국도비","직접입력",SUM($H10:$I10)),) -> -153035 | U10: =IF($S10="도비",SUM($H10:$I10),IF($Q10="국도비","직접입력",SUM($H10:$I10)-$T10)) -> 0 | V10: =IF($Q10="국도비","ok",IF(($H10+$I10)=($T10+$U10),"ok","검토")) -> ok | X10: =$S10 -> 국비 | Y10: =IF($X10<>"도비",IF($Q10="국도비","직접입력",SUM($K10:$L10)),) -> 0 | Z10: =IF($X10="도비",SUM($K10:$L10),IF($Q10="국도비","직접입력",SUM($K10:$L10)-$Y10)) -> 0 | AA10: =IF($Q10="국도비","ok",IF(($K10+$L10)=($Y10+$Z10),"ok","검토")) -> ok | AC10: {=IFERROR(IF($C10="","",INDEX(구분표!$I$2:$I$1001,MATCH(1,(구분표!$B$2:$B$1001='2015년본예산(세입)'!$A10)*(구분표!$C$2:$C$1001='2015년본예산(세입)'!$B10)*(구분표!$A$2:$A$1001='2015년본예산(세입)'!$C10),0))),"@@")} -> @@
A11: 여성가족평생교육위원회 | B11: 여성가족국 | C11: 보육정책과 | D11: 본예산 | E11: 1162 | F11: 교육비 특별회계전입금 - 누리과정 운영 | G11: 0 | I11: 214045084 | J11: =SUM(G11+H11+I11) -> 214045084 | M11: =SUM(G11+K11+L11) -> 0 | N11: =IF(H11-K11<0,"동의필요","-") -> - | O11: 교육비특별회계전입금 내시 경기도교육청 유아특수교육과-20521(2014.11.24.) | S11: 도비 | T11: =IF($S11<>"도비",IF($Q11="국도비","직접입력",SUM($H11:$I11)),) -> 0 | U11: =IF($S11="도비",SUM($H11:$I11),IF($Q11="국도비","직접입력",SUM($H11:$I11)-$T11)) -> 214045084 | V11: =IF($Q11="국도비","ok",IF(($H11+$I11)=($T11+$U11),"ok","검토")) -> ok | X11: =$S11 -> 도비 | Y11: =IF($X11<>"도비",IF($Q11="국도비","직접입력",SUM($K11:$L11)),) -> 0 | Z11: =IF($X11="도비",SUM($K11:$L11),IF($Q11="국도비","직접입력",SUM($K11:$L11)-$Y11)) -> 0 | AA11: =IF($Q11="국도비","ok",IF(($K11+$L11)=($Y11+$Z11),"ok","검토")) -> ok | AC11: {=IFERROR(IF($C11="","",INDEX(구분표!$I$2:$I$1001,MATCH(1,(구분표!$B$2:$B$1001='2015년본예산(세입)'!$A11)*(구분표!$C$2:$C$1001='2015년본예산(세입)'!$B11)*(구분표!$A$2:$A$1001='2015년본예산(세입)'!$C11),0))),"@@")} -> @@
A12: 여성가족평생교육위원회 | B12: 여성가족국 | C12: 보육정책과 | D12: 신규 | F12: 보육정책과 도비사용잔액 | G12: 0 | I12: 1500000 | J12: =SUM(G12+H12+I12) -> 1500000 | M12: =SUM(G12+K12+L12) -> 0 | N12: =IF(H12-K12<0,"동의필요","-") -> - | O12: 시도비반환금수입 도 보육정책과-9886(2014.7.4.) | S12: 도비 | T12: =IF($S12<>"도비",IF($Q12="국도비","직접입력",SUM($H12:$I12)),) -> 0 | U12: =IF($S12="도비",SUM($H12:$I12),IF($Q12="국도비","직접입력",SUM($H12:$I12)-$T12)) -> 1500000 | V12: =IF($Q12="국도비","ok",IF(($H12+$I12)=($T12+$U12),"ok","검토")) -> ok | X12: =$S12 -> 도비 | Y12: =IF($X12<>"도비",IF($Q12="국도비","직접입력",SUM($K12:$L12)),) -> 0 | Z12: =IF($X12="도비",SUM($K12:$L12),IF($Q12="국도비","직접입력",SUM($K12:$L12)-$Y12)) -> 0 | AA12: =IF($Q12="국도비","ok",IF(($K12+$L12)=($Y12+$Z12),"ok","검토")) -> ok | AC12: {=IFERROR(IF($C12="","",INDEX(구분표!$I$2:$I$1001,MATCH(1,(구분표!$B$2:$B$1001='2015년본예산(세입)'!$A12)*(구분표!$C$2:$C$1001='2015년본예산(세입)'!$B12)*(구분표!$A$2:$A$1001='2015년본예산(세입)'!$C12),0))),"@@")} -> @@
A13: 여성가족평생교육위원회 | B13: 여성가족국 | C13: 아동청소년과 | D13: 본예산 | E13: 1163 | F13: 요보호아동 그룹홈 운영지원 | G13: 1892312 | H13: -7 | J13: =SUM(G13+H13+I13) -> 1892305 | M13: =SUM(G13+K13+L13) -> 1892312 | N13: =IF(H13-K13<0,"동의필요","-") -> 동의필요 | O13: 국비 가내시 보건복지부 아동복지정책과-5231(2014.10.20.) | S13: 국비 | T13: =IF($S13<>"도비",IF($Q13="국도비","직접입력",SUM($H13:$I13)),) -> -7 | U13: =IF($S13="도비",SUM($H13:$I13),IF($Q13="국도비","직접입력",SUM($H13:$I13)-$T13)) -> 0 | V13: =IF($Q13="국도비","ok",IF(($H13+$I13)=($T13+$U13),"ok","검토")) -> ok | X13: =$S13 -> 국비 | Y13: =IF($X13<>"도비",IF($Q13="국도비","직접입력",SUM($K13:$L13)),) -> 0 | Z13: =IF($X13="도비",SUM($K13:$L13),IF($Q13="국도비","직접입력",SUM($K13:$L13)-$Y13)) -> 0 | AA13: =IF($Q13="국도비","ok",IF(($K13+$L13)=($Y13+$Z13),"ok","검토")) -> ok | AC13: {=IFERROR(IF($C13="","",INDEX(구분표!$I$2:$I$1001,MATCH(1,(구분표!$B$2:$B$1001='2015년본예산(세입)'!$A13)*(구분표!$C$2:$C$1001='2015년본예산(세입)'!$B13)*(구분표!$A$2:$A$1001='2015년본예산(세입)'!$C13),0))),"@@")} -> @@
A14: 여성가족평생교육위원회 | B14: 여성가족국 | C14: 아동청소년과 | D14: 본예산 | E14: 1163 | F14: 지방청소년활동진흥센터 활동지원 | G14: 184500 | H14: -4500 | J14: =SUM(G14+H14+I14) -> 180000 | M14: =SUM(G14+K14+L14) -> 184500 | N14: =IF(H14-K14<0,"동의필요","-") -> 동의필요 | O14: 국비 가내시 여성가족부 활동지원과-5337(2014.10.23.) | S14: 기금 | T14: =IF($S14<>"도비",IF($Q14="국도비","직접입력",SUM($H14:$I14)),) -> -4500 | U14: =IF($S14="도비",SUM($H14:$I14),IF($Q14="국도비","직접입력",SUM($H14:$I14)-$T14)) -> 0 | V14: =IF($Q14="국도비","ok",IF(($H14+$I14)=($T14+$U14),"ok","검토")) -> ok | X14: =$S14 -> 기금 | Y14: =IF($X14<>"도비",IF($Q14="국도비","직접입력",SUM($K14:$L14)),) -> 0 | Z14: =IF($X14="도비",SUM($K14:$L14),IF($Q14="국도비","직접입력",SUM($K14:$L14)-$Y14)) -> 0 | AA14: =IF($Q14="국도비","ok",IF(($K14+$L14)=($Y14+$Z14),"ok","검토")) -> ok | AC14: {=IFERROR(IF($C14="","",INDEX(구분표!$I$2:$I$1001,MATCH(1,(구분표!$B$2:$B$1001='2015년본예산(세입)'!$A14)*(구분표!$C$2:$C$1001='2015년본예산(세입)'!$B14)*(구분표!$A$2:$A$1001='2015년본예산(세입)'!$C14),0))),"@@")} -> @@
A15: 여성가족평생교육위원회 | B15: 여성가족국 | C15: 아동청소년과 | D15: 본예산 | E15: 1163 | F15: 청소년 참여지원 | G15: 126400 | H15: -5000 | J15: =SUM(G15+H15+I15) -> 121400 | M15: =SUM(G15+K15+L15) -> 126400 | N15: =IF(H15-K15<0,"동의필요","-") -> 동의필요 | O15: 국비 가내시 여성가족부 청소년정책과-3737(2014.11.13.) | S15: 기금 | T15: =IF($S15<>"도비",IF($Q15="국도비","직접입력",SUM($H15:$I15)),) -> -5000 | U15: =IF($S15="도비",SUM($H15:$I15),IF($Q15="국도비","직접입력",SUM($H15:$I15)-$T15)) -> 0 | V15: =IF($Q15="국도비","ok",IF(($H15+$I15)=($T15+$U15),"ok","검토")) -> ok | X15: =$S15 -> 기금 | Y15: =IF($X15<>"도비",IF($Q15="국도비","직접입력",SUM($K15:$L15)),) -> 0 | Z15: =IF($X15="도비",SUM($K15:$L15),IF($Q15="국도비","직접입력",SUM($K15:$L15)-$Y15)) -> 0 | AA15: =IF($Q15="국도비","ok",IF(($K15+$L15)=($Y15+$Z15),"ok","검토")) -> ok | AC15: {=IFERROR(IF($C15="","",INDEX(구분표!$I$2:$I$1001,MATCH(1,(구분표!$B$2:$B$1001='2015년본예산(세입)'!$A15)*(구분표!$C$2:$C$1001='2015년본예산(세입)'!$B15)*(구분표!$A$2:$A$1001='2015년본예산(세입)'!$C15),0))),"@@")} -> @@
A16: 여성가족평생교육위원회 | B16: 여성가족국 | C16: 아동청소년과 | D16: 본예산 | E16: 1163 | F16: 청소년 사회안전망 구축 | G16: 4982572 | I16: 90911 | J16: =SUM(G16+H16+I16) -> 5073483 | M16: =SUM(G16+K16+L16) -> 4982572 | N16: =IF(H16-K16<0,"동의필요","-") -> - | O16: 국비 가내시 여성가족부 청소년 자립지원과-2876(2014.10.17.) | S16: 기금 | T16: =IF($S16<>"도비",IF($Q16="국도비","직접입력",SUM($H16:$I16)),) -> 90911 | U16: =IF($S16="도비",SUM($H16:$I16),IF($Q16="국도비","직접입력",SUM($H16:$I16)-$T16)) -> 0 | V16: =IF($Q16="국도비","ok",IF(($H16+$I16)=($T16+$U16),"ok","검토")) -> ok | X16: =$S16 -> 기금 | Y16: =IF($X16<>"도비",IF($Q16="국도비","직접입력",SUM($K16:$L16)),) -> 0 | Z16: =IF($X16="도비",SUM($K16:$L16),IF($Q16="국도비","직접입력",SUM($K16:$L16)-$Y16)) -> 0 | AA16: =IF($Q16="국도비","ok",IF(($K16+$L16)=($Y16+$Z16),"ok","검토")) -> ok | AC16: {=IFERROR(IF($C16="","",INDEX(구분표!$I$2:$I$1001,MATCH(1,(구분표!$B$2:$B$1001='2015년본예산(세입)'!$A16)*(구분표!$C$2:$C$1001='2015년본예산(세입)'!$B16)*(구분표!$A$2:$A$1001='2015년본예산(세입)'!$C16),0))),"@@")} -> @@
A17: 여성가족평생교육위원회 | B17: 여성가족국 | C17: 아동청소년과 | D17: 본예산 | E17: 1163 | F17: 학대피해아동 쉼터 운영 | G17: 360400 | H17: -52620 | J17: =SUM(G17+H17+I17) -> 307780 | M17: =SUM(G17+K17+L17) -> 360400 | N17: =IF(H17-K17<0,"동의필요","-") -> 동의필요 | O17: 국비 가내시 보건복지부 아동복지정책과-5231(2014.10.20.) | S17: 기금 | T17: =IF($S17<>"도비",IF($Q17="국도비","직접입력",SUM($H17:$I17)),) -> -52620 | U17: =IF($S17="도비",SUM($H17:$I17),IF($Q17="국도비","직접입력",SUM($H17:$I17)-$T17)) -> 0 | V17: =IF($Q17="국도비","ok",IF(($H17+$I17)=($T17+$U17),"ok","검토")) -> ok | X17: =$S17 -> 기금 | Y17: =IF($X17<>"도비",IF($Q17="국도비","직접입력",SUM($K17:$L17)),) -> 0 | Z17: =IF($X17="도비",SUM($K17:$L17),IF($Q17="국도비","직접입력",SUM($K17:$L17)-$Y17)) -> 0 | AA17: =IF($Q17="국도비","ok",IF(($K17+$L17)=($Y17+$Z17),"ok","검토")) -> ok | AC17: {=IFERROR(IF($C17="","",INDEX(구분표!$I$2:$I$1001,MATCH(1,(구분표!$B$2:$B$1001='2015년본예산(세입)'!$A17)*(구분표!$C$2:$C$1001='2015년본예산(세입)'!$B17)*(구분표!$A$2:$A$1001='2015년본예산(세입)'!$C17),0))),"@@")} -> @@
A18: 여성가족평생교육위원회 | B18: 여성가족국 | C18: 여성능력개발센터 | D18: 본예산 | E18: 1165 | F18: 인터넷중독대응 사업 | G18: 272300 | H18: -45920 | J18: =SUM(G18+H18+I18) -> 226380 | M18: =SUM(G18+K18+L18) -> 272300 | N18: =IF(H18-K18<0,"동의필요","-") -> 동의필요 | O18: 국비 가내시 한국정보화진흥원 인터넷중독상담부-4312(2014.11.10.) | S18: 국비 | T18: =IF($S18<>"도비",IF($Q18="국도비","직접입력",SUM($H18:$I18)),) -> -45920 | U18: =IF($S18="도비",SUM($H18:$I18),IF($Q18="국도비","직접입력",SUM($H18:$I18)-$T18)) -> 0 | V18: =IF($Q18="국도비","ok",IF(($H18+$I18)=($T18+$U18),"ok","검토")) -> ok | X18: =$S18 -> 국비 | Y18: =IF($X18<>"도비",IF($Q18="국도비","직접입력",SUM($K18:$L18)),) -> 0 | Z18: =IF($X18="도비",SUM($K18:$L18),IF($Q18="국도비","직접입력",SUM($K18:$L18)-$Y18)) -> 0 | AA18: =IF($Q18="국도비","ok",IF(($K18+$L18)=($Y18+$Z18),"ok","검토")) -> ok | AC18: {=IFERROR(IF($C18="","",INDEX(구분표!$I$2:$I$1001,MATCH(1,(구분표!$B$2:$B$1001='2015년본예산(세입)'!$A18)*(구분표!$C$2:$C$1001='2015년본예산(세입)'!$B18)*(구분표!$A$2:$A$1001='2015년본예산(세입)'!$C18),0))),"@@")} -> @@

Sheet 2015년본예산(세출)
A1: 2015년도 경기도 일반회계 세출 예산 조정(안)
A2: □세출예산 | T2: 세입 = 세출 | Y2: 세입 = 세출
K3: =COUNTA(K7:K92) -> 0 | L3: =COUNTA(L7:L92) -> 0 | O3: (단위 : 천원) | T3: =IF(T6='2015년본예산(세입)'!$T$6,"OK","@@") -> OK | U3: =SUM(T6:U6) -> 221182140 | V3: =IF(COUNTIF(V6:V878,"@@")>0,"@@","OK") -> OK | Y3: =IF(Y6=#REF!,"OK","@@") -> #REF! | Z3: =SUM(Y6:Z6) -> 0 | AA3: =IF(COUNTIF(AA6:AA878,"@@")>0,"@@","OK") -> OK
A4: 위원회명 | B4: 실국명 | C4: 부서명 | D4: 편성 구분 | E4: 예산안 페이지 | F4: 세부사업명 및 부기명 | G4: 예산안 (가) | H4: 상임위 예산안 조정액(나) | J4: 상임위 수정 예산안 (다=가+나) | K4: 예결위 예산안 조정액(라) | M4: 예결위 수정 예산안 (마=가+라) | N4: 동의대상 | O4: 비고(부대의견) | Q4: 국도비 등 여부 | S4: 재원 | T4: 상임위 재원별 증감액 | X4: 재원 | Y4: 예결위 재원별 증감액 | AC4: 위원회 부서별 정렬
H5: 감액 | I5: 증액 | K5: 감액 | L5: 증액 | T5: 국비 등 | U5: 도 비 | V5: 검증 | Y5: 국비 등 | Z5: 도 비 | AA5: 검증
A6: C열 부서명 입력하면 자동 입력 됩니다 | B6: C열 부서명 입력하면 자동 입력 됩니다 | D6: 선택입력 | F6: 예산안의 세부사업명 및 부기명과 동일하게 입력하세요 | G6: =SUM(G7:G105) -> 21432312 | H6: =SUM(H7:H105) -> -6795929 | I6: =SUM(I7:I105) -> 228251069 | J6: =SUM(J7:J105) -> 242887452 | K6: =SUBTOTAL(9,K7:K790) -> 0 | L6: =SUBTOTAL(9,L7:L790) -> 0 | M6: =SUBTOTAL(9,M7:M790) -> 7312143 | S6: 자동 입력 | T6: =SUM(T7:T105) -> -3625417 | U6: =SUBTOTAL(9,U7:U790) -> 224807557 | V6: =IF((H6+I6)=(T6+U6),"OK","검토") -> 검토 | Y6: =SUBTOTAL(9,Y7:Y790) -> 0 | Z6: =SUBTOTAL(9,Z7:Z790) -> 0 | AA6: =IF((K6+L6)=(Y6+Z6),"OK","검토") -> OK | AC6: =IF(COUNTIF(AC7:AC607,"@@")>0,"@@","OK") -> @@
A7: 여성가족교육협력위원회 | B7: 여성가족국 | C7: 여성가족과 | D7: 본예산 | E7: 1171 | F7: 여성긴급전화 1366 운영(기금/직접) - 여성긴급전화 1366 기능보강 | G7: 8000 | I7: 13000 | J7: =G7+H7+I7 -> 21000 | M7: =SUM(G7+K7+L7) -> 8000 | N7: =IF(H7-K7<0,"동의필요","-") -> - | O7: 국비 가내시 여성가족부 복지지원과-3426(2014.11.25.) | S7: =IF($Q7="도비","도비",IF(COUNT(FIND("국비/",$F7)),"국비",IF(COUNT(FIND("지특/",$F7)),"지특",IF(COUNT(FIND("기금/",$F7)),"기금",IF(COUNT(FIND("교부세/",$F7)),"특교",IF(COUNT(FIND("자체/",$F7)),"도비","")))))) -> 기금 | T7: 6500 | U7: =IF($S7="도비",SUM($H7:$I7),IF($Q7="국도비","직접입력",SUM($H7:$I7)-$T7)) -> 6500 | V7: =IF($Q7="국도비","ok",IF(($H7+$I7)=($T7+$U7),"ok","검토")) -> ok | X7: =$S7 -> 기금 | Y7: =IF($X7<>"도비",IF($Q7="국도비","직접입력",SUM($K7:$L7)),) -> 0 | Z7: =IF($X7="도비",SUM($K7:$L7),IF($Q7="국도비","직접입력",SUM($K7:$L7)-$Y7)) -> 0 | AA7: =IF($Q7="국도비","ok",IF(($K7+$L7)=($Y7+$Z7),"ok","검토")) -> ok | AC7: {=IFERROR(IF($C7="","",INDEX(구분표!$I$2:$I$1001,MATCH(1,(구분표!$B$2:$B$1001='2015년본예산(세출)'!$A7)*(구분표!$C$2:$C$1001='2015년본예산(세출)'!$B7)*(구분표!$A$2:$A$1001='2015년본예산(세출)'!$C7),0))),"@@")} -> 3201
A8: 여성가족교육협력위원회 | B8: 여성가족국 | C8: 여성가족과 | D8: 본예산 | E8: 1172 | F8: 가정폭력방지 및 피해자지원(기금/지원) - 가정폭력피해자 의료비 지원 | G8: 167443 | I8: 1 | J8: =G8+H8+I8 -> 167444 | M8: =SUM(G8+K8+L8) -> 167443 | N8: =IF(H8-K8<0,"동의필요","-") -> - | O8: 국비 가내시 여성가족부 복지지원과-3426(2014.11.25.) | S8: 기금 | T8: =IF($S8<>"도비",IF($Q8="국도비","직접입력",SUM($H8:$I8)),) -> 1 | U8: =IF($S8="도비",SUM($H8:$I8),IF($Q8="국도비","직접입력",SUM($H8:$I8)-$T8)) -> 0 | V8: =IF($Q8="국도비","ok",IF(($H8+$I8)=($T8+$U8),"ok","검토")) -> ok | X8: =$S8 -> 기금 | Y8: =IF($X8<>"도비",IF($Q8="국도비","직접입력",SUM($K8:$L8)),) -> 0 | Z8: =IF($X8="도비",SUM($K8:$L8),IF($Q8="국도비","직접입력",SUM($K8:$L8)-$Y8)) -> 0 | AA8: =IF($Q8="국도비","ok",IF(($K8+$L8)=($Y8+$Z8),"ok","검토")) -> ok | AC8: {=IFERROR(IF($C8="","",INDEX(구분표!$I$2:$I$1001,MATCH(1,(구분표!$B$2:$B$1001='2015년본예산(세출)'!$A8)*(구분표!$C$2:$C$1001='2015년본예산(세출)'!$B8)*(구분표!$A$2:$A$1001='2015년본예산(세출)'!$C8),0))),"@@")} -> 3201
A9: 여성가족교육협력위원회 | B9: 여성가족국 | C9: 여성가족과 | D9: 본예산 | E9: 1173 | F9: 가정폭력방지 및 피해자지원(기금/지원) - 가정폭력피해자 보호시설 기능보강 | G9: 37500 | I9: 42000 | J9: =G9+H9+I9 -> 79500 | O9: 국비 가내시 여성가족부 복지지원과-3426(2014.11.25.) | S9: 기금 | T9: 28000 | U9: =IF($S9="도비",SUM($H9:$I9),IF($Q9="국도비","직접입력",SUM($H9:$I9)-$T9)) -> 14000 | V9: =IF($Q9="국도비","ok",IF(($H9+$I9)=($T9+$U9),"ok","검토")) -> ok | X9: =$S9 -> 기금 | Y9: =IF($X9<>"도비",IF($Q9="국도비","직접입력",SUM($K9:$L9)),) -> 0 | Z9: =IF($X9="도비",SUM($K9:$L9),IF($Q9="국도비","직접입력",SUM($K9:$L9)-$Y9)) -> 0 | AA9: =IF($Q9="국도비","ok",IF(($K9+$L9)=($Y9+$Z9),"ok","검토")) -> ok
A10: 여성가족교육협력위원회 | B10: 여성가족국 | C10: 여성가족과 | D10: 본예산 | E10: 1179 | F10: 여성단체 활동지원 강화(자체/직접) - 여성단체사무실 임차료 지원 | G10: 27000 | H10: -27000 | J10: =G10+H10+I10 -> 0 | M10: =SUM(G10+K10+L10) -> 27000 | N10: =IF(H10-K10<0,"동의필요","-") -> 동의필요 | O10: 예산과목(307-02)
A11: 여성가족교육협력위원회 | B11: 여성가족국 | C11: 여성가족과 | D11: 본예산 | E11: 1179 | F11: 여성단체 활동지원 강화(자체/직접) - 여성단체사무실 임차료 지원 | G11: 0 | I11: 27000 | J11: =G11+H11+I11 -> 27000 | M11: =SUM(G11+K11+L11) -> 0 | N11: =IF(H11-K11<0,"동의필요","-") -> - | O11: 307-03 민간단체법정운영비보조로 통계목 변경 | S11: =IF($Q11="도비","도비",IF(COUNT(FIND("국비/",$F11)),"국비",IF(COUNT(FIND("지특/",$F11)),"지특",IF(COUNT(FIND("기금/",$F11)),"기금",IF(COUNT(FIND("교부세/",$F11)),"특교",IF(COUNT(FIND("자체/",$F11)),"도비","")))))) -> 도비 | T11: =IF($S11<>"도비",IF($Q11="국도비","직접입력",SUM($H11:$I11)),) -> 0 | U11: =IF($S11="도비",SUM($H11:$I11),IF($Q11="국도비","직접입력",SUM($H11:$I11)-$T11)) -> 27000 | V11: =IF($Q11="국도비","ok",IF(($H11+$I11)=($T11+$U11),"ok","검토")) -> ok | X11: =$S11 -> 도비 | Y11: =IF($X11<>"도비",IF($Q11="국도비","직접입력",SUM($K11:$L11)),) -> 0 | Z11: =IF($X11="도비",SUM($K11:$L11),IF($Q11="국도비","직접입력",SUM($K11:$L11)-$Y11)) -> 0 | AA11: =IF($Q11="국도비","ok",IF(($K11+$L11)=($Y11+$Z11),"ok","검토")) -> ok | AC11: {=IFERROR(IF($C11="","",INDEX(구분표!$I$2:$I$1001,MATCH(1,(구분표!$B$2:$B$1001='2015년본예산(세출)'!$A11)*(구분표!$C$2:$C$1001='2015년본예산(세출)'!$B11)*(구분표!$A$2:$A$1001='2015년본예산(세출)'!$C11),0))),"@@")} -> 3201
A12: 여성가족교육협력위원회 | B12: 여성가족국 | C12: 여성가족과 | D12: 본예산 | E12: 1178 | F12: 출산친화 인식개선(자체/직접) - 학교 인구교육 | G12: 32000 | I12: 23000 | J12: =G12+H12+I12 -> 55000 | S12: =IF($Q12="도비","도비",IF(COUNT(FIND("국비/",$F12)),"국비",IF(COUNT(FIND("지특/",$F12)),"지특",IF(COUNT(FIND("기금/",$F12)),"기금",IF(COUNT(FIND("교부세/",$F12)),"특교",IF(COUNT(FIND("자체/",$F12)),"도비","")))))) -> 도비 | U12: 23000 | V12: =IF($Q12="국도비","ok",IF(($H12+$I12)=($T12+$U12),"ok","검토")) -> ok | X12: =$S12 -> 도비
A13: 여성가족교육협력위원회 | B13: 여성가족국 | C13: 여성가족과 | D13: 본예산 | E13: 1180 | F13: 여성단체 활동지원 강화(자체/직접) - 경기여성단체협의회 30년사 발간 | G13: 30000 | H13: -30000 | J13: =G13+H13+I13 -> 0 | S13: =IF($Q13="도비","도비",IF(COUNT(FIND("국비/",$F13)),"국비",IF(COUNT(FIND("지특/",$F13)),"지특",IF(COUNT(FIND("기금/",$F13)),"기금",IF(COUNT(FIND("교부세/",$F13)),"특교",IF(COUNT(FIND("자체/",$F13)),"도비","")))))) -> 도비 | U13: -30000 | V13: =IF($Q13="국도비","ok",IF(($H13+$I13)=($T13+$U13),"ok","검토")) -> ok | X13: =$S13 -> 도비
A14: 여성가족교육협력위원회 | B14: 여성가족국 | C14: 여성가족과 | D14: 본예산 | E14: 1180 | F14: 여성단체 활동지원 강화(자체/직접) - 경기여성단체협의회 30주년 행사 | G14: 20000 | H14: -20000 | J14: =G14+H14+I14 -> 0 | S14: =IF($Q14="도비","도비",IF(COUNT(FIND("국비/",$F14)),"국비",IF(COUNT(FIND("지특/",$F14)),"지특",IF(COUNT(FIND("기금/",$F14)),"기금",IF(COUNT(FIND("교부세/",$F14)),"특교",IF(COUNT(FIND("자체/",$F14)),"도비","")))))) -> 도비 | U14: -20000 | V14: =IF($Q14="국도비","ok",IF(($H14+$I14)=($T14+$U14),"ok","검토")) -> ok | X14: =$S14 -> 도비
A15: 여성가족교육협력위원회 | B15: 여성가족국 | C15: 여성가족과 | D15: 신규 | E15: 1180 | F15: 여성단체 활동지원 강화(자체/직접) - 경기여성네트워크 활동지원 | G15: 0 | I15: 30000 | J15: =G15+H15+I15 -> 30000 | S15: =IF($Q15="도비","도비",IF(COUNT(FIND("국비/",$F15)),"국비",IF(COUNT(FIND("지특/",$F15)),"지특",IF(COUNT(FIND("기금/",$F15)),"기금",IF(COUNT(FIND("교부세/",$F15)),"특교",IF(COUNT(FIND("자체/",$F15)),"도비","")))))) -> 도비 | U15: 30000 | V15: =IF($Q15="국도비","ok",IF(($H15+$I15)=($T15+$U15),"ok","검토")) -> ok | X15: =$S15 -> 도비
A16: 여성가족교육협력위원회 | B16: 여성가족국 | C16: 여성가족과 | D16: 본예산 | E16: 1180 | F16: 경기여성의 전당 건립 지원(자체/직접) | G16: 1700000 | H16: -700000 | J16: =G16+H16+I16 -> 1000000 | S16: =IF($Q16="도비","도비",IF(COUNT(FIND("국비/",$F16)),"국비",IF(COUNT(FIND("지특/",$F16)),"지특",IF(COUNT(FIND("기금/",$F16)),"기금",IF(COUNT(FIND("교부세/",$F16)),"특교",IF(COUNT(FIND("자체/",$F16)),"도비","")))))) -> 도비 | U16: -700000 | V16: =IF($Q16="국도비","ok",IF(($H16+$I16)=($T16+$U16),"ok","검토")) -> ok | X16: =$S16 -> 도비
A17: 여성가족교육협력위원회 | B17: 여성가족국 | C17: 여성가족과 | D17: 본예산 | E17: 1181 | F17: 여성권익증진기관 운영지원(자체/지원) - 여성근로자복지센터 운영 지원 | G17: 36000 | I17: 42000 | J17: =G17+H17+I17 -> 78000 | O17: 매칭비율(도:시군 2:8) 개소당 1천만원 지원 | S17: =IF($Q17="도비","도비",IF(COUNT(FIND("국비/",$F17)),"국비",IF(COUNT(FIND("지특/",$F17)),"지특",IF(COUNT(FIND("기금/",$F17)),"기금",IF(COUNT(FIND("교부세/",$F17)),"특교",IF(COUNT(FIND("자체/",$F17)),"도비","")))))) -> 도비 | U17: 42000 | V17: =IF($Q17="국도비","ok",IF(($H17+$I17)=($T17+$U17),"ok","검토")) -> ok | X17: =$S17 -> 도비
A18: 여성가족교육협력위원회 | B18: 여성가족국 | C18: 여성가족과 | D18: 본예산 | E18: 1181 | F18: 경기도가족여성연구원운영(자체/직접) | G18: 2618000 | I18: 300000 | J18: =G18+H18+I18 -> 2918000
A19: 여성가족교육협력위원회 | B19: 여성가족국 | C19: 여성가족과 | D19: 신규 | F19: 가족지원센터 건립 지원(자체/지원) - 시흥시 가족지원센터 건립 | G19: 0 | I19: 1000000 | J19: =G19+H19+I19 -> 1000000 | S19: =IF($Q19="도비","도비",IF(COUNT(FIND("국비/",$F19)),"국비",IF(COUNT(FIND("지특/",$F19)),"지특",IF(COUNT(FIND("기금/",$F19)),"기금",IF(COUNT(FIND("교부세/",$F19)),"특교",IF(COUNT(FIND("자체/",$F19)),"도비","")))))) -> 도비 | U19: 1000000 | V19: =IF($Q19="국도비","ok",IF(($H19+$I19)=($T19+$U19),"ok","검토")) -> ok | X19: =$S19 -> 도비
A20: 여성가족교육협력위원회 | B20: 여성가족국 | C20: 보육정책과 | D20: 본예산 | E20: 1188 | F20: 어린이집 확충(국비/지원) | G20: 6407500 | H20: -4966371 | J20: =G20+H20+I20 -> 1441129 | O20: 국비 변경내시 보건복지부 보육기반과-6287(2014.10.31.) | S20: 국비 | T20: -3311247 | U20: -1655124 | V20: =IF($Q20="국도비","ok",IF(($H20+$I20)=($T20+$U20),"ok","검토")) -> ok | X20: =$S20 -> 국비
A21: 여성가족교육협력위원회 | B21: 여성가족국 | C21: 보육정책과 | D21: 신규 | F21: 누리과정 운영(자체/지원) - 누리과정 운영 | G21: 0 | I21: 157052640 | J21: =G21+H21+I21 -> 157052640 | O21: 교육비특별회계전입금 내시 경기도교육청 유아특수교육과-20521(2014.11.24.) | S21: 도비 | T21: =IF($S21<>"도비",IF($Q21="국도비","직접입력",SUM($H21:$I21)),) -> 0 | U21: =IF($S21="도비",SUM($H21:$I21),IF($Q21="국도비","직접입력",SUM($H21:$I21)-$T21)) -> 157052640 | V21: =IF($Q21="국도비","ok",IF(($H21+$I21)=($T21+$U21),"ok","검토")) -> ok | X21: =$S21 -> 도비
A22: 여성가족교육협력위원회 | B22: 여성가족국 | C22: 보육정책과 | D22: 본예산 | E22: 1187 | F22: 특수보육 활성화 지원(자체/지원) - 가정보육교사제도 운영 | G22: 405659 | H22: -121698 | J22: =G22+H22+I22 -> 283961 | S22: 도비 | U22: -121698 | V22: =IF($Q22="국도비","ok",IF(($H22+$I22)=($T22+$U22),"ok","검토")) -> ok | X22: =$S22 -> 도비
A23: 여성가족교육협력위원회 | B23: 여성가족국 | C23: 보육정책과 | D23: 본예산 | E23: 1187 | F23: 특수보육 활성화 지원(자체/지원) - 공공형 어린이집 인건비 지원 | G23: 464100 | I23: 190609 | J23: =G23+H23+I23 -> 654709 | S23: 도비 | U23: 190609 | V23: =IF($Q23="국도비","ok",IF(($H23+$I23)=($T23+$U23),"ok","검토")) -> ok | X23: =$S23 -> 도비
A24: 여성가족교육협력위원회 | B24: 여성가족국 | C24: 보육정책과 | D24: 신규 | E24: 1187 | F24: 특수보육 활성화 지원(자체/지원) - 누리과정 차액보육료 지원 | G24: 0 | I24: 5786316 | J24: =G24+H24+I24 -> 5786316 | O24: 부기사업 추가 | S24: 도비 | U24: 5786316 | V24: =IF($Q24="국도비","ok",IF(($H24+$I24)=($T24+$U24),"ok","검토")) -> ok | X24: =$S24 -> 도비
A25: 여성가족교육협력위원회 | B25: 여성가족국 | C25: 보육정책과 | D25: 신규 | E25: 1187 | F25: 특수보육 활성화 지원(자체/지원) - 영아 표준보육과정 프로그램 지원 | G25: 0 | I25: 1245840 | J25: =G25+H25+I25 -> 1245840 | O25: 부기사업 추가 | S25: 도비 | U25: 1245840 | V25: =IF($Q25="국도비","ok",IF(($H25+$I25)=($T25+$U25),"ok","검토")) -> ok | X25: =$S25 -> 도비
A26: 여성가족교육협력위원회 | B26: 여성가족국 | C26: 보육정책과 | D26: 본예산 | E26: 1190 | F26: 보육정보 교환으로 보육발전 지원(자체/직접) - 도 육아종합 지원센터 운영 활성화 | G26: 105000 | I26: 50000 | J26: =G26+H26+I26 -> 155000 | S26: 도비 | U26: 50000 | V26: =IF($Q26="국도비","ok",IF(($H26+$I26)=($T26+$U26),"ok","검토")) -> ok | X26: =$S26 -> 도비
A27: 여성가족교육협력위원회 | B27: 여성가족국 | C27: 아동청소년과 | D27: 본예산 | E27: 1191 | F27: 지방청소년활동진흥센터 활동지원(기금/직접) | G27: 738000 | H27: -4500 | J27: =G27+H27+I27 -> 733500 | M27: =SUM(G27+K27+L27) -> 738000 | N27: =IF(H27-K27<0,"동의필요","-") -> 동의필요 | O27: 국비 가내시 여성가족부 활동진흥과-5337(2014.10.24.) | S27: =IF($Q27="도비","도비",IF(COUNT(FIND("국비/",$F27)),"국비",IF(COUNT(FIND("지특/",$F27)),"지특",IF(COUNT(FIND("기금/",$F27)),"기금",IF(COUNT(FIND("교부세/",$F27)),"특교",IF(COUNT(FIND("자체/",$F27)),"도비","")))))) -> 기금 | T27: =IF($S27<>"도비",IF($Q27="국도비","직접입력",SUM($H27:$I27)),) -> -4500 | U27: =IF($S27="도비",SUM($H27:$I27),IF($Q27="국도비","직접입력",SUM($H27:$I27)-$T27)) -> 0 | V27: =IF($Q27="국도비","ok",IF(($H27+$I27)=($T27+$U27),"ok","검토")) -> ok | X27: =$S27 -> 기금 | Y27: =IF($X27<>"도비",IF($Q27="국도비","직접입력",SUM($K27:$L27)),) -> 0 | Z27: =IF($X27="도비",SUM($K27:$L27),IF($Q27="국도비","직접입력",SUM($K27:$L27)-$Y27)) -> 0 | AA27: =IF($Q27="국도비","ok",IF(($K27+$L27)=($Y27+$Z27),"ok","검토")) -> ok | AC27: {=IFERROR(IF($C27="","",INDEX(구분표!$I$2:$I$1001,MATCH(1,(구분표!$B$2:$B$1001='2015년본예산(세출)'!$A27)*(구분표!$C$2:$C$1001='2015년본예산(세출)'!$B27)*(구분표!$A$2:$A$1001='2015년본예산(세출)'!$C27),0))),"@@")} -> 3203
A28: =IFERROR(VLOOKUP('2015년본예산(세출)'!$C28,구분표!$A$2:$C$1001,2,FALSE),"") -> 여성가족교육협력위원회 | B28: =IFERROR(VLOOKUP('2015년본예산(세출)'!$C28,구분표!$A$2:$C$1001,3,FALSE),"") -> 여성가족국 | C28: 아동청소년과 | D28: 본예산 | E28: 1191 | F28: 청소년정책 지역토론회(기금/직접) | G28: 10000 | H28: -10000 | J28: =G28+H28+I28 -> 0 | M28: =SUM(G28+K28+L28) -> 10000 | N28: =IF(H28-K28<0,"동의필요","-") -> 동의필요 | O28: 국비 가내시(사업일몰) 여성가족부 청소년정책과-3737(2014.11.13.) | S28: =IF($Q28="도비","도비",IF(COUNT(FIND("국비/",$F28)),"국비",IF(COUNT(FIND("지특/",$F28)),"지특",IF(COUNT(FIND("기금/",$F28)),"기금",IF(COUNT(FIND("교부세/",$F28)),"특교",IF(COUNT(FIND("자체/",$F28)),"도비","")))))) -> 기금 | T28: -5000 | U28: -5000 | V28: =IF($Q28="국도비","ok",IF(($H28+$I28)=($T28+$U28),"ok","검토")) -> ok | X28: =$S28 -> 기금 | Y28: =IF($X28<>"도비",IF($Q28="국도비","직접입력",SUM($K28:$L28)),) -> 0 | Z28: =IF($X28="도비",SUM($K28:$L28),IF($Q28="국도비","직접입력",SUM($K28:$L28)-$Y28)) -> 0 | AA28: =IF($Q28="국도비","ok",IF(($K28+$L28)=($Y28+$Z28),"ok","검토")) -> ok | AC28: {=IFERROR(IF($C28="","",INDEX(구분표!$I$2:$I$1001,MATCH(1,(구분표!$B$2:$B$1001='2015년본예산(세출)'!$A28)*(구분표!$C$2:$C$1001='2015년본예산(세출)'!$B28)*(구분표!$A$2:$A$1001='2015년본예산(세출)'!$C28),0))),"@@")} -> 3203
A29: =IFERROR(VLOOKUP('2015년본예산(세출)'!$C29,구분표!$A$2:$C$1001,2,FALSE),"") -> 여성가족교육협력위원회 | B29: =IFERROR(VLOOKUP('2015년본예산(세출)'!$C29,구분표!$A$2:$C$1001,3,FALSE),"") -> 여성가족국 | C29: 아동청소년과 | D29: 본예산 | E29: 1193 | F29: 청소년 연극제 예선(자체/지원) - 청소년 연극제 개최(예선) | G29: 24000 | I29: 28500 | J29: =G29+H29+I29 -> 52500 | S29: =IF($Q29="도비","도비",IF(COUNT(FIND("국비/",$F29)),"국비",IF(COUNT(FIND("지특/",$F29)),"지특",IF(COUNT(FIND("기금/",$F29)),"기금",IF(COUNT(FIND("교부세/",$F29)),"특교",IF(COUNT(FIND("자체/",$F29)),"도비","")))))) -> 도비 | U29: 28500 | V29: =IF($Q29="국도비","ok",IF(($H29+$I29)=($T29+$U29),"ok","검토")) -> ok | X29: =$S29 -> 도비
A30: =IFERROR(VLOOKUP('2015년본예산(세출)'!$C30,구분표!$A$2:$C$1001,2,FALSE),"") -> 여성가족교육협력위원회 | B30: =IFERROR(VLOOKUP('2015년본예산(세출)'!$C30,구분표!$A$2:$C$1001,3,FALSE),"") -> 여성가족국 | C30: 아동청소년과 | D30: 본예산 | E30: 1193 | F30: 청소년 연극제 본선(자체/직접) - 청소년 연극제 개최(본선) | G30: 30000 | I30: 20000 | J30: =G30+H30+I30 -> 50000 | S30: =IF($Q30="도비","도비",IF(COUNT(FIND("국비/",$F30)),"국비",IF(COUNT(FIND("지특/",$F30)),"지특",IF(COUNT(FIND("기금/",$F30)),"기금",IF(COUNT(FIND("교부세/",$F30)),"특교",IF(COUNT(FIND("자체/",$F30)),"도비","")))))) -> 도비 | U30: 20000 | V30: =IF($Q30="국도비","ok",IF(($H30+$I30)=($T30+$U30),"ok","검토")) -> ok | X30: =$S30 -> 도비
A31: =IFERROR(VLOOKUP('2015년본예산(세출)'!$C31,구분표!$A$2:$C$1001,2,FALSE),"") -> 여성가족교육협력위원회 | B31: =IFERROR(VLOOKUP('2015년본예산(세출)'!$C31,구분표!$A$2:$C$1001,3,FALSE),"") -> 여성가족국 | C31: 아동청소년과 | D31: 본예산 | E31: 1201 | F31: 저소득 아동지원(자체/지원) - 소년소녀가정 지원 | G31: 3310 | I31: 26930 | J31: =G31+H31+I31 -> 30240 | S31: =IF($Q31="도비","도비",IF(COUNT(FIND("국비/",$F31)),"국비",IF(COUNT(FIND("지특/",$F31)),"지특",IF(COUNT(FIND("기금/",$F31)),"기금",IF(COUNT(FIND("교부세/",$F31)),"특교",IF(COUNT(FIND("자체/",$F31)),"도비","")))))) -> 도비 | U31: 26930 | V31: =IF($Q31="국도비","ok",IF(($H31+$I31)=($T31+$U31),"ok","검토")) -> ok | X31: =$S31 -> 도비
A32: =IFERROR(VLOOKUP('2015년본예산(세출)'!$C32,구분표!$A$2:$C$1001,2,FALSE),"") -> 여성가족교육협력위원회 | B32: =IFERROR(VLOOKUP('2015년본예산(세출)'!$C32,구분표!$A$2:$C$1001,3,FALSE),"") -> 여성가족국 | C32: 아동청소년과 | D32: 본예산 | E32: 1207 | F32: 지역아동센터 지원(자체/지원) - 저소득 아동 학습도우미 지원 | G32: 347760 | I32: 13740 | J32: =G32+H32+I32 -> 361500 | S32: =IF($Q32="도비","도비",IF(COUNT(FIND("국비/",$F32)),"국비",IF(COUNT(FIND("지특/",$F32)),"지특",IF(COUNT(FIND("기금/",$F32)),"기금",IF(COUNT(FIND("교부세/",$F32)),"특교",IF(COUNT(FIND("자체/",$F32)),"도비","")))))) -> 도비 | U32: 13740 | V32: =IF($Q32="국도비","ok",IF(($H32+$I32)=($T32+$U32),"ok","검토")) -> ok | X32: =$S32 -> 도비
A33: =IFERROR(VLOOKUP('2015년본예산(세출)'!$C33,구분표!$A$2:$C$1001,2,FALSE),"") -> 여성가족교육협력위원회 | B33: =IFERROR(VLOOKUP('2015년본예산(세출)'!$C33,구분표!$A$2:$C$1001,3,FALSE),"") -> 여성가족국 | C33: 아동청소년과 | D33: 본예산 | E33: 1207 | F33: 지역아동센터 지원(자체/지원) - 지역아동센터 종사자 처우개선비 | G33: 281880 | I33: 67140 | J33: =G33+H33+I33 -> 349020 | S33: =IF($Q33="도비","도비",IF(COUNT(FIND("국비/",$F33)),"국비",IF(COUNT(FIND("지특/",$F33)),"지특",IF(COUNT(FIND("기금/",$F33)),"기금",IF(COUNT(FIND("교부세/",$F33)),"특교",IF(COUNT(FIND("자체/",$F33)),"도비","")))))) -> 도비 | U33: 67140 | V33: =IF($Q33="국도비","ok",IF(($H33+$I33)=($T33+$U33),"ok","검토")) -> ok | X33: =$S33 -> 도비
A34: 여성가족교육협력위원회 | B34: =IFERROR(VLOOKUP('2015년본예산(세출)'!$C34,구분표!$A$2:$C$1001,3,FALSE),"") -> 여성가족국 | C34: 아동청소년과 | D34: 신규 | F34: 부천 꿈나무 아동 종합상담소 지원(자체/지원) | G34: 0 | I34: 70000 | J34: =G34+H34+I34 -> 70000 | S34: =IF($Q34="도비","도비",IF(COUNT(FIND("국비/",$F34)),"국비",IF(COUNT(FIND("지특/",$F34)),"지특",IF(COUNT(FIND("기금/",$F34)),"기금",IF(COUNT(FIND("교부세/",$F34)),"특교",IF(COUNT(FIND("자체/",$F34)),"도비","")))))) -> 도비 | U34: 70000 | V34: =IF($Q34="국도비","ok",IF(($H34+$I34)=($T34+$U34),"ok","검토")) -> ok | X34: =$S34 -> 도비
A35: 여성가족교육협력위원회 | B35: =IFERROR(VLOOKUP('2015년본예산(세출)'!$C35,구분표!$A$2:$C$1001,3,FALSE),"") -> 여성가족국 | C35: 아동청소년과 | D35: 신규 | F35: 경기도 청소년수련시설 협회 운영 지원(자체/직접) | G35: 0 | I35: 20000 | J35: =G35+H35+I35 -> 20000 | S35: =IF($Q35="도비","도비",IF(COUNT(FIND("국비/",$F35)),"국비",IF(COUNT(FIND("지특/",$F35)),"지특",IF(COUNT(FIND("기금/",$F35)),"기금",IF(COUNT(FIND("교부세/",$F35)),"특교",IF(COUNT(FIND("자체/",$F35)),"도비","")))))) -> 도비 | U35: 20000 | V35: =IF($Q35="국도비","ok",IF(($H35+$I35)=($T35+$U35),"ok","검토")) -> ok | X35: =$S35 -> 도비
A36: 여성가족교육협력위원회 | B36: =IFERROR(VLOOKUP('2015년본예산(세출)'!$C36,구분표!$A$2:$C$1001,3,FALSE),"") -> 여성가족국 | C36: 아동청소년과 | D36: 신규 | F36: 청소년 유해환경감시단 연찬회 개최(자체/직접) - 청소년 유해환경감시단 연찬회 개최 | G36: 0 | I36: 15000 | J36: =G36+H36+I36 -> 15000 | S36: =IF($Q36="도비","도비",IF(COUNT(FIND("국비/",$F36)),"국비",IF(COUNT(FIND("지특/",$F36)),"지특",IF(COUNT(FIND("기금/",$F36)),"기금",IF(COUNT(FIND("교부세/",$F36)),"특교",IF(COUNT(FIND("자체/",$F36)),"도비","")))))) -> 도비 | U36: 15000 | V36: =IF($Q36="국도비","ok",IF(($H36+$I36)=($T36+$U36),"ok","검토")) -> ok | X36: =$S36 -> 도비
A37: 여성가족교육협력위원회 | B37: =IFERROR(VLOOKUP('2015년본예산(세출)'!$C37,구분표!$A$2:$C$1001,3,FALSE),"") -> 여성가족국 | C37: 아동청소년과 | D37: 신규 | F37: 아동그룹홈 운영 지원(자체/지원) | G37: 0 | I37: 97000 | J37: =G37+H37+I37 -> 97000 | S37: =IF($Q37="도비","도비",IF(COUNT(FIND("국비/",$F37)),"국비",IF(COUNT(FIND("지특/",$F37)),"지특",IF(COUNT(FIND("기금/",$F37)),"기금",IF(COUNT(FIND("교부세/",$F37)),"특교",IF(COUNT(FIND("자체/",$F37)),"도비","")))))) -> 도비 | U37: 97000 | V37: =IF($Q37="국도비","ok",IF(($H37+$I37)=($T37+$U37),"ok","검토")) -> ok | X37: =$S37 -> 도비
A38: 여성가족교육협력위원회 | B38: =IFERROR(VLOOKUP('2015년본예산(세출)'!$C38,구분표!$A$2:$C$1001,3,FALSE),"") -> 여성가족국 | C38: 다문화가족과 | D38: 본예산 | E38: 1211 | F38: 다문화신문 구독 지원(자체/지원) - 다문화신문 구독 지원 | G38: 40000 | I38: 10000 | J38: =G38+H38+I38 -> 50000 | S38: =IF($Q38="도비","도비",IF(COUNT(FIND("국비/",$F38)),"국비",IF(COUNT(FIND("지특/",$F38)),"지특",IF(COUNT(FIND("기금/",$F38)),"기금",IF(COUNT(FIND("교부세/",$F38)),"특교",IF(COUNT(FIND("자체/",$F38)),"도비","")))))) -> 도비 | U38: 10000 | V38: =IF($Q38="국도비","ok",IF(($H38+$I38)=($T38+$U38),"ok","검토")) -> ok | X38: =$S38 -> 도비
A39: 여성가족교육협력위원회 | B39: =IFERROR(VLOOKUP('2015년본예산(세출)'!$C39,구분표!$A$2:$C$1001,3,FALSE),"") -> 여성가족국 | C39: 다문화가족과 | D39: 본예산 | E39: 1212 | F39: 다문화 친화 사회분위기 조성(자체/직접) - 찾아가는 다문화소통 프로그램 운영 | G39: 250000 | I39: 40000 | J39: =G39+H39+I39 -> 290000 | S39: =IF($Q39="도비","도비",IF(COUNT(FIND("국비/",$F39)),"국비",IF(COUNT(FIND("지특/",$F39)),"지특",IF(COUNT(FIND("기금/",$F39)),"기금",IF(COUNT(FIND("교부세/",$F39)),"특교",IF(COUNT(FIND("자체/",$F39)),"도비","")))))) -> 도비 | U39: 40000 | V39: =IF($Q39="국도비","ok",IF(($H39+$I39)=($T39+$U39),"ok","검토")) -> ok | X39: =$S39 -> 도비
A40: 여성가족교육협력위원회 | B40: =IFERROR(VLOOKUP('2015년본예산(세출)'!$C40,구분표!$A$2:$C$1001,3,FALSE),"") -> 여성가족국 | C40: 다문화가족과 | D40: 신규 | F40: 다문화가정 말하기 대회(자체/직접) - 다문화가정 말하기 대회 | G40: 0 | I40: 30000 | J40: =G40+H40+I40 -> 30000 | S40: =IF($Q40="도비","도비",IF(COUNT(FIND("국비/",$F40)),"국비",IF(COUNT(FIND("지특/",$F40)),"지특",IF(COUNT(FIND("기금/",$F40)),"기금",IF(COUNT(FIND("교부세/",$F40)),"특교",IF(COUNT(FIND("자체/",$F40)),"도비","")))))) -> 도비 | U40: 30000 | V40: =IF($Q40="국도비","ok",IF(($H40+$I40)=($T40+$U40),"ok","검토")) -> ok | X40: =$S40 -> 도비
A41: 여성가족교육협력위원회 | B41: =IFERROR(VLOOKUP('2015년본예산(세출)'!$C41,구분표!$A$2:$C$1001,3,FALSE),"") -> 여성가족국 | C41: 여성비전센터 | D41: 본예산 | E41: 1216 | F41: 법원연계 위기가족회복 지원(자체/직접) | G41: 40000 | I41: 10000 | J41: =G41+H41+I41 -> 50000 | S41: =IF($Q41="도비","도비",IF(COUNT(FIND("국비/",$F41)),"국비",IF(COUNT(FIND("지특/",$F41)),"지특",IF(COUNT(FIND("기금/",$F41)),"기금",IF(COUNT(FIND("교부세/",$F41)),"특교",IF(COUNT(FIND("자체/",$F41)),"도비","")))))) -> 도비 | U41: 10000 | V41: =IF($Q41="국도비","ok",IF(($H41+$I41)=($T41+$U41),"ok","검토")) -> ok | X41: =$S41 -> 도비
A42: 여성가족교육협력위원회 | B42: =IFERROR(VLOOKUP('2015년본예산(세출)'!$C42,구분표!$A$2:$C$1001,3,FALSE),"") -> 여성가족국 | C42: 여성비전센터 | D42: 본예산 | E42: 1216 | F42: 가족공동체험을 통한 가족관계 증진(자체/직접) - 가족애 돌봄나눔터 운영 | G42: 60000 | I42: 25000 | J42: =G42+H42+I42 -> 85000 | S42: =IF($Q42="도비","도비",IF(COUNT(FIND("국비/",$F42)),"국비",IF(COUNT(FIND("지특/",$F42)),"지특",IF(COUNT(FIND("기금/",$F42)),"기금",IF(COUNT(FIND("교부세/",$F42)),"특교",IF(COUNT(FIND("자체/",$F42)),"도비","")))))) -> 도비 | U42: 25000 | V42: =IF($Q42="국도비","ok",IF(($H42+$I42)=($T42+$U42),"ok","검토")) -> ok | X42: =$S42 -> 도비
A43: 여성가족교육협력위원회 | B43: =IFERROR(VLOOKUP('2015년본예산(세출)'!$C43,구분표!$A$2:$C$1001,3,FALSE),"") -> 여성가족국 | C43: 여성비전센터 | D43: 본예산 | E43: 1219 | F43: 여성일자리 지원(자체/지원) - 재취업설계 프로그램 운영 | G43: 20000 | H43: -20000 | J43: =G43+H43+I43 -> 0 | S43: =IF($Q43="도비","도비",IF(COUNT(FIND("국비/",$F43)),"국비",IF(COUNT(FIND("지특/",$F43)),"지특",IF(COUNT(FIND("기금/",$F43)),"기금",IF(COUNT(FIND("교부세/",$F43)),"특교",IF(COUNT(FIND("자체/",$F43)),"도비","")))))) -> 도비 | U43: -20000 | V43: =IF($Q43="국도비","ok",IF(($H43+$I43)=($T43+$U43),"ok","검토")) -> ok | X43: =$S43 -> 도비
A44: 여성가족교육협력위원회 | B44: =IFERROR(VLOOKUP('2015년본예산(세출)'!$C44,구분표!$A$2:$C$1001,3,FALSE),"") -> 여성가족국 | C44: 여성비전센터 | D44: 본예산 | E44: 1220 | F44: 시설유지비(자체/직접) | G44: 166894 | I44: 32000 | J44: =G44+H44+I44 -> 198894 | S44: =IF($Q44="도비","도비",IF(COUNT(FIND("국비/",$F44)),"국비",IF(COUNT(FIND("지특/",$F44)),"지특",IF(COUNT(FIND("기금/",$F44)),"기금",IF(COUNT(FIND("교부세/",$F44)),"특교",IF(COUNT(FIND("자체/",$F44)),"도비","")))))) -> 도비 | U44: 32000 | V44: =IF($Q44="국도비","ok",IF(($H44+$I44)=($T44+$U44),"ok","검토")) -> ok | X44: =$S44 -> 도비
A45: 여성가족교육협력위원회 | B45: =IFERROR(VLOOKUP('2015년본예산(세출)'!$C45,구분표!$A$2:$C$1001,3,FALSE),"") -> 여성가족국 | C45: 여성비전센터 | D45: 신규 | F45: 창의기획 공모사업(자체/지원) - 창의기획 공모사업 운영 | G45: 0 | I45: 30000 | J45: =G45+H45+I45 -> 30000 | S45: =IF($Q45="도비","도비",IF(COUNT(FIND("국비/",$F45)),"국비",IF(COUNT(FIND("지특/",$F45)),"지특",IF(COUNT(FIND("기금/",$F45)),"기금",IF(COUNT(FIND("교부세/",$F45)),"특교",IF(COUNT(FIND("자체/",$F45)),"도비","")))))) -> 도비 | U45: 30000 | V45: =IF($Q45="국도비","ok",IF(($H45+$I45)=($T45+$U45),"ok","검토")) -> ok | X45: =$S45 -> 도비
A46: 여성가족교육협력위원회 | B46: =IFERROR(VLOOKUP('2015년본예산(세출)'!$C46,구분표!$A$2:$C$1001,3,FALSE),"") -> 여성가족국 | C46: 여성비전센터 | D46: 신규 | F46: 창의기획 공모사업(자체/직접) - 창의기획 공모사업 운영 | G46: 0 | I46: 3000 | J46: =G46+H46+I46 -> 3000 | S46: =IF($Q46="도비","도비",IF(COUNT(FIND("국비/",$F46)),"국비",IF(COUNT(FIND("지특/",$F46)),"지특",IF(COUNT(FIND("기금/",$F46)),"기금",IF(COUNT(FIND("교부세/",$F46)),"특교",IF(COUNT(FIND("자체/",$F46)),"도비","")))))) -> 도비 | U46: 3000 | V46: =IF($Q46="국도비","ok",IF(($H46+$I46)=($T46+$U46),"ok","검토")) -> ok | X46: =$S46 -> 도비
A47: 여성가족교육협력위원회 | B47: =IFERROR(VLOOKUP('2015년본예산(세출)'!$C47,구분표!$A$2:$C$1001,3,FALSE),"") -> 여성가족국 | C47: 여성비전센터 | D47: 신규 | F47: 보호대상아동 멘토링 지원(자체/직접) | G47: 0 | I47: 20000 | J47: =G47+H47+I47 -> 20000 | S47: =IF($Q47="도비","도비",IF(COUNT(FIND("국비/",$F47)),"국비",IF(COUNT(FIND("지특/",$F47)),"지특",IF(COUNT(FIND("기금/",$F47)),"기금",IF(COUNT(FIND("교부세/",$F47)),"특교",IF(COUNT(FIND("자체/",$F47)),"도비","")))))) -> 도비 | U47: 20000 | V47: =IF($Q47="국도비","ok",IF(($H47+$I47)=($T47+$U47),"ok","검토")) -> ok | X47: =$S47 -> 도비
A48: 여성가족교육협력위원회 | B48: =IFERROR(VLOOKUP('2015년본예산(세출)'!$C48,구분표!$A$2:$C$1001,3,FALSE),"") -> 여성가족국 | C48: 여성비전센터 | D48: 신규 | F48: 여성 리더십과정 운영(자체/직접) | G48: 0 | I48: 50000 | J48: =G48+H48+I48 -> 50000 | S48: =IF($Q48="도비","도비",IF(COUNT(FIND("국비/",$F48)),"국비",IF(COUNT(FIND("지특/",$F48)),"지특",IF(COUNT(FIND("기금/",$F48)),"기금",IF(COUNT(FIND("교부세/",$F48)),"특교",IF(COUNT(FIND("자체/",$F48)),"도비","")))))) -> 도비 | U48: 50000 | V48: =IF($Q48="국도비","ok",IF(($H48+$I48)=($T48+$U48),"ok","검토")) -> ok | X48: =$S48 -> 도비
A49: 여성가족교육협력위원회 | B49: 여성가족국 | C49: 여성능력개발센터 | D49: 본예산 | E49: 1228 | F49: 인터넷중독대응사업(국비/직접) - 인터넷중독 대응 전문인력 양성 교재 및 물품구입(201-01) | G49: 10500 | H49: -10500 | J49: =G49+H49+I49 -> 0 | M49: =SUM(G49+K49+L49) -> 10500 | N49: =IF(H49-K49<0,"동의필요","-") -> 동의필요 | O49: 국비 가내시 한국정보화진흥원 인터넷중독상담부-4312(2014.11.10.) | S49: =IF($Q49="도비","도비",IF(COUNT(FIND("국비/",$F49)),"국비",IF(COUNT(FIND("지특/",$F49)),"지특",IF(COUNT(FIND("기금/",$F49)),"기금",IF(COUNT(FIND("교부세/",$F49)),"특교",IF(COUNT(FIND("자체/",$F49)),"도비","")))))) -> 국비 | T49: =IF($S49<>"도비",IF($Q49="국도비","직접입력",SUM($H49:$I49)),) -> -10500 | U49: =IF($S49="도비",SUM($H49:$I49),IF($Q49="국도비","직접입력",SUM($H49:$I49)-$T49)) -> 0 | V49: =IF($Q49="국도비","ok",IF(($H49+$I49)=($T49+$U49),"ok","검토")) -> ok | X49: =$S49 -> 국비 | Y49: =IF($X49<>"도비",IF($Q49="국도비","직접입력",SUM($K49:$L49)),) -> 0 | Z49: =IF($X49="도비",SUM($K49:$L49),IF($Q49="국도비","직접입력",SUM($K49:$L49)-$Y49)) -> 0 | AA49: =IF($Q49="국도비","ok",IF(($K49+$L49)=($Y49+$Z49),"ok","검토")) -> ok | AC49: {=IFERROR(IF($C49="","",INDEX(구분표!$I$2:$I$1001,MATCH(1,(구분표!$B$2:$B$1001='2015년본예산(세출)'!$A49)*(구분표!$C$2:$C$1001='2015년본예산(세출)'!$B49)*(구분표!$A$2:$A$1001='2015년본예산(세출)'!$C49),0))),"@@")} -> 3206
A50: 여성가족교육협력위원회 | B50: 여성가족국 | C50: 여성능력개발센터 | D50: 본예산 | E50: 1228 | F50: 인터넷중독대응사업(국비/직접) - 인터넷중독대응센터 운영(201-01) | G50: 7200 | H50: -3600 | J50: =G50+H50+I50 -> 3600 | M50: =SUM(G50+K50+L50) -> 7200 | N50: =IF(H50-K50<0,"동의필요","-") -> 동의필요 | O50: 국비 가내시 한국정보화진흥원 인터넷중독상담부-4312(2014.11.10.) | S50: =IF($Q50="도비","도비",IF(COUNT(FIND("국비/",$F50)),"국비",IF(COUNT(FIND("지특/",$F50)),"지특",IF(COUNT(FIND("기금/",$F50)),"기금",IF(COUNT(FIND("교부세/",$F50)),"특교",IF(COUNT(FIND("자체/",$F50)),"도비","")))))) -> 국비 | T50: =IF($S50<>"도비",IF($Q50="국도비","직접입력",SUM($H50:$I50)),) -> -3600 | U50: =IF($S50="도비",SUM($H50:$I50),IF($Q50="국도비","직접입력",SUM($H50:$I50)-$T50)) -> 0 | V50: =IF($Q50="국도비","ok",IF(($H50+$I50)=($T50+$U50),"ok","검토")) -> ok | X50: =$S50 -> 국비 | Y50: =IF($X50<>"도비",IF($Q50="국도비","직접입력",SUM($K50:$L50)),) -> 0 | Z50: =IF($X50="도비",SUM($K50:$L50),IF($Q50="국도비","직접입력",SUM($K50:$L50)-$Y50)) -> 0 | AA50: =IF($Q50="국도비","ok",IF(($K50+$L50)=($Y50+$Z50),"ok","검토")) -> ok | AC50: {=IFERROR(IF($C50="","",INDEX(구분표!$I$2:$I$1001,MATCH(1,(구분표!$B$2:$B$1001='2015년본예산(세출)'!$A50)*(구분표!$C$2:$C$1001='2015년본예산(세출)'!$B50)*(구분표!$A$2:$A$1001='2015년본예산(세출)'!$C50),0))),"@@")} -> 3206
A51: 여성가족교육협력위원회 | B51: 여성가족국 | C51: 여성능력개발센터 | D51: 본예산 | E51: 1228 | F51: 인터넷중독대응사업(국비/직접) - 인터넷중독 대응 전문인력 양성(201-03) | G51: 16500 | I51: 5500 | J51: =G51+H51+I51 -> 22000 | M51: =SUM(G51+K51+L51) -> 16500 | N51: =IF(H51-K51<0,"동의필요","-") -> - | O51: 국비 가내시 한국정보화진흥원 인터넷중독상담부-4312(2014.11.10.) | S51: =IF($Q51="도비","도비",IF(COUNT(FIND("국비/",$F51)),"국비",IF(COUNT(FIND("지특/",$F51)),"지특",IF(COUNT(FIND("기금/",$F51)),"기금",IF(COUNT(FIND("교부세/",$F51)),"특교",IF(COUNT(FIND("자체/",$F51)),"도비","")))))) -> 국비 | T51: =IF($S51<>"도비",IF($Q51="국도비","직접입력",SUM($H51:$I51)),) -> 5500 | U51: =IF($S51="도비",SUM($H51:$I51),IF($Q51="국도비","직접입력",SUM($H51:$I51)-$T51)) -> 0 | V51: =IF($Q51="국도비","ok",IF(($H51+$I51)=($T51+$U51),"ok","검토")) -> ok | X51: =$S51 -> 국비 | Y51: =IF($X51<>"도비",IF($Q51="국도비","직접입력",SUM($K51:$L51)),) -> 0 | Z51: =IF($X51="도비",SUM($K51:$L51),IF($Q51="국도비","직접입력",SUM($K51:$L51)-$Y51)) -> 0 | AA51: =IF($Q51="국도비","ok",IF(($K51+$L51)=($Y51+$Z51),"ok","검토")) -> ok | AC51: {=IFERROR(IF($C51="","",INDEX(구분표!$I$2:$I$1001,MATCH(1,(구분표!$B$2:$B$1001='2015년본예산(세출)'!$A51)*(구분표!$C$2:$C$1001='2015년본예산(세출)'!$B51)*(구분표!$A$2:$A$1001='2015년본예산(세출)'!$C51),0))),"@@")} -> 3206
A52: 여성가족교육협력위원회 | B52: 여성가족국 | C52: 여성능력개발센터 | D52: 본예산 | E52: 1228 | F52: 인터넷중독대응사업(국비/직접) - 우수과제 운영(201-03) | G52: 6200 | H52: -200 | J52: =G52+H52+I52 -> 6000 | M52: =SUM(G52+K52+L52) -> 6200 | N52: =IF(H52-K52<0,"동의필요","-") -> 동의필요 | O52: 국비 가내시 한국정보화진흥원 인터넷중독상담부-4312(2014.11.10.) | S52: =IF($Q52="도비","도비",IF(COUNT(FIND("국비/",$F52)),"국비",IF(COUNT(FIND("지특/",$F52)),"지특",IF(COUNT(FIND("기금/",$F52)),"기금",IF(COUNT(FIND("교부세/",$F52)),"특교",IF(COUNT(FIND("자체/",$F52)),"도비","")))))) -> 국비 | T52: =IF($S52<>"도비",IF($Q52="국도비","직접입력",SUM($H52:$I52)),) -> -200 | U52: =IF($S52="도비",SUM($H52:$I52),IF($Q52="국도비","직접입력",SUM($H52:$I52)-$T52)) -> 0 | V52: =IF($Q52="국도비","ok",IF(($H52+$I52)=($T52+$U52),"ok","검토")) -> ok | X52: =$S52 -> 국비 | Y52: =IF($X52<>"도비",IF($Q52="국도비","직접입력",SUM($K52:$L52)),) -> 0 | Z52: =IF($X52="도비",SUM($K52:$L52),IF($Q52="국도비","직접입력",SUM($K52:$L52)-$Y52)) -> 0 | AA52: =IF($Q52="국도비","ok",IF(($K52+$L52)=($Y52+$Z52),"ok","검토")) -> ok | AC52: {=IFERROR(IF($C52="","",INDEX(구분표!$I$2:$I$1001,MATCH(1,(구분표!$B$2:$B$1001='2015년본예산(세출)'!$A52)*(구분표!$C$2:$C$1001='2015년본예산(세출)'!$B52)*(구분표!$A$2:$A$1001='2015년본예산(세출)'!$C52),0))),"@@")} -> 3206
A53: 여성가족교육협력위원회 | B53: 여성가족국 | C53: 여성능력개발센터 | D53: 본예산 | E53: 1228 | F53: 인터넷중독대응사업(국비/직접) - WOW 건강한 인터넷 멘토링(301-09) | G53: 13020 | I53: 15120 | J53: =G53+H53+I53 -> 28140 | M53: =SUM(G53+K53+L53) -> 13020 | N53: =IF(H53-K53<0,"동의필요","-") -> - | O53: 국비 가내시 한국정보화진흥원 인터넷중독상담부-4312(2014.11.10.) | S53: =IF($Q53="도비","도비",IF(COUNT(FIND("국비/",$F53)),"국비",IF(COUNT(FIND("지특/",$F53)),"지특",IF(COUNT(FIND("기금/",$F53)),"기금",IF(COUNT(FIND("교부세/",$F53)),"특교",IF(COUNT(FIND("자체/",$F53)),"도비","")))))) -> 국비 | T53: =IF($S53<>"도비",IF($Q53="국도비","직접입력",SUM($H53:$I53)),) -> 15120 | U53: =IF($S53="도비",SUM($H53:$I53),IF($Q53="국도비","직접입력",SUM($H53:$I53)-$T53)) -> 0 | V53: =IF($Q53="국도비","ok",IF(($H53+$I53)=($T53+$U53),"ok","검토")) -> ok | X53: =$S53 -> 국비 | Y53: =IF($X53<>"도비",IF($Q53="국도비","직접입력",SUM($K53:$L53)),) -> 0 | Z53: =IF($X53="도비",SUM($K53:$L53),IF($Q53="국도비","직접입력",SUM($K53:$L53)-$Y53)) -> 0 | AA53: =IF($Q53="국도비","ok",IF(($K53+$L53)=($Y53+$Z53),"ok","검토")) -> ok | AC53: {=IFERROR(IF($C53="","",INDEX(구분표!$I$2:$I$1001,MATCH(1,(구분표!$B$2:$B$1001='2015년본예산(세출)'!$A53)*(구분표!$C$2:$C$1001='2015년본예산(세출)'!$B53)*(구분표!$A$2:$A$1001='2015년본예산(세출)'!$C53),0))),"@@")} -> 3206
A54: 여성가족교육협력위원회 | B54: 여성가족국 | C54: 여성능력개발센터 | D54: 본예산 | E54: 1228 | F54: 인터넷중독대응사업(국비/직접) - 찾아가는 가정방문상담사 운영(301-09) | G54: 60000 | H54: -12000 | J54: =G54+H54+I54 -> 48000 | M54: =SUM(G54+K54+L54) -> 60000 | N54: =IF(H54-K54<0,"동의필요","-") -> 동의필요 | O54: 국비 가내시 한국정보화진흥원 인터넷중독상담부-4312(2014.11.10.) | S54: =IF($Q54="도비","도비",IF(COUNT(FIND("국비/",$F54)),"국비",IF(COUNT(FIND("지특/",$F54)),"지특",IF(COUNT(FIND("기금/",$F54)),"기금",IF(COUNT(FIND("교부세/",$F54)),"특교",IF(COUNT(FIND("자체/",$F54)),"도비","")))))) -> 국비 | T54: =IF($S54<>"도비",IF($Q54="국도비","직접입력",SUM($H54:$I54)),) -> -12000 | U54: =IF($S54="도비",SUM($H54:$I54),IF($Q54="국도비","직접입력",SUM($H54:$I54)-$T54)) -> 0 | V54: =IF($Q54="국도비","ok",IF(($H54+$I54)=($T54+$U54),"ok","검토")) -> ok | X54: =$S54 -> 국비 | Y54: =IF($X54<>"도비",IF($Q54="국도비","직접입력",SUM($K54:$L54)),) -> 0 | Z54: =IF($X54="도비",SUM($K54:$L54),IF($Q54="국도비","직접입력",SUM($K54:$L54)-$Y54)) -> 0 | AA54: =IF($Q54="국도비","ok",IF(($K54+$L54)=($Y54+$Z54),"ok","검토")) -> ok | AC54: {=IFERROR(IF($C54="","",INDEX(구분표!$I$2:$I$1001,MATCH(1,(구분표!$B$2:$B$1001='2015년본예산(세출)'!$A54)*(구분표!$C$2:$C$1001='2015년본예산(세출)'!$B54)*(구분표!$A$2:$A$1001='2015년본예산(세출)'!$C54),0))),"@@")} -> 3206
A55: 여성가족교육협력위원회 | B55: 여성가족국 | C55: 여성능력개발센터 | D55: 본예산 | E55: 1228 | F55: 인터넷중독대응사업(국비/직접) - 인터넷 스마트미디어 예방교육(307-04) | G55: 126880 | H55: -40240 | J55: =G55+H55+I55 -> 86640 | M55: =SUM(G55+K55+L55) -> 126880 | N55: =IF(H55-K55<0,"동의필요","-") -> 동의필요 | O55: 국비 가내시 한국정보화진흥원 인터넷중독상담부-4312(2014.11.10.) | S55: =IF($Q55="도비","도비",IF(COUNT(FIND("국비/",$F55)),"국비",IF(COUNT(FIND("지특/",$F55)),"지특",IF(COUNT(FIND("기금/",$F55)),"기금",IF(COUNT(FIND("교부세/",$F55)),"특교",IF(COUNT(FIND("자체/",$F55)),"도비","")))))) -> 국비 | T55: =IF($S55<>"도비",IF($Q55="국도비","직접입력",SUM($H55:$I55)),) -> -40240 | U55: =IF($S55="도비",SUM($H55:$I55),IF($Q55="국도비","직접입력",SUM($H55:$I55)-$T55)) -> 0 | V55: =IF($Q55="국도비","ok",IF(($H55+$I55)=($T55+$U55),"ok","검토")) -> ok | X55: =$S55 -> 국비 | Y55: =IF($X55<>"도비",IF($Q55="국도비","직접입력",SUM($K55:$L55)),) -> 0 | Z55: =IF($X55="도비",SUM($K55:$L55),IF($Q55="국도비","직접입력",SUM($K55:$L55)-$Y55)) -> 0 | AA55: =IF($Q55="국도비","ok",IF(($K55+$L55)=($Y55+$Z55),"ok","검토")) -> ok | AC55: {=IFERROR(IF($C55="","",INDEX(구분표!$I$2:$I$1001,MATCH(1,(구분표!$B$2:$B$1001='2015년본예산(세출)'!$A55)*(구분표!$C$2:$C$1001='2015년본예산(세출)'!$B55)*(구분표!$A$2:$A$1001='2015년본예산(세출)'!$C55),0))),"@@")} -> 3206
A56: 여성가족교육협력위원회 | B56: 여성가족국 | C56: 여성능력개발센터 | D56: 본예산 | E56: 1223 | F56: 온라인경력개발센터 운영(자체/직접) - 경력개발형 e-러닝 교육콘텐츠 개발 | G56: 200000 | I56: 50000 | J56: =G56+H56+I56 -> 250000 | M56: =SUM(G56+K56+L56) -> 200000 | S56: =IF($Q56="도비","도비",IF(COUNT(FIND("국비/",$F56)),"국비",IF(COUNT(FIND("지특/",$F56)),"지특",IF(COUNT(FIND("기금/",$F56)),"기금",IF(COUNT(FIND("교부세/",$F56)),"특교",IF(COUNT(FIND("자체/",$F56)),"도비","")))))) -> 도비 | U56: 50000 | V56: =IF($Q56="국도비","ok",IF(($H56+$I56)=($T56+$U56),"ok","검토")) -> ok | X56: =$S56 -> 도비 | AC56: {=IFERROR(IF($C56="","",INDEX(구분표!$I$2:$I$1001,MATCH(1,(구분표!$B$2:$B$1001='2015년본예산(세출)'!$A56)*(구분표!$C$2:$C$1001='2015년본예산(세출)'!$B56)*(구분표!$A$2:$A$1001='2015년본예산(세출)'!$C56),0))),"@@")} -> 3206
A57: 여성가족교육협력위원회 | B57: 여성가족국 | C57: 여성능력개발센터 | D57: 본예산 | E57: 1223 | F57: 온라인경력개발센터 운영(자체/직접) - 온라인 경력개발센터 운영 | G57: 950000 | I57: 80000 | J57: =G57+H57+I57 -> 1030000 | M57: =SUM(G57+K57+L57) -> 950000 | S57: =IF($Q57="도비","도비",IF(COUNT(FIND("국비/",$F57)),"국비",IF(COUNT(FIND("지특/",$F57)),"지특",IF(COUNT(FIND("기금/",$F57)),"기금",IF(COUNT(FIND("교부세/",$F57)),"특교",IF(COUNT(FIND("자체/",$F57)),"도비","")))))) -> 도비 | U57: 80000 | V57: =IF($Q57="국도비","ok",IF(($H57+$I57)=($T57+$U57),"ok","검토")) -> ok | X57: =$S57 -> 도비
A58: 여성가족교육협력위원회 | B58: 여성가족국 | C58: 여성능력개발센터 | D58: 본예산 | E58: 1224 | F58: 여성 창업과 경영 지원(자체/직접) - 여성기업 판로개척 마케팅 지원 | G58: 9000 | I58: 8000 | J58: =G58+H58+I58 -> 17000 | M58: =SUM(G58+K58+L58) -> 9000 | S58: =IF($Q58="도비","도비",IF(COUNT(FIND("국비/",$F58)),"국비",IF(COUNT(FIND("지특/",$F58)),"지특",IF(COUNT(FIND("기금/",$F58)),"기금",IF(COUNT(FIND("교부세/",$F58)),"특교",IF(COUNT(FIND("자체/",$F58)),"도비","")))))) -> 도비 | U58: 8000 | V58: =IF($Q58="국도비","ok",IF(($H58+$I58)=($T58+$U58),"ok","검토")) -> ok | X58: =$S58 -> 도비
A59: 여성가족교육협력위원회 | B59: 여성가족국 | C59: 여성능력개발센터 | D59: 본예산 | E59: 1224 | F59: 비즈니스 전문교육 및 네트워크 형성사업(자체/직접) - 여성CEO 역량교육 및 네트워크 형성 | G59: 9000 | I59: 2200 | J59: =G59+H59+I59 -> 11200 | M59: =SUM(G59+K59+L59) -> 9000 | S59: =IF($Q59="도비","도비",IF(COUNT(FIND("국비/",$F59)),"국비",IF(COUNT(FIND("지특/",$F59)),"지특",IF(COUNT(FIND("기금/",$F59)),"기금",IF(COUNT(FIND("교부세/",$F59)),"특교",IF(COUNT(FIND("자체/",$F59)),"도비","")))))) -> 도비 | U59: 2200 | V59: =IF($Q59="국도비","ok",IF(($H59+$I59)=($T59+$U59),"ok","검토")) -> ok
A60: 여성가족교육협력위원회 | B60: 여성가족국 | C60: 여성능력개발센터 | D60: 본예산 | E60: 1225 | F60: IT블렌디드 교육 지원기반 조성(자체/직접) - IT전문교육용 컴퓨터 | G60: 26040 | I60: 70000 | J60: =G60+H60+I60 -> 96040 | M60: =SUM(G60+K60+L60) -> 26040 | S60: =IF($Q60="도비","도비",IF(COUNT(FIND("국비/",$F60)),"국비",IF(COUNT(FIND("지특/",$F60)),"지특",IF(COUNT(FIND("기금/",$F60)),"기금",IF(COUNT(FIND("교부세/",$F60)),"특교",IF(COUNT(FIND("자체/",$F60)),"도비","")))))) -> 도비 | U60: 70000 | V60: =IF($Q60="국도비","ok",IF(($H60+$I60)=($T60+$U60),"ok","검토")) -> ok | X60: =$S60 -> 도비
A61: 여성가족교육협력위원회 | B61: 여성가족국 | C61: 여성능력개발센터 | D61: 본예산 | E61: 1228 | F61: 인터넷중독대응사업(자체/직접) - 힐링프로그램 및 대응 네트워크 운영 | G61: 14000 | I61: 20000 | J61: =G61+H61+I61 -> 34000 | M61: =SUM(G61+K61+L61) -> 14000 | S61: =IF($Q61="도비","도비",IF(COUNT(FIND("국비/",$F61)),"국비",IF(COUNT(FIND("지특/",$F61)),"지특",IF(COUNT(FIND("기금/",$F61)),"기금",IF(COUNT(FIND("교부세/",$F61)),"특교",IF(COUNT(FIND("자체/",$F61)),"도비","")))))) -> 도비 | U61: 20000 | V61: =IF($Q61="국도비","ok",IF(($H61+$I61)=($T61+$U61),"ok","검토")) -> ok
A62: 여성가족교육협력위원회 | B62: 복지여성실 | C62: 가족여성담당관 | D62: 본예산 | E62: 1245 | F62: 여성긴급전화 1366 북부센터 운영(기금/직접) -여성긴급전화 1366 기능보강 | G62: 8000 | I62: 13000 | J62: =G62+H62+I62 -> 21000 | M62: =SUM(G62+K62+L62) -> 8000 | N62: =IF(H62-K62<0,"동의필요","-") -> - | O62: 국비 가내시 여성가족부 복지지원과-3426(2014.11.25.) | S62: =IF($Q62="도비","도비",IF(COUNT(FIND("국비/",$F62)),"국비",IF(COUNT(FIND("지특/",$F62)),"지특",IF(COUNT(FIND("기금/",$F62)),"기금",IF(COUNT(FIND("교부세/",$F62)),"특교",IF(COUNT(FIND("자체/",$F62)),"도비","")))))) -> 기금 | T62: 6500 | U62: =IF($S62="도비",SUM($H62:$I62),IF($Q62="국도비","직접입력",SUM($H62:$I62)-$T62)) -> 6500 | V62: =IF($Q62="국도비","ok",IF(($H62+$I62)=($T62+$U62),"ok","검토")) -> ok
A63: 여성가족교육협력위원회 | B63: 복지여성실 | C63: 가족여성담당관 | D63: 본예산 | E63: 1242 | F63: 다문화 온누리 한마당(자체/직접) | G63: 90000 | H63: -20000 | J63: =G63+H63+I63 -> 70000 | S63: =IF($Q63="도비","도비",IF(COUNT(FIND("국비/",$F63)),"국비",IF(COUNT(FIND("지특/",$F63)),"지특",IF(COUNT(FIND("기금/",$F63)),"기금",IF(COUNT(FIND("교부세/",$F63)),"특교",IF(COUNT(FIND("자체/",$F63)),"도비","")))))) -> 도비 | U63: -20000
A64: 여성가족교육협력위원회 | B64: 복지여성실 | C64: 가족여성담당관 | D64: 본예산 | E64: 1242 | F64: 다문화 신문 구독 지원(자체/지원) | G64: 10000 | I64: 10000 | J64: =G64+H64+I64 -> 20000 | S64: =IF($Q64="도비","도비",IF(COUNT(FIND("국비/",$F64)),"국비",IF(COUNT(FIND("지특/",$F64)),"지특",IF(COUNT(FIND("기금/",$F64)),"기금",IF(COUNT(FIND("교부세/",$F64)),"특교",IF(COUNT(FIND("자체/",$F64)),"도비","")))))) -> 도비 | U64: 10000
A65: 여성가족교육협력위원회 | B65: 복지여성실 | C65: 가족여성담당관 | D65: 본예산 | E65: 1250 | F65: 여성권익증진기관 운영지원(자체/지원) | G65: 24000 | I65: 28000 | J65: =G65+H65+I65 -> 52000 | O65: 매칭비율(도:시군 2:8) 개소당 1천만원 지원 | S65: =IF($Q65="도비","도비",IF(COUNT(FIND("국비/",$F65)),"국비",IF(COUNT(FIND("지특/",$F65)),"지특",IF(COUNT(FIND("기금/",$F65)),"기금",IF(COUNT(FIND("교부세/",$F65)),"특교",IF(COUNT(FIND("자체/",$F65)),"도비","")))))) -> 도비 | U65: 28000
A66: 여성가족교육협력위원회 | B66: 복지여성실 | C66: 보육청소년담당관 | D66: 본예산 | E66: 1257 | F66: 어린이집 확충(국비/지원) -어린이집 확충 | G66: 337500 | H66: -277500 | J66: =G66+H66+I66 -> 60000 | M66: =SUM(G66+K66+L66) -> 337500 | N66: =IF(H66-K66<0,"동의필요","-") -> 동의필요 | O66: 국비가내시 | S66: =IF($Q66="도비","도비",IF(COUNT(FIND("국비/",$F66)),"국비",IF(COUNT(FIND("지특/",$F66)),"지특",IF(COUNT(FIND("기금/",$F66)),"기금",IF(COUNT(FIND("교부세/",$F66)),"특교",IF(COUNT(FIND("자체/",$F66)),"도비","")))))) -> 국비 | T66: -185000 | U66: =IF($S66="도비",SUM($H66:$I66),IF($Q66="국도비","직접입력",SUM($H66:$I66)-$T66)) -> -92500 | V66: =IF($Q66="국도비","ok",IF(($H66+$I66)=($T66+$U66),"ok","검토")) -> ok | X66: =$S66 -> 국비 | Y66: =IF($X66<>"도비",IF($Q66="국도비","직접입력",SUM($K66:$L66)),) -> 0 | Z66: =IF($X66="도비",SUM($K66:$L66),IF($Q66="국도비","직접입력",SUM($K66:$L66)-$Y66)) -> 0 | AA66: =IF($Q66="국도비","ok",IF(($K66+$L66)=($Y66+$Z66),"ok","검토")) -> ok | AC66: {=IFERROR(IF($C66="","",INDEX([1]구분표!$I$2:$I$1001,MATCH(1,([1]구분표!$B$2:$B$1001='[1]15년일출'!$A63)*([1]구분표!$C$2:$C$1001='[1]15년일출'!$B63)*([1]구분표!$A$2:$A$1001='[1]15년일출'!$C63),0))),"@@")} -> @@
A67: 여성가족교육협력위원회 | B67: 복지여성실 | C67: 보육청소년담당관 | D67: 본예산 | E67: 1257 | F67: 어린이집 환경개선(국비/지원) -어린이집 환경개선 | G67: 594802 | H67: -229552 | J67: =G67+H67+I67 -> 365250 | M67: =SUM(G67+K67+L67) -> 594802 | N67: =IF(H67-K67<0,"동의필요","-") -> 동의필요 | O67: 국비가내시 | S67: =IF($Q67="도비","도비",IF(COUNT(FIND("국비/",$F67)),"국비",IF(COUNT(FIND("지특/",$F67)),"지특",IF(COUNT(FIND("기금/",$F67)),"기금",IF(COUNT(FIND("교부세/",$F67)),"특교",IF(COUNT(FIND("자체/",$F67)),"도비","")))))) -> 국비 | T67: -153035 | U67: =IF($S67="도비",SUM($H67:$I67),IF($Q67="국도비","직접입력",SUM($H67:$I67)-$T67)) -> -76517 | V67: =IF($Q67="국도비","ok",IF(($H67+$I67)=($T67+$U67),"ok","검토")) -> ok | X67: =$S67 -> 국비 | Y67: =IF($X67<>"도비",IF($Q67="국도비","직접입력",SUM($K67:$L67)),) -> 0 | Z67: =IF($X67="도비",SUM($K67:$L67),IF($Q67="국도비","직접입력",SUM($K67:$L67)-$Y67)) -> 0 | AA67: =IF($Q67="국도비","ok",IF(($K67+$L67)=($Y67+$Z67),"ok","검토")) -> ok | AC67: {=IFERROR(IF($C67="","",INDEX([1]구분표!$I$2:$I$1001,MATCH(1,([1]구분표!$B$2:$B$1001='[1]15년일출'!$A64)*([1]구분표!$C$2:$C$1001='[1]15년일출'!$B64)*([1]구분표!$A$2:$A$1001='[1]15년일출'!$C64),0))),"@@")} -> @@
A68: 여성가족교육협력위원회 | B68: 복지여성실 | C68: 보육청소년담당관 | D68: 본예산 | E68: 1258 | F68: 시군청소년통합지원(기금/지원) -시군 청소년통합지원 | G68: 490000 | I68: 7700 | J68: =G68+H68+I68 -> 497700 | M68: =SUM(G68+K68+L68) -> 490000 | N68: =IF(H68-K68<0,"동의필요","-") -> - | O68: 국비가내시 | S68: =IF($Q68="도비","도비",IF(COUNT(FIND("국비/",$F68)),"국비",IF(COUNT(FIND("지특/",$F68)),"지특",IF(COUNT(FIND("기금/",$F68)),"기금",IF(COUNT(FIND("교부세/",$F68)),"특교",IF(COUNT(FIND("자체/",$F68)),"도비","")))))) -> 기금 | T68: =IF($S68<>"도비",IF($Q68="국도비","직접입력",SUM($H68:$I68)),) -> 7700 | U68: =IF($S68="도비",SUM($H68:$I68),IF($Q68="국도비","직접입력",SUM($H68:$I68)-$T68)) -> 0 | V68: =IF($Q68="국도비","ok",IF(($H68+$I68)=($T68+$U68),"ok","검토")) -> ok | X68: =$S68 -> 기금 | Y68: =IF($X68<>"도비",IF($Q68="국도비","직접입력",SUM($K68:$L68)),) -> 0 | Z68: =IF($X68="도비",SUM($K68:$L68),IF($Q68="국도비","직접입력",SUM($K68:$L68)-$Y68)) -> 0 | AA68: =IF($Q68="국도비","ok",IF(($K68+$L68)=($Y68+$Z68),"ok","검토")) -> ok | AC68: {=IFERROR(IF($C68="","",INDEX([1]구분표!$I$2:$I$1001,MATCH(1,([1]구분표!$B$2:$B$1001='[1]15년일출'!$A65)*([1]구분표!$C$2:$C$1001='[1]15년일출'!$B65)*([1]구분표!$A$2:$A$1001='[1]15년일출'!$C65),0))),"@@")} -> @@
A69: 여성가족교육협력위원회 | B69: 복지여성실 | C69: 보육청소년담당관 | D69: 본예산 | E69: 1259 | F69: 청소년동반자프로그램 운영지원(기금/지원)-시군청소년 동반자 프로그램 운영지원 | G69: 477515 | I69: 102018 | J69: =G69+H69+I69 -> 579533 | M69: =SUM(G69+K69+L69) -> 477515 | N69: =IF(H69-K69<0,"동의필요","-") -> - | O69: 국비가내시 | S69: =IF($Q69="도비","도비",IF(COUNT(FIND("국비/",$F69)),"국비",IF(COUNT(FIND("지특/",$F69)),"지특",IF(COUNT(FIND("기금/",$F69)),"기금",IF(COUNT(FIND("교부세/",$F69)),"특교",IF(COUNT(FIND("자체/",$F69)),"도비","")))))) -> 기금 | T69: 83211 | U69: =IF($S69="도비",SUM($H69:$I69),IF($Q69="국도비","직접입력",SUM($H69:$I69)-$T69)) -> 18807 | V69: =IF($Q69="국도비","ok",IF(($H69+$I69)=($T69+$U69),"ok","검토")) -> ok | X69: =$S69 -> 기금 | Y69: =IF($X69<>"도비",IF($Q69="국도비","직접입력",SUM($K69:$L69)),) -> 0 | Z69: =IF($X69="도비",SUM($K69:$L69),IF($Q69="국도비","직접입력",SUM($K69:$L69)-$Y69)) -> 0 | AA69: =IF($Q69="국도비","ok",IF(($K69+$L69)=($Y69+$Z69),"ok","검토")) -> ok | AC69: {=IFERROR(IF($C69="","",INDEX([1]구분표!$I$2:$I$1001,MATCH(1,([1]구분표!$B$2:$B$1001='[1]15년일출'!$A66)*([1]구분표!$C$2:$C$1001='[1]15년일출'!$B66)*([1]구분표!$A$2:$A$1001='[1]15년일출'!$C66),0))),"@@")} -> @@
A70: 여성가족교육협력위원회 | B70: 복지여성실 | C70: 보육청소년담당관 | D70: 본예산 | E70: 1266 | F70: 요보호아동 그룹홈 형태보호(국비/지원) -요보호아동 그룹홈형태 보호 | G70: 389950 | H70: -7 | J70: =G70+H70+I70 -> 389943 | M70: =SUM(G70+K70+L70) -> 389950 | N70: =IF(H70-K70<0,"동의필요","-") -> 동의필요 | O70: 국비가내시 | S70: =IF($Q70="도비","도비",IF(COUNT(FIND("국비/",$F70)),"국비",IF(COUNT(FIND("지특/",$F70)),"지특",IF(COUNT(FIND("기금/",$F70)),"기금",IF(COUNT(FIND("교부세/",$F70)),"특교",IF(COUNT(FIND("자체/",$F70)),"도비","")))))) -> 국비 | T70: =IF($S70<>"도비",IF($Q70="국도비","직접입력",SUM($H70:$I70)),) -> -7 | U70: =IF($S70="도비",SUM($H70:$I70),IF($Q70="국도비","직접입력",SUM($H70:$I70)-$T70)) -> 0 | V70: =IF($Q70="국도비","ok",IF(($H70+$I70)=($T70+$U70),"ok","검토")) -> ok | X70: =$S70 -> 국비 | Y70: =IF($X70<>"도비",IF($Q70="국도비","직접입력",SUM($K70:$L70)),) -> 0 | Z70: =IF($X70="도비",SUM($K70:$L70),IF($Q70="국도비","직접입력",SUM($K70:$L70)-$Y70)) -> 0 | AA70: =IF($Q70="국도비","ok",IF(($K70+$L70)=($Y70+$Z70),"ok","검토")) -> ok | AC70: {=IFERROR(IF($C70="","",INDEX([1]구분표!$I$2:$I$1001,MATCH(1,([1]구분표!$B$2:$B$1001='[1]15년일출'!$A67)*([1]구분표!$C$2:$C$1001='[1]15년일출'!$B67)*([1]구분표!$A$2:$A$1001='[1]15년일출'!$C67),0))),"@@")} -> @@
A71: 여성가족교육협력위원회 | B71: 복지여성실 | C71: 보육청소년담당관 | D71: 본예산 | E71: 1268 | F71: 학대아동보호(기금/지원) -학대피해아동 쉼터운영(좋은이웃,희망둥지) | G71: 95593 | H71: -52620 | J71: =G71+H71+I71 -> 42973 | M71: =SUM(G71+K71+L71) -> 95593 | N71: =IF(H71-K71<0,"동의필요","-") -> 동의필요 | O71: 국비가내시 | S71: =IF($Q71="도비","도비",IF(COUNT(FIND("국비/",$F71)),"국비",IF(COUNT(FIND("지특/",$F71)),"지특",IF(COUNT(FIND("기금/",$F71)),"기금",IF(COUNT(FIND("교부세/",$F71)),"특교",IF(COUNT(FIND("자체/",$F71)),"도비","")))))) -> 기금 | T71: =IF($S71<>"도비",IF($Q71="국도비","직접입력",SUM($H71:$I71)),) -> -52620 | U71: =IF($S71="도비",SUM($H71:$I71),IF($Q71="국도비","직접입력",SUM($H71:$I71)-$T71)) -> 0 | V71: =IF($Q71="국도비","ok",IF(($H71+$I71)=($T71+$U71),"ok","검토")) -> ok | X71: =$S71 -> 기금 | Y71: =IF($X71<>"도비",IF($Q71="국도비","직접입력",SUM($K71:$L71)),) -> 0 | Z71: =IF($X71="도비",SUM($K71:$L71),IF($Q71="국도비","직접입력",SUM($K71:$L71)-$Y71)) -> 0 | AA71: =IF($Q71="국도비","ok",IF(($K71+$L71)=($Y71+$Z71),"ok","검토")) -> ok | AC71: {=IFERROR(IF($C71="","",INDEX([1]구분표!$I$2:$I$1001,MATCH(1,([1]구분표!$B$2:$B$1001='[1]15년일출'!$A68)*([1]구분표!$C$2:$C$1001='[1]15년일출'!$B68)*([1]구분표!$A$2:$A$1001='[1]15년일출'!$C68),0))),"@@")} -> @@
A72: 여성가족교육협력위원회 | B72: 복지여성실 | C72: 보육청소년담당관 | F72: 누리과정운영(자체/지원) -누리과정운영 | I72: 56992444 | J72: =G72+H72+I72 -> 56992444 | M72: =SUM(G72+K72+L72) -> 0 | N72: =IF(H72-K72<0,"동의필요","-") -> - | O72: 교육청 수정예산(안) 통보 | S72: =IF($Q72="도비","도비",IF(COUNT(FIND("국비/",$F72)),"국비",IF(COUNT(FIND("지특/",$F72)),"지특",IF(COUNT(FIND("기금/",$F72)),"기금",IF(COUNT(FIND("교부세/",$F72)),"특교",IF(COUNT(FIND("자체/",$F72)),"도비","")))))) -> 도비 | T72: =IF($S72<>"도비",IF($Q72="국도비","직접입력",SUM($H72:$I72)),) -> 0 | U72: =IF($S72="도비",SUM($H72:$I72),IF($Q72="국도비","직접입력",SUM($H72:$I72)-$T72)) -> 56992444 | V72: =IF($Q72="국도비","ok",IF(($H72+$I72)=($T72+$U72),"ok","검토")) -> ok | X72: =$S72 -> 도비 | Y72: =IF($X72<>"도비",IF($Q72="국도비","직접입력",SUM($K72:$L72)),) -> 0 | Z72: =IF($X72="도비",SUM($K72:$L72),IF($Q72="국도비","직접입력",SUM($K72:$L72)-$Y72)) -> 0 | AA72: =IF($Q72="국도비","ok",IF(($K72+$L72)=($Y72+$Z72),"ok","검토")) -> ok | AC72: {=IFERROR(IF($C72="","",INDEX([1]구분표!$I$2:$I$1001,MATCH(1,([1]구분표!$B$2:$B$1001='[1]15년일출'!$A67)*([1]구분표!$C$2:$C$1001='[1]15년일출'!$B67)*([1]구분표!$A$2:$A$1001='[1]15년일출'!$C67),0))),"@@")} -> @@
A73: 여성가족교육협력위원회 | B73: 복지여성실 | C73: 보육청소년담당관 | D73: 본예산 | E73: 1255 | F73: 특수보육 활성화 지원(자체/지원) - 누리과정 차액보육료 지원 | I73: 2981880 | J73: =G73+H73+I73 -> 2981880 | S73: =IF($Q73="도비","도비",IF(COUNT(FIND("국비/",$F73)),"국비",IF(COUNT(FIND("지특/",$F73)),"지특",IF(COUNT(FIND("기금/",$F73)),"기금",IF(COUNT(FIND("교부세/",$F73)),"특교",IF(COUNT(FIND("자체/",$F73)),"도비","")))))) -> 도비 | U73: 2981880
A74: 여성가족교육협력위원회 | B74: 복지여성실 | C74: 보육청소년담당관 | D74: 본예산 | E74: 1255 | F74: 특수보육 활성화 지원(자체/지원) - 공공형 어린이집 인건비지원 | G74: 176160 | I74: 66971 | J74: =G74+H74+I74 -> 243131 | S74: =IF($Q74="도비","도비",IF(COUNT(FIND("국비/",$F74)),"국비",IF(COUNT(FIND("지특/",$F74)),"지특",IF(COUNT(FIND("기금/",$F74)),"기금",IF(COUNT(FIND("교부세/",$F74)),"특교",IF(COUNT(FIND("자체/",$F74)),"도비","")))))) -> 도비 | U74: 66971
A75: 여성가족교육협력위원회 | B75: 복지여성실 | C75: 보육청소년담당관 | D75: 본예산 | E75: 1255 | F75: 특수보육 활성화 지원(자체/지원) -가정보육교사제도 운영 | G75: 147136 | H75: -44141 | J75: =G75+H75+I75 -> 102995 | S75: =IF($Q75="도비","도비",IF(COUNT(FIND("국비/",$F75)),"국비",IF(COUNT(FIND("지특/",$F75)),"지특",IF(COUNT(FIND("기금/",$F75)),"기금",IF(COUNT(FIND("교부세/",$F75)),"특교",IF(COUNT(FIND("자체/",$F75)),"도비","")))))) -> 도비 | U75: -44141
A76: 여성가족교육협력위원회 | B76: 복지여성실 | C76: 보육청소년담당관 | D76: 본예산 | E76: 1257 | F76: 영유아인성 예절 교육원 운영(자체/직접) | G76: 260000 | I76: 20000 | J76: =G76+H76+I76 -> 280000 | S76: =IF($Q76="도비","도비",IF(COUNT(FIND("국비/",$F76)),"국비",IF(COUNT(FIND("지특/",$F76)),"지특",IF(COUNT(FIND("기금/",$F76)),"기금",IF(COUNT(FIND("교부세/",$F76)),"특교",IF(COUNT(FIND("자체/",$F76)),"도비","")))))) -> 도비 | U76: 20000
A77: 여성가족교육협력위원회 | B77: 복지여성실 | C77: 보육청소년담당관 | D77: 본예산 | E77: 1264 | F77: 저소득 아동지원(자체/지원) -소년소녀가정 지원 | G77: 1870 | I77: 14400 | J77: =G77+H77+I77 -> 16270 | S77: =IF($Q77="도비","도비",IF(COUNT(FIND("국비/",$F77)),"국비",IF(COUNT(FIND("지특/",$F77)),"지특",IF(COUNT(FIND("기금/",$F77)),"기금",IF(COUNT(FIND("교부세/",$F77)),"특교",IF(COUNT(FIND("자체/",$F77)),"도비","")))))) -> 도비 | U77: 14400
A78: 여성가족교육협력위원회 | B78: 복지여성실 | C78: 보육청소년담당관 | D78: 본예산 | E78: 1267 | F78: 지역아동센터 지원(자체/지원) -지역아동센터 종사자 처우개선비 | G78: 118200 | I78: 26880 | J78: =G78+H78+I78 -> 145080 | S78: =IF($Q78="도비","도비",IF(COUNT(FIND("국비/",$F78)),"국비",IF(COUNT(FIND("지특/",$F78)),"지특",IF(COUNT(FIND("기금/",$F78)),"기금",IF(COUNT(FIND("교부세/",$F78)),"특교",IF(COUNT(FIND("자체/",$F78)),"도비","")))))) -> 도비 | U78: 26880
A79: 여성가족교육협력위원회 | B79: 복지여성실 | C79: 보육청소년담당관 | D79: 본예산 | E79: 1267 | F79: 지역아동센터 지원(자체/지원) -저소득 아동 학습도우미 | G79: 165200 | I79: 4800 | J79: =G79+H79+I79 -> 170000 | S79: =IF($Q79="도비","도비",IF(COUNT(FIND("국비/",$F79)),"국비",IF(COUNT(FIND("지특/",$F79)),"지특",IF(COUNT(FIND("기금/",$F79)),"기금",IF(COUNT(FIND("교부세/",$F79)),"특교",IF(COUNT(FIND("자체/",$F79)),"도비","")))))) -> 도비 | U79: 4800
A80: 여성가족교육협력위원회 | B80: 복지여성실 | C80: 보육청소년담당관 | D80: 신규 | F80: 특수보육 활성화 지원(자체/지원) -영아 표준보육과정 프로그램 지원 | I80: 481440 | J80: =G80+H80+I80 -> 481440 | S80: =IF($Q80="도비","도비",IF(COUNT(FIND("국비/",$F80)),"국비",IF(COUNT(FIND("지특/",$F80)),"지특",IF(COUNT(FIND("기금/",$F80)),"기금",IF(COUNT(FIND("교부세/",$F80)),"특교",IF(COUNT(FIND("자체/",$F80)),"도비","")))))) -> 도비 | U80: 481440
A81: 여성가족교육협력위원회 | B81: 복지여성실 | C81: 보육청소년담당관 | D81: 신규 | F81: 청소년 유해환경감시단 연찬회 개최(자체/직접) -청소년 유해환경감시단 연찬회 개최 | I81: 10000 | J81: =G81+H81+I81 -> 10000 | S81: 도비 | U81: 10000
A82: 여성가족교육협력위원회 | B82: 복지여성실 | C82: 보육청소년담당관 | D82: 신규 | F82: 아동그룹홈 운영 지원(자체/지원) | I82: 23000 | J82: =G82+H82+I82 -> 23000 | S82: =IF($Q82="도비","도비",IF(COUNT(FIND("국비/",$F82)),"국비",IF(COUNT(FIND("지특/",$F82)),"지특",IF(COUNT(FIND("기금/",$F82)),"기금",IF(COUNT(FIND("교부세/",$F82)),"특교",IF(COUNT(FIND("자체/",$F82)),"도비","")))))) -> 도비 | U82: 23000
A83: 여성가족교육협력위원회 | B83: 복지여성실 | C83: 북부여성비전센터 | D83: 본예산 | E83: 1276 | F83: 인터넷중독 대응사업(자체/직접) | G83: 8000 | I83: 6000 | J83: =G83+H83+I83 -> 14000 | S83: 도비 | U83: 6000
A84: 여성가족교육협력위원회 | B84: 복지여성실 | C84: 북부여성비전센터 | D84: 신규 | F84: 창업실 확대 운영(자체/직접) | I84: 45000 | J84: =G84+H84+I84 -> 45000 | S84: 도비 | U84: 45000
A85: 여성가족교육협력위원회 | B85: 교육협력국 | C85: 교육정책과 | D85: 본예산 | E85: 1147 | F85: 교육정책 관계자 직무연수(자체/직접) - 행사운영비(201-03) | G85: 5000 | I85: 10000 | J85: =G85+H85+I85 -> 15000 | M85: =SUM(G85+K85+L85) -> 5000 | N85: =IF(H85-K85<0,"동의필요","-") -> - | O85: 201-03(행사운영비) | S85: =IF($Q85="도비","도비",IF(COUNT(FIND("국비/",$F85)),"국비",IF(COUNT(FIND("지특/",$F85)),"지특",IF(COUNT(FIND("기금/",$F85)),"기금",IF(COUNT(FIND("교부세/",$F85)),"특교",IF(COUNT(FIND("자체/",$F85)),"도비","")))))) -> 도비 | U85: =IF($S85="도비",SUM($H85:$I85),IF($Q85="국도비","직접입력",SUM($H85:$I85)-$T85)) -> 10000
A86: 여성가족교육협력위원회 | B86: 교육협력국 | C86: 교육정책과 | D86: 본예산 | E86: 1147 | F86: 교육정책 관계자 직무연수(자체/직접) - 행사실비보상금(301-09) | G86: 0 | I86: 5000 | J86: =G86+H86+I86 -> 5000 | M86: =SUM(G86+K86+L86) -> 0 | N86: =IF(H86-K86<0,"동의필요","-") -> - | O86: 301-09(행사실비보상금) | S86: =IF($Q86="도비","도비",IF(COUNT(FIND("국비/",$F86)),"국비",IF(COUNT(FIND("지특/",$F86)),"지특",IF(COUNT(FIND("기금/",$F86)),"기금",IF(COUNT(FIND("교부세/",$F86)),"특교",IF(COUNT(FIND("자체/",$F86)),"도비","")))))) -> 도비 | U86: =IF($S86="도비",SUM($H86:$I86),IF($Q86="국도비","직접입력",SUM($H86:$I86)-$T86)) -> 5000
A87: 여성가족교육협력위원회 | B87: 교육협력국 | C87: 교육정책과 | D87: 본예산 | E87: 1148 | F87: 평생교육협의회 운영 및 공모심사 수당(자체/직접) - 평생교육협의회 참석수당 | G87: 2300 | H87: -500 | J87: =G87+H87+I87 -> 1800 | M87: =SUM(G87+K87+L87) -> 2300 | N87: =IF(H87-K87<0,"동의필요","-") -> 동의필요 | S87: =IF($Q87="도비","도비",IF(COUNT(FIND("국비/",$F87)),"국비",IF(COUNT(FIND("지특/",$F87)),"지특",IF(COUNT(FIND("기금/",$F87)),"기금",IF(COUNT(FIND("교부세/",$F87)),"특교",IF(COUNT(FIND("자체/",$F87)),"도비","")))))) -> 도비 | U87: =IF($S87="도비",SUM($H87:$I87),IF($Q87="국도비","직접입력",SUM($H87:$I87)-$T87)) -> -500
A88: 여성가족교육협력위원회 | B88: 교육협력국 | C88: 교육정책과 | D88: 본예산 | E88: 1148 | F88: 평생교육협의회 운영 및 공모심사 수당(자체/직접) - 평생교육사업 공모심사 수당 | G88: 1700 | H88: -500 | J88: =G88+H88+I88 -> 1200 | M88: =SUM(G88+K88+L88) -> 1700 | N88: =IF(H88-K88<0,"동의필요","-") -> 동의필요 | S88: =IF($Q88="도비","도비",IF(COUNT(FIND("국비/",$F88)),"국비",IF(COUNT(FIND("지특/",$F88)),"지특",IF(COUNT(FIND("기금/",$F88)),"기금",IF(COUNT(FIND("교부세/",$F88)),"특교",IF(COUNT(FIND("자체/",$F88)),"도비","")))))) -> 도비 | U88: =IF($S88="도비",SUM($H88:$I88),IF($Q88="국도비","직접입력",SUM($H88:$I88)-$T88)) -> -500
A89: 여성가족교육협력위원회 | B89: 교육협력국 | C89: 교육정책과 | D89: 본예산 | E89: 1149 | F89: 경기 365-24 두루누리 아카데미 운영(자체/직접) - 민간경상사업보조(307-02) | G89: 90000 | H89: -27000 | J89: =G89+H89+I89 -> 63000 | M89: =SUM(G89+K89+L89) -> 90000 | N89: =IF(H89-K89<0,"동의필요","-") -> 동의필요 | O89: 통계목 추가에 따른 감액 | S89: =IF($Q89="도비","도비",IF(COUNT(FIND("국비/",$F89)),"국비",IF(COUNT(FIND("지특/",$F89)),"지특",IF(COUNT(FIND("기금/",$F89)),"기금",IF(COUNT(FIND("교부세/",$F89)),"특교",IF(COUNT(FIND("자체/",$F89)),"도비","")))))) -> 도비 | U89: =IF($S89="도비",SUM($H89:$I89),IF($Q89="국도비","직접입력",SUM($H89:$I89)-$T89)) -> -27000
A90: 여성가족교육협력위원회 | B90: 교육협력국 | C90: 교육정책과 | D90: 본예산 | E90: 1149 | F90: 경기 365-24 두루누리 아카데미 운영(자체/직접) - 민간단체법정운영비보조(307-03) | G90: 0 | I90: 27000 | J90: =G90+H90+I90 -> 27000 | M90: =SUM(G90+K90+L90) -> 0 | N90: =IF(H90-K90<0,"동의필요","-") -> - | O90: 통계목 추가에 따른 증액 | S90: =IF($Q90="도비","도비",IF(COUNT(FIND("국비/",$F90)),"국비",IF(COUNT(FIND("지특/",$F90)),"지특",IF(COUNT(FIND("기금/",$F90)),"기금",IF(COUNT(FIND("교부세/",$F90)),"특교",IF(COUNT(FIND("자체/",$F90)),"도비","")))))) -> 도비 | U90: =IF($S90="도비",SUM($H90:$I90),IF($Q90="국도비","직접입력",SUM($H90:$I90)-$T90)) -> 27000
A91: 여성가족교육협력위원회 | B91: 교육협력국 | C91: 교육정책과 | D91: 본예산 | E91: 1149 | F91: 재난안전 전문교육강사 양성(자체/지원) - 재난안전 전문교육강사 양성 | G91: 50000 | H91: -50000 | J91: =G91+H91+I91 -> 0 | M91: =SUM(G91+K91+L91) -> 50000 | N91: =IF(H91-K91<0,"동의필요","-") -> 동의필요 | O91: 사업명 변경에 따른 감액 | S91: =IF($Q91="도비","도비",IF(COUNT(FIND("국비/",$F91)),"국비",IF(COUNT(FIND("지특/",$F91)),"지특",IF(COUNT(FIND("기금/",$F91)),"기금",IF(COUNT(FIND("교부세/",$F91)),"특교",IF(COUNT(FIND("자체/",$F91)),"도비","")))))) -> 도비 | U91: =IF($S91="도비",SUM($H91:$I91),IF($Q91="국도비","직접입력",SUM($H91:$I91)-$T91)) -> -50000
A92: 여성가족교육협력위원회 | B92: 교육협력국 | C92: 교육정책과 | D92: 본예산 | E92: 1149 | F92: 재난안전 전문교육강사 양성 및 교육(자체/지원) - 재난안전 전문교육강사 양성 및 교육 | G92: 0 | I92: 50000 | J92: =G92+H92+I92 -> 50000 | M92: =SUM(G92+K92+L92) -> 0 | N92: =IF(H92-K92<0,"동의필요","-") -> - | O92: 사업명 변경에 따른 증액 | S92: =IF($Q92="도비","도비",IF(COUNT(FIND("국비/",$F92)),"국비",IF(COUNT(FIND("지특/",$F92)),"지특",IF(COUNT(FIND("기금/",$F92)),"기금",IF(COUNT(FIND("교부세/",$F92)),"특교",IF(COUNT(FIND("자체/",$F92)),"도비","")))))) -> 도비 | U92: =IF($S92="도비",SUM($H92:$I92),IF($Q92="국도비","직접입력",SUM($H92:$I92)-$T92)) -> 50000
A93: 여성가족교육협력위원회 | B93: 교육협력국 | C93: 교육정책과 | D93: 본예산 | E93: 1149 | F93: 평생학습마을공동체 지원(자체/지원) - 평생학습마을공동체 지원 | G93: 324000 | I93: 140000 | J93: =G93+H93+I93 -> 464000 | M93: =SUM(G93+K93+L93) -> 324000 | N93: =IF(H93-K93<0,"동의필요","-") -> - | S93: =IF($Q93="도비","도비",IF(COUNT(FIND("국비/",$F93)),"국비",IF(COUNT(FIND("지특/",$F93)),"지특",IF(COUNT(FIND("기금/",$F93)),"기금",IF(COUNT(FIND("교부세/",$F93)),"특교",IF(COUNT(FIND("자체/",$F93)),"도비","")))))) -> 도비 | U93: =IF($S93="도비",SUM($H93:$I93),IF($Q93="국도비","직접입력",SUM($H93:$I93)-$T93)) -> 140000
A94: 여성가족교육협력위원회 | B94: 교육협력국 | C94: 교육협력과 | D94: 본예산 | E94: 1151 | F94: 대학경쟁력 강화사업(자체/직접) - 대학협력 관계자 워크숍 | G94: 8000 | H94: -8000 | J94: =G94+H94+I94 -> 0 | M94: =SUM(G94+K94+L94) -> 8000 | N94: =IF(H94-K94<0,"동의필요","-") -> 동의필요 | O94: 사업명 변경에 따른 감액 | S94: =IF($Q94="도비","도비",IF(COUNT(FIND("국비/",$F94)),"국비",IF(COUNT(FIND("지특/",$F94)),"지특",IF(COUNT(FIND("기금/",$F94)),"기금",IF(COUNT(FIND("교부세/",$F94)),"특교",IF(COUNT(FIND("자체/",$F94)),"도비","")))))) -> 도비 | U94: =IF($S94="도비",SUM($H94:$I94),IF($Q94="국도비","직접입력",SUM($H94:$I94)-$T94)) -> -8000
A95: 여성가족교육협력위원회 | B95: 교육협력국 | C95: 교육협력과 | D95: 본예산 | E95: 1151 | F95: 외국인 유학생 워크숍(자체/직접) - 외국인 유학생 워크숍 | G95: 0 | I95: 8000 | J95: =G95+H95+I95 -> 8000 | M95: =SUM(G95+K95+L95) -> 0 | N95: =IF(H95-K95<0,"동의필요","-") -> - | O95: 사업명 변경에 따른 증액 | S95: =IF($Q95="도비","도비",IF(COUNT(FIND("국비/",$F95)),"국비",IF(COUNT(FIND("지특/",$F95)),"지특",IF(COUNT(FIND("기금/",$F95)),"기금",IF(COUNT(FIND("교부세/",$F95)),"특교",IF(COUNT(FIND("자체/",$F95)),"도비","")))))) -> 도비 | U95: =IF($S95="도비",SUM($H95:$I95),IF($Q95="국도비","직접입력",SUM($H95:$I95)-$T95)) -> 8000
A96: 여성가족교육협력위원회 | B96: 교육협력국 | C96: 교육협력과 | D96: 본예산 | E96: 1152 | F96: 대안교육시설 지원(자체/직접) - 대안교육시설 지원 | G96: 30000 | I96: 20000 | J96: =G96+H96+I96 -> 50000 | M96: =SUM(G96+K96+L96) -> 30000 | N96: =IF(H96-K96<0,"동의필요","-") -> - | S96: =IF($Q96="도비","도비",IF(COUNT(FIND("국비/",$F96)),"국비",IF(COUNT(FIND("지특/",$F96)),"지특",IF(COUNT(FIND("기금/",$F96)),"기금",IF(COUNT(FIND("교부세/",$F96)),"특교",IF(COUNT(FIND("자체/",$F96)),"도비","")))))) -> 도비 | U96: =IF($S96="도비",SUM($H96:$I96),IF($Q96="국도비","직접입력",SUM($H96:$I96)-$T96)) -> 20000
A97: 여성가족교육협력위원회 | B97: 교육협력국 | C97: 교육협력과 | D97: 본예산 | E97: 1152 | F97: 경기대학기숙사 운영(자체/직접) - 경기대학기숙사 운영 | G97: 600000 | H97: -100000 | J97: =G97+H97+I97 -> 500000 | M97: =SUM(G97+K97+L97) -> 600000 | N97: =IF(H97-K97<0,"동의필요","-") -> 동의필요 | S97: =IF($Q97="도비","도비",IF(COUNT(FIND("국비/",$F97)),"국비",IF(COUNT(FIND("지특/",$F97)),"지특",IF(COUNT(FIND("기금/",$F97)),"기금",IF(COUNT(FIND("교부세/",$F97)),"특교",IF(COUNT(FIND("자체/",$F97)),"도비","")))))) -> 도비 | U97: =IF($S97="도비",SUM($H97:$I97),IF($Q97="국도비","직접입력",SUM($H97:$I97)-$T97)) -> -100000
A98: 여성가족교육협력위원회 | B98: 교육협력국 | C98: 도서관정책과 | D98: 본예산 | E98: 1155 | F98: 행복한 책 나눔 운동(자체/직접) - 행복한 책 나눔 운동 | G98: 100000 | I98: 50000 | J98: =G98+H98+I98 -> 150000 | M98: =SUM(G98+K98+L98) -> 100000 | N98: =IF(H98-K98<0,"동의필요","-") -> - | S98: =IF($Q98="도비","도비",IF(COUNT(FIND("국비/",$F98)),"국비",IF(COUNT(FIND("지특/",$F98)),"지특",IF(COUNT(FIND("기금/",$F98)),"기금",IF(COUNT(FIND("교부세/",$F98)),"특교",IF(COUNT(FIND("자체/",$F98)),"도비","")))))) -> 도비 | U98: =IF($S98="도비",SUM($H98:$I98),IF($Q98="국도비","직접입력",SUM($H98:$I98)-$T98)) -> 50000
A99: 여성가족교육협력위원회 | B99: 교육협력국 | C99: 도서관정책과 | D99: 본예산 | E99: 1155 | F99: 정보소외계층 독서문화 프로그램(자체/직접) - 정보소외계층 독서문화 프로그램 지원 | G99: 20000 | I99: 30000 | J99: =G99+H99+I99 -> 50000 | M99: =SUM(G99+K99+L99) -> 20000 | N99: =IF(H99-K99<0,"동의필요","-") -> - | S99: =IF($Q99="도비","도비",IF(COUNT(FIND("국비/",$F99)),"국비",IF(COUNT(FIND("지특/",$F99)),"지특",IF(COUNT(FIND("기금/",$F99)),"기금",IF(COUNT(FIND("교부세/",$F99)),"특교",IF(COUNT(FIND("자체/",$F99)),"도비","")))))) -> 도비 | U99: =IF($S99="도비",SUM($H99:$I99),IF($Q99="국도비","직접입력",SUM($H99:$I99)-$T99)) -> 30000
A100: 여성가족교육협력위원회 | B100: 교육협력국 | C100: 도서관정책과 | D100: 본예산 | E100: 1155 | F100: 경기도사이버도서관 운영(자체/직접) - 사이버도서관 전산장비 유지보수 | G100: 130000 | H100: -20000 | J100: =G100+H100+I100 -> 110000 | M100: =SUM(G100+K100+L100) -> 130000 | N100: =IF(H100-K100<0,"동의필요","-") -> 동의필요 | S100: 도비 | U100: =IF($S100="도비",SUM($H100:$I100),IF($Q100="국도비","직접입력",SUM($H100:$I100)-$T100)) -> -20000
...

Sheet 2추총괄표
B1: '14년도 제2회 추경 일반 및 특별회계 세입·세출 예산안[전체예산총괄]
B3: □ 총 괄 | D3: 세입예산증감 | E3: =SUM(D7:E7) -> #REF! | F3: 세출예산증감 | G3: =SUM(F7:G7) -> #REF!
H4: (단위:천원) | M4: (일반+특별+기금) | O4: 특별+기금
B5: 구 분 | C5: 집행부제출(안) | D5: 세입예산(안) | F5: 세출예산(안) | H5: 예산수정(안) | I5: 일반회계 증감(총괄표) | K5: 예비비증감 | L5: 비 고 | M5: 전체 증감(시트) | O5: 비고
D6: 감 액 | E6: 증 액 | F6: 감 액 | G6: 증 액 | I6: 세입 | J6: 세출 | M6: 세입 | N6: 세출
B7: 합 계 | C7: =SUM(C8:C18) -> 0 | D7: =SUM(D8:D18) -> #REF! | E7: =SUM(E8:E18) -> #REF! | F7: =SUM(F8:F18) -> #REF! | G7: =SUM(G8:G18) -> #REF! | H7: =SUM(H8:H18) -> #REF! | I7: =E25+D25 -> #REF! | J7: =F25+G25 -> #REF! | K7: =I7-J7 -> #REF! | L7: 예비비 증감이 - 예산이면 감액에 + 예산이면 증액에 입력 | M7: =D24+E24 -> #REF! | N7: =F24+G24 -> #REF! | O7: 0 | P7: 0
B8: 기 타 | C8: 0 | H8: =C8-F8+G8 -> 0 | I8: =D7+E7 -> #REF! | J8: =F7+G7 -> #REF! | K8: =I8-J8 -> #REF!
B9: 의회운영위원회 | D9: =SUMIFS(#REF!,#REF!,'2추총괄표'!$B9) -> #REF! | E9: =SUMIFS(#REF!,#REF!,'2추총괄표'!$B9) -> #REF! | F9: =SUMIFS(#REF!,#REF!,'2추총괄표'!$B9) -> #REF! | G9: =SUMIFS(#REF!,#REF!,'2추총괄표'!$B9) -> #REF! | H9: =C9+F9+G9 -> #REF! | I9: 일반회계 증감(시트) | N9: 전체 증감
B10: 기획재정위원회 | D10: =SUMIFS(#REF!,#REF!,'2추총괄표'!$B10) -> #REF! | E10: =SUMIFS(#REF!,#REF!,'2추총괄표'!$B10) -> #REF! | F10: =SUMIFS(#REF!,#REF!,'2추총괄표'!$B10) -> #REF! | G10: =SUMIFS(#REF!,#REF!,'2추총괄표'!$B10) -> #REF! | H10: =C10+F10+G10 -> #REF! | I10: =#REF!+#REF! -> #REF! | J10: =#REF!+#REF! -> #REF! | N10: =M7-N7 -> #REF!
B11: 경제과학기술위원회 | D11: =SUMIFS(#REF!,#REF!,'2추총괄표'!$B11) -> #REF! | E11: =SUMIFS(#REF!,#REF!,'2추총괄표'!$B11) -> #REF! | F11: =SUMIFS(#REF!,#REF!,'2추총괄표'!$B11) -> #REF! | G11: =SUMIFS(#REF!,#REF!,'2추총괄표'!$B11) -> #REF! | H11: =C11+F11+G11 -> #REF!
B12: 안전행정위원회 | D12: =SUMIFS(#REF!,#REF!,'2추총괄표'!$B12) -> #REF! | E12: =SUMIFS(#REF!,#REF!,'2추총괄표'!$B12) -> #REF! | F12: =SUMIFS(#REF!,#REF!,'2추총괄표'!$B12) -> #REF! | G12: =SUMIFS(#REF!,#REF!,'2추총괄표'!$B12) -> #REF! | H12: =C12+F12+G12 -> #REF!
B13: 문화체육관광위원회 | D13: =SUMIFS(#REF!,#REF!,'2추총괄표'!$B13) -> #REF! | E13: =SUMIFS(#REF!,#REF!,'2추총괄표'!$B13) -> #REF! | F13: =SUMIFS(#REF!,#REF!,'2추총괄표'!$B13) -> #REF! | G13: =SUMIFS(#REF!,#REF!,'2추총괄표'!$B13) -> #REF! | H13: =C13+F13+G13 -> #REF! | N13: 기금
B14: 농정해양위원회 | D14: =SUMIFS(#REF!,#REF!,'2추총괄표'!$B14) -> #REF! | E14: =SUMIFS(#REF!,#REF!,'2추총괄표'!$B14) -> #REF! | F14: =SUMIFS(#REF!,#REF!,'2추총괄표'!$B14) -> #REF! | G14: =SUMIFS(#REF!,#REF!,'2추총괄표'!$B14) -> #REF! | H14: =C14+F14+G14 -> #REF! | N14: =N10-K7 -> #REF!
B15: 보건복지위원회 | D15: =SUMIFS(#REF!,#REF!,'2추총괄표'!$B15) -> #REF! | E15: =SUMIFS(#REF!,#REF!,'2추총괄표'!$B15) -> #REF! | F15: =SUMIFS(#REF!,#REF!,'2추총괄표'!$B15) -> #REF! | G15: =SUMIFS(#REF!,#REF!,'2추총괄표'!$B15) -> #REF! | H15: =C15+F15+G15 -> #REF!
B16: 건설교통위원회 | D16: =SUMIFS(#REF!,#REF!,'2추총괄표'!$B16) -> #REF! | E16: =SUMIFS(#REF!,#REF!,'2추총괄표'!$B16) -> #REF! | F16: =SUMIFS(#REF!,#REF!,'2추총괄표'!$B16) -> #REF! | G16: =SUMIFS(#REF!,#REF!,'2추총괄표'!$B16) -> #REF! | H16: =C16+F16+G16 -> #REF!
B17: 도시환경위원회 | D17: =SUMIFS(#REF!,#REF!,'2추총괄표'!$B17) -> #REF! | E17: =SUMIFS(#REF!,#REF!,'2추총괄표'!$B17) -> #REF! | F17: =SUMIFS(#REF!,#REF!,'2추총괄표'!$B17) -> #REF! | G17: =SUMIFS(#REF!,#REF!,'2추총괄표'!$B17) -> #REF! | H17: =C17+F17+G17 -> #REF!
B18: 여성가족교육협력위원회 | D18: =SUMIFS(#REF!,#REF!,'2추총괄표'!$B18) -> #REF! | E18: =SUMIFS(#REF!,#REF!,'2추총괄표'!$B18) -> #REF! | F18: =SUMIFS(#REF!,#REF!,'2추총괄표'!$B18) -> #REF! | G18: =SUMIFS(#REF!,#REF!,'2추총괄표'!$B18) -> #REF! | H18: =C18+F18+G18 -> #REF!
B20: □ 회계별 예산총규모
H21: (단위:천원)
B22: 구 분 | C22: 세출예산액 (집행부제출 안) | D22: 세입예산(안) | F22: 세출예산(안) | H22: 예산수정(안)
D23: 감 액 | E23: 증 액 | F23: 감 액 | G23: 증 액 | I23: 세입기준 수정예산안
B24: 합 계 | C24: =SUM(C25:C26) -> 0 | D24: =SUM(D25:D26) -> #REF! | E24: =SUM(E25:E26) -> #REF! | F24: =SUM(F25:F26) -> #REF! | G24: =SUM(G25:G26) -> #REF! | H24: =SUM(H25:H26) -> #REF! | I24: =C24+D24+E24 -> #REF! | J24: =I24-H24 -> #REF! | K24: (세출기준-세입기준)
B25: 일반회계 | D25: =#REF! -> #REF! | E25: =#REF! -> #REF! | F25: =#REF! -> #REF! | G25: =#REF! -> #REF! | H25: =C25+F25+G25 -> #REF! | I25: =C25+D25+E25 -> #REF! | J25: =I25-H25 -> #REF! | K25: (세출기준-세입기준)
B26: 특별회계 | H26: =C26+F26+G26 -> 0 | I26: =C26+D26+E26 -> 0 | J26: =I26-H26 -> 0 | K26: (세출기준-세입기준)
B30: 위원회명 | C30: 일반+기특 | D30: 공기업 | E30: 합계
B31: 의회운영위원회 | C31: 39922113 | E31: =SUM(C31:D31) -> 39922113
B32: 기획재정위원회 | C32: 3302571667 | D32: 1780946434 | E32: =SUM(C32:D32) -> 5083518101
B33: 경제과학기술위원회 | C33: 155329320 | D33: 384743740 | E33: =SUM(C33:D33) -> 540073060
B34: 안전행정위원회 | C34: 1142858974 | E34: =SUM(C34:D34) -> 1142858974
B35: 문화체육관광위원회 | C35: 224243208 | D35: 52484400 | E35: =SUM(C35:D35) -> 276727608
B36: 농정해양위원회 | C36: 466978999 | E36: =SUM(C36:D36) -> 466978999
B37: 보건복지위원회 | C37: 3254006708 | E37: =SUM(C37:D37) -> 3254006708
B38: 건설교통위원회 | C38: 1220859831 | E38: =SUM(C38:D38) -> 1220859831
B39: 도시환경위원회 | C39: 866963933 | D39: 28360000 | E39: =SUM(C39:D39) -> 895323933
B40: 여성가족평생교육위원회 | C40: 4882582917 | E40: =SUM(C40:D40) -> 4882582917
B41: 총합계 | C41: =SUM(C31:C40) -> 15556317670 | D41: =SUM(D31:D40) -> 2246534574 | E41: =SUM(C41:D41) -> 17802852244
B43: 예비비 | C43: =3922478-221377 -> 3701101
I160: ◦ 본청 83,000 증 ◦ 북부청 377,000 증
K290: -50000

Sheet 2추총괄표(실국별)
B1: '14년도 제2회 추경 일반 및 특별회계 세입·세출 예산안[전체예산총괄]
B3: □ 총괄(실국별) | E3: =SUM(D7:E7) -> #REF! | G3: =SUM(F7:G7) -> #REF!
H4: (단위:천원) | M4: (일반+특별+기금) | O4: 특별+기금
B5: 구 분 | C5: 집행부제출(안) | D5: 세입예산(안) | F5: 세출예산(안) | H5: 예산수정(안) | I5: 일반회계 증감(총괄표) | K5: 예비비증감 | L5: 비 고 | M5: 전체 증감(시트) | O5: 비고
D6: 감 액 | E6: 증 액 | F6: 감 액 | G6: 증 액 | I6: 세입 | J6: 세출 | M6: 세입 | N6: 세출
B7: 합 계 | C7: =SUM(C8:C33) -> 0 | D7: =SUM(D8:D33) -> #REF! | E7: =SUM(E8:E33) -> #REF! | F7: =SUM(F8:F33) -> #REF! | G7: =SUM(G8:G33) -> #REF! | H7: =SUM(H8:H33) -> #REF! | I7: =#REF!+#REF! -> #REF! | J7: =#REF!+#REF! -> #REF! | K7: =I7-J7 -> #REF! | L7: 예비비 증감이 - 예산이면 감액에 + 예산이면 증액에 입력 | M7: =#REF!+#REF! -> #REF! | N7: =#REF!+#REF! -> #REF! | O7: 0 | P7: 0
B8: 감사관 | D8: =SUMIFS(#REF!,#REF!,'2추총괄표(실국별)'!$B8) -> #REF! | E8: =SUMIFS(#REF!,#REF!,'2추총괄표(실국별)'!$B8) -> #REF! | F8: =SUMIFS(#REF!,#REF!,'2추총괄표(실국별)'!$B8) -> #REF! | G8: =SUMIFS(#REF!,#REF!,'2추총괄표(실국별)'!$B8) -> #REF! | H8: =C8+F8+G8 -> #REF! | I8: 일반회계 증감(시트) | N8: 전체 증감
B9: 기획조정실 | D9: =SUMIFS(#REF!,#REF!,'2추총괄표(실국별)'!$B9) -> #REF! | E9: =SUMIFS(#REF!,#REF!,'2추총괄표(실국별)'!$B9) -> #REF! | F9: =SUMIFS(#REF!,#REF!,'2추총괄표(실국별)'!$B9) -> #REF! | G9: =SUMIFS(#REF!,#REF!,'2추총괄표(실국별)'!$B9) -> #REF! | H9: =C9+F9+G9 -> #REF! | I9: =#REF!+#REF! -> #REF! | J9: =#REF!+#REF! -> #REF! | N9: =#REF!-#REF! -> #REF!
B10: 도시주택실 | D10: =SUMIFS(#REF!,#REF!,'2추총괄표(실국별)'!$B10) -> #REF! | E10: =SUMIFS(#REF!,#REF!,'2추총괄표(실국별)'!$B10) -> #REF! | F10: =SUMIFS(#REF!,#REF!,'2추총괄표(실국별)'!$B10) -> #REF! | G10: =SUMIFS(#REF!,#REF!,'2추총괄표(실국별)'!$B10) -> #REF! | H10: =C10+F10+G10 -> #REF! | I10: =#REF!+#REF! -> #REF! | J10: =#REF!+#REF! -> #REF! | N10: =#REF!-#REF! -> #REF!
B11: 자치행정국 | D11: =SUMIFS(#REF!,#REF!,'2추총괄표(실국별)'!$B11) -> #REF! | E11: =SUMIFS(#REF!,#REF!,'2추총괄표(실국별)'!$B11) -> #REF! | F11: =SUMIFS(#REF!,#REF!,'2추총괄표(실국별)'!$B11) -> #REF! | G11: =SUMIFS(#REF!,#REF!,'2추총괄표(실국별)'!$B11) -> #REF! | H11: =C11+F11+G11 -> #REF!
B12: 교육협력국 | D12: =SUMIFS(#REF!,#REF!,'2추총괄표(실국별)'!$B12) -> #REF! | E12: =SUMIFS(#REF!,#REF!,'2추총괄표(실국별)'!$B12) -> #REF! | F12: =SUMIFS(#REF!,#REF!,'2추총괄표(실국별)'!$B12) -> #REF! | G12: =SUMIFS(#REF!,#REF!,'2추총괄표(실국별)'!$B12) -> #REF! | H12: =C12+F12+G12 -> #REF!
B13: 문화체육관광국 | D13: =SUMIFS(#REF!,#REF!,'2추총괄표(실국별)'!$B13) -> #REF! | E13: =SUMIFS(#REF!,#REF!,'2추총괄표(실국별)'!$B13) -> #REF! | F13: =SUMIFS(#REF!,#REF!,'2추총괄표(실국별)'!$B13) -> #REF! | G13: =SUMIFS(#REF!,#REF!,'2추총괄표(실국별)'!$B13) -> #REF! | H13: =C13+F13+G13 -> #REF! | N13: 기금
B14: 농정해양국 | D14: =SUMIFS(#REF!,#REF!,'2추총괄표(실국별)'!$B14) -> #REF! | E14: =SUMIFS(#REF!,#REF!,'2추총괄표(실국별)'!$B14) -> #REF! | F14: =SUMIFS(#REF!,#REF!,'2추총괄표(실국별)'!$B14) -> #REF! | G14: =SUMIFS(#REF!,#REF!,'2추총괄표(실국별)'!$B14) -> #REF! | H14: =C14+F14+G14 -> #REF! | N14: =N10-#REF! -> #REF!
B15: 철도국 | D15: =SUMIFS(#REF!,#REF!,'2추총괄표(실국별)'!$B15) -> #REF! | E15: =SUMIFS(#REF!,#REF!,'2추총괄표(실국별)'!$B15) -> #REF! | F15: =SUMIFS(#REF!,#REF!,'2추총괄표(실국별)'!$B15) -> #REF! | G15: =SUMIFS(#REF!,#REF!,'2추총괄표(실국별)'!$B15) -> #REF! | H15: =C15+F15+G15 -> #REF!
B16: 재난안전본부 | D16: =SUMIFS(#REF!,#REF!,'2추총괄표(실국별)'!$B16) -> #REF! | E16: =SUMIFS(#REF!,#REF!,'2추총괄표(실국별)'!$B16) -> #REF! | F16: =SUMIFS(#REF!,#REF!,'2추총괄표(실국별)'!$B16) -> #REF! | G16: =SUMIFS(#REF!,#REF!,'2추총괄표(실국별)'!$B16) -> #REF! | H16: =C16+F16+G16 -> #REF!
B17: 의회사무처 | D17: =SUMIFS(#REF!,#REF!,'2추총괄표(실국별)'!$B17) -> #REF! | E17: =SUMIFS(#REF!,#REF!,'2추총괄표(실국별)'!$B17) -> #REF! | F17: =SUMIFS(#REF!,#REF!,'2추총괄표(실국별)'!$B17) -> #REF! | G17: =SUMIFS(#REF!,#REF!,'2추총괄표(실국별)'!$B17) -> #REF! | H17: =C17+F17+G17 -> #REF!
B18: 대변인 | D18: =SUMIFS(#REF!,#REF!,'2추총괄표(실국별)'!$B18) -> #REF! | E18: =SUMIFS(#REF!,#REF!,'2추총괄표(실국별)'!$B18) -> #REF! | F18: =SUMIFS(#REF!,#REF!,'2추총괄표(실국별)'!$B18) -> #REF! | G18: =SUMIFS(#REF!,#REF!,'2추총괄표(실국별)'!$B18) -> #REF! | H18: =C18+F18+G18 -> #REF! | I18: =#REF!+#REF! -> #REF! | J18: =#REF!+#REF! -> #REF! | N18: =#REF!-#REF! -> #REF!
B19: 대외협력담당관 | D19: =SUMIFS(#REF!,#REF!,'2추총괄표(실국별)'!$B19) -> #REF! | E19: =SUMIFS(#REF!,#REF!,'2추총괄표(실국별)'!$B19) -> #REF! | F19: =SUMIFS(#REF!,#REF!,'2추총괄표(실국별)'!$B19) -> #REF! | G19: =SUMIFS(#REF!,#REF!,'2추총괄표(실국별)'!$B19) -> #REF! | H19: =C19+F19+G19 -> #REF!
B20: 보건복지국 | D20: =SUMIFS(#REF!,#REF!,'2추총괄표(실국별)'!$B20) -> #REF! | E20: =SUMIFS(#REF!,#REF!,'2추총괄표(실국별)'!$B20) -> #REF! | F20: =SUMIFS(#REF!,#REF!,'2추총괄표(실국별)'!$B20) -> #REF! | G20: =SUMIFS(#REF!,#REF!,'2추총괄표(실국별)'!$B20) -> #REF! | H20: =C20+F20+G20 -> #REF!
B21: 환경국 | D21: =SUMIFS(#REF!,#REF!,'2추총괄표(실국별)'!$B21) -> #REF! | E21: =SUMIFS(#REF!,#REF!,'2추총괄표(실국별)'!$B21) -> #REF! | F21: =SUMIFS(#REF!,#REF!,'2추총괄표(실국별)'!$B21) -> #REF! | G21: =SUMIFS(#REF!,#REF!,'2추총괄표(실국별)'!$B21) -> #REF! | H21: =C21+F21+G21 -> #REF! | N21: 기금
B22: 여성가족국 | D22: =SUMIFS(#REF!,#REF!,'2추총괄표(실국별)'!$B22) -> #REF! | E22: =SUMIFS(#REF!,#REF!,'2추총괄표(실국별)'!$B22) -> #REF! | F22: =SUMIFS(#REF!,#REF!,'2추총괄표(실국별)'!$B22) -> #REF! | G22: =SUMIFS(#REF!,#REF!,'2추총괄표(실국별)'!$B22) -> #REF! | H22: =C22+F22+G22 -> #REF! | N22: =N18-#REF! -> #REF!
B23: 농업기술원 | D23: =SUMIFS(#REF!,#REF!,'2추총괄표(실국별)'!$B23) -> #REF! | E23: =SUMIFS(#REF!,#REF!,'2추총괄표(실국별)'!$B23) -> #REF! | F23: =SUMIFS(#REF!,#REF!,'2추총괄표(실국별)'!$B23) -> #REF! | G23: =SUMIFS(#REF!,#REF!,'2추총괄표(실국별)'!$B23) -> #REF! | H23: =C23+F23+G23 -> #REF!
B24: 인재개발원 | D24: =SUMIFS(#REF!,#REF!,'2추총괄표(실국별)'!$B24) -> #REF! | E24: =SUMIFS(#REF!,#REF!,'2추총괄표(실국별)'!$B24) -> #REF! | F24: =SUMIFS(#REF!,#REF!,'2추총괄표(실국별)'!$B24) -> #REF! | G24: =SUMIFS(#REF!,#REF!,'2추총괄표(실국별)'!$B24) -> #REF! | H24: =C24+F24+G24 -> #REF!
B25: 보건환경연구원 | D25: =SUMIFS(#REF!,#REF!,'2추총괄표(실국별)'!$B25) -> #REF! | E25: =SUMIFS(#REF!,#REF!,'2추총괄표(실국별)'!$B25) -> #REF! | F25: =SUMIFS(#REF!,#REF!,'2추총괄표(실국별)'!$B25) -> #REF! | G25: =SUMIFS(#REF!,#REF!,'2추총괄표(실국별)'!$B25) -> #REF! | H25: =C25+F25+G25 -> #REF!
B26: 수자원본부 | D26: =SUMIFS(#REF!,#REF!,'2추총괄표(실국별)'!$B26) -> #REF! | E26: =SUMIFS(#REF!,#REF!,'2추총괄표(실국별)'!$B26) -> #REF! | F26: =SUMIFS(#REF!,#REF!,'2추총괄표(실국별)'!$B26) -> #REF! | G26: =SUMIFS(#REF!,#REF!,'2추총괄표(실국별)'!$B26) -> #REF! | H26: =C26+F26+G26 -> #REF! | I26: =#REF!+#REF! -> #REF! | J26: =#REF!+#REF! -> #REF! | N26: =M2-N2 -> 0
B27: 복지여성실 | D27: =SUMIFS(#REF!,#REF!,'2추총괄표(실국별)'!$B27) -> #REF! | E27: =SUMIFS(#REF!,#REF!,'2추총괄표(실국별)'!$B27) -> #REF! | F27: =SUMIFS(#REF!,#REF!,'2추총괄표(실국별)'!$B27) -> #REF! | G27: =SUMIFS(#REF!,#REF!,'2추총괄표(실국별)'!$B27) -> #REF! | H27: =C27+F27+G27 -> #REF!
B28: 균형발전기획실 | D28: =SUMIFS(#REF!,#REF!,'2추총괄표(실국별)'!$B28) -> #REF! | E28: =SUMIFS(#REF!,#REF!,'2추총괄표(실국별)'!$B28) -> #REF! | F28: =SUMIFS(#REF!,#REF!,'2추총괄표(실국별)'!$B28) -> #REF! | G28: =SUMIFS(#REF!,#REF!,'2추총괄표(실국별)'!$B28) -> #REF! | H28: =C28+F28+G28 -> #REF!
B29: 경제실 | D29: =SUMIFS(#REF!,#REF!,'2추총괄표(실국별)'!$B29) -> #REF! | E29: =SUMIFS(#REF!,#REF!,'2추총괄표(실국별)'!$B29) -> #REF! | F29: =SUMIFS(#REF!,#REF!,'2추총괄표(실국별)'!$B29) -> #REF! | G29: =SUMIFS(#REF!,#REF!,'2추총괄표(실국별)'!$B29) -> #REF! | H29: =C29+F29+G29 -> #REF! | N29: 기금
B30: 축산산림국 | D30: =SUMIFS(#REF!,#REF!,'2추총괄표(실국별)'!$B30) -> #REF! | E30: =SUMIFS(#REF!,#REF!,'2추총괄표(실국별)'!$B30) -> #REF! | F30: =SUMIFS(#REF!,#REF!,'2추총괄표(실국별)'!$B30) -> #REF! | G30: =SUMIFS(#REF!,#REF!,'2추총괄표(실국별)'!$B30) -> #REF! | H30: =C30+F30+G30 -> #REF! | N30: =N26-K2 -> 0
B31: 교통국 | D31: =SUMIFS(#REF!,#REF!,'2추총괄표(실국별)'!$B31) -> #REF! | E31: =SUMIFS(#REF!,#REF!,'2추총괄표(실국별)'!$B31) -> #REF! | F31: =SUMIFS(#REF!,#REF!,'2추총괄표(실국별)'!$B31) -> #REF! | G31: =SUMIFS(#REF!,#REF!,'2추총괄표(실국별)'!$B31) -> #REF! | H31: =C31+F31+G31 -> #REF! | I31: =#REF!+#REF! -> #REF! | J31: =#REF!+#REF! -> #REF! | N31: =M7-N7 -> #REF!
B32: 건설국 | D32: =SUMIFS(#REF!,#REF!,'2추총괄표(실국별)'!$B32) -> #REF! | E32: =SUMIFS(#REF!,#REF!,'2추총괄표(실국별)'!$B32) -> #REF! | F32: =SUMIFS(#REF!,#REF!,'2추총괄표(실국별)'!$B32) -> #REF! | G32: =SUMIFS(#REF!,#REF!,'2추총괄표(실국별)'!$B32) -> #REF! | H32: =C32+F32+G32 -> #REF!
B33: 건설본부 | D33: =SUMIFS(#REF!,#REF!,'2추총괄표(실국별)'!$B33) -> #REF! | E33: =SUMIFS(#REF!,#REF!,'2추총괄표(실국별)'!$B33) -> #REF! | F33: =SUMIFS(#REF!,#REF!,'2추총괄표(실국별)'!$B33) -> #REF! | G33: =SUMIFS(#REF!,#REF!,'2추총괄표(실국별)'!$B33) -> #REF! | H33: =C33+F33+G33 -> #REF!
B37: 위원회명 | C37: 일반+기특 | D37: 공기업 | E37: 합계
B38: 감사관 | C38: 914581 | E38: =SUM(C38:D38) -> 914581
B39: 기획조정실 | C39: 3119807801 | D39: 1780946434 | E39: =SUM(C39:D39) -> 4900754235
B40: 도시주택실 | C40: 190109521 | D40: 28360000 | E40: =SUM(C40:D40) -> 218469521
B41: 자치행정국 | C41: 544196314 | E41: =SUM(C41:D41) -> 544196314
B42: 문화체육관광국 | C42: 224243208 | D42: 52484400 | E42: =SUM(C42:D42) -> 276727608
B43: 농정해양국 | C43: 249710070 | E43: =SUM(C43:D43) -> 249710070
B44: 보건복지국 | C44: 2571625696 | E44: =SUM(C44:D44) -> 2571625696
B45: 환경국 | C45: 94671441 | E45: =SUM(C45:D45) -> 94671441
B46: 철도물류국 | C46: 107956457 | E46: =SUM(C46:D46) -> 107956457
B47: 여성가족국 | C47: 1879955306 | E47: =SUM(C47:D47) -> 1879955306
B48: 소방재난본부 | C48: 475412376 | E48: =SUM(C48:D48) -> 475412376
B49: 경제투자실 | C49: 148252370 | D49: 384743740 | E49: =SUM(C49:D49) -> 532996110
B50: 대변인 | C50: 9607826 | E50: =SUM(C50:D50) -> 9607826
B51: 대외협력담당관 | C51: 384069 | E51: =SUM(C51:D51) -> 384069
B52: 복지여성실 | C52: 1353512493 | E52: =SUM(C52:D52) -> 1353512493
B53: 안전행정실 | C53: 69450506 | E53: =SUM(C53:D53) -> 69450506
B54: 균형발전국 | C54: 173302168 | E54: =SUM(C54:D54) -> 173302168
B55: 평생교육국 | C55: 2325292998 | E55: =SUM(C55:D55) -> 2325292998
B56: 축산산림국 | C56: 193048941 | E56: =SUM(C56:D56) -> 193048941
B57: 교통건설국 | C57: 866196185 | E57: =SUM(C57:D57) -> 866196185
B58: 북부소방재난본부 | C58: 1402108 | E58: =SUM(C58:D58) -> 1402108
B59: 의회사무처 | C59: 29930218 | E59: =SUM(C59:D59) -> 29930218
B60: 경기도농업기술원 | C60: 39275302 | E60: =SUM(C60:D60) -> 39275302
B61: 경기도인재개발원 | C61: 8910247 | E61: =SUM(C61:D61) -> 8910247
... B66: 소방서 | C66: 53973769 | E66: =SUM(C66:D66) -> 53973769
B67: 총합계 | C67: =SUM(C38:C66) -> 15556317670 | D67: =SUM(D38:D66) -> 2246534574 | E67: =SUM(C67:D67) -> 17802852244
I167: ◦ 본청 83,000 증 ◦ 북부청 377,000 증
K297: -50000
