Workbook

Sheet 구분표
A1: 실과명 조정 | B1: 위원회명 조정 | C1: 실국명 조정 | E1: 실국명 | F1: 실과명 | G1: 위원회명 | H1: 정렬순서 | I1: 정렬코드 | K1: 2014재원 | L1: 2015재원 | N1: 본예산 | O1: 2회추경
A2: =IF(COUNT(AND(FIND("북부소방재난본부",$E2),FIND("특수대응단",$F2))),"특수대응단(북부)",IF(COUNT(FIND("작물연구과",$F2)),"작물연구과",IF(COUNT(FIND("원예연구과",$F2)),"원예연구과",IF(COUNT(FIND("환경농업연구과",$F2)),"환경농업연구과",IF(COUNT(FIND("지원기획과",$F2)),"지원기획과",IF(COUNT(FIND("기술보급과",$F2)),"기술보급과",IF(COUNT(FIND("농촌자원과",$F2)),"농촌자원과",IF(COUNT(FIND("종자관리소",$F2)),"종자관리소",IF(COUNT(FIND("버섯연구소",$F2)),"버섯연구소",IF(COUNT(FIND("소득자원연구소",$F2)),"소득자원연구소",IF(COUNT(FIND("선인장다육식물연구소",$F2)),"선인장다육식물연구소",IF(COUNT(FIND("보건연구부",$F2)),"보건연구부",IF(COUNT(FIND("대기연구부",$F2)),"대기연구부",IF(COUNT(FIND("수질연구부",$F2)),"수질연구부",IF(COUNT(FIND("북부지원",$F2)),"북부지원",IF(COUNT(FIND("수원농산물검사소",$F2)),"수원농산물검사소",IF(COUNT(FIND("건설본부(관리과)",$F2)),"관리과",IF(COUNT(FIND("도로건설과",$F2)),"도로건설과",IF(COUNT(FIND("북부도로과",$F2)),"북부도로과",IF(COUNT(FIND("건축시설과",$F2)),"건축시설과",IF(COUNT(FIND("신청사건립추진단",$F2)),"신청사건립추진단",$F2))))))))))))))))))))) -> 의회사무처 | B2: =G2 -> 의회운영위원회 | C2: =IF(COUNT(FIND("경기도건설본부",$E2)),"건설본부",IF(COUNT(FIND("경기도농업기술원",$E2)),"농업기술원",IF(COUNT(FIND("경기도보건환경연구원",$E2)),"보건환경연구원",IF(COUNT(FIND("소방재난본부",$E2)),"재난안전본부",IF(COUNT(FIND("경기도소방학교",$E2)),"재난안전본부",IF(COUNT(FIND("경기도인재개발원",$E2)),"인재개발원",IF(COUNT(FIND("북부소방재난본부",$E2)),"재난안전본부",IF(COUNT(FIND("소방서",$E2)),"재난안전본부",$E2)))))))) -> 의회사무처 | E2: 의회사무처 | F2: 의회사무처 | G2: 의회운영위원회 | H2: 1 | I2: 0101 | K2: 도비 | L2: 도비 | N2: 본예산 | O2: 2회추경
A3: =IF(COUNT(AND(FIND("북부소방재난본부",$E3),FIND("특수대응단",$F3))),"특수대응단(북부)",IF(COUNT(FIND("작물연구과",$F3)),"작물연구과",IF(COUNT(FIND("원예연구과",$F3)),"원예연구과",IF(COUNT(FIND("환경농업연구과",$F3)),"환경농업연구과",IF(COUNT(FIND("지원기획과",$F3)),"지원기획과",IF(COUNT(FIND("기술보급과",$F3)),"기술보급과",IF(COUNT(FIND("농촌자원과",$F3)),"농촌자원과",IF(COUNT(FIND("종자관리소",$F3)),"종자관리소",IF(COUNT(FIND("버섯연구소",$F3)),"버섯연구소",IF(COUNT(FIND("소득자원연구소",$F3)),"소득자원연구소",IF(COUNT(FIND("선인장다육식물연구소",$F3)),"선인장다육식물연구소",IF(COUNT(FIND("보건연구부",$F3)),"보건연구부",IF(COUNT(FIND("대기연구부",$F3)),"대기연구부",IF(COUNT(FIND("수질연구부",$F3)),"수질연구부",IF(COUNT(FIND("북부지원",$F3)),"북부지원",IF(COUNT(FIND("수원농산물검사소",$F3)),"수원농산물검사소",IF(COUNT(FIND("건설본부(관리과)",$F3)),"관리과",IF(COUNT(FIND("도로건설과",$F3)),"도로건설과",IF(COUNT(FIND("북부도로과",$F3)),"북부도로과",IF(COUNT(FIND("건축시설과",$F3)),"건축시설과",IF(COUNT(FIND("신청사건립추진단",$F3)),"신청사건립추진단",$F3))))))))))))))))))))) -> 언론담당관 | B3: =G3 -> 의회운영위원회 | C3: =IF(COUNT(FIND("경기도건설본부",$E3)),"건설본부",IF(COUNT(FIND("경기도농업기술원",$E3)),"농업기술원",IF(COUNT(FIND("경기도보건환경연구원",$E3)),"보건환경연구원",IF(COUNT(FIND("소방재난본부",$E3)),"재난안전본부",IF(COUNT(FIND("경기도소방학교",$E3)),"재난안전본부",IF(COUNT(FIND("경기도인재개발원",$E3)),"인재개발원",IF(COUNT(FIND("북부소방재난본부",$E3)),"재난안전본부",IF(COUNT(FIND("소방서",$E3)),"재난안전본부",$E3)))))))) -> 대변인 | E3: 대변인 | F3: 언론담당관 | G3: 의회운영위원회 | H3: 2 | I3: 0201 | K3: 국비 | L3: 국비 | N3: 신규 | O3: 1회추경
A4: =IF(COUNT(AND(FIND("북부소방재난본부",$E4),FIND("특수대응단",$F4))),"특수대응단(북부)",IF(COUNT(FIND("작물연구과",$F4)),"작물연구과",IF(COUNT(FIND("원예연구과",$F4)),"원예연구과",IF(COUNT(FIND("환경농업연구과",$F4)),"환경농업연구과",IF(COUNT(FIND("지원기획과",$F4)),"지원기획과",IF(COUNT(FIND("기술보급과",$F4)),"기술보급과",IF(COUNT(FIND("농촌자원과",$F4)),"농촌자원과",IF(COUNT(FIND("종자관리소",$F4)),"종자관리소",IF(COUNT(FIND("버섯연구소",$F4)),"버섯연구소",IF(COUNT(FIND("소득자원연구소",$F4)),"소득자원연구소",IF(COUNT(FIND("선인장다육식물연구소",$F4)),"선인장다육식물연구소",IF(COUNT(FIND("보건연구부",$F4)),"보건연구부",IF(COUNT(FIND("대기연구부",$F4)),"대기연구부",IF(COUNT(FIND("수질연구부",$F4)),"수질연구부",IF(COUNT(FIND("북부지원",$F4)),"북부지원",IF(COUNT(FIND("수원농산물검사소",$F4)),"수원농산물검사소",IF(COUNT(FIND("건설본부(관리과)",$F4)),"관리과",IF(COUNT(FIND("도로건설과",$F4)),"도로건설과",IF(COUNT(FIND("북부도로과",$F4)),"북부도로과",IF(COUNT(FIND("건축시설과",$F4)),"건축시설과",IF(COUNT(FIND("신청사건립추진단",$F4)),"신청사건립추진단",$F4))))))))))))))))))))) -> 홍보담당관 | B4: =G4 -> 의회운영위원회 | C4: =IF(COUNT(FIND("경기도건설본부",$E4)),"건설본부",IF(COUNT(FIND("경기도농업기술원",$E4)),"농업기술원",IF(COUNT(FIND("경기도보건환경연구원",$E4)),"보건환경연구원",IF(COUNT(FIND("소방재난본부",$E4)),"재난안전본부",IF(COUNT(FIND("경기도소방학교",$E4)),"재난안전본부",IF(COUNT(FIND("경기도인재개발원",$E4)),"인재개발원",IF(COUNT(FIND("북부소방재난본부",$E4)),"재난안전본부",IF(COUNT(FIND("소방서",$E4)),"재난안전본부",$E4)))))))) -> 대변인 | E4: 대변인 | F4: 홍보담당관 | G4: 의회운영위원회 | H4: 3 | I4: 0202 | K4: 광특 | L4: 지특 | O4: 본예산
A5: =IF(COUNT(AND(FIND("북부소방재난본부",$E5),FIND("특수대응단",$F5))),"특수대응단(북부)",IF(COUNT(FIND("작물연구과",$F5)),"작물연구과",IF(COUNT(FIND("원예연구과",$F5)),"원예연구과",IF(COUNT(FIND("환경농업연구과",$F5)),"환경농업연구과",IF(COUNT(FIND("지원기획과",$F5)),"지원기획과",IF(COUNT(FIND("기술보급과",$F5)),"기술보급과",IF(COUNT(FIND("농촌자원과",$F5)),"농촌자원과",IF(COUNT(FIND("종자관리소",$F5)),"종자관리소",IF(COUNT(FIND("버섯연구소",$F5)),"버섯연구소",IF(COUNT(FIND("소득자원연구소",$F5)),"소득자원연구소",IF(COUNT(FIND("선인장다육식물연구소",$F5)),"선인장다육식물연구소",IF(COUNT(FIND("보건연구부",$F5)),"보건연구부",IF(COUNT(FIND("대기연구부",$F5)),"대기연구부",IF(COUNT(FIND("수질연구부",$F5)),"수질연구부",IF(COUNT(FIND("북부지원",$F5)),"북부지원",IF(COUNT(FIND("수원농산물검사소",$F5)),"수원농산물검사소",IF(COUNT(FIND("건설본부(관리과)",$F5)),"관리과",IF(COUNT(FIND("도로건설과",$F5)),"도로건설과",IF(COUNT(FIND("북부도로과",$F5)),"북부도로과",IF(COUNT(FIND("건축시설과",$F5)),"건축시설과",IF(COUNT(FIND("신청사건립추진단",$F5)),"신청사건립추진단",$F5))))))))))))))))))))) -> 소통담당관 | B5: =G5 -> 의회운영위원회 | C5: =IF(COUNT(FIND("경기도건설본부",$E5)),"건설본부",IF(COUNT(FIND("경기도농업기술원",$E5)),"농업기술원",IF(COUNT(FIND("경기도보건환경연구원",$E5)),"보건환경연구원",IF(COUNT(FIND("소방재난본부",$E5)),"재난안전본부",IF(COUNT(FIND("경기도소방학교",$E5)),"재난안전본부",IF(COUNT(FIND("경기도인재개발원",$E5)),"인재개발원",IF(COUNT(FIND("북부소방재난본부",$E5)),"재난안전본부",IF(COUNT(FIND("소방서",$E5)),"재난안전본부",$E5)))))))) -> 대변인 | E5: 대변인 | F5: 소통담당관 | G5: 의회운영위원회 | H5: 4 | I5: 0203 | K5: 기금 | L5: 기금 | O5: 신규
A6: =IF(COUNT(AND(FIND("북부소방재난본부",$E6),FIND("특수대응단",$F6))),"특수대응단(북부)",IF(COUNT(FIND("작물연구과",$F6)),"작물연구과",IF(COUNT(FIND("원예연구과",$F6)),"원예연구과",IF(COUNT(FIND("환경농업연구과",$F6)),"환경농업연구과",IF(COUNT(FIND("지원기획과",$F6)),"지원기획과",IF(COUNT(FIND("기술보급과",$F6)),"기술보급과",IF(COUNT(FIND("농촌자원과",$F6)),"농촌자원과",IF(COUNT(FIND("종자관리소",$F6)),"종자관리소",IF(COUNT(FIND("버섯연구소",$F6)),"버섯연구소",IF(COUNT(FIND("소득자원연구소",$F6)),"소득자원연구소",IF(COUNT(FIND("선인장다육식물연구소",$F6)),"선인장다육식물연구소",IF(COUNT(FIND("보건연구부",$F6)),"보건연구부",IF(COUNT(FIND("대기연구부",$F6)),"대기연구부",IF(COUNT(FIND("수질연구부",$F6)),"수질연구부",IF(COUNT(FIND("북부지원",$F6)),"북부지원",IF(COUNT(FIND("수원농산물검사소",$F6)),"수원농산물검사소",IF(COUNT(FIND("건설본부(관리과)",$F6)),"관리과",IF(COUNT(FIND("도로건설과",$F6)),"도로건설과",IF(COUNT(FIND("북부도로과",$F6)),"북부도로과",IF(COUNT(FIND("건축시설과",$F6)),"건축시설과",IF(COUNT(FIND("신청사건립추진단",$F6)),"신청사건립추진단",$F6))))))))))))))))))))) -> 대외협력담당관 | B6: =G6 -> 의회운영위원회 | C6: =IF(COUNT(FIND("경기도건설본부",$E6)),"건설본부",IF(COUNT(FIND("경기도농업기술원",$E6)),"농업기술원",IF(COUNT(FIND("경기도보건환경연구원",$E6)),"보건환경연구원",IF(COUNT(FIND("소방재난본부",$E6)),"재난안전본부",IF(COUNT(FIND("경기도소방학교",$E6)),"재난안전본부",IF(COUNT(FIND("경기도인재개발원",$E6)),"인재개발원",IF(COUNT(FIND("북부소방재난본부",$E6)),"재난안전본부",IF(COUNT(FIND("소방서",$E6)),"재난안전본부",$E6)))))))) -> 대외협력담당관 | E6: 대외협력담당관 | F6: 대외협력담당관 | G6: 의회운영위원회 | H6: 5 | I6: 0301 | K6: 분권 | L6: 특교
A7: =IF(COUNT(AND(FIND("북부소방재난본부",$E7),FIND("특수대응단",$F7))),"특수대응단(북부)",IF(COUNT(FIND("작물연구과",$F7)),"작물연구과",IF(COUNT(FIND("원예연구과",$F7)),"원예연구과",IF(COUNT(FIND("환경농업연구과",$F7)),"환경농업연구과",IF(COUNT(FIND("지원기획과",$F7)),"지원기획과",IF(COUNT(FIND("기술보급과",$F7)),"기술보급과",IF(COUNT(FIND("농촌자원과",$F7)),"농촌자원과",IF(COUNT(FIND("종자관리소",$F7)),"종자관리소",IF(COUNT(FIND("버섯연구소",$F7)),"버섯연구소",IF(COUNT(FIND("소득자원연구소",$F7)),"소득자원연구소",IF(COUNT(FIND("선인장다육식물연구소",$F7)),"선인장다육식물연구소",IF(COUNT(FIND("보건연구부",$F7)),"보건연구부",IF(COUNT(FIND("대기연구부",$F7)),"대기연구부",IF(COUNT(FIND("수질연구부",$F7)),"수질연구부",IF(COUNT(FIND("북부지원",$F7)),"북부지원",IF(COUNT(FIND("수원농산물검사소",$F7)),"수원농산물검사소",IF(COUNT(FIND("건설본부(관리과)",$F7)),"관리과",IF(COUNT(FIND("도로건설과",$F7)),"도로건설과",IF(COUNT(FIND("북부도로과",$F7)),"북부도로과",IF(COUNT(FIND("건축시설과",$F7)),"건축시설과",IF(COUNT(FIND("신청사건립추진단",$F7)),"신청사건립추진단",$F7))))))))))))))))))))) -> 서울사무소 | B7: =G7 -> 의회운영위원회 | C7: =IF(COUNT(FIND("경기도건설본부",$E7)),"건설본부",IF(COUNT(FIND("경기도농업기술원",$E7)),"농업기술원",IF(COUNT(FIND("경기도보건환경연구원",$E7)),"보건환경연구원",IF(COUNT(FIND("소방재난본부",$E7)),"재난안전본부",IF(COUNT(FIND("경기도소방학교",$E7)),"재난안전본부",IF(COUNT(FIND("경기도인재개발원",$E7)),"인재개발원",IF(COUNT(FIND("북부소방재난본부",$E7)),"재난안전본부",IF(COUNT(FIND("소방서",$E7)),"재난안전본부",$E7)))))))) -> 대외협력담당관 | E7: 대외협력담당관 | F7: 서울사무소 | G7: 의회운영위원회 | H7: 6 | I7: 0302 | K7: 특교
A8: =IF(COUNT(AND(FIND("북부소방재난본부",$E8),FIND("특수대응단",$F8))),"특수대응단(북부)",IF(COUNT(FIND("작물연구과",$F8)),"작물연구과",IF(COUNT(FIND("원예연구과",$F8)),"원예연구과",IF(COUNT(FIND("환경농업연구과",$F8)),"환경농업연구과",IF(COUNT(FIND("지원기획과",$F8)),"지원기획과",IF(COUNT(FIND("기술보급과",$F8)),"기술보급과",IF(COUNT(FIND("농촌자원과",$F8)),"농촌자원과",IF(COUNT(FIND("종자관리소",$F8)),"종자관리소",IF(COUNT(FIND("버섯연구소",$F8)),"버섯연구소",IF(COUNT(FIND("소득자원연구소",$F8)),"소득자원연구소",IF(COUNT(FIND("선인장다육식물연구소",$F8)),"선인장다육식물연구소",IF(COUNT(FIND("보건연구부",$F8)),"보건연구부",IF(COUNT(FIND("대기연구부",$F8)),"대기연구부",IF(COUNT(FIND("수질연구부",$F8)),"수질연구부",IF(COUNT(FIND("북부지원",$F8)),"북부지원",IF(COUNT(FIND("수원농산물검사소",$F8)),"수원농산물검사소",IF(COUNT(FIND("건설본부(관리과)",$F8)),"관리과",IF(COUNT(FIND("도로건설과",$F8)),"도로건설과",IF(COUNT(FIND("북부도로과",$F8)),"북부도로과",IF(COUNT(FIND("건축시설과",$F8)),"건축시설과",IF(COUNT(FIND("신청사건립추진단",$F8)),"신청사건립추진단",$F8))))))))))))))))))))) -> 감사총괄담당관 | B8: =G8 -> 기획재정위원회 | C8: =IF(COUNT(FIND("경기도건설본부",$E8)),"건설본부",IF(COUNT(FIND("경기도농업기술원",$E8)),"농업기술원",IF(COUNT(FIND("경기도보건환경연구원",$E8)),"보건환경연구원",IF(COUNT(FIND("소방재난본부",$E8)),"재난안전본부",IF(COUNT(FIND("경기도소방학교",$E8)),"재난안전본부",IF(COUNT(FIND("경기도인재개발원",$E8)),"인재개발원",IF(COUNT(FIND("북부소방재난본부",$E8)),"재난안전본부",IF(COUNT(FIND("소방서",$E8)),"재난안전본부",$E8)))))))) -> 감사관 | E8: 감사관 | F8: 감사총괄담당관 | G8: 기획재정위원회 | H8: 7 | I8: 0401
A9: =IF(COUNT(AND(FIND("북부소방재난본부",$E9),FIND("특수대응단",$F9))),"특수대응단(북부)",IF(COUNT(FIND("작물연구과",$F9)),"작물연구과",IF(COUNT(FIND("원예연구과",$F9)),"원예연구과",IF(COUNT(FIND("환경농업연구과",$F9)),"환경농업연구과",IF(COUNT(FIND("지원기획과",$F9)),"지원기획과",IF(COUNT(FIND("기술보급과",$F9)),"기술보급과",IF(COUNT(FIND("농촌자원과",$F9)),"농촌자원과",IF(COUNT(FIND("종자관리소",$F9)),"종자관리소",IF(COUNT(FIND("버섯연구소",$F9)),"버섯연구소",IF(COUNT(FIND("소득자원연구소",$F9)),"소득자원연구소",IF(COUNT(FIND("선인장다육식물연구소",$F9)),"선인장다육식물연구소",IF(COUNT(FIND("보건연구부",$F9)),"보건연구부",IF(COUNT(FIND("대기연구부",$F9)),"대기연구부",IF(COUNT(FIND("수질연구부",$F9)),"수질연구부",IF(COUNT(FIND("북부지원",$F9)),"북부지원",IF(COUNT(FIND("수원농산물검사소",$F9)),"수원농산물검사소",IF(COUNT(FIND("건설본부(관리과)",$F9)),"관리과",IF(COUNT(FIND("도로건설과",$F9)),"도로건설과",IF(COUNT(FIND("북부도로과",$F9)),"북부도로과",IF(COUNT(FIND("건축시설과",$F9)),"건축시설과",IF(COUNT(FIND("신청사건립추진단",$F9)),"신청사건립추진단",$F9))))))))))))))))))))) -> 조사담당관 | B9: =G9 -> 기획재정위원회 | C9: =IF(COUNT(FIND("경기도건설본부",$E9)),"건설본부",IF(COUNT(FIND("경기도농업기술원",$E9)),"농업기술원",IF(COUNT(FIND("경기도보건환경연구원",$E9)),"보건환경연구원",IF(COUNT(FIND("소방재난본부",$E9)),"재난안전본부",IF(COUNT(FIND("경기도소방학교",$E9)),"재난안전본부",IF(COUNT(FIND("경기도인재개발원",$E9)),"인재개발원",IF(COUNT(FIND("북부소방재난본부",$E9)),"재난안전본부",IF(COUNT(FIND("소방서",$E9)),"재난안전본부",$E9)))))))) -> 감사관 | E9: 감사관 | F9: 조사담당관 | G9: 기획재정위원회 | H9: 8 | I9: 0402
A10: =IF(COUNT(AND(FIND("북부소방재난본부",$E10),FIND("특수대응단",$F10))),"특수대응단(북부)",IF(COUNT(FIND("작물연구과",$F10)),"작물연구과",IF(COUNT(FIND("원예연구과",$F10)),"원예연구과",IF(COUNT(FIND("환경농업연구과",$F10)),"환경농업연구과",IF(COUNT(FIND("지원기획과",$F10)),"지원기획과",IF(COUNT(FIND("기술보급과",$F10)),"기술보급과",IF(COUNT(FIND("농촌자원과",$F10)),"농촌자원과",IF(COUNT(FIND("종자관리소",$F10)),"종자관리소",IF(COUNT(FIND("버섯연구소",$F10)),"버섯연구소",IF(COUNT(FIND("소득자원연구소",$F10)),"소득자원연구소",IF(COUNT(FIND("선인장다육식물연구소",$F10)),"선인장다육식물연구소",IF(COUNT(FIND("보건연구부",$F10)),"보건연구부",IF(COUNT(FIND("대기연구부",$F10)),"대기연구부",IF(COUNT(FIND("수질연구부",$F10)),"수질연구부",IF(COUNT(FIND("북부지원",$F10)),"북부지원",IF(COUNT(FIND("수원농산물검사소",$F10)),"수원농산물검사소",IF(COUNT(FIND("건설본부(관리과)",$F10)),"관리과",IF(COUNT(FIND("도로건설과",$F10)),"도로건설과",IF(COUNT(FIND("북부도로과",$F10)),"북부도로과",IF(COUNT(FIND("건축시설과",$F10)),"건축시설과",IF(COUNT(FIND("신청사건립추진단",$F10)),"신청사건립추진단",$F10))))))))))))))))))))) -> 감사담당관 | B10: =G10 -> 기획재정위원회 | C10: =IF(COUNT(FIND("경기도건설본부",$E10)),"건설본부",IF(COUNT(FIND("경기도농업기술원",$E10)),"농업기술원",IF(COUNT(FIND("경기도보건환경연구원",$E10)),"보건환경연구원",IF(COUNT(FIND("소방재난본부",$E10)),"재난안전본부",IF(COUNT(FIND("경기도소방학교",$E10)),"재난안전본부",IF(COUNT(FIND("경기도인재개발원",$E10)),"인재개발원",IF(COUNT(FIND("북부소방재난본부",$E10)),"재난안전본부",IF(COUNT(FIND("소방서",$E10)),"재난안전본부",$E10)))))))) -> 감사관 | E10: 감사관 | F10: 감사담당관 | G10: 기획재정위원회 | H10: 9 | I10: 0403
A11: =IF(COUNT(AND(FIND("북부소방재난본부",$E11),FIND("특수대응단",$F11))),"특수대응단(북부)",IF(COUNT(FIND("작물연구과",$F11)),"작물연구과",IF(COUNT(FIND("원예연구과",$F11)),"원예연구과",IF(COUNT(FIND("환경농업연구과",$F11)),"환경농업연구과",IF(COUNT(FIND("지원기획과",$F11)),"지원기획과",IF(COUNT(FIND("기술보급과",$F11)),"기술보급과",IF(COUNT(FIND("농촌자원과",$F11)),"농촌자원과",IF(COUNT(FIND("종자관리소",$F11)),"종자관리소",IF(COUNT(FIND("버섯연구소",$F11)),"버섯연구소",IF(COUNT(FIND("소득자원연구소",$F11)),"소득자원연구소",IF(COUNT(FIND("선인장다육식물연구소",$F11)),"선인장다육식물연구소",IF(COUNT(FIND("보건연구부",$F11)),"보건연구부",IF(COUNT(FIND("대기연구부",$F11)),"대기연구부",IF(COUNT(FIND("수질연구부",$F11)),"수질연구부",IF(COUNT(FIND("북부지원",$F11)),"북부지원",IF(COUNT(FIND("수원농산물검사소",$F11)),"수원농산물검사소",IF(COUNT(FIND("건설본부(관리과)",$F11)),"관리과",IF(COUNT(FIND("도로건설과",$F11)),"도로건설과",IF(COUNT(FIND("북부도로과",$F11)),"북부도로과",IF(COUNT(FIND("건축시설과",$F11)),"건축시설과",IF(COUNT(FIND("신청사건립추진단",$F11)),"신청사건립추진단",$F11))))))))))))))))))))) -> 계약심사담당관 | B11: =G11 -> 기획재정위원회 | C11: =IF(COUNT(FIND("경기도건설본부",$E11)),"건설본부",IF(COUNT(FIND("경기도농업기술원",$E11)),"농업기술원",IF(COUNT(FIND("경기도보건환경연구원",$E11)),"보건환경연구원",IF(COUNT(FIND("소방재난본부",$E11)),"재난안전본부",IF(COUNT(FIND("경기도소방학교",$E11)),"재난안전본부",IF(COUNT(FIND("경기도인재개발원",$E11)),"인재개발원",IF(COUNT(FIND("북부소방재난본부",$E11)),"재난안전본부",IF(COUNT(FIND("소방서",$E11)),"재난안전본부",$E11)))))))) -> 감사관 | E11: 감사관 | F11: 계약심사담당관 | G11: 기획재정위원회 | H11: 10 | I11: 0404
A12: =IF(COUNT(AND(FIND("북부소방재난본부",$E12),FIND("특수대응단",$F12))),"특수대응단(북부)",IF(COUNT(FIND("작물연구과",$F12)),"작물연구과",IF(COUNT(FIND("원예연구과",$F12)),"원예연구과",IF(COUNT(FIND("환경농업연구과",$F12)),"환경농업연구과",IF(COUNT(FIND("지원기획과",$F12)),"지원기획과",IF(COUNT(FIND("기술보급과",$F12)),"기술보급과",IF(COUNT(FIND("농촌자원과",$F12)),"농촌자원과",IF(COUNT(FIND("종자관리소",$F12)),"종자관리소",IF(COUNT(FIND("버섯연구소",$F12)),"버섯연구소",IF(COUNT(FIND("소득자원연구소",$F12)),"소득자원연구소",IF(COUNT(FIND("선인장다육식물연구소",$F12)),"선인장다육식물연구소",IF(COUNT(FIND("보건연구부",$F12)),"보건연구부",IF(COUNT(FIND("대기연구부",$F12)),"대기연구부",IF(COUNT(FIND("수질연구부",$F12)),"수질연구부",IF(COUNT(FIND("북부지원",$F12)),"북부지원",IF(COUNT(FIND("수원농산물검사소",$F12)),"수원농산물검사소",IF(COUNT(FIND("건설본부(관리과)",$F12)),"관리과",IF(COUNT(FIND("도로건설과",$F12)),"도로건설과",IF(COUNT(FIND("북부도로과",$F12)),"북부도로과",IF(COUNT(FIND("건축시설과",$F12)),"건축시설과",IF(COUNT(FIND("신청사건립추진단",$F12)),"신청사건립추진단",$F12))))))))))))))))))))) -> 기획담당관 | B12: =G12 -> 기획재정위원회 | C12: =IF(COUNT(FIND("경기도건설본부",$E12)),"건설본부",IF(COUNT(FIND("경기도농업기술원",$E12)),"농업기술원",IF(COUNT(FIND("경기도보건환경연구원",$E12)),"보건환경연구원",IF(COUNT(FIND("소방재난본부",$E12)),"재난안전본부",IF(COUNT(FIND("경기도소방학교",$E12)),"재난안전본부",IF(COUNT(FIND("경기도인재개발원",$E12)),"인재개발원",IF(COUNT(FIND("북부소방재난본부",$E12)),"재난안전본부",IF(COUNT(FIND("소방서",$E12)),"재난안전본부",$E12)))))))) -> 기획조정실 | E12: 기획조정실 | F12: 기획담당관 | G12: 기획재정위원회 | H12: 11 | I12: 0501
A13: =IF(COUNT(AND(FIND("북부소방재난본부",$E13),FIND("특수대응단",$F13))),"특수대응단(북부)",IF(COUNT(FIND("작물연구과",$F13)),"작물연구과",IF(COUNT(FIND("원예연구과",$F13)),"원예연구과",IF(COUNT(FIND("환경농업연구과",$F13)),"환경농업연구과",IF(COUNT(FIND("지원기획과",$F13)),"지원기획과",IF(COUNT(FIND("기술보급과",$F13)),"기술보급과",IF(COUNT(FIND("농촌자원과",$F13)),"농촌자원과",IF(COUNT(FIND("종자관리소",$F13)),"종자관리소",IF(COUNT(FIND("버섯연구소",$F13)),"버섯연구소",IF(COUNT(FIND("소득자원연구소",$F13)),"소득자원연구소",IF(COUNT(FIND("선인장다육식물연구소",$F13)),"선인장다육식물연구소",IF(COUNT(FIND("보건연구부",$F13)),"보건연구부",IF(COUNT(FIND("대기연구부",$F13)),"대기연구부",IF(COUNT(FIND("수질연구부",$F13)),"수질연구부",IF(COUNT(FIND("북부지원",$F13)),"북부지원",IF(COUNT(FIND("수원농산물검사소",$F13)),"수원농산물검사소",IF(COUNT(FIND("건설본부(관리과)",$F13)),"관리과",IF(COUNT(FIND("도로건설과",$F13)),"도로건설과",IF(COUNT(FIND("북부도로과",$F13)),"북부도로과",IF(COUNT(FIND("건축시설과",$F13)),"건축시설과",IF(COUNT(FIND("신청사건립추진단",$F13)),"신청사건립추진단",$F13))))))))))))))))))))) -> 미래전략담당관 | B13: =G13 -> 기획재정위원회 | C13: =IF(COUNT(FIND("경기도건설본부",$E13)),"건설본부",IF(COUNT(FIND("경기도농업기술원",$E13)),"농업기술원",IF(COUNT(FIND("경기도보건환경연구원",$E13)),"보건환경연구원",IF(COUNT(FIND("소방재난본부",$E13)),"재난안전본부",IF(COUNT(FIND("경기도소방학교",$E13)),"재난안전본부",IF(COUNT(FIND("경기도인재개발원",$E13)),"인재개발원",IF(COUNT(FIND("북부소방재난본부",$E13)),"재난안전본부",IF(COUNT(FIND("소방서",$E13)),"재난안전본부",$E13)))))))) -> 기획조정실 | E13: 기획조정실 | F13: 미래전략담당관 | G13: 기획재정위원회 | H13: 12 | I13: 0502
A14: =IF(COUNT(AND(FIND("북부소방재난본부",$E14),FIND("특수대응단",$F14))),"특수대응단(북부)",IF(COUNT(FIND("작물연구과",$F14)),"작물연구과",IF(COUNT(FIND("원예연구과",$F14)),"원예연구과",IF(COUNT(FIND("환경농업연구과",$F14)),"환경농업연구과",IF(COUNT(FIND("지원기획과",$F14)),"지원기획과",IF(COUNT(FIND("기술보급과",$F14)),"기술보급과",IF(COUNT(FIND("농촌자원과",$F14)),"농촌자원과",IF(COUNT(FIND("종자관리소",$F14)),"종자관리소",IF(COUNT(FIND("버섯연구소",$F14)),"버섯연구소",IF(COUNT(FIND("소득자원연구소",$F14)),"소득자원연구소",IF(COUNT(FIND("선인장다육식물연구소",$F14)),"선인장다육식물연구소",IF(COUNT(FIND("보건연구부",$F14)),"보건연구부",IF(COUNT(FIND("대기연구부",$F14)),"대기연구부",IF(COUNT(FIND("수질연구부",$F14)),"수질연구부",IF(COUNT(FIND("북부지원",$F14)),"북부지원",IF(COUNT(FIND("수원농산물검사소",$F14)),"수원농산물검사소",IF(COUNT(FIND("건설본부(관리과)",$F14)),"관리과",IF(COUNT(FIND("도로건설과",$F14)),"도로건설과",IF(COUNT(FIND("북부도로과",$F14)),"북부도로과",IF(COUNT(FIND("건축시설과",$F14)),"건축시설과",IF(COUNT(FIND("신청사건립추진단",$F14)),"신청사건립추진단",$F14))))))))))))))))))))) -> 예산담당관 | B14: =G14 -> 기획재정위원회 | C14: =IF(COUNT(FIND("경기도건설본부",$E14)),"건설본부",IF(COUNT(FIND("경기도농업기술원",$E14)),"농업기술원",IF(COUNT(FIND("경기도보건환경연구원",$E14)),"보건환경연구원",IF(COUNT(FIND("소방재난본부",$E14)),"재난안전본부",IF(COUNT(FIND("경기도소방학교",$E14)),"재난안전본부",IF(COUNT(FIND("경기도인재개발원",$E14)),"인재개발원",IF(COUNT(FIND("북부소방재난본부",$E14)),"재난안전본부",IF(COUNT(FIND("소방서",$E14)),"재난안전본부",$E14)))))))) -> 기획조정실 | E14: 기획조정실 | F14: 예산담당관 | G14: 기획재정위원회 | H14: 13 | I14: 0503
A15: =IF(COUNT(AND(FIND("북부소방재난본부",$E15),FIND("특수대응단",$F15))),"특수대응단(북부)",IF(COUNT(FIND("작물연구과",$F15)),"작물연구과",IF(COUNT(FIND("원예연구과",$F15)),"원예연구과",IF(COUNT(FIND("환경농업연구과",$F15)),"환경농업연구과",IF(COUNT(FIND("지원기획과",$F15)),"지원기획과",IF(COUNT(FIND("기술보급과",$F15)),"기술보급과",IF(COUNT(FIND("농촌자원과",$F15)),"농촌자원과",IF(COUNT(FIND("종자관리소",$F15)),"종자관리소",IF(COUNT(FIND("버섯연구소",$F15)),"버섯연구소",IF(COUNT(FIND("소득자원연구소",$F15)),"소득자원연구소",IF(COUNT(FIND("선인장다육식물연구소",$F15)),"선인장다육식물연구소",IF(COUNT(FIND("보건연구부",$F15)),"보건연구부",IF(COUNT(FIND("대기연구부",$F15)),"대기연구부",IF(COUNT(FIND("수질연구부",$F15)),"수질연구부",IF(COUNT(FIND("북부지원",$F15)),"북부지원",IF(COUNT(FIND("수원농산물검사소",$F15)),"수원농산물검사소",IF(COUNT(FIND("건설본부(관리과)",$F15)),"관리과",IF(COUNT(FIND("도로건설과",$F15)),"도로건설과",IF(COUNT(FIND("북부도로과",$F15)),"북부도로과",IF(COUNT(FIND("건축시설과",$F15)),"건축시설과",IF(COUNT(FIND("신청사건립추진단",$F15)),"신청사건립추진단",$F15))))))))))))))))))))) -> 평가담당관 | B15: =G15 -> 기획재정위원회 | C15: =IF(COUNT(FIND("경기도건설본부",$E15)),"건설본부",IF(COUNT(FIND("경기도농업기술원",$E15)),"농업기술원",IF(COUNT(FIND("경기도보건환경연구원",$E15)),"보건환경연구원",IF(COUNT(FIND("소방재난본부",$E15)),"재난안전본부",IF(COUNT(FIND("경기도소방학교",$E15)),"재난안전본부",IF(COUNT(FIND("경기도인재개발원",$E15)),"인재개발원",IF(COUNT(FIND("북부소방재난본부",$E15)),"재난안전본부",IF(COUNT(FIND("소방서",$E15)),"재난안전본부",$E15)))))))) -> 기획조정실 | E15: 기획조정실 | F15: 평가담당관 | G15: 기획재정위원회 | H15: 14 | I15: 0504
A16: =IF(COUNT(AND(FIND("북부소방재난본부",$E16),FIND("특수대응단",$F16))),"특수대응단(북부)",IF(COUNT(FIND("작물연구과",$F16)),"작물연구과",IF(COUNT(FIND("원예연구과",$F16)),"원예연구과",IF(COUNT(FIND("환경농업연구과",$F16)),"환경농업연구과",IF(COUNT(FIND("지원기획과",$F16)),"지원기획과",IF(COUNT(FIND("기술보급과",$F16)),"기술보급과",IF(COUNT(FIND("농촌자원과",$F16)),"농촌자원과",IF(COUNT(FIND("종자관리소",$F16)),"종자관리소",IF(COUNT(FIND("버섯연구소",$F16)),"버섯연구소",IF(COUNT(FIND("소득자원연구소",$F16)),"소득자원연구소",IF(COUNT(FIND("선인장다육식물연구소",$F16)),"선인장다육식물연구소",IF(COUNT(FIND("보건연구부",$F16)),"보건연구부",IF(COUNT(FIND("대기연구부",$F16)),"대기연구부",IF(COUNT(FIND("수질연구부",$F16)),"수질연구부",IF(COUNT(FIND("북부지원",$F16)),"북부지원",IF(COUNT(FIND("수원농산물검사소",$F16)),"수원농산물검사소",IF(COUNT(FIND("건설본부(관리과)",$F16)),"관리과",IF(COUNT(FIND("도로건설과",$F16)),"도로건설과",IF(COUNT(FIND("북부도로과",$F16)),"북부도로과",IF(COUNT(FIND("건축시설과",$F16)),"건축시설과",IF(COUNT(FIND("신청사건립추진단",$F16)),"신청사건립추진단",$F16))))))))))))))))))))) -> 법무담당관 | B16: =G16 -> 기획재정위원회 | C16: =IF(COUNT(FIND("경기도건설본부",$E16)),"건설본부",IF(COUNT(FIND("경기도농업기술원",$E16)),"농업기술원",IF(COUNT(FIND("경기도보건환경연구원",$E16)),"보건환경연구원",IF(COUNT(FIND("소방재난본부",$E16)),"재난안전본부",IF(COUNT(FIND("경기도소방학교",$E16)),"재난안전본부",IF(COUNT(FIND("경기도인재개발원",$E16)),"인재개발원",IF(COUNT(FIND("북부소방재난본부",$E16)),"재난안전본부",IF(COUNT(FIND("소방서",$E16)),"재난안전본부",$E16)))))))) -> 기획조정실 | E16: 기획조정실 | F16: 법무담당관 | G16: 기획재정위원회 | H16: 15 | I16: 0505
A17: =IF(COUNT(AND(FIND("북부소방재난본부",$E17),FIND("특수대응단",$F17))),"특수대응단(북부)",IF(COUNT(FIND("작물연구과",$F17)),"작물연구과",IF(COUNT(FIND("원예연구과",$F17)),"원예연구과",IF(COUNT(FIND("환경농업연구과",$F17)),"환경농업연구과",IF(COUNT(FIND("지원기획과",$F17)),"지원기획과",IF(COUNT(FIND("기술보급과",$F17)),"기술보급과",IF(COUNT(FIND("농촌자원과",$F17)),"농촌자원과",IF(COUNT(FIND("종자관리소",$F17)),"종자관리소",IF(COUNT(FIND("버섯연구소",$F17)),"버섯연구소",IF(COUNT(FIND("소득자원연구소",$F17)),"소득자원연구소",IF(COUNT(FIND("선인장다육식물연구소",$F17)),"선인장다육식물연구소",IF(COUNT(FIND("보건연구부",$F17)),"보건연구부",IF(COUNT(FIND("대기연구부",$F17)),"대기연구부",IF(COUNT(FIND("수질연구부",$F17)),"수질연구부",IF(COUNT(FIND("북부지원",$F17)),"북부지원",IF(COUNT(FIND("수원농산물검사소",$F17)),"수원농산물검사소",IF(COUNT(FIND("건설본부(관리과)",$F17)),"관리과",IF(COUNT(FIND("도로건설과",$F17)),"도로건설과",IF(COUNT(FIND("북부도로과",$F17)),"북부도로과",IF(COUNT(FIND("건축시설과",$F17)),"건축시설과",IF(COUNT(FIND("신청사건립추진단",$F17)),"신청사건립추진단",$F17))))))))))))))))))))) -> 규제개혁추진단 | B17: =G17 -> 기획재정위원회 | C17: =IF(COUNT(FIND("경기도건설본부",$E17)),"건설본부",IF(COUNT(FIND("경기도농업기술원",$E17)),"농업기술원",IF(COUNT(FIND("경기도보건환경연구원",$E17)),"보건환경연구원",IF(COUNT(FIND("소방재난본부",$E17)),"재난안전본부",IF(COUNT(FIND("경기도소방학교",$E17)),"재난안전본부",IF(COUNT(FIND("경기도인재개발원",$E17)),"인재개발원",IF(COUNT(FIND("북부소방재난본부",$E17)),"재난안전본부",IF(COUNT(FIND("소방서",$E17)),"재난안전본부",$E17)))))))) -> 기획조정실 | E17: 기획조정실 | F17: 규제개혁추진단 | G17: 기획재정위원회 | H17: 16 | I17: 0506
A18: =IF(COUNT(AND(FIND("북부소방재난본부",$E18),FIND("특수대응단",$F18))),"특수대응단(북부)",IF(COUNT(FIND("작물연구과",$F18)),"작물연구과",IF(COUNT(FIND("원예연구과",$F18)),"원예연구과",IF(COUNT(FIND("환경농업연구과",$F18)),"환경농업연구과",IF(COUNT(FIND("지원기획과",$F18)),"지원기획과",IF(COUNT(FIND("기술보급과",$F18)),"기술보급과",IF(COUNT(FIND("농촌자원과",$F18)),"농촌자원과",IF(COUNT(FIND("종자관리소",$F18)),"종자관리소",IF(COUNT(FIND("버섯연구소",$F18)),"버섯연구소",IF(COUNT(FIND("소득자원연구소",$F18)),"소득자원연구소",IF(COUNT(FIND("선인장다육식물연구소",$F18)),"선인장다육식물연구소",IF(COUNT(FIND("보건연구부",$F18)),"보건연구부",IF(COUNT(FIND("대기연구부",$F18)),"대기연구부",IF(COUNT(FIND("수질연구부",$F18)),"수질연구부",IF(COUNT(FIND("북부지원",$F18)),"북부지원",IF(COUNT(FIND("수원농산물검사소",$F18)),"수원농산물검사소",IF(COUNT(FIND("건설본부(관리과)",$F18)),"관리과",IF(COUNT(FIND("도로건설과",$F18)),"도로건설과",IF(COUNT(FIND("북부도로과",$F18)),"북부도로과",IF(COUNT(FIND("건축시설과",$F18)),"건축시설과",IF(COUNT(FIND("신청사건립추진단",$F18)),"신청사건립추진단",$F18))))))))))))))))))))) -> 따복공동체지원단 | B18: =G18 -> 기획재정위원회 | C18: =IF(COUNT(FIND("경기도건설본부",$E18)),"건설본부",IF(COUNT(FIND("경기도농업기술원",$E18)),"농업기술원",IF(COUNT(FIND("경기도보건환경연구원",$E18)),"보건환경연구원",IF(COUNT(FIND("소방재난본부",$E18)),"재난안전본부",IF(COUNT(FIND("경기도소방학교",$E18)),"재난안전본부",IF(COUNT(FIND("경기도인재개발원",$E18)),"인재개발원",IF(COUNT(FIND("북부소방재난본부",$E18)),"재난안전본부",IF(COUNT(FIND("소방서",$E18)),"재난안전본부",$E18)))))))) -> 기획조정실 | E18: 기획조정실 | F18: 따복공동체지원단 | G18: 기획재정위원회 | H18: 17 | I18: 0507
A19: =IF(COUNT(AND(FIND("북부소방재난본부",$E19),FIND("특수대응단",$F19))),"특수대응단(북부)",IF(COUNT(FIND("작물연구과",$F19)),"작물연구과",IF(COUNT(FIND("원예연구과",$F19)),"원예연구과",IF(COUNT(FIND("환경농업연구과",$F19)),"환경농업연구과",IF(COUNT(FIND("지원기획과",$F19)),"지원기획과",IF(COUNT(FIND("기술보급과",$F19)),"기술보급과",IF(COUNT(FIND("농촌자원과",$F19)),"농촌자원과",IF(COUNT(FIND("종자관리소",$F19)),"종자관리소",IF(COUNT(FIND("버섯연구소",$F19)),"버섯연구소",IF(COUNT(FIND("소득자원연구소",$F19)),"소득자원연구소",IF(COUNT(FIND("선인장다육식물연구소",$F19)),"선인장다육식물연구소",IF(COUNT(FIND("보건연구부",$F19)),"보건연구부",IF(COUNT(FIND("대기연구부",$F19)),"대기연구부",IF(COUNT(FIND("수질연구부",$F19)),"수질연구부",IF(COUNT(FIND("북부지원",$F19)),"북부지원",IF(COUNT(FIND("수원농산물검사소",$F19)),"수원농산물검사소",IF(COUNT(FIND("건설본부(관리과)",$F19)),"관리과",IF(COUNT(FIND("도로건설과",$F19)),"도로건설과",IF(COUNT(FIND("북부도로과",$F19)),"북부도로과",IF(COUNT(FIND("건축시설과",$F19)),"건축시설과",IF(COUNT(FIND("신청사건립추진단",$F19)),"신청사건립추진단",$F19))))))))))))))))))))) -> 정보기획담당관 | B19: =G19 -> 기획재정위원회 | C19: =IF(COUNT(FIND("경기도건설본부",$E19)),"건설본부",IF(COUNT(FIND("경기도농업기술원",$E19)),"농업기술원",IF(COUNT(FIND("경기도보건환경연구원",$E19)),"보건환경연구원",IF(COUNT(FIND("소방재난본부",$E19)),"재난안전본부",IF(COUNT(FIND("경기도소방학교",$E19)),"재난안전본부",IF(COUNT(FIND("경기도인재개발원",$E19)),"인재개발원",IF(COUNT(FIND("북부소방재난본부",$E19)),"재난안전본부",IF(COUNT(FIND("소방서",$E19)),"재난안전본부",$E19)))))))) -> 기획조정실 | E19: 기획조정실 | F19: 정보기획담당관 | G19: 기획재정위원회 | H19: 18 | I19: 0508
... A174: =IF(COUNT(AND(FIND("북부소방재난본부",$E174),FIND("특수대응단",$F174))),"특수대응단(북부)",IF(COUNT(FIND("작물연구과",$F174)),"작물연구과",IF(COUNT(FIND("원예연구과",$F174)),"원예연구과",IF(COUNT(FIND("환경농업연구과",$F174)),"환경농업연구과",IF(COUNT(FIND("지원기획과",$F174)),"지원기획과",IF(COUNT(FIND("기술보급과",$F174)),"기술보급과",IF(COUNT(FIND("농촌자원과",$F174)),"농촌자원과",IF(COUNT(FIND("종자관리소",$F174)),"종자관리소",IF(COUNT(FIND("버섯연구소",$F174)),"버섯연구소",IF(COUNT(FIND("소득자원연구소",$F174)),"소득자원연구소",IF(COUNT(FIND("선인장다육식물연구소",$F174)),"선인장다육식물연구소",IF(COUNT(FIND("보건연구부",$F174)),"보건연구부",IF(COUNT(FIND("대기연구부",$F174)),"대기연구부",IF(COUNT(FIND("수질연구부",$F174)),"수질연구부",IF(COUNT(FIND("북부지원",$F174)),"북부지원",IF(COUNT(FIND("수원농산물검사소",$F174)),"수원농산물검사소",IF(COUNT(FIND("건설본부(관리과)",$F174)),"관리과",IF(COUNT(FIND("도로건설과",$F174)),"도로건설과",IF(COUNT(FIND("북부도로과",$F174)),"북부도로과",IF(COUNT(FIND("건축시설과",$F174)),"건축시설과",IF(COUNT(FIND("신청사건립추진단",$F174)),"신청사건립추진단",$F174))))))))))))))))))))) -> 수질연구부 | B174: =G174 -> 도시환경위원회 | C174: =IF(COUNT(FIND("경기도건설본부",$E174)),"건설본부",IF(COUNT(FIND("경기도농업기술원",$E174)),"농업기술원",IF(COUNT(FIND("경기도보건환경연구원",$E174)),"보건환경연구원",IF(COUNT(FIND("소방재난본부",$E174)),"재난안전본부",IF(COUNT(FIND("경기도소방학교",$E174)),"재난안전본부",IF(COUNT(FIND("경기도인재개발원",$E174)),"인재개발원",IF(COUNT(FIND("북부소방재난본부",$E174)),"재난안전본부",IF(COUNT(FIND("소방서",$E174)),"재난안전본부",$E174)))))))) -> 보건환경연구원 | E174: 경기도보건환경연구원 | F174: 보건환경연구원(수질연구부) | G174: 도시환경위원회 | H174: 173 | I174: 2902
A175: =IF(COUNT(AND(FIND("북부소방재난본부",$E175),FIND("특수대응단",$F175))),"특수대응단(북부)",IF(COUNT(FIND("작물연구과",$F175)),"작물연구과",IF(COUNT(FIND("원예연구과",$F175)),"원예연구과",IF(COUNT(FIND("환경농업연구과",$F175)),"환경농업연구과",IF(COUNT(FIND("지원기획과",$F175)),"지원기획과",IF(COUNT(FIND("기술보급과",$F175)),"기술보급과",IF(COUNT(FIND("농촌자원과",$F175)),"농촌자원과",IF(COUNT(FIND("종자관리소",$F175)),"종자관리소",IF(COUNT(FIND("버섯연구소",$F175)),"버섯연구소",IF(COUNT(FIND("소득자원연구소",$F175)),"소득자원연구소",IF(COUNT(FIND("선인장다육식물연구소",$F175)),"선인장다육식물연구소",IF(COUNT(FIND("보건연구부",$F175)),"보건연구부",IF(COUNT(FIND("대기연구부",$F175)),"대기연구부",IF(COUNT(FIND("수질연구부",$F175)),"수질연구부",IF(COUNT(FIND("북부지원",$F175)),"북부지원",IF(COUNT(FIND("수원농산물검사소",$F175)),"수원농산물검사소",IF(COUNT(FIND("건설본부(관리과)",$F175)),"관리과",IF(COUNT(FIND("도로건설과",$F175)),"도로건설과",IF(COUNT(FIND("북부도로과",$F175)),"북부도로과",IF(COUNT(FIND("건축시설과",$F175)),"건축시설과",IF(COUNT(FIND("신청사건립추진단",$F175)),"신청사건립추진단",$F175))))))))))))))))))))) -> 북부지원 | B175: =G175 -> 도시환경위원회 | C175: =IF(COUNT(FIND("경기도건설본부",$E175)),"건설본부",IF(COUNT(FIND("경기도농업기술원",$E175)),"농업기술원",IF(COUNT(FIND("경기도보건환경연구원",$E175)),"보건환경연구원",IF(COUNT(FIND("소방재난본부",$E175)),"재난안전본부",IF(COUNT(FIND("경기도소방학교",$E175)),"재난안전본부",IF(COUNT(FIND("경기도인재개발원",$E175)),"인재개발원",IF(COUNT(FIND("북부소방재난본부",$E175)),"재난안전본부",IF(COUNT(FIND("소방서",$E175)),"재난안전본부",$E175)))))))) -> 보건환경연구원 | E175: 경기도보건환경연구원 | F175: 보건환경연구원북부지원 | G175: 도시환경위원회 | H175: 187 | I175: 2903
A176: =IF(COUNT(AND(FIND("북부소방재난본부",$E176),FIND("특수대응단",$F176))),"특수대응단(북부)",IF(COUNT(FIND("작물연구과",$F176)),"작물연구과",IF(COUNT(FIND("원예연구과",$F176)),"원예연구과",IF(COUNT(FIND("환경농업연구과",$F176)),"환경농업연구과",IF(COUNT(FIND("지원기획과",$F176)),"지원기획과",IF(COUNT(FIND("기술보급과",$F176)),"기술보급과",IF(COUNT(FIND("농촌자원과",$F176)),"농촌자원과",IF(COUNT(FIND("종자관리소",$F176)),"종자관리소",IF(COUNT(FIND("버섯연구소",$F176)),"버섯연구소",IF(COUNT(FIND("소득자원연구소",$F176)),"소득자원연구소",IF(COUNT(FIND("선인장다육식물연구소",$F176)),"선인장다육식물연구소",IF(COUNT(FIND("보건연구부",$F176)),"보건연구부",IF(COUNT(FIND("대기연구부",$F176)),"대기연구부",IF(COUNT(FIND("수질연구부",$F176)),"수질연구부",IF(COUNT(FIND("북부지원",$F176)),"북부지원",IF(COUNT(FIND("수원농산물검사소",$F176)),"수원농산물검사소",IF(COUNT(FIND("건설본부(관리과)",$F176)),"관리과",IF(COUNT(FIND("도로건설과",$F176)),"도로건설과",IF(COUNT(FIND("북부도로과",$F176)),"북부도로과",IF(COUNT(FIND("건축시설과",$F176)),"건축시설과",IF(COUNT(FIND("신청사건립추진단",$F176)),"신청사건립추진단",$F176))))))))))))))))))))) -> 수자원본부 | B176: =G176 -> 도시환경위원회 | C176: =IF(COUNT(FIND("경기도건설본부",$E176)),"건설본부",IF(COUNT(FIND("경기도농업기술원",$E176)),"농업기술원",IF(COUNT(FIND("경기도보건환경연구원",$E176)),"보건환경연구원",IF(COUNT(FIND("소방재난본부",$E176)),"재난안전본부",IF(COUNT(FIND("경기도소방학교",$E176)),"재난안전본부",IF(COUNT(FIND("경기도인재개발원",$E176)),"인재개발원",IF(COUNT(FIND("북부소방재난본부",$E176)),"재난안전본부",IF(COUNT(FIND("소방서",$E176)),"재난안전본부",$E176)))))))) -> 수자원본부 | E176: 수자원본부 | F176: 수자원본부 | G176: 도시환경위원회 | H176: 174 | I176: 3001
A177: =IF(COUNT(AND(FIND("북부소방재난본부",$E177),FIND("특수대응단",$F177))),"특수대응단(북부)",IF(COUNT(FIND("작물연구과",$F177)),"작물연구과",IF(COUNT(FIND("원예연구과",$F177)),"원예연구과",IF(COUNT(FIND("환경농업연구과",$F177)),"환경농업연구과",IF(COUNT(FIND("지원기획과",$F177)),"지원기획과",IF(COUNT(FIND("기술보급과",$F177)),"기술보급과",IF(COUNT(FIND("농촌자원과",$F177)),"농촌자원과",IF(COUNT(FIND("종자관리소",$F177)),"종자관리소",IF(COUNT(FIND("버섯연구소",$F177)),"버섯연구소",IF(COUNT(FIND("소득자원연구소",$F177)),"소득자원연구소",IF(COUNT(FIND("선인장다육식물연구소",$F177)),"선인장다육식물연구소",IF(COUNT(FIND("보건연구부",$F177)),"보건연구부",IF(COUNT(FIND("대기연구부",$F177)),"대기연구부",IF(COUNT(FIND("수질연구부",$F177)),"수질연구부",IF(COUNT(FIND("북부지원",$F177)),"북부지원",IF(COUNT(FIND("수원농산물검사소",$F177)),"수원농산물검사소",IF(COUNT(FIND("건설본부(관리과)",$F177)),"관리과",IF(COUNT(FIND("도로건설과",$F177)),"도로건설과",IF(COUNT(FIND("북부도로과",$F177)),"북부도로과",IF(COUNT(FIND("건축시설과",$F177)),"건축시설과",IF(COUNT(FIND("신청사건립추진단",$F177)),"신청사건립추진단",$F177))))))))))))))))))))) -> 교육정책과 | B177: =G177 -> 여성가족교육협력위원회 | C177: =IF(COUNT(FIND("경기도건설본부",$E177)),"건설본부",IF(COUNT(FIND("경기도농업기술원",$E177)),"농업기술원",IF(COUNT(FIND("경기도보건환경연구원",$E177)),"보건환경연구원",IF(COUNT(FIND("소방재난본부",$E177)),"재난안전본부",IF(COUNT(FIND("경기도소방학교",$E177)),"재난안전본부",IF(COUNT(FIND("경기도인재개발원",$E177)),"인재개발원",IF(COUNT(FIND("북부소방재난본부",$E177)),"재난안전본부",IF(COUNT(FIND("소방서",$E177)),"재난안전본부",$E177)))))))) -> 교육협력국 | E177: 교육협력국 | F177: 교육정책과 | G177: 여성가족교육협력위원회 | H177: 175 | I177: 3101
A178: =IF(COUNT(AND(FIND("북부소방재난본부",$E178),FIND("특수대응단",$F178))),"특수대응단(북부)",IF(COUNT(FIND("작물연구과",$F178)),"작물연구과",IF(COUNT(FIND("원예연구과",$F178)),"원예연구과",IF(COUNT(FIND("환경농업연구과",$F178)),"환경농업연구과",IF(COUNT(FIND("지원기획과",$F178)),"지원기획과",IF(COUNT(FIND("기술보급과",$F178)),"기술보급과",IF(COUNT(FIND("농촌자원과",$F178)),"농촌자원과",IF(COUNT(FIND("종자관리소",$F178)),"종자관리소",IF(COUNT(FIND("버섯연구소",$F178)),"버섯연구소",IF(COUNT(FIND("소득자원연구소",$F178)),"소득자원연구소",IF(COUNT(FIND("선인장다육식물연구소",$F178)),"선인장다육식물연구소",IF(COUNT(FIND("보건연구부",$F178)),"보건연구부",IF(COUNT(FIND("대기연구부",$F178)),"대기연구부",IF(COUNT(FIND("수질연구부",$F178)),"수질연구부",IF(COUNT(FIND("북부지원",$F178)),"북부지원",IF(COUNT(FIND("수원농산물검사소",$F178)),"수원농산물검사소",IF(COUNT(FIND("건설본부(관리과)",$F178)),"관리과",IF(COUNT(FIND("도로건설과",$F178)),"도로건설과",IF(COUNT(FIND("북부도로과",$F178)),"북부도로과",IF(COUNT(FIND("건축시설과",$F178)),"건축시설과",IF(COUNT(FIND("신청사건립추진단",$F178)),"신청사건립추진단",$F178))))))))))))))))))))) -> 교육협력과 | B178: =G178 -> 여성가족교육협력위원회 | C178: =IF(COUNT(FIND("경기도건설본부",$E178)),"건설본부",IF(COUNT(FIND("경기도농업기술원",$E178)),"농업기술원",IF(COUNT(FIND("경기도보건환경연구원",$E178)),"보건환경연구원",IF(COUNT(FIND("소방재난본부",$E178)),"재난안전본부",IF(COUNT(FIND("경기도소방학교",$E178)),"재난안전본부",IF(COUNT(FIND("경기도인재개발원",$E178)),"인재개발원",IF(COUNT(FIND("북부소방재난본부",$E178)),"재난안전본부",IF(COUNT(FIND("소방서",$E178)),"재난안전본부",$E178)))))))) -> 교육협력국 | E178: 교육협력국 | F178: 교육협력과 | G178: 여성가족교육협력위원회 | H178: 176 | I178: 3102
A179: =IF(COUNT(AND(FIND("북부소방재난본부",$E179),FIND("특수대응단",$F179))),"특수대응단(북부)",IF(COUNT(FIND("작물연구과",$F179)),"작물연구과",IF(COUNT(FIND("원예연구과",$F179)),"원예연구과",IF(COUNT(FIND("환경농업연구과",$F179)),"환경농업연구과",IF(COUNT(FIND("지원기획과",$F179)),"지원기획과",IF(COUNT(FIND("기술보급과",$F179)),"기술보급과",IF(COUNT(FIND("농촌자원과",$F179)),"농촌자원과",IF(COUNT(FIND("종자관리소",$F179)),"종자관리소",IF(COUNT(FIND("버섯연구소",$F179)),"버섯연구소",IF(COUNT(FIND("소득자원연구소",$F179)),"소득자원연구소",IF(COUNT(FIND("선인장다육식물연구소",$F179)),"선인장다육식물연구소",IF(COUNT(FIND("보건연구부",$F179)),"보건연구부",IF(COUNT(FIND("대기연구부",$F179)),"대기연구부",IF(COUNT(FIND("수질연구부",$F179)),"수질연구부",IF(COUNT(FIND("북부지원",$F179)),"북부지원",IF(COUNT(FIND("수원농산물검사소",$F179)),"수원농산물검사소",IF(COUNT(FIND("건설본부(관리과)",$F179)),"관리과",IF(COUNT(FIND("도로건설과",$F179)),"도로건설과",IF(COUNT(FIND("북부도로과",$F179)),"북부도로과",IF(COUNT(FIND("건축시설과",$F179)),"건축시설과",IF(COUNT(FIND("신청사건립추진단",$F179)),"신청사건립추진단",$F179))))))))))))))))))))) -> 도서관정책과 | B179: =G179 -> 여성가족교육협력위원회 | C179: =IF(COUNT(FIND("경기도건설본부",$E179)),"건설본부",IF(COUNT(FIND("경기도농업기술원",$E179)),"농업기술원",IF(COUNT(FIND("경기도보건환경연구원",$E179)),"보건환경연구원",IF(COUNT(FIND("소방재난본부",$E179)),"재난안전본부",IF(COUNT(FIND("경기도소방학교",$E179)),"재난안전본부",IF(COUNT(FIND("경기도인재개발원",$E179)),"인재개발원",IF(COUNT(FIND("북부소방재난본부",$E179)),"재난안전본부",IF(COUNT(FIND("소방서",$E179)),"재난안전본부",$E179)))))))) -> 교육협력국 | E179: 교육협력국 | F179: 도서관정책과 | G179: 여성가족교육협력위원회 | H179: 177 | I179: 3103
A180: =IF(COUNT(AND(FIND("북부소방재난본부",$E180),FIND("특수대응단",$F180))),"특수대응단(북부)",IF(COUNT(FIND("작물연구과",$F180)),"작물연구과",IF(COUNT(FIND("원예연구과",$F180)),"원예연구과",IF(COUNT(FIND("환경농업연구과",$F180)),"환경농업연구과",IF(COUNT(FIND("지원기획과",$F180)),"지원기획과",IF(COUNT(FIND("기술보급과",$F180)),"기술보급과",IF(COUNT(FIND("농촌자원과",$F180)),"농촌자원과",IF(COUNT(FIND("종자관리소",$F180)),"종자관리소",IF(COUNT(FIND("버섯연구소",$F180)),"버섯연구소",IF(COUNT(FIND("소득자원연구소",$F180)),"소득자원연구소",IF(COUNT(FIND("선인장다육식물연구소",$F180)),"선인장다육식물연구소",IF(COUNT(FIND("보건연구부",$F180)),"보건연구부",IF(COUNT(FIND("대기연구부",$F180)),"대기연구부",IF(COUNT(FIND("수질연구부",$F180)),"수질연구부",IF(COUNT(FIND("북부지원",$F180)),"북부지원",IF(COUNT(FIND("수원농산물검사소",$F180)),"수원농산물검사소",IF(COUNT(FIND("건설본부(관리과)",$F180)),"관리과",IF(COUNT(FIND("도로건설과",$F180)),"도로건설과",IF(COUNT(FIND("북부도로과",$F180)),"북부도로과",IF(COUNT(FIND("건축시설과",$F180)),"건축시설과",IF(COUNT(FIND("신청사건립추진단",$F180)),"신청사건립추진단",$F180))))))))))))))))))))) -> 여성가족과 | B180: =G180 -> 여성가족교육협력위원회 | C180: =IF(COUNT(FIND("경기도건설본부",$E180)),"건설본부",IF(COUNT(FIND("경기도농업기술원",$E180)),"농업기술원",IF(COUNT(FIND("경기도보건환경연구원",$E180)),"보건환경연구원",IF(COUNT(FIND("소방재난본부",$E180)),"재난안전본부",IF(COUNT(FIND("경기도소방학교",$E180)),"재난안전본부",IF(COUNT(FIND("경기도인재개발원",$E180)),"인재개발원",IF(COUNT(FIND("북부소방재난본부",$E180)),"재난안전본부",IF(COUNT(FIND("소방서",$E180)),"재난안전본부",$E180)))))))) -> 여성가족국 | E180: 여성가족국 | F180: 여성가족과 | G180: 여성가족교육협력위원회 | H180: 178 | I180: 3201
A181: =IF(COUNT(AND(FIND("북부소방재난본부",$E181),FIND("특수대응단",$F181))),"특수대응단(북부)",IF(COUNT(FIND("작물연구과",$F181)),"작물연구과",IF(COUNT(FIND("원예연구과",$F181)),"원예연구과",IF(COUNT(FIND("환경농업연구과",$F181)),"환경농업연구과",IF(COUNT(FIND("지원기획과",$F181)),"지원기획과",IF(COUNT(FIND("기술보급과",$F181)),"기술보급과",IF(COUNT(FIND("농촌자원과",$F181)),"농촌자원과",IF(COUNT(FIND("종자관리소",$F181)),"종자관리소",IF(COUNT(FIND("버섯연구소",$F181)),"버섯연구소",IF(COUNT(FIND("소득자원연구소",$F181)),"소득자원연구소",IF(COUNT(FIND("선인장다육식물연구소",$F181)),"선인장다육식물연구소",IF(COUNT(FIND("보건연구부",$F181)),"보건연구부",IF(COUNT(FIND("대기연구부",$F181)),"대기연구부",IF(COUNT(FIND("수질연구부",$F181)),"수질연구부",IF(COUNT(FIND("북부지원",$F181)),"북부지원",IF(COUNT(FIND("수원농산물검사소",$F181)),"수원농산물검사소",IF(COUNT(FIND("건설본부(관리과)",$F181)),"관리과",IF(COUNT(FIND("도로건설과",$F181)),"도로건설과",IF(COUNT(FIND("북부도로과",$F181)),"북부도로과",IF(COUNT(FIND("건축시설과",$F181)),"건축시설과",IF(COUNT(FIND("신청사건립추진단",$F181)),"신청사건립추진단",$F181))))))))))))))))))))) -> 보육정책과 | B181: =G181 -> 여성가족교육협력위원회 | C181: =IF(COUNT(FIND("경기도건설본부",$E181)),"건설본부",IF(COUNT(FIND("경기도농업기술원",$E181)),"농업기술원",IF(COUNT(FIND("경기도보건환경연구원",$E181)),"보건환경연구원",IF(COUNT(FIND("소방재난본부",$E181)),"재난안전본부",IF(COUNT(FIND("경기도소방학교",$E181)),"재난안전본부",IF(COUNT(FIND("경기도인재개발원",$E181)),"인재개발원",IF(COUNT(FIND("북부소방재난본부",$E181)),"재난안전본부",IF(COUNT(FIND("소방서",$E181)),"재난안전본부",$E181)))))))) -> 여성가족국 | E181: 여성가족국 | F181: 보육정책과 | G181: 여성가족교육협력위원회 | H181: 179 | I181: 3202
A182: =IF(COUNT(AND(FIND("북부소방재난본부",$E182),FIND("특수대응단",$F182))),"특수대응단(북부)",IF(COUNT(FIND("작물연구과",$F182)),"작물연구과",IF(COUNT(FIND("원예연구과",$F182)),"원예연구과",IF(COUNT(FIND("환경농업연구과",$F182)),"환경농업연구과",IF(COUNT(FIND("지원기획과",$F182)),"지원기획과",IF(COUNT(FIND("기술보급과",$F182)),"기술보급과",IF(COUNT(FIND("농촌자원과",$F182)),"농촌자원과",IF(COUNT(FIND("종자관리소",$F182)),"종자관리소",IF(COUNT(FIND("버섯연구소",$F182)),"버섯연구소",IF(COUNT(FIND("소득자원연구소",$F182)),"소득자원연구소",IF(COUNT(FIND("선인장다육식물연구소",$F182)),"선인장다육식물연구소",IF(COUNT(FIND("보건연구부",$F182)),"보건연구부",IF(COUNT(FIND("대기연구부",$F182)),"대기연구부",IF(COUNT(FIND("수질연구부",$F182)),"수질연구부",IF(COUNT(FIND("북부지원",$F182)),"북부지원",IF(COUNT(FIND("수원농산물검사소",$F182)),"수원농산물검사소",IF(COUNT(FIND("건설본부(관리과)",$F182)),"관리과",IF(COUNT(FIND("도로건설과",$F182)),"도로건설과",IF(COUNT(FIND("북부도로과",$F182)),"북부도로과",IF(COUNT(FIND("건축시설과",$F182)),"건축시설과",IF(COUNT(FIND("신청사건립추진단",$F182)),"신청사건립추진단",$F182))))))))))))))))))))) -> 아동청소년과 | B182: =G182 -> 여성가족교육협력위원회 | C182: =IF(COUNT(FIND("경기도건설본부",$E182)),"건설본부",IF(COUNT(FIND("경기도농업기술원",$E182)),"농업기술원",IF(COUNT(FIND("경기도보건환경연구원",$E182)),"보건환경연구원",IF(COUNT(FIND("소방재난본부",$E182)),"재난안전본부",IF(COUNT(FIND("경기도소방학교",$E182)),"재난안전본부",IF(COUNT(FIND("경기도인재개발원",$E182)),"인재개발원",IF(COUNT(FIND("북부소방재난본부",$E182)),"재난안전본부",IF(COUNT(FIND("소방서",$E182)),"재난안전본부",$E182)))))))) -> 여성가족국 | E182: 여성가족국 | F182: 아동청소년과 | G182: 여성가족교육협력위원회 | H182: 180 | I182: 3203
A183: =IF(COUNT(AND(FIND("북부소방재난본부",$E183),FIND("특수대응단",$F183))),"특수대응단(북부)",IF(COUNT(FIND("작물연구과",$F183)),"작물연구과",IF(COUNT(FIND("원예연구과",$F183)),"원예연구과",IF(COUNT(FIND("환경농업연구과",$F183)),"환경농업연구과",IF(COUNT(FIND("지원기획과",$F183)),"지원기획과",IF(COUNT(FIND("기술보급과",$F183)),"기술보급과",IF(COUNT(FIND("농촌자원과",$F183)),"농촌자원과",IF(COUNT(FIND("종자관리소",$F183)),"종자관리소",IF(COUNT(FIND("버섯연구소",$F183)),"버섯연구소",IF(COUNT(FIND("소득자원연구소",$F183)),"소득자원연구소",IF(COUNT(FIND("선인장다육식물연구소",$F183)),"선인장다육식물연구소",IF(COUNT(FIND("보건연구부",$F183)),"보건연구부",IF(COUNT(FIND("대기연구부",$F183)),"대기연구부",IF(COUNT(FIND("수질연구부",$F183)),"수질연구부",IF(COUNT(FIND("북부지원",$F183)),"북부지원",IF(COUNT(FIND("수원농산물검사소",$F183)),"수원농산물검사소",IF(COUNT(FIND("건설본부(관리과)",$F183)),"관리과",IF(COUNT(FIND("도로건설과",$F183)),"도로건설과",IF(COUNT(FIND("북부도로과",$F183)),"북부도로과",IF(COUNT(FIND("건축시설과",$F183)),"건축시설과",IF(COUNT(FIND("신청사건립추진단",$F183)),"신청사건립추진단",$F183))))))))))))))))))))) -> 다문화가족과 | B183: =G183 -> 여성가족교육협력위원회 | C183: =IF(COUNT(FIND("경기도건설본부",$E183)),"건설본부",IF(COUNT(FIND("경기도농업기술원",$E183)),"농업기술원",IF(COUNT(FIND("경기도보건환경연구원",$E183)),"보건환경연구원",IF(COUNT(FIND("소방재난본부",$E183)),"재난안전본부",IF(COUNT(FIND("경기도소방학교",$E183)),"재난안전본부",IF(COUNT(FIND("경기도인재개발원",$E183)),"인재개발원",IF(COUNT(FIND("북부소방재난본부",$E183)),"재난안전본부",IF(COUNT(FIND("소방서",$E183)),"재난안전본부",$E183)))))))) -> 여성가족국 | E183: 여성가족국 | F183: 다문화가족과 | G183: 여성가족교육협력위원회 | H183: 181 | I183: 3204
A184: =IF(COUNT(AND(FIND("북부소방재난본부",$E184),FIND("특수대응단",$F184))),"특수대응단(북부)",IF(COUNT(FIND("작물연구과",$F184)),"작물연구과",IF(COUNT(FIND("원예연구과",$F184)),"원예연구과",IF(COUNT(FIND("환경농업연구과",$F184)),"환경농업연구과",IF(COUNT(FIND("지원기획과",$F184)),"지원기획과",IF(COUNT(FIND("기술보급과",$F184)),"기술보급과",IF(COUNT(FIND("농촌자원과",$F184)),"농촌자원과",IF(COUNT(FIND("종자관리소",$F184)),"종자관리소",IF(COUNT(FIND("버섯연구소",$F184)),"버섯연구소",IF(COUNT(FIND("소득자원연구소",$F184)),"소득자원연구소",IF(COUNT(FIND("선인장다육식물연구소",$F184)),"선인장다육식물연구소",IF(COUNT(FIND("보건연구부",$F184)),"보건연구부",IF(COUNT(FIND("대기연구부",$F184)),"대기연구부",IF(COUNT(FIND("수질연구부",$F184)),"수질연구부",IF(COUNT(FIND("북부지원",$F184)),"북부지원",IF(COUNT(FIND("수원농산물검사소",$F184)),"수원농산물검사소",IF(COUNT(FIND("건설본부(관리과)",$F184)),"관리과",IF(COUNT(FIND("도로건설과",$F184)),"도로건설과",IF(COUNT(FIND("북부도로과",$F184)),"북부도로과",IF(COUNT(FIND("건축시설과",$F184)),"건축시설과",IF(COUNT(FIND("신청사건립추진단",$F184)),"신청사건립추진단",$F184))))))))))))))))))))) -> 여성비전센터 | B184: =G184 -> 여성가족교육협력위원회 | C184: =IF(COUNT(FIND("경기도건설본부",$E184)),"건설본부",IF(COUNT(FIND("경기도농업기술원",$E184)),"농업기술원",IF(COUNT(FIND("경기도보건환경연구원",$E184)),"보건환경연구원",IF(COUNT(FIND("소방재난본부",$E184)),"재난안전본부",IF(COUNT(FIND("경기도소방학교",$E184)),"재난안전본부",IF(COUNT(FIND("경기도인재개발원",$E184)),"인재개발원",IF(COUNT(FIND("북부소방재난본부",$E184)),"재난안전본부",IF(COUNT(FIND("소방서",$E184)),"재난안전본부",$E184)))))))) -> 여성가족국 | E184: 여성가족국 | F184: 여성비전센터 | G184: 여성가족교육협력위원회 | H184: 182 | I184: 3205
A185: =IF(COUNT(AND(FIND("북부소방재난본부",$E185),FIND("특수대응단",$F185))),"특수대응단(북부)",IF(COUNT(FIND("작물연구과",$F185)),"작물연구과",IF(COUNT(FIND("원예연구과",$F185)),"원예연구과",IF(COUNT(FIND("환경농업연구과",$F185)),"환경농업연구과",IF(COUNT(FIND("지원기획과",$F185)),"지원기획과",IF(COUNT(FIND("기술보급과",$F185)),"기술보급과",IF(COUNT(FIND("농촌자원과",$F185)),"농촌자원과",IF(COUNT(FIND("종자관리소",$F185)),"종자관리소",IF(COUNT(FIND("버섯연구소",$F185)),"버섯연구소",IF(COUNT(FIND("소득자원연구소",$F185)),"소득자원연구소",IF(COUNT(FIND("선인장다육식물연구소",$F185)),"선인장다육식물연구소",IF(COUNT(FIND("보건연구부",$F185)),"보건연구부",IF(COUNT(FIND("대기연구부",$F185)),"대기연구부",IF(COUNT(FIND("수질연구부",$F185)),"수질연구부",IF(COUNT(FIND("북부지원",$F185)),"북부지원",IF(COUNT(FIND("수원농산물검사소",$F185)),"수원농산물검사소",IF(COUNT(FIND("건설본부(관리과)",$F185)),"관리과",IF(COUNT(FIND("도로건설과",$F185)),"도로건설과",IF(COUNT(FIND("북부도로과",$F185)),"북부도로과",IF(COUNT(FIND("건축시설과",$F185)),"건축시설과",IF(COUNT(FIND("신청사건립추진단",$F185)),"신청사건립추진단",$F185))))))))))))))))))))) -> 여성능력개발센터 | B185: =G185 -> 여성가족교육협력위원회 | C185: =IF(COUNT(FIND("경기도건설본부",$E185)),"건설본부",IF(COUNT(FIND("경기도농업기술원",$E185)),"농업기술원",IF(COUNT(FIND("경기도보건환경연구원",$E185)),"보건환경연구원",IF(COUNT(FIND("소방재난본부",$E185)),"재난안전본부",IF(COUNT(FIND("경기도소방학교",$E185)),"재난안전본부",IF(COUNT(FIND("경기도인재개발원",$E185)),"인재개발원",IF(COUNT(FIND("북부소방재난본부",$E185)),"재난안전본부",IF(COUNT(FIND("소방서",$E185)),"재난안전본부",$E185)))))))) -> 여성가족국 | E185: 여성가족국 | F185: 여성능력개발센터 | G185: 여성가족교육협력위원회 | H185: 183 | I185: 3206
A186: =IF(COUNT(AND(FIND("북부소방재난본부",$E186),FIND("특수대응단",$F186))),"특수대응단(북부)",IF(COUNT(FIND("작물연구과",$F186)),"작물연구과",IF(COUNT(FIND("원예연구과",$F186)),"원예연구과",IF(COUNT(FIND("환경농업연구과",$F186)),"환경농업연구과",IF(COUNT(FIND("지원기획과",$F186)),"지원기획과",IF(COUNT(FIND("기술보급과",$F186)),"기술보급과",IF(COUNT(FIND("농촌자원과",$F186)),"농촌자원과",IF(COUNT(FIND("종자관리소",$F186)),"종자관리소",IF(COUNT(FIND("버섯연구소",$F186)),"버섯연구소",IF(COUNT(FIND("소득자원연구소",$F186)),"소득자원연구소",IF(COUNT(FIND("선인장다육식물연구소",$F186)),"선인장다육식물연구소",IF(COUNT(FIND("보건연구부",$F186)),"보건연구부",IF(COUNT(FIND("대기연구부",$F186)),"대기연구부",IF(COUNT(FIND("수질연구부",$F186)),"수질연구부",IF(COUNT(FIND("북부지원",$F186)),"북부지원",IF(COUNT(FIND("수원농산물검사소",$F186)),"수원농산물검사소",IF(COUNT(FIND("건설본부(관리과)",$F186)),"관리과",IF(COUNT(FIND("도로건설과",$F186)),"도로건설과",IF(COUNT(FIND("북부도로과",$F186)),"북부도로과",IF(COUNT(FIND("건축시설과",$F186)),"건축시설과",IF(COUNT(FIND("신청사건립추진단",$F186)),"신청사건립추진단",$F186))))))))))))))))))))) -> 가족여성담당관 | B186: =G186 -> 여성가족교육협력위원회 | C186: =IF(COUNT(FIND("경기도건설본부",$E186)),"건설본부",IF(COUNT(FIND("경기도농업기술원",$E186)),"농업기술원",IF(COUNT(FIND("경기도보건환경연구원",$E186)),"보건환경연구원",IF(COUNT(FIND("소방재난본부",$E186)),"재난안전본부",IF(COUNT(FIND("경기도소방학교",$E186)),"재난안전본부",IF(COUNT(FIND("경기도인재개발원",$E186)),"인재개발원",IF(COUNT(FIND("북부소방재난본부",$E186)),"재난안전본부",IF(COUNT(FIND("소방서",$E186)),"재난안전본부",$E186)))))))) -> 복지여성실 | E186: 복지여성실 | F186: 가족여성담당관 | G186: 여성가족교육협력위원회 | H186: 184 | I186: 3301
A187: =IF(COUNT(AND(FIND("북부소방재난본부",$E187),FIND("특수대응단",$F187))),"특수대응단(북부)",IF(COUNT(FIND("작물연구과",$F187)),"작물연구과",IF(COUNT(FIND("원예연구과",$F187)),"원예연구과",IF(COUNT(FIND("환경농업연구과",$F187)),"환경농업연구과",IF(COUNT(FIND("지원기획과",$F187)),"지원기획과",IF(COUNT(FIND("기술보급과",$F187)),"기술보급과",IF(COUNT(FIND("농촌자원과",$F187)),"농촌자원과",IF(COUNT(FIND("종자관리소",$F187)),"종자관리소",IF(COUNT(FIND("버섯연구소",$F187)),"버섯연구소",IF(COUNT(FIND("소득자원연구소",$F187)),"소득자원연구소",IF(COUNT(FIND("선인장다육식물연구소",$F187)),"선인장다육식물연구소",IF(COUNT(FIND("보건연구부",$F187)),"보건연구부",IF(COUNT(FIND("대기연구부",$F187)),"대기연구부",IF(COUNT(FIND("수질연구부",$F187)),"수질연구부",IF(COUNT(FIND("북부지원",$F187)),"북부지원",IF(COUNT(FIND("수원농산물검사소",$F187)),"수원농산물검사소",IF(COUNT(FIND("건설본부(관리과)",$F187)),"관리과",IF(COUNT(FIND("도로건설과",$F187)),"도로건설과",IF(COUNT(FIND("북부도로과",$F187)),"북부도로과",IF(COUNT(FIND("건축시설과",$F187)),"건축시설과",IF(COUNT(FIND("신청사건립추진단",$F187)),"신청사건립추진단",$F187))))))))))))))))))))) -> 보육청소년담당관 | B187: =G187 -> 여성가족교육협력위원회 | C187: =IF(COUNT(FIND("경기도건설본부",$E187)),"건설본부",IF(COUNT(FIND("경기도농업기술원",$E187)),"농업기술원",IF(COUNT(FIND("경기도보건환경연구원",$E187)),"보건환경연구원",IF(COUNT(FIND("소방재난본부",$E187)),"재난안전본부",IF(COUNT(FIND("경기도소방학교",$E187)),"재난안전본부",IF(COUNT(FIND("경기도인재개발원",$E187)),"인재개발원",IF(COUNT(FIND("북부소방재난본부",$E187)),"재난안전본부",IF(COUNT(FIND("소방서",$E187)),"재난안전본부",$E187)))))))) -> 복지여성실 | E187: 복지여성실 | F187: 보육청소년담당관 | G187: 여성가족교육협력위원회 | H187: 185 | I187: 3302
A188: =IF(COUNT(AND(FIND("북부소방재난본부",$E188),FIND("특수대응단",$F188))),"특수대응단(북부)",IF(COUNT(FIND("작물연구과",$F188)),"작물연구과",IF(COUNT(FIND("원예연구과",$F188)),"원예연구과",IF(COUNT(FIND("환경농업연구과",$F188)),"환경농업연구과",IF(COUNT(FIND("지원기획과",$F188)),"지원기획과",IF(COUNT(FIND("기술보급과",$F188)),"기술보급과",IF(COUNT(FIND("농촌자원과",$F188)),"농촌자원과",IF(COUNT(FIND("종자관리소",$F188)),"종자관리소",IF(COUNT(FIND("버섯연구소",$F188)),"버섯연구소",IF(COUNT(FIND("소득자원연구소",$F188)),"소득자원연구소",IF(COUNT(FIND("선인장다육식물연구소",$F188)),"선인장다육식물연구소",IF(COUNT(FIND("보건연구부",$F188)),"보건연구부",IF(COUNT(FIND("대기연구부",$F188)),"대기연구부",IF(COUNT(FIND("수질연구부",$F188)),"수질연구부",IF(COUNT(FIND("북부지원",$F188)),"북부지원",IF(COUNT(FIND("수원농산물검사소",$F188)),"수원농산물검사소",IF(COUNT(FIND("건설본부(관리과)",$F188)),"관리과",IF(COUNT(FIND("도로건설과",$F188)),"도로건설과",IF(COUNT(FIND("북부도로과",$F188)),"북부도로과",IF(COUNT(FIND("건축시설과",$F188)),"건축시설과",IF(COUNT(FIND("신청사건립추진단",$F188)),"신청사건립추진단",$F188))))))))))))))))))))) -> 북부여성비전센터 | B188: =G188 -> 여성가족교육협력위원회 | C188: =IF(COUNT(FIND("경기도건설본부",$E188)),"건설본부",IF(COUNT(FIND("경기도농업기술원",$E188)),"농업기술원",IF(COUNT(FIND("경기도보건환경연구원",$E188)),"보건환경연구원",IF(COUNT(FIND("소방재난본부",$E188)),"재난안전본부",IF(COUNT(FIND("경기도소방학교",$E188)),"재난안전본부",IF(COUNT(FIND("경기도인재개발원",$E188)),"인재개발원",IF(COUNT(FIND("북부소방재난본부",$E188)),"재난안전본부",IF(COUNT(FIND("소방서",$E188)),"재난안전본부",$E188)))))))) -> 복지여성실 | E188: 복지여성실 | F188: 북부여성비전센터 | G188: 여성가족교육협력위원회 | H188: 186 | I188: 3303

Sheet 15년검증
A1: 2015년 본예산 검증 | G1: 본예산 예비비 | I1: 124682800
K2: (단위 : 천원)
A3: 구 분 | B3: 상임위 | G3: 구 분 | H3: 예결위
B4: 세입 | C4: 검증 | D4: 세출 | E4: 검증 | H4: 세입 | I4: 검증 | J4: 세출 | K4: 검증
A5: 전체 총계 | B5: =SUM(B6,B9) -> #REF! | C5: =IF(B5=#REF!,"OK","@@") -> #REF! | D5: =SUM(D6,D9) -> #REF! | E5: =IF(D5=#REF!,"OK","@@") -> #REF! | G5: 전체 총계 | H5: =SUM(H6,H9) -> #REF! | I5: =IF(H5=#REF!,"OK","@@") -> #REF! | J5: =SUM(J6,J9) -> #REF! | K5: =IF(J5=#REF!,"OK","@@") -> #REF!
A6: 자체 총계 | B6: =SUM(B7:B8) -> #REF! | C6: =IF(B6=#REF!,"OK","@@") -> #REF! | D6: =SUM(D7:D8) -> #REF! | E6: =IF($D$6=#REF!,"OK","@@") -> #REF! | G6: 자체 총계 | H6: =SUM(H7:H8) -> #REF! | I6: =IF(H6=#REF!,"OK","@@") -> #REF! | J6: =SUM(J7:J8) -> #REF! | K6: =IF($J6=#REF!,"OK","@@") -> #REF!
A7: 자체 도비 | B7: =SUMIFS(#REF!,#REF!,"도비") -> #REF! | D7: =SUMIFS(#REF!,#REF!,"도비") -> #REF! | G7: 자체 - 의존도비 | H7: =SUMIFS(#REF!,#REF!,"도비") -> #REF! | J7: =SUMIFS(#REF!,#REF!,"도비") -> #REF!
A8: 의존 매칭 도비 | B8: =SUMIFS(#REF!,#REF!,"국비")+SUMIFS(#REF!,#REF!,"광특")+SUMIFS(#REF!,#REF!,"기금")+SUMIFS(#REF!,#REF!,"분권")+SUMIFS(#REF!,#REF!,"특교") -> #REF! | D8: =SUMIFS(#REF!,#REF!,"국비")+SUMIFS(#REF!,#REF!,"광특")+SUMIFS(#REF!,#REF!,"기금")+SUMIFS(#REF!,#REF!,"분권")+SUMIFS(#REF!,#REF!,"특교") -> #REF! | G8: 의존 매칭 도비 | H8: =SUMIFS(#REF!,#REF!,"국비")+SUMIFS(#REF!,#REF!,"광특")+SUMIFS(#REF!,#REF!,"기금")+SUMIFS(#REF!,#REF!,"분권")+SUMIFS(#REF!,#REF!,"특교") -> #REF! | J8: =SUMIFS(#REF!,#REF!,"국비")+SUMIFS(#REF!,#REF!,"광특")+SUMIFS(#REF!,#REF!,"기금")+SUMIFS(#REF!,#REF!,"분권")+SUMIFS(#REF!,#REF!,"특교") -> #REF!
A9: 의존계 | B9: =SUM(B10:B14) -> #REF! | C9: =IF(B9=#REF!,"OK","@@") -> #REF! | D9: =SUM(D10:D14) -> #REF! | E9: =IF(B9=D9,"OK","@@") -> #REF! | G9: 의존계 | H9: =SUM(H10:H14) -> #REF! | I9: =IF(H9=#REF!,"OK","@@") -> #REF! | J9: =SUM(J10:J14) -> #REF! | K9: =IF(H9=J9,"OK","@@") -> #REF!
A10: 국비 | B10: =SUMIFS(#REF!,#REF!,'15년검증'!$A10) -> #REF! | D10: =SUMIFS(#REF!,#REF!,'15년검증'!$A10) -> #REF! | E10: =IF(B10=D10,"OK","@@") -> #REF! | G10: 국비 | H10: =SUMIFS(#REF!,#REF!,'15년검증'!$A10) -> #REF! | J10: =SUMIFS(#REF!,#REF!,'15년검증'!$A10) -> #REF! | K10: =IF(H10=J10,"OK","@@") -> #REF!
A11: 광특 | B11: =SUMIFS(#REF!,#REF!,'15년검증'!$A11) -> #REF! | D11: =SUMIFS(#REF!,#REF!,'15년검증'!$A11) -> #REF! | E11: =IF(B11=D11,"OK","@@") -> #REF! | G11: 광특 | H11: =SUMIFS(#REF!,#REF!,'15년검증'!$A11) -> #REF! | J11: =SUMIFS(#REF!,#REF!,'15년검증'!$A11) -> #REF! | K11: =IF(H11=J11,"OK","@@") -> #REF!
A12: 기금 | B12: =SUMIFS(#REF!,#REF!,'15년검증'!$A12) -> #REF! | D12: =SUMIFS(#REF!,#REF!,'15년검증'!$A12) -> #REF! | E12: =IF(B12=D12,"OK","@@") -> #REF! | G12: 기금 | H12: =SUMIFS(#REF!,#REF!,'15년검증'!$A12) -> #REF! | J12: =SUMIFS(#REF!,#REF!,'15년검증'!$A12) -> #REF! | K12: =IF(H12=J12,"OK","@@") -> #REF!
A13: 분권 | B13: =SUMIFS(#REF!,#REF!,'15년검증'!$A13) -> #REF! | D13: =SUMIFS(#REF!,#REF!,'15년검증'!$A13) -> #REF! | E13: =IF(B13=D13,"OK","@@") -> #REF! | G13: 분권 | H13: =SUMIFS(#REF!,#REF!,'15년검증'!$A13) -> #REF! | J13: =SUMIFS(#REF!,#REF!,'15년검증'!$A13) -> #REF! | K13: =IF(H13=J13,"OK","@@") -> #REF!
A14: 특교 | B14: =SUMIFS(#REF!,#REF!,'15년검증'!$A14) -> #REF! | D14: =SUMIFS(#REF!,#REF!,'15년검증'!$A14) -> #REF! | E14: =IF(B14=D14,"OK","@@") -> #REF! | G14: 특교 | H14: =SUMIFS(#REF!,#REF!,'15년검증'!$A14) -> #REF! | J14: =SUMIFS(#REF!,#REF!,'15년검증'!$A14) -> #REF! | K14: =IF(H14=J14,"OK","@@") -> #REF!
G16: 예비비 조정액 | H16: =INDEX(#REF!,MATCH("*예비비*",#REF!,0)) -> #REF!
H18: =H5-J5 -> #REF!
G20: 예비비 조정잔액 | H20: =I1+H16 -> #REF!

Sheet 2추검증
A1: 2회추경 검증 | G1: 2회추경 예비비 | I1: 22466366
K2: (단위 : 천원)
A3: 구 분 | B3: 상임위 | G3: 구 분 | H3: 예결위
B4: 세입 | C4: 검증 | D4: 세출 | E4: 검증 | H4: 세입 | I4: 검증 | J4: 세출 | K4: 검증
A5: 전체 총계 | B5: =SUM(B6,B9) -> -38561272 | C5: =IF(B5='2추일입'!W3,"OK","@@") -> OK | D5: =SUM(D6,D9) -> -43551350 | E5: =IF(D5='2추일출'!W3,"OK","@@") -> OK | G5: 전체 총계 | H5: =SUM(H6,H9) -> 0 | I5: =IF(H5='2추일입'!AB3,"OK","@@") -> OK | J5: =SUM(J6,J9) -> 0 | K5: =IF(J5='2추일출'!AB3,"OK","@@") -> OK
A6: 자체 총계 | B6: =SUM(B7:B8) -> 118478 | C6: =IF(B6='2추일입'!W6,"OK","@@") -> OK | D6: =SUM(D7:D8) -> -150000 | E6: =IF($D$6='2추일출'!$W$6,"OK","@@") -> OK | G6: 자체 총계 | H6: =SUM(H7:H8) -> 0 | I6: =IF(H6='2추일입'!AB6,"OK","@@") -> OK | J6: =SUM(J7:J8) -> 0 | K6: =IF($J6='2추일출'!$AB6,"OK","@@") -> OK
A7: 자체 도비 | B7: =SUMIFS('2추일입'!$W$7:$W$638,'2추일입'!$U$7:$U$638,"도비") -> 118478 | D7: =SUMIFS('2추일출'!$W$7:$W$463,'2추일출'!$U$7:$U$463,"도비") -> 0 | G7: 자체 - 의존도비 | H7: =SUMIFS('2추일입'!$AB$7:$AB$638,'2추일입'!$Z$7:$Z$638,"도비") -> 0 | J7: =SUMIFS('2추일출'!$AB$7:$AB$463,'2추일출'!$Z$7:$Z$463,"도비") -> 0
A8: 의존 매칭 도비 | B8: =SUMIFS('2추일입'!$W$7:$W$638,'2추일입'!$U$7:$U$638,"국비")+SUMIFS('2추일입'!$W$7:$W$638,'2추일입'!$U$7:$U$638,"광특")+SUMIFS('2추일입'!$W$7:$W$638,'2추일입'!$U$7:$U$638,"기금")+SUMIFS('2추일입'!$W$7:$W$638,'2추일입'!$U$7:$U$638,"분권")+SUMIFS('2추일입'!$W$7:$W$638,'2추일입'!$U$7:$U$638,"특교") -> 0 | D8: =SUMIFS('2추일출'!$W$7:$W$463,'2추일출'!$U$7:$U$463,"국비")+SUMIFS('2추일출'!$W$7:$W$463,'2추일출'!$U$7:$U$463,"광특")+SUMIFS('2추일출'!$W$7:$W$463,'2추일출'!$U$7:$U$463,"기금")+SUMIFS('2추일출'!$W$7:$W$463,'2추일출'!$U$7:$U$463,"분권")+SUMIFS('2추일출'!$W$7:$W$463,'2추일출'!$U$7:$U$463,"특교") -> -150000 | G8: 의존 매칭 도비 | H8: =SUMIFS('2추일입'!$AB$7:$AB$638,'2추일입'!$Z$7:$Z$638,"국비")+SUMIFS('2추일입'!$AB$7:$AB$638,'2추일입'!$Z$7:$Z$638,"광특")+SUMIFS('2추일입'!$AB$7:$AB$638,'2추일입'!$Z$7:$Z$638,"기금")+SUMIFS('2추일입'!$AB$7:$AB$638,'2추일입'!$Z$7:$Z$638,"분권")+SUMIFS('2추일입'!$AB$7:$AB$638,'2추일입'!$Z$7:$Z$638,"특교") -> 0 | J8: =SUMIFS('2추일출'!$AB$7:$AB$463,'2추일출'!$Z$7:$Z$463,"국비")+SUMIFS('2추일출'!$AB$7:$AB$463,'2추일출'!$Z$7:$Z$463,"광특")+SUMIFS('2추일출'!$AB$7:$AB$463,'2추일출'!$Z$7:$Z$463,"기금")+SUMIFS('2추일출'!$AB$7:$AB$463,'2추일출'!$Z$7:$Z$463,"분권")+SUMIFS('2추일출'!$AB$7:$AB$463,'2추일출'!$Z$7:$Z$463,"특교") -> 0
A9: 의존계 | B9: =SUM(B10:B14) -> -38679750 | C9: =IF(B9='2추일입'!V6,"OK","@@") -> OK | D9: =SUM(D10:D14) -> -43401350 | E9: =IF(B9=D9,"OK","@@") -> @@ | G9: 의존계 | H9: =SUM(H10:H14) -> 0 | I9: =IF(H9='2추일입'!AA6,"OK","@@") -> OK | J9: =SUM(J10:J14) -> 0 | K9: =IF(H9=J9,"OK","@@") -> OK
A10: 국비 | B10: =SUMIFS('2추일입'!$V$7:$V$638,'2추일입'!$U$7:$U$638,'2추검증'!$A10) -> -38679750 | D10: =SUMIFS('2추일출'!$V$7:$V$463,'2추일출'!$U$7:$U$463,'2추검증'!$A10) -> -43401350 | E10: =IF(B10=D10,"OK","@@") -> @@ | G10: 국비 | H10: =SUMIFS('2추일입'!$AA$7:$AA$638,'2추일입'!$Z$7:$Z$638,'2추검증'!$A10) -> 0 | J10: =SUMIFS('2추일출'!$AA$7:$AA$463,'2추일출'!$Z$7:$Z$463,'2추검증'!$A10) -> 0 | K10: =IF(H10=J10,"OK","@@") -> OK
A11: 광특 | B11: =SUMIFS('2추일입'!$V$7:$V$638,'2추일입'!$U$7:$U$638,'2추검증'!$A11) -> 0 | D11: =SUMIFS('2추일출'!$V$7:$V$463,'2추일출'!$U$7:$U$463,'2추검증'!$A11) -> 0 | E11: =IF(B11=D11,"OK","@@") -> OK | G11: 광특 | H11: =SUMIFS('2추일입'!$AA$7:$AA$638,'2추일입'!$Z$7:$Z$638,'2추검증'!$A11) -> 0 | J11: =SUMIFS('2추일출'!$AA$7:$AA$463,'2추일출'!$Z$7:$Z$463,'2추검증'!$A11) -> 0 | K11: =IF(H11=J11,"OK","@@") -> OK
A12: 기금 | B12: =SUMIFS('2추일입'!$V$7:$V$638,'2추일입'!$U$7:$U$638,'2추검증'!$A12) -> 0 | D12: =SUMIFS('2추일출'!$V$7:$V$463,'2추일출'!$U$7:$U$463,'2추검증'!$A12) -> 0 | E12: =IF(B12=D12,"OK","@@") -> OK | G12: 기금 | H12: =SUMIFS('2추일입'!$AA$7:$AA$638,'2추일입'!$Z$7:$Z$638,'2추검증'!$A12) -> 0 | J12: =SUMIFS('2추일출'!$AA$7:$AA$463,'2추일출'!$Z$7:$Z$463,'2추검증'!$A12) -> 0 | K12: =IF(H12=J12,"OK","@@") -> OK
A13: 분권 | B13: =SUMIFS('2추일입'!$V$7:$V$638,'2추일입'!$U$7:$U$638,'2추검증'!$A13) -> 0 | D13: =SUMIFS('2추일출'!$V$7:$V$463,'2추일출'!$U$7:$U$463,'2추검증'!$A13) -> 0 | E13: =IF(B13=D13,"OK","@@") -> OK | G13: 분권 | H13: =SUMIFS('2추일입'!$AA$7:$AA$638,'2추일입'!$Z$7:$Z$638,'2추검증'!$A13) -> 0 | J13: =SUMIFS('2추일출'!$AA$7:$AA$463,'2추일출'!$Z$7:$Z$463,'2추검증'!$A13) -> 0 | K13: =IF(H13=J13,"OK","@@") -> OK
A14: 특교 | B14: =SUMIFS('2추일입'!$V$7:$V$638,'2추일입'!$U$7:$U$638,'2추검증'!$A14) -> 0 | D14: =SUMIFS('2추일출'!$V$7:$V$463,'2추일출'!$U$7:$U$463,'2추검증'!$A14) -> 0 | E14: =IF(B14=D14,"OK","@@") -> OK | G14: 특교 | H14: =SUMIFS('2추일입'!$AA$7:$AA$638,'2추일입'!$Z$7:$Z$638,'2추검증'!$A14) -> 0 | J14: =SUMIFS('2추일출'!$AA$7:$AA$463,'2추일출'!$Z$7:$Z$463,'2추검증'!$A14) -> 0 | K14: =IF(H14=J14,"OK","@@") -> OK
G16: 예비비 조정액 | H16: =INDEX('2추일출'!AB7:AB463,MATCH("*예비비*",'2추일출'!F7:F463,0)) -> #N/A
H18: =H5-J5 -> 0
G20: 예비비 조정잔액 | H20: =I1-H16 -> #N/A

Sheet 상임 표지
D2: 2014년도 제2회 일반회계 및 특별회계 추가경정 세입·세출 예산안
D4: 상 임 위 계 수 조 정 결 과
D16: 예산결산특별위원회

Sheet 표지
D2: 2014년도 제2회 일반회계 및 특별회계 추가경정 세입·세출 예산안
A4: 예결위 계수조정 결과
D16: 예산결산특별위원회

Sheet 예결 표지
B5: 2014년도 제2회 일반회계 및 특별회계 추가경정 세입·세출 예산안
B7: 예결위 계수조정 결과
B33: 예산결산특별위원회

Sheet 예결 표지(가로)
B3: 2014년도 제2회 일반회계 및 특별회계 추가경정 세입·세출 예산안
B5: 예결위 계수조정 결과
B24: 예산결산특별위원회

Sheet 15년총괄표
B1: 2015년도 경기도 일반 및 특별회계 세입·세출 예산안[전체예산총괄]
B3: □ 총 괄 | D3: 세입예산증감 | E3: =SUM(D7:E7) -> #REF! | F3: 세출예산증감 | G3: =SUM(F7:G7) -> #REF!
H4: (단위:천원) | M4: (일반+특별+기금) | O4: 특별+기금
B5: 구 분 | C5: 집행부제출(안) | D5: 세입예산(안) | F5: 세출예산(안) | H5: 예산수정(안) | I5: 일반회계 증감(총괄표) | K5: 예비비증감 | L5: 비 고 | M5: 전체 증감(시트) | O5: 비고
D6: 감 액 | E6: 증 액 | F6: 감 액 | G6: 증 액 | I6: 세입 | J6: 세출 | M6: 세입 | N6: 세출
B7: 합 계 | C7: =SUM(C8:C18) -> 0 | D7: =SUM(D8:D18) -> #REF! | E7: =SUM(E8:E18) -> #REF! | F7: =SUM(F8:F18) -> #REF! | G7: =SUM(G8:G18) -> #REF! | H7: =SUM(H8:H18) -> #REF! | I7: =E25+D25 -> #REF! | J7: =F25+G25 -> #REF! | K7: =I7-J7 -> #REF! | L7: 예비비 증감이 - 예산이면 감액에 + 예산이면 증액에 입력 | M7: =D24+E24 -> #REF! | N7: =F24+G24 -> #REF! | O7: 0 | P7: 0
B8: 기 타 | C8: 0 | H8: =C8-F8+G8 -> 0 | I8: =D7+E7 -> #REF! | J8: =F7+G7 -> #REF! | K8: =I8-J8 -> #REF!
B9: 의회운영위원회 | D9: =SUMIFS(#REF!,#REF!,'15년총괄표'!$B9) -> #REF! | E9: =SUMIFS(#REF!,#REF!,'15년총괄표'!$B9) -> #REF! | F9: =SUMIFS(#REF!,#REF!,'15년총괄표'!$B9) -> #REF! | G9: =SUMIFS(#REF!,#REF!,'15년총괄표'!$B9) -> #REF! | H9: =C9+F9+G9 -> #REF! | I9: 일반회계 증감(시트) | N9: 전체 증감
B10: 기획재정위원회 | D10: =SUMIFS(#REF!,#REF!,'15년총괄표'!$B10) -> #REF! | E10: =SUMIFS(#REF!,#REF!,'15년총괄표'!$B10) -> #REF! | F10: =SUMIFS(#REF!,#REF!,'15년총괄표'!$B10) -> #REF! | G10: =SUMIFS(#REF!,#REF!,'15년총괄표'!$B10) -> #REF! | H10: =C10+F10+G10 -> #REF! | I10: =#REF!+#REF! -> #REF! | J10: =#REF!+#REF! -> #REF! | N10: =M7-N7 -> #REF!
B11: 경제과학기술위원회 | D11: =SUMIFS(#REF!,#REF!,'15년총괄표'!$B11) -> #REF! | E11: =SUMIFS(#REF!,#REF!,'15년총괄표'!$B11) -> #REF! | F11: =SUMIFS(#REF!,#REF!,'15년총괄표'!$B11) -> #REF! | G11: =SUMIFS(#REF!,#REF!,'15년총괄표'!$B11) -> #REF! | H11: =C11+F11+G11 -> #REF!
B12: 안전행정위원회 | D12: =SUMIFS(#REF!,#REF!,'15년총괄표'!$B12) -> #REF! | E12: =SUMIFS(#REF!,#REF!,'15년총괄표'!$B12) -> #REF! | F12: =SUMIFS(#REF!,#REF!,'15년총괄표'!$B12) -> #REF! | G12: =SUMIFS(#REF!,#REF!,'15년총괄표'!$B12) -> #REF! | H12: =C12+F12+G12 -> #REF!
B13: 문화체육관광위원회 | D13: =SUMIFS(#REF!,#REF!,'15년총괄표'!$B13) -> #REF! | E13: =SUMIFS(#REF!,#REF!,'15년총괄표'!$B13) -> #REF! | F13: =SUMIFS(#REF!,#REF!,'15년총괄표'!$B13) -> #REF! | G13: =SUMIFS(#REF!,#REF!,'15년총괄표'!$B13) -> #REF! | H13: =C13+F13+G13 -> #REF! | N13: 기금
B14: 농정해양위원회 | D14: =SUMIFS(#REF!,#REF!,'15년총괄표'!$B14) -> #REF! | E14: =SUMIFS(#REF!,#REF!,'15년총괄표'!$B14) -> #REF! | F14: =SUMIFS(#REF!,#REF!,'15년총괄표'!$B14) -> #REF! | G14: =SUMIFS(#REF!,#REF!,'15년총괄표'!$B14) -> #REF! | H14: =C14+F14+G14 -> #REF! | N14: =N10-K7 -> #REF!
B15: 보건복지위원회 | D15: =SUMIFS(#REF!,#REF!,'15년총괄표'!$B15) -> #REF! | E15: =SUMIFS(#REF!,#REF!,'15년총괄표'!$B15) -> #REF! | F15: =SUMIFS(#REF!,#REF!,'15년총괄표'!$B15) -> #REF! | G15: =SUMIFS(#REF!,#REF!,'15년총괄표'!$B15) -> #REF! | H15: =C15+F15+G15 -> #REF!
B16: 건설교통위원회 | D16: =SUMIFS(#REF!,#REF!,'15년총괄표'!$B16) -> #REF! | E16: =SUMIFS(#REF!,#REF!,'15년총괄표'!$B16) -> #REF! | F16: =SUMIFS(#REF!,#REF!,'15년총괄표'!$B16) -> #REF! | G16: =SUMIFS(#REF!,#REF!,'15년총괄표'!$B16) -> #REF! | H16: =C16+F16+G16 -> #REF!
B17: 도시환경위원회 | D17: =SUMIFS(#REF!,#REF!,'15년총괄표'!$B17) -> #REF! | E17: =SUMIFS(#REF!,#REF!,'15년총괄표'!$B17) -> #REF! | F17: =SUMIFS(#REF!,#REF!,'15년총괄표'!$B17) -> #REF! | G17: =SUMIFS(#REF!,#REF!,'15년총괄표'!$B17) -> #REF! | H17: =C17+F17+G17 -> #REF!
B18: 여성가족교육협력위원회 | D18: =SUMIFS(#REF!,#REF!,'15년총괄표'!$B18) -> #REF! | E18: =SUMIFS(#REF!,#REF!,'15년총괄표'!$B18) -> #REF! | F18: =SUMIFS(#REF!,#REF!,'15년총괄표'!$B18) -> #REF! | G18: =SUMIFS(#REF!,#REF!,'15년총괄표'!$B18) -> #REF! | H18: =C18+F18+G18 -> #REF!
B20: □ 회계별 예산총규모
H21: (단위:천원)
B22: 구 분 | C22: 세출예산액 (집행부제출 안) | D22: 세입예산(안) | F22: 세출예산(안) | H22: 예산수정(안)
D23: 감 액 | E23: 증 액 | F23: 감 액 | G23: 증 액 | I23: 세입기준 수정예산안
B24: 합 계 | C24: =SUM(C25:C26) -> 0 | D24: =SUM(D25:D26) -> #REF! | E24: =SUM(E25:E26) -> #REF! | F24: =SUM(F25:F26) -> #REF! | G24: =SUM(G25:G26) -> #REF! | H24: =SUM(H25:H26) -> #REF! | I24: =C24+D24+E24 -> #REF! | J24: =I24-H24 -> #REF! | K24: (세출기준-세입기준)
B25: 일반회계 | D25: =#REF! -> #REF! | E25: =#REF! -> #REF! | F25: =#REF! -> #REF! | G25: =#REF! -> #REF! | H25: =C25+F25+G25 -> #REF! | I25: =C25+D25+E25 -> #REF! | J25: =I25-H25 -> #REF! | K25: (세출기준-세입기준)
B26: 특별회계 | H26: =C26+F26+G26 -> 0 | I26: =C26+D26+E26 -> 0 | J26: =I26-H26 -> 0 | K26: (세출기준-세입기준)
B30: 위원회명 | C30: 일반+기특 | D30: 공기업 | E30: 합계
B31: 의회운영위원회 | C31: 39922113 | E31: =SUM(C31:D31) -> 39922113
B32: 기획재정위원회 | C32: 3302571667 | D32: 1780946434 | E32: =SUM(C32:D32) -> 5083518101
B33: 경제과학기술위원회 | C33: 155329320 | D33: 384743740 | E33: =SUM(C33:D33) -> 540073060
B34: 안전행정위원회 | C34: 1142858974 | E34: =SUM(C34:D34) -> 1142858974
B35: 문화체육관광위원회 | C35: 224243208 | D35: 52484400 | E35: =SUM(C35:D35) -> 276727608
B36: 농정해양위원회 | C36: 466978999 | E36: =SUM(C36:D36) -> 466978999
B37: 보건복지위원회 | C37: 3254006708 | E37: =SUM(C37:D37) -> 3254006708
B38: 건설교통위원회 | C38: 1220859831 | E38: =SUM(C38:D38) -> 1220859831
B39: 도시환경위원회 | C39: 866963933 | D39: 28360000 | E39: =SUM(C39:D39) -> 895323933
B40: 여성가족평생교육위원회 | C40: 4882582917 | E40: =SUM(C40:D40) -> 4882582917
B41: 총합계 | C41: =SUM(C31:C40) -> 15556317670 | D41: =SUM(D31:D40) -> 2246534574 | E41: =SUM(C41:D41) -> 17802852244
B43: 예비비 | C43: =3922478-221377 -> 3701101
I160: ◦ 본청 83,000 증 ◦ 북부청 377,000 증
K290: -50000

Sheet 15년총괄표(실국별)
B1: 2015년도 경기도 일반 및 특별회계 세입·세출 예산안[전체예산총괄]
B3: □ 총괄(실국별) | E3: =SUM(D7:E7) -> #REF! | G3: =SUM(F7:G7) -> #REF!
H4: (단위:천원) | M4: (일반+특별+기금) | O4: 특별+기금
B5: 구 분 | C5: 집행부제출(안) | D5: 세입예산(안) | F5: 세출예산(안) | H5: 예산수정(안) | I5: 일반회계 증감(총괄표) | K5: 예비비증감 | L5: 비 고 | M5: 전체 증감(시트) | O5: 비고
D6: 감 액 | E6: 증 액 | F6: 감 액 | G6: 증 액 | I6: 세입 | J6: 세출 | M6: 세입 | N6: 세출
B7: 합 계 | C7: =SUM(C8:C33) -> 0 | D7: =SUM(D8:D33) -> #REF! | E7: =SUM(E8:E33) -> #REF! | F7: =SUM(F8:F33) -> #REF! | G7: =SUM(G8:G33) -> #REF! | H7: =SUM(H8:H33) -> #REF! | I7: =#REF!+#REF! -> #REF! | J7: =#REF!+#REF! -> #REF! | K7: =I7-J7 -> #REF! | L7: 예비비 증감이 - 예산이면 감액에 + 예산이면 증액에 입력 | M7: =#REF!+#REF! -> #REF! | N7: =#REF!+#REF! -> #REF! | O7: 0 | P7: 0
B8: 감사관 | D8: =SUMIFS(#REF!,#REF!,'15년총괄표(실국별)'!$B8) -> #REF! | E8: =SUMIFS(#REF!,#REF!,'15년총괄표(실국별)'!$B8) -> #REF! | F8: =SUMIFS(#REF!,#REF!,'15년총괄표(실국별)'!$B8) -> #REF! | G8: =SUMIFS(#REF!,#REF!,'15년총괄표(실국별)'!$B8) -> #REF! | H8: =C8+F8+G8 -> #REF! | I8: 일반회계 증감(시트) | N8: 전체 증감
B9: 기획조정실 | D9: =SUMIFS(#REF!,#REF!,'15년총괄표(실국별)'!$B9) -> #REF! | E9: =SUMIFS(#REF!,#REF!,'15년총괄표(실국별)'!$B9) -> #REF! | F9: =SUMIFS(#REF!,#REF!,'15년총괄표(실국별)'!$B9) -> #REF! | G9: =SUMIFS(#REF!,#REF!,'15년총괄표(실국별)'!$B9) -> #REF! | H9: =C9+F9+G9 -> #REF! | I9: =#REF!+#REF! -> #REF! | J9: =#REF!+#REF! -> #REF! | N9: =#REF!-#REF! -> #REF!
B10: 도시주택실 | D10: =SUMIFS(#REF!,#REF!,'15년총괄표(실국별)'!$B10) -> #REF! | E10: =SUMIFS(#REF!,#REF!,'15년총괄표(실국별)'!$B10) -> #REF! | F10: =SUMIFS(#REF!,#REF!,'15년총괄표(실국별)'!$B10) -> #REF! | G10: =SUMIFS(#REF!,#REF!,'15년총괄표(실국별)'!$B10) -> #REF! | H10: =C10+F10+G10 -> #REF! | I10: =#REF!+#REF! -> #REF! | J10: =#REF!+#REF! -> #REF! | N10: =#REF!-#REF! -> #REF!
B11: 자치행정국 | D11: =SUMIFS(#REF!,#REF!,'15년총괄표(실국별)'!$B11) -> #REF! | E11: =SUMIFS(#REF!,#REF!,'15년총괄표(실국별)'!$B11) -> #REF! | F11: =SUMIFS(#REF!,#REF!,'15년총괄표(실국별)'!$B11) -> #REF! | G11: =SUMIFS(#REF!,#REF!,'15년총괄표(실국별)'!$B11) -> #REF! | H11: =C11+F11+G11 -> #REF!
B12: 교육협력국 | D12: =SUMIFS(#REF!,#REF!,'15년총괄표(실국별)'!$B12) -> #REF! | E12: =SUMIFS(#REF!,#REF!,'15년총괄표(실국별)'!$B12) -> #REF! | F12: =SUMIFS(#REF!,#REF!,'15년총괄표(실국별)'!$B12) -> #REF! | G12: =SUMIFS(#REF!,#REF!,'15년총괄표(실국별)'!$B12) -> #REF! | H12: =C12+F12+G12 -> #REF!
B13: 문화체육관광국 | D13: =SUMIFS(#REF!,#REF!,'15년총괄표(실국별)'!$B13) -> #REF! | E13: =SUMIFS(#REF!,#REF!,'15년총괄표(실국별)'!$B13) -> #REF! | F13: =SUMIFS(#REF!,#REF!,'15년총괄표(실국별)'!$B13) -> #REF! | G13: =SUMIFS(#REF!,#REF!,'15년총괄표(실국별)'!$B13) -> #REF! | H13: =C13+F13+G13 -> #REF! | N13: 기금
B14: 농정해양국 | D14: =SUMIFS(#REF!,#REF!,'15년총괄표(실국별)'!$B14) -> #REF! | E14: =SUMIFS(#REF!,#REF!,'15년총괄표(실국별)'!$B14) -> #REF! | F14: =SUMIFS(#REF!,#REF!,'15년총괄표(실국별)'!$B14) -> #REF! | G14: =SUMIFS(#REF!,#REF!,'15년총괄표(실국별)'!$B14) -> #REF! | H14: =C14+F14+G14 -> #REF! | N14: =N10-#REF! -> #REF!
B15: 철도국 | D15: =SUMIFS(#REF!,#REF!,'15년총괄표(실국별)'!$B15) -> #REF! | E15: =SUMIFS(#REF!,#REF!,'15년총괄표(실국별)'!$B15) -> #REF! | F15: =SUMIFS(#REF!,#REF!,'15년총괄표(실국별)'!$B15) -> #REF! | G15: =SUMIFS(#REF!,#REF!,'15년총괄표(실국별)'!$B15) -> #REF! | H15: =C15+F15+G15 -> #REF!
B16: 재난안전본부 | D16: =SUMIFS(#REF!,#REF!,'15년총괄표(실국별)'!$B16) -> #REF! | E16: =SUMIFS(#REF!,#REF!,'15년총괄표(실국별)'!$B16) -> #REF! | F16: =SUMIFS(#REF!,#REF!,'15년총괄표(실국별)'!$B16) -> #REF! | G16: =SUMIFS(#REF!,#REF!,'15년총괄표(실국별)'!$B16) -> #REF! | H16: =C16+F16+G16 -> #REF!
B17: 의회사무처 | D17: =SUMIFS(#REF!,#REF!,'15년총괄표(실국별)'!$B17) -> #REF! | E17: =SUMIFS(#REF!,#REF!,'15년총괄표(실국별)'!$B17) -> #REF! | F17: =SUMIFS(#REF!,#REF!,'15년총괄표(실국별)'!$B17) -> #REF! | G17: =SUMIFS(#REF!,#REF!,'15년총괄표(실국별)'!$B17) -> #REF! | H17: =C17+F17+G17 -> #REF!
B18: 대변인 | D18: =SUMIFS(#REF!,#REF!,'15년총괄표(실국별)'!$B18) -> #REF! | E18: =SUMIFS(#REF!,#REF!,'15년총괄표(실국별)'!$B18) -> #REF! | F18: =SUMIFS(#REF!,#REF!,'15년총괄표(실국별)'!$B18) -> #REF! | G18: =SUMIFS(#REF!,#REF!,'15년총괄표(실국별)'!$B18) -> #REF! | H18: =C18+F18+G18 -> #REF! | I18: =#REF!+#REF! -> #REF! | J18: =#REF!+#REF! -> #REF! | N18: =#REF!-#REF! -> #REF!
B19: 대외협력담당관 | D19: =SUMIFS(#REF!,#REF!,'15년총괄표(실국별)'!$B19) -> #REF! | E19: =SUMIFS(#REF!,#REF!,'15년총괄표(실국별)'!$B19) -> #REF! | F19: =SUMIFS(#REF!,#REF!,'15년총괄표(실국별)'!$B19) -> #REF! | G19: =SUMIFS(#REF!,#REF!,'15년총괄표(실국별)'!$B19) -> #REF! | H19: =C19+F19+G19 -> #REF!
B20: 보건복지국 | D20: =SUMIFS(#REF!,#REF!,'15년총괄표(실국별)'!$B20) -> #REF! | E20: =SUMIFS(#REF!,#REF!,'15년총괄표(실국별)'!$B20) -> #REF! | F20: =SUMIFS(#REF!,#REF!,'15년총괄표(실국별)'!$B20) -> #REF! | G20: =SUMIFS(#REF!,#REF!,'15년총괄표(실국별)'!$B20) -> #REF! | H20: =C20+F20+G20 -> #REF!
B21: 환경국 | D21: =SUMIFS(#REF!,#REF!,'15년총괄표(실국별)'!$B21) -> #REF! | E21: =SUMIFS(#REF!,#REF!,'15년총괄표(실국별)'!$B21) -> #REF! | F21: =SUMIFS(#REF!,#REF!,'15년총괄표(실국별)'!$B21) -> #REF! | G21: =SUMIFS(#REF!,#REF!,'15년총괄표(실국별)'!$B21) -> #REF! | H21: =C21+F21+G21 -> #REF! | N21: 기금
B22: 여성가족국 | D22: =SUMIFS(#REF!,#REF!,'15년총괄표(실국별)'!$B22) -> #REF! | E22: =SUMIFS(#REF!,#REF!,'15년총괄표(실국별)'!$B22) -> #REF! | F22: =SUMIFS(#REF!,#REF!,'15년총괄표(실국별)'!$B22) -> #REF! | G22: =SUMIFS(#REF!,#REF!,'15년총괄표(실국별)'!$B22) -> #REF! | H22: =C22+F22+G22 -> #REF! | N22: =N18-#REF! -> #REF!
B23: 농업기술원 | D23: =SUMIFS(#REF!,#REF!,'15년총괄표(실국별)'!$B23) -> #REF! | E23: =SUMIFS(#REF!,#REF!,'15년총괄표(실국별)'!$B23) -> #REF! | F23: =SUMIFS(#REF!,#REF!,'15년총괄표(실국별)'!$B23) -> #REF! | G23: =SUMIFS(#REF!,#REF!,'15년총괄표(실국별)'!$B23) -> #REF! | H23: =C23+F23+G23 -> #REF!
B24: 인재개발원 | D24: =SUMIFS(#REF!,#REF!,'15년총괄표(실국별)'!$B24) -> #REF! | E24: =SUMIFS(#REF!,#REF!,'15년총괄표(실국별)'!$B24) -> #REF! | F24: =SUMIFS(#REF!,#REF!,'15년총괄표(실국별)'!$B24) -> #REF! | G24: =SUMIFS(#REF!,#REF!,'15년총괄표(실국별)'!$B24) -> #REF! | H24: =C24+F24+G24 -> #REF!
B25: 보건환경연구원 | D25: =SUMIFS(#REF!,#REF!,'15년총괄표(실국별)'!$B25) -> #REF! | E25: =SUMIFS(#REF!,#REF!,'15년총괄표(실국별)'!$B25) -> #REF! | F25: =SUMIFS(#REF!,#REF!,'15년총괄표(실국별)'!$B25) -> #REF! | G25: =SUMIFS(#REF!,#REF!,'15년총괄표(실국별)'!$B25) -> #REF! | H25: =C25+F25+G25 -> #REF!
B26: 수자원본부 | D26: =SUMIFS(#REF!,#REF!,'15년총괄표(실국별)'!$B26) -> #REF! | E26: =SUMIFS(#REF!,#REF!,'15년총괄표(실국별)'!$B26) -> #REF! | F26: =SUMIFS(#REF!,#REF!,'15년총괄표(실국별)'!$B26) -> #REF! | G26: =SUMIFS(#REF!,#REF!,'15년총괄표(실국별)'!$B26) -> #REF! | H26: =C26+F26+G26 -> #REF! | I26: =#REF!+#REF! -> #REF! | J26: =#REF!+#REF! -> #REF! | N26: =M2-N2 -> 0
B27: 복지여성실 | D27: =SUMIFS(#REF!,#REF!,'15년총괄표(실국별)'!$B27) -> #REF! | E27: =SUMIFS(#REF!,#REF!,'15년총괄표(실국별)'!$B27) -> #REF! | F27: =SUMIFS(#REF!,#REF!,'15년총괄표(실국별)'!$B27) -> #REF! | G27: =SUMIFS(#REF!,#REF!,'15년총괄표(실국별)'!$B27) -> #REF! | H27: =C27+F27+G27 -> #REF!
B28: 균형발전기획실 | D28: =SUMIFS(#REF!,#REF!,'15년총괄표(실국별)'!$B28) -> #REF! | E28: =SUMIFS(#REF!,#REF!,'15년총괄표(실국별)'!$B28) -> #REF! | F28: =SUMIFS(#REF!,#REF!,'15년총괄표(실국별)'!$B28) -> #REF! | G28: =SUMIFS(#REF!,#REF!,'15년총괄표(실국별)'!$B28) -> #REF! | H28: =C28+F28+G28 -> #REF!
B29: 경제실 | D29: =SUMIFS(#REF!,#REF!,'15년총괄표(실국별)'!$B29) -> #REF! | E29: =SUMIFS(#REF!,#REF!,'15년총괄표(실국별)'!$B29) -> #REF! | F29: =SUMIFS(#REF!,#REF!,'15년총괄표(실국별)'!$B29) -> #REF! | G29: =SUMIFS(#REF!,#REF!,'15년총괄표(실국별)'!$B29) -> #REF! | H29: =C29+F29+G29 -> #REF! | N29: 기금
B30: 축산산림국 | D30: =SUMIFS(#REF!,#REF!,'15년총괄표(실국별)'!$B30) -> #REF! | E30: =SUMIFS(#REF!,#REF!,'15년총괄표(실국별)'!$B30) -> #REF! | F30: =SUMIFS(#REF!,#REF!,'15년총괄표(실국별)'!$B30) -> #REF! | G30: =SUMIFS(#REF!,#REF!,'15년총괄표(실국별)'!$B30) -> #REF! | H30: =C30+F30+G30 -> #REF! | N30: =N26-K2 -> 0
B31: 교통국 | D31: =SUMIFS(#REF!,#REF!,'15년총괄표(실국별)'!$B31) -> #REF! | E31: =SUMIFS(#REF!,#REF!,'15년총괄표(실국별)'!$B31) -> #REF! | F31: =SUMIFS(#REF!,#REF!,'15년총괄표(실국별)'!$B31) -> #REF! | G31: =SUMIFS(#REF!,#REF!,'15년총괄표(실국별)'!$B31) -> #REF! | H31: =C31+F31+G31 -> #REF! | I31: =#REF!+#REF! -> #REF! | J31: =#REF!+#REF! -> #REF! | N31: =M7-N7 -> #REF!
B32: 건설국 | D32: =SUMIFS(#REF!,#REF!,'15년총괄표(실국별)'!$B32) -> #REF! | E32: =SUMIFS(#REF!,#REF!,'15년총괄표(실국별)'!$B32) -> #REF! | F32: =SUMIFS(#REF!,#REF!,'15년총괄표(실국별)'!$B32) -> #REF! | G32: =SUMIFS(#REF!,#REF!,'15년총괄표(실국별)'!$B32) -> #REF! | H32: =C32+F32+G32 -> #REF!
B33: 건설본부 | D33: =SUMIFS(#REF!,#REF!,'15년총괄표(실국별)'!$B33) -> #REF! | E33: =SUMIFS(#REF!,#REF!,'15년총괄표(실국별)'!$B33) -> #REF! | F33: =SUMIFS(#REF!,#REF!,'15년총괄표(실국별)'!$B33) -> #REF! | G33: =SUMIFS(#REF!,#REF!,'15년총괄표(실국별)'!$B33) -> #REF! | H33: =C33+F33+G33 -> #REF!
B37: 위원회명 | C37: 일반+기특 | D37: 공기업 | E37: 합계
B38: 감사관 | C38: 914581 | E38: =SUM(C38:D38) -> 914581
B39: 기획조정실 | C39: 3119807801 | D39: 1780946434 | E39: =SUM(C39:D39) -> 4900754235
B40: 도시주택실 | C40: 190109521 | D40: 28360000 | E40: =SUM(C40:D40) -> 218469521
B41: 자치행정국 | C41: 544196314 | E41: =SUM(C41:D41) -> 544196314
B42: 문화체육관광국 | C42: 224243208 | D42: 52484400 | E42: =SUM(C42:D42) -> 276727608
B43: 농정해양국 | C43: 249710070 | E43: =SUM(C43:D43) -> 249710070
B44: 보건복지국 | C44: 2571625696 | E44: =SUM(C44:D44) -> 2571625696
B45: 환경국 | C45: 94671441 | E45: =SUM(C45:D45) -> 94671441
B46: 철도물류국 | C46: 107956457 | E46: =SUM(C46:D46) -> 107956457
B47: 여성가족국 | C47: 1879955306 | E47: =SUM(C47:D47) -> 1879955306
B48: 소방재난본부 | C48: 475412376 | E48: =SUM(C48:D48) -> 475412376
B49: 경제투자실 | C49: 148252370 | D49: 384743740 | E49: =SUM(C49:D49) -> 532996110
B50: 대변인 | C50: 9607826 | E50: =SUM(C50:D50) -> 9607826
B51: 대외협력담당관 | C51: 384069 | E51: =SUM(C51:D51) -> 384069
B52: 복지여성실 | C52: 1353512493 | E52: =SUM(C52:D52) -> 1353512493
B53: 안전행정실 | C53: 69450506 | E53: =SUM(C53:D53) -> 69450506
B54: 균형발전국 | C54: 173302168 | E54: =SUM(C54:D54) -> 173302168
B55: 평생교육국 | C55: 2325292998 | E55: =SUM(C55:D55) -> 2325292998
B56: 축산산림국 | C56: 193048941 | E56: =SUM(C56:D56) -> 193048941
B57: 교통건설국 | C57: 866196185 | E57: =SUM(C57:D57) -> 866196185
B58: 북부소방재난본부 | C58: 1402108 | E58: =SUM(C58:D58) -> 1402108
B59: 의회사무처 | C59: 29930218 | E59: =SUM(C59:D59) -> 29930218
B60: 경기도농업기술원 | C60: 39275302 | E60: =SUM(C60:D60) -> 39275302
B61: 경기도인재개발원 | C61: 8910247 | E61: =SUM(C61:D61) -> 8910247
... B66: 소방서 | C66: 53973769 | E66: =SUM(C66:D66) -> 53973769
B67: 총합계 | C67: =SUM(C38:C66) -> 15556317670 | D67: =SUM(D38:D66) -> 2246534574 | E67: =SUM(C67:D67) -> 17802852244
I167: ◦ 본청 83,000 증 ◦ 북부청 377,000 증
K297: -50000

Sheet 2추총괄표
B1: '14년도 제2회 추경 일반 및 특별회계 세입·세출 예산안[전체예산총괄]
B3: □ 총 괄 | D3: 세입예산증감 | E3: =SUM(D7:E7) -> 0 | F3: 세출예산증감 | G3: =SUM(F7:G7) -> 0
H4: (단위:천원) | M4: (일반+특별+기금) | O4: 특별+기금
B5: 구 분 | C5: 집행부제출(안) | D5: 세입예산(안) | F5: 세출예산(안) | H5: 예산수정(안) | I5: 일반회계 증감(총괄표) | K5: 예비비증감 | L5: 비 고 | M5: 전체 증감(시트) | O5: 비고
D6: 감 액 | E6: 증 액 | F6: 감 액 | G6: 증 액 | I6: 세입 | J6: 세출 | M6: 세입 | N6: 세출
B7: 합 계 | C7: =SUM(C8:C18) -> 0 | D7: =SUM(D8:D18) -> 0 | E7: =SUM(E8:E18) -> 0 | F7: =SUM(F8:F18) -> 0 | G7: =SUM(G8:G18) -> 0 | H7: =SUM(H8:H18) -> 0 | I7: =E25+D25 -> 0 | J7: =F25+G25 -> 0 | K7: =I7-J7 -> 0 | L7: 예비비 증감이 - 예산이면 감액에 + 예산이면 증액에 입력 | M7: =D24+E24 -> 0 | N7: =F24+G24 -> 0 | O7: 0 | P7: 0
B8: 기 타 | C8: 0 | H8: =C8-F8+G8 -> 0 | I8: =D7+E7 -> 0 | J8: =F7+G7 -> 0 | K8: =I8-J8 -> 0
B9: 의회운영위원회 | D9: =SUMIFS('2추일입'!$M$7:$M$638,'2추일입'!$A$7:$A$638,'2추총괄표'!$B9) -> 0 | E9: =SUMIFS('2추일입'!$N$7:$N$638,'2추일입'!$A$7:$A$638,'2추총괄표'!$B9) -> 0 | F9: =SUMIFS('2추일출'!$M$7:$M$463,'2추일출'!$A$7:$A$463,'2추총괄표'!$B9) -> 0 | G9: =SUMIFS('2추일출'!$N$7:$N$463,'2추일출'!$A$7:$A$463,'2추총괄표'!$B9) -> 0 | H9: =C9+F9+G9 -> 0 | I9: 일반회계 증감(시트) | N9: 전체 증감
B10: 기획재정위원회 | D10: =SUMIFS('2추일입'!$M$7:$M$638,'2추일입'!$A$7:$A$638,'2추총괄표'!$B10) -> 0 | E10: =SUMIFS('2추일입'!$N$7:$N$638,'2추일입'!$A$7:$A$638,'2추총괄표'!$B10) -> 0 | F10: =SUMIFS('2추일출'!$M$7:$M$463,'2추일출'!$A$7:$A$463,'2추총괄표'!$B10) -> 0 | G10: =SUMIFS('2추일출'!$N$7:$N$463,'2추일출'!$A$7:$A$463,'2추총괄표'!$B10) -> 0 | H10: =C10+F10+G10 -> 0 | I10: =#REF!+#REF! -> #REF! | J10: =#REF!+#REF! -> #REF! | N10: =M7-N7 -> 0
B11: 경제과학기술위원회 | D11: =SUMIFS('2추일입'!$M$7:$M$638,'2추일입'!$A$7:$A$638,'2추총괄표'!$B11) -> 0 | E11: =SUMIFS('2추일입'!$N$7:$N$638,'2추일입'!$A$7:$A$638,'2추총괄표'!$B11) -> 0 | F11: =SUMIFS('2추일출'!$M$7:$M$463,'2추일출'!$A$7:$A$463,'2추총괄표'!$B11) -> 0 | G11: =SUMIFS('2추일출'!$N$7:$N$463,'2추일출'!$A$7:$A$463,'2추총괄표'!$B11) -> 0 | H11: =C11+F11+G11 -> 0
B12: 안전행정위원회 | D12: =SUMIFS('2추일입'!$M$7:$M$638,'2추일입'!$A$7:$A$638,'2추총괄표'!$B12) -> 0 | E12: =SUMIFS('2추일입'!$N$7:$N$638,'2추일입'!$A$7:$A$638,'2추총괄표'!$B12) -> 0 | F12: =SUMIFS('2추일출'!$M$7:$M$463,'2추일출'!$A$7:$A$463,'2추총괄표'!$B12) -> 0 | G12: =SUMIFS('2추일출'!$N$7:$N$463,'2추일출'!$A$7:$A$463,'2추총괄표'!$B12) -> 0 | H12: =C12+F12+G12 -> 0
B13: 문화체육관광위원회 | D13: =SUMIFS('2추일입'!$M$7:$M$638,'2추일입'!$A$7:$A$638,'2추총괄표'!$B13) -> 0 | E13: =SUMIFS('2추일입'!$N$7:$N$638,'2추일입'!$A$7:$A$638,'2추총괄표'!$B13) -> 0 | F13: =SUMIFS('2추일출'!$M$7:$M$463,'2추일출'!$A$7:$A$463,'2추총괄표'!$B13) -> 0 | G13: =SUMIFS('2추일출'!$N$7:$N$463,'2추일출'!$A$7:$A$463,'2추총괄표'!$B13) -> 0 | H13: =C13+F13+G13 -> 0 | N13: 기금
B14: 농정해양위원회 | D14: =SUMIFS('2추일입'!$M$7:$M$638,'2추일입'!$A$7:$A$638,'2추총괄표'!$B14) -> 0 | E14: =SUMIFS('2추일입'!$N$7:$N$638,'2추일입'!$A$7:$A$638,'2추총괄표'!$B14) -> 0 | F14: =SUMIFS('2추일출'!$M$7:$M$463,'2추일출'!$A$7:$A$463,'2추총괄표'!$B14) -> 0 | G14: =SUMIFS('2추일출'!$N$7:$N$463,'2추일출'!$A$7:$A$463,'2추총괄표'!$B14) -> 0 | H14: =C14+F14+G14 -> 0 | N14: =N10-K7 -> 0
B15: 보건복지위원회 | D15: =SUMIFS('2추일입'!$M$7:$M$638,'2추일입'!$A$7:$A$638,'2추총괄표'!$B15) -> 0 | E15: =SUMIFS('2추일입'!$N$7:$N$638,'2추일입'!$A$7:$A$638,'2추총괄표'!$B15) -> 0 | F15: =SUMIFS('2추일출'!$M$7:$M$463,'2추일출'!$A$7:$A$463,'2추총괄표'!$B15) -> 0 | G15: =SUMIFS('2추일출'!$N$7:$N$463,'2추일출'!$A$7:$A$463,'2추총괄표'!$B15) -> 0 | H15: =C15+F15+G15 -> 0
B16: 건설교통위원회 | D16: =SUMIFS('2추일입'!$M$7:$M$638,'2추일입'!$A$7:$A$638,'2추총괄표'!$B16) -> 0 | E16: =SUMIFS('2추일입'!$N$7:$N$638,'2추일입'!$A$7:$A$638,'2추총괄표'!$B16) -> 0 | F16: =SUMIFS('2추일출'!$M$7:$M$463,'2추일출'!$A$7:$A$463,'2추총괄표'!$B16) -> 0 | G16: =SUMIFS('2추일출'!$N$7:$N$463,'2추일출'!$A$7:$A$463,'2추총괄표'!$B16) -> 0 | H16: =C16+F16+G16 -> 0
B17: 도시환경위원회 | D17: =SUMIFS('2추일입'!$M$7:$M$638,'2추일입'!$A$7:$A$638,'2추총괄표'!$B17) -> 0 | E17: =SUMIFS('2추일입'!$N$7:$N$638,'2추일입'!$A$7:$A$638,'2추총괄표'!$B17) -> 0 | F17: =SUMIFS('2추일출'!$M$7:$M$463,'2추일출'!$A$7:$A$463,'2추총괄표'!$B17) -> 0 | G17: =SUMIFS('2추일출'!$N$7:$N$463,'2추일출'!$A$7:$A$463,'2추총괄표'!$B17) -> 0 | H17: =C17+F17+G17 -> 0
B18: 여성가족교육협력위원회 | D18: =SUMIFS('2추일입'!$M$7:$M$638,'2추일입'!$A$7:$A$638,'2추총괄표'!$B18) -> 0 | E18: =SUMIFS('2추일입'!$N$7:$N$638,'2추일입'!$A$7:$A$638,'2추총괄표'!$B18) -> 0 | F18: =SUMIFS('2추일출'!$M$7:$M$463,'2추일출'!$A$7:$A$463,'2추총괄표'!$B18) -> 0 | G18: =SUMIFS('2추일출'!$N$7:$N$463,'2추일출'!$A$7:$A$463,'2추총괄표'!$B18) -> 0 | H18: =C18+F18+G18 -> 0
B20: □ 회계별 예산총규모
H21: (단위:천원)
B22: 구 분 | C22: 세출예산액 (집행부제출 안) | D22: 세입예산(안) | F22: 세출예산(안) | H22: 예산수정(안)
D23: 감 액 | E23: 증 액 | F23: 감 액 | G23: 증 액 | I23: 세입기준 수정예산안
B24: 합 계 | C24: =SUM(C25:C26) -> 0 | D24: =SUM(D25:D26) -> 0 | E24: =SUM(E25:E26) -> 0 | F24: =SUM(F25:F26) -> 0 | G24: =SUM(G25:G26) -> 0 | H24: =SUM(H25:H26) -> 0 | I24: =C24+D24+E24 -> 0 | J24: =I24-H24 -> 0 | K24: (세출기준-세입기준)
B25: 일반회계 | D25: ='2추일입'!$M$6 -> 0 | E25: ='2추일입'!$N$6 -> 0 | F25: ='2추일출'!$M$6 -> 0 | G25: ='2추일출'!$N$6 -> 0 | H25: =C25+F25+G25 -> 0 | I25: =C25+D25+E25 -> 0 | J25: =I25-H25 -> 0 | K25: (세출기준-세입기준)
B26: 특별회계 | H26: =C26+F26+G26 -> 0 | I26: =C26+D26+E26 -> 0 | J26: =I26-H26 -> 0 | K26: (세출기준-세입기준)
B30: 위원회명 | C30: 일반+기특 | D30: 공기업 | E30: 합계
B31: 의회운영위원회 | C31: 39922113 | E31: =SUM(C31:D31) -> 39922113
B32: 기획재정위원회 | C32: 3302571667 | D32: 1780946434 | E32: =SUM(C32:D32) -> 5083518101
B33: 경제과학기술위원회 | C33: 155329320 | D33: 384743740 | E33: =SUM(C33:D33) -> 540073060
B34: 안전행정위원회 | C34: 1142858974 | E34: =SUM(C34:D34) -> 1142858974
B35: 문화체육관광위원회 | C35: 224243208 | D35: 52484400 | E35: =SUM(C35:D35) -> 276727608
B36: 농정해양위원회 | C36: 466978999 | E36: =SUM(C36:D36) -> 466978999
B37: 보건복지위원회 | C37: 3254006708 | E37: =SUM(C37:D37) -> 3254006708
B38: 건설교통위원회 | C38: 1220859831 | E38: =SUM(C38:D38) -> 1220859831
B39: 도시환경위원회 | C39: 866963933 | D39: 28360000 | E39: =SUM(C39:D39) -> 895323933
B40: 여성가족평생교육위원회 | C40: 4882582917 | E40: =SUM(C40:D40) -> 4882582917
B41: 총합계 | C41: =SUM(C31:C40) -> 15556317670 | D41: =SUM(D31:D40) -> 2246534574 | E41: =SUM(C41:D41) -> 17802852244
B43: 예비비 | C43: =3922478-221377 -> 3701101
I160: ◦ 본청 83,000 증 ◦ 북부청 377,000 증
K290: -50000

Sheet 2추총괄표(실국별)
B1: '14년도 제2회 추경 일반 및 특별회계 세입·세출 예산안[전체예산총괄]
B3: □ 총괄(실국별) | E3: =SUM(D7:E7) -> 0 | G3: =SUM(F7:G7) -> 0
H4: (단위:천원) | M4: (일반+특별+기금) | O4: 특별+기금
B5: 구 분 | C5: 집행부제출(안) | D5: 세입예산(안) | F5: 세출예산(안) | H5: 예산수정(안) | I5: 일반회계 증감(총괄표) | K5: 예비비증감 | L5: 비 고 | M5: 전체 증감(시트) | O5: 비고
D6: 감 액 | E6: 증 액 | F6: 감 액 | G6: 증 액 | I6: 세입 | J6: 세출 | M6: 세입 | N6: 세출
B7: 합 계 | C7: =SUM(C8:C33) -> 0 | D7: =SUM(D8:D33) -> 0 | E7: =SUM(E8:E33) -> 0 | F7: =SUM(F8:F33) -> 0 | G7: =SUM(G8:G33) -> 0 | H7: =SUM(H8:H33) -> 0 | I7: =#REF!+#REF! -> #REF! | J7: =#REF!+#REF! -> #REF! | K7: =I7-J7 -> #REF! | L7: 예비비 증감이 - 예산이면 감액에 + 예산이면 증액에 입력 | M7: =#REF!+#REF! -> #REF! | N7: =#REF!+#REF! -> #REF! | O7: 0 | P7: 0
B8: 감사관 | D8: =SUMIFS('2추일입'!$M$7:$M$638,'2추일입'!$B$7:$B$638,'2추총괄표(실국별)'!$B8) -> 0 | E8: =SUMIFS('2추일입'!$N$7:$N$638,'2추일입'!$B$7:$B$638,'2추총괄표(실국별)'!$B8) -> 0 | F8: =SUMIFS('2추일출'!$M$7:$M$463,'2추일출'!$B$7:$B$463,'2추총괄표(실국별)'!$B8) -> 0 | G8: =SUMIFS('2추일출'!$N$7:$N$463,'2추일출'!$B$7:$B$463,'2추총괄표(실국별)'!$B8) -> 0 | H8: =C8+F8+G8 -> 0 | I8: 일반회계 증감(시트) | N8: 전체 증감
B9: 기획조정실 | D9: =SUMIFS('2추일입'!$M$7:$M$638,'2추일입'!$B$7:$B$638,'2추총괄표(실국별)'!$B9) -> 0 | E9: =SUMIFS('2추일입'!$N$7:$N$638,'2추일입'!$B$7:$B$638,'2추총괄표(실국별)'!$B9) -> 0 | F9: =SUMIFS('2추일출'!$M$7:$M$463,'2추일출'!$B$7:$B$463,'2추총괄표(실국별)'!$B9) -> 0 | G9: =SUMIFS('2추일출'!$N$7:$N$463,'2추일출'!$B$7:$B$463,'2추총괄표(실국별)'!$B9) -> 0 | H9: =C9+F9+G9 -> 0 | I9: =#REF!+#REF! -> #REF! | J9: =#REF!+#REF! -> #REF! | N9: =#REF!-#REF! -> #REF!
B10: 도시주택실 | D10: =SUMIFS('2추일입'!$M$7:$M$638,'2추일입'!$B$7:$B$638,'2추총괄표(실국별)'!$B10) -> 0 | E10: =SUMIFS('2추일입'!$N$7:$N$638,'2추일입'!$B$7:$B$638,'2추총괄표(실국별)'!$B10) -> 0 | F10: =SUMIFS('2추일출'!$M$7:$M$463,'2추일출'!$B$7:$B$463,'2추총괄표(실국별)'!$B10) -> 0 | G10: =SUMIFS('2추일출'!$N$7:$N$463,'2추일출'!$B$7:$B$463,'2추총괄표(실국별)'!$B10) -> 0 | H10: =C10+F10+G10 -> 0 | I10: =#REF!+#REF! -> #REF! | J10: =#REF!+#REF! -> #REF! | N10: =#REF!-#REF! -> #REF!
B11: 자치행정국 | D11: =SUMIFS('2추일입'!$M$7:$M$638,'2추일입'!$B$7:$B$638,'2추총괄표(실국별)'!$B11) -> 0 | E11: =SUMIFS('2추일입'!$N$7:$N$638,'2추일입'!$B$7:$B$638,'2추총괄표(실국별)'!$B11) -> 0 | F11: =SUMIFS('2추일출'!$M$7:$M$463,'2추일출'!$B$7:$B$463,'2추총괄표(실국별)'!$B11) -> 0 | G11: =SUMIFS('2추일출'!$N$7:$N$463,'2추일출'!$B$7:$B$463,'2추총괄표(실국별)'!$B11) -> 0 | H11: =C11+F11+G11 -> 0
B12: 교육협력국 | D12: =SUMIFS('2추일입'!$M$7:$M$638,'2추일입'!$B$7:$B$638,'2추총괄표(실국별)'!$B12) -> 0 | E12: =SUMIFS('2추일입'!$N$7:$N$638,'2추일입'!$B$7:$B$638,'2추총괄표(실국별)'!$B12) -> 0 | F12: =SUMIFS('2추일출'!$M$7:$M$463,'2추일출'!$B$7:$B$463,'2추총괄표(실국별)'!$B12) -> 0 | G12: =SUMIFS('2추일출'!$N$7:$N$463,'2추일출'!$B$7:$B$463,'2추총괄표(실국별)'!$B12) -> 0 | H12: =C12+F12+G12 -> 0
B13: 문화체육관광국 | D13: =SUMIFS('2추일입'!$M$7:$M$638,'2추일입'!$B$7:$B$638,'2추총괄표(실국별)'!$B13) -> 0 | E13: =SUMIFS('2추일입'!$N$7:$N$638,'2추일입'!$B$7:$B$638,'2추총괄표(실국별)'!$B13) -> 0 | F13: =SUMIFS('2추일출'!$M$7:$M$463,'2추일출'!$B$7:$B$463,'2추총괄표(실국별)'!$B13) -> 0 | G13: =SUMIFS('2추일출'!$N$7:$N$463,'2추일출'!$B$7:$B$463,'2추총괄표(실국별)'!$B13) -> 0 | H13: =C13+F13+G13 -> 0 | N13: 기금
B14: 농정해양국 | D14: =SUMIFS('2추일입'!$M$7:$M$638,'2추일입'!$B$7:$B$638,'2추총괄표(실국별)'!$B14) -> 0 | E14: =SUMIFS('2추일입'!$N$7:$N$638,'2추일입'!$B$7:$B$638,'2추총괄표(실국별)'!$B14) -> 0 | F14: =SUMIFS('2추일출'!$M$7:$M$463,'2추일출'!$B$7:$B$463,'2추총괄표(실국별)'!$B14) -> 0 | G14: =SUMIFS('2추일출'!$N$7:$N$463,'2추일출'!$B$7:$B$463,'2추총괄표(실국별)'!$B14) -> 0 | H14: =C14+F14+G14 -> 0 | N14: =N10-#REF! -> #REF!
B15: 철도국 | D15: =SUMIFS('2추일입'!$M$7:$M$638,'2추일입'!$B$7:$B$638,'2추총괄표(실국별)'!$B15) -> 0 | E15: =SUMIFS('2추일입'!$N$7:$N$638,'2추일입'!$B$7:$B$638,'2추총괄표(실국별)'!$B15) -> 0 | F15: =SUMIFS('2추일출'!$M$7:$M$463,'2추일출'!$B$7:$B$463,'2추총괄표(실국별)'!$B15) -> 0 | G15: =SUMIFS('2추일출'!$N$7:$N$463,'2추일출'!$B$7:$B$463,'2추총괄표(실국별)'!$B15) -> 0 | H15: =C15+F15+G15 -> 0
B16: 재난안전본부 | D16: =SUMIFS('2추일입'!$M$7:$M$638,'2추일입'!$B$7:$B$638,'2추총괄표(실국별)'!$B16) -> 0 | E16: =SUMIFS('2추일입'!$N$7:$N$638,'2추일입'!$B$7:$B$638,'2추총괄표(실국별)'!$B16) -> 0 | F16: =SUMIFS('2추일출'!$M$7:$M$463,'2추일출'!$B$7:$B$463,'2추총괄표(실국별)'!$B16) -> 0 | G16: =SUMIFS('2추일출'!$N$7:$N$463,'2추일출'!$B$7:$B$463,'2추총괄표(실국별)'!$B16) -> 0 | H16: =C16+F16+G16 -> 0
B17: 의회사무처 | D17: =SUMIFS('2추일입'!$M$7:$M$638,'2추일입'!$B$7:$B$638,'2추총괄표(실국별)'!$B17) -> 0 | E17: =SUMIFS('2추일입'!$N$7:$N$638,'2추일입'!$B$7:$B$638,'2추총괄표(실국별)'!$B17) -> 0 | F17: =SUMIFS('2추일출'!$M$7:$M$463,'2추일출'!$B$7:$B$463,'2추총괄표(실국별)'!$B17) -> 0 | G17: =SUMIFS('2추일출'!$N$7:$N$463,'2추일출'!$B$7:$B$463,'2추총괄표(실국별)'!$B17) -> 0 | H17: =C17+F17+G17 -> 0
B18: 대변인 | D18: =SUMIFS('2추일입'!$M$7:$M$638,'2추일입'!$B$7:$B$638,'2추총괄표(실국별)'!$B18) -> 0 | E18: =SUMIFS('2추일입'!$N$7:$N$638,'2추일입'!$B$7:$B$638,'2추총괄표(실국별)'!$B18) -> 0 | F18: =SUMIFS('2추일출'!$M$7:$M$463,'2추일출'!$B$7:$B$463,'2추총괄표(실국별)'!$B18) -> 0 | G18: =SUMIFS('2추일출'!$N$7:$N$463,'2추일출'!$B$7:$B$463,'2추총괄표(실국별)'!$B18) -> 0 | H18: =C18+F18+G18 -> 0 | I18: =#REF!+#REF! -> #REF! | J18: =#REF!+#REF! -> #REF! | N18: =#REF!-#REF! -> #REF!
B19: 대외협력담당관 | D19: =SUMIFS('2추일입'!$M$7:$M$638,'2추일입'!$B$7:$B$638,'2추총괄표(실국별)'!$B19) -> 0 | E19: =SUMIFS('2추일입'!$N$7:$N$638,'2추일입'!$B$7:$B$638,'2추총괄표(실국별)'!$B19) -> 0 | F19: =SUMIFS('2추일출'!$M$7:$M$463,'2추일출'!$B$7:$B$463,'2추총괄표(실국별)'!$B19) -> 0 | G19: =SUMIFS('2추일출'!$N$7:$N$463,'2추일출'!$B$7:$B$463,'2추총괄표(실국별)'!$B19) -> 0 | H19: =C19+F19+G19 -> 0
B20: 보건복지국 | D20: =SUMIFS('2추일입'!$M$7:$M$638,'2추일입'!$B$7:$B$638,'2추총괄표(실국별)'!$B20) -> 0 | E20: =SUMIFS('2추일입'!$N$7:$N$638,'2추일입'!$B$7:$B$638,'2추총괄표(실국별)'!$B20) -> 0 | F20: =SUMIFS('2추일출'!$M$7:$M$463,'2추일출'!$B$7:$B$463,'2추총괄표(실국별)'!$B20) -> 0 | G20: =SUMIFS('2추일출'!$N$7:$N$463,'2추일출'!$B$7:$B$463,'2추총괄표(실국별)'!$B20) -> 0 | H20: =C20+F20+G20 -> 0
B21: 환경국 | D21: =SUMIFS('2추일입'!$M$7:$M$638,'2추일입'!$B$7:$B$638,'2추총괄표(실국별)'!$B21) -> 0 | E21: =SUMIFS('2추일입'!$N$7:$N$638,'2추일입'!$B$7:$B$638,'2추총괄표(실국별)'!$B21) -> 0 | F21: =SUMIFS('2추일출'!$M$7:$M$463,'2추일출'!$B$7:$B$463,'2추총괄표(실국별)'!$B21) -> 0 | G21: =SUMIFS('2추일출'!$N$7:$N$463,'2추일출'!$B$7:$B$463,'2추총괄표(실국별)'!$B21) -> 0 | H21: =C21+F21+G21 -> 0 | N21: 기금
B22: 여성가족국 | D22: =SUMIFS('2추일입'!$M$7:$M$638,'2추일입'!$B$7:$B$638,'2추총괄표(실국별)'!$B22) -> 0 | E22: =SUMIFS('2추일입'!$N$7:$N$638,'2추일입'!$B$7:$B$638,'2추총괄표(실국별)'!$B22) -> 0 | F22: =SUMIFS('2추일출'!$M$7:$M$463,'2추일출'!$B$7:$B$463,'2추총괄표(실국별)'!$B22) -> 0 | G22: =SUMIFS('2추일출'!$N$7:$N$463,'2추일출'!$B$7:$B$463,'2추총괄표(실국별)'!$B22) -> 0 | H22: =C22+F22+G22 -> 0 | N22: =N18-#REF! -> #REF!
B23: 농업기술원 | D23: =SUMIFS('2추일입'!$M$7:$M$638,'2추일입'!$B$7:$B$638,'2추총괄표(실국별)'!$B23) -> 0 | E23: =SUMIFS('2추일입'!$N$7:$N$638,'2추일입'!$B$7:$B$638,'2추총괄표(실국별)'!$B23) -> 0 | F23: =SUMIFS('2추일출'!$M$7:$M$463,'2추일출'!$B$7:$B$463,'2추총괄표(실국별)'!$B23) -> 0 | G23: =SUMIFS('2추일출'!$N$7:$N$463,'2추일출'!$B$7:$B$463,'2추총괄표(실국별)'!$B23) -> 0 | H23: =C23+F23+G23 -> 0
B24: 인재개발원 | D24: =SUMIFS('2추일입'!$M$7:$M$638,'2추일입'!$B$7:$B$638,'2추총괄표(실국별)'!$B24) -> 0 | E24: =SUMIFS('2추일입'!$N$7:$N$638,'2추일입'!$B$7:$B$638,'2추총괄표(실국별)'!$B24) -> 0 | F24: =SUMIFS('2추일출'!$M$7:$M$463,'2추일출'!$B$7:$B$463,'2추총괄표(실국별)'!$B24) -> 0 | G24: =SUMIFS('2추일출'!$N$7:$N$463,'2추일출'!$B$7:$B$463,'2추총괄표(실국별)'!$B24) -> 0 | H24: =C24+F24+G24 -> 0
B25: 보건환경연구원 | D25: =SUMIFS('2추일입'!$M$7:$M$638,'2추일입'!$B$7:$B$638,'2추총괄표(실국별)'!$B25) -> 0 | E25: =SUMIFS('2추일입'!$N$7:$N$638,'2추일입'!$B$7:$B$638,'2추총괄표(실국별)'!$B25) -> 0 | F25: =SUMIFS('2추일출'!$M$7:$M$463,'2추일출'!$B$7:$B$463,'2추총괄표(실국별)'!$B25) -> 0 | G25: =SUMIFS('2추일출'!$N$7:$N$463,'2추일출'!$B$7:$B$463,'2추총괄표(실국별)'!$B25) -> 0 | H25: =C25+F25+G25 -> 0
B26: 수자원본부 | D26: =SUMIFS('2추일입'!$M$7:$M$638,'2추일입'!$B$7:$B$638,'2추총괄표(실국별)'!$B26) -> 0 | E26: =SUMIFS('2추일입'!$N$7:$N$638,'2추일입'!$B$7:$B$638,'2추총괄표(실국별)'!$B26) -> 0 | F26: =SUMIFS('2추일출'!$M$7:$M$463,'2추일출'!$B$7:$B$463,'2추총괄표(실국별)'!$B26) -> 0 | G26: =SUMIFS('2추일출'!$N$7:$N$463,'2추일출'!$B$7:$B$463,'2추총괄표(실국별)'!$B26) -> 0 | H26: =C26+F26+G26 -> 0 | I26: =#REF!+#REF! -> #REF! | J26: =#REF!+#REF! -> #REF! | N26: =M2-N2 -> 0
B27: 복지여성실 | D27: =SUMIFS('2추일입'!$M$7:$M$638,'2추일입'!$B$7:$B$638,'2추총괄표(실국별)'!$B27) -> 0 | E27: =SUMIFS('2추일입'!$N$7:$N$638,'2추일입'!$B$7:$B$638,'2추총괄표(실국별)'!$B27) -> 0 | F27: =SUMIFS('2추일출'!$M$7:$M$463,'2추일출'!$B$7:$B$463,'2추총괄표(실국별)'!$B27) -> 0 | G27: =SUMIFS('2추일출'!$N$7:$N$463,'2추일출'!$B$7:$B$463,'2추총괄표(실국별)'!$B27) -> 0 | H27: =C27+F27+G27 -> 0
B28: 균형발전기획실 | D28: =SUMIFS('2추일입'!$M$7:$M$638,'2추일입'!$B$7:$B$638,'2추총괄표(실국별)'!$B28) -> 0 | E28: =SUMIFS('2추일입'!$N$7:$N$638,'2추일입'!$B$7:$B$638,'2추총괄표(실국별)'!$B28) -> 0 | F28: =SUMIFS('2추일출'!$M$7:$M$463,'2추일출'!$B$7:$B$463,'2추총괄표(실국별)'!$B28) -> 0 | G28: =SUMIFS('2추일출'!$N$7:$N$463,'2추일출'!$B$7:$B$463,'2추총괄표(실국별)'!$B28) -> 0 | H28: =C28+F28+G28 -> 0
B29: 경제실 | D29: =SUMIFS('2추일입'!$M$7:$M$638,'2추일입'!$B$7:$B$638,'2추총괄표(실국별)'!$B29) -> 0 | E29: =SUMIFS('2추일입'!$N$7:$N$638,'2추일입'!$B$7:$B$638,'2추총괄표(실국별)'!$B29) -> 0 | F29: =SUMIFS('2추일출'!$M$7:$M$463,'2추일출'!$B$7:$B$463,'2추총괄표(실국별)'!$B29) -> 0 | G29: =SUMIFS('2추일출'!$N$7:$N$463,'2추일출'!$B$7:$B$463,'2추총괄표(실국별)'!$B29) -> 0 | H29: =C29+F29+G29 -> 0 | N29: 기금
B30: 축산산림국 | D30: =SUMIFS('2추일입'!$M$7:$M$638,'2추일입'!$B$7:$B$638,'2추총괄표(실국별)'!$B30) -> 0 | E30: =SUMIFS('2추일입'!$N$7:$N$638,'2추일입'!$B$7:$B$638,'2추총괄표(실국별)'!$B30) -> 0 | F30: =SUMIFS('2추일출'!$M$7:$M$463,'2추일출'!$B$7:$B$463,'2추총괄표(실국별)'!$B30) -> 0 | G30: =SUMIFS('2추일출'!$N$7:$N$463,'2추일출'!$B$7:$B$463,'2추총괄표(실국별)'!$B30) -> 0 | H30: =C30+F30+G30 -> 0 | N30: =N26-K2 -> 0
B31: 교통국 | D31: =SUMIFS('2추일입'!$M$7:$M$638,'2추일입'!$B$7:$B$638,'2추총괄표(실국별)'!$B31) -> 0 | E31: =SUMIFS('2추일입'!$N$7:$N$638,'2추일입'!$B$7:$B$638,'2추총괄표(실국별)'!$B31) -> 0 | F31: =SUMIFS('2추일출'!$M$7:$M$463,'2추일출'!$B$7:$B$463,'2추총괄표(실국별)'!$B31) -> 0 | G31: =SUMIFS('2추일출'!$N$7:$N$463,'2추일출'!$B$7:$B$463,'2추총괄표(실국별)'!$B31) -> 0 | H31: =C31+F31+G31 -> 0 | I31: =#REF!+#REF! -> #REF! | J31: =#REF!+#REF! -> #REF! | N31: =M7-N7 -> #REF!
B32: 건설국 | D32: =SUMIFS('2추일입'!$M$7:$M$638,'2추일입'!$B$7:$B$638,'2추총괄표(실국별)'!$B32) -> 0 | E32: =SUMIFS('2추일입'!$N$7:$N$638,'2추일입'!$B$7:$B$638,'2추총괄표(실국별)'!$B32) -> 0 | F32: =SUMIFS('2추일출'!$M$7:$M$463,'2추일출'!$B$7:$B$463,'2추총괄표(실국별)'!$B32) -> 0 | G32: =SUMIFS('2추일출'!$N$7:$N$463,'2추일출'!$B$7:$B$463,'2추총괄표(실국별)'!$B32) -> 0 | H32: =C32+F32+G32 -> 0
B33: 건설본부 | D33: =SUMIFS('2추일입'!$M$7:$M$638,'2추일입'!$B$7:$B$638,'2추총괄표(실국별)'!$B33) -> 0 | E33: =SUMIFS('2추일입'!$N$7:$N$638,'2추일입'!$B$7:$B$638,'2추총괄표(실국별)'!$B33) -> 0 | F33: =SUMIFS('2추일출'!$M$7:$M$463,'2추일출'!$B$7:$B$463,'2추총괄표(실국별)'!$B33) -> 0 | G33: =SUMIFS('2추일출'!$N$7:$N$463,'2추일출'!$B$7:$B$463,'2추총괄표(실국별)'!$B33) -> 0 | H33: =C33+F33+G33 -> 0
B37: 위원회명 | C37: 일반+기특 | D37: 공기업 | E37: 합계
B38: 감사관 | C38: 914581 | E38: =SUM(C38:D38) -> 914581
B39: 기획조정실 | C39: 3119807801 | D39: 1780946434 | E39: =SUM(C39:D39) -> 4900754235
B40: 도시주택실 | C40: 190109521 | D40: 28360000 | E40: =SUM(C40:D40) -> 218469521
B41: 자치행정국 | C41: 544196314 | E41: =SUM(C41:D41) -> 544196314
B42: 문화체육관광국 | C42: 224243208 | D42: 52484400 | E42: =SUM(C42:D42) -> 276727608
B43: 농정해양국 | C43: 249710070 | E43: =SUM(C43:D43) -> 249710070
B44: 보건복지국 | C44: 2571625696 | E44: =SUM(C44:D44) -> 2571625696
B45: 환경국 | C45: 94671441 | E45: =SUM(C45:D45) -> 94671441
B46: 철도물류국 | C46: 107956457 | E46: =SUM(C46:D46) -> 107956457
B47: 여성가족국 | C47: 1879955306 | E47: =SUM(C47:D47) -> 1879955306
B48: 소방재난본부 | C48: 475412376 | E48: =SUM(C48:D48) -> 475412376
B49: 경제투자실 | C49: 148252370 | D49: 384743740 | E49: =SUM(C49:D49) -> 532996110
B50: 대변인 | C50: 9607826 | E50: =SUM(C50:D50) -> 9607826
B51: 대외협력담당관 | C51: 384069 | E51: =SUM(C51:D51) -> 384069
B52: 복지여성실 | C52: 1353512493 | E52: =SUM(C52:D52) -> 1353512493
B53: 안전행정실 | C53: 69450506 | E53: =SUM(C53:D53) -> 69450506
B54: 균형발전국 | C54: 173302168 | E54: =SUM(C54:D54) -> 173302168
B55: 평생교육국 | C55: 2325292998 | E55: =SUM(C55:D55) -> 2325292998
B56: 축산산림국 | C56: 193048941 | E56: =SUM(C56:D56) -> 193048941
B57: 교통건설국 | C57: 866196185 | E57: =SUM(C57:D57) -> 866196185
B58: 북부소방재난본부 | C58: 1402108 | E58: =SUM(C58:D58) -> 1402108
B59: 의회사무처 | C59: 29930218 | E59: =SUM(C59:D59) -> 29930218
B60: 경기도농업기술원 | C60: 39275302 | E60: =SUM(C60:D60) -> 39275302
B61: 경기도인재개발원 | C61: 8910247 | E61: =SUM(C61:D61) -> 8910247
... B66: 소방서 | C66: 53973769 | E66: =SUM(C66:D66) -> 53973769
B67: 총합계 | C67: =SUM(C38:C66) -> 15556317670 | D67: =SUM(D38:D66) -> 2246534574 | E67: =SUM(C67:D67) -> 17802852244
I167: ◦ 본청 83,000 증 ◦ 북부청 377,000 증
K297: -50000

Sheet 2추위원회별
B1: 2014년도 제2회 추경 경기도 일반회계 세입 세출 총괄표
J2: =IF(J6=X6,"OK","@@") -> @@ | O2: =IF(O6=AC6,"OK","@@") -> OK | X2: =IF(X6=J6,"OK","@@") -> @@ | AC2: =IF(AC6=O6,"OK","@@") -> OK
B3: 위원회 및 실국명 | D3: 세입 | R3: 세출
D4: 제2회 추경 예산안 (가) | E4: 기정액 (나) | F4: 제2회 추경 증감액 (다=가-나) | G4: 상임위 제2회 추경 예산안 조정액(라) | I4: 상임위 수정 예산안 (마=가or나+라) | J4: 상임위 재원별 증감액 | L4: 예결위 제2회 추경 예산안 조정액(라) | N4: 예결위 수정 예산안 (마=나+다+라) | O4: 예결위 재원별 증감액 | R4: 제2회 추경 예산안 (가) | S4: 기정액 (나) | T4: 제2회 추경 증감액 (다=가-나) | U4: 상임위 제2회 추경 예산안 조정액(라) | W4: 상임위 수정 예산안 (마=가or나+라) | X4: 상임위 재원별 증감액 | Z4: 예결위 제2회 추경 예산안 조정액(라) | AB4: 예결위 수정 예산안 (마=나+다+라) | AC4: 예결위 재원별 증감액
G5: 감액 | H5: 증액 | J5: 국비 등 | K5: 도 비 | L5: 감액 | M5: 증액 | O5: 국비 등 | P5: 도 비 | U5: 감액 | V5: 증액 | X5: 국비 등 | Y5: 도 비 | Z5: 감액 | AA5: 증액 | AC5: 국비 등 | AD5: 도 비
B6: 합 계 | D6: =SUM(D7:D46)/2 -> 172374190 | E6: =SUM(E7:E46)/2 -> 355839021 | F6: =SUM(F7:F46)/2 -> 355839021 | G6: =SUM(G7:G46)/2 -> -38679750 | H6: =SUM(H7:H46)/2 -> 118478 | I6: =SUM(I7:I46)/2 -> 321860918 | J6: =SUM(J7:J46)/2 -> -38679750 | K6: =SUM(K7:K46)/2 -> 118478 | ... P6: =SUM(P7:P46)/2 -> 0 | R6: =SUM(R7:R46)/2 -> 171607000 | S6: =SUM(S7:S46)/2 -> 388113855 | T6: =SUM(T7:T46)/2 -> 388113855 | U6: =SUM(U7:U46)/2 -> -43551350 | V6: =SUM(V7:V46)/2 -> 0 | W6: =SUM(W7:W46)/2 -> 349109505 | X6: =SUM(X7:X46)/2 -> -43401350 | Y6: =SUM(Y7:Y46)/2 -> -150000 | ... AD6: =SUM(AD7:AD46)/2 -> 0
B7: 의회운영위원회 | D7: =SUM(D8:D10) -> 0 | E7: =SUM(E8:E10) -> 0 | F7: =SUM(F8:F10) -> 0 | G7: =SUM(G8:G10) -> 0 | H7: =SUM(H8:H10) -> 0 | I7: =SUM(I8:I10) -> 0 | J7: =SUM(J8:J10) -> 0 | K7: =SUM(K8:K10) -> 0 | ... P7: =SUM(P8:P10) -> 0 | R7: =SUM(R8:R10) -> 0 | S7: =SUM(S8:S10) -> 0 | T7: =SUM(T8:T10) -> 0 | U7: =SUM(U8:U10) -> 0 | V7: =SUM(V8:V10) -> 0 | W7: =SUM(W8:W10) -> 0 | X7: =SUM(X8:X10) -> 0 | Y7: =SUM(Y8:Y10) -> 0 | ... AD7: =SUM(AD8:AD10) -> 0
A8: 의회운영위원회 | C8: 의회사무처 | D8: =SUMIFS('2추일입'!$G$7:$G$638,'2추일입'!$A$7:$A$638,'2추위원회별'!$A8,'2추일입'!$B$7:$B$638,'2추위원회별'!$C8) -> 0 | E8: =SUMIFS('2추일입'!$H$7:$H$638,'2추일입'!$A$7:$A$638,'2추위원회별'!$A8,'2추일입'!$B$7:$B$638,'2추위원회별'!$C8) -> 0 | F8: =SUMIFS('2추일입'!$H$7:$H$638,'2추일입'!$A$7:$A$638,'2추위원회별'!$A8,'2추일입'!$B$7:$B$638,'2추위원회별'!$C8) -> 0 | G8: =SUMIFS('2추일입'!$J$7:$J$638,'2추일입'!$A$7:$A$638,'2추위원회별'!$A8,'2추일입'!$B$7:$B$638,'2추위원회별'!$C8) -> 0 | H8: =SUMIFS('2추일입'!$K$7:$K$638,'2추일입'!$A$7:$A$638,'2추위원회별'!$A8,'2추일입'!$B$7:$B$638,'2추위원회별'!$C8) -> 0 | I8: =SUMIFS('2추일입'!$L$7:$L$638,'2추일입'!$A$7:$A$638,'2추위원회별'!$A8,'2추일입'!$B$7:$B$638,'2추위원회별'!$C8) -> 0 | J8: =SUMIFS('2추일입'!$V$7:$V$638,'2추일입'!$A$7:$A$638,'2추위원회별'!$A8,'2추일입'!$B$7:$B$638,'2추위원회별'!$C8) -> 0 | K8: =SUMIFS('2추일입'!$W$7:$W$638,'2추일입'!$A$7:$A$638,'2추위원회별'!$A8,'2추일입'!$B$7:$B$638,'2추위원회별'!$C8) -> 0 | L8: =SUMIFS('2추일입'!$M$7:$M$638,'2추일입'!$A$7:$A$638,'2추위원회별'!$A8,'2추일입'!$B$7:$B$638,'2추위원회별'!$C8) -> 0 | M8: =SUMIFS('2추일입'!$N$7:$N$638,'2추일입'!$A$7:$A$638,'2추위원회별'!$A8,'2추일입'!$B$7:$B$638,'2추위원회별'!$C8) -> 0 | N8: =SUMIFS('2추일입'!$O$7:$O$638,'2추일입'!$A$7:$A$638,'2추위원회별'!$A8,'2추일입'!$B$7:$B$638,'2추위원회별'!$C8) -> 0 | O8: =SUMIFS('2추일입'!$AA$7:$AA$638,'2추일입'!$A$7:$A$638,'2추위원회별'!$A8,'2추일입'!$B$7:$B$638,'2추위원회별'!$C8) -> 0 | P8: =SUMIFS('2추일입'!$AB$7:$AB$638,'2추일입'!$A$7:$A$638,'2추위원회별'!$A8,'2추일입'!$B$7:$B$638,'2추위원회별'!$C8) -> 0 | R8: =SUMIFS('2추일출'!$G$7:$G$463,'2추일출'!$A$7:$A$463,'2추위원회별'!$A8,'2추일출'!$B$7:$B$463,'2추위원회별'!$C8) -> 0 | S8: =SUMIFS('2추일출'!$H$7:$H$463,'2추일출'!$A$7:$A$463,'2추위원회별'!$A8,'2추일출'!$B$7:$B$463,'2추위원회별'!$C8) -> 0 | T8: =SUMIFS('2추일출'!$H$7:$H$463,'2추일출'!$A$7:$A$463,'2추위원회별'!$A8,'2추일출'!$B$7:$B$463,'2추위원회별'!$C8) -> 0 | U8: =SUMIFS('2추일출'!$J$7:$J$463,'2추일출'!$A$7:$A$463,'2추위원회별'!$A8,'2추일출'!$B$7:$B$463,'2추위원회별'!$C8) -> 0 | V8: =SUMIFS('2추일출'!$K$7:$K$463,'2추일출'!$A$7:$A$463,'2추위원회별'!$A8,'2추일출'!$B$7:$B$463,'2추위원회별'!$C8) -> 0 | W8: =SUMIFS('2추일출'!$L$7:$L$463,'2추일출'!$A$7:$A$463,'2추위원회별'!$A8,'2추일출'!$B$7:$B$463,'2추위원회별'!$C8) -> 0 | X8: =SUMIFS('2추일출'!$V$7:$V$463,'2추일출'!$A$7:$A$463,'2추위원회별'!$A8,'2추일출'!$B$7:$B$463,'2추위원회별'!$C8) -> 0 | Y8: =SUMIFS('2추일출'!$W$7:$W$463,'2추일출'!$A$7:$A$463,'2추위원회별'!$A8,'2추일출'!$B$7:$B$463,'2추위원회별'!$C8) -> 0 | Z8: =SUMIFS('2추일출'!$M$7:$M$463,'2추일출'!$A$7:$A$463,'2추위원회별'!$A8,'2추일출'!$B$7:$B$463,'2추위원회별'!$C8) -> 0 | AA8: =SUMIFS('2추일출'!$N$7:$N$463,'2추일출'!$A$7:$A$463,'2추위원회별'!$A8,'2추일출'!$B$7:$B$463,'2추위원회별'!$C8) -> 0 | AB8: =SUMIFS('2추일출'!$O$7:$O$463,'2추일출'!$A$7:$A$463,'2추위원회별'!$A8,'2추일출'!$B$7:$B$463,'2추위원회별'!$C8) -> 0 | AC8: =SUMIFS('2추일출'!$AA$7:$AA$463,'2추일출'!$A$7:$A$463,'2추위원회별'!$A8,'2추일출'!$B$7:$B$463,'2추위원회별'!$C8) -> 0 | AD8: =SUMIFS('2추일출'!$AB$7:$AB$463,'2추일출'!$A$7:$A$463,'2추위원회별'!$A8,'2추일출'!$B$7:$B$463,'2추위원회별'!$C8) -> 0
A9: 의회운영위원회 | C9: 대변인 | D9: =SUMIFS('2추일입'!$G$7:$G$638,'2추일입'!$A$7:$A$638,'2추위원회별'!$A9,'2추일입'!$B$7:$B$638,'2추위원회별'!$C9) -> 0 | E9: =SUMIFS('2추일입'!$H$7:$H$638,'2추일입'!$A$7:$A$638,'2추위원회별'!$A9,'2추일입'!$B$7:$B$638,'2추위원회별'!$C9) -> 0 | F9: =SUMIFS('2추일입'!$H$7:$H$638,'2추일입'!$A$7:$A$638,'2추위원회별'!$A9,'2추일입'!$B$7:$B$638,'2추위원회별'!$C9) -> 0 | G9: =SUMIFS('2추일입'!$J$7:$J$638,'2추일입'!$A$7:$A$638,'2추위원회별'!$A9,'2추일입'!$B$7:$B$638,'2추위원회별'!$C9) -> 0 | H9: =SUMIFS('2추일입'!$K$7:$K$638,'2추일입'!$A$7:$A$638,'2추위원회별'!$A9,'2추일입'!$B$7:$B$638,'2추위원회별'!$C9) -> 0 | I9: =SUMIFS('2추일입'!$L$7:$L$638,'2추일입'!$A$7:$A$638,'2추위원회별'!$A9,'2추일입'!$B$7:$B$638,'2추위원회별'!$C9) -> 0 | J9: =SUMIFS('2추일입'!$V$7:$V$638,'2추일입'!$A$7:$A$638,'2추위원회별'!$A9,'2추일입'!$B$7:$B$638,'2추위원회별'!$C9) -> 0 | K9: =SUMIFS('2추일입'!$W$7:$W$638,'2추일입'!$A$7:$A$638,'2추위원회별'!$A9,'2추일입'!$B$7:$B$638,'2추위원회별'!$C9) -> 0 | L9: =SUMIFS('2추일입'!$M$7:$M$638,'2추일입'!$A$7:$A$638,'2추위원회별'!$A9,'2추일입'!$B$7:$B$638,'2추위원회별'!$C9) -> 0 | M9: =SUMIFS('2추일입'!$N$7:$N$638,'2추일입'!$A$7:$A$638,'2추위원회별'!$A9,'2추일입'!$B$7:$B$638,'2추위원회별'!$C9) -> 0 | N9: =SUMIFS('2추일입'!$O$7:$O$638,'2추일입'!$A$7:$A$638,'2추위원회별'!$A9,'2추일입'!$B$7:$B$638,'2추위원회별'!$C9) -> 0 | O9: =SUMIFS('2추일입'!$AA$7:$AA$638,'2추일입'!$A$7:$A$638,'2추위원회별'!$A9,'2추일입'!$B$7:$B$638,'2추위원회별'!$C9) -> 0 | P9: =SUMIFS('2추일입'!$AB$7:$AB$638,'2추일입'!$A$7:$A$638,'2추위원회별'!$A9,'2추일입'!$B$7:$B$638,'2추위원회별'!$C9) -> 0 | R9: =SUMIFS('2추일출'!$G$7:$G$463,'2추일출'!$A$7:$A$463,'2추위원회별'!$A9,'2추일출'!$B$7:$B$463,'2추위원회별'!$C9) -> 0 | S9: =SUMIFS('2추일출'!$H$7:$H$463,'2추일출'!$A$7:$A$463,'2추위원회별'!$A9,'2추일출'!$B$7:$B$463,'2추위원회별'!$C9) -> 0 | T9: =SUMIFS('2추일출'!$H$7:$H$463,'2추일출'!$A$7:$A$463,'2추위원회별'!$A9,'2추일출'!$B$7:$B$463,'2추위원회별'!$C9) -> 0 | U9: =SUMIFS('2추일출'!$J$7:$J$463,'2추일출'!$A$7:$A$463,'2추위원회별'!$A9,'2추일출'!$B$7:$B$463,'2추위원회별'!$C9) -> 0 | V9: =SUMIFS('2추일출'!$K$7:$K$463,'2추일출'!$A$7:$A$463,'2추위원회별'!$A9,'2추일출'!$B$7:$B$463,'2추위원회별'!$C9) -> 0 | W9: =SUMIFS('2추일출'!$L$7:$L$463,'2추일출'!$A$7:$A$463,'2추위원회별'!$A9,'2추일출'!$B$7:$B$463,'2추위원회별'!$C9) -> 0 | X9: =SUMIFS('2추일출'!$V$7:$V$463,'2추일출'!$A$7:$A$463,'2추위원회별'!$A9,'2추일출'!$B$7:$B$463,'2추위원회별'!$C9) -> 0 | Y9: =SUMIFS('2추일출'!$W$7:$W$463,'2추일출'!$A$7:$A$463,'2추위원회별'!$A9,'2추일출'!$B$7:$B$463,'2추위원회별'!$C9) -> 0 | Z9: =SUMIFS('2추일출'!$M$7:$M$463,'2추일출'!$A$7:$A$463,'2추위원회별'!$A9,'2추일출'!$B$7:$B$463,'2추위원회별'!$C9) -> 0 | AA9: =SUMIFS('2추일출'!$N$7:$N$463,'2추일출'!$A$7:$A$463,'2추위원회별'!$A9,'2추일출'!$B$7:$B$463,'2추위원회별'!$C9) -> 0 | AB9: =SUMIFS('2추일출'!$O$7:$O$463,'2추일출'!$A$7:$A$463,'2추위원회별'!$A9,'2추일출'!$B$7:$B$463,'2추위원회별'!$C9) -> 0 | AC9: =SUMIFS('2추일출'!$AA$7:$AA$463,'2추일출'!$A$7:$A$463,'2추위원회별'!$A9,'2추일출'!$B$7:$B$463,'2추위원회별'!$C9) -> 0 | AD9: =SUMIFS('2추일출'!$AB$7:$AB$463,'2추일출'!$A$7:$A$463,'2추위원회별'!$A9,'2추일출'!$B$7:$B$463,'2추위원회별'!$C9) -> 0
A10: 의회운영위원회 | C10: 대외협력담당관 | D10: =SUMIFS('2추일입'!$G$7:$G$638,'2추일입'!$A$7:$A$638,'2추위원회별'!$A10,'2추일입'!$B$7:$B$638,'2추위원회별'!$C10) -> 0 | E10: =SUMIFS('2추일입'!$H$7:$H$638,'2추일입'!$A$7:$A$638,'2추위원회별'!$A10,'2추일입'!$B$7:$B$638,'2추위원회별'!$C10) -> 0 | F10: =SUMIFS('2추일입'!$H$7:$H$638,'2추일입'!$A$7:$A$638,'2추위원회별'!$A10,'2추일입'!$B$7:$B$638,'2추위원회별'!$C10) -> 0 | G10: =SUMIFS('2추일입'!$J$7:$J$638,'2추일입'!$A$7:$A$638,'2추위원회별'!$A10,'2추일입'!$B$7:$B$638,'2추위원회별'!$C10) -> 0 | H10: =SUMIFS('2추일입'!$K$7:$K$638,'2추일입'!$A$7:$A$638,'2추위원회별'!$A10,'2추일입'!$B$7:$B$638,'2추위원회별'!$C10) -> 0 | I10: =SUMIFS('2추일입'!$L$7:$L$638,'2추일입'!$A$7:$A$638,'2추위원회별'!$A10,'2추일입'!$B$7:$B$638,'2추위원회별'!$C10) -> 0 | J10: =SUMIFS('2추일입'!$V$7:$V$638,'2추일입'!$A$7:$A$638,'2추위원회별'!$A10,'2추일입'!$B$7:$B$638,'2추위원회별'!$C10) -> 0 | K10: =SUMIFS('2추일입'!$W$7:$W$638,'2추일입'!$A$7:$A$638,'2추위원회별'!$A10,'2추일입'!$B$7:$B$638,'2추위원회별'!$C10) -> 0 | L10: =SUMIFS('2추일입'!$M$7:$M$638,'2추일입'!$A$7:$A$638,'2추위원회별'!$A10,'2추일입'!$B$7:$B$638,'2추위원회별'!$C10) -> 0 | M10: =SUMIFS('2추일입'!$N$7:$N$638,'2추일입'!$A$7:$A$638,'2추위원회별'!$A10,'2추일입'!$B$7:$B$638,'2추위원회별'!$C10) -> 0 | N10: =SUMIFS('2추일입'!$O$7:$O$638,'2추일입'!$A$7:$A$638,'2추위원회별'!$A10,'2추일입'!$B$7:$B$638,'2추위원회별'!$C10) -> 0 | O10: =SUMIFS('2추일입'!$AA$7:$AA$638,'2추일입'!$A$7:$A$638,'2추위원회별'!$A10,'2추일입'!$B$7:$B$638,'2추위원회별'!$C10) -> 0 | P10: =SUMIFS('2추일입'!$AB$7:$AB$638,'2추일입'!$A$7:$A$638,'2추위원회별'!$A10,'2추일입'!$B$7:$B$638,'2추위원회별'!$C10) -> 0 | R10: =SUMIFS('2추일출'!$G$7:$G$463,'2추일출'!$A$7:$A$463,'2추위원회별'!$A10,'2추일출'!$B$7:$B$463,'2추위원회별'!$C10) -> 0 | S10: =SUMIFS('2추일출'!$H$7:$H$463,'2추일출'!$A$7:$A$463,'2추위원회별'!$A10,'2추일출'!$B$7:$B$463,'2추위원회별'!$C10) -> 0 | T10: =SUMIFS('2추일출'!$H$7:$H$463,'2추일출'!$A$7:$A$463,'2추위원회별'!$A10,'2추일출'!$B$7:$B$463,'2추위원회별'!$C10) -> 0 | U10: =SUMIFS('2추일출'!$J$7:$J$463,'2추일출'!$A$7:$A$463,'2추위원회별'!$A10,'2추일출'!$B$7:$B$463,'2추위원회별'!$C10) -> 0 | V10: =SUMIFS('2추일출'!$K$7:$K$463,'2추일출'!$A$7:$A$463,'2추위원회별'!$A10,'2추일출'!$B$7:$B$463,'2추위원회별'!$C10) -> 0 | W10: =SUMIFS('2추일출'!$L$7:$L$463,'2추일출'!$A$7:$A$463,'2추위원회별'!$A10,'2추일출'!$B$7:$B$463,'2추위원회별'!$C10) -> 0 | X10: =SUMIFS('2추일출'!$V$7:$V$463,'2추일출'!$A$7:$A$463,'2추위원회별'!$A10,'2추일출'!$B$7:$B$463,'2추위원회별'!$C10) -> 0 | Y10: =SUMIFS('2추일출'!$W$7:$W$463,'2추일출'!$A$7:$A$463,'2추위원회별'!$A10,'2추일출'!$B$7:$B$463,'2추위원회별'!$C10) -> 0 | Z10: =SUMIFS('2추일출'!$M$7:$M$463,'2추일출'!$A$7:$A$463,'2추위원회별'!$A10,'2추일출'!$B$7:$B$463,'2추위원회별'!$C10) -> 0 | AA10: =SUMIFS('2추일출'!$N$7:$N$463,'2추일출'!$A$7:$A$463,'2추위원회별'!$A10,'2추일출'!$B$7:$B$463,'2추위원회별'!$C10) -> 0 | AB10: =SUMIFS('2추일출'!$O$7:$O$463,'2추일출'!$A$7:$A$463,'2추위원회별'!$A10,'2추일출'!$B$7:$B$463,'2추위원회별'!$C10) -> 0 | AC10: =SUMIFS('2추일출'!$AA$7:$AA$463,'2추일출'!$A$7:$A$463,'2추위원회별'!$A10,'2추일출'!$B$7:$B$463,'2추위원회별'!$C10) -> 0 | AD10: =SUMIFS('2추일출'!$AB$7:$AB$463,'2추일출'!$A$7:$A$463,'2추위원회별'!$A10,'2추일출'!$B$7:$B$463,'2추위원회별'!$C10) -> 0
B11: 기획재정위원회 | D11: =SUM(D12:D14) -> 0 | E11: =SUM(E12:E14) -> 0 | F11: =SUM(F12:F14) -> 0 | G11: =SUM(G12:G14) -> 0 | H11: =SUM(H12:H14) -> 0 | I11: =SUM(I12:I14) -> 0 | J11: =SUM(J12:J14) -> 0 | K11: =SUM(K12:K14) -> 0 | ... P11: =SUM(P12:P14) -> 0 | R11: =SUM(R12:R14) -> 0 | S11: =SUM(S12:S14) -> 0 | T11: =SUM(T12:T14) -> 0 | U11: =SUM(U12:U14) -> 0 | V11: =SUM(V12:V14) -> 0 | W11: =SUM(W12:W14) -> 0 | X11: =SUM(X12:X14) -> 0 | Y11: =SUM(Y12:Y14) -> 0 | ... AD11: =SUM(AD12:AD14) -> 0
A12: 기획재정위원회 | C12: 감사관 | D12: =SUMIFS('2추일입'!$G$7:$G$638,'2추일입'!$A$7:$A$638,'2추위원회별'!$A12,'2추일입'!$B$7:$B$638,'2추위원회별'!$C12) -> 0 | E12: =SUMIFS('2추일입'!$H$7:$H$638,'2추일입'!$A$7:$A$638,'2추위원회별'!$A12,'2추일입'!$B$7:$B$638,'2추위원회별'!$C12) -> 0 | F12: =SUMIFS('2추일입'!$H$7:$H$638,'2추일입'!$A$7:$A$638,'2추위원회별'!$A12,'2추일입'!$B$7:$B$638,'2추위원회별'!$C12) -> 0 | G12: =SUMIFS('2추일입'!$J$7:$J$638,'2추일입'!$A$7:$A$638,'2추위원회별'!$A12,'2추일입'!$B$7:$B$638,'2추위원회별'!$C12) -> 0 | H12: =SUMIFS('2추일입'!$K$7:$K$638,'2추일입'!$A$7:$A$638,'2추위원회별'!$A12,'2추일입'!$B$7:$B$638,'2추위원회별'!$C12) -> 0 | I12: =SUMIFS('2추일입'!$L$7:$L$638,'2추일입'!$A$7:$A$638,'2추위원회별'!$A12,'2추일입'!$B$7:$B$638,'2추위원회별'!$C12) -> 0 | J12: =SUMIFS('2추일입'!$V$7:$V$638,'2추일입'!$A$7:$A$638,'2추위원회별'!$A12,'2추일입'!$B$7:$B$638,'2추위원회별'!$C12) -> 0 | K12: =SUMIFS('2추일입'!$W$7:$W$638,'2추일입'!$A$7:$A$638,'2추위원회별'!$A12,'2추일입'!$B$7:$B$638,'2추위원회별'!$C12) -> 0 | L12: =SUMIFS('2추일입'!$M$7:$M$638,'2추일입'!$A$7:$A$638,'2추위원회별'!$A12,'2추일입'!$B$7:$B$638,'2추위원회별'!$C12) -> 0 | M12: =SUMIFS('2추일입'!$N$7:$N$638,'2추일입'!$A$7:$A$638,'2추위원회별'!$A12,'2추일입'!$B$7:$B$638,'2추위원회별'!$C12) -> 0 | N12: =SUMIFS('2추일입'!$O$7:$O$638,'2추일입'!$A$7:$A$638,'2추위원회별'!$A12,'2추일입'!$B$7:$B$638,'2추위원회별'!$C12) -> 0 | O12: =SUMIFS('2추일입'!$AA$7:$AA$638,'2추일입'!$A$7:$A$638,'2추위원회별'!$A12,'2추일입'!$B$7:$B$638,'2추위원회별'!$C12) -> 0 | P12: =SUMIFS('2추일입'!$AB$7:$AB$638,'2추일입'!$A$7:$A$638,'2추위원회별'!$A12,'2추일입'!$B$7:$B$638,'2추위원회별'!$C12) -> 0 | R12: =SUMIFS('2추일출'!$G$7:$G$463,'2추일출'!$A$7:$A$463,'2추위원회별'!$A12,'2추일출'!$B$7:$B$463,'2추위원회별'!$C12) -> 0 | S12: =SUMIFS('2추일출'!$H$7:$H$463,'2추일출'!$A$7:$A$463,'2추위원회별'!$A12,'2추일출'!$B$7:$B$463,'2추위원회별'!$C12) -> 0 | T12: =SUMIFS('2추일출'!$H$7:$H$463,'2추일출'!$A$7:$A$463,'2추위원회별'!$A12,'2추일출'!$B$7:$B$463,'2추위원회별'!$C12) -> 0 | U12: =SUMIFS('2추일출'!$J$7:$J$463,'2추일출'!$A$7:$A$463,'2추위원회별'!$A12,'2추일출'!$B$7:$B$463,'2추위원회별'!$C12) -> 0 | V12: =SUMIFS('2추일출'!$K$7:$K$463,'2추일출'!$A$7:$A$463,'2추위원회별'!$A12,'2추일출'!$B$7:$B$463,'2추위원회별'!$C12) -> 0 | W12: =SUMIFS('2추일출'!$L$7:$L$463,'2추일출'!$A$7:$A$463,'2추위원회별'!$A12,'2추일출'!$B$7:$B$463,'2추위원회별'!$C12) -> 0 | X12: =SUMIFS('2추일출'!$V$7:$V$463,'2추일출'!$A$7:$A$463,'2추위원회별'!$A12,'2추일출'!$B$7:$B$463,'2추위원회별'!$C12) -> 0 | Y12: =SUMIFS('2추일출'!$W$7:$W$463,'2추일출'!$A$7:$A$463,'2추위원회별'!$A12,'2추일출'!$B$7:$B$463,'2추위원회별'!$C12) -> 0 | Z12: =SUMIFS('2추일출'!$M$7:$M$463,'2추일출'!$A$7:$A$463,'2추위원회별'!$A12,'2추일출'!$B$7:$B$463,'2추위원회별'!$C12) -> 0 | AA12: =SUMIFS('2추일출'!$N$7:$N$463,'2추일출'!$A$7:$A$463,'2추위원회별'!$A12,'2추일출'!$B$7:$B$463,'2추위원회별'!$C12) -> 0 | AB12: =SUMIFS('2추일출'!$O$7:$O$463,'2추일출'!$A$7:$A$463,'2추위원회별'!$A12,'2추일출'!$B$7:$B$463,'2추위원회별'!$C12) -> 0 | AC12: =SUMIFS('2추일출'!$AA$7:$AA$463,'2추일출'!$A$7:$A$463,'2추위원회별'!$A12,'2추일출'!$B$7:$B$463,'2추위원회별'!$C12) -> 0 | AD12: =SUMIFS('2추일출'!$AB$7:$AB$463,'2추일출'!$A$7:$A$463,'2추위원회별'!$A12,'2추일출'!$B$7:$B$463,'2추위원회별'!$C12) -> 0
A13: 기획재정위원회 | C13: 기획조정실 | D13: =SUMIFS('2추일입'!$G$7:$G$638,'2추일입'!$A$7:$A$638,'2추위원회별'!$A13,'2추일입'!$B$7:$B$638,'2추위원회별'!$C13) -> 0 | E13: =SUMIFS('2추일입'!$H$7:$H$638,'2추일입'!$A$7:$A$638,'2추위원회별'!$A13,'2추일입'!$B$7:$B$638,'2추위원회별'!$C13) -> 0 | F13: =SUMIFS('2추일입'!$H$7:$H$638,'2추일입'!$A$7:$A$638,'2추위원회별'!$A13,'2추일입'!$B$7:$B$638,'2추위원회별'!$C13) -> 0 | G13: =SUMIFS('2추일입'!$J$7:$J$638,'2추일입'!$A$7:$A$638,'2추위원회별'!$A13,'2추일입'!$B$7:$B$638,'2추위원회별'!$C13) -> 0 | H13: =SUMIFS('2추일입'!$K$7:$K$638,'2추일입'!$A$7:$A$638,'2추위원회별'!$A13,'2추일입'!$B$7:$B$638,'2추위원회별'!$C13) -> 0 | I13: =SUMIFS('2추일입'!$L$7:$L$638,'2추일입'!$A$7:$A$638,'2추위원회별'!$A13,'2추일입'!$B$7:$B$638,'2추위원회별'!$C13) -> 0 | J13: =SUMIFS('2추일입'!$V$7:$V$638,'2추일입'!$A$7:$A$638,'2추위원회별'!$A13,'2추일입'!$B$7:$B$638,'2추위원회별'!$C13) -> 0 | K13: =SUMIFS('2추일입'!$W$7:$W$638,'2추일입'!$A$7:$A$638,'2추위원회별'!$A13,'2추일입'!$B$7:$B$638,'2추위원회별'!$C13) -> 0 | L13: =SUMIFS('2추일입'!$M$7:$M$638,'2추일입'!$A$7:$A$638,'2추위원회별'!$A13,'2추일입'!$B$7:$B$638,'2추위원회별'!$C13) -> 0 | M13: =SUMIFS('2추일입'!$N$7:$N$638,'2추일입'!$A$7:$A$638,'2추위원회별'!$A13,'2추일입'!$B$7:$B$638,'2추위원회별'!$C13) -> 0 | N13: =SUMIFS('2추일입'!$O$7:$O$638,'2추일입'!$A$7:$A$638,'2추위원회별'!$A13,'2추일입'!$B$7:$B$638,'2추위원회별'!$C13) -> 0 | O13: =SUMIFS('2추일입'!$AA$7:$AA$638,'2추일입'!$A$7:$A$638,'2추위원회별'!$A13,'2추일입'!$B$7:$B$638,'2추위원회별'!$C13) -> 0 | P13: =SUMIFS('2추일입'!$AB$7:$AB$638,'2추일입'!$A$7:$A$638,'2추위원회별'!$A13,'2추일입'!$B$7:$B$638,'2추위원회별'!$C13) -> 0 | R13: =SUMIFS('2추일출'!$G$7:$G$463,'2추일출'!$A$7:$A$463,'2추위원회별'!$A13,'2추일출'!$B$7:$B$463,'2추위원회별'!$C13) -> 0 | S13: =SUMIFS('2추일출'!$H$7:$H$463,'2추일출'!$A$7:$A$463,'2추위원회별'!$A13,'2추일출'!$B$7:$B$463,'2추위원회별'!$C13) -> 0 | T13: =SUMIFS('2추일출'!$H$7:$H$463,'2추일출'!$A$7:$A$463,'2추위원회별'!$A13,'2추일출'!$B$7:$B$463,'2추위원회별'!$C13) -> 0 | U13: =SUMIFS('2추일출'!$J$7:$J$463,'2추일출'!$A$7:$A$463,'2추위원회별'!$A13,'2추일출'!$B$7:$B$463,'2추위원회별'!$C13) -> 0 | V13: =SUMIFS('2추일출'!$K$7:$K$463,'2추일출'!$A$7:$A$463,'2추위원회별'!$A13,'2추일출'!$B$7:$B$463,'2추위원회별'!$C13) -> 0 | W13: =SUMIFS('2추일출'!$L$7:$L$463,'2추일출'!$A$7:$A$463,'2추위원회별'!$A13,'2추일출'!$B$7:$B$463,'2추위원회별'!$C13) -> 0 | X13: =SUMIFS('2추일출'!$V$7:$V$463,'2추일출'!$A$7:$A$463,'2추위원회별'!$A13,'2추일출'!$B$7:$B$463,'2추위원회별'!$C13) -> 0 | Y13: =SUMIFS('2추일출'!$W$7:$W$463,'2추일출'!$A$7:$A$463,'2추위원회별'!$A13,'2추일출'!$B$7:$B$463,'2추위원회별'!$C13) -> 0 | Z13: =SUMIFS('2추일출'!$M$7:$M$463,'2추일출'!$A$7:$A$463,'2추위원회별'!$A13,'2추일출'!$B$7:$B$463,'2추위원회별'!$C13) -> 0 | AA13: =SUMIFS('2추일출'!$N$7:$N$463,'2추일출'!$A$7:$A$463,'2추위원회별'!$A13,'2추일출'!$B$7:$B$463,'2추위원회별'!$C13) -> 0 | AB13: =SUMIFS('2추일출'!$O$7:$O$463,'2추일출'!$A$7:$A$463,'2추위원회별'!$A13,'2추일출'!$B$7:$B$463,'2추위원회별'!$C13) -> 0 | AC13: =SUMIFS('2추일출'!$AA$7:$AA$463,'2추일출'!$A$7:$A$463,'2추위원회별'!$A13,'2추일출'!$B$7:$B$463,'2추위원회별'!$C13) -> 0 | AD13: =SUMIFS('2추일출'!$AB$7:$AB$463,'2추일출'!$A$7:$A$463,'2추위원회별'!$A13,'2추일출'!$B$7:$B$463,'2추위원회별'!$C13) -> 0
A14: 기획재정위원회 | C14: 균형발전기획실 | D14: =SUMIFS('2추일입'!$G$7:$G$638,'2추일입'!$A$7:$A$638,'2추위원회별'!$A14,'2추일입'!$B$7:$B$638,'2추위원회별'!$C14) -> 0 | E14: =SUMIFS('2추일입'!$H$7:$H$638,'2추일입'!$A$7:$A$638,'2추위원회별'!$A14,'2추일입'!$B$7:$B$638,'2추위원회별'!$C14) -> 0 | F14: =SUMIFS('2추일입'!$H$7:$H$638,'2추일입'!$A$7:$A$638,'2추위원회별'!$A14,'2추일입'!$B$7:$B$638,'2추위원회별'!$C14) -> 0 | G14: =SUMIFS('2추일입'!$J$7:$J$638,'2추일입'!$A$7:$A$638,'2추위원회별'!$A14,'2추일입'!$B$7:$B$638,'2추위원회별'!$C14) -> 0 | H14: =SUMIFS('2추일입'!$K$7:$K$638,'2추일입'!$A$7:$A$638,'2추위원회별'!$A14,'2추일입'!$B$7:$B$638,'2추위원회별'!$C14) -> 0 | I14: =SUMIFS('2추일입'!$L$7:$L$638,'2추일입'!$A$7:$A$638,'2추위원회별'!$A14,'2추일입'!$B$7:$B$638,'2추위원회별'!$C14) -> 0 | J14: =SUMIFS('2추일입'!$V$7:$V$638,'2추일입'!$A$7:$A$638,'2추위원회별'!$A14,'2추일입'!$B$7:$B$638,'2추위원회별'!$C14) -> 0 | K14: =SUMIFS('2추일입'!$W$7:$W$638,'2추일입'!$A$7:$A$638,'2추위원회별'!$A14,'2추일입'!$B$7:$B$638,'2추위원회별'!$C14) -> 0 | L14: =SUMIFS('2추일입'!$M$7:$M$638,'2추일입'!$A$7:$A$638,'2추위원회별'!$A14,'2추일입'!$B$7:$B$638,'2추위원회별'!$C14) -> 0 | M14: =SUMIFS('2추일입'!$N$7:$N$638,'2추일입'!$A$7:$A$638,'2추위원회별'!$A14,'2추일입'!$B$7:$B$638,'2추위원회별'!$C14) -> 0 | N14: =SUMIFS('2추일입'!$O$7:$O$638,'2추일입'!$A$7:$A$638,'2추위원회별'!$A14,'2추일입'!$B$7:$B$638,'2추위원회별'!$C14) -> 0 | O14: =SUMIFS('2추일입'!$AA$7:$AA$638,'2추일입'!$A$7:$A$638,'2추위원회별'!$A14,'2추일입'!$B$7:$B$638,'2추위원회별'!$C14) -> 0 | P14: =SUMIFS('2추일입'!$AB$7:$AB$638,'2추일입'!$A$7:$A$638,'2추위원회별'!$A14,'2추일입'!$B$7:$B$638,'2추위원회별'!$C14) -> 0 | R14: =SUMIFS('2추일출'!$G$7:$G$463,'2추일출'!$A$7:$A$463,'2추위원회별'!$A14,'2추일출'!$B$7:$B$463,'2추위원회별'!$C14) -> 0 | S14: =SUMIFS('2추일출'!$H$7:$H$463,'2추일출'!$A$7:$A$463,'2추위원회별'!$A14,'2추일출'!$B$7:$B$463,'2추위원회별'!$C14) -> 0 | T14: =SUMIFS('2추일출'!$H$7:$H$463,'2추일출'!$A$7:$A$463,'2추위원회별'!$A14,'2추일출'!$B$7:$B$463,'2추위원회별'!$C14) -> 0 | U14: =SUMIFS('2추일출'!$J$7:$J$463,'2추일출'!$A$7:$A$463,'2추위원회별'!$A14,'2추일출'!$B$7:$B$463,'2추위원회별'!$C14) -> 0 | V14: =SUMIFS('2추일출'!$K$7:$K$463,'2추일출'!$A$7:$A$463,'2추위원회별'!$A14,'2추일출'!$B$7:$B$463,'2추위원회별'!$C14) -> 0 | W14: =SUMIFS('2추일출'!$L$7:$L$463,'2추일출'!$A$7:$A$463,'2추위원회별'!$A14,'2추일출'!$B$7:$B$463,'2추위원회별'!$C14) -> 0 | X14: =SUMIFS('2추일출'!$V$7:$V$463,'2추일출'!$A$7:$A$463,'2추위원회별'!$A14,'2추일출'!$B$7:$B$463,'2추위원회별'!$C14) -> 0 | Y14: =SUMIFS('2추일출'!$W$7:$W$463,'2추일출'!$A$7:$A$463,'2추위원회별'!$A14,'2추일출'!$B$7:$B$463,'2추위원회별'!$C14) -> 0 | Z14: =SUMIFS('2추일출'!$M$7:$M$463,'2추일출'!$A$7:$A$463,'2추위원회별'!$A14,'2추일출'!$B$7:$B$463,'2추위원회별'!$C14) -> 0 | AA14: =SUMIFS('2추일출'!$N$7:$N$463,'2추일출'!$A$7:$A$463,'2추위원회별'!$A14,'2추일출'!$B$7:$B$463,'2추위원회별'!$C14) -> 0 | AB14: =SUMIFS('2추일출'!$O$7:$O$463,'2추일출'!$A$7:$A$463,'2추위원회별'!$A14,'2추일출'!$B$7:$B$463,'2추위원회별'!$C14) -> 0 | AC14: =SUMIFS('2추일출'!$AA$7:$AA$463,'2추일출'!$A$7:$A$463,'2추위원회별'!$A14,'2추일출'!$B$7:$B$463,'2추위원회별'!$C14) -> 0 | AD14: =SUMIFS('2추일출'!$AB$7:$AB$463,'2추일출'!$A$7:$A$463,'2추위원회별'!$A14,'2추일출'!$B$7:$B$463,'2추위원회별'!$C14) -> 0
B15: 경제과학기술위원회 | D15: =SUM(D16) -> 0 | E15: =SUM(E16) -> 0 | F15: =SUM(F16) -> 0 | G15: =SUM(G16) -> 0 | H15: =SUM(H16) -> 0 | I15: =SUM(I16) -> 0 | J15: =SUM(J16) -> 0 | K15: =SUM(K16) -> 0 | ... P15: =SUM(P16) -> 0 | R15: =SUM(R16) -> 0 | S15: =SUM(S16) -> 0 | T15: =SUM(T16) -> 0 | U15: =SUM(U16) -> 0 | V15: =SUM(V16) -> 0 | W15: =SUM(W16) -> 0 | X15: =SUM(X16) -> 0 | Y15: =SUM(Y16) -> 0 | ... AD15: =SUM(AD16) -> 0
A16: 경제과학기술위원회 | C16: 경제실 | D16: =SUMIFS('2추일입'!$G$7:$G$638,'2추일입'!$A$7:$A$638,'2추위원회별'!$A16,'2추일입'!$B$7:$B$638,'2추위원회별'!$C16) -> 0 | E16: =SUMIFS('2추일입'!$H$7:$H$638,'2추일입'!$A$7:$A$638,'2추위원회별'!$A16,'2추일입'!$B$7:$B$638,'2추위원회별'!$C16) -> 0 | F16: =SUMIFS('2추일입'!$H$7:$H$638,'2추일입'!$A$7:$A$638,'2추위원회별'!$A16,'2추일입'!$B$7:$B$638,'2추위원회별'!$C16) -> 0 | G16: =SUMIFS('2추일입'!$J$7:$J$638,'2추일입'!$A$7:$A$638,'2추위원회별'!$A16,'2추일입'!$B$7:$B$638,'2추위원회별'!$C16) -> 0 | H16: =SUMIFS('2추일입'!$K$7:$K$638,'2추일입'!$A$7:$A$638,'2추위원회별'!$A16,'2추일입'!$B$7:$B$638,'2추위원회별'!$C16) -> 0 | I16: =SUMIFS('2추일입'!$L$7:$L$638,'2추일입'!$A$7:$A$638,'2추위원회별'!$A16,'2추일입'!$B$7:$B$638,'2추위원회별'!$C16) -> 0 | J16: =SUMIFS('2추일입'!$V$7:$V$638,'2추일입'!$A$7:$A$638,'2추위원회별'!$A16,'2추일입'!$B$7:$B$638,'2추위원회별'!$C16) -> 0 | K16: =SUMIFS('2추일입'!$W$7:$W$638,'2추일입'!$A$7:$A$638,'2추위원회별'!$A16,'2추일입'!$B$7:$B$638,'2추위원회별'!$C16) -> 0 | L16: =SUMIFS('2추일입'!$M$7:$M$638,'2추일입'!$A$7:$A$638,'2추위원회별'!$A16,'2추일입'!$B$7:$B$638,'2추위원회별'!$C16) -> 0 | M16: =SUMIFS('2추일입'!$N$7:$N$638,'2추일입'!$A$7:$A$638,'2추위원회별'!$A16,'2추일입'!$B$7:$B$638,'2추위원회별'!$C16) -> 0 | N16: =SUMIFS('2추일입'!$O$7:$O$638,'2추일입'!$A$7:$A$638,'2추위원회별'!$A16,'2추일입'!$B$7:$B$638,'2추위원회별'!$C16) -> 0 | O16: =SUMIFS('2추일입'!$AA$7:$AA$638,'2추일입'!$A$7:$A$638,'2추위원회별'!$A16,'2추일입'!$B$7:$B$638,'2추위원회별'!$C16) -> 0 | P16: =SUMIFS('2추일입'!$AB$7:$AB$638,'2추일입'!$A$7:$A$638,'2추위원회별'!$A16,'2추일입'!$B$7:$B$638,'2추위원회별'!$C16) -> 0 | R16: =SUMIFS('2추일출'!$G$7:$G$463,'2추일출'!$A$7:$A$463,'2추위원회별'!$A16,'2추일출'!$B$7:$B$463,'2추위원회별'!$C16) -> 0 | S16: =SUMIFS('2추일출'!$H$7:$H$463,'2추일출'!$A$7:$A$463,'2추위원회별'!$A16,'2추일출'!$B$7:$B$463,'2추위원회별'!$C16) -> 0 | T16: =SUMIFS('2추일출'!$H$7:$H$463,'2추일출'!$A$7:$A$463,'2추위원회별'!$A16,'2추일출'!$B$7:$B$463,'2추위원회별'!$C16) -> 0 | U16: =SUMIFS('2추일출'!$J$7:$J$463,'2추일출'!$A$7:$A$463,'2추위원회별'!$A16,'2추일출'!$B$7:$B$463,'2추위원회별'!$C16) -> 0 | V16: =SUMIFS('2추일출'!$K$7:$K$463,'2추일출'!$A$7:$A$463,'2추위원회별'!$A16,'2추일출'!$B$7:$B$463,'2추위원회별'!$C16) -> 0 | W16: =SUMIFS('2추일출'!$L$7:$L$463,'2추일출'!$A$7:$A$463,'2추위원회별'!$A16,'2추일출'!$B$7:$B$463,'2추위원회별'!$C16) -> 0 | X16: =SUMIFS('2추일출'!$V$7:$V$463,'2추일출'!$A$7:$A$463,'2추위원회별'!$A16,'2추일출'!$B$7:$B$463,'2추위원회별'!$C16) -> 0 | Y16: =SUMIFS('2추일출'!$W$7:$W$463,'2추일출'!$A$7:$A$463,'2추위원회별'!$A16,'2추일출'!$B$7:$B$463,'2추위원회별'!$C16) -> 0 | Z16: =SUMIFS('2추일출'!$M$7:$M$463,'2추일출'!$A$7:$A$463,'2추위원회별'!$A16,'2추일출'!$B$7:$B$463,'2추위원회별'!$C16) -> 0 | AA16: =SUMIFS('2추일출'!$N$7:$N$463,'2추일출'!$A$7:$A$463,'2추위원회별'!$A16,'2추일출'!$B$7:$B$463,'2추위원회별'!$C16) -> 0 | AB16: =SUMIFS('2추일출'!$O$7:$O$463,'2추일출'!$A$7:$A$463,'2추위원회별'!$A16,'2추일출'!$B$7:$B$463,'2추위원회별'!$C16) -> 0 | AC16: =SUMIFS('2추일출'!$AA$7:$AA$463,'2추일출'!$A$7:$A$463,'2추위원회별'!$A16,'2추일출'!$B$7:$B$463,'2추위원회별'!$C16) -> 0 | AD16: =SUMIFS('2추일출'!$AB$7:$AB$463,'2추일출'!$A$7:$A$463,'2추위원회별'!$A16,'2추일출'!$B$7:$B$463,'2추위원회별'!$C16) -> 0
B17: 안전행정위원회 | D17: =SUM(D18:D21) -> 0 | E17: =SUM(E18:E21) -> 0 | F17: =SUM(F18:F21) -> 0 | G17: =SUM(G18:G21) -> 0 | H17: =SUM(H18:H21) -> 0 | I17: =SUM(I18:I21) -> 0 | J17: =SUM(J18:J21) -> 0 | K17: =SUM(K18:K21) -> 0 | ... P17: =SUM(P18:P21) -> 0 | R17: =SUM(R18:R21) -> 0 | S17: =SUM(S18:S21) -> 0 | T17: =SUM(T18:T21) -> 0 | U17: =SUM(U18:U21) -> 0 | V17: =SUM(V18:V21) -> 0 | W17: =SUM(W18:W21) -> 0 | X17: =SUM(X18:X21) -> 0 | Y17: =SUM(Y18:Y21) -> 0 | ... AD17: =SUM(AD18:AD21) -> 0
A18: 안전행정위원회 | C18: 자치행정국 | D18: =SUMIFS('2추일입'!$G$7:$G$638,'2추일입'!$A$7:$A$638,'2추위원회별'!$A18,'2추일입'!$B$7:$B$638,'2추위원회별'!$C18) -> 0 | E18: =SUMIFS('2추일입'!$H$7:$H$638,'2추일입'!$A$7:$A$638,'2추위원회별'!$A18,'2추일입'!$B$7:$B$638,'2추위원회별'!$C18) -> 0 | F18: =SUMIFS('2추일입'!$H$7:$H$638,'2추일입'!$A$7:$A$638,'2추위원회별'!$A18,'2추일입'!$B$7:$B$638,'2추위원회별'!$C18) -> 0 | G18: =SUMIFS('2추일입'!$J$7:$J$638,'2추일입'!$A$7:$A$638,'2추위원회별'!$A18,'2추일입'!$B$7:$B$638,'2추위원회별'!$C18) -> 0 | H18: =SUMIFS('2추일입'!$K$7:$K$638,'2추일입'!$A$7:$A$638,'2추위원회별'!$A18,'2추일입'!$B$7:$B$638,'2추위원회별'!$C18) -> 0 | I18: =SUMIFS('2추일입'!$L$7:$L$638,'2추일입'!$A$7:$A$638,'2추위원회별'!$A18,'2추일입'!$B$7:$B$638,'2추위원회별'!$C18) -> 0 | J18: =SUMIFS('2추일입'!$V$7:$V$638,'2추일입'!$A$7:$A$638,'2추위원회별'!$A18,'2추일입'!$B$7:$B$638,'2추위원회별'!$C18) -> 0 | K18: =SUMIFS('2추일입'!$W$7:$W$638,'2추일입'!$A$7:$A$638,'2추위원회별'!$A18,'2추일입'!$B$7:$B$638,'2추위원회별'!$C18) -> 0 | L18: =SUMIFS('2추일입'!$M$7:$M$638,'2추일입'!$A$7:$A$638,'2추위원회별'!$A18,'2추일입'!$B$7:$B$638,'2추위원회별'!$C18) -> 0 | M18: =SUMIFS('2추일입'!$N$7:$N$638,'2추일입'!$A$7:$A$638,'2추위원회별'!$A18,'2추일입'!$B$7:$B$638,'2추위원회별'!$C18) -> 0 | N18: =SUMIFS('2추일입'!$O$7:$O$638,'2추일입'!$A$7:$A$638,'2추위원회별'!$A18,'2추일입'!$B$7:$B$638,'2추위원회별'!$C18) -> 0 | O18: =SUMIFS('2추일입'!$AA$7:$AA$638,'2추일입'!$A$7:$A$638,'2추위원회별'!$A18,'2추일입'!$B$7:$B$638,'2추위원회별'!$C18) -> 0 | P18: =SUMIFS('2추일입'!$AB$7:$AB$638,'2추일입'!$A$7:$A$638,'2추위원회별'!$A18,'2추일입'!$B$7:$B$638,'2추위원회별'!$C18) -> 0 | R18: =SUMIFS('2추일출'!$G$7:$G$463,'2추일출'!$A$7:$A$463,'2추위원회별'!$A18,'2추일출'!$B$7:$B$463,'2추위원회별'!$C18) -> 0 | S18: =SUMIFS('2추일출'!$H$7:$H$463,'2추일출'!$A$7:$A$463,'2추위원회별'!$A18,'2추일출'!$B$7:$B$463,'2추위원회별'!$C18) -> 0 | T18: =SUMIFS('2추일출'!$H$7:$H$463,'2추일출'!$A$7:$A$463,'2추위원회별'!$A18,'2추일출'!$B$7:$B$463,'2추위원회별'!$C18) -> 0 | U18: =SUMIFS('2추일출'!$J$7:$J$463,'2추일출'!$A$7:$A$463,'2추위원회별'!$A18,'2추일출'!$B$7:$B$463,'2추위원회별'!$C18) -> 0 | V18: =SUMIFS('2추일출'!$K$7:$K$463,'2추일출'!$A$7:$A$463,'2추위원회별'!$A18,'2추일출'!$B$7:$B$463,'2추위원회별'!$C18) -> 0 | W18: =SUMIFS('2추일출'!$L$7:$L$463,'2추일출'!$A$7:$A$463,'2추위원회별'!$A18,'2추일출'!$B$7:$B$463,'2추위원회별'!$C18) -> 0 | X18: =SUMIFS('2추일출'!$V$7:$V$463,'2추일출'!$A$7:$A$463,'2추위원회별'!$A18,'2추일출'!$B$7:$B$463,'2추위원회별'!$C18) -> 0 | Y18: =SUMIFS('2추일출'!$W$7:$W$463,'2추일출'!$A$7:$A$463,'2추위원회별'!$A18,'2추일출'!$B$7:$B$463,'2추위원회별'!$C18) -> 0 | Z18: =SUMIFS('2추일출'!$M$7:$M$463,'2추일출'!$A$7:$A$463,'2추위원회별'!$A18,'2추일출'!$B$7:$B$463,'2추위원회별'!$C18) -> 0 | AA18: =SUMIFS('2추일출'!$N$7:$N$463,'2추일출'!$A$7:$A$463,'2추위원회별'!$A18,'2추일출'!$B$7:$B$463,'2추위원회별'!$C18) -> 0 | AB18: =SUMIFS('2추일출'!$O$7:$O$463,'2추일출'!$A$7:$A$463,'2추위원회별'!$A18,'2추일출'!$B$7:$B$463,'2추위원회별'!$C18) -> 0 | AC18: =SUMIFS('2추일출'!$AA$7:$AA$463,'2추일출'!$A$7:$A$463,'2추위원회별'!$A18,'2추일출'!$B$7:$B$463,'2추위원회별'!$C18) -> 0 | AD18: =SUMIFS('2추일출'!$AB$7:$AB$463,'2추일출'!$A$7:$A$463,'2추위원회별'!$A18,'2추일출'!$B$7:$B$463,'2추위원회별'!$C18) -> 0
A19: 안전행정위원회 | C19: 재난안전본부 | D19: =SUMIFS('2추일입'!$G$7:$G$638,'2추일입'!$A$7:$A$638,'2추위원회별'!$A19,'2추일입'!$B$7:$B$638,'2추위원회별'!$C19) -> 0 | E19: =SUMIFS('2추일입'!$H$7:$H$638,'2추일입'!$A$7:$A$638,'2추위원회별'!$A19,'2추일입'!$B$7:$B$638,'2추위원회별'!$C19) -> 0 | F19: =SUMIFS('2추일입'!$H$7:$H$638,'2추일입'!$A$7:$A$638,'2추위원회별'!$A19,'2추일입'!$B$7:$B$638,'2추위원회별'!$C19) -> 0 | G19: =SUMIFS('2추일입'!$J$7:$J$638,'2추일입'!$A$7:$A$638,'2추위원회별'!$A19,'2추일입'!$B$7:$B$638,'2추위원회별'!$C19) -> 0 | H19: =SUMIFS('2추일입'!$K$7:$K$638,'2추일입'!$A$7:$A$638,'2추위원회별'!$A19,'2추일입'!$B$7:$B$638,'2추위원회별'!$C19) -> 0 | I19: =SUMIFS('2추일입'!$L$7:$L$638,'2추일입'!$A$7:$A$638,'2추위원회별'!$A19,'2추일입'!$B$7:$B$638,'2추위원회별'!$C19) -> 0 | J19: =SUMIFS('2추일입'!$V$7:$V$638,'2추일입'!$A$7:$A$638,'2추위원회별'!$A19,'2추일입'!$B$7:$B$638,'2추위원회별'!$C19) -> 0 | K19: =SUMIFS('2추일입'!$W$7:$W$638,'2추일입'!$A$7:$A$638,'2추위원회별'!$A19,'2추일입'!$B$7:$B$638,'2추위원회별'!$C19) -> 0 | L19: =SUMIFS('2추일입'!$M$7:$M$638,'2추일입'!$A$7:$A$638,'2추위원회별'!$A19,'2추일입'!$B$7:$B$638,'2추위원회별'!$C19) -> 0 | M19: =SUMIFS('2추일입'!$N$7:$N$638,'2추일입'!$A$7:$A$638,'2추위원회별'!$A19,'2추일입'!$B$7:$B$638,'2추위원회별'!$C19) -> 0 | N19: =SUMIFS('2추일입'!$O$7:$O$638,'2추일입'!$A$7:$A$638,'2추위원회별'!$A19,'2추일입'!$B$7:$B$638,'2추위원회별'!$C19) -> 0 | O19: =SUMIFS('2추일입'!$AA$7:$AA$638,'2추일입'!$A$7:$A$638,'2추위원회별'!$A19,'2추일입'!$B$7:$B$638,'2추위원회별'!$C19) -> 0 | P19: =SUMIFS('2추일입'!$AB$7:$AB$638,'2추일입'!$A$7:$A$638,'2추위원회별'!$A19,'2추일입'!$B$7:$B$638,'2추위원회별'!$C19) -> 0 | R19: =SUMIFS('2추일출'!$G$7:$G$463,'2추일출'!$A$7:$A$463,'2추위원회별'!$A19,'2추일출'!$B$7:$B$463,'2추위원회별'!$C19) -> 0 | S19: =SUMIFS('2추일출'!$H$7:$H$463,'2추일출'!$A$7:$A$463,'2추위원회별'!$A19,'2추일출'!$B$7:$B$463,'2추위원회별'!$C19) -> 0 | T19: =SUMIFS('2추일출'!$H$7:$H$463,'2추일출'!$A$7:$A$463,'2추위원회별'!$A19,'2추일출'!$B$7:$B$463,'2추위원회별'!$C19) -> 0 | U19: =SUMIFS('2추일출'!$J$7:$J$463,'2추일출'!$A$7:$A$463,'2추위원회별'!$A19,'2추일출'!$B$7:$B$463,'2추위원회별'!$C19) -> 0 | V19: =SUMIFS('2추일출'!$K$7:$K$463,'2추일출'!$A$7:$A$463,'2추위원회별'!$A19,'2추일출'!$B$7:$B$463,'2추위원회별'!$C19) -> 0 | W19: =SUMIFS('2추일출'!$L$7:$L$463,'2추일출'!$A$7:$A$463,'2추위원회별'!$A19,'2추일출'!$B$7:$B$463,'2추위원회별'!$C19) -> 0 | X19: =SUMIFS('2추일출'!$V$7:$V$463,'2추일출'!$A$7:$A$463,'2추위원회별'!$A19,'2추일출'!$B$7:$B$463,'2추위원회별'!$C19) -> 0 | Y19: =SUMIFS('2추일출'!$W$7:$W$463,'2추일출'!$A$7:$A$463,'2추위원회별'!$A19,'2추일출'!$B$7:$B$463,'2추위원회별'!$C19) -> 0 | Z19: =SUMIFS('2추일출'!$M$7:$M$463,'2추일출'!$A$7:$A$463,'2추위원회별'!$A19,'2추일출'!$B$7:$B$463,'2추위원회별'!$C19) -> 0 | AA19: =SUMIFS('2추일출'!$N$7:$N$463,'2추일출'!$A$7:$A$463,'2추위원회별'!$A19,'2추일출'!$B$7:$B$463,'2추위원회별'!$C19) -> 0 | AB19: =SUMIFS('2추일출'!$O$7:$O$463,'2추일출'!$A$7:$A$463,'2추위원회별'!$A19,'2추일출'!$B$7:$B$463,'2추위원회별'!$C19) -> 0 | AC19: =SUMIFS('2추일출'!$AA$7:$AA$463,'2추일출'!$A$7:$A$463,'2추위원회별'!$A19,'2추일출'!$B$7:$B$463,'2추위원회별'!$C19) -> 0 | AD19: =SUMIFS('2추일출'!$AB$7:$AB$463,'2추일출'!$A$7:$A$463,'2추위원회별'!$A19,'2추일출'!$B$7:$B$463,'2추위원회별'!$C19) -> 0
A20: 안전행정위원회 | C20: 균형발전기획실 | D20: =SUMIFS('2추일입'!$G$7:$G$638,'2추일입'!$A$7:$A$638,'2추위원회별'!$A20,'2추일입'!$B$7:$B$638,'2추위원회별'!$C20) -> 0 | E20: =SUMIFS('2추일입'!$H$7:$H$638,'2추일입'!$A$7:$A$638,'2추위원회별'!$A20,'2추일입'!$B$7:$B$638,'2추위원회별'!$C20) -> 0 | F20: =SUMIFS('2추일입'!$H$7:$H$638,'2추일입'!$A$7:$A$638,'2추위원회별'!$A20,'2추일입'!$B$7:$B$638,'2추위원회별'!$C20) -> 0 | G20: =SUMIFS('2추일입'!$J$7:$J$638,'2추일입'!$A$7:$A$638,'2추위원회별'!$A20,'2추일입'!$B$7:$B$638,'2추위원회별'!$C20) -> 0 | H20: =SUMIFS('2추일입'!$K$7:$K$638,'2추일입'!$A$7:$A$638,'2추위원회별'!$A20,'2추일입'!$B$7:$B$638,'2추위원회별'!$C20) -> 0 | I20: =SUMIFS('2추일입'!$L$7:$L$638,'2추일입'!$A$7:$A$638,'2추위원회별'!$A20,'2추일입'!$B$7:$B$638,'2추위원회별'!$C20) -> 0 | J20: =SUMIFS('2추일입'!$V$7:$V$638,'2추일입'!$A$7:$A$638,'2추위원회별'!$A20,'2추일입'!$B$7:$B$638,'2추위원회별'!$C20) -> 0 | K20: =SUMIFS('2추일입'!$W$7:$W$638,'2추일입'!$A$7:$A$638,'2추위원회별'!$A20,'2추일입'!$B$7:$B$638,'2추위원회별'!$C20) -> 0 | L20: =SUMIFS('2추일입'!$M$7:$M$638,'2추일입'!$A$7:$A$638,'2추위원회별'!$A20,'2추일입'!$B$7:$B$638,'2추위원회별'!$C20) -> 0 | M20: =SUMIFS('2추일입'!$N$7:$N$638,'2추일입'!$A$7:$A$638,'2추위원회별'!$A20,'2추일입'!$B$7:$B$638,'2추위원회별'!$C20) -> 0 | N20: =SUMIFS('2추일입'!$O$7:$O$638,'2추일입'!$A$7:$A$638,'2추위원회별'!$A20,'2추일입'!$B$7:$B$638,'2추위원회별'!$C20) -> 0 | O20: =SUMIFS('2추일입'!$AA$7:$AA$638,'2추일입'!$A$7:$A$638,'2추위원회별'!$A20,'2추일입'!$B$7:$B$638,'2추위원회별'!$C20) -> 0 | P20: =SUMIFS('2추일입'!$AB$7:$AB$638,'2추일입'!$A$7:$A$638,'2추위원회별'!$A20,'2추일입'!$B$7:$B$638,'2추위원회별'!$C20) -> 0 | R20: =SUMIFS('2추일출'!$G$7:$G$463,'2추일출'!$A$7:$A$463,'2추위원회별'!$A20,'2추일출'!$B$7:$B$463,'2추위원회별'!$C20) -> 0 | S20: =SUMIFS('2추일출'!$H$7:$H$463,'2추일출'!$A$7:$A$463,'2추위원회별'!$A20,'2추일출'!$B$7:$B$463,'2추위원회별'!$C20) -> 0 | T20: =SUMIFS('2추일출'!$H$7:$H$463,'2추일출'!$A$7:$A$463,'2추위원회별'!$A20,'2추일출'!$B$7:$B$463,'2추위원회별'!$C20) -> 0 | U20: =SUMIFS('2추일출'!$J$7:$J$463,'2추일출'!$A$7:$A$463,'2추위원회별'!$A20,'2추일출'!$B$7:$B$463,'2추위원회별'!$C20) -> 0 | V20: =SUMIFS('2추일출'!$K$7:$K$463,'2추일출'!$A$7:$A$463,'2추위원회별'!$A20,'2추일출'!$B$7:$B$463,'2추위원회별'!$C20) -> 0 | W20: =SUMIFS('2추일출'!$L$7:$L$463,'2추일출'!$A$7:$A$463,'2추위원회별'!$A20,'2추일출'!$B$7:$B$463,'2추위원회별'!$C20) -> 0 | X20: =SUMIFS('2추일출'!$V$7:$V$463,'2추일출'!$A$7:$A$463,'2추위원회별'!$A20,'2추일출'!$B$7:$B$463,'2추위원회별'!$C20) -> 0 | Y20: =SUMIFS('2추일출'!$W$7:$W$463,'2추일출'!$A$7:$A$463,'2추위원회별'!$A20,'2추일출'!$B$7:$B$463,'2추위원회별'!$C20) -> 0 | Z20: =SUMIFS('2추일출'!$M$7:$M$463,'2추일출'!$A$7:$A$463,'2추위원회별'!$A20,'2추일출'!$B$7:$B$463,'2추위원회별'!$C20) -> 0 | AA20: =SUMIFS('2추일출'!$N$7:$N$463,'2추일출'!$A$7:$A$463,'2추위원회별'!$A20,'2추일출'!$B$7:$B$463,'2추위원회별'!$C20) -> 0 | AB20: =SUMIFS('2추일출'!$O$7:$O$463,'2추일출'!$A$7:$A$463,'2추위원회별'!$A20,'2추일출'!$B$7:$B$463,'2추위원회별'!$C20) -> 0 | AC20: =SUMIFS('2추일출'!$AA$7:$AA$463,'2추일출'!$A$7:$A$463,'2추위원회별'!$A20,'2추일출'!$B$7:$B$463,'2추위원회별'!$C20) -> 0 | AD20: =SUMIFS('2추일출'!$AB$7:$AB$463,'2추일출'!$A$7:$A$463,'2추위원회별'!$A20,'2추일출'!$B$7:$B$463,'2추위원회별'!$C20) -> 0
A21: 안전행정위원회 | C21: 인재개발원 | D21: =SUMIFS('2추일입'!$G$7:$G$638,'2추일입'!$A$7:$A$638,'2추위원회별'!$A21,'2추일입'!$B$7:$B$638,'2추위원회별'!$C21) -> 0 | E21: =SUMIFS('2추일입'!$H$7:$H$638,'2추일입'!$A$7:$A$638,'2추위원회별'!$A21,'2추일입'!$B$7:$B$638,'2추위원회별'!$C21) -> 0 | F21: =SUMIFS('2추일입'!$H$7:$H$638,'2추일입'!$A$7:$A$638,'2추위원회별'!$A21,'2추일입'!$B$7:$B$638,'2추위원회별'!$C21) -> 0 | G21: =SUMIFS('2추일입'!$J$7:$J$638,'2추일입'!$A$7:$A$638,'2추위원회별'!$A21,'2추일입'!$B$7:$B$638,'2추위원회별'!$C21) -> 0 | H21: =SUMIFS('2추일입'!$K$7:$K$638,'2추일입'!$A$7:$A$638,'2추위원회별'!$A21,'2추일입'!$B$7:$B$638,'2추위원회별'!$C21) -> 0 | I21: =SUMIFS('2추일입'!$L$7:$L$638,'2추일입'!$A$7:$A$638,'2추위원회별'!$A21,'2추일입'!$B$7:$B$638,'2추위원회별'!$C21) -> 0 | J21: =SUMIFS('2추일입'!$V$7:$V$638,'2추일입'!$A$7:$A$638,'2추위원회별'!$A21,'2추일입'!$B$7:$B$638,'2추위원회별'!$C21) -> 0 | K21: =SUMIFS('2추일입'!$W$7:$W$638,'2추일입'!$A$7:$A$638,'2추위원회별'!$A21,'2추일입'!$B$7:$B$638,'2추위원회별'!$C21) -> 0 | L21: =SUMIFS('2추일입'!$M$7:$M$638,'2추일입'!$A$7:$A$638,'2추위원회별'!$A21,'2추일입'!$B$7:$B$638,'2추위원회별'!$C21) -> 0 | M21: =SUMIFS('2추일입'!$N$7:$N$638,'2추일입'!$A$7:$A$638,'2추위원회별'!$A21,'2추일입'!$B$7:$B$638,'2추위원회별'!$C21) -> 0 | N21: =SUMIFS('2추일입'!$O$7:$O$638,'2추일입'!$A$7:$A$638,'2추위원회별'!$A21,'2추일입'!$B$7:$B$638,'2추위원회별'!$C21) -> 0 | O21: =SUMIFS('2추일입'!$AA$7:$AA$638,'2추일입'!$A$7:$A$638,'2추위원회별'!$A21,'2추일입'!$B$7:$B$638,'2추위원회별'!$C21) -> 0 | P21: =SUMIFS('2추일입'!$AB$7:$AB$638,'2추일입'!$A$7:$A$638,'2추위원회별'!$A21,'2추일입'!$B$7:$B$638,'2추위원회별'!$C21) -> 0 | R21: =SUMIFS('2추일출'!$G$7:$G$463,'2추일출'!$A$7:$A$463,'2추위원회별'!$A21,'2추일출'!$B$7:$B$463,'2추위원회별'!$C21) -> 0 | S21: =SUMIFS('2추일출'!$H$7:$H$463,'2추일출'!$A$7:$A$463,'2추위원회별'!$A21,'2추일출'!$B$7:$B$463,'2추위원회별'!$C21) -> 0 | T21: =SUMIFS('2추일출'!$H$7:$H$463,'2추일출'!$A$7:$A$463,'2추위원회별'!$A21,'2추일출'!$B$7:$B$463,'2추위원회별'!$C21) -> 0 | U21: =SUMIFS('2추일출'!$J$7:$J$463,'2추일출'!$A$7:$A$463,'2추위원회별'!$A21,'2추일출'!$B$7:$B$463,'2추위원회별'!$C21) -> 0 | V21: =SUMIFS('2추일출'!$K$7:$K$463,'2추일출'!$A$7:$A$463,'2추위원회별'!$A21,'2추일출'!$B$7:$B$463,'2추위원회별'!$C21) -> 0 | W21: =SUMIFS('2추일출'!$L$7:$L$463,'2추일출'!$A$7:$A$463,'2추위원회별'!$A21,'2추일출'!$B$7:$B$463,'2추위원회별'!$C21) -> 0 | X21: =SUMIFS('2추일출'!$V$7:$V$463,'2추일출'!$A$7:$A$463,'2추위원회별'!$A21,'2추일출'!$B$7:$B$463,'2추위원회별'!$C21) -> 0 | Y21: =SUMIFS('2추일출'!$W$7:$W$463,'2추일출'!$A$7:$A$463,'2추위원회별'!$A21,'2추일출'!$B$7:$B$463,'2추위원회별'!$C21) -> 0 | Z21: =SUMIFS('2추일출'!$M$7:$M$463,'2추일출'!$A$7:$A$463,'2추위원회별'!$A21,'2추일출'!$B$7:$B$463,'2추위원회별'!$C21) -> 0 | AA21: =SUMIFS('2추일출'!$N$7:$N$463,'2추일출'!$A$7:$A$463,'2추위원회별'!$A21,'2추일출'!$B$7:$B$463,'2추위원회별'!$C21) -> 0 | AB21: =SUMIFS('2추일출'!$O$7:$O$463,'2추일출'!$A$7:$A$463,'2추위원회별'!$A21,'2추일출'!$B$7:$B$463,'2추위원회별'!$C21) -> 0 | AC21: =SUMIFS('2추일출'!$AA$7:$AA$463,'2추일출'!$A$7:$A$463,'2추위원회별'!$A21,'2추일출'!$B$7:$B$463,'2추위원회별'!$C21) -> 0 | AD21: =SUMIFS('2추일출'!$AB$7:$AB$463,'2추일출'!$A$7:$A$463,'2추위원회별'!$A21,'2추일출'!$B$7:$B$463,'2추위원회별'!$C21) -> 0
B22: 문화체육관광위원회 | D22: =SUM(D23) -> 0 | E22: =SUM(E23) -> 0 | F22: =SUM(F23) -> 0 | G22: =SUM(G23) -> 0 | H22: =SUM(H23) -> 0 | I22: =SUM(I23) -> 0 | J22: =SUM(J23) -> 0 | K22: =SUM(K23) -> 0 | ... P22: =SUM(P23) -> 0 | R22: =SUM(R23) -> 0 | S22: =SUM(S23) -> 0 | T22: =SUM(T23) -> 0 | U22: =SUM(U23) -> 0 | V22: =SUM(V23) -> 0 | W22: =SUM(W23) -> 0 | X22: =SUM(X23) -> 0 | Y22: =SUM(Y23) -> 0 | ... AD22: =SUM(AD23) -> 0
A23: 문화체육관광위원회 | C23: 문화체육관광국 | D23: =SUMIFS('2추일입'!$G$7:$G$638,'2추일입'!$A$7:$A$638,'2추위원회별'!$A23,'2추일입'!$B$7:$B$638,'2추위원회별'!$C23) -> 0 | E23: =SUMIFS('2추일입'!$H$7:$H$638,'2추일입'!$A$7:$A$638,'2추위원회별'!$A23,'2추일입'!$B$7:$B$638,'2추위원회별'!$C23) -> 0 | F23: =SUMIFS('2추일입'!$H$7:$H$638,'2추일입'!$A$7:$A$638,'2추위원회별'!$A23,'2추일입'!$B$7:$B$638,'2추위원회별'!$C23) -> 0 | G23: =SUMIFS('2추일입'!$J$7:$J$638,'2추일입'!$A$7:$A$638,'2추위원회별'!$A23,'2추일입'!$B$7:$B$638,'2추위원회별'!$C23) -> 0 | H23: =SUMIFS('2추일입'!$K$7:$K$638,'2추일입'!$A$7:$A$638,'2추위원회별'!$A23,'2추일입'!$B$7:$B$638,'2추위원회별'!$C23) -> 0 | I23: =SUMIFS('2추일입'!$L$7:$L$638,'2추일입'!$A$7:$A$638,'2추위원회별'!$A23,'2추일입'!$B$7:$B$638,'2추위원회별'!$C23) -> 0 | J23: =SUMIFS('2추일입'!$V$7:$V$638,'2추일입'!$A$7:$A$638,'2추위원회별'!$A23,'2추일입'!$B$7:$B$638,'2추위원회별'!$C23) -> 0 | K23: =SUMIFS('2추일입'!$W$7:$W$638,'2추일입'!$A$7:$A$638,'2추위원회별'!$A23,'2추일입'!$B$7:$B$638,'2추위원회별'!$C23) -> 0 | L23: =SUMIFS('2추일입'!$M$7:$M$638,'2추일입'!$A$7:$A$638,'2추위원회별'!$A23,'2추일입'!$B$7:$B$638,'2추위원회별'!$C23) -> 0 | M23: =SUMIFS('2추일입'!$N$7:$N$638,'2추일입'!$A$7:$A$638,'2추위원회별'!$A23,'2추일입'!$B$7:$B$638,'2추위원회별'!$C23) -> 0 | N23: =SUMIFS('2추일입'!$O$7:$O$638,'2추일입'!$A$7:$A$638,'2추위원회별'!$A23,'2추일입'!$B$7:$B$638,'2추위원회별'!$C23) -> 0 | O23: =SUMIFS('2추일입'!$AA$7:$AA$638,'2추일입'!$A$7:$A$638,'2추위원회별'!$A23,'2추일입'!$B$7:$B$638,'2추위원회별'!$C23) -> 0 | P23: =SUMIFS('2추일입'!$AB$7:$AB$638,'2추일입'!$A$7:$A$638,'2추위원회별'!$A23,'2추일입'!$B$7:$B$638,'2추위원회별'!$C23) -> 0 | R23: =SUMIFS('2추일출'!$G$7:$G$463,'2추일출'!$A$7:$A$463,'2추위원회별'!$A23,'2추일출'!$B$7:$B$463,'2추위원회별'!$C23) -> 0 | S23: =SUMIFS('2추일출'!$H$7:$H$463,'2추일출'!$A$7:$A$463,'2추위원회별'!$A23,'2추일출'!$B$7:$B$463,'2추위원회별'!$C23) -> 0 | T23: =SUMIFS('2추일출'!$H$7:$H$463,'2추일출'!$A$7:$A$463,'2추위원회별'!$A23,'2추일출'!$B$7:$B$463,'2추위원회별'!$C23) -> 0 | U23: =SUMIFS('2추일출'!$J$7:$J$463,'2추일출'!$A$7:$A$463,'2추위원회별'!$A23,'2추일출'!$B$7:$B$463,'2추위원회별'!$C23) -> 0 | V23: =SUMIFS('2추일출'!$K$7:$K$463,'2추일출'!$A$7:$A$463,'2추위원회별'!$A23,'2추일출'!$B$7:$B$463,'2추위원회별'!$C23) -> 0 | W23: =SUMIFS('2추일출'!$L$7:$L$463,'2추일출'!$A$7:$A$463,'2추위원회별'!$A23,'2추일출'!$B$7:$B$463,'2추위원회별'!$C23) -> 0 | X23: =SUMIFS('2추일출'!$V$7:$V$463,'2추일출'!$A$7:$A$463,'2추위원회별'!$A23,'2추일출'!$B$7:$B$463,'2추위원회별'!$C23) -> 0 | Y23: =SUMIFS('2추일출'!$W$7:$W$463,'2추일출'!$A$7:$A$463,'2추위원회별'!$A23,'2추일출'!$B$7:$B$463,'2추위원회별'!$C23) -> 0 | Z23: =SUMIFS('2추일출'!$M$7:$M$463,'2추일출'!$A$7:$A$463,'2추위원회별'!$A23,'2추일출'!$B$7:$B$463,'2추위원회별'!$C23) -> 0 | AA23: =SUMIFS('2추일출'!$N$7:$N$463,'2추일출'!$A$7:$A$463,'2추위원회별'!$A23,'2추일출'!$B$7:$B$463,'2추위원회별'!$C23) -> 0 | AB23: =SUMIFS('2추일출'!$O$7:$O$463,'2추일출'!$A$7:$A$463,'2추위원회별'!$A23,'2추일출'!$B$7:$B$463,'2추위원회별'!$C23) -> 0 | AC23: =SUMIFS('2추일출'!$AA$7:$AA$463,'2추일출'!$A$7:$A$463,'2추위원회별'!$A23,'2추일출'!$B$7:$B$463,'2추위원회별'!$C23) -> 0 | AD23: =SUMIFS('2추일출'!$AB$7:$AB$463,'2추일출'!$A$7:$A$463,'2추위원회별'!$A23,'2추일출'!$B$7:$B$463,'2추위원회별'!$C23) -> 0
B24: 농정해양위원회 | D24: =SUM(D25:D27) -> 0 | E24: =SUM(E25:E27) -> 0 | F24: =SUM(F25:F27) -> 0 | G24: =SUM(G25:G27) -> 0 | H24: =SUM(H25:H27) -> 0 | I24: =SUM(I25:I27) -> 0 | J24: =SUM(J25:J27) -> 0 | K24: =SUM(K25:K27) -> 0 | ... P24: =SUM(P25:P27) -> 0 | R24: =SUM(R25:R27) -> 0 | S24: =SUM(S25:S27) -> 0 | T24: =SUM(T25:T27) -> 0 | U24: =SUM(U25:U27) -> 0 | V24: =SUM(V25:V27) -> 0 | W24: =SUM(W25:W27) -> 0 | X24: =SUM(X25:X27) -> 0 | Y24: =SUM(Y25:Y27) -> 0 | ... AD24: =SUM(AD25:AD27) -> 0
A25: 농정해양위원회 | C25: 농정해양국 | D25: =SUMIFS('2추일입'!$G$7:$G$638,'2추일입'!$A$7:$A$638,'2추위원회별'!$A25,'2추일입'!$B$7:$B$638,'2추위원회별'!$C25) -> 0 | E25: =SUMIFS('2추일입'!$H$7:$H$638,'2추일입'!$A$7:$A$638,'2추위원회별'!$A25,'2추일입'!$B$7:$B$638,'2추위원회별'!$C25) -> 0 | F25: =SUMIFS('2추일입'!$H$7:$H$638,'2추일입'!$A$7:$A$638,'2추위원회별'!$A25,'2추일입'!$B$7:$B$638,'2추위원회별'!$C25) -> 0 | G25: =SUMIFS('2추일입'!$J$7:$J$638,'2추일입'!$A$7:$A$638,'2추위원회별'!$A25,'2추일입'!$B$7:$B$638,'2추위원회별'!$C25) -> 0 | H25: =SUMIFS('2추일입'!$K$7:$K$638,'2추일입'!$A$7:$A$638,'2추위원회별'!$A25,'2추일입'!$B$7:$B$638,'2추위원회별'!$C25) -> 0 | I25: =SUMIFS('2추일입'!$L$7:$L$638,'2추일입'!$A$7:$A$638,'2추위원회별'!$A25,'2추일입'!$B$7:$B$638,'2추위원회별'!$C25) -> 0 | J25: =SUMIFS('2추일입'!$V$7:$V$638,'2추일입'!$A$7:$A$638,'2추위원회별'!$A25,'2추일입'!$B$7:$B$638,'2추위원회별'!$C25) -> 0 | K25: =SUMIFS('2추일입'!$W$7:$W$638,'2추일입'!$A$7:$A$638,'2추위원회별'!$A25,'2추일입'!$B$7:$B$638,'2추위원회별'!$C25) -> 0 | L25: =SUMIFS('2추일입'!$M$7:$M$638,'2추일입'!$A$7:$A$638,'2추위원회별'!$A25,'2추일입'!$B$7:$B$638,'2추위원회별'!$C25) -> 0 | M25: =SUMIFS('2추일입'!$N$7:$N$638,'2추일입'!$A$7:$A$638,'2추위원회별'!$A25,'2추일입'!$B$7:$B$638,'2추위원회별'!$C25) -> 0 | N25: =SUMIFS('2추일입'!$O$7:$O$638,'2추일입'!$A$7:$A$638,'2추위원회별'!$A25,'2추일입'!$B$7:$B$638,'2추위원회별'!$C25) -> 0 | O25: =SUMIFS('2추일입'!$AA$7:$AA$638,'2추일입'!$A$7:$A$638,'2추위원회별'!$A25,'2추일입'!$B$7:$B$638,'2추위원회별'!$C25) -> 0 | P25: =SUMIFS('2추일입'!$AB$7:$AB$638,'2추일입'!$A$7:$A$638,'2추위원회별'!$A25,'2추일입'!$B$7:$B$638,'2추위원회별'!$C25) -> 0 | R25: =SUMIFS('2추일출'!$G$7:$G$463,'2추일출'!$A$7:$A$463,'2추위원회별'!$A25,'2추일출'!$B$7:$B$463,'2추위원회별'!$C25) -> 0 | S25: =SUMIFS('2추일출'!$H$7:$H$463,'2추일출'!$A$7:$A$463,'2추위원회별'!$A25,'2추일출'!$B$7:$B$463,'2추위원회별'!$C25) -> 0 | T25: =SUMIFS('2추일출'!$H$7:$H$463,'2추일출'!$A$7:$A$463,'2추위원회별'!$A25,'2추일출'!$B$7:$B$463,'2추위원회별'!$C25) -> 0 | U25: =SUMIFS('2추일출'!$J$7:$J$463,'2추일출'!$A$7:$A$463,'2추위원회별'!$A25,'2추일출'!$B$7:$B$463,'2추위원회별'!$C25) -> 0 | V25: =SUMIFS('2추일출'!$K$7:$K$463,'2추일출'!$A$7:$A$463,'2추위원회별'!$A25,'2추일출'!$B$7:$B$463,'2추위원회별'!$C25) -> 0 | W25: =SUMIFS('2추일출'!$L$7:$L$463,'2추일출'!$A$7:$A$463,'2추위원회별'!$A25,'2추일출'!$B$7:$B$463,'2추위원회별'!$C25) -> 0 | X25: =SUMIFS('2추일출'!$V$7:$V$463,'2추일출'!$A$7:$A$463,'2추위원회별'!$A25,'2추일출'!$B$7:$B$463,'2추위원회별'!$C25) -> 0 | Y25: =SUMIFS('2추일출'!$W$7:$W$463,'2추일출'!$A$7:$A$463,'2추위원회별'!$A25,'2추일출'!$B$7:$B$463,'2추위원회별'!$C25) -> 0 | Z25: =SUMIFS('2추일출'!$M$7:$M$463,'2추일출'!$A$7:$A$463,'2추위원회별'!$A25,'2추일출'!$B$7:$B$463,'2추위원회별'!$C25) -> 0 | AA25: =SUMIFS('2추일출'!$N$7:$N$463,'2추일출'!$A$7:$A$463,'2추위원회별'!$A25,'2추일출'!$B$7:$B$463,'2추위원회별'!$C25) -> 0 | AB25: =SUMIFS('2추일출'!$O$7:$O$463,'2추일출'!$A$7:$A$463,'2추위원회별'!$A25,'2추일출'!$B$7:$B$463,'2추위원회별'!$C25) -> 0 | AC25: =SUMIFS('2추일출'!$AA$7:$AA$463,'2추일출'!$A$7:$A$463,'2추위원회별'!$A25,'2추일출'!$B$7:$B$463,'2추위원회별'!$C25) -> 0 | AD25: =SUMIFS('2추일출'!$AB$7:$AB$463,'2추일출'!$A$7:$A$463,'2추위원회별'!$A25,'2추일출'!$B$7:$B$463,'2추위원회별'!$C25) -> 0
A26: 농정해양위원회 | C26: 축산산림국 | D26: =SUMIFS('2추일입'!$G$7:$G$638,'2추일입'!$A$7:$A$638,'2추위원회별'!$A26,'2추일입'!$B$7:$B$638,'2추위원회별'!$C26) -> 0 | E26: =SUMIFS('2추일입'!$H$7:$H$638,'2추일입'!$A$7:$A$638,'2추위원회별'!$A26,'2추일입'!$B$7:$B$638,'2추위원회별'!$C26) -> 0 | F26: =SUMIFS('2추일입'!$H$7:$H$638,'2추일입'!$A$7:$A$638,'2추위원회별'!$A26,'2추일입'!$B$7:$B$638,'2추위원회별'!$C26) -> 0 | G26: =SUMIFS('2추일입'!$J$7:$J$638,'2추일입'!$A$7:$A$638,'2추위원회별'!$A26,'2추일입'!$B$7:$B$638,'2추위원회별'!$C26) -> 0 | H26: =SUMIFS('2추일입'!$K$7:$K$638,'2추일입'!$A$7:$A$638,'2추위원회별'!$A26,'2추일입'!$B$7:$B$638,'2추위원회별'!$C26) -> 0 | I26: =SUMIFS('2추일입'!$L$7:$L$638,'2추일입'!$A$7:$A$638,'2추위원회별'!$A26,'2추일입'!$B$7:$B$638,'2추위원회별'!$C26) -> 0 | J26: =SUMIFS('2추일입'!$V$7:$V$638,'2추일입'!$A$7:$A$638,'2추위원회별'!$A26,'2추일입'!$B$7:$B$638,'2추위원회별'!$C26) -> 0 | K26: =SUMIFS('2추일입'!$W$7:$W$638,'2추일입'!$A$7:$A$638,'2추위원회별'!$A26,'2추일입'!$B$7:$B$638,'2추위원회별'!$C26) -> 0 | L26: =SUMIFS('2추일입'!$M$7:$M$638,'2추일입'!$A$7:$A$638,'2추위원회별'!$A26,'2추일입'!$B$7:$B$638,'2추위원회별'!$C26) -> 0 | M26: =SUMIFS('2추일입'!$N$7:$N$638,'2추일입'!$A$7:$A$638,'2추위원회별'!$A26,'2추일입'!$B$7:$B$638,'2추위원회별'!$C26) -> 0 | N26: =SUMIFS('2추일입'!$O$7:$O$638,'2추일입'!$A$7:$A$638,'2추위원회별'!$A26,'2추일입'!$B$7:$B$638,'2추위원회별'!$C26) -> 0 | O26: =SUMIFS('2추일입'!$AA$7:$AA$638,'2추일입'!$A$7:$A$638,'2추위원회별'!$A26,'2추일입'!$B$7:$B$638,'2추위원회별'!$C26) -> 0 | P26: =SUMIFS('2추일입'!$AB$7:$AB$638,'2추일입'!$A$7:$A$638,'2추위원회별'!$A26,'2추일입'!$B$7:$B$638,'2추위원회별'!$C26) -> 0 | R26: =SUMIFS('2추일출'!$G$7:$G$463,'2추일출'!$A$7:$A$463,'2추위원회별'!$A26,'2추일출'!$B$7:$B$463,'2추위원회별'!$C26) -> 0 | S26: =SUMIFS('2추일출'!$H$7:$H$463,'2추일출'!$A$7:$A$463,'2추위원회별'!$A26,'2추일출'!$B$7:$B$463,'2추위원회별'!$C26) -> 0 | T26: =SUMIFS('2추일출'!$H$7:$H$463,'2추일출'!$A$7:$A$463,'2추위원회별'!$A26,'2추일출'!$B$7:$B$463,'2추위원회별'!$C26) -> 0 | U26: =SUMIFS('2추일출'!$J$7:$J$463,'2추일출'!$A$7:$A$463,'2추위원회별'!$A26,'2추일출'!$B$7:$B$463,'2추위원회별'!$C26) -> 0 | V26: =SUMIFS('2추일출'!$K$7:$K$463,'2추일출'!$A$7:$A$463,'2추위원회별'!$A26,'2추일출'!$B$7:$B$463,'2추위원회별'!$C26) -> 0 | W26: =SUMIFS('2추일출'!$L$7:$L$463,'2추일출'!$A$7:$A$463,'2추위원회별'!$A26,'2추일출'!$B$7:$B$463,'2추위원회별'!$C26) -> 0 | X26: =SUMIFS('2추일출'!$V$7:$V$463,'2추일출'!$A$7:$A$463,'2추위원회별'!$A26,'2추일출'!$B$7:$B$463,'2추위원회별'!$C26) -> 0 | Y26: =SUMIFS('2추일출'!$W$7:$W$463,'2추일출'!$A$7:$A$463,'2추위원회별'!$A26,'2추일출'!$B$7:$B$463,'2추위원회별'!$C26) -> 0 | Z26: =SUMIFS('2추일출'!$M$7:$M$463,'2추일출'!$A$7:$A$463,'2추위원회별'!$A26,'2추일출'!$B$7:$B$463,'2추위원회별'!$C26) -> 0 | AA26: =SUMIFS('2추일출'!$N$7:$N$463,'2추일출'!$A$7:$A$463,'2추위원회별'!$A26,'2추일출'!$B$7:$B$463,'2추위원회별'!$C26) -> 0 | AB26: =SUMIFS('2추일출'!$O$7:$O$463,'2추일출'!$A$7:$A$463,'2추위원회별'!$A26,'2추일출'!$B$7:$B$463,'2추위원회별'!$C26) -> 0 | AC26: =SUMIFS('2추일출'!$AA$7:$AA$463,'2추일출'!$A$7:$A$463,'2추위원회별'!$A26,'2추일출'!$B$7:$B$463,'2추위원회별'!$C26) -> 0 | AD26: =SUMIFS('2추일출'!$AB$7:$AB$463,'2추일출'!$A$7:$A$463,'2추위원회별'!$A26,'2추일출'!$B$7:$B$463,'2추위원회별'!$C26) -> 0
A27: 농정해양위원회 | C27: 농업기술원 | D27: =SUMIFS('2추일입'!$G$7:$G$638,'2추일입'!$A$7:$A$638,'2추위원회별'!$A27,'2추일입'!$B$7:$B$638,'2추위원회별'!$C27) -> 0 | E27: =SUMIFS('2추일입'!$H$7:$H$638,'2추일입'!$A$7:$A$638,'2추위원회별'!$A27,'2추일입'!$B$7:$B$638,'2추위원회별'!$C27) -> 0 | F27: =SUMIFS('2추일입'!$H$7:$H$638,'2추일입'!$A$7:$A$638,'2추위원회별'!$A27,'2추일입'!$B$7:$B$638,'2추위원회별'!$C27) -> 0 | G27: =SUMIFS('2추일입'!$J$7:$J$638,'2추일입'!$A$7:$A$638,'2추위원회별'!$A27,'2추일입'!$B$7:$B$638,'2추위원회별'!$C27) -> 0 | H27: =SUMIFS('2추일입'!$K$7:$K$638,'2추일입'!$A$7:$A$638,'2추위원회별'!$A27,'2추일입'!$B$7:$B$638,'2추위원회별'!$C27) -> 0 | I27: =SUMIFS('2추일입'!$L$7:$L$638,'2추일입'!$A$7:$A$638,'2추위원회별'!$A27,'2추일입'!$B$7:$B$638,'2추위원회별'!$C27) -> 0 | J27: =SUMIFS('2추일입'!$V$7:$V$638,'2추일입'!$A$7:$A$638,'2추위원회별'!$A27,'2추일입'!$B$7:$B$638,'2추위원회별'!$C27) -> 0 | K27: =SUMIFS('2추일입'!$W$7:$W$638,'2추일입'!$A$7:$A$638,'2추위원회별'!$A27,'2추일입'!$B$7:$B$638,'2추위원회별'!$C27) -> 0 | L27: =SUMIFS('2추일입'!$M$7:$M$638,'2추일입'!$A$7:$A$638,'2추위원회별'!$A27,'2추일입'!$B$7:$B$638,'2추위원회별'!$C27) -> 0 | M27: =SUMIFS('2추일입'!$N$7:$N$638,'2추일입'!$A$7:$A$638,'2추위원회별'!$A27,'2추일입'!$B$7:$B$638,'2추위원회별'!$C27) -> 0 | N27: =SUMIFS('2추일입'!$O$7:$O$638,'2추일입'!$A$7:$A$638,'2추위원회별'!$A27,'2추일입'!$B$7:$B$638,'2추위원회별'!$C27) -> 0 | O27: =SUMIFS('2추일입'!$AA$7:$AA$638,'2추일입'!$A$7:$A$638,'2추위원회별'!$A27,'2추일입'!$B$7:$B$638,'2추위원회별'!$C27) -> 0 | P27: =SUMIFS('2추일입'!$AB$7:$AB$638,'2추일입'!$A$7:$A$638,'2추위원회별'!$A27,'2추일입'!$B$7:$B$638,'2추위원회별'!$C27) -> 0 | R27: =SUMIFS('2추일출'!$G$7:$G$463,'2추일출'!$A$7:$A$463,'2추위원회별'!$A27,'2추일출'!$B$7:$B$463,'2추위원회별'!$C27) -> 0 | S27: =SUMIFS('2추일출'!$H$7:$H$463,'2추일출'!$A$7:$A$463,'2추위원회별'!$A27,'2추일출'!$B$7:$B$463,'2추위원회별'!$C27) -> 0 | T27: =SUMIFS('2추일출'!$H$7:$H$463,'2추일출'!$A$7:$A$463,'2추위원회별'!$A27,'2추일출'!$B$7:$B$463,'2추위원회별'!$C27) -> 0 | U27: =SUMIFS('2추일출'!$J$7:$J$463,'2추일출'!$A$7:$A$463,'2추위원회별'!$A27,'2추일출'!$B$7:$B$463,'2추위원회별'!$C27) -> 0 | V27: =SUMIFS('2추일출'!$K$7:$K$463,'2추일출'!$A$7:$A$463,'2추위원회별'!$A27,'2추일출'!$B$7:$B$463,'2추위원회별'!$C27) -> 0 | W27: =SUMIFS('2추일출'!$L$7:$L$463,'2추일출'!$A$7:$A$463,'2추위원회별'!$A27,'2추일출'!$B$7:$B$463,'2추위원회별'!$C27) -> 0 | X27: =SUMIFS('2추일출'!$V$7:$V$463,'2추일출'!$A$7:$A$463,'2추위원회별'!$A27,'2추일출'!$B$7:$B$463,'2추위원회별'!$C27) -> 0 | Y27: =SUMIFS('2추일출'!$W$7:$W$463,'2추일출'!$A$7:$A$463,'2추위원회별'!$A27,'2추일출'!$B$7:$B$463,'2추위원회별'!$C27) -> 0 | Z27: =SUMIFS('2추일출'!$M$7:$M$463,'2추일출'!$A$7:$A$463,'2추위원회별'!$A27,'2추일출'!$B$7:$B$463,'2추위원회별'!$C27) -> 0 | AA27: =SUMIFS('2추일출'!$N$7:$N$463,'2추일출'!$A$7:$A$463,'2추위원회별'!$A27,'2추일출'!$B$7:$B$463,'2추위원회별'!$C27) -> 0 | AB27: =SUMIFS('2추일출'!$O$7:$O$463,'2추일출'!$A$7:$A$463,'2추위원회별'!$A27,'2추일출'!$B$7:$B$463,'2추위원회별'!$C27) -> 0 | AC27: =SUMIFS('2추일출'!$AA$7:$AA$463,'2추일출'!$A$7:$A$463,'2추위원회별'!$A27,'2추일출'!$B$7:$B$463,'2추위원회별'!$C27) -> 0 | AD27: =SUMIFS('2추일출'!$AB$7:$AB$463,'2추일출'!$A$7:$A$463,'2추위원회별'!$A27,'2추일출'!$B$7:$B$463,'2추위원회별'!$C27) -> 0
B28: 보건복지위원회 | D28: =SUM(D29:D31) -> 0 | E28: =SUM(E29:E31) -> 0 | F28: =SUM(F29:F31) -> 0 | G28: =SUM(G29:G31) -> 0 | H28: =SUM(H29:H31) -> 0 | I28: =SUM(I29:I31) -> 0 | J28: =SUM(J29:J31) -> 0 | K28: =SUM(K29:K31) -> 0 | ... P28: =SUM(P29:P31) -> 0 | R28: =SUM(R29:R31) -> 0 | S28: =SUM(S29:S31) -> 0 | T28: =SUM(T29:T31) -> 0 | U28: =SUM(U29:U31) -> 0 | V28: =SUM(V29:V31) -> 0 | W28: =SUM(W29:W31) -> 0 | X28: =SUM(X29:X31) -> 0 | Y28: =SUM(Y29:Y31) -> 0 | ... AD28: =SUM(AD29:AD31) -> 0
A29: 보건복지위원회 | C29: 보건복지국 | D29: =SUMIFS('2추일입'!$G$7:$G$638,'2추일입'!$A$7:$A$638,'2추위원회별'!$A29,'2추일입'!$B$7:$B$638,'2추위원회별'!$C29) -> 0 | E29: =SUMIFS('2추일입'!$H$7:$H$638,'2추일입'!$A$7:$A$638,'2추위원회별'!$A29,'2추일입'!$B$7:$B$638,'2추위원회별'!$C29) -> 0 | F29: =SUMIFS('2추일입'!$H$7:$H$638,'2추일입'!$A$7:$A$638,'2추위원회별'!$A29,'2추일입'!$B$7:$B$638,'2추위원회별'!$C29) -> 0 | G29: =SUMIFS('2추일입'!$J$7:$J$638,'2추일입'!$A$7:$A$638,'2추위원회별'!$A29,'2추일입'!$B$7:$B$638,'2추위원회별'!$C29) -> 0 | H29: =SUMIFS('2추일입'!$K$7:$K$638,'2추일입'!$A$7:$A$638,'2추위원회별'!$A29,'2추일입'!$B$7:$B$638,'2추위원회별'!$C29) -> 0 | I29: =SUMIFS('2추일입'!$L$7:$L$638,'2추일입'!$A$7:$A$638,'2추위원회별'!$A29,'2추일입'!$B$7:$B$638,'2추위원회별'!$C29) -> 0 | J29: =SUMIFS('2추일입'!$V$7:$V$638,'2추일입'!$A$7:$A$638,'2추위원회별'!$A29,'2추일입'!$B$7:$B$638,'2추위원회별'!$C29) -> 0 | K29: =SUMIFS('2추일입'!$W$7:$W$638,'2추일입'!$A$7:$A$638,'2추위원회별'!$A29,'2추일입'!$B$7:$B$638,'2추위원회별'!$C29) -> 0 | L29: =SUMIFS('2추일입'!$M$7:$M$638,'2추일입'!$A$7:$A$638,'2추위원회별'!$A29,'2추일입'!$B$7:$B$638,'2추위원회별'!$C29) -> 0 | M29: =SUMIFS('2추일입'!$N$7:$N$638,'2추일입'!$A$7:$A$638,'2추위원회별'!$A29,'2추일입'!$B$7:$B$638,'2추위원회별'!$C29) -> 0 | N29: =SUMIFS('2추일입'!$O$7:$O$638,'2추일입'!$A$7:$A$638,'2추위원회별'!$A29,'2추일입'!$B$7:$B$638,'2추위원회별'!$C29) -> 0 | O29: =SUMIFS('2추일입'!$AA$7:$AA$638,'2추일입'!$A$7:$A$638,'2추위원회별'!$A29,'2추일입'!$B$7:$B$638,'2추위원회별'!$C29) -> 0 | P29: =SUMIFS('2추일입'!$AB$7:$AB$638,'2추일입'!$A$7:$A$638,'2추위원회별'!$A29,'2추일입'!$B$7:$B$638,'2추위원회별'!$C29) -> 0 | R29: =SUMIFS('2추일출'!$G$7:$G$463,'2추일출'!$A$7:$A$463,'2추위원회별'!$A29,'2추일출'!$B$7:$B$463,'2추위원회별'!$C29) -> 0 | S29: =SUMIFS('2추일출'!$H$7:$H$463,'2추일출'!$A$7:$A$463,'2추위원회별'!$A29,'2추일출'!$B$7:$B$463,'2추위원회별'!$C29) -> 0 | T29: =SUMIFS('2추일출'!$H$7:$H$463,'2추일출'!$A$7:$A$463,'2추위원회별'!$A29,'2추일출'!$B$7:$B$463,'2추위원회별'!$C29) -> 0 | U29: =SUMIFS('2추일출'!$J$7:$J$463,'2추일출'!$A$7:$A$463,'2추위원회별'!$A29,'2추일출'!$B$7:$B$463,'2추위원회별'!$C29) -> 0 | V29: =SUMIFS('2추일출'!$K$7:$K$463,'2추일출'!$A$7:$A$463,'2추위원회별'!$A29,'2추일출'!$B$7:$B$463,'2추위원회별'!$C29) -> 0 | W29: =SUMIFS('2추일출'!$L$7:$L$463,'2추일출'!$A$7:$A$463,'2추위원회별'!$A29,'2추일출'!$B$7:$B$463,'2추위원회별'!$C29) -> 0 | X29: =SUMIFS('2추일출'!$V$7:$V$463,'2추일출'!$A$7:$A$463,'2추위원회별'!$A29,'2추일출'!$B$7:$B$463,'2추위원회별'!$C29) -> 0 | Y29: =SUMIFS('2추일출'!$W$7:$W$463,'2추일출'!$A$7:$A$463,'2추위원회별'!$A29,'2추일출'!$B$7:$B$463,'2추위원회별'!$C29) -> 0 | Z29: =SUMIFS('2추일출'!$M$7:$M$463,'2추일출'!$A$7:$A$463,'2추위원회별'!$A29,'2추일출'!$B$7:$B$463,'2추위원회별'!$C29) -> 0 | AA29: =SUMIFS('2추일출'!$N$7:$N$463,'2추일출'!$A$7:$A$463,'2추위원회별'!$A29,'2추일출'!$B$7:$B$463,'2추위원회별'!$C29) -> 0 | AB29: =SUMIFS('2추일출'!$O$7:$O$463,'2추일출'!$A$7:$A$463,'2추위원회별'!$A29,'2추일출'!$B$7:$B$463,'2추위원회별'!$C29) -> 0 | AC29: =SUMIFS('2추일출'!$AA$7:$AA$463,'2추일출'!$A$7:$A$463,'2추위원회별'!$A29,'2추일출'!$B$7:$B$463,'2추위원회별'!$C29) -> 0 | AD29: =SUMIFS('2추일출'!$AB$7:$AB$463,'2추일출'!$A$7:$A$463,'2추위원회별'!$A29,'2추일출'!$B$7:$B$463,'2추위원회별'!$C29) -> 0
A30: 보건복지위원회 | C30: 복지여성실 | D30: =SUMIFS('2추일입'!$G$7:$G$638,'2추일입'!$A$7:$A$638,'2추위원회별'!$A30,'2추일입'!$B$7:$B$638,'2추위원회별'!$C30) -> 0 | E30: =SUMIFS('2추일입'!$H$7:$H$638,'2추일입'!$A$7:$A$638,'2추위원회별'!$A30,'2추일입'!$B$7:$B$638,'2추위원회별'!$C30) -> 0 | F30: =SUMIFS('2추일입'!$H$7:$H$638,'2추일입'!$A$7:$A$638,'2추위원회별'!$A30,'2추일입'!$B$7:$B$638,'2추위원회별'!$C30) -> 0 | G30: =SUMIFS('2추일입'!$J$7:$J$638,'2추일입'!$A$7:$A$638,'2추위원회별'!$A30,'2추일입'!$B$7:$B$638,'2추위원회별'!$C30) -> 0 | H30: =SUMIFS('2추일입'!$K$7:$K$638,'2추일입'!$A$7:$A$638,'2추위원회별'!$A30,'2추일입'!$B$7:$B$638,'2추위원회별'!$C30) -> 0 | I30: =SUMIFS('2추일입'!$L$7:$L$638,'2추일입'!$A$7:$A$638,'2추위원회별'!$A30,'2추일입'!$B$7:$B$638,'2추위원회별'!$C30) -> 0 | J30: =SUMIFS('2추일입'!$V$7:$V$638,'2추일입'!$A$7:$A$638,'2추위원회별'!$A30,'2추일입'!$B$7:$B$638,'2추위원회별'!$C30) -> 0 | K30: =SUMIFS('2추일입'!$W$7:$W$638,'2추일입'!$A$7:$A$638,'2추위원회별'!$A30,'2추일입'!$B$7:$B$638,'2추위원회별'!$C30) -> 0 | L30: =SUMIFS('2추일입'!$M$7:$M$638,'2추일입'!$A$7:$A$638,'2추위원회별'!$A30,'2추일입'!$B$7:$B$638,'2추위원회별'!$C30) -> 0 | M30: =SUMIFS('2추일입'!$N$7:$N$638,'2추일입'!$A$7:$A$638,'2추위원회별'!$A30,'2추일입'!$B$7:$B$638,'2추위원회별'!$C30) -> 0 | N30: =SUMIFS('2추일입'!$O$7:$O$638,'2추일입'!$A$7:$A$638,'2추위원회별'!$A30,'2추일입'!$B$7:$B$638,'2추위원회별'!$C30) -> 0 | O30: =SUMIFS('2추일입'!$AA$7:$AA$638,'2추일입'!$A$7:$A$638,'2추위원회별'!$A30,'2추일입'!$B$7:$B$638,'2추위원회별'!$C30) -> 0 | P30: =SUMIFS('2추일입'!$AB$7:$AB$638,'2추일입'!$A$7:$A$638,'2추위원회별'!$A30,'2추일입'!$B$7:$B$638,'2추위원회별'!$C30) -> 0 | R30: =SUMIFS('2추일출'!$G$7:$G$463,'2추일출'!$A$7:$A$463,'2추위원회별'!$A30,'2추일출'!$B$7:$B$463,'2추위원회별'!$C30) -> 0 | S30: =SUMIFS('2추일출'!$H$7:$H$463,'2추일출'!$A$7:$A$463,'2추위원회별'!$A30,'2추일출'!$B$7:$B$463,'2추위원회별'!$C30) -> 0 | T30: =SUMIFS('2추일출'!$H$7:$H$463,'2추일출'!$A$7:$A$463,'2추위원회별'!$A30,'2추일출'!$B$7:$B$463,'2추위원회별'!$C30) -> 0 | U30: =SUMIFS('2추일출'!$J$7:$J$463,'2추일출'!$A$7:$A$463,'2추위원회별'!$A30,'2추일출'!$B$7:$B$463,'2추위원회별'!$C30) -> 0 | V30: =SUMIFS('2추일출'!$K$7:$K$463,'2추일출'!$A$7:$A$463,'2추위원회별'!$A30,'2추일출'!$B$7:$B$463,'2추위원회별'!$C30) -> 0 | W30: =SUMIFS('2추일출'!$L$7:$L$463,'2추일출'!$A$7:$A$463,'2추위원회별'!$A30,'2추일출'!$B$7:$B$463,'2추위원회별'!$C30) -> 0 | X30: =SUMIFS('2추일출'!$V$7:$V$463,'2추일출'!$A$7:$A$463,'2추위원회별'!$A30,'2추일출'!$B$7:$B$463,'2추위원회별'!$C30) -> 0 | Y30: =SUMIFS('2추일출'!$W$7:$W$463,'2추일출'!$A$7:$A$463,'2추위원회별'!$A30,'2추일출'!$B$7:$B$463,'2추위원회별'!$C30) -> 0 | Z30: =SUMIFS('2추일출'!$M$7:$M$463,'2추일출'!$A$7:$A$463,'2추위원회별'!$A30,'2추일출'!$B$7:$B$463,'2추위원회별'!$C30) -> 0 | AA30: =SUMIFS('2추일출'!$N$7:$N$463,'2추일출'!$A$7:$A$463,'2추위원회별'!$A30,'2추일출'!$B$7:$B$463,'2추위원회별'!$C30) -> 0 | AB30: =SUMIFS('2추일출'!$O$7:$O$463,'2추일출'!$A$7:$A$463,'2추위원회별'!$A30,'2추일출'!$B$7:$B$463,'2추위원회별'!$C30) -> 0 | AC30: =SUMIFS('2추일출'!$AA$7:$AA$463,'2추일출'!$A$7:$A$463,'2추위원회별'!$A30,'2추일출'!$B$7:$B$463,'2추위원회별'!$C30) -> 0 | AD30: =SUMIFS('2추일출'!$AB$7:$AB$463,'2추일출'!$A$7:$A$463,'2추위원회별'!$A30,'2추일출'!$B$7:$B$463,'2추위원회별'!$C30) -> 0
A31: 보건복지위원회 | C31: 보건환경연구원 | D31: =SUMIFS('2추일입'!$G$7:$G$638,'2추일입'!$A$7:$A$638,'2추위원회별'!$A31,'2추일입'!$B$7:$B$638,'2추위원회별'!$C31) -> 0 | E31: =SUMIFS('2추일입'!$H$7:$H$638,'2추일입'!$A$7:$A$638,'2추위원회별'!$A31,'2추일입'!$B$7:$B$638,'2추위원회별'!$C31) -> 0 | F31: =SUMIFS('2추일입'!$H$7:$H$638,'2추일입'!$A$7:$A$638,'2추위원회별'!$A31,'2추일입'!$B$7:$B$638,'2추위원회별'!$C31) -> 0 | G31: =SUMIFS('2추일입'!$J$7:$J$638,'2추일입'!$A$7:$A$638,'2추위원회별'!$A31,'2추일입'!$B$7:$B$638,'2추위원회별'!$C31) -> 0 | H31: =SUMIFS('2추일입'!$K$7:$K$638,'2추일입'!$A$7:$A$638,'2추위원회별'!$A31,'2추일입'!$B$7:$B$638,'2추위원회별'!$C31) -> 0 | I31: =SUMIFS('2추일입'!$L$7:$L$638,'2추일입'!$A$7:$A$638,'2추위원회별'!$A31,'2추일입'!$B$7:$B$638,'2추위원회별'!$C31) -> 0 | J31: =SUMIFS('2추일입'!$V$7:$V$638,'2추일입'!$A$7:$A$638,'2추위원회별'!$A31,'2추일입'!$B$7:$B$638,'2추위원회별'!$C31) -> 0 | K31: =SUMIFS('2추일입'!$W$7:$W$638,'2추일입'!$A$7:$A$638,'2추위원회별'!$A31,'2추일입'!$B$7:$B$638,'2추위원회별'!$C31) -> 0 | L31: =SUMIFS('2추일입'!$M$7:$M$638,'2추일입'!$A$7:$A$638,'2추위원회별'!$A31,'2추일입'!$B$7:$B$638,'2추위원회별'!$C31) -> 0 | M31: =SUMIFS('2추일입'!$N$7:$N$638,'2추일입'!$A$7:$A$638,'2추위원회별'!$A31,'2추일입'!$B$7:$B$638,'2추위원회별'!$C31) -> 0 | N31: =SUMIFS('2추일입'!$O$7:$O$638,'2추일입'!$A$7:$A$638,'2추위원회별'!$A31,'2추일입'!$B$7:$B$638,'2추위원회별'!$C31) -> 0 | O31: =SUMIFS('2추일입'!$AA$7:$AA$638,'2추일입'!$A$7:$A$638,'2추위원회별'!$A31,'2추일입'!$B$7:$B$638,'2추위원회별'!$C31) -> 0 | P31: =SUMIFS('2추일입'!$AB$7:$AB$638,'2추일입'!$A$7:$A$638,'2추위원회별'!$A31,'2추일입'!$B$7:$B$638,'2추위원회별'!$C31) -> 0 | R31: =SUMIFS('2추일출'!$G$7:$G$463,'2추일출'!$A$7:$A$463,'2추위원회별'!$A31,'2추일출'!$B$7:$B$463,'2추위원회별'!$C31) -> 0 | S31: =SUMIFS('2추일출'!$H$7:$H$463,'2추일출'!$A$7:$A$463,'2추위원회별'!$A31,'2추일출'!$B$7:$B$463,'2추위원회별'!$C31) -> 0 | T31: =SUMIFS('2추일출'!$H$7:$H$463,'2추일출'!$A$7:$A$463,'2추위원회별'!$A31,'2추일출'!$B$7:$B$463,'2추위원회별'!$C31) -> 0 | U31: =SUMIFS('2추일출'!$J$7:$J$463,'2추일출'!$A$7:$A$463,'2추위원회별'!$A31,'2추일출'!$B$7:$B$463,'2추위원회별'!$C31) -> 0 | V31: =SUMIFS('2추일출'!$K$7:$K$463,'2추일출'!$A$7:$A$463,'2추위원회별'!$A31,'2추일출'!$B$7:$B$463,'2추위원회별'!$C31) -> 0 | W31: =SUMIFS('2추일출'!$L$7:$L$463,'2추일출'!$A$7:$A$463,'2추위원회별'!$A31,'2추일출'!$B$7:$B$463,'2추위원회별'!$C31) -> 0 | X31: =SUMIFS('2추일출'!$V$7:$V$463,'2추일출'!$A$7:$A$463,'2추위원회별'!$A31,'2추일출'!$B$7:$B$463,'2추위원회별'!$C31) -> 0 | Y31: =SUMIFS('2추일출'!$W$7:$W$463,'2추일출'!$A$7:$A$463,'2추위원회별'!$A31,'2추일출'!$B$7:$B$463,'2추위원회별'!$C31) -> 0 | Z31: =SUMIFS('2추일출'!$M$7:$M$463,'2추일출'!$A$7:$A$463,'2추위원회별'!$A31,'2추일출'!$B$7:$B$463,'2추위원회별'!$C31) -> 0 | AA31: =SUMIFS('2추일출'!$N$7:$N$463,'2추일출'!$A$7:$A$463,'2추위원회별'!$A31,'2추일출'!$B$7:$B$463,'2추위원회별'!$C31) -> 0 | AB31: =SUMIFS('2추일출'!$O$7:$O$463,'2추일출'!$A$7:$A$463,'2추위원회별'!$A31,'2추일출'!$B$7:$B$463,'2추위원회별'!$C31) -> 0 | AC31: =SUMIFS('2추일출'!$AA$7:$AA$463,'2추일출'!$A$7:$A$463,'2추위원회별'!$A31,'2추일출'!$B$7:$B$463,'2추위원회별'!$C31) -> 0 | AD31: =SUMIFS('2추일출'!$AB$7:$AB$463,'2추일출'!$A$7:$A$463,'2추위원회별'!$A31,'2추일출'!$B$7:$B$463,'2추위원회별'!$C31) -> 0
B32: 건설교통위원회 | D32: =SUM(D33:D36) -> 0 | E32: =SUM(E33:E36) -> 0 | F32: =SUM(F33:F36) -> 0 | G32: =SUM(G33:G36) -> 0 | H32: =SUM(H33:H36) -> 0 | I32: =SUM(I33:I36) -> 0 | J32: =SUM(J33:J36) -> 0 | K32: =SUM(K33:K36) -> 0 | ... P32: =SUM(P33:P36) -> 0 | R32: =SUM(R33:R36) -> 0 | S32: =SUM(S33:S36) -> 0 | T32: =SUM(T33:T36) -> 0 | U32: =SUM(U33:U36) -> 0 | V32: =SUM(V33:V36) -> 0 | W32: =SUM(W33:W36) -> 0 | X32: =SUM(X33:X36) -> 0 | Y32: =SUM(Y33:Y36) -> 0 | ... AD32: =SUM(AD33:AD36) -> 0
A33: 건설교통위원회 | C33: 철도국 | D33: =SUMIFS('2추일입'!$G$7:$G$638,'2추일입'!$A$7:$A$638,'2추위원회별'!$A33,'2추일입'!$B$7:$B$638,'2추위원회별'!$C33) -> 0 | E33: =SUMIFS('2추일입'!$H$7:$H$638,'2추일입'!$A$7:$A$638,'2추위원회별'!$A33,'2추일입'!$B$7:$B$638,'2추위원회별'!$C33) -> 0 | F33: =SUMIFS('2추일입'!$H$7:$H$638,'2추일입'!$A$7:$A$638,'2추위원회별'!$A33,'2추일입'!$B$7:$B$638,'2추위원회별'!$C33) -> 0 | G33: =SUMIFS('2추일입'!$J$7:$J$638,'2추일입'!$A$7:$A$638,'2추위원회별'!$A33,'2추일입'!$B$7:$B$638,'2추위원회별'!$C33) -> 0 | H33: =SUMIFS('2추일입'!$K$7:$K$638,'2추일입'!$A$7:$A$638,'2추위원회별'!$A33,'2추일입'!$B$7:$B$638,'2추위원회별'!$C33) -> 0 | I33: =SUMIFS('2추일입'!$L$7:$L$638,'2추일입'!$A$7:$A$638,'2추위원회별'!$A33,'2추일입'!$B$7:$B$638,'2추위원회별'!$C33) -> 0 | J33: =SUMIFS('2추일입'!$V$7:$V$638,'2추일입'!$A$7:$A$638,'2추위원회별'!$A33,'2추일입'!$B$7:$B$638,'2추위원회별'!$C33) -> 0 | K33: =SUMIFS('2추일입'!$W$7:$W$638,'2추일입'!$A$7:$A$638,'2추위원회별'!$A33,'2추일입'!$B$7:$B$638,'2추위원회별'!$C33) -> 0 | L33: =SUMIFS('2추일입'!$M$7:$M$638,'2추일입'!$A$7:$A$638,'2추위원회별'!$A33,'2추일입'!$B$7:$B$638,'2추위원회별'!$C33) -> 0 | M33: =SUMIFS('2추일입'!$N$7:$N$638,'2추일입'!$A$7:$A$638,'2추위원회별'!$A33,'2추일입'!$B$7:$B$638,'2추위원회별'!$C33) -> 0 | N33: =SUMIFS('2추일입'!$O$7:$O$638,'2추일입'!$A$7:$A$638,'2추위원회별'!$A33,'2추일입'!$B$7:$B$638,'2추위원회별'!$C33) -> 0 | O33: =SUMIFS('2추일입'!$AA$7:$AA$638,'2추일입'!$A$7:$A$638,'2추위원회별'!$A33,'2추일입'!$B$7:$B$638,'2추위원회별'!$C33) -> 0 | P33: =SUMIFS('2추일입'!$AB$7:$AB$638,'2추일입'!$A$7:$A$638,'2추위원회별'!$A33,'2추일입'!$B$7:$B$638,'2추위원회별'!$C33) -> 0 | R33: =SUMIFS('2추일출'!$G$7:$G$463,'2추일출'!$A$7:$A$463,'2추위원회별'!$A33,'2추일출'!$B$7:$B$463,'2추위원회별'!$C33) -> 0 | S33: =SUMIFS('2추일출'!$H$7:$H$463,'2추일출'!$A$7:$A$463,'2추위원회별'!$A33,'2추일출'!$B$7:$B$463,'2추위원회별'!$C33) -> 0 | T33: =SUMIFS('2추일출'!$H$7:$H$463,'2추일출'!$A$7:$A$463,'2추위원회별'!$A33,'2추일출'!$B$7:$B$463,'2추위원회별'!$C33) -> 0 | U33: =SUMIFS('2추일출'!$J$7:$J$463,'2추일출'!$A$7:$A$463,'2추위원회별'!$A33,'2추일출'!$B$7:$B$463,'2추위원회별'!$C33) -> 0 | V33: =SUMIFS('2추일출'!$K$7:$K$463,'2추일출'!$A$7:$A$463,'2추위원회별'!$A33,'2추일출'!$B$7:$B$463,'2추위원회별'!$C33) -> 0 | W33: =SUMIFS('2추일출'!$L$7:$L$463,'2추일출'!$A$7:$A$463,'2추위원회별'!$A33,'2추일출'!$B$7:$B$463,'2추위원회별'!$C33) -> 0 | X33: =SUMIFS('2추일출'!$V$7:$V$463,'2추일출'!$A$7:$A$463,'2추위원회별'!$A33,'2추일출'!$B$7:$B$463,'2추위원회별'!$C33) -> 0 | Y33: =SUMIFS('2추일출'!$W$7:$W$463,'2추일출'!$A$7:$A$463,'2추위원회별'!$A33,'2추일출'!$B$7:$B$463,'2추위원회별'!$C33) -> 0 | Z33: =SUMIFS('2추일출'!$M$7:$M$463,'2추일출'!$A$7:$A$463,'2추위원회별'!$A33,'2추일출'!$B$7:$B$463,'2추위원회별'!$C33) -> 0 | AA33: =SUMIFS('2추일출'!$N$7:$N$463,'2추일출'!$A$7:$A$463,'2추위원회별'!$A33,'2추일출'!$B$7:$B$463,'2추위원회별'!$C33) -> 0 | AB33: =SUMIFS('2추일출'!$O$7:$O$463,'2추일출'!$A$7:$A$463,'2추위원회별'!$A33,'2추일출'!$B$7:$B$463,'2추위원회별'!$C33) -> 0 | AC33: =SUMIFS('2추일출'!$AA$7:$AA$463,'2추일출'!$A$7:$A$463,'2추위원회별'!$A33,'2추일출'!$B$7:$B$463,'2추위원회별'!$C33) -> 0 | AD33: =SUMIFS('2추일출'!$AB$7:$AB$463,'2추일출'!$A$7:$A$463,'2추위원회별'!$A33,'2추일출'!$B$7:$B$463,'2추위원회별'!$C33) -> 0
A34: 건설교통위원회 | C34: 교통국 | D34: =SUMIFS('2추일입'!$G$7:$G$638,'2추일입'!$A$7:$A$638,'2추위원회별'!$A34,'2추일입'!$B$7:$B$638,'2추위원회별'!$C34) -> 0 | E34: =SUMIFS('2추일입'!$H$7:$H$638,'2추일입'!$A$7:$A$638,'2추위원회별'!$A34,'2추일입'!$B$7:$B$638,'2추위원회별'!$C34) -> 0 | F34: =SUMIFS('2추일입'!$H$7:$H$638,'2추일입'!$A$7:$A$638,'2추위원회별'!$A34,'2추일입'!$B$7:$B$638,'2추위원회별'!$C34) -> 0 | G34: =SUMIFS('2추일입'!$J$7:$J$638,'2추일입'!$A$7:$A$638,'2추위원회별'!$A34,'2추일입'!$B$7:$B$638,'2추위원회별'!$C34) -> 0 | H34: =SUMIFS('2추일입'!$K$7:$K$638,'2추일입'!$A$7:$A$638,'2추위원회별'!$A34,'2추일입'!$B$7:$B$638,'2추위원회별'!$C34) -> 0 | I34: =SUMIFS('2추일입'!$L$7:$L$638,'2추일입'!$A$7:$A$638,'2추위원회별'!$A34,'2추일입'!$B$7:$B$638,'2추위원회별'!$C34) -> 0 | J34: =SUMIFS('2추일입'!$V$7:$V$638,'2추일입'!$A$7:$A$638,'2추위원회별'!$A34,'2추일입'!$B$7:$B$638,'2추위원회별'!$C34) -> 0 | K34: =SUMIFS('2추일입'!$W$7:$W$638,'2추일입'!$A$7:$A$638,'2추위원회별'!$A34,'2추일입'!$B$7:$B$638,'2추위원회별'!$C34) -> 0 | L34: =SUMIFS('2추일입'!$M$7:$M$638,'2추일입'!$A$7:$A$638,'2추위원회별'!$A34,'2추일입'!$B$7:$B$638,'2추위원회별'!$C34) -> 0 | M34: =SUMIFS('2추일입'!$N$7:$N$638,'2추일입'!$A$7:$A$638,'2추위원회별'!$A34,'2추일입'!$B$7:$B$638,'2추위원회별'!$C34) -> 0 | N34: =SUMIFS('2추일입'!$O$7:$O$638,'2추일입'!$A$7:$A$638,'2추위원회별'!$A34,'2추일입'!$B$7:$B$638,'2추위원회별'!$C34) -> 0 | O34: =SUMIFS('2추일입'!$AA$7:$AA$638,'2추일입'!$A$7:$A$638,'2추위원회별'!$A34,'2추일입'!$B$7:$B$638,'2추위원회별'!$C34) -> 0 | P34: =SUMIFS('2추일입'!$AB$7:$AB$638,'2추일입'!$A$7:$A$638,'2추위원회별'!$A34,'2추일입'!$B$7:$B$638,'2추위원회별'!$C34) -> 0 | R34: =SUMIFS('2추일출'!$G$7:$G$463,'2추일출'!$A$7:$A$463,'2추위원회별'!$A34,'2추일출'!$B$7:$B$463,'2추위원회별'!$C34) -> 0 | S34: =SUMIFS('2추일출'!$H$7:$H$463,'2추일출'!$A$7:$A$463,'2추위원회별'!$A34,'2추일출'!$B$7:$B$463,'2추위원회별'!$C34) -> 0 | T34: =SUMIFS('2추일출'!$H$7:$H$463,'2추일출'!$A$7:$A$463,'2추위원회별'!$A34,'2추일출'!$B$7:$B$463,'2추위원회별'!$C34) -> 0 | U34: =SUMIFS('2추일출'!$J$7:$J$463,'2추일출'!$A$7:$A$463,'2추위원회별'!$A34,'2추일출'!$B$7:$B$463,'2추위원회별'!$C34) -> 0 | V34: =SUMIFS('2추일출'!$K$7:$K$463,'2추일출'!$A$7:$A$463,'2추위원회별'!$A34,'2추일출'!$B$7:$B$463,'2추위원회별'!$C34) -> 0 | W34: =SUMIFS('2추일출'!$L$7:$L$463,'2추일출'!$A$7:$A$463,'2추위원회별'!$A34,'2추일출'!$B$7:$B$463,'2추위원회별'!$C34) -> 0 | X34: =SUMIFS('2추일출'!$V$7:$V$463,'2추일출'!$A$7:$A$463,'2추위원회별'!$A34,'2추일출'!$B$7:$B$463,'2추위원회별'!$C34) -> 0 | Y34: =SUMIFS('2추일출'!$W$7:$W$463,'2추일출'!$A$7:$A$463,'2추위원회별'!$A34,'2추일출'!$B$7:$B$463,'2추위원회별'!$C34) -> 0 | Z34: =SUMIFS('2추일출'!$M$7:$M$463,'2추일출'!$A$7:$A$463,'2추위원회별'!$A34,'2추일출'!$B$7:$B$463,'2추위원회별'!$C34) -> 0 | AA34: =SUMIFS('2추일출'!$N$7:$N$463,'2추일출'!$A$7:$A$463,'2추위원회별'!$A34,'2추일출'!$B$7:$B$463,'2추위원회별'!$C34) -> 0 | AB34: =SUMIFS('2추일출'!$O$7:$O$463,'2추일출'!$A$7:$A$463,'2추위원회별'!$A34,'2추일출'!$B$7:$B$463,'2추위원회별'!$C34) -> 0 | AC34: =SUMIFS('2추일출'!$AA$7:$AA$463,'2추일출'!$A$7:$A$463,'2추위원회별'!$A34,'2추일출'!$B$7:$B$463,'2추위원회별'!$C34) -> 0 | AD34: =SUMIFS('2추일출'!$AB$7:$AB$463,'2추일출'!$A$7:$A$463,'2추위원회별'!$A34,'2추일출'!$B$7:$B$463,'2추위원회별'!$C34) -> 0
A35: 건설교통위원회 | C35: 건설국 | D35: =SUMIFS('2추일입'!$G$7:$G$638,'2추일입'!$A$7:$A$638,'2추위원회별'!$A35,'2추일입'!$B$7:$B$638,'2추위원회별'!$C35) -> 0 | E35: =SUMIFS('2추일입'!$H$7:$H$638,'2추일입'!$A$7:$A$638,'2추위원회별'!$A35,'2추일입'!$B$7:$B$638,'2추위원회별'!$C35) -> 0 | F35: =SUMIFS('2추일입'!$H$7:$H$638,'2추일입'!$A$7:$A$638,'2추위원회별'!$A35,'2추일입'!$B$7:$B$638,'2추위원회별'!$C35) -> 0 | G35: =SUMIFS('2추일입'!$J$7:$J$638,'2추일입'!$A$7:$A$638,'2추위원회별'!$A35,'2추일입'!$B$7:$B$638,'2추위원회별'!$C35) -> 0 | H35: =SUMIFS('2추일입'!$K$7:$K$638,'2추일입'!$A$7:$A$638,'2추위원회별'!$A35,'2추일입'!$B$7:$B$638,'2추위원회별'!$C35) -> 0 | I35: =SUMIFS('2추일입'!$L$7:$L$638,'2추일입'!$A$7:$A$638,'2추위원회별'!$A35,'2추일입'!$B$7:$B$638,'2추위원회별'!$C35) -> 0 | J35: =SUMIFS('2추일입'!$V$7:$V$638,'2추일입'!$A$7:$A$638,'2추위원회별'!$A35,'2추일입'!$B$7:$B$638,'2추위원회별'!$C35) -> 0 | K35: =SUMIFS('2추일입'!$W$7:$W$638,'2추일입'!$A$7:$A$638,'2추위원회별'!$A35,'2추일입'!$B$7:$B$638,'2추위원회별'!$C35) -> 0 | L35: =SUMIFS('2추일입'!$M$7:$M$638,'2추일입'!$A$7:$A$638,'2추위원회별'!$A35,'2추일입'!$B$7:$B$638,'2추위원회별'!$C35) -> 0 | M35: =SUMIFS('2추일입'!$N$7:$N$638,'2추일입'!$A$7:$A$638,'2추위원회별'!$A35,'2추일입'!$B$7:$B$638,'2추위원회별'!$C35) -> 0 | N35: =SUMIFS('2추일입'!$O$7:$O$638,'2추일입'!$A$7:$A$638,'2추위원회별'!$A35,'2추일입'!$B$7:$B$638,'2추위원회별'!$C35) -> 0 | O35: =SUMIFS('2추일입'!$AA$7:$AA$638,'2추일입'!$A$7:$A$638,'2추위원회별'!$A35,'2추일입'!$B$7:$B$638,'2추위원회별'!$C35) -> 0 | P35: =SUMIFS('2추일입'!$AB$7:$AB$638,'2추일입'!$A$7:$A$638,'2추위원회별'!$A35,'2추일입'!$B$7:$B$638,'2추위원회별'!$C35) -> 0 | R35: =SUMIFS('2추일출'!$G$7:$G$463,'2추일출'!$A$7:$A$463,'2추위원회별'!$A35,'2추일출'!$B$7:$B$463,'2추위원회별'!$C35) -> 0 | S35: =SUMIFS('2추일출'!$H$7:$H$463,'2추일출'!$A$7:$A$463,'2추위원회별'!$A35,'2추일출'!$B$7:$B$463,'2추위원회별'!$C35) -> 0 | T35: =SUMIFS('2추일출'!$H$7:$H$463,'2추일출'!$A$7:$A$463,'2추위원회별'!$A35,'2추일출'!$B$7:$B$463,'2추위원회별'!$C35) -> 0 | U35: =SUMIFS('2추일출'!$J$7:$J$463,'2추일출'!$A$7:$A$463,'2추위원회별'!$A35,'2추일출'!$B$7:$B$463,'2추위원회별'!$C35) -> 0 | V35: =SUMIFS('2추일출'!$K$7:$K$463,'2추일출'!$A$7:$A$463,'2추위원회별'!$A35,'2추일출'!$B$7:$B$463,'2추위원회별'!$C35) -> 0 | W35: =SUMIFS('2추일출'!$L$7:$L$463,'2추일출'!$A$7:$A$463,'2추위원회별'!$A35,'2추일출'!$B$7:$B$463,'2추위원회별'!$C35) -> 0 | X35: =SUMIFS('2추일출'!$V$7:$V$463,'2추일출'!$A$7:$A$463,'2추위원회별'!$A35,'2추일출'!$B$7:$B$463,'2추위원회별'!$C35) -> 0 | Y35: =SUMIFS('2추일출'!$W$7:$W$463,'2추일출'!$A$7:$A$463,'2추위원회별'!$A35,'2추일출'!$B$7:$B$463,'2추위원회별'!$C35) -> 0 | Z35: =SUMIFS('2추일출'!$M$7:$M$463,'2추일출'!$A$7:$A$463,'2추위원회별'!$A35,'2추일출'!$B$7:$B$463,'2추위원회별'!$C35) -> 0 | AA35: =SUMIFS('2추일출'!$N$7:$N$463,'2추일출'!$A$7:$A$463,'2추위원회별'!$A35,'2추일출'!$B$7:$B$463,'2추위원회별'!$C35) -> 0 | AB35: =SUMIFS('2추일출'!$O$7:$O$463,'2추일출'!$A$7:$A$463,'2추위원회별'!$A35,'2추일출'!$B$7:$B$463,'2추위원회별'!$C35) -> 0 | AC35: =SUMIFS('2추일출'!$AA$7:$AA$463,'2추일출'!$A$7:$A$463,'2추위원회별'!$A35,'2추일출'!$B$7:$B$463,'2추위원회별'!$C35) -> 0 | AD35: =SUMIFS('2추일출'!$AB$7:$AB$463,'2추일출'!$A$7:$A$463,'2추위원회별'!$A35,'2추일출'!$B$7:$B$463,'2추위원회별'!$C35) -> 0
A36: 건설교통위원회 | C36: 건설본부 | D36: =SUMIFS('2추일입'!$G$7:$G$638,'2추일입'!$A$7:$A$638,'2추위원회별'!$A36,'2추일입'!$B$7:$B$638,'2추위원회별'!$C36) -> 0 | E36: =SUMIFS('2추일입'!$H$7:$H$638,'2추일입'!$A$7:$A$638,'2추위원회별'!$A36,'2추일입'!$B$7:$B$638,'2추위원회별'!$C36) -> 0 | F36: =SUMIFS('2추일입'!$H$7:$H$638,'2추일입'!$A$7:$A$638,'2추위원회별'!$A36,'2추일입'!$B$7:$B$638,'2추위원회별'!$C36) -> 0 | G36: =SUMIFS('2추일입'!$J$7:$J$638,'2추일입'!$A$7:$A$638,'2추위원회별'!$A36,'2추일입'!$B$7:$B$638,'2추위원회별'!$C36) -> 0 | H36: =SUMIFS('2추일입'!$K$7:$K$638,'2추일입'!$A$7:$A$638,'2추위원회별'!$A36,'2추일입'!$B$7:$B$638,'2추위원회별'!$C36) -> 0 | I36: =SUMIFS('2추일입'!$L$7:$L$638,'2추일입'!$A$7:$A$638,'2추위원회별'!$A36,'2추일입'!$B$7:$B$638,'2추위원회별'!$C36) -> 0 | J36: =SUMIFS('2추일입'!$V$7:$V$638,'2추일입'!$A$7:$A$638,'2추위원회별'!$A36,'2추일입'!$B$7:$B$638,'2추위원회별'!$C36) -> 0 | K36: =SUMIFS('2추일입'!$W$7:$W$638,'2추일입'!$A$7:$A$638,'2추위원회별'!$A36,'2추일입'!$B$7:$B$638,'2추위원회별'!$C36) -> 0 | L36: =SUMIFS('2추일입'!$M$7:$M$638,'2추일입'!$A$7:$A$638,'2추위원회별'!$A36,'2추일입'!$B$7:$B$638,'2추위원회별'!$C36) -> 0 | M36: =SUMIFS('2추일입'!$N$7:$N$638,'2추일입'!$A$7:$A$638,'2추위원회별'!$A36,'2추일입'!$B$7:$B$638,'2추위원회별'!$C36) -> 0 | N36: =SUMIFS('2추일입'!$O$7:$O$638,'2추일입'!$A$7:$A$638,'2추위원회별'!$A36,'2추일입'!$B$7:$B$638,'2추위원회별'!$C36) -> 0 | O36: =SUMIFS('2추일입'!$AA$7:$AA$638,'2추일입'!$A$7:$A$638,'2추위원회별'!$A36,'2추일입'!$B$7:$B$638,'2추위원회별'!$C36) -> 0 | P36: =SUMIFS('2추일입'!$AB$7:$AB$638,'2추일입'!$A$7:$A$638,'2추위원회별'!$A36,'2추일입'!$B$7:$B$638,'2추위원회별'!$C36) -> 0 | R36: =SUMIFS('2추일출'!$G$7:$G$463,'2추일출'!$A$7:$A$463,'2추위원회별'!$A36,'2추일출'!$B$7:$B$463,'2추위원회별'!$C36) -> 0 | S36: =SUMIFS('2추일출'!$H$7:$H$463,'2추일출'!$A$7:$A$463,'2추위원회별'!$A36,'2추일출'!$B$7:$B$463,'2추위원회별'!$C36) -> 0 | T36: =SUMIFS('2추일출'!$H$7:$H$463,'2추일출'!$A$7:$A$463,'2추위원회별'!$A36,'2추일출'!$B$7:$B$463,'2추위원회별'!$C36) -> 0 | U36: =SUMIFS('2추일출'!$J$7:$J$463,'2추일출'!$A$7:$A$463,'2추위원회별'!$A36,'2추일출'!$B$7:$B$463,'2추위원회별'!$C36) -> 0 | V36: =SUMIFS('2추일출'!$K$7:$K$463,'2추일출'!$A$7:$A$463,'2추위원회별'!$A36,'2추일출'!$B$7:$B$463,'2추위원회별'!$C36) -> 0 | W36: =SUMIFS('2추일출'!$L$7:$L$463,'2추일출'!$A$7:$A$463,'2추위원회별'!$A36,'2추일출'!$B$7:$B$463,'2추위원회별'!$C36) -> 0 | X36: =SUMIFS('2추일출'!$V$7:$V$463,'2추일출'!$A$7:$A$463,'2추위원회별'!$A36,'2추일출'!$B$7:$B$463,'2추위원회별'!$C36) -> 0 | Y36: =SUMIFS('2추일출'!$W$7:$W$463,'2추일출'!$A$7:$A$463,'2추위원회별'!$A36,'2추일출'!$B$7:$B$463,'2추위원회별'!$C36) -> 0 | Z36: =SUMIFS('2추일출'!$M$7:$M$463,'2추일출'!$A$7:$A$463,'2추위원회별'!$A36,'2추일출'!$B$7:$B$463,'2추위원회별'!$C36) -> 0 | AA36: =SUMIFS('2추일출'!$N$7:$N$463,'2추일출'!$A$7:$A$463,'2추위원회별'!$A36,'2추일출'!$B$7:$B$463,'2추위원회별'!$C36) -> 0 | AB36: =SUMIFS('2추일출'!$O$7:$O$463,'2추일출'!$A$7:$A$463,'2추위원회별'!$A36,'2추일출'!$B$7:$B$463,'2추위원회별'!$C36) -> 0 | AC36: =SUMIFS('2추일출'!$AA$7:$AA$463,'2추일출'!$A$7:$A$463,'2추위원회별'!$A36,'2추일출'!$B$7:$B$463,'2추위원회별'!$C36) -> 0 | AD36: =SUMIFS('2추일출'!$AB$7:$AB$463,'2추일출'!$A$7:$A$463,'2추위원회별'!$A36,'2추일출'!$B$7:$B$463,'2추위원회별'!$C36) -> 0
B37: 도시환경위원회 | D37: =SUM(D38:D42) -> 172374190 | E37: =SUM(E38:E42) -> 355839021 | F37: =SUM(F38:F42) -> 355839021 | G37: =SUM(G38:G42) -> -38679750 | H37: =SUM(H38:H42) -> 118478 | I37: =SUM(I38:I42) -> 321860918 | J37: =SUM(J38:J42) -> -38679750 | K37: =SUM(K38:K42) -> 118478 | ... P37: =SUM(P38:P42) -> 0 | R37: =SUM(R38:R42) -> 171607000 | S37: =SUM(S38:S42) -> 388113855 | T37: =SUM(T38:T42) -> 388113855 | U37: =SUM(U38:U42) -> -43551350 | V37: =SUM(V38:V42) -> 0 | W37: =SUM(W38:W42) -> 349109505 | X37: =SUM(X38:X42) -> -43401350 | Y37: =SUM(Y38:Y42) -> -150000 | ... AD37: =SUM(AD38:AD42) -> 0
A38: 도시환경위원회 | C38: 도시주택실 | D38: =SUMIFS('2추일입'!$G$7:$G$638,'2추일입'!$A$7:$A$638,'2추위원회별'!$A38,'2추일입'!$B$7:$B$638,'2추위원회별'!$C38) -> 0 | E38: =SUMIFS('2추일입'!$H$7:$H$638,'2추일입'!$A$7:$A$638,'2추위원회별'!$A38,'2추일입'!$B$7:$B$638,'2추위원회별'!$C38) -> 0 | F38: =SUMIFS('2추일입'!$H$7:$H$638,'2추일입'!$A$7:$A$638,'2추위원회별'!$A38,'2추일입'!$B$7:$B$638,'2추위원회별'!$C38) -> 0 | G38: =SUMIFS('2추일입'!$J$7:$J$638,'2추일입'!$A$7:$A$638,'2추위원회별'!$A38,'2추일입'!$B$7:$B$638,'2추위원회별'!$C38) -> 0 | H38: =SUMIFS('2추일입'!$K$7:$K$638,'2추일입'!$A$7:$A$638,'2추위원회별'!$A38,'2추일입'!$B$7:$B$638,'2추위원회별'!$C38) -> 0 | I38: =SUMIFS('2추일입'!$L$7:$L$638,'2추일입'!$A$7:$A$638,'2추위원회별'!$A38,'2추일입'!$B$7:$B$638,'2추위원회별'!$C38) -> 0 | J38: =SUMIFS('2추일입'!$V$7:$V$638,'2추일입'!$A$7:$A$638,'2추위원회별'!$A38,'2추일입'!$B$7:$B$638,'2추위원회별'!$C38) -> 0 | K38: =SUMIFS('2추일입'!$W$7:$W$638,'2추일입'!$A$7:$A$638,'2추위원회별'!$A38,'2추일입'!$B$7:$B$638,'2추위원회별'!$C38) -> 0 | L38: =SUMIFS('2추일입'!$M$7:$M$638,'2추일입'!$A$7:$A$638,'2추위원회별'!$A38,'2추일입'!$B$7:$B$638,'2추위원회별'!$C38) -> 0 | M38: =SUMIFS('2추일입'!$N$7:$N$638,'2추일입'!$A$7:$A$638,'2추위원회별'!$A38,'2추일입'!$B$7:$B$638,'2추위원회별'!$C38) -> 0 | N38: =SUMIFS('2추일입'!$O$7:$O$638,'2추일입'!$A$7:$A$638,'2추위원회별'!$A38,'2추일입'!$B$7:$B$638,'2추위원회별'!$C38) -> 0 | O38: =SUMIFS('2추일입'!$AA$7:$AA$638,'2추일입'!$A$7:$A$638,'2추위원회별'!$A38,'2추일입'!$B$7:$B$638,'2추위원회별'!$C38) -> 0 | P38: =SUMIFS('2추일입'!$AB$7:$AB$638,'2추일입'!$A$7:$A$638,'2추위원회별'!$A38,'2추일입'!$B$7:$B$638,'2추위원회별'!$C38) -> 0 | R38: =SUMIFS('2추일출'!$G$7:$G$463,'2추일출'!$A$7:$A$463,'2추위원회별'!$A38,'2추일출'!$B$7:$B$463,'2추위원회별'!$C38) -> 0 | S38: =SUMIFS('2추일출'!$H$7:$H$463,'2추일출'!$A$7:$A$463,'2추위원회별'!$A38,'2추일출'!$B$7:$B$463,'2추위원회별'!$C38) -> 0 | T38: =SUMIFS('2추일출'!$H$7:$H$463,'2추일출'!$A$7:$A$463,'2추위원회별'!$A38,'2추일출'!$B$7:$B$463,'2추위원회별'!$C38) -> 0 | U38: =SUMIFS('2추일출'!$J$7:$J$463,'2추일출'!$A$7:$A$463,'2추위원회별'!$A38,'2추일출'!$B$7:$B$463,'2추위원회별'!$C38) -> 0 | V38: =SUMIFS('2추일출'!$K$7:$K$463,'2추일출'!$A$7:$A$463,'2추위원회별'!$A38,'2추일출'!$B$7:$B$463,'2추위원회별'!$C38) -> 0 | W38: =SUMIFS('2추일출'!$L$7:$L$463,'2추일출'!$A$7:$A$463,'2추위원회별'!$A38,'2추일출'!$B$7:$B$463,'2추위원회별'!$C38) -> 0 | X38: =SUMIFS('2추일출'!$V$7:$V$463,'2추일출'!$A$7:$A$463,'2추위원회별'!$A38,'2추일출'!$B$7:$B$463,'2추위원회별'!$C38) -> 0 | Y38: =SUMIFS('2추일출'!$W$7:$W$463,'2추일출'!$A$7:$A$463,'2추위원회별'!$A38,'2추일출'!$B$7:$B$463,'2추위원회별'!$C38) -> 0 | Z38: =SUMIFS('2추일출'!$M$7:$M$463,'2추일출'!$A$7:$A$463,'2추위원회별'!$A38,'2추일출'!$B$7:$B$463,'2추위원회별'!$C38) -> 0 | AA38: =SUMIFS('2추일출'!$N$7:$N$463,'2추일출'!$A$7:$A$463,'2추위원회별'!$A38,'2추일출'!$B$7:$B$463,'2추위원회별'!$C38) -> 0 | AB38: =SUMIFS('2추일출'!$O$7:$O$463,'2추일출'!$A$7:$A$463,'2추위원회별'!$A38,'2추일출'!$B$7:$B$463,'2추위원회별'!$C38) -> 0 | AC38: =SUMIFS('2추일출'!$AA$7:$AA$463,'2추일출'!$A$7:$A$463,'2추위원회별'!$A38,'2추일출'!$B$7:$B$463,'2추위원회별'!$C38) -> 0 | AD38: =SUMIFS('2추일출'!$AB$7:$AB$463,'2추일출'!$A$7:$A$463,'2추위원회별'!$A38,'2추일출'!$B$7:$B$463,'2추위원회별'!$C38) -> 0
A39: 도시환경위원회 | C39: 환경국 | D39: =SUMIFS('2추일입'!$G$7:$G$638,'2추일입'!$A$7:$A$638,'2추위원회별'!$A39,'2추일입'!$B$7:$B$638,'2추위원회별'!$C39) -> 0 | E39: =SUMIFS('2추일입'!$H$7:$H$638,'2추일입'!$A$7:$A$638,'2추위원회별'!$A39,'2추일입'!$B$7:$B$638,'2추위원회별'!$C39) -> 4770000 | F39: =SUMIFS('2추일입'!$H$7:$H$638,'2추일입'!$A$7:$A$638,'2추위원회별'!$A39,'2추일입'!$B$7:$B$638,'2추위원회별'!$C39) -> 4770000 | G39: =SUMIFS('2추일입'!$J$7:$J$638,'2추일입'!$A$7:$A$638,'2추위원회별'!$A39,'2추일입'!$B$7:$B$638,'2추위원회별'!$C39) -> -2070000 | H39: =SUMIFS('2추일입'!$K$7:$K$638,'2추일입'!$A$7:$A$638,'2추위원회별'!$A39,'2추일입'!$B$7:$B$638,'2추위원회별'!$C39) -> 0 | I39: =SUMIFS('2추일입'!$L$7:$L$638,'2추일입'!$A$7:$A$638,'2추위원회별'!$A39,'2추일입'!$B$7:$B$638,'2추위원회별'!$C39) -> 2700000 | J39: =SUMIFS('2추일입'!$V$7:$V$638,'2추일입'!$A$7:$A$638,'2추위원회별'!$A39,'2추일입'!$B$7:$B$638,'2추위원회별'!$C39) -> -2070000 | K39: =SUMIFS('2추일입'!$W$7:$W$638,'2추일입'!$A$7:$A$638,'2추위원회별'!$A39,'2추일입'!$B$7:$B$638,'2추위원회별'!$C39) -> 0 | L39: =SUMIFS('2추일입'!$M$7:$M$638,'2추일입'!$A$7:$A$638,'2추위원회별'!$A39,'2추일입'!$B$7:$B$638,'2추위원회별'!$C39) -> 0 | M39: =SUMIFS('2추일입'!$N$7:$N$638,'2추일입'!$A$7:$A$638,'2추위원회별'!$A39,'2추일입'!$B$7:$B$638,'2추위원회별'!$C39) -> 0 | N39: =SUMIFS('2추일입'!$O$7:$O$638,'2추일입'!$A$7:$A$638,'2추위원회별'!$A39,'2추일입'!$B$7:$B$638,'2추위원회별'!$C39) -> 4770000 | O39: =SUMIFS('2추일입'!$AA$7:$AA$638,'2추일입'!$A$7:$A$638,'2추위원회별'!$A39,'2추일입'!$B$7:$B$638,'2추위원회별'!$C39) -> 0 | P39: =SUMIFS('2추일입'!$AB$7:$AB$638,'2추일입'!$A$7:$A$638,'2추위원회별'!$A39,'2추일입'!$B$7:$B$638,'2추위원회별'!$C39) -> 0 | R39: =SUMIFS('2추일출'!$G$7:$G$463,'2추일출'!$A$7:$A$463,'2추위원회별'!$A39,'2추일출'!$B$7:$B$463,'2추위원회별'!$C39) -> 0 | S39: =SUMIFS('2추일출'!$H$7:$H$463,'2추일출'!$A$7:$A$463,'2추위원회별'!$A39,'2추일출'!$B$7:$B$463,'2추위원회별'!$C39) -> 6015000 | T39: =SUMIFS('2추일출'!$H$7:$H$463,'2추일출'!$A$7:$A$463,'2추위원회별'!$A39,'2추일출'!$B$7:$B$463,'2추위원회별'!$C39) -> 6015000 | U39: =SUMIFS('2추일출'!$J$7:$J$463,'2추일출'!$A$7:$A$463,'2추위원회별'!$A39,'2추일출'!$B$7:$B$463,'2추위원회별'!$C39) -> -2220000 | V39: =SUMIFS('2추일출'!$K$7:$K$463,'2추일출'!$A$7:$A$463,'2추위원회별'!$A39,'2추일출'!$B$7:$B$463,'2추위원회별'!$C39) -> 0 | W39: =SUMIFS('2추일출'!$L$7:$L$463,'2추일출'!$A$7:$A$463,'2추위원회별'!$A39,'2추일출'!$B$7:$B$463,'2추위원회별'!$C39) -> 3795000 | X39: =SUMIFS('2추일출'!$V$7:$V$463,'2추일출'!$A$7:$A$463,'2추위원회별'!$A39,'2추일출'!$B$7:$B$463,'2추위원회별'!$C39) -> -2070000 | Y39: =SUMIFS('2추일출'!$W$7:$W$463,'2추일출'!$A$7:$A$463,'2추위원회별'!$A39,'2추일출'!$B$7:$B$463,'2추위원회별'!$C39) -> -150000 | Z39: =SUMIFS('2추일출'!$M$7:$M$463,'2추일출'!$A$7:$A$463,'2추위원회별'!$A39,'2추일출'!$B$7:$B$463,'2추위원회별'!$C39) -> 0 | AA39: =SUMIFS('2추일출'!$N$7:$N$463,'2추일출'!$A$7:$A$463,'2추위원회별'!$A39,'2추일출'!$B$7:$B$463,'2추위원회별'!$C39) -> 0 | AB39: =SUMIFS('2추일출'!$O$7:$O$463,'2추일출'!$A$7:$A$463,'2추위원회별'!$A39,'2추일출'!$B$7:$B$463,'2추위원회별'!$C39) -> 6015000 | AC39: =SUMIFS('2추일출'!$AA$7:$AA$463,'2추일출'!$A$7:$A$463,'2추위원회별'!$A39,'2추일출'!$B$7:$B$463,'2추위원회별'!$C39) -> 0 | AD39: =SUMIFS('2추일출'!$AB$7:$AB$463,'2추일출'!$A$7:$A$463,'2추위원회별'!$A39,'2추일출'!$B$7:$B$463,'2추위원회별'!$C39) -> 0
A40: 도시환경위원회 | C40: 축산산림국 | D40: =SUMIFS('2추일입'!$G$7:$G$638,'2추일입'!$A$7:$A$638,'2추위원회별'!$A40,'2추일입'!$B$7:$B$638,'2추위원회별'!$C40) -> 0 | E40: =SUMIFS('2추일입'!$H$7:$H$638,'2추일입'!$A$7:$A$638,'2추위원회별'!$A40,'2추일입'!$B$7:$B$638,'2추위원회별'!$C40) -> 0 | F40: =SUMIFS('2추일입'!$H$7:$H$638,'2추일입'!$A$7:$A$638,'2추위원회별'!$A40,'2추일입'!$B$7:$B$638,'2추위원회별'!$C40) -> 0 | G40: =SUMIFS('2추일입'!$J$7:$J$638,'2추일입'!$A$7:$A$638,'2추위원회별'!$A40,'2추일입'!$B$7:$B$638,'2추위원회별'!$C40) -> 0 | H40: =SUMIFS('2추일입'!$K$7:$K$638,'2추일입'!$A$7:$A$638,'2추위원회별'!$A40,'2추일입'!$B$7:$B$638,'2추위원회별'!$C40) -> 0 | I40: =SUMIFS('2추일입'!$L$7:$L$638,'2추일입'!$A$7:$A$638,'2추위원회별'!$A40,'2추일입'!$B$7:$B$638,'2추위원회별'!$C40) -> 0 | J40: =SUMIFS('2추일입'!$V$7:$V$638,'2추일입'!$A$7:$A$638,'2추위원회별'!$A40,'2추일입'!$B$7:$B$638,'2추위원회별'!$C40) -> 0 | K40: =SUMIFS('2추일입'!$W$7:$W$638,'2추일입'!$A$7:$A$638,'2추위원회별'!$A40,'2추일입'!$B$7:$B$638,'2추위원회별'!$C40) -> 0 | L40: =SUMIFS('2추일입'!$M$7:$M$638,'2추일입'!$A$7:$A$638,'2추위원회별'!$A40,'2추일입'!$B$7:$B$638,'2추위원회별'!$C40) -> 0 | M40: =SUMIFS('2추일입'!$N$7:$N$638,'2추일입'!$A$7:$A$638,'2추위원회별'!$A40,'2추일입'!$B$7:$B$638,'2추위원회별'!$C40) -> 0 | N40: =SUMIFS('2추일입'!$O$7:$O$638,'2추일입'!$A$7:$A$638,'2추위원회별'!$A40,'2추일입'!$B$7:$B$638,'2추위원회별'!$C40) -> 0 | O40: =SUMIFS('2추일입'!$AA$7:$AA$638,'2추일입'!$A$7:$A$638,'2추위원회별'!$A40,'2추일입'!$B$7:$B$638,'2추위원회별'!$C40) -> 0 | P40: =SUMIFS('2추일입'!$AB$7:$AB$638,'2추일입'!$A$7:$A$638,'2추위원회별'!$A40,'2추일입'!$B$7:$B$638,'2추위원회별'!$C40) -> 0 | R40: =SUMIFS('2추일출'!$G$7:$G$463,'2추일출'!$A$7:$A$463,'2추위원회별'!$A40,'2추일출'!$B$7:$B$463,'2추위원회별'!$C40) -> 0 | S40: =SUMIFS('2추일출'!$H$7:$H$463,'2추일출'!$A$7:$A$463,'2추위원회별'!$A40,'2추일출'!$B$7:$B$463,'2추위원회별'!$C40) -> 0 | T40: =SUMIFS('2추일출'!$H$7:$H$463,'2추일출'!$A$7:$A$463,'2추위원회별'!$A40,'2추일출'!$B$7:$B$463,'2추위원회별'!$C40) -> 0 | U40: =SUMIFS('2추일출'!$J$7:$J$463,'2추일출'!$A$7:$A$463,'2추위원회별'!$A40,'2추일출'!$B$7:$B$463,'2추위원회별'!$C40) -> 0 | V40: =SUMIFS('2추일출'!$K$7:$K$463,'2추일출'!$A$7:$A$463,'2추위원회별'!$A40,'2추일출'!$B$7:$B$463,'2추위원회별'!$C40) -> 0 | W40: =SUMIFS('2추일출'!$L$7:$L$463,'2추일출'!$A$7:$A$463,'2추위원회별'!$A40,'2추일출'!$B$7:$B$463,'2추위원회별'!$C40) -> 0 | X40: =SUMIFS('2추일출'!$V$7:$V$463,'2추일출'!$A$7:$A$463,'2추위원회별'!$A40,'2추일출'!$B$7:$B$463,'2추위원회별'!$C40) -> 0 | Y40: =SUMIFS('2추일출'!$W$7:$W$463,'2추일출'!$A$7:$A$463,'2추위원회별'!$A40,'2추일출'!$B$7:$B$463,'2추위원회별'!$C40) -> 0 | Z40: =SUMIFS('2추일출'!$M$7:$M$463,'2추일출'!$A$7:$A$463,'2추위원회별'!$A40,'2추일출'!$B$7:$B$463,'2추위원회별'!$C40) -> 0 | AA40: =SUMIFS('2추일출'!$N$7:$N$463,'2추일출'!$A$7:$A$463,'2추위원회별'!$A40,'2추일출'!$B$7:$B$463,'2추위원회별'!$C40) -> 0 | AB40: =SUMIFS('2추일출'!$O$7:$O$463,'2추일출'!$A$7:$A$463,'2추위원회별'!$A40,'2추일출'!$B$7:$B$463,'2추위원회별'!$C40) -> 0 | AC40: =SUMIFS('2추일출'!$AA$7:$AA$463,'2추일출'!$A$7:$A$463,'2추위원회별'!$A40,'2추일출'!$B$7:$B$463,'2추위원회별'!$C40) -> 0 | AD40: =SUMIFS('2추일출'!$AB$7:$AB$463,'2추일출'!$A$7:$A$463,'2추위원회별'!$A40,'2추일출'!$B$7:$B$463,'2추위원회별'!$C40) -> 0
A41: 도시환경위원회 | C41: 보건환경연구원 | D41: =SUMIFS('2추일입'!$G$7:$G$638,'2추일입'!$A$7:$A$638,'2추위원회별'!$A41,'2추일입'!$B$7:$B$638,'2추위원회별'!$C41) -> 0 | E41: =SUMIFS('2추일입'!$H$7:$H$638,'2추일입'!$A$7:$A$638,'2추위원회별'!$A41,'2추일입'!$B$7:$B$638,'2추위원회별'!$C41) -> 0 | F41: =SUMIFS('2추일입'!$H$7:$H$638,'2추일입'!$A$7:$A$638,'2추위원회별'!$A41,'2추일입'!$B$7:$B$638,'2추위원회별'!$C41) -> 0 | G41: =SUMIFS('2추일입'!$J$7:$J$638,'2추일입'!$A$7:$A$638,'2추위원회별'!$A41,'2추일입'!$B$7:$B$638,'2추위원회별'!$C41) -> 0 | H41: =SUMIFS('2추일입'!$K$7:$K$638,'2추일입'!$A$7:$A$638,'2추위원회별'!$A41,'2추일입'!$B$7:$B$638,'2추위원회별'!$C41) -> 0 | I41: =SUMIFS('2추일입'!$L$7:$L$638,'2추일입'!$A$7:$A$638,'2추위원회별'!$A41,'2추일입'!$B$7:$B$638,'2추위원회별'!$C41) -> 0 | J41: =SUMIFS('2추일입'!$V$7:$V$638,'2추일입'!$A$7:$A$638,'2추위원회별'!$A41,'2추일입'!$B$7:$B$638,'2추위원회별'!$C41) -> 0 | K41: =SUMIFS('2추일입'!$W$7:$W$638,'2추일입'!$A$7:$A$638,'2추위원회별'!$A41,'2추일입'!$B$7:$B$638,'2추위원회별'!$C41) -> 0 | L41: =SUMIFS('2추일입'!$M$7:$M$638,'2추일입'!$A$7:$A$638,'2추위원회별'!$A41,'2추일입'!$B$7:$B$638,'2추위원회별'!$C41) -> 0 | M41: =SUMIFS('2추일입'!$N$7:$N$638,'2추일입'!$A$7:$A$638,'2추위원회별'!$A41,'2추일입'!$B$7:$B$638,'2추위원회별'!$C41) -> 0 | N41: =SUMIFS('2추일입'!$O$7:$O$638,'2추일입'!$A$7:$A$638,'2추위원회별'!$A41,'2추일입'!$B$7:$B$638,'2추위원회별'!$C41) -> 0 | O41: =SUMIFS('2추일입'!$AA$7:$AA$638,'2추일입'!$A$7:$A$638,'2추위원회별'!$A41,'2추일입'!$B$7:$B$638,'2추위원회별'!$C41) -> 0 | P41: =SUMIFS('2추일입'!$AB$7:$AB$638,'2추일입'!$A$7:$A$638,'2추위원회별'!$A41,'2추일입'!$B$7:$B$638,'2추위원회별'!$C41) -> 0 | R41: =SUMIFS('2추일출'!$G$7:$G$463,'2추일출'!$A$7:$A$463,'2추위원회별'!$A41,'2추일출'!$B$7:$B$463,'2추위원회별'!$C41) -> 0 | S41: =SUMIFS('2추일출'!$H$7:$H$463,'2추일출'!$A$7:$A$463,'2추위원회별'!$A41,'2추일출'!$B$7:$B$463,'2추위원회별'!$C41) -> 0 | T41: =SUMIFS('2추일출'!$H$7:$H$463,'2추일출'!$A$7:$A$463,'2추위원회별'!$A41,'2추일출'!$B$7:$B$463,'2추위원회별'!$C41) -> 0 | U41: =SUMIFS('2추일출'!$J$7:$J$463,'2추일출'!$A$7:$A$463,'2추위원회별'!$A41,'2추일출'!$B$7:$B$463,'2추위원회별'!$C41) -> 0 | V41: =SUMIFS('2추일출'!$K$7:$K$463,'2추일출'!$A$7:$A$463,'2추위원회별'!$A41,'2추일출'!$B$7:$B$463,'2추위원회별'!$C41) -> 0 | W41: =SUMIFS('2추일출'!$L$7:$L$463,'2추일출'!$A$7:$A$463,'2추위원회별'!$A41,'2추일출'!$B$7:$B$463,'2추위원회별'!$C41) -> 0 | X41: =SUMIFS('2추일출'!$V$7:$V$463,'2추일출'!$A$7:$A$463,'2추위원회별'!$A41,'2추일출'!$B$7:$B$463,'2추위원회별'!$C41) -> 0 | Y41: =SUMIFS('2추일출'!$W$7:$W$463,'2추일출'!$A$7:$A$463,'2추위원회별'!$A41,'2추일출'!$B$7:$B$463,'2추위원회별'!$C41) -> 0 | Z41: =SUMIFS('2추일출'!$M$7:$M$463,'2추일출'!$A$7:$A$463,'2추위원회별'!$A41,'2추일출'!$B$7:$B$463,'2추위원회별'!$C41) -> 0 | AA41: =SUMIFS('2추일출'!$N$7:$N$463,'2추일출'!$A$7:$A$463,'2추위원회별'!$A41,'2추일출'!$B$7:$B$463,'2추위원회별'!$C41) -> 0 | AB41: =SUMIFS('2추일출'!$O$7:$O$463,'2추일출'!$A$7:$A$463,'2추위원회별'!$A41,'2추일출'!$B$7:$B$463,'2추위원회별'!$C41) -> 0 | AC41: =SUMIFS('2추일출'!$AA$7:$AA$463,'2추일출'!$A$7:$A$463,'2추위원회별'!$A41,'2추일출'!$B$7:$B$463,'2추위원회별'!$C41) -> 0 | AD41: =SUMIFS('2추일출'!$AB$7:$AB$463,'2추일출'!$A$7:$A$463,'2추위원회별'!$A41,'2추일출'!$B$7:$B$463,'2추위원회별'!$C41) -> 0
A42: 도시환경위원회 | C42: 수자원본부 | D42: =SUMIFS('2추일입'!$G$7:$G$638,'2추일입'!$A$7:$A$638,'2추위원회별'!$A42,'2추일입'!$B$7:$B$638,'2추위원회별'!$C42) -> 172374190 | E42: =SUMIFS('2추일입'!$H$7:$H$638,'2추일입'!$A$7:$A$638,'2추위원회별'!$A42,'2추일입'!$B$7:$B$638,'2추위원회별'!$C42) -> 351069021 | F42: =SUMIFS('2추일입'!$H$7:$H$638,'2추일입'!$A$7:$A$638,'2추위원회별'!$A42,'2추일입'!$B$7:$B$638,'2추위원회별'!$C42) -> 351069021 | G42: =SUMIFS('2추일입'!$J$7:$J$638,'2추일입'!$A$7:$A$638,'2추위원회별'!$A42,'2추일입'!$B$7:$B$638,'2추위원회별'!$C42) -> -36609750 | H42: =SUMIFS('2추일입'!$K$7:$K$638,'2추일입'!$A$7:$A$638,'2추위원회별'!$A42,'2추일입'!$B$7:$B$638,'2추위원회별'!$C42) -> 118478 | I42: =SUMIFS('2추일입'!$L$7:$L$638,'2추일입'!$A$7:$A$638,'2추위원회별'!$A42,'2추일입'!$B$7:$B$638,'2추위원회별'!$C42) -> 319160918 | J42: =SUMIFS('2추일입'!$V$7:$V$638,'2추일입'!$A$7:$A$638,'2추위원회별'!$A42,'2추일입'!$B$7:$B$638,'2추위원회별'!$C42) -> -36609750 | K42: =SUMIFS('2추일입'!$W$7:$W$638,'2추일입'!$A$7:$A$638,'2추위원회별'!$A42,'2추일입'!$B$7:$B$638,'2추위원회별'!$C42) -> 118478 | L42: =SUMIFS('2추일입'!$M$7:$M$638,'2추일입'!$A$7:$A$638,'2추위원회별'!$A42,'2추일입'!$B$7:$B$638,'2추위원회별'!$C42) -> 0 | M42: =SUMIFS('2추일입'!$N$7:$N$638,'2추일입'!$A$7:$A$638,'2추위원회별'!$A42,'2추일입'!$B$7:$B$638,'2추위원회별'!$C42) -> 0 | N42: =SUMIFS('2추일입'!$O$7:$O$638,'2추일입'!$A$7:$A$638,'2추위원회별'!$A42,'2추일입'!$B$7:$B$638,'2추위원회별'!$C42) -> 355652190 | O42: =SUMIFS('2추일입'!$AA$7:$AA$638,'2추일입'!$A$7:$A$638,'2추위원회별'!$A42,'2추일입'!$B$7:$B$638,'2추위원회별'!$C42) -> 0 | P42: =SUMIFS('2추일입'!$AB$7:$AB$638,'2추일입'!$A$7:$A$638,'2추위원회별'!$A42,'2추일입'!$B$7:$B$638,'2추위원회별'!$C42) -> 0 | R42: =SUMIFS('2추일출'!$G$7:$G$463,'2추일출'!$A$7:$A$463,'2추위원회별'!$A42,'2추일출'!$B$7:$B$463,'2추위원회별'!$C42) -> 171607000 | S42: =SUMIFS('2추일출'!$H$7:$H$463,'2추일출'!$A$7:$A$463,'2추위원회별'!$A42,'2추일출'!$B$7:$B$463,'2추위원회별'!$C42) -> 382098855 | T42: =SUMIFS('2추일출'!$H$7:$H$463,'2추일출'!$A$7:$A$463,'2추위원회별'!$A42,'2추일출'!$B$7:$B$463,'2추위원회별'!$C42) -> 382098855 | U42: =SUMIFS('2추일출'!$J$7:$J$463,'2추일출'!$A$7:$A$463,'2추위원회별'!$A42,'2추일출'!$B$7:$B$463,'2추위원회별'!$C42) -> -41331350 | V42: =SUMIFS('2추일출'!$K$7:$K$463,'2추일출'!$A$7:$A$463,'2추위원회별'!$A42,'2추일출'!$B$7:$B$463,'2추위원회별'!$C42) -> 0 | W42: =SUMIFS('2추일출'!$L$7:$L$463,'2추일출'!$A$7:$A$463,'2추위원회별'!$A42,'2추일출'!$B$7:$B$463,'2추위원회별'!$C42) -> 345314505 | X42: =SUMIFS('2추일출'!$V$7:$V$463,'2추일출'!$A$7:$A$463,'2추위원회별'!$A42,'2추일출'!$B$7:$B$463,'2추위원회별'!$C42) -> -41331350 | Y42: =SUMIFS('2추일출'!$W$7:$W$463,'2추일출'!$A$7:$A$463,'2추위원회별'!$A42,'2추일출'!$B$7:$B$463,'2추위원회별'!$C42) -> 0 | Z42: =SUMIFS('2추일출'!$M$7:$M$463,'2추일출'!$A$7:$A$463,'2추위원회별'!$A42,'2추일출'!$B$7:$B$463,'2추위원회별'!$C42) -> 0 | AA42: =SUMIFS('2추일출'!$N$7:$N$463,'2추일출'!$A$7:$A$463,'2추위원회별'!$A42,'2추일출'!$B$7:$B$463,'2추위원회별'!$C42) -> 0 | AB42: =SUMIFS('2추일출'!$O$7:$O$463,'2추일출'!$A$7:$A$463,'2추위원회별'!$A42,'2추일출'!$B$7:$B$463,'2추위원회별'!$C42) -> 386645855 | AC42: =SUMIFS('2추일출'!$AA$7:$AA$463,'2추일출'!$A$7:$A$463,'2추위원회별'!$A42,'2추일출'!$B$7:$B$463,'2추위원회별'!$C42) -> 0 | AD42: =SUMIFS('2추일출'!$AB$7:$AB$463,'2추일출'!$A$7:$A$463,'2추위원회별'!$A42,'2추일출'!$B$7:$B$463,'2추위원회별'!$C42) -> 0
B43: 여성가족교육협력위원회 | D43: =SUM(D44:D46) -> 0 | E43: =SUM(E44:E46) -> 0 | F43: =SUM(F44:F46) -> 0 | G43: =SUM(G44:G46) -> 0 | H43: =SUM(H44:H46) -> 0 | I43: =SUM(I44:I46) -> 0 | J43: =SUM(J44:J46) -> 0 | K43: =SUM(K44:K46) -> 0 | ... P43: =SUM(P44:P46) -> 0 | R43: =SUM(R44:R46) -> 0 | S43: =SUM(S44:S46) -> 0 | T43: =SUM(T44:T46) -> 0 | U43: =SUM(U44:U46) -> 0 | V43: =SUM(V44:V46) -> 0 | W43: =SUM(W44:W46) -> 0 | X43: =SUM(X44:X46) -> 0 | Y43: =SUM(Y44:Y46) -> 0 | ... AD43: =SUM(AD44:AD46) -> 0
A44: 여성가족교육협력위원회 | C44: 교육협력국 | D44: =SUMIFS('2추일입'!$G$7:$G$638,'2추일입'!$A$7:$A$638,'2추위원회별'!$A44,'2추일입'!$B$7:$B$638,'2추위원회별'!$C44) -> 0 | E44: =SUMIFS('2추일입'!$H$7:$H$638,'2추일입'!$A$7:$A$638,'2추위원회별'!$A44,'2추일입'!$B$7:$B$638,'2추위원회별'!$C44) -> 0 | F44: =SUMIFS('2추일입'!$H$7:$H$638,'2추일입'!$A$7:$A$638,'2추위원회별'!$A44,'2추일입'!$B$7:$B$638,'2추위원회별'!$C44) -> 0 | G44: =SUMIFS('2추일입'!$J$7:$J$638,'2추일입'!$A$7:$A$638,'2추위원회별'!$A44,'2추일입'!$B$7:$B$638,'2추위원회별'!$C44) -> 0 | H44: =SUMIFS('2추일입'!$K$7:$K$638,'2추일입'!$A$7:$A$638,'2추위원회별'!$A44,'2추일입'!$B$7:$B$638,'2추위원회별'!$C44) -> 0 | I44: =SUMIFS('2추일입'!$L$7:$L$638,'2추일입'!$A$7:$A$638,'2추위원회별'!$A44,'2추일입'!$B$7:$B$638,'2추위원회별'!$C44) -> 0 | J44: =SUMIFS('2추일입'!$V$7:$V$638,'2추일입'!$A$7:$A$638,'2추위원회별'!$A44,'2추일입'!$B$7:$B$638,'2추위원회별'!$C44) -> 0 | K44: =SUMIFS('2추일입'!$W$7:$W$638,'2추일입'!$A$7:$A$638,'2추위원회별'!$A44,'2추일입'!$B$7:$B$638,'2추위원회별'!$C44) -> 0 | L44: =SUMIFS('2추일입'!$M$7:$M$638,'2추일입'!$A$7:$A$638,'2추위원회별'!$A44,'2추일입'!$B$7:$B$638,'2추위원회별'!$C44) -> 0 | M44: =SUMIFS('2추일입'!$N$7:$N$638,'2추일입'!$A$7:$A$638,'2추위원회별'!$A44,'2추일입'!$B$7:$B$638,'2추위원회별'!$C44) -> 0 | N44: =SUMIFS('2추일입'!$O$7:$O$638,'2추일입'!$A$7:$A$638,'2추위원회별'!$A44,'2추일입'!$B$7:$B$638,'2추위원회별'!$C44) -> 0 | O44: =SUMIFS('2추일입'!$AA$7:$AA$638,'2추일입'!$A$7:$A$638,'2추위원회별'!$A44,'2추일입'!$B$7:$B$638,'2추위원회별'!$C44) -> 0 | P44: =SUMIFS('2추일입'!$AB$7:$AB$638,'2추일입'!$A$7:$A$638,'2추위원회별'!$A44,'2추일입'!$B$7:$B$638,'2추위원회별'!$C44) -> 0 | R44: =SUMIFS('2추일출'!$G$7:$G$463,'2추일출'!$A$7:$A$463,'2추위원회별'!$A44,'2추일출'!$B$7:$B$463,'2추위원회별'!$C44) -> 0 | S44: =SUMIFS('2추일출'!$H$7:$H$463,'2추일출'!$A$7:$A$463,'2추위원회별'!$A44,'2추일출'!$B$7:$B$463,'2추위원회별'!$C44) -> 0 | T44: =SUMIFS('2추일출'!$H$7:$H$463,'2추일출'!$A$7:$A$463,'2추위원회별'!$A44,'2추일출'!$B$7:$B$463,'2추위원회별'!$C44) -> 0 | U44: =SUMIFS('2추일출'!$J$7:$J$463,'2추일출'!$A$7:$A$463,'2추위원회별'!$A44,'2추일출'!$B$7:$B$463,'2추위원회별'!$C44) -> 0 | V44: =SUMIFS('2추일출'!$K$7:$K$463,'2추일출'!$A$7:$A$463,'2추위원회별'!$A44,'2추일출'!$B$7:$B$463,'2추위원회별'!$C44) -> 0 | W44: =SUMIFS('2추일출'!$L$7:$L$463,'2추일출'!$A$7:$A$463,'2추위원회별'!$A44,'2추일출'!$B$7:$B$463,'2추위원회별'!$C44) -> 0 | X44: =SUMIFS('2추일출'!$V$7:$V$463,'2추일출'!$A$7:$A$463,'2추위원회별'!$A44,'2추일출'!$B$7:$B$463,'2추위원회별'!$C44) -> 0 | Y44: =SUMIFS('2추일출'!$W$7:$W$463,'2추일출'!$A$7:$A$463,'2추위원회별'!$A44,'2추일출'!$B$7:$B$463,'2추위원회별'!$C44) -> 0 | Z44: =SUMIFS('2추일출'!$M$7:$M$463,'2추일출'!$A$7:$A$463,'2추위원회별'!$A44,'2추일출'!$B$7:$B$463,'2추위원회별'!$C44) -> 0 | AA44: =SUMIFS('2추일출'!$N$7:$N$463,'2추일출'!$A$7:$A$463,'2추위원회별'!$A44,'2추일출'!$B$7:$B$463,'2추위원회별'!$C44) -> 0 | AB44: =SUMIFS('2추일출'!$O$7:$O$463,'2추일출'!$A$7:$A$463,'2추위원회별'!$A44,'2추일출'!$B$7:$B$463,'2추위원회별'!$C44) -> 0 | AC44: =SUMIFS('2추일출'!$AA$7:$AA$463,'2추일출'!$A$7:$A$463,'2추위원회별'!$A44,'2추일출'!$B$7:$B$463,'2추위원회별'!$C44) -> 0 | AD44: =SUMIFS('2추일출'!$AB$7:$AB$463,'2추일출'!$A$7:$A$463,'2추위원회별'!$A44,'2추일출'!$B$7:$B$463,'2추위원회별'!$C44) -> 0
A45: 여성가족교육협력위원회 | C45: 여성가족국 | D45: =SUMIFS('2추일입'!$G$7:$G$638,'2추일입'!$A$7:$A$638,'2추위원회별'!$A45,'2추일입'!$B$7:$B$638,'2추위원회별'!$C45) -> 0 | E45: =SUMIFS('2추일입'!$H$7:$H$638,'2추일입'!$A$7:$A$638,'2추위원회별'!$A45,'2추일입'!$B$7:$B$638,'2추위원회별'!$C45) -> 0 | F45: =SUMIFS('2추일입'!$H$7:$H$638,'2추일입'!$A$7:$A$638,'2추위원회별'!$A45,'2추일입'!$B$7:$B$638,'2추위원회별'!$C45) -> 0 | G45: =SUMIFS('2추일입'!$J$7:$J$638,'2추일입'!$A$7:$A$638,'2추위원회별'!$A45,'2추일입'!$B$7:$B$638,'2추위원회별'!$C45) -> 0 | H45: =SUMIFS('2추일입'!$K$7:$K$638,'2추일입'!$A$7:$A$638,'2추위원회별'!$A45,'2추일입'!$B$7:$B$638,'2추위원회별'!$C45) -> 0 | I45: =SUMIFS('2추일입'!$L$7:$L$638,'2추일입'!$A$7:$A$638,'2추위원회별'!$A45,'2추일입'!$B$7:$B$638,'2추위원회별'!$C45) -> 0 | J45: =SUMIFS('2추일입'!$V$7:$V$638,'2추일입'!$A$7:$A$638,'2추위원회별'!$A45,'2추일입'!$B$7:$B$638,'2추위원회별'!$C45) -> 0 | K45: =SUMIFS('2추일입'!$W$7:$W$638,'2추일입'!$A$7:$A$638,'2추위원회별'!$A45,'2추일입'!$B$7:$B$638,'2추위원회별'!$C45) -> 0 | L45: =SUMIFS('2추일입'!$M$7:$M$638,'2추일입'!$A$7:$A$638,'2추위원회별'!$A45,'2추일입'!$B$7:$B$638,'2추위원회별'!$C45) -> 0 | M45: =SUMIFS('2추일입'!$N$7:$N$638,'2추일입'!$A$7:$A$638,'2추위원회별'!$A45,'2추일입'!$B$7:$B$638,'2추위원회별'!$C45) -> 0 | N45: =SUMIFS('2추일입'!$O$7:$O$638,'2추일입'!$A$7:$A$638,'2추위원회별'!$A45,'2추일입'!$B$7:$B$638,'2추위원회별'!$C45) -> 0 | O45: =SUMIFS('2추일입'!$AA$7:$AA$638,'2추일입'!$A$7:$A$638,'2추위원회별'!$A45,'2추일입'!$B$7:$B$638,'2추위원회별'!$C45) -> 0 | P45: =SUMIFS('2추일입'!$AB$7:$AB$638,'2추일입'!$A$7:$A$638,'2추위원회별'!$A45,'2추일입'!$B$7:$B$638,'2추위원회별'!$C45) -> 0 | R45: =SUMIFS('2추일출'!$G$7:$G$463,'2추일출'!$A$7:$A$463,'2추위원회별'!$A45,'2추일출'!$B$7:$B$463,'2추위원회별'!$C45) -> 0 | S45: =SUMIFS('2추일출'!$H$7:$H$463,'2추일출'!$A$7:$A$463,'2추위원회별'!$A45,'2추일출'!$B$7:$B$463,'2추위원회별'!$C45) -> 0 | T45: =SUMIFS('2추일출'!$H$7:$H$463,'2추일출'!$A$7:$A$463,'2추위원회별'!$A45,'2추일출'!$B$7:$B$463,'2추위원회별'!$C45) -> 0 | U45: =SUMIFS('2추일출'!$J$7:$J$463,'2추일출'!$A$7:$A$463,'2추위원회별'!$A45,'2추일출'!$B$7:$B$463,'2추위원회별'!$C45) -> 0 | V45: =SUMIFS('2추일출'!$K$7:$K$463,'2추일출'!$A$7:$A$463,'2추위원회별'!$A45,'2추일출'!$B$7:$B$463,'2추위원회별'!$C45) -> 0 | W45: =SUMIFS('2추일출'!$L$7:$L$463,'2추일출'!$A$7:$A$463,'2추위원회별'!$A45,'2추일출'!$B$7:$B$463,'2추위원회별'!$C45) -> 0 | X45: =SUMIFS('2추일출'!$V$7:$V$463,'2추일출'!$A$7:$A$463,'2추위원회별'!$A45,'2추일출'!$B$7:$B$463,'2추위원회별'!$C45) -> 0 | Y45: =SUMIFS('2추일출'!$W$7:$W$463,'2추일출'!$A$7:$A$463,'2추위원회별'!$A45,'2추일출'!$B$7:$B$463,'2추위원회별'!$C45) -> 0 | Z45: =SUMIFS('2추일출'!$M$7:$M$463,'2추일출'!$A$7:$A$463,'2추위원회별'!$A45,'2추일출'!$B$7:$B$463,'2추위원회별'!$C45) -> 0 | AA45: =SUMIFS('2추일출'!$N$7:$N$463,'2추일출'!$A$7:$A$463,'2추위원회별'!$A45,'2추일출'!$B$7:$B$463,'2추위원회별'!$C45) -> 0 | AB45: =SUMIFS('2추일출'!$O$7:$O$463,'2추일출'!$A$7:$A$463,'2추위원회별'!$A45,'2추일출'!$B$7:$B$463,'2추위원회별'!$C45) -> 0 | AC45: =SUMIFS('2추일출'!$AA$7:$AA$463,'2추일출'!$A$7:$A$463,'2추위원회별'!$A45,'2추일출'!$B$7:$B$463,'2추위원회별'!$C45) -> 0 | AD45: =SUMIFS('2추일출'!$AB$7:$AB$463,'2추일출'!$A$7:$A$463,'2추위원회별'!$A45,'2추일출'!$B$7:$B$463,'2추위원회별'!$C45) -> 0
A46: 여성가족교육협력위원회 | C46: 복지여성실 | D46: =SUMIFS('2추일입'!$G$7:$G$638,'2추일입'!$A$7:$A$638,'2추위원회별'!$A46,'2추일입'!$B$7:$B$638,'2추위원회별'!$C46) -> 0 | E46: =SUMIFS('2추일입'!$H$7:$H$638,'2추일입'!$A$7:$A$638,'2추위원회별'!$A46,'2추일입'!$B$7:$B$638,'2추위원회별'!$C46) -> 0 | F46: =SUMIFS('2추일입'!$H$7:$H$638,'2추일입'!$A$7:$A$638,'2추위원회별'!$A46,'2추일입'!$B$7:$B$638,'2추위원회별'!$C46) -> 0 | G46: =SUMIFS('2추일입'!$J$7:$J$638,'2추일입'!$A$7:$A$638,'2추위원회별'!$A46,'2추일입'!$B$7:$B$638,'2추위원회별'!$C46) -> 0 | H46: =SUMIFS('2추일입'!$K$7:$K$638,'2추일입'!$A$7:$A$638,'2추위원회별'!$A46,'2추일입'!$B$7:$B$638,'2추위원회별'!$C46) -> 0 | I46: =SUMIFS('2추일입'!$L$7:$L$638,'2추일입'!$A$7:$A$638,'2추위원회별'!$A46,'2추일입'!$B$7:$B$638,'2추위원회별'!$C46) -> 0 | J46: =SUMIFS('2추일입'!$V$7:$V$638,'2추일입'!$A$7:$A$638,'2추위원회별'!$A46,'2추일입'!$B$7:$B$638,'2추위원회별'!$C46) -> 0 | K46: =SUMIFS('2추일입'!$W$7:$W$638,'2추일입'!$A$7:$A$638,'2추위원회별'!$A46,'2추일입'!$B$7:$B$638,'2추위원회별'!$C46) -> 0 | L46: =SUMIFS('2추일입'!$M$7:$M$638,'2추일입'!$A$7:$A$638,'2추위원회별'!$A46,'2추일입'!$B$7:$B$638,'2추위원회별'!$C46) -> 0 | M46: =SUMIFS('2추일입'!$N$7:$N$638,'2추일입'!$A$7:$A$638,'2추위원회별'!$A46,'2추일입'!$B$7:$B$638,'2추위원회별'!$C46) -> 0 | N46: =SUMIFS('2추일입'!$O$7:$O$638,'2추일입'!$A$7:$A$638,'2추위원회별'!$A46,'2추일입'!$B$7:$B$638,'2추위원회별'!$C46) -> 0 | O46: =SUMIFS('2추일입'!$AA$7:$AA$638,'2추일입'!$A$7:$A$638,'2추위원회별'!$A46,'2추일입'!$B$7:$B$638,'2추위원회별'!$C46) -> 0 | P46: =SUMIFS('2추일입'!$AB$7:$AB$638,'2추일입'!$A$7:$A$638,'2추위원회별'!$A46,'2추일입'!$B$7:$B$638,'2추위원회별'!$C46) -> 0 | R46: =SUMIFS('2추일출'!$G$7:$G$463,'2추일출'!$A$7:$A$463,'2추위원회별'!$A46,'2추일출'!$B$7:$B$463,'2추위원회별'!$C46) -> 0 | S46: =SUMIFS('2추일출'!$H$7:$H$463,'2추일출'!$A$7:$A$463,'2추위원회별'!$A46,'2추일출'!$B$7:$B$463,'2추위원회별'!$C46) -> 0 | T46: =SUMIFS('2추일출'!$H$7:$H$463,'2추일출'!$A$7:$A$463,'2추위원회별'!$A46,'2추일출'!$B$7:$B$463,'2추위원회별'!$C46) -> 0 | U46: =SUMIFS('2추일출'!$J$7:$J$463,'2추일출'!$A$7:$A$463,'2추위원회별'!$A46,'2추일출'!$B$7:$B$463,'2추위원회별'!$C46) -> 0 | V46: =SUMIFS('2추일출'!$K$7:$K$463,'2추일출'!$A$7:$A$463,'2추위원회별'!$A46,'2추일출'!$B$7:$B$463,'2추위원회별'!$C46) -> 0 | W46: =SUMIFS('2추일출'!$L$7:$L$463,'2추일출'!$A$7:$A$463,'2추위원회별'!$A46,'2추일출'!$B$7:$B$463,'2추위원회별'!$C46) -> 0 | X46: =SUMIFS('2추일출'!$V$7:$V$463,'2추일출'!$A$7:$A$463,'2추위원회별'!$A46,'2추일출'!$B$7:$B$463,'2추위원회별'!$C46) -> 0 | Y46: =SUMIFS('2추일출'!$W$7:$W$463,'2추일출'!$A$7:$A$463,'2추위원회별'!$A46,'2추일출'!$B$7:$B$463,'2추위원회별'!$C46) -> 0 | Z46: =SUMIFS('2추일출'!$M$7:$M$463,'2추일출'!$A$7:$A$463,'2추위원회별'!$A46,'2추일출'!$B$7:$B$463,'2추위원회별'!$C46) -> 0 | AA46: =SUMIFS('2추일출'!$N$7:$N$463,'2추일출'!$A$7:$A$463,'2추위원회별'!$A46,'2추일출'!$B$7:$B$463,'2추위원회별'!$C46) -> 0 | AB46: =SUMIFS('2추일출'!$O$7:$O$463,'2추일출'!$A$7:$A$463,'2추위원회별'!$A46,'2추일출'!$B$7:$B$463,'2추위원회별'!$C46) -> 0 | AC46: =SUMIFS('2추일출'!$AA$7:$AA$463,'2추일출'!$A$7:$A$463,'2추위원회별'!$A46,'2추일출'!$B$7:$B$463,'2추위원회별'!$C46) -> 0 | AD46: =SUMIFS('2추일출'!$AB$7:$AB$463,'2추일출'!$A$7:$A$463,'2추위원회별'!$A46,'2추일출'!$B$7:$B$463,'2추위원회별'!$C46) -> 0

Sheet 2추일입
A1: 2014년도 제2회 추경 경기도 일반회계 세입 예산 조정(안)
A2: □세입예산 | V2: 세입 = 세출 | AA2: 세입 = 세출
J3: =COUNTA(J7:J18) -> 9 | K3: =COUNTA(K7:K18) -> 2 | M3: =COUNTA(M7:M18) -> 0 | N3: =COUNTA(N7:N18) -> 0 | Q3: (단위 : 천원) | V3: =IF(V6='2추일출'!$V$6,"OK","@@") -> @@ | W3: =SUM(V6:W6) -> -38561272 | X3: =IF(COUNTIF(X6:X909,"@@")>0,"@@","OK") -> OK | AA3: =IF(AA6='2추일출'!$AA$6,"OK","@@") -> OK | AB3: =SUM(AA6:AB6) -> 0 | AC3: =IF(COUNTIF(AC6:AC909,"@@")>0,"@@","OK") -> OK
A4: 위원회명 | B4: 실국명 | C4: 부서명 | D4: 편성 구분 | E4: 예산안 페이지 | F4: 사업명 | G4: 제2회 추경 예산안 (가) | H4: 기정액 (나) | I4: 제2회 추경 증감액 (다=가-나) | J4: 상임위 제2회 추경 예산안 조정액(라) | L4: 상임위 수정 예산안 (마=가or나+라) | M4: 예결위 제2회 추경 예산안 조정액(라) | O4: 예결위 수정 예산안 (마=나+다+라) | P4: 동의대상 | Q4: 비고(부대의견) | S4: 국도비 등 여부 | U4: 재원 | V4: 상임위 재원별 증감액 | Z4: 재원 | AA4: 예결위 재원별 증감액 | AE4: 위원회 부서별 정렬
J5: 감액 | K5: 증액 | M5: 감액 | N5: 증액 | V5: 국비 등 | W5: 도 비 | X5: 검증 | AA5: 국비 등 | AB5: 도 비 | AC5: 검증
A6: 계 | G6: =SUBTOTAL(9,G7:G821) -> 172374190 | H6: =SUBTOTAL(9,H7:H821) -> 355839021 | I6: =SUBTOTAL(9,I7:I821) -> 4583169 | J6: =SUBTOTAL(9,J7:J821) -> -38679750 | K6: =SUBTOTAL(9,K7:K821) -> 118478 | L6: =SUBTOTAL(9,L7:L821) -> 321860918 | M6: =SUBTOTAL(9,M7:M821) -> 0 | N6: =SUBTOTAL(9,N7:N821) -> 0 | O6: =SUBTOTAL(9,O7:O821) -> 360422190 | V6: =SUBTOTAL(9,V7:V821) -> -38679750 | W6: =SUBTOTAL(9,W7:W821) -> 118478 | X6: =IF((J6+K6)=(V6+W6),"OK","검토") -> OK | AA6: =SUBTOTAL(9,AA7:AA821) -> 0 | AB6: =SUBTOTAL(9,AB7:AB821) -> 0 | AC6: =IF((M6+N6)=(AA6+AB6),"OK","검토") -> OK
A7: =IFERROR(VLOOKUP('2추일입'!$C7,구분표!$A$2:$C$1001,2,FALSE),"") -> 도시환경위원회 | B7: =IFERROR(VLOOKUP('2추일입'!$C7,구분표!$A$2:$C$1001,3,FALSE),"") -> 환경국 | C7: 환경정책과 | D7: 1회추경 | F7: 환경성질환 예방관리센터 건립 - 수원 환경성질환예방관리센터 건립 - 가평 환경성질환예방관리센터 건립 | H7: 3100000 | I7: =IF(SUMPRODUCT(COUNTIF($D7,{"*본예산*","*1회추경*","*신규*"})),"-",G7-H7) -> - | J7: -400000 | L7: =IF(G7=0,H7+J7+K7,G7+J7+K7) -> 2700000 | O7: =IF(G7=0,H7+M7+N7,G7+M7+N7) -> 3100000 | P7: =IF(J7-M7<0,"동의필요","-") -> 동의필요 | Q7: 환경부 국비 감액내시에 따른 예산 감액 ※ 환경부 환경보건정책과-3821(2014.10.27.)호 | U7: 국비 | V7: =IF($U7<>"도비",IF($S7="국도비","직접입력",SUM($J7:$K7)),) -> -400000 | W7: =IF($U7="도비",SUM($J7:$K7),IF($S7="국도비","직접입력",SUM($J7:$K7)-$V7)) -> 0 | X7: =IF($S7="국도비","ok",IF(($J7+$K7)=($V7+$W7),"ok","검토")) -> ok | Z7: =$U7 -> 국비 | AA7: =IF($Z7<>"도비",IF($S7="국도비","직접입력",SUM($M7:$N7)),) -> 0 | AB7: =IF($Z7="도비",SUM($M7:$N7),IF($S7="국도비","직접입력",SUM($M7:$N7)-$AA7)) -> 0 | AC7: =IF($S7="국도비","ok",IF(($M7+$N7)=($AA7+$AB7),"ok","검토")) -> ok | AE7: {=IFERROR(IF($C7="","",INDEX(구분표!$I$2:$I$1001,MATCH(1,(구분표!$B$2:$B$1001='2추일입'!$A7)*(구분표!$C$2:$C$1001='2추일입'!$B7)*(구분표!$A$2:$A$1001='2추일입'!$C7),0))),"@@")} -> 2701
A8: =IFERROR(VLOOKUP('2추일입'!$C8,구분표!$A$2:$C$1001,2,FALSE),"") -> 도시환경위원회 | B8: =IFERROR(VLOOKUP('2추일입'!$C8,구분표!$A$2:$C$1001,3,FALSE),"") -> 환경국 | C8: 자원순환과 | D8: 1회추경 | F8: 폐기물자원화사업 | H8: 1670000 | I8: =IF(SUMPRODUCT(COUNTIF($D8,{"*본예산*","*1회추경*","*신규*"})),"-",G8-H8) -> - | J8: -1670000 | L8: =IF(G8=0,H8+J8+K8,G8+J8+K8) -> 0 | O8: =IF(G8=0,H8+M8+N8,G8+M8+N8) -> 1670000 | P8: =IF(J8-M8<0,"동의필요","-") -> 동의필요 | Q8: 환경부 국비 감액내시에 따른 예산 감액 ※ 환경부 폐자원에너지과-2024(2014.11.25.)호 | U8: 국비 | V8: =IF($U8<>"도비",IF($S8="국도비","직접입력",SUM($J8:$K8)),) -> -1670000 | W8: =IF($U8="도비",SUM($J8:$K8),IF($S8="국도비","직접입력",SUM($J8:$K8)-$V8)) -> 0 | X8: =IF($S8="국도비","ok",IF(($J8+$K8)=($V8+$W8),"ok","검토")) -> ok | Z8: =$U8 -> 국비 | AA8: =IF($Z8<>"도비",IF($S8="국도비","직접입력",SUM($M8:$N8)),) -> 0 | AB8: =IF($Z8="도비",SUM($M8:$N8),IF($S8="국도비","직접입력",SUM($M8:$N8)-$AA8)) -> 0 | AC8: =IF($S8="국도비","ok",IF(($M8+$N8)=($AA8+$AB8),"ok","검토")) -> ok | AE8: {=IFERROR(IF($C8="","",INDEX(구분표!$I$2:$I$1001,MATCH(1,(구분표!$B$2:$B$1001='2추일입'!$A8)*(구분표!$C$2:$C$1001='2추일입'!$B8)*(구분표!$A$2:$A$1001='2추일입'!$C8),0))),"@@")} -> 2704
A9: =IFERROR(VLOOKUP('2추일입'!$C9,구분표!$A$2:$C$1001,2,FALSE),"") -> 도시환경위원회 | B9: =IFERROR(VLOOKUP('2추일입'!$C9,구분표!$A$2:$C$1001,3,FALSE),"") -> 수자원본부 | C9: 수자원본부 | D9: 1회추경 | F9: 하수처리장확충 | H9: 82902000 | I9: =IF(SUMPRODUCT(COUNTIF($D9,{"*본예산*","*1회추경*","*신규*"})),"-",G9-H9) -> - | J9: -16728000 | L9: =IF(G9=0,H9+J9+K9,G9+J9+K9) -> 66174000 | O9: =IF(G9=0,H9+M9+N9,G9+M9+N9) -> 82902000 | P9: =IF(J9-M9<0,"동의필요","-") -> 동의필요 | Q9: 환경부 세입부족에 따른 미교부 | U9: 국비 | V9: =IF($U9<>"도비",IF($S9="국도비","직접입력",SUM($J9:$K9)),) -> -16728000 | W9: =IF($U9="도비",SUM($J9:$K9),IF($S9="국도비","직접입력",SUM($J9:$K9)-$V9)) -> 0 | X9: =IF($S9="국도비","ok",IF(($J9+$K9)=($V9+$W9),"ok","검토")) -> ok | Z9: =$U9 -> 국비 | AA9: =IF($Z9<>"도비",IF($S9="국도비","직접입력",SUM($M9:$N9)),) -> 0 | AB9: =IF($Z9="도비",SUM($M9:$N9),IF($S9="국도비","직접입력",SUM($M9:$N9)-$AA9)) -> 0 | AC9: =IF($S9="국도비","ok",IF(($M9+$N9)=($AA9+$AB9),"ok","검토")) -> ok | AE9: {=IFERROR(IF($C9="","",INDEX(구분표!$I$2:$I$1001,MATCH(1,(구분표!$B$2:$B$1001='2추일입'!$A9)*(구분표!$C$2:$C$1001='2추일입'!$B9)*(구분표!$A$2:$A$1001='2추일입'!$C9),0))),"@@")} -> 3001
A10: =IFERROR(VLOOKUP('2추일입'!$C10,구분표!$A$2:$C$1001,2,FALSE),"") -> 도시환경위원회 | B10: =IFERROR(VLOOKUP('2추일입'!$C10,구분표!$A$2:$C$1001,3,FALSE),"") -> 수자원본부 | C10: 수자원본부 | D10: 1회추경 | F10: 농어촌마을하수도 정비 | H10: 10946000 | I10: =IF(SUMPRODUCT(COUNTIF($D10,{"*본예산*","*1회추경*","*신규*"})),"-",G10-H10) -> - | J10: -220000 | L10: =IF(G10=0,H10+J10+K10,G10+J10+K10) -> 10726000 | O10: =IF(G10=0,H10+M10+N10,G10+M10+N10) -> 10946000 | P10: =IF(J10-M10<0,"동의필요","-") -> 동의필요 | Q10: 환경부 세입부족에 따른 미교부 | U10: 국비 | V10: =IF($U10<>"도비",IF($S10="국도비","직접입력",SUM($J10:$K10)),) -> -220000 | W10: =IF($U10="도비",SUM($J10:$K10),IF($S10="국도비","직접입력",SUM($J10:$K10)-$V10)) -> 0 | X10: =IF($S10="국도비","ok",IF(($J10+$K10)=($V10+$W10),"ok","검토")) -> ok | Z10: =$U10 -> 국비 | AA10: =IF($Z10<>"도비",IF($S10="국도비","직접입력",SUM($M10:$N10)),) -> 0 | AB10: =IF($Z10="도비",SUM($M10:$N10),IF($S10="국도비","직접입력",SUM($M10:$N10)-$AA10)) -> 0 | AC10: =IF($S10="국도비","ok",IF(($M10+$N10)=($AA10+$AB10),"ok","검토")) -> ok | AE10: {=IFERROR(IF($C10="","",INDEX(구분표!$I$2:$I$1001,MATCH(1,(구분표!$B$2:$B$1001='2추일입'!$A10)*(구분표!$C$2:$C$1001='2추일입'!$B10)*(구분표!$A$2:$A$1001='2추일입'!$C10),0))),"@@")} -> 3001
A11: =IFERROR(VLOOKUP('2추일입'!$C11,구분표!$A$2:$C$1001,2,FALSE),"") -> 도시환경위원회 | B11: =IFERROR(VLOOKUP('2추일입'!$C11,구분표!$A$2:$C$1001,3,FALSE),"") -> 수자원본부 | C11: 수자원본부 | D11: 2회추경 | E11: 441 | F11: 하수처리장 융자금원리금 상환 | G11: 5983000 | H11: 6210000 | I11: =IF(SUMPRODUCT(COUNTIF($D11,{"*본예산*","*1회추경*","*신규*"})),"-",G11-H11) -> -227000 | J11: -79000 | L11: =IF(G11=0,H11+J11+K11,G11+J11+K11) -> 5904000 | O11: =IF(G11=0,H11+M11+N11,G11+M11+N11) -> 5983000 | P11: =IF(J11-M11<0,"동의필요","-") -> 동의필요 | Q11: 환경부 국비 변경내시 및 세입부족에 따른 미교부 | U11: 국비 | V11: =IF($U11<>"도비",IF($S11="국도비","직접입력",SUM($J11:$K11)),) -> -79000 | W11: =IF($U11="도비",SUM($J11:$K11),IF($S11="국도비","직접입력",SUM($J11:$K11)-$V11)) -> 0 | X11: =IF($S11="국도비","ok",IF(($J11+$K11)=($V11+$W11),"ok","검토")) -> ok | Z11: =$U11 -> 국비 | AA11: =IF($Z11<>"도비",IF($S11="국도비","직접입력",SUM($M11:$N11)),) -> 0 | AB11: =IF($Z11="도비",SUM($M11:$N11),IF($S11="국도비","직접입력",SUM($M11:$N11)-$AA11)) -> 0 | AC11: =IF($S11="국도비","ok",IF(($M11+$N11)=($AA11+$AB11),"ok","검토")) -> ok | AE11: {=IFERROR(IF($C11="","",INDEX(구분표!$I$2:$I$1001,MATCH(1,(구분표!$B$2:$B$1001='2추일입'!$A11)*(구분표!$C$2:$C$1001='2추일입'!$B11)*(구분표!$A$2:$A$1001='2추일입'!$C11),0))),"@@")} -> 3001
A12: =IFERROR(VLOOKUP('2추일입'!$C12,구분표!$A$2:$C$1001,2,FALSE),"") -> 도시환경위원회 | B12: =IFERROR(VLOOKUP('2추일입'!$C12,구분표!$A$2:$C$1001,3,FALSE),"") -> 수자원본부 | C12: 수자원본부 | D12: 2회추경 | E12: 441 | F12: 하수관거정비사업 | G12: 165624000 | H12: 160850000 | I12: =IF(SUMPRODUCT(COUNTIF($D12,{"*본예산*","*1회추경*","*신규*"})),"-",G12-H12) -> 4774000 | J12: -11174000 | L12: =IF(G12=0,H12+J12+K12,G12+J12+K12) -> 154450000 | O12: =IF(G12=0,H12+M12+N12,G12+M12+N12) -> 165624000 | P12: =IF(J12-M12<0,"동의필요","-") -> 동의필요 | Q12: 환경부 국비 변경내시 및 세입부족에 따른 미교부 | U12: 국비 | V12: =IF($U12<>"도비",IF($S12="국도비","직접입력",SUM($J12:$K12)),) -> -11174000 | W12: =IF($U12="도비",SUM($J12:$K12),IF($S12="국도비","직접입력",SUM($J12:$K12)-$V12)) -> 0 | X12: =IF($S12="국도비","ok",IF(($J12+$K12)=($V12+$W12),"ok","검토")) -> ok | Z12: =$U12 -> 국비 | AA12: =IF($Z12<>"도비",IF($S12="국도비","직접입력",SUM($M12:$N12)),) -> 0 | AB12: =IF($Z12="도비",SUM($M12:$N12),IF($S12="국도비","직접입력",SUM($M12:$N12)-$AA12)) -> 0 | AC12: =IF($S12="국도비","ok",IF(($M12+$N12)=($AA12+$AB12),"ok","검토")) -> ok | AE12: {=IFERROR(IF($C12="","",INDEX(구분표!$I$2:$I$1001,MATCH(1,(구분표!$B$2:$B$1001='2추일입'!$A12)*(구분표!$C$2:$C$1001='2추일입'!$B12)*(구분표!$A$2:$A$1001='2추일입'!$C12),0))),"@@")} -> 3001
A13: =IFERROR(VLOOKUP('2추일입'!$C13,구분표!$A$2:$C$1001,2,FALSE),"") -> 도시환경위원회 | B13: =IFERROR(VLOOKUP('2추일입'!$C13,구분표!$A$2:$C$1001,3,FALSE),"") -> 수자원본부 | C13: 수자원본부 | D13: 1회추경 | F13: 도시침수대응 | H13: 34332000 | I13: =IF(SUMPRODUCT(COUNTIF($D13,{"*본예산*","*1회추경*","*신규*"})),"-",G13-H13) -> - | J13: -3000000 | L13: =IF(G13=0,H13+J13+K13,G13+J13+K13) -> 31332000 | O13: =IF(G13=0,H13+M13+N13,G13+M13+N13) -> 34332000 | P13: =IF(J13-M13<0,"동의필요","-") -> 동의필요 | Q13: 환경부 세입부족에 따른 미교부 | U13: 국비 | V13: =IF($U13<>"도비",IF($S13="국도비","직접입력",SUM($J13:$K13)),) -> -3000000 | W13: =IF($U13="도비",SUM($J13:$K13),IF($S13="국도비","직접입력",SUM($J13:$K13)-$V13)) -> 0 | X13: =IF($S13="국도비","ok",IF(($J13+$K13)=($V13+$W13),"ok","검토")) -> ok | Z13: =$U13 -> 국비 | AA13: =IF($Z13<>"도비",IF($S13="국도비","직접입력",SUM($M13:$N13)),) -> 0 | AB13: =IF($Z13="도비",SUM($M13:$N13),IF($S13="국도비","직접입력",SUM($M13:$N13)-$AA13)) -> 0 | AC13: =IF($S13="국도비","ok",IF(($M13+$N13)=($AA13+$AB13),"ok","검토")) -> ok | AE13: {=IFERROR(IF($C13="","",INDEX(구분표!$I$2:$I$1001,MATCH(1,(구분표!$B$2:$B$1001='2추일입'!$A13)*(구분표!$C$2:$C$1001='2추일입'!$B13)*(구분표!$A$2:$A$1001='2추일입'!$C13),0))),"@@")} -> 3001
A14: =IFERROR(VLOOKUP('2추일입'!$C14,구분표!$A$2:$C$1001,2,FALSE),"") -> 도시환경위원회 | B14: =IFERROR(VLOOKUP('2추일입'!$C14,구분표!$A$2:$C$1001,3,FALSE),"") -> 수자원본부 | C14: 수자원본부 | D14: 본예산 | F14: 하수관거정비BTL 임대료 지급 | H14: 35455000 | I14: =IF(SUMPRODUCT(COUNTIF($D14,{"*본예산*","*1회추경*","*신규*"})),"-",G14-H14) -> - | J14: -4308750 | L14: =IF(G14=0,H14+J14+K14,G14+J14+K14) -> 31146250 | O14: =IF(G14=0,H14+M14+N14,G14+M14+N14) -> 35455000 | P14: =IF(J14-M14<0,"동의필요","-") -> 동의필요 | Q14: 환경부 세입부족에 따른 미교부 | U14: 국비 | V14: =IF($U14<>"도비",IF($S14="국도비","직접입력",SUM($J14:$K14)),) -> -4308750 | W14: =IF($U14="도비",SUM($J14:$K14),IF($S14="국도비","직접입력",SUM($J14:$K14)-$V14)) -> 0 | X14: =IF($S14="국도비","ok",IF(($J14+$K14)=($V14+$W14),"ok","검토")) -> ok | Z14: =$U14 -> 국비 | AA14: =IF($Z14<>"도비",IF($S14="국도비","직접입력",SUM($M14:$N14)),) -> 0 | AB14: =IF($Z14="도비",SUM($M14:$N14),IF($S14="국도비","직접입력",SUM($M14:$N14)-$AA14)) -> 0 | AC14: =IF($S14="국도비","ok",IF(($M14+$N14)=($AA14+$AB14),"ok","검토")) -> ok | AE14: {=IFERROR(IF($C14="","",INDEX(구분표!$I$2:$I$1001,MATCH(1,(구분표!$B$2:$B$1001='2추일입'!$A14)*(구분표!$C$2:$C$1001='2추일입'!$B14)*(구분표!$A$2:$A$1001='2추일입'!$C14),0))),"@@")} -> 3001
A15: =IFERROR(VLOOKUP('2추일입'!$C15,구분표!$A$2:$C$1001,2,FALSE),"") -> 도시환경위원회 | B15: =IFERROR(VLOOKUP('2추일입'!$C15,구분표!$A$2:$C$1001,3,FALSE),"") -> 수자원본부 | C15: 수자원본부 | D15: 본예산 | F15: 하수처리수재이용 | H15: 19643000 | I15: =IF(SUMPRODUCT(COUNTIF($D15,{"*본예산*","*1회추경*","*신규*"})),"-",G15-H15) -> - | J15: -1100000 | L15: =IF(G15=0,H15+J15+K15,G15+J15+K15) -> 18543000 | O15: =IF(G15=0,H15+M15+N15,G15+M15+N15) -> 19643000 | P15: =IF(J15-M15<0,"동의필요","-") -> 동의필요 | Q15: 환경부 세입부족에 따른 미교부 | U15: 국비 | V15: =IF($U15<>"도비",IF($S15="국도비","직접입력",SUM($J15:$K15)),) -> -1100000 | W15: =IF($U15="도비",SUM($J15:$K15),IF($S15="국도비","직접입력",SUM($J15:$K15)-$V15)) -> 0 | X15: =IF($S15="국도비","ok",IF(($J15+$K15)=($V15+$W15),"ok","검토")) -> ok | Z15: =$U15 -> 국비 | AA15: =IF($Z15<>"도비",IF($S15="국도비","직접입력",SUM($M15:$N15)),) -> 0 | AB15: =IF($Z15="도비",SUM($M15:$N15),IF($S15="국도비","직접입력",SUM($M15:$N15)-$AA15)) -> 0 | AC15: =IF($S15="국도비","ok",IF(($M15+$N15)=($AA15+$AB15),"ok","검토")) -> ok | AE15: {=IFERROR(IF($C15="","",INDEX(구분표!$I$2:$I$1001,MATCH(1,(구분표!$B$2:$B$1001='2추일입'!$A15)*(구분표!$C$2:$C$1001='2추일입'!$B15)*(구분표!$A$2:$A$1001='2추일입'!$C15),0))),"@@")} -> 3001
A16: =IFERROR(VLOOKUP('2추일입'!$C16,구분표!$A$2:$C$1001,2,FALSE),"") -> 도시환경위원회 | B16: =IFERROR(VLOOKUP('2추일입'!$C16,구분표!$A$2:$C$1001,3,FALSE),"") -> 수자원본부 | C16: 수자원본부 | D16: 2회추경 | E16: 441 | F16: 시도비반환금수입 | G16: 736719 | H16: 724985 | I16: =IF(SUMPRODUCT(COUNTIF($D16,{"*본예산*","*1회추경*","*신규*"})),"-",G16-H16) -> 11734 | K16: 117531 | L16: =IF(G16=0,H16+J16+K16,G16+J16+K16) -> 854250 | O16: =IF(G16=0,H16+M16+N16,G16+M16+N16) -> 736719 | P16: =IF(J16-M16<0,"동의필요","-") -> - | U16: 도비 | W16: 117531 | X16: =IF($S16="국도비","ok",IF(($J16+$K16)=($V16+$W16),"ok","검토")) -> ok | Z16: =$U16 -> 도비 | AA16: =IF($Z16<>"도비",IF($S16="국도비","직접입력",SUM($M16:$N16)),) -> 0 | AB16: =IF($Z16="도비",SUM($M16:$N16),IF($S16="국도비","직접입력",SUM($M16:$N16)-$AA16)) -> 0 | AC16: =IF($S16="국도비","ok",IF(($M16+$N16)=($AA16+$AB16),"ok","검토")) -> ok | AE16: {=IFERROR(IF($C16="","",INDEX(구분표!$I$2:$I$1001,MATCH(1,(구분표!$B$2:$B$1001='2추일입'!$A16)*(구분표!$C$2:$C$1001='2추일입'!$B16)*(구분표!$A$2:$A$1001='2추일입'!$C16),0))),"@@")} -> 3001
A17: =IFERROR(VLOOKUP('2추일입'!$C17,구분표!$A$2:$C$1001,2,FALSE),"") -> 도시환경위원회 | B17: =IFERROR(VLOOKUP('2추일입'!$C17,구분표!$A$2:$C$1001,3,FALSE),"") -> 수자원본부 | C17: 수자원본부 | D17: 2회추경 | E17: 441 | F17: 그외수입 | G17: 30471 | H17: 6036 | I17: =IF(SUMPRODUCT(COUNTIF($D17,{"*본예산*","*1회추경*","*신규*"})),"-",G17-H17) -> 24435 | K17: 947 | L17: =IF(G17=0,H17+J17+K17,G17+J17+K17) -> 31418 | O17: =IF(G17=0,H17+M17+N17,G17+M17+N17) -> 30471 | P17: =IF(J17-M17<0,"동의필요","-") -> - | U17: 도비 | W17: 947 | X17: =IF($S17="국도비","ok",IF(($J17+$K17)=($V17+$W17),"ok","검토")) -> ok | Z17: =$U17 -> 도비 | AA17: =IF($Z17<>"도비",IF($S17="국도비","직접입력",SUM($M17:$N17)),) -> 0 | AB17: =IF($Z17="도비",SUM($M17:$N17),IF($S17="국도비","직접입력",SUM($M17:$N17)-$AA17)) -> 0 | AC17: =IF($S17="국도비","ok",IF(($M17+$N17)=($AA17+$AB17),"ok","검토")) -> ok | AE17: {=IFERROR(IF($C17="","",INDEX(구분표!$I$2:$I$1001,MATCH(1,(구분표!$B$2:$B$1001='2추일입'!$A17)*(구분표!$C$2:$C$1001='2추일입'!$B17)*(구분표!$A$2:$A$1001='2추일입'!$C17),0))),"@@")} -> 3001
A18: =IFERROR(VLOOKUP('2추일입'!$C18,구분표!$A$2:$C$1001,2,FALSE),"") | B18: =IFERROR(VLOOKUP('2추일입'!$C18,구분표!$A$2:$C$1001,3,FALSE),"") | O18: =IF(G18=0,H18+M18+N18,G18+M18+N18) -> 0 | P18: =IF(J18-M18<0,"동의필요","-") -> - | V18: =IF($U18<>"도비",IF($S18="국도비","직접입력",SUM($J18:$K18)),) -> 0 | W18: =IF($U18="도비",SUM($J18:$K18),IF($S18="국도비","직접입력",SUM($J18:$K18)-$V18)) -> 0 | X18: =IF($S18="국도비","ok",IF(($J18+$K18)=($V18+$W18),"ok","검토")) -> ok | Z18: =$U18 -> 0 | AA18: =IF($Z18<>"도비",IF($S18="국도비","직접입력",SUM($M18:$N18)),) -> 0 | AB18: =IF($Z18="도비",SUM($M18:$N18),IF($S18="국도비","직접입력",SUM($M18:$N18)-$AA18)) -> 0 | AC18: =IF($S18="국도비","ok",IF(($M18+$N18)=($AA18+$AB18),"ok","검토")) -> ok | AE18: {=IFERROR(IF($C18="","",INDEX(구분표!$I$2:$I$1001,MATCH(1,(구분표!$B$2:$B$1001='2추일입'!$A18)*(구분표!$C$2:$C$1001='2추일입'!$B18)*(구분표!$A$2:$A$1001='2추일입'!$C18),0))),"@@")}

Sheet 2추일출
A1: 2014년도 제2회 추경 경기도 일반회계 세출 예산 조정(안)
A2: □세출예산 | V2: 세입 = 세출 | AA2: 세입 = 세출
J3: =COUNTA(J7:J17) -> 10 | K3: =COUNTA(K7:K17) -> 0 | M3: =COUNTA(M7:M17) -> 0 | N3: =COUNTA(N7:N17) -> 0 | Q3: (단위 : 천원) | V3: =IF(V6='2추일입'!$V$6,"OK","@@") -> @@ | W3: =SUM(V6:W6) -> -43551350 | X3: =IF(COUNTIF(X6:X734,"@@")>0,"@@","OK") -> OK | AA3: =IF(AA6='2추일입'!$AA$6,"OK","@@") -> OK | AB3: =SUM(AA6:AB6) -> 0 | AC3: =IF(COUNTIF(AC6:AC734,"@@")>0,"@@","OK") -> OK
A4: 위원회명 | B4: 실국명 | C4: 부서명 | D4: 편성 구분 | E4: 예산안 페이지 | F4: 세부사업명 및 부기명 | G4: 제2회 추경 예산안 (가) | H4: 기정액 (나) | I4: 제2회 추경 증감액 (다=가-나) | J4: 상임위 제2회 추경 예산안 조정액(라) | L4: 상임위 수정 예산안 (마=가or나+라) | M4: 예결위 제2회 추경 예산안 조정액(라) | O4: 예결위 수정 예산안 (마=나+다+라) | P4: 동의대상 | Q4: 비고(부대의견) | S4: 국도비 등 여부 | U4: 재원 | V4: 상임위 재원별 증감액 | Z4: 재원 | AA4: 예결위 재원별 증감액 | AE4: 위원회 부서별 정렬
J5: 감액 | K5: 증액 | M5: 감액 | N5: 증액 | V5: 국비 등 | W5: 도 비 | X5: 검증 | AA5: 국비 등 | AB5: 도 비 | AC5: 검증
A6: 계 | G6: =SUBTOTAL(9,G7:G646) -> 171607000 | H6: =SUBTOTAL(9,H7:H646) -> 388113855 | I6: =SUBTOTAL(9,I7:I646) -> 4547000 | J6: =SUBTOTAL(9,J7:J646) -> -43551350 | K6: =SUBTOTAL(9,K7:K646) -> 0 | L6: =SUBTOTAL(9,L7:L646) -> 349109505 | M6: =SUBTOTAL(9,M7:M646) -> 0 | N6: =SUBTOTAL(9,N7:N646) -> 0 | O6: =SUBTOTAL(9,O7:O646) -> 392660855 | U6: 자동 입력 | V6: =SUBTOTAL(9,V7:V646) -> -43401350 | W6: =SUBTOTAL(9,W7:W646) -> -150000 | X6: =IF((J6+K6)=(V6+W6),"OK","검토") -> OK | AA6: =SUBTOTAL(9,AA7:AA646) -> 0 | AB6: =SUBTOTAL(9,AB7:AB646) -> 0 | AC6: =IF((M6+N6)=(AA6+AB6),"OK","검토") -> OK | AE6: =IF(COUNTIF(AE7:AE463,"@@")>0,"@@","OK") -> OK
A7: =IFERROR(VLOOKUP('2추일출'!$C7,구분표!$A$2:$C$1001,2,FALSE),"") -> 도시환경위원회 | B7: =IFERROR(VLOOKUP('2추일출'!$C7,구분표!$A$2:$C$1001,3,FALSE),"") -> 환경국 | C7: 환경정책과 | D7: 본예산 | F7: 환경성질환 예방관리센터 건립(국비/지원) - 수원 환경성질환예방관리센터 건립 | H7: 2025000 | I7: =IF(SUMPRODUCT(COUNTIF($D7,{"*본예산*","*1회추경*","*신규*"})),"-",G7-H7) -> - | J7: -100000 | L7: =IF(G7=0,H7+J7+K7,G7+J7+K7) -> 1925000 | O7: =IF(G7=0,H7+M7+N7,G7+M7+N7) -> 2025000 | P7: =IF(J7-M7<0,"동의필요","-") -> 동의필요 | Q7: 환경부 국비 감액내시에 따른 예산 감액 ※ 환경부 환경보건정책과-3821(2014.10.27.)호 | U7: =IF($S7="도비","도비",IF(COUNT(FIND("국비/",$F7)),"국비",IF(COUNT(FIND("광특/",$F7)),"광특",IF(COUNT(FIND("기금/",$F7)),"기금",IF(COUNT(FIND("분권/",$F7)),"분권",IF(COUNT(FIND("교부세/",$F7)),"특교",IF(COUNT(FIND("자체/",$F7)),"도비",""))))))) -> 국비 | V7: =IF($U7<>"도비",IF($S7="국도비","직접입력",SUM($J7:$K7)),) -> -100000 | W7: =IF($U7="도비",SUM($J7:$K7),IF($S7="국도비","직접입력",SUM($J7:$K7)-$V7)) -> 0 | X7: =IF($S7="국도비","ok",IF(($J7+$K7)=($V7+$W7),"ok","검토")) -> ok | Z7: =$U7 -> 국비 | AA7: =IF($Z7<>"도비",IF($S7="국도비","직접입력",SUM($M7:$N7)),) -> 0 | AB7: =IF($Z7="도비",SUM($M7:$N7),IF($S7="국도비","직접입력",SUM($M7:$N7)-$AA7)) -> 0 | AC7: =IF($S7="국도비","ok",IF(($M7+$N7)=($AA7+$AB7),"ok","검토")) -> ok | AE7: {=IFERROR(IF($C7="","",INDEX(구분표!$I$2:$I$1001,MATCH(1,(구분표!$B$2:$B$1001='2추일출'!$A7)*(구분표!$C$2:$C$1001='2추일출'!$B7)*(구분표!$A$2:$A$1001='2추일출'!$C7),0))),"@@")} -> 2701
A8: =IFERROR(VLOOKUP('2추일출'!$C8,구분표!$A$2:$C$1001,2,FALSE),"") -> 도시환경위원회 | B8: =IFERROR(VLOOKUP('2추일출'!$C8,구분표!$A$2:$C$1001,3,FALSE),"") -> 환경국 | C8: 환경정책과 | D8: 1회추경 | F8: 환경성질환 예방관리센터 건립(국비/지원) - 가평 환경성질환예방관리센터 건립 | H8: 2320000 | I8: =IF(SUMPRODUCT(COUNTIF($D8,{"*본예산*","*1회추경*","*신규*"})),"-",G8-H8) -> - | J8: -450000 | L8: =IF(G8=0,H8+J8+K8,G8+J8+K8) -> 1870000 | O8: =IF(G8=0,H8+M8+N8,G8+M8+N8) -> 2320000 | P8: =IF(J8-M8<0,"동의필요","-") -> 동의필요 | Q8: 환경부 국비 감액내시에 따른 예산 감액 ※ 환경부 환경보건정책과-3821(2014.10.27.)호 | U8: =IF($S8="도비","도비",IF(COUNT(FIND("국비/",$F8)),"국비",IF(COUNT(FIND("광특/",$F8)),"광특",IF(COUNT(FIND("기금/",$F8)),"기금",IF(COUNT(FIND("분권/",$F8)),"분권",IF(COUNT(FIND("교부세/",$F8)),"특교",IF(COUNT(FIND("자체/",$F8)),"도비",""))))))) -> 국비 | V8: -300000 | W8: =IF($U8="도비",SUM($J8:$K8),IF($S8="국도비","직접입력",SUM($J8:$K8)-$V8)) -> -150000 | X8: =IF($S8="국도비","ok",IF(($J8+$K8)=($V8+$W8),"ok","검토")) -> ok | Z8: =$U8 -> 국비 | AA8: =IF($Z8<>"도비",IF($S8="국도비","직접입력",SUM($M8:$N8)),) -> 0 | AB8: =IF($Z8="도비",SUM($M8:$N8),IF($S8="국도비","직접입력",SUM($M8:$N8)-$AA8)) -> 0 | AC8: =IF($S8="국도비","ok",IF(($M8+$N8)=($AA8+$AB8),"ok","검토")) -> ok | AE8: {=IFERROR(IF($C8="","",INDEX(구분표!$I$2:$I$1001,MATCH(1,(구분표!$B$2:$B$1001='2추일출'!$A8)*(구분표!$C$2:$C$1001='2추일출'!$B8)*(구분표!$A$2:$A$1001='2추일출'!$C8),0))),"@@")} -> 2701
A9: =IFERROR(VLOOKUP('2추일출'!$C9,구분표!$A$2:$C$1001,2,FALSE),"") -> 도시환경위원회 | B9: =IFERROR(VLOOKUP('2추일출'!$C9,구분표!$A$2:$C$1001,3,FALSE),"") -> 환경국 | C9: 자원순환과 | D9: 1회추경 | F9: 구리·남양주 음식물바이오가스화시설 설치(국비/지원) - 구리·남양주 음식물바이오가스화시설 설치사업 | H9: 1670000 | I9: =IF(SUMPRODUCT(COUNTIF($D9,{"*본예산*","*1회추경*","*신규*"})),"-",G9-H9) -> - | J9: -1670000 | L9: =IF(G9=0,H9+J9+K9,G9+J9+K9) -> 0 | O9: =IF(G9=0,H9+M9+N9,G9+M9+N9) -> 1670000 | P9: =IF(J9-M9<0,"동의필요","-") -> 동의필요 | Q9: 환경부 국비 감액내시에 따른 예산 감액 ※ 환경부 폐자원에너지과-2024(2014.11.25.)호 | U9: =IF($S9="도비","도비",IF(COUNT(FIND("국비/",$F9)),"국비",IF(COUNT(FIND("광특/",$F9)),"광특",IF(COUNT(FIND("기금/",$F9)),"기금",IF(COUNT(FIND("분권/",$F9)),"분권",IF(COUNT(FIND("교부세/",$F9)),"특교",IF(COUNT(FIND("자체/",$F9)),"도비",""))))))) -> 국비 | V9: =IF($U9<>"도비",IF($S9="국도비","직접입력",SUM($J9:$K9)),) -> -1670000 | W9: =IF($U9="도비",SUM($J9:$K9),IF($S9="국도비","직접입력",SUM($J9:$K9)-$V9)) -> 0 | X9: =IF($S9="국도비","ok",IF(($J9+$K9)=($V9+$W9),"ok","검토")) -> ok | Z9: =$U9 -> 국비 | AA9: =IF($Z9<>"도비",IF($S9="국도비","직접입력",SUM($M9:$N9)),) -> 0 | AB9: =IF($Z9="도비",SUM($M9:$N9),IF($S9="국도비","직접입력",SUM($M9:$N9)-$AA9)) -> 0 | AC9: =IF($S9="국도비","ok",IF(($M9+$N9)=($AA9+$AB9),"ok","검토")) -> ok | AE9: {=IFERROR(IF($C9="","",INDEX(구분표!$I$2:$I$1001,MATCH(1,(구분표!$B$2:$B$1001='2추일출'!$A9)*(구분표!$C$2:$C$1001='2추일출'!$B9)*(구분표!$A$2:$A$1001='2추일출'!$C9),0))),"@@")} -> 2704
A10: =IFERROR(VLOOKUP('2추일출'!$C10,구분표!$A$2:$C$1001,2,FALSE),"") -> 도시환경위원회 | B10: =IFERROR(VLOOKUP('2추일출'!$C10,구분표!$A$2:$C$1001,3,FALSE),"") -> 수자원본부 | C10: 수자원본부 | D10: 1회추경 | F10: 하수처리장확충(국비/지원) | H10: 113903900 | I10: =IF(SUMPRODUCT(COUNTIF($D10,{"*본예산*","*1회추경*","*신규*"})),"-",G10-H10) -> - | J10: -21449600 | L10: =IF(G10=0,H10+J10+K10,G10+J10+K10) -> 92454300 | O10: =IF(G10=0,H10+M10+N10,G10+M10+N10) -> 113903900 | P10: =IF(J10-M10<0,"동의필요","-") -> 동의필요 | Q10: 환경부 세입부족에 따른 미교부 | U10: =IF($S10="도비","도비",IF(COUNT(FIND("국비/",$F10)),"국비",IF(COUNT(FIND("광특/",$F10)),"광특",IF(COUNT(FIND("기금/",$F10)),"기금",IF(COUNT(FIND("분권/",$F10)),"분권",IF(COUNT(FIND("교부세/",$F10)),"특교",IF(COUNT(FIND("자체/",$F10)),"도비",""))))))) -> 국비 | V10: =IF($U10<>"도비",IF($S10="국도비","직접입력",SUM($J10:$K10)),) -> -21449600 | W10: =IF($U10="도비",SUM($J10:$K10),IF($S10="국도비","직접입력",SUM($J10:$K10)-$V10)) -> 0 | X10: =IF($S10="국도비","ok",IF(($J10+$K10)=($V10+$W10),"ok","검토")) -> ok | Z10: =$U10 -> 국비 | AA10: =IF($Z10<>"도비",IF($S10="국도비","직접입력",SUM($M10:$N10)),) -> 0 | AB10: =IF($Z10="도비",SUM($M10:$N10),IF($S10="국도비","직접입력",SUM($M10:$N10)-$AA10)) -> 0 | AC10: =IF($S10="국도비","ok",IF(($M10+$N10)=($AA10+$AB10),"ok","검토")) -> ok | AE10: {=IFERROR(IF($C10="","",INDEX(구분표!$I$2:$I$1001,MATCH(1,(구분표!$B$2:$B$1001='2추일출'!$A10)*(구분표!$C$2:$C$1001='2추일출'!$B10)*(구분표!$A$2:$A$1001='2추일출'!$C10),0))),"@@")} -> 3001
A11: =IFERROR(VLOOKUP('2추일출'!$C11,구분표!$A$2:$C$1001,2,FALSE),"") -> 도시환경위원회 | B11: =IFERROR(VLOOKUP('2추일출'!$C11,구분표!$A$2:$C$1001,3,FALSE),"") -> 수자원본부 | C11: 수자원본부 | D11: 1회추경 | F11: 농어촌마을하수도 정비(국비/지원) | H11: 11704955 | I11: =IF(SUMPRODUCT(COUNTIF($D11,{"*본예산*","*1회추경*","*신규*"})),"-",G11-H11) -> - | J11: -220000 | L11: =IF(G11=0,H11+J11+K11,G11+J11+K11) -> 11484955 | O11: =IF(G11=0,H11+M11+N11,G11+M11+N11) -> 11704955 | P11: =IF(J11-M11<0,"동의필요","-") -> 동의필요 | Q11: 환경부 세입부족에 따른 미교부 | U11: =IF($S11="도비","도비",IF(COUNT(FIND("국비/",$F11)),"국비",IF(COUNT(FIND("광특/",$F11)),"광특",IF(COUNT(FIND("기금/",$F11)),"기금",IF(COUNT(FIND("분권/",$F11)),"분권",IF(COUNT(FIND("교부세/",$F11)),"특교",IF(COUNT(FIND("자체/",$F11)),"도비",""))))))) -> 국비 | V11: =IF($U11<>"도비",IF($S11="국도비","직접입력",SUM($J11:$K11)),) -> -220000 | W11: =IF($U11="도비",SUM($J11:$K11),IF($S11="국도비","직접입력",SUM($J11:$K11)-$V11)) -> 0 | X11: =IF($S11="국도비","ok",IF(($J11+$K11)=($V11+$W11),"ok","검토")) -> ok | Z11: =$U11 -> 국비 | AA11: =IF($Z11<>"도비",IF($S11="국도비","직접입력",SUM($M11:$N11)),) -> 0 | AB11: =IF($Z11="도비",SUM($M11:$N11),IF($S11="국도비","직접입력",SUM($M11:$N11)-$AA11)) -> 0 | AC11: =IF($S11="국도비","ok",IF(($M11+$N11)=($AA11+$AB11),"ok","검토")) -> ok | AE11: {=IFERROR(IF($C11="","",INDEX(구분표!$I$2:$I$1001,MATCH(1,(구분표!$B$2:$B$1001='2추일출'!$A11)*(구분표!$C$2:$C$1001='2추일출'!$B11)*(구분표!$A$2:$A$1001='2추일출'!$C11),0))),"@@")} -> 3001
A12: =IFERROR(VLOOKUP('2추일출'!$C12,구분표!$A$2:$C$1001,2,FALSE),"") -> 도시환경위원회 | B12: =IFERROR(VLOOKUP('2추일출'!$C12,구분표!$A$2:$C$1001,3,FALSE),"") -> 수자원본부 | C12: 수자원본부 | D12: 2회추경 | E12: 443 | F12: 하수처리장 융자금원리금 상환(국비/지원) | G12: 5983000 | H12: 6210000 | I12: =IF(SUMPRODUCT(COUNTIF($D12,{"*본예산*","*1회추경*","*신규*"})),"-",G12-H12) -> -227000 | J12: -79000 | L12: =IF(G12=0,H12+J12+K12,G12+J12+K12) -> 5904000 | O12: =IF(G12=0,H12+M12+N12,G12+M12+N12) -> 5983000 | P12: =IF(J12-M12<0,"동의필요","-") -> 동의필요 | Q12: 환경부 국비 변경내시 및 세입부족에 따른 미교부 | U12: =IF($S12="도비","도비",IF(COUNT(FIND("국비/",$F12)),"국비",IF(COUNT(FIND("광특/",$F12)),"광특",IF(COUNT(FIND("기금/",$F12)),"기금",IF(COUNT(FIND("분권/",$F12)),"분권",IF(COUNT(FIND("교부세/",$F12)),"특교",IF(COUNT(FIND("자체/",$F12)),"도비",""))))))) -> 국비 | V12: =IF($U12<>"도비",IF($S12="국도비","직접입력",SUM($J12:$K12)),) -> -79000 | W12: =IF($U12="도비",SUM($J12:$K12),IF($S12="국도비","직접입력",SUM($J12:$K12)-$V12)) -> 0 | X12: =IF($S12="국도비","ok",IF(($J12+$K12)=($V12+$W12),"ok","검토")) -> ok | Z12: =$U12 -> 국비 | AA12: =IF($Z12<>"도비",IF($S12="국도비","직접입력",SUM($M12:$N12)),) -> 0 | AB12: =IF($Z12="도비",SUM($M12:$N12),IF($S12="국도비","직접입력",SUM($M12:$N12)-$AA12)) -> 0 | AC12: =IF($S12="국도비","ok",IF(($M12+$N12)=($AA12+$AB12),"ok","검토")) -> ok | AE12: {=IFERROR(IF($C12="","",INDEX(구분표!$I$2:$I$1001,MATCH(1,(구분표!$B$2:$B$1001='2추일출'!$A12)*(구분표!$C$2:$C$1001='2추일출'!$B12)*(구분표!$A$2:$A$1001='2추일출'!$C12),0))),"@@")} -> 3001
