Workbook

Sheet 구분표
A1: 실과명 조정 | B1: 위원회명 조정 | C1: 실국명 조정 | E1: 실국명 | F1: 실과명 | G1: 위원회명 | H1: 정렬순서 | I1: 정렬코드 | K1: 2014재원 | L1: 2015재원 | N1: 본예산 | O1: 2회추경
A2: =IF(COUNT(AND(FIND("북부소방재난본부",$E2),FIND("특수대응단",$F2))),"특수대응단(북부)",IF(COUNT(FIND("작물연구과",$F2)),"작물연구과",IF(COUNT(FIND("원예연구과",$F2)),"원예연구과",IF(COUNT(FIND("환경농업연구과",$F2)),"환경농업연구과",IF(COUNT(FIND("지원기획과",$F2)),"지원기획과",IF(COUNT(FIND("기술보급과",$F2)),"기술보급과",IF(COUNT(FIND("농촌자원과",$F2)),"농촌자원과",IF(COUNT(FIND("종자관리소",$F2)),"종자관리소",IF(COUNT(FIND("버섯연구소",$F2)),"버섯연구소",IF(COUNT(FIND("소득자원연구소",$F2)),"소득자원연구소",IF(COUNT(FIND("선인장다육식물연구소",$F2)),"선인장다육식물연구소",IF(COUNT(FIND("보건연구부",$F2)),"보건연구부",IF(COUNT(FIND("대기연구부",$F2)),"대기연구부",IF(COUNT(FIND("수질연구부",$F2)),"수질연구부",IF(COUNT(FIND("북부지원",$F2)),"북부지원",IF(COUNT(FIND("수원농산물검사소",$F2)),"수원농산물검사소",IF(COUNT(FIND("건설본부(관리과)",$F2)),"관리과",IF(COUNT(FIND("도로건설과",$F2)),"도로건설과",IF(COUNT(FIND("북부도로과",$F2)),"북부도로과",IF(COUNT(FIND("건축시설과",$F2)),"건축시설과",IF(COUNT(FIND("신청사건립추진단",$F2)),"신청사건립추진단",$F2))))))))))))))))))))) -> 의회사무처 | B2: =G2 -> 의회운영위원회 | C2: =IF(COUNT(FIND("경기도건설본부",$E2)),"건설본부",IF(COUNT(FIND("경기도농업기술원",$E2)),"농업기술원",IF(COUNT(FIND("경기도보건환경연구원",$E2)),"보건환경연구원",IF(COUNT(FIND("소방재난본부",$E2)),"재난안전본부",IF(COUNT(FIND("경기도소방학교",$E2)),"재난안전본부",IF(COUNT(FIND("경기도인재개발원",$E2)),"인재개발원",IF(COUNT(FIND("북부소방재난본부",$E2)),"재난안전본부",IF(COUNT(FIND("소방서",$E2)),"재난안전본부",$E2)))))))) -> 의회사무처 | E2: 의회사무처 | F2: 의회사무처 | G2: 의회운영위원회 | H2: 1 | I2: 0101 | K2: 도비 | L2: 도비 | N2: 본예산 | O2: 2회추경
A3: =IF(COUNT(AND(FIND("북부소방재난본부",$E3),FIND("특수대응단",$F3))),"특수대응단(북부)",IF(COUNT(FIND("작물연구과",$F3)),"작물연구과",IF(COUNT(FIND("원예연구과",$F3)),"원예연구과",IF(COUNT(FIND("환경농업연구과",$F3)),"환경농업연구과",IF(COUNT(FIND("지원기획과",$F3)),"지원기획과",IF(COUNT(FIND("기술보급과",$F3)),"기술보급과",IF(COUNT(FIND("농촌자원과",$F3)),"농촌자원과",IF(COUNT(FIND("종자관리소",$F3)),"종자관리소",IF(COUNT(FIND("버섯연구소",$F3)),"버섯연구소",IF(COUNT(FIND("소득자원연구소",$F3)),"소득자원연구소",IF(COUNT(FIND("선인장다육식물연구소",$F3)),"선인장다육식물연구소",IF(COUNT(FIND("보건연구부",$F3)),"보건연구부",IF(COUNT(FIND("대기연구부",$F3)),"대기연구부",IF(COUNT(FIND("수질연구부",$F3)),"수질연구부",IF(COUNT(FIND("북부지원",$F3)),"북부지원",IF(COUNT(FIND("수원농산물검사소",$F3)),"수원농산물검사소",IF(COUNT(FIND("건설본부(관리과)",$F3)),"관리과",IF(COUNT(FIND("도로건설과",$F3)),"도로건설과",IF(COUNT(FIND("북부도로과",$F3)),"북부도로과",IF(COUNT(FIND("건축시설과",$F3)),"건축시설과",IF(COUNT(FIND("신청사건립추진단",$F3)),"신청사건립추진단",$F3))))))))))))))))))))) -> 언론담당관 | B3: =G3 -> 의회운영위원회 | C3: =IF(COUNT(FIND("경기도건설본부",$E3)),"건설본부",IF(COUNT(FIND("경기도농업기술원",$E3)),"농업기술원",IF(COUNT(FIND("경기도보건환경연구원",$E3)),"보건환경연구원",IF(COUNT(FIND("소방재난본부",$E3)),"재난안전본부",IF(COUNT(FIND("경기도소방학교",$E3)),"재난안전본부",IF(COUNT(FIND("경기도인재개발원",$E3)),"인재개발원",IF(COUNT(FIND("북부소방재난본부",$E3)),"재난안전본부",IF(COUNT(FIND("소방서",$E3)),"재난안전본부",$E3)))))))) -> 대변인 | E3: 대변인 | F3: 언론담당관 | G3: 의회운영위원회 | H3: 2 | I3: 0201 | K3: 국비 | L3: 국비 | N3: 신규 | O3: 1회추경
A4: =IF(COUNT(AND(FIND("북부소방재난본부",$E4),FIND("특수대응단",$F4))),"특수대응단(북부)",IF(COUNT(FIND("작물연구과",$F4)),"작물연구과",IF(COUNT(FIND("원예연구과",$F4)),"원예연구과",IF(COUNT(FIND("환경농업연구과",$F4)),"환경농업연구과",IF(COUNT(FIND("지원기획과",$F4)),"지원기획과",IF(COUNT(FIND("기술보급과",$F4)),"기술보급과",IF(COUNT(FIND("농촌자원과",$F4)),"농촌자원과",IF(COUNT(FIND("종자관리소",$F4)),"종자관리소",IF(COUNT(FIND("버섯연구소",$F4)),"버섯연구소",IF(COUNT(FIND("소득자원연구소",$F4)),"소득자원연구소",IF(COUNT(FIND("선인장다육식물연구소",$F4)),"선인장다육식물연구소",IF(COUNT(FIND("보건연구부",$F4)),"보건연구부",IF(COUNT(FIND("대기연구부",$F4)),"대기연구부",IF(COUNT(FIND("수질연구부",$F4)),"수질연구부",IF(COUNT(FIND("북부지원",$F4)),"북부지원",IF(COUNT(FIND("수원농산물검사소",$F4)),"수원농산물검사소",IF(COUNT(FIND("건설본부(관리과)",$F4)),"관리과",IF(COUNT(FIND("도로건설과",$F4)),"도로건설과",IF(COUNT(FIND("북부도로과",$F4)),"북부도로과",IF(COUNT(FIND("건축시설과",$F4)),"건축시설과",IF(COUNT(FIND("신청사건립추진단",$F4)),"신청사건립추진단",$F4))))))))))))))))))))) -> 홍보담당관 | B4: =G4 -> 의회운영위원회 | C4: =IF(COUNT(FIND("경기도건설본부",$E4)),"건설본부",IF(COUNT(FIND("경기도농업기술원",$E4)),"농업기술원",IF(COUNT(FIND("경기도보건환경연구원",$E4)),"보건환경연구원",IF(COUNT(FIND("소방재난본부",$E4)),"재난안전본부",IF(COUNT(FIND("경기도소방학교",$E4)),"재난안전본부",IF(COUNT(FIND("경기도인재개발원",$E4)),"인재개발원",IF(COUNT(FIND("북부소방재난본부",$E4)),"재난안전본부",IF(COUNT(FIND("소방서",$E4)),"재난안전본부",$E4)))))))) -> 대변인 | E4: 대변인 | F4: 홍보담당관 | G4: 의회운영위원회 | H4: 3 | I4: 0202 | K4: 광특 | L4: 지특 | O4: 본예산
A5: =IF(COUNT(AND(FIND("북부소방재난본부",$E5),FIND("특수대응단",$F5))),"특수대응단(북부)",IF(COUNT(FIND("작물연구과",$F5)),"작물연구과",IF(COUNT(FIND("원예연구과",$F5)),"원예연구과",IF(COUNT(FIND("환경농업연구과",$F5)),"환경농업연구과",IF(COUNT(FIND("지원기획과",$F5)),"지원기획과",IF(COUNT(FIND("기술보급과",$F5)),"기술보급과",IF(COUNT(FIND("농촌자원과",$F5)),"농촌자원과",IF(COUNT(FIND("종자관리소",$F5)),"종자관리소",IF(COUNT(FIND("버섯연구소",$F5)),"버섯연구소",IF(COUNT(FIND("소득자원연구소",$F5)),"소득자원연구소",IF(COUNT(FIND("선인장다육식물연구소",$F5)),"선인장다육식물연구소",IF(COUNT(FIND("보건연구부",$F5)),"보건연구부",IF(COUNT(FIND("대기연구부",$F5)),"대기연구부",IF(COUNT(FIND("수질연구부",$F5)),"수질연구부",IF(COUNT(FIND("북부지원",$F5)),"북부지원",IF(COUNT(FIND("수원농산물검사소",$F5)),"수원농산물검사소",IF(COUNT(FIND("건설본부(관리과)",$F5)),"관리과",IF(COUNT(FIND("도로건설과",$F5)),"도로건설과",IF(COUNT(FIND("북부도로과",$F5)),"북부도로과",IF(COUNT(FIND("건축시설과",$F5)),"건축시설과",IF(COUNT(FIND("신청사건립추진단",$F5)),"신청사건립추진단",$F5))))))))))))))))))))) -> 소통담당관 | B5: =G5 -> 의회운영위원회 | C5: =IF(COUNT(FIND("경기도건설본부",$E5)),"건설본부",IF(COUNT(FIND("경기도농업기술원",$E5)),"농업기술원",IF(COUNT(FIND("경기도보건환경연구원",$E5)),"보건환경연구원",IF(COUNT(FIND("소방재난본부",$E5)),"재난안전본부",IF(COUNT(FIND("경기도소방학교",$E5)),"재난안전본부",IF(COUNT(FIND("경기도인재개발원",$E5)),"인재개발원",IF(COUNT(FIND("북부소방재난본부",$E5)),"재난안전본부",IF(COUNT(FIND("소방서",$E5)),"재난안전본부",$E5)))))))) -> 대변인 | E5: 대변인 | F5: 소통담당관 | G5: 의회운영위원회 | H5: 4 | I5: 0203 | K5: 기금 | L5: 기금 | O5: 신규
A6: =IF(COUNT(AND(FIND("북부소방재난본부",$E6),FIND("특수대응단",$F6))),"특수대응단(북부)",IF(COUNT(FIND("작물연구과",$F6)),"작물연구과",IF(COUNT(FIND("원예연구과",$F6)),"원예연구과",IF(COUNT(FIND("환경농업연구과",$F6)),"환경농업연구과",IF(COUNT(FIND("지원기획과",$F6)),"지원기획과",IF(COUNT(FIND("기술보급과",$F6)),"기술보급과",IF(COUNT(FIND("농촌자원과",$F6)),"농촌자원과",IF(COUNT(FIND("종자관리소",$F6)),"종자관리소",IF(COUNT(FIND("버섯연구소",$F6)),"버섯연구소",IF(COUNT(FIND("소득자원연구소",$F6)),"소득자원연구소",IF(COUNT(FIND("선인장다육식물연구소",$F6)),"선인장다육식물연구소",IF(COUNT(FIND("보건연구부",$F6)),"보건연구부",IF(COUNT(FIND("대기연구부",$F6)),"대기연구부",IF(COUNT(FIND("수질연구부",$F6)),"수질연구부",IF(COUNT(FIND("북부지원",$F6)),"북부지원",IF(COUNT(FIND("수원농산물검사소",$F6)),"수원농산물검사소",IF(COUNT(FIND("건설본부(관리과)",$F6)),"관리과",IF(COUNT(FIND("도로건설과",$F6)),"도로건설과",IF(COUNT(FIND("북부도로과",$F6)),"북부도로과",IF(COUNT(FIND("건축시설과",$F6)),"건축시설과",IF(COUNT(FIND("신청사건립추진단",$F6)),"신청사건립추진단",$F6))))))))))))))))))))) -> 대외협력담당관 | B6: =G6 -> 의회운영위원회 | C6: =IF(COUNT(FIND("경기도건설본부",$E6)),"건설본부",IF(COUNT(FIND("경기도농업기술원",$E6)),"농업기술원",IF(COUNT(FIND("경기도보건환경연구원",$E6)),"보건환경연구원",IF(COUNT(FIND("소방재난본부",$E6)),"재난안전본부",IF(COUNT(FIND("경기도소방학교",$E6)),"재난안전본부",IF(COUNT(FIND("경기도인재개발원",$E6)),"인재개발원",IF(COUNT(FIND("북부소방재난본부",$E6)),"재난안전본부",IF(COUNT(FIND("소방서",$E6)),"재난안전본부",$E6)))))))) -> 대외협력담당관 | E6: 대외협력담당관 | F6: 대외협력담당관 | G6: 의회운영위원회 | H6: 5 | I6: 0301 | K6: 분권 | L6: 특교
A7: =IF(COUNT(AND(FIND("북부소방재난본부",$E7),FIND("특수대응단",$F7))),"특수대응단(북부)",IF(COUNT(FIND("작물연구과",$F7)),"작물연구과",IF(COUNT(FIND("원예연구과",$F7)),"원예연구과",IF(COUNT(FIND("환경농업연구과",$F7)),"환경농업연구과",IF(COUNT(FIND("지원기획과",$F7)),"지원기획과",IF(COUNT(FIND("기술보급과",$F7)),"기술보급과",IF(COUNT(FIND("농촌자원과",$F7)),"농촌자원과",IF(COUNT(FIND("종자관리소",$F7)),"종자관리소",IF(COUNT(FIND("버섯연구소",$F7)),"버섯연구소",IF(COUNT(FIND("소득자원연구소",$F7)),"소득자원연구소",IF(COUNT(FIND("선인장다육식물연구소",$F7)),"선인장다육식물연구소",IF(COUNT(FIND("보건연구부",$F7)),"보건연구부",IF(COUNT(FIND("대기연구부",$F7)),"대기연구부",IF(COUNT(FIND("수질연구부",$F7)),"수질연구부",IF(COUNT(FIND("북부지원",$F7)),"북부지원",IF(COUNT(FIND("수원농산물검사소",$F7)),"수원농산물검사소",IF(COUNT(FIND("건설본부(관리과)",$F7)),"관리과",IF(COUNT(FIND("도로건설과",$F7)),"도로건설과",IF(COUNT(FIND("북부도로과",$F7)),"북부도로과",IF(COUNT(FIND("건축시설과",$F7)),"건축시설과",IF(COUNT(FIND("신청사건립추진단",$F7)),"신청사건립추진단",$F7))))))))))))))))))))) -> 서울사무소 | B7: =G7 -> 의회운영위원회 | C7: =IF(COUNT(FIND("경기도건설본부",$E7)),"건설본부",IF(COUNT(FIND("경기도농업기술원",$E7)),"농업기술원",IF(COUNT(FIND("경기도보건환경연구원",$E7)),"보건환경연구원",IF(COUNT(FIND("소방재난본부",$E7)),"재난안전본부",IF(COUNT(FIND("경기도소방학교",$E7)),"재난안전본부",IF(COUNT(FIND("경기도인재개발원",$E7)),"인재개발원",IF(COUNT(FIND("북부소방재난본부",$E7)),"재난안전본부",IF(COUNT(FIND("소방서",$E7)),"재난안전본부",$E7)))))))) -> 대외협력담당관 | E7: 대외협력담당관 | F7: 서울사무소 | G7: 의회운영위원회 | H7: 6 | I7: 0302 | K7: 특교
A8: =IF(COUNT(AND(FIND("북부소방재난본부",$E8),FIND("특수대응단",$F8))),"특수대응단(북부)",IF(COUNT(FIND("작물연구과",$F8)),"작물연구과",IF(COUNT(FIND("원예연구과",$F8)),"원예연구과",IF(COUNT(FIND("환경농업연구과",$F8)),"환경농업연구과",IF(COUNT(FIND("지원기획과",$F8)),"지원기획과",IF(COUNT(FIND("기술보급과",$F8)),"기술보급과",IF(COUNT(FIND("농촌자원과",$F8)),"농촌자원과",IF(COUNT(FIND("종자관리소",$F8)),"종자관리소",IF(COUNT(FIND("버섯연구소",$F8)),"버섯연구소",IF(COUNT(FIND("소득자원연구소",$F8)),"소득자원연구소",IF(COUNT(FIND("선인장다육식물연구소",$F8)),"선인장다육식물연구소",IF(COUNT(FIND("보건연구부",$F8)),"보건연구부",IF(COUNT(FIND("대기연구부",$F8)),"대기연구부",IF(COUNT(FIND("수질연구부",$F8)),"수질연구부",IF(COUNT(FIND("북부지원",$F8)),"북부지원",IF(COUNT(FIND("수원농산물검사소",$F8)),"수원농산물검사소",IF(COUNT(FIND("건설본부(관리과)",$F8)),"관리과",IF(COUNT(FIND("도로건설과",$F8)),"도로건설과",IF(COUNT(FIND("북부도로과",$F8)),"북부도로과",IF(COUNT(FIND("건축시설과",$F8)),"건축시설과",IF(COUNT(FIND("신청사건립추진단",$F8)),"신청사건립추진단",$F8))))))))))))))))))))) -> 감사총괄담당관 | B8: =G8 -> 기획재정위원회 | C8: =IF(COUNT(FIND("경기도건설본부",$E8)),"건설본부",IF(COUNT(FIND("경기도농업기술원",$E8)),"농업기술원",IF(COUNT(FIND("경기도보건환경연구원",$E8)),"보건환경연구원",IF(COUNT(FIND("소방재난본부",$E8)),"재난안전본부",IF(COUNT(FIND("경기도소방학교",$E8)),"재난안전본부",IF(COUNT(FIND("경기도인재개발원",$E8)),"인재개발원",IF(COUNT(FIND("북부소방재난본부",$E8)),"재난안전본부",IF(COUNT(FIND("소방서",$E8)),"재난안전본부",$E8)))))))) -> 감사관 | E8: 감사관 | F8: 감사총괄담당관 | G8: 기획재정위원회 | H8: 7 | I8: 0401
A9: =IF(COUNT(AND(FIND("북부소방재난본부",$E9),FIND("특수대응단",$F9))),"특수대응단(북부)",IF(COUNT(FIND("작물연구과",$F9)),"작물연구과",IF(COUNT(FIND("원예연구과",$F9)),"원예연구과",IF(COUNT(FIND("환경농업연구과",$F9)),"환경농업연구과",IF(COUNT(FIND("지원기획과",$F9)),"지원기획과",IF(COUNT(FIND("기술보급과",$F9)),"기술보급과",IF(COUNT(FIND("농촌자원과",$F9)),"농촌자원과",IF(COUNT(FIND("종자관리소",$F9)),"종자관리소",IF(COUNT(FIND("버섯연구소",$F9)),"버섯연구소",IF(COUNT(FIND("소득자원연구소",$F9)),"소득자원연구소",IF(COUNT(FIND("선인장다육식물연구소",$F9)),"선인장다육식물연구소",IF(COUNT(FIND("보건연구부",$F9)),"보건연구부",IF(COUNT(FIND("대기연구부",$F9)),"대기연구부",IF(COUNT(FIND("수질연구부",$F9)),"수질연구부",IF(COUNT(FIND("북부지원",$F9)),"북부지원",IF(COUNT(FIND("수원농산물검사소",$F9)),"수원농산물검사소",IF(COUNT(FIND("건설본부(관리과)",$F9)),"관리과",IF(COUNT(FIND("도로건설과",$F9)),"도로건설과",IF(COUNT(FIND("북부도로과",$F9)),"북부도로과",IF(COUNT(FIND("건축시설과",$F9)),"건축시설과",IF(COUNT(FIND("신청사건립추진단",$F9)),"신청사건립추진단",$F9))))))))))))))))))))) -> 조사담당관 | B9: =G9 -> 기획재정위원회 | C9: =IF(COUNT(FIND("경기도건설본부",$E9)),"건설본부",IF(COUNT(FIND("경기도농업기술원",$E9)),"농업기술원",IF(COUNT(FIND("경기도보건환경연구원",$E9)),"보건환경연구원",IF(COUNT(FIND("소방재난본부",$E9)),"재난안전본부",IF(COUNT(FIND("경기도소방학교",$E9)),"재난안전본부",IF(COUNT(FIND("경기도인재개발원",$E9)),"인재개발원",IF(COUNT(FIND("북부소방재난본부",$E9)),"재난안전본부",IF(COUNT(FIND("소방서",$E9)),"재난안전본부",$E9)))))))) -> 감사관 | E9: 감사관 | F9: 조사담당관 | G9: 기획재정위원회 | H9: 8 | I9: 0402
A10: =IF(COUNT(AND(FIND("북부소방재난본부",$E10),FIND("특수대응단",$F10))),"특수대응단(북부)",IF(COUNT(FIND("작물연구과",$F10)),"작물연구과",IF(COUNT(FIND("원예연구과",$F10)),"원예연구과",IF(COUNT(FIND("환경농업연구과",$F10)),"환경농업연구과",IF(COUNT(FIND("지원기획과",$F10)),"지원기획과",IF(COUNT(FIND("기술보급과",$F10)),"기술보급과",IF(COUNT(FIND("농촌자원과",$F10)),"농촌자원과",IF(COUNT(FIND("종자관리소",$F10)),"종자관리소",IF(COUNT(FIND("버섯연구소",$F10)),"버섯연구소",IF(COUNT(FIND("소득자원연구소",$F10)),"소득자원연구소",IF(COUNT(FIND("선인장다육식물연구소",$F10)),"선인장다육식물연구소",IF(COUNT(FIND("보건연구부",$F10)),"보건연구부",IF(COUNT(FIND("대기연구부",$F10)),"대기연구부",IF(COUNT(FIND("수질연구부",$F10)),"수질연구부",IF(COUNT(FIND("북부지원",$F10)),"북부지원",IF(COUNT(FIND("수원농산물검사소",$F10)),"수원농산물검사소",IF(COUNT(FIND("건설본부(관리과)",$F10)),"관리과",IF(COUNT(FIND("도로건설과",$F10)),"도로건설과",IF(COUNT(FIND("북부도로과",$F10)),"북부도로과",IF(COUNT(FIND("건축시설과",$F10)),"건축시설과",IF(COUNT(FIND("신청사건립추진단",$F10)),"신청사건립추진단",$F10))))))))))))))))))))) -> 감사담당관 | B10: =G10 -> 기획재정위원회 | C10: =IF(COUNT(FIND("경기도건설본부",$E10)),"건설본부",IF(COUNT(FIND("경기도농업기술원",$E10)),"농업기술원",IF(COUNT(FIND("경기도보건환경연구원",$E10)),"보건환경연구원",IF(COUNT(FIND("소방재난본부",$E10)),"재난안전본부",IF(COUNT(FIND("경기도소방학교",$E10)),"재난안전본부",IF(COUNT(FIND("경기도인재개발원",$E10)),"인재개발원",IF(COUNT(FIND("북부소방재난본부",$E10)),"재난안전본부",IF(COUNT(FIND("소방서",$E10)),"재난안전본부",$E10)))))))) -> 감사관 | E10: 감사관 | F10: 감사담당관 | G10: 기획재정위원회 | H10: 9 | I10: 0403
A11: =IF(COUNT(AND(FIND("북부소방재난본부",$E11),FIND("특수대응단",$F11))),"특수대응단(북부)",IF(COUNT(FIND("작물연구과",$F11)),"작물연구과",IF(COUNT(FIND("원예연구과",$F11)),"원예연구과",IF(COUNT(FIND("환경농업연구과",$F11)),"환경농업연구과",IF(COUNT(FIND("지원기획과",$F11)),"지원기획과",IF(COUNT(FIND("기술보급과",$F11)),"기술보급과",IF(COUNT(FIND("농촌자원과",$F11)),"농촌자원과",IF(COUNT(FIND("종자관리소",$F11)),"종자관리소",IF(COUNT(FIND("버섯연구소",$F11)),"버섯연구소",IF(COUNT(FIND("소득자원연구소",$F11)),"소득자원연구소",IF(COUNT(FIND("선인장다육식물연구소",$F11)),"선인장다육식물연구소",IF(COUNT(FIND("보건연구부",$F11)),"보건연구부",IF(COUNT(FIND("대기연구부",$F11)),"대기연구부",IF(COUNT(FIND("수질연구부",$F11)),"수질연구부",IF(COUNT(FIND("북부지원",$F11)),"북부지원",IF(COUNT(FIND("수원농산물검사소",$F11)),"수원농산물검사소",IF(COUNT(FIND("건설본부(관리과)",$F11)),"관리과",IF(COUNT(FIND("도로건설과",$F11)),"도로건설과",IF(COUNT(FIND("북부도로과",$F11)),"북부도로과",IF(COUNT(FIND("건축시설과",$F11)),"건축시설과",IF(COUNT(FIND("신청사건립추진단",$F11)),"신청사건립추진단",$F11))))))))))))))))))))) -> 계약심사담당관 | B11: =G11 -> 기획재정위원회 | C11: =IF(COUNT(FIND("경기도건설본부",$E11)),"건설본부",IF(COUNT(FIND("경기도농업기술원",$E11)),"농업기술원",IF(COUNT(FIND("경기도보건환경연구원",$E11)),"보건환경연구원",IF(COUNT(FIND("소방재난본부",$E11)),"재난안전본부",IF(COUNT(FIND("경기도소방학교",$E11)),"재난안전본부",IF(COUNT(FIND("경기도인재개발원",$E11)),"인재개발원",IF(COUNT(FIND("북부소방재난본부",$E11)),"재난안전본부",IF(COUNT(FIND("소방서",$E11)),"재난안전본부",$E11)))))))) -> 감사관 | E11: 감사관 | F11: 계약심사담당관 | G11: 기획재정위원회 | H11: 10 | I11: 0404
A12: =IF(COUNT(AND(FIND("북부소방재난본부",$E12),FIND("특수대응단",$F12))),"특수대응단(북부)",IF(COUNT(FIND("작물연구과",$F12)),"작물연구과",IF(COUNT(FIND("원예연구과",$F12)),"원예연구과",IF(COUNT(FIND("환경농업연구과",$F12)),"환경농업연구과",IF(COUNT(FIND("지원기획과",$F12)),"지원기획과",IF(COUNT(FIND("기술보급과",$F12)),"기술보급과",IF(COUNT(FIND("농촌자원과",$F12)),"농촌자원과",IF(COUNT(FIND("종자관리소",$F12)),"종자관리소",IF(COUNT(FIND("버섯연구소",$F12)),"버섯연구소",IF(COUNT(FIND("소득자원연구소",$F12)),"소득자원연구소",IF(COUNT(FIND("선인장다육식물연구소",$F12)),"선인장다육식물연구소",IF(COUNT(FIND("보건연구부",$F12)),"보건연구부",IF(COUNT(FIND("대기연구부",$F12)),"대기연구부",IF(COUNT(FIND("수질연구부",$F12)),"수질연구부",IF(COUNT(FIND("북부지원",$F12)),"북부지원",IF(COUNT(FIND("수원농산물검사소",$F12)),"수원농산물검사소",IF(COUNT(FIND("건설본부(관리과)",$F12)),"관리과",IF(COUNT(FIND("도로건설과",$F12)),"도로건설과",IF(COUNT(FIND("북부도로과",$F12)),"북부도로과",IF(COUNT(FIND("건축시설과",$F12)),"건축시설과",IF(COUNT(FIND("신청사건립추진단",$F12)),"신청사건립추진단",$F12))))))))))))))))))))) -> 기획담당관 | B12: =G12 -> 기획재정위원회 | C12: =IF(COUNT(FIND("경기도건설본부",$E12)),"건설본부",IF(COUNT(FIND("경기도농업기술원",$E12)),"농업기술원",IF(COUNT(FIND("경기도보건환경연구원",$E12)),"보건환경연구원",IF(COUNT(FIND("소방재난본부",$E12)),"재난안전본부",IF(COUNT(FIND("경기도소방학교",$E12)),"재난안전본부",IF(COUNT(FIND("경기도인재개발원",$E12)),"인재개발원",IF(COUNT(FIND("북부소방재난본부",$E12)),"재난안전본부",IF(COUNT(FIND("소방서",$E12)),"재난안전본부",$E12)))))))) -> 기획조정실 | E12: 기획조정실 | F12: 기획담당관 | G12: 기획재정위원회 | H12: 11 | I12: 0501
A13: =IF(COUNT(AND(FIND("북부소방재난본부",$E13),FIND("특수대응단",$F13))),"특수대응단(북부)",IF(COUNT(FIND("작물연구과",$F13)),"작물연구과",IF(COUNT(FIND("원예연구과",$F13)),"원예연구과",IF(COUNT(FIND("환경농업연구과",$F13)),"환경농업연구과",IF(COUNT(FIND("지원기획과",$F13)),"지원기획과",IF(COUNT(FIND("기술보급과",$F13)),"기술보급과",IF(COUNT(FIND("농촌자원과",$F13)),"농촌자원과",IF(COUNT(FIND("종자관리소",$F13)),"종자관리소",IF(COUNT(FIND("버섯연구소",$F13)),"버섯연구소",IF(COUNT(FIND("소득자원연구소",$F13)),"소득자원연구소",IF(COUNT(FIND("선인장다육식물연구소",$F13)),"선인장다육식물연구소",IF(COUNT(FIND("보건연구부",$F13)),"보건연구부",IF(COUNT(FIND("대기연구부",$F13)),"대기연구부",IF(COUNT(FIND("수질연구부",$F13)),"수질연구부",IF(COUNT(FIND("북부지원",$F13)),"북부지원",IF(COUNT(FIND("수원농산물검사소",$F13)),"수원농산물검사소",IF(COUNT(FIND("건설본부(관리과)",$F13)),"관리과",IF(COUNT(FIND("도로건설과",$F13)),"도로건설과",IF(COUNT(FIND("북부도로과",$F13)),"북부도로과",IF(COUNT(FIND("건축시설과",$F13)),"건축시설과",IF(COUNT(FIND("신청사건립추진단",$F13)),"신청사건립추진단",$F13))))))))))))))))))))) -> 미래전략담당관 | B13: =G13 -> 기획재정위원회 | C13: =IF(COUNT(FIND("경기도건설본부",$E13)),"건설본부",IF(COUNT(FIND("경기도농업기술원",$E13)),"농업기술원",IF(COUNT(FIND("경기도보건환경연구원",$E13)),"보건환경연구원",IF(COUNT(FIND("소방재난본부",$E13)),"재난안전본부",IF(COUNT(FIND("경기도소방학교",$E13)),"재난안전본부",IF(COUNT(FIND("경기도인재개발원",$E13)),"인재개발원",IF(COUNT(FIND("북부소방재난본부",$E13)),"재난안전본부",IF(COUNT(FIND("소방서",$E13)),"재난안전본부",$E13)))))))) -> 기획조정실 | E13: 기획조정실 | F13: 미래전략담당관 | G13: 기획재정위원회 | H13: 12 | I13: 0502
A14: =IF(COUNT(AND(FIND("북부소방재난본부",$E14),FIND("특수대응단",$F14))),"특수대응단(북부)",IF(COUNT(FIND("작물연구과",$F14)),"작물연구과",IF(COUNT(FIND("원예연구과",$F14)),"원예연구과",IF(COUNT(FIND("환경농업연구과",$F14)),"환경농업연구과",IF(COUNT(FIND("지원기획과",$F14)),"지원기획과",IF(COUNT(FIND("기술보급과",$F14)),"기술보급과",IF(COUNT(FIND("농촌자원과",$F14)),"농촌자원과",IF(COUNT(FIND("종자관리소",$F14)),"종자관리소",IF(COUNT(FIND("버섯연구소",$F14)),"버섯연구소",IF(COUNT(FIND("소득자원연구소",$F14)),"소득자원연구소",IF(COUNT(FIND("선인장다육식물연구소",$F14)),"선인장다육식물연구소",IF(COUNT(FIND("보건연구부",$F14)),"보건연구부",IF(COUNT(FIND("대기연구부",$F14)),"대기연구부",IF(COUNT(FIND("수질연구부",$F14)),"수질연구부",IF(COUNT(FIND("북부지원",$F14)),"북부지원",IF(COUNT(FIND("수원농산물검사소",$F14)),"수원농산물검사소",IF(COUNT(FIND("건설본부(관리과)",$F14)),"관리과",IF(COUNT(FIND("도로건설과",$F14)),"도로건설과",IF(COUNT(FIND("북부도로과",$F14)),"북부도로과",IF(COUNT(FIND("건축시설과",$F14)),"건축시설과",IF(COUNT(FIND("신청사건립추진단",$F14)),"신청사건립추진단",$F14))))))))))))))))))))) -> 예산담당관 | B14: =G14 -> 기획재정위원회 | C14: =IF(COUNT(FIND("경기도건설본부",$E14)),"건설본부",IF(COUNT(FIND("경기도농업기술원",$E14)),"농업기술원",IF(COUNT(FIND("경기도보건환경연구원",$E14)),"보건환경연구원",IF(COUNT(FIND("소방재난본부",$E14)),"재난안전본부",IF(COUNT(FIND("경기도소방학교",$E14)),"재난안전본부",IF(COUNT(FIND("경기도인재개발원",$E14)),"인재개발원",IF(COUNT(FIND("북부소방재난본부",$E14)),"재난안전본부",IF(COUNT(FIND("소방서",$E14)),"재난안전본부",$E14)))))))) -> 기획조정실 | E14: 기획조정실 | F14: 예산담당관 | G14: 기획재정위원회 | H14: 13 | I14: 0503
A15: =IF(COUNT(AND(FIND("북부소방재난본부",$E15),FIND("특수대응단",$F15))),"특수대응단(북부)",IF(COUNT(FIND("작물연구과",$F15)),"작물연구과",IF(COUNT(FIND("원예연구과",$F15)),"원예연구과",IF(COUNT(FIND("환경농업연구과",$F15)),"환경농업연구과",IF(COUNT(FIND("지원기획과",$F15)),"지원기획과",IF(COUNT(FIND("기술보급과",$F15)),"기술보급과",IF(COUNT(FIND("농촌자원과",$F15)),"농촌자원과",IF(COUNT(FIND("종자관리소",$F15)),"종자관리소",IF(COUNT(FIND("버섯연구소",$F15)),"버섯연구소",IF(COUNT(FIND("소득자원연구소",$F15)),"소득자원연구소",IF(COUNT(FIND("선인장다육식물연구소",$F15)),"선인장다육식물연구소",IF(COUNT(FIND("보건연구부",$F15)),"보건연구부",IF(COUNT(FIND("대기연구부",$F15)),"대기연구부",IF(COUNT(FIND("수질연구부",$F15)),"수질연구부",IF(COUNT(FIND("북부지원",$F15)),"북부지원",IF(COUNT(FIND("수원농산물검사소",$F15)),"수원농산물검사소",IF(COUNT(FIND("건설본부(관리과)",$F15)),"관리과",IF(COUNT(FIND("도로건설과",$F15)),"도로건설과",IF(COUNT(FIND("북부도로과",$F15)),"북부도로과",IF(COUNT(FIND("건축시설과",$F15)),"건축시설과",IF(COUNT(FIND("신청사건립추진단",$F15)),"신청사건립추진단",$F15))))))))))))))))))))) -> 평가담당관 | B15: =G15 -> 기획재정위원회 | C15: =IF(COUNT(FIND("경기도건설본부",$E15)),"건설본부",IF(COUNT(FIND("경기도농업기술원",$E15)),"농업기술원",IF(COUNT(FIND("경기도보건환경연구원",$E15)),"보건환경연구원",IF(COUNT(FIND("소방재난본부",$E15)),"재난안전본부",IF(COUNT(FIND("경기도소방학교",$E15)),"재난안전본부",IF(COUNT(FIND("경기도인재개발원",$E15)),"인재개발원",IF(COUNT(FIND("북부소방재난본부",$E15)),"재난안전본부",IF(COUNT(FIND("소방서",$E15)),"재난안전본부",$E15)))))))) -> 기획조정실 | E15: 기획조정실 | F15: 평가담당관 | G15: 기획재정위원회 | H15: 14 | I15: 0504
A16: =IF(COUNT(AND(FIND("북부소방재난본부",$E16),FIND("특수대응단",$F16))),"특수대응단(북부)",IF(COUNT(FIND("작물연구과",$F16)),"작물연구과",IF(COUNT(FIND("원예연구과",$F16)),"원예연구과",IF(COUNT(FIND("환경농업연구과",$F16)),"환경농업연구과",IF(COUNT(FIND("지원기획과",$F16)),"지원기획과",IF(COUNT(FIND("기술보급과",$F16)),"기술보급과",IF(COUNT(FIND("농촌자원과",$F16)),"농촌자원과",IF(COUNT(FIND("종자관리소",$F16)),"종자관리소",IF(COUNT(FIND("버섯연구소",$F16)),"버섯연구소",IF(COUNT(FIND("소득자원연구소",$F16)),"소득자원연구소",IF(COUNT(FIND("선인장다육식물연구소",$F16)),"선인장다육식물연구소",IF(COUNT(FIND("보건연구부",$F16)),"보건연구부",IF(COUNT(FIND("대기연구부",$F16)),"대기연구부",IF(COUNT(FIND("수질연구부",$F16)),"수질연구부",IF(COUNT(FIND("북부지원",$F16)),"북부지원",IF(COUNT(FIND("수원농산물검사소",$F16)),"수원농산물검사소",IF(COUNT(FIND("건설본부(관리과)",$F16)),"관리과",IF(COUNT(FIND("도로건설과",$F16)),"도로건설과",IF(COUNT(FIND("북부도로과",$F16)),"북부도로과",IF(COUNT(FIND("건축시설과",$F16)),"건축시설과",IF(COUNT(FIND("신청사건립추진단",$F16)),"신청사건립추진단",$F16))))))))))))))))))))) -> 법무담당관 | B16: =G16 -> 기획재정위원회 | C16: =IF(COUNT(FIND("경기도건설본부",$E16)),"건설본부",IF(COUNT(FIND("경기도농업기술원",$E16)),"농업기술원",IF(COUNT(FIND("경기도보건환경연구원",$E16)),"보건환경연구원",IF(COUNT(FIND("소방재난본부",$E16)),"재난안전본부",IF(COUNT(FIND("경기도소방학교",$E16)),"재난안전본부",IF(COUNT(FIND("경기도인재개발원",$E16)),"인재개발원",IF(COUNT(FIND("북부소방재난본부",$E16)),"재난안전본부",IF(COUNT(FIND("소방서",$E16)),"재난안전본부",$E16)))))))) -> 기획조정실 | E16: 기획조정실 | F16: 법무담당관 | G16: 기획재정위원회 | H16: 15 | I16: 0505
A17: =IF(COUNT(AND(FIND("북부소방재난본부",$E17),FIND("특수대응단",$F17))),"특수대응단(북부)",IF(COUNT(FIND("작물연구과",$F17)),"작물연구과",IF(COUNT(FIND("원예연구과",$F17)),"원예연구과",IF(COUNT(FIND("환경농업연구과",$F17)),"환경농업연구과",IF(COUNT(FIND("지원기획과",$F17)),"지원기획과",IF(COUNT(FIND("기술보급과",$F17)),"기술보급과",IF(COUNT(FIND("농촌자원과",$F17)),"농촌자원과",IF(COUNT(FIND("종자관리소",$F17)),"종자관리소",IF(COUNT(FIND("버섯연구소",$F17)),"버섯연구소",IF(COUNT(FIND("소득자원연구소",$F17)),"소득자원연구소",IF(COUNT(FIND("선인장다육식물연구소",$F17)),"선인장다육식물연구소",IF(COUNT(FIND("보건연구부",$F17)),"보건연구부",IF(COUNT(FIND("대기연구부",$F17)),"대기연구부",IF(COUNT(FIND("수질연구부",$F17)),"수질연구부",IF(COUNT(FIND("북부지원",$F17)),"북부지원",IF(COUNT(FIND("수원농산물검사소",$F17)),"수원농산물검사소",IF(COUNT(FIND("건설본부(관리과)",$F17)),"관리과",IF(COUNT(FIND("도로건설과",$F17)),"도로건설과",IF(COUNT(FIND("북부도로과",$F17)),"북부도로과",IF(COUNT(FIND("건축시설과",$F17)),"건축시설과",IF(COUNT(FIND("신청사건립추진단",$F17)),"신청사건립추진단",$F17))))))))))))))))))))) -> 규제개혁추진단 | B17: =G17 -> 기획재정위원회 | C17: =IF(COUNT(FIND("경기도건설본부",$E17)),"건설본부",IF(COUNT(FIND("경기도농업기술원",$E17)),"농업기술원",IF(COUNT(FIND("경기도보건환경연구원",$E17)),"보건환경연구원",IF(COUNT(FIND("소방재난본부",$E17)),"재난안전본부",IF(COUNT(FIND("경기도소방학교",$E17)),"재난안전본부",IF(COUNT(FIND("경기도인재개발원",$E17)),"인재개발원",IF(COUNT(FIND("북부소방재난본부",$E17)),"재난안전본부",IF(COUNT(FIND("소방서",$E17)),"재난안전본부",$E17)))))))) -> 기획조정실 | E17: 기획조정실 | F17: 규제개혁추진단 | G17: 기획재정위원회 | H17: 16 | I17: 0506
A18: =IF(COUNT(AND(FIND("북부소방재난본부",$E18),FIND("특수대응단",$F18))),"특수대응단(북부)",IF(COUNT(FIND("작물연구과",$F18)),"작물연구과",IF(COUNT(FIND("원예연구과",$F18)),"원예연구과",IF(COUNT(FIND("환경농업연구과",$F18)),"환경농업연구과",IF(COUNT(FIND("지원기획과",$F18)),"지원기획과",IF(COUNT(FIND("기술보급과",$F18)),"기술보급과",IF(COUNT(FIND("농촌자원과",$F18)),"농촌자원과",IF(COUNT(FIND("종자관리소",$F18)),"종자관리소",IF(COUNT(FIND("버섯연구소",$F18)),"버섯연구소",IF(COUNT(FIND("소득자원연구소",$F18)),"소득자원연구소",IF(COUNT(FIND("선인장다육식물연구소",$F18)),"선인장다육식물연구소",IF(COUNT(FIND("보건연구부",$F18)),"보건연구부",IF(COUNT(FIND("대기연구부",$F18)),"대기연구부",IF(COUNT(FIND("수질연구부",$F18)),"수질연구부",IF(COUNT(FIND("북부지원",$F18)),"북부지원",IF(COUNT(FIND("수원농산물검사소",$F18)),"수원농산물검사소",IF(COUNT(FIND("건설본부(관리과)",$F18)),"관리과",IF(COUNT(FIND("도로건설과",$F18)),"도로건설과",IF(COUNT(FIND("북부도로과",$F18)),"북부도로과",IF(COUNT(FIND("건축시설과",$F18)),"건축시설과",IF(COUNT(FIND("신청사건립추진단",$F18)),"신청사건립추진단",$F18))))))))))))))))))))) -> 따복공동체지원단 | B18: =G18 -> 기획재정위원회 | C18: =IF(COUNT(FIND("경기도건설본부",$E18)),"건설본부",IF(COUNT(FIND("경기도농업기술원",$E18)),"농업기술원",IF(COUNT(FIND("경기도보건환경연구원",$E18)),"보건환경연구원",IF(COUNT(FIND("소방재난본부",$E18)),"재난안전본부",IF(COUNT(FIND("경기도소방학교",$E18)),"재난안전본부",IF(COUNT(FIND("경기도인재개발원",$E18)),"인재개발원",IF(COUNT(FIND("북부소방재난본부",$E18)),"재난안전본부",IF(COUNT(FIND("소방서",$E18)),"재난안전본부",$E18)))))))) -> 기획조정실 | E18: 기획조정실 | F18: 따복공동체지원단 | G18: 기획재정위원회 | H18: 17 | I18: 0507
A19: =IF(COUNT(AND(FIND("북부소방재난본부",$E19),FIND("특수대응단",$F19))),"특수대응단(북부)",IF(COUNT(FIND("작물연구과",$F19)),"작물연구과",IF(COUNT(FIND("원예연구과",$F19)),"원예연구과",IF(COUNT(FIND("환경농업연구과",$F19)),"환경농업연구과",IF(COUNT(FIND("지원기획과",$F19)),"지원기획과",IF(COUNT(FIND("기술보급과",$F19)),"기술보급과",IF(COUNT(FIND("농촌자원과",$F19)),"농촌자원과",IF(COUNT(FIND("종자관리소",$F19)),"종자관리소",IF(COUNT(FIND("버섯연구소",$F19)),"버섯연구소",IF(COUNT(FIND("소득자원연구소",$F19)),"소득자원연구소",IF(COUNT(FIND("선인장다육식물연구소",$F19)),"선인장다육식물연구소",IF(COUNT(FIND("보건연구부",$F19)),"보건연구부",IF(COUNT(FIND("대기연구부",$F19)),"대기연구부",IF(COUNT(FIND("수질연구부",$F19)),"수질연구부",IF(COUNT(FIND("북부지원",$F19)),"북부지원",IF(COUNT(FIND("수원농산물검사소",$F19)),"수원농산물검사소",IF(COUNT(FIND("건설본부(관리과)",$F19)),"관리과",IF(COUNT(FIND("도로건설과",$F19)),"도로건설과",IF(COUNT(FIND("북부도로과",$F19)),"북부도로과",IF(COUNT(FIND("건축시설과",$F19)),"건축시설과",IF(COUNT(FIND("신청사건립추진단",$F19)),"신청사건립추진단",$F19))))))))))))))))))))) -> 정보기획담당관 | B19: =G19 -> 기획재정위원회 | C19: =IF(COUNT(FIND("경기도건설본부",$E19)),"건설본부",IF(COUNT(FIND("경기도농업기술원",$E19)),"농업기술원",IF(COUNT(FIND("경기도보건환경연구원",$E19)),"보건환경연구원",IF(COUNT(FIND("소방재난본부",$E19)),"재난안전본부",IF(COUNT(FIND("경기도소방학교",$E19)),"재난안전본부",IF(COUNT(FIND("경기도인재개발원",$E19)),"인재개발원",IF(COUNT(FIND("북부소방재난본부",$E19)),"재난안전본부",IF(COUNT(FIND("소방서",$E19)),"재난안전본부",$E19)))))))) -> 기획조정실 | E19: 기획조정실 | F19: 정보기획담당관 | G19: 기획재정위원회 | H19: 18 | I19: 0508
... A174: =IF(COUNT(AND(FIND("북부소방재난본부",$E174),FIND("특수대응단",$F174))),"특수대응단(북부)",IF(COUNT(FIND("작물연구과",$F174)),"작물연구과",IF(COUNT(FIND("원예연구과",$F174)),"원예연구과",IF(COUNT(FIND("환경농업연구과",$F174)),"환경농업연구과",IF(COUNT(FIND("지원기획과",$F174)),"지원기획과",IF(COUNT(FIND("기술보급과",$F174)),"기술보급과",IF(COUNT(FIND("농촌자원과",$F174)),"농촌자원과",IF(COUNT(FIND("종자관리소",$F174)),"종자관리소",IF(COUNT(FIND("버섯연구소",$F174)),"버섯연구소",IF(COUNT(FIND("소득자원연구소",$F174)),"소득자원연구소",IF(COUNT(FIND("선인장다육식물연구소",$F174)),"선인장다육식물연구소",IF(COUNT(FIND("보건연구부",$F174)),"보건연구부",IF(COUNT(FIND("대기연구부",$F174)),"대기연구부",IF(COUNT(FIND("수질연구부",$F174)),"수질연구부",IF(COUNT(FIND("북부지원",$F174)),"북부지원",IF(COUNT(FIND("수원농산물검사소",$F174)),"수원농산물검사소",IF(COUNT(FIND("건설본부(관리과)",$F174)),"관리과",IF(COUNT(FIND("도로건설과",$F174)),"도로건설과",IF(COUNT(FIND("북부도로과",$F174)),"북부도로과",IF(COUNT(FIND("건축시설과",$F174)),"건축시설과",IF(COUNT(FIND("신청사건립추진단",$F174)),"신청사건립추진단",$F174))))))))))))))))))))) -> 수질연구부 | B174: =G174 -> 도시환경위원회 | C174: =IF(COUNT(FIND("경기도건설본부",$E174)),"건설본부",IF(COUNT(FIND("경기도농업기술원",$E174)),"농업기술원",IF(COUNT(FIND("경기도보건환경연구원",$E174)),"보건환경연구원",IF(COUNT(FIND("소방재난본부",$E174)),"재난안전본부",IF(COUNT(FIND("경기도소방학교",$E174)),"재난안전본부",IF(COUNT(FIND("경기도인재개발원",$E174)),"인재개발원",IF(COUNT(FIND("북부소방재난본부",$E174)),"재난안전본부",IF(COUNT(FIND("소방서",$E174)),"재난안전본부",$E174)))))))) -> 보건환경연구원 | E174: 경기도보건환경연구원 | F174: 보건환경연구원(수질연구부) | G174: 도시환경위원회 | H174: 173 | I174: 2902
A175: =IF(COUNT(AND(FIND("북부소방재난본부",$E175),FIND("특수대응단",$F175))),"특수대응단(북부)",IF(COUNT(FIND("작물연구과",$F175)),"작물연구과",IF(COUNT(FIND("원예연구과",$F175)),"원예연구과",IF(COUNT(FIND("환경농업연구과",$F175)),"환경농업연구과",IF(COUNT(FIND("지원기획과",$F175)),"지원기획과",IF(COUNT(FIND("기술보급과",$F175)),"기술보급과",IF(COUNT(FIND("농촌자원과",$F175)),"농촌자원과",IF(COUNT(FIND("종자관리소",$F175)),"종자관리소",IF(COUNT(FIND("버섯연구소",$F175)),"버섯연구소",IF(COUNT(FIND("소득자원연구소",$F175)),"소득자원연구소",IF(COUNT(FIND("선인장다육식물연구소",$F175)),"선인장다육식물연구소",IF(COUNT(FIND("보건연구부",$F175)),"보건연구부",IF(COUNT(FIND("대기연구부",$F175)),"대기연구부",IF(COUNT(FIND("수질연구부",$F175)),"수질연구부",IF(COUNT(FIND("북부지원",$F175)),"북부지원",IF(COUNT(FIND("수원농산물검사소",$F175)),"수원농산물검사소",IF(COUNT(FIND("건설본부(관리과)",$F175)),"관리과",IF(COUNT(FIND("도로건설과",$F175)),"도로건설과",IF(COUNT(FIND("북부도로과",$F175)),"북부도로과",IF(COUNT(FIND("건축시설과",$F175)),"건축시설과",IF(COUNT(FIND("신청사건립추진단",$F175)),"신청사건립추진단",$F175))))))))))))))))))))) -> 북부지원 | B175: =G175 -> 도시환경위원회 | C175: =IF(COUNT(FIND("경기도건설본부",$E175)),"건설본부",IF(COUNT(FIND("경기도농업기술원",$E175)),"농업기술원",IF(COUNT(FIND("경기도보건환경연구원",$E175)),"보건환경연구원",IF(COUNT(FIND("소방재난본부",$E175)),"재난안전본부",IF(COUNT(FIND("경기도소방학교",$E175)),"재난안전본부",IF(COUNT(FIND("경기도인재개발원",$E175)),"인재개발원",IF(COUNT(FIND("북부소방재난본부",$E175)),"재난안전본부",IF(COUNT(FIND("소방서",$E175)),"재난안전본부",$E175)))))))) -> 보건환경연구원 | E175: 경기도보건환경연구원 | F175: 보건환경연구원북부지원 | G175: 도시환경위원회 | H175: 187 | I175: 2903
A176: =IF(COUNT(AND(FIND("북부소방재난본부",$E176),FIND("특수대응단",$F176))),"특수대응단(북부)",IF(COUNT(FIND("작물연구과",$F176)),"작물연구과",IF(COUNT(FIND("원예연구과",$F176)),"원예연구과",IF(COUNT(FIND("환경농업연구과",$F176)),"환경농업연구과",IF(COUNT(FIND("지원기획과",$F176)),"지원기획과",IF(COUNT(FIND("기술보급과",$F176)),"기술보급과",IF(COUNT(FIND("농촌자원과",$F176)),"농촌자원과",IF(COUNT(FIND("종자관리소",$F176)),"종자관리소",IF(COUNT(FIND("버섯연구소",$F176)),"버섯연구소",IF(COUNT(FIND("소득자원연구소",$F176)),"소득자원연구소",IF(COUNT(FIND("선인장다육식물연구소",$F176)),"선인장다육식물연구소",IF(COUNT(FIND("보건연구부",$F176)),"보건연구부",IF(COUNT(FIND("대기연구부",$F176)),"대기연구부",IF(COUNT(FIND("수질연구부",$F176)),"수질연구부",IF(COUNT(FIND("북부지원",$F176)),"북부지원",IF(COUNT(FIND("수원농산물검사소",$F176)),"수원농산물검사소",IF(COUNT(FIND("건설본부(관리과)",$F176)),"관리과",IF(COUNT(FIND("도로건설과",$F176)),"도로건설과",IF(COUNT(FIND("북부도로과",$F176)),"북부도로과",IF(COUNT(FIND("건축시설과",$F176)),"건축시설과",IF(COUNT(FIND("신청사건립추진단",$F176)),"신청사건립추진단",$F176))))))))))))))))))))) -> 수자원본부 | B176: =G176 -> 도시환경위원회 | C176: =IF(COUNT(FIND("경기도건설본부",$E176)),"건설본부",IF(COUNT(FIND("경기도농업기술원",$E176)),"농업기술원",IF(COUNT(FIND("경기도보건환경연구원",$E176)),"보건환경연구원",IF(COUNT(FIND("소방재난본부",$E176)),"재난안전본부",IF(COUNT(FIND("경기도소방학교",$E176)),"재난안전본부",IF(COUNT(FIND("경기도인재개발원",$E176)),"인재개발원",IF(COUNT(FIND("북부소방재난본부",$E176)),"재난안전본부",IF(COUNT(FIND("소방서",$E176)),"재난안전본부",$E176)))))))) -> 수자원본부 | E176: 수자원본부 | F176: 수자원본부 | G176: 도시환경위원회 | H176: 174 | I176: 3001
A177: =IF(COUNT(AND(FIND("북부소방재난본부",$E177),FIND("특수대응단",$F177))),"특수대응단(북부)",IF(COUNT(FIND("작물연구과",$F177)),"작물연구과",IF(COUNT(FIND("원예연구과",$F177)),"원예연구과",IF(COUNT(FIND("환경농업연구과",$F177)),"환경농업연구과",IF(COUNT(FIND("지원기획과",$F177)),"지원기획과",IF(COUNT(FIND("기술보급과",$F177)),"기술보급과",IF(COUNT(FIND("농촌자원과",$F177)),"농촌자원과",IF(COUNT(FIND("종자관리소",$F177)),"종자관리소",IF(COUNT(FIND("버섯연구소",$F177)),"버섯연구소",IF(COUNT(FIND("소득자원연구소",$F177)),"소득자원연구소",IF(COUNT(FIND("선인장다육식물연구소",$F177)),"선인장다육식물연구소",IF(COUNT(FIND("보건연구부",$F177)),"보건연구부",IF(COUNT(FIND("대기연구부",$F177)),"대기연구부",IF(COUNT(FIND("수질연구부",$F177)),"수질연구부",IF(COUNT(FIND("북부지원",$F177)),"북부지원",IF(COUNT(FIND("수원농산물검사소",$F177)),"수원농산물검사소",IF(COUNT(FIND("건설본부(관리과)",$F177)),"관리과",IF(COUNT(FIND("도로건설과",$F177)),"도로건설과",IF(COUNT(FIND("북부도로과",$F177)),"북부도로과",IF(COUNT(FIND("건축시설과",$F177)),"건축시설과",IF(COUNT(FIND("신청사건립추진단",$F177)),"신청사건립추진단",$F177))))))))))))))))))))) -> 교육정책과 | B177: =G177 -> 여성가족교육협력위원회 | C177: =IF(COUNT(FIND("경기도건설본부",$E177)),"건설본부",IF(COUNT(FIND("경기도농업기술원",$E177)),"농업기술원",IF(COUNT(FIND("경기도보건환경연구원",$E177)),"보건환경연구원",IF(COUNT(FIND("소방재난본부",$E177)),"재난안전본부",IF(COUNT(FIND("경기도소방학교",$E177)),"재난안전본부",IF(COUNT(FIND("경기도인재개발원",$E177)),"인재개발원",IF(COUNT(FIND("북부소방재난본부",$E177)),"재난안전본부",IF(COUNT(FIND("소방서",$E177)),"재난안전본부",$E177)))))))) -> 교육협력국 | E177: 교육협력국 | F177: 교육정책과 | G177: 여성가족교육협력위원회 | H177: 175 | I177: 3101
A178: =IF(COUNT(AND(FIND("북부소방재난본부",$E178),FIND("특수대응단",$F178))),"특수대응단(북부)",IF(COUNT(FIND("작물연구과",$F178)),"작물연구과",IF(COUNT(FIND("원예연구과",$F178)),"원예연구과",IF(COUNT(FIND("환경농업연구과",$F178)),"환경농업연구과",IF(COUNT(FIND("지원기획과",$F178)),"지원기획과",IF(COUNT(FIND("기술보급과",$F178)),"기술보급과",IF(COUNT(FIND("농촌자원과",$F178)),"농촌자원과",IF(COUNT(FIND("종자관리소",$F178)),"종자관리소",IF(COUNT(FIND("버섯연구소",$F178)),"버섯연구소",IF(COUNT(FIND("소득자원연구소",$F178)),"소득자원연구소",IF(COUNT(FIND("선인장다육식물연구소",$F178)),"선인장다육식물연구소",IF(COUNT(FIND("보건연구부",$F178)),"보건연구부",IF(COUNT(FIND("대기연구부",$F178)),"대기연구부",IF(COUNT(FIND("수질연구부",$F178)),"수질연구부",IF(COUNT(FIND("북부지원",$F178)),"북부지원",IF(COUNT(FIND("수원농산물검사소",$F178)),"수원농산물검사소",IF(COUNT(FIND("건설본부(관리과)",$F178)),"관리과",IF(COUNT(FIND("도로건설과",$F178)),"도로건설과",IF(COUNT(FIND("북부도로과",$F178)),"북부도로과",IF(COUNT(FIND("건축시설과",$F178)),"건축시설과",IF(COUNT(FIND("신청사건립추진단",$F178)),"신청사건립추진단",$F178))))))))))))))))))))) -> 교육협력과 | B178: =G178 -> 여성가족교육협력위원회 | C178: =IF(COUNT(FIND("경기도건설본부",$E178)),"건설본부",IF(COUNT(FIND("경기도농업기술원",$E178)),"농업기술원",IF(COUNT(FIND("경기도보건환경연구원",$E178)),"보건환경연구원",IF(COUNT(FIND("소방재난본부",$E178)),"재난안전본부",IF(COUNT(FIND("경기도소방학교",$E178)),"재난안전본부",IF(COUNT(FIND("경기도인재개발원",$E178)),"인재개발원",IF(COUNT(FIND("북부소방재난본부",$E178)),"재난안전본부",IF(COUNT(FIND("소방서",$E178)),"재난안전본부",$E178)))))))) -> 교육협력국 | E178: 교육협력국 | F178: 교육협력과 | G178: 여성가족교육협력위원회 | H178: 176 | I178: 3102
A179: =IF(COUNT(AND(FIND("북부소방재난본부",$E179),FIND("특수대응단",$F179))),"특수대응단(북부)",IF(COUNT(FIND("작물연구과",$F179)),"작물연구과",IF(COUNT(FIND("원예연구과",$F179)),"원예연구과",IF(COUNT(FIND("환경농업연구과",$F179)),"환경농업연구과",IF(COUNT(FIND("지원기획과",$F179)),"지원기획과",IF(COUNT(FIND("기술보급과",$F179)),"기술보급과",IF(COUNT(FIND("농촌자원과",$F179)),"농촌자원과",IF(COUNT(FIND("종자관리소",$F179)),"종자관리소",IF(COUNT(FIND("버섯연구소",$F179)),"버섯연구소",IF(COUNT(FIND("소득자원연구소",$F179)),"소득자원연구소",IF(COUNT(FIND("선인장다육식물연구소",$F179)),"선인장다육식물연구소",IF(COUNT(FIND("보건연구부",$F179)),"보건연구부",IF(COUNT(FIND("대기연구부",$F179)),"대기연구부",IF(COUNT(FIND("수질연구부",$F179)),"수질연구부",IF(COUNT(FIND("북부지원",$F179)),"북부지원",IF(COUNT(FIND("수원농산물검사소",$F179)),"수원농산물검사소",IF(COUNT(FIND("건설본부(관리과)",$F179)),"관리과",IF(COUNT(FIND("도로건설과",$F179)),"도로건설과",IF(COUNT(FIND("북부도로과",$F179)),"북부도로과",IF(COUNT(FIND("건축시설과",$F179)),"건축시설과",IF(COUNT(FIND("신청사건립추진단",$F179)),"신청사건립추진단",$F179))))))))))))))))))))) -> 도서관정책과 | B179: =G179 -> 여성가족교육협력위원회 | C179: =IF(COUNT(FIND("경기도건설본부",$E179)),"건설본부",IF(COUNT(FIND("경기도농업기술원",$E179)),"농업기술원",IF(COUNT(FIND("경기도보건환경연구원",$E179)),"보건환경연구원",IF(COUNT(FIND("소방재난본부",$E179)),"재난안전본부",IF(COUNT(FIND("경기도소방학교",$E179)),"재난안전본부",IF(COUNT(FIND("경기도인재개발원",$E179)),"인재개발원",IF(COUNT(FIND("북부소방재난본부",$E179)),"재난안전본부",IF(COUNT(FIND("소방서",$E179)),"재난안전본부",$E179)))))))) -> 교육협력국 | E179: 교육협력국 | F179: 도서관정책과 | G179: 여성가족교육협력위원회 | H179: 177 | I179: 3103
A180: =IF(COUNT(AND(FIND("북부소방재난본부",$E180),FIND("특수대응단",$F180))),"특수대응단(북부)",IF(COUNT(FIND("작물연구과",$F180)),"작물연구과",IF(COUNT(FIND("원예연구과",$F180)),"원예연구과",IF(COUNT(FIND("환경농업연구과",$F180)),"환경농업연구과",IF(COUNT(FIND("지원기획과",$F180)),"지원기획과",IF(COUNT(FIND("기술보급과",$F180)),"기술보급과",IF(COUNT(FIND("농촌자원과",$F180)),"농촌자원과",IF(COUNT(FIND("종자관리소",$F180)),"종자관리소",IF(COUNT(FIND("버섯연구소",$F180)),"버섯연구소",IF(COUNT(FIND("소득자원연구소",$F180)),"소득자원연구소",IF(COUNT(FIND("선인장다육식물연구소",$F180)),"선인장다육식물연구소",IF(COUNT(FIND("보건연구부",$F180)),"보건연구부",IF(COUNT(FIND("대기연구부",$F180)),"대기연구부",IF(COUNT(FIND("수질연구부",$F180)),"수질연구부",IF(COUNT(FIND("북부지원",$F180)),"북부지원",IF(COUNT(FIND("수원농산물검사소",$F180)),"수원농산물검사소",IF(COUNT(FIND("건설본부(관리과)",$F180)),"관리과",IF(COUNT(FIND("도로건설과",$F180)),"도로건설과",IF(COUNT(FIND("북부도로과",$F180)),"북부도로과",IF(COUNT(FIND("건축시설과",$F180)),"건축시설과",IF(COUNT(FIND("신청사건립추진단",$F180)),"신청사건립추진단",$F180))))))))))))))))))))) -> 여성가족과 | B180: =G180 -> 여성가족교육협력위원회 | C180: =IF(COUNT(FIND("경기도건설본부",$E180)),"건설본부",IF(COUNT(FIND("경기도농업기술원",$E180)),"농업기술원",IF(COUNT(FIND("경기도보건환경연구원",$E180)),"보건환경연구원",IF(COUNT(FIND("소방재난본부",$E180)),"재난안전본부",IF(COUNT(FIND("경기도소방학교",$E180)),"재난안전본부",IF(COUNT(FIND("경기도인재개발원",$E180)),"인재개발원",IF(COUNT(FIND("북부소방재난본부",$E180)),"재난안전본부",IF(COUNT(FIND("소방서",$E180)),"재난안전본부",$E180)))))))) -> 여성가족국 | E180: 여성가족국 | F180: 여성가족과 | G180: 여성가족교육협력위원회 | H180: 178 | I180: 3201
A181: =IF(COUNT(AND(FIND("북부소방재난본부",$E181),FIND("특수대응단",$F181))),"특수대응단(북부)",IF(COUNT(FIND("작물연구과",$F181)),"작물연구과",IF(COUNT(FIND("원예연구과",$F181)),"원예연구과",IF(COUNT(FIND("환경농업연구과",$F181)),"환경농업연구과",IF(COUNT(FIND("지원기획과",$F181)),"지원기획과",IF(COUNT(FIND("기술보급과",$F181)),"기술보급과",IF(COUNT(FIND("농촌자원과",$F181)),"농촌자원과",IF(COUNT(FIND("종자관리소",$F181)),"종자관리소",IF(COUNT(FIND("버섯연구소",$F181)),"버섯연구소",IF(COUNT(FIND("소득자원연구소",$F181)),"소득자원연구소",IF(COUNT(FIND("선인장다육식물연구소",$F181)),"선인장다육식물연구소",IF(COUNT(FIND("보건연구부",$F181)),"보건연구부",IF(COUNT(FIND("대기연구부",$F181)),"대기연구부",IF(COUNT(FIND("수질연구부",$F181)),"수질연구부",IF(COUNT(FIND("북부지원",$F181)),"북부지원",IF(COUNT(FIND("수원농산물검사소",$F181)),"수원농산물검사소",IF(COUNT(FIND("건설본부(관리과)",$F181)),"관리과",IF(COUNT(FIND("도로건설과",$F181)),"도로건설과",IF(COUNT(FIND("북부도로과",$F181)),"북부도로과",IF(COUNT(FIND("건축시설과",$F181)),"건축시설과",IF(COUNT(FIND("신청사건립추진단",$F181)),"신청사건립추진단",$F181))))))))))))))))))))) -> 보육정책과 | B181: =G181 -> 여성가족교육협력위원회 | C181: =IF(COUNT(FIND("경기도건설본부",$E181)),"건설본부",IF(COUNT(FIND("경기도농업기술원",$E181)),"농업기술원",IF(COUNT(FIND("경기도보건환경연구원",$E181)),"보건환경연구원",IF(COUNT(FIND("소방재난본부",$E181)),"재난안전본부",IF(COUNT(FIND("경기도소방학교",$E181)),"재난안전본부",IF(COUNT(FIND("경기도인재개발원",$E181)),"인재개발원",IF(COUNT(FIND("북부소방재난본부",$E181)),"재난안전본부",IF(COUNT(FIND("소방서",$E181)),"재난안전본부",$E181)))))))) -> 여성가족국 | E181: 여성가족국 | F181: 보육정책과 | G181: 여성가족교육협력위원회 | H181: 179 | I181: 3202
A182: =IF(COUNT(AND(FIND("북부소방재난본부",$E182),FIND("특수대응단",$F182))),"특수대응단(북부)",IF(COUNT(FIND("작물연구과",$F182)),"작물연구과",IF(COUNT(FIND("원예연구과",$F182)),"원예연구과",IF(COUNT(FIND("환경농업연구과",$F182)),"환경농업연구과",IF(COUNT(FIND("지원기획과",$F182)),"지원기획과",IF(COUNT(FIND("기술보급과",$F182)),"기술보급과",IF(COUNT(FIND("농촌자원과",$F182)),"농촌자원과",IF(COUNT(FIND("종자관리소",$F182)),"종자관리소",IF(COUNT(FIND("버섯연구소",$F182)),"버섯연구소",IF(COUNT(FIND("소득자원연구소",$F182)),"소득자원연구소",IF(COUNT(FIND("선인장다육식물연구소",$F182)),"선인장다육식물연구소",IF(COUNT(FIND("보건연구부",$F182)),"보건연구부",IF(COUNT(FIND("대기연구부",$F182)),"대기연구부",IF(COUNT(FIND("수질연구부",$F182)),"수질연구부",IF(COUNT(FIND("북부지원",$F182)),"북부지원",IF(COUNT(FIND("수원농산물검사소",$F182)),"수원농산물검사소",IF(COUNT(FIND("건설본부(관리과)",$F182)),"관리과",IF(COUNT(FIND("도로건설과",$F182)),"도로건설과",IF(COUNT(FIND("북부도로과",$F182)),"북부도로과",IF(COUNT(FIND("건축시설과",$F182)),"건축시설과",IF(COUNT(FIND("신청사건립추진단",$F182)),"신청사건립추진단",$F182))))))))))))))))))))) -> 아동청소년과 | B182: =G182 -> 여성가족교육협력위원회 | C182: =IF(COUNT(FIND("경기도건설본부",$E182)),"건설본부",IF(COUNT(FIND("경기도농업기술원",$E182)),"농업기술원",IF(COUNT(FIND("경기도보건환경연구원",$E182)),"보건환경연구원",IF(COUNT(FIND("소방재난본부",$E182)),"재난안전본부",IF(COUNT(FIND("경기도소방학교",$E182)),"재난안전본부",IF(COUNT(FIND("경기도인재개발원",$E182)),"인재개발원",IF(COUNT(FIND("북부소방재난본부",$E182)),"재난안전본부",IF(COUNT(FIND("소방서",$E182)),"재난안전본부",$E182)))))))) -> 여성가족국 | E182: 여성가족국 | F182: 아동청소년과 | G182: 여성가족교육협력위원회 | H182: 180 | I182: 3203
A183: =IF(COUNT(AND(FIND("북부소방재난본부",$E183),FIND("특수대응단",$F183))),"특수대응단(북부)",IF(COUNT(FIND("작물연구과",$F183)),"작물연구과",IF(COUNT(FIND("원예연구과",$F183)),"원예연구과",IF(COUNT(FIND("환경농업연구과",$F183)),"환경농업연구과",IF(COUNT(FIND("지원기획과",$F183)),"지원기획과",IF(COUNT(FIND("기술보급과",$F183)),"기술보급과",IF(COUNT(FIND("농촌자원과",$F183)),"농촌자원과",IF(COUNT(FIND("종자관리소",$F183)),"종자관리소",IF(COUNT(FIND("버섯연구소",$F183)),"버섯연구소",IF(COUNT(FIND("소득자원연구소",$F183)),"소득자원연구소",IF(COUNT(FIND("선인장다육식물연구소",$F183)),"선인장다육식물연구소",IF(COUNT(FIND("보건연구부",$F183)),"보건연구부",IF(COUNT(FIND("대기연구부",$F183)),"대기연구부",IF(COUNT(FIND("수질연구부",$F183)),"수질연구부",IF(COUNT(FIND("북부지원",$F183)),"북부지원",IF(COUNT(FIND("수원농산물검사소",$F183)),"수원농산물검사소",IF(COUNT(FIND("건설본부(관리과)",$F183)),"관리과",IF(COUNT(FIND("도로건설과",$F183)),"도로건설과",IF(COUNT(FIND("북부도로과",$F183)),"북부도로과",IF(COUNT(FIND("건축시설과",$F183)),"건축시설과",IF(COUNT(FIND("신청사건립추진단",$F183)),"신청사건립추진단",$F183))))))))))))))))))))) -> 다문화가족과 | B183: =G183 -> 여성가족교육협력위원회 | C183: =IF(COUNT(FIND("경기도건설본부",$E183)),"건설본부",IF(COUNT(FIND("경기도농업기술원",$E183)),"농업기술원",IF(COUNT(FIND("경기도보건환경연구원",$E183)),"보건환경연구원",IF(COUNT(FIND("소방재난본부",$E183)),"재난안전본부",IF(COUNT(FIND("경기도소방학교",$E183)),"재난안전본부",IF(COUNT(FIND("경기도인재개발원",$E183)),"인재개발원",IF(COUNT(FIND("북부소방재난본부",$E183)),"재난안전본부",IF(COUNT(FIND("소방서",$E183)),"재난안전본부",$E183)))))))) -> 여성가족국 | E183: 여성가족국 | F183: 다문화가족과 | G183: 여성가족교육협력위원회 | H183: 181 | I183: 3204
A184: =IF(COUNT(AND(FIND("북부소방재난본부",$E184),FIND("특수대응단",$F184))),"특수대응단(북부)",IF(COUNT(FIND("작물연구과",$F184)),"작물연구과",IF(COUNT(FIND("원예연구과",$F184)),"원예연구과",IF(COUNT(FIND("환경농업연구과",$F184)),"환경농업연구과",IF(COUNT(FIND("지원기획과",$F184)),"지원기획과",IF(COUNT(FIND("기술보급과",$F184)),"기술보급과",IF(COUNT(FIND("농촌자원과",$F184)),"농촌자원과",IF(COUNT(FIND("종자관리소",$F184)),"종자관리소",IF(COUNT(FIND("버섯연구소",$F184)),"버섯연구소",IF(COUNT(FIND("소득자원연구소",$F184)),"소득자원연구소",IF(COUNT(FIND("선인장다육식물연구소",$F184)),"선인장다육식물연구소",IF(COUNT(FIND("보건연구부",$F184)),"보건연구부",IF(COUNT(FIND("대기연구부",$F184)),"대기연구부",IF(COUNT(FIND("수질연구부",$F184)),"수질연구부",IF(COUNT(FIND("북부지원",$F184)),"북부지원",IF(COUNT(FIND("수원농산물검사소",$F184)),"수원농산물검사소",IF(COUNT(FIND("건설본부(관리과)",$F184)),"관리과",IF(COUNT(FIND("도로건설과",$F184)),"도로건설과",IF(COUNT(FIND("북부도로과",$F184)),"북부도로과",IF(COUNT(FIND("건축시설과",$F184)),"건축시설과",IF(COUNT(FIND("신청사건립추진단",$F184)),"신청사건립추진단",$F184))))))))))))))))))))) -> 여성비전센터 | B184: =G184 -> 여성가족교육협력위원회 | C184: =IF(COUNT(FIND("경기도건설본부",$E184)),"건설본부",IF(COUNT(FIND("경기도농업기술원",$E184)),"농업기술원",IF(COUNT(FIND("경기도보건환경연구원",$E184)),"보건환경연구원",IF(COUNT(FIND("소방재난본부",$E184)),"재난안전본부",IF(COUNT(FIND("경기도소방학교",$E184)),"재난안전본부",IF(COUNT(FIND("경기도인재개발원",$E184)),"인재개발원",IF(COUNT(FIND("북부소방재난본부",$E184)),"재난안전본부",IF(COUNT(FIND("소방서",$E184)),"재난안전본부",$E184)))))))) -> 여성가족국 | E184: 여성가족국 | F184: 여성비전센터 | G184: 여성가족교육협력위원회 | H184: 182 | I184: 3205
A185: =IF(COUNT(AND(FIND("북부소방재난본부",$E185),FIND("특수대응단",$F185))),"특수대응단(북부)",IF(COUNT(FIND("작물연구과",$F185)),"작물연구과",IF(COUNT(FIND("원예연구과",$F185)),"원예연구과",IF(COUNT(FIND("환경농업연구과",$F185)),"환경농업연구과",IF(COUNT(FIND("지원기획과",$F185)),"지원기획과",IF(COUNT(FIND("기술보급과",$F185)),"기술보급과",IF(COUNT(FIND("농촌자원과",$F185)),"농촌자원과",IF(COUNT(FIND("종자관리소",$F185)),"종자관리소",IF(COUNT(FIND("버섯연구소",$F185)),"버섯연구소",IF(COUNT(FIND("소득자원연구소",$F185)),"소득자원연구소",IF(COUNT(FIND("선인장다육식물연구소",$F185)),"선인장다육식물연구소",IF(COUNT(FIND("보건연구부",$F185)),"보건연구부",IF(COUNT(FIND("대기연구부",$F185)),"대기연구부",IF(COUNT(FIND("수질연구부",$F185)),"수질연구부",IF(COUNT(FIND("북부지원",$F185)),"북부지원",IF(COUNT(FIND("수원농산물검사소",$F185)),"수원농산물검사소",IF(COUNT(FIND("건설본부(관리과)",$F185)),"관리과",IF(COUNT(FIND("도로건설과",$F185)),"도로건설과",IF(COUNT(FIND("북부도로과",$F185)),"북부도로과",IF(COUNT(FIND("건축시설과",$F185)),"건축시설과",IF(COUNT(FIND("신청사건립추진단",$F185)),"신청사건립추진단",$F185))))))))))))))))))))) -> 여성능력개발센터 | B185: =G185 -> 여성가족교육협력위원회 | C185: =IF(COUNT(FIND("경기도건설본부",$E185)),"건설본부",IF(COUNT(FIND("경기도농업기술원",$E185)),"농업기술원",IF(COUNT(FIND("경기도보건환경연구원",$E185)),"보건환경연구원",IF(COUNT(FIND("소방재난본부",$E185)),"재난안전본부",IF(COUNT(FIND("경기도소방학교",$E185)),"재난안전본부",IF(COUNT(FIND("경기도인재개발원",$E185)),"인재개발원",IF(COUNT(FIND("북부소방재난본부",$E185)),"재난안전본부",IF(COUNT(FIND("소방서",$E185)),"재난안전본부",$E185)))))))) -> 여성가족국 | E185: 여성가족국 | F185: 여성능력개발센터 | G185: 여성가족교육협력위원회 | H185: 183 | I185: 3206
A186: =IF(COUNT(AND(FIND("북부소방재난본부",$E186),FIND("특수대응단",$F186))),"특수대응단(북부)",IF(COUNT(FIND("작물연구과",$F186)),"작물연구과",IF(COUNT(FIND("원예연구과",$F186)),"원예연구과",IF(COUNT(FIND("환경농업연구과",$F186)),"환경농업연구과",IF(COUNT(FIND("지원기획과",$F186)),"지원기획과",IF(COUNT(FIND("기술보급과",$F186)),"기술보급과",IF(COUNT(FIND("농촌자원과",$F186)),"농촌자원과",IF(COUNT(FIND("종자관리소",$F186)),"종자관리소",IF(COUNT(FIND("버섯연구소",$F186)),"버섯연구소",IF(COUNT(FIND("소득자원연구소",$F186)),"소득자원연구소",IF(COUNT(FIND("선인장다육식물연구소",$F186)),"선인장다육식물연구소",IF(COUNT(FIND("보건연구부",$F186)),"보건연구부",IF(COUNT(FIND("대기연구부",$F186)),"대기연구부",IF(COUNT(FIND("수질연구부",$F186)),"수질연구부",IF(COUNT(FIND("북부지원",$F186)),"북부지원",IF(COUNT(FIND("수원농산물검사소",$F186)),"수원농산물검사소",IF(COUNT(FIND("건설본부(관리과)",$F186)),"관리과",IF(COUNT(FIND("도로건설과",$F186)),"도로건설과",IF(COUNT(FIND("북부도로과",$F186)),"북부도로과",IF(COUNT(FIND("건축시설과",$F186)),"건축시설과",IF(COUNT(FIND("신청사건립추진단",$F186)),"신청사건립추진단",$F186))))))))))))))))))))) -> 가족여성담당관 | B186: =G186 -> 여성가족교육협력위원회 | C186: =IF(COUNT(FIND("경기도건설본부",$E186)),"건설본부",IF(COUNT(FIND("경기도농업기술원",$E186)),"농업기술원",IF(COUNT(FIND("경기도보건환경연구원",$E186)),"보건환경연구원",IF(COUNT(FIND("소방재난본부",$E186)),"재난안전본부",IF(COUNT(FIND("경기도소방학교",$E186)),"재난안전본부",IF(COUNT(FIND("경기도인재개발원",$E186)),"인재개발원",IF(COUNT(FIND("북부소방재난본부",$E186)),"재난안전본부",IF(COUNT(FIND("소방서",$E186)),"재난안전본부",$E186)))))))) -> 복지여성실 | E186: 복지여성실 | F186: 가족여성담당관 | G186: 여성가족교육협력위원회 | H186: 184 | I186: 3301
A187: =IF(COUNT(AND(FIND("북부소방재난본부",$E187),FIND("특수대응단",$F187))),"특수대응단(북부)",IF(COUNT(FIND("작물연구과",$F187)),"작물연구과",IF(COUNT(FIND("원예연구과",$F187)),"원예연구과",IF(COUNT(FIND("환경농업연구과",$F187)),"환경농업연구과",IF(COUNT(FIND("지원기획과",$F187)),"지원기획과",IF(COUNT(FIND("기술보급과",$F187)),"기술보급과",IF(COUNT(FIND("농촌자원과",$F187)),"농촌자원과",IF(COUNT(FIND("종자관리소",$F187)),"종자관리소",IF(COUNT(FIND("버섯연구소",$F187)),"버섯연구소",IF(COUNT(FIND("소득자원연구소",$F187)),"소득자원연구소",IF(COUNT(FIND("선인장다육식물연구소",$F187)),"선인장다육식물연구소",IF(COUNT(FIND("보건연구부",$F187)),"보건연구부",IF(COUNT(FIND("대기연구부",$F187)),"대기연구부",IF(COUNT(FIND("수질연구부",$F187)),"수질연구부",IF(COUNT(FIND("북부지원",$F187)),"북부지원",IF(COUNT(FIND("수원농산물검사소",$F187)),"수원농산물검사소",IF(COUNT(FIND("건설본부(관리과)",$F187)),"관리과",IF(COUNT(FIND("도로건설과",$F187)),"도로건설과",IF(COUNT(FIND("북부도로과",$F187)),"북부도로과",IF(COUNT(FIND("건축시설과",$F187)),"건축시설과",IF(COUNT(FIND("신청사건립추진단",$F187)),"신청사건립추진단",$F187))))))))))))))))))))) -> 보육청소년담당관 | B187: =G187 -> 여성가족교육협력위원회 | C187: =IF(COUNT(FIND("경기도건설본부",$E187)),"건설본부",IF(COUNT(FIND("경기도농업기술원",$E187)),"농업기술원",IF(COUNT(FIND("경기도보건환경연구원",$E187)),"보건환경연구원",IF(COUNT(FIND("소방재난본부",$E187)),"재난안전본부",IF(COUNT(FIND("경기도소방학교",$E187)),"재난안전본부",IF(COUNT(FIND("경기도인재개발원",$E187)),"인재개발원",IF(COUNT(FIND("북부소방재난본부",$E187)),"재난안전본부",IF(COUNT(FIND("소방서",$E187)),"재난안전본부",$E187)))))))) -> 복지여성실 | E187: 복지여성실 | F187: 보육청소년담당관 | G187: 여성가족교육협력위원회 | H187: 185 | I187: 3302
A188: =IF(COUNT(AND(FIND("북부소방재난본부",$E188),FIND("특수대응단",$F188))),"특수대응단(북부)",IF(COUNT(FIND("작물연구과",$F188)),"작물연구과",IF(COUNT(FIND("원예연구과",$F188)),"원예연구과",IF(COUNT(FIND("환경농업연구과",$F188)),"환경농업연구과",IF(COUNT(FIND("지원기획과",$F188)),"지원기획과",IF(COUNT(FIND("기술보급과",$F188)),"기술보급과",IF(COUNT(FIND("농촌자원과",$F188)),"농촌자원과",IF(COUNT(FIND("종자관리소",$F188)),"종자관리소",IF(COUNT(FIND("버섯연구소",$F188)),"버섯연구소",IF(COUNT(FIND("소득자원연구소",$F188)),"소득자원연구소",IF(COUNT(FIND("선인장다육식물연구소",$F188)),"선인장다육식물연구소",IF(COUNT(FIND("보건연구부",$F188)),"보건연구부",IF(COUNT(FIND("대기연구부",$F188)),"대기연구부",IF(COUNT(FIND("수질연구부",$F188)),"수질연구부",IF(COUNT(FIND("북부지원",$F188)),"북부지원",IF(COUNT(FIND("수원농산물검사소",$F188)),"수원농산물검사소",IF(COUNT(FIND("건설본부(관리과)",$F188)),"관리과",IF(COUNT(FIND("도로건설과",$F188)),"도로건설과",IF(COUNT(FIND("북부도로과",$F188)),"북부도로과",IF(COUNT(FIND("건축시설과",$F188)),"건축시설과",IF(COUNT(FIND("신청사건립추진단",$F188)),"신청사건립추진단",$F188))))))))))))))))))))) -> 북부여성비전센터 | B188: =G188 -> 여성가족교육협력위원회 | C188: =IF(COUNT(FIND("경기도건설본부",$E188)),"건설본부",IF(COUNT(FIND("경기도농업기술원",$E188)),"농업기술원",IF(COUNT(FIND("경기도보건환경연구원",$E188)),"보건환경연구원",IF(COUNT(FIND("소방재난본부",$E188)),"재난안전본부",IF(COUNT(FIND("경기도소방학교",$E188)),"재난안전본부",IF(COUNT(FIND("경기도인재개발원",$E188)),"인재개발원",IF(COUNT(FIND("북부소방재난본부",$E188)),"재난안전본부",IF(COUNT(FIND("소방서",$E188)),"재난안전본부",$E188)))))))) -> 복지여성실 | E188: 복지여성실 | F188: 북부여성비전센터 | G188: 여성가족교육협력위원회 | H188: 186 | I188: 3303

Sheet 15년검증
A1: 2015년 본예산 검증 | G1: 본예산 예비비 | I1: 124682800
K2: (단위 : 천원)
A3: 구 분 | B3: 상임위 | G3: 구 분 | H3: 예결위
B4: 세입 | C4: 검증 | D4: 세출 | E4: 검증 | H4: 세입 | I4: 검증 | J4: 세출 | K4: 검증
A5: 전체 총계 | B5: =SUM(B6,B9) -> 10681000 | C5: =IF(B5='15년일입'!U3,"OK","@@") -> @@ | D5: =SUM(D6,D9) -> 5102622 | E5: =IF(D5='15년일출'!V3,"OK","@@") -> @@ | G5: 전체 총계 | H5: =SUM(H6,H9) -> 0 | I5: =IF(H5='15년일입'!Z3,"OK","@@") -> OK | J5: =SUM(J6,J9) -> 0 | K5: =IF(J5='15년일출'!AA3,"OK","@@") -> OK
A6: 자체 총계 | B6: =SUM(B7:B8) -> -100000 | C6: =IF(B6='15년일입'!U6,"OK","@@") -> OK | D6: =SUM(D7:D8) -> 5485800 | E6: =IF($D$6='15년일출'!$V$6,"OK","@@") -> @@ | G6: 자체 총계 | H6: =SUM(H7:H8) -> 0 | I6: =IF(H6='15년일입'!Z6,"OK","@@") -> OK | J6: =SUM(J7:J8) -> 0 | K6: =IF($J6='15년일출'!$AA6,"OK","@@") -> OK
A7: 자체 도비 | B7: =SUMIFS('15년일입'!$U$7:$U$633,'15년일입'!$S$7:$S$633,"도비") -> -100000 | D7: =SUMIFS('15년일출'!$V$7:$V$688,'15년일출'!$T$7:$T$688,"도비") -> 4865800 | G7: 자체 - 의존도비 | H7: =SUMIFS('15년일입'!$Z$7:$Z$633,'15년일입'!$X$7:$X$633,"도비") -> 0 | J7: =SUMIFS('15년일출'!$AA$7:$AA$688,'15년일출'!$Y$7:$Y$688,"도비") -> 0
A8: 의존 매칭 도비 | B8: =SUMIFS('15년일입'!$U$7:$U$633,'15년일입'!$S$7:$S$633,"국비")+SUMIFS('15년일입'!$U$7:$U$633,'15년일입'!$S$7:$S$633,"광특")+SUMIFS('15년일입'!$U$7:$U$633,'15년일입'!$S$7:$S$633,"기금")+SUMIFS('15년일입'!$U$7:$U$633,'15년일입'!$S$7:$S$633,"분권")+SUMIFS('15년일입'!$U$7:$U$633,'15년일입'!$S$7:$S$633,"특교") -> 0 | D8: =SUMIFS('15년일출'!$V$7:$V$688,'15년일출'!$T$7:$T$688,"국비")+SUMIFS('15년일출'!$V$7:$V$688,'15년일출'!$T$7:$T$688,"광특")+SUMIFS('15년일출'!$V$7:$V$688,'15년일출'!$T$7:$T$688,"기금")+SUMIFS('15년일출'!$V$7:$V$688,'15년일출'!$T$7:$T$688,"분권")+SUMIFS('15년일출'!$V$7:$V$688,'15년일출'!$T$7:$T$688,"특교") -> 620000 | G8: 의존 매칭 도비 | H8: =SUMIFS('15년일입'!$Z$7:$Z$633,'15년일입'!$X$7:$X$633,"국비")+SUMIFS('15년일입'!$Z$7:$Z$633,'15년일입'!$X$7:$X$633,"광특")+SUMIFS('15년일입'!$Z$7:$Z$633,'15년일입'!$X$7:$X$633,"기금")+SUMIFS('15년일입'!$Z$7:$Z$633,'15년일입'!$X$7:$X$633,"분권")+SUMIFS('15년일입'!$Z$7:$Z$633,'15년일입'!$X$7:$X$633,"특교") -> 0 | J8: =SUMIFS('15년일출'!$AA$7:$AA$688,'15년일출'!$Y$7:$Y$688,"국비")+SUMIFS('15년일출'!$AA$7:$AA$688,'15년일출'!$Y$7:$Y$688,"광특")+SUMIFS('15년일출'!$AA$7:$AA$688,'15년일출'!$Y$7:$Y$688,"기금")+SUMIFS('15년일출'!$AA$7:$AA$688,'15년일출'!$Y$7:$Y$688,"분권")+SUMIFS('15년일출'!$AA$7:$AA$688,'15년일출'!$Y$7:$Y$688,"특교") -> 0
A9: 의존계 | B9: =SUM(B10:B14) -> 10781000 | C9: =IF(B9='15년일입'!T6,"OK","@@") -> @@ | D9: =SUM(D10:D14) -> -383178 | E9: =IF(B9=D9,"OK","@@") -> @@ | G9: 의존계 | H9: =SUM(H10:H14) -> 0 | I9: =IF(H9='15년일입'!Y6,"OK","@@") -> OK | J9: =SUM(J10:J14) -> 0 | K9: =IF(H9=J9,"OK","@@") -> OK
A10: 국비 | B10: =SUMIFS('15년일입'!$T$7:$T$633,'15년일입'!$S$7:$S$633,'15년검증'!$A10) -> 10781000 | D10: =SUMIFS('15년일출'!$U$7:$U$688,'15년일출'!$T$7:$T$688,'15년검증'!$A10) -> -107178 | E10: =IF(B10=D10,"OK","@@") -> @@ | G10: 국비 | H10: =SUMIFS('15년일입'!$Y$7:$Y$633,'15년일입'!$X$7:$X$633,'15년검증'!$A10) -> 0 | J10: =SUMIFS('15년일출'!$Z$7:$Z$688,'15년일출'!$Y$7:$Y$688,'15년검증'!$A10) -> 0 | K10: =IF(H10=J10,"OK","@@") -> OK
A11: 광특 | B11: =SUMIFS('15년일입'!$T$7:$T$633,'15년일입'!$S$7:$S$633,'15년검증'!$A11) -> 0 | D11: =SUMIFS('15년일출'!$U$7:$U$688,'15년일출'!$T$7:$T$688,'15년검증'!$A11) -> 0 | E11: =IF(B11=D11,"OK","@@") -> OK | G11: 광특 | H11: =SUMIFS('15년일입'!$Y$7:$Y$633,'15년일입'!$X$7:$X$633,'15년검증'!$A11) -> 0 | J11: =SUMIFS('15년일출'!$Z$7:$Z$688,'15년일출'!$Y$7:$Y$688,'15년검증'!$A11) -> 0 | K11: =IF(H11=J11,"OK","@@") -> OK
A12: 기금 | B12: =SUMIFS('15년일입'!$T$7:$T$633,'15년일입'!$S$7:$S$633,'15년검증'!$A12) -> 0 | D12: =SUMIFS('15년일출'!$U$7:$U$688,'15년일출'!$T$7:$T$688,'15년검증'!$A12) -> -276000 | E12: =IF(B12=D12,"OK","@@") -> @@ | G12: 기금 | H12: =SUMIFS('15년일입'!$Y$7:$Y$633,'15년일입'!$X$7:$X$633,'15년검증'!$A12) -> 0 | J12: =SUMIFS('15년일출'!$Z$7:$Z$688,'15년일출'!$Y$7:$Y$688,'15년검증'!$A12) -> 0 | K12: =IF(H12=J12,"OK","@@") -> OK
A13: 분권 | B13: =SUMIFS('15년일입'!$T$7:$T$633,'15년일입'!$S$7:$S$633,'15년검증'!$A13) -> 0 | D13: =SUMIFS('15년일출'!$U$7:$U$688,'15년일출'!$T$7:$T$688,'15년검증'!$A13) -> 0 | E13: =IF(B13=D13,"OK","@@") -> OK | G13: 분권 | H13: =SUMIFS('15년일입'!$Y$7:$Y$633,'15년일입'!$X$7:$X$633,'15년검증'!$A13) -> 0 | J13: =SUMIFS('15년일출'!$Z$7:$Z$688,'15년일출'!$Y$7:$Y$688,'15년검증'!$A13) -> 0 | K13: =IF(H13=J13,"OK","@@") -> OK
A14: 특교 | B14: =SUMIFS('15년일입'!$T$7:$T$633,'15년일입'!$S$7:$S$633,'15년검증'!$A14) -> 0 | D14: =SUMIFS('15년일출'!$U$7:$U$688,'15년일출'!$T$7:$T$688,'15년검증'!$A14) -> 0 | E14: =IF(B14=D14,"OK","@@") -> OK | G14: 특교 | H14: =SUMIFS('15년일입'!$Y$7:$Y$633,'15년일입'!$X$7:$X$633,'15년검증'!$A14) -> 0 | J14: =SUMIFS('15년일출'!$Z$7:$Z$688,'15년일출'!$Y$7:$Y$688,'15년검증'!$A14) -> 0 | K14: =IF(H14=J14,"OK","@@") -> OK
G16: 예비비 조정액 | H16: =INDEX('15년일출'!AA7:AA688,MATCH("*예비비*",'15년일출'!G7:G688,0)) -> #N/A
H18: =H5-J5 -> 0
G20: 예비비 조정잔액 | H20: =I1+H16 -> #N/A

Sheet 2추검증
A1: 2회추경 검증 | G1: 2회추경 예비비 | I1: 22466366
K2: (단위 : 천원)
A3: 구 분 | B3: 상임위 | G3: 구 분 | H3: 예결위
B4: 세입 | C4: 검증 | D4: 세출 | E4: 검증 | H4: 세입 | I4: 검증 | J4: 세출 | K4: 검증
A5: 전체 총계 | B5: =SUM(B6,B9) -> #REF! | C5: =IF(B5=#REF!,"OK","@@") -> #REF! | D5: =SUM(D6,D9) -> #REF! | E5: =IF(D5=#REF!,"OK","@@") -> #REF! | G5: 전체 총계 | H5: =SUM(H6,H9) -> #REF! | I5: =IF(H5=#REF!,"OK","@@") -> #REF! | J5: =SUM(J6,J9) -> #REF! | K5: =IF(J5=#REF!,"OK","@@") -> #REF!
A6: 자체 총계 | B6: =SUM(B7:B8) -> #REF! | C6: =IF(B6=#REF!,"OK","@@") -> #REF! | D6: =SUM(D7:D8) -> #REF! | E6: =IF($D$6=#REF!,"OK","@@") -> #REF! | G6: 자체 총계 | H6: =SUM(H7:H8) -> #REF! | I6: =IF(H6=#REF!,"OK","@@") -> #REF! | J6: =SUM(J7:J8) -> #REF! | K6: =IF($J6=#REF!,"OK","@@") -> #REF!
A7: 자체 도비 | B7: =SUMIFS(#REF!,#REF!,"도비") -> #REF! | D7: =SUMIFS(#REF!,#REF!,"도비") -> #REF! | G7: 자체 - 의존도비 | H7: =SUMIFS(#REF!,#REF!,"도비") -> #REF! | J7: =SUMIFS(#REF!,#REF!,"도비") -> #REF!
A8: 의존 매칭 도비 | B8: =SUMIFS(#REF!,#REF!,"국비")+SUMIFS(#REF!,#REF!,"광특")+SUMIFS(#REF!,#REF!,"기금")+SUMIFS(#REF!,#REF!,"분권")+SUMIFS(#REF!,#REF!,"특교") -> #REF! | D8: =SUMIFS(#REF!,#REF!,"국비")+SUMIFS(#REF!,#REF!,"광특")+SUMIFS(#REF!,#REF!,"기금")+SUMIFS(#REF!,#REF!,"분권")+SUMIFS(#REF!,#REF!,"특교") -> #REF! | G8: 의존 매칭 도비 | H8: =SUMIFS(#REF!,#REF!,"국비")+SUMIFS(#REF!,#REF!,"광특")+SUMIFS(#REF!,#REF!,"기금")+SUMIFS(#REF!,#REF!,"분권")+SUMIFS(#REF!,#REF!,"특교") -> #REF! | J8: =SUMIFS(#REF!,#REF!,"국비")+SUMIFS(#REF!,#REF!,"광특")+SUMIFS(#REF!,#REF!,"기금")+SUMIFS(#REF!,#REF!,"분권")+SUMIFS(#REF!,#REF!,"특교") -> #REF!
A9: 의존계 | B9: =SUM(B10:B14) -> #REF! | C9: =IF(B9=#REF!,"OK","@@") -> #REF! | D9: =SUM(D10:D14) -> #REF! | E9: =IF(B9=D9,"OK","@@") -> #REF! | G9: 의존계 | H9: =SUM(H10:H14) -> #REF! | I9: =IF(H9=#REF!,"OK","@@") -> #REF! | J9: =SUM(J10:J14) -> #REF! | K9: =IF(H9=J9,"OK","@@") -> #REF!
A10: 국비 | B10: =SUMIFS(#REF!,#REF!,'2추검증'!$A10) -> #REF! | D10: =SUMIFS(#REF!,#REF!,'2추검증'!$A10) -> #REF! | E10: =IF(B10=D10,"OK","@@") -> #REF! | G10: 국비 | H10: =SUMIFS(#REF!,#REF!,'2추검증'!$A10) -> #REF! | J10: =SUMIFS(#REF!,#REF!,'2추검증'!$A10) -> #REF! | K10: =IF(H10=J10,"OK","@@") -> #REF!
A11: 광특 | B11: =SUMIFS(#REF!,#REF!,'2추검증'!$A11) -> #REF! | D11: =SUMIFS(#REF!,#REF!,'2추검증'!$A11) -> #REF! | E11: =IF(B11=D11,"OK","@@") -> #REF! | G11: 광특 | H11: =SUMIFS(#REF!,#REF!,'2추검증'!$A11) -> #REF! | J11: =SUMIFS(#REF!,#REF!,'2추검증'!$A11) -> #REF! | K11: =IF(H11=J11,"OK","@@") -> #REF!
A12: 기금 | B12: =SUMIFS(#REF!,#REF!,'2추검증'!$A12) -> #REF! | D12: =SUMIFS(#REF!,#REF!,'2추검증'!$A12) -> #REF! | E12: =IF(B12=D12,"OK","@@") -> #REF! | G12: 기금 | H12: =SUMIFS(#REF!,#REF!,'2추검증'!$A12) -> #REF! | J12: =SUMIFS(#REF!,#REF!,'2추검증'!$A12) -> #REF! | K12: =IF(H12=J12,"OK","@@") -> #REF!
A13: 분권 | B13: =SUMIFS(#REF!,#REF!,'2추검증'!$A13) -> #REF! | D13: =SUMIFS(#REF!,#REF!,'2추검증'!$A13) -> #REF! | E13: =IF(B13=D13,"OK","@@") -> #REF! | G13: 분권 | H13: =SUMIFS(#REF!,#REF!,'2추검증'!$A13) -> #REF! | J13: =SUMIFS(#REF!,#REF!,'2추검증'!$A13) -> #REF! | K13: =IF(H13=J13,"OK","@@") -> #REF!
A14: 특교 | B14: =SUMIFS(#REF!,#REF!,'2추검증'!$A14) -> #REF! | D14: =SUMIFS(#REF!,#REF!,'2추검증'!$A14) -> #REF! | E14: =IF(B14=D14,"OK","@@") -> #REF! | G14: 특교 | H14: =SUMIFS(#REF!,#REF!,'2추검증'!$A14) -> #REF! | J14: =SUMIFS(#REF!,#REF!,'2추검증'!$A14) -> #REF! | K14: =IF(H14=J14,"OK","@@") -> #REF!
G16: 예비비 조정액 | H16: =INDEX(#REF!,MATCH("*예비비*",#REF!,0)) -> #REF!
H18: =H5-J5 -> #REF!
G20: 예비비 조정잔액 | H20: =I1-H16 -> #REF!

Sheet 상임 표지
D2: 2014년도 제2회 일반회계 및 특별회계 추가경정 세입·세출 예산안
D4: 상 임 위 계 수 조 정 결 과
D16: 예산결산특별위원회

Sheet 표지
D2: 2014년도 제2회 일반회계 및 특별회계 추가경정 세입·세출 예산안
A4: 예결위 계수조정 결과
D16: 예산결산특별위원회

Sheet 예결 표지
B5: 2014년도 제2회 일반회계 및 특별회계 추가경정 세입·세출 예산안
B7: 예결위 계수조정 결과
B33: 예산결산특별위원회

Sheet 예결 표지(가로)
B3: 2014년도 제2회 일반회계 및 특별회계 추가경정 세입·세출 예산안
B5: 예결위 계수조정 결과
B24: 예산결산특별위원회

Sheet 15년총괄표
B1: 2015년도 경기도 일반 및 특별회계 세입·세출 예산안[전체예산총괄]
B3: □ 총 괄 | D3: 세입예산증감 | E3: =SUM(D7:E7) -> 0 | F3: 세출예산증감 | G3: =SUM(F7:G7) -> 0
H4: (단위:천원) | M4: (일반+특별+기금) | O4: 특별+기금
B5: 구 분 | C5: 집행부제출(안) | D5: 세입예산(안) | F5: 세출예산(안) | H5: 예산수정(안) | I5: 일반회계 증감(총괄표) | K5: 예비비증감 | L5: 비 고 | M5: 전체 증감(시트) | O5: 비고
D6: 감 액 | E6: 증 액 | F6: 감 액 | G6: 증 액 | I6: 세입 | J6: 세출 | M6: 세입 | N6: 세출
B7: 합 계 | C7: =SUM(C8:C18) -> 0 | D7: =SUM(D8:D18) -> 0 | E7: =SUM(E8:E18) -> 0 | F7: =SUM(F8:F18) -> 0 | G7: =SUM(G8:G18) -> 0 | H7: =SUM(H8:H18) -> 0 | I7: =E25+D25 -> 0 | J7: =F25+G25 -> 0 | K7: =I7-J7 -> 0 | L7: 예비비 증감이 - 예산이면 감액에 + 예산이면 증액에 입력 | M7: =D24+E24 -> 0 | N7: =F24+G24 -> 0 | O7: 0 | P7: 0
B8: 기 타 | C8: 0 | H8: =C8-F8+G8 -> 0 | I8: =D7+E7 -> 0 | J8: =F7+G7 -> 0 | K8: =I8-J8 -> 0
B9: 의회운영위원회 | D9: =SUMIFS('15년일입'!$K$7:$K$633,'15년일입'!$A$7:$A$633,'15년총괄표'!$B9) -> 0 | E9: =SUMIFS('15년일입'!$L$7:$L$633,'15년일입'!$A$7:$A$633,'15년총괄표'!$B9) -> 0 | F9: =SUMIFS('15년일출'!$L$7:$L$688,'15년일출'!$B$7:$B$688,'15년총괄표'!$B9) -> 0 | G9: =SUMIFS('15년일출'!$M$7:$M$688,'15년일출'!$B$7:$B$688,'15년총괄표'!$B9) -> 0 | H9: =C9+F9+G9 -> 0 | I9: 일반회계 증감(시트) | N9: 전체 증감
B10: 기획재정위원회 | D10: =SUMIFS('15년일입'!$K$7:$K$633,'15년일입'!$A$7:$A$633,'15년총괄표'!$B10) -> 0 | E10: =SUMIFS('15년일입'!$L$7:$L$633,'15년일입'!$A$7:$A$633,'15년총괄표'!$B10) -> 0 | F10: =SUMIFS('15년일출'!$L$7:$L$688,'15년일출'!$B$7:$B$688,'15년총괄표'!$B10) -> 0 | G10: =SUMIFS('15년일출'!$M$7:$M$688,'15년일출'!$B$7:$B$688,'15년총괄표'!$B10) -> 0 | H10: =C10+F10+G10 -> 0 | I10: =#REF!+#REF! -> #REF! | J10: =#REF!+#REF! -> #REF! | N10: =M7-N7 -> 0
B11: 경제과학기술위원회 | D11: =SUMIFS('15년일입'!$K$7:$K$633,'15년일입'!$A$7:$A$633,'15년총괄표'!$B11) -> 0 | E11: =SUMIFS('15년일입'!$L$7:$L$633,'15년일입'!$A$7:$A$633,'15년총괄표'!$B11) -> 0 | F11: =SUMIFS('15년일출'!$L$7:$L$688,'15년일출'!$B$7:$B$688,'15년총괄표'!$B11) -> 0 | G11: =SUMIFS('15년일출'!$M$7:$M$688,'15년일출'!$B$7:$B$688,'15년총괄표'!$B11) -> 0 | H11: =C11+F11+G11 -> 0
B12: 안전행정위원회 | D12: =SUMIFS('15년일입'!$K$7:$K$633,'15년일입'!$A$7:$A$633,'15년총괄표'!$B12) -> 0 | E12: =SUMIFS('15년일입'!$L$7:$L$633,'15년일입'!$A$7:$A$633,'15년총괄표'!$B12) -> 0 | F12: =SUMIFS('15년일출'!$L$7:$L$688,'15년일출'!$B$7:$B$688,'15년총괄표'!$B12) -> 0 | G12: =SUMIFS('15년일출'!$M$7:$M$688,'15년일출'!$B$7:$B$688,'15년총괄표'!$B12) -> 0 | H12: =C12+F12+G12 -> 0
B13: 문화체육관광위원회 | D13: =SUMIFS('15년일입'!$K$7:$K$633,'15년일입'!$A$7:$A$633,'15년총괄표'!$B13) -> 0 | E13: =SUMIFS('15년일입'!$L$7:$L$633,'15년일입'!$A$7:$A$633,'15년총괄표'!$B13) -> 0 | F13: =SUMIFS('15년일출'!$L$7:$L$688,'15년일출'!$B$7:$B$688,'15년총괄표'!$B13) -> 0 | G13: =SUMIFS('15년일출'!$M$7:$M$688,'15년일출'!$B$7:$B$688,'15년총괄표'!$B13) -> 0 | H13: =C13+F13+G13 -> 0 | N13: 기금
B14: 농정해양위원회 | D14: =SUMIFS('15년일입'!$K$7:$K$633,'15년일입'!$A$7:$A$633,'15년총괄표'!$B14) -> 0 | E14: =SUMIFS('15년일입'!$L$7:$L$633,'15년일입'!$A$7:$A$633,'15년총괄표'!$B14) -> 0 | F14: =SUMIFS('15년일출'!$L$7:$L$688,'15년일출'!$B$7:$B$688,'15년총괄표'!$B14) -> 0 | G14: =SUMIFS('15년일출'!$M$7:$M$688,'15년일출'!$B$7:$B$688,'15년총괄표'!$B14) -> 0 | H14: =C14+F14+G14 -> 0 | N14: =N10-K7 -> 0
B15: 보건복지위원회 | D15: =SUMIFS('15년일입'!$K$7:$K$633,'15년일입'!$A$7:$A$633,'15년총괄표'!$B15) -> 0 | E15: =SUMIFS('15년일입'!$L$7:$L$633,'15년일입'!$A$7:$A$633,'15년총괄표'!$B15) -> 0 | F15: =SUMIFS('15년일출'!$L$7:$L$688,'15년일출'!$B$7:$B$688,'15년총괄표'!$B15) -> 0 | G15: =SUMIFS('15년일출'!$M$7:$M$688,'15년일출'!$B$7:$B$688,'15년총괄표'!$B15) -> 0 | H15: =C15+F15+G15 -> 0
B16: 건설교통위원회 | D16: =SUMIFS('15년일입'!$K$7:$K$633,'15년일입'!$A$7:$A$633,'15년총괄표'!$B16) -> 0 | E16: =SUMIFS('15년일입'!$L$7:$L$633,'15년일입'!$A$7:$A$633,'15년총괄표'!$B16) -> 0 | F16: =SUMIFS('15년일출'!$L$7:$L$688,'15년일출'!$B$7:$B$688,'15년총괄표'!$B16) -> 0 | G16: =SUMIFS('15년일출'!$M$7:$M$688,'15년일출'!$B$7:$B$688,'15년총괄표'!$B16) -> 0 | H16: =C16+F16+G16 -> 0
B17: 도시환경위원회 | D17: =SUMIFS('15년일입'!$K$7:$K$633,'15년일입'!$A$7:$A$633,'15년총괄표'!$B17) -> 0 | E17: =SUMIFS('15년일입'!$L$7:$L$633,'15년일입'!$A$7:$A$633,'15년총괄표'!$B17) -> 0 | F17: =SUMIFS('15년일출'!$L$7:$L$688,'15년일출'!$B$7:$B$688,'15년총괄표'!$B17) -> 0 | G17: =SUMIFS('15년일출'!$M$7:$M$688,'15년일출'!$B$7:$B$688,'15년총괄표'!$B17) -> 0 | H17: =C17+F17+G17 -> 0
B18: 여성가족교육협력위원회 | D18: =SUMIFS('15년일입'!$K$7:$K$633,'15년일입'!$A$7:$A$633,'15년총괄표'!$B18) -> 0 | E18: =SUMIFS('15년일입'!$L$7:$L$633,'15년일입'!$A$7:$A$633,'15년총괄표'!$B18) -> 0 | F18: =SUMIFS('15년일출'!$L$7:$L$688,'15년일출'!$B$7:$B$688,'15년총괄표'!$B18) -> 0 | G18: =SUMIFS('15년일출'!$M$7:$M$688,'15년일출'!$B$7:$B$688,'15년총괄표'!$B18) -> 0 | H18: =C18+F18+G18 -> 0
B20: □ 회계별 예산총규모
H21: (단위:천원)
B22: 구 분 | C22: 세출예산액 (집행부제출 안) | D22: 세입예산(안) | F22: 세출예산(안) | H22: 예산수정(안)
D23: 감 액 | E23: 증 액 | F23: 감 액 | G23: 증 액 | I23: 세입기준 수정예산안
B24: 합 계 | C24: =SUM(C25:C26) -> 0 | D24: =SUM(D25:D26) -> 0 | E24: =SUM(E25:E26) -> 0 | F24: =SUM(F25:F26) -> 0 | G24: =SUM(G25:G26) -> 0 | H24: =SUM(H25:H26) -> 0 | I24: =C24+D24+E24 -> 0 | J24: =I24-H24 -> 0 | K24: (세출기준-세입기준)
B25: 일반회계 | D25: ='15년일입'!$K$6 -> 0 | E25: ='15년일입'!$L$6 -> 0 | F25: ='15년일출'!$L$6 -> 0 | G25: ='15년일출'!$M$6 -> 0 | H25: =C25+F25+G25 -> 0 | I25: =C25+D25+E25 -> 0 | J25: =I25-H25 -> 0 | K25: (세출기준-세입기준)
B26: 특별회계 | H26: =C26+F26+G26 -> 0 | I26: =C26+D26+E26 -> 0 | J26: =I26-H26 -> 0 | K26: (세출기준-세입기준)
B30: 위원회명 | C30: 일반+기특 | D30: 공기업 | E30: 합계
B31: 의회운영위원회 | C31: 39922113 | E31: =SUM(C31:D31) -> 39922113
B32: 기획재정위원회 | C32: 3302571667 | D32: 1780946434 | E32: =SUM(C32:D32) -> 5083518101
B33: 경제과학기술위원회 | C33: 155329320 | D33: 384743740 | E33: =SUM(C33:D33) -> 540073060
B34: 안전행정위원회 | C34: 1142858974 | E34: =SUM(C34:D34) -> 1142858974
B35: 문화체육관광위원회 | C35: 224243208 | D35: 52484400 | E35: =SUM(C35:D35) -> 276727608
B36: 농정해양위원회 | C36: 466978999 | E36: =SUM(C36:D36) -> 466978999
B37: 보건복지위원회 | C37: 3254006708 | E37: =SUM(C37:D37) -> 3254006708
B38: 건설교통위원회 | C38: 1220859831 | E38: =SUM(C38:D38) -> 1220859831
B39: 도시환경위원회 | C39: 866963933 | D39: 28360000 | E39: =SUM(C39:D39) -> 895323933
B40: 여성가족평생교육위원회 | C40: 4882582917 | E40: =SUM(C40:D40) -> 4882582917
B41: 총합계 | C41: =SUM(C31:C40) -> 15556317670 | D41: =SUM(D31:D40) -> 2246534574 | E41: =SUM(C41:D41) -> 17802852244
B43: 예비비 | C43: =3922478-221377 -> 3701101
I160: ◦ 본청 83,000 증 ◦ 북부청 377,000 증
K290: -50000

Sheet 15년총괄표(실국별)
B1: 2015년도 경기도 일반 및 특별회계 세입·세출 예산안[전체예산총괄]
B3: □ 총괄(실국별) | E3: =SUM(D7:E7) -> 0 | G3: =SUM(F7:G7) -> 0
H4: (단위:천원) | M4: (일반+특별+기금) | O4: 특별+기금
B5: 구 분 | C5: 집행부제출(안) | D5: 세입예산(안) | F5: 세출예산(안) | H5: 예산수정(안) | I5: 일반회계 증감(총괄표) | K5: 예비비증감 | L5: 비 고 | M5: 전체 증감(시트) | O5: 비고
D6: 감 액 | E6: 증 액 | F6: 감 액 | G6: 증 액 | I6: 세입 | J6: 세출 | M6: 세입 | N6: 세출
B7: 합 계 | C7: =SUM(C8:C33) -> 0 | D7: =SUM(D8:D33) -> 0 | E7: =SUM(E8:E33) -> 0 | F7: =SUM(F8:F33) -> 0 | G7: =SUM(G8:G33) -> 0 | H7: =SUM(H8:H33) -> 0 | I7: =#REF!+#REF! -> #REF! | J7: =#REF!+#REF! -> #REF! | K7: =I7-J7 -> #REF! | L7: 예비비 증감이 - 예산이면 감액에 + 예산이면 증액에 입력 | M7: =#REF!+#REF! -> #REF! | N7: =#REF!+#REF! -> #REF! | O7: 0 | P7: 0
B8: 감사관 | D8: =SUMIFS('15년일입'!$K$7:$K$633,'15년일입'!$B$7:$B$633,'15년총괄표(실국별)'!$B8) -> 0 | E8: =SUMIFS('15년일입'!$L$7:$L$633,'15년일입'!$B$7:$B$633,'15년총괄표(실국별)'!$B8) -> 0 | F8: =SUMIFS('15년일출'!$L$7:$L$688,'15년일출'!$C$7:$C$688,'15년총괄표(실국별)'!$B8) -> 0 | G8: =SUMIFS('15년일출'!$M$7:$M$688,'15년일출'!$C$7:$C$688,'15년총괄표(실국별)'!$B8) -> 0 | H8: =C8+F8+G8 -> 0 | I8: 일반회계 증감(시트) | N8: 전체 증감
B9: 기획조정실 | D9: =SUMIFS('15년일입'!$K$7:$K$633,'15년일입'!$B$7:$B$633,'15년총괄표(실국별)'!$B9) -> 0 | E9: =SUMIFS('15년일입'!$L$7:$L$633,'15년일입'!$B$7:$B$633,'15년총괄표(실국별)'!$B9) -> 0 | F9: =SUMIFS('15년일출'!$L$7:$L$688,'15년일출'!$C$7:$C$688,'15년총괄표(실국별)'!$B9) -> 0 | G9: =SUMIFS('15년일출'!$M$7:$M$688,'15년일출'!$C$7:$C$688,'15년총괄표(실국별)'!$B9) -> 0 | H9: =C9+F9+G9 -> 0 | I9: =#REF!+#REF! -> #REF! | J9: =#REF!+#REF! -> #REF! | N9: =#REF!-#REF! -> #REF!
