Workbook

Sheet 구분표
A1: 실과명 조정 | B1: 위원회명 조정 | C1: 실국명 조정 | E1: 실국명 | F1: 실과명 | G1: 위원회명 | H1: 정렬순서 | I1: 정렬코드 | K1: 2014재원 | L1: 2015재원 | N1: 본예산 | O1: 2회추경
A2: =IF(COUNT(AND(FIND("북부소방재난본부",$E2),FIND("특수대응단",$F2))),"특수대응단(북부)",IF(COUNT(FIND("작물연구과",$F2)),"작물연구과",IF(COUNT(FIND("원예연구과",$F2)),"원예연구과",IF(COUNT(FIND("환경농업연구과",$F2)),"환경농업연구과",IF(COUNT(FIND("지원기획과",$F2)),"지원기획과",IF(COUNT(FIND("기술보급과",$F2)),"기술보급과",IF(COUNT(FIND("농촌자원과",$F2)),"농촌자원과",IF(COUNT(FIND("종자관리소",$F2)),"종자관리소",IF(COUNT(FIND("버섯연구소",$F2)),"버섯연구소",IF(COUNT(FIND("소득자원연구소",$F2)),"소득자원연구소",IF(COUNT(FIND("선인장다육식물연구소",$F2)),"선인장다육식물연구소",IF(COUNT(FIND("보건연구부",$F2)),"보건연구부",IF(COUNT(FIND("대기연구부",$F2)),"대기연구부",IF(COUNT(FIND("수질연구부",$F2)),"수질연구부",IF(COUNT(FIND("북부지원",$F2)),"북부지원",IF(COUNT(FIND("수원농산물검사소",$F2)),"수원농산물검사소",IF(COUNT(FIND("건설본부(관리과)",$F2)),"관리과",IF(COUNT(FIND("도로건설과",$F2)),"도로건설과",IF(COUNT(FIND("북부도로과",$F2)),"북부도로과",IF(COUNT(FIND("건축시설과",$F2)),"건축시설과",IF(COUNT(FIND("신청사건립추진단",$F2)),"신청사건립추진단",$F2))))))))))))))))))))) -> 의회사무처 | B2: =G2 -> 의회운영위원회 | C2: =IF(COUNT(FIND("경기도건설본부",$E2)),"건설본부",IF(COUNT(FIND("경기도농업기술원",$E2)),"농업기술원",IF(COUNT(FIND("경기도보건환경연구원",$E2)),"보건환경연구원",IF(COUNT(FIND("소방재난본부",$E2)),"재난안전본부",IF(COUNT(FIND("경기도소방학교",$E2)),"재난안전본부",IF(COUNT(FIND("경기도인재개발원",$E2)),"인재개발원",IF(COUNT(FIND("북부소방재난본부",$E2)),"재난안전본부",IF(COUNT(FIND("소방서",$E2)),"재난안전본부",$E2)))))))) -> 의회사무처 | E2: 의회사무처 | F2: 의회사무처 | G2: 의회운영위원회 | H2: 1 | I2: 0101 | K2: 도비 | L2: 도비 | N2: 본예산 | O2: 2회추경
A3: =IF(COUNT(AND(FIND("북부소방재난본부",$E3),FIND("특수대응단",$F3))),"특수대응단(북부)",IF(COUNT(FIND("작물연구과",$F3)),"작물연구과",IF(COUNT(FIND("원예연구과",$F3)),"원예연구과",IF(COUNT(FIND("환경농업연구과",$F3)),"환경농업연구과",IF(COUNT(FIND("지원기획과",$F3)),"지원기획과",IF(COUNT(FIND("기술보급과",$F3)),"기술보급과",IF(COUNT(FIND("농촌자원과",$F3)),"농촌자원과",IF(COUNT(FIND("종자관리소",$F3)),"종자관리소",IF(COUNT(FIND("버섯연구소",$F3)),"버섯연구소",IF(COUNT(FIND("소득자원연구소",$F3)),"소득자원연구소",IF(COUNT(FIND("선인장다육식물연구소",$F3)),"선인장다육식물연구소",IF(COUNT(FIND("보건연구부",$F3)),"보건연구부",IF(COUNT(FIND("대기연구부",$F3)),"대기연구부",IF(COUNT(FIND("수질연구부",$F3)),"수질연구부",IF(COUNT(FIND("북부지원",$F3)),"북부지원",IF(COUNT(FIND("수원농산물검사소",$F3)),"수원농산물검사소",IF(COUNT(FIND("건설본부(관리과)",$F3)),"관리과",IF(COUNT(FIND("도로건설과",$F3)),"도로건설과",IF(COUNT(FIND("북부도로과",$F3)),"북부도로과",IF(COUNT(FIND("건축시설과",$F3)),"건축시설과",IF(COUNT(FIND("신청사건립추진단",$F3)),"신청사건립추진단",$F3))))))))))))))))))))) -> 언론담당관 | B3: =G3 -> 의회운영위원회 | C3: =IF(COUNT(FIND("경기도건설본부",$E3)),"건설본부",IF(COUNT(FIND("경기도농업기술원",$E3)),"농업기술원",IF(COUNT(FIND("경기도보건환경연구원",$E3)),"보건환경연구원",IF(COUNT(FIND("소방재난본부",$E3)),"재난안전본부",IF(COUNT(FIND("경기도소방학교",$E3)),"재난안전본부",IF(COUNT(FIND("경기도인재개발원",$E3)),"인재개발원",IF(COUNT(FIND("북부소방재난본부",$E3)),"재난안전본부",IF(COUNT(FIND("소방서",$E3)),"재난안전본부",$E3)))))))) -> 대변인 | E3: 대변인 | F3: 언론담당관 | G3: 의회운영위원회 | H3: 2 | I3: 0201 | K3: 국비 | L3: 국비 | N3: 신규 | O3: 1회추경
A4: =IF(COUNT(AND(FIND("북부소방재난본부",$E4),FIND("특수대응단",$F4))),"특수대응단(북부)",IF(COUNT(FIND("작물연구과",$F4)),"작물연구과",IF(COUNT(FIND("원예연구과",$F4)),"원예연구과",IF(COUNT(FIND("환경농업연구과",$F4)),"환경농업연구과",IF(COUNT(FIND("지원기획과",$F4)),"지원기획과",IF(COUNT(FIND("기술보급과",$F4)),"기술보급과",IF(COUNT(FIND("농촌자원과",$F4)),"농촌자원과",IF(COUNT(FIND("종자관리소",$F4)),"종자관리소",IF(COUNT(FIND("버섯연구소",$F4)),"버섯연구소",IF(COUNT(FIND("소득자원연구소",$F4)),"소득자원연구소",IF(COUNT(FIND("선인장다육식물연구소",$F4)),"선인장다육식물연구소",IF(COUNT(FIND("보건연구부",$F4)),"보건연구부",IF(COUNT(FIND("대기연구부",$F4)),"대기연구부",IF(COUNT(FIND("수질연구부",$F4)),"수질연구부",IF(COUNT(FIND("북부지원",$F4)),"북부지원",IF(COUNT(FIND("수원농산물검사소",$F4)),"수원농산물검사소",IF(COUNT(FIND("건설본부(관리과)",$F4)),"관리과",IF(COUNT(FIND("도로건설과",$F4)),"도로건설과",IF(COUNT(FIND("북부도로과",$F4)),"북부도로과",IF(COUNT(FIND("건축시설과",$F4)),"건축시설과",IF(COUNT(FIND("신청사건립추진단",$F4)),"신청사건립추진단",$F4))))))))))))))))))))) -> 홍보담당관 | B4: =G4 -> 의회운영위원회 | C4: =IF(COUNT(FIND("경기도건설본부",$E4)),"건설본부",IF(COUNT(FIND("경기도농업기술원",$E4)),"농업기술원",IF(COUNT(FIND("경기도보건환경연구원",$E4)),"보건환경연구원",IF(COUNT(FIND("소방재난본부",$E4)),"재난안전본부",IF(COUNT(FIND("경기도소방학교",$E4)),"재난안전본부",IF(COUNT(FIND("경기도인재개발원",$E4)),"인재개발원",IF(COUNT(FIND("북부소방재난본부",$E4)),"재난안전본부",IF(COUNT(FIND("소방서",$E4)),"재난안전본부",$E4)))))))) -> 대변인 | E4: 대변인 | F4: 홍보담당관 | G4: 의회운영위원회 | H4: 3 | I4: 0202 | K4: 광특 | L4: 지특 | O4: 본예산
A5: =IF(COUNT(AND(FIND("북부소방재난본부",$E5),FIND("특수대응단",$F5))),"특수대응단(북부)",IF(COUNT(FIND("작물연구과",$F5)),"작물연구과",IF(COUNT(FIND("원예연구과",$F5)),"원예연구과",IF(COUNT(FIND("환경농업연구과",$F5)),"환경농업연구과",IF(COUNT(FIND("지원기획과",$F5)),"지원기획과",IF(COUNT(FIND("기술보급과",$F5)),"기술보급과",IF(COUNT(FIND("농촌자원과",$F5)),"농촌자원과",IF(COUNT(FIND("종자관리소",$F5)),"종자관리소",IF(COUNT(FIND("버섯연구소",$F5)),"버섯연구소",IF(COUNT(FIND("소득자원연구소",$F5)),"소득자원연구소",IF(COUNT(FIND("선인장다육식물연구소",$F5)),"선인장다육식물연구소",IF(COUNT(FIND("보건연구부",$F5)),"보건연구부",IF(COUNT(FIND("대기연구부",$F5)),"대기연구부",IF(COUNT(FIND("수질연구부",$F5)),"수질연구부",IF(COUNT(FIND("북부지원",$F5)),"북부지원",IF(COUNT(FIND("수원농산물검사소",$F5)),"수원농산물검사소",IF(COUNT(FIND("건설본부(관리과)",$F5)),"관리과",IF(COUNT(FIND("도로건설과",$F5)),"도로건설과",IF(COUNT(FIND("북부도로과",$F5)),"북부도로과",IF(COUNT(FIND("건축시설과",$F5)),"건축시설과",IF(COUNT(FIND("신청사건립추진단",$F5)),"신청사건립추진단",$F5))))))))))))))))))))) -> 소통담당관 | B5: =G5 -> 의회운영위원회 | C5: =IF(COUNT(FIND("경기도건설본부",$E5)),"건설본부",IF(COUNT(FIND("경기도농업기술원",$E5)),"농업기술원",IF(COUNT(FIND("경기도보건환경연구원",$E5)),"보건환경연구원",IF(COUNT(FIND("소방재난본부",$E5)),"재난안전본부",IF(COUNT(FIND("경기도소방학교",$E5)),"재난안전본부",IF(COUNT(FIND("경기도인재개발원",$E5)),"인재개발원",IF(COUNT(FIND("북부소방재난본부",$E5)),"재난안전본부",IF(COUNT(FIND("소방서",$E5)),"재난안전본부",$E5)))))))) -> 대변인 | E5: 대변인 | F5: 소통담당관 | G5: 의회운영위원회 | H5: 4 | I5: 0203 | K5: 기금 | L5: 기금 | O5: 신규
A6: =IF(COUNT(AND(FIND("북부소방재난본부",$E6),FIND("특수대응단",$F6))),"특수대응단(북부)",IF(COUNT(FIND("작물연구과",$F6)),"작물연구과",IF(COUNT(FIND("원예연구과",$F6)),"원예연구과",IF(COUNT(FIND("환경농업연구과",$F6)),"환경농업연구과",IF(COUNT(FIND("지원기획과",$F6)),"지원기획과",IF(COUNT(FIND("기술보급과",$F6)),"기술보급과",IF(COUNT(FIND("농촌자원과",$F6)),"농촌자원과",IF(COUNT(FIND("종자관리소",$F6)),"종자관리소",IF(COUNT(FIND("버섯연구소",$F6)),"버섯연구소",IF(COUNT(FIND("소득자원연구소",$F6)),"소득자원연구소",IF(COUNT(FIND("선인장다육식물연구소",$F6)),"선인장다육식물연구소",IF(COUNT(FIND("보건연구부",$F6)),"보건연구부",IF(COUNT(FIND("대기연구부",$F6)),"대기연구부",IF(COUNT(FIND("수질연구부",$F6)),"수질연구부",IF(COUNT(FIND("북부지원",$F6)),"북부지원",IF(COUNT(FIND("수원농산물검사소",$F6)),"수원농산물검사소",IF(COUNT(FIND("건설본부(관리과)",$F6)),"관리과",IF(COUNT(FIND("도로건설과",$F6)),"도로건설과",IF(COUNT(FIND("북부도로과",$F6)),"북부도로과",IF(COUNT(FIND("건축시설과",$F6)),"건축시설과",IF(COUNT(FIND("신청사건립추진단",$F6)),"신청사건립추진단",$F6))))))))))))))))))))) -> 대외협력담당관 | B6: =G6 -> 의회운영위원회 | C6: =IF(COUNT(FIND("경기도건설본부",$E6)),"건설본부",IF(COUNT(FIND("경기도농업기술원",$E6)),"농업기술원",IF(COUNT(FIND("경기도보건환경연구원",$E6)),"보건환경연구원",IF(COUNT(FIND("소방재난본부",$E6)),"재난안전본부",IF(COUNT(FIND("경기도소방학교",$E6)),"재난안전본부",IF(COUNT(FIND("경기도인재개발원",$E6)),"인재개발원",IF(COUNT(FIND("북부소방재난본부",$E6)),"재난안전본부",IF(COUNT(FIND("소방서",$E6)),"재난안전본부",$E6)))))))) -> 대외협력담당관 | E6: 대외협력담당관 | F6: 대외협력담당관 | G6: 의회운영위원회 | H6: 5 | I6: 0301 | K6: 분권 | L6: 특교
A7: =IF(COUNT(AND(FIND("북부소방재난본부",$E7),FIND("특수대응단",$F7))),"특수대응단(북부)",IF(COUNT(FIND("작물연구과",$F7)),"작물연구과",IF(COUNT(FIND("원예연구과",$F7)),"원예연구과",IF(COUNT(FIND("환경농업연구과",$F7)),"환경농업연구과",IF(COUNT(FIND("지원기획과",$F7)),"지원기획과",IF(COUNT(FIND("기술보급과",$F7)),"기술보급과",IF(COUNT(FIND("농촌자원과",$F7)),"농촌자원과",IF(COUNT(FIND("종자관리소",$F7)),"종자관리소",IF(COUNT(FIND("버섯연구소",$F7)),"버섯연구소",IF(COUNT(FIND("소득자원연구소",$F7)),"소득자원연구소",IF(COUNT(FIND("선인장다육식물연구소",$F7)),"선인장다육식물연구소",IF(COUNT(FIND("보건연구부",$F7)),"보건연구부",IF(COUNT(FIND("대기연구부",$F7)),"대기연구부",IF(COUNT(FIND("수질연구부",$F7)),"수질연구부",IF(COUNT(FIND("북부지원",$F7)),"북부지원",IF(COUNT(FIND("수원농산물검사소",$F7)),"수원농산물검사소",IF(COUNT(FIND("건설본부(관리과)",$F7)),"관리과",IF(COUNT(FIND("도로건설과",$F7)),"도로건설과",IF(COUNT(FIND("북부도로과",$F7)),"북부도로과",IF(COUNT(FIND("건축시설과",$F7)),"건축시설과",IF(COUNT(FIND("신청사건립추진단",$F7)),"신청사건립추진단",$F7))))))))))))))))))))) -> 서울사무소 | B7: =G7 -> 의회운영위원회 | C7: =IF(COUNT(FIND("경기도건설본부",$E7)),"건설본부",IF(COUNT(FIND("경기도농업기술원",$E7)),"농업기술원",IF(COUNT(FIND("경기도보건환경연구원",$E7)),"보건환경연구원",IF(COUNT(FIND("소방재난본부",$E7)),"재난안전본부",IF(COUNT(FIND("경기도소방학교",$E7)),"재난안전본부",IF(COUNT(FIND("경기도인재개발원",$E7)),"인재개발원",IF(COUNT(FIND("북부소방재난본부",$E7)),"재난안전본부",IF(COUNT(FIND("소방서",$E7)),"재난안전본부",$E7)))))))) -> 대외협력담당관 | E7: 대외협력담당관 | F7: 서울사무소 | G7: 의회운영위원회 | H7: 6 | I7: 0302 | K7: 특교
A8: =IF(COUNT(AND(FIND("북부소방재난본부",$E8),FIND("특수대응단",$F8))),"특수대응단(북부)",IF(COUNT(FIND("작물연구과",$F8)),"작물연구과",IF(COUNT(FIND("원예연구과",$F8)),"원예연구과",IF(COUNT(FIND("환경농업연구과",$F8)),"환경농업연구과",IF(COUNT(FIND("지원기획과",$F8)),"지원기획과",IF(COUNT(FIND("기술보급과",$F8)),"기술보급과",IF(COUNT(FIND("농촌자원과",$F8)),"농촌자원과",IF(COUNT(FIND("종자관리소",$F8)),"종자관리소",IF(COUNT(FIND("버섯연구소",$F8)),"버섯연구소",IF(COUNT(FIND("소득자원연구소",$F8)),"소득자원연구소",IF(COUNT(FIND("선인장다육식물연구소",$F8)),"선인장다육식물연구소",IF(COUNT(FIND("보건연구부",$F8)),"보건연구부",IF(COUNT(FIND("대기연구부",$F8)),"대기연구부",IF(COUNT(FIND("수질연구부",$F8)),"수질연구부",IF(COUNT(FIND("북부지원",$F8)),"북부지원",IF(COUNT(FIND("수원농산물검사소",$F8)),"수원농산물검사소",IF(COUNT(FIND("건설본부(관리과)",$F8)),"관리과",IF(COUNT(FIND("도로건설과",$F8)),"도로건설과",IF(COUNT(FIND("북부도로과",$F8)),"북부도로과",IF(COUNT(FIND("건축시설과",$F8)),"건축시설과",IF(COUNT(FIND("신청사건립추진단",$F8)),"신청사건립추진단",$F8))))))))))))))))))))) -> 감사총괄담당관 | B8: =G8 -> 기획재정위원회 | C8: =IF(COUNT(FIND("경기도건설본부",$E8)),"건설본부",IF(COUNT(FIND("경기도농업기술원",$E8)),"농업기술원",IF(COUNT(FIND("경기도보건환경연구원",$E8)),"보건환경연구원",IF(COUNT(FIND("소방재난본부",$E8)),"재난안전본부",IF(COUNT(FIND("경기도소방학교",$E8)),"재난안전본부",IF(COUNT(FIND("경기도인재개발원",$E8)),"인재개발원",IF(COUNT(FIND("북부소방재난본부",$E8)),"재난안전본부",IF(COUNT(FIND("소방서",$E8)),"재난안전본부",$E8)))))))) -> 감사관 | E8: 감사관 | F8: 감사총괄담당관 | G8: 기획재정위원회 | H8: 7 | I8: 0401
A9: =IF(COUNT(AND(FIND("북부소방재난본부",$E9),FIND("특수대응단",$F9))),"특수대응단(북부)",IF(COUNT(FIND("작물연구과",$F9)),"작물연구과",IF(COUNT(FIND("원예연구과",$F9)),"원예연구과",IF(COUNT(FIND("환경농업연구과",$F9)),"환경농업연구과",IF(COUNT(FIND("지원기획과",$F9)),"지원기획과",IF(COUNT(FIND("기술보급과",$F9)),"기술보급과",IF(COUNT(FIND("농촌자원과",$F9)),"농촌자원과",IF(COUNT(FIND("종자관리소",$F9)),"종자관리소",IF(COUNT(FIND("버섯연구소",$F9)),"버섯연구소",IF(COUNT(FIND("소득자원연구소",$F9)),"소득자원연구소",IF(COUNT(FIND("선인장다육식물연구소",$F9)),"선인장다육식물연구소",IF(COUNT(FIND("보건연구부",$F9)),"보건연구부",IF(COUNT(FIND("대기연구부",$F9)),"대기연구부",IF(COUNT(FIND("수질연구부",$F9)),"수질연구부",IF(COUNT(FIND("북부지원",$F9)),"북부지원",IF(COUNT(FIND("수원농산물검사소",$F9)),"수원농산물검사소",IF(COUNT(FIND("건설본부(관리과)",$F9)),"관리과",IF(COUNT(FIND("도로건설과",$F9)),"도로건설과",IF(COUNT(FIND("북부도로과",$F9)),"북부도로과",IF(COUNT(FIND("건축시설과",$F9)),"건축시설과",IF(COUNT(FIND("신청사건립추진단",$F9)),"신청사건립추진단",$F9))))))))))))))))))))) -> 조사담당관 | B9: =G9 -> 기획재정위원회 | C9: =IF(COUNT(FIND("경기도건설본부",$E9)),"건설본부",IF(COUNT(FIND("경기도농업기술원",$E9)),"농업기술원",IF(COUNT(FIND("경기도보건환경연구원",$E9)),"보건환경연구원",IF(COUNT(FIND("소방재난본부",$E9)),"재난안전본부",IF(COUNT(FIND("경기도소방학교",$E9)),"재난안전본부",IF(COUNT(FIND("경기도인재개발원",$E9)),"인재개발원",IF(COUNT(FIND("북부소방재난본부",$E9)),"재난안전본부",IF(COUNT(FIND("소방서",$E9)),"재난안전본부",$E9)))))))) -> 감사관 | E9: 감사관 | F9: 조사담당관 | G9: 기획재정위원회 | H9: 8 | I9: 0402
A10: =IF(COUNT(AND(FIND("북부소방재난본부",$E10),FIND("특수대응단",$F10))),"특수대응단(북부)",IF(COUNT(FIND("작물연구과",$F10)),"작물연구과",IF(COUNT(FIND("원예연구과",$F10)),"원예연구과",IF(COUNT(FIND("환경농업연구과",$F10)),"환경농업연구과",IF(COUNT(FIND("지원기획과",$F10)),"지원기획과",IF(COUNT(FIND("기술보급과",$F10)),"기술보급과",IF(COUNT(FIND("농촌자원과",$F10)),"농촌자원과",IF(COUNT(FIND("종자관리소",$F10)),"종자관리소",IF(COUNT(FIND("버섯연구소",$F10)),"버섯연구소",IF(COUNT(FIND("소득자원연구소",$F10)),"소득자원연구소",IF(COUNT(FIND("선인장다육식물연구소",$F10)),"선인장다육식물연구소",IF(COUNT(FIND("보건연구부",$F10)),"보건연구부",IF(COUNT(FIND("대기연구부",$F10)),"대기연구부",IF(COUNT(FIND("수질연구부",$F10)),"수질연구부",IF(COUNT(FIND("북부지원",$F10)),"북부지원",IF(COUNT(FIND("수원농산물검사소",$F10)),"수원농산물검사소",IF(COUNT(FIND("건설본부(관리과)",$F10)),"관리과",IF(COUNT(FIND("도로건설과",$F10)),"도로건설과",IF(COUNT(FIND("북부도로과",$F10)),"북부도로과",IF(COUNT(FIND("건축시설과",$F10)),"건축시설과",IF(COUNT(FIND("신청사건립추진단",$F10)),"신청사건립추진단",$F10))))))))))))))))))))) -> 감사담당관 | B10: =G10 -> 기획재정위원회 | C10: =IF(COUNT(FIND("경기도건설본부",$E10)),"건설본부",IF(COUNT(FIND("경기도농업기술원",$E10)),"농업기술원",IF(COUNT(FIND("경기도보건환경연구원",$E10)),"보건환경연구원",IF(COUNT(FIND("소방재난본부",$E10)),"재난안전본부",IF(COUNT(FIND("경기도소방학교",$E10)),"재난안전본부",IF(COUNT(FIND("경기도인재개발원",$E10)),"인재개발원",IF(COUNT(FIND("북부소방재난본부",$E10)),"재난안전본부",IF(COUNT(FIND("소방서",$E10)),"재난안전본부",$E10)))))))) -> 감사관 | E10: 감사관 | F10: 감사담당관 | G10: 기획재정위원회 | H10: 9 | I10: 0403
A11: =IF(COUNT(AND(FIND("북부소방재난본부",$E11),FIND("특수대응단",$F11))),"특수대응단(북부)",IF(COUNT(FIND("작물연구과",$F11)),"작물연구과",IF(COUNT(FIND("원예연구과",$F11)),"원예연구과",IF(COUNT(FIND("환경농업연구과",$F11)),"환경농업연구과",IF(COUNT(FIND("지원기획과",$F11)),"지원기획과",IF(COUNT(FIND("기술보급과",$F11)),"기술보급과",IF(COUNT(FIND("농촌자원과",$F11)),"농촌자원과",IF(COUNT(FIND("종자관리소",$F11)),"종자관리소",IF(COUNT(FIND("버섯연구소",$F11)),"버섯연구소",IF(COUNT(FIND("소득자원연구소",$F11)),"소득자원연구소",IF(COUNT(FIND("선인장다육식물연구소",$F11)),"선인장다육식물연구소",IF(COUNT(FIND("보건연구부",$F11)),"보건연구부",IF(COUNT(FIND("대기연구부",$F11)),"대기연구부",IF(COUNT(FIND("수질연구부",$F11)),"수질연구부",IF(COUNT(FIND("북부지원",$F11)),"북부지원",IF(COUNT(FIND("수원농산물검사소",$F11)),"수원농산물검사소",IF(COUNT(FIND("건설본부(관리과)",$F11)),"관리과",IF(COUNT(FIND("도로건설과",$F11)),"도로건설과",IF(COUNT(FIND("북부도로과",$F11)),"북부도로과",IF(COUNT(FIND("건축시설과",$F11)),"건축시설과",IF(COUNT(FIND("신청사건립추진단",$F11)),"신청사건립추진단",$F11))))))))))))))))))))) -> 계약심사담당관 | B11: =G11 -> 기획재정위원회 | C11: =IF(COUNT(FIND("경기도건설본부",$E11)),"건설본부",IF(COUNT(FIND("경기도농업기술원",$E11)),"농업기술원",IF(COUNT(FIND("경기도보건환경연구원",$E11)),"보건환경연구원",IF(COUNT(FIND("소방재난본부",$E11)),"재난안전본부",IF(COUNT(FIND("경기도소방학교",$E11)),"재난안전본부",IF(COUNT(FIND("경기도인재개발원",$E11)),"인재개발원",IF(COUNT(FIND("북부소방재난본부",$E11)),"재난안전본부",IF(COUNT(FIND("소방서",$E11)),"재난안전본부",$E11)))))))) -> 감사관 | E11: 감사관 | F11: 계약심사담당관 | G11: 기획재정위원회 | H11: 10 | I11: 0404
A12: =IF(COUNT(AND(FIND("북부소방재난본부",$E12),FIND("특수대응단",$F12))),"특수대응단(북부)",IF(COUNT(FIND("작물연구과",$F12)),"작물연구과",IF(COUNT(FIND("원예연구과",$F12)),"원예연구과",IF(COUNT(FIND("환경농업연구과",$F12)),"환경농업연구과",IF(COUNT(FIND("지원기획과",$F12)),"지원기획과",IF(COUNT(FIND("기술보급과",$F12)),"기술보급과",IF(COUNT(FIND("농촌자원과",$F12)),"농촌자원과",IF(COUNT(FIND("종자관리소",$F12)),"종자관리소",IF(COUNT(FIND("버섯연구소",$F12)),"버섯연구소",IF(COUNT(FIND("소득자원연구소",$F12)),"소득자원연구소",IF(COUNT(FIND("선인장다육식물연구소",$F12)),"선인장다육식물연구소",IF(COUNT(FIND("보건연구부",$F12)),"보건연구부",IF(COUNT(FIND("대기연구부",$F12)),"대기연구부",IF(COUNT(FIND("수질연구부",$F12)),"수질연구부",IF(COUNT(FIND("북부지원",$F12)),"북부지원",IF(COUNT(FIND("수원농산물검사소",$F12)),"수원농산물검사소",IF(COUNT(FIND("건설본부(관리과)",$F12)),"관리과",IF(COUNT(FIND("도로건설과",$F12)),"도로건설과",IF(COUNT(FIND("북부도로과",$F12)),"북부도로과",IF(COUNT(FIND("건축시설과",$F12)),"건축시설과",IF(COUNT(FIND("신청사건립추진단",$F12)),"신청사건립추진단",$F12))))))))))))))))))))) -> 기획담당관 | B12: =G12 -> 기획재정위원회 | C12: =IF(COUNT(FIND("경기도건설본부",$E12)),"건설본부",IF(COUNT(FIND("경기도농업기술원",$E12)),"농업기술원",IF(COUNT(FIND("경기도보건환경연구원",$E12)),"보건환경연구원",IF(COUNT(FIND("소방재난본부",$E12)),"재난안전본부",IF(COUNT(FIND("경기도소방학교",$E12)),"재난안전본부",IF(COUNT(FIND("경기도인재개발원",$E12)),"인재개발원",IF(COUNT(FIND("북부소방재난본부",$E12)),"재난안전본부",IF(COUNT(FIND("소방서",$E12)),"재난안전본부",$E12)))))))) -> 기획조정실 | E12: 기획조정실 | F12: 기획담당관 | G12: 기획재정위원회 | H12: 11 | I12: 0501
A13: =IF(COUNT(AND(FIND("북부소방재난본부",$E13),FIND("특수대응단",$F13))),"특수대응단(북부)",IF(COUNT(FIND("작물연구과",$F13)),"작물연구과",IF(COUNT(FIND("원예연구과",$F13)),"원예연구과",IF(COUNT(FIND("환경농업연구과",$F13)),"환경농업연구과",IF(COUNT(FIND("지원기획과",$F13)),"지원기획과",IF(COUNT(FIND("기술보급과",$F13)),"기술보급과",IF(COUNT(FIND("농촌자원과",$F13)),"농촌자원과",IF(COUNT(FIND("종자관리소",$F13)),"종자관리소",IF(COUNT(FIND("버섯연구소",$F13)),"버섯연구소",IF(COUNT(FIND("소득자원연구소",$F13)),"소득자원연구소",IF(COUNT(FIND("선인장다육식물연구소",$F13)),"선인장다육식물연구소",IF(COUNT(FIND("보건연구부",$F13)),"보건연구부",IF(COUNT(FIND("대기연구부",$F13)),"대기연구부",IF(COUNT(FIND("수질연구부",$F13)),"수질연구부",IF(COUNT(FIND("북부지원",$F13)),"북부지원",IF(COUNT(FIND("수원농산물검사소",$F13)),"수원농산물검사소",IF(COUNT(FIND("건설본부(관리과)",$F13)),"관리과",IF(COUNT(FIND("도로건설과",$F13)),"도로건설과",IF(COUNT(FIND("북부도로과",$F13)),"북부도로과",IF(COUNT(FIND("건축시설과",$F13)),"건축시설과",IF(COUNT(FIND("신청사건립추진단",$F13)),"신청사건립추진단",$F13))))))))))))))))))))) -> 미래전략담당관 | B13: =G13 -> 기획재정위원회 | C13: =IF(COUNT(FIND("경기도건설본부",$E13)),"건설본부",IF(COUNT(FIND("경기도농업기술원",$E13)),"농업기술원",IF(COUNT(FIND("경기도보건환경연구원",$E13)),"보건환경연구원",IF(COUNT(FIND("소방재난본부",$E13)),"재난안전본부",IF(COUNT(FIND("경기도소방학교",$E13)),"재난안전본부",IF(COUNT(FIND("경기도인재개발원",$E13)),"인재개발원",IF(COUNT(FIND("북부소방재난본부",$E13)),"재난안전본부",IF(COUNT(FIND("소방서",$E13)),"재난안전본부",$E13)))))))) -> 기획조정실 | E13: 기획조정실 | F13: 미래전략담당관 | G13: 기획재정위원회 | H13: 12 | I13: 0502
A14: =IF(COUNT(AND(FIND("북부소방재난본부",$E14),FIND("특수대응단",$F14))),"특수대응단(북부)",IF(COUNT(FIND("작물연구과",$F14)),"작물연구과",IF(COUNT(FIND("원예연구과",$F14)),"원예연구과",IF(COUNT(FIND("환경농업연구과",$F14)),"환경농업연구과",IF(COUNT(FIND("지원기획과",$F14)),"지원기획과",IF(COUNT(FIND("기술보급과",$F14)),"기술보급과",IF(COUNT(FIND("농촌자원과",$F14)),"농촌자원과",IF(COUNT(FIND("종자관리소",$F14)),"종자관리소",IF(COUNT(FIND("버섯연구소",$F14)),"버섯연구소",IF(COUNT(FIND("소득자원연구소",$F14)),"소득자원연구소",IF(COUNT(FIND("선인장다육식물연구소",$F14)),"선인장다육식물연구소",IF(COUNT(FIND("보건연구부",$F14)),"보건연구부",IF(COUNT(FIND("대기연구부",$F14)),"대기연구부",IF(COUNT(FIND("수질연구부",$F14)),"수질연구부",IF(COUNT(FIND("북부지원",$F14)),"북부지원",IF(COUNT(FIND("수원농산물검사소",$F14)),"수원농산물검사소",IF(COUNT(FIND("건설본부(관리과)",$F14)),"관리과",IF(COUNT(FIND("도로건설과",$F14)),"도로건설과",IF(COUNT(FIND("북부도로과",$F14)),"북부도로과",IF(COUNT(FIND("건축시설과",$F14)),"건축시설과",IF(COUNT(FIND("신청사건립추진단",$F14)),"신청사건립추진단",$F14))))))))))))))))))))) -> 예산담당관 | B14: =G14 -> 기획재정위원회 | C14: =IF(COUNT(FIND("경기도건설본부",$E14)),"건설본부",IF(COUNT(FIND("경기도농업기술원",$E14)),"농업기술원",IF(COUNT(FIND("경기도보건환경연구원",$E14)),"보건환경연구원",IF(COUNT(FIND("소방재난본부",$E14)),"재난안전본부",IF(COUNT(FIND("경기도소방학교",$E14)),"재난안전본부",IF(COUNT(FIND("경기도인재개발원",$E14)),"인재개발원",IF(COUNT(FIND("북부소방재난본부",$E14)),"재난안전본부",IF(COUNT(FIND("소방서",$E14)),"재난안전본부",$E14)))))))) -> 기획조정실 | E14: 기획조정실 | F14: 예산담당관 | G14: 기획재정위원회 | H14: 13 | I14: 0503
A15: =IF(COUNT(AND(FIND("북부소방재난본부",$E15),FIND("특수대응단",$F15))),"특수대응단(북부)",IF(COUNT(FIND("작물연구과",$F15)),"작물연구과",IF(COUNT(FIND("원예연구과",$F15)),"원예연구과",IF(COUNT(FIND("환경농업연구과",$F15)),"환경농업연구과",IF(COUNT(FIND("지원기획과",$F15)),"지원기획과",IF(COUNT(FIND("기술보급과",$F15)),"기술보급과",IF(COUNT(FIND("농촌자원과",$F15)),"농촌자원과",IF(COUNT(FIND("종자관리소",$F15)),"종자관리소",IF(COUNT(FIND("버섯연구소",$F15)),"버섯연구소",IF(COUNT(FIND("소득자원연구소",$F15)),"소득자원연구소",IF(COUNT(FIND("선인장다육식물연구소",$F15)),"선인장다육식물연구소",IF(COUNT(FIND("보건연구부",$F15)),"보건연구부",IF(COUNT(FIND("대기연구부",$F15)),"대기연구부",IF(COUNT(FIND("수질연구부",$F15)),"수질연구부",IF(COUNT(FIND("북부지원",$F15)),"북부지원",IF(COUNT(FIND("수원농산물검사소",$F15)),"수원농산물검사소",IF(COUNT(FIND("건설본부(관리과)",$F15)),"관리과",IF(COUNT(FIND("도로건설과",$F15)),"도로건설과",IF(COUNT(FIND("북부도로과",$F15)),"북부도로과",IF(COUNT(FIND("건축시설과",$F15)),"건축시설과",IF(COUNT(FIND("신청사건립추진단",$F15)),"신청사건립추진단",$F15))))))))))))))))))))) -> 평가담당관 | B15: =G15 -> 기획재정위원회 | C15: =IF(COUNT(FIND("경기도건설본부",$E15)),"건설본부",IF(COUNT(FIND("경기도농업기술원",$E15)),"농업기술원",IF(COUNT(FIND("경기도보건환경연구원",$E15)),"보건환경연구원",IF(COUNT(FIND("소방재난본부",$E15)),"재난안전본부",IF(COUNT(FIND("경기도소방학교",$E15)),"재난안전본부",IF(COUNT(FIND("경기도인재개발원",$E15)),"인재개발원",IF(COUNT(FIND("북부소방재난본부",$E15)),"재난안전본부",IF(COUNT(FIND("소방서",$E15)),"재난안전본부",$E15)))))))) -> 기획조정실 | E15: 기획조정실 | F15: 평가담당관 | G15: 기획재정위원회 | H15: 14 | I15: 0504
A16: =IF(COUNT(AND(FIND("북부소방재난본부",$E16),FIND("특수대응단",$F16))),"특수대응단(북부)",IF(COUNT(FIND("작물연구과",$F16)),"작물연구과",IF(COUNT(FIND("원예연구과",$F16)),"원예연구과",IF(COUNT(FIND("환경농업연구과",$F16)),"환경농업연구과",IF(COUNT(FIND("지원기획과",$F16)),"지원기획과",IF(COUNT(FIND("기술보급과",$F16)),"기술보급과",IF(COUNT(FIND("농촌자원과",$F16)),"농촌자원과",IF(COUNT(FIND("종자관리소",$F16)),"종자관리소",IF(COUNT(FIND("버섯연구소",$F16)),"버섯연구소",IF(COUNT(FIND("소득자원연구소",$F16)),"소득자원연구소",IF(COUNT(FIND("선인장다육식물연구소",$F16)),"선인장다육식물연구소",IF(COUNT(FIND("보건연구부",$F16)),"보건연구부",IF(COUNT(FIND("대기연구부",$F16)),"대기연구부",IF(COUNT(FIND("수질연구부",$F16)),"수질연구부",IF(COUNT(FIND("북부지원",$F16)),"북부지원",IF(COUNT(FIND("수원농산물검사소",$F16)),"수원농산물검사소",IF(COUNT(FIND("건설본부(관리과)",$F16)),"관리과",IF(COUNT(FIND("도로건설과",$F16)),"도로건설과",IF(COUNT(FIND("북부도로과",$F16)),"북부도로과",IF(COUNT(FIND("건축시설과",$F16)),"건축시설과",IF(COUNT(FIND("신청사건립추진단",$F16)),"신청사건립추진단",$F16))))))))))))))))))))) -> 법무담당관 | B16: =G16 -> 기획재정위원회 | C16: =IF(COUNT(FIND("경기도건설본부",$E16)),"건설본부",IF(COUNT(FIND("경기도농업기술원",$E16)),"농업기술원",IF(COUNT(FIND("경기도보건환경연구원",$E16)),"보건환경연구원",IF(COUNT(FIND("소방재난본부",$E16)),"재난안전본부",IF(COUNT(FIND("경기도소방학교",$E16)),"재난안전본부",IF(COUNT(FIND("경기도인재개발원",$E16)),"인재개발원",IF(COUNT(FIND("북부소방재난본부",$E16)),"재난안전본부",IF(COUNT(FIND("소방서",$E16)),"재난안전본부",$E16)))))))) -> 기획조정실 | E16: 기획조정실 | F16: 법무담당관 | G16: 기획재정위원회 | H16: 15 | I16: 0505
A17: =IF(COUNT(AND(FIND("북부소방재난본부",$E17),FIND("특수대응단",$F17))),"특수대응단(북부)",IF(COUNT(FIND("작물연구과",$F17)),"작물연구과",IF(COUNT(FIND("원예연구과",$F17)),"원예연구과",IF(COUNT(FIND("환경농업연구과",$F17)),"환경농업연구과",IF(COUNT(FIND("지원기획과",$F17)),"지원기획과",IF(COUNT(FIND("기술보급과",$F17)),"기술보급과",IF(COUNT(FIND("농촌자원과",$F17)),"농촌자원과",IF(COUNT(FIND("종자관리소",$F17)),"종자관리소",IF(COUNT(FIND("버섯연구소",$F17)),"버섯연구소",IF(COUNT(FIND("소득자원연구소",$F17)),"소득자원연구소",IF(COUNT(FIND("선인장다육식물연구소",$F17)),"선인장다육식물연구소",IF(COUNT(FIND("보건연구부",$F17)),"보건연구부",IF(COUNT(FIND("대기연구부",$F17)),"대기연구부",IF(COUNT(FIND("수질연구부",$F17)),"수질연구부",IF(COUNT(FIND("북부지원",$F17)),"북부지원",IF(COUNT(FIND("수원농산물검사소",$F17)),"수원농산물검사소",IF(COUNT(FIND("건설본부(관리과)",$F17)),"관리과",IF(COUNT(FIND("도로건설과",$F17)),"도로건설과",IF(COUNT(FIND("북부도로과",$F17)),"북부도로과",IF(COUNT(FIND("건축시설과",$F17)),"건축시설과",IF(COUNT(FIND("신청사건립추진단",$F17)),"신청사건립추진단",$F17))))))))))))))))))))) -> 규제개혁추진단 | B17: =G17 -> 기획재정위원회 | C17: =IF(COUNT(FIND("경기도건설본부",$E17)),"건설본부",IF(COUNT(FIND("경기도농업기술원",$E17)),"농업기술원",IF(COUNT(FIND("경기도보건환경연구원",$E17)),"보건환경연구원",IF(COUNT(FIND("소방재난본부",$E17)),"재난안전본부",IF(COUNT(FIND("경기도소방학교",$E17)),"재난안전본부",IF(COUNT(FIND("경기도인재개발원",$E17)),"인재개발원",IF(COUNT(FIND("북부소방재난본부",$E17)),"재난안전본부",IF(COUNT(FIND("소방서",$E17)),"재난안전본부",$E17)))))))) -> 기획조정실 | E17: 기획조정실 | F17: 규제개혁추진단 | G17: 기획재정위원회 | H17: 16 | I17: 0506
A18: =IF(COUNT(AND(FIND("북부소방재난본부",$E18),FIND("특수대응단",$F18))),"특수대응단(북부)",IF(COUNT(FIND("작물연구과",$F18)),"작물연구과",IF(COUNT(FIND("원예연구과",$F18)),"원예연구과",IF(COUNT(FIND("환경농업연구과",$F18)),"환경농업연구과",IF(COUNT(FIND("지원기획과",$F18)),"지원기획과",IF(COUNT(FIND("기술보급과",$F18)),"기술보급과",IF(COUNT(FIND("농촌자원과",$F18)),"농촌자원과",IF(COUNT(FIND("종자관리소",$F18)),"종자관리소",IF(COUNT(FIND("버섯연구소",$F18)),"버섯연구소",IF(COUNT(FIND("소득자원연구소",$F18)),"소득자원연구소",IF(COUNT(FIND("선인장다육식물연구소",$F18)),"선인장다육식물연구소",IF(COUNT(FIND("보건연구부",$F18)),"보건연구부",IF(COUNT(FIND("대기연구부",$F18)),"대기연구부",IF(COUNT(FIND("수질연구부",$F18)),"수질연구부",IF(COUNT(FIND("북부지원",$F18)),"북부지원",IF(COUNT(FIND("수원농산물검사소",$F18)),"수원농산물검사소",IF(COUNT(FIND("건설본부(관리과)",$F18)),"관리과",IF(COUNT(FIND("도로건설과",$F18)),"도로건설과",IF(COUNT(FIND("북부도로과",$F18)),"북부도로과",IF(COUNT(FIND("건축시설과",$F18)),"건축시설과",IF(COUNT(FIND("신청사건립추진단",$F18)),"신청사건립추진단",$F18))))))))))))))))))))) -> 따복공동체지원단 | B18: =G18 -> 기획재정위원회 | C18: =IF(COUNT(FIND("경기도건설본부",$E18)),"건설본부",IF(COUNT(FIND("경기도농업기술원",$E18)),"농업기술원",IF(COUNT(FIND("경기도보건환경연구원",$E18)),"보건환경연구원",IF(COUNT(FIND("소방재난본부",$E18)),"재난안전본부",IF(COUNT(FIND("경기도소방학교",$E18)),"재난안전본부",IF(COUNT(FIND("경기도인재개발원",$E18)),"인재개발원",IF(COUNT(FIND("북부소방재난본부",$E18)),"재난안전본부",IF(COUNT(FIND("소방서",$E18)),"재난안전본부",$E18)))))))) -> 기획조정실 | E18: 기획조정실 | F18: 따복공동체지원단 | G18: 기획재정위원회 | H18: 17 | I18: 0507
A19: =IF(COUNT(AND(FIND("북부소방재난본부",$E19),FIND("특수대응단",$F19))),"특수대응단(북부)",IF(COUNT(FIND("작물연구과",$F19)),"작물연구과",IF(COUNT(FIND("원예연구과",$F19)),"원예연구과",IF(COUNT(FIND("환경농업연구과",$F19)),"환경농업연구과",IF(COUNT(FIND("지원기획과",$F19)),"지원기획과",IF(COUNT(FIND("기술보급과",$F19)),"기술보급과",IF(COUNT(FIND("농촌자원과",$F19)),"농촌자원과",IF(COUNT(FIND("종자관리소",$F19)),"종자관리소",IF(COUNT(FIND("버섯연구소",$F19)),"버섯연구소",IF(COUNT(FIND("소득자원연구소",$F19)),"소득자원연구소",IF(COUNT(FIND("선인장다육식물연구소",$F19)),"선인장다육식물연구소",IF(COUNT(FIND("보건연구부",$F19)),"보건연구부",IF(COUNT(FIND("대기연구부",$F19)),"대기연구부",IF(COUNT(FIND("수질연구부",$F19)),"수질연구부",IF(COUNT(FIND("북부지원",$F19)),"북부지원",IF(COUNT(FIND("수원농산물검사소",$F19)),"수원농산물검사소",IF(COUNT(FIND("건설본부(관리과)",$F19)),"관리과",IF(COUNT(FIND("도로건설과",$F19)),"도로건설과",IF(COUNT(FIND("북부도로과",$F19)),"북부도로과",IF(COUNT(FIND("건축시설과",$F19)),"건축시설과",IF(COUNT(FIND("신청사건립추진단",$F19)),"신청사건립추진단",$F19))))))))))))))))))))) -> 정보기획담당관 | B19: =G19 -> 기획재정위원회 | C19: =IF(COUNT(FIND("경기도건설본부",$E19)),"건설본부",IF(COUNT(FIND("경기도농업기술원",$E19)),"농업기술원",IF(COUNT(FIND("경기도보건환경연구원",$E19)),"보건환경연구원",IF(COUNT(FIND("소방재난본부",$E19)),"재난안전본부",IF(COUNT(FIND("경기도소방학교",$E19)),"재난안전본부",IF(COUNT(FIND("경기도인재개발원",$E19)),"인재개발원",IF(COUNT(FIND("북부소방재난본부",$E19)),"재난안전본부",IF(COUNT(FIND("소방서",$E19)),"재난안전본부",$E19)))))))) -> 기획조정실 | E19: 기획조정실 | F19: 정보기획담당관 | G19: 기획재정위원회 | H19: 18 | I19: 0508
... A174: =IF(COUNT(AND(FIND("북부소방재난본부",$E174),FIND("특수대응단",$F174))),"특수대응단(북부)",IF(COUNT(FIND("작물연구과",$F174)),"작물연구과",IF(COUNT(FIND("원예연구과",$F174)),"원예연구과",IF(COUNT(FIND("환경농업연구과",$F174)),"환경농업연구과",IF(COUNT(FIND("지원기획과",$F174)),"지원기획과",IF(COUNT(FIND("기술보급과",$F174)),"기술보급과",IF(COUNT(FIND("농촌자원과",$F174)),"농촌자원과",IF(COUNT(FIND("종자관리소",$F174)),"종자관리소",IF(COUNT(FIND("버섯연구소",$F174)),"버섯연구소",IF(COUNT(FIND("소득자원연구소",$F174)),"소득자원연구소",IF(COUNT(FIND("선인장다육식물연구소",$F174)),"선인장다육식물연구소",IF(COUNT(FIND("보건연구부",$F174)),"보건연구부",IF(COUNT(FIND("대기연구부",$F174)),"대기연구부",IF(COUNT(FIND("수질연구부",$F174)),"수질연구부",IF(COUNT(FIND("북부지원",$F174)),"북부지원",IF(COUNT(FIND("수원농산물검사소",$F174)),"수원농산물검사소",IF(COUNT(FIND("건설본부(관리과)",$F174)),"관리과",IF(COUNT(FIND("도로건설과",$F174)),"도로건설과",IF(COUNT(FIND("북부도로과",$F174)),"북부도로과",IF(COUNT(FIND("건축시설과",$F174)),"건축시설과",IF(COUNT(FIND("신청사건립추진단",$F174)),"신청사건립추진단",$F174))))))))))))))))))))) -> 수질연구부 | B174: =G174 -> 도시환경위원회 | C174: =IF(COUNT(FIND("경기도건설본부",$E174)),"건설본부",IF(COUNT(FIND("경기도농업기술원",$E174)),"농업기술원",IF(COUNT(FIND("경기도보건환경연구원",$E174)),"보건환경연구원",IF(COUNT(FIND("소방재난본부",$E174)),"재난안전본부",IF(COUNT(FIND("경기도소방학교",$E174)),"재난안전본부",IF(COUNT(FIND("경기도인재개발원",$E174)),"인재개발원",IF(COUNT(FIND("북부소방재난본부",$E174)),"재난안전본부",IF(COUNT(FIND("소방서",$E174)),"재난안전본부",$E174)))))))) -> 보건환경연구원 | E174: 경기도보건환경연구원 | F174: 보건환경연구원(수질연구부) | G174: 도시환경위원회 | H174: 173 | I174: 2902
A175: =IF(COUNT(AND(FIND("북부소방재난본부",$E175),FIND("특수대응단",$F175))),"특수대응단(북부)",IF(COUNT(FIND("작물연구과",$F175)),"작물연구과",IF(COUNT(FIND("원예연구과",$F175)),"원예연구과",IF(COUNT(FIND("환경농업연구과",$F175)),"환경농업연구과",IF(COUNT(FIND("지원기획과",$F175)),"지원기획과",IF(COUNT(FIND("기술보급과",$F175)),"기술보급과",IF(COUNT(FIND("농촌자원과",$F175)),"농촌자원과",IF(COUNT(FIND("종자관리소",$F175)),"종자관리소",IF(COUNT(FIND("버섯연구소",$F175)),"버섯연구소",IF(COUNT(FIND("소득자원연구소",$F175)),"소득자원연구소",IF(COUNT(FIND("선인장다육식물연구소",$F175)),"선인장다육식물연구소",IF(COUNT(FIND("보건연구부",$F175)),"보건연구부",IF(COUNT(FIND("대기연구부",$F175)),"대기연구부",IF(COUNT(FIND("수질연구부",$F175)),"수질연구부",IF(COUNT(FIND("북부지원",$F175)),"북부지원",IF(COUNT(FIND("수원농산물검사소",$F175)),"수원농산물검사소",IF(COUNT(FIND("건설본부(관리과)",$F175)),"관리과",IF(COUNT(FIND("도로건설과",$F175)),"도로건설과",IF(COUNT(FIND("북부도로과",$F175)),"북부도로과",IF(COUNT(FIND("건축시설과",$F175)),"건축시설과",IF(COUNT(FIND("신청사건립추진단",$F175)),"신청사건립추진단",$F175))))))))))))))))))))) -> 북부지원 | B175: =G175 -> 도시환경위원회 | C175: =IF(COUNT(FIND("경기도건설본부",$E175)),"건설본부",IF(COUNT(FIND("경기도농업기술원",$E175)),"농업기술원",IF(COUNT(FIND("경기도보건환경연구원",$E175)),"보건환경연구원",IF(COUNT(FIND("소방재난본부",$E175)),"재난안전본부",IF(COUNT(FIND("경기도소방학교",$E175)),"재난안전본부",IF(COUNT(FIND("경기도인재개발원",$E175)),"인재개발원",IF(COUNT(FIND("북부소방재난본부",$E175)),"재난안전본부",IF(COUNT(FIND("소방서",$E175)),"재난안전본부",$E175)))))))) -> 보건환경연구원 | E175: 경기도보건환경연구원 | F175: 보건환경연구원북부지원 | G175: 도시환경위원회 | H175: 187 | I175: 2903
A176: =IF(COUNT(AND(FIND("북부소방재난본부",$E176),FIND("특수대응단",$F176))),"특수대응단(북부)",IF(COUNT(FIND("작물연구과",$F176)),"작물연구과",IF(COUNT(FIND("원예연구과",$F176)),"원예연구과",IF(COUNT(FIND("환경농업연구과",$F176)),"환경농업연구과",IF(COUNT(FIND("지원기획과",$F176)),"지원기획과",IF(COUNT(FIND("기술보급과",$F176)),"기술보급과",IF(COUNT(FIND("농촌자원과",$F176)),"농촌자원과",IF(COUNT(FIND("종자관리소",$F176)),"종자관리소",IF(COUNT(FIND("버섯연구소",$F176)),"버섯연구소",IF(COUNT(FIND("소득자원연구소",$F176)),"소득자원연구소",IF(COUNT(FIND("선인장다육식물연구소",$F176)),"선인장다육식물연구소",IF(COUNT(FIND("보건연구부",$F176)),"보건연구부",IF(COUNT(FIND("대기연구부",$F176)),"대기연구부",IF(COUNT(FIND("수질연구부",$F176)),"수질연구부",IF(COUNT(FIND("북부지원",$F176)),"북부지원",IF(COUNT(FIND("수원농산물검사소",$F176)),"수원농산물검사소",IF(COUNT(FIND("건설본부(관리과)",$F176)),"관리과",IF(COUNT(FIND("도로건설과",$F176)),"도로건설과",IF(COUNT(FIND("북부도로과",$F176)),"북부도로과",IF(COUNT(FIND("건축시설과",$F176)),"건축시설과",IF(COUNT(FIND("신청사건립추진단",$F176)),"신청사건립추진단",$F176))))))))))))))))))))) -> 수자원본부 | B176: =G176 -> 도시환경위원회 | C176: =IF(COUNT(FIND("경기도건설본부",$E176)),"건설본부",IF(COUNT(FIND("경기도농업기술원",$E176)),"농업기술원",IF(COUNT(FIND("경기도보건환경연구원",$E176)),"보건환경연구원",IF(COUNT(FIND("소방재난본부",$E176)),"재난안전본부",IF(COUNT(FIND("경기도소방학교",$E176)),"재난안전본부",IF(COUNT(FIND("경기도인재개발원",$E176)),"인재개발원",IF(COUNT(FIND("북부소방재난본부",$E176)),"재난안전본부",IF(COUNT(FIND("소방서",$E176)),"재난안전본부",$E176)))))))) -> 수자원본부 | E176: 수자원본부 | F176: 수자원본부 | G176: 도시환경위원회 | H176: 174 | I176: 3001
A177: =IF(COUNT(AND(FIND("북부소방재난본부",$E177),FIND("특수대응단",$F177))),"특수대응단(북부)",IF(COUNT(FIND("작물연구과",$F177)),"작물연구과",IF(COUNT(FIND("원예연구과",$F177)),"원예연구과",IF(COUNT(FIND("환경농업연구과",$F177)),"환경농업연구과",IF(COUNT(FIND("지원기획과",$F177)),"지원기획과",IF(COUNT(FIND("기술보급과",$F177)),"기술보급과",IF(COUNT(FIND("농촌자원과",$F177)),"농촌자원과",IF(COUNT(FIND("종자관리소",$F177)),"종자관리소",IF(COUNT(FIND("버섯연구소",$F177)),"버섯연구소",IF(COUNT(FIND("소득자원연구소",$F177)),"소득자원연구소",IF(COUNT(FIND("선인장다육식물연구소",$F177)),"선인장다육식물연구소",IF(COUNT(FIND("보건연구부",$F177)),"보건연구부",IF(COUNT(FIND("대기연구부",$F177)),"대기연구부",IF(COUNT(FIND("수질연구부",$F177)),"수질연구부",IF(COUNT(FIND("북부지원",$F177)),"북부지원",IF(COUNT(FIND("수원농산물검사소",$F177)),"수원농산물검사소",IF(COUNT(FIND("건설본부(관리과)",$F177)),"관리과",IF(COUNT(FIND("도로건설과",$F177)),"도로건설과",IF(COUNT(FIND("북부도로과",$F177)),"북부도로과",IF(COUNT(FIND("건축시설과",$F177)),"건축시설과",IF(COUNT(FIND("신청사건립추진단",$F177)),"신청사건립추진단",$F177))))))))))))))))))))) -> 교육정책과 | B177: =G177 -> 여성가족교육협력위원회 | C177: =IF(COUNT(FIND("경기도건설본부",$E177)),"건설본부",IF(COUNT(FIND("경기도농업기술원",$E177)),"농업기술원",IF(COUNT(FIND("경기도보건환경연구원",$E177)),"보건환경연구원",IF(COUNT(FIND("소방재난본부",$E177)),"재난안전본부",IF(COUNT(FIND("경기도소방학교",$E177)),"재난안전본부",IF(COUNT(FIND("경기도인재개발원",$E177)),"인재개발원",IF(COUNT(FIND("북부소방재난본부",$E177)),"재난안전본부",IF(COUNT(FIND("소방서",$E177)),"재난안전본부",$E177)))))))) -> 교육협력국 | E177: 교육협력국 | F177: 교육정책과 | G177: 여성가족교육협력위원회 | H177: 175 | I177: 3101
A178: =IF(COUNT(AND(FIND("북부소방재난본부",$E178),FIND("특수대응단",$F178))),"특수대응단(북부)",IF(COUNT(FIND("작물연구과",$F178)),"작물연구과",IF(COUNT(FIND("원예연구과",$F178)),"원예연구과",IF(COUNT(FIND("환경농업연구과",$F178)),"환경농업연구과",IF(COUNT(FIND("지원기획과",$F178)),"지원기획과",IF(COUNT(FIND("기술보급과",$F178)),"기술보급과",IF(COUNT(FIND("농촌자원과",$F178)),"농촌자원과",IF(COUNT(FIND("종자관리소",$F178)),"종자관리소",IF(COUNT(FIND("버섯연구소",$F178)),"버섯연구소",IF(COUNT(FIND("소득자원연구소",$F178)),"소득자원연구소",IF(COUNT(FIND("선인장다육식물연구소",$F178)),"선인장다육식물연구소",IF(COUNT(FIND("보건연구부",$F178)),"보건연구부",IF(COUNT(FIND("대기연구부",$F178)),"대기연구부",IF(COUNT(FIND("수질연구부",$F178)),"수질연구부",IF(COUNT(FIND("북부지원",$F178)),"북부지원",IF(COUNT(FIND("수원농산물검사소",$F178)),"수원농산물검사소",IF(COUNT(FIND("건설본부(관리과)",$F178)),"관리과",IF(COUNT(FIND("도로건설과",$F178)),"도로건설과",IF(COUNT(FIND("북부도로과",$F178)),"북부도로과",IF(COUNT(FIND("건축시설과",$F178)),"건축시설과",IF(COUNT(FIND("신청사건립추진단",$F178)),"신청사건립추진단",$F178))))))))))))))))))))) -> 교육협력과 | B178: =G178 -> 여성가족교육협력위원회 | C178: =IF(COUNT(FIND("경기도건설본부",$E178)),"건설본부",IF(COUNT(FIND("경기도농업기술원",$E178)),"농업기술원",IF(COUNT(FIND("경기도보건환경연구원",$E178)),"보건환경연구원",IF(COUNT(FIND("소방재난본부",$E178)),"재난안전본부",IF(COUNT(FIND("경기도소방학교",$E178)),"재난안전본부",IF(COUNT(FIND("경기도인재개발원",$E178)),"인재개발원",IF(COUNT(FIND("북부소방재난본부",$E178)),"재난안전본부",IF(COUNT(FIND("소방서",$E178)),"재난안전본부",$E178)))))))) -> 교육협력국 | E178: 교육협력국 | F178: 교육협력과 | G178: 여성가족교육협력위원회 | H178: 176 | I178: 3102
A179: =IF(COUNT(AND(FIND("북부소방재난본부",$E179),FIND("특수대응단",$F179))),"특수대응단(북부)",IF(COUNT(FIND("작물연구과",$F179)),"작물연구과",IF(COUNT(FIND("원예연구과",$F179)),"원예연구과",IF(COUNT(FIND("환경농업연구과",$F179)),"환경농업연구과",IF(COUNT(FIND("지원기획과",$F179)),"지원기획과",IF(COUNT(FIND("기술보급과",$F179)),"기술보급과",IF(COUNT(FIND("농촌자원과",$F179)),"농촌자원과",IF(COUNT(FIND("종자관리소",$F179)),"종자관리소",IF(COUNT(FIND("버섯연구소",$F179)),"버섯연구소",IF(COUNT(FIND("소득자원연구소",$F179)),"소득자원연구소",IF(COUNT(FIND("선인장다육식물연구소",$F179)),"선인장다육식물연구소",IF(COUNT(FIND("보건연구부",$F179)),"보건연구부",IF(COUNT(FIND("대기연구부",$F179)),"대기연구부",IF(COUNT(FIND("수질연구부",$F179)),"수질연구부",IF(COUNT(FIND("북부지원",$F179)),"북부지원",IF(COUNT(FIND("수원농산물검사소",$F179)),"수원농산물검사소",IF(COUNT(FIND("건설본부(관리과)",$F179)),"관리과",IF(COUNT(FIND("도로건설과",$F179)),"도로건설과",IF(COUNT(FIND("북부도로과",$F179)),"북부도로과",IF(COUNT(FIND("건축시설과",$F179)),"건축시설과",IF(COUNT(FIND("신청사건립추진단",$F179)),"신청사건립추진단",$F179))))))))))))))))))))) -> 도서관정책과 | B179: =G179 -> 여성가족교육협력위원회 | C179: =IF(COUNT(FIND("경기도건설본부",$E179)),"건설본부",IF(COUNT(FIND("경기도농업기술원",$E179)),"농업기술원",IF(COUNT(FIND("경기도보건환경연구원",$E179)),"보건환경연구원",IF(COUNT(FIND("소방재난본부",$E179)),"재난안전본부",IF(COUNT(FIND("경기도소방학교",$E179)),"재난안전본부",IF(COUNT(FIND("경기도인재개발원",$E179)),"인재개발원",IF(COUNT(FIND("북부소방재난본부",$E179)),"재난안전본부",IF(COUNT(FIND("소방서",$E179)),"재난안전본부",$E179)))))))) -> 교육협력국 | E179: 교육협력국 | F179: 도서관정책과 | G179: 여성가족교육협력위원회 | H179: 177 | I179: 3103
A180: =IF(COUNT(AND(FIND("북부소방재난본부",$E180),FIND("특수대응단",$F180))),"특수대응단(북부)",IF(COUNT(FIND("작물연구과",$F180)),"작물연구과",IF(COUNT(FIND("원예연구과",$F180)),"원예연구과",IF(COUNT(FIND("환경농업연구과",$F180)),"환경농업연구과",IF(COUNT(FIND("지원기획과",$F180)),"지원기획과",IF(COUNT(FIND("기술보급과",$F180)),"기술보급과",IF(COUNT(FIND("농촌자원과",$F180)),"농촌자원과",IF(COUNT(FIND("종자관리소",$F180)),"종자관리소",IF(COUNT(FIND("버섯연구소",$F180)),"버섯연구소",IF(COUNT(FIND("소득자원연구소",$F180)),"소득자원연구소",IF(COUNT(FIND("선인장다육식물연구소",$F180)),"선인장다육식물연구소",IF(COUNT(FIND("보건연구부",$F180)),"보건연구부",IF(COUNT(FIND("대기연구부",$F180)),"대기연구부",IF(COUNT(FIND("수질연구부",$F180)),"수질연구부",IF(COUNT(FIND("북부지원",$F180)),"북부지원",IF(COUNT(FIND("수원농산물검사소",$F180)),"수원농산물검사소",IF(COUNT(FIND("건설본부(관리과)",$F180)),"관리과",IF(COUNT(FIND("도로건설과",$F180)),"도로건설과",IF(COUNT(FIND("북부도로과",$F180)),"북부도로과",IF(COUNT(FIND("건축시설과",$F180)),"건축시설과",IF(COUNT(FIND("신청사건립추진단",$F180)),"신청사건립추진단",$F180))))))))))))))))))))) -> 여성가족과 | B180: =G180 -> 여성가족교육협력위원회 | C180: =IF(COUNT(FIND("경기도건설본부",$E180)),"건설본부",IF(COUNT(FIND("경기도농업기술원",$E180)),"농업기술원",IF(COUNT(FIND("경기도보건환경연구원",$E180)),"보건환경연구원",IF(COUNT(FIND("소방재난본부",$E180)),"재난안전본부",IF(COUNT(FIND("경기도소방학교",$E180)),"재난안전본부",IF(COUNT(FIND("경기도인재개발원",$E180)),"인재개발원",IF(COUNT(FIND("북부소방재난본부",$E180)),"재난안전본부",IF(COUNT(FIND("소방서",$E180)),"재난안전본부",$E180)))))))) -> 여성가족국 | E180: 여성가족국 | F180: 여성가족과 | G180: 여성가족교육협력위원회 | H180: 178 | I180: 3201
A181: =IF(COUNT(AND(FIND("북부소방재난본부",$E181),FIND("특수대응단",$F181))),"특수대응단(북부)",IF(COUNT(FIND("작물연구과",$F181)),"작물연구과",IF(COUNT(FIND("원예연구과",$F181)),"원예연구과",IF(COUNT(FIND("환경농업연구과",$F181)),"환경농업연구과",IF(COUNT(FIND("지원기획과",$F181)),"지원기획과",IF(COUNT(FIND("기술보급과",$F181)),"기술보급과",IF(COUNT(FIND("농촌자원과",$F181)),"농촌자원과",IF(COUNT(FIND("종자관리소",$F181)),"종자관리소",IF(COUNT(FIND("버섯연구소",$F181)),"버섯연구소",IF(COUNT(FIND("소득자원연구소",$F181)),"소득자원연구소",IF(COUNT(FIND("선인장다육식물연구소",$F181)),"선인장다육식물연구소",IF(COUNT(FIND("보건연구부",$F181)),"보건연구부",IF(COUNT(FIND("대기연구부",$F181)),"대기연구부",IF(COUNT(FIND("수질연구부",$F181)),"수질연구부",IF(COUNT(FIND("북부지원",$F181)),"북부지원",IF(COUNT(FIND("수원농산물검사소",$F181)),"수원농산물검사소",IF(COUNT(FIND("건설본부(관리과)",$F181)),"관리과",IF(COUNT(FIND("도로건설과",$F181)),"도로건설과",IF(COUNT(FIND("북부도로과",$F181)),"북부도로과",IF(COUNT(FIND("건축시설과",$F181)),"건축시설과",IF(COUNT(FIND("신청사건립추진단",$F181)),"신청사건립추진단",$F181))))))))))))))))))))) -> 보육정책과 | B181: =G181 -> 여성가족교육협력위원회 | C181: =IF(COUNT(FIND("경기도건설본부",$E181)),"건설본부",IF(COUNT(FIND("경기도농업기술원",$E181)),"농업기술원",IF(COUNT(FIND("경기도보건환경연구원",$E181)),"보건환경연구원",IF(COUNT(FIND("소방재난본부",$E181)),"재난안전본부",IF(COUNT(FIND("경기도소방학교",$E181)),"재난안전본부",IF(COUNT(FIND("경기도인재개발원",$E181)),"인재개발원",IF(COUNT(FIND("북부소방재난본부",$E181)),"재난안전본부",IF(COUNT(FIND("소방서",$E181)),"재난안전본부",$E181)))))))) -> 여성가족국 | E181: 여성가족국 | F181: 보육정책과 | G181: 여성가족교육협력위원회 | H181: 179 | I181: 3202
A182: =IF(COUNT(AND(FIND("북부소방재난본부",$E182),FIND("특수대응단",$F182))),"특수대응단(북부)",IF(COUNT(FIND("작물연구과",$F182)),"작물연구과",IF(COUNT(FIND("원예연구과",$F182)),"원예연구과",IF(COUNT(FIND("환경농업연구과",$F182)),"환경농업연구과",IF(COUNT(FIND("지원기획과",$F182)),"지원기획과",IF(COUNT(FIND("기술보급과",$F182)),"기술보급과",IF(COUNT(FIND("농촌자원과",$F182)),"농촌자원과",IF(COUNT(FIND("종자관리소",$F182)),"종자관리소",IF(COUNT(FIND("버섯연구소",$F182)),"버섯연구소",IF(COUNT(FIND("소득자원연구소",$F182)),"소득자원연구소",IF(COUNT(FIND("선인장다육식물연구소",$F182)),"선인장다육식물연구소",IF(COUNT(FIND("보건연구부",$F182)),"보건연구부",IF(COUNT(FIND("대기연구부",$F182)),"대기연구부",IF(COUNT(FIND("수질연구부",$F182)),"수질연구부",IF(COUNT(FIND("북부지원",$F182)),"북부지원",IF(COUNT(FIND("수원농산물검사소",$F182)),"수원농산물검사소",IF(COUNT(FIND("건설본부(관리과)",$F182)),"관리과",IF(COUNT(FIND("도로건설과",$F182)),"도로건설과",IF(COUNT(FIND("북부도로과",$F182)),"북부도로과",IF(COUNT(FIND("건축시설과",$F182)),"건축시설과",IF(COUNT(FIND("신청사건립추진단",$F182)),"신청사건립추진단",$F182))))))))))))))))))))) -> 아동청소년과 | B182: =G182 -> 여성가족교육협력위원회 | C182: =IF(COUNT(FIND("경기도건설본부",$E182)),"건설본부",IF(COUNT(FIND("경기도농업기술원",$E182)),"농업기술원",IF(COUNT(FIND("경기도보건환경연구원",$E182)),"보건환경연구원",IF(COUNT(FIND("소방재난본부",$E182)),"재난안전본부",IF(COUNT(FIND("경기도소방학교",$E182)),"재난안전본부",IF(COUNT(FIND("경기도인재개발원",$E182)),"인재개발원",IF(COUNT(FIND("북부소방재난본부",$E182)),"재난안전본부",IF(COUNT(FIND("소방서",$E182)),"재난안전본부",$E182)))))))) -> 여성가족국 | E182: 여성가족국 | F182: 아동청소년과 | G182: 여성가족교육협력위원회 | H182: 180 | I182: 3203
A183: =IF(COUNT(AND(FIND("북부소방재난본부",$E183),FIND("특수대응단",$F183))),"특수대응단(북부)",IF(COUNT(FIND("작물연구과",$F183)),"작물연구과",IF(COUNT(FIND("원예연구과",$F183)),"원예연구과",IF(COUNT(FIND("환경농업연구과",$F183)),"환경농업연구과",IF(COUNT(FIND("지원기획과",$F183)),"지원기획과",IF(COUNT(FIND("기술보급과",$F183)),"기술보급과",IF(COUNT(FIND("농촌자원과",$F183)),"농촌자원과",IF(COUNT(FIND("종자관리소",$F183)),"종자관리소",IF(COUNT(FIND("버섯연구소",$F183)),"버섯연구소",IF(COUNT(FIND("소득자원연구소",$F183)),"소득자원연구소",IF(COUNT(FIND("선인장다육식물연구소",$F183)),"선인장다육식물연구소",IF(COUNT(FIND("보건연구부",$F183)),"보건연구부",IF(COUNT(FIND("대기연구부",$F183)),"대기연구부",IF(COUNT(FIND("수질연구부",$F183)),"수질연구부",IF(COUNT(FIND("북부지원",$F183)),"북부지원",IF(COUNT(FIND("수원농산물검사소",$F183)),"수원농산물검사소",IF(COUNT(FIND("건설본부(관리과)",$F183)),"관리과",IF(COUNT(FIND("도로건설과",$F183)),"도로건설과",IF(COUNT(FIND("북부도로과",$F183)),"북부도로과",IF(COUNT(FIND("건축시설과",$F183)),"건축시설과",IF(COUNT(FIND("신청사건립추진단",$F183)),"신청사건립추진단",$F183))))))))))))))))))))) -> 다문화가족과 | B183: =G183 -> 여성가족교육협력위원회 | C183: =IF(COUNT(FIND("경기도건설본부",$E183)),"건설본부",IF(COUNT(FIND("경기도농업기술원",$E183)),"농업기술원",IF(COUNT(FIND("경기도보건환경연구원",$E183)),"보건환경연구원",IF(COUNT(FIND("소방재난본부",$E183)),"재난안전본부",IF(COUNT(FIND("경기도소방학교",$E183)),"재난안전본부",IF(COUNT(FIND("경기도인재개발원",$E183)),"인재개발원",IF(COUNT(FIND("북부소방재난본부",$E183)),"재난안전본부",IF(COUNT(FIND("소방서",$E183)),"재난안전본부",$E183)))))))) -> 여성가족국 | E183: 여성가족국 | F183: 다문화가족과 | G183: 여성가족교육협력위원회 | H183: 181 | I183: 3204
A184: =IF(COUNT(AND(FIND("북부소방재난본부",$E184),FIND("특수대응단",$F184))),"특수대응단(북부)",IF(COUNT(FIND("작물연구과",$F184)),"작물연구과",IF(COUNT(FIND("원예연구과",$F184)),"원예연구과",IF(COUNT(FIND("환경농업연구과",$F184)),"환경농업연구과",IF(COUNT(FIND("지원기획과",$F184)),"지원기획과",IF(COUNT(FIND("기술보급과",$F184)),"기술보급과",IF(COUNT(FIND("농촌자원과",$F184)),"농촌자원과",IF(COUNT(FIND("종자관리소",$F184)),"종자관리소",IF(COUNT(FIND("버섯연구소",$F184)),"버섯연구소",IF(COUNT(FIND("소득자원연구소",$F184)),"소득자원연구소",IF(COUNT(FIND("선인장다육식물연구소",$F184)),"선인장다육식물연구소",IF(COUNT(FIND("보건연구부",$F184)),"보건연구부",IF(COUNT(FIND("대기연구부",$F184)),"대기연구부",IF(COUNT(FIND("수질연구부",$F184)),"수질연구부",IF(COUNT(FIND("북부지원",$F184)),"북부지원",IF(COUNT(FIND("수원농산물검사소",$F184)),"수원농산물검사소",IF(COUNT(FIND("건설본부(관리과)",$F184)),"관리과",IF(COUNT(FIND("도로건설과",$F184)),"도로건설과",IF(COUNT(FIND("북부도로과",$F184)),"북부도로과",IF(COUNT(FIND("건축시설과",$F184)),"건축시설과",IF(COUNT(FIND("신청사건립추진단",$F184)),"신청사건립추진단",$F184))))))))))))))))))))) -> 여성비전센터 | B184: =G184 -> 여성가족교육협력위원회 | C184: =IF(COUNT(FIND("경기도건설본부",$E184)),"건설본부",IF(COUNT(FIND("경기도농업기술원",$E184)),"농업기술원",IF(COUNT(FIND("경기도보건환경연구원",$E184)),"보건환경연구원",IF(COUNT(FIND("소방재난본부",$E184)),"재난안전본부",IF(COUNT(FIND("경기도소방학교",$E184)),"재난안전본부",IF(COUNT(FIND("경기도인재개발원",$E184)),"인재개발원",IF(COUNT(FIND("북부소방재난본부",$E184)),"재난안전본부",IF(COUNT(FIND("소방서",$E184)),"재난안전본부",$E184)))))))) -> 여성가족국 | E184: 여성가족국 | F184: 여성비전센터 | G184: 여성가족교육협력위원회 | H184: 182 | I184: 3205
A185: =IF(COUNT(AND(FIND("북부소방재난본부",$E185),FIND("특수대응단",$F185))),"특수대응단(북부)",IF(COUNT(FIND("작물연구과",$F185)),"작물연구과",IF(COUNT(FIND("원예연구과",$F185)),"원예연구과",IF(COUNT(FIND("환경농업연구과",$F185)),"환경농업연구과",IF(COUNT(FIND("지원기획과",$F185)),"지원기획과",IF(COUNT(FIND("기술보급과",$F185)),"기술보급과",IF(COUNT(FIND("농촌자원과",$F185)),"농촌자원과",IF(COUNT(FIND("종자관리소",$F185)),"종자관리소",IF(COUNT(FIND("버섯연구소",$F185)),"버섯연구소",IF(COUNT(FIND("소득자원연구소",$F185)),"소득자원연구소",IF(COUNT(FIND("선인장다육식물연구소",$F185)),"선인장다육식물연구소",IF(COUNT(FIND("보건연구부",$F185)),"보건연구부",IF(COUNT(FIND("대기연구부",$F185)),"대기연구부",IF(COUNT(FIND("수질연구부",$F185)),"수질연구부",IF(COUNT(FIND("북부지원",$F185)),"북부지원",IF(COUNT(FIND("수원농산물검사소",$F185)),"수원농산물검사소",IF(COUNT(FIND("건설본부(관리과)",$F185)),"관리과",IF(COUNT(FIND("도로건설과",$F185)),"도로건설과",IF(COUNT(FIND("북부도로과",$F185)),"북부도로과",IF(COUNT(FIND("건축시설과",$F185)),"건축시설과",IF(COUNT(FIND("신청사건립추진단",$F185)),"신청사건립추진단",$F185))))))))))))))))))))) -> 여성능력개발센터 | B185: =G185 -> 여성가족교육협력위원회 | C185: =IF(COUNT(FIND("경기도건설본부",$E185)),"건설본부",IF(COUNT(FIND("경기도농업기술원",$E185)),"농업기술원",IF(COUNT(FIND("경기도보건환경연구원",$E185)),"보건환경연구원",IF(COUNT(FIND("소방재난본부",$E185)),"재난안전본부",IF(COUNT(FIND("경기도소방학교",$E185)),"재난안전본부",IF(COUNT(FIND("경기도인재개발원",$E185)),"인재개발원",IF(COUNT(FIND("북부소방재난본부",$E185)),"재난안전본부",IF(COUNT(FIND("소방서",$E185)),"재난안전본부",$E185)))))))) -> 여성가족국 | E185: 여성가족국 | F185: 여성능력개발센터 | G185: 여성가족교육협력위원회 | H185: 183 | I185: 3206
A186: =IF(COUNT(AND(FIND("북부소방재난본부",$E186),FIND("특수대응단",$F186))),"특수대응단(북부)",IF(COUNT(FIND("작물연구과",$F186)),"작물연구과",IF(COUNT(FIND("원예연구과",$F186)),"원예연구과",IF(COUNT(FIND("환경농업연구과",$F186)),"환경농업연구과",IF(COUNT(FIND("지원기획과",$F186)),"지원기획과",IF(COUNT(FIND("기술보급과",$F186)),"기술보급과",IF(COUNT(FIND("농촌자원과",$F186)),"농촌자원과",IF(COUNT(FIND("종자관리소",$F186)),"종자관리소",IF(COUNT(FIND("버섯연구소",$F186)),"버섯연구소",IF(COUNT(FIND("소득자원연구소",$F186)),"소득자원연구소",IF(COUNT(FIND("선인장다육식물연구소",$F186)),"선인장다육식물연구소",IF(COUNT(FIND("보건연구부",$F186)),"보건연구부",IF(COUNT(FIND("대기연구부",$F186)),"대기연구부",IF(COUNT(FIND("수질연구부",$F186)),"수질연구부",IF(COUNT(FIND("북부지원",$F186)),"북부지원",IF(COUNT(FIND("수원농산물검사소",$F186)),"수원농산물검사소",IF(COUNT(FIND("건설본부(관리과)",$F186)),"관리과",IF(COUNT(FIND("도로건설과",$F186)),"도로건설과",IF(COUNT(FIND("북부도로과",$F186)),"북부도로과",IF(COUNT(FIND("건축시설과",$F186)),"건축시설과",IF(COUNT(FIND("신청사건립추진단",$F186)),"신청사건립추진단",$F186))))))))))))))))))))) -> 가족여성담당관 | B186: =G186 -> 여성가족교육협력위원회 | C186: =IF(COUNT(FIND("경기도건설본부",$E186)),"건설본부",IF(COUNT(FIND("경기도농업기술원",$E186)),"농업기술원",IF(COUNT(FIND("경기도보건환경연구원",$E186)),"보건환경연구원",IF(COUNT(FIND("소방재난본부",$E186)),"재난안전본부",IF(COUNT(FIND("경기도소방학교",$E186)),"재난안전본부",IF(COUNT(FIND("경기도인재개발원",$E186)),"인재개발원",IF(COUNT(FIND("북부소방재난본부",$E186)),"재난안전본부",IF(COUNT(FIND("소방서",$E186)),"재난안전본부",$E186)))))))) -> 복지여성실 | E186: 복지여성실 | F186: 가족여성담당관 | G186: 여성가족교육협력위원회 | H186: 184 | I186: 3301
A187: =IF(COUNT(AND(FIND("북부소방재난본부",$E187),FIND("특수대응단",$F187))),"특수대응단(북부)",IF(COUNT(FIND("작물연구과",$F187)),"작물연구과",IF(COUNT(FIND("원예연구과",$F187)),"원예연구과",IF(COUNT(FIND("환경농업연구과",$F187)),"환경농업연구과",IF(COUNT(FIND("지원기획과",$F187)),"지원기획과",IF(COUNT(FIND("기술보급과",$F187)),"기술보급과",IF(COUNT(FIND("농촌자원과",$F187)),"농촌자원과",IF(COUNT(FIND("종자관리소",$F187)),"종자관리소",IF(COUNT(FIND("버섯연구소",$F187)),"버섯연구소",IF(COUNT(FIND("소득자원연구소",$F187)),"소득자원연구소",IF(COUNT(FIND("선인장다육식물연구소",$F187)),"선인장다육식물연구소",IF(COUNT(FIND("보건연구부",$F187)),"보건연구부",IF(COUNT(FIND("대기연구부",$F187)),"대기연구부",IF(COUNT(FIND("수질연구부",$F187)),"수질연구부",IF(COUNT(FIND("북부지원",$F187)),"북부지원",IF(COUNT(FIND("수원농산물검사소",$F187)),"수원농산물검사소",IF(COUNT(FIND("건설본부(관리과)",$F187)),"관리과",IF(COUNT(FIND("도로건설과",$F187)),"도로건설과",IF(COUNT(FIND("북부도로과",$F187)),"북부도로과",IF(COUNT(FIND("건축시설과",$F187)),"건축시설과",IF(COUNT(FIND("신청사건립추진단",$F187)),"신청사건립추진단",$F187))))))))))))))))))))) -> 보육청소년담당관 | B187: =G187 -> 여성가족교육협력위원회 | C187: =IF(COUNT(FIND("경기도건설본부",$E187)),"건설본부",IF(COUNT(FIND("경기도농업기술원",$E187)),"농업기술원",IF(COUNT(FIND("경기도보건환경연구원",$E187)),"보건환경연구원",IF(COUNT(FIND("소방재난본부",$E187)),"재난안전본부",IF(COUNT(FIND("경기도소방학교",$E187)),"재난안전본부",IF(COUNT(FIND("경기도인재개발원",$E187)),"인재개발원",IF(COUNT(FIND("북부소방재난본부",$E187)),"재난안전본부",IF(COUNT(FIND("소방서",$E187)),"재난안전본부",$E187)))))))) -> 복지여성실 | E187: 복지여성실 | F187: 보육청소년담당관 | G187: 여성가족교육협력위원회 | H187: 185 | I187: 3302
A188: =IF(COUNT(AND(FIND("북부소방재난본부",$E188),FIND("특수대응단",$F188))),"특수대응단(북부)",IF(COUNT(FIND("작물연구과",$F188)),"작물연구과",IF(COUNT(FIND("원예연구과",$F188)),"원예연구과",IF(COUNT(FIND("환경농업연구과",$F188)),"환경농업연구과",IF(COUNT(FIND("지원기획과",$F188)),"지원기획과",IF(COUNT(FIND("기술보급과",$F188)),"기술보급과",IF(COUNT(FIND("농촌자원과",$F188)),"농촌자원과",IF(COUNT(FIND("종자관리소",$F188)),"종자관리소",IF(COUNT(FIND("버섯연구소",$F188)),"버섯연구소",IF(COUNT(FIND("소득자원연구소",$F188)),"소득자원연구소",IF(COUNT(FIND("선인장다육식물연구소",$F188)),"선인장다육식물연구소",IF(COUNT(FIND("보건연구부",$F188)),"보건연구부",IF(COUNT(FIND("대기연구부",$F188)),"대기연구부",IF(COUNT(FIND("수질연구부",$F188)),"수질연구부",IF(COUNT(FIND("북부지원",$F188)),"북부지원",IF(COUNT(FIND("수원농산물검사소",$F188)),"수원농산물검사소",IF(COUNT(FIND("건설본부(관리과)",$F188)),"관리과",IF(COUNT(FIND("도로건설과",$F188)),"도로건설과",IF(COUNT(FIND("북부도로과",$F188)),"북부도로과",IF(COUNT(FIND("건축시설과",$F188)),"건축시설과",IF(COUNT(FIND("신청사건립추진단",$F188)),"신청사건립추진단",$F188))))))))))))))))))))) -> 북부여성비전센터 | B188: =G188 -> 여성가족교육협력위원회 | C188: =IF(COUNT(FIND("경기도건설본부",$E188)),"건설본부",IF(COUNT(FIND("경기도농업기술원",$E188)),"농업기술원",IF(COUNT(FIND("경기도보건환경연구원",$E188)),"보건환경연구원",IF(COUNT(FIND("소방재난본부",$E188)),"재난안전본부",IF(COUNT(FIND("경기도소방학교",$E188)),"재난안전본부",IF(COUNT(FIND("경기도인재개발원",$E188)),"인재개발원",IF(COUNT(FIND("북부소방재난본부",$E188)),"재난안전본부",IF(COUNT(FIND("소방서",$E188)),"재난안전본부",$E188)))))))) -> 복지여성실 | E188: 복지여성실 | F188: 북부여성비전센터 | G188: 여성가족교육협력위원회 | H188: 186 | I188: 3303

Sheet 15년검증
A1: 2015년 본예산 검증 | G1: 본예산 예비비 | I1: 124682800
K2: (단위 : 천원)
A3: 구 분 | B3: 상임위 | G3: 구 분 | H3: 예결위
B4: 세입 | C4: 검증 | D4: 세출 | E4: 검증 | H4: 세입 | I4: 검증 | J4: 세출 | K4: 검증
A5: 전체 총계 | B5: =SUM(B6,B9) -> 10681000 | C5: =IF(B5='15년일입'!U3,"OK","@@") -> @@ | D5: =SUM(D6,D9) -> 5102622 | E5: =IF(D5='15년일출'!V3,"OK","@@") -> @@ | G5: 전체 총계 | H5: =SUM(H6,H9) -> 0 | I5: =IF(H5='15년일입'!Z3,"OK","@@") -> OK | J5: =SUM(J6,J9) -> 0 | K5: =IF(J5='15년일출'!AA3,"OK","@@") -> OK
A6: 자체 총계 | B6: =SUM(B7:B8) -> -100000 | C6: =IF(B6='15년일입'!U6,"OK","@@") -> OK | D6: =SUM(D7:D8) -> 5485800 | E6: =IF($D$6='15년일출'!$V$6,"OK","@@") -> @@ | G6: 자체 총계 | H6: =SUM(H7:H8) -> 0 | I6: =IF(H6='15년일입'!Z6,"OK","@@") -> OK | J6: =SUM(J7:J8) -> 0 | K6: =IF($J6='15년일출'!$AA6,"OK","@@") -> OK
A7: 자체 도비 | B7: =SUMIFS('15년일입'!$U$7:$U$633,'15년일입'!$S$7:$S$633,"도비") -> -100000 | D7: =SUMIFS('15년일출'!$V$7:$V$688,'15년일출'!$T$7:$T$688,"도비") -> 4865800 | G7: 자체 - 의존도비 | H7: =SUMIFS('15년일입'!$Z$7:$Z$633,'15년일입'!$X$7:$X$633,"도비") -> 0 | J7: =SUMIFS('15년일출'!$AA$7:$AA$688,'15년일출'!$Y$7:$Y$688,"도비") -> 0
A8: 의존 매칭 도비 | B8: =SUMIFS('15년일입'!$U$7:$U$633,'15년일입'!$S$7:$S$633,"국비")+SUMIFS('15년일입'!$U$7:$U$633,'15년일입'!$S$7:$S$633,"광특")+SUMIFS('15년일입'!$U$7:$U$633,'15년일입'!$S$7:$S$633,"기금")+SUMIFS('15년일입'!$U$7:$U$633,'15년일입'!$S$7:$S$633,"분권")+SUMIFS('15년일입'!$U$7:$U$633,'15년일입'!$S$7:$S$633,"특교") -> 0 | D8: =SUMIFS('15년일출'!$V$7:$V$688,'15년일출'!$T$7:$T$688,"국비")+SUMIFS('15년일출'!$V$7:$V$688,'15년일출'!$T$7:$T$688,"광특")+SUMIFS('15년일출'!$V$7:$V$688,'15년일출'!$T$7:$T$688,"기금")+SUMIFS('15년일출'!$V$7:$V$688,'15년일출'!$T$7:$T$688,"분권")+SUMIFS('15년일출'!$V$7:$V$688,'15년일출'!$T$7:$T$688,"특교") -> 620000 | G8: 의존 매칭 도비 | H8: =SUMIFS('15년일입'!$Z$7:$Z$633,'15년일입'!$X$7:$X$633,"국비")+SUMIFS('15년일입'!$Z$7:$Z$633,'15년일입'!$X$7:$X$633,"광특")+SUMIFS('15년일입'!$Z$7:$Z$633,'15년일입'!$X$7:$X$633,"기금")+SUMIFS('15년일입'!$Z$7:$Z$633,'15년일입'!$X$7:$X$633,"분권")+SUMIFS('15년일입'!$Z$7:$Z$633,'15년일입'!$X$7:$X$633,"특교") -> 0 | J8: =SUMIFS('15년일출'!$AA$7:$AA$688,'15년일출'!$Y$7:$Y$688,"국비")+SUMIFS('15년일출'!$AA$7:$AA$688,'15년일출'!$Y$7:$Y$688,"광특")+SUMIFS('15년일출'!$AA$7:$AA$688,'15년일출'!$Y$7:$Y$688,"기금")+SUMIFS('15년일출'!$AA$7:$AA$688,'15년일출'!$Y$7:$Y$688,"분권")+SUMIFS('15년일출'!$AA$7:$AA$688,'15년일출'!$Y$7:$Y$688,"특교") -> 0
A9: 의존계 | B9: =SUM(B10:B14) -> 10781000 | C9: =IF(B9='15년일입'!T6,"OK","@@") -> @@ | D9: =SUM(D10:D14) -> -383178 | E9: =IF(B9=D9,"OK","@@") -> @@ | G9: 의존계 | H9: =SUM(H10:H14) -> 0 | I9: =IF(H9='15년일입'!Y6,"OK","@@") -> OK | J9: =SUM(J10:J14) -> 0 | K9: =IF(H9=J9,"OK","@@") -> OK
A10: 국비 | B10: =SUMIFS('15년일입'!$T$7:$T$633,'15년일입'!$S$7:$S$633,'15년검증'!$A10) -> 10781000 | D10: =SUMIFS('15년일출'!$U$7:$U$688,'15년일출'!$T$7:$T$688,'15년검증'!$A10) -> -107178 | E10: =IF(B10=D10,"OK","@@") -> @@ | G10: 국비 | H10: =SUMIFS('15년일입'!$Y$7:$Y$633,'15년일입'!$X$7:$X$633,'15년검증'!$A10) -> 0 | J10: =SUMIFS('15년일출'!$Z$7:$Z$688,'15년일출'!$Y$7:$Y$688,'15년검증'!$A10) -> 0 | K10: =IF(H10=J10,"OK","@@") -> OK
A11: 광특 | B11: =SUMIFS('15년일입'!$T$7:$T$633,'15년일입'!$S$7:$S$633,'15년검증'!$A11) -> 0 | D11: =SUMIFS('15년일출'!$U$7:$U$688,'15년일출'!$T$7:$T$688,'15년검증'!$A11) -> 0 | E11: =IF(B11=D11,"OK","@@") -> OK | G11: 광특 | H11: =SUMIFS('15년일입'!$Y$7:$Y$633,'15년일입'!$X$7:$X$633,'15년검증'!$A11) -> 0 | J11: =SUMIFS('15년일출'!$Z$7:$Z$688,'15년일출'!$Y$7:$Y$688,'15년검증'!$A11) -> 0 | K11: =IF(H11=J11,"OK","@@") -> OK
A12: 기금 | B12: =SUMIFS('15년일입'!$T$7:$T$633,'15년일입'!$S$7:$S$633,'15년검증'!$A12) -> 0 | D12: =SUMIFS('15년일출'!$U$7:$U$688,'15년일출'!$T$7:$T$688,'15년검증'!$A12) -> -276000 | E12: =IF(B12=D12,"OK","@@") -> @@ | G12: 기금 | H12: =SUMIFS('15년일입'!$Y$7:$Y$633,'15년일입'!$X$7:$X$633,'15년검증'!$A12) -> 0 | J12: =SUMIFS('15년일출'!$Z$7:$Z$688,'15년일출'!$Y$7:$Y$688,'15년검증'!$A12) -> 0 | K12: =IF(H12=J12,"OK","@@") -> OK
A13: 분권 | B13: =SUMIFS('15년일입'!$T$7:$T$633,'15년일입'!$S$7:$S$633,'15년검증'!$A13) -> 0 | D13: =SUMIFS('15년일출'!$U$7:$U$688,'15년일출'!$T$7:$T$688,'15년검증'!$A13) -> 0 | E13: =IF(B13=D13,"OK","@@") -> OK | G13: 분권 | H13: =SUMIFS('15년일입'!$Y$7:$Y$633,'15년일입'!$X$7:$X$633,'15년검증'!$A13) -> 0 | J13: =SUMIFS('15년일출'!$Z$7:$Z$688,'15년일출'!$Y$7:$Y$688,'15년검증'!$A13) -> 0 | K13: =IF(H13=J13,"OK","@@") -> OK
A14: 특교 | B14: =SUMIFS('15년일입'!$T$7:$T$633,'15년일입'!$S$7:$S$633,'15년검증'!$A14) -> 0 | D14: =SUMIFS('15년일출'!$U$7:$U$688,'15년일출'!$T$7:$T$688,'15년검증'!$A14) -> 0 | E14: =IF(B14=D14,"OK","@@") -> OK | G14: 특교 | H14: =SUMIFS('15년일입'!$Y$7:$Y$633,'15년일입'!$X$7:$X$633,'15년검증'!$A14) -> 0 | J14: =SUMIFS('15년일출'!$Z$7:$Z$688,'15년일출'!$Y$7:$Y$688,'15년검증'!$A14) -> 0 | K14: =IF(H14=J14,"OK","@@") -> OK
G16: 예비비 조정액 | H16: =INDEX('15년일출'!AA7:AA688,MATCH("*예비비*",'15년일출'!G7:G688,0)) -> #N/A
H18: =H5-J5 -> 0
G20: 예비비 조정잔액 | H20: =I1+H16 -> #N/A

Sheet 2추검증
A1: 2회추경 검증 | G1: 2회추경 예비비 | I1: 22466366
K2: (단위 : 천원)
A3: 구 분 | B3: 상임위 | G3: 구 분 | H3: 예결위
B4: 세입 | C4: 검증 | D4: 세출 | E4: 검증 | H4: 세입 | I4: 검증 | J4: 세출 | K4: 검증
A5: 전체 총계 | B5: =SUM(B6,B9) -> #REF! | C5: =IF(B5=#REF!,"OK","@@") -> #REF! | D5: =SUM(D6,D9) -> #REF! | E5: =IF(D5=#REF!,"OK","@@") -> #REF! | G5: 전체 총계 | H5: =SUM(H6,H9) -> #REF! | I5: =IF(H5=#REF!,"OK","@@") -> #REF! | J5: =SUM(J6,J9) -> #REF! | K5: =IF(J5=#REF!,"OK","@@") -> #REF!
A6: 자체 총계 | B6: =SUM(B7:B8) -> #REF! | C6: =IF(B6=#REF!,"OK","@@") -> #REF! | D6: =SUM(D7:D8) -> #REF! | E6: =IF($D$6=#REF!,"OK","@@") -> #REF! | G6: 자체 총계 | H6: =SUM(H7:H8) -> #REF! | I6: =IF(H6=#REF!,"OK","@@") -> #REF! | J6: =SUM(J7:J8) -> #REF! | K6: =IF($J6=#REF!,"OK","@@") -> #REF!
A7: 자체 도비 | B7: =SUMIFS(#REF!,#REF!,"도비") -> #REF! | D7: =SUMIFS(#REF!,#REF!,"도비") -> #REF! | G7: 자체 - 의존도비 | H7: =SUMIFS(#REF!,#REF!,"도비") -> #REF! | J7: =SUMIFS(#REF!,#REF!,"도비") -> #REF!
A8: 의존 매칭 도비 | B8: =SUMIFS(#REF!,#REF!,"국비")+SUMIFS(#REF!,#REF!,"광특")+SUMIFS(#REF!,#REF!,"기금")+SUMIFS(#REF!,#REF!,"분권")+SUMIFS(#REF!,#REF!,"특교") -> #REF! | D8: =SUMIFS(#REF!,#REF!,"국비")+SUMIFS(#REF!,#REF!,"광특")+SUMIFS(#REF!,#REF!,"기금")+SUMIFS(#REF!,#REF!,"분권")+SUMIFS(#REF!,#REF!,"특교") -> #REF! | G8: 의존 매칭 도비 | H8: =SUMIFS(#REF!,#REF!,"국비")+SUMIFS(#REF!,#REF!,"광특")+SUMIFS(#REF!,#REF!,"기금")+SUMIFS(#REF!,#REF!,"분권")+SUMIFS(#REF!,#REF!,"특교") -> #REF! | J8: =SUMIFS(#REF!,#REF!,"국비")+SUMIFS(#REF!,#REF!,"광특")+SUMIFS(#REF!,#REF!,"기금")+SUMIFS(#REF!,#REF!,"분권")+SUMIFS(#REF!,#REF!,"특교") -> #REF!
A9: 의존계 | B9: =SUM(B10:B14) -> #REF! | C9: =IF(B9=#REF!,"OK","@@") -> #REF! | D9: =SUM(D10:D14) -> #REF! | E9: =IF(B9=D9,"OK","@@") -> #REF! | G9: 의존계 | H9: =SUM(H10:H14) -> #REF! | I9: =IF(H9=#REF!,"OK","@@") -> #REF! | J9: =SUM(J10:J14) -> #REF! | K9: =IF(H9=J9,"OK","@@") -> #REF!
A10: 국비 | B10: =SUMIFS(#REF!,#REF!,'2추검증'!$A10) -> #REF! | D10: =SUMIFS(#REF!,#REF!,'2추검증'!$A10) -> #REF! | E10: =IF(B10=D10,"OK","@@") -> #REF! | G10: 국비 | H10: =SUMIFS(#REF!,#REF!,'2추검증'!$A10) -> #REF! | J10: =SUMIFS(#REF!,#REF!,'2추검증'!$A10) -> #REF! | K10: =IF(H10=J10,"OK","@@") -> #REF!
A11: 광특 | B11: =SUMIFS(#REF!,#REF!,'2추검증'!$A11) -> #REF! | D11: =SUMIFS(#REF!,#REF!,'2추검증'!$A11) -> #REF! | E11: =IF(B11=D11,"OK","@@") -> #REF! | G11: 광특 | H11: =SUMIFS(#REF!,#REF!,'2추검증'!$A11) -> #REF! | J11: =SUMIFS(#REF!,#REF!,'2추검증'!$A11) -> #REF! | K11: =IF(H11=J11,"OK","@@") -> #REF!
A12: 기금 | B12: =SUMIFS(#REF!,#REF!,'2추검증'!$A12) -> #REF! | D12: =SUMIFS(#REF!,#REF!,'2추검증'!$A12) -> #REF! | E12: =IF(B12=D12,"OK","@@") -> #REF! | G12: 기금 | H12: =SUMIFS(#REF!,#REF!,'2추검증'!$A12) -> #REF! | J12: =SUMIFS(#REF!,#REF!,'2추검증'!$A12) -> #REF! | K12: =IF(H12=J12,"OK","@@") -> #REF!
A13: 분권 | B13: =SUMIFS(#REF!,#REF!,'2추검증'!$A13) -> #REF! | D13: =SUMIFS(#REF!,#REF!,'2추검증'!$A13) -> #REF! | E13: =IF(B13=D13,"OK","@@") -> #REF! | G13: 분권 | H13: =SUMIFS(#REF!,#REF!,'2추검증'!$A13) -> #REF! | J13: =SUMIFS(#REF!,#REF!,'2추검증'!$A13) -> #REF! | K13: =IF(H13=J13,"OK","@@") -> #REF!
A14: 특교 | B14: =SUMIFS(#REF!,#REF!,'2추검증'!$A14) -> #REF! | D14: =SUMIFS(#REF!,#REF!,'2추검증'!$A14) -> #REF! | E14: =IF(B14=D14,"OK","@@") -> #REF! | G14: 특교 | H14: =SUMIFS(#REF!,#REF!,'2추검증'!$A14) -> #REF! | J14: =SUMIFS(#REF!,#REF!,'2추검증'!$A14) -> #REF! | K14: =IF(H14=J14,"OK","@@") -> #REF!
G16: 예비비 조정액 | H16: =INDEX(#REF!,MATCH("*예비비*",#REF!,0)) -> #REF!
H18: =H5-J5 -> #REF!
G20: 예비비 조정잔액 | H20: =I1-H16 -> #REF!

Sheet 상임 표지
D2: 2014년도 제2회 일반회계 및 특별회계 추가경정 세입·세출 예산안
D4: 상 임 위 계 수 조 정 결 과
D16: 예산결산특별위원회

Sheet 표지
D2: 2014년도 제2회 일반회계 및 특별회계 추가경정 세입·세출 예산안
A4: 예결위 계수조정 결과
D16: 예산결산특별위원회

Sheet 예결 표지
B5: 2014년도 제2회 일반회계 및 특별회계 추가경정 세입·세출 예산안
B7: 예결위 계수조정 결과
B33: 예산결산특별위원회

Sheet 예결 표지(가로)
B3: 2014년도 제2회 일반회계 및 특별회계 추가경정 세입·세출 예산안
B5: 예결위 계수조정 결과
B24: 예산결산특별위원회

Sheet 15년총괄표
B1: 2015년도 경기도 일반 및 특별회계 세입·세출 예산안[전체예산총괄]
B3: □ 총 괄 | D3: 세입예산증감 | E3: =SUM(D7:E7) -> 0 | F3: 세출예산증감 | G3: =SUM(F7:G7) -> 0
H4: (단위:천원) | M4: (일반+특별+기금) | O4: 특별+기금
B5: 구 분 | C5: 집행부제출(안) | D5: 세입예산(안) | F5: 세출예산(안) | H5: 예산수정(안) | I5: 일반회계 증감(총괄표) | K5: 예비비증감 | L5: 비 고 | M5: 전체 증감(시트) | O5: 비고
D6: 감 액 | E6: 증 액 | F6: 감 액 | G6: 증 액 | I6: 세입 | J6: 세출 | M6: 세입 | N6: 세출
B7: 합 계 | C7: =SUM(C8:C18) -> 0 | D7: =SUM(D8:D18) -> 0 | E7: =SUM(E8:E18) -> 0 | F7: =SUM(F8:F18) -> 0 | G7: =SUM(G8:G18) -> 0 | H7: =SUM(H8:H18) -> 0 | I7: =E25+D25 -> 0 | J7: =F25+G25 -> 0 | K7: =I7-J7 -> 0 | L7: 예비비 증감이 - 예산이면 감액에 + 예산이면 증액에 입력 | M7: =D24+E24 -> 0 | N7: =F24+G24 -> 0 | O7: 0 | P7: 0
B8: 기 타 | C8: 0 | H8: =C8-F8+G8 -> 0 | I8: =D7+E7 -> 0 | J8: =F7+G7 -> 0 | K8: =I8-J8 -> 0
B9: 의회운영위원회 | D9: =SUMIFS('15년일입'!$K$7:$K$633,'15년일입'!$A$7:$A$633,'15년총괄표'!$B9) -> 0 | E9: =SUMIFS('15년일입'!$L$7:$L$633,'15년일입'!$A$7:$A$633,'15년총괄표'!$B9) -> 0 | F9: =SUMIFS('15년일출'!$L$7:$L$688,'15년일출'!$B$7:$B$688,'15년총괄표'!$B9) -> 0 | G9: =SUMIFS('15년일출'!$M$7:$M$688,'15년일출'!$B$7:$B$688,'15년총괄표'!$B9) -> 0 | H9: =C9+F9+G9 -> 0 | I9: 일반회계 증감(시트) | N9: 전체 증감
B10: 기획재정위원회 | D10: =SUMIFS('15년일입'!$K$7:$K$633,'15년일입'!$A$7:$A$633,'15년총괄표'!$B10) -> 0 | E10: =SUMIFS('15년일입'!$L$7:$L$633,'15년일입'!$A$7:$A$633,'15년총괄표'!$B10) -> 0 | F10: =SUMIFS('15년일출'!$L$7:$L$688,'15년일출'!$B$7:$B$688,'15년총괄표'!$B10) -> 0 | G10: =SUMIFS('15년일출'!$M$7:$M$688,'15년일출'!$B$7:$B$688,'15년총괄표'!$B10) -> 0 | H10: =C10+F10+G10 -> 0 | I10: =#REF!+#REF! -> #REF! | J10: =#REF!+#REF! -> #REF! | N10: =M7-N7 -> 0
B11: 경제과학기술위원회 | D11: =SUMIFS('15년일입'!$K$7:$K$633,'15년일입'!$A$7:$A$633,'15년총괄표'!$B11) -> 0 | E11: =SUMIFS('15년일입'!$L$7:$L$633,'15년일입'!$A$7:$A$633,'15년총괄표'!$B11) -> 0 | F11: =SUMIFS('15년일출'!$L$7:$L$688,'15년일출'!$B$7:$B$688,'15년총괄표'!$B11) -> 0 | G11: =SUMIFS('15년일출'!$M$7:$M$688,'15년일출'!$B$7:$B$688,'15년총괄표'!$B11) -> 0 | H11: =C11+F11+G11 -> 0
B12: 안전행정위원회 | D12: =SUMIFS('15년일입'!$K$7:$K$633,'15년일입'!$A$7:$A$633,'15년총괄표'!$B12) -> 0 | E12: =SUMIFS('15년일입'!$L$7:$L$633,'15년일입'!$A$7:$A$633,'15년총괄표'!$B12) -> 0 | F12: =SUMIFS('15년일출'!$L$7:$L$688,'15년일출'!$B$7:$B$688,'15년총괄표'!$B12) -> 0 | G12: =SUMIFS('15년일출'!$M$7:$M$688,'15년일출'!$B$7:$B$688,'15년총괄표'!$B12) -> 0 | H12: =C12+F12+G12 -> 0
B13: 문화체육관광위원회 | D13: =SUMIFS('15년일입'!$K$7:$K$633,'15년일입'!$A$7:$A$633,'15년총괄표'!$B13) -> 0 | E13: =SUMIFS('15년일입'!$L$7:$L$633,'15년일입'!$A$7:$A$633,'15년총괄표'!$B13) -> 0 | F13: =SUMIFS('15년일출'!$L$7:$L$688,'15년일출'!$B$7:$B$688,'15년총괄표'!$B13) -> 0 | G13: =SUMIFS('15년일출'!$M$7:$M$688,'15년일출'!$B$7:$B$688,'15년총괄표'!$B13) -> 0 | H13: =C13+F13+G13 -> 0 | N13: 기금
B14: 농정해양위원회 | D14: =SUMIFS('15년일입'!$K$7:$K$633,'15년일입'!$A$7:$A$633,'15년총괄표'!$B14) -> 0 | E14: =SUMIFS('15년일입'!$L$7:$L$633,'15년일입'!$A$7:$A$633,'15년총괄표'!$B14) -> 0 | F14: =SUMIFS('15년일출'!$L$7:$L$688,'15년일출'!$B$7:$B$688,'15년총괄표'!$B14) -> 0 | G14: =SUMIFS('15년일출'!$M$7:$M$688,'15년일출'!$B$7:$B$688,'15년총괄표'!$B14) -> 0 | H14: =C14+F14+G14 -> 0 | N14: =N10-K7 -> 0
B15: 보건복지위원회 | D15: =SUMIFS('15년일입'!$K$7:$K$633,'15년일입'!$A$7:$A$633,'15년총괄표'!$B15) -> 0 | E15: =SUMIFS('15년일입'!$L$7:$L$633,'15년일입'!$A$7:$A$633,'15년총괄표'!$B15) -> 0 | F15: =SUMIFS('15년일출'!$L$7:$L$688,'15년일출'!$B$7:$B$688,'15년총괄표'!$B15) -> 0 | G15: =SUMIFS('15년일출'!$M$7:$M$688,'15년일출'!$B$7:$B$688,'15년총괄표'!$B15) -> 0 | H15: =C15+F15+G15 -> 0
B16: 건설교통위원회 | D16: =SUMIFS('15년일입'!$K$7:$K$633,'15년일입'!$A$7:$A$633,'15년총괄표'!$B16) -> 0 | E16: =SUMIFS('15년일입'!$L$7:$L$633,'15년일입'!$A$7:$A$633,'15년총괄표'!$B16) -> 0 | F16: =SUMIFS('15년일출'!$L$7:$L$688,'15년일출'!$B$7:$B$688,'15년총괄표'!$B16) -> 0 | G16: =SUMIFS('15년일출'!$M$7:$M$688,'15년일출'!$B$7:$B$688,'15년총괄표'!$B16) -> 0 | H16: =C16+F16+G16 -> 0
B17: 도시환경위원회 | D17: =SUMIFS('15년일입'!$K$7:$K$633,'15년일입'!$A$7:$A$633,'15년총괄표'!$B17) -> 0 | E17: =SUMIFS('15년일입'!$L$7:$L$633,'15년일입'!$A$7:$A$633,'15년총괄표'!$B17) -> 0 | F17: =SUMIFS('15년일출'!$L$7:$L$688,'15년일출'!$B$7:$B$688,'15년총괄표'!$B17) -> 0 | G17: =SUMIFS('15년일출'!$M$7:$M$688,'15년일출'!$B$7:$B$688,'15년총괄표'!$B17) -> 0 | H17: =C17+F17+G17 -> 0
B18: 여성가족교육협력위원회 | D18: =SUMIFS('15년일입'!$K$7:$K$633,'15년일입'!$A$7:$A$633,'15년총괄표'!$B18) -> 0 | E18: =SUMIFS('15년일입'!$L$7:$L$633,'15년일입'!$A$7:$A$633,'15년총괄표'!$B18) -> 0 | F18: =SUMIFS('15년일출'!$L$7:$L$688,'15년일출'!$B$7:$B$688,'15년총괄표'!$B18) -> 0 | G18: =SUMIFS('15년일출'!$M$7:$M$688,'15년일출'!$B$7:$B$688,'15년총괄표'!$B18) -> 0 | H18: =C18+F18+G18 -> 0
B20: □ 회계별 예산총규모
H21: (단위:천원)
B22: 구 분 | C22: 세출예산액 (집행부제출 안) | D22: 세입예산(안) | F22: 세출예산(안) | H22: 예산수정(안)
D23: 감 액 | E23: 증 액 | F23: 감 액 | G23: 증 액 | I23: 세입기준 수정예산안
B24: 합 계 | C24: =SUM(C25:C26) -> 0 | D24: =SUM(D25:D26) -> 0 | E24: =SUM(E25:E26) -> 0 | F24: =SUM(F25:F26) -> 0 | G24: =SUM(G25:G26) -> 0 | H24: =SUM(H25:H26) -> 0 | I24: =C24+D24+E24 -> 0 | J24: =I24-H24 -> 0 | K24: (세출기준-세입기준)
B25: 일반회계 | D25: ='15년일입'!$K$6 -> 0 | E25: ='15년일입'!$L$6 -> 0 | F25: ='15년일출'!$L$6 -> 0 | G25: ='15년일출'!$M$6 -> 0 | H25: =C25+F25+G25 -> 0 | I25: =C25+D25+E25 -> 0 | J25: =I25-H25 -> 0 | K25: (세출기준-세입기준)
B26: 특별회계 | H26: =C26+F26+G26 -> 0 | I26: =C26+D26+E26 -> 0 | J26: =I26-H26 -> 0 | K26: (세출기준-세입기준)
B30: 위원회명 | C30: 일반+기특 | D30: 공기업 | E30: 합계
B31: 의회운영위원회 | C31: 39922113 | E31: =SUM(C31:D31) -> 39922113
B32: 기획재정위원회 | C32: 3302571667 | D32: 1780946434 | E32: =SUM(C32:D32) -> 5083518101
B33: 경제과학기술위원회 | C33: 155329320 | D33: 384743740 | E33: =SUM(C33:D33) -> 540073060
B34: 안전행정위원회 | C34: 1142858974 | E34: =SUM(C34:D34) -> 1142858974
B35: 문화체육관광위원회 | C35: 224243208 | D35: 52484400 | E35: =SUM(C35:D35) -> 276727608
B36: 농정해양위원회 | C36: 466978999 | E36: =SUM(C36:D36) -> 466978999
B37: 보건복지위원회 | C37: 3254006708 | E37: =SUM(C37:D37) -> 3254006708
B38: 건설교통위원회 | C38: 1220859831 | E38: =SUM(C38:D38) -> 1220859831
B39: 도시환경위원회 | C39: 866963933 | D39: 28360000 | E39: =SUM(C39:D39) -> 895323933
B40: 여성가족평생교육위원회 | C40: 4882582917 | E40: =SUM(C40:D40) -> 4882582917
B41: 총합계 | C41: =SUM(C31:C40) -> 15556317670 | D41: =SUM(D31:D40) -> 2246534574 | E41: =SUM(C41:D41) -> 17802852244
B43: 예비비 | C43: =3922478-221377 -> 3701101
I160: ◦ 본청 83,000 증 ◦ 북부청 377,000 증
K290: -50000

Sheet 15년총괄표(실국별)
B1: 2015년도 경기도 일반 및 특별회계 세입·세출 예산안[전체예산총괄]
B3: □ 총괄(실국별) | E3: =SUM(D7:E7) -> 0 | G3: =SUM(F7:G7) -> 0
H4: (단위:천원) | M4: (일반+특별+기금) | O4: 특별+기금
B5: 구 분 | C5: 집행부제출(안) | D5: 세입예산(안) | F5: 세출예산(안) | H5: 예산수정(안) | I5: 일반회계 증감(총괄표) | K5: 예비비증감 | L5: 비 고 | M5: 전체 증감(시트) | O5: 비고
D6: 감 액 | E6: 증 액 | F6: 감 액 | G6: 증 액 | I6: 세입 | J6: 세출 | M6: 세입 | N6: 세출
B7: 합 계 | C7: =SUM(C8:C33) -> 0 | D7: =SUM(D8:D33) -> 0 | E7: =SUM(E8:E33) -> 0 | F7: =SUM(F8:F33) -> 0 | G7: =SUM(G8:G33) -> 0 | H7: =SUM(H8:H33) -> 0 | I7: =#REF!+#REF! -> #REF! | J7: =#REF!+#REF! -> #REF! | K7: =I7-J7 -> #REF! | L7: 예비비 증감이 - 예산이면 감액에 + 예산이면 증액에 입력 | M7: =#REF!+#REF! -> #REF! | N7: =#REF!+#REF! -> #REF! | O7: 0 | P7: 0
B8: 감사관 | D8: =SUMIFS('15년일입'!$K$7:$K$633,'15년일입'!$B$7:$B$633,'15년총괄표(실국별)'!$B8) -> 0 | E8: =SUMIFS('15년일입'!$L$7:$L$633,'15년일입'!$B$7:$B$633,'15년총괄표(실국별)'!$B8) -> 0 | F8: =SUMIFS('15년일출'!$L$7:$L$688,'15년일출'!$C$7:$C$688,'15년총괄표(실국별)'!$B8) -> 0 | G8: =SUMIFS('15년일출'!$M$7:$M$688,'15년일출'!$C$7:$C$688,'15년총괄표(실국별)'!$B8) -> 0 | H8: =C8+F8+G8 -> 0 | I8: 일반회계 증감(시트) | N8: 전체 증감
B9: 기획조정실 | D9: =SUMIFS('15년일입'!$K$7:$K$633,'15년일입'!$B$7:$B$633,'15년총괄표(실국별)'!$B9) -> 0 | E9: =SUMIFS('15년일입'!$L$7:$L$633,'15년일입'!$B$7:$B$633,'15년총괄표(실국별)'!$B9) -> 0 | F9: =SUMIFS('15년일출'!$L$7:$L$688,'15년일출'!$C$7:$C$688,'15년총괄표(실국별)'!$B9) -> 0 | G9: =SUMIFS('15년일출'!$M$7:$M$688,'15년일출'!$C$7:$C$688,'15년총괄표(실국별)'!$B9) -> 0 | H9: =C9+F9+G9 -> 0 | I9: =#REF!+#REF! -> #REF! | J9: =#REF!+#REF! -> #REF! | N9: =#REF!-#REF! -> #REF!
B10: 도시주택실 | D10: =SUMIFS('15년일입'!$K$7:$K$633,'15년일입'!$B$7:$B$633,'15년총괄표(실국별)'!$B10) -> 0 | E10: =SUMIFS('15년일입'!$L$7:$L$633,'15년일입'!$B$7:$B$633,'15년총괄표(실국별)'!$B10) -> 0 | F10: =SUMIFS('15년일출'!$L$7:$L$688,'15년일출'!$C$7:$C$688,'15년총괄표(실국별)'!$B10) -> 0 | G10: =SUMIFS('15년일출'!$M$7:$M$688,'15년일출'!$C$7:$C$688,'15년총괄표(실국별)'!$B10) -> 0 | H10: =C10+F10+G10 -> 0 | I10: =#REF!+#REF! -> #REF! | J10: =#REF!+#REF! -> #REF! | N10: =#REF!-#REF! -> #REF!
B11: 자치행정국 | D11: =SUMIFS('15년일입'!$K$7:$K$633,'15년일입'!$B$7:$B$633,'15년총괄표(실국별)'!$B11) -> 0 | E11: =SUMIFS('15년일입'!$L$7:$L$633,'15년일입'!$B$7:$B$633,'15년총괄표(실국별)'!$B11) -> 0 | F11: =SUMIFS('15년일출'!$L$7:$L$688,'15년일출'!$C$7:$C$688,'15년총괄표(실국별)'!$B11) -> 0 | G11: =SUMIFS('15년일출'!$M$7:$M$688,'15년일출'!$C$7:$C$688,'15년총괄표(실국별)'!$B11) -> 0 | H11: =C11+F11+G11 -> 0
B12: 교육협력국 | D12: =SUMIFS('15년일입'!$K$7:$K$633,'15년일입'!$B$7:$B$633,'15년총괄표(실국별)'!$B12) -> 0 | E12: =SUMIFS('15년일입'!$L$7:$L$633,'15년일입'!$B$7:$B$633,'15년총괄표(실국별)'!$B12) -> 0 | F12: =SUMIFS('15년일출'!$L$7:$L$688,'15년일출'!$C$7:$C$688,'15년총괄표(실국별)'!$B12) -> 0 | G12: =SUMIFS('15년일출'!$M$7:$M$688,'15년일출'!$C$7:$C$688,'15년총괄표(실국별)'!$B12) -> 0 | H12: =C12+F12+G12 -> 0
B13: 문화체육관광국 | D13: =SUMIFS('15년일입'!$K$7:$K$633,'15년일입'!$B$7:$B$633,'15년총괄표(실국별)'!$B13) -> 0 | E13: =SUMIFS('15년일입'!$L$7:$L$633,'15년일입'!$B$7:$B$633,'15년총괄표(실국별)'!$B13) -> 0 | F13: =SUMIFS('15년일출'!$L$7:$L$688,'15년일출'!$C$7:$C$688,'15년총괄표(실국별)'!$B13) -> 0 | G13: =SUMIFS('15년일출'!$M$7:$M$688,'15년일출'!$C$7:$C$688,'15년총괄표(실국별)'!$B13) -> 0 | H13: =C13+F13+G13 -> 0 | N13: 기금
B14: 농정해양국 | D14: =SUMIFS('15년일입'!$K$7:$K$633,'15년일입'!$B$7:$B$633,'15년총괄표(실국별)'!$B14) -> 0 | E14: =SUMIFS('15년일입'!$L$7:$L$633,'15년일입'!$B$7:$B$633,'15년총괄표(실국별)'!$B14) -> 0 | F14: =SUMIFS('15년일출'!$L$7:$L$688,'15년일출'!$C$7:$C$688,'15년총괄표(실국별)'!$B14) -> 0 | G14: =SUMIFS('15년일출'!$M$7:$M$688,'15년일출'!$C$7:$C$688,'15년총괄표(실국별)'!$B14) -> 0 | H14: =C14+F14+G14 -> 0 | N14: =N10-#REF! -> #REF!
B15: 철도국 | D15: =SUMIFS('15년일입'!$K$7:$K$633,'15년일입'!$B$7:$B$633,'15년총괄표(실국별)'!$B15) -> 0 | E15: =SUMIFS('15년일입'!$L$7:$L$633,'15년일입'!$B$7:$B$633,'15년총괄표(실국별)'!$B15) -> 0 | F15: =SUMIFS('15년일출'!$L$7:$L$688,'15년일출'!$C$7:$C$688,'15년총괄표(실국별)'!$B15) -> 0 | G15: =SUMIFS('15년일출'!$M$7:$M$688,'15년일출'!$C$7:$C$688,'15년총괄표(실국별)'!$B15) -> 0 | H15: =C15+F15+G15 -> 0
B16: 재난안전본부 | D16: =SUMIFS('15년일입'!$K$7:$K$633,'15년일입'!$B$7:$B$633,'15년총괄표(실국별)'!$B16) -> 0 | E16: =SUMIFS('15년일입'!$L$7:$L$633,'15년일입'!$B$7:$B$633,'15년총괄표(실국별)'!$B16) -> 0 | F16: =SUMIFS('15년일출'!$L$7:$L$688,'15년일출'!$C$7:$C$688,'15년총괄표(실국별)'!$B16) -> 0 | G16: =SUMIFS('15년일출'!$M$7:$M$688,'15년일출'!$C$7:$C$688,'15년총괄표(실국별)'!$B16) -> 0 | H16: =C16+F16+G16 -> 0
B17: 의회사무처 | D17: =SUMIFS('15년일입'!$K$7:$K$633,'15년일입'!$B$7:$B$633,'15년총괄표(실국별)'!$B17) -> 0 | E17: =SUMIFS('15년일입'!$L$7:$L$633,'15년일입'!$B$7:$B$633,'15년총괄표(실국별)'!$B17) -> 0 | F17: =SUMIFS('15년일출'!$L$7:$L$688,'15년일출'!$C$7:$C$688,'15년총괄표(실국별)'!$B17) -> 0 | G17: =SUMIFS('15년일출'!$M$7:$M$688,'15년일출'!$C$7:$C$688,'15년총괄표(실국별)'!$B17) -> 0 | H17: =C17+F17+G17 -> 0
B18: 대변인 | D18: =SUMIFS('15년일입'!$K$7:$K$633,'15년일입'!$B$7:$B$633,'15년총괄표(실국별)'!$B18) -> 0 | E18: =SUMIFS('15년일입'!$L$7:$L$633,'15년일입'!$B$7:$B$633,'15년총괄표(실국별)'!$B18) -> 0 | F18: =SUMIFS('15년일출'!$L$7:$L$688,'15년일출'!$C$7:$C$688,'15년총괄표(실국별)'!$B18) -> 0 | G18: =SUMIFS('15년일출'!$M$7:$M$688,'15년일출'!$C$7:$C$688,'15년총괄표(실국별)'!$B18) -> 0 | H18: =C18+F18+G18 -> 0 | I18: =#REF!+#REF! -> #REF! | J18: =#REF!+#REF! -> #REF! | N18: =#REF!-#REF! -> #REF!
B19: 대외협력담당관 | D19: =SUMIFS('15년일입'!$K$7:$K$633,'15년일입'!$B$7:$B$633,'15년총괄표(실국별)'!$B19) -> 0 | E19: =SUMIFS('15년일입'!$L$7:$L$633,'15년일입'!$B$7:$B$633,'15년총괄표(실국별)'!$B19) -> 0 | F19: =SUMIFS('15년일출'!$L$7:$L$688,'15년일출'!$C$7:$C$688,'15년총괄표(실국별)'!$B19) -> 0 | G19: =SUMIFS('15년일출'!$M$7:$M$688,'15년일출'!$C$7:$C$688,'15년총괄표(실국별)'!$B19) -> 0 | H19: =C19+F19+G19 -> 0
B20: 보건복지국 | D20: =SUMIFS('15년일입'!$K$7:$K$633,'15년일입'!$B$7:$B$633,'15년총괄표(실국별)'!$B20) -> 0 | E20: =SUMIFS('15년일입'!$L$7:$L$633,'15년일입'!$B$7:$B$633,'15년총괄표(실국별)'!$B20) -> 0 | F20: =SUMIFS('15년일출'!$L$7:$L$688,'15년일출'!$C$7:$C$688,'15년총괄표(실국별)'!$B20) -> 0 | G20: =SUMIFS('15년일출'!$M$7:$M$688,'15년일출'!$C$7:$C$688,'15년총괄표(실국별)'!$B20) -> 0 | H20: =C20+F20+G20 -> 0
B21: 환경국 | D21: =SUMIFS('15년일입'!$K$7:$K$633,'15년일입'!$B$7:$B$633,'15년총괄표(실국별)'!$B21) -> 0 | E21: =SUMIFS('15년일입'!$L$7:$L$633,'15년일입'!$B$7:$B$633,'15년총괄표(실국별)'!$B21) -> 0 | F21: =SUMIFS('15년일출'!$L$7:$L$688,'15년일출'!$C$7:$C$688,'15년총괄표(실국별)'!$B21) -> 0 | G21: =SUMIFS('15년일출'!$M$7:$M$688,'15년일출'!$C$7:$C$688,'15년총괄표(실국별)'!$B21) -> 0 | H21: =C21+F21+G21 -> 0 | N21: 기금
B22: 여성가족국 | D22: =SUMIFS('15년일입'!$K$7:$K$633,'15년일입'!$B$7:$B$633,'15년총괄표(실국별)'!$B22) -> 0 | E22: =SUMIFS('15년일입'!$L$7:$L$633,'15년일입'!$B$7:$B$633,'15년총괄표(실국별)'!$B22) -> 0 | F22: =SUMIFS('15년일출'!$L$7:$L$688,'15년일출'!$C$7:$C$688,'15년총괄표(실국별)'!$B22) -> 0 | G22: =SUMIFS('15년일출'!$M$7:$M$688,'15년일출'!$C$7:$C$688,'15년총괄표(실국별)'!$B22) -> 0 | H22: =C22+F22+G22 -> 0 | N22: =N18-#REF! -> #REF!
B23: 농업기술원 | D23: =SUMIFS('15년일입'!$K$7:$K$633,'15년일입'!$B$7:$B$633,'15년총괄표(실국별)'!$B23) -> 0 | E23: =SUMIFS('15년일입'!$L$7:$L$633,'15년일입'!$B$7:$B$633,'15년총괄표(실국별)'!$B23) -> 0 | F23: =SUMIFS('15년일출'!$L$7:$L$688,'15년일출'!$C$7:$C$688,'15년총괄표(실국별)'!$B23) -> 0 | G23: =SUMIFS('15년일출'!$M$7:$M$688,'15년일출'!$C$7:$C$688,'15년총괄표(실국별)'!$B23) -> 0 | H23: =C23+F23+G23 -> 0
B24: 인재개발원 | D24: =SUMIFS('15년일입'!$K$7:$K$633,'15년일입'!$B$7:$B$633,'15년총괄표(실국별)'!$B24) -> 0 | E24: =SUMIFS('15년일입'!$L$7:$L$633,'15년일입'!$B$7:$B$633,'15년총괄표(실국별)'!$B24) -> 0 | F24: =SUMIFS('15년일출'!$L$7:$L$688,'15년일출'!$C$7:$C$688,'15년총괄표(실국별)'!$B24) -> 0 | G24: =SUMIFS('15년일출'!$M$7:$M$688,'15년일출'!$C$7:$C$688,'15년총괄표(실국별)'!$B24) -> 0 | H24: =C24+F24+G24 -> 0
B25: 보건환경연구원 | D25: =SUMIFS('15년일입'!$K$7:$K$633,'15년일입'!$B$7:$B$633,'15년총괄표(실국별)'!$B25) -> 0 | E25: =SUMIFS('15년일입'!$L$7:$L$633,'15년일입'!$B$7:$B$633,'15년총괄표(실국별)'!$B25) -> 0 | F25: =SUMIFS('15년일출'!$L$7:$L$688,'15년일출'!$C$7:$C$688,'15년총괄표(실국별)'!$B25) -> 0 | G25: =SUMIFS('15년일출'!$M$7:$M$688,'15년일출'!$C$7:$C$688,'15년총괄표(실국별)'!$B25) -> 0 | H25: =C25+F25+G25 -> 0
B26: 수자원본부 | D26: =SUMIFS('15년일입'!$K$7:$K$633,'15년일입'!$B$7:$B$633,'15년총괄표(실국별)'!$B26) -> 0 | E26: =SUMIFS('15년일입'!$L$7:$L$633,'15년일입'!$B$7:$B$633,'15년총괄표(실국별)'!$B26) -> 0 | F26: =SUMIFS('15년일출'!$L$7:$L$688,'15년일출'!$C$7:$C$688,'15년총괄표(실국별)'!$B26) -> 0 | G26: =SUMIFS('15년일출'!$M$7:$M$688,'15년일출'!$C$7:$C$688,'15년총괄표(실국별)'!$B26) -> 0 | H26: =C26+F26+G26 -> 0 | I26: =#REF!+#REF! -> #REF! | J26: =#REF!+#REF! -> #REF! | N26: =M2-N2 -> 0
B27: 복지여성실 | D27: =SUMIFS('15년일입'!$K$7:$K$633,'15년일입'!$B$7:$B$633,'15년총괄표(실국별)'!$B27) -> 0 | E27: =SUMIFS('15년일입'!$L$7:$L$633,'15년일입'!$B$7:$B$633,'15년총괄표(실국별)'!$B27) -> 0 | F27: =SUMIFS('15년일출'!$L$7:$L$688,'15년일출'!$C$7:$C$688,'15년총괄표(실국별)'!$B27) -> 0 | G27: =SUMIFS('15년일출'!$M$7:$M$688,'15년일출'!$C$7:$C$688,'15년총괄표(실국별)'!$B27) -> 0 | H27: =C27+F27+G27 -> 0
B28: 균형발전기획실 | D28: =SUMIFS('15년일입'!$K$7:$K$633,'15년일입'!$B$7:$B$633,'15년총괄표(실국별)'!$B28) -> 0 | E28: =SUMIFS('15년일입'!$L$7:$L$633,'15년일입'!$B$7:$B$633,'15년총괄표(실국별)'!$B28) -> 0 | F28: =SUMIFS('15년일출'!$L$7:$L$688,'15년일출'!$C$7:$C$688,'15년총괄표(실국별)'!$B28) -> 0 | G28: =SUMIFS('15년일출'!$M$7:$M$688,'15년일출'!$C$7:$C$688,'15년총괄표(실국별)'!$B28) -> 0 | H28: =C28+F28+G28 -> 0
B29: 경제실 | D29: =SUMIFS('15년일입'!$K$7:$K$633,'15년일입'!$B$7:$B$633,'15년총괄표(실국별)'!$B29) -> 0 | E29: =SUMIFS('15년일입'!$L$7:$L$633,'15년일입'!$B$7:$B$633,'15년총괄표(실국별)'!$B29) -> 0 | F29: =SUMIFS('15년일출'!$L$7:$L$688,'15년일출'!$C$7:$C$688,'15년총괄표(실국별)'!$B29) -> 0 | G29: =SUMIFS('15년일출'!$M$7:$M$688,'15년일출'!$C$7:$C$688,'15년총괄표(실국별)'!$B29) -> 0 | H29: =C29+F29+G29 -> 0 | N29: 기금
B30: 축산산림국 | D30: =SUMIFS('15년일입'!$K$7:$K$633,'15년일입'!$B$7:$B$633,'15년총괄표(실국별)'!$B30) -> 0 | E30: =SUMIFS('15년일입'!$L$7:$L$633,'15년일입'!$B$7:$B$633,'15년총괄표(실국별)'!$B30) -> 0 | F30: =SUMIFS('15년일출'!$L$7:$L$688,'15년일출'!$C$7:$C$688,'15년총괄표(실국별)'!$B30) -> 0 | G30: =SUMIFS('15년일출'!$M$7:$M$688,'15년일출'!$C$7:$C$688,'15년총괄표(실국별)'!$B30) -> 0 | H30: =C30+F30+G30 -> 0 | N30: =N26-K2 -> 0
B31: 교통국 | D31: =SUMIFS('15년일입'!$K$7:$K$633,'15년일입'!$B$7:$B$633,'15년총괄표(실국별)'!$B31) -> 0 | E31: =SUMIFS('15년일입'!$L$7:$L$633,'15년일입'!$B$7:$B$633,'15년총괄표(실국별)'!$B31) -> 0 | F31: =SUMIFS('15년일출'!$L$7:$L$688,'15년일출'!$C$7:$C$688,'15년총괄표(실국별)'!$B31) -> 0 | G31: =SUMIFS('15년일출'!$M$7:$M$688,'15년일출'!$C$7:$C$688,'15년총괄표(실국별)'!$B31) -> 0 | H31: =C31+F31+G31 -> 0 | I31: =#REF!+#REF! -> #REF! | J31: =#REF!+#REF! -> #REF! | N31: =M7-N7 -> #REF!
B32: 건설국 | D32: =SUMIFS('15년일입'!$K$7:$K$633,'15년일입'!$B$7:$B$633,'15년총괄표(실국별)'!$B32) -> 0 | E32: =SUMIFS('15년일입'!$L$7:$L$633,'15년일입'!$B$7:$B$633,'15년총괄표(실국별)'!$B32) -> 0 | F32: =SUMIFS('15년일출'!$L$7:$L$688,'15년일출'!$C$7:$C$688,'15년총괄표(실국별)'!$B32) -> 0 | G32: =SUMIFS('15년일출'!$M$7:$M$688,'15년일출'!$C$7:$C$688,'15년총괄표(실국별)'!$B32) -> 0 | H32: =C32+F32+G32 -> 0
B33: 건설본부 | D33: =SUMIFS('15년일입'!$K$7:$K$633,'15년일입'!$B$7:$B$633,'15년총괄표(실국별)'!$B33) -> 0 | E33: =SUMIFS('15년일입'!$L$7:$L$633,'15년일입'!$B$7:$B$633,'15년총괄표(실국별)'!$B33) -> 0 | F33: =SUMIFS('15년일출'!$L$7:$L$688,'15년일출'!$C$7:$C$688,'15년총괄표(실국별)'!$B33) -> 0 | G33: =SUMIFS('15년일출'!$M$7:$M$688,'15년일출'!$C$7:$C$688,'15년총괄표(실국별)'!$B33) -> 0 | H33: =C33+F33+G33 -> 0
B37: 위원회명 | C37: 일반+기특 | D37: 공기업 | E37: 합계
B38: 감사관 | C38: 914581 | E38: =SUM(C38:D38) -> 914581
B39: 기획조정실 | C39: 3119807801 | D39: 1780946434 | E39: =SUM(C39:D39) -> 4900754235
B40: 도시주택실 | C40: 190109521 | D40: 28360000 | E40: =SUM(C40:D40) -> 218469521
B41: 자치행정국 | C41: 544196314 | E41: =SUM(C41:D41) -> 544196314
B42: 문화체육관광국 | C42: 224243208 | D42: 52484400 | E42: =SUM(C42:D42) -> 276727608
B43: 농정해양국 | C43: 249710070 | E43: =SUM(C43:D43) -> 249710070
B44: 보건복지국 | C44: 2571625696 | E44: =SUM(C44:D44) -> 2571625696
B45: 환경국 | C45: 94671441 | E45: =SUM(C45:D45) -> 94671441
B46: 철도물류국 | C46: 107956457 | E46: =SUM(C46:D46) -> 107956457
B47: 여성가족국 | C47: 1879955306 | E47: =SUM(C47:D47) -> 1879955306
B48: 소방재난본부 | C48: 475412376 | E48: =SUM(C48:D48) -> 475412376
B49: 경제투자실 | C49: 148252370 | D49: 384743740 | E49: =SUM(C49:D49) -> 532996110
B50: 대변인 | C50: 9607826 | E50: =SUM(C50:D50) -> 9607826
B51: 대외협력담당관 | C51: 384069 | E51: =SUM(C51:D51) -> 384069
B52: 복지여성실 | C52: 1353512493 | E52: =SUM(C52:D52) -> 1353512493
B53: 안전행정실 | C53: 69450506 | E53: =SUM(C53:D53) -> 69450506
B54: 균형발전국 | C54: 173302168 | E54: =SUM(C54:D54) -> 173302168
B55: 평생교육국 | C55: 2325292998 | E55: =SUM(C55:D55) -> 2325292998
B56: 축산산림국 | C56: 193048941 | E56: =SUM(C56:D56) -> 193048941
B57: 교통건설국 | C57: 866196185 | E57: =SUM(C57:D57) -> 866196185
B58: 북부소방재난본부 | C58: 1402108 | E58: =SUM(C58:D58) -> 1402108
B59: 의회사무처 | C59: 29930218 | E59: =SUM(C59:D59) -> 29930218
B60: 경기도농업기술원 | C60: 39275302 | E60: =SUM(C60:D60) -> 39275302
B61: 경기도인재개발원 | C61: 8910247 | E61: =SUM(C61:D61) -> 8910247
... B66: 소방서 | C66: 53973769 | E66: =SUM(C66:D66) -> 53973769
B67: 총합계 | C67: =SUM(C38:C66) -> 15556317670 | D67: =SUM(D38:D66) -> 2246534574 | E67: =SUM(C67:D67) -> 17802852244
I167: ◦ 본청 83,000 증 ◦ 북부청 377,000 증
K297: -50000

Sheet 15년위원회별
B1: 2015년도 경기도 일반회계 세입 세출 총괄표
H2: =IF(H6=T6,"OK","@@") -> @@ | M2: =IF(M6=Y6,"OK","@@") -> OK | T2: =IF(T6=H6,"OK","@@") -> @@ | Y2: =IF(Y6=M6,"OK","@@") -> OK
B3: 위원회 및 실국명 | D3: 세입 | P3: 세출
D4: 예산안 (가) | E4: 상임위 예산안 조정액(나) | G4: 상임위 수정 예산안 (다=가+나) | H4: 상임위 재원별 증감액 | J4: 예결위 예산안 조정액(라) | L4: 예결위 수정 예산안 (마=가+라) | M4: 예결위 재원별 증감액 | P4: 예산안 (가) | Q4: 상임위 예산안 조정액(나) | S4: 상임위 수정 예산안 (다=가+나) | T4: 상임위 재원별 증감액 | V4: 예결위 예산안 조정액(라) | X4: 예결위 수정 예산안 (마=가+라) | Y4: 예결위 재원별 증감액
E5: 감액 | F5: 증액 | H5: 국비 등 | I5: 도 비 | J5: 감액 | K5: 증액 | M5: 국비 등 | N5: 도 비 | Q5: 감액 | R5: 증액 | T5: 국비 등 | U5: 도 비 | V5: 감액 | W5: 증액 | Y5: 국비 등 | Z5: 도 비
B6: 합 계 | D6: =SUM(D7:D46)/2 -> 9216000 | E6: =SUM(E7:E46)/2 -> -376000 | F6: =SUM(F7:F46)/2 -> 10781000 | G6: =SUM(G7:G46)/2 -> 19621000 | H6: =SUM(H7:H46)/2 -> 10505000 | I6: =SUM(I7:I46)/2 -> -100000 | J6: =SUM(J7:J46)/2 -> 0 | K6: =SUM(K7:K46)/2 -> 0 | ... N6: =SUM(N7:N46)/2 -> 0 | P6: =SUM(P7:P46)/2 -> 105524807 | Q6: =SUM(Q7:Q46)/2 -> -3909178 | R6: =SUM(R7:R46)/2 -> 29439040 | S6: =SUM(S7:S46)/2 -> 131054669 | T6: =SUM(T7:T46)/2 -> 10407822 | U6: =SUM(U7:U46)/2 -> 15109085 | V6: =SUM(V7:V46)/2 -> 0 | W6: =SUM(W7:W46)/2 -> 0 | ... Z6: =SUM(Z7:Z46)/2 -> 0
B7: 의회운영위원회 | D7: =SUM(D8:D10) -> 0 | E7: =SUM(E8:E10) -> 0 | F7: =SUM(F8:F10) -> 0 | G7: =SUM(G8:G10) -> 0 | H7: =SUM(H8:H10) -> 0 | I7: =SUM(I8:I10) -> 0 | J7: =SUM(J8:J10) -> 0 | K7: =SUM(K8:K10) -> 0 | ... N7: =SUM(N8:N10) -> 0 | P7: =SUM(P8:P10) -> 0 | Q7: =SUM(Q8:Q10) -> 0 | R7: =SUM(R8:R10) -> 0 | S7: =SUM(S8:S10) -> 0 | T7: =SUM(T8:T10) -> 0 | U7: =SUM(U8:U10) -> 0 | V7: =SUM(V8:V10) -> 0 | W7: =SUM(W8:W10) -> 0 | ... Z7: =SUM(Z8:Z10) -> 0
A8: 의회운영위원회 | C8: 의회사무처 | D8: =SUMIFS('15년일입'!$G$7:$G$633,'15년일입'!$A$7:$A$633,'15년위원회별'!$A8,'15년일입'!$B$7:$B$633,'15년위원회별'!$C8) -> 0 | E8: =SUMIFS('15년일입'!$H$7:$H$633,'15년일입'!$A$7:$A$633,'15년위원회별'!$A8,'15년일입'!$B$7:$B$633,'15년위원회별'!$C8) -> 0 | F8: =SUMIFS('15년일입'!$I$7:$I$633,'15년일입'!$A$7:$A$633,'15년위원회별'!$A8,'15년일입'!$B$7:$B$633,'15년위원회별'!$C8) -> 0 | G8: =SUMIFS('15년일입'!$J$7:$J$633,'15년일입'!$A$7:$A$633,'15년위원회별'!$A8,'15년일입'!$B$7:$B$633,'15년위원회별'!$C8) -> 0 | H8: =SUMIFS('15년일입'!$T$7:$T$633,'15년일입'!$A$7:$A$633,'15년위원회별'!$A8,'15년일입'!$B$7:$B$633,'15년위원회별'!$C8) -> 0 | I8: =SUMIFS('15년일입'!$U$7:$U$633,'15년일입'!$A$7:$A$633,'15년위원회별'!$A8,'15년일입'!$B$7:$B$633,'15년위원회별'!$C8) -> 0 | J8: =SUMIFS('15년일입'!$K$7:$K$633,'15년일입'!$A$7:$A$633,'15년위원회별'!$A8,'15년일입'!$B$7:$B$633,'15년위원회별'!$C8) -> 0 | K8: =SUMIFS('15년일입'!$L$7:$L$633,'15년일입'!$A$7:$A$633,'15년위원회별'!$A8,'15년일입'!$B$7:$B$633,'15년위원회별'!$C8) -> 0 | L8: =SUMIFS('15년일입'!$M$7:$M$633,'15년일입'!$A$7:$A$633,'15년위원회별'!$A8,'15년일입'!$B$7:$B$633,'15년위원회별'!$C8) -> 0 | M8: =SUMIFS('15년일입'!$Y$7:$Y$633,'15년일입'!$A$7:$A$633,'15년위원회별'!$A8,'15년일입'!$B$7:$B$633,'15년위원회별'!$C8) -> 0 | N8: =SUMIFS('15년일입'!$Z$7:$Z$633,'15년일입'!$A$7:$A$633,'15년위원회별'!$A8,'15년일입'!$B$7:$B$633,'15년위원회별'!$C8) -> 0 | P8: =SUMIFS('15년일출'!$H$7:$H$688,'15년일출'!$B$7:$B$688,'15년위원회별'!$A8,'15년일출'!$C$7:$C$688,'15년위원회별'!$C8) -> 0 | Q8: =SUMIFS('15년일출'!$I$7:$I$688,'15년일출'!$B$7:$B$688,'15년위원회별'!$A8,'15년일출'!$C$7:$C$688,'15년위원회별'!$C8) -> 0 | R8: =SUMIFS('15년일출'!$J$7:$J$688,'15년일출'!$B$7:$B$688,'15년위원회별'!$A8,'15년일출'!$C$7:$C$688,'15년위원회별'!$C8) -> 0 | S8: =SUMIFS('15년일출'!$K$7:$K$688,'15년일출'!$B$7:$B$688,'15년위원회별'!$A8,'15년일출'!$C$7:$C$688,'15년위원회별'!$C8) -> 0 | T8: =SUMIFS('15년일출'!$U$7:$U$688,'15년일출'!$B$7:$B$688,'15년위원회별'!$A8,'15년일출'!$C$7:$C$688,'15년위원회별'!$C8) -> 0 | U8: =SUMIFS('15년일출'!$V$7:$V$688,'15년일출'!$B$7:$B$688,'15년위원회별'!$A8,'15년일출'!$C$7:$C$688,'15년위원회별'!$C8) -> 0 | V8: =SUMIFS('15년일출'!$L$7:$L$688,'15년일출'!$B$7:$B$688,'15년위원회별'!$A8,'15년일출'!$C$7:$C$688,'15년위원회별'!$C8) -> 0 | W8: =SUMIFS('15년일출'!$M$7:$M$688,'15년일출'!$B$7:$B$688,'15년위원회별'!$A8,'15년일출'!$C$7:$C$688,'15년위원회별'!$C8) -> 0 | X8: =SUMIFS('15년일출'!$N$7:$N$688,'15년일출'!$B$7:$B$688,'15년위원회별'!$A8,'15년일출'!$C$7:$C$688,'15년위원회별'!$C8) -> 0 | Y8: =SUMIFS('15년일출'!$Z$7:$Z$688,'15년일출'!$B$7:$B$688,'15년위원회별'!$A8,'15년일출'!$C$7:$C$688,'15년위원회별'!$C8) -> 0 | Z8: =SUMIFS('15년일출'!$AA$7:$AA$688,'15년일출'!$B$7:$B$688,'15년위원회별'!$A8,'15년일출'!$C$7:$C$688,'15년위원회별'!$C8) -> 0
A9: 의회운영위원회 | C9: 대변인 | D9: =SUMIFS('15년일입'!$G$7:$G$633,'15년일입'!$A$7:$A$633,'15년위원회별'!$A9,'15년일입'!$B$7:$B$633,'15년위원회별'!$C9) -> 0 | E9: =SUMIFS('15년일입'!$H$7:$H$633,'15년일입'!$A$7:$A$633,'15년위원회별'!$A9,'15년일입'!$B$7:$B$633,'15년위원회별'!$C9) -> 0 | F9: =SUMIFS('15년일입'!$I$7:$I$633,'15년일입'!$A$7:$A$633,'15년위원회별'!$A9,'15년일입'!$B$7:$B$633,'15년위원회별'!$C9) -> 0 | G9: =SUMIFS('15년일입'!$J$7:$J$633,'15년일입'!$A$7:$A$633,'15년위원회별'!$A9,'15년일입'!$B$7:$B$633,'15년위원회별'!$C9) -> 0 | H9: =SUMIFS('15년일입'!$T$7:$T$633,'15년일입'!$A$7:$A$633,'15년위원회별'!$A9,'15년일입'!$B$7:$B$633,'15년위원회별'!$C9) -> 0 | I9: =SUMIFS('15년일입'!$U$7:$U$633,'15년일입'!$A$7:$A$633,'15년위원회별'!$A9,'15년일입'!$B$7:$B$633,'15년위원회별'!$C9) -> 0 | J9: =SUMIFS('15년일입'!$K$7:$K$633,'15년일입'!$A$7:$A$633,'15년위원회별'!$A9,'15년일입'!$B$7:$B$633,'15년위원회별'!$C9) -> 0 | K9: =SUMIFS('15년일입'!$L$7:$L$633,'15년일입'!$A$7:$A$633,'15년위원회별'!$A9,'15년일입'!$B$7:$B$633,'15년위원회별'!$C9) -> 0 | L9: =SUMIFS('15년일입'!$M$7:$M$633,'15년일입'!$A$7:$A$633,'15년위원회별'!$A9,'15년일입'!$B$7:$B$633,'15년위원회별'!$C9) -> 0 | M9: =SUMIFS('15년일입'!$Y$7:$Y$633,'15년일입'!$A$7:$A$633,'15년위원회별'!$A9,'15년일입'!$B$7:$B$633,'15년위원회별'!$C9) -> 0 | N9: =SUMIFS('15년일입'!$Z$7:$Z$633,'15년일입'!$A$7:$A$633,'15년위원회별'!$A9,'15년일입'!$B$7:$B$633,'15년위원회별'!$C9) -> 0 | P9: =SUMIFS('15년일출'!$H$7:$H$688,'15년일출'!$B$7:$B$688,'15년위원회별'!$A9,'15년일출'!$C$7:$C$688,'15년위원회별'!$C9) -> 0 | Q9: =SUMIFS('15년일출'!$I$7:$I$688,'15년일출'!$B$7:$B$688,'15년위원회별'!$A9,'15년일출'!$C$7:$C$688,'15년위원회별'!$C9) -> 0 | R9: =SUMIFS('15년일출'!$J$7:$J$688,'15년일출'!$B$7:$B$688,'15년위원회별'!$A9,'15년일출'!$C$7:$C$688,'15년위원회별'!$C9) -> 0 | S9: =SUMIFS('15년일출'!$K$7:$K$688,'15년일출'!$B$7:$B$688,'15년위원회별'!$A9,'15년일출'!$C$7:$C$688,'15년위원회별'!$C9) -> 0 | T9: =SUMIFS('15년일출'!$U$7:$U$688,'15년일출'!$B$7:$B$688,'15년위원회별'!$A9,'15년일출'!$C$7:$C$688,'15년위원회별'!$C9) -> 0 | U9: =SUMIFS('15년일출'!$V$7:$V$688,'15년일출'!$B$7:$B$688,'15년위원회별'!$A9,'15년일출'!$C$7:$C$688,'15년위원회별'!$C9) -> 0 | V9: =SUMIFS('15년일출'!$L$7:$L$688,'15년일출'!$B$7:$B$688,'15년위원회별'!$A9,'15년일출'!$C$7:$C$688,'15년위원회별'!$C9) -> 0 | W9: =SUMIFS('15년일출'!$M$7:$M$688,'15년일출'!$B$7:$B$688,'15년위원회별'!$A9,'15년일출'!$C$7:$C$688,'15년위원회별'!$C9) -> 0 | X9: =SUMIFS('15년일출'!$N$7:$N$688,'15년일출'!$B$7:$B$688,'15년위원회별'!$A9,'15년일출'!$C$7:$C$688,'15년위원회별'!$C9) -> 0 | Y9: =SUMIFS('15년일출'!$Z$7:$Z$688,'15년일출'!$B$7:$B$688,'15년위원회별'!$A9,'15년일출'!$C$7:$C$688,'15년위원회별'!$C9) -> 0 | Z9: =SUMIFS('15년일출'!$AA$7:$AA$688,'15년일출'!$B$7:$B$688,'15년위원회별'!$A9,'15년일출'!$C$7:$C$688,'15년위원회별'!$C9) -> 0
A10: 의회운영위원회 | C10: 대외협력담당관 | D10: =SUMIFS('15년일입'!$G$7:$G$633,'15년일입'!$A$7:$A$633,'15년위원회별'!$A10,'15년일입'!$B$7:$B$633,'15년위원회별'!$C10) -> 0 | E10: =SUMIFS('15년일입'!$H$7:$H$633,'15년일입'!$A$7:$A$633,'15년위원회별'!$A10,'15년일입'!$B$7:$B$633,'15년위원회별'!$C10) -> 0 | F10: =SUMIFS('15년일입'!$I$7:$I$633,'15년일입'!$A$7:$A$633,'15년위원회별'!$A10,'15년일입'!$B$7:$B$633,'15년위원회별'!$C10) -> 0 | G10: =SUMIFS('15년일입'!$J$7:$J$633,'15년일입'!$A$7:$A$633,'15년위원회별'!$A10,'15년일입'!$B$7:$B$633,'15년위원회별'!$C10) -> 0 | H10: =SUMIFS('15년일입'!$T$7:$T$633,'15년일입'!$A$7:$A$633,'15년위원회별'!$A10,'15년일입'!$B$7:$B$633,'15년위원회별'!$C10) -> 0 | I10: =SUMIFS('15년일입'!$U$7:$U$633,'15년일입'!$A$7:$A$633,'15년위원회별'!$A10,'15년일입'!$B$7:$B$633,'15년위원회별'!$C10) -> 0 | J10: =SUMIFS('15년일입'!$K$7:$K$633,'15년일입'!$A$7:$A$633,'15년위원회별'!$A10,'15년일입'!$B$7:$B$633,'15년위원회별'!$C10) -> 0 | K10: =SUMIFS('15년일입'!$L$7:$L$633,'15년일입'!$A$7:$A$633,'15년위원회별'!$A10,'15년일입'!$B$7:$B$633,'15년위원회별'!$C10) -> 0 | L10: =SUMIFS('15년일입'!$M$7:$M$633,'15년일입'!$A$7:$A$633,'15년위원회별'!$A10,'15년일입'!$B$7:$B$633,'15년위원회별'!$C10) -> 0 | M10: =SUMIFS('15년일입'!$Y$7:$Y$633,'15년일입'!$A$7:$A$633,'15년위원회별'!$A10,'15년일입'!$B$7:$B$633,'15년위원회별'!$C10) -> 0 | N10: =SUMIFS('15년일입'!$Z$7:$Z$633,'15년일입'!$A$7:$A$633,'15년위원회별'!$A10,'15년일입'!$B$7:$B$633,'15년위원회별'!$C10) -> 0 | P10: =SUMIFS('15년일출'!$H$7:$H$688,'15년일출'!$B$7:$B$688,'15년위원회별'!$A10,'15년일출'!$C$7:$C$688,'15년위원회별'!$C10) -> 0 | Q10: =SUMIFS('15년일출'!$I$7:$I$688,'15년일출'!$B$7:$B$688,'15년위원회별'!$A10,'15년일출'!$C$7:$C$688,'15년위원회별'!$C10) -> 0 | R10: =SUMIFS('15년일출'!$J$7:$J$688,'15년일출'!$B$7:$B$688,'15년위원회별'!$A10,'15년일출'!$C$7:$C$688,'15년위원회별'!$C10) -> 0 | S10: =SUMIFS('15년일출'!$K$7:$K$688,'15년일출'!$B$7:$B$688,'15년위원회별'!$A10,'15년일출'!$C$7:$C$688,'15년위원회별'!$C10) -> 0 | T10: =SUMIFS('15년일출'!$U$7:$U$688,'15년일출'!$B$7:$B$688,'15년위원회별'!$A10,'15년일출'!$C$7:$C$688,'15년위원회별'!$C10) -> 0 | U10: =SUMIFS('15년일출'!$V$7:$V$688,'15년일출'!$B$7:$B$688,'15년위원회별'!$A10,'15년일출'!$C$7:$C$688,'15년위원회별'!$C10) -> 0 | V10: =SUMIFS('15년일출'!$L$7:$L$688,'15년일출'!$B$7:$B$688,'15년위원회별'!$A10,'15년일출'!$C$7:$C$688,'15년위원회별'!$C10) -> 0 | W10: =SUMIFS('15년일출'!$M$7:$M$688,'15년일출'!$B$7:$B$688,'15년위원회별'!$A10,'15년일출'!$C$7:$C$688,'15년위원회별'!$C10) -> 0 | X10: =SUMIFS('15년일출'!$N$7:$N$688,'15년일출'!$B$7:$B$688,'15년위원회별'!$A10,'15년일출'!$C$7:$C$688,'15년위원회별'!$C10) -> 0 | Y10: =SUMIFS('15년일출'!$Z$7:$Z$688,'15년일출'!$B$7:$B$688,'15년위원회별'!$A10,'15년일출'!$C$7:$C$688,'15년위원회별'!$C10) -> 0 | Z10: =SUMIFS('15년일출'!$AA$7:$AA$688,'15년일출'!$B$7:$B$688,'15년위원회별'!$A10,'15년일출'!$C$7:$C$688,'15년위원회별'!$C10) -> 0
B11: 기획재정위원회 | D11: =SUM(D12:D14) -> 0 | E11: =SUM(E12:E14) -> 0 | F11: =SUM(F12:F14) -> 0 | G11: =SUM(G12:G14) -> 0 | H11: =SUM(H12:H14) -> 0 | I11: =SUM(I12:I14) -> 0 | J11: =SUM(J12:J14) -> 0 | K11: =SUM(K12:K14) -> 0 | ... N11: =SUM(N12:N14) -> 0 | P11: =SUM(P12:P14) -> 0 | Q11: =SUM(Q12:Q14) -> 0 | R11: =SUM(R12:R14) -> 0 | S11: =SUM(S12:S14) -> 0 | T11: =SUM(T12:T14) -> 0 | U11: =SUM(U12:U14) -> 0 | V11: =SUM(V12:V14) -> 0 | W11: =SUM(W12:W14) -> 0 | ... Z11: =SUM(Z12:Z14) -> 0
A12: 기획재정위원회 | C12: 감사관 | D12: =SUMIFS('15년일입'!$G$7:$G$633,'15년일입'!$A$7:$A$633,'15년위원회별'!$A12,'15년일입'!$B$7:$B$633,'15년위원회별'!$C12) -> 0 | E12: =SUMIFS('15년일입'!$H$7:$H$633,'15년일입'!$A$7:$A$633,'15년위원회별'!$A12,'15년일입'!$B$7:$B$633,'15년위원회별'!$C12) -> 0 | F12: =SUMIFS('15년일입'!$I$7:$I$633,'15년일입'!$A$7:$A$633,'15년위원회별'!$A12,'15년일입'!$B$7:$B$633,'15년위원회별'!$C12) -> 0 | G12: =SUMIFS('15년일입'!$J$7:$J$633,'15년일입'!$A$7:$A$633,'15년위원회별'!$A12,'15년일입'!$B$7:$B$633,'15년위원회별'!$C12) -> 0 | H12: =SUMIFS('15년일입'!$T$7:$T$633,'15년일입'!$A$7:$A$633,'15년위원회별'!$A12,'15년일입'!$B$7:$B$633,'15년위원회별'!$C12) -> 0 | I12: =SUMIFS('15년일입'!$U$7:$U$633,'15년일입'!$A$7:$A$633,'15년위원회별'!$A12,'15년일입'!$B$7:$B$633,'15년위원회별'!$C12) -> 0 | J12: =SUMIFS('15년일입'!$K$7:$K$633,'15년일입'!$A$7:$A$633,'15년위원회별'!$A12,'15년일입'!$B$7:$B$633,'15년위원회별'!$C12) -> 0 | K12: =SUMIFS('15년일입'!$L$7:$L$633,'15년일입'!$A$7:$A$633,'15년위원회별'!$A12,'15년일입'!$B$7:$B$633,'15년위원회별'!$C12) -> 0 | L12: =SUMIFS('15년일입'!$M$7:$M$633,'15년일입'!$A$7:$A$633,'15년위원회별'!$A12,'15년일입'!$B$7:$B$633,'15년위원회별'!$C12) -> 0 | M12: =SUMIFS('15년일입'!$Y$7:$Y$633,'15년일입'!$A$7:$A$633,'15년위원회별'!$A12,'15년일입'!$B$7:$B$633,'15년위원회별'!$C12) -> 0 | N12: =SUMIFS('15년일입'!$Z$7:$Z$633,'15년일입'!$A$7:$A$633,'15년위원회별'!$A12,'15년일입'!$B$7:$B$633,'15년위원회별'!$C12) -> 0 | P12: =SUMIFS('15년일출'!$H$7:$H$688,'15년일출'!$B$7:$B$688,'15년위원회별'!$A12,'15년일출'!$C$7:$C$688,'15년위원회별'!$C12) -> 0 | Q12: =SUMIFS('15년일출'!$I$7:$I$688,'15년일출'!$B$7:$B$688,'15년위원회별'!$A12,'15년일출'!$C$7:$C$688,'15년위원회별'!$C12) -> 0 | R12: =SUMIFS('15년일출'!$J$7:$J$688,'15년일출'!$B$7:$B$688,'15년위원회별'!$A12,'15년일출'!$C$7:$C$688,'15년위원회별'!$C12) -> 0 | S12: =SUMIFS('15년일출'!$K$7:$K$688,'15년일출'!$B$7:$B$688,'15년위원회별'!$A12,'15년일출'!$C$7:$C$688,'15년위원회별'!$C12) -> 0 | T12: =SUMIFS('15년일출'!$U$7:$U$688,'15년일출'!$B$7:$B$688,'15년위원회별'!$A12,'15년일출'!$C$7:$C$688,'15년위원회별'!$C12) -> 0 | U12: =SUMIFS('15년일출'!$V$7:$V$688,'15년일출'!$B$7:$B$688,'15년위원회별'!$A12,'15년일출'!$C$7:$C$688,'15년위원회별'!$C12) -> 0 | V12: =SUMIFS('15년일출'!$L$7:$L$688,'15년일출'!$B$7:$B$688,'15년위원회별'!$A12,'15년일출'!$C$7:$C$688,'15년위원회별'!$C12) -> 0 | W12: =SUMIFS('15년일출'!$M$7:$M$688,'15년일출'!$B$7:$B$688,'15년위원회별'!$A12,'15년일출'!$C$7:$C$688,'15년위원회별'!$C12) -> 0 | X12: =SUMIFS('15년일출'!$N$7:$N$688,'15년일출'!$B$7:$B$688,'15년위원회별'!$A12,'15년일출'!$C$7:$C$688,'15년위원회별'!$C12) -> 0 | Y12: =SUMIFS('15년일출'!$Z$7:$Z$688,'15년일출'!$B$7:$B$688,'15년위원회별'!$A12,'15년일출'!$C$7:$C$688,'15년위원회별'!$C12) -> 0 | Z12: =SUMIFS('15년일출'!$AA$7:$AA$688,'15년일출'!$B$7:$B$688,'15년위원회별'!$A12,'15년일출'!$C$7:$C$688,'15년위원회별'!$C12) -> 0
A13: 기획재정위원회 | C13: 기획조정실 | D13: =SUMIFS('15년일입'!$G$7:$G$633,'15년일입'!$A$7:$A$633,'15년위원회별'!$A13,'15년일입'!$B$7:$B$633,'15년위원회별'!$C13) -> 0 | E13: =SUMIFS('15년일입'!$H$7:$H$633,'15년일입'!$A$7:$A$633,'15년위원회별'!$A13,'15년일입'!$B$7:$B$633,'15년위원회별'!$C13) -> 0 | F13: =SUMIFS('15년일입'!$I$7:$I$633,'15년일입'!$A$7:$A$633,'15년위원회별'!$A13,'15년일입'!$B$7:$B$633,'15년위원회별'!$C13) -> 0 | G13: =SUMIFS('15년일입'!$J$7:$J$633,'15년일입'!$A$7:$A$633,'15년위원회별'!$A13,'15년일입'!$B$7:$B$633,'15년위원회별'!$C13) -> 0 | H13: =SUMIFS('15년일입'!$T$7:$T$633,'15년일입'!$A$7:$A$633,'15년위원회별'!$A13,'15년일입'!$B$7:$B$633,'15년위원회별'!$C13) -> 0 | I13: =SUMIFS('15년일입'!$U$7:$U$633,'15년일입'!$A$7:$A$633,'15년위원회별'!$A13,'15년일입'!$B$7:$B$633,'15년위원회별'!$C13) -> 0 | J13: =SUMIFS('15년일입'!$K$7:$K$633,'15년일입'!$A$7:$A$633,'15년위원회별'!$A13,'15년일입'!$B$7:$B$633,'15년위원회별'!$C13) -> 0 | K13: =SUMIFS('15년일입'!$L$7:$L$633,'15년일입'!$A$7:$A$633,'15년위원회별'!$A13,'15년일입'!$B$7:$B$633,'15년위원회별'!$C13) -> 0 | L13: =SUMIFS('15년일입'!$M$7:$M$633,'15년일입'!$A$7:$A$633,'15년위원회별'!$A13,'15년일입'!$B$7:$B$633,'15년위원회별'!$C13) -> 0 | M13: =SUMIFS('15년일입'!$Y$7:$Y$633,'15년일입'!$A$7:$A$633,'15년위원회별'!$A13,'15년일입'!$B$7:$B$633,'15년위원회별'!$C13) -> 0 | N13: =SUMIFS('15년일입'!$Z$7:$Z$633,'15년일입'!$A$7:$A$633,'15년위원회별'!$A13,'15년일입'!$B$7:$B$633,'15년위원회별'!$C13) -> 0 | P13: =SUMIFS('15년일출'!$H$7:$H$688,'15년일출'!$B$7:$B$688,'15년위원회별'!$A13,'15년일출'!$C$7:$C$688,'15년위원회별'!$C13) -> 0 | Q13: =SUMIFS('15년일출'!$I$7:$I$688,'15년일출'!$B$7:$B$688,'15년위원회별'!$A13,'15년일출'!$C$7:$C$688,'15년위원회별'!$C13) -> 0 | R13: =SUMIFS('15년일출'!$J$7:$J$688,'15년일출'!$B$7:$B$688,'15년위원회별'!$A13,'15년일출'!$C$7:$C$688,'15년위원회별'!$C13) -> 0 | S13: =SUMIFS('15년일출'!$K$7:$K$688,'15년일출'!$B$7:$B$688,'15년위원회별'!$A13,'15년일출'!$C$7:$C$688,'15년위원회별'!$C13) -> 0 | T13: =SUMIFS('15년일출'!$U$7:$U$688,'15년일출'!$B$7:$B$688,'15년위원회별'!$A13,'15년일출'!$C$7:$C$688,'15년위원회별'!$C13) -> 0 | U13: =SUMIFS('15년일출'!$V$7:$V$688,'15년일출'!$B$7:$B$688,'15년위원회별'!$A13,'15년일출'!$C$7:$C$688,'15년위원회별'!$C13) -> 0 | V13: =SUMIFS('15년일출'!$L$7:$L$688,'15년일출'!$B$7:$B$688,'15년위원회별'!$A13,'15년일출'!$C$7:$C$688,'15년위원회별'!$C13) -> 0 | W13: =SUMIFS('15년일출'!$M$7:$M$688,'15년일출'!$B$7:$B$688,'15년위원회별'!$A13,'15년일출'!$C$7:$C$688,'15년위원회별'!$C13) -> 0 | X13: =SUMIFS('15년일출'!$N$7:$N$688,'15년일출'!$B$7:$B$688,'15년위원회별'!$A13,'15년일출'!$C$7:$C$688,'15년위원회별'!$C13) -> 0 | Y13: =SUMIFS('15년일출'!$Z$7:$Z$688,'15년일출'!$B$7:$B$688,'15년위원회별'!$A13,'15년일출'!$C$7:$C$688,'15년위원회별'!$C13) -> 0 | Z13: =SUMIFS('15년일출'!$AA$7:$AA$688,'15년일출'!$B$7:$B$688,'15년위원회별'!$A13,'15년일출'!$C$7:$C$688,'15년위원회별'!$C13) -> 0
A14: 기획재정위원회 | C14: 균형발전기획실 | D14: =SUMIFS('15년일입'!$G$7:$G$633,'15년일입'!$A$7:$A$633,'15년위원회별'!$A14,'15년일입'!$B$7:$B$633,'15년위원회별'!$C14) -> 0 | E14: =SUMIFS('15년일입'!$H$7:$H$633,'15년일입'!$A$7:$A$633,'15년위원회별'!$A14,'15년일입'!$B$7:$B$633,'15년위원회별'!$C14) -> 0 | F14: =SUMIFS('15년일입'!$I$7:$I$633,'15년일입'!$A$7:$A$633,'15년위원회별'!$A14,'15년일입'!$B$7:$B$633,'15년위원회별'!$C14) -> 0 | G14: =SUMIFS('15년일입'!$J$7:$J$633,'15년일입'!$A$7:$A$633,'15년위원회별'!$A14,'15년일입'!$B$7:$B$633,'15년위원회별'!$C14) -> 0 | H14: =SUMIFS('15년일입'!$T$7:$T$633,'15년일입'!$A$7:$A$633,'15년위원회별'!$A14,'15년일입'!$B$7:$B$633,'15년위원회별'!$C14) -> 0 | I14: =SUMIFS('15년일입'!$U$7:$U$633,'15년일입'!$A$7:$A$633,'15년위원회별'!$A14,'15년일입'!$B$7:$B$633,'15년위원회별'!$C14) -> 0 | J14: =SUMIFS('15년일입'!$K$7:$K$633,'15년일입'!$A$7:$A$633,'15년위원회별'!$A14,'15년일입'!$B$7:$B$633,'15년위원회별'!$C14) -> 0 | K14: =SUMIFS('15년일입'!$L$7:$L$633,'15년일입'!$A$7:$A$633,'15년위원회별'!$A14,'15년일입'!$B$7:$B$633,'15년위원회별'!$C14) -> 0 | L14: =SUMIFS('15년일입'!$M$7:$M$633,'15년일입'!$A$7:$A$633,'15년위원회별'!$A14,'15년일입'!$B$7:$B$633,'15년위원회별'!$C14) -> 0 | M14: =SUMIFS('15년일입'!$Y$7:$Y$633,'15년일입'!$A$7:$A$633,'15년위원회별'!$A14,'15년일입'!$B$7:$B$633,'15년위원회별'!$C14) -> 0 | N14: =SUMIFS('15년일입'!$Z$7:$Z$633,'15년일입'!$A$7:$A$633,'15년위원회별'!$A14,'15년일입'!$B$7:$B$633,'15년위원회별'!$C14) -> 0 | P14: =SUMIFS('15년일출'!$H$7:$H$688,'15년일출'!$B$7:$B$688,'15년위원회별'!$A14,'15년일출'!$C$7:$C$688,'15년위원회별'!$C14) -> 0 | Q14: =SUMIFS('15년일출'!$I$7:$I$688,'15년일출'!$B$7:$B$688,'15년위원회별'!$A14,'15년일출'!$C$7:$C$688,'15년위원회별'!$C14) -> 0 | R14: =SUMIFS('15년일출'!$J$7:$J$688,'15년일출'!$B$7:$B$688,'15년위원회별'!$A14,'15년일출'!$C$7:$C$688,'15년위원회별'!$C14) -> 0 | S14: =SUMIFS('15년일출'!$K$7:$K$688,'15년일출'!$B$7:$B$688,'15년위원회별'!$A14,'15년일출'!$C$7:$C$688,'15년위원회별'!$C14) -> 0 | T14: =SUMIFS('15년일출'!$U$7:$U$688,'15년일출'!$B$7:$B$688,'15년위원회별'!$A14,'15년일출'!$C$7:$C$688,'15년위원회별'!$C14) -> 0 | U14: =SUMIFS('15년일출'!$V$7:$V$688,'15년일출'!$B$7:$B$688,'15년위원회별'!$A14,'15년일출'!$C$7:$C$688,'15년위원회별'!$C14) -> 0 | V14: =SUMIFS('15년일출'!$L$7:$L$688,'15년일출'!$B$7:$B$688,'15년위원회별'!$A14,'15년일출'!$C$7:$C$688,'15년위원회별'!$C14) -> 0 | W14: =SUMIFS('15년일출'!$M$7:$M$688,'15년일출'!$B$7:$B$688,'15년위원회별'!$A14,'15년일출'!$C$7:$C$688,'15년위원회별'!$C14) -> 0 | X14: =SUMIFS('15년일출'!$N$7:$N$688,'15년일출'!$B$7:$B$688,'15년위원회별'!$A14,'15년일출'!$C$7:$C$688,'15년위원회별'!$C14) -> 0 | Y14: =SUMIFS('15년일출'!$Z$7:$Z$688,'15년일출'!$B$7:$B$688,'15년위원회별'!$A14,'15년일출'!$C$7:$C$688,'15년위원회별'!$C14) -> 0 | Z14: =SUMIFS('15년일출'!$AA$7:$AA$688,'15년일출'!$B$7:$B$688,'15년위원회별'!$A14,'15년일출'!$C$7:$C$688,'15년위원회별'!$C14) -> 0
B15: 경제과학기술위원회 | D15: =SUM(D16) -> 0 | E15: =SUM(E16) -> 0 | F15: =SUM(F16) -> 0 | G15: =SUM(G16) -> 0 | H15: =SUM(H16) -> 0 | I15: =SUM(I16) -> 0 | J15: =SUM(J16) -> 0 | K15: =SUM(K16) -> 0 | ... N15: =SUM(N16) -> 0 | P15: =SUM(P16) -> 0 | Q15: =SUM(Q16) -> 0 | R15: =SUM(R16) -> 0 | S15: =SUM(S16) -> 0 | T15: =SUM(T16) -> 0 | U15: =SUM(U16) -> 0 | V15: =SUM(V16) -> 0 | W15: =SUM(W16) -> 0 | ... Z15: =SUM(Z16) -> 0
A16: 경제과학기술위원회 | C16: 경제실 | D16: =SUMIFS('15년일입'!$G$7:$G$633,'15년일입'!$A$7:$A$633,'15년위원회별'!$A16,'15년일입'!$B$7:$B$633,'15년위원회별'!$C16) -> 0 | E16: =SUMIFS('15년일입'!$H$7:$H$633,'15년일입'!$A$7:$A$633,'15년위원회별'!$A16,'15년일입'!$B$7:$B$633,'15년위원회별'!$C16) -> 0 | F16: =SUMIFS('15년일입'!$I$7:$I$633,'15년일입'!$A$7:$A$633,'15년위원회별'!$A16,'15년일입'!$B$7:$B$633,'15년위원회별'!$C16) -> 0 | G16: =SUMIFS('15년일입'!$J$7:$J$633,'15년일입'!$A$7:$A$633,'15년위원회별'!$A16,'15년일입'!$B$7:$B$633,'15년위원회별'!$C16) -> 0 | H16: =SUMIFS('15년일입'!$T$7:$T$633,'15년일입'!$A$7:$A$633,'15년위원회별'!$A16,'15년일입'!$B$7:$B$633,'15년위원회별'!$C16) -> 0 | I16: =SUMIFS('15년일입'!$U$7:$U$633,'15년일입'!$A$7:$A$633,'15년위원회별'!$A16,'15년일입'!$B$7:$B$633,'15년위원회별'!$C16) -> 0 | J16: =SUMIFS('15년일입'!$K$7:$K$633,'15년일입'!$A$7:$A$633,'15년위원회별'!$A16,'15년일입'!$B$7:$B$633,'15년위원회별'!$C16) -> 0 | K16: =SUMIFS('15년일입'!$L$7:$L$633,'15년일입'!$A$7:$A$633,'15년위원회별'!$A16,'15년일입'!$B$7:$B$633,'15년위원회별'!$C16) -> 0 | L16: =SUMIFS('15년일입'!$M$7:$M$633,'15년일입'!$A$7:$A$633,'15년위원회별'!$A16,'15년일입'!$B$7:$B$633,'15년위원회별'!$C16) -> 0 | M16: =SUMIFS('15년일입'!$Y$7:$Y$633,'15년일입'!$A$7:$A$633,'15년위원회별'!$A16,'15년일입'!$B$7:$B$633,'15년위원회별'!$C16) -> 0 | N16: =SUMIFS('15년일입'!$Z$7:$Z$633,'15년일입'!$A$7:$A$633,'15년위원회별'!$A16,'15년일입'!$B$7:$B$633,'15년위원회별'!$C16) -> 0 | P16: =SUMIFS('15년일출'!$H$7:$H$688,'15년일출'!$B$7:$B$688,'15년위원회별'!$A16,'15년일출'!$C$7:$C$688,'15년위원회별'!$C16) -> 0 | Q16: =SUMIFS('15년일출'!$I$7:$I$688,'15년일출'!$B$7:$B$688,'15년위원회별'!$A16,'15년일출'!$C$7:$C$688,'15년위원회별'!$C16) -> 0 | R16: =SUMIFS('15년일출'!$J$7:$J$688,'15년일출'!$B$7:$B$688,'15년위원회별'!$A16,'15년일출'!$C$7:$C$688,'15년위원회별'!$C16) -> 0 | S16: =SUMIFS('15년일출'!$K$7:$K$688,'15년일출'!$B$7:$B$688,'15년위원회별'!$A16,'15년일출'!$C$7:$C$688,'15년위원회별'!$C16) -> 0 | T16: =SUMIFS('15년일출'!$U$7:$U$688,'15년일출'!$B$7:$B$688,'15년위원회별'!$A16,'15년일출'!$C$7:$C$688,'15년위원회별'!$C16) -> 0 | U16: =SUMIFS('15년일출'!$V$7:$V$688,'15년일출'!$B$7:$B$688,'15년위원회별'!$A16,'15년일출'!$C$7:$C$688,'15년위원회별'!$C16) -> 0 | V16: =SUMIFS('15년일출'!$L$7:$L$688,'15년일출'!$B$7:$B$688,'15년위원회별'!$A16,'15년일출'!$C$7:$C$688,'15년위원회별'!$C16) -> 0 | W16: =SUMIFS('15년일출'!$M$7:$M$688,'15년일출'!$B$7:$B$688,'15년위원회별'!$A16,'15년일출'!$C$7:$C$688,'15년위원회별'!$C16) -> 0 | X16: =SUMIFS('15년일출'!$N$7:$N$688,'15년일출'!$B$7:$B$688,'15년위원회별'!$A16,'15년일출'!$C$7:$C$688,'15년위원회별'!$C16) -> 0 | Y16: =SUMIFS('15년일출'!$Z$7:$Z$688,'15년일출'!$B$7:$B$688,'15년위원회별'!$A16,'15년일출'!$C$7:$C$688,'15년위원회별'!$C16) -> 0 | Z16: =SUMIFS('15년일출'!$AA$7:$AA$688,'15년일출'!$B$7:$B$688,'15년위원회별'!$A16,'15년일출'!$C$7:$C$688,'15년위원회별'!$C16) -> 0
B17: 안전행정위원회 | D17: =SUM(D18:D21) -> 0 | E17: =SUM(E18:E21) -> 0 | F17: =SUM(F18:F21) -> 0 | G17: =SUM(G18:G21) -> 0 | H17: =SUM(H18:H21) -> 0 | I17: =SUM(I18:I21) -> 0 | J17: =SUM(J18:J21) -> 0 | K17: =SUM(K18:K21) -> 0 | ... N17: =SUM(N18:N21) -> 0 | P17: =SUM(P18:P21) -> 0 | Q17: =SUM(Q18:Q21) -> 0 | R17: =SUM(R18:R21) -> 0 | S17: =SUM(S18:S21) -> 0 | T17: =SUM(T18:T21) -> 0 | U17: =SUM(U18:U21) -> 0 | V17: =SUM(V18:V21) -> 0 | W17: =SUM(W18:W21) -> 0 | ... Z17: =SUM(Z18:Z21) -> 0
A18: 안전행정위원회 | C18: 자치행정국 | D18: =SUMIFS('15년일입'!$G$7:$G$633,'15년일입'!$A$7:$A$633,'15년위원회별'!$A18,'15년일입'!$B$7:$B$633,'15년위원회별'!$C18) -> 0 | E18: =SUMIFS('15년일입'!$H$7:$H$633,'15년일입'!$A$7:$A$633,'15년위원회별'!$A18,'15년일입'!$B$7:$B$633,'15년위원회별'!$C18) -> 0 | F18: =SUMIFS('15년일입'!$I$7:$I$633,'15년일입'!$A$7:$A$633,'15년위원회별'!$A18,'15년일입'!$B$7:$B$633,'15년위원회별'!$C18) -> 0 | G18: =SUMIFS('15년일입'!$J$7:$J$633,'15년일입'!$A$7:$A$633,'15년위원회별'!$A18,'15년일입'!$B$7:$B$633,'15년위원회별'!$C18) -> 0 | H18: =SUMIFS('15년일입'!$T$7:$T$633,'15년일입'!$A$7:$A$633,'15년위원회별'!$A18,'15년일입'!$B$7:$B$633,'15년위원회별'!$C18) -> 0 | I18: =SUMIFS('15년일입'!$U$7:$U$633,'15년일입'!$A$7:$A$633,'15년위원회별'!$A18,'15년일입'!$B$7:$B$633,'15년위원회별'!$C18) -> 0 | J18: =SUMIFS('15년일입'!$K$7:$K$633,'15년일입'!$A$7:$A$633,'15년위원회별'!$A18,'15년일입'!$B$7:$B$633,'15년위원회별'!$C18) -> 0 | K18: =SUMIFS('15년일입'!$L$7:$L$633,'15년일입'!$A$7:$A$633,'15년위원회별'!$A18,'15년일입'!$B$7:$B$633,'15년위원회별'!$C18) -> 0 | L18: =SUMIFS('15년일입'!$M$7:$M$633,'15년일입'!$A$7:$A$633,'15년위원회별'!$A18,'15년일입'!$B$7:$B$633,'15년위원회별'!$C18) -> 0 | M18: =SUMIFS('15년일입'!$Y$7:$Y$633,'15년일입'!$A$7:$A$633,'15년위원회별'!$A18,'15년일입'!$B$7:$B$633,'15년위원회별'!$C18) -> 0 | N18: =SUMIFS('15년일입'!$Z$7:$Z$633,'15년일입'!$A$7:$A$633,'15년위원회별'!$A18,'15년일입'!$B$7:$B$633,'15년위원회별'!$C18) -> 0 | P18: =SUMIFS('15년일출'!$H$7:$H$688,'15년일출'!$B$7:$B$688,'15년위원회별'!$A18,'15년일출'!$C$7:$C$688,'15년위원회별'!$C18) -> 0 | Q18: =SUMIFS('15년일출'!$I$7:$I$688,'15년일출'!$B$7:$B$688,'15년위원회별'!$A18,'15년일출'!$C$7:$C$688,'15년위원회별'!$C18) -> 0 | R18: =SUMIFS('15년일출'!$J$7:$J$688,'15년일출'!$B$7:$B$688,'15년위원회별'!$A18,'15년일출'!$C$7:$C$688,'15년위원회별'!$C18) -> 0 | S18: =SUMIFS('15년일출'!$K$7:$K$688,'15년일출'!$B$7:$B$688,'15년위원회별'!$A18,'15년일출'!$C$7:$C$688,'15년위원회별'!$C18) -> 0 | T18: =SUMIFS('15년일출'!$U$7:$U$688,'15년일출'!$B$7:$B$688,'15년위원회별'!$A18,'15년일출'!$C$7:$C$688,'15년위원회별'!$C18) -> 0 | U18: =SUMIFS('15년일출'!$V$7:$V$688,'15년일출'!$B$7:$B$688,'15년위원회별'!$A18,'15년일출'!$C$7:$C$688,'15년위원회별'!$C18) -> 0 | V18: =SUMIFS('15년일출'!$L$7:$L$688,'15년일출'!$B$7:$B$688,'15년위원회별'!$A18,'15년일출'!$C$7:$C$688,'15년위원회별'!$C18) -> 0 | W18: =SUMIFS('15년일출'!$M$7:$M$688,'15년일출'!$B$7:$B$688,'15년위원회별'!$A18,'15년일출'!$C$7:$C$688,'15년위원회별'!$C18) -> 0 | X18: =SUMIFS('15년일출'!$N$7:$N$688,'15년일출'!$B$7:$B$688,'15년위원회별'!$A18,'15년일출'!$C$7:$C$688,'15년위원회별'!$C18) -> 0 | Y18: =SUMIFS('15년일출'!$Z$7:$Z$688,'15년일출'!$B$7:$B$688,'15년위원회별'!$A18,'15년일출'!$C$7:$C$688,'15년위원회별'!$C18) -> 0 | Z18: =SUMIFS('15년일출'!$AA$7:$AA$688,'15년일출'!$B$7:$B$688,'15년위원회별'!$A18,'15년일출'!$C$7:$C$688,'15년위원회별'!$C18) -> 0
A19: 안전행정위원회 | C19: 재난안전본부 | D19: =SUMIFS('15년일입'!$G$7:$G$633,'15년일입'!$A$7:$A$633,'15년위원회별'!$A19,'15년일입'!$B$7:$B$633,'15년위원회별'!$C19) -> 0 | E19: =SUMIFS('15년일입'!$H$7:$H$633,'15년일입'!$A$7:$A$633,'15년위원회별'!$A19,'15년일입'!$B$7:$B$633,'15년위원회별'!$C19) -> 0 | F19: =SUMIFS('15년일입'!$I$7:$I$633,'15년일입'!$A$7:$A$633,'15년위원회별'!$A19,'15년일입'!$B$7:$B$633,'15년위원회별'!$C19) -> 0 | G19: =SUMIFS('15년일입'!$J$7:$J$633,'15년일입'!$A$7:$A$633,'15년위원회별'!$A19,'15년일입'!$B$7:$B$633,'15년위원회별'!$C19) -> 0 | H19: =SUMIFS('15년일입'!$T$7:$T$633,'15년일입'!$A$7:$A$633,'15년위원회별'!$A19,'15년일입'!$B$7:$B$633,'15년위원회별'!$C19) -> 0 | I19: =SUMIFS('15년일입'!$U$7:$U$633,'15년일입'!$A$7:$A$633,'15년위원회별'!$A19,'15년일입'!$B$7:$B$633,'15년위원회별'!$C19) -> 0 | J19: =SUMIFS('15년일입'!$K$7:$K$633,'15년일입'!$A$7:$A$633,'15년위원회별'!$A19,'15년일입'!$B$7:$B$633,'15년위원회별'!$C19) -> 0 | K19: =SUMIFS('15년일입'!$L$7:$L$633,'15년일입'!$A$7:$A$633,'15년위원회별'!$A19,'15년일입'!$B$7:$B$633,'15년위원회별'!$C19) -> 0 | L19: =SUMIFS('15년일입'!$M$7:$M$633,'15년일입'!$A$7:$A$633,'15년위원회별'!$A19,'15년일입'!$B$7:$B$633,'15년위원회별'!$C19) -> 0 | M19: =SUMIFS('15년일입'!$Y$7:$Y$633,'15년일입'!$A$7:$A$633,'15년위원회별'!$A19,'15년일입'!$B$7:$B$633,'15년위원회별'!$C19) -> 0 | N19: =SUMIFS('15년일입'!$Z$7:$Z$633,'15년일입'!$A$7:$A$633,'15년위원회별'!$A19,'15년일입'!$B$7:$B$633,'15년위원회별'!$C19) -> 0 | P19: =SUMIFS('15년일출'!$H$7:$H$688,'15년일출'!$B$7:$B$688,'15년위원회별'!$A19,'15년일출'!$C$7:$C$688,'15년위원회별'!$C19) -> 0 | Q19: =SUMIFS('15년일출'!$I$7:$I$688,'15년일출'!$B$7:$B$688,'15년위원회별'!$A19,'15년일출'!$C$7:$C$688,'15년위원회별'!$C19) -> 0 | R19: =SUMIFS('15년일출'!$J$7:$J$688,'15년일출'!$B$7:$B$688,'15년위원회별'!$A19,'15년일출'!$C$7:$C$688,'15년위원회별'!$C19) -> 0 | S19: =SUMIFS('15년일출'!$K$7:$K$688,'15년일출'!$B$7:$B$688,'15년위원회별'!$A19,'15년일출'!$C$7:$C$688,'15년위원회별'!$C19) -> 0 | T19: =SUMIFS('15년일출'!$U$7:$U$688,'15년일출'!$B$7:$B$688,'15년위원회별'!$A19,'15년일출'!$C$7:$C$688,'15년위원회별'!$C19) -> 0 | U19: =SUMIFS('15년일출'!$V$7:$V$688,'15년일출'!$B$7:$B$688,'15년위원회별'!$A19,'15년일출'!$C$7:$C$688,'15년위원회별'!$C19) -> 0 | V19: =SUMIFS('15년일출'!$L$7:$L$688,'15년일출'!$B$7:$B$688,'15년위원회별'!$A19,'15년일출'!$C$7:$C$688,'15년위원회별'!$C19) -> 0 | W19: =SUMIFS('15년일출'!$M$7:$M$688,'15년일출'!$B$7:$B$688,'15년위원회별'!$A19,'15년일출'!$C$7:$C$688,'15년위원회별'!$C19) -> 0 | X19: =SUMIFS('15년일출'!$N$7:$N$688,'15년일출'!$B$7:$B$688,'15년위원회별'!$A19,'15년일출'!$C$7:$C$688,'15년위원회별'!$C19) -> 0 | Y19: =SUMIFS('15년일출'!$Z$7:$Z$688,'15년일출'!$B$7:$B$688,'15년위원회별'!$A19,'15년일출'!$C$7:$C$688,'15년위원회별'!$C19) -> 0 | Z19: =SUMIFS('15년일출'!$AA$7:$AA$688,'15년일출'!$B$7:$B$688,'15년위원회별'!$A19,'15년일출'!$C$7:$C$688,'15년위원회별'!$C19) -> 0
A20: 안전행정위원회 | C20: 균형발전기획실 | D20: =SUMIFS('15년일입'!$G$7:$G$633,'15년일입'!$A$7:$A$633,'15년위원회별'!$A20,'15년일입'!$B$7:$B$633,'15년위원회별'!$C20) -> 0 | E20: =SUMIFS('15년일입'!$H$7:$H$633,'15년일입'!$A$7:$A$633,'15년위원회별'!$A20,'15년일입'!$B$7:$B$633,'15년위원회별'!$C20) -> 0 | F20: =SUMIFS('15년일입'!$I$7:$I$633,'15년일입'!$A$7:$A$633,'15년위원회별'!$A20,'15년일입'!$B$7:$B$633,'15년위원회별'!$C20) -> 0 | G20: =SUMIFS('15년일입'!$J$7:$J$633,'15년일입'!$A$7:$A$633,'15년위원회별'!$A20,'15년일입'!$B$7:$B$633,'15년위원회별'!$C20) -> 0 | H20: =SUMIFS('15년일입'!$T$7:$T$633,'15년일입'!$A$7:$A$633,'15년위원회별'!$A20,'15년일입'!$B$7:$B$633,'15년위원회별'!$C20) -> 0 | I20: =SUMIFS('15년일입'!$U$7:$U$633,'15년일입'!$A$7:$A$633,'15년위원회별'!$A20,'15년일입'!$B$7:$B$633,'15년위원회별'!$C20) -> 0 | J20: =SUMIFS('15년일입'!$K$7:$K$633,'15년일입'!$A$7:$A$633,'15년위원회별'!$A20,'15년일입'!$B$7:$B$633,'15년위원회별'!$C20) -> 0 | K20: =SUMIFS('15년일입'!$L$7:$L$633,'15년일입'!$A$7:$A$633,'15년위원회별'!$A20,'15년일입'!$B$7:$B$633,'15년위원회별'!$C20) -> 0 | L20: =SUMIFS('15년일입'!$M$7:$M$633,'15년일입'!$A$7:$A$633,'15년위원회별'!$A20,'15년일입'!$B$7:$B$633,'15년위원회별'!$C20) -> 0 | M20: =SUMIFS('15년일입'!$Y$7:$Y$633,'15년일입'!$A$7:$A$633,'15년위원회별'!$A20,'15년일입'!$B$7:$B$633,'15년위원회별'!$C20) -> 0 | N20: =SUMIFS('15년일입'!$Z$7:$Z$633,'15년일입'!$A$7:$A$633,'15년위원회별'!$A20,'15년일입'!$B$7:$B$633,'15년위원회별'!$C20) -> 0 | P20: =SUMIFS('15년일출'!$H$7:$H$688,'15년일출'!$B$7:$B$688,'15년위원회별'!$A20,'15년일출'!$C$7:$C$688,'15년위원회별'!$C20) -> 0 | Q20: =SUMIFS('15년일출'!$I$7:$I$688,'15년일출'!$B$7:$B$688,'15년위원회별'!$A20,'15년일출'!$C$7:$C$688,'15년위원회별'!$C20) -> 0 | R20: =SUMIFS('15년일출'!$J$7:$J$688,'15년일출'!$B$7:$B$688,'15년위원회별'!$A20,'15년일출'!$C$7:$C$688,'15년위원회별'!$C20) -> 0 | S20: =SUMIFS('15년일출'!$K$7:$K$688,'15년일출'!$B$7:$B$688,'15년위원회별'!$A20,'15년일출'!$C$7:$C$688,'15년위원회별'!$C20) -> 0 | T20: =SUMIFS('15년일출'!$U$7:$U$688,'15년일출'!$B$7:$B$688,'15년위원회별'!$A20,'15년일출'!$C$7:$C$688,'15년위원회별'!$C20) -> 0 | U20: =SUMIFS('15년일출'!$V$7:$V$688,'15년일출'!$B$7:$B$688,'15년위원회별'!$A20,'15년일출'!$C$7:$C$688,'15년위원회별'!$C20) -> 0 | V20: =SUMIFS('15년일출'!$L$7:$L$688,'15년일출'!$B$7:$B$688,'15년위원회별'!$A20,'15년일출'!$C$7:$C$688,'15년위원회별'!$C20) -> 0 | W20: =SUMIFS('15년일출'!$M$7:$M$688,'15년일출'!$B$7:$B$688,'15년위원회별'!$A20,'15년일출'!$C$7:$C$688,'15년위원회별'!$C20) -> 0 | X20: =SUMIFS('15년일출'!$N$7:$N$688,'15년일출'!$B$7:$B$688,'15년위원회별'!$A20,'15년일출'!$C$7:$C$688,'15년위원회별'!$C20) -> 0 | Y20: =SUMIFS('15년일출'!$Z$7:$Z$688,'15년일출'!$B$7:$B$688,'15년위원회별'!$A20,'15년일출'!$C$7:$C$688,'15년위원회별'!$C20) -> 0 | Z20: =SUMIFS('15년일출'!$AA$7:$AA$688,'15년일출'!$B$7:$B$688,'15년위원회별'!$A20,'15년일출'!$C$7:$C$688,'15년위원회별'!$C20) -> 0
A21: 안전행정위원회 | C21: 인재개발원 | D21: =SUMIFS('15년일입'!$G$7:$G$633,'15년일입'!$A$7:$A$633,'15년위원회별'!$A21,'15년일입'!$B$7:$B$633,'15년위원회별'!$C21) -> 0 | E21: =SUMIFS('15년일입'!$H$7:$H$633,'15년일입'!$A$7:$A$633,'15년위원회별'!$A21,'15년일입'!$B$7:$B$633,'15년위원회별'!$C21) -> 0 | F21: =SUMIFS('15년일입'!$I$7:$I$633,'15년일입'!$A$7:$A$633,'15년위원회별'!$A21,'15년일입'!$B$7:$B$633,'15년위원회별'!$C21) -> 0 | G21: =SUMIFS('15년일입'!$J$7:$J$633,'15년일입'!$A$7:$A$633,'15년위원회별'!$A21,'15년일입'!$B$7:$B$633,'15년위원회별'!$C21) -> 0 | H21: =SUMIFS('15년일입'!$T$7:$T$633,'15년일입'!$A$7:$A$633,'15년위원회별'!$A21,'15년일입'!$B$7:$B$633,'15년위원회별'!$C21) -> 0 | I21: =SUMIFS('15년일입'!$U$7:$U$633,'15년일입'!$A$7:$A$633,'15년위원회별'!$A21,'15년일입'!$B$7:$B$633,'15년위원회별'!$C21) -> 0 | J21: =SUMIFS('15년일입'!$K$7:$K$633,'15년일입'!$A$7:$A$633,'15년위원회별'!$A21,'15년일입'!$B$7:$B$633,'15년위원회별'!$C21) -> 0 | K21: =SUMIFS('15년일입'!$L$7:$L$633,'15년일입'!$A$7:$A$633,'15년위원회별'!$A21,'15년일입'!$B$7:$B$633,'15년위원회별'!$C21) -> 0 | L21: =SUMIFS('15년일입'!$M$7:$M$633,'15년일입'!$A$7:$A$633,'15년위원회별'!$A21,'15년일입'!$B$7:$B$633,'15년위원회별'!$C21) -> 0 | M21: =SUMIFS('15년일입'!$Y$7:$Y$633,'15년일입'!$A$7:$A$633,'15년위원회별'!$A21,'15년일입'!$B$7:$B$633,'15년위원회별'!$C21) -> 0 | N21: =SUMIFS('15년일입'!$Z$7:$Z$633,'15년일입'!$A$7:$A$633,'15년위원회별'!$A21,'15년일입'!$B$7:$B$633,'15년위원회별'!$C21) -> 0 | P21: =SUMIFS('15년일출'!$H$7:$H$688,'15년일출'!$B$7:$B$688,'15년위원회별'!$A21,'15년일출'!$C$7:$C$688,'15년위원회별'!$C21) -> 0 | Q21: =SUMIFS('15년일출'!$I$7:$I$688,'15년일출'!$B$7:$B$688,'15년위원회별'!$A21,'15년일출'!$C$7:$C$688,'15년위원회별'!$C21) -> 0 | R21: =SUMIFS('15년일출'!$J$7:$J$688,'15년일출'!$B$7:$B$688,'15년위원회별'!$A21,'15년일출'!$C$7:$C$688,'15년위원회별'!$C21) -> 0 | S21: =SUMIFS('15년일출'!$K$7:$K$688,'15년일출'!$B$7:$B$688,'15년위원회별'!$A21,'15년일출'!$C$7:$C$688,'15년위원회별'!$C21) -> 0 | T21: =SUMIFS('15년일출'!$U$7:$U$688,'15년일출'!$B$7:$B$688,'15년위원회별'!$A21,'15년일출'!$C$7:$C$688,'15년위원회별'!$C21) -> 0 | U21: =SUMIFS('15년일출'!$V$7:$V$688,'15년일출'!$B$7:$B$688,'15년위원회별'!$A21,'15년일출'!$C$7:$C$688,'15년위원회별'!$C21) -> 0 | V21: =SUMIFS('15년일출'!$L$7:$L$688,'15년일출'!$B$7:$B$688,'15년위원회별'!$A21,'15년일출'!$C$7:$C$688,'15년위원회별'!$C21) -> 0 | W21: =SUMIFS('15년일출'!$M$7:$M$688,'15년일출'!$B$7:$B$688,'15년위원회별'!$A21,'15년일출'!$C$7:$C$688,'15년위원회별'!$C21) -> 0 | X21: =SUMIFS('15년일출'!$N$7:$N$688,'15년일출'!$B$7:$B$688,'15년위원회별'!$A21,'15년일출'!$C$7:$C$688,'15년위원회별'!$C21) -> 0 | Y21: =SUMIFS('15년일출'!$Z$7:$Z$688,'15년일출'!$B$7:$B$688,'15년위원회별'!$A21,'15년일출'!$C$7:$C$688,'15년위원회별'!$C21) -> 0 | Z21: =SUMIFS('15년일출'!$AA$7:$AA$688,'15년일출'!$B$7:$B$688,'15년위원회별'!$A21,'15년일출'!$C$7:$C$688,'15년위원회별'!$C21) -> 0
B22: 문화체육관광위원회 | D22: =SUM(D23) -> 0 | E22: =SUM(E23) -> 0 | F22: =SUM(F23) -> 0 | G22: =SUM(G23) -> 0 | H22: =SUM(H23) -> 0 | I22: =SUM(I23) -> 0 | J22: =SUM(J23) -> 0 | K22: =SUM(K23) -> 0 | ... N22: =SUM(N23) -> 0 | P22: =SUM(P23) -> 0 | Q22: =SUM(Q23) -> 0 | R22: =SUM(R23) -> 0 | S22: =SUM(S23) -> 0 | T22: =SUM(T23) -> 0 | U22: =SUM(U23) -> 0 | V22: =SUM(V23) -> 0 | W22: =SUM(W23) -> 0 | ... Z22: =SUM(Z23) -> 0
A23: 문화체육관광위원회 | C23: 문화체육관광국 | D23: =SUMIFS('15년일입'!$G$7:$G$633,'15년일입'!$A$7:$A$633,'15년위원회별'!$A23,'15년일입'!$B$7:$B$633,'15년위원회별'!$C23) -> 0 | E23: =SUMIFS('15년일입'!$H$7:$H$633,'15년일입'!$A$7:$A$633,'15년위원회별'!$A23,'15년일입'!$B$7:$B$633,'15년위원회별'!$C23) -> 0 | F23: =SUMIFS('15년일입'!$I$7:$I$633,'15년일입'!$A$7:$A$633,'15년위원회별'!$A23,'15년일입'!$B$7:$B$633,'15년위원회별'!$C23) -> 0 | G23: =SUMIFS('15년일입'!$J$7:$J$633,'15년일입'!$A$7:$A$633,'15년위원회별'!$A23,'15년일입'!$B$7:$B$633,'15년위원회별'!$C23) -> 0 | H23: =SUMIFS('15년일입'!$T$7:$T$633,'15년일입'!$A$7:$A$633,'15년위원회별'!$A23,'15년일입'!$B$7:$B$633,'15년위원회별'!$C23) -> 0 | I23: =SUMIFS('15년일입'!$U$7:$U$633,'15년일입'!$A$7:$A$633,'15년위원회별'!$A23,'15년일입'!$B$7:$B$633,'15년위원회별'!$C23) -> 0 | J23: =SUMIFS('15년일입'!$K$7:$K$633,'15년일입'!$A$7:$A$633,'15년위원회별'!$A23,'15년일입'!$B$7:$B$633,'15년위원회별'!$C23) -> 0 | K23: =SUMIFS('15년일입'!$L$7:$L$633,'15년일입'!$A$7:$A$633,'15년위원회별'!$A23,'15년일입'!$B$7:$B$633,'15년위원회별'!$C23) -> 0 | L23: =SUMIFS('15년일입'!$M$7:$M$633,'15년일입'!$A$7:$A$633,'15년위원회별'!$A23,'15년일입'!$B$7:$B$633,'15년위원회별'!$C23) -> 0 | M23: =SUMIFS('15년일입'!$Y$7:$Y$633,'15년일입'!$A$7:$A$633,'15년위원회별'!$A23,'15년일입'!$B$7:$B$633,'15년위원회별'!$C23) -> 0 | N23: =SUMIFS('15년일입'!$Z$7:$Z$633,'15년일입'!$A$7:$A$633,'15년위원회별'!$A23,'15년일입'!$B$7:$B$633,'15년위원회별'!$C23) -> 0 | P23: =SUMIFS('15년일출'!$H$7:$H$688,'15년일출'!$B$7:$B$688,'15년위원회별'!$A23,'15년일출'!$C$7:$C$688,'15년위원회별'!$C23) -> 0 | Q23: =SUMIFS('15년일출'!$I$7:$I$688,'15년일출'!$B$7:$B$688,'15년위원회별'!$A23,'15년일출'!$C$7:$C$688,'15년위원회별'!$C23) -> 0 | R23: =SUMIFS('15년일출'!$J$7:$J$688,'15년일출'!$B$7:$B$688,'15년위원회별'!$A23,'15년일출'!$C$7:$C$688,'15년위원회별'!$C23) -> 0 | S23: =SUMIFS('15년일출'!$K$7:$K$688,'15년일출'!$B$7:$B$688,'15년위원회별'!$A23,'15년일출'!$C$7:$C$688,'15년위원회별'!$C23) -> 0 | T23: =SUMIFS('15년일출'!$U$7:$U$688,'15년일출'!$B$7:$B$688,'15년위원회별'!$A23,'15년일출'!$C$7:$C$688,'15년위원회별'!$C23) -> 0 | U23: =SUMIFS('15년일출'!$V$7:$V$688,'15년일출'!$B$7:$B$688,'15년위원회별'!$A23,'15년일출'!$C$7:$C$688,'15년위원회별'!$C23) -> 0 | V23: =SUMIFS('15년일출'!$L$7:$L$688,'15년일출'!$B$7:$B$688,'15년위원회별'!$A23,'15년일출'!$C$7:$C$688,'15년위원회별'!$C23) -> 0 | W23: =SUMIFS('15년일출'!$M$7:$M$688,'15년일출'!$B$7:$B$688,'15년위원회별'!$A23,'15년일출'!$C$7:$C$688,'15년위원회별'!$C23) -> 0 | X23: =SUMIFS('15년일출'!$N$7:$N$688,'15년일출'!$B$7:$B$688,'15년위원회별'!$A23,'15년일출'!$C$7:$C$688,'15년위원회별'!$C23) -> 0 | Y23: =SUMIFS('15년일출'!$Z$7:$Z$688,'15년일출'!$B$7:$B$688,'15년위원회별'!$A23,'15년일출'!$C$7:$C$688,'15년위원회별'!$C23) -> 0 | Z23: =SUMIFS('15년일출'!$AA$7:$AA$688,'15년일출'!$B$7:$B$688,'15년위원회별'!$A23,'15년일출'!$C$7:$C$688,'15년위원회별'!$C23) -> 0
B24: 농정해양위원회 | D24: =SUM(D25:D27) -> 0 | E24: =SUM(E25:E27) -> 0 | F24: =SUM(F25:F27) -> 0 | G24: =SUM(G25:G27) -> 0 | H24: =SUM(H25:H27) -> 0 | I24: =SUM(I25:I27) -> 0 | J24: =SUM(J25:J27) -> 0 | K24: =SUM(K25:K27) -> 0 | ... N24: =SUM(N25:N27) -> 0 | P24: =SUM(P25:P27) -> 0 | Q24: =SUM(Q25:Q27) -> 0 | R24: =SUM(R25:R27) -> 0 | S24: =SUM(S25:S27) -> 0 | T24: =SUM(T25:T27) -> 0 | U24: =SUM(U25:U27) -> 0 | V24: =SUM(V25:V27) -> 0 | W24: =SUM(W25:W27) -> 0 | ... Z24: =SUM(Z25:Z27) -> 0
A25: 농정해양위원회 | C25: 농정해양국 | D25: =SUMIFS('15년일입'!$G$7:$G$633,'15년일입'!$A$7:$A$633,'15년위원회별'!$A25,'15년일입'!$B$7:$B$633,'15년위원회별'!$C25) -> 0 | E25: =SUMIFS('15년일입'!$H$7:$H$633,'15년일입'!$A$7:$A$633,'15년위원회별'!$A25,'15년일입'!$B$7:$B$633,'15년위원회별'!$C25) -> 0 | F25: =SUMIFS('15년일입'!$I$7:$I$633,'15년일입'!$A$7:$A$633,'15년위원회별'!$A25,'15년일입'!$B$7:$B$633,'15년위원회별'!$C25) -> 0 | G25: =SUMIFS('15년일입'!$J$7:$J$633,'15년일입'!$A$7:$A$633,'15년위원회별'!$A25,'15년일입'!$B$7:$B$633,'15년위원회별'!$C25) -> 0 | H25: =SUMIFS('15년일입'!$T$7:$T$633,'15년일입'!$A$7:$A$633,'15년위원회별'!$A25,'15년일입'!$B$7:$B$633,'15년위원회별'!$C25) -> 0 | I25: =SUMIFS('15년일입'!$U$7:$U$633,'15년일입'!$A$7:$A$633,'15년위원회별'!$A25,'15년일입'!$B$7:$B$633,'15년위원회별'!$C25) -> 0 | J25: =SUMIFS('15년일입'!$K$7:$K$633,'15년일입'!$A$7:$A$633,'15년위원회별'!$A25,'15년일입'!$B$7:$B$633,'15년위원회별'!$C25) -> 0 | K25: =SUMIFS('15년일입'!$L$7:$L$633,'15년일입'!$A$7:$A$633,'15년위원회별'!$A25,'15년일입'!$B$7:$B$633,'15년위원회별'!$C25) -> 0 | L25: =SUMIFS('15년일입'!$M$7:$M$633,'15년일입'!$A$7:$A$633,'15년위원회별'!$A25,'15년일입'!$B$7:$B$633,'15년위원회별'!$C25) -> 0 | M25: =SUMIFS('15년일입'!$Y$7:$Y$633,'15년일입'!$A$7:$A$633,'15년위원회별'!$A25,'15년일입'!$B$7:$B$633,'15년위원회별'!$C25) -> 0 | N25: =SUMIFS('15년일입'!$Z$7:$Z$633,'15년일입'!$A$7:$A$633,'15년위원회별'!$A25,'15년일입'!$B$7:$B$633,'15년위원회별'!$C25) -> 0 | P25: =SUMIFS('15년일출'!$H$7:$H$688,'15년일출'!$B$7:$B$688,'15년위원회별'!$A25,'15년일출'!$C$7:$C$688,'15년위원회별'!$C25) -> 0 | Q25: =SUMIFS('15년일출'!$I$7:$I$688,'15년일출'!$B$7:$B$688,'15년위원회별'!$A25,'15년일출'!$C$7:$C$688,'15년위원회별'!$C25) -> 0 | R25: =SUMIFS('15년일출'!$J$7:$J$688,'15년일출'!$B$7:$B$688,'15년위원회별'!$A25,'15년일출'!$C$7:$C$688,'15년위원회별'!$C25) -> 0 | S25: =SUMIFS('15년일출'!$K$7:$K$688,'15년일출'!$B$7:$B$688,'15년위원회별'!$A25,'15년일출'!$C$7:$C$688,'15년위원회별'!$C25) -> 0 | T25: =SUMIFS('15년일출'!$U$7:$U$688,'15년일출'!$B$7:$B$688,'15년위원회별'!$A25,'15년일출'!$C$7:$C$688,'15년위원회별'!$C25) -> 0 | U25: =SUMIFS('15년일출'!$V$7:$V$688,'15년일출'!$B$7:$B$688,'15년위원회별'!$A25,'15년일출'!$C$7:$C$688,'15년위원회별'!$C25) -> 0 | V25: =SUMIFS('15년일출'!$L$7:$L$688,'15년일출'!$B$7:$B$688,'15년위원회별'!$A25,'15년일출'!$C$7:$C$688,'15년위원회별'!$C25) -> 0 | W25: =SUMIFS('15년일출'!$M$7:$M$688,'15년일출'!$B$7:$B$688,'15년위원회별'!$A25,'15년일출'!$C$7:$C$688,'15년위원회별'!$C25) -> 0 | X25: =SUMIFS('15년일출'!$N$7:$N$688,'15년일출'!$B$7:$B$688,'15년위원회별'!$A25,'15년일출'!$C$7:$C$688,'15년위원회별'!$C25) -> 0 | Y25: =SUMIFS('15년일출'!$Z$7:$Z$688,'15년일출'!$B$7:$B$688,'15년위원회별'!$A25,'15년일출'!$C$7:$C$688,'15년위원회별'!$C25) -> 0 | Z25: =SUMIFS('15년일출'!$AA$7:$AA$688,'15년일출'!$B$7:$B$688,'15년위원회별'!$A25,'15년일출'!$C$7:$C$688,'15년위원회별'!$C25) -> 0
A26: 농정해양위원회 | C26: 축산산림국 | D26: =SUMIFS('15년일입'!$G$7:$G$633,'15년일입'!$A$7:$A$633,'15년위원회별'!$A26,'15년일입'!$B$7:$B$633,'15년위원회별'!$C26) -> 0 | E26: =SUMIFS('15년일입'!$H$7:$H$633,'15년일입'!$A$7:$A$633,'15년위원회별'!$A26,'15년일입'!$B$7:$B$633,'15년위원회별'!$C26) -> 0 | F26: =SUMIFS('15년일입'!$I$7:$I$633,'15년일입'!$A$7:$A$633,'15년위원회별'!$A26,'15년일입'!$B$7:$B$633,'15년위원회별'!$C26) -> 0 | G26: =SUMIFS('15년일입'!$J$7:$J$633,'15년일입'!$A$7:$A$633,'15년위원회별'!$A26,'15년일입'!$B$7:$B$633,'15년위원회별'!$C26) -> 0 | H26: =SUMIFS('15년일입'!$T$7:$T$633,'15년일입'!$A$7:$A$633,'15년위원회별'!$A26,'15년일입'!$B$7:$B$633,'15년위원회별'!$C26) -> 0 | I26: =SUMIFS('15년일입'!$U$7:$U$633,'15년일입'!$A$7:$A$633,'15년위원회별'!$A26,'15년일입'!$B$7:$B$633,'15년위원회별'!$C26) -> 0 | J26: =SUMIFS('15년일입'!$K$7:$K$633,'15년일입'!$A$7:$A$633,'15년위원회별'!$A26,'15년일입'!$B$7:$B$633,'15년위원회별'!$C26) -> 0 | K26: =SUMIFS('15년일입'!$L$7:$L$633,'15년일입'!$A$7:$A$633,'15년위원회별'!$A26,'15년일입'!$B$7:$B$633,'15년위원회별'!$C26) -> 0 | L26: =SUMIFS('15년일입'!$M$7:$M$633,'15년일입'!$A$7:$A$633,'15년위원회별'!$A26,'15년일입'!$B$7:$B$633,'15년위원회별'!$C26) -> 0 | M26: =SUMIFS('15년일입'!$Y$7:$Y$633,'15년일입'!$A$7:$A$633,'15년위원회별'!$A26,'15년일입'!$B$7:$B$633,'15년위원회별'!$C26) -> 0 | N26: =SUMIFS('15년일입'!$Z$7:$Z$633,'15년일입'!$A$7:$A$633,'15년위원회별'!$A26,'15년일입'!$B$7:$B$633,'15년위원회별'!$C26) -> 0 | P26: =SUMIFS('15년일출'!$H$7:$H$688,'15년일출'!$B$7:$B$688,'15년위원회별'!$A26,'15년일출'!$C$7:$C$688,'15년위원회별'!$C26) -> 0 | Q26: =SUMIFS('15년일출'!$I$7:$I$688,'15년일출'!$B$7:$B$688,'15년위원회별'!$A26,'15년일출'!$C$7:$C$688,'15년위원회별'!$C26) -> 0 | R26: =SUMIFS('15년일출'!$J$7:$J$688,'15년일출'!$B$7:$B$688,'15년위원회별'!$A26,'15년일출'!$C$7:$C$688,'15년위원회별'!$C26) -> 0 | S26: =SUMIFS('15년일출'!$K$7:$K$688,'15년일출'!$B$7:$B$688,'15년위원회별'!$A26,'15년일출'!$C$7:$C$688,'15년위원회별'!$C26) -> 0 | T26: =SUMIFS('15년일출'!$U$7:$U$688,'15년일출'!$B$7:$B$688,'15년위원회별'!$A26,'15년일출'!$C$7:$C$688,'15년위원회별'!$C26) -> 0 | U26: =SUMIFS('15년일출'!$V$7:$V$688,'15년일출'!$B$7:$B$688,'15년위원회별'!$A26,'15년일출'!$C$7:$C$688,'15년위원회별'!$C26) -> 0 | V26: =SUMIFS('15년일출'!$L$7:$L$688,'15년일출'!$B$7:$B$688,'15년위원회별'!$A26,'15년일출'!$C$7:$C$688,'15년위원회별'!$C26) -> 0 | W26: =SUMIFS('15년일출'!$M$7:$M$688,'15년일출'!$B$7:$B$688,'15년위원회별'!$A26,'15년일출'!$C$7:$C$688,'15년위원회별'!$C26) -> 0 | X26: =SUMIFS('15년일출'!$N$7:$N$688,'15년일출'!$B$7:$B$688,'15년위원회별'!$A26,'15년일출'!$C$7:$C$688,'15년위원회별'!$C26) -> 0 | Y26: =SUMIFS('15년일출'!$Z$7:$Z$688,'15년일출'!$B$7:$B$688,'15년위원회별'!$A26,'15년일출'!$C$7:$C$688,'15년위원회별'!$C26) -> 0 | Z26: =SUMIFS('15년일출'!$AA$7:$AA$688,'15년일출'!$B$7:$B$688,'15년위원회별'!$A26,'15년일출'!$C$7:$C$688,'15년위원회별'!$C26) -> 0
A27: 농정해양위원회 | C27: 농업기술원 | D27: =SUMIFS('15년일입'!$G$7:$G$633,'15년일입'!$A$7:$A$633,'15년위원회별'!$A27,'15년일입'!$B$7:$B$633,'15년위원회별'!$C27) -> 0 | E27: =SUMIFS('15년일입'!$H$7:$H$633,'15년일입'!$A$7:$A$633,'15년위원회별'!$A27,'15년일입'!$B$7:$B$633,'15년위원회별'!$C27) -> 0 | F27: =SUMIFS('15년일입'!$I$7:$I$633,'15년일입'!$A$7:$A$633,'15년위원회별'!$A27,'15년일입'!$B$7:$B$633,'15년위원회별'!$C27) -> 0 | G27: =SUMIFS('15년일입'!$J$7:$J$633,'15년일입'!$A$7:$A$633,'15년위원회별'!$A27,'15년일입'!$B$7:$B$633,'15년위원회별'!$C27) -> 0 | H27: =SUMIFS('15년일입'!$T$7:$T$633,'15년일입'!$A$7:$A$633,'15년위원회별'!$A27,'15년일입'!$B$7:$B$633,'15년위원회별'!$C27) -> 0 | I27: =SUMIFS('15년일입'!$U$7:$U$633,'15년일입'!$A$7:$A$633,'15년위원회별'!$A27,'15년일입'!$B$7:$B$633,'15년위원회별'!$C27) -> 0 | J27: =SUMIFS('15년일입'!$K$7:$K$633,'15년일입'!$A$7:$A$633,'15년위원회별'!$A27,'15년일입'!$B$7:$B$633,'15년위원회별'!$C27) -> 0 | K27: =SUMIFS('15년일입'!$L$7:$L$633,'15년일입'!$A$7:$A$633,'15년위원회별'!$A27,'15년일입'!$B$7:$B$633,'15년위원회별'!$C27) -> 0 | L27: =SUMIFS('15년일입'!$M$7:$M$633,'15년일입'!$A$7:$A$633,'15년위원회별'!$A27,'15년일입'!$B$7:$B$633,'15년위원회별'!$C27) -> 0 | M27: =SUMIFS('15년일입'!$Y$7:$Y$633,'15년일입'!$A$7:$A$633,'15년위원회별'!$A27,'15년일입'!$B$7:$B$633,'15년위원회별'!$C27) -> 0 | N27: =SUMIFS('15년일입'!$Z$7:$Z$633,'15년일입'!$A$7:$A$633,'15년위원회별'!$A27,'15년일입'!$B$7:$B$633,'15년위원회별'!$C27) -> 0 | P27: =SUMIFS('15년일출'!$H$7:$H$688,'15년일출'!$B$7:$B$688,'15년위원회별'!$A27,'15년일출'!$C$7:$C$688,'15년위원회별'!$C27) -> 0 | Q27: =SUMIFS('15년일출'!$I$7:$I$688,'15년일출'!$B$7:$B$688,'15년위원회별'!$A27,'15년일출'!$C$7:$C$688,'15년위원회별'!$C27) -> 0 | R27: =SUMIFS('15년일출'!$J$7:$J$688,'15년일출'!$B$7:$B$688,'15년위원회별'!$A27,'15년일출'!$C$7:$C$688,'15년위원회별'!$C27) -> 0 | S27: =SUMIFS('15년일출'!$K$7:$K$688,'15년일출'!$B$7:$B$688,'15년위원회별'!$A27,'15년일출'!$C$7:$C$688,'15년위원회별'!$C27) -> 0 | T27: =SUMIFS('15년일출'!$U$7:$U$688,'15년일출'!$B$7:$B$688,'15년위원회별'!$A27,'15년일출'!$C$7:$C$688,'15년위원회별'!$C27) -> 0 | U27: =SUMIFS('15년일출'!$V$7:$V$688,'15년일출'!$B$7:$B$688,'15년위원회별'!$A27,'15년일출'!$C$7:$C$688,'15년위원회별'!$C27) -> 0 | V27: =SUMIFS('15년일출'!$L$7:$L$688,'15년일출'!$B$7:$B$688,'15년위원회별'!$A27,'15년일출'!$C$7:$C$688,'15년위원회별'!$C27) -> 0 | W27: =SUMIFS('15년일출'!$M$7:$M$688,'15년일출'!$B$7:$B$688,'15년위원회별'!$A27,'15년일출'!$C$7:$C$688,'15년위원회별'!$C27) -> 0 | X27: =SUMIFS('15년일출'!$N$7:$N$688,'15년일출'!$B$7:$B$688,'15년위원회별'!$A27,'15년일출'!$C$7:$C$688,'15년위원회별'!$C27) -> 0 | Y27: =SUMIFS('15년일출'!$Z$7:$Z$688,'15년일출'!$B$7:$B$688,'15년위원회별'!$A27,'15년일출'!$C$7:$C$688,'15년위원회별'!$C27) -> 0 | Z27: =SUMIFS('15년일출'!$AA$7:$AA$688,'15년일출'!$B$7:$B$688,'15년위원회별'!$A27,'15년일출'!$C$7:$C$688,'15년위원회별'!$C27) -> 0
B28: 보건복지위원회 | D28: =SUM(D29:D31) -> 0 | E28: =SUM(E29:E31) -> 0 | F28: =SUM(F29:F31) -> 0 | G28: =SUM(G29:G31) -> 0 | H28: =SUM(H29:H31) -> 0 | I28: =SUM(I29:I31) -> 0 | J28: =SUM(J29:J31) -> 0 | K28: =SUM(K29:K31) -> 0 | ... N28: =SUM(N29:N31) -> 0 | P28: =SUM(P29:P31) -> 0 | Q28: =SUM(Q29:Q31) -> 0 | R28: =SUM(R29:R31) -> 10000 | S28: =SUM(S29:S31) -> 10000 | T28: =SUM(T29:T31) -> 10000 | U28: =SUM(U29:U31) -> 0 | V28: =SUM(V29:V31) -> 0 | W28: =SUM(W29:W31) -> 0 | ... Z28: =SUM(Z29:Z31) -> 0
A29: 보건복지위원회 | C29: 보건복지국 | D29: =SUMIFS('15년일입'!$G$7:$G$633,'15년일입'!$A$7:$A$633,'15년위원회별'!$A29,'15년일입'!$B$7:$B$633,'15년위원회별'!$C29) -> 0 | E29: =SUMIFS('15년일입'!$H$7:$H$633,'15년일입'!$A$7:$A$633,'15년위원회별'!$A29,'15년일입'!$B$7:$B$633,'15년위원회별'!$C29) -> 0 | F29: =SUMIFS('15년일입'!$I$7:$I$633,'15년일입'!$A$7:$A$633,'15년위원회별'!$A29,'15년일입'!$B$7:$B$633,'15년위원회별'!$C29) -> 0 | G29: =SUMIFS('15년일입'!$J$7:$J$633,'15년일입'!$A$7:$A$633,'15년위원회별'!$A29,'15년일입'!$B$7:$B$633,'15년위원회별'!$C29) -> 0 | H29: =SUMIFS('15년일입'!$T$7:$T$633,'15년일입'!$A$7:$A$633,'15년위원회별'!$A29,'15년일입'!$B$7:$B$633,'15년위원회별'!$C29) -> 0 | I29: =SUMIFS('15년일입'!$U$7:$U$633,'15년일입'!$A$7:$A$633,'15년위원회별'!$A29,'15년일입'!$B$7:$B$633,'15년위원회별'!$C29) -> 0 | J29: =SUMIFS('15년일입'!$K$7:$K$633,'15년일입'!$A$7:$A$633,'15년위원회별'!$A29,'15년일입'!$B$7:$B$633,'15년위원회별'!$C29) -> 0 | K29: =SUMIFS('15년일입'!$L$7:$L$633,'15년일입'!$A$7:$A$633,'15년위원회별'!$A29,'15년일입'!$B$7:$B$633,'15년위원회별'!$C29) -> 0 | L29: =SUMIFS('15년일입'!$M$7:$M$633,'15년일입'!$A$7:$A$633,'15년위원회별'!$A29,'15년일입'!$B$7:$B$633,'15년위원회별'!$C29) -> 0 | M29: =SUMIFS('15년일입'!$Y$7:$Y$633,'15년일입'!$A$7:$A$633,'15년위원회별'!$A29,'15년일입'!$B$7:$B$633,'15년위원회별'!$C29) -> 0 | N29: =SUMIFS('15년일입'!$Z$7:$Z$633,'15년일입'!$A$7:$A$633,'15년위원회별'!$A29,'15년일입'!$B$7:$B$633,'15년위원회별'!$C29) -> 0 | P29: =SUMIFS('15년일출'!$H$7:$H$688,'15년일출'!$B$7:$B$688,'15년위원회별'!$A29,'15년일출'!$C$7:$C$688,'15년위원회별'!$C29) -> 0 | Q29: =SUMIFS('15년일출'!$I$7:$I$688,'15년일출'!$B$7:$B$688,'15년위원회별'!$A29,'15년일출'!$C$7:$C$688,'15년위원회별'!$C29) -> 0 | R29: =SUMIFS('15년일출'!$J$7:$J$688,'15년일출'!$B$7:$B$688,'15년위원회별'!$A29,'15년일출'!$C$7:$C$688,'15년위원회별'!$C29) -> 0 | S29: =SUMIFS('15년일출'!$K$7:$K$688,'15년일출'!$B$7:$B$688,'15년위원회별'!$A29,'15년일출'!$C$7:$C$688,'15년위원회별'!$C29) -> 0 | T29: =SUMIFS('15년일출'!$U$7:$U$688,'15년일출'!$B$7:$B$688,'15년위원회별'!$A29,'15년일출'!$C$7:$C$688,'15년위원회별'!$C29) -> 0 | U29: =SUMIFS('15년일출'!$V$7:$V$688,'15년일출'!$B$7:$B$688,'15년위원회별'!$A29,'15년일출'!$C$7:$C$688,'15년위원회별'!$C29) -> 0 | V29: =SUMIFS('15년일출'!$L$7:$L$688,'15년일출'!$B$7:$B$688,'15년위원회별'!$A29,'15년일출'!$C$7:$C$688,'15년위원회별'!$C29) -> 0 | W29: =SUMIFS('15년일출'!$M$7:$M$688,'15년일출'!$B$7:$B$688,'15년위원회별'!$A29,'15년일출'!$C$7:$C$688,'15년위원회별'!$C29) -> 0 | X29: =SUMIFS('15년일출'!$N$7:$N$688,'15년일출'!$B$7:$B$688,'15년위원회별'!$A29,'15년일출'!$C$7:$C$688,'15년위원회별'!$C29) -> 0 | Y29: =SUMIFS('15년일출'!$Z$7:$Z$688,'15년일출'!$B$7:$B$688,'15년위원회별'!$A29,'15년일출'!$C$7:$C$688,'15년위원회별'!$C29) -> 0 | Z29: =SUMIFS('15년일출'!$AA$7:$AA$688,'15년일출'!$B$7:$B$688,'15년위원회별'!$A29,'15년일출'!$C$7:$C$688,'15년위원회별'!$C29) -> 0
A30: 보건복지위원회 | C30: 복지여성실 | D30: =SUMIFS('15년일입'!$G$7:$G$633,'15년일입'!$A$7:$A$633,'15년위원회별'!$A30,'15년일입'!$B$7:$B$633,'15년위원회별'!$C30) -> 0 | E30: =SUMIFS('15년일입'!$H$7:$H$633,'15년일입'!$A$7:$A$633,'15년위원회별'!$A30,'15년일입'!$B$7:$B$633,'15년위원회별'!$C30) -> 0 | F30: =SUMIFS('15년일입'!$I$7:$I$633,'15년일입'!$A$7:$A$633,'15년위원회별'!$A30,'15년일입'!$B$7:$B$633,'15년위원회별'!$C30) -> 0 | G30: =SUMIFS('15년일입'!$J$7:$J$633,'15년일입'!$A$7:$A$633,'15년위원회별'!$A30,'15년일입'!$B$7:$B$633,'15년위원회별'!$C30) -> 0 | H30: =SUMIFS('15년일입'!$T$7:$T$633,'15년일입'!$A$7:$A$633,'15년위원회별'!$A30,'15년일입'!$B$7:$B$633,'15년위원회별'!$C30) -> 0 | I30: =SUMIFS('15년일입'!$U$7:$U$633,'15년일입'!$A$7:$A$633,'15년위원회별'!$A30,'15년일입'!$B$7:$B$633,'15년위원회별'!$C30) -> 0 | J30: =SUMIFS('15년일입'!$K$7:$K$633,'15년일입'!$A$7:$A$633,'15년위원회별'!$A30,'15년일입'!$B$7:$B$633,'15년위원회별'!$C30) -> 0 | K30: =SUMIFS('15년일입'!$L$7:$L$633,'15년일입'!$A$7:$A$633,'15년위원회별'!$A30,'15년일입'!$B$7:$B$633,'15년위원회별'!$C30) -> 0 | L30: =SUMIFS('15년일입'!$M$7:$M$633,'15년일입'!$A$7:$A$633,'15년위원회별'!$A30,'15년일입'!$B$7:$B$633,'15년위원회별'!$C30) -> 0 | M30: =SUMIFS('15년일입'!$Y$7:$Y$633,'15년일입'!$A$7:$A$633,'15년위원회별'!$A30,'15년일입'!$B$7:$B$633,'15년위원회별'!$C30) -> 0 | N30: =SUMIFS('15년일입'!$Z$7:$Z$633,'15년일입'!$A$7:$A$633,'15년위원회별'!$A30,'15년일입'!$B$7:$B$633,'15년위원회별'!$C30) -> 0 | P30: =SUMIFS('15년일출'!$H$7:$H$688,'15년일출'!$B$7:$B$688,'15년위원회별'!$A30,'15년일출'!$C$7:$C$688,'15년위원회별'!$C30) -> 0 | Q30: =SUMIFS('15년일출'!$I$7:$I$688,'15년일출'!$B$7:$B$688,'15년위원회별'!$A30,'15년일출'!$C$7:$C$688,'15년위원회별'!$C30) -> 0 | R30: =SUMIFS('15년일출'!$J$7:$J$688,'15년일출'!$B$7:$B$688,'15년위원회별'!$A30,'15년일출'!$C$7:$C$688,'15년위원회별'!$C30) -> 0 | S30: =SUMIFS('15년일출'!$K$7:$K$688,'15년일출'!$B$7:$B$688,'15년위원회별'!$A30,'15년일출'!$C$7:$C$688,'15년위원회별'!$C30) -> 0 | T30: =SUMIFS('15년일출'!$U$7:$U$688,'15년일출'!$B$7:$B$688,'15년위원회별'!$A30,'15년일출'!$C$7:$C$688,'15년위원회별'!$C30) -> 0 | U30: =SUMIFS('15년일출'!$V$7:$V$688,'15년일출'!$B$7:$B$688,'15년위원회별'!$A30,'15년일출'!$C$7:$C$688,'15년위원회별'!$C30) -> 0 | V30: =SUMIFS('15년일출'!$L$7:$L$688,'15년일출'!$B$7:$B$688,'15년위원회별'!$A30,'15년일출'!$C$7:$C$688,'15년위원회별'!$C30) -> 0 | W30: =SUMIFS('15년일출'!$M$7:$M$688,'15년일출'!$B$7:$B$688,'15년위원회별'!$A30,'15년일출'!$C$7:$C$688,'15년위원회별'!$C30) -> 0 | X30: =SUMIFS('15년일출'!$N$7:$N$688,'15년일출'!$B$7:$B$688,'15년위원회별'!$A30,'15년일출'!$C$7:$C$688,'15년위원회별'!$C30) -> 0 | Y30: =SUMIFS('15년일출'!$Z$7:$Z$688,'15년일출'!$B$7:$B$688,'15년위원회별'!$A30,'15년일출'!$C$7:$C$688,'15년위원회별'!$C30) -> 0 | Z30: =SUMIFS('15년일출'!$AA$7:$AA$688,'15년일출'!$B$7:$B$688,'15년위원회별'!$A30,'15년일출'!$C$7:$C$688,'15년위원회별'!$C30) -> 0
A31: 보건복지위원회 | C31: 보건환경연구원 | D31: =SUMIFS('15년일입'!$G$7:$G$633,'15년일입'!$A$7:$A$633,'15년위원회별'!$A31,'15년일입'!$B$7:$B$633,'15년위원회별'!$C31) -> 0 | E31: =SUMIFS('15년일입'!$H$7:$H$633,'15년일입'!$A$7:$A$633,'15년위원회별'!$A31,'15년일입'!$B$7:$B$633,'15년위원회별'!$C31) -> 0 | F31: =SUMIFS('15년일입'!$I$7:$I$633,'15년일입'!$A$7:$A$633,'15년위원회별'!$A31,'15년일입'!$B$7:$B$633,'15년위원회별'!$C31) -> 0 | G31: =SUMIFS('15년일입'!$J$7:$J$633,'15년일입'!$A$7:$A$633,'15년위원회별'!$A31,'15년일입'!$B$7:$B$633,'15년위원회별'!$C31) -> 0 | H31: =SUMIFS('15년일입'!$T$7:$T$633,'15년일입'!$A$7:$A$633,'15년위원회별'!$A31,'15년일입'!$B$7:$B$633,'15년위원회별'!$C31) -> 0 | I31: =SUMIFS('15년일입'!$U$7:$U$633,'15년일입'!$A$7:$A$633,'15년위원회별'!$A31,'15년일입'!$B$7:$B$633,'15년위원회별'!$C31) -> 0 | J31: =SUMIFS('15년일입'!$K$7:$K$633,'15년일입'!$A$7:$A$633,'15년위원회별'!$A31,'15년일입'!$B$7:$B$633,'15년위원회별'!$C31) -> 0 | K31: =SUMIFS('15년일입'!$L$7:$L$633,'15년일입'!$A$7:$A$633,'15년위원회별'!$A31,'15년일입'!$B$7:$B$633,'15년위원회별'!$C31) -> 0 | L31: =SUMIFS('15년일입'!$M$7:$M$633,'15년일입'!$A$7:$A$633,'15년위원회별'!$A31,'15년일입'!$B$7:$B$633,'15년위원회별'!$C31) -> 0 | M31: =SUMIFS('15년일입'!$Y$7:$Y$633,'15년일입'!$A$7:$A$633,'15년위원회별'!$A31,'15년일입'!$B$7:$B$633,'15년위원회별'!$C31) -> 0 | N31: =SUMIFS('15년일입'!$Z$7:$Z$633,'15년일입'!$A$7:$A$633,'15년위원회별'!$A31,'15년일입'!$B$7:$B$633,'15년위원회별'!$C31) -> 0 | P31: =SUMIFS('15년일출'!$H$7:$H$688,'15년일출'!$B$7:$B$688,'15년위원회별'!$A31,'15년일출'!$C$7:$C$688,'15년위원회별'!$C31) -> 0 | Q31: =SUMIFS('15년일출'!$I$7:$I$688,'15년일출'!$B$7:$B$688,'15년위원회별'!$A31,'15년일출'!$C$7:$C$688,'15년위원회별'!$C31) -> 0 | R31: =SUMIFS('15년일출'!$J$7:$J$688,'15년일출'!$B$7:$B$688,'15년위원회별'!$A31,'15년일출'!$C$7:$C$688,'15년위원회별'!$C31) -> 10000 | S31: =SUMIFS('15년일출'!$K$7:$K$688,'15년일출'!$B$7:$B$688,'15년위원회별'!$A31,'15년일출'!$C$7:$C$688,'15년위원회별'!$C31) -> 10000 | T31: =SUMIFS('15년일출'!$U$7:$U$688,'15년일출'!$B$7:$B$688,'15년위원회별'!$A31,'15년일출'!$C$7:$C$688,'15년위원회별'!$C31) -> 10000 | U31: =SUMIFS('15년일출'!$V$7:$V$688,'15년일출'!$B$7:$B$688,'15년위원회별'!$A31,'15년일출'!$C$7:$C$688,'15년위원회별'!$C31) -> 0 | V31: =SUMIFS('15년일출'!$L$7:$L$688,'15년일출'!$B$7:$B$688,'15년위원회별'!$A31,'15년일출'!$C$7:$C$688,'15년위원회별'!$C31) -> 0 | W31: =SUMIFS('15년일출'!$M$7:$M$688,'15년일출'!$B$7:$B$688,'15년위원회별'!$A31,'15년일출'!$C$7:$C$688,'15년위원회별'!$C31) -> 0 | X31: =SUMIFS('15년일출'!$N$7:$N$688,'15년일출'!$B$7:$B$688,'15년위원회별'!$A31,'15년일출'!$C$7:$C$688,'15년위원회별'!$C31) -> 0 | Y31: =SUMIFS('15년일출'!$Z$7:$Z$688,'15년일출'!$B$7:$B$688,'15년위원회별'!$A31,'15년일출'!$C$7:$C$688,'15년위원회별'!$C31) -> 0 | Z31: =SUMIFS('15년일출'!$AA$7:$AA$688,'15년일출'!$B$7:$B$688,'15년위원회별'!$A31,'15년일출'!$C$7:$C$688,'15년위원회별'!$C31) -> 0
B32: 건설교통위원회 | D32: =SUM(D33:D36) -> 0 | E32: =SUM(E33:E36) -> 0 | F32: =SUM(F33:F36) -> 0 | G32: =SUM(G33:G36) -> 0 | H32: =SUM(H33:H36) -> 0 | I32: =SUM(I33:I36) -> 0 | J32: =SUM(J33:J36) -> 0 | K32: =SUM(K33:K36) -> 0 | ... N32: =SUM(N33:N36) -> 0 | P32: =SUM(P33:P36) -> 0 | Q32: =SUM(Q33:Q36) -> 0 | R32: =SUM(R33:R36) -> 0 | S32: =SUM(S33:S36) -> 0 | T32: =SUM(T33:T36) -> 0 | U32: =SUM(U33:U36) -> 0 | V32: =SUM(V33:V36) -> 0 | W32: =SUM(W33:W36) -> 0 | ... Z32: =SUM(Z33:Z36) -> 0
A33: 건설교통위원회 | C33: 철도국 | D33: =SUMIFS('15년일입'!$G$7:$G$633,'15년일입'!$A$7:$A$633,'15년위원회별'!$A33,'15년일입'!$B$7:$B$633,'15년위원회별'!$C33) -> 0 | E33: =SUMIFS('15년일입'!$H$7:$H$633,'15년일입'!$A$7:$A$633,'15년위원회별'!$A33,'15년일입'!$B$7:$B$633,'15년위원회별'!$C33) -> 0 | F33: =SUMIFS('15년일입'!$I$7:$I$633,'15년일입'!$A$7:$A$633,'15년위원회별'!$A33,'15년일입'!$B$7:$B$633,'15년위원회별'!$C33) -> 0 | G33: =SUMIFS('15년일입'!$J$7:$J$633,'15년일입'!$A$7:$A$633,'15년위원회별'!$A33,'15년일입'!$B$7:$B$633,'15년위원회별'!$C33) -> 0 | H33: =SUMIFS('15년일입'!$T$7:$T$633,'15년일입'!$A$7:$A$633,'15년위원회별'!$A33,'15년일입'!$B$7:$B$633,'15년위원회별'!$C33) -> 0 | I33: =SUMIFS('15년일입'!$U$7:$U$633,'15년일입'!$A$7:$A$633,'15년위원회별'!$A33,'15년일입'!$B$7:$B$633,'15년위원회별'!$C33) -> 0 | J33: =SUMIFS('15년일입'!$K$7:$K$633,'15년일입'!$A$7:$A$633,'15년위원회별'!$A33,'15년일입'!$B$7:$B$633,'15년위원회별'!$C33) -> 0 | K33: =SUMIFS('15년일입'!$L$7:$L$633,'15년일입'!$A$7:$A$633,'15년위원회별'!$A33,'15년일입'!$B$7:$B$633,'15년위원회별'!$C33) -> 0 | L33: =SUMIFS('15년일입'!$M$7:$M$633,'15년일입'!$A$7:$A$633,'15년위원회별'!$A33,'15년일입'!$B$7:$B$633,'15년위원회별'!$C33) -> 0 | M33: =SUMIFS('15년일입'!$Y$7:$Y$633,'15년일입'!$A$7:$A$633,'15년위원회별'!$A33,'15년일입'!$B$7:$B$633,'15년위원회별'!$C33) -> 0 | N33: =SUMIFS('15년일입'!$Z$7:$Z$633,'15년일입'!$A$7:$A$633,'15년위원회별'!$A33,'15년일입'!$B$7:$B$633,'15년위원회별'!$C33) -> 0 | P33: =SUMIFS('15년일출'!$H$7:$H$688,'15년일출'!$B$7:$B$688,'15년위원회별'!$A33,'15년일출'!$C$7:$C$688,'15년위원회별'!$C33) -> 0 | Q33: =SUMIFS('15년일출'!$I$7:$I$688,'15년일출'!$B$7:$B$688,'15년위원회별'!$A33,'15년일출'!$C$7:$C$688,'15년위원회별'!$C33) -> 0 | R33: =SUMIFS('15년일출'!$J$7:$J$688,'15년일출'!$B$7:$B$688,'15년위원회별'!$A33,'15년일출'!$C$7:$C$688,'15년위원회별'!$C33) -> 0 | S33: =SUMIFS('15년일출'!$K$7:$K$688,'15년일출'!$B$7:$B$688,'15년위원회별'!$A33,'15년일출'!$C$7:$C$688,'15년위원회별'!$C33) -> 0 | T33: =SUMIFS('15년일출'!$U$7:$U$688,'15년일출'!$B$7:$B$688,'15년위원회별'!$A33,'15년일출'!$C$7:$C$688,'15년위원회별'!$C33) -> 0 | U33: =SUMIFS('15년일출'!$V$7:$V$688,'15년일출'!$B$7:$B$688,'15년위원회별'!$A33,'15년일출'!$C$7:$C$688,'15년위원회별'!$C33) -> 0 | V33: =SUMIFS('15년일출'!$L$7:$L$688,'15년일출'!$B$7:$B$688,'15년위원회별'!$A33,'15년일출'!$C$7:$C$688,'15년위원회별'!$C33) -> 0 | W33: =SUMIFS('15년일출'!$M$7:$M$688,'15년일출'!$B$7:$B$688,'15년위원회별'!$A33,'15년일출'!$C$7:$C$688,'15년위원회별'!$C33) -> 0 | X33: =SUMIFS('15년일출'!$N$7:$N$688,'15년일출'!$B$7:$B$688,'15년위원회별'!$A33,'15년일출'!$C$7:$C$688,'15년위원회별'!$C33) -> 0 | Y33: =SUMIFS('15년일출'!$Z$7:$Z$688,'15년일출'!$B$7:$B$688,'15년위원회별'!$A33,'15년일출'!$C$7:$C$688,'15년위원회별'!$C33) -> 0 | Z33: =SUMIFS('15년일출'!$AA$7:$AA$688,'15년일출'!$B$7:$B$688,'15년위원회별'!$A33,'15년일출'!$C$7:$C$688,'15년위원회별'!$C33) -> 0
A34: 건설교통위원회 | C34: 교통국 | D34: =SUMIFS('15년일입'!$G$7:$G$633,'15년일입'!$A$7:$A$633,'15년위원회별'!$A34,'15년일입'!$B$7:$B$633,'15년위원회별'!$C34) -> 0 | E34: =SUMIFS('15년일입'!$H$7:$H$633,'15년일입'!$A$7:$A$633,'15년위원회별'!$A34,'15년일입'!$B$7:$B$633,'15년위원회별'!$C34) -> 0 | F34: =SUMIFS('15년일입'!$I$7:$I$633,'15년일입'!$A$7:$A$633,'15년위원회별'!$A34,'15년일입'!$B$7:$B$633,'15년위원회별'!$C34) -> 0 | G34: =SUMIFS('15년일입'!$J$7:$J$633,'15년일입'!$A$7:$A$633,'15년위원회별'!$A34,'15년일입'!$B$7:$B$633,'15년위원회별'!$C34) -> 0 | H34: =SUMIFS('15년일입'!$T$7:$T$633,'15년일입'!$A$7:$A$633,'15년위원회별'!$A34,'15년일입'!$B$7:$B$633,'15년위원회별'!$C34) -> 0 | I34: =SUMIFS('15년일입'!$U$7:$U$633,'15년일입'!$A$7:$A$633,'15년위원회별'!$A34,'15년일입'!$B$7:$B$633,'15년위원회별'!$C34) -> 0 | J34: =SUMIFS('15년일입'!$K$7:$K$633,'15년일입'!$A$7:$A$633,'15년위원회별'!$A34,'15년일입'!$B$7:$B$633,'15년위원회별'!$C34) -> 0 | K34: =SUMIFS('15년일입'!$L$7:$L$633,'15년일입'!$A$7:$A$633,'15년위원회별'!$A34,'15년일입'!$B$7:$B$633,'15년위원회별'!$C34) -> 0 | L34: =SUMIFS('15년일입'!$M$7:$M$633,'15년일입'!$A$7:$A$633,'15년위원회별'!$A34,'15년일입'!$B$7:$B$633,'15년위원회별'!$C34) -> 0 | M34: =SUMIFS('15년일입'!$Y$7:$Y$633,'15년일입'!$A$7:$A$633,'15년위원회별'!$A34,'15년일입'!$B$7:$B$633,'15년위원회별'!$C34) -> 0 | N34: =SUMIFS('15년일입'!$Z$7:$Z$633,'15년일입'!$A$7:$A$633,'15년위원회별'!$A34,'15년일입'!$B$7:$B$633,'15년위원회별'!$C34) -> 0 | P34: =SUMIFS('15년일출'!$H$7:$H$688,'15년일출'!$B$7:$B$688,'15년위원회별'!$A34,'15년일출'!$C$7:$C$688,'15년위원회별'!$C34) -> 0 | Q34: =SUMIFS('15년일출'!$I$7:$I$688,'15년일출'!$B$7:$B$688,'15년위원회별'!$A34,'15년일출'!$C$7:$C$688,'15년위원회별'!$C34) -> 0 | R34: =SUMIFS('15년일출'!$J$7:$J$688,'15년일출'!$B$7:$B$688,'15년위원회별'!$A34,'15년일출'!$C$7:$C$688,'15년위원회별'!$C34) -> 0 | S34: =SUMIFS('15년일출'!$K$7:$K$688,'15년일출'!$B$7:$B$688,'15년위원회별'!$A34,'15년일출'!$C$7:$C$688,'15년위원회별'!$C34) -> 0 | T34: =SUMIFS('15년일출'!$U$7:$U$688,'15년일출'!$B$7:$B$688,'15년위원회별'!$A34,'15년일출'!$C$7:$C$688,'15년위원회별'!$C34) -> 0 | U34: =SUMIFS('15년일출'!$V$7:$V$688,'15년일출'!$B$7:$B$688,'15년위원회별'!$A34,'15년일출'!$C$7:$C$688,'15년위원회별'!$C34) -> 0 | V34: =SUMIFS('15년일출'!$L$7:$L$688,'15년일출'!$B$7:$B$688,'15년위원회별'!$A34,'15년일출'!$C$7:$C$688,'15년위원회별'!$C34) -> 0 | W34: =SUMIFS('15년일출'!$M$7:$M$688,'15년일출'!$B$7:$B$688,'15년위원회별'!$A34,'15년일출'!$C$7:$C$688,'15년위원회별'!$C34) -> 0 | X34: =SUMIFS('15년일출'!$N$7:$N$688,'15년일출'!$B$7:$B$688,'15년위원회별'!$A34,'15년일출'!$C$7:$C$688,'15년위원회별'!$C34) -> 0 | Y34: =SUMIFS('15년일출'!$Z$7:$Z$688,'15년일출'!$B$7:$B$688,'15년위원회별'!$A34,'15년일출'!$C$7:$C$688,'15년위원회별'!$C34) -> 0 | Z34: =SUMIFS('15년일출'!$AA$7:$AA$688,'15년일출'!$B$7:$B$688,'15년위원회별'!$A34,'15년일출'!$C$7:$C$688,'15년위원회별'!$C34) -> 0
A35: 건설교통위원회 | C35: 건설국 | D35: =SUMIFS('15년일입'!$G$7:$G$633,'15년일입'!$A$7:$A$633,'15년위원회별'!$A35,'15년일입'!$B$7:$B$633,'15년위원회별'!$C35) -> 0 | E35: =SUMIFS('15년일입'!$H$7:$H$633,'15년일입'!$A$7:$A$633,'15년위원회별'!$A35,'15년일입'!$B$7:$B$633,'15년위원회별'!$C35) -> 0 | F35: =SUMIFS('15년일입'!$I$7:$I$633,'15년일입'!$A$7:$A$633,'15년위원회별'!$A35,'15년일입'!$B$7:$B$633,'15년위원회별'!$C35) -> 0 | G35: =SUMIFS('15년일입'!$J$7:$J$633,'15년일입'!$A$7:$A$633,'15년위원회별'!$A35,'15년일입'!$B$7:$B$633,'15년위원회별'!$C35) -> 0 | H35: =SUMIFS('15년일입'!$T$7:$T$633,'15년일입'!$A$7:$A$633,'15년위원회별'!$A35,'15년일입'!$B$7:$B$633,'15년위원회별'!$C35) -> 0 | I35: =SUMIFS('15년일입'!$U$7:$U$633,'15년일입'!$A$7:$A$633,'15년위원회별'!$A35,'15년일입'!$B$7:$B$633,'15년위원회별'!$C35) -> 0 | J35: =SUMIFS('15년일입'!$K$7:$K$633,'15년일입'!$A$7:$A$633,'15년위원회별'!$A35,'15년일입'!$B$7:$B$633,'15년위원회별'!$C35) -> 0 | K35: =SUMIFS('15년일입'!$L$7:$L$633,'15년일입'!$A$7:$A$633,'15년위원회별'!$A35,'15년일입'!$B$7:$B$633,'15년위원회별'!$C35) -> 0 | L35: =SUMIFS('15년일입'!$M$7:$M$633,'15년일입'!$A$7:$A$633,'15년위원회별'!$A35,'15년일입'!$B$7:$B$633,'15년위원회별'!$C35) -> 0 | M35: =SUMIFS('15년일입'!$Y$7:$Y$633,'15년일입'!$A$7:$A$633,'15년위원회별'!$A35,'15년일입'!$B$7:$B$633,'15년위원회별'!$C35) -> 0 | N35: =SUMIFS('15년일입'!$Z$7:$Z$633,'15년일입'!$A$7:$A$633,'15년위원회별'!$A35,'15년일입'!$B$7:$B$633,'15년위원회별'!$C35) -> 0 | P35: =SUMIFS('15년일출'!$H$7:$H$688,'15년일출'!$B$7:$B$688,'15년위원회별'!$A35,'15년일출'!$C$7:$C$688,'15년위원회별'!$C35) -> 0 | Q35: =SUMIFS('15년일출'!$I$7:$I$688,'15년일출'!$B$7:$B$688,'15년위원회별'!$A35,'15년일출'!$C$7:$C$688,'15년위원회별'!$C35) -> 0 | R35: =SUMIFS('15년일출'!$J$7:$J$688,'15년일출'!$B$7:$B$688,'15년위원회별'!$A35,'15년일출'!$C$7:$C$688,'15년위원회별'!$C35) -> 0 | S35: =SUMIFS('15년일출'!$K$7:$K$688,'15년일출'!$B$7:$B$688,'15년위원회별'!$A35,'15년일출'!$C$7:$C$688,'15년위원회별'!$C35) -> 0 | T35: =SUMIFS('15년일출'!$U$7:$U$688,'15년일출'!$B$7:$B$688,'15년위원회별'!$A35,'15년일출'!$C$7:$C$688,'15년위원회별'!$C35) -> 0 | U35: =SUMIFS('15년일출'!$V$7:$V$688,'15년일출'!$B$7:$B$688,'15년위원회별'!$A35,'15년일출'!$C$7:$C$688,'15년위원회별'!$C35) -> 0 | V35: =SUMIFS('15년일출'!$L$7:$L$688,'15년일출'!$B$7:$B$688,'15년위원회별'!$A35,'15년일출'!$C$7:$C$688,'15년위원회별'!$C35) -> 0 | W35: =SUMIFS('15년일출'!$M$7:$M$688,'15년일출'!$B$7:$B$688,'15년위원회별'!$A35,'15년일출'!$C$7:$C$688,'15년위원회별'!$C35) -> 0 | X35: =SUMIFS('15년일출'!$N$7:$N$688,'15년일출'!$B$7:$B$688,'15년위원회별'!$A35,'15년일출'!$C$7:$C$688,'15년위원회별'!$C35) -> 0 | Y35: =SUMIFS('15년일출'!$Z$7:$Z$688,'15년일출'!$B$7:$B$688,'15년위원회별'!$A35,'15년일출'!$C$7:$C$688,'15년위원회별'!$C35) -> 0 | Z35: =SUMIFS('15년일출'!$AA$7:$AA$688,'15년일출'!$B$7:$B$688,'15년위원회별'!$A35,'15년일출'!$C$7:$C$688,'15년위원회별'!$C35) -> 0
A36: 건설교통위원회 | C36: 건설본부 | D36: =SUMIFS('15년일입'!$G$7:$G$633,'15년일입'!$A$7:$A$633,'15년위원회별'!$A36,'15년일입'!$B$7:$B$633,'15년위원회별'!$C36) -> 0 | E36: =SUMIFS('15년일입'!$H$7:$H$633,'15년일입'!$A$7:$A$633,'15년위원회별'!$A36,'15년일입'!$B$7:$B$633,'15년위원회별'!$C36) -> 0 | F36: =SUMIFS('15년일입'!$I$7:$I$633,'15년일입'!$A$7:$A$633,'15년위원회별'!$A36,'15년일입'!$B$7:$B$633,'15년위원회별'!$C36) -> 0 | G36: =SUMIFS('15년일입'!$J$7:$J$633,'15년일입'!$A$7:$A$633,'15년위원회별'!$A36,'15년일입'!$B$7:$B$633,'15년위원회별'!$C36) -> 0 | H36: =SUMIFS('15년일입'!$T$7:$T$633,'15년일입'!$A$7:$A$633,'15년위원회별'!$A36,'15년일입'!$B$7:$B$633,'15년위원회별'!$C36) -> 0 | I36: =SUMIFS('15년일입'!$U$7:$U$633,'15년일입'!$A$7:$A$633,'15년위원회별'!$A36,'15년일입'!$B$7:$B$633,'15년위원회별'!$C36) -> 0 | J36: =SUMIFS('15년일입'!$K$7:$K$633,'15년일입'!$A$7:$A$633,'15년위원회별'!$A36,'15년일입'!$B$7:$B$633,'15년위원회별'!$C36) -> 0 | K36: =SUMIFS('15년일입'!$L$7:$L$633,'15년일입'!$A$7:$A$633,'15년위원회별'!$A36,'15년일입'!$B$7:$B$633,'15년위원회별'!$C36) -> 0 | L36: =SUMIFS('15년일입'!$M$7:$M$633,'15년일입'!$A$7:$A$633,'15년위원회별'!$A36,'15년일입'!$B$7:$B$633,'15년위원회별'!$C36) -> 0 | M36: =SUMIFS('15년일입'!$Y$7:$Y$633,'15년일입'!$A$7:$A$633,'15년위원회별'!$A36,'15년일입'!$B$7:$B$633,'15년위원회별'!$C36) -> 0 | N36: =SUMIFS('15년일입'!$Z$7:$Z$633,'15년일입'!$A$7:$A$633,'15년위원회별'!$A36,'15년일입'!$B$7:$B$633,'15년위원회별'!$C36) -> 0 | P36: =SUMIFS('15년일출'!$H$7:$H$688,'15년일출'!$B$7:$B$688,'15년위원회별'!$A36,'15년일출'!$C$7:$C$688,'15년위원회별'!$C36) -> 0 | Q36: =SUMIFS('15년일출'!$I$7:$I$688,'15년일출'!$B$7:$B$688,'15년위원회별'!$A36,'15년일출'!$C$7:$C$688,'15년위원회별'!$C36) -> 0 | R36: =SUMIFS('15년일출'!$J$7:$J$688,'15년일출'!$B$7:$B$688,'15년위원회별'!$A36,'15년일출'!$C$7:$C$688,'15년위원회별'!$C36) -> 0 | S36: =SUMIFS('15년일출'!$K$7:$K$688,'15년일출'!$B$7:$B$688,'15년위원회별'!$A36,'15년일출'!$C$7:$C$688,'15년위원회별'!$C36) -> 0 | T36: =SUMIFS('15년일출'!$U$7:$U$688,'15년일출'!$B$7:$B$688,'15년위원회별'!$A36,'15년일출'!$C$7:$C$688,'15년위원회별'!$C36) -> 0 | U36: =SUMIFS('15년일출'!$V$7:$V$688,'15년일출'!$B$7:$B$688,'15년위원회별'!$A36,'15년일출'!$C$7:$C$688,'15년위원회별'!$C36) -> 0 | V36: =SUMIFS('15년일출'!$L$7:$L$688,'15년일출'!$B$7:$B$688,'15년위원회별'!$A36,'15년일출'!$C$7:$C$688,'15년위원회별'!$C36) -> 0 | W36: =SUMIFS('15년일출'!$M$7:$M$688,'15년일출'!$B$7:$B$688,'15년위원회별'!$A36,'15년일출'!$C$7:$C$688,'15년위원회별'!$C36) -> 0 | X36: =SUMIFS('15년일출'!$N$7:$N$688,'15년일출'!$B$7:$B$688,'15년위원회별'!$A36,'15년일출'!$C$7:$C$688,'15년위원회별'!$C36) -> 0 | Y36: =SUMIFS('15년일출'!$Z$7:$Z$688,'15년일출'!$B$7:$B$688,'15년위원회별'!$A36,'15년일출'!$C$7:$C$688,'15년위원회별'!$C36) -> 0 | Z36: =SUMIFS('15년일출'!$AA$7:$AA$688,'15년일출'!$B$7:$B$688,'15년위원회별'!$A36,'15년일출'!$C$7:$C$688,'15년위원회별'!$C36) -> 0
B37: 도시환경위원회 | D37: =SUM(D38:D42) -> 9216000 | E37: =SUM(E38:E42) -> -376000 | F37: =SUM(F38:F42) -> 10781000 | G37: =SUM(G38:G42) -> 19621000 | H37: =SUM(H38:H42) -> 10505000 | I37: =SUM(I38:I42) -> -100000 | J37: =SUM(J38:J42) -> 0 | K37: =SUM(K38:K42) -> 0 | ... N37: =SUM(N38:N42) -> 0 | P37: =SUM(P38:P42) -> 105524807 | Q37: =SUM(Q38:Q42) -> -3909178 | R37: =SUM(R38:R42) -> 29429040 | S37: =SUM(S38:S42) -> 131044669 | T37: =SUM(T38:T42) -> 10397822 | U37: =SUM(U38:U42) -> 15109085 | V37: =SUM(V38:V42) -> 0 | W37: =SUM(W38:W42) -> 0 | ... Z37: =SUM(Z38:Z42) -> 0
A38: 도시환경위원회 | C38: 도시주택실 | D38: =SUMIFS('15년일입'!$G$7:$G$633,'15년일입'!$A$7:$A$633,'15년위원회별'!$A38,'15년일입'!$B$7:$B$633,'15년위원회별'!$C38) -> 7915000 | E38: =SUMIFS('15년일입'!$H$7:$H$633,'15년일입'!$A$7:$A$633,'15년위원회별'!$A38,'15년일입'!$B$7:$B$633,'15년위원회별'!$C38) -> 0 | F38: =SUMIFS('15년일입'!$I$7:$I$633,'15년일입'!$A$7:$A$633,'15년위원회별'!$A38,'15년일입'!$B$7:$B$633,'15년위원회별'!$C38) -> 10781000 | G38: =SUMIFS('15년일입'!$J$7:$J$633,'15년일입'!$A$7:$A$633,'15년위원회별'!$A38,'15년일입'!$B$7:$B$633,'15년위원회별'!$C38) -> 18696000 | H38: =SUMIFS('15년일입'!$T$7:$T$633,'15년일입'!$A$7:$A$633,'15년위원회별'!$A38,'15년일입'!$B$7:$B$633,'15년위원회별'!$C38) -> 10781000 | I38: =SUMIFS('15년일입'!$U$7:$U$633,'15년일입'!$A$7:$A$633,'15년위원회별'!$A38,'15년일입'!$B$7:$B$633,'15년위원회별'!$C38) -> 0 | J38: =SUMIFS('15년일입'!$K$7:$K$633,'15년일입'!$A$7:$A$633,'15년위원회별'!$A38,'15년일입'!$B$7:$B$633,'15년위원회별'!$C38) -> 0 | K38: =SUMIFS('15년일입'!$L$7:$L$633,'15년일입'!$A$7:$A$633,'15년위원회별'!$A38,'15년일입'!$B$7:$B$633,'15년위원회별'!$C38) -> 0 | L38: =SUMIFS('15년일입'!$M$7:$M$633,'15년일입'!$A$7:$A$633,'15년위원회별'!$A38,'15년일입'!$B$7:$B$633,'15년위원회별'!$C38) -> 7915000 | M38: =SUMIFS('15년일입'!$Y$7:$Y$633,'15년일입'!$A$7:$A$633,'15년위원회별'!$A38,'15년일입'!$B$7:$B$633,'15년위원회별'!$C38) -> 0 | N38: =SUMIFS('15년일입'!$Z$7:$Z$633,'15년일입'!$A$7:$A$633,'15년위원회별'!$A38,'15년일입'!$B$7:$B$633,'15년위원회별'!$C38) -> 0 | P38: =SUMIFS('15년일출'!$H$7:$H$688,'15년일출'!$B$7:$B$688,'15년위원회별'!$A38,'15년일출'!$C$7:$C$688,'15년위원회별'!$C38) -> 31060800 | Q38: =SUMIFS('15년일출'!$I$7:$I$688,'15년일출'!$B$7:$B$688,'15년위원회별'!$A38,'15년일출'!$C$7:$C$688,'15년위원회별'!$C38) -> -110000 | R38: =SUMIFS('15년일출'!$J$7:$J$688,'15년일출'!$B$7:$B$688,'15년위원회별'!$A38,'15년일출'!$C$7:$C$688,'15년위원회별'!$C38) -> 16798705 | S38: =SUMIFS('15년일출'!$K$7:$K$688,'15년일출'!$B$7:$B$688,'15년위원회별'!$A38,'15년일출'!$C$7:$C$688,'15년위원회별'!$C38) -> 47749505 | T38: =SUMIFS('15년일출'!$U$7:$U$688,'15년일출'!$B$7:$B$688,'15년위원회별'!$A38,'15년일출'!$C$7:$C$688,'15년위원회별'!$C38) -> 9281000 | U38: =SUMIFS('15년일출'!$V$7:$V$688,'15년일출'!$B$7:$B$688,'15년위원회별'!$A38,'15년일출'!$C$7:$C$688,'15년위원회별'!$C38) -> 7407705 | V38: =SUMIFS('15년일출'!$L$7:$L$688,'15년일출'!$B$7:$B$688,'15년위원회별'!$A38,'15년일출'!$C$7:$C$688,'15년위원회별'!$C38) -> 0 | W38: =SUMIFS('15년일출'!$M$7:$M$688,'15년일출'!$B$7:$B$688,'15년위원회별'!$A38,'15년일출'!$C$7:$C$688,'15년위원회별'!$C38) -> 0 | X38: =SUMIFS('15년일출'!$N$7:$N$688,'15년일출'!$B$7:$B$688,'15년위원회별'!$A38,'15년일출'!$C$7:$C$688,'15년위원회별'!$C38) -> 31060800 | Y38: =SUMIFS('15년일출'!$Z$7:$Z$688,'15년일출'!$B$7:$B$688,'15년위원회별'!$A38,'15년일출'!$C$7:$C$688,'15년위원회별'!$C38) -> 0 | Z38: =SUMIFS('15년일출'!$AA$7:$AA$688,'15년일출'!$B$7:$B$688,'15년위원회별'!$A38,'15년일출'!$C$7:$C$688,'15년위원회별'!$C38) -> 0
A39: 도시환경위원회 | C39: 환경국 | D39: =SUMIFS('15년일입'!$G$7:$G$633,'15년일입'!$A$7:$A$633,'15년위원회별'!$A39,'15년일입'!$B$7:$B$633,'15년위원회별'!$C39) -> 0 | E39: =SUMIFS('15년일입'!$H$7:$H$633,'15년일입'!$A$7:$A$633,'15년위원회별'!$A39,'15년일입'!$B$7:$B$633,'15년위원회별'!$C39) -> 0 | F39: =SUMIFS('15년일입'!$I$7:$I$633,'15년일입'!$A$7:$A$633,'15년위원회별'!$A39,'15년일입'!$B$7:$B$633,'15년위원회별'!$C39) -> 0 | G39: =SUMIFS('15년일입'!$J$7:$J$633,'15년일입'!$A$7:$A$633,'15년위원회별'!$A39,'15년일입'!$B$7:$B$633,'15년위원회별'!$C39) -> 0 | H39: =SUMIFS('15년일입'!$T$7:$T$633,'15년일입'!$A$7:$A$633,'15년위원회별'!$A39,'15년일입'!$B$7:$B$633,'15년위원회별'!$C39) -> 0 | I39: =SUMIFS('15년일입'!$U$7:$U$633,'15년일입'!$A$7:$A$633,'15년위원회별'!$A39,'15년일입'!$B$7:$B$633,'15년위원회별'!$C39) -> 0 | J39: =SUMIFS('15년일입'!$K$7:$K$633,'15년일입'!$A$7:$A$633,'15년위원회별'!$A39,'15년일입'!$B$7:$B$633,'15년위원회별'!$C39) -> 0 | K39: =SUMIFS('15년일입'!$L$7:$L$633,'15년일입'!$A$7:$A$633,'15년위원회별'!$A39,'15년일입'!$B$7:$B$633,'15년위원회별'!$C39) -> 0 | L39: =SUMIFS('15년일입'!$M$7:$M$633,'15년일입'!$A$7:$A$633,'15년위원회별'!$A39,'15년일입'!$B$7:$B$633,'15년위원회별'!$C39) -> 0 | M39: =SUMIFS('15년일입'!$Y$7:$Y$633,'15년일입'!$A$7:$A$633,'15년위원회별'!$A39,'15년일입'!$B$7:$B$633,'15년위원회별'!$C39) -> 0 | N39: =SUMIFS('15년일입'!$Z$7:$Z$633,'15년일입'!$A$7:$A$633,'15년위원회별'!$A39,'15년일입'!$B$7:$B$633,'15년위원회별'!$C39) -> 0 | P39: =SUMIFS('15년일출'!$H$7:$H$688,'15년일출'!$B$7:$B$688,'15년위원회별'!$A39,'15년일출'!$C$7:$C$688,'15년위원회별'!$C39) -> 2667473 | Q39: =SUMIFS('15년일출'!$I$7:$I$688,'15년일출'!$B$7:$B$688,'15년위원회별'!$A39,'15년일출'!$C$7:$C$688,'15년위원회별'!$C39) -> -205000 | R39: =SUMIFS('15년일출'!$J$7:$J$688,'15년일출'!$B$7:$B$688,'15년위원회별'!$A39,'15년일출'!$C$7:$C$688,'15년위원회별'!$C39) -> 1011380 | S39: =SUMIFS('15년일출'!$K$7:$K$688,'15년일출'!$B$7:$B$688,'15년위원회별'!$A39,'15년일출'!$C$7:$C$688,'15년위원회별'!$C39) -> 3473853 | T39: =SUMIFS('15년일출'!$U$7:$U$688,'15년일출'!$B$7:$B$688,'15년위원회별'!$A39,'15년일출'!$C$7:$C$688,'15년위원회별'!$C39) -> 0 | U39: =SUMIFS('15년일출'!$V$7:$V$688,'15년일출'!$B$7:$B$688,'15년위원회별'!$A39,'15년일출'!$C$7:$C$688,'15년위원회별'!$C39) -> 806380 | V39: =SUMIFS('15년일출'!$L$7:$L$688,'15년일출'!$B$7:$B$688,'15년위원회별'!$A39,'15년일출'!$C$7:$C$688,'15년위원회별'!$C39) -> 0 | W39: =SUMIFS('15년일출'!$M$7:$M$688,'15년일출'!$B$7:$B$688,'15년위원회별'!$A39,'15년일출'!$C$7:$C$688,'15년위원회별'!$C39) -> 0 | X39: =SUMIFS('15년일출'!$N$7:$N$688,'15년일출'!$B$7:$B$688,'15년위원회별'!$A39,'15년일출'!$C$7:$C$688,'15년위원회별'!$C39) -> 2667473 | Y39: =SUMIFS('15년일출'!$Z$7:$Z$688,'15년일출'!$B$7:$B$688,'15년위원회별'!$A39,'15년일출'!$C$7:$C$688,'15년위원회별'!$C39) -> 0 | Z39: =SUMIFS('15년일출'!$AA$7:$AA$688,'15년일출'!$B$7:$B$688,'15년위원회별'!$A39,'15년일출'!$C$7:$C$688,'15년위원회별'!$C39) -> 0
A40: 도시환경위원회 | C40: 축산산림국 | D40: =SUMIFS('15년일입'!$G$7:$G$633,'15년일입'!$A$7:$A$633,'15년위원회별'!$A40,'15년일입'!$B$7:$B$633,'15년위원회별'!$C40) -> 1301000 | E40: =SUMIFS('15년일입'!$H$7:$H$633,'15년일입'!$A$7:$A$633,'15년위원회별'!$A40,'15년일입'!$B$7:$B$633,'15년위원회별'!$C40) -> -376000 | F40: =SUMIFS('15년일입'!$I$7:$I$633,'15년일입'!$A$7:$A$633,'15년위원회별'!$A40,'15년일입'!$B$7:$B$633,'15년위원회별'!$C40) -> 0 | G40: =SUMIFS('15년일입'!$J$7:$J$633,'15년일입'!$A$7:$A$633,'15년위원회별'!$A40,'15년일입'!$B$7:$B$633,'15년위원회별'!$C40) -> 925000 | H40: =SUMIFS('15년일입'!$T$7:$T$633,'15년일입'!$A$7:$A$633,'15년위원회별'!$A40,'15년일입'!$B$7:$B$633,'15년위원회별'!$C40) -> -276000 | I40: =SUMIFS('15년일입'!$U$7:$U$633,'15년일입'!$A$7:$A$633,'15년위원회별'!$A40,'15년일입'!$B$7:$B$633,'15년위원회별'!$C40) -> -100000 | J40: =SUMIFS('15년일입'!$K$7:$K$633,'15년일입'!$A$7:$A$633,'15년위원회별'!$A40,'15년일입'!$B$7:$B$633,'15년위원회별'!$C40) -> 0 | K40: =SUMIFS('15년일입'!$L$7:$L$633,'15년일입'!$A$7:$A$633,'15년위원회별'!$A40,'15년일입'!$B$7:$B$633,'15년위원회별'!$C40) -> 0 | L40: =SUMIFS('15년일입'!$M$7:$M$633,'15년일입'!$A$7:$A$633,'15년위원회별'!$A40,'15년일입'!$B$7:$B$633,'15년위원회별'!$C40) -> 1301000 | M40: =SUMIFS('15년일입'!$Y$7:$Y$633,'15년일입'!$A$7:$A$633,'15년위원회별'!$A40,'15년일입'!$B$7:$B$633,'15년위원회별'!$C40) -> 0 | N40: =SUMIFS('15년일입'!$Z$7:$Z$633,'15년일입'!$A$7:$A$633,'15년위원회별'!$A40,'15년일입'!$B$7:$B$633,'15년위원회별'!$C40) -> 0 | P40: =SUMIFS('15년일출'!$H$7:$H$688,'15년일출'!$B$7:$B$688,'15년위원회별'!$A40,'15년일출'!$C$7:$C$688,'15년위원회별'!$C40) -> 1505994 | Q40: =SUMIFS('15년일출'!$I$7:$I$688,'15년일출'!$B$7:$B$688,'15년위원회별'!$A40,'15년일출'!$C$7:$C$688,'15년위원회별'!$C40) -> -383178 | R40: =SUMIFS('15년일출'!$J$7:$J$688,'15년일출'!$B$7:$B$688,'15년위원회별'!$A40,'15년일출'!$C$7:$C$688,'15년위원회별'!$C40) -> 7520000 | S40: =SUMIFS('15년일출'!$K$7:$K$688,'15년일출'!$B$7:$B$688,'15년위원회별'!$A40,'15년일출'!$C$7:$C$688,'15년위원회별'!$C40) -> 8642816 | T40: =SUMIFS('15년일출'!$U$7:$U$688,'15년일출'!$B$7:$B$688,'15년위원회별'!$A40,'15년일출'!$C$7:$C$688,'15년위원회별'!$C40) -> 1116822 | U40: =SUMIFS('15년일출'!$V$7:$V$688,'15년일출'!$B$7:$B$688,'15년위원회별'!$A40,'15년일출'!$C$7:$C$688,'15년위원회별'!$C40) -> 6020000 | V40: =SUMIFS('15년일출'!$L$7:$L$688,'15년일출'!$B$7:$B$688,'15년위원회별'!$A40,'15년일출'!$C$7:$C$688,'15년위원회별'!$C40) -> 0 | W40: =SUMIFS('15년일출'!$M$7:$M$688,'15년일출'!$B$7:$B$688,'15년위원회별'!$A40,'15년일출'!$C$7:$C$688,'15년위원회별'!$C40) -> 0 | X40: =SUMIFS('15년일출'!$N$7:$N$688,'15년일출'!$B$7:$B$688,'15년위원회별'!$A40,'15년일출'!$C$7:$C$688,'15년위원회별'!$C40) -> 1505994 | Y40: =SUMIFS('15년일출'!$Z$7:$Z$688,'15년일출'!$B$7:$B$688,'15년위원회별'!$A40,'15년일출'!$C$7:$C$688,'15년위원회별'!$C40) -> 0 | Z40: =SUMIFS('15년일출'!$AA$7:$AA$688,'15년일출'!$B$7:$B$688,'15년위원회별'!$A40,'15년일출'!$C$7:$C$688,'15년위원회별'!$C40) -> 0
A41: 도시환경위원회 | C41: 보건환경연구원 | D41: =SUMIFS('15년일입'!$G$7:$G$633,'15년일입'!$A$7:$A$633,'15년위원회별'!$A41,'15년일입'!$B$7:$B$633,'15년위원회별'!$C41) -> 0 | E41: =SUMIFS('15년일입'!$H$7:$H$633,'15년일입'!$A$7:$A$633,'15년위원회별'!$A41,'15년일입'!$B$7:$B$633,'15년위원회별'!$C41) -> 0 | F41: =SUMIFS('15년일입'!$I$7:$I$633,'15년일입'!$A$7:$A$633,'15년위원회별'!$A41,'15년일입'!$B$7:$B$633,'15년위원회별'!$C41) -> 0 | G41: =SUMIFS('15년일입'!$J$7:$J$633,'15년일입'!$A$7:$A$633,'15년위원회별'!$A41,'15년일입'!$B$7:$B$633,'15년위원회별'!$C41) -> 0 | H41: =SUMIFS('15년일입'!$T$7:$T$633,'15년일입'!$A$7:$A$633,'15년위원회별'!$A41,'15년일입'!$B$7:$B$633,'15년위원회별'!$C41) -> 0 | I41: =SUMIFS('15년일입'!$U$7:$U$633,'15년일입'!$A$7:$A$633,'15년위원회별'!$A41,'15년일입'!$B$7:$B$633,'15년위원회별'!$C41) -> 0 | J41: =SUMIFS('15년일입'!$K$7:$K$633,'15년일입'!$A$7:$A$633,'15년위원회별'!$A41,'15년일입'!$B$7:$B$633,'15년위원회별'!$C41) -> 0 | K41: =SUMIFS('15년일입'!$L$7:$L$633,'15년일입'!$A$7:$A$633,'15년위원회별'!$A41,'15년일입'!$B$7:$B$633,'15년위원회별'!$C41) -> 0 | L41: =SUMIFS('15년일입'!$M$7:$M$633,'15년일입'!$A$7:$A$633,'15년위원회별'!$A41,'15년일입'!$B$7:$B$633,'15년위원회별'!$C41) -> 0 | M41: =SUMIFS('15년일입'!$Y$7:$Y$633,'15년일입'!$A$7:$A$633,'15년위원회별'!$A41,'15년일입'!$B$7:$B$633,'15년위원회별'!$C41) -> 0 | N41: =SUMIFS('15년일입'!$Z$7:$Z$633,'15년일입'!$A$7:$A$633,'15년위원회별'!$A41,'15년일입'!$B$7:$B$633,'15년위원회별'!$C41) -> 0 | P41: =SUMIFS('15년일출'!$H$7:$H$688,'15년일출'!$B$7:$B$688,'15년위원회별'!$A41,'15년일출'!$C$7:$C$688,'15년위원회별'!$C41) -> 16840 | Q41: =SUMIFS('15년일출'!$I$7:$I$688,'15년일출'!$B$7:$B$688,'15년위원회별'!$A41,'15년일출'!$C$7:$C$688,'15년위원회별'!$C41) -> 0 | R41: =SUMIFS('15년일출'!$J$7:$J$688,'15년일출'!$B$7:$B$688,'15년위원회별'!$A41,'15년일출'!$C$7:$C$688,'15년위원회별'!$C41) -> 20000 | S41: =SUMIFS('15년일출'!$K$7:$K$688,'15년일출'!$B$7:$B$688,'15년위원회별'!$A41,'15년일출'!$C$7:$C$688,'15년위원회별'!$C41) -> 36840 | T41: =SUMIFS('15년일출'!$U$7:$U$688,'15년일출'!$B$7:$B$688,'15년위원회별'!$A41,'15년일출'!$C$7:$C$688,'15년위원회별'!$C41) -> 0 | U41: =SUMIFS('15년일출'!$V$7:$V$688,'15년일출'!$B$7:$B$688,'15년위원회별'!$A41,'15년일출'!$C$7:$C$688,'15년위원회별'!$C41) -> 20000 | V41: =SUMIFS('15년일출'!$L$7:$L$688,'15년일출'!$B$7:$B$688,'15년위원회별'!$A41,'15년일출'!$C$7:$C$688,'15년위원회별'!$C41) -> 0 | W41: =SUMIFS('15년일출'!$M$7:$M$688,'15년일출'!$B$7:$B$688,'15년위원회별'!$A41,'15년일출'!$C$7:$C$688,'15년위원회별'!$C41) -> 0 | X41: =SUMIFS('15년일출'!$N$7:$N$688,'15년일출'!$B$7:$B$688,'15년위원회별'!$A41,'15년일출'!$C$7:$C$688,'15년위원회별'!$C41) -> 16840 | Y41: =SUMIFS('15년일출'!$Z$7:$Z$688,'15년일출'!$B$7:$B$688,'15년위원회별'!$A41,'15년일출'!$C$7:$C$688,'15년위원회별'!$C41) -> 0 | Z41: =SUMIFS('15년일출'!$AA$7:$AA$688,'15년일출'!$B$7:$B$688,'15년위원회별'!$A41,'15년일출'!$C$7:$C$688,'15년위원회별'!$C41) -> 0
A42: 도시환경위원회 | C42: 수자원본부 | D42: =SUMIFS('15년일입'!$G$7:$G$633,'15년일입'!$A$7:$A$633,'15년위원회별'!$A42,'15년일입'!$B$7:$B$633,'15년위원회별'!$C42) -> 0 | E42: =SUMIFS('15년일입'!$H$7:$H$633,'15년일입'!$A$7:$A$633,'15년위원회별'!$A42,'15년일입'!$B$7:$B$633,'15년위원회별'!$C42) -> 0 | F42: =SUMIFS('15년일입'!$I$7:$I$633,'15년일입'!$A$7:$A$633,'15년위원회별'!$A42,'15년일입'!$B$7:$B$633,'15년위원회별'!$C42) -> 0 | G42: =SUMIFS('15년일입'!$J$7:$J$633,'15년일입'!$A$7:$A$633,'15년위원회별'!$A42,'15년일입'!$B$7:$B$633,'15년위원회별'!$C42) -> 0 | H42: =SUMIFS('15년일입'!$T$7:$T$633,'15년일입'!$A$7:$A$633,'15년위원회별'!$A42,'15년일입'!$B$7:$B$633,'15년위원회별'!$C42) -> 0 | I42: =SUMIFS('15년일입'!$U$7:$U$633,'15년일입'!$A$7:$A$633,'15년위원회별'!$A42,'15년일입'!$B$7:$B$633,'15년위원회별'!$C42) -> 0 | J42: =SUMIFS('15년일입'!$K$7:$K$633,'15년일입'!$A$7:$A$633,'15년위원회별'!$A42,'15년일입'!$B$7:$B$633,'15년위원회별'!$C42) -> 0 | K42: =SUMIFS('15년일입'!$L$7:$L$633,'15년일입'!$A$7:$A$633,'15년위원회별'!$A42,'15년일입'!$B$7:$B$633,'15년위원회별'!$C42) -> 0 | L42: =SUMIFS('15년일입'!$M$7:$M$633,'15년일입'!$A$7:$A$633,'15년위원회별'!$A42,'15년일입'!$B$7:$B$633,'15년위원회별'!$C42) -> 0 | M42: =SUMIFS('15년일입'!$Y$7:$Y$633,'15년일입'!$A$7:$A$633,'15년위원회별'!$A42,'15년일입'!$B$7:$B$633,'15년위원회별'!$C42) -> 0 | N42: =SUMIFS('15년일입'!$Z$7:$Z$633,'15년일입'!$A$7:$A$633,'15년위원회별'!$A42,'15년일입'!$B$7:$B$633,'15년위원회별'!$C42) -> 0 | P42: =SUMIFS('15년일출'!$H$7:$H$688,'15년일출'!$B$7:$B$688,'15년위원회별'!$A42,'15년일출'!$C$7:$C$688,'15년위원회별'!$C42) -> 70273700 | Q42: =SUMIFS('15년일출'!$I$7:$I$688,'15년일출'!$B$7:$B$688,'15년위원회별'!$A42,'15년일출'!$C$7:$C$688,'15년위원회별'!$C42) -> -3211000 | R42: =SUMIFS('15년일출'!$J$7:$J$688,'15년일출'!$B$7:$B$688,'15년위원회별'!$A42,'15년일출'!$C$7:$C$688,'15년위원회별'!$C42) -> 4078955 | S42: =SUMIFS('15년일출'!$K$7:$K$688,'15년일출'!$B$7:$B$688,'15년위원회별'!$A42,'15년일출'!$C$7:$C$688,'15년위원회별'!$C42) -> 71141655 | T42: =SUMIFS('15년일출'!$U$7:$U$688,'15년일출'!$B$7:$B$688,'15년위원회별'!$A42,'15년일출'!$C$7:$C$688,'15년위원회별'!$C42) -> 0 | U42: =SUMIFS('15년일출'!$V$7:$V$688,'15년일출'!$B$7:$B$688,'15년위원회별'!$A42,'15년일출'!$C$7:$C$688,'15년위원회별'!$C42) -> 855000 | V42: =SUMIFS('15년일출'!$L$7:$L$688,'15년일출'!$B$7:$B$688,'15년위원회별'!$A42,'15년일출'!$C$7:$C$688,'15년위원회별'!$C42) -> 0 | W42: =SUMIFS('15년일출'!$M$7:$M$688,'15년일출'!$B$7:$B$688,'15년위원회별'!$A42,'15년일출'!$C$7:$C$688,'15년위원회별'!$C42) -> 0 | X42: =SUMIFS('15년일출'!$N$7:$N$688,'15년일출'!$B$7:$B$688,'15년위원회별'!$A42,'15년일출'!$C$7:$C$688,'15년위원회별'!$C42) -> 70273700 | Y42: =SUMIFS('15년일출'!$Z$7:$Z$688,'15년일출'!$B$7:$B$688,'15년위원회별'!$A42,'15년일출'!$C$7:$C$688,'15년위원회별'!$C42) -> 0 | Z42: =SUMIFS('15년일출'!$AA$7:$AA$688,'15년일출'!$B$7:$B$688,'15년위원회별'!$A42,'15년일출'!$C$7:$C$688,'15년위원회별'!$C42) -> 0
B43: 여성가족교육협력위원회 | D43: =SUM(D44:D46) -> 0 | E43: =SUM(E44:E46) -> 0 | F43: =SUM(F44:F46) -> 0 | G43: =SUM(G44:G46) -> 0 | H43: =SUM(H44:H46) -> 0 | I43: =SUM(I44:I46) -> 0 | J43: =SUM(J44:J46) -> 0 | K43: =SUM(K44:K46) -> 0 | ... N43: =SUM(N44:N46) -> 0 | P43: =SUM(P44:P46) -> 0 | Q43: =SUM(Q44:Q46) -> 0 | R43: =SUM(R44:R46) -> 0 | S43: =SUM(S44:S46) -> 0 | T43: =SUM(T44:T46) -> 0 | U43: =SUM(U44:U46) -> 0 | V43: =SUM(V44:V46) -> 0 | W43: =SUM(W44:W46) -> 0 | ... Z43: =SUM(Z44:Z46) -> 0
A44: 여성가족교육협력위원회 | C44: 교육협력국 | D44: =SUMIFS('15년일입'!$G$7:$G$633,'15년일입'!$A$7:$A$633,'15년위원회별'!$A44,'15년일입'!$B$7:$B$633,'15년위원회별'!$C44) -> 0 | E44: =SUMIFS('15년일입'!$H$7:$H$633,'15년일입'!$A$7:$A$633,'15년위원회별'!$A44,'15년일입'!$B$7:$B$633,'15년위원회별'!$C44) -> 0 | F44: =SUMIFS('15년일입'!$I$7:$I$633,'15년일입'!$A$7:$A$633,'15년위원회별'!$A44,'15년일입'!$B$7:$B$633,'15년위원회별'!$C44) -> 0 | G44: =SUMIFS('15년일입'!$J$7:$J$633,'15년일입'!$A$7:$A$633,'15년위원회별'!$A44,'15년일입'!$B$7:$B$633,'15년위원회별'!$C44) -> 0 | H44: =SUMIFS('15년일입'!$T$7:$T$633,'15년일입'!$A$7:$A$633,'15년위원회별'!$A44,'15년일입'!$B$7:$B$633,'15년위원회별'!$C44) -> 0 | I44: =SUMIFS('15년일입'!$U$7:$U$633,'15년일입'!$A$7:$A$633,'15년위원회별'!$A44,'15년일입'!$B$7:$B$633,'15년위원회별'!$C44) -> 0 | J44: =SUMIFS('15년일입'!$K$7:$K$633,'15년일입'!$A$7:$A$633,'15년위원회별'!$A44,'15년일입'!$B$7:$B$633,'15년위원회별'!$C44) -> 0 | K44: =SUMIFS('15년일입'!$L$7:$L$633,'15년일입'!$A$7:$A$633,'15년위원회별'!$A44,'15년일입'!$B$7:$B$633,'15년위원회별'!$C44) -> 0 | L44: =SUMIFS('15년일입'!$M$7:$M$633,'15년일입'!$A$7:$A$633,'15년위원회별'!$A44,'15년일입'!$B$7:$B$633,'15년위원회별'!$C44) -> 0 | M44: =SUMIFS('15년일입'!$Y$7:$Y$633,'15년일입'!$A$7:$A$633,'15년위원회별'!$A44,'15년일입'!$B$7:$B$633,'15년위원회별'!$C44) -> 0 | N44: =SUMIFS('15년일입'!$Z$7:$Z$633,'15년일입'!$A$7:$A$633,'15년위원회별'!$A44,'15년일입'!$B$7:$B$633,'15년위원회별'!$C44) -> 0 | P44: =SUMIFS('15년일출'!$H$7:$H$688,'15년일출'!$B$7:$B$688,'15년위원회별'!$A44,'15년일출'!$C$7:$C$688,'15년위원회별'!$C44) -> 0 | Q44: =SUMIFS('15년일출'!$I$7:$I$688,'15년일출'!$B$7:$B$688,'15년위원회별'!$A44,'15년일출'!$C$7:$C$688,'15년위원회별'!$C44) -> 0 | R44: =SUMIFS('15년일출'!$J$7:$J$688,'15년일출'!$B$7:$B$688,'15년위원회별'!$A44,'15년일출'!$C$7:$C$688,'15년위원회별'!$C44) -> 0 | S44: =SUMIFS('15년일출'!$K$7:$K$688,'15년일출'!$B$7:$B$688,'15년위원회별'!$A44,'15년일출'!$C$7:$C$688,'15년위원회별'!$C44) -> 0 | T44: =SUMIFS('15년일출'!$U$7:$U$688,'15년일출'!$B$7:$B$688,'15년위원회별'!$A44,'15년일출'!$C$7:$C$688,'15년위원회별'!$C44) -> 0 | U44: =SUMIFS('15년일출'!$V$7:$V$688,'15년일출'!$B$7:$B$688,'15년위원회별'!$A44,'15년일출'!$C$7:$C$688,'15년위원회별'!$C44) -> 0 | V44: =SUMIFS('15년일출'!$L$7:$L$688,'15년일출'!$B$7:$B$688,'15년위원회별'!$A44,'15년일출'!$C$7:$C$688,'15년위원회별'!$C44) -> 0 | W44: =SUMIFS('15년일출'!$M$7:$M$688,'15년일출'!$B$7:$B$688,'15년위원회별'!$A44,'15년일출'!$C$7:$C$688,'15년위원회별'!$C44) -> 0 | X44: =SUMIFS('15년일출'!$N$7:$N$688,'15년일출'!$B$7:$B$688,'15년위원회별'!$A44,'15년일출'!$C$7:$C$688,'15년위원회별'!$C44) -> 0 | Y44: =SUMIFS('15년일출'!$Z$7:$Z$688,'15년일출'!$B$7:$B$688,'15년위원회별'!$A44,'15년일출'!$C$7:$C$688,'15년위원회별'!$C44) -> 0 | Z44: =SUMIFS('15년일출'!$AA$7:$AA$688,'15년일출'!$B$7:$B$688,'15년위원회별'!$A44,'15년일출'!$C$7:$C$688,'15년위원회별'!$C44) -> 0
A45: 여성가족교육협력위원회 | C45: 여성가족국 | D45: =SUMIFS('15년일입'!$G$7:$G$633,'15년일입'!$A$7:$A$633,'15년위원회별'!$A45,'15년일입'!$B$7:$B$633,'15년위원회별'!$C45) -> 0 | E45: =SUMIFS('15년일입'!$H$7:$H$633,'15년일입'!$A$7:$A$633,'15년위원회별'!$A45,'15년일입'!$B$7:$B$633,'15년위원회별'!$C45) -> 0 | F45: =SUMIFS('15년일입'!$I$7:$I$633,'15년일입'!$A$7:$A$633,'15년위원회별'!$A45,'15년일입'!$B$7:$B$633,'15년위원회별'!$C45) -> 0 | G45: =SUMIFS('15년일입'!$J$7:$J$633,'15년일입'!$A$7:$A$633,'15년위원회별'!$A45,'15년일입'!$B$7:$B$633,'15년위원회별'!$C45) -> 0 | H45: =SUMIFS('15년일입'!$T$7:$T$633,'15년일입'!$A$7:$A$633,'15년위원회별'!$A45,'15년일입'!$B$7:$B$633,'15년위원회별'!$C45) -> 0 | I45: =SUMIFS('15년일입'!$U$7:$U$633,'15년일입'!$A$7:$A$633,'15년위원회별'!$A45,'15년일입'!$B$7:$B$633,'15년위원회별'!$C45) -> 0 | J45: =SUMIFS('15년일입'!$K$7:$K$633,'15년일입'!$A$7:$A$633,'15년위원회별'!$A45,'15년일입'!$B$7:$B$633,'15년위원회별'!$C45) -> 0 | K45: =SUMIFS('15년일입'!$L$7:$L$633,'15년일입'!$A$7:$A$633,'15년위원회별'!$A45,'15년일입'!$B$7:$B$633,'15년위원회별'!$C45) -> 0 | L45: =SUMIFS('15년일입'!$M$7:$M$633,'15년일입'!$A$7:$A$633,'15년위원회별'!$A45,'15년일입'!$B$7:$B$633,'15년위원회별'!$C45) -> 0 | M45: =SUMIFS('15년일입'!$Y$7:$Y$633,'15년일입'!$A$7:$A$633,'15년위원회별'!$A45,'15년일입'!$B$7:$B$633,'15년위원회별'!$C45) -> 0 | N45: =SUMIFS('15년일입'!$Z$7:$Z$633,'15년일입'!$A$7:$A$633,'15년위원회별'!$A45,'15년일입'!$B$7:$B$633,'15년위원회별'!$C45) -> 0 | P45: =SUMIFS('15년일출'!$H$7:$H$688,'15년일출'!$B$7:$B$688,'15년위원회별'!$A45,'15년일출'!$C$7:$C$688,'15년위원회별'!$C45) -> 0 | Q45: =SUMIFS('15년일출'!$I$7:$I$688,'15년일출'!$B$7:$B$688,'15년위원회별'!$A45,'15년일출'!$C$7:$C$688,'15년위원회별'!$C45) -> 0 | R45: =SUMIFS('15년일출'!$J$7:$J$688,'15년일출'!$B$7:$B$688,'15년위원회별'!$A45,'15년일출'!$C$7:$C$688,'15년위원회별'!$C45) -> 0 | S45: =SUMIFS('15년일출'!$K$7:$K$688,'15년일출'!$B$7:$B$688,'15년위원회별'!$A45,'15년일출'!$C$7:$C$688,'15년위원회별'!$C45) -> 0 | T45: =SUMIFS('15년일출'!$U$7:$U$688,'15년일출'!$B$7:$B$688,'15년위원회별'!$A45,'15년일출'!$C$7:$C$688,'15년위원회별'!$C45) -> 0 | U45: =SUMIFS('15년일출'!$V$7:$V$688,'15년일출'!$B$7:$B$688,'15년위원회별'!$A45,'15년일출'!$C$7:$C$688,'15년위원회별'!$C45) -> 0 | V45: =SUMIFS('15년일출'!$L$7:$L$688,'15년일출'!$B$7:$B$688,'15년위원회별'!$A45,'15년일출'!$C$7:$C$688,'15년위원회별'!$C45) -> 0 | W45: =SUMIFS('15년일출'!$M$7:$M$688,'15년일출'!$B$7:$B$688,'15년위원회별'!$A45,'15년일출'!$C$7:$C$688,'15년위원회별'!$C45) -> 0 | X45: =SUMIFS('15년일출'!$N$7:$N$688,'15년일출'!$B$7:$B$688,'15년위원회별'!$A45,'15년일출'!$C$7:$C$688,'15년위원회별'!$C45) -> 0 | Y45: =SUMIFS('15년일출'!$Z$7:$Z$688,'15년일출'!$B$7:$B$688,'15년위원회별'!$A45,'15년일출'!$C$7:$C$688,'15년위원회별'!$C45) -> 0 | Z45: =SUMIFS('15년일출'!$AA$7:$AA$688,'15년일출'!$B$7:$B$688,'15년위원회별'!$A45,'15년일출'!$C$7:$C$688,'15년위원회별'!$C45) -> 0
A46: 여성가족교육협력위원회 | C46: 복지여성실 | D46: =SUMIFS('15년일입'!$G$7:$G$633,'15년일입'!$A$7:$A$633,'15년위원회별'!$A46,'15년일입'!$B$7:$B$633,'15년위원회별'!$C46) -> 0 | E46: =SUMIFS('15년일입'!$H$7:$H$633,'15년일입'!$A$7:$A$633,'15년위원회별'!$A46,'15년일입'!$B$7:$B$633,'15년위원회별'!$C46) -> 0 | F46: =SUMIFS('15년일입'!$I$7:$I$633,'15년일입'!$A$7:$A$633,'15년위원회별'!$A46,'15년일입'!$B$7:$B$633,'15년위원회별'!$C46) -> 0 | G46: =SUMIFS('15년일입'!$J$7:$J$633,'15년일입'!$A$7:$A$633,'15년위원회별'!$A46,'15년일입'!$B$7:$B$633,'15년위원회별'!$C46) -> 0 | H46: =SUMIFS('15년일입'!$T$7:$T$633,'15년일입'!$A$7:$A$633,'15년위원회별'!$A46,'15년일입'!$B$7:$B$633,'15년위원회별'!$C46) -> 0 | I46: =SUMIFS('15년일입'!$U$7:$U$633,'15년일입'!$A$7:$A$633,'15년위원회별'!$A46,'15년일입'!$B$7:$B$633,'15년위원회별'!$C46) -> 0 | J46: =SUMIFS('15년일입'!$K$7:$K$633,'15년일입'!$A$7:$A$633,'15년위원회별'!$A46,'15년일입'!$B$7:$B$633,'15년위원회별'!$C46) -> 0 | K46: =SUMIFS('15년일입'!$L$7:$L$633,'15년일입'!$A$7:$A$633,'15년위원회별'!$A46,'15년일입'!$B$7:$B$633,'15년위원회별'!$C46) -> 0 | L46: =SUMIFS('15년일입'!$M$7:$M$633,'15년일입'!$A$7:$A$633,'15년위원회별'!$A46,'15년일입'!$B$7:$B$633,'15년위원회별'!$C46) -> 0 | M46: =SUMIFS('15년일입'!$Y$7:$Y$633,'15년일입'!$A$7:$A$633,'15년위원회별'!$A46,'15년일입'!$B$7:$B$633,'15년위원회별'!$C46) -> 0 | N46: =SUMIFS('15년일입'!$Z$7:$Z$633,'15년일입'!$A$7:$A$633,'15년위원회별'!$A46,'15년일입'!$B$7:$B$633,'15년위원회별'!$C46) -> 0 | P46: =SUMIFS('15년일출'!$H$7:$H$688,'15년일출'!$B$7:$B$688,'15년위원회별'!$A46,'15년일출'!$C$7:$C$688,'15년위원회별'!$C46) -> 0 | Q46: =SUMIFS('15년일출'!$I$7:$I$688,'15년일출'!$B$7:$B$688,'15년위원회별'!$A46,'15년일출'!$C$7:$C$688,'15년위원회별'!$C46) -> 0 | R46: =SUMIFS('15년일출'!$J$7:$J$688,'15년일출'!$B$7:$B$688,'15년위원회별'!$A46,'15년일출'!$C$7:$C$688,'15년위원회별'!$C46) -> 0 | S46: =SUMIFS('15년일출'!$K$7:$K$688,'15년일출'!$B$7:$B$688,'15년위원회별'!$A46,'15년일출'!$C$7:$C$688,'15년위원회별'!$C46) -> 0 | T46: =SUMIFS('15년일출'!$U$7:$U$688,'15년일출'!$B$7:$B$688,'15년위원회별'!$A46,'15년일출'!$C$7:$C$688,'15년위원회별'!$C46) -> 0 | U46: =SUMIFS('15년일출'!$V$7:$V$688,'15년일출'!$B$7:$B$688,'15년위원회별'!$A46,'15년일출'!$C$7:$C$688,'15년위원회별'!$C46) -> 0 | V46: =SUMIFS('15년일출'!$L$7:$L$688,'15년일출'!$B$7:$B$688,'15년위원회별'!$A46,'15년일출'!$C$7:$C$688,'15년위원회별'!$C46) -> 0 | W46: =SUMIFS('15년일출'!$M$7:$M$688,'15년일출'!$B$7:$B$688,'15년위원회별'!$A46,'15년일출'!$C$7:$C$688,'15년위원회별'!$C46) -> 0 | X46: =SUMIFS('15년일출'!$N$7:$N$688,'15년일출'!$B$7:$B$688,'15년위원회별'!$A46,'15년일출'!$C$7:$C$688,'15년위원회별'!$C46) -> 0 | Y46: =SUMIFS('15년일출'!$Z$7:$Z$688,'15년일출'!$B$7:$B$688,'15년위원회별'!$A46,'15년일출'!$C$7:$C$688,'15년위원회별'!$C46) -> 0 | Z46: =SUMIFS('15년일출'!$AA$7:$AA$688,'15년일출'!$B$7:$B$688,'15년위원회별'!$A46,'15년일출'!$C$7:$C$688,'15년위원회별'!$C46) -> 0

Sheet 15년일입
A1: 2015년도 경기도 일반회계 세입 예산 조정(안)
A2: □세입예산 | T2: 세입 = 세출 | Y2: 세입 = 세출
H3: =COUNTA(H7:H13) -> 2 | I3: =COUNTA(I7:I13) -> 1 | K3: =COUNTA(K7:K13) -> 0 | L3: =COUNTA(L7:L13) -> 0 | O3: (단위 : 천원) | T3: =IF(T6='15년일출'!$U$6,"OK","@@") -> @@ | U3: =SUM(T6:U6) -> 10405000 | V3: =IF(COUNTIF(V6:V904,"@@")>0,"@@","OK") -> OK | Y3: =IF(Y6=#REF!,"OK","@@") -> #REF! | Z3: =SUM(Y6:Z6) -> 0 | AA3: =IF(COUNTIF(AA6:AA904,"@@")>0,"@@","OK") -> OK
A4: 위원회명 | B4: 실국명 | C4: 부서명 | D4: 편성 구분 | E4: 예산안 페이지 | F4: 사업명 | G4: 예산안 (가) | H4: 상임위 예산안 조정액(나) | J4: 상임위 수정 예산안 (다=가+나) | K4: 예결위 예산안 조정액(라) | M4: 예결위 수정 예산안 (마=가+라) | N4: 동의대상 | O4: 비고(부대의견) | Q4: 국도비 등 여부 | S4: 재원 | T4: 상임위 재원별 증감액 | X4: 재원 | Y4: 예결위 재원별 증감액 | AC4: 위원회 부서별 정렬
H5: 감액 | I5: 증액 | K5: 감액 | L5: 증액 | T5: 국비 등 | U5: 도 비 | V5: 검증 | Y5: 국비 등 | Z5: 도 비 | AA5: 검증
A6: 계 | G6: =SUBTOTAL(9,G7:G816) -> 9216000 | H6: =SUBTOTAL(9,H7:H816) -> -376000 | I6: =SUBTOTAL(9,I7:I816) -> 10781000 | J6: =SUBTOTAL(9,J7:J816) -> 19621000 | K6: =SUBTOTAL(9,K7:K816) -> 0 | L6: =SUBTOTAL(9,L7:L816) -> 0 | M6: =SUBTOTAL(9,M7:M816) -> 9216000 | T6: =SUBTOTAL(9,T7:T816) -> 10505000 | U6: =SUBTOTAL(9,U7:U816) -> -100000 | V6: =IF((H6+I6)=(T6+U6),"OK","검토") -> OK | Y6: =SUBTOTAL(9,Y7:Y816) -> 0 | Z6: =SUBTOTAL(9,Z7:Z816) -> 0 | AA6: =IF((K6+L6)=(Y6+Z6),"OK","검토") -> OK
A7: =IFERROR(VLOOKUP('15년일입'!$C7,구분표!$A$2:$C$1001,2,FALSE),"") -> 도시환경위원회 | B7: =IFERROR(VLOOKUP('15년일입'!$C7,구분표!$A$2:$C$1001,3,FALSE),"") -> 도시주택실 | C7: 지역정책과 | D7: 본예산 | E7: 1005 | F7: 개발제한구역 주민지원사업 | G7: 7915000 | I7: 10781000 | J7: =SUM(G7+H7+I7) -> 18696000 | M7: =SUM(G7+K7+L7) -> 7915000 | N7: =IF(H7-K7<0,"동의필요","-") -> - | O7: 국비결정통보 ※ 국토교통부 녹색도시과-4761(2014.10.31.)호 | S7: 국비 | T7: =IF($S7<>"도비",IF($Q7="국도비","직접입력",SUM($H7:$I7)),) -> 10781000 | U7: =IF($S7="도비",SUM($H7:$I7),IF($Q7="국도비","직접입력",SUM($H7:$I7)-$T7)) -> 0 | V7: =IF($Q7="국도비","ok",IF(($H7+$I7)=($T7+$U7),"ok","검토")) -> ok | X7: =$S7 -> 국비 | Y7: =IF($X7<>"도비",IF($Q7="국도비","직접입력",SUM($K7:$L7)),) -> 0 | Z7: =IF($X7="도비",SUM($K7:$L7),IF($Q7="국도비","직접입력",SUM($K7:$L7)-$Y7)) -> 0 | AA7: =IF($Q7="국도비","ok",IF(($K7+$L7)=($Y7+$Z7),"ok","검토")) -> ok | AC7: {=IFERROR(IF($C7="","",INDEX(구분표!$I$2:$I$1001,MATCH(1,(구분표!$B$2:$B$1001='15년일입'!$A7)*(구분표!$C$2:$C$1001='15년일입'!$B7)*(구분표!$A$2:$A$1001='15년일입'!$C7),0))),"@@")} -> 2601
A8: =IFERROR(VLOOKUP('15년일입'!$C8,구분표!$A$2:$C$1001,2,FALSE),"") -> 도시환경위원회 | B8: =IFERROR(VLOOKUP('15년일입'!$C8,구분표!$A$2:$C$1001,3,FALSE),"") -> 축산산림국 | C8: 공원녹지과 | F8: 무궁화조성관리 | G8: 109000 | H8: -100000 | J8: =SUM(G8+H8+I8) -> 9000 | M8: =SUM(G8+K8+L8) -> 109000 | N8: =IF(H8-K8<0,"동의필요","-") -> 동의필요 | O8: 국비내시 ※ 산림청 도시숲 경관과-3527(14.11.4)호 | S8: 도비 | T8: =IF($S8<>"도비",IF($Q8="국도비","직접입력",SUM($H8:$I8)),) -> 0 | U8: =IF($S8="도비",SUM($H8:$I8),IF($Q8="국도비","직접입력",SUM($H8:$I8)-$T8)) -> -100000 | V8: =IF($Q8="국도비","ok",IF(($H8+$I8)=($T8+$U8),"ok","검토")) -> ok | X8: =$S8 -> 도비 | Y8: =IF($X8<>"도비",IF($Q8="국도비","직접입력",SUM($K8:$L8)),) -> 0 | Z8: =IF($X8="도비",SUM($K8:$L8),IF($Q8="국도비","직접입력",SUM($K8:$L8)-$Y8)) -> 0 | AA8: =IF($Q8="국도비","ok",IF(($K8+$L8)=($Y8+$Z8),"ok","검토")) -> ok | AC8: {=IFERROR(IF($C8="","",INDEX(구분표!$I$2:$I$1001,MATCH(1,(구분표!$B$2:$B$1001='15년일입'!$A8)*(구분표!$C$2:$C$1001='15년일입'!$B8)*(구분표!$A$2:$A$1001='15년일입'!$C8),0))),"@@")} -> 2801
A9: =IFERROR(VLOOKUP('15년일입'!$C9,구분표!$A$2:$C$1001,2,FALSE),"") -> 도시환경위원회 | B9: =IFERROR(VLOOKUP('15년일입'!$C9,구분표!$A$2:$C$1001,3,FALSE),"") -> 축산산림국 | C9: 공원녹지과 | F9: 소외시설 녹색공간조성사업 | G9: 1192000 | H9: -276000 | J9: =SUM(G9+H9+I9) -> 916000 | M9: =SUM(G9+K9+L9) -> 1192000 | N9: =IF(H9-K9<0,"동의필요","-") -> 동의필요 | O9: 기금내시 ※ 녹색사업단 국내사업본부-1662(14.10.14)호 | T9: =IF($S9<>"도비",IF($Q9="국도비","직접입력",SUM($H9:$I9)),) -> -276000 | U9: =IF($S9="도비",SUM($H9:$I9),IF($Q9="국도비","직접입력",SUM($H9:$I9)-$T9)) -> 0 | V9: =IF($Q9="국도비","ok",IF(($H9+$I9)=($T9+$U9),"ok","검토")) -> ok | X9: =$S9 -> 0 | Y9: =IF($X9<>"도비",IF($Q9="국도비","직접입력",SUM($K9:$L9)),) -> 0 | Z9: =IF($X9="도비",SUM($K9:$L9),IF($Q9="국도비","직접입력",SUM($K9:$L9)-$Y9)) -> 0 | AA9: =IF($Q9="국도비","ok",IF(($K9+$L9)=($Y9+$Z9),"ok","검토")) -> ok | AC9: {=IFERROR(IF($C9="","",INDEX(구분표!$I$2:$I$1001,MATCH(1,(구분표!$B$2:$B$1001='15년일입'!$A9)*(구분표!$C$2:$C$1001='15년일입'!$B9)*(구분표!$A$2:$A$1001='15년일입'!$C9),0))),"@@")} -> 2801
A10: =IFERROR(VLOOKUP('15년일입'!$C10,구분표!$A$2:$C$1001,2,FALSE),"") | B10: =IFERROR(VLOOKUP('15년일입'!$C10,구분표!$A$2:$C$1001,3,FALSE),"") | J10: =SUM(G10+H10+I10) -> 0 | M10: =SUM(G10+K10+L10) -> 0 | N10: =IF(H10-K10<0,"동의필요","-") -> - | T10: =IF($S10<>"도비",IF($Q10="국도비","직접입력",SUM($H10:$I10)),) -> 0 | U10: =IF($S10="도비",SUM($H10:$I10),IF($Q10="국도비","직접입력",SUM($H10:$I10)-$T10)) -> 0 | V10: =IF($Q10="국도비","ok",IF(($H10+$I10)=($T10+$U10),"ok","검토")) -> ok | X10: =$S10 -> 0 | Y10: =IF($X10<>"도비",IF($Q10="국도비","직접입력",SUM($K10:$L10)),) -> 0 | Z10: =IF($X10="도비",SUM($K10:$L10),IF($Q10="국도비","직접입력",SUM($K10:$L10)-$Y10)) -> 0 | AA10: =IF($Q10="국도비","ok",IF(($K10+$L10)=($Y10+$Z10),"ok","검토")) -> ok | AC10: {=IFERROR(IF($C10="","",INDEX(구분표!$I$2:$I$1001,MATCH(1,(구분표!$B$2:$B$1001='15년일입'!$A10)*(구분표!$C$2:$C$1001='15년일입'!$B10)*(구분표!$A$2:$A$1001='15년일입'!$C10),0))),"@@")}
A11: =IFERROR(VLOOKUP('15년일입'!$C11,구분표!$A$2:$C$1001,2,FALSE),"") | B11: =IFERROR(VLOOKUP('15년일입'!$C11,구분표!$A$2:$C$1001,3,FALSE),"") | J11: =SUM(G11+H11+I11) -> 0 | M11: =SUM(G11+K11+L11) -> 0 | N11: =IF(H11-K11<0,"동의필요","-") -> - | T11: =IF($S11<>"도비",IF($Q11="국도비","직접입력",SUM($H11:$I11)),) -> 0 | U11: =IF($S11="도비",SUM($H11:$I11),IF($Q11="국도비","직접입력",SUM($H11:$I11)-$T11)) -> 0 | V11: =IF($Q11="국도비","ok",IF(($H11+$I11)=($T11+$U11),"ok","검토")) -> ok | X11: =$S11 -> 0 | Y11: =IF($X11<>"도비",IF($Q11="국도비","직접입력",SUM($K11:$L11)),) -> 0 | Z11: =IF($X11="도비",SUM($K11:$L11),IF($Q11="국도비","직접입력",SUM($K11:$L11)-$Y11)) -> 0 | AA11: =IF($Q11="국도비","ok",IF(($K11+$L11)=($Y11+$Z11),"ok","검토")) -> ok | AC11: {=IFERROR(IF($C11="","",INDEX(구분표!$I$2:$I$1001,MATCH(1,(구분표!$B$2:$B$1001='15년일입'!$A11)*(구분표!$C$2:$C$1001='15년일입'!$B11)*(구분표!$A$2:$A$1001='15년일입'!$C11),0))),"@@")}
A12: =IFERROR(VLOOKUP('15년일입'!$C12,구분표!$A$2:$C$1001,2,FALSE),"") | B12: =IFERROR(VLOOKUP('15년일입'!$C12,구분표!$A$2:$C$1001,3,FALSE),"") | J12: =SUM(G12+H12+I12) -> 0 | M12: =SUM(G12+K12+L12) -> 0 | N12: =IF(H12-K12<0,"동의필요","-") -> - | T12: =IF($S12<>"도비",IF($Q12="국도비","직접입력",SUM($H12:$I12)),) -> 0 | U12: =IF($S12="도비",SUM($H12:$I12),IF($Q12="국도비","직접입력",SUM($H12:$I12)-$T12)) -> 0 | V12: =IF($Q12="국도비","ok",IF(($H12+$I12)=($T12+$U12),"ok","검토")) -> ok | X12: =$S12 -> 0 | Y12: =IF($X12<>"도비",IF($Q12="국도비","직접입력",SUM($K12:$L12)),) -> 0 | Z12: =IF($X12="도비",SUM($K12:$L12),IF($Q12="국도비","직접입력",SUM($K12:$L12)-$Y12)) -> 0 | AA12: =IF($Q12="국도비","ok",IF(($K12+$L12)=($Y12+$Z12),"ok","검토")) -> ok | AC12: {=IFERROR(IF($C12="","",INDEX(구분표!$I$2:$I$1001,MATCH(1,(구분표!$B$2:$B$1001='15년일입'!$A12)*(구분표!$C$2:$C$1001='15년일입'!$B12)*(구분표!$A$2:$A$1001='15년일입'!$C12),0))),"@@")}
A13: =IFERROR(VLOOKUP('15년일입'!$C13,구분표!$A$2:$C$1001,2,FALSE),"") | B13: =IFERROR(VLOOKUP('15년일입'!$C13,구분표!$A$2:$C$1001,3,FALSE),"") | J13: =SUM(G13+H13+I13) -> 0 | M13: =SUM(G13+K13+L13) -> 0 | N13: =IF(H13-K13<0,"동의필요","-") -> - | T13: =IF($S13<>"도비",IF($Q13="국도비","직접입력",SUM($H13:$I13)),) -> 0 | U13: =IF($S13="도비",SUM($H13:$I13),IF($Q13="국도비","직접입력",SUM($H13:$I13)-$T13)) -> 0 | V13: =IF($Q13="국도비","ok",IF(($H13+$I13)=($T13+$U13),"ok","검토")) -> ok | X13: =$S13 -> 0 | Y13: =IF($X13<>"도비",IF($Q13="국도비","직접입력",SUM($K13:$L13)),) -> 0 | Z13: =IF($X13="도비",SUM($K13:$L13),IF($Q13="국도비","직접입력",SUM($K13:$L13)-$Y13)) -> 0 | AA13: =IF($Q13="국도비","ok",IF(($K13+$L13)=($Y13+$Z13),"ok","검토")) -> ok | AC13: {=IFERROR(IF($C13="","",INDEX(구분표!$I$2:$I$1001,MATCH(1,(구분표!$B$2:$B$1001='15년일입'!$A13)*(구분표!$C$2:$C$1001='15년일입'!$B13)*(구분표!$A$2:$A$1001='15년일입'!$C13),0))),"@@")}

Sheet 15년일출
B1: 2015년도 경기도 일반회계 세출 예산 조정(안)
B2: □세출예산 | U2: 세입 = 세출 | Z2: 세입 = 세출
I3: =COUNTA(I7:I66) -> 12 | J3: =COUNTA(J7:J66) -> 44 | L3: =COUNTA(L7:L66) -> 0 | M3: =COUNTA(M7:M66) -> 0 | P3: (단위 : 천원) | U3: =IF(U6='15년일입'!$T$6,"OK","@@") -> @@ | V3: =SUM(U6:V6) -> 25516907 | W3: =IF(COUNTIF(W6:W959,"@@")>0,"@@","OK") -> OK | Z3: =IF(Z6=#REF!,"OK","@@") -> #REF! | AA3: =SUM(Z6:AA6) -> 0 | AB3: =IF(COUNTIF(AB6:AB959,"@@")>0,"@@","OK") -> OK
B4: 위원회명 | C4: 실국명 | D4: 부서명 | E4: 편성 구분 | F4: 예산안 페이지 | G4: 세부사업명 및 부기명 | H4: 예산안 (가) | I4: 상임위 예산안 조정액(나) | K4: 상임위 수정 예산안 (다=가+나) | L4: 예결위 예산안 조정액(라) | N4: 예결위 수정 예산안 (마=가+라) | O4: 동의대상 | P4: 비고(부대의견) | R4: 국도비 등 여부 | T4: 재원 | U4: 상임위 재원별 증감액 | Y4: 재원 | Z4: 예결위 재원별 증감액 | AD4: 위원회 부서별 정렬
I5: 감액 | J5: 증액 | L5: 감액 | M5: 증액 | U5: 국비 등 | V5: 도 비 | W5: 검증 | Z5: 국비 등 | AA5: 도 비 | AB5: 검증
B6: 계 | H6: =SUBTOTAL(9,H7:H871) -> 105524807 | I6: =SUBTOTAL(9,I7:I871) -> -3909178 | J6: =SUBTOTAL(9,J7:J871) -> 29439040 | K6: =SUBTOTAL(9,K7:K871) -> 131054669 | L6: =SUBTOTAL(9,L7:L871) -> 0 | M6: =SUBTOTAL(9,M7:M871) -> 0 | N6: =SUBTOTAL(9,N7:N871) -> 105524807 | T6: 자동 입력 | U6: =SUBTOTAL(9,U7:U871) -> 10407822 | V6: =SUBTOTAL(9,V7:V871) -> 15109085 | W6: =IF((I6+J6)=(U6+V6),"OK","검토") -> 검토 | Z6: =SUBTOTAL(9,Z7:Z871) -> 0 | AA6: =SUBTOTAL(9,AA7:AA871) -> 0 | AB6: =IF((L6+M6)=(Z6+AA6),"OK","검토") -> OK | AD6: =IF(COUNTIF(AD7:AD688,"@@")>0,"@@","OK") -> OK
B7: =IFERROR(VLOOKUP('15년일출'!$D7,구분표!$A$2:$C$1001,2,FALSE),"") -> 도시환경위원회 | C7: =IFERROR(VLOOKUP('15년일출'!$D7,구분표!$A$2:$C$1001,3,FALSE),"") -> 도시주택실 | D7: 지역정책과 | E7: 본예산 | F7: 1008 | G7: 수도권 정책전환 지원(자체/직접) -수도권 규제 합리화 권역별 정책토론회 | H7: 20000 | J7: 40000 | K7: =SUM(H7+I7+J7) -> 60000 | N7: =SUM(H7+L7+M7) -> 20000 | O7: =IF(I7-L7<0,"동의필요","-") -> - | P7: GB보전금 개선관련 권역별 정책토론회 개최 | T7: =IF($R7="도비","도비",IF(COUNT(FIND("국비/",$G7)),"국비",IF(COUNT(FIND("지특/",$G7)),"지특",IF(COUNT(FIND("기금/",$G7)),"기금",IF(COUNT(FIND("교부세/",$G7)),"특교",IF(COUNT(FIND("자체/",$G7)),"도비","")))))) -> 도비 | U7: =IF($T7<>"도비",IF($R7="국도비","직접입력",SUM($I7:$J7)),) -> 0 | V7: =IF($T7="도비",SUM($I7:$J7),IF($R7="국도비","직접입력",SUM($I7:$J7)-$U7)) -> 40000 | W7: =IF($R7="국도비","ok",IF(($I7+$J7)=($U7+$V7),"ok","검토")) -> ok | Y7: =$T7 -> 도비 | Z7: =IF($Y7<>"도비",IF($R7="국도비","직접입력",SUM($L7:$M7)),) -> 0 | AA7: =IF($Y7="도비",SUM($L7:$M7),IF($R7="국도비","직접입력",SUM($L7:$M7)-$Z7)) -> 0 | AB7: =IF($R7="국도비","ok",IF(($L7+$M7)=($Z7+$AA7),"ok","검토")) -> ok | AD7: {=IFERROR(IF($D7="","",INDEX(구분표!$I$2:$I$1001,MATCH(1,(구분표!$B$2:$B$1001='15년일출'!$B7)*(구분표!$C$2:$C$1001='15년일출'!$C7)*(구분표!$A$2:$A$1001='15년일출'!$D7),0))),"@@")} -> 2601
A8: ㅇ | B8: =IFERROR(VLOOKUP('15년일출'!$D8,구분표!$A$2:$C$1001,2,FALSE),"") -> 도시환경위원회 | C8: =IFERROR(VLOOKUP('15년일출'!$D8,구분표!$A$2:$C$1001,3,FALSE),"") -> 도시주택실 | D8: 지역정책과 | E8: 본예산 | F8: 1009 | G8: 개발제한구역 주민지원사업(지특/지원) - 개발제한구역 주민지원사업 | H8: 5350900 | J8: 5367600 | K8: =SUM(H8+I8+J8) -> 10718500 | N8: =SUM(H8+L8+M8) -> 5350900 | O8: =IF(I8-L8<0,"동의필요","-") -> - | P8: 국비결정통보 ※ 국토교통부 녹색도시과-4761(2014.10.31.)호 | T8: =IF($R8="도비","도비",IF(COUNT(FIND("국비/",$G8)),"국비",IF(COUNT(FIND("지특/",$G8)),"지특",IF(COUNT(FIND("기금/",$G8)),"기금",IF(COUNT(FIND("교부세/",$G8)),"특교",IF(COUNT(FIND("자체/",$G8)),"도비","")))))) -> 지특 | U8: =IF($T8<>"도비",IF($R8="국도비","직접입력",SUM($I8:$J8)),) -> 5367600 | V8: =IF($T8="도비",SUM($I8:$J8),IF($R8="국도비","직접입력",SUM($I8:$J8)-$U8)) -> 0 | W8: =IF($R8="국도비","ok",IF(($I8+$J8)=($U8+$V8),"ok","검토")) -> ok | Y8: =$T8 -> 지특 | Z8: =IF($Y8<>"도비",IF($R8="국도비","직접입력",SUM($L8:$M8)),) -> 0 | AA8: =IF($Y8="도비",SUM($L8:$M8),IF($R8="국도비","직접입력",SUM($L8:$M8)-$Z8)) -> 0 | AB8: =IF($R8="국도비","ok",IF(($L8+$M8)=($Z8+$AA8),"ok","검토")) -> ok | AD8: {=IFERROR(IF($D8="","",INDEX(구분표!$I$2:$I$1001,MATCH(1,(구분표!$B$2:$B$1001='15년일출'!$B8)*(구분표!$C$2:$C$1001='15년일출'!$C8)*(구분표!$A$2:$A$1001='15년일출'!$D8),0))),"@@")} -> 2601
B9: =IFERROR(VLOOKUP('15년일출'!$D9,구분표!$A$2:$C$1001,2,FALSE),"") -> 도시환경위원회 | C9: =IFERROR(VLOOKUP('15년일출'!$D9,구분표!$A$2:$C$1001,3,FALSE),"") -> 도시주택실 | D9: 도시주택과 | E9: 본예산 | F9: 1013 | G9: 농어촌 빈집정비(자체/지원) -농어촌 빈집정비사업 | H9: 17700 | J9: 20000 | K9: =SUM(H9+I9+J9) -> 37700 | N9: =SUM(H9+L9+M9) -> 17700 | O9: =IF(I9-L9<0,"동의필요","-") -> - | P9: 사고예방 및 흉가화 방지필요 | T9: =IF($R9="도비","도비",IF(COUNT(FIND("국비/",$G9)),"국비",IF(COUNT(FIND("지특/",$G9)),"지특",IF(COUNT(FIND("기금/",$G9)),"기금",IF(COUNT(FIND("교부세/",$G9)),"특교",IF(COUNT(FIND("자체/",$G9)),"도비","")))))) -> 도비 | U9: =IF($T9<>"도비",IF($R9="국도비","직접입력",SUM($I9:$J9)),) -> 0 | V9: =IF($T9="도비",SUM($I9:$J9),IF($R9="국도비","직접입력",SUM($I9:$J9)-$U9)) -> 20000 | W9: =IF($R9="국도비","ok",IF(($I9+$J9)=($U9+$V9),"ok","검토")) -> ok | Y9: =$T9 -> 도비 | Z9: =IF($Y9<>"도비",IF($R9="국도비","직접입력",SUM($L9:$M9)),) -> 0 | AA9: =IF($Y9="도비",SUM($L9:$M9),IF($R9="국도비","직접입력",SUM($L9:$M9)-$Z9)) -> 0 | AB9: =IF($R9="국도비","ok",IF(($L9+$M9)=($Z9+$AA9),"ok","검토")) -> ok | AD9: {=IFERROR(IF($D9="","",INDEX(구분표!$I$2:$I$1001,MATCH(1,(구분표!$B$2:$B$1001='15년일출'!$B9)*(구분표!$C$2:$C$1001='15년일출'!$C9)*(구분표!$A$2:$A$1001='15년일출'!$D9),0))),"@@")} -> 2603
B10: =IFERROR(VLOOKUP('15년일출'!$D10,구분표!$A$2:$C$1001,2,FALSE),"") -> 도시환경위원회 | C10: =IFERROR(VLOOKUP('15년일출'!$D10,구분표!$A$2:$C$1001,3,FALSE),"") -> 도시주택실 | D10: 도시주택과 | E10: 본예산 | F10: 1014 | G10: 농촌생활환경정비사업(지특/지원) -농촌생활환경정비사업 | H10: 5304000 | J10: 240000 | K10: =SUM(H10+I10+J10) -> 5544000 | N10: =SUM(H10+L10+M10) -> 5304000 | O10: =IF(I10-L10<0,"동의필요","-") -> - | P10: 도비매칭 | T10: =IF($R10="도비","도비",IF(COUNT(FIND("국비/",$G10)),"국비",IF(COUNT(FIND("지특/",$G10)),"지특",IF(COUNT(FIND("기금/",$G10)),"기금",IF(COUNT(FIND("교부세/",$G10)),"특교",IF(COUNT(FIND("자체/",$G10)),"도비","")))))) -> 지특 | V10: 240000 | W10: =IF($R10="국도비","ok",IF(($I10+$J10)=($U10+$V10),"ok","검토")) -> ok | Y10: =$T10 -> 지특 | Z10: =IF($Y10<>"도비",IF($R10="국도비","직접입력",SUM($L10:$M10)),) -> 0 | AA10: =IF($Y10="도비",SUM($L10:$M10),IF($R10="국도비","직접입력",SUM($L10:$M10)-$Z10)) -> 0 | AB10: =IF($R10="국도비","ok",IF(($L10+$M10)=($Z10+$AA10),"ok","검토")) -> ok | AD10: {=IFERROR(IF($D10="","",INDEX(구분표!$I$2:$I$1001,MATCH(1,(구분표!$B$2:$B$1001='15년일출'!$B10)*(구분표!$C$2:$C$1001='15년일출'!$C10)*(구분표!$A$2:$A$1001='15년일출'!$D10),0))),"@@")} -> 2603
A11: ㅇ | B11: =IFERROR(VLOOKUP('15년일출'!$D11,구분표!$A$2:$C$1001,2,FALSE),"") -> 도시환경위원회 | C11: =IFERROR(VLOOKUP('15년일출'!$D11,구분표!$A$2:$C$1001,3,FALSE),"") -> 도시주택실 | D11: 도시주택과 | E11: 본예산 | F11: 1015 | G11: 개발제한구역 주민지원사업(지특/지원) - 개발제한구역 주민지원사업 | H11: 2564100 | J11: 3913400 | K11: =SUM(H11+I11+J11) -> 6477500 | N11: =SUM(H11+L11+M11) -> 2564100 | O11: =IF(I11-L11<0,"동의필요","-") -> - | P11: 국비결정통보 ※ 국토교통부 녹색도시과-4761(2014.10.31.)호 | T11: =IF($R11="도비","도비",IF(COUNT(FIND("국비/",$G11)),"국비",IF(COUNT(FIND("지특/",$G11)),"지특",IF(COUNT(FIND("기금/",$G11)),"기금",IF(COUNT(FIND("교부세/",$G11)),"특교",IF(COUNT(FIND("자체/",$G11)),"도비","")))))) -> 지특 | U11: =IF($T11<>"도비",IF($R11="국도비","직접입력",SUM($I11:$J11)),) -> 3913400 | V11: =IF($T11="도비",SUM($I11:$J11),IF($R11="국도비","직접입력",SUM($I11:$J11)-$U11)) -> 0 | W11: =IF($R11="국도비","ok",IF(($I11+$J11)=($U11+$V11),"ok","검토")) -> ok | Y11: =$T11 -> 지특 | Z11: =IF($Y11<>"도비",IF($R11="국도비","직접입력",SUM($L11:$M11)),) -> 0 | AA11: =IF($Y11="도비",SUM($L11:$M11),IF($R11="국도비","직접입력",SUM($L11:$M11)-$Z11)) -> 0 | AB11: =IF($R11="국도비","ok",IF(($L11+$M11)=($Z11+$AA11),"ok","검토")) -> ok | AD11: {=IFERROR(IF($D11="","",INDEX(구분표!$I$2:$I$1001,MATCH(1,(구분표!$B$2:$B$1001='15년일출'!$B11)*(구분표!$C$2:$C$1001='15년일출'!$C11)*(구분표!$A$2:$A$1001='15년일출'!$D11),0))),"@@")} -> 2603
B12: =IFERROR(VLOOKUP('15년일출'!$D12,구분표!$A$2:$C$1001,2,FALSE),"") -> 도시환경위원회 | C12: =IFERROR(VLOOKUP('15년일출'!$D12,구분표!$A$2:$C$1001,3,FALSE),"") -> 도시주택실 | D12: 도시주택과 | E12: 본예산 | F12: 1015 | G12: 지적측량 성과 검사용 장비교체(자체/직접) -지적측량 성과 검사용 GNSS측량장비 구입(교체) | H12: 110000 | I12: -110000 | K12: =SUM(H12+I12+J12) -> 0 | N12: =SUM(H12+L12+M12) -> 110000 | O12: =IF(I12-L12<0,"동의필요","-") -> 동의필요 | P12: 기존장비 활용 | T12: =IF($R12="도비","도비",IF(COUNT(FIND("국비/",$G12)),"국비",IF(COUNT(FIND("지특/",$G12)),"지특",IF(COUNT(FIND("기금/",$G12)),"기금",IF(COUNT(FIND("교부세/",$G12)),"특교",IF(COUNT(FIND("자체/",$G12)),"도비","")))))) -> 도비 | U12: =IF($T12<>"도비",IF($R12="국도비","직접입력",SUM($I12:$J12)),) -> 0 | V12: =IF($T12="도비",SUM($I12:$J12),IF($R12="국도비","직접입력",SUM($I12:$J12)-$U12)) -> -110000 | W12: =IF($R12="국도비","ok",IF(($I12+$J12)=($U12+$V12),"ok","검토")) -> ok | Y12: =$T12 -> 도비 | Z12: =IF($Y12<>"도비",IF($R12="국도비","직접입력",SUM($L12:$M12)),) -> 0 | AA12: =IF($Y12="도비",SUM($L12:$M12),IF($R12="국도비","직접입력",SUM($L12:$M12)-$Z12)) -> 0 | AB12: =IF($R12="국도비","ok",IF(($L12+$M12)=($Z12+$AA12),"ok","검토")) -> ok | AD12: {=IFERROR(IF($D12="","",INDEX(구분표!$I$2:$I$1001,MATCH(1,(구분표!$B$2:$B$1001='15년일출'!$B12)*(구분표!$C$2:$C$1001='15년일출'!$C12)*(구분표!$A$2:$A$1001='15년일출'!$D12),0))),"@@")} -> 2603
B13: =IFERROR(VLOOKUP('15년일출'!$D13,구분표!$A$2:$C$1001,2,FALSE),"") -> 도시환경위원회 | C13: =IFERROR(VLOOKUP('15년일출'!$D13,구분표!$A$2:$C$1001,3,FALSE),"") -> 도시주택실 | D13: 주택정책과 | E13: 본예산 | F13: 1017 | G13: 기존주택 매입임대 지원사업(자체/직접) -기존주택 매입임대 지원사업 | H13: 1000000 | J13: 2000000 | K13: =SUM(H13+I13+J13) -> 3000000 | N13: =SUM(H13+L13+M13) -> 1000000 | O13: =IF(I13-L13<0,"동의필요","-") -> - | P13: 호당매입단가 상향조정 | T13: =IF($R13="도비","도비",IF(COUNT(FIND("국비/",$G13)),"국비",IF(COUNT(FIND("지특/",$G13)),"지특",IF(COUNT(FIND("기금/",$G13)),"기금",IF(COUNT(FIND("교부세/",$G13)),"특교",IF(COUNT(FIND("자체/",$G13)),"도비","")))))) -> 도비 | U13: =IF($T13<>"도비",IF($R13="국도비","직접입력",SUM($I13:$J13)),) -> 0 | V13: =IF($T13="도비",SUM($I13:$J13),IF($R13="국도비","직접입력",SUM($I13:$J13)-$U13)) -> 2000000 | W13: =IF($R13="국도비","ok",IF(($I13+$J13)=($U13+$V13),"ok","검토")) -> ok | Y13: =$T13 -> 도비 | Z13: =IF($Y13<>"도비",IF($R13="국도비","직접입력",SUM($L13:$M13)),) -> 0 | AA13: =IF($Y13="도비",SUM($L13:$M13),IF($R13="국도비","직접입력",SUM($L13:$M13)-$Z13)) -> 0 | AB13: =IF($R13="국도비","ok",IF(($L13+$M13)=($Z13+$AA13),"ok","검토")) -> ok | AD13: {=IFERROR(IF($D13="","",INDEX(구분표!$I$2:$I$1001,MATCH(1,(구분표!$B$2:$B$1001='15년일출'!$B13)*(구분표!$C$2:$C$1001='15년일출'!$C13)*(구분표!$A$2:$A$1001='15년일출'!$D13),0))),"@@")} -> 2604
B14: =IFERROR(VLOOKUP('15년일출'!$D14,구분표!$A$2:$C$1001,2,FALSE),"") -> 도시환경위원회 | C14: =IFERROR(VLOOKUP('15년일출'!$D14,구분표!$A$2:$C$1001,3,FALSE),"") -> 도시주택실 | D14: 주택정책과 | E14: 본예산 | F14: 1017 | G14: 햇살하우징 사업(자체/직접) -햇살하우징 사업 | H14: 400000 | J14: 100000 | K14: =SUM(H14+I14+J14) -> 500000 | N14: =SUM(H14+L14+M14) -> 400000 | O14: =IF(I14-L14<0,"동의필요","-") -> - | P14: 2013년 수준확대 | T14: =IF($R14="도비","도비",IF(COUNT(FIND("국비/",$G14)),"국비",IF(COUNT(FIND("지특/",$G14)),"지특",IF(COUNT(FIND("기금/",$G14)),"기금",IF(COUNT(FIND("교부세/",$G14)),"특교",IF(COUNT(FIND("자체/",$G14)),"도비","")))))) -> 도비 | U14: =IF($T14<>"도비",IF($R14="국도비","직접입력",SUM($I14:$J14)),) -> 0 | V14: =IF($T14="도비",SUM($I14:$J14),IF($R14="국도비","직접입력",SUM($I14:$J14)-$U14)) -> 100000 | W14: =IF($R14="국도비","ok",IF(($I14+$J14)=($U14+$V14),"ok","검토")) -> ok | Y14: =$T14 -> 도비 | Z14: =IF($Y14<>"도비",IF($R14="국도비","직접입력",SUM($L14:$M14)),) -> 0 | AA14: =IF($Y14="도비",SUM($L14:$M14),IF($R14="국도비","직접입력",SUM($L14:$M14)-$Z14)) -> 0 | AB14: =IF($R14="국도비","ok",IF(($L14+$M14)=($Z14+$AA14),"ok","검토")) -> ok | AD14: {=IFERROR(IF($D14="","",INDEX(구분표!$I$2:$I$1001,MATCH(1,(구분표!$B$2:$B$1001='15년일출'!$B14)*(구분표!$C$2:$C$1001='15년일출'!$C14)*(구분표!$A$2:$A$1001='15년일출'!$D14),0))),"@@")} -> 2604
B15: =IFERROR(VLOOKUP('15년일출'!$D15,구분표!$A$2:$C$1001,2,FALSE),"") -> 도시환경위원회 | C15: =IFERROR(VLOOKUP('15년일출'!$D15,구분표!$A$2:$C$1001,3,FALSE),"") -> 도시주택실 | D15: 주택정책과 | E15: 본예산 | F15: 1018 | G15: 농촌농업생활용수개발사업(지특/지원) -농촌농업생활용수개발사업 | H15: 668000 | J15: 42930 | K15: =SUM(H15+I15+J15) -> 710930 | N15: =SUM(H15+L15+M15) -> 668000 | O15: =IF(I15-L15<0,"동의필요","-") -> - | P15: 도비매칭 | T15: =IF($R15="도비","도비",IF(COUNT(FIND("국비/",$G15)),"국비",IF(COUNT(FIND("지특/",$G15)),"지특",IF(COUNT(FIND("기금/",$G15)),"기금",IF(COUNT(FIND("교부세/",$G15)),"특교",IF(COUNT(FIND("자체/",$G15)),"도비","")))))) -> 지특 | V15: 42930 | W15: =IF($R15="국도비","ok",IF(($I15+$J15)=($U15+$V15),"ok","검토")) -> ok | Y15: =$T15 -> 지특 | Z15: =IF($Y15<>"도비",IF($R15="국도비","직접입력",SUM($L15:$M15)),) -> 0 | AA15: =IF($Y15="도비",SUM($L15:$M15),IF($R15="국도비","직접입력",SUM($L15:$M15)-$Z15)) -> 0 | AB15: =IF($R15="국도비","ok",IF(($L15+$M15)=($Z15+$AA15),"ok","검토")) -> ok | AD15: {=IFERROR(IF($D15="","",INDEX(구분표!$I$2:$I$1001,MATCH(1,(구분표!$B$2:$B$1001='15년일출'!$B15)*(구분표!$C$2:$C$1001='15년일출'!$C15)*(구분표!$A$2:$A$1001='15년일출'!$D15),0))),"@@")} -> 2604
B16: =IFERROR(VLOOKUP('15년일출'!$D16,구분표!$A$2:$C$1001,2,FALSE),"") -> 도시환경위원회 | C16: =IFERROR(VLOOKUP('15년일출'!$D16,구분표!$A$2:$C$1001,3,FALSE),"") -> 도시주택실 | D16: 주택정책과 | E16: 본예산 | F16: 1018 | G16: 농촌생활환경정비사업(지특/지원) -농촌생활환경정비사업 | H16: 10579000 | J16: 524355 | K16: =SUM(H16+I16+J16) -> 11103355 | N16: =SUM(H16+L16+M16) -> 10579000 | O16: =IF(I16-L16<0,"동의필요","-") -> - | P16: 도비매칭 | T16: =IF($R16="도비","도비",IF(COUNT(FIND("국비/",$G16)),"국비",IF(COUNT(FIND("지특/",$G16)),"지특",IF(COUNT(FIND("기금/",$G16)),"기금",IF(COUNT(FIND("교부세/",$G16)),"특교",IF(COUNT(FIND("자체/",$G16)),"도비","")))))) -> 지특 | V16: 524355 | W16: =IF($R16="국도비","ok",IF(($I16+$J16)=($U16+$V16),"ok","검토")) -> ok | Y16: =$T16 -> 지특 | Z16: =IF($Y16<>"도비",IF($R16="국도비","직접입력",SUM($L16:$M16)),) -> 0 | AA16: =IF($Y16="도비",SUM($L16:$M16),IF($R16="국도비","직접입력",SUM($L16:$M16)-$Z16)) -> 0 | AB16: =IF($R16="국도비","ok",IF(($L16+$M16)=($Z16+$AA16),"ok","검토")) -> ok | AD16: {=IFERROR(IF($D16="","",INDEX(구분표!$I$2:$I$1001,MATCH(1,(구분표!$B$2:$B$1001='15년일출'!$B16)*(구분표!$C$2:$C$1001='15년일출'!$C16)*(구분표!$A$2:$A$1001='15년일출'!$D16),0))),"@@")} -> 2604
B17: =IFERROR(VLOOKUP('15년일출'!$D17,구분표!$A$2:$C$1001,2,FALSE),"") -> 도시환경위원회 | C17: =IFERROR(VLOOKUP('15년일출'!$D17,구분표!$A$2:$C$1001,3,FALSE),"") -> 도시주택실 | D17: 주택정책과 | E17: 본예산 | F17: 1018 | G17: 농어촌빈집정비(자체/지원) -농어촌빈집정비사업 | H17: 47100 | J17: 20000 | K17: =SUM(H17+I17+J17) -> 67100 | N17: =SUM(H17+L17+M17) -> 47100 | O17: =IF(I17-L17<0,"동의필요","-") -> - | P17: 도비매칭 | T17: =IF($R17="도비","도비",IF(COUNT(FIND("국비/",$G17)),"국비",IF(COUNT(FIND("지특/",$G17)),"지특",IF(COUNT(FIND("기금/",$G17)),"기금",IF(COUNT(FIND("교부세/",$G17)),"특교",IF(COUNT(FIND("자체/",$G17)),"도비","")))))) -> 도비 | U17: =IF($T17<>"도비",IF($R17="국도비","직접입력",SUM($I17:$J17)),) -> 0 | V17: =IF($T17="도비",SUM($I17:$J17),IF($R17="국도비","직접입력",SUM($I17:$J17)-$U17)) -> 20000 | W17: =IF($R17="국도비","ok",IF(($I17+$J17)=($U17+$V17),"ok","검토")) -> ok | Y17: =$T17 -> 도비 | Z17: =IF($Y17<>"도비",IF($R17="국도비","직접입력",SUM($L17:$M17)),) -> 0 | AA17: =IF($Y17="도비",SUM($L17:$M17),IF($R17="국도비","직접입력",SUM($L17:$M17)-$Z17)) -> 0 | AB17: =IF($R17="국도비","ok",IF(($L17+$M17)=($Z17+$AA17),"ok","검토")) -> ok | AD17: {=IFERROR(IF($D17="","",INDEX(구분표!$I$2:$I$1001,MATCH(1,(구분표!$B$2:$B$1001='15년일출'!$B17)*(구분표!$C$2:$C$1001='15년일출'!$C17)*(구분표!$A$2:$A$1001='15년일출'!$D17),0))),"@@")} -> 2604
B18: =IFERROR(VLOOKUP('15년일출'!$D18,구분표!$A$2:$C$1001,2,FALSE),"") -> 도시환경위원회 | C18: =IFERROR(VLOOKUP('15년일출'!$D18,구분표!$A$2:$C$1001,3,FALSE),"") -> 도시주택실 | D18: 토지정보과 | E18: 신규 | G18: 건전한 부동산 중개업 제도 운영(자체/직접) -건전한 부동산 중개업 제도 운영 | J18: 30420 | K18: =SUM(H18+I18+J18) -> 30420 | N18: =SUM(H18+L18+M18) -> 0 | O18: =IF(I18-L18<0,"동의필요","-") -> - | P18: 중개료 인하등에 대응한 건전한 중개업 유도 | T18: =IF($R18="도비","도비",IF(COUNT(FIND("국비/",$G18)),"국비",IF(COUNT(FIND("지특/",$G18)),"지특",IF(COUNT(FIND("기금/",$G18)),"기금",IF(COUNT(FIND("교부세/",$G18)),"특교",IF(COUNT(FIND("자체/",$G18)),"도비","")))))) -> 도비 | U18: =IF($T18<>"도비",IF($R18="국도비","직접입력",SUM($I18:$J18)),) -> 0 | V18: =IF($T18="도비",SUM($I18:$J18),IF($R18="국도비","직접입력",SUM($I18:$J18)-$U18)) -> 30420 | W18: =IF($R18="국도비","ok",IF(($I18+$J18)=($U18+$V18),"ok","검토")) -> ok | Y18: =$T18 -> 도비 | Z18: =IF($Y18<>"도비",IF($R18="국도비","직접입력",SUM($L18:$M18)),) -> 0 | AA18: =IF($Y18="도비",SUM($L18:$M18),IF($R18="국도비","직접입력",SUM($L18:$M18)-$Z18)) -> 0 | AB18: =IF($R18="국도비","ok",IF(($L18+$M18)=($Z18+$AA18),"ok","검토")) -> ok | AD18: {=IFERROR(IF($D18="","",INDEX(구분표!$I$2:$I$1001,MATCH(1,(구분표!$B$2:$B$1001='15년일출'!$B18)*(구분표!$C$2:$C$1001='15년일출'!$C18)*(구분표!$A$2:$A$1001='15년일출'!$D18),0))),"@@")} -> 2607
B19: =IFERROR(VLOOKUP('15년일출'!$D19,구분표!$A$2:$C$1001,2,FALSE),"") -> 도시환경위원회 | C19: =IFERROR(VLOOKUP('15년일출'!$D19,구분표!$A$2:$C$1001,3,FALSE),"") -> 도시주택실 | D19: 도시재생과 | E19: 본예산 | F19: 1033 | G19: 기금전출금 -도시주거환경정비기금 전출금 | H19: 5000000 | J19: 4500000 | K19: =SUM(H19+I19+J19) -> 9500000 | N19: =SUM(H19+L19+M19) -> 5000000 | O19: =IF(I19-L19<0,"동의필요","-") -> - | P19: 조례에 근거한 비율출연 (도보통세 2%이하) | T19: =IF($R19="도비","도비",IF(COUNT(FIND("국비/",$G19)),"국비",IF(COUNT(FIND("지특/",$G19)),"지특",IF(COUNT(FIND("기금/",$G19)),"기금",IF(COUNT(FIND("교부세/",$G19)),"특교",IF(COUNT(FIND("자체/",$G19)),"도비","")))))) | V19: 4500000 | W19: =IF($R19="국도비","ok",IF(($I19+$J19)=($U19+$V19),"ok","검토")) -> ok | Y19: =$T19 | Z19: =IF($Y19<>"도비",IF($R19="국도비","직접입력",SUM($L19:$M19)),) -> 0 | AA19: =IF($Y19="도비",SUM($L19:$M19),IF($R19="국도비","직접입력",SUM($L19:$M19)-$Z19)) -> 0 | AB19: =IF($R19="국도비","ok",IF(($L19+$M19)=($Z19+$AA19),"ok","검토")) -> ok | AD19: {=IFERROR(IF($D19="","",INDEX(구분표!$I$2:$I$1001,MATCH(1,(구분표!$B$2:$B$1001='15년일출'!$B19)*(구분표!$C$2:$C$1001='15년일출'!$C19)*(구분표!$A$2:$A$1001='15년일출'!$D19),0))),"@@")} -> 2609
B20: =IFERROR(VLOOKUP('15년일출'!$D20,구분표!$A$2:$C$1001,2,FALSE),"") -> 도시환경위원회 | C20: =IFERROR(VLOOKUP('15년일출'!$D20,구분표!$A$2:$C$1001,3,FALSE),"") -> 환경국 | D20: 환경정책과 | E20: 본예산 | F20: 1042 | G20: 환경의 날 행사 추진(자체/직접) -환경의 날 행사 | H20: 25000 | I20: -10000 | K20: =SUM(H20+I20+J20) -> 15000 | N20: =SUM(H20+L20+M20) -> 25000 | O20: =IF(I20-L20<0,"동의필요","-") -> 동의필요 | P20: 적정규모 행사실시 | T20: =IF($R20="도비","도비",IF(COUNT(FIND("국비/",$G20)),"국비",IF(COUNT(FIND("지특/",$G20)),"지특",IF(COUNT(FIND("기금/",$G20)),"기금",IF(COUNT(FIND("교부세/",$G20)),"특교",IF(COUNT(FIND("자체/",$G20)),"도비","")))))) -> 도비 | U20: =IF($T20<>"도비",IF($R20="국도비","직접입력",SUM($I20:$J20)),) -> 0 | V20: =IF($T20="도비",SUM($I20:$J20),IF($R20="국도비","직접입력",SUM($I20:$J20)-$U20)) -> -10000 | W20: =IF($R20="국도비","ok",IF(($I20+$J20)=($U20+$V20),"ok","검토")) -> ok | Y20: =$T20 -> 도비 | Z20: =IF($Y20<>"도비",IF($R20="국도비","직접입력",SUM($L20:$M20)),) -> 0 | AA20: =IF($Y20="도비",SUM($L20:$M20),IF($R20="국도비","직접입력",SUM($L20:$M20)-$Z20)) -> 0 | AB20: =IF($R20="국도비","ok",IF(($L20+$M20)=($Z20+$AA20),"ok","검토")) -> ok | AD20: {=IFERROR(IF($D20="","",INDEX(구분표!$I$2:$I$1001,MATCH(1,(구분표!$B$2:$B$1001='15년일출'!$B20)*(구분표!$C$2:$C$1001='15년일출'!$C20)*(구분표!$A$2:$A$1001='15년일출'!$D20),0))),"@@")} -> 2701
B21: =IFERROR(VLOOKUP('15년일출'!$D21,구분표!$A$2:$C$1001,2,FALSE),"") -> 도시환경위원회 | C21: =IFERROR(VLOOKUP('15년일출'!$D21,구분표!$A$2:$C$1001,3,FALSE),"") -> 환경국 | D21: 환경정책과 | E21: 본예산 | F21: 1045 | G21: 경기도 환경교육통합지원(국비/직접) -경기도 환경교육통합지원 | H21: 400000 | I21: -50000 | K21: =SUM(H21+I21+J21) -> 350000 | N21: =SUM(H21+L21+M21) -> 400000 | O21: =IF(I21-L21<0,"동의필요","-") -> 동의필요 | P21: 도비감액 | T21: =IF($R21="도비","도비",IF(COUNT(FIND("국비/",$G21)),"국비",IF(COUNT(FIND("지특/",$G21)),"지특",IF(COUNT(FIND("기금/",$G21)),"기금",IF(COUNT(FIND("교부세/",$G21)),"특교",IF(COUNT(FIND("자체/",$G21)),"도비","")))))) -> 국비 | U21: 0 | V21: -50000 | W21: =IF($R21="국도비","ok",IF(($I21+$J21)=($U21+$V21),"ok","검토")) -> ok | Y21: =$T21 -> 국비 | Z21: =IF($Y21<>"도비",IF($R21="국도비","직접입력",SUM($L21:$M21)),) -> 0 | AA21: =IF($Y21="도비",SUM($L21:$M21),IF($R21="국도비","직접입력",SUM($L21:$M21)-$Z21)) -> 0 | AB21: =IF($R21="국도비","ok",IF(($L21+$M21)=($Z21+$AA21),"ok","검토")) -> ok | AD21: {=IFERROR(IF($D21="","",INDEX(구분표!$I$2:$I$1001,MATCH(1,(구분표!$B$2:$B$1001='15년일출'!$B21)*(구분표!$C$2:$C$1001='15년일출'!$C21)*(구분표!$A$2:$A$1001='15년일출'!$D21),0))),"@@")} -> 2701
B22: =IFERROR(VLOOKUP('15년일출'!$D22,구분표!$A$2:$C$1001,2,FALSE),"") -> 도시환경위원회 | C22: =IFERROR(VLOOKUP('15년일출'!$D22,구분표!$A$2:$C$1001,3,FALSE),"") -> 환경국 | D22: 환경정책과 | E22: 본예산 | F22: 1045 | G22: 경기도 환경교육계획 수립(자체/직접) -경기도 환경교육계획수립 연구용역 | H22: 30000 | I22: -5000 | K22: =SUM(H22+I22+J22) -> 25000 | N22: =SUM(H22+L22+M22) -> 30000 | O22: =IF(I22-L22<0,"동의필요","-") -> 동의필요 | P22: 용역비 조정 | T22: =IF($R22="도비","도비",IF(COUNT(FIND("국비/",$G22)),"국비",IF(COUNT(FIND("지특/",$G22)),"지특",IF(COUNT(FIND("기금/",$G22)),"기금",IF(COUNT(FIND("교부세/",$G22)),"특교",IF(COUNT(FIND("자체/",$G22)),"도비","")))))) -> 도비 | U22: =IF($T22<>"도비",IF($R22="국도비","직접입력",SUM($I22:$J22)),) -> 0 | V22: =IF($T22="도비",SUM($I22:$J22),IF($R22="국도비","직접입력",SUM($I22:$J22)-$U22)) -> -5000 | W22: =IF($R22="국도비","ok",IF(($I22+$J22)=($U22+$V22),"ok","검토")) -> ok | Y22: =$T22 -> 도비 | Z22: =IF($Y22<>"도비",IF($R22="국도비","직접입력",SUM($L22:$M22)),) -> 0 | AA22: =IF($Y22="도비",SUM($L22:$M22),IF($R22="국도비","직접입력",SUM($L22:$M22)-$Z22)) -> 0 | AB22: =IF($R22="국도비","ok",IF(($L22+$M22)=($Z22+$AA22),"ok","검토")) -> ok | AD22: {=IFERROR(IF($D22="","",INDEX(구분표!$I$2:$I$1001,MATCH(1,(구분표!$B$2:$B$1001='15년일출'!$B22)*(구분표!$C$2:$C$1001='15년일출'!$C22)*(구분표!$A$2:$A$1001='15년일출'!$D22),0))),"@@")} -> 2701
B23: =IFERROR(VLOOKUP('15년일출'!$D23,구분표!$A$2:$C$1001,2,FALSE),"") -> 도시환경위원회 | C23: =IFERROR(VLOOKUP('15년일출'!$D23,구분표!$A$2:$C$1001,3,FALSE),"") -> 환경국 | D23: 환경정책과 | E23: 본예산 | F23: 1047 | G23: 생태계교란 야생식물 퇴치(자체/지원) -생태계교란 야생식물 퇴치사업 | H23: 100000 | J23: 100000 | K23: =SUM(H23+I23+J23) -> 200000 | N23: =SUM(H23+L23+M23) -> 100000 | O23: =IF(I23-L23<0,"동의필요","-") -> - | T23: =IF($R23="도비","도비",IF(COUNT(FIND("국비/",$G23)),"국비",IF(COUNT(FIND("지특/",$G23)),"지특",IF(COUNT(FIND("기금/",$G23)),"기금",IF(COUNT(FIND("교부세/",$G23)),"특교",IF(COUNT(FIND("자체/",$G23)),"도비","")))))) -> 도비 | U23: =IF($T23<>"도비",IF($R23="국도비","직접입력",SUM($I23:$J23)),) -> 0 | V23: =IF($T23="도비",SUM($I23:$J23),IF($R23="국도비","직접입력",SUM($I23:$J23)-$U23)) -> 100000 | W23: =IF($R23="국도비","ok",IF(($I23+$J23)=($U23+$V23),"ok","검토")) -> ok | Y23: =$T23 -> 도비 | Z23: =IF($Y23<>"도비",IF($R23="국도비","직접입력",SUM($L23:$M23)),) -> 0 | AA23: =IF($Y23="도비",SUM($L23:$M23),IF($R23="국도비","직접입력",SUM($L23:$M23)-$Z23)) -> 0 | AB23: =IF($R23="국도비","ok",IF(($L23+$M23)=($Z23+$AA23),"ok","검토")) -> ok | AD23: {=IFERROR(IF($D23="","",INDEX(구분표!$I$2:$I$1001,MATCH(1,(구분표!$B$2:$B$1001='15년일출'!$B23)*(구분표!$C$2:$C$1001='15년일출'!$C23)*(구분표!$A$2:$A$1001='15년일출'!$D23),0))),"@@")} -> 2701
B24: =IFERROR(VLOOKUP('15년일출'!$D24,구분표!$A$2:$C$1001,2,FALSE),"") -> 도시환경위원회 | C24: =IFERROR(VLOOKUP('15년일출'!$D24,구분표!$A$2:$C$1001,3,FALSE),"") -> 환경국 | D24: 환경정책과 | E24: 본예산 | F24: 1047 | G24: 동부권 생태관광 기반마련(자체/직접) -동부권 생태관광 기반마련 | H24: 100000 | I24: -40000 | K24: =SUM(H24+I24+J24) -> 60000 | N24: =SUM(H24+L24+M24) -> 100000 | O24: =IF(I24-L24<0,"동의필요","-") -> 동의필요 | P24: 용역비 조정 | T24: =IF($R24="도비","도비",IF(COUNT(FIND("국비/",$G24)),"국비",IF(COUNT(FIND("지특/",$G24)),"지특",IF(COUNT(FIND("기금/",$G24)),"기금",IF(COUNT(FIND("교부세/",$G24)),"특교",IF(COUNT(FIND("자체/",$G24)),"도비","")))))) -> 도비 | U24: =IF($T24<>"도비",IF($R24="국도비","직접입력",SUM($I24:$J24)),) -> 0 | V24: =IF($T24="도비",SUM($I24:$J24),IF($R24="국도비","직접입력",SUM($I24:$J24)-$U24)) -> -40000 | W24: =IF($R24="국도비","ok",IF(($I24+$J24)=($U24+$V24),"ok","검토")) -> ok | Y24: =$T24 -> 도비 | Z24: =IF($Y24<>"도비",IF($R24="국도비","직접입력",SUM($L24:$M24)),) -> 0 | AA24: =IF($Y24="도비",SUM($L24:$M24),IF($R24="국도비","직접입력",SUM($L24:$M24)-$Z24)) -> 0 | AB24: =IF($R24="국도비","ok",IF(($L24+$M24)=($Z24+$AA24),"ok","검토")) -> ok | AD24: {=IFERROR(IF($D24="","",INDEX(구분표!$I$2:$I$1001,MATCH(1,(구분표!$B$2:$B$1001='15년일출'!$B24)*(구분표!$C$2:$C$1001='15년일출'!$C24)*(구분표!$A$2:$A$1001='15년일출'!$D24),0))),"@@")} -> 2701
B25: =IFERROR(VLOOKUP('15년일출'!$D25,구분표!$A$2:$C$1001,2,FALSE),"") -> 도시환경위원회 | C25: =IFERROR(VLOOKUP('15년일출'!$D25,구분표!$A$2:$C$1001,3,FALSE),"") -> 환경국 | D25: 기후대기과 | E25: 신규 | G25: 취약계층 지붕개량비지원(자체/지원) -취약계층 지붕개량비지원 | J25: 55000 | K25: =SUM(H25+I25+J25) -> 55000 | N25: =SUM(H25+L25+M25) -> 0 | O25: =IF(I25-L25<0,"동의필요","-") -> - | T25: =IF($R25="도비","도비",IF(COUNT(FIND("국비/",$G25)),"국비",IF(COUNT(FIND("지특/",$G25)),"지특",IF(COUNT(FIND("기금/",$G25)),"기금",IF(COUNT(FIND("교부세/",$G25)),"특교",IF(COUNT(FIND("자체/",$G25)),"도비","")))))) -> 도비 | U25: =IF($T25<>"도비",IF($R25="국도비","직접입력",SUM($I25:$J25)),) -> 0 | V25: =IF($T25="도비",SUM($I25:$J25),IF($R25="국도비","직접입력",SUM($I25:$J25)-$U25)) -> 55000 | W25: =IF($R25="국도비","ok",IF(($I25+$J25)=($U25+$V25),"ok","검토")) -> ok | Y25: =$T25 -> 도비 | Z25: =IF($Y25<>"도비",IF($R25="국도비","직접입력",SUM($L25:$M25)),) -> 0 | AA25: =IF($Y25="도비",SUM($L25:$M25),IF($R25="국도비","직접입력",SUM($L25:$M25)-$Z25)) -> 0 | AB25: =IF($R25="국도비","ok",IF(($L25+$M25)=($Z25+$AA25),"ok","검토")) -> ok | AD25: {=IFERROR(IF($D25="","",INDEX(구분표!$I$2:$I$1001,MATCH(1,(구분표!$B$2:$B$1001='15년일출'!$B25)*(구분표!$C$2:$C$1001='15년일출'!$C25)*(구분표!$A$2:$A$1001='15년일출'!$D25),0))),"@@")} -> 2702
B26: =IFERROR(VLOOKUP('15년일출'!$D26,구분표!$A$2:$C$1001,2,FALSE),"") -> 도시환경위원회 | C26: =IFERROR(VLOOKUP('15년일출'!$D26,구분표!$A$2:$C$1001,3,FALSE),"") -> 환경국 | D26: 기후대기과 | E26: 본예산 | F26: 1053 | G26: 그린캠퍼스 조성(자체/직접) -그린캠퍼스 조성 | H26: 150000 | I26: -50000 | K26: =SUM(H26+I26+J26) -> 100000 | N26: =SUM(H26+L26+M26) -> 150000 | O26: =IF(I26-L26<0,"동의필요","-") -> 동의필요 | P26: 사업량 축소 | T26: =IF($R26="도비","도비",IF(COUNT(FIND("국비/",$G26)),"국비",IF(COUNT(FIND("지특/",$G26)),"지특",IF(COUNT(FIND("기금/",$G26)),"기금",IF(COUNT(FIND("교부세/",$G26)),"특교",IF(COUNT(FIND("자체/",$G26)),"도비","")))))) -> 도비 | U26: =IF($T26<>"도비",IF($R26="국도비","직접입력",SUM($I26:$J26)),) -> 0 | V26: =IF($T26="도비",SUM($I26:$J26),IF($R26="국도비","직접입력",SUM($I26:$J26)-$U26)) -> -50000 | W26: =IF($R26="국도비","ok",IF(($I26+$J26)=($U26+$V26),"ok","검토")) -> ok | Y26: =$T26 -> 도비 | Z26: =IF($Y26<>"도비",IF($R26="국도비","직접입력",SUM($L26:$M26)),) -> 0 | AA26: =IF($Y26="도비",SUM($L26:$M26),IF($R26="국도비","직접입력",SUM($L26:$M26)-$Z26)) -> 0 | AB26: =IF($R26="국도비","ok",IF(($L26+$M26)=($Z26+$AA26),"ok","검토")) -> ok | AD26: {=IFERROR(IF($D26="","",INDEX(구분표!$I$2:$I$1001,MATCH(1,(구분표!$B$2:$B$1001='15년일출'!$B26)*(구분표!$C$2:$C$1001='15년일출'!$C26)*(구분표!$A$2:$A$1001='15년일출'!$D26),0))),"@@")} -> 2702
B27: =IFERROR(VLOOKUP('15년일출'!$D27,구분표!$A$2:$C$1001,2,FALSE),"") -> 도시환경위원회 | C27: =IFERROR(VLOOKUP('15년일출'!$D27,구분표!$A$2:$C$1001,3,FALSE),"") -> 환경국 | D27: 기후대기과 | E27: 신규 | G27: 대기환경분야 해외 벤치마킹(자체/직접) -대기환경분야 해외 벤치마킹 | J27: 12000 | K27: =SUM(H27+I27+J27) -> 12000 | N27: =SUM(H27+L27+M27) -> 0 | O27: =IF(I27-L27<0,"동의필요","-") -> - | P27: 미세먼지 대응등에 대한 선진지 벤치마킹 필요 | T27: =IF($R27="도비","도비",IF(COUNT(FIND("국비/",$G27)),"국비",IF(COUNT(FIND("지특/",$G27)),"지특",IF(COUNT(FIND("기금/",$G27)),"기금",IF(COUNT(FIND("교부세/",$G27)),"특교",IF(COUNT(FIND("자체/",$G27)),"도비","")))))) -> 도비 | U27: =IF($T27<>"도비",IF($R27="국도비","직접입력",SUM($I27:$J27)),) -> 0 | V27: =IF($T27="도비",SUM($I27:$J27),IF($R27="국도비","직접입력",SUM($I27:$J27)-$U27)) -> 12000 | W27: =IF($R27="국도비","ok",IF(($I27+$J27)=($U27+$V27),"ok","검토")) -> ok | Y27: =$T27 -> 도비 | Z27: =IF($Y27<>"도비",IF($R27="국도비","직접입력",SUM($L27:$M27)),) -> 0 | AA27: =IF($Y27="도비",SUM($L27:$M27),IF($R27="국도비","직접입력",SUM($L27:$M27)-$Z27)) -> 0 | AB27: =IF($R27="국도비","ok",IF(($L27+$M27)=($Z27+$AA27),"ok","검토")) -> ok | AD27: {=IFERROR(IF($D27="","",INDEX(구분표!$I$2:$I$1001,MATCH(1,(구분표!$B$2:$B$1001='15년일출'!$B27)*(구분표!$C$2:$C$1001='15년일출'!$C27)*(구분표!$A$2:$A$1001='15년일출'!$D27),0))),"@@")} -> 2702
B28: =IFERROR(VLOOKUP('15년일출'!$D28,구분표!$A$2:$C$1001,2,FALSE),"") -> 도시환경위원회 | C28: =IFERROR(VLOOKUP('15년일출'!$D28,구분표!$A$2:$C$1001,3,FALSE),"") -> 환경국 | D28: 환경안전관리과 | E28: 본예산 | F28: 1057 | G28: 전문가, 주민참여 환경안전 포럼 개최(자체/직접 -환경안전 포럼 | H28: 10000 | J28: 20000 | K28: =SUM(H28+I28+J28) -> 30000 | N28: =SUM(H28+L28+M28) -> 10000 | O28: =IF(I28-L28<0,"동의필요","-") -> - | P28: 환경안전의식 강화필요 | T28: =IF($R28="도비","도비",IF(COUNT(FIND("국비/",$G28)),"국비",IF(COUNT(FIND("지특/",$G28)),"지특",IF(COUNT(FIND("기금/",$G28)),"기금",IF(COUNT(FIND("교부세/",$G28)),"특교",IF(COUNT(FIND("자체/",$G28)),"도비","")))))) -> 도비 | U28: =IF($T28<>"도비",IF($R28="국도비","직접입력",SUM($I28:$J28)),) -> 0 | V28: =IF($T28="도비",SUM($I28:$J28),IF($R28="국도비","직접입력",SUM($I28:$J28)-$U28)) -> 20000 | W28: =IF($R28="국도비","ok",IF(($I28+$J28)=($U28+$V28),"ok","검토")) -> ok | Y28: =$T28 -> 도비 | Z28: =IF($Y28<>"도비",IF($R28="국도비","직접입력",SUM($L28:$M28)),) -> 0 | AA28: =IF($Y28="도비",SUM($L28:$M28),IF($R28="국도비","직접입력",SUM($L28:$M28)-$Z28)) -> 0 | AB28: =IF($R28="국도비","ok",IF(($L28+$M28)=($Z28+$AA28),"ok","검토")) -> ok | AD28: {=IFERROR(IF($D28="","",INDEX(구분표!$I$2:$I$1001,MATCH(1,(구분표!$B$2:$B$1001='15년일출'!$B28)*(구분표!$C$2:$C$1001='15년일출'!$C28)*(구분표!$A$2:$A$1001='15년일출'!$D28),0))),"@@")} -> 2703
B29: =IFERROR(VLOOKUP('15년일출'!$D29,구분표!$A$2:$C$1001,2,FALSE),"") -> 도시환경위원회 | C29: =IFERROR(VLOOKUP('15년일출'!$D29,구분표!$A$2:$C$1001,3,FALSE),"") -> 환경국 | D29: 환경안전관리과 | E29: 신규 | G29: 유해화학물질 사고대응 기반 마련(자체/직접) -지역협의체 운영 | J29: 40000 | K29: =SUM(H29+I29+J29) -> 40000 | N29: =SUM(H29+L29+M29) -> 0 | O29: =IF(I29-L29<0,"동의필요","-") -> - | P29: 안전교육 확대 강화 | T29: =IF($R29="도비","도비",IF(COUNT(FIND("국비/",$G29)),"국비",IF(COUNT(FIND("지특/",$G29)),"지특",IF(COUNT(FIND("기금/",$G29)),"기금",IF(COUNT(FIND("교부세/",$G29)),"특교",IF(COUNT(FIND("자체/",$G29)),"도비","")))))) -> 도비 | U29: =IF($T29<>"도비",IF($R29="국도비","직접입력",SUM($I29:$J29)),) -> 0 | V29: =IF($T29="도비",SUM($I29:$J29),IF($R29="국도비","직접입력",SUM($I29:$J29)-$U29)) -> 40000 | W29: =IF($R29="국도비","ok",IF(($I29+$J29)=($U29+$V29),"ok","검토")) -> ok | Y29: =$T29 -> 도비 | Z29: =IF($Y29<>"도비",IF($R29="국도비","직접입력",SUM($L29:$M29)),) -> 0 | AA29: =IF($Y29="도비",SUM($L29:$M29),IF($R29="국도비","직접입력",SUM($L29:$M29)-$Z29)) -> 0 | AB29: =IF($R29="국도비","ok",IF(($L29+$M29)=($Z29+$AA29),"ok","검토")) -> ok | AD29: {=IFERROR(IF($D29="","",INDEX(구분표!$I$2:$I$1001,MATCH(1,(구분표!$B$2:$B$1001='15년일출'!$B29)*(구분표!$C$2:$C$1001='15년일출'!$C29)*(구분표!$A$2:$A$1001='15년일출'!$D29),0))),"@@")} -> 2703
B30: =IFERROR(VLOOKUP('15년일출'!$D30,구분표!$A$2:$C$1001,2,FALSE),"") -> 도시환경위원회 | C30: =IFERROR(VLOOKUP('15년일출'!$D30,구분표!$A$2:$C$1001,3,FALSE),"") -> 환경국 | D30: 환경안전관리과 | E30: 본예산 | F30: 1058 | G30: 유해화학물질 안전시설 교체개선(자체/지원) -유해화학물질 안전시설 교체개선 | H30: 25000 | J30: 107480 | K30: =SUM(H30+I30+J30) -> 132480 | N30: =SUM(H30+L30+M30) -> 25000 | O30: =IF(I30-L30<0,"동의필요","-") -> - | P30: 유해확학물질 안전사고 사전예방 | T30: =IF($R30="도비","도비",IF(COUNT(FIND("국비/",$G30)),"국비",IF(COUNT(FIND("지특/",$G30)),"지특",IF(COUNT(FIND("기금/",$G30)),"기금",IF(COUNT(FIND("교부세/",$G30)),"특교",IF(COUNT(FIND("자체/",$G30)),"도비","")))))) -> 도비 | U30: =IF($T30<>"도비",IF($R30="국도비","직접입력",SUM($I30:$J30)),) -> 0 | V30: =IF($T30="도비",SUM($I30:$J30),IF($R30="국도비","직접입력",SUM($I30:$J30)-$U30)) -> 107480 | W30: =IF($R30="국도비","ok",IF(($I30+$J30)=($U30+$V30),"ok","검토")) -> ok | Y30: =$T30 -> 도비 | Z30: =IF($Y30<>"도비",IF($R30="국도비","직접입력",SUM($L30:$M30)),) -> 0 | AA30: =IF($Y30="도비",SUM($L30:$M30),IF($R30="국도비","직접입력",SUM($L30:$M30)-$Z30)) -> 0 | AB30: =IF($R30="국도비","ok",IF(($L30+$M30)=($Z30+$AA30),"ok","검토")) -> ok | AD30: {=IFERROR(IF($D30="","",INDEX(구분표!$I$2:$I$1001,MATCH(1,(구분표!$B$2:$B$1001='15년일출'!$B30)*(구분표!$C$2:$C$1001='15년일출'!$C30)*(구분표!$A$2:$A$1001='15년일출'!$D30),0))),"@@")} -> 2703
B31: =IFERROR(VLOOKUP('15년일출'!$D31,구분표!$A$2:$C$1001,2,FALSE),"") -> 도시환경위원회 | C31: =IFERROR(VLOOKUP('15년일출'!$D31,구분표!$A$2:$C$1001,3,FALSE),"") -> 환경국 | D31: 환경안전관리과 | E31: 본예산 | F31: 1058 | G31: 환경오염정보 도민 바로알림 서비스 제공(자체/직접) | H31: 50000 | I31: -50000 | K31: =SUM(H31+I31+J31) -> 0 | N31: =SUM(H31+L31+M31) -> 50000 | O31: =IF(I31-L31<0,"동의필요","-") -> 동의필요 | P31: 효과성 미흡 | T31: =IF($R31="도비","도비",IF(COUNT(FIND("국비/",$G31)),"국비",IF(COUNT(FIND("지특/",$G31)),"지특",IF(COUNT(FIND("기금/",$G31)),"기금",IF(COUNT(FIND("교부세/",$G31)),"특교",IF(COUNT(FIND("자체/",$G31)),"도비","")))))) -> 도비 | U31: =IF($T31<>"도비",IF($R31="국도비","직접입력",SUM($I31:$J31)),) -> 0 | V31: =IF($T31="도비",SUM($I31:$J31),IF($R31="국도비","직접입력",SUM($I31:$J31)-$U31)) -> -50000 | W31: =IF($R31="국도비","ok",IF(($I31+$J31)=($U31+$V31),"ok","검토")) -> ok | Y31: =$T31 -> 도비 | Z31: =IF($Y31<>"도비",IF($R31="국도비","직접입력",SUM($L31:$M31)),) -> 0 | AA31: =IF($Y31="도비",SUM($L31:$M31),IF($R31="국도비","직접입력",SUM($L31:$M31)-$Z31)) -> 0 | AB31: =IF($R31="국도비","ok",IF(($L31+$M31)=($Z31+$AA31),"ok","검토")) -> ok | AD31: {=IFERROR(IF($D31="","",INDEX(구분표!$I$2:$I$1001,MATCH(1,(구분표!$B$2:$B$1001='15년일출'!$B31)*(구분표!$C$2:$C$1001='15년일출'!$C31)*(구분표!$A$2:$A$1001='15년일출'!$D31),0))),"@@")} -> 2703
B32: =IFERROR(VLOOKUP('15년일출'!$D32,구분표!$A$2:$C$1001,2,FALSE),"") -> 도시환경위원회 | C32: =IFERROR(VLOOKUP('15년일출'!$D32,구분표!$A$2:$C$1001,3,FALSE),"") -> 환경국 | D32: 자원순환과 | E32: 본예산 | F32: 1061 | G32: 생활자원회수센터 확충(국비/지원) -평택 생활자원회수센터 설치사업 | H32: 71000 | J32: 21300 | K32: =SUM(H32+I32+J32) -> 92300 | N32: =SUM(H32+L32+M32) -> 71000 | O32: =IF(I32-L32<0,"동의필요","-") -> - | P32: 폐기물법에 근거한 폐기물처리 도비보조 | T32: 도비 | V32: 21300 | W32: =IF($R32="국도비","ok",IF(($I32+$J32)=($U32+$V32),"ok","검토")) -> ok | Y32: =$T32 -> 도비 | Z32: =IF($Y32<>"도비",IF($R32="국도비","직접입력",SUM($L32:$M32)),) -> 0 | AA32: =IF($Y32="도비",SUM($L32:$M32),IF($R32="국도비","직접입력",SUM($L32:$M32)-$Z32)) -> 0 | AB32: =IF($R32="국도비","ok",IF(($L32+$M32)=($Z32+$AA32),"ok","검토")) -> ok | AD32: {=IFERROR(IF($D32="","",INDEX(구분표!$I$2:$I$1001,MATCH(1,(구분표!$B$2:$B$1001='15년일출'!$B32)*(구분표!$C$2:$C$1001='15년일출'!$C32)*(구분표!$A$2:$A$1001='15년일출'!$D32),0))),"@@")} -> 2704
B33: =IFERROR(VLOOKUP('15년일출'!$D33,구분표!$A$2:$C$1001,2,FALSE),"") -> 도시환경위원회 | C33: =IFERROR(VLOOKUP('15년일출'!$D33,구분표!$A$2:$C$1001,3,FALSE),"") -> 환경국 | D33: 자원순환과 | E33: 본예산 | F33: 1062 | G33: 평택 유기성폐자원 바이오가스화 시설 설치(국비/지원) -평택 유기성폐자원 바이오가스화 시설 설치사업 | H33: 500000 | J33: 150000 | K33: =SUM(H33+I33+J33) -> 650000 | N33: =SUM(H33+L33+M33) -> 500000 | O33: =IF(I33-L33<0,"동의필요","-") -> - | P33: 폐기물법에 근거한 폐기물처리 도비보조 | T33: 도비 | V33: 150000 | W33: =IF($R33="국도비","ok",IF(($I33+$J33)=($U33+$V33),"ok","검토")) -> ok | Y33: =$T33 -> 도비 | Z33: =IF($Y33<>"도비",IF($R33="국도비","직접입력",SUM($L33:$M33)),) -> 0 | AA33: =IF($Y33="도비",SUM($L33:$M33),IF($R33="국도비","직접입력",SUM($L33:$M33)-$Z33)) -> 0 | AB33: =IF($R33="국도비","ok",IF(($L33+$M33)=($Z33+$AA33),"ok","검토")) -> ok | AD33: {=IFERROR(IF($D33="","",INDEX(구분표!$I$2:$I$1001,MATCH(1,(구분표!$B$2:$B$1001='15년일출'!$B33)*(구분표!$C$2:$C$1001='15년일출'!$C33)*(구분표!$A$2:$A$1001='15년일출'!$D33),0))),"@@")} -> 2704
B34: =IFERROR(VLOOKUP('15년일출'!$D34,구분표!$A$2:$C$1001,2,FALSE),"") -> 도시환경위원회 | C34: =IFERROR(VLOOKUP('15년일출'!$D34,구분표!$A$2:$C$1001,3,FALSE),"") -> 환경국 | D34: 자원순환과 | E34: 본예산 | F34: 1063 | G34: 가평 음식물자원화시설 설치(국비/지원) -가평 음식물류 공공처리시설 설치 | H34: 432000 | J34: 129600 | K34: =SUM(H34+I34+J34) -> 561600 | N34: =SUM(H34+L34+M34) -> 432000 | O34: =IF(I34-L34<0,"동의필요","-") -> - | P34: 폐기물법에 근거한 폐기물처리 도비보조 | T34: 도비 | V34: 129600 | W34: =IF($R34="국도비","ok",IF(($I34+$J34)=($U34+$V34),"ok","검토")) -> ok | Y34: =$T34 -> 도비 | Z34: =IF($Y34<>"도비",IF($R34="국도비","직접입력",SUM($L34:$M34)),) -> 0 | AA34: =IF($Y34="도비",SUM($L34:$M34),IF($R34="국도비","직접입력",SUM($L34:$M34)-$Z34)) -> 0 | AB34: =IF($R34="국도비","ok",IF(($L34+$M34)=($Z34+$AA34),"ok","검토")) -> ok | AD34: {=IFERROR(IF($D34="","",INDEX(구분표!$I$2:$I$1001,MATCH(1,(구분표!$B$2:$B$1001='15년일출'!$B34)*(구분표!$C$2:$C$1001='15년일출'!$C34)*(구분표!$A$2:$A$1001='15년일출'!$D34),0))),"@@")} -> 2704
B35: =IFERROR(VLOOKUP('15년일출'!$D35,구분표!$A$2:$C$1001,2,FALSE),"") -> 도시환경위원회 | C35: =IFERROR(VLOOKUP('15년일출'!$D35,구분표!$A$2:$C$1001,3,FALSE),"") -> 환경국 | D35: 자원순환과 | E35: 본예산 | F35: 1063 | G35: 평택 가연성폐기물 연료화 시설 설치(국비/지원) -평택 가연성폐기물 연료화 시설 설치사업 | H35: 500000 | J35: 150000 | K35: =SUM(H35+I35+J35) -> 650000 | N35: =SUM(H35+L35+M35) -> 500000 | O35: =IF(I35-L35<0,"동의필요","-") -> - | P35: 폐기물법에 근거한 폐기물처리 도비보조 | T35: 도비 | V35: 150000 | W35: =IF($R35="국도비","ok",IF(($I35+$J35)=($U35+$V35),"ok","검토")) -> ok | Y35: =$T35 -> 도비 | Z35: =IF($Y35<>"도비",IF($R35="국도비","직접입력",SUM($L35:$M35)),) -> 0 | AA35: =IF($Y35="도비",SUM($L35:$M35),IF($R35="국도비","직접입력",SUM($L35:$M35)-$Z35)) -> 0 | AB35: =IF($R35="국도비","ok",IF(($L35+$M35)=($Z35+$AA35),"ok","검토")) -> ok | AD35: {=IFERROR(IF($D35="","",INDEX(구분표!$I$2:$I$1001,MATCH(1,(구분표!$B$2:$B$1001='15년일출'!$B35)*(구분표!$C$2:$C$1001='15년일출'!$C35)*(구분표!$A$2:$A$1001='15년일출'!$D35),0))),"@@")} -> 2704
B36: =IFERROR(VLOOKUP('15년일출'!$D36,구분표!$A$2:$C$1001,2,FALSE),"") -> 도시환경위원회 | C36: =IFERROR(VLOOKUP('15년일출'!$D36,구분표!$A$2:$C$1001,3,FALSE),"") -> 환경국 | D36: 자원순환과 | E36: 본예산 | F36: 1063 | G36: 농촌폐비닐 수거장려금(자체/지원) -농촌폐비닐 수거장려금 | H36: 210473 | J36: 200000 | K36: =SUM(H36+I36+J36) -> 410473 | N36: =SUM(H36+L36+M36) -> 210473 | O36: =IF(I36-L36<0,"동의필요","-") -> - | P36: 지원확대 | T36: =IF($R36="도비","도비",IF(COUNT(FIND("국비/",$G36)),"국비",IF(COUNT(FIND("지특/",$G36)),"지특",IF(COUNT(FIND("기금/",$G36)),"기금",IF(COUNT(FIND("교부세/",$G36)),"특교",IF(COUNT(FIND("자체/",$G36)),"도비","")))))) -> 도비 | U36: =IF($T36<>"도비",IF($R36="국도비","직접입력",SUM($I36:$J36)),) -> 0 | V36: =IF($T36="도비",SUM($I36:$J36),IF($R36="국도비","직접입력",SUM($I36:$J36)-$U36)) -> 200000 | W36: =IF($R36="국도비","ok",IF(($I36+$J36)=($U36+$V36),"ok","검토")) -> ok | Y36: =$T36 -> 도비 | Z36: =IF($Y36<>"도비",IF($R36="국도비","직접입력",SUM($L36:$M36)),) -> 0 | AA36: =IF($Y36="도비",SUM($L36:$M36),IF($R36="국도비","직접입력",SUM($L36:$M36)-$Z36)) -> 0 | AB36: =IF($R36="국도비","ok",IF(($L36+$M36)=($Z36+$AA36),"ok","검토")) -> ok | AD36: {=IFERROR(IF($D36="","",INDEX(구분표!$I$2:$I$1001,MATCH(1,(구분표!$B$2:$B$1001='15년일출'!$B36)*(구분표!$C$2:$C$1001='15년일출'!$C36)*(구분표!$A$2:$A$1001='15년일출'!$D36),0))),"@@")} -> 2704
B37: =IFERROR(VLOOKUP('15년일출'!$D37,구분표!$A$2:$C$1001,2,FALSE),"") -> 도시환경위원회 | C37: =IFERROR(VLOOKUP('15년일출'!$D37,구분표!$A$2:$C$1001,3,FALSE),"") -> 환경국 | D37: 공단환경관리사업소 | E37: 본예산 | F37: 1069 | G37: 민간환경감시단 지원(자체/지원) -민간환경감시단 지원 | H37: 64000 | J37: 26000 | K37: =SUM(H37+I37+J37) -> 90000 | N37: =SUM(H37+L37+M37) -> 64000 | O37: =IF(I37-L37<0,"동의필요","-") -> - | P37: 전년수준 지원필요 | T37: =IF($R37="도비","도비",IF(COUNT(FIND("국비/",$G37)),"국비",IF(COUNT(FIND("지특/",$G37)),"지특",IF(COUNT(FIND("기금/",$G37)),"기금",IF(COUNT(FIND("교부세/",$G37)),"특교",IF(COUNT(FIND("자체/",$G37)),"도비","")))))) -> 도비 | U37: =IF($T37<>"도비",IF($R37="국도비","직접입력",SUM($I37:$J37)),) -> 0 | V37: =IF($T37="도비",SUM($I37:$J37),IF($R37="국도비","직접입력",SUM($I37:$J37)-$U37)) -> 26000 | W37: =IF($R37="국도비","ok",IF(($I37+$J37)=($U37+$V37),"ok","검토")) -> ok | Y37: =$T37 -> 도비 | Z37: =IF($Y37<>"도비",IF($R37="국도비","직접입력",SUM($L37:$M37)),) -> 0 | AA37: =IF($Y37="도비",SUM($L37:$M37),IF($R37="국도비","직접입력",SUM($L37:$M37)-$Z37)) -> 0 | AB37: =IF($R37="국도비","ok",IF(($L37+$M37)=($Z37+$AA37),"ok","검토")) -> ok | AD37: {=IFERROR(IF($D37="","",INDEX(구분표!$I$2:$I$1001,MATCH(1,(구분표!$B$2:$B$1001='15년일출'!$B37)*(구분표!$C$2:$C$1001='15년일출'!$C37)*(구분표!$A$2:$A$1001='15년일출'!$D37),0))),"@@")} -> 2706
A38: ㅇ | B38: =IFERROR(VLOOKUP('15년일출'!$D38,구분표!$A$2:$C$1001,2,FALSE),"") -> 도시환경위원회 | C38: =IFERROR(VLOOKUP('15년일출'!$D38,구분표!$A$2:$C$1001,3,FALSE),"") -> 축산산림국 | D38: 공원녹지과 | E38: 본예산 | F38: 1075 | G38: 산림서비스 도우미(국비/지원) - 도시녹지관리원 운영 | H38: 163994 | I38: -7178 | K38: =SUM(H38+I38+J38) -> 156816 | N38: =SUM(H38+L38+M38) -> 163994 | O38: =IF(I38-L38<0,"동의필요","-") -> 동의필요 | P38: 국비내시 ※ 산림청 기획재정담당관-3435(14.10.15)호 세입부서 산림과(산림서비스 도우미) | T38: =IF($R38="도비","도비",IF(COUNT(FIND("국비/",$G38)),"국비",IF(COUNT(FIND("지특/",$G38)),"지특",IF(COUNT(FIND("기금/",$G38)),"기금",IF(COUNT(FIND("교부세/",$G38)),"특교",IF(COUNT(FIND("자체/",$G38)),"도비","")))))) -> 국비 | U38: =IF($T38<>"도비",IF($R38="국도비","직접입력",SUM($I38:$J38)),) -> -7178 | V38: =IF($T38="도비",SUM($I38:$J38),IF($R38="국도비","직접입력",SUM($I38:$J38)-$U38)) -> 0 | W38: =IF($R38="국도비","ok",IF(($I38+$J38)=($U38+$V38),"ok","검토")) -> ok | Y38: =$T38 -> 국비 | Z38: =IF($Y38<>"도비",IF($R38="국도비","직접입력",SUM($L38:$M38)),) -> 0 | AA38: =IF($Y38="도비",SUM($L38:$M38),IF($R38="국도비","직접입력",SUM($L38:$M38)-$Z38)) -> 0 | AB38: =IF($R38="국도비","ok",IF(($L38+$M38)=($Z38+$AA38),"ok","검토")) -> ok | AD38: {=IFERROR(IF($D38="","",INDEX(구분표!$I$2:$I$1001,MATCH(1,(구분표!$B$2:$B$1001='15년일출'!$B38)*(구분표!$C$2:$C$1001='15년일출'!$C38)*(구분표!$A$2:$A$1001='15년일출'!$D38),0))),"@@")} -> 2801
A39: ㅇ | B39: =IFERROR(VLOOKUP('15년일출'!$D39,구분표!$A$2:$C$1001,2,FALSE),"") -> 도시환경위원회 | C39: =IFERROR(VLOOKUP('15년일출'!$D39,구분표!$A$2:$C$1001,3,FALSE),"") -> 축산산림국 | D39: 공원녹지과 | E39: 본예산 | F39: 1076 | G39: 무궁화 조성관리(국비/지원) - 무궁화동산 조성 | H39: 100000 | I39: -100000 | K39: =SUM(H39+I39+J39) -> 0 | N39: =SUM(H39+L39+M39) -> 100000 | O39: =IF(I39-L39<0,"동의필요","-") -> 동의필요 | P39: 국비내시 ※ 산림청 도시숲 경관과-3527(14.11.4)호 | T39: =IF($R39="도비","도비",IF(COUNT(FIND("국비/",$G39)),"국비",IF(COUNT(FIND("지특/",$G39)),"지특",IF(COUNT(FIND("기금/",$G39)),"기금",IF(COUNT(FIND("교부세/",$G39)),"특교",IF(COUNT(FIND("자체/",$G39)),"도비","")))))) -> 국비 | U39: =IF($T39<>"도비",IF($R39="국도비","직접입력",SUM($I39:$J39)),) -> -100000 | V39: =IF($T39="도비",SUM($I39:$J39),IF($R39="국도비","직접입력",SUM($I39:$J39)-$U39)) -> 0 | W39: =IF($R39="국도비","ok",IF(($I39+$J39)=($U39+$V39),"ok","검토")) -> ok | Y39: =$T39 -> 국비 | Z39: =IF($Y39<>"도비",IF($R39="국도비","직접입력",SUM($L39:$M39)),) -> 0 | AA39: =IF($Y39="도비",SUM($L39:$M39),IF($R39="국도비","직접입력",SUM($L39:$M39)-$Z39)) -> 0 | AB39: =IF($R39="국도비","ok",IF(($L39+$M39)=($Z39+$AA39),"ok","검토")) -> ok | AD39: {=IFERROR(IF($D39="","",INDEX(구분표!$I$2:$I$1001,MATCH(1,(구분표!$B$2:$B$1001='15년일출'!$B39)*(구분표!$C$2:$C$1001='15년일출'!$C39)*(구분표!$A$2:$A$1001='15년일출'!$D39),0))),"@@")} -> 2801
B40: =IFERROR(VLOOKUP('15년일출'!$D40,구분표!$A$2:$C$1001,2,FALSE),"") -> 도시환경위원회 | C40: =IFERROR(VLOOKUP('15년일출'!$D40,구분표!$A$2:$C$1001,3,FALSE),"") -> 축산산림국 | D40: 공원녹지과 | E40: 신규 | G40: 지자체도시숲 조성(자체/지원) -생활환경숲 조성 | J40: 2000000 | K40: =SUM(H40+I40+J40) -> 2000000 | N40: =SUM(H40+L40+M40) -> 0 | O40: =IF(I40-L40<0,"동의필요","-") -> - | P40: 자체사업 확대 | T40: =IF($R40="도비","도비",IF(COUNT(FIND("국비/",$G40)),"국비",IF(COUNT(FIND("지특/",$G40)),"지특",IF(COUNT(FIND("기금/",$G40)),"기금",IF(COUNT(FIND("교부세/",$G40)),"특교",IF(COUNT(FIND("자체/",$G40)),"도비","")))))) -> 도비 | U40: =IF($T40<>"도비",IF($R40="국도비","직접입력",SUM($I40:$J40)),) -> 0 | V40: =IF($T40="도비",SUM($I40:$J40),IF($R40="국도비","직접입력",SUM($I40:$J40)-$U40)) -> 2000000 | W40: =IF($R40="국도비","ok",IF(($I40+$J40)=($U40+$V40),"ok","검토")) -> ok | Y40: =$T40 -> 도비 | Z40: =IF($Y40<>"도비",IF($R40="국도비","직접입력",SUM($L40:$M40)),) -> 0 | AA40: =IF($Y40="도비",SUM($L40:$M40),IF($R40="국도비","직접입력",SUM($L40:$M40)-$Z40)) -> 0 | AB40: =IF($R40="국도비","ok",IF(($L40+$M40)=($Z40+$AA40),"ok","검토")) -> ok | AD40: {=IFERROR(IF($D40="","",INDEX(구분표!$I$2:$I$1001,MATCH(1,(구분표!$B$2:$B$1001='15년일출'!$B40)*(구분표!$C$2:$C$1001='15년일출'!$C40)*(구분표!$A$2:$A$1001='15년일출'!$D40),0))),"@@")} -> 2801
