Workbook

Sheet 구분표
A1: 실과명 조정 | B1: 위원회명 조정 | C1: 실국명 조정 | E1: 실국명 | F1: 실과명 | G1: 위원회명 | H1: 정렬순서 | I1: 정렬코드 | K1: 2014재원 | L1: 2015재원 | N1: 본예산 | O1: 2회추경
A2: =IF(COUNT(AND(FIND("북부소방재난본부",$E2),FIND("특수대응단",$F2))),"특수대응단(북부)",IF(COUNT(FIND("작물연구과",$F2)),"작물연구과",IF(COUNT(FIND("원예연구과",$F2)),"원예연구과",IF(COUNT(FIND("환경농업연구과",$F2)),"환경농업연구과",IF(COUNT(FIND("지원기획과",$F2)),"지원기획과",IF(COUNT(FIND("기술보급과",$F2)),"기술보급과",IF(COUNT(FIND("농촌자원과",$F2)),"농촌자원과",IF(COUNT(FIND("종자관리소",$F2)),"종자관리소",IF(COUNT(FIND("버섯연구소",$F2)),"버섯연구소",IF(COUNT(FIND("소득자원연구소",$F2)),"소득자원연구소",IF(COUNT(FIND("선인장다육식물연구소",$F2)),"선인장다육식물연구소",IF(COUNT(FIND("보건연구부",$F2)),"보건연구부",IF(COUNT(FIND("대기연구부",$F2)),"대기연구부",IF(COUNT(FIND("수질연구부",$F2)),"수질연구부",IF(COUNT(FIND("북부지원",$F2)),"북부지원",IF(COUNT(FIND("수원농산물검사소",$F2)),"수원농산물검사소",IF(COUNT(FIND("건설본부(관리과)",$F2)),"관리과",IF(COUNT(FIND("도로건설과",$F2)),"도로건설과",IF(COUNT(FIND("북부도로과",$F2)),"북부도로과",IF(COUNT(FIND("건축시설과",$F2)),"건축시설과",IF(COUNT(FIND("신청사건립추진단",$F2)),"신청사건립추진단",$F2))))))))))))))))))))) -> 의회사무처 | B2: =G2 -> 의회운영위원회 | C2: =IF(COUNT(FIND("경기도건설본부",$E2)),"건설본부",IF(COUNT(FIND("경기도농업기술원",$E2)),"농업기술원",IF(COUNT(FIND("경기도보건환경연구원",$E2)),"보건환경연구원",IF(COUNT(FIND("소방재난본부",$E2)),"재난안전본부",IF(COUNT(FIND("경기도소방학교",$E2)),"재난안전본부",IF(COUNT(FIND("경기도인재개발원",$E2)),"인재개발원",IF(COUNT(FIND("북부소방재난본부",$E2)),"재난안전본부",IF(COUNT(FIND("소방서",$E2)),"재난안전본부",$E2)))))))) -> 의회사무처 | E2: 의회사무처 | F2: 의회사무처 | G2: 의회운영위원회 | H2: 1 | I2: 0101 | K2: 도비 | L2: 도비 | N2: 본예산 | O2: 2회추경
A3: =IF(COUNT(AND(FIND("북부소방재난본부",$E3),FIND("특수대응단",$F3))),"특수대응단(북부)",IF(COUNT(FIND("작물연구과",$F3)),"작물연구과",IF(COUNT(FIND("원예연구과",$F3)),"원예연구과",IF(COUNT(FIND("환경농업연구과",$F3)),"환경농업연구과",IF(COUNT(FIND("지원기획과",$F3)),"지원기획과",IF(COUNT(FIND("기술보급과",$F3)),"기술보급과",IF(COUNT(FIND("농촌자원과",$F3)),"농촌자원과",IF(COUNT(FIND("종자관리소",$F3)),"종자관리소",IF(COUNT(FIND("버섯연구소",$F3)),"버섯연구소",IF(COUNT(FIND("소득자원연구소",$F3)),"소득자원연구소",IF(COUNT(FIND("선인장다육식물연구소",$F3)),"선인장다육식물연구소",IF(COUNT(FIND("보건연구부",$F3)),"보건연구부",IF(COUNT(FIND("대기연구부",$F3)),"대기연구부",IF(COUNT(FIND("수질연구부",$F3)),"수질연구부",IF(COUNT(FIND("북부지원",$F3)),"북부지원",IF(COUNT(FIND("수원농산물검사소",$F3)),"수원농산물검사소",IF(COUNT(FIND("건설본부(관리과)",$F3)),"관리과",IF(COUNT(FIND("도로건설과",$F3)),"도로건설과",IF(COUNT(FIND("북부도로과",$F3)),"북부도로과",IF(COUNT(FIND("건축시설과",$F3)),"건축시설과",IF(COUNT(FIND("신청사건립추진단",$F3)),"신청사건립추진단",$F3))))))))))))))))))))) -> 언론담당관 | B3: =G3 -> 의회운영위원회 | C3: =IF(COUNT(FIND("경기도건설본부",$E3)),"건설본부",IF(COUNT(FIND("경기도농업기술원",$E3)),"농업기술원",IF(COUNT(FIND("경기도보건환경연구원",$E3)),"보건환경연구원",IF(COUNT(FIND("소방재난본부",$E3)),"재난안전본부",IF(COUNT(FIND("경기도소방학교",$E3)),"재난안전본부",IF(COUNT(FIND("경기도인재개발원",$E3)),"인재개발원",IF(COUNT(FIND("북부소방재난본부",$E3)),"재난안전본부",IF(COUNT(FIND("소방서",$E3)),"재난안전본부",$E3)))))))) -> 대변인 | E3: 대변인 | F3: 언론담당관 | G3: 의회운영위원회 | H3: 2 | I3: 0201 | K3: 국비 | L3: 국비 | N3: 신규 | O3: 1회추경
A4: =IF(COUNT(AND(FIND("북부소방재난본부",$E4),FIND("특수대응단",$F4))),"특수대응단(북부)",IF(COUNT(FIND("작물연구과",$F4)),"작물연구과",IF(COUNT(FIND("원예연구과",$F4)),"원예연구과",IF(COUNT(FIND("환경농업연구과",$F4)),"환경농업연구과",IF(COUNT(FIND("지원기획과",$F4)),"지원기획과",IF(COUNT(FIND("기술보급과",$F4)),"기술보급과",IF(COUNT(FIND("농촌자원과",$F4)),"농촌자원과",IF(COUNT(FIND("종자관리소",$F4)),"종자관리소",IF(COUNT(FIND("버섯연구소",$F4)),"버섯연구소",IF(COUNT(FIND("소득자원연구소",$F4)),"소득자원연구소",IF(COUNT(FIND("선인장다육식물연구소",$F4)),"선인장다육식물연구소",IF(COUNT(FIND("보건연구부",$F4)),"보건연구부",IF(COUNT(FIND("대기연구부",$F4)),"대기연구부",IF(COUNT(FIND("수질연구부",$F4)),"수질연구부",IF(COUNT(FIND("북부지원",$F4)),"북부지원",IF(COUNT(FIND("수원농산물검사소",$F4)),"수원농산물검사소",IF(COUNT(FIND("건설본부(관리과)",$F4)),"관리과",IF(COUNT(FIND("도로건설과",$F4)),"도로건설과",IF(COUNT(FIND("북부도로과",$F4)),"북부도로과",IF(COUNT(FIND("건축시설과",$F4)),"건축시설과",IF(COUNT(FIND("신청사건립추진단",$F4)),"신청사건립추진단",$F4))))))))))))))))))))) -> 홍보담당관 | B4: =G4 -> 의회운영위원회 | C4: =IF(COUNT(FIND("경기도건설본부",$E4)),"건설본부",IF(COUNT(FIND("경기도농업기술원",$E4)),"농업기술원",IF(COUNT(FIND("경기도보건환경연구원",$E4)),"보건환경연구원",IF(COUNT(FIND("소방재난본부",$E4)),"재난안전본부",IF(COUNT(FIND("경기도소방학교",$E4)),"재난안전본부",IF(COUNT(FIND("경기도인재개발원",$E4)),"인재개발원",IF(COUNT(FIND("북부소방재난본부",$E4)),"재난안전본부",IF(COUNT(FIND("소방서",$E4)),"재난안전본부",$E4)))))))) -> 대변인 | E4: 대변인 | F4: 홍보담당관 | G4: 의회운영위원회 | H4: 3 | I4: 0202 | K4: 광특 | L4: 지특 | O4: 본예산
A5: =IF(COUNT(AND(FIND("북부소방재난본부",$E5),FIND("특수대응단",$F5))),"특수대응단(북부)",IF(COUNT(FIND("작물연구과",$F5)),"작물연구과",IF(COUNT(FIND("원예연구과",$F5)),"원예연구과",IF(COUNT(FIND("환경농업연구과",$F5)),"환경농업연구과",IF(COUNT(FIND("지원기획과",$F5)),"지원기획과",IF(COUNT(FIND("기술보급과",$F5)),"기술보급과",IF(COUNT(FIND("농촌자원과",$F5)),"농촌자원과",IF(COUNT(FIND("종자관리소",$F5)),"종자관리소",IF(COUNT(FIND("버섯연구소",$F5)),"버섯연구소",IF(COUNT(FIND("소득자원연구소",$F5)),"소득자원연구소",IF(COUNT(FIND("선인장다육식물연구소",$F5)),"선인장다육식물연구소",IF(COUNT(FIND("보건연구부",$F5)),"보건연구부",IF(COUNT(FIND("대기연구부",$F5)),"대기연구부",IF(COUNT(FIND("수질연구부",$F5)),"수질연구부",IF(COUNT(FIND("북부지원",$F5)),"북부지원",IF(COUNT(FIND("수원농산물검사소",$F5)),"수원농산물검사소",IF(COUNT(FIND("건설본부(관리과)",$F5)),"관리과",IF(COUNT(FIND("도로건설과",$F5)),"도로건설과",IF(COUNT(FIND("북부도로과",$F5)),"북부도로과",IF(COUNT(FIND("건축시설과",$F5)),"건축시설과",IF(COUNT(FIND("신청사건립추진단",$F5)),"신청사건립추진단",$F5))))))))))))))))))))) -> 소통담당관 | B5: =G5 -> 의회운영위원회 | C5: =IF(COUNT(FIND("경기도건설본부",$E5)),"건설본부",IF(COUNT(FIND("경기도농업기술원",$E5)),"농업기술원",IF(COUNT(FIND("경기도보건환경연구원",$E5)),"보건환경연구원",IF(COUNT(FIND("소방재난본부",$E5)),"재난안전본부",IF(COUNT(FIND("경기도소방학교",$E5)),"재난안전본부",IF(COUNT(FIND("경기도인재개발원",$E5)),"인재개발원",IF(COUNT(FIND("북부소방재난본부",$E5)),"재난안전본부",IF(COUNT(FIND("소방서",$E5)),"재난안전본부",$E5)))))))) -> 대변인 | E5: 대변인 | F5: 소통담당관 | G5: 의회운영위원회 | H5: 4 | I5: 0203 | K5: 기금 | L5: 기금 | O5: 신규
A6: =IF(COUNT(AND(FIND("북부소방재난본부",$E6),FIND("특수대응단",$F6))),"특수대응단(북부)",IF(COUNT(FIND("작물연구과",$F6)),"작물연구과",IF(COUNT(FIND("원예연구과",$F6)),"원예연구과",IF(COUNT(FIND("환경농업연구과",$F6)),"환경농업연구과",IF(COUNT(FIND("지원기획과",$F6)),"지원기획과",IF(COUNT(FIND("기술보급과",$F6)),"기술보급과",IF(COUNT(FIND("농촌자원과",$F6)),"농촌자원과",IF(COUNT(FIND("종자관리소",$F6)),"종자관리소",IF(COUNT(FIND("버섯연구소",$F6)),"버섯연구소",IF(COUNT(FIND("소득자원연구소",$F6)),"소득자원연구소",IF(COUNT(FIND("선인장다육식물연구소",$F6)),"선인장다육식물연구소",IF(COUNT(FIND("보건연구부",$F6)),"보건연구부",IF(COUNT(FIND("대기연구부",$F6)),"대기연구부",IF(COUNT(FIND("수질연구부",$F6)),"수질연구부",IF(COUNT(FIND("북부지원",$F6)),"북부지원",IF(COUNT(FIND("수원농산물검사소",$F6)),"수원농산물검사소",IF(COUNT(FIND("건설본부(관리과)",$F6)),"관리과",IF(COUNT(FIND("도로건설과",$F6)),"도로건설과",IF(COUNT(FIND("북부도로과",$F6)),"북부도로과",IF(COUNT(FIND("건축시설과",$F6)),"건축시설과",IF(COUNT(FIND("신청사건립추진단",$F6)),"신청사건립추진단",$F6))))))))))))))))))))) -> 대외협력담당관 | B6: =G6 -> 의회운영위원회 | C6: =IF(COUNT(FIND("경기도건설본부",$E6)),"건설본부",IF(COUNT(FIND("경기도농업기술원",$E6)),"농업기술원",IF(COUNT(FIND("경기도보건환경연구원",$E6)),"보건환경연구원",IF(COUNT(FIND("소방재난본부",$E6)),"재난안전본부",IF(COUNT(FIND("경기도소방학교",$E6)),"재난안전본부",IF(COUNT(FIND("경기도인재개발원",$E6)),"인재개발원",IF(COUNT(FIND("북부소방재난본부",$E6)),"재난안전본부",IF(COUNT(FIND("소방서",$E6)),"재난안전본부",$E6)))))))) -> 대외협력담당관 | E6: 대외협력담당관 | F6: 대외협력담당관 | G6: 의회운영위원회 | H6: 5 | I6: 0301 | K6: 분권 | L6: 특교
A7: =IF(COUNT(AND(FIND("북부소방재난본부",$E7),FIND("특수대응단",$F7))),"특수대응단(북부)",IF(COUNT(FIND("작물연구과",$F7)),"작물연구과",IF(COUNT(FIND("원예연구과",$F7)),"원예연구과",IF(COUNT(FIND("환경농업연구과",$F7)),"환경농업연구과",IF(COUNT(FIND("지원기획과",$F7)),"지원기획과",IF(COUNT(FIND("기술보급과",$F7)),"기술보급과",IF(COUNT(FIND("농촌자원과",$F7)),"농촌자원과",IF(COUNT(FIND("종자관리소",$F7)),"종자관리소",IF(COUNT(FIND("버섯연구소",$F7)),"버섯연구소",IF(COUNT(FIND("소득자원연구소",$F7)),"소득자원연구소",IF(COUNT(FIND("선인장다육식물연구소",$F7)),"선인장다육식물연구소",IF(COUNT(FIND("보건연구부",$F7)),"보건연구부",IF(COUNT(FIND("대기연구부",$F7)),"대기연구부",IF(COUNT(FIND("수질연구부",$F7)),"수질연구부",IF(COUNT(FIND("북부지원",$F7)),"북부지원",IF(COUNT(FIND("수원농산물검사소",$F7)),"수원농산물검사소",IF(COUNT(FIND("건설본부(관리과)",$F7)),"관리과",IF(COUNT(FIND("도로건설과",$F7)),"도로건설과",IF(COUNT(FIND("북부도로과",$F7)),"북부도로과",IF(COUNT(FIND("건축시설과",$F7)),"건축시설과",IF(COUNT(FIND("신청사건립추진단",$F7)),"신청사건립추진단",$F7))))))))))))))))))))) -> 서울사무소 | B7: =G7 -> 의회운영위원회 | C7: =IF(COUNT(FIND("경기도건설본부",$E7)),"건설본부",IF(COUNT(FIND("경기도농업기술원",$E7)),"농업기술원",IF(COUNT(FIND("경기도보건환경연구원",$E7)),"보건환경연구원",IF(COUNT(FIND("소방재난본부",$E7)),"재난안전본부",IF(COUNT(FIND("경기도소방학교",$E7)),"재난안전본부",IF(COUNT(FIND("경기도인재개발원",$E7)),"인재개발원",IF(COUNT(FIND("북부소방재난본부",$E7)),"재난안전본부",IF(COUNT(FIND("소방서",$E7)),"재난안전본부",$E7)))))))) -> 대외협력담당관 | E7: 대외협력담당관 | F7: 서울사무소 | G7: 의회운영위원회 | H7: 6 | I7: 0302 | K7: 특교
A8: =IF(COUNT(AND(FIND("북부소방재난본부",$E8),FIND("특수대응단",$F8))),"특수대응단(북부)",IF(COUNT(FIND("작물연구과",$F8)),"작물연구과",IF(COUNT(FIND("원예연구과",$F8)),"원예연구과",IF(COUNT(FIND("환경농업연구과",$F8)),"환경농업연구과",IF(COUNT(FIND("지원기획과",$F8)),"지원기획과",IF(COUNT(FIND("기술보급과",$F8)),"기술보급과",IF(COUNT(FIND("농촌자원과",$F8)),"농촌자원과",IF(COUNT(FIND("종자관리소",$F8)),"종자관리소",IF(COUNT(FIND("버섯연구소",$F8)),"버섯연구소",IF(COUNT(FIND("소득자원연구소",$F8)),"소득자원연구소",IF(COUNT(FIND("선인장다육식물연구소",$F8)),"선인장다육식물연구소",IF(COUNT(FIND("보건연구부",$F8)),"보건연구부",IF(COUNT(FIND("대기연구부",$F8)),"대기연구부",IF(COUNT(FIND("수질연구부",$F8)),"수질연구부",IF(COUNT(FIND("북부지원",$F8)),"북부지원",IF(COUNT(FIND("수원농산물검사소",$F8)),"수원농산물검사소",IF(COUNT(FIND("건설본부(관리과)",$F8)),"관리과",IF(COUNT(FIND("도로건설과",$F8)),"도로건설과",IF(COUNT(FIND("북부도로과",$F8)),"북부도로과",IF(COUNT(FIND("건축시설과",$F8)),"건축시설과",IF(COUNT(FIND("신청사건립추진단",$F8)),"신청사건립추진단",$F8))))))))))))))))))))) -> 감사총괄담당관 | B8: =G8 -> 기획재정위원회 | C8: =IF(COUNT(FIND("경기도건설본부",$E8)),"건설본부",IF(COUNT(FIND("경기도농업기술원",$E8)),"농업기술원",IF(COUNT(FIND("경기도보건환경연구원",$E8)),"보건환경연구원",IF(COUNT(FIND("소방재난본부",$E8)),"재난안전본부",IF(COUNT(FIND("경기도소방학교",$E8)),"재난안전본부",IF(COUNT(FIND("경기도인재개발원",$E8)),"인재개발원",IF(COUNT(FIND("북부소방재난본부",$E8)),"재난안전본부",IF(COUNT(FIND("소방서",$E8)),"재난안전본부",$E8)))))))) -> 감사관 | E8: 감사관 | F8: 감사총괄담당관 | G8: 기획재정위원회 | H8: 7 | I8: 0401
A9: =IF(COUNT(AND(FIND("북부소방재난본부",$E9),FIND("특수대응단",$F9))),"특수대응단(북부)",IF(COUNT(FIND("작물연구과",$F9)),"작물연구과",IF(COUNT(FIND("원예연구과",$F9)),"원예연구과",IF(COUNT(FIND("환경농업연구과",$F9)),"환경농업연구과",IF(COUNT(FIND("지원기획과",$F9)),"지원기획과",IF(COUNT(FIND("기술보급과",$F9)),"기술보급과",IF(COUNT(FIND("농촌자원과",$F9)),"농촌자원과",IF(COUNT(FIND("종자관리소",$F9)),"종자관리소",IF(COUNT(FIND("버섯연구소",$F9)),"버섯연구소",IF(COUNT(FIND("소득자원연구소",$F9)),"소득자원연구소",IF(COUNT(FIND("선인장다육식물연구소",$F9)),"선인장다육식물연구소",IF(COUNT(FIND("보건연구부",$F9)),"보건연구부",IF(COUNT(FIND("대기연구부",$F9)),"대기연구부",IF(COUNT(FIND("수질연구부",$F9)),"수질연구부",IF(COUNT(FIND("북부지원",$F9)),"북부지원",IF(COUNT(FIND("수원농산물검사소",$F9)),"수원농산물검사소",IF(COUNT(FIND("건설본부(관리과)",$F9)),"관리과",IF(COUNT(FIND("도로건설과",$F9)),"도로건설과",IF(COUNT(FIND("북부도로과",$F9)),"북부도로과",IF(COUNT(FIND("건축시설과",$F9)),"건축시설과",IF(COUNT(FIND("신청사건립추진단",$F9)),"신청사건립추진단",$F9))))))))))))))))))))) -> 조사담당관 | B9: =G9 -> 기획재정위원회 | C9: =IF(COUNT(FIND("경기도건설본부",$E9)),"건설본부",IF(COUNT(FIND("경기도농업기술원",$E9)),"농업기술원",IF(COUNT(FIND("경기도보건환경연구원",$E9)),"보건환경연구원",IF(COUNT(FIND("소방재난본부",$E9)),"재난안전본부",IF(COUNT(FIND("경기도소방학교",$E9)),"재난안전본부",IF(COUNT(FIND("경기도인재개발원",$E9)),"인재개발원",IF(COUNT(FIND("북부소방재난본부",$E9)),"재난안전본부",IF(COUNT(FIND("소방서",$E9)),"재난안전본부",$E9)))))))) -> 감사관 | E9: 감사관 | F9: 조사담당관 | G9: 기획재정위원회 | H9: 8 | I9: 0402
A10: =IF(COUNT(AND(FIND("북부소방재난본부",$E10),FIND("특수대응단",$F10))),"특수대응단(북부)",IF(COUNT(FIND("작물연구과",$F10)),"작물연구과",IF(COUNT(FIND("원예연구과",$F10)),"원예연구과",IF(COUNT(FIND("환경농업연구과",$F10)),"환경농업연구과",IF(COUNT(FIND("지원기획과",$F10)),"지원기획과",IF(COUNT(FIND("기술보급과",$F10)),"기술보급과",IF(COUNT(FIND("농촌자원과",$F10)),"농촌자원과",IF(COUNT(FIND("종자관리소",$F10)),"종자관리소",IF(COUNT(FIND("버섯연구소",$F10)),"버섯연구소",IF(COUNT(FIND("소득자원연구소",$F10)),"소득자원연구소",IF(COUNT(FIND("선인장다육식물연구소",$F10)),"선인장다육식물연구소",IF(COUNT(FIND("보건연구부",$F10)),"보건연구부",IF(COUNT(FIND("대기연구부",$F10)),"대기연구부",IF(COUNT(FIND("수질연구부",$F10)),"수질연구부",IF(COUNT(FIND("북부지원",$F10)),"북부지원",IF(COUNT(FIND("수원농산물검사소",$F10)),"수원농산물검사소",IF(COUNT(FIND("건설본부(관리과)",$F10)),"관리과",IF(COUNT(FIND("도로건설과",$F10)),"도로건설과",IF(COUNT(FIND("북부도로과",$F10)),"북부도로과",IF(COUNT(FIND("건축시설과",$F10)),"건축시설과",IF(COUNT(FIND("신청사건립추진단",$F10)),"신청사건립추진단",$F10))))))))))))))))))))) -> 감사담당관 | B10: =G10 -> 기획재정위원회 | C10: =IF(COUNT(FIND("경기도건설본부",$E10)),"건설본부",IF(COUNT(FIND("경기도농업기술원",$E10)),"농업기술원",IF(COUNT(FIND("경기도보건환경연구원",$E10)),"보건환경연구원",IF(COUNT(FIND("소방재난본부",$E10)),"재난안전본부",IF(COUNT(FIND("경기도소방학교",$E10)),"재난안전본부",IF(COUNT(FIND("경기도인재개발원",$E10)),"인재개발원",IF(COUNT(FIND("북부소방재난본부",$E10)),"재난안전본부",IF(COUNT(FIND("소방서",$E10)),"재난안전본부",$E10)))))))) -> 감사관 | E10: 감사관 | F10: 감사담당관 | G10: 기획재정위원회 | H10: 9 | I10: 0403
A11: =IF(COUNT(AND(FIND("북부소방재난본부",$E11),FIND("특수대응단",$F11))),"특수대응단(북부)",IF(COUNT(FIND("작물연구과",$F11)),"작물연구과",IF(COUNT(FIND("원예연구과",$F11)),"원예연구과",IF(COUNT(FIND("환경농업연구과",$F11)),"환경농업연구과",IF(COUNT(FIND("지원기획과",$F11)),"지원기획과",IF(COUNT(FIND("기술보급과",$F11)),"기술보급과",IF(COUNT(FIND("농촌자원과",$F11)),"농촌자원과",IF(COUNT(FIND("종자관리소",$F11)),"종자관리소",IF(COUNT(FIND("버섯연구소",$F11)),"버섯연구소",IF(COUNT(FIND("소득자원연구소",$F11)),"소득자원연구소",IF(COUNT(FIND("선인장다육식물연구소",$F11)),"선인장다육식물연구소",IF(COUNT(FIND("보건연구부",$F11)),"보건연구부",IF(COUNT(FIND("대기연구부",$F11)),"대기연구부",IF(COUNT(FIND("수질연구부",$F11)),"수질연구부",IF(COUNT(FIND("북부지원",$F11)),"북부지원",IF(COUNT(FIND("수원농산물검사소",$F11)),"수원농산물검사소",IF(COUNT(FIND("건설본부(관리과)",$F11)),"관리과",IF(COUNT(FIND("도로건설과",$F11)),"도로건설과",IF(COUNT(FIND("북부도로과",$F11)),"북부도로과",IF(COUNT(FIND("건축시설과",$F11)),"건축시설과",IF(COUNT(FIND("신청사건립추진단",$F11)),"신청사건립추진단",$F11))))))))))))))))))))) -> 계약심사담당관 | B11: =G11 -> 기획재정위원회 | C11: =IF(COUNT(FIND("경기도건설본부",$E11)),"건설본부",IF(COUNT(FIND("경기도농업기술원",$E11)),"농업기술원",IF(COUNT(FIND("경기도보건환경연구원",$E11)),"보건환경연구원",IF(COUNT(FIND("소방재난본부",$E11)),"재난안전본부",IF(COUNT(FIND("경기도소방학교",$E11)),"재난안전본부",IF(COUNT(FIND("경기도인재개발원",$E11)),"인재개발원",IF(COUNT(FIND("북부소방재난본부",$E11)),"재난안전본부",IF(COUNT(FIND("소방서",$E11)),"재난안전본부",$E11)))))))) -> 감사관 | E11: 감사관 | F11: 계약심사담당관 | G11: 기획재정위원회 | H11: 10 | I11: 0404
A12: =IF(COUNT(AND(FIND("북부소방재난본부",$E12),FIND("특수대응단",$F12))),"특수대응단(북부)",IF(COUNT(FIND("작물연구과",$F12)),"작물연구과",IF(COUNT(FIND("원예연구과",$F12)),"원예연구과",IF(COUNT(FIND("환경농업연구과",$F12)),"환경농업연구과",IF(COUNT(FIND("지원기획과",$F12)),"지원기획과",IF(COUNT(FIND("기술보급과",$F12)),"기술보급과",IF(COUNT(FIND("농촌자원과",$F12)),"농촌자원과",IF(COUNT(FIND("종자관리소",$F12)),"종자관리소",IF(COUNT(FIND("버섯연구소",$F12)),"버섯연구소",IF(COUNT(FIND("소득자원연구소",$F12)),"소득자원연구소",IF(COUNT(FIND("선인장다육식물연구소",$F12)),"선인장다육식물연구소",IF(COUNT(FIND("보건연구부",$F12)),"보건연구부",IF(COUNT(FIND("대기연구부",$F12)),"대기연구부",IF(COUNT(FIND("수질연구부",$F12)),"수질연구부",IF(COUNT(FIND("북부지원",$F12)),"북부지원",IF(COUNT(FIND("수원농산물검사소",$F12)),"수원농산물검사소",IF(COUNT(FIND("건설본부(관리과)",$F12)),"관리과",IF(COUNT(FIND("도로건설과",$F12)),"도로건설과",IF(COUNT(FIND("북부도로과",$F12)),"북부도로과",IF(COUNT(FIND("건축시설과",$F12)),"건축시설과",IF(COUNT(FIND("신청사건립추진단",$F12)),"신청사건립추진단",$F12))))))))))))))))))))) -> 기획담당관 | B12: =G12 -> 기획재정위원회 | C12: =IF(COUNT(FIND("경기도건설본부",$E12)),"건설본부",IF(COUNT(FIND("경기도농업기술원",$E12)),"농업기술원",IF(COUNT(FIND("경기도보건환경연구원",$E12)),"보건환경연구원",IF(COUNT(FIND("소방재난본부",$E12)),"재난안전본부",IF(COUNT(FIND("경기도소방학교",$E12)),"재난안전본부",IF(COUNT(FIND("경기도인재개발원",$E12)),"인재개발원",IF(COUNT(FIND("북부소방재난본부",$E12)),"재난안전본부",IF(COUNT(FIND("소방서",$E12)),"재난안전본부",$E12)))))))) -> 기획조정실 | E12: 기획조정실 | F12: 기획담당관 | G12: 기획재정위원회 | H12: 11 | I12: 0501
A13: =IF(COUNT(AND(FIND("북부소방재난본부",$E13),FIND("특수대응단",$F13))),"특수대응단(북부)",IF(COUNT(FIND("작물연구과",$F13)),"작물연구과",IF(COUNT(FIND("원예연구과",$F13)),"원예연구과",IF(COUNT(FIND("환경농업연구과",$F13)),"환경농업연구과",IF(COUNT(FIND("지원기획과",$F13)),"지원기획과",IF(COUNT(FIND("기술보급과",$F13)),"기술보급과",IF(COUNT(FIND("농촌자원과",$F13)),"농촌자원과",IF(COUNT(FIND("종자관리소",$F13)),"종자관리소",IF(COUNT(FIND("버섯연구소",$F13)),"버섯연구소",IF(COUNT(FIND("소득자원연구소",$F13)),"소득자원연구소",IF(COUNT(FIND("선인장다육식물연구소",$F13)),"선인장다육식물연구소",IF(COUNT(FIND("보건연구부",$F13)),"보건연구부",IF(COUNT(FIND("대기연구부",$F13)),"대기연구부",IF(COUNT(FIND("수질연구부",$F13)),"수질연구부",IF(COUNT(FIND("북부지원",$F13)),"북부지원",IF(COUNT(FIND("수원농산물검사소",$F13)),"수원농산물검사소",IF(COUNT(FIND("건설본부(관리과)",$F13)),"관리과",IF(COUNT(FIND("도로건설과",$F13)),"도로건설과",IF(COUNT(FIND("북부도로과",$F13)),"북부도로과",IF(COUNT(FIND("건축시설과",$F13)),"건축시설과",IF(COUNT(FIND("신청사건립추진단",$F13)),"신청사건립추진단",$F13))))))))))))))))))))) -> 미래전략담당관 | B13: =G13 -> 기획재정위원회 | C13: =IF(COUNT(FIND("경기도건설본부",$E13)),"건설본부",IF(COUNT(FIND("경기도농업기술원",$E13)),"농업기술원",IF(COUNT(FIND("경기도보건환경연구원",$E13)),"보건환경연구원",IF(COUNT(FIND("소방재난본부",$E13)),"재난안전본부",IF(COUNT(FIND("경기도소방학교",$E13)),"재난안전본부",IF(COUNT(FIND("경기도인재개발원",$E13)),"인재개발원",IF(COUNT(FIND("북부소방재난본부",$E13)),"재난안전본부",IF(COUNT(FIND("소방서",$E13)),"재난안전본부",$E13)))))))) -> 기획조정실 | E13: 기획조정실 | F13: 미래전략담당관 | G13: 기획재정위원회 | H13: 12 | I13: 0502
A14: =IF(COUNT(AND(FIND("북부소방재난본부",$E14),FIND("특수대응단",$F14))),"특수대응단(북부)",IF(COUNT(FIND("작물연구과",$F14)),"작물연구과",IF(COUNT(FIND("원예연구과",$F14)),"원예연구과",IF(COUNT(FIND("환경농업연구과",$F14)),"환경농업연구과",IF(COUNT(FIND("지원기획과",$F14)),"지원기획과",IF(COUNT(FIND("기술보급과",$F14)),"기술보급과",IF(COUNT(FIND("농촌자원과",$F14)),"농촌자원과",IF(COUNT(FIND("종자관리소",$F14)),"종자관리소",IF(COUNT(FIND("버섯연구소",$F14)),"버섯연구소",IF(COUNT(FIND("소득자원연구소",$F14)),"소득자원연구소",IF(COUNT(FIND("선인장다육식물연구소",$F14)),"선인장다육식물연구소",IF(COUNT(FIND("보건연구부",$F14)),"보건연구부",IF(COUNT(FIND("대기연구부",$F14)),"대기연구부",IF(COUNT(FIND("수질연구부",$F14)),"수질연구부",IF(COUNT(FIND("북부지원",$F14)),"북부지원",IF(COUNT(FIND("수원농산물검사소",$F14)),"수원농산물검사소",IF(COUNT(FIND("건설본부(관리과)",$F14)),"관리과",IF(COUNT(FIND("도로건설과",$F14)),"도로건설과",IF(COUNT(FIND("북부도로과",$F14)),"북부도로과",IF(COUNT(FIND("건축시설과",$F14)),"건축시설과",IF(COUNT(FIND("신청사건립추진단",$F14)),"신청사건립추진단",$F14))))))))))))))))))))) -> 예산담당관 | B14: =G14 -> 기획재정위원회 | C14: =IF(COUNT(FIND("경기도건설본부",$E14)),"건설본부",IF(COUNT(FIND("경기도농업기술원",$E14)),"농업기술원",IF(COUNT(FIND("경기도보건환경연구원",$E14)),"보건환경연구원",IF(COUNT(FIND("소방재난본부",$E14)),"재난안전본부",IF(COUNT(FIND("경기도소방학교",$E14)),"재난안전본부",IF(COUNT(FIND("경기도인재개발원",$E14)),"인재개발원",IF(COUNT(FIND("북부소방재난본부",$E14)),"재난안전본부",IF(COUNT(FIND("소방서",$E14)),"재난안전본부",$E14)))))))) -> 기획조정실 | E14: 기획조정실 | F14: 예산담당관 | G14: 기획재정위원회 | H14: 13 | I14: 0503
A15: =IF(COUNT(AND(FIND("북부소방재난본부",$E15),FIND("특수대응단",$F15))),"특수대응단(북부)",IF(COUNT(FIND("작물연구과",$F15)),"작물연구과",IF(COUNT(FIND("원예연구과",$F15)),"원예연구과",IF(COUNT(FIND("환경농업연구과",$F15)),"환경농업연구과",IF(COUNT(FIND("지원기획과",$F15)),"지원기획과",IF(COUNT(FIND("기술보급과",$F15)),"기술보급과",IF(COUNT(FIND("농촌자원과",$F15)),"농촌자원과",IF(COUNT(FIND("종자관리소",$F15)),"종자관리소",IF(COUNT(FIND("버섯연구소",$F15)),"버섯연구소",IF(COUNT(FIND("소득자원연구소",$F15)),"소득자원연구소",IF(COUNT(FIND("선인장다육식물연구소",$F15)),"선인장다육식물연구소",IF(COUNT(FIND("보건연구부",$F15)),"보건연구부",IF(COUNT(FIND("대기연구부",$F15)),"대기연구부",IF(COUNT(FIND("수질연구부",$F15)),"수질연구부",IF(COUNT(FIND("북부지원",$F15)),"북부지원",IF(COUNT(FIND("수원농산물검사소",$F15)),"수원농산물검사소",IF(COUNT(FIND("건설본부(관리과)",$F15)),"관리과",IF(COUNT(FIND("도로건설과",$F15)),"도로건설과",IF(COUNT(FIND("북부도로과",$F15)),"북부도로과",IF(COUNT(FIND("건축시설과",$F15)),"건축시설과",IF(COUNT(FIND("신청사건립추진단",$F15)),"신청사건립추진단",$F15))))))))))))))))))))) -> 평가담당관 | B15: =G15 -> 기획재정위원회 | C15: =IF(COUNT(FIND("경기도건설본부",$E15)),"건설본부",IF(COUNT(FIND("경기도농업기술원",$E15)),"농업기술원",IF(COUNT(FIND("경기도보건환경연구원",$E15)),"보건환경연구원",IF(COUNT(FIND("소방재난본부",$E15)),"재난안전본부",IF(COUNT(FIND("경기도소방학교",$E15)),"재난안전본부",IF(COUNT(FIND("경기도인재개발원",$E15)),"인재개발원",IF(COUNT(FIND("북부소방재난본부",$E15)),"재난안전본부",IF(COUNT(FIND("소방서",$E15)),"재난안전본부",$E15)))))))) -> 기획조정실 | E15: 기획조정실 | F15: 평가담당관 | G15: 기획재정위원회 | H15: 14 | I15: 0504
A16: =IF(COUNT(AND(FIND("북부소방재난본부",$E16),FIND("특수대응단",$F16))),"특수대응단(북부)",IF(COUNT(FIND("작물연구과",$F16)),"작물연구과",IF(COUNT(FIND("원예연구과",$F16)),"원예연구과",IF(COUNT(FIND("환경농업연구과",$F16)),"환경농업연구과",IF(COUNT(FIND("지원기획과",$F16)),"지원기획과",IF(COUNT(FIND("기술보급과",$F16)),"기술보급과",IF(COUNT(FIND("농촌자원과",$F16)),"농촌자원과",IF(COUNT(FIND("종자관리소",$F16)),"종자관리소",IF(COUNT(FIND("버섯연구소",$F16)),"버섯연구소",IF(COUNT(FIND("소득자원연구소",$F16)),"소득자원연구소",IF(COUNT(FIND("선인장다육식물연구소",$F16)),"선인장다육식물연구소",IF(COUNT(FIND("보건연구부",$F16)),"보건연구부",IF(COUNT(FIND("대기연구부",$F16)),"대기연구부",IF(COUNT(FIND("수질연구부",$F16)),"수질연구부",IF(COUNT(FIND("북부지원",$F16)),"북부지원",IF(COUNT(FIND("수원농산물검사소",$F16)),"수원농산물검사소",IF(COUNT(FIND("건설본부(관리과)",$F16)),"관리과",IF(COUNT(FIND("도로건설과",$F16)),"도로건설과",IF(COUNT(FIND("북부도로과",$F16)),"북부도로과",IF(COUNT(FIND("건축시설과",$F16)),"건축시설과",IF(COUNT(FIND("신청사건립추진단",$F16)),"신청사건립추진단",$F16))))))))))))))))))))) -> 법무담당관 | B16: =G16 -> 기획재정위원회 | C16: =IF(COUNT(FIND("경기도건설본부",$E16)),"건설본부",IF(COUNT(FIND("경기도농업기술원",$E16)),"농업기술원",IF(COUNT(FIND("경기도보건환경연구원",$E16)),"보건환경연구원",IF(COUNT(FIND("소방재난본부",$E16)),"재난안전본부",IF(COUNT(FIND("경기도소방학교",$E16)),"재난안전본부",IF(COUNT(FIND("경기도인재개발원",$E16)),"인재개발원",IF(COUNT(FIND("북부소방재난본부",$E16)),"재난안전본부",IF(COUNT(FIND("소방서",$E16)),"재난안전본부",$E16)))))))) -> 기획조정실 | E16: 기획조정실 | F16: 법무담당관 | G16: 기획재정위원회 | H16: 15 | I16: 0505
A17: =IF(COUNT(AND(FIND("북부소방재난본부",$E17),FIND("특수대응단",$F17))),"특수대응단(북부)",IF(COUNT(FIND("작물연구과",$F17)),"작물연구과",IF(COUNT(FIND("원예연구과",$F17)),"원예연구과",IF(COUNT(FIND("환경농업연구과",$F17)),"환경농업연구과",IF(COUNT(FIND("지원기획과",$F17)),"지원기획과",IF(COUNT(FIND("기술보급과",$F17)),"기술보급과",IF(COUNT(FIND("농촌자원과",$F17)),"농촌자원과",IF(COUNT(FIND("종자관리소",$F17)),"종자관리소",IF(COUNT(FIND("버섯연구소",$F17)),"버섯연구소",IF(COUNT(FIND("소득자원연구소",$F17)),"소득자원연구소",IF(COUNT(FIND("선인장다육식물연구소",$F17)),"선인장다육식물연구소",IF(COUNT(FIND("보건연구부",$F17)),"보건연구부",IF(COUNT(FIND("대기연구부",$F17)),"대기연구부",IF(COUNT(FIND("수질연구부",$F17)),"수질연구부",IF(COUNT(FIND("북부지원",$F17)),"북부지원",IF(COUNT(FIND("수원농산물검사소",$F17)),"수원농산물검사소",IF(COUNT(FIND("건설본부(관리과)",$F17)),"관리과",IF(COUNT(FIND("도로건설과",$F17)),"도로건설과",IF(COUNT(FIND("북부도로과",$F17)),"북부도로과",IF(COUNT(FIND("건축시설과",$F17)),"건축시설과",IF(COUNT(FIND("신청사건립추진단",$F17)),"신청사건립추진단",$F17))))))))))))))))))))) -> 규제개혁추진단 | B17: =G17 -> 기획재정위원회 | C17: =IF(COUNT(FIND("경기도건설본부",$E17)),"건설본부",IF(COUNT(FIND("경기도농업기술원",$E17)),"농업기술원",IF(COUNT(FIND("경기도보건환경연구원",$E17)),"보건환경연구원",IF(COUNT(FIND("소방재난본부",$E17)),"재난안전본부",IF(COUNT(FIND("경기도소방학교",$E17)),"재난안전본부",IF(COUNT(FIND("경기도인재개발원",$E17)),"인재개발원",IF(COUNT(FIND("북부소방재난본부",$E17)),"재난안전본부",IF(COUNT(FIND("소방서",$E17)),"재난안전본부",$E17)))))))) -> 기획조정실 | E17: 기획조정실 | F17: 규제개혁추진단 | G17: 기획재정위원회 | H17: 16 | I17: 0506
A18: =IF(COUNT(AND(FIND("북부소방재난본부",$E18),FIND("특수대응단",$F18))),"특수대응단(북부)",IF(COUNT(FIND("작물연구과",$F18)),"작물연구과",IF(COUNT(FIND("원예연구과",$F18)),"원예연구과",IF(COUNT(FIND("환경농업연구과",$F18)),"환경농업연구과",IF(COUNT(FIND("지원기획과",$F18)),"지원기획과",IF(COUNT(FIND("기술보급과",$F18)),"기술보급과",IF(COUNT(FIND("농촌자원과",$F18)),"농촌자원과",IF(COUNT(FIND("종자관리소",$F18)),"종자관리소",IF(COUNT(FIND("버섯연구소",$F18)),"버섯연구소",IF(COUNT(FIND("소득자원연구소",$F18)),"소득자원연구소",IF(COUNT(FIND("선인장다육식물연구소",$F18)),"선인장다육식물연구소",IF(COUNT(FIND("보건연구부",$F18)),"보건연구부",IF(COUNT(FIND("대기연구부",$F18)),"대기연구부",IF(COUNT(FIND("수질연구부",$F18)),"수질연구부",IF(COUNT(FIND("북부지원",$F18)),"북부지원",IF(COUNT(FIND("수원농산물검사소",$F18)),"수원농산물검사소",IF(COUNT(FIND("건설본부(관리과)",$F18)),"관리과",IF(COUNT(FIND("도로건설과",$F18)),"도로건설과",IF(COUNT(FIND("북부도로과",$F18)),"북부도로과",IF(COUNT(FIND("건축시설과",$F18)),"건축시설과",IF(COUNT(FIND("신청사건립추진단",$F18)),"신청사건립추진단",$F18))))))))))))))))))))) -> 따복공동체지원단 | B18: =G18 -> 기획재정위원회 | C18: =IF(COUNT(FIND("경기도건설본부",$E18)),"건설본부",IF(COUNT(FIND("경기도농업기술원",$E18)),"농업기술원",IF(COUNT(FIND("경기도보건환경연구원",$E18)),"보건환경연구원",IF(COUNT(FIND("소방재난본부",$E18)),"재난안전본부",IF(COUNT(FIND("경기도소방학교",$E18)),"재난안전본부",IF(COUNT(FIND("경기도인재개발원",$E18)),"인재개발원",IF(COUNT(FIND("북부소방재난본부",$E18)),"재난안전본부",IF(COUNT(FIND("소방서",$E18)),"재난안전본부",$E18)))))))) -> 기획조정실 | E18: 기획조정실 | F18: 따복공동체지원단 | G18: 기획재정위원회 | H18: 17 | I18: 0507
A19: =IF(COUNT(AND(FIND("북부소방재난본부",$E19),FIND("특수대응단",$F19))),"특수대응단(북부)",IF(COUNT(FIND("작물연구과",$F19)),"작물연구과",IF(COUNT(FIND("원예연구과",$F19)),"원예연구과",IF(COUNT(FIND("환경농업연구과",$F19)),"환경농업연구과",IF(COUNT(FIND("지원기획과",$F19)),"지원기획과",IF(COUNT(FIND("기술보급과",$F19)),"기술보급과",IF(COUNT(FIND("농촌자원과",$F19)),"농촌자원과",IF(COUNT(FIND("종자관리소",$F19)),"종자관리소",IF(COUNT(FIND("버섯연구소",$F19)),"버섯연구소",IF(COUNT(FIND("소득자원연구소",$F19)),"소득자원연구소",IF(COUNT(FIND("선인장다육식물연구소",$F19)),"선인장다육식물연구소",IF(COUNT(FIND("보건연구부",$F19)),"보건연구부",IF(COUNT(FIND("대기연구부",$F19)),"대기연구부",IF(COUNT(FIND("수질연구부",$F19)),"수질연구부",IF(COUNT(FIND("북부지원",$F19)),"북부지원",IF(COUNT(FIND("수원농산물검사소",$F19)),"수원농산물검사소",IF(COUNT(FIND("건설본부(관리과)",$F19)),"관리과",IF(COUNT(FIND("도로건설과",$F19)),"도로건설과",IF(COUNT(FIND("북부도로과",$F19)),"북부도로과",IF(COUNT(FIND("건축시설과",$F19)),"건축시설과",IF(COUNT(FIND("신청사건립추진단",$F19)),"신청사건립추진단",$F19))))))))))))))))))))) -> 정보기획담당관 | B19: =G19 -> 기획재정위원회 | C19: =IF(COUNT(FIND("경기도건설본부",$E19)),"건설본부",IF(COUNT(FIND("경기도농업기술원",$E19)),"농업기술원",IF(COUNT(FIND("경기도보건환경연구원",$E19)),"보건환경연구원",IF(COUNT(FIND("소방재난본부",$E19)),"재난안전본부",IF(COUNT(FIND("경기도소방학교",$E19)),"재난안전본부",IF(COUNT(FIND("경기도인재개발원",$E19)),"인재개발원",IF(COUNT(FIND("북부소방재난본부",$E19)),"재난안전본부",IF(COUNT(FIND("소방서",$E19)),"재난안전본부",$E19)))))))) -> 기획조정실 | E19: 기획조정실 | F19: 정보기획담당관 | G19: 기획재정위원회 | H19: 18 | I19: 0508
... A174: =IF(COUNT(AND(FIND("북부소방재난본부",$E174),FIND("특수대응단",$F174))),"특수대응단(북부)",IF(COUNT(FIND("작물연구과",$F174)),"작물연구과",IF(COUNT(FIND("원예연구과",$F174)),"원예연구과",IF(COUNT(FIND("환경농업연구과",$F174)),"환경농업연구과",IF(COUNT(FIND("지원기획과",$F174)),"지원기획과",IF(COUNT(FIND("기술보급과",$F174)),"기술보급과",IF(COUNT(FIND("농촌자원과",$F174)),"농촌자원과",IF(COUNT(FIND("종자관리소",$F174)),"종자관리소",IF(COUNT(FIND("버섯연구소",$F174)),"버섯연구소",IF(COUNT(FIND("소득자원연구소",$F174)),"소득자원연구소",IF(COUNT(FIND("선인장다육식물연구소",$F174)),"선인장다육식물연구소",IF(COUNT(FIND("보건연구부",$F174)),"보건연구부",IF(COUNT(FIND("대기연구부",$F174)),"대기연구부",IF(COUNT(FIND("수질연구부",$F174)),"수질연구부",IF(COUNT(FIND("북부지원",$F174)),"북부지원",IF(COUNT(FIND("수원농산물검사소",$F174)),"수원농산물검사소",IF(COUNT(FIND("건설본부(관리과)",$F174)),"관리과",IF(COUNT(FIND("도로건설과",$F174)),"도로건설과",IF(COUNT(FIND("북부도로과",$F174)),"북부도로과",IF(COUNT(FIND("건축시설과",$F174)),"건축시설과",IF(COUNT(FIND("신청사건립추진단",$F174)),"신청사건립추진단",$F174))))))))))))))))))))) -> 수질연구부 | B174: =G174 -> 도시환경위원회 | C174: =IF(COUNT(FIND("경기도건설본부",$E174)),"건설본부",IF(COUNT(FIND("경기도농업기술원",$E174)),"농업기술원",IF(COUNT(FIND("경기도보건환경연구원",$E174)),"보건환경연구원",IF(COUNT(FIND("소방재난본부",$E174)),"재난안전본부",IF(COUNT(FIND("경기도소방학교",$E174)),"재난안전본부",IF(COUNT(FIND("경기도인재개발원",$E174)),"인재개발원",IF(COUNT(FIND("북부소방재난본부",$E174)),"재난안전본부",IF(COUNT(FIND("소방서",$E174)),"재난안전본부",$E174)))))))) -> 보건환경연구원 | E174: 경기도보건환경연구원 | F174: 보건환경연구원(수질연구부) | G174: 도시환경위원회 | H174: 173 | I174: 2902
A175: =IF(COUNT(AND(FIND("북부소방재난본부",$E175),FIND("특수대응단",$F175))),"특수대응단(북부)",IF(COUNT(FIND("작물연구과",$F175)),"작물연구과",IF(COUNT(FIND("원예연구과",$F175)),"원예연구과",IF(COUNT(FIND("환경농업연구과",$F175)),"환경농업연구과",IF(COUNT(FIND("지원기획과",$F175)),"지원기획과",IF(COUNT(FIND("기술보급과",$F175)),"기술보급과",IF(COUNT(FIND("농촌자원과",$F175)),"농촌자원과",IF(COUNT(FIND("종자관리소",$F175)),"종자관리소",IF(COUNT(FIND("버섯연구소",$F175)),"버섯연구소",IF(COUNT(FIND("소득자원연구소",$F175)),"소득자원연구소",IF(COUNT(FIND("선인장다육식물연구소",$F175)),"선인장다육식물연구소",IF(COUNT(FIND("보건연구부",$F175)),"보건연구부",IF(COUNT(FIND("대기연구부",$F175)),"대기연구부",IF(COUNT(FIND("수질연구부",$F175)),"수질연구부",IF(COUNT(FIND("북부지원",$F175)),"북부지원",IF(COUNT(FIND("수원농산물검사소",$F175)),"수원농산물검사소",IF(COUNT(FIND("건설본부(관리과)",$F175)),"관리과",IF(COUNT(FIND("도로건설과",$F175)),"도로건설과",IF(COUNT(FIND("북부도로과",$F175)),"북부도로과",IF(COUNT(FIND("건축시설과",$F175)),"건축시설과",IF(COUNT(FIND("신청사건립추진단",$F175)),"신청사건립추진단",$F175))))))))))))))))))))) -> 북부지원 | B175: =G175 -> 도시환경위원회 | C175: =IF(COUNT(FIND("경기도건설본부",$E175)),"건설본부",IF(COUNT(FIND("경기도농업기술원",$E175)),"농업기술원",IF(COUNT(FIND("경기도보건환경연구원",$E175)),"보건환경연구원",IF(COUNT(FIND("소방재난본부",$E175)),"재난안전본부",IF(COUNT(FIND("경기도소방학교",$E175)),"재난안전본부",IF(COUNT(FIND("경기도인재개발원",$E175)),"인재개발원",IF(COUNT(FIND("북부소방재난본부",$E175)),"재난안전본부",IF(COUNT(FIND("소방서",$E175)),"재난안전본부",$E175)))))))) -> 보건환경연구원 | E175: 경기도보건환경연구원 | F175: 보건환경연구원북부지원 | G175: 도시환경위원회 | H175: 187 | I175: 2903
A176: =IF(COUNT(AND(FIND("북부소방재난본부",$E176),FIND("특수대응단",$F176))),"특수대응단(북부)",IF(COUNT(FIND("작물연구과",$F176)),"작물연구과",IF(COUNT(FIND("원예연구과",$F176)),"원예연구과",IF(COUNT(FIND("환경농업연구과",$F176)),"환경농업연구과",IF(COUNT(FIND("지원기획과",$F176)),"지원기획과",IF(COUNT(FIND("기술보급과",$F176)),"기술보급과",IF(COUNT(FIND("농촌자원과",$F176)),"농촌자원과",IF(COUNT(FIND("종자관리소",$F176)),"종자관리소",IF(COUNT(FIND("버섯연구소",$F176)),"버섯연구소",IF(COUNT(FIND("소득자원연구소",$F176)),"소득자원연구소",IF(COUNT(FIND("선인장다육식물연구소",$F176)),"선인장다육식물연구소",IF(COUNT(FIND("보건연구부",$F176)),"보건연구부",IF(COUNT(FIND("대기연구부",$F176)),"대기연구부",IF(COUNT(FIND("수질연구부",$F176)),"수질연구부",IF(COUNT(FIND("북부지원",$F176)),"북부지원",IF(COUNT(FIND("수원농산물검사소",$F176)),"수원농산물검사소",IF(COUNT(FIND("건설본부(관리과)",$F176)),"관리과",IF(COUNT(FIND("도로건설과",$F176)),"도로건설과",IF(COUNT(FIND("북부도로과",$F176)),"북부도로과",IF(COUNT(FIND("건축시설과",$F176)),"건축시설과",IF(COUNT(FIND("신청사건립추진단",$F176)),"신청사건립추진단",$F176))))))))))))))))))))) -> 수자원본부 | B176: =G176 -> 도시환경위원회 | C176: =IF(COUNT(FIND("경기도건설본부",$E176)),"건설본부",IF(COUNT(FIND("경기도농업기술원",$E176)),"농업기술원",IF(COUNT(FIND("경기도보건환경연구원",$E176)),"보건환경연구원",IF(COUNT(FIND("소방재난본부",$E176)),"재난안전본부",IF(COUNT(FIND("경기도소방학교",$E176)),"재난안전본부",IF(COUNT(FIND("경기도인재개발원",$E176)),"인재개발원",IF(COUNT(FIND("북부소방재난본부",$E176)),"재난안전본부",IF(COUNT(FIND("소방서",$E176)),"재난안전본부",$E176)))))))) -> 수자원본부 | E176: 수자원본부 | F176: 수자원본부 | G176: 도시환경위원회 | H176: 174 | I176: 3001
A177: =IF(COUNT(AND(FIND("북부소방재난본부",$E177),FIND("특수대응단",$F177))),"특수대응단(북부)",IF(COUNT(FIND("작물연구과",$F177)),"작물연구과",IF(COUNT(FIND("원예연구과",$F177)),"원예연구과",IF(COUNT(FIND("환경농업연구과",$F177)),"환경농업연구과",IF(COUNT(FIND("지원기획과",$F177)),"지원기획과",IF(COUNT(FIND("기술보급과",$F177)),"기술보급과",IF(COUNT(FIND("농촌자원과",$F177)),"농촌자원과",IF(COUNT(FIND("종자관리소",$F177)),"종자관리소",IF(COUNT(FIND("버섯연구소",$F177)),"버섯연구소",IF(COUNT(FIND("소득자원연구소",$F177)),"소득자원연구소",IF(COUNT(FIND("선인장다육식물연구소",$F177)),"선인장다육식물연구소",IF(COUNT(FIND("보건연구부",$F177)),"보건연구부",IF(COUNT(FIND("대기연구부",$F177)),"대기연구부",IF(COUNT(FIND("수질연구부",$F177)),"수질연구부",IF(COUNT(FIND("북부지원",$F177)),"북부지원",IF(COUNT(FIND("수원농산물검사소",$F177)),"수원농산물검사소",IF(COUNT(FIND("건설본부(관리과)",$F177)),"관리과",IF(COUNT(FIND("도로건설과",$F177)),"도로건설과",IF(COUNT(FIND("북부도로과",$F177)),"북부도로과",IF(COUNT(FIND("건축시설과",$F177)),"건축시설과",IF(COUNT(FIND("신청사건립추진단",$F177)),"신청사건립추진단",$F177))))))))))))))))))))) -> 교육정책과 | B177: =G177 -> 여성가족교육협력위원회 | C177: =IF(COUNT(FIND("경기도건설본부",$E177)),"건설본부",IF(COUNT(FIND("경기도농업기술원",$E177)),"농업기술원",IF(COUNT(FIND("경기도보건환경연구원",$E177)),"보건환경연구원",IF(COUNT(FIND("소방재난본부",$E177)),"재난안전본부",IF(COUNT(FIND("경기도소방학교",$E177)),"재난안전본부",IF(COUNT(FIND("경기도인재개발원",$E177)),"인재개발원",IF(COUNT(FIND("북부소방재난본부",$E177)),"재난안전본부",IF(COUNT(FIND("소방서",$E177)),"재난안전본부",$E177)))))))) -> 교육협력국 | E177: 교육협력국 | F177: 교육정책과 | G177: 여성가족교육협력위원회 | H177: 175 | I177: 3101
A178: =IF(COUNT(AND(FIND("북부소방재난본부",$E178),FIND("특수대응단",$F178))),"특수대응단(북부)",IF(COUNT(FIND("작물연구과",$F178)),"작물연구과",IF(COUNT(FIND("원예연구과",$F178)),"원예연구과",IF(COUNT(FIND("환경농업연구과",$F178)),"환경농업연구과",IF(COUNT(FIND("지원기획과",$F178)),"지원기획과",IF(COUNT(FIND("기술보급과",$F178)),"기술보급과",IF(COUNT(FIND("농촌자원과",$F178)),"농촌자원과",IF(COUNT(FIND("종자관리소",$F178)),"종자관리소",IF(COUNT(FIND("버섯연구소",$F178)),"버섯연구소",IF(COUNT(FIND("소득자원연구소",$F178)),"소득자원연구소",IF(COUNT(FIND("선인장다육식물연구소",$F178)),"선인장다육식물연구소",IF(COUNT(FIND("보건연구부",$F178)),"보건연구부",IF(COUNT(FIND("대기연구부",$F178)),"대기연구부",IF(COUNT(FIND("수질연구부",$F178)),"수질연구부",IF(COUNT(FIND("북부지원",$F178)),"북부지원",IF(COUNT(FIND("수원농산물검사소",$F178)),"수원농산물검사소",IF(COUNT(FIND("건설본부(관리과)",$F178)),"관리과",IF(COUNT(FIND("도로건설과",$F178)),"도로건설과",IF(COUNT(FIND("북부도로과",$F178)),"북부도로과",IF(COUNT(FIND("건축시설과",$F178)),"건축시설과",IF(COUNT(FIND("신청사건립추진단",$F178)),"신청사건립추진단",$F178))))))))))))))))))))) -> 교육협력과 | B178: =G178 -> 여성가족교육협력위원회 | C178: =IF(COUNT(FIND("경기도건설본부",$E178)),"건설본부",IF(COUNT(FIND("경기도농업기술원",$E178)),"농업기술원",IF(COUNT(FIND("경기도보건환경연구원",$E178)),"보건환경연구원",IF(COUNT(FIND("소방재난본부",$E178)),"재난안전본부",IF(COUNT(FIND("경기도소방학교",$E178)),"재난안전본부",IF(COUNT(FIND("경기도인재개발원",$E178)),"인재개발원",IF(COUNT(FIND("북부소방재난본부",$E178)),"재난안전본부",IF(COUNT(FIND("소방서",$E178)),"재난안전본부",$E178)))))))) -> 교육협력국 | E178: 교육협력국 | F178: 교육협력과 | G178: 여성가족교육협력위원회 | H178: 176 | I178: 3102
A179: =IF(COUNT(AND(FIND("북부소방재난본부",$E179),FIND("특수대응단",$F179))),"특수대응단(북부)",IF(COUNT(FIND("작물연구과",$F179)),"작물연구과",IF(COUNT(FIND("원예연구과",$F179)),"원예연구과",IF(COUNT(FIND("환경농업연구과",$F179)),"환경농업연구과",IF(COUNT(FIND("지원기획과",$F179)),"지원기획과",IF(COUNT(FIND("기술보급과",$F179)),"기술보급과",IF(COUNT(FIND("농촌자원과",$F179)),"농촌자원과",IF(COUNT(FIND("종자관리소",$F179)),"종자관리소",IF(COUNT(FIND("버섯연구소",$F179)),"버섯연구소",IF(COUNT(FIND("소득자원연구소",$F179)),"소득자원연구소",IF(COUNT(FIND("선인장다육식물연구소",$F179)),"선인장다육식물연구소",IF(COUNT(FIND("보건연구부",$F179)),"보건연구부",IF(COUNT(FIND("대기연구부",$F179)),"대기연구부",IF(COUNT(FIND("수질연구부",$F179)),"수질연구부",IF(COUNT(FIND("북부지원",$F179)),"북부지원",IF(COUNT(FIND("수원농산물검사소",$F179)),"수원농산물검사소",IF(COUNT(FIND("건설본부(관리과)",$F179)),"관리과",IF(COUNT(FIND("도로건설과",$F179)),"도로건설과",IF(COUNT(FIND("북부도로과",$F179)),"북부도로과",IF(COUNT(FIND("건축시설과",$F179)),"건축시설과",IF(COUNT(FIND("신청사건립추진단",$F179)),"신청사건립추진단",$F179))))))))))))))))))))) -> 도서관정책과 | B179: =G179 -> 여성가족교육협력위원회 | C179: =IF(COUNT(FIND("경기도건설본부",$E179)),"건설본부",IF(COUNT(FIND("경기도농업기술원",$E179)),"농업기술원",IF(COUNT(FIND("경기도보건환경연구원",$E179)),"보건환경연구원",IF(COUNT(FIND("소방재난본부",$E179)),"재난안전본부",IF(COUNT(FIND("경기도소방학교",$E179)),"재난안전본부",IF(COUNT(FIND("경기도인재개발원",$E179)),"인재개발원",IF(COUNT(FIND("북부소방재난본부",$E179)),"재난안전본부",IF(COUNT(FIND("소방서",$E179)),"재난안전본부",$E179)))))))) -> 교육협력국 | E179: 교육협력국 | F179: 도서관정책과 | G179: 여성가족교육협력위원회 | H179: 177 | I179: 3103
A180: =IF(COUNT(AND(FIND("북부소방재난본부",$E180),FIND("특수대응단",$F180))),"특수대응단(북부)",IF(COUNT(FIND("작물연구과",$F180)),"작물연구과",IF(COUNT(FIND("원예연구과",$F180)),"원예연구과",IF(COUNT(FIND("환경농업연구과",$F180)),"환경농업연구과",IF(COUNT(FIND("지원기획과",$F180)),"지원기획과",IF(COUNT(FIND("기술보급과",$F180)),"기술보급과",IF(COUNT(FIND("농촌자원과",$F180)),"농촌자원과",IF(COUNT(FIND("종자관리소",$F180)),"종자관리소",IF(COUNT(FIND("버섯연구소",$F180)),"버섯연구소",IF(COUNT(FIND("소득자원연구소",$F180)),"소득자원연구소",IF(COUNT(FIND("선인장다육식물연구소",$F180)),"선인장다육식물연구소",IF(COUNT(FIND("보건연구부",$F180)),"보건연구부",IF(COUNT(FIND("대기연구부",$F180)),"대기연구부",IF(COUNT(FIND("수질연구부",$F180)),"수질연구부",IF(COUNT(FIND("북부지원",$F180)),"북부지원",IF(COUNT(FIND("수원농산물검사소",$F180)),"수원농산물검사소",IF(COUNT(FIND("건설본부(관리과)",$F180)),"관리과",IF(COUNT(FIND("도로건설과",$F180)),"도로건설과",IF(COUNT(FIND("북부도로과",$F180)),"북부도로과",IF(COUNT(FIND("건축시설과",$F180)),"건축시설과",IF(COUNT(FIND("신청사건립추진단",$F180)),"신청사건립추진단",$F180))))))))))))))))))))) -> 여성가족과 | B180: =G180 -> 여성가족교육협력위원회 | C180: =IF(COUNT(FIND("경기도건설본부",$E180)),"건설본부",IF(COUNT(FIND("경기도농업기술원",$E180)),"농업기술원",IF(COUNT(FIND("경기도보건환경연구원",$E180)),"보건환경연구원",IF(COUNT(FIND("소방재난본부",$E180)),"재난안전본부",IF(COUNT(FIND("경기도소방학교",$E180)),"재난안전본부",IF(COUNT(FIND("경기도인재개발원",$E180)),"인재개발원",IF(COUNT(FIND("북부소방재난본부",$E180)),"재난안전본부",IF(COUNT(FIND("소방서",$E180)),"재난안전본부",$E180)))))))) -> 여성가족국 | E180: 여성가족국 | F180: 여성가족과 | G180: 여성가족교육협력위원회 | H180: 178 | I180: 3201
A181: =IF(COUNT(AND(FIND("북부소방재난본부",$E181),FIND("특수대응단",$F181))),"특수대응단(북부)",IF(COUNT(FIND("작물연구과",$F181)),"작물연구과",IF(COUNT(FIND("원예연구과",$F181)),"원예연구과",IF(COUNT(FIND("환경농업연구과",$F181)),"환경농업연구과",IF(COUNT(FIND("지원기획과",$F181)),"지원기획과",IF(COUNT(FIND("기술보급과",$F181)),"기술보급과",IF(COUNT(FIND("농촌자원과",$F181)),"농촌자원과",IF(COUNT(FIND("종자관리소",$F181)),"종자관리소",IF(COUNT(FIND("버섯연구소",$F181)),"버섯연구소",IF(COUNT(FIND("소득자원연구소",$F181)),"소득자원연구소",IF(COUNT(FIND("선인장다육식물연구소",$F181)),"선인장다육식물연구소",IF(COUNT(FIND("보건연구부",$F181)),"보건연구부",IF(COUNT(FIND("대기연구부",$F181)),"대기연구부",IF(COUNT(FIND("수질연구부",$F181)),"수질연구부",IF(COUNT(FIND("북부지원",$F181)),"북부지원",IF(COUNT(FIND("수원농산물검사소",$F181)),"수원농산물검사소",IF(COUNT(FIND("건설본부(관리과)",$F181)),"관리과",IF(COUNT(FIND("도로건설과",$F181)),"도로건설과",IF(COUNT(FIND("북부도로과",$F181)),"북부도로과",IF(COUNT(FIND("건축시설과",$F181)),"건축시설과",IF(COUNT(FIND("신청사건립추진단",$F181)),"신청사건립추진단",$F181))))))))))))))))))))) -> 보육정책과 | B181: =G181 -> 여성가족교육협력위원회 | C181: =IF(COUNT(FIND("경기도건설본부",$E181)),"건설본부",IF(COUNT(FIND("경기도농업기술원",$E181)),"농업기술원",IF(COUNT(FIND("경기도보건환경연구원",$E181)),"보건환경연구원",IF(COUNT(FIND("소방재난본부",$E181)),"재난안전본부",IF(COUNT(FIND("경기도소방학교",$E181)),"재난안전본부",IF(COUNT(FIND("경기도인재개발원",$E181)),"인재개발원",IF(COUNT(FIND("북부소방재난본부",$E181)),"재난안전본부",IF(COUNT(FIND("소방서",$E181)),"재난안전본부",$E181)))))))) -> 여성가족국 | E181: 여성가족국 | F181: 보육정책과 | G181: 여성가족교육협력위원회 | H181: 179 | I181: 3202
A182: =IF(COUNT(AND(FIND("북부소방재난본부",$E182),FIND("특수대응단",$F182))),"특수대응단(북부)",IF(COUNT(FIND("작물연구과",$F182)),"작물연구과",IF(COUNT(FIND("원예연구과",$F182)),"원예연구과",IF(COUNT(FIND("환경농업연구과",$F182)),"환경농업연구과",IF(COUNT(FIND("지원기획과",$F182)),"지원기획과",IF(COUNT(FIND("기술보급과",$F182)),"기술보급과",IF(COUNT(FIND("농촌자원과",$F182)),"농촌자원과",IF(COUNT(FIND("종자관리소",$F182)),"종자관리소",IF(COUNT(FIND("버섯연구소",$F182)),"버섯연구소",IF(COUNT(FIND("소득자원연구소",$F182)),"소득자원연구소",IF(COUNT(FIND("선인장다육식물연구소",$F182)),"선인장다육식물연구소",IF(COUNT(FIND("보건연구부",$F182)),"보건연구부",IF(COUNT(FIND("대기연구부",$F182)),"대기연구부",IF(COUNT(FIND("수질연구부",$F182)),"수질연구부",IF(COUNT(FIND("북부지원",$F182)),"북부지원",IF(COUNT(FIND("수원농산물검사소",$F182)),"수원농산물검사소",IF(COUNT(FIND("건설본부(관리과)",$F182)),"관리과",IF(COUNT(FIND("도로건설과",$F182)),"도로건설과",IF(COUNT(FIND("북부도로과",$F182)),"북부도로과",IF(COUNT(FIND("건축시설과",$F182)),"건축시설과",IF(COUNT(FIND("신청사건립추진단",$F182)),"신청사건립추진단",$F182))))))))))))))))))))) -> 아동청소년과 | B182: =G182 -> 여성가족교육협력위원회 | C182: =IF(COUNT(FIND("경기도건설본부",$E182)),"건설본부",IF(COUNT(FIND("경기도농업기술원",$E182)),"농업기술원",IF(COUNT(FIND("경기도보건환경연구원",$E182)),"보건환경연구원",IF(COUNT(FIND("소방재난본부",$E182)),"재난안전본부",IF(COUNT(FIND("경기도소방학교",$E182)),"재난안전본부",IF(COUNT(FIND("경기도인재개발원",$E182)),"인재개발원",IF(COUNT(FIND("북부소방재난본부",$E182)),"재난안전본부",IF(COUNT(FIND("소방서",$E182)),"재난안전본부",$E182)))))))) -> 여성가족국 | E182: 여성가족국 | F182: 아동청소년과 | G182: 여성가족교육협력위원회 | H182: 180 | I182: 3203
A183: =IF(COUNT(AND(FIND("북부소방재난본부",$E183),FIND("특수대응단",$F183))),"특수대응단(북부)",IF(COUNT(FIND("작물연구과",$F183)),"작물연구과",IF(COUNT(FIND("원예연구과",$F183)),"원예연구과",IF(COUNT(FIND("환경농업연구과",$F183)),"환경농업연구과",IF(COUNT(FIND("지원기획과",$F183)),"지원기획과",IF(COUNT(FIND("기술보급과",$F183)),"기술보급과",IF(COUNT(FIND("농촌자원과",$F183)),"농촌자원과",IF(COUNT(FIND("종자관리소",$F183)),"종자관리소",IF(COUNT(FIND("버섯연구소",$F183)),"버섯연구소",IF(COUNT(FIND("소득자원연구소",$F183)),"소득자원연구소",IF(COUNT(FIND("선인장다육식물연구소",$F183)),"선인장다육식물연구소",IF(COUNT(FIND("보건연구부",$F183)),"보건연구부",IF(COUNT(FIND("대기연구부",$F183)),"대기연구부",IF(COUNT(FIND("수질연구부",$F183)),"수질연구부",IF(COUNT(FIND("북부지원",$F183)),"북부지원",IF(COUNT(FIND("수원농산물검사소",$F183)),"수원농산물검사소",IF(COUNT(FIND("건설본부(관리과)",$F183)),"관리과",IF(COUNT(FIND("도로건설과",$F183)),"도로건설과",IF(COUNT(FIND("북부도로과",$F183)),"북부도로과",IF(COUNT(FIND("건축시설과",$F183)),"건축시설과",IF(COUNT(FIND("신청사건립추진단",$F183)),"신청사건립추진단",$F183))))))))))))))))))))) -> 다문화가족과 | B183: =G183 -> 여성가족교육협력위원회 | C183: =IF(COUNT(FIND("경기도건설본부",$E183)),"건설본부",IF(COUNT(FIND("경기도농업기술원",$E183)),"농업기술원",IF(COUNT(FIND("경기도보건환경연구원",$E183)),"보건환경연구원",IF(COUNT(FIND("소방재난본부",$E183)),"재난안전본부",IF(COUNT(FIND("경기도소방학교",$E183)),"재난안전본부",IF(COUNT(FIND("경기도인재개발원",$E183)),"인재개발원",IF(COUNT(FIND("북부소방재난본부",$E183)),"재난안전본부",IF(COUNT(FIND("소방서",$E183)),"재난안전본부",$E183)))))))) -> 여성가족국 | E183: 여성가족국 | F183: 다문화가족과 | G183: 여성가족교육협력위원회 | H183: 181 | I183: 3204
A184: =IF(COUNT(AND(FIND("북부소방재난본부",$E184),FIND("특수대응단",$F184))),"특수대응단(북부)",IF(COUNT(FIND("작물연구과",$F184)),"작물연구과",IF(COUNT(FIND("원예연구과",$F184)),"원예연구과",IF(COUNT(FIND("환경농업연구과",$F184)),"환경농업연구과",IF(COUNT(FIND("지원기획과",$F184)),"지원기획과",IF(COUNT(FIND("기술보급과",$F184)),"기술보급과",IF(COUNT(FIND("농촌자원과",$F184)),"농촌자원과",IF(COUNT(FIND("종자관리소",$F184)),"종자관리소",IF(COUNT(FIND("버섯연구소",$F184)),"버섯연구소",IF(COUNT(FIND("소득자원연구소",$F184)),"소득자원연구소",IF(COUNT(FIND("선인장다육식물연구소",$F184)),"선인장다육식물연구소",IF(COUNT(FIND("보건연구부",$F184)),"보건연구부",IF(COUNT(FIND("대기연구부",$F184)),"대기연구부",IF(COUNT(FIND("수질연구부",$F184)),"수질연구부",IF(COUNT(FIND("북부지원",$F184)),"북부지원",IF(COUNT(FIND("수원농산물검사소",$F184)),"수원농산물검사소",IF(COUNT(FIND("건설본부(관리과)",$F184)),"관리과",IF(COUNT(FIND("도로건설과",$F184)),"도로건설과",IF(COUNT(FIND("북부도로과",$F184)),"북부도로과",IF(COUNT(FIND("건축시설과",$F184)),"건축시설과",IF(COUNT(FIND("신청사건립추진단",$F184)),"신청사건립추진단",$F184))))))))))))))))))))) -> 여성비전센터 | B184: =G184 -> 여성가족교육협력위원회 | C184: =IF(COUNT(FIND("경기도건설본부",$E184)),"건설본부",IF(COUNT(FIND("경기도농업기술원",$E184)),"농업기술원",IF(COUNT(FIND("경기도보건환경연구원",$E184)),"보건환경연구원",IF(COUNT(FIND("소방재난본부",$E184)),"재난안전본부",IF(COUNT(FIND("경기도소방학교",$E184)),"재난안전본부",IF(COUNT(FIND("경기도인재개발원",$E184)),"인재개발원",IF(COUNT(FIND("북부소방재난본부",$E184)),"재난안전본부",IF(COUNT(FIND("소방서",$E184)),"재난안전본부",$E184)))))))) -> 여성가족국 | E184: 여성가족국 | F184: 여성비전센터 | G184: 여성가족교육협력위원회 | H184: 182 | I184: 3205
A185: =IF(COUNT(AND(FIND("북부소방재난본부",$E185),FIND("특수대응단",$F185))),"특수대응단(북부)",IF(COUNT(FIND("작물연구과",$F185)),"작물연구과",IF(COUNT(FIND("원예연구과",$F185)),"원예연구과",IF(COUNT(FIND("환경농업연구과",$F185)),"환경농업연구과",IF(COUNT(FIND("지원기획과",$F185)),"지원기획과",IF(COUNT(FIND("기술보급과",$F185)),"기술보급과",IF(COUNT(FIND("농촌자원과",$F185)),"농촌자원과",IF(COUNT(FIND("종자관리소",$F185)),"종자관리소",IF(COUNT(FIND("버섯연구소",$F185)),"버섯연구소",IF(COUNT(FIND("소득자원연구소",$F185)),"소득자원연구소",IF(COUNT(FIND("선인장다육식물연구소",$F185)),"선인장다육식물연구소",IF(COUNT(FIND("보건연구부",$F185)),"보건연구부",IF(COUNT(FIND("대기연구부",$F185)),"대기연구부",IF(COUNT(FIND("수질연구부",$F185)),"수질연구부",IF(COUNT(FIND("북부지원",$F185)),"북부지원",IF(COUNT(FIND("수원농산물검사소",$F185)),"수원농산물검사소",IF(COUNT(FIND("건설본부(관리과)",$F185)),"관리과",IF(COUNT(FIND("도로건설과",$F185)),"도로건설과",IF(COUNT(FIND("북부도로과",$F185)),"북부도로과",IF(COUNT(FIND("건축시설과",$F185)),"건축시설과",IF(COUNT(FIND("신청사건립추진단",$F185)),"신청사건립추진단",$F185))))))))))))))))))))) -> 여성능력개발센터 | B185: =G185 -> 여성가족교육협력위원회 | C185: =IF(COUNT(FIND("경기도건설본부",$E185)),"건설본부",IF(COUNT(FIND("경기도농업기술원",$E185)),"농업기술원",IF(COUNT(FIND("경기도보건환경연구원",$E185)),"보건환경연구원",IF(COUNT(FIND("소방재난본부",$E185)),"재난안전본부",IF(COUNT(FIND("경기도소방학교",$E185)),"재난안전본부",IF(COUNT(FIND("경기도인재개발원",$E185)),"인재개발원",IF(COUNT(FIND("북부소방재난본부",$E185)),"재난안전본부",IF(COUNT(FIND("소방서",$E185)),"재난안전본부",$E185)))))))) -> 여성가족국 | E185: 여성가족국 | F185: 여성능력개발센터 | G185: 여성가족교육협력위원회 | H185: 183 | I185: 3206
A186: =IF(COUNT(AND(FIND("북부소방재난본부",$E186),FIND("특수대응단",$F186))),"특수대응단(북부)",IF(COUNT(FIND("작물연구과",$F186)),"작물연구과",IF(COUNT(FIND("원예연구과",$F186)),"원예연구과",IF(COUNT(FIND("환경농업연구과",$F186)),"환경농업연구과",IF(COUNT(FIND("지원기획과",$F186)),"지원기획과",IF(COUNT(FIND("기술보급과",$F186)),"기술보급과",IF(COUNT(FIND("농촌자원과",$F186)),"농촌자원과",IF(COUNT(FIND("종자관리소",$F186)),"종자관리소",IF(COUNT(FIND("버섯연구소",$F186)),"버섯연구소",IF(COUNT(FIND("소득자원연구소",$F186)),"소득자원연구소",IF(COUNT(FIND("선인장다육식물연구소",$F186)),"선인장다육식물연구소",IF(COUNT(FIND("보건연구부",$F186)),"보건연구부",IF(COUNT(FIND("대기연구부",$F186)),"대기연구부",IF(COUNT(FIND("수질연구부",$F186)),"수질연구부",IF(COUNT(FIND("북부지원",$F186)),"북부지원",IF(COUNT(FIND("수원농산물검사소",$F186)),"수원농산물검사소",IF(COUNT(FIND("건설본부(관리과)",$F186)),"관리과",IF(COUNT(FIND("도로건설과",$F186)),"도로건설과",IF(COUNT(FIND("북부도로과",$F186)),"북부도로과",IF(COUNT(FIND("건축시설과",$F186)),"건축시설과",IF(COUNT(FIND("신청사건립추진단",$F186)),"신청사건립추진단",$F186))))))))))))))))))))) -> 가족여성담당관 | B186: =G186 -> 여성가족교육협력위원회 | C186: =IF(COUNT(FIND("경기도건설본부",$E186)),"건설본부",IF(COUNT(FIND("경기도농업기술원",$E186)),"농업기술원",IF(COUNT(FIND("경기도보건환경연구원",$E186)),"보건환경연구원",IF(COUNT(FIND("소방재난본부",$E186)),"재난안전본부",IF(COUNT(FIND("경기도소방학교",$E186)),"재난안전본부",IF(COUNT(FIND("경기도인재개발원",$E186)),"인재개발원",IF(COUNT(FIND("북부소방재난본부",$E186)),"재난안전본부",IF(COUNT(FIND("소방서",$E186)),"재난안전본부",$E186)))))))) -> 복지여성실 | E186: 복지여성실 | F186: 가족여성담당관 | G186: 여성가족교육협력위원회 | H186: 184 | I186: 3301
A187: =IF(COUNT(AND(FIND("북부소방재난본부",$E187),FIND("특수대응단",$F187))),"특수대응단(북부)",IF(COUNT(FIND("작물연구과",$F187)),"작물연구과",IF(COUNT(FIND("원예연구과",$F187)),"원예연구과",IF(COUNT(FIND("환경농업연구과",$F187)),"환경농업연구과",IF(COUNT(FIND("지원기획과",$F187)),"지원기획과",IF(COUNT(FIND("기술보급과",$F187)),"기술보급과",IF(COUNT(FIND("농촌자원과",$F187)),"농촌자원과",IF(COUNT(FIND("종자관리소",$F187)),"종자관리소",IF(COUNT(FIND("버섯연구소",$F187)),"버섯연구소",IF(COUNT(FIND("소득자원연구소",$F187)),"소득자원연구소",IF(COUNT(FIND("선인장다육식물연구소",$F187)),"선인장다육식물연구소",IF(COUNT(FIND("보건연구부",$F187)),"보건연구부",IF(COUNT(FIND("대기연구부",$F187)),"대기연구부",IF(COUNT(FIND("수질연구부",$F187)),"수질연구부",IF(COUNT(FIND("북부지원",$F187)),"북부지원",IF(COUNT(FIND("수원농산물검사소",$F187)),"수원농산물검사소",IF(COUNT(FIND("건설본부(관리과)",$F187)),"관리과",IF(COUNT(FIND("도로건설과",$F187)),"도로건설과",IF(COUNT(FIND("북부도로과",$F187)),"북부도로과",IF(COUNT(FIND("건축시설과",$F187)),"건축시설과",IF(COUNT(FIND("신청사건립추진단",$F187)),"신청사건립추진단",$F187))))))))))))))))))))) -> 보육청소년담당관 | B187: =G187 -> 여성가족교육협력위원회 | C187: =IF(COUNT(FIND("경기도건설본부",$E187)),"건설본부",IF(COUNT(FIND("경기도농업기술원",$E187)),"농업기술원",IF(COUNT(FIND("경기도보건환경연구원",$E187)),"보건환경연구원",IF(COUNT(FIND("소방재난본부",$E187)),"재난안전본부",IF(COUNT(FIND("경기도소방학교",$E187)),"재난안전본부",IF(COUNT(FIND("경기도인재개발원",$E187)),"인재개발원",IF(COUNT(FIND("북부소방재난본부",$E187)),"재난안전본부",IF(COUNT(FIND("소방서",$E187)),"재난안전본부",$E187)))))))) -> 복지여성실 | E187: 복지여성실 | F187: 보육청소년담당관 | G187: 여성가족교육협력위원회 | H187: 185 | I187: 3302
A188: =IF(COUNT(AND(FIND("북부소방재난본부",$E188),FIND("특수대응단",$F188))),"특수대응단(북부)",IF(COUNT(FIND("작물연구과",$F188)),"작물연구과",IF(COUNT(FIND("원예연구과",$F188)),"원예연구과",IF(COUNT(FIND("환경농업연구과",$F188)),"환경농업연구과",IF(COUNT(FIND("지원기획과",$F188)),"지원기획과",IF(COUNT(FIND("기술보급과",$F188)),"기술보급과",IF(COUNT(FIND("농촌자원과",$F188)),"농촌자원과",IF(COUNT(FIND("종자관리소",$F188)),"종자관리소",IF(COUNT(FIND("버섯연구소",$F188)),"버섯연구소",IF(COUNT(FIND("소득자원연구소",$F188)),"소득자원연구소",IF(COUNT(FIND("선인장다육식물연구소",$F188)),"선인장다육식물연구소",IF(COUNT(FIND("보건연구부",$F188)),"보건연구부",IF(COUNT(FIND("대기연구부",$F188)),"대기연구부",IF(COUNT(FIND("수질연구부",$F188)),"수질연구부",IF(COUNT(FIND("북부지원",$F188)),"북부지원",IF(COUNT(FIND("수원농산물검사소",$F188)),"수원농산물검사소",IF(COUNT(FIND("건설본부(관리과)",$F188)),"관리과",IF(COUNT(FIND("도로건설과",$F188)),"도로건설과",IF(COUNT(FIND("북부도로과",$F188)),"북부도로과",IF(COUNT(FIND("건축시설과",$F188)),"건축시설과",IF(COUNT(FIND("신청사건립추진단",$F188)),"신청사건립추진단",$F188))))))))))))))))))))) -> 북부여성비전센터 | B188: =G188 -> 여성가족교육협력위원회 | C188: =IF(COUNT(FIND("경기도건설본부",$E188)),"건설본부",IF(COUNT(FIND("경기도농업기술원",$E188)),"농업기술원",IF(COUNT(FIND("경기도보건환경연구원",$E188)),"보건환경연구원",IF(COUNT(FIND("소방재난본부",$E188)),"재난안전본부",IF(COUNT(FIND("경기도소방학교",$E188)),"재난안전본부",IF(COUNT(FIND("경기도인재개발원",$E188)),"인재개발원",IF(COUNT(FIND("북부소방재난본부",$E188)),"재난안전본부",IF(COUNT(FIND("소방서",$E188)),"재난안전본부",$E188)))))))) -> 복지여성실 | E188: 복지여성실 | F188: 북부여성비전센터 | G188: 여성가족교육협력위원회 | H188: 186 | I188: 3303

Sheet 15년검증
A1: 2015년 본예산 검증 | G1: 본예산 예비비 | I1: 124682800
K2: (단위 : 천원)
A3: 구 분 | B3: 상임위 | G3: 구 분 | H3: 예결위
B4: 세입 | C4: 검증 | D4: 세출 | E4: 검증 | H4: 세입 | I4: 검증 | J4: 세출 | K4: 검증
A5: 전체 총계 | B5: =SUM(B6,B9) -> 0 | C5: =IF(B5='15년일입'!U3,"OK","@@") -> OK | D5: =SUM(D6,D9) -> 60000 | E5: =IF(D5='15년일출'!U3,"OK","@@") -> OK | G5: 전체 총계 | H5: =SUM(H6,H9) -> 0 | I5: =IF(H5='15년일입'!Z3,"OK","@@") -> OK | J5: =SUM(J6,J9) -> 0 | K5: =IF(J5='15년일출'!Z3,"OK","@@") -> OK
A6: 자체 총계 | B6: =SUM(B7:B8) -> 0 | C6: =IF(B6='15년일입'!U6,"OK","@@") -> OK | D6: =SUM(D7:D8) -> 60000 | E6: =IF($D$6='15년일출'!$U$6,"OK","@@") -> OK | G6: 자체 총계 | H6: =SUM(H7:H8) -> 0 | I6: =IF(H6='15년일입'!Z6,"OK","@@") -> OK | J6: =SUM(J7:J8) -> 0 | K6: =IF($J6='15년일출'!$Z6,"OK","@@") -> OK
A7: 자체 도비 | B7: =SUMIFS('15년일입'!$U$7:$U$1000,'15년일입'!$S$7:$S$1000,"도비") -> 0 | D7: =SUMIFS('15년일출'!$U$15:$U$1027,'15년일출'!$S$15:$S$1027,"도비") -> 60000 | G7: 자체 - 의존도비 | H7: =SUMIFS('15년일입'!$Z$7:$Z$1000,'15년일입'!$X$7:$X$1000,"도비") -> 0 | J7: =SUMIFS('15년일출'!$Z$15:$Z$1027,'15년일출'!$X$15:$X$1027,"도비") -> 0
A8: 의존 매칭 도비 | B8: =SUMIFS('15년일입'!$U$7:$U$1000,'15년일입'!$S$7:$S$1000,"국비")+SUMIFS('15년일입'!$U$7:$U$1000,'15년일입'!$S$7:$S$1000,"광특")+SUMIFS('15년일입'!$U$7:$U$1000,'15년일입'!$S$7:$S$1000,"기금")+SUMIFS('15년일입'!$U$7:$U$1000,'15년일입'!$S$7:$S$1000,"분권")+SUMIFS('15년일입'!$U$7:$U$1000,'15년일입'!$S$7:$S$1000,"특교") -> 0 | D8: =SUMIFS('15년일출'!$U$15:$U$1027,'15년일출'!$S$15:$S$1027,"국비")+SUMIFS('15년일출'!$U$15:$U$1027,'15년일출'!$S$15:$S$1027,"광특")+SUMIFS('15년일출'!$U$15:$U$1027,'15년일출'!$S$15:$S$1027,"기금")+SUMIFS('15년일출'!$U$15:$U$1027,'15년일출'!$S$15:$S$1027,"분권")+SUMIFS('15년일출'!$U$15:$U$1027,'15년일출'!$S$15:$S$1027,"특교") -> 0 | G8: 의존 매칭 도비 | H8: =SUMIFS('15년일입'!$Z$7:$Z$1000,'15년일입'!$X$7:$X$1000,"국비")+SUMIFS('15년일입'!$Z$7:$Z$1000,'15년일입'!$X$7:$X$1000,"광특")+SUMIFS('15년일입'!$Z$7:$Z$1000,'15년일입'!$X$7:$X$1000,"기금")+SUMIFS('15년일입'!$Z$7:$Z$1000,'15년일입'!$X$7:$X$1000,"분권")+SUMIFS('15년일입'!$Z$7:$Z$1000,'15년일입'!$X$7:$X$1000,"특교") -> 0 | J8: =SUMIFS('15년일출'!$Z$15:$Z$1027,'15년일출'!$X$15:$X$1027,"국비")+SUMIFS('15년일출'!$Z$15:$Z$1027,'15년일출'!$X$15:$X$1027,"광특")+SUMIFS('15년일출'!$Z$15:$Z$1027,'15년일출'!$X$15:$X$1027,"기금")+SUMIFS('15년일출'!$Z$15:$Z$1027,'15년일출'!$X$15:$X$1027,"분권")+SUMIFS('15년일출'!$Z$15:$Z$1027,'15년일출'!$X$15:$X$1027,"특교") -> 0
A9: 의존계 | B9: =SUM(B10:B14) -> 0 | C9: =IF(B9='15년일입'!T6,"OK","@@") -> OK | D9: =SUM(D10:D14) -> 0 | E9: =IF(B9=D9,"OK","@@") -> OK | G9: 의존계 | H9: =SUM(H10:H14) -> 0 | I9: =IF(H9='15년일입'!Y6,"OK","@@") -> OK | J9: =SUM(J10:J14) -> 0 | K9: =IF(H9=J9,"OK","@@") -> OK
A10: 국비 | B10: =SUMIFS('15년일입'!$T$7:$T$1000,'15년일입'!$S$7:$S$1000,'15년검증'!$A10) -> 0 | D10: =SUMIFS('15년일출'!$T$15:$T$1027,'15년일출'!$S$15:$S$1027,'15년검증'!$A10) -> 0 | E10: =IF(B10=D10,"OK","@@") -> OK | G10: 국비 | H10: =SUMIFS('15년일입'!$Y$7:$Y$1000,'15년일입'!$X$7:$X$1000,'15년검증'!$A10) -> 0 | J10: =SUMIFS('15년일출'!$Y$15:$Y$1027,'15년일출'!$X$15:$X$1027,'15년검증'!$A10) -> 0 | K10: =IF(H10=J10,"OK","@@") -> OK
A11: 광특 | B11: =SUMIFS('15년일입'!$T$7:$T$1000,'15년일입'!$S$7:$S$1000,'15년검증'!$A11) -> 0 | D11: =SUMIFS('15년일출'!$T$15:$T$1027,'15년일출'!$S$15:$S$1027,'15년검증'!$A11) -> 0 | E11: =IF(B11=D11,"OK","@@") -> OK | G11: 광특 | H11: =SUMIFS('15년일입'!$Y$7:$Y$1000,'15년일입'!$X$7:$X$1000,'15년검증'!$A11) -> 0 | J11: =SUMIFS('15년일출'!$Y$15:$Y$1027,'15년일출'!$X$15:$X$1027,'15년검증'!$A11) -> 0 | K11: =IF(H11=J11,"OK","@@") -> OK
A12: 기금 | B12: =SUMIFS('15년일입'!$T$7:$T$1000,'15년일입'!$S$7:$S$1000,'15년검증'!$A12) -> 0 | D12: =SUMIFS('15년일출'!$T$15:$T$1027,'15년일출'!$S$15:$S$1027,'15년검증'!$A12) -> 0 | E12: =IF(B12=D12,"OK","@@") -> OK | G12: 기금 | H12: =SUMIFS('15년일입'!$Y$7:$Y$1000,'15년일입'!$X$7:$X$1000,'15년검증'!$A12) -> 0 | J12: =SUMIFS('15년일출'!$Y$15:$Y$1027,'15년일출'!$X$15:$X$1027,'15년검증'!$A12) -> 0 | K12: =IF(H12=J12,"OK","@@") -> OK
A13: 분권 | B13: =SUMIFS('15년일입'!$T$7:$T$1000,'15년일입'!$S$7:$S$1000,'15년검증'!$A13) -> 0 | D13: =SUMIFS('15년일출'!$T$15:$T$1027,'15년일출'!$S$15:$S$1027,'15년검증'!$A13) -> 0 | E13: =IF(B13=D13,"OK","@@") -> OK | G13: 분권 | H13: =SUMIFS('15년일입'!$Y$7:$Y$1000,'15년일입'!$X$7:$X$1000,'15년검증'!$A13) -> 0 | J13: =SUMIFS('15년일출'!$Y$15:$Y$1027,'15년일출'!$X$15:$X$1027,'15년검증'!$A13) -> 0 | K13: =IF(H13=J13,"OK","@@") -> OK
A14: 특교 | B14: =SUMIFS('15년일입'!$T$7:$T$1000,'15년일입'!$S$7:$S$1000,'15년검증'!$A14) -> 0 | D14: =SUMIFS('15년일출'!$T$15:$T$1027,'15년일출'!$S$15:$S$1027,'15년검증'!$A14) -> 0 | E14: =IF(B14=D14,"OK","@@") -> OK | G14: 특교 | H14: =SUMIFS('15년일입'!$Y$7:$Y$1000,'15년일입'!$X$7:$X$1000,'15년검증'!$A14) -> 0 | J14: =SUMIFS('15년일출'!$Y$15:$Y$1027,'15년일출'!$X$15:$X$1027,'15년검증'!$A14) -> 0 | K14: =IF(H14=J14,"OK","@@") -> OK
G16: 예비비 조정액 | H16: =INDEX('15년일출'!Z15:Z1027,MATCH("*예비비*",'15년일출'!F15:F1027,0)) -> #N/A
H18: =H5-J5 -> 0
G20: 예비비 조정잔액 | H20: =I1+H16 -> #N/A

Sheet 2추검증
A1: 2회추경 검증 | G1: 2회추경 예비비 | I1: 22466366
K2: (단위 : 천원)
A3: 구 분 | B3: 상임위 | G3: 구 분 | H3: 예결위
B4: 세입 | C4: 검증 | D4: 세출 | E4: 검증 | H4: 세입 | I4: 검증 | J4: 세출 | K4: 검증
A5: 전체 총계 | B5: =SUM(B6,B9) -> -36110 | C5: =IF(B5='2추일입'!W3,"OK","@@") -> OK | D5: =SUM(D6,D9) -> 0 | E5: =IF(D5='2추일출'!W3,"OK","@@") -> OK | G5: 전체 총계 | H5: =SUM(H6,H9) -> 0 | I5: =IF(H5='2추일입'!AB3,"OK","@@") -> OK | J5: =SUM(J6,J9) -> 0 | K5: =IF(J5='2추일출'!AB3,"OK","@@") -> OK
A6: 자체 총계 | B6: =SUM(B7:B8) -> -36110 | C6: =IF(B6='2추일입'!W6,"OK","@@") -> OK | D6: =SUM(D7:D8) -> 0 | E6: =IF($D$6='2추일출'!$W$6,"OK","@@") -> OK | G6: 자체 총계 | H6: =SUM(H7:H8) -> 0 | I6: =IF(H6='2추일입'!AB6,"OK","@@") -> OK | J6: =SUM(J7:J8) -> 0 | K6: =IF($J6='2추일출'!$AB6,"OK","@@") -> OK
A7: 자체 도비 | B7: =SUMIFS('2추일입'!$W$7:$W$1000,'2추일입'!$U$7:$U$1000,"도비") -> -36110 | D7: =SUMIFS('2추일출'!$W$7:$W$1000,'2추일출'!$U$7:$U$1000,"도비") -> 0 | G7: 자체 - 의존도비 | H7: =SUMIFS('2추일입'!$AB$7:$AB$1000,'2추일입'!$Z$7:$Z$1000,"도비") -> 0 | J7: =SUMIFS('2추일출'!$AB$7:$AB$1000,'2추일출'!$Z$7:$Z$1000,"도비") -> 0
A8: 의존 매칭 도비 | B8: =SUMIFS('2추일입'!$W$7:$W$1000,'2추일입'!$U$7:$U$1000,"국비")+SUMIFS('2추일입'!$W$7:$W$1000,'2추일입'!$U$7:$U$1000,"광특")+SUMIFS('2추일입'!$W$7:$W$1000,'2추일입'!$U$7:$U$1000,"기금")+SUMIFS('2추일입'!$W$7:$W$1000,'2추일입'!$U$7:$U$1000,"분권")+SUMIFS('2추일입'!$W$7:$W$1000,'2추일입'!$U$7:$U$1000,"특교") -> 0 | D8: =SUMIFS('2추일출'!$W$7:$W$1000,'2추일출'!$U$7:$U$1000,"국비")+SUMIFS('2추일출'!$W$7:$W$1000,'2추일출'!$U$7:$U$1000,"광특")+SUMIFS('2추일출'!$W$7:$W$1000,'2추일출'!$U$7:$U$1000,"기금")+SUMIFS('2추일출'!$W$7:$W$1000,'2추일출'!$U$7:$U$1000,"분권")+SUMIFS('2추일출'!$W$7:$W$1000,'2추일출'!$U$7:$U$1000,"특교") -> 0 | G8: 의존 매칭 도비 | H8: =SUMIFS('2추일입'!$AB$7:$AB$1000,'2추일입'!$Z$7:$Z$1000,"국비")+SUMIFS('2추일입'!$AB$7:$AB$1000,'2추일입'!$Z$7:$Z$1000,"광특")+SUMIFS('2추일입'!$AB$7:$AB$1000,'2추일입'!$Z$7:$Z$1000,"기금")+SUMIFS('2추일입'!$AB$7:$AB$1000,'2추일입'!$Z$7:$Z$1000,"분권")+SUMIFS('2추일입'!$AB$7:$AB$1000,'2추일입'!$Z$7:$Z$1000,"특교") -> 0 | J8: =SUMIFS('2추일출'!$AB$7:$AB$1000,'2추일출'!$Z$7:$Z$1000,"국비")+SUMIFS('2추일출'!$AB$7:$AB$1000,'2추일출'!$Z$7:$Z$1000,"광특")+SUMIFS('2추일출'!$AB$7:$AB$1000,'2추일출'!$Z$7:$Z$1000,"기금")+SUMIFS('2추일출'!$AB$7:$AB$1000,'2추일출'!$Z$7:$Z$1000,"분권")+SUMIFS('2추일출'!$AB$7:$AB$1000,'2추일출'!$Z$7:$Z$1000,"특교") -> 0
A9: 의존계 | B9: =SUM(B10:B14) -> 0 | C9: =IF(B9='2추일입'!V6,"OK","@@") -> OK | D9: =SUM(D10:D14) -> 0 | E9: =IF(B9=D9,"OK","@@") -> OK | G9: 의존계 | H9: =SUM(H10:H14) -> 0 | I9: =IF(H9='2추일입'!AA6,"OK","@@") -> OK | J9: =SUM(J10:J14) -> 0 | K9: =IF(H9=J9,"OK","@@") -> OK
A10: 국비 | B10: =SUMIFS('2추일입'!$V$7:$V$1000,'2추일입'!$U$7:$U$1000,'2추검증'!$A10) -> 0 | D10: =SUMIFS('2추일출'!$V$7:$V$1000,'2추일출'!$U$7:$U$1000,'2추검증'!$A10) -> 0 | E10: =IF(B10=D10,"OK","@@") -> OK | G10: 국비 | H10: =SUMIFS('2추일입'!$AA$7:$AA$1000,'2추일입'!$Z$7:$Z$1000,'2추검증'!$A10) -> 0 | J10: =SUMIFS('2추일출'!$AA$7:$AA$1000,'2추일출'!$Z$7:$Z$1000,'2추검증'!$A10) -> 0 | K10: =IF(H10=J10,"OK","@@") -> OK
A11: 광특 | B11: =SUMIFS('2추일입'!$V$7:$V$1000,'2추일입'!$U$7:$U$1000,'2추검증'!$A11) -> 0 | D11: =SUMIFS('2추일출'!$V$7:$V$1000,'2추일출'!$U$7:$U$1000,'2추검증'!$A11) -> 0 | E11: =IF(B11=D11,"OK","@@") -> OK | G11: 광특 | H11: =SUMIFS('2추일입'!$AA$7:$AA$1000,'2추일입'!$Z$7:$Z$1000,'2추검증'!$A11) -> 0 | J11: =SUMIFS('2추일출'!$AA$7:$AA$1000,'2추일출'!$Z$7:$Z$1000,'2추검증'!$A11) -> 0 | K11: =IF(H11=J11,"OK","@@") -> OK
A12: 기금 | B12: =SUMIFS('2추일입'!$V$7:$V$1000,'2추일입'!$U$7:$U$1000,'2추검증'!$A12) -> 0 | D12: =SUMIFS('2추일출'!$V$7:$V$1000,'2추일출'!$U$7:$U$1000,'2추검증'!$A12) -> 0 | E12: =IF(B12=D12,"OK","@@") -> OK | G12: 기금 | H12: =SUMIFS('2추일입'!$AA$7:$AA$1000,'2추일입'!$Z$7:$Z$1000,'2추검증'!$A12) -> 0 | J12: =SUMIFS('2추일출'!$AA$7:$AA$1000,'2추일출'!$Z$7:$Z$1000,'2추검증'!$A12) -> 0 | K12: =IF(H12=J12,"OK","@@") -> OK
A13: 분권 | B13: =SUMIFS('2추일입'!$V$7:$V$1000,'2추일입'!$U$7:$U$1000,'2추검증'!$A13) -> 0 | D13: =SUMIFS('2추일출'!$V$7:$V$1000,'2추일출'!$U$7:$U$1000,'2추검증'!$A13) -> 0 | E13: =IF(B13=D13,"OK","@@") -> OK | G13: 분권 | H13: =SUMIFS('2추일입'!$AA$7:$AA$1000,'2추일입'!$Z$7:$Z$1000,'2추검증'!$A13) -> 0 | J13: =SUMIFS('2추일출'!$AA$7:$AA$1000,'2추일출'!$Z$7:$Z$1000,'2추검증'!$A13) -> 0 | K13: =IF(H13=J13,"OK","@@") -> OK
A14: 특교 | B14: =SUMIFS('2추일입'!$V$7:$V$1000,'2추일입'!$U$7:$U$1000,'2추검증'!$A14) -> 0 | D14: =SUMIFS('2추일출'!$V$7:$V$1000,'2추일출'!$U$7:$U$1000,'2추검증'!$A14) -> 0 | E14: =IF(B14=D14,"OK","@@") -> OK | G14: 특교 | H14: =SUMIFS('2추일입'!$AA$7:$AA$1000,'2추일입'!$Z$7:$Z$1000,'2추검증'!$A14) -> 0 | J14: =SUMIFS('2추일출'!$AA$7:$AA$1000,'2추일출'!$Z$7:$Z$1000,'2추검증'!$A14) -> 0 | K14: =IF(H14=J14,"OK","@@") -> OK
G16: 예비비 조정액 | H16: =INDEX('2추일출'!AB7:AB1000,MATCH("*예비비*",'2추일출'!F7:F1000,0)) -> #N/A
H18: =H5-J5 -> 0
G20: 예비비 조정잔액 | H20: =I1-H16 -> #N/A

Sheet 상임 표지
D2: 2014년도 제2회 일반회계 및 특별회계 추가경정 세입·세출 예산안
D4: 상 임 위 계 수 조 정 결 과
D16: 예산결산특별위원회

Sheet 표지
D2: 2014년도 제2회 일반회계 및 특별회계 추가경정 세입·세출 예산안
A4: 예결위 계수조정 결과
D16: 예산결산특별위원회

Sheet 예결 표지
B5: 2014년도 제2회 일반회계 및 특별회계 추가경정 세입·세출 예산안
B7: 예결위 계수조정 결과
B33: 예산결산특별위원회

Sheet 예결 표지(가로)
B3: 2014년도 제2회 일반회계 및 특별회계 추가경정 세입·세출 예산안
B5: 예결위 계수조정 결과
B24: 예산결산특별위원회

Sheet 15년총괄표
B1: 2015년도 경기도 일반 및 특별회계 세입·세출 예산안[전체예산총괄]
B3: □ 총 괄 | D3: 세입예산증감 | E3: =SUM(D7:E7) -> 0 | F3: 세출예산증감 | G3: =SUM(F7:G7) -> 0
H4: (단위:천원) | M4: (일반+특별+기금) | O4: 특별+기금
B5: 구 분 | C5: 집행부제출(안) | D5: 세입예산(안) | F5: 세출예산(안) | H5: 예산수정(안) | I5: 일반회계 증감(총괄표) | K5: 예비비증감 | L5: 비 고 | M5: 전체 증감(시트) | O5: 비고
D6: 감 액 | E6: 증 액 | F6: 감 액 | G6: 증 액 | I6: 세입 | J6: 세출 | M6: 세입 | N6: 세출
B7: 합 계 | C7: =SUM(C8:C18) -> 0 | D7: =SUM(D8:D18) -> 0 | E7: =SUM(E8:E18) -> 0 | F7: =SUM(F8:F18) -> 0 | G7: =SUM(G8:G18) -> 0 | H7: =SUM(H8:H18) -> 0 | I7: =E25+D25 -> 0 | J7: =F25+G25 -> 0 | K7: =I7-J7 -> 0 | L7: 예비비 증감이 - 예산이면 감액에 + 예산이면 증액에 입력 | M7: =D24+E24 -> 0 | N7: =F24+G24 -> 0 | O7: 0 | P7: 0
B8: 기 타 | C8: 0 | H8: =C8-F8+G8 -> 0 | I8: =D7+E7 -> 0 | J8: =F7+G7 -> 0 | K8: =I8-J8 -> 0
B9: 의회운영위원회 | D9: =SUMIFS('15년일입'!$K$7:$K$1000,'15년일입'!$A$7:$A$1000,'15년총괄표'!$B9) -> 0 | E9: =SUMIFS('15년일입'!$L$7:$L$1000,'15년일입'!$A$7:$A$1000,'15년총괄표'!$B9) -> 0 | F9: =SUMIFS('15년일출'!$K$15:$K$1027,'15년일출'!$A$15:$A$1027,'15년총괄표'!$B9) -> 0 | G9: =SUMIFS('15년일출'!$L$15:$L$1027,'15년일출'!$A$15:$A$1027,'15년총괄표'!$B9) -> 0 | H9: =C9+F9+G9 -> 0 | I9: 일반회계 증감(시트) | N9: 전체 증감
B10: 기획재정위원회 | D10: =SUMIFS('15년일입'!$K$7:$K$1000,'15년일입'!$A$7:$A$1000,'15년총괄표'!$B10) -> 0 | E10: =SUMIFS('15년일입'!$L$7:$L$1000,'15년일입'!$A$7:$A$1000,'15년총괄표'!$B10) -> 0 | F10: =SUMIFS('15년일출'!$K$15:$K$1027,'15년일출'!$A$15:$A$1027,'15년총괄표'!$B10) -> 0 | G10: =SUMIFS('15년일출'!$L$15:$L$1027,'15년일출'!$A$15:$A$1027,'15년총괄표'!$B10) -> 0 | H10: =C10+F10+G10 -> 0 | I10: =#REF!+#REF! -> #REF! | J10: =#REF!+#REF! -> #REF! | N10: =M7-N7 -> 0
B11: 경제과학기술위원회 | D11: =SUMIFS('15년일입'!$K$7:$K$1000,'15년일입'!$A$7:$A$1000,'15년총괄표'!$B11) -> 0 | E11: =SUMIFS('15년일입'!$L$7:$L$1000,'15년일입'!$A$7:$A$1000,'15년총괄표'!$B11) -> 0 | F11: =SUMIFS('15년일출'!$K$15:$K$1027,'15년일출'!$A$15:$A$1027,'15년총괄표'!$B11) -> 0 | G11: =SUMIFS('15년일출'!$L$15:$L$1027,'15년일출'!$A$15:$A$1027,'15년총괄표'!$B11) -> 0 | H11: =C11+F11+G11 -> 0
B12: 안전행정위원회 | D12: =SUMIFS('15년일입'!$K$7:$K$1000,'15년일입'!$A$7:$A$1000,'15년총괄표'!$B12) -> 0 | E12: =SUMIFS('15년일입'!$L$7:$L$1000,'15년일입'!$A$7:$A$1000,'15년총괄표'!$B12) -> 0 | F12: =SUMIFS('15년일출'!$K$15:$K$1027,'15년일출'!$A$15:$A$1027,'15년총괄표'!$B12) -> 0 | G12: =SUMIFS('15년일출'!$L$15:$L$1027,'15년일출'!$A$15:$A$1027,'15년총괄표'!$B12) -> 0 | H12: =C12+F12+G12 -> 0
B13: 문화체육관광위원회 | D13: =SUMIFS('15년일입'!$K$7:$K$1000,'15년일입'!$A$7:$A$1000,'15년총괄표'!$B13) -> 0 | E13: =SUMIFS('15년일입'!$L$7:$L$1000,'15년일입'!$A$7:$A$1000,'15년총괄표'!$B13) -> 0 | F13: =SUMIFS('15년일출'!$K$15:$K$1027,'15년일출'!$A$15:$A$1027,'15년총괄표'!$B13) -> 0 | G13: =SUMIFS('15년일출'!$L$15:$L$1027,'15년일출'!$A$15:$A$1027,'15년총괄표'!$B13) -> 0 | H13: =C13+F13+G13 -> 0 | N13: 기금
B14: 농정해양위원회 | D14: =SUMIFS('15년일입'!$K$7:$K$1000,'15년일입'!$A$7:$A$1000,'15년총괄표'!$B14) -> 0 | E14: =SUMIFS('15년일입'!$L$7:$L$1000,'15년일입'!$A$7:$A$1000,'15년총괄표'!$B14) -> 0 | F14: =SUMIFS('15년일출'!$K$15:$K$1027,'15년일출'!$A$15:$A$1027,'15년총괄표'!$B14) -> 0 | G14: =SUMIFS('15년일출'!$L$15:$L$1027,'15년일출'!$A$15:$A$1027,'15년총괄표'!$B14) -> 0 | H14: =C14+F14+G14 -> 0 | N14: =N10-K7 -> 0
B15: 보건복지위원회 | D15: =SUMIFS('15년일입'!$K$7:$K$1000,'15년일입'!$A$7:$A$1000,'15년총괄표'!$B15) -> 0 | E15: =SUMIFS('15년일입'!$L$7:$L$1000,'15년일입'!$A$7:$A$1000,'15년총괄표'!$B15) -> 0 | F15: =SUMIFS('15년일출'!$K$15:$K$1027,'15년일출'!$A$15:$A$1027,'15년총괄표'!$B15) -> 0 | G15: =SUMIFS('15년일출'!$L$15:$L$1027,'15년일출'!$A$15:$A$1027,'15년총괄표'!$B15) -> 0 | H15: =C15+F15+G15 -> 0
B16: 건설교통위원회 | D16: =SUMIFS('15년일입'!$K$7:$K$1000,'15년일입'!$A$7:$A$1000,'15년총괄표'!$B16) -> 0 | E16: =SUMIFS('15년일입'!$L$7:$L$1000,'15년일입'!$A$7:$A$1000,'15년총괄표'!$B16) -> 0 | F16: =SUMIFS('15년일출'!$K$15:$K$1027,'15년일출'!$A$15:$A$1027,'15년총괄표'!$B16) -> 0 | G16: =SUMIFS('15년일출'!$L$15:$L$1027,'15년일출'!$A$15:$A$1027,'15년총괄표'!$B16) -> 0 | H16: =C16+F16+G16 -> 0
B17: 도시환경위원회 | D17: =SUMIFS('15년일입'!$K$7:$K$1000,'15년일입'!$A$7:$A$1000,'15년총괄표'!$B17) -> 0 | E17: =SUMIFS('15년일입'!$L$7:$L$1000,'15년일입'!$A$7:$A$1000,'15년총괄표'!$B17) -> 0 | F17: =SUMIFS('15년일출'!$K$15:$K$1027,'15년일출'!$A$15:$A$1027,'15년총괄표'!$B17) -> 0 | G17: =SUMIFS('15년일출'!$L$15:$L$1027,'15년일출'!$A$15:$A$1027,'15년총괄표'!$B17) -> 0 | H17: =C17+F17+G17 -> 0
B18: 여성가족교육협력위원회 | D18: =SUMIFS('15년일입'!$K$7:$K$1000,'15년일입'!$A$7:$A$1000,'15년총괄표'!$B18) -> 0 | E18: =SUMIFS('15년일입'!$L$7:$L$1000,'15년일입'!$A$7:$A$1000,'15년총괄표'!$B18) -> 0 | F18: =SUMIFS('15년일출'!$K$15:$K$1027,'15년일출'!$A$15:$A$1027,'15년총괄표'!$B18) -> 0 | G18: =SUMIFS('15년일출'!$L$15:$L$1027,'15년일출'!$A$15:$A$1027,'15년총괄표'!$B18) -> 0 | H18: =C18+F18+G18 -> 0
B20: □ 회계별 예산총규모
H21: (단위:천원)
B22: 구 분 | C22: 세출예산액 (집행부제출 안) | D22: 세입예산(안) | F22: 세출예산(안) | H22: 예산수정(안)
D23: 감 액 | E23: 증 액 | F23: 감 액 | G23: 증 액 | I23: 세입기준 수정예산안
B24: 합 계 | C24: =SUM(C25:C26) -> 0 | D24: =SUM(D25:D26) -> 0 | E24: =SUM(E25:E26) -> 0 | F24: =SUM(F25:F26) -> 0 | G24: =SUM(G25:G26) -> 0 | H24: =SUM(H25:H26) -> 0 | I24: =C24+D24+E24 -> 0 | J24: =I24-H24 -> 0 | K24: (세출기준-세입기준)
B25: 일반회계 | D25: ='15년일입'!$K$6 -> 0 | E25: ='15년일입'!$L$6 -> 0 | F25: ='15년일출'!$K$6 -> 0 | G25: ='15년일출'!$L$6 -> 0 | H25: =C25+F25+G25 -> 0 | I25: =C25+D25+E25 -> 0 | J25: =I25-H25 -> 0 | K25: (세출기준-세입기준)
B26: 특별회계 | H26: =C26+F26+G26 -> 0 | I26: =C26+D26+E26 -> 0 | J26: =I26-H26 -> 0 | K26: (세출기준-세입기준)
B30: 위원회명 | C30: 일반+기특 | D30: 공기업 | E30: 합계
B31: 의회운영위원회 | C31: 39922113 | E31: =SUM(C31:D31) -> 39922113
B32: 기획재정위원회 | C32: 3302571667 | D32: 1780946434 | E32: =SUM(C32:D32) -> 5083518101
B33: 경제과학기술위원회 | C33: 155329320 | D33: 384743740 | E33: =SUM(C33:D33) -> 540073060
B34: 안전행정위원회 | C34: 1142858974 | E34: =SUM(C34:D34) -> 1142858974
B35: 문화체육관광위원회 | C35: 224243208 | D35: 52484400 | E35: =SUM(C35:D35) -> 276727608
B36: 농정해양위원회 | C36: 466978999 | E36: =SUM(C36:D36) -> 466978999
B37: 보건복지위원회 | C37: 3254006708 | E37: =SUM(C37:D37) -> 3254006708
B38: 건설교통위원회 | C38: 1220859831 | E38: =SUM(C38:D38) -> 1220859831
B39: 도시환경위원회 | C39: 866963933 | D39: 28360000 | E39: =SUM(C39:D39) -> 895323933
B40: 여성가족평생교육위원회 | C40: 4882582917 | E40: =SUM(C40:D40) -> 4882582917
B41: 총합계 | C41: =SUM(C31:C40) -> 15556317670 | D41: =SUM(D31:D40) -> 2246534574 | E41: =SUM(C41:D41) -> 17802852244
B43: 예비비 | C43: =3922478-221377 -> 3701101
I160: ◦ 본청 83,000 증 ◦ 북부청 377,000 증
K290: -50000

Sheet 15년총괄표(실국별)
B1: 2015년도 경기도 일반 및 특별회계 세입·세출 예산안[전체예산총괄]
B3: □ 총괄(실국별) | E3: =SUM(D7:E7) -> 0 | G3: =SUM(F7:G7) -> 0
H4: (단위:천원) | M4: (일반+특별+기금) | O4: 특별+기금
B5: 구 분 | C5: 집행부제출(안) | D5: 세입예산(안) | F5: 세출예산(안) | H5: 예산수정(안) | I5: 일반회계 증감(총괄표) | K5: 예비비증감 | L5: 비 고 | M5: 전체 증감(시트) | O5: 비고
D6: 감 액 | E6: 증 액 | F6: 감 액 | G6: 증 액 | I6: 세입 | J6: 세출 | M6: 세입 | N6: 세출
B7: 합 계 | C7: =SUM(C8:C33) -> 0 | D7: =SUM(D8:D33) -> 0 | E7: =SUM(E8:E33) -> 0 | F7: =SUM(F8:F33) -> 0 | G7: =SUM(G8:G33) -> 0 | H7: =SUM(H8:H33) -> 0 | I7: =#REF!+#REF! -> #REF! | J7: =#REF!+#REF! -> #REF! | K7: =I7-J7 -> #REF! | L7: 예비비 증감이 - 예산이면 감액에 + 예산이면 증액에 입력 | M7: =#REF!+#REF! -> #REF! | N7: =#REF!+#REF! -> #REF! | O7: 0 | P7: 0
B8: 감사관 | D8: =SUMIFS('15년일입'!$K$7:$K$1000,'15년일입'!$B$7:$B$1000,'15년총괄표(실국별)'!$B8) -> 0 | E8: =SUMIFS('15년일입'!$L$7:$L$1000,'15년일입'!$B$7:$B$1000,'15년총괄표(실국별)'!$B8) -> 0 | F8: =SUMIFS('15년일출'!$K$15:$K$1027,'15년일출'!$B$15:$B$1027,'15년총괄표(실국별)'!$B8) -> 0 | G8: =SUMIFS('15년일출'!$L$15:$L$1027,'15년일출'!$B$15:$B$1027,'15년총괄표(실국별)'!$B8) -> 0 | H8: =C8+F8+G8 -> 0 | I8: 일반회계 증감(시트) | N8: 전체 증감
B9: 기획조정실 | D9: =SUMIFS('15년일입'!$K$7:$K$1000,'15년일입'!$B$7:$B$1000,'15년총괄표(실국별)'!$B9) -> 0 | E9: =SUMIFS('15년일입'!$L$7:$L$1000,'15년일입'!$B$7:$B$1000,'15년총괄표(실국별)'!$B9) -> 0 | F9: =SUMIFS('15년일출'!$K$15:$K$1027,'15년일출'!$B$15:$B$1027,'15년총괄표(실국별)'!$B9) -> 0 | G9: =SUMIFS('15년일출'!$L$15:$L$1027,'15년일출'!$B$15:$B$1027,'15년총괄표(실국별)'!$B9) -> 0 | H9: =C9+F9+G9 -> 0 | I9: =#REF!+#REF! -> #REF! | J9: =#REF!+#REF! -> #REF! | N9: =#REF!-#REF! -> #REF!
B10: 도시주택실 | D10: =SUMIFS('15년일입'!$K$7:$K$1000,'15년일입'!$B$7:$B$1000,'15년총괄표(실국별)'!$B10) -> 0 | E10: =SUMIFS('15년일입'!$L$7:$L$1000,'15년일입'!$B$7:$B$1000,'15년총괄표(실국별)'!$B10) -> 0 | F10: =SUMIFS('15년일출'!$K$15:$K$1027,'15년일출'!$B$15:$B$1027,'15년총괄표(실국별)'!$B10) -> 0 | G10: =SUMIFS('15년일출'!$L$15:$L$1027,'15년일출'!$B$15:$B$1027,'15년총괄표(실국별)'!$B10) -> 0 | H10: =C10+F10+G10 -> 0 | I10: =#REF!+#REF! -> #REF! | J10: =#REF!+#REF! -> #REF! | N10: =#REF!-#REF! -> #REF!
B11: 자치행정국 | D11: =SUMIFS('15년일입'!$K$7:$K$1000,'15년일입'!$B$7:$B$1000,'15년총괄표(실국별)'!$B11) -> 0 | E11: =SUMIFS('15년일입'!$L$7:$L$1000,'15년일입'!$B$7:$B$1000,'15년총괄표(실국별)'!$B11) -> 0 | F11: =SUMIFS('15년일출'!$K$15:$K$1027,'15년일출'!$B$15:$B$1027,'15년총괄표(실국별)'!$B11) -> 0 | G11: =SUMIFS('15년일출'!$L$15:$L$1027,'15년일출'!$B$15:$B$1027,'15년총괄표(실국별)'!$B11) -> 0 | H11: =C11+F11+G11 -> 0
B12: 교육협력국 | D12: =SUMIFS('15년일입'!$K$7:$K$1000,'15년일입'!$B$7:$B$1000,'15년총괄표(실국별)'!$B12) -> 0 | E12: =SUMIFS('15년일입'!$L$7:$L$1000,'15년일입'!$B$7:$B$1000,'15년총괄표(실국별)'!$B12) -> 0 | F12: =SUMIFS('15년일출'!$K$15:$K$1027,'15년일출'!$B$15:$B$1027,'15년총괄표(실국별)'!$B12) -> 0 | G12: =SUMIFS('15년일출'!$L$15:$L$1027,'15년일출'!$B$15:$B$1027,'15년총괄표(실국별)'!$B12) -> 0 | H12: =C12+F12+G12 -> 0
B13: 문화체육관광국 | D13: =SUMIFS('15년일입'!$K$7:$K$1000,'15년일입'!$B$7:$B$1000,'15년총괄표(실국별)'!$B13) -> 0 | E13: =SUMIFS('15년일입'!$L$7:$L$1000,'15년일입'!$B$7:$B$1000,'15년총괄표(실국별)'!$B13) -> 0 | F13: =SUMIFS('15년일출'!$K$15:$K$1027,'15년일출'!$B$15:$B$1027,'15년총괄표(실국별)'!$B13) -> 0 | G13: =SUMIFS('15년일출'!$L$15:$L$1027,'15년일출'!$B$15:$B$1027,'15년총괄표(실국별)'!$B13) -> 0 | H13: =C13+F13+G13 -> 0 | N13: 기금
B14: 농정해양국 | D14: =SUMIFS('15년일입'!$K$7:$K$1000,'15년일입'!$B$7:$B$1000,'15년총괄표(실국별)'!$B14) -> 0 | E14: =SUMIFS('15년일입'!$L$7:$L$1000,'15년일입'!$B$7:$B$1000,'15년총괄표(실국별)'!$B14) -> 0 | F14: =SUMIFS('15년일출'!$K$15:$K$1027,'15년일출'!$B$15:$B$1027,'15년총괄표(실국별)'!$B14) -> 0 | G14: =SUMIFS('15년일출'!$L$15:$L$1027,'15년일출'!$B$15:$B$1027,'15년총괄표(실국별)'!$B14) -> 0 | H14: =C14+F14+G14 -> 0 | N14: =N10-#REF! -> #REF!
B15: 철도국 | D15: =SUMIFS('15년일입'!$K$7:$K$1000,'15년일입'!$B$7:$B$1000,'15년총괄표(실국별)'!$B15) -> 0 | E15: =SUMIFS('15년일입'!$L$7:$L$1000,'15년일입'!$B$7:$B$1000,'15년총괄표(실국별)'!$B15) -> 0 | F15: =SUMIFS('15년일출'!$K$15:$K$1027,'15년일출'!$B$15:$B$1027,'15년총괄표(실국별)'!$B15) -> 0 | G15: =SUMIFS('15년일출'!$L$15:$L$1027,'15년일출'!$B$15:$B$1027,'15년총괄표(실국별)'!$B15) -> 0 | H15: =C15+F15+G15 -> 0
B16: 재난안전본부 | D16: =SUMIFS('15년일입'!$K$7:$K$1000,'15년일입'!$B$7:$B$1000,'15년총괄표(실국별)'!$B16) -> 0 | E16: =SUMIFS('15년일입'!$L$7:$L$1000,'15년일입'!$B$7:$B$1000,'15년총괄표(실국별)'!$B16) -> 0 | F16: =SUMIFS('15년일출'!$K$15:$K$1027,'15년일출'!$B$15:$B$1027,'15년총괄표(실국별)'!$B16) -> 0 | G16: =SUMIFS('15년일출'!$L$15:$L$1027,'15년일출'!$B$15:$B$1027,'15년총괄표(실국별)'!$B16) -> 0 | H16: =C16+F16+G16 -> 0
B17: 의회사무처 | D17: =SUMIFS('15년일입'!$K$7:$K$1000,'15년일입'!$B$7:$B$1000,'15년총괄표(실국별)'!$B17) -> 0 | E17: =SUMIFS('15년일입'!$L$7:$L$1000,'15년일입'!$B$7:$B$1000,'15년총괄표(실국별)'!$B17) -> 0 | F17: =SUMIFS('15년일출'!$K$15:$K$1027,'15년일출'!$B$15:$B$1027,'15년총괄표(실국별)'!$B17) -> 0 | G17: =SUMIFS('15년일출'!$L$15:$L$1027,'15년일출'!$B$15:$B$1027,'15년총괄표(실국별)'!$B17) -> 0 | H17: =C17+F17+G17 -> 0
B18: 대변인 | D18: =SUMIFS('15년일입'!$K$7:$K$1000,'15년일입'!$B$7:$B$1000,'15년총괄표(실국별)'!$B18) -> 0 | E18: =SUMIFS('15년일입'!$L$7:$L$1000,'15년일입'!$B$7:$B$1000,'15년총괄표(실국별)'!$B18) -> 0 | F18: =SUMIFS('15년일출'!$K$15:$K$1027,'15년일출'!$B$15:$B$1027,'15년총괄표(실국별)'!$B18) -> 0 | G18: =SUMIFS('15년일출'!$L$15:$L$1027,'15년일출'!$B$15:$B$1027,'15년총괄표(실국별)'!$B18) -> 0 | H18: =C18+F18+G18 -> 0 | I18: =#REF!+#REF! -> #REF! | J18: =#REF!+#REF! -> #REF! | N18: =#REF!-#REF! -> #REF!
B19: 대외협력담당관 | D19: =SUMIFS('15년일입'!$K$7:$K$1000,'15년일입'!$B$7:$B$1000,'15년총괄표(실국별)'!$B19) -> 0 | E19: =SUMIFS('15년일입'!$L$7:$L$1000,'15년일입'!$B$7:$B$1000,'15년총괄표(실국별)'!$B19) -> 0 | F19: =SUMIFS('15년일출'!$K$15:$K$1027,'15년일출'!$B$15:$B$1027,'15년총괄표(실국별)'!$B19) -> 0 | G19: =SUMIFS('15년일출'!$L$15:$L$1027,'15년일출'!$B$15:$B$1027,'15년총괄표(실국별)'!$B19) -> 0 | H19: =C19+F19+G19 -> 0
B20: 보건복지국 | D20: =SUMIFS('15년일입'!$K$7:$K$1000,'15년일입'!$B$7:$B$1000,'15년총괄표(실국별)'!$B20) -> 0 | E20: =SUMIFS('15년일입'!$L$7:$L$1000,'15년일입'!$B$7:$B$1000,'15년총괄표(실국별)'!$B20) -> 0 | F20: =SUMIFS('15년일출'!$K$15:$K$1027,'15년일출'!$B$15:$B$1027,'15년총괄표(실국별)'!$B20) -> 0 | G20: =SUMIFS('15년일출'!$L$15:$L$1027,'15년일출'!$B$15:$B$1027,'15년총괄표(실국별)'!$B20) -> 0 | H20: =C20+F20+G20 -> 0
B21: 환경국 | D21: =SUMIFS('15년일입'!$K$7:$K$1000,'15년일입'!$B$7:$B$1000,'15년총괄표(실국별)'!$B21) -> 0 | E21: =SUMIFS('15년일입'!$L$7:$L$1000,'15년일입'!$B$7:$B$1000,'15년총괄표(실국별)'!$B21) -> 0 | F21: =SUMIFS('15년일출'!$K$15:$K$1027,'15년일출'!$B$15:$B$1027,'15년총괄표(실국별)'!$B21) -> 0 | G21: =SUMIFS('15년일출'!$L$15:$L$1027,'15년일출'!$B$15:$B$1027,'15년총괄표(실국별)'!$B21) -> 0 | H21: =C21+F21+G21 -> 0 | N21: 기금
B22: 여성가족국 | D22: =SUMIFS('15년일입'!$K$7:$K$1000,'15년일입'!$B$7:$B$1000,'15년총괄표(실국별)'!$B22) -> 0 | E22: =SUMIFS('15년일입'!$L$7:$L$1000,'15년일입'!$B$7:$B$1000,'15년총괄표(실국별)'!$B22) -> 0 | F22: =SUMIFS('15년일출'!$K$15:$K$1027,'15년일출'!$B$15:$B$1027,'15년총괄표(실국별)'!$B22) -> 0 | G22: =SUMIFS('15년일출'!$L$15:$L$1027,'15년일출'!$B$15:$B$1027,'15년총괄표(실국별)'!$B22) -> 0 | H22: =C22+F22+G22 -> 0 | N22: =N18-#REF! -> #REF!
B23: 농업기술원 | D23: =SUMIFS('15년일입'!$K$7:$K$1000,'15년일입'!$B$7:$B$1000,'15년총괄표(실국별)'!$B23) -> 0 | E23: =SUMIFS('15년일입'!$L$7:$L$1000,'15년일입'!$B$7:$B$1000,'15년총괄표(실국별)'!$B23) -> 0 | F23: =SUMIFS('15년일출'!$K$15:$K$1027,'15년일출'!$B$15:$B$1027,'15년총괄표(실국별)'!$B23) -> 0 | G23: =SUMIFS('15년일출'!$L$15:$L$1027,'15년일출'!$B$15:$B$1027,'15년총괄표(실국별)'!$B23) -> 0 | H23: =C23+F23+G23 -> 0
B24: 인재개발원 | D24: =SUMIFS('15년일입'!$K$7:$K$1000,'15년일입'!$B$7:$B$1000,'15년총괄표(실국별)'!$B24) -> 0 | E24: =SUMIFS('15년일입'!$L$7:$L$1000,'15년일입'!$B$7:$B$1000,'15년총괄표(실국별)'!$B24) -> 0 | F24: =SUMIFS('15년일출'!$K$15:$K$1027,'15년일출'!$B$15:$B$1027,'15년총괄표(실국별)'!$B24) -> 0 | G24: =SUMIFS('15년일출'!$L$15:$L$1027,'15년일출'!$B$15:$B$1027,'15년총괄표(실국별)'!$B24) -> 0 | H24: =C24+F24+G24 -> 0
B25: 보건환경연구원 | D25: =SUMIFS('15년일입'!$K$7:$K$1000,'15년일입'!$B$7:$B$1000,'15년총괄표(실국별)'!$B25) -> 0 | E25: =SUMIFS('15년일입'!$L$7:$L$1000,'15년일입'!$B$7:$B$1000,'15년총괄표(실국별)'!$B25) -> 0 | F25: =SUMIFS('15년일출'!$K$15:$K$1027,'15년일출'!$B$15:$B$1027,'15년총괄표(실국별)'!$B25) -> 0 | G25: =SUMIFS('15년일출'!$L$15:$L$1027,'15년일출'!$B$15:$B$1027,'15년총괄표(실국별)'!$B25) -> 0 | H25: =C25+F25+G25 -> 0
B26: 수자원본부 | D26: =SUMIFS('15년일입'!$K$7:$K$1000,'15년일입'!$B$7:$B$1000,'15년총괄표(실국별)'!$B26) -> 0 | E26: =SUMIFS('15년일입'!$L$7:$L$1000,'15년일입'!$B$7:$B$1000,'15년총괄표(실국별)'!$B26) -> 0 | F26: =SUMIFS('15년일출'!$K$15:$K$1027,'15년일출'!$B$15:$B$1027,'15년총괄표(실국별)'!$B26) -> 0 | G26: =SUMIFS('15년일출'!$L$15:$L$1027,'15년일출'!$B$15:$B$1027,'15년총괄표(실국별)'!$B26) -> 0 | H26: =C26+F26+G26 -> 0 | I26: =#REF!+#REF! -> #REF! | J26: =#REF!+#REF! -> #REF! | N26: =M2-N2 -> 0
B27: 복지여성실 | D27: =SUMIFS('15년일입'!$K$7:$K$1000,'15년일입'!$B$7:$B$1000,'15년총괄표(실국별)'!$B27) -> 0 | E27: =SUMIFS('15년일입'!$L$7:$L$1000,'15년일입'!$B$7:$B$1000,'15년총괄표(실국별)'!$B27) -> 0 | F27: =SUMIFS('15년일출'!$K$15:$K$1027,'15년일출'!$B$15:$B$1027,'15년총괄표(실국별)'!$B27) -> 0 | G27: =SUMIFS('15년일출'!$L$15:$L$1027,'15년일출'!$B$15:$B$1027,'15년총괄표(실국별)'!$B27) -> 0 | H27: =C27+F27+G27 -> 0
B28: 균형발전기획실 | D28: =SUMIFS('15년일입'!$K$7:$K$1000,'15년일입'!$B$7:$B$1000,'15년총괄표(실국별)'!$B28) -> 0 | E28: =SUMIFS('15년일입'!$L$7:$L$1000,'15년일입'!$B$7:$B$1000,'15년총괄표(실국별)'!$B28) -> 0 | F28: =SUMIFS('15년일출'!$K$15:$K$1027,'15년일출'!$B$15:$B$1027,'15년총괄표(실국별)'!$B28) -> 0 | G28: =SUMIFS('15년일출'!$L$15:$L$1027,'15년일출'!$B$15:$B$1027,'15년총괄표(실국별)'!$B28) -> 0 | H28: =C28+F28+G28 -> 0
B29: 경제실 | D29: =SUMIFS('15년일입'!$K$7:$K$1000,'15년일입'!$B$7:$B$1000,'15년총괄표(실국별)'!$B29) -> 0 | E29: =SUMIFS('15년일입'!$L$7:$L$1000,'15년일입'!$B$7:$B$1000,'15년총괄표(실국별)'!$B29) -> 0 | F29: =SUMIFS('15년일출'!$K$15:$K$1027,'15년일출'!$B$15:$B$1027,'15년총괄표(실국별)'!$B29) -> 0 | G29: =SUMIFS('15년일출'!$L$15:$L$1027,'15년일출'!$B$15:$B$1027,'15년총괄표(실국별)'!$B29) -> 0 | H29: =C29+F29+G29 -> 0 | N29: 기금
B30: 축산산림국 | D30: =SUMIFS('15년일입'!$K$7:$K$1000,'15년일입'!$B$7:$B$1000,'15년총괄표(실국별)'!$B30) -> 0 | E30: =SUMIFS('15년일입'!$L$7:$L$1000,'15년일입'!$B$7:$B$1000,'15년총괄표(실국별)'!$B30) -> 0 | F30: =SUMIFS('15년일출'!$K$15:$K$1027,'15년일출'!$B$15:$B$1027,'15년총괄표(실국별)'!$B30) -> 0 | G30: =SUMIFS('15년일출'!$L$15:$L$1027,'15년일출'!$B$15:$B$1027,'15년총괄표(실국별)'!$B30) -> 0 | H30: =C30+F30+G30 -> 0 | N30: =N26-K2 -> 0
B31: 교통국 | D31: =SUMIFS('15년일입'!$K$7:$K$1000,'15년일입'!$B$7:$B$1000,'15년총괄표(실국별)'!$B31) -> 0 | E31: =SUMIFS('15년일입'!$L$7:$L$1000,'15년일입'!$B$7:$B$1000,'15년총괄표(실국별)'!$B31) -> 0 | F31: =SUMIFS('15년일출'!$K$15:$K$1027,'15년일출'!$B$15:$B$1027,'15년총괄표(실국별)'!$B31) -> 0 | G31: =SUMIFS('15년일출'!$L$15:$L$1027,'15년일출'!$B$15:$B$1027,'15년총괄표(실국별)'!$B31) -> 0 | H31: =C31+F31+G31 -> 0 | I31: =#REF!+#REF! -> #REF! | J31: =#REF!+#REF! -> #REF! | N31: =M7-N7 -> #REF!
B32: 건설국 | D32: =SUMIFS('15년일입'!$K$7:$K$1000,'15년일입'!$B$7:$B$1000,'15년총괄표(실국별)'!$B32) -> 0 | E32: =SUMIFS('15년일입'!$L$7:$L$1000,'15년일입'!$B$7:$B$1000,'15년총괄표(실국별)'!$B32) -> 0 | F32: =SUMIFS('15년일출'!$K$15:$K$1027,'15년일출'!$B$15:$B$1027,'15년총괄표(실국별)'!$B32) -> 0 | G32: =SUMIFS('15년일출'!$L$15:$L$1027,'15년일출'!$B$15:$B$1027,'15년총괄표(실국별)'!$B32) -> 0 | H32: =C32+F32+G32 -> 0
B33: 건설본부 | D33: =SUMIFS('15년일입'!$K$7:$K$1000,'15년일입'!$B$7:$B$1000,'15년총괄표(실국별)'!$B33) -> 0 | E33: =SUMIFS('15년일입'!$L$7:$L$1000,'15년일입'!$B$7:$B$1000,'15년총괄표(실국별)'!$B33) -> 0 | F33: =SUMIFS('15년일출'!$K$15:$K$1027,'15년일출'!$B$15:$B$1027,'15년총괄표(실국별)'!$B33) -> 0 | G33: =SUMIFS('15년일출'!$L$15:$L$1027,'15년일출'!$B$15:$B$1027,'15년총괄표(실국별)'!$B33) -> 0 | H33: =C33+F33+G33 -> 0
B37: 위원회명 | C37: 일반+기특 | D37: 공기업 | E37: 합계
B38: 감사관 | C38: 914581 | E38: =SUM(C38:D38) -> 914581
B39: 기획조정실 | C39: 3119807801 | D39: 1780946434 | E39: =SUM(C39:D39) -> 4900754235
B40: 도시주택실 | C40: 190109521 | D40: 28360000 | E40: =SUM(C40:D40) -> 218469521
B41: 자치행정국 | C41: 544196314 | E41: =SUM(C41:D41) -> 544196314
B42: 문화체육관광국 | C42: 224243208 | D42: 52484400 | E42: =SUM(C42:D42) -> 276727608
B43: 농정해양국 | C43: 249710070 | E43: =SUM(C43:D43) -> 249710070
B44: 보건복지국 | C44: 2571625696 | E44: =SUM(C44:D44) -> 2571625696
B45: 환경국 | C45: 94671441 | E45: =SUM(C45:D45) -> 94671441
B46: 철도물류국 | C46: 107956457 | E46: =SUM(C46:D46) -> 107956457
B47: 여성가족국 | C47: 1879955306 | E47: =SUM(C47:D47) -> 1879955306
B48: 소방재난본부 | C48: 475412376 | E48: =SUM(C48:D48) -> 475412376
B49: 경제투자실 | C49: 148252370 | D49: 384743740 | E49: =SUM(C49:D49) -> 532996110
B50: 대변인 | C50: 9607826 | E50: =SUM(C50:D50) -> 9607826
B51: 대외협력담당관 | C51: 384069 | E51: =SUM(C51:D51) -> 384069
B52: 복지여성실 | C52: 1353512493 | E52: =SUM(C52:D52) -> 1353512493
B53: 안전행정실 | C53: 69450506 | E53: =SUM(C53:D53) -> 69450506
B54: 균형발전국 | C54: 173302168 | E54: =SUM(C54:D54) -> 173302168
B55: 평생교육국 | C55: 2325292998 | E55: =SUM(C55:D55) -> 2325292998
B56: 축산산림국 | C56: 193048941 | E56: =SUM(C56:D56) -> 193048941
B57: 교통건설국 | C57: 866196185 | E57: =SUM(C57:D57) -> 866196185
B58: 북부소방재난본부 | C58: 1402108 | E58: =SUM(C58:D58) -> 1402108
B59: 의회사무처 | C59: 29930218 | E59: =SUM(C59:D59) -> 29930218
B60: 경기도농업기술원 | C60: 39275302 | E60: =SUM(C60:D60) -> 39275302
B61: 경기도인재개발원 | C61: 8910247 | E61: =SUM(C61:D61) -> 8910247
... B66: 소방서 | C66: 53973769 | E66: =SUM(C66:D66) -> 53973769
B67: 총합계 | C67: =SUM(C38:C66) -> 15556317670 | D67: =SUM(D38:D66) -> 2246534574 | E67: =SUM(C67:D67) -> 17802852244
I167: ◦ 본청 83,000 증 ◦ 북부청 377,000 증
K297: -50000

Sheet 15년위원회별
B1: 2015년도 경기도 일반회계 세입 세출 총괄표
H2: =IF(H6=T6,"OK","@@") -> OK | M2: =IF(M6=Y6,"OK","@@") -> OK | T2: =IF(T6=H6,"OK","@@") -> OK | Y2: =IF(Y6=M6,"OK","@@") -> OK
B3: 위원회 및 실국명 | D3: 세입 | P3: 세출
D4: 예산안 (가) | E4: 상임위 예산안 조정액(나) | G4: 상임위 수정 예산안 (다=가+나) | H4: 상임위 재원별 증감액 | J4: 예결위 예산안 조정액(라) | L4: 예결위 수정 예산안 (마=가+라) | M4: 예결위 재원별 증감액 | P4: 예산안 (가) | Q4: 상임위 예산안 조정액(나) | S4: 상임위 수정 예산안 (다=가+나) | T4: 상임위 재원별 증감액 | V4: 예결위 예산안 조정액(라) | X4: 예결위 수정 예산안 (마=가+라) | Y4: 예결위 재원별 증감액
E5: 감액 | F5: 증액 | H5: 국비 등 | I5: 도 비 | J5: 감액 | K5: 증액 | M5: 국비 등 | N5: 도 비 | Q5: 감액 | R5: 증액 | T5: 국비 등 | U5: 도 비 | V5: 감액 | W5: 증액 | Y5: 국비 등 | Z5: 도 비
B6: 합 계 | D6: =SUM(D7:D46)/2 -> 0 | E6: =SUM(E7:E46)/2 -> 0 | F6: =SUM(F7:F46)/2 -> 0 | G6: =SUM(G7:G46)/2 -> 0 | H6: =SUM(H7:H46)/2 -> 0 | I6: =SUM(I7:I46)/2 -> 0 | J6: =SUM(J7:J46)/2 -> 0 | K6: =SUM(K7:K46)/2 -> 0 | ... N6: =SUM(N7:N46)/2 -> 0 | P6: =SUM(P7:P46)/2 -> 96233420 | Q6: =SUM(Q7:Q46)/2 -> -5271380 | R6: =SUM(R7:R46)/2 -> 24269500 | S6: =SUM(S7:S46)/2 -> 115231540 | T6: =SUM(T7:T46)/2 -> 0 | U6: =SUM(U7:U46)/2 -> 60000 | V6: =SUM(V7:V46)/2 -> 0 | W6: =SUM(W7:W46)/2 -> 0 | ... Z6: =SUM(Z7:Z46)/2 -> 0
B7: 의회운영위원회 | D7: =SUM(D8:D10) -> 0 | E7: =SUM(E8:E10) -> 0 | F7: =SUM(F8:F10) -> 0 | G7: =SUM(G8:G10) -> 0 | H7: =SUM(H8:H10) -> 0 | I7: =SUM(I8:I10) -> 0 | J7: =SUM(J8:J10) -> 0 | K7: =SUM(K8:K10) -> 0 | ... N7: =SUM(N8:N10) -> 0 | P7: =SUM(P8:P10) -> 0 | Q7: =SUM(Q8:Q10) -> 0 | R7: =SUM(R8:R10) -> 0 | S7: =SUM(S8:S10) -> 0 | T7: =SUM(T8:T10) -> 0 | U7: =SUM(U8:U10) -> 0 | V7: =SUM(V8:V10) -> 0 | W7: =SUM(W8:W10) -> 0 | ... Z7: =SUM(Z8:Z10) -> 0
A8: 의회운영위원회 | C8: 의회사무처 | D8: =SUMIFS('15년일입'!$G$7:$G$1000,'15년일입'!$A$7:$A$1000,'15년위원회별'!$A8,'15년일입'!$B$7:$B$1000,'15년위원회별'!$C8) -> 0 | E8: =SUMIFS('15년일입'!$H$7:$H$1000,'15년일입'!$A$7:$A$1000,'15년위원회별'!$A8,'15년일입'!$B$7:$B$1000,'15년위원회별'!$C8) -> 0 | F8: =SUMIFS('15년일입'!$I$7:$I$1000,'15년일입'!$A$7:$A$1000,'15년위원회별'!$A8,'15년일입'!$B$7:$B$1000,'15년위원회별'!$C8) -> 0 | G8: =SUMIFS('15년일입'!$J$7:$J$1000,'15년일입'!$A$7:$A$1000,'15년위원회별'!$A8,'15년일입'!$B$7:$B$1000,'15년위원회별'!$C8) -> 0 | H8: =SUMIFS('15년일입'!$T$7:$T$1000,'15년일입'!$A$7:$A$1000,'15년위원회별'!$A8,'15년일입'!$B$7:$B$1000,'15년위원회별'!$C8) -> 0 | I8: =SUMIFS('15년일입'!$U$7:$U$1000,'15년일입'!$A$7:$A$1000,'15년위원회별'!$A8,'15년일입'!$B$7:$B$1000,'15년위원회별'!$C8) -> 0 | J8: =SUMIFS('15년일입'!$K$7:$K$1000,'15년일입'!$A$7:$A$1000,'15년위원회별'!$A8,'15년일입'!$B$7:$B$1000,'15년위원회별'!$C8) -> 0 | K8: =SUMIFS('15년일입'!$L$7:$L$1000,'15년일입'!$A$7:$A$1000,'15년위원회별'!$A8,'15년일입'!$B$7:$B$1000,'15년위원회별'!$C8) -> 0 | L8: =SUMIFS('15년일입'!$M$7:$M$1000,'15년일입'!$A$7:$A$1000,'15년위원회별'!$A8,'15년일입'!$B$7:$B$1000,'15년위원회별'!$C8) -> 0 | M8: =SUMIFS('15년일입'!$Y$7:$Y$1000,'15년일입'!$A$7:$A$1000,'15년위원회별'!$A8,'15년일입'!$B$7:$B$1000,'15년위원회별'!$C8) -> 0 | N8: =SUMIFS('15년일입'!$Z$7:$Z$1000,'15년일입'!$A$7:$A$1000,'15년위원회별'!$A8,'15년일입'!$B$7:$B$1000,'15년위원회별'!$C8) -> 0 | P8: =SUMIFS('15년일출'!$G$15:$G$1027,'15년일출'!$A$15:$A$1027,'15년위원회별'!$A8,'15년일출'!$B$15:$B$1027,'15년위원회별'!$C8) -> 0 | Q8: =SUMIFS('15년일출'!$H$15:$H$1027,'15년일출'!$A$15:$A$1027,'15년위원회별'!$A8,'15년일출'!$B$15:$B$1027,'15년위원회별'!$C8) -> 0 | R8: =SUMIFS('15년일출'!$I$15:$I$1027,'15년일출'!$A$15:$A$1027,'15년위원회별'!$A8,'15년일출'!$B$15:$B$1027,'15년위원회별'!$C8) -> 0 | S8: =SUMIFS('15년일출'!$J$15:$J$1027,'15년일출'!$A$15:$A$1027,'15년위원회별'!$A8,'15년일출'!$B$15:$B$1027,'15년위원회별'!$C8) -> 0 | T8: =SUMIFS('15년일출'!$T$15:$T$1027,'15년일출'!$A$15:$A$1027,'15년위원회별'!$A8,'15년일출'!$B$15:$B$1027,'15년위원회별'!$C8) -> 0 | U8: =SUMIFS('15년일출'!$U$15:$U$1027,'15년일출'!$A$15:$A$1027,'15년위원회별'!$A8,'15년일출'!$B$15:$B$1027,'15년위원회별'!$C8) -> 0 | V8: =SUMIFS('15년일출'!$K$15:$K$1027,'15년일출'!$A$15:$A$1027,'15년위원회별'!$A8,'15년일출'!$B$15:$B$1027,'15년위원회별'!$C8) -> 0 | W8: =SUMIFS('15년일출'!$L$15:$L$1027,'15년일출'!$A$15:$A$1027,'15년위원회별'!$A8,'15년일출'!$B$15:$B$1027,'15년위원회별'!$C8) -> 0 | X8: =SUMIFS('15년일출'!$M$15:$M$1027,'15년일출'!$A$15:$A$1027,'15년위원회별'!$A8,'15년일출'!$B$15:$B$1027,'15년위원회별'!$C8) -> 0 | Y8: =SUMIFS('15년일출'!$Y$15:$Y$1027,'15년일출'!$A$15:$A$1027,'15년위원회별'!$A8,'15년일출'!$B$15:$B$1027,'15년위원회별'!$C8) -> 0 | Z8: =SUMIFS('15년일출'!$Z$15:$Z$1027,'15년일출'!$A$15:$A$1027,'15년위원회별'!$A8,'15년일출'!$B$15:$B$1027,'15년위원회별'!$C8) -> 0
A9: 의회운영위원회 | C9: 대변인 | D9: =SUMIFS('15년일입'!$G$7:$G$1000,'15년일입'!$A$7:$A$1000,'15년위원회별'!$A9,'15년일입'!$B$7:$B$1000,'15년위원회별'!$C9) -> 0 | E9: =SUMIFS('15년일입'!$H$7:$H$1000,'15년일입'!$A$7:$A$1000,'15년위원회별'!$A9,'15년일입'!$B$7:$B$1000,'15년위원회별'!$C9) -> 0 | F9: =SUMIFS('15년일입'!$I$7:$I$1000,'15년일입'!$A$7:$A$1000,'15년위원회별'!$A9,'15년일입'!$B$7:$B$1000,'15년위원회별'!$C9) -> 0 | G9: =SUMIFS('15년일입'!$J$7:$J$1000,'15년일입'!$A$7:$A$1000,'15년위원회별'!$A9,'15년일입'!$B$7:$B$1000,'15년위원회별'!$C9) -> 0 | H9: =SUMIFS('15년일입'!$T$7:$T$1000,'15년일입'!$A$7:$A$1000,'15년위원회별'!$A9,'15년일입'!$B$7:$B$1000,'15년위원회별'!$C9) -> 0 | I9: =SUMIFS('15년일입'!$U$7:$U$1000,'15년일입'!$A$7:$A$1000,'15년위원회별'!$A9,'15년일입'!$B$7:$B$1000,'15년위원회별'!$C9) -> 0 | J9: =SUMIFS('15년일입'!$K$7:$K$1000,'15년일입'!$A$7:$A$1000,'15년위원회별'!$A9,'15년일입'!$B$7:$B$1000,'15년위원회별'!$C9) -> 0 | K9: =SUMIFS('15년일입'!$L$7:$L$1000,'15년일입'!$A$7:$A$1000,'15년위원회별'!$A9,'15년일입'!$B$7:$B$1000,'15년위원회별'!$C9) -> 0 | L9: =SUMIFS('15년일입'!$M$7:$M$1000,'15년일입'!$A$7:$A$1000,'15년위원회별'!$A9,'15년일입'!$B$7:$B$1000,'15년위원회별'!$C9) -> 0 | M9: =SUMIFS('15년일입'!$Y$7:$Y$1000,'15년일입'!$A$7:$A$1000,'15년위원회별'!$A9,'15년일입'!$B$7:$B$1000,'15년위원회별'!$C9) -> 0 | N9: =SUMIFS('15년일입'!$Z$7:$Z$1000,'15년일입'!$A$7:$A$1000,'15년위원회별'!$A9,'15년일입'!$B$7:$B$1000,'15년위원회별'!$C9) -> 0 | P9: =SUMIFS('15년일출'!$G$15:$G$1027,'15년일출'!$A$15:$A$1027,'15년위원회별'!$A9,'15년일출'!$B$15:$B$1027,'15년위원회별'!$C9) -> 0 | Q9: =SUMIFS('15년일출'!$H$15:$H$1027,'15년일출'!$A$15:$A$1027,'15년위원회별'!$A9,'15년일출'!$B$15:$B$1027,'15년위원회별'!$C9) -> 0 | R9: =SUMIFS('15년일출'!$I$15:$I$1027,'15년일출'!$A$15:$A$1027,'15년위원회별'!$A9,'15년일출'!$B$15:$B$1027,'15년위원회별'!$C9) -> 0 | S9: =SUMIFS('15년일출'!$J$15:$J$1027,'15년일출'!$A$15:$A$1027,'15년위원회별'!$A9,'15년일출'!$B$15:$B$1027,'15년위원회별'!$C9) -> 0 | T9: =SUMIFS('15년일출'!$T$15:$T$1027,'15년일출'!$A$15:$A$1027,'15년위원회별'!$A9,'15년일출'!$B$15:$B$1027,'15년위원회별'!$C9) -> 0 | U9: =SUMIFS('15년일출'!$U$15:$U$1027,'15년일출'!$A$15:$A$1027,'15년위원회별'!$A9,'15년일출'!$B$15:$B$1027,'15년위원회별'!$C9) -> 0 | V9: =SUMIFS('15년일출'!$K$15:$K$1027,'15년일출'!$A$15:$A$1027,'15년위원회별'!$A9,'15년일출'!$B$15:$B$1027,'15년위원회별'!$C9) -> 0 | W9: =SUMIFS('15년일출'!$L$15:$L$1027,'15년일출'!$A$15:$A$1027,'15년위원회별'!$A9,'15년일출'!$B$15:$B$1027,'15년위원회별'!$C9) -> 0 | X9: =SUMIFS('15년일출'!$M$15:$M$1027,'15년일출'!$A$15:$A$1027,'15년위원회별'!$A9,'15년일출'!$B$15:$B$1027,'15년위원회별'!$C9) -> 0 | Y9: =SUMIFS('15년일출'!$Y$15:$Y$1027,'15년일출'!$A$15:$A$1027,'15년위원회별'!$A9,'15년일출'!$B$15:$B$1027,'15년위원회별'!$C9) -> 0 | Z9: =SUMIFS('15년일출'!$Z$15:$Z$1027,'15년일출'!$A$15:$A$1027,'15년위원회별'!$A9,'15년일출'!$B$15:$B$1027,'15년위원회별'!$C9) -> 0
A10: 의회운영위원회 | C10: 대외협력담당관 | D10: =SUMIFS('15년일입'!$G$7:$G$1000,'15년일입'!$A$7:$A$1000,'15년위원회별'!$A10,'15년일입'!$B$7:$B$1000,'15년위원회별'!$C10) -> 0 | E10: =SUMIFS('15년일입'!$H$7:$H$1000,'15년일입'!$A$7:$A$1000,'15년위원회별'!$A10,'15년일입'!$B$7:$B$1000,'15년위원회별'!$C10) -> 0 | F10: =SUMIFS('15년일입'!$I$7:$I$1000,'15년일입'!$A$7:$A$1000,'15년위원회별'!$A10,'15년일입'!$B$7:$B$1000,'15년위원회별'!$C10) -> 0 | G10: =SUMIFS('15년일입'!$J$7:$J$1000,'15년일입'!$A$7:$A$1000,'15년위원회별'!$A10,'15년일입'!$B$7:$B$1000,'15년위원회별'!$C10) -> 0 | H10: =SUMIFS('15년일입'!$T$7:$T$1000,'15년일입'!$A$7:$A$1000,'15년위원회별'!$A10,'15년일입'!$B$7:$B$1000,'15년위원회별'!$C10) -> 0 | I10: =SUMIFS('15년일입'!$U$7:$U$1000,'15년일입'!$A$7:$A$1000,'15년위원회별'!$A10,'15년일입'!$B$7:$B$1000,'15년위원회별'!$C10) -> 0 | J10: =SUMIFS('15년일입'!$K$7:$K$1000,'15년일입'!$A$7:$A$1000,'15년위원회별'!$A10,'15년일입'!$B$7:$B$1000,'15년위원회별'!$C10) -> 0 | K10: =SUMIFS('15년일입'!$L$7:$L$1000,'15년일입'!$A$7:$A$1000,'15년위원회별'!$A10,'15년일입'!$B$7:$B$1000,'15년위원회별'!$C10) -> 0 | L10: =SUMIFS('15년일입'!$M$7:$M$1000,'15년일입'!$A$7:$A$1000,'15년위원회별'!$A10,'15년일입'!$B$7:$B$1000,'15년위원회별'!$C10) -> 0 | M10: =SUMIFS('15년일입'!$Y$7:$Y$1000,'15년일입'!$A$7:$A$1000,'15년위원회별'!$A10,'15년일입'!$B$7:$B$1000,'15년위원회별'!$C10) -> 0 | N10: =SUMIFS('15년일입'!$Z$7:$Z$1000,'15년일입'!$A$7:$A$1000,'15년위원회별'!$A10,'15년일입'!$B$7:$B$1000,'15년위원회별'!$C10) -> 0 | P10: =SUMIFS('15년일출'!$G$15:$G$1027,'15년일출'!$A$15:$A$1027,'15년위원회별'!$A10,'15년일출'!$B$15:$B$1027,'15년위원회별'!$C10) -> 0 | Q10: =SUMIFS('15년일출'!$H$15:$H$1027,'15년일출'!$A$15:$A$1027,'15년위원회별'!$A10,'15년일출'!$B$15:$B$1027,'15년위원회별'!$C10) -> 0 | R10: =SUMIFS('15년일출'!$I$15:$I$1027,'15년일출'!$A$15:$A$1027,'15년위원회별'!$A10,'15년일출'!$B$15:$B$1027,'15년위원회별'!$C10) -> 0 | S10: =SUMIFS('15년일출'!$J$15:$J$1027,'15년일출'!$A$15:$A$1027,'15년위원회별'!$A10,'15년일출'!$B$15:$B$1027,'15년위원회별'!$C10) -> 0 | T10: =SUMIFS('15년일출'!$T$15:$T$1027,'15년일출'!$A$15:$A$1027,'15년위원회별'!$A10,'15년일출'!$B$15:$B$1027,'15년위원회별'!$C10) -> 0 | U10: =SUMIFS('15년일출'!$U$15:$U$1027,'15년일출'!$A$15:$A$1027,'15년위원회별'!$A10,'15년일출'!$B$15:$B$1027,'15년위원회별'!$C10) -> 0 | V10: =SUMIFS('15년일출'!$K$15:$K$1027,'15년일출'!$A$15:$A$1027,'15년위원회별'!$A10,'15년일출'!$B$15:$B$1027,'15년위원회별'!$C10) -> 0 | W10: =SUMIFS('15년일출'!$L$15:$L$1027,'15년일출'!$A$15:$A$1027,'15년위원회별'!$A10,'15년일출'!$B$15:$B$1027,'15년위원회별'!$C10) -> 0 | X10: =SUMIFS('15년일출'!$M$15:$M$1027,'15년일출'!$A$15:$A$1027,'15년위원회별'!$A10,'15년일출'!$B$15:$B$1027,'15년위원회별'!$C10) -> 0 | Y10: =SUMIFS('15년일출'!$Y$15:$Y$1027,'15년일출'!$A$15:$A$1027,'15년위원회별'!$A10,'15년일출'!$B$15:$B$1027,'15년위원회별'!$C10) -> 0 | Z10: =SUMIFS('15년일출'!$Z$15:$Z$1027,'15년일출'!$A$15:$A$1027,'15년위원회별'!$A10,'15년일출'!$B$15:$B$1027,'15년위원회별'!$C10) -> 0
B11: 기획재정위원회 | D11: =SUM(D12:D14) -> 0 | E11: =SUM(E12:E14) -> 0 | F11: =SUM(F12:F14) -> 0 | G11: =SUM(G12:G14) -> 0 | H11: =SUM(H12:H14) -> 0 | I11: =SUM(I12:I14) -> 0 | J11: =SUM(J12:J14) -> 0 | K11: =SUM(K12:K14) -> 0 | ... N11: =SUM(N12:N14) -> 0 | P11: =SUM(P12:P14) -> 0 | Q11: =SUM(Q12:Q14) -> 0 | R11: =SUM(R12:R14) -> 0 | S11: =SUM(S12:S14) -> 0 | T11: =SUM(T12:T14) -> 0 | U11: =SUM(U12:U14) -> 0 | V11: =SUM(V12:V14) -> 0 | W11: =SUM(W12:W14) -> 0 | ... Z11: =SUM(Z12:Z14) -> 0
A12: 기획재정위원회 | C12: 감사관 | D12: =SUMIFS('15년일입'!$G$7:$G$1000,'15년일입'!$A$7:$A$1000,'15년위원회별'!$A12,'15년일입'!$B$7:$B$1000,'15년위원회별'!$C12) -> 0 | E12: =SUMIFS('15년일입'!$H$7:$H$1000,'15년일입'!$A$7:$A$1000,'15년위원회별'!$A12,'15년일입'!$B$7:$B$1000,'15년위원회별'!$C12) -> 0 | F12: =SUMIFS('15년일입'!$I$7:$I$1000,'15년일입'!$A$7:$A$1000,'15년위원회별'!$A12,'15년일입'!$B$7:$B$1000,'15년위원회별'!$C12) -> 0 | G12: =SUMIFS('15년일입'!$J$7:$J$1000,'15년일입'!$A$7:$A$1000,'15년위원회별'!$A12,'15년일입'!$B$7:$B$1000,'15년위원회별'!$C12) -> 0 | H12: =SUMIFS('15년일입'!$T$7:$T$1000,'15년일입'!$A$7:$A$1000,'15년위원회별'!$A12,'15년일입'!$B$7:$B$1000,'15년위원회별'!$C12) -> 0 | I12: =SUMIFS('15년일입'!$U$7:$U$1000,'15년일입'!$A$7:$A$1000,'15년위원회별'!$A12,'15년일입'!$B$7:$B$1000,'15년위원회별'!$C12) -> 0 | J12: =SUMIFS('15년일입'!$K$7:$K$1000,'15년일입'!$A$7:$A$1000,'15년위원회별'!$A12,'15년일입'!$B$7:$B$1000,'15년위원회별'!$C12) -> 0 | K12: =SUMIFS('15년일입'!$L$7:$L$1000,'15년일입'!$A$7:$A$1000,'15년위원회별'!$A12,'15년일입'!$B$7:$B$1000,'15년위원회별'!$C12) -> 0 | L12: =SUMIFS('15년일입'!$M$7:$M$1000,'15년일입'!$A$7:$A$1000,'15년위원회별'!$A12,'15년일입'!$B$7:$B$1000,'15년위원회별'!$C12) -> 0 | M12: =SUMIFS('15년일입'!$Y$7:$Y$1000,'15년일입'!$A$7:$A$1000,'15년위원회별'!$A12,'15년일입'!$B$7:$B$1000,'15년위원회별'!$C12) -> 0 | N12: =SUMIFS('15년일입'!$Z$7:$Z$1000,'15년일입'!$A$7:$A$1000,'15년위원회별'!$A12,'15년일입'!$B$7:$B$1000,'15년위원회별'!$C12) -> 0 | P12: =SUMIFS('15년일출'!$G$15:$G$1027,'15년일출'!$A$15:$A$1027,'15년위원회별'!$A12,'15년일출'!$B$15:$B$1027,'15년위원회별'!$C12) -> 0 | Q12: =SUMIFS('15년일출'!$H$15:$H$1027,'15년일출'!$A$15:$A$1027,'15년위원회별'!$A12,'15년일출'!$B$15:$B$1027,'15년위원회별'!$C12) -> 0 | R12: =SUMIFS('15년일출'!$I$15:$I$1027,'15년일출'!$A$15:$A$1027,'15년위원회별'!$A12,'15년일출'!$B$15:$B$1027,'15년위원회별'!$C12) -> 0 | S12: =SUMIFS('15년일출'!$J$15:$J$1027,'15년일출'!$A$15:$A$1027,'15년위원회별'!$A12,'15년일출'!$B$15:$B$1027,'15년위원회별'!$C12) -> 0 | T12: =SUMIFS('15년일출'!$T$15:$T$1027,'15년일출'!$A$15:$A$1027,'15년위원회별'!$A12,'15년일출'!$B$15:$B$1027,'15년위원회별'!$C12) -> 0 | U12: =SUMIFS('15년일출'!$U$15:$U$1027,'15년일출'!$A$15:$A$1027,'15년위원회별'!$A12,'15년일출'!$B$15:$B$1027,'15년위원회별'!$C12) -> 0 | V12: =SUMIFS('15년일출'!$K$15:$K$1027,'15년일출'!$A$15:$A$1027,'15년위원회별'!$A12,'15년일출'!$B$15:$B$1027,'15년위원회별'!$C12) -> 0 | W12: =SUMIFS('15년일출'!$L$15:$L$1027,'15년일출'!$A$15:$A$1027,'15년위원회별'!$A12,'15년일출'!$B$15:$B$1027,'15년위원회별'!$C12) -> 0 | X12: =SUMIFS('15년일출'!$M$15:$M$1027,'15년일출'!$A$15:$A$1027,'15년위원회별'!$A12,'15년일출'!$B$15:$B$1027,'15년위원회별'!$C12) -> 0 | Y12: =SUMIFS('15년일출'!$Y$15:$Y$1027,'15년일출'!$A$15:$A$1027,'15년위원회별'!$A12,'15년일출'!$B$15:$B$1027,'15년위원회별'!$C12) -> 0 | Z12: =SUMIFS('15년일출'!$Z$15:$Z$1027,'15년일출'!$A$15:$A$1027,'15년위원회별'!$A12,'15년일출'!$B$15:$B$1027,'15년위원회별'!$C12) -> 0
A13: 기획재정위원회 | C13: 기획조정실 | D13: =SUMIFS('15년일입'!$G$7:$G$1000,'15년일입'!$A$7:$A$1000,'15년위원회별'!$A13,'15년일입'!$B$7:$B$1000,'15년위원회별'!$C13) -> 0 | E13: =SUMIFS('15년일입'!$H$7:$H$1000,'15년일입'!$A$7:$A$1000,'15년위원회별'!$A13,'15년일입'!$B$7:$B$1000,'15년위원회별'!$C13) -> 0 | F13: =SUMIFS('15년일입'!$I$7:$I$1000,'15년일입'!$A$7:$A$1000,'15년위원회별'!$A13,'15년일입'!$B$7:$B$1000,'15년위원회별'!$C13) -> 0 | G13: =SUMIFS('15년일입'!$J$7:$J$1000,'15년일입'!$A$7:$A$1000,'15년위원회별'!$A13,'15년일입'!$B$7:$B$1000,'15년위원회별'!$C13) -> 0 | H13: =SUMIFS('15년일입'!$T$7:$T$1000,'15년일입'!$A$7:$A$1000,'15년위원회별'!$A13,'15년일입'!$B$7:$B$1000,'15년위원회별'!$C13) -> 0 | I13: =SUMIFS('15년일입'!$U$7:$U$1000,'15년일입'!$A$7:$A$1000,'15년위원회별'!$A13,'15년일입'!$B$7:$B$1000,'15년위원회별'!$C13) -> 0 | J13: =SUMIFS('15년일입'!$K$7:$K$1000,'15년일입'!$A$7:$A$1000,'15년위원회별'!$A13,'15년일입'!$B$7:$B$1000,'15년위원회별'!$C13) -> 0 | K13: =SUMIFS('15년일입'!$L$7:$L$1000,'15년일입'!$A$7:$A$1000,'15년위원회별'!$A13,'15년일입'!$B$7:$B$1000,'15년위원회별'!$C13) -> 0 | L13: =SUMIFS('15년일입'!$M$7:$M$1000,'15년일입'!$A$7:$A$1000,'15년위원회별'!$A13,'15년일입'!$B$7:$B$1000,'15년위원회별'!$C13) -> 0 | M13: =SUMIFS('15년일입'!$Y$7:$Y$1000,'15년일입'!$A$7:$A$1000,'15년위원회별'!$A13,'15년일입'!$B$7:$B$1000,'15년위원회별'!$C13) -> 0 | N13: =SUMIFS('15년일입'!$Z$7:$Z$1000,'15년일입'!$A$7:$A$1000,'15년위원회별'!$A13,'15년일입'!$B$7:$B$1000,'15년위원회별'!$C13) -> 0 | P13: =SUMIFS('15년일출'!$G$15:$G$1027,'15년일출'!$A$15:$A$1027,'15년위원회별'!$A13,'15년일출'!$B$15:$B$1027,'15년위원회별'!$C13) -> 0 | Q13: =SUMIFS('15년일출'!$H$15:$H$1027,'15년일출'!$A$15:$A$1027,'15년위원회별'!$A13,'15년일출'!$B$15:$B$1027,'15년위원회별'!$C13) -> 0 | R13: =SUMIFS('15년일출'!$I$15:$I$1027,'15년일출'!$A$15:$A$1027,'15년위원회별'!$A13,'15년일출'!$B$15:$B$1027,'15년위원회별'!$C13) -> 0 | S13: =SUMIFS('15년일출'!$J$15:$J$1027,'15년일출'!$A$15:$A$1027,'15년위원회별'!$A13,'15년일출'!$B$15:$B$1027,'15년위원회별'!$C13) -> 0 | T13: =SUMIFS('15년일출'!$T$15:$T$1027,'15년일출'!$A$15:$A$1027,'15년위원회별'!$A13,'15년일출'!$B$15:$B$1027,'15년위원회별'!$C13) -> 0 | U13: =SUMIFS('15년일출'!$U$15:$U$1027,'15년일출'!$A$15:$A$1027,'15년위원회별'!$A13,'15년일출'!$B$15:$B$1027,'15년위원회별'!$C13) -> 0 | V13: =SUMIFS('15년일출'!$K$15:$K$1027,'15년일출'!$A$15:$A$1027,'15년위원회별'!$A13,'15년일출'!$B$15:$B$1027,'15년위원회별'!$C13) -> 0 | W13: =SUMIFS('15년일출'!$L$15:$L$1027,'15년일출'!$A$15:$A$1027,'15년위원회별'!$A13,'15년일출'!$B$15:$B$1027,'15년위원회별'!$C13) -> 0 | X13: =SUMIFS('15년일출'!$M$15:$M$1027,'15년일출'!$A$15:$A$1027,'15년위원회별'!$A13,'15년일출'!$B$15:$B$1027,'15년위원회별'!$C13) -> 0 | Y13: =SUMIFS('15년일출'!$Y$15:$Y$1027,'15년일출'!$A$15:$A$1027,'15년위원회별'!$A13,'15년일출'!$B$15:$B$1027,'15년위원회별'!$C13) -> 0 | Z13: =SUMIFS('15년일출'!$Z$15:$Z$1027,'15년일출'!$A$15:$A$1027,'15년위원회별'!$A13,'15년일출'!$B$15:$B$1027,'15년위원회별'!$C13) -> 0
A14: 기획재정위원회 | C14: 균형발전기획실 | D14: =SUMIFS('15년일입'!$G$7:$G$1000,'15년일입'!$A$7:$A$1000,'15년위원회별'!$A14,'15년일입'!$B$7:$B$1000,'15년위원회별'!$C14) -> 0 | E14: =SUMIFS('15년일입'!$H$7:$H$1000,'15년일입'!$A$7:$A$1000,'15년위원회별'!$A14,'15년일입'!$B$7:$B$1000,'15년위원회별'!$C14) -> 0 | F14: =SUMIFS('15년일입'!$I$7:$I$1000,'15년일입'!$A$7:$A$1000,'15년위원회별'!$A14,'15년일입'!$B$7:$B$1000,'15년위원회별'!$C14) -> 0 | G14: =SUMIFS('15년일입'!$J$7:$J$1000,'15년일입'!$A$7:$A$1000,'15년위원회별'!$A14,'15년일입'!$B$7:$B$1000,'15년위원회별'!$C14) -> 0 | H14: =SUMIFS('15년일입'!$T$7:$T$1000,'15년일입'!$A$7:$A$1000,'15년위원회별'!$A14,'15년일입'!$B$7:$B$1000,'15년위원회별'!$C14) -> 0 | I14: =SUMIFS('15년일입'!$U$7:$U$1000,'15년일입'!$A$7:$A$1000,'15년위원회별'!$A14,'15년일입'!$B$7:$B$1000,'15년위원회별'!$C14) -> 0 | J14: =SUMIFS('15년일입'!$K$7:$K$1000,'15년일입'!$A$7:$A$1000,'15년위원회별'!$A14,'15년일입'!$B$7:$B$1000,'15년위원회별'!$C14) -> 0 | K14: =SUMIFS('15년일입'!$L$7:$L$1000,'15년일입'!$A$7:$A$1000,'15년위원회별'!$A14,'15년일입'!$B$7:$B$1000,'15년위원회별'!$C14) -> 0 | L14: =SUMIFS('15년일입'!$M$7:$M$1000,'15년일입'!$A$7:$A$1000,'15년위원회별'!$A14,'15년일입'!$B$7:$B$1000,'15년위원회별'!$C14) -> 0 | M14: =SUMIFS('15년일입'!$Y$7:$Y$1000,'15년일입'!$A$7:$A$1000,'15년위원회별'!$A14,'15년일입'!$B$7:$B$1000,'15년위원회별'!$C14) -> 0 | N14: =SUMIFS('15년일입'!$Z$7:$Z$1000,'15년일입'!$A$7:$A$1000,'15년위원회별'!$A14,'15년일입'!$B$7:$B$1000,'15년위원회별'!$C14) -> 0 | P14: =SUMIFS('15년일출'!$G$15:$G$1027,'15년일출'!$A$15:$A$1027,'15년위원회별'!$A14,'15년일출'!$B$15:$B$1027,'15년위원회별'!$C14) -> 0 | Q14: =SUMIFS('15년일출'!$H$15:$H$1027,'15년일출'!$A$15:$A$1027,'15년위원회별'!$A14,'15년일출'!$B$15:$B$1027,'15년위원회별'!$C14) -> 0 | R14: =SUMIFS('15년일출'!$I$15:$I$1027,'15년일출'!$A$15:$A$1027,'15년위원회별'!$A14,'15년일출'!$B$15:$B$1027,'15년위원회별'!$C14) -> 0 | S14: =SUMIFS('15년일출'!$J$15:$J$1027,'15년일출'!$A$15:$A$1027,'15년위원회별'!$A14,'15년일출'!$B$15:$B$1027,'15년위원회별'!$C14) -> 0 | T14: =SUMIFS('15년일출'!$T$15:$T$1027,'15년일출'!$A$15:$A$1027,'15년위원회별'!$A14,'15년일출'!$B$15:$B$1027,'15년위원회별'!$C14) -> 0 | U14: =SUMIFS('15년일출'!$U$15:$U$1027,'15년일출'!$A$15:$A$1027,'15년위원회별'!$A14,'15년일출'!$B$15:$B$1027,'15년위원회별'!$C14) -> 0 | V14: =SUMIFS('15년일출'!$K$15:$K$1027,'15년일출'!$A$15:$A$1027,'15년위원회별'!$A14,'15년일출'!$B$15:$B$1027,'15년위원회별'!$C14) -> 0 | W14: =SUMIFS('15년일출'!$L$15:$L$1027,'15년일출'!$A$15:$A$1027,'15년위원회별'!$A14,'15년일출'!$B$15:$B$1027,'15년위원회별'!$C14) -> 0 | X14: =SUMIFS('15년일출'!$M$15:$M$1027,'15년일출'!$A$15:$A$1027,'15년위원회별'!$A14,'15년일출'!$B$15:$B$1027,'15년위원회별'!$C14) -> 0 | Y14: =SUMIFS('15년일출'!$Y$15:$Y$1027,'15년일출'!$A$15:$A$1027,'15년위원회별'!$A14,'15년일출'!$B$15:$B$1027,'15년위원회별'!$C14) -> 0 | Z14: =SUMIFS('15년일출'!$Z$15:$Z$1027,'15년일출'!$A$15:$A$1027,'15년위원회별'!$A14,'15년일출'!$B$15:$B$1027,'15년위원회별'!$C14) -> 0
B15: 경제과학기술위원회 | D15: =SUM(D16) -> 0 | E15: =SUM(E16) -> 0 | F15: =SUM(F16) -> 0 | G15: =SUM(G16) -> 0 | H15: =SUM(H16) -> 0 | I15: =SUM(I16) -> 0 | J15: =SUM(J16) -> 0 | K15: =SUM(K16) -> 0 | ... N15: =SUM(N16) -> 0 | P15: =SUM(P16) -> 0 | Q15: =SUM(Q16) -> 0 | R15: =SUM(R16) -> 0 | S15: =SUM(S16) -> 0 | T15: =SUM(T16) -> 0 | U15: =SUM(U16) -> 0 | V15: =SUM(V16) -> 0 | W15: =SUM(W16) -> 0 | ... Z15: =SUM(Z16) -> 0
A16: 경제과학기술위원회 | C16: 경제실 | D16: =SUMIFS('15년일입'!$G$7:$G$1000,'15년일입'!$A$7:$A$1000,'15년위원회별'!$A16,'15년일입'!$B$7:$B$1000,'15년위원회별'!$C16) -> 0 | E16: =SUMIFS('15년일입'!$H$7:$H$1000,'15년일입'!$A$7:$A$1000,'15년위원회별'!$A16,'15년일입'!$B$7:$B$1000,'15년위원회별'!$C16) -> 0 | F16: =SUMIFS('15년일입'!$I$7:$I$1000,'15년일입'!$A$7:$A$1000,'15년위원회별'!$A16,'15년일입'!$B$7:$B$1000,'15년위원회별'!$C16) -> 0 | G16: =SUMIFS('15년일입'!$J$7:$J$1000,'15년일입'!$A$7:$A$1000,'15년위원회별'!$A16,'15년일입'!$B$7:$B$1000,'15년위원회별'!$C16) -> 0 | H16: =SUMIFS('15년일입'!$T$7:$T$1000,'15년일입'!$A$7:$A$1000,'15년위원회별'!$A16,'15년일입'!$B$7:$B$1000,'15년위원회별'!$C16) -> 0 | I16: =SUMIFS('15년일입'!$U$7:$U$1000,'15년일입'!$A$7:$A$1000,'15년위원회별'!$A16,'15년일입'!$B$7:$B$1000,'15년위원회별'!$C16) -> 0 | J16: =SUMIFS('15년일입'!$K$7:$K$1000,'15년일입'!$A$7:$A$1000,'15년위원회별'!$A16,'15년일입'!$B$7:$B$1000,'15년위원회별'!$C16) -> 0 | K16: =SUMIFS('15년일입'!$L$7:$L$1000,'15년일입'!$A$7:$A$1000,'15년위원회별'!$A16,'15년일입'!$B$7:$B$1000,'15년위원회별'!$C16) -> 0 | L16: =SUMIFS('15년일입'!$M$7:$M$1000,'15년일입'!$A$7:$A$1000,'15년위원회별'!$A16,'15년일입'!$B$7:$B$1000,'15년위원회별'!$C16) -> 0 | M16: =SUMIFS('15년일입'!$Y$7:$Y$1000,'15년일입'!$A$7:$A$1000,'15년위원회별'!$A16,'15년일입'!$B$7:$B$1000,'15년위원회별'!$C16) -> 0 | N16: =SUMIFS('15년일입'!$Z$7:$Z$1000,'15년일입'!$A$7:$A$1000,'15년위원회별'!$A16,'15년일입'!$B$7:$B$1000,'15년위원회별'!$C16) -> 0 | P16: =SUMIFS('15년일출'!$G$15:$G$1027,'15년일출'!$A$15:$A$1027,'15년위원회별'!$A16,'15년일출'!$B$15:$B$1027,'15년위원회별'!$C16) -> 0 | Q16: =SUMIFS('15년일출'!$H$15:$H$1027,'15년일출'!$A$15:$A$1027,'15년위원회별'!$A16,'15년일출'!$B$15:$B$1027,'15년위원회별'!$C16) -> 0 | R16: =SUMIFS('15년일출'!$I$15:$I$1027,'15년일출'!$A$15:$A$1027,'15년위원회별'!$A16,'15년일출'!$B$15:$B$1027,'15년위원회별'!$C16) -> 0 | S16: =SUMIFS('15년일출'!$J$15:$J$1027,'15년일출'!$A$15:$A$1027,'15년위원회별'!$A16,'15년일출'!$B$15:$B$1027,'15년위원회별'!$C16) -> 0 | T16: =SUMIFS('15년일출'!$T$15:$T$1027,'15년일출'!$A$15:$A$1027,'15년위원회별'!$A16,'15년일출'!$B$15:$B$1027,'15년위원회별'!$C16) -> 0 | U16: =SUMIFS('15년일출'!$U$15:$U$1027,'15년일출'!$A$15:$A$1027,'15년위원회별'!$A16,'15년일출'!$B$15:$B$1027,'15년위원회별'!$C16) -> 0 | V16: =SUMIFS('15년일출'!$K$15:$K$1027,'15년일출'!$A$15:$A$1027,'15년위원회별'!$A16,'15년일출'!$B$15:$B$1027,'15년위원회별'!$C16) -> 0 | W16: =SUMIFS('15년일출'!$L$15:$L$1027,'15년일출'!$A$15:$A$1027,'15년위원회별'!$A16,'15년일출'!$B$15:$B$1027,'15년위원회별'!$C16) -> 0 | X16: =SUMIFS('15년일출'!$M$15:$M$1027,'15년일출'!$A$15:$A$1027,'15년위원회별'!$A16,'15년일출'!$B$15:$B$1027,'15년위원회별'!$C16) -> 0 | Y16: =SUMIFS('15년일출'!$Y$15:$Y$1027,'15년일출'!$A$15:$A$1027,'15년위원회별'!$A16,'15년일출'!$B$15:$B$1027,'15년위원회별'!$C16) -> 0 | Z16: =SUMIFS('15년일출'!$Z$15:$Z$1027,'15년일출'!$A$15:$A$1027,'15년위원회별'!$A16,'15년일출'!$B$15:$B$1027,'15년위원회별'!$C16) -> 0
B17: 안전행정위원회 | D17: =SUM(D18:D21) -> 0 | E17: =SUM(E18:E21) -> 0 | F17: =SUM(F18:F21) -> 0 | G17: =SUM(G18:G21) -> 0 | H17: =SUM(H18:H21) -> 0 | I17: =SUM(I18:I21) -> 0 | J17: =SUM(J18:J21) -> 0 | K17: =SUM(K18:K21) -> 0 | ... N17: =SUM(N18:N21) -> 0 | P17: =SUM(P18:P21) -> 0 | Q17: =SUM(Q18:Q21) -> 0 | R17: =SUM(R18:R21) -> 0 | S17: =SUM(S18:S21) -> 0 | T17: =SUM(T18:T21) -> 0 | U17: =SUM(U18:U21) -> 0 | V17: =SUM(V18:V21) -> 0 | W17: =SUM(W18:W21) -> 0 | ... Z17: =SUM(Z18:Z21) -> 0
A18: 안전행정위원회 | C18: 자치행정국 | D18: =SUMIFS('15년일입'!$G$7:$G$1000,'15년일입'!$A$7:$A$1000,'15년위원회별'!$A18,'15년일입'!$B$7:$B$1000,'15년위원회별'!$C18) -> 0 | E18: =SUMIFS('15년일입'!$H$7:$H$1000,'15년일입'!$A$7:$A$1000,'15년위원회별'!$A18,'15년일입'!$B$7:$B$1000,'15년위원회별'!$C18) -> 0 | F18: =SUMIFS('15년일입'!$I$7:$I$1000,'15년일입'!$A$7:$A$1000,'15년위원회별'!$A18,'15년일입'!$B$7:$B$1000,'15년위원회별'!$C18) -> 0 | G18: =SUMIFS('15년일입'!$J$7:$J$1000,'15년일입'!$A$7:$A$1000,'15년위원회별'!$A18,'15년일입'!$B$7:$B$1000,'15년위원회별'!$C18) -> 0 | H18: =SUMIFS('15년일입'!$T$7:$T$1000,'15년일입'!$A$7:$A$1000,'15년위원회별'!$A18,'15년일입'!$B$7:$B$1000,'15년위원회별'!$C18) -> 0 | I18: =SUMIFS('15년일입'!$U$7:$U$1000,'15년일입'!$A$7:$A$1000,'15년위원회별'!$A18,'15년일입'!$B$7:$B$1000,'15년위원회별'!$C18) -> 0 | J18: =SUMIFS('15년일입'!$K$7:$K$1000,'15년일입'!$A$7:$A$1000,'15년위원회별'!$A18,'15년일입'!$B$7:$B$1000,'15년위원회별'!$C18) -> 0 | K18: =SUMIFS('15년일입'!$L$7:$L$1000,'15년일입'!$A$7:$A$1000,'15년위원회별'!$A18,'15년일입'!$B$7:$B$1000,'15년위원회별'!$C18) -> 0 | L18: =SUMIFS('15년일입'!$M$7:$M$1000,'15년일입'!$A$7:$A$1000,'15년위원회별'!$A18,'15년일입'!$B$7:$B$1000,'15년위원회별'!$C18) -> 0 | M18: =SUMIFS('15년일입'!$Y$7:$Y$1000,'15년일입'!$A$7:$A$1000,'15년위원회별'!$A18,'15년일입'!$B$7:$B$1000,'15년위원회별'!$C18) -> 0 | N18: =SUMIFS('15년일입'!$Z$7:$Z$1000,'15년일입'!$A$7:$A$1000,'15년위원회별'!$A18,'15년일입'!$B$7:$B$1000,'15년위원회별'!$C18) -> 0 | P18: =SUMIFS('15년일출'!$G$15:$G$1027,'15년일출'!$A$15:$A$1027,'15년위원회별'!$A18,'15년일출'!$B$15:$B$1027,'15년위원회별'!$C18) -> 0 | Q18: =SUMIFS('15년일출'!$H$15:$H$1027,'15년일출'!$A$15:$A$1027,'15년위원회별'!$A18,'15년일출'!$B$15:$B$1027,'15년위원회별'!$C18) -> 0 | R18: =SUMIFS('15년일출'!$I$15:$I$1027,'15년일출'!$A$15:$A$1027,'15년위원회별'!$A18,'15년일출'!$B$15:$B$1027,'15년위원회별'!$C18) -> 0 | S18: =SUMIFS('15년일출'!$J$15:$J$1027,'15년일출'!$A$15:$A$1027,'15년위원회별'!$A18,'15년일출'!$B$15:$B$1027,'15년위원회별'!$C18) -> 0 | T18: =SUMIFS('15년일출'!$T$15:$T$1027,'15년일출'!$A$15:$A$1027,'15년위원회별'!$A18,'15년일출'!$B$15:$B$1027,'15년위원회별'!$C18) -> 0 | U18: =SUMIFS('15년일출'!$U$15:$U$1027,'15년일출'!$A$15:$A$1027,'15년위원회별'!$A18,'15년일출'!$B$15:$B$1027,'15년위원회별'!$C18) -> 0 | V18: =SUMIFS('15년일출'!$K$15:$K$1027,'15년일출'!$A$15:$A$1027,'15년위원회별'!$A18,'15년일출'!$B$15:$B$1027,'15년위원회별'!$C18) -> 0 | W18: =SUMIFS('15년일출'!$L$15:$L$1027,'15년일출'!$A$15:$A$1027,'15년위원회별'!$A18,'15년일출'!$B$15:$B$1027,'15년위원회별'!$C18) -> 0 | X18: =SUMIFS('15년일출'!$M$15:$M$1027,'15년일출'!$A$15:$A$1027,'15년위원회별'!$A18,'15년일출'!$B$15:$B$1027,'15년위원회별'!$C18) -> 0 | Y18: =SUMIFS('15년일출'!$Y$15:$Y$1027,'15년일출'!$A$15:$A$1027,'15년위원회별'!$A18,'15년일출'!$B$15:$B$1027,'15년위원회별'!$C18) -> 0 | Z18: =SUMIFS('15년일출'!$Z$15:$Z$1027,'15년일출'!$A$15:$A$1027,'15년위원회별'!$A18,'15년일출'!$B$15:$B$1027,'15년위원회별'!$C18) -> 0
A19: 안전행정위원회 | C19: 재난안전본부 | D19: =SUMIFS('15년일입'!$G$7:$G$1000,'15년일입'!$A$7:$A$1000,'15년위원회별'!$A19,'15년일입'!$B$7:$B$1000,'15년위원회별'!$C19) -> 0 | E19: =SUMIFS('15년일입'!$H$7:$H$1000,'15년일입'!$A$7:$A$1000,'15년위원회별'!$A19,'15년일입'!$B$7:$B$1000,'15년위원회별'!$C19) -> 0 | F19: =SUMIFS('15년일입'!$I$7:$I$1000,'15년일입'!$A$7:$A$1000,'15년위원회별'!$A19,'15년일입'!$B$7:$B$1000,'15년위원회별'!$C19) -> 0 | G19: =SUMIFS('15년일입'!$J$7:$J$1000,'15년일입'!$A$7:$A$1000,'15년위원회별'!$A19,'15년일입'!$B$7:$B$1000,'15년위원회별'!$C19) -> 0 | H19: =SUMIFS('15년일입'!$T$7:$T$1000,'15년일입'!$A$7:$A$1000,'15년위원회별'!$A19,'15년일입'!$B$7:$B$1000,'15년위원회별'!$C19) -> 0 | I19: =SUMIFS('15년일입'!$U$7:$U$1000,'15년일입'!$A$7:$A$1000,'15년위원회별'!$A19,'15년일입'!$B$7:$B$1000,'15년위원회별'!$C19) -> 0 | J19: =SUMIFS('15년일입'!$K$7:$K$1000,'15년일입'!$A$7:$A$1000,'15년위원회별'!$A19,'15년일입'!$B$7:$B$1000,'15년위원회별'!$C19) -> 0 | K19: =SUMIFS('15년일입'!$L$7:$L$1000,'15년일입'!$A$7:$A$1000,'15년위원회별'!$A19,'15년일입'!$B$7:$B$1000,'15년위원회별'!$C19) -> 0 | L19: =SUMIFS('15년일입'!$M$7:$M$1000,'15년일입'!$A$7:$A$1000,'15년위원회별'!$A19,'15년일입'!$B$7:$B$1000,'15년위원회별'!$C19) -> 0 | M19: =SUMIFS('15년일입'!$Y$7:$Y$1000,'15년일입'!$A$7:$A$1000,'15년위원회별'!$A19,'15년일입'!$B$7:$B$1000,'15년위원회별'!$C19) -> 0 | N19: =SUMIFS('15년일입'!$Z$7:$Z$1000,'15년일입'!$A$7:$A$1000,'15년위원회별'!$A19,'15년일입'!$B$7:$B$1000,'15년위원회별'!$C19) -> 0 | P19: =SUMIFS('15년일출'!$G$15:$G$1027,'15년일출'!$A$15:$A$1027,'15년위원회별'!$A19,'15년일출'!$B$15:$B$1027,'15년위원회별'!$C19) -> 0 | Q19: =SUMIFS('15년일출'!$H$15:$H$1027,'15년일출'!$A$15:$A$1027,'15년위원회별'!$A19,'15년일출'!$B$15:$B$1027,'15년위원회별'!$C19) -> 0 | R19: =SUMIFS('15년일출'!$I$15:$I$1027,'15년일출'!$A$15:$A$1027,'15년위원회별'!$A19,'15년일출'!$B$15:$B$1027,'15년위원회별'!$C19) -> 0 | S19: =SUMIFS('15년일출'!$J$15:$J$1027,'15년일출'!$A$15:$A$1027,'15년위원회별'!$A19,'15년일출'!$B$15:$B$1027,'15년위원회별'!$C19) -> 0 | T19: =SUMIFS('15년일출'!$T$15:$T$1027,'15년일출'!$A$15:$A$1027,'15년위원회별'!$A19,'15년일출'!$B$15:$B$1027,'15년위원회별'!$C19) -> 0 | U19: =SUMIFS('15년일출'!$U$15:$U$1027,'15년일출'!$A$15:$A$1027,'15년위원회별'!$A19,'15년일출'!$B$15:$B$1027,'15년위원회별'!$C19) -> 0 | V19: =SUMIFS('15년일출'!$K$15:$K$1027,'15년일출'!$A$15:$A$1027,'15년위원회별'!$A19,'15년일출'!$B$15:$B$1027,'15년위원회별'!$C19) -> 0 | W19: =SUMIFS('15년일출'!$L$15:$L$1027,'15년일출'!$A$15:$A$1027,'15년위원회별'!$A19,'15년일출'!$B$15:$B$1027,'15년위원회별'!$C19) -> 0 | X19: =SUMIFS('15년일출'!$M$15:$M$1027,'15년일출'!$A$15:$A$1027,'15년위원회별'!$A19,'15년일출'!$B$15:$B$1027,'15년위원회별'!$C19) -> 0 | Y19: =SUMIFS('15년일출'!$Y$15:$Y$1027,'15년일출'!$A$15:$A$1027,'15년위원회별'!$A19,'15년일출'!$B$15:$B$1027,'15년위원회별'!$C19) -> 0 | Z19: =SUMIFS('15년일출'!$Z$15:$Z$1027,'15년일출'!$A$15:$A$1027,'15년위원회별'!$A19,'15년일출'!$B$15:$B$1027,'15년위원회별'!$C19) -> 0
A20: 안전행정위원회 | C20: 균형발전기획실 | D20: =SUMIFS('15년일입'!$G$7:$G$1000,'15년일입'!$A$7:$A$1000,'15년위원회별'!$A20,'15년일입'!$B$7:$B$1000,'15년위원회별'!$C20) -> 0 | E20: =SUMIFS('15년일입'!$H$7:$H$1000,'15년일입'!$A$7:$A$1000,'15년위원회별'!$A20,'15년일입'!$B$7:$B$1000,'15년위원회별'!$C20) -> 0 | F20: =SUMIFS('15년일입'!$I$7:$I$1000,'15년일입'!$A$7:$A$1000,'15년위원회별'!$A20,'15년일입'!$B$7:$B$1000,'15년위원회별'!$C20) -> 0 | G20: =SUMIFS('15년일입'!$J$7:$J$1000,'15년일입'!$A$7:$A$1000,'15년위원회별'!$A20,'15년일입'!$B$7:$B$1000,'15년위원회별'!$C20) -> 0 | H20: =SUMIFS('15년일입'!$T$7:$T$1000,'15년일입'!$A$7:$A$1000,'15년위원회별'!$A20,'15년일입'!$B$7:$B$1000,'15년위원회별'!$C20) -> 0 | I20: =SUMIFS('15년일입'!$U$7:$U$1000,'15년일입'!$A$7:$A$1000,'15년위원회별'!$A20,'15년일입'!$B$7:$B$1000,'15년위원회별'!$C20) -> 0 | J20: =SUMIFS('15년일입'!$K$7:$K$1000,'15년일입'!$A$7:$A$1000,'15년위원회별'!$A20,'15년일입'!$B$7:$B$1000,'15년위원회별'!$C20) -> 0 | K20: =SUMIFS('15년일입'!$L$7:$L$1000,'15년일입'!$A$7:$A$1000,'15년위원회별'!$A20,'15년일입'!$B$7:$B$1000,'15년위원회별'!$C20) -> 0 | L20: =SUMIFS('15년일입'!$M$7:$M$1000,'15년일입'!$A$7:$A$1000,'15년위원회별'!$A20,'15년일입'!$B$7:$B$1000,'15년위원회별'!$C20) -> 0 | M20: =SUMIFS('15년일입'!$Y$7:$Y$1000,'15년일입'!$A$7:$A$1000,'15년위원회별'!$A20,'15년일입'!$B$7:$B$1000,'15년위원회별'!$C20) -> 0 | N20: =SUMIFS('15년일입'!$Z$7:$Z$1000,'15년일입'!$A$7:$A$1000,'15년위원회별'!$A20,'15년일입'!$B$7:$B$1000,'15년위원회별'!$C20) -> 0 | P20: =SUMIFS('15년일출'!$G$15:$G$1027,'15년일출'!$A$15:$A$1027,'15년위원회별'!$A20,'15년일출'!$B$15:$B$1027,'15년위원회별'!$C20) -> 0 | Q20: =SUMIFS('15년일출'!$H$15:$H$1027,'15년일출'!$A$15:$A$1027,'15년위원회별'!$A20,'15년일출'!$B$15:$B$1027,'15년위원회별'!$C20) -> 0 | R20: =SUMIFS('15년일출'!$I$15:$I$1027,'15년일출'!$A$15:$A$1027,'15년위원회별'!$A20,'15년일출'!$B$15:$B$1027,'15년위원회별'!$C20) -> 0 | S20: =SUMIFS('15년일출'!$J$15:$J$1027,'15년일출'!$A$15:$A$1027,'15년위원회별'!$A20,'15년일출'!$B$15:$B$1027,'15년위원회별'!$C20) -> 0 | T20: =SUMIFS('15년일출'!$T$15:$T$1027,'15년일출'!$A$15:$A$1027,'15년위원회별'!$A20,'15년일출'!$B$15:$B$1027,'15년위원회별'!$C20) -> 0 | U20: =SUMIFS('15년일출'!$U$15:$U$1027,'15년일출'!$A$15:$A$1027,'15년위원회별'!$A20,'15년일출'!$B$15:$B$1027,'15년위원회별'!$C20) -> 0 | V20: =SUMIFS('15년일출'!$K$15:$K$1027,'15년일출'!$A$15:$A$1027,'15년위원회별'!$A20,'15년일출'!$B$15:$B$1027,'15년위원회별'!$C20) -> 0 | W20: =SUMIFS('15년일출'!$L$15:$L$1027,'15년일출'!$A$15:$A$1027,'15년위원회별'!$A20,'15년일출'!$B$15:$B$1027,'15년위원회별'!$C20) -> 0 | X20: =SUMIFS('15년일출'!$M$15:$M$1027,'15년일출'!$A$15:$A$1027,'15년위원회별'!$A20,'15년일출'!$B$15:$B$1027,'15년위원회별'!$C20) -> 0 | Y20: =SUMIFS('15년일출'!$Y$15:$Y$1027,'15년일출'!$A$15:$A$1027,'15년위원회별'!$A20,'15년일출'!$B$15:$B$1027,'15년위원회별'!$C20) -> 0 | Z20: =SUMIFS('15년일출'!$Z$15:$Z$1027,'15년일출'!$A$15:$A$1027,'15년위원회별'!$A20,'15년일출'!$B$15:$B$1027,'15년위원회별'!$C20) -> 0
A21: 안전행정위원회 | C21: 인재개발원 | D21: =SUMIFS('15년일입'!$G$7:$G$1000,'15년일입'!$A$7:$A$1000,'15년위원회별'!$A21,'15년일입'!$B$7:$B$1000,'15년위원회별'!$C21) -> 0 | E21: =SUMIFS('15년일입'!$H$7:$H$1000,'15년일입'!$A$7:$A$1000,'15년위원회별'!$A21,'15년일입'!$B$7:$B$1000,'15년위원회별'!$C21) -> 0 | F21: =SUMIFS('15년일입'!$I$7:$I$1000,'15년일입'!$A$7:$A$1000,'15년위원회별'!$A21,'15년일입'!$B$7:$B$1000,'15년위원회별'!$C21) -> 0 | G21: =SUMIFS('15년일입'!$J$7:$J$1000,'15년일입'!$A$7:$A$1000,'15년위원회별'!$A21,'15년일입'!$B$7:$B$1000,'15년위원회별'!$C21) -> 0 | H21: =SUMIFS('15년일입'!$T$7:$T$1000,'15년일입'!$A$7:$A$1000,'15년위원회별'!$A21,'15년일입'!$B$7:$B$1000,'15년위원회별'!$C21) -> 0 | I21: =SUMIFS('15년일입'!$U$7:$U$1000,'15년일입'!$A$7:$A$1000,'15년위원회별'!$A21,'15년일입'!$B$7:$B$1000,'15년위원회별'!$C21) -> 0 | J21: =SUMIFS('15년일입'!$K$7:$K$1000,'15년일입'!$A$7:$A$1000,'15년위원회별'!$A21,'15년일입'!$B$7:$B$1000,'15년위원회별'!$C21) -> 0 | K21: =SUMIFS('15년일입'!$L$7:$L$1000,'15년일입'!$A$7:$A$1000,'15년위원회별'!$A21,'15년일입'!$B$7:$B$1000,'15년위원회별'!$C21) -> 0 | L21: =SUMIFS('15년일입'!$M$7:$M$1000,'15년일입'!$A$7:$A$1000,'15년위원회별'!$A21,'15년일입'!$B$7:$B$1000,'15년위원회별'!$C21) -> 0 | M21: =SUMIFS('15년일입'!$Y$7:$Y$1000,'15년일입'!$A$7:$A$1000,'15년위원회별'!$A21,'15년일입'!$B$7:$B$1000,'15년위원회별'!$C21) -> 0 | N21: =SUMIFS('15년일입'!$Z$7:$Z$1000,'15년일입'!$A$7:$A$1000,'15년위원회별'!$A21,'15년일입'!$B$7:$B$1000,'15년위원회별'!$C21) -> 0 | P21: =SUMIFS('15년일출'!$G$15:$G$1027,'15년일출'!$A$15:$A$1027,'15년위원회별'!$A21,'15년일출'!$B$15:$B$1027,'15년위원회별'!$C21) -> 0 | Q21: =SUMIFS('15년일출'!$H$15:$H$1027,'15년일출'!$A$15:$A$1027,'15년위원회별'!$A21,'15년일출'!$B$15:$B$1027,'15년위원회별'!$C21) -> 0 | R21: =SUMIFS('15년일출'!$I$15:$I$1027,'15년일출'!$A$15:$A$1027,'15년위원회별'!$A21,'15년일출'!$B$15:$B$1027,'15년위원회별'!$C21) -> 0 | S21: =SUMIFS('15년일출'!$J$15:$J$1027,'15년일출'!$A$15:$A$1027,'15년위원회별'!$A21,'15년일출'!$B$15:$B$1027,'15년위원회별'!$C21) -> 0 | T21: =SUMIFS('15년일출'!$T$15:$T$1027,'15년일출'!$A$15:$A$1027,'15년위원회별'!$A21,'15년일출'!$B$15:$B$1027,'15년위원회별'!$C21) -> 0 | U21: =SUMIFS('15년일출'!$U$15:$U$1027,'15년일출'!$A$15:$A$1027,'15년위원회별'!$A21,'15년일출'!$B$15:$B$1027,'15년위원회별'!$C21) -> 0 | V21: =SUMIFS('15년일출'!$K$15:$K$1027,'15년일출'!$A$15:$A$1027,'15년위원회별'!$A21,'15년일출'!$B$15:$B$1027,'15년위원회별'!$C21) -> 0 | W21: =SUMIFS('15년일출'!$L$15:$L$1027,'15년일출'!$A$15:$A$1027,'15년위원회별'!$A21,'15년일출'!$B$15:$B$1027,'15년위원회별'!$C21) -> 0 | X21: =SUMIFS('15년일출'!$M$15:$M$1027,'15년일출'!$A$15:$A$1027,'15년위원회별'!$A21,'15년일출'!$B$15:$B$1027,'15년위원회별'!$C21) -> 0 | Y21: =SUMIFS('15년일출'!$Y$15:$Y$1027,'15년일출'!$A$15:$A$1027,'15년위원회별'!$A21,'15년일출'!$B$15:$B$1027,'15년위원회별'!$C21) -> 0 | Z21: =SUMIFS('15년일출'!$Z$15:$Z$1027,'15년일출'!$A$15:$A$1027,'15년위원회별'!$A21,'15년일출'!$B$15:$B$1027,'15년위원회별'!$C21) -> 0
B22: 문화체육관광위원회 | D22: =SUM(D23) -> 0 | E22: =SUM(E23) -> 0 | F22: =SUM(F23) -> 0 | G22: =SUM(G23) -> 0 | H22: =SUM(H23) -> 0 | I22: =SUM(I23) -> 0 | J22: =SUM(J23) -> 0 | K22: =SUM(K23) -> 0 | ... N22: =SUM(N23) -> 0 | P22: =SUM(P23) -> 0 | Q22: =SUM(Q23) -> 0 | R22: =SUM(R23) -> 0 | S22: =SUM(S23) -> 0 | T22: =SUM(T23) -> 0 | U22: =SUM(U23) -> 0 | V22: =SUM(V23) -> 0 | W22: =SUM(W23) -> 0 | ... Z22: =SUM(Z23) -> 0
A23: 문화체육관광위원회 | C23: 문화체육관광국 | D23: =SUMIFS('15년일입'!$G$7:$G$1000,'15년일입'!$A$7:$A$1000,'15년위원회별'!$A23,'15년일입'!$B$7:$B$1000,'15년위원회별'!$C23) -> 0 | E23: =SUMIFS('15년일입'!$H$7:$H$1000,'15년일입'!$A$7:$A$1000,'15년위원회별'!$A23,'15년일입'!$B$7:$B$1000,'15년위원회별'!$C23) -> 0 | F23: =SUMIFS('15년일입'!$I$7:$I$1000,'15년일입'!$A$7:$A$1000,'15년위원회별'!$A23,'15년일입'!$B$7:$B$1000,'15년위원회별'!$C23) -> 0 | G23: =SUMIFS('15년일입'!$J$7:$J$1000,'15년일입'!$A$7:$A$1000,'15년위원회별'!$A23,'15년일입'!$B$7:$B$1000,'15년위원회별'!$C23) -> 0 | H23: =SUMIFS('15년일입'!$T$7:$T$1000,'15년일입'!$A$7:$A$1000,'15년위원회별'!$A23,'15년일입'!$B$7:$B$1000,'15년위원회별'!$C23) -> 0 | I23: =SUMIFS('15년일입'!$U$7:$U$1000,'15년일입'!$A$7:$A$1000,'15년위원회별'!$A23,'15년일입'!$B$7:$B$1000,'15년위원회별'!$C23) -> 0 | J23: =SUMIFS('15년일입'!$K$7:$K$1000,'15년일입'!$A$7:$A$1000,'15년위원회별'!$A23,'15년일입'!$B$7:$B$1000,'15년위원회별'!$C23) -> 0 | K23: =SUMIFS('15년일입'!$L$7:$L$1000,'15년일입'!$A$7:$A$1000,'15년위원회별'!$A23,'15년일입'!$B$7:$B$1000,'15년위원회별'!$C23) -> 0 | L23: =SUMIFS('15년일입'!$M$7:$M$1000,'15년일입'!$A$7:$A$1000,'15년위원회별'!$A23,'15년일입'!$B$7:$B$1000,'15년위원회별'!$C23) -> 0 | M23: =SUMIFS('15년일입'!$Y$7:$Y$1000,'15년일입'!$A$7:$A$1000,'15년위원회별'!$A23,'15년일입'!$B$7:$B$1000,'15년위원회별'!$C23) -> 0 | N23: =SUMIFS('15년일입'!$Z$7:$Z$1000,'15년일입'!$A$7:$A$1000,'15년위원회별'!$A23,'15년일입'!$B$7:$B$1000,'15년위원회별'!$C23) -> 0 | P23: =SUMIFS('15년일출'!$G$15:$G$1027,'15년일출'!$A$15:$A$1027,'15년위원회별'!$A23,'15년일출'!$B$15:$B$1027,'15년위원회별'!$C23) -> 0 | Q23: =SUMIFS('15년일출'!$H$15:$H$1027,'15년일출'!$A$15:$A$1027,'15년위원회별'!$A23,'15년일출'!$B$15:$B$1027,'15년위원회별'!$C23) -> 0 | R23: =SUMIFS('15년일출'!$I$15:$I$1027,'15년일출'!$A$15:$A$1027,'15년위원회별'!$A23,'15년일출'!$B$15:$B$1027,'15년위원회별'!$C23) -> 0 | S23: =SUMIFS('15년일출'!$J$15:$J$1027,'15년일출'!$A$15:$A$1027,'15년위원회별'!$A23,'15년일출'!$B$15:$B$1027,'15년위원회별'!$C23) -> 0 | T23: =SUMIFS('15년일출'!$T$15:$T$1027,'15년일출'!$A$15:$A$1027,'15년위원회별'!$A23,'15년일출'!$B$15:$B$1027,'15년위원회별'!$C23) -> 0 | U23: =SUMIFS('15년일출'!$U$15:$U$1027,'15년일출'!$A$15:$A$1027,'15년위원회별'!$A23,'15년일출'!$B$15:$B$1027,'15년위원회별'!$C23) -> 0 | V23: =SUMIFS('15년일출'!$K$15:$K$1027,'15년일출'!$A$15:$A$1027,'15년위원회별'!$A23,'15년일출'!$B$15:$B$1027,'15년위원회별'!$C23) -> 0 | W23: =SUMIFS('15년일출'!$L$15:$L$1027,'15년일출'!$A$15:$A$1027,'15년위원회별'!$A23,'15년일출'!$B$15:$B$1027,'15년위원회별'!$C23) -> 0 | X23: =SUMIFS('15년일출'!$M$15:$M$1027,'15년일출'!$A$15:$A$1027,'15년위원회별'!$A23,'15년일출'!$B$15:$B$1027,'15년위원회별'!$C23) -> 0 | Y23: =SUMIFS('15년일출'!$Y$15:$Y$1027,'15년일출'!$A$15:$A$1027,'15년위원회별'!$A23,'15년일출'!$B$15:$B$1027,'15년위원회별'!$C23) -> 0 | Z23: =SUMIFS('15년일출'!$Z$15:$Z$1027,'15년일출'!$A$15:$A$1027,'15년위원회별'!$A23,'15년일출'!$B$15:$B$1027,'15년위원회별'!$C23) -> 0
B24: 농정해양위원회 | D24: =SUM(D25:D27) -> 0 | E24: =SUM(E25:E27) -> 0 | F24: =SUM(F25:F27) -> 0 | G24: =SUM(G25:G27) -> 0 | H24: =SUM(H25:H27) -> 0 | I24: =SUM(I25:I27) -> 0 | J24: =SUM(J25:J27) -> 0 | K24: =SUM(K25:K27) -> 0 | ... N24: =SUM(N25:N27) -> 0 | P24: =SUM(P25:P27) -> 0 | Q24: =SUM(Q25:Q27) -> 0 | R24: =SUM(R25:R27) -> 0 | S24: =SUM(S25:S27) -> 0 | T24: =SUM(T25:T27) -> 0 | U24: =SUM(U25:U27) -> 0 | V24: =SUM(V25:V27) -> 0 | W24: =SUM(W25:W27) -> 0 | ... Z24: =SUM(Z25:Z27) -> 0
A25: 농정해양위원회 | C25: 농정해양국 | D25: =SUMIFS('15년일입'!$G$7:$G$1000,'15년일입'!$A$7:$A$1000,'15년위원회별'!$A25,'15년일입'!$B$7:$B$1000,'15년위원회별'!$C25) -> 0 | E25: =SUMIFS('15년일입'!$H$7:$H$1000,'15년일입'!$A$7:$A$1000,'15년위원회별'!$A25,'15년일입'!$B$7:$B$1000,'15년위원회별'!$C25) -> 0 | F25: =SUMIFS('15년일입'!$I$7:$I$1000,'15년일입'!$A$7:$A$1000,'15년위원회별'!$A25,'15년일입'!$B$7:$B$1000,'15년위원회별'!$C25) -> 0 | G25: =SUMIFS('15년일입'!$J$7:$J$1000,'15년일입'!$A$7:$A$1000,'15년위원회별'!$A25,'15년일입'!$B$7:$B$1000,'15년위원회별'!$C25) -> 0 | H25: =SUMIFS('15년일입'!$T$7:$T$1000,'15년일입'!$A$7:$A$1000,'15년위원회별'!$A25,'15년일입'!$B$7:$B$1000,'15년위원회별'!$C25) -> 0 | I25: =SUMIFS('15년일입'!$U$7:$U$1000,'15년일입'!$A$7:$A$1000,'15년위원회별'!$A25,'15년일입'!$B$7:$B$1000,'15년위원회별'!$C25) -> 0 | J25: =SUMIFS('15년일입'!$K$7:$K$1000,'15년일입'!$A$7:$A$1000,'15년위원회별'!$A25,'15년일입'!$B$7:$B$1000,'15년위원회별'!$C25) -> 0 | K25: =SUMIFS('15년일입'!$L$7:$L$1000,'15년일입'!$A$7:$A$1000,'15년위원회별'!$A25,'15년일입'!$B$7:$B$1000,'15년위원회별'!$C25) -> 0 | L25: =SUMIFS('15년일입'!$M$7:$M$1000,'15년일입'!$A$7:$A$1000,'15년위원회별'!$A25,'15년일입'!$B$7:$B$1000,'15년위원회별'!$C25) -> 0 | M25: =SUMIFS('15년일입'!$Y$7:$Y$1000,'15년일입'!$A$7:$A$1000,'15년위원회별'!$A25,'15년일입'!$B$7:$B$1000,'15년위원회별'!$C25) -> 0 | N25: =SUMIFS('15년일입'!$Z$7:$Z$1000,'15년일입'!$A$7:$A$1000,'15년위원회별'!$A25,'15년일입'!$B$7:$B$1000,'15년위원회별'!$C25) -> 0 | P25: =SUMIFS('15년일출'!$G$15:$G$1027,'15년일출'!$A$15:$A$1027,'15년위원회별'!$A25,'15년일출'!$B$15:$B$1027,'15년위원회별'!$C25) -> 0 | Q25: =SUMIFS('15년일출'!$H$15:$H$1027,'15년일출'!$A$15:$A$1027,'15년위원회별'!$A25,'15년일출'!$B$15:$B$1027,'15년위원회별'!$C25) -> 0 | R25: =SUMIFS('15년일출'!$I$15:$I$1027,'15년일출'!$A$15:$A$1027,'15년위원회별'!$A25,'15년일출'!$B$15:$B$1027,'15년위원회별'!$C25) -> 0 | S25: =SUMIFS('15년일출'!$J$15:$J$1027,'15년일출'!$A$15:$A$1027,'15년위원회별'!$A25,'15년일출'!$B$15:$B$1027,'15년위원회별'!$C25) -> 0 | T25: =SUMIFS('15년일출'!$T$15:$T$1027,'15년일출'!$A$15:$A$1027,'15년위원회별'!$A25,'15년일출'!$B$15:$B$1027,'15년위원회별'!$C25) -> 0 | U25: =SUMIFS('15년일출'!$U$15:$U$1027,'15년일출'!$A$15:$A$1027,'15년위원회별'!$A25,'15년일출'!$B$15:$B$1027,'15년위원회별'!$C25) -> 0 | V25: =SUMIFS('15년일출'!$K$15:$K$1027,'15년일출'!$A$15:$A$1027,'15년위원회별'!$A25,'15년일출'!$B$15:$B$1027,'15년위원회별'!$C25) -> 0 | W25: =SUMIFS('15년일출'!$L$15:$L$1027,'15년일출'!$A$15:$A$1027,'15년위원회별'!$A25,'15년일출'!$B$15:$B$1027,'15년위원회별'!$C25) -> 0 | X25: =SUMIFS('15년일출'!$M$15:$M$1027,'15년일출'!$A$15:$A$1027,'15년위원회별'!$A25,'15년일출'!$B$15:$B$1027,'15년위원회별'!$C25) -> 0 | Y25: =SUMIFS('15년일출'!$Y$15:$Y$1027,'15년일출'!$A$15:$A$1027,'15년위원회별'!$A25,'15년일출'!$B$15:$B$1027,'15년위원회별'!$C25) -> 0 | Z25: =SUMIFS('15년일출'!$Z$15:$Z$1027,'15년일출'!$A$15:$A$1027,'15년위원회별'!$A25,'15년일출'!$B$15:$B$1027,'15년위원회별'!$C25) -> 0
A26: 농정해양위원회 | C26: 축산산림국 | D26: =SUMIFS('15년일입'!$G$7:$G$1000,'15년일입'!$A$7:$A$1000,'15년위원회별'!$A26,'15년일입'!$B$7:$B$1000,'15년위원회별'!$C26) -> 0 | E26: =SUMIFS('15년일입'!$H$7:$H$1000,'15년일입'!$A$7:$A$1000,'15년위원회별'!$A26,'15년일입'!$B$7:$B$1000,'15년위원회별'!$C26) -> 0 | F26: =SUMIFS('15년일입'!$I$7:$I$1000,'15년일입'!$A$7:$A$1000,'15년위원회별'!$A26,'15년일입'!$B$7:$B$1000,'15년위원회별'!$C26) -> 0 | G26: =SUMIFS('15년일입'!$J$7:$J$1000,'15년일입'!$A$7:$A$1000,'15년위원회별'!$A26,'15년일입'!$B$7:$B$1000,'15년위원회별'!$C26) -> 0 | H26: =SUMIFS('15년일입'!$T$7:$T$1000,'15년일입'!$A$7:$A$1000,'15년위원회별'!$A26,'15년일입'!$B$7:$B$1000,'15년위원회별'!$C26) -> 0 | I26: =SUMIFS('15년일입'!$U$7:$U$1000,'15년일입'!$A$7:$A$1000,'15년위원회별'!$A26,'15년일입'!$B$7:$B$1000,'15년위원회별'!$C26) -> 0 | J26: =SUMIFS('15년일입'!$K$7:$K$1000,'15년일입'!$A$7:$A$1000,'15년위원회별'!$A26,'15년일입'!$B$7:$B$1000,'15년위원회별'!$C26) -> 0 | K26: =SUMIFS('15년일입'!$L$7:$L$1000,'15년일입'!$A$7:$A$1000,'15년위원회별'!$A26,'15년일입'!$B$7:$B$1000,'15년위원회별'!$C26) -> 0 | L26: =SUMIFS('15년일입'!$M$7:$M$1000,'15년일입'!$A$7:$A$1000,'15년위원회별'!$A26,'15년일입'!$B$7:$B$1000,'15년위원회별'!$C26) -> 0 | M26: =SUMIFS('15년일입'!$Y$7:$Y$1000,'15년일입'!$A$7:$A$1000,'15년위원회별'!$A26,'15년일입'!$B$7:$B$1000,'15년위원회별'!$C26) -> 0 | N26: =SUMIFS('15년일입'!$Z$7:$Z$1000,'15년일입'!$A$7:$A$1000,'15년위원회별'!$A26,'15년일입'!$B$7:$B$1000,'15년위원회별'!$C26) -> 0 | P26: =SUMIFS('15년일출'!$G$15:$G$1027,'15년일출'!$A$15:$A$1027,'15년위원회별'!$A26,'15년일출'!$B$15:$B$1027,'15년위원회별'!$C26) -> 0 | Q26: =SUMIFS('15년일출'!$H$15:$H$1027,'15년일출'!$A$15:$A$1027,'15년위원회별'!$A26,'15년일출'!$B$15:$B$1027,'15년위원회별'!$C26) -> 0 | R26: =SUMIFS('15년일출'!$I$15:$I$1027,'15년일출'!$A$15:$A$1027,'15년위원회별'!$A26,'15년일출'!$B$15:$B$1027,'15년위원회별'!$C26) -> 0 | S26: =SUMIFS('15년일출'!$J$15:$J$1027,'15년일출'!$A$15:$A$1027,'15년위원회별'!$A26,'15년일출'!$B$15:$B$1027,'15년위원회별'!$C26) -> 0 | T26: =SUMIFS('15년일출'!$T$15:$T$1027,'15년일출'!$A$15:$A$1027,'15년위원회별'!$A26,'15년일출'!$B$15:$B$1027,'15년위원회별'!$C26) -> 0 | U26: =SUMIFS('15년일출'!$U$15:$U$1027,'15년일출'!$A$15:$A$1027,'15년위원회별'!$A26,'15년일출'!$B$15:$B$1027,'15년위원회별'!$C26) -> 0 | V26: =SUMIFS('15년일출'!$K$15:$K$1027,'15년일출'!$A$15:$A$1027,'15년위원회별'!$A26,'15년일출'!$B$15:$B$1027,'15년위원회별'!$C26) -> 0 | W26: =SUMIFS('15년일출'!$L$15:$L$1027,'15년일출'!$A$15:$A$1027,'15년위원회별'!$A26,'15년일출'!$B$15:$B$1027,'15년위원회별'!$C26) -> 0 | X26: =SUMIFS('15년일출'!$M$15:$M$1027,'15년일출'!$A$15:$A$1027,'15년위원회별'!$A26,'15년일출'!$B$15:$B$1027,'15년위원회별'!$C26) -> 0 | Y26: =SUMIFS('15년일출'!$Y$15:$Y$1027,'15년일출'!$A$15:$A$1027,'15년위원회별'!$A26,'15년일출'!$B$15:$B$1027,'15년위원회별'!$C26) -> 0 | Z26: =SUMIFS('15년일출'!$Z$15:$Z$1027,'15년일출'!$A$15:$A$1027,'15년위원회별'!$A26,'15년일출'!$B$15:$B$1027,'15년위원회별'!$C26) -> 0
A27: 농정해양위원회 | C27: 농업기술원 | D27: =SUMIFS('15년일입'!$G$7:$G$1000,'15년일입'!$A$7:$A$1000,'15년위원회별'!$A27,'15년일입'!$B$7:$B$1000,'15년위원회별'!$C27) -> 0 | E27: =SUMIFS('15년일입'!$H$7:$H$1000,'15년일입'!$A$7:$A$1000,'15년위원회별'!$A27,'15년일입'!$B$7:$B$1000,'15년위원회별'!$C27) -> 0 | F27: =SUMIFS('15년일입'!$I$7:$I$1000,'15년일입'!$A$7:$A$1000,'15년위원회별'!$A27,'15년일입'!$B$7:$B$1000,'15년위원회별'!$C27) -> 0 | G27: =SUMIFS('15년일입'!$J$7:$J$1000,'15년일입'!$A$7:$A$1000,'15년위원회별'!$A27,'15년일입'!$B$7:$B$1000,'15년위원회별'!$C27) -> 0 | H27: =SUMIFS('15년일입'!$T$7:$T$1000,'15년일입'!$A$7:$A$1000,'15년위원회별'!$A27,'15년일입'!$B$7:$B$1000,'15년위원회별'!$C27) -> 0 | I27: =SUMIFS('15년일입'!$U$7:$U$1000,'15년일입'!$A$7:$A$1000,'15년위원회별'!$A27,'15년일입'!$B$7:$B$1000,'15년위원회별'!$C27) -> 0 | J27: =SUMIFS('15년일입'!$K$7:$K$1000,'15년일입'!$A$7:$A$1000,'15년위원회별'!$A27,'15년일입'!$B$7:$B$1000,'15년위원회별'!$C27) -> 0 | K27: =SUMIFS('15년일입'!$L$7:$L$1000,'15년일입'!$A$7:$A$1000,'15년위원회별'!$A27,'15년일입'!$B$7:$B$1000,'15년위원회별'!$C27) -> 0 | L27: =SUMIFS('15년일입'!$M$7:$M$1000,'15년일입'!$A$7:$A$1000,'15년위원회별'!$A27,'15년일입'!$B$7:$B$1000,'15년위원회별'!$C27) -> 0 | M27: =SUMIFS('15년일입'!$Y$7:$Y$1000,'15년일입'!$A$7:$A$1000,'15년위원회별'!$A27,'15년일입'!$B$7:$B$1000,'15년위원회별'!$C27) -> 0 | N27: =SUMIFS('15년일입'!$Z$7:$Z$1000,'15년일입'!$A$7:$A$1000,'15년위원회별'!$A27,'15년일입'!$B$7:$B$1000,'15년위원회별'!$C27) -> 0 | P27: =SUMIFS('15년일출'!$G$15:$G$1027,'15년일출'!$A$15:$A$1027,'15년위원회별'!$A27,'15년일출'!$B$15:$B$1027,'15년위원회별'!$C27) -> 0 | Q27: =SUMIFS('15년일출'!$H$15:$H$1027,'15년일출'!$A$15:$A$1027,'15년위원회별'!$A27,'15년일출'!$B$15:$B$1027,'15년위원회별'!$C27) -> 0 | R27: =SUMIFS('15년일출'!$I$15:$I$1027,'15년일출'!$A$15:$A$1027,'15년위원회별'!$A27,'15년일출'!$B$15:$B$1027,'15년위원회별'!$C27) -> 0 | S27: =SUMIFS('15년일출'!$J$15:$J$1027,'15년일출'!$A$15:$A$1027,'15년위원회별'!$A27,'15년일출'!$B$15:$B$1027,'15년위원회별'!$C27) -> 0 | T27: =SUMIFS('15년일출'!$T$15:$T$1027,'15년일출'!$A$15:$A$1027,'15년위원회별'!$A27,'15년일출'!$B$15:$B$1027,'15년위원회별'!$C27) -> 0 | U27: =SUMIFS('15년일출'!$U$15:$U$1027,'15년일출'!$A$15:$A$1027,'15년위원회별'!$A27,'15년일출'!$B$15:$B$1027,'15년위원회별'!$C27) -> 0 | V27: =SUMIFS('15년일출'!$K$15:$K$1027,'15년일출'!$A$15:$A$1027,'15년위원회별'!$A27,'15년일출'!$B$15:$B$1027,'15년위원회별'!$C27) -> 0 | W27: =SUMIFS('15년일출'!$L$15:$L$1027,'15년일출'!$A$15:$A$1027,'15년위원회별'!$A27,'15년일출'!$B$15:$B$1027,'15년위원회별'!$C27) -> 0 | X27: =SUMIFS('15년일출'!$M$15:$M$1027,'15년일출'!$A$15:$A$1027,'15년위원회별'!$A27,'15년일출'!$B$15:$B$1027,'15년위원회별'!$C27) -> 0 | Y27: =SUMIFS('15년일출'!$Y$15:$Y$1027,'15년일출'!$A$15:$A$1027,'15년위원회별'!$A27,'15년일출'!$B$15:$B$1027,'15년위원회별'!$C27) -> 0 | Z27: =SUMIFS('15년일출'!$Z$15:$Z$1027,'15년일출'!$A$15:$A$1027,'15년위원회별'!$A27,'15년일출'!$B$15:$B$1027,'15년위원회별'!$C27) -> 0
B28: 보건복지위원회 | D28: =SUM(D29:D31) -> 0 | E28: =SUM(E29:E31) -> 0 | F28: =SUM(F29:F31) -> 0 | G28: =SUM(G29:G31) -> 0 | H28: =SUM(H29:H31) -> 0 | I28: =SUM(I29:I31) -> 0 | J28: =SUM(J29:J31) -> 0 | K28: =SUM(K29:K31) -> 0 | ... N28: =SUM(N29:N31) -> 0 | P28: =SUM(P29:P31) -> 0 | Q28: =SUM(Q29:Q31) -> 0 | R28: =SUM(R29:R31) -> 0 | S28: =SUM(S29:S31) -> 0 | T28: =SUM(T29:T31) -> 0 | U28: =SUM(U29:U31) -> 0 | V28: =SUM(V29:V31) -> 0 | W28: =SUM(W29:W31) -> 0 | ... Z28: =SUM(Z29:Z31) -> 0
A29: 보건복지위원회 | C29: 보건복지국 | D29: =SUMIFS('15년일입'!$G$7:$G$1000,'15년일입'!$A$7:$A$1000,'15년위원회별'!$A29,'15년일입'!$B$7:$B$1000,'15년위원회별'!$C29) -> 0 | E29: =SUMIFS('15년일입'!$H$7:$H$1000,'15년일입'!$A$7:$A$1000,'15년위원회별'!$A29,'15년일입'!$B$7:$B$1000,'15년위원회별'!$C29) -> 0 | F29: =SUMIFS('15년일입'!$I$7:$I$1000,'15년일입'!$A$7:$A$1000,'15년위원회별'!$A29,'15년일입'!$B$7:$B$1000,'15년위원회별'!$C29) -> 0 | G29: =SUMIFS('15년일입'!$J$7:$J$1000,'15년일입'!$A$7:$A$1000,'15년위원회별'!$A29,'15년일입'!$B$7:$B$1000,'15년위원회별'!$C29) -> 0 | H29: =SUMIFS('15년일입'!$T$7:$T$1000,'15년일입'!$A$7:$A$1000,'15년위원회별'!$A29,'15년일입'!$B$7:$B$1000,'15년위원회별'!$C29) -> 0 | I29: =SUMIFS('15년일입'!$U$7:$U$1000,'15년일입'!$A$7:$A$1000,'15년위원회별'!$A29,'15년일입'!$B$7:$B$1000,'15년위원회별'!$C29) -> 0 | J29: =SUMIFS('15년일입'!$K$7:$K$1000,'15년일입'!$A$7:$A$1000,'15년위원회별'!$A29,'15년일입'!$B$7:$B$1000,'15년위원회별'!$C29) -> 0 | K29: =SUMIFS('15년일입'!$L$7:$L$1000,'15년일입'!$A$7:$A$1000,'15년위원회별'!$A29,'15년일입'!$B$7:$B$1000,'15년위원회별'!$C29) -> 0 | L29: =SUMIFS('15년일입'!$M$7:$M$1000,'15년일입'!$A$7:$A$1000,'15년위원회별'!$A29,'15년일입'!$B$7:$B$1000,'15년위원회별'!$C29) -> 0 | M29: =SUMIFS('15년일입'!$Y$7:$Y$1000,'15년일입'!$A$7:$A$1000,'15년위원회별'!$A29,'15년일입'!$B$7:$B$1000,'15년위원회별'!$C29) -> 0 | N29: =SUMIFS('15년일입'!$Z$7:$Z$1000,'15년일입'!$A$7:$A$1000,'15년위원회별'!$A29,'15년일입'!$B$7:$B$1000,'15년위원회별'!$C29) -> 0 | P29: =SUMIFS('15년일출'!$G$15:$G$1027,'15년일출'!$A$15:$A$1027,'15년위원회별'!$A29,'15년일출'!$B$15:$B$1027,'15년위원회별'!$C29) -> 0 | Q29: =SUMIFS('15년일출'!$H$15:$H$1027,'15년일출'!$A$15:$A$1027,'15년위원회별'!$A29,'15년일출'!$B$15:$B$1027,'15년위원회별'!$C29) -> 0 | R29: =SUMIFS('15년일출'!$I$15:$I$1027,'15년일출'!$A$15:$A$1027,'15년위원회별'!$A29,'15년일출'!$B$15:$B$1027,'15년위원회별'!$C29) -> 0 | S29: =SUMIFS('15년일출'!$J$15:$J$1027,'15년일출'!$A$15:$A$1027,'15년위원회별'!$A29,'15년일출'!$B$15:$B$1027,'15년위원회별'!$C29) -> 0 | T29: =SUMIFS('15년일출'!$T$15:$T$1027,'15년일출'!$A$15:$A$1027,'15년위원회별'!$A29,'15년일출'!$B$15:$B$1027,'15년위원회별'!$C29) -> 0 | U29: =SUMIFS('15년일출'!$U$15:$U$1027,'15년일출'!$A$15:$A$1027,'15년위원회별'!$A29,'15년일출'!$B$15:$B$1027,'15년위원회별'!$C29) -> 0 | V29: =SUMIFS('15년일출'!$K$15:$K$1027,'15년일출'!$A$15:$A$1027,'15년위원회별'!$A29,'15년일출'!$B$15:$B$1027,'15년위원회별'!$C29) -> 0 | W29: =SUMIFS('15년일출'!$L$15:$L$1027,'15년일출'!$A$15:$A$1027,'15년위원회별'!$A29,'15년일출'!$B$15:$B$1027,'15년위원회별'!$C29) -> 0 | X29: =SUMIFS('15년일출'!$M$15:$M$1027,'15년일출'!$A$15:$A$1027,'15년위원회별'!$A29,'15년일출'!$B$15:$B$1027,'15년위원회별'!$C29) -> 0 | Y29: =SUMIFS('15년일출'!$Y$15:$Y$1027,'15년일출'!$A$15:$A$1027,'15년위원회별'!$A29,'15년일출'!$B$15:$B$1027,'15년위원회별'!$C29) -> 0 | Z29: =SUMIFS('15년일출'!$Z$15:$Z$1027,'15년일출'!$A$15:$A$1027,'15년위원회별'!$A29,'15년일출'!$B$15:$B$1027,'15년위원회별'!$C29) -> 0
A30: 보건복지위원회 | C30: 복지여성실 | D30: =SUMIFS('15년일입'!$G$7:$G$1000,'15년일입'!$A$7:$A$1000,'15년위원회별'!$A30,'15년일입'!$B$7:$B$1000,'15년위원회별'!$C30) -> 0 | E30: =SUMIFS('15년일입'!$H$7:$H$1000,'15년일입'!$A$7:$A$1000,'15년위원회별'!$A30,'15년일입'!$B$7:$B$1000,'15년위원회별'!$C30) -> 0 | F30: =SUMIFS('15년일입'!$I$7:$I$1000,'15년일입'!$A$7:$A$1000,'15년위원회별'!$A30,'15년일입'!$B$7:$B$1000,'15년위원회별'!$C30) -> 0 | G30: =SUMIFS('15년일입'!$J$7:$J$1000,'15년일입'!$A$7:$A$1000,'15년위원회별'!$A30,'15년일입'!$B$7:$B$1000,'15년위원회별'!$C30) -> 0 | H30: =SUMIFS('15년일입'!$T$7:$T$1000,'15년일입'!$A$7:$A$1000,'15년위원회별'!$A30,'15년일입'!$B$7:$B$1000,'15년위원회별'!$C30) -> 0 | I30: =SUMIFS('15년일입'!$U$7:$U$1000,'15년일입'!$A$7:$A$1000,'15년위원회별'!$A30,'15년일입'!$B$7:$B$1000,'15년위원회별'!$C30) -> 0 | J30: =SUMIFS('15년일입'!$K$7:$K$1000,'15년일입'!$A$7:$A$1000,'15년위원회별'!$A30,'15년일입'!$B$7:$B$1000,'15년위원회별'!$C30) -> 0 | K30: =SUMIFS('15년일입'!$L$7:$L$1000,'15년일입'!$A$7:$A$1000,'15년위원회별'!$A30,'15년일입'!$B$7:$B$1000,'15년위원회별'!$C30) -> 0 | L30: =SUMIFS('15년일입'!$M$7:$M$1000,'15년일입'!$A$7:$A$1000,'15년위원회별'!$A30,'15년일입'!$B$7:$B$1000,'15년위원회별'!$C30) -> 0 | M30: =SUMIFS('15년일입'!$Y$7:$Y$1000,'15년일입'!$A$7:$A$1000,'15년위원회별'!$A30,'15년일입'!$B$7:$B$1000,'15년위원회별'!$C30) -> 0 | N30: =SUMIFS('15년일입'!$Z$7:$Z$1000,'15년일입'!$A$7:$A$1000,'15년위원회별'!$A30,'15년일입'!$B$7:$B$1000,'15년위원회별'!$C30) -> 0 | P30: =SUMIFS('15년일출'!$G$15:$G$1027,'15년일출'!$A$15:$A$1027,'15년위원회별'!$A30,'15년일출'!$B$15:$B$1027,'15년위원회별'!$C30) -> 0 | Q30: =SUMIFS('15년일출'!$H$15:$H$1027,'15년일출'!$A$15:$A$1027,'15년위원회별'!$A30,'15년일출'!$B$15:$B$1027,'15년위원회별'!$C30) -> 0 | R30: =SUMIFS('15년일출'!$I$15:$I$1027,'15년일출'!$A$15:$A$1027,'15년위원회별'!$A30,'15년일출'!$B$15:$B$1027,'15년위원회별'!$C30) -> 0 | S30: =SUMIFS('15년일출'!$J$15:$J$1027,'15년일출'!$A$15:$A$1027,'15년위원회별'!$A30,'15년일출'!$B$15:$B$1027,'15년위원회별'!$C30) -> 0 | T30: =SUMIFS('15년일출'!$T$15:$T$1027,'15년일출'!$A$15:$A$1027,'15년위원회별'!$A30,'15년일출'!$B$15:$B$1027,'15년위원회별'!$C30) -> 0 | U30: =SUMIFS('15년일출'!$U$15:$U$1027,'15년일출'!$A$15:$A$1027,'15년위원회별'!$A30,'15년일출'!$B$15:$B$1027,'15년위원회별'!$C30) -> 0 | V30: =SUMIFS('15년일출'!$K$15:$K$1027,'15년일출'!$A$15:$A$1027,'15년위원회별'!$A30,'15년일출'!$B$15:$B$1027,'15년위원회별'!$C30) -> 0 | W30: =SUMIFS('15년일출'!$L$15:$L$1027,'15년일출'!$A$15:$A$1027,'15년위원회별'!$A30,'15년일출'!$B$15:$B$1027,'15년위원회별'!$C30) -> 0 | X30: =SUMIFS('15년일출'!$M$15:$M$1027,'15년일출'!$A$15:$A$1027,'15년위원회별'!$A30,'15년일출'!$B$15:$B$1027,'15년위원회별'!$C30) -> 0 | Y30: =SUMIFS('15년일출'!$Y$15:$Y$1027,'15년일출'!$A$15:$A$1027,'15년위원회별'!$A30,'15년일출'!$B$15:$B$1027,'15년위원회별'!$C30) -> 0 | Z30: =SUMIFS('15년일출'!$Z$15:$Z$1027,'15년일출'!$A$15:$A$1027,'15년위원회별'!$A30,'15년일출'!$B$15:$B$1027,'15년위원회별'!$C30) -> 0
A31: 보건복지위원회 | C31: 보건환경연구원 | D31: =SUMIFS('15년일입'!$G$7:$G$1000,'15년일입'!$A$7:$A$1000,'15년위원회별'!$A31,'15년일입'!$B$7:$B$1000,'15년위원회별'!$C31) -> 0 | E31: =SUMIFS('15년일입'!$H$7:$H$1000,'15년일입'!$A$7:$A$1000,'15년위원회별'!$A31,'15년일입'!$B$7:$B$1000,'15년위원회별'!$C31) -> 0 | F31: =SUMIFS('15년일입'!$I$7:$I$1000,'15년일입'!$A$7:$A$1000,'15년위원회별'!$A31,'15년일입'!$B$7:$B$1000,'15년위원회별'!$C31) -> 0 | G31: =SUMIFS('15년일입'!$J$7:$J$1000,'15년일입'!$A$7:$A$1000,'15년위원회별'!$A31,'15년일입'!$B$7:$B$1000,'15년위원회별'!$C31) -> 0 | H31: =SUMIFS('15년일입'!$T$7:$T$1000,'15년일입'!$A$7:$A$1000,'15년위원회별'!$A31,'15년일입'!$B$7:$B$1000,'15년위원회별'!$C31) -> 0 | I31: =SUMIFS('15년일입'!$U$7:$U$1000,'15년일입'!$A$7:$A$1000,'15년위원회별'!$A31,'15년일입'!$B$7:$B$1000,'15년위원회별'!$C31) -> 0 | J31: =SUMIFS('15년일입'!$K$7:$K$1000,'15년일입'!$A$7:$A$1000,'15년위원회별'!$A31,'15년일입'!$B$7:$B$1000,'15년위원회별'!$C31) -> 0 | K31: =SUMIFS('15년일입'!$L$7:$L$1000,'15년일입'!$A$7:$A$1000,'15년위원회별'!$A31,'15년일입'!$B$7:$B$1000,'15년위원회별'!$C31) -> 0 | L31: =SUMIFS('15년일입'!$M$7:$M$1000,'15년일입'!$A$7:$A$1000,'15년위원회별'!$A31,'15년일입'!$B$7:$B$1000,'15년위원회별'!$C31) -> 0 | M31: =SUMIFS('15년일입'!$Y$7:$Y$1000,'15년일입'!$A$7:$A$1000,'15년위원회별'!$A31,'15년일입'!$B$7:$B$1000,'15년위원회별'!$C31) -> 0 | N31: =SUMIFS('15년일입'!$Z$7:$Z$1000,'15년일입'!$A$7:$A$1000,'15년위원회별'!$A31,'15년일입'!$B$7:$B$1000,'15년위원회별'!$C31) -> 0 | P31: =SUMIFS('15년일출'!$G$15:$G$1027,'15년일출'!$A$15:$A$1027,'15년위원회별'!$A31,'15년일출'!$B$15:$B$1027,'15년위원회별'!$C31) -> 0 | Q31: =SUMIFS('15년일출'!$H$15:$H$1027,'15년일출'!$A$15:$A$1027,'15년위원회별'!$A31,'15년일출'!$B$15:$B$1027,'15년위원회별'!$C31) -> 0 | R31: =SUMIFS('15년일출'!$I$15:$I$1027,'15년일출'!$A$15:$A$1027,'15년위원회별'!$A31,'15년일출'!$B$15:$B$1027,'15년위원회별'!$C31) -> 0 | S31: =SUMIFS('15년일출'!$J$15:$J$1027,'15년일출'!$A$15:$A$1027,'15년위원회별'!$A31,'15년일출'!$B$15:$B$1027,'15년위원회별'!$C31) -> 0 | T31: =SUMIFS('15년일출'!$T$15:$T$1027,'15년일출'!$A$15:$A$1027,'15년위원회별'!$A31,'15년일출'!$B$15:$B$1027,'15년위원회별'!$C31) -> 0 | U31: =SUMIFS('15년일출'!$U$15:$U$1027,'15년일출'!$A$15:$A$1027,'15년위원회별'!$A31,'15년일출'!$B$15:$B$1027,'15년위원회별'!$C31) -> 0 | V31: =SUMIFS('15년일출'!$K$15:$K$1027,'15년일출'!$A$15:$A$1027,'15년위원회별'!$A31,'15년일출'!$B$15:$B$1027,'15년위원회별'!$C31) -> 0 | W31: =SUMIFS('15년일출'!$L$15:$L$1027,'15년일출'!$A$15:$A$1027,'15년위원회별'!$A31,'15년일출'!$B$15:$B$1027,'15년위원회별'!$C31) -> 0 | X31: =SUMIFS('15년일출'!$M$15:$M$1027,'15년일출'!$A$15:$A$1027,'15년위원회별'!$A31,'15년일출'!$B$15:$B$1027,'15년위원회별'!$C31) -> 0 | Y31: =SUMIFS('15년일출'!$Y$15:$Y$1027,'15년일출'!$A$15:$A$1027,'15년위원회별'!$A31,'15년일출'!$B$15:$B$1027,'15년위원회별'!$C31) -> 0 | Z31: =SUMIFS('15년일출'!$Z$15:$Z$1027,'15년일출'!$A$15:$A$1027,'15년위원회별'!$A31,'15년일출'!$B$15:$B$1027,'15년위원회별'!$C31) -> 0
B32: 건설교통위원회 | D32: =SUM(D33:D36) -> 0 | E32: =SUM(E33:E36) -> 0 | F32: =SUM(F33:F36) -> 0 | G32: =SUM(G33:G36) -> 0 | H32: =SUM(H33:H36) -> 0 | I32: =SUM(I33:I36) -> 0 | J32: =SUM(J33:J36) -> 0 | K32: =SUM(K33:K36) -> 0 | ... N32: =SUM(N33:N36) -> 0 | P32: =SUM(P33:P36) -> 96233420 | Q32: =SUM(Q33:Q36) -> -5271380 | R32: =SUM(R33:R36) -> 24269500 | S32: =SUM(S33:S36) -> 115231540 | T32: =SUM(T33:T36) -> 0 | U32: =SUM(U33:U36) -> 60000 | V32: =SUM(V33:V36) -> 0 | W32: =SUM(W33:W36) -> 0 | ... Z32: =SUM(Z33:Z36) -> 0
A33: 건설교통위원회 | C33: 철도국 | D33: =SUMIFS('15년일입'!$G$7:$G$1000,'15년일입'!$A$7:$A$1000,'15년위원회별'!$A33,'15년일입'!$B$7:$B$1000,'15년위원회별'!$C33) -> 0 | E33: =SUMIFS('15년일입'!$H$7:$H$1000,'15년일입'!$A$7:$A$1000,'15년위원회별'!$A33,'15년일입'!$B$7:$B$1000,'15년위원회별'!$C33) -> 0 | F33: =SUMIFS('15년일입'!$I$7:$I$1000,'15년일입'!$A$7:$A$1000,'15년위원회별'!$A33,'15년일입'!$B$7:$B$1000,'15년위원회별'!$C33) -> 0 | G33: =SUMIFS('15년일입'!$J$7:$J$1000,'15년일입'!$A$7:$A$1000,'15년위원회별'!$A33,'15년일입'!$B$7:$B$1000,'15년위원회별'!$C33) -> 0 | H33: =SUMIFS('15년일입'!$T$7:$T$1000,'15년일입'!$A$7:$A$1000,'15년위원회별'!$A33,'15년일입'!$B$7:$B$1000,'15년위원회별'!$C33) -> 0 | I33: =SUMIFS('15년일입'!$U$7:$U$1000,'15년일입'!$A$7:$A$1000,'15년위원회별'!$A33,'15년일입'!$B$7:$B$1000,'15년위원회별'!$C33) -> 0 | J33: =SUMIFS('15년일입'!$K$7:$K$1000,'15년일입'!$A$7:$A$1000,'15년위원회별'!$A33,'15년일입'!$B$7:$B$1000,'15년위원회별'!$C33) -> 0 | K33: =SUMIFS('15년일입'!$L$7:$L$1000,'15년일입'!$A$7:$A$1000,'15년위원회별'!$A33,'15년일입'!$B$7:$B$1000,'15년위원회별'!$C33) -> 0 | L33: =SUMIFS('15년일입'!$M$7:$M$1000,'15년일입'!$A$7:$A$1000,'15년위원회별'!$A33,'15년일입'!$B$7:$B$1000,'15년위원회별'!$C33) -> 0 | M33: =SUMIFS('15년일입'!$Y$7:$Y$1000,'15년일입'!$A$7:$A$1000,'15년위원회별'!$A33,'15년일입'!$B$7:$B$1000,'15년위원회별'!$C33) -> 0 | N33: =SUMIFS('15년일입'!$Z$7:$Z$1000,'15년일입'!$A$7:$A$1000,'15년위원회별'!$A33,'15년일입'!$B$7:$B$1000,'15년위원회별'!$C33) -> 0 | P33: =SUMIFS('15년일출'!$G$15:$G$1027,'15년일출'!$A$15:$A$1027,'15년위원회별'!$A33,'15년일출'!$B$15:$B$1027,'15년위원회별'!$C33) -> 0 | Q33: =SUMIFS('15년일출'!$H$15:$H$1027,'15년일출'!$A$15:$A$1027,'15년위원회별'!$A33,'15년일출'!$B$15:$B$1027,'15년위원회별'!$C33) -> 0 | R33: =SUMIFS('15년일출'!$I$15:$I$1027,'15년일출'!$A$15:$A$1027,'15년위원회별'!$A33,'15년일출'!$B$15:$B$1027,'15년위원회별'!$C33) -> 0 | S33: =SUMIFS('15년일출'!$J$15:$J$1027,'15년일출'!$A$15:$A$1027,'15년위원회별'!$A33,'15년일출'!$B$15:$B$1027,'15년위원회별'!$C33) -> 0 | T33: =SUMIFS('15년일출'!$T$15:$T$1027,'15년일출'!$A$15:$A$1027,'15년위원회별'!$A33,'15년일출'!$B$15:$B$1027,'15년위원회별'!$C33) -> 0 | U33: =SUMIFS('15년일출'!$U$15:$U$1027,'15년일출'!$A$15:$A$1027,'15년위원회별'!$A33,'15년일출'!$B$15:$B$1027,'15년위원회별'!$C33) -> 0 | V33: =SUMIFS('15년일출'!$K$15:$K$1027,'15년일출'!$A$15:$A$1027,'15년위원회별'!$A33,'15년일출'!$B$15:$B$1027,'15년위원회별'!$C33) -> 0 | W33: =SUMIFS('15년일출'!$L$15:$L$1027,'15년일출'!$A$15:$A$1027,'15년위원회별'!$A33,'15년일출'!$B$15:$B$1027,'15년위원회별'!$C33) -> 0 | X33: =SUMIFS('15년일출'!$M$15:$M$1027,'15년일출'!$A$15:$A$1027,'15년위원회별'!$A33,'15년일출'!$B$15:$B$1027,'15년위원회별'!$C33) -> 0 | Y33: =SUMIFS('15년일출'!$Y$15:$Y$1027,'15년일출'!$A$15:$A$1027,'15년위원회별'!$A33,'15년일출'!$B$15:$B$1027,'15년위원회별'!$C33) -> 0 | Z33: =SUMIFS('15년일출'!$Z$15:$Z$1027,'15년일출'!$A$15:$A$1027,'15년위원회별'!$A33,'15년일출'!$B$15:$B$1027,'15년위원회별'!$C33) -> 0
A34: 건설교통위원회 | C34: 교통국 | D34: =SUMIFS('15년일입'!$G$7:$G$1000,'15년일입'!$A$7:$A$1000,'15년위원회별'!$A34,'15년일입'!$B$7:$B$1000,'15년위원회별'!$C34) -> 0 | E34: =SUMIFS('15년일입'!$H$7:$H$1000,'15년일입'!$A$7:$A$1000,'15년위원회별'!$A34,'15년일입'!$B$7:$B$1000,'15년위원회별'!$C34) -> 0 | F34: =SUMIFS('15년일입'!$I$7:$I$1000,'15년일입'!$A$7:$A$1000,'15년위원회별'!$A34,'15년일입'!$B$7:$B$1000,'15년위원회별'!$C34) -> 0 | G34: =SUMIFS('15년일입'!$J$7:$J$1000,'15년일입'!$A$7:$A$1000,'15년위원회별'!$A34,'15년일입'!$B$7:$B$1000,'15년위원회별'!$C34) -> 0 | H34: =SUMIFS('15년일입'!$T$7:$T$1000,'15년일입'!$A$7:$A$1000,'15년위원회별'!$A34,'15년일입'!$B$7:$B$1000,'15년위원회별'!$C34) -> 0 | I34: =SUMIFS('15년일입'!$U$7:$U$1000,'15년일입'!$A$7:$A$1000,'15년위원회별'!$A34,'15년일입'!$B$7:$B$1000,'15년위원회별'!$C34) -> 0 | J34: =SUMIFS('15년일입'!$K$7:$K$1000,'15년일입'!$A$7:$A$1000,'15년위원회별'!$A34,'15년일입'!$B$7:$B$1000,'15년위원회별'!$C34) -> 0 | K34: =SUMIFS('15년일입'!$L$7:$L$1000,'15년일입'!$A$7:$A$1000,'15년위원회별'!$A34,'15년일입'!$B$7:$B$1000,'15년위원회별'!$C34) -> 0 | L34: =SUMIFS('15년일입'!$M$7:$M$1000,'15년일입'!$A$7:$A$1000,'15년위원회별'!$A34,'15년일입'!$B$7:$B$1000,'15년위원회별'!$C34) -> 0 | M34: =SUMIFS('15년일입'!$Y$7:$Y$1000,'15년일입'!$A$7:$A$1000,'15년위원회별'!$A34,'15년일입'!$B$7:$B$1000,'15년위원회별'!$C34) -> 0 | N34: =SUMIFS('15년일입'!$Z$7:$Z$1000,'15년일입'!$A$7:$A$1000,'15년위원회별'!$A34,'15년일입'!$B$7:$B$1000,'15년위원회별'!$C34) -> 0 | P34: =SUMIFS('15년일출'!$G$15:$G$1027,'15년일출'!$A$15:$A$1027,'15년위원회별'!$A34,'15년일출'!$B$15:$B$1027,'15년위원회별'!$C34) -> 1356920 | Q34: =SUMIFS('15년일출'!$H$15:$H$1027,'15년일출'!$A$15:$A$1027,'15년위원회별'!$A34,'15년일출'!$B$15:$B$1027,'15년위원회별'!$C34) -> -271380 | R34: =SUMIFS('15년일출'!$I$15:$I$1027,'15년일출'!$A$15:$A$1027,'15년위원회별'!$A34,'15년일출'!$B$15:$B$1027,'15년위원회별'!$C34) -> 0 | S34: =SUMIFS('15년일출'!$J$15:$J$1027,'15년일출'!$A$15:$A$1027,'15년위원회별'!$A34,'15년일출'!$B$15:$B$1027,'15년위원회별'!$C34) -> 1085540 | T34: =SUMIFS('15년일출'!$T$15:$T$1027,'15년일출'!$A$15:$A$1027,'15년위원회별'!$A34,'15년일출'!$B$15:$B$1027,'15년위원회별'!$C34) -> 0 | U34: =SUMIFS('15년일출'!$U$15:$U$1027,'15년일출'!$A$15:$A$1027,'15년위원회별'!$A34,'15년일출'!$B$15:$B$1027,'15년위원회별'!$C34) -> 60000 | V34: =SUMIFS('15년일출'!$K$15:$K$1027,'15년일출'!$A$15:$A$1027,'15년위원회별'!$A34,'15년일출'!$B$15:$B$1027,'15년위원회별'!$C34) -> 0 | W34: =SUMIFS('15년일출'!$L$15:$L$1027,'15년일출'!$A$15:$A$1027,'15년위원회별'!$A34,'15년일출'!$B$15:$B$1027,'15년위원회별'!$C34) -> 0 | X34: =SUMIFS('15년일출'!$M$15:$M$1027,'15년일출'!$A$15:$A$1027,'15년위원회별'!$A34,'15년일출'!$B$15:$B$1027,'15년위원회별'!$C34) -> 367000 | Y34: =SUMIFS('15년일출'!$Y$15:$Y$1027,'15년일출'!$A$15:$A$1027,'15년위원회별'!$A34,'15년일출'!$B$15:$B$1027,'15년위원회별'!$C34) -> 0 | Z34: =SUMIFS('15년일출'!$Z$15:$Z$1027,'15년일출'!$A$15:$A$1027,'15년위원회별'!$A34,'15년일출'!$B$15:$B$1027,'15년위원회별'!$C34) -> 0
A35: 건설교통위원회 | C35: 건설국 | D35: =SUMIFS('15년일입'!$G$7:$G$1000,'15년일입'!$A$7:$A$1000,'15년위원회별'!$A35,'15년일입'!$B$7:$B$1000,'15년위원회별'!$C35) -> 0 | E35: =SUMIFS('15년일입'!$H$7:$H$1000,'15년일입'!$A$7:$A$1000,'15년위원회별'!$A35,'15년일입'!$B$7:$B$1000,'15년위원회별'!$C35) -> 0 | F35: =SUMIFS('15년일입'!$I$7:$I$1000,'15년일입'!$A$7:$A$1000,'15년위원회별'!$A35,'15년일입'!$B$7:$B$1000,'15년위원회별'!$C35) -> 0 | G35: =SUMIFS('15년일입'!$J$7:$J$1000,'15년일입'!$A$7:$A$1000,'15년위원회별'!$A35,'15년일입'!$B$7:$B$1000,'15년위원회별'!$C35) -> 0 | H35: =SUMIFS('15년일입'!$T$7:$T$1000,'15년일입'!$A$7:$A$1000,'15년위원회별'!$A35,'15년일입'!$B$7:$B$1000,'15년위원회별'!$C35) -> 0 | I35: =SUMIFS('15년일입'!$U$7:$U$1000,'15년일입'!$A$7:$A$1000,'15년위원회별'!$A35,'15년일입'!$B$7:$B$1000,'15년위원회별'!$C35) -> 0 | J35: =SUMIFS('15년일입'!$K$7:$K$1000,'15년일입'!$A$7:$A$1000,'15년위원회별'!$A35,'15년일입'!$B$7:$B$1000,'15년위원회별'!$C35) -> 0 | K35: =SUMIFS('15년일입'!$L$7:$L$1000,'15년일입'!$A$7:$A$1000,'15년위원회별'!$A35,'15년일입'!$B$7:$B$1000,'15년위원회별'!$C35) -> 0 | L35: =SUMIFS('15년일입'!$M$7:$M$1000,'15년일입'!$A$7:$A$1000,'15년위원회별'!$A35,'15년일입'!$B$7:$B$1000,'15년위원회별'!$C35) -> 0 | M35: =SUMIFS('15년일입'!$Y$7:$Y$1000,'15년일입'!$A$7:$A$1000,'15년위원회별'!$A35,'15년일입'!$B$7:$B$1000,'15년위원회별'!$C35) -> 0 | N35: =SUMIFS('15년일입'!$Z$7:$Z$1000,'15년일입'!$A$7:$A$1000,'15년위원회별'!$A35,'15년일입'!$B$7:$B$1000,'15년위원회별'!$C35) -> 0 | P35: =SUMIFS('15년일출'!$G$15:$G$1027,'15년일출'!$A$15:$A$1027,'15년위원회별'!$A35,'15년일출'!$B$15:$B$1027,'15년위원회별'!$C35) -> 53890000 | Q35: =SUMIFS('15년일출'!$H$15:$H$1027,'15년일출'!$A$15:$A$1027,'15년위원회별'!$A35,'15년일출'!$B$15:$B$1027,'15년위원회별'!$C35) -> -5000000 | R35: =SUMIFS('15년일출'!$I$15:$I$1027,'15년일출'!$A$15:$A$1027,'15년위원회별'!$A35,'15년일출'!$B$15:$B$1027,'15년위원회별'!$C35) -> 18400000 | S35: =SUMIFS('15년일출'!$J$15:$J$1027,'15년일출'!$A$15:$A$1027,'15년위원회별'!$A35,'15년일출'!$B$15:$B$1027,'15년위원회별'!$C35) -> 67290000 | T35: =SUMIFS('15년일출'!$T$15:$T$1027,'15년일출'!$A$15:$A$1027,'15년위원회별'!$A35,'15년일출'!$B$15:$B$1027,'15년위원회별'!$C35) -> 0 | U35: =SUMIFS('15년일출'!$U$15:$U$1027,'15년일출'!$A$15:$A$1027,'15년위원회별'!$A35,'15년일출'!$B$15:$B$1027,'15년위원회별'!$C35) -> 0 | V35: =SUMIFS('15년일출'!$K$15:$K$1027,'15년일출'!$A$15:$A$1027,'15년위원회별'!$A35,'15년일출'!$B$15:$B$1027,'15년위원회별'!$C35) -> 0 | W35: =SUMIFS('15년일출'!$L$15:$L$1027,'15년일출'!$A$15:$A$1027,'15년위원회별'!$A35,'15년일출'!$B$15:$B$1027,'15년위원회별'!$C35) -> 0 | X35: =SUMIFS('15년일출'!$M$15:$M$1027,'15년일출'!$A$15:$A$1027,'15년위원회별'!$A35,'15년일출'!$B$15:$B$1027,'15년위원회별'!$C35) -> 0 | Y35: =SUMIFS('15년일출'!$Y$15:$Y$1027,'15년일출'!$A$15:$A$1027,'15년위원회별'!$A35,'15년일출'!$B$15:$B$1027,'15년위원회별'!$C35) -> 0 | Z35: =SUMIFS('15년일출'!$Z$15:$Z$1027,'15년일출'!$A$15:$A$1027,'15년위원회별'!$A35,'15년일출'!$B$15:$B$1027,'15년위원회별'!$C35) -> 0
A36: 건설교통위원회 | C36: 건설본부 | D36: =SUMIFS('15년일입'!$G$7:$G$1000,'15년일입'!$A$7:$A$1000,'15년위원회별'!$A36,'15년일입'!$B$7:$B$1000,'15년위원회별'!$C36) -> 0 | E36: =SUMIFS('15년일입'!$H$7:$H$1000,'15년일입'!$A$7:$A$1000,'15년위원회별'!$A36,'15년일입'!$B$7:$B$1000,'15년위원회별'!$C36) -> 0 | F36: =SUMIFS('15년일입'!$I$7:$I$1000,'15년일입'!$A$7:$A$1000,'15년위원회별'!$A36,'15년일입'!$B$7:$B$1000,'15년위원회별'!$C36) -> 0 | G36: =SUMIFS('15년일입'!$J$7:$J$1000,'15년일입'!$A$7:$A$1000,'15년위원회별'!$A36,'15년일입'!$B$7:$B$1000,'15년위원회별'!$C36) -> 0 | H36: =SUMIFS('15년일입'!$T$7:$T$1000,'15년일입'!$A$7:$A$1000,'15년위원회별'!$A36,'15년일입'!$B$7:$B$1000,'15년위원회별'!$C36) -> 0 | I36: =SUMIFS('15년일입'!$U$7:$U$1000,'15년일입'!$A$7:$A$1000,'15년위원회별'!$A36,'15년일입'!$B$7:$B$1000,'15년위원회별'!$C36) -> 0 | J36: =SUMIFS('15년일입'!$K$7:$K$1000,'15년일입'!$A$7:$A$1000,'15년위원회별'!$A36,'15년일입'!$B$7:$B$1000,'15년위원회별'!$C36) -> 0 | K36: =SUMIFS('15년일입'!$L$7:$L$1000,'15년일입'!$A$7:$A$1000,'15년위원회별'!$A36,'15년일입'!$B$7:$B$1000,'15년위원회별'!$C36) -> 0 | L36: =SUMIFS('15년일입'!$M$7:$M$1000,'15년일입'!$A$7:$A$1000,'15년위원회별'!$A36,'15년일입'!$B$7:$B$1000,'15년위원회별'!$C36) -> 0 | M36: =SUMIFS('15년일입'!$Y$7:$Y$1000,'15년일입'!$A$7:$A$1000,'15년위원회별'!$A36,'15년일입'!$B$7:$B$1000,'15년위원회별'!$C36) -> 0 | N36: =SUMIFS('15년일입'!$Z$7:$Z$1000,'15년일입'!$A$7:$A$1000,'15년위원회별'!$A36,'15년일입'!$B$7:$B$1000,'15년위원회별'!$C36) -> 0 | P36: =SUMIFS('15년일출'!$G$15:$G$1027,'15년일출'!$A$15:$A$1027,'15년위원회별'!$A36,'15년일출'!$B$15:$B$1027,'15년위원회별'!$C36) -> 40986500 | Q36: =SUMIFS('15년일출'!$H$15:$H$1027,'15년일출'!$A$15:$A$1027,'15년위원회별'!$A36,'15년일출'!$B$15:$B$1027,'15년위원회별'!$C36) -> 0 | R36: =SUMIFS('15년일출'!$I$15:$I$1027,'15년일출'!$A$15:$A$1027,'15년위원회별'!$A36,'15년일출'!$B$15:$B$1027,'15년위원회별'!$C36) -> 5869500 | S36: =SUMIFS('15년일출'!$J$15:$J$1027,'15년일출'!$A$15:$A$1027,'15년위원회별'!$A36,'15년일출'!$B$15:$B$1027,'15년위원회별'!$C36) -> 46856000 | T36: =SUMIFS('15년일출'!$T$15:$T$1027,'15년일출'!$A$15:$A$1027,'15년위원회별'!$A36,'15년일출'!$B$15:$B$1027,'15년위원회별'!$C36) -> 0 | U36: =SUMIFS('15년일출'!$U$15:$U$1027,'15년일출'!$A$15:$A$1027,'15년위원회별'!$A36,'15년일출'!$B$15:$B$1027,'15년위원회별'!$C36) -> 0 | V36: =SUMIFS('15년일출'!$K$15:$K$1027,'15년일출'!$A$15:$A$1027,'15년위원회별'!$A36,'15년일출'!$B$15:$B$1027,'15년위원회별'!$C36) -> 0 | W36: =SUMIFS('15년일출'!$L$15:$L$1027,'15년일출'!$A$15:$A$1027,'15년위원회별'!$A36,'15년일출'!$B$15:$B$1027,'15년위원회별'!$C36) -> 0 | X36: =SUMIFS('15년일출'!$M$15:$M$1027,'15년일출'!$A$15:$A$1027,'15년위원회별'!$A36,'15년일출'!$B$15:$B$1027,'15년위원회별'!$C36) -> 21000000 | Y36: =SUMIFS('15년일출'!$Y$15:$Y$1027,'15년일출'!$A$15:$A$1027,'15년위원회별'!$A36,'15년일출'!$B$15:$B$1027,'15년위원회별'!$C36) -> 0 | Z36: =SUMIFS('15년일출'!$Z$15:$Z$1027,'15년일출'!$A$15:$A$1027,'15년위원회별'!$A36,'15년일출'!$B$15:$B$1027,'15년위원회별'!$C36) -> 0
B37: 도시환경위원회 | D37: =SUM(D38:D42) -> 0 | E37: =SUM(E38:E42) -> 0 | F37: =SUM(F38:F42) -> 0 | G37: =SUM(G38:G42) -> 0 | H37: =SUM(H38:H42) -> 0 | I37: =SUM(I38:I42) -> 0 | J37: =SUM(J38:J42) -> 0 | K37: =SUM(K38:K42) -> 0 | ... N37: =SUM(N38:N42) -> 0 | P37: =SUM(P38:P42) -> 0 | Q37: =SUM(Q38:Q42) -> 0 | R37: =SUM(R38:R42) -> 0 | S37: =SUM(S38:S42) -> 0 | T37: =SUM(T38:T42) -> 0 | U37: =SUM(U38:U42) -> 0 | V37: =SUM(V38:V42) -> 0 | W37: =SUM(W38:W42) -> 0 | ... Z37: =SUM(Z38:Z42) -> 0
A38: 도시환경위원회 | C38: 도시주택실 | D38: =SUMIFS('15년일입'!$G$7:$G$1000,'15년일입'!$A$7:$A$1000,'15년위원회별'!$A38,'15년일입'!$B$7:$B$1000,'15년위원회별'!$C38) -> 0 | E38: =SUMIFS('15년일입'!$H$7:$H$1000,'15년일입'!$A$7:$A$1000,'15년위원회별'!$A38,'15년일입'!$B$7:$B$1000,'15년위원회별'!$C38) -> 0 | F38: =SUMIFS('15년일입'!$I$7:$I$1000,'15년일입'!$A$7:$A$1000,'15년위원회별'!$A38,'15년일입'!$B$7:$B$1000,'15년위원회별'!$C38) -> 0 | G38: =SUMIFS('15년일입'!$J$7:$J$1000,'15년일입'!$A$7:$A$1000,'15년위원회별'!$A38,'15년일입'!$B$7:$B$1000,'15년위원회별'!$C38) -> 0 | H38: =SUMIFS('15년일입'!$T$7:$T$1000,'15년일입'!$A$7:$A$1000,'15년위원회별'!$A38,'15년일입'!$B$7:$B$1000,'15년위원회별'!$C38) -> 0 | I38: =SUMIFS('15년일입'!$U$7:$U$1000,'15년일입'!$A$7:$A$1000,'15년위원회별'!$A38,'15년일입'!$B$7:$B$1000,'15년위원회별'!$C38) -> 0 | J38: =SUMIFS('15년일입'!$K$7:$K$1000,'15년일입'!$A$7:$A$1000,'15년위원회별'!$A38,'15년일입'!$B$7:$B$1000,'15년위원회별'!$C38) -> 0 | K38: =SUMIFS('15년일입'!$L$7:$L$1000,'15년일입'!$A$7:$A$1000,'15년위원회별'!$A38,'15년일입'!$B$7:$B$1000,'15년위원회별'!$C38) -> 0 | L38: =SUMIFS('15년일입'!$M$7:$M$1000,'15년일입'!$A$7:$A$1000,'15년위원회별'!$A38,'15년일입'!$B$7:$B$1000,'15년위원회별'!$C38) -> 0 | M38: =SUMIFS('15년일입'!$Y$7:$Y$1000,'15년일입'!$A$7:$A$1000,'15년위원회별'!$A38,'15년일입'!$B$7:$B$1000,'15년위원회별'!$C38) -> 0 | N38: =SUMIFS('15년일입'!$Z$7:$Z$1000,'15년일입'!$A$7:$A$1000,'15년위원회별'!$A38,'15년일입'!$B$7:$B$1000,'15년위원회별'!$C38) -> 0 | P38: =SUMIFS('15년일출'!$G$15:$G$1027,'15년일출'!$A$15:$A$1027,'15년위원회별'!$A38,'15년일출'!$B$15:$B$1027,'15년위원회별'!$C38) -> 0 | Q38: =SUMIFS('15년일출'!$H$15:$H$1027,'15년일출'!$A$15:$A$1027,'15년위원회별'!$A38,'15년일출'!$B$15:$B$1027,'15년위원회별'!$C38) -> 0 | R38: =SUMIFS('15년일출'!$I$15:$I$1027,'15년일출'!$A$15:$A$1027,'15년위원회별'!$A38,'15년일출'!$B$15:$B$1027,'15년위원회별'!$C38) -> 0 | S38: =SUMIFS('15년일출'!$J$15:$J$1027,'15년일출'!$A$15:$A$1027,'15년위원회별'!$A38,'15년일출'!$B$15:$B$1027,'15년위원회별'!$C38) -> 0 | T38: =SUMIFS('15년일출'!$T$15:$T$1027,'15년일출'!$A$15:$A$1027,'15년위원회별'!$A38,'15년일출'!$B$15:$B$1027,'15년위원회별'!$C38) -> 0 | U38: =SUMIFS('15년일출'!$U$15:$U$1027,'15년일출'!$A$15:$A$1027,'15년위원회별'!$A38,'15년일출'!$B$15:$B$1027,'15년위원회별'!$C38) -> 0 | V38: =SUMIFS('15년일출'!$K$15:$K$1027,'15년일출'!$A$15:$A$1027,'15년위원회별'!$A38,'15년일출'!$B$15:$B$1027,'15년위원회별'!$C38) -> 0 | W38: =SUMIFS('15년일출'!$L$15:$L$1027,'15년일출'!$A$15:$A$1027,'15년위원회별'!$A38,'15년일출'!$B$15:$B$1027,'15년위원회별'!$C38) -> 0 | X38: =SUMIFS('15년일출'!$M$15:$M$1027,'15년일출'!$A$15:$A$1027,'15년위원회별'!$A38,'15년일출'!$B$15:$B$1027,'15년위원회별'!$C38) -> 0 | Y38: =SUMIFS('15년일출'!$Y$15:$Y$1027,'15년일출'!$A$15:$A$1027,'15년위원회별'!$A38,'15년일출'!$B$15:$B$1027,'15년위원회별'!$C38) -> 0 | Z38: =SUMIFS('15년일출'!$Z$15:$Z$1027,'15년일출'!$A$15:$A$1027,'15년위원회별'!$A38,'15년일출'!$B$15:$B$1027,'15년위원회별'!$C38) -> 0
A39: 도시환경위원회 | C39: 환경국 | D39: =SUMIFS('15년일입'!$G$7:$G$1000,'15년일입'!$A$7:$A$1000,'15년위원회별'!$A39,'15년일입'!$B$7:$B$1000,'15년위원회별'!$C39) -> 0 | E39: =SUMIFS('15년일입'!$H$7:$H$1000,'15년일입'!$A$7:$A$1000,'15년위원회별'!$A39,'15년일입'!$B$7:$B$1000,'15년위원회별'!$C39) -> 0 | F39: =SUMIFS('15년일입'!$I$7:$I$1000,'15년일입'!$A$7:$A$1000,'15년위원회별'!$A39,'15년일입'!$B$7:$B$1000,'15년위원회별'!$C39) -> 0 | G39: =SUMIFS('15년일입'!$J$7:$J$1000,'15년일입'!$A$7:$A$1000,'15년위원회별'!$A39,'15년일입'!$B$7:$B$1000,'15년위원회별'!$C39) -> 0 | H39: =SUMIFS('15년일입'!$T$7:$T$1000,'15년일입'!$A$7:$A$1000,'15년위원회별'!$A39,'15년일입'!$B$7:$B$1000,'15년위원회별'!$C39) -> 0 | I39: =SUMIFS('15년일입'!$U$7:$U$1000,'15년일입'!$A$7:$A$1000,'15년위원회별'!$A39,'15년일입'!$B$7:$B$1000,'15년위원회별'!$C39) -> 0 | J39: =SUMIFS('15년일입'!$K$7:$K$1000,'15년일입'!$A$7:$A$1000,'15년위원회별'!$A39,'15년일입'!$B$7:$B$1000,'15년위원회별'!$C39) -> 0 | K39: =SUMIFS('15년일입'!$L$7:$L$1000,'15년일입'!$A$7:$A$1000,'15년위원회별'!$A39,'15년일입'!$B$7:$B$1000,'15년위원회별'!$C39) -> 0 | L39: =SUMIFS('15년일입'!$M$7:$M$1000,'15년일입'!$A$7:$A$1000,'15년위원회별'!$A39,'15년일입'!$B$7:$B$1000,'15년위원회별'!$C39) -> 0 | M39: =SUMIFS('15년일입'!$Y$7:$Y$1000,'15년일입'!$A$7:$A$1000,'15년위원회별'!$A39,'15년일입'!$B$7:$B$1000,'15년위원회별'!$C39) -> 0 | N39: =SUMIFS('15년일입'!$Z$7:$Z$1000,'15년일입'!$A$7:$A$1000,'15년위원회별'!$A39,'15년일입'!$B$7:$B$1000,'15년위원회별'!$C39) -> 0 | P39: =SUMIFS('15년일출'!$G$15:$G$1027,'15년일출'!$A$15:$A$1027,'15년위원회별'!$A39,'15년일출'!$B$15:$B$1027,'15년위원회별'!$C39) -> 0 | Q39: =SUMIFS('15년일출'!$H$15:$H$1027,'15년일출'!$A$15:$A$1027,'15년위원회별'!$A39,'15년일출'!$B$15:$B$1027,'15년위원회별'!$C39) -> 0 | R39: =SUMIFS('15년일출'!$I$15:$I$1027,'15년일출'!$A$15:$A$1027,'15년위원회별'!$A39,'15년일출'!$B$15:$B$1027,'15년위원회별'!$C39) -> 0 | S39: =SUMIFS('15년일출'!$J$15:$J$1027,'15년일출'!$A$15:$A$1027,'15년위원회별'!$A39,'15년일출'!$B$15:$B$1027,'15년위원회별'!$C39) -> 0 | T39: =SUMIFS('15년일출'!$T$15:$T$1027,'15년일출'!$A$15:$A$1027,'15년위원회별'!$A39,'15년일출'!$B$15:$B$1027,'15년위원회별'!$C39) -> 0 | U39: =SUMIFS('15년일출'!$U$15:$U$1027,'15년일출'!$A$15:$A$1027,'15년위원회별'!$A39,'15년일출'!$B$15:$B$1027,'15년위원회별'!$C39) -> 0 | V39: =SUMIFS('15년일출'!$K$15:$K$1027,'15년일출'!$A$15:$A$1027,'15년위원회별'!$A39,'15년일출'!$B$15:$B$1027,'15년위원회별'!$C39) -> 0 | W39: =SUMIFS('15년일출'!$L$15:$L$1027,'15년일출'!$A$15:$A$1027,'15년위원회별'!$A39,'15년일출'!$B$15:$B$1027,'15년위원회별'!$C39) -> 0 | X39: =SUMIFS('15년일출'!$M$15:$M$1027,'15년일출'!$A$15:$A$1027,'15년위원회별'!$A39,'15년일출'!$B$15:$B$1027,'15년위원회별'!$C39) -> 0 | Y39: =SUMIFS('15년일출'!$Y$15:$Y$1027,'15년일출'!$A$15:$A$1027,'15년위원회별'!$A39,'15년일출'!$B$15:$B$1027,'15년위원회별'!$C39) -> 0 | Z39: =SUMIFS('15년일출'!$Z$15:$Z$1027,'15년일출'!$A$15:$A$1027,'15년위원회별'!$A39,'15년일출'!$B$15:$B$1027,'15년위원회별'!$C39) -> 0
A40: 도시환경위원회 | C40: 축산산림국 | D40: =SUMIFS('15년일입'!$G$7:$G$1000,'15년일입'!$A$7:$A$1000,'15년위원회별'!$A40,'15년일입'!$B$7:$B$1000,'15년위원회별'!$C40) -> 0 | E40: =SUMIFS('15년일입'!$H$7:$H$1000,'15년일입'!$A$7:$A$1000,'15년위원회별'!$A40,'15년일입'!$B$7:$B$1000,'15년위원회별'!$C40) -> 0 | F40: =SUMIFS('15년일입'!$I$7:$I$1000,'15년일입'!$A$7:$A$1000,'15년위원회별'!$A40,'15년일입'!$B$7:$B$1000,'15년위원회별'!$C40) -> 0 | G40: =SUMIFS('15년일입'!$J$7:$J$1000,'15년일입'!$A$7:$A$1000,'15년위원회별'!$A40,'15년일입'!$B$7:$B$1000,'15년위원회별'!$C40) -> 0 | H40: =SUMIFS('15년일입'!$T$7:$T$1000,'15년일입'!$A$7:$A$1000,'15년위원회별'!$A40,'15년일입'!$B$7:$B$1000,'15년위원회별'!$C40) -> 0 | I40: =SUMIFS('15년일입'!$U$7:$U$1000,'15년일입'!$A$7:$A$1000,'15년위원회별'!$A40,'15년일입'!$B$7:$B$1000,'15년위원회별'!$C40) -> 0 | J40: =SUMIFS('15년일입'!$K$7:$K$1000,'15년일입'!$A$7:$A$1000,'15년위원회별'!$A40,'15년일입'!$B$7:$B$1000,'15년위원회별'!$C40) -> 0 | K40: =SUMIFS('15년일입'!$L$7:$L$1000,'15년일입'!$A$7:$A$1000,'15년위원회별'!$A40,'15년일입'!$B$7:$B$1000,'15년위원회별'!$C40) -> 0 | L40: =SUMIFS('15년일입'!$M$7:$M$1000,'15년일입'!$A$7:$A$1000,'15년위원회별'!$A40,'15년일입'!$B$7:$B$1000,'15년위원회별'!$C40) -> 0 | M40: =SUMIFS('15년일입'!$Y$7:$Y$1000,'15년일입'!$A$7:$A$1000,'15년위원회별'!$A40,'15년일입'!$B$7:$B$1000,'15년위원회별'!$C40) -> 0 | N40: =SUMIFS('15년일입'!$Z$7:$Z$1000,'15년일입'!$A$7:$A$1000,'15년위원회별'!$A40,'15년일입'!$B$7:$B$1000,'15년위원회별'!$C40) -> 0 | P40: =SUMIFS('15년일출'!$G$15:$G$1027,'15년일출'!$A$15:$A$1027,'15년위원회별'!$A40,'15년일출'!$B$15:$B$1027,'15년위원회별'!$C40) -> 0 | Q40: =SUMIFS('15년일출'!$H$15:$H$1027,'15년일출'!$A$15:$A$1027,'15년위원회별'!$A40,'15년일출'!$B$15:$B$1027,'15년위원회별'!$C40) -> 0 | R40: =SUMIFS('15년일출'!$I$15:$I$1027,'15년일출'!$A$15:$A$1027,'15년위원회별'!$A40,'15년일출'!$B$15:$B$1027,'15년위원회별'!$C40) -> 0 | S40: =SUMIFS('15년일출'!$J$15:$J$1027,'15년일출'!$A$15:$A$1027,'15년위원회별'!$A40,'15년일출'!$B$15:$B$1027,'15년위원회별'!$C40) -> 0 | T40: =SUMIFS('15년일출'!$T$15:$T$1027,'15년일출'!$A$15:$A$1027,'15년위원회별'!$A40,'15년일출'!$B$15:$B$1027,'15년위원회별'!$C40) -> 0 | U40: =SUMIFS('15년일출'!$U$15:$U$1027,'15년일출'!$A$15:$A$1027,'15년위원회별'!$A40,'15년일출'!$B$15:$B$1027,'15년위원회별'!$C40) -> 0 | V40: =SUMIFS('15년일출'!$K$15:$K$1027,'15년일출'!$A$15:$A$1027,'15년위원회별'!$A40,'15년일출'!$B$15:$B$1027,'15년위원회별'!$C40) -> 0 | W40: =SUMIFS('15년일출'!$L$15:$L$1027,'15년일출'!$A$15:$A$1027,'15년위원회별'!$A40,'15년일출'!$B$15:$B$1027,'15년위원회별'!$C40) -> 0 | X40: =SUMIFS('15년일출'!$M$15:$M$1027,'15년일출'!$A$15:$A$1027,'15년위원회별'!$A40,'15년일출'!$B$15:$B$1027,'15년위원회별'!$C40) -> 0 | Y40: =SUMIFS('15년일출'!$Y$15:$Y$1027,'15년일출'!$A$15:$A$1027,'15년위원회별'!$A40,'15년일출'!$B$15:$B$1027,'15년위원회별'!$C40) -> 0 | Z40: =SUMIFS('15년일출'!$Z$15:$Z$1027,'15년일출'!$A$15:$A$1027,'15년위원회별'!$A40,'15년일출'!$B$15:$B$1027,'15년위원회별'!$C40) -> 0
A41: 도시환경위원회 | C41: 보건환경연구원 | D41: =SUMIFS('15년일입'!$G$7:$G$1000,'15년일입'!$A$7:$A$1000,'15년위원회별'!$A41,'15년일입'!$B$7:$B$1000,'15년위원회별'!$C41) -> 0 | E41: =SUMIFS('15년일입'!$H$7:$H$1000,'15년일입'!$A$7:$A$1000,'15년위원회별'!$A41,'15년일입'!$B$7:$B$1000,'15년위원회별'!$C41) -> 0 | F41: =SUMIFS('15년일입'!$I$7:$I$1000,'15년일입'!$A$7:$A$1000,'15년위원회별'!$A41,'15년일입'!$B$7:$B$1000,'15년위원회별'!$C41) -> 0 | G41: =SUMIFS('15년일입'!$J$7:$J$1000,'15년일입'!$A$7:$A$1000,'15년위원회별'!$A41,'15년일입'!$B$7:$B$1000,'15년위원회별'!$C41) -> 0 | H41: =SUMIFS('15년일입'!$T$7:$T$1000,'15년일입'!$A$7:$A$1000,'15년위원회별'!$A41,'15년일입'!$B$7:$B$1000,'15년위원회별'!$C41) -> 0 | I41: =SUMIFS('15년일입'!$U$7:$U$1000,'15년일입'!$A$7:$A$1000,'15년위원회별'!$A41,'15년일입'!$B$7:$B$1000,'15년위원회별'!$C41) -> 0 | J41: =SUMIFS('15년일입'!$K$7:$K$1000,'15년일입'!$A$7:$A$1000,'15년위원회별'!$A41,'15년일입'!$B$7:$B$1000,'15년위원회별'!$C41) -> 0 | K41: =SUMIFS('15년일입'!$L$7:$L$1000,'15년일입'!$A$7:$A$1000,'15년위원회별'!$A41,'15년일입'!$B$7:$B$1000,'15년위원회별'!$C41) -> 0 | L41: =SUMIFS('15년일입'!$M$7:$M$1000,'15년일입'!$A$7:$A$1000,'15년위원회별'!$A41,'15년일입'!$B$7:$B$1000,'15년위원회별'!$C41) -> 0 | M41: =SUMIFS('15년일입'!$Y$7:$Y$1000,'15년일입'!$A$7:$A$1000,'15년위원회별'!$A41,'15년일입'!$B$7:$B$1000,'15년위원회별'!$C41) -> 0 | N41: =SUMIFS('15년일입'!$Z$7:$Z$1000,'15년일입'!$A$7:$A$1000,'15년위원회별'!$A41,'15년일입'!$B$7:$B$1000,'15년위원회별'!$C41) -> 0 | P41: =SUMIFS('15년일출'!$G$15:$G$1027,'15년일출'!$A$15:$A$1027,'15년위원회별'!$A41,'15년일출'!$B$15:$B$1027,'15년위원회별'!$C41) -> 0 | Q41: =SUMIFS('15년일출'!$H$15:$H$1027,'15년일출'!$A$15:$A$1027,'15년위원회별'!$A41,'15년일출'!$B$15:$B$1027,'15년위원회별'!$C41) -> 0 | R41: =SUMIFS('15년일출'!$I$15:$I$1027,'15년일출'!$A$15:$A$1027,'15년위원회별'!$A41,'15년일출'!$B$15:$B$1027,'15년위원회별'!$C41) -> 0 | S41: =SUMIFS('15년일출'!$J$15:$J$1027,'15년일출'!$A$15:$A$1027,'15년위원회별'!$A41,'15년일출'!$B$15:$B$1027,'15년위원회별'!$C41) -> 0 | T41: =SUMIFS('15년일출'!$T$15:$T$1027,'15년일출'!$A$15:$A$1027,'15년위원회별'!$A41,'15년일출'!$B$15:$B$1027,'15년위원회별'!$C41) -> 0 | U41: =SUMIFS('15년일출'!$U$15:$U$1027,'15년일출'!$A$15:$A$1027,'15년위원회별'!$A41,'15년일출'!$B$15:$B$1027,'15년위원회별'!$C41) -> 0 | V41: =SUMIFS('15년일출'!$K$15:$K$1027,'15년일출'!$A$15:$A$1027,'15년위원회별'!$A41,'15년일출'!$B$15:$B$1027,'15년위원회별'!$C41) -> 0 | W41: =SUMIFS('15년일출'!$L$15:$L$1027,'15년일출'!$A$15:$A$1027,'15년위원회별'!$A41,'15년일출'!$B$15:$B$1027,'15년위원회별'!$C41) -> 0 | X41: =SUMIFS('15년일출'!$M$15:$M$1027,'15년일출'!$A$15:$A$1027,'15년위원회별'!$A41,'15년일출'!$B$15:$B$1027,'15년위원회별'!$C41) -> 0 | Y41: =SUMIFS('15년일출'!$Y$15:$Y$1027,'15년일출'!$A$15:$A$1027,'15년위원회별'!$A41,'15년일출'!$B$15:$B$1027,'15년위원회별'!$C41) -> 0 | Z41: =SUMIFS('15년일출'!$Z$15:$Z$1027,'15년일출'!$A$15:$A$1027,'15년위원회별'!$A41,'15년일출'!$B$15:$B$1027,'15년위원회별'!$C41) -> 0
A42: 도시환경위원회 | C42: 수자원본부 | D42: =SUMIFS('15년일입'!$G$7:$G$1000,'15년일입'!$A$7:$A$1000,'15년위원회별'!$A42,'15년일입'!$B$7:$B$1000,'15년위원회별'!$C42) -> 0 | E42: =SUMIFS('15년일입'!$H$7:$H$1000,'15년일입'!$A$7:$A$1000,'15년위원회별'!$A42,'15년일입'!$B$7:$B$1000,'15년위원회별'!$C42) -> 0 | F42: =SUMIFS('15년일입'!$I$7:$I$1000,'15년일입'!$A$7:$A$1000,'15년위원회별'!$A42,'15년일입'!$B$7:$B$1000,'15년위원회별'!$C42) -> 0 | G42: =SUMIFS('15년일입'!$J$7:$J$1000,'15년일입'!$A$7:$A$1000,'15년위원회별'!$A42,'15년일입'!$B$7:$B$1000,'15년위원회별'!$C42) -> 0 | H42: =SUMIFS('15년일입'!$T$7:$T$1000,'15년일입'!$A$7:$A$1000,'15년위원회별'!$A42,'15년일입'!$B$7:$B$1000,'15년위원회별'!$C42) -> 0 | I42: =SUMIFS('15년일입'!$U$7:$U$1000,'15년일입'!$A$7:$A$1000,'15년위원회별'!$A42,'15년일입'!$B$7:$B$1000,'15년위원회별'!$C42) -> 0 | J42: =SUMIFS('15년일입'!$K$7:$K$1000,'15년일입'!$A$7:$A$1000,'15년위원회별'!$A42,'15년일입'!$B$7:$B$1000,'15년위원회별'!$C42) -> 0 | K42: =SUMIFS('15년일입'!$L$7:$L$1000,'15년일입'!$A$7:$A$1000,'15년위원회별'!$A42,'15년일입'!$B$7:$B$1000,'15년위원회별'!$C42) -> 0 | L42: =SUMIFS('15년일입'!$M$7:$M$1000,'15년일입'!$A$7:$A$1000,'15년위원회별'!$A42,'15년일입'!$B$7:$B$1000,'15년위원회별'!$C42) -> 0 | M42: =SUMIFS('15년일입'!$Y$7:$Y$1000,'15년일입'!$A$7:$A$1000,'15년위원회별'!$A42,'15년일입'!$B$7:$B$1000,'15년위원회별'!$C42) -> 0 | N42: =SUMIFS('15년일입'!$Z$7:$Z$1000,'15년일입'!$A$7:$A$1000,'15년위원회별'!$A42,'15년일입'!$B$7:$B$1000,'15년위원회별'!$C42) -> 0 | P42: =SUMIFS('15년일출'!$G$15:$G$1027,'15년일출'!$A$15:$A$1027,'15년위원회별'!$A42,'15년일출'!$B$15:$B$1027,'15년위원회별'!$C42) -> 0 | Q42: =SUMIFS('15년일출'!$H$15:$H$1027,'15년일출'!$A$15:$A$1027,'15년위원회별'!$A42,'15년일출'!$B$15:$B$1027,'15년위원회별'!$C42) -> 0 | R42: =SUMIFS('15년일출'!$I$15:$I$1027,'15년일출'!$A$15:$A$1027,'15년위원회별'!$A42,'15년일출'!$B$15:$B$1027,'15년위원회별'!$C42) -> 0 | S42: =SUMIFS('15년일출'!$J$15:$J$1027,'15년일출'!$A$15:$A$1027,'15년위원회별'!$A42,'15년일출'!$B$15:$B$1027,'15년위원회별'!$C42) -> 0 | T42: =SUMIFS('15년일출'!$T$15:$T$1027,'15년일출'!$A$15:$A$1027,'15년위원회별'!$A42,'15년일출'!$B$15:$B$1027,'15년위원회별'!$C42) -> 0 | U42: =SUMIFS('15년일출'!$U$15:$U$1027,'15년일출'!$A$15:$A$1027,'15년위원회별'!$A42,'15년일출'!$B$15:$B$1027,'15년위원회별'!$C42) -> 0 | V42: =SUMIFS('15년일출'!$K$15:$K$1027,'15년일출'!$A$15:$A$1027,'15년위원회별'!$A42,'15년일출'!$B$15:$B$1027,'15년위원회별'!$C42) -> 0 | W42: =SUMIFS('15년일출'!$L$15:$L$1027,'15년일출'!$A$15:$A$1027,'15년위원회별'!$A42,'15년일출'!$B$15:$B$1027,'15년위원회별'!$C42) -> 0 | X42: =SUMIFS('15년일출'!$M$15:$M$1027,'15년일출'!$A$15:$A$1027,'15년위원회별'!$A42,'15년일출'!$B$15:$B$1027,'15년위원회별'!$C42) -> 0 | Y42: =SUMIFS('15년일출'!$Y$15:$Y$1027,'15년일출'!$A$15:$A$1027,'15년위원회별'!$A42,'15년일출'!$B$15:$B$1027,'15년위원회별'!$C42) -> 0 | Z42: =SUMIFS('15년일출'!$Z$15:$Z$1027,'15년일출'!$A$15:$A$1027,'15년위원회별'!$A42,'15년일출'!$B$15:$B$1027,'15년위원회별'!$C42) -> 0
B43: 여성가족교육협력위원회 | D43: =SUM(D44:D46) -> 0 | E43: =SUM(E44:E46) -> 0 | F43: =SUM(F44:F46) -> 0 | G43: =SUM(G44:G46) -> 0 | H43: =SUM(H44:H46) -> 0 | I43: =SUM(I44:I46) -> 0 | J43: =SUM(J44:J46) -> 0 | K43: =SUM(K44:K46) -> 0 | ... N43: =SUM(N44:N46) -> 0 | P43: =SUM(P44:P46) -> 0 | Q43: =SUM(Q44:Q46) -> 0 | R43: =SUM(R44:R46) -> 0 | S43: =SUM(S44:S46) -> 0 | T43: =SUM(T44:T46) -> 0 | U43: =SUM(U44:U46) -> 0 | V43: =SUM(V44:V46) -> 0 | W43: =SUM(W44:W46) -> 0 | ... Z43: =SUM(Z44:Z46) -> 0
A44: 여성가족교육협력위원회 | C44: 교육협력국 | D44: =SUMIFS('15년일입'!$G$7:$G$1000,'15년일입'!$A$7:$A$1000,'15년위원회별'!$A44,'15년일입'!$B$7:$B$1000,'15년위원회별'!$C44) -> 0 | E44: =SUMIFS('15년일입'!$H$7:$H$1000,'15년일입'!$A$7:$A$1000,'15년위원회별'!$A44,'15년일입'!$B$7:$B$1000,'15년위원회별'!$C44) -> 0 | F44: =SUMIFS('15년일입'!$I$7:$I$1000,'15년일입'!$A$7:$A$1000,'15년위원회별'!$A44,'15년일입'!$B$7:$B$1000,'15년위원회별'!$C44) -> 0 | G44: =SUMIFS('15년일입'!$J$7:$J$1000,'15년일입'!$A$7:$A$1000,'15년위원회별'!$A44,'15년일입'!$B$7:$B$1000,'15년위원회별'!$C44) -> 0 | H44: =SUMIFS('15년일입'!$T$7:$T$1000,'15년일입'!$A$7:$A$1000,'15년위원회별'!$A44,'15년일입'!$B$7:$B$1000,'15년위원회별'!$C44) -> 0 | I44: =SUMIFS('15년일입'!$U$7:$U$1000,'15년일입'!$A$7:$A$1000,'15년위원회별'!$A44,'15년일입'!$B$7:$B$1000,'15년위원회별'!$C44) -> 0 | J44: =SUMIFS('15년일입'!$K$7:$K$1000,'15년일입'!$A$7:$A$1000,'15년위원회별'!$A44,'15년일입'!$B$7:$B$1000,'15년위원회별'!$C44) -> 0 | K44: =SUMIFS('15년일입'!$L$7:$L$1000,'15년일입'!$A$7:$A$1000,'15년위원회별'!$A44,'15년일입'!$B$7:$B$1000,'15년위원회별'!$C44) -> 0 | L44: =SUMIFS('15년일입'!$M$7:$M$1000,'15년일입'!$A$7:$A$1000,'15년위원회별'!$A44,'15년일입'!$B$7:$B$1000,'15년위원회별'!$C44) -> 0 | M44: =SUMIFS('15년일입'!$Y$7:$Y$1000,'15년일입'!$A$7:$A$1000,'15년위원회별'!$A44,'15년일입'!$B$7:$B$1000,'15년위원회별'!$C44) -> 0 | N44: =SUMIFS('15년일입'!$Z$7:$Z$1000,'15년일입'!$A$7:$A$1000,'15년위원회별'!$A44,'15년일입'!$B$7:$B$1000,'15년위원회별'!$C44) -> 0 | P44: =SUMIFS('15년일출'!$G$15:$G$1027,'15년일출'!$A$15:$A$1027,'15년위원회별'!$A44,'15년일출'!$B$15:$B$1027,'15년위원회별'!$C44) -> 0 | Q44: =SUMIFS('15년일출'!$H$15:$H$1027,'15년일출'!$A$15:$A$1027,'15년위원회별'!$A44,'15년일출'!$B$15:$B$1027,'15년위원회별'!$C44) -> 0 | R44: =SUMIFS('15년일출'!$I$15:$I$1027,'15년일출'!$A$15:$A$1027,'15년위원회별'!$A44,'15년일출'!$B$15:$B$1027,'15년위원회별'!$C44) -> 0 | S44: =SUMIFS('15년일출'!$J$15:$J$1027,'15년일출'!$A$15:$A$1027,'15년위원회별'!$A44,'15년일출'!$B$15:$B$1027,'15년위원회별'!$C44) -> 0 | T44: =SUMIFS('15년일출'!$T$15:$T$1027,'15년일출'!$A$15:$A$1027,'15년위원회별'!$A44,'15년일출'!$B$15:$B$1027,'15년위원회별'!$C44) -> 0 | U44: =SUMIFS('15년일출'!$U$15:$U$1027,'15년일출'!$A$15:$A$1027,'15년위원회별'!$A44,'15년일출'!$B$15:$B$1027,'15년위원회별'!$C44) -> 0 | V44: =SUMIFS('15년일출'!$K$15:$K$1027,'15년일출'!$A$15:$A$1027,'15년위원회별'!$A44,'15년일출'!$B$15:$B$1027,'15년위원회별'!$C44) -> 0 | W44: =SUMIFS('15년일출'!$L$15:$L$1027,'15년일출'!$A$15:$A$1027,'15년위원회별'!$A44,'15년일출'!$B$15:$B$1027,'15년위원회별'!$C44) -> 0 | X44: =SUMIFS('15년일출'!$M$15:$M$1027,'15년일출'!$A$15:$A$1027,'15년위원회별'!$A44,'15년일출'!$B$15:$B$1027,'15년위원회별'!$C44) -> 0 | Y44: =SUMIFS('15년일출'!$Y$15:$Y$1027,'15년일출'!$A$15:$A$1027,'15년위원회별'!$A44,'15년일출'!$B$15:$B$1027,'15년위원회별'!$C44) -> 0 | Z44: =SUMIFS('15년일출'!$Z$15:$Z$1027,'15년일출'!$A$15:$A$1027,'15년위원회별'!$A44,'15년일출'!$B$15:$B$1027,'15년위원회별'!$C44) -> 0
A45: 여성가족교육협력위원회 | C45: 여성가족국 | D45: =SUMIFS('15년일입'!$G$7:$G$1000,'15년일입'!$A$7:$A$1000,'15년위원회별'!$A45,'15년일입'!$B$7:$B$1000,'15년위원회별'!$C45) -> 0 | E45: =SUMIFS('15년일입'!$H$7:$H$1000,'15년일입'!$A$7:$A$1000,'15년위원회별'!$A45,'15년일입'!$B$7:$B$1000,'15년위원회별'!$C45) -> 0 | F45: =SUMIFS('15년일입'!$I$7:$I$1000,'15년일입'!$A$7:$A$1000,'15년위원회별'!$A45,'15년일입'!$B$7:$B$1000,'15년위원회별'!$C45) -> 0 | G45: =SUMIFS('15년일입'!$J$7:$J$1000,'15년일입'!$A$7:$A$1000,'15년위원회별'!$A45,'15년일입'!$B$7:$B$1000,'15년위원회별'!$C45) -> 0 | H45: =SUMIFS('15년일입'!$T$7:$T$1000,'15년일입'!$A$7:$A$1000,'15년위원회별'!$A45,'15년일입'!$B$7:$B$1000,'15년위원회별'!$C45) -> 0 | I45: =SUMIFS('15년일입'!$U$7:$U$1000,'15년일입'!$A$7:$A$1000,'15년위원회별'!$A45,'15년일입'!$B$7:$B$1000,'15년위원회별'!$C45) -> 0 | J45: =SUMIFS('15년일입'!$K$7:$K$1000,'15년일입'!$A$7:$A$1000,'15년위원회별'!$A45,'15년일입'!$B$7:$B$1000,'15년위원회별'!$C45) -> 0 | K45: =SUMIFS('15년일입'!$L$7:$L$1000,'15년일입'!$A$7:$A$1000,'15년위원회별'!$A45,'15년일입'!$B$7:$B$1000,'15년위원회별'!$C45) -> 0 | L45: =SUMIFS('15년일입'!$M$7:$M$1000,'15년일입'!$A$7:$A$1000,'15년위원회별'!$A45,'15년일입'!$B$7:$B$1000,'15년위원회별'!$C45) -> 0 | M45: =SUMIFS('15년일입'!$Y$7:$Y$1000,'15년일입'!$A$7:$A$1000,'15년위원회별'!$A45,'15년일입'!$B$7:$B$1000,'15년위원회별'!$C45) -> 0 | N45: =SUMIFS('15년일입'!$Z$7:$Z$1000,'15년일입'!$A$7:$A$1000,'15년위원회별'!$A45,'15년일입'!$B$7:$B$1000,'15년위원회별'!$C45) -> 0 | P45: =SUMIFS('15년일출'!$G$15:$G$1027,'15년일출'!$A$15:$A$1027,'15년위원회별'!$A45,'15년일출'!$B$15:$B$1027,'15년위원회별'!$C45) -> 0 | Q45: =SUMIFS('15년일출'!$H$15:$H$1027,'15년일출'!$A$15:$A$1027,'15년위원회별'!$A45,'15년일출'!$B$15:$B$1027,'15년위원회별'!$C45) -> 0 | R45: =SUMIFS('15년일출'!$I$15:$I$1027,'15년일출'!$A$15:$A$1027,'15년위원회별'!$A45,'15년일출'!$B$15:$B$1027,'15년위원회별'!$C45) -> 0 | S45: =SUMIFS('15년일출'!$J$15:$J$1027,'15년일출'!$A$15:$A$1027,'15년위원회별'!$A45,'15년일출'!$B$15:$B$1027,'15년위원회별'!$C45) -> 0 | T45: =SUMIFS('15년일출'!$T$15:$T$1027,'15년일출'!$A$15:$A$1027,'15년위원회별'!$A45,'15년일출'!$B$15:$B$1027,'15년위원회별'!$C45) -> 0 | U45: =SUMIFS('15년일출'!$U$15:$U$1027,'15년일출'!$A$15:$A$1027,'15년위원회별'!$A45,'15년일출'!$B$15:$B$1027,'15년위원회별'!$C45) -> 0 | V45: =SUMIFS('15년일출'!$K$15:$K$1027,'15년일출'!$A$15:$A$1027,'15년위원회별'!$A45,'15년일출'!$B$15:$B$1027,'15년위원회별'!$C45) -> 0 | W45: =SUMIFS('15년일출'!$L$15:$L$1027,'15년일출'!$A$15:$A$1027,'15년위원회별'!$A45,'15년일출'!$B$15:$B$1027,'15년위원회별'!$C45) -> 0 | X45: =SUMIFS('15년일출'!$M$15:$M$1027,'15년일출'!$A$15:$A$1027,'15년위원회별'!$A45,'15년일출'!$B$15:$B$1027,'15년위원회별'!$C45) -> 0 | Y45: =SUMIFS('15년일출'!$Y$15:$Y$1027,'15년일출'!$A$15:$A$1027,'15년위원회별'!$A45,'15년일출'!$B$15:$B$1027,'15년위원회별'!$C45) -> 0 | Z45: =SUMIFS('15년일출'!$Z$15:$Z$1027,'15년일출'!$A$15:$A$1027,'15년위원회별'!$A45,'15년일출'!$B$15:$B$1027,'15년위원회별'!$C45) -> 0
A46: 여성가족교육협력위원회 | C46: 복지여성실 | D46: =SUMIFS('15년일입'!$G$7:$G$1000,'15년일입'!$A$7:$A$1000,'15년위원회별'!$A46,'15년일입'!$B$7:$B$1000,'15년위원회별'!$C46) -> 0 | E46: =SUMIFS('15년일입'!$H$7:$H$1000,'15년일입'!$A$7:$A$1000,'15년위원회별'!$A46,'15년일입'!$B$7:$B$1000,'15년위원회별'!$C46) -> 0 | F46: =SUMIFS('15년일입'!$I$7:$I$1000,'15년일입'!$A$7:$A$1000,'15년위원회별'!$A46,'15년일입'!$B$7:$B$1000,'15년위원회별'!$C46) -> 0 | G46: =SUMIFS('15년일입'!$J$7:$J$1000,'15년일입'!$A$7:$A$1000,'15년위원회별'!$A46,'15년일입'!$B$7:$B$1000,'15년위원회별'!$C46) -> 0 | H46: =SUMIFS('15년일입'!$T$7:$T$1000,'15년일입'!$A$7:$A$1000,'15년위원회별'!$A46,'15년일입'!$B$7:$B$1000,'15년위원회별'!$C46) -> 0 | I46: =SUMIFS('15년일입'!$U$7:$U$1000,'15년일입'!$A$7:$A$1000,'15년위원회별'!$A46,'15년일입'!$B$7:$B$1000,'15년위원회별'!$C46) -> 0 | J46: =SUMIFS('15년일입'!$K$7:$K$1000,'15년일입'!$A$7:$A$1000,'15년위원회별'!$A46,'15년일입'!$B$7:$B$1000,'15년위원회별'!$C46) -> 0 | K46: =SUMIFS('15년일입'!$L$7:$L$1000,'15년일입'!$A$7:$A$1000,'15년위원회별'!$A46,'15년일입'!$B$7:$B$1000,'15년위원회별'!$C46) -> 0 | L46: =SUMIFS('15년일입'!$M$7:$M$1000,'15년일입'!$A$7:$A$1000,'15년위원회별'!$A46,'15년일입'!$B$7:$B$1000,'15년위원회별'!$C46) -> 0 | M46: =SUMIFS('15년일입'!$Y$7:$Y$1000,'15년일입'!$A$7:$A$1000,'15년위원회별'!$A46,'15년일입'!$B$7:$B$1000,'15년위원회별'!$C46) -> 0 | N46: =SUMIFS('15년일입'!$Z$7:$Z$1000,'15년일입'!$A$7:$A$1000,'15년위원회별'!$A46,'15년일입'!$B$7:$B$1000,'15년위원회별'!$C46) -> 0 | P46: =SUMIFS('15년일출'!$G$15:$G$1027,'15년일출'!$A$15:$A$1027,'15년위원회별'!$A46,'15년일출'!$B$15:$B$1027,'15년위원회별'!$C46) -> 0 | Q46: =SUMIFS('15년일출'!$H$15:$H$1027,'15년일출'!$A$15:$A$1027,'15년위원회별'!$A46,'15년일출'!$B$15:$B$1027,'15년위원회별'!$C46) -> 0 | R46: =SUMIFS('15년일출'!$I$15:$I$1027,'15년일출'!$A$15:$A$1027,'15년위원회별'!$A46,'15년일출'!$B$15:$B$1027,'15년위원회별'!$C46) -> 0 | S46: =SUMIFS('15년일출'!$J$15:$J$1027,'15년일출'!$A$15:$A$1027,'15년위원회별'!$A46,'15년일출'!$B$15:$B$1027,'15년위원회별'!$C46) -> 0 | T46: =SUMIFS('15년일출'!$T$15:$T$1027,'15년일출'!$A$15:$A$1027,'15년위원회별'!$A46,'15년일출'!$B$15:$B$1027,'15년위원회별'!$C46) -> 0 | U46: =SUMIFS('15년일출'!$U$15:$U$1027,'15년일출'!$A$15:$A$1027,'15년위원회별'!$A46,'15년일출'!$B$15:$B$1027,'15년위원회별'!$C46) -> 0 | V46: =SUMIFS('15년일출'!$K$15:$K$1027,'15년일출'!$A$15:$A$1027,'15년위원회별'!$A46,'15년일출'!$B$15:$B$1027,'15년위원회별'!$C46) -> 0 | W46: =SUMIFS('15년일출'!$L$15:$L$1027,'15년일출'!$A$15:$A$1027,'15년위원회별'!$A46,'15년일출'!$B$15:$B$1027,'15년위원회별'!$C46) -> 0 | X46: =SUMIFS('15년일출'!$M$15:$M$1027,'15년일출'!$A$15:$A$1027,'15년위원회별'!$A46,'15년일출'!$B$15:$B$1027,'15년위원회별'!$C46) -> 0 | Y46: =SUMIFS('15년일출'!$Y$15:$Y$1027,'15년일출'!$A$15:$A$1027,'15년위원회별'!$A46,'15년일출'!$B$15:$B$1027,'15년위원회별'!$C46) -> 0 | Z46: =SUMIFS('15년일출'!$Z$15:$Z$1027,'15년일출'!$A$15:$A$1027,'15년위원회별'!$A46,'15년일출'!$B$15:$B$1027,'15년위원회별'!$C46) -> 0

Sheet 15년일입
A1: 2015년도 경기도 일반회계 세입 예산 조정(안)
A2: □세입예산 | T2: 세입 = 세출 | Y2: 세입 = 세출
H3: =COUNTA(H7:H378) -> 0 | I3: =COUNTA(I7:I378) -> 0 | K3: =COUNTA(K7:K378) -> 0 | L3: =COUNTA(L7:L378) -> 0 | O3: (단위 : 천원) | T3: =IF(T6='15년일출'!$T$6,"OK","@@") -> OK | U3: =SUM(T6:U6) -> 0 | V3: =IF(COUNTIF(V6:V1271,"@@")>0,"@@","OK") -> OK | Y3: =IF(Y6='2추일출'!$AA$6,"OK","@@") -> OK | Z3: =SUM(Y6:Z6) -> 0 | AA3: =IF(COUNTIF(AA6:AA1271,"@@")>0,"@@","OK") -> OK
A4: 위원회명 | B4: 실국명 | C4: 부서명 | D4: 편성 구분 | E4: 예산안 페이지 | F4: 사업명 | G4: 예산안 (가) | H4: 상임위 예산안 조정액(나) | J4: 상임위 수정 예산안 (다=가+나) | K4: 예결위 예산안 조정액(라) | M4: 예결위 수정 예산안 (마=가+라) | N4: 동의대상 | O4: 비고(부대의견) | Q4: 국도비 등 여부 | S4: 재원 | T4: 상임위 재원별 증감액 | X4: 재원 | Y4: 예결위 재원별 증감액 | AC4: 위원회 부서별 정렬
H5: 감액 | I5: 증액 | K5: 감액 | L5: 증액 | T5: 국비 등 | U5: 도 비 | V5: 검증 | Y5: 국비 등 | Z5: 도 비 | AA5: 검증
A6: C열 부서명 입력하면 자동 입력 됩니다 | B6: C열 부서명 입력하면 자동 입력 됩니다 | D6: 선택입력 | F6: 예산안의 사업명과 동일하게 입력하세요 | G6: =SUBTOTAL(9,G7:G1183) -> 0 | H6: =SUBTOTAL(9,H7:H1183) -> 0 | I6: =SUBTOTAL(9,I7:I1183) -> 0 | J6: =SUBTOTAL(9,J7:J1183) -> 0 | K6: =SUBTOTAL(9,K7:K1183) -> 0 | L6: =SUBTOTAL(9,L7:L1183) -> 0 | M6: =SUBTOTAL(9,M7:M1183) -> 0 | T6: =SUBTOTAL(9,T7:T1183) -> 0 | U6: =SUBTOTAL(9,U7:U1183) -> 0 | V6: =IF((H6+I6)=(T6+U6),"OK","검토") -> OK | Y6: =SUBTOTAL(9,Y7:Y1183) -> 0 | Z6: =SUBTOTAL(9,Z7:Z1183) -> 0 | AA6: =IF((K6+L6)=(Y6+Z6),"OK","검토") -> OK
A9: =IFERROR(VLOOKUP('15년일입'!$C9,구분표!$A$2:$C$1001,2,FALSE),"") | B9: =IFERROR(VLOOKUP('15년일입'!$C9,구분표!$A$2:$C$1001,3,FALSE),"") | J9: =SUM(G9+H9+I9) -> 0 | M9: =SUM(G9+K9+L9) -> 0 | N9: =IF(H9-K9<0,"동의필요","-") -> - | T9: =IF($S9<>"도비",IF($Q9="국도비","직접입력",SUM($H9:$I9)),) -> 0 | U9: =IF($S9="도비",SUM($H9:$I9),IF($Q9="국도비","직접입력",SUM($H9:$I9)-$T9)) -> 0 | V9: =IF($Q9="국도비","ok",IF(($H9+$I9)=($T9+$U9),"ok","검토")) -> ok | X9: =$S9 -> 0 | Y9: =IF($X9<>"도비",IF($Q9="국도비","직접입력",SUM($K9:$L9)),) -> 0 | Z9: =IF($X9="도비",SUM($K9:$L9),IF($Q9="국도비","직접입력",SUM($K9:$L9)-$Y9)) -> 0 | AA9: =IF($Q9="국도비","ok",IF(($K9+$L9)=($Y9+$Z9),"ok","검토")) -> ok | AC9: {=IFERROR(IF($C9="","",INDEX(구분표!$I$2:$I$1001,MATCH(1,(구분표!$B$2:$B$1001='15년일입'!$A9)*(구분표!$C$2:$C$1001='15년일입'!$B9)*(구분표!$A$2:$A$1001='15년일입'!$C9),0))),"@@")}
A10: =IFERROR(VLOOKUP('15년일입'!$C10,구분표!$A$2:$C$1001,2,FALSE),"") | B10: =IFERROR(VLOOKUP('15년일입'!$C10,구분표!$A$2:$C$1001,3,FALSE),"") | J10: =SUM(G10+H10+I10) -> 0 | M10: =SUM(G10+K10+L10) -> 0 | N10: =IF(H10-K10<0,"동의필요","-") -> - | T10: =IF($S10<>"도비",IF($Q10="국도비","직접입력",SUM($H10:$I10)),) -> 0 | U10: =IF($S10="도비",SUM($H10:$I10),IF($Q10="국도비","직접입력",SUM($H10:$I10)-$T10)) -> 0 | V10: =IF($Q10="국도비","ok",IF(($H10+$I10)=($T10+$U10),"ok","검토")) -> ok | X10: =$S10 -> 0 | Y10: =IF($X10<>"도비",IF($Q10="국도비","직접입력",SUM($K10:$L10)),) -> 0 | Z10: =IF($X10="도비",SUM($K10:$L10),IF($Q10="국도비","직접입력",SUM($K10:$L10)-$Y10)) -> 0 | AA10: =IF($Q10="국도비","ok",IF(($K10+$L10)=($Y10+$Z10),"ok","검토")) -> ok | AC10: {=IFERROR(IF($C10="","",INDEX(구분표!$I$2:$I$1001,MATCH(1,(구분표!$B$2:$B$1001='15년일입'!$A10)*(구분표!$C$2:$C$1001='15년일입'!$B10)*(구분표!$A$2:$A$1001='15년일입'!$C10),0))),"@@")}
A11: =IFERROR(VLOOKUP('15년일입'!$C11,구분표!$A$2:$C$1001,2,FALSE),"") | B11: =IFERROR(VLOOKUP('15년일입'!$C11,구분표!$A$2:$C$1001,3,FALSE),"") | J11: =SUM(G11+H11+I11) -> 0 | M11: =SUM(G11+K11+L11) -> 0 | N11: =IF(H11-K11<0,"동의필요","-") -> - | T11: =IF($S11<>"도비",IF($Q11="국도비","직접입력",SUM($H11:$I11)),) -> 0 | U11: =IF($S11="도비",SUM($H11:$I11),IF($Q11="국도비","직접입력",SUM($H11:$I11)-$T11)) -> 0 | V11: =IF($Q11="국도비","ok",IF(($H11+$I11)=($T11+$U11),"ok","검토")) -> ok | X11: =$S11 -> 0 | Y11: =IF($X11<>"도비",IF($Q11="국도비","직접입력",SUM($K11:$L11)),) -> 0 | Z11: =IF($X11="도비",SUM($K11:$L11),IF($Q11="국도비","직접입력",SUM($K11:$L11)-$Y11)) -> 0 | AA11: =IF($Q11="국도비","ok",IF(($K11+$L11)=($Y11+$Z11),"ok","검토")) -> ok | AC11: {=IFERROR(IF($C11="","",INDEX(구분표!$I$2:$I$1001,MATCH(1,(구분표!$B$2:$B$1001='15년일입'!$A11)*(구분표!$C$2:$C$1001='15년일입'!$B11)*(구분표!$A$2:$A$1001='15년일입'!$C11),0))),"@@")}
A12: =IFERROR(VLOOKUP('15년일입'!$C12,구분표!$A$2:$C$1001,2,FALSE),"") | B12: =IFERROR(VLOOKUP('15년일입'!$C12,구분표!$A$2:$C$1001,3,FALSE),"") | J12: =SUM(G12+H12+I12) -> 0 | M12: =SUM(G12+K12+L12) -> 0 | N12: =IF(H12-K12<0,"동의필요","-") -> - | T12: =IF($S12<>"도비",IF($Q12="국도비","직접입력",SUM($H12:$I12)),) -> 0 | U12: =IF($S12="도비",SUM($H12:$I12),IF($Q12="국도비","직접입력",SUM($H12:$I12)-$T12)) -> 0 | V12: =IF($Q12="국도비","ok",IF(($H12+$I12)=($T12+$U12),"ok","검토")) -> ok | X12: =$S12 -> 0 | Y12: =IF($X12<>"도비",IF($Q12="국도비","직접입력",SUM($K12:$L12)),) -> 0 | Z12: =IF($X12="도비",SUM($K12:$L12),IF($Q12="국도비","직접입력",SUM($K12:$L12)-$Y12)) -> 0 | AA12: =IF($Q12="국도비","ok",IF(($K12+$L12)=($Y12+$Z12),"ok","검토")) -> ok | AC12: {=IFERROR(IF($C12="","",INDEX(구분표!$I$2:$I$1001,MATCH(1,(구분표!$B$2:$B$1001='15년일입'!$A12)*(구분표!$C$2:$C$1001='15년일입'!$B12)*(구분표!$A$2:$A$1001='15년일입'!$C12),0))),"@@")}
A13: =IFERROR(VLOOKUP('15년일입'!$C13,구분표!$A$2:$C$1001,2,FALSE),"") | B13: =IFERROR(VLOOKUP('15년일입'!$C13,구분표!$A$2:$C$1001,3,FALSE),"") | J13: =SUM(G13+H13+I13) -> 0 | M13: =SUM(G13+K13+L13) -> 0 | N13: =IF(H13-K13<0,"동의필요","-") -> - | T13: =IF($S13<>"도비",IF($Q13="국도비","직접입력",SUM($H13:$I13)),) -> 0 | U13: =IF($S13="도비",SUM($H13:$I13),IF($Q13="국도비","직접입력",SUM($H13:$I13)-$T13)) -> 0 | V13: =IF($Q13="국도비","ok",IF(($H13+$I13)=($T13+$U13),"ok","검토")) -> ok | X13: =$S13 -> 0 | Y13: =IF($X13<>"도비",IF($Q13="국도비","직접입력",SUM($K13:$L13)),) -> 0 | Z13: =IF($X13="도비",SUM($K13:$L13),IF($Q13="국도비","직접입력",SUM($K13:$L13)-$Y13)) -> 0 | AA13: =IF($Q13="국도비","ok",IF(($K13+$L13)=($Y13+$Z13),"ok","검토")) -> ok | AC13: {=IFERROR(IF($C13="","",INDEX(구분표!$I$2:$I$1001,MATCH(1,(구분표!$B$2:$B$1001='15년일입'!$A13)*(구분표!$C$2:$C$1001='15년일입'!$B13)*(구분표!$A$2:$A$1001='15년일입'!$C13),0))),"@@")}
A14: =IFERROR(VLOOKUP('15년일입'!$C14,구분표!$A$2:$C$1001,2,FALSE),"") | B14: =IFERROR(VLOOKUP('15년일입'!$C14,구분표!$A$2:$C$1001,3,FALSE),"") | J14: =SUM(G14+H14+I14) -> 0 | M14: =SUM(G14+K14+L14) -> 0 | N14: =IF(H14-K14<0,"동의필요","-") -> - | T14: =IF($S14<>"도비",IF($Q14="국도비","직접입력",SUM($H14:$I14)),) -> 0 | U14: =IF($S14="도비",SUM($H14:$I14),IF($Q14="국도비","직접입력",SUM($H14:$I14)-$T14)) -> 0 | V14: =IF($Q14="국도비","ok",IF(($H14+$I14)=($T14+$U14),"ok","검토")) -> ok | X14: =$S14 -> 0 | Y14: =IF($X14<>"도비",IF($Q14="국도비","직접입력",SUM($K14:$L14)),) -> 0 | Z14: =IF($X14="도비",SUM($K14:$L14),IF($Q14="국도비","직접입력",SUM($K14:$L14)-$Y14)) -> 0 | AA14: =IF($Q14="국도비","ok",IF(($K14+$L14)=($Y14+$Z14),"ok","검토")) -> ok | AC14: {=IFERROR(IF($C14="","",INDEX(구분표!$I$2:$I$1001,MATCH(1,(구분표!$B$2:$B$1001='15년일입'!$A14)*(구분표!$C$2:$C$1001='15년일입'!$B14)*(구분표!$A$2:$A$1001='15년일입'!$C14),0))),"@@")}
A15: =IFERROR(VLOOKUP('15년일입'!$C15,구분표!$A$2:$C$1001,2,FALSE),"") | B15: =IFERROR(VLOOKUP('15년일입'!$C15,구분표!$A$2:$C$1001,3,FALSE),"") | J15: =SUM(G15+H15+I15) -> 0 | M15: =SUM(G15+K15+L15) -> 0 | N15: =IF(H15-K15<0,"동의필요","-") -> - | T15: =IF($S15<>"도비",IF($Q15="국도비","직접입력",SUM($H15:$I15)),) -> 0 | U15: =IF($S15="도비",SUM($H15:$I15),IF($Q15="국도비","직접입력",SUM($H15:$I15)-$T15)) -> 0 | V15: =IF($Q15="국도비","ok",IF(($H15+$I15)=($T15+$U15),"ok","검토")) -> ok | X15: =$S15 -> 0 | Y15: =IF($X15<>"도비",IF($Q15="국도비","직접입력",SUM($K15:$L15)),) -> 0 | Z15: =IF($X15="도비",SUM($K15:$L15),IF($Q15="국도비","직접입력",SUM($K15:$L15)-$Y15)) -> 0 | AA15: =IF($Q15="국도비","ok",IF(($K15+$L15)=($Y15+$Z15),"ok","검토")) -> ok | AC15: {=IFERROR(IF($C15="","",INDEX(구분표!$I$2:$I$1001,MATCH(1,(구분표!$B$2:$B$1001='15년일입'!$A15)*(구분표!$C$2:$C$1001='15년일입'!$B15)*(구분표!$A$2:$A$1001='15년일입'!$C15),0))),"@@")}
A16: =IFERROR(VLOOKUP('15년일입'!$C16,구분표!$A$2:$C$1001,2,FALSE),"") | B16: =IFERROR(VLOOKUP('15년일입'!$C16,구분표!$A$2:$C$1001,3,FALSE),"") | J16: =SUM(G16+H16+I16) -> 0 | M16: =SUM(G16+K16+L16) -> 0 | N16: =IF(H16-K16<0,"동의필요","-") -> - | T16: =IF($S16<>"도비",IF($Q16="국도비","직접입력",SUM($H16:$I16)),) -> 0 | U16: =IF($S16="도비",SUM($H16:$I16),IF($Q16="국도비","직접입력",SUM($H16:$I16)-$T16)) -> 0 | V16: =IF($Q16="국도비","ok",IF(($H16+$I16)=($T16+$U16),"ok","검토")) -> ok | X16: =$S16 -> 0 | Y16: =IF($X16<>"도비",IF($Q16="국도비","직접입력",SUM($K16:$L16)),) -> 0 | Z16: =IF($X16="도비",SUM($K16:$L16),IF($Q16="국도비","직접입력",SUM($K16:$L16)-$Y16)) -> 0 | AA16: =IF($Q16="국도비","ok",IF(($K16+$L16)=($Y16+$Z16),"ok","검토")) -> ok | AC16: {=IFERROR(IF($C16="","",INDEX(구분표!$I$2:$I$1001,MATCH(1,(구분표!$B$2:$B$1001='15년일입'!$A16)*(구분표!$C$2:$C$1001='15년일입'!$B16)*(구분표!$A$2:$A$1001='15년일입'!$C16),0))),"@@")}
A17: =IFERROR(VLOOKUP('15년일입'!$C17,구분표!$A$2:$C$1001,2,FALSE),"") | B17: =IFERROR(VLOOKUP('15년일입'!$C17,구분표!$A$2:$C$1001,3,FALSE),"") | J17: =SUM(G17+H17+I17) -> 0 | M17: =SUM(G17+K17+L17) -> 0 | N17: =IF(H17-K17<0,"동의필요","-") -> - | T17: =IF($S17<>"도비",IF($Q17="국도비","직접입력",SUM($H17:$I17)),) -> 0 | U17: =IF($S17="도비",SUM($H17:$I17),IF($Q17="국도비","직접입력",SUM($H17:$I17)-$T17)) -> 0 | V17: =IF($Q17="국도비","ok",IF(($H17+$I17)=($T17+$U17),"ok","검토")) -> ok | X17: =$S17 -> 0 | Y17: =IF($X17<>"도비",IF($Q17="국도비","직접입력",SUM($K17:$L17)),) -> 0 | Z17: =IF($X17="도비",SUM($K17:$L17),IF($Q17="국도비","직접입력",SUM($K17:$L17)-$Y17)) -> 0 | AA17: =IF($Q17="국도비","ok",IF(($K17+$L17)=($Y17+$Z17),"ok","검토")) -> ok | AC17: {=IFERROR(IF($C17="","",INDEX(구분표!$I$2:$I$1001,MATCH(1,(구분표!$B$2:$B$1001='15년일입'!$A17)*(구분표!$C$2:$C$1001='15년일입'!$B17)*(구분표!$A$2:$A$1001='15년일입'!$C17),0))),"@@")}
A18: =IFERROR(VLOOKUP('15년일입'!$C18,구분표!$A$2:$C$1001,2,FALSE),"") | B18: =IFERROR(VLOOKUP('15년일입'!$C18,구분표!$A$2:$C$1001,3,FALSE),"") | J18: =SUM(G18+H18+I18) -> 0 | M18: =SUM(G18+K18+L18) -> 0 | N18: =IF(H18-K18<0,"동의필요","-") -> - | T18: =IF($S18<>"도비",IF($Q18="국도비","직접입력",SUM($H18:$I18)),) -> 0 | U18: =IF($S18="도비",SUM($H18:$I18),IF($Q18="국도비","직접입력",SUM($H18:$I18)-$T18)) -> 0 | V18: =IF($Q18="국도비","ok",IF(($H18+$I18)=($T18+$U18),"ok","검토")) -> ok | X18: =$S18 -> 0 | Y18: =IF($X18<>"도비",IF($Q18="국도비","직접입력",SUM($K18:$L18)),) -> 0 | Z18: =IF($X18="도비",SUM($K18:$L18),IF($Q18="국도비","직접입력",SUM($K18:$L18)-$Y18)) -> 0 | AA18: =IF($Q18="국도비","ok",IF(($K18+$L18)=($Y18+$Z18),"ok","검토")) -> ok | AC18: {=IFERROR(IF($C18="","",INDEX(구분표!$I$2:$I$1001,MATCH(1,(구분표!$B$2:$B$1001='15년일입'!$A18)*(구분표!$C$2:$C$1001='15년일입'!$B18)*(구분표!$A$2:$A$1001='15년일입'!$C18),0))),"@@")}
A19: =IFERROR(VLOOKUP('15년일입'!$C19,구분표!$A$2:$C$1001,2,FALSE),"") | B19: =IFERROR(VLOOKUP('15년일입'!$C19,구분표!$A$2:$C$1001,3,FALSE),"") | J19: =SUM(G19+H19+I19) -> 0 | M19: =SUM(G19+K19+L19) -> 0 | N19: =IF(H19-K19<0,"동의필요","-") -> - | T19: =IF($S19<>"도비",IF($Q19="국도비","직접입력",SUM($H19:$I19)),) -> 0 | U19: =IF($S19="도비",SUM($H19:$I19),IF($Q19="국도비","직접입력",SUM($H19:$I19)-$T19)) -> 0 | V19: =IF($Q19="국도비","ok",IF(($H19+$I19)=($T19+$U19),"ok","검토")) -> ok | X19: =$S19 -> 0 | Y19: =IF($X19<>"도비",IF($Q19="국도비","직접입력",SUM($K19:$L19)),) -> 0 | Z19: =IF($X19="도비",SUM($K19:$L19),IF($Q19="국도비","직접입력",SUM($K19:$L19)-$Y19)) -> 0 | AA19: =IF($Q19="국도비","ok",IF(($K19+$L19)=($Y19+$Z19),"ok","검토")) -> ok | AC19: {=IFERROR(IF($C19="","",INDEX(구분표!$I$2:$I$1001,MATCH(1,(구분표!$B$2:$B$1001='15년일입'!$A19)*(구분표!$C$2:$C$1001='15년일입'!$B19)*(구분표!$A$2:$A$1001='15년일입'!$C19),0))),"@@")}
A20: =IFERROR(VLOOKUP('15년일입'!$C20,구분표!$A$2:$C$1001,2,FALSE),"") | B20: =IFERROR(VLOOKUP('15년일입'!$C20,구분표!$A$2:$C$1001,3,FALSE),"") | J20: =SUM(G20+H20+I20) -> 0 | M20: =SUM(G20+K20+L20) -> 0 | N20: =IF(H20-K20<0,"동의필요","-") -> - | T20: =IF($S20<>"도비",IF($Q20="국도비","직접입력",SUM($H20:$I20)),) -> 0 | U20: =IF($S20="도비",SUM($H20:$I20),IF($Q20="국도비","직접입력",SUM($H20:$I20)-$T20)) -> 0 | V20: =IF($Q20="국도비","ok",IF(($H20+$I20)=($T20+$U20),"ok","검토")) -> ok | X20: =$S20 -> 0 | Y20: =IF($X20<>"도비",IF($Q20="국도비","직접입력",SUM($K20:$L20)),) -> 0 | Z20: =IF($X20="도비",SUM($K20:$L20),IF($Q20="국도비","직접입력",SUM($K20:$L20)-$Y20)) -> 0 | AA20: =IF($Q20="국도비","ok",IF(($K20+$L20)=($Y20+$Z20),"ok","검토")) -> ok | AC20: {=IFERROR(IF($C20="","",INDEX(구분표!$I$2:$I$1001,MATCH(1,(구분표!$B$2:$B$1001='15년일입'!$A20)*(구분표!$C$2:$C$1001='15년일입'!$B20)*(구분표!$A$2:$A$1001='15년일입'!$C20),0))),"@@")}
... A378: =IFERROR(VLOOKUP('15년일입'!$C378,구분표!$A$2:$C$1001,2,FALSE),"") | B378: =IFERROR(VLOOKUP('15년일입'!$C378,구분표!$A$2:$C$1001,3,FALSE),"") | J378: =SUM(G378+H378+I378) -> 0 | M378: =SUM(G378+K378+L378) -> 0 | N378: =IF(H378-K378<0,"동의필요","-") -> - | T378: =IF($S378<>"도비",IF($Q378="국도비","직접입력",SUM($H378:$I378)),) -> 0 | U378: =IF($S378="도비",SUM($H378:$I378),IF($Q378="국도비","직접입력",SUM($H378:$I378)-$T378)) -> 0 | V378: =IF($Q378="국도비","ok",IF(($H378+$I378)=($T378+$U378),"ok","검토")) -> ok | X378: =$S378 | Y378: =IF($X378<>"도비",IF($Q378="국도비","직접입력",SUM($K378:$L378)),) -> 0 | Z378: =IF($X378="도비",SUM($K378:$L378),IF($Q378="국도비","직접입력",SUM($K378:$L378)-$Y378)) -> 0 | AA378: =IF($Q378="국도비","ok",IF(($K378+$L378)=($Y378+$Z378),"ok","검토")) -> ok | AC378: {=IFERROR(IF($C378="","",INDEX(구분표!$I$2:$I$1001,MATCH(1,(구분표!$B$2:$B$1001='15년일입'!$A378)*(구분표!$C$2:$C$1001='15년일입'!$B378)*(구분표!$A$2:$A$1001='15년일입'!$C378),0))),"@@")}

Sheet 15년일출
A1: 2015년도 경기도 일반회계 세출 예산 조정(안)
A2: □세출예산 | T2: 세입 = 세출 | Y2: 세입 = 세출
H3: =COUNTA(H15:H405) -> 27 | I3: =COUNTA(I15:I405) -> 27 | K3: =COUNTA(K15:K405) -> 3 | L3: =COUNTA(L15:L405) -> 0 | O3: (단위 : 천원) | T3: =IF(T6='15년일입'!$T$6,"OK","@@") -> OK | U3: =SUM(T6:U6) -> 60000 | V3: =IF(COUNTIF(V6:V1298,"@@")>0,"@@","OK") -> OK | Y3: =IF(Y6='2추일입'!$AA$6,"OK","@@") -> OK | Z3: =SUM(Y6:Z6) -> 0 | AA3: =IF(COUNTIF(AA6:AA1298,"@@")>0,"@@","OK") -> OK
A4: 위원회명 | B4: 실국명 | C4: 부서명 | D4: 편성 구분 | E4: 예산안 페이지 | F4: 세부사업명 및 부기명 | G4: 예산안 (가) | H4: 상임위 예산안 조정액(나) | J4: 상임위 수정 예산안 (다=가+나) | K4: 예결위 예산안 조정액(라) | M4: 예결위 수정 예산안 (마=가+라) | N4: 동의대상 | O4: 비고(부대의견) | Q4: 국도비 등 여부 | S4: 재원 | T4: 상임위 재원별 증감액 | X4: 재원 | Y4: 예결위 재원별 증감액 | AC4: 위원회 부서별 정렬
H5: 감액 | I5: 증액 | K5: 감액 | L5: 증액 | T5: 국비 등 | U5: 도 비 | V5: 검증 | Y5: 국비 등 | Z5: 도 비 | AA5: 검증
A6: C열 부서명 입력하면 자동 입력 됩니다 | B6: C열 부서명 입력하면 자동 입력 됩니다 | D6: 선택입력 | F6: 예산안의 세부사업명 및 부기명과 동일하게 입력하세요 | G6: =SUBTOTAL(9,G7:G397) -> 103830425 | H6: =SUBTOTAL(9,H7:H397) -> -5925781 | I6: =SUBTOTAL(9,I7:I397) -> 25660500 | J6: =SUBTOTAL(9,J7:J397) -> 123565144 | K6: =SUBTOTAL(9,K15:K1210) -> 0 | L6: =SUBTOTAL(9,L15:L1210) -> 0 | M6: =SUBTOTAL(9,M15:M1210) -> 21367000 | O6: =J6-G6 -> 19734719 | S6: 자동 입력 | T6: =SUBTOTAL(9,T15:T1210) -> 0 | U6: =SUBTOTAL(9,U15:U1210) -> 60000 | V6: =IF((H6+I6)=(T6+U6),"OK","검토") -> 검토 | Y6: =SUBTOTAL(9,Y15:Y1210) -> 0 | Z6: =SUBTOTAL(9,Z15:Z1210) -> 0 | AA6: =IF((K6+L6)=(Y6+Z6),"OK","검토") -> OK | AC6: =IF(COUNTIF(AC15:AC1027,"@@")>0,"@@","OK") -> OK
A7: 건설교통위원회 | B7: 철도국 | C7: 광역도시철도과 | D7: 본예산 | E7: 901 | F7: 송내역 환승센터 건립(국비/지원) | G7: 1849000 | H7: 0 | I7: 1151000 | J7: =G7+H7+I7 -> 3000000 | O7: 15년 완공추진 | Q7: 도비 | S7: =IF($Q7="도비","도비",IF(COUNT(FIND("국비/",$F7)),"국비",IF(COUNT(FIND("지특/",$F7)),"지특",IF(COUNT(FIND("기금/",$F7)),"기금",IF(COUNT(FIND("교부세/",$F7)),"특교",IF(COUNT(FIND("자체/",$F7)),"도비","")))))) -> 도비 | U7: -49999 | V7: =IF($Q7="국도비","ok",IF(($H7+$I7)=($T7+$U7),"ok","검토")) -> 검토 | X7: 도비 | Z7: =IF($X7="도비",SUM($K7:$L7),IF($Q7="국도비","직접입력",SUM($K7:$L7)-$Y7)) -> 0 | AA7: =IF($Q7="국도비","ok",IF(($K7+$L7)=($Y7+$Z7),"ok","검토")) -> ok | AC7: {=IFERROR(IF($C7="","",INDEX(구분표!$I$2:$I$1001,MATCH(1,(구분표!$B$2:$B$1001='15년일출'!$A7)*(구분표!$C$2:$C$1001='15년일출'!$B7)*(구분표!$A$2:$A$1001='15년일출'!$C7),0))),"@@")} -> 2202
A8: 건설교통위원회 | B8: 철도국 | C8: 철도물류정책과 | D8: 본예산 | E8: 898 | F8: 경기철도 포럼 운영 | G8: 40000 | H8: 0 | I8: 20000 | J8: =G8+H8+I8 -> 60000 | O8: 포럼 확대운영, 국간협업
A9: 건설교통위원회 | B9: 교통국 | C9: 교통정책과 | D9: 본예산 | E9: 911 | F9: 어르신 운전자 교통안전 제고(자체/직접) | G9: 50000 | H9: -50000 | I9: 0 | J9: =G9+H9+I9 -> 0 | O9: 스티커제작 전액삭감 | Q9: 도비 | S9: =IF($Q9="도비","도비",IF(COUNT(FIND("국비/",$F9)),"국비",IF(COUNT(FIND("지특/",$F9)),"지특",IF(COUNT(FIND("기금/",$F9)),"기금",IF(COUNT(FIND("교부세/",$F9)),"특교",IF(COUNT(FIND("자체/",$F9)),"도비","")))))) -> 도비 | U9: -50000 | V9: =IF($Q9="국도비","ok",IF(($H9+$I9)=($T9+$U9),"ok","검토")) -> ok | X9: 도비 | Z9: =IF($X9="도비",SUM($K9:$L9),IF($Q9="국도비","직접입력",SUM($K9:$L9)-$Y9)) -> 0 | AA9: =IF($Q9="국도비","ok",IF(($K9+$L9)=($Y9+$Z9),"ok","검토")) -> ok | AC9: {=IFERROR(IF($C9="","",INDEX(구분표!$I$2:$I$1001,MATCH(1,(구분표!$B$2:$B$1001='15년일출'!$A9)*(구분표!$C$2:$C$1001='15년일출'!$B9)*(구분표!$A$2:$A$1001='15년일출'!$C9),0))),"@@")} -> 2301
A10: 건설교통위원회 | B10: 교통국 | C10: 교통정책과 | D10: 본예산 | E10: 911 | F10: 수도권교통본부운영경비부담금(자체/직접) | G10: 354401 | H10: -354401 | I10: 0 | J10: =G10+H10+I10 -> 0 | O10: 수도권교통조합 폐지 필요 운영비 전액삭감 | Q10: 도비 | S10: =IF($Q10="도비","도비",IF(COUNT(FIND("국비/",$F10)),"국비",IF(COUNT(FIND("지특/",$F10)),"지특",IF(COUNT(FIND("기금/",$F10)),"기금",IF(COUNT(FIND("교부세/",$F10)),"특교",IF(COUNT(FIND("자체/",$F10)),"도비","")))))) -> 도비 | U10: -60000 | V10: =IF($Q10="국도비","ok",IF(($H10+$I10)=($T10+$U10),"ok","검토")) -> 검토 | X10: 도비 | Z10: =IF($X10="도비",SUM($K10:$L10),IF($Q10="국도비","직접입력",SUM($K10:$L10)-$Y10)) -> 0 | AA10: =IF($Q10="국도비","ok",IF(($K10+$L10)=($Y10+$Z10),"ok","검토")) -> ok | AC10: {=IFERROR(IF($C10="","",INDEX(구분표!$I$2:$I$1001,MATCH(1,(구분표!$B$2:$B$1001='15년일출'!$A10)*(구분표!$C$2:$C$1001='15년일출'!$B10)*(구분표!$A$2:$A$1001='15년일출'!$C10),0))),"@@")} -> 2301
A11: 건설교통위원회 | B11: 교통국 | C11: 교통정책과 | D11: 본예산 | E11: 신규 | F11: 경기도 교통발전 토론회(행사운영비) | G11: 0 | H11: 0 | I11: 20000 | J11: =G11+H11+I11 -> 20000 | O11: 국간 협업추진
A12: 건설교통위원회 | B12: 교통국 | C12: 교통정책과 | D12: 본예산 | E12: 910 | F12: 경기도교통연수원운영경비지원(자체/직접) | G12: 2300000 | H12: 0 | I12: 100000 | J12: =G12+H12+I12 -> 2400000 | O12: 운영비 부족분 민간경상사업보조 757,000천원 민간단체법정운영비보조1,643,000천원
A13: 건설교통위원회 | B13: 교통국 | C13: 버스정책과 | D13: 본예산 | E13: 913 | F13: 마을버스 청소년요금할인 결손보전 | G13: 2503604 | H13: 0 | I13: 100000 | J13: =G13+H13+I13 -> 2603604 | M13: =SUM(G13+K13+L13) -> 2503604 | N13: =IF(H13-K13<0,"동의필요","-") -> - | O13: 청소년할인금액 60원에서 65원으로 대중버스와 균형 | Q13: 도비 | S13: =IF($Q13="도비","도비",IF(COUNT(FIND("국비/",$F13)),"국비",IF(COUNT(FIND("지특/",$F13)),"지특",IF(COUNT(FIND("기금/",$F13)),"기금",IF(COUNT(FIND("교부세/",$F13)),"특교",IF(COUNT(FIND("자체/",$F13)),"도비","")))))) -> 도비 | U13: -70000 | V13: =IF($Q13="국도비","ok",IF(($H13+$I13)=($T13+$U13),"ok","검토")) -> 검토 | X13: =$S13 -> 도비 | Y13: =IF($X13<>"도비",IF($Q13="국도비","직접입력",SUM($K13:$L13)),) -> 0 | Z13: =IF($X13="도비",SUM($K13:$L13),IF($Q13="국도비","직접입력",SUM($K13:$L13)-$Y13)) -> 0 | AA13: =IF($Q13="국도비","ok",IF(($K13+$L13)=($Y13+$Z13),"ok","검토")) -> ok | AC13: {=IFERROR(IF($C13="","",INDEX(구분표!$I$2:$I$1001,MATCH(1,(구분표!$B$2:$B$1001='15년일출'!$A13)*(구분표!$C$2:$C$1001='15년일출'!$B13)*(구분표!$A$2:$A$1001='15년일출'!$C13),0))),"@@")} -> 2302
A14: 건설교통위원회 | B14: 교통국 | C14: 굿모닝버스추진단 | D14: 본예산 | E14: 917 | F14: 맞춤형 따복버스 시범운행사업(자체/지원) | G14: 500000 | H14: -250000 | I14: 0 | J14: =SUM(G14+H14+I14) -> 250000 | M14: =SUM(G14+K14+L14) -> 500000 | N14: =IF(H14-K14<0,"동의필요","-") -> 동의필요 | O14: 공단지역 내 기업통근버스 운행 등 사업재검토 후 추진 | Q14: 도비 | S14: =IF($Q14="도비","도비",IF(COUNT(FIND("국비/",$F14)),"국비",IF(COUNT(FIND("지특/",$F14)),"지특",IF(COUNT(FIND("기금/",$F14)),"기금",IF(COUNT(FIND("교부세/",$F14)),"특교",IF(COUNT(FIND("자체/",$F14)),"도비","")))))) -> 도비 | T14: =IF($S14<>"도비",IF($Q14="국도비","직접입력",SUM($H14:$I14)),) -> 0 | U14: =IF($S14="도비",SUM($H14:$I14),IF($Q14="국도비","직접입력",SUM($H14:$I14)-$T14)) -> -250000 | V14: =IF($Q14="국도비","ok",IF(($H14+$I14)=($T14+$U14),"ok","검토")) -> ok | X14: =$S14 -> 도비 | Y14: =IF($X14<>"도비",IF($Q14="국도비","직접입력",SUM($K14:$L14)),) -> 0 | Z14: =IF($X14="도비",SUM($K14:$L14),IF($Q14="국도비","직접입력",SUM($K14:$L14)-$Y14)) -> 0 | AA14: =IF($Q14="국도비","ok",IF(($K14+$L14)=($Y14+$Z14),"ok","검토")) -> ok | AC14: {=IFERROR(IF($C14="","",INDEX(구분표!$I$2:$I$1001,MATCH(1,(구분표!$B$2:$B$1001='15년일출'!$A14)*(구분표!$C$2:$C$1001='15년일출'!$B14)*(구분표!$A$2:$A$1001='15년일출'!$C14),0))),"@@")} -> 2303
A15: 건설교통위원회 | B15: 교통국 | C15: 택시정책과 | D15: 본예산 | E15: 920 | F15: 통합브랜드콜택시 홍보, 교육 및 평가인센티브 지원 | G15: 814000 | H15: -162800 | I15: 0 | J15: =G15+H15+I15 -> 651200 | O15: 불필요 소모성 경비 삭감 | Q15: 도비 | S15: =IF($Q15="도비","도비",IF(COUNT(FIND("국비/",$F15)),"국비",IF(COUNT(FIND("지특/",$F15)),"지특",IF(COUNT(FIND("기금/",$F15)),"기금",IF(COUNT(FIND("교부세/",$F15)),"특교",IF(COUNT(FIND("자체/",$F15)),"도비","")))))) -> 도비 | U15: -60000 | V15: =IF($Q15="국도비","ok",IF(($H15+$I15)=($T15+$U15),"ok","검토")) -> 검토 | X15: 도비 | Z15: =IF($X15="도비",SUM($K15:$L15),IF($Q15="국도비","직접입력",SUM($K15:$L15)-$Y15)) -> 0 | AA15: =IF($Q15="국도비","ok",IF(($K15+$L15)=($Y15+$Z15),"ok","검토")) -> ok | AC15: {=IFERROR(IF($C15="","",INDEX(구분표!$I$2:$I$1001,MATCH(1,(구분표!$B$2:$B$1001='15년일출'!$A15)*(구분표!$C$2:$C$1001='15년일출'!$B15)*(구분표!$A$2:$A$1001='15년일출'!$C15),0))),"@@")} -> 2304
A16: 건설교통위원회 | B16: 교통국 | C16: 택시정책과 | D16: 본예산 | E16: 920 | F16: 통합브랜드 콜택시 지원(자체/지원) | G16: 175920 | H16: -35180 | I16: 0 | J16: =G16+H16+I16 -> 140740 | O16: 불필요 소모성 경비 삭감 | Q16: 도비 | S16: =IF($Q16="도비","도비",IF(COUNT(FIND("국비/",$F16)),"국비",IF(COUNT(FIND("지특/",$F16)),"지특",IF(COUNT(FIND("기금/",$F16)),"기금",IF(COUNT(FIND("교부세/",$F16)),"특교",IF(COUNT(FIND("자체/",$F16)),"도비","")))))) -> 도비 | U16: -60000 | V16: =IF($Q16="국도비","ok",IF(($H16+$I16)=($T16+$U16),"ok","검토")) -> 검토 | X16: 도비 | Z16: =IF($X16="도비",SUM($K16:$L16),IF($Q16="국도비","직접입력",SUM($K16:$L16)-$Y16)) -> 0 | AA16: =IF($Q16="국도비","ok",IF(($K16+$L16)=($Y16+$Z16),"ok","검토")) -> ok | AC16: {=IFERROR(IF($C16="","",INDEX(구분표!$I$2:$I$1001,MATCH(1,(구분표!$B$2:$B$1001='15년일출'!$A16)*(구분표!$C$2:$C$1001='15년일출'!$B16)*(구분표!$A$2:$A$1001='15년일출'!$C16),0))),"@@")} -> 2304
A17: 건설교통위원회 | B17: 교통국 | C17: 택시정책과 | D17: 본예산 | E17: 920 | F17: 택시 CCTV 교체설치(자체/지원) | G17: 367000 | H17: -73400 | I17: 0 | J17: =G17+H17+I17 -> 293600 | M17: =SUM(G17+K17+L17) -> 367000 | N17: =IF(H17-K17<0,"동의필요","-") -> 동의필요 | O17: 불필요 소모성 경비 삭감 | Q17: 도비 | S17: =IF($Q17="도비","도비",IF(COUNT(FIND("국비/",$F17)),"국비",IF(COUNT(FIND("지특/",$F17)),"지특",IF(COUNT(FIND("기금/",$F17)),"기금",IF(COUNT(FIND("교부세/",$F17)),"특교",IF(COUNT(FIND("자체/",$F17)),"도비","")))))) -> 도비 | U17: 180000 | V17: =IF($Q17="국도비","ok",IF(($H17+$I17)=($T17+$U17),"ok","검토")) -> 검토 | X17: =$S17 -> 도비 | Y17: =IF($X17<>"도비",IF($Q17="국도비","직접입력",SUM($K17:$L17)),) -> 0 | Z17: =IF($X17="도비",SUM($K17:$L17),IF($Q17="국도비","직접입력",SUM($K17:$L17)-$Y17)) -> 0 | AA17: =IF($Q17="국도비","ok",IF(($K17+$L17)=($Y17+$Z17),"ok","검토")) -> ok | AC17: {=IFERROR(IF($C17="","",INDEX(구분표!$I$2:$I$1001,MATCH(1,(구분표!$B$2:$B$1001='15년일출'!$A17)*(구분표!$C$2:$C$1001='15년일출'!$B17)*(구분표!$A$2:$A$1001='15년일출'!$C17),0))),"@@")} -> 2304
A18: 건설교통위원회 | B18: 건설국 | C18: 건설안전과 | D18: 본예산 | E18: 936 | F18: 노후교량 성능개선 사업(자체/지원) | G18: 380000 | H18: 0 | I18: 620000 | J18: =G18+H18+I18 -> 1000000 | K18: 광역교통시설특별회계 검토 | M18: 도비 | O18: 노후교량 개선 예산부족 | P18: 0 | Q18: 1643000 | R18: ok | T18: 도비 | U18: 0 | V18: 0 | W18: ok | Y18: @@
A19: 건설교통위원회 | B19: 건설국 | C19: 건설안전과 | D19: 본예산 | E19: 신규 | F19: 도로 유지관리 우수시군 포상(자체/직접) | G19: 0 | H19: 0 | I19: 450000 | J19: =G19+H19+I19 -> 450000 | O19: 시군간 경쟁을 통한 도로유지관리강화
A20: 건설교통위원회 | B20: 건설국 | C20: 건설안전과 | D20: 본예산 | E20: 신규 | F20: 경기도 건설발전 토론회(행사운영비) | G20: 0 | H20: 0 | I20: 20000 | J20: =G20+H20+I20 -> 20000 | O20: 국간 협업추진
A21: 건설교통위원회 | B21: 건설국 | C21: 도로정책과 | D21: 본예산 | E21: 939 | F21: 오포~포곡(2) 국지도건설(지특,지방채/직접) | G21: 19500000 | H21: 0 | I21: 1000000 | J21: =G21+H21+I21 -> 20500000 | K21: 집행부 의견청취 | O21: 보상비 부족분
A22: 건설교통위원회 | B22: 건설국 | C22: 도로정책과 | D22: 본예산 | E22: 944 | F22: 여주~가남 도로확포장공사(자체/직접) | G22: 6000000 | H22: -2000000 | I22: 0 | J22: =G22+H22+I22 -> 4000000 | O22: 예산집중 지원(지역안배 필요)
A23: 건설교통위원회 | B23: 건설국 | C23: 도로정책과 | D23: 본예산 | E23: 945 | F23: 안중~신왕 도로확포장공사(자체/직접) | G23: 1000000 | H23: 0 | I23: 1000000 | J23: =G23+H23+I23 -> 2000000 | O23: 사업비 부족
A24: 건설교통위원회 | B24: 건설국 | C24: 도로정책과 | D24: 본예산 | E24: 945 | F24: 용문~단월 도로확포장공사(자체/직접) | G24: 1500000 | H24: 0 | I24: 500000 | J24: =G24+H24+I24 -> 2000000 | O24: 공사비, 보상비 부족분
A25: 건설교통위원회 | B25: 건설국 | C25: 도로정책과 | D25: 본예산 | E25: 948 | F25: 일죽~대포(1) 도로확포장공사(자체/직접) | G25: 2000000 | H25: 0 | I25: 1000000 | J25: =G25+H25+I25 -> 3000000 | O25: 사업비 부족
A26: 건설교통위원회 | B26: 건설국 | C26: 도로정책과 | D26: 본예산 | E26: 949 | F26: 삼성로 확장공사(자체/지원) | G26: 3000000 | H26: -3000000 | I26: 0 | J26: =G26+H26+I26 -> 0 | O26: 시책보전금으로 추진
A27: 건설교통위원회 | B27: 건설국 | C27: 도로정책과 | D27: 본예산 | E27: 950 | F27: 제3경인고속화도로 정왕IC개선사업(자체/직접) | G27: 5000000 | H27: 0 | I27: 5800000 | J27: =G27+H27+I27 -> 10800000 | O27: 개선공사 적기완공 예산부족
A28: 건설교통위원회 | B28: 건설국 | C28: 도로정책과 | D28: 본예산 | E28: 신규 | F28: 성남~광주 도로확포장공사(자체/지원) | G28: 0 | H28: 0 | I28: 2000000 | J28: =G28+H28+I28 -> 2000000 | O28: 이배재터널 공사비 부족
A29: 건설교통위원회 | B29: 건설국 | C29: 도로정책과 | D29: 본예산 | E29: 신규 | F29: 하송우~마산 도로확포장공사(자체/직접) | G29: 0 | H29: 0 | I29: 2000000 | J29: =G29+H29+I29 -> 2000000 | O29: 구리~포천간 고속도로 교차로부분 구조물 선착공
A30: 건설교통위원회 | B30: 건설국 | C30: 도로정책과 | D30: 본예산 | E30: 신규 | F30: 월롱~광탄 도로확포장공사(자체/직접) | G30: 0 | H30: 0 | I30: 2000000 | J30: =G30+H30+I30 -> 2000000 | O30: 보상비 부족분
A31: 건설교통위원회 | B31: 건설국 | C31: 하천과 | D31: 본예산 | E31: 962 | F31: 지방하천개수시군대행사업 | G31: 15460000 | H31: 0 | I31: 2000000 | J31: =G31+H31+I31 -> 17460000 | O31: 동막천 20억원 보상비 부족
A32: 건설교통위원회 | B32: 건설국 | C32: 하천과 | D32: 본예산 | E32: 953 | F32: 상습침수지역 하천정비 토론회개최(자체/직접) | G32: 50000 | H32: 0 | I32: 10000 | J32: =G32+H32+I32 -> 60000 | O32: 시군토론회 1개시군 추가
A33: 건설교통위원회 | B33: 건설본부 | C33: 도로건설과 | D33: 본예산 | E33: 980 | F33: 구조물 유지관리(자체/직접) | G33: 4600000 | H33: 0 | I33: 1400000 | J33: =G33+H33+I33 -> 6000000 | O33: 교량, 터널 등 안전예산 부족
A34: 건설교통위원회 | B34: 건설본부 | C34: 도로건설과 | D34: 본예산 | E34: 980 | F34: 지방도 유지관리(자체/직접) | G34: 6796422 | H34: 0 | I34: 2000000 | J34: =G34+H34+I34 -> 8796422 | O34: 지방도 안전관리예산 부족
A35: 건설교통위원회 | B35: 건설본부 | C35: 도로건설과 | D35: 본예산 | E35: 신규 | F35: 위험도로 개량(자체/직접) | G35: 0 | H35: 0 | I35: 200000 | J35: =G35+H35+I35 -> 200000 | O35: 지방도 325호선(광주) 안전예산
A36: 건설교통위원회 | B36: 건설본부 | C36: 북부도로과 | D36: 본예산 | E36: 983 | F36: 지방도 관리(자체/직접) | G36: 3843578 | H36: 0 | I36: 1000000 | J36: =G36+H36+I36 -> 4843578 | O36: 지방도 안전관리예산 부족
A37: 건설교통위원회 | B37: 건설본부 | C37: 북부도로과 | D37: 본예산 | E37: 983 | F37: 군 훈련도로정비(자체/직접) | G37: 100000 | H37: 0 | I37: 400000 | J37: =G37+H37+I37 -> 500000 | O37: 수해지 도로공사비 부족
A38: 건설교통위원회 | B38: 건설본부 | C38: 북부도로과 | D38: 본예산 | E38: 984 | F38: 도로건설 관련 업무추진(자체/직접) | G38: 146500 | H38: 0 | I38: 5500 | J38: =G38+H38+I38 -> 152000 | O38: 업무추진사업비 부족
A39: 건설교통위원회 | B39: 건설본부 | C39: 도로건설과 | D39: 본예산 | E39: 신규 | F39: 지방도 보도설치(자체/직접) | G39: 0 | H39: 0 | I39: 864000 | J39: =G39+H39+I39 -> 864000 | O39: 광주 등 4개시군
A40: 건설교통위원회 | B40: 건설본부 | C40: 건축시설과 | D40: 본예산 | E40: 986 | F40: 삼막천 유지용수 공급사업(자체/직접) (삼막천 유지용수 공급사업(자체/지원) | G40: 4500000 | H40: 0 | I40: 0 | J40: =G40+H40+I40 -> 4500000 | K40: 전액삭감 | O40: 자치단체등자본이전(자치단체자본보조)안양시 교부 | P40: 0 | Q40: -4500000 | R40: ok | T40: 도비 | U40: 0 | V40: 0 | W40: ok | Y40: 2504
A41: 건설교통위원회 | B41: 건설본부 | C41: 신청사건립추진단 | D41: 본예산 | E41: 987 | F41: 도 신청사 건립사업(지방채/직접) (도 신청사 건립사업(자체/직접) | G41: 21000000 | H41: 0 | I41: 0 | J41: =SUM(G41+H41+I41) -> 21000000 | M41: =SUM(G41+K41+L41) -> 21000000 | N41: =IF(H41-K41<0,"동의필요","-") -> - | O41: 재원변경: 지방채에서 일반회계로 변경 | S41: =IF($Q41="도비","도비",IF(COUNT(FIND("국비/",$F41)),"국비",IF(COUNT(FIND("지특/",$F41)),"지특",IF(COUNT(FIND("기금/",$F41)),"기금",IF(COUNT(FIND("교부세/",$F41)),"특교",IF(COUNT(FIND("자체/",$F41)),"도비","")))))) -> 도비 | T41: =IF($S41<>"도비",IF($Q41="국도비","직접입력",SUM($H41:$I41)),) -> 0 | U41: =IF($S41="도비",SUM($H41:$I41),IF($Q41="국도비","직접입력",SUM($H41:$I41)-$T41)) -> 0 | V41: =IF($Q41="국도비","ok",IF(($H41+$I41)=($T41+$U41),"ok","검토")) -> ok | X41: =$S41 -> 도비 | Y41: =IF($X41<>"도비",IF($Q41="국도비","직접입력",SUM($K41:$L41)),) -> 0 | Z41: =IF($X41="도비",SUM($K41:$L41),IF($Q41="국도비","직접입력",SUM($K41:$L41)-$Y41)) -> 0 | AA41: =IF($Q41="국도비","ok",IF(($K41+$L41)=($Y41+$Z41),"ok","검토")) -> ok | AC41: {=IFERROR(IF($C41="","",INDEX(구분표!$I$2:$I$1001,MATCH(1,(구분표!$B$2:$B$1001='15년일출'!$A41)*(구분표!$C$2:$C$1001='15년일출'!$B41)*(구분표!$A$2:$A$1001='15년일출'!$C41),0))),"@@")} -> 2505
A42: =IFERROR(VLOOKUP('15년일출'!$C42,구분표!$A$2:$C$1001,2,FALSE),"") | B42: =IFERROR(VLOOKUP('15년일출'!$C42,구분표!$A$2:$C$1001,3,FALSE),"") | J42: =SUM(G42+H42+I42) -> 0 | M42: =SUM(G42+K42+L42) -> 0 | N42: =IF(H42-K42<0,"동의필요","-") -> - | S42: =IF($Q42="도비","도비",IF(COUNT(FIND("국비/",$F42)),"국비",IF(COUNT(FIND("지특/",$F42)),"지특",IF(COUNT(FIND("기금/",$F42)),"기금",IF(COUNT(FIND("교부세/",$F42)),"특교",IF(COUNT(FIND("자체/",$F42)),"도비","")))))) | T42: =IF($S42<>"도비",IF($Q42="국도비","직접입력",SUM($H42:$I42)),) -> 0 | U42: =IF($S42="도비",SUM($H42:$I42),IF($Q42="국도비","직접입력",SUM($H42:$I42)-$T42)) -> 0 | V42: =IF($Q42="국도비","ok",IF(($H42+$I42)=($T42+$U42),"ok","검토")) -> ok | X42: =$S42 | Y42: =IF($X42<>"도비",IF($Q42="국도비","직접입력",SUM($K42:$L42)),) -> 0 | Z42: =IF($X42="도비",SUM($K42:$L42),IF($Q42="국도비","직접입력",SUM($K42:$L42)-$Y42)) -> 0 | AA42: =IF($Q42="국도비","ok",IF(($K42+$L42)=($Y42+$Z42),"ok","검토")) -> ok | AC42: {=IFERROR(IF($C42="","",INDEX(구분표!$I$2:$I$1001,MATCH(1,(구분표!$B$2:$B$1001='15년일출'!$A42)*(구분표!$C$2:$C$1001='15년일출'!$B42)*(구분표!$A$2:$A$1001='15년일출'!$C42),0))),"@@")}
A43: =IFERROR(VLOOKUP('15년일출'!$C43,구분표!$A$2:$C$1001,2,FALSE),"") | B43: =IFERROR(VLOOKUP('15년일출'!$C43,구분표!$A$2:$C$1001,3,FALSE),"") | J43: =SUM(G43+H43+I43) -> 0 | M43: =SUM(G43+K43+L43) -> 0 | N43: =IF(H43-K43<0,"동의필요","-") -> - | S43: =IF($Q43="도비","도비",IF(COUNT(FIND("국비/",$F43)),"국비",IF(COUNT(FIND("지특/",$F43)),"지특",IF(COUNT(FIND("기금/",$F43)),"기금",IF(COUNT(FIND("교부세/",$F43)),"특교",IF(COUNT(FIND("자체/",$F43)),"도비","")))))) | T43: =IF($S43<>"도비",IF($Q43="국도비","직접입력",SUM($H43:$I43)),) -> 0 | U43: =IF($S43="도비",SUM($H43:$I43),IF($Q43="국도비","직접입력",SUM($H43:$I43)-$T43)) -> 0 | V43: =IF($Q43="국도비","ok",IF(($H43+$I43)=($T43+$U43),"ok","검토")) -> ok | X43: =$S43 | Y43: =IF($X43<>"도비",IF($Q43="국도비","직접입력",SUM($K43:$L43)),) -> 0 | Z43: =IF($X43="도비",SUM($K43:$L43),IF($Q43="국도비","직접입력",SUM($K43:$L43)-$Y43)) -> 0 | AA43: =IF($Q43="국도비","ok",IF(($K43+$L43)=($Y43+$Z43),"ok","검토")) -> ok | AC43: {=IFERROR(IF($C43="","",INDEX(구분표!$I$2:$I$1001,MATCH(1,(구분표!$B$2:$B$1001='15년일출'!$A43)*(구분표!$C$2:$C$1001='15년일출'!$B43)*(구분표!$A$2:$A$1001='15년일출'!$C43),0))),"@@")}
A44: =IFERROR(VLOOKUP('15년일출'!$C44,구분표!$A$2:$C$1001,2,FALSE),"") | B44: =IFERROR(VLOOKUP('15년일출'!$C44,구분표!$A$2:$C$1001,3,FALSE),"") | J44: =SUM(G44+H44+I44) -> 0 | M44: =SUM(G44+K44+L44) -> 0 | N44: =IF(H44-K44<0,"동의필요","-") -> - | S44: =IF($Q44="도비","도비",IF(COUNT(FIND("국비/",$F44)),"국비",IF(COUNT(FIND("지특/",$F44)),"지특",IF(COUNT(FIND("기금/",$F44)),"기금",IF(COUNT(FIND("교부세/",$F44)),"특교",IF(COUNT(FIND("자체/",$F44)),"도비","")))))) | T44: =IF($S44<>"도비",IF($Q44="국도비","직접입력",SUM($H44:$I44)),) -> 0 | U44: =IF($S44="도비",SUM($H44:$I44),IF($Q44="국도비","직접입력",SUM($H44:$I44)-$T44)) -> 0 | V44: =IF($Q44="국도비","ok",IF(($H44+$I44)=($T44+$U44),"ok","검토")) -> ok | X44: =$S44 | Y44: =IF($X44<>"도비",IF($Q44="국도비","직접입력",SUM($K44:$L44)),) -> 0 | Z44: =IF($X44="도비",SUM($K44:$L44),IF($Q44="국도비","직접입력",SUM($K44:$L44)-$Y44)) -> 0 | AA44: =IF($Q44="국도비","ok",IF(($K44+$L44)=($Y44+$Z44),"ok","검토")) -> ok | AC44: {=IFERROR(IF($C44="","",INDEX(구분표!$I$2:$I$1001,MATCH(1,(구분표!$B$2:$B$1001='15년일출'!$A44)*(구분표!$C$2:$C$1001='15년일출'!$B44)*(구분표!$A$2:$A$1001='15년일출'!$C44),0))),"@@")}
A45: =IFERROR(VLOOKUP('15년일출'!$C45,구분표!$A$2:$C$1001,2,FALSE),"") | B45: =IFERROR(VLOOKUP('15년일출'!$C45,구분표!$A$2:$C$1001,3,FALSE),"") | J45: =SUM(G45+H45+I45) -> 0 | M45: =SUM(G45+K45+L45) -> 0 | N45: =IF(H45-K45<0,"동의필요","-") -> - | S45: =IF($Q45="도비","도비",IF(COUNT(FIND("국비/",$F45)),"국비",IF(COUNT(FIND("지특/",$F45)),"지특",IF(COUNT(FIND("기금/",$F45)),"기금",IF(COUNT(FIND("교부세/",$F45)),"특교",IF(COUNT(FIND("자체/",$F45)),"도비","")))))) | T45: =IF($S45<>"도비",IF($Q45="국도비","직접입력",SUM($H45:$I45)),) -> 0 | U45: =IF($S45="도비",SUM($H45:$I45),IF($Q45="국도비","직접입력",SUM($H45:$I45)-$T45)) -> 0 | V45: =IF($Q45="국도비","ok",IF(($H45+$I45)=($T45+$U45),"ok","검토")) -> ok | X45: =$S45 | Y45: =IF($X45<>"도비",IF($Q45="국도비","직접입력",SUM($K45:$L45)),) -> 0 | Z45: =IF($X45="도비",SUM($K45:$L45),IF($Q45="국도비","직접입력",SUM($K45:$L45)-$Y45)) -> 0 | AA45: =IF($Q45="국도비","ok",IF(($K45+$L45)=($Y45+$Z45),"ok","검토")) -> ok | AC45: {=IFERROR(IF($C45="","",INDEX(구분표!$I$2:$I$1001,MATCH(1,(구분표!$B$2:$B$1001='15년일출'!$A45)*(구분표!$C$2:$C$1001='15년일출'!$B45)*(구분표!$A$2:$A$1001='15년일출'!$C45),0))),"@@")}
A46: =IFERROR(VLOOKUP('15년일출'!$C46,구분표!$A$2:$C$1001,2,FALSE),"") | B46: =IFERROR(VLOOKUP('15년일출'!$C46,구분표!$A$2:$C$1001,3,FALSE),"") | J46: =SUM(G46+H46+I46) -> 0 | M46: =SUM(G46+K46+L46) -> 0 | N46: =IF(H46-K46<0,"동의필요","-") -> - | S46: =IF($Q46="도비","도비",IF(COUNT(FIND("국비/",$F46)),"국비",IF(COUNT(FIND("지특/",$F46)),"지특",IF(COUNT(FIND("기금/",$F46)),"기금",IF(COUNT(FIND("교부세/",$F46)),"특교",IF(COUNT(FIND("자체/",$F46)),"도비","")))))) | T46: =IF($S46<>"도비",IF($Q46="국도비","직접입력",SUM($H46:$I46)),) -> 0 | U46: =IF($S46="도비",SUM($H46:$I46),IF($Q46="국도비","직접입력",SUM($H46:$I46)-$T46)) -> 0 | V46: =IF($Q46="국도비","ok",IF(($H46+$I46)=($T46+$U46),"ok","검토")) -> ok | X46: =$S46 | Y46: =IF($X46<>"도비",IF($Q46="국도비","직접입력",SUM($K46:$L46)),) -> 0 | Z46: =IF($X46="도비",SUM($K46:$L46),IF($Q46="국도비","직접입력",SUM($K46:$L46)-$Y46)) -> 0 | AA46: =IF($Q46="국도비","ok",IF(($K46+$L46)=($Y46+$Z46),"ok","검토")) -> ok | AC46: {=IFERROR(IF($C46="","",INDEX(구분표!$I$2:$I$1001,MATCH(1,(구분표!$B$2:$B$1001='15년일출'!$A46)*(구분표!$C$2:$C$1001='15년일출'!$B46)*(구분표!$A$2:$A$1001='15년일출'!$C46),0))),"@@")}
A47: =IFERROR(VLOOKUP('15년일출'!$C47,구분표!$A$2:$C$1001,2,FALSE),"") | B47: =IFERROR(VLOOKUP('15년일출'!$C47,구분표!$A$2:$C$1001,3,FALSE),"") | J47: =SUM(G47+H47+I47) -> 0 | M47: =SUM(G47+K47+L47) -> 0 | N47: =IF(H47-K47<0,"동의필요","-") -> - | S47: =IF($Q47="도비","도비",IF(COUNT(FIND("국비/",$F47)),"국비",IF(COUNT(FIND("지특/",$F47)),"지특",IF(COUNT(FIND("기금/",$F47)),"기금",IF(COUNT(FIND("교부세/",$F47)),"특교",IF(COUNT(FIND("자체/",$F47)),"도비","")))))) | T47: =IF($S47<>"도비",IF($Q47="국도비","직접입력",SUM($H47:$I47)),) -> 0 | U47: =IF($S47="도비",SUM($H47:$I47),IF($Q47="국도비","직접입력",SUM($H47:$I47)-$T47)) -> 0 | V47: =IF($Q47="국도비","ok",IF(($H47+$I47)=($T47+$U47),"ok","검토")) -> ok | X47: =$S47 | Y47: =IF($X47<>"도비",IF($Q47="국도비","직접입력",SUM($K47:$L47)),) -> 0 | Z47: =IF($X47="도비",SUM($K47:$L47),IF($Q47="국도비","직접입력",SUM($K47:$L47)-$Y47)) -> 0 | AA47: =IF($Q47="국도비","ok",IF(($K47+$L47)=($Y47+$Z47),"ok","검토")) -> ok | AC47: {=IFERROR(IF($C47="","",INDEX(구분표!$I$2:$I$1001,MATCH(1,(구분표!$B$2:$B$1001='15년일출'!$A47)*(구분표!$C$2:$C$1001='15년일출'!$B47)*(구분표!$A$2:$A$1001='15년일출'!$C47),0))),"@@")}
A48: =IFERROR(VLOOKUP('15년일출'!$C48,구분표!$A$2:$C$1001,2,FALSE),"") | B48: =IFERROR(VLOOKUP('15년일출'!$C48,구분표!$A$2:$C$1001,3,FALSE),"") | J48: =SUM(G48+H48+I48) -> 0 | M48: =SUM(G48+K48+L48) -> 0 | N48: =IF(H48-K48<0,"동의필요","-") -> - | S48: =IF($Q48="도비","도비",IF(COUNT(FIND("국비/",$F48)),"국비",IF(COUNT(FIND("지특/",$F48)),"지특",IF(COUNT(FIND("기금/",$F48)),"기금",IF(COUNT(FIND("교부세/",$F48)),"특교",IF(COUNT(FIND("자체/",$F48)),"도비","")))))) | T48: =IF($S48<>"도비",IF($Q48="국도비","직접입력",SUM($H48:$I48)),) -> 0 | U48: =IF($S48="도비",SUM($H48:$I48),IF($Q48="국도비","직접입력",SUM($H48:$I48)-$T48)) -> 0 | V48: =IF($Q48="국도비","ok",IF(($H48+$I48)=($T48+$U48),"ok","검토")) -> ok | X48: =$S48 | Y48: =IF($X48<>"도비",IF($Q48="국도비","직접입력",SUM($K48:$L48)),) -> 0 | Z48: =IF($X48="도비",SUM($K48:$L48),IF($Q48="국도비","직접입력",SUM($K48:$L48)-$Y48)) -> 0 | AA48: =IF($Q48="국도비","ok",IF(($K48+$L48)=($Y48+$Z48),"ok","검토")) -> ok | AC48: {=IFERROR(IF($C48="","",INDEX(구분표!$I$2:$I$1001,MATCH(1,(구분표!$B$2:$B$1001='15년일출'!$A48)*(구분표!$C$2:$C$1001='15년일출'!$B48)*(구분표!$A$2:$A$1001='15년일출'!$C48),0))),"@@")}
A49: =IFERROR(VLOOKUP('15년일출'!$C49,구분표!$A$2:$C$1001,2,FALSE),"") | B49: =IFERROR(VLOOKUP('15년일출'!$C49,구분표!$A$2:$C$1001,3,FALSE),"") | J49: =SUM(G49+H49+I49) -> 0 | M49: =SUM(G49+K49+L49) -> 0 | N49: =IF(H49-K49<0,"동의필요","-") -> - | S49: =IF($Q49="도비","도비",IF(COUNT(FIND("국비/",$F49)),"국비",IF(COUNT(FIND("지특/",$F49)),"지특",IF(COUNT(FIND("기금/",$F49)),"기금",IF(COUNT(FIND("교부세/",$F49)),"특교",IF(COUNT(FIND("자체/",$F49)),"도비","")))))) | T49: =IF($S49<>"도비",IF($Q49="국도비","직접입력",SUM($H49:$I49)),) -> 0 | U49: =IF($S49="도비",SUM($H49:$I49),IF($Q49="국도비","직접입력",SUM($H49:$I49)-$T49)) -> 0 | V49: =IF($Q49="국도비","ok",IF(($H49+$I49)=($T49+$U49),"ok","검토")) -> ok | X49: =$S49 | Y49: =IF($X49<>"도비",IF($Q49="국도비","직접입력",SUM($K49:$L49)),) -> 0 | Z49: =IF($X49="도비",SUM($K49:$L49),IF($Q49="국도비","직접입력",SUM($K49:$L49)-$Y49)) -> 0 | AA49: =IF($Q49="국도비","ok",IF(($K49+$L49)=($Y49+$Z49),"ok","검토")) -> ok | AC49: {=IFERROR(IF($C49="","",INDEX(구분표!$I$2:$I$1001,MATCH(1,(구분표!$B$2:$B$1001='15년일출'!$A49)*(구분표!$C$2:$C$1001='15년일출'!$B49)*(구분표!$A$2:$A$1001='15년일출'!$C49),0))),"@@")}
A50: =IFERROR(VLOOKUP('15년일출'!$C50,구분표!$A$2:$C$1001,2,FALSE),"") | B50: =IFERROR(VLOOKUP('15년일출'!$C50,구분표!$A$2:$C$1001,3,FALSE),"") | J50: =SUM(G50+H50+I50) -> 0 | M50: =SUM(G50+K50+L50) -> 0 | N50: =IF(H50-K50<0,"동의필요","-") -> - | S50: =IF($Q50="도비","도비",IF(COUNT(FIND("국비/",$F50)),"국비",IF(COUNT(FIND("지특/",$F50)),"지특",IF(COUNT(FIND("기금/",$F50)),"기금",IF(COUNT(FIND("교부세/",$F50)),"특교",IF(COUNT(FIND("자체/",$F50)),"도비","")))))) | T50: =IF($S50<>"도비",IF($Q50="국도비","직접입력",SUM($H50:$I50)),) -> 0 | U50: =IF($S50="도비",SUM($H50:$I50),IF($Q50="국도비","직접입력",SUM($H50:$I50)-$T50)) -> 0 | V50: =IF($Q50="국도비","ok",IF(($H50+$I50)=($T50+$U50),"ok","검토")) -> ok | X50: =$S50 | Y50: =IF($X50<>"도비",IF($Q50="국도비","직접입력",SUM($K50:$L50)),) -> 0 | Z50: =IF($X50="도비",SUM($K50:$L50),IF($Q50="국도비","직접입력",SUM($K50:$L50)-$Y50)) -> 0 | AA50: =IF($Q50="국도비","ok",IF(($K50+$L50)=($Y50+$Z50),"ok","검토")) -> ok | AC50: {=IFERROR(IF($C50="","",INDEX(구분표!$I$2:$I$1001,MATCH(1,(구분표!$B$2:$B$1001='15년일출'!$A50)*(구분표!$C$2:$C$1001='15년일출'!$B50)*(구분표!$A$2:$A$1001='15년일출'!$C50),0))),"@@")}
A51: =IFERROR(VLOOKUP('15년일출'!$C51,구분표!$A$2:$C$1001,2,FALSE),"") | B51: =IFERROR(VLOOKUP('15년일출'!$C51,구분표!$A$2:$C$1001,3,FALSE),"") | J51: =SUM(G51+H51+I51) -> 0 | M51: =SUM(G51+K51+L51) -> 0 | N51: =IF(H51-K51<0,"동의필요","-") -> - | S51: =IF($Q51="도비","도비",IF(COUNT(FIND("국비/",$F51)),"국비",IF(COUNT(FIND("지특/",$F51)),"지특",IF(COUNT(FIND("기금/",$F51)),"기금",IF(COUNT(FIND("교부세/",$F51)),"특교",IF(COUNT(FIND("자체/",$F51)),"도비","")))))) | T51: =IF($S51<>"도비",IF($Q51="국도비","직접입력",SUM($H51:$I51)),) -> 0 | U51: =IF($S51="도비",SUM($H51:$I51),IF($Q51="국도비","직접입력",SUM($H51:$I51)-$T51)) -> 0 | V51: =IF($Q51="국도비","ok",IF(($H51+$I51)=($T51+$U51),"ok","검토")) -> ok | X51: =$S51 | Y51: =IF($X51<>"도비",IF($Q51="국도비","직접입력",SUM($K51:$L51)),) -> 0 | Z51: =IF($X51="도비",SUM($K51:$L51),IF($Q51="국도비","직접입력",SUM($K51:$L51)-$Y51)) -> 0 | AA51: =IF($Q51="국도비","ok",IF(($K51+$L51)=($Y51+$Z51),"ok","검토")) -> ok | AC51: {=IFERROR(IF($C51="","",INDEX(구분표!$I$2:$I$1001,MATCH(1,(구분표!$B$2:$B$1001='15년일출'!$A51)*(구분표!$C$2:$C$1001='15년일출'!$B51)*(구분표!$A$2:$A$1001='15년일출'!$C51),0))),"@@")}
A52: =IFERROR(VLOOKUP('15년일출'!$C52,구분표!$A$2:$C$1001,2,FALSE),"") | B52: =IFERROR(VLOOKUP('15년일출'!$C52,구분표!$A$2:$C$1001,3,FALSE),"") | J52: =SUM(G52+H52+I52) -> 0 | M52: =SUM(G52+K52+L52) -> 0 | N52: =IF(H52-K52<0,"동의필요","-") -> - | S52: =IF($Q52="도비","도비",IF(COUNT(FIND("국비/",$F52)),"국비",IF(COUNT(FIND("지특/",$F52)),"지특",IF(COUNT(FIND("기금/",$F52)),"기금",IF(COUNT(FIND("교부세/",$F52)),"특교",IF(COUNT(FIND("자체/",$F52)),"도비","")))))) | T52: =IF($S52<>"도비",IF($Q52="국도비","직접입력",SUM($H52:$I52)),) -> 0 | U52: =IF($S52="도비",SUM($H52:$I52),IF($Q52="국도비","직접입력",SUM($H52:$I52)-$T52)) -> 0 | V52: =IF($Q52="국도비","ok",IF(($H52+$I52)=($T52+$U52),"ok","검토")) -> ok | X52: =$S52 | Y52: =IF($X52<>"도비",IF($Q52="국도비","직접입력",SUM($K52:$L52)),) -> 0 | Z52: =IF($X52="도비",SUM($K52:$L52),IF($Q52="국도비","직접입력",SUM($K52:$L52)-$Y52)) -> 0 | AA52: =IF($Q52="국도비","ok",IF(($K52+$L52)=($Y52+$Z52),"ok","검토")) -> ok | AC52: {=IFERROR(IF($C52="","",INDEX(구분표!$I$2:$I$1001,MATCH(1,(구분표!$B$2:$B$1001='15년일출'!$A52)*(구분표!$C$2:$C$1001='15년일출'!$B52)*(구분표!$A$2:$A$1001='15년일출'!$C52),0))),"@@")}
A53: =IFERROR(VLOOKUP('15년일출'!$C53,구분표!$A$2:$C$1001,2,FALSE),"") | B53: =IFERROR(VLOOKUP('15년일출'!$C53,구분표!$A$2:$C$1001,3,FALSE),"") | J53: =SUM(G53+H53+I53) -> 0 | M53: =SUM(G53+K53+L53) -> 0 | N53: =IF(H53-K53<0,"동의필요","-") -> - | S53: =IF($Q53="도비","도비",IF(COUNT(FIND("국비/",$F53)),"국비",IF(COUNT(FIND("지특/",$F53)),"지특",IF(COUNT(FIND("기금/",$F53)),"기금",IF(COUNT(FIND("교부세/",$F53)),"특교",IF(COUNT(FIND("자체/",$F53)),"도비","")))))) | T53: =IF($S53<>"도비",IF($Q53="국도비","직접입력",SUM($H53:$I53)),) -> 0 | U53: =IF($S53="도비",SUM($H53:$I53),IF($Q53="국도비","직접입력",SUM($H53:$I53)-$T53)) -> 0 | V53: =IF($Q53="국도비","ok",IF(($H53+$I53)=($T53+$U53),"ok","검토")) -> ok | X53: =$S53 | Y53: =IF($X53<>"도비",IF($Q53="국도비","직접입력",SUM($K53:$L53)),) -> 0 | Z53: =IF($X53="도비",SUM($K53:$L53),IF($Q53="국도비","직접입력",SUM($K53:$L53)-$Y53)) -> 0 | AA53: =IF($Q53="국도비","ok",IF(($K53+$L53)=($Y53+$Z53),"ok","검토")) -> ok | AC53: {=IFERROR(IF($C53="","",INDEX(구분표!$I$2:$I$1001,MATCH(1,(구분표!$B$2:$B$1001='15년일출'!$A53)*(구분표!$C$2:$C$1001='15년일출'!$B53)*(구분표!$A$2:$A$1001='15년일출'!$C53),0))),"@@")}
... A405: =IFERROR(VLOOKUP('15년일출'!$C405,구분표!$A$2:$C$1001,2,FALSE),"") | B405: =IFERROR(VLOOKUP('15년일출'!$C405,구분표!$A$2:$C$1001,3,FALSE),"") | J405: =SUM(G405+H405+I405) -> 0 | M405: =SUM(G405+K405+L405) -> 0 | N405: =IF(H405-K405<0,"동의필요","-") -> - | S405: =IF($Q405="도비","도비",IF(COUNT(FIND("국비/",$F405)),"국비",IF(COUNT(FIND("지특/",$F405)),"지특",IF(COUNT(FIND("기금/",$F405)),"기금",IF(COUNT(FIND("교부세/",$F405)),"특교",IF(COUNT(FIND("자체/",$F405)),"도비","")))))) | T405: =IF($S405<>"도비",IF($Q405="국도비","직접입력",SUM($H405:$I405)),) -> 0 | U405: =IF($S405="도비",SUM($H405:$I405),IF($Q405="국도비","직접입력",SUM($H405:$I405)-$T405)) -> 0 | V405: =IF($Q405="국도비","ok",IF(($H405+$I405)=($T405+$U405),"ok","검토")) -> ok | X405: =$S405 | Y405: =IF($X405<>"도비",IF($Q405="국도비","직접입력",SUM($K405:$L405)),) -> 0 | Z405: =IF($X405="도비",SUM($K405:$L405),IF($Q405="국도비","직접입력",SUM($K405:$L405)-$Y405)) -> 0 | AA405: =IF($Q405="국도비","ok",IF(($K405+$L405)=($Y405+$Z405),"ok","검토")) -> ok | AC405: {=IFERROR(IF($C405="","",INDEX(구분표!$I$2:$I$1001,MATCH(1,(구분표!$B$2:$B$1001='15년일출'!$A405)*(구분표!$C$2:$C$1001='15년일출'!$B405)*(구분표!$A$2:$A$1001='15년일출'!$C405),0))),"@@")}

Sheet 2추총괄표
B1: '14년도 제2회 추경 일반 및 특별회계 세입·세출 예산안[전체예산총괄]
B3: □ 총 괄 | D3: 세입예산증감 | E3: =SUM(D7:E7) -> 0 | F3: 세출예산증감 | G3: =SUM(F7:G7) -> 0
H4: (단위:천원) | M4: (일반+특별+기금) | O4: 특별+기금
B5: 구 분 | C5: 집행부제출(안) | D5: 세입예산(안) | F5: 세출예산(안) | H5: 예산수정(안) | I5: 일반회계 증감(총괄표) | K5: 예비비증감 | L5: 비 고 | M5: 전체 증감(시트) | O5: 비고
D6: 감 액 | E6: 증 액 | F6: 감 액 | G6: 증 액 | I6: 세입 | J6: 세출 | M6: 세입 | N6: 세출
B7: 합 계 | C7: =SUM(C8:C18) -> 0 | D7: =SUM(D8:D18) -> 0 | E7: =SUM(E8:E18) -> 0 | F7: =SUM(F8:F18) -> 0 | G7: =SUM(G8:G18) -> 0 | H7: =SUM(H8:H18) -> 0 | I7: =E25+D25 -> 0 | J7: =F25+G25 -> 0 | K7: =I7-J7 -> 0 | L7: 예비비 증감이 - 예산이면 감액에 + 예산이면 증액에 입력 | M7: =D24+E24 -> 0 | N7: =F24+G24 -> 0 | O7: 0 | P7: 0
B8: 기 타 | C8: 0 | H8: =C8-F8+G8 -> 0 | I8: =D7+E7 -> 0 | J8: =F7+G7 -> 0 | K8: =I8-J8 -> 0
B9: 의회운영위원회 | D9: =SUMIFS('2추일입'!$M$7:$M$1000,'2추일입'!$A$7:$A$1000,'2추총괄표'!$B9) -> 0 | E9: =SUMIFS('2추일입'!$N$7:$N$1000,'2추일입'!$A$7:$A$1000,'2추총괄표'!$B9) -> 0 | F9: =SUMIFS('2추일출'!$M$7:$M$1000,'2추일출'!$A$7:$A$1000,'2추총괄표'!$B9) -> 0 | G9: =SUMIFS('2추일출'!$N$7:$N$1000,'2추일출'!$A$7:$A$1000,'2추총괄표'!$B9) -> 0 | H9: =C9+F9+G9 -> 0 | I9: 일반회계 증감(시트) | N9: 전체 증감
B10: 기획재정위원회 | D10: =SUMIFS('2추일입'!$M$7:$M$1000,'2추일입'!$A$7:$A$1000,'2추총괄표'!$B10) -> 0 | E10: =SUMIFS('2추일입'!$N$7:$N$1000,'2추일입'!$A$7:$A$1000,'2추총괄표'!$B10) -> 0 | F10: =SUMIFS('2추일출'!$M$7:$M$1000,'2추일출'!$A$7:$A$1000,'2추총괄표'!$B10) -> 0 | G10: =SUMIFS('2추일출'!$N$7:$N$1000,'2추일출'!$A$7:$A$1000,'2추총괄표'!$B10) -> 0 | H10: =C10+F10+G10 -> 0 | I10: =#REF!+#REF! -> #REF! | J10: =#REF!+#REF! -> #REF! | N10: =M7-N7 -> 0
B11: 경제과학기술위원회 | D11: =SUMIFS('2추일입'!$M$7:$M$1000,'2추일입'!$A$7:$A$1000,'2추총괄표'!$B11) -> 0 | E11: =SUMIFS('2추일입'!$N$7:$N$1000,'2추일입'!$A$7:$A$1000,'2추총괄표'!$B11) -> 0 | F11: =SUMIFS('2추일출'!$M$7:$M$1000,'2추일출'!$A$7:$A$1000,'2추총괄표'!$B11) -> 0 | G11: =SUMIFS('2추일출'!$N$7:$N$1000,'2추일출'!$A$7:$A$1000,'2추총괄표'!$B11) -> 0 | H11: =C11+F11+G11 -> 0
B12: 안전행정위원회 | D12: =SUMIFS('2추일입'!$M$7:$M$1000,'2추일입'!$A$7:$A$1000,'2추총괄표'!$B12) -> 0 | E12: =SUMIFS('2추일입'!$N$7:$N$1000,'2추일입'!$A$7:$A$1000,'2추총괄표'!$B12) -> 0 | F12: =SUMIFS('2추일출'!$M$7:$M$1000,'2추일출'!$A$7:$A$1000,'2추총괄표'!$B12) -> 0 | G12: =SUMIFS('2추일출'!$N$7:$N$1000,'2추일출'!$A$7:$A$1000,'2추총괄표'!$B12) -> 0 | H12: =C12+F12+G12 -> 0
B13: 문화체육관광위원회 | D13: =SUMIFS('2추일입'!$M$7:$M$1000,'2추일입'!$A$7:$A$1000,'2추총괄표'!$B13) -> 0 | E13: =SUMIFS('2추일입'!$N$7:$N$1000,'2추일입'!$A$7:$A$1000,'2추총괄표'!$B13) -> 0 | F13: =SUMIFS('2추일출'!$M$7:$M$1000,'2추일출'!$A$7:$A$1000,'2추총괄표'!$B13) -> 0 | G13: =SUMIFS('2추일출'!$N$7:$N$1000,'2추일출'!$A$7:$A$1000,'2추총괄표'!$B13) -> 0 | H13: =C13+F13+G13 -> 0 | N13: 기금
B14: 농정해양위원회 | D14: =SUMIFS('2추일입'!$M$7:$M$1000,'2추일입'!$A$7:$A$1000,'2추총괄표'!$B14) -> 0 | E14: =SUMIFS('2추일입'!$N$7:$N$1000,'2추일입'!$A$7:$A$1000,'2추총괄표'!$B14) -> 0 | F14: =SUMIFS('2추일출'!$M$7:$M$1000,'2추일출'!$A$7:$A$1000,'2추총괄표'!$B14) -> 0 | G14: =SUMIFS('2추일출'!$N$7:$N$1000,'2추일출'!$A$7:$A$1000,'2추총괄표'!$B14) -> 0 | H14: =C14+F14+G14 -> 0 | N14: =N10-K7 -> 0
B15: 보건복지위원회 | D15: =SUMIFS('2추일입'!$M$7:$M$1000,'2추일입'!$A$7:$A$1000,'2추총괄표'!$B15) -> 0 | E15: =SUMIFS('2추일입'!$N$7:$N$1000,'2추일입'!$A$7:$A$1000,'2추총괄표'!$B15) -> 0 | F15: =SUMIFS('2추일출'!$M$7:$M$1000,'2추일출'!$A$7:$A$1000,'2추총괄표'!$B15) -> 0 | G15: =SUMIFS('2추일출'!$N$7:$N$1000,'2추일출'!$A$7:$A$1000,'2추총괄표'!$B15) -> 0 | H15: =C15+F15+G15 -> 0
B16: 건설교통위원회 | D16: =SUMIFS('2추일입'!$M$7:$M$1000,'2추일입'!$A$7:$A$1000,'2추총괄표'!$B16) -> 0 | E16: =SUMIFS('2추일입'!$N$7:$N$1000,'2추일입'!$A$7:$A$1000,'2추총괄표'!$B16) -> 0 | F16: =SUMIFS('2추일출'!$M$7:$M$1000,'2추일출'!$A$7:$A$1000,'2추총괄표'!$B16) -> 0 | G16: =SUMIFS('2추일출'!$N$7:$N$1000,'2추일출'!$A$7:$A$1000,'2추총괄표'!$B16) -> 0 | H16: =C16+F16+G16 -> 0
