Workbook

Sheet 구분표
A1: 실과명 조정 | B1: 위원회명 조정 | C1: 실국명 조정 | E1: 실국명 | F1: 실과명 | G1: 위원회명 | H1: 정렬순서 | I1: 정렬코드 | K1: 2014재원 | L1: 2015재원 | N1: 본예산 | O1: 2회추경 | Q1: 국도비 등 여부
A2: =IF(COUNT(AND(FIND("북부소방재난본부",$E2),FIND("특수대응단",$F2))),"특수대응단(북부)",IF(COUNT(FIND("작물연구과",$F2)),"작물연구과",IF(COUNT(FIND("원예연구과",$F2)),"원예연구과",IF(COUNT(FIND("환경농업연구과",$F2)),"환경농업연구과",IF(COUNT(FIND("지원기획과",$F2)),"지원기획과",IF(COUNT(FIND("기술보급과",$F2)),"기술보급과",IF(COUNT(FIND("농촌자원과",$F2)),"농촌자원과",IF(COUNT(FIND("종자관리소",$F2)),"종자관리소",IF(COUNT(FIND("버섯연구소",$F2)),"버섯연구소",IF(COUNT(FIND("소득자원연구소",$F2)),"소득자원연구소",IF(COUNT(FIND("선인장다육식물연구소",$F2)),"선인장다육식물연구소",IF(COUNT(FIND("보건연구부",$F2)),"보건연구부",IF(COUNT(FIND("대기연구부",$F2)),"대기연구부",IF(COUNT(FIND("수질연구부",$F2)),"수질연구부",IF(COUNT(FIND("북부지원",$F2)),"북부지원",IF(COUNT(FIND("수원농산물검사소",$F2)),"수원농산물검사소",IF(COUNT(FIND("건설본부(관리과)",$F2)),"관리과",IF(COUNT(FIND("도로건설과",$F2)),"도로건설과",IF(COUNT(FIND("북부도로과",$F2)),"북부도로과",IF(COUNT(FIND("건축시설과",$F2)),"건축시설과",IF(COUNT(FIND("신청사건립추진단",$F2)),"신청사건립추진단",$F2))))))))))))))))))))) -> 의회사무처 | B2: =G2 -> 의회운영위원회 | C2: =IF(COUNT(FIND("경기도건설본부",$E2)),"건설본부",IF(COUNT(FIND("경기도농업기술원",$E2)),"농업기술원",IF(COUNT(FIND("경기도보건환경연구원",$E2)),"보건환경연구원",IF(COUNT(FIND("소방재난본부",$E2)),"재난안전본부",IF(COUNT(FIND("경기도소방학교",$E2)),"재난안전본부",IF(COUNT(FIND("경기도인재개발원",$E2)),"인재개발원",IF(COUNT(FIND("북부소방재난본부",$E2)),"재난안전본부",IF(COUNT(FIND("소방서",$E2)),"재난안전본부",$E2)))))))) -> 의회사무처 | E2: 의회사무처 | F2: 의회사무처 | G2: 의회운영위원회 | H2: 1 | I2: 0101 | K2: 도비 | L2: 도비 | N2: 본예산 | O2: 2회추경 | Q2: 국도비
A3: =IF(COUNT(AND(FIND("북부소방재난본부",$E3),FIND("특수대응단",$F3))),"특수대응단(북부)",IF(COUNT(FIND("작물연구과",$F3)),"작물연구과",IF(COUNT(FIND("원예연구과",$F3)),"원예연구과",IF(COUNT(FIND("환경농업연구과",$F3)),"환경농업연구과",IF(COUNT(FIND("지원기획과",$F3)),"지원기획과",IF(COUNT(FIND("기술보급과",$F3)),"기술보급과",IF(COUNT(FIND("농촌자원과",$F3)),"농촌자원과",IF(COUNT(FIND("종자관리소",$F3)),"종자관리소",IF(COUNT(FIND("버섯연구소",$F3)),"버섯연구소",IF(COUNT(FIND("소득자원연구소",$F3)),"소득자원연구소",IF(COUNT(FIND("선인장다육식물연구소",$F3)),"선인장다육식물연구소",IF(COUNT(FIND("보건연구부",$F3)),"보건연구부",IF(COUNT(FIND("대기연구부",$F3)),"대기연구부",IF(COUNT(FIND("수질연구부",$F3)),"수질연구부",IF(COUNT(FIND("북부지원",$F3)),"북부지원",IF(COUNT(FIND("수원농산물검사소",$F3)),"수원농산물검사소",IF(COUNT(FIND("건설본부(관리과)",$F3)),"관리과",IF(COUNT(FIND("도로건설과",$F3)),"도로건설과",IF(COUNT(FIND("북부도로과",$F3)),"북부도로과",IF(COUNT(FIND("건축시설과",$F3)),"건축시설과",IF(COUNT(FIND("신청사건립추진단",$F3)),"신청사건립추진단",$F3))))))))))))))))))))) -> 언론담당관 | B3: =G3 -> 의회운영위원회 | C3: =IF(COUNT(FIND("경기도건설본부",$E3)),"건설본부",IF(COUNT(FIND("경기도농업기술원",$E3)),"농업기술원",IF(COUNT(FIND("경기도보건환경연구원",$E3)),"보건환경연구원",IF(COUNT(FIND("소방재난본부",$E3)),"재난안전본부",IF(COUNT(FIND("경기도소방학교",$E3)),"재난안전본부",IF(COUNT(FIND("경기도인재개발원",$E3)),"인재개발원",IF(COUNT(FIND("북부소방재난본부",$E3)),"재난안전본부",IF(COUNT(FIND("소방서",$E3)),"재난안전본부",$E3)))))))) -> 대변인 | E3: 대변인 | F3: 언론담당관 | G3: 의회운영위원회 | H3: 2 | I3: 0201 | K3: 국비 | L3: 국비 | N3: 신규 | O3: 1회추경 | Q3: 도비
A4: =IF(COUNT(AND(FIND("북부소방재난본부",$E4),FIND("특수대응단",$F4))),"특수대응단(북부)",IF(COUNT(FIND("작물연구과",$F4)),"작물연구과",IF(COUNT(FIND("원예연구과",$F4)),"원예연구과",IF(COUNT(FIND("환경농업연구과",$F4)),"환경농업연구과",IF(COUNT(FIND("지원기획과",$F4)),"지원기획과",IF(COUNT(FIND("기술보급과",$F4)),"기술보급과",IF(COUNT(FIND("농촌자원과",$F4)),"농촌자원과",IF(COUNT(FIND("종자관리소",$F4)),"종자관리소",IF(COUNT(FIND("버섯연구소",$F4)),"버섯연구소",IF(COUNT(FIND("소득자원연구소",$F4)),"소득자원연구소",IF(COUNT(FIND("선인장다육식물연구소",$F4)),"선인장다육식물연구소",IF(COUNT(FIND("보건연구부",$F4)),"보건연구부",IF(COUNT(FIND("대기연구부",$F4)),"대기연구부",IF(COUNT(FIND("수질연구부",$F4)),"수질연구부",IF(COUNT(FIND("북부지원",$F4)),"북부지원",IF(COUNT(FIND("수원농산물검사소",$F4)),"수원농산물검사소",IF(COUNT(FIND("건설본부(관리과)",$F4)),"관리과",IF(COUNT(FIND("도로건설과",$F4)),"도로건설과",IF(COUNT(FIND("북부도로과",$F4)),"북부도로과",IF(COUNT(FIND("건축시설과",$F4)),"건축시설과",IF(COUNT(FIND("신청사건립추진단",$F4)),"신청사건립추진단",$F4))))))))))))))))))))) -> 홍보담당관 | B4: =G4 -> 의회운영위원회 | C4: =IF(COUNT(FIND("경기도건설본부",$E4)),"건설본부",IF(COUNT(FIND("경기도농업기술원",$E4)),"농업기술원",IF(COUNT(FIND("경기도보건환경연구원",$E4)),"보건환경연구원",IF(COUNT(FIND("소방재난본부",$E4)),"재난안전본부",IF(COUNT(FIND("경기도소방학교",$E4)),"재난안전본부",IF(COUNT(FIND("경기도인재개발원",$E4)),"인재개발원",IF(COUNT(FIND("북부소방재난본부",$E4)),"재난안전본부",IF(COUNT(FIND("소방서",$E4)),"재난안전본부",$E4)))))))) -> 대변인 | E4: 대변인 | F4: 홍보담당관 | G4: 의회운영위원회 | H4: 3 | I4: 0202 | K4: 광특 | L4: 지특 | O4: 본예산
A5: =IF(COUNT(AND(FIND("북부소방재난본부",$E5),FIND("특수대응단",$F5))),"특수대응단(북부)",IF(COUNT(FIND("작물연구과",$F5)),"작물연구과",IF(COUNT(FIND("원예연구과",$F5)),"원예연구과",IF(COUNT(FIND("환경농업연구과",$F5)),"환경농업연구과",IF(COUNT(FIND("지원기획과",$F5)),"지원기획과",IF(COUNT(FIND("기술보급과",$F5)),"기술보급과",IF(COUNT(FIND("농촌자원과",$F5)),"농촌자원과",IF(COUNT(FIND("종자관리소",$F5)),"종자관리소",IF(COUNT(FIND("버섯연구소",$F5)),"버섯연구소",IF(COUNT(FIND("소득자원연구소",$F5)),"소득자원연구소",IF(COUNT(FIND("선인장다육식물연구소",$F5)),"선인장다육식물연구소",IF(COUNT(FIND("보건연구부",$F5)),"보건연구부",IF(COUNT(FIND("대기연구부",$F5)),"대기연구부",IF(COUNT(FIND("수질연구부",$F5)),"수질연구부",IF(COUNT(FIND("북부지원",$F5)),"북부지원",IF(COUNT(FIND("수원농산물검사소",$F5)),"수원농산물검사소",IF(COUNT(FIND("건설본부(관리과)",$F5)),"관리과",IF(COUNT(FIND("도로건설과",$F5)),"도로건설과",IF(COUNT(FIND("북부도로과",$F5)),"북부도로과",IF(COUNT(FIND("건축시설과",$F5)),"건축시설과",IF(COUNT(FIND("신청사건립추진단",$F5)),"신청사건립추진단",$F5))))))))))))))))))))) -> 소통담당관 | B5: =G5 -> 의회운영위원회 | C5: =IF(COUNT(FIND("경기도건설본부",$E5)),"건설본부",IF(COUNT(FIND("경기도농업기술원",$E5)),"농업기술원",IF(COUNT(FIND("경기도보건환경연구원",$E5)),"보건환경연구원",IF(COUNT(FIND("소방재난본부",$E5)),"재난안전본부",IF(COUNT(FIND("경기도소방학교",$E5)),"재난안전본부",IF(COUNT(FIND("경기도인재개발원",$E5)),"인재개발원",IF(COUNT(FIND("북부소방재난본부",$E5)),"재난안전본부",IF(COUNT(FIND("소방서",$E5)),"재난안전본부",$E5)))))))) -> 대변인 | E5: 대변인 | F5: 소통담당관 | G5: 의회운영위원회 | H5: 4 | I5: 0203 | K5: 기금 | L5: 기금 | O5: 신규
A6: =IF(COUNT(AND(FIND("북부소방재난본부",$E6),FIND("특수대응단",$F6))),"특수대응단(북부)",IF(COUNT(FIND("작물연구과",$F6)),"작물연구과",IF(COUNT(FIND("원예연구과",$F6)),"원예연구과",IF(COUNT(FIND("환경농업연구과",$F6)),"환경농업연구과",IF(COUNT(FIND("지원기획과",$F6)),"지원기획과",IF(COUNT(FIND("기술보급과",$F6)),"기술보급과",IF(COUNT(FIND("농촌자원과",$F6)),"농촌자원과",IF(COUNT(FIND("종자관리소",$F6)),"종자관리소",IF(COUNT(FIND("버섯연구소",$F6)),"버섯연구소",IF(COUNT(FIND("소득자원연구소",$F6)),"소득자원연구소",IF(COUNT(FIND("선인장다육식물연구소",$F6)),"선인장다육식물연구소",IF(COUNT(FIND("보건연구부",$F6)),"보건연구부",IF(COUNT(FIND("대기연구부",$F6)),"대기연구부",IF(COUNT(FIND("수질연구부",$F6)),"수질연구부",IF(COUNT(FIND("북부지원",$F6)),"북부지원",IF(COUNT(FIND("수원농산물검사소",$F6)),"수원농산물검사소",IF(COUNT(FIND("건설본부(관리과)",$F6)),"관리과",IF(COUNT(FIND("도로건설과",$F6)),"도로건설과",IF(COUNT(FIND("북부도로과",$F6)),"북부도로과",IF(COUNT(FIND("건축시설과",$F6)),"건축시설과",IF(COUNT(FIND("신청사건립추진단",$F6)),"신청사건립추진단",$F6))))))))))))))))))))) -> 대외협력담당관 | B6: =G6 -> 의회운영위원회 | C6: =IF(COUNT(FIND("경기도건설본부",$E6)),"건설본부",IF(COUNT(FIND("경기도농업기술원",$E6)),"농업기술원",IF(COUNT(FIND("경기도보건환경연구원",$E6)),"보건환경연구원",IF(COUNT(FIND("소방재난본부",$E6)),"재난안전본부",IF(COUNT(FIND("경기도소방학교",$E6)),"재난안전본부",IF(COUNT(FIND("경기도인재개발원",$E6)),"인재개발원",IF(COUNT(FIND("북부소방재난본부",$E6)),"재난안전본부",IF(COUNT(FIND("소방서",$E6)),"재난안전본부",$E6)))))))) -> 대외협력담당관 | E6: 대외협력담당관 | F6: 대외협력담당관 | G6: 의회운영위원회 | H6: 5 | I6: 0301 | K6: 분권 | L6: 특교
A7: =IF(COUNT(AND(FIND("북부소방재난본부",$E7),FIND("특수대응단",$F7))),"특수대응단(북부)",IF(COUNT(FIND("작물연구과",$F7)),"작물연구과",IF(COUNT(FIND("원예연구과",$F7)),"원예연구과",IF(COUNT(FIND("환경농업연구과",$F7)),"환경농업연구과",IF(COUNT(FIND("지원기획과",$F7)),"지원기획과",IF(COUNT(FIND("기술보급과",$F7)),"기술보급과",IF(COUNT(FIND("농촌자원과",$F7)),"농촌자원과",IF(COUNT(FIND("종자관리소",$F7)),"종자관리소",IF(COUNT(FIND("버섯연구소",$F7)),"버섯연구소",IF(COUNT(FIND("소득자원연구소",$F7)),"소득자원연구소",IF(COUNT(FIND("선인장다육식물연구소",$F7)),"선인장다육식물연구소",IF(COUNT(FIND("보건연구부",$F7)),"보건연구부",IF(COUNT(FIND("대기연구부",$F7)),"대기연구부",IF(COUNT(FIND("수질연구부",$F7)),"수질연구부",IF(COUNT(FIND("북부지원",$F7)),"북부지원",IF(COUNT(FIND("수원농산물검사소",$F7)),"수원농산물검사소",IF(COUNT(FIND("건설본부(관리과)",$F7)),"관리과",IF(COUNT(FIND("도로건설과",$F7)),"도로건설과",IF(COUNT(FIND("북부도로과",$F7)),"북부도로과",IF(COUNT(FIND("건축시설과",$F7)),"건축시설과",IF(COUNT(FIND("신청사건립추진단",$F7)),"신청사건립추진단",$F7))))))))))))))))))))) -> 서울사무소 | B7: =G7 -> 의회운영위원회 | C7: =IF(COUNT(FIND("경기도건설본부",$E7)),"건설본부",IF(COUNT(FIND("경기도농업기술원",$E7)),"농업기술원",IF(COUNT(FIND("경기도보건환경연구원",$E7)),"보건환경연구원",IF(COUNT(FIND("소방재난본부",$E7)),"재난안전본부",IF(COUNT(FIND("경기도소방학교",$E7)),"재난안전본부",IF(COUNT(FIND("경기도인재개발원",$E7)),"인재개발원",IF(COUNT(FIND("북부소방재난본부",$E7)),"재난안전본부",IF(COUNT(FIND("소방서",$E7)),"재난안전본부",$E7)))))))) -> 대외협력담당관 | E7: 대외협력담당관 | F7: 서울사무소 | G7: 의회운영위원회 | H7: 6 | I7: 0302 | K7: 특교
A8: =IF(COUNT(AND(FIND("북부소방재난본부",$E8),FIND("특수대응단",$F8))),"특수대응단(북부)",IF(COUNT(FIND("작물연구과",$F8)),"작물연구과",IF(COUNT(FIND("원예연구과",$F8)),"원예연구과",IF(COUNT(FIND("환경농업연구과",$F8)),"환경농업연구과",IF(COUNT(FIND("지원기획과",$F8)),"지원기획과",IF(COUNT(FIND("기술보급과",$F8)),"기술보급과",IF(COUNT(FIND("농촌자원과",$F8)),"농촌자원과",IF(COUNT(FIND("종자관리소",$F8)),"종자관리소",IF(COUNT(FIND("버섯연구소",$F8)),"버섯연구소",IF(COUNT(FIND("소득자원연구소",$F8)),"소득자원연구소",IF(COUNT(FIND("선인장다육식물연구소",$F8)),"선인장다육식물연구소",IF(COUNT(FIND("보건연구부",$F8)),"보건연구부",IF(COUNT(FIND("대기연구부",$F8)),"대기연구부",IF(COUNT(FIND("수질연구부",$F8)),"수질연구부",IF(COUNT(FIND("북부지원",$F8)),"북부지원",IF(COUNT(FIND("수원농산물검사소",$F8)),"수원농산물검사소",IF(COUNT(FIND("건설본부(관리과)",$F8)),"관리과",IF(COUNT(FIND("도로건설과",$F8)),"도로건설과",IF(COUNT(FIND("북부도로과",$F8)),"북부도로과",IF(COUNT(FIND("건축시설과",$F8)),"건축시설과",IF(COUNT(FIND("신청사건립추진단",$F8)),"신청사건립추진단",$F8))))))))))))))))))))) -> 감사총괄담당관 | B8: =G8 -> 기획재정위원회 | C8: =IF(COUNT(FIND("경기도건설본부",$E8)),"건설본부",IF(COUNT(FIND("경기도농업기술원",$E8)),"농업기술원",IF(COUNT(FIND("경기도보건환경연구원",$E8)),"보건환경연구원",IF(COUNT(FIND("소방재난본부",$E8)),"재난안전본부",IF(COUNT(FIND("경기도소방학교",$E8)),"재난안전본부",IF(COUNT(FIND("경기도인재개발원",$E8)),"인재개발원",IF(COUNT(FIND("북부소방재난본부",$E8)),"재난안전본부",IF(COUNT(FIND("소방서",$E8)),"재난안전본부",$E8)))))))) -> 감사관 | E8: 감사관 | F8: 감사총괄담당관 | G8: 기획재정위원회 | H8: 7 | I8: 0401
A9: =IF(COUNT(AND(FIND("북부소방재난본부",$E9),FIND("특수대응단",$F9))),"특수대응단(북부)",IF(COUNT(FIND("작물연구과",$F9)),"작물연구과",IF(COUNT(FIND("원예연구과",$F9)),"원예연구과",IF(COUNT(FIND("환경농업연구과",$F9)),"환경농업연구과",IF(COUNT(FIND("지원기획과",$F9)),"지원기획과",IF(COUNT(FIND("기술보급과",$F9)),"기술보급과",IF(COUNT(FIND("농촌자원과",$F9)),"농촌자원과",IF(COUNT(FIND("종자관리소",$F9)),"종자관리소",IF(COUNT(FIND("버섯연구소",$F9)),"버섯연구소",IF(COUNT(FIND("소득자원연구소",$F9)),"소득자원연구소",IF(COUNT(FIND("선인장다육식물연구소",$F9)),"선인장다육식물연구소",IF(COUNT(FIND("보건연구부",$F9)),"보건연구부",IF(COUNT(FIND("대기연구부",$F9)),"대기연구부",IF(COUNT(FIND("수질연구부",$F9)),"수질연구부",IF(COUNT(FIND("북부지원",$F9)),"북부지원",IF(COUNT(FIND("수원농산물검사소",$F9)),"수원농산물검사소",IF(COUNT(FIND("건설본부(관리과)",$F9)),"관리과",IF(COUNT(FIND("도로건설과",$F9)),"도로건설과",IF(COUNT(FIND("북부도로과",$F9)),"북부도로과",IF(COUNT(FIND("건축시설과",$F9)),"건축시설과",IF(COUNT(FIND("신청사건립추진단",$F9)),"신청사건립추진단",$F9))))))))))))))))))))) -> 조사담당관 | B9: =G9 -> 기획재정위원회 | C9: =IF(COUNT(FIND("경기도건설본부",$E9)),"건설본부",IF(COUNT(FIND("경기도농업기술원",$E9)),"농업기술원",IF(COUNT(FIND("경기도보건환경연구원",$E9)),"보건환경연구원",IF(COUNT(FIND("소방재난본부",$E9)),"재난안전본부",IF(COUNT(FIND("경기도소방학교",$E9)),"재난안전본부",IF(COUNT(FIND("경기도인재개발원",$E9)),"인재개발원",IF(COUNT(FIND("북부소방재난본부",$E9)),"재난안전본부",IF(COUNT(FIND("소방서",$E9)),"재난안전본부",$E9)))))))) -> 감사관 | E9: 감사관 | F9: 조사담당관 | G9: 기획재정위원회 | H9: 8 | I9: 0402
A10: =IF(COUNT(AND(FIND("북부소방재난본부",$E10),FIND("특수대응단",$F10))),"특수대응단(북부)",IF(COUNT(FIND("작물연구과",$F10)),"작물연구과",IF(COUNT(FIND("원예연구과",$F10)),"원예연구과",IF(COUNT(FIND("환경농업연구과",$F10)),"환경농업연구과",IF(COUNT(FIND("지원기획과",$F10)),"지원기획과",IF(COUNT(FIND("기술보급과",$F10)),"기술보급과",IF(COUNT(FIND("농촌자원과",$F10)),"농촌자원과",IF(COUNT(FIND("종자관리소",$F10)),"종자관리소",IF(COUNT(FIND("버섯연구소",$F10)),"버섯연구소",IF(COUNT(FIND("소득자원연구소",$F10)),"소득자원연구소",IF(COUNT(FIND("선인장다육식물연구소",$F10)),"선인장다육식물연구소",IF(COUNT(FIND("보건연구부",$F10)),"보건연구부",IF(COUNT(FIND("대기연구부",$F10)),"대기연구부",IF(COUNT(FIND("수질연구부",$F10)),"수질연구부",IF(COUNT(FIND("북부지원",$F10)),"북부지원",IF(COUNT(FIND("수원농산물검사소",$F10)),"수원농산물검사소",IF(COUNT(FIND("건설본부(관리과)",$F10)),"관리과",IF(COUNT(FIND("도로건설과",$F10)),"도로건설과",IF(COUNT(FIND("북부도로과",$F10)),"북부도로과",IF(COUNT(FIND("건축시설과",$F10)),"건축시설과",IF(COUNT(FIND("신청사건립추진단",$F10)),"신청사건립추진단",$F10))))))))))))))))))))) -> 감사담당관 | B10: =G10 -> 기획재정위원회 | C10: =IF(COUNT(FIND("경기도건설본부",$E10)),"건설본부",IF(COUNT(FIND("경기도농업기술원",$E10)),"농업기술원",IF(COUNT(FIND("경기도보건환경연구원",$E10)),"보건환경연구원",IF(COUNT(FIND("소방재난본부",$E10)),"재난안전본부",IF(COUNT(FIND("경기도소방학교",$E10)),"재난안전본부",IF(COUNT(FIND("경기도인재개발원",$E10)),"인재개발원",IF(COUNT(FIND("북부소방재난본부",$E10)),"재난안전본부",IF(COUNT(FIND("소방서",$E10)),"재난안전본부",$E10)))))))) -> 감사관 | E10: 감사관 | F10: 감사담당관 | G10: 기획재정위원회 | H10: 9 | I10: 0403
A11: =IF(COUNT(AND(FIND("북부소방재난본부",$E11),FIND("특수대응단",$F11))),"특수대응단(북부)",IF(COUNT(FIND("작물연구과",$F11)),"작물연구과",IF(COUNT(FIND("원예연구과",$F11)),"원예연구과",IF(COUNT(FIND("환경농업연구과",$F11)),"환경농업연구과",IF(COUNT(FIND("지원기획과",$F11)),"지원기획과",IF(COUNT(FIND("기술보급과",$F11)),"기술보급과",IF(COUNT(FIND("농촌자원과",$F11)),"농촌자원과",IF(COUNT(FIND("종자관리소",$F11)),"종자관리소",IF(COUNT(FIND("버섯연구소",$F11)),"버섯연구소",IF(COUNT(FIND("소득자원연구소",$F11)),"소득자원연구소",IF(COUNT(FIND("선인장다육식물연구소",$F11)),"선인장다육식물연구소",IF(COUNT(FIND("보건연구부",$F11)),"보건연구부",IF(COUNT(FIND("대기연구부",$F11)),"대기연구부",IF(COUNT(FIND("수질연구부",$F11)),"수질연구부",IF(COUNT(FIND("북부지원",$F11)),"북부지원",IF(COUNT(FIND("수원농산물검사소",$F11)),"수원농산물검사소",IF(COUNT(FIND("건설본부(관리과)",$F11)),"관리과",IF(COUNT(FIND("도로건설과",$F11)),"도로건설과",IF(COUNT(FIND("북부도로과",$F11)),"북부도로과",IF(COUNT(FIND("건축시설과",$F11)),"건축시설과",IF(COUNT(FIND("신청사건립추진단",$F11)),"신청사건립추진단",$F11))))))))))))))))))))) -> 계약심사담당관 | B11: =G11 -> 기획재정위원회 | C11: =IF(COUNT(FIND("경기도건설본부",$E11)),"건설본부",IF(COUNT(FIND("경기도농업기술원",$E11)),"농업기술원",IF(COUNT(FIND("경기도보건환경연구원",$E11)),"보건환경연구원",IF(COUNT(FIND("소방재난본부",$E11)),"재난안전본부",IF(COUNT(FIND("경기도소방학교",$E11)),"재난안전본부",IF(COUNT(FIND("경기도인재개발원",$E11)),"인재개발원",IF(COUNT(FIND("북부소방재난본부",$E11)),"재난안전본부",IF(COUNT(FIND("소방서",$E11)),"재난안전본부",$E11)))))))) -> 감사관 | E11: 감사관 | F11: 계약심사담당관 | G11: 기획재정위원회 | H11: 10 | I11: 0404
A12: =IF(COUNT(AND(FIND("북부소방재난본부",$E12),FIND("특수대응단",$F12))),"특수대응단(북부)",IF(COUNT(FIND("작물연구과",$F12)),"작물연구과",IF(COUNT(FIND("원예연구과",$F12)),"원예연구과",IF(COUNT(FIND("환경농업연구과",$F12)),"환경농업연구과",IF(COUNT(FIND("지원기획과",$F12)),"지원기획과",IF(COUNT(FIND("기술보급과",$F12)),"기술보급과",IF(COUNT(FIND("농촌자원과",$F12)),"농촌자원과",IF(COUNT(FIND("종자관리소",$F12)),"종자관리소",IF(COUNT(FIND("버섯연구소",$F12)),"버섯연구소",IF(COUNT(FIND("소득자원연구소",$F12)),"소득자원연구소",IF(COUNT(FIND("선인장다육식물연구소",$F12)),"선인장다육식물연구소",IF(COUNT(FIND("보건연구부",$F12)),"보건연구부",IF(COUNT(FIND("대기연구부",$F12)),"대기연구부",IF(COUNT(FIND("수질연구부",$F12)),"수질연구부",IF(COUNT(FIND("북부지원",$F12)),"북부지원",IF(COUNT(FIND("수원농산물검사소",$F12)),"수원농산물검사소",IF(COUNT(FIND("건설본부(관리과)",$F12)),"관리과",IF(COUNT(FIND("도로건설과",$F12)),"도로건설과",IF(COUNT(FIND("북부도로과",$F12)),"북부도로과",IF(COUNT(FIND("건축시설과",$F12)),"건축시설과",IF(COUNT(FIND("신청사건립추진단",$F12)),"신청사건립추진단",$F12))))))))))))))))))))) -> 기획담당관 | B12: =G12 -> 기획재정위원회 | C12: =IF(COUNT(FIND("경기도건설본부",$E12)),"건설본부",IF(COUNT(FIND("경기도농업기술원",$E12)),"농업기술원",IF(COUNT(FIND("경기도보건환경연구원",$E12)),"보건환경연구원",IF(COUNT(FIND("소방재난본부",$E12)),"재난안전본부",IF(COUNT(FIND("경기도소방학교",$E12)),"재난안전본부",IF(COUNT(FIND("경기도인재개발원",$E12)),"인재개발원",IF(COUNT(FIND("북부소방재난본부",$E12)),"재난안전본부",IF(COUNT(FIND("소방서",$E12)),"재난안전본부",$E12)))))))) -> 기획조정실 | E12: 기획조정실 | F12: 기획담당관 | G12: 기획재정위원회 | H12: 11 | I12: 0501
A13: =IF(COUNT(AND(FIND("북부소방재난본부",$E13),FIND("특수대응단",$F13))),"특수대응단(북부)",IF(COUNT(FIND("작물연구과",$F13)),"작물연구과",IF(COUNT(FIND("원예연구과",$F13)),"원예연구과",IF(COUNT(FIND("환경농업연구과",$F13)),"환경농업연구과",IF(COUNT(FIND("지원기획과",$F13)),"지원기획과",IF(COUNT(FIND("기술보급과",$F13)),"기술보급과",IF(COUNT(FIND("농촌자원과",$F13)),"농촌자원과",IF(COUNT(FIND("종자관리소",$F13)),"종자관리소",IF(COUNT(FIND("버섯연구소",$F13)),"버섯연구소",IF(COUNT(FIND("소득자원연구소",$F13)),"소득자원연구소",IF(COUNT(FIND("선인장다육식물연구소",$F13)),"선인장다육식물연구소",IF(COUNT(FIND("보건연구부",$F13)),"보건연구부",IF(COUNT(FIND("대기연구부",$F13)),"대기연구부",IF(COUNT(FIND("수질연구부",$F13)),"수질연구부",IF(COUNT(FIND("북부지원",$F13)),"북부지원",IF(COUNT(FIND("수원농산물검사소",$F13)),"수원농산물검사소",IF(COUNT(FIND("건설본부(관리과)",$F13)),"관리과",IF(COUNT(FIND("도로건설과",$F13)),"도로건설과",IF(COUNT(FIND("북부도로과",$F13)),"북부도로과",IF(COUNT(FIND("건축시설과",$F13)),"건축시설과",IF(COUNT(FIND("신청사건립추진단",$F13)),"신청사건립추진단",$F13))))))))))))))))))))) -> 미래전략담당관 | B13: =G13 -> 기획재정위원회 | C13: =IF(COUNT(FIND("경기도건설본부",$E13)),"건설본부",IF(COUNT(FIND("경기도농업기술원",$E13)),"농업기술원",IF(COUNT(FIND("경기도보건환경연구원",$E13)),"보건환경연구원",IF(COUNT(FIND("소방재난본부",$E13)),"재난안전본부",IF(COUNT(FIND("경기도소방학교",$E13)),"재난안전본부",IF(COUNT(FIND("경기도인재개발원",$E13)),"인재개발원",IF(COUNT(FIND("북부소방재난본부",$E13)),"재난안전본부",IF(COUNT(FIND("소방서",$E13)),"재난안전본부",$E13)))))))) -> 기획조정실 | E13: 기획조정실 | F13: 미래전략담당관 | G13: 기획재정위원회 | H13: 12 | I13: 0502
A14: =IF(COUNT(AND(FIND("북부소방재난본부",$E14),FIND("특수대응단",$F14))),"특수대응단(북부)",IF(COUNT(FIND("작물연구과",$F14)),"작물연구과",IF(COUNT(FIND("원예연구과",$F14)),"원예연구과",IF(COUNT(FIND("환경농업연구과",$F14)),"환경농업연구과",IF(COUNT(FIND("지원기획과",$F14)),"지원기획과",IF(COUNT(FIND("기술보급과",$F14)),"기술보급과",IF(COUNT(FIND("농촌자원과",$F14)),"농촌자원과",IF(COUNT(FIND("종자관리소",$F14)),"종자관리소",IF(COUNT(FIND("버섯연구소",$F14)),"버섯연구소",IF(COUNT(FIND("소득자원연구소",$F14)),"소득자원연구소",IF(COUNT(FIND("선인장다육식물연구소",$F14)),"선인장다육식물연구소",IF(COUNT(FIND("보건연구부",$F14)),"보건연구부",IF(COUNT(FIND("대기연구부",$F14)),"대기연구부",IF(COUNT(FIND("수질연구부",$F14)),"수질연구부",IF(COUNT(FIND("북부지원",$F14)),"북부지원",IF(COUNT(FIND("수원농산물검사소",$F14)),"수원농산물검사소",IF(COUNT(FIND("건설본부(관리과)",$F14)),"관리과",IF(COUNT(FIND("도로건설과",$F14)),"도로건설과",IF(COUNT(FIND("북부도로과",$F14)),"북부도로과",IF(COUNT(FIND("건축시설과",$F14)),"건축시설과",IF(COUNT(FIND("신청사건립추진단",$F14)),"신청사건립추진단",$F14))))))))))))))))))))) -> 예산담당관 | B14: =G14 -> 기획재정위원회 | C14: =IF(COUNT(FIND("경기도건설본부",$E14)),"건설본부",IF(COUNT(FIND("경기도농업기술원",$E14)),"농업기술원",IF(COUNT(FIND("경기도보건환경연구원",$E14)),"보건환경연구원",IF(COUNT(FIND("소방재난본부",$E14)),"재난안전본부",IF(COUNT(FIND("경기도소방학교",$E14)),"재난안전본부",IF(COUNT(FIND("경기도인재개발원",$E14)),"인재개발원",IF(COUNT(FIND("북부소방재난본부",$E14)),"재난안전본부",IF(COUNT(FIND("소방서",$E14)),"재난안전본부",$E14)))))))) -> 기획조정실 | E14: 기획조정실 | F14: 예산담당관 | G14: 기획재정위원회 | H14: 13 | I14: 0503
A15: =IF(COUNT(AND(FIND("북부소방재난본부",$E15),FIND("특수대응단",$F15))),"특수대응단(북부)",IF(COUNT(FIND("작물연구과",$F15)),"작물연구과",IF(COUNT(FIND("원예연구과",$F15)),"원예연구과",IF(COUNT(FIND("환경농업연구과",$F15)),"환경농업연구과",IF(COUNT(FIND("지원기획과",$F15)),"지원기획과",IF(COUNT(FIND("기술보급과",$F15)),"기술보급과",IF(COUNT(FIND("농촌자원과",$F15)),"농촌자원과",IF(COUNT(FIND("종자관리소",$F15)),"종자관리소",IF(COUNT(FIND("버섯연구소",$F15)),"버섯연구소",IF(COUNT(FIND("소득자원연구소",$F15)),"소득자원연구소",IF(COUNT(FIND("선인장다육식물연구소",$F15)),"선인장다육식물연구소",IF(COUNT(FIND("보건연구부",$F15)),"보건연구부",IF(COUNT(FIND("대기연구부",$F15)),"대기연구부",IF(COUNT(FIND("수질연구부",$F15)),"수질연구부",IF(COUNT(FIND("북부지원",$F15)),"북부지원",IF(COUNT(FIND("수원농산물검사소",$F15)),"수원농산물검사소",IF(COUNT(FIND("건설본부(관리과)",$F15)),"관리과",IF(COUNT(FIND("도로건설과",$F15)),"도로건설과",IF(COUNT(FIND("북부도로과",$F15)),"북부도로과",IF(COUNT(FIND("건축시설과",$F15)),"건축시설과",IF(COUNT(FIND("신청사건립추진단",$F15)),"신청사건립추진단",$F15))))))))))))))))))))) -> 평가담당관 | B15: =G15 -> 기획재정위원회 | C15: =IF(COUNT(FIND("경기도건설본부",$E15)),"건설본부",IF(COUNT(FIND("경기도농업기술원",$E15)),"농업기술원",IF(COUNT(FIND("경기도보건환경연구원",$E15)),"보건환경연구원",IF(COUNT(FIND("소방재난본부",$E15)),"재난안전본부",IF(COUNT(FIND("경기도소방학교",$E15)),"재난안전본부",IF(COUNT(FIND("경기도인재개발원",$E15)),"인재개발원",IF(COUNT(FIND("북부소방재난본부",$E15)),"재난안전본부",IF(COUNT(FIND("소방서",$E15)),"재난안전본부",$E15)))))))) -> 기획조정실 | E15: 기획조정실 | F15: 평가담당관 | G15: 기획재정위원회 | H15: 14 | I15: 0504
A16: =IF(COUNT(AND(FIND("북부소방재난본부",$E16),FIND("특수대응단",$F16))),"특수대응단(북부)",IF(COUNT(FIND("작물연구과",$F16)),"작물연구과",IF(COUNT(FIND("원예연구과",$F16)),"원예연구과",IF(COUNT(FIND("환경농업연구과",$F16)),"환경농업연구과",IF(COUNT(FIND("지원기획과",$F16)),"지원기획과",IF(COUNT(FIND("기술보급과",$F16)),"기술보급과",IF(COUNT(FIND("농촌자원과",$F16)),"농촌자원과",IF(COUNT(FIND("종자관리소",$F16)),"종자관리소",IF(COUNT(FIND("버섯연구소",$F16)),"버섯연구소",IF(COUNT(FIND("소득자원연구소",$F16)),"소득자원연구소",IF(COUNT(FIND("선인장다육식물연구소",$F16)),"선인장다육식물연구소",IF(COUNT(FIND("보건연구부",$F16)),"보건연구부",IF(COUNT(FIND("대기연구부",$F16)),"대기연구부",IF(COUNT(FIND("수질연구부",$F16)),"수질연구부",IF(COUNT(FIND("북부지원",$F16)),"북부지원",IF(COUNT(FIND("수원농산물검사소",$F16)),"수원농산물검사소",IF(COUNT(FIND("건설본부(관리과)",$F16)),"관리과",IF(COUNT(FIND("도로건설과",$F16)),"도로건설과",IF(COUNT(FIND("북부도로과",$F16)),"북부도로과",IF(COUNT(FIND("건축시설과",$F16)),"건축시설과",IF(COUNT(FIND("신청사건립추진단",$F16)),"신청사건립추진단",$F16))))))))))))))))))))) -> 법무담당관 | B16: =G16 -> 기획재정위원회 | C16: =IF(COUNT(FIND("경기도건설본부",$E16)),"건설본부",IF(COUNT(FIND("경기도농업기술원",$E16)),"농업기술원",IF(COUNT(FIND("경기도보건환경연구원",$E16)),"보건환경연구원",IF(COUNT(FIND("소방재난본부",$E16)),"재난안전본부",IF(COUNT(FIND("경기도소방학교",$E16)),"재난안전본부",IF(COUNT(FIND("경기도인재개발원",$E16)),"인재개발원",IF(COUNT(FIND("북부소방재난본부",$E16)),"재난안전본부",IF(COUNT(FIND("소방서",$E16)),"재난안전본부",$E16)))))))) -> 기획조정실 | E16: 기획조정실 | F16: 법무담당관 | G16: 기획재정위원회 | H16: 15 | I16: 0505
A17: =IF(COUNT(AND(FIND("북부소방재난본부",$E17),FIND("특수대응단",$F17))),"특수대응단(북부)",IF(COUNT(FIND("작물연구과",$F17)),"작물연구과",IF(COUNT(FIND("원예연구과",$F17)),"원예연구과",IF(COUNT(FIND("환경농업연구과",$F17)),"환경농업연구과",IF(COUNT(FIND("지원기획과",$F17)),"지원기획과",IF(COUNT(FIND("기술보급과",$F17)),"기술보급과",IF(COUNT(FIND("농촌자원과",$F17)),"농촌자원과",IF(COUNT(FIND("종자관리소",$F17)),"종자관리소",IF(COUNT(FIND("버섯연구소",$F17)),"버섯연구소",IF(COUNT(FIND("소득자원연구소",$F17)),"소득자원연구소",IF(COUNT(FIND("선인장다육식물연구소",$F17)),"선인장다육식물연구소",IF(COUNT(FIND("보건연구부",$F17)),"보건연구부",IF(COUNT(FIND("대기연구부",$F17)),"대기연구부",IF(COUNT(FIND("수질연구부",$F17)),"수질연구부",IF(COUNT(FIND("북부지원",$F17)),"북부지원",IF(COUNT(FIND("수원농산물검사소",$F17)),"수원농산물검사소",IF(COUNT(FIND("건설본부(관리과)",$F17)),"관리과",IF(COUNT(FIND("도로건설과",$F17)),"도로건설과",IF(COUNT(FIND("북부도로과",$F17)),"북부도로과",IF(COUNT(FIND("건축시설과",$F17)),"건축시설과",IF(COUNT(FIND("신청사건립추진단",$F17)),"신청사건립추진단",$F17))))))))))))))))))))) -> 규제개혁추진단 | B17: =G17 -> 기획재정위원회 | C17: =IF(COUNT(FIND("경기도건설본부",$E17)),"건설본부",IF(COUNT(FIND("경기도농업기술원",$E17)),"농업기술원",IF(COUNT(FIND("경기도보건환경연구원",$E17)),"보건환경연구원",IF(COUNT(FIND("소방재난본부",$E17)),"재난안전본부",IF(COUNT(FIND("경기도소방학교",$E17)),"재난안전본부",IF(COUNT(FIND("경기도인재개발원",$E17)),"인재개발원",IF(COUNT(FIND("북부소방재난본부",$E17)),"재난안전본부",IF(COUNT(FIND("소방서",$E17)),"재난안전본부",$E17)))))))) -> 기획조정실 | E17: 기획조정실 | F17: 규제개혁추진단 | G17: 기획재정위원회 | H17: 16 | I17: 0506
A18: =IF(COUNT(AND(FIND("북부소방재난본부",$E18),FIND("특수대응단",$F18))),"특수대응단(북부)",IF(COUNT(FIND("작물연구과",$F18)),"작물연구과",IF(COUNT(FIND("원예연구과",$F18)),"원예연구과",IF(COUNT(FIND("환경농업연구과",$F18)),"환경농업연구과",IF(COUNT(FIND("지원기획과",$F18)),"지원기획과",IF(COUNT(FIND("기술보급과",$F18)),"기술보급과",IF(COUNT(FIND("농촌자원과",$F18)),"농촌자원과",IF(COUNT(FIND("종자관리소",$F18)),"종자관리소",IF(COUNT(FIND("버섯연구소",$F18)),"버섯연구소",IF(COUNT(FIND("소득자원연구소",$F18)),"소득자원연구소",IF(COUNT(FIND("선인장다육식물연구소",$F18)),"선인장다육식물연구소",IF(COUNT(FIND("보건연구부",$F18)),"보건연구부",IF(COUNT(FIND("대기연구부",$F18)),"대기연구부",IF(COUNT(FIND("수질연구부",$F18)),"수질연구부",IF(COUNT(FIND("북부지원",$F18)),"북부지원",IF(COUNT(FIND("수원농산물검사소",$F18)),"수원농산물검사소",IF(COUNT(FIND("건설본부(관리과)",$F18)),"관리과",IF(COUNT(FIND("도로건설과",$F18)),"도로건설과",IF(COUNT(FIND("북부도로과",$F18)),"북부도로과",IF(COUNT(FIND("건축시설과",$F18)),"건축시설과",IF(COUNT(FIND("신청사건립추진단",$F18)),"신청사건립추진단",$F18))))))))))))))))))))) -> 따복공동체지원단 | B18: =G18 -> 기획재정위원회 | C18: =IF(COUNT(FIND("경기도건설본부",$E18)),"건설본부",IF(COUNT(FIND("경기도농업기술원",$E18)),"농업기술원",IF(COUNT(FIND("경기도보건환경연구원",$E18)),"보건환경연구원",IF(COUNT(FIND("소방재난본부",$E18)),"재난안전본부",IF(COUNT(FIND("경기도소방학교",$E18)),"재난안전본부",IF(COUNT(FIND("경기도인재개발원",$E18)),"인재개발원",IF(COUNT(FIND("북부소방재난본부",$E18)),"재난안전본부",IF(COUNT(FIND("소방서",$E18)),"재난안전본부",$E18)))))))) -> 기획조정실 | E18: 기획조정실 | F18: 따복공동체지원단 | G18: 기획재정위원회 | H18: 17 | I18: 0507
A19: =IF(COUNT(AND(FIND("북부소방재난본부",$E19),FIND("특수대응단",$F19))),"특수대응단(북부)",IF(COUNT(FIND("작물연구과",$F19)),"작물연구과",IF(COUNT(FIND("원예연구과",$F19)),"원예연구과",IF(COUNT(FIND("환경농업연구과",$F19)),"환경농업연구과",IF(COUNT(FIND("지원기획과",$F19)),"지원기획과",IF(COUNT(FIND("기술보급과",$F19)),"기술보급과",IF(COUNT(FIND("농촌자원과",$F19)),"농촌자원과",IF(COUNT(FIND("종자관리소",$F19)),"종자관리소",IF(COUNT(FIND("버섯연구소",$F19)),"버섯연구소",IF(COUNT(FIND("소득자원연구소",$F19)),"소득자원연구소",IF(COUNT(FIND("선인장다육식물연구소",$F19)),"선인장다육식물연구소",IF(COUNT(FIND("보건연구부",$F19)),"보건연구부",IF(COUNT(FIND("대기연구부",$F19)),"대기연구부",IF(COUNT(FIND("수질연구부",$F19)),"수질연구부",IF(COUNT(FIND("북부지원",$F19)),"북부지원",IF(COUNT(FIND("수원농산물검사소",$F19)),"수원농산물검사소",IF(COUNT(FIND("건설본부(관리과)",$F19)),"관리과",IF(COUNT(FIND("도로건설과",$F19)),"도로건설과",IF(COUNT(FIND("북부도로과",$F19)),"북부도로과",IF(COUNT(FIND("건축시설과",$F19)),"건축시설과",IF(COUNT(FIND("신청사건립추진단",$F19)),"신청사건립추진단",$F19))))))))))))))))))))) -> 정보기획담당관 | B19: =G19 -> 기획재정위원회 | C19: =IF(COUNT(FIND("경기도건설본부",$E19)),"건설본부",IF(COUNT(FIND("경기도농업기술원",$E19)),"농업기술원",IF(COUNT(FIND("경기도보건환경연구원",$E19)),"보건환경연구원",IF(COUNT(FIND("소방재난본부",$E19)),"재난안전본부",IF(COUNT(FIND("경기도소방학교",$E19)),"재난안전본부",IF(COUNT(FIND("경기도인재개발원",$E19)),"인재개발원",IF(COUNT(FIND("북부소방재난본부",$E19)),"재난안전본부",IF(COUNT(FIND("소방서",$E19)),"재난안전본부",$E19)))))))) -> 기획조정실 | E19: 기획조정실 | F19: 정보기획담당관 | G19: 기획재정위원회 | H19: 18 | I19: 0508
... A174: =IF(COUNT(AND(FIND("북부소방재난본부",$E174),FIND("특수대응단",$F174))),"특수대응단(북부)",IF(COUNT(FIND("작물연구과",$F174)),"작물연구과",IF(COUNT(FIND("원예연구과",$F174)),"원예연구과",IF(COUNT(FIND("환경농업연구과",$F174)),"환경농업연구과",IF(COUNT(FIND("지원기획과",$F174)),"지원기획과",IF(COUNT(FIND("기술보급과",$F174)),"기술보급과",IF(COUNT(FIND("농촌자원과",$F174)),"농촌자원과",IF(COUNT(FIND("종자관리소",$F174)),"종자관리소",IF(COUNT(FIND("버섯연구소",$F174)),"버섯연구소",IF(COUNT(FIND("소득자원연구소",$F174)),"소득자원연구소",IF(COUNT(FIND("선인장다육식물연구소",$F174)),"선인장다육식물연구소",IF(COUNT(FIND("보건연구부",$F174)),"보건연구부",IF(COUNT(FIND("대기연구부",$F174)),"대기연구부",IF(COUNT(FIND("수질연구부",$F174)),"수질연구부",IF(COUNT(FIND("북부지원",$F174)),"북부지원",IF(COUNT(FIND("수원농산물검사소",$F174)),"수원농산물검사소",IF(COUNT(FIND("건설본부(관리과)",$F174)),"관리과",IF(COUNT(FIND("도로건설과",$F174)),"도로건설과",IF(COUNT(FIND("북부도로과",$F174)),"북부도로과",IF(COUNT(FIND("건축시설과",$F174)),"건축시설과",IF(COUNT(FIND("신청사건립추진단",$F174)),"신청사건립추진단",$F174))))))))))))))))))))) -> 수질연구부 | B174: =G174 -> 도시환경위원회 | C174: =IF(COUNT(FIND("경기도건설본부",$E174)),"건설본부",IF(COUNT(FIND("경기도농업기술원",$E174)),"농업기술원",IF(COUNT(FIND("경기도보건환경연구원",$E174)),"보건환경연구원",IF(COUNT(FIND("소방재난본부",$E174)),"재난안전본부",IF(COUNT(FIND("경기도소방학교",$E174)),"재난안전본부",IF(COUNT(FIND("경기도인재개발원",$E174)),"인재개발원",IF(COUNT(FIND("북부소방재난본부",$E174)),"재난안전본부",IF(COUNT(FIND("소방서",$E174)),"재난안전본부",$E174)))))))) -> 보건환경연구원 | E174: 경기도보건환경연구원 | F174: 보건환경연구원(수질연구부) | G174: 도시환경위원회 | H174: 173 | I174: 2902
A175: =IF(COUNT(AND(FIND("북부소방재난본부",$E175),FIND("특수대응단",$F175))),"특수대응단(북부)",IF(COUNT(FIND("작물연구과",$F175)),"작물연구과",IF(COUNT(FIND("원예연구과",$F175)),"원예연구과",IF(COUNT(FIND("환경농업연구과",$F175)),"환경농업연구과",IF(COUNT(FIND("지원기획과",$F175)),"지원기획과",IF(COUNT(FIND("기술보급과",$F175)),"기술보급과",IF(COUNT(FIND("농촌자원과",$F175)),"농촌자원과",IF(COUNT(FIND("종자관리소",$F175)),"종자관리소",IF(COUNT(FIND("버섯연구소",$F175)),"버섯연구소",IF(COUNT(FIND("소득자원연구소",$F175)),"소득자원연구소",IF(COUNT(FIND("선인장다육식물연구소",$F175)),"선인장다육식물연구소",IF(COUNT(FIND("보건연구부",$F175)),"보건연구부",IF(COUNT(FIND("대기연구부",$F175)),"대기연구부",IF(COUNT(FIND("수질연구부",$F175)),"수질연구부",IF(COUNT(FIND("북부지원",$F175)),"북부지원",IF(COUNT(FIND("수원농산물검사소",$F175)),"수원농산물검사소",IF(COUNT(FIND("건설본부(관리과)",$F175)),"관리과",IF(COUNT(FIND("도로건설과",$F175)),"도로건설과",IF(COUNT(FIND("북부도로과",$F175)),"북부도로과",IF(COUNT(FIND("건축시설과",$F175)),"건축시설과",IF(COUNT(FIND("신청사건립추진단",$F175)),"신청사건립추진단",$F175))))))))))))))))))))) -> 북부지원 | B175: =G175 -> 도시환경위원회 | C175: =IF(COUNT(FIND("경기도건설본부",$E175)),"건설본부",IF(COUNT(FIND("경기도농업기술원",$E175)),"농업기술원",IF(COUNT(FIND("경기도보건환경연구원",$E175)),"보건환경연구원",IF(COUNT(FIND("소방재난본부",$E175)),"재난안전본부",IF(COUNT(FIND("경기도소방학교",$E175)),"재난안전본부",IF(COUNT(FIND("경기도인재개발원",$E175)),"인재개발원",IF(COUNT(FIND("북부소방재난본부",$E175)),"재난안전본부",IF(COUNT(FIND("소방서",$E175)),"재난안전본부",$E175)))))))) -> 보건환경연구원 | E175: 경기도보건환경연구원 | F175: 보건환경연구원북부지원 | G175: 도시환경위원회 | H175: 187 | I175: 2903
A176: =IF(COUNT(AND(FIND("북부소방재난본부",$E176),FIND("특수대응단",$F176))),"특수대응단(북부)",IF(COUNT(FIND("작물연구과",$F176)),"작물연구과",IF(COUNT(FIND("원예연구과",$F176)),"원예연구과",IF(COUNT(FIND("환경농업연구과",$F176)),"환경농업연구과",IF(COUNT(FIND("지원기획과",$F176)),"지원기획과",IF(COUNT(FIND("기술보급과",$F176)),"기술보급과",IF(COUNT(FIND("농촌자원과",$F176)),"농촌자원과",IF(COUNT(FIND("종자관리소",$F176)),"종자관리소",IF(COUNT(FIND("버섯연구소",$F176)),"버섯연구소",IF(COUNT(FIND("소득자원연구소",$F176)),"소득자원연구소",IF(COUNT(FIND("선인장다육식물연구소",$F176)),"선인장다육식물연구소",IF(COUNT(FIND("보건연구부",$F176)),"보건연구부",IF(COUNT(FIND("대기연구부",$F176)),"대기연구부",IF(COUNT(FIND("수질연구부",$F176)),"수질연구부",IF(COUNT(FIND("북부지원",$F176)),"북부지원",IF(COUNT(FIND("수원농산물검사소",$F176)),"수원농산물검사소",IF(COUNT(FIND("건설본부(관리과)",$F176)),"관리과",IF(COUNT(FIND("도로건설과",$F176)),"도로건설과",IF(COUNT(FIND("북부도로과",$F176)),"북부도로과",IF(COUNT(FIND("건축시설과",$F176)),"건축시설과",IF(COUNT(FIND("신청사건립추진단",$F176)),"신청사건립추진단",$F176))))))))))))))))))))) -> 수자원본부 | B176: =G176 -> 도시환경위원회 | C176: =IF(COUNT(FIND("경기도건설본부",$E176)),"건설본부",IF(COUNT(FIND("경기도농업기술원",$E176)),"농업기술원",IF(COUNT(FIND("경기도보건환경연구원",$E176)),"보건환경연구원",IF(COUNT(FIND("소방재난본부",$E176)),"재난안전본부",IF(COUNT(FIND("경기도소방학교",$E176)),"재난안전본부",IF(COUNT(FIND("경기도인재개발원",$E176)),"인재개발원",IF(COUNT(FIND("북부소방재난본부",$E176)),"재난안전본부",IF(COUNT(FIND("소방서",$E176)),"재난안전본부",$E176)))))))) -> 수자원본부 | E176: 수자원본부 | F176: 수자원본부 | G176: 도시환경위원회 | H176: 174 | I176: 3001
A177: =IF(COUNT(AND(FIND("북부소방재난본부",$E177),FIND("특수대응단",$F177))),"특수대응단(북부)",IF(COUNT(FIND("작물연구과",$F177)),"작물연구과",IF(COUNT(FIND("원예연구과",$F177)),"원예연구과",IF(COUNT(FIND("환경농업연구과",$F177)),"환경농업연구과",IF(COUNT(FIND("지원기획과",$F177)),"지원기획과",IF(COUNT(FIND("기술보급과",$F177)),"기술보급과",IF(COUNT(FIND("농촌자원과",$F177)),"농촌자원과",IF(COUNT(FIND("종자관리소",$F177)),"종자관리소",IF(COUNT(FIND("버섯연구소",$F177)),"버섯연구소",IF(COUNT(FIND("소득자원연구소",$F177)),"소득자원연구소",IF(COUNT(FIND("선인장다육식물연구소",$F177)),"선인장다육식물연구소",IF(COUNT(FIND("보건연구부",$F177)),"보건연구부",IF(COUNT(FIND("대기연구부",$F177)),"대기연구부",IF(COUNT(FIND("수질연구부",$F177)),"수질연구부",IF(COUNT(FIND("북부지원",$F177)),"북부지원",IF(COUNT(FIND("수원농산물검사소",$F177)),"수원농산물검사소",IF(COUNT(FIND("건설본부(관리과)",$F177)),"관리과",IF(COUNT(FIND("도로건설과",$F177)),"도로건설과",IF(COUNT(FIND("북부도로과",$F177)),"북부도로과",IF(COUNT(FIND("건축시설과",$F177)),"건축시설과",IF(COUNT(FIND("신청사건립추진단",$F177)),"신청사건립추진단",$F177))))))))))))))))))))) -> 교육정책과 | B177: =G177 -> 여성가족교육협력위원회 | C177: =IF(COUNT(FIND("경기도건설본부",$E177)),"건설본부",IF(COUNT(FIND("경기도농업기술원",$E177)),"농업기술원",IF(COUNT(FIND("경기도보건환경연구원",$E177)),"보건환경연구원",IF(COUNT(FIND("소방재난본부",$E177)),"재난안전본부",IF(COUNT(FIND("경기도소방학교",$E177)),"재난안전본부",IF(COUNT(FIND("경기도인재개발원",$E177)),"인재개발원",IF(COUNT(FIND("북부소방재난본부",$E177)),"재난안전본부",IF(COUNT(FIND("소방서",$E177)),"재난안전본부",$E177)))))))) -> 교육협력국 | E177: 교육협력국 | F177: 교육정책과 | G177: 여성가족교육협력위원회 | H177: 175 | I177: 3101
A178: =IF(COUNT(AND(FIND("북부소방재난본부",$E178),FIND("특수대응단",$F178))),"특수대응단(북부)",IF(COUNT(FIND("작물연구과",$F178)),"작물연구과",IF(COUNT(FIND("원예연구과",$F178)),"원예연구과",IF(COUNT(FIND("환경농업연구과",$F178)),"환경농업연구과",IF(COUNT(FIND("지원기획과",$F178)),"지원기획과",IF(COUNT(FIND("기술보급과",$F178)),"기술보급과",IF(COUNT(FIND("농촌자원과",$F178)),"농촌자원과",IF(COUNT(FIND("종자관리소",$F178)),"종자관리소",IF(COUNT(FIND("버섯연구소",$F178)),"버섯연구소",IF(COUNT(FIND("소득자원연구소",$F178)),"소득자원연구소",IF(COUNT(FIND("선인장다육식물연구소",$F178)),"선인장다육식물연구소",IF(COUNT(FIND("보건연구부",$F178)),"보건연구부",IF(COUNT(FIND("대기연구부",$F178)),"대기연구부",IF(COUNT(FIND("수질연구부",$F178)),"수질연구부",IF(COUNT(FIND("북부지원",$F178)),"북부지원",IF(COUNT(FIND("수원농산물검사소",$F178)),"수원농산물검사소",IF(COUNT(FIND("건설본부(관리과)",$F178)),"관리과",IF(COUNT(FIND("도로건설과",$F178)),"도로건설과",IF(COUNT(FIND("북부도로과",$F178)),"북부도로과",IF(COUNT(FIND("건축시설과",$F178)),"건축시설과",IF(COUNT(FIND("신청사건립추진단",$F178)),"신청사건립추진단",$F178))))))))))))))))))))) -> 교육협력과 | B178: =G178 -> 여성가족교육협력위원회 | C178: =IF(COUNT(FIND("경기도건설본부",$E178)),"건설본부",IF(COUNT(FIND("경기도농업기술원",$E178)),"농업기술원",IF(COUNT(FIND("경기도보건환경연구원",$E178)),"보건환경연구원",IF(COUNT(FIND("소방재난본부",$E178)),"재난안전본부",IF(COUNT(FIND("경기도소방학교",$E178)),"재난안전본부",IF(COUNT(FIND("경기도인재개발원",$E178)),"인재개발원",IF(COUNT(FIND("북부소방재난본부",$E178)),"재난안전본부",IF(COUNT(FIND("소방서",$E178)),"재난안전본부",$E178)))))))) -> 교육협력국 | E178: 교육협력국 | F178: 교육협력과 | G178: 여성가족교육협력위원회 | H178: 176 | I178: 3102
A179: =IF(COUNT(AND(FIND("북부소방재난본부",$E179),FIND("특수대응단",$F179))),"특수대응단(북부)",IF(COUNT(FIND("작물연구과",$F179)),"작물연구과",IF(COUNT(FIND("원예연구과",$F179)),"원예연구과",IF(COUNT(FIND("환경농업연구과",$F179)),"환경농업연구과",IF(COUNT(FIND("지원기획과",$F179)),"지원기획과",IF(COUNT(FIND("기술보급과",$F179)),"기술보급과",IF(COUNT(FIND("농촌자원과",$F179)),"농촌자원과",IF(COUNT(FIND("종자관리소",$F179)),"종자관리소",IF(COUNT(FIND("버섯연구소",$F179)),"버섯연구소",IF(COUNT(FIND("소득자원연구소",$F179)),"소득자원연구소",IF(COUNT(FIND("선인장다육식물연구소",$F179)),"선인장다육식물연구소",IF(COUNT(FIND("보건연구부",$F179)),"보건연구부",IF(COUNT(FIND("대기연구부",$F179)),"대기연구부",IF(COUNT(FIND("수질연구부",$F179)),"수질연구부",IF(COUNT(FIND("북부지원",$F179)),"북부지원",IF(COUNT(FIND("수원농산물검사소",$F179)),"수원농산물검사소",IF(COUNT(FIND("건설본부(관리과)",$F179)),"관리과",IF(COUNT(FIND("도로건설과",$F179)),"도로건설과",IF(COUNT(FIND("북부도로과",$F179)),"북부도로과",IF(COUNT(FIND("건축시설과",$F179)),"건축시설과",IF(COUNT(FIND("신청사건립추진단",$F179)),"신청사건립추진단",$F179))))))))))))))))))))) -> 도서관정책과 | B179: =G179 -> 여성가족교육협력위원회 | C179: =IF(COUNT(FIND("경기도건설본부",$E179)),"건설본부",IF(COUNT(FIND("경기도농업기술원",$E179)),"농업기술원",IF(COUNT(FIND("경기도보건환경연구원",$E179)),"보건환경연구원",IF(COUNT(FIND("소방재난본부",$E179)),"재난안전본부",IF(COUNT(FIND("경기도소방학교",$E179)),"재난안전본부",IF(COUNT(FIND("경기도인재개발원",$E179)),"인재개발원",IF(COUNT(FIND("북부소방재난본부",$E179)),"재난안전본부",IF(COUNT(FIND("소방서",$E179)),"재난안전본부",$E179)))))))) -> 교육협력국 | E179: 교육협력국 | F179: 도서관정책과 | G179: 여성가족교육협력위원회 | H179: 177 | I179: 3103
A180: =IF(COUNT(AND(FIND("북부소방재난본부",$E180),FIND("특수대응단",$F180))),"특수대응단(북부)",IF(COUNT(FIND("작물연구과",$F180)),"작물연구과",IF(COUNT(FIND("원예연구과",$F180)),"원예연구과",IF(COUNT(FIND("환경농업연구과",$F180)),"환경농업연구과",IF(COUNT(FIND("지원기획과",$F180)),"지원기획과",IF(COUNT(FIND("기술보급과",$F180)),"기술보급과",IF(COUNT(FIND("농촌자원과",$F180)),"농촌자원과",IF(COUNT(FIND("종자관리소",$F180)),"종자관리소",IF(COUNT(FIND("버섯연구소",$F180)),"버섯연구소",IF(COUNT(FIND("소득자원연구소",$F180)),"소득자원연구소",IF(COUNT(FIND("선인장다육식물연구소",$F180)),"선인장다육식물연구소",IF(COUNT(FIND("보건연구부",$F180)),"보건연구부",IF(COUNT(FIND("대기연구부",$F180)),"대기연구부",IF(COUNT(FIND("수질연구부",$F180)),"수질연구부",IF(COUNT(FIND("북부지원",$F180)),"북부지원",IF(COUNT(FIND("수원농산물검사소",$F180)),"수원농산물검사소",IF(COUNT(FIND("건설본부(관리과)",$F180)),"관리과",IF(COUNT(FIND("도로건설과",$F180)),"도로건설과",IF(COUNT(FIND("북부도로과",$F180)),"북부도로과",IF(COUNT(FIND("건축시설과",$F180)),"건축시설과",IF(COUNT(FIND("신청사건립추진단",$F180)),"신청사건립추진단",$F180))))))))))))))))))))) -> 여성가족과 | B180: =G180 -> 여성가족교육협력위원회 | C180: =IF(COUNT(FIND("경기도건설본부",$E180)),"건설본부",IF(COUNT(FIND("경기도농업기술원",$E180)),"농업기술원",IF(COUNT(FIND("경기도보건환경연구원",$E180)),"보건환경연구원",IF(COUNT(FIND("소방재난본부",$E180)),"재난안전본부",IF(COUNT(FIND("경기도소방학교",$E180)),"재난안전본부",IF(COUNT(FIND("경기도인재개발원",$E180)),"인재개발원",IF(COUNT(FIND("북부소방재난본부",$E180)),"재난안전본부",IF(COUNT(FIND("소방서",$E180)),"재난안전본부",$E180)))))))) -> 여성가족국 | E180: 여성가족국 | F180: 여성가족과 | G180: 여성가족교육협력위원회 | H180: 178 | I180: 3201
A181: =IF(COUNT(AND(FIND("북부소방재난본부",$E181),FIND("특수대응단",$F181))),"특수대응단(북부)",IF(COUNT(FIND("작물연구과",$F181)),"작물연구과",IF(COUNT(FIND("원예연구과",$F181)),"원예연구과",IF(COUNT(FIND("환경농업연구과",$F181)),"환경농업연구과",IF(COUNT(FIND("지원기획과",$F181)),"지원기획과",IF(COUNT(FIND("기술보급과",$F181)),"기술보급과",IF(COUNT(FIND("농촌자원과",$F181)),"농촌자원과",IF(COUNT(FIND("종자관리소",$F181)),"종자관리소",IF(COUNT(FIND("버섯연구소",$F181)),"버섯연구소",IF(COUNT(FIND("소득자원연구소",$F181)),"소득자원연구소",IF(COUNT(FIND("선인장다육식물연구소",$F181)),"선인장다육식물연구소",IF(COUNT(FIND("보건연구부",$F181)),"보건연구부",IF(COUNT(FIND("대기연구부",$F181)),"대기연구부",IF(COUNT(FIND("수질연구부",$F181)),"수질연구부",IF(COUNT(FIND("북부지원",$F181)),"북부지원",IF(COUNT(FIND("수원농산물검사소",$F181)),"수원농산물검사소",IF(COUNT(FIND("건설본부(관리과)",$F181)),"관리과",IF(COUNT(FIND("도로건설과",$F181)),"도로건설과",IF(COUNT(FIND("북부도로과",$F181)),"북부도로과",IF(COUNT(FIND("건축시설과",$F181)),"건축시설과",IF(COUNT(FIND("신청사건립추진단",$F181)),"신청사건립추진단",$F181))))))))))))))))))))) -> 보육정책과 | B181: =G181 -> 여성가족교육협력위원회 | C181: =IF(COUNT(FIND("경기도건설본부",$E181)),"건설본부",IF(COUNT(FIND("경기도농업기술원",$E181)),"농업기술원",IF(COUNT(FIND("경기도보건환경연구원",$E181)),"보건환경연구원",IF(COUNT(FIND("소방재난본부",$E181)),"재난안전본부",IF(COUNT(FIND("경기도소방학교",$E181)),"재난안전본부",IF(COUNT(FIND("경기도인재개발원",$E181)),"인재개발원",IF(COUNT(FIND("북부소방재난본부",$E181)),"재난안전본부",IF(COUNT(FIND("소방서",$E181)),"재난안전본부",$E181)))))))) -> 여성가족국 | E181: 여성가족국 | F181: 보육정책과 | G181: 여성가족교육협력위원회 | H181: 179 | I181: 3202
A182: =IF(COUNT(AND(FIND("북부소방재난본부",$E182),FIND("특수대응단",$F182))),"특수대응단(북부)",IF(COUNT(FIND("작물연구과",$F182)),"작물연구과",IF(COUNT(FIND("원예연구과",$F182)),"원예연구과",IF(COUNT(FIND("환경농업연구과",$F182)),"환경농업연구과",IF(COUNT(FIND("지원기획과",$F182)),"지원기획과",IF(COUNT(FIND("기술보급과",$F182)),"기술보급과",IF(COUNT(FIND("농촌자원과",$F182)),"농촌자원과",IF(COUNT(FIND("종자관리소",$F182)),"종자관리소",IF(COUNT(FIND("버섯연구소",$F182)),"버섯연구소",IF(COUNT(FIND("소득자원연구소",$F182)),"소득자원연구소",IF(COUNT(FIND("선인장다육식물연구소",$F182)),"선인장다육식물연구소",IF(COUNT(FIND("보건연구부",$F182)),"보건연구부",IF(COUNT(FIND("대기연구부",$F182)),"대기연구부",IF(COUNT(FIND("수질연구부",$F182)),"수질연구부",IF(COUNT(FIND("북부지원",$F182)),"북부지원",IF(COUNT(FIND("수원농산물검사소",$F182)),"수원농산물검사소",IF(COUNT(FIND("건설본부(관리과)",$F182)),"관리과",IF(COUNT(FIND("도로건설과",$F182)),"도로건설과",IF(COUNT(FIND("북부도로과",$F182)),"북부도로과",IF(COUNT(FIND("건축시설과",$F182)),"건축시설과",IF(COUNT(FIND("신청사건립추진단",$F182)),"신청사건립추진단",$F182))))))))))))))))))))) -> 아동청소년과 | B182: =G182 -> 여성가족교육협력위원회 | C182: =IF(COUNT(FIND("경기도건설본부",$E182)),"건설본부",IF(COUNT(FIND("경기도농업기술원",$E182)),"농업기술원",IF(COUNT(FIND("경기도보건환경연구원",$E182)),"보건환경연구원",IF(COUNT(FIND("소방재난본부",$E182)),"재난안전본부",IF(COUNT(FIND("경기도소방학교",$E182)),"재난안전본부",IF(COUNT(FIND("경기도인재개발원",$E182)),"인재개발원",IF(COUNT(FIND("북부소방재난본부",$E182)),"재난안전본부",IF(COUNT(FIND("소방서",$E182)),"재난안전본부",$E182)))))))) -> 여성가족국 | E182: 여성가족국 | F182: 아동청소년과 | G182: 여성가족교육협력위원회 | H182: 180 | I182: 3203
A183: =IF(COUNT(AND(FIND("북부소방재난본부",$E183),FIND("특수대응단",$F183))),"특수대응단(북부)",IF(COUNT(FIND("작물연구과",$F183)),"작물연구과",IF(COUNT(FIND("원예연구과",$F183)),"원예연구과",IF(COUNT(FIND("환경농업연구과",$F183)),"환경농업연구과",IF(COUNT(FIND("지원기획과",$F183)),"지원기획과",IF(COUNT(FIND("기술보급과",$F183)),"기술보급과",IF(COUNT(FIND("농촌자원과",$F183)),"농촌자원과",IF(COUNT(FIND("종자관리소",$F183)),"종자관리소",IF(COUNT(FIND("버섯연구소",$F183)),"버섯연구소",IF(COUNT(FIND("소득자원연구소",$F183)),"소득자원연구소",IF(COUNT(FIND("선인장다육식물연구소",$F183)),"선인장다육식물연구소",IF(COUNT(FIND("보건연구부",$F183)),"보건연구부",IF(COUNT(FIND("대기연구부",$F183)),"대기연구부",IF(COUNT(FIND("수질연구부",$F183)),"수질연구부",IF(COUNT(FIND("북부지원",$F183)),"북부지원",IF(COUNT(FIND("수원농산물검사소",$F183)),"수원농산물검사소",IF(COUNT(FIND("건설본부(관리과)",$F183)),"관리과",IF(COUNT(FIND("도로건설과",$F183)),"도로건설과",IF(COUNT(FIND("북부도로과",$F183)),"북부도로과",IF(COUNT(FIND("건축시설과",$F183)),"건축시설과",IF(COUNT(FIND("신청사건립추진단",$F183)),"신청사건립추진단",$F183))))))))))))))))))))) -> 다문화가족과 | B183: =G183 -> 여성가족교육협력위원회 | C183: =IF(COUNT(FIND("경기도건설본부",$E183)),"건설본부",IF(COUNT(FIND("경기도농업기술원",$E183)),"농업기술원",IF(COUNT(FIND("경기도보건환경연구원",$E183)),"보건환경연구원",IF(COUNT(FIND("소방재난본부",$E183)),"재난안전본부",IF(COUNT(FIND("경기도소방학교",$E183)),"재난안전본부",IF(COUNT(FIND("경기도인재개발원",$E183)),"인재개발원",IF(COUNT(FIND("북부소방재난본부",$E183)),"재난안전본부",IF(COUNT(FIND("소방서",$E183)),"재난안전본부",$E183)))))))) -> 여성가족국 | E183: 여성가족국 | F183: 다문화가족과 | G183: 여성가족교육협력위원회 | H183: 181 | I183: 3204
A184: =IF(COUNT(AND(FIND("북부소방재난본부",$E184),FIND("특수대응단",$F184))),"특수대응단(북부)",IF(COUNT(FIND("작물연구과",$F184)),"작물연구과",IF(COUNT(FIND("원예연구과",$F184)),"원예연구과",IF(COUNT(FIND("환경농업연구과",$F184)),"환경농업연구과",IF(COUNT(FIND("지원기획과",$F184)),"지원기획과",IF(COUNT(FIND("기술보급과",$F184)),"기술보급과",IF(COUNT(FIND("농촌자원과",$F184)),"농촌자원과",IF(COUNT(FIND("종자관리소",$F184)),"종자관리소",IF(COUNT(FIND("버섯연구소",$F184)),"버섯연구소",IF(COUNT(FIND("소득자원연구소",$F184)),"소득자원연구소",IF(COUNT(FIND("선인장다육식물연구소",$F184)),"선인장다육식물연구소",IF(COUNT(FIND("보건연구부",$F184)),"보건연구부",IF(COUNT(FIND("대기연구부",$F184)),"대기연구부",IF(COUNT(FIND("수질연구부",$F184)),"수질연구부",IF(COUNT(FIND("북부지원",$F184)),"북부지원",IF(COUNT(FIND("수원농산물검사소",$F184)),"수원농산물검사소",IF(COUNT(FIND("건설본부(관리과)",$F184)),"관리과",IF(COUNT(FIND("도로건설과",$F184)),"도로건설과",IF(COUNT(FIND("북부도로과",$F184)),"북부도로과",IF(COUNT(FIND("건축시설과",$F184)),"건축시설과",IF(COUNT(FIND("신청사건립추진단",$F184)),"신청사건립추진단",$F184))))))))))))))))))))) -> 여성비전센터 | B184: =G184 -> 여성가족교육협력위원회 | C184: =IF(COUNT(FIND("경기도건설본부",$E184)),"건설본부",IF(COUNT(FIND("경기도농업기술원",$E184)),"농업기술원",IF(COUNT(FIND("경기도보건환경연구원",$E184)),"보건환경연구원",IF(COUNT(FIND("소방재난본부",$E184)),"재난안전본부",IF(COUNT(FIND("경기도소방학교",$E184)),"재난안전본부",IF(COUNT(FIND("경기도인재개발원",$E184)),"인재개발원",IF(COUNT(FIND("북부소방재난본부",$E184)),"재난안전본부",IF(COUNT(FIND("소방서",$E184)),"재난안전본부",$E184)))))))) -> 여성가족국 | E184: 여성가족국 | F184: 여성비전센터 | G184: 여성가족교육협력위원회 | H184: 182 | I184: 3205
A185: =IF(COUNT(AND(FIND("북부소방재난본부",$E185),FIND("특수대응단",$F185))),"특수대응단(북부)",IF(COUNT(FIND("작물연구과",$F185)),"작물연구과",IF(COUNT(FIND("원예연구과",$F185)),"원예연구과",IF(COUNT(FIND("환경농업연구과",$F185)),"환경농업연구과",IF(COUNT(FIND("지원기획과",$F185)),"지원기획과",IF(COUNT(FIND("기술보급과",$F185)),"기술보급과",IF(COUNT(FIND("농촌자원과",$F185)),"농촌자원과",IF(COUNT(FIND("종자관리소",$F185)),"종자관리소",IF(COUNT(FIND("버섯연구소",$F185)),"버섯연구소",IF(COUNT(FIND("소득자원연구소",$F185)),"소득자원연구소",IF(COUNT(FIND("선인장다육식물연구소",$F185)),"선인장다육식물연구소",IF(COUNT(FIND("보건연구부",$F185)),"보건연구부",IF(COUNT(FIND("대기연구부",$F185)),"대기연구부",IF(COUNT(FIND("수질연구부",$F185)),"수질연구부",IF(COUNT(FIND("북부지원",$F185)),"북부지원",IF(COUNT(FIND("수원농산물검사소",$F185)),"수원농산물검사소",IF(COUNT(FIND("건설본부(관리과)",$F185)),"관리과",IF(COUNT(FIND("도로건설과",$F185)),"도로건설과",IF(COUNT(FIND("북부도로과",$F185)),"북부도로과",IF(COUNT(FIND("건축시설과",$F185)),"건축시설과",IF(COUNT(FIND("신청사건립추진단",$F185)),"신청사건립추진단",$F185))))))))))))))))))))) -> 여성능력개발센터 | B185: =G185 -> 여성가족교육협력위원회 | C185: =IF(COUNT(FIND("경기도건설본부",$E185)),"건설본부",IF(COUNT(FIND("경기도농업기술원",$E185)),"농업기술원",IF(COUNT(FIND("경기도보건환경연구원",$E185)),"보건환경연구원",IF(COUNT(FIND("소방재난본부",$E185)),"재난안전본부",IF(COUNT(FIND("경기도소방학교",$E185)),"재난안전본부",IF(COUNT(FIND("경기도인재개발원",$E185)),"인재개발원",IF(COUNT(FIND("북부소방재난본부",$E185)),"재난안전본부",IF(COUNT(FIND("소방서",$E185)),"재난안전본부",$E185)))))))) -> 여성가족국 | E185: 여성가족국 | F185: 여성능력개발센터 | G185: 여성가족교육협력위원회 | H185: 183 | I185: 3206
A186: =IF(COUNT(AND(FIND("북부소방재난본부",$E186),FIND("특수대응단",$F186))),"특수대응단(북부)",IF(COUNT(FIND("작물연구과",$F186)),"작물연구과",IF(COUNT(FIND("원예연구과",$F186)),"원예연구과",IF(COUNT(FIND("환경농업연구과",$F186)),"환경농업연구과",IF(COUNT(FIND("지원기획과",$F186)),"지원기획과",IF(COUNT(FIND("기술보급과",$F186)),"기술보급과",IF(COUNT(FIND("농촌자원과",$F186)),"농촌자원과",IF(COUNT(FIND("종자관리소",$F186)),"종자관리소",IF(COUNT(FIND("버섯연구소",$F186)),"버섯연구소",IF(COUNT(FIND("소득자원연구소",$F186)),"소득자원연구소",IF(COUNT(FIND("선인장다육식물연구소",$F186)),"선인장다육식물연구소",IF(COUNT(FIND("보건연구부",$F186)),"보건연구부",IF(COUNT(FIND("대기연구부",$F186)),"대기연구부",IF(COUNT(FIND("수질연구부",$F186)),"수질연구부",IF(COUNT(FIND("북부지원",$F186)),"북부지원",IF(COUNT(FIND("수원농산물검사소",$F186)),"수원농산물검사소",IF(COUNT(FIND("건설본부(관리과)",$F186)),"관리과",IF(COUNT(FIND("도로건설과",$F186)),"도로건설과",IF(COUNT(FIND("북부도로과",$F186)),"북부도로과",IF(COUNT(FIND("건축시설과",$F186)),"건축시설과",IF(COUNT(FIND("신청사건립추진단",$F186)),"신청사건립추진단",$F186))))))))))))))))))))) -> 가족여성담당관 | B186: =G186 -> 여성가족교육협력위원회 | C186: =IF(COUNT(FIND("경기도건설본부",$E186)),"건설본부",IF(COUNT(FIND("경기도농업기술원",$E186)),"농업기술원",IF(COUNT(FIND("경기도보건환경연구원",$E186)),"보건환경연구원",IF(COUNT(FIND("소방재난본부",$E186)),"재난안전본부",IF(COUNT(FIND("경기도소방학교",$E186)),"재난안전본부",IF(COUNT(FIND("경기도인재개발원",$E186)),"인재개발원",IF(COUNT(FIND("북부소방재난본부",$E186)),"재난안전본부",IF(COUNT(FIND("소방서",$E186)),"재난안전본부",$E186)))))))) -> 복지여성실 | E186: 복지여성실 | F186: 가족여성담당관 | G186: 여성가족교육협력위원회 | H186: 184 | I186: 3301
A187: =IF(COUNT(AND(FIND("북부소방재난본부",$E187),FIND("특수대응단",$F187))),"특수대응단(북부)",IF(COUNT(FIND("작물연구과",$F187)),"작물연구과",IF(COUNT(FIND("원예연구과",$F187)),"원예연구과",IF(COUNT(FIND("환경농업연구과",$F187)),"환경농업연구과",IF(COUNT(FIND("지원기획과",$F187)),"지원기획과",IF(COUNT(FIND("기술보급과",$F187)),"기술보급과",IF(COUNT(FIND("농촌자원과",$F187)),"농촌자원과",IF(COUNT(FIND("종자관리소",$F187)),"종자관리소",IF(COUNT(FIND("버섯연구소",$F187)),"버섯연구소",IF(COUNT(FIND("소득자원연구소",$F187)),"소득자원연구소",IF(COUNT(FIND("선인장다육식물연구소",$F187)),"선인장다육식물연구소",IF(COUNT(FIND("보건연구부",$F187)),"보건연구부",IF(COUNT(FIND("대기연구부",$F187)),"대기연구부",IF(COUNT(FIND("수질연구부",$F187)),"수질연구부",IF(COUNT(FIND("북부지원",$F187)),"북부지원",IF(COUNT(FIND("수원농산물검사소",$F187)),"수원농산물검사소",IF(COUNT(FIND("건설본부(관리과)",$F187)),"관리과",IF(COUNT(FIND("도로건설과",$F187)),"도로건설과",IF(COUNT(FIND("북부도로과",$F187)),"북부도로과",IF(COUNT(FIND("건축시설과",$F187)),"건축시설과",IF(COUNT(FIND("신청사건립추진단",$F187)),"신청사건립추진단",$F187))))))))))))))))))))) -> 보육청소년담당관 | B187: =G187 -> 여성가족교육협력위원회 | C187: =IF(COUNT(FIND("경기도건설본부",$E187)),"건설본부",IF(COUNT(FIND("경기도농업기술원",$E187)),"농업기술원",IF(COUNT(FIND("경기도보건환경연구원",$E187)),"보건환경연구원",IF(COUNT(FIND("소방재난본부",$E187)),"재난안전본부",IF(COUNT(FIND("경기도소방학교",$E187)),"재난안전본부",IF(COUNT(FIND("경기도인재개발원",$E187)),"인재개발원",IF(COUNT(FIND("북부소방재난본부",$E187)),"재난안전본부",IF(COUNT(FIND("소방서",$E187)),"재난안전본부",$E187)))))))) -> 복지여성실 | E187: 복지여성실 | F187: 보육청소년담당관 | G187: 여성가족교육협력위원회 | H187: 185 | I187: 3302
A188: =IF(COUNT(AND(FIND("북부소방재난본부",$E188),FIND("특수대응단",$F188))),"특수대응단(북부)",IF(COUNT(FIND("작물연구과",$F188)),"작물연구과",IF(COUNT(FIND("원예연구과",$F188)),"원예연구과",IF(COUNT(FIND("환경농업연구과",$F188)),"환경농업연구과",IF(COUNT(FIND("지원기획과",$F188)),"지원기획과",IF(COUNT(FIND("기술보급과",$F188)),"기술보급과",IF(COUNT(FIND("농촌자원과",$F188)),"농촌자원과",IF(COUNT(FIND("종자관리소",$F188)),"종자관리소",IF(COUNT(FIND("버섯연구소",$F188)),"버섯연구소",IF(COUNT(FIND("소득자원연구소",$F188)),"소득자원연구소",IF(COUNT(FIND("선인장다육식물연구소",$F188)),"선인장다육식물연구소",IF(COUNT(FIND("보건연구부",$F188)),"보건연구부",IF(COUNT(FIND("대기연구부",$F188)),"대기연구부",IF(COUNT(FIND("수질연구부",$F188)),"수질연구부",IF(COUNT(FIND("북부지원",$F188)),"북부지원",IF(COUNT(FIND("수원농산물검사소",$F188)),"수원농산물검사소",IF(COUNT(FIND("건설본부(관리과)",$F188)),"관리과",IF(COUNT(FIND("도로건설과",$F188)),"도로건설과",IF(COUNT(FIND("북부도로과",$F188)),"북부도로과",IF(COUNT(FIND("건축시설과",$F188)),"건축시설과",IF(COUNT(FIND("신청사건립추진단",$F188)),"신청사건립추진단",$F188))))))))))))))))))))) -> 북부여성비전센터 | B188: =G188 -> 여성가족교육협력위원회 | C188: =IF(COUNT(FIND("경기도건설본부",$E188)),"건설본부",IF(COUNT(FIND("경기도농업기술원",$E188)),"농업기술원",IF(COUNT(FIND("경기도보건환경연구원",$E188)),"보건환경연구원",IF(COUNT(FIND("소방재난본부",$E188)),"재난안전본부",IF(COUNT(FIND("경기도소방학교",$E188)),"재난안전본부",IF(COUNT(FIND("경기도인재개발원",$E188)),"인재개발원",IF(COUNT(FIND("북부소방재난본부",$E188)),"재난안전본부",IF(COUNT(FIND("소방서",$E188)),"재난안전본부",$E188)))))))) -> 복지여성실 | E188: 복지여성실 | F188: 북부여성비전센터 | G188: 여성가족교육협력위원회 | H188: 186 | I188: 3303

Sheet 15년검증
A1: 2015년 본예산 검증 | H1: 본예산 예비비 | J1: 124682800
M2: (단위 : 천원)
A3: 구 분 | B3: 상임위 | H3: 구 분 | I3: 예결위
B4: 세입 | C4: 검증 | D4: 세출 | E4: 검증 | F4: 차액 | I4: 세입 | J4: 검증 | K4: 세출 | L4: 검증 | M4: 차액
A5: 전체 총계 | B5: =SUM(B6,B9) -> 224636699 | C5: =IF(B5='15년일입'!U3,"OK","@@") -> OK | D5: =SUM(D6,D9) -> 340275492 | E5: =IF(D5='15년일출'!U3,"OK","@@") -> @@ | H5: 전체 총계 | I5: =SUM(I6,I9) -> 0 | J5: =IF(I5='15년일입'!Z3,"OK","@@") -> OK | K5: =SUM(K6,K9) -> 0 | L5: =IF(K5='15년일출'!Z3,"OK","@@") -> OK
A6: 자체 총계 | B6: =SUM(B7:B8) -> 197528084 | C6: =IF(B6='15년일입'!U6,"OK","@@") -> OK | D6: =SUM(D7:D8) -> 313166877 | E6: =IF($D$6='15년일출'!$U$6,"OK","@@") -> @@ | H6: 자체 총계 | I6: =SUM(I7:I8) -> 0 | J6: =IF(I6='15년일입'!Z6,"OK","@@") -> OK | K6: =SUM(K7:K8) -> 0 | L6: =IF($K6='15년일출'!$Z6,"OK","@@") -> OK
A7: 자체 도비 | B7: =SUMIFS('15년일입'!$U$7:$U$703,'15년일입'!$S$7:$S$703,"도비") -> 197528084 | D7: =SUMIFS('15년일출'!$U$7:$U$1362,'15년일출'!$S$7:$S$1362,"도비") -> 312238967 | H7: 자체 - 의존도비 | I7: =SUMIFS('15년일입'!$Z$7:$Z$703,'15년일입'!$X$7:$X$703,"도비") -> 0 | K7: =SUMIFS('15년일출'!$Z$7:$Z$1362,'15년일출'!$X$7:$X$1362,"도비") -> 0
A8: 의존 매칭 도비 | B8: =SUMIFS('15년일입'!$U$7:$U$703,'15년일입'!$S$7:$S$703,"국비")+SUMIFS('15년일입'!$U$7:$U$703,'15년일입'!$S$7:$S$703,"광특")+SUMIFS('15년일입'!$U$7:$U$703,'15년일입'!$S$7:$S$703,"기금")+SUMIFS('15년일입'!$U$7:$U$703,'15년일입'!$S$7:$S$703,"분권")+SUMIFS('15년일입'!$U$7:$U$703,'15년일입'!$S$7:$S$703,"특교") -> 0 | D8: =SUMIFS('15년일출'!$U$7:$U$1362,'15년일출'!$S$7:$S$1362,"국비")+SUMIFS('15년일출'!$U$7:$U$1362,'15년일출'!$S$7:$S$1362,"지특")+SUMIFS('15년일출'!$U$7:$U$1362,'15년일출'!$S$7:$S$1362,"기금")+SUMIFS('15년일출'!$U$7:$U$1362,'15년일출'!$S$7:$S$1362,"분권")+SUMIFS('15년일출'!$U$7:$U$1362,'15년일출'!$S$7:$S$1362,"특교") -> 927910 | H8: 의존 매칭 도비 | I8: =SUMIFS('15년일입'!$Z$7:$Z$703,'15년일입'!$X$7:$X$703,"국비")+SUMIFS('15년일입'!$Z$7:$Z$703,'15년일입'!$X$7:$X$703,"광특")+SUMIFS('15년일입'!$Z$7:$Z$703,'15년일입'!$X$7:$X$703,"기금")+SUMIFS('15년일입'!$Z$7:$Z$703,'15년일입'!$X$7:$X$703,"분권")+SUMIFS('15년일입'!$Z$7:$Z$703,'15년일입'!$X$7:$X$703,"특교") -> 0 | K8: =SUMIFS('15년일출'!$Z$7:$Z$1362,'15년일출'!$X$7:$X$1362,"국비")+SUMIFS('15년일출'!$Z$7:$Z$1362,'15년일출'!$X$7:$X$1362,"광특")+SUMIFS('15년일출'!$Z$7:$Z$1362,'15년일출'!$X$7:$X$1362,"기금")+SUMIFS('15년일출'!$Z$7:$Z$1362,'15년일출'!$X$7:$X$1362,"분권")+SUMIFS('15년일출'!$Z$7:$Z$1362,'15년일출'!$X$7:$X$1362,"특교") -> 0
A9: 의존계 | B9: =SUM(B10:B14) -> 27108615 | C9: =IF(B9='15년일입'!T6,"OK","@@") -> OK | D9: =SUM(D10:D14) -> 27108615 | E9: =IF(B9=D9,"OK","@@") -> OK | F9: =D9-B9 -> 0 | H9: 의존계 | I9: =SUM(I10:I14) -> 0 | J9: =IF(I9='15년일입'!Y6,"OK","@@") -> OK | K9: =SUM(K10:K14) -> 0 | L9: =IF(I9=K9,"OK","@@") -> OK
A10: 국비 | B10: =SUMIFS('15년일입'!$T$7:$T$703,'15년일입'!$S$7:$S$703,'15년검증'!$A10) -> 18811617 | D10: =SUMIFS('15년일출'!$T$7:$T$1362,'15년일출'!$S$7:$S$1362,'15년검증'!$A10) -> 18811617 | E10: =IF(B10=D10,"OK","@@") -> OK | F10: =D10-B10 -> 0 | H10: 국비 | I10: =SUMIFS('15년일입'!$Y$7:$Y$703,'15년일입'!$X$7:$X$703,'15년검증'!$A10) -> 0 | K10: =SUMIFS('15년일출'!$Y$7:$Y$1362,'15년일출'!$X$7:$X$1362,'15년검증'!$A10) -> 0 | L10: =IF(I10=K10,"OK","@@") -> OK
A11: 지특 | B11: =SUMIFS('15년일입'!$T$7:$T$703,'15년일입'!$S$7:$S$703,'15년검증'!$A11) -> 10757400 | D11: =SUMIFS('15년일출'!$T$7:$T$1362,'15년일출'!$S$7:$S$1362,'15년검증'!$A11) -> 10757400 | E11: =IF(B11=D11,"OK","@@") -> OK | F11: =D11-B11 -> 0 | H11: 지특 | I11: =SUMIFS('15년일입'!$Y$7:$Y$703,'15년일입'!$X$7:$X$703,'15년검증'!$A11) -> 0 | K11: =SUMIFS('15년일출'!$Y$7:$Y$1362,'15년일출'!$X$7:$X$1362,'15년검증'!$A11) -> 0 | L11: =IF(I11=K11,"OK","@@") -> OK
A12: 기금 | B12: =SUMIFS('15년일입'!$T$7:$T$703,'15년일입'!$S$7:$S$703,'15년검증'!$A12) -> -2460402 | D12: =SUMIFS('15년일출'!$T$7:$T$1362,'15년일출'!$S$7:$S$1362,'15년검증'!$A12) -> -2460402 | E12: =IF(B12=D12,"OK","@@") -> OK | F12: =D12-B12 -> 0 | H12: 기금 | I12: =SUMIFS('15년일입'!$Y$7:$Y$703,'15년일입'!$X$7:$X$703,'15년검증'!$A12) -> 0 | K12: =SUMIFS('15년일출'!$Y$7:$Y$1362,'15년일출'!$X$7:$X$1362,'15년검증'!$A12) -> 0 | L12: =IF(I12=K12,"OK","@@") -> OK
A13: 분권 | B13: =SUMIFS('15년일입'!$T$7:$T$703,'15년일입'!$S$7:$S$703,'15년검증'!$A13) -> 0 | D13: =SUMIFS('15년일출'!$T$7:$T$1362,'15년일출'!$S$7:$S$1362,'15년검증'!$A13) -> 0 | E13: =IF(B13=D13,"OK","@@") -> OK | F13: =D13-B13 -> 0 | H13: 분권 | I13: =SUMIFS('15년일입'!$Y$7:$Y$703,'15년일입'!$X$7:$X$703,'15년검증'!$A13) -> 0 | K13: =SUMIFS('15년일출'!$Y$7:$Y$1362,'15년일출'!$X$7:$X$1362,'15년검증'!$A13) -> 0 | L13: =IF(I13=K13,"OK","@@") -> OK
A14: 특교 | B14: =SUMIFS('15년일입'!$T$7:$T$703,'15년일입'!$S$7:$S$703,'15년검증'!$A14) -> 0 | D14: =SUMIFS('15년일출'!$T$7:$T$1362,'15년일출'!$S$7:$S$1362,'15년검증'!$A14) -> 0 | E14: =IF(B14=D14,"OK","@@") -> OK | F14: =D14-B14 -> 0 | H14: 특교 | I14: =SUMIFS('15년일입'!$Y$7:$Y$703,'15년일입'!$X$7:$X$703,'15년검증'!$A14) -> 0 | K14: =SUMIFS('15년일출'!$Y$7:$Y$1362,'15년일출'!$X$7:$X$1362,'15년검증'!$A14) -> 0 | L14: =IF(I14=K14,"OK","@@") -> OK
H16: 예비비 조정액 | I16: =IFERROR(INDEX('15년일출'!Z7:Z1362,MATCH("*예비비*",'15년일출'!F7:F1362,0)),"")
I18: =SUM(I5-K5) -> 0
H20: 예비비 조정잔액 | I20: =IFERROR(SUM(J1+I16),"")

Sheet 2추검증
A1: 2회추경 검증 | H1: 2회추경 예비비 | J1: 22466366
M2: (단위 : 천원)
A3: 구 분 | B3: 상임위 | H3: 구 분 | I3: 예결위
B4: 세입 | C4: 검증 | D4: 세출 | E4: 검증 | F4: 차액 | I4: 세입 | J4: 검증 | K4: 세출 | L4: 검증 | M4: 차액
A5: 전체 총계 | B5: =SUM(B6,B9) -> -44217332 | C5: =IF(B5='2추일입'!W3,"OK","@@") -> OK | D5: =SUM(D6,D9) -> -48492606 | E5: =IF(D5='2추일출'!W3,"OK","@@") -> OK | H5: 전체 총계 | I5: =SUM(I6,I9) -> 0 | J5: =IF(I5='2추일입'!AB3,"OK","@@") -> OK | K5: =SUM(K6,K9) -> 0 | L5: =IF(K5='2추일출'!AB3,"OK","@@") -> OK
A6: 자체 총계 | B6: =SUM(B7:B8) -> 446445 | C6: =IF(B6='2추일입'!W6,"OK","@@") -> OK | D6: =SUM(D7:D8) -> -3828829 | E6: =IF($D$6='2추일출'!$W$6,"OK","@@") -> OK | H6: 자체 총계 | I6: =SUM(I7:I8) -> 0 | J6: =IF(I6='2추일입'!AB6,"OK","@@") -> OK | K6: =SUM(K7:K8) -> 0 | L6: =IF($K6='2추일출'!$AB6,"OK","@@") -> OK
A7: 자체 도비 | B7: =SUMIFS('2추일입'!$W$7:$W$694,'2추일입'!$U$7:$U$694,"도비") -> 446445 | D7: =SUMIFS('2추일출'!$W$7:$W$703,'2추일출'!$U$7:$U$703,"도비") -> -144339 | H7: 자체 - 의존도비 | I7: =SUMIFS('2추일입'!$AB$7:$AB$694,'2추일입'!$Z$7:$Z$694,"도비") -> 0 | K7: =SUMIFS('2추일출'!$AB$7:$AB$703,'2추일출'!$Z$7:$Z$703,"도비") -> 0
A8: 의존 매칭 도비 | B8: =SUMIFS('2추일입'!$W$7:$W$694,'2추일입'!$U$7:$U$694,"국비")+SUMIFS('2추일입'!$W$7:$W$694,'2추일입'!$U$7:$U$694,"광특")+SUMIFS('2추일입'!$W$7:$W$694,'2추일입'!$U$7:$U$694,"기금")+SUMIFS('2추일입'!$W$7:$W$694,'2추일입'!$U$7:$U$694,"분권")+SUMIFS('2추일입'!$W$7:$W$694,'2추일입'!$U$7:$U$694,"특교") -> 0 | D8: =SUMIFS('2추일출'!$W$7:$W$703,'2추일출'!$U$7:$U$703,"국비")+SUMIFS('2추일출'!$W$7:$W$703,'2추일출'!$U$7:$U$703,"광특")+SUMIFS('2추일출'!$W$7:$W$703,'2추일출'!$U$7:$U$703,"기금")+SUMIFS('2추일출'!$W$7:$W$703,'2추일출'!$U$7:$U$703,"분권")+SUMIFS('2추일출'!$W$7:$W$703,'2추일출'!$U$7:$U$703,"특교") -> -3684490 | H8: 의존 매칭 도비 | I8: =SUMIFS('2추일입'!$AB$7:$AB$694,'2추일입'!$Z$7:$Z$694,"국비")+SUMIFS('2추일입'!$AB$7:$AB$694,'2추일입'!$Z$7:$Z$694,"광특")+SUMIFS('2추일입'!$AB$7:$AB$694,'2추일입'!$Z$7:$Z$694,"기금")+SUMIFS('2추일입'!$AB$7:$AB$694,'2추일입'!$Z$7:$Z$694,"분권")+SUMIFS('2추일입'!$AB$7:$AB$694,'2추일입'!$Z$7:$Z$694,"특교") -> 0 | K8: =SUMIFS('2추일출'!$AB$7:$AB$703,'2추일출'!$Z$7:$Z$703,"국비")+SUMIFS('2추일출'!$AB$7:$AB$703,'2추일출'!$Z$7:$Z$703,"광특")+SUMIFS('2추일출'!$AB$7:$AB$703,'2추일출'!$Z$7:$Z$703,"기금")+SUMIFS('2추일출'!$AB$7:$AB$703,'2추일출'!$Z$7:$Z$703,"분권")+SUMIFS('2추일출'!$AB$7:$AB$703,'2추일출'!$Z$7:$Z$703,"특교") -> 0
A9: 의존계 | B9: =SUM(B10:B14) -> -44663777 | C9: =IF(B9='2추일입'!V6,"OK","@@") -> OK | D9: =SUM(D10:D14) -> -44663777 | E9: =IF(B9=D9,"OK","@@") -> OK | F9: =D9-B9 -> 0 | H9: 의존계 | I9: =SUM(I10:I14) -> 0 | J9: =IF(I9='2추일입'!AA6,"OK","@@") -> OK | K9: =SUM(K10:K14) -> 0 | L9: =IF(I9=K9,"OK","@@") -> OK | M9: =K9-I9 -> 0
A10: 국비 | B10: =SUMIFS('2추일입'!$V$7:$V$694,'2추일입'!$U$7:$U$694,'2추검증'!$A10) -> -47655512 | D10: =SUMIFS('2추일출'!$V$7:$V$703,'2추일출'!$U$7:$U$703,'2추검증'!$A10) -> -47655512 | E10: =IF(B10=D10,"OK","@@") -> OK | F10: =D10-B10 -> 0 | H10: 국비 | I10: =SUMIFS('2추일입'!$AA$7:$AA$694,'2추일입'!$Z$7:$Z$694,'2추검증'!$A10) -> 0 | K10: =SUMIFS('2추일출'!$AA$7:$AA$703,'2추일출'!$Z$7:$Z$703,'2추검증'!$A10) -> 0 | L10: =IF(I10=K10,"OK","@@") -> OK | M10: =K10-I10 -> 0
A11: 광특 | B11: =SUMIFS('2추일입'!$V$7:$V$694,'2추일입'!$U$7:$U$694,'2추검증'!$A11) -> 0 | D11: =SUMIFS('2추일출'!$V$7:$V$703,'2추일출'!$U$7:$U$703,'2추검증'!$A11) -> 0 | E11: =IF(B11=D11,"OK","@@") -> OK | F11: =D11-B11 -> 0 | H11: 광특 | I11: =SUMIFS('2추일입'!$AA$7:$AA$694,'2추일입'!$Z$7:$Z$694,'2추검증'!$A11) -> 0 | K11: =SUMIFS('2추일출'!$AA$7:$AA$703,'2추일출'!$Z$7:$Z$703,'2추검증'!$A11) -> 0 | L11: =IF(I11=K11,"OK","@@") -> OK | M11: =K11-I11 -> 0
A12: 기금 | B12: =SUMIFS('2추일입'!$V$7:$V$694,'2추일입'!$U$7:$U$694,'2추검증'!$A12) -> 2991735 | D12: =SUMIFS('2추일출'!$V$7:$V$703,'2추일출'!$U$7:$U$703,'2추검증'!$A12) -> 2991735 | E12: =IF(B12=D12,"OK","@@") -> OK | F12: =D12-B12 -> 0 | H12: 기금 | I12: =SUMIFS('2추일입'!$AA$7:$AA$694,'2추일입'!$Z$7:$Z$694,'2추검증'!$A12) -> 0 | K12: =SUMIFS('2추일출'!$AA$7:$AA$703,'2추일출'!$Z$7:$Z$703,'2추검증'!$A12) -> 0 | L12: =IF(I12=K12,"OK","@@") -> OK | M12: =K12-I12 -> 0
A13: 분권 | B13: =SUMIFS('2추일입'!$V$7:$V$694,'2추일입'!$U$7:$U$694,'2추검증'!$A13) -> 0 | D13: =SUMIFS('2추일출'!$V$7:$V$703,'2추일출'!$U$7:$U$703,'2추검증'!$A13) -> 0 | E13: =IF(B13=D13,"OK","@@") -> OK | F13: =D13-B13 -> 0 | H13: 분권 | I13: =SUMIFS('2추일입'!$AA$7:$AA$694,'2추일입'!$Z$7:$Z$694,'2추검증'!$A13) -> 0 | K13: =SUMIFS('2추일출'!$AA$7:$AA$703,'2추일출'!$Z$7:$Z$703,'2추검증'!$A13) -> 0 | L13: =IF(I13=K13,"OK","@@") -> OK | M13: =K13-I13 -> 0
A14: 특교 | B14: =SUMIFS('2추일입'!$V$7:$V$694,'2추일입'!$U$7:$U$694,'2추검증'!$A14) -> 0 | D14: =SUMIFS('2추일출'!$V$7:$V$703,'2추일출'!$U$7:$U$703,'2추검증'!$A14) -> 0 | E14: =IF(B14=D14,"OK","@@") -> OK | F14: =D14-B14 -> 0 | H14: 특교 | I14: =SUMIFS('2추일입'!$AA$7:$AA$694,'2추일입'!$Z$7:$Z$694,'2추검증'!$A14) -> 0 | K14: =SUMIFS('2추일출'!$AA$7:$AA$703,'2추일출'!$Z$7:$Z$703,'2추검증'!$A14) -> 0 | L14: =IF(I14=K14,"OK","@@") -> OK | M14: =K14-I14 -> 0
H16: 예비비 조정액 | I16: =IFERROR(INDEX('2추일출'!AB7:AB703,MATCH("*예비비*",'2추일출'!F7:F703,0)),"")
I18: =SUM(I5-K5) -> 0
H20: 예비비 조정잔액 | I20: =IFERROR(SUM(J1-I16),"")

Sheet 상임 표지
D2: 2014년도 제2회 일반회계 및 특별회계 추가경정 세입·세출 예산안
D4: 상 임 위 계 수 조 정 결 과
D16: 예산결산특별위원회

Sheet 표지
D2: 2014년도 제2회 일반회계 및 특별회계 추가경정 세입·세출 예산안
A4: 예결위 계수조정 결과
D16: 예산결산특별위원회

Sheet 예결 표지
B5: 2014년도 제2회 일반회계 및 특별회계 추가경정 세입·세출 예산안
B7: 예결위 계수조정 결과
B33: 예산결산특별위원회

Sheet 예결 표지(가로)
B3: 2014년도 제2회 일반회계 및 특별회계 추가경정 세입·세출 예산안
B5: 예결위 계수조정 결과
B24: 예산결산특별위원회

Sheet 15년총괄표
B1: 2015년도 경기도 일반 및 특별회계 세입·세출 예산안[전체예산총괄]
B3: □ 총 괄 | D3: 세입예산증감 | E3: =SUM(D7:E7) -> 0 | F3: 세출예산증감 | G3: =SUM(F7:G7) -> 0
H4: (단위:천원) | M4: (일반+특별+기금) | O4: 특별+기금
B5: 구 분 | C5: 집행부제출(안) | D5: 세입예산(안) | F5: 세출예산(안) | H5: 예산수정(안) | I5: 일반회계 증감(총괄표) | K5: 예비비증감 | L5: 비 고 | M5: 전체 증감(시트) | O5: 비고
D6: 감 액 | E6: 증 액 | F6: 감 액 | G6: 증 액 | I6: 세입 | J6: 세출 | M6: 세입 | N6: 세출
B7: 합 계 | C7: =SUM(C8:C18) -> 17818538715 | D7: =SUM(D8:D18) -> 0 | E7: =SUM(E8:E18) -> 0 | F7: =SUM(F8:F18) -> 0 | G7: =SUM(G8:G18) -> 0 | H7: =SUM(H8:H18) -> 17818538715 | I7: =E25+D25 -> 0 | J7: =F25+G25 -> 0 | K7: =I7-J7 -> 0 | L7: 예비비 증감이 - 예산이면 감액에 + 예산이면 증액에 입력 | M7: =D24+E24 -> 0 | N7: =F24+G24 -> 0 | O7: 0 | P7: 0
B8: 기 타 | C8: 0 | H8: =C8-F8+G8 -> 0 | I8: =D7+E7 -> 0 | J8: =F7+G7 -> 0 | K8: =I8-J8 -> 0
B9: 의회운영위원회 | C9: 43594098 | D9: =SUMIFS('15년일입'!$K$7:$K$703,'15년일입'!$A$7:$A$703,'15년총괄표'!$B9) -> 0 | E9: =SUMIFS('15년일입'!$L$7:$L$703,'15년일입'!$A$7:$A$703,'15년총괄표'!$B9) -> 0 | F9: =SUMIFS('15년일출'!$K$7:$K$1362,'15년일출'!$A$7:$A$1362,'15년총괄표'!$B9) -> 0 | G9: =SUMIFS('15년일출'!$L$7:$L$1362,'15년일출'!$A$7:$A$1362,'15년총괄표'!$B9) -> 0 | H9: =C9+F9+G9 -> 43594098 | I9: 일반회계 증감(시트) | N9: 전체 증감
B10: 기획재정위원회 | C10: 5206191432 | D10: =SUMIFS('15년일입'!$K$7:$K$703,'15년일입'!$A$7:$A$703,'15년총괄표'!$B10) -> 0 | E10: =SUMIFS('15년일입'!$L$7:$L$703,'15년일입'!$A$7:$A$703,'15년총괄표'!$B10) -> 0 | F10: =SUMIFS('15년일출'!$K$7:$K$1362,'15년일출'!$A$7:$A$1362,'15년총괄표'!$B10) -> 0 | G10: =SUMIFS('15년일출'!$L$7:$L$1362,'15년일출'!$A$7:$A$1362,'15년총괄표'!$B10) -> 0 | H10: =C10+F10+G10 -> 5206191432 | I10: =#REF!+#REF! -> #REF! | J10: =#REF!+#REF! -> #REF! | N10: =M7-N7 -> 0
B11: 경제과학기술위원회 | C11: 506163851 | D11: =SUMIFS('15년일입'!$K$7:$K$703,'15년일입'!$A$7:$A$703,'15년총괄표'!$B11) -> 0 | E11: =SUMIFS('15년일입'!$L$7:$L$703,'15년일입'!$A$7:$A$703,'15년총괄표'!$B11) -> 0 | F11: =SUMIFS('15년일출'!$K$7:$K$1362,'15년일출'!$A$7:$A$1362,'15년총괄표'!$B11) -> 0 | G11: =SUMIFS('15년일출'!$L$7:$L$1362,'15년일출'!$A$7:$A$1362,'15년총괄표'!$B11) -> 0 | H11: =C11+F11+G11 -> 506163851
B12: 안전행정위원회 | C12: 1207474631 | D12: =SUMIFS('15년일입'!$K$7:$K$703,'15년일입'!$A$7:$A$703,'15년총괄표'!$B12) -> 0 | E12: =SUMIFS('15년일입'!$L$7:$L$703,'15년일입'!$A$7:$A$703,'15년총괄표'!$B12) -> 0 | F12: =SUMIFS('15년일출'!$K$7:$K$1362,'15년일출'!$A$7:$A$1362,'15년총괄표'!$B12) -> 0 | G12: =SUMIFS('15년일출'!$L$7:$L$1362,'15년일출'!$A$7:$A$1362,'15년총괄표'!$B12) -> 0 | H12: =C12+F12+G12 -> 1207474631
B13: 문화체육관광위원회 | C13: 309073261 | D13: =SUMIFS('15년일입'!$K$7:$K$703,'15년일입'!$A$7:$A$703,'15년총괄표'!$B13) -> 0 | E13: =SUMIFS('15년일입'!$L$7:$L$703,'15년일입'!$A$7:$A$703,'15년총괄표'!$B13) -> 0 | F13: =SUMIFS('15년일출'!$K$7:$K$1362,'15년일출'!$A$7:$A$1362,'15년총괄표'!$B13) -> 0 | G13: =SUMIFS('15년일출'!$L$7:$L$1362,'15년일출'!$A$7:$A$1362,'15년총괄표'!$B13) -> 0 | H13: =C13+F13+G13 -> 309073261 | N13: 기금
B14: 농정해양위원회 | C14: 442431566 | D14: =SUMIFS('15년일입'!$K$7:$K$703,'15년일입'!$A$7:$A$703,'15년총괄표'!$B14) -> 0 | E14: =SUMIFS('15년일입'!$L$7:$L$703,'15년일입'!$A$7:$A$703,'15년총괄표'!$B14) -> 0 | F14: =SUMIFS('15년일출'!$K$7:$K$1362,'15년일출'!$A$7:$A$1362,'15년총괄표'!$B14) -> 0 | G14: =SUMIFS('15년일출'!$L$7:$L$1362,'15년일출'!$A$7:$A$1362,'15년총괄표'!$B14) -> 0 | H14: =C14+F14+G14 -> 442431566 | N14: =N10-K7 -> 0
B15: 보건복지위원회 | C15: 3621498611 | D15: =SUMIFS('15년일입'!$K$7:$K$703,'15년일입'!$A$7:$A$703,'15년총괄표'!$B15) -> 0 | E15: =SUMIFS('15년일입'!$L$7:$L$703,'15년일입'!$A$7:$A$703,'15년총괄표'!$B15) -> 0 | F15: =SUMIFS('15년일출'!$K$7:$K$1362,'15년일출'!$A$7:$A$1362,'15년총괄표'!$B15) -> 0 | G15: =SUMIFS('15년일출'!$L$7:$L$1362,'15년일출'!$A$7:$A$1362,'15년총괄표'!$B15) -> 0 | H15: =C15+F15+G15 -> 3621498611
B16: 건설교통위원회 | C16: 1291490754 | D16: =SUMIFS('15년일입'!$K$7:$K$703,'15년일입'!$A$7:$A$703,'15년총괄표'!$B16) -> 0 | E16: =SUMIFS('15년일입'!$L$7:$L$703,'15년일입'!$A$7:$A$703,'15년총괄표'!$B16) -> 0 | F16: =SUMIFS('15년일출'!$K$7:$K$1362,'15년일출'!$A$7:$A$1362,'15년총괄표'!$B16) -> 0 | G16: =SUMIFS('15년일출'!$L$7:$L$1362,'15년일출'!$A$7:$A$1362,'15년총괄표'!$B16) -> 0 | H16: =C16+F16+G16 -> 1291490754
B17: 도시환경위원회 | C17: 1095793534 | D17: =SUMIFS('15년일입'!$K$7:$K$703,'15년일입'!$A$7:$A$703,'15년총괄표'!$B17) -> 0 | E17: =SUMIFS('15년일입'!$L$7:$L$703,'15년일입'!$A$7:$A$703,'15년총괄표'!$B17) -> 0 | F17: =SUMIFS('15년일출'!$K$7:$K$1362,'15년일출'!$A$7:$A$1362,'15년총괄표'!$B17) -> 0 | G17: =SUMIFS('15년일출'!$L$7:$L$1362,'15년일출'!$A$7:$A$1362,'15년총괄표'!$B17) -> 0 | H17: =C17+F17+G17 -> 1095793534
B18: 여성가족교육협력위원회 | C18: 4094826977 | D18: =SUMIFS('15년일입'!$K$7:$K$703,'15년일입'!$A$7:$A$703,'15년총괄표'!$B18) -> 0 | E18: =SUMIFS('15년일입'!$L$7:$L$703,'15년일입'!$A$7:$A$703,'15년총괄표'!$B18) -> 0 | F18: =SUMIFS('15년일출'!$K$7:$K$1362,'15년일출'!$A$7:$A$1362,'15년총괄표'!$B18) -> 0 | G18: =SUMIFS('15년일출'!$L$7:$L$1362,'15년일출'!$A$7:$A$1362,'15년총괄표'!$B18) -> 0 | H18: =C18+F18+G18 -> 4094826977
B20: □ 회계별 예산총규모
H21: (단위:천원)
B22: 구 분 | C22: 세출예산액 (집행부제출 안) | D22: 세입예산(안) | F22: 세출예산(안) | H22: 예산수정(안)
D23: 감 액 | E23: 증 액 | F23: 감 액 | G23: 증 액 | I23: 세입기준 수정예산안
B24: 합 계 | C24: =SUM(C25:C26) -> 17818538715 | D24: =SUM(D25:D26) -> 0 | E24: =SUM(E25:E26) -> 0 | F24: =SUM(F25:F26) -> 0 | G24: =SUM(G25:G26) -> 0 | H24: =SUM(H25:H26) -> 17818538715 | I24: =C24+D24+E24 -> 17818538715 | J24: =I24-H24 -> 0 | K24: (세출기준-세입기준)
B25: 일반회계 | C25: 14504760931 | D25: ='15년일입'!$K$6 -> 0 | E25: ='15년일입'!$L$6 -> 0 | F25: ='15년일출'!$K$6 -> 0 | G25: ='15년일출'!$L$6 -> 0 | H25: =C25+F25+G25 -> 14504760931 | I25: =C25+D25+E25 -> 14504760931 | J25: =I25-H25 -> 0 | K25: (세출기준-세입기준)
B26: 특별회계 | C26: 3313777784 | H26: =C26+F26+G26 -> 3313777784 | I26: =C26+D26+E26 -> 3313777784 | J26: =I26-H26 -> 0 | K26: (세출기준-세입기준)
B30: 위원회명 | C30: 일반+기특 | D30: 공기업 | E30: 합계
B31: 의회운영위원회 | C31: 39922113 | E31: =SUM(C31:D31) -> 39922113
B32: 기획재정위원회 | C32: 3302571667 | D32: 1780946434 | E32: =SUM(C32:D32) -> 5083518101
B33: 경제과학기술위원회 | C33: 155329320 | D33: 384743740 | E33: =SUM(C33:D33) -> 540073060
B34: 안전행정위원회 | C34: 1142858974 | E34: =SUM(C34:D34) -> 1142858974
B35: 문화체육관광위원회 | C35: 224243208 | D35: 52484400 | E35: =SUM(C35:D35) -> 276727608
B36: 농정해양위원회 | C36: 466978999 | E36: =SUM(C36:D36) -> 466978999
B37: 보건복지위원회 | C37: 3254006708 | E37: =SUM(C37:D37) -> 3254006708
B38: 건설교통위원회 | C38: 1220859831 | E38: =SUM(C38:D38) -> 1220859831
B39: 도시환경위원회 | C39: 866963933 | D39: 28360000 | E39: =SUM(C39:D39) -> 895323933
B40: 여성가족평생교육위원회 | C40: 4882582917 | E40: =SUM(C40:D40) -> 4882582917
B41: 총합계 | C41: =SUM(C31:C40) -> 15556317670 | D41: =SUM(D31:D40) -> 2246534574 | E41: =SUM(C41:D41) -> 17802852244
B43: 예비비 | C43: =3922478-221377 -> 3701101
B54: 위원회명 | C54: 일반 | D54: 기특 | E54: 공특 | F54: 합계
B56: 총합계 | C56: =SUM(C57:C66) -> 14504760931 | D56: =SUM(D57:D66) -> 1174065395 | E56: =SUM(E57:E66) -> 2139712389 | F56: =SUM(C56:E56) -> 17818538715
B57: 의회운영위원회 | C57: 43594098 | F57: =SUM(C57:E57) -> 43594098
B58: 기획재정위원회 | C58: 3440363748 | D58: 24291000 | E58: 1741536684 | F58: =SUM(C58:E58) -> 5206191432
B59: 경제과학기술위원회 | C59: 203612581 | E59: 302551270 | F59: =SUM(C59:E59) -> 506163851
B60: 안전행정위원회 | C60: 1207474631 | F60: =SUM(C60:E60) -> 1207474631
B61: 문화체육관광위원회 | C61: 246448826 | E61: 62624435 | F61: =SUM(C61:E61) -> 309073261
B62: 농정해양위원회 | C62: 442431566 | F62: =SUM(C62:E62) -> 442431566
B63: 보건복지위원회 | C63: 2784804193 | D63: 836694418 | F63: =SUM(C63:E63) -> 3621498611
B64: 건설교통위원회 | C64: 1163747689 | D64: =125570000+2173065 -> 127743065 | F64: =SUM(C64:E64) -> 1291490754
B65: 도시환경위원회 | C65: 1043870622 | D65: =4191000+14731912 -> 18922912 | E65: 33000000 | F65: =SUM(C65:E65) -> 1095793534
B66: 여성가족교육협력위원회 | C66: 3928412977 | D66: 166414000 | F66: =SUM(C66:E66) -> 4094826977
I145: ◦ 본청 83,000 증 ◦ 북부청 377,000 증
K275: -50000

Sheet 15년총괄표(실국별)
B1: 2015년도 경기도 일반 및 특별회계 세입·세출 예산안[전체예산총괄]
B3: □ 총괄(실국별) | E3: =SUM(D7:E7) -> 0 | G3: =SUM(F7:G7) -> 0
H4: (단위:천원) | M4: (일반+특별+기금) | O4: 특별+기금
B5: 구 분 | C5: 집행부제출(안) | D5: 세입예산(안) | F5: 세출예산(안) | H5: 예산수정(안) | I5: 일반회계 증감(총괄표) | K5: 예비비증감 | L5: 비 고 | M5: 전체 증감(시트) | O5: 비고
D6: 감 액 | E6: 증 액 | F6: 감 액 | G6: 증 액 | I6: 세입 | J6: 세출 | M6: 세입 | N6: 세출
B7: 합 계 | C7: =SUM(C8:C33) -> 17818538715 | D7: =SUM(D8:D33) -> 0 | E7: =SUM(E8:E33) -> 0 | F7: =SUM(F8:F33) -> 0 | G7: =SUM(G8:G33) -> 0 | H7: =SUM(H8:H33) -> 17818538715 | I7: =#REF!+#REF! -> #REF! | J7: =#REF!+#REF! -> #REF! | K7: =I7-J7 -> #REF! | L7: 예비비 증감이 - 예산이면 감액에 + 예산이면 증액에 입력 | M7: =#REF!+#REF! -> #REF! | N7: =#REF!+#REF! -> #REF! | O7: 0 | P7: 0
B8: 감사관 | C8: 1230140 | D8: =SUMIFS('15년일입'!$K$7:$K$703,'15년일입'!$B$7:$B$703,'15년총괄표(실국별)'!$B8) -> 0 | E8: =SUMIFS('15년일입'!$L$7:$L$703,'15년일입'!$B$7:$B$703,'15년총괄표(실국별)'!$B8) -> 0 | F8: =SUMIFS('15년일출'!$K$7:$K$1362,'15년일출'!$B$7:$B$1362,'15년총괄표(실국별)'!$B8) -> 0 | G8: =SUMIFS('15년일출'!$L$7:$L$1362,'15년일출'!$B$7:$B$1362,'15년총괄표(실국별)'!$B8) -> 0 | H8: =C8+F8+G8 -> 1230140 | I8: 일반회계 증감(시트) | N8: 전체 증감
B9: 기획조정실 | C9: 4995050831 | D9: =SUMIFS('15년일입'!$K$7:$K$703,'15년일입'!$B$7:$B$703,'15년총괄표(실국별)'!$B9) -> 0 | E9: =SUMIFS('15년일입'!$L$7:$L$703,'15년일입'!$B$7:$B$703,'15년총괄표(실국별)'!$B9) -> 0 | F9: =SUMIFS('15년일출'!$K$7:$K$1362,'15년일출'!$B$7:$B$1362,'15년총괄표(실국별)'!$B9) -> 0 | G9: =SUMIFS('15년일출'!$L$7:$L$1362,'15년일출'!$B$7:$B$1362,'15년총괄표(실국별)'!$B9) -> 0 | H9: =C9+F9+G9 -> 4995050831 | I9: =#REF!+#REF! -> #REF! | J9: =#REF!+#REF! -> #REF! | N9: =#REF!-#REF! -> #REF!
B10: 도시주택실 | C10: 350475445 | D10: =SUMIFS('15년일입'!$K$7:$K$703,'15년일입'!$B$7:$B$703,'15년총괄표(실국별)'!$B10) -> 0 | E10: =SUMIFS('15년일입'!$L$7:$L$703,'15년일입'!$B$7:$B$703,'15년총괄표(실국별)'!$B10) -> 0 | F10: =SUMIFS('15년일출'!$K$7:$K$1362,'15년일출'!$B$7:$B$1362,'15년총괄표(실국별)'!$B10) -> 0 | G10: =SUMIFS('15년일출'!$L$7:$L$1362,'15년일출'!$B$7:$B$1362,'15년총괄표(실국별)'!$B10) -> 0 | H10: =C10+F10+G10 -> 350475445 | I10: =#REF!+#REF! -> #REF! | J10: =#REF!+#REF! -> #REF! | N10: =#REF!-#REF! -> #REF!
B11: 자치행정국 | C11: 489102362 | D11: =SUMIFS('15년일입'!$K$7:$K$703,'15년일입'!$B$7:$B$703,'15년총괄표(실국별)'!$B11) -> 0 | E11: =SUMIFS('15년일입'!$L$7:$L$703,'15년일입'!$B$7:$B$703,'15년총괄표(실국별)'!$B11) -> 0 | F11: =SUMIFS('15년일출'!$K$7:$K$1362,'15년일출'!$B$7:$B$1362,'15년총괄표(실국별)'!$B11) -> 0 | G11: =SUMIFS('15년일출'!$L$7:$L$1362,'15년일출'!$B$7:$B$1362,'15년총괄표(실국별)'!$B11) -> 0 | H11: =C11+F11+G11 -> 489102362
B12: 교육협력국 | C12: 2124399774 | D12: =SUMIFS('15년일입'!$K$7:$K$703,'15년일입'!$B$7:$B$703,'15년총괄표(실국별)'!$B12) -> 0 | E12: =SUMIFS('15년일입'!$L$7:$L$703,'15년일입'!$B$7:$B$703,'15년총괄표(실국별)'!$B12) -> 0 | F12: =SUMIFS('15년일출'!$K$7:$K$1362,'15년일출'!$B$7:$B$1362,'15년총괄표(실국별)'!$B12) -> 0 | G12: =SUMIFS('15년일출'!$L$7:$L$1362,'15년일출'!$B$7:$B$1362,'15년총괄표(실국별)'!$B12) -> 0 | H12: =C12+F12+G12 -> 2124399774
B13: 문화체육관광국 | C13: 309073261 | D13: =SUMIFS('15년일입'!$K$7:$K$703,'15년일입'!$B$7:$B$703,'15년총괄표(실국별)'!$B13) -> 0 | E13: =SUMIFS('15년일입'!$L$7:$L$703,'15년일입'!$B$7:$B$703,'15년총괄표(실국별)'!$B13) -> 0 | F13: =SUMIFS('15년일출'!$K$7:$K$1362,'15년일출'!$B$7:$B$1362,'15년총괄표(실국별)'!$B13) -> 0 | G13: =SUMIFS('15년일출'!$L$7:$L$1362,'15년일출'!$B$7:$B$1362,'15년총괄표(실국별)'!$B13) -> 0 | H13: =C13+F13+G13 -> 309073261 | N13: 기금
B14: 농정해양국 | C14: 255604029 | D14: =SUMIFS('15년일입'!$K$7:$K$703,'15년일입'!$B$7:$B$703,'15년총괄표(실국별)'!$B14) -> 0 | E14: =SUMIFS('15년일입'!$L$7:$L$703,'15년일입'!$B$7:$B$703,'15년총괄표(실국별)'!$B14) -> 0 | F14: =SUMIFS('15년일출'!$K$7:$K$1362,'15년일출'!$B$7:$B$1362,'15년총괄표(실국별)'!$B14) -> 0 | G14: =SUMIFS('15년일출'!$L$7:$L$1362,'15년일출'!$B$7:$B$1362,'15년총괄표(실국별)'!$B14) -> 0 | H14: =C14+F14+G14 -> 255604029 | N14: =N10-#REF! -> #REF!
B15: 철도국 | C15: 205393587 | D15: =SUMIFS('15년일입'!$K$7:$K$703,'15년일입'!$B$7:$B$703,'15년총괄표(실국별)'!$B15) -> 0 | E15: =SUMIFS('15년일입'!$L$7:$L$703,'15년일입'!$B$7:$B$703,'15년총괄표(실국별)'!$B15) -> 0 | F15: =SUMIFS('15년일출'!$K$7:$K$1362,'15년일출'!$B$7:$B$1362,'15년총괄표(실국별)'!$B15) -> 0 | G15: =SUMIFS('15년일출'!$L$7:$L$1362,'15년일출'!$B$7:$B$1362,'15년총괄표(실국별)'!$B15) -> 0 | H15: =C15+F15+G15 -> 205393587
B16: 재난안전본부 | C16: 694104955 | D16: =SUMIFS('15년일입'!$K$7:$K$703,'15년일입'!$B$7:$B$703,'15년총괄표(실국별)'!$B16) -> 0 | E16: =SUMIFS('15년일입'!$L$7:$L$703,'15년일입'!$B$7:$B$703,'15년총괄표(실국별)'!$B16) -> 0 | F16: =SUMIFS('15년일출'!$K$7:$K$1362,'15년일출'!$B$7:$B$1362,'15년총괄표(실국별)'!$B16) -> 0 | G16: =SUMIFS('15년일출'!$L$7:$L$1362,'15년일출'!$B$7:$B$1362,'15년총괄표(실국별)'!$B16) -> 0 | H16: =C16+F16+G16 -> 694104955
B17: 의회사무처 | C17: 30412373 | D17: =SUMIFS('15년일입'!$K$7:$K$703,'15년일입'!$B$7:$B$703,'15년총괄표(실국별)'!$B17) -> 0 | E17: =SUMIFS('15년일입'!$L$7:$L$703,'15년일입'!$B$7:$B$703,'15년총괄표(실국별)'!$B17) -> 0 | F17: =SUMIFS('15년일출'!$K$7:$K$1362,'15년일출'!$B$7:$B$1362,'15년총괄표(실국별)'!$B17) -> 0 | G17: =SUMIFS('15년일출'!$L$7:$L$1362,'15년일출'!$B$7:$B$1362,'15년총괄표(실국별)'!$B17) -> 0 | H17: =C17+F17+G17 -> 30412373
B18: 대변인 | C18: 12731214 | D18: =SUMIFS('15년일입'!$K$7:$K$703,'15년일입'!$B$7:$B$703,'15년총괄표(실국별)'!$B18) -> 0 | E18: =SUMIFS('15년일입'!$L$7:$L$703,'15년일입'!$B$7:$B$703,'15년총괄표(실국별)'!$B18) -> 0 | F18: =SUMIFS('15년일출'!$K$7:$K$1362,'15년일출'!$B$7:$B$1362,'15년총괄표(실국별)'!$B18) -> 0 | G18: =SUMIFS('15년일출'!$L$7:$L$1362,'15년일출'!$B$7:$B$1362,'15년총괄표(실국별)'!$B18) -> 0 | H18: =C18+F18+G18 -> 12731214 | I18: =#REF!+#REF! -> #REF! | J18: =#REF!+#REF! -> #REF! | N18: =#REF!-#REF! -> #REF!
B19: 대외협력담당관 | C19: 450511 | D19: =SUMIFS('15년일입'!$K$7:$K$703,'15년일입'!$B$7:$B$703,'15년총괄표(실국별)'!$B19) -> 0 | E19: =SUMIFS('15년일입'!$L$7:$L$703,'15년일입'!$B$7:$B$703,'15년총괄표(실국별)'!$B19) -> 0 | F19: =SUMIFS('15년일출'!$K$7:$K$1362,'15년일출'!$B$7:$B$1362,'15년총괄표(실국별)'!$B19) -> 0 | G19: =SUMIFS('15년일출'!$L$7:$L$1362,'15년일출'!$B$7:$B$1362,'15년총괄표(실국별)'!$B19) -> 0 | H19: =C19+F19+G19 -> 450511
B20: 보건복지국 | C20: 2803637639 | D20: =SUMIFS('15년일입'!$K$7:$K$703,'15년일입'!$B$7:$B$703,'15년총괄표(실국별)'!$B20) -> 0 | E20: =SUMIFS('15년일입'!$L$7:$L$703,'15년일입'!$B$7:$B$703,'15년총괄표(실국별)'!$B20) -> 0 | F20: =SUMIFS('15년일출'!$K$7:$K$1362,'15년일출'!$B$7:$B$1362,'15년총괄표(실국별)'!$B20) -> 0 | G20: =SUMIFS('15년일출'!$L$7:$L$1362,'15년일출'!$B$7:$B$1362,'15년총괄표(실국별)'!$B20) -> 0 | H20: =C20+F20+G20 -> 2803637639
B21: 환경국 | C21: 96522924 | D21: =SUMIFS('15년일입'!$K$7:$K$703,'15년일입'!$B$7:$B$703,'15년총괄표(실국별)'!$B21) -> 0 | E21: =SUMIFS('15년일입'!$L$7:$L$703,'15년일입'!$B$7:$B$703,'15년총괄표(실국별)'!$B21) -> 0 | F21: =SUMIFS('15년일출'!$K$7:$K$1362,'15년일출'!$B$7:$B$1362,'15년총괄표(실국별)'!$B21) -> 0 | G21: =SUMIFS('15년일출'!$L$7:$L$1362,'15년일출'!$B$7:$B$1362,'15년총괄표(실국별)'!$B21) -> 0 | H21: =C21+F21+G21 -> 96522924 | N21: 기금
B22: 여성가족국 | C22: 1454395771 | D22: =SUMIFS('15년일입'!$K$7:$K$703,'15년일입'!$B$7:$B$703,'15년총괄표(실국별)'!$B22) -> 0 | E22: =SUMIFS('15년일입'!$L$7:$L$703,'15년일입'!$B$7:$B$703,'15년총괄표(실국별)'!$B22) -> 0 | F22: =SUMIFS('15년일출'!$K$7:$K$1362,'15년일출'!$B$7:$B$1362,'15년총괄표(실국별)'!$B22) -> 0 | G22: =SUMIFS('15년일출'!$L$7:$L$1362,'15년일출'!$B$7:$B$1362,'15년총괄표(실국별)'!$B22) -> 0 | H22: =C22+F22+G22 -> 1454395771 | N22: =N18-#REF! -> #REF!
B23: 농업기술원 | C23: 35645539 | D23: =SUMIFS('15년일입'!$K$7:$K$703,'15년일입'!$B$7:$B$703,'15년총괄표(실국별)'!$B23) -> 0 | E23: =SUMIFS('15년일입'!$L$7:$L$703,'15년일입'!$B$7:$B$703,'15년총괄표(실국별)'!$B23) -> 0 | F23: =SUMIFS('15년일출'!$K$7:$K$1362,'15년일출'!$B$7:$B$1362,'15년총괄표(실국별)'!$B23) -> 0 | G23: =SUMIFS('15년일출'!$L$7:$L$1362,'15년일출'!$B$7:$B$1362,'15년총괄표(실국별)'!$B23) -> 0 | H23: =C23+F23+G23 -> 35645539
B24: 인재개발원 | C24: 10314647 | D24: =SUMIFS('15년일입'!$K$7:$K$703,'15년일입'!$B$7:$B$703,'15년총괄표(실국별)'!$B24) -> 0 | E24: =SUMIFS('15년일입'!$L$7:$L$703,'15년일입'!$B$7:$B$703,'15년총괄표(실국별)'!$B24) -> 0 | F24: =SUMIFS('15년일출'!$K$7:$K$1362,'15년일출'!$B$7:$B$1362,'15년총괄표(실국별)'!$B24) -> 0 | G24: =SUMIFS('15년일출'!$L$7:$L$1362,'15년일출'!$B$7:$B$1362,'15년총괄표(실국별)'!$B24) -> 0 | H24: =C24+F24+G24 -> 10314647
B25: 보건환경연구원 | C25: 8202067 | D25: =SUMIFS('15년일입'!$K$7:$K$703,'15년일입'!$B$7:$B$703,'15년총괄표(실국별)'!$B25) -> 0 | E25: =SUMIFS('15년일입'!$L$7:$L$703,'15년일입'!$B$7:$B$703,'15년총괄표(실국별)'!$B25) -> 0 | F25: =SUMIFS('15년일출'!$K$7:$K$1362,'15년일출'!$B$7:$B$1362,'15년총괄표(실국별)'!$B25) -> 0 | G25: =SUMIFS('15년일출'!$L$7:$L$1362,'15년일출'!$B$7:$B$1362,'15년총괄표(실국별)'!$B25) -> 0 | H25: =C25+F25+G25 -> 8202067
B26: 수자원본부 | C26: 631831527 | D26: =SUMIFS('15년일입'!$K$7:$K$703,'15년일입'!$B$7:$B$703,'15년총괄표(실국별)'!$B26) -> 0 | E26: =SUMIFS('15년일입'!$L$7:$L$703,'15년일입'!$B$7:$B$703,'15년총괄표(실국별)'!$B26) -> 0 | F26: =SUMIFS('15년일출'!$K$7:$K$1362,'15년일출'!$B$7:$B$1362,'15년총괄표(실국별)'!$B26) -> 0 | G26: =SUMIFS('15년일출'!$L$7:$L$1362,'15년일출'!$B$7:$B$1362,'15년총괄표(실국별)'!$B26) -> 0 | H26: =C26+F26+G26 -> 631831527 | I26: =#REF!+#REF! -> #REF! | J26: =#REF!+#REF! -> #REF! | N26: =M2-N2 -> 0
B27: 복지여성실 | C27: 1328409175 | D27: =SUMIFS('15년일입'!$K$7:$K$703,'15년일입'!$B$7:$B$703,'15년총괄표(실국별)'!$B27) -> 0 | E27: =SUMIFS('15년일입'!$L$7:$L$703,'15년일입'!$B$7:$B$703,'15년총괄표(실국별)'!$B27) -> 0 | F27: =SUMIFS('15년일출'!$K$7:$K$1362,'15년일출'!$B$7:$B$1362,'15년총괄표(실국별)'!$B27) -> 0 | G27: =SUMIFS('15년일출'!$L$7:$L$1362,'15년일출'!$B$7:$B$1362,'15년총괄표(실국별)'!$B27) -> 0 | H27: =C27+F27+G27 -> 1328409175
B28: 균형발전기획실 | C28: 223863128 | D28: =SUMIFS('15년일입'!$K$7:$K$703,'15년일입'!$B$7:$B$703,'15년총괄표(실국별)'!$B28) -> 0 | E28: =SUMIFS('15년일입'!$L$7:$L$703,'15년일입'!$B$7:$B$703,'15년총괄표(실국별)'!$B28) -> 0 | F28: =SUMIFS('15년일출'!$K$7:$K$1362,'15년일출'!$B$7:$B$1362,'15년총괄표(실국별)'!$B28) -> 0 | G28: =SUMIFS('15년일출'!$L$7:$L$1362,'15년일출'!$B$7:$B$1362,'15년총괄표(실국별)'!$B28) -> 0 | H28: =C28+F28+G28 -> 223863128
B29: 경제실 | C29: 506163851 | D29: =SUMIFS('15년일입'!$K$7:$K$703,'15년일입'!$B$7:$B$703,'15년총괄표(실국별)'!$B29) -> 0 | E29: =SUMIFS('15년일입'!$L$7:$L$703,'15년일입'!$B$7:$B$703,'15년총괄표(실국별)'!$B29) -> 0 | F29: =SUMIFS('15년일출'!$K$7:$K$1362,'15년일출'!$B$7:$B$1362,'15년총괄표(실국별)'!$B29) -> 0 | G29: =SUMIFS('15년일출'!$L$7:$L$1362,'15년일출'!$B$7:$B$1362,'15년총괄표(실국별)'!$B29) -> 0 | H29: =C29+F29+G29 -> 506163851 | N29: 기금
B30: 축산산림국 | C30: 165426798 | D30: =SUMIFS('15년일입'!$K$7:$K$703,'15년일입'!$B$7:$B$703,'15년총괄표(실국별)'!$B30) -> 0 | E30: =SUMIFS('15년일입'!$L$7:$L$703,'15년일입'!$B$7:$B$703,'15년총괄표(실국별)'!$B30) -> 0 | F30: =SUMIFS('15년일출'!$K$7:$K$1362,'15년일출'!$B$7:$B$1362,'15년총괄표(실국별)'!$B30) -> 0 | G30: =SUMIFS('15년일출'!$L$7:$L$1362,'15년일출'!$B$7:$B$1362,'15년총괄표(실국별)'!$B30) -> 0 | H30: =C30+F30+G30 -> 165426798 | N30: =N26-K2 -> 0
B31: 교통국 | C31: 466950444 | D31: =SUMIFS('15년일입'!$K$7:$K$703,'15년일입'!$B$7:$B$703,'15년총괄표(실국별)'!$B31) -> 0 | E31: =SUMIFS('15년일입'!$L$7:$L$703,'15년일입'!$B$7:$B$703,'15년총괄표(실국별)'!$B31) -> 0 | F31: =SUMIFS('15년일출'!$K$7:$K$1362,'15년일출'!$B$7:$B$1362,'15년총괄표(실국별)'!$B31) -> 0 | G31: =SUMIFS('15년일출'!$L$7:$L$1362,'15년일출'!$B$7:$B$1362,'15년총괄표(실국별)'!$B31) -> 0 | H31: =C31+F31+G31 -> 466950444 | I31: =#REF!+#REF! -> #REF! | J31: =#REF!+#REF! -> #REF! | N31: =M7-N7 -> #REF!
B32: 건설국 | C32: 570450422 | D32: =SUMIFS('15년일입'!$K$7:$K$703,'15년일입'!$B$7:$B$703,'15년총괄표(실국별)'!$B32) -> 0 | E32: =SUMIFS('15년일입'!$L$7:$L$703,'15년일입'!$B$7:$B$703,'15년총괄표(실국별)'!$B32) -> 0 | F32: =SUMIFS('15년일출'!$K$7:$K$1362,'15년일출'!$B$7:$B$1362,'15년총괄표(실국별)'!$B32) -> 0 | G32: =SUMIFS('15년일출'!$L$7:$L$1362,'15년일출'!$B$7:$B$1362,'15년총괄표(실국별)'!$B32) -> 0 | H32: =C32+F32+G32 -> 570450422
B33: 건설본부 | C33: 48696301 | D33: =SUMIFS('15년일입'!$K$7:$K$703,'15년일입'!$B$7:$B$703,'15년총괄표(실국별)'!$B33) -> 0 | E33: =SUMIFS('15년일입'!$L$7:$L$703,'15년일입'!$B$7:$B$703,'15년총괄표(실국별)'!$B33) -> 0 | F33: =SUMIFS('15년일출'!$K$7:$K$1362,'15년일출'!$B$7:$B$1362,'15년총괄표(실국별)'!$B33) -> 0 | G33: =SUMIFS('15년일출'!$L$7:$L$1362,'15년일출'!$B$7:$B$1362,'15년총괄표(실국별)'!$B33) -> 0 | H33: =C33+F33+G33 -> 48696301
B37: 실국명 | C37: 일반 | D37: 기특 | E37: 공특 | F37: 합계
B38: 총합계 | C38: =SUM(C39:C64) -> 14504760931 | D38: =SUM(D39:D64) -> 1174065395 | E38: =SUM(E39:E64) -> 2139712389 | F38: =SUM(C38:E38) -> 17818538715
B39: 감사관 | C39: 1230140 | F39: =SUM(C39:E39) -> 1230140
B40: 기획조정실 | C40: 3253514147 | E40: 1741536684 | F40: =SUM(C40:E40) -> 4995050831
B41: 도시주택실 | C41: 302743533 | D41: 14731912 | E41: 33000000 | F41: =SUM(C41:E41) -> 350475445
B42: 자치행정국 | C42: 489102362 | F42: =SUM(C42:E42) -> 489102362
B43: 교육협력국 | C43: 1957985774 | D43: 166414000 | F43: =SUM(C43:E43) -> 2124399774
B44: 문화체육관광국 | C44: 246448826 | E44: 62624435 | F44: =SUM(C44:E44) -> 309073261
B45: 농정해양국 | C45: 255604029 | F45: =SUM(C45:E45) -> 255604029
B46: 철도국 | C46: 205393587 | F46: =SUM(C46:E46) -> 205393587
B47: 재난안전본부 | C47: =635730961+1074501+3040529+54258964 -> 694104955 | F47: =SUM(C47:E47) -> 694104955
B48: 의회사무처 | C48: 30412373 | F48: =SUM(C48:E48) -> 30412373
B49: 대변인 | C49: 12731214 | F49: =SUM(C49:E49) -> 12731214
B50: 대외협력담당관 | C50: 450511 | F50: =SUM(C50:E50) -> 450511
B51: 보건복지국 | C51: 1966943221 | D51: 836694418 | F51: =SUM(C51:E51) -> 2803637639
B52: 환경국 | C52: 96522924 | F52: =SUM(C52:E52) -> 96522924
B53: 여성가족국 | C53: 1454395771 | F53: =SUM(C53:E53) -> 1454395771
B54: 농업기술원 | C54: 35645539 | F54: =SUM(C54:E54) -> 35645539
B55: 인재개발원 | C55: 10314647 | F55: =SUM(C55:E55) -> 10314647
B56: 보건환경연구원 | C56: 8202067 | F56: =SUM(C56:E56) -> 8202067
B57: 수자원본부 | C57: 627640527 | D57: 4191000 | F57: =SUM(C57:E57) -> 631831527
B58: 복지여성실 | C58: 1328409175 | F58: =SUM(C58:E58) -> 1328409175
B59: 균형발전기획실 | C59: 199572128 | D59: 24291000 | F59: =SUM(C59:E59) -> 223863128
B60: 경제실 | C60: 203612581 | E60: 302551270 | F60: =SUM(C60:E60) -> 506163851
B61: 축산산림국 | C61: 165426798 | F61: =SUM(C61:E61) -> 165426798
B62: 교통국 | C62: 341380444 | D62: 125570000 | F62: =SUM(C62:E62) -> 466950444
B63: 건설국 | C63: 568277357 | D63: 2173065 | F63: =SUM(C63:E63) -> 570450422
B64: 건설본부 | C64: 48696301 | F64: =SUM(C64:E64) -> 48696301
I164: ◦ 본청 83,000 증 ◦ 북부청 377,000 증
K294: -50000

Sheet 15년위원회별
B1: 2015년도 경기도 일반회계 세입 세출 총괄표
H2: =IF(H6=T6,"OK","@@") -> OK | M2: =IF(M6=Y6,"OK","@@") -> OK | T2: =IF(T6=H6,"OK","@@") -> OK | Y2: =IF(Y6=M6,"OK","@@") -> OK
B3: 위원회 및 실국명 | D3: 세입 | P3: 세출 | AB3: 국비 검증
D4: 예산안 (가) | E4: 상임위 예산안 조정액(나) | G4: 상임위 수정 예산안 (다=가+나) | H4: 상임위 재원별 증감액 | J4: 예결위 예산안 조정액(라) | L4: 예결위 수정 예산안 (마=가+라) | M4: 예결위 재원별 증감액 | P4: 예산안 (가) | Q4: 상임위 예산안 조정액(나) | S4: 상임위 수정 예산안 (다=가+나) | T4: 상임위 재원별 증감액 | V4: 예결위 예산안 조정액(라) | X4: 예결위 수정 예산안 (마=가+라) | Y4: 예결위 재원별 증감액
E5: 감액 | F5: 증액 | H5: 국비 등 | I5: 도 비 | J5: 감액 | K5: 증액 | M5: 국비 등 | N5: 도 비 | Q5: 감액 | R5: 증액 | T5: 국비 등 | U5: 도 비 | V5: 감액 | W5: 증액 | Y5: 국비 등 | Z5: 도 비
B6: 합 계 | D6: =SUM(D7:D46)/2 -> 159095680 | E6: =SUM(E7:E46)/2 -> -31527296 | F6: =SUM(F7:F46)/2 -> 256163995 | G6: =SUM(G7:G46)/2 -> 383732379 | H6: =SUM(H7:H46)/2 -> 27108615 | I6: =SUM(I7:I46)/2 -> 197528084 | J6: =SUM(J7:J46)/2 -> 0 | K6: =SUM(K7:K46)/2 -> 0 | ... N6: =SUM(N7:N46)/2 -> 0 | P6: =SUM(P7:P46)/2 -> 543366419 | Q6: =SUM(Q7:Q46)/2 -> -55103817 | R6: =SUM(R7:R46)/2 -> 395105709 | S6: =SUM(S7:S46)/2 -> 883368311 | T6: =SUM(T7:T46)/2 -> 27108615 | U6: =SUM(U7:U46)/2 -> 313166877 | V6: =SUM(V7:V46)/2 -> 0 | W6: =SUM(W7:W46)/2 -> 0 | ... Z6: =SUM(Z7:Z46)/2 -> 0 | AB6: =IF(H6=T6,"OK","@@") -> OK | AC6: =T6-H6 -> 0
B7: 의회운영위원회 | D7: =SUM(D8:D10) -> 0 | E7: =SUM(E8:E10) -> 0 | F7: =SUM(F8:F10) -> 0 | G7: =SUM(G8:G10) -> 0 | H7: =SUM(H8:H10) -> 0 | I7: =SUM(I8:I10) -> 0 | J7: =SUM(J8:J10) -> 0 | K7: =SUM(K8:K10) -> 0 | ... N7: =SUM(N8:N10) -> 0 | P7: =SUM(P8:P10) -> 9724887 | Q7: =SUM(Q8:Q10) -> -496600 | R7: =SUM(R8:R10) -> 4313831 | S7: =SUM(S8:S10) -> 13542118 | T7: =SUM(T8:T10) -> 0 | U7: =SUM(U8:U10) -> 3817231 | V7: =SUM(V8:V10) -> 0 | W7: =SUM(W8:W10) -> 0 | ... Z7: =SUM(Z8:Z10) -> 0 | AB7: =IF(H7=T7,"OK","@@") -> OK | AC7: =T7-H7 -> 0
A8: 의회운영위원회 | C8: 의회사무처 | D8: =SUMIFS('15년일입'!$G$7:$G$703,'15년일입'!$A$7:$A$703,'15년위원회별'!$A8,'15년일입'!$B$7:$B$703,'15년위원회별'!$C8) -> 0 | E8: =SUMIFS('15년일입'!$H$7:$H$703,'15년일입'!$A$7:$A$703,'15년위원회별'!$A8,'15년일입'!$B$7:$B$703,'15년위원회별'!$C8) -> 0 | F8: =SUMIFS('15년일입'!$I$7:$I$703,'15년일입'!$A$7:$A$703,'15년위원회별'!$A8,'15년일입'!$B$7:$B$703,'15년위원회별'!$C8) -> 0 | G8: =SUMIFS('15년일입'!$J$7:$J$703,'15년일입'!$A$7:$A$703,'15년위원회별'!$A8,'15년일입'!$B$7:$B$703,'15년위원회별'!$C8) -> 0 | H8: =SUMIFS('15년일입'!$T$7:$T$703,'15년일입'!$A$7:$A$703,'15년위원회별'!$A8,'15년일입'!$B$7:$B$703,'15년위원회별'!$C8) -> 0 | I8: =SUMIFS('15년일입'!$U$7:$U$703,'15년일입'!$A$7:$A$703,'15년위원회별'!$A8,'15년일입'!$B$7:$B$703,'15년위원회별'!$C8) -> 0 | J8: =SUMIFS('15년일입'!$K$7:$K$703,'15년일입'!$A$7:$A$703,'15년위원회별'!$A8,'15년일입'!$B$7:$B$703,'15년위원회별'!$C8) -> 0 | K8: =SUMIFS('15년일입'!$L$7:$L$703,'15년일입'!$A$7:$A$703,'15년위원회별'!$A8,'15년일입'!$B$7:$B$703,'15년위원회별'!$C8) -> 0 | L8: =SUMIFS('15년일입'!$M$7:$M$703,'15년일입'!$A$7:$A$703,'15년위원회별'!$A8,'15년일입'!$B$7:$B$703,'15년위원회별'!$C8) -> 0 | M8: =SUMIFS('15년일입'!$Y$7:$Y$703,'15년일입'!$A$7:$A$703,'15년위원회별'!$A8,'15년일입'!$B$7:$B$703,'15년위원회별'!$C8) -> 0 | N8: =SUMIFS('15년일입'!$Z$7:$Z$703,'15년일입'!$A$7:$A$703,'15년위원회별'!$A8,'15년일입'!$B$7:$B$703,'15년위원회별'!$C8) -> 0 | P8: =SUMIFS('15년일출'!$G$7:$G$1362,'15년일출'!$A$7:$A$1362,'15년위원회별'!$A8,'15년일출'!$B$7:$B$1362,'15년위원회별'!$C8) -> 8927747 | Q8: =SUMIFS('15년일출'!$H$7:$H$1362,'15년일출'!$A$7:$A$1362,'15년위원회별'!$A8,'15년일출'!$B$7:$B$1362,'15년위원회별'!$C8) -> -371600 | R8: =SUMIFS('15년일출'!$I$7:$I$1362,'15년일출'!$A$7:$A$1362,'15년위원회별'!$A8,'15년일출'!$B$7:$B$1362,'15년위원회별'!$C8) -> 4289971 | S8: =SUMIFS('15년일출'!$J$7:$J$1362,'15년일출'!$A$7:$A$1362,'15년위원회별'!$A8,'15년일출'!$B$7:$B$1362,'15년위원회별'!$C8) -> 12846118 | T8: =SUMIFS('15년일출'!$T$7:$T$1362,'15년일출'!$A$7:$A$1362,'15년위원회별'!$A8,'15년일출'!$B$7:$B$1362,'15년위원회별'!$C8) -> 0 | U8: =SUMIFS('15년일출'!$U$7:$U$1362,'15년일출'!$A$7:$A$1362,'15년위원회별'!$A8,'15년일출'!$B$7:$B$1362,'15년위원회별'!$C8) -> 3918371 | V8: =SUMIFS('15년일출'!$K$7:$K$1362,'15년일출'!$A$7:$A$1362,'15년위원회별'!$A8,'15년일출'!$B$7:$B$1362,'15년위원회별'!$C8) -> 0 | W8: =SUMIFS('15년일출'!$L$7:$L$1362,'15년일출'!$A$7:$A$1362,'15년위원회별'!$A8,'15년일출'!$B$7:$B$1362,'15년위원회별'!$C8) -> 0 | X8: =SUMIFS('15년일출'!$M$7:$M$1362,'15년일출'!$A$7:$A$1362,'15년위원회별'!$A8,'15년일출'!$B$7:$B$1362,'15년위원회별'!$C8) -> 8927747 | Y8: =SUMIFS('15년일출'!$Y$7:$Y$1362,'15년일출'!$A$7:$A$1362,'15년위원회별'!$A8,'15년일출'!$B$7:$B$1362,'15년위원회별'!$C8) -> 0 | Z8: =SUMIFS('15년일출'!$Z$7:$Z$1362,'15년일출'!$A$7:$A$1362,'15년위원회별'!$A8,'15년일출'!$B$7:$B$1362,'15년위원회별'!$C8) -> 0 | AB8: =IF(H8=T8,"OK","@@") -> OK | AC8: =T8-H8 -> 0
A9: 의회운영위원회 | C9: 대변인 | D9: =SUMIFS('15년일입'!$G$7:$G$703,'15년일입'!$A$7:$A$703,'15년위원회별'!$A9,'15년일입'!$B$7:$B$703,'15년위원회별'!$C9) -> 0 | E9: =SUMIFS('15년일입'!$H$7:$H$703,'15년일입'!$A$7:$A$703,'15년위원회별'!$A9,'15년일입'!$B$7:$B$703,'15년위원회별'!$C9) -> 0 | F9: =SUMIFS('15년일입'!$I$7:$I$703,'15년일입'!$A$7:$A$703,'15년위원회별'!$A9,'15년일입'!$B$7:$B$703,'15년위원회별'!$C9) -> 0 | G9: =SUMIFS('15년일입'!$J$7:$J$703,'15년일입'!$A$7:$A$703,'15년위원회별'!$A9,'15년일입'!$B$7:$B$703,'15년위원회별'!$C9) -> 0 | H9: =SUMIFS('15년일입'!$T$7:$T$703,'15년일입'!$A$7:$A$703,'15년위원회별'!$A9,'15년일입'!$B$7:$B$703,'15년위원회별'!$C9) -> 0 | I9: =SUMIFS('15년일입'!$U$7:$U$703,'15년일입'!$A$7:$A$703,'15년위원회별'!$A9,'15년일입'!$B$7:$B$703,'15년위원회별'!$C9) -> 0 | J9: =SUMIFS('15년일입'!$K$7:$K$703,'15년일입'!$A$7:$A$703,'15년위원회별'!$A9,'15년일입'!$B$7:$B$703,'15년위원회별'!$C9) -> 0 | K9: =SUMIFS('15년일입'!$L$7:$L$703,'15년일입'!$A$7:$A$703,'15년위원회별'!$A9,'15년일입'!$B$7:$B$703,'15년위원회별'!$C9) -> 0 | L9: =SUMIFS('15년일입'!$M$7:$M$703,'15년일입'!$A$7:$A$703,'15년위원회별'!$A9,'15년일입'!$B$7:$B$703,'15년위원회별'!$C9) -> 0 | M9: =SUMIFS('15년일입'!$Y$7:$Y$703,'15년일입'!$A$7:$A$703,'15년위원회별'!$A9,'15년일입'!$B$7:$B$703,'15년위원회별'!$C9) -> 0 | N9: =SUMIFS('15년일입'!$Z$7:$Z$703,'15년일입'!$A$7:$A$703,'15년위원회별'!$A9,'15년일입'!$B$7:$B$703,'15년위원회별'!$C9) -> 0 | P9: =SUMIFS('15년일출'!$G$7:$G$1362,'15년일출'!$A$7:$A$1362,'15년위원회별'!$A9,'15년일출'!$B$7:$B$1362,'15년위원회별'!$C9) -> 793000 | Q9: =SUMIFS('15년일출'!$H$7:$H$1362,'15년일출'!$A$7:$A$1362,'15년위원회별'!$A9,'15년일출'!$B$7:$B$1362,'15년위원회별'!$C9) -> -125000 | R9: =SUMIFS('15년일출'!$I$7:$I$1362,'15년일출'!$A$7:$A$1362,'15년위원회별'!$A9,'15년일출'!$B$7:$B$1362,'15년위원회별'!$C9) -> 12000 | S9: =SUMIFS('15년일출'!$J$7:$J$1362,'15년일출'!$A$7:$A$1362,'15년위원회별'!$A9,'15년일출'!$B$7:$B$1362,'15년위원회별'!$C9) -> 680000 | T9: =SUMIFS('15년일출'!$T$7:$T$1362,'15년일출'!$A$7:$A$1362,'15년위원회별'!$A9,'15년일출'!$B$7:$B$1362,'15년위원회별'!$C9) -> 0 | U9: =SUMIFS('15년일출'!$U$7:$U$1362,'15년일출'!$A$7:$A$1362,'15년위원회별'!$A9,'15년일출'!$B$7:$B$1362,'15년위원회별'!$C9) -> -113000 | V9: =SUMIFS('15년일출'!$K$7:$K$1362,'15년일출'!$A$7:$A$1362,'15년위원회별'!$A9,'15년일출'!$B$7:$B$1362,'15년위원회별'!$C9) -> 0 | W9: =SUMIFS('15년일출'!$L$7:$L$1362,'15년일출'!$A$7:$A$1362,'15년위원회별'!$A9,'15년일출'!$B$7:$B$1362,'15년위원회별'!$C9) -> 0 | X9: =SUMIFS('15년일출'!$M$7:$M$1362,'15년일출'!$A$7:$A$1362,'15년위원회별'!$A9,'15년일출'!$B$7:$B$1362,'15년위원회별'!$C9) -> 793000 | Y9: =SUMIFS('15년일출'!$Y$7:$Y$1362,'15년일출'!$A$7:$A$1362,'15년위원회별'!$A9,'15년일출'!$B$7:$B$1362,'15년위원회별'!$C9) -> 0 | Z9: =SUMIFS('15년일출'!$Z$7:$Z$1362,'15년일출'!$A$7:$A$1362,'15년위원회별'!$A9,'15년일출'!$B$7:$B$1362,'15년위원회별'!$C9) -> 0 | AB9: =IF(H9=T9,"OK","@@") -> OK | AC9: =T9-H9 -> 0
A10: 의회운영위원회 | C10: 대외협력담당관 | D10: =SUMIFS('15년일입'!$G$7:$G$703,'15년일입'!$A$7:$A$703,'15년위원회별'!$A10,'15년일입'!$B$7:$B$703,'15년위원회별'!$C10) -> 0 | E10: =SUMIFS('15년일입'!$H$7:$H$703,'15년일입'!$A$7:$A$703,'15년위원회별'!$A10,'15년일입'!$B$7:$B$703,'15년위원회별'!$C10) -> 0 | F10: =SUMIFS('15년일입'!$I$7:$I$703,'15년일입'!$A$7:$A$703,'15년위원회별'!$A10,'15년일입'!$B$7:$B$703,'15년위원회별'!$C10) -> 0 | G10: =SUMIFS('15년일입'!$J$7:$J$703,'15년일입'!$A$7:$A$703,'15년위원회별'!$A10,'15년일입'!$B$7:$B$703,'15년위원회별'!$C10) -> 0 | H10: =SUMIFS('15년일입'!$T$7:$T$703,'15년일입'!$A$7:$A$703,'15년위원회별'!$A10,'15년일입'!$B$7:$B$703,'15년위원회별'!$C10) -> 0 | I10: =SUMIFS('15년일입'!$U$7:$U$703,'15년일입'!$A$7:$A$703,'15년위원회별'!$A10,'15년일입'!$B$7:$B$703,'15년위원회별'!$C10) -> 0 | J10: =SUMIFS('15년일입'!$K$7:$K$703,'15년일입'!$A$7:$A$703,'15년위원회별'!$A10,'15년일입'!$B$7:$B$703,'15년위원회별'!$C10) -> 0 | K10: =SUMIFS('15년일입'!$L$7:$L$703,'15년일입'!$A$7:$A$703,'15년위원회별'!$A10,'15년일입'!$B$7:$B$703,'15년위원회별'!$C10) -> 0 | L10: =SUMIFS('15년일입'!$M$7:$M$703,'15년일입'!$A$7:$A$703,'15년위원회별'!$A10,'15년일입'!$B$7:$B$703,'15년위원회별'!$C10) -> 0 | M10: =SUMIFS('15년일입'!$Y$7:$Y$703,'15년일입'!$A$7:$A$703,'15년위원회별'!$A10,'15년일입'!$B$7:$B$703,'15년위원회별'!$C10) -> 0 | N10: =SUMIFS('15년일입'!$Z$7:$Z$703,'15년일입'!$A$7:$A$703,'15년위원회별'!$A10,'15년일입'!$B$7:$B$703,'15년위원회별'!$C10) -> 0 | P10: =SUMIFS('15년일출'!$G$7:$G$1362,'15년일출'!$A$7:$A$1362,'15년위원회별'!$A10,'15년일출'!$B$7:$B$1362,'15년위원회별'!$C10) -> 4140 | Q10: =SUMIFS('15년일출'!$H$7:$H$1362,'15년일출'!$A$7:$A$1362,'15년위원회별'!$A10,'15년일출'!$B$7:$B$1362,'15년위원회별'!$C10) -> 0 | R10: =SUMIFS('15년일출'!$I$7:$I$1362,'15년일출'!$A$7:$A$1362,'15년위원회별'!$A10,'15년일출'!$B$7:$B$1362,'15년위원회별'!$C10) -> 11860 | S10: =SUMIFS('15년일출'!$J$7:$J$1362,'15년일출'!$A$7:$A$1362,'15년위원회별'!$A10,'15년일출'!$B$7:$B$1362,'15년위원회별'!$C10) -> 16000 | T10: =SUMIFS('15년일출'!$T$7:$T$1362,'15년일출'!$A$7:$A$1362,'15년위원회별'!$A10,'15년일출'!$B$7:$B$1362,'15년위원회별'!$C10) -> 0 | U10: =SUMIFS('15년일출'!$U$7:$U$1362,'15년일출'!$A$7:$A$1362,'15년위원회별'!$A10,'15년일출'!$B$7:$B$1362,'15년위원회별'!$C10) -> 11860 | V10: =SUMIFS('15년일출'!$K$7:$K$1362,'15년일출'!$A$7:$A$1362,'15년위원회별'!$A10,'15년일출'!$B$7:$B$1362,'15년위원회별'!$C10) -> 0 | W10: =SUMIFS('15년일출'!$L$7:$L$1362,'15년일출'!$A$7:$A$1362,'15년위원회별'!$A10,'15년일출'!$B$7:$B$1362,'15년위원회별'!$C10) -> 0 | X10: =SUMIFS('15년일출'!$M$7:$M$1362,'15년일출'!$A$7:$A$1362,'15년위원회별'!$A10,'15년일출'!$B$7:$B$1362,'15년위원회별'!$C10) -> 4140 | Y10: =SUMIFS('15년일출'!$Y$7:$Y$1362,'15년일출'!$A$7:$A$1362,'15년위원회별'!$A10,'15년일출'!$B$7:$B$1362,'15년위원회별'!$C10) -> 0 | Z10: =SUMIFS('15년일출'!$Z$7:$Z$1362,'15년일출'!$A$7:$A$1362,'15년위원회별'!$A10,'15년일출'!$B$7:$B$1362,'15년위원회별'!$C10) -> 0 | AB10: =IF(H10=T10,"OK","@@") -> OK | AC10: =T10-H10 -> 0
B11: 기획재정위원회 | D11: =SUM(D12:D14) -> 0 | E11: =SUM(E12:E14) -> 0 | F11: =SUM(F12:F14) -> 0 | G11: =SUM(G12:G14) -> 0 | H11: =SUM(H12:H14) -> 0 | I11: =SUM(I12:I14) -> 0 | J11: =SUM(J12:J14) -> 0 | K11: =SUM(K12:K14) -> 0 | ... N11: =SUM(N12:N14) -> 0 | P11: =SUM(P12:P14) -> 0 | Q11: =SUM(Q12:Q14) -> 0 | R11: =SUM(R12:R14) -> 0 | S11: =SUM(S12:S14) -> 0 | T11: =SUM(T12:T14) -> 0 | U11: =SUM(U12:U14) -> 0 | V11: =SUM(V12:V14) -> 0 | W11: =SUM(W12:W14) -> 0 | ... Z11: =SUM(Z12:Z14) -> 0 | AB11: =IF(H11=T11,"OK","@@") -> OK | AC11: =T11-H11 -> 0
A12: 기획재정위원회 | C12: 감사관 | D12: =SUMIFS('15년일입'!$G$7:$G$703,'15년일입'!$A$7:$A$703,'15년위원회별'!$A12,'15년일입'!$B$7:$B$703,'15년위원회별'!$C12) -> 0 | E12: =SUMIFS('15년일입'!$H$7:$H$703,'15년일입'!$A$7:$A$703,'15년위원회별'!$A12,'15년일입'!$B$7:$B$703,'15년위원회별'!$C12) -> 0 | F12: =SUMIFS('15년일입'!$I$7:$I$703,'15년일입'!$A$7:$A$703,'15년위원회별'!$A12,'15년일입'!$B$7:$B$703,'15년위원회별'!$C12) -> 0 | G12: =SUMIFS('15년일입'!$J$7:$J$703,'15년일입'!$A$7:$A$703,'15년위원회별'!$A12,'15년일입'!$B$7:$B$703,'15년위원회별'!$C12) -> 0 | H12: =SUMIFS('15년일입'!$T$7:$T$703,'15년일입'!$A$7:$A$703,'15년위원회별'!$A12,'15년일입'!$B$7:$B$703,'15년위원회별'!$C12) -> 0 | I12: =SUMIFS('15년일입'!$U$7:$U$703,'15년일입'!$A$7:$A$703,'15년위원회별'!$A12,'15년일입'!$B$7:$B$703,'15년위원회별'!$C12) -> 0 | J12: =SUMIFS('15년일입'!$K$7:$K$703,'15년일입'!$A$7:$A$703,'15년위원회별'!$A12,'15년일입'!$B$7:$B$703,'15년위원회별'!$C12) -> 0 | K12: =SUMIFS('15년일입'!$L$7:$L$703,'15년일입'!$A$7:$A$703,'15년위원회별'!$A12,'15년일입'!$B$7:$B$703,'15년위원회별'!$C12) -> 0 | L12: =SUMIFS('15년일입'!$M$7:$M$703,'15년일입'!$A$7:$A$703,'15년위원회별'!$A12,'15년일입'!$B$7:$B$703,'15년위원회별'!$C12) -> 0 | M12: =SUMIFS('15년일입'!$Y$7:$Y$703,'15년일입'!$A$7:$A$703,'15년위원회별'!$A12,'15년일입'!$B$7:$B$703,'15년위원회별'!$C12) -> 0 | N12: =SUMIFS('15년일입'!$Z$7:$Z$703,'15년일입'!$A$7:$A$703,'15년위원회별'!$A12,'15년일입'!$B$7:$B$703,'15년위원회별'!$C12) -> 0 | P12: =SUMIFS('15년일출'!$G$7:$G$1362,'15년일출'!$A$7:$A$1362,'15년위원회별'!$A12,'15년일출'!$B$7:$B$1362,'15년위원회별'!$C12) -> 0 | Q12: =SUMIFS('15년일출'!$H$7:$H$1362,'15년일출'!$A$7:$A$1362,'15년위원회별'!$A12,'15년일출'!$B$7:$B$1362,'15년위원회별'!$C12) -> 0 | R12: =SUMIFS('15년일출'!$I$7:$I$1362,'15년일출'!$A$7:$A$1362,'15년위원회별'!$A12,'15년일출'!$B$7:$B$1362,'15년위원회별'!$C12) -> 0 | S12: =SUMIFS('15년일출'!$J$7:$J$1362,'15년일출'!$A$7:$A$1362,'15년위원회별'!$A12,'15년일출'!$B$7:$B$1362,'15년위원회별'!$C12) -> 0 | T12: =SUMIFS('15년일출'!$T$7:$T$1362,'15년일출'!$A$7:$A$1362,'15년위원회별'!$A12,'15년일출'!$B$7:$B$1362,'15년위원회별'!$C12) -> 0 | U12: =SUMIFS('15년일출'!$U$7:$U$1362,'15년일출'!$A$7:$A$1362,'15년위원회별'!$A12,'15년일출'!$B$7:$B$1362,'15년위원회별'!$C12) -> 0 | V12: =SUMIFS('15년일출'!$K$7:$K$1362,'15년일출'!$A$7:$A$1362,'15년위원회별'!$A12,'15년일출'!$B$7:$B$1362,'15년위원회별'!$C12) -> 0 | W12: =SUMIFS('15년일출'!$L$7:$L$1362,'15년일출'!$A$7:$A$1362,'15년위원회별'!$A12,'15년일출'!$B$7:$B$1362,'15년위원회별'!$C12) -> 0 | X12: =SUMIFS('15년일출'!$M$7:$M$1362,'15년일출'!$A$7:$A$1362,'15년위원회별'!$A12,'15년일출'!$B$7:$B$1362,'15년위원회별'!$C12) -> 0 | Y12: =SUMIFS('15년일출'!$Y$7:$Y$1362,'15년일출'!$A$7:$A$1362,'15년위원회별'!$A12,'15년일출'!$B$7:$B$1362,'15년위원회별'!$C12) -> 0 | Z12: =SUMIFS('15년일출'!$Z$7:$Z$1362,'15년일출'!$A$7:$A$1362,'15년위원회별'!$A12,'15년일출'!$B$7:$B$1362,'15년위원회별'!$C12) -> 0 | AB12: =IF(H12=T12,"OK","@@") -> OK | AC12: =T12-H12 -> 0
A13: 기획재정위원회 | C13: 기획조정실 | D13: =SUMIFS('15년일입'!$G$7:$G$703,'15년일입'!$A$7:$A$703,'15년위원회별'!$A13,'15년일입'!$B$7:$B$703,'15년위원회별'!$C13) -> 0 | E13: =SUMIFS('15년일입'!$H$7:$H$703,'15년일입'!$A$7:$A$703,'15년위원회별'!$A13,'15년일입'!$B$7:$B$703,'15년위원회별'!$C13) -> 0 | F13: =SUMIFS('15년일입'!$I$7:$I$703,'15년일입'!$A$7:$A$703,'15년위원회별'!$A13,'15년일입'!$B$7:$B$703,'15년위원회별'!$C13) -> 0 | G13: =SUMIFS('15년일입'!$J$7:$J$703,'15년일입'!$A$7:$A$703,'15년위원회별'!$A13,'15년일입'!$B$7:$B$703,'15년위원회별'!$C13) -> 0 | H13: =SUMIFS('15년일입'!$T$7:$T$703,'15년일입'!$A$7:$A$703,'15년위원회별'!$A13,'15년일입'!$B$7:$B$703,'15년위원회별'!$C13) -> 0 | I13: =SUMIFS('15년일입'!$U$7:$U$703,'15년일입'!$A$7:$A$703,'15년위원회별'!$A13,'15년일입'!$B$7:$B$703,'15년위원회별'!$C13) -> 0 | J13: =SUMIFS('15년일입'!$K$7:$K$703,'15년일입'!$A$7:$A$703,'15년위원회별'!$A13,'15년일입'!$B$7:$B$703,'15년위원회별'!$C13) -> 0 | K13: =SUMIFS('15년일입'!$L$7:$L$703,'15년일입'!$A$7:$A$703,'15년위원회별'!$A13,'15년일입'!$B$7:$B$703,'15년위원회별'!$C13) -> 0 | L13: =SUMIFS('15년일입'!$M$7:$M$703,'15년일입'!$A$7:$A$703,'15년위원회별'!$A13,'15년일입'!$B$7:$B$703,'15년위원회별'!$C13) -> 0 | M13: =SUMIFS('15년일입'!$Y$7:$Y$703,'15년일입'!$A$7:$A$703,'15년위원회별'!$A13,'15년일입'!$B$7:$B$703,'15년위원회별'!$C13) -> 0 | N13: =SUMIFS('15년일입'!$Z$7:$Z$703,'15년일입'!$A$7:$A$703,'15년위원회별'!$A13,'15년일입'!$B$7:$B$703,'15년위원회별'!$C13) -> 0 | P13: =SUMIFS('15년일출'!$G$7:$G$1362,'15년일출'!$A$7:$A$1362,'15년위원회별'!$A13,'15년일출'!$B$7:$B$1362,'15년위원회별'!$C13) -> 0 | Q13: =SUMIFS('15년일출'!$H$7:$H$1362,'15년일출'!$A$7:$A$1362,'15년위원회별'!$A13,'15년일출'!$B$7:$B$1362,'15년위원회별'!$C13) -> 0 | R13: =SUMIFS('15년일출'!$I$7:$I$1362,'15년일출'!$A$7:$A$1362,'15년위원회별'!$A13,'15년일출'!$B$7:$B$1362,'15년위원회별'!$C13) -> 0 | S13: =SUMIFS('15년일출'!$J$7:$J$1362,'15년일출'!$A$7:$A$1362,'15년위원회별'!$A13,'15년일출'!$B$7:$B$1362,'15년위원회별'!$C13) -> 0 | T13: =SUMIFS('15년일출'!$T$7:$T$1362,'15년일출'!$A$7:$A$1362,'15년위원회별'!$A13,'15년일출'!$B$7:$B$1362,'15년위원회별'!$C13) -> 0 | U13: =SUMIFS('15년일출'!$U$7:$U$1362,'15년일출'!$A$7:$A$1362,'15년위원회별'!$A13,'15년일출'!$B$7:$B$1362,'15년위원회별'!$C13) -> 0 | V13: =SUMIFS('15년일출'!$K$7:$K$1362,'15년일출'!$A$7:$A$1362,'15년위원회별'!$A13,'15년일출'!$B$7:$B$1362,'15년위원회별'!$C13) -> 0 | W13: =SUMIFS('15년일출'!$L$7:$L$1362,'15년일출'!$A$7:$A$1362,'15년위원회별'!$A13,'15년일출'!$B$7:$B$1362,'15년위원회별'!$C13) -> 0 | X13: =SUMIFS('15년일출'!$M$7:$M$1362,'15년일출'!$A$7:$A$1362,'15년위원회별'!$A13,'15년일출'!$B$7:$B$1362,'15년위원회별'!$C13) -> 0 | Y13: =SUMIFS('15년일출'!$Y$7:$Y$1362,'15년일출'!$A$7:$A$1362,'15년위원회별'!$A13,'15년일출'!$B$7:$B$1362,'15년위원회별'!$C13) -> 0 | Z13: =SUMIFS('15년일출'!$Z$7:$Z$1362,'15년일출'!$A$7:$A$1362,'15년위원회별'!$A13,'15년일출'!$B$7:$B$1362,'15년위원회별'!$C13) -> 0 | AB13: =IF(H13=T13,"OK","@@") -> OK | AC13: =T13-H13 -> 0
A14: 기획재정위원회 | C14: 균형발전기획실 | D14: =SUMIFS('15년일입'!$G$7:$G$703,'15년일입'!$A$7:$A$703,'15년위원회별'!$A14,'15년일입'!$B$7:$B$703,'15년위원회별'!$C14) -> 0 | E14: =SUMIFS('15년일입'!$H$7:$H$703,'15년일입'!$A$7:$A$703,'15년위원회별'!$A14,'15년일입'!$B$7:$B$703,'15년위원회별'!$C14) -> 0 | F14: =SUMIFS('15년일입'!$I$7:$I$703,'15년일입'!$A$7:$A$703,'15년위원회별'!$A14,'15년일입'!$B$7:$B$703,'15년위원회별'!$C14) -> 0 | G14: =SUMIFS('15년일입'!$J$7:$J$703,'15년일입'!$A$7:$A$703,'15년위원회별'!$A14,'15년일입'!$B$7:$B$703,'15년위원회별'!$C14) -> 0 | H14: =SUMIFS('15년일입'!$T$7:$T$703,'15년일입'!$A$7:$A$703,'15년위원회별'!$A14,'15년일입'!$B$7:$B$703,'15년위원회별'!$C14) -> 0 | I14: =SUMIFS('15년일입'!$U$7:$U$703,'15년일입'!$A$7:$A$703,'15년위원회별'!$A14,'15년일입'!$B$7:$B$703,'15년위원회별'!$C14) -> 0 | J14: =SUMIFS('15년일입'!$K$7:$K$703,'15년일입'!$A$7:$A$703,'15년위원회별'!$A14,'15년일입'!$B$7:$B$703,'15년위원회별'!$C14) -> 0 | K14: =SUMIFS('15년일입'!$L$7:$L$703,'15년일입'!$A$7:$A$703,'15년위원회별'!$A14,'15년일입'!$B$7:$B$703,'15년위원회별'!$C14) -> 0 | L14: =SUMIFS('15년일입'!$M$7:$M$703,'15년일입'!$A$7:$A$703,'15년위원회별'!$A14,'15년일입'!$B$7:$B$703,'15년위원회별'!$C14) -> 0 | M14: =SUMIFS('15년일입'!$Y$7:$Y$703,'15년일입'!$A$7:$A$703,'15년위원회별'!$A14,'15년일입'!$B$7:$B$703,'15년위원회별'!$C14) -> 0 | N14: =SUMIFS('15년일입'!$Z$7:$Z$703,'15년일입'!$A$7:$A$703,'15년위원회별'!$A14,'15년일입'!$B$7:$B$703,'15년위원회별'!$C14) -> 0 | P14: =SUMIFS('15년일출'!$G$7:$G$1362,'15년일출'!$A$7:$A$1362,'15년위원회별'!$A14,'15년일출'!$B$7:$B$1362,'15년위원회별'!$C14) -> 0 | Q14: =SUMIFS('15년일출'!$H$7:$H$1362,'15년일출'!$A$7:$A$1362,'15년위원회별'!$A14,'15년일출'!$B$7:$B$1362,'15년위원회별'!$C14) -> 0 | R14: =SUMIFS('15년일출'!$I$7:$I$1362,'15년일출'!$A$7:$A$1362,'15년위원회별'!$A14,'15년일출'!$B$7:$B$1362,'15년위원회별'!$C14) -> 0 | S14: =SUMIFS('15년일출'!$J$7:$J$1362,'15년일출'!$A$7:$A$1362,'15년위원회별'!$A14,'15년일출'!$B$7:$B$1362,'15년위원회별'!$C14) -> 0 | T14: =SUMIFS('15년일출'!$T$7:$T$1362,'15년일출'!$A$7:$A$1362,'15년위원회별'!$A14,'15년일출'!$B$7:$B$1362,'15년위원회별'!$C14) -> 0 | U14: =SUMIFS('15년일출'!$U$7:$U$1362,'15년일출'!$A$7:$A$1362,'15년위원회별'!$A14,'15년일출'!$B$7:$B$1362,'15년위원회별'!$C14) -> 0 | V14: =SUMIFS('15년일출'!$K$7:$K$1362,'15년일출'!$A$7:$A$1362,'15년위원회별'!$A14,'15년일출'!$B$7:$B$1362,'15년위원회별'!$C14) -> 0 | W14: =SUMIFS('15년일출'!$L$7:$L$1362,'15년일출'!$A$7:$A$1362,'15년위원회별'!$A14,'15년일출'!$B$7:$B$1362,'15년위원회별'!$C14) -> 0 | X14: =SUMIFS('15년일출'!$M$7:$M$1362,'15년일출'!$A$7:$A$1362,'15년위원회별'!$A14,'15년일출'!$B$7:$B$1362,'15년위원회별'!$C14) -> 0 | Y14: =SUMIFS('15년일출'!$Y$7:$Y$1362,'15년일출'!$A$7:$A$1362,'15년위원회별'!$A14,'15년일출'!$B$7:$B$1362,'15년위원회별'!$C14) -> 0 | Z14: =SUMIFS('15년일출'!$Z$7:$Z$1362,'15년일출'!$A$7:$A$1362,'15년위원회별'!$A14,'15년일출'!$B$7:$B$1362,'15년위원회별'!$C14) -> 0 | AB14: =IF(H14=T14,"OK","@@") -> OK | AC14: =T14-H14 -> 0
B15: 경제과학기술위원회 | D15: =SUM(D16) -> 0 | E15: =SUM(E16) -> 0 | F15: =SUM(F16) -> 0 | G15: =SUM(G16) -> 0 | H15: =SUM(H16) -> 0 | I15: =SUM(I16) -> 0 | J15: =SUM(J16) -> 0 | K15: =SUM(K16) -> 0 | ... N15: =SUM(N16) -> 0 | P15: =SUM(P16) -> 48280800 | Q15: =SUM(Q16) -> -1420000 | R15: =SUM(R16) -> 24020837 | S15: =SUM(S16) -> 70881637 | T15: =SUM(T16) -> 0 | U15: =SUM(U16) -> 22600837 | V15: =SUM(V16) -> 0 | W15: =SUM(W16) -> 0 | ... Z15: =SUM(Z16) -> 0 | AB15: =IF(H15=T15,"OK","@@") -> OK | AC15: =T15-H15 -> 0
A16: 경제과학기술위원회 | C16: 경제실 | D16: =SUMIFS('15년일입'!$G$7:$G$703,'15년일입'!$A$7:$A$703,'15년위원회별'!$A16,'15년일입'!$B$7:$B$703,'15년위원회별'!$C16) -> 0 | E16: =SUMIFS('15년일입'!$H$7:$H$703,'15년일입'!$A$7:$A$703,'15년위원회별'!$A16,'15년일입'!$B$7:$B$703,'15년위원회별'!$C16) -> 0 | F16: =SUMIFS('15년일입'!$I$7:$I$703,'15년일입'!$A$7:$A$703,'15년위원회별'!$A16,'15년일입'!$B$7:$B$703,'15년위원회별'!$C16) -> 0 | G16: =SUMIFS('15년일입'!$J$7:$J$703,'15년일입'!$A$7:$A$703,'15년위원회별'!$A16,'15년일입'!$B$7:$B$703,'15년위원회별'!$C16) -> 0 | H16: =SUMIFS('15년일입'!$T$7:$T$703,'15년일입'!$A$7:$A$703,'15년위원회별'!$A16,'15년일입'!$B$7:$B$703,'15년위원회별'!$C16) -> 0 | I16: =SUMIFS('15년일입'!$U$7:$U$703,'15년일입'!$A$7:$A$703,'15년위원회별'!$A16,'15년일입'!$B$7:$B$703,'15년위원회별'!$C16) -> 0 | J16: =SUMIFS('15년일입'!$K$7:$K$703,'15년일입'!$A$7:$A$703,'15년위원회별'!$A16,'15년일입'!$B$7:$B$703,'15년위원회별'!$C16) -> 0 | K16: =SUMIFS('15년일입'!$L$7:$L$703,'15년일입'!$A$7:$A$703,'15년위원회별'!$A16,'15년일입'!$B$7:$B$703,'15년위원회별'!$C16) -> 0 | L16: =SUMIFS('15년일입'!$M$7:$M$703,'15년일입'!$A$7:$A$703,'15년위원회별'!$A16,'15년일입'!$B$7:$B$703,'15년위원회별'!$C16) -> 0 | M16: =SUMIFS('15년일입'!$Y$7:$Y$703,'15년일입'!$A$7:$A$703,'15년위원회별'!$A16,'15년일입'!$B$7:$B$703,'15년위원회별'!$C16) -> 0 | N16: =SUMIFS('15년일입'!$Z$7:$Z$703,'15년일입'!$A$7:$A$703,'15년위원회별'!$A16,'15년일입'!$B$7:$B$703,'15년위원회별'!$C16) -> 0 | P16: =SUMIFS('15년일출'!$G$7:$G$1362,'15년일출'!$A$7:$A$1362,'15년위원회별'!$A16,'15년일출'!$B$7:$B$1362,'15년위원회별'!$C16) -> 48280800 | Q16: =SUMIFS('15년일출'!$H$7:$H$1362,'15년일출'!$A$7:$A$1362,'15년위원회별'!$A16,'15년일출'!$B$7:$B$1362,'15년위원회별'!$C16) -> -1420000 | R16: =SUMIFS('15년일출'!$I$7:$I$1362,'15년일출'!$A$7:$A$1362,'15년위원회별'!$A16,'15년일출'!$B$7:$B$1362,'15년위원회별'!$C16) -> 24020837 | S16: =SUMIFS('15년일출'!$J$7:$J$1362,'15년일출'!$A$7:$A$1362,'15년위원회별'!$A16,'15년일출'!$B$7:$B$1362,'15년위원회별'!$C16) -> 70881637 | T16: =SUMIFS('15년일출'!$T$7:$T$1362,'15년일출'!$A$7:$A$1362,'15년위원회별'!$A16,'15년일출'!$B$7:$B$1362,'15년위원회별'!$C16) -> 0 | U16: =SUMIFS('15년일출'!$U$7:$U$1362,'15년일출'!$A$7:$A$1362,'15년위원회별'!$A16,'15년일출'!$B$7:$B$1362,'15년위원회별'!$C16) -> 22600837 | V16: =SUMIFS('15년일출'!$K$7:$K$1362,'15년일출'!$A$7:$A$1362,'15년위원회별'!$A16,'15년일출'!$B$7:$B$1362,'15년위원회별'!$C16) -> 0 | W16: =SUMIFS('15년일출'!$L$7:$L$1362,'15년일출'!$A$7:$A$1362,'15년위원회별'!$A16,'15년일출'!$B$7:$B$1362,'15년위원회별'!$C16) -> 0 | X16: =SUMIFS('15년일출'!$M$7:$M$1362,'15년일출'!$A$7:$A$1362,'15년위원회별'!$A16,'15년일출'!$B$7:$B$1362,'15년위원회별'!$C16) -> 48280800 | Y16: =SUMIFS('15년일출'!$Y$7:$Y$1362,'15년일출'!$A$7:$A$1362,'15년위원회별'!$A16,'15년일출'!$B$7:$B$1362,'15년위원회별'!$C16) -> 0 | Z16: =SUMIFS('15년일출'!$Z$7:$Z$1362,'15년일출'!$A$7:$A$1362,'15년위원회별'!$A16,'15년일출'!$B$7:$B$1362,'15년위원회별'!$C16) -> 0 | AB16: =IF(H16=T16,"OK","@@") -> OK | AC16: =T16-H16 -> 0
B17: 안전행정위원회 | D17: =SUM(D18:D21) -> 0 | E17: =SUM(E18:E21) -> 0 | F17: =SUM(F18:F21) -> 0 | G17: =SUM(G18:G21) -> 0 | H17: =SUM(H18:H21) -> 0 | I17: =SUM(I18:I21) -> 0 | J17: =SUM(J18:J21) -> 0 | K17: =SUM(K18:K21) -> 0 | ... N17: =SUM(N18:N21) -> 0 | P17: =SUM(P18:P21) -> 9331662 | Q17: =SUM(Q18:Q21) -> -30000 | R17: =SUM(R18:R21) -> 7989000 | S17: =SUM(S18:S21) -> 17290662 | T17: =SUM(T18:T21) -> 0 | U17: =SUM(U18:U21) -> 7959000 | V17: =SUM(V18:V21) -> 0 | W17: =SUM(W18:W21) -> 0 | ... Z17: =SUM(Z18:Z21) -> 0 | AB17: =IF(H17=T17,"OK","@@") -> OK | AC17: =T17-H17 -> 0
A18: 안전행정위원회 | C18: 자치행정국 | D18: =SUMIFS('15년일입'!$G$7:$G$703,'15년일입'!$A$7:$A$703,'15년위원회별'!$A18,'15년일입'!$B$7:$B$703,'15년위원회별'!$C18) -> 0 | E18: =SUMIFS('15년일입'!$H$7:$H$703,'15년일입'!$A$7:$A$703,'15년위원회별'!$A18,'15년일입'!$B$7:$B$703,'15년위원회별'!$C18) -> 0 | F18: =SUMIFS('15년일입'!$I$7:$I$703,'15년일입'!$A$7:$A$703,'15년위원회별'!$A18,'15년일입'!$B$7:$B$703,'15년위원회별'!$C18) -> 0 | G18: =SUMIFS('15년일입'!$J$7:$J$703,'15년일입'!$A$7:$A$703,'15년위원회별'!$A18,'15년일입'!$B$7:$B$703,'15년위원회별'!$C18) -> 0 | H18: =SUMIFS('15년일입'!$T$7:$T$703,'15년일입'!$A$7:$A$703,'15년위원회별'!$A18,'15년일입'!$B$7:$B$703,'15년위원회별'!$C18) -> 0 | I18: =SUMIFS('15년일입'!$U$7:$U$703,'15년일입'!$A$7:$A$703,'15년위원회별'!$A18,'15년일입'!$B$7:$B$703,'15년위원회별'!$C18) -> 0 | J18: =SUMIFS('15년일입'!$K$7:$K$703,'15년일입'!$A$7:$A$703,'15년위원회별'!$A18,'15년일입'!$B$7:$B$703,'15년위원회별'!$C18) -> 0 | K18: =SUMIFS('15년일입'!$L$7:$L$703,'15년일입'!$A$7:$A$703,'15년위원회별'!$A18,'15년일입'!$B$7:$B$703,'15년위원회별'!$C18) -> 0 | L18: =SUMIFS('15년일입'!$M$7:$M$703,'15년일입'!$A$7:$A$703,'15년위원회별'!$A18,'15년일입'!$B$7:$B$703,'15년위원회별'!$C18) -> 0 | M18: =SUMIFS('15년일입'!$Y$7:$Y$703,'15년일입'!$A$7:$A$703,'15년위원회별'!$A18,'15년일입'!$B$7:$B$703,'15년위원회별'!$C18) -> 0 | N18: =SUMIFS('15년일입'!$Z$7:$Z$703,'15년일입'!$A$7:$A$703,'15년위원회별'!$A18,'15년일입'!$B$7:$B$703,'15년위원회별'!$C18) -> 0 | P18: =SUMIFS('15년일출'!$G$7:$G$1362,'15년일출'!$A$7:$A$1362,'15년위원회별'!$A18,'15년일출'!$B$7:$B$1362,'15년위원회별'!$C18) -> 1405000 | Q18: =SUMIFS('15년일출'!$H$7:$H$1362,'15년일출'!$A$7:$A$1362,'15년위원회별'!$A18,'15년일출'!$B$7:$B$1362,'15년위원회별'!$C18) -> 0 | R18: =SUMIFS('15년일출'!$I$7:$I$1362,'15년일출'!$A$7:$A$1362,'15년위원회별'!$A18,'15년일출'!$B$7:$B$1362,'15년위원회별'!$C18) -> 255000 | S18: =SUMIFS('15년일출'!$J$7:$J$1362,'15년일출'!$A$7:$A$1362,'15년위원회별'!$A18,'15년일출'!$B$7:$B$1362,'15년위원회별'!$C18) -> 1660000 | T18: =SUMIFS('15년일출'!$T$7:$T$1362,'15년일출'!$A$7:$A$1362,'15년위원회별'!$A18,'15년일출'!$B$7:$B$1362,'15년위원회별'!$C18) -> 0 | U18: =SUMIFS('15년일출'!$U$7:$U$1362,'15년일출'!$A$7:$A$1362,'15년위원회별'!$A18,'15년일출'!$B$7:$B$1362,'15년위원회별'!$C18) -> 255000 | V18: =SUMIFS('15년일출'!$K$7:$K$1362,'15년일출'!$A$7:$A$1362,'15년위원회별'!$A18,'15년일출'!$B$7:$B$1362,'15년위원회별'!$C18) -> 0 | W18: =SUMIFS('15년일출'!$L$7:$L$1362,'15년일출'!$A$7:$A$1362,'15년위원회별'!$A18,'15년일출'!$B$7:$B$1362,'15년위원회별'!$C18) -> 0 | X18: =SUMIFS('15년일출'!$M$7:$M$1362,'15년일출'!$A$7:$A$1362,'15년위원회별'!$A18,'15년일출'!$B$7:$B$1362,'15년위원회별'!$C18) -> 1405000 | Y18: =SUMIFS('15년일출'!$Y$7:$Y$1362,'15년일출'!$A$7:$A$1362,'15년위원회별'!$A18,'15년일출'!$B$7:$B$1362,'15년위원회별'!$C18) -> 0 | Z18: =SUMIFS('15년일출'!$Z$7:$Z$1362,'15년일출'!$A$7:$A$1362,'15년위원회별'!$A18,'15년일출'!$B$7:$B$1362,'15년위원회별'!$C18) -> 0 | AB18: =IF(H18=T18,"OK","@@") -> OK | AC18: =T18-H18 -> 0
A19: 안전행정위원회 | C19: 재난안전본부 | D19: =SUMIFS('15년일입'!$G$7:$G$703,'15년일입'!$A$7:$A$703,'15년위원회별'!$A19,'15년일입'!$B$7:$B$703,'15년위원회별'!$C19) -> 0 | E19: =SUMIFS('15년일입'!$H$7:$H$703,'15년일입'!$A$7:$A$703,'15년위원회별'!$A19,'15년일입'!$B$7:$B$703,'15년위원회별'!$C19) -> 0 | F19: =SUMIFS('15년일입'!$I$7:$I$703,'15년일입'!$A$7:$A$703,'15년위원회별'!$A19,'15년일입'!$B$7:$B$703,'15년위원회별'!$C19) -> 0 | G19: =SUMIFS('15년일입'!$J$7:$J$703,'15년일입'!$A$7:$A$703,'15년위원회별'!$A19,'15년일입'!$B$7:$B$703,'15년위원회별'!$C19) -> 0 | H19: =SUMIFS('15년일입'!$T$7:$T$703,'15년일입'!$A$7:$A$703,'15년위원회별'!$A19,'15년일입'!$B$7:$B$703,'15년위원회별'!$C19) -> 0 | I19: =SUMIFS('15년일입'!$U$7:$U$703,'15년일입'!$A$7:$A$703,'15년위원회별'!$A19,'15년일입'!$B$7:$B$703,'15년위원회별'!$C19) -> 0 | J19: =SUMIFS('15년일입'!$K$7:$K$703,'15년일입'!$A$7:$A$703,'15년위원회별'!$A19,'15년일입'!$B$7:$B$703,'15년위원회별'!$C19) -> 0 | K19: =SUMIFS('15년일입'!$L$7:$L$703,'15년일입'!$A$7:$A$703,'15년위원회별'!$A19,'15년일입'!$B$7:$B$703,'15년위원회별'!$C19) -> 0 | L19: =SUMIFS('15년일입'!$M$7:$M$703,'15년일입'!$A$7:$A$703,'15년위원회별'!$A19,'15년일입'!$B$7:$B$703,'15년위원회별'!$C19) -> 0 | M19: =SUMIFS('15년일입'!$Y$7:$Y$703,'15년일입'!$A$7:$A$703,'15년위원회별'!$A19,'15년일입'!$B$7:$B$703,'15년위원회별'!$C19) -> 0 | N19: =SUMIFS('15년일입'!$Z$7:$Z$703,'15년일입'!$A$7:$A$703,'15년위원회별'!$A19,'15년일입'!$B$7:$B$703,'15년위원회별'!$C19) -> 0 | P19: =SUMIFS('15년일출'!$G$7:$G$1362,'15년일출'!$A$7:$A$1362,'15년위원회별'!$A19,'15년일출'!$B$7:$B$1362,'15년위원회별'!$C19) -> 6254140 | Q19: =SUMIFS('15년일출'!$H$7:$H$1362,'15년일출'!$A$7:$A$1362,'15년위원회별'!$A19,'15년일출'!$B$7:$B$1362,'15년위원회별'!$C19) -> 0 | R19: =SUMIFS('15년일출'!$I$7:$I$1362,'15년일출'!$A$7:$A$1362,'15년위원회별'!$A19,'15년일출'!$B$7:$B$1362,'15년위원회별'!$C19) -> 7604000 | S19: =SUMIFS('15년일출'!$J$7:$J$1362,'15년일출'!$A$7:$A$1362,'15년위원회별'!$A19,'15년일출'!$B$7:$B$1362,'15년위원회별'!$C19) -> 13858140 | T19: =SUMIFS('15년일출'!$T$7:$T$1362,'15년일출'!$A$7:$A$1362,'15년위원회별'!$A19,'15년일출'!$B$7:$B$1362,'15년위원회별'!$C19) -> 0 | U19: =SUMIFS('15년일출'!$U$7:$U$1362,'15년일출'!$A$7:$A$1362,'15년위원회별'!$A19,'15년일출'!$B$7:$B$1362,'15년위원회별'!$C19) -> 7604000 | V19: =SUMIFS('15년일출'!$K$7:$K$1362,'15년일출'!$A$7:$A$1362,'15년위원회별'!$A19,'15년일출'!$B$7:$B$1362,'15년위원회별'!$C19) -> 0 | W19: =SUMIFS('15년일출'!$L$7:$L$1362,'15년일출'!$A$7:$A$1362,'15년위원회별'!$A19,'15년일출'!$B$7:$B$1362,'15년위원회별'!$C19) -> 0 | X19: =SUMIFS('15년일출'!$M$7:$M$1362,'15년일출'!$A$7:$A$1362,'15년위원회별'!$A19,'15년일출'!$B$7:$B$1362,'15년위원회별'!$C19) -> 6254140 | Y19: =SUMIFS('15년일출'!$Y$7:$Y$1362,'15년일출'!$A$7:$A$1362,'15년위원회별'!$A19,'15년일출'!$B$7:$B$1362,'15년위원회별'!$C19) -> 0 | Z19: =SUMIFS('15년일출'!$Z$7:$Z$1362,'15년일출'!$A$7:$A$1362,'15년위원회별'!$A19,'15년일출'!$B$7:$B$1362,'15년위원회별'!$C19) -> 0 | AB19: =IF(H19=T19,"OK","@@") -> OK | AC19: =T19-H19 -> 0
A20: 안전행정위원회 | C20: 균형발전기획실 | D20: =SUMIFS('15년일입'!$G$7:$G$703,'15년일입'!$A$7:$A$703,'15년위원회별'!$A20,'15년일입'!$B$7:$B$703,'15년위원회별'!$C20) -> 0 | E20: =SUMIFS('15년일입'!$H$7:$H$703,'15년일입'!$A$7:$A$703,'15년위원회별'!$A20,'15년일입'!$B$7:$B$703,'15년위원회별'!$C20) -> 0 | F20: =SUMIFS('15년일입'!$I$7:$I$703,'15년일입'!$A$7:$A$703,'15년위원회별'!$A20,'15년일입'!$B$7:$B$703,'15년위원회별'!$C20) -> 0 | G20: =SUMIFS('15년일입'!$J$7:$J$703,'15년일입'!$A$7:$A$703,'15년위원회별'!$A20,'15년일입'!$B$7:$B$703,'15년위원회별'!$C20) -> 0 | H20: =SUMIFS('15년일입'!$T$7:$T$703,'15년일입'!$A$7:$A$703,'15년위원회별'!$A20,'15년일입'!$B$7:$B$703,'15년위원회별'!$C20) -> 0 | I20: =SUMIFS('15년일입'!$U$7:$U$703,'15년일입'!$A$7:$A$703,'15년위원회별'!$A20,'15년일입'!$B$7:$B$703,'15년위원회별'!$C20) -> 0 | J20: =SUMIFS('15년일입'!$K$7:$K$703,'15년일입'!$A$7:$A$703,'15년위원회별'!$A20,'15년일입'!$B$7:$B$703,'15년위원회별'!$C20) -> 0 | K20: =SUMIFS('15년일입'!$L$7:$L$703,'15년일입'!$A$7:$A$703,'15년위원회별'!$A20,'15년일입'!$B$7:$B$703,'15년위원회별'!$C20) -> 0 | L20: =SUMIFS('15년일입'!$M$7:$M$703,'15년일입'!$A$7:$A$703,'15년위원회별'!$A20,'15년일입'!$B$7:$B$703,'15년위원회별'!$C20) -> 0 | M20: =SUMIFS('15년일입'!$Y$7:$Y$703,'15년일입'!$A$7:$A$703,'15년위원회별'!$A20,'15년일입'!$B$7:$B$703,'15년위원회별'!$C20) -> 0 | N20: =SUMIFS('15년일입'!$Z$7:$Z$703,'15년일입'!$A$7:$A$703,'15년위원회별'!$A20,'15년일입'!$B$7:$B$703,'15년위원회별'!$C20) -> 0 | P20: =SUMIFS('15년일출'!$G$7:$G$1362,'15년일출'!$A$7:$A$1362,'15년위원회별'!$A20,'15년일출'!$B$7:$B$1362,'15년위원회별'!$C20) -> 300000 | Q20: =SUMIFS('15년일출'!$H$7:$H$1362,'15년일출'!$A$7:$A$1362,'15년위원회별'!$A20,'15년일출'!$B$7:$B$1362,'15년위원회별'!$C20) -> 0 | R20: =SUMIFS('15년일출'!$I$7:$I$1362,'15년일출'!$A$7:$A$1362,'15년위원회별'!$A20,'15년일출'!$B$7:$B$1362,'15년위원회별'!$C20) -> 100000 | S20: =SUMIFS('15년일출'!$J$7:$J$1362,'15년일출'!$A$7:$A$1362,'15년위원회별'!$A20,'15년일출'!$B$7:$B$1362,'15년위원회별'!$C20) -> 400000 | T20: =SUMIFS('15년일출'!$T$7:$T$1362,'15년일출'!$A$7:$A$1362,'15년위원회별'!$A20,'15년일출'!$B$7:$B$1362,'15년위원회별'!$C20) -> 0 | U20: =SUMIFS('15년일출'!$U$7:$U$1362,'15년일출'!$A$7:$A$1362,'15년위원회별'!$A20,'15년일출'!$B$7:$B$1362,'15년위원회별'!$C20) -> 100000 | V20: =SUMIFS('15년일출'!$K$7:$K$1362,'15년일출'!$A$7:$A$1362,'15년위원회별'!$A20,'15년일출'!$B$7:$B$1362,'15년위원회별'!$C20) -> 0 | W20: =SUMIFS('15년일출'!$L$7:$L$1362,'15년일출'!$A$7:$A$1362,'15년위원회별'!$A20,'15년일출'!$B$7:$B$1362,'15년위원회별'!$C20) -> 0 | X20: =SUMIFS('15년일출'!$M$7:$M$1362,'15년일출'!$A$7:$A$1362,'15년위원회별'!$A20,'15년일출'!$B$7:$B$1362,'15년위원회별'!$C20) -> 300000 | Y20: =SUMIFS('15년일출'!$Y$7:$Y$1362,'15년일출'!$A$7:$A$1362,'15년위원회별'!$A20,'15년일출'!$B$7:$B$1362,'15년위원회별'!$C20) -> 0 | Z20: =SUMIFS('15년일출'!$Z$7:$Z$1362,'15년일출'!$A$7:$A$1362,'15년위원회별'!$A20,'15년일출'!$B$7:$B$1362,'15년위원회별'!$C20) -> 0 | AB20: =IF(H20=T20,"OK","@@") -> OK | AC20: =T20-H20 -> 0
A21: 안전행정위원회 | C21: 인재개발원 | D21: =SUMIFS('15년일입'!$G$7:$G$703,'15년일입'!$A$7:$A$703,'15년위원회별'!$A21,'15년일입'!$B$7:$B$703,'15년위원회별'!$C21) -> 0 | E21: =SUMIFS('15년일입'!$H$7:$H$703,'15년일입'!$A$7:$A$703,'15년위원회별'!$A21,'15년일입'!$B$7:$B$703,'15년위원회별'!$C21) -> 0 | F21: =SUMIFS('15년일입'!$I$7:$I$703,'15년일입'!$A$7:$A$703,'15년위원회별'!$A21,'15년일입'!$B$7:$B$703,'15년위원회별'!$C21) -> 0 | G21: =SUMIFS('15년일입'!$J$7:$J$703,'15년일입'!$A$7:$A$703,'15년위원회별'!$A21,'15년일입'!$B$7:$B$703,'15년위원회별'!$C21) -> 0 | H21: =SUMIFS('15년일입'!$T$7:$T$703,'15년일입'!$A$7:$A$703,'15년위원회별'!$A21,'15년일입'!$B$7:$B$703,'15년위원회별'!$C21) -> 0 | I21: =SUMIFS('15년일입'!$U$7:$U$703,'15년일입'!$A$7:$A$703,'15년위원회별'!$A21,'15년일입'!$B$7:$B$703,'15년위원회별'!$C21) -> 0 | J21: =SUMIFS('15년일입'!$K$7:$K$703,'15년일입'!$A$7:$A$703,'15년위원회별'!$A21,'15년일입'!$B$7:$B$703,'15년위원회별'!$C21) -> 0 | K21: =SUMIFS('15년일입'!$L$7:$L$703,'15년일입'!$A$7:$A$703,'15년위원회별'!$A21,'15년일입'!$B$7:$B$703,'15년위원회별'!$C21) -> 0 | L21: =SUMIFS('15년일입'!$M$7:$M$703,'15년일입'!$A$7:$A$703,'15년위원회별'!$A21,'15년일입'!$B$7:$B$703,'15년위원회별'!$C21) -> 0 | M21: =SUMIFS('15년일입'!$Y$7:$Y$703,'15년일입'!$A$7:$A$703,'15년위원회별'!$A21,'15년일입'!$B$7:$B$703,'15년위원회별'!$C21) -> 0 | N21: =SUMIFS('15년일입'!$Z$7:$Z$703,'15년일입'!$A$7:$A$703,'15년위원회별'!$A21,'15년일입'!$B$7:$B$703,'15년위원회별'!$C21) -> 0 | P21: =SUMIFS('15년일출'!$G$7:$G$1362,'15년일출'!$A$7:$A$1362,'15년위원회별'!$A21,'15년일출'!$B$7:$B$1362,'15년위원회별'!$C21) -> 1372522 | Q21: =SUMIFS('15년일출'!$H$7:$H$1362,'15년일출'!$A$7:$A$1362,'15년위원회별'!$A21,'15년일출'!$B$7:$B$1362,'15년위원회별'!$C21) -> -30000 | R21: =SUMIFS('15년일출'!$I$7:$I$1362,'15년일출'!$A$7:$A$1362,'15년위원회별'!$A21,'15년일출'!$B$7:$B$1362,'15년위원회별'!$C21) -> 30000 | S21: =SUMIFS('15년일출'!$J$7:$J$1362,'15년일출'!$A$7:$A$1362,'15년위원회별'!$A21,'15년일출'!$B$7:$B$1362,'15년위원회별'!$C21) -> 1372522 | T21: =SUMIFS('15년일출'!$T$7:$T$1362,'15년일출'!$A$7:$A$1362,'15년위원회별'!$A21,'15년일출'!$B$7:$B$1362,'15년위원회별'!$C21) -> 0 | U21: =SUMIFS('15년일출'!$U$7:$U$1362,'15년일출'!$A$7:$A$1362,'15년위원회별'!$A21,'15년일출'!$B$7:$B$1362,'15년위원회별'!$C21) -> 0 | V21: =SUMIFS('15년일출'!$K$7:$K$1362,'15년일출'!$A$7:$A$1362,'15년위원회별'!$A21,'15년일출'!$B$7:$B$1362,'15년위원회별'!$C21) -> 0 | W21: =SUMIFS('15년일출'!$L$7:$L$1362,'15년일출'!$A$7:$A$1362,'15년위원회별'!$A21,'15년일출'!$B$7:$B$1362,'15년위원회별'!$C21) -> 0 | X21: =SUMIFS('15년일출'!$M$7:$M$1362,'15년일출'!$A$7:$A$1362,'15년위원회별'!$A21,'15년일출'!$B$7:$B$1362,'15년위원회별'!$C21) -> 1372522 | Y21: =SUMIFS('15년일출'!$Y$7:$Y$1362,'15년일출'!$A$7:$A$1362,'15년위원회별'!$A21,'15년일출'!$B$7:$B$1362,'15년위원회별'!$C21) -> 0 | Z21: =SUMIFS('15년일출'!$Z$7:$Z$1362,'15년일출'!$A$7:$A$1362,'15년위원회별'!$A21,'15년일출'!$B$7:$B$1362,'15년위원회별'!$C21) -> 0 | AB21: =IF(H21=T21,"OK","@@") -> OK | AC21: =T21-H21 -> 0
B22: 문화체육관광위원회 | D22: =SUM(D23) -> 470000 | E22: =SUM(E23) -> -11000 | F22: =SUM(F23) -> 591000 | G22: =SUM(G23) -> 1050000 | H22: =SUM(H23) -> 580000 | I22: =SUM(I23) -> 0 | J22: =SUM(J23) -> 0 | K22: =SUM(K23) -> 0 | ... N22: =SUM(N23) -> 0 | P22: =SUM(P23) -> 86948810 | Q22: =SUM(Q23) -> -9714234 | R22: =SUM(R23) -> 8544000 | S22: =SUM(S23) -> 85778576 | T22: =SUM(T23) -> 580000 | U22: =SUM(U23) -> -1750234 | V22: =SUM(V23) -> 0 | W22: =SUM(W23) -> 0 | ... Z22: =SUM(Z23) -> 0 | AB22: =IF(H22=T22,"OK","@@") -> OK | AC22: =T22-H22 -> 0
A23: 문화체육관광위원회 | C23: 문화체육관광국 | D23: =SUMIFS('15년일입'!$G$7:$G$703,'15년일입'!$A$7:$A$703,'15년위원회별'!$A23,'15년일입'!$B$7:$B$703,'15년위원회별'!$C23) -> 470000 | E23: =SUMIFS('15년일입'!$H$7:$H$703,'15년일입'!$A$7:$A$703,'15년위원회별'!$A23,'15년일입'!$B$7:$B$703,'15년위원회별'!$C23) -> -11000 | F23: =SUMIFS('15년일입'!$I$7:$I$703,'15년일입'!$A$7:$A$703,'15년위원회별'!$A23,'15년일입'!$B$7:$B$703,'15년위원회별'!$C23) -> 591000 | G23: =SUMIFS('15년일입'!$J$7:$J$703,'15년일입'!$A$7:$A$703,'15년위원회별'!$A23,'15년일입'!$B$7:$B$703,'15년위원회별'!$C23) -> 1050000 | H23: =SUMIFS('15년일입'!$T$7:$T$703,'15년일입'!$A$7:$A$703,'15년위원회별'!$A23,'15년일입'!$B$7:$B$703,'15년위원회별'!$C23) -> 580000 | I23: =SUMIFS('15년일입'!$U$7:$U$703,'15년일입'!$A$7:$A$703,'15년위원회별'!$A23,'15년일입'!$B$7:$B$703,'15년위원회별'!$C23) -> 0 | J23: =SUMIFS('15년일입'!$K$7:$K$703,'15년일입'!$A$7:$A$703,'15년위원회별'!$A23,'15년일입'!$B$7:$B$703,'15년위원회별'!$C23) -> 0 | K23: =SUMIFS('15년일입'!$L$7:$L$703,'15년일입'!$A$7:$A$703,'15년위원회별'!$A23,'15년일입'!$B$7:$B$703,'15년위원회별'!$C23) -> 0 | L23: =SUMIFS('15년일입'!$M$7:$M$703,'15년일입'!$A$7:$A$703,'15년위원회별'!$A23,'15년일입'!$B$7:$B$703,'15년위원회별'!$C23) -> 470000 | M23: =SUMIFS('15년일입'!$Y$7:$Y$703,'15년일입'!$A$7:$A$703,'15년위원회별'!$A23,'15년일입'!$B$7:$B$703,'15년위원회별'!$C23) -> 0 | N23: =SUMIFS('15년일입'!$Z$7:$Z$703,'15년일입'!$A$7:$A$703,'15년위원회별'!$A23,'15년일입'!$B$7:$B$703,'15년위원회별'!$C23) -> 0 | P23: =SUMIFS('15년일출'!$G$7:$G$1362,'15년일출'!$A$7:$A$1362,'15년위원회별'!$A23,'15년일출'!$B$7:$B$1362,'15년위원회별'!$C23) -> 86948810 | Q23: =SUMIFS('15년일출'!$H$7:$H$1362,'15년일출'!$A$7:$A$1362,'15년위원회별'!$A23,'15년일출'!$B$7:$B$1362,'15년위원회별'!$C23) -> -9714234 | R23: =SUMIFS('15년일출'!$I$7:$I$1362,'15년일출'!$A$7:$A$1362,'15년위원회별'!$A23,'15년일출'!$B$7:$B$1362,'15년위원회별'!$C23) -> 8544000 | S23: =SUMIFS('15년일출'!$J$7:$J$1362,'15년일출'!$A$7:$A$1362,'15년위원회별'!$A23,'15년일출'!$B$7:$B$1362,'15년위원회별'!$C23) -> 85778576 | T23: =SUMIFS('15년일출'!$T$7:$T$1362,'15년일출'!$A$7:$A$1362,'15년위원회별'!$A23,'15년일출'!$B$7:$B$1362,'15년위원회별'!$C23) -> 580000 | U23: =SUMIFS('15년일출'!$U$7:$U$1362,'15년일출'!$A$7:$A$1362,'15년위원회별'!$A23,'15년일출'!$B$7:$B$1362,'15년위원회별'!$C23) -> -1750234 | V23: =SUMIFS('15년일출'!$K$7:$K$1362,'15년일출'!$A$7:$A$1362,'15년위원회별'!$A23,'15년일출'!$B$7:$B$1362,'15년위원회별'!$C23) -> 0 | W23: =SUMIFS('15년일출'!$L$7:$L$1362,'15년일출'!$A$7:$A$1362,'15년위원회별'!$A23,'15년일출'!$B$7:$B$1362,'15년위원회별'!$C23) -> 0 | X23: =SUMIFS('15년일출'!$M$7:$M$1362,'15년일출'!$A$7:$A$1362,'15년위원회별'!$A23,'15년일출'!$B$7:$B$1362,'15년위원회별'!$C23) -> 86948810 | Y23: =SUMIFS('15년일출'!$Y$7:$Y$1362,'15년일출'!$A$7:$A$1362,'15년위원회별'!$A23,'15년일출'!$B$7:$B$1362,'15년위원회별'!$C23) -> 0 | Z23: =SUMIFS('15년일출'!$Z$7:$Z$1362,'15년일출'!$A$7:$A$1362,'15년위원회별'!$A23,'15년일출'!$B$7:$B$1362,'15년위원회별'!$C23) -> 0 | AB23: =IF(H23=T23,"OK","@@") -> OK | AC23: =T23-H23 -> 0
B24: 농정해양위원회 | D24: =SUM(D25:D27) -> 48768016 | E24: =SUM(E25:E27) -> -1939060 | F24: =SUM(F25:F27) -> 24831746 | G24: =SUM(G25:G27) -> 71660702 | H24: =SUM(H25:H27) -> 19909686 | I24: =SUM(I25:I27) -> 2983000 | J24: =SUM(J25:J27) -> 0 | K24: =SUM(K25:K27) -> 0 | ... N24: =SUM(N25:N27) -> 0 | P24: =SUM(P25:P27) -> 55144872 | Q24: =SUM(Q25:Q27) -> -5660736 | R24: =SUM(R25:R27) -> 57349414 | S24: =SUM(S25:S27) -> 106833550 | T24: =SUM(T25:T27) -> 19916864 | U24: =SUM(U25:U27) -> 32045414 | V24: =SUM(V25:V27) -> 0 | W24: =SUM(W25:W27) -> 0 | ... Z24: =SUM(Z25:Z27) -> 0 | AB24: =IF(H24=T24,"OK","@@") -> @@ | AC24: =T24-H24 -> 7178
A25: 농정해양위원회 | C25: 농정해양국 | D25: =SUMIFS('15년일입'!$G$7:$G$703,'15년일입'!$A$7:$A$703,'15년위원회별'!$A25,'15년일입'!$B$7:$B$703,'15년위원회별'!$C25) -> 15968631 | E25: =SUMIFS('15년일입'!$H$7:$H$703,'15년일입'!$A$7:$A$703,'15년위원회별'!$A25,'15년일입'!$B$7:$B$703,'15년위원회별'!$C25) -> -1851780 | F25: =SUMIFS('15년일입'!$I$7:$I$703,'15년일입'!$A$7:$A$703,'15년위원회별'!$A25,'15년일입'!$B$7:$B$703,'15년위원회별'!$C25) -> 3295648 | G25: =SUMIFS('15년일입'!$J$7:$J$703,'15년일입'!$A$7:$A$703,'15년위원회별'!$A25,'15년일입'!$B$7:$B$703,'15년위원회별'!$C25) -> 17412499 | H25: =SUMIFS('15년일입'!$T$7:$T$703,'15년일입'!$A$7:$A$703,'15년위원회별'!$A25,'15년일입'!$B$7:$B$703,'15년위원회별'!$C25) -> -556132 | I25: =SUMIFS('15년일입'!$U$7:$U$703,'15년일입'!$A$7:$A$703,'15년위원회별'!$A25,'15년일입'!$B$7:$B$703,'15년위원회별'!$C25) -> 2000000 | J25: =SUMIFS('15년일입'!$K$7:$K$703,'15년일입'!$A$7:$A$703,'15년위원회별'!$A25,'15년일입'!$B$7:$B$703,'15년위원회별'!$C25) -> 0 | K25: =SUMIFS('15년일입'!$L$7:$L$703,'15년일입'!$A$7:$A$703,'15년위원회별'!$A25,'15년일입'!$B$7:$B$703,'15년위원회별'!$C25) -> 0 | L25: =SUMIFS('15년일입'!$M$7:$M$703,'15년일입'!$A$7:$A$703,'15년위원회별'!$A25,'15년일입'!$B$7:$B$703,'15년위원회별'!$C25) -> 15968631 | M25: =SUMIFS('15년일입'!$Y$7:$Y$703,'15년일입'!$A$7:$A$703,'15년위원회별'!$A25,'15년일입'!$B$7:$B$703,'15년위원회별'!$C25) -> 0 | N25: =SUMIFS('15년일입'!$Z$7:$Z$703,'15년일입'!$A$7:$A$703,'15년위원회별'!$A25,'15년일입'!$B$7:$B$703,'15년위원회별'!$C25) -> 0 | P25: =SUMIFS('15년일출'!$G$7:$G$1362,'15년일출'!$A$7:$A$1362,'15년위원회별'!$A25,'15년일출'!$B$7:$B$1362,'15년위원회별'!$C25) -> 22566435 | Q25: =SUMIFS('15년일출'!$H$7:$H$1362,'15년일출'!$A$7:$A$1362,'15년위원회별'!$A25,'15년일출'!$B$7:$B$1362,'15년위원회별'!$C25) -> -2817264 | R25: =SUMIFS('15년일출'!$I$7:$I$1362,'15년일출'!$A$7:$A$1362,'15년위원회별'!$A25,'15년일출'!$B$7:$B$1362,'15년위원회별'!$C25) -> 24263498 | S25: =SUMIFS('15년일출'!$J$7:$J$1362,'15년일출'!$A$7:$A$1362,'15년위원회별'!$A25,'15년일출'!$B$7:$B$1362,'15년위원회별'!$C25) -> 44012669 | T25: =SUMIFS('15년일출'!$T$7:$T$1362,'15년일출'!$A$7:$A$1362,'15년위원회별'!$A25,'15년일출'!$B$7:$B$1362,'15년위원회별'!$C25) -> -556132 | U25: =SUMIFS('15년일출'!$U$7:$U$1362,'15년일출'!$A$7:$A$1362,'15년위원회별'!$A25,'15년일출'!$B$7:$B$1362,'15년위원회별'!$C25) -> 22275966 | V25: =SUMIFS('15년일출'!$K$7:$K$1362,'15년일출'!$A$7:$A$1362,'15년위원회별'!$A25,'15년일출'!$B$7:$B$1362,'15년위원회별'!$C25) -> 0 | W25: =SUMIFS('15년일출'!$L$7:$L$1362,'15년일출'!$A$7:$A$1362,'15년위원회별'!$A25,'15년일출'!$B$7:$B$1362,'15년위원회별'!$C25) -> 0 | X25: =SUMIFS('15년일출'!$M$7:$M$1362,'15년일출'!$A$7:$A$1362,'15년위원회별'!$A25,'15년일출'!$B$7:$B$1362,'15년위원회별'!$C25) -> 22566435 | Y25: =SUMIFS('15년일출'!$Y$7:$Y$1362,'15년일출'!$A$7:$A$1362,'15년위원회별'!$A25,'15년일출'!$B$7:$B$1362,'15년위원회별'!$C25) -> 0 | Z25: =SUMIFS('15년일출'!$Z$7:$Z$1362,'15년일출'!$A$7:$A$1362,'15년위원회별'!$A25,'15년일출'!$B$7:$B$1362,'15년위원회별'!$C25) -> 0 | AB25: =IF(H25=T25,"OK","@@") -> OK | AC25: =T25-H25 -> 0
A26: 농정해양위원회 | C26: 축산산림국 | D26: =SUMIFS('15년일입'!$G$7:$G$703,'15년일입'!$A$7:$A$703,'15년위원회별'!$A26,'15년일입'!$B$7:$B$703,'15년위원회별'!$C26) -> 29633525 | E26: =SUMIFS('15년일입'!$H$7:$H$703,'15년일입'!$A$7:$A$703,'15년위원회별'!$A26,'15년일입'!$B$7:$B$703,'15년위원회별'!$C26) -> -87280 | F26: =SUMIFS('15년일입'!$I$7:$I$703,'15년일입'!$A$7:$A$703,'15년위원회별'!$A26,'15년일입'!$B$7:$B$703,'15년위원회별'!$C26) -> 21191098 | G26: =SUMIFS('15년일입'!$J$7:$J$703,'15년일입'!$A$7:$A$703,'15년위원회별'!$A26,'15년일입'!$B$7:$B$703,'15년위원회별'!$C26) -> 50737343 | H26: =SUMIFS('15년일입'!$T$7:$T$703,'15년일입'!$A$7:$A$703,'15년위원회별'!$A26,'15년일입'!$B$7:$B$703,'15년위원회별'!$C26) -> 20120818 | I26: =SUMIFS('15년일입'!$U$7:$U$703,'15년일입'!$A$7:$A$703,'15년위원회별'!$A26,'15년일입'!$B$7:$B$703,'15년위원회별'!$C26) -> 983000 | J26: =SUMIFS('15년일입'!$K$7:$K$703,'15년일입'!$A$7:$A$703,'15년위원회별'!$A26,'15년일입'!$B$7:$B$703,'15년위원회별'!$C26) -> 0 | K26: =SUMIFS('15년일입'!$L$7:$L$703,'15년일입'!$A$7:$A$703,'15년위원회별'!$A26,'15년일입'!$B$7:$B$703,'15년위원회별'!$C26) -> 0 | L26: =SUMIFS('15년일입'!$M$7:$M$703,'15년일입'!$A$7:$A$703,'15년위원회별'!$A26,'15년일입'!$B$7:$B$703,'15년위원회별'!$C26) -> 29633525 | M26: =SUMIFS('15년일입'!$Y$7:$Y$703,'15년일입'!$A$7:$A$703,'15년위원회별'!$A26,'15년일입'!$B$7:$B$703,'15년위원회별'!$C26) -> 0 | N26: =SUMIFS('15년일입'!$Z$7:$Z$703,'15년일입'!$A$7:$A$703,'15년위원회별'!$A26,'15년일입'!$B$7:$B$703,'15년위원회별'!$C26) -> 0 | P26: =SUMIFS('15년일출'!$G$7:$G$1362,'15년일출'!$A$7:$A$1362,'15년위원회별'!$A26,'15년일출'!$B$7:$B$1362,'15년위원회별'!$C26) -> 31213518 | Q26: =SUMIFS('15년일출'!$H$7:$H$1362,'15년일출'!$A$7:$A$1362,'15년위원회별'!$A26,'15년일출'!$B$7:$B$1362,'15년위원회별'!$C26) -> -2837472 | R26: =SUMIFS('15년일출'!$I$7:$I$1362,'15년일출'!$A$7:$A$1362,'15년위원회별'!$A26,'15년일출'!$B$7:$B$1362,'15년위원회별'!$C26) -> 26886871 | S26: =SUMIFS('15년일출'!$J$7:$J$1362,'15년일출'!$A$7:$A$1362,'15년위원회별'!$A26,'15년일출'!$B$7:$B$1362,'15년위원회별'!$C26) -> 55262917 | T26: =SUMIFS('15년일출'!$T$7:$T$1362,'15년일출'!$A$7:$A$1362,'15년위원회별'!$A26,'15년일출'!$B$7:$B$1362,'15년위원회별'!$C26) -> 20127996 | U26: =SUMIFS('15년일출'!$U$7:$U$1362,'15년일출'!$A$7:$A$1362,'15년위원회별'!$A26,'15년일출'!$B$7:$B$1362,'15년위원회별'!$C26) -> 3921403 | V26: =SUMIFS('15년일출'!$K$7:$K$1362,'15년일출'!$A$7:$A$1362,'15년위원회별'!$A26,'15년일출'!$B$7:$B$1362,'15년위원회별'!$C26) -> 0 | W26: =SUMIFS('15년일출'!$L$7:$L$1362,'15년일출'!$A$7:$A$1362,'15년위원회별'!$A26,'15년일출'!$B$7:$B$1362,'15년위원회별'!$C26) -> 0 | X26: =SUMIFS('15년일출'!$M$7:$M$1362,'15년일출'!$A$7:$A$1362,'15년위원회별'!$A26,'15년일출'!$B$7:$B$1362,'15년위원회별'!$C26) -> 31213518 | Y26: =SUMIFS('15년일출'!$Y$7:$Y$1362,'15년일출'!$A$7:$A$1362,'15년위원회별'!$A26,'15년일출'!$B$7:$B$1362,'15년위원회별'!$C26) -> 0 | Z26: =SUMIFS('15년일출'!$Z$7:$Z$1362,'15년일출'!$A$7:$A$1362,'15년위원회별'!$A26,'15년일출'!$B$7:$B$1362,'15년위원회별'!$C26) -> 0 | AB26: =IF(H26=T26,"OK","@@") -> @@ | AC26: =T26-H26 -> 7178
A27: 농정해양위원회 | C27: 농업기술원 | D27: =SUMIFS('15년일입'!$G$7:$G$703,'15년일입'!$A$7:$A$703,'15년위원회별'!$A27,'15년일입'!$B$7:$B$703,'15년위원회별'!$C27) -> 3165860 | E27: =SUMIFS('15년일입'!$H$7:$H$703,'15년일입'!$A$7:$A$703,'15년위원회별'!$A27,'15년일입'!$B$7:$B$703,'15년위원회별'!$C27) -> 0 | F27: =SUMIFS('15년일입'!$I$7:$I$703,'15년일입'!$A$7:$A$703,'15년위원회별'!$A27,'15년일입'!$B$7:$B$703,'15년위원회별'!$C27) -> 345000 | G27: =SUMIFS('15년일입'!$J$7:$J$703,'15년일입'!$A$7:$A$703,'15년위원회별'!$A27,'15년일입'!$B$7:$B$703,'15년위원회별'!$C27) -> 3510860 | H27: =SUMIFS('15년일입'!$T$7:$T$703,'15년일입'!$A$7:$A$703,'15년위원회별'!$A27,'15년일입'!$B$7:$B$703,'15년위원회별'!$C27) -> 345000 | I27: =SUMIFS('15년일입'!$U$7:$U$703,'15년일입'!$A$7:$A$703,'15년위원회별'!$A27,'15년일입'!$B$7:$B$703,'15년위원회별'!$C27) -> 0 | J27: =SUMIFS('15년일입'!$K$7:$K$703,'15년일입'!$A$7:$A$703,'15년위원회별'!$A27,'15년일입'!$B$7:$B$703,'15년위원회별'!$C27) -> 0 | K27: =SUMIFS('15년일입'!$L$7:$L$703,'15년일입'!$A$7:$A$703,'15년위원회별'!$A27,'15년일입'!$B$7:$B$703,'15년위원회별'!$C27) -> 0 | L27: =SUMIFS('15년일입'!$M$7:$M$703,'15년일입'!$A$7:$A$703,'15년위원회별'!$A27,'15년일입'!$B$7:$B$703,'15년위원회별'!$C27) -> 3165860 | M27: =SUMIFS('15년일입'!$Y$7:$Y$703,'15년일입'!$A$7:$A$703,'15년위원회별'!$A27,'15년일입'!$B$7:$B$703,'15년위원회별'!$C27) -> 0 | N27: =SUMIFS('15년일입'!$Z$7:$Z$703,'15년일입'!$A$7:$A$703,'15년위원회별'!$A27,'15년일입'!$B$7:$B$703,'15년위원회별'!$C27) -> 0 | P27: =SUMIFS('15년일출'!$G$7:$G$1362,'15년일출'!$A$7:$A$1362,'15년위원회별'!$A27,'15년일출'!$B$7:$B$1362,'15년위원회별'!$C27) -> 1364919 | Q27: =SUMIFS('15년일출'!$H$7:$H$1362,'15년일출'!$A$7:$A$1362,'15년위원회별'!$A27,'15년일출'!$B$7:$B$1362,'15년위원회별'!$C27) -> -6000 | R27: =SUMIFS('15년일출'!$I$7:$I$1362,'15년일출'!$A$7:$A$1362,'15년위원회별'!$A27,'15년일출'!$B$7:$B$1362,'15년위원회별'!$C27) -> 6199045 | S27: =SUMIFS('15년일출'!$J$7:$J$1362,'15년일출'!$A$7:$A$1362,'15년위원회별'!$A27,'15년일출'!$B$7:$B$1362,'15년위원회별'!$C27) -> 7557964 | T27: =SUMIFS('15년일출'!$T$7:$T$1362,'15년일출'!$A$7:$A$1362,'15년위원회별'!$A27,'15년일출'!$B$7:$B$1362,'15년위원회별'!$C27) -> 345000 | U27: =SUMIFS('15년일출'!$U$7:$U$1362,'15년일출'!$A$7:$A$1362,'15년위원회별'!$A27,'15년일출'!$B$7:$B$1362,'15년위원회별'!$C27) -> 5848045 | V27: =SUMIFS('15년일출'!$K$7:$K$1362,'15년일출'!$A$7:$A$1362,'15년위원회별'!$A27,'15년일출'!$B$7:$B$1362,'15년위원회별'!$C27) -> 0 | W27: =SUMIFS('15년일출'!$L$7:$L$1362,'15년일출'!$A$7:$A$1362,'15년위원회별'!$A27,'15년일출'!$B$7:$B$1362,'15년위원회별'!$C27) -> 0 | X27: =SUMIFS('15년일출'!$M$7:$M$1362,'15년일출'!$A$7:$A$1362,'15년위원회별'!$A27,'15년일출'!$B$7:$B$1362,'15년위원회별'!$C27) -> 1364919 | Y27: =SUMIFS('15년일출'!$Y$7:$Y$1362,'15년일출'!$A$7:$A$1362,'15년위원회별'!$A27,'15년일출'!$B$7:$B$1362,'15년위원회별'!$C27) -> 0 | Z27: =SUMIFS('15년일출'!$Z$7:$Z$1362,'15년일출'!$A$7:$A$1362,'15년위원회별'!$A27,'15년일출'!$B$7:$B$1362,'15년위원회별'!$C27) -> 0 | AB27: =IF(H27=T27,"OK","@@") -> OK | AC27: =T27-H27 -> 0
B28: 보건복지위원회 | D28: =SUM(D29:D31) -> 64916382 | E28: =SUM(E29:E31) -> -4443907 | F28: =SUM(F29:F31) -> 4283253 | G28: =SUM(G29:G31) -> 64755728 | H28: =SUM(H29:H31) -> -160654 | I28: =SUM(I29:I31) -> 0 | J28: =SUM(J29:J31) -> 0 | K28: =SUM(K29:K31) -> 0 | ... N28: =SUM(N29:N31) -> 0 | P28: =SUM(P29:P31) -> 116789844 | Q28: =SUM(Q29:Q31) -> -21178359 | R28: =SUM(R29:R31) -> 9575018 | S28: =SUM(S29:S31) -> 105186503 | T28: =SUM(T29:T31) -> -160654 | U28: =SUM(U29:U31) -> -11442687 | V28: =SUM(V29:V31) -> 0 | W28: =SUM(W29:W31) -> 0 | ... Z28: =SUM(Z29:Z31) -> 0 | AB28: =IF(H28=T28,"OK","@@") -> OK | AC28: =T28-H28 -> 0
A29: 보건복지위원회 | C29: 보건복지국 | D29: =SUMIFS('15년일입'!$G$7:$G$703,'15년일입'!$A$7:$A$703,'15년위원회별'!$A29,'15년일입'!$B$7:$B$703,'15년위원회별'!$C29) -> 64854159 | E29: =SUMIFS('15년일입'!$H$7:$H$703,'15년일입'!$A$7:$A$703,'15년위원회별'!$A29,'15년일입'!$B$7:$B$703,'15년위원회별'!$C29) -> -4443907 | F29: =SUMIFS('15년일입'!$I$7:$I$703,'15년일입'!$A$7:$A$703,'15년위원회별'!$A29,'15년일입'!$B$7:$B$703,'15년위원회별'!$C29) -> 4282921 | G29: =SUMIFS('15년일입'!$J$7:$J$703,'15년일입'!$A$7:$A$703,'15년위원회별'!$A29,'15년일입'!$B$7:$B$703,'15년위원회별'!$C29) -> 64693173 | H29: =SUMIFS('15년일입'!$T$7:$T$703,'15년일입'!$A$7:$A$703,'15년위원회별'!$A29,'15년일입'!$B$7:$B$703,'15년위원회별'!$C29) -> -160986 | I29: =SUMIFS('15년일입'!$U$7:$U$703,'15년일입'!$A$7:$A$703,'15년위원회별'!$A29,'15년일입'!$B$7:$B$703,'15년위원회별'!$C29) -> 0 | J29: =SUMIFS('15년일입'!$K$7:$K$703,'15년일입'!$A$7:$A$703,'15년위원회별'!$A29,'15년일입'!$B$7:$B$703,'15년위원회별'!$C29) -> 0 | K29: =SUMIFS('15년일입'!$L$7:$L$703,'15년일입'!$A$7:$A$703,'15년위원회별'!$A29,'15년일입'!$B$7:$B$703,'15년위원회별'!$C29) -> 0 | L29: =SUMIFS('15년일입'!$M$7:$M$703,'15년일입'!$A$7:$A$703,'15년위원회별'!$A29,'15년일입'!$B$7:$B$703,'15년위원회별'!$C29) -> 64854159 | M29: =SUMIFS('15년일입'!$Y$7:$Y$703,'15년일입'!$A$7:$A$703,'15년위원회별'!$A29,'15년일입'!$B$7:$B$703,'15년위원회별'!$C29) -> 0 | N29: =SUMIFS('15년일입'!$Z$7:$Z$703,'15년일입'!$A$7:$A$703,'15년위원회별'!$A29,'15년일입'!$B$7:$B$703,'15년위원회별'!$C29) -> 0 | P29: =SUMIFS('15년일출'!$G$7:$G$1362,'15년일출'!$A$7:$A$1362,'15년위원회별'!$A29,'15년일출'!$B$7:$B$1362,'15년위원회별'!$C29) -> 92626941 | Q29: =SUMIFS('15년일출'!$H$7:$H$1362,'15년일출'!$A$7:$A$1362,'15년위원회별'!$A29,'15년일출'!$B$7:$B$1362,'15년위원회별'!$C29) -> -20474508 | R29: =SUMIFS('15년일출'!$I$7:$I$1362,'15년일출'!$A$7:$A$1362,'15년위원회별'!$A29,'15년일출'!$B$7:$B$1362,'15년위원회별'!$C29) -> 6333029 | S29: =SUMIFS('15년일출'!$J$7:$J$1362,'15년일출'!$A$7:$A$1362,'15년위원회별'!$A29,'15년일출'!$B$7:$B$1362,'15년위원회별'!$C29) -> 78485462 | T29: =SUMIFS('15년일출'!$T$7:$T$1362,'15년일출'!$A$7:$A$1362,'15년위원회별'!$A29,'15년일출'!$B$7:$B$1362,'15년위원회별'!$C29) -> -1567252 | U29: =SUMIFS('15년일출'!$U$7:$U$1362,'15년일출'!$A$7:$A$1362,'15년위원회별'!$A29,'15년일출'!$B$7:$B$1362,'15년위원회별'!$C29) -> -12574227 | V29: =SUMIFS('15년일출'!$K$7:$K$1362,'15년일출'!$A$7:$A$1362,'15년위원회별'!$A29,'15년일출'!$B$7:$B$1362,'15년위원회별'!$C29) -> 0 | W29: =SUMIFS('15년일출'!$L$7:$L$1362,'15년일출'!$A$7:$A$1362,'15년위원회별'!$A29,'15년일출'!$B$7:$B$1362,'15년위원회별'!$C29) -> 0 | X29: =SUMIFS('15년일출'!$M$7:$M$1362,'15년일출'!$A$7:$A$1362,'15년위원회별'!$A29,'15년일출'!$B$7:$B$1362,'15년위원회별'!$C29) -> 92626941 | Y29: =SUMIFS('15년일출'!$Y$7:$Y$1362,'15년일출'!$A$7:$A$1362,'15년위원회별'!$A29,'15년일출'!$B$7:$B$1362,'15년위원회별'!$C29) -> 0 | Z29: =SUMIFS('15년일출'!$Z$7:$Z$1362,'15년일출'!$A$7:$A$1362,'15년위원회별'!$A29,'15년일출'!$B$7:$B$1362,'15년위원회별'!$C29) -> 0 | AB29: =IF(H29=T29,"OK","@@") -> @@ | AC29: =T29-H29 -> -1406266
A30: 보건복지위원회 | C30: 복지여성실 | D30: =SUMIFS('15년일입'!$G$7:$G$703,'15년일입'!$A$7:$A$703,'15년위원회별'!$A30,'15년일입'!$B$7:$B$703,'15년위원회별'!$C30) -> 0 | E30: =SUMIFS('15년일입'!$H$7:$H$703,'15년일입'!$A$7:$A$703,'15년위원회별'!$A30,'15년일입'!$B$7:$B$703,'15년위원회별'!$C30) -> 0 | F30: =SUMIFS('15년일입'!$I$7:$I$703,'15년일입'!$A$7:$A$703,'15년위원회별'!$A30,'15년일입'!$B$7:$B$703,'15년위원회별'!$C30) -> 0 | G30: =SUMIFS('15년일입'!$J$7:$J$703,'15년일입'!$A$7:$A$703,'15년위원회별'!$A30,'15년일입'!$B$7:$B$703,'15년위원회별'!$C30) -> 0 | H30: =SUMIFS('15년일입'!$T$7:$T$703,'15년일입'!$A$7:$A$703,'15년위원회별'!$A30,'15년일입'!$B$7:$B$703,'15년위원회별'!$C30) -> 0 | I30: =SUMIFS('15년일입'!$U$7:$U$703,'15년일입'!$A$7:$A$703,'15년위원회별'!$A30,'15년일입'!$B$7:$B$703,'15년위원회별'!$C30) -> 0 | J30: =SUMIFS('15년일입'!$K$7:$K$703,'15년일입'!$A$7:$A$703,'15년위원회별'!$A30,'15년일입'!$B$7:$B$703,'15년위원회별'!$C30) -> 0 | K30: =SUMIFS('15년일입'!$L$7:$L$703,'15년일입'!$A$7:$A$703,'15년위원회별'!$A30,'15년일입'!$B$7:$B$703,'15년위원회별'!$C30) -> 0 | L30: =SUMIFS('15년일입'!$M$7:$M$703,'15년일입'!$A$7:$A$703,'15년위원회별'!$A30,'15년일입'!$B$7:$B$703,'15년위원회별'!$C30) -> 0 | M30: =SUMIFS('15년일입'!$Y$7:$Y$703,'15년일입'!$A$7:$A$703,'15년위원회별'!$A30,'15년일입'!$B$7:$B$703,'15년위원회별'!$C30) -> 0 | N30: =SUMIFS('15년일입'!$Z$7:$Z$703,'15년일입'!$A$7:$A$703,'15년위원회별'!$A30,'15년일입'!$B$7:$B$703,'15년위원회별'!$C30) -> 0 | P30: =SUMIFS('15년일출'!$G$7:$G$1362,'15년일출'!$A$7:$A$1362,'15년위원회별'!$A30,'15년일출'!$B$7:$B$1362,'15년위원회별'!$C30) -> 24064878 | Q30: =SUMIFS('15년일출'!$H$7:$H$1362,'15년일출'!$A$7:$A$1362,'15년위원회별'!$A30,'15년일출'!$B$7:$B$1362,'15년위원회별'!$C30) -> -703851 | R30: =SUMIFS('15년일출'!$I$7:$I$1362,'15년일출'!$A$7:$A$1362,'15년위원회별'!$A30,'15년일출'!$B$7:$B$1362,'15년위원회별'!$C30) -> 2487319 | S30: =SUMIFS('15년일출'!$J$7:$J$1362,'15년일출'!$A$7:$A$1362,'15년위원회별'!$A30,'15년일출'!$B$7:$B$1362,'15년위원회별'!$C30) -> 25848346 | T30: =SUMIFS('15년일출'!$T$7:$T$1362,'15년일출'!$A$7:$A$1362,'15년위원회별'!$A30,'15년일출'!$B$7:$B$1362,'15년위원회별'!$C30) -> 1406266 | U30: =SUMIFS('15년일출'!$U$7:$U$1362,'15년일출'!$A$7:$A$1362,'15년위원회별'!$A30,'15년일출'!$B$7:$B$1362,'15년위원회별'!$C30) -> 377202 | V30: =SUMIFS('15년일출'!$K$7:$K$1362,'15년일출'!$A$7:$A$1362,'15년위원회별'!$A30,'15년일출'!$B$7:$B$1362,'15년위원회별'!$C30) -> 0 | W30: =SUMIFS('15년일출'!$L$7:$L$1362,'15년일출'!$A$7:$A$1362,'15년위원회별'!$A30,'15년일출'!$B$7:$B$1362,'15년위원회별'!$C30) -> 0 | X30: =SUMIFS('15년일출'!$M$7:$M$1362,'15년일출'!$A$7:$A$1362,'15년위원회별'!$A30,'15년일출'!$B$7:$B$1362,'15년위원회별'!$C30) -> 24064878 | Y30: =SUMIFS('15년일출'!$Y$7:$Y$1362,'15년일출'!$A$7:$A$1362,'15년위원회별'!$A30,'15년일출'!$B$7:$B$1362,'15년위원회별'!$C30) -> 0 | Z30: =SUMIFS('15년일출'!$Z$7:$Z$1362,'15년일출'!$A$7:$A$1362,'15년위원회별'!$A30,'15년일출'!$B$7:$B$1362,'15년위원회별'!$C30) -> 0 | AB30: =IF(H30=T30,"OK","@@") -> @@ | AC30: =T30-H30 -> 1406266
A31: 보건복지위원회 | C31: 보건환경연구원 | D31: =SUMIFS('15년일입'!$G$7:$G$703,'15년일입'!$A$7:$A$703,'15년위원회별'!$A31,'15년일입'!$B$7:$B$703,'15년위원회별'!$C31) -> 62223 | E31: =SUMIFS('15년일입'!$H$7:$H$703,'15년일입'!$A$7:$A$703,'15년위원회별'!$A31,'15년일입'!$B$7:$B$703,'15년위원회별'!$C31) -> 0 | F31: =SUMIFS('15년일입'!$I$7:$I$703,'15년일입'!$A$7:$A$703,'15년위원회별'!$A31,'15년일입'!$B$7:$B$703,'15년위원회별'!$C31) -> 332 | G31: =SUMIFS('15년일입'!$J$7:$J$703,'15년일입'!$A$7:$A$703,'15년위원회별'!$A31,'15년일입'!$B$7:$B$703,'15년위원회별'!$C31) -> 62555 | H31: =SUMIFS('15년일입'!$T$7:$T$703,'15년일입'!$A$7:$A$703,'15년위원회별'!$A31,'15년일입'!$B$7:$B$703,'15년위원회별'!$C31) -> 332 | I31: =SUMIFS('15년일입'!$U$7:$U$703,'15년일입'!$A$7:$A$703,'15년위원회별'!$A31,'15년일입'!$B$7:$B$703,'15년위원회별'!$C31) -> 0 | J31: =SUMIFS('15년일입'!$K$7:$K$703,'15년일입'!$A$7:$A$703,'15년위원회별'!$A31,'15년일입'!$B$7:$B$703,'15년위원회별'!$C31) -> 0 | K31: =SUMIFS('15년일입'!$L$7:$L$703,'15년일입'!$A$7:$A$703,'15년위원회별'!$A31,'15년일입'!$B$7:$B$703,'15년위원회별'!$C31) -> 0 | L31: =SUMIFS('15년일입'!$M$7:$M$703,'15년일입'!$A$7:$A$703,'15년위원회별'!$A31,'15년일입'!$B$7:$B$703,'15년위원회별'!$C31) -> 62223 | M31: =SUMIFS('15년일입'!$Y$7:$Y$703,'15년일입'!$A$7:$A$703,'15년위원회별'!$A31,'15년일입'!$B$7:$B$703,'15년위원회별'!$C31) -> 0 | N31: =SUMIFS('15년일입'!$Z$7:$Z$703,'15년일입'!$A$7:$A$703,'15년위원회별'!$A31,'15년일입'!$B$7:$B$703,'15년위원회별'!$C31) -> 0 | P31: =SUMIFS('15년일출'!$G$7:$G$1362,'15년일출'!$A$7:$A$1362,'15년위원회별'!$A31,'15년일출'!$B$7:$B$1362,'15년위원회별'!$C31) -> 98025 | Q31: =SUMIFS('15년일출'!$H$7:$H$1362,'15년일출'!$A$7:$A$1362,'15년위원회별'!$A31,'15년일출'!$B$7:$B$1362,'15년위원회별'!$C31) -> 0 | R31: =SUMIFS('15년일출'!$I$7:$I$1362,'15년일출'!$A$7:$A$1362,'15년위원회별'!$A31,'15년일출'!$B$7:$B$1362,'15년위원회별'!$C31) -> 754670 | S31: =SUMIFS('15년일출'!$J$7:$J$1362,'15년일출'!$A$7:$A$1362,'15년위원회별'!$A31,'15년일출'!$B$7:$B$1362,'15년위원회별'!$C31) -> 852695 | T31: =SUMIFS('15년일출'!$T$7:$T$1362,'15년일출'!$A$7:$A$1362,'15년위원회별'!$A31,'15년일출'!$B$7:$B$1362,'15년위원회별'!$C31) -> 332 | U31: =SUMIFS('15년일출'!$U$7:$U$1362,'15년일출'!$A$7:$A$1362,'15년위원회별'!$A31,'15년일출'!$B$7:$B$1362,'15년위원회별'!$C31) -> 754338 | V31: =SUMIFS('15년일출'!$K$7:$K$1362,'15년일출'!$A$7:$A$1362,'15년위원회별'!$A31,'15년일출'!$B$7:$B$1362,'15년위원회별'!$C31) -> 0 | W31: =SUMIFS('15년일출'!$L$7:$L$1362,'15년일출'!$A$7:$A$1362,'15년위원회별'!$A31,'15년일출'!$B$7:$B$1362,'15년위원회별'!$C31) -> 0 | X31: =SUMIFS('15년일출'!$M$7:$M$1362,'15년일출'!$A$7:$A$1362,'15년위원회별'!$A31,'15년일출'!$B$7:$B$1362,'15년위원회별'!$C31) -> 98025 | Y31: =SUMIFS('15년일출'!$Y$7:$Y$1362,'15년일출'!$A$7:$A$1362,'15년위원회별'!$A31,'15년일출'!$B$7:$B$1362,'15년위원회별'!$C31) -> 0 | Z31: =SUMIFS('15년일출'!$Z$7:$Z$1362,'15년일출'!$A$7:$A$1362,'15년위원회별'!$A31,'15년일출'!$B$7:$B$1362,'15년위원회별'!$C31) -> 0 | AB31: =IF(H31=T31,"OK","@@") -> OK | AC31: =T31-H31 -> 0
B32: 건설교통위원회 | D32: =SUM(D33:D36) -> 21000000 | E32: =SUM(E33:E36) -> -21000000 | F32: =SUM(F33:F36) -> 0 | G32: =SUM(G33:G36) -> 0 | H32: =SUM(H33:H36) -> 0 | I32: =SUM(I33:I36) -> -21000000 | J32: =SUM(J33:J36) -> 0 | K32: =SUM(K33:K36) -> 0 | ... N32: =SUM(N33:N36) -> 0 | P32: =SUM(P33:P36) -> 90188425 | Q32: =SUM(Q33:Q36) -> -5925781 | R32: =SUM(R33:R36) -> 25660500 | S32: =SUM(S33:S36) -> 109923144 | T32: =SUM(T33:T36) -> 0 | U32: =SUM(U33:U36) -> 19734719 | V32: =SUM(V33:V36) -> 0 | W32: =SUM(W33:W36) -> 0 | ... Z32: =SUM(Z33:Z36) -> 0 | AB32: =IF(H32=T32,"OK","@@") -> OK | AC32: =T32-H32 -> 0
A33: 건설교통위원회 | C33: 철도국 | D33: =SUMIFS('15년일입'!$G$7:$G$703,'15년일입'!$A$7:$A$703,'15년위원회별'!$A33,'15년일입'!$B$7:$B$703,'15년위원회별'!$C33) -> 0 | E33: =SUMIFS('15년일입'!$H$7:$H$703,'15년일입'!$A$7:$A$703,'15년위원회별'!$A33,'15년일입'!$B$7:$B$703,'15년위원회별'!$C33) -> 0 | F33: =SUMIFS('15년일입'!$I$7:$I$703,'15년일입'!$A$7:$A$703,'15년위원회별'!$A33,'15년일입'!$B$7:$B$703,'15년위원회별'!$C33) -> 0 | G33: =SUMIFS('15년일입'!$J$7:$J$703,'15년일입'!$A$7:$A$703,'15년위원회별'!$A33,'15년일입'!$B$7:$B$703,'15년위원회별'!$C33) -> 0 | H33: =SUMIFS('15년일입'!$T$7:$T$703,'15년일입'!$A$7:$A$703,'15년위원회별'!$A33,'15년일입'!$B$7:$B$703,'15년위원회별'!$C33) -> 0 | I33: =SUMIFS('15년일입'!$U$7:$U$703,'15년일입'!$A$7:$A$703,'15년위원회별'!$A33,'15년일입'!$B$7:$B$703,'15년위원회별'!$C33) -> 0 | J33: =SUMIFS('15년일입'!$K$7:$K$703,'15년일입'!$A$7:$A$703,'15년위원회별'!$A33,'15년일입'!$B$7:$B$703,'15년위원회별'!$C33) -> 0 | K33: =SUMIFS('15년일입'!$L$7:$L$703,'15년일입'!$A$7:$A$703,'15년위원회별'!$A33,'15년일입'!$B$7:$B$703,'15년위원회별'!$C33) -> 0 | L33: =SUMIFS('15년일입'!$M$7:$M$703,'15년일입'!$A$7:$A$703,'15년위원회별'!$A33,'15년일입'!$B$7:$B$703,'15년위원회별'!$C33) -> 0 | M33: =SUMIFS('15년일입'!$Y$7:$Y$703,'15년일입'!$A$7:$A$703,'15년위원회별'!$A33,'15년일입'!$B$7:$B$703,'15년위원회별'!$C33) -> 0 | N33: =SUMIFS('15년일입'!$Z$7:$Z$703,'15년일입'!$A$7:$A$703,'15년위원회별'!$A33,'15년일입'!$B$7:$B$703,'15년위원회별'!$C33) -> 0 | P33: =SUMIFS('15년일출'!$G$7:$G$1362,'15년일출'!$A$7:$A$1362,'15년위원회별'!$A33,'15년일출'!$B$7:$B$1362,'15년위원회별'!$C33) -> 1889000 | Q33: =SUMIFS('15년일출'!$H$7:$H$1362,'15년일출'!$A$7:$A$1362,'15년위원회별'!$A33,'15년일출'!$B$7:$B$1362,'15년위원회별'!$C33) -> 0 | R33: =SUMIFS('15년일출'!$I$7:$I$1362,'15년일출'!$A$7:$A$1362,'15년위원회별'!$A33,'15년일출'!$B$7:$B$1362,'15년위원회별'!$C33) -> 1171000 | S33: =SUMIFS('15년일출'!$J$7:$J$1362,'15년일출'!$A$7:$A$1362,'15년위원회별'!$A33,'15년일출'!$B$7:$B$1362,'15년위원회별'!$C33) -> 3060000 | T33: =SUMIFS('15년일출'!$T$7:$T$1362,'15년일출'!$A$7:$A$1362,'15년위원회별'!$A33,'15년일출'!$B$7:$B$1362,'15년위원회별'!$C33) -> 0 | U33: =SUMIFS('15년일출'!$U$7:$U$1362,'15년일출'!$A$7:$A$1362,'15년위원회별'!$A33,'15년일출'!$B$7:$B$1362,'15년위원회별'!$C33) -> 1171000 | V33: =SUMIFS('15년일출'!$K$7:$K$1362,'15년일출'!$A$7:$A$1362,'15년위원회별'!$A33,'15년일출'!$B$7:$B$1362,'15년위원회별'!$C33) -> 0 | W33: =SUMIFS('15년일출'!$L$7:$L$1362,'15년일출'!$A$7:$A$1362,'15년위원회별'!$A33,'15년일출'!$B$7:$B$1362,'15년위원회별'!$C33) -> 0 | X33: =SUMIFS('15년일출'!$M$7:$M$1362,'15년일출'!$A$7:$A$1362,'15년위원회별'!$A33,'15년일출'!$B$7:$B$1362,'15년위원회별'!$C33) -> 1889000 | Y33: =SUMIFS('15년일출'!$Y$7:$Y$1362,'15년일출'!$A$7:$A$1362,'15년위원회별'!$A33,'15년일출'!$B$7:$B$1362,'15년위원회별'!$C33) -> 0 | Z33: =SUMIFS('15년일출'!$Z$7:$Z$1362,'15년일출'!$A$7:$A$1362,'15년위원회별'!$A33,'15년일출'!$B$7:$B$1362,'15년위원회별'!$C33) -> 0 | AB33: =IF(H33=T33,"OK","@@") -> OK | AC33: =T33-H33 -> 0
A34: 건설교통위원회 | C34: 교통국 | D34: =SUMIFS('15년일입'!$G$7:$G$703,'15년일입'!$A$7:$A$703,'15년위원회별'!$A34,'15년일입'!$B$7:$B$703,'15년위원회별'!$C34) -> 0 | E34: =SUMIFS('15년일입'!$H$7:$H$703,'15년일입'!$A$7:$A$703,'15년위원회별'!$A34,'15년일입'!$B$7:$B$703,'15년위원회별'!$C34) -> 0 | F34: =SUMIFS('15년일입'!$I$7:$I$703,'15년일입'!$A$7:$A$703,'15년위원회별'!$A34,'15년일입'!$B$7:$B$703,'15년위원회별'!$C34) -> 0 | G34: =SUMIFS('15년일입'!$J$7:$J$703,'15년일입'!$A$7:$A$703,'15년위원회별'!$A34,'15년일입'!$B$7:$B$703,'15년위원회별'!$C34) -> 0 | H34: =SUMIFS('15년일입'!$T$7:$T$703,'15년일입'!$A$7:$A$703,'15년위원회별'!$A34,'15년일입'!$B$7:$B$703,'15년위원회별'!$C34) -> 0 | I34: =SUMIFS('15년일입'!$U$7:$U$703,'15년일입'!$A$7:$A$703,'15년위원회별'!$A34,'15년일입'!$B$7:$B$703,'15년위원회별'!$C34) -> 0 | J34: =SUMIFS('15년일입'!$K$7:$K$703,'15년일입'!$A$7:$A$703,'15년위원회별'!$A34,'15년일입'!$B$7:$B$703,'15년위원회별'!$C34) -> 0 | K34: =SUMIFS('15년일입'!$L$7:$L$703,'15년일입'!$A$7:$A$703,'15년위원회별'!$A34,'15년일입'!$B$7:$B$703,'15년위원회별'!$C34) -> 0 | L34: =SUMIFS('15년일입'!$M$7:$M$703,'15년일입'!$A$7:$A$703,'15년위원회별'!$A34,'15년일입'!$B$7:$B$703,'15년위원회별'!$C34) -> 0 | M34: =SUMIFS('15년일입'!$Y$7:$Y$703,'15년일입'!$A$7:$A$703,'15년위원회별'!$A34,'15년일입'!$B$7:$B$703,'15년위원회별'!$C34) -> 0 | N34: =SUMIFS('15년일입'!$Z$7:$Z$703,'15년일입'!$A$7:$A$703,'15년위원회별'!$A34,'15년일입'!$B$7:$B$703,'15년위원회별'!$C34) -> 0 | P34: =SUMIFS('15년일출'!$G$7:$G$1362,'15년일출'!$A$7:$A$1362,'15년위원회별'!$A34,'15년일출'!$B$7:$B$1362,'15년위원회별'!$C34) -> 7064925 | Q34: =SUMIFS('15년일출'!$H$7:$H$1362,'15년일출'!$A$7:$A$1362,'15년위원회별'!$A34,'15년일출'!$B$7:$B$1362,'15년위원회별'!$C34) -> -925781 | R34: =SUMIFS('15년일출'!$I$7:$I$1362,'15년일출'!$A$7:$A$1362,'15년위원회별'!$A34,'15년일출'!$B$7:$B$1362,'15년위원회별'!$C34) -> 220000 | S34: =SUMIFS('15년일출'!$J$7:$J$1362,'15년일출'!$A$7:$A$1362,'15년위원회별'!$A34,'15년일출'!$B$7:$B$1362,'15년위원회별'!$C34) -> 6359144 | T34: =SUMIFS('15년일출'!$T$7:$T$1362,'15년일출'!$A$7:$A$1362,'15년위원회별'!$A34,'15년일출'!$B$7:$B$1362,'15년위원회별'!$C34) -> 0 | U34: =SUMIFS('15년일출'!$U$7:$U$1362,'15년일출'!$A$7:$A$1362,'15년위원회별'!$A34,'15년일출'!$B$7:$B$1362,'15년위원회별'!$C34) -> -705781 | V34: =SUMIFS('15년일출'!$K$7:$K$1362,'15년일출'!$A$7:$A$1362,'15년위원회별'!$A34,'15년일출'!$B$7:$B$1362,'15년위원회별'!$C34) -> 0 | W34: =SUMIFS('15년일출'!$L$7:$L$1362,'15년일출'!$A$7:$A$1362,'15년위원회별'!$A34,'15년일출'!$B$7:$B$1362,'15년위원회별'!$C34) -> 0 | X34: =SUMIFS('15년일출'!$M$7:$M$1362,'15년일출'!$A$7:$A$1362,'15년위원회별'!$A34,'15년일출'!$B$7:$B$1362,'15년위원회별'!$C34) -> 7064925 | Y34: =SUMIFS('15년일출'!$Y$7:$Y$1362,'15년일출'!$A$7:$A$1362,'15년위원회별'!$A34,'15년일출'!$B$7:$B$1362,'15년위원회별'!$C34) -> 0 | Z34: =SUMIFS('15년일출'!$Z$7:$Z$1362,'15년일출'!$A$7:$A$1362,'15년위원회별'!$A34,'15년일출'!$B$7:$B$1362,'15년위원회별'!$C34) -> 0 | AB34: =IF(H34=T34,"OK","@@") -> OK | AC34: =T34-H34 -> 0
A35: 건설교통위원회 | C35: 건설국 | D35: =SUMIFS('15년일입'!$G$7:$G$703,'15년일입'!$A$7:$A$703,'15년위원회별'!$A35,'15년일입'!$B$7:$B$703,'15년위원회별'!$C35) -> 0 | E35: =SUMIFS('15년일입'!$H$7:$H$703,'15년일입'!$A$7:$A$703,'15년위원회별'!$A35,'15년일입'!$B$7:$B$703,'15년위원회별'!$C35) -> 0 | F35: =SUMIFS('15년일입'!$I$7:$I$703,'15년일입'!$A$7:$A$703,'15년위원회별'!$A35,'15년일입'!$B$7:$B$703,'15년위원회별'!$C35) -> 0 | G35: =SUMIFS('15년일입'!$J$7:$J$703,'15년일입'!$A$7:$A$703,'15년위원회별'!$A35,'15년일입'!$B$7:$B$703,'15년위원회별'!$C35) -> 0 | H35: =SUMIFS('15년일입'!$T$7:$T$703,'15년일입'!$A$7:$A$703,'15년위원회별'!$A35,'15년일입'!$B$7:$B$703,'15년위원회별'!$C35) -> 0 | I35: =SUMIFS('15년일입'!$U$7:$U$703,'15년일입'!$A$7:$A$703,'15년위원회별'!$A35,'15년일입'!$B$7:$B$703,'15년위원회별'!$C35) -> 0 | J35: =SUMIFS('15년일입'!$K$7:$K$703,'15년일입'!$A$7:$A$703,'15년위원회별'!$A35,'15년일입'!$B$7:$B$703,'15년위원회별'!$C35) -> 0 | K35: =SUMIFS('15년일입'!$L$7:$L$703,'15년일입'!$A$7:$A$703,'15년위원회별'!$A35,'15년일입'!$B$7:$B$703,'15년위원회별'!$C35) -> 0 | L35: =SUMIFS('15년일입'!$M$7:$M$703,'15년일입'!$A$7:$A$703,'15년위원회별'!$A35,'15년일입'!$B$7:$B$703,'15년위원회별'!$C35) -> 0 | M35: =SUMIFS('15년일입'!$Y$7:$Y$703,'15년일입'!$A$7:$A$703,'15년위원회별'!$A35,'15년일입'!$B$7:$B$703,'15년위원회별'!$C35) -> 0 | N35: =SUMIFS('15년일입'!$Z$7:$Z$703,'15년일입'!$A$7:$A$703,'15년위원회별'!$A35,'15년일입'!$B$7:$B$703,'15년위원회별'!$C35) -> 0 | P35: =SUMIFS('15년일출'!$G$7:$G$1362,'15년일출'!$A$7:$A$1362,'15년위원회별'!$A35,'15년일출'!$B$7:$B$1362,'15년위원회별'!$C35) -> 40390000 | Q35: =SUMIFS('15년일출'!$H$7:$H$1362,'15년일출'!$A$7:$A$1362,'15년위원회별'!$A35,'15년일출'!$B$7:$B$1362,'15년위원회별'!$C35) -> -5000000 | R35: =SUMIFS('15년일출'!$I$7:$I$1362,'15년일출'!$A$7:$A$1362,'15년위원회별'!$A35,'15년일출'!$B$7:$B$1362,'15년위원회별'!$C35) -> 18400000 | S35: =SUMIFS('15년일출'!$J$7:$J$1362,'15년일출'!$A$7:$A$1362,'15년위원회별'!$A35,'15년일출'!$B$7:$B$1362,'15년위원회별'!$C35) -> 53790000 | T35: =SUMIFS('15년일출'!$T$7:$T$1362,'15년일출'!$A$7:$A$1362,'15년위원회별'!$A35,'15년일출'!$B$7:$B$1362,'15년위원회별'!$C35) -> 0 | U35: =SUMIFS('15년일출'!$U$7:$U$1362,'15년일출'!$A$7:$A$1362,'15년위원회별'!$A35,'15년일출'!$B$7:$B$1362,'15년위원회별'!$C35) -> 13400000 | V35: =SUMIFS('15년일출'!$K$7:$K$1362,'15년일출'!$A$7:$A$1362,'15년위원회별'!$A35,'15년일출'!$B$7:$B$1362,'15년위원회별'!$C35) -> 0 | W35: =SUMIFS('15년일출'!$L$7:$L$1362,'15년일출'!$A$7:$A$1362,'15년위원회별'!$A35,'15년일출'!$B$7:$B$1362,'15년위원회별'!$C35) -> 0 | X35: =SUMIFS('15년일출'!$M$7:$M$1362,'15년일출'!$A$7:$A$1362,'15년위원회별'!$A35,'15년일출'!$B$7:$B$1362,'15년위원회별'!$C35) -> 40390000 | Y35: =SUMIFS('15년일출'!$Y$7:$Y$1362,'15년일출'!$A$7:$A$1362,'15년위원회별'!$A35,'15년일출'!$B$7:$B$1362,'15년위원회별'!$C35) -> 0 | Z35: =SUMIFS('15년일출'!$Z$7:$Z$1362,'15년일출'!$A$7:$A$1362,'15년위원회별'!$A35,'15년일출'!$B$7:$B$1362,'15년위원회별'!$C35) -> 0 | AB35: =IF(H35=T35,"OK","@@") -> OK | AC35: =T35-H35 -> 0
A36: 건설교통위원회 | C36: 건설본부 | D36: =SUMIFS('15년일입'!$G$7:$G$703,'15년일입'!$A$7:$A$703,'15년위원회별'!$A36,'15년일입'!$B$7:$B$703,'15년위원회별'!$C36) -> 21000000 | E36: =SUMIFS('15년일입'!$H$7:$H$703,'15년일입'!$A$7:$A$703,'15년위원회별'!$A36,'15년일입'!$B$7:$B$703,'15년위원회별'!$C36) -> -21000000 | F36: =SUMIFS('15년일입'!$I$7:$I$703,'15년일입'!$A$7:$A$703,'15년위원회별'!$A36,'15년일입'!$B$7:$B$703,'15년위원회별'!$C36) -> 0 | G36: =SUMIFS('15년일입'!$J$7:$J$703,'15년일입'!$A$7:$A$703,'15년위원회별'!$A36,'15년일입'!$B$7:$B$703,'15년위원회별'!$C36) -> 0 | H36: =SUMIFS('15년일입'!$T$7:$T$703,'15년일입'!$A$7:$A$703,'15년위원회별'!$A36,'15년일입'!$B$7:$B$703,'15년위원회별'!$C36) -> 0 | I36: =SUMIFS('15년일입'!$U$7:$U$703,'15년일입'!$A$7:$A$703,'15년위원회별'!$A36,'15년일입'!$B$7:$B$703,'15년위원회별'!$C36) -> -21000000 | J36: =SUMIFS('15년일입'!$K$7:$K$703,'15년일입'!$A$7:$A$703,'15년위원회별'!$A36,'15년일입'!$B$7:$B$703,'15년위원회별'!$C36) -> 0 | K36: =SUMIFS('15년일입'!$L$7:$L$703,'15년일입'!$A$7:$A$703,'15년위원회별'!$A36,'15년일입'!$B$7:$B$703,'15년위원회별'!$C36) -> 0 | L36: =SUMIFS('15년일입'!$M$7:$M$703,'15년일입'!$A$7:$A$703,'15년위원회별'!$A36,'15년일입'!$B$7:$B$703,'15년위원회별'!$C36) -> 21000000 | M36: =SUMIFS('15년일입'!$Y$7:$Y$703,'15년일입'!$A$7:$A$703,'15년위원회별'!$A36,'15년일입'!$B$7:$B$703,'15년위원회별'!$C36) -> 0 | N36: =SUMIFS('15년일입'!$Z$7:$Z$703,'15년일입'!$A$7:$A$703,'15년위원회별'!$A36,'15년일입'!$B$7:$B$703,'15년위원회별'!$C36) -> 0 | P36: =SUMIFS('15년일출'!$G$7:$G$1362,'15년일출'!$A$7:$A$1362,'15년위원회별'!$A36,'15년일출'!$B$7:$B$1362,'15년위원회별'!$C36) -> 40844500 | Q36: =SUMIFS('15년일출'!$H$7:$H$1362,'15년일출'!$A$7:$A$1362,'15년위원회별'!$A36,'15년일출'!$B$7:$B$1362,'15년위원회별'!$C36) -> 0 | R36: =SUMIFS('15년일출'!$I$7:$I$1362,'15년일출'!$A$7:$A$1362,'15년위원회별'!$A36,'15년일출'!$B$7:$B$1362,'15년위원회별'!$C36) -> 5869500 | S36: =SUMIFS('15년일출'!$J$7:$J$1362,'15년일출'!$A$7:$A$1362,'15년위원회별'!$A36,'15년일출'!$B$7:$B$1362,'15년위원회별'!$C36) -> 46714000 | T36: =SUMIFS('15년일출'!$T$7:$T$1362,'15년일출'!$A$7:$A$1362,'15년위원회별'!$A36,'15년일출'!$B$7:$B$1362,'15년위원회별'!$C36) -> 0 | U36: =SUMIFS('15년일출'!$U$7:$U$1362,'15년일출'!$A$7:$A$1362,'15년위원회별'!$A36,'15년일출'!$B$7:$B$1362,'15년위원회별'!$C36) -> 5869500 | V36: =SUMIFS('15년일출'!$K$7:$K$1362,'15년일출'!$A$7:$A$1362,'15년위원회별'!$A36,'15년일출'!$B$7:$B$1362,'15년위원회별'!$C36) -> 0 | W36: =SUMIFS('15년일출'!$L$7:$L$1362,'15년일출'!$A$7:$A$1362,'15년위원회별'!$A36,'15년일출'!$B$7:$B$1362,'15년위원회별'!$C36) -> 0 | X36: =SUMIFS('15년일출'!$M$7:$M$1362,'15년일출'!$A$7:$A$1362,'15년위원회별'!$A36,'15년일출'!$B$7:$B$1362,'15년위원회별'!$C36) -> 40844500 | Y36: =SUMIFS('15년일출'!$Y$7:$Y$1362,'15년일출'!$A$7:$A$1362,'15년위원회별'!$A36,'15년일출'!$B$7:$B$1362,'15년위원회별'!$C36) -> 0 | Z36: =SUMIFS('15년일출'!$Z$7:$Z$1362,'15년일출'!$A$7:$A$1362,'15년위원회별'!$A36,'15년일출'!$B$7:$B$1362,'15년위원회별'!$C36) -> 0 | AB36: =IF(H36=T36,"OK","@@") -> OK | AC36: =T36-H36 -> 0
B37: 도시환경위원회 | D37: =SUM(D38:D42) -> 9216000 | E37: =SUM(E38:E42) -> -376000 | F37: =SUM(F38:F42) -> 10781000 | G37: =SUM(G38:G42) -> 19621000 | H37: =SUM(H38:H42) -> 10405000 | I37: =SUM(I38:I42) -> 0 | J37: =SUM(J38:J42) -> 0 | K37: =SUM(K38:K42) -> 0 | ... N37: =SUM(N38:N42) -> 0 | P37: =SUM(P38:P42) -> 105524807 | Q37: =SUM(Q38:Q42) -> -3909178 | R37: =SUM(R38:R42) -> 29429040 | S37: =SUM(S38:S42) -> 131044669 | T37: =SUM(T38:T42) -> 10397822 | U37: =SUM(U38:U42) -> 15122040 | V37: =SUM(V38:V42) -> 0 | W37: =SUM(W38:W42) -> 0 | ... Z37: =SUM(Z38:Z42) -> 0 | AB37: =IF(H37=T37,"OK","@@") -> @@ | AC37: =T37-H37 -> -7178
A38: 도시환경위원회 | C38: 도시주택실 | D38: =SUMIFS('15년일입'!$G$7:$G$703,'15년일입'!$A$7:$A$703,'15년위원회별'!$A38,'15년일입'!$B$7:$B$703,'15년위원회별'!$C38) -> 7915000 | E38: =SUMIFS('15년일입'!$H$7:$H$703,'15년일입'!$A$7:$A$703,'15년위원회별'!$A38,'15년일입'!$B$7:$B$703,'15년위원회별'!$C38) -> 0 | F38: =SUMIFS('15년일입'!$I$7:$I$703,'15년일입'!$A$7:$A$703,'15년위원회별'!$A38,'15년일입'!$B$7:$B$703,'15년위원회별'!$C38) -> 10781000 | G38: =SUMIFS('15년일입'!$J$7:$J$703,'15년일입'!$A$7:$A$703,'15년위원회별'!$A38,'15년일입'!$B$7:$B$703,'15년위원회별'!$C38) -> 18696000 | H38: =SUMIFS('15년일입'!$T$7:$T$703,'15년일입'!$A$7:$A$703,'15년위원회별'!$A38,'15년일입'!$B$7:$B$703,'15년위원회별'!$C38) -> 10781000 | I38: =SUMIFS('15년일입'!$U$7:$U$703,'15년일입'!$A$7:$A$703,'15년위원회별'!$A38,'15년일입'!$B$7:$B$703,'15년위원회별'!$C38) -> 0 | J38: =SUMIFS('15년일입'!$K$7:$K$703,'15년일입'!$A$7:$A$703,'15년위원회별'!$A38,'15년일입'!$B$7:$B$703,'15년위원회별'!$C38) -> 0 | K38: =SUMIFS('15년일입'!$L$7:$L$703,'15년일입'!$A$7:$A$703,'15년위원회별'!$A38,'15년일입'!$B$7:$B$703,'15년위원회별'!$C38) -> 0 | L38: =SUMIFS('15년일입'!$M$7:$M$703,'15년일입'!$A$7:$A$703,'15년위원회별'!$A38,'15년일입'!$B$7:$B$703,'15년위원회별'!$C38) -> 7915000 | M38: =SUMIFS('15년일입'!$Y$7:$Y$703,'15년일입'!$A$7:$A$703,'15년위원회별'!$A38,'15년일입'!$B$7:$B$703,'15년위원회별'!$C38) -> 0 | N38: =SUMIFS('15년일입'!$Z$7:$Z$703,'15년일입'!$A$7:$A$703,'15년위원회별'!$A38,'15년일입'!$B$7:$B$703,'15년위원회별'!$C38) -> 0 | P38: =SUMIFS('15년일출'!$G$7:$G$1362,'15년일출'!$A$7:$A$1362,'15년위원회별'!$A38,'15년일출'!$B$7:$B$1362,'15년위원회별'!$C38) -> 31060800 | Q38: =SUMIFS('15년일출'!$H$7:$H$1362,'15년일출'!$A$7:$A$1362,'15년위원회별'!$A38,'15년일출'!$B$7:$B$1362,'15년위원회별'!$C38) -> -110000 | R38: =SUMIFS('15년일출'!$I$7:$I$1362,'15년일출'!$A$7:$A$1362,'15년위원회별'!$A38,'15년일출'!$B$7:$B$1362,'15년위원회별'!$C38) -> 16798705 | S38: =SUMIFS('15년일출'!$J$7:$J$1362,'15년일출'!$A$7:$A$1362,'15년위원회별'!$A38,'15년일출'!$B$7:$B$1362,'15년위원회별'!$C38) -> 47749505 | T38: =SUMIFS('15년일출'!$T$7:$T$1362,'15년일출'!$A$7:$A$1362,'15년위원회별'!$A38,'15년일출'!$B$7:$B$1362,'15년위원회별'!$C38) -> 9281000 | U38: =SUMIFS('15년일출'!$U$7:$U$1362,'15년일출'!$A$7:$A$1362,'15년위원회별'!$A38,'15년일출'!$B$7:$B$1362,'15년위원회별'!$C38) -> 7407705 | V38: =SUMIFS('15년일출'!$K$7:$K$1362,'15년일출'!$A$7:$A$1362,'15년위원회별'!$A38,'15년일출'!$B$7:$B$1362,'15년위원회별'!$C38) -> 0 | W38: =SUMIFS('15년일출'!$L$7:$L$1362,'15년일출'!$A$7:$A$1362,'15년위원회별'!$A38,'15년일출'!$B$7:$B$1362,'15년위원회별'!$C38) -> 0 | X38: =SUMIFS('15년일출'!$M$7:$M$1362,'15년일출'!$A$7:$A$1362,'15년위원회별'!$A38,'15년일출'!$B$7:$B$1362,'15년위원회별'!$C38) -> 31060800 | Y38: =SUMIFS('15년일출'!$Y$7:$Y$1362,'15년일출'!$A$7:$A$1362,'15년위원회별'!$A38,'15년일출'!$B$7:$B$1362,'15년위원회별'!$C38) -> 0 | Z38: =SUMIFS('15년일출'!$Z$7:$Z$1362,'15년일출'!$A$7:$A$1362,'15년위원회별'!$A38,'15년일출'!$B$7:$B$1362,'15년위원회별'!$C38) -> 0 | AB38: =IF(H38=T38,"OK","@@") -> @@ | AC38: =T38-H38 -> -1500000
A39: 도시환경위원회 | C39: 환경국 | D39: =SUMIFS('15년일입'!$G$7:$G$703,'15년일입'!$A$7:$A$703,'15년위원회별'!$A39,'15년일입'!$B$7:$B$703,'15년위원회별'!$C39) -> 0 | E39: =SUMIFS('15년일입'!$H$7:$H$703,'15년일입'!$A$7:$A$703,'15년위원회별'!$A39,'15년일입'!$B$7:$B$703,'15년위원회별'!$C39) -> 0 | F39: =SUMIFS('15년일입'!$I$7:$I$703,'15년일입'!$A$7:$A$703,'15년위원회별'!$A39,'15년일입'!$B$7:$B$703,'15년위원회별'!$C39) -> 0 | G39: =SUMIFS('15년일입'!$J$7:$J$703,'15년일입'!$A$7:$A$703,'15년위원회별'!$A39,'15년일입'!$B$7:$B$703,'15년위원회별'!$C39) -> 0 | H39: =SUMIFS('15년일입'!$T$7:$T$703,'15년일입'!$A$7:$A$703,'15년위원회별'!$A39,'15년일입'!$B$7:$B$703,'15년위원회별'!$C39) -> 0 | I39: =SUMIFS('15년일입'!$U$7:$U$703,'15년일입'!$A$7:$A$703,'15년위원회별'!$A39,'15년일입'!$B$7:$B$703,'15년위원회별'!$C39) -> 0 | J39: =SUMIFS('15년일입'!$K$7:$K$703,'15년일입'!$A$7:$A$703,'15년위원회별'!$A39,'15년일입'!$B$7:$B$703,'15년위원회별'!$C39) -> 0 | K39: =SUMIFS('15년일입'!$L$7:$L$703,'15년일입'!$A$7:$A$703,'15년위원회별'!$A39,'15년일입'!$B$7:$B$703,'15년위원회별'!$C39) -> 0 | L39: =SUMIFS('15년일입'!$M$7:$M$703,'15년일입'!$A$7:$A$703,'15년위원회별'!$A39,'15년일입'!$B$7:$B$703,'15년위원회별'!$C39) -> 0 | M39: =SUMIFS('15년일입'!$Y$7:$Y$703,'15년일입'!$A$7:$A$703,'15년위원회별'!$A39,'15년일입'!$B$7:$B$703,'15년위원회별'!$C39) -> 0 | N39: =SUMIFS('15년일입'!$Z$7:$Z$703,'15년일입'!$A$7:$A$703,'15년위원회별'!$A39,'15년일입'!$B$7:$B$703,'15년위원회별'!$C39) -> 0 | P39: =SUMIFS('15년일출'!$G$7:$G$1362,'15년일출'!$A$7:$A$1362,'15년위원회별'!$A39,'15년일출'!$B$7:$B$1362,'15년위원회별'!$C39) -> 2667473 | Q39: =SUMIFS('15년일출'!$H$7:$H$1362,'15년일출'!$A$7:$A$1362,'15년위원회별'!$A39,'15년일출'!$B$7:$B$1362,'15년위원회별'!$C39) -> -205000 | R39: =SUMIFS('15년일출'!$I$7:$I$1362,'15년일출'!$A$7:$A$1362,'15년위원회별'!$A39,'15년일출'!$B$7:$B$1362,'15년위원회별'!$C39) -> 1011380 | S39: =SUMIFS('15년일출'!$J$7:$J$1362,'15년일출'!$A$7:$A$1362,'15년위원회별'!$A39,'15년일출'!$B$7:$B$1362,'15년위원회별'!$C39) -> 3473853 | T39: =SUMIFS('15년일출'!$T$7:$T$1362,'15년일출'!$A$7:$A$1362,'15년위원회별'!$A39,'15년일출'!$B$7:$B$1362,'15년위원회별'!$C39) -> 0 | U39: =SUMIFS('15년일출'!$U$7:$U$1362,'15년일출'!$A$7:$A$1362,'15년위원회별'!$A39,'15년일출'!$B$7:$B$1362,'15년위원회별'!$C39) -> 806380 | V39: =SUMIFS('15년일출'!$K$7:$K$1362,'15년일출'!$A$7:$A$1362,'15년위원회별'!$A39,'15년일출'!$B$7:$B$1362,'15년위원회별'!$C39) -> 0 | W39: =SUMIFS('15년일출'!$L$7:$L$1362,'15년일출'!$A$7:$A$1362,'15년위원회별'!$A39,'15년일출'!$B$7:$B$1362,'15년위원회별'!$C39) -> 0 | X39: =SUMIFS('15년일출'!$M$7:$M$1362,'15년일출'!$A$7:$A$1362,'15년위원회별'!$A39,'15년일출'!$B$7:$B$1362,'15년위원회별'!$C39) -> 2667473 | Y39: =SUMIFS('15년일출'!$Y$7:$Y$1362,'15년일출'!$A$7:$A$1362,'15년위원회별'!$A39,'15년일출'!$B$7:$B$1362,'15년위원회별'!$C39) -> 0 | Z39: =SUMIFS('15년일출'!$Z$7:$Z$1362,'15년일출'!$A$7:$A$1362,'15년위원회별'!$A39,'15년일출'!$B$7:$B$1362,'15년위원회별'!$C39) -> 0 | AB39: =IF(H39=T39,"OK","@@") -> OK | AC39: =T39-H39 -> 0
A40: 도시환경위원회 | C40: 축산산림국 | D40: =SUMIFS('15년일입'!$G$7:$G$703,'15년일입'!$A$7:$A$703,'15년위원회별'!$A40,'15년일입'!$B$7:$B$703,'15년위원회별'!$C40) -> 1301000 | E40: =SUMIFS('15년일입'!$H$7:$H$703,'15년일입'!$A$7:$A$703,'15년위원회별'!$A40,'15년일입'!$B$7:$B$703,'15년위원회별'!$C40) -> -376000 | F40: =SUMIFS('15년일입'!$I$7:$I$703,'15년일입'!$A$7:$A$703,'15년위원회별'!$A40,'15년일입'!$B$7:$B$703,'15년위원회별'!$C40) -> 0 | G40: =SUMIFS('15년일입'!$J$7:$J$703,'15년일입'!$A$7:$A$703,'15년위원회별'!$A40,'15년일입'!$B$7:$B$703,'15년위원회별'!$C40) -> 925000 | H40: =SUMIFS('15년일입'!$T$7:$T$703,'15년일입'!$A$7:$A$703,'15년위원회별'!$A40,'15년일입'!$B$7:$B$703,'15년위원회별'!$C40) -> -376000 | I40: =SUMIFS('15년일입'!$U$7:$U$703,'15년일입'!$A$7:$A$703,'15년위원회별'!$A40,'15년일입'!$B$7:$B$703,'15년위원회별'!$C40) -> 0 | J40: =SUMIFS('15년일입'!$K$7:$K$703,'15년일입'!$A$7:$A$703,'15년위원회별'!$A40,'15년일입'!$B$7:$B$703,'15년위원회별'!$C40) -> 0 | K40: =SUMIFS('15년일입'!$L$7:$L$703,'15년일입'!$A$7:$A$703,'15년위원회별'!$A40,'15년일입'!$B$7:$B$703,'15년위원회별'!$C40) -> 0 | L40: =SUMIFS('15년일입'!$M$7:$M$703,'15년일입'!$A$7:$A$703,'15년위원회별'!$A40,'15년일입'!$B$7:$B$703,'15년위원회별'!$C40) -> 1301000 | M40: =SUMIFS('15년일입'!$Y$7:$Y$703,'15년일입'!$A$7:$A$703,'15년위원회별'!$A40,'15년일입'!$B$7:$B$703,'15년위원회별'!$C40) -> 0 | N40: =SUMIFS('15년일입'!$Z$7:$Z$703,'15년일입'!$A$7:$A$703,'15년위원회별'!$A40,'15년일입'!$B$7:$B$703,'15년위원회별'!$C40) -> 0 | P40: =SUMIFS('15년일출'!$G$7:$G$1362,'15년일출'!$A$7:$A$1362,'15년위원회별'!$A40,'15년일출'!$B$7:$B$1362,'15년위원회별'!$C40) -> 1505994 | Q40: =SUMIFS('15년일출'!$H$7:$H$1362,'15년일출'!$A$7:$A$1362,'15년위원회별'!$A40,'15년일출'!$B$7:$B$1362,'15년위원회별'!$C40) -> -383178 | R40: =SUMIFS('15년일출'!$I$7:$I$1362,'15년일출'!$A$7:$A$1362,'15년위원회별'!$A40,'15년일출'!$B$7:$B$1362,'15년위원회별'!$C40) -> 7520000 | S40: =SUMIFS('15년일출'!$J$7:$J$1362,'15년일출'!$A$7:$A$1362,'15년위원회별'!$A40,'15년일출'!$B$7:$B$1362,'15년위원회별'!$C40) -> 8642816 | T40: =SUMIFS('15년일출'!$T$7:$T$1362,'15년일출'!$A$7:$A$1362,'15년위원회별'!$A40,'15년일출'!$B$7:$B$1362,'15년위원회별'!$C40) -> 1116822 | U40: =SUMIFS('15년일출'!$U$7:$U$1362,'15년일출'!$A$7:$A$1362,'15년위원회별'!$A40,'15년일출'!$B$7:$B$1362,'15년위원회별'!$C40) -> 6020000 | V40: =SUMIFS('15년일출'!$K$7:$K$1362,'15년일출'!$A$7:$A$1362,'15년위원회별'!$A40,'15년일출'!$B$7:$B$1362,'15년위원회별'!$C40) -> 0 | W40: =SUMIFS('15년일출'!$L$7:$L$1362,'15년일출'!$A$7:$A$1362,'15년위원회별'!$A40,'15년일출'!$B$7:$B$1362,'15년위원회별'!$C40) -> 0 | X40: =SUMIFS('15년일출'!$M$7:$M$1362,'15년일출'!$A$7:$A$1362,'15년위원회별'!$A40,'15년일출'!$B$7:$B$1362,'15년위원회별'!$C40) -> 1505994 | Y40: =SUMIFS('15년일출'!$Y$7:$Y$1362,'15년일출'!$A$7:$A$1362,'15년위원회별'!$A40,'15년일출'!$B$7:$B$1362,'15년위원회별'!$C40) -> 0 | Z40: =SUMIFS('15년일출'!$Z$7:$Z$1362,'15년일출'!$A$7:$A$1362,'15년위원회별'!$A40,'15년일출'!$B$7:$B$1362,'15년위원회별'!$C40) -> 0 | AB40: =IF(H40=T40,"OK","@@") -> @@ | AC40: =T40-H40 -> 1492822
A41: 도시환경위원회 | C41: 보건환경연구원 | D41: =SUMIFS('15년일입'!$G$7:$G$703,'15년일입'!$A$7:$A$703,'15년위원회별'!$A41,'15년일입'!$B$7:$B$703,'15년위원회별'!$C41) -> 0 | E41: =SUMIFS('15년일입'!$H$7:$H$703,'15년일입'!$A$7:$A$703,'15년위원회별'!$A41,'15년일입'!$B$7:$B$703,'15년위원회별'!$C41) -> 0 | F41: =SUMIFS('15년일입'!$I$7:$I$703,'15년일입'!$A$7:$A$703,'15년위원회별'!$A41,'15년일입'!$B$7:$B$703,'15년위원회별'!$C41) -> 0 | G41: =SUMIFS('15년일입'!$J$7:$J$703,'15년일입'!$A$7:$A$703,'15년위원회별'!$A41,'15년일입'!$B$7:$B$703,'15년위원회별'!$C41) -> 0 | H41: =SUMIFS('15년일입'!$T$7:$T$703,'15년일입'!$A$7:$A$703,'15년위원회별'!$A41,'15년일입'!$B$7:$B$703,'15년위원회별'!$C41) -> 0 | I41: =SUMIFS('15년일입'!$U$7:$U$703,'15년일입'!$A$7:$A$703,'15년위원회별'!$A41,'15년일입'!$B$7:$B$703,'15년위원회별'!$C41) -> 0 | J41: =SUMIFS('15년일입'!$K$7:$K$703,'15년일입'!$A$7:$A$703,'15년위원회별'!$A41,'15년일입'!$B$7:$B$703,'15년위원회별'!$C41) -> 0 | K41: =SUMIFS('15년일입'!$L$7:$L$703,'15년일입'!$A$7:$A$703,'15년위원회별'!$A41,'15년일입'!$B$7:$B$703,'15년위원회별'!$C41) -> 0 | L41: =SUMIFS('15년일입'!$M$7:$M$703,'15년일입'!$A$7:$A$703,'15년위원회별'!$A41,'15년일입'!$B$7:$B$703,'15년위원회별'!$C41) -> 0 | M41: =SUMIFS('15년일입'!$Y$7:$Y$703,'15년일입'!$A$7:$A$703,'15년위원회별'!$A41,'15년일입'!$B$7:$B$703,'15년위원회별'!$C41) -> 0 | N41: =SUMIFS('15년일입'!$Z$7:$Z$703,'15년일입'!$A$7:$A$703,'15년위원회별'!$A41,'15년일입'!$B$7:$B$703,'15년위원회별'!$C41) -> 0 | P41: =SUMIFS('15년일출'!$G$7:$G$1362,'15년일출'!$A$7:$A$1362,'15년위원회별'!$A41,'15년일출'!$B$7:$B$1362,'15년위원회별'!$C41) -> 16840 | Q41: =SUMIFS('15년일출'!$H$7:$H$1362,'15년일출'!$A$7:$A$1362,'15년위원회별'!$A41,'15년일출'!$B$7:$B$1362,'15년위원회별'!$C41) -> 0 | R41: =SUMIFS('15년일출'!$I$7:$I$1362,'15년일출'!$A$7:$A$1362,'15년위원회별'!$A41,'15년일출'!$B$7:$B$1362,'15년위원회별'!$C41) -> 20000 | S41: =SUMIFS('15년일출'!$J$7:$J$1362,'15년일출'!$A$7:$A$1362,'15년위원회별'!$A41,'15년일출'!$B$7:$B$1362,'15년위원회별'!$C41) -> 36840 | T41: =SUMIFS('15년일출'!$T$7:$T$1362,'15년일출'!$A$7:$A$1362,'15년위원회별'!$A41,'15년일출'!$B$7:$B$1362,'15년위원회별'!$C41) -> 0 | U41: =SUMIFS('15년일출'!$U$7:$U$1362,'15년일출'!$A$7:$A$1362,'15년위원회별'!$A41,'15년일출'!$B$7:$B$1362,'15년위원회별'!$C41) -> 20000 | V41: =SUMIFS('15년일출'!$K$7:$K$1362,'15년일출'!$A$7:$A$1362,'15년위원회별'!$A41,'15년일출'!$B$7:$B$1362,'15년위원회별'!$C41) -> 0 | W41: =SUMIFS('15년일출'!$L$7:$L$1362,'15년일출'!$A$7:$A$1362,'15년위원회별'!$A41,'15년일출'!$B$7:$B$1362,'15년위원회별'!$C41) -> 0 | X41: =SUMIFS('15년일출'!$M$7:$M$1362,'15년일출'!$A$7:$A$1362,'15년위원회별'!$A41,'15년일출'!$B$7:$B$1362,'15년위원회별'!$C41) -> 16840 | Y41: =SUMIFS('15년일출'!$Y$7:$Y$1362,'15년일출'!$A$7:$A$1362,'15년위원회별'!$A41,'15년일출'!$B$7:$B$1362,'15년위원회별'!$C41) -> 0 | Z41: =SUMIFS('15년일출'!$Z$7:$Z$1362,'15년일출'!$A$7:$A$1362,'15년위원회별'!$A41,'15년일출'!$B$7:$B$1362,'15년위원회별'!$C41) -> 0 | AB41: =IF(H41=T41,"OK","@@") -> OK | AC41: =T41-H41 -> 0
A42: 도시환경위원회 | C42: 수자원본부 | D42: =SUMIFS('15년일입'!$G$7:$G$703,'15년일입'!$A$7:$A$703,'15년위원회별'!$A42,'15년일입'!$B$7:$B$703,'15년위원회별'!$C42) -> 0 | E42: =SUMIFS('15년일입'!$H$7:$H$703,'15년일입'!$A$7:$A$703,'15년위원회별'!$A42,'15년일입'!$B$7:$B$703,'15년위원회별'!$C42) -> 0 | F42: =SUMIFS('15년일입'!$I$7:$I$703,'15년일입'!$A$7:$A$703,'15년위원회별'!$A42,'15년일입'!$B$7:$B$703,'15년위원회별'!$C42) -> 0 | G42: =SUMIFS('15년일입'!$J$7:$J$703,'15년일입'!$A$7:$A$703,'15년위원회별'!$A42,'15년일입'!$B$7:$B$703,'15년위원회별'!$C42) -> 0 | H42: =SUMIFS('15년일입'!$T$7:$T$703,'15년일입'!$A$7:$A$703,'15년위원회별'!$A42,'15년일입'!$B$7:$B$703,'15년위원회별'!$C42) -> 0 | I42: =SUMIFS('15년일입'!$U$7:$U$703,'15년일입'!$A$7:$A$703,'15년위원회별'!$A42,'15년일입'!$B$7:$B$703,'15년위원회별'!$C42) -> 0 | J42: =SUMIFS('15년일입'!$K$7:$K$703,'15년일입'!$A$7:$A$703,'15년위원회별'!$A42,'15년일입'!$B$7:$B$703,'15년위원회별'!$C42) -> 0 | K42: =SUMIFS('15년일입'!$L$7:$L$703,'15년일입'!$A$7:$A$703,'15년위원회별'!$A42,'15년일입'!$B$7:$B$703,'15년위원회별'!$C42) -> 0 | L42: =SUMIFS('15년일입'!$M$7:$M$703,'15년일입'!$A$7:$A$703,'15년위원회별'!$A42,'15년일입'!$B$7:$B$703,'15년위원회별'!$C42) -> 0 | M42: =SUMIFS('15년일입'!$Y$7:$Y$703,'15년일입'!$A$7:$A$703,'15년위원회별'!$A42,'15년일입'!$B$7:$B$703,'15년위원회별'!$C42) -> 0 | N42: =SUMIFS('15년일입'!$Z$7:$Z$703,'15년일입'!$A$7:$A$703,'15년위원회별'!$A42,'15년일입'!$B$7:$B$703,'15년위원회별'!$C42) -> 0 | P42: =SUMIFS('15년일출'!$G$7:$G$1362,'15년일출'!$A$7:$A$1362,'15년위원회별'!$A42,'15년일출'!$B$7:$B$1362,'15년위원회별'!$C42) -> 70273700 | Q42: =SUMIFS('15년일출'!$H$7:$H$1362,'15년일출'!$A$7:$A$1362,'15년위원회별'!$A42,'15년일출'!$B$7:$B$1362,'15년위원회별'!$C42) -> -3211000 | R42: =SUMIFS('15년일출'!$I$7:$I$1362,'15년일출'!$A$7:$A$1362,'15년위원회별'!$A42,'15년일출'!$B$7:$B$1362,'15년위원회별'!$C42) -> 4078955 | S42: =SUMIFS('15년일출'!$J$7:$J$1362,'15년일출'!$A$7:$A$1362,'15년위원회별'!$A42,'15년일출'!$B$7:$B$1362,'15년위원회별'!$C42) -> 71141655 | T42: =SUMIFS('15년일출'!$T$7:$T$1362,'15년일출'!$A$7:$A$1362,'15년위원회별'!$A42,'15년일출'!$B$7:$B$1362,'15년위원회별'!$C42) -> 0 | U42: =SUMIFS('15년일출'!$U$7:$U$1362,'15년일출'!$A$7:$A$1362,'15년위원회별'!$A42,'15년일출'!$B$7:$B$1362,'15년위원회별'!$C42) -> 867955 | V42: =SUMIFS('15년일출'!$K$7:$K$1362,'15년일출'!$A$7:$A$1362,'15년위원회별'!$A42,'15년일출'!$B$7:$B$1362,'15년위원회별'!$C42) -> 0 | W42: =SUMIFS('15년일출'!$L$7:$L$1362,'15년일출'!$A$7:$A$1362,'15년위원회별'!$A42,'15년일출'!$B$7:$B$1362,'15년위원회별'!$C42) -> 0 | X42: =SUMIFS('15년일출'!$M$7:$M$1362,'15년일출'!$A$7:$A$1362,'15년위원회별'!$A42,'15년일출'!$B$7:$B$1362,'15년위원회별'!$C42) -> 70273700 | Y42: =SUMIFS('15년일출'!$Y$7:$Y$1362,'15년일출'!$A$7:$A$1362,'15년위원회별'!$A42,'15년일출'!$B$7:$B$1362,'15년위원회별'!$C42) -> 0 | Z42: =SUMIFS('15년일출'!$Z$7:$Z$1362,'15년일출'!$A$7:$A$1362,'15년위원회별'!$A42,'15년일출'!$B$7:$B$1362,'15년위원회별'!$C42) -> 0 | AB42: =IF(H42=T42,"OK","@@") -> OK | AC42: =T42-H42 -> 0
B43: 여성가족교육협력위원회 | D43: =SUM(D44:D46) -> 14725282 | E43: =SUM(E44:E46) -> -3757329 | F43: =SUM(F44:F46) -> 215676996 | G43: =SUM(G44:G46) -> 226644949 | H43: =SUM(H44:H46) -> -3625417 | I43: =SUM(I44:I46) -> 215545084 | J43: =SUM(J44:J46) -> 0 | K43: =SUM(K44:K46) -> 0 | ... N43: =SUM(N44:N46) -> 0 | P43: =SUM(P44:P46) -> 21432312 | Q43: =SUM(Q44:Q46) -> -6768929 | R43: =SUM(R44:R46) -> 228224069 | S43: =SUM(S44:S46) -> 242887452 | T43: =SUM(T44:T46) -> -3625417 | U43: =SUM(U44:U46) -> 225080557 | V43: =SUM(V44:V46) -> 0 | W43: =SUM(W44:W46) -> 0 | ... Z43: =SUM(Z44:Z46) -> 0 | AB43: =IF(H43=T43,"OK","@@") -> OK | AC43: =T43-H43 -> 0
A44: 여성가족교육협력위원회 | C44: 교육협력국 | D44: =SUMIFS('15년일입'!$G$7:$G$703,'15년일입'!$A$7:$A$703,'15년위원회별'!$A44,'15년일입'!$B$7:$B$703,'15년위원회별'!$C44) -> 0 | E44: =SUMIFS('15년일입'!$H$7:$H$703,'15년일입'!$A$7:$A$703,'15년위원회별'!$A44,'15년일입'!$B$7:$B$703,'15년위원회별'!$C44) -> 0 | F44: =SUMIFS('15년일입'!$I$7:$I$703,'15년일입'!$A$7:$A$703,'15년위원회별'!$A44,'15년일입'!$B$7:$B$703,'15년위원회별'!$C44) -> 0 | G44: =SUMIFS('15년일입'!$J$7:$J$703,'15년일입'!$A$7:$A$703,'15년위원회별'!$A44,'15년일입'!$B$7:$B$703,'15년위원회별'!$C44) -> 0 | H44: =SUMIFS('15년일입'!$T$7:$T$703,'15년일입'!$A$7:$A$703,'15년위원회별'!$A44,'15년일입'!$B$7:$B$703,'15년위원회별'!$C44) -> 0 | I44: =SUMIFS('15년일입'!$U$7:$U$703,'15년일입'!$A$7:$A$703,'15년위원회별'!$A44,'15년일입'!$B$7:$B$703,'15년위원회별'!$C44) -> 0 | J44: =SUMIFS('15년일입'!$K$7:$K$703,'15년일입'!$A$7:$A$703,'15년위원회별'!$A44,'15년일입'!$B$7:$B$703,'15년위원회별'!$C44) -> 0 | K44: =SUMIFS('15년일입'!$L$7:$L$703,'15년일입'!$A$7:$A$703,'15년위원회별'!$A44,'15년일입'!$B$7:$B$703,'15년위원회별'!$C44) -> 0 | L44: =SUMIFS('15년일입'!$M$7:$M$703,'15년일입'!$A$7:$A$703,'15년위원회별'!$A44,'15년일입'!$B$7:$B$703,'15년위원회별'!$C44) -> 0 | M44: =SUMIFS('15년일입'!$Y$7:$Y$703,'15년일입'!$A$7:$A$703,'15년위원회별'!$A44,'15년일입'!$B$7:$B$703,'15년위원회별'!$C44) -> 0 | N44: =SUMIFS('15년일입'!$Z$7:$Z$703,'15년일입'!$A$7:$A$703,'15년위원회별'!$A44,'15년일입'!$B$7:$B$703,'15년위원회별'!$C44) -> 0 | P44: =SUMIFS('15년일출'!$G$7:$G$1362,'15년일출'!$A$7:$A$1362,'15년위원회별'!$A44,'15년일출'!$B$7:$B$1362,'15년위원회별'!$C44) -> 2520000 | Q44: =SUMIFS('15년일출'!$H$7:$H$1362,'15년일출'!$A$7:$A$1362,'15년위원회별'!$A44,'15년일출'!$B$7:$B$1362,'15년위원회별'!$C44) -> -206000 | R44: =SUMIFS('15년일출'!$I$7:$I$1362,'15년일출'!$A$7:$A$1362,'15년위원회별'!$A44,'15년일출'!$B$7:$B$1362,'15년위원회별'!$C44) -> 756000 | S44: =SUMIFS('15년일출'!$J$7:$J$1362,'15년일출'!$A$7:$A$1362,'15년위원회별'!$A44,'15년일출'!$B$7:$B$1362,'15년위원회별'!$C44) -> 3070000 | T44: =SUMIFS('15년일출'!$T$7:$T$1362,'15년일출'!$A$7:$A$1362,'15년위원회별'!$A44,'15년일출'!$B$7:$B$1362,'15년위원회별'!$C44) -> 0 | U44: =SUMIFS('15년일출'!$U$7:$U$1362,'15년일출'!$A$7:$A$1362,'15년위원회별'!$A44,'15년일출'!$B$7:$B$1362,'15년위원회별'!$C44) -> 550000 | V44: =SUMIFS('15년일출'!$K$7:$K$1362,'15년일출'!$A$7:$A$1362,'15년위원회별'!$A44,'15년일출'!$B$7:$B$1362,'15년위원회별'!$C44) -> 0 | W44: =SUMIFS('15년일출'!$L$7:$L$1362,'15년일출'!$A$7:$A$1362,'15년위원회별'!$A44,'15년일출'!$B$7:$B$1362,'15년위원회별'!$C44) -> 0 | X44: =SUMIFS('15년일출'!$M$7:$M$1362,'15년일출'!$A$7:$A$1362,'15년위원회별'!$A44,'15년일출'!$B$7:$B$1362,'15년위원회별'!$C44) -> 2520000 | Y44: =SUMIFS('15년일출'!$Y$7:$Y$1362,'15년일출'!$A$7:$A$1362,'15년위원회별'!$A44,'15년일출'!$B$7:$B$1362,'15년위원회별'!$C44) -> 0 | Z44: =SUMIFS('15년일출'!$Z$7:$Z$1362,'15년일출'!$A$7:$A$1362,'15년위원회별'!$A44,'15년일출'!$B$7:$B$1362,'15년위원회별'!$C44) -> 0 | AB44: =IF(H44=T44,"OK","@@") -> OK | AC44: =T44-H44 -> 0
A45: 여성가족교육협력위원회 | C45: 여성가족국 | D45: =SUMIFS('15년일입'!$G$7:$G$703,'15년일입'!$A$7:$A$703,'15년위원회별'!$A45,'15년일입'!$B$7:$B$703,'15년위원회별'!$C45) -> 14725282 | E45: =SUMIFS('15년일입'!$H$7:$H$703,'15년일입'!$A$7:$A$703,'15년위원회별'!$A45,'15년일입'!$B$7:$B$703,'15년위원회별'!$C45) -> -3757329 | F45: =SUMIFS('15년일입'!$I$7:$I$703,'15년일입'!$A$7:$A$703,'15년위원회별'!$A45,'15년일입'!$B$7:$B$703,'15년위원회별'!$C45) -> 215676996 | G45: =SUMIFS('15년일입'!$J$7:$J$703,'15년일입'!$A$7:$A$703,'15년위원회별'!$A45,'15년일입'!$B$7:$B$703,'15년위원회별'!$C45) -> 226644949 | H45: =SUMIFS('15년일입'!$T$7:$T$703,'15년일입'!$A$7:$A$703,'15년위원회별'!$A45,'15년일입'!$B$7:$B$703,'15년위원회별'!$C45) -> -3625417 | I45: =SUMIFS('15년일입'!$U$7:$U$703,'15년일입'!$A$7:$A$703,'15년위원회별'!$A45,'15년일입'!$B$7:$B$703,'15년위원회별'!$C45) -> 215545084 | J45: =SUMIFS('15년일입'!$K$7:$K$703,'15년일입'!$A$7:$A$703,'15년위원회별'!$A45,'15년일입'!$B$7:$B$703,'15년위원회별'!$C45) -> 0 | K45: =SUMIFS('15년일입'!$L$7:$L$703,'15년일입'!$A$7:$A$703,'15년위원회별'!$A45,'15년일입'!$B$7:$B$703,'15년위원회별'!$C45) -> 0 | L45: =SUMIFS('15년일입'!$M$7:$M$703,'15년일입'!$A$7:$A$703,'15년위원회별'!$A45,'15년일입'!$B$7:$B$703,'15년위원회별'!$C45) -> 14725282 | M45: =SUMIFS('15년일입'!$Y$7:$Y$703,'15년일입'!$A$7:$A$703,'15년위원회별'!$A45,'15년일입'!$B$7:$B$703,'15년위원회별'!$C45) -> 0 | N45: =SUMIFS('15년일입'!$Z$7:$Z$703,'15년일입'!$A$7:$A$703,'15년위원회별'!$A45,'15년일입'!$B$7:$B$703,'15년위원회별'!$C45) -> 0 | P45: =SUMIFS('15년일출'!$G$7:$G$1362,'15년일출'!$A$7:$A$1362,'15년위원회별'!$A45,'15년일출'!$B$7:$B$1362,'15년위원회별'!$C45) -> 15518386 | Q45: =SUMIFS('15년일출'!$H$7:$H$1362,'15년일출'!$A$7:$A$1362,'15년위원회별'!$A45,'15년일출'!$B$7:$B$1362,'15년위원회별'!$C45) -> -5939109 | R45: =SUMIFS('15년일출'!$I$7:$I$1362,'15년일출'!$A$7:$A$1362,'15년위원회별'!$A45,'15년일출'!$B$7:$B$1362,'15년위원회별'!$C45) -> 166634536 | S45: =SUMIFS('15년일출'!$J$7:$J$1362,'15년일출'!$A$7:$A$1362,'15년위원회별'!$A45,'15년일출'!$B$7:$B$1362,'15년위원회별'!$C45) -> 176213813 | T45: =SUMIFS('15년일출'!$T$7:$T$1362,'15년일출'!$A$7:$A$1362,'15년위원회별'!$A45,'15년일출'!$B$7:$B$1362,'15년위원회별'!$C45) -> -3332166 | U45: =SUMIFS('15년일출'!$U$7:$U$1362,'15년일출'!$A$7:$A$1362,'15년위원회별'!$A45,'15년일출'!$B$7:$B$1362,'15년위원회별'!$C45) -> 164027593 | V45: =SUMIFS('15년일출'!$K$7:$K$1362,'15년일출'!$A$7:$A$1362,'15년위원회별'!$A45,'15년일출'!$B$7:$B$1362,'15년위원회별'!$C45) -> 0 | W45: =SUMIFS('15년일출'!$L$7:$L$1362,'15년일출'!$A$7:$A$1362,'15년위원회별'!$A45,'15년일출'!$B$7:$B$1362,'15년위원회별'!$C45) -> 0 | X45: =SUMIFS('15년일출'!$M$7:$M$1362,'15년일출'!$A$7:$A$1362,'15년위원회별'!$A45,'15년일출'!$B$7:$B$1362,'15년위원회별'!$C45) -> 15518386 | Y45: =SUMIFS('15년일출'!$Y$7:$Y$1362,'15년일출'!$A$7:$A$1362,'15년위원회별'!$A45,'15년일출'!$B$7:$B$1362,'15년위원회별'!$C45) -> 0 | Z45: =SUMIFS('15년일출'!$Z$7:$Z$1362,'15년일출'!$A$7:$A$1362,'15년위원회별'!$A45,'15년일출'!$B$7:$B$1362,'15년위원회별'!$C45) -> 0 | AB45: =IF(H45=T45,"OK","@@") -> @@ | AC45: =T45-H45 -> 293251
A46: 여성가족교육협력위원회 | C46: 복지여성실 | D46: =SUMIFS('15년일입'!$G$7:$G$703,'15년일입'!$A$7:$A$703,'15년위원회별'!$A46,'15년일입'!$B$7:$B$703,'15년위원회별'!$C46) -> 0 | E46: =SUMIFS('15년일입'!$H$7:$H$703,'15년일입'!$A$7:$A$703,'15년위원회별'!$A46,'15년일입'!$B$7:$B$703,'15년위원회별'!$C46) -> 0 | F46: =SUMIFS('15년일입'!$I$7:$I$703,'15년일입'!$A$7:$A$703,'15년위원회별'!$A46,'15년일입'!$B$7:$B$703,'15년위원회별'!$C46) -> 0 | G46: =SUMIFS('15년일입'!$J$7:$J$703,'15년일입'!$A$7:$A$703,'15년위원회별'!$A46,'15년일입'!$B$7:$B$703,'15년위원회별'!$C46) -> 0 | H46: =SUMIFS('15년일입'!$T$7:$T$703,'15년일입'!$A$7:$A$703,'15년위원회별'!$A46,'15년일입'!$B$7:$B$703,'15년위원회별'!$C46) -> 0 | I46: =SUMIFS('15년일입'!$U$7:$U$703,'15년일입'!$A$7:$A$703,'15년위원회별'!$A46,'15년일입'!$B$7:$B$703,'15년위원회별'!$C46) -> 0 | J46: =SUMIFS('15년일입'!$K$7:$K$703,'15년일입'!$A$7:$A$703,'15년위원회별'!$A46,'15년일입'!$B$7:$B$703,'15년위원회별'!$C46) -> 0 | K46: =SUMIFS('15년일입'!$L$7:$L$703,'15년일입'!$A$7:$A$703,'15년위원회별'!$A46,'15년일입'!$B$7:$B$703,'15년위원회별'!$C46) -> 0 | L46: =SUMIFS('15년일입'!$M$7:$M$703,'15년일입'!$A$7:$A$703,'15년위원회별'!$A46,'15년일입'!$B$7:$B$703,'15년위원회별'!$C46) -> 0 | M46: =SUMIFS('15년일입'!$Y$7:$Y$703,'15년일입'!$A$7:$A$703,'15년위원회별'!$A46,'15년일입'!$B$7:$B$703,'15년위원회별'!$C46) -> 0 | N46: =SUMIFS('15년일입'!$Z$7:$Z$703,'15년일입'!$A$7:$A$703,'15년위원회별'!$A46,'15년일입'!$B$7:$B$703,'15년위원회별'!$C46) -> 0 | P46: =SUMIFS('15년일출'!$G$7:$G$1362,'15년일출'!$A$7:$A$1362,'15년위원회별'!$A46,'15년일출'!$B$7:$B$1362,'15년위원회별'!$C46) -> 3393926 | Q46: =SUMIFS('15년일출'!$H$7:$H$1362,'15년일출'!$A$7:$A$1362,'15년위원회별'!$A46,'15년일출'!$B$7:$B$1362,'15년위원회별'!$C46) -> -623820 | R46: =SUMIFS('15년일출'!$I$7:$I$1362,'15년일출'!$A$7:$A$1362,'15년위원회별'!$A46,'15년일출'!$B$7:$B$1362,'15년위원회별'!$C46) -> 60833533 | S46: =SUMIFS('15년일출'!$J$7:$J$1362,'15년일출'!$A$7:$A$1362,'15년위원회별'!$A46,'15년일출'!$B$7:$B$1362,'15년위원회별'!$C46) -> 63603639 | T46: =SUMIFS('15년일출'!$T$7:$T$1362,'15년일출'!$A$7:$A$1362,'15년위원회별'!$A46,'15년일출'!$B$7:$B$1362,'15년위원회별'!$C46) -> -293251 | U46: =SUMIFS('15년일출'!$U$7:$U$1362,'15년일출'!$A$7:$A$1362,'15년위원회별'!$A46,'15년일출'!$B$7:$B$1362,'15년위원회별'!$C46) -> 60502964 | V46: =SUMIFS('15년일출'!$K$7:$K$1362,'15년일출'!$A$7:$A$1362,'15년위원회별'!$A46,'15년일출'!$B$7:$B$1362,'15년위원회별'!$C46) -> 0 | W46: =SUMIFS('15년일출'!$L$7:$L$1362,'15년일출'!$A$7:$A$1362,'15년위원회별'!$A46,'15년일출'!$B$7:$B$1362,'15년위원회별'!$C46) -> 0 | X46: =SUMIFS('15년일출'!$M$7:$M$1362,'15년일출'!$A$7:$A$1362,'15년위원회별'!$A46,'15년일출'!$B$7:$B$1362,'15년위원회별'!$C46) -> 3393926 | Y46: =SUMIFS('15년일출'!$Y$7:$Y$1362,'15년일출'!$A$7:$A$1362,'15년위원회별'!$A46,'15년일출'!$B$7:$B$1362,'15년위원회별'!$C46) -> 0 | Z46: =SUMIFS('15년일출'!$Z$7:$Z$1362,'15년일출'!$A$7:$A$1362,'15년위원회별'!$A46,'15년일출'!$B$7:$B$1362,'15년위원회별'!$C46) -> 0 | AB46: =IF(H46=T46,"OK","@@") -> @@ | AC46: =T46-H46 -> -293251

Sheet 15년일입
A1: 2015년도 경기도 일반회계 세입 예산 조정(안)
A2: □세입예산 | T2: 세입 = 세출 | Y2: 세입 = 세출
H3: =COUNTA(H7:H81) -> 28 | I3: =COUNTA(I7:I81) -> 33 | K3: =COUNTA(K7:K81) -> 0 | L3: =COUNTA(L7:L81) -> 0 | O3: (단위 : 천원) | T3: =IF(T6='15년일출'!$T$6,"OK","@@") -> @@ | U3: =SUM(T6:U6) -> 224636699 | V3: =IF(COUNTIF(V6:V974,"@@")>0,"@@","OK") -> OK | Y3: =IF(Y6='2추일출'!$AA$6,"OK","@@") -> OK | Z3: =SUM(Y6:Z6) -> 0 | AA3: =IF(COUNTIF(AA6:AA974,"@@")>0,"@@","OK") -> OK
A4: 위원회명 | B4: 실국명 | C4: 부서명 | D4: 편성 구분 | E4: 예산안 페이지 | F4: 사업명 | G4: 예산안 (가) | H4: 상임위 예산안 조정액(나) | J4: 상임위 수정 예산안 (다=가+나) | K4: 예결위 예산안 조정액(라) | M4: 예결위 수정 예산안 (마=가+라) | N4: 동의대상 | O4: 비고(부대의견) | Q4: 국도비 등 여부 | S4: 재원 | T4: 상임위 재원별 증감액 | X4: 재원 | Y4: 예결위 재원별 증감액 | AC4: 위원회 부서별 정렬
H5: 감액 | I5: 증액 | K5: 감액 | L5: 증액 | T5: 국비 등 | U5: 도 비 | V5: 검증 | Y5: 국비 등 | Z5: 도 비 | AA5: 검증
A6: C열 부서명 입력하면 자동 입력 됩니다 | B6: C열 부서명 입력하면 자동 입력 됩니다 | D6: 선택입력 | F6: 예산안의 사업명과 동일하게 입력하세요 | G6: =SUBTOTAL(9,G7:G886) -> 159095680 | H6: =SUBTOTAL(9,H7:H886) -> -31527296 | I6: =SUBTOTAL(9,I7:I886) -> 256163995 | J6: =SUBTOTAL(9,J7:J886) -> 383732379 | K6: =SUBTOTAL(9,K7:K886) -> 0 | L6: =SUBTOTAL(9,L7:L886) -> 0 | M6: =SUBTOTAL(9,M7:M886) -> 159095680 | T6: =SUBTOTAL(9,T7:T886) -> 27108615 | U6: =SUBTOTAL(9,U7:U886) -> 197528084 | V6: =IF((H6+I6)=(T6+U6),"OK","검토") -> OK | Y6: =SUBTOTAL(9,Y7:Y886) -> 0 | Z6: =SUBTOTAL(9,Z7:Z886) -> 0 | AA6: =IF((K6+L6)=(Y6+Z6),"OK","검토") -> OK
A7: =IFERROR(VLOOKUP('15년일입'!$C7,구분표!$A$2:$C$1001,2,FALSE),"") -> 문화체육관광위원회 | B7: =IFERROR(VLOOKUP('15년일입'!$C7,구분표!$A$2:$C$1001,3,FALSE),"") -> 문화체육관광국 | C7: 관광과 | D7: 본예산 | E7: 457 | F7: 기금 (관광안내체계구축지원) | G7: 470000 | H7: -11000 | I7: 45000 | J7: =SUM(G7+H7+I7) -> 504000 | M7: =SUM(G7+K7+L7) -> 470000 | N7: =IF(H7-K7<0,"동의필요","-") -> 동의필요 | S7: 기금 | T7: =IF($S7<>"도비",IF($Q7="국도비","직접입력",SUM($H7:$I7)),) -> 34000 | U7: =IF($S7="도비",SUM($H7:$I7),IF($Q7="국도비","직접입력",SUM($H7:$I7)-$T7)) -> 0 | V7: =IF($Q7="국도비","ok",IF(($H7+$I7)=($T7+$U7),"ok","검토")) -> ok | X7: =$S7 -> 기금 | Y7: =IF($X7<>"도비",IF($Q7="국도비","직접입력",SUM($K7:$L7)),) -> 0 | Z7: =IF($X7="도비",SUM($K7:$L7),IF($Q7="국도비","직접입력",SUM($K7:$L7)-$Y7)) -> 0 | AA7: =IF($Q7="국도비","ok",IF(($K7+$L7)=($Y7+$Z7),"ok","검토")) -> ok | AC7: {=IFERROR(IF($C7="","",INDEX(구분표!$I$2:$I$1001,MATCH(1,(구분표!$B$2:$B$1001='15년일입'!$A7)*(구분표!$C$2:$C$1001='15년일입'!$B7)*(구분표!$A$2:$A$1001='15년일입'!$C7),0))),"@@")} -> 1506
A8: =IFERROR(VLOOKUP('15년일입'!$C8,구분표!$A$2:$C$1001,2,FALSE),"") -> 문화체육관광위원회 | B8: =IFERROR(VLOOKUP('15년일입'!$C8,구분표!$A$2:$C$1001,3,FALSE),"") -> 문화체육관광국 | C8: 관광과 | D8: 신규 | E8: 신규 | F8: 기금 (문화관광해설사 운영) | I8: 546000 | J8: =SUM(G8+H8+I8) -> 546000 | M8: =SUM(G8+K8+L8) -> 0 | N8: =IF(H8-K8<0,"동의필요","-") -> - | O8: 세입확인필요 | S8: 기금 | T8: =IF($S8<>"도비",IF($Q8="국도비","직접입력",SUM($H8:$I8)),) -> 546000 | U8: =IF($S8="도비",SUM($H8:$I8),IF($Q8="국도비","직접입력",SUM($H8:$I8)-$T8)) -> 0 | V8: =IF($Q8="국도비","ok",IF(($H8+$I8)=($T8+$U8),"ok","검토")) -> ok | X8: =$S8 -> 기금 | Y8: =IF($X8<>"도비",IF($Q8="국도비","직접입력",SUM($K8:$L8)),) -> 0 | Z8: =IF($X8="도비",SUM($K8:$L8),IF($Q8="국도비","직접입력",SUM($K8:$L8)-$Y8)) -> 0 | AA8: =IF($Q8="국도비","ok",IF(($K8+$L8)=($Y8+$Z8),"ok","검토")) -> ok | AC8: {=IFERROR(IF($C8="","",INDEX(구분표!$I$2:$I$1001,MATCH(1,(구분표!$B$2:$B$1001='15년일입'!$A8)*(구분표!$C$2:$C$1001='15년일입'!$B8)*(구분표!$A$2:$A$1001='15년일입'!$C8),0))),"@@")} -> 1506
A9: =IFERROR(VLOOKUP('15년일입'!$C9,구분표!$A$2:$C$1001,2,FALSE),"") -> 농정해양위원회 | B9: =IFERROR(VLOOKUP('15년일입'!$C9,구분표!$A$2:$C$1001,3,FALSE),"") -> 농정해양국 | C9: 농업정책과 | D9: 본예산 | E9: 501 | F9: 징수교부금수입 (농지보전부담금) | G9: 6000000 | I9: 2000000 | J9: =SUM(G9+H9+I9) -> 8000000 | M9: =SUM(G9+K9+L9) -> 6000000 | N9: =IF(H9-K9<0,"동의필요","-") -> - | S9: 도비 | T9: =IF($S9<>"도비",IF($Q9="국도비","직접입력",SUM($H9:$I9)),) -> 0 | U9: =IF($S9="도비",SUM($H9:$I9),IF($Q9="국도비","직접입력",SUM($H9:$I9)-$T9)) -> 2000000 | V9: =IF($Q9="국도비","ok",IF(($H9+$I9)=($T9+$U9),"ok","검토")) -> ok | X9: =$S9 -> 도비 | Y9: =IF($X9<>"도비",IF($Q9="국도비","직접입력",SUM($K9:$L9)),) -> 0 | Z9: =IF($X9="도비",SUM($K9:$L9),IF($Q9="국도비","직접입력",SUM($K9:$L9)-$Y9)) -> 0 | AA9: =IF($Q9="국도비","ok",IF(($K9+$L9)=($Y9+$Z9),"ok","검토")) -> ok | AC9: {=IFERROR(IF($C9="","",INDEX(구분표!$I$2:$I$1001,MATCH(1,(구분표!$B$2:$B$1001='15년일입'!$A9)*(구분표!$C$2:$C$1001='15년일입'!$B9)*(구분표!$A$2:$A$1001='15년일입'!$C9),0))),"@@")} -> 1601
A10: =IFERROR(VLOOKUP('15년일입'!$C10,구분표!$A$2:$C$1001,2,FALSE),"") -> 농정해양위원회 | B10: =IFERROR(VLOOKUP('15년일입'!$C10,구분표!$A$2:$C$1001,3,FALSE),"") -> 농정해양국 | C10: 농업정책과 | D10: 본예산 | E10: 501 | F10: 국고보조금 (농촌공동체회사 활성화 지원) | G10: 150000 | H10: -25000 | J10: =SUM(G10+H10+I10) -> 125000 | M10: =SUM(G10+K10+L10) -> 150000 | N10: =IF(H10-K10<0,"동의필요","-") -> 동의필요 | O10: 농림축산식품부 농촌복지여성과-3770(14.10.24) | S10: 국비 | T10: =IF($S10<>"도비",IF($Q10="국도비","직접입력",SUM($H10:$I10)),) -> -25000 | U10: =IF($S10="도비",SUM($H10:$I10),IF($Q10="국도비","직접입력",SUM($H10:$I10)-$T10)) -> 0 | V10: =IF($Q10="국도비","ok",IF(($H10+$I10)=($T10+$U10),"ok","검토")) -> ok | X10: =$S10 -> 국비 | Y10: =IF($X10<>"도비",IF($Q10="국도비","직접입력",SUM($K10:$L10)),) -> 0 | Z10: =IF($X10="도비",SUM($K10:$L10),IF($Q10="국도비","직접입력",SUM($K10:$L10)-$Y10)) -> 0 | AA10: =IF($Q10="국도비","ok",IF(($K10+$L10)=($Y10+$Z10),"ok","검토")) -> ok | AC10: {=IFERROR(IF($C10="","",INDEX(구분표!$I$2:$I$1001,MATCH(1,(구분표!$B$2:$B$1001='15년일입'!$A10)*(구분표!$C$2:$C$1001='15년일입'!$B10)*(구분표!$A$2:$A$1001='15년일입'!$C10),0))),"@@")} -> 1601
A11: =IFERROR(VLOOKUP('15년일입'!$C11,구분표!$A$2:$C$1001,2,FALSE),"") -> 농정해양위원회 | B11: =IFERROR(VLOOKUP('15년일입'!$C11,구분표!$A$2:$C$1001,3,FALSE),"") -> 농정해양국 | C11: 농업정책과 | D11: 본예산 | E11: 501 | F11: 국고보조금 (경관보전직접지불) | G11: 3096 | H11: -63 | J11: =SUM(G11+H11+I11) -> 3033 | M11: =SUM(G11+K11+L11) -> 3096 | N11: =IF(H11-K11<0,"동의필요","-") -> 동의필요 | O11: 농림축산식품부 지역개발과-4617(14.11.4) | S11: 국비 | T11: =IF($S11<>"도비",IF($Q11="국도비","직접입력",SUM($H11:$I11)),) -> -63 | U11: =IF($S11="도비",SUM($H11:$I11),IF($Q11="국도비","직접입력",SUM($H11:$I11)-$T11)) -> 0 | V11: =IF($Q11="국도비","ok",IF(($H11+$I11)=($T11+$U11),"ok","검토")) -> ok | X11: =$S11 -> 국비 | Y11: =IF($X11<>"도비",IF($Q11="국도비","직접입력",SUM($K11:$L11)),) -> 0 | Z11: =IF($X11="도비",SUM($K11:$L11),IF($Q11="국도비","직접입력",SUM($K11:$L11)-$Y11)) -> 0 | AA11: =IF($Q11="국도비","ok",IF(($K11+$L11)=($Y11+$Z11),"ok","검토")) -> ok | AC11: {=IFERROR(IF($C11="","",INDEX(구분표!$I$2:$I$1001,MATCH(1,(구분표!$B$2:$B$1001='15년일입'!$A11)*(구분표!$C$2:$C$1001='15년일입'!$B11)*(구분표!$A$2:$A$1001='15년일입'!$C11),0))),"@@")} -> 1601
A12: =IFERROR(VLOOKUP('15년일입'!$C12,구분표!$A$2:$C$1001,2,FALSE),"") -> 농정해양위원회 | B12: =IFERROR(VLOOKUP('15년일입'!$C12,구분표!$A$2:$C$1001,3,FALSE),"") -> 농정해양국 | C12: 농업정책과 | D12: 신규 | E12: 신규 | F12: 국고보조금 (농촌민박서비스 안전교육) | I12: 18332 | J12: =SUM(G12+H12+I12) -> 18332 | M12: =SUM(G12+K12+L12) -> 0 | N12: =IF(H12-K12<0,"동의필요","-") -> - | O12: 농림축산식품부 농촌산업과-3953(14.10.22) | S12: 국비 | T12: =IF($S12<>"도비",IF($Q12="국도비","직접입력",SUM($H12:$I12)),) -> 18332 | U12: =IF($S12="도비",SUM($H12:$I12),IF($Q12="국도비","직접입력",SUM($H12:$I12)-$T12)) -> 0 | V12: =IF($Q12="국도비","ok",IF(($H12+$I12)=($T12+$U12),"ok","검토")) -> ok | X12: =$S12 -> 국비 | Y12: =IF($X12<>"도비",IF($Q12="국도비","직접입력",SUM($K12:$L12)),) -> 0 | Z12: =IF($X12="도비",SUM($K12:$L12),IF($Q12="국도비","직접입력",SUM($K12:$L12)-$Y12)) -> 0 | AA12: =IF($Q12="국도비","ok",IF(($K12+$L12)=($Y12+$Z12),"ok","검토")) -> ok | AC12: {=IFERROR(IF($C12="","",INDEX(구분표!$I$2:$I$1001,MATCH(1,(구분표!$B$2:$B$1001='15년일입'!$A12)*(구분표!$C$2:$C$1001='15년일입'!$B12)*(구분표!$A$2:$A$1001='15년일입'!$C12),0))),"@@")} -> 1601
A13: =IFERROR(VLOOKUP('15년일입'!$C13,구분표!$A$2:$C$1001,2,FALSE),"") -> 농정해양위원회 | B13: =IFERROR(VLOOKUP('15년일입'!$C13,구분표!$A$2:$C$1001,3,FALSE),"") -> 농정해양국 | C13: 농식품유통과 | D13: 본예산 | E13: 502 | F13: 국고보조금 (GAP인증농가 안전성검사비) | G13: 327030 | H13: -32176 | J13: =SUM(G13+H13+I13) -> 294854 | M13: =SUM(G13+K13+L13) -> 327030 | N13: =IF(H13-K13<0,"동의필요","-") -> 동의필요 | O13: 국립농산물품질관리원 인증관리팀-2335(14.11.4) | S13: 국비 | T13: =IF($S13<>"도비",IF($Q13="국도비","직접입력",SUM($H13:$I13)),) -> -32176 | U13: =IF($S13="도비",SUM($H13:$I13),IF($Q13="국도비","직접입력",SUM($H13:$I13)-$T13)) -> 0 | V13: =IF($Q13="국도비","ok",IF(($H13+$I13)=($T13+$U13),"ok","검토")) -> ok | X13: =$S13 -> 국비 | Y13: =IF($X13<>"도비",IF($Q13="국도비","직접입력",SUM($K13:$L13)),) -> 0 | Z13: =IF($X13="도비",SUM($K13:$L13),IF($Q13="국도비","직접입력",SUM($K13:$L13)-$Y13)) -> 0 | AA13: =IF($Q13="국도비","ok",IF(($K13+$L13)=($Y13+$Z13),"ok","검토")) -> ok | AC13: {=IFERROR(IF($C13="","",INDEX(구분표!$I$2:$I$1001,MATCH(1,(구분표!$B$2:$B$1001='15년일입'!$A13)*(구분표!$C$2:$C$1001='15년일입'!$B13)*(구분표!$A$2:$A$1001='15년일입'!$C13),0))),"@@")} -> 1603
A14: =IFERROR(VLOOKUP('15년일입'!$C14,구분표!$A$2:$C$1001,2,FALSE),"") -> 농정해양위원회 | B14: =IFERROR(VLOOKUP('15년일입'!$C14,구분표!$A$2:$C$1001,3,FALSE),"") -> 농정해양국 | C14: 농식품유통과 | D14: 신규 | E14: 신규 | F14: 국고보조금 (농산물우수관리(GAP)시설지원) | I14: 156000 | J14: =SUM(G14+H14+I14) -> 156000 | M14: =SUM(G14+K14+L14) -> 0 | N14: =IF(H14-K14<0,"동의필요","-") -> - | O14: 농림축산식품부 소비정책과-5095(14.11.3) | S14: 국비 | T14: =IF($S14<>"도비",IF($Q14="국도비","직접입력",SUM($H14:$I14)),) -> 156000 | U14: =IF($S14="도비",SUM($H14:$I14),IF($Q14="국도비","직접입력",SUM($H14:$I14)-$T14)) -> 0 | V14: =IF($Q14="국도비","ok",IF(($H14+$I14)=($T14+$U14),"ok","검토")) -> ok | X14: =$S14 -> 국비 | Y14: =IF($X14<>"도비",IF($Q14="국도비","직접입력",SUM($K14:$L14)),) -> 0 | Z14: =IF($X14="도비",SUM($K14:$L14),IF($Q14="국도비","직접입력",SUM($K14:$L14)-$Y14)) -> 0 | AA14: =IF($Q14="국도비","ok",IF(($K14+$L14)=($Y14+$Z14),"ok","검토")) -> ok | AC14: {=IFERROR(IF($C14="","",INDEX(구분표!$I$2:$I$1001,MATCH(1,(구분표!$B$2:$B$1001='15년일입'!$A14)*(구분표!$C$2:$C$1001='15년일입'!$B14)*(구분표!$A$2:$A$1001='15년일입'!$C14),0))),"@@")} -> 1603
A15: =IFERROR(VLOOKUP('15년일입'!$C15,구분표!$A$2:$C$1001,2,FALSE),"") -> 농정해양위원회 | B15: =IFERROR(VLOOKUP('15년일입'!$C15,구분표!$A$2:$C$1001,3,FALSE),"") -> 농정해양국 | C15: 친환경농업과 | D15: 본예산 | E15: 502 | F15: 국고보조금 (고품질쌀유통활성화) | G15: 276000 | I15: 230000 | J15: =SUM(G15+H15+I15) -> 506000 | M15: =SUM(G15+K15+L15) -> 276000 | N15: =IF(H15-K15<0,"동의필요","-") -> - | O15: 농림축산식품부 식량산업과-5408(14.11.25) | S15: 국비 | T15: =IF($S15<>"도비",IF($Q15="국도비","직접입력",SUM($H15:$I15)),) -> 230000 | U15: =IF($S15="도비",SUM($H15:$I15),IF($Q15="국도비","직접입력",SUM($H15:$I15)-$T15)) -> 0 | V15: =IF($Q15="국도비","ok",IF(($H15+$I15)=($T15+$U15),"ok","검토")) -> ok | X15: =$S15 -> 국비 | Y15: =IF($X15<>"도비",IF($Q15="국도비","직접입력",SUM($K15:$L15)),) -> 0 | Z15: =IF($X15="도비",SUM($K15:$L15),IF($Q15="국도비","직접입력",SUM($K15:$L15)-$Y15)) -> 0 | AA15: =IF($Q15="국도비","ok",IF(($K15+$L15)=($Y15+$Z15),"ok","검토")) -> ok | AC15: {=IFERROR(IF($C15="","",INDEX(구분표!$I$2:$I$1001,MATCH(1,(구분표!$B$2:$B$1001='15년일입'!$A15)*(구분표!$C$2:$C$1001='15년일입'!$B15)*(구분표!$A$2:$A$1001='15년일입'!$C15),0))),"@@")} -> 1604
A16: =IFERROR(VLOOKUP('15년일입'!$C16,구분표!$A$2:$C$1001,2,FALSE),"") -> 농정해양위원회 | B16: =IFERROR(VLOOKUP('15년일입'!$C16,구분표!$A$2:$C$1001,3,FALSE),"") -> 농정해양국 | C16: 친환경농업과 | D16: 본예산 | E16: 503 | F16: 국고보조금 (농업에너지이용효율화) | G16: 3709471 | H16: -1158291 | J16: =SUM(G16+H16+I16) -> 2551180 | M16: =SUM(G16+K16+L16) -> 3709471 | N16: =IF(H16-K16<0,"동의필요","-") -> 동의필요 | O16: 농림축산식품부 원예경영과-3963(14.10.30) | S16: 국비 | T16: =IF($S16<>"도비",IF($Q16="국도비","직접입력",SUM($H16:$I16)),) -> -1158291 | U16: =IF($S16="도비",SUM($H16:$I16),IF($Q16="국도비","직접입력",SUM($H16:$I16)-$T16)) -> 0 | V16: =IF($Q16="국도비","ok",IF(($H16+$I16)=($T16+$U16),"ok","검토")) -> ok | X16: =$S16 -> 국비 | Y16: =IF($X16<>"도비",IF($Q16="국도비","직접입력",SUM($K16:$L16)),) -> 0 | Z16: =IF($X16="도비",SUM($K16:$L16),IF($Q16="국도비","직접입력",SUM($K16:$L16)-$Y16)) -> 0 | AA16: =IF($Q16="국도비","ok",IF(($K16+$L16)=($Y16+$Z16),"ok","검토")) -> ok | AC16: {=IFERROR(IF($C16="","",INDEX(구분표!$I$2:$I$1001,MATCH(1,(구분표!$B$2:$B$1001='15년일입'!$A16)*(구분표!$C$2:$C$1001='15년일입'!$B16)*(구분표!$A$2:$A$1001='15년일입'!$C16),0))),"@@")} -> 1604
A17: =IFERROR(VLOOKUP('15년일입'!$C17,구분표!$A$2:$C$1001,2,FALSE),"") -> 농정해양위원회 | B17: =IFERROR(VLOOKUP('15년일입'!$C17,구분표!$A$2:$C$1001,3,FALSE),"") -> 농정해양국 | C17: 친환경농업과 | D17: 본예산 | E17: 503 | F17: 기금 (시설원예 품질개선) | G17: 3265684 | I17: 841316 | J17: =SUM(G17+H17+I17) -> 4107000 | M17: =SUM(G17+K17+L17) -> 3265684 | N17: =IF(H17-K17<0,"동의필요","-") -> - | O17: 농림축산식품부 원예경영과-3963(14.10.30)원예산업과-4353(14.11.11) | S17: 기금 | T17: =IF($S17<>"도비",IF($Q17="국도비","직접입력",SUM($H17:$I17)),) -> 841316 | U17: =IF($S17="도비",SUM($H17:$I17),IF($Q17="국도비","직접입력",SUM($H17:$I17)-$T17)) -> 0 | V17: =IF($Q17="국도비","ok",IF(($H17+$I17)=($T17+$U17),"ok","검토")) -> ok | X17: =$S17 -> 기금 | Y17: =IF($X17<>"도비",IF($Q17="국도비","직접입력",SUM($K17:$L17)),) -> 0 | Z17: =IF($X17="도비",SUM($K17:$L17),IF($Q17="국도비","직접입력",SUM($K17:$L17)-$Y17)) -> 0 | AA17: =IF($Q17="국도비","ok",IF(($K17+$L17)=($Y17+$Z17),"ok","검토")) -> ok | AC17: {=IFERROR(IF($C17="","",INDEX(구분표!$I$2:$I$1001,MATCH(1,(구분표!$B$2:$B$1001='15년일입'!$A17)*(구분표!$C$2:$C$1001='15년일입'!$B17)*(구분표!$A$2:$A$1001='15년일입'!$C17),0))),"@@")} -> 1604
A18: =IFERROR(VLOOKUP('15년일입'!$C18,구분표!$A$2:$C$1001,2,FALSE),"") -> 농정해양위원회 | B18: =IFERROR(VLOOKUP('15년일입'!$C18,구분표!$A$2:$C$1001,3,FALSE),"") -> 농정해양국 | C18: 친환경농업과 | D18: 본예산 | E18: 503 | F18: 지역발전특별회계 (친환경농업기반조성) | G18: 519000 | H18: -273600 | J18: =SUM(G18+H18+I18) -> 245400 | M18: =SUM(G18+K18+L18) -> 519000 | N18: =IF(H18-K18<0,"동의필요","-") -> 동의필요 | O18: 농림축산식품부 친환경농업과-3722(14.11.4) | S18: 지특 | T18: =IF($S18<>"도비",IF($Q18="국도비","직접입력",SUM($H18:$I18)),) -> -273600 | U18: =IF($S18="도비",SUM($H18:$I18),IF($Q18="국도비","직접입력",SUM($H18:$I18)-$T18)) -> 0 | V18: =IF($Q18="국도비","ok",IF(($H18+$I18)=($T18+$U18),"ok","검토")) -> ok | X18: =$S18 -> 지특 | Y18: =IF($X18<>"도비",IF($Q18="국도비","직접입력",SUM($K18:$L18)),) -> 0 | Z18: =IF($X18="도비",SUM($K18:$L18),IF($Q18="국도비","직접입력",SUM($K18:$L18)-$Y18)) -> 0 | AA18: =IF($Q18="국도비","ok",IF(($K18+$L18)=($Y18+$Z18),"ok","검토")) -> ok | AC18: {=IFERROR(IF($C18="","",INDEX(구분표!$I$2:$I$1001,MATCH(1,(구분표!$B$2:$B$1001='15년일입'!$A18)*(구분표!$C$2:$C$1001='15년일입'!$B18)*(구분표!$A$2:$A$1001='15년일입'!$C18),0))),"@@")} -> 1604
A19: =IFERROR(VLOOKUP('15년일입'!$C19,구분표!$A$2:$C$1001,2,FALSE),"") -> 농정해양위원회 | B19: =IFERROR(VLOOKUP('15년일입'!$C19,구분표!$A$2:$C$1001,3,FALSE),"") -> 농정해양국 | C19: 친환경농업과 | D19: 본예산 | E19: 503 | F19: 기금 (과수고품질시설현대화) | G19: 962650 | H19: -312650 | J19: =SUM(G19+H19+I19) -> 650000 | M19: =SUM(G19+K19+L19) -> 962650 | N19: =IF(H19-K19<0,"동의필요","-") -> 동의필요 | O19: 농림축산식품부 원예경영과-4066(14.11.5) | S19: 기금 | T19: =IF($S19<>"도비",IF($Q19="국도비","직접입력",SUM($H19:$I19)),) -> -312650 | U19: =IF($S19="도비",SUM($H19:$I19),IF($Q19="국도비","직접입력",SUM($H19:$I19)-$T19)) -> 0 | V19: =IF($Q19="국도비","ok",IF(($H19+$I19)=($T19+$U19),"ok","검토")) -> ok | X19: =$S19 -> 기금 | Y19: =IF($X19<>"도비",IF($Q19="국도비","직접입력",SUM($K19:$L19)),) -> 0 | Z19: =IF($X19="도비",SUM($K19:$L19),IF($Q19="국도비","직접입력",SUM($K19:$L19)-$Y19)) -> 0 | AA19: =IF($Q19="국도비","ok",IF(($K19+$L19)=($Y19+$Z19),"ok","검토")) -> ok | AC19: {=IFERROR(IF($C19="","",INDEX(구분표!$I$2:$I$1001,MATCH(1,(구분표!$B$2:$B$1001='15년일입'!$A19)*(구분표!$C$2:$C$1001='15년일입'!$B19)*(구분표!$A$2:$A$1001='15년일입'!$C19),0))),"@@")} -> 1604
A20: =IFERROR(VLOOKUP('15년일입'!$C20,구분표!$A$2:$C$1001,2,FALSE),"") -> 농정해양위원회 | B20: =IFERROR(VLOOKUP('15년일입'!$C20,구분표!$A$2:$C$1001,3,FALSE),"") -> 농정해양국 | C20: 수산과 | D20: 본예산 | E20: 504 | F20: 국고보조금 (자율관리어업육성지원) | G20: 705700 | I20: 50000 | J20: =SUM(G20+H20+I20) -> 755700 | M20: =SUM(G20+K20+L20) -> 705700 | N20: =IF(H20-K20<0,"동의필요","-") -> - | O20: 해양수산부 수산자원정책과-4626(14.11.13) | S20: 국비 | T20: =IF($S20<>"도비",IF($Q20="국도비","직접입력",SUM($H20:$I20)),) -> 50000 | U20: =IF($S20="도비",SUM($H20:$I20),IF($Q20="국도비","직접입력",SUM($H20:$I20)-$T20)) -> 0 | V20: =IF($Q20="국도비","ok",IF(($H20+$I20)=($T20+$U20),"ok","검토")) -> ok | X20: =$S20 -> 국비 | Y20: =IF($X20<>"도비",IF($Q20="국도비","직접입력",SUM($K20:$L20)),) -> 0 | Z20: =IF($X20="도비",SUM($K20:$L20),IF($Q20="국도비","직접입력",SUM($K20:$L20)-$Y20)) -> 0 | AA20: =IF($Q20="국도비","ok",IF(($K20+$L20)=($Y20+$Z20),"ok","검토")) -> ok | AC20: {=IFERROR(IF($C20="","",INDEX(구분표!$I$2:$I$1001,MATCH(1,(구분표!$B$2:$B$1001='15년일입'!$A20)*(구분표!$C$2:$C$1001='15년일입'!$B20)*(구분표!$A$2:$A$1001='15년일입'!$C20),0))),"@@")} -> 1605
A21: =IFERROR(VLOOKUP('15년일입'!$C21,구분표!$A$2:$C$1001,2,FALSE),"") -> 농정해양위원회 | B21: =IFERROR(VLOOKUP('15년일입'!$C21,구분표!$A$2:$C$1001,3,FALSE),"") -> 농정해양국 | C21: 해양수산자원연구소 | D21: 본예산 | E21: 504 | F21: 국고보조금 (환경친화형배합사료지원) | G21: 50000 | H21: -50000 | J21: =SUM(G21+H21+I21) -> 0 | M21: =SUM(G21+K21+L21) -> 50000 | N21: =IF(H21-K21<0,"동의필요","-") -> 동의필요 | O21: 해양수산부 양식산업과-4472(14.10.16) | S21: 국비 | T21: =IF($S21<>"도비",IF($Q21="국도비","직접입력",SUM($H21:$I21)),) -> -50000 | U21: =IF($S21="도비",SUM($H21:$I21),IF($Q21="국도비","직접입력",SUM($H21:$I21)-$T21)) -> 0 | V21: =IF($Q21="국도비","ok",IF(($H21+$I21)=($T21+$U21),"ok","검토")) -> ok | X21: =$S21 -> 국비 | Y21: =IF($X21<>"도비",IF($Q21="국도비","직접입력",SUM($K21:$L21)),) -> 0 | Z21: =IF($X21="도비",SUM($K21:$L21),IF($Q21="국도비","직접입력",SUM($K21:$L21)-$Y21)) -> 0 | AA21: =IF($Q21="국도비","ok",IF(($K21+$L21)=($Y21+$Z21),"ok","검토")) -> ok | AC21: {=IFERROR(IF($C21="","",INDEX(구분표!$I$2:$I$1001,MATCH(1,(구분표!$B$2:$B$1001='15년일입'!$A21)*(구분표!$C$2:$C$1001='15년일입'!$B21)*(구분표!$A$2:$A$1001='15년일입'!$C21),0))),"@@")} -> 1606
A22: =IFERROR(VLOOKUP('15년일입'!$C22,구분표!$A$2:$C$1001,2,FALSE),"") -> 농정해양위원회 | B22: =IFERROR(VLOOKUP('15년일입'!$C22,구분표!$A$2:$C$1001,3,FALSE),"") -> 축산산림국 | C22: 동물방역위생과 | D22: 본예산 | E22: 564 | F22: 국고보조금 (살처분보상금 지원) | G22: 4600000 | I22: 19400000 | J22: =SUM(G22+H22+I22) -> 24000000 | M22: =SUM(G22+K22+L22) -> 4600000 | N22: =IF(H22-K22<0,"동의필요","-") -> - | O22: 농림축산식품부 방역총괄과-6820(14.11.4) | S22: 국비 | T22: =IF($S22<>"도비",IF($Q22="국도비","직접입력",SUM($H22:$I22)),) -> 19400000 | U22: =IF($S22="도비",SUM($H22:$I22),IF($Q22="국도비","직접입력",SUM($H22:$I22)-$T22)) -> 0 | V22: =IF($Q22="국도비","ok",IF(($H22+$I22)=($T22+$U22),"ok","검토")) -> ok | X22: =$S22 -> 국비 | Y22: =IF($X22<>"도비",IF($Q22="국도비","직접입력",SUM($K22:$L22)),) -> 0 | Z22: =IF($X22="도비",SUM($K22:$L22),IF($Q22="국도비","직접입력",SUM($K22:$L22)-$Y22)) -> 0 | AA22: =IF($Q22="국도비","ok",IF(($K22+$L22)=($Y22+$Z22),"ok","검토")) -> ok | AC22: {=IFERROR(IF($C22="","",INDEX(구분표!$I$2:$I$1001,MATCH(1,(구분표!$B$2:$B$1001='15년일입'!$A22)*(구분표!$C$2:$C$1001='15년일입'!$B22)*(구분표!$A$2:$A$1001='15년일입'!$C22),0))),"@@")} -> 1702
A23: =IFERROR(VLOOKUP('15년일입'!$C23,구분표!$A$2:$C$1001,2,FALSE),"") -> 농정해양위원회 | B23: =IFERROR(VLOOKUP('15년일입'!$C23,구분표!$A$2:$C$1001,3,FALSE),"") -> 축산산림국 | C23: 동물방역위생과 | D23: 본예산 | E23: 564 | F23: 국고보조금 (시도가축방역사업) | G23: 12219914 | I23: 433705 | J23: =SUM(G23+H23+I23) -> 12653619 | M23: =SUM(G23+K23+L23) -> 12219914 | N23: =IF(H23-K23<0,"동의필요","-") -> - | O23: 농림축산식품부 방역총괄과-6820(14.11.4) | S23: 국비 | T23: =IF($S23<>"도비",IF($Q23="국도비","직접입력",SUM($H23:$I23)),) -> 433705 | U23: =IF($S23="도비",SUM($H23:$I23),IF($Q23="국도비","직접입력",SUM($H23:$I23)-$T23)) -> 0 | V23: =IF($Q23="국도비","ok",IF(($H23+$I23)=($T23+$U23),"ok","검토")) -> ok | X23: =$S23 -> 국비 | Y23: =IF($X23<>"도비",IF($Q23="국도비","직접입력",SUM($K23:$L23)),) -> 0 | Z23: =IF($X23="도비",SUM($K23:$L23),IF($Q23="국도비","직접입력",SUM($K23:$L23)-$Y23)) -> 0 | AA23: =IF($Q23="국도비","ok",IF(($K23+$L23)=($Y23+$Z23),"ok","검토")) -> ok | AC23: {=IFERROR(IF($C23="","",INDEX(구분표!$I$2:$I$1001,MATCH(1,(구분표!$B$2:$B$1001='15년일입'!$A23)*(구분표!$C$2:$C$1001='15년일입'!$B23)*(구분표!$A$2:$A$1001='15년일입'!$C23),0))),"@@")} -> 1702
A24: =IFERROR(VLOOKUP('15년일입'!$C24,구분표!$A$2:$C$1001,2,FALSE),"") -> 농정해양위원회 | B24: =IFERROR(VLOOKUP('15년일입'!$C24,구분표!$A$2:$C$1001,3,FALSE),"") -> 축산산림국 | C24: 동물방역위생과 | D24: 본예산 | E24: 564 | F24: 국고보조금 (축산물검사(식품의약품안전처)) | G24: 119750 | H24: -41450 | J24: =SUM(G24+H24+I24) -> 78300 | M24: =SUM(G24+K24+L24) -> 119750 | N24: =IF(H24-K24<0,"동의필요","-") -> 동의필요 | O24: 식품의약품안전처 축산물위생안전과-8781(14.10.28) | S24: 국비 | T24: =IF($S24<>"도비",IF($Q24="국도비","직접입력",SUM($H24:$I24)),) -> -41450 | U24: =IF($S24="도비",SUM($H24:$I24),IF($Q24="국도비","직접입력",SUM($H24:$I24)-$T24)) -> 0 | V24: =IF($Q24="국도비","ok",IF(($H24+$I24)=($T24+$U24),"ok","검토")) -> ok | X24: =$S24 -> 국비 | Y24: =IF($X24<>"도비",IF($Q24="국도비","직접입력",SUM($K24:$L24)),) -> 0 | Z24: =IF($X24="도비",SUM($K24:$L24),IF($Q24="국도비","직접입력",SUM($K24:$L24)-$Y24)) -> 0 | AA24: =IF($Q24="국도비","ok",IF(($K24+$L24)=($Y24+$Z24),"ok","검토")) -> ok | AC24: {=IFERROR(IF($C24="","",INDEX(구분표!$I$2:$I$1001,MATCH(1,(구분표!$B$2:$B$1001='15년일입'!$A24)*(구분표!$C$2:$C$1001='15년일입'!$B24)*(구분표!$A$2:$A$1001='15년일입'!$C24),0))),"@@")} -> 1702
A25: =IFERROR(VLOOKUP('15년일입'!$C25,구분표!$A$2:$C$1001,2,FALSE),"") -> 농정해양위원회 | B25: =IFERROR(VLOOKUP('15년일입'!$C25,구분표!$A$2:$C$1001,3,FALSE),"") -> 축산산림국 | C25: 동물방역위생과 | D25: 본예산 | E25: 564 | F25: 기금 (가축위생방역지원본부) | G25: 733000 | I25: 29300 | J25: =SUM(G25+H25+I25) -> 762300 | M25: =SUM(G25+K25+L25) -> 733000 | N25: =IF(H25-K25<0,"동의필요","-") -> - | O25: 농림축산식품부 방역총괄과-6820(14.11.4) | S25: 기금 | T25: =IF($S25<>"도비",IF($Q25="국도비","직접입력",SUM($H25:$I25)),) -> 29300 | U25: =IF($S25="도비",SUM($H25:$I25),IF($Q25="국도비","직접입력",SUM($H25:$I25)-$T25)) -> 0 | V25: =IF($Q25="국도비","ok",IF(($H25+$I25)=($T25+$U25),"ok","검토")) -> ok | X25: =$S25 -> 기금 | Y25: =IF($X25<>"도비",IF($Q25="국도비","직접입력",SUM($K25:$L25)),) -> 0 | Z25: =IF($X25="도비",SUM($K25:$L25),IF($Q25="국도비","직접입력",SUM($K25:$L25)-$Y25)) -> 0 | AA25: =IF($Q25="국도비","ok",IF(($K25+$L25)=($Y25+$Z25),"ok","검토")) -> ok | AC25: {=IFERROR(IF($C25="","",INDEX(구분표!$I$2:$I$1001,MATCH(1,(구분표!$B$2:$B$1001='15년일입'!$A25)*(구분표!$C$2:$C$1001='15년일입'!$B25)*(구분표!$A$2:$A$1001='15년일입'!$C25),0))),"@@")} -> 1702
A26: =IFERROR(VLOOKUP('15년일입'!$C26,구분표!$A$2:$C$1001,2,FALSE),"") -> 농정해양위원회 | B26: =IFERROR(VLOOKUP('15년일입'!$C26,구분표!$A$2:$C$1001,3,FALSE),"") -> 축산산림국 | C26: 동물방역위생과 | D26: 본예산 | E26: 564 | F26: 기금 (가축질병근절) | G26: 590901 | I26: 32813 | J26: =SUM(G26+H26+I26) -> 623714 | M26: =SUM(G26+K26+L26) -> 590901 | N26: =IF(H26-K26<0,"동의필요","-") -> - | O26: 농림축산식품부 방역총괄과-6820(14.11.4) | S26: 기금 | T26: =IF($S26<>"도비",IF($Q26="국도비","직접입력",SUM($H26:$I26)),) -> 32813 | U26: =IF($S26="도비",SUM($H26:$I26),IF($Q26="국도비","직접입력",SUM($H26:$I26)-$T26)) -> 0 | V26: =IF($Q26="국도비","ok",IF(($H26+$I26)=($T26+$U26),"ok","검토")) -> ok | X26: =$S26 -> 기금 | Y26: =IF($X26<>"도비",IF($Q26="국도비","직접입력",SUM($K26:$L26)),) -> 0 | Z26: =IF($X26="도비",SUM($K26:$L26),IF($Q26="국도비","직접입력",SUM($K26:$L26)-$Y26)) -> 0 | AA26: =IF($Q26="국도비","ok",IF(($K26+$L26)=($Y26+$Z26),"ok","검토")) -> ok | AC26: {=IFERROR(IF($C26="","",INDEX(구분표!$I$2:$I$1001,MATCH(1,(구분표!$B$2:$B$1001='15년일입'!$A26)*(구분표!$C$2:$C$1001='15년일입'!$B26)*(구분표!$A$2:$A$1001='15년일입'!$C26),0))),"@@")} -> 1702
A27: =IFERROR(VLOOKUP('15년일입'!$C27,구분표!$A$2:$C$1001,2,FALSE),"") -> 농정해양위원회 | B27: =IFERROR(VLOOKUP('15년일입'!$C27,구분표!$A$2:$C$1001,3,FALSE),"") -> 축산산림국 | C27: 동물방역위생과 | D27: 본예산 | E27: 564 | F27: 기금 (도축검사원운영지원) | G27: 738000 | I27: 303600 | J27: =SUM(G27+H27+I27) -> 1041600 | M27: =SUM(G27+K27+L27) -> 738000 | N27: =IF(H27-K27<0,"동의필요","-") -> - | O27: 농림축산식품부 소비정책과-5052(14.10.29) | S27: 기금 | T27: =IF($S27<>"도비",IF($Q27="국도비","직접입력",SUM($H27:$I27)),) -> 303600 | U27: =IF($S27="도비",SUM($H27:$I27),IF($Q27="국도비","직접입력",SUM($H27:$I27)-$T27)) -> 0 | V27: =IF($Q27="국도비","ok",IF(($H27+$I27)=($T27+$U27),"ok","검토")) -> ok | X27: =$S27 -> 기금 | Y27: =IF($X27<>"도비",IF($Q27="국도비","직접입력",SUM($K27:$L27)),) -> 0 | Z27: =IF($X27="도비",SUM($K27:$L27),IF($Q27="국도비","직접입력",SUM($K27:$L27)-$Y27)) -> 0 | AA27: =IF($Q27="국도비","ok",IF(($K27+$L27)=($Y27+$Z27),"ok","검토")) -> ok | AC27: {=IFERROR(IF($C27="","",INDEX(구분표!$I$2:$I$1001,MATCH(1,(구분표!$B$2:$B$1001='15년일입'!$A27)*(구분표!$C$2:$C$1001='15년일입'!$B27)*(구분표!$A$2:$A$1001='15년일입'!$C27),0))),"@@")} -> 1702
A28: =IFERROR(VLOOKUP('15년일입'!$C28,구분표!$A$2:$C$1001,2,FALSE),"") -> 농정해양위원회 | B28: =IFERROR(VLOOKUP('15년일입'!$C28,구분표!$A$2:$C$1001,3,FALSE),"") -> 축산산림국 | C28: 동물방역위생과 | D28: 본예산 | E28: 564 | F28: 기금 (축산물HACCP컨설팅지원(농림축산식품부)) | G28: 320000 | H28: -38400 | J28: =SUM(G28+H28+I28) -> 281600 | M28: =SUM(G28+K28+L28) -> 320000 | N28: =IF(H28-K28<0,"동의필요","-") -> 동의필요 | O28: 농림축산식품부 방역총괄과-6820(14.11.4) | S28: 기금 | T28: =IF($S28<>"도비",IF($Q28="국도비","직접입력",SUM($H28:$I28)),) -> -38400 | U28: =IF($S28="도비",SUM($H28:$I28),IF($Q28="국도비","직접입력",SUM($H28:$I28)-$T28)) -> 0 | V28: =IF($Q28="국도비","ok",IF(($H28+$I28)=($T28+$U28),"ok","검토")) -> ok | X28: =$S28 -> 기금 | Y28: =IF($X28<>"도비",IF($Q28="국도비","직접입력",SUM($K28:$L28)),) -> 0 | Z28: =IF($X28="도비",SUM($K28:$L28),IF($Q28="국도비","직접입력",SUM($K28:$L28)-$Y28)) -> 0 | AA28: =IF($Q28="국도비","ok",IF(($K28+$L28)=($Y28+$Z28),"ok","검토")) -> ok | AC28: {=IFERROR(IF($C28="","",INDEX(구분표!$I$2:$I$1001,MATCH(1,(구분표!$B$2:$B$1001='15년일입'!$A28)*(구분표!$C$2:$C$1001='15년일입'!$B28)*(구분표!$A$2:$A$1001='15년일입'!$C28),0))),"@@")} -> 1702
A29: =IFERROR(VLOOKUP('15년일입'!$C29,구분표!$A$2:$C$1001,2,FALSE),"") -> 농정해양위원회 | B29: =IFERROR(VLOOKUP('15년일입'!$C29,구분표!$A$2:$C$1001,3,FALSE),"") -> 축산산림국 | C29: 산림과 | D29: 본예산 | E29: 565 | F29: 국가산림통계 | G29: 74375 | H29: -252 | J29: =SUM(G29+H29+I29) -> 74123 | M29: =SUM(G29+K29+L29) -> 74375 | N29: =IF(H29-K29<0,"동의필요","-") -> 동의필요 | O29: 산림청 기획재정담당관실-3435(14.10.15)(국비 △252) | S29: 국비 | T29: =IF($S29<>"도비",IF($Q29="국도비","직접입력",SUM($H29:$I29)),) -> -252 | U29: =IF($S29="도비",SUM($H29:$I29),IF($Q29="국도비","직접입력",SUM($H29:$I29)-$T29)) -> 0 | V29: =IF($Q29="국도비","ok",IF(($H29+$I29)=($T29+$U29),"ok","검토")) -> ok | X29: =$S29 -> 국비 | Y29: =IF($X29<>"도비",IF($Q29="국도비","직접입력",SUM($K29:$L29)),) -> 0 | Z29: =IF($X29="도비",SUM($K29:$L29),IF($Q29="국도비","직접입력",SUM($K29:$L29)-$Y29)) -> 0 | AA29: =IF($Q29="국도비","ok",IF(($K29+$L29)=($Y29+$Z29),"ok","검토")) -> ok | AC29: {=IFERROR(IF($C29="","",INDEX(구분표!$I$2:$I$1001,MATCH(1,(구분표!$B$2:$B$1001='15년일입'!$A29)*(구분표!$C$2:$C$1001='15년일입'!$B29)*(구분표!$A$2:$A$1001='15년일입'!$C29),0))),"@@")} -> 1703
A30: =IFERROR(VLOOKUP('15년일입'!$C30,구분표!$A$2:$C$1001,2,FALSE),"") -> 농정해양위원회 | B30: =IFERROR(VLOOKUP('15년일입'!$C30,구분표!$A$2:$C$1001,3,FALSE),"") -> 축산산림국 | C30: 산림과 | D30: 본예산 | E30: 565 | F30: 산림병해충방제 | G30: 6298083 | I30: 8680 | J30: =SUM(G30+H30+I30) -> 6306763 | M30: =SUM(G30+K30+L30) -> 6298083 | N30: =IF(H30-K30<0,"동의필요","-") -> - | O30: 산림청 기획재정담당관실-3435(14.10.15)(국비 증8,680) | S30: 국비 | T30: =IF($S30<>"도비",IF($Q30="국도비","직접입력",SUM($H30:$I30)),) -> 8680 | U30: =IF($S30="도비",SUM($H30:$I30),IF($Q30="국도비","직접입력",SUM($H30:$I30)-$T30)) -> 0 | V30: =IF($Q30="국도비","ok",IF(($H30+$I30)=($T30+$U30),"ok","검토")) -> ok | X30: =$S30 -> 국비 | Y30: =IF($X30<>"도비",IF($Q30="국도비","직접입력",SUM($K30:$L30)),) -> 0 | Z30: =IF($X30="도비",SUM($K30:$L30),IF($Q30="국도비","직접입력",SUM($K30:$L30)-$Y30)) -> 0 | AA30: =IF($Q30="국도비","ok",IF(($K30+$L30)=($Y30+$Z30),"ok","검토")) -> ok | AC30: {=IFERROR(IF($C30="","",INDEX(구분표!$I$2:$I$1001,MATCH(1,(구분표!$B$2:$B$1001='15년일입'!$A30)*(구분표!$C$2:$C$1001='15년일입'!$B30)*(구분표!$A$2:$A$1001='15년일입'!$C30),0))),"@@")} -> 1703
A31: =IFERROR(VLOOKUP('15년일입'!$C31,구분표!$A$2:$C$1001,2,FALSE),"") -> 농정해양위원회 | B31: =IFERROR(VLOOKUP('15년일입'!$C31,구분표!$A$2:$C$1001,3,FALSE),"") -> 축산산림국 | C31: 산림과 | D31: 본예산 | E31: 565 | F31: 산림서비스도우미 | G31: 741362 | H31: -7178 | J31: =SUM(G31+H31+I31) -> 734184 | M31: =SUM(G31+K31+L31) -> 741362 | N31: =IF(H31-K31<0,"동의필요","-") -> 동의필요 | O31: 산림청 기획재정담당관실-3435(14.10.15)(국비 △7,178) | S31: 국비 | T31: =IF($S31<>"도비",IF($Q31="국도비","직접입력",SUM($H31:$I31)),) -> -7178 | U31: =IF($S31="도비",SUM($H31:$I31),IF($Q31="국도비","직접입력",SUM($H31:$I31)-$T31)) -> 0 | V31: =IF($Q31="국도비","ok",IF(($H31+$I31)=($T31+$U31),"ok","검토")) -> ok | X31: =$S31 -> 국비 | Y31: =IF($X31<>"도비",IF($Q31="국도비","직접입력",SUM($K31:$L31)),) -> 0 | Z31: =IF($X31="도비",SUM($K31:$L31),IF($Q31="국도비","직접입력",SUM($K31:$L31)-$Y31)) -> 0 | AA31: =IF($Q31="국도비","ok",IF(($K31+$L31)=($Y31+$Z31),"ok","검토")) -> ok | AC31: {=IFERROR(IF($C31="","",INDEX(구분표!$I$2:$I$1001,MATCH(1,(구분표!$B$2:$B$1001='15년일입'!$A31)*(구분표!$C$2:$C$1001='15년일입'!$B31)*(구분표!$A$2:$A$1001='15년일입'!$C31),0))),"@@")} -> 1703
A32: =IFERROR(VLOOKUP('15년일입'!$C32,구분표!$A$2:$C$1001,2,FALSE),"") -> 농정해양위원회 | B32: =IFERROR(VLOOKUP('15년일입'!$C32,구분표!$A$2:$C$1001,3,FALSE),"") -> 축산산림국 | C32: 축산위생연구소 | D32: 본예산 | E32: 566 | F32: 증지수입 | G32: 2261440 | I32: 701000 | J32: =SUM(G32+H32+I32) -> 2962440 | M32: =SUM(G32+K32+L32) -> 2261440 | N32: =IF(H32-K32<0,"동의필요","-") -> - | S32: 도비 | T32: =IF($S32<>"도비",IF($Q32="국도비","직접입력",SUM($H32:$I32)),) -> 0 | U32: =IF($S32="도비",SUM($H32:$I32),IF($Q32="국도비","직접입력",SUM($H32:$I32)-$T32)) -> 701000 | V32: =IF($Q32="국도비","ok",IF(($H32+$I32)=($T32+$U32),"ok","검토")) -> ok | X32: =$S32 -> 도비 | Y32: =IF($X32<>"도비",IF($Q32="국도비","직접입력",SUM($K32:$L32)),) -> 0 | Z32: =IF($X32="도비",SUM($K32:$L32),IF($Q32="국도비","직접입력",SUM($K32:$L32)-$Y32)) -> 0 | AA32: =IF($Q32="국도비","ok",IF(($K32+$L32)=($Y32+$Z32),"ok","검토")) -> ok | AC32: {=IFERROR(IF($C32="","",INDEX(구분표!$I$2:$I$1001,MATCH(1,(구분표!$B$2:$B$1001='15년일입'!$A32)*(구분표!$C$2:$C$1001='15년일입'!$B32)*(구분표!$A$2:$A$1001='15년일입'!$C32),0))),"@@")} -> 1704
A33: =IFERROR(VLOOKUP('15년일입'!$C33,구분표!$A$2:$C$1001,2,FALSE),"") -> 농정해양위원회 | B33: =IFERROR(VLOOKUP('15년일입'!$C33,구분표!$A$2:$C$1001,3,FALSE),"") -> 축산산림국 | C33: 북부축산위생연구소 | D33: 본예산 | E33: 567 | F33: 증지수입 | G33: 936700 | I33: 282000 | J33: =SUM(G33+H33+I33) -> 1218700 | M33: =SUM(G33+K33+L33) -> 936700 | N33: =IF(H33-K33<0,"동의필요","-") -> - | S33: 도비 | T33: =IF($S33<>"도비",IF($Q33="국도비","직접입력",SUM($H33:$I33)),) -> 0 | U33: =IF($S33="도비",SUM($H33:$I33),IF($Q33="국도비","직접입력",SUM($H33:$I33)-$T33)) -> 282000 | V33: =IF($Q33="국도비","ok",IF(($H33+$I33)=($T33+$U33),"ok","검토")) -> ok | X33: =$S33 -> 도비 | Y33: =IF($X33<>"도비",IF($Q33="국도비","직접입력",SUM($K33:$L33)),) -> 0 | Z33: =IF($X33="도비",SUM($K33:$L33),IF($Q33="국도비","직접입력",SUM($K33:$L33)-$Y33)) -> 0 | AA33: =IF($Q33="국도비","ok",IF(($K33+$L33)=($Y33+$Z33),"ok","검토")) -> ok | AC33: {=IFERROR(IF($C33="","",INDEX(구분표!$I$2:$I$1001,MATCH(1,(구분표!$B$2:$B$1001='15년일입'!$A33)*(구분표!$C$2:$C$1001='15년일입'!$B33)*(구분표!$A$2:$A$1001='15년일입'!$C33),0))),"@@")} -> 1705
A34: =IFERROR(VLOOKUP('15년일입'!$C34,구분표!$A$2:$C$1001,2,FALSE),"") -> 농정해양위원회 | B34: =IFERROR(VLOOKUP('15년일입'!$C34,구분표!$A$2:$C$1001,3,FALSE),"") -> 농업기술원 | C34: 농업기술원(총무과) | D34: 본예산 | E34: 642 | F34: 국고보조금 (농업전문인력양성) | G34: 1154810 | I34: 5000 | J34: =SUM(G34+H34+I34) -> 1159810 | M34: =SUM(G34+K34+L34) -> 1154810 | N34: =IF(H34-K34<0,"동의필요","-") -> - | O34: 농촌진흥청 지도정책과-6431(14.10.30) | S34: 국비 | T34: =IF($S34<>"도비",IF($Q34="국도비","직접입력",SUM($H34:$I34)),) -> 5000 | U34: =IF($S34="도비",SUM($H34:$I34),IF($Q34="국도비","직접입력",SUM($H34:$I34)-$T34)) -> 0 | V34: =IF($Q34="국도비","ok",IF(($H34+$I34)=($T34+$U34),"ok","검토")) -> ok | X34: =$S34 -> 국비 | Y34: =IF($X34<>"도비",IF($Q34="국도비","직접입력",SUM($K34:$L34)),) -> 0 | Z34: =IF($X34="도비",SUM($K34:$L34),IF($Q34="국도비","직접입력",SUM($K34:$L34)-$Y34)) -> 0 | AA34: =IF($Q34="국도비","ok",IF(($K34+$L34)=($Y34+$Z34),"ok","검토")) -> ok | AC34: {=IFERROR(IF($C34="","",INDEX(구분표!$I$2:$I$1001,MATCH(1,(구분표!$B$2:$B$1001='15년일입'!$A34)*(구분표!$C$2:$C$1001='15년일입'!$B34)*(구분표!$A$2:$A$1001='15년일입'!$C34),0))),"@@")} -> 1801
A35: =IFERROR(VLOOKUP('15년일입'!$C35,구분표!$A$2:$C$1001,2,FALSE),"") -> 농정해양위원회 | B35: =IFERROR(VLOOKUP('15년일입'!$C35,구분표!$A$2:$C$1001,3,FALSE),"") -> 농업기술원 | C35: 농업기술원(총무과) | D35: 본예산 | E35: 642 | F35: 국고보조금 (과학영농현장기술지원) | G35: 660050 | I35: 90000 | J35: =SUM(G35+H35+I35) -> 750050 | M35: =SUM(G35+K35+L35) -> 660050 | N35: =IF(H35-K35<0,"동의필요","-") -> - | O35: 농촌진흥청 지도정책과-6431(14.10.30) | S35: 국비 | T35: =IF($S35<>"도비",IF($Q35="국도비","직접입력",SUM($H35:$I35)),) -> 90000 | U35: =IF($S35="도비",SUM($H35:$I35),IF($Q35="국도비","직접입력",SUM($H35:$I35)-$T35)) -> 0 | V35: =IF($Q35="국도비","ok",IF(($H35+$I35)=($T35+$U35),"ok","검토")) -> ok | X35: =$S35 -> 국비 | Y35: =IF($X35<>"도비",IF($Q35="국도비","직접입력",SUM($K35:$L35)),) -> 0 | Z35: =IF($X35="도비",SUM($K35:$L35),IF($Q35="국도비","직접입력",SUM($K35:$L35)-$Y35)) -> 0 | AA35: =IF($Q35="국도비","ok",IF(($K35+$L35)=($Y35+$Z35),"ok","검토")) -> ok | AC35: {=IFERROR(IF($C35="","",INDEX(구분표!$I$2:$I$1001,MATCH(1,(구분표!$B$2:$B$1001='15년일입'!$A35)*(구분표!$C$2:$C$1001='15년일입'!$B35)*(구분표!$A$2:$A$1001='15년일입'!$C35),0))),"@@")} -> 1801
A36: =IFERROR(VLOOKUP('15년일입'!$C36,구분표!$A$2:$C$1001,2,FALSE),"") -> 농정해양위원회 | B36: =IFERROR(VLOOKUP('15년일입'!$C36,구분표!$A$2:$C$1001,3,FALSE),"") -> 농업기술원 | C36: 농업기술원(총무과) | D36: 본예산 | E36: 642 | F36: 지역발전특별회계보조금 (농촌체험기술보급) | G36: 1351000 | I36: 250000 | J36: =SUM(G36+H36+I36) -> 1601000 | M36: =SUM(G36+K36+L36) -> 1351000 | N36: =IF(H36-K36<0,"동의필요","-") -> - | O36: 농촌진흥청 농촌자원과-3281(14.11.20) | S36: 지특 | T36: =IF($S36<>"도비",IF($Q36="국도비","직접입력",SUM($H36:$I36)),) -> 250000 | U36: =IF($S36="도비",SUM($H36:$I36),IF($Q36="국도비","직접입력",SUM($H36:$I36)-$T36)) -> 0 | V36: =IF($Q36="국도비","ok",IF(($H36+$I36)=($T36+$U36),"ok","검토")) -> ok | X36: =$S36 -> 지특 | Y36: =IF($X36<>"도비",IF($Q36="국도비","직접입력",SUM($K36:$L36)),) -> 0 | Z36: =IF($X36="도비",SUM($K36:$L36),IF($Q36="국도비","직접입력",SUM($K36:$L36)-$Y36)) -> 0 | AA36: =IF($Q36="국도비","ok",IF(($K36+$L36)=($Y36+$Z36),"ok","검토")) -> ok | AC36: {=IFERROR(IF($C36="","",INDEX(구분표!$I$2:$I$1001,MATCH(1,(구분표!$B$2:$B$1001='15년일입'!$A36)*(구분표!$C$2:$C$1001='15년일입'!$B36)*(구분표!$A$2:$A$1001='15년일입'!$C36),0))),"@@")} -> 1801
A37: =IFERROR(VLOOKUP('15년일입'!$C37,구분표!$A$2:$C$1001,2,FALSE),"") -> 보건복지위원회 | B37: =IFERROR(VLOOKUP('15년일입'!$C37,구분표!$A$2:$C$1001,3,FALSE),"") -> 보건복지국 | C37: 무한돌봄복지과 | D37: 신규 | E37: 신규 | F37: 국고보조금 (지역사회복지협의체 지역대회) | I37: 16500 | J37: =SUM(G37+H37+I37) -> 16500 | M37: =SUM(G37+K37+L37) -> 0 | N37: =IF(H37-K37<0,"동의필요","-") -> - | O37: 국비 내시 추가(신규) ※ 보건복지부 지역복지과-4907호(2014.10.20) | S37: 국비 | T37: =IF($S37<>"도비",IF($Q37="국도비","직접입력",SUM($H37:$I37)),) -> 16500 | U37: =IF($S37="도비",SUM($H37:$I37),IF($Q37="국도비","직접입력",SUM($H37:$I37)-$T37)) -> 0 | V37: =IF($Q37="국도비","ok",IF(($H37+$I37)=($T37+$U37),"ok","검토")) -> ok | X37: =$S37 -> 국비 | Y37: =IF($X37<>"도비",IF($Q37="국도비","직접입력",SUM($K37:$L37)),) -> 0 | Z37: =IF($X37="도비",SUM($K37:$L37),IF($Q37="국도비","직접입력",SUM($K37:$L37)-$Y37)) -> 0 | AA37: =IF($Q37="국도비","ok",IF(($K37+$L37)=($Y37+$Z37),"ok","검토")) -> ok | AC37: {=IFERROR(IF($C37="","",INDEX(구분표!$I$2:$I$1001,MATCH(1,(구분표!$B$2:$B$1001='15년일입'!$A37)*(구분표!$C$2:$C$1001='15년일입'!$B37)*(구분표!$A$2:$A$1001='15년일입'!$C37),0))),"@@")} -> 1901
A38: =IFERROR(VLOOKUP('15년일입'!$C38,구분표!$A$2:$C$1001,2,FALSE),"") -> 보건복지위원회 | B38: =IFERROR(VLOOKUP('15년일입'!$C38,구분표!$A$2:$C$1001,3,FALSE),"") -> 보건복지국 | C38: 사회적일자리과 | D38: 본예산 | E38: 731 | F38: 국고보조금 (노인 일자리 확충) | G38: 33642495 | I38: 3422638 | J38: =SUM(G38+H38+I38) -> 37065133 | M38: =SUM(G38+K38+L38) -> 33642495 | N38: =IF(H38-K38<0,"동의필요","-") -> - | O38: 국비 내시 변경 ※ 보건복지부 노인지원과-4407호(2014.10.28.) 및 보건복지부 노인지원과 업무협조(2014.11.18) | S38: 국비 | T38: =IF($S38<>"도비",IF($Q38="국도비","직접입력",SUM($H38:$I38)),) -> 3422638 | U38: =IF($S38="도비",SUM($H38:$I38),IF($Q38="국도비","직접입력",SUM($H38:$I38)-$T38)) -> 0 | V38: =IF($Q38="국도비","ok",IF(($H38+$I38)=($T38+$U38),"ok","검토")) -> ok | X38: =$S38 -> 국비 | Y38: =IF($X38<>"도비",IF($Q38="국도비","직접입력",SUM($K38:$L38)),) -> 0 | Z38: =IF($X38="도비",SUM($K38:$L38),IF($Q38="국도비","직접입력",SUM($K38:$L38)-$Y38)) -> 0 | AA38: =IF($Q38="국도비","ok",IF(($K38+$L38)=($Y38+$Z38),"ok","검토")) -> ok | AC38: {=IFERROR(IF($C38="","",INDEX(구분표!$I$2:$I$1001,MATCH(1,(구분표!$B$2:$B$1001='15년일입'!$A38)*(구분표!$C$2:$C$1001='15년일입'!$B38)*(구분표!$A$2:$A$1001='15년일입'!$C38),0))),"@@")} -> 1902
A39: =IFERROR(VLOOKUP('15년일입'!$C39,구분표!$A$2:$C$1001,2,FALSE),"") -> 보건복지위원회 | B39: =IFERROR(VLOOKUP('15년일입'!$C39,구분표!$A$2:$C$1001,3,FALSE),"") -> 보건복지국 | C39: 노인복지과 | D39: 본예산 | E39: 732 | F39: 국고보조금 (노인양로시설 운영) | G39: 5636188 | H39: -261000 | J39: =SUM(G39+H39+I39) -> 5375188 | M39: =SUM(G39+K39+L39) -> 5636188 | N39: =IF(H39-K39<0,"동의필요","-") -> 동의필요 | O39: 국비 내시 변경 ※ 보건복지부 요양보험운영과-5279호(2014.10.13) | S39: 국비 | T39: =IF($S39<>"도비",IF($Q39="국도비","직접입력",SUM($H39:$I39)),) -> -261000 | U39: =IF($S39="도비",SUM($H39:$I39),IF($Q39="국도비","직접입력",SUM($H39:$I39)-$T39)) -> 0 | V39: =IF($Q39="국도비","ok",IF(($H39+$I39)=($T39+$U39),"ok","검토")) -> ok | X39: =$S39 -> 국비 | Y39: =IF($X39<>"도비",IF($Q39="국도비","직접입력",SUM($K39:$L39)),) -> 0 | Z39: =IF($X39="도비",SUM($K39:$L39),IF($Q39="국도비","직접입력",SUM($K39:$L39)-$Y39)) -> 0 | AA39: =IF($Q39="국도비","ok",IF(($K39+$L39)=($Y39+$Z39),"ok","검토")) -> ok | AC39: {=IFERROR(IF($C39="","",INDEX(구분표!$I$2:$I$1001,MATCH(1,(구분표!$B$2:$B$1001='15년일입'!$A39)*(구분표!$C$2:$C$1001='15년일입'!$B39)*(구분표!$A$2:$A$1001='15년일입'!$C39),0))),"@@")} -> 1903
A40: =IFERROR(VLOOKUP('15년일입'!$C40,구분표!$A$2:$C$1001,2,FALSE),"") -> 보건복지위원회 | B40: =IFERROR(VLOOKUP('15년일입'!$C40,구분표!$A$2:$C$1001,3,FALSE),"") -> 보건복지국 | C40: 보건정책과 | D40: 본예산 | E40: 733 | F40: 국고보조금 (농어촌의료서비스개선사업) | G40: 2622581 | I40: 59004 | J40: =SUM(G40+H40+I40) -> 2681585 | M40: =SUM(G40+K40+L40) -> 2622581 | N40: =IF(H40-K40<0,"동의필요","-") -> - | O40: 국비 내시 변경 ※ 보건복지부 건강정책과-7090호(2014.11.21) | S40: 국비 | T40: =IF($S40<>"도비",IF($Q40="국도비","직접입력",SUM($H40:$I40)),) -> 59004 | U40: =IF($S40="도비",SUM($H40:$I40),IF($Q40="국도비","직접입력",SUM($H40:$I40)-$T40)) -> 0 | V40: =IF($Q40="국도비","ok",IF(($H40+$I40)=($T40+$U40),"ok","검토")) -> ok | X40: =$S40 -> 국비 | Y40: =IF($X40<>"도비",IF($Q40="국도비","직접입력",SUM($K40:$L40)),) -> 0 | Z40: =IF($X40="도비",SUM($K40:$L40),IF($Q40="국도비","직접입력",SUM($K40:$L40)-$Y40)) -> 0 | AA40: =IF($Q40="국도비","ok",IF(($K40+$L40)=($Y40+$Z40),"ok","검토")) -> ok | AC40: {=IFERROR(IF($C40="","",INDEX(구분표!$I$2:$I$1001,MATCH(1,(구분표!$B$2:$B$1001='15년일입'!$A40)*(구분표!$C$2:$C$1001='15년일입'!$B40)*(구분표!$A$2:$A$1001='15년일입'!$C40),0))),"@@")} -> 1905
A41: =IFERROR(VLOOKUP('15년일입'!$C41,구분표!$A$2:$C$1001,2,FALSE),"") -> 보건복지위원회 | B41: =IFERROR(VLOOKUP('15년일입'!$C41,구분표!$A$2:$C$1001,3,FALSE),"") -> 보건복지국 | C41: 보건정책과 | D41: 본예산 | E41: 733 | F41: 국고보조금 (외국인근로자 등 의료지원사업) | G41: 347900 | H41: -81900 | J41: =SUM(G41+H41+I41) -> 266000 | M41: =SUM(G41+K41+L41) -> 347900 | N41: =IF(H41-K41<0,"동의필요","-") -> 동의필요 | O41: 국비 내시 변경 ※보건복지부 공공의료과-6233호(2014.11.09) | S41: 국비 | T41: =IF($S41<>"도비",IF($Q41="국도비","직접입력",SUM($H41:$I41)),) -> -81900 | U41: =IF($S41="도비",SUM($H41:$I41),IF($Q41="국도비","직접입력",SUM($H41:$I41)-$T41)) -> 0 | V41: =IF($Q41="국도비","ok",IF(($H41+$I41)=($T41+$U41),"ok","검토")) -> ok | X41: =$S41 -> 국비 | Y41: =IF($X41<>"도비",IF($Q41="국도비","직접입력",SUM($K41:$L41)),) -> 0 | Z41: =IF($X41="도비",SUM($K41:$L41),IF($Q41="국도비","직접입력",SUM($K41:$L41)-$Y41)) -> 0 | AA41: =IF($Q41="국도비","ok",IF(($K41+$L41)=($Y41+$Z41),"ok","검토")) -> ok | AC41: {=IFERROR(IF($C41="","",INDEX(구분표!$I$2:$I$1001,MATCH(1,(구분표!$B$2:$B$1001='15년일입'!$A41)*(구분표!$C$2:$C$1001='15년일입'!$B41)*(구분표!$A$2:$A$1001='15년일입'!$C41),0))),"@@")} -> 1905
A42: =IFERROR(VLOOKUP('15년일입'!$C42,구분표!$A$2:$C$1001,2,FALSE),"") -> 보건복지위원회 | B42: =IFERROR(VLOOKUP('15년일입'!$C42,구분표!$A$2:$C$1001,3,FALSE),"") -> 보건복지국 | C42: 보건정책과 | D42: 본예산 | E42: 733 | F42: 국고보조금 (감염병전문가교육) | G42: 171108 | H42: -6984 | J42: =SUM(G42+H42+I42) -> 164124 | M42: =SUM(G42+K42+L42) -> 171108 | N42: =IF(H42-K42<0,"동의필요","-") -> 동의필요 | O42: 국비 내시 변경 ※질병관리본부 감염병관리과-3856호(2014.10.14.) | S42: 국비 | T42: =IF($S42<>"도비",IF($Q42="국도비","직접입력",SUM($H42:$I42)),) -> -6984 | U42: =IF($S42="도비",SUM($H42:$I42),IF($Q42="국도비","직접입력",SUM($H42:$I42)-$T42)) -> 0 | V42: =IF($Q42="국도비","ok",IF(($H42+$I42)=($T42+$U42),"ok","검토")) -> ok | X42: =$S42 -> 국비 | Y42: =IF($X42<>"도비",IF($Q42="국도비","직접입력",SUM($K42:$L42)),) -> 0 | Z42: =IF($X42="도비",SUM($K42:$L42),IF($Q42="국도비","직접입력",SUM($K42:$L42)-$Y42)) -> 0 | AA42: =IF($Q42="국도비","ok",IF(($K42+$L42)=($Y42+$Z42),"ok","검토")) -> ok | AC42: {=IFERROR(IF($C42="","",INDEX(구분표!$I$2:$I$1001,MATCH(1,(구분표!$B$2:$B$1001='15년일입'!$A42)*(구분표!$C$2:$C$1001='15년일입'!$B42)*(구분표!$A$2:$A$1001='15년일입'!$C42),0))),"@@")} -> 1905
A43: =IFERROR(VLOOKUP('15년일입'!$C43,구분표!$A$2:$C$1001,2,FALSE),"") -> 보건복지위원회 | B43: =IFERROR(VLOOKUP('15년일입'!$C43,구분표!$A$2:$C$1001,3,FALSE),"") -> 보건복지국 | C43: 보건정책과 | D43: 본예산 | E43: 734 | F43: 기금 (국가결핵예방) | G43: 3685458 | I43: 59000 | J43: =SUM(G43+H43+I43) -> 3744458 | M43: =SUM(G43+K43+L43) -> 3685458 | N43: =IF(H43-K43<0,"동의필요","-") -> - | O43: 국비 내시 변경 질병관리본부 에이즈결핵관리과-4768호(2014.11.18.) | S43: 기금 | T43: =IF($S43<>"도비",IF($Q43="국도비","직접입력",SUM($H43:$I43)),) -> 59000 | U43: =IF($S43="도비",SUM($H43:$I43),IF($Q43="국도비","직접입력",SUM($H43:$I43)-$T43)) -> 0 | V43: =IF($Q43="국도비","ok",IF(($H43+$I43)=($T43+$U43),"ok","검토")) -> ok | X43: =$S43 -> 기금 | Y43: =IF($X43<>"도비",IF($Q43="국도비","직접입력",SUM($K43:$L43)),) -> 0 | Z43: =IF($X43="도비",SUM($K43:$L43),IF($Q43="국도비","직접입력",SUM($K43:$L43)-$Y43)) -> 0 | AA43: =IF($Q43="국도비","ok",IF(($K43+$L43)=($Y43+$Z43),"ok","검토")) -> ok | AC43: {=IFERROR(IF($C43="","",INDEX(구분표!$I$2:$I$1001,MATCH(1,(구분표!$B$2:$B$1001='15년일입'!$A43)*(구분표!$C$2:$C$1001='15년일입'!$B43)*(구분표!$A$2:$A$1001='15년일입'!$C43),0))),"@@")} -> 1905
