Workbook

Sheet 구분표
A2: 실과명 조정 | B2: 위원회명 조정 | C2: 실국명 조정 | E2: 실국명 | F2: 실과명 | G2: 위원회명 | H2: 정렬순서 | I2: 정렬코드
A3: 공보담당관 | B3: 의회운영위원회 | C3: 의회사무처 | E3: 의회사무처 | F3: 공보담당관 | G3: 의회운영위원회 | H3: 1 | I3: 0101
A4: 총무담당관 | B4: 의회운영위원회 | C4: 의회사무처 | E4: 의회사무처 | F4: 총무담당관 | G4: 의회운영위원회 | H4: 2 | I4: 0102
A5: 의정담당관 | B5: 의회운영위원회 | C5: 의회사무처 | E5: 의회사무처 | F5: 의정담당관 | G5: 의회운영위원회 | H5: 3 | I5: 0103
A6: 입법정책담당관 | B6: 의회운영위원회 | C6: 의회사무처 | E6: 의회사무처 | F6: 입법정책담당관 | G6: 의회운영위원회 | H6: 4 | I6: 0104
A7: 예산정책담당관 | B7: 의회운영위원회 | C7: 의회사무처 | E7: 의회사무처 | F7: 예산정책담당관 | G7: 의회운영위원회 | H7: 5 | I7: 0105
A8: 언론협력담당관 | B8: 의회운영위원회 | C8: 대변인 | E8: 대변인 | F8: 언론협력담당관 | G8: 의회운영위원회 | H8: 6 | I8: 0106
A9: 보도기획담당관 | B9: 의회운영위원회 | C9: 대변인 | E9: 대변인 | F9: 보도기획담당관 | G9: 의회운영위원회 | H9: 7 | I9: 0107
A10: 홍보담당관 | B10: 의회운영위원회 | C10: 소통기획관 | E10: 소통기획관 | F10: 홍보담당관 | G10: 의회운영위원회 | H10: 8 | I10: 0108
A11: 소통담당관 | B11: 의회운영위원회 | C11: 소통기획관 | E11: 소통기획관 | F11: 소통담당관 | G11: 의회운영위원회 | H11: 9 | I11: 0109
A12: 연정협력관 | B12: 의회운영위원회 | C12: 연정협력관 | E12: 연정협력관 | F12: 연정협력관 | G12: 의회운영위원회 | H12: 10 | I12: 0110
A13: 대외협력담당관 | B13: 의회운영위원회 | C13: 대외협력담당관 | E13: 대외협력담당관 | F13: 대외협력담당관 | G13: 의회운영위원회 | H13: 11 | I13: 0111
... A202: 도서관정책과 | B202: 여성가족교육협력위원회 | C202: 교육협력국 | E202: 교육협력국 | F202: 도서관정책과 | G202: 여성가족교육협력위원회 | H202: 200 | I202: 1012

Sheet 예결표지(세로)
A5: 2015년도 제1회 일반회계 및 특별회계 추가경정 세입·세출 예산안
A7: 예결위 계수조정 결과
A20: 예산결산특별위원회

Sheet 예결표지(가로)
A3: 2015년도 제1회 일반회계 및 특별회계 추가경정 세입·세출 예산안
A5: 예결위 계수조정 결과
A14: 예산결산특별위원회

Sheet 1추검증
A1: 1회 추경 일반회계 검증 | H1: 1추 예비비 | J1: 조정액 | K1: =IFERROR(INDEX('1추일출'!AB6:AB14,MATCH("*예비비*",'1추일출'!F6:F14,0)),0) -> 0 | L1: 조정잔액 | M1: =I1+K1 -> 0
M2: (단위 : 천원)
A3: 구분 | B3: 상 임 위 | H3: 구분 | I3: 예 결 위
B4: 세입 | C4: 검증 | D4: 세출 | E4: 검증 | F4: 차액 | I4: 세입 | J4: 검증 | K4: 세출 | L4: 검증 | M4: 차액
A5: 전체 총계 | B5: =SUM(B6:B13)/2 -> 0 | C5: =IF(B5=SUM('1추일입'!J6:K6),"OK","@@") -> OK | D5: =SUM(D6:D13)/2 -> 0 | E5: =IF(D5=SUM('1추일출'!J6:K6),"OK","@@") -> @@ | H5: 전체 총계 | I5: =SUM(I6:I13)/2 -> 0 | J5: =IF(I5=SUM('1추일입'!M6:N6),"OK","@@") -> OK | K5: =SUM(K6:K13)/2 -> 0 | L5: =IF(K5=SUM('1추일출'!M6:N6),"OK","@@") -> OK
A6: 자체 계 | B6: =SUM(B7:B8) -> 0 | C6: =IF(B6='1추일입'!W6,"OK","@@") -> OK | D6: =SUM(D7:D8) -> 0 | E6: =IF(D6='1추일출'!W6,"OK","@@") -> OK | H6: 자체 계 | I6: =SUM(I7:I8) -> 0 | J6: =IF(I6='1추일입'!AB6,"OK","@@") -> OK | K6: =SUM(K7:K8) -> 0 | L6: =IF(K6='1추일출'!AB6,"OK","@@") -> OK
A7: 자체 도비 | B7: =SUMIFS('1추일입'!W6:W100,'1추일입'!U6:U100,"도비") -> 0 | D7: =SUMIFS('1추일출'!$W$6:$W$14,'1추일출'!$U$6:$U$14,"도비") -> 0 | H7: 자체 도비 | I7: =SUMIFS('1추일입'!AB6:AB100,'1추일입'!Z6:Z100,"국비") -> 0 | K7: =SUMIFS('1추일출'!$AB$6:$AB$14,'1추일출'!$Z$6:$Z$14,"도비") -> 0
A8: 의존 매칭 도비 | B8: =SUMIFS('1추일입'!W6:W100,'1추일입'!U6:U100,"국비")+SUMIFS('1추일입'!W6:W100,'1추일입'!U6:U100,"지특")+SUMIFS('1추일입'!W6:W100,'1추일입'!U6:U100,"기금")+SUMIFS('1추일입'!W6:W100,'1추일입'!U6:U100,"특교") -> 0 | D8: =SUMIFS('1추일출'!$W$6:$W$14,'1추일출'!$U$6:$U$14,"국비")+SUMIFS('1추일출'!$W$6:$W$14,'1추일출'!$U$6:$U$14,"지특")+SUMIFS('1추일출'!$W$6:$W$14,'1추일출'!$U$6:$U$14,"기금")+SUMIFS('1추일출'!$W$6:$W$14,'1추일출'!$U$6:$U$14,"특교") -> 0 | H8: 의존 매칭 도비 | I8: =SUMIFS('1추일입'!AB6:AB100,'1추일입'!Z6:Z100,"국비")+SUMIFS('1추일입'!AB6:AB100,'1추일입'!Z6:Z100,"지특")+SUMIFS('1추일입'!AB6:AB100,'1추일입'!Z6:Z100,"기금")+SUMIFS('1추일입'!AB6:AB100,'1추일입'!Z6:Z100,"특교") -> 0 | K8: =SUMIFS('1추일출'!$AB$6:$AB$14,'1추일출'!$Z$6:$Z$14,"국비")+SUMIFS('1추일출'!$AB$6:$AB$14,'1추일출'!$Z$6:$Z$14,"지특")+SUMIFS('1추일출'!$AB$6:$AB$14,'1추일출'!$Z$6:$Z$14,"기금")+SUMIFS('1추일출'!$AB$6:$AB$14,'1추일출'!$Z$6:$Z$14,"특교") -> 0
A9: 의존 계 | B9: =SUM(B10:B13) -> 0 | C9: =IF(B9='1추일입'!V6,"OK","@@") -> OK | D9: =SUM(D10:D13) -> 0 | E9: =IF(D9='1추일출'!V6,"OK","@@") -> @@ | F9: =SUM(F10:F13) -> 0 | H9: 의존 계 | I9: =SUM(I10:I13) -> 0 | J9: =IF(I9='1추일입'!V6,"OK","@@") -> OK | K9: =SUM(K10:K13) -> 0 | L9: =IF(K9='1추일출'!AA6,"OK","@@") -> OK | M9: =SUM(M10:M13) -> 0
A10: 국비 | B10: =SUMIFS('1추일입'!$W$6:$W$100,'1추일입'!$U$6:$U$100,'1추검증'!A10) -> 0 | D10: =SUMIFS('1추일출'!$W$6:$W$14,'1추일출'!$U$6:$U$14,'1추검증'!A10) -> 0 | F10: =D10-B10 -> 0 | H10: 국비 | I10: =SUMIFS('1추일입'!$AB$6:$AB$100,'1추일입'!$Z$6:$Z$100,'1추검증'!H10) -> 0 | K10: =SUMIFS('1추일출'!$AB$6:$AB$14,'1추일출'!$Z$6:$Z$14,'1추검증'!H10) -> 0 | M10: =K10-I10 -> 0
A11: 지특 | B11: =SUMIFS('1추일입'!$W$6:$W$100,'1추일입'!$U$6:$U$100,'1추검증'!A11) -> 0 | D11: =SUMIFS('1추일출'!$W$6:$W$14,'1추일출'!$U$6:$U$14,'1추검증'!A11) -> 0 | F11: =D11-B11 -> 0 | H11: 지특 | I11: =SUMIFS('1추일입'!$AB$6:$AB$100,'1추일입'!$Z$6:$Z$100,'1추검증'!H11) -> 0 | K11: =SUMIFS('1추일출'!$AB$6:$AB$14,'1추일출'!$Z$6:$Z$14,'1추검증'!H11) -> 0 | M11: =K11-I11 -> 0
A12: 기금 | B12: =SUMIFS('1추일입'!$W$6:$W$100,'1추일입'!$U$6:$U$100,'1추검증'!A12) -> 0 | D12: =SUMIFS('1추일출'!$W$6:$W$14,'1추일출'!$U$6:$U$14,'1추검증'!A12) -> 0 | F12: =D12-B12 -> 0 | H12: 기금 | I12: =SUMIFS('1추일입'!$AB$6:$AB$100,'1추일입'!$Z$6:$Z$100,'1추검증'!H12) -> 0 | K12: =SUMIFS('1추일출'!$AB$6:$AB$14,'1추일출'!$Z$6:$Z$14,'1추검증'!H12) -> 0 | M12: =K12-I12 -> 0
A13: 특교 | B13: =SUMIFS('1추일입'!$W$6:$W$100,'1추일입'!$U$6:$U$100,'1추검증'!A13) -> 0 | D13: =SUMIFS('1추일출'!$W$6:$W$14,'1추일출'!$U$6:$U$14,'1추검증'!A13) -> 0 | F13: =D13-B13 -> 0 | H13: 특교 | I13: =SUMIFS('1추일입'!$AB$6:$AB$100,'1추일입'!$Z$6:$Z$100,'1추검증'!H13) -> 0 | K13: =SUMIFS('1추일출'!$AB$6:$AB$14,'1추일출'!$Z$6:$Z$14,'1추검증'!H13) -> 0 | M13: =K13-I13 -> 0

Sheet 1추총괄표
A1: 2015년도 제1회 추경 일반 및 특별회계 세입·세출 예산안(전체예산총괄)
A3: □ 총 괄 | C3: 세입예산 증감 | D3: =SUM(C7:D7) -> 0 | E3: 세출예산증감 | F3: =SUM(E7:F7) -> 0
E4: ※ 예비비 증감 | G4: (단위 : 천원)
A5: 구 분 | B5: 집행부제출(안) | C5: 세입예산(안) | E5: 세출예산(안) | G5: 수정예산(안) | I5: ※ 예산안 증감현황
C6: 감 액 | D6: 증 액 | E6: 감 액 | F6: 증 액 | I6: 구 분 | J6: 세입 | K6: 세출 | L6: 예비비 | M6: 비고(???)
A7: 합 계 | B7: =SUM(B8:B17) -> 738556856 | C7: =SUM(C8:C17) -> 0 | D7: =SUM(D8:D17) -> 0 | E7: =SUM(E8:E17) -> 0 | F7: =SUM(F8:F17) -> 0 | G7: =SUM(G8:G17) -> 738556856 | I7: 합 계 | J7: =SUM(J8:J9) -> 0 | K7: =SUM(K8:K9) -> 0 | L7: =J7-K7 -> 0
A8: 의회운영위원회 | B8: =C31 -> 0 | C8: =SUMIFS('1추일입'!$M$6:$M$100,'1추일입'!$A$6:$A$100,'1추총괄표'!$A8)+SUMIFS('1추특입'!$M$6:$M$100,'1추특입'!$A$6:$A$100,'1추총괄표'!$A8) -> 0 | D8: =SUMIFS('1추일입'!$N$6:$N$100,'1추일입'!$A$6:$A$100,'1추총괄표'!$A8)+SUMIFS('1추특입'!$N$6:$N$100,'1추특입'!$A$6:$A$100,'1추총괄표'!$A8) -> 0 | E8: =SUMIFS('1추일출'!M$6:M$14,'1추일출'!$A$6:$A$14,'1추총괄표'!$A8)+SUMIFS('1추특출'!M$6:M$100,'1추특출'!$A$6:$A$100,'1추총괄표'!$A8) -> 0 | F8: =SUMIFS('1추일출'!N$6:N$14,'1추일출'!$A$6:$A$14,'1추총괄표'!$A8)+SUMIFS('1추특출'!N$6:N$100,'1추특출'!$A$6:$A$100,'1추총괄표'!$A8) -> 0 | G8: =B8+E8+F8 -> 0 | I8: 일반회계 | J8: =SUM(C24:D24) -> 0 | K8: =SUM(E24:F24) -> 0 | L8: =J8-K8 -> 0 | M8: 예비비 증감 - 감액, + 증액에 입력
A9: 기획재정위원회 | B9: =C32 -> 193124967 | C9: =SUMIFS('1추일입'!$M$6:$M$100,'1추일입'!$A$6:$A$100,'1추총괄표'!$A9)+SUMIFS('1추특입'!$M$6:$M$100,'1추특입'!$A$6:$A$100,'1추총괄표'!$A9) -> 0 | D9: =SUMIFS('1추일입'!$N$6:$N$100,'1추일입'!$A$6:$A$100,'1추총괄표'!$A9)+SUMIFS('1추특입'!$N$6:$N$100,'1추특입'!$A$6:$A$100,'1추총괄표'!$A9) -> 0 | E9: =SUMIFS('1추일출'!M$6:M$14,'1추일출'!$A$6:$A$14,'1추총괄표'!$A9)+SUMIFS('1추특출'!M$6:M$100,'1추특출'!$A$6:$A$100,'1추총괄표'!$A9) -> 0 | F9: =SUMIFS('1추일출'!N$6:N$14,'1추일출'!$A$6:$A$14,'1추총괄표'!$A9)+SUMIFS('1추특출'!N$6:N$100,'1추특출'!$A$6:$A$100,'1추총괄표'!$A9) -> 0 | G9: =B9+E9+F9 -> 193124967 | I9: 특별회계 | J9: =SUM(C25:D25) -> 0 | K9: =SUM(E25:F25) -> 0 | L9: =J9-K9 -> 0
A10: 경제과학기술위원회 | B10: =C33 -> 17940261 | C10: =SUMIFS('1추일입'!$M$6:$M$100,'1추일입'!$A$6:$A$100,'1추총괄표'!$A10)+SUMIFS('1추특입'!$M$6:$M$100,'1추특입'!$A$6:$A$100,'1추총괄표'!$A10) -> 0 | D10: =SUMIFS('1추일입'!$N$6:$N$100,'1추일입'!$A$6:$A$100,'1추총괄표'!$A10)+SUMIFS('1추특입'!$N$6:$N$100,'1추특입'!$A$6:$A$100,'1추총괄표'!$A10) -> 0 | E10: =SUMIFS('1추일출'!M$6:M$14,'1추일출'!$A$6:$A$14,'1추총괄표'!$A10)+SUMIFS('1추특출'!M$6:M$100,'1추특출'!$A$6:$A$100,'1추총괄표'!$A10) -> 0 | F10: =SUMIFS('1추일출'!N$6:N$14,'1추일출'!$A$6:$A$14,'1추총괄표'!$A10)+SUMIFS('1추특출'!N$6:N$100,'1추특출'!$A$6:$A$100,'1추총괄표'!$A10) -> 0 | G10: =B10+E10+F10 -> 17940261
A11: 안전행정위원회 | B11: =C34 -> 14615060 | C11: =SUMIFS('1추일입'!$M$6:$M$100,'1추일입'!$A$6:$A$100,'1추총괄표'!$A11)+SUMIFS('1추특입'!$M$6:$M$100,'1추특입'!$A$6:$A$100,'1추총괄표'!$A11) -> 0 | D11: =SUMIFS('1추일입'!$N$6:$N$100,'1추일입'!$A$6:$A$100,'1추총괄표'!$A11)+SUMIFS('1추특입'!$N$6:$N$100,'1추특입'!$A$6:$A$100,'1추총괄표'!$A11) -> 0 | E11: =SUMIFS('1추일출'!M$6:M$14,'1추일출'!$A$6:$A$14,'1추총괄표'!$A11)+SUMIFS('1추특출'!M$6:M$100,'1추특출'!$A$6:$A$100,'1추총괄표'!$A11) -> 0 | F11: =SUMIFS('1추일출'!N$6:N$14,'1추일출'!$A$6:$A$14,'1추총괄표'!$A11)+SUMIFS('1추특출'!N$6:N$100,'1추특출'!$A$6:$A$100,'1추총괄표'!$A11) -> 0 | G11: =B11+E11+F11 -> 14615060
A12: 문화체육관광위원회 | B12: =C35 -> 21603000 | C12: =SUMIFS('1추일입'!$M$6:$M$100,'1추일입'!$A$6:$A$100,'1추총괄표'!$A12)+SUMIFS('1추특입'!$M$6:$M$100,'1추특입'!$A$6:$A$100,'1추총괄표'!$A12) -> 0 | D12: =SUMIFS('1추일입'!$N$6:$N$100,'1추일입'!$A$6:$A$100,'1추총괄표'!$A12)+SUMIFS('1추특입'!$N$6:$N$100,'1추특입'!$A$6:$A$100,'1추총괄표'!$A12) -> 0 | E12: =SUMIFS('1추일출'!M$6:M$14,'1추일출'!$A$6:$A$14,'1추총괄표'!$A12)+SUMIFS('1추특출'!M$6:M$100,'1추특출'!$A$6:$A$100,'1추총괄표'!$A12) -> 0 | F12: =SUMIFS('1추일출'!N$6:N$14,'1추일출'!$A$6:$A$14,'1추총괄표'!$A12)+SUMIFS('1추특출'!N$6:N$100,'1추특출'!$A$6:$A$100,'1추총괄표'!$A12) -> 0 | G12: =B12+E12+F12 -> 21603000
A13: 농정해양위원회 | B13: =C36 -> 14153954 | C13: =SUMIFS('1추일입'!$M$6:$M$100,'1추일입'!$A$6:$A$100,'1추총괄표'!$A13)+SUMIFS('1추특입'!$M$6:$M$100,'1추특입'!$A$6:$A$100,'1추총괄표'!$A13) -> 0 | D13: =SUMIFS('1추일입'!$N$6:$N$100,'1추일입'!$A$6:$A$100,'1추총괄표'!$A13)+SUMIFS('1추특입'!$N$6:$N$100,'1추특입'!$A$6:$A$100,'1추총괄표'!$A13) -> 0 | E13: =SUMIFS('1추일출'!M$6:M$14,'1추일출'!$A$6:$A$14,'1추총괄표'!$A13)+SUMIFS('1추특출'!M$6:M$100,'1추특출'!$A$6:$A$100,'1추총괄표'!$A13) -> 0 | G13: =B13+E13+F13 -> 14153954
A14: 보건복지위원회 | B14: =C37 -> 24847941 | C14: =SUMIFS('1추일입'!$M$6:$M$100,'1추일입'!$A$6:$A$100,'1추총괄표'!$A14)+SUMIFS('1추특입'!$M$6:$M$100,'1추특입'!$A$6:$A$100,'1추총괄표'!$A14) -> 0 | D14: =SUMIFS('1추일입'!$N$6:$N$100,'1추일입'!$A$6:$A$100,'1추총괄표'!$A14)+SUMIFS('1추특입'!$N$6:$N$100,'1추특입'!$A$6:$A$100,'1추총괄표'!$A14) -> 0 | E14: =SUMIFS('1추일출'!M$6:M$14,'1추일출'!$A$6:$A$14,'1추총괄표'!$A14)+SUMIFS('1추특출'!M$6:M$100,'1추특출'!$A$6:$A$100,'1추총괄표'!$A14) -> 0 | F14: =SUMIFS('1추일출'!N$6:N$14,'1추일출'!$A$6:$A$14,'1추총괄표'!$A14)+SUMIFS('1추특출'!N$6:N$100,'1추특출'!$A$6:$A$100,'1추총괄표'!$A14) -> 0 | G14: =B14+E14+F14 -> 24847941
A15: 건설교통위원회 | B15: =C38 -> 14285000 | C15: =SUMIFS('1추일입'!$M$6:$M$100,'1추일입'!$A$6:$A$100,'1추총괄표'!$A15)+SUMIFS('1추특입'!$M$6:$M$100,'1추특입'!$A$6:$A$100,'1추총괄표'!$A15) -> 0 | D15: =SUMIFS('1추일입'!$N$6:$N$100,'1추일입'!$A$6:$A$100,'1추총괄표'!$A15)+SUMIFS('1추특입'!$N$6:$N$100,'1추특입'!$A$6:$A$100,'1추총괄표'!$A15) -> 0 | E15: =SUMIFS('1추일출'!M$6:M$14,'1추일출'!$A$6:$A$14,'1추총괄표'!$A15)+SUMIFS('1추특출'!M$6:M$100,'1추특출'!$A$6:$A$100,'1추총괄표'!$A15) -> 0 | F15: =SUMIFS('1추일출'!N$6:N$14,'1추일출'!$A$6:$A$14,'1추총괄표'!$A15)+SUMIFS('1추특출'!N$6:N$100,'1추특출'!$A$6:$A$100,'1추총괄표'!$A15) -> 0 | G15: =B15+E15+F15 -> 14285000
A16: 도시환경위원회 | B16: =C39 -> 30077790 | C16: =SUMIFS('1추일입'!$M$6:$M$100,'1추일입'!$A$6:$A$100,'1추총괄표'!$A16)+SUMIFS('1추특입'!$M$6:$M$100,'1추특입'!$A$6:$A$100,'1추총괄표'!$A16) -> 0 | D16: =SUMIFS('1추일입'!$N$6:$N$100,'1추일입'!$A$6:$A$100,'1추총괄표'!$A16)+SUMIFS('1추특입'!$N$6:$N$100,'1추특입'!$A$6:$A$100,'1추총괄표'!$A16) -> 0 | E16: =SUMIFS('1추일출'!M$6:M$14,'1추일출'!$A$6:$A$14,'1추총괄표'!$A16)+SUMIFS('1추특출'!M$6:M$100,'1추특출'!$A$6:$A$100,'1추총괄표'!$A16) -> 0 | F16: =SUMIFS('1추일출'!N$6:N$14,'1추일출'!$A$6:$A$14,'1추총괄표'!$A16)+SUMIFS('1추특출'!N$6:N$100,'1추특출'!$A$6:$A$100,'1추총괄표'!$A16) -> 0 | G16: =B16+E16+F16 -> 30077790
A17: 여성가족교육협력위원회 | B17: =C40 -> 407908883 | C17: =SUMIFS('1추일입'!$M$6:$M$100,'1추일입'!$A$6:$A$100,'1추총괄표'!$A17)+SUMIFS('1추특입'!$M$6:$M$100,'1추특입'!$A$6:$A$100,'1추총괄표'!$A17) -> 0 | D17: =SUMIFS('1추일입'!$N$6:$N$100,'1추일입'!$A$6:$A$100,'1추총괄표'!$A17)+SUMIFS('1추특입'!$N$6:$N$100,'1추특입'!$A$6:$A$100,'1추총괄표'!$A17) -> 0 | E17: =SUMIFS('1추일출'!M$6:M$14,'1추일출'!$A$6:$A$14,'1추총괄표'!$A17)+SUMIFS('1추특출'!M$6:M$100,'1추특출'!$A$6:$A$100,'1추총괄표'!$A17) -> 0 | F17: =SUMIFS('1추일출'!N$6:N$14,'1추일출'!$A$6:$A$14,'1추총괄표'!$A17)+SUMIFS('1추특출'!N$6:N$100,'1추특출'!$A$6:$A$100,'1추총괄표'!$A17) -> 0 | G17: =B17+E17+F17 -> 407908883
A19: □ 회계별 예산 총 규모
G20: (단위 : 천원)
A21: 구 분 | B21: 집행부제출(안) | C21: 세입예산(안) | E21: 세출예산(안) | G21: 수정예산(안) | I21: 세입기준
C22: 감 액 | D22: 증 액 | E22: 감 액 | F22: 증 액 | I22: 수정예산(안) | J22: 세출기준-세입기준
A23: 합 계 | B23: =SUM(B24:B25) -> 738556856 | C23: =SUM(C24:C25) -> 0 | D23: =SUM(D24:D25) -> 0 | E23: =SUM(E24:E25) -> 0 | F23: =SUM(F24:F25) -> 0 | G23: =SUM(G24:G25) -> 738556856 | I23: =SUM(I24:I25) -> 738556856 | J23: =G23-I23 -> 0
A24: 일반회계 | B24: =E30 -> 0 | C24: ='1추일입'!M6 -> 0 | D24: ='1추일입'!N6 -> 0 | E24: ='1추일출'!M6 -> 0 | F24: ='1추일출'!N6 -> 0 | G24: =B24+E24+F24 -> 0 | I24: =B24+C24+D24 -> 0 | J24: =G24-I24 -> 0
A25: 특별회계 | B25: =D30 -> 738556856 | C25: ='1추특입'!M6 -> 0 | D25: ='1추특입'!N6 -> 0 | E25: ='1추특출'!M6 -> 0 | F25: ='1추특출'!N6 -> 0 | G25: =B25+E25+F25 -> 738556856 | I25: =B25+C25+D25 -> 738556856 | J25: =G25-I25 -> 0
A28: ※ 회계별, 위원회별 집행부제출안
A29: 위원회명 | B29: 합계 | C29: 일반+기타 | D29: 일반회계 | E29: 기타특별회계 | F29: 공기업특별회계
A30: 합계 | B30: =SUM(B31:B40) -> 738556856 | C30: =SUM(C31:C40) -> 738556856 | D30: =SUM(D31:D40) -> 738556856 | E30: =SUM(E31:E40) -> 0 | F30: =SUM(F31:F40) -> 0
A31: 의회운영위원회 | B31: =SUM(D31:F31) -> 0 | C31: =D31+E31 -> 0 | D31: 0
A32: 기획재정위원회 | B32: =SUM(D32:F32) -> 193124967 | C32: =D32+E32 -> 193124967 | D32: 193124967
A33: 경제과학기술위원회 | B33: =SUM(D33:F33) -> 17940261 | C33: =D33+E33 -> 17940261 | D33: 17940261
A34: 안전행정위원회 | B34: =SUM(D34:F34) -> 14615060 | C34: =D34+E34 -> 14615060 | D34: 14615060
A35: 문화체육관광위원회 | B35: =SUM(D35:F35) -> 21603000 | C35: =D35+E35 -> 21603000 | D35: 21603000
A36: 농정해양위원회 | B36: =SUM(D36:F36) -> 14153954 | C36: =D36+E36 -> 14153954 | D36: 14153954
A37: 보건복지위원회 | B37: =SUM(D37:F37) -> 24847941 | C37: =D37+E37 -> 24847941 | D37: 24847941
A38: 건설교통위원회 | B38: =SUM(D38:F38) -> 14285000 | C38: =D38+E38 -> 14285000 | D38: 14285000
A39: 도시환경위원회 | B39: =SUM(D39:F39) -> 30077790 | C39: =D39+E39 -> 30077790 | D39: 30077790
A40: 여성가족교육협력위원회 | B40: =SUM(D40:F40) -> 407908883 | C40: =D40+E40 -> 407908883 | D40: 407908883
A42: 예비비 | B42: 6000000

Sheet 1추총괄표(실국)
A1: 2015년도 제1회 추경 일반 및 특별회계 세입·세출 예산안(전체예산총괄)
A2: □ 총괄(실국별)
D3: =SUM(C6:D6) -> 0 | F3: =SUM(E6:F6) -> 0 | G3: (단위 : 천원) | I3: (일반회계) | P3: (특별회계)
A4: 구 분 | B4: 집행부제출(안) | C4: 세입예산(안) | E4: 세출예산(안) | G4: 수정예산(안) | I4: 집행부제출(안) | J4: 세입예산(안) | L4: 세출예산(안) | N4: 수정예산(안) | P4: 집행부제출(안) | Q4: 세입예산(안) | S4: 세출예산(안) | U4: 수정예산(안)
C5: 감 액 | D5: 증 액 | E5: 감 액 | F5: 증 액 | J5: 감 액 | K5: 증 액 | L5: 감 액 | M5: 증 액 | Q5: 감 액 | R5: 증 액 | S5: 감 액 | T5: 증 액
A6: 합계 | B6: =SUM(B7:B36) -> 738556856 | C6: =SUM(C7:C36) -> 0 | D6: =SUM(D7:D36) -> 0 | E6: =SUM(E7:E36) -> 0 | F6: =SUM(F7:F36) -> 0 | G6: =SUM(G7:G36) -> 738556856 | I6: =SUM(I7:I36) -> 738556856 | J6: =SUM(J7:J36) -> 0 | K6: =SUM(K7:K36) -> 0 | L6: =SUM(L7:L36) -> 0 | M6: =SUM(M7:M36) -> 0 | N6: =SUM(N7:N36) -> 738556856 | P6: =SUM(P7:P36) -> 0 | Q6: =SUM(Q7:Q36) -> 0 | R6: =SUM(R7:R36) -> 0 | S6: =SUM(S7:S36) -> 0 | T6: =SUM(T7:T36) -> 0 | U6: =SUM(U7:U36) -> 0
A7: 감사관 | B7: =I7+P7 -> 0 | C7: =J7+Q7 -> 0 | D7: =K7+R7 -> 0 | E7: =L7+S7 -> 0 | F7: =M7+T7 -> 0 | G7: =B7+E7+F7 -> 0 | I7: =D48 -> 0 | J7: =SUMIFS('1추일입'!M$6:M$100,'1추일입'!$B$6:$B$100,'1추총괄표(실국)'!$A7) -> 0 | K7: =SUMIFS('1추일입'!N$6:N$100,'1추일입'!$B$6:$B$100,'1추총괄표(실국)'!$A7) -> 0 | L7: =SUMIFS('1추일출'!M$6:M$14,'1추일출'!$B$6:$B$14,'1추총괄표(실국)'!$A7) -> 0 | M7: =SUMIFS('1추일출'!N$6:N$14,'1추일출'!$B$6:$B$14,'1추총괄표(실국)'!$A7) -> 0 | N7: =I7+L7+M7 -> 0 | P7: =E48 -> 0 | Q7: =SUMIFS('1추특입'!M$6:M$50,'1추특입'!$B$6:$B$50,'1추총괄표(실국)'!$A7) -> 0 | R7: =SUMIFS('1추특입'!N$6:N$50,'1추특입'!$B$6:$B$50,'1추총괄표(실국)'!$A7) -> 0 | S7: =SUMIFS('1추특출'!M$6:M$40,'1추특출'!$B$6:$B$40,'1추총괄표(실국)'!$A7) -> 0 | T7: =SUMIFS('1추특출'!N$6:N$40,'1추특출'!$B$6:$B$40,'1추총괄표(실국)'!$A7) -> 0 | U7: =P7+S7+T7 -> 0
A8: 기획조정실 | B8: =I8+P8 -> 185572667 | C8: =J8+Q8 -> 0 | D8: =K8+R8 -> 0 | E8: =L8+S8 -> 0 | F8: =M8+T8 -> 0 | G8: =B8+E8+F8 -> 185572667 | I8: =D49 -> 185572667 | J8: =SUMIFS('1추일입'!M$6:M$100,'1추일입'!$B$6:$B$100,'1추총괄표(실국)'!$A8) -> 0 | K8: =SUMIFS('1추일입'!N$6:N$100,'1추일입'!$B$6:$B$100,'1추총괄표(실국)'!$A8) -> 0 | L8: =SUMIFS('1추일출'!M$6:M$14,'1추일출'!$B$6:$B$14,'1추총괄표(실국)'!$A8) -> 0 | M8: =SUMIFS('1추일출'!N$6:N$14,'1추일출'!$B$6:$B$14,'1추총괄표(실국)'!$A8) -> 0 | N8: =I8+L8+M8 -> 185572667 | P8: =E49 -> 0 | Q8: =SUMIFS('1추특입'!M$6:M$50,'1추특입'!$B$6:$B$50,'1추총괄표(실국)'!$A8) -> 0 | R8: =SUMIFS('1추특입'!N$6:N$50,'1추특입'!$B$6:$B$50,'1추총괄표(실국)'!$A8) -> 0 | S8: =SUMIFS('1추특출'!M$6:M$40,'1추특출'!$B$6:$B$40,'1추총괄표(실국)'!$A8) -> 0 | T8: =SUMIFS('1추특출'!N$6:N$40,'1추특출'!$B$6:$B$40,'1추총괄표(실국)'!$A8) -> 0 | U8: =P8+S8+T8 -> 0
A9: 도시주택실 | B9: =I9+P9 -> 8532790 | C9: =J9+Q9 -> 0 | D9: =K9+R9 -> 0 | E9: =L9+S9 -> 0 | F9: =M9+T9 -> 0 | G9: =B9+E9+F9 -> 8532790 | I9: =D50 -> 8532790 | J9: =SUMIFS('1추일입'!M$6:M$100,'1추일입'!$B$6:$B$100,'1추총괄표(실국)'!$A9) -> 0 | K9: =SUMIFS('1추일입'!N$6:N$100,'1추일입'!$B$6:$B$100,'1추총괄표(실국)'!$A9) -> 0 | L9: =SUMIFS('1추일출'!M$6:M$14,'1추일출'!$B$6:$B$14,'1추총괄표(실국)'!$A9) -> 0 | M9: =SUMIFS('1추일출'!N$6:N$14,'1추일출'!$B$6:$B$14,'1추총괄표(실국)'!$A9) -> 0 | N9: =I9+L9+M9 -> 8532790 | P9: =E50 -> 0 | Q9: =SUMIFS('1추특입'!M$6:M$50,'1추특입'!$B$6:$B$50,'1추총괄표(실국)'!$A9) -> 0 | R9: =SUMIFS('1추특입'!N$6:N$50,'1추특입'!$B$6:$B$50,'1추총괄표(실국)'!$A9) -> 0 | S9: =SUMIFS('1추특출'!M$6:M$40,'1추특출'!$B$6:$B$40,'1추총괄표(실국)'!$A9) -> 0 | T9: =SUMIFS('1추특출'!N$6:N$40,'1추특출'!$B$6:$B$40,'1추총괄표(실국)'!$A9) -> 0 | U9: =P9+S9+T9 -> 0
A10: 자치행정국 | B10: =I10+P10 -> 9603506 | C10: =J10+Q10 -> 0 | D10: =K10+R10 -> 0 | E10: =L10+S10 -> 0 | F10: =M10+T10 -> 0 | G10: =B10+E10+F10 -> 9603506 | I10: =D51 -> 9603506 | J10: =SUMIFS('1추일입'!M$6:M$100,'1추일입'!$B$6:$B$100,'1추총괄표(실국)'!$A10) -> 0 | K10: =SUMIFS('1추일입'!N$6:N$100,'1추일입'!$B$6:$B$100,'1추총괄표(실국)'!$A10) -> 0 | L10: =SUMIFS('1추일출'!M$6:M$14,'1추일출'!$B$6:$B$14,'1추총괄표(실국)'!$A10) -> 0 | M10: =SUMIFS('1추일출'!N$6:N$14,'1추일출'!$B$6:$B$14,'1추총괄표(실국)'!$A10) -> 0 | N10: =I10+L10+M10 -> 9603506 | P10: =E51 -> 0 | Q10: =SUMIFS('1추특입'!M$6:M$50,'1추특입'!$B$6:$B$50,'1추총괄표(실국)'!$A10) -> 0 | R10: =SUMIFS('1추특입'!N$6:N$50,'1추특입'!$B$6:$B$50,'1추총괄표(실국)'!$A10) -> 0 | S10: =SUMIFS('1추특출'!M$6:M$40,'1추특출'!$B$6:$B$40,'1추총괄표(실국)'!$A10) -> 0 | T10: =SUMIFS('1추특출'!N$6:N$40,'1추특출'!$B$6:$B$40,'1추총괄표(실국)'!$A10) -> 0 | U10: =P10+S10+T10 -> 0
A11: 교육협력국 | B11: =I11+P11 -> 123758756 | C11: =J11+Q11 -> 0 | D11: =K11+R11 -> 0 | E11: =L11+S11 -> 0 | F11: =M11+T11 -> 0 | G11: =B11+E11+F11 -> 123758756 | I11: =D52 -> 123758756 | J11: =SUMIFS('1추일입'!M$6:M$100,'1추일입'!$B$6:$B$100,'1추총괄표(실국)'!$A11) -> 0 | K11: =SUMIFS('1추일입'!N$6:N$100,'1추일입'!$B$6:$B$100,'1추총괄표(실국)'!$A11) -> 0 | L11: =SUMIFS('1추일출'!M$6:M$14,'1추일출'!$B$6:$B$14,'1추총괄표(실국)'!$A11) -> 0 | M11: =SUMIFS('1추일출'!N$6:N$14,'1추일출'!$B$6:$B$14,'1추총괄표(실국)'!$A11) -> 0 | N11: =I11+L11+M11 -> 123758756 | P11: =E52 -> 0 | Q11: =SUMIFS('1추특입'!M$6:M$50,'1추특입'!$B$6:$B$50,'1추총괄표(실국)'!$A11) -> 0 | R11: =SUMIFS('1추특입'!N$6:N$50,'1추특입'!$B$6:$B$50,'1추총괄표(실국)'!$A11) -> 0 | S11: =SUMIFS('1추특출'!M$6:M$40,'1추특출'!$B$6:$B$40,'1추총괄표(실국)'!$A11) -> 0 | T11: =SUMIFS('1추특출'!N$6:N$40,'1추특출'!$B$6:$B$40,'1추총괄표(실국)'!$A11) -> 0 | U11: =P11+S11+T11 -> 0
A12: 문화체육관광국 | B12: =I12+P12 -> 21603000 | C12: =J12+Q12 -> 0 | D12: =K12+R12 -> 0 | E12: =L12+S12 -> 0 | F12: =M12+T12 -> 0 | G12: =B12+E12+F12 -> 21603000 | I12: =D53 -> 21603000 | J12: =SUMIFS('1추일입'!M$6:M$100,'1추일입'!$B$6:$B$100,'1추총괄표(실국)'!$A12) -> 0 | K12: =SUMIFS('1추일입'!N$6:N$100,'1추일입'!$B$6:$B$100,'1추총괄표(실국)'!$A12) -> 0 | L12: =SUMIFS('1추일출'!M$6:M$14,'1추일출'!$B$6:$B$14,'1추총괄표(실국)'!$A12) -> 0 | M12: =SUMIFS('1추일출'!N$6:N$14,'1추일출'!$B$6:$B$14,'1추총괄표(실국)'!$A12) -> 0 | N12: =I12+L12+M12 -> 21603000 | P12: =E53 -> 0 | Q12: =SUMIFS('1추특입'!M$6:M$50,'1추특입'!$B$6:$B$50,'1추총괄표(실국)'!$A12) -> 0 | R12: =SUMIFS('1추특입'!N$6:N$50,'1추특입'!$B$6:$B$50,'1추총괄표(실국)'!$A12) -> 0 | S12: =SUMIFS('1추특출'!M$6:M$40,'1추특출'!$B$6:$B$40,'1추총괄표(실국)'!$A12) -> 0 | T12: =SUMIFS('1추특출'!N$6:N$40,'1추특출'!$B$6:$B$40,'1추총괄표(실국)'!$A12) -> 0 | U12: =P12+S12+T12 -> 0
A13: 농정해양국 | B13: =I13+P13 -> 11470364 | C13: =J13+Q13 -> 0 | D13: =K13+R13 -> 0 | E13: =L13+S13 -> 0 | F13: =M13+T13 -> 0 | G13: =B13+E13+F13 -> 11470364 | I13: =D54 -> 11470364 | J13: =SUMIFS('1추일입'!M$6:M$100,'1추일입'!$B$6:$B$100,'1추총괄표(실국)'!$A13) -> 0 | K13: =SUMIFS('1추일입'!N$6:N$100,'1추일입'!$B$6:$B$100,'1추총괄표(실국)'!$A13) -> 0 | L13: =SUMIFS('1추일출'!M$6:M$14,'1추일출'!$B$6:$B$14,'1추총괄표(실국)'!$A13) -> 0 | M13: =SUMIFS('1추일출'!N$6:N$14,'1추일출'!$B$6:$B$14,'1추총괄표(실국)'!$A13) -> 0 | N13: =I13+L13+M13 -> 11470364 | P13: =E54 -> 0 | Q13: =SUMIFS('1추특입'!M$6:M$50,'1추특입'!$B$6:$B$50,'1추총괄표(실국)'!$A13) -> 0 | R13: =SUMIFS('1추특입'!N$6:N$50,'1추특입'!$B$6:$B$50,'1추총괄표(실국)'!$A13) -> 0 | S13: =SUMIFS('1추특출'!M$6:M$40,'1추특출'!$B$6:$B$40,'1추총괄표(실국)'!$A13) -> 0 | T13: =SUMIFS('1추특출'!N$6:N$40,'1추특출'!$B$6:$B$40,'1추총괄표(실국)'!$A13) -> 0 | U13: =P13+S13+T13 -> 0
A14: 철도국 | B14: =I14+P14 -> 0 | C14: =J14+Q14 -> 0 | D14: =K14+R14 -> 0 | E14: =L14+S14 -> 0 | F14: =M14+T14 -> 0 | G14: =B14+E14+F14 -> 0 | I14: =D55 -> 0 | J14: =SUMIFS('1추일입'!M$6:M$100,'1추일입'!$B$6:$B$100,'1추총괄표(실국)'!$A14) -> 0 | K14: =SUMIFS('1추일입'!N$6:N$100,'1추일입'!$B$6:$B$100,'1추총괄표(실국)'!$A14) -> 0 | L14: =SUMIFS('1추일출'!M$6:M$14,'1추일출'!$B$6:$B$14,'1추총괄표(실국)'!$A14) -> 0 | M14: =SUMIFS('1추일출'!N$6:N$14,'1추일출'!$B$6:$B$14,'1추총괄표(실국)'!$A14) -> 0 | N14: =I14+L14+M14 -> 0 | P14: =E55 -> 0 | Q14: =SUMIFS('1추특입'!M$6:M$50,'1추특입'!$B$6:$B$50,'1추총괄표(실국)'!$A14) -> 0 | R14: =SUMIFS('1추특입'!N$6:N$50,'1추특입'!$B$6:$B$50,'1추총괄표(실국)'!$A14) -> 0 | S14: =SUMIFS('1추특출'!M$6:M$40,'1추특출'!$B$6:$B$40,'1추총괄표(실국)'!$A14) -> 0 | T14: =SUMIFS('1추특출'!N$6:N$40,'1추특출'!$B$6:$B$40,'1추총괄표(실국)'!$A14) -> 0 | U14: =P14+S14+T14 -> 0
A15: 연정협력관 | B15: =I15+P15 -> 0 | C15: =J15+Q15 -> 0 | D15: =K15+R15 -> 0 | E15: =L15+S15 -> 0 | F15: =M15+T15 -> 0 | G15: =B15+E15+F15 -> 0 | I15: =D56 -> 0 | J15: =SUMIFS('1추일입'!M$6:M$100,'1추일입'!$B$6:$B$100,'1추총괄표(실국)'!$A15) -> 0 | K15: =SUMIFS('1추일입'!N$6:N$100,'1추일입'!$B$6:$B$100,'1추총괄표(실국)'!$A15) -> 0 | L15: =SUMIFS('1추일출'!M$6:M$14,'1추일출'!$B$6:$B$14,'1추총괄표(실국)'!$A15) -> 0 | M15: =SUMIFS('1추일출'!N$6:N$14,'1추일출'!$B$6:$B$14,'1추총괄표(실국)'!$A15) -> 0 | N15: =I15+L15+M15 -> 0 | P15: =E56 -> 0 | Q15: =SUMIFS('1추특입'!M$6:M$50,'1추특입'!$B$6:$B$50,'1추총괄표(실국)'!$A15) -> 0 | R15: =SUMIFS('1추특입'!N$6:N$50,'1추특입'!$B$6:$B$50,'1추총괄표(실국)'!$A15) -> 0 | S15: =SUMIFS('1추특출'!M$6:M$40,'1추특출'!$B$6:$B$40,'1추총괄표(실국)'!$A15) -> 0 | T15: =SUMIFS('1추특출'!N$6:N$40,'1추특출'!$B$6:$B$40,'1추총괄표(실국)'!$A15) -> 0 | U15: =P15+S15+T15 -> 0
A16: 대외협력담당관 | B16: =I16+P16 -> 0 | C16: =J16+Q16 -> 0 | D16: =K16+R16 -> 0 | E16: =L16+S16 -> 0 | F16: =M16+T16 -> 0 | G16: =B16+E16+F16 -> 0 | I16: =D57 -> 0 | J16: =SUMIFS('1추일입'!M$6:M$100,'1추일입'!$B$6:$B$100,'1추총괄표(실국)'!$A16) -> 0 | K16: =SUMIFS('1추일입'!N$6:N$100,'1추일입'!$B$6:$B$100,'1추총괄표(실국)'!$A16) -> 0 | L16: =SUMIFS('1추일출'!M$6:M$14,'1추일출'!$B$6:$B$14,'1추총괄표(실국)'!$A16) -> 0 | M16: =SUMIFS('1추일출'!N$6:N$14,'1추일출'!$B$6:$B$14,'1추총괄표(실국)'!$A16) -> 0 | N16: =I16+L16+M16 -> 0 | P16: =E57 -> 0 | Q16: =SUMIFS('1추특입'!M$6:M$50,'1추특입'!$B$6:$B$50,'1추총괄표(실국)'!$A16) -> 0 | R16: =SUMIFS('1추특입'!N$6:N$50,'1추특입'!$B$6:$B$50,'1추총괄표(실국)'!$A16) -> 0 | S16: =SUMIFS('1추특출'!M$6:M$40,'1추특출'!$B$6:$B$40,'1추총괄표(실국)'!$A16) -> 0 | T16: =SUMIFS('1추특출'!N$6:N$40,'1추특출'!$B$6:$B$40,'1추총괄표(실국)'!$A16) -> 0 | U16: =P16+S16+T16 -> 0
A17: 보건복지국 | B17: =I17+P17 -> 23662291 | C17: =J17+Q17 -> 0 | D17: =K17+R17 -> 0 | E17: =L17+S17 -> 0 | F17: =M17+T17 -> 0 | G17: =B17+E17+F17 -> 23662291 | I17: =D58 -> 23662291 | J17: =SUMIFS('1추일입'!M$6:M$100,'1추일입'!$B$6:$B$100,'1추총괄표(실국)'!$A17) -> 0 | K17: =SUMIFS('1추일입'!N$6:N$100,'1추일입'!$B$6:$B$100,'1추총괄표(실국)'!$A17) -> 0 | L17: =SUMIFS('1추일출'!M$6:M$14,'1추일출'!$B$6:$B$14,'1추총괄표(실국)'!$A17) -> 0 | M17: =SUMIFS('1추일출'!N$6:N$14,'1추일출'!$B$6:$B$14,'1추총괄표(실국)'!$A17) -> 0 | N17: =I17+L17+M17 -> 23662291 | P17: =E58 -> 0 | Q17: =SUMIFS('1추특입'!M$6:M$50,'1추특입'!$B$6:$B$50,'1추총괄표(실국)'!$A17) -> 0 | R17: =SUMIFS('1추특입'!N$6:N$50,'1추특입'!$B$6:$B$50,'1추총괄표(실국)'!$A17) -> 0 | S17: =SUMIFS('1추특출'!M$6:M$40,'1추특출'!$B$6:$B$40,'1추총괄표(실국)'!$A17) -> 0 | T17: =SUMIFS('1추특출'!N$6:N$40,'1추특출'!$B$6:$B$40,'1추총괄표(실국)'!$A17) -> 0 | U17: =P17+S17+T17 -> 0
A18: 환경국 | B18: =I18+P18 -> 87000 | C18: =J18+Q18 -> 0 | D18: =K18+R18 -> 0 | E18: =L18+S18 -> 0 | F18: =M18+T18 -> 0 | G18: =B18+E18+F18 -> 87000 | I18: =D59 -> 87000 | J18: =SUMIFS('1추일입'!M$6:M$100,'1추일입'!$B$6:$B$100,'1추총괄표(실국)'!$A18) -> 0 | K18: =SUMIFS('1추일입'!N$6:N$100,'1추일입'!$B$6:$B$100,'1추총괄표(실국)'!$A18) -> 0 | L18: =SUMIFS('1추일출'!M$6:M$14,'1추일출'!$B$6:$B$14,'1추총괄표(실국)'!$A18) -> 0 | M18: =SUMIFS('1추일출'!N$6:N$14,'1추일출'!$B$6:$B$14,'1추총괄표(실국)'!$A18) -> 0 | N18: =I18+L18+M18 -> 87000 | P18: =E59 -> 0 | Q18: =SUMIFS('1추특입'!M$6:M$50,'1추특입'!$B$6:$B$50,'1추총괄표(실국)'!$A18) -> 0 | R18: =SUMIFS('1추특입'!N$6:N$50,'1추특입'!$B$6:$B$50,'1추총괄표(실국)'!$A18) -> 0 | S18: =SUMIFS('1추특출'!M$6:M$40,'1추특출'!$B$6:$B$40,'1추총괄표(실국)'!$A18) -> 0 | T18: =SUMIFS('1추특출'!N$6:N$40,'1추특출'!$B$6:$B$40,'1추총괄표(실국)'!$A18) -> 0 | U18: =P18+S18+T18 -> 0
... A36: 건설본부 | B36: =I36+P36 -> 0 | C36: =J36+Q36 -> 0 | D36: =K36+R36 -> 0 | E36: =L36+S36 -> 0 | F36: =M36+T36 -> 0 | G36: =B36+E36+F36 -> 0 | I36: =D77 -> 0 | J36: =SUMIFS('1추일입'!M$6:M$100,'1추일입'!$B$6:$B$100,'1추총괄표(실국)'!$A36) -> 0 | K36: =SUMIFS('1추일입'!N$6:N$100,'1추일입'!$B$6:$B$100,'1추총괄표(실국)'!$A36) -> 0 | L36: =SUMIFS('1추일출'!M$6:M$14,'1추일출'!$B$6:$B$14,'1추총괄표(실국)'!$A36) -> 0 | M36: =SUMIFS('1추일출'!N$6:N$14,'1추일출'!$B$6:$B$14,'1추총괄표(실국)'!$A36) -> 0 | N36: =I36+L36+M36 -> 0 | P36: =E77 -> 0 | Q36: =SUMIFS('1추특입'!M$6:M$50,'1추특입'!$B$6:$B$50,'1추총괄표(실국)'!$A36) -> 0 | R36: =SUMIFS('1추특입'!N$6:N$50,'1추특입'!$B$6:$B$50,'1추총괄표(실국)'!$A36) -> 0 | S36: =SUMIFS('1추특출'!M$6:M$40,'1추특출'!$B$6:$B$40,'1추총괄표(실국)'!$A36) -> 0 | T36: =SUMIFS('1추특출'!N$6:N$40,'1추특출'!$B$6:$B$40,'1추총괄표(실국)'!$A36) -> 0 | U36: =P36+S36+T36 -> 0
A39: ※ 예산안 증감현황
A40: 구 분 | B40: 세입 | C40: 세출 | D40: 예비비 | E40: 비고(???)
A41: 합 계 | B41: =SUM(B42:B43) -> 0 | C41: =SUM(C42:C43) -> 0 | D41: =B41-C41 -> 0
A42: 일반회계 | B42: =SUM(J6:K6) -> 0 | C42: =SUM(L6:M6) -> 0 | D42: =B42-C42 -> 0 | E42: 예비비 증감 - 감액, + 증액에 입력
A43: 특별회계 | B43: =SUM(Q6:R6) -> 0 | C43: =SUM(S6:T6) -> 0 | D43: =B43-C43 -> 0
A45: ※ 집행부제출안
A46: 구분 | B46: 합계 | C46: 일반+기타 | D46: 일반회계 | E46: 기타특별회계 | F46: 공기업특별회계
A47: 합계 | B47: =SUM(B48:B77) -> 738556856 | C47: =SUM(C48:C77) -> 738556856 | D47: =SUM(D48:D77) -> 738556856 | E47: =SUM(E48:E77) -> 0 | F47: =SUM(F48:F77) -> 0 | G47: =IF(D47='1추총괄표'!D30,"OK","@@") -> OK
A48: 감사관 | B48: =SUM(D48:F48) -> 0 | C48: =D48+E48 -> 0 | D48: 0
A49: 기획조정실 | B49: =SUM(D49:F49) -> 185572667 | C49: =D49+E49 -> 185572667 | D49: 185572667
A50: 도시주택실 | B50: =SUM(D50:F50) -> 8532790 | C50: =D50+E50 -> 8532790 | D50: 8532790
A51: 자치행정국 | B51: =SUM(D51:F51) -> 9603506 | C51: =D51+E51 -> 9603506 | D51: 9603506
A52: 교육협력국 | B52: =SUM(D52:F52) -> 123758756 | C52: =D52+E52 -> 123758756 | D52: 123758756
A53: 문화체육관광국 | B53: =SUM(D53:F53) -> 21603000 | C53: =D53+E53 -> 21603000 | D53: 21603000
A54: 농정해양국 | B54: =SUM(D54:F54) -> 11470364 | C54: =D54+E54 -> 11470364 | D54: 11470364
A55: 철도국 | B55: =SUM(D55:F55) -> 0 | C55: =D55+E55 -> 0 | D55: 0
A56: 연정협력관 | B56: =SUM(D56:F56) -> 0 | C56: =D56+E56 -> 0 | D56: 0
A57: 대외협력담당관 | B57: =SUM(D57:F57) -> 0 | C57: =D57+E57 -> 0 | D57: 0
A58: 보건복지국 | B58: =SUM(D58:F58) -> 23662291 | C58: =D58+E58 -> 23662291 | D58: 23662291
A59: 환경국 | B59: =SUM(D59:F59) -> 87000 | C59: =D59+E59 -> 87000 | D59: 87000
... A77: 건설본부 | B77: =SUM(D77:F77) -> 0 | C77: =D77+E77 -> 0 | D77: 0

Sheet 1추총괄표(위원회)
B1: 2015년도 제1회 추경 일반회계 세입·세출 총괄표
P3: (단위 : 천원) | AD3: (단위 : 천원)
B4: 위원회 및 실국명 | D4: 세입 | R4: 세입 | AF4: 국비 검증
D5: 제1회 추경 예산안 (가) | E5: 기정액 (나) | F5: 제1회 추경 증감액 (다=가-나) | G5: 상임위 조정액(라) | I5: 상임위 수정 예산안 (마=가or나+라) | J5: 상임위 재원별 증감액 | L5: 예결위 조정액(라) | N5: 예결위 수정 예산안 (마=가or나+라) | O5: 예결위 재원별 증감액 | R5: 제1회 추경 예산안 (가) | S5: 기정액 (나) | T5: 제1회 추경 증감액 (다=가-나) | U5: 상임위 조정액(라) | W5: 상임위 수정 예산안 (마=가or나+라) | X5: 상임위 재원별 증감액 | Z5: 예결위 조정액(라) | AB5: 예결위 수정 예산안 (마=가or나+라) | AC5: 예결위 재원별 증감액 | AF5: 상임위 | AH5: 예결위
G6: 감액 | H6: 증액 | J6: 국비 등 | K6: 도비 | L6: 감액 | M6: 증액 | O6: 국비 등 | P6: 도비 | U6: 감액 | V6: 증액 | X6: 국비 등 | Y6: 도비 | Z6: 감액 | AA6: 증액 | AC6: 국비 등 | AD6: 도비 | AF6: 검증 | AG6: 차액 | AH6: 검증 | AI6: 차액
B7: 합 계 | D7: =SUM(D8:D52)/2 -> 0 | E7: =SUM(E8:E52)/2 -> 0 | F7: =SUM(F8:F52)/2 -> 0 | G7: =SUM(G8:G52)/2 -> 0 | H7: =SUM(H8:H52)/2 -> 0 | I7: =SUM(I8:I52)/2 -> 0 | J7: =SUM(J8:J52)/2 -> 0 | K7: =SUM(K8:K52)/2 -> 0 | ... P7: =SUM(P8:P52)/2 -> 0 | R7: =SUM(R8:R52)/2 -> 8960000 | S7: =SUM(S8:S52)/2 -> 0 | T7: =SUM(T8:T52)/2 -> 8960000 | U7: =SUM(U8:U52)/2 -> 0 | V7: =SUM(V8:V52)/2 -> 5901000 | W7: =SUM(W8:W52)/2 -> 14861000 | X7: =SUM(X8:X52)/2 -> 5901000 | Y7: =SUM(Y8:Y52)/2 -> 0 | ... AD7: =SUM(AD8:AD52)/2 -> 0 | AF7: =IF(J7=X7,"OK","@@") -> @@ | AG7: =J7-X7 -> -5901000 | AH7: =IF(O7=AC7,"OK","@@") -> OK | AI7: =O7-AC7 -> 0
B8: 의회운영위원회 | D8: =SUM(D9:D13) -> 0 | E8: =SUM(E9:E13) -> 0 | F8: =SUM(F9:F13) -> 0 | G8: =SUM(G9:G13) -> 0 | H8: =SUM(H9:H13) -> 0 | I8: =SUM(I9:I13) -> 0 | J8: =SUM(J9:J13) -> 0 | K8: =SUM(K9:K13) -> 0 | ... P8: =SUM(P9:P13) -> 0 | R8: =SUM(R9:R13) -> 0 | S8: =SUM(S9:S13) -> 0 | T8: =SUM(T9:T13) -> 0 | U8: =SUM(U9:U13) -> 0 | V8: =SUM(V9:V13) -> 0 | W8: =SUM(W9:W13) -> 0 | X8: =SUM(X9:X13) -> 0 | Y8: =SUM(Y9:Y13) -> 0 | ... AD8: =SUM(AD9:AD13) -> 0 | AF8: =IF(J8=X8,"OK","@@") -> OK | AG8: =J8-X8 -> 0 | AH8: =IF(O8=AC8,"OK","@@") -> OK | AI8: =O8-AC8 -> 0
A9: 의회운영위원회 | C9: 의회사무처 | D9: =SUMIFS('1추일입'!G$6:G$100,'1추일입'!$A$6:$A$100,'1추총괄표(위원회)'!$A9,'1추일입'!$B$6:$B$100,'1추총괄표(위원회)'!$C9) -> 0 | E9: =SUMIFS('1추일입'!H$6:H$100,'1추일입'!$A$6:$A$100,'1추총괄표(위원회)'!$A9,'1추일입'!$B$6:$B$100,'1추총괄표(위원회)'!$C9) -> 0 | F9: =D9-E9 -> 0 | G9: =SUMIFS('1추일입'!J$6:J$100,'1추일입'!$A$6:$A$100,'1추총괄표(위원회)'!$A9,'1추일입'!$B$6:$B$100,'1추총괄표(위원회)'!$C9) -> 0 | H9: =SUMIFS('1추일입'!K$6:K$100,'1추일입'!$A$6:$A$100,'1추총괄표(위원회)'!$A9,'1추일입'!$B$6:$B$100,'1추총괄표(위원회)'!$C9) -> 0 | I9: =SUMIFS('1추일입'!L$6:L$100,'1추일입'!$A$6:$A$100,'1추총괄표(위원회)'!$A9,'1추일입'!$B$6:$B$100,'1추총괄표(위원회)'!$C9) -> 0 | J9: =SUMIFS('1추일입'!V$6:V$100,'1추일입'!$A$6:$A$100,'1추총괄표(위원회)'!$A9,'1추일입'!$B$6:$B$100,'1추총괄표(위원회)'!$C9) -> 0 | K9: =SUMIFS('1추일입'!W$6:W$100,'1추일입'!$A$6:$A$100,'1추총괄표(위원회)'!$A9,'1추일입'!$B$6:$B$100,'1추총괄표(위원회)'!$C9) -> 0 | L9: =SUMIFS('1추일입'!M$6:M$100,'1추일입'!$A$6:$A$100,'1추총괄표(위원회)'!$A9,'1추일입'!$B$6:$B$100,'1추총괄표(위원회)'!$C9) -> 0 | M9: =SUMIFS('1추일입'!N$6:N$100,'1추일입'!$A$6:$A$100,'1추총괄표(위원회)'!$A9,'1추일입'!$B$6:$B$100,'1추총괄표(위원회)'!$C9) -> 0 | N9: =SUMIFS('1추일입'!O$6:O$100,'1추일입'!$A$6:$A$100,'1추총괄표(위원회)'!$A9,'1추일입'!$B$6:$B$100,'1추총괄표(위원회)'!$C9) -> 0 | O9: =SUMIFS('1추일입'!AA$6:AA$100,'1추일입'!$A$6:$A$100,'1추총괄표(위원회)'!$A9,'1추일입'!$B$6:$B$100,'1추총괄표(위원회)'!$C9) -> 0 | P9: =SUMIFS('1추일입'!AB$6:AB$100,'1추일입'!$A$6:$A$100,'1추총괄표(위원회)'!$A9,'1추일입'!$B$6:$B$100,'1추총괄표(위원회)'!$C9) -> 0 | R9: =SUMIFS('1추일출'!G$6:G$14,'1추일출'!$A$6:$A$14,'1추총괄표(위원회)'!$A9,'1추일출'!$B$6:$B$14,'1추총괄표(위원회)'!$C9) -> 0 | S9: =SUMIFS('1추일출'!H$6:H$14,'1추일출'!$A$6:$A$14,'1추총괄표(위원회)'!$A9,'1추일출'!$B$6:$B$14,'1추총괄표(위원회)'!$C9) -> 0 | T9: =R9-S9 -> 0 | U9: =SUMIFS('1추일출'!J$6:J$14,'1추일출'!$A$6:$A$14,'1추총괄표(위원회)'!$A9,'1추일출'!$B$6:$B$14,'1추총괄표(위원회)'!$C9) -> 0 | V9: =SUMIFS('1추일출'!K$6:K$14,'1추일출'!$A$6:$A$14,'1추총괄표(위원회)'!$A9,'1추일출'!$B$6:$B$14,'1추총괄표(위원회)'!$C9) -> 0 | W9: =SUMIFS('1추일출'!L$6:L$14,'1추일출'!$A$6:$A$14,'1추총괄표(위원회)'!$A9,'1추일출'!$B$6:$B$14,'1추총괄표(위원회)'!$C9) -> 0 | X9: =SUMIFS('1추일출'!V$6:V$14,'1추일출'!$A$6:$A$14,'1추총괄표(위원회)'!$A9,'1추일출'!$B$6:$B$14,'1추총괄표(위원회)'!$C9) -> 0 | Y9: =SUMIFS('1추일출'!W$6:W$14,'1추일출'!$A$6:$A$14,'1추총괄표(위원회)'!$A9,'1추일출'!$B$6:$B$14,'1추총괄표(위원회)'!$C9) -> 0 | Z9: =SUMIFS('1추일출'!M$6:M$14,'1추일출'!$A$6:$A$14,'1추총괄표(위원회)'!$A9,'1추일출'!$B$6:$B$14,'1추총괄표(위원회)'!$C9) -> 0 | AA9: =SUMIFS('1추일출'!N$6:N$14,'1추일출'!$A$6:$A$14,'1추총괄표(위원회)'!$A9,'1추일출'!$B$6:$B$14,'1추총괄표(위원회)'!$C9) -> 0 | AB9: =SUMIFS('1추일출'!O$6:O$14,'1추일출'!$A$6:$A$14,'1추총괄표(위원회)'!$A9,'1추일출'!$B$6:$B$14,'1추총괄표(위원회)'!$C9) -> 0 | AC9: =SUMIFS('1추일출'!AA$6:AA$14,'1추일출'!$A$6:$A$14,'1추총괄표(위원회)'!$A9,'1추일출'!$B$6:$B$14,'1추총괄표(위원회)'!C$9) -> 0 | AD9: =SUMIFS('1추일출'!AB$6:AB$14,'1추일출'!$A$6:$A$14,'1추총괄표(위원회)'!$A9,'1추일출'!$B$6:$B$14,'1추총괄표(위원회)'!D$9) -> 0 | AF9: =IF(J9=X9,"OK","@@") -> OK | AG9: =J9-X9 -> 0 | AH9: =IF(O9=AC9,"OK","@@") -> OK | AI9: =O9-AC9 -> 0
A10: 의회운영위원회 | C10: 소통기획관 | D10: =SUMIFS('1추일입'!G$6:G$100,'1추일입'!$A$6:$A$100,'1추총괄표(위원회)'!$A10,'1추일입'!$B$6:$B$100,'1추총괄표(위원회)'!$C10) -> 0 | E10: =SUMIFS('1추일입'!H$6:H$100,'1추일입'!$A$6:$A$100,'1추총괄표(위원회)'!$A10,'1추일입'!$B$6:$B$100,'1추총괄표(위원회)'!$C10) -> 0 | F10: =D10-E10 -> 0 | G10: =SUMIFS('1추일입'!J$6:J$100,'1추일입'!$A$6:$A$100,'1추총괄표(위원회)'!$A10,'1추일입'!$B$6:$B$100,'1추총괄표(위원회)'!$C10) -> 0 | H10: =SUMIFS('1추일입'!K$6:K$100,'1추일입'!$A$6:$A$100,'1추총괄표(위원회)'!$A10,'1추일입'!$B$6:$B$100,'1추총괄표(위원회)'!$C10) -> 0 | I10: =SUMIFS('1추일입'!L$6:L$100,'1추일입'!$A$6:$A$100,'1추총괄표(위원회)'!$A10,'1추일입'!$B$6:$B$100,'1추총괄표(위원회)'!$C10) -> 0 | J10: =SUMIFS('1추일입'!V$6:V$100,'1추일입'!$A$6:$A$100,'1추총괄표(위원회)'!$A10,'1추일입'!$B$6:$B$100,'1추총괄표(위원회)'!$C10) -> 0 | K10: =SUMIFS('1추일입'!W$6:W$100,'1추일입'!$A$6:$A$100,'1추총괄표(위원회)'!$A10,'1추일입'!$B$6:$B$100,'1추총괄표(위원회)'!$C10) -> 0 | L10: =SUMIFS('1추일입'!M$6:M$100,'1추일입'!$A$6:$A$100,'1추총괄표(위원회)'!$A10,'1추일입'!$B$6:$B$100,'1추총괄표(위원회)'!$C10) -> 0 | M10: =SUMIFS('1추일입'!N$6:N$100,'1추일입'!$A$6:$A$100,'1추총괄표(위원회)'!$A10,'1추일입'!$B$6:$B$100,'1추총괄표(위원회)'!$C10) -> 0 | N10: =SUMIFS('1추일입'!O$6:O$100,'1추일입'!$A$6:$A$100,'1추총괄표(위원회)'!$A10,'1추일입'!$B$6:$B$100,'1추총괄표(위원회)'!$C10) -> 0 | O10: =SUMIFS('1추일입'!AA$6:AA$100,'1추일입'!$A$6:$A$100,'1추총괄표(위원회)'!$A10,'1추일입'!$B$6:$B$100,'1추총괄표(위원회)'!$C10) -> 0 | P10: =SUMIFS('1추일입'!AB$6:AB$100,'1추일입'!$A$6:$A$100,'1추총괄표(위원회)'!$A10,'1추일입'!$B$6:$B$100,'1추총괄표(위원회)'!$C10) -> 0 | R10: =SUMIFS('1추일출'!G$6:G$14,'1추일출'!$A$6:$A$14,'1추총괄표(위원회)'!$A10,'1추일출'!$B$6:$B$14,'1추총괄표(위원회)'!$C10) -> 0 | S10: =SUMIFS('1추일출'!H$6:H$14,'1추일출'!$A$6:$A$14,'1추총괄표(위원회)'!$A10,'1추일출'!$B$6:$B$14,'1추총괄표(위원회)'!$C10) -> 0 | T10: =R10-S10 -> 0 | U10: =SUMIFS('1추일출'!J$6:J$14,'1추일출'!$A$6:$A$14,'1추총괄표(위원회)'!$A10,'1추일출'!$B$6:$B$14,'1추총괄표(위원회)'!$C10) -> 0 | V10: =SUMIFS('1추일출'!K$6:K$14,'1추일출'!$A$6:$A$14,'1추총괄표(위원회)'!$A10,'1추일출'!$B$6:$B$14,'1추총괄표(위원회)'!$C10) -> 0 | W10: =SUMIFS('1추일출'!L$6:L$14,'1추일출'!$A$6:$A$14,'1추총괄표(위원회)'!$A10,'1추일출'!$B$6:$B$14,'1추총괄표(위원회)'!$C10) -> 0 | X10: =SUMIFS('1추일출'!V$6:V$14,'1추일출'!$A$6:$A$14,'1추총괄표(위원회)'!$A10,'1추일출'!$B$6:$B$14,'1추총괄표(위원회)'!$C10) -> 0 | Y10: =SUMIFS('1추일출'!W$6:W$14,'1추일출'!$A$6:$A$14,'1추총괄표(위원회)'!$A10,'1추일출'!$B$6:$B$14,'1추총괄표(위원회)'!$C10) -> 0 | Z10: =SUMIFS('1추일출'!M$6:M$14,'1추일출'!$A$6:$A$14,'1추총괄표(위원회)'!$A10,'1추일출'!$B$6:$B$14,'1추총괄표(위원회)'!$C10) -> 0 | AA10: =SUMIFS('1추일출'!N$6:N$14,'1추일출'!$A$6:$A$14,'1추총괄표(위원회)'!$A10,'1추일출'!$B$6:$B$14,'1추총괄표(위원회)'!$C10) -> 0 | AB10: =SUMIFS('1추일출'!O$6:O$14,'1추일출'!$A$6:$A$14,'1추총괄표(위원회)'!$A10,'1추일출'!$B$6:$B$14,'1추총괄표(위원회)'!$C10) -> 0 | AC10: =SUMIFS('1추일출'!AA$6:AA$14,'1추일출'!$A$6:$A$14,'1추총괄표(위원회)'!$A10,'1추일출'!$B$6:$B$14,'1추총괄표(위원회)'!C$9) -> 0 | AD10: =SUMIFS('1추일출'!AB$6:AB$14,'1추일출'!$A$6:$A$14,'1추총괄표(위원회)'!$A10,'1추일출'!$B$6:$B$14,'1추총괄표(위원회)'!D$9) -> 0 | AF10: =IF(J10=X10,"OK","@@") -> OK | AG10: =J10-X10 -> 0 | AH10: =IF(O10=AC10,"OK","@@") -> OK | AI10: =O10-AC10 -> 0
A11: 의회운영위원회 | C11: 대변인 | D11: =SUMIFS('1추일입'!G$6:G$100,'1추일입'!$A$6:$A$100,'1추총괄표(위원회)'!$A11,'1추일입'!$B$6:$B$100,'1추총괄표(위원회)'!$C11) -> 0 | E11: =SUMIFS('1추일입'!H$6:H$100,'1추일입'!$A$6:$A$100,'1추총괄표(위원회)'!$A11,'1추일입'!$B$6:$B$100,'1추총괄표(위원회)'!$C11) -> 0 | F11: =D11-E11 -> 0 | G11: =SUMIFS('1추일입'!J$6:J$100,'1추일입'!$A$6:$A$100,'1추총괄표(위원회)'!$A11,'1추일입'!$B$6:$B$100,'1추총괄표(위원회)'!$C11) -> 0 | H11: =SUMIFS('1추일입'!K$6:K$100,'1추일입'!$A$6:$A$100,'1추총괄표(위원회)'!$A11,'1추일입'!$B$6:$B$100,'1추총괄표(위원회)'!$C11) -> 0 | I11: =SUMIFS('1추일입'!L$6:L$100,'1추일입'!$A$6:$A$100,'1추총괄표(위원회)'!$A11,'1추일입'!$B$6:$B$100,'1추총괄표(위원회)'!$C11) -> 0 | J11: =SUMIFS('1추일입'!V$6:V$100,'1추일입'!$A$6:$A$100,'1추총괄표(위원회)'!$A11,'1추일입'!$B$6:$B$100,'1추총괄표(위원회)'!$C11) -> 0 | K11: =SUMIFS('1추일입'!W$6:W$100,'1추일입'!$A$6:$A$100,'1추총괄표(위원회)'!$A11,'1추일입'!$B$6:$B$100,'1추총괄표(위원회)'!$C11) -> 0 | L11: =SUMIFS('1추일입'!M$6:M$100,'1추일입'!$A$6:$A$100,'1추총괄표(위원회)'!$A11,'1추일입'!$B$6:$B$100,'1추총괄표(위원회)'!$C11) -> 0 | M11: =SUMIFS('1추일입'!N$6:N$100,'1추일입'!$A$6:$A$100,'1추총괄표(위원회)'!$A11,'1추일입'!$B$6:$B$100,'1추총괄표(위원회)'!$C11) -> 0 | N11: =SUMIFS('1추일입'!O$6:O$100,'1추일입'!$A$6:$A$100,'1추총괄표(위원회)'!$A11,'1추일입'!$B$6:$B$100,'1추총괄표(위원회)'!$C11) -> 0 | O11: =SUMIFS('1추일입'!AA$6:AA$100,'1추일입'!$A$6:$A$100,'1추총괄표(위원회)'!$A11,'1추일입'!$B$6:$B$100,'1추총괄표(위원회)'!$C11) -> 0 | P11: =SUMIFS('1추일입'!AB$6:AB$100,'1추일입'!$A$6:$A$100,'1추총괄표(위원회)'!$A11,'1추일입'!$B$6:$B$100,'1추총괄표(위원회)'!$C11) -> 0 | R11: =SUMIFS('1추일출'!G$6:G$14,'1추일출'!$A$6:$A$14,'1추총괄표(위원회)'!$A11,'1추일출'!$B$6:$B$14,'1추총괄표(위원회)'!$C11) -> 0 | S11: =SUMIFS('1추일출'!H$6:H$14,'1추일출'!$A$6:$A$14,'1추총괄표(위원회)'!$A11,'1추일출'!$B$6:$B$14,'1추총괄표(위원회)'!$C11) -> 0 | T11: =R11-S11 -> 0 | U11: =SUMIFS('1추일출'!J$6:J$14,'1추일출'!$A$6:$A$14,'1추총괄표(위원회)'!$A11,'1추일출'!$B$6:$B$14,'1추총괄표(위원회)'!$C11) -> 0 | V11: =SUMIFS('1추일출'!K$6:K$14,'1추일출'!$A$6:$A$14,'1추총괄표(위원회)'!$A11,'1추일출'!$B$6:$B$14,'1추총괄표(위원회)'!$C11) -> 0 | W11: =SUMIFS('1추일출'!L$6:L$14,'1추일출'!$A$6:$A$14,'1추총괄표(위원회)'!$A11,'1추일출'!$B$6:$B$14,'1추총괄표(위원회)'!$C11) -> 0 | X11: =SUMIFS('1추일출'!V$6:V$14,'1추일출'!$A$6:$A$14,'1추총괄표(위원회)'!$A11,'1추일출'!$B$6:$B$14,'1추총괄표(위원회)'!$C11) -> 0 | Y11: =SUMIFS('1추일출'!W$6:W$14,'1추일출'!$A$6:$A$14,'1추총괄표(위원회)'!$A11,'1추일출'!$B$6:$B$14,'1추총괄표(위원회)'!$C11) -> 0 | Z11: =SUMIFS('1추일출'!M$6:M$14,'1추일출'!$A$6:$A$14,'1추총괄표(위원회)'!$A11,'1추일출'!$B$6:$B$14,'1추총괄표(위원회)'!$C11) -> 0 | AA11: =SUMIFS('1추일출'!N$6:N$14,'1추일출'!$A$6:$A$14,'1추총괄표(위원회)'!$A11,'1추일출'!$B$6:$B$14,'1추총괄표(위원회)'!$C11) -> 0 | AB11: =SUMIFS('1추일출'!O$6:O$14,'1추일출'!$A$6:$A$14,'1추총괄표(위원회)'!$A11,'1추일출'!$B$6:$B$14,'1추총괄표(위원회)'!$C11) -> 0 | AC11: =SUMIFS('1추일출'!AA$6:AA$14,'1추일출'!$A$6:$A$14,'1추총괄표(위원회)'!$A11,'1추일출'!$B$6:$B$14,'1추총괄표(위원회)'!C$9) -> 0 | AD11: =SUMIFS('1추일출'!AB$6:AB$14,'1추일출'!$A$6:$A$14,'1추총괄표(위원회)'!$A11,'1추일출'!$B$6:$B$14,'1추총괄표(위원회)'!D$9) -> 0 | AF11: =IF(J11=X11,"OK","@@") -> OK | AG11: =J11-X11 -> 0 | AH11: =IF(O11=AC11,"OK","@@") -> OK | AI11: =O11-AC11 -> 0
A12: 의회운영위원회 | C12: 연정협력관 | D12: =SUMIFS('1추일입'!G$6:G$100,'1추일입'!$A$6:$A$100,'1추총괄표(위원회)'!$A12,'1추일입'!$B$6:$B$100,'1추총괄표(위원회)'!$C12) -> 0 | E12: =SUMIFS('1추일입'!H$6:H$100,'1추일입'!$A$6:$A$100,'1추총괄표(위원회)'!$A12,'1추일입'!$B$6:$B$100,'1추총괄표(위원회)'!$C12) -> 0 | F12: =D12-E12 -> 0 | G12: =SUMIFS('1추일입'!J$6:J$100,'1추일입'!$A$6:$A$100,'1추총괄표(위원회)'!$A12,'1추일입'!$B$6:$B$100,'1추총괄표(위원회)'!$C12) -> 0 | H12: =SUMIFS('1추일입'!K$6:K$100,'1추일입'!$A$6:$A$100,'1추총괄표(위원회)'!$A12,'1추일입'!$B$6:$B$100,'1추총괄표(위원회)'!$C12) -> 0 | I12: =SUMIFS('1추일입'!L$6:L$100,'1추일입'!$A$6:$A$100,'1추총괄표(위원회)'!$A12,'1추일입'!$B$6:$B$100,'1추총괄표(위원회)'!$C12) -> 0 | J12: =SUMIFS('1추일입'!V$6:V$100,'1추일입'!$A$6:$A$100,'1추총괄표(위원회)'!$A12,'1추일입'!$B$6:$B$100,'1추총괄표(위원회)'!$C12) -> 0 | K12: =SUMIFS('1추일입'!W$6:W$100,'1추일입'!$A$6:$A$100,'1추총괄표(위원회)'!$A12,'1추일입'!$B$6:$B$100,'1추총괄표(위원회)'!$C12) -> 0 | L12: =SUMIFS('1추일입'!M$6:M$100,'1추일입'!$A$6:$A$100,'1추총괄표(위원회)'!$A12,'1추일입'!$B$6:$B$100,'1추총괄표(위원회)'!$C12) -> 0 | M12: =SUMIFS('1추일입'!N$6:N$100,'1추일입'!$A$6:$A$100,'1추총괄표(위원회)'!$A12,'1추일입'!$B$6:$B$100,'1추총괄표(위원회)'!$C12) -> 0 | N12: =SUMIFS('1추일입'!O$6:O$100,'1추일입'!$A$6:$A$100,'1추총괄표(위원회)'!$A12,'1추일입'!$B$6:$B$100,'1추총괄표(위원회)'!$C12) -> 0 | O12: =SUMIFS('1추일입'!AA$6:AA$100,'1추일입'!$A$6:$A$100,'1추총괄표(위원회)'!$A12,'1추일입'!$B$6:$B$100,'1추총괄표(위원회)'!$C12) -> 0 | P12: =SUMIFS('1추일입'!AB$6:AB$100,'1추일입'!$A$6:$A$100,'1추총괄표(위원회)'!$A12,'1추일입'!$B$6:$B$100,'1추총괄표(위원회)'!$C12) -> 0 | R12: =SUMIFS('1추일출'!G$6:G$14,'1추일출'!$A$6:$A$14,'1추총괄표(위원회)'!$A12,'1추일출'!$B$6:$B$14,'1추총괄표(위원회)'!$C12) -> 0 | S12: =SUMIFS('1추일출'!H$6:H$14,'1추일출'!$A$6:$A$14,'1추총괄표(위원회)'!$A12,'1추일출'!$B$6:$B$14,'1추총괄표(위원회)'!$C12) -> 0 | T12: =R12-S12 -> 0 | U12: =SUMIFS('1추일출'!J$6:J$14,'1추일출'!$A$6:$A$14,'1추총괄표(위원회)'!$A12,'1추일출'!$B$6:$B$14,'1추총괄표(위원회)'!$C12) -> 0 | V12: =SUMIFS('1추일출'!K$6:K$14,'1추일출'!$A$6:$A$14,'1추총괄표(위원회)'!$A12,'1추일출'!$B$6:$B$14,'1추총괄표(위원회)'!$C12) -> 0 | W12: =SUMIFS('1추일출'!L$6:L$14,'1추일출'!$A$6:$A$14,'1추총괄표(위원회)'!$A12,'1추일출'!$B$6:$B$14,'1추총괄표(위원회)'!$C12) -> 0 | X12: =SUMIFS('1추일출'!V$6:V$14,'1추일출'!$A$6:$A$14,'1추총괄표(위원회)'!$A12,'1추일출'!$B$6:$B$14,'1추총괄표(위원회)'!$C12) -> 0 | Y12: =SUMIFS('1추일출'!W$6:W$14,'1추일출'!$A$6:$A$14,'1추총괄표(위원회)'!$A12,'1추일출'!$B$6:$B$14,'1추총괄표(위원회)'!$C12) -> 0 | Z12: =SUMIFS('1추일출'!M$6:M$14,'1추일출'!$A$6:$A$14,'1추총괄표(위원회)'!$A12,'1추일출'!$B$6:$B$14,'1추총괄표(위원회)'!$C12) -> 0 | AA12: =SUMIFS('1추일출'!N$6:N$14,'1추일출'!$A$6:$A$14,'1추총괄표(위원회)'!$A12,'1추일출'!$B$6:$B$14,'1추총괄표(위원회)'!$C12) -> 0 | AB12: =SUMIFS('1추일출'!O$6:O$14,'1추일출'!$A$6:$A$14,'1추총괄표(위원회)'!$A12,'1추일출'!$B$6:$B$14,'1추총괄표(위원회)'!$C12) -> 0 | AC12: =SUMIFS('1추일출'!AA$6:AA$14,'1추일출'!$A$6:$A$14,'1추총괄표(위원회)'!$A12,'1추일출'!$B$6:$B$14,'1추총괄표(위원회)'!C$9) -> 0 | AD12: =SUMIFS('1추일출'!AB$6:AB$14,'1추일출'!$A$6:$A$14,'1추총괄표(위원회)'!$A12,'1추일출'!$B$6:$B$14,'1추총괄표(위원회)'!D$9) -> 0 | AF12: =IF(J12=X12,"OK","@@") -> OK | AG12: =J12-X12 -> 0 | AH12: =IF(O12=AC12,"OK","@@") -> OK | AI12: =O12-AC12 -> 0
A13: 의회운영위원회 | C13: 대외협력담당관 | D13: =SUMIFS('1추일입'!G$6:G$100,'1추일입'!$A$6:$A$100,'1추총괄표(위원회)'!$A13,'1추일입'!$B$6:$B$100,'1추총괄표(위원회)'!$C13) -> 0 | E13: =SUMIFS('1추일입'!H$6:H$100,'1추일입'!$A$6:$A$100,'1추총괄표(위원회)'!$A13,'1추일입'!$B$6:$B$100,'1추총괄표(위원회)'!$C13) -> 0 | F13: =D13-E13 -> 0 | G13: =SUMIFS('1추일입'!J$6:J$100,'1추일입'!$A$6:$A$100,'1추총괄표(위원회)'!$A13,'1추일입'!$B$6:$B$100,'1추총괄표(위원회)'!$C13) -> 0 | H13: =SUMIFS('1추일입'!K$6:K$100,'1추일입'!$A$6:$A$100,'1추총괄표(위원회)'!$A13,'1추일입'!$B$6:$B$100,'1추총괄표(위원회)'!$C13) -> 0 | I13: =SUMIFS('1추일입'!L$6:L$100,'1추일입'!$A$6:$A$100,'1추총괄표(위원회)'!$A13,'1추일입'!$B$6:$B$100,'1추총괄표(위원회)'!$C13) -> 0 | J13: =SUMIFS('1추일입'!V$6:V$100,'1추일입'!$A$6:$A$100,'1추총괄표(위원회)'!$A13,'1추일입'!$B$6:$B$100,'1추총괄표(위원회)'!$C13) -> 0 | K13: =SUMIFS('1추일입'!W$6:W$100,'1추일입'!$A$6:$A$100,'1추총괄표(위원회)'!$A13,'1추일입'!$B$6:$B$100,'1추총괄표(위원회)'!$C13) -> 0 | L13: =SUMIFS('1추일입'!M$6:M$100,'1추일입'!$A$6:$A$100,'1추총괄표(위원회)'!$A13,'1추일입'!$B$6:$B$100,'1추총괄표(위원회)'!$C13) -> 0 | M13: =SUMIFS('1추일입'!N$6:N$100,'1추일입'!$A$6:$A$100,'1추총괄표(위원회)'!$A13,'1추일입'!$B$6:$B$100,'1추총괄표(위원회)'!$C13) -> 0 | N13: =SUMIFS('1추일입'!O$6:O$100,'1추일입'!$A$6:$A$100,'1추총괄표(위원회)'!$A13,'1추일입'!$B$6:$B$100,'1추총괄표(위원회)'!$C13) -> 0 | O13: =SUMIFS('1추일입'!AA$6:AA$100,'1추일입'!$A$6:$A$100,'1추총괄표(위원회)'!$A13,'1추일입'!$B$6:$B$100,'1추총괄표(위원회)'!$C13) -> 0 | P13: =SUMIFS('1추일입'!AB$6:AB$100,'1추일입'!$A$6:$A$100,'1추총괄표(위원회)'!$A13,'1추일입'!$B$6:$B$100,'1추총괄표(위원회)'!$C13) -> 0 | R13: =SUMIFS('1추일출'!G$6:G$14,'1추일출'!$A$6:$A$14,'1추총괄표(위원회)'!$A13,'1추일출'!$B$6:$B$14,'1추총괄표(위원회)'!$C13) -> 0 | S13: =SUMIFS('1추일출'!H$6:H$14,'1추일출'!$A$6:$A$14,'1추총괄표(위원회)'!$A13,'1추일출'!$B$6:$B$14,'1추총괄표(위원회)'!$C13) -> 0 | T13: =R13-S13 -> 0 | U13: =SUMIFS('1추일출'!J$6:J$14,'1추일출'!$A$6:$A$14,'1추총괄표(위원회)'!$A13,'1추일출'!$B$6:$B$14,'1추총괄표(위원회)'!$C13) -> 0 | V13: =SUMIFS('1추일출'!K$6:K$14,'1추일출'!$A$6:$A$14,'1추총괄표(위원회)'!$A13,'1추일출'!$B$6:$B$14,'1추총괄표(위원회)'!$C13) -> 0 | W13: =SUMIFS('1추일출'!L$6:L$14,'1추일출'!$A$6:$A$14,'1추총괄표(위원회)'!$A13,'1추일출'!$B$6:$B$14,'1추총괄표(위원회)'!$C13) -> 0 | X13: =SUMIFS('1추일출'!V$6:V$14,'1추일출'!$A$6:$A$14,'1추총괄표(위원회)'!$A13,'1추일출'!$B$6:$B$14,'1추총괄표(위원회)'!$C13) -> 0 | Y13: =SUMIFS('1추일출'!W$6:W$14,'1추일출'!$A$6:$A$14,'1추총괄표(위원회)'!$A13,'1추일출'!$B$6:$B$14,'1추총괄표(위원회)'!$C13) -> 0 | Z13: =SUMIFS('1추일출'!M$6:M$14,'1추일출'!$A$6:$A$14,'1추총괄표(위원회)'!$A13,'1추일출'!$B$6:$B$14,'1추총괄표(위원회)'!$C13) -> 0 | AA13: =SUMIFS('1추일출'!N$6:N$14,'1추일출'!$A$6:$A$14,'1추총괄표(위원회)'!$A13,'1추일출'!$B$6:$B$14,'1추총괄표(위원회)'!$C13) -> 0 | AB13: =SUMIFS('1추일출'!O$6:O$14,'1추일출'!$A$6:$A$14,'1추총괄표(위원회)'!$A13,'1추일출'!$B$6:$B$14,'1추총괄표(위원회)'!$C13) -> 0 | AC13: =SUMIFS('1추일출'!AA$6:AA$14,'1추일출'!$A$6:$A$14,'1추총괄표(위원회)'!$A13,'1추일출'!$B$6:$B$14,'1추총괄표(위원회)'!C$9) -> 0 | AD13: =SUMIFS('1추일출'!AB$6:AB$14,'1추일출'!$A$6:$A$14,'1추총괄표(위원회)'!$A13,'1추일출'!$B$6:$B$14,'1추총괄표(위원회)'!D$9) -> 0 | AF13: =IF(J13=X13,"OK","@@") -> OK | AG13: =J13-X13 -> 0 | AH13: =IF(O13=AC13,"OK","@@") -> OK | AI13: =O13-AC13 -> 0
B14: 기획재정위원회 | D14: =SUM(D15:D18) -> 0 | E14: =SUM(E15:E18) -> 0 | F14: =SUM(F15:F18) -> 0 | G14: =SUM(G15:G18) -> 0 | H14: =SUM(H15:H18) -> 0 | I14: =SUM(I15:I18) -> 0 | J14: =SUM(J15:J18) -> 0 | K14: =SUM(K15:K18) -> 0 | ... P14: =SUM(P15:P18) -> 0 | R14: =SUM(R15:R18) -> 0 | S14: =SUM(S15:S18) -> 0 | T14: =SUM(T15:T18) -> 0 | U14: =SUM(U15:U18) -> 0 | V14: =SUM(V15:V18) -> 0 | W14: =SUM(W15:W18) -> 0 | X14: =SUM(X15:X18) -> 0 | Y14: =SUM(Y15:Y18) -> 0 | ... AD14: =SUM(AD15:AD18) -> 0 | AF14: =IF(J14=X14,"OK","@@") -> OK | AG14: =J14-X14 -> 0 | AH14: =IF(O14=AC14,"OK","@@") -> OK | AI14: =O14-AC14 -> 0
A15: 기획재정위원회 | C15: 감사관 | D15: =SUMIFS('1추일입'!G$6:G$100,'1추일입'!$A$6:$A$100,'1추총괄표(위원회)'!$A15,'1추일입'!$B$6:$B$100,'1추총괄표(위원회)'!$C15) -> 0 | E15: =SUMIFS('1추일입'!H$6:H$100,'1추일입'!$A$6:$A$100,'1추총괄표(위원회)'!$A15,'1추일입'!$B$6:$B$100,'1추총괄표(위원회)'!$C15) -> 0 | F15: =D15-E15 -> 0 | G15: =SUMIFS('1추일입'!J$6:J$100,'1추일입'!$A$6:$A$100,'1추총괄표(위원회)'!$A15,'1추일입'!$B$6:$B$100,'1추총괄표(위원회)'!$C15) -> 0 | H15: =SUMIFS('1추일입'!K$6:K$100,'1추일입'!$A$6:$A$100,'1추총괄표(위원회)'!$A15,'1추일입'!$B$6:$B$100,'1추총괄표(위원회)'!$C15) -> 0 | I15: =SUMIFS('1추일입'!L$6:L$100,'1추일입'!$A$6:$A$100,'1추총괄표(위원회)'!$A15,'1추일입'!$B$6:$B$100,'1추총괄표(위원회)'!$C15) -> 0 | J15: =SUMIFS('1추일입'!V$6:V$100,'1추일입'!$A$6:$A$100,'1추총괄표(위원회)'!$A15,'1추일입'!$B$6:$B$100,'1추총괄표(위원회)'!$C15) -> 0 | K15: =SUMIFS('1추일입'!W$6:W$100,'1추일입'!$A$6:$A$100,'1추총괄표(위원회)'!$A15,'1추일입'!$B$6:$B$100,'1추총괄표(위원회)'!$C15) -> 0 | L15: =SUMIFS('1추일입'!M$6:M$100,'1추일입'!$A$6:$A$100,'1추총괄표(위원회)'!$A15,'1추일입'!$B$6:$B$100,'1추총괄표(위원회)'!$C15) -> 0 | M15: =SUMIFS('1추일입'!N$6:N$100,'1추일입'!$A$6:$A$100,'1추총괄표(위원회)'!$A15,'1추일입'!$B$6:$B$100,'1추총괄표(위원회)'!$C15) -> 0 | N15: =SUMIFS('1추일입'!O$6:O$100,'1추일입'!$A$6:$A$100,'1추총괄표(위원회)'!$A15,'1추일입'!$B$6:$B$100,'1추총괄표(위원회)'!$C15) -> 0 | O15: =SUMIFS('1추일입'!AA$6:AA$100,'1추일입'!$A$6:$A$100,'1추총괄표(위원회)'!$A15,'1추일입'!$B$6:$B$100,'1추총괄표(위원회)'!$C15) -> 0 | P15: =SUMIFS('1추일입'!AB$6:AB$100,'1추일입'!$A$6:$A$100,'1추총괄표(위원회)'!$A15,'1추일입'!$B$6:$B$100,'1추총괄표(위원회)'!$C15) -> 0 | R15: =SUMIFS('1추일출'!G$6:G$14,'1추일출'!$A$6:$A$14,'1추총괄표(위원회)'!$A15,'1추일출'!$B$6:$B$14,'1추총괄표(위원회)'!$C15) -> 0 | S15: =SUMIFS('1추일출'!H$6:H$14,'1추일출'!$A$6:$A$14,'1추총괄표(위원회)'!$A15,'1추일출'!$B$6:$B$14,'1추총괄표(위원회)'!$C15) -> 0 | T15: =R15-S15 -> 0 | U15: =SUMIFS('1추일출'!J$6:J$14,'1추일출'!$A$6:$A$14,'1추총괄표(위원회)'!$A15,'1추일출'!$B$6:$B$14,'1추총괄표(위원회)'!$C15) -> 0 | V15: =SUMIFS('1추일출'!K$6:K$14,'1추일출'!$A$6:$A$14,'1추총괄표(위원회)'!$A15,'1추일출'!$B$6:$B$14,'1추총괄표(위원회)'!$C15) -> 0 | W15: =SUMIFS('1추일출'!L$6:L$14,'1추일출'!$A$6:$A$14,'1추총괄표(위원회)'!$A15,'1추일출'!$B$6:$B$14,'1추총괄표(위원회)'!$C15) -> 0 | X15: =SUMIFS('1추일출'!V$6:V$14,'1추일출'!$A$6:$A$14,'1추총괄표(위원회)'!$A15,'1추일출'!$B$6:$B$14,'1추총괄표(위원회)'!$C15) -> 0 | Y15: =SUMIFS('1추일출'!W$6:W$14,'1추일출'!$A$6:$A$14,'1추총괄표(위원회)'!$A15,'1추일출'!$B$6:$B$14,'1추총괄표(위원회)'!$C15) -> 0 | Z15: =SUMIFS('1추일출'!M$6:M$14,'1추일출'!$A$6:$A$14,'1추총괄표(위원회)'!$A15,'1추일출'!$B$6:$B$14,'1추총괄표(위원회)'!$C15) -> 0 | AA15: =SUMIFS('1추일출'!N$6:N$14,'1추일출'!$A$6:$A$14,'1추총괄표(위원회)'!$A15,'1추일출'!$B$6:$B$14,'1추총괄표(위원회)'!$C15) -> 0 | AB15: =SUMIFS('1추일출'!O$6:O$14,'1추일출'!$A$6:$A$14,'1추총괄표(위원회)'!$A15,'1추일출'!$B$6:$B$14,'1추총괄표(위원회)'!$C15) -> 0 | AC15: =SUMIFS('1추일출'!AA$6:AA$14,'1추일출'!$A$6:$A$14,'1추총괄표(위원회)'!$A15,'1추일출'!$B$6:$B$14,'1추총괄표(위원회)'!C$9) -> 0 | AD15: =SUMIFS('1추일출'!AB$6:AB$14,'1추일출'!$A$6:$A$14,'1추총괄표(위원회)'!$A15,'1추일출'!$B$6:$B$14,'1추총괄표(위원회)'!D$9) -> 0 | AF15: =IF(J15=X15,"OK","@@") -> OK | AG15: =J15-X15 -> 0 | AH15: =IF(O15=AC15,"OK","@@") -> OK | AI15: =O15-AC15 -> 0
A16: 기획재정위원회 | C16: 기획조정실 | D16: =SUMIFS('1추일입'!G$6:G$100,'1추일입'!$A$6:$A$100,'1추총괄표(위원회)'!$A16,'1추일입'!$B$6:$B$100,'1추총괄표(위원회)'!$C16) -> 0 | E16: =SUMIFS('1추일입'!H$6:H$100,'1추일입'!$A$6:$A$100,'1추총괄표(위원회)'!$A16,'1추일입'!$B$6:$B$100,'1추총괄표(위원회)'!$C16) -> 0 | F16: =D16-E16 -> 0 | G16: =SUMIFS('1추일입'!J$6:J$100,'1추일입'!$A$6:$A$100,'1추총괄표(위원회)'!$A16,'1추일입'!$B$6:$B$100,'1추총괄표(위원회)'!$C16) -> 0 | H16: =SUMIFS('1추일입'!K$6:K$100,'1추일입'!$A$6:$A$100,'1추총괄표(위원회)'!$A16,'1추일입'!$B$6:$B$100,'1추총괄표(위원회)'!$C16) -> 0 | I16: =SUMIFS('1추일입'!L$6:L$100,'1추일입'!$A$6:$A$100,'1추총괄표(위원회)'!$A16,'1추일입'!$B$6:$B$100,'1추총괄표(위원회)'!$C16) -> 0 | J16: =SUMIFS('1추일입'!V$6:V$100,'1추일입'!$A$6:$A$100,'1추총괄표(위원회)'!$A16,'1추일입'!$B$6:$B$100,'1추총괄표(위원회)'!$C16) -> 0 | K16: =SUMIFS('1추일입'!W$6:W$100,'1추일입'!$A$6:$A$100,'1추총괄표(위원회)'!$A16,'1추일입'!$B$6:$B$100,'1추총괄표(위원회)'!$C16) -> 0 | L16: =SUMIFS('1추일입'!M$6:M$100,'1추일입'!$A$6:$A$100,'1추총괄표(위원회)'!$A16,'1추일입'!$B$6:$B$100,'1추총괄표(위원회)'!$C16) -> 0 | M16: =SUMIFS('1추일입'!N$6:N$100,'1추일입'!$A$6:$A$100,'1추총괄표(위원회)'!$A16,'1추일입'!$B$6:$B$100,'1추총괄표(위원회)'!$C16) -> 0 | N16: =SUMIFS('1추일입'!O$6:O$100,'1추일입'!$A$6:$A$100,'1추총괄표(위원회)'!$A16,'1추일입'!$B$6:$B$100,'1추총괄표(위원회)'!$C16) -> 0 | O16: =SUMIFS('1추일입'!AA$6:AA$100,'1추일입'!$A$6:$A$100,'1추총괄표(위원회)'!$A16,'1추일입'!$B$6:$B$100,'1추총괄표(위원회)'!$C16) -> 0 | P16: =SUMIFS('1추일입'!AB$6:AB$100,'1추일입'!$A$6:$A$100,'1추총괄표(위원회)'!$A16,'1추일입'!$B$6:$B$100,'1추총괄표(위원회)'!$C16) -> 0 | R16: =SUMIFS('1추일출'!G$6:G$14,'1추일출'!$A$6:$A$14,'1추총괄표(위원회)'!$A16,'1추일출'!$B$6:$B$14,'1추총괄표(위원회)'!$C16) -> 0 | S16: =SUMIFS('1추일출'!H$6:H$14,'1추일출'!$A$6:$A$14,'1추총괄표(위원회)'!$A16,'1추일출'!$B$6:$B$14,'1추총괄표(위원회)'!$C16) -> 0 | T16: =R16-S16 -> 0 | U16: =SUMIFS('1추일출'!J$6:J$14,'1추일출'!$A$6:$A$14,'1추총괄표(위원회)'!$A16,'1추일출'!$B$6:$B$14,'1추총괄표(위원회)'!$C16) -> 0 | V16: =SUMIFS('1추일출'!K$6:K$14,'1추일출'!$A$6:$A$14,'1추총괄표(위원회)'!$A16,'1추일출'!$B$6:$B$14,'1추총괄표(위원회)'!$C16) -> 0 | W16: =SUMIFS('1추일출'!L$6:L$14,'1추일출'!$A$6:$A$14,'1추총괄표(위원회)'!$A16,'1추일출'!$B$6:$B$14,'1추총괄표(위원회)'!$C16) -> 0 | X16: =SUMIFS('1추일출'!V$6:V$14,'1추일출'!$A$6:$A$14,'1추총괄표(위원회)'!$A16,'1추일출'!$B$6:$B$14,'1추총괄표(위원회)'!$C16) -> 0 | Y16: =SUMIFS('1추일출'!W$6:W$14,'1추일출'!$A$6:$A$14,'1추총괄표(위원회)'!$A16,'1추일출'!$B$6:$B$14,'1추총괄표(위원회)'!$C16) -> 0 | Z16: =SUMIFS('1추일출'!M$6:M$14,'1추일출'!$A$6:$A$14,'1추총괄표(위원회)'!$A16,'1추일출'!$B$6:$B$14,'1추총괄표(위원회)'!$C16) -> 0 | AA16: =SUMIFS('1추일출'!N$6:N$14,'1추일출'!$A$6:$A$14,'1추총괄표(위원회)'!$A16,'1추일출'!$B$6:$B$14,'1추총괄표(위원회)'!$C16) -> 0 | AB16: =SUMIFS('1추일출'!O$6:O$14,'1추일출'!$A$6:$A$14,'1추총괄표(위원회)'!$A16,'1추일출'!$B$6:$B$14,'1추총괄표(위원회)'!$C16) -> 0 | AC16: =SUMIFS('1추일출'!AA$6:AA$14,'1추일출'!$A$6:$A$14,'1추총괄표(위원회)'!$A16,'1추일출'!$B$6:$B$14,'1추총괄표(위원회)'!C$9) -> 0 | AD16: =SUMIFS('1추일출'!AB$6:AB$14,'1추일출'!$A$6:$A$14,'1추총괄표(위원회)'!$A16,'1추일출'!$B$6:$B$14,'1추총괄표(위원회)'!D$9) -> 0 | AF16: =IF(J16=X16,"OK","@@") -> OK | AG16: =J16-X16 -> 0 | AH16: =IF(O16=AC16,"OK","@@") -> OK | AI16: =O16-AC16 -> 0
A17: 기획재정위원회 | C17: 균형발전기획실 | D17: =SUMIFS('1추일입'!G$6:G$100,'1추일입'!$A$6:$A$100,'1추총괄표(위원회)'!$A17,'1추일입'!$B$6:$B$100,'1추총괄표(위원회)'!$C17) -> 0 | E17: =SUMIFS('1추일입'!H$6:H$100,'1추일입'!$A$6:$A$100,'1추총괄표(위원회)'!$A17,'1추일입'!$B$6:$B$100,'1추총괄표(위원회)'!$C17) -> 0 | F17: =D17-E17 -> 0 | G17: =SUMIFS('1추일입'!J$6:J$100,'1추일입'!$A$6:$A$100,'1추총괄표(위원회)'!$A17,'1추일입'!$B$6:$B$100,'1추총괄표(위원회)'!$C17) -> 0 | H17: =SUMIFS('1추일입'!K$6:K$100,'1추일입'!$A$6:$A$100,'1추총괄표(위원회)'!$A17,'1추일입'!$B$6:$B$100,'1추총괄표(위원회)'!$C17) -> 0 | I17: =SUMIFS('1추일입'!L$6:L$100,'1추일입'!$A$6:$A$100,'1추총괄표(위원회)'!$A17,'1추일입'!$B$6:$B$100,'1추총괄표(위원회)'!$C17) -> 0 | J17: =SUMIFS('1추일입'!V$6:V$100,'1추일입'!$A$6:$A$100,'1추총괄표(위원회)'!$A17,'1추일입'!$B$6:$B$100,'1추총괄표(위원회)'!$C17) -> 0 | K17: =SUMIFS('1추일입'!W$6:W$100,'1추일입'!$A$6:$A$100,'1추총괄표(위원회)'!$A17,'1추일입'!$B$6:$B$100,'1추총괄표(위원회)'!$C17) -> 0 | L17: =SUMIFS('1추일입'!M$6:M$100,'1추일입'!$A$6:$A$100,'1추총괄표(위원회)'!$A17,'1추일입'!$B$6:$B$100,'1추총괄표(위원회)'!$C17) -> 0 | M17: =SUMIFS('1추일입'!N$6:N$100,'1추일입'!$A$6:$A$100,'1추총괄표(위원회)'!$A17,'1추일입'!$B$6:$B$100,'1추총괄표(위원회)'!$C17) -> 0 | N17: =SUMIFS('1추일입'!O$6:O$100,'1추일입'!$A$6:$A$100,'1추총괄표(위원회)'!$A17,'1추일입'!$B$6:$B$100,'1추총괄표(위원회)'!$C17) -> 0 | O17: =SUMIFS('1추일입'!AA$6:AA$100,'1추일입'!$A$6:$A$100,'1추총괄표(위원회)'!$A17,'1추일입'!$B$6:$B$100,'1추총괄표(위원회)'!$C17) -> 0 | P17: =SUMIFS('1추일입'!AB$6:AB$100,'1추일입'!$A$6:$A$100,'1추총괄표(위원회)'!$A17,'1추일입'!$B$6:$B$100,'1추총괄표(위원회)'!$C17) -> 0 | R17: =SUMIFS('1추일출'!G$6:G$14,'1추일출'!$A$6:$A$14,'1추총괄표(위원회)'!$A17,'1추일출'!$B$6:$B$14,'1추총괄표(위원회)'!$C17) -> 0 | S17: =SUMIFS('1추일출'!H$6:H$14,'1추일출'!$A$6:$A$14,'1추총괄표(위원회)'!$A17,'1추일출'!$B$6:$B$14,'1추총괄표(위원회)'!$C17) -> 0 | T17: =R17-S17 -> 0 | U17: =SUMIFS('1추일출'!J$6:J$14,'1추일출'!$A$6:$A$14,'1추총괄표(위원회)'!$A17,'1추일출'!$B$6:$B$14,'1추총괄표(위원회)'!$C17) -> 0 | V17: =SUMIFS('1추일출'!K$6:K$14,'1추일출'!$A$6:$A$14,'1추총괄표(위원회)'!$A17,'1추일출'!$B$6:$B$14,'1추총괄표(위원회)'!$C17) -> 0 | W17: =SUMIFS('1추일출'!L$6:L$14,'1추일출'!$A$6:$A$14,'1추총괄표(위원회)'!$A17,'1추일출'!$B$6:$B$14,'1추총괄표(위원회)'!$C17) -> 0 | X17: =SUMIFS('1추일출'!V$6:V$14,'1추일출'!$A$6:$A$14,'1추총괄표(위원회)'!$A17,'1추일출'!$B$6:$B$14,'1추총괄표(위원회)'!$C17) -> 0 | Y17: =SUMIFS('1추일출'!W$6:W$14,'1추일출'!$A$6:$A$14,'1추총괄표(위원회)'!$A17,'1추일출'!$B$6:$B$14,'1추총괄표(위원회)'!$C17) -> 0 | Z17: =SUMIFS('1추일출'!M$6:M$14,'1추일출'!$A$6:$A$14,'1추총괄표(위원회)'!$A17,'1추일출'!$B$6:$B$14,'1추총괄표(위원회)'!$C17) -> 0 | AA17: =SUMIFS('1추일출'!N$6:N$14,'1추일출'!$A$6:$A$14,'1추총괄표(위원회)'!$A17,'1추일출'!$B$6:$B$14,'1추총괄표(위원회)'!$C17) -> 0 | AB17: =SUMIFS('1추일출'!O$6:O$14,'1추일출'!$A$6:$A$14,'1추총괄표(위원회)'!$A17,'1추일출'!$B$6:$B$14,'1추총괄표(위원회)'!$C17) -> 0 | AC17: =SUMIFS('1추일출'!AA$6:AA$14,'1추일출'!$A$6:$A$14,'1추총괄표(위원회)'!$A17,'1추일출'!$B$6:$B$14,'1추총괄표(위원회)'!C$9) -> 0 | AD17: =SUMIFS('1추일출'!AB$6:AB$14,'1추일출'!$A$6:$A$14,'1추총괄표(위원회)'!$A17,'1추일출'!$B$6:$B$14,'1추총괄표(위원회)'!D$9) -> 0 | AF17: =IF(J17=X17,"OK","@@") -> OK | AG17: =J17-X17 -> 0 | AH17: =IF(O17=AC17,"OK","@@") -> OK | AI17: =O17-AC17 -> 0
A18: 기획재정위원회 | C18: 따복공동체지원단 | D18: =SUMIFS('1추일입'!G$6:G$100,'1추일입'!$A$6:$A$100,'1추총괄표(위원회)'!$A18,'1추일입'!$B$6:$B$100,'1추총괄표(위원회)'!$C18) -> 0 | E18: =SUMIFS('1추일입'!H$6:H$100,'1추일입'!$A$6:$A$100,'1추총괄표(위원회)'!$A18,'1추일입'!$B$6:$B$100,'1추총괄표(위원회)'!$C18) -> 0 | F18: =D18-E18 -> 0 | G18: =SUMIFS('1추일입'!J$6:J$100,'1추일입'!$A$6:$A$100,'1추총괄표(위원회)'!$A18,'1추일입'!$B$6:$B$100,'1추총괄표(위원회)'!$C18) -> 0 | H18: =SUMIFS('1추일입'!K$6:K$100,'1추일입'!$A$6:$A$100,'1추총괄표(위원회)'!$A18,'1추일입'!$B$6:$B$100,'1추총괄표(위원회)'!$C18) -> 0 | I18: =SUMIFS('1추일입'!L$6:L$100,'1추일입'!$A$6:$A$100,'1추총괄표(위원회)'!$A18,'1추일입'!$B$6:$B$100,'1추총괄표(위원회)'!$C18) -> 0 | J18: =SUMIFS('1추일입'!V$6:V$100,'1추일입'!$A$6:$A$100,'1추총괄표(위원회)'!$A18,'1추일입'!$B$6:$B$100,'1추총괄표(위원회)'!$C18) -> 0 | K18: =SUMIFS('1추일입'!W$6:W$100,'1추일입'!$A$6:$A$100,'1추총괄표(위원회)'!$A18,'1추일입'!$B$6:$B$100,'1추총괄표(위원회)'!$C18) -> 0 | L18: =SUMIFS('1추일입'!M$6:M$100,'1추일입'!$A$6:$A$100,'1추총괄표(위원회)'!$A18,'1추일입'!$B$6:$B$100,'1추총괄표(위원회)'!$C18) -> 0 | M18: =SUMIFS('1추일입'!N$6:N$100,'1추일입'!$A$6:$A$100,'1추총괄표(위원회)'!$A18,'1추일입'!$B$6:$B$100,'1추총괄표(위원회)'!$C18) -> 0 | N18: =SUMIFS('1추일입'!O$6:O$100,'1추일입'!$A$6:$A$100,'1추총괄표(위원회)'!$A18,'1추일입'!$B$6:$B$100,'1추총괄표(위원회)'!$C18) -> 0 | O18: =SUMIFS('1추일입'!AA$6:AA$100,'1추일입'!$A$6:$A$100,'1추총괄표(위원회)'!$A18,'1추일입'!$B$6:$B$100,'1추총괄표(위원회)'!$C18) -> 0 | P18: =SUMIFS('1추일입'!AB$6:AB$100,'1추일입'!$A$6:$A$100,'1추총괄표(위원회)'!$A18,'1추일입'!$B$6:$B$100,'1추총괄표(위원회)'!$C18) -> 0 | R18: =SUMIFS('1추일출'!G$6:G$14,'1추일출'!$A$6:$A$14,'1추총괄표(위원회)'!$A18,'1추일출'!$B$6:$B$14,'1추총괄표(위원회)'!$C18) -> 0 | S18: =SUMIFS('1추일출'!H$6:H$14,'1추일출'!$A$6:$A$14,'1추총괄표(위원회)'!$A18,'1추일출'!$B$6:$B$14,'1추총괄표(위원회)'!$C18) -> 0 | T18: =R18-S18 -> 0 | U18: =SUMIFS('1추일출'!J$6:J$14,'1추일출'!$A$6:$A$14,'1추총괄표(위원회)'!$A18,'1추일출'!$B$6:$B$14,'1추총괄표(위원회)'!$C18) -> 0 | V18: =SUMIFS('1추일출'!K$6:K$14,'1추일출'!$A$6:$A$14,'1추총괄표(위원회)'!$A18,'1추일출'!$B$6:$B$14,'1추총괄표(위원회)'!$C18) -> 0 | W18: =SUMIFS('1추일출'!L$6:L$14,'1추일출'!$A$6:$A$14,'1추총괄표(위원회)'!$A18,'1추일출'!$B$6:$B$14,'1추총괄표(위원회)'!$C18) -> 0 | X18: =SUMIFS('1추일출'!V$6:V$14,'1추일출'!$A$6:$A$14,'1추총괄표(위원회)'!$A18,'1추일출'!$B$6:$B$14,'1추총괄표(위원회)'!$C18) -> 0 | Y18: =SUMIFS('1추일출'!W$6:W$14,'1추일출'!$A$6:$A$14,'1추총괄표(위원회)'!$A18,'1추일출'!$B$6:$B$14,'1추총괄표(위원회)'!$C18) -> 0 | Z18: =SUMIFS('1추일출'!M$6:M$14,'1추일출'!$A$6:$A$14,'1추총괄표(위원회)'!$A18,'1추일출'!$B$6:$B$14,'1추총괄표(위원회)'!$C18) -> 0 | AA18: =SUMIFS('1추일출'!N$6:N$14,'1추일출'!$A$6:$A$14,'1추총괄표(위원회)'!$A18,'1추일출'!$B$6:$B$14,'1추총괄표(위원회)'!$C18) -> 0 | AB18: =SUMIFS('1추일출'!O$6:O$14,'1추일출'!$A$6:$A$14,'1추총괄표(위원회)'!$A18,'1추일출'!$B$6:$B$14,'1추총괄표(위원회)'!$C18) -> 0 | AC18: =SUMIFS('1추일출'!AA$6:AA$14,'1추일출'!$A$6:$A$14,'1추총괄표(위원회)'!$A18,'1추일출'!$B$6:$B$14,'1추총괄표(위원회)'!C$9) -> 0 | AD18: =SUMIFS('1추일출'!AB$6:AB$14,'1추일출'!$A$6:$A$14,'1추총괄표(위원회)'!$A18,'1추일출'!$B$6:$B$14,'1추총괄표(위원회)'!D$9) -> 0 | AF18: =IF(J18=X18,"OK","@@") -> OK | AG18: =J18-X18 -> 0 | AH18: =IF(O18=AC18,"OK","@@") -> OK | AI18: =O18-AC18 -> 0
B19: 경제과학기술위원회 | D19: =SUM(D20:D22) -> 0 | E19: =SUM(E20:E22) -> 0 | F19: =SUM(F20:F22) -> 0 | G19: =SUM(G20:G22) -> 0 | H19: =SUM(H20:H22) -> 0 | I19: =SUM(I20:I22) -> 0 | J19: =SUM(J20:J22) -> 0 | K19: =SUM(K20:K22) -> 0 | ... P19: =SUM(P20:P22) -> 0 | R19: =SUM(R20:R22) -> 0 | S19: =SUM(S20:S22) -> 0 | T19: =SUM(T20:T22) -> 0 | U19: =SUM(U20:U22) -> 0 | V19: =SUM(V20:V22) -> 0 | W19: =SUM(W20:W22) -> 0 | X19: =SUM(X20:X22) -> 0 | Y19: =SUM(Y20:Y22) -> 0 | ... AD19: =SUM(AD20:AD22) -> 0 | AF19: =IF(J19=X19,"OK","@@") -> OK | AG19: =J19-X19 -> 0 | AH19: =IF(O19=AC19,"OK","@@") -> OK | AI19: =O19-AC19 -> 0
A20: 경제과학기술위원회 | C20: 경제실 | D20: =SUMIFS('1추일입'!G$6:G$100,'1추일입'!$A$6:$A$100,'1추총괄표(위원회)'!$A20,'1추일입'!$B$6:$B$100,'1추총괄표(위원회)'!$C20) -> 0 | E20: =SUMIFS('1추일입'!H$6:H$100,'1추일입'!$A$6:$A$100,'1추총괄표(위원회)'!$A20,'1추일입'!$B$6:$B$100,'1추총괄표(위원회)'!$C20) -> 0 | F20: =D20-E20 -> 0 | G20: =SUMIFS('1추일입'!J$6:J$100,'1추일입'!$A$6:$A$100,'1추총괄표(위원회)'!$A20,'1추일입'!$B$6:$B$100,'1추총괄표(위원회)'!$C20) -> 0 | H20: =SUMIFS('1추일입'!K$6:K$100,'1추일입'!$A$6:$A$100,'1추총괄표(위원회)'!$A20,'1추일입'!$B$6:$B$100,'1추총괄표(위원회)'!$C20) -> 0 | I20: =SUMIFS('1추일입'!L$6:L$100,'1추일입'!$A$6:$A$100,'1추총괄표(위원회)'!$A20,'1추일입'!$B$6:$B$100,'1추총괄표(위원회)'!$C20) -> 0 | J20: =SUMIFS('1추일입'!V$6:V$100,'1추일입'!$A$6:$A$100,'1추총괄표(위원회)'!$A20,'1추일입'!$B$6:$B$100,'1추총괄표(위원회)'!$C20) -> 0 | K20: =SUMIFS('1추일입'!W$6:W$100,'1추일입'!$A$6:$A$100,'1추총괄표(위원회)'!$A20,'1추일입'!$B$6:$B$100,'1추총괄표(위원회)'!$C20) -> 0 | L20: =SUMIFS('1추일입'!M$6:M$100,'1추일입'!$A$6:$A$100,'1추총괄표(위원회)'!$A20,'1추일입'!$B$6:$B$100,'1추총괄표(위원회)'!$C20) -> 0 | M20: =SUMIFS('1추일입'!N$6:N$100,'1추일입'!$A$6:$A$100,'1추총괄표(위원회)'!$A20,'1추일입'!$B$6:$B$100,'1추총괄표(위원회)'!$C20) -> 0 | N20: =SUMIFS('1추일입'!O$6:O$100,'1추일입'!$A$6:$A$100,'1추총괄표(위원회)'!$A20,'1추일입'!$B$6:$B$100,'1추총괄표(위원회)'!$C20) -> 0 | O20: =SUMIFS('1추일입'!AA$6:AA$100,'1추일입'!$A$6:$A$100,'1추총괄표(위원회)'!$A20,'1추일입'!$B$6:$B$100,'1추총괄표(위원회)'!$C20) -> 0 | P20: =SUMIFS('1추일입'!AB$6:AB$100,'1추일입'!$A$6:$A$100,'1추총괄표(위원회)'!$A20,'1추일입'!$B$6:$B$100,'1추총괄표(위원회)'!$C20) -> 0 | R20: =SUMIFS('1추일출'!G$6:G$14,'1추일출'!$A$6:$A$14,'1추총괄표(위원회)'!$A20,'1추일출'!$B$6:$B$14,'1추총괄표(위원회)'!$C20) -> 0 | S20: =SUMIFS('1추일출'!H$6:H$14,'1추일출'!$A$6:$A$14,'1추총괄표(위원회)'!$A20,'1추일출'!$B$6:$B$14,'1추총괄표(위원회)'!$C20) -> 0 | T20: =R20-S20 -> 0 | U20: =SUMIFS('1추일출'!J$6:J$14,'1추일출'!$A$6:$A$14,'1추총괄표(위원회)'!$A20,'1추일출'!$B$6:$B$14,'1추총괄표(위원회)'!$C20) -> 0 | V20: =SUMIFS('1추일출'!K$6:K$14,'1추일출'!$A$6:$A$14,'1추총괄표(위원회)'!$A20,'1추일출'!$B$6:$B$14,'1추총괄표(위원회)'!$C20) -> 0 | W20: =SUMIFS('1추일출'!L$6:L$14,'1추일출'!$A$6:$A$14,'1추총괄표(위원회)'!$A20,'1추일출'!$B$6:$B$14,'1추총괄표(위원회)'!$C20) -> 0 | X20: =SUMIFS('1추일출'!V$6:V$14,'1추일출'!$A$6:$A$14,'1추총괄표(위원회)'!$A20,'1추일출'!$B$6:$B$14,'1추총괄표(위원회)'!$C20) -> 0 | Y20: =SUMIFS('1추일출'!W$6:W$14,'1추일출'!$A$6:$A$14,'1추총괄표(위원회)'!$A20,'1추일출'!$B$6:$B$14,'1추총괄표(위원회)'!$C20) -> 0 | Z20: =SUMIFS('1추일출'!M$6:M$14,'1추일출'!$A$6:$A$14,'1추총괄표(위원회)'!$A20,'1추일출'!$B$6:$B$14,'1추총괄표(위원회)'!$C20) -> 0 | AA20: =SUMIFS('1추일출'!N$6:N$14,'1추일출'!$A$6:$A$14,'1추총괄표(위원회)'!$A20,'1추일출'!$B$6:$B$14,'1추총괄표(위원회)'!$C20) -> 0 | AB20: =SUMIFS('1추일출'!O$6:O$14,'1추일출'!$A$6:$A$14,'1추총괄표(위원회)'!$A20,'1추일출'!$B$6:$B$14,'1추총괄표(위원회)'!$C20) -> 0 | AC20: =SUMIFS('1추일출'!AA$6:AA$14,'1추일출'!$A$6:$A$14,'1추총괄표(위원회)'!$A20,'1추일출'!$B$6:$B$14,'1추총괄표(위원회)'!C$9) -> 0 | AD20: =SUMIFS('1추일출'!AB$6:AB$14,'1추일출'!$A$6:$A$14,'1추총괄표(위원회)'!$A20,'1추일출'!$B$6:$B$14,'1추총괄표(위원회)'!D$9) -> 0 | AF20: =IF(J20=X20,"OK","@@") -> OK | AG20: =J20-X20 -> 0 | AH20: =IF(O20=AC20,"OK","@@") -> OK | AI20: =O20-AC20 -> 0
A21: 경제과학기술위원회 | C21: 황해경제자유구역청 | D21: =SUMIFS('1추일입'!G$6:G$100,'1추일입'!$A$6:$A$100,'1추총괄표(위원회)'!$A21,'1추일입'!$B$6:$B$100,'1추총괄표(위원회)'!$C21) -> 0 | E21: =SUMIFS('1추일입'!H$6:H$100,'1추일입'!$A$6:$A$100,'1추총괄표(위원회)'!$A21,'1추일입'!$B$6:$B$100,'1추총괄표(위원회)'!$C21) -> 0 | F21: =D21-E21 -> 0 | G21: =SUMIFS('1추일입'!J$6:J$100,'1추일입'!$A$6:$A$100,'1추총괄표(위원회)'!$A21,'1추일입'!$B$6:$B$100,'1추총괄표(위원회)'!$C21) -> 0 | H21: =SUMIFS('1추일입'!K$6:K$100,'1추일입'!$A$6:$A$100,'1추총괄표(위원회)'!$A21,'1추일입'!$B$6:$B$100,'1추총괄표(위원회)'!$C21) -> 0 | I21: =SUMIFS('1추일입'!L$6:L$100,'1추일입'!$A$6:$A$100,'1추총괄표(위원회)'!$A21,'1추일입'!$B$6:$B$100,'1추총괄표(위원회)'!$C21) -> 0 | J21: =SUMIFS('1추일입'!V$6:V$100,'1추일입'!$A$6:$A$100,'1추총괄표(위원회)'!$A21,'1추일입'!$B$6:$B$100,'1추총괄표(위원회)'!$C21) -> 0 | K21: =SUMIFS('1추일입'!W$6:W$100,'1추일입'!$A$6:$A$100,'1추총괄표(위원회)'!$A21,'1추일입'!$B$6:$B$100,'1추총괄표(위원회)'!$C21) -> 0 | L21: =SUMIFS('1추일입'!M$6:M$100,'1추일입'!$A$6:$A$100,'1추총괄표(위원회)'!$A21,'1추일입'!$B$6:$B$100,'1추총괄표(위원회)'!$C21) -> 0 | M21: =SUMIFS('1추일입'!N$6:N$100,'1추일입'!$A$6:$A$100,'1추총괄표(위원회)'!$A21,'1추일입'!$B$6:$B$100,'1추총괄표(위원회)'!$C21) -> 0 | N21: =SUMIFS('1추일입'!O$6:O$100,'1추일입'!$A$6:$A$100,'1추총괄표(위원회)'!$A21,'1추일입'!$B$6:$B$100,'1추총괄표(위원회)'!$C21) -> 0 | O21: =SUMIFS('1추일입'!AA$6:AA$100,'1추일입'!$A$6:$A$100,'1추총괄표(위원회)'!$A21,'1추일입'!$B$6:$B$100,'1추총괄표(위원회)'!$C21) -> 0 | P21: =SUMIFS('1추일입'!AB$6:AB$100,'1추일입'!$A$6:$A$100,'1추총괄표(위원회)'!$A21,'1추일입'!$B$6:$B$100,'1추총괄표(위원회)'!$C21) -> 0 | R21: =SUMIFS('1추일출'!G$6:G$14,'1추일출'!$A$6:$A$14,'1추총괄표(위원회)'!$A21,'1추일출'!$B$6:$B$14,'1추총괄표(위원회)'!$C21) -> 0 | S21: =SUMIFS('1추일출'!H$6:H$14,'1추일출'!$A$6:$A$14,'1추총괄표(위원회)'!$A21,'1추일출'!$B$6:$B$14,'1추총괄표(위원회)'!$C21) -> 0 | T21: =R21-S21 -> 0 | U21: =SUMIFS('1추일출'!J$6:J$14,'1추일출'!$A$6:$A$14,'1추총괄표(위원회)'!$A21,'1추일출'!$B$6:$B$14,'1추총괄표(위원회)'!$C21) -> 0 | V21: =SUMIFS('1추일출'!K$6:K$14,'1추일출'!$A$6:$A$14,'1추총괄표(위원회)'!$A21,'1추일출'!$B$6:$B$14,'1추총괄표(위원회)'!$C21) -> 0 | W21: =SUMIFS('1추일출'!L$6:L$14,'1추일출'!$A$6:$A$14,'1추총괄표(위원회)'!$A21,'1추일출'!$B$6:$B$14,'1추총괄표(위원회)'!$C21) -> 0 | X21: =SUMIFS('1추일출'!V$6:V$14,'1추일출'!$A$6:$A$14,'1추총괄표(위원회)'!$A21,'1추일출'!$B$6:$B$14,'1추총괄표(위원회)'!$C21) -> 0 | Y21: =SUMIFS('1추일출'!W$6:W$14,'1추일출'!$A$6:$A$14,'1추총괄표(위원회)'!$A21,'1추일출'!$B$6:$B$14,'1추총괄표(위원회)'!$C21) -> 0 | Z21: =SUMIFS('1추일출'!M$6:M$14,'1추일출'!$A$6:$A$14,'1추총괄표(위원회)'!$A21,'1추일출'!$B$6:$B$14,'1추총괄표(위원회)'!$C21) -> 0 | AA21: =SUMIFS('1추일출'!N$6:N$14,'1추일출'!$A$6:$A$14,'1추총괄표(위원회)'!$A21,'1추일출'!$B$6:$B$14,'1추총괄표(위원회)'!$C21) -> 0 | AB21: =SUMIFS('1추일출'!O$6:O$14,'1추일출'!$A$6:$A$14,'1추총괄표(위원회)'!$A21,'1추일출'!$B$6:$B$14,'1추총괄표(위원회)'!$C21) -> 0 | AC21: =SUMIFS('1추일출'!AA$6:AA$14,'1추일출'!$A$6:$A$14,'1추총괄표(위원회)'!$A21,'1추일출'!$B$6:$B$14,'1추총괄표(위원회)'!C$9) -> 0 | AD21: =SUMIFS('1추일출'!AB$6:AB$14,'1추일출'!$A$6:$A$14,'1추총괄표(위원회)'!$A21,'1추일출'!$B$6:$B$14,'1추총괄표(위원회)'!D$9) -> 0 | AF21: =IF(J21=X21,"OK","@@") -> OK | AG21: =J21-X21 -> 0 | AH21: =IF(O21=AC21,"OK","@@") -> OK | AI21: =O21-AC21 -> 0
A22: 경제과학기술위원회 | C22: 따복공동체지원단 | D22: =SUMIFS('1추일입'!G$6:G$100,'1추일입'!$A$6:$A$100,'1추총괄표(위원회)'!$A22,'1추일입'!$B$6:$B$100,'1추총괄표(위원회)'!$C22) -> 0 | E22: =SUMIFS('1추일입'!H$6:H$100,'1추일입'!$A$6:$A$100,'1추총괄표(위원회)'!$A22,'1추일입'!$B$6:$B$100,'1추총괄표(위원회)'!$C22) -> 0 | F22: =D22-E22 -> 0 | G22: =SUMIFS('1추일입'!J$6:J$100,'1추일입'!$A$6:$A$100,'1추총괄표(위원회)'!$A22,'1추일입'!$B$6:$B$100,'1추총괄표(위원회)'!$C22) -> 0 | H22: =SUMIFS('1추일입'!K$6:K$100,'1추일입'!$A$6:$A$100,'1추총괄표(위원회)'!$A22,'1추일입'!$B$6:$B$100,'1추총괄표(위원회)'!$C22) -> 0 | I22: =SUMIFS('1추일입'!L$6:L$100,'1추일입'!$A$6:$A$100,'1추총괄표(위원회)'!$A22,'1추일입'!$B$6:$B$100,'1추총괄표(위원회)'!$C22) -> 0 | J22: =SUMIFS('1추일입'!V$6:V$100,'1추일입'!$A$6:$A$100,'1추총괄표(위원회)'!$A22,'1추일입'!$B$6:$B$100,'1추총괄표(위원회)'!$C22) -> 0 | K22: =SUMIFS('1추일입'!W$6:W$100,'1추일입'!$A$6:$A$100,'1추총괄표(위원회)'!$A22,'1추일입'!$B$6:$B$100,'1추총괄표(위원회)'!$C22) -> 0 | L22: =SUMIFS('1추일입'!M$6:M$100,'1추일입'!$A$6:$A$100,'1추총괄표(위원회)'!$A22,'1추일입'!$B$6:$B$100,'1추총괄표(위원회)'!$C22) -> 0 | M22: =SUMIFS('1추일입'!N$6:N$100,'1추일입'!$A$6:$A$100,'1추총괄표(위원회)'!$A22,'1추일입'!$B$6:$B$100,'1추총괄표(위원회)'!$C22) -> 0 | N22: =SUMIFS('1추일입'!O$6:O$100,'1추일입'!$A$6:$A$100,'1추총괄표(위원회)'!$A22,'1추일입'!$B$6:$B$100,'1추총괄표(위원회)'!$C22) -> 0 | O22: =SUMIFS('1추일입'!AA$6:AA$100,'1추일입'!$A$6:$A$100,'1추총괄표(위원회)'!$A22,'1추일입'!$B$6:$B$100,'1추총괄표(위원회)'!$C22) -> 0 | P22: =SUMIFS('1추일입'!AB$6:AB$100,'1추일입'!$A$6:$A$100,'1추총괄표(위원회)'!$A22,'1추일입'!$B$6:$B$100,'1추총괄표(위원회)'!$C22) -> 0 | R22: =SUMIFS('1추일출'!G$6:G$14,'1추일출'!$A$6:$A$14,'1추총괄표(위원회)'!$A22,'1추일출'!$B$6:$B$14,'1추총괄표(위원회)'!$C22) -> 0 | S22: =SUMIFS('1추일출'!H$6:H$14,'1추일출'!$A$6:$A$14,'1추총괄표(위원회)'!$A22,'1추일출'!$B$6:$B$14,'1추총괄표(위원회)'!$C22) -> 0 | T22: =R22-S22 -> 0 | U22: =SUMIFS('1추일출'!J$6:J$14,'1추일출'!$A$6:$A$14,'1추총괄표(위원회)'!$A22,'1추일출'!$B$6:$B$14,'1추총괄표(위원회)'!$C22) -> 0 | V22: =SUMIFS('1추일출'!K$6:K$14,'1추일출'!$A$6:$A$14,'1추총괄표(위원회)'!$A22,'1추일출'!$B$6:$B$14,'1추총괄표(위원회)'!$C22) -> 0 | W22: =SUMIFS('1추일출'!L$6:L$14,'1추일출'!$A$6:$A$14,'1추총괄표(위원회)'!$A22,'1추일출'!$B$6:$B$14,'1추총괄표(위원회)'!$C22) -> 0 | X22: =SUMIFS('1추일출'!V$6:V$14,'1추일출'!$A$6:$A$14,'1추총괄표(위원회)'!$A22,'1추일출'!$B$6:$B$14,'1추총괄표(위원회)'!$C22) -> 0 | Y22: =SUMIFS('1추일출'!W$6:W$14,'1추일출'!$A$6:$A$14,'1추총괄표(위원회)'!$A22,'1추일출'!$B$6:$B$14,'1추총괄표(위원회)'!$C22) -> 0 | Z22: =SUMIFS('1추일출'!M$6:M$14,'1추일출'!$A$6:$A$14,'1추총괄표(위원회)'!$A22,'1추일출'!$B$6:$B$14,'1추총괄표(위원회)'!$C22) -> 0 | AA22: =SUMIFS('1추일출'!N$6:N$14,'1추일출'!$A$6:$A$14,'1추총괄표(위원회)'!$A22,'1추일출'!$B$6:$B$14,'1추총괄표(위원회)'!$C22) -> 0 | AB22: =SUMIFS('1추일출'!O$6:O$14,'1추일출'!$A$6:$A$14,'1추총괄표(위원회)'!$A22,'1추일출'!$B$6:$B$14,'1추총괄표(위원회)'!$C22) -> 0 | AC22: =SUMIFS('1추일출'!AA$6:AA$14,'1추일출'!$A$6:$A$14,'1추총괄표(위원회)'!$A22,'1추일출'!$B$6:$B$14,'1추총괄표(위원회)'!C$9) -> 0 | AD22: =SUMIFS('1추일출'!AB$6:AB$14,'1추일출'!$A$6:$A$14,'1추총괄표(위원회)'!$A22,'1추일출'!$B$6:$B$14,'1추총괄표(위원회)'!D$9) -> 0 | AF22: =IF(J22=X22,"OK","@@") -> OK | AG22: =J22-X22 -> 0 | AH22: =IF(O22=AC22,"OK","@@") -> OK | AI22: =O22-AC22 -> 0
B23: 안전행정위원회 | D23: =SUM(D24:D27) -> 0 | E23: =SUM(E24:E27) -> 0 | F23: =SUM(F24:F27) -> 0 | G23: =SUM(G24:G27) -> 0 | H23: =SUM(H24:H27) -> 0 | I23: =SUM(I24:I27) -> 0 | J23: =SUM(J24:J27) -> 0 | K23: =SUM(K24:K27) -> 0 | ... P23: =SUM(P24:P27) -> 0 | R23: =SUM(R24:R27) -> 0 | S23: =SUM(S24:S27) -> 0 | T23: =SUM(T24:T27) -> 0 | U23: =SUM(U24:U27) -> 0 | V23: =SUM(V24:V27) -> 0 | W23: =SUM(W24:W27) -> 0 | X23: =SUM(X24:X27) -> 0 | Y23: =SUM(Y24:Y27) -> 0 | ... AD23: =SUM(AD24:AD27) -> 0 | AF23: =IF(J23=X23,"OK","@@") -> OK | AG23: =J23-X23 -> 0 | AH23: =IF(O23=AC23,"OK","@@") -> OK | AI23: =O23-AC23 -> 0
A24: 안전행정위원회 | C24: 자치행정국 | D24: =SUMIFS('1추일입'!G$6:G$100,'1추일입'!$A$6:$A$100,'1추총괄표(위원회)'!$A24,'1추일입'!$B$6:$B$100,'1추총괄표(위원회)'!$C24) -> 0 | E24: =SUMIFS('1추일입'!H$6:H$100,'1추일입'!$A$6:$A$100,'1추총괄표(위원회)'!$A24,'1추일입'!$B$6:$B$100,'1추총괄표(위원회)'!$C24) -> 0 | F24: =D24-E24 -> 0 | G24: =SUMIFS('1추일입'!J$6:J$100,'1추일입'!$A$6:$A$100,'1추총괄표(위원회)'!$A24,'1추일입'!$B$6:$B$100,'1추총괄표(위원회)'!$C24) -> 0 | H24: =SUMIFS('1추일입'!K$6:K$100,'1추일입'!$A$6:$A$100,'1추총괄표(위원회)'!$A24,'1추일입'!$B$6:$B$100,'1추총괄표(위원회)'!$C24) -> 0 | I24: =SUMIFS('1추일입'!L$6:L$100,'1추일입'!$A$6:$A$100,'1추총괄표(위원회)'!$A24,'1추일입'!$B$6:$B$100,'1추총괄표(위원회)'!$C24) -> 0 | J24: =SUMIFS('1추일입'!V$6:V$100,'1추일입'!$A$6:$A$100,'1추총괄표(위원회)'!$A24,'1추일입'!$B$6:$B$100,'1추총괄표(위원회)'!$C24) -> 0 | K24: =SUMIFS('1추일입'!W$6:W$100,'1추일입'!$A$6:$A$100,'1추총괄표(위원회)'!$A24,'1추일입'!$B$6:$B$100,'1추총괄표(위원회)'!$C24) -> 0 | L24: =SUMIFS('1추일입'!M$6:M$100,'1추일입'!$A$6:$A$100,'1추총괄표(위원회)'!$A24,'1추일입'!$B$6:$B$100,'1추총괄표(위원회)'!$C24) -> 0 | M24: =SUMIFS('1추일입'!N$6:N$100,'1추일입'!$A$6:$A$100,'1추총괄표(위원회)'!$A24,'1추일입'!$B$6:$B$100,'1추총괄표(위원회)'!$C24) -> 0 | N24: =SUMIFS('1추일입'!O$6:O$100,'1추일입'!$A$6:$A$100,'1추총괄표(위원회)'!$A24,'1추일입'!$B$6:$B$100,'1추총괄표(위원회)'!$C24) -> 0 | O24: =SUMIFS('1추일입'!AA$6:AA$100,'1추일입'!$A$6:$A$100,'1추총괄표(위원회)'!$A24,'1추일입'!$B$6:$B$100,'1추총괄표(위원회)'!$C24) -> 0 | P24: =SUMIFS('1추일입'!AB$6:AB$100,'1추일입'!$A$6:$A$100,'1추총괄표(위원회)'!$A24,'1추일입'!$B$6:$B$100,'1추총괄표(위원회)'!$C24) -> 0 | R24: =SUMIFS('1추일출'!G$6:G$14,'1추일출'!$A$6:$A$14,'1추총괄표(위원회)'!$A24,'1추일출'!$B$6:$B$14,'1추총괄표(위원회)'!$C24) -> 0 | S24: =SUMIFS('1추일출'!H$6:H$14,'1추일출'!$A$6:$A$14,'1추총괄표(위원회)'!$A24,'1추일출'!$B$6:$B$14,'1추총괄표(위원회)'!$C24) -> 0 | T24: =R24-S24 -> 0 | U24: =SUMIFS('1추일출'!J$6:J$14,'1추일출'!$A$6:$A$14,'1추총괄표(위원회)'!$A24,'1추일출'!$B$6:$B$14,'1추총괄표(위원회)'!$C24) -> 0 | V24: =SUMIFS('1추일출'!K$6:K$14,'1추일출'!$A$6:$A$14,'1추총괄표(위원회)'!$A24,'1추일출'!$B$6:$B$14,'1추총괄표(위원회)'!$C24) -> 0 | W24: =SUMIFS('1추일출'!L$6:L$14,'1추일출'!$A$6:$A$14,'1추총괄표(위원회)'!$A24,'1추일출'!$B$6:$B$14,'1추총괄표(위원회)'!$C24) -> 0 | X24: =SUMIFS('1추일출'!V$6:V$14,'1추일출'!$A$6:$A$14,'1추총괄표(위원회)'!$A24,'1추일출'!$B$6:$B$14,'1추총괄표(위원회)'!$C24) -> 0 | Y24: =SUMIFS('1추일출'!W$6:W$14,'1추일출'!$A$6:$A$14,'1추총괄표(위원회)'!$A24,'1추일출'!$B$6:$B$14,'1추총괄표(위원회)'!$C24) -> 0 | Z24: =SUMIFS('1추일출'!M$6:M$14,'1추일출'!$A$6:$A$14,'1추총괄표(위원회)'!$A24,'1추일출'!$B$6:$B$14,'1추총괄표(위원회)'!$C24) -> 0 | AA24: =SUMIFS('1추일출'!N$6:N$14,'1추일출'!$A$6:$A$14,'1추총괄표(위원회)'!$A24,'1추일출'!$B$6:$B$14,'1추총괄표(위원회)'!$C24) -> 0 | AB24: =SUMIFS('1추일출'!O$6:O$14,'1추일출'!$A$6:$A$14,'1추총괄표(위원회)'!$A24,'1추일출'!$B$6:$B$14,'1추총괄표(위원회)'!$C24) -> 0 | AC24: =SUMIFS('1추일출'!AA$6:AA$14,'1추일출'!$A$6:$A$14,'1추총괄표(위원회)'!$A24,'1추일출'!$B$6:$B$14,'1추총괄표(위원회)'!C$9) -> 0 | AD24: =SUMIFS('1추일출'!AB$6:AB$14,'1추일출'!$A$6:$A$14,'1추총괄표(위원회)'!$A24,'1추일출'!$B$6:$B$14,'1추총괄표(위원회)'!D$9) -> 0 | AF24: =IF(J24=X24,"OK","@@") -> OK | AG24: =J24-X24 -> 0 | AH24: =IF(O24=AC24,"OK","@@") -> OK | AI24: =O24-AC24 -> 0
A25: 안전행정위원회 | C25: 재난안전본부 | D25: =SUMIFS('1추일입'!G$6:G$100,'1추일입'!$A$6:$A$100,'1추총괄표(위원회)'!$A25,'1추일입'!$B$6:$B$100,'1추총괄표(위원회)'!$C25) -> 0 | E25: =SUMIFS('1추일입'!H$6:H$100,'1추일입'!$A$6:$A$100,'1추총괄표(위원회)'!$A25,'1추일입'!$B$6:$B$100,'1추총괄표(위원회)'!$C25) -> 0 | F25: =D25-E25 -> 0 | G25: =SUMIFS('1추일입'!J$6:J$100,'1추일입'!$A$6:$A$100,'1추총괄표(위원회)'!$A25,'1추일입'!$B$6:$B$100,'1추총괄표(위원회)'!$C25) -> 0 | H25: =SUMIFS('1추일입'!K$6:K$100,'1추일입'!$A$6:$A$100,'1추총괄표(위원회)'!$A25,'1추일입'!$B$6:$B$100,'1추총괄표(위원회)'!$C25) -> 0 | I25: =SUMIFS('1추일입'!L$6:L$100,'1추일입'!$A$6:$A$100,'1추총괄표(위원회)'!$A25,'1추일입'!$B$6:$B$100,'1추총괄표(위원회)'!$C25) -> 0 | J25: =SUMIFS('1추일입'!V$6:V$100,'1추일입'!$A$6:$A$100,'1추총괄표(위원회)'!$A25,'1추일입'!$B$6:$B$100,'1추총괄표(위원회)'!$C25) -> 0 | K25: =SUMIFS('1추일입'!W$6:W$100,'1추일입'!$A$6:$A$100,'1추총괄표(위원회)'!$A25,'1추일입'!$B$6:$B$100,'1추총괄표(위원회)'!$C25) -> 0 | L25: =SUMIFS('1추일입'!M$6:M$100,'1추일입'!$A$6:$A$100,'1추총괄표(위원회)'!$A25,'1추일입'!$B$6:$B$100,'1추총괄표(위원회)'!$C25) -> 0 | M25: =SUMIFS('1추일입'!N$6:N$100,'1추일입'!$A$6:$A$100,'1추총괄표(위원회)'!$A25,'1추일입'!$B$6:$B$100,'1추총괄표(위원회)'!$C25) -> 0 | N25: =SUMIFS('1추일입'!O$6:O$100,'1추일입'!$A$6:$A$100,'1추총괄표(위원회)'!$A25,'1추일입'!$B$6:$B$100,'1추총괄표(위원회)'!$C25) -> 0 | O25: =SUMIFS('1추일입'!AA$6:AA$100,'1추일입'!$A$6:$A$100,'1추총괄표(위원회)'!$A25,'1추일입'!$B$6:$B$100,'1추총괄표(위원회)'!$C25) -> 0 | P25: =SUMIFS('1추일입'!AB$6:AB$100,'1추일입'!$A$6:$A$100,'1추총괄표(위원회)'!$A25,'1추일입'!$B$6:$B$100,'1추총괄표(위원회)'!$C25) -> 0 | R25: =SUMIFS('1추일출'!G$6:G$14,'1추일출'!$A$6:$A$14,'1추총괄표(위원회)'!$A25,'1추일출'!$B$6:$B$14,'1추총괄표(위원회)'!$C25) -> 0 | S25: =SUMIFS('1추일출'!H$6:H$14,'1추일출'!$A$6:$A$14,'1추총괄표(위원회)'!$A25,'1추일출'!$B$6:$B$14,'1추총괄표(위원회)'!$C25) -> 0 | T25: =R25-S25 -> 0 | U25: =SUMIFS('1추일출'!J$6:J$14,'1추일출'!$A$6:$A$14,'1추총괄표(위원회)'!$A25,'1추일출'!$B$6:$B$14,'1추총괄표(위원회)'!$C25) -> 0 | V25: =SUMIFS('1추일출'!K$6:K$14,'1추일출'!$A$6:$A$14,'1추총괄표(위원회)'!$A25,'1추일출'!$B$6:$B$14,'1추총괄표(위원회)'!$C25) -> 0 | W25: =SUMIFS('1추일출'!L$6:L$14,'1추일출'!$A$6:$A$14,'1추총괄표(위원회)'!$A25,'1추일출'!$B$6:$B$14,'1추총괄표(위원회)'!$C25) -> 0 | X25: =SUMIFS('1추일출'!V$6:V$14,'1추일출'!$A$6:$A$14,'1추총괄표(위원회)'!$A25,'1추일출'!$B$6:$B$14,'1추총괄표(위원회)'!$C25) -> 0 | Y25: =SUMIFS('1추일출'!W$6:W$14,'1추일출'!$A$6:$A$14,'1추총괄표(위원회)'!$A25,'1추일출'!$B$6:$B$14,'1추총괄표(위원회)'!$C25) -> 0 | Z25: =SUMIFS('1추일출'!M$6:M$14,'1추일출'!$A$6:$A$14,'1추총괄표(위원회)'!$A25,'1추일출'!$B$6:$B$14,'1추총괄표(위원회)'!$C25) -> 0 | AA25: =SUMIFS('1추일출'!N$6:N$14,'1추일출'!$A$6:$A$14,'1추총괄표(위원회)'!$A25,'1추일출'!$B$6:$B$14,'1추총괄표(위원회)'!$C25) -> 0 | AB25: =SUMIFS('1추일출'!O$6:O$14,'1추일출'!$A$6:$A$14,'1추총괄표(위원회)'!$A25,'1추일출'!$B$6:$B$14,'1추총괄표(위원회)'!$C25) -> 0 | AC25: =SUMIFS('1추일출'!AA$6:AA$14,'1추일출'!$A$6:$A$14,'1추총괄표(위원회)'!$A25,'1추일출'!$B$6:$B$14,'1추총괄표(위원회)'!C$9) -> 0 | AD25: =SUMIFS('1추일출'!AB$6:AB$14,'1추일출'!$A$6:$A$14,'1추총괄표(위원회)'!$A25,'1추일출'!$B$6:$B$14,'1추총괄표(위원회)'!D$9) -> 0 | AF25: =IF(J25=X25,"OK","@@") -> OK | AG25: =J25-X25 -> 0 | AH25: =IF(O25=AC25,"OK","@@") -> OK | AI25: =O25-AC25 -> 0
A26: 안전행정위원회 | C26: 균형발전기획실 | D26: =SUMIFS('1추일입'!G$6:G$100,'1추일입'!$A$6:$A$100,'1추총괄표(위원회)'!$A26,'1추일입'!$B$6:$B$100,'1추총괄표(위원회)'!$C26) -> 0 | E26: =SUMIFS('1추일입'!H$6:H$100,'1추일입'!$A$6:$A$100,'1추총괄표(위원회)'!$A26,'1추일입'!$B$6:$B$100,'1추총괄표(위원회)'!$C26) -> 0 | F26: =D26-E26 -> 0 | G26: =SUMIFS('1추일입'!J$6:J$100,'1추일입'!$A$6:$A$100,'1추총괄표(위원회)'!$A26,'1추일입'!$B$6:$B$100,'1추총괄표(위원회)'!$C26) -> 0 | H26: =SUMIFS('1추일입'!K$6:K$100,'1추일입'!$A$6:$A$100,'1추총괄표(위원회)'!$A26,'1추일입'!$B$6:$B$100,'1추총괄표(위원회)'!$C26) -> 0 | I26: =SUMIFS('1추일입'!L$6:L$100,'1추일입'!$A$6:$A$100,'1추총괄표(위원회)'!$A26,'1추일입'!$B$6:$B$100,'1추총괄표(위원회)'!$C26) -> 0 | J26: =SUMIFS('1추일입'!V$6:V$100,'1추일입'!$A$6:$A$100,'1추총괄표(위원회)'!$A26,'1추일입'!$B$6:$B$100,'1추총괄표(위원회)'!$C26) -> 0 | K26: =SUMIFS('1추일입'!W$6:W$100,'1추일입'!$A$6:$A$100,'1추총괄표(위원회)'!$A26,'1추일입'!$B$6:$B$100,'1추총괄표(위원회)'!$C26) -> 0 | L26: =SUMIFS('1추일입'!M$6:M$100,'1추일입'!$A$6:$A$100,'1추총괄표(위원회)'!$A26,'1추일입'!$B$6:$B$100,'1추총괄표(위원회)'!$C26) -> 0 | M26: =SUMIFS('1추일입'!N$6:N$100,'1추일입'!$A$6:$A$100,'1추총괄표(위원회)'!$A26,'1추일입'!$B$6:$B$100,'1추총괄표(위원회)'!$C26) -> 0 | N26: =SUMIFS('1추일입'!O$6:O$100,'1추일입'!$A$6:$A$100,'1추총괄표(위원회)'!$A26,'1추일입'!$B$6:$B$100,'1추총괄표(위원회)'!$C26) -> 0 | O26: =SUMIFS('1추일입'!AA$6:AA$100,'1추일입'!$A$6:$A$100,'1추총괄표(위원회)'!$A26,'1추일입'!$B$6:$B$100,'1추총괄표(위원회)'!$C26) -> 0 | P26: =SUMIFS('1추일입'!AB$6:AB$100,'1추일입'!$A$6:$A$100,'1추총괄표(위원회)'!$A26,'1추일입'!$B$6:$B$100,'1추총괄표(위원회)'!$C26) -> 0 | R26: =SUMIFS('1추일출'!G$6:G$14,'1추일출'!$A$6:$A$14,'1추총괄표(위원회)'!$A26,'1추일출'!$B$6:$B$14,'1추총괄표(위원회)'!$C26) -> 0 | S26: =SUMIFS('1추일출'!H$6:H$14,'1추일출'!$A$6:$A$14,'1추총괄표(위원회)'!$A26,'1추일출'!$B$6:$B$14,'1추총괄표(위원회)'!$C26) -> 0 | T26: =R26-S26 -> 0 | U26: =SUMIFS('1추일출'!J$6:J$14,'1추일출'!$A$6:$A$14,'1추총괄표(위원회)'!$A26,'1추일출'!$B$6:$B$14,'1추총괄표(위원회)'!$C26) -> 0 | V26: =SUMIFS('1추일출'!K$6:K$14,'1추일출'!$A$6:$A$14,'1추총괄표(위원회)'!$A26,'1추일출'!$B$6:$B$14,'1추총괄표(위원회)'!$C26) -> 0 | W26: =SUMIFS('1추일출'!L$6:L$14,'1추일출'!$A$6:$A$14,'1추총괄표(위원회)'!$A26,'1추일출'!$B$6:$B$14,'1추총괄표(위원회)'!$C26) -> 0 | X26: =SUMIFS('1추일출'!V$6:V$14,'1추일출'!$A$6:$A$14,'1추총괄표(위원회)'!$A26,'1추일출'!$B$6:$B$14,'1추총괄표(위원회)'!$C26) -> 0 | Y26: =SUMIFS('1추일출'!W$6:W$14,'1추일출'!$A$6:$A$14,'1추총괄표(위원회)'!$A26,'1추일출'!$B$6:$B$14,'1추총괄표(위원회)'!$C26) -> 0 | Z26: =SUMIFS('1추일출'!M$6:M$14,'1추일출'!$A$6:$A$14,'1추총괄표(위원회)'!$A26,'1추일출'!$B$6:$B$14,'1추총괄표(위원회)'!$C26) -> 0 | AA26: =SUMIFS('1추일출'!N$6:N$14,'1추일출'!$A$6:$A$14,'1추총괄표(위원회)'!$A26,'1추일출'!$B$6:$B$14,'1추총괄표(위원회)'!$C26) -> 0 | AB26: =SUMIFS('1추일출'!O$6:O$14,'1추일출'!$A$6:$A$14,'1추총괄표(위원회)'!$A26,'1추일출'!$B$6:$B$14,'1추총괄표(위원회)'!$C26) -> 0 | AC26: =SUMIFS('1추일출'!AA$6:AA$14,'1추일출'!$A$6:$A$14,'1추총괄표(위원회)'!$A26,'1추일출'!$B$6:$B$14,'1추총괄표(위원회)'!C$9) -> 0 | AD26: =SUMIFS('1추일출'!AB$6:AB$14,'1추일출'!$A$6:$A$14,'1추총괄표(위원회)'!$A26,'1추일출'!$B$6:$B$14,'1추총괄표(위원회)'!D$9) -> 0 | AF26: =IF(J26=X26,"OK","@@") -> OK | AG26: =J26-X26 -> 0 | AH26: =IF(O26=AC26,"OK","@@") -> OK | AI26: =O26-AC26 -> 0
A27: 안전행정위원회 | C27: 인재개발원 | D27: =SUMIFS('1추일입'!G$6:G$100,'1추일입'!$A$6:$A$100,'1추총괄표(위원회)'!$A27,'1추일입'!$B$6:$B$100,'1추총괄표(위원회)'!$C27) -> 0 | E27: =SUMIFS('1추일입'!H$6:H$100,'1추일입'!$A$6:$A$100,'1추총괄표(위원회)'!$A27,'1추일입'!$B$6:$B$100,'1추총괄표(위원회)'!$C27) -> 0 | F27: =D27-E27 -> 0 | G27: =SUMIFS('1추일입'!J$6:J$100,'1추일입'!$A$6:$A$100,'1추총괄표(위원회)'!$A27,'1추일입'!$B$6:$B$100,'1추총괄표(위원회)'!$C27) -> 0 | H27: =SUMIFS('1추일입'!K$6:K$100,'1추일입'!$A$6:$A$100,'1추총괄표(위원회)'!$A27,'1추일입'!$B$6:$B$100,'1추총괄표(위원회)'!$C27) -> 0 | I27: =SUMIFS('1추일입'!L$6:L$100,'1추일입'!$A$6:$A$100,'1추총괄표(위원회)'!$A27,'1추일입'!$B$6:$B$100,'1추총괄표(위원회)'!$C27) -> 0 | J27: =SUMIFS('1추일입'!V$6:V$100,'1추일입'!$A$6:$A$100,'1추총괄표(위원회)'!$A27,'1추일입'!$B$6:$B$100,'1추총괄표(위원회)'!$C27) -> 0 | K27: =SUMIFS('1추일입'!W$6:W$100,'1추일입'!$A$6:$A$100,'1추총괄표(위원회)'!$A27,'1추일입'!$B$6:$B$100,'1추총괄표(위원회)'!$C27) -> 0 | L27: =SUMIFS('1추일입'!M$6:M$100,'1추일입'!$A$6:$A$100,'1추총괄표(위원회)'!$A27,'1추일입'!$B$6:$B$100,'1추총괄표(위원회)'!$C27) -> 0 | M27: =SUMIFS('1추일입'!N$6:N$100,'1추일입'!$A$6:$A$100,'1추총괄표(위원회)'!$A27,'1추일입'!$B$6:$B$100,'1추총괄표(위원회)'!$C27) -> 0 | N27: =SUMIFS('1추일입'!O$6:O$100,'1추일입'!$A$6:$A$100,'1추총괄표(위원회)'!$A27,'1추일입'!$B$6:$B$100,'1추총괄표(위원회)'!$C27) -> 0 | O27: =SUMIFS('1추일입'!AA$6:AA$100,'1추일입'!$A$6:$A$100,'1추총괄표(위원회)'!$A27,'1추일입'!$B$6:$B$100,'1추총괄표(위원회)'!$C27) -> 0 | P27: =SUMIFS('1추일입'!AB$6:AB$100,'1추일입'!$A$6:$A$100,'1추총괄표(위원회)'!$A27,'1추일입'!$B$6:$B$100,'1추총괄표(위원회)'!$C27) -> 0 | R27: =SUMIFS('1추일출'!G$6:G$14,'1추일출'!$A$6:$A$14,'1추총괄표(위원회)'!$A27,'1추일출'!$B$6:$B$14,'1추총괄표(위원회)'!$C27) -> 0 | S27: =SUMIFS('1추일출'!H$6:H$14,'1추일출'!$A$6:$A$14,'1추총괄표(위원회)'!$A27,'1추일출'!$B$6:$B$14,'1추총괄표(위원회)'!$C27) -> 0 | T27: =R27-S27 -> 0 | U27: =SUMIFS('1추일출'!J$6:J$14,'1추일출'!$A$6:$A$14,'1추총괄표(위원회)'!$A27,'1추일출'!$B$6:$B$14,'1추총괄표(위원회)'!$C27) -> 0 | V27: =SUMIFS('1추일출'!K$6:K$14,'1추일출'!$A$6:$A$14,'1추총괄표(위원회)'!$A27,'1추일출'!$B$6:$B$14,'1추총괄표(위원회)'!$C27) -> 0 | W27: =SUMIFS('1추일출'!L$6:L$14,'1추일출'!$A$6:$A$14,'1추총괄표(위원회)'!$A27,'1추일출'!$B$6:$B$14,'1추총괄표(위원회)'!$C27) -> 0 | X27: =SUMIFS('1추일출'!V$6:V$14,'1추일출'!$A$6:$A$14,'1추총괄표(위원회)'!$A27,'1추일출'!$B$6:$B$14,'1추총괄표(위원회)'!$C27) -> 0 | Y27: =SUMIFS('1추일출'!W$6:W$14,'1추일출'!$A$6:$A$14,'1추총괄표(위원회)'!$A27,'1추일출'!$B$6:$B$14,'1추총괄표(위원회)'!$C27) -> 0 | Z27: =SUMIFS('1추일출'!M$6:M$14,'1추일출'!$A$6:$A$14,'1추총괄표(위원회)'!$A27,'1추일출'!$B$6:$B$14,'1추총괄표(위원회)'!$C27) -> 0 | AA27: =SUMIFS('1추일출'!N$6:N$14,'1추일출'!$A$6:$A$14,'1추총괄표(위원회)'!$A27,'1추일출'!$B$6:$B$14,'1추총괄표(위원회)'!$C27) -> 0 | AB27: =SUMIFS('1추일출'!O$6:O$14,'1추일출'!$A$6:$A$14,'1추총괄표(위원회)'!$A27,'1추일출'!$B$6:$B$14,'1추총괄표(위원회)'!$C27) -> 0 | AC27: =SUMIFS('1추일출'!AA$6:AA$14,'1추일출'!$A$6:$A$14,'1추총괄표(위원회)'!$A27,'1추일출'!$B$6:$B$14,'1추총괄표(위원회)'!C$9) -> 0 | AD27: =SUMIFS('1추일출'!AB$6:AB$14,'1추일출'!$A$6:$A$14,'1추총괄표(위원회)'!$A27,'1추일출'!$B$6:$B$14,'1추총괄표(위원회)'!D$9) -> 0 | AF27: =IF(J27=X27,"OK","@@") -> OK | AG27: =J27-X27 -> 0 | AH27: =IF(O27=AC27,"OK","@@") -> OK | AI27: =O27-AC27 -> 0
B28: 문화체육관광위원회 | D28: =SUM(D29) -> 0 | E28: =SUM(E29) -> 0 | F28: =SUM(F29) -> 0 | G28: =SUM(G29) -> 0 | H28: =SUM(H29) -> 0 | I28: =SUM(I29) -> 0 | J28: =SUM(J29) -> 0 | K28: =SUM(K29) -> 0 | ... P28: =SUM(P29) -> 0 | R28: =SUM(R29) -> 0 | S28: =SUM(S29) -> 0 | T28: =SUM(T29) -> 0 | U28: =SUM(U29) -> 0 | V28: =SUM(V29) -> 0 | W28: =SUM(W29) -> 0 | X28: =SUM(X29) -> 0 | Y28: =SUM(Y29) -> 0 | ... AD28: =SUM(AD29) -> 0 | AF28: =IF(J28=X28,"OK","@@") -> OK | AG28: =J28-X28 -> 0 | AH28: =IF(O28=AC28,"OK","@@") -> OK | AI28: =O28-AC28 -> 0
A29: 문화체육관광위원회 | C29: 문화체육관광국 | D29: =SUMIFS('1추일입'!G$6:G$100,'1추일입'!$A$6:$A$100,'1추총괄표(위원회)'!$A29,'1추일입'!$B$6:$B$100,'1추총괄표(위원회)'!$C29) -> 0 | E29: =SUMIFS('1추일입'!H$6:H$100,'1추일입'!$A$6:$A$100,'1추총괄표(위원회)'!$A29,'1추일입'!$B$6:$B$100,'1추총괄표(위원회)'!$C29) -> 0 | F29: =D29-E29 -> 0 | G29: =SUMIFS('1추일입'!J$6:J$100,'1추일입'!$A$6:$A$100,'1추총괄표(위원회)'!$A29,'1추일입'!$B$6:$B$100,'1추총괄표(위원회)'!$C29) -> 0 | H29: =SUMIFS('1추일입'!K$6:K$100,'1추일입'!$A$6:$A$100,'1추총괄표(위원회)'!$A29,'1추일입'!$B$6:$B$100,'1추총괄표(위원회)'!$C29) -> 0 | I29: =SUMIFS('1추일입'!L$6:L$100,'1추일입'!$A$6:$A$100,'1추총괄표(위원회)'!$A29,'1추일입'!$B$6:$B$100,'1추총괄표(위원회)'!$C29) -> 0 | J29: =SUMIFS('1추일입'!V$6:V$100,'1추일입'!$A$6:$A$100,'1추총괄표(위원회)'!$A29,'1추일입'!$B$6:$B$100,'1추총괄표(위원회)'!$C29) -> 0 | K29: =SUMIFS('1추일입'!W$6:W$100,'1추일입'!$A$6:$A$100,'1추총괄표(위원회)'!$A29,'1추일입'!$B$6:$B$100,'1추총괄표(위원회)'!$C29) -> 0 | L29: =SUMIFS('1추일입'!M$6:M$100,'1추일입'!$A$6:$A$100,'1추총괄표(위원회)'!$A29,'1추일입'!$B$6:$B$100,'1추총괄표(위원회)'!$C29) -> 0 | M29: =SUMIFS('1추일입'!N$6:N$100,'1추일입'!$A$6:$A$100,'1추총괄표(위원회)'!$A29,'1추일입'!$B$6:$B$100,'1추총괄표(위원회)'!$C29) -> 0 | N29: =SUMIFS('1추일입'!O$6:O$100,'1추일입'!$A$6:$A$100,'1추총괄표(위원회)'!$A29,'1추일입'!$B$6:$B$100,'1추총괄표(위원회)'!$C29) -> 0 | O29: =SUMIFS('1추일입'!AA$6:AA$100,'1추일입'!$A$6:$A$100,'1추총괄표(위원회)'!$A29,'1추일입'!$B$6:$B$100,'1추총괄표(위원회)'!$C29) -> 0 | P29: =SUMIFS('1추일입'!AB$6:AB$100,'1추일입'!$A$6:$A$100,'1추총괄표(위원회)'!$A29,'1추일입'!$B$6:$B$100,'1추총괄표(위원회)'!$C29) -> 0 | R29: =SUMIFS('1추일출'!G$6:G$14,'1추일출'!$A$6:$A$14,'1추총괄표(위원회)'!$A29,'1추일출'!$B$6:$B$14,'1추총괄표(위원회)'!$C29) -> 0 | S29: =SUMIFS('1추일출'!H$6:H$14,'1추일출'!$A$6:$A$14,'1추총괄표(위원회)'!$A29,'1추일출'!$B$6:$B$14,'1추총괄표(위원회)'!$C29) -> 0 | T29: =R29-S29 -> 0 | U29: =SUMIFS('1추일출'!J$6:J$14,'1추일출'!$A$6:$A$14,'1추총괄표(위원회)'!$A29,'1추일출'!$B$6:$B$14,'1추총괄표(위원회)'!$C29) -> 0 | V29: =SUMIFS('1추일출'!K$6:K$14,'1추일출'!$A$6:$A$14,'1추총괄표(위원회)'!$A29,'1추일출'!$B$6:$B$14,'1추총괄표(위원회)'!$C29) -> 0 | W29: =SUMIFS('1추일출'!L$6:L$14,'1추일출'!$A$6:$A$14,'1추총괄표(위원회)'!$A29,'1추일출'!$B$6:$B$14,'1추총괄표(위원회)'!$C29) -> 0 | X29: =SUMIFS('1추일출'!V$6:V$14,'1추일출'!$A$6:$A$14,'1추총괄표(위원회)'!$A29,'1추일출'!$B$6:$B$14,'1추총괄표(위원회)'!$C29) -> 0 | Y29: =SUMIFS('1추일출'!W$6:W$14,'1추일출'!$A$6:$A$14,'1추총괄표(위원회)'!$A29,'1추일출'!$B$6:$B$14,'1추총괄표(위원회)'!$C29) -> 0 | Z29: =SUMIFS('1추일출'!M$6:M$14,'1추일출'!$A$6:$A$14,'1추총괄표(위원회)'!$A29,'1추일출'!$B$6:$B$14,'1추총괄표(위원회)'!$C29) -> 0 | AA29: =SUMIFS('1추일출'!N$6:N$14,'1추일출'!$A$6:$A$14,'1추총괄표(위원회)'!$A29,'1추일출'!$B$6:$B$14,'1추총괄표(위원회)'!$C29) -> 0 | AB29: =SUMIFS('1추일출'!O$6:O$14,'1추일출'!$A$6:$A$14,'1추총괄표(위원회)'!$A29,'1추일출'!$B$6:$B$14,'1추총괄표(위원회)'!$C29) -> 0 | AC29: =SUMIFS('1추일출'!AA$6:AA$14,'1추일출'!$A$6:$A$14,'1추총괄표(위원회)'!$A29,'1추일출'!$B$6:$B$14,'1추총괄표(위원회)'!C$9) -> 0 | AD29: =SUMIFS('1추일출'!AB$6:AB$14,'1추일출'!$A$6:$A$14,'1추총괄표(위원회)'!$A29,'1추일출'!$B$6:$B$14,'1추총괄표(위원회)'!D$9) -> 0 | AF29: =IF(J29=X29,"OK","@@") -> OK | AG29: =J29-X29 -> 0 | AH29: =IF(O29=AC29,"OK","@@") -> OK | AI29: =O29-AC29 -> 0
B30: 농정해양위원회 | D30: =SUM(D31:D33) -> 0 | E30: =SUM(E31:E33) -> 0 | F30: =SUM(F31:F33) -> 0 | G30: =SUM(G31:G33) -> 0 | H30: =SUM(H31:H33) -> 0 | I30: =SUM(I31:I33) -> 0 | J30: =SUM(J31:J33) -> 0 | K30: =SUM(K31:K33) -> 0 | ... P30: =SUM(P31:P33) -> 0 | R30: =SUM(R31:R33) -> 8960000 | S30: =SUM(S31:S33) -> 0 | T30: =SUM(T31:T33) -> 8960000 | U30: =SUM(U31:U33) -> 0 | V30: =SUM(V31:V33) -> 5901000 | W30: =SUM(W31:W33) -> 14861000 | X30: =SUM(X31:X33) -> 5901000 | Y30: =SUM(Y31:Y33) -> 0 | ... AD30: =SUM(AD31:AD33) -> 0 | AF30: =IF(J30=X30,"OK","@@") -> @@ | AG30: =J30-X30 -> -5901000 | AH30: =IF(O30=AC30,"OK","@@") -> OK | AI30: =O30-AC30 -> 0
A31: 농정해양위원회 | C31: 농정해양국 | D31: =SUMIFS('1추일입'!G$6:G$100,'1추일입'!$A$6:$A$100,'1추총괄표(위원회)'!$A31,'1추일입'!$B$6:$B$100,'1추총괄표(위원회)'!$C31) -> 0 | E31: =SUMIFS('1추일입'!H$6:H$100,'1추일입'!$A$6:$A$100,'1추총괄표(위원회)'!$A31,'1추일입'!$B$6:$B$100,'1추총괄표(위원회)'!$C31) -> 0 | F31: =D31-E31 -> 0 | G31: =SUMIFS('1추일입'!J$6:J$100,'1추일입'!$A$6:$A$100,'1추총괄표(위원회)'!$A31,'1추일입'!$B$6:$B$100,'1추총괄표(위원회)'!$C31) -> 0 | H31: =SUMIFS('1추일입'!K$6:K$100,'1추일입'!$A$6:$A$100,'1추총괄표(위원회)'!$A31,'1추일입'!$B$6:$B$100,'1추총괄표(위원회)'!$C31) -> 0 | I31: =SUMIFS('1추일입'!L$6:L$100,'1추일입'!$A$6:$A$100,'1추총괄표(위원회)'!$A31,'1추일입'!$B$6:$B$100,'1추총괄표(위원회)'!$C31) -> 0 | J31: =SUMIFS('1추일입'!V$6:V$100,'1추일입'!$A$6:$A$100,'1추총괄표(위원회)'!$A31,'1추일입'!$B$6:$B$100,'1추총괄표(위원회)'!$C31) -> 0 | K31: =SUMIFS('1추일입'!W$6:W$100,'1추일입'!$A$6:$A$100,'1추총괄표(위원회)'!$A31,'1추일입'!$B$6:$B$100,'1추총괄표(위원회)'!$C31) -> 0 | L31: =SUMIFS('1추일입'!M$6:M$100,'1추일입'!$A$6:$A$100,'1추총괄표(위원회)'!$A31,'1추일입'!$B$6:$B$100,'1추총괄표(위원회)'!$C31) -> 0 | M31: =SUMIFS('1추일입'!N$6:N$100,'1추일입'!$A$6:$A$100,'1추총괄표(위원회)'!$A31,'1추일입'!$B$6:$B$100,'1추총괄표(위원회)'!$C31) -> 0 | N31: =SUMIFS('1추일입'!O$6:O$100,'1추일입'!$A$6:$A$100,'1추총괄표(위원회)'!$A31,'1추일입'!$B$6:$B$100,'1추총괄표(위원회)'!$C31) -> 0 | O31: =SUMIFS('1추일입'!AA$6:AA$100,'1추일입'!$A$6:$A$100,'1추총괄표(위원회)'!$A31,'1추일입'!$B$6:$B$100,'1추총괄표(위원회)'!$C31) -> 0 | P31: =SUMIFS('1추일입'!AB$6:AB$100,'1추일입'!$A$6:$A$100,'1추총괄표(위원회)'!$A31,'1추일입'!$B$6:$B$100,'1추총괄표(위원회)'!$C31) -> 0 | R31: =SUMIFS('1추일출'!G$6:G$14,'1추일출'!$A$6:$A$14,'1추총괄표(위원회)'!$A31,'1추일출'!$B$6:$B$14,'1추총괄표(위원회)'!$C31) -> 8960000 | S31: =SUMIFS('1추일출'!H$6:H$14,'1추일출'!$A$6:$A$14,'1추총괄표(위원회)'!$A31,'1추일출'!$B$6:$B$14,'1추총괄표(위원회)'!$C31) -> 0 | T31: =R31-S31 -> 8960000 | U31: =SUMIFS('1추일출'!J$6:J$14,'1추일출'!$A$6:$A$14,'1추총괄표(위원회)'!$A31,'1추일출'!$B$6:$B$14,'1추총괄표(위원회)'!$C31) -> 0 | V31: =SUMIFS('1추일출'!K$6:K$14,'1추일출'!$A$6:$A$14,'1추총괄표(위원회)'!$A31,'1추일출'!$B$6:$B$14,'1추총괄표(위원회)'!$C31) -> 5901000 | W31: =SUMIFS('1추일출'!L$6:L$14,'1추일출'!$A$6:$A$14,'1추총괄표(위원회)'!$A31,'1추일출'!$B$6:$B$14,'1추총괄표(위원회)'!$C31) -> 14861000 | X31: =SUMIFS('1추일출'!V$6:V$14,'1추일출'!$A$6:$A$14,'1추총괄표(위원회)'!$A31,'1추일출'!$B$6:$B$14,'1추총괄표(위원회)'!$C31) -> 5901000 | Y31: =SUMIFS('1추일출'!W$6:W$14,'1추일출'!$A$6:$A$14,'1추총괄표(위원회)'!$A31,'1추일출'!$B$6:$B$14,'1추총괄표(위원회)'!$C31) -> 0 | Z31: =SUMIFS('1추일출'!M$6:M$14,'1추일출'!$A$6:$A$14,'1추총괄표(위원회)'!$A31,'1추일출'!$B$6:$B$14,'1추총괄표(위원회)'!$C31) -> 0 | AA31: =SUMIFS('1추일출'!N$6:N$14,'1추일출'!$A$6:$A$14,'1추총괄표(위원회)'!$A31,'1추일출'!$B$6:$B$14,'1추총괄표(위원회)'!$C31) -> 0 | AB31: =SUMIFS('1추일출'!O$6:O$14,'1추일출'!$A$6:$A$14,'1추총괄표(위원회)'!$A31,'1추일출'!$B$6:$B$14,'1추총괄표(위원회)'!$C31) -> 8960000 | AC31: =SUMIFS('1추일출'!AA$6:AA$14,'1추일출'!$A$6:$A$14,'1추총괄표(위원회)'!$A31,'1추일출'!$B$6:$B$14,'1추총괄표(위원회)'!C$9) -> 0 | AD31: =SUMIFS('1추일출'!AB$6:AB$14,'1추일출'!$A$6:$A$14,'1추총괄표(위원회)'!$A31,'1추일출'!$B$6:$B$14,'1추총괄표(위원회)'!D$9) -> 0 | AF31: =IF(J31=X31,"OK","@@") -> @@ | AG31: =J31-X31 -> -5901000 | AH31: =IF(O31=AC31,"OK","@@") -> OK | AI31: =O31-AC31 -> 0
A32: 농정해양위원회 | C32: 축산산림국 | D32: =SUMIFS('1추일입'!G$6:G$100,'1추일입'!$A$6:$A$100,'1추총괄표(위원회)'!$A32,'1추일입'!$B$6:$B$100,'1추총괄표(위원회)'!$C32) -> 0 | E32: =SUMIFS('1추일입'!H$6:H$100,'1추일입'!$A$6:$A$100,'1추총괄표(위원회)'!$A32,'1추일입'!$B$6:$B$100,'1추총괄표(위원회)'!$C32) -> 0 | F32: =D32-E32 -> 0 | G32: =SUMIFS('1추일입'!J$6:J$100,'1추일입'!$A$6:$A$100,'1추총괄표(위원회)'!$A32,'1추일입'!$B$6:$B$100,'1추총괄표(위원회)'!$C32) -> 0 | H32: =SUMIFS('1추일입'!K$6:K$100,'1추일입'!$A$6:$A$100,'1추총괄표(위원회)'!$A32,'1추일입'!$B$6:$B$100,'1추총괄표(위원회)'!$C32) -> 0 | I32: =SUMIFS('1추일입'!L$6:L$100,'1추일입'!$A$6:$A$100,'1추총괄표(위원회)'!$A32,'1추일입'!$B$6:$B$100,'1추총괄표(위원회)'!$C32) -> 0 | J32: =SUMIFS('1추일입'!V$6:V$100,'1추일입'!$A$6:$A$100,'1추총괄표(위원회)'!$A32,'1추일입'!$B$6:$B$100,'1추총괄표(위원회)'!$C32) -> 0 | K32: =SUMIFS('1추일입'!W$6:W$100,'1추일입'!$A$6:$A$100,'1추총괄표(위원회)'!$A32,'1추일입'!$B$6:$B$100,'1추총괄표(위원회)'!$C32) -> 0 | L32: =SUMIFS('1추일입'!M$6:M$100,'1추일입'!$A$6:$A$100,'1추총괄표(위원회)'!$A32,'1추일입'!$B$6:$B$100,'1추총괄표(위원회)'!$C32) -> 0 | M32: =SUMIFS('1추일입'!N$6:N$100,'1추일입'!$A$6:$A$100,'1추총괄표(위원회)'!$A32,'1추일입'!$B$6:$B$100,'1추총괄표(위원회)'!$C32) -> 0 | N32: =SUMIFS('1추일입'!O$6:O$100,'1추일입'!$A$6:$A$100,'1추총괄표(위원회)'!$A32,'1추일입'!$B$6:$B$100,'1추총괄표(위원회)'!$C32) -> 0 | O32: =SUMIFS('1추일입'!AA$6:AA$100,'1추일입'!$A$6:$A$100,'1추총괄표(위원회)'!$A32,'1추일입'!$B$6:$B$100,'1추총괄표(위원회)'!$C32) -> 0 | P32: =SUMIFS('1추일입'!AB$6:AB$100,'1추일입'!$A$6:$A$100,'1추총괄표(위원회)'!$A32,'1추일입'!$B$6:$B$100,'1추총괄표(위원회)'!$C32) -> 0 | R32: =SUMIFS('1추일출'!G$6:G$14,'1추일출'!$A$6:$A$14,'1추총괄표(위원회)'!$A32,'1추일출'!$B$6:$B$14,'1추총괄표(위원회)'!$C32) -> 0 | S32: =SUMIFS('1추일출'!H$6:H$14,'1추일출'!$A$6:$A$14,'1추총괄표(위원회)'!$A32,'1추일출'!$B$6:$B$14,'1추총괄표(위원회)'!$C32) -> 0 | T32: =R32-S32 -> 0 | U32: =SUMIFS('1추일출'!J$6:J$14,'1추일출'!$A$6:$A$14,'1추총괄표(위원회)'!$A32,'1추일출'!$B$6:$B$14,'1추총괄표(위원회)'!$C32) -> 0 | V32: =SUMIFS('1추일출'!K$6:K$14,'1추일출'!$A$6:$A$14,'1추총괄표(위원회)'!$A32,'1추일출'!$B$6:$B$14,'1추총괄표(위원회)'!$C32) -> 0 | W32: =SUMIFS('1추일출'!L$6:L$14,'1추일출'!$A$6:$A$14,'1추총괄표(위원회)'!$A32,'1추일출'!$B$6:$B$14,'1추총괄표(위원회)'!$C32) -> 0 | X32: =SUMIFS('1추일출'!V$6:V$14,'1추일출'!$A$6:$A$14,'1추총괄표(위원회)'!$A32,'1추일출'!$B$6:$B$14,'1추총괄표(위원회)'!$C32) -> 0 | Y32: =SUMIFS('1추일출'!W$6:W$14,'1추일출'!$A$6:$A$14,'1추총괄표(위원회)'!$A32,'1추일출'!$B$6:$B$14,'1추총괄표(위원회)'!$C32) -> 0 | Z32: =SUMIFS('1추일출'!M$6:M$14,'1추일출'!$A$6:$A$14,'1추총괄표(위원회)'!$A32,'1추일출'!$B$6:$B$14,'1추총괄표(위원회)'!$C32) -> 0 | AA32: =SUMIFS('1추일출'!N$6:N$14,'1추일출'!$A$6:$A$14,'1추총괄표(위원회)'!$A32,'1추일출'!$B$6:$B$14,'1추총괄표(위원회)'!$C32) -> 0 | AB32: =SUMIFS('1추일출'!O$6:O$14,'1추일출'!$A$6:$A$14,'1추총괄표(위원회)'!$A32,'1추일출'!$B$6:$B$14,'1추총괄표(위원회)'!$C32) -> 0 | AC32: =SUMIFS('1추일출'!AA$6:AA$14,'1추일출'!$A$6:$A$14,'1추총괄표(위원회)'!$A32,'1추일출'!$B$6:$B$14,'1추총괄표(위원회)'!C$9) -> 0 | AD32: =SUMIFS('1추일출'!AB$6:AB$14,'1추일출'!$A$6:$A$14,'1추총괄표(위원회)'!$A32,'1추일출'!$B$6:$B$14,'1추총괄표(위원회)'!D$9) -> 0 | AF32: =IF(J32=X32,"OK","@@") -> OK | AG32: =J32-X32 -> 0 | AH32: =IF(O32=AC32,"OK","@@") -> OK | AI32: =O32-AC32 -> 0
A33: 농정해양위원회 | C33: 농업기술원 | D33: =SUMIFS('1추일입'!G$6:G$100,'1추일입'!$A$6:$A$100,'1추총괄표(위원회)'!$A33,'1추일입'!$B$6:$B$100,'1추총괄표(위원회)'!$C33) -> 0 | E33: =SUMIFS('1추일입'!H$6:H$100,'1추일입'!$A$6:$A$100,'1추총괄표(위원회)'!$A33,'1추일입'!$B$6:$B$100,'1추총괄표(위원회)'!$C33) -> 0 | F33: =D33-E33 -> 0 | G33: =SUMIFS('1추일입'!J$6:J$100,'1추일입'!$A$6:$A$100,'1추총괄표(위원회)'!$A33,'1추일입'!$B$6:$B$100,'1추총괄표(위원회)'!$C33) -> 0 | H33: =SUMIFS('1추일입'!K$6:K$100,'1추일입'!$A$6:$A$100,'1추총괄표(위원회)'!$A33,'1추일입'!$B$6:$B$100,'1추총괄표(위원회)'!$C33) -> 0 | I33: =SUMIFS('1추일입'!L$6:L$100,'1추일입'!$A$6:$A$100,'1추총괄표(위원회)'!$A33,'1추일입'!$B$6:$B$100,'1추총괄표(위원회)'!$C33) -> 0 | J33: =SUMIFS('1추일입'!V$6:V$100,'1추일입'!$A$6:$A$100,'1추총괄표(위원회)'!$A33,'1추일입'!$B$6:$B$100,'1추총괄표(위원회)'!$C33) -> 0 | K33: =SUMIFS('1추일입'!W$6:W$100,'1추일입'!$A$6:$A$100,'1추총괄표(위원회)'!$A33,'1추일입'!$B$6:$B$100,'1추총괄표(위원회)'!$C33) -> 0 | L33: =SUMIFS('1추일입'!M$6:M$100,'1추일입'!$A$6:$A$100,'1추총괄표(위원회)'!$A33,'1추일입'!$B$6:$B$100,'1추총괄표(위원회)'!$C33) -> 0 | M33: =SUMIFS('1추일입'!N$6:N$100,'1추일입'!$A$6:$A$100,'1추총괄표(위원회)'!$A33,'1추일입'!$B$6:$B$100,'1추총괄표(위원회)'!$C33) -> 0 | N33: =SUMIFS('1추일입'!O$6:O$100,'1추일입'!$A$6:$A$100,'1추총괄표(위원회)'!$A33,'1추일입'!$B$6:$B$100,'1추총괄표(위원회)'!$C33) -> 0 | O33: =SUMIFS('1추일입'!AA$6:AA$100,'1추일입'!$A$6:$A$100,'1추총괄표(위원회)'!$A33,'1추일입'!$B$6:$B$100,'1추총괄표(위원회)'!$C33) -> 0 | P33: =SUMIFS('1추일입'!AB$6:AB$100,'1추일입'!$A$6:$A$100,'1추총괄표(위원회)'!$A33,'1추일입'!$B$6:$B$100,'1추총괄표(위원회)'!$C33) -> 0 | R33: =SUMIFS('1추일출'!G$6:G$14,'1추일출'!$A$6:$A$14,'1추총괄표(위원회)'!$A33,'1추일출'!$B$6:$B$14,'1추총괄표(위원회)'!$C33) -> 0 | S33: =SUMIFS('1추일출'!H$6:H$14,'1추일출'!$A$6:$A$14,'1추총괄표(위원회)'!$A33,'1추일출'!$B$6:$B$14,'1추총괄표(위원회)'!$C33) -> 0 | T33: =R33-S33 -> 0 | U33: =SUMIFS('1추일출'!J$6:J$14,'1추일출'!$A$6:$A$14,'1추총괄표(위원회)'!$A33,'1추일출'!$B$6:$B$14,'1추총괄표(위원회)'!$C33) -> 0 | V33: =SUMIFS('1추일출'!K$6:K$14,'1추일출'!$A$6:$A$14,'1추총괄표(위원회)'!$A33,'1추일출'!$B$6:$B$14,'1추총괄표(위원회)'!$C33) -> 0 | W33: =SUMIFS('1추일출'!L$6:L$14,'1추일출'!$A$6:$A$14,'1추총괄표(위원회)'!$A33,'1추일출'!$B$6:$B$14,'1추총괄표(위원회)'!$C33) -> 0 | X33: =SUMIFS('1추일출'!V$6:V$14,'1추일출'!$A$6:$A$14,'1추총괄표(위원회)'!$A33,'1추일출'!$B$6:$B$14,'1추총괄표(위원회)'!$C33) -> 0 | Y33: =SUMIFS('1추일출'!W$6:W$14,'1추일출'!$A$6:$A$14,'1추총괄표(위원회)'!$A33,'1추일출'!$B$6:$B$14,'1추총괄표(위원회)'!$C33) -> 0 | Z33: =SUMIFS('1추일출'!M$6:M$14,'1추일출'!$A$6:$A$14,'1추총괄표(위원회)'!$A33,'1추일출'!$B$6:$B$14,'1추총괄표(위원회)'!$C33) -> 0 | AA33: =SUMIFS('1추일출'!N$6:N$14,'1추일출'!$A$6:$A$14,'1추총괄표(위원회)'!$A33,'1추일출'!$B$6:$B$14,'1추총괄표(위원회)'!$C33) -> 0 | AB33: =SUMIFS('1추일출'!O$6:O$14,'1추일출'!$A$6:$A$14,'1추총괄표(위원회)'!$A33,'1추일출'!$B$6:$B$14,'1추총괄표(위원회)'!$C33) -> 0 | AC33: =SUMIFS('1추일출'!AA$6:AA$14,'1추일출'!$A$6:$A$14,'1추총괄표(위원회)'!$A33,'1추일출'!$B$6:$B$14,'1추총괄표(위원회)'!C$9) -> 0 | AD33: =SUMIFS('1추일출'!AB$6:AB$14,'1추일출'!$A$6:$A$14,'1추총괄표(위원회)'!$A33,'1추일출'!$B$6:$B$14,'1추총괄표(위원회)'!D$9) -> 0 | AF33: =IF(J33=X33,"OK","@@") -> OK | AG33: =J33-X33 -> 0 | AH33: =IF(O33=AC33,"OK","@@") -> OK | AI33: =O33-AC33 -> 0
B34: 보건복지위원회 | D34: =SUM(D35:D37) -> 0 | E34: =SUM(E35:E37) -> 0 | F34: =SUM(F35:F37) -> 0 | G34: =SUM(G35:G37) -> 0 | H34: =SUM(H35:H37) -> 0 | I34: =SUM(I35:I37) -> 0 | J34: =SUM(J35:J37) -> 0 | K34: =SUM(K35:K37) -> 0 | ... P34: =SUM(P35:P37) -> 0 | R34: =SUM(R35:R37) -> 0 | S34: =SUM(S35:S37) -> 0 | T34: =SUM(T35:T37) -> 0 | U34: =SUM(U35:U37) -> 0 | V34: =SUM(V35:V37) -> 0 | W34: =SUM(W35:W37) -> 0 | X34: =SUM(X35:X37) -> 0 | Y34: =SUM(Y35:Y37) -> 0 | ... AD34: =SUM(AD35:AD37) -> 0 | AF34: =IF(J34=X34,"OK","@@") -> OK | AG34: =J34-X34 -> 0 | AH34: =IF(O34=AC34,"OK","@@") -> OK | AI34: =O34-AC34 -> 0
A35: 보건복지위원회 | C35: 보건복지국 | D35: =SUMIFS('1추일입'!G$6:G$100,'1추일입'!$A$6:$A$100,'1추총괄표(위원회)'!$A35,'1추일입'!$B$6:$B$100,'1추총괄표(위원회)'!$C35) -> 0 | E35: =SUMIFS('1추일입'!H$6:H$100,'1추일입'!$A$6:$A$100,'1추총괄표(위원회)'!$A35,'1추일입'!$B$6:$B$100,'1추총괄표(위원회)'!$C35) -> 0 | F35: =D35-E35 -> 0 | G35: =SUMIFS('1추일입'!J$6:J$100,'1추일입'!$A$6:$A$100,'1추총괄표(위원회)'!$A35,'1추일입'!$B$6:$B$100,'1추총괄표(위원회)'!$C35) -> 0 | H35: =SUMIFS('1추일입'!K$6:K$100,'1추일입'!$A$6:$A$100,'1추총괄표(위원회)'!$A35,'1추일입'!$B$6:$B$100,'1추총괄표(위원회)'!$C35) -> 0 | I35: =SUMIFS('1추일입'!L$6:L$100,'1추일입'!$A$6:$A$100,'1추총괄표(위원회)'!$A35,'1추일입'!$B$6:$B$100,'1추총괄표(위원회)'!$C35) -> 0 | J35: =SUMIFS('1추일입'!V$6:V$100,'1추일입'!$A$6:$A$100,'1추총괄표(위원회)'!$A35,'1추일입'!$B$6:$B$100,'1추총괄표(위원회)'!$C35) -> 0 | K35: =SUMIFS('1추일입'!W$6:W$100,'1추일입'!$A$6:$A$100,'1추총괄표(위원회)'!$A35,'1추일입'!$B$6:$B$100,'1추총괄표(위원회)'!$C35) -> 0 | L35: =SUMIFS('1추일입'!M$6:M$100,'1추일입'!$A$6:$A$100,'1추총괄표(위원회)'!$A35,'1추일입'!$B$6:$B$100,'1추총괄표(위원회)'!$C35) -> 0 | M35: =SUMIFS('1추일입'!N$6:N$100,'1추일입'!$A$6:$A$100,'1추총괄표(위원회)'!$A35,'1추일입'!$B$6:$B$100,'1추총괄표(위원회)'!$C35) -> 0 | N35: =SUMIFS('1추일입'!O$6:O$100,'1추일입'!$A$6:$A$100,'1추총괄표(위원회)'!$A35,'1추일입'!$B$6:$B$100,'1추총괄표(위원회)'!$C35) -> 0 | O35: =SUMIFS('1추일입'!AA$6:AA$100,'1추일입'!$A$6:$A$100,'1추총괄표(위원회)'!$A35,'1추일입'!$B$6:$B$100,'1추총괄표(위원회)'!$C35) -> 0 | P35: =SUMIFS('1추일입'!AB$6:AB$100,'1추일입'!$A$6:$A$100,'1추총괄표(위원회)'!$A35,'1추일입'!$B$6:$B$100,'1추총괄표(위원회)'!$C35) -> 0 | R35: =SUMIFS('1추일출'!G$6:G$14,'1추일출'!$A$6:$A$14,'1추총괄표(위원회)'!$A35,'1추일출'!$B$6:$B$14,'1추총괄표(위원회)'!$C35) -> 0 | S35: =SUMIFS('1추일출'!H$6:H$14,'1추일출'!$A$6:$A$14,'1추총괄표(위원회)'!$A35,'1추일출'!$B$6:$B$14,'1추총괄표(위원회)'!$C35) -> 0 | T35: =R35-S35 -> 0 | U35: =SUMIFS('1추일출'!J$6:J$14,'1추일출'!$A$6:$A$14,'1추총괄표(위원회)'!$A35,'1추일출'!$B$6:$B$14,'1추총괄표(위원회)'!$C35) -> 0 | V35: =SUMIFS('1추일출'!K$6:K$14,'1추일출'!$A$6:$A$14,'1추총괄표(위원회)'!$A35,'1추일출'!$B$6:$B$14,'1추총괄표(위원회)'!$C35) -> 0 | W35: =SUMIFS('1추일출'!L$6:L$14,'1추일출'!$A$6:$A$14,'1추총괄표(위원회)'!$A35,'1추일출'!$B$6:$B$14,'1추총괄표(위원회)'!$C35) -> 0 | X35: =SUMIFS('1추일출'!V$6:V$14,'1추일출'!$A$6:$A$14,'1추총괄표(위원회)'!$A35,'1추일출'!$B$6:$B$14,'1추총괄표(위원회)'!$C35) -> 0 | Y35: =SUMIFS('1추일출'!W$6:W$14,'1추일출'!$A$6:$A$14,'1추총괄표(위원회)'!$A35,'1추일출'!$B$6:$B$14,'1추총괄표(위원회)'!$C35) -> 0 | Z35: =SUMIFS('1추일출'!M$6:M$14,'1추일출'!$A$6:$A$14,'1추총괄표(위원회)'!$A35,'1추일출'!$B$6:$B$14,'1추총괄표(위원회)'!$C35) -> 0 | AA35: =SUMIFS('1추일출'!N$6:N$14,'1추일출'!$A$6:$A$14,'1추총괄표(위원회)'!$A35,'1추일출'!$B$6:$B$14,'1추총괄표(위원회)'!$C35) -> 0 | AB35: =SUMIFS('1추일출'!O$6:O$14,'1추일출'!$A$6:$A$14,'1추총괄표(위원회)'!$A35,'1추일출'!$B$6:$B$14,'1추총괄표(위원회)'!$C35) -> 0 | AC35: =SUMIFS('1추일출'!AA$6:AA$14,'1추일출'!$A$6:$A$14,'1추총괄표(위원회)'!$A35,'1추일출'!$B$6:$B$14,'1추총괄표(위원회)'!C$9) -> 0 | AD35: =SUMIFS('1추일출'!AB$6:AB$14,'1추일출'!$A$6:$A$14,'1추총괄표(위원회)'!$A35,'1추일출'!$B$6:$B$14,'1추총괄표(위원회)'!D$9) -> 0 | AF35: =IF(J35=X35,"OK","@@") -> OK | AG35: =J35-X35 -> 0 | AH35: =IF(O35=AC35,"OK","@@") -> OK | AI35: =O35-AC35 -> 0
A36: 보건복지위원회 | C36: 복지여성실 | D36: =SUMIFS('1추일입'!G$6:G$100,'1추일입'!$A$6:$A$100,'1추총괄표(위원회)'!$A36,'1추일입'!$B$6:$B$100,'1추총괄표(위원회)'!$C36) -> 0 | E36: =SUMIFS('1추일입'!H$6:H$100,'1추일입'!$A$6:$A$100,'1추총괄표(위원회)'!$A36,'1추일입'!$B$6:$B$100,'1추총괄표(위원회)'!$C36) -> 0 | F36: =D36-E36 -> 0 | G36: =SUMIFS('1추일입'!J$6:J$100,'1추일입'!$A$6:$A$100,'1추총괄표(위원회)'!$A36,'1추일입'!$B$6:$B$100,'1추총괄표(위원회)'!$C36) -> 0 | H36: =SUMIFS('1추일입'!K$6:K$100,'1추일입'!$A$6:$A$100,'1추총괄표(위원회)'!$A36,'1추일입'!$B$6:$B$100,'1추총괄표(위원회)'!$C36) -> 0 | I36: =SUMIFS('1추일입'!L$6:L$100,'1추일입'!$A$6:$A$100,'1추총괄표(위원회)'!$A36,'1추일입'!$B$6:$B$100,'1추총괄표(위원회)'!$C36) -> 0 | J36: =SUMIFS('1추일입'!V$6:V$100,'1추일입'!$A$6:$A$100,'1추총괄표(위원회)'!$A36,'1추일입'!$B$6:$B$100,'1추총괄표(위원회)'!$C36) -> 0 | K36: =SUMIFS('1추일입'!W$6:W$100,'1추일입'!$A$6:$A$100,'1추총괄표(위원회)'!$A36,'1추일입'!$B$6:$B$100,'1추총괄표(위원회)'!$C36) -> 0 | L36: =SUMIFS('1추일입'!M$6:M$100,'1추일입'!$A$6:$A$100,'1추총괄표(위원회)'!$A36,'1추일입'!$B$6:$B$100,'1추총괄표(위원회)'!$C36) -> 0 | M36: =SUMIFS('1추일입'!N$6:N$100,'1추일입'!$A$6:$A$100,'1추총괄표(위원회)'!$A36,'1추일입'!$B$6:$B$100,'1추총괄표(위원회)'!$C36) -> 0 | N36: =SUMIFS('1추일입'!O$6:O$100,'1추일입'!$A$6:$A$100,'1추총괄표(위원회)'!$A36,'1추일입'!$B$6:$B$100,'1추총괄표(위원회)'!$C36) -> 0 | O36: =SUMIFS('1추일입'!AA$6:AA$100,'1추일입'!$A$6:$A$100,'1추총괄표(위원회)'!$A36,'1추일입'!$B$6:$B$100,'1추총괄표(위원회)'!$C36) -> 0 | P36: =SUMIFS('1추일입'!AB$6:AB$100,'1추일입'!$A$6:$A$100,'1추총괄표(위원회)'!$A36,'1추일입'!$B$6:$B$100,'1추총괄표(위원회)'!$C36) -> 0 | R36: =SUMIFS('1추일출'!G$6:G$14,'1추일출'!$A$6:$A$14,'1추총괄표(위원회)'!$A36,'1추일출'!$B$6:$B$14,'1추총괄표(위원회)'!$C36) -> 0 | S36: =SUMIFS('1추일출'!H$6:H$14,'1추일출'!$A$6:$A$14,'1추총괄표(위원회)'!$A36,'1추일출'!$B$6:$B$14,'1추총괄표(위원회)'!$C36) -> 0 | T36: =R36-S36 -> 0 | U36: =SUMIFS('1추일출'!J$6:J$14,'1추일출'!$A$6:$A$14,'1추총괄표(위원회)'!$A36,'1추일출'!$B$6:$B$14,'1추총괄표(위원회)'!$C36) -> 0 | V36: =SUMIFS('1추일출'!K$6:K$14,'1추일출'!$A$6:$A$14,'1추총괄표(위원회)'!$A36,'1추일출'!$B$6:$B$14,'1추총괄표(위원회)'!$C36) -> 0 | W36: =SUMIFS('1추일출'!L$6:L$14,'1추일출'!$A$6:$A$14,'1추총괄표(위원회)'!$A36,'1추일출'!$B$6:$B$14,'1추총괄표(위원회)'!$C36) -> 0 | X36: =SUMIFS('1추일출'!V$6:V$14,'1추일출'!$A$6:$A$14,'1추총괄표(위원회)'!$A36,'1추일출'!$B$6:$B$14,'1추총괄표(위원회)'!$C36) -> 0 | Y36: =SUMIFS('1추일출'!W$6:W$14,'1추일출'!$A$6:$A$14,'1추총괄표(위원회)'!$A36,'1추일출'!$B$6:$B$14,'1추총괄표(위원회)'!$C36) -> 0 | Z36: =SUMIFS('1추일출'!M$6:M$14,'1추일출'!$A$6:$A$14,'1추총괄표(위원회)'!$A36,'1추일출'!$B$6:$B$14,'1추총괄표(위원회)'!$C36) -> 0 | AA36: =SUMIFS('1추일출'!N$6:N$14,'1추일출'!$A$6:$A$14,'1추총괄표(위원회)'!$A36,'1추일출'!$B$6:$B$14,'1추총괄표(위원회)'!$C36) -> 0 | AB36: =SUMIFS('1추일출'!O$6:O$14,'1추일출'!$A$6:$A$14,'1추총괄표(위원회)'!$A36,'1추일출'!$B$6:$B$14,'1추총괄표(위원회)'!$C36) -> 0 | AC36: =SUMIFS('1추일출'!AA$6:AA$14,'1추일출'!$A$6:$A$14,'1추총괄표(위원회)'!$A36,'1추일출'!$B$6:$B$14,'1추총괄표(위원회)'!C$9) -> 0 | AD36: =SUMIFS('1추일출'!AB$6:AB$14,'1추일출'!$A$6:$A$14,'1추총괄표(위원회)'!$A36,'1추일출'!$B$6:$B$14,'1추총괄표(위원회)'!D$9) -> 0 | AF36: =IF(J36=X36,"OK","@@") -> OK | AG36: =J36-X36 -> 0 | AH36: =IF(O36=AC36,"OK","@@") -> OK | AI36: =O36-AC36 -> 0
A37: 보건복지위원회 | C37: 보건환경연구원 | D37: =SUMIFS('1추일입'!G$6:G$100,'1추일입'!$A$6:$A$100,'1추총괄표(위원회)'!$A37,'1추일입'!$B$6:$B$100,'1추총괄표(위원회)'!$C37) -> 0 | E37: =SUMIFS('1추일입'!H$6:H$100,'1추일입'!$A$6:$A$100,'1추총괄표(위원회)'!$A37,'1추일입'!$B$6:$B$100,'1추총괄표(위원회)'!$C37) -> 0 | F37: =D37-E37 -> 0 | G37: =SUMIFS('1추일입'!J$6:J$100,'1추일입'!$A$6:$A$100,'1추총괄표(위원회)'!$A37,'1추일입'!$B$6:$B$100,'1추총괄표(위원회)'!$C37) -> 0 | H37: =SUMIFS('1추일입'!K$6:K$100,'1추일입'!$A$6:$A$100,'1추총괄표(위원회)'!$A37,'1추일입'!$B$6:$B$100,'1추총괄표(위원회)'!$C37) -> 0 | I37: =SUMIFS('1추일입'!L$6:L$100,'1추일입'!$A$6:$A$100,'1추총괄표(위원회)'!$A37,'1추일입'!$B$6:$B$100,'1추총괄표(위원회)'!$C37) -> 0 | J37: =SUMIFS('1추일입'!V$6:V$100,'1추일입'!$A$6:$A$100,'1추총괄표(위원회)'!$A37,'1추일입'!$B$6:$B$100,'1추총괄표(위원회)'!$C37) -> 0 | K37: =SUMIFS('1추일입'!W$6:W$100,'1추일입'!$A$6:$A$100,'1추총괄표(위원회)'!$A37,'1추일입'!$B$6:$B$100,'1추총괄표(위원회)'!$C37) -> 0 | L37: =SUMIFS('1추일입'!M$6:M$100,'1추일입'!$A$6:$A$100,'1추총괄표(위원회)'!$A37,'1추일입'!$B$6:$B$100,'1추총괄표(위원회)'!$C37) -> 0 | M37: =SUMIFS('1추일입'!N$6:N$100,'1추일입'!$A$6:$A$100,'1추총괄표(위원회)'!$A37,'1추일입'!$B$6:$B$100,'1추총괄표(위원회)'!$C37) -> 0 | N37: =SUMIFS('1추일입'!O$6:O$100,'1추일입'!$A$6:$A$100,'1추총괄표(위원회)'!$A37,'1추일입'!$B$6:$B$100,'1추총괄표(위원회)'!$C37) -> 0 | O37: =SUMIFS('1추일입'!AA$6:AA$100,'1추일입'!$A$6:$A$100,'1추총괄표(위원회)'!$A37,'1추일입'!$B$6:$B$100,'1추총괄표(위원회)'!$C37) -> 0 | P37: =SUMIFS('1추일입'!AB$6:AB$100,'1추일입'!$A$6:$A$100,'1추총괄표(위원회)'!$A37,'1추일입'!$B$6:$B$100,'1추총괄표(위원회)'!$C37) -> 0 | R37: =SUMIFS('1추일출'!G$6:G$14,'1추일출'!$A$6:$A$14,'1추총괄표(위원회)'!$A37,'1추일출'!$B$6:$B$14,'1추총괄표(위원회)'!$C37) -> 0 | S37: =SUMIFS('1추일출'!H$6:H$14,'1추일출'!$A$6:$A$14,'1추총괄표(위원회)'!$A37,'1추일출'!$B$6:$B$14,'1추총괄표(위원회)'!$C37) -> 0 | T37: =R37-S37 -> 0 | U37: =SUMIFS('1추일출'!J$6:J$14,'1추일출'!$A$6:$A$14,'1추총괄표(위원회)'!$A37,'1추일출'!$B$6:$B$14,'1추총괄표(위원회)'!$C37) -> 0 | V37: =SUMIFS('1추일출'!K$6:K$14,'1추일출'!$A$6:$A$14,'1추총괄표(위원회)'!$A37,'1추일출'!$B$6:$B$14,'1추총괄표(위원회)'!$C37) -> 0 | W37: =SUMIFS('1추일출'!L$6:L$14,'1추일출'!$A$6:$A$14,'1추총괄표(위원회)'!$A37,'1추일출'!$B$6:$B$14,'1추총괄표(위원회)'!$C37) -> 0 | X37: =SUMIFS('1추일출'!V$6:V$14,'1추일출'!$A$6:$A$14,'1추총괄표(위원회)'!$A37,'1추일출'!$B$6:$B$14,'1추총괄표(위원회)'!$C37) -> 0 | Y37: =SUMIFS('1추일출'!W$6:W$14,'1추일출'!$A$6:$A$14,'1추총괄표(위원회)'!$A37,'1추일출'!$B$6:$B$14,'1추총괄표(위원회)'!$C37) -> 0 | Z37: =SUMIFS('1추일출'!M$6:M$14,'1추일출'!$A$6:$A$14,'1추총괄표(위원회)'!$A37,'1추일출'!$B$6:$B$14,'1추총괄표(위원회)'!$C37) -> 0 | AA37: =SUMIFS('1추일출'!N$6:N$14,'1추일출'!$A$6:$A$14,'1추총괄표(위원회)'!$A37,'1추일출'!$B$6:$B$14,'1추총괄표(위원회)'!$C37) -> 0 | AB37: =SUMIFS('1추일출'!O$6:O$14,'1추일출'!$A$6:$A$14,'1추총괄표(위원회)'!$A37,'1추일출'!$B$6:$B$14,'1추총괄표(위원회)'!$C37) -> 0 | AC37: =SUMIFS('1추일출'!AA$6:AA$14,'1추일출'!$A$6:$A$14,'1추총괄표(위원회)'!$A37,'1추일출'!$B$6:$B$14,'1추총괄표(위원회)'!C$9) -> 0 | AD37: =SUMIFS('1추일출'!AB$6:AB$14,'1추일출'!$A$6:$A$14,'1추총괄표(위원회)'!$A37,'1추일출'!$B$6:$B$14,'1추총괄표(위원회)'!D$9) -> 0 | AF37: =IF(J37=X37,"OK","@@") -> OK | AG37: =J37-X37 -> 0 | AH37: =IF(O37=AC37,"OK","@@") -> OK | AI37: =O37-AC37 -> 0
B38: 건설교통위원회 | D38: =SUM(D39:D42) -> 0 | E38: =SUM(E39:E42) -> 0 | F38: =SUM(F39:F42) -> 0 | G38: =SUM(G39:G42) -> 0 | H38: =SUM(H39:H42) -> 0 | I38: =SUM(I39:I42) -> 0 | J38: =SUM(J39:J42) -> 0 | K38: =SUM(K39:K42) -> 0 | ... P38: =SUM(P39:P42) -> 0 | R38: =SUM(R39:R42) -> 0 | S38: =SUM(S39:S42) -> 0 | T38: =SUM(T39:T42) -> 0 | U38: =SUM(U39:U42) -> 0 | V38: =SUM(V39:V42) -> 0 | W38: =SUM(W39:W42) -> 0 | X38: =SUM(X39:X42) -> 0 | Y38: =SUM(Y39:Y42) -> 0 | ... AD38: =SUM(AD39:AD42) -> 0 | AF38: =IF(J38=X38,"OK","@@") -> OK | AG38: =J38-X38 -> 0 | AH38: =IF(O38=AC38,"OK","@@") -> OK | AI38: =O38-AC38 -> 0
A39: 건설교통위원회 | C39: 철도국 | D39: =SUMIFS('1추일입'!G$6:G$100,'1추일입'!$A$6:$A$100,'1추총괄표(위원회)'!$A39,'1추일입'!$B$6:$B$100,'1추총괄표(위원회)'!$C39) -> 0 | E39: =SUMIFS('1추일입'!H$6:H$100,'1추일입'!$A$6:$A$100,'1추총괄표(위원회)'!$A39,'1추일입'!$B$6:$B$100,'1추총괄표(위원회)'!$C39) -> 0 | F39: =D39-E39 -> 0 | G39: =SUMIFS('1추일입'!J$6:J$100,'1추일입'!$A$6:$A$100,'1추총괄표(위원회)'!$A39,'1추일입'!$B$6:$B$100,'1추총괄표(위원회)'!$C39) -> 0 | H39: =SUMIFS('1추일입'!K$6:K$100,'1추일입'!$A$6:$A$100,'1추총괄표(위원회)'!$A39,'1추일입'!$B$6:$B$100,'1추총괄표(위원회)'!$C39) -> 0 | I39: =SUMIFS('1추일입'!L$6:L$100,'1추일입'!$A$6:$A$100,'1추총괄표(위원회)'!$A39,'1추일입'!$B$6:$B$100,'1추총괄표(위원회)'!$C39) -> 0 | J39: =SUMIFS('1추일입'!V$6:V$100,'1추일입'!$A$6:$A$100,'1추총괄표(위원회)'!$A39,'1추일입'!$B$6:$B$100,'1추총괄표(위원회)'!$C39) -> 0 | K39: =SUMIFS('1추일입'!W$6:W$100,'1추일입'!$A$6:$A$100,'1추총괄표(위원회)'!$A39,'1추일입'!$B$6:$B$100,'1추총괄표(위원회)'!$C39) -> 0 | L39: =SUMIFS('1추일입'!M$6:M$100,'1추일입'!$A$6:$A$100,'1추총괄표(위원회)'!$A39,'1추일입'!$B$6:$B$100,'1추총괄표(위원회)'!$C39) -> 0 | M39: =SUMIFS('1추일입'!N$6:N$100,'1추일입'!$A$6:$A$100,'1추총괄표(위원회)'!$A39,'1추일입'!$B$6:$B$100,'1추총괄표(위원회)'!$C39) -> 0 | N39: =SUMIFS('1추일입'!O$6:O$100,'1추일입'!$A$6:$A$100,'1추총괄표(위원회)'!$A39,'1추일입'!$B$6:$B$100,'1추총괄표(위원회)'!$C39) -> 0 | O39: =SUMIFS('1추일입'!AA$6:AA$100,'1추일입'!$A$6:$A$100,'1추총괄표(위원회)'!$A39,'1추일입'!$B$6:$B$100,'1추총괄표(위원회)'!$C39) -> 0 | P39: =SUMIFS('1추일입'!AB$6:AB$100,'1추일입'!$A$6:$A$100,'1추총괄표(위원회)'!$A39,'1추일입'!$B$6:$B$100,'1추총괄표(위원회)'!$C39) -> 0 | R39: =SUMIFS('1추일출'!G$6:G$14,'1추일출'!$A$6:$A$14,'1추총괄표(위원회)'!$A39,'1추일출'!$B$6:$B$14,'1추총괄표(위원회)'!$C39) -> 0 | S39: =SUMIFS('1추일출'!H$6:H$14,'1추일출'!$A$6:$A$14,'1추총괄표(위원회)'!$A39,'1추일출'!$B$6:$B$14,'1추총괄표(위원회)'!$C39) -> 0 | T39: =R39-S39 -> 0 | U39: =SUMIFS('1추일출'!J$6:J$14,'1추일출'!$A$6:$A$14,'1추총괄표(위원회)'!$A39,'1추일출'!$B$6:$B$14,'1추총괄표(위원회)'!$C39) -> 0 | V39: =SUMIFS('1추일출'!K$6:K$14,'1추일출'!$A$6:$A$14,'1추총괄표(위원회)'!$A39,'1추일출'!$B$6:$B$14,'1추총괄표(위원회)'!$C39) -> 0 | W39: =SUMIFS('1추일출'!L$6:L$14,'1추일출'!$A$6:$A$14,'1추총괄표(위원회)'!$A39,'1추일출'!$B$6:$B$14,'1추총괄표(위원회)'!$C39) -> 0 | X39: =SUMIFS('1추일출'!V$6:V$14,'1추일출'!$A$6:$A$14,'1추총괄표(위원회)'!$A39,'1추일출'!$B$6:$B$14,'1추총괄표(위원회)'!$C39) -> 0 | Y39: =SUMIFS('1추일출'!W$6:W$14,'1추일출'!$A$6:$A$14,'1추총괄표(위원회)'!$A39,'1추일출'!$B$6:$B$14,'1추총괄표(위원회)'!$C39) -> 0 | Z39: =SUMIFS('1추일출'!M$6:M$14,'1추일출'!$A$6:$A$14,'1추총괄표(위원회)'!$A39,'1추일출'!$B$6:$B$14,'1추총괄표(위원회)'!$C39) -> 0 | AA39: =SUMIFS('1추일출'!N$6:N$14,'1추일출'!$A$6:$A$14,'1추총괄표(위원회)'!$A39,'1추일출'!$B$6:$B$14,'1추총괄표(위원회)'!$C39) -> 0 | AB39: =SUMIFS('1추일출'!O$6:O$14,'1추일출'!$A$6:$A$14,'1추총괄표(위원회)'!$A39,'1추일출'!$B$6:$B$14,'1추총괄표(위원회)'!$C39) -> 0 | AC39: =SUMIFS('1추일출'!AA$6:AA$14,'1추일출'!$A$6:$A$14,'1추총괄표(위원회)'!$A39,'1추일출'!$B$6:$B$14,'1추총괄표(위원회)'!C$9) -> 0 | AD39: =SUMIFS('1추일출'!AB$6:AB$14,'1추일출'!$A$6:$A$14,'1추총괄표(위원회)'!$A39,'1추일출'!$B$6:$B$14,'1추총괄표(위원회)'!D$9) -> 0 | AF39: =IF(J39=X39,"OK","@@") -> OK | AG39: =J39-X39 -> 0 | AH39: =IF(O39=AC39,"OK","@@") -> OK | AI39: =O39-AC39 -> 0
A40: 건설교통위원회 | C40: 교통국 | D40: =SUMIFS('1추일입'!G$6:G$100,'1추일입'!$A$6:$A$100,'1추총괄표(위원회)'!$A40,'1추일입'!$B$6:$B$100,'1추총괄표(위원회)'!$C40) -> 0 | E40: =SUMIFS('1추일입'!H$6:H$100,'1추일입'!$A$6:$A$100,'1추총괄표(위원회)'!$A40,'1추일입'!$B$6:$B$100,'1추총괄표(위원회)'!$C40) -> 0 | F40: =D40-E40 -> 0 | G40: =SUMIFS('1추일입'!J$6:J$100,'1추일입'!$A$6:$A$100,'1추총괄표(위원회)'!$A40,'1추일입'!$B$6:$B$100,'1추총괄표(위원회)'!$C40) -> 0 | H40: =SUMIFS('1추일입'!K$6:K$100,'1추일입'!$A$6:$A$100,'1추총괄표(위원회)'!$A40,'1추일입'!$B$6:$B$100,'1추총괄표(위원회)'!$C40) -> 0 | I40: =SUMIFS('1추일입'!L$6:L$100,'1추일입'!$A$6:$A$100,'1추총괄표(위원회)'!$A40,'1추일입'!$B$6:$B$100,'1추총괄표(위원회)'!$C40) -> 0 | J40: =SUMIFS('1추일입'!V$6:V$100,'1추일입'!$A$6:$A$100,'1추총괄표(위원회)'!$A40,'1추일입'!$B$6:$B$100,'1추총괄표(위원회)'!$C40) -> 0 | K40: =SUMIFS('1추일입'!W$6:W$100,'1추일입'!$A$6:$A$100,'1추총괄표(위원회)'!$A40,'1추일입'!$B$6:$B$100,'1추총괄표(위원회)'!$C40) -> 0 | L40: =SUMIFS('1추일입'!M$6:M$100,'1추일입'!$A$6:$A$100,'1추총괄표(위원회)'!$A40,'1추일입'!$B$6:$B$100,'1추총괄표(위원회)'!$C40) -> 0 | M40: =SUMIFS('1추일입'!N$6:N$100,'1추일입'!$A$6:$A$100,'1추총괄표(위원회)'!$A40,'1추일입'!$B$6:$B$100,'1추총괄표(위원회)'!$C40) -> 0 | N40: =SUMIFS('1추일입'!O$6:O$100,'1추일입'!$A$6:$A$100,'1추총괄표(위원회)'!$A40,'1추일입'!$B$6:$B$100,'1추총괄표(위원회)'!$C40) -> 0 | O40: =SUMIFS('1추일입'!AA$6:AA$100,'1추일입'!$A$6:$A$100,'1추총괄표(위원회)'!$A40,'1추일입'!$B$6:$B$100,'1추총괄표(위원회)'!$C40) -> 0 | P40: =SUMIFS('1추일입'!AB$6:AB$100,'1추일입'!$A$6:$A$100,'1추총괄표(위원회)'!$A40,'1추일입'!$B$6:$B$100,'1추총괄표(위원회)'!$C40) -> 0 | R40: =SUMIFS('1추일출'!G$6:G$14,'1추일출'!$A$6:$A$14,'1추총괄표(위원회)'!$A40,'1추일출'!$B$6:$B$14,'1추총괄표(위원회)'!$C40) -> 0 | S40: =SUMIFS('1추일출'!H$6:H$14,'1추일출'!$A$6:$A$14,'1추총괄표(위원회)'!$A40,'1추일출'!$B$6:$B$14,'1추총괄표(위원회)'!$C40) -> 0 | T40: =R40-S40 -> 0 | U40: =SUMIFS('1추일출'!J$6:J$14,'1추일출'!$A$6:$A$14,'1추총괄표(위원회)'!$A40,'1추일출'!$B$6:$B$14,'1추총괄표(위원회)'!$C40) -> 0 | V40: =SUMIFS('1추일출'!K$6:K$14,'1추일출'!$A$6:$A$14,'1추총괄표(위원회)'!$A40,'1추일출'!$B$6:$B$14,'1추총괄표(위원회)'!$C40) -> 0 | W40: =SUMIFS('1추일출'!L$6:L$14,'1추일출'!$A$6:$A$14,'1추총괄표(위원회)'!$A40,'1추일출'!$B$6:$B$14,'1추총괄표(위원회)'!$C40) -> 0 | X40: =SUMIFS('1추일출'!V$6:V$14,'1추일출'!$A$6:$A$14,'1추총괄표(위원회)'!$A40,'1추일출'!$B$6:$B$14,'1추총괄표(위원회)'!$C40) -> 0 | Y40: =SUMIFS('1추일출'!W$6:W$14,'1추일출'!$A$6:$A$14,'1추총괄표(위원회)'!$A40,'1추일출'!$B$6:$B$14,'1추총괄표(위원회)'!$C40) -> 0 | Z40: =SUMIFS('1추일출'!M$6:M$14,'1추일출'!$A$6:$A$14,'1추총괄표(위원회)'!$A40,'1추일출'!$B$6:$B$14,'1추총괄표(위원회)'!$C40) -> 0 | AA40: =SUMIFS('1추일출'!N$6:N$14,'1추일출'!$A$6:$A$14,'1추총괄표(위원회)'!$A40,'1추일출'!$B$6:$B$14,'1추총괄표(위원회)'!$C40) -> 0 | AB40: =SUMIFS('1추일출'!O$6:O$14,'1추일출'!$A$6:$A$14,'1추총괄표(위원회)'!$A40,'1추일출'!$B$6:$B$14,'1추총괄표(위원회)'!$C40) -> 0 | AC40: =SUMIFS('1추일출'!AA$6:AA$14,'1추일출'!$A$6:$A$14,'1추총괄표(위원회)'!$A40,'1추일출'!$B$6:$B$14,'1추총괄표(위원회)'!C$9) -> 0 | AD40: =SUMIFS('1추일출'!AB$6:AB$14,'1추일출'!$A$6:$A$14,'1추총괄표(위원회)'!$A40,'1추일출'!$B$6:$B$14,'1추총괄표(위원회)'!D$9) -> 0 | AF40: =IF(J40=X40,"OK","@@") -> OK | AG40: =J40-X40 -> 0 | AH40: =IF(O40=AC40,"OK","@@") -> OK | AI40: =O40-AC40 -> 0
A41: 건설교통위원회 | C41: 건설국 | D41: =SUMIFS('1추일입'!G$6:G$100,'1추일입'!$A$6:$A$100,'1추총괄표(위원회)'!$A41,'1추일입'!$B$6:$B$100,'1추총괄표(위원회)'!$C41) -> 0 | E41: =SUMIFS('1추일입'!H$6:H$100,'1추일입'!$A$6:$A$100,'1추총괄표(위원회)'!$A41,'1추일입'!$B$6:$B$100,'1추총괄표(위원회)'!$C41) -> 0 | F41: =D41-E41 -> 0 | G41: =SUMIFS('1추일입'!J$6:J$100,'1추일입'!$A$6:$A$100,'1추총괄표(위원회)'!$A41,'1추일입'!$B$6:$B$100,'1추총괄표(위원회)'!$C41) -> 0 | H41: =SUMIFS('1추일입'!K$6:K$100,'1추일입'!$A$6:$A$100,'1추총괄표(위원회)'!$A41,'1추일입'!$B$6:$B$100,'1추총괄표(위원회)'!$C41) -> 0 | I41: =SUMIFS('1추일입'!L$6:L$100,'1추일입'!$A$6:$A$100,'1추총괄표(위원회)'!$A41,'1추일입'!$B$6:$B$100,'1추총괄표(위원회)'!$C41) -> 0 | J41: =SUMIFS('1추일입'!V$6:V$100,'1추일입'!$A$6:$A$100,'1추총괄표(위원회)'!$A41,'1추일입'!$B$6:$B$100,'1추총괄표(위원회)'!$C41) -> 0 | K41: =SUMIFS('1추일입'!W$6:W$100,'1추일입'!$A$6:$A$100,'1추총괄표(위원회)'!$A41,'1추일입'!$B$6:$B$100,'1추총괄표(위원회)'!$C41) -> 0 | L41: =SUMIFS('1추일입'!M$6:M$100,'1추일입'!$A$6:$A$100,'1추총괄표(위원회)'!$A41,'1추일입'!$B$6:$B$100,'1추총괄표(위원회)'!$C41) -> 0 | M41: =SUMIFS('1추일입'!N$6:N$100,'1추일입'!$A$6:$A$100,'1추총괄표(위원회)'!$A41,'1추일입'!$B$6:$B$100,'1추총괄표(위원회)'!$C41) -> 0 | N41: =SUMIFS('1추일입'!O$6:O$100,'1추일입'!$A$6:$A$100,'1추총괄표(위원회)'!$A41,'1추일입'!$B$6:$B$100,'1추총괄표(위원회)'!$C41) -> 0 | O41: =SUMIFS('1추일입'!AA$6:AA$100,'1추일입'!$A$6:$A$100,'1추총괄표(위원회)'!$A41,'1추일입'!$B$6:$B$100,'1추총괄표(위원회)'!$C41) -> 0 | P41: =SUMIFS('1추일입'!AB$6:AB$100,'1추일입'!$A$6:$A$100,'1추총괄표(위원회)'!$A41,'1추일입'!$B$6:$B$100,'1추총괄표(위원회)'!$C41) -> 0 | R41: =SUMIFS('1추일출'!G$6:G$14,'1추일출'!$A$6:$A$14,'1추총괄표(위원회)'!$A41,'1추일출'!$B$6:$B$14,'1추총괄표(위원회)'!$C41) -> 0 | S41: =SUMIFS('1추일출'!H$6:H$14,'1추일출'!$A$6:$A$14,'1추총괄표(위원회)'!$A41,'1추일출'!$B$6:$B$14,'1추총괄표(위원회)'!$C41) -> 0 | T41: =R41-S41 -> 0 | U41: =SUMIFS('1추일출'!J$6:J$14,'1추일출'!$A$6:$A$14,'1추총괄표(위원회)'!$A41,'1추일출'!$B$6:$B$14,'1추총괄표(위원회)'!$C41) -> 0 | V41: =SUMIFS('1추일출'!K$6:K$14,'1추일출'!$A$6:$A$14,'1추총괄표(위원회)'!$A41,'1추일출'!$B$6:$B$14,'1추총괄표(위원회)'!$C41) -> 0 | W41: =SUMIFS('1추일출'!L$6:L$14,'1추일출'!$A$6:$A$14,'1추총괄표(위원회)'!$A41,'1추일출'!$B$6:$B$14,'1추총괄표(위원회)'!$C41) -> 0 | X41: =SUMIFS('1추일출'!V$6:V$14,'1추일출'!$A$6:$A$14,'1추총괄표(위원회)'!$A41,'1추일출'!$B$6:$B$14,'1추총괄표(위원회)'!$C41) -> 0 | Y41: =SUMIFS('1추일출'!W$6:W$14,'1추일출'!$A$6:$A$14,'1추총괄표(위원회)'!$A41,'1추일출'!$B$6:$B$14,'1추총괄표(위원회)'!$C41) -> 0 | Z41: =SUMIFS('1추일출'!M$6:M$14,'1추일출'!$A$6:$A$14,'1추총괄표(위원회)'!$A41,'1추일출'!$B$6:$B$14,'1추총괄표(위원회)'!$C41) -> 0 | AA41: =SUMIFS('1추일출'!N$6:N$14,'1추일출'!$A$6:$A$14,'1추총괄표(위원회)'!$A41,'1추일출'!$B$6:$B$14,'1추총괄표(위원회)'!$C41) -> 0 | AB41: =SUMIFS('1추일출'!O$6:O$14,'1추일출'!$A$6:$A$14,'1추총괄표(위원회)'!$A41,'1추일출'!$B$6:$B$14,'1추총괄표(위원회)'!$C41) -> 0 | AC41: =SUMIFS('1추일출'!AA$6:AA$14,'1추일출'!$A$6:$A$14,'1추총괄표(위원회)'!$A41,'1추일출'!$B$6:$B$14,'1추총괄표(위원회)'!C$9) -> 0 | AD41: =SUMIFS('1추일출'!AB$6:AB$14,'1추일출'!$A$6:$A$14,'1추총괄표(위원회)'!$A41,'1추일출'!$B$6:$B$14,'1추총괄표(위원회)'!D$9) -> 0 | AF41: =IF(J41=X41,"OK","@@") -> OK | AG41: =J41-X41 -> 0 | AH41: =IF(O41=AC41,"OK","@@") -> OK | AI41: =O41-AC41 -> 0
A42: 건설교통위원회 | C42: 건설본부 | D42: =SUMIFS('1추일입'!G$6:G$100,'1추일입'!$A$6:$A$100,'1추총괄표(위원회)'!$A42,'1추일입'!$B$6:$B$100,'1추총괄표(위원회)'!$C42) -> 0 | E42: =SUMIFS('1추일입'!H$6:H$100,'1추일입'!$A$6:$A$100,'1추총괄표(위원회)'!$A42,'1추일입'!$B$6:$B$100,'1추총괄표(위원회)'!$C42) -> 0 | F42: =D42-E42 -> 0 | G42: =SUMIFS('1추일입'!J$6:J$100,'1추일입'!$A$6:$A$100,'1추총괄표(위원회)'!$A42,'1추일입'!$B$6:$B$100,'1추총괄표(위원회)'!$C42) -> 0 | H42: =SUMIFS('1추일입'!K$6:K$100,'1추일입'!$A$6:$A$100,'1추총괄표(위원회)'!$A42,'1추일입'!$B$6:$B$100,'1추총괄표(위원회)'!$C42) -> 0 | I42: =SUMIFS('1추일입'!L$6:L$100,'1추일입'!$A$6:$A$100,'1추총괄표(위원회)'!$A42,'1추일입'!$B$6:$B$100,'1추총괄표(위원회)'!$C42) -> 0 | J42: =SUMIFS('1추일입'!V$6:V$100,'1추일입'!$A$6:$A$100,'1추총괄표(위원회)'!$A42,'1추일입'!$B$6:$B$100,'1추총괄표(위원회)'!$C42) -> 0 | K42: =SUMIFS('1추일입'!W$6:W$100,'1추일입'!$A$6:$A$100,'1추총괄표(위원회)'!$A42,'1추일입'!$B$6:$B$100,'1추총괄표(위원회)'!$C42) -> 0 | L42: =SUMIFS('1추일입'!M$6:M$100,'1추일입'!$A$6:$A$100,'1추총괄표(위원회)'!$A42,'1추일입'!$B$6:$B$100,'1추총괄표(위원회)'!$C42) -> 0 | M42: =SUMIFS('1추일입'!N$6:N$100,'1추일입'!$A$6:$A$100,'1추총괄표(위원회)'!$A42,'1추일입'!$B$6:$B$100,'1추총괄표(위원회)'!$C42) -> 0 | N42: =SUMIFS('1추일입'!O$6:O$100,'1추일입'!$A$6:$A$100,'1추총괄표(위원회)'!$A42,'1추일입'!$B$6:$B$100,'1추총괄표(위원회)'!$C42) -> 0 | O42: =SUMIFS('1추일입'!AA$6:AA$100,'1추일입'!$A$6:$A$100,'1추총괄표(위원회)'!$A42,'1추일입'!$B$6:$B$100,'1추총괄표(위원회)'!$C42) -> 0 | P42: =SUMIFS('1추일입'!AB$6:AB$100,'1추일입'!$A$6:$A$100,'1추총괄표(위원회)'!$A42,'1추일입'!$B$6:$B$100,'1추총괄표(위원회)'!$C42) -> 0 | R42: =SUMIFS('1추일출'!G$6:G$14,'1추일출'!$A$6:$A$14,'1추총괄표(위원회)'!$A42,'1추일출'!$B$6:$B$14,'1추총괄표(위원회)'!$C42) -> 0 | S42: =SUMIFS('1추일출'!H$6:H$14,'1추일출'!$A$6:$A$14,'1추총괄표(위원회)'!$A42,'1추일출'!$B$6:$B$14,'1추총괄표(위원회)'!$C42) -> 0 | T42: =R42-S42 -> 0 | U42: =SUMIFS('1추일출'!J$6:J$14,'1추일출'!$A$6:$A$14,'1추총괄표(위원회)'!$A42,'1추일출'!$B$6:$B$14,'1추총괄표(위원회)'!$C42) -> 0 | V42: =SUMIFS('1추일출'!K$6:K$14,'1추일출'!$A$6:$A$14,'1추총괄표(위원회)'!$A42,'1추일출'!$B$6:$B$14,'1추총괄표(위원회)'!$C42) -> 0 | W42: =SUMIFS('1추일출'!L$6:L$14,'1추일출'!$A$6:$A$14,'1추총괄표(위원회)'!$A42,'1추일출'!$B$6:$B$14,'1추총괄표(위원회)'!$C42) -> 0 | X42: =SUMIFS('1추일출'!V$6:V$14,'1추일출'!$A$6:$A$14,'1추총괄표(위원회)'!$A42,'1추일출'!$B$6:$B$14,'1추총괄표(위원회)'!$C42) -> 0 | Y42: =SUMIFS('1추일출'!W$6:W$14,'1추일출'!$A$6:$A$14,'1추총괄표(위원회)'!$A42,'1추일출'!$B$6:$B$14,'1추총괄표(위원회)'!$C42) -> 0 | Z42: =SUMIFS('1추일출'!M$6:M$14,'1추일출'!$A$6:$A$14,'1추총괄표(위원회)'!$A42,'1추일출'!$B$6:$B$14,'1추총괄표(위원회)'!$C42) -> 0 | AA42: =SUMIFS('1추일출'!N$6:N$14,'1추일출'!$A$6:$A$14,'1추총괄표(위원회)'!$A42,'1추일출'!$B$6:$B$14,'1추총괄표(위원회)'!$C42) -> 0 | AB42: =SUMIFS('1추일출'!O$6:O$14,'1추일출'!$A$6:$A$14,'1추총괄표(위원회)'!$A42,'1추일출'!$B$6:$B$14,'1추총괄표(위원회)'!$C42) -> 0 | AC42: =SUMIFS('1추일출'!AA$6:AA$14,'1추일출'!$A$6:$A$14,'1추총괄표(위원회)'!$A42,'1추일출'!$B$6:$B$14,'1추총괄표(위원회)'!C$9) -> 0 | AD42: =SUMIFS('1추일출'!AB$6:AB$14,'1추일출'!$A$6:$A$14,'1추총괄표(위원회)'!$A42,'1추일출'!$B$6:$B$14,'1추총괄표(위원회)'!D$9) -> 0 | AF42: =IF(J42=X42,"OK","@@") -> OK | AG42: =J42-X42 -> 0 | AH42: =IF(O42=AC42,"OK","@@") -> OK | AI42: =O42-AC42 -> 0
B43: 도시환경위원회 | D43: =SUM(D44:D48) -> 0 | E43: =SUM(E44:E48) -> 0 | F43: =SUM(F44:F48) -> 0 | G43: =SUM(G44:G48) -> 0 | H43: =SUM(H44:H48) -> 0 | I43: =SUM(I44:I48) -> 0 | J43: =SUM(J44:J48) -> 0 | K43: =SUM(K44:K48) -> 0 | ... P43: =SUM(P44:P48) -> 0 | R43: =SUM(R44:R48) -> 0 | S43: =SUM(S44:S48) -> 0 | T43: =SUM(T44:T48) -> 0 | U43: =SUM(U44:U48) -> 0 | V43: =SUM(V44:V48) -> 0 | W43: =SUM(W44:W48) -> 0 | X43: =SUM(X44:X48) -> 0 | Y43: =SUM(Y44:Y48) -> 0 | ... AD43: =SUM(AD44:AD48) -> 0 | AF43: =IF(J43=X43,"OK","@@") -> OK | AG43: =J43-X43 -> 0 | AH43: =IF(O43=AC43,"OK","@@") -> OK | AI43: =O43-AC43 -> 0
A44: 도시환경위원회 | C44: 도시주택실 | D44: =SUMIFS('1추일입'!G$6:G$100,'1추일입'!$A$6:$A$100,'1추총괄표(위원회)'!$A44,'1추일입'!$B$6:$B$100,'1추총괄표(위원회)'!$C44) -> 0 | E44: =SUMIFS('1추일입'!H$6:H$100,'1추일입'!$A$6:$A$100,'1추총괄표(위원회)'!$A44,'1추일입'!$B$6:$B$100,'1추총괄표(위원회)'!$C44) -> 0 | F44: =D44-E44 -> 0 | G44: =SUMIFS('1추일입'!J$6:J$100,'1추일입'!$A$6:$A$100,'1추총괄표(위원회)'!$A44,'1추일입'!$B$6:$B$100,'1추총괄표(위원회)'!$C44) -> 0 | H44: =SUMIFS('1추일입'!K$6:K$100,'1추일입'!$A$6:$A$100,'1추총괄표(위원회)'!$A44,'1추일입'!$B$6:$B$100,'1추총괄표(위원회)'!$C44) -> 0 | I44: =SUMIFS('1추일입'!L$6:L$100,'1추일입'!$A$6:$A$100,'1추총괄표(위원회)'!$A44,'1추일입'!$B$6:$B$100,'1추총괄표(위원회)'!$C44) -> 0 | J44: =SUMIFS('1추일입'!V$6:V$100,'1추일입'!$A$6:$A$100,'1추총괄표(위원회)'!$A44,'1추일입'!$B$6:$B$100,'1추총괄표(위원회)'!$C44) -> 0 | K44: =SUMIFS('1추일입'!W$6:W$100,'1추일입'!$A$6:$A$100,'1추총괄표(위원회)'!$A44,'1추일입'!$B$6:$B$100,'1추총괄표(위원회)'!$C44) -> 0 | L44: =SUMIFS('1추일입'!M$6:M$100,'1추일입'!$A$6:$A$100,'1추총괄표(위원회)'!$A44,'1추일입'!$B$6:$B$100,'1추총괄표(위원회)'!$C44) -> 0 | M44: =SUMIFS('1추일입'!N$6:N$100,'1추일입'!$A$6:$A$100,'1추총괄표(위원회)'!$A44,'1추일입'!$B$6:$B$100,'1추총괄표(위원회)'!$C44) -> 0 | N44: =SUMIFS('1추일입'!O$6:O$100,'1추일입'!$A$6:$A$100,'1추총괄표(위원회)'!$A44,'1추일입'!$B$6:$B$100,'1추총괄표(위원회)'!$C44) -> 0 | O44: =SUMIFS('1추일입'!AA$6:AA$100,'1추일입'!$A$6:$A$100,'1추총괄표(위원회)'!$A44,'1추일입'!$B$6:$B$100,'1추총괄표(위원회)'!$C44) -> 0 | P44: =SUMIFS('1추일입'!AB$6:AB$100,'1추일입'!$A$6:$A$100,'1추총괄표(위원회)'!$A44,'1추일입'!$B$6:$B$100,'1추총괄표(위원회)'!$C44) -> 0 | R44: =SUMIFS('1추일출'!G$6:G$14,'1추일출'!$A$6:$A$14,'1추총괄표(위원회)'!$A44,'1추일출'!$B$6:$B$14,'1추총괄표(위원회)'!$C44) -> 0 | S44: =SUMIFS('1추일출'!H$6:H$14,'1추일출'!$A$6:$A$14,'1추총괄표(위원회)'!$A44,'1추일출'!$B$6:$B$14,'1추총괄표(위원회)'!$C44) -> 0 | T44: =R44-S44 -> 0 | U44: =SUMIFS('1추일출'!J$6:J$14,'1추일출'!$A$6:$A$14,'1추총괄표(위원회)'!$A44,'1추일출'!$B$6:$B$14,'1추총괄표(위원회)'!$C44) -> 0 | V44: =SUMIFS('1추일출'!K$6:K$14,'1추일출'!$A$6:$A$14,'1추총괄표(위원회)'!$A44,'1추일출'!$B$6:$B$14,'1추총괄표(위원회)'!$C44) -> 0 | W44: =SUMIFS('1추일출'!L$6:L$14,'1추일출'!$A$6:$A$14,'1추총괄표(위원회)'!$A44,'1추일출'!$B$6:$B$14,'1추총괄표(위원회)'!$C44) -> 0 | X44: =SUMIFS('1추일출'!V$6:V$14,'1추일출'!$A$6:$A$14,'1추총괄표(위원회)'!$A44,'1추일출'!$B$6:$B$14,'1추총괄표(위원회)'!$C44) -> 0 | Y44: =SUMIFS('1추일출'!W$6:W$14,'1추일출'!$A$6:$A$14,'1추총괄표(위원회)'!$A44,'1추일출'!$B$6:$B$14,'1추총괄표(위원회)'!$C44) -> 0 | Z44: =SUMIFS('1추일출'!M$6:M$14,'1추일출'!$A$6:$A$14,'1추총괄표(위원회)'!$A44,'1추일출'!$B$6:$B$14,'1추총괄표(위원회)'!$C44) -> 0 | AA44: =SUMIFS('1추일출'!N$6:N$14,'1추일출'!$A$6:$A$14,'1추총괄표(위원회)'!$A44,'1추일출'!$B$6:$B$14,'1추총괄표(위원회)'!$C44) -> 0 | AB44: =SUMIFS('1추일출'!O$6:O$14,'1추일출'!$A$6:$A$14,'1추총괄표(위원회)'!$A44,'1추일출'!$B$6:$B$14,'1추총괄표(위원회)'!$C44) -> 0 | AC44: =SUMIFS('1추일출'!AA$6:AA$14,'1추일출'!$A$6:$A$14,'1추총괄표(위원회)'!$A44,'1추일출'!$B$6:$B$14,'1추총괄표(위원회)'!C$9) -> 0 | AD44: =SUMIFS('1추일출'!AB$6:AB$14,'1추일출'!$A$6:$A$14,'1추총괄표(위원회)'!$A44,'1추일출'!$B$6:$B$14,'1추총괄표(위원회)'!D$9) -> 0 | AF44: =IF(J44=X44,"OK","@@") -> OK | AG44: =J44-X44 -> 0 | AH44: =IF(O44=AC44,"OK","@@") -> OK | AI44: =O44-AC44 -> 0
A45: 도시환경위원회 | C45: 환경국 | D45: =SUMIFS('1추일입'!G$6:G$100,'1추일입'!$A$6:$A$100,'1추총괄표(위원회)'!$A45,'1추일입'!$B$6:$B$100,'1추총괄표(위원회)'!$C45) -> 0 | E45: =SUMIFS('1추일입'!H$6:H$100,'1추일입'!$A$6:$A$100,'1추총괄표(위원회)'!$A45,'1추일입'!$B$6:$B$100,'1추총괄표(위원회)'!$C45) -> 0 | F45: =D45-E45 -> 0 | G45: =SUMIFS('1추일입'!J$6:J$100,'1추일입'!$A$6:$A$100,'1추총괄표(위원회)'!$A45,'1추일입'!$B$6:$B$100,'1추총괄표(위원회)'!$C45) -> 0 | H45: =SUMIFS('1추일입'!K$6:K$100,'1추일입'!$A$6:$A$100,'1추총괄표(위원회)'!$A45,'1추일입'!$B$6:$B$100,'1추총괄표(위원회)'!$C45) -> 0 | I45: =SUMIFS('1추일입'!L$6:L$100,'1추일입'!$A$6:$A$100,'1추총괄표(위원회)'!$A45,'1추일입'!$B$6:$B$100,'1추총괄표(위원회)'!$C45) -> 0 | J45: =SUMIFS('1추일입'!V$6:V$100,'1추일입'!$A$6:$A$100,'1추총괄표(위원회)'!$A45,'1추일입'!$B$6:$B$100,'1추총괄표(위원회)'!$C45) -> 0 | K45: =SUMIFS('1추일입'!W$6:W$100,'1추일입'!$A$6:$A$100,'1추총괄표(위원회)'!$A45,'1추일입'!$B$6:$B$100,'1추총괄표(위원회)'!$C45) -> 0 | L45: =SUMIFS('1추일입'!M$6:M$100,'1추일입'!$A$6:$A$100,'1추총괄표(위원회)'!$A45,'1추일입'!$B$6:$B$100,'1추총괄표(위원회)'!$C45) -> 0 | M45: =SUMIFS('1추일입'!N$6:N$100,'1추일입'!$A$6:$A$100,'1추총괄표(위원회)'!$A45,'1추일입'!$B$6:$B$100,'1추총괄표(위원회)'!$C45) -> 0 | N45: =SUMIFS('1추일입'!O$6:O$100,'1추일입'!$A$6:$A$100,'1추총괄표(위원회)'!$A45,'1추일입'!$B$6:$B$100,'1추총괄표(위원회)'!$C45) -> 0 | O45: =SUMIFS('1추일입'!AA$6:AA$100,'1추일입'!$A$6:$A$100,'1추총괄표(위원회)'!$A45,'1추일입'!$B$6:$B$100,'1추총괄표(위원회)'!$C45) -> 0 | P45: =SUMIFS('1추일입'!AB$6:AB$100,'1추일입'!$A$6:$A$100,'1추총괄표(위원회)'!$A45,'1추일입'!$B$6:$B$100,'1추총괄표(위원회)'!$C45) -> 0 | R45: =SUMIFS('1추일출'!G$6:G$14,'1추일출'!$A$6:$A$14,'1추총괄표(위원회)'!$A45,'1추일출'!$B$6:$B$14,'1추총괄표(위원회)'!$C45) -> 0 | S45: =SUMIFS('1추일출'!H$6:H$14,'1추일출'!$A$6:$A$14,'1추총괄표(위원회)'!$A45,'1추일출'!$B$6:$B$14,'1추총괄표(위원회)'!$C45) -> 0 | T45: =R45-S45 -> 0 | U45: =SUMIFS('1추일출'!J$6:J$14,'1추일출'!$A$6:$A$14,'1추총괄표(위원회)'!$A45,'1추일출'!$B$6:$B$14,'1추총괄표(위원회)'!$C45) -> 0 | V45: =SUMIFS('1추일출'!K$6:K$14,'1추일출'!$A$6:$A$14,'1추총괄표(위원회)'!$A45,'1추일출'!$B$6:$B$14,'1추총괄표(위원회)'!$C45) -> 0 | W45: =SUMIFS('1추일출'!L$6:L$14,'1추일출'!$A$6:$A$14,'1추총괄표(위원회)'!$A45,'1추일출'!$B$6:$B$14,'1추총괄표(위원회)'!$C45) -> 0 | X45: =SUMIFS('1추일출'!V$6:V$14,'1추일출'!$A$6:$A$14,'1추총괄표(위원회)'!$A45,'1추일출'!$B$6:$B$14,'1추총괄표(위원회)'!$C45) -> 0 | Y45: =SUMIFS('1추일출'!W$6:W$14,'1추일출'!$A$6:$A$14,'1추총괄표(위원회)'!$A45,'1추일출'!$B$6:$B$14,'1추총괄표(위원회)'!$C45) -> 0 | Z45: =SUMIFS('1추일출'!M$6:M$14,'1추일출'!$A$6:$A$14,'1추총괄표(위원회)'!$A45,'1추일출'!$B$6:$B$14,'1추총괄표(위원회)'!$C45) -> 0 | AA45: =SUMIFS('1추일출'!N$6:N$14,'1추일출'!$A$6:$A$14,'1추총괄표(위원회)'!$A45,'1추일출'!$B$6:$B$14,'1추총괄표(위원회)'!$C45) -> 0 | AB45: =SUMIFS('1추일출'!O$6:O$14,'1추일출'!$A$6:$A$14,'1추총괄표(위원회)'!$A45,'1추일출'!$B$6:$B$14,'1추총괄표(위원회)'!$C45) -> 0 | AC45: =SUMIFS('1추일출'!AA$6:AA$14,'1추일출'!$A$6:$A$14,'1추총괄표(위원회)'!$A45,'1추일출'!$B$6:$B$14,'1추총괄표(위원회)'!C$9) -> 0 | AD45: =SUMIFS('1추일출'!AB$6:AB$14,'1추일출'!$A$6:$A$14,'1추총괄표(위원회)'!$A45,'1추일출'!$B$6:$B$14,'1추총괄표(위원회)'!D$9) -> 0 | AF45: =IF(J45=X45,"OK","@@") -> OK | AG45: =J45-X45 -> 0 | AH45: =IF(O45=AC45,"OK","@@") -> OK | AI45: =O45-AC45 -> 0
A46: 도시환경위원회 | C46: 축산산림국 | D46: =SUMIFS('1추일입'!G$6:G$100,'1추일입'!$A$6:$A$100,'1추총괄표(위원회)'!$A46,'1추일입'!$B$6:$B$100,'1추총괄표(위원회)'!$C46) -> 0 | E46: =SUMIFS('1추일입'!H$6:H$100,'1추일입'!$A$6:$A$100,'1추총괄표(위원회)'!$A46,'1추일입'!$B$6:$B$100,'1추총괄표(위원회)'!$C46) -> 0 | F46: =D46-E46 -> 0 | G46: =SUMIFS('1추일입'!J$6:J$100,'1추일입'!$A$6:$A$100,'1추총괄표(위원회)'!$A46,'1추일입'!$B$6:$B$100,'1추총괄표(위원회)'!$C46) -> 0 | H46: =SUMIFS('1추일입'!K$6:K$100,'1추일입'!$A$6:$A$100,'1추총괄표(위원회)'!$A46,'1추일입'!$B$6:$B$100,'1추총괄표(위원회)'!$C46) -> 0 | I46: =SUMIFS('1추일입'!L$6:L$100,'1추일입'!$A$6:$A$100,'1추총괄표(위원회)'!$A46,'1추일입'!$B$6:$B$100,'1추총괄표(위원회)'!$C46) -> 0 | J46: =SUMIFS('1추일입'!V$6:V$100,'1추일입'!$A$6:$A$100,'1추총괄표(위원회)'!$A46,'1추일입'!$B$6:$B$100,'1추총괄표(위원회)'!$C46) -> 0 | K46: =SUMIFS('1추일입'!W$6:W$100,'1추일입'!$A$6:$A$100,'1추총괄표(위원회)'!$A46,'1추일입'!$B$6:$B$100,'1추총괄표(위원회)'!$C46) -> 0 | L46: =SUMIFS('1추일입'!M$6:M$100,'1추일입'!$A$6:$A$100,'1추총괄표(위원회)'!$A46,'1추일입'!$B$6:$B$100,'1추총괄표(위원회)'!$C46) -> 0 | M46: =SUMIFS('1추일입'!N$6:N$100,'1추일입'!$A$6:$A$100,'1추총괄표(위원회)'!$A46,'1추일입'!$B$6:$B$100,'1추총괄표(위원회)'!$C46) -> 0 | N46: =SUMIFS('1추일입'!O$6:O$100,'1추일입'!$A$6:$A$100,'1추총괄표(위원회)'!$A46,'1추일입'!$B$6:$B$100,'1추총괄표(위원회)'!$C46) -> 0 | O46: =SUMIFS('1추일입'!AA$6:AA$100,'1추일입'!$A$6:$A$100,'1추총괄표(위원회)'!$A46,'1추일입'!$B$6:$B$100,'1추총괄표(위원회)'!$C46) -> 0 | P46: =SUMIFS('1추일입'!AB$6:AB$100,'1추일입'!$A$6:$A$100,'1추총괄표(위원회)'!$A46,'1추일입'!$B$6:$B$100,'1추총괄표(위원회)'!$C46) -> 0 | R46: =SUMIFS('1추일출'!G$6:G$14,'1추일출'!$A$6:$A$14,'1추총괄표(위원회)'!$A46,'1추일출'!$B$6:$B$14,'1추총괄표(위원회)'!$C46) -> 0 | S46: =SUMIFS('1추일출'!H$6:H$14,'1추일출'!$A$6:$A$14,'1추총괄표(위원회)'!$A46,'1추일출'!$B$6:$B$14,'1추총괄표(위원회)'!$C46) -> 0 | T46: =R46-S46 -> 0 | U46: =SUMIFS('1추일출'!J$6:J$14,'1추일출'!$A$6:$A$14,'1추총괄표(위원회)'!$A46,'1추일출'!$B$6:$B$14,'1추총괄표(위원회)'!$C46) -> 0 | V46: =SUMIFS('1추일출'!K$6:K$14,'1추일출'!$A$6:$A$14,'1추총괄표(위원회)'!$A46,'1추일출'!$B$6:$B$14,'1추총괄표(위원회)'!$C46) -> 0 | W46: =SUMIFS('1추일출'!L$6:L$14,'1추일출'!$A$6:$A$14,'1추총괄표(위원회)'!$A46,'1추일출'!$B$6:$B$14,'1추총괄표(위원회)'!$C46) -> 0 | X46: =SUMIFS('1추일출'!V$6:V$14,'1추일출'!$A$6:$A$14,'1추총괄표(위원회)'!$A46,'1추일출'!$B$6:$B$14,'1추총괄표(위원회)'!$C46) -> 0 | Y46: =SUMIFS('1추일출'!W$6:W$14,'1추일출'!$A$6:$A$14,'1추총괄표(위원회)'!$A46,'1추일출'!$B$6:$B$14,'1추총괄표(위원회)'!$C46) -> 0 | Z46: =SUMIFS('1추일출'!M$6:M$14,'1추일출'!$A$6:$A$14,'1추총괄표(위원회)'!$A46,'1추일출'!$B$6:$B$14,'1추총괄표(위원회)'!$C46) -> 0 | AA46: =SUMIFS('1추일출'!N$6:N$14,'1추일출'!$A$6:$A$14,'1추총괄표(위원회)'!$A46,'1추일출'!$B$6:$B$14,'1추총괄표(위원회)'!$C46) -> 0 | AB46: =SUMIFS('1추일출'!O$6:O$14,'1추일출'!$A$6:$A$14,'1추총괄표(위원회)'!$A46,'1추일출'!$B$6:$B$14,'1추총괄표(위원회)'!$C46) -> 0 | AC46: =SUMIFS('1추일출'!AA$6:AA$14,'1추일출'!$A$6:$A$14,'1추총괄표(위원회)'!$A46,'1추일출'!$B$6:$B$14,'1추총괄표(위원회)'!C$9) -> 0 | AD46: =SUMIFS('1추일출'!AB$6:AB$14,'1추일출'!$A$6:$A$14,'1추총괄표(위원회)'!$A46,'1추일출'!$B$6:$B$14,'1추총괄표(위원회)'!D$9) -> 0 | AF46: =IF(J46=X46,"OK","@@") -> OK | AG46: =J46-X46 -> 0 | AH46: =IF(O46=AC46,"OK","@@") -> OK | AI46: =O46-AC46 -> 0
A47: 도시환경위원회 | C47: 보건환경연구원 | D47: =SUMIFS('1추일입'!G$6:G$100,'1추일입'!$A$6:$A$100,'1추총괄표(위원회)'!$A47,'1추일입'!$B$6:$B$100,'1추총괄표(위원회)'!$C47) -> 0 | E47: =SUMIFS('1추일입'!H$6:H$100,'1추일입'!$A$6:$A$100,'1추총괄표(위원회)'!$A47,'1추일입'!$B$6:$B$100,'1추총괄표(위원회)'!$C47) -> 0 | F47: =D47-E47 -> 0 | G47: =SUMIFS('1추일입'!J$6:J$100,'1추일입'!$A$6:$A$100,'1추총괄표(위원회)'!$A47,'1추일입'!$B$6:$B$100,'1추총괄표(위원회)'!$C47) -> 0 | H47: =SUMIFS('1추일입'!K$6:K$100,'1추일입'!$A$6:$A$100,'1추총괄표(위원회)'!$A47,'1추일입'!$B$6:$B$100,'1추총괄표(위원회)'!$C47) -> 0 | I47: =SUMIFS('1추일입'!L$6:L$100,'1추일입'!$A$6:$A$100,'1추총괄표(위원회)'!$A47,'1추일입'!$B$6:$B$100,'1추총괄표(위원회)'!$C47) -> 0 | J47: =SUMIFS('1추일입'!V$6:V$100,'1추일입'!$A$6:$A$100,'1추총괄표(위원회)'!$A47,'1추일입'!$B$6:$B$100,'1추총괄표(위원회)'!$C47) -> 0 | K47: =SUMIFS('1추일입'!W$6:W$100,'1추일입'!$A$6:$A$100,'1추총괄표(위원회)'!$A47,'1추일입'!$B$6:$B$100,'1추총괄표(위원회)'!$C47) -> 0 | L47: =SUMIFS('1추일입'!M$6:M$100,'1추일입'!$A$6:$A$100,'1추총괄표(위원회)'!$A47,'1추일입'!$B$6:$B$100,'1추총괄표(위원회)'!$C47) -> 0 | M47: =SUMIFS('1추일입'!N$6:N$100,'1추일입'!$A$6:$A$100,'1추총괄표(위원회)'!$A47,'1추일입'!$B$6:$B$100,'1추총괄표(위원회)'!$C47) -> 0 | N47: =SUMIFS('1추일입'!O$6:O$100,'1추일입'!$A$6:$A$100,'1추총괄표(위원회)'!$A47,'1추일입'!$B$6:$B$100,'1추총괄표(위원회)'!$C47) -> 0 | O47: =SUMIFS('1추일입'!AA$6:AA$100,'1추일입'!$A$6:$A$100,'1추총괄표(위원회)'!$A47,'1추일입'!$B$6:$B$100,'1추총괄표(위원회)'!$C47) -> 0 | P47: =SUMIFS('1추일입'!AB$6:AB$100,'1추일입'!$A$6:$A$100,'1추총괄표(위원회)'!$A47,'1추일입'!$B$6:$B$100,'1추총괄표(위원회)'!$C47) -> 0 | R47: =SUMIFS('1추일출'!G$6:G$14,'1추일출'!$A$6:$A$14,'1추총괄표(위원회)'!$A47,'1추일출'!$B$6:$B$14,'1추총괄표(위원회)'!$C47) -> 0 | S47: =SUMIFS('1추일출'!H$6:H$14,'1추일출'!$A$6:$A$14,'1추총괄표(위원회)'!$A47,'1추일출'!$B$6:$B$14,'1추총괄표(위원회)'!$C47) -> 0 | T47: =R47-S47 -> 0 | U47: =SUMIFS('1추일출'!J$6:J$14,'1추일출'!$A$6:$A$14,'1추총괄표(위원회)'!$A47,'1추일출'!$B$6:$B$14,'1추총괄표(위원회)'!$C47) -> 0 | V47: =SUMIFS('1추일출'!K$6:K$14,'1추일출'!$A$6:$A$14,'1추총괄표(위원회)'!$A47,'1추일출'!$B$6:$B$14,'1추총괄표(위원회)'!$C47) -> 0 | W47: =SUMIFS('1추일출'!L$6:L$14,'1추일출'!$A$6:$A$14,'1추총괄표(위원회)'!$A47,'1추일출'!$B$6:$B$14,'1추총괄표(위원회)'!$C47) -> 0 | X47: =SUMIFS('1추일출'!V$6:V$14,'1추일출'!$A$6:$A$14,'1추총괄표(위원회)'!$A47,'1추일출'!$B$6:$B$14,'1추총괄표(위원회)'!$C47) -> 0 | Y47: =SUMIFS('1추일출'!W$6:W$14,'1추일출'!$A$6:$A$14,'1추총괄표(위원회)'!$A47,'1추일출'!$B$6:$B$14,'1추총괄표(위원회)'!$C47) -> 0 | Z47: =SUMIFS('1추일출'!M$6:M$14,'1추일출'!$A$6:$A$14,'1추총괄표(위원회)'!$A47,'1추일출'!$B$6:$B$14,'1추총괄표(위원회)'!$C47) -> 0 | AA47: =SUMIFS('1추일출'!N$6:N$14,'1추일출'!$A$6:$A$14,'1추총괄표(위원회)'!$A47,'1추일출'!$B$6:$B$14,'1추총괄표(위원회)'!$C47) -> 0 | AB47: =SUMIFS('1추일출'!O$6:O$14,'1추일출'!$A$6:$A$14,'1추총괄표(위원회)'!$A47,'1추일출'!$B$6:$B$14,'1추총괄표(위원회)'!$C47) -> 0 | AC47: =SUMIFS('1추일출'!AA$6:AA$14,'1추일출'!$A$6:$A$14,'1추총괄표(위원회)'!$A47,'1추일출'!$B$6:$B$14,'1추총괄표(위원회)'!C$9) -> 0 | AD47: =SUMIFS('1추일출'!AB$6:AB$14,'1추일출'!$A$6:$A$14,'1추총괄표(위원회)'!$A47,'1추일출'!$B$6:$B$14,'1추총괄표(위원회)'!D$9) -> 0 | AF47: =IF(J47=X47,"OK","@@") -> OK | AG47: =J47-X47 -> 0 | AH47: =IF(O47=AC47,"OK","@@") -> OK | AI47: =O47-AC47 -> 0
A48: 도시환경위원회 | C48: 수자원본부 | D48: =SUMIFS('1추일입'!G$6:G$100,'1추일입'!$A$6:$A$100,'1추총괄표(위원회)'!$A48,'1추일입'!$B$6:$B$100,'1추총괄표(위원회)'!$C48) -> 0 | E48: =SUMIFS('1추일입'!H$6:H$100,'1추일입'!$A$6:$A$100,'1추총괄표(위원회)'!$A48,'1추일입'!$B$6:$B$100,'1추총괄표(위원회)'!$C48) -> 0 | F48: =D48-E48 -> 0 | G48: =SUMIFS('1추일입'!J$6:J$100,'1추일입'!$A$6:$A$100,'1추총괄표(위원회)'!$A48,'1추일입'!$B$6:$B$100,'1추총괄표(위원회)'!$C48) -> 0 | H48: =SUMIFS('1추일입'!K$6:K$100,'1추일입'!$A$6:$A$100,'1추총괄표(위원회)'!$A48,'1추일입'!$B$6:$B$100,'1추총괄표(위원회)'!$C48) -> 0 | I48: =SUMIFS('1추일입'!L$6:L$100,'1추일입'!$A$6:$A$100,'1추총괄표(위원회)'!$A48,'1추일입'!$B$6:$B$100,'1추총괄표(위원회)'!$C48) -> 0 | J48: =SUMIFS('1추일입'!V$6:V$100,'1추일입'!$A$6:$A$100,'1추총괄표(위원회)'!$A48,'1추일입'!$B$6:$B$100,'1추총괄표(위원회)'!$C48) -> 0 | K48: =SUMIFS('1추일입'!W$6:W$100,'1추일입'!$A$6:$A$100,'1추총괄표(위원회)'!$A48,'1추일입'!$B$6:$B$100,'1추총괄표(위원회)'!$C48) -> 0 | L48: =SUMIFS('1추일입'!M$6:M$100,'1추일입'!$A$6:$A$100,'1추총괄표(위원회)'!$A48,'1추일입'!$B$6:$B$100,'1추총괄표(위원회)'!$C48) -> 0 | M48: =SUMIFS('1추일입'!N$6:N$100,'1추일입'!$A$6:$A$100,'1추총괄표(위원회)'!$A48,'1추일입'!$B$6:$B$100,'1추총괄표(위원회)'!$C48) -> 0 | N48: =SUMIFS('1추일입'!O$6:O$100,'1추일입'!$A$6:$A$100,'1추총괄표(위원회)'!$A48,'1추일입'!$B$6:$B$100,'1추총괄표(위원회)'!$C48) -> 0 | O48: =SUMIFS('1추일입'!AA$6:AA$100,'1추일입'!$A$6:$A$100,'1추총괄표(위원회)'!$A48,'1추일입'!$B$6:$B$100,'1추총괄표(위원회)'!$C48) -> 0 | P48: =SUMIFS('1추일입'!AB$6:AB$100,'1추일입'!$A$6:$A$100,'1추총괄표(위원회)'!$A48,'1추일입'!$B$6:$B$100,'1추총괄표(위원회)'!$C48) -> 0 | R48: =SUMIFS('1추일출'!G$6:G$14,'1추일출'!$A$6:$A$14,'1추총괄표(위원회)'!$A48,'1추일출'!$B$6:$B$14,'1추총괄표(위원회)'!$C48) -> 0 | S48: =SUMIFS('1추일출'!H$6:H$14,'1추일출'!$A$6:$A$14,'1추총괄표(위원회)'!$A48,'1추일출'!$B$6:$B$14,'1추총괄표(위원회)'!$C48) -> 0 | T48: =R48-S48 -> 0 | U48: =SUMIFS('1추일출'!J$6:J$14,'1추일출'!$A$6:$A$14,'1추총괄표(위원회)'!$A48,'1추일출'!$B$6:$B$14,'1추총괄표(위원회)'!$C48) -> 0 | V48: =SUMIFS('1추일출'!K$6:K$14,'1추일출'!$A$6:$A$14,'1추총괄표(위원회)'!$A48,'1추일출'!$B$6:$B$14,'1추총괄표(위원회)'!$C48) -> 0 | W48: =SUMIFS('1추일출'!L$6:L$14,'1추일출'!$A$6:$A$14,'1추총괄표(위원회)'!$A48,'1추일출'!$B$6:$B$14,'1추총괄표(위원회)'!$C48) -> 0 | X48: =SUMIFS('1추일출'!V$6:V$14,'1추일출'!$A$6:$A$14,'1추총괄표(위원회)'!$A48,'1추일출'!$B$6:$B$14,'1추총괄표(위원회)'!$C48) -> 0 | Y48: =SUMIFS('1추일출'!W$6:W$14,'1추일출'!$A$6:$A$14,'1추총괄표(위원회)'!$A48,'1추일출'!$B$6:$B$14,'1추총괄표(위원회)'!$C48) -> 0 | Z48: =SUMIFS('1추일출'!M$6:M$14,'1추일출'!$A$6:$A$14,'1추총괄표(위원회)'!$A48,'1추일출'!$B$6:$B$14,'1추총괄표(위원회)'!$C48) -> 0 | AA48: =SUMIFS('1추일출'!N$6:N$14,'1추일출'!$A$6:$A$14,'1추총괄표(위원회)'!$A48,'1추일출'!$B$6:$B$14,'1추총괄표(위원회)'!$C48) -> 0 | AB48: =SUMIFS('1추일출'!O$6:O$14,'1추일출'!$A$6:$A$14,'1추총괄표(위원회)'!$A48,'1추일출'!$B$6:$B$14,'1추총괄표(위원회)'!$C48) -> 0 | AC48: =SUMIFS('1추일출'!AA$6:AA$14,'1추일출'!$A$6:$A$14,'1추총괄표(위원회)'!$A48,'1추일출'!$B$6:$B$14,'1추총괄표(위원회)'!C$9) -> 0 | AD48: =SUMIFS('1추일출'!AB$6:AB$14,'1추일출'!$A$6:$A$14,'1추총괄표(위원회)'!$A48,'1추일출'!$B$6:$B$14,'1추총괄표(위원회)'!D$9) -> 0 | AF48: =IF(J48=X48,"OK","@@") -> OK | AG48: =J48-X48 -> 0 | AH48: =IF(O48=AC48,"OK","@@") -> OK | AI48: =O48-AC48 -> 0
B49: 여성가족교육협력위원회 | D49: =SUM(D50:D52) -> 0 | E49: =SUM(E50:E52) -> 0 | F49: =SUM(F50:F52) -> 0 | G49: =SUM(G50:G52) -> 0 | H49: =SUM(H50:H52) -> 0 | I49: =SUM(I50:I52) -> 0 | J49: =SUM(J50:J52) -> 0 | K49: =SUM(K50:K52) -> 0 | ... P49: =SUM(P50:P52) -> 0 | R49: =SUM(R50:R52) -> 0 | S49: =SUM(S50:S52) -> 0 | T49: =SUM(T50:T52) -> 0 | U49: =SUM(U50:U52) -> 0 | V49: =SUM(V50:V52) -> 0 | W49: =SUM(W50:W52) -> 0 | X49: =SUM(X50:X52) -> 0 | Y49: =SUM(Y50:Y52) -> 0 | ... AD49: =SUM(AD50:AD52) -> 0 | AF49: =IF(J49=X49,"OK","@@") -> OK | AG49: =J49-X49 -> 0 | AH49: =IF(O49=AC49,"OK","@@") -> OK | AI49: =O49-AC49 -> 0
A50: 여성가족교육협력위원회 | C50: 여성가족국 | D50: =SUMIFS('1추일입'!G$6:G$100,'1추일입'!$A$6:$A$100,'1추총괄표(위원회)'!$A50,'1추일입'!$B$6:$B$100,'1추총괄표(위원회)'!$C50) -> 0 | E50: =SUMIFS('1추일입'!H$6:H$100,'1추일입'!$A$6:$A$100,'1추총괄표(위원회)'!$A50,'1추일입'!$B$6:$B$100,'1추총괄표(위원회)'!$C50) -> 0 | F50: =D50-E50 -> 0 | G50: =SUMIFS('1추일입'!J$6:J$100,'1추일입'!$A$6:$A$100,'1추총괄표(위원회)'!$A50,'1추일입'!$B$6:$B$100,'1추총괄표(위원회)'!$C50) -> 0 | H50: =SUMIFS('1추일입'!K$6:K$100,'1추일입'!$A$6:$A$100,'1추총괄표(위원회)'!$A50,'1추일입'!$B$6:$B$100,'1추총괄표(위원회)'!$C50) -> 0 | I50: =SUMIFS('1추일입'!L$6:L$100,'1추일입'!$A$6:$A$100,'1추총괄표(위원회)'!$A50,'1추일입'!$B$6:$B$100,'1추총괄표(위원회)'!$C50) -> 0 | J50: =SUMIFS('1추일입'!V$6:V$100,'1추일입'!$A$6:$A$100,'1추총괄표(위원회)'!$A50,'1추일입'!$B$6:$B$100,'1추총괄표(위원회)'!$C50) -> 0 | K50: =SUMIFS('1추일입'!W$6:W$100,'1추일입'!$A$6:$A$100,'1추총괄표(위원회)'!$A50,'1추일입'!$B$6:$B$100,'1추총괄표(위원회)'!$C50) -> 0 | L50: =SUMIFS('1추일입'!M$6:M$100,'1추일입'!$A$6:$A$100,'1추총괄표(위원회)'!$A50,'1추일입'!$B$6:$B$100,'1추총괄표(위원회)'!$C50) -> 0 | M50: =SUMIFS('1추일입'!N$6:N$100,'1추일입'!$A$6:$A$100,'1추총괄표(위원회)'!$A50,'1추일입'!$B$6:$B$100,'1추총괄표(위원회)'!$C50) -> 0 | N50: =SUMIFS('1추일입'!O$6:O$100,'1추일입'!$A$6:$A$100,'1추총괄표(위원회)'!$A50,'1추일입'!$B$6:$B$100,'1추총괄표(위원회)'!$C50) -> 0 | O50: =SUMIFS('1추일입'!AA$6:AA$100,'1추일입'!$A$6:$A$100,'1추총괄표(위원회)'!$A50,'1추일입'!$B$6:$B$100,'1추총괄표(위원회)'!$C50) -> 0 | P50: =SUMIFS('1추일입'!AB$6:AB$100,'1추일입'!$A$6:$A$100,'1추총괄표(위원회)'!$A50,'1추일입'!$B$6:$B$100,'1추총괄표(위원회)'!$C50) -> 0 | R50: =SUMIFS('1추일출'!G$6:G$14,'1추일출'!$A$6:$A$14,'1추총괄표(위원회)'!$A50,'1추일출'!$B$6:$B$14,'1추총괄표(위원회)'!$C50) -> 0 | S50: =SUMIFS('1추일출'!H$6:H$14,'1추일출'!$A$6:$A$14,'1추총괄표(위원회)'!$A50,'1추일출'!$B$6:$B$14,'1추총괄표(위원회)'!$C50) -> 0 | T50: =R50-S50 -> 0 | U50: =SUMIFS('1추일출'!J$6:J$14,'1추일출'!$A$6:$A$14,'1추총괄표(위원회)'!$A50,'1추일출'!$B$6:$B$14,'1추총괄표(위원회)'!$C50) -> 0 | V50: =SUMIFS('1추일출'!K$6:K$14,'1추일출'!$A$6:$A$14,'1추총괄표(위원회)'!$A50,'1추일출'!$B$6:$B$14,'1추총괄표(위원회)'!$C50) -> 0 | W50: =SUMIFS('1추일출'!L$6:L$14,'1추일출'!$A$6:$A$14,'1추총괄표(위원회)'!$A50,'1추일출'!$B$6:$B$14,'1추총괄표(위원회)'!$C50) -> 0 | X50: =SUMIFS('1추일출'!V$6:V$14,'1추일출'!$A$6:$A$14,'1추총괄표(위원회)'!$A50,'1추일출'!$B$6:$B$14,'1추총괄표(위원회)'!$C50) -> 0 | Y50: =SUMIFS('1추일출'!W$6:W$14,'1추일출'!$A$6:$A$14,'1추총괄표(위원회)'!$A50,'1추일출'!$B$6:$B$14,'1추총괄표(위원회)'!$C50) -> 0 | Z50: =SUMIFS('1추일출'!M$6:M$14,'1추일출'!$A$6:$A$14,'1추총괄표(위원회)'!$A50,'1추일출'!$B$6:$B$14,'1추총괄표(위원회)'!$C50) -> 0 | AA50: =SUMIFS('1추일출'!N$6:N$14,'1추일출'!$A$6:$A$14,'1추총괄표(위원회)'!$A50,'1추일출'!$B$6:$B$14,'1추총괄표(위원회)'!$C50) -> 0 | AB50: =SUMIFS('1추일출'!O$6:O$14,'1추일출'!$A$6:$A$14,'1추총괄표(위원회)'!$A50,'1추일출'!$B$6:$B$14,'1추총괄표(위원회)'!$C50) -> 0 | AC50: =SUMIFS('1추일출'!AA$6:AA$14,'1추일출'!$A$6:$A$14,'1추총괄표(위원회)'!$A50,'1추일출'!$B$6:$B$14,'1추총괄표(위원회)'!C$9) -> 0 | AD50: =SUMIFS('1추일출'!AB$6:AB$14,'1추일출'!$A$6:$A$14,'1추총괄표(위원회)'!$A50,'1추일출'!$B$6:$B$14,'1추총괄표(위원회)'!D$9) -> 0 | AF50: =IF(J50=X50,"OK","@@") -> OK | AG50: =J50-X50 -> 0 | AH50: =IF(O50=AC50,"OK","@@") -> OK | AI50: =O50-AC50 -> 0
A51: 여성가족교육협력위원회 | C51: 복지여성실 | D51: =SUMIFS('1추일입'!G$6:G$100,'1추일입'!$A$6:$A$100,'1추총괄표(위원회)'!$A51,'1추일입'!$B$6:$B$100,'1추총괄표(위원회)'!$C51) -> 0 | E51: =SUMIFS('1추일입'!H$6:H$100,'1추일입'!$A$6:$A$100,'1추총괄표(위원회)'!$A51,'1추일입'!$B$6:$B$100,'1추총괄표(위원회)'!$C51) -> 0 | F51: =D51-E51 -> 0 | G51: =SUMIFS('1추일입'!J$6:J$100,'1추일입'!$A$6:$A$100,'1추총괄표(위원회)'!$A51,'1추일입'!$B$6:$B$100,'1추총괄표(위원회)'!$C51) -> 0 | H51: =SUMIFS('1추일입'!K$6:K$100,'1추일입'!$A$6:$A$100,'1추총괄표(위원회)'!$A51,'1추일입'!$B$6:$B$100,'1추총괄표(위원회)'!$C51) -> 0 | I51: =SUMIFS('1추일입'!L$6:L$100,'1추일입'!$A$6:$A$100,'1추총괄표(위원회)'!$A51,'1추일입'!$B$6:$B$100,'1추총괄표(위원회)'!$C51) -> 0 | J51: =SUMIFS('1추일입'!V$6:V$100,'1추일입'!$A$6:$A$100,'1추총괄표(위원회)'!$A51,'1추일입'!$B$6:$B$100,'1추총괄표(위원회)'!$C51) -> 0 | K51: =SUMIFS('1추일입'!W$6:W$100,'1추일입'!$A$6:$A$100,'1추총괄표(위원회)'!$A51,'1추일입'!$B$6:$B$100,'1추총괄표(위원회)'!$C51) -> 0 | L51: =SUMIFS('1추일입'!M$6:M$100,'1추일입'!$A$6:$A$100,'1추총괄표(위원회)'!$A51,'1추일입'!$B$6:$B$100,'1추총괄표(위원회)'!$C51) -> 0 | M51: =SUMIFS('1추일입'!N$6:N$100,'1추일입'!$A$6:$A$100,'1추총괄표(위원회)'!$A51,'1추일입'!$B$6:$B$100,'1추총괄표(위원회)'!$C51) -> 0 | N51: =SUMIFS('1추일입'!O$6:O$100,'1추일입'!$A$6:$A$100,'1추총괄표(위원회)'!$A51,'1추일입'!$B$6:$B$100,'1추총괄표(위원회)'!$C51) -> 0 | O51: =SUMIFS('1추일입'!AA$6:AA$100,'1추일입'!$A$6:$A$100,'1추총괄표(위원회)'!$A51,'1추일입'!$B$6:$B$100,'1추총괄표(위원회)'!$C51) -> 0 | P51: =SUMIFS('1추일입'!AB$6:AB$100,'1추일입'!$A$6:$A$100,'1추총괄표(위원회)'!$A51,'1추일입'!$B$6:$B$100,'1추총괄표(위원회)'!$C51) -> 0 | R51: =SUMIFS('1추일출'!G$6:G$14,'1추일출'!$A$6:$A$14,'1추총괄표(위원회)'!$A51,'1추일출'!$B$6:$B$14,'1추총괄표(위원회)'!$C51) -> 0 | S51: =SUMIFS('1추일출'!H$6:H$14,'1추일출'!$A$6:$A$14,'1추총괄표(위원회)'!$A51,'1추일출'!$B$6:$B$14,'1추총괄표(위원회)'!$C51) -> 0 | T51: =R51-S51 -> 0 | U51: =SUMIFS('1추일출'!J$6:J$14,'1추일출'!$A$6:$A$14,'1추총괄표(위원회)'!$A51,'1추일출'!$B$6:$B$14,'1추총괄표(위원회)'!$C51) -> 0 | V51: =SUMIFS('1추일출'!K$6:K$14,'1추일출'!$A$6:$A$14,'1추총괄표(위원회)'!$A51,'1추일출'!$B$6:$B$14,'1추총괄표(위원회)'!$C51) -> 0 | W51: =SUMIFS('1추일출'!L$6:L$14,'1추일출'!$A$6:$A$14,'1추총괄표(위원회)'!$A51,'1추일출'!$B$6:$B$14,'1추총괄표(위원회)'!$C51) -> 0 | X51: =SUMIFS('1추일출'!V$6:V$14,'1추일출'!$A$6:$A$14,'1추총괄표(위원회)'!$A51,'1추일출'!$B$6:$B$14,'1추총괄표(위원회)'!$C51) -> 0 | Y51: =SUMIFS('1추일출'!W$6:W$14,'1추일출'!$A$6:$A$14,'1추총괄표(위원회)'!$A51,'1추일출'!$B$6:$B$14,'1추총괄표(위원회)'!$C51) -> 0 | Z51: =SUMIFS('1추일출'!M$6:M$14,'1추일출'!$A$6:$A$14,'1추총괄표(위원회)'!$A51,'1추일출'!$B$6:$B$14,'1추총괄표(위원회)'!$C51) -> 0 | AA51: =SUMIFS('1추일출'!N$6:N$14,'1추일출'!$A$6:$A$14,'1추총괄표(위원회)'!$A51,'1추일출'!$B$6:$B$14,'1추총괄표(위원회)'!$C51) -> 0 | AB51: =SUMIFS('1추일출'!O$6:O$14,'1추일출'!$A$6:$A$14,'1추총괄표(위원회)'!$A51,'1추일출'!$B$6:$B$14,'1추총괄표(위원회)'!$C51) -> 0 | AC51: =SUMIFS('1추일출'!AA$6:AA$14,'1추일출'!$A$6:$A$14,'1추총괄표(위원회)'!$A51,'1추일출'!$B$6:$B$14,'1추총괄표(위원회)'!C$9) -> 0 | AD51: =SUMIFS('1추일출'!AB$6:AB$14,'1추일출'!$A$6:$A$14,'1추총괄표(위원회)'!$A51,'1추일출'!$B$6:$B$14,'1추총괄표(위원회)'!D$9) -> 0 | AF51: =IF(J51=X51,"OK","@@") -> OK | AG51: =J51-X51 -> 0 | AH51: =IF(O51=AC51,"OK","@@") -> OK | AI51: =O51-AC51 -> 0
A52: 여성가족교육협력위원회 | C52: 교육협력국 | D52: =SUMIFS('1추일입'!G$6:G$100,'1추일입'!$A$6:$A$100,'1추총괄표(위원회)'!$A52,'1추일입'!$B$6:$B$100,'1추총괄표(위원회)'!$C52) -> 0 | E52: =SUMIFS('1추일입'!H$6:H$100,'1추일입'!$A$6:$A$100,'1추총괄표(위원회)'!$A52,'1추일입'!$B$6:$B$100,'1추총괄표(위원회)'!$C52) -> 0 | F52: =D52-E52 -> 0 | G52: =SUMIFS('1추일입'!J$6:J$100,'1추일입'!$A$6:$A$100,'1추총괄표(위원회)'!$A52,'1추일입'!$B$6:$B$100,'1추총괄표(위원회)'!$C52) -> 0 | H52: =SUMIFS('1추일입'!K$6:K$100,'1추일입'!$A$6:$A$100,'1추총괄표(위원회)'!$A52,'1추일입'!$B$6:$B$100,'1추총괄표(위원회)'!$C52) -> 0 | I52: =SUMIFS('1추일입'!L$6:L$100,'1추일입'!$A$6:$A$100,'1추총괄표(위원회)'!$A52,'1추일입'!$B$6:$B$100,'1추총괄표(위원회)'!$C52) -> 0 | J52: =SUMIFS('1추일입'!V$6:V$100,'1추일입'!$A$6:$A$100,'1추총괄표(위원회)'!$A52,'1추일입'!$B$6:$B$100,'1추총괄표(위원회)'!$C52) -> 0 | K52: =SUMIFS('1추일입'!W$6:W$100,'1추일입'!$A$6:$A$100,'1추총괄표(위원회)'!$A52,'1추일입'!$B$6:$B$100,'1추총괄표(위원회)'!$C52) -> 0 | L52: =SUMIFS('1추일입'!M$6:M$100,'1추일입'!$A$6:$A$100,'1추총괄표(위원회)'!$A52,'1추일입'!$B$6:$B$100,'1추총괄표(위원회)'!$C52) -> 0 | M52: =SUMIFS('1추일입'!N$6:N$100,'1추일입'!$A$6:$A$100,'1추총괄표(위원회)'!$A52,'1추일입'!$B$6:$B$100,'1추총괄표(위원회)'!$C52) -> 0 | N52: =SUMIFS('1추일입'!O$6:O$100,'1추일입'!$A$6:$A$100,'1추총괄표(위원회)'!$A52,'1추일입'!$B$6:$B$100,'1추총괄표(위원회)'!$C52) -> 0 | O52: =SUMIFS('1추일입'!AA$6:AA$100,'1추일입'!$A$6:$A$100,'1추총괄표(위원회)'!$A52,'1추일입'!$B$6:$B$100,'1추총괄표(위원회)'!$C52) -> 0 | P52: =SUMIFS('1추일입'!AB$6:AB$100,'1추일입'!$A$6:$A$100,'1추총괄표(위원회)'!$A52,'1추일입'!$B$6:$B$100,'1추총괄표(위원회)'!$C52) -> 0 | R52: =SUMIFS('1추일출'!G$6:G$14,'1추일출'!$A$6:$A$14,'1추총괄표(위원회)'!$A52,'1추일출'!$B$6:$B$14,'1추총괄표(위원회)'!$C52) -> 0 | S52: =SUMIFS('1추일출'!H$6:H$14,'1추일출'!$A$6:$A$14,'1추총괄표(위원회)'!$A52,'1추일출'!$B$6:$B$14,'1추총괄표(위원회)'!$C52) -> 0 | T52: =R52-S52 -> 0 | U52: =SUMIFS('1추일출'!J$6:J$14,'1추일출'!$A$6:$A$14,'1추총괄표(위원회)'!$A52,'1추일출'!$B$6:$B$14,'1추총괄표(위원회)'!$C52) -> 0 | V52: =SUMIFS('1추일출'!K$6:K$14,'1추일출'!$A$6:$A$14,'1추총괄표(위원회)'!$A52,'1추일출'!$B$6:$B$14,'1추총괄표(위원회)'!$C52) -> 0 | W52: =SUMIFS('1추일출'!L$6:L$14,'1추일출'!$A$6:$A$14,'1추총괄표(위원회)'!$A52,'1추일출'!$B$6:$B$14,'1추총괄표(위원회)'!$C52) -> 0 | X52: =SUMIFS('1추일출'!V$6:V$14,'1추일출'!$A$6:$A$14,'1추총괄표(위원회)'!$A52,'1추일출'!$B$6:$B$14,'1추총괄표(위원회)'!$C52) -> 0 | Y52: =SUMIFS('1추일출'!W$6:W$14,'1추일출'!$A$6:$A$14,'1추총괄표(위원회)'!$A52,'1추일출'!$B$6:$B$14,'1추총괄표(위원회)'!$C52) -> 0 | Z52: =SUMIFS('1추일출'!M$6:M$14,'1추일출'!$A$6:$A$14,'1추총괄표(위원회)'!$A52,'1추일출'!$B$6:$B$14,'1추총괄표(위원회)'!$C52) -> 0 | AA52: =SUMIFS('1추일출'!N$6:N$14,'1추일출'!$A$6:$A$14,'1추총괄표(위원회)'!$A52,'1추일출'!$B$6:$B$14,'1추총괄표(위원회)'!$C52) -> 0 | AB52: =SUMIFS('1추일출'!O$6:O$14,'1추일출'!$A$6:$A$14,'1추총괄표(위원회)'!$A52,'1추일출'!$B$6:$B$14,'1추총괄표(위원회)'!$C52) -> 0 | AC52: =SUMIFS('1추일출'!AA$6:AA$14,'1추일출'!$A$6:$A$14,'1추총괄표(위원회)'!$A52,'1추일출'!$B$6:$B$14,'1추총괄표(위원회)'!C$9) -> 0 | AD52: =SUMIFS('1추일출'!AB$6:AB$14,'1추일출'!$A$6:$A$14,'1추총괄표(위원회)'!$A52,'1추일출'!$B$6:$B$14,'1추총괄표(위원회)'!D$9) -> 0 | AF52: =IF(J52=X52,"OK","@@") -> OK | AG52: =J52-X52 -> 0 | AH52: =IF(O52=AC52,"OK","@@") -> OK | AI52: =O52-AC52 -> 0

Sheet 1추일입
A1: 2015년도 제1회 추경 경기도 일반회계 세입 예산 조정(안)
A2: □ 세입예산 | V2: 세입=세출 | AA2: 세입=세출
J3: =COUNTA(J7:J100) -> 0 | K3: =COUNTA(K7:K100) -> 0 | M3: =COUNTA(M7:M100) -> 0 | N3: =COUNTA(N7:N100) -> 0 | Q3: (단위 : 천원) | V3: =IF(V6='1추일출'!V6,"OK","@@") -> @@ | X3: =IF(COUNTIF(X6:X100,"검토")>0,"@@","OK") -> OK | AA3: =IF(AA6='1추일출'!AA6,"OK","@@") -> OK | AC3: =IF(COUNTIF(AC6:AC100,"검토")>0,"@@","OK") -> OK
A4: 위원회명 | B4: 실국명 | C4: 부서명 | D4: 편성 구분 | E4: 예산안 페이지 | F4: 사업명 | G4: 제1회 추경 예산안 (가) | H4: 기정액 (나) | I4: 제1회 추경 증감액 (다=가-나) | J4: 상임위 제1회 추경 예산안 조정액(라) | L4: 상임위 수정 예산안 (마=가or나+라) | M4: 예결위 제1회 추경 예산안 조정액(라) | O4: 예결위 수정 예산안 (마=가or나+라) | P4: 동의 대상 | Q4: 비고 (부대의견) | S4: 국도비 등 여부 | U4: 재원 | V4: 상임위 재원별 증감액 | Z4: 재원 | AA4: 예결위 재원별 증감액 | AE4: 세입번호 | AG4: 실국부서 코드 | AI4: 추가 내시 등 | AK4: 상임위 세입 검증 | AO4: 예결위 세입 검증
J5: 감액 | K5: 증액 | M5: 감액 | N5: 증액 | V5: 국비 등 | W5: 도비 | X5: 검증 | AA5: 국비 등 | AB5: 도비 | AC5: 검증 | AK5: 국비 증감액 | AL5: 건수 | AM5: 검증 | AO5: 국비 증감액 | AP5: 건수 | AQ5: 검증
A6: 합 계 | G6: =SUBTOTAL(9,G7:G100) -> 0 | H6: =SUBTOTAL(9,H7:H100) -> 0 | I6: =SUBTOTAL(9,I7:I100) -> 0 | J6: =SUBTOTAL(9,J7:J100) -> 0 | K6: =SUBTOTAL(9,K7:K100) -> 0 | L6: =SUBTOTAL(9,L7:L100) -> 0 | M6: =SUBTOTAL(9,M7:M100) -> 0 | N6: =SUBTOTAL(9,N7:N100) -> 0 | O6: =SUBTOTAL(9,O7:O100) -> 0 | V6: =SUBTOTAL(9,V7:V100) -> 0 | W6: =SUBTOTAL(9,W7:W100) -> 0 | X6: =IF(SUM($J6:$K6)=SUM($V6:$W6),"OK","검토") -> OK | AA6: =SUBTOTAL(9,AA7:AA100) -> 0 | AB6: =SUBTOTAL(9,AB7:AB100) -> 0 | AC6: =IF(SUM($J6:$K6)=SUM($V6:$W6),"OK","검토") -> OK | AK6: =SUBTOTAL(9,AK7:AK100) -> 0 | AL6: =SUBTOTAL(9,AL7:AL100) -> 0 | AM6: =IF(COUNTIF(AM7:AM100,"@@")>0,"@@","OK") -> OK | AO6: =SUBTOTAL(9,AO7:AO100) -> 0 | AP6: =SUBTOTAL(9,AP7:AP100) -> 0 | AQ6: =IF(COUNTIF(AQ7:AQ100,"@@")>0,"@@","OK") -> OK
A7: =IFERROR(VLOOKUP($C7,구분표!$A$2:$C$300,2,FALSE),"") | B7: =IFERROR(VLOOKUP($C7,구분표!$A$2:$C$300,3,FALSE),"") | I7: =IF(D7="","",G7-H7) | L7: =IF(G7=0,H7+J7+K7,G7+J7+K7) -> 0 | O7: =IF(G7=0,H7+M7+N7,G7+M7+N7) -> 0 | P7: =IF(AND((L7=0),(O7>0)),"O",IF(AND((J7<0),(L7-O7<0)),"O","X")) -> X | V7: =IF($U7<>"도비",IF($S7="국도비","직접입력",SUM($J7:$K7)),) -> 0 | W7: =IF($U7="도비",SUM($J7:$K7),IF($S7="국도비","직접입력",SUM($J7:$K7)-$V7)) -> 0 | X7: =IF(SUM($J7:$K7)=SUM($V7:$W7),"OK","검토") -> OK | AA7: =IF($U7<>"도비",IF($S7="국도비","직접입력",SUM($M7:$N7)),) -> 0 | AB7: =IF($U7="도비",SUM(M7:N7),IF($S7="국도비","직접입력",SUM(M7:N7)-AA7)) -> 0 | AC7: =IF(SUM(M7:N7)=SUM(AA7:AB7),"OK","검토") -> OK | AE7: =IF(AG7="","",IF(U7="도비","세입없음",AG7&"-"&test(COUNTIF($AG$7:AG7,AG7),"00"))) | AG7: {=IF(C7="","",INDEX(구분표!$I$2:$I$300, MATCH(1,(구분표!$E$2:$E$300='1추일입'!B7)*(구분표!$F$2:$F$300='1추일입'!C7)*(구분표!$G$2:$G$300='1추일입'!A7),0)))} | AK7: =IF(AE7="",0,SUMIFS('1추일출'!$V$6:$V$14,'1추일출'!$AE$6:$AE$14,'1추일입'!$AE7)) -> 0 | AL7: =IF(AE7="","",COUNTIFS('1추일출'!$AE$6:$AE$14,'1추일입'!AE7)) | AM7: =IF(V7=AK7,"OK","@@") -> OK | AO7: =IF(AE7="",0,SUMIFS('1추일출'!$AA$6:$AA$14,'1추일출'!$AE$6:$AE$14,'1추일입'!$AE7)) -> 0 | AP7: =IF(AE7="","",COUNTIFS('1추일출'!$AE$6:$AE$14,AE7)) | AQ7: =IF(AA7=AO7,"OK","@@") -> OK
A8: =IFERROR(VLOOKUP($C8,구분표!$A$2:$C$300,2,FALSE),"") | B8: =IFERROR(VLOOKUP($C8,구분표!$A$2:$C$300,3,FALSE),"") | I8: =IF(D8="","",G8-H8) | L8: =IF(G8=0,H8+J8+K8,G8+J8+K8) -> 0 | O8: =IF(G8=0,H8+M8+N8,G8+M8+N8) -> 0 | P8: =IF(AND((L8=0),(O8>0)),"O",IF(AND((J8<0),(L8-O8<0)),"O","X")) -> X | V8: =IF($U8<>"도비",IF($S8="국도비","직접입력",SUM($J8:$K8)),) -> 0 | W8: =IF($U8="도비",SUM($J8:$K8),IF($S8="국도비","직접입력",SUM($J8:$K8)-$V8)) -> 0 | X8: =IF(SUM($J8:$K8)=SUM($V8:$W8),"OK","검토") -> OK | AA8: =IF($U8<>"도비",IF($S8="국도비","직접입력",SUM($M8:$N8)),) -> 0 | AB8: =IF($U8="도비",SUM(M8:N8),IF($S8="국도비","직접입력",SUM(M8:N8)-AA8)) -> 0 | AC8: =IF(SUM(M8:N8)=SUM(AA8:AB8),"OK","검토") -> OK | AE8: =IF(AG8="","",IF(U8="도비","세입없음",AG8&"-"&test(COUNTIF($AG$7:AG8,AG8),"00"))) | AG8: {=IF(C8="","",INDEX(구분표!$I$2:$I$300, MATCH(1,(구분표!$E$2:$E$300='1추일입'!B8)*(구분표!$F$2:$F$300='1추일입'!C8)*(구분표!$G$2:$G$300='1추일입'!A8),0)))} | AK8: =IF(AE8="",0,SUMIFS('1추일출'!$V$6:$V$14,'1추일출'!$AE$6:$AE$14,'1추일입'!$AE8)) -> 0 | AL8: =IF(AE8="","",COUNTIFS('1추일출'!$AE$6:$AE$14,'1추일입'!AE8)) | AM8: =IF(V8=AK8,"OK","@@") -> OK | AO8: =IF(AE8="",0,SUMIFS('1추일출'!$AA$6:$AA$14,'1추일출'!$AE$6:$AE$14,'1추일입'!$AE8)) -> 0 | AP8: =IF(AE8="","",COUNTIFS('1추일출'!$AE$6:$AE$14,AE8)) | AQ8: =IF(AA8=AO8,"OK","@@") -> OK
A9: =IFERROR(VLOOKUP($C9,구분표!$A$2:$C$300,2,FALSE),"") | B9: =IFERROR(VLOOKUP($C9,구분표!$A$2:$C$300,3,FALSE),"") | I9: =IF(D9="","",G9-H9) | L9: =IF(G9=0,H9+J9+K9,G9+J9+K9) -> 0 | O9: =IF(G9=0,H9+M9+N9,G9+M9+N9) -> 0 | P9: =IF(AND((L9=0),(O9>0)),"O",IF(AND((J9<0),(L9-O9<0)),"O","X")) -> X | V9: =IF($U9<>"도비",IF($S9="국도비","직접입력",SUM($J9:$K9)),) -> 0 | W9: =IF($U9="도비",SUM($J9:$K9),IF($S9="국도비","직접입력",SUM($J9:$K9)-$V9)) -> 0 | X9: =IF(SUM($J9:$K9)=SUM($V9:$W9),"OK","검토") -> OK | AA9: =IF($U9<>"도비",IF($S9="국도비","직접입력",SUM($M9:$N9)),) -> 0 | AB9: =IF($U9="도비",SUM(M9:N9),IF($S9="국도비","직접입력",SUM(M9:N9)-AA9)) -> 0 | AC9: =IF(SUM(M9:N9)=SUM(AA9:AB9),"OK","검토") -> OK | AE9: =IF(AG9="","",IF(U9="도비","세입없음",AG9&"-"&test(COUNTIF($AG$7:AG9,AG9),"00"))) | AG9: {=IF(C9="","",INDEX(구분표!$I$2:$I$300, MATCH(1,(구분표!$E$2:$E$300='1추일입'!B9)*(구분표!$F$2:$F$300='1추일입'!C9)*(구분표!$G$2:$G$300='1추일입'!A9),0)))} | AK9: =IF(AE9="",0,SUMIFS('1추일출'!$V$6:$V$14,'1추일출'!$AE$6:$AE$14,'1추일입'!$AE9)) -> 0 | AL9: =IF(AE9="","",COUNTIFS('1추일출'!$AE$6:$AE$14,'1추일입'!AE9)) | AM9: =IF(V9=AK9,"OK","@@") -> OK | AO9: =IF(AE9="",0,SUMIFS('1추일출'!$AA$6:$AA$14,'1추일출'!$AE$6:$AE$14,'1추일입'!$AE9)) -> 0 | AP9: =IF(AE9="","",COUNTIFS('1추일출'!$AE$6:$AE$14,AE9)) | AQ9: =IF(AA9=AO9,"OK","@@") -> OK
A10: =IFERROR(VLOOKUP($C10,구분표!$A$2:$C$300,2,FALSE),"") | B10: =IFERROR(VLOOKUP($C10,구분표!$A$2:$C$300,3,FALSE),"") | I10: =IF(D10="","",G10-H10) | L10: =IF(G10=0,H10+J10+K10,G10+J10+K10) -> 0 | O10: =IF(G10=0,H10+M10+N10,G10+M10+N10) -> 0 | P10: =IF(AND((L10=0),(O10>0)),"O",IF(AND((J10<0),(L10-O10<0)),"O","X")) -> X | V10: =IF($U10<>"도비",IF($S10="국도비","직접입력",SUM($J10:$K10)),) -> 0 | W10: =IF($U10="도비",SUM($J10:$K10),IF($S10="국도비","직접입력",SUM($J10:$K10)-$V10)) -> 0 | X10: =IF(SUM($J10:$K10)=SUM($V10:$W10),"OK","검토") -> OK | AA10: =IF($U10<>"도비",IF($S10="국도비","직접입력",SUM($M10:$N10)),) -> 0 | AB10: =IF($U10="도비",SUM(M10:N10),IF($S10="국도비","직접입력",SUM(M10:N10)-AA10)) -> 0 | AC10: =IF(SUM(M10:N10)=SUM(AA10:AB10),"OK","검토") -> OK | AE10: =IF(AG10="","",IF(U10="도비","세입없음",AG10&"-"&test(COUNTIF($AG$7:AG10,AG10),"00"))) | AG10: {=IF(C10="","",INDEX(구분표!$I$2:$I$300, MATCH(1,(구분표!$E$2:$E$300='1추일입'!B10)*(구분표!$F$2:$F$300='1추일입'!C10)*(구분표!$G$2:$G$300='1추일입'!A10),0)))} | AK10: =IF(AE10="",0,SUMIFS('1추일출'!$V$6:$V$14,'1추일출'!$AE$6:$AE$14,'1추일입'!$AE10)) -> 0 | AL10: =IF(AE10="","",COUNTIFS('1추일출'!$AE$6:$AE$14,'1추일입'!AE10)) | AM10: =IF(V10=AK10,"OK","@@") -> OK | AO10: =IF(AE10="",0,SUMIFS('1추일출'!$AA$6:$AA$14,'1추일출'!$AE$6:$AE$14,'1추일입'!$AE10)) -> 0 | AP10: =IF(AE10="","",COUNTIFS('1추일출'!$AE$6:$AE$14,AE10)) | AQ10: =IF(AA10=AO10,"OK","@@") -> OK
A11: =IFERROR(VLOOKUP($C11,구분표!$A$2:$C$300,2,FALSE),"") | B11: =IFERROR(VLOOKUP($C11,구분표!$A$2:$C$300,3,FALSE),"") | I11: =IF(D11="","",G11-H11) | L11: =IF(G11=0,H11+J11+K11,G11+J11+K11) -> 0 | O11: =IF(G11=0,H11+M11+N11,G11+M11+N11) -> 0 | P11: =IF(AND((L11=0),(O11>0)),"O",IF(AND((J11<0),(L11-O11<0)),"O","X")) -> X | V11: =IF($U11<>"도비",IF($S11="국도비","직접입력",SUM($J11:$K11)),) -> 0 | W11: =IF($U11="도비",SUM($J11:$K11),IF($S11="국도비","직접입력",SUM($J11:$K11)-$V11)) -> 0 | X11: =IF(SUM($J11:$K11)=SUM($V11:$W11),"OK","검토") -> OK | AA11: =IF($U11<>"도비",IF($S11="국도비","직접입력",SUM($M11:$N11)),) -> 0 | AB11: =IF($U11="도비",SUM(M11:N11),IF($S11="국도비","직접입력",SUM(M11:N11)-AA11)) -> 0 | AC11: =IF(SUM(M11:N11)=SUM(AA11:AB11),"OK","검토") -> OK | AE11: =IF(AG11="","",IF(U11="도비","세입없음",AG11&"-"&test(COUNTIF($AG$7:AG11,AG11),"00"))) | AG11: {=IF(C11="","",INDEX(구분표!$I$2:$I$300, MATCH(1,(구분표!$E$2:$E$300='1추일입'!B11)*(구분표!$F$2:$F$300='1추일입'!C11)*(구분표!$G$2:$G$300='1추일입'!A11),0)))} | AK11: =IF(AE11="",0,SUMIFS('1추일출'!$V$6:$V$14,'1추일출'!$AE$6:$AE$14,'1추일입'!$AE11)) -> 0 | AL11: =IF(AE11="","",COUNTIFS('1추일출'!$AE$6:$AE$14,'1추일입'!AE11)) | AM11: =IF(V11=AK11,"OK","@@") -> OK | AO11: =IF(AE11="",0,SUMIFS('1추일출'!$AA$6:$AA$14,'1추일출'!$AE$6:$AE$14,'1추일입'!$AE11)) -> 0 | AP11: =IF(AE11="","",COUNTIFS('1추일출'!$AE$6:$AE$14,AE11)) | AQ11: =IF(AA11=AO11,"OK","@@") -> OK
A12: =IFERROR(VLOOKUP($C12,구분표!$A$2:$C$300,2,FALSE),"") | B12: =IFERROR(VLOOKUP($C12,구분표!$A$2:$C$300,3,FALSE),"") | I12: =IF(D12="","",G12-H12) | L12: =IF(G12=0,H12+J12+K12,G12+J12+K12) -> 0 | O12: =IF(G12=0,H12+M12+N12,G12+M12+N12) -> 0 | P12: =IF(AND((L12=0),(O12>0)),"O",IF(AND((J12<0),(L12-O12<0)),"O","X")) -> X | V12: =IF($U12<>"도비",IF($S12="국도비","직접입력",SUM($J12:$K12)),) -> 0 | W12: =IF($U12="도비",SUM($J12:$K12),IF($S12="국도비","직접입력",SUM($J12:$K12)-$V12)) -> 0 | X12: =IF(SUM($J12:$K12)=SUM($V12:$W12),"OK","검토") -> OK | AA12: =IF($U12<>"도비",IF($S12="국도비","직접입력",SUM($M12:$N12)),) -> 0 | AB12: =IF($U12="도비",SUM(M12:N12),IF($S12="국도비","직접입력",SUM(M12:N12)-AA12)) -> 0 | AC12: =IF(SUM(M12:N12)=SUM(AA12:AB12),"OK","검토") -> OK | AE12: =IF(AG12="","",IF(U12="도비","세입없음",AG12&"-"&test(COUNTIF($AG$7:AG12,AG12),"00"))) | AG12: {=IF(C12="","",INDEX(구분표!$I$2:$I$300, MATCH(1,(구분표!$E$2:$E$300='1추일입'!B12)*(구분표!$F$2:$F$300='1추일입'!C12)*(구분표!$G$2:$G$300='1추일입'!A12),0)))} | AK12: =IF(AE12="",0,SUMIFS('1추일출'!$V$6:$V$14,'1추일출'!$AE$6:$AE$14,'1추일입'!$AE12)) -> 0 | AL12: =IF(AE12="","",COUNTIFS('1추일출'!$AE$6:$AE$14,'1추일입'!AE12)) | AM12: =IF(V12=AK12,"OK","@@") -> OK | AO12: =IF(AE12="",0,SUMIFS('1추일출'!$AA$6:$AA$14,'1추일출'!$AE$6:$AE$14,'1추일입'!$AE12)) -> 0 | AP12: =IF(AE12="","",COUNTIFS('1추일출'!$AE$6:$AE$14,AE12)) | AQ12: =IF(AA12=AO12,"OK","@@") -> OK
A13: =IFERROR(VLOOKUP($C13,구분표!$A$2:$C$300,2,FALSE),"") | B13: =IFERROR(VLOOKUP($C13,구분표!$A$2:$C$300,3,FALSE),"") | I13: =IF(D13="","",G13-H13) | L13: =IF(G13=0,H13+J13+K13,G13+J13+K13) -> 0 | O13: =IF(G13=0,H13+M13+N13,G13+M13+N13) -> 0 | P13: =IF(AND((L13=0),(O13>0)),"O",IF(AND((J13<0),(L13-O13<0)),"O","X")) -> X | V13: =IF($U13<>"도비",IF($S13="국도비","직접입력",SUM($J13:$K13)),) -> 0 | W13: =IF($U13="도비",SUM($J13:$K13),IF($S13="국도비","직접입력",SUM($J13:$K13)-$V13)) -> 0 | X13: =IF(SUM($J13:$K13)=SUM($V13:$W13),"OK","검토") -> OK | AA13: =IF($U13<>"도비",IF($S13="국도비","직접입력",SUM($M13:$N13)),) -> 0 | AB13: =IF($U13="도비",SUM(M13:N13),IF($S13="국도비","직접입력",SUM(M13:N13)-AA13)) -> 0 | AC13: =IF(SUM(M13:N13)=SUM(AA13:AB13),"OK","검토") -> OK | AE13: =IF(AG13="","",IF(U13="도비","세입없음",AG13&"-"&test(COUNTIF($AG$7:AG13,AG13),"00"))) | AG13: {=IF(C13="","",INDEX(구분표!$I$2:$I$300, MATCH(1,(구분표!$E$2:$E$300='1추일입'!B13)*(구분표!$F$2:$F$300='1추일입'!C13)*(구분표!$G$2:$G$300='1추일입'!A13),0)))} | AK13: =IF(AE13="",0,SUMIFS('1추일출'!$V$6:$V$14,'1추일출'!$AE$6:$AE$14,'1추일입'!$AE13)) -> 0 | AL13: =IF(AE13="","",COUNTIFS('1추일출'!$AE$6:$AE$14,'1추일입'!AE13)) | AM13: =IF(V13=AK13,"OK","@@") -> OK | AO13: =IF(AE13="",0,SUMIFS('1추일출'!$AA$6:$AA$14,'1추일출'!$AE$6:$AE$14,'1추일입'!$AE13)) -> 0 | AP13: =IF(AE13="","",COUNTIFS('1추일출'!$AE$6:$AE$14,AE13)) | AQ13: =IF(AA13=AO13,"OK","@@") -> OK
A14: =IFERROR(VLOOKUP($C14,구분표!$A$2:$C$300,2,FALSE),"") | B14: =IFERROR(VLOOKUP($C14,구분표!$A$2:$C$300,3,FALSE),"") | I14: =IF(D14="","",G14-H14) | L14: =IF(G14=0,H14+J14+K14,G14+J14+K14) -> 0 | O14: =IF(G14=0,H14+M14+N14,G14+M14+N14) -> 0 | P14: =IF(AND((L14=0),(O14>0)),"O",IF(AND((J14<0),(L14-O14<0)),"O","X")) -> X | V14: =IF($U14<>"도비",IF($S14="국도비","직접입력",SUM($J14:$K14)),) -> 0 | W14: =IF($U14="도비",SUM($J14:$K14),IF($S14="국도비","직접입력",SUM($J14:$K14)-$V14)) -> 0 | X14: =IF(SUM($J14:$K14)=SUM($V14:$W14),"OK","검토") -> OK | AA14: =IF($U14<>"도비",IF($S14="국도비","직접입력",SUM($M14:$N14)),) -> 0 | AB14: =IF($U14="도비",SUM(M14:N14),IF($S14="국도비","직접입력",SUM(M14:N14)-AA14)) -> 0 | AC14: =IF(SUM(M14:N14)=SUM(AA14:AB14),"OK","검토") -> OK | AE14: =IF(AG14="","",IF(U14="도비","세입없음",AG14&"-"&test(COUNTIF($AG$7:AG14,AG14),"00"))) | AG14: {=IF(C14="","",INDEX(구분표!$I$2:$I$300, MATCH(1,(구분표!$E$2:$E$300='1추일입'!B14)*(구분표!$F$2:$F$300='1추일입'!C14)*(구분표!$G$2:$G$300='1추일입'!A14),0)))} | AK14: =IF(AE14="",0,SUMIFS('1추일출'!$V$6:$V$14,'1추일출'!$AE$6:$AE$14,'1추일입'!$AE14)) -> 0 | AL14: =IF(AE14="","",COUNTIFS('1추일출'!$AE$6:$AE$14,'1추일입'!AE14)) | AM14: =IF(V14=AK14,"OK","@@") -> OK | AO14: =IF(AE14="",0,SUMIFS('1추일출'!$AA$6:$AA$14,'1추일출'!$AE$6:$AE$14,'1추일입'!$AE14)) -> 0 | AP14: =IF(AE14="","",COUNTIFS('1추일출'!$AE$6:$AE$14,AE14)) | AQ14: =IF(AA14=AO14,"OK","@@") -> OK
A15: =IFERROR(VLOOKUP($C15,구분표!$A$2:$C$300,2,FALSE),"") | B15: =IFERROR(VLOOKUP($C15,구분표!$A$2:$C$300,3,FALSE),"") | I15: =IF(D15="","",G15-H15) | L15: =IF(G15=0,H15+J15+K15,G15+J15+K15) -> 0 | O15: =IF(G15=0,H15+M15+N15,G15+M15+N15) -> 0 | P15: =IF(AND((L15=0),(O15>0)),"O",IF(AND((J15<0),(L15-O15<0)),"O","X")) -> X | V15: =IF($U15<>"도비",IF($S15="국도비","직접입력",SUM($J15:$K15)),) -> 0 | W15: =IF($U15="도비",SUM($J15:$K15),IF($S15="국도비","직접입력",SUM($J15:$K15)-$V15)) -> 0 | X15: =IF(SUM($J15:$K15)=SUM($V15:$W15),"OK","검토") -> OK | AA15: =IF($U15<>"도비",IF($S15="국도비","직접입력",SUM($M15:$N15)),) -> 0 | AB15: =IF($U15="도비",SUM(M15:N15),IF($S15="국도비","직접입력",SUM(M15:N15)-AA15)) -> 0 | AC15: =IF(SUM(M15:N15)=SUM(AA15:AB15),"OK","검토") -> OK | AE15: =IF(AG15="","",IF(U15="도비","세입없음",AG15&"-"&test(COUNTIF($AG$7:AG15,AG15),"00"))) | AG15: {=IF(C15="","",INDEX(구분표!$I$2:$I$300, MATCH(1,(구분표!$E$2:$E$300='1추일입'!B15)*(구분표!$F$2:$F$300='1추일입'!C15)*(구분표!$G$2:$G$300='1추일입'!A15),0)))} | AK15: =IF(AE15="",0,SUMIFS('1추일출'!$V$6:$V$14,'1추일출'!$AE$6:$AE$14,'1추일입'!$AE15)) -> 0 | AL15: =IF(AE15="","",COUNTIFS('1추일출'!$AE$6:$AE$14,'1추일입'!AE15)) | AM15: =IF(V15=AK15,"OK","@@") -> OK | AO15: =IF(AE15="",0,SUMIFS('1추일출'!$AA$6:$AA$14,'1추일출'!$AE$6:$AE$14,'1추일입'!$AE15)) -> 0 | AP15: =IF(AE15="","",COUNTIFS('1추일출'!$AE$6:$AE$14,AE15)) | AQ15: =IF(AA15=AO15,"OK","@@") -> OK
A16: =IFERROR(VLOOKUP($C16,구분표!$A$2:$C$300,2,FALSE),"") | B16: =IFERROR(VLOOKUP($C16,구분표!$A$2:$C$300,3,FALSE),"") | I16: =IF(D16="","",G16-H16) | L16: =IF(G16=0,H16+J16+K16,G16+J16+K16) -> 0 | O16: =IF(G16=0,H16+M16+N16,G16+M16+N16) -> 0 | P16: =IF(AND((L16=0),(O16>0)),"O",IF(AND((J16<0),(L16-O16<0)),"O","X")) -> X | V16: =IF($U16<>"도비",IF($S16="국도비","직접입력",SUM($J16:$K16)),) -> 0 | W16: =IF($U16="도비",SUM($J16:$K16),IF($S16="국도비","직접입력",SUM($J16:$K16)-$V16)) -> 0 | X16: =IF(SUM($J16:$K16)=SUM($V16:$W16),"OK","검토") -> OK | AA16: =IF($U16<>"도비",IF($S16="국도비","직접입력",SUM($M16:$N16)),) -> 0 | AB16: =IF($U16="도비",SUM(M16:N16),IF($S16="국도비","직접입력",SUM(M16:N16)-AA16)) -> 0 | AC16: =IF(SUM(M16:N16)=SUM(AA16:AB16),"OK","검토") -> OK | AE16: =IF(AG16="","",IF(U16="도비","세입없음",AG16&"-"&test(COUNTIF($AG$7:AG16,AG16),"00"))) | AG16: {=IF(C16="","",INDEX(구분표!$I$2:$I$300, MATCH(1,(구분표!$E$2:$E$300='1추일입'!B16)*(구분표!$F$2:$F$300='1추일입'!C16)*(구분표!$G$2:$G$300='1추일입'!A16),0)))} | AK16: =IF(AE16="",0,SUMIFS('1추일출'!$V$6:$V$14,'1추일출'!$AE$6:$AE$14,'1추일입'!$AE16)) -> 0 | AL16: =IF(AE16="","",COUNTIFS('1추일출'!$AE$6:$AE$14,'1추일입'!AE16)) | AM16: =IF(V16=AK16,"OK","@@") -> OK | AO16: =IF(AE16="",0,SUMIFS('1추일출'!$AA$6:$AA$14,'1추일출'!$AE$6:$AE$14,'1추일입'!$AE16)) -> 0 | AP16: =IF(AE16="","",COUNTIFS('1추일출'!$AE$6:$AE$14,AE16)) | AQ16: =IF(AA16=AO16,"OK","@@") -> OK
A17: =IFERROR(VLOOKUP($C17,구분표!$A$2:$C$300,2,FALSE),"") | B17: =IFERROR(VLOOKUP($C17,구분표!$A$2:$C$300,3,FALSE),"") | I17: =IF(D17="","",G17-H17) | L17: =IF(G17=0,H17+J17+K17,G17+J17+K17) -> 0 | O17: =IF(G17=0,H17+M17+N17,G17+M17+N17) -> 0 | P17: =IF(AND((L17=0),(O17>0)),"O",IF(AND((J17<0),(L17-O17<0)),"O","X")) -> X | V17: =IF($U17<>"도비",IF($S17="국도비","직접입력",SUM($J17:$K17)),) -> 0 | W17: =IF($U17="도비",SUM($J17:$K17),IF($S17="국도비","직접입력",SUM($J17:$K17)-$V17)) -> 0 | X17: =IF(SUM($J17:$K17)=SUM($V17:$W17),"OK","검토") -> OK | AA17: =IF($U17<>"도비",IF($S17="국도비","직접입력",SUM($M17:$N17)),) -> 0 | AB17: =IF($U17="도비",SUM(M17:N17),IF($S17="국도비","직접입력",SUM(M17:N17)-AA17)) -> 0 | AC17: =IF(SUM(M17:N17)=SUM(AA17:AB17),"OK","검토") -> OK | AE17: =IF(AG17="","",IF(U17="도비","세입없음",AG17&"-"&test(COUNTIF($AG$7:AG17,AG17),"00"))) | AG17: {=IF(C17="","",INDEX(구분표!$I$2:$I$300, MATCH(1,(구분표!$E$2:$E$300='1추일입'!B17)*(구분표!$F$2:$F$300='1추일입'!C17)*(구분표!$G$2:$G$300='1추일입'!A17),0)))} | AK17: =IF(AE17="",0,SUMIFS('1추일출'!$V$6:$V$14,'1추일출'!$AE$6:$AE$14,'1추일입'!$AE17)) -> 0 | AL17: =IF(AE17="","",COUNTIFS('1추일출'!$AE$6:$AE$14,'1추일입'!AE17)) | AM17: =IF(V17=AK17,"OK","@@") -> OK | AO17: =IF(AE17="",0,SUMIFS('1추일출'!$AA$6:$AA$14,'1추일출'!$AE$6:$AE$14,'1추일입'!$AE17)) -> 0 | AP17: =IF(AE17="","",COUNTIFS('1추일출'!$AE$6:$AE$14,AE17)) | AQ17: =IF(AA17=AO17,"OK","@@") -> OK
A18: =IFERROR(VLOOKUP($C18,구분표!$A$2:$C$300,2,FALSE),"") | B18: =IFERROR(VLOOKUP($C18,구분표!$A$2:$C$300,3,FALSE),"") | I18: =IF(D18="","",G18-H18) | L18: =IF(G18=0,H18+J18+K18,G18+J18+K18) -> 0 | O18: =IF(G18=0,H18+M18+N18,G18+M18+N18) -> 0 | P18: =IF(AND((L18=0),(O18>0)),"O",IF(AND((J18<0),(L18-O18<0)),"O","X")) -> X | V18: =IF($U18<>"도비",IF($S18="국도비","직접입력",SUM($J18:$K18)),) -> 0 | W18: =IF($U18="도비",SUM($J18:$K18),IF($S18="국도비","직접입력",SUM($J18:$K18)-$V18)) -> 0 | X18: =IF(SUM($J18:$K18)=SUM($V18:$W18),"OK","검토") -> OK | AA18: =IF($U18<>"도비",IF($S18="국도비","직접입력",SUM($M18:$N18)),) -> 0 | AB18: =IF($U18="도비",SUM(M18:N18),IF($S18="국도비","직접입력",SUM(M18:N18)-AA18)) -> 0 | AC18: =IF(SUM(M18:N18)=SUM(AA18:AB18),"OK","검토") -> OK | AE18: =IF(AG18="","",IF(U18="도비","세입없음",AG18&"-"&test(COUNTIF($AG$7:AG18,AG18),"00"))) | AG18: {=IF(C18="","",INDEX(구분표!$I$2:$I$300, MATCH(1,(구분표!$E$2:$E$300='1추일입'!B18)*(구분표!$F$2:$F$300='1추일입'!C18)*(구분표!$G$2:$G$300='1추일입'!A18),0)))} | AK18: =IF(AE18="",0,SUMIFS('1추일출'!$V$6:$V$14,'1추일출'!$AE$6:$AE$14,'1추일입'!$AE18)) -> 0 | AL18: =IF(AE18="","",COUNTIFS('1추일출'!$AE$6:$AE$14,'1추일입'!AE18)) | AM18: =IF(V18=AK18,"OK","@@") -> OK | AO18: =IF(AE18="",0,SUMIFS('1추일출'!$AA$6:$AA$14,'1추일출'!$AE$6:$AE$14,'1추일입'!$AE18)) -> 0 | AP18: =IF(AE18="","",COUNTIFS('1추일출'!$AE$6:$AE$14,AE18)) | AQ18: =IF(AA18=AO18,"OK","@@") -> OK
... A100: =IFERROR(VLOOKUP($C100,구분표!$A$2:$C$300,2,FALSE),"") | B100: =IFERROR(VLOOKUP($C100,구분표!$A$2:$C$300,3,FALSE),"") | I100: =IF(D100="","",G100-H100) | L100: =IF(G100=0,H100+J100+K100,G100+J100+K100) -> 0 | O100: =IF(G100=0,H100+M100+N100,G100+M100+N100) -> 0 | P100: =IF(AND((L100=0),(O100>0)),"O",IF(AND((J100<0),(L100-O100<0)),"O","X")) -> X | V100: =IF($U100<>"도비",IF($S100="국도비","직접입력",SUM($J100:$K100)),) -> 0 | W100: =IF($U100="도비",SUM($J100:$K100),IF($S100="국도비","직접입력",SUM($J100:$K100)-$V100)) -> 0 | X100: =IF(SUM($J100:$K100)=SUM($V100:$W100),"OK","검토") -> OK | AA100: =IF($U100<>"도비",IF($S100="국도비","직접입력",SUM($M100:$N100)),) -> 0 | AB100: =IF($U100="도비",SUM(M100:N100),IF($S100="국도비","직접입력",SUM(M100:N100)-AA100)) -> 0 | AC100: =IF(SUM(M100:N100)=SUM(AA100:AB100),"OK","검토") -> OK | AE100: =IF(AG100="","",IF(U100="도비","세입없음",AG100&"-"&test(COUNTIF($AG$7:AG100,AG100),"00"))) | AG100: {=IF(C100="","",INDEX(구분표!$I$2:$I$300, MATCH(1,(구분표!$E$2:$E$300='1추일입'!B100)*(구분표!$F$2:$F$300='1추일입'!C100)*(구분표!$G$2:$G$300='1추일입'!A100),0)))} | AK100: =IF(AE100="",0,SUMIFS('1추일출'!$V$6:$V$14,'1추일출'!$AE$6:$AE$14,'1추일입'!$AE100)) -> 0 | AL100: =IF(AE100="","",COUNTIFS('1추일출'!$AE$6:$AE$14,'1추일입'!AE100)) | AM100: =IF(V100=AK100,"OK","@@") -> OK | AO100: =IF(AE100="",0,SUMIFS('1추일출'!$AA$6:$AA$14,'1추일출'!$AE$6:$AE$14,'1추일입'!$AE100)) -> 0 | AP100: =IF(AE100="","",COUNTIFS('1추일출'!$AE$6:$AE$14,AE100)) | AQ100: =IF(AA100=AO100,"OK","@@") -> OK

Sheet 1추일출
A1: 2015년도 제1회 추경 경기도 일반회계 세출 예산 조정(안)
A2: □ 세출예산 | V2: 세입=세출 | AA2: 세입=세출
J3: =COUNTA(J7:J14)-10 -> -9 | K3: =COUNTA(K7:K14)-10 -> -8 | M3: =COUNTA(M7:M14)-10 -> -9 | N3: =COUNTA(N7:N14)-10 -> -9 | Q3: (단위 : 천원) | V3: =IF(V6='1추일입'!V6,"OK","@@") -> @@ | X3: =IF(COUNTIF(X6:X14,"검토")>0,"@@","OK") -> OK | AA3: =IF(AA6='1추일입'!AA6,"OK","@@") -> OK | AC3: =IF(COUNTIF(AC6:AC14,"검토")>0,"@@","OK") -> OK
A4: 위원회명 | B4: 실국명 | C4: 부서명 | D4: 편성 구분 | E4: 예산안 페이지 | F4: 세부사업명 및 부기명 | G4: 제1회 추경 예산안 (가) | H4: 기정액 (나) | I4: 제1회 추경 증감액 (다=가-나) | J4: 상임위 제1회 추경 예산안 조정액(라) | L4: 상임위 수정 예산안 (마=가or나+라) | M4: 예결위 제1회 추경 예산안 조정액(라) | O4: 예결위 수정 예산안 (마=가or나+라) | P4: 동의 대상 | Q4: 비고 (부대의견) | S4: 국도비 등 여부 | U4: 재원 | V4: 상임위 재원별 증감액 | Z4: 재원 | AA4: 예결위 재원별 증감액 | AE4: 세입번호 | AG4: 동일 세입 건수 | AH4: 세출 번호 검증 | AJ4: 실국부서 코드 | AL4: 추가 내시 등
J5: 감액 | K5: 증액 | M5: 감액 | N5: 증액 | V5: 국비 등 | W5: 도비 | X5: 검증 | AA5: 국비 등 | AB5: 도비 | AC5: 검증
A6: 합 계 | G6: =SUBTOTAL(9,G7:G14)/2 -> 8960000 | H6: =SUBTOTAL(9,H7:H14)/2 -> 0 | I6: =SUBTOTAL(9,I7:I14)/2 -> 8960000 | J6: =SUBTOTAL(9,J7:J14)/2 -> 0 | K6: =SUBTOTAL(9,K7:K14)/2 -> 5901000 | L6: =SUBTOTAL(9,L7:L14)/2 -> 14861000 | M6: =SUBTOTAL(9,M7:M14)/2 -> 0 | N6: =SUBTOTAL(9,N7:N14)/2 -> 0 | O6: =SUBTOTAL(9,O7:O14)/2 -> 8960000 | V6: =SUBTOTAL(9,V7:V14)/2 -> 5901000 | W6: =SUBTOTAL(9,W7:W14)/2 -> 0 | X6: =IF(SUM($J6:$K6)=SUM($V6:$W6),"OK","검토") -> OK | AA6: =SUBTOTAL(9,AA7:AA14)/2 -> 0 | AB6: =SUBTOTAL(9,AB7:AB14)/2 -> 0 | AC6: =IF(SUM($J6:$K6)=SUM($V6:$W6),"OK","검토") -> OK
A7: (농정해양위원회) | G7: =SUM(G8:G14) -> 8960000 | H7: =SUM(H8:H14) -> 0 | I7: =SUM(I8:I14) -> 8960000 | J7: =SUM(J8:J14) -> 0 | K7: =SUM(K8:K14) -> 5901000 | L7: =SUM(L8:L14) -> 14861000 | M7: =SUM(M8:M14) -> 0 | N7: =SUM(N8:N14) -> 0 | O7: =SUM(O8:O14) -> 8960000 | V7: =IF($U7<>"도비",IF($S7="국도비","직접입력",SUM($J7:$K7)),) -> 5901000 | W7: =IF($U7="도비",SUM($J7:$K7),IF($S7="국도비","직접입력",SUM($J7:$K7)-$V7)) -> 0 | X7: =IF(SUM($J7:$K7)=SUM($V7:$W7),"OK","검토") -> OK | AA7: =IF($U7<>"도비",IF($S7="국도비","직접입력",SUM($M7:$N7)),) -> 0 | AB7: =IF($U7="도비",SUM(M7:N7),IF($S7="국도비","직접입력",SUM(M7:N7)-AA7)) -> 0 | AC7: =IF(SUM(M7:N7)=SUM(AA7:AB7),"OK","검토") -> OK | AE7: =IF(U7="","",IF(U7="도비","세입없음","직접입력")) | AG7: =IF(AE7="","",COUNTIF($AE$7:$AE$14,AE7)) | AH7: =IF(U7="","",IF(AND(U7="도비",AE7="세입없음"),"OK",IF(AND(U7<>"도비",AE7<>""),"OK","@@"))) | AJ7: {=IF(C7="","",INDEX(구분표!$I$2:$I$300, MATCH(1,(구분표!$E$2:$E$300='1추일출'!B7)*(구분표!$F$2:$F$300='1추일출'!C7)*(구분표!$G$2:$G$300='1추일출'!A7),0)))}
A8: 농정해양위원회 | B8: 농정해양국 | C8: 친환경농업과 | D8: 신규 | E8: 184 | F8: 가뭄대비 용수개발 사업(자체/지원) 가뭄대비 용수개발 사업 → 한·수해대책 사업(자체/지원) 한·수해대책 사업 | G8: 8960000 | H8: 0 | I8: =IF(D8="","",G8-H8) -> 8960000 | K8: 5901000 | L8: =IF(G8=0,H8+J8+K8,G8+J8+K8) -> 14861000 | O8: =IF(G8=0,H8+M8+N8,G8+M8+N8) -> 8960000 | P8: =IF(AND((L8=0),(O8>0)),"O",IF(AND((J8<0),(L8-O8<0)),"O","X")) -> X | Q8: 가뭄에 대한 항구적인 대책을 마련하고, 수해까지 대비하기 위해 시군 추가요청 사업 예산 증액 | V8: =IF($U8<>"도비",IF($S8="국도비","직접입력",SUM($J8:$K8)),) -> 5901000 | W8: 도비 | X8: =IF(SUM($J8:$K8)=SUM($V8:$W8),"OK","검토") -> OK | AA8: =IF($U8<>"도비",IF($S8="국도비","직접입력",SUM($M8:$N8)),) -> 0 | AB8: =IF($U8="도비",SUM(M8:N8),IF($S8="국도비","직접입력",SUM(M8:N8)-AA8)) -> 0 | AC8: =IF(SUM(M8:N8)=SUM(AA8:AB8),"OK","검토") -> OK | AE8: =IF(U8="","",IF(U8="도비","세입없음","직접입력")) | AG8: =IF(AE8="","",COUNTIF($AE$7:$AE$14,AE8)) | AH8: =IF(U8="","",IF(AND(U8="도비",AE8="세입없음"),"OK",IF(AND(U8<>"도비",AE8<>""),"OK","@@"))) | AJ8: {=IF(C8="","",INDEX(구분표!$I$2:$I$300, MATCH(1,(구분표!$E$2:$E$300='1추일출'!B8)*(구분표!$F$2:$F$300='1추일출'!C8)*(구분표!$G$2:$G$300='1추일출'!A8),0)))} -> 0604
A9: =IFERROR(VLOOKUP($C9,구분표!$A$2:$C$300,2,FALSE),"") | B9: =IFERROR(VLOOKUP($C9,구분표!$A$2:$C$300,3,FALSE),"") | I9: =IF(D9="","",G9-H9) | L9: =IF(G9=0,H9+J9+K9,G9+J9+K9) -> 0 | O9: =IF(G9=0,H9+M9+N9,G9+M9+N9) -> 0 | P9: =IF(AND((L9=0),(O9>0)),"O",IF(AND((J9<0),(L9-O9<0)),"O","X")) -> X | V9: =IF($U9<>"도비",IF($S9="국도비","직접입력",SUM($J9:$K9)),) -> 0 | W9: =IF($U9="도비",SUM($J9:$K9),IF($S9="국도비","직접입력",SUM($J9:$K9)-$V9)) -> 0 | X9: =IF(SUM($J9:$K9)=SUM($V9:$W9),"OK","검토") -> OK | AA9: =IF($U9<>"도비",IF($S9="국도비","직접입력",SUM($M9:$N9)),) -> 0 | AB9: =IF($U9="도비",SUM(M9:N9),IF($S9="국도비","직접입력",SUM(M9:N9)-AA9)) -> 0 | AC9: =IF(SUM(M9:N9)=SUM(AA9:AB9),"OK","검토") -> OK | AE9: =IF(U9="","",IF(U9="도비","세입없음","직접입력")) | AG9: =IF(AE9="","",COUNTIF($AE$7:$AE$14,AE9)) | AH9: =IF(U9="","",IF(AND(U9="도비",AE9="세입없음"),"OK",IF(AND(U9<>"도비",AE9<>""),"OK","@@"))) | AJ9: {=IF(C9="","",INDEX(구분표!$I$2:$I$300, MATCH(1,(구분표!$E$2:$E$300='1추일출'!B9)*(구분표!$F$2:$F$300='1추일출'!C9)*(구분표!$G$2:$G$300='1추일출'!A9),0)))}
A10: =IFERROR(VLOOKUP($C10,구분표!$A$2:$C$300,2,FALSE),"") | B10: =IFERROR(VLOOKUP($C10,구분표!$A$2:$C$300,3,FALSE),"") | I10: =IF(D10="","",G10-H10) | L10: =IF(G10=0,H10+J10+K10,G10+J10+K10) -> 0 | O10: =IF(G10=0,H10+M10+N10,G10+M10+N10) -> 0 | P10: =IF(AND((L10=0),(O10>0)),"O",IF(AND((J10<0),(L10-O10<0)),"O","X")) -> X | V10: =IF($U10<>"도비",IF($S10="국도비","직접입력",SUM($J10:$K10)),) -> 0 | W10: =IF($U10="도비",SUM($J10:$K10),IF($S10="국도비","직접입력",SUM($J10:$K10)-$V10)) -> 0 | X10: =IF(SUM($J10:$K10)=SUM($V10:$W10),"OK","검토") -> OK | AA10: =IF($U10<>"도비",IF($S10="국도비","직접입력",SUM($M10:$N10)),) -> 0 | AB10: =IF($U10="도비",SUM(M10:N10),IF($S10="국도비","직접입력",SUM(M10:N10)-AA10)) -> 0 | AC10: =IF(SUM(M10:N10)=SUM(AA10:AB10),"OK","검토") -> OK | AE10: =IF(U10="","",IF(U10="도비","세입없음","직접입력")) | AG10: =IF(AE10="","",COUNTIF($AE$7:$AE$14,AE10)) | AH10: =IF(U10="","",IF(AND(U10="도비",AE10="세입없음"),"OK",IF(AND(U10<>"도비",AE10<>""),"OK","@@"))) | AJ10: {=IF(C10="","",INDEX(구분표!$I$2:$I$300, MATCH(1,(구분표!$E$2:$E$300='1추일출'!B10)*(구분표!$F$2:$F$300='1추일출'!C10)*(구분표!$G$2:$G$300='1추일출'!A10),0)))}
A11: =IFERROR(VLOOKUP($C11,구분표!$A$2:$C$300,2,FALSE),"") | B11: =IFERROR(VLOOKUP($C11,구분표!$A$2:$C$300,3,FALSE),"") | I11: =IF(D11="","",G11-H11) | L11: =IF(G11=0,H11+J11+K11,G11+J11+K11) -> 0 | O11: =IF(G11=0,H11+M11+N11,G11+M11+N11) -> 0 | P11: =IF(AND((L11=0),(O11>0)),"O",IF(AND((J11<0),(L11-O11<0)),"O","X")) -> X | V11: =IF($U11<>"도비",IF($S11="국도비","직접입력",SUM($J11:$K11)),) -> 0 | W11: =IF($U11="도비",SUM($J11:$K11),IF($S11="국도비","직접입력",SUM($J11:$K11)-$V11)) -> 0 | X11: =IF(SUM($J11:$K11)=SUM($V11:$W11),"OK","검토") -> OK | AA11: =IF($U11<>"도비",IF($S11="국도비","직접입력",SUM($M11:$N11)),) -> 0 | AB11: =IF($U11="도비",SUM(M11:N11),IF($S11="국도비","직접입력",SUM(M11:N11)-AA11)) -> 0 | AC11: =IF(SUM(M11:N11)=SUM(AA11:AB11),"OK","검토") -> OK | AE11: =IF(U11="","",IF(U11="도비","세입없음","직접입력")) | AG11: =IF(AE11="","",COUNTIF($AE$7:$AE$14,AE11)) | AH11: =IF(U11="","",IF(AND(U11="도비",AE11="세입없음"),"OK",IF(AND(U11<>"도비",AE11<>""),"OK","@@"))) | AJ11: {=IF(C11="","",INDEX(구분표!$I$2:$I$300, MATCH(1,(구분표!$E$2:$E$300='1추일출'!B11)*(구분표!$F$2:$F$300='1추일출'!C11)*(구분표!$G$2:$G$300='1추일출'!A11),0)))}
A12: =IFERROR(VLOOKUP($C12,구분표!$A$2:$C$300,2,FALSE),"") | B12: =IFERROR(VLOOKUP($C12,구분표!$A$2:$C$300,3,FALSE),"") | I12: =IF(D12="","",G12-H12) | L12: =IF(G12=0,H12+J12+K12,G12+J12+K12) -> 0 | O12: =IF(G12=0,H12+M12+N12,G12+M12+N12) -> 0 | P12: =IF(AND((L12=0),(O12>0)),"O",IF(AND((J12<0),(L12-O12<0)),"O","X")) -> X | V12: =IF($U12<>"도비",IF($S12="국도비","직접입력",SUM($J12:$K12)),) -> 0 | W12: =IF($U12="도비",SUM($J12:$K12),IF($S12="국도비","직접입력",SUM($J12:$K12)-$V12)) -> 0 | X12: =IF(SUM($J12:$K12)=SUM($V12:$W12),"OK","검토") -> OK | AA12: =IF($U12<>"도비",IF($S12="국도비","직접입력",SUM($M12:$N12)),) -> 0 | AB12: =IF($U12="도비",SUM(M12:N12),IF($S12="국도비","직접입력",SUM(M12:N12)-AA12)) -> 0 | AC12: =IF(SUM(M12:N12)=SUM(AA12:AB12),"OK","검토") -> OK | AE12: =IF(U12="","",IF(U12="도비","세입없음","직접입력")) | AG12: =IF(AE12="","",COUNTIF($AE$7:$AE$14,AE12)) | AH12: =IF(U12="","",IF(AND(U12="도비",AE12="세입없음"),"OK",IF(AND(U12<>"도비",AE12<>""),"OK","@@"))) | AJ12: {=IF(C12="","",INDEX(구분표!$I$2:$I$300, MATCH(1,(구분표!$E$2:$E$300='1추일출'!B12)*(구분표!$F$2:$F$300='1추일출'!C12)*(구분표!$G$2:$G$300='1추일출'!A12),0)))}
A13: =IFERROR(VLOOKUP($C13,구분표!$A$2:$C$300,2,FALSE),"") | B13: =IFERROR(VLOOKUP($C13,구분표!$A$2:$C$300,3,FALSE),"") | I13: =IF(D13="","",G13-H13) | L13: =IF(G13=0,H13+J13+K13,G13+J13+K13) -> 0 | O13: =IF(G13=0,H13+M13+N13,G13+M13+N13) -> 0 | P13: =IF(AND((L13=0),(O13>0)),"O",IF(AND((J13<0),(L13-O13<0)),"O","X")) -> X | V13: =IF($U13<>"도비",IF($S13="국도비","직접입력",SUM($J13:$K13)),) -> 0 | W13: =IF($U13="도비",SUM($J13:$K13),IF($S13="국도비","직접입력",SUM($J13:$K13)-$V13)) -> 0 | X13: =IF(SUM($J13:$K13)=SUM($V13:$W13),"OK","검토") -> OK | AA13: =IF($U13<>"도비",IF($S13="국도비","직접입력",SUM($M13:$N13)),) -> 0 | AB13: =IF($U13="도비",SUM(M13:N13),IF($S13="국도비","직접입력",SUM(M13:N13)-AA13)) -> 0 | AC13: =IF(SUM(M13:N13)=SUM(AA13:AB13),"OK","검토") -> OK | AE13: =IF(U13="","",IF(U13="도비","세입없음","직접입력")) | AG13: =IF(AE13="","",COUNTIF($AE$7:$AE$14,AE13)) | AH13: =IF(U13="","",IF(AND(U13="도비",AE13="세입없음"),"OK",IF(AND(U13<>"도비",AE13<>""),"OK","@@"))) | AJ13: {=IF(C13="","",INDEX(구분표!$I$2:$I$300, MATCH(1,(구분표!$E$2:$E$300='1추일출'!B13)*(구분표!$F$2:$F$300='1추일출'!C13)*(구분표!$G$2:$G$300='1추일출'!A13),0)))}
A14: =IFERROR(VLOOKUP($C14,구분표!$A$2:$C$300,2,FALSE),"") | B14: =IFERROR(VLOOKUP($C14,구분표!$A$2:$C$300,3,FALSE),"") | I14: =IF(D14="","",G14-H14) | L14: =IF(G14=0,H14+J14+K14,G14+J14+K14) -> 0 | O14: =IF(G14=0,H14+M14+N14,G14+M14+N14) -> 0 | P14: =IF(AND((L14=0),(O14>0)),"O",IF(AND((J14<0),(L14-O14<0)),"O","X")) -> X | V14: =IF($U14<>"도비",IF($S14="국도비","직접입력",SUM($J14:$K14)),) -> 0 | W14: =IF($U14="도비",SUM($J14:$K14),IF($S14="국도비","직접입력",SUM($J14:$K14)-$V14)) -> 0 | X14: =IF(SUM($J14:$K14)=SUM($V14:$W14),"OK","검토") -> OK | AA14: =IF($U14<>"도비",IF($S14="국도비","직접입력",SUM($M14:$N14)),) -> 0 | AB14: =IF($U14="도비",SUM(M14:N14),IF($S14="국도비","직접입력",SUM(M14:N14)-AA14)) -> 0 | AC14: =IF(SUM(M14:N14)=SUM(AA14:AB14),"OK","검토") -> OK | AE14: =IF(U14="","",IF(U14="도비","세입없음","직접입력")) | AG14: =IF(AE14="","",COUNTIF($AE$7:$AE$14,AE14)) | AH14: =IF(U14="","",IF(AND(U14="도비",AE14="세입없음"),"OK",IF(AND(U14<>"도비",AE14<>""),"OK","@@"))) | AJ14: {=IF(C14="","",INDEX(구분표!$I$2:$I$300, MATCH(1,(구분표!$E$2:$E$300='1추일출'!B14)*(구분표!$F$2:$F$300='1추일출'!C14)*(구분표!$G$2:$G$300='1추일출'!A14),0)))}

Sheet 1추특입
A1: 2015년도 제1회 추경 경기도 기타특별회계 세입 예산 조정(안)
A2: □ 세입예산 | V2: 세입=세출 | AA2: 세입=세출
J3: =COUNTA(J7:J50) -> 0 | K3: =COUNTA(K7:K50) -> 0 | M3: =COUNTA(M7:M50) -> 0 | N3: =COUNTA(N7:N50) -> 0 | Q3: (단위 : 천원) | V3: =IF(V6='1추특출'!V6,"OK","@@") -> OK | X3: =IF(COUNTIF(X6:X50,"검토")>0,"@@","OK") -> OK | AA3: =IF(AA6='1추특출'!AA6,"OK","@@") -> OK | AC3: =IF(COUNTIF(AC6:AC50,"검토")>0,"@@","OK") -> OK
A4: 위원회명 | B4: 실국명 | C4: 부서명 | D4: 편성 구분 | E4: 예산안 페이지 | F4: 사업명 | G4: 제1회 추경 예산안 (가) | H4: 기정액 (나) | I4: 제1회 추경 증감액 (다=가-나) | J4: 상임위 제1회 추경 예산안 조정액(라) | L4: 상임위 수정 예산안 (마=가or나+라) | M4: 예결위 제1회 추경 예산안 조정액(라) | O4: 예결위 수정 예산안 (마=가or나+라) | P4: 동의 대상 | Q4: 비고 (부대의견) | S4: 국도비 등 여부 | U4: 재원 | V4: 상임위 재원별 증감액 | Z4: 재원 | AA4: 예결위 재원별 증감액 | AE4: 세입번호 | AG4: 실국부서 코드 | AI4: 추가 내시 등 | AK4: 상임위 세입 검증 | AO4: 예결위 세입 검증
J5: 감액 | K5: 증액 | M5: 감액 | N5: 증액 | V5: 국비 등 | W5: 도비 | X5: 검증 | AA5: 국비 등 | AB5: 도비 | AC5: 검증 | AK5: 국비 증감액 | AL5: 건수 | AM5: 검증 | AO5: 국비 증감액 | AP5: 건수 | AQ5: 검증
A6: 합 계 | G6: =SUBTOTAL(9,G7:G50) -> 0 | H6: =SUBTOTAL(9,H7:H50) -> 0 | I6: =SUBTOTAL(9,I7:I50) -> 0 | J6: =SUBTOTAL(9,J7:J50) -> 0 | K6: =SUBTOTAL(9,K7:K50) -> 0 | L6: =SUBTOTAL(9,L7:L50) -> 0 | M6: =SUBTOTAL(9,M7:M50) -> 0 | N6: =SUBTOTAL(9,N7:N50) -> 0 | O6: =SUBTOTAL(9,O7:O50) -> 0 | V6: =SUBTOTAL(9,V7:V50) -> 0 | W6: =SUBTOTAL(9,W7:W50) -> 0 | X6: =IF(SUM($J6:$K6)=SUM($V6:$W6),"OK","검토") -> OK | AA6: =SUBTOTAL(9,AA7:AA50) -> 0 | AB6: =SUBTOTAL(9,AB7:AB50) -> 0 | AC6: =IF(SUM($J6:$K6)=SUM($V6:$W6),"OK","검토") -> OK | AK6: =SUBTOTAL(9,AK7:AK50) -> 0 | AL6: =SUBTOTAL(9,AL7:AL50) -> 0 | AM6: =IF(COUNTIF(AM7:AM50,"@@")>0,"@@","OK") -> OK | AO6: =SUBTOTAL(9,AO7:AO50) -> 0 | AP6: =SUBTOTAL(9,AP7:AP50) -> 0 | AQ6: =IF(COUNTIF(AQ7:AQ50,"@@")>0,"@@","OK") -> OK
A7: =IFERROR(VLOOKUP($C7,구분표!$A$2:$C$300,2,FALSE),"") | B7: =IFERROR(VLOOKUP($C7,구분표!$A$2:$C$300,3,FALSE),"") | I7: =IF(D7="","",G7-H7) | L7: =IF(G7=0,H7+J7+K7,G7+J7+K7) -> 0 | O7: =IF(G7=0,H7+M7+N7,G7+M7+N7) -> 0 | P7: =IF(AND((L7=0),(O7>0)),"O",IF(AND((J7<0),(L7-O7<0)),"O","X")) -> X | V7: =IF($U7<>"도비",IF($S7="국도비","직접입력",SUM($J7:$K7)),) -> 0 | W7: =IF($U7="도비",SUM($J7:$K7),IF($S7="국도비","직접입력",SUM($J7:$K7)-$V7)) -> 0 | X7: =IF(SUM($J7:$K7)=SUM($V7:$W7),"OK","검토") -> OK | AA7: =IF($U7<>"도비",IF($S7="국도비","직접입력",SUM($M7:$N7)),) -> 0 | AB7: =IF($U7="도비",SUM(M7:N7),IF($S7="국도비","직접입력",SUM(M7:N7)-AA7)) -> 0 | AC7: =IF(SUM(M7:N7)=SUM(AA7:AB7),"OK","검토") -> OK | AE7: =IF(AG7="","",IF(U7="도비","세입없음",AG7&"-"&test(COUNTIF($AG$7:AG7,AG7),"00"))) | AG7: {=IF(C7="","",INDEX(구분표!$I$2:$I$300, MATCH(1,(구분표!$E$2:$E$300='1추특입'!B7)*(구분표!$F$2:$F$300='1추특입'!C7)*(구분표!$G$2:$G$300='1추특입'!A7),0)))} | AK7: =IF(AE7="",0,SUMIFS('1추특출'!$V$6:$V$50,'1추특출'!$AE$6:$AE$50,'1추특입'!$AE7)) -> 0 | AL7: =IF(AE7="","",COUNTIFS('1추특출'!$AE$6:$AE$50,'1추특입'!AE7)) | AM7: =IF(V7=AK7,"OK","@@") -> OK | AO7: =IF(AE7="",0,SUMIFS('1추특출'!$AA$6:$AA$50,'1추특출'!$AE$6:$AE$50,'1추특입'!$AE7)) -> 0 | AP7: =IF(AE7="","",COUNTIFS('1추특출'!$AE$6:$AE$50,AE7)) | AQ7: =IF(AA7=AO7,"OK","@@") -> OK
A8: =IFERROR(VLOOKUP($C8,구분표!$A$2:$C$300,2,FALSE),"") | B8: =IFERROR(VLOOKUP($C8,구분표!$A$2:$C$300,3,FALSE),"") | I8: =IF(D8="","",G8-H8) | L8: =IF(G8=0,H8+J8+K8,G8+J8+K8) -> 0 | O8: =IF(G8=0,H8+M8+N8,G8+M8+N8) -> 0 | P8: =IF(AND((L8=0),(O8>0)),"O",IF(AND((J8<0),(L8-O8<0)),"O","X")) -> X | V8: =IF($U8<>"도비",IF($S8="국도비","직접입력",SUM($J8:$K8)),) -> 0 | W8: =IF($U8="도비",SUM($J8:$K8),IF($S8="국도비","직접입력",SUM($J8:$K8)-$V8)) -> 0 | X8: =IF(SUM($J8:$K8)=SUM($V8:$W8),"OK","검토") -> OK | AA8: =IF($U8<>"도비",IF($S8="국도비","직접입력",SUM($M8:$N8)),) -> 0 | AB8: =IF($U8="도비",SUM(M8:N8),IF($S8="국도비","직접입력",SUM(M8:N8)-AA8)) -> 0 | AC8: =IF(SUM(M8:N8)=SUM(AA8:AB8),"OK","검토") -> OK | AE8: =IF(AG8="","",IF(U8="도비","세입없음",AG8&"-"&test(COUNTIF($AG$7:AG8,AG8),"00"))) | AG8: {=IF(C8="","",INDEX(구분표!$I$2:$I$300, MATCH(1,(구분표!$E$2:$E$300='1추특입'!B8)*(구분표!$F$2:$F$300='1추특입'!C8)*(구분표!$G$2:$G$300='1추특입'!A8),0)))} | AK8: =IF(AE8="",0,SUMIFS('1추특출'!$V$6:$V$50,'1추특출'!$AE$6:$AE$50,'1추특입'!$AE8)) -> 0 | AL8: =IF(AE8="","",COUNTIFS('1추특출'!$AE$6:$AE$50,'1추특입'!AE8)) | AM8: =IF(V8=AK8,"OK","@@") -> OK | AO8: =IF(AE8="",0,SUMIFS('1추특출'!$AA$6:$AA$50,'1추특출'!$AE$6:$AE$50,'1추특입'!$AE8)) -> 0 | AP8: =IF(AE8="","",COUNTIFS('1추특출'!$AE$6:$AE$50,AE8)) | AQ8: =IF(AA8=AO8,"OK","@@") -> OK
A9: =IFERROR(VLOOKUP($C9,구분표!$A$2:$C$300,2,FALSE),"") | B9: =IFERROR(VLOOKUP($C9,구분표!$A$2:$C$300,3,FALSE),"") | I9: =IF(D9="","",G9-H9) | L9: =IF(G9=0,H9+J9+K9,G9+J9+K9) -> 0 | O9: =IF(G9=0,H9+M9+N9,G9+M9+N9) -> 0 | P9: =IF(AND((L9=0),(O9>0)),"O",IF(AND((J9<0),(L9-O9<0)),"O","X")) -> X | V9: =IF($U9<>"도비",IF($S9="국도비","직접입력",SUM($J9:$K9)),) -> 0 | W9: =IF($U9="도비",SUM($J9:$K9),IF($S9="국도비","직접입력",SUM($J9:$K9)-$V9)) -> 0 | X9: =IF(SUM($J9:$K9)=SUM($V9:$W9),"OK","검토") -> OK | AA9: =IF($U9<>"도비",IF($S9="국도비","직접입력",SUM($M9:$N9)),) -> 0 | AB9: =IF($U9="도비",SUM(M9:N9),IF($S9="국도비","직접입력",SUM(M9:N9)-AA9)) -> 0 | AC9: =IF(SUM(M9:N9)=SUM(AA9:AB9),"OK","검토") -> OK | AE9: =IF(AG9="","",IF(U9="도비","세입없음",AG9&"-"&test(COUNTIF($AG$7:AG9,AG9),"00"))) | AG9: {=IF(C9="","",INDEX(구분표!$I$2:$I$300, MATCH(1,(구분표!$E$2:$E$300='1추특입'!B9)*(구분표!$F$2:$F$300='1추특입'!C9)*(구분표!$G$2:$G$300='1추특입'!A9),0)))} | AK9: =IF(AE9="",0,SUMIFS('1추특출'!$V$6:$V$50,'1추특출'!$AE$6:$AE$50,'1추특입'!$AE9)) -> 0 | AL9: =IF(AE9="","",COUNTIFS('1추특출'!$AE$6:$AE$50,'1추특입'!AE9)) | AM9: =IF(V9=AK9,"OK","@@") -> OK | AO9: =IF(AE9="",0,SUMIFS('1추특출'!$AA$6:$AA$50,'1추특출'!$AE$6:$AE$50,'1추특입'!$AE9)) -> 0 | AP9: =IF(AE9="","",COUNTIFS('1추특출'!$AE$6:$AE$50,AE9)) | AQ9: =IF(AA9=AO9,"OK","@@") -> OK
A10: =IFERROR(VLOOKUP($C10,구분표!$A$2:$C$300,2,FALSE),"") | B10: =IFERROR(VLOOKUP($C10,구분표!$A$2:$C$300,3,FALSE),"") | I10: =IF(D10="","",G10-H10) | L10: =IF(G10=0,H10+J10+K10,G10+J10+K10) -> 0 | O10: =IF(G10=0,H10+M10+N10,G10+M10+N10) -> 0 | P10: =IF(AND((L10=0),(O10>0)),"O",IF(AND((J10<0),(L10-O10<0)),"O","X")) -> X | V10: =IF($U10<>"도비",IF($S10="국도비","직접입력",SUM($J10:$K10)),) -> 0 | W10: =IF($U10="도비",SUM($J10:$K10),IF($S10="국도비","직접입력",SUM($J10:$K10)-$V10)) -> 0 | X10: =IF(SUM($J10:$K10)=SUM($V10:$W10),"OK","검토") -> OK | AA10: =IF($U10<>"도비",IF($S10="국도비","직접입력",SUM($M10:$N10)),) -> 0 | AB10: =IF($U10="도비",SUM(M10:N10),IF($S10="국도비","직접입력",SUM(M10:N10)-AA10)) -> 0 | AC10: =IF(SUM(M10:N10)=SUM(AA10:AB10),"OK","검토") -> OK | AE10: =IF(AG10="","",IF(U10="도비","세입없음",AG10&"-"&test(COUNTIF($AG$7:AG10,AG10),"00"))) | AG10: {=IF(C10="","",INDEX(구분표!$I$2:$I$300, MATCH(1,(구분표!$E$2:$E$300='1추특입'!B10)*(구분표!$F$2:$F$300='1추특입'!C10)*(구분표!$G$2:$G$300='1추특입'!A10),0)))} | AK10: =IF(AE10="",0,SUMIFS('1추특출'!$V$6:$V$50,'1추특출'!$AE$6:$AE$50,'1추특입'!$AE10)) -> 0 | AL10: =IF(AE10="","",COUNTIFS('1추특출'!$AE$6:$AE$50,'1추특입'!AE10)) | AM10: =IF(V10=AK10,"OK","@@") -> OK | AO10: =IF(AE10="",0,SUMIFS('1추특출'!$AA$6:$AA$50,'1추특출'!$AE$6:$AE$50,'1추특입'!$AE10)) -> 0 | AP10: =IF(AE10="","",COUNTIFS('1추특출'!$AE$6:$AE$50,AE10)) | AQ10: =IF(AA10=AO10,"OK","@@") -> OK
A11: =IFERROR(VLOOKUP($C11,구분표!$A$2:$C$300,2,FALSE),"") | B11: =IFERROR(VLOOKUP($C11,구분표!$A$2:$C$300,3,FALSE),"") | I11: =IF(D11="","",G11-H11) | L11: =IF(G11=0,H11+J11+K11,G11+J11+K11) -> 0 | O11: =IF(G11=0,H11+M11+N11,G11+M11+N11) -> 0 | P11: =IF(AND((L11=0),(O11>0)),"O",IF(AND((J11<0),(L11-O11<0)),"O","X")) -> X | V11: =IF($U11<>"도비",IF($S11="국도비","직접입력",SUM($J11:$K11)),) -> 0 | W11: =IF($U11="도비",SUM($J11:$K11),IF($S11="국도비","직접입력",SUM($J11:$K11)-$V11)) -> 0 | X11: =IF(SUM($J11:$K11)=SUM($V11:$W11),"OK","검토") -> OK | AA11: =IF($U11<>"도비",IF($S11="국도비","직접입력",SUM($M11:$N11)),) -> 0 | AB11: =IF($U11="도비",SUM(M11:N11),IF($S11="국도비","직접입력",SUM(M11:N11)-AA11)) -> 0 | AC11: =IF(SUM(M11:N11)=SUM(AA11:AB11),"OK","검토") -> OK | AE11: =IF(AG11="","",IF(U11="도비","세입없음",AG11&"-"&test(COUNTIF($AG$7:AG11,AG11),"00"))) | AG11: {=IF(C11="","",INDEX(구분표!$I$2:$I$300, MATCH(1,(구분표!$E$2:$E$300='1추특입'!B11)*(구분표!$F$2:$F$300='1추특입'!C11)*(구분표!$G$2:$G$300='1추특입'!A11),0)))} | AK11: =IF(AE11="",0,SUMIFS('1추특출'!$V$6:$V$50,'1추특출'!$AE$6:$AE$50,'1추특입'!$AE11)) -> 0 | AL11: =IF(AE11="","",COUNTIFS('1추특출'!$AE$6:$AE$50,'1추특입'!AE11)) | AM11: =IF(V11=AK11,"OK","@@") -> OK | AO11: =IF(AE11="",0,SUMIFS('1추특출'!$AA$6:$AA$50,'1추특출'!$AE$6:$AE$50,'1추특입'!$AE11)) -> 0 | AP11: =IF(AE11="","",COUNTIFS('1추특출'!$AE$6:$AE$50,AE11)) | AQ11: =IF(AA11=AO11,"OK","@@") -> OK
A12: =IFERROR(VLOOKUP($C12,구분표!$A$2:$C$300,2,FALSE),"") | B12: =IFERROR(VLOOKUP($C12,구분표!$A$2:$C$300,3,FALSE),"") | I12: =IF(D12="","",G12-H12) | L12: =IF(G12=0,H12+J12+K12,G12+J12+K12) -> 0 | O12: =IF(G12=0,H12+M12+N12,G12+M12+N12) -> 0 | P12: =IF(AND((L12=0),(O12>0)),"O",IF(AND((J12<0),(L12-O12<0)),"O","X")) -> X | V12: =IF($U12<>"도비",IF($S12="국도비","직접입력",SUM($J12:$K12)),) -> 0 | W12: =IF($U12="도비",SUM($J12:$K12),IF($S12="국도비","직접입력",SUM($J12:$K12)-$V12)) -> 0 | X12: =IF(SUM($J12:$K12)=SUM($V12:$W12),"OK","검토") -> OK | AA12: =IF($U12<>"도비",IF($S12="국도비","직접입력",SUM($M12:$N12)),) -> 0 | AB12: =IF($U12="도비",SUM(M12:N12),IF($S12="국도비","직접입력",SUM(M12:N12)-AA12)) -> 0 | AC12: =IF(SUM(M12:N12)=SUM(AA12:AB12),"OK","검토") -> OK | AE12: =IF(AG12="","",IF(U12="도비","세입없음",AG12&"-"&test(COUNTIF($AG$7:AG12,AG12),"00"))) | AG12: {=IF(C12="","",INDEX(구분표!$I$2:$I$300, MATCH(1,(구분표!$E$2:$E$300='1추특입'!B12)*(구분표!$F$2:$F$300='1추특입'!C12)*(구분표!$G$2:$G$300='1추특입'!A12),0)))} | AK12: =IF(AE12="",0,SUMIFS('1추특출'!$V$6:$V$50,'1추특출'!$AE$6:$AE$50,'1추특입'!$AE12)) -> 0 | AL12: =IF(AE12="","",COUNTIFS('1추특출'!$AE$6:$AE$50,'1추특입'!AE12)) | AM12: =IF(V12=AK12,"OK","@@") -> OK | AO12: =IF(AE12="",0,SUMIFS('1추특출'!$AA$6:$AA$50,'1추특출'!$AE$6:$AE$50,'1추특입'!$AE12)) -> 0 | AP12: =IF(AE12="","",COUNTIFS('1추특출'!$AE$6:$AE$50,AE12)) | AQ12: =IF(AA12=AO12,"OK","@@") -> OK
A13: =IFERROR(VLOOKUP($C13,구분표!$A$2:$C$300,2,FALSE),"") | B13: =IFERROR(VLOOKUP($C13,구분표!$A$2:$C$300,3,FALSE),"") | I13: =IF(D13="","",G13-H13) | L13: =IF(G13=0,H13+J13+K13,G13+J13+K13) -> 0 | O13: =IF(G13=0,H13+M13+N13,G13+M13+N13) -> 0 | P13: =IF(AND((L13=0),(O13>0)),"O",IF(AND((J13<0),(L13-O13<0)),"O","X")) -> X | V13: =IF($U13<>"도비",IF($S13="국도비","직접입력",SUM($J13:$K13)),) -> 0 | W13: =IF($U13="도비",SUM($J13:$K13),IF($S13="국도비","직접입력",SUM($J13:$K13)-$V13)) -> 0 | X13: =IF(SUM($J13:$K13)=SUM($V13:$W13),"OK","검토") -> OK | AA13: =IF($U13<>"도비",IF($S13="국도비","직접입력",SUM($M13:$N13)),) -> 0 | AB13: =IF($U13="도비",SUM(M13:N13),IF($S13="국도비","직접입력",SUM(M13:N13)-AA13)) -> 0 | AC13: =IF(SUM(M13:N13)=SUM(AA13:AB13),"OK","검토") -> OK | AE13: =IF(AG13="","",IF(U13="도비","세입없음",AG13&"-"&test(COUNTIF($AG$7:AG13,AG13),"00"))) | AG13: {=IF(C13="","",INDEX(구분표!$I$2:$I$300, MATCH(1,(구분표!$E$2:$E$300='1추특입'!B13)*(구분표!$F$2:$F$300='1추특입'!C13)*(구분표!$G$2:$G$300='1추특입'!A13),0)))} | AK13: =IF(AE13="",0,SUMIFS('1추특출'!$V$6:$V$50,'1추특출'!$AE$6:$AE$50,'1추특입'!$AE13)) -> 0 | AL13: =IF(AE13="","",COUNTIFS('1추특출'!$AE$6:$AE$50,'1추특입'!AE13)) | AM13: =IF(V13=AK13,"OK","@@") -> OK | AO13: =IF(AE13="",0,SUMIFS('1추특출'!$AA$6:$AA$50,'1추특출'!$AE$6:$AE$50,'1추특입'!$AE13)) -> 0 | AP13: =IF(AE13="","",COUNTIFS('1추특출'!$AE$6:$AE$50,AE13)) | AQ13: =IF(AA13=AO13,"OK","@@") -> OK
A14: =IFERROR(VLOOKUP($C14,구분표!$A$2:$C$300,2,FALSE),"") | B14: =IFERROR(VLOOKUP($C14,구분표!$A$2:$C$300,3,FALSE),"") | I14: =IF(D14="","",G14-H14) | L14: =IF(G14=0,H14+J14+K14,G14+J14+K14) -> 0 | O14: =IF(G14=0,H14+M14+N14,G14+M14+N14) -> 0 | P14: =IF(AND((L14=0),(O14>0)),"O",IF(AND((J14<0),(L14-O14<0)),"O","X")) -> X | V14: =IF($U14<>"도비",IF($S14="국도비","직접입력",SUM($J14:$K14)),) -> 0 | W14: =IF($U14="도비",SUM($J14:$K14),IF($S14="국도비","직접입력",SUM($J14:$K14)-$V14)) -> 0 | X14: =IF(SUM($J14:$K14)=SUM($V14:$W14),"OK","검토") -> OK | AA14: =IF($U14<>"도비",IF($S14="국도비","직접입력",SUM($M14:$N14)),) -> 0 | AB14: =IF($U14="도비",SUM(M14:N14),IF($S14="국도비","직접입력",SUM(M14:N14)-AA14)) -> 0 | AC14: =IF(SUM(M14:N14)=SUM(AA14:AB14),"OK","검토") -> OK | AE14: =IF(AG14="","",IF(U14="도비","세입없음",AG14&"-"&test(COUNTIF($AG$7:AG14,AG14),"00"))) | AG14: {=IF(C14="","",INDEX(구분표!$I$2:$I$300, MATCH(1,(구분표!$E$2:$E$300='1추특입'!B14)*(구분표!$F$2:$F$300='1추특입'!C14)*(구분표!$G$2:$G$300='1추특입'!A14),0)))} | AK14: =IF(AE14="",0,SUMIFS('1추특출'!$V$6:$V$50,'1추특출'!$AE$6:$AE$50,'1추특입'!$AE14)) -> 0 | AL14: =IF(AE14="","",COUNTIFS('1추특출'!$AE$6:$AE$50,'1추특입'!AE14)) | AM14: =IF(V14=AK14,"OK","@@") -> OK | AO14: =IF(AE14="",0,SUMIFS('1추특출'!$AA$6:$AA$50,'1추특출'!$AE$6:$AE$50,'1추특입'!$AE14)) -> 0 | AP14: =IF(AE14="","",COUNTIFS('1추특출'!$AE$6:$AE$50,AE14)) | AQ14: =IF(AA14=AO14,"OK","@@") -> OK
A15: =IFERROR(VLOOKUP($C15,구분표!$A$2:$C$300,2,FALSE),"") | B15: =IFERROR(VLOOKUP($C15,구분표!$A$2:$C$300,3,FALSE),"") | I15: =IF(D15="","",G15-H15) | L15: =IF(G15=0,H15+J15+K15,G15+J15+K15) -> 0 | O15: =IF(G15=0,H15+M15+N15,G15+M15+N15) -> 0 | P15: =IF(AND((L15=0),(O15>0)),"O",IF(AND((J15<0),(L15-O15<0)),"O","X")) -> X | V15: =IF($U15<>"도비",IF($S15="국도비","직접입력",SUM($J15:$K15)),) -> 0 | W15: =IF($U15="도비",SUM($J15:$K15),IF($S15="국도비","직접입력",SUM($J15:$K15)-$V15)) -> 0 | X15: =IF(SUM($J15:$K15)=SUM($V15:$W15),"OK","검토") -> OK | AA15: =IF($U15<>"도비",IF($S15="국도비","직접입력",SUM($M15:$N15)),) -> 0 | AB15: =IF($U15="도비",SUM(M15:N15),IF($S15="국도비","직접입력",SUM(M15:N15)-AA15)) -> 0 | AC15: =IF(SUM(M15:N15)=SUM(AA15:AB15),"OK","검토") -> OK | AE15: =IF(AG15="","",IF(U15="도비","세입없음",AG15&"-"&test(COUNTIF($AG$7:AG15,AG15),"00"))) | AG15: {=IF(C15="","",INDEX(구분표!$I$2:$I$300, MATCH(1,(구분표!$E$2:$E$300='1추특입'!B15)*(구분표!$F$2:$F$300='1추특입'!C15)*(구분표!$G$2:$G$300='1추특입'!A15),0)))} | AK15: =IF(AE15="",0,SUMIFS('1추특출'!$V$6:$V$50,'1추특출'!$AE$6:$AE$50,'1추특입'!$AE15)) -> 0 | AL15: =IF(AE15="","",COUNTIFS('1추특출'!$AE$6:$AE$50,'1추특입'!AE15)) | AM15: =IF(V15=AK15,"OK","@@") -> OK | AO15: =IF(AE15="",0,SUMIFS('1추특출'!$AA$6:$AA$50,'1추특출'!$AE$6:$AE$50,'1추특입'!$AE15)) -> 0 | AP15: =IF(AE15="","",COUNTIFS('1추특출'!$AE$6:$AE$50,AE15)) | AQ15: =IF(AA15=AO15,"OK","@@") -> OK
A16: =IFERROR(VLOOKUP($C16,구분표!$A$2:$C$300,2,FALSE),"") | B16: =IFERROR(VLOOKUP($C16,구분표!$A$2:$C$300,3,FALSE),"") | I16: =IF(D16="","",G16-H16) | L16: =IF(G16=0,H16+J16+K16,G16+J16+K16) -> 0 | O16: =IF(G16=0,H16+M16+N16,G16+M16+N16) -> 0 | P16: =IF(AND((L16=0),(O16>0)),"O",IF(AND((J16<0),(L16-O16<0)),"O","X")) -> X | V16: =IF($U16<>"도비",IF($S16="국도비","직접입력",SUM($J16:$K16)),) -> 0 | W16: =IF($U16="도비",SUM($J16:$K16),IF($S16="국도비","직접입력",SUM($J16:$K16)-$V16)) -> 0 | X16: =IF(SUM($J16:$K16)=SUM($V16:$W16),"OK","검토") -> OK | AA16: =IF($U16<>"도비",IF($S16="국도비","직접입력",SUM($M16:$N16)),) -> 0 | AB16: =IF($U16="도비",SUM(M16:N16),IF($S16="국도비","직접입력",SUM(M16:N16)-AA16)) -> 0 | AC16: =IF(SUM(M16:N16)=SUM(AA16:AB16),"OK","검토") -> OK | AE16: =IF(AG16="","",IF(U16="도비","세입없음",AG16&"-"&test(COUNTIF($AG$7:AG16,AG16),"00"))) | AG16: {=IF(C16="","",INDEX(구분표!$I$2:$I$300, MATCH(1,(구분표!$E$2:$E$300='1추특입'!B16)*(구분표!$F$2:$F$300='1추특입'!C16)*(구분표!$G$2:$G$300='1추특입'!A16),0)))} | AK16: =IF(AE16="",0,SUMIFS('1추특출'!$V$6:$V$50,'1추특출'!$AE$6:$AE$50,'1추특입'!$AE16)) -> 0 | AL16: =IF(AE16="","",COUNTIFS('1추특출'!$AE$6:$AE$50,'1추특입'!AE16)) | AM16: =IF(V16=AK16,"OK","@@") -> OK | AO16: =IF(AE16="",0,SUMIFS('1추특출'!$AA$6:$AA$50,'1추특출'!$AE$6:$AE$50,'1추특입'!$AE16)) -> 0 | AP16: =IF(AE16="","",COUNTIFS('1추특출'!$AE$6:$AE$50,AE16)) | AQ16: =IF(AA16=AO16,"OK","@@") -> OK
A17: =IFERROR(VLOOKUP($C17,구분표!$A$2:$C$300,2,FALSE),"") | B17: =IFERROR(VLOOKUP($C17,구분표!$A$2:$C$300,3,FALSE),"") | I17: =IF(D17="","",G17-H17) | L17: =IF(G17=0,H17+J17+K17,G17+J17+K17) -> 0 | O17: =IF(G17=0,H17+M17+N17,G17+M17+N17) -> 0 | P17: =IF(AND((L17=0),(O17>0)),"O",IF(AND((J17<0),(L17-O17<0)),"O","X")) -> X | V17: =IF($U17<>"도비",IF($S17="국도비","직접입력",SUM($J17:$K17)),) -> 0 | W17: =IF($U17="도비",SUM($J17:$K17),IF($S17="국도비","직접입력",SUM($J17:$K17)-$V17)) -> 0 | X17: =IF(SUM($J17:$K17)=SUM($V17:$W17),"OK","검토") -> OK | AA17: =IF($U17<>"도비",IF($S17="국도비","직접입력",SUM($M17:$N17)),) -> 0 | AB17: =IF($U17="도비",SUM(M17:N17),IF($S17="국도비","직접입력",SUM(M17:N17)-AA17)) -> 0 | AC17: =IF(SUM(M17:N17)=SUM(AA17:AB17),"OK","검토") -> OK | AE17: =IF(AG17="","",IF(U17="도비","세입없음",AG17&"-"&test(COUNTIF($AG$7:AG17,AG17),"00"))) | AG17: {=IF(C17="","",INDEX(구분표!$I$2:$I$300, MATCH(1,(구분표!$E$2:$E$300='1추특입'!B17)*(구분표!$F$2:$F$300='1추특입'!C17)*(구분표!$G$2:$G$300='1추특입'!A17),0)))} | AK17: =IF(AE17="",0,SUMIFS('1추특출'!$V$6:$V$50,'1추특출'!$AE$6:$AE$50,'1추특입'!$AE17)) -> 0 | AL17: =IF(AE17="","",COUNTIFS('1추특출'!$AE$6:$AE$50,'1추특입'!AE17)) | AM17: =IF(V17=AK17,"OK","@@") -> OK | AO17: =IF(AE17="",0,SUMIFS('1추특출'!$AA$6:$AA$50,'1추특출'!$AE$6:$AE$50,'1추특입'!$AE17)) -> 0 | AP17: =IF(AE17="","",COUNTIFS('1추특출'!$AE$6:$AE$50,AE17)) | AQ17: =IF(AA17=AO17,"OK","@@") -> OK
A18: =IFERROR(VLOOKUP($C18,구분표!$A$2:$C$300,2,FALSE),"") | B18: =IFERROR(VLOOKUP($C18,구분표!$A$2:$C$300,3,FALSE),"") | I18: =IF(D18="","",G18-H18) | L18: =IF(G18=0,H18+J18+K18,G18+J18+K18) -> 0 | O18: =IF(G18=0,H18+M18+N18,G18+M18+N18) -> 0 | P18: =IF(AND((L18=0),(O18>0)),"O",IF(AND((J18<0),(L18-O18<0)),"O","X")) -> X | V18: =IF($U18<>"도비",IF($S18="국도비","직접입력",SUM($J18:$K18)),) -> 0 | W18: =IF($U18="도비",SUM($J18:$K18),IF($S18="국도비","직접입력",SUM($J18:$K18)-$V18)) -> 0 | X18: =IF(SUM($J18:$K18)=SUM($V18:$W18),"OK","검토") -> OK | AA18: =IF($U18<>"도비",IF($S18="국도비","직접입력",SUM($M18:$N18)),) -> 0 | AB18: =IF($U18="도비",SUM(M18:N18),IF($S18="국도비","직접입력",SUM(M18:N18)-AA18)) -> 0 | AC18: =IF(SUM(M18:N18)=SUM(AA18:AB18),"OK","검토") -> OK | AE18: =IF(AG18="","",IF(U18="도비","세입없음",AG18&"-"&test(COUNTIF($AG$7:AG18,AG18),"00"))) | AG18: {=IF(C18="","",INDEX(구분표!$I$2:$I$300, MATCH(1,(구분표!$E$2:$E$300='1추특입'!B18)*(구분표!$F$2:$F$300='1추특입'!C18)*(구분표!$G$2:$G$300='1추특입'!A18),0)))} | AK18: =IF(AE18="",0,SUMIFS('1추특출'!$V$6:$V$50,'1추특출'!$AE$6:$AE$50,'1추특입'!$AE18)) -> 0 | AL18: =IF(AE18="","",COUNTIFS('1추특출'!$AE$6:$AE$50,'1추특입'!AE18)) | AM18: =IF(V18=AK18,"OK","@@") -> OK | AO18: =IF(AE18="",0,SUMIFS('1추특출'!$AA$6:$AA$50,'1추특출'!$AE$6:$AE$50,'1추특입'!$AE18)) -> 0 | AP18: =IF(AE18="","",COUNTIFS('1추특출'!$AE$6:$AE$50,AE18)) | AQ18: =IF(AA18=AO18,"OK","@@") -> OK
... A50: =IFERROR(VLOOKUP($C50,구분표!$A$2:$C$300,2,FALSE),"") | B50: =IFERROR(VLOOKUP($C50,구분표!$A$2:$C$300,3,FALSE),"") | I50: =IF(D50="","",G50-H50) | L50: =IF(G50=0,H50+J50+K50,G50+J50+K50) -> 0 | O50: =IF(G50=0,H50+M50+N50,G50+M50+N50) -> 0 | P50: =IF(AND((L50=0),(O50>0)),"O",IF(AND((J50<0),(L50-O50<0)),"O","X")) -> X | V50: =IF($U50<>"도비",IF($S50="국도비","직접입력",SUM($J50:$K50)),) -> 0 | W50: =IF($U50="도비",SUM($J50:$K50),IF($S50="국도비","직접입력",SUM($J50:$K50)-$V50)) -> 0 | X50: =IF(SUM($J50:$K50)=SUM($V50:$W50),"OK","검토") -> OK | AA50: =IF($U50<>"도비",IF($S50="국도비","직접입력",SUM($M50:$N50)),) -> 0 | AB50: =IF($U50="도비",SUM(M50:N50),IF($S50="국도비","직접입력",SUM(M50:N50)-AA50)) -> 0 | AC50: =IF(SUM(M50:N50)=SUM(AA50:AB50),"OK","검토") -> OK | AE50: =IF(AG50="","",IF(U50="도비","세입없음",AG50&"-"&test(COUNTIF($AG$7:AG50,AG50),"00"))) | AG50: {=IF(C50="","",INDEX(구분표!$I$2:$I$300, MATCH(1,(구분표!$E$2:$E$300='1추특입'!B50)*(구분표!$F$2:$F$300='1추특입'!C50)*(구분표!$G$2:$G$300='1추특입'!A50),0)))} | AK50: =IF(AE50="",0,SUMIFS('1추특출'!$V$6:$V$50,'1추특출'!$AE$6:$AE$50,'1추특입'!$AE50)) -> 0 | AL50: =IF(AE50="","",COUNTIFS('1추특출'!$AE$6:$AE$50,'1추특입'!AE50)) | AM50: =IF(V50=AK50,"OK","@@") -> OK | AO50: =IF(AE50="",0,SUMIFS('1추특출'!$AA$6:$AA$50,'1추특출'!$AE$6:$AE$50,'1추특입'!$AE50)) -> 0 | AP50: =IF(AE50="","",COUNTIFS('1추특출'!$AE$6:$AE$50,AE50)) | AQ50: =IF(AA50=AO50,"OK","@@") -> OK

Sheet 1추특출
A1: 2015년도 제1회 추경 경기도 기타특별회계 세출 예산 조정(안)
A2: □ 세출예산 | V2: 세입=세출 | AA2: 세입=세출
J3: =COUNTA(J7:J40)-3 -> 0 | K3: =COUNTA(K7:K40)-3 -> 0 | M3: =COUNTA(M7:M40)-3 -> 0 | N3: =COUNTA(N7:N40)-3 -> 0 | Q3: (단위 : 천원) | V3: =IF(V6='1추특입'!V6,"OK","@@") -> OK | X3: =IF(COUNTIF(X6:X40,"검토")>0,"@@","OK") -> OK | AA3: =IF(AA6='1추특입'!AA6,"OK","@@") -> OK | AC3: =IF(COUNTIF(AC6:AC40,"검토")>0,"@@","OK") -> OK
A4: 위원회명 | B4: 실국명 | C4: 부서명 | D4: 편성 구분 | E4: 예산안 페이지 | F4: 세부사업명 및 부기명 | G4: 제1회 추경 예산안 (가) | H4: 기정액 (나) | I4: 제1회 추경 증감액 (다=가-나) | J4: 상임위 제1회 추경 예산안 조정액(라) | L4: 상임위 수정 예산안 (마=가or나+라) | M4: 예결위 제1회 추경 예산안 조정액(라) | O4: 예결위 수정 예산안 (마=가or나+라) | P4: 동의 대상 | Q4: 비고 (부대의견) | S4: 국도비 등 여부 | U4: 재원 | V4: 상임위 재원별 증감액 | Z4: 재원 | AA4: 예결위 재원별 증감액 | AE4: 세입번호 | AG4: 동일 세입 건수 | AH4: 세출 번호 검증 | AJ4: 실국부서 코드 | AL4: 추가 내시 등
J5: 감액 | K5: 증액 | M5: 감액 | N5: 증액 | V5: 국비 등 | W5: 도비 | X5: 검증 | AA5: 국비 등 | AB5: 도비 | AC5: 검증
A6: 합 계 | G6: =SUBTOTAL(9,G7:G40)/2 -> 0 | H6: =SUBTOTAL(9,H7:H40)/2 -> 0 | I6: =SUBTOTAL(9,I7:I40)/2 -> 0 | J6: =SUBTOTAL(9,J7:J40)/2 -> 0 | K6: =SUBTOTAL(9,K7:K40)/2 -> 0 | L6: =SUBTOTAL(9,L7:L40)/2 -> 0 | M6: =SUBTOTAL(9,M7:M40)/2 -> 0 | N6: =SUBTOTAL(9,N7:N40)/2 -> 0 | O6: =SUBTOTAL(9,O7:O40)/2 -> 0 | V6: =SUBTOTAL(9,V7:V40)/2 -> 0 | W6: =SUBTOTAL(9,W7:W40)/2 -> 0 | X6: =IF(SUM($J6:$K6)=SUM($V6:$W6),"OK","검토") -> OK | AA6: =SUBTOTAL(9,AA7:AA40)/2 -> 0 | AB6: =SUBTOTAL(9,AB7:AB40)/2 -> 0 | AC6: =IF(SUM($J6:$K6)=SUM($V6:$W6),"OK","검토") -> OK
A7: ( 위원회) | G7: =SUM(G8:G14) -> 0 | H7: =SUM(H8:H14) -> 0 | I7: =SUM(I8:I14) -> 0 | J7: =SUM(J8:J14) -> 0 | K7: =SUM(K8:K14) -> 0 | L7: =SUM(L8:L14) -> 0 | M7: =SUM(M8:M14) -> 0 | N7: =SUM(N8:N14) -> 0 | O7: =SUM(O8:O14) -> 0 | V7: =IF($U7<>"도비",IF($S7="국도비","직접입력",SUM($J7:$K7)),) -> 0 | W7: =IF($U7="도비",SUM($J7:$K7),IF($S7="국도비","직접입력",SUM($J7:$K7)-$V7)) -> 0 | X7: =IF(SUM($J7:$K7)=SUM($V7:$W7),"OK","검토") -> OK | AA7: =IF($U7<>"도비",IF($S7="국도비","직접입력",SUM($M7:$N7)),) -> 0 | AB7: =IF($U7="도비",SUM(M7:N7),IF($S7="국도비","직접입력",SUM(M7:N7)-AA7)) -> 0 | AC7: =IF(SUM(M7:N7)=SUM(AA7:AB7),"OK","검토") -> OK | AE7: =IF(U7="","",IF(U7="도비","세입없음","직접입력")) | AG7: =IF(AE7="","",COUNTIF($AE$7:$AE$40,AE7)) | AH7: =IF(U7="","",IF(AND(U7="도비",AE7="세입없음"),"OK",IF(AND(U7<>"도비",AE7<>""),"OK","@@"))) | AJ7: {=IF(C7="","",INDEX(구분표!$I$2:$I$300, MATCH(1,(구분표!$E$2:$E$300='1추특출'!B7)*(구분표!$F$2:$F$300='1추특출'!C7)*(구분표!$G$2:$G$300='1추특출'!A7),0)))}
A8: =IFERROR(VLOOKUP($C8,구분표!$A$2:$C$300,2,FALSE),"") | B8: =IFERROR(VLOOKUP($C8,구분표!$A$2:$C$300,3,FALSE),"") | I8: =IF(D8="","",G8-H8) | L8: =IF(G8=0,H8+J8+K8,G8+J8+K8) -> 0 | O8: =IF(G8=0,H8+M8+N8,G8+M8+N8) -> 0 | P8: =IF(AND((L8=0),(O8>0)),"O",IF(AND((J8<0),(L8-O8<0)),"O","X")) -> X | V8: =IF($U8<>"도비",IF($S8="국도비","직접입력",SUM($J8:$K8)),) -> 0 | W8: =IF($U8="도비",SUM($J8:$K8),IF($S8="국도비","직접입력",SUM($J8:$K8)-$V8)) -> 0 | X8: =IF(SUM($J8:$K8)=SUM($V8:$W8),"OK","검토") -> OK | AA8: =IF($U8<>"도비",IF($S8="국도비","직접입력",SUM($M8:$N8)),) -> 0 | AB8: =IF($U8="도비",SUM(M8:N8),IF($S8="국도비","직접입력",SUM(M8:N8)-AA8)) -> 0 | AC8: =IF(SUM(M8:N8)=SUM(AA8:AB8),"OK","검토") -> OK | AE8: =IF(U8="","",IF(U8="도비","세입없음","직접입력")) | AG8: =IF(AE8="","",COUNTIF($AE$7:$AE$40,AE8)) | AH8: =IF(U8="","",IF(AND(U8="도비",AE8="세입없음"),"OK",IF(AND(U8<>"도비",AE8<>""),"OK","@@"))) | AJ8: {=IF(C8="","",INDEX(구분표!$I$2:$I$300, MATCH(1,(구분표!$E$2:$E$300='1추특출'!B8)*(구분표!$F$2:$F$300='1추특출'!C8)*(구분표!$G$2:$G$300='1추특출'!A8),0)))}
A9: =IFERROR(VLOOKUP($C9,구분표!$A$2:$C$300,2,FALSE),"") | B9: =IFERROR(VLOOKUP($C9,구분표!$A$2:$C$300,3,FALSE),"") | I9: =IF(D9="","",G9-H9) | L9: =IF(G9=0,H9+J9+K9,G9+J9+K9) -> 0 | O9: =IF(G9=0,H9+M9+N9,G9+M9+N9) -> 0 | P9: =IF(AND((L9=0),(O9>0)),"O",IF(AND((J9<0),(L9-O9<0)),"O","X")) -> X | V9: =IF($U9<>"도비",IF($S9="국도비","직접입력",SUM($J9:$K9)),) -> 0 | W9: =IF($U9="도비",SUM($J9:$K9),IF($S9="국도비","직접입력",SUM($J9:$K9)-$V9)) -> 0 | X9: =IF(SUM($J9:$K9)=SUM($V9:$W9),"OK","검토") -> OK | AA9: =IF($U9<>"도비",IF($S9="국도비","직접입력",SUM($M9:$N9)),) -> 0 | AB9: =IF($U9="도비",SUM(M9:N9),IF($S9="국도비","직접입력",SUM(M9:N9)-AA9)) -> 0 | AC9: =IF(SUM(M9:N9)=SUM(AA9:AB9),"OK","검토") -> OK | AE9: =IF(U9="","",IF(U9="도비","세입없음","직접입력")) | AG9: =IF(AE9="","",COUNTIF($AE$7:$AE$40,AE9)) | AH9: =IF(U9="","",IF(AND(U9="도비",AE9="세입없음"),"OK",IF(AND(U9<>"도비",AE9<>""),"OK","@@"))) | AJ9: {=IF(C9="","",INDEX(구분표!$I$2:$I$300, MATCH(1,(구분표!$E$2:$E$300='1추특출'!B9)*(구분표!$F$2:$F$300='1추특출'!C9)*(구분표!$G$2:$G$300='1추특출'!A9),0)))}
A10: =IFERROR(VLOOKUP($C10,구분표!$A$2:$C$300,2,FALSE),"") | B10: =IFERROR(VLOOKUP($C10,구분표!$A$2:$C$300,3,FALSE),"") | I10: =IF(D10="","",G10-H10) | L10: =IF(G10=0,H10+J10+K10,G10+J10+K10) -> 0 | O10: =IF(G10=0,H10+M10+N10,G10+M10+N10) -> 0 | P10: =IF(AND((L10=0),(O10>0)),"O",IF(AND((J10<0),(L10-O10<0)),"O","X")) -> X | V10: =IF($U10<>"도비",IF($S10="국도비","직접입력",SUM($J10:$K10)),) -> 0 | W10: =IF($U10="도비",SUM($J10:$K10),IF($S10="국도비","직접입력",SUM($J10:$K10)-$V10)) -> 0 | X10: =IF(SUM($J10:$K10)=SUM($V10:$W10),"OK","검토") -> OK | AA10: =IF($U10<>"도비",IF($S10="국도비","직접입력",SUM($M10:$N10)),) -> 0 | AB10: =IF($U10="도비",SUM(M10:N10),IF($S10="국도비","직접입력",SUM(M10:N10)-AA10)) -> 0 | AC10: =IF(SUM(M10:N10)=SUM(AA10:AB10),"OK","검토") -> OK | AE10: =IF(U10="","",IF(U10="도비","세입없음","직접입력")) | AG10: =IF(AE10="","",COUNTIF($AE$7:$AE$40,AE10)) | AH10: =IF(U10="","",IF(AND(U10="도비",AE10="세입없음"),"OK",IF(AND(U10<>"도비",AE10<>""),"OK","@@"))) | AJ10: {=IF(C10="","",INDEX(구분표!$I$2:$I$300, MATCH(1,(구분표!$E$2:$E$300='1추특출'!B10)*(구분표!$F$2:$F$300='1추특출'!C10)*(구분표!$G$2:$G$300='1추특출'!A10),0)))}
A11: =IFERROR(VLOOKUP($C11,구분표!$A$2:$C$300,2,FALSE),"") | B11: =IFERROR(VLOOKUP($C11,구분표!$A$2:$C$300,3,FALSE),"") | I11: =IF(D11="","",G11-H11) | L11: =IF(G11=0,H11+J11+K11,G11+J11+K11) -> 0 | O11: =IF(G11=0,H11+M11+N11,G11+M11+N11) -> 0 | P11: =IF(AND((L11=0),(O11>0)),"O",IF(AND((J11<0),(L11-O11<0)),"O","X")) -> X | V11: =IF($U11<>"도비",IF($S11="국도비","직접입력",SUM($J11:$K11)),) -> 0 | W11: =IF($U11="도비",SUM($J11:$K11),IF($S11="국도비","직접입력",SUM($J11:$K11)-$V11)) -> 0 | X11: =IF(SUM($J11:$K11)=SUM($V11:$W11),"OK","검토") -> OK | AA11: =IF($U11<>"도비",IF($S11="국도비","직접입력",SUM($M11:$N11)),) -> 0 | AB11: =IF($U11="도비",SUM(M11:N11),IF($S11="국도비","직접입력",SUM(M11:N11)-AA11)) -> 0 | AC11: =IF(SUM(M11:N11)=SUM(AA11:AB11),"OK","검토") -> OK | AE11: =IF(U11="","",IF(U11="도비","세입없음","직접입력")) | AG11: =IF(AE11="","",COUNTIF($AE$7:$AE$40,AE11)) | AH11: =IF(U11="","",IF(AND(U11="도비",AE11="세입없음"),"OK",IF(AND(U11<>"도비",AE11<>""),"OK","@@"))) | AJ11: {=IF(C11="","",INDEX(구분표!$I$2:$I$300, MATCH(1,(구분표!$E$2:$E$300='1추특출'!B11)*(구분표!$F$2:$F$300='1추특출'!C11)*(구분표!$G$2:$G$300='1추특출'!A11),0)))}
A12: =IFERROR(VLOOKUP($C12,구분표!$A$2:$C$300,2,FALSE),"") | B12: =IFERROR(VLOOKUP($C12,구분표!$A$2:$C$300,3,FALSE),"") | I12: =IF(D12="","",G12-H12) | L12: =IF(G12=0,H12+J12+K12,G12+J12+K12) -> 0 | O12: =IF(G12=0,H12+M12+N12,G12+M12+N12) -> 0 | P12: =IF(AND((L12=0),(O12>0)),"O",IF(AND((J12<0),(L12-O12<0)),"O","X")) -> X | V12: =IF($U12<>"도비",IF($S12="국도비","직접입력",SUM($J12:$K12)),) -> 0 | W12: =IF($U12="도비",SUM($J12:$K12),IF($S12="국도비","직접입력",SUM($J12:$K12)-$V12)) -> 0 | X12: =IF(SUM($J12:$K12)=SUM($V12:$W12),"OK","검토") -> OK | AA12: =IF($U12<>"도비",IF($S12="국도비","직접입력",SUM($M12:$N12)),) -> 0 | AB12: =IF($U12="도비",SUM(M12:N12),IF($S12="국도비","직접입력",SUM(M12:N12)-AA12)) -> 0 | AC12: =IF(SUM(M12:N12)=SUM(AA12:AB12),"OK","검토") -> OK | AE12: =IF(U12="","",IF(U12="도비","세입없음","직접입력")) | AG12: =IF(AE12="","",COUNTIF($AE$7:$AE$40,AE12)) | AH12: =IF(U12="","",IF(AND(U12="도비",AE12="세입없음"),"OK",IF(AND(U12<>"도비",AE12<>""),"OK","@@"))) | AJ12: {=IF(C12="","",INDEX(구분표!$I$2:$I$300, MATCH(1,(구분표!$E$2:$E$300='1추특출'!B12)*(구분표!$F$2:$F$300='1추특출'!C12)*(구분표!$G$2:$G$300='1추특출'!A12),0)))}
A13: =IFERROR(VLOOKUP($C13,구분표!$A$2:$C$300,2,FALSE),"") | B13: =IFERROR(VLOOKUP($C13,구분표!$A$2:$C$300,3,FALSE),"") | I13: =IF(D13="","",G13-H13) | L13: =IF(G13=0,H13+J13+K13,G13+J13+K13) -> 0 | O13: =IF(G13=0,H13+M13+N13,G13+M13+N13) -> 0 | P13: =IF(AND((L13=0),(O13>0)),"O",IF(AND((J13<0),(L13-O13<0)),"O","X")) -> X | V13: =IF($U13<>"도비",IF($S13="국도비","직접입력",SUM($J13:$K13)),) -> 0 | W13: =IF($U13="도비",SUM($J13:$K13),IF($S13="국도비","직접입력",SUM($J13:$K13)-$V13)) -> 0 | X13: =IF(SUM($J13:$K13)=SUM($V13:$W13),"OK","검토") -> OK | AA13: =IF($U13<>"도비",IF($S13="국도비","직접입력",SUM($M13:$N13)),) -> 0 | AB13: =IF($U13="도비",SUM(M13:N13),IF($S13="국도비","직접입력",SUM(M13:N13)-AA13)) -> 0 | AC13: =IF(SUM(M13:N13)=SUM(AA13:AB13),"OK","검토") -> OK | AE13: =IF(U13="","",IF(U13="도비","세입없음","직접입력")) | AG13: =IF(AE13="","",COUNTIF($AE$7:$AE$40,AE13)) | AH13: =IF(U13="","",IF(AND(U13="도비",AE13="세입없음"),"OK",IF(AND(U13<>"도비",AE13<>""),"OK","@@"))) | AJ13: {=IF(C13="","",INDEX(구분표!$I$2:$I$300, MATCH(1,(구분표!$E$2:$E$300='1추특출'!B13)*(구분표!$F$2:$F$300='1추특출'!C13)*(구분표!$G$2:$G$300='1추특출'!A13),0)))}
A14: =IFERROR(VLOOKUP($C14,구분표!$A$2:$C$300,2,FALSE),"") | B14: =IFERROR(VLOOKUP($C14,구분표!$A$2:$C$300,3,FALSE),"") | I14: =IF(D14="","",G14-H14) | L14: =IF(G14=0,H14+J14+K14,G14+J14+K14) -> 0 | O14: =IF(G14=0,H14+M14+N14,G14+M14+N14) -> 0 | P14: =IF(AND((L14=0),(O14>0)),"O",IF(AND((J14<0),(L14-O14<0)),"O","X")) -> X | V14: =IF($U14<>"도비",IF($S14="국도비","직접입력",SUM($J14:$K14)),) -> 0 | W14: =IF($U14="도비",SUM($J14:$K14),IF($S14="국도비","직접입력",SUM($J14:$K14)-$V14)) -> 0 | X14: =IF(SUM($J14:$K14)=SUM($V14:$W14),"OK","검토") -> OK | AA14: =IF($U14<>"도비",IF($S14="국도비","직접입력",SUM($M14:$N14)),) -> 0 | AB14: =IF($U14="도비",SUM(M14:N14),IF($S14="국도비","직접입력",SUM(M14:N14)-AA14)) -> 0 | AC14: =IF(SUM(M14:N14)=SUM(AA14:AB14),"OK","검토") -> OK | AE14: =IF(U14="","",IF(U14="도비","세입없음","직접입력")) | AG14: =IF(AE14="","",COUNTIF($AE$7:$AE$40,AE14)) | AH14: =IF(U14="","",IF(AND(U14="도비",AE14="세입없음"),"OK",IF(AND(U14<>"도비",AE14<>""),"OK","@@"))) | AJ14: {=IF(C14="","",INDEX(구분표!$I$2:$I$300, MATCH(1,(구분표!$E$2:$E$300='1추특출'!B14)*(구분표!$F$2:$F$300='1추특출'!C14)*(구분표!$G$2:$G$300='1추특출'!A14),0)))}
A15: ( 위원회) | G15: =SUM(G16:G22) -> 0 | H15: =SUM(H16:H22) -> 0 | I15: =SUM(I16:I22) -> 0 | J15: =SUM(J16:J22) -> 0 | K15: =SUM(K16:K22) -> 0 | L15: =SUM(L16:L22) -> 0 | M15: =SUM(M16:M22) -> 0 | N15: =SUM(N16:N22) -> 0 | O15: =SUM(O16:O22) -> 0 | V15: =IF($U15<>"도비",IF($S15="국도비","직접입력",SUM($J15:$K15)),) -> 0 | W15: =IF($U15="도비",SUM($J15:$K15),IF($S15="국도비","직접입력",SUM($J15:$K15)-$V15)) -> 0 | X15: =IF(SUM($J15:$K15)=SUM($V15:$W15),"OK","검토") -> OK | AA15: =IF($U15<>"도비",IF($S15="국도비","직접입력",SUM($M15:$N15)),) -> 0 | AB15: =IF($U15="도비",SUM(M15:N15),IF($S15="국도비","직접입력",SUM(M15:N15)-AA15)) -> 0 | AC15: =IF(SUM(M15:N15)=SUM(AA15:AB15),"OK","검토") -> OK | AE15: =IF(U15="","",IF(U15="도비","세입없음","직접입력")) | AG15: =IF(AE15="","",COUNTIF($AE$7:$AE$40,AE15)) | AH15: =IF(U15="","",IF(AND(U15="도비",AE15="세입없음"),"OK",IF(AND(U15<>"도비",AE15<>""),"OK","@@"))) | AJ15: {=IF(C15="","",INDEX(구분표!$I$2:$I$300, MATCH(1,(구분표!$E$2:$E$300='1추특출'!B15)*(구분표!$F$2:$F$300='1추특출'!C15)*(구분표!$G$2:$G$300='1추특출'!A15),0)))}
A16: =IFERROR(VLOOKUP($C16,구분표!$A$2:$C$300,2,FALSE),"") | B16: =IFERROR(VLOOKUP($C16,구분표!$A$2:$C$300,3,FALSE),"") | I16: =IF(D16="","",G16-H16) | L16: =IF(G16=0,H16+J16+K16,G16+J16+K16) -> 0 | O16: =IF(G16=0,H16+M16+N16,G16+M16+N16) -> 0 | P16: =IF(AND((L16=0),(O16>0)),"O",IF(AND((J16<0),(L16-O16<0)),"O","X")) -> X | V16: =IF($U16<>"도비",IF($S16="국도비","직접입력",SUM($J16:$K16)),) -> 0 | W16: =IF($U16="도비",SUM($J16:$K16),IF($S16="국도비","직접입력",SUM($J16:$K16)-$V16)) -> 0 | X16: =IF(SUM($J16:$K16)=SUM($V16:$W16),"OK","검토") -> OK | AA16: =IF($U16<>"도비",IF($S16="국도비","직접입력",SUM($M16:$N16)),) -> 0 | AB16: =IF($U16="도비",SUM(M16:N16),IF($S16="국도비","직접입력",SUM(M16:N16)-AA16)) -> 0 | AC16: =IF(SUM(M16:N16)=SUM(AA16:AB16),"OK","검토") -> OK | AE16: =IF(U16="","",IF(U16="도비","세입없음","직접입력")) | AG16: =IF(AE16="","",COUNTIF($AE$7:$AE$40,AE16)) | AH16: =IF(U16="","",IF(AND(U16="도비",AE16="세입없음"),"OK",IF(AND(U16<>"도비",AE16<>""),"OK","@@"))) | AJ16: {=IF(C16="","",INDEX(구분표!$I$2:$I$300, MATCH(1,(구분표!$E$2:$E$300='1추특출'!B16)*(구분표!$F$2:$F$300='1추특출'!C16)*(구분표!$G$2:$G$300='1추특출'!A16),0)))}
A17: =IFERROR(VLOOKUP($C17,구분표!$A$2:$C$300,2,FALSE),"") | B17: =IFERROR(VLOOKUP($C17,구분표!$A$2:$C$300,3,FALSE),"") | I17: =IF(D17="","",G17-H17) | L17: =IF(G17=0,H17+J17+K17,G17+J17+K17) -> 0 | O17: =IF(G17=0,H17+M17+N17,G17+M17+N17) -> 0 | P17: =IF(AND((L17=0),(O17>0)),"O",IF(AND((J17<0),(L17-O17<0)),"O","X")) -> X | V17: =IF($U17<>"도비",IF($S17="국도비","직접입력",SUM($J17:$K17)),) -> 0 | W17: =IF($U17="도비",SUM($J17:$K17),IF($S17="국도비","직접입력",SUM($J17:$K17)-$V17)) -> 0 | X17: =IF(SUM($J17:$K17)=SUM($V17:$W17),"OK","검토") -> OK | AA17: =IF($U17<>"도비",IF($S17="국도비","직접입력",SUM($M17:$N17)),) -> 0 | AB17: =IF($U17="도비",SUM(M17:N17),IF($S17="국도비","직접입력",SUM(M17:N17)-AA17)) -> 0 | AC17: =IF(SUM(M17:N17)=SUM(AA17:AB17),"OK","검토") -> OK | AE17: =IF(U17="","",IF(U17="도비","세입없음","직접입력")) | AG17: =IF(AE17="","",COUNTIF($AE$7:$AE$40,AE17)) | AH17: =IF(U17="","",IF(AND(U17="도비",AE17="세입없음"),"OK",IF(AND(U17<>"도비",AE17<>""),"OK","@@"))) | AJ17: {=IF(C17="","",INDEX(구분표!$I$2:$I$300, MATCH(1,(구분표!$E$2:$E$300='1추특출'!B17)*(구분표!$F$2:$F$300='1추특출'!C17)*(구분표!$G$2:$G$300='1추특출'!A17),0)))}
A18: =IFERROR(VLOOKUP($C18,구분표!$A$2:$C$300,2,FALSE),"") | B18: =IFERROR(VLOOKUP($C18,구분표!$A$2:$C$300,3,FALSE),"") | I18: =IF(D18="","",G18-H18) | L18: =IF(G18=0,H18+J18+K18,G18+J18+K18) -> 0 | O18: =IF(G18=0,H18+M18+N18,G18+M18+N18) -> 0 | P18: =IF(AND((L18=0),(O18>0)),"O",IF(AND((J18<0),(L18-O18<0)),"O","X")) -> X | V18: =IF($U18<>"도비",IF($S18="국도비","직접입력",SUM($J18:$K18)),) -> 0 | W18: =IF($U18="도비",SUM($J18:$K18),IF($S18="국도비","직접입력",SUM($J18:$K18)-$V18)) -> 0 | X18: =IF(SUM($J18:$K18)=SUM($V18:$W18),"OK","검토") -> OK | AA18: =IF($U18<>"도비",IF($S18="국도비","직접입력",SUM($M18:$N18)),) -> 0 | AB18: =IF($U18="도비",SUM(M18:N18),IF($S18="국도비","직접입력",SUM(M18:N18)-AA18)) -> 0 | AC18: =IF(SUM(M18:N18)=SUM(AA18:AB18),"OK","검토") -> OK | AE18: =IF(U18="","",IF(U18="도비","세입없음","직접입력")) | AG18: =IF(AE18="","",COUNTIF($AE$7:$AE$40,AE18)) | AH18: =IF(U18="","",IF(AND(U18="도비",AE18="세입없음"),"OK",IF(AND(U18<>"도비",AE18<>""),"OK","@@"))) | AJ18: {=IF(C18="","",INDEX(구분표!$I$2:$I$300, MATCH(1,(구분표!$E$2:$E$300='1추특출'!B18)*(구분표!$F$2:$F$300='1추특출'!C18)*(구분표!$G$2:$G$300='1추특출'!A18),0)))}
A19: =IFERROR(VLOOKUP($C19,구분표!$A$2:$C$300,2,FALSE),"") | B19: =IFERROR(VLOOKUP($C19,구분표!$A$2:$C$300,3,FALSE),"") | I19: =IF(D19="","",G19-H19) | L19: =IF(G19=0,H19+J19+K19,G19+J19+K19) -> 0 | O19: =IF(G19=0,H19+M19+N19,G19+M19+N19) -> 0 | P19: =IF(AND((L19=0),(O19>0)),"O",IF(AND((J19<0),(L19-O19<0)),"O","X")) -> X | V19: =IF($U19<>"도비",IF($S19="국도비","직접입력",SUM($J19:$K19)),) -> 0 | W19: =IF($U19="도비",SUM($J19:$K19),IF($S19="국도비","직접입력",SUM($J19:$K19)-$V19)) -> 0 | X19: =IF(SUM($J19:$K19)=SUM($V19:$W19),"OK","검토") -> OK | AA19: =IF($U19<>"도비",IF($S19="국도비","직접입력",SUM($M19:$N19)),) -> 0 | AB19: =IF($U19="도비",SUM(M19:N19),IF($S19="국도비","직접입력",SUM(M19:N19)-AA19)) -> 0 | AC19: =IF(SUM(M19:N19)=SUM(AA19:AB19),"OK","검토") -> OK | AE19: =IF(U19="","",IF(U19="도비","세입없음","직접입력")) | AG19: =IF(AE19="","",COUNTIF($AE$7:$AE$40,AE19)) | AH19: =IF(U19="","",IF(AND(U19="도비",AE19="세입없음"),"OK",IF(AND(U19<>"도비",AE19<>""),"OK","@@"))) | AJ19: {=IF(C19="","",INDEX(구분표!$I$2:$I$300, MATCH(1,(구분표!$E$2:$E$300='1추특출'!B19)*(구분표!$F$2:$F$300='1추특출'!C19)*(구분표!$G$2:$G$300='1추특출'!A19),0)))}
A20: =IFERROR(VLOOKUP($C20,구분표!$A$2:$C$300,2,FALSE),"") | B20: =IFERROR(VLOOKUP($C20,구분표!$A$2:$C$300,3,FALSE),"") | I20: =IF(D20="","",G20-H20) | L20: =IF(G20=0,H20+J20+K20,G20+J20+K20) -> 0 | O20: =IF(G20=0,H20+M20+N20,G20+M20+N20) -> 0 | P20: =IF(AND((L20=0),(O20>0)),"O",IF(AND((J20<0),(L20-O20<0)),"O","X")) -> X | V20: =IF($U20<>"도비",IF($S20="국도비","직접입력",SUM($J20:$K20)),) -> 0 | W20: =IF($U20="도비",SUM($J20:$K20),IF($S20="국도비","직접입력",SUM($J20:$K20)-$V20)) -> 0 | X20: =IF(SUM($J20:$K20)=SUM($V20:$W20),"OK","검토") -> OK | AA20: =IF($U20<>"도비",IF($S20="국도비","직접입력",SUM($M20:$N20)),) -> 0 | AB20: =IF($U20="도비",SUM(M20:N20),IF($S20="국도비","직접입력",SUM(M20:N20)-AA20)) -> 0 | AC20: =IF(SUM(M20:N20)=SUM(AA20:AB20),"OK","검토") -> OK | AE20: =IF(U20="","",IF(U20="도비","세입없음","직접입력")) | AG20: =IF(AE20="","",COUNTIF($AE$7:$AE$40,AE20)) | AH20: =IF(U20="","",IF(AND(U20="도비",AE20="세입없음"),"OK",IF(AND(U20<>"도비",AE20<>""),"OK","@@"))) | AJ20: {=IF(C20="","",INDEX(구분표!$I$2:$I$300, MATCH(1,(구분표!$E$2:$E$300='1추특출'!B20)*(구분표!$F$2:$F$300='1추특출'!C20)*(구분표!$G$2:$G$300='1추특출'!A20),0)))}
A21: =IFERROR(VLOOKUP($C21,구분표!$A$2:$C$300,2,FALSE),"") | B21: =IFERROR(VLOOKUP($C21,구분표!$A$2:$C$300,3,FALSE),"") | I21: =IF(D21="","",G21-H21) | L21: =IF(G21=0,H21+J21+K21,G21+J21+K21) -> 0 | O21: =IF(G21=0,H21+M21+N21,G21+M21+N21) -> 0 | P21: =IF(AND((L21=0),(O21>0)),"O",IF(AND((J21<0),(L21-O21<0)),"O","X")) -> X | V21: =IF($U21<>"도비",IF($S21="국도비","직접입력",SUM($J21:$K21)),) -> 0 | W21: =IF($U21="도비",SUM($J21:$K21),IF($S21="국도비","직접입력",SUM($J21:$K21)-$V21)) -> 0 | X21: =IF(SUM($J21:$K21)=SUM($V21:$W21),"OK","검토") -> OK | AA21: =IF($U21<>"도비",IF($S21="국도비","직접입력",SUM($M21:$N21)),) -> 0 | AB21: =IF($U21="도비",SUM(M21:N21),IF($S21="국도비","직접입력",SUM(M21:N21)-AA21)) -> 0 | AC21: =IF(SUM(M21:N21)=SUM(AA21:AB21),"OK","검토") -> OK | AE21: =IF(U21="","",IF(U21="도비","세입없음","직접입력")) | AG21: =IF(AE21="","",COUNTIF($AE$7:$AE$40,AE21)) | AH21: =IF(U21="","",IF(AND(U21="도비",AE21="세입없음"),"OK",IF(AND(U21<>"도비",AE21<>""),"OK","@@"))) | AJ21: {=IF(C21="","",INDEX(구분표!$I$2:$I$300, MATCH(1,(구분표!$E$2:$E$300='1추특출'!B21)*(구분표!$F$2:$F$300='1추특출'!C21)*(구분표!$G$2:$G$300='1추특출'!A21),0)))}
A22: =IFERROR(VLOOKUP($C22,구분표!$A$2:$C$300,2,FALSE),"") | B22: =IFERROR(VLOOKUP($C22,구분표!$A$2:$C$300,3,FALSE),"") | I22: =IF(D22="","",G22-H22) | L22: =IF(G22=0,H22+J22+K22,G22+J22+K22) -> 0 | O22: =IF(G22=0,H22+M22+N22,G22+M22+N22) -> 0 | P22: =IF(AND((L22=0),(O22>0)),"O",IF(AND((J22<0),(L22-O22<0)),"O","X")) -> X | V22: =IF($U22<>"도비",IF($S22="국도비","직접입력",SUM($J22:$K22)),) -> 0 | W22: =IF($U22="도비",SUM($J22:$K22),IF($S22="국도비","직접입력",SUM($J22:$K22)-$V22)) -> 0 | X22: =IF(SUM($J22:$K22)=SUM($V22:$W22),"OK","검토") -> OK | AA22: =IF($U22<>"도비",IF($S22="국도비","직접입력",SUM($M22:$N22)),) -> 0 | AB22: =IF($U22="도비",SUM(M22:N22),IF($S22="국도비","직접입력",SUM(M22:N22)-AA22)) -> 0 | AC22: =IF(SUM(M22:N22)=SUM(AA22:AB22),"OK","검토") -> OK | AE22: =IF(U22="","",IF(U22="도비","세입없음","직접입력")) | AG22: =IF(AE22="","",COUNTIF($AE$7:$AE$40,AE22)) | AH22: =IF(U22="","",IF(AND(U22="도비",AE22="세입없음"),"OK",IF(AND(U22<>"도비",AE22<>""),"OK","@@"))) | AJ22: {=IF(C22="","",INDEX(구분표!$I$2:$I$300, MATCH(1,(구분표!$E$2:$E$300='1추특출'!B22)*(구분표!$F$2:$F$300='1추특출'!C22)*(구분표!$G$2:$G$300='1추특출'!A22),0)))}
