Workbook

Sheet 구분표
A2: 실과명 조정 | B2: 위원회명 조정 | C2: 실국명 조정 | E2: 실국명 | F2: 실과명 | G2: 위원회명 | H2: 정렬순서 | I2: 정렬코드
A3: 공보담당관 | B3: 의회운영위원회 | C3: 의회사무처 | E3: 의회사무처 | F3: 공보담당관 | G3: 의회운영위원회 | H3: 1 | I3: 0101
A4: 총무담당관 | B4: 의회운영위원회 | C4: 의회사무처 | E4: 의회사무처 | F4: 총무담당관 | G4: 의회운영위원회 | H4: 2 | I4: 0102
A5: 의정담당관 | B5: 의회운영위원회 | C5: 의회사무처 | E5: 의회사무처 | F5: 의정담당관 | G5: 의회운영위원회 | H5: 3 | I5: 0103
A6: 입법정책담당관 | B6: 의회운영위원회 | C6: 의회사무처 | E6: 의회사무처 | F6: 입법정책담당관 | G6: 의회운영위원회 | H6: 4 | I6: 0104
A7: 예산정책담당관 | B7: 의회운영위원회 | C7: 의회사무처 | E7: 의회사무처 | F7: 예산정책담당관 | G7: 의회운영위원회 | H7: 5 | I7: 0105
A8: 언론협력담당관 | B8: 의회운영위원회 | C8: 대변인 | E8: 대변인 | F8: 언론협력담당관 | G8: 의회운영위원회 | H8: 6 | I8: 0106
A9: 보도기획담당관 | B9: 의회운영위원회 | C9: 대변인 | E9: 대변인 | F9: 보도기획담당관 | G9: 의회운영위원회 | H9: 7 | I9: 0107
A10: 홍보담당관 | B10: 의회운영위원회 | C10: 소통기획관 | E10: 소통기획관 | F10: 홍보담당관 | G10: 의회운영위원회 | H10: 8 | I10: 0108
A11: 소통담당관 | B11: 의회운영위원회 | C11: 소통기획관 | E11: 소통기획관 | F11: 소통담당관 | G11: 의회운영위원회 | H11: 9 | I11: 0109
A12: 연정협력관 | B12: 의회운영위원회 | C12: 연정협력관 | E12: 연정협력관 | F12: 연정협력관 | G12: 의회운영위원회 | H12: 10 | I12: 0110
A13: 대외협력담당관 | B13: 의회운영위원회 | C13: 대외협력담당관 | E13: 대외협력담당관 | F13: 대외협력담당관 | G13: 의회운영위원회 | H13: 11 | I13: 0111
... A202: 도서관정책과 | B202: 여성가족교육협력위원회 | C202: 교육협력국 | E202: 교육협력국 | F202: 도서관정책과 | G202: 여성가족교육협력위원회 | H202: 200 | I202: 1012

Sheet 예결표지(세로)
A5: 2015년도 제1회 일반회계 및 특별회계 추가경정 세입·세출 예산안
A7: 예결위 계수조정 결과
A20: 예산결산특별위원회

Sheet 예결표지(가로)
A3: 2015년도 제1회 일반회계 및 특별회계 추가경정 세입·세출 예산안
A5: 예결위 계수조정 결과
A14: 예산결산특별위원회

Sheet 1추검증
A1: 1회 추경 일반회계 검증 | H1: 1추 예비비 | J1: 조정액 | K1: =IFERROR(INDEX('1추일출'!AB6:AB103,MATCH("*예비비*",'1추일출'!F6:F103,0)),0) -> 0 | L1: 조정잔액 | M1: =I1+K1 -> 0
M2: (단위 : 천원)
A3: 구분 | B3: 상 임 위 | H3: 구분 | I3: 예 결 위
B4: 세입 | C4: 검증 | D4: 세출 | E4: 검증 | F4: 차액 | I4: 세입 | J4: 검증 | K4: 세출 | L4: 검증 | M4: 차액
A5: 전체 총계 | B5: =SUM(B6:B13)/2 -> 0 | C5: =IF(B5=SUM('1추일입'!J6:K6),"OK","@@") -> @@ | D5: =SUM(D6:D13)/2 -> 611184 | E5: =IF(D5=SUM('1추일출'!J6:K6),"OK","@@") -> @@ | H5: 전체 총계 | I5: =SUM(I6:I13)/2 -> 0 | J5: =IF(I5=SUM('1추일입'!M6:N6),"OK","@@") -> OK | K5: =SUM(K6:K13)/2 -> 0 | L5: =IF(K5=SUM('1추일출'!M6:N6),"OK","@@") -> OK
A6: 자체 계 | B6: =SUM(B7:B8) -> 0 | C6: =IF(B6='1추일입'!W6,"OK","@@") -> OK | D6: =SUM(D7:D8) -> 47896 | E6: =IF(D6='1추일출'!W6,"OK","@@") -> OK | H6: 자체 계 | I6: =SUM(I7:I8) -> 0 | J6: =IF(I6='1추일입'!AB6,"OK","@@") -> OK | K6: =SUM(K7:K8) -> 0 | L6: =IF(K6='1추일출'!AB6,"OK","@@") -> OK
A7: 자체 도비 | B7: =SUMIFS('1추일입'!W6:W9,'1추일입'!U6:U9,"도비") -> 0 | D7: =SUMIFS('1추일출'!$W$6:$W$103,'1추일출'!$U$6:$U$103,"도비") -> -515392 | H7: 자체 도비 | I7: =SUMIFS('1추일입'!AB6:AB9,'1추일입'!Z6:Z9,"국비") -> 0 | K7: =SUMIFS('1추일출'!$AB$6:$AB$103,'1추일출'!$Z$6:$Z$103,"도비") -> 0
A8: 의존 매칭 도비 | B8: =SUMIFS('1추일입'!W6:W9,'1추일입'!U6:U9,"국비")+SUMIFS('1추일입'!W6:W9,'1추일입'!U6:U9,"지특")+SUMIFS('1추일입'!W6:W9,'1추일입'!U6:U9,"기금")+SUMIFS('1추일입'!W6:W9,'1추일입'!U6:U9,"특교") -> 0 | D8: =SUMIFS('1추일출'!$W$6:$W$103,'1추일출'!$U$6:$U$103,"국비")+SUMIFS('1추일출'!$W$6:$W$103,'1추일출'!$U$6:$U$103,"지특")+SUMIFS('1추일출'!$W$6:$W$103,'1추일출'!$U$6:$U$103,"기금")+SUMIFS('1추일출'!$W$6:$W$103,'1추일출'!$U$6:$U$103,"특교") -> 563288 | H8: 의존 매칭 도비 | I8: =SUMIFS('1추일입'!AB6:AB9,'1추일입'!Z6:Z9,"국비")+SUMIFS('1추일입'!AB6:AB9,'1추일입'!Z6:Z9,"지특")+SUMIFS('1추일입'!AB6:AB9,'1추일입'!Z6:Z9,"기금")+SUMIFS('1추일입'!AB6:AB9,'1추일입'!Z6:Z9,"특교") -> 0 | K8: =SUMIFS('1추일출'!$AB$6:$AB$103,'1추일출'!$Z$6:$Z$103,"국비")+SUMIFS('1추일출'!$AB$6:$AB$103,'1추일출'!$Z$6:$Z$103,"지특")+SUMIFS('1추일출'!$AB$6:$AB$103,'1추일출'!$Z$6:$Z$103,"기금")+SUMIFS('1추일출'!$AB$6:$AB$103,'1추일출'!$Z$6:$Z$103,"특교") -> 0
A9: 의존 계 | B9: =SUM(B10:B13) -> 0 | C9: =IF(B9='1추일입'!V6,"OK","@@") -> @@ | D9: =SUM(D10:D13) -> 563288 | E9: =IF(D9='1추일출'!V6,"OK","@@") -> @@ | F9: =SUM(F10:F13) -> 563288 | H9: 의존 계 | I9: =SUM(I10:I13) -> 0 | J9: =IF(I9='1추일입'!V6,"OK","@@") -> @@ | K9: =SUM(K10:K13) -> 0 | L9: =IF(K9='1추일출'!AA6,"OK","@@") -> OK | M9: =SUM(M10:M13) -> 0
A10: 국비 | B10: =SUMIFS('1추일입'!$W$6:$W$9,'1추일입'!$U$6:$U$9,'1추검증'!A10) -> 0 | D10: =SUMIFS('1추일출'!$W$6:$W$103,'1추일출'!$U$6:$U$103,'1추검증'!A10) -> 563288 | F10: =D10-B10 -> 563288 | H10: 국비 | I10: =SUMIFS('1추일입'!$AB$6:$AB$9,'1추일입'!$Z$6:$Z$9,'1추검증'!H10) -> 0 | K10: =SUMIFS('1추일출'!$AB$6:$AB$103,'1추일출'!$Z$6:$Z$103,'1추검증'!H10) -> 0 | M10: =K10-I10 -> 0
A11: 지특 | B11: =SUMIFS('1추일입'!$W$6:$W$9,'1추일입'!$U$6:$U$9,'1추검증'!A11) -> 0 | D11: =SUMIFS('1추일출'!$W$6:$W$103,'1추일출'!$U$6:$U$103,'1추검증'!A11) -> 0 | F11: =D11-B11 -> 0 | H11: 지특 | I11: =SUMIFS('1추일입'!$AB$6:$AB$9,'1추일입'!$Z$6:$Z$9,'1추검증'!H11) -> 0 | K11: =SUMIFS('1추일출'!$AB$6:$AB$103,'1추일출'!$Z$6:$Z$103,'1추검증'!H11) -> 0 | M11: =K11-I11 -> 0
A12: 기금 | B12: =SUMIFS('1추일입'!$W$6:$W$9,'1추일입'!$U$6:$U$9,'1추검증'!A12) -> 0 | D12: =SUMIFS('1추일출'!$W$6:$W$103,'1추일출'!$U$6:$U$103,'1추검증'!A12) -> 0 | F12: =D12-B12 -> 0 | H12: 기금 | I12: =SUMIFS('1추일입'!$AB$6:$AB$9,'1추일입'!$Z$6:$Z$9,'1추검증'!H12) -> 0 | K12: =SUMIFS('1추일출'!$AB$6:$AB$103,'1추일출'!$Z$6:$Z$103,'1추검증'!H12) -> 0 | M12: =K12-I12 -> 0
A13: 특교 | B13: =SUMIFS('1추일입'!$W$6:$W$9,'1추일입'!$U$6:$U$9,'1추검증'!A13) -> 0 | D13: =SUMIFS('1추일출'!$W$6:$W$103,'1추일출'!$U$6:$U$103,'1추검증'!A13) -> 0 | F13: =D13-B13 -> 0 | H13: 특교 | I13: =SUMIFS('1추일입'!$AB$6:$AB$9,'1추일입'!$Z$6:$Z$9,'1추검증'!H13) -> 0 | K13: =SUMIFS('1추일출'!$AB$6:$AB$103,'1추일출'!$Z$6:$Z$103,'1추검증'!H13) -> 0 | M13: =K13-I13 -> 0

Sheet 1추총괄표(실국)
A1: 2015년도 제1회 추경 일반 및 특별회계 세입·세출 예산안(전체예산총괄)
A2: □ 총괄(실국별)
D3: =SUM(C6:D6) -> 0 | F3: =SUM(E6:F6) -> 0 | G3: (단위 : 천원) | I3: (일반회계) | P3: (특별회계)
A4: 구 분 | B4: 집행부제출(안) | C4: 세입예산(안) | E4: 세출예산(안) | G4: 수정예산(안) | I4: 집행부제출(안) | J4: 세입예산(안) | L4: 세출예산(안) | N4: 수정예산(안) | P4: 집행부제출(안) | Q4: 세입예산(안) | S4: 세출예산(안) | U4: 수정예산(안)
C5: 감 액 | D5: 증 액 | E5: 감 액 | F5: 증 액 | J5: 감 액 | K5: 증 액 | L5: 감 액 | M5: 증 액 | Q5: 감 액 | R5: 증 액 | S5: 감 액 | T5: 증 액
A6: 합계 | B6: =SUM(B7:B36) -> 738556856 | C6: =SUM(C7:C36) -> 0 | D6: =SUM(D7:D36) -> 0 | E6: =SUM(E7:E36) -> 0 | F6: =SUM(F7:F36) -> 0 | G6: =SUM(G7:G36) -> 738556856 | I6: =SUM(I7:I36) -> 738556856 | J6: =SUM(J7:J36) -> 0 | K6: =SUM(K7:K36) -> 0 | L6: =SUM(L7:L36) -> 0 | M6: =SUM(M7:M36) -> 0 | N6: =SUM(N7:N36) -> 738556856 | P6: =SUM(P7:P36) -> 0 | Q6: =SUM(Q7:Q36) -> 0 | R6: =SUM(R7:R36) -> 0 | S6: =SUM(S7:S36) -> 0 | T6: =SUM(T7:T36) -> 0 | U6: =SUM(U7:U36) -> 0
A7: 감사관 | B7: =I7+P7 -> 0 | C7: =J7+Q7 -> 0 | D7: =K7+R7 -> 0 | E7: =L7+S7 -> 0 | F7: =M7+T7 -> 0 | G7: =B7+E7+F7 -> 0 | I7: =D48 -> 0 | J7: =SUMIFS('1추일입'!M$6:M$9,'1추일입'!$B$6:$B$9,'1추총괄표(실국)'!$A7) -> 0 | K7: =SUMIFS('1추일입'!N$6:N$9,'1추일입'!$B$6:$B$9,'1추총괄표(실국)'!$A7) -> 0 | L7: =SUMIFS('1추일출'!M$6:M$103,'1추일출'!$B$6:$B$103,'1추총괄표(실국)'!$A7) -> 0 | M7: =SUMIFS('1추일출'!N$6:N$103,'1추일출'!$B$6:$B$103,'1추총괄표(실국)'!$A7) -> 0 | N7: =I7+L7+M7 -> 0 | P7: =E48 -> 0 | Q7: =SUMIFS('1추특입'!M$6:M$50,'1추특입'!$B$6:$B$50,'1추총괄표(실국)'!$A7) -> 0 | R7: =SUMIFS('1추특입'!N$6:N$50,'1추특입'!$B$6:$B$50,'1추총괄표(실국)'!$A7) -> 0 | S7: =SUMIFS('1추특출'!M$6:M$40,'1추특출'!$B$6:$B$40,'1추총괄표(실국)'!$A7) -> 0 | T7: =SUMIFS('1추특출'!N$6:N$40,'1추특출'!$B$6:$B$40,'1추총괄표(실국)'!$A7) -> 0 | U7: =P7+S7+T7 -> 0
A8: 기획조정실 | B8: =I8+P8 -> 185572667 | C8: =J8+Q8 -> 0 | D8: =K8+R8 -> 0 | E8: =L8+S8 -> 0 | F8: =M8+T8 -> 0 | G8: =B8+E8+F8 -> 185572667 | I8: =D49 -> 185572667 | J8: =SUMIFS('1추일입'!M$6:M$9,'1추일입'!$B$6:$B$9,'1추총괄표(실국)'!$A8) -> 0 | K8: =SUMIFS('1추일입'!N$6:N$9,'1추일입'!$B$6:$B$9,'1추총괄표(실국)'!$A8) -> 0 | L8: =SUMIFS('1추일출'!M$6:M$103,'1추일출'!$B$6:$B$103,'1추총괄표(실국)'!$A8) -> 0 | M8: =SUMIFS('1추일출'!N$6:N$103,'1추일출'!$B$6:$B$103,'1추총괄표(실국)'!$A8) -> 0 | N8: =I8+L8+M8 -> 185572667 | P8: =E49 -> 0 | Q8: =SUMIFS('1추특입'!M$6:M$50,'1추특입'!$B$6:$B$50,'1추총괄표(실국)'!$A8) -> 0 | R8: =SUMIFS('1추특입'!N$6:N$50,'1추특입'!$B$6:$B$50,'1추총괄표(실국)'!$A8) -> 0 | S8: =SUMIFS('1추특출'!M$6:M$40,'1추특출'!$B$6:$B$40,'1추총괄표(실국)'!$A8) -> 0 | T8: =SUMIFS('1추특출'!N$6:N$40,'1추특출'!$B$6:$B$40,'1추총괄표(실국)'!$A8) -> 0 | U8: =P8+S8+T8 -> 0
A9: 도시주택실 | B9: =I9+P9 -> 8532790 | C9: =J9+Q9 -> 0 | D9: =K9+R9 -> 0 | E9: =L9+S9 -> 0 | F9: =M9+T9 -> 0 | G9: =B9+E9+F9 -> 8532790 | I9: =D50 -> 8532790 | J9: =SUMIFS('1추일입'!M$6:M$9,'1추일입'!$B$6:$B$9,'1추총괄표(실국)'!$A9) -> 0 | K9: =SUMIFS('1추일입'!N$6:N$9,'1추일입'!$B$6:$B$9,'1추총괄표(실국)'!$A9) -> 0 | L9: =SUMIFS('1추일출'!M$6:M$103,'1추일출'!$B$6:$B$103,'1추총괄표(실국)'!$A9) -> 0 | M9: =SUMIFS('1추일출'!N$6:N$103,'1추일출'!$B$6:$B$103,'1추총괄표(실국)'!$A9) -> 0 | N9: =I9+L9+M9 -> 8532790 | P9: =E50 -> 0 | Q9: =SUMIFS('1추특입'!M$6:M$50,'1추특입'!$B$6:$B$50,'1추총괄표(실국)'!$A9) -> 0 | R9: =SUMIFS('1추특입'!N$6:N$50,'1추특입'!$B$6:$B$50,'1추총괄표(실국)'!$A9) -> 0 | S9: =SUMIFS('1추특출'!M$6:M$40,'1추특출'!$B$6:$B$40,'1추총괄표(실국)'!$A9) -> 0 | T9: =SUMIFS('1추특출'!N$6:N$40,'1추특출'!$B$6:$B$40,'1추총괄표(실국)'!$A9) -> 0 | U9: =P9+S9+T9 -> 0
A10: 자치행정국 | B10: =I10+P10 -> 9603506 | C10: =J10+Q10 -> 0 | D10: =K10+R10 -> 0 | E10: =L10+S10 -> 0 | F10: =M10+T10 -> 0 | G10: =B10+E10+F10 -> 9603506 | I10: =D51 -> 9603506 | J10: =SUMIFS('1추일입'!M$6:M$9,'1추일입'!$B$6:$B$9,'1추총괄표(실국)'!$A10) -> 0 | K10: =SUMIFS('1추일입'!N$6:N$9,'1추일입'!$B$6:$B$9,'1추총괄표(실국)'!$A10) -> 0 | L10: =SUMIFS('1추일출'!M$6:M$103,'1추일출'!$B$6:$B$103,'1추총괄표(실국)'!$A10) -> 0 | M10: =SUMIFS('1추일출'!N$6:N$103,'1추일출'!$B$6:$B$103,'1추총괄표(실국)'!$A10) -> 0 | N10: =I10+L10+M10 -> 9603506 | P10: =E51 -> 0 | Q10: =SUMIFS('1추특입'!M$6:M$50,'1추특입'!$B$6:$B$50,'1추총괄표(실국)'!$A10) -> 0 | R10: =SUMIFS('1추특입'!N$6:N$50,'1추특입'!$B$6:$B$50,'1추총괄표(실국)'!$A10) -> 0 | S10: =SUMIFS('1추특출'!M$6:M$40,'1추특출'!$B$6:$B$40,'1추총괄표(실국)'!$A10) -> 0 | T10: =SUMIFS('1추특출'!N$6:N$40,'1추특출'!$B$6:$B$40,'1추총괄표(실국)'!$A10) -> 0 | U10: =P10+S10+T10 -> 0
A11: 교육협력국 | B11: =I11+P11 -> 123758756 | C11: =J11+Q11 -> 0 | D11: =K11+R11 -> 0 | E11: =L11+S11 -> 0 | F11: =M11+T11 -> 0 | G11: =B11+E11+F11 -> 123758756 | I11: =D52 -> 123758756 | J11: =SUMIFS('1추일입'!M$6:M$9,'1추일입'!$B$6:$B$9,'1추총괄표(실국)'!$A11) -> 0 | K11: =SUMIFS('1추일입'!N$6:N$9,'1추일입'!$B$6:$B$9,'1추총괄표(실국)'!$A11) -> 0 | L11: =SUMIFS('1추일출'!M$6:M$103,'1추일출'!$B$6:$B$103,'1추총괄표(실국)'!$A11) -> 0 | M11: =SUMIFS('1추일출'!N$6:N$103,'1추일출'!$B$6:$B$103,'1추총괄표(실국)'!$A11) -> 0 | N11: =I11+L11+M11 -> 123758756 | P11: =E52 -> 0 | Q11: =SUMIFS('1추특입'!M$6:M$50,'1추특입'!$B$6:$B$50,'1추총괄표(실국)'!$A11) -> 0 | R11: =SUMIFS('1추특입'!N$6:N$50,'1추특입'!$B$6:$B$50,'1추총괄표(실국)'!$A11) -> 0 | S11: =SUMIFS('1추특출'!M$6:M$40,'1추특출'!$B$6:$B$40,'1추총괄표(실국)'!$A11) -> 0 | T11: =SUMIFS('1추특출'!N$6:N$40,'1추특출'!$B$6:$B$40,'1추총괄표(실국)'!$A11) -> 0 | U11: =P11+S11+T11 -> 0
A12: 문화체육관광국 | B12: =I12+P12 -> 21603000 | C12: =J12+Q12 -> 0 | D12: =K12+R12 -> 0 | E12: =L12+S12 -> 0 | F12: =M12+T12 -> 0 | G12: =B12+E12+F12 -> 21603000 | I12: =D53 -> 21603000 | J12: =SUMIFS('1추일입'!M$6:M$9,'1추일입'!$B$6:$B$9,'1추총괄표(실국)'!$A12) -> 0 | K12: =SUMIFS('1추일입'!N$6:N$9,'1추일입'!$B$6:$B$9,'1추총괄표(실국)'!$A12) -> 0 | L12: =SUMIFS('1추일출'!M$6:M$103,'1추일출'!$B$6:$B$103,'1추총괄표(실국)'!$A12) -> 0 | M12: =SUMIFS('1추일출'!N$6:N$103,'1추일출'!$B$6:$B$103,'1추총괄표(실국)'!$A12) -> 0 | N12: =I12+L12+M12 -> 21603000 | P12: =E53 -> 0 | Q12: =SUMIFS('1추특입'!M$6:M$50,'1추특입'!$B$6:$B$50,'1추총괄표(실국)'!$A12) -> 0 | R12: =SUMIFS('1추특입'!N$6:N$50,'1추특입'!$B$6:$B$50,'1추총괄표(실국)'!$A12) -> 0 | S12: =SUMIFS('1추특출'!M$6:M$40,'1추특출'!$B$6:$B$40,'1추총괄표(실국)'!$A12) -> 0 | T12: =SUMIFS('1추특출'!N$6:N$40,'1추특출'!$B$6:$B$40,'1추총괄표(실국)'!$A12) -> 0 | U12: =P12+S12+T12 -> 0
A13: 농정해양국 | B13: =I13+P13 -> 11470364 | C13: =J13+Q13 -> 0 | D13: =K13+R13 -> 0 | E13: =L13+S13 -> 0 | F13: =M13+T13 -> 0 | G13: =B13+E13+F13 -> 11470364 | I13: =D54 -> 11470364 | J13: =SUMIFS('1추일입'!M$6:M$9,'1추일입'!$B$6:$B$9,'1추총괄표(실국)'!$A13) -> 0 | K13: =SUMIFS('1추일입'!N$6:N$9,'1추일입'!$B$6:$B$9,'1추총괄표(실국)'!$A13) -> 0 | L13: =SUMIFS('1추일출'!M$6:M$103,'1추일출'!$B$6:$B$103,'1추총괄표(실국)'!$A13) -> 0 | M13: =SUMIFS('1추일출'!N$6:N$103,'1추일출'!$B$6:$B$103,'1추총괄표(실국)'!$A13) -> 0 | N13: =I13+L13+M13 -> 11470364 | P13: =E54 -> 0 | Q13: =SUMIFS('1추특입'!M$6:M$50,'1추특입'!$B$6:$B$50,'1추총괄표(실국)'!$A13) -> 0 | R13: =SUMIFS('1추특입'!N$6:N$50,'1추특입'!$B$6:$B$50,'1추총괄표(실국)'!$A13) -> 0 | S13: =SUMIFS('1추특출'!M$6:M$40,'1추특출'!$B$6:$B$40,'1추총괄표(실국)'!$A13) -> 0 | T13: =SUMIFS('1추특출'!N$6:N$40,'1추특출'!$B$6:$B$40,'1추총괄표(실국)'!$A13) -> 0 | U13: =P13+S13+T13 -> 0
A14: 철도국 | B14: =I14+P14 -> 0 | C14: =J14+Q14 -> 0 | D14: =K14+R14 -> 0 | E14: =L14+S14 -> 0 | F14: =M14+T14 -> 0 | G14: =B14+E14+F14 -> 0 | I14: =D55 -> 0 | J14: =SUMIFS('1추일입'!M$6:M$9,'1추일입'!$B$6:$B$9,'1추총괄표(실국)'!$A14) -> 0 | K14: =SUMIFS('1추일입'!N$6:N$9,'1추일입'!$B$6:$B$9,'1추총괄표(실국)'!$A14) -> 0 | L14: =SUMIFS('1추일출'!M$6:M$103,'1추일출'!$B$6:$B$103,'1추총괄표(실국)'!$A14) -> 0 | M14: =SUMIFS('1추일출'!N$6:N$103,'1추일출'!$B$6:$B$103,'1추총괄표(실국)'!$A14) -> 0 | N14: =I14+L14+M14 -> 0 | P14: =E55 -> 0 | Q14: =SUMIFS('1추특입'!M$6:M$50,'1추특입'!$B$6:$B$50,'1추총괄표(실국)'!$A14) -> 0 | R14: =SUMIFS('1추특입'!N$6:N$50,'1추특입'!$B$6:$B$50,'1추총괄표(실국)'!$A14) -> 0 | S14: =SUMIFS('1추특출'!M$6:M$40,'1추특출'!$B$6:$B$40,'1추총괄표(실국)'!$A14) -> 0 | T14: =SUMIFS('1추특출'!N$6:N$40,'1추특출'!$B$6:$B$40,'1추총괄표(실국)'!$A14) -> 0 | U14: =P14+S14+T14 -> 0
A15: 연정협력관 | B15: =I15+P15 -> 0 | C15: =J15+Q15 -> 0 | D15: =K15+R15 -> 0 | E15: =L15+S15 -> 0 | F15: =M15+T15 -> 0 | G15: =B15+E15+F15 -> 0 | I15: =D56 -> 0 | J15: =SUMIFS('1추일입'!M$6:M$9,'1추일입'!$B$6:$B$9,'1추총괄표(실국)'!$A15) -> 0 | K15: =SUMIFS('1추일입'!N$6:N$9,'1추일입'!$B$6:$B$9,'1추총괄표(실국)'!$A15) -> 0 | L15: =SUMIFS('1추일출'!M$6:M$103,'1추일출'!$B$6:$B$103,'1추총괄표(실국)'!$A15) -> 0 | M15: =SUMIFS('1추일출'!N$6:N$103,'1추일출'!$B$6:$B$103,'1추총괄표(실국)'!$A15) -> 0 | N15: =I15+L15+M15 -> 0 | P15: =E56 -> 0 | Q15: =SUMIFS('1추특입'!M$6:M$50,'1추특입'!$B$6:$B$50,'1추총괄표(실국)'!$A15) -> 0 | R15: =SUMIFS('1추특입'!N$6:N$50,'1추특입'!$B$6:$B$50,'1추총괄표(실국)'!$A15) -> 0 | S15: =SUMIFS('1추특출'!M$6:M$40,'1추특출'!$B$6:$B$40,'1추총괄표(실국)'!$A15) -> 0 | T15: =SUMIFS('1추특출'!N$6:N$40,'1추특출'!$B$6:$B$40,'1추총괄표(실국)'!$A15) -> 0 | U15: =P15+S15+T15 -> 0
A16: 대외협력담당관 | B16: =I16+P16 -> 0 | C16: =J16+Q16 -> 0 | D16: =K16+R16 -> 0 | E16: =L16+S16 -> 0 | F16: =M16+T16 -> 0 | G16: =B16+E16+F16 -> 0 | I16: =D57 -> 0 | J16: =SUMIFS('1추일입'!M$6:M$9,'1추일입'!$B$6:$B$9,'1추총괄표(실국)'!$A16) -> 0 | K16: =SUMIFS('1추일입'!N$6:N$9,'1추일입'!$B$6:$B$9,'1추총괄표(실국)'!$A16) -> 0 | L16: =SUMIFS('1추일출'!M$6:M$103,'1추일출'!$B$6:$B$103,'1추총괄표(실국)'!$A16) -> 0 | M16: =SUMIFS('1추일출'!N$6:N$103,'1추일출'!$B$6:$B$103,'1추총괄표(실국)'!$A16) -> 0 | N16: =I16+L16+M16 -> 0 | P16: =E57 -> 0 | Q16: =SUMIFS('1추특입'!M$6:M$50,'1추특입'!$B$6:$B$50,'1추총괄표(실국)'!$A16) -> 0 | R16: =SUMIFS('1추특입'!N$6:N$50,'1추특입'!$B$6:$B$50,'1추총괄표(실국)'!$A16) -> 0 | S16: =SUMIFS('1추특출'!M$6:M$40,'1추특출'!$B$6:$B$40,'1추총괄표(실국)'!$A16) -> 0 | T16: =SUMIFS('1추특출'!N$6:N$40,'1추특출'!$B$6:$B$40,'1추총괄표(실국)'!$A16) -> 0 | U16: =P16+S16+T16 -> 0
A17: 보건복지국 | B17: =I17+P17 -> 23662291 | C17: =J17+Q17 -> 0 | D17: =K17+R17 -> 0 | E17: =L17+S17 -> 0 | F17: =M17+T17 -> 0 | G17: =B17+E17+F17 -> 23662291 | I17: =D58 -> 23662291 | J17: =SUMIFS('1추일입'!M$6:M$9,'1추일입'!$B$6:$B$9,'1추총괄표(실국)'!$A17) -> 0 | K17: =SUMIFS('1추일입'!N$6:N$9,'1추일입'!$B$6:$B$9,'1추총괄표(실국)'!$A17) -> 0 | L17: =SUMIFS('1추일출'!M$6:M$103,'1추일출'!$B$6:$B$103,'1추총괄표(실국)'!$A17) -> 0 | M17: =SUMIFS('1추일출'!N$6:N$103,'1추일출'!$B$6:$B$103,'1추총괄표(실국)'!$A17) -> 0 | N17: =I17+L17+M17 -> 23662291 | P17: =E58 -> 0 | Q17: =SUMIFS('1추특입'!M$6:M$50,'1추특입'!$B$6:$B$50,'1추총괄표(실국)'!$A17) -> 0 | R17: =SUMIFS('1추특입'!N$6:N$50,'1추특입'!$B$6:$B$50,'1추총괄표(실국)'!$A17) -> 0 | S17: =SUMIFS('1추특출'!M$6:M$40,'1추특출'!$B$6:$B$40,'1추총괄표(실국)'!$A17) -> 0 | T17: =SUMIFS('1추특출'!N$6:N$40,'1추특출'!$B$6:$B$40,'1추총괄표(실국)'!$A17) -> 0 | U17: =P17+S17+T17 -> 0
A18: 환경국 | B18: =I18+P18 -> 87000 | C18: =J18+Q18 -> 0 | D18: =K18+R18 -> 0 | E18: =L18+S18 -> 0 | F18: =M18+T18 -> 0 | G18: =B18+E18+F18 -> 87000 | I18: =D59 -> 87000 | J18: =SUMIFS('1추일입'!M$6:M$9,'1추일입'!$B$6:$B$9,'1추총괄표(실국)'!$A18) -> 0 | K18: =SUMIFS('1추일입'!N$6:N$9,'1추일입'!$B$6:$B$9,'1추총괄표(실국)'!$A18) -> 0 | L18: =SUMIFS('1추일출'!M$6:M$103,'1추일출'!$B$6:$B$103,'1추총괄표(실국)'!$A18) -> 0 | M18: =SUMIFS('1추일출'!N$6:N$103,'1추일출'!$B$6:$B$103,'1추총괄표(실국)'!$A18) -> 0 | N18: =I18+L18+M18 -> 87000 | P18: =E59 -> 0 | Q18: =SUMIFS('1추특입'!M$6:M$50,'1추특입'!$B$6:$B$50,'1추총괄표(실국)'!$A18) -> 0 | R18: =SUMIFS('1추특입'!N$6:N$50,'1추특입'!$B$6:$B$50,'1추총괄표(실국)'!$A18) -> 0 | S18: =SUMIFS('1추특출'!M$6:M$40,'1추특출'!$B$6:$B$40,'1추총괄표(실국)'!$A18) -> 0 | T18: =SUMIFS('1추특출'!N$6:N$40,'1추특출'!$B$6:$B$40,'1추총괄표(실국)'!$A18) -> 0 | U18: =P18+S18+T18 -> 0
... A36: 건설본부 | B36: =I36+P36 -> 0 | C36: =J36+Q36 -> 0 | D36: =K36+R36 -> 0 | E36: =L36+S36 -> 0 | F36: =M36+T36 -> 0 | G36: =B36+E36+F36 -> 0 | I36: =D77 -> 0 | J36: =SUMIFS('1추일입'!M$6:M$9,'1추일입'!$B$6:$B$9,'1추총괄표(실국)'!$A36) -> 0 | K36: =SUMIFS('1추일입'!N$6:N$9,'1추일입'!$B$6:$B$9,'1추총괄표(실국)'!$A36) -> 0 | L36: =SUMIFS('1추일출'!M$6:M$103,'1추일출'!$B$6:$B$103,'1추총괄표(실국)'!$A36) -> 0 | M36: =SUMIFS('1추일출'!N$6:N$103,'1추일출'!$B$6:$B$103,'1추총괄표(실국)'!$A36) -> 0 | N36: =I36+L36+M36 -> 0 | P36: =E77 -> 0 | Q36: =SUMIFS('1추특입'!M$6:M$50,'1추특입'!$B$6:$B$50,'1추총괄표(실국)'!$A36) -> 0 | R36: =SUMIFS('1추특입'!N$6:N$50,'1추특입'!$B$6:$B$50,'1추총괄표(실국)'!$A36) -> 0 | S36: =SUMIFS('1추특출'!M$6:M$40,'1추특출'!$B$6:$B$40,'1추총괄표(실국)'!$A36) -> 0 | T36: =SUMIFS('1추특출'!N$6:N$40,'1추특출'!$B$6:$B$40,'1추총괄표(실국)'!$A36) -> 0 | U36: =P36+S36+T36 -> 0
A39: ※ 예산안 증감현황
A40: 구 분 | B40: 세입 | C40: 세출 | D40: 예비비 | E40: 비고(???)
A41: 합 계 | B41: =SUM(B42:B43) -> 0 | C41: =SUM(C42:C43) -> 0 | D41: =B41-C41 -> 0
A42: 일반회계 | B42: =SUM(J6:K6) -> 0 | C42: =SUM(L6:M6) -> 0 | D42: =B42-C42 -> 0 | E42: 예비비 증감 - 감액, + 증액에 입력
A43: 특별회계 | B43: =SUM(Q6:R6) -> 0 | C43: =SUM(S6:T6) -> 0 | D43: =B43-C43 -> 0
A45: ※ 집행부제출안
A46: 구분 | B46: 합계 | C46: 일반+기타 | D46: 일반회계 | E46: 기타특별회계 | F46: 공기업특별회계
A47: 합계 | B47: =SUM(B48:B77) -> 738556856 | C47: =SUM(C48:C77) -> 738556856 | D47: =SUM(D48:D77) -> 738556856 | E47: =SUM(E48:E77) -> 0 | F47: =SUM(F48:F77) -> 0 | G47: =IF(D47=#REF!,"OK","@@") -> #REF!
A48: 감사관 | B48: =SUM(D48:F48) -> 0 | C48: =D48+E48 -> 0 | D48: 0
A49: 기획조정실 | B49: =SUM(D49:F49) -> 185572667 | C49: =D49+E49 -> 185572667 | D49: 185572667
A50: 도시주택실 | B50: =SUM(D50:F50) -> 8532790 | C50: =D50+E50 -> 8532790 | D50: 8532790
A51: 자치행정국 | B51: =SUM(D51:F51) -> 9603506 | C51: =D51+E51 -> 9603506 | D51: 9603506
A52: 교육협력국 | B52: =SUM(D52:F52) -> 123758756 | C52: =D52+E52 -> 123758756 | D52: 123758756
A53: 문화체육관광국 | B53: =SUM(D53:F53) -> 21603000 | C53: =D53+E53 -> 21603000 | D53: 21603000
A54: 농정해양국 | B54: =SUM(D54:F54) -> 11470364 | C54: =D54+E54 -> 11470364 | D54: 11470364
A55: 철도국 | B55: =SUM(D55:F55) -> 0 | C55: =D55+E55 -> 0 | D55: 0
A56: 연정협력관 | B56: =SUM(D56:F56) -> 0 | C56: =D56+E56 -> 0 | D56: 0
A57: 대외협력담당관 | B57: =SUM(D57:F57) -> 0 | C57: =D57+E57 -> 0 | D57: 0
A58: 보건복지국 | B58: =SUM(D58:F58) -> 23662291 | C58: =D58+E58 -> 23662291 | D58: 23662291
A59: 환경국 | B59: =SUM(D59:F59) -> 87000 | C59: =D59+E59 -> 87000 | D59: 87000
... A77: 건설본부 | B77: =SUM(D77:F77) -> 0 | C77: =D77+E77 -> 0 | D77: 0

Sheet 1추총괄표(위원회)
B1: 2015년도 제1회 추경 일반회계 세입·세출 총괄표
P3: (단위 : 천원) | AD3: (단위 : 천원)
B4: 위원회 및 실국명 | D4: 세입 | R4: 세입 | AF4: 국비 검증
D5: 제1회 추경 예산안 (가) | E5: 기정액 (나) | F5: 제1회 추경 증감액 (다=가-나) | G5: 상임위 조정액(라) | I5: 상임위 수정 예산안 (마=가or나+라) | J5: 상임위 재원별 증감액 | L5: 예결위 조정액(라) | N5: 예결위 수정 예산안 (마=가or나+라) | O5: 예결위 재원별 증감액 | R5: 제1회 추경 예산안 (가) | S5: 기정액 (나) | T5: 제1회 추경 증감액 (다=가-나) | U5: 상임위 조정액(라) | W5: 상임위 수정 예산안 (마=가or나+라) | X5: 상임위 재원별 증감액 | Z5: 예결위 조정액(라) | AB5: 예결위 수정 예산안 (마=가or나+라) | AC5: 예결위 재원별 증감액 | AF5: 상임위 | AH5: 예결위
G6: 감액 | H6: 증액 | J6: 국비 등 | K6: 도비 | L6: 감액 | M6: 증액 | O6: 국비 등 | P6: 도비 | U6: 감액 | V6: 증액 | X6: 국비 등 | Y6: 도비 | Z6: 감액 | AA6: 증액 | AC6: 국비 등 | AD6: 도비 | AF6: 검증 | AG6: 차액 | AH6: 검증 | AI6: 차액
B7: 합 계 | D7: =SUM(D8:D52)/2 -> 0 | E7: =SUM(E8:E52)/2 -> 0 | F7: =SUM(F8:F52)/2 -> 0 | G7: =SUM(G8:G52)/2 -> 0 | H7: =SUM(H8:H52)/2 -> 911675 | I7: =SUM(I8:I52)/2 -> 911675 | J7: =SUM(J8:J52)/2 -> 911675 | K7: =SUM(K8:K52)/2 -> 0 | ... P7: =SUM(P8:P52)/2 -> 0 | R7: =SUM(R8:R52)/2 -> 4017235 | S7: =SUM(S8:S52)/2 -> 917235 | T7: =SUM(T8:T52)/2 -> 3100000 | U7: =SUM(U8:U52)/2 -> -1550000 | V7: =SUM(V8:V52)/2 -> 2509571 | W7: =SUM(W8:W52)/2 -> 4976806 | X7: =SUM(X8:X52)/2 -> 911675 | Y7: =SUM(Y8:Y52)/2 -> 47896 | ... AD7: =SUM(AD8:AD52)/2 -> 0 | AF7: =IF(J7=X7,"OK","@@") -> OK | AG7: =J7-X7 -> 0 | AH7: =IF(O7=AC7,"OK","@@") -> OK | AI7: =O7-AC7 -> 0
B8: 의회운영위원회 | D8: =SUM(D9:D13) -> 0 | E8: =SUM(E9:E13) -> 0 | F8: =SUM(F9:F13) -> 0 | G8: =SUM(G9:G13) -> 0 | H8: =SUM(H9:H13) -> 0 | I8: =SUM(I9:I13) -> 0 | J8: =SUM(J9:J13) -> 0 | K8: =SUM(K9:K13) -> 0 | ... P8: =SUM(P9:P13) -> 0 | R8: =SUM(R9:R13) -> 0 | S8: =SUM(S9:S13) -> 0 | T8: =SUM(T9:T13) -> 0 | U8: =SUM(U9:U13) -> 0 | V8: =SUM(V9:V13) -> 0 | W8: =SUM(W9:W13) -> 0 | X8: =SUM(X9:X13) -> 0 | Y8: =SUM(Y9:Y13) -> 0 | ... AD8: =SUM(AD9:AD13) -> 0 | AF8: =IF(J8=X8,"OK","@@") -> OK | AG8: =J8-X8 -> 0 | AH8: =IF(O8=AC8,"OK","@@") -> OK | AI8: =O8-AC8 -> 0
A9: 의회운영위원회 | C9: 의회사무처 | D9: =SUMIFS('1추일입'!G$6:G$9,'1추일입'!$A$6:$A$9,'1추총괄표(위원회)'!$A9,'1추일입'!$B$6:$B$9,'1추총괄표(위원회)'!$C9) -> 0 | E9: =SUMIFS('1추일입'!H$6:H$9,'1추일입'!$A$6:$A$9,'1추총괄표(위원회)'!$A9,'1추일입'!$B$6:$B$9,'1추총괄표(위원회)'!$C9) -> 0 | F9: =D9-E9 -> 0 | G9: =SUMIFS('1추일입'!J$6:J$9,'1추일입'!$A$6:$A$9,'1추총괄표(위원회)'!$A9,'1추일입'!$B$6:$B$9,'1추총괄표(위원회)'!$C9) -> 0 | H9: =SUMIFS('1추일입'!K$6:K$9,'1추일입'!$A$6:$A$9,'1추총괄표(위원회)'!$A9,'1추일입'!$B$6:$B$9,'1추총괄표(위원회)'!$C9) -> 0 | I9: =SUMIFS('1추일입'!L$6:L$9,'1추일입'!$A$6:$A$9,'1추총괄표(위원회)'!$A9,'1추일입'!$B$6:$B$9,'1추총괄표(위원회)'!$C9) -> 0 | J9: =SUMIFS('1추일입'!V$6:V$9,'1추일입'!$A$6:$A$9,'1추총괄표(위원회)'!$A9,'1추일입'!$B$6:$B$9,'1추총괄표(위원회)'!$C9) -> 0 | K9: =SUMIFS('1추일입'!W$6:W$9,'1추일입'!$A$6:$A$9,'1추총괄표(위원회)'!$A9,'1추일입'!$B$6:$B$9,'1추총괄표(위원회)'!$C9) -> 0 | L9: =SUMIFS('1추일입'!M$6:M$9,'1추일입'!$A$6:$A$9,'1추총괄표(위원회)'!$A9,'1추일입'!$B$6:$B$9,'1추총괄표(위원회)'!$C9) -> 0 | M9: =SUMIFS('1추일입'!N$6:N$9,'1추일입'!$A$6:$A$9,'1추총괄표(위원회)'!$A9,'1추일입'!$B$6:$B$9,'1추총괄표(위원회)'!$C9) -> 0 | N9: =SUMIFS('1추일입'!O$6:O$9,'1추일입'!$A$6:$A$9,'1추총괄표(위원회)'!$A9,'1추일입'!$B$6:$B$9,'1추총괄표(위원회)'!$C9) -> 0 | O9: =SUMIFS('1추일입'!AA$6:AA$9,'1추일입'!$A$6:$A$9,'1추총괄표(위원회)'!$A9,'1추일입'!$B$6:$B$9,'1추총괄표(위원회)'!$C9) -> 0 | P9: =SUMIFS('1추일입'!AB$6:AB$9,'1추일입'!$A$6:$A$9,'1추총괄표(위원회)'!$A9,'1추일입'!$B$6:$B$9,'1추총괄표(위원회)'!$C9) -> 0 | R9: =SUMIFS('1추일출'!G$6:G$103,'1추일출'!$A$6:$A$103,'1추총괄표(위원회)'!$A9,'1추일출'!$B$6:$B$103,'1추총괄표(위원회)'!$C9) -> 0 | S9: =SUMIFS('1추일출'!H$6:H$103,'1추일출'!$A$6:$A$103,'1추총괄표(위원회)'!$A9,'1추일출'!$B$6:$B$103,'1추총괄표(위원회)'!$C9) -> 0 | T9: =R9-S9 -> 0 | U9: =SUMIFS('1추일출'!J$6:J$103,'1추일출'!$A$6:$A$103,'1추총괄표(위원회)'!$A9,'1추일출'!$B$6:$B$103,'1추총괄표(위원회)'!$C9) -> 0 | V9: =SUMIFS('1추일출'!K$6:K$103,'1추일출'!$A$6:$A$103,'1추총괄표(위원회)'!$A9,'1추일출'!$B$6:$B$103,'1추총괄표(위원회)'!$C9) -> 0 | W9: =SUMIFS('1추일출'!L$6:L$103,'1추일출'!$A$6:$A$103,'1추총괄표(위원회)'!$A9,'1추일출'!$B$6:$B$103,'1추총괄표(위원회)'!$C9) -> 0 | X9: =SUMIFS('1추일출'!V$6:V$103,'1추일출'!$A$6:$A$103,'1추총괄표(위원회)'!$A9,'1추일출'!$B$6:$B$103,'1추총괄표(위원회)'!$C9) -> 0 | Y9: =SUMIFS('1추일출'!W$6:W$103,'1추일출'!$A$6:$A$103,'1추총괄표(위원회)'!$A9,'1추일출'!$B$6:$B$103,'1추총괄표(위원회)'!$C9) -> 0 | Z9: =SUMIFS('1추일출'!M$6:M$103,'1추일출'!$A$6:$A$103,'1추총괄표(위원회)'!$A9,'1추일출'!$B$6:$B$103,'1추총괄표(위원회)'!$C9) -> 0 | AA9: =SUMIFS('1추일출'!N$6:N$103,'1추일출'!$A$6:$A$103,'1추총괄표(위원회)'!$A9,'1추일출'!$B$6:$B$103,'1추총괄표(위원회)'!$C9) -> 0 | AB9: =SUMIFS('1추일출'!O$6:O$103,'1추일출'!$A$6:$A$103,'1추총괄표(위원회)'!$A9,'1추일출'!$B$6:$B$103,'1추총괄표(위원회)'!$C9) -> 0 | AC9: =SUMIFS('1추일출'!AA$6:AA$103,'1추일출'!$A$6:$A$103,'1추총괄표(위원회)'!$A9,'1추일출'!$B$6:$B$103,'1추총괄표(위원회)'!C$9) -> 0 | AD9: =SUMIFS('1추일출'!AB$6:AB$103,'1추일출'!$A$6:$A$103,'1추총괄표(위원회)'!$A9,'1추일출'!$B$6:$B$103,'1추총괄표(위원회)'!D$9) -> 0 | AF9: =IF(J9=X9,"OK","@@") -> OK | AG9: =J9-X9 -> 0 | AH9: =IF(O9=AC9,"OK","@@") -> OK | AI9: =O9-AC9 -> 0
A10: 의회운영위원회 | C10: 소통기획관 | D10: =SUMIFS('1추일입'!G$6:G$9,'1추일입'!$A$6:$A$9,'1추총괄표(위원회)'!$A10,'1추일입'!$B$6:$B$9,'1추총괄표(위원회)'!$C10) -> 0 | E10: =SUMIFS('1추일입'!H$6:H$9,'1추일입'!$A$6:$A$9,'1추총괄표(위원회)'!$A10,'1추일입'!$B$6:$B$9,'1추총괄표(위원회)'!$C10) -> 0 | F10: =D10-E10 -> 0 | G10: =SUMIFS('1추일입'!J$6:J$9,'1추일입'!$A$6:$A$9,'1추총괄표(위원회)'!$A10,'1추일입'!$B$6:$B$9,'1추총괄표(위원회)'!$C10) -> 0 | H10: =SUMIFS('1추일입'!K$6:K$9,'1추일입'!$A$6:$A$9,'1추총괄표(위원회)'!$A10,'1추일입'!$B$6:$B$9,'1추총괄표(위원회)'!$C10) -> 0 | I10: =SUMIFS('1추일입'!L$6:L$9,'1추일입'!$A$6:$A$9,'1추총괄표(위원회)'!$A10,'1추일입'!$B$6:$B$9,'1추총괄표(위원회)'!$C10) -> 0 | J10: =SUMIFS('1추일입'!V$6:V$9,'1추일입'!$A$6:$A$9,'1추총괄표(위원회)'!$A10,'1추일입'!$B$6:$B$9,'1추총괄표(위원회)'!$C10) -> 0 | K10: =SUMIFS('1추일입'!W$6:W$9,'1추일입'!$A$6:$A$9,'1추총괄표(위원회)'!$A10,'1추일입'!$B$6:$B$9,'1추총괄표(위원회)'!$C10) -> 0 | L10: =SUMIFS('1추일입'!M$6:M$9,'1추일입'!$A$6:$A$9,'1추총괄표(위원회)'!$A10,'1추일입'!$B$6:$B$9,'1추총괄표(위원회)'!$C10) -> 0 | M10: =SUMIFS('1추일입'!N$6:N$9,'1추일입'!$A$6:$A$9,'1추총괄표(위원회)'!$A10,'1추일입'!$B$6:$B$9,'1추총괄표(위원회)'!$C10) -> 0 | N10: =SUMIFS('1추일입'!O$6:O$9,'1추일입'!$A$6:$A$9,'1추총괄표(위원회)'!$A10,'1추일입'!$B$6:$B$9,'1추총괄표(위원회)'!$C10) -> 0 | O10: =SUMIFS('1추일입'!AA$6:AA$9,'1추일입'!$A$6:$A$9,'1추총괄표(위원회)'!$A10,'1추일입'!$B$6:$B$9,'1추총괄표(위원회)'!$C10) -> 0 | P10: =SUMIFS('1추일입'!AB$6:AB$9,'1추일입'!$A$6:$A$9,'1추총괄표(위원회)'!$A10,'1추일입'!$B$6:$B$9,'1추총괄표(위원회)'!$C10) -> 0 | R10: =SUMIFS('1추일출'!G$6:G$103,'1추일출'!$A$6:$A$103,'1추총괄표(위원회)'!$A10,'1추일출'!$B$6:$B$103,'1추총괄표(위원회)'!$C10) -> 0 | S10: =SUMIFS('1추일출'!H$6:H$103,'1추일출'!$A$6:$A$103,'1추총괄표(위원회)'!$A10,'1추일출'!$B$6:$B$103,'1추총괄표(위원회)'!$C10) -> 0 | T10: =R10-S10 -> 0 | U10: =SUMIFS('1추일출'!J$6:J$103,'1추일출'!$A$6:$A$103,'1추총괄표(위원회)'!$A10,'1추일출'!$B$6:$B$103,'1추총괄표(위원회)'!$C10) -> 0 | V10: =SUMIFS('1추일출'!K$6:K$103,'1추일출'!$A$6:$A$103,'1추총괄표(위원회)'!$A10,'1추일출'!$B$6:$B$103,'1추총괄표(위원회)'!$C10) -> 0 | W10: =SUMIFS('1추일출'!L$6:L$103,'1추일출'!$A$6:$A$103,'1추총괄표(위원회)'!$A10,'1추일출'!$B$6:$B$103,'1추총괄표(위원회)'!$C10) -> 0 | X10: =SUMIFS('1추일출'!V$6:V$103,'1추일출'!$A$6:$A$103,'1추총괄표(위원회)'!$A10,'1추일출'!$B$6:$B$103,'1추총괄표(위원회)'!$C10) -> 0 | Y10: =SUMIFS('1추일출'!W$6:W$103,'1추일출'!$A$6:$A$103,'1추총괄표(위원회)'!$A10,'1추일출'!$B$6:$B$103,'1추총괄표(위원회)'!$C10) -> 0 | Z10: =SUMIFS('1추일출'!M$6:M$103,'1추일출'!$A$6:$A$103,'1추총괄표(위원회)'!$A10,'1추일출'!$B$6:$B$103,'1추총괄표(위원회)'!$C10) -> 0 | AA10: =SUMIFS('1추일출'!N$6:N$103,'1추일출'!$A$6:$A$103,'1추총괄표(위원회)'!$A10,'1추일출'!$B$6:$B$103,'1추총괄표(위원회)'!$C10) -> 0 | AB10: =SUMIFS('1추일출'!O$6:O$103,'1추일출'!$A$6:$A$103,'1추총괄표(위원회)'!$A10,'1추일출'!$B$6:$B$103,'1추총괄표(위원회)'!$C10) -> 0 | AC10: =SUMIFS('1추일출'!AA$6:AA$103,'1추일출'!$A$6:$A$103,'1추총괄표(위원회)'!$A10,'1추일출'!$B$6:$B$103,'1추총괄표(위원회)'!C$9) -> 0 | AD10: =SUMIFS('1추일출'!AB$6:AB$103,'1추일출'!$A$6:$A$103,'1추총괄표(위원회)'!$A10,'1추일출'!$B$6:$B$103,'1추총괄표(위원회)'!D$9) -> 0 | AF10: =IF(J10=X10,"OK","@@") -> OK | AG10: =J10-X10 -> 0 | AH10: =IF(O10=AC10,"OK","@@") -> OK | AI10: =O10-AC10 -> 0
A11: 의회운영위원회 | C11: 대변인 | D11: =SUMIFS('1추일입'!G$6:G$9,'1추일입'!$A$6:$A$9,'1추총괄표(위원회)'!$A11,'1추일입'!$B$6:$B$9,'1추총괄표(위원회)'!$C11) -> 0 | E11: =SUMIFS('1추일입'!H$6:H$9,'1추일입'!$A$6:$A$9,'1추총괄표(위원회)'!$A11,'1추일입'!$B$6:$B$9,'1추총괄표(위원회)'!$C11) -> 0 | F11: =D11-E11 -> 0 | G11: =SUMIFS('1추일입'!J$6:J$9,'1추일입'!$A$6:$A$9,'1추총괄표(위원회)'!$A11,'1추일입'!$B$6:$B$9,'1추총괄표(위원회)'!$C11) -> 0 | H11: =SUMIFS('1추일입'!K$6:K$9,'1추일입'!$A$6:$A$9,'1추총괄표(위원회)'!$A11,'1추일입'!$B$6:$B$9,'1추총괄표(위원회)'!$C11) -> 0 | I11: =SUMIFS('1추일입'!L$6:L$9,'1추일입'!$A$6:$A$9,'1추총괄표(위원회)'!$A11,'1추일입'!$B$6:$B$9,'1추총괄표(위원회)'!$C11) -> 0 | J11: =SUMIFS('1추일입'!V$6:V$9,'1추일입'!$A$6:$A$9,'1추총괄표(위원회)'!$A11,'1추일입'!$B$6:$B$9,'1추총괄표(위원회)'!$C11) -> 0 | K11: =SUMIFS('1추일입'!W$6:W$9,'1추일입'!$A$6:$A$9,'1추총괄표(위원회)'!$A11,'1추일입'!$B$6:$B$9,'1추총괄표(위원회)'!$C11) -> 0 | L11: =SUMIFS('1추일입'!M$6:M$9,'1추일입'!$A$6:$A$9,'1추총괄표(위원회)'!$A11,'1추일입'!$B$6:$B$9,'1추총괄표(위원회)'!$C11) -> 0 | M11: =SUMIFS('1추일입'!N$6:N$9,'1추일입'!$A$6:$A$9,'1추총괄표(위원회)'!$A11,'1추일입'!$B$6:$B$9,'1추총괄표(위원회)'!$C11) -> 0 | N11: =SUMIFS('1추일입'!O$6:O$9,'1추일입'!$A$6:$A$9,'1추총괄표(위원회)'!$A11,'1추일입'!$B$6:$B$9,'1추총괄표(위원회)'!$C11) -> 0 | O11: =SUMIFS('1추일입'!AA$6:AA$9,'1추일입'!$A$6:$A$9,'1추총괄표(위원회)'!$A11,'1추일입'!$B$6:$B$9,'1추총괄표(위원회)'!$C11) -> 0 | P11: =SUMIFS('1추일입'!AB$6:AB$9,'1추일입'!$A$6:$A$9,'1추총괄표(위원회)'!$A11,'1추일입'!$B$6:$B$9,'1추총괄표(위원회)'!$C11) -> 0 | R11: =SUMIFS('1추일출'!G$6:G$103,'1추일출'!$A$6:$A$103,'1추총괄표(위원회)'!$A11,'1추일출'!$B$6:$B$103,'1추총괄표(위원회)'!$C11) -> 0 | S11: =SUMIFS('1추일출'!H$6:H$103,'1추일출'!$A$6:$A$103,'1추총괄표(위원회)'!$A11,'1추일출'!$B$6:$B$103,'1추총괄표(위원회)'!$C11) -> 0 | T11: =R11-S11 -> 0 | U11: =SUMIFS('1추일출'!J$6:J$103,'1추일출'!$A$6:$A$103,'1추총괄표(위원회)'!$A11,'1추일출'!$B$6:$B$103,'1추총괄표(위원회)'!$C11) -> 0 | V11: =SUMIFS('1추일출'!K$6:K$103,'1추일출'!$A$6:$A$103,'1추총괄표(위원회)'!$A11,'1추일출'!$B$6:$B$103,'1추총괄표(위원회)'!$C11) -> 0 | W11: =SUMIFS('1추일출'!L$6:L$103,'1추일출'!$A$6:$A$103,'1추총괄표(위원회)'!$A11,'1추일출'!$B$6:$B$103,'1추총괄표(위원회)'!$C11) -> 0 | X11: =SUMIFS('1추일출'!V$6:V$103,'1추일출'!$A$6:$A$103,'1추총괄표(위원회)'!$A11,'1추일출'!$B$6:$B$103,'1추총괄표(위원회)'!$C11) -> 0 | Y11: =SUMIFS('1추일출'!W$6:W$103,'1추일출'!$A$6:$A$103,'1추총괄표(위원회)'!$A11,'1추일출'!$B$6:$B$103,'1추총괄표(위원회)'!$C11) -> 0 | Z11: =SUMIFS('1추일출'!M$6:M$103,'1추일출'!$A$6:$A$103,'1추총괄표(위원회)'!$A11,'1추일출'!$B$6:$B$103,'1추총괄표(위원회)'!$C11) -> 0 | AA11: =SUMIFS('1추일출'!N$6:N$103,'1추일출'!$A$6:$A$103,'1추총괄표(위원회)'!$A11,'1추일출'!$B$6:$B$103,'1추총괄표(위원회)'!$C11) -> 0 | AB11: =SUMIFS('1추일출'!O$6:O$103,'1추일출'!$A$6:$A$103,'1추총괄표(위원회)'!$A11,'1추일출'!$B$6:$B$103,'1추총괄표(위원회)'!$C11) -> 0 | AC11: =SUMIFS('1추일출'!AA$6:AA$103,'1추일출'!$A$6:$A$103,'1추총괄표(위원회)'!$A11,'1추일출'!$B$6:$B$103,'1추총괄표(위원회)'!C$9) -> 0 | AD11: =SUMIFS('1추일출'!AB$6:AB$103,'1추일출'!$A$6:$A$103,'1추총괄표(위원회)'!$A11,'1추일출'!$B$6:$B$103,'1추총괄표(위원회)'!D$9) -> 0 | AF11: =IF(J11=X11,"OK","@@") -> OK | AG11: =J11-X11 -> 0 | AH11: =IF(O11=AC11,"OK","@@") -> OK | AI11: =O11-AC11 -> 0
A12: 의회운영위원회 | C12: 연정협력관 | D12: =SUMIFS('1추일입'!G$6:G$9,'1추일입'!$A$6:$A$9,'1추총괄표(위원회)'!$A12,'1추일입'!$B$6:$B$9,'1추총괄표(위원회)'!$C12) -> 0 | E12: =SUMIFS('1추일입'!H$6:H$9,'1추일입'!$A$6:$A$9,'1추총괄표(위원회)'!$A12,'1추일입'!$B$6:$B$9,'1추총괄표(위원회)'!$C12) -> 0 | F12: =D12-E12 -> 0 | G12: =SUMIFS('1추일입'!J$6:J$9,'1추일입'!$A$6:$A$9,'1추총괄표(위원회)'!$A12,'1추일입'!$B$6:$B$9,'1추총괄표(위원회)'!$C12) -> 0 | H12: =SUMIFS('1추일입'!K$6:K$9,'1추일입'!$A$6:$A$9,'1추총괄표(위원회)'!$A12,'1추일입'!$B$6:$B$9,'1추총괄표(위원회)'!$C12) -> 0 | I12: =SUMIFS('1추일입'!L$6:L$9,'1추일입'!$A$6:$A$9,'1추총괄표(위원회)'!$A12,'1추일입'!$B$6:$B$9,'1추총괄표(위원회)'!$C12) -> 0 | J12: =SUMIFS('1추일입'!V$6:V$9,'1추일입'!$A$6:$A$9,'1추총괄표(위원회)'!$A12,'1추일입'!$B$6:$B$9,'1추총괄표(위원회)'!$C12) -> 0 | K12: =SUMIFS('1추일입'!W$6:W$9,'1추일입'!$A$6:$A$9,'1추총괄표(위원회)'!$A12,'1추일입'!$B$6:$B$9,'1추총괄표(위원회)'!$C12) -> 0 | L12: =SUMIFS('1추일입'!M$6:M$9,'1추일입'!$A$6:$A$9,'1추총괄표(위원회)'!$A12,'1추일입'!$B$6:$B$9,'1추총괄표(위원회)'!$C12) -> 0 | M12: =SUMIFS('1추일입'!N$6:N$9,'1추일입'!$A$6:$A$9,'1추총괄표(위원회)'!$A12,'1추일입'!$B$6:$B$9,'1추총괄표(위원회)'!$C12) -> 0 | N12: =SUMIFS('1추일입'!O$6:O$9,'1추일입'!$A$6:$A$9,'1추총괄표(위원회)'!$A12,'1추일입'!$B$6:$B$9,'1추총괄표(위원회)'!$C12) -> 0 | O12: =SUMIFS('1추일입'!AA$6:AA$9,'1추일입'!$A$6:$A$9,'1추총괄표(위원회)'!$A12,'1추일입'!$B$6:$B$9,'1추총괄표(위원회)'!$C12) -> 0 | P12: =SUMIFS('1추일입'!AB$6:AB$9,'1추일입'!$A$6:$A$9,'1추총괄표(위원회)'!$A12,'1추일입'!$B$6:$B$9,'1추총괄표(위원회)'!$C12) -> 0 | R12: =SUMIFS('1추일출'!G$6:G$103,'1추일출'!$A$6:$A$103,'1추총괄표(위원회)'!$A12,'1추일출'!$B$6:$B$103,'1추총괄표(위원회)'!$C12) -> 0 | S12: =SUMIFS('1추일출'!H$6:H$103,'1추일출'!$A$6:$A$103,'1추총괄표(위원회)'!$A12,'1추일출'!$B$6:$B$103,'1추총괄표(위원회)'!$C12) -> 0 | T12: =R12-S12 -> 0 | U12: =SUMIFS('1추일출'!J$6:J$103,'1추일출'!$A$6:$A$103,'1추총괄표(위원회)'!$A12,'1추일출'!$B$6:$B$103,'1추총괄표(위원회)'!$C12) -> 0 | V12: =SUMIFS('1추일출'!K$6:K$103,'1추일출'!$A$6:$A$103,'1추총괄표(위원회)'!$A12,'1추일출'!$B$6:$B$103,'1추총괄표(위원회)'!$C12) -> 0 | W12: =SUMIFS('1추일출'!L$6:L$103,'1추일출'!$A$6:$A$103,'1추총괄표(위원회)'!$A12,'1추일출'!$B$6:$B$103,'1추총괄표(위원회)'!$C12) -> 0 | X12: =SUMIFS('1추일출'!V$6:V$103,'1추일출'!$A$6:$A$103,'1추총괄표(위원회)'!$A12,'1추일출'!$B$6:$B$103,'1추총괄표(위원회)'!$C12) -> 0 | Y12: =SUMIFS('1추일출'!W$6:W$103,'1추일출'!$A$6:$A$103,'1추총괄표(위원회)'!$A12,'1추일출'!$B$6:$B$103,'1추총괄표(위원회)'!$C12) -> 0 | Z12: =SUMIFS('1추일출'!M$6:M$103,'1추일출'!$A$6:$A$103,'1추총괄표(위원회)'!$A12,'1추일출'!$B$6:$B$103,'1추총괄표(위원회)'!$C12) -> 0 | AA12: =SUMIFS('1추일출'!N$6:N$103,'1추일출'!$A$6:$A$103,'1추총괄표(위원회)'!$A12,'1추일출'!$B$6:$B$103,'1추총괄표(위원회)'!$C12) -> 0 | AB12: =SUMIFS('1추일출'!O$6:O$103,'1추일출'!$A$6:$A$103,'1추총괄표(위원회)'!$A12,'1추일출'!$B$6:$B$103,'1추총괄표(위원회)'!$C12) -> 0 | AC12: =SUMIFS('1추일출'!AA$6:AA$103,'1추일출'!$A$6:$A$103,'1추총괄표(위원회)'!$A12,'1추일출'!$B$6:$B$103,'1추총괄표(위원회)'!C$9) -> 0 | AD12: =SUMIFS('1추일출'!AB$6:AB$103,'1추일출'!$A$6:$A$103,'1추총괄표(위원회)'!$A12,'1추일출'!$B$6:$B$103,'1추총괄표(위원회)'!D$9) -> 0 | AF12: =IF(J12=X12,"OK","@@") -> OK | AG12: =J12-X12 -> 0 | AH12: =IF(O12=AC12,"OK","@@") -> OK | AI12: =O12-AC12 -> 0
A13: 의회운영위원회 | C13: 대외협력담당관 | D13: =SUMIFS('1추일입'!G$6:G$9,'1추일입'!$A$6:$A$9,'1추총괄표(위원회)'!$A13,'1추일입'!$B$6:$B$9,'1추총괄표(위원회)'!$C13) -> 0 | E13: =SUMIFS('1추일입'!H$6:H$9,'1추일입'!$A$6:$A$9,'1추총괄표(위원회)'!$A13,'1추일입'!$B$6:$B$9,'1추총괄표(위원회)'!$C13) -> 0 | F13: =D13-E13 -> 0 | G13: =SUMIFS('1추일입'!J$6:J$9,'1추일입'!$A$6:$A$9,'1추총괄표(위원회)'!$A13,'1추일입'!$B$6:$B$9,'1추총괄표(위원회)'!$C13) -> 0 | H13: =SUMIFS('1추일입'!K$6:K$9,'1추일입'!$A$6:$A$9,'1추총괄표(위원회)'!$A13,'1추일입'!$B$6:$B$9,'1추총괄표(위원회)'!$C13) -> 0 | I13: =SUMIFS('1추일입'!L$6:L$9,'1추일입'!$A$6:$A$9,'1추총괄표(위원회)'!$A13,'1추일입'!$B$6:$B$9,'1추총괄표(위원회)'!$C13) -> 0 | J13: =SUMIFS('1추일입'!V$6:V$9,'1추일입'!$A$6:$A$9,'1추총괄표(위원회)'!$A13,'1추일입'!$B$6:$B$9,'1추총괄표(위원회)'!$C13) -> 0 | K13: =SUMIFS('1추일입'!W$6:W$9,'1추일입'!$A$6:$A$9,'1추총괄표(위원회)'!$A13,'1추일입'!$B$6:$B$9,'1추총괄표(위원회)'!$C13) -> 0 | L13: =SUMIFS('1추일입'!M$6:M$9,'1추일입'!$A$6:$A$9,'1추총괄표(위원회)'!$A13,'1추일입'!$B$6:$B$9,'1추총괄표(위원회)'!$C13) -> 0 | M13: =SUMIFS('1추일입'!N$6:N$9,'1추일입'!$A$6:$A$9,'1추총괄표(위원회)'!$A13,'1추일입'!$B$6:$B$9,'1추총괄표(위원회)'!$C13) -> 0 | N13: =SUMIFS('1추일입'!O$6:O$9,'1추일입'!$A$6:$A$9,'1추총괄표(위원회)'!$A13,'1추일입'!$B$6:$B$9,'1추총괄표(위원회)'!$C13) -> 0 | O13: =SUMIFS('1추일입'!AA$6:AA$9,'1추일입'!$A$6:$A$9,'1추총괄표(위원회)'!$A13,'1추일입'!$B$6:$B$9,'1추총괄표(위원회)'!$C13) -> 0 | P13: =SUMIFS('1추일입'!AB$6:AB$9,'1추일입'!$A$6:$A$9,'1추총괄표(위원회)'!$A13,'1추일입'!$B$6:$B$9,'1추총괄표(위원회)'!$C13) -> 0 | R13: =SUMIFS('1추일출'!G$6:G$103,'1추일출'!$A$6:$A$103,'1추총괄표(위원회)'!$A13,'1추일출'!$B$6:$B$103,'1추총괄표(위원회)'!$C13) -> 0 | S13: =SUMIFS('1추일출'!H$6:H$103,'1추일출'!$A$6:$A$103,'1추총괄표(위원회)'!$A13,'1추일출'!$B$6:$B$103,'1추총괄표(위원회)'!$C13) -> 0 | T13: =R13-S13 -> 0 | U13: =SUMIFS('1추일출'!J$6:J$103,'1추일출'!$A$6:$A$103,'1추총괄표(위원회)'!$A13,'1추일출'!$B$6:$B$103,'1추총괄표(위원회)'!$C13) -> 0 | V13: =SUMIFS('1추일출'!K$6:K$103,'1추일출'!$A$6:$A$103,'1추총괄표(위원회)'!$A13,'1추일출'!$B$6:$B$103,'1추총괄표(위원회)'!$C13) -> 0 | W13: =SUMIFS('1추일출'!L$6:L$103,'1추일출'!$A$6:$A$103,'1추총괄표(위원회)'!$A13,'1추일출'!$B$6:$B$103,'1추총괄표(위원회)'!$C13) -> 0 | X13: =SUMIFS('1추일출'!V$6:V$103,'1추일출'!$A$6:$A$103,'1추총괄표(위원회)'!$A13,'1추일출'!$B$6:$B$103,'1추총괄표(위원회)'!$C13) -> 0 | Y13: =SUMIFS('1추일출'!W$6:W$103,'1추일출'!$A$6:$A$103,'1추총괄표(위원회)'!$A13,'1추일출'!$B$6:$B$103,'1추총괄표(위원회)'!$C13) -> 0 | Z13: =SUMIFS('1추일출'!M$6:M$103,'1추일출'!$A$6:$A$103,'1추총괄표(위원회)'!$A13,'1추일출'!$B$6:$B$103,'1추총괄표(위원회)'!$C13) -> 0 | AA13: =SUMIFS('1추일출'!N$6:N$103,'1추일출'!$A$6:$A$103,'1추총괄표(위원회)'!$A13,'1추일출'!$B$6:$B$103,'1추총괄표(위원회)'!$C13) -> 0 | AB13: =SUMIFS('1추일출'!O$6:O$103,'1추일출'!$A$6:$A$103,'1추총괄표(위원회)'!$A13,'1추일출'!$B$6:$B$103,'1추총괄표(위원회)'!$C13) -> 0 | AC13: =SUMIFS('1추일출'!AA$6:AA$103,'1추일출'!$A$6:$A$103,'1추총괄표(위원회)'!$A13,'1추일출'!$B$6:$B$103,'1추총괄표(위원회)'!C$9) -> 0 | AD13: =SUMIFS('1추일출'!AB$6:AB$103,'1추일출'!$A$6:$A$103,'1추총괄표(위원회)'!$A13,'1추일출'!$B$6:$B$103,'1추총괄표(위원회)'!D$9) -> 0 | AF13: =IF(J13=X13,"OK","@@") -> OK | AG13: =J13-X13 -> 0 | AH13: =IF(O13=AC13,"OK","@@") -> OK | AI13: =O13-AC13 -> 0
B14: 기획재정위원회 | D14: =SUM(D15:D18) -> 0 | E14: =SUM(E15:E18) -> 0 | F14: =SUM(F15:F18) -> 0 | G14: =SUM(G15:G18) -> 0 | H14: =SUM(H15:H18) -> 0 | I14: =SUM(I15:I18) -> 0 | J14: =SUM(J15:J18) -> 0 | K14: =SUM(K15:K18) -> 0 | ... P14: =SUM(P15:P18) -> 0 | R14: =SUM(R15:R18) -> 0 | S14: =SUM(S15:S18) -> 0 | T14: =SUM(T15:T18) -> 0 | U14: =SUM(U15:U18) -> 0 | V14: =SUM(V15:V18) -> 0 | W14: =SUM(W15:W18) -> 0 | X14: =SUM(X15:X18) -> 0 | Y14: =SUM(Y15:Y18) -> 0 | ... AD14: =SUM(AD15:AD18) -> 0 | AF14: =IF(J14=X14,"OK","@@") -> OK | AG14: =J14-X14 -> 0 | AH14: =IF(O14=AC14,"OK","@@") -> OK | AI14: =O14-AC14 -> 0
A15: 기획재정위원회 | C15: 감사관 | D15: =SUMIFS('1추일입'!G$6:G$9,'1추일입'!$A$6:$A$9,'1추총괄표(위원회)'!$A15,'1추일입'!$B$6:$B$9,'1추총괄표(위원회)'!$C15) -> 0 | E15: =SUMIFS('1추일입'!H$6:H$9,'1추일입'!$A$6:$A$9,'1추총괄표(위원회)'!$A15,'1추일입'!$B$6:$B$9,'1추총괄표(위원회)'!$C15) -> 0 | F15: =D15-E15 -> 0 | G15: =SUMIFS('1추일입'!J$6:J$9,'1추일입'!$A$6:$A$9,'1추총괄표(위원회)'!$A15,'1추일입'!$B$6:$B$9,'1추총괄표(위원회)'!$C15) -> 0 | H15: =SUMIFS('1추일입'!K$6:K$9,'1추일입'!$A$6:$A$9,'1추총괄표(위원회)'!$A15,'1추일입'!$B$6:$B$9,'1추총괄표(위원회)'!$C15) -> 0 | I15: =SUMIFS('1추일입'!L$6:L$9,'1추일입'!$A$6:$A$9,'1추총괄표(위원회)'!$A15,'1추일입'!$B$6:$B$9,'1추총괄표(위원회)'!$C15) -> 0 | J15: =SUMIFS('1추일입'!V$6:V$9,'1추일입'!$A$6:$A$9,'1추총괄표(위원회)'!$A15,'1추일입'!$B$6:$B$9,'1추총괄표(위원회)'!$C15) -> 0 | K15: =SUMIFS('1추일입'!W$6:W$9,'1추일입'!$A$6:$A$9,'1추총괄표(위원회)'!$A15,'1추일입'!$B$6:$B$9,'1추총괄표(위원회)'!$C15) -> 0 | L15: =SUMIFS('1추일입'!M$6:M$9,'1추일입'!$A$6:$A$9,'1추총괄표(위원회)'!$A15,'1추일입'!$B$6:$B$9,'1추총괄표(위원회)'!$C15) -> 0 | M15: =SUMIFS('1추일입'!N$6:N$9,'1추일입'!$A$6:$A$9,'1추총괄표(위원회)'!$A15,'1추일입'!$B$6:$B$9,'1추총괄표(위원회)'!$C15) -> 0 | N15: =SUMIFS('1추일입'!O$6:O$9,'1추일입'!$A$6:$A$9,'1추총괄표(위원회)'!$A15,'1추일입'!$B$6:$B$9,'1추총괄표(위원회)'!$C15) -> 0 | O15: =SUMIFS('1추일입'!AA$6:AA$9,'1추일입'!$A$6:$A$9,'1추총괄표(위원회)'!$A15,'1추일입'!$B$6:$B$9,'1추총괄표(위원회)'!$C15) -> 0 | P15: =SUMIFS('1추일입'!AB$6:AB$9,'1추일입'!$A$6:$A$9,'1추총괄표(위원회)'!$A15,'1추일입'!$B$6:$B$9,'1추총괄표(위원회)'!$C15) -> 0 | R15: =SUMIFS('1추일출'!G$6:G$103,'1추일출'!$A$6:$A$103,'1추총괄표(위원회)'!$A15,'1추일출'!$B$6:$B$103,'1추총괄표(위원회)'!$C15) -> 0 | S15: =SUMIFS('1추일출'!H$6:H$103,'1추일출'!$A$6:$A$103,'1추총괄표(위원회)'!$A15,'1추일출'!$B$6:$B$103,'1추총괄표(위원회)'!$C15) -> 0 | T15: =R15-S15 -> 0 | U15: =SUMIFS('1추일출'!J$6:J$103,'1추일출'!$A$6:$A$103,'1추총괄표(위원회)'!$A15,'1추일출'!$B$6:$B$103,'1추총괄표(위원회)'!$C15) -> 0 | V15: =SUMIFS('1추일출'!K$6:K$103,'1추일출'!$A$6:$A$103,'1추총괄표(위원회)'!$A15,'1추일출'!$B$6:$B$103,'1추총괄표(위원회)'!$C15) -> 0 | W15: =SUMIFS('1추일출'!L$6:L$103,'1추일출'!$A$6:$A$103,'1추총괄표(위원회)'!$A15,'1추일출'!$B$6:$B$103,'1추총괄표(위원회)'!$C15) -> 0 | X15: =SUMIFS('1추일출'!V$6:V$103,'1추일출'!$A$6:$A$103,'1추총괄표(위원회)'!$A15,'1추일출'!$B$6:$B$103,'1추총괄표(위원회)'!$C15) -> 0 | Y15: =SUMIFS('1추일출'!W$6:W$103,'1추일출'!$A$6:$A$103,'1추총괄표(위원회)'!$A15,'1추일출'!$B$6:$B$103,'1추총괄표(위원회)'!$C15) -> 0 | Z15: =SUMIFS('1추일출'!M$6:M$103,'1추일출'!$A$6:$A$103,'1추총괄표(위원회)'!$A15,'1추일출'!$B$6:$B$103,'1추총괄표(위원회)'!$C15) -> 0 | AA15: =SUMIFS('1추일출'!N$6:N$103,'1추일출'!$A$6:$A$103,'1추총괄표(위원회)'!$A15,'1추일출'!$B$6:$B$103,'1추총괄표(위원회)'!$C15) -> 0 | AB15: =SUMIFS('1추일출'!O$6:O$103,'1추일출'!$A$6:$A$103,'1추총괄표(위원회)'!$A15,'1추일출'!$B$6:$B$103,'1추총괄표(위원회)'!$C15) -> 0 | AC15: =SUMIFS('1추일출'!AA$6:AA$103,'1추일출'!$A$6:$A$103,'1추총괄표(위원회)'!$A15,'1추일출'!$B$6:$B$103,'1추총괄표(위원회)'!C$9) -> 0 | AD15: =SUMIFS('1추일출'!AB$6:AB$103,'1추일출'!$A$6:$A$103,'1추총괄표(위원회)'!$A15,'1추일출'!$B$6:$B$103,'1추총괄표(위원회)'!D$9) -> 0 | AF15: =IF(J15=X15,"OK","@@") -> OK | AG15: =J15-X15 -> 0 | AH15: =IF(O15=AC15,"OK","@@") -> OK | AI15: =O15-AC15 -> 0
A16: 기획재정위원회 | C16: 기획조정실 | D16: =SUMIFS('1추일입'!G$6:G$9,'1추일입'!$A$6:$A$9,'1추총괄표(위원회)'!$A16,'1추일입'!$B$6:$B$9,'1추총괄표(위원회)'!$C16) -> 0 | E16: =SUMIFS('1추일입'!H$6:H$9,'1추일입'!$A$6:$A$9,'1추총괄표(위원회)'!$A16,'1추일입'!$B$6:$B$9,'1추총괄표(위원회)'!$C16) -> 0 | F16: =D16-E16 -> 0 | G16: =SUMIFS('1추일입'!J$6:J$9,'1추일입'!$A$6:$A$9,'1추총괄표(위원회)'!$A16,'1추일입'!$B$6:$B$9,'1추총괄표(위원회)'!$C16) -> 0 | H16: =SUMIFS('1추일입'!K$6:K$9,'1추일입'!$A$6:$A$9,'1추총괄표(위원회)'!$A16,'1추일입'!$B$6:$B$9,'1추총괄표(위원회)'!$C16) -> 0 | I16: =SUMIFS('1추일입'!L$6:L$9,'1추일입'!$A$6:$A$9,'1추총괄표(위원회)'!$A16,'1추일입'!$B$6:$B$9,'1추총괄표(위원회)'!$C16) -> 0 | J16: =SUMIFS('1추일입'!V$6:V$9,'1추일입'!$A$6:$A$9,'1추총괄표(위원회)'!$A16,'1추일입'!$B$6:$B$9,'1추총괄표(위원회)'!$C16) -> 0 | K16: =SUMIFS('1추일입'!W$6:W$9,'1추일입'!$A$6:$A$9,'1추총괄표(위원회)'!$A16,'1추일입'!$B$6:$B$9,'1추총괄표(위원회)'!$C16) -> 0 | L16: =SUMIFS('1추일입'!M$6:M$9,'1추일입'!$A$6:$A$9,'1추총괄표(위원회)'!$A16,'1추일입'!$B$6:$B$9,'1추총괄표(위원회)'!$C16) -> 0 | M16: =SUMIFS('1추일입'!N$6:N$9,'1추일입'!$A$6:$A$9,'1추총괄표(위원회)'!$A16,'1추일입'!$B$6:$B$9,'1추총괄표(위원회)'!$C16) -> 0 | N16: =SUMIFS('1추일입'!O$6:O$9,'1추일입'!$A$6:$A$9,'1추총괄표(위원회)'!$A16,'1추일입'!$B$6:$B$9,'1추총괄표(위원회)'!$C16) -> 0 | O16: =SUMIFS('1추일입'!AA$6:AA$9,'1추일입'!$A$6:$A$9,'1추총괄표(위원회)'!$A16,'1추일입'!$B$6:$B$9,'1추총괄표(위원회)'!$C16) -> 0 | P16: =SUMIFS('1추일입'!AB$6:AB$9,'1추일입'!$A$6:$A$9,'1추총괄표(위원회)'!$A16,'1추일입'!$B$6:$B$9,'1추총괄표(위원회)'!$C16) -> 0 | R16: =SUMIFS('1추일출'!G$6:G$103,'1추일출'!$A$6:$A$103,'1추총괄표(위원회)'!$A16,'1추일출'!$B$6:$B$103,'1추총괄표(위원회)'!$C16) -> 0 | S16: =SUMIFS('1추일출'!H$6:H$103,'1추일출'!$A$6:$A$103,'1추총괄표(위원회)'!$A16,'1추일출'!$B$6:$B$103,'1추총괄표(위원회)'!$C16) -> 0 | T16: =R16-S16 -> 0 | U16: =SUMIFS('1추일출'!J$6:J$103,'1추일출'!$A$6:$A$103,'1추총괄표(위원회)'!$A16,'1추일출'!$B$6:$B$103,'1추총괄표(위원회)'!$C16) -> 0 | V16: =SUMIFS('1추일출'!K$6:K$103,'1추일출'!$A$6:$A$103,'1추총괄표(위원회)'!$A16,'1추일출'!$B$6:$B$103,'1추총괄표(위원회)'!$C16) -> 0 | W16: =SUMIFS('1추일출'!L$6:L$103,'1추일출'!$A$6:$A$103,'1추총괄표(위원회)'!$A16,'1추일출'!$B$6:$B$103,'1추총괄표(위원회)'!$C16) -> 0 | X16: =SUMIFS('1추일출'!V$6:V$103,'1추일출'!$A$6:$A$103,'1추총괄표(위원회)'!$A16,'1추일출'!$B$6:$B$103,'1추총괄표(위원회)'!$C16) -> 0 | Y16: =SUMIFS('1추일출'!W$6:W$103,'1추일출'!$A$6:$A$103,'1추총괄표(위원회)'!$A16,'1추일출'!$B$6:$B$103,'1추총괄표(위원회)'!$C16) -> 0 | Z16: =SUMIFS('1추일출'!M$6:M$103,'1추일출'!$A$6:$A$103,'1추총괄표(위원회)'!$A16,'1추일출'!$B$6:$B$103,'1추총괄표(위원회)'!$C16) -> 0 | AA16: =SUMIFS('1추일출'!N$6:N$103,'1추일출'!$A$6:$A$103,'1추총괄표(위원회)'!$A16,'1추일출'!$B$6:$B$103,'1추총괄표(위원회)'!$C16) -> 0 | AB16: =SUMIFS('1추일출'!O$6:O$103,'1추일출'!$A$6:$A$103,'1추총괄표(위원회)'!$A16,'1추일출'!$B$6:$B$103,'1추총괄표(위원회)'!$C16) -> 0 | AC16: =SUMIFS('1추일출'!AA$6:AA$103,'1추일출'!$A$6:$A$103,'1추총괄표(위원회)'!$A16,'1추일출'!$B$6:$B$103,'1추총괄표(위원회)'!C$9) -> 0 | AD16: =SUMIFS('1추일출'!AB$6:AB$103,'1추일출'!$A$6:$A$103,'1추총괄표(위원회)'!$A16,'1추일출'!$B$6:$B$103,'1추총괄표(위원회)'!D$9) -> 0 | AF16: =IF(J16=X16,"OK","@@") -> OK | AG16: =J16-X16 -> 0 | AH16: =IF(O16=AC16,"OK","@@") -> OK | AI16: =O16-AC16 -> 0
A17: 기획재정위원회 | C17: 균형발전기획실 | D17: =SUMIFS('1추일입'!G$6:G$9,'1추일입'!$A$6:$A$9,'1추총괄표(위원회)'!$A17,'1추일입'!$B$6:$B$9,'1추총괄표(위원회)'!$C17) -> 0 | E17: =SUMIFS('1추일입'!H$6:H$9,'1추일입'!$A$6:$A$9,'1추총괄표(위원회)'!$A17,'1추일입'!$B$6:$B$9,'1추총괄표(위원회)'!$C17) -> 0 | F17: =D17-E17 -> 0 | G17: =SUMIFS('1추일입'!J$6:J$9,'1추일입'!$A$6:$A$9,'1추총괄표(위원회)'!$A17,'1추일입'!$B$6:$B$9,'1추총괄표(위원회)'!$C17) -> 0 | H17: =SUMIFS('1추일입'!K$6:K$9,'1추일입'!$A$6:$A$9,'1추총괄표(위원회)'!$A17,'1추일입'!$B$6:$B$9,'1추총괄표(위원회)'!$C17) -> 0 | I17: =SUMIFS('1추일입'!L$6:L$9,'1추일입'!$A$6:$A$9,'1추총괄표(위원회)'!$A17,'1추일입'!$B$6:$B$9,'1추총괄표(위원회)'!$C17) -> 0 | J17: =SUMIFS('1추일입'!V$6:V$9,'1추일입'!$A$6:$A$9,'1추총괄표(위원회)'!$A17,'1추일입'!$B$6:$B$9,'1추총괄표(위원회)'!$C17) -> 0 | K17: =SUMIFS('1추일입'!W$6:W$9,'1추일입'!$A$6:$A$9,'1추총괄표(위원회)'!$A17,'1추일입'!$B$6:$B$9,'1추총괄표(위원회)'!$C17) -> 0 | L17: =SUMIFS('1추일입'!M$6:M$9,'1추일입'!$A$6:$A$9,'1추총괄표(위원회)'!$A17,'1추일입'!$B$6:$B$9,'1추총괄표(위원회)'!$C17) -> 0 | M17: =SUMIFS('1추일입'!N$6:N$9,'1추일입'!$A$6:$A$9,'1추총괄표(위원회)'!$A17,'1추일입'!$B$6:$B$9,'1추총괄표(위원회)'!$C17) -> 0 | N17: =SUMIFS('1추일입'!O$6:O$9,'1추일입'!$A$6:$A$9,'1추총괄표(위원회)'!$A17,'1추일입'!$B$6:$B$9,'1추총괄표(위원회)'!$C17) -> 0 | O17: =SUMIFS('1추일입'!AA$6:AA$9,'1추일입'!$A$6:$A$9,'1추총괄표(위원회)'!$A17,'1추일입'!$B$6:$B$9,'1추총괄표(위원회)'!$C17) -> 0 | P17: =SUMIFS('1추일입'!AB$6:AB$9,'1추일입'!$A$6:$A$9,'1추총괄표(위원회)'!$A17,'1추일입'!$B$6:$B$9,'1추총괄표(위원회)'!$C17) -> 0 | R17: =SUMIFS('1추일출'!G$6:G$103,'1추일출'!$A$6:$A$103,'1추총괄표(위원회)'!$A17,'1추일출'!$B$6:$B$103,'1추총괄표(위원회)'!$C17) -> 0 | S17: =SUMIFS('1추일출'!H$6:H$103,'1추일출'!$A$6:$A$103,'1추총괄표(위원회)'!$A17,'1추일출'!$B$6:$B$103,'1추총괄표(위원회)'!$C17) -> 0 | T17: =R17-S17 -> 0 | U17: =SUMIFS('1추일출'!J$6:J$103,'1추일출'!$A$6:$A$103,'1추총괄표(위원회)'!$A17,'1추일출'!$B$6:$B$103,'1추총괄표(위원회)'!$C17) -> 0 | V17: =SUMIFS('1추일출'!K$6:K$103,'1추일출'!$A$6:$A$103,'1추총괄표(위원회)'!$A17,'1추일출'!$B$6:$B$103,'1추총괄표(위원회)'!$C17) -> 0 | W17: =SUMIFS('1추일출'!L$6:L$103,'1추일출'!$A$6:$A$103,'1추총괄표(위원회)'!$A17,'1추일출'!$B$6:$B$103,'1추총괄표(위원회)'!$C17) -> 0 | X17: =SUMIFS('1추일출'!V$6:V$103,'1추일출'!$A$6:$A$103,'1추총괄표(위원회)'!$A17,'1추일출'!$B$6:$B$103,'1추총괄표(위원회)'!$C17) -> 0 | Y17: =SUMIFS('1추일출'!W$6:W$103,'1추일출'!$A$6:$A$103,'1추총괄표(위원회)'!$A17,'1추일출'!$B$6:$B$103,'1추총괄표(위원회)'!$C17) -> 0 | Z17: =SUMIFS('1추일출'!M$6:M$103,'1추일출'!$A$6:$A$103,'1추총괄표(위원회)'!$A17,'1추일출'!$B$6:$B$103,'1추총괄표(위원회)'!$C17) -> 0 | AA17: =SUMIFS('1추일출'!N$6:N$103,'1추일출'!$A$6:$A$103,'1추총괄표(위원회)'!$A17,'1추일출'!$B$6:$B$103,'1추총괄표(위원회)'!$C17) -> 0 | AB17: =SUMIFS('1추일출'!O$6:O$103,'1추일출'!$A$6:$A$103,'1추총괄표(위원회)'!$A17,'1추일출'!$B$6:$B$103,'1추총괄표(위원회)'!$C17) -> 0 | AC17: =SUMIFS('1추일출'!AA$6:AA$103,'1추일출'!$A$6:$A$103,'1추총괄표(위원회)'!$A17,'1추일출'!$B$6:$B$103,'1추총괄표(위원회)'!C$9) -> 0 | AD17: =SUMIFS('1추일출'!AB$6:AB$103,'1추일출'!$A$6:$A$103,'1추총괄표(위원회)'!$A17,'1추일출'!$B$6:$B$103,'1추총괄표(위원회)'!D$9) -> 0 | AF17: =IF(J17=X17,"OK","@@") -> OK | AG17: =J17-X17 -> 0 | AH17: =IF(O17=AC17,"OK","@@") -> OK | AI17: =O17-AC17 -> 0
A18: 기획재정위원회 | C18: 따복공동체지원단 | D18: =SUMIFS('1추일입'!G$6:G$9,'1추일입'!$A$6:$A$9,'1추총괄표(위원회)'!$A18,'1추일입'!$B$6:$B$9,'1추총괄표(위원회)'!$C18) -> 0 | E18: =SUMIFS('1추일입'!H$6:H$9,'1추일입'!$A$6:$A$9,'1추총괄표(위원회)'!$A18,'1추일입'!$B$6:$B$9,'1추총괄표(위원회)'!$C18) -> 0 | F18: =D18-E18 -> 0 | G18: =SUMIFS('1추일입'!J$6:J$9,'1추일입'!$A$6:$A$9,'1추총괄표(위원회)'!$A18,'1추일입'!$B$6:$B$9,'1추총괄표(위원회)'!$C18) -> 0 | H18: =SUMIFS('1추일입'!K$6:K$9,'1추일입'!$A$6:$A$9,'1추총괄표(위원회)'!$A18,'1추일입'!$B$6:$B$9,'1추총괄표(위원회)'!$C18) -> 0 | I18: =SUMIFS('1추일입'!L$6:L$9,'1추일입'!$A$6:$A$9,'1추총괄표(위원회)'!$A18,'1추일입'!$B$6:$B$9,'1추총괄표(위원회)'!$C18) -> 0 | J18: =SUMIFS('1추일입'!V$6:V$9,'1추일입'!$A$6:$A$9,'1추총괄표(위원회)'!$A18,'1추일입'!$B$6:$B$9,'1추총괄표(위원회)'!$C18) -> 0 | K18: =SUMIFS('1추일입'!W$6:W$9,'1추일입'!$A$6:$A$9,'1추총괄표(위원회)'!$A18,'1추일입'!$B$6:$B$9,'1추총괄표(위원회)'!$C18) -> 0 | L18: =SUMIFS('1추일입'!M$6:M$9,'1추일입'!$A$6:$A$9,'1추총괄표(위원회)'!$A18,'1추일입'!$B$6:$B$9,'1추총괄표(위원회)'!$C18) -> 0 | M18: =SUMIFS('1추일입'!N$6:N$9,'1추일입'!$A$6:$A$9,'1추총괄표(위원회)'!$A18,'1추일입'!$B$6:$B$9,'1추총괄표(위원회)'!$C18) -> 0 | N18: =SUMIFS('1추일입'!O$6:O$9,'1추일입'!$A$6:$A$9,'1추총괄표(위원회)'!$A18,'1추일입'!$B$6:$B$9,'1추총괄표(위원회)'!$C18) -> 0 | O18: =SUMIFS('1추일입'!AA$6:AA$9,'1추일입'!$A$6:$A$9,'1추총괄표(위원회)'!$A18,'1추일입'!$B$6:$B$9,'1추총괄표(위원회)'!$C18) -> 0 | P18: =SUMIFS('1추일입'!AB$6:AB$9,'1추일입'!$A$6:$A$9,'1추총괄표(위원회)'!$A18,'1추일입'!$B$6:$B$9,'1추총괄표(위원회)'!$C18) -> 0 | R18: =SUMIFS('1추일출'!G$6:G$103,'1추일출'!$A$6:$A$103,'1추총괄표(위원회)'!$A18,'1추일출'!$B$6:$B$103,'1추총괄표(위원회)'!$C18) -> 0 | S18: =SUMIFS('1추일출'!H$6:H$103,'1추일출'!$A$6:$A$103,'1추총괄표(위원회)'!$A18,'1추일출'!$B$6:$B$103,'1추총괄표(위원회)'!$C18) -> 0 | T18: =R18-S18 -> 0 | U18: =SUMIFS('1추일출'!J$6:J$103,'1추일출'!$A$6:$A$103,'1추총괄표(위원회)'!$A18,'1추일출'!$B$6:$B$103,'1추총괄표(위원회)'!$C18) -> 0 | V18: =SUMIFS('1추일출'!K$6:K$103,'1추일출'!$A$6:$A$103,'1추총괄표(위원회)'!$A18,'1추일출'!$B$6:$B$103,'1추총괄표(위원회)'!$C18) -> 0 | W18: =SUMIFS('1추일출'!L$6:L$103,'1추일출'!$A$6:$A$103,'1추총괄표(위원회)'!$A18,'1추일출'!$B$6:$B$103,'1추총괄표(위원회)'!$C18) -> 0 | X18: =SUMIFS('1추일출'!V$6:V$103,'1추일출'!$A$6:$A$103,'1추총괄표(위원회)'!$A18,'1추일출'!$B$6:$B$103,'1추총괄표(위원회)'!$C18) -> 0 | Y18: =SUMIFS('1추일출'!W$6:W$103,'1추일출'!$A$6:$A$103,'1추총괄표(위원회)'!$A18,'1추일출'!$B$6:$B$103,'1추총괄표(위원회)'!$C18) -> 0 | Z18: =SUMIFS('1추일출'!M$6:M$103,'1추일출'!$A$6:$A$103,'1추총괄표(위원회)'!$A18,'1추일출'!$B$6:$B$103,'1추총괄표(위원회)'!$C18) -> 0 | AA18: =SUMIFS('1추일출'!N$6:N$103,'1추일출'!$A$6:$A$103,'1추총괄표(위원회)'!$A18,'1추일출'!$B$6:$B$103,'1추총괄표(위원회)'!$C18) -> 0 | AB18: =SUMIFS('1추일출'!O$6:O$103,'1추일출'!$A$6:$A$103,'1추총괄표(위원회)'!$A18,'1추일출'!$B$6:$B$103,'1추총괄표(위원회)'!$C18) -> 0 | AC18: =SUMIFS('1추일출'!AA$6:AA$103,'1추일출'!$A$6:$A$103,'1추총괄표(위원회)'!$A18,'1추일출'!$B$6:$B$103,'1추총괄표(위원회)'!C$9) -> 0 | AD18: =SUMIFS('1추일출'!AB$6:AB$103,'1추일출'!$A$6:$A$103,'1추총괄표(위원회)'!$A18,'1추일출'!$B$6:$B$103,'1추총괄표(위원회)'!D$9) -> 0 | AF18: =IF(J18=X18,"OK","@@") -> OK | AG18: =J18-X18 -> 0 | AH18: =IF(O18=AC18,"OK","@@") -> OK | AI18: =O18-AC18 -> 0
B19: 경제과학기술위원회 | D19: =SUM(D20:D22) -> 0 | E19: =SUM(E20:E22) -> 0 | F19: =SUM(F20:F22) -> 0 | G19: =SUM(G20:G22) -> 0 | H19: =SUM(H20:H22) -> 0 | I19: =SUM(I20:I22) -> 0 | J19: =SUM(J20:J22) -> 0 | K19: =SUM(K20:K22) -> 0 | ... P19: =SUM(P20:P22) -> 0 | R19: =SUM(R20:R22) -> 0 | S19: =SUM(S20:S22) -> 0 | T19: =SUM(T20:T22) -> 0 | U19: =SUM(U20:U22) -> 0 | V19: =SUM(V20:V22) -> 0 | W19: =SUM(W20:W22) -> 0 | X19: =SUM(X20:X22) -> 0 | Y19: =SUM(Y20:Y22) -> 0 | ... AD19: =SUM(AD20:AD22) -> 0 | AF19: =IF(J19=X19,"OK","@@") -> OK | AG19: =J19-X19 -> 0 | AH19: =IF(O19=AC19,"OK","@@") -> OK | AI19: =O19-AC19 -> 0
A20: 경제과학기술위원회 | C20: 경제실 | D20: =SUMIFS('1추일입'!G$6:G$9,'1추일입'!$A$6:$A$9,'1추총괄표(위원회)'!$A20,'1추일입'!$B$6:$B$9,'1추총괄표(위원회)'!$C20) -> 0 | E20: =SUMIFS('1추일입'!H$6:H$9,'1추일입'!$A$6:$A$9,'1추총괄표(위원회)'!$A20,'1추일입'!$B$6:$B$9,'1추총괄표(위원회)'!$C20) -> 0 | F20: =D20-E20 -> 0 | G20: =SUMIFS('1추일입'!J$6:J$9,'1추일입'!$A$6:$A$9,'1추총괄표(위원회)'!$A20,'1추일입'!$B$6:$B$9,'1추총괄표(위원회)'!$C20) -> 0 | H20: =SUMIFS('1추일입'!K$6:K$9,'1추일입'!$A$6:$A$9,'1추총괄표(위원회)'!$A20,'1추일입'!$B$6:$B$9,'1추총괄표(위원회)'!$C20) -> 0 | I20: =SUMIFS('1추일입'!L$6:L$9,'1추일입'!$A$6:$A$9,'1추총괄표(위원회)'!$A20,'1추일입'!$B$6:$B$9,'1추총괄표(위원회)'!$C20) -> 0 | J20: =SUMIFS('1추일입'!V$6:V$9,'1추일입'!$A$6:$A$9,'1추총괄표(위원회)'!$A20,'1추일입'!$B$6:$B$9,'1추총괄표(위원회)'!$C20) -> 0 | K20: =SUMIFS('1추일입'!W$6:W$9,'1추일입'!$A$6:$A$9,'1추총괄표(위원회)'!$A20,'1추일입'!$B$6:$B$9,'1추총괄표(위원회)'!$C20) -> 0 | L20: =SUMIFS('1추일입'!M$6:M$9,'1추일입'!$A$6:$A$9,'1추총괄표(위원회)'!$A20,'1추일입'!$B$6:$B$9,'1추총괄표(위원회)'!$C20) -> 0 | M20: =SUMIFS('1추일입'!N$6:N$9,'1추일입'!$A$6:$A$9,'1추총괄표(위원회)'!$A20,'1추일입'!$B$6:$B$9,'1추총괄표(위원회)'!$C20) -> 0 | N20: =SUMIFS('1추일입'!O$6:O$9,'1추일입'!$A$6:$A$9,'1추총괄표(위원회)'!$A20,'1추일입'!$B$6:$B$9,'1추총괄표(위원회)'!$C20) -> 0 | O20: =SUMIFS('1추일입'!AA$6:AA$9,'1추일입'!$A$6:$A$9,'1추총괄표(위원회)'!$A20,'1추일입'!$B$6:$B$9,'1추총괄표(위원회)'!$C20) -> 0 | P20: =SUMIFS('1추일입'!AB$6:AB$9,'1추일입'!$A$6:$A$9,'1추총괄표(위원회)'!$A20,'1추일입'!$B$6:$B$9,'1추총괄표(위원회)'!$C20) -> 0 | R20: =SUMIFS('1추일출'!G$6:G$103,'1추일출'!$A$6:$A$103,'1추총괄표(위원회)'!$A20,'1추일출'!$B$6:$B$103,'1추총괄표(위원회)'!$C20) -> 0 | S20: =SUMIFS('1추일출'!H$6:H$103,'1추일출'!$A$6:$A$103,'1추총괄표(위원회)'!$A20,'1추일출'!$B$6:$B$103,'1추총괄표(위원회)'!$C20) -> 0 | T20: =R20-S20 -> 0 | U20: =SUMIFS('1추일출'!J$6:J$103,'1추일출'!$A$6:$A$103,'1추총괄표(위원회)'!$A20,'1추일출'!$B$6:$B$103,'1추총괄표(위원회)'!$C20) -> 0 | V20: =SUMIFS('1추일출'!K$6:K$103,'1추일출'!$A$6:$A$103,'1추총괄표(위원회)'!$A20,'1추일출'!$B$6:$B$103,'1추총괄표(위원회)'!$C20) -> 0 | W20: =SUMIFS('1추일출'!L$6:L$103,'1추일출'!$A$6:$A$103,'1추총괄표(위원회)'!$A20,'1추일출'!$B$6:$B$103,'1추총괄표(위원회)'!$C20) -> 0 | X20: =SUMIFS('1추일출'!V$6:V$103,'1추일출'!$A$6:$A$103,'1추총괄표(위원회)'!$A20,'1추일출'!$B$6:$B$103,'1추총괄표(위원회)'!$C20) -> 0 | Y20: =SUMIFS('1추일출'!W$6:W$103,'1추일출'!$A$6:$A$103,'1추총괄표(위원회)'!$A20,'1추일출'!$B$6:$B$103,'1추총괄표(위원회)'!$C20) -> 0 | Z20: =SUMIFS('1추일출'!M$6:M$103,'1추일출'!$A$6:$A$103,'1추총괄표(위원회)'!$A20,'1추일출'!$B$6:$B$103,'1추총괄표(위원회)'!$C20) -> 0 | AA20: =SUMIFS('1추일출'!N$6:N$103,'1추일출'!$A$6:$A$103,'1추총괄표(위원회)'!$A20,'1추일출'!$B$6:$B$103,'1추총괄표(위원회)'!$C20) -> 0 | AB20: =SUMIFS('1추일출'!O$6:O$103,'1추일출'!$A$6:$A$103,'1추총괄표(위원회)'!$A20,'1추일출'!$B$6:$B$103,'1추총괄표(위원회)'!$C20) -> 0 | AC20: =SUMIFS('1추일출'!AA$6:AA$103,'1추일출'!$A$6:$A$103,'1추총괄표(위원회)'!$A20,'1추일출'!$B$6:$B$103,'1추총괄표(위원회)'!C$9) -> 0 | AD20: =SUMIFS('1추일출'!AB$6:AB$103,'1추일출'!$A$6:$A$103,'1추총괄표(위원회)'!$A20,'1추일출'!$B$6:$B$103,'1추총괄표(위원회)'!D$9) -> 0 | AF20: =IF(J20=X20,"OK","@@") -> OK | AG20: =J20-X20 -> 0 | AH20: =IF(O20=AC20,"OK","@@") -> OK | AI20: =O20-AC20 -> 0
A21: 경제과학기술위원회 | C21: 황해경제자유구역청 | D21: =SUMIFS('1추일입'!G$6:G$9,'1추일입'!$A$6:$A$9,'1추총괄표(위원회)'!$A21,'1추일입'!$B$6:$B$9,'1추총괄표(위원회)'!$C21) -> 0 | E21: =SUMIFS('1추일입'!H$6:H$9,'1추일입'!$A$6:$A$9,'1추총괄표(위원회)'!$A21,'1추일입'!$B$6:$B$9,'1추총괄표(위원회)'!$C21) -> 0 | F21: =D21-E21 -> 0 | G21: =SUMIFS('1추일입'!J$6:J$9,'1추일입'!$A$6:$A$9,'1추총괄표(위원회)'!$A21,'1추일입'!$B$6:$B$9,'1추총괄표(위원회)'!$C21) -> 0 | H21: =SUMIFS('1추일입'!K$6:K$9,'1추일입'!$A$6:$A$9,'1추총괄표(위원회)'!$A21,'1추일입'!$B$6:$B$9,'1추총괄표(위원회)'!$C21) -> 0 | I21: =SUMIFS('1추일입'!L$6:L$9,'1추일입'!$A$6:$A$9,'1추총괄표(위원회)'!$A21,'1추일입'!$B$6:$B$9,'1추총괄표(위원회)'!$C21) -> 0 | J21: =SUMIFS('1추일입'!V$6:V$9,'1추일입'!$A$6:$A$9,'1추총괄표(위원회)'!$A21,'1추일입'!$B$6:$B$9,'1추총괄표(위원회)'!$C21) -> 0 | K21: =SUMIFS('1추일입'!W$6:W$9,'1추일입'!$A$6:$A$9,'1추총괄표(위원회)'!$A21,'1추일입'!$B$6:$B$9,'1추총괄표(위원회)'!$C21) -> 0 | L21: =SUMIFS('1추일입'!M$6:M$9,'1추일입'!$A$6:$A$9,'1추총괄표(위원회)'!$A21,'1추일입'!$B$6:$B$9,'1추총괄표(위원회)'!$C21) -> 0 | M21: =SUMIFS('1추일입'!N$6:N$9,'1추일입'!$A$6:$A$9,'1추총괄표(위원회)'!$A21,'1추일입'!$B$6:$B$9,'1추총괄표(위원회)'!$C21) -> 0 | N21: =SUMIFS('1추일입'!O$6:O$9,'1추일입'!$A$6:$A$9,'1추총괄표(위원회)'!$A21,'1추일입'!$B$6:$B$9,'1추총괄표(위원회)'!$C21) -> 0 | O21: =SUMIFS('1추일입'!AA$6:AA$9,'1추일입'!$A$6:$A$9,'1추총괄표(위원회)'!$A21,'1추일입'!$B$6:$B$9,'1추총괄표(위원회)'!$C21) -> 0 | P21: =SUMIFS('1추일입'!AB$6:AB$9,'1추일입'!$A$6:$A$9,'1추총괄표(위원회)'!$A21,'1추일입'!$B$6:$B$9,'1추총괄표(위원회)'!$C21) -> 0 | R21: =SUMIFS('1추일출'!G$6:G$103,'1추일출'!$A$6:$A$103,'1추총괄표(위원회)'!$A21,'1추일출'!$B$6:$B$103,'1추총괄표(위원회)'!$C21) -> 0 | S21: =SUMIFS('1추일출'!H$6:H$103,'1추일출'!$A$6:$A$103,'1추총괄표(위원회)'!$A21,'1추일출'!$B$6:$B$103,'1추총괄표(위원회)'!$C21) -> 0 | T21: =R21-S21 -> 0 | U21: =SUMIFS('1추일출'!J$6:J$103,'1추일출'!$A$6:$A$103,'1추총괄표(위원회)'!$A21,'1추일출'!$B$6:$B$103,'1추총괄표(위원회)'!$C21) -> 0 | V21: =SUMIFS('1추일출'!K$6:K$103,'1추일출'!$A$6:$A$103,'1추총괄표(위원회)'!$A21,'1추일출'!$B$6:$B$103,'1추총괄표(위원회)'!$C21) -> 0 | W21: =SUMIFS('1추일출'!L$6:L$103,'1추일출'!$A$6:$A$103,'1추총괄표(위원회)'!$A21,'1추일출'!$B$6:$B$103,'1추총괄표(위원회)'!$C21) -> 0 | X21: =SUMIFS('1추일출'!V$6:V$103,'1추일출'!$A$6:$A$103,'1추총괄표(위원회)'!$A21,'1추일출'!$B$6:$B$103,'1추총괄표(위원회)'!$C21) -> 0 | Y21: =SUMIFS('1추일출'!W$6:W$103,'1추일출'!$A$6:$A$103,'1추총괄표(위원회)'!$A21,'1추일출'!$B$6:$B$103,'1추총괄표(위원회)'!$C21) -> 0 | Z21: =SUMIFS('1추일출'!M$6:M$103,'1추일출'!$A$6:$A$103,'1추총괄표(위원회)'!$A21,'1추일출'!$B$6:$B$103,'1추총괄표(위원회)'!$C21) -> 0 | AA21: =SUMIFS('1추일출'!N$6:N$103,'1추일출'!$A$6:$A$103,'1추총괄표(위원회)'!$A21,'1추일출'!$B$6:$B$103,'1추총괄표(위원회)'!$C21) -> 0 | AB21: =SUMIFS('1추일출'!O$6:O$103,'1추일출'!$A$6:$A$103,'1추총괄표(위원회)'!$A21,'1추일출'!$B$6:$B$103,'1추총괄표(위원회)'!$C21) -> 0 | AC21: =SUMIFS('1추일출'!AA$6:AA$103,'1추일출'!$A$6:$A$103,'1추총괄표(위원회)'!$A21,'1추일출'!$B$6:$B$103,'1추총괄표(위원회)'!C$9) -> 0 | AD21: =SUMIFS('1추일출'!AB$6:AB$103,'1추일출'!$A$6:$A$103,'1추총괄표(위원회)'!$A21,'1추일출'!$B$6:$B$103,'1추총괄표(위원회)'!D$9) -> 0 | AF21: =IF(J21=X21,"OK","@@") -> OK | AG21: =J21-X21 -> 0 | AH21: =IF(O21=AC21,"OK","@@") -> OK | AI21: =O21-AC21 -> 0
A22: 경제과학기술위원회 | C22: 따복공동체지원단 | D22: =SUMIFS('1추일입'!G$6:G$9,'1추일입'!$A$6:$A$9,'1추총괄표(위원회)'!$A22,'1추일입'!$B$6:$B$9,'1추총괄표(위원회)'!$C22) -> 0 | E22: =SUMIFS('1추일입'!H$6:H$9,'1추일입'!$A$6:$A$9,'1추총괄표(위원회)'!$A22,'1추일입'!$B$6:$B$9,'1추총괄표(위원회)'!$C22) -> 0 | F22: =D22-E22 -> 0 | G22: =SUMIFS('1추일입'!J$6:J$9,'1추일입'!$A$6:$A$9,'1추총괄표(위원회)'!$A22,'1추일입'!$B$6:$B$9,'1추총괄표(위원회)'!$C22) -> 0 | H22: =SUMIFS('1추일입'!K$6:K$9,'1추일입'!$A$6:$A$9,'1추총괄표(위원회)'!$A22,'1추일입'!$B$6:$B$9,'1추총괄표(위원회)'!$C22) -> 0 | I22: =SUMIFS('1추일입'!L$6:L$9,'1추일입'!$A$6:$A$9,'1추총괄표(위원회)'!$A22,'1추일입'!$B$6:$B$9,'1추총괄표(위원회)'!$C22) -> 0 | J22: =SUMIFS('1추일입'!V$6:V$9,'1추일입'!$A$6:$A$9,'1추총괄표(위원회)'!$A22,'1추일입'!$B$6:$B$9,'1추총괄표(위원회)'!$C22) -> 0 | K22: =SUMIFS('1추일입'!W$6:W$9,'1추일입'!$A$6:$A$9,'1추총괄표(위원회)'!$A22,'1추일입'!$B$6:$B$9,'1추총괄표(위원회)'!$C22) -> 0 | L22: =SUMIFS('1추일입'!M$6:M$9,'1추일입'!$A$6:$A$9,'1추총괄표(위원회)'!$A22,'1추일입'!$B$6:$B$9,'1추총괄표(위원회)'!$C22) -> 0 | M22: =SUMIFS('1추일입'!N$6:N$9,'1추일입'!$A$6:$A$9,'1추총괄표(위원회)'!$A22,'1추일입'!$B$6:$B$9,'1추총괄표(위원회)'!$C22) -> 0 | N22: =SUMIFS('1추일입'!O$6:O$9,'1추일입'!$A$6:$A$9,'1추총괄표(위원회)'!$A22,'1추일입'!$B$6:$B$9,'1추총괄표(위원회)'!$C22) -> 0 | O22: =SUMIFS('1추일입'!AA$6:AA$9,'1추일입'!$A$6:$A$9,'1추총괄표(위원회)'!$A22,'1추일입'!$B$6:$B$9,'1추총괄표(위원회)'!$C22) -> 0 | P22: =SUMIFS('1추일입'!AB$6:AB$9,'1추일입'!$A$6:$A$9,'1추총괄표(위원회)'!$A22,'1추일입'!$B$6:$B$9,'1추총괄표(위원회)'!$C22) -> 0 | R22: =SUMIFS('1추일출'!G$6:G$103,'1추일출'!$A$6:$A$103,'1추총괄표(위원회)'!$A22,'1추일출'!$B$6:$B$103,'1추총괄표(위원회)'!$C22) -> 0 | S22: =SUMIFS('1추일출'!H$6:H$103,'1추일출'!$A$6:$A$103,'1추총괄표(위원회)'!$A22,'1추일출'!$B$6:$B$103,'1추총괄표(위원회)'!$C22) -> 0 | T22: =R22-S22 -> 0 | U22: =SUMIFS('1추일출'!J$6:J$103,'1추일출'!$A$6:$A$103,'1추총괄표(위원회)'!$A22,'1추일출'!$B$6:$B$103,'1추총괄표(위원회)'!$C22) -> 0 | V22: =SUMIFS('1추일출'!K$6:K$103,'1추일출'!$A$6:$A$103,'1추총괄표(위원회)'!$A22,'1추일출'!$B$6:$B$103,'1추총괄표(위원회)'!$C22) -> 0 | W22: =SUMIFS('1추일출'!L$6:L$103,'1추일출'!$A$6:$A$103,'1추총괄표(위원회)'!$A22,'1추일출'!$B$6:$B$103,'1추총괄표(위원회)'!$C22) -> 0 | X22: =SUMIFS('1추일출'!V$6:V$103,'1추일출'!$A$6:$A$103,'1추총괄표(위원회)'!$A22,'1추일출'!$B$6:$B$103,'1추총괄표(위원회)'!$C22) -> 0 | Y22: =SUMIFS('1추일출'!W$6:W$103,'1추일출'!$A$6:$A$103,'1추총괄표(위원회)'!$A22,'1추일출'!$B$6:$B$103,'1추총괄표(위원회)'!$C22) -> 0 | Z22: =SUMIFS('1추일출'!M$6:M$103,'1추일출'!$A$6:$A$103,'1추총괄표(위원회)'!$A22,'1추일출'!$B$6:$B$103,'1추총괄표(위원회)'!$C22) -> 0 | AA22: =SUMIFS('1추일출'!N$6:N$103,'1추일출'!$A$6:$A$103,'1추총괄표(위원회)'!$A22,'1추일출'!$B$6:$B$103,'1추총괄표(위원회)'!$C22) -> 0 | AB22: =SUMIFS('1추일출'!O$6:O$103,'1추일출'!$A$6:$A$103,'1추총괄표(위원회)'!$A22,'1추일출'!$B$6:$B$103,'1추총괄표(위원회)'!$C22) -> 0 | AC22: =SUMIFS('1추일출'!AA$6:AA$103,'1추일출'!$A$6:$A$103,'1추총괄표(위원회)'!$A22,'1추일출'!$B$6:$B$103,'1추총괄표(위원회)'!C$9) -> 0 | AD22: =SUMIFS('1추일출'!AB$6:AB$103,'1추일출'!$A$6:$A$103,'1추총괄표(위원회)'!$A22,'1추일출'!$B$6:$B$103,'1추총괄표(위원회)'!D$9) -> 0 | AF22: =IF(J22=X22,"OK","@@") -> OK | AG22: =J22-X22 -> 0 | AH22: =IF(O22=AC22,"OK","@@") -> OK | AI22: =O22-AC22 -> 0
B23: 안전행정위원회 | D23: =SUM(D24:D27) -> 0 | E23: =SUM(E24:E27) -> 0 | F23: =SUM(F24:F27) -> 0 | G23: =SUM(G24:G27) -> 0 | H23: =SUM(H24:H27) -> 0 | I23: =SUM(I24:I27) -> 0 | J23: =SUM(J24:J27) -> 0 | K23: =SUM(K24:K27) -> 0 | ... P23: =SUM(P24:P27) -> 0 | R23: =SUM(R24:R27) -> 0 | S23: =SUM(S24:S27) -> 0 | T23: =SUM(T24:T27) -> 0 | U23: =SUM(U24:U27) -> 0 | V23: =SUM(V24:V27) -> 0 | W23: =SUM(W24:W27) -> 0 | X23: =SUM(X24:X27) -> 0 | Y23: =SUM(Y24:Y27) -> 0 | ... AD23: =SUM(AD24:AD27) -> 0 | AF23: =IF(J23=X23,"OK","@@") -> OK | AG23: =J23-X23 -> 0 | AH23: =IF(O23=AC23,"OK","@@") -> OK | AI23: =O23-AC23 -> 0
A24: 안전행정위원회 | C24: 자치행정국 | D24: =SUMIFS('1추일입'!G$6:G$9,'1추일입'!$A$6:$A$9,'1추총괄표(위원회)'!$A24,'1추일입'!$B$6:$B$9,'1추총괄표(위원회)'!$C24) -> 0 | E24: =SUMIFS('1추일입'!H$6:H$9,'1추일입'!$A$6:$A$9,'1추총괄표(위원회)'!$A24,'1추일입'!$B$6:$B$9,'1추총괄표(위원회)'!$C24) -> 0 | F24: =D24-E24 -> 0 | G24: =SUMIFS('1추일입'!J$6:J$9,'1추일입'!$A$6:$A$9,'1추총괄표(위원회)'!$A24,'1추일입'!$B$6:$B$9,'1추총괄표(위원회)'!$C24) -> 0 | H24: =SUMIFS('1추일입'!K$6:K$9,'1추일입'!$A$6:$A$9,'1추총괄표(위원회)'!$A24,'1추일입'!$B$6:$B$9,'1추총괄표(위원회)'!$C24) -> 0 | I24: =SUMIFS('1추일입'!L$6:L$9,'1추일입'!$A$6:$A$9,'1추총괄표(위원회)'!$A24,'1추일입'!$B$6:$B$9,'1추총괄표(위원회)'!$C24) -> 0 | J24: =SUMIFS('1추일입'!V$6:V$9,'1추일입'!$A$6:$A$9,'1추총괄표(위원회)'!$A24,'1추일입'!$B$6:$B$9,'1추총괄표(위원회)'!$C24) -> 0 | K24: =SUMIFS('1추일입'!W$6:W$9,'1추일입'!$A$6:$A$9,'1추총괄표(위원회)'!$A24,'1추일입'!$B$6:$B$9,'1추총괄표(위원회)'!$C24) -> 0 | L24: =SUMIFS('1추일입'!M$6:M$9,'1추일입'!$A$6:$A$9,'1추총괄표(위원회)'!$A24,'1추일입'!$B$6:$B$9,'1추총괄표(위원회)'!$C24) -> 0 | M24: =SUMIFS('1추일입'!N$6:N$9,'1추일입'!$A$6:$A$9,'1추총괄표(위원회)'!$A24,'1추일입'!$B$6:$B$9,'1추총괄표(위원회)'!$C24) -> 0 | N24: =SUMIFS('1추일입'!O$6:O$9,'1추일입'!$A$6:$A$9,'1추총괄표(위원회)'!$A24,'1추일입'!$B$6:$B$9,'1추총괄표(위원회)'!$C24) -> 0 | O24: =SUMIFS('1추일입'!AA$6:AA$9,'1추일입'!$A$6:$A$9,'1추총괄표(위원회)'!$A24,'1추일입'!$B$6:$B$9,'1추총괄표(위원회)'!$C24) -> 0 | P24: =SUMIFS('1추일입'!AB$6:AB$9,'1추일입'!$A$6:$A$9,'1추총괄표(위원회)'!$A24,'1추일입'!$B$6:$B$9,'1추총괄표(위원회)'!$C24) -> 0 | R24: =SUMIFS('1추일출'!G$6:G$103,'1추일출'!$A$6:$A$103,'1추총괄표(위원회)'!$A24,'1추일출'!$B$6:$B$103,'1추총괄표(위원회)'!$C24) -> 0 | S24: =SUMIFS('1추일출'!H$6:H$103,'1추일출'!$A$6:$A$103,'1추총괄표(위원회)'!$A24,'1추일출'!$B$6:$B$103,'1추총괄표(위원회)'!$C24) -> 0 | T24: =R24-S24 -> 0 | U24: =SUMIFS('1추일출'!J$6:J$103,'1추일출'!$A$6:$A$103,'1추총괄표(위원회)'!$A24,'1추일출'!$B$6:$B$103,'1추총괄표(위원회)'!$C24) -> 0 | V24: =SUMIFS('1추일출'!K$6:K$103,'1추일출'!$A$6:$A$103,'1추총괄표(위원회)'!$A24,'1추일출'!$B$6:$B$103,'1추총괄표(위원회)'!$C24) -> 0 | W24: =SUMIFS('1추일출'!L$6:L$103,'1추일출'!$A$6:$A$103,'1추총괄표(위원회)'!$A24,'1추일출'!$B$6:$B$103,'1추총괄표(위원회)'!$C24) -> 0 | X24: =SUMIFS('1추일출'!V$6:V$103,'1추일출'!$A$6:$A$103,'1추총괄표(위원회)'!$A24,'1추일출'!$B$6:$B$103,'1추총괄표(위원회)'!$C24) -> 0 | Y24: =SUMIFS('1추일출'!W$6:W$103,'1추일출'!$A$6:$A$103,'1추총괄표(위원회)'!$A24,'1추일출'!$B$6:$B$103,'1추총괄표(위원회)'!$C24) -> 0 | Z24: =SUMIFS('1추일출'!M$6:M$103,'1추일출'!$A$6:$A$103,'1추총괄표(위원회)'!$A24,'1추일출'!$B$6:$B$103,'1추총괄표(위원회)'!$C24) -> 0 | AA24: =SUMIFS('1추일출'!N$6:N$103,'1추일출'!$A$6:$A$103,'1추총괄표(위원회)'!$A24,'1추일출'!$B$6:$B$103,'1추총괄표(위원회)'!$C24) -> 0 | AB24: =SUMIFS('1추일출'!O$6:O$103,'1추일출'!$A$6:$A$103,'1추총괄표(위원회)'!$A24,'1추일출'!$B$6:$B$103,'1추총괄표(위원회)'!$C24) -> 0 | AC24: =SUMIFS('1추일출'!AA$6:AA$103,'1추일출'!$A$6:$A$103,'1추총괄표(위원회)'!$A24,'1추일출'!$B$6:$B$103,'1추총괄표(위원회)'!C$9) -> 0 | AD24: =SUMIFS('1추일출'!AB$6:AB$103,'1추일출'!$A$6:$A$103,'1추총괄표(위원회)'!$A24,'1추일출'!$B$6:$B$103,'1추총괄표(위원회)'!D$9) -> 0 | AF24: =IF(J24=X24,"OK","@@") -> OK | AG24: =J24-X24 -> 0 | AH24: =IF(O24=AC24,"OK","@@") -> OK | AI24: =O24-AC24 -> 0
