Workbook

Sheet 구분표
A2: 실과명 조정 | B2: 위원회명 조정 | C2: 실국명 조정 | E2: 실국명 | F2: 실과명 | G2: 위원회명 | H2: 정렬순서 | I2: 정렬코드
A3: 공보담당관 | B3: 의회운영위원회 | C3: 의회사무처 | E3: 의회사무처 | F3: 공보담당관 | G3: 의회운영위원회 | H3: 1 | I3: 0101
A4: 총무담당관 | B4: 의회운영위원회 | C4: 의회사무처 | E4: 의회사무처 | F4: 총무담당관 | G4: 의회운영위원회 | H4: 2 | I4: 0102
A5: 의정담당관 | B5: 의회운영위원회 | C5: 의회사무처 | E5: 의회사무처 | F5: 의정담당관 | G5: 의회운영위원회 | H5: 3 | I5: 0103
A6: 입법정책담당관 | B6: 의회운영위원회 | C6: 의회사무처 | E6: 의회사무처 | F6: 입법정책담당관 | G6: 의회운영위원회 | H6: 4 | I6: 0104
A7: 예산정책담당관 | B7: 의회운영위원회 | C7: 의회사무처 | E7: 의회사무처 | F7: 예산정책담당관 | G7: 의회운영위원회 | H7: 5 | I7: 0105
A8: 언론협력담당관 | B8: 의회운영위원회 | C8: 대변인 | E8: 대변인 | F8: 언론협력담당관 | G8: 의회운영위원회 | H8: 6 | I8: 0106
A9: 보도기획담당관 | B9: 의회운영위원회 | C9: 대변인 | E9: 대변인 | F9: 보도기획담당관 | G9: 의회운영위원회 | H9: 7 | I9: 0107
A10: 홍보담당관 | B10: 의회운영위원회 | C10: 소통기획관 | E10: 소통기획관 | F10: 홍보담당관 | G10: 의회운영위원회 | H10: 8 | I10: 0108
A11: 소통담당관 | B11: 의회운영위원회 | C11: 소통기획관 | E11: 소통기획관 | F11: 소통담당관 | G11: 의회운영위원회 | H11: 9 | I11: 0109
A12: 연정협력관 | B12: 의회운영위원회 | C12: 연정협력관 | E12: 연정협력관 | F12: 연정협력관 | G12: 의회운영위원회 | H12: 10 | I12: 0110
A13: 대외협력담당관 | B13: 의회운영위원회 | C13: 대외협력담당관 | E13: 대외협력담당관 | F13: 대외협력담당관 | G13: 의회운영위원회 | H13: 11 | I13: 0111
... A202: 도서관정책과 | B202: 여성가족교육협력위원회 | C202: 교육협력국 | E202: 교육협력국 | F202: 도서관정책과 | G202: 여성가족교육협력위원회 | H202: 200 | I202: 1012

Sheet 예결표지(세로)
A5: 2015년도 제1회 일반회계 및 특별회계 추가경정 세입·세출 예산안
A7: 예결위 계수조정 결과
A20: 예산결산특별위원회

Sheet 예결표지(가로)
A3: 2015년도 제1회 일반회계 및 특별회계 추가경정 세입·세출 예산안
A5: 예결위 계수조정 결과
A14: 예산결산특별위원회

Sheet 1추검증
A1: 1회 추경 일반회계 검증 | H1: 1추 예비비 | J1: 조정액 | K1: =IFERROR(INDEX('1추일출'!AB6:AB103,MATCH("*예비비*",'1추일출'!F6:F103,0)),0) -> 0 | L1: 조정잔액 | M1: =I1+K1 -> 0
M2: (단위 : 천원)
A3: 구분 | B3: 상 임 위 | H3: 구분 | I3: 예 결 위
B4: 세입 | C4: 검증 | D4: 세출 | E4: 검증 | F4: 차액 | I4: 세입 | J4: 검증 | K4: 세출 | L4: 검증 | M4: 차액
A5: 전체 총계 | B5: =SUM(B6:B13)/2 -> 0 | C5: =IF(B5=SUM('1추일입'!J6:K6),"OK","@@") -> @@ | D5: =SUM(D6:D13)/2 -> 611184 | E5: =IF(D5=SUM('1추일출'!J6:K6),"OK","@@") -> @@ | H5: 전체 총계 | I5: =SUM(I6:I13)/2 -> 0 | J5: =IF(I5=SUM('1추일입'!M6:N6),"OK","@@") -> OK | K5: =SUM(K6:K13)/2 -> 0 | L5: =IF(K5=SUM('1추일출'!M6:N6),"OK","@@") -> OK
A6: 자체 계 | B6: =SUM(B7:B8) -> 0 | C6: =IF(B6='1추일입'!W6,"OK","@@") -> OK | D6: =SUM(D7:D8) -> 47896 | E6: =IF(D6='1추일출'!W6,"OK","@@") -> OK | H6: 자체 계 | I6: =SUM(I7:I8) -> 0 | J6: =IF(I6='1추일입'!AB6,"OK","@@") -> OK | K6: =SUM(K7:K8) -> 0 | L6: =IF(K6='1추일출'!AB6,"OK","@@") -> OK
A7: 자체 도비 | B7: =SUMIFS('1추일입'!W6:W9,'1추일입'!U6:U9,"도비") -> 0 | D7: =SUMIFS('1추일출'!$W$6:$W$103,'1추일출'!$U$6:$U$103,"도비") -> -515392 | H7: 자체 도비 | I7: =SUMIFS('1추일입'!AB6:AB9,'1추일입'!Z6:Z9,"국비") -> 0 | K7: =SUMIFS('1추일출'!$AB$6:$AB$103,'1추일출'!$Z$6:$Z$103,"도비") -> 0
A8: 의존 매칭 도비 | B8: =SUMIFS('1추일입'!W6:W9,'1추일입'!U6:U9,"국비")+SUMIFS('1추일입'!W6:W9,'1추일입'!U6:U9,"지특")+SUMIFS('1추일입'!W6:W9,'1추일입'!U6:U9,"기금")+SUMIFS('1추일입'!W6:W9,'1추일입'!U6:U9,"특교") -> 0 | D8: =SUMIFS('1추일출'!$W$6:$W$103,'1추일출'!$U$6:$U$103,"국비")+SUMIFS('1추일출'!$W$6:$W$103,'1추일출'!$U$6:$U$103,"지특")+SUMIFS('1추일출'!$W$6:$W$103,'1추일출'!$U$6:$U$103,"기금")+SUMIFS('1추일출'!$W$6:$W$103,'1추일출'!$U$6:$U$103,"특교") -> 563288 | H8: 의존 매칭 도비 | I8: =SUMIFS('1추일입'!AB6:AB9,'1추일입'!Z6:Z9,"국비")+SUMIFS('1추일입'!AB6:AB9,'1추일입'!Z6:Z9,"지특")+SUMIFS('1추일입'!AB6:AB9,'1추일입'!Z6:Z9,"기금")+SUMIFS('1추일입'!AB6:AB9,'1추일입'!Z6:Z9,"특교") -> 0 | K8: =SUMIFS('1추일출'!$AB$6:$AB$103,'1추일출'!$Z$6:$Z$103,"국비")+SUMIFS('1추일출'!$AB$6:$AB$103,'1추일출'!$Z$6:$Z$103,"지특")+SUMIFS('1추일출'!$AB$6:$AB$103,'1추일출'!$Z$6:$Z$103,"기금")+SUMIFS('1추일출'!$AB$6:$AB$103,'1추일출'!$Z$6:$Z$103,"특교") -> 0
A9: 의존 계 | B9: =SUM(B10:B13) -> 0 | C9: =IF(B9='1추일입'!V6,"OK","@@") -> @@ | D9: =SUM(D10:D13) -> 563288 | E9: =IF(D9='1추일출'!V6,"OK","@@") -> @@ | F9: =SUM(F10:F13) -> 563288 | H9: 의존 계 | I9: =SUM(I10:I13) -> 0 | J9: =IF(I9='1추일입'!V6,"OK","@@") -> @@ | K9: =SUM(K10:K13) -> 0 | L9: =IF(K9='1추일출'!AA6,"OK","@@") -> OK | M9: =SUM(M10:M13) -> 0
A10: 국비 | B10: =SUMIFS('1추일입'!$W$6:$W$9,'1추일입'!$U$6:$U$9,'1추검증'!A10) -> 0 | D10: =SUMIFS('1추일출'!$W$6:$W$103,'1추일출'!$U$6:$U$103,'1추검증'!A10) -> 563288 | F10: =D10-B10 -> 563288 | H10: 국비 | I10: =SUMIFS('1추일입'!$AB$6:$AB$9,'1추일입'!$Z$6:$Z$9,'1추검증'!H10) -> 0 | K10: =SUMIFS('1추일출'!$AB$6:$AB$103,'1추일출'!$Z$6:$Z$103,'1추검증'!H10) -> 0 | M10: =K10-I10 -> 0
A11: 지특 | B11: =SUMIFS('1추일입'!$W$6:$W$9,'1추일입'!$U$6:$U$9,'1추검증'!A11) -> 0 | D11: =SUMIFS('1추일출'!$W$6:$W$103,'1추일출'!$U$6:$U$103,'1추검증'!A11) -> 0 | F11: =D11-B11 -> 0 | H11: 지특 | I11: =SUMIFS('1추일입'!$AB$6:$AB$9,'1추일입'!$Z$6:$Z$9,'1추검증'!H11) -> 0 | K11: =SUMIFS('1추일출'!$AB$6:$AB$103,'1추일출'!$Z$6:$Z$103,'1추검증'!H11) -> 0 | M11: =K11-I11 -> 0
A12: 기금 | B12: =SUMIFS('1추일입'!$W$6:$W$9,'1추일입'!$U$6:$U$9,'1추검증'!A12) -> 0 | D12: =SUMIFS('1추일출'!$W$6:$W$103,'1추일출'!$U$6:$U$103,'1추검증'!A12) -> 0 | F12: =D12-B12 -> 0 | H12: 기금 | I12: =SUMIFS('1추일입'!$AB$6:$AB$9,'1추일입'!$Z$6:$Z$9,'1추검증'!H12) -> 0 | K12: =SUMIFS('1추일출'!$AB$6:$AB$103,'1추일출'!$Z$6:$Z$103,'1추검증'!H12) -> 0 | M12: =K12-I12 -> 0
A13: 특교 | B13: =SUMIFS('1추일입'!$W$6:$W$9,'1추일입'!$U$6:$U$9,'1추검증'!A13) -> 0 | D13: =SUMIFS('1추일출'!$W$6:$W$103,'1추일출'!$U$6:$U$103,'1추검증'!A13) -> 0 | F13: =D13-B13 -> 0 | H13: 특교 | I13: =SUMIFS('1추일입'!$AB$6:$AB$9,'1추일입'!$Z$6:$Z$9,'1추검증'!H13) -> 0 | K13: =SUMIFS('1추일출'!$AB$6:$AB$103,'1추일출'!$Z$6:$Z$103,'1추검증'!H13) -> 0 | M13: =K13-I13 -> 0

Sheet 1추총괄표(실국)
A1: 2015년도 제1회 추경 일반 및 특별회계 세입·세출 예산안(전체예산총괄)
A2: □ 총괄(실국별)
D3: =SUM(C6:D6) -> 0 | F3: =SUM(E6:F6) -> 0 | G3: (단위 : 천원) | I3: (일반회계) | P3: (특별회계)
A4: 구 분 | B4: 집행부제출(안) | C4: 세입예산(안) | E4: 세출예산(안) | G4: 수정예산(안) | I4: 집행부제출(안) | J4: 세입예산(안) | L4: 세출예산(안) | N4: 수정예산(안) | P4: 집행부제출(안) | Q4: 세입예산(안) | S4: 세출예산(안) | U4: 수정예산(안)
C5: 감 액 | D5: 증 액 | E5: 감 액 | F5: 증 액 | J5: 감 액 | K5: 증 액 | L5: 감 액 | M5: 증 액 | Q5: 감 액 | R5: 증 액 | S5: 감 액 | T5: 증 액
A6: 합계 | B6: =SUM(B7:B36) -> 738556856 | C6: =SUM(C7:C36) -> 0 | D6: =SUM(D7:D36) -> 0 | E6: =SUM(E7:E36) -> 0 | F6: =SUM(F7:F36) -> 0 | G6: =SUM(G7:G36) -> 738556856 | I6: =SUM(I7:I36) -> 738556856 | J6: =SUM(J7:J36) -> 0 | K6: =SUM(K7:K36) -> 0 | L6: =SUM(L7:L36) -> 0 | M6: =SUM(M7:M36) -> 0 | N6: =SUM(N7:N36) -> 738556856 | P6: =SUM(P7:P36) -> 0 | Q6: =SUM(Q7:Q36) -> 0 | R6: =SUM(R7:R36) -> 0 | S6: =SUM(S7:S36) -> 0 | T6: =SUM(T7:T36) -> 0 | U6: =SUM(U7:U36) -> 0
A7: 감사관 | B7: =I7+P7 -> 0 | C7: =J7+Q7 -> 0 | D7: =K7+R7 -> 0 | E7: =L7+S7 -> 0 | F7: =M7+T7 -> 0 | G7: =B7+E7+F7 -> 0 | I7: =D48 -> 0 | J7: =SUMIFS('1추일입'!M$6:M$9,'1추일입'!$B$6:$B$9,'1추총괄표(실국)'!$A7) -> 0 | K7: =SUMIFS('1추일입'!N$6:N$9,'1추일입'!$B$6:$B$9,'1추총괄표(실국)'!$A7) -> 0 | L7: =SUMIFS('1추일출'!M$6:M$103,'1추일출'!$B$6:$B$103,'1추총괄표(실국)'!$A7) -> 0 | M7: =SUMIFS('1추일출'!N$6:N$103,'1추일출'!$B$6:$B$103,'1추총괄표(실국)'!$A7) -> 0 | N7: =I7+L7+M7 -> 0 | P7: =E48 -> 0 | Q7: =SUMIFS('1추특입'!M$6:M$50,'1추특입'!$B$6:$B$50,'1추총괄표(실국)'!$A7) -> 0 | R7: =SUMIFS('1추특입'!N$6:N$50,'1추특입'!$B$6:$B$50,'1추총괄표(실국)'!$A7) -> 0 | S7: =SUMIFS('1추특출'!M$6:M$40,'1추특출'!$B$6:$B$40,'1추총괄표(실국)'!$A7) -> 0 | T7: =SUMIFS('1추특출'!N$6:N$40,'1추특출'!$B$6:$B$40,'1추총괄표(실국)'!$A7) -> 0 | U7: =P7+S7+T7 -> 0
A8: 기획조정실 | B8: =I8+P8 -> 185572667 | C8: =J8+Q8 -> 0 | D8: =K8+R8 -> 0 | E8: =L8+S8 -> 0 | F8: =M8+T8 -> 0 | G8: =B8+E8+F8 -> 185572667 | I8: =D49 -> 185572667 | J8: =SUMIFS('1추일입'!M$6:M$9,'1추일입'!$B$6:$B$9,'1추총괄표(실국)'!$A8) -> 0 | K8: =SUMIFS('1추일입'!N$6:N$9,'1추일입'!$B$6:$B$9,'1추총괄표(실국)'!$A8) -> 0 | L8: =SUMIFS('1추일출'!M$6:M$103,'1추일출'!$B$6:$B$103,'1추총괄표(실국)'!$A8) -> 0 | M8: =SUMIFS('1추일출'!N$6:N$103,'1추일출'!$B$6:$B$103,'1추총괄표(실국)'!$A8) -> 0 | N8: =I8+L8+M8 -> 185572667 | P8: =E49 -> 0 | Q8: =SUMIFS('1추특입'!M$6:M$50,'1추특입'!$B$6:$B$50,'1추총괄표(실국)'!$A8) -> 0 | R8: =SUMIFS('1추특입'!N$6:N$50,'1추특입'!$B$6:$B$50,'1추총괄표(실국)'!$A8) -> 0 | S8: =SUMIFS('1추특출'!M$6:M$40,'1추특출'!$B$6:$B$40,'1추총괄표(실국)'!$A8) -> 0 | T8: =SUMIFS('1추특출'!N$6:N$40,'1추특출'!$B$6:$B$40,'1추총괄표(실국)'!$A8) -> 0 | U8: =P8+S8+T8 -> 0
A9: 도시주택실 | B9: =I9+P9 -> 8532790 | C9: =J9+Q9 -> 0 | D9: =K9+R9 -> 0 | E9: =L9+S9 -> 0 | F9: =M9+T9 -> 0 | G9: =B9+E9+F9 -> 8532790 | I9: =D50 -> 8532790 | J9: =SUMIFS('1추일입'!M$6:M$9,'1추일입'!$B$6:$B$9,'1추총괄표(실국)'!$A9) -> 0 | K9: =SUMIFS('1추일입'!N$6:N$9,'1추일입'!$B$6:$B$9,'1추총괄표(실국)'!$A9) -> 0 | L9: =SUMIFS('1추일출'!M$6:M$103,'1추일출'!$B$6:$B$103,'1추총괄표(실국)'!$A9) -> 0 | M9: =SUMIFS('1추일출'!N$6:N$103,'1추일출'!$B$6:$B$103,'1추총괄표(실국)'!$A9) -> 0 | N9: =I9+L9+M9 -> 8532790 | P9: =E50 -> 0 | Q9: =SUMIFS('1추특입'!M$6:M$50,'1추특입'!$B$6:$B$50,'1추총괄표(실국)'!$A9) -> 0 | R9: =SUMIFS('1추특입'!N$6:N$50,'1추특입'!$B$6:$B$50,'1추총괄표(실국)'!$A9) -> 0 | S9: =SUMIFS('1추특출'!M$6:M$40,'1추특출'!$B$6:$B$40,'1추총괄표(실국)'!$A9) -> 0 | T9: =SUMIFS('1추특출'!N$6:N$40,'1추특출'!$B$6:$B$40,'1추총괄표(실국)'!$A9) -> 0 | U9: =P9+S9+T9 -> 0
A10: 자치행정국 | B10: =I10+P10 -> 9603506 | C10: =J10+Q10 -> 0 | D10: =K10+R10 -> 0 | E10: =L10+S10 -> 0 | F10: =M10+T10 -> 0 | G10: =B10+E10+F10 -> 9603506 | I10: =D51 -> 9603506 | J10: =SUMIFS('1추일입'!M$6:M$9,'1추일입'!$B$6:$B$9,'1추총괄표(실국)'!$A10) -> 0 | K10: =SUMIFS('1추일입'!N$6:N$9,'1추일입'!$B$6:$B$9,'1추총괄표(실국)'!$A10) -> 0 | L10: =SUMIFS('1추일출'!M$6:M$103,'1추일출'!$B$6:$B$103,'1추총괄표(실국)'!$A10) -> 0 | M10: =SUMIFS('1추일출'!N$6:N$103,'1추일출'!$B$6:$B$103,'1추총괄표(실국)'!$A10) -> 0 | N10: =I10+L10+M10 -> 9603506 | P10: =E51 -> 0 | Q10: =SUMIFS('1추특입'!M$6:M$50,'1추특입'!$B$6:$B$50,'1추총괄표(실국)'!$A10) -> 0 | R10: =SUMIFS('1추특입'!N$6:N$50,'1추특입'!$B$6:$B$50,'1추총괄표(실국)'!$A10) -> 0 | S10: =SUMIFS('1추특출'!M$6:M$40,'1추특출'!$B$6:$B$40,'1추총괄표(실국)'!$A10) -> 0 | T10: =SUMIFS('1추특출'!N$6:N$40,'1추특출'!$B$6:$B$40,'1추총괄표(실국)'!$A10) -> 0 | U10: =P10+S10+T10 -> 0
A11: 교육협력국 | B11: =I11+P11 -> 123758756 | C11: =J11+Q11 -> 0 | D11: =K11+R11 -> 0 | E11: =L11+S11 -> 0 | F11: =M11+T11 -> 0 | G11: =B11+E11+F11 -> 123758756 | I11: =D52 -> 123758756 | J11: =SUMIFS('1추일입'!M$6:M$9,'1추일입'!$B$6:$B$9,'1추총괄표(실국)'!$A11) -> 0 | K11: =SUMIFS('1추일입'!N$6:N$9,'1추일입'!$B$6:$B$9,'1추총괄표(실국)'!$A11) -> 0 | L11: =SUMIFS('1추일출'!M$6:M$103,'1추일출'!$B$6:$B$103,'1추총괄표(실국)'!$A11) -> 0 | M11: =SUMIFS('1추일출'!N$6:N$103,'1추일출'!$B$6:$B$103,'1추총괄표(실국)'!$A11) -> 0 | N11: =I11+L11+M11 -> 123758756 | P11: =E52 -> 0 | Q11: =SUMIFS('1추특입'!M$6:M$50,'1추특입'!$B$6:$B$50,'1추총괄표(실국)'!$A11) -> 0 | R11: =SUMIFS('1추특입'!N$6:N$50,'1추특입'!$B$6:$B$50,'1추총괄표(실국)'!$A11) -> 0 | S11: =SUMIFS('1추특출'!M$6:M$40,'1추특출'!$B$6:$B$40,'1추총괄표(실국)'!$A11) -> 0 | T11: =SUMIFS('1추특출'!N$6:N$40,'1추특출'!$B$6:$B$40,'1추총괄표(실국)'!$A11) -> 0 | U11: =P11+S11+T11 -> 0
A12: 문화체육관광국 | B12: =I12+P12 -> 21603000 | C12: =J12+Q12 -> 0 | D12: =K12+R12 -> 0 | E12: =L12+S12 -> 0 | F12: =M12+T12 -> 0 | G12: =B12+E12+F12 -> 21603000 | I12: =D53 -> 21603000 | J12: =SUMIFS('1추일입'!M$6:M$9,'1추일입'!$B$6:$B$9,'1추총괄표(실국)'!$A12) -> 0 | K12: =SUMIFS('1추일입'!N$6:N$9,'1추일입'!$B$6:$B$9,'1추총괄표(실국)'!$A12) -> 0 | L12: =SUMIFS('1추일출'!M$6:M$103,'1추일출'!$B$6:$B$103,'1추총괄표(실국)'!$A12) -> 0 | M12: =SUMIFS('1추일출'!N$6:N$103,'1추일출'!$B$6:$B$103,'1추총괄표(실국)'!$A12) -> 0 | N12: =I12+L12+M12 -> 21603000 | P12: =E53 -> 0 | Q12: =SUMIFS('1추특입'!M$6:M$50,'1추특입'!$B$6:$B$50,'1추총괄표(실국)'!$A12) -> 0 | R12: =SUMIFS('1추특입'!N$6:N$50,'1추특입'!$B$6:$B$50,'1추총괄표(실국)'!$A12) -> 0 | S12: =SUMIFS('1추특출'!M$6:M$40,'1추특출'!$B$6:$B$40,'1추총괄표(실국)'!$A12) -> 0 | T12: =SUMIFS('1추특출'!N$6:N$40,'1추특출'!$B$6:$B$40,'1추총괄표(실국)'!$A12) -> 0 | U12: =P12+S12+T12 -> 0
A13: 농정해양국 | B13: =I13+P13 -> 11470364 | C13: =J13+Q13 -> 0 | D13: =K13+R13 -> 0 | E13: =L13+S13 -> 0 | F13: =M13+T13 -> 0 | G13: =B13+E13+F13 -> 11470364 | I13: =D54 -> 11470364 | J13: =SUMIFS('1추일입'!M$6:M$9,'1추일입'!$B$6:$B$9,'1추총괄표(실국)'!$A13) -> 0 | K13: =SUMIFS('1추일입'!N$6:N$9,'1추일입'!$B$6:$B$9,'1추총괄표(실국)'!$A13) -> 0 | L13: =SUMIFS('1추일출'!M$6:M$103,'1추일출'!$B$6:$B$103,'1추총괄표(실국)'!$A13) -> 0 | M13: =SUMIFS('1추일출'!N$6:N$103,'1추일출'!$B$6:$B$103,'1추총괄표(실국)'!$A13) -> 0 | N13: =I13+L13+M13 -> 11470364 | P13: =E54 -> 0 | Q13: =SUMIFS('1추특입'!M$6:M$50,'1추특입'!$B$6:$B$50,'1추총괄표(실국)'!$A13) -> 0 | R13: =SUMIFS('1추특입'!N$6:N$50,'1추특입'!$B$6:$B$50,'1추총괄표(실국)'!$A13) -> 0 | S13: =SUMIFS('1추특출'!M$6:M$40,'1추특출'!$B$6:$B$40,'1추총괄표(실국)'!$A13) -> 0 | T13: =SUMIFS('1추특출'!N$6:N$40,'1추특출'!$B$6:$B$40,'1추총괄표(실국)'!$A13) -> 0 | U13: =P13+S13+T13 -> 0
A14: 철도국 | B14: =I14+P14 -> 0 | C14: =J14+Q14 -> 0 | D14: =K14+R14 -> 0 | E14: =L14+S14 -> 0 | F14: =M14+T14 -> 0 | G14: =B14+E14+F14 -> 0 | I14: =D55 -> 0 | J14: =SUMIFS('1추일입'!M$6:M$9,'1추일입'!$B$6:$B$9,'1추총괄표(실국)'!$A14) -> 0 | K14: =SUMIFS('1추일입'!N$6:N$9,'1추일입'!$B$6:$B$9,'1추총괄표(실국)'!$A14) -> 0 | L14: =SUMIFS('1추일출'!M$6:M$103,'1추일출'!$B$6:$B$103,'1추총괄표(실국)'!$A14) -> 0 | M14: =SUMIFS('1추일출'!N$6:N$103,'1추일출'!$B$6:$B$103,'1추총괄표(실국)'!$A14) -> 0 | N14: =I14+L14+M14 -> 0 | P14: =E55 -> 0 | Q14: =SUMIFS('1추특입'!M$6:M$50,'1추특입'!$B$6:$B$50,'1추총괄표(실국)'!$A14) -> 0 | R14: =SUMIFS('1추특입'!N$6:N$50,'1추특입'!$B$6:$B$50,'1추총괄표(실국)'!$A14) -> 0 | S14: =SUMIFS('1추특출'!M$6:M$40,'1추특출'!$B$6:$B$40,'1추총괄표(실국)'!$A14) -> 0 | T14: =SUMIFS('1추특출'!N$6:N$40,'1추특출'!$B$6:$B$40,'1추총괄표(실국)'!$A14) -> 0 | U14: =P14+S14+T14 -> 0
A15: 연정협력관 | B15: =I15+P15 -> 0 | C15: =J15+Q15 -> 0 | D15: =K15+R15 -> 0 | E15: =L15+S15 -> 0 | F15: =M15+T15 -> 0 | G15: =B15+E15+F15 -> 0 | I15: =D56 -> 0 | J15: =SUMIFS('1추일입'!M$6:M$9,'1추일입'!$B$6:$B$9,'1추총괄표(실국)'!$A15) -> 0 | K15: =SUMIFS('1추일입'!N$6:N$9,'1추일입'!$B$6:$B$9,'1추총괄표(실국)'!$A15) -> 0 | L15: =SUMIFS('1추일출'!M$6:M$103,'1추일출'!$B$6:$B$103,'1추총괄표(실국)'!$A15) -> 0 | M15: =SUMIFS('1추일출'!N$6:N$103,'1추일출'!$B$6:$B$103,'1추총괄표(실국)'!$A15) -> 0 | N15: =I15+L15+M15 -> 0 | P15: =E56 -> 0 | Q15: =SUMIFS('1추특입'!M$6:M$50,'1추특입'!$B$6:$B$50,'1추총괄표(실국)'!$A15) -> 0 | R15: =SUMIFS('1추특입'!N$6:N$50,'1추특입'!$B$6:$B$50,'1추총괄표(실국)'!$A15) -> 0 | S15: =SUMIFS('1추특출'!M$6:M$40,'1추특출'!$B$6:$B$40,'1추총괄표(실국)'!$A15) -> 0 | T15: =SUMIFS('1추특출'!N$6:N$40,'1추특출'!$B$6:$B$40,'1추총괄표(실국)'!$A15) -> 0 | U15: =P15+S15+T15 -> 0
A16: 대외협력담당관 | B16: =I16+P16 -> 0 | C16: =J16+Q16 -> 0 | D16: =K16+R16 -> 0 | E16: =L16+S16 -> 0 | F16: =M16+T16 -> 0 | G16: =B16+E16+F16 -> 0 | I16: =D57 -> 0 | J16: =SUMIFS('1추일입'!M$6:M$9,'1추일입'!$B$6:$B$9,'1추총괄표(실국)'!$A16) -> 0 | K16: =SUMIFS('1추일입'!N$6:N$9,'1추일입'!$B$6:$B$9,'1추총괄표(실국)'!$A16) -> 0 | L16: =SUMIFS('1추일출'!M$6:M$103,'1추일출'!$B$6:$B$103,'1추총괄표(실국)'!$A16) -> 0 | M16: =SUMIFS('1추일출'!N$6:N$103,'1추일출'!$B$6:$B$103,'1추총괄표(실국)'!$A16) -> 0 | N16: =I16+L16+M16 -> 0 | P16: =E57 -> 0 | Q16: =SUMIFS('1추특입'!M$6:M$50,'1추특입'!$B$6:$B$50,'1추총괄표(실국)'!$A16) -> 0 | R16: =SUMIFS('1추특입'!N$6:N$50,'1추특입'!$B$6:$B$50,'1추총괄표(실국)'!$A16) -> 0 | S16: =SUMIFS('1추특출'!M$6:M$40,'1추특출'!$B$6:$B$40,'1추총괄표(실국)'!$A16) -> 0 | T16: =SUMIFS('1추특출'!N$6:N$40,'1추특출'!$B$6:$B$40,'1추총괄표(실국)'!$A16) -> 0 | U16: =P16+S16+T16 -> 0
A17: 보건복지국 | B17: =I17+P17 -> 23662291 | C17: =J17+Q17 -> 0 | D17: =K17+R17 -> 0 | E17: =L17+S17 -> 0 | F17: =M17+T17 -> 0 | G17: =B17+E17+F17 -> 23662291 | I17: =D58 -> 23662291 | J17: =SUMIFS('1추일입'!M$6:M$9,'1추일입'!$B$6:$B$9,'1추총괄표(실국)'!$A17) -> 0 | K17: =SUMIFS('1추일입'!N$6:N$9,'1추일입'!$B$6:$B$9,'1추총괄표(실국)'!$A17) -> 0 | L17: =SUMIFS('1추일출'!M$6:M$103,'1추일출'!$B$6:$B$103,'1추총괄표(실국)'!$A17) -> 0 | M17: =SUMIFS('1추일출'!N$6:N$103,'1추일출'!$B$6:$B$103,'1추총괄표(실국)'!$A17) -> 0 | N17: =I17+L17+M17 -> 23662291 | P17: =E58 -> 0 | Q17: =SUMIFS('1추특입'!M$6:M$50,'1추특입'!$B$6:$B$50,'1추총괄표(실국)'!$A17) -> 0 | R17: =SUMIFS('1추특입'!N$6:N$50,'1추특입'!$B$6:$B$50,'1추총괄표(실국)'!$A17) -> 0 | S17: =SUMIFS('1추특출'!M$6:M$40,'1추특출'!$B$6:$B$40,'1추총괄표(실국)'!$A17) -> 0 | T17: =SUMIFS('1추특출'!N$6:N$40,'1추특출'!$B$6:$B$40,'1추총괄표(실국)'!$A17) -> 0 | U17: =P17+S17+T17 -> 0
A18: 환경국 | B18: =I18+P18 -> 87000 | C18: =J18+Q18 -> 0 | D18: =K18+R18 -> 0 | E18: =L18+S18 -> 0 | F18: =M18+T18 -> 0 | G18: =B18+E18+F18 -> 87000 | I18: =D59 -> 87000 | J18: =SUMIFS('1추일입'!M$6:M$9,'1추일입'!$B$6:$B$9,'1추총괄표(실국)'!$A18) -> 0 | K18: =SUMIFS('1추일입'!N$6:N$9,'1추일입'!$B$6:$B$9,'1추총괄표(실국)'!$A18) -> 0 | L18: =SUMIFS('1추일출'!M$6:M$103,'1추일출'!$B$6:$B$103,'1추총괄표(실국)'!$A18) -> 0 | M18: =SUMIFS('1추일출'!N$6:N$103,'1추일출'!$B$6:$B$103,'1추총괄표(실국)'!$A18) -> 0 | N18: =I18+L18+M18 -> 87000 | P18: =E59 -> 0 | Q18: =SUMIFS('1추특입'!M$6:M$50,'1추특입'!$B$6:$B$50,'1추총괄표(실국)'!$A18) -> 0 | R18: =SUMIFS('1추특입'!N$6:N$50,'1추특입'!$B$6:$B$50,'1추총괄표(실국)'!$A18) -> 0 | S18: =SUMIFS('1추특출'!M$6:M$40,'1추특출'!$B$6:$B$40,'1추총괄표(실국)'!$A18) -> 0 | T18: =SUMIFS('1추특출'!N$6:N$40,'1추특출'!$B$6:$B$40,'1추총괄표(실국)'!$A18) -> 0 | U18: =P18+S18+T18 -> 0
... A36: 건설본부 | B36: =I36+P36 -> 0 | C36: =J36+Q36 -> 0 | D36: =K36+R36 -> 0 | E36: =L36+S36 -> 0 | F36: =M36+T36 -> 0 | G36: =B36+E36+F36 -> 0 | I36: =D77 -> 0 | J36: =SUMIFS('1추일입'!M$6:M$9,'1추일입'!$B$6:$B$9,'1추총괄표(실국)'!$A36) -> 0 | K36: =SUMIFS('1추일입'!N$6:N$9,'1추일입'!$B$6:$B$9,'1추총괄표(실국)'!$A36) -> 0 | L36: =SUMIFS('1추일출'!M$6:M$103,'1추일출'!$B$6:$B$103,'1추총괄표(실국)'!$A36) -> 0 | M36: =SUMIFS('1추일출'!N$6:N$103,'1추일출'!$B$6:$B$103,'1추총괄표(실국)'!$A36) -> 0 | N36: =I36+L36+M36 -> 0 | P36: =E77 -> 0 | Q36: =SUMIFS('1추특입'!M$6:M$50,'1추특입'!$B$6:$B$50,'1추총괄표(실국)'!$A36) -> 0 | R36: =SUMIFS('1추특입'!N$6:N$50,'1추특입'!$B$6:$B$50,'1추총괄표(실국)'!$A36) -> 0 | S36: =SUMIFS('1추특출'!M$6:M$40,'1추특출'!$B$6:$B$40,'1추총괄표(실국)'!$A36) -> 0 | T36: =SUMIFS('1추특출'!N$6:N$40,'1추특출'!$B$6:$B$40,'1추총괄표(실국)'!$A36) -> 0 | U36: =P36+S36+T36 -> 0
A39: ※ 예산안 증감현황
A40: 구 분 | B40: 세입 | C40: 세출 | D40: 예비비 | E40: 비고(???)
A41: 합 계 | B41: =SUM(B42:B43) -> 0 | C41: =SUM(C42:C43) -> 0 | D41: =B41-C41 -> 0
A42: 일반회계 | B42: =SUM(J6:K6) -> 0 | C42: =SUM(L6:M6) -> 0 | D42: =B42-C42 -> 0 | E42: 예비비 증감 - 감액, + 증액에 입력
A43: 특별회계 | B43: =SUM(Q6:R6) -> 0 | C43: =SUM(S6:T6) -> 0 | D43: =B43-C43 -> 0
A45: ※ 집행부제출안
A46: 구분 | B46: 합계 | C46: 일반+기타 | D46: 일반회계 | E46: 기타특별회계 | F46: 공기업특별회계
A47: 합계 | B47: =SUM(B48:B77) -> 738556856 | C47: =SUM(C48:C77) -> 738556856 | D47: =SUM(D48:D77) -> 738556856 | E47: =SUM(E48:E77) -> 0 | F47: =SUM(F48:F77) -> 0 | G47: =IF(D47=#REF!,"OK","@@") -> #REF!
A48: 감사관 | B48: =SUM(D48:F48) -> 0 | C48: =D48+E48 -> 0 | D48: 0
A49: 기획조정실 | B49: =SUM(D49:F49) -> 185572667 | C49: =D49+E49 -> 185572667 | D49: 185572667
A50: 도시주택실 | B50: =SUM(D50:F50) -> 8532790 | C50: =D50+E50 -> 8532790 | D50: 8532790
A51: 자치행정국 | B51: =SUM(D51:F51) -> 9603506 | C51: =D51+E51 -> 9603506 | D51: 9603506
A52: 교육협력국 | B52: =SUM(D52:F52) -> 123758756 | C52: =D52+E52 -> 123758756 | D52: 123758756
A53: 문화체육관광국 | B53: =SUM(D53:F53) -> 21603000 | C53: =D53+E53 -> 21603000 | D53: 21603000
A54: 농정해양국 | B54: =SUM(D54:F54) -> 11470364 | C54: =D54+E54 -> 11470364 | D54: 11470364
A55: 철도국 | B55: =SUM(D55:F55) -> 0 | C55: =D55+E55 -> 0 | D55: 0
A56: 연정협력관 | B56: =SUM(D56:F56) -> 0 | C56: =D56+E56 -> 0 | D56: 0
A57: 대외협력담당관 | B57: =SUM(D57:F57) -> 0 | C57: =D57+E57 -> 0 | D57: 0
A58: 보건복지국 | B58: =SUM(D58:F58) -> 23662291 | C58: =D58+E58 -> 23662291 | D58: 23662291
A59: 환경국 | B59: =SUM(D59:F59) -> 87000 | C59: =D59+E59 -> 87000 | D59: 87000
... A77: 건설본부 | B77: =SUM(D77:F77) -> 0 | C77: =D77+E77 -> 0 | D77: 0

Sheet 1추총괄표(위원회)
B1: 2015년도 제1회 추경 일반회계 세입·세출 총괄표
P3: (단위 : 천원) | AD3: (단위 : 천원)
B4: 위원회 및 실국명 | D4: 세입 | R4: 세입 | AF4: 국비 검증
D5: 제1회 추경 예산안 (가) | E5: 기정액 (나) | F5: 제1회 추경 증감액 (다=가-나) | G5: 상임위 조정액(라) | I5: 상임위 수정 예산안 (마=가or나+라) | J5: 상임위 재원별 증감액 | L5: 예결위 조정액(라) | N5: 예결위 수정 예산안 (마=가or나+라) | O5: 예결위 재원별 증감액 | R5: 제1회 추경 예산안 (가) | S5: 기정액 (나) | T5: 제1회 추경 증감액 (다=가-나) | U5: 상임위 조정액(라) | W5: 상임위 수정 예산안 (마=가or나+라) | X5: 상임위 재원별 증감액 | Z5: 예결위 조정액(라) | AB5: 예결위 수정 예산안 (마=가or나+라) | AC5: 예결위 재원별 증감액 | AF5: 상임위 | AH5: 예결위
G6: 감액 | H6: 증액 | J6: 국비 등 | K6: 도비 | L6: 감액 | M6: 증액 | O6: 국비 등 | P6: 도비 | U6: 감액 | V6: 증액 | X6: 국비 등 | Y6: 도비 | Z6: 감액 | AA6: 증액 | AC6: 국비 등 | AD6: 도비 | AF6: 검증 | AG6: 차액 | AH6: 검증 | AI6: 차액
B7: 합 계 | D7: =SUM(D8:D52)/2 -> 0 | E7: =SUM(E8:E52)/2 -> 0 | F7: =SUM(F8:F52)/2 -> 0 | G7: =SUM(G8:G52)/2 -> 0 | H7: =SUM(H8:H52)/2 -> 911675 | I7: =SUM(I8:I52)/2 -> 911675 | J7: =SUM(J8:J52)/2 -> 911675 | K7: =SUM(K8:K52)/2 -> 0 | ... P7: =SUM(P8:P52)/2 -> 0 | R7: =SUM(R8:R52)/2 -> 4017235 | S7: =SUM(S8:S52)/2 -> 917235 | T7: =SUM(T8:T52)/2 -> 3100000 | U7: =SUM(U8:U52)/2 -> -1550000 | V7: =SUM(V8:V52)/2 -> 2509571 | W7: =SUM(W8:W52)/2 -> 4976806 | X7: =SUM(X8:X52)/2 -> 911675 | Y7: =SUM(Y8:Y52)/2 -> 47896 | ... AD7: =SUM(AD8:AD52)/2 -> 0 | AF7: =IF(J7=X7,"OK","@@") -> OK | AG7: =J7-X7 -> 0 | AH7: =IF(O7=AC7,"OK","@@") -> OK | AI7: =O7-AC7 -> 0
B8: 의회운영위원회 | D8: =SUM(D9:D13) -> 0 | E8: =SUM(E9:E13) -> 0 | F8: =SUM(F9:F13) -> 0 | G8: =SUM(G9:G13) -> 0 | H8: =SUM(H9:H13) -> 0 | I8: =SUM(I9:I13) -> 0 | J8: =SUM(J9:J13) -> 0 | K8: =SUM(K9:K13) -> 0 | ... P8: =SUM(P9:P13) -> 0 | R8: =SUM(R9:R13) -> 0 | S8: =SUM(S9:S13) -> 0 | T8: =SUM(T9:T13) -> 0 | U8: =SUM(U9:U13) -> 0 | V8: =SUM(V9:V13) -> 0 | W8: =SUM(W9:W13) -> 0 | X8: =SUM(X9:X13) -> 0 | Y8: =SUM(Y9:Y13) -> 0 | ... AD8: =SUM(AD9:AD13) -> 0 | AF8: =IF(J8=X8,"OK","@@") -> OK | AG8: =J8-X8 -> 0 | AH8: =IF(O8=AC8,"OK","@@") -> OK | AI8: =O8-AC8 -> 0
A9: 의회운영위원회 | C9: 의회사무처 | D9: =SUMIFS('1추일입'!G$6:G$9,'1추일입'!$A$6:$A$9,'1추총괄표(위원회)'!$A9,'1추일입'!$B$6:$B$9,'1추총괄표(위원회)'!$C9) -> 0 | E9: =SUMIFS('1추일입'!H$6:H$9,'1추일입'!$A$6:$A$9,'1추총괄표(위원회)'!$A9,'1추일입'!$B$6:$B$9,'1추총괄표(위원회)'!$C9) -> 0 | F9: =D9-E9 -> 0 | G9: =SUMIFS('1추일입'!J$6:J$9,'1추일입'!$A$6:$A$9,'1추총괄표(위원회)'!$A9,'1추일입'!$B$6:$B$9,'1추총괄표(위원회)'!$C9) -> 0 | H9: =SUMIFS('1추일입'!K$6:K$9,'1추일입'!$A$6:$A$9,'1추총괄표(위원회)'!$A9,'1추일입'!$B$6:$B$9,'1추총괄표(위원회)'!$C9) -> 0 | I9: =SUMIFS('1추일입'!L$6:L$9,'1추일입'!$A$6:$A$9,'1추총괄표(위원회)'!$A9,'1추일입'!$B$6:$B$9,'1추총괄표(위원회)'!$C9) -> 0 | J9: =SUMIFS('1추일입'!V$6:V$9,'1추일입'!$A$6:$A$9,'1추총괄표(위원회)'!$A9,'1추일입'!$B$6:$B$9,'1추총괄표(위원회)'!$C9) -> 0 | K9: =SUMIFS('1추일입'!W$6:W$9,'1추일입'!$A$6:$A$9,'1추총괄표(위원회)'!$A9,'1추일입'!$B$6:$B$9,'1추총괄표(위원회)'!$C9) -> 0 | L9: =SUMIFS('1추일입'!M$6:M$9,'1추일입'!$A$6:$A$9,'1추총괄표(위원회)'!$A9,'1추일입'!$B$6:$B$9,'1추총괄표(위원회)'!$C9) -> 0 | M9: =SUMIFS('1추일입'!N$6:N$9,'1추일입'!$A$6:$A$9,'1추총괄표(위원회)'!$A9,'1추일입'!$B$6:$B$9,'1추총괄표(위원회)'!$C9) -> 0 | N9: =SUMIFS('1추일입'!O$6:O$9,'1추일입'!$A$6:$A$9,'1추총괄표(위원회)'!$A9,'1추일입'!$B$6:$B$9,'1추총괄표(위원회)'!$C9) -> 0 | O9: =SUMIFS('1추일입'!AA$6:AA$9,'1추일입'!$A$6:$A$9,'1추총괄표(위원회)'!$A9,'1추일입'!$B$6:$B$9,'1추총괄표(위원회)'!$C9) -> 0 | P9: =SUMIFS('1추일입'!AB$6:AB$9,'1추일입'!$A$6:$A$9,'1추총괄표(위원회)'!$A9,'1추일입'!$B$6:$B$9,'1추총괄표(위원회)'!$C9) -> 0 | R9: =SUMIFS('1추일출'!G$6:G$103,'1추일출'!$A$6:$A$103,'1추총괄표(위원회)'!$A9,'1추일출'!$B$6:$B$103,'1추총괄표(위원회)'!$C9) -> 0 | S9: =SUMIFS('1추일출'!H$6:H$103,'1추일출'!$A$6:$A$103,'1추총괄표(위원회)'!$A9,'1추일출'!$B$6:$B$103,'1추총괄표(위원회)'!$C9) -> 0 | T9: =R9-S9 -> 0 | U9: =SUMIFS('1추일출'!J$6:J$103,'1추일출'!$A$6:$A$103,'1추총괄표(위원회)'!$A9,'1추일출'!$B$6:$B$103,'1추총괄표(위원회)'!$C9) -> 0 | V9: =SUMIFS('1추일출'!K$6:K$103,'1추일출'!$A$6:$A$103,'1추총괄표(위원회)'!$A9,'1추일출'!$B$6:$B$103,'1추총괄표(위원회)'!$C9) -> 0 | W9: =SUMIFS('1추일출'!L$6:L$103,'1추일출'!$A$6:$A$103,'1추총괄표(위원회)'!$A9,'1추일출'!$B$6:$B$103,'1추총괄표(위원회)'!$C9) -> 0 | X9: =SUMIFS('1추일출'!V$6:V$103,'1추일출'!$A$6:$A$103,'1추총괄표(위원회)'!$A9,'1추일출'!$B$6:$B$103,'1추총괄표(위원회)'!$C9) -> 0 | Y9: =SUMIFS('1추일출'!W$6:W$103,'1추일출'!$A$6:$A$103,'1추총괄표(위원회)'!$A9,'1추일출'!$B$6:$B$103,'1추총괄표(위원회)'!$C9) -> 0 | Z9: =SUMIFS('1추일출'!M$6:M$103,'1추일출'!$A$6:$A$103,'1추총괄표(위원회)'!$A9,'1추일출'!$B$6:$B$103,'1추총괄표(위원회)'!$C9) -> 0 | AA9: =SUMIFS('1추일출'!N$6:N$103,'1추일출'!$A$6:$A$103,'1추총괄표(위원회)'!$A9,'1추일출'!$B$6:$B$103,'1추총괄표(위원회)'!$C9) -> 0 | AB9: =SUMIFS('1추일출'!O$6:O$103,'1추일출'!$A$6:$A$103,'1추총괄표(위원회)'!$A9,'1추일출'!$B$6:$B$103,'1추총괄표(위원회)'!$C9) -> 0 | AC9: =SUMIFS('1추일출'!AA$6:AA$103,'1추일출'!$A$6:$A$103,'1추총괄표(위원회)'!$A9,'1추일출'!$B$6:$B$103,'1추총괄표(위원회)'!C$9) -> 0 | AD9: =SUMIFS('1추일출'!AB$6:AB$103,'1추일출'!$A$6:$A$103,'1추총괄표(위원회)'!$A9,'1추일출'!$B$6:$B$103,'1추총괄표(위원회)'!D$9) -> 0 | AF9: =IF(J9=X9,"OK","@@") -> OK | AG9: =J9-X9 -> 0 | AH9: =IF(O9=AC9,"OK","@@") -> OK | AI9: =O9-AC9 -> 0
A10: 의회운영위원회 | C10: 소통기획관 | D10: =SUMIFS('1추일입'!G$6:G$9,'1추일입'!$A$6:$A$9,'1추총괄표(위원회)'!$A10,'1추일입'!$B$6:$B$9,'1추총괄표(위원회)'!$C10) -> 0 | E10: =SUMIFS('1추일입'!H$6:H$9,'1추일입'!$A$6:$A$9,'1추총괄표(위원회)'!$A10,'1추일입'!$B$6:$B$9,'1추총괄표(위원회)'!$C10) -> 0 | F10: =D10-E10 -> 0 | G10: =SUMIFS('1추일입'!J$6:J$9,'1추일입'!$A$6:$A$9,'1추총괄표(위원회)'!$A10,'1추일입'!$B$6:$B$9,'1추총괄표(위원회)'!$C10) -> 0 | H10: =SUMIFS('1추일입'!K$6:K$9,'1추일입'!$A$6:$A$9,'1추총괄표(위원회)'!$A10,'1추일입'!$B$6:$B$9,'1추총괄표(위원회)'!$C10) -> 0 | I10: =SUMIFS('1추일입'!L$6:L$9,'1추일입'!$A$6:$A$9,'1추총괄표(위원회)'!$A10,'1추일입'!$B$6:$B$9,'1추총괄표(위원회)'!$C10) -> 0 | J10: =SUMIFS('1추일입'!V$6:V$9,'1추일입'!$A$6:$A$9,'1추총괄표(위원회)'!$A10,'1추일입'!$B$6:$B$9,'1추총괄표(위원회)'!$C10) -> 0 | K10: =SUMIFS('1추일입'!W$6:W$9,'1추일입'!$A$6:$A$9,'1추총괄표(위원회)'!$A10,'1추일입'!$B$6:$B$9,'1추총괄표(위원회)'!$C10) -> 0 | L10: =SUMIFS('1추일입'!M$6:M$9,'1추일입'!$A$6:$A$9,'1추총괄표(위원회)'!$A10,'1추일입'!$B$6:$B$9,'1추총괄표(위원회)'!$C10) -> 0 | M10: =SUMIFS('1추일입'!N$6:N$9,'1추일입'!$A$6:$A$9,'1추총괄표(위원회)'!$A10,'1추일입'!$B$6:$B$9,'1추총괄표(위원회)'!$C10) -> 0 | N10: =SUMIFS('1추일입'!O$6:O$9,'1추일입'!$A$6:$A$9,'1추총괄표(위원회)'!$A10,'1추일입'!$B$6:$B$9,'1추총괄표(위원회)'!$C10) -> 0 | O10: =SUMIFS('1추일입'!AA$6:AA$9,'1추일입'!$A$6:$A$9,'1추총괄표(위원회)'!$A10,'1추일입'!$B$6:$B$9,'1추총괄표(위원회)'!$C10) -> 0 | P10: =SUMIFS('1추일입'!AB$6:AB$9,'1추일입'!$A$6:$A$9,'1추총괄표(위원회)'!$A10,'1추일입'!$B$6:$B$9,'1추총괄표(위원회)'!$C10) -> 0 | R10: =SUMIFS('1추일출'!G$6:G$103,'1추일출'!$A$6:$A$103,'1추총괄표(위원회)'!$A10,'1추일출'!$B$6:$B$103,'1추총괄표(위원회)'!$C10) -> 0 | S10: =SUMIFS('1추일출'!H$6:H$103,'1추일출'!$A$6:$A$103,'1추총괄표(위원회)'!$A10,'1추일출'!$B$6:$B$103,'1추총괄표(위원회)'!$C10) -> 0 | T10: =R10-S10 -> 0 | U10: =SUMIFS('1추일출'!J$6:J$103,'1추일출'!$A$6:$A$103,'1추총괄표(위원회)'!$A10,'1추일출'!$B$6:$B$103,'1추총괄표(위원회)'!$C10) -> 0 | V10: =SUMIFS('1추일출'!K$6:K$103,'1추일출'!$A$6:$A$103,'1추총괄표(위원회)'!$A10,'1추일출'!$B$6:$B$103,'1추총괄표(위원회)'!$C10) -> 0 | W10: =SUMIFS('1추일출'!L$6:L$103,'1추일출'!$A$6:$A$103,'1추총괄표(위원회)'!$A10,'1추일출'!$B$6:$B$103,'1추총괄표(위원회)'!$C10) -> 0 | X10: =SUMIFS('1추일출'!V$6:V$103,'1추일출'!$A$6:$A$103,'1추총괄표(위원회)'!$A10,'1추일출'!$B$6:$B$103,'1추총괄표(위원회)'!$C10) -> 0 | Y10: =SUMIFS('1추일출'!W$6:W$103,'1추일출'!$A$6:$A$103,'1추총괄표(위원회)'!$A10,'1추일출'!$B$6:$B$103,'1추총괄표(위원회)'!$C10) -> 0 | Z10: =SUMIFS('1추일출'!M$6:M$103,'1추일출'!$A$6:$A$103,'1추총괄표(위원회)'!$A10,'1추일출'!$B$6:$B$103,'1추총괄표(위원회)'!$C10) -> 0 | AA10: =SUMIFS('1추일출'!N$6:N$103,'1추일출'!$A$6:$A$103,'1추총괄표(위원회)'!$A10,'1추일출'!$B$6:$B$103,'1추총괄표(위원회)'!$C10) -> 0 | AB10: =SUMIFS('1추일출'!O$6:O$103,'1추일출'!$A$6:$A$103,'1추총괄표(위원회)'!$A10,'1추일출'!$B$6:$B$103,'1추총괄표(위원회)'!$C10) -> 0 | AC10: =SUMIFS('1추일출'!AA$6:AA$103,'1추일출'!$A$6:$A$103,'1추총괄표(위원회)'!$A10,'1추일출'!$B$6:$B$103,'1추총괄표(위원회)'!C$9) -> 0 | AD10: =SUMIFS('1추일출'!AB$6:AB$103,'1추일출'!$A$6:$A$103,'1추총괄표(위원회)'!$A10,'1추일출'!$B$6:$B$103,'1추총괄표(위원회)'!D$9) -> 0 | AF10: =IF(J10=X10,"OK","@@") -> OK | AG10: =J10-X10 -> 0 | AH10: =IF(O10=AC10,"OK","@@") -> OK | AI10: =O10-AC10 -> 0
A11: 의회운영위원회 | C11: 대변인 | D11: =SUMIFS('1추일입'!G$6:G$9,'1추일입'!$A$6:$A$9,'1추총괄표(위원회)'!$A11,'1추일입'!$B$6:$B$9,'1추총괄표(위원회)'!$C11) -> 0 | E11: =SUMIFS('1추일입'!H$6:H$9,'1추일입'!$A$6:$A$9,'1추총괄표(위원회)'!$A11,'1추일입'!$B$6:$B$9,'1추총괄표(위원회)'!$C11) -> 0 | F11: =D11-E11 -> 0 | G11: =SUMIFS('1추일입'!J$6:J$9,'1추일입'!$A$6:$A$9,'1추총괄표(위원회)'!$A11,'1추일입'!$B$6:$B$9,'1추총괄표(위원회)'!$C11) -> 0 | H11: =SUMIFS('1추일입'!K$6:K$9,'1추일입'!$A$6:$A$9,'1추총괄표(위원회)'!$A11,'1추일입'!$B$6:$B$9,'1추총괄표(위원회)'!$C11) -> 0 | I11: =SUMIFS('1추일입'!L$6:L$9,'1추일입'!$A$6:$A$9,'1추총괄표(위원회)'!$A11,'1추일입'!$B$6:$B$9,'1추총괄표(위원회)'!$C11) -> 0 | J11: =SUMIFS('1추일입'!V$6:V$9,'1추일입'!$A$6:$A$9,'1추총괄표(위원회)'!$A11,'1추일입'!$B$6:$B$9,'1추총괄표(위원회)'!$C11) -> 0 | K11: =SUMIFS('1추일입'!W$6:W$9,'1추일입'!$A$6:$A$9,'1추총괄표(위원회)'!$A11,'1추일입'!$B$6:$B$9,'1추총괄표(위원회)'!$C11) -> 0 | L11: =SUMIFS('1추일입'!M$6:M$9,'1추일입'!$A$6:$A$9,'1추총괄표(위원회)'!$A11,'1추일입'!$B$6:$B$9,'1추총괄표(위원회)'!$C11) -> 0 | M11: =SUMIFS('1추일입'!N$6:N$9,'1추일입'!$A$6:$A$9,'1추총괄표(위원회)'!$A11,'1추일입'!$B$6:$B$9,'1추총괄표(위원회)'!$C11) -> 0 | N11: =SUMIFS('1추일입'!O$6:O$9,'1추일입'!$A$6:$A$9,'1추총괄표(위원회)'!$A11,'1추일입'!$B$6:$B$9,'1추총괄표(위원회)'!$C11) -> 0 | O11: =SUMIFS('1추일입'!AA$6:AA$9,'1추일입'!$A$6:$A$9,'1추총괄표(위원회)'!$A11,'1추일입'!$B$6:$B$9,'1추총괄표(위원회)'!$C11) -> 0 | P11: =SUMIFS('1추일입'!AB$6:AB$9,'1추일입'!$A$6:$A$9,'1추총괄표(위원회)'!$A11,'1추일입'!$B$6:$B$9,'1추총괄표(위원회)'!$C11) -> 0 | R11: =SUMIFS('1추일출'!G$6:G$103,'1추일출'!$A$6:$A$103,'1추총괄표(위원회)'!$A11,'1추일출'!$B$6:$B$103,'1추총괄표(위원회)'!$C11) -> 0 | S11: =SUMIFS('1추일출'!H$6:H$103,'1추일출'!$A$6:$A$103,'1추총괄표(위원회)'!$A11,'1추일출'!$B$6:$B$103,'1추총괄표(위원회)'!$C11) -> 0 | T11: =R11-S11 -> 0 | U11: =SUMIFS('1추일출'!J$6:J$103,'1추일출'!$A$6:$A$103,'1추총괄표(위원회)'!$A11,'1추일출'!$B$6:$B$103,'1추총괄표(위원회)'!$C11) -> 0 | V11: =SUMIFS('1추일출'!K$6:K$103,'1추일출'!$A$6:$A$103,'1추총괄표(위원회)'!$A11,'1추일출'!$B$6:$B$103,'1추총괄표(위원회)'!$C11) -> 0 | W11: =SUMIFS('1추일출'!L$6:L$103,'1추일출'!$A$6:$A$103,'1추총괄표(위원회)'!$A11,'1추일출'!$B$6:$B$103,'1추총괄표(위원회)'!$C11) -> 0 | X11: =SUMIFS('1추일출'!V$6:V$103,'1추일출'!$A$6:$A$103,'1추총괄표(위원회)'!$A11,'1추일출'!$B$6:$B$103,'1추총괄표(위원회)'!$C11) -> 0 | Y11: =SUMIFS('1추일출'!W$6:W$103,'1추일출'!$A$6:$A$103,'1추총괄표(위원회)'!$A11,'1추일출'!$B$6:$B$103,'1추총괄표(위원회)'!$C11) -> 0 | Z11: =SUMIFS('1추일출'!M$6:M$103,'1추일출'!$A$6:$A$103,'1추총괄표(위원회)'!$A11,'1추일출'!$B$6:$B$103,'1추총괄표(위원회)'!$C11) -> 0 | AA11: =SUMIFS('1추일출'!N$6:N$103,'1추일출'!$A$6:$A$103,'1추총괄표(위원회)'!$A11,'1추일출'!$B$6:$B$103,'1추총괄표(위원회)'!$C11) -> 0 | AB11: =SUMIFS('1추일출'!O$6:O$103,'1추일출'!$A$6:$A$103,'1추총괄표(위원회)'!$A11,'1추일출'!$B$6:$B$103,'1추총괄표(위원회)'!$C11) -> 0 | AC11: =SUMIFS('1추일출'!AA$6:AA$103,'1추일출'!$A$6:$A$103,'1추총괄표(위원회)'!$A11,'1추일출'!$B$6:$B$103,'1추총괄표(위원회)'!C$9) -> 0 | AD11: =SUMIFS('1추일출'!AB$6:AB$103,'1추일출'!$A$6:$A$103,'1추총괄표(위원회)'!$A11,'1추일출'!$B$6:$B$103,'1추총괄표(위원회)'!D$9) -> 0 | AF11: =IF(J11=X11,"OK","@@") -> OK | AG11: =J11-X11 -> 0 | AH11: =IF(O11=AC11,"OK","@@") -> OK | AI11: =O11-AC11 -> 0
A12: 의회운영위원회 | C12: 연정협력관 | D12: =SUMIFS('1추일입'!G$6:G$9,'1추일입'!$A$6:$A$9,'1추총괄표(위원회)'!$A12,'1추일입'!$B$6:$B$9,'1추총괄표(위원회)'!$C12) -> 0 | E12: =SUMIFS('1추일입'!H$6:H$9,'1추일입'!$A$6:$A$9,'1추총괄표(위원회)'!$A12,'1추일입'!$B$6:$B$9,'1추총괄표(위원회)'!$C12) -> 0 | F12: =D12-E12 -> 0 | G12: =SUMIFS('1추일입'!J$6:J$9,'1추일입'!$A$6:$A$9,'1추총괄표(위원회)'!$A12,'1추일입'!$B$6:$B$9,'1추총괄표(위원회)'!$C12) -> 0 | H12: =SUMIFS('1추일입'!K$6:K$9,'1추일입'!$A$6:$A$9,'1추총괄표(위원회)'!$A12,'1추일입'!$B$6:$B$9,'1추총괄표(위원회)'!$C12) -> 0 | I12: =SUMIFS('1추일입'!L$6:L$9,'1추일입'!$A$6:$A$9,'1추총괄표(위원회)'!$A12,'1추일입'!$B$6:$B$9,'1추총괄표(위원회)'!$C12) -> 0 | J12: =SUMIFS('1추일입'!V$6:V$9,'1추일입'!$A$6:$A$9,'1추총괄표(위원회)'!$A12,'1추일입'!$B$6:$B$9,'1추총괄표(위원회)'!$C12) -> 0 | K12: =SUMIFS('1추일입'!W$6:W$9,'1추일입'!$A$6:$A$9,'1추총괄표(위원회)'!$A12,'1추일입'!$B$6:$B$9,'1추총괄표(위원회)'!$C12) -> 0 | L12: =SUMIFS('1추일입'!M$6:M$9,'1추일입'!$A$6:$A$9,'1추총괄표(위원회)'!$A12,'1추일입'!$B$6:$B$9,'1추총괄표(위원회)'!$C12) -> 0 | M12: =SUMIFS('1추일입'!N$6:N$9,'1추일입'!$A$6:$A$9,'1추총괄표(위원회)'!$A12,'1추일입'!$B$6:$B$9,'1추총괄표(위원회)'!$C12) -> 0 | N12: =SUMIFS('1추일입'!O$6:O$9,'1추일입'!$A$6:$A$9,'1추총괄표(위원회)'!$A12,'1추일입'!$B$6:$B$9,'1추총괄표(위원회)'!$C12) -> 0 | O12: =SUMIFS('1추일입'!AA$6:AA$9,'1추일입'!$A$6:$A$9,'1추총괄표(위원회)'!$A12,'1추일입'!$B$6:$B$9,'1추총괄표(위원회)'!$C12) -> 0 | P12: =SUMIFS('1추일입'!AB$6:AB$9,'1추일입'!$A$6:$A$9,'1추총괄표(위원회)'!$A12,'1추일입'!$B$6:$B$9,'1추총괄표(위원회)'!$C12) -> 0 | R12: =SUMIFS('1추일출'!G$6:G$103,'1추일출'!$A$6:$A$103,'1추총괄표(위원회)'!$A12,'1추일출'!$B$6:$B$103,'1추총괄표(위원회)'!$C12) -> 0 | S12: =SUMIFS('1추일출'!H$6:H$103,'1추일출'!$A$6:$A$103,'1추총괄표(위원회)'!$A12,'1추일출'!$B$6:$B$103,'1추총괄표(위원회)'!$C12) -> 0 | T12: =R12-S12 -> 0 | U12: =SUMIFS('1추일출'!J$6:J$103,'1추일출'!$A$6:$A$103,'1추총괄표(위원회)'!$A12,'1추일출'!$B$6:$B$103,'1추총괄표(위원회)'!$C12) -> 0 | V12: =SUMIFS('1추일출'!K$6:K$103,'1추일출'!$A$6:$A$103,'1추총괄표(위원회)'!$A12,'1추일출'!$B$6:$B$103,'1추총괄표(위원회)'!$C12) -> 0 | W12: =SUMIFS('1추일출'!L$6:L$103,'1추일출'!$A$6:$A$103,'1추총괄표(위원회)'!$A12,'1추일출'!$B$6:$B$103,'1추총괄표(위원회)'!$C12) -> 0 | X12: =SUMIFS('1추일출'!V$6:V$103,'1추일출'!$A$6:$A$103,'1추총괄표(위원회)'!$A12,'1추일출'!$B$6:$B$103,'1추총괄표(위원회)'!$C12) -> 0 | Y12: =SUMIFS('1추일출'!W$6:W$103,'1추일출'!$A$6:$A$103,'1추총괄표(위원회)'!$A12,'1추일출'!$B$6:$B$103,'1추총괄표(위원회)'!$C12) -> 0 | Z12: =SUMIFS('1추일출'!M$6:M$103,'1추일출'!$A$6:$A$103,'1추총괄표(위원회)'!$A12,'1추일출'!$B$6:$B$103,'1추총괄표(위원회)'!$C12) -> 0 | AA12: =SUMIFS('1추일출'!N$6:N$103,'1추일출'!$A$6:$A$103,'1추총괄표(위원회)'!$A12,'1추일출'!$B$6:$B$103,'1추총괄표(위원회)'!$C12) -> 0 | AB12: =SUMIFS('1추일출'!O$6:O$103,'1추일출'!$A$6:$A$103,'1추총괄표(위원회)'!$A12,'1추일출'!$B$6:$B$103,'1추총괄표(위원회)'!$C12) -> 0 | AC12: =SUMIFS('1추일출'!AA$6:AA$103,'1추일출'!$A$6:$A$103,'1추총괄표(위원회)'!$A12,'1추일출'!$B$6:$B$103,'1추총괄표(위원회)'!C$9) -> 0 | AD12: =SUMIFS('1추일출'!AB$6:AB$103,'1추일출'!$A$6:$A$103,'1추총괄표(위원회)'!$A12,'1추일출'!$B$6:$B$103,'1추총괄표(위원회)'!D$9) -> 0 | AF12: =IF(J12=X12,"OK","@@") -> OK | AG12: =J12-X12 -> 0 | AH12: =IF(O12=AC12,"OK","@@") -> OK | AI12: =O12-AC12 -> 0
A13: 의회운영위원회 | C13: 대외협력담당관 | D13: =SUMIFS('1추일입'!G$6:G$9,'1추일입'!$A$6:$A$9,'1추총괄표(위원회)'!$A13,'1추일입'!$B$6:$B$9,'1추총괄표(위원회)'!$C13) -> 0 | E13: =SUMIFS('1추일입'!H$6:H$9,'1추일입'!$A$6:$A$9,'1추총괄표(위원회)'!$A13,'1추일입'!$B$6:$B$9,'1추총괄표(위원회)'!$C13) -> 0 | F13: =D13-E13 -> 0 | G13: =SUMIFS('1추일입'!J$6:J$9,'1추일입'!$A$6:$A$9,'1추총괄표(위원회)'!$A13,'1추일입'!$B$6:$B$9,'1추총괄표(위원회)'!$C13) -> 0 | H13: =SUMIFS('1추일입'!K$6:K$9,'1추일입'!$A$6:$A$9,'1추총괄표(위원회)'!$A13,'1추일입'!$B$6:$B$9,'1추총괄표(위원회)'!$C13) -> 0 | I13: =SUMIFS('1추일입'!L$6:L$9,'1추일입'!$A$6:$A$9,'1추총괄표(위원회)'!$A13,'1추일입'!$B$6:$B$9,'1추총괄표(위원회)'!$C13) -> 0 | J13: =SUMIFS('1추일입'!V$6:V$9,'1추일입'!$A$6:$A$9,'1추총괄표(위원회)'!$A13,'1추일입'!$B$6:$B$9,'1추총괄표(위원회)'!$C13) -> 0 | K13: =SUMIFS('1추일입'!W$6:W$9,'1추일입'!$A$6:$A$9,'1추총괄표(위원회)'!$A13,'1추일입'!$B$6:$B$9,'1추총괄표(위원회)'!$C13) -> 0 | L13: =SUMIFS('1추일입'!M$6:M$9,'1추일입'!$A$6:$A$9,'1추총괄표(위원회)'!$A13,'1추일입'!$B$6:$B$9,'1추총괄표(위원회)'!$C13) -> 0 | M13: =SUMIFS('1추일입'!N$6:N$9,'1추일입'!$A$6:$A$9,'1추총괄표(위원회)'!$A13,'1추일입'!$B$6:$B$9,'1추총괄표(위원회)'!$C13) -> 0 | N13: =SUMIFS('1추일입'!O$6:O$9,'1추일입'!$A$6:$A$9,'1추총괄표(위원회)'!$A13,'1추일입'!$B$6:$B$9,'1추총괄표(위원회)'!$C13) -> 0 | O13: =SUMIFS('1추일입'!AA$6:AA$9,'1추일입'!$A$6:$A$9,'1추총괄표(위원회)'!$A13,'1추일입'!$B$6:$B$9,'1추총괄표(위원회)'!$C13) -> 0 | P13: =SUMIFS('1추일입'!AB$6:AB$9,'1추일입'!$A$6:$A$9,'1추총괄표(위원회)'!$A13,'1추일입'!$B$6:$B$9,'1추총괄표(위원회)'!$C13) -> 0 | R13: =SUMIFS('1추일출'!G$6:G$103,'1추일출'!$A$6:$A$103,'1추총괄표(위원회)'!$A13,'1추일출'!$B$6:$B$103,'1추총괄표(위원회)'!$C13) -> 0 | S13: =SUMIFS('1추일출'!H$6:H$103,'1추일출'!$A$6:$A$103,'1추총괄표(위원회)'!$A13,'1추일출'!$B$6:$B$103,'1추총괄표(위원회)'!$C13) -> 0 | T13: =R13-S13 -> 0 | U13: =SUMIFS('1추일출'!J$6:J$103,'1추일출'!$A$6:$A$103,'1추총괄표(위원회)'!$A13,'1추일출'!$B$6:$B$103,'1추총괄표(위원회)'!$C13) -> 0 | V13: =SUMIFS('1추일출'!K$6:K$103,'1추일출'!$A$6:$A$103,'1추총괄표(위원회)'!$A13,'1추일출'!$B$6:$B$103,'1추총괄표(위원회)'!$C13) -> 0 | W13: =SUMIFS('1추일출'!L$6:L$103,'1추일출'!$A$6:$A$103,'1추총괄표(위원회)'!$A13,'1추일출'!$B$6:$B$103,'1추총괄표(위원회)'!$C13) -> 0 | X13: =SUMIFS('1추일출'!V$6:V$103,'1추일출'!$A$6:$A$103,'1추총괄표(위원회)'!$A13,'1추일출'!$B$6:$B$103,'1추총괄표(위원회)'!$C13) -> 0 | Y13: =SUMIFS('1추일출'!W$6:W$103,'1추일출'!$A$6:$A$103,'1추총괄표(위원회)'!$A13,'1추일출'!$B$6:$B$103,'1추총괄표(위원회)'!$C13) -> 0 | Z13: =SUMIFS('1추일출'!M$6:M$103,'1추일출'!$A$6:$A$103,'1추총괄표(위원회)'!$A13,'1추일출'!$B$6:$B$103,'1추총괄표(위원회)'!$C13) -> 0 | AA13: =SUMIFS('1추일출'!N$6:N$103,'1추일출'!$A$6:$A$103,'1추총괄표(위원회)'!$A13,'1추일출'!$B$6:$B$103,'1추총괄표(위원회)'!$C13) -> 0 | AB13: =SUMIFS('1추일출'!O$6:O$103,'1추일출'!$A$6:$A$103,'1추총괄표(위원회)'!$A13,'1추일출'!$B$6:$B$103,'1추총괄표(위원회)'!$C13) -> 0 | AC13: =SUMIFS('1추일출'!AA$6:AA$103,'1추일출'!$A$6:$A$103,'1추총괄표(위원회)'!$A13,'1추일출'!$B$6:$B$103,'1추총괄표(위원회)'!C$9) -> 0 | AD13: =SUMIFS('1추일출'!AB$6:AB$103,'1추일출'!$A$6:$A$103,'1추총괄표(위원회)'!$A13,'1추일출'!$B$6:$B$103,'1추총괄표(위원회)'!D$9) -> 0 | AF13: =IF(J13=X13,"OK","@@") -> OK | AG13: =J13-X13 -> 0 | AH13: =IF(O13=AC13,"OK","@@") -> OK | AI13: =O13-AC13 -> 0
B14: 기획재정위원회 | D14: =SUM(D15:D18) -> 0 | E14: =SUM(E15:E18) -> 0 | F14: =SUM(F15:F18) -> 0 | G14: =SUM(G15:G18) -> 0 | H14: =SUM(H15:H18) -> 0 | I14: =SUM(I15:I18) -> 0 | J14: =SUM(J15:J18) -> 0 | K14: =SUM(K15:K18) -> 0 | ... P14: =SUM(P15:P18) -> 0 | R14: =SUM(R15:R18) -> 0 | S14: =SUM(S15:S18) -> 0 | T14: =SUM(T15:T18) -> 0 | U14: =SUM(U15:U18) -> 0 | V14: =SUM(V15:V18) -> 0 | W14: =SUM(W15:W18) -> 0 | X14: =SUM(X15:X18) -> 0 | Y14: =SUM(Y15:Y18) -> 0 | ... AD14: =SUM(AD15:AD18) -> 0 | AF14: =IF(J14=X14,"OK","@@") -> OK | AG14: =J14-X14 -> 0 | AH14: =IF(O14=AC14,"OK","@@") -> OK | AI14: =O14-AC14 -> 0
A15: 기획재정위원회 | C15: 감사관 | D15: =SUMIFS('1추일입'!G$6:G$9,'1추일입'!$A$6:$A$9,'1추총괄표(위원회)'!$A15,'1추일입'!$B$6:$B$9,'1추총괄표(위원회)'!$C15) -> 0 | E15: =SUMIFS('1추일입'!H$6:H$9,'1추일입'!$A$6:$A$9,'1추총괄표(위원회)'!$A15,'1추일입'!$B$6:$B$9,'1추총괄표(위원회)'!$C15) -> 0 | F15: =D15-E15 -> 0 | G15: =SUMIFS('1추일입'!J$6:J$9,'1추일입'!$A$6:$A$9,'1추총괄표(위원회)'!$A15,'1추일입'!$B$6:$B$9,'1추총괄표(위원회)'!$C15) -> 0 | H15: =SUMIFS('1추일입'!K$6:K$9,'1추일입'!$A$6:$A$9,'1추총괄표(위원회)'!$A15,'1추일입'!$B$6:$B$9,'1추총괄표(위원회)'!$C15) -> 0 | I15: =SUMIFS('1추일입'!L$6:L$9,'1추일입'!$A$6:$A$9,'1추총괄표(위원회)'!$A15,'1추일입'!$B$6:$B$9,'1추총괄표(위원회)'!$C15) -> 0 | J15: =SUMIFS('1추일입'!V$6:V$9,'1추일입'!$A$6:$A$9,'1추총괄표(위원회)'!$A15,'1추일입'!$B$6:$B$9,'1추총괄표(위원회)'!$C15) -> 0 | K15: =SUMIFS('1추일입'!W$6:W$9,'1추일입'!$A$6:$A$9,'1추총괄표(위원회)'!$A15,'1추일입'!$B$6:$B$9,'1추총괄표(위원회)'!$C15) -> 0 | L15: =SUMIFS('1추일입'!M$6:M$9,'1추일입'!$A$6:$A$9,'1추총괄표(위원회)'!$A15,'1추일입'!$B$6:$B$9,'1추총괄표(위원회)'!$C15) -> 0 | M15: =SUMIFS('1추일입'!N$6:N$9,'1추일입'!$A$6:$A$9,'1추총괄표(위원회)'!$A15,'1추일입'!$B$6:$B$9,'1추총괄표(위원회)'!$C15) -> 0 | N15: =SUMIFS('1추일입'!O$6:O$9,'1추일입'!$A$6:$A$9,'1추총괄표(위원회)'!$A15,'1추일입'!$B$6:$B$9,'1추총괄표(위원회)'!$C15) -> 0 | O15: =SUMIFS('1추일입'!AA$6:AA$9,'1추일입'!$A$6:$A$9,'1추총괄표(위원회)'!$A15,'1추일입'!$B$6:$B$9,'1추총괄표(위원회)'!$C15) -> 0 | P15: =SUMIFS('1추일입'!AB$6:AB$9,'1추일입'!$A$6:$A$9,'1추총괄표(위원회)'!$A15,'1추일입'!$B$6:$B$9,'1추총괄표(위원회)'!$C15) -> 0 | R15: =SUMIFS('1추일출'!G$6:G$103,'1추일출'!$A$6:$A$103,'1추총괄표(위원회)'!$A15,'1추일출'!$B$6:$B$103,'1추총괄표(위원회)'!$C15) -> 0 | S15: =SUMIFS('1추일출'!H$6:H$103,'1추일출'!$A$6:$A$103,'1추총괄표(위원회)'!$A15,'1추일출'!$B$6:$B$103,'1추총괄표(위원회)'!$C15) -> 0 | T15: =R15-S15 -> 0 | U15: =SUMIFS('1추일출'!J$6:J$103,'1추일출'!$A$6:$A$103,'1추총괄표(위원회)'!$A15,'1추일출'!$B$6:$B$103,'1추총괄표(위원회)'!$C15) -> 0 | V15: =SUMIFS('1추일출'!K$6:K$103,'1추일출'!$A$6:$A$103,'1추총괄표(위원회)'!$A15,'1추일출'!$B$6:$B$103,'1추총괄표(위원회)'!$C15) -> 0 | W15: =SUMIFS('1추일출'!L$6:L$103,'1추일출'!$A$6:$A$103,'1추총괄표(위원회)'!$A15,'1추일출'!$B$6:$B$103,'1추총괄표(위원회)'!$C15) -> 0 | X15: =SUMIFS('1추일출'!V$6:V$103,'1추일출'!$A$6:$A$103,'1추총괄표(위원회)'!$A15,'1추일출'!$B$6:$B$103,'1추총괄표(위원회)'!$C15) -> 0 | Y15: =SUMIFS('1추일출'!W$6:W$103,'1추일출'!$A$6:$A$103,'1추총괄표(위원회)'!$A15,'1추일출'!$B$6:$B$103,'1추총괄표(위원회)'!$C15) -> 0 | Z15: =SUMIFS('1추일출'!M$6:M$103,'1추일출'!$A$6:$A$103,'1추총괄표(위원회)'!$A15,'1추일출'!$B$6:$B$103,'1추총괄표(위원회)'!$C15) -> 0 | AA15: =SUMIFS('1추일출'!N$6:N$103,'1추일출'!$A$6:$A$103,'1추총괄표(위원회)'!$A15,'1추일출'!$B$6:$B$103,'1추총괄표(위원회)'!$C15) -> 0 | AB15: =SUMIFS('1추일출'!O$6:O$103,'1추일출'!$A$6:$A$103,'1추총괄표(위원회)'!$A15,'1추일출'!$B$6:$B$103,'1추총괄표(위원회)'!$C15) -> 0 | AC15: =SUMIFS('1추일출'!AA$6:AA$103,'1추일출'!$A$6:$A$103,'1추총괄표(위원회)'!$A15,'1추일출'!$B$6:$B$103,'1추총괄표(위원회)'!C$9) -> 0 | AD15: =SUMIFS('1추일출'!AB$6:AB$103,'1추일출'!$A$6:$A$103,'1추총괄표(위원회)'!$A15,'1추일출'!$B$6:$B$103,'1추총괄표(위원회)'!D$9) -> 0 | AF15: =IF(J15=X15,"OK","@@") -> OK | AG15: =J15-X15 -> 0 | AH15: =IF(O15=AC15,"OK","@@") -> OK | AI15: =O15-AC15 -> 0
A16: 기획재정위원회 | C16: 기획조정실 | D16: =SUMIFS('1추일입'!G$6:G$9,'1추일입'!$A$6:$A$9,'1추총괄표(위원회)'!$A16,'1추일입'!$B$6:$B$9,'1추총괄표(위원회)'!$C16) -> 0 | E16: =SUMIFS('1추일입'!H$6:H$9,'1추일입'!$A$6:$A$9,'1추총괄표(위원회)'!$A16,'1추일입'!$B$6:$B$9,'1추총괄표(위원회)'!$C16) -> 0 | F16: =D16-E16 -> 0 | G16: =SUMIFS('1추일입'!J$6:J$9,'1추일입'!$A$6:$A$9,'1추총괄표(위원회)'!$A16,'1추일입'!$B$6:$B$9,'1추총괄표(위원회)'!$C16) -> 0 | H16: =SUMIFS('1추일입'!K$6:K$9,'1추일입'!$A$6:$A$9,'1추총괄표(위원회)'!$A16,'1추일입'!$B$6:$B$9,'1추총괄표(위원회)'!$C16) -> 0 | I16: =SUMIFS('1추일입'!L$6:L$9,'1추일입'!$A$6:$A$9,'1추총괄표(위원회)'!$A16,'1추일입'!$B$6:$B$9,'1추총괄표(위원회)'!$C16) -> 0 | J16: =SUMIFS('1추일입'!V$6:V$9,'1추일입'!$A$6:$A$9,'1추총괄표(위원회)'!$A16,'1추일입'!$B$6:$B$9,'1추총괄표(위원회)'!$C16) -> 0 | K16: =SUMIFS('1추일입'!W$6:W$9,'1추일입'!$A$6:$A$9,'1추총괄표(위원회)'!$A16,'1추일입'!$B$6:$B$9,'1추총괄표(위원회)'!$C16) -> 0 | L16: =SUMIFS('1추일입'!M$6:M$9,'1추일입'!$A$6:$A$9,'1추총괄표(위원회)'!$A16,'1추일입'!$B$6:$B$9,'1추총괄표(위원회)'!$C16) -> 0 | M16: =SUMIFS('1추일입'!N$6:N$9,'1추일입'!$A$6:$A$9,'1추총괄표(위원회)'!$A16,'1추일입'!$B$6:$B$9,'1추총괄표(위원회)'!$C16) -> 0 | N16: =SUMIFS('1추일입'!O$6:O$9,'1추일입'!$A$6:$A$9,'1추총괄표(위원회)'!$A16,'1추일입'!$B$6:$B$9,'1추총괄표(위원회)'!$C16) -> 0 | O16: =SUMIFS('1추일입'!AA$6:AA$9,'1추일입'!$A$6:$A$9,'1추총괄표(위원회)'!$A16,'1추일입'!$B$6:$B$9,'1추총괄표(위원회)'!$C16) -> 0 | P16: =SUMIFS('1추일입'!AB$6:AB$9,'1추일입'!$A$6:$A$9,'1추총괄표(위원회)'!$A16,'1추일입'!$B$6:$B$9,'1추총괄표(위원회)'!$C16) -> 0 | R16: =SUMIFS('1추일출'!G$6:G$103,'1추일출'!$A$6:$A$103,'1추총괄표(위원회)'!$A16,'1추일출'!$B$6:$B$103,'1추총괄표(위원회)'!$C16) -> 0 | S16: =SUMIFS('1추일출'!H$6:H$103,'1추일출'!$A$6:$A$103,'1추총괄표(위원회)'!$A16,'1추일출'!$B$6:$B$103,'1추총괄표(위원회)'!$C16) -> 0 | T16: =R16-S16 -> 0 | U16: =SUMIFS('1추일출'!J$6:J$103,'1추일출'!$A$6:$A$103,'1추총괄표(위원회)'!$A16,'1추일출'!$B$6:$B$103,'1추총괄표(위원회)'!$C16) -> 0 | V16: =SUMIFS('1추일출'!K$6:K$103,'1추일출'!$A$6:$A$103,'1추총괄표(위원회)'!$A16,'1추일출'!$B$6:$B$103,'1추총괄표(위원회)'!$C16) -> 0 | W16: =SUMIFS('1추일출'!L$6:L$103,'1추일출'!$A$6:$A$103,'1추총괄표(위원회)'!$A16,'1추일출'!$B$6:$B$103,'1추총괄표(위원회)'!$C16) -> 0 | X16: =SUMIFS('1추일출'!V$6:V$103,'1추일출'!$A$6:$A$103,'1추총괄표(위원회)'!$A16,'1추일출'!$B$6:$B$103,'1추총괄표(위원회)'!$C16) -> 0 | Y16: =SUMIFS('1추일출'!W$6:W$103,'1추일출'!$A$6:$A$103,'1추총괄표(위원회)'!$A16,'1추일출'!$B$6:$B$103,'1추총괄표(위원회)'!$C16) -> 0 | Z16: =SUMIFS('1추일출'!M$6:M$103,'1추일출'!$A$6:$A$103,'1추총괄표(위원회)'!$A16,'1추일출'!$B$6:$B$103,'1추총괄표(위원회)'!$C16) -> 0 | AA16: =SUMIFS('1추일출'!N$6:N$103,'1추일출'!$A$6:$A$103,'1추총괄표(위원회)'!$A16,'1추일출'!$B$6:$B$103,'1추총괄표(위원회)'!$C16) -> 0 | AB16: =SUMIFS('1추일출'!O$6:O$103,'1추일출'!$A$6:$A$103,'1추총괄표(위원회)'!$A16,'1추일출'!$B$6:$B$103,'1추총괄표(위원회)'!$C16) -> 0 | AC16: =SUMIFS('1추일출'!AA$6:AA$103,'1추일출'!$A$6:$A$103,'1추총괄표(위원회)'!$A16,'1추일출'!$B$6:$B$103,'1추총괄표(위원회)'!C$9) -> 0 | AD16: =SUMIFS('1추일출'!AB$6:AB$103,'1추일출'!$A$6:$A$103,'1추총괄표(위원회)'!$A16,'1추일출'!$B$6:$B$103,'1추총괄표(위원회)'!D$9) -> 0 | AF16: =IF(J16=X16,"OK","@@") -> OK | AG16: =J16-X16 -> 0 | AH16: =IF(O16=AC16,"OK","@@") -> OK | AI16: =O16-AC16 -> 0
A17: 기획재정위원회 | C17: 균형발전기획실 | D17: =SUMIFS('1추일입'!G$6:G$9,'1추일입'!$A$6:$A$9,'1추총괄표(위원회)'!$A17,'1추일입'!$B$6:$B$9,'1추총괄표(위원회)'!$C17) -> 0 | E17: =SUMIFS('1추일입'!H$6:H$9,'1추일입'!$A$6:$A$9,'1추총괄표(위원회)'!$A17,'1추일입'!$B$6:$B$9,'1추총괄표(위원회)'!$C17) -> 0 | F17: =D17-E17 -> 0 | G17: =SUMIFS('1추일입'!J$6:J$9,'1추일입'!$A$6:$A$9,'1추총괄표(위원회)'!$A17,'1추일입'!$B$6:$B$9,'1추총괄표(위원회)'!$C17) -> 0 | H17: =SUMIFS('1추일입'!K$6:K$9,'1추일입'!$A$6:$A$9,'1추총괄표(위원회)'!$A17,'1추일입'!$B$6:$B$9,'1추총괄표(위원회)'!$C17) -> 0 | I17: =SUMIFS('1추일입'!L$6:L$9,'1추일입'!$A$6:$A$9,'1추총괄표(위원회)'!$A17,'1추일입'!$B$6:$B$9,'1추총괄표(위원회)'!$C17) -> 0 | J17: =SUMIFS('1추일입'!V$6:V$9,'1추일입'!$A$6:$A$9,'1추총괄표(위원회)'!$A17,'1추일입'!$B$6:$B$9,'1추총괄표(위원회)'!$C17) -> 0 | K17: =SUMIFS('1추일입'!W$6:W$9,'1추일입'!$A$6:$A$9,'1추총괄표(위원회)'!$A17,'1추일입'!$B$6:$B$9,'1추총괄표(위원회)'!$C17) -> 0 | L17: =SUMIFS('1추일입'!M$6:M$9,'1추일입'!$A$6:$A$9,'1추총괄표(위원회)'!$A17,'1추일입'!$B$6:$B$9,'1추총괄표(위원회)'!$C17) -> 0 | M17: =SUMIFS('1추일입'!N$6:N$9,'1추일입'!$A$6:$A$9,'1추총괄표(위원회)'!$A17,'1추일입'!$B$6:$B$9,'1추총괄표(위원회)'!$C17) -> 0 | N17: =SUMIFS('1추일입'!O$6:O$9,'1추일입'!$A$6:$A$9,'1추총괄표(위원회)'!$A17,'1추일입'!$B$6:$B$9,'1추총괄표(위원회)'!$C17) -> 0 | O17: =SUMIFS('1추일입'!AA$6:AA$9,'1추일입'!$A$6:$A$9,'1추총괄표(위원회)'!$A17,'1추일입'!$B$6:$B$9,'1추총괄표(위원회)'!$C17) -> 0 | P17: =SUMIFS('1추일입'!AB$6:AB$9,'1추일입'!$A$6:$A$9,'1추총괄표(위원회)'!$A17,'1추일입'!$B$6:$B$9,'1추총괄표(위원회)'!$C17) -> 0 | R17: =SUMIFS('1추일출'!G$6:G$103,'1추일출'!$A$6:$A$103,'1추총괄표(위원회)'!$A17,'1추일출'!$B$6:$B$103,'1추총괄표(위원회)'!$C17) -> 0 | S17: =SUMIFS('1추일출'!H$6:H$103,'1추일출'!$A$6:$A$103,'1추총괄표(위원회)'!$A17,'1추일출'!$B$6:$B$103,'1추총괄표(위원회)'!$C17) -> 0 | T17: =R17-S17 -> 0 | U17: =SUMIFS('1추일출'!J$6:J$103,'1추일출'!$A$6:$A$103,'1추총괄표(위원회)'!$A17,'1추일출'!$B$6:$B$103,'1추총괄표(위원회)'!$C17) -> 0 | V17: =SUMIFS('1추일출'!K$6:K$103,'1추일출'!$A$6:$A$103,'1추총괄표(위원회)'!$A17,'1추일출'!$B$6:$B$103,'1추총괄표(위원회)'!$C17) -> 0 | W17: =SUMIFS('1추일출'!L$6:L$103,'1추일출'!$A$6:$A$103,'1추총괄표(위원회)'!$A17,'1추일출'!$B$6:$B$103,'1추총괄표(위원회)'!$C17) -> 0 | X17: =SUMIFS('1추일출'!V$6:V$103,'1추일출'!$A$6:$A$103,'1추총괄표(위원회)'!$A17,'1추일출'!$B$6:$B$103,'1추총괄표(위원회)'!$C17) -> 0 | Y17: =SUMIFS('1추일출'!W$6:W$103,'1추일출'!$A$6:$A$103,'1추총괄표(위원회)'!$A17,'1추일출'!$B$6:$B$103,'1추총괄표(위원회)'!$C17) -> 0 | Z17: =SUMIFS('1추일출'!M$6:M$103,'1추일출'!$A$6:$A$103,'1추총괄표(위원회)'!$A17,'1추일출'!$B$6:$B$103,'1추총괄표(위원회)'!$C17) -> 0 | AA17: =SUMIFS('1추일출'!N$6:N$103,'1추일출'!$A$6:$A$103,'1추총괄표(위원회)'!$A17,'1추일출'!$B$6:$B$103,'1추총괄표(위원회)'!$C17) -> 0 | AB17: =SUMIFS('1추일출'!O$6:O$103,'1추일출'!$A$6:$A$103,'1추총괄표(위원회)'!$A17,'1추일출'!$B$6:$B$103,'1추총괄표(위원회)'!$C17) -> 0 | AC17: =SUMIFS('1추일출'!AA$6:AA$103,'1추일출'!$A$6:$A$103,'1추총괄표(위원회)'!$A17,'1추일출'!$B$6:$B$103,'1추총괄표(위원회)'!C$9) -> 0 | AD17: =SUMIFS('1추일출'!AB$6:AB$103,'1추일출'!$A$6:$A$103,'1추총괄표(위원회)'!$A17,'1추일출'!$B$6:$B$103,'1추총괄표(위원회)'!D$9) -> 0 | AF17: =IF(J17=X17,"OK","@@") -> OK | AG17: =J17-X17 -> 0 | AH17: =IF(O17=AC17,"OK","@@") -> OK | AI17: =O17-AC17 -> 0
A18: 기획재정위원회 | C18: 따복공동체지원단 | D18: =SUMIFS('1추일입'!G$6:G$9,'1추일입'!$A$6:$A$9,'1추총괄표(위원회)'!$A18,'1추일입'!$B$6:$B$9,'1추총괄표(위원회)'!$C18) -> 0 | E18: =SUMIFS('1추일입'!H$6:H$9,'1추일입'!$A$6:$A$9,'1추총괄표(위원회)'!$A18,'1추일입'!$B$6:$B$9,'1추총괄표(위원회)'!$C18) -> 0 | F18: =D18-E18 -> 0 | G18: =SUMIFS('1추일입'!J$6:J$9,'1추일입'!$A$6:$A$9,'1추총괄표(위원회)'!$A18,'1추일입'!$B$6:$B$9,'1추총괄표(위원회)'!$C18) -> 0 | H18: =SUMIFS('1추일입'!K$6:K$9,'1추일입'!$A$6:$A$9,'1추총괄표(위원회)'!$A18,'1추일입'!$B$6:$B$9,'1추총괄표(위원회)'!$C18) -> 0 | I18: =SUMIFS('1추일입'!L$6:L$9,'1추일입'!$A$6:$A$9,'1추총괄표(위원회)'!$A18,'1추일입'!$B$6:$B$9,'1추총괄표(위원회)'!$C18) -> 0 | J18: =SUMIFS('1추일입'!V$6:V$9,'1추일입'!$A$6:$A$9,'1추총괄표(위원회)'!$A18,'1추일입'!$B$6:$B$9,'1추총괄표(위원회)'!$C18) -> 0 | K18: =SUMIFS('1추일입'!W$6:W$9,'1추일입'!$A$6:$A$9,'1추총괄표(위원회)'!$A18,'1추일입'!$B$6:$B$9,'1추총괄표(위원회)'!$C18) -> 0 | L18: =SUMIFS('1추일입'!M$6:M$9,'1추일입'!$A$6:$A$9,'1추총괄표(위원회)'!$A18,'1추일입'!$B$6:$B$9,'1추총괄표(위원회)'!$C18) -> 0 | M18: =SUMIFS('1추일입'!N$6:N$9,'1추일입'!$A$6:$A$9,'1추총괄표(위원회)'!$A18,'1추일입'!$B$6:$B$9,'1추총괄표(위원회)'!$C18) -> 0 | N18: =SUMIFS('1추일입'!O$6:O$9,'1추일입'!$A$6:$A$9,'1추총괄표(위원회)'!$A18,'1추일입'!$B$6:$B$9,'1추총괄표(위원회)'!$C18) -> 0 | O18: =SUMIFS('1추일입'!AA$6:AA$9,'1추일입'!$A$6:$A$9,'1추총괄표(위원회)'!$A18,'1추일입'!$B$6:$B$9,'1추총괄표(위원회)'!$C18) -> 0 | P18: =SUMIFS('1추일입'!AB$6:AB$9,'1추일입'!$A$6:$A$9,'1추총괄표(위원회)'!$A18,'1추일입'!$B$6:$B$9,'1추총괄표(위원회)'!$C18) -> 0 | R18: =SUMIFS('1추일출'!G$6:G$103,'1추일출'!$A$6:$A$103,'1추총괄표(위원회)'!$A18,'1추일출'!$B$6:$B$103,'1추총괄표(위원회)'!$C18) -> 0 | S18: =SUMIFS('1추일출'!H$6:H$103,'1추일출'!$A$6:$A$103,'1추총괄표(위원회)'!$A18,'1추일출'!$B$6:$B$103,'1추총괄표(위원회)'!$C18) -> 0 | T18: =R18-S18 -> 0 | U18: =SUMIFS('1추일출'!J$6:J$103,'1추일출'!$A$6:$A$103,'1추총괄표(위원회)'!$A18,'1추일출'!$B$6:$B$103,'1추총괄표(위원회)'!$C18) -> 0 | V18: =SUMIFS('1추일출'!K$6:K$103,'1추일출'!$A$6:$A$103,'1추총괄표(위원회)'!$A18,'1추일출'!$B$6:$B$103,'1추총괄표(위원회)'!$C18) -> 0 | W18: =SUMIFS('1추일출'!L$6:L$103,'1추일출'!$A$6:$A$103,'1추총괄표(위원회)'!$A18,'1추일출'!$B$6:$B$103,'1추총괄표(위원회)'!$C18) -> 0 | X18: =SUMIFS('1추일출'!V$6:V$103,'1추일출'!$A$6:$A$103,'1추총괄표(위원회)'!$A18,'1추일출'!$B$6:$B$103,'1추총괄표(위원회)'!$C18) -> 0 | Y18: =SUMIFS('1추일출'!W$6:W$103,'1추일출'!$A$6:$A$103,'1추총괄표(위원회)'!$A18,'1추일출'!$B$6:$B$103,'1추총괄표(위원회)'!$C18) -> 0 | Z18: =SUMIFS('1추일출'!M$6:M$103,'1추일출'!$A$6:$A$103,'1추총괄표(위원회)'!$A18,'1추일출'!$B$6:$B$103,'1추총괄표(위원회)'!$C18) -> 0 | AA18: =SUMIFS('1추일출'!N$6:N$103,'1추일출'!$A$6:$A$103,'1추총괄표(위원회)'!$A18,'1추일출'!$B$6:$B$103,'1추총괄표(위원회)'!$C18) -> 0 | AB18: =SUMIFS('1추일출'!O$6:O$103,'1추일출'!$A$6:$A$103,'1추총괄표(위원회)'!$A18,'1추일출'!$B$6:$B$103,'1추총괄표(위원회)'!$C18) -> 0 | AC18: =SUMIFS('1추일출'!AA$6:AA$103,'1추일출'!$A$6:$A$103,'1추총괄표(위원회)'!$A18,'1추일출'!$B$6:$B$103,'1추총괄표(위원회)'!C$9) -> 0 | AD18: =SUMIFS('1추일출'!AB$6:AB$103,'1추일출'!$A$6:$A$103,'1추총괄표(위원회)'!$A18,'1추일출'!$B$6:$B$103,'1추총괄표(위원회)'!D$9) -> 0 | AF18: =IF(J18=X18,"OK","@@") -> OK | AG18: =J18-X18 -> 0 | AH18: =IF(O18=AC18,"OK","@@") -> OK | AI18: =O18-AC18 -> 0
B19: 경제과학기술위원회 | D19: =SUM(D20:D22) -> 0 | E19: =SUM(E20:E22) -> 0 | F19: =SUM(F20:F22) -> 0 | G19: =SUM(G20:G22) -> 0 | H19: =SUM(H20:H22) -> 0 | I19: =SUM(I20:I22) -> 0 | J19: =SUM(J20:J22) -> 0 | K19: =SUM(K20:K22) -> 0 | ... P19: =SUM(P20:P22) -> 0 | R19: =SUM(R20:R22) -> 0 | S19: =SUM(S20:S22) -> 0 | T19: =SUM(T20:T22) -> 0 | U19: =SUM(U20:U22) -> 0 | V19: =SUM(V20:V22) -> 0 | W19: =SUM(W20:W22) -> 0 | X19: =SUM(X20:X22) -> 0 | Y19: =SUM(Y20:Y22) -> 0 | ... AD19: =SUM(AD20:AD22) -> 0 | AF19: =IF(J19=X19,"OK","@@") -> OK | AG19: =J19-X19 -> 0 | AH19: =IF(O19=AC19,"OK","@@") -> OK | AI19: =O19-AC19 -> 0
A20: 경제과학기술위원회 | C20: 경제실 | D20: =SUMIFS('1추일입'!G$6:G$9,'1추일입'!$A$6:$A$9,'1추총괄표(위원회)'!$A20,'1추일입'!$B$6:$B$9,'1추총괄표(위원회)'!$C20) -> 0 | E20: =SUMIFS('1추일입'!H$6:H$9,'1추일입'!$A$6:$A$9,'1추총괄표(위원회)'!$A20,'1추일입'!$B$6:$B$9,'1추총괄표(위원회)'!$C20) -> 0 | F20: =D20-E20 -> 0 | G20: =SUMIFS('1추일입'!J$6:J$9,'1추일입'!$A$6:$A$9,'1추총괄표(위원회)'!$A20,'1추일입'!$B$6:$B$9,'1추총괄표(위원회)'!$C20) -> 0 | H20: =SUMIFS('1추일입'!K$6:K$9,'1추일입'!$A$6:$A$9,'1추총괄표(위원회)'!$A20,'1추일입'!$B$6:$B$9,'1추총괄표(위원회)'!$C20) -> 0 | I20: =SUMIFS('1추일입'!L$6:L$9,'1추일입'!$A$6:$A$9,'1추총괄표(위원회)'!$A20,'1추일입'!$B$6:$B$9,'1추총괄표(위원회)'!$C20) -> 0 | J20: =SUMIFS('1추일입'!V$6:V$9,'1추일입'!$A$6:$A$9,'1추총괄표(위원회)'!$A20,'1추일입'!$B$6:$B$9,'1추총괄표(위원회)'!$C20) -> 0 | K20: =SUMIFS('1추일입'!W$6:W$9,'1추일입'!$A$6:$A$9,'1추총괄표(위원회)'!$A20,'1추일입'!$B$6:$B$9,'1추총괄표(위원회)'!$C20) -> 0 | L20: =SUMIFS('1추일입'!M$6:M$9,'1추일입'!$A$6:$A$9,'1추총괄표(위원회)'!$A20,'1추일입'!$B$6:$B$9,'1추총괄표(위원회)'!$C20) -> 0 | M20: =SUMIFS('1추일입'!N$6:N$9,'1추일입'!$A$6:$A$9,'1추총괄표(위원회)'!$A20,'1추일입'!$B$6:$B$9,'1추총괄표(위원회)'!$C20) -> 0 | N20: =SUMIFS('1추일입'!O$6:O$9,'1추일입'!$A$6:$A$9,'1추총괄표(위원회)'!$A20,'1추일입'!$B$6:$B$9,'1추총괄표(위원회)'!$C20) -> 0 | O20: =SUMIFS('1추일입'!AA$6:AA$9,'1추일입'!$A$6:$A$9,'1추총괄표(위원회)'!$A20,'1추일입'!$B$6:$B$9,'1추총괄표(위원회)'!$C20) -> 0 | P20: =SUMIFS('1추일입'!AB$6:AB$9,'1추일입'!$A$6:$A$9,'1추총괄표(위원회)'!$A20,'1추일입'!$B$6:$B$9,'1추총괄표(위원회)'!$C20) -> 0 | R20: =SUMIFS('1추일출'!G$6:G$103,'1추일출'!$A$6:$A$103,'1추총괄표(위원회)'!$A20,'1추일출'!$B$6:$B$103,'1추총괄표(위원회)'!$C20) -> 0 | S20: =SUMIFS('1추일출'!H$6:H$103,'1추일출'!$A$6:$A$103,'1추총괄표(위원회)'!$A20,'1추일출'!$B$6:$B$103,'1추총괄표(위원회)'!$C20) -> 0 | T20: =R20-S20 -> 0 | U20: =SUMIFS('1추일출'!J$6:J$103,'1추일출'!$A$6:$A$103,'1추총괄표(위원회)'!$A20,'1추일출'!$B$6:$B$103,'1추총괄표(위원회)'!$C20) -> 0 | V20: =SUMIFS('1추일출'!K$6:K$103,'1추일출'!$A$6:$A$103,'1추총괄표(위원회)'!$A20,'1추일출'!$B$6:$B$103,'1추총괄표(위원회)'!$C20) -> 0 | W20: =SUMIFS('1추일출'!L$6:L$103,'1추일출'!$A$6:$A$103,'1추총괄표(위원회)'!$A20,'1추일출'!$B$6:$B$103,'1추총괄표(위원회)'!$C20) -> 0 | X20: =SUMIFS('1추일출'!V$6:V$103,'1추일출'!$A$6:$A$103,'1추총괄표(위원회)'!$A20,'1추일출'!$B$6:$B$103,'1추총괄표(위원회)'!$C20) -> 0 | Y20: =SUMIFS('1추일출'!W$6:W$103,'1추일출'!$A$6:$A$103,'1추총괄표(위원회)'!$A20,'1추일출'!$B$6:$B$103,'1추총괄표(위원회)'!$C20) -> 0 | Z20: =SUMIFS('1추일출'!M$6:M$103,'1추일출'!$A$6:$A$103,'1추총괄표(위원회)'!$A20,'1추일출'!$B$6:$B$103,'1추총괄표(위원회)'!$C20) -> 0 | AA20: =SUMIFS('1추일출'!N$6:N$103,'1추일출'!$A$6:$A$103,'1추총괄표(위원회)'!$A20,'1추일출'!$B$6:$B$103,'1추총괄표(위원회)'!$C20) -> 0 | AB20: =SUMIFS('1추일출'!O$6:O$103,'1추일출'!$A$6:$A$103,'1추총괄표(위원회)'!$A20,'1추일출'!$B$6:$B$103,'1추총괄표(위원회)'!$C20) -> 0 | AC20: =SUMIFS('1추일출'!AA$6:AA$103,'1추일출'!$A$6:$A$103,'1추총괄표(위원회)'!$A20,'1추일출'!$B$6:$B$103,'1추총괄표(위원회)'!C$9) -> 0 | AD20: =SUMIFS('1추일출'!AB$6:AB$103,'1추일출'!$A$6:$A$103,'1추총괄표(위원회)'!$A20,'1추일출'!$B$6:$B$103,'1추총괄표(위원회)'!D$9) -> 0 | AF20: =IF(J20=X20,"OK","@@") -> OK | AG20: =J20-X20 -> 0 | AH20: =IF(O20=AC20,"OK","@@") -> OK | AI20: =O20-AC20 -> 0
A21: 경제과학기술위원회 | C21: 황해경제자유구역청 | D21: =SUMIFS('1추일입'!G$6:G$9,'1추일입'!$A$6:$A$9,'1추총괄표(위원회)'!$A21,'1추일입'!$B$6:$B$9,'1추총괄표(위원회)'!$C21) -> 0 | E21: =SUMIFS('1추일입'!H$6:H$9,'1추일입'!$A$6:$A$9,'1추총괄표(위원회)'!$A21,'1추일입'!$B$6:$B$9,'1추총괄표(위원회)'!$C21) -> 0 | F21: =D21-E21 -> 0 | G21: =SUMIFS('1추일입'!J$6:J$9,'1추일입'!$A$6:$A$9,'1추총괄표(위원회)'!$A21,'1추일입'!$B$6:$B$9,'1추총괄표(위원회)'!$C21) -> 0 | H21: =SUMIFS('1추일입'!K$6:K$9,'1추일입'!$A$6:$A$9,'1추총괄표(위원회)'!$A21,'1추일입'!$B$6:$B$9,'1추총괄표(위원회)'!$C21) -> 0 | I21: =SUMIFS('1추일입'!L$6:L$9,'1추일입'!$A$6:$A$9,'1추총괄표(위원회)'!$A21,'1추일입'!$B$6:$B$9,'1추총괄표(위원회)'!$C21) -> 0 | J21: =SUMIFS('1추일입'!V$6:V$9,'1추일입'!$A$6:$A$9,'1추총괄표(위원회)'!$A21,'1추일입'!$B$6:$B$9,'1추총괄표(위원회)'!$C21) -> 0 | K21: =SUMIFS('1추일입'!W$6:W$9,'1추일입'!$A$6:$A$9,'1추총괄표(위원회)'!$A21,'1추일입'!$B$6:$B$9,'1추총괄표(위원회)'!$C21) -> 0 | L21: =SUMIFS('1추일입'!M$6:M$9,'1추일입'!$A$6:$A$9,'1추총괄표(위원회)'!$A21,'1추일입'!$B$6:$B$9,'1추총괄표(위원회)'!$C21) -> 0 | M21: =SUMIFS('1추일입'!N$6:N$9,'1추일입'!$A$6:$A$9,'1추총괄표(위원회)'!$A21,'1추일입'!$B$6:$B$9,'1추총괄표(위원회)'!$C21) -> 0 | N21: =SUMIFS('1추일입'!O$6:O$9,'1추일입'!$A$6:$A$9,'1추총괄표(위원회)'!$A21,'1추일입'!$B$6:$B$9,'1추총괄표(위원회)'!$C21) -> 0 | O21: =SUMIFS('1추일입'!AA$6:AA$9,'1추일입'!$A$6:$A$9,'1추총괄표(위원회)'!$A21,'1추일입'!$B$6:$B$9,'1추총괄표(위원회)'!$C21) -> 0 | P21: =SUMIFS('1추일입'!AB$6:AB$9,'1추일입'!$A$6:$A$9,'1추총괄표(위원회)'!$A21,'1추일입'!$B$6:$B$9,'1추총괄표(위원회)'!$C21) -> 0 | R21: =SUMIFS('1추일출'!G$6:G$103,'1추일출'!$A$6:$A$103,'1추총괄표(위원회)'!$A21,'1추일출'!$B$6:$B$103,'1추총괄표(위원회)'!$C21) -> 0 | S21: =SUMIFS('1추일출'!H$6:H$103,'1추일출'!$A$6:$A$103,'1추총괄표(위원회)'!$A21,'1추일출'!$B$6:$B$103,'1추총괄표(위원회)'!$C21) -> 0 | T21: =R21-S21 -> 0 | U21: =SUMIFS('1추일출'!J$6:J$103,'1추일출'!$A$6:$A$103,'1추총괄표(위원회)'!$A21,'1추일출'!$B$6:$B$103,'1추총괄표(위원회)'!$C21) -> 0 | V21: =SUMIFS('1추일출'!K$6:K$103,'1추일출'!$A$6:$A$103,'1추총괄표(위원회)'!$A21,'1추일출'!$B$6:$B$103,'1추총괄표(위원회)'!$C21) -> 0 | W21: =SUMIFS('1추일출'!L$6:L$103,'1추일출'!$A$6:$A$103,'1추총괄표(위원회)'!$A21,'1추일출'!$B$6:$B$103,'1추총괄표(위원회)'!$C21) -> 0 | X21: =SUMIFS('1추일출'!V$6:V$103,'1추일출'!$A$6:$A$103,'1추총괄표(위원회)'!$A21,'1추일출'!$B$6:$B$103,'1추총괄표(위원회)'!$C21) -> 0 | Y21: =SUMIFS('1추일출'!W$6:W$103,'1추일출'!$A$6:$A$103,'1추총괄표(위원회)'!$A21,'1추일출'!$B$6:$B$103,'1추총괄표(위원회)'!$C21) -> 0 | Z21: =SUMIFS('1추일출'!M$6:M$103,'1추일출'!$A$6:$A$103,'1추총괄표(위원회)'!$A21,'1추일출'!$B$6:$B$103,'1추총괄표(위원회)'!$C21) -> 0 | AA21: =SUMIFS('1추일출'!N$6:N$103,'1추일출'!$A$6:$A$103,'1추총괄표(위원회)'!$A21,'1추일출'!$B$6:$B$103,'1추총괄표(위원회)'!$C21) -> 0 | AB21: =SUMIFS('1추일출'!O$6:O$103,'1추일출'!$A$6:$A$103,'1추총괄표(위원회)'!$A21,'1추일출'!$B$6:$B$103,'1추총괄표(위원회)'!$C21) -> 0 | AC21: =SUMIFS('1추일출'!AA$6:AA$103,'1추일출'!$A$6:$A$103,'1추총괄표(위원회)'!$A21,'1추일출'!$B$6:$B$103,'1추총괄표(위원회)'!C$9) -> 0 | AD21: =SUMIFS('1추일출'!AB$6:AB$103,'1추일출'!$A$6:$A$103,'1추총괄표(위원회)'!$A21,'1추일출'!$B$6:$B$103,'1추총괄표(위원회)'!D$9) -> 0 | AF21: =IF(J21=X21,"OK","@@") -> OK | AG21: =J21-X21 -> 0 | AH21: =IF(O21=AC21,"OK","@@") -> OK | AI21: =O21-AC21 -> 0
A22: 경제과학기술위원회 | C22: 따복공동체지원단 | D22: =SUMIFS('1추일입'!G$6:G$9,'1추일입'!$A$6:$A$9,'1추총괄표(위원회)'!$A22,'1추일입'!$B$6:$B$9,'1추총괄표(위원회)'!$C22) -> 0 | E22: =SUMIFS('1추일입'!H$6:H$9,'1추일입'!$A$6:$A$9,'1추총괄표(위원회)'!$A22,'1추일입'!$B$6:$B$9,'1추총괄표(위원회)'!$C22) -> 0 | F22: =D22-E22 -> 0 | G22: =SUMIFS('1추일입'!J$6:J$9,'1추일입'!$A$6:$A$9,'1추총괄표(위원회)'!$A22,'1추일입'!$B$6:$B$9,'1추총괄표(위원회)'!$C22) -> 0 | H22: =SUMIFS('1추일입'!K$6:K$9,'1추일입'!$A$6:$A$9,'1추총괄표(위원회)'!$A22,'1추일입'!$B$6:$B$9,'1추총괄표(위원회)'!$C22) -> 0 | I22: =SUMIFS('1추일입'!L$6:L$9,'1추일입'!$A$6:$A$9,'1추총괄표(위원회)'!$A22,'1추일입'!$B$6:$B$9,'1추총괄표(위원회)'!$C22) -> 0 | J22: =SUMIFS('1추일입'!V$6:V$9,'1추일입'!$A$6:$A$9,'1추총괄표(위원회)'!$A22,'1추일입'!$B$6:$B$9,'1추총괄표(위원회)'!$C22) -> 0 | K22: =SUMIFS('1추일입'!W$6:W$9,'1추일입'!$A$6:$A$9,'1추총괄표(위원회)'!$A22,'1추일입'!$B$6:$B$9,'1추총괄표(위원회)'!$C22) -> 0 | L22: =SUMIFS('1추일입'!M$6:M$9,'1추일입'!$A$6:$A$9,'1추총괄표(위원회)'!$A22,'1추일입'!$B$6:$B$9,'1추총괄표(위원회)'!$C22) -> 0 | M22: =SUMIFS('1추일입'!N$6:N$9,'1추일입'!$A$6:$A$9,'1추총괄표(위원회)'!$A22,'1추일입'!$B$6:$B$9,'1추총괄표(위원회)'!$C22) -> 0 | N22: =SUMIFS('1추일입'!O$6:O$9,'1추일입'!$A$6:$A$9,'1추총괄표(위원회)'!$A22,'1추일입'!$B$6:$B$9,'1추총괄표(위원회)'!$C22) -> 0 | O22: =SUMIFS('1추일입'!AA$6:AA$9,'1추일입'!$A$6:$A$9,'1추총괄표(위원회)'!$A22,'1추일입'!$B$6:$B$9,'1추총괄표(위원회)'!$C22) -> 0 | P22: =SUMIFS('1추일입'!AB$6:AB$9,'1추일입'!$A$6:$A$9,'1추총괄표(위원회)'!$A22,'1추일입'!$B$6:$B$9,'1추총괄표(위원회)'!$C22) -> 0 | R22: =SUMIFS('1추일출'!G$6:G$103,'1추일출'!$A$6:$A$103,'1추총괄표(위원회)'!$A22,'1추일출'!$B$6:$B$103,'1추총괄표(위원회)'!$C22) -> 0 | S22: =SUMIFS('1추일출'!H$6:H$103,'1추일출'!$A$6:$A$103,'1추총괄표(위원회)'!$A22,'1추일출'!$B$6:$B$103,'1추총괄표(위원회)'!$C22) -> 0 | T22: =R22-S22 -> 0 | U22: =SUMIFS('1추일출'!J$6:J$103,'1추일출'!$A$6:$A$103,'1추총괄표(위원회)'!$A22,'1추일출'!$B$6:$B$103,'1추총괄표(위원회)'!$C22) -> 0 | V22: =SUMIFS('1추일출'!K$6:K$103,'1추일출'!$A$6:$A$103,'1추총괄표(위원회)'!$A22,'1추일출'!$B$6:$B$103,'1추총괄표(위원회)'!$C22) -> 0 | W22: =SUMIFS('1추일출'!L$6:L$103,'1추일출'!$A$6:$A$103,'1추총괄표(위원회)'!$A22,'1추일출'!$B$6:$B$103,'1추총괄표(위원회)'!$C22) -> 0 | X22: =SUMIFS('1추일출'!V$6:V$103,'1추일출'!$A$6:$A$103,'1추총괄표(위원회)'!$A22,'1추일출'!$B$6:$B$103,'1추총괄표(위원회)'!$C22) -> 0 | Y22: =SUMIFS('1추일출'!W$6:W$103,'1추일출'!$A$6:$A$103,'1추총괄표(위원회)'!$A22,'1추일출'!$B$6:$B$103,'1추총괄표(위원회)'!$C22) -> 0 | Z22: =SUMIFS('1추일출'!M$6:M$103,'1추일출'!$A$6:$A$103,'1추총괄표(위원회)'!$A22,'1추일출'!$B$6:$B$103,'1추총괄표(위원회)'!$C22) -> 0 | AA22: =SUMIFS('1추일출'!N$6:N$103,'1추일출'!$A$6:$A$103,'1추총괄표(위원회)'!$A22,'1추일출'!$B$6:$B$103,'1추총괄표(위원회)'!$C22) -> 0 | AB22: =SUMIFS('1추일출'!O$6:O$103,'1추일출'!$A$6:$A$103,'1추총괄표(위원회)'!$A22,'1추일출'!$B$6:$B$103,'1추총괄표(위원회)'!$C22) -> 0 | AC22: =SUMIFS('1추일출'!AA$6:AA$103,'1추일출'!$A$6:$A$103,'1추총괄표(위원회)'!$A22,'1추일출'!$B$6:$B$103,'1추총괄표(위원회)'!C$9) -> 0 | AD22: =SUMIFS('1추일출'!AB$6:AB$103,'1추일출'!$A$6:$A$103,'1추총괄표(위원회)'!$A22,'1추일출'!$B$6:$B$103,'1추총괄표(위원회)'!D$9) -> 0 | AF22: =IF(J22=X22,"OK","@@") -> OK | AG22: =J22-X22 -> 0 | AH22: =IF(O22=AC22,"OK","@@") -> OK | AI22: =O22-AC22 -> 0
B23: 안전행정위원회 | D23: =SUM(D24:D27) -> 0 | E23: =SUM(E24:E27) -> 0 | F23: =SUM(F24:F27) -> 0 | G23: =SUM(G24:G27) -> 0 | H23: =SUM(H24:H27) -> 0 | I23: =SUM(I24:I27) -> 0 | J23: =SUM(J24:J27) -> 0 | K23: =SUM(K24:K27) -> 0 | ... P23: =SUM(P24:P27) -> 0 | R23: =SUM(R24:R27) -> 0 | S23: =SUM(S24:S27) -> 0 | T23: =SUM(T24:T27) -> 0 | U23: =SUM(U24:U27) -> 0 | V23: =SUM(V24:V27) -> 0 | W23: =SUM(W24:W27) -> 0 | X23: =SUM(X24:X27) -> 0 | Y23: =SUM(Y24:Y27) -> 0 | ... AD23: =SUM(AD24:AD27) -> 0 | AF23: =IF(J23=X23,"OK","@@") -> OK | AG23: =J23-X23 -> 0 | AH23: =IF(O23=AC23,"OK","@@") -> OK | AI23: =O23-AC23 -> 0
A24: 안전행정위원회 | C24: 자치행정국 | D24: =SUMIFS('1추일입'!G$6:G$9,'1추일입'!$A$6:$A$9,'1추총괄표(위원회)'!$A24,'1추일입'!$B$6:$B$9,'1추총괄표(위원회)'!$C24) -> 0 | E24: =SUMIFS('1추일입'!H$6:H$9,'1추일입'!$A$6:$A$9,'1추총괄표(위원회)'!$A24,'1추일입'!$B$6:$B$9,'1추총괄표(위원회)'!$C24) -> 0 | F24: =D24-E24 -> 0 | G24: =SUMIFS('1추일입'!J$6:J$9,'1추일입'!$A$6:$A$9,'1추총괄표(위원회)'!$A24,'1추일입'!$B$6:$B$9,'1추총괄표(위원회)'!$C24) -> 0 | H24: =SUMIFS('1추일입'!K$6:K$9,'1추일입'!$A$6:$A$9,'1추총괄표(위원회)'!$A24,'1추일입'!$B$6:$B$9,'1추총괄표(위원회)'!$C24) -> 0 | I24: =SUMIFS('1추일입'!L$6:L$9,'1추일입'!$A$6:$A$9,'1추총괄표(위원회)'!$A24,'1추일입'!$B$6:$B$9,'1추총괄표(위원회)'!$C24) -> 0 | J24: =SUMIFS('1추일입'!V$6:V$9,'1추일입'!$A$6:$A$9,'1추총괄표(위원회)'!$A24,'1추일입'!$B$6:$B$9,'1추총괄표(위원회)'!$C24) -> 0 | K24: =SUMIFS('1추일입'!W$6:W$9,'1추일입'!$A$6:$A$9,'1추총괄표(위원회)'!$A24,'1추일입'!$B$6:$B$9,'1추총괄표(위원회)'!$C24) -> 0 | L24: =SUMIFS('1추일입'!M$6:M$9,'1추일입'!$A$6:$A$9,'1추총괄표(위원회)'!$A24,'1추일입'!$B$6:$B$9,'1추총괄표(위원회)'!$C24) -> 0 | M24: =SUMIFS('1추일입'!N$6:N$9,'1추일입'!$A$6:$A$9,'1추총괄표(위원회)'!$A24,'1추일입'!$B$6:$B$9,'1추총괄표(위원회)'!$C24) -> 0 | N24: =SUMIFS('1추일입'!O$6:O$9,'1추일입'!$A$6:$A$9,'1추총괄표(위원회)'!$A24,'1추일입'!$B$6:$B$9,'1추총괄표(위원회)'!$C24) -> 0 | O24: =SUMIFS('1추일입'!AA$6:AA$9,'1추일입'!$A$6:$A$9,'1추총괄표(위원회)'!$A24,'1추일입'!$B$6:$B$9,'1추총괄표(위원회)'!$C24) -> 0 | P24: =SUMIFS('1추일입'!AB$6:AB$9,'1추일입'!$A$6:$A$9,'1추총괄표(위원회)'!$A24,'1추일입'!$B$6:$B$9,'1추총괄표(위원회)'!$C24) -> 0 | R24: =SUMIFS('1추일출'!G$6:G$103,'1추일출'!$A$6:$A$103,'1추총괄표(위원회)'!$A24,'1추일출'!$B$6:$B$103,'1추총괄표(위원회)'!$C24) -> 0 | S24: =SUMIFS('1추일출'!H$6:H$103,'1추일출'!$A$6:$A$103,'1추총괄표(위원회)'!$A24,'1추일출'!$B$6:$B$103,'1추총괄표(위원회)'!$C24) -> 0 | T24: =R24-S24 -> 0 | U24: =SUMIFS('1추일출'!J$6:J$103,'1추일출'!$A$6:$A$103,'1추총괄표(위원회)'!$A24,'1추일출'!$B$6:$B$103,'1추총괄표(위원회)'!$C24) -> 0 | V24: =SUMIFS('1추일출'!K$6:K$103,'1추일출'!$A$6:$A$103,'1추총괄표(위원회)'!$A24,'1추일출'!$B$6:$B$103,'1추총괄표(위원회)'!$C24) -> 0 | W24: =SUMIFS('1추일출'!L$6:L$103,'1추일출'!$A$6:$A$103,'1추총괄표(위원회)'!$A24,'1추일출'!$B$6:$B$103,'1추총괄표(위원회)'!$C24) -> 0 | X24: =SUMIFS('1추일출'!V$6:V$103,'1추일출'!$A$6:$A$103,'1추총괄표(위원회)'!$A24,'1추일출'!$B$6:$B$103,'1추총괄표(위원회)'!$C24) -> 0 | Y24: =SUMIFS('1추일출'!W$6:W$103,'1추일출'!$A$6:$A$103,'1추총괄표(위원회)'!$A24,'1추일출'!$B$6:$B$103,'1추총괄표(위원회)'!$C24) -> 0 | Z24: =SUMIFS('1추일출'!M$6:M$103,'1추일출'!$A$6:$A$103,'1추총괄표(위원회)'!$A24,'1추일출'!$B$6:$B$103,'1추총괄표(위원회)'!$C24) -> 0 | AA24: =SUMIFS('1추일출'!N$6:N$103,'1추일출'!$A$6:$A$103,'1추총괄표(위원회)'!$A24,'1추일출'!$B$6:$B$103,'1추총괄표(위원회)'!$C24) -> 0 | AB24: =SUMIFS('1추일출'!O$6:O$103,'1추일출'!$A$6:$A$103,'1추총괄표(위원회)'!$A24,'1추일출'!$B$6:$B$103,'1추총괄표(위원회)'!$C24) -> 0 | AC24: =SUMIFS('1추일출'!AA$6:AA$103,'1추일출'!$A$6:$A$103,'1추총괄표(위원회)'!$A24,'1추일출'!$B$6:$B$103,'1추총괄표(위원회)'!C$9) -> 0 | AD24: =SUMIFS('1추일출'!AB$6:AB$103,'1추일출'!$A$6:$A$103,'1추총괄표(위원회)'!$A24,'1추일출'!$B$6:$B$103,'1추총괄표(위원회)'!D$9) -> 0 | AF24: =IF(J24=X24,"OK","@@") -> OK | AG24: =J24-X24 -> 0 | AH24: =IF(O24=AC24,"OK","@@") -> OK | AI24: =O24-AC24 -> 0
A25: 안전행정위원회 | C25: 재난안전본부 | D25: =SUMIFS('1추일입'!G$6:G$9,'1추일입'!$A$6:$A$9,'1추총괄표(위원회)'!$A25,'1추일입'!$B$6:$B$9,'1추총괄표(위원회)'!$C25) -> 0 | E25: =SUMIFS('1추일입'!H$6:H$9,'1추일입'!$A$6:$A$9,'1추총괄표(위원회)'!$A25,'1추일입'!$B$6:$B$9,'1추총괄표(위원회)'!$C25) -> 0 | F25: =D25-E25 -> 0 | G25: =SUMIFS('1추일입'!J$6:J$9,'1추일입'!$A$6:$A$9,'1추총괄표(위원회)'!$A25,'1추일입'!$B$6:$B$9,'1추총괄표(위원회)'!$C25) -> 0 | H25: =SUMIFS('1추일입'!K$6:K$9,'1추일입'!$A$6:$A$9,'1추총괄표(위원회)'!$A25,'1추일입'!$B$6:$B$9,'1추총괄표(위원회)'!$C25) -> 0 | I25: =SUMIFS('1추일입'!L$6:L$9,'1추일입'!$A$6:$A$9,'1추총괄표(위원회)'!$A25,'1추일입'!$B$6:$B$9,'1추총괄표(위원회)'!$C25) -> 0 | J25: =SUMIFS('1추일입'!V$6:V$9,'1추일입'!$A$6:$A$9,'1추총괄표(위원회)'!$A25,'1추일입'!$B$6:$B$9,'1추총괄표(위원회)'!$C25) -> 0 | K25: =SUMIFS('1추일입'!W$6:W$9,'1추일입'!$A$6:$A$9,'1추총괄표(위원회)'!$A25,'1추일입'!$B$6:$B$9,'1추총괄표(위원회)'!$C25) -> 0 | L25: =SUMIFS('1추일입'!M$6:M$9,'1추일입'!$A$6:$A$9,'1추총괄표(위원회)'!$A25,'1추일입'!$B$6:$B$9,'1추총괄표(위원회)'!$C25) -> 0 | M25: =SUMIFS('1추일입'!N$6:N$9,'1추일입'!$A$6:$A$9,'1추총괄표(위원회)'!$A25,'1추일입'!$B$6:$B$9,'1추총괄표(위원회)'!$C25) -> 0 | N25: =SUMIFS('1추일입'!O$6:O$9,'1추일입'!$A$6:$A$9,'1추총괄표(위원회)'!$A25,'1추일입'!$B$6:$B$9,'1추총괄표(위원회)'!$C25) -> 0 | O25: =SUMIFS('1추일입'!AA$6:AA$9,'1추일입'!$A$6:$A$9,'1추총괄표(위원회)'!$A25,'1추일입'!$B$6:$B$9,'1추총괄표(위원회)'!$C25) -> 0 | P25: =SUMIFS('1추일입'!AB$6:AB$9,'1추일입'!$A$6:$A$9,'1추총괄표(위원회)'!$A25,'1추일입'!$B$6:$B$9,'1추총괄표(위원회)'!$C25) -> 0 | R25: =SUMIFS('1추일출'!G$6:G$103,'1추일출'!$A$6:$A$103,'1추총괄표(위원회)'!$A25,'1추일출'!$B$6:$B$103,'1추총괄표(위원회)'!$C25) -> 0 | S25: =SUMIFS('1추일출'!H$6:H$103,'1추일출'!$A$6:$A$103,'1추총괄표(위원회)'!$A25,'1추일출'!$B$6:$B$103,'1추총괄표(위원회)'!$C25) -> 0 | T25: =R25-S25 -> 0 | U25: =SUMIFS('1추일출'!J$6:J$103,'1추일출'!$A$6:$A$103,'1추총괄표(위원회)'!$A25,'1추일출'!$B$6:$B$103,'1추총괄표(위원회)'!$C25) -> 0 | V25: =SUMIFS('1추일출'!K$6:K$103,'1추일출'!$A$6:$A$103,'1추총괄표(위원회)'!$A25,'1추일출'!$B$6:$B$103,'1추총괄표(위원회)'!$C25) -> 0 | W25: =SUMIFS('1추일출'!L$6:L$103,'1추일출'!$A$6:$A$103,'1추총괄표(위원회)'!$A25,'1추일출'!$B$6:$B$103,'1추총괄표(위원회)'!$C25) -> 0 | X25: =SUMIFS('1추일출'!V$6:V$103,'1추일출'!$A$6:$A$103,'1추총괄표(위원회)'!$A25,'1추일출'!$B$6:$B$103,'1추총괄표(위원회)'!$C25) -> 0 | Y25: =SUMIFS('1추일출'!W$6:W$103,'1추일출'!$A$6:$A$103,'1추총괄표(위원회)'!$A25,'1추일출'!$B$6:$B$103,'1추총괄표(위원회)'!$C25) -> 0 | Z25: =SUMIFS('1추일출'!M$6:M$103,'1추일출'!$A$6:$A$103,'1추총괄표(위원회)'!$A25,'1추일출'!$B$6:$B$103,'1추총괄표(위원회)'!$C25) -> 0 | AA25: =SUMIFS('1추일출'!N$6:N$103,'1추일출'!$A$6:$A$103,'1추총괄표(위원회)'!$A25,'1추일출'!$B$6:$B$103,'1추총괄표(위원회)'!$C25) -> 0 | AB25: =SUMIFS('1추일출'!O$6:O$103,'1추일출'!$A$6:$A$103,'1추총괄표(위원회)'!$A25,'1추일출'!$B$6:$B$103,'1추총괄표(위원회)'!$C25) -> 0 | AC25: =SUMIFS('1추일출'!AA$6:AA$103,'1추일출'!$A$6:$A$103,'1추총괄표(위원회)'!$A25,'1추일출'!$B$6:$B$103,'1추총괄표(위원회)'!C$9) -> 0 | AD25: =SUMIFS('1추일출'!AB$6:AB$103,'1추일출'!$A$6:$A$103,'1추총괄표(위원회)'!$A25,'1추일출'!$B$6:$B$103,'1추총괄표(위원회)'!D$9) -> 0 | AF25: =IF(J25=X25,"OK","@@") -> OK | AG25: =J25-X25 -> 0 | AH25: =IF(O25=AC25,"OK","@@") -> OK | AI25: =O25-AC25 -> 0
A26: 안전행정위원회 | C26: 균형발전기획실 | D26: =SUMIFS('1추일입'!G$6:G$9,'1추일입'!$A$6:$A$9,'1추총괄표(위원회)'!$A26,'1추일입'!$B$6:$B$9,'1추총괄표(위원회)'!$C26) -> 0 | E26: =SUMIFS('1추일입'!H$6:H$9,'1추일입'!$A$6:$A$9,'1추총괄표(위원회)'!$A26,'1추일입'!$B$6:$B$9,'1추총괄표(위원회)'!$C26) -> 0 | F26: =D26-E26 -> 0 | G26: =SUMIFS('1추일입'!J$6:J$9,'1추일입'!$A$6:$A$9,'1추총괄표(위원회)'!$A26,'1추일입'!$B$6:$B$9,'1추총괄표(위원회)'!$C26) -> 0 | H26: =SUMIFS('1추일입'!K$6:K$9,'1추일입'!$A$6:$A$9,'1추총괄표(위원회)'!$A26,'1추일입'!$B$6:$B$9,'1추총괄표(위원회)'!$C26) -> 0 | I26: =SUMIFS('1추일입'!L$6:L$9,'1추일입'!$A$6:$A$9,'1추총괄표(위원회)'!$A26,'1추일입'!$B$6:$B$9,'1추총괄표(위원회)'!$C26) -> 0 | J26: =SUMIFS('1추일입'!V$6:V$9,'1추일입'!$A$6:$A$9,'1추총괄표(위원회)'!$A26,'1추일입'!$B$6:$B$9,'1추총괄표(위원회)'!$C26) -> 0 | K26: =SUMIFS('1추일입'!W$6:W$9,'1추일입'!$A$6:$A$9,'1추총괄표(위원회)'!$A26,'1추일입'!$B$6:$B$9,'1추총괄표(위원회)'!$C26) -> 0 | L26: =SUMIFS('1추일입'!M$6:M$9,'1추일입'!$A$6:$A$9,'1추총괄표(위원회)'!$A26,'1추일입'!$B$6:$B$9,'1추총괄표(위원회)'!$C26) -> 0 | M26: =SUMIFS('1추일입'!N$6:N$9,'1추일입'!$A$6:$A$9,'1추총괄표(위원회)'!$A26,'1추일입'!$B$6:$B$9,'1추총괄표(위원회)'!$C26) -> 0 | N26: =SUMIFS('1추일입'!O$6:O$9,'1추일입'!$A$6:$A$9,'1추총괄표(위원회)'!$A26,'1추일입'!$B$6:$B$9,'1추총괄표(위원회)'!$C26) -> 0 | O26: =SUMIFS('1추일입'!AA$6:AA$9,'1추일입'!$A$6:$A$9,'1추총괄표(위원회)'!$A26,'1추일입'!$B$6:$B$9,'1추총괄표(위원회)'!$C26) -> 0 | P26: =SUMIFS('1추일입'!AB$6:AB$9,'1추일입'!$A$6:$A$9,'1추총괄표(위원회)'!$A26,'1추일입'!$B$6:$B$9,'1추총괄표(위원회)'!$C26) -> 0 | R26: =SUMIFS('1추일출'!G$6:G$103,'1추일출'!$A$6:$A$103,'1추총괄표(위원회)'!$A26,'1추일출'!$B$6:$B$103,'1추총괄표(위원회)'!$C26) -> 0 | S26: =SUMIFS('1추일출'!H$6:H$103,'1추일출'!$A$6:$A$103,'1추총괄표(위원회)'!$A26,'1추일출'!$B$6:$B$103,'1추총괄표(위원회)'!$C26) -> 0 | T26: =R26-S26 -> 0 | U26: =SUMIFS('1추일출'!J$6:J$103,'1추일출'!$A$6:$A$103,'1추총괄표(위원회)'!$A26,'1추일출'!$B$6:$B$103,'1추총괄표(위원회)'!$C26) -> 0 | V26: =SUMIFS('1추일출'!K$6:K$103,'1추일출'!$A$6:$A$103,'1추총괄표(위원회)'!$A26,'1추일출'!$B$6:$B$103,'1추총괄표(위원회)'!$C26) -> 0 | W26: =SUMIFS('1추일출'!L$6:L$103,'1추일출'!$A$6:$A$103,'1추총괄표(위원회)'!$A26,'1추일출'!$B$6:$B$103,'1추총괄표(위원회)'!$C26) -> 0 | X26: =SUMIFS('1추일출'!V$6:V$103,'1추일출'!$A$6:$A$103,'1추총괄표(위원회)'!$A26,'1추일출'!$B$6:$B$103,'1추총괄표(위원회)'!$C26) -> 0 | Y26: =SUMIFS('1추일출'!W$6:W$103,'1추일출'!$A$6:$A$103,'1추총괄표(위원회)'!$A26,'1추일출'!$B$6:$B$103,'1추총괄표(위원회)'!$C26) -> 0 | Z26: =SUMIFS('1추일출'!M$6:M$103,'1추일출'!$A$6:$A$103,'1추총괄표(위원회)'!$A26,'1추일출'!$B$6:$B$103,'1추총괄표(위원회)'!$C26) -> 0 | AA26: =SUMIFS('1추일출'!N$6:N$103,'1추일출'!$A$6:$A$103,'1추총괄표(위원회)'!$A26,'1추일출'!$B$6:$B$103,'1추총괄표(위원회)'!$C26) -> 0 | AB26: =SUMIFS('1추일출'!O$6:O$103,'1추일출'!$A$6:$A$103,'1추총괄표(위원회)'!$A26,'1추일출'!$B$6:$B$103,'1추총괄표(위원회)'!$C26) -> 0 | AC26: =SUMIFS('1추일출'!AA$6:AA$103,'1추일출'!$A$6:$A$103,'1추총괄표(위원회)'!$A26,'1추일출'!$B$6:$B$103,'1추총괄표(위원회)'!C$9) -> 0 | AD26: =SUMIFS('1추일출'!AB$6:AB$103,'1추일출'!$A$6:$A$103,'1추총괄표(위원회)'!$A26,'1추일출'!$B$6:$B$103,'1추총괄표(위원회)'!D$9) -> 0 | AF26: =IF(J26=X26,"OK","@@") -> OK | AG26: =J26-X26 -> 0 | AH26: =IF(O26=AC26,"OK","@@") -> OK | AI26: =O26-AC26 -> 0
A27: 안전행정위원회 | C27: 인재개발원 | D27: =SUMIFS('1추일입'!G$6:G$9,'1추일입'!$A$6:$A$9,'1추총괄표(위원회)'!$A27,'1추일입'!$B$6:$B$9,'1추총괄표(위원회)'!$C27) -> 0 | E27: =SUMIFS('1추일입'!H$6:H$9,'1추일입'!$A$6:$A$9,'1추총괄표(위원회)'!$A27,'1추일입'!$B$6:$B$9,'1추총괄표(위원회)'!$C27) -> 0 | F27: =D27-E27 -> 0 | G27: =SUMIFS('1추일입'!J$6:J$9,'1추일입'!$A$6:$A$9,'1추총괄표(위원회)'!$A27,'1추일입'!$B$6:$B$9,'1추총괄표(위원회)'!$C27) -> 0 | H27: =SUMIFS('1추일입'!K$6:K$9,'1추일입'!$A$6:$A$9,'1추총괄표(위원회)'!$A27,'1추일입'!$B$6:$B$9,'1추총괄표(위원회)'!$C27) -> 0 | I27: =SUMIFS('1추일입'!L$6:L$9,'1추일입'!$A$6:$A$9,'1추총괄표(위원회)'!$A27,'1추일입'!$B$6:$B$9,'1추총괄표(위원회)'!$C27) -> 0 | J27: =SUMIFS('1추일입'!V$6:V$9,'1추일입'!$A$6:$A$9,'1추총괄표(위원회)'!$A27,'1추일입'!$B$6:$B$9,'1추총괄표(위원회)'!$C27) -> 0 | K27: =SUMIFS('1추일입'!W$6:W$9,'1추일입'!$A$6:$A$9,'1추총괄표(위원회)'!$A27,'1추일입'!$B$6:$B$9,'1추총괄표(위원회)'!$C27) -> 0 | L27: =SUMIFS('1추일입'!M$6:M$9,'1추일입'!$A$6:$A$9,'1추총괄표(위원회)'!$A27,'1추일입'!$B$6:$B$9,'1추총괄표(위원회)'!$C27) -> 0 | M27: =SUMIFS('1추일입'!N$6:N$9,'1추일입'!$A$6:$A$9,'1추총괄표(위원회)'!$A27,'1추일입'!$B$6:$B$9,'1추총괄표(위원회)'!$C27) -> 0 | N27: =SUMIFS('1추일입'!O$6:O$9,'1추일입'!$A$6:$A$9,'1추총괄표(위원회)'!$A27,'1추일입'!$B$6:$B$9,'1추총괄표(위원회)'!$C27) -> 0 | O27: =SUMIFS('1추일입'!AA$6:AA$9,'1추일입'!$A$6:$A$9,'1추총괄표(위원회)'!$A27,'1추일입'!$B$6:$B$9,'1추총괄표(위원회)'!$C27) -> 0 | P27: =SUMIFS('1추일입'!AB$6:AB$9,'1추일입'!$A$6:$A$9,'1추총괄표(위원회)'!$A27,'1추일입'!$B$6:$B$9,'1추총괄표(위원회)'!$C27) -> 0 | R27: =SUMIFS('1추일출'!G$6:G$103,'1추일출'!$A$6:$A$103,'1추총괄표(위원회)'!$A27,'1추일출'!$B$6:$B$103,'1추총괄표(위원회)'!$C27) -> 0 | S27: =SUMIFS('1추일출'!H$6:H$103,'1추일출'!$A$6:$A$103,'1추총괄표(위원회)'!$A27,'1추일출'!$B$6:$B$103,'1추총괄표(위원회)'!$C27) -> 0 | T27: =R27-S27 -> 0 | U27: =SUMIFS('1추일출'!J$6:J$103,'1추일출'!$A$6:$A$103,'1추총괄표(위원회)'!$A27,'1추일출'!$B$6:$B$103,'1추총괄표(위원회)'!$C27) -> 0 | V27: =SUMIFS('1추일출'!K$6:K$103,'1추일출'!$A$6:$A$103,'1추총괄표(위원회)'!$A27,'1추일출'!$B$6:$B$103,'1추총괄표(위원회)'!$C27) -> 0 | W27: =SUMIFS('1추일출'!L$6:L$103,'1추일출'!$A$6:$A$103,'1추총괄표(위원회)'!$A27,'1추일출'!$B$6:$B$103,'1추총괄표(위원회)'!$C27) -> 0 | X27: =SUMIFS('1추일출'!V$6:V$103,'1추일출'!$A$6:$A$103,'1추총괄표(위원회)'!$A27,'1추일출'!$B$6:$B$103,'1추총괄표(위원회)'!$C27) -> 0 | Y27: =SUMIFS('1추일출'!W$6:W$103,'1추일출'!$A$6:$A$103,'1추총괄표(위원회)'!$A27,'1추일출'!$B$6:$B$103,'1추총괄표(위원회)'!$C27) -> 0 | Z27: =SUMIFS('1추일출'!M$6:M$103,'1추일출'!$A$6:$A$103,'1추총괄표(위원회)'!$A27,'1추일출'!$B$6:$B$103,'1추총괄표(위원회)'!$C27) -> 0 | AA27: =SUMIFS('1추일출'!N$6:N$103,'1추일출'!$A$6:$A$103,'1추총괄표(위원회)'!$A27,'1추일출'!$B$6:$B$103,'1추총괄표(위원회)'!$C27) -> 0 | AB27: =SUMIFS('1추일출'!O$6:O$103,'1추일출'!$A$6:$A$103,'1추총괄표(위원회)'!$A27,'1추일출'!$B$6:$B$103,'1추총괄표(위원회)'!$C27) -> 0 | AC27: =SUMIFS('1추일출'!AA$6:AA$103,'1추일출'!$A$6:$A$103,'1추총괄표(위원회)'!$A27,'1추일출'!$B$6:$B$103,'1추총괄표(위원회)'!C$9) -> 0 | AD27: =SUMIFS('1추일출'!AB$6:AB$103,'1추일출'!$A$6:$A$103,'1추총괄표(위원회)'!$A27,'1추일출'!$B$6:$B$103,'1추총괄표(위원회)'!D$9) -> 0 | AF27: =IF(J27=X27,"OK","@@") -> OK | AG27: =J27-X27 -> 0 | AH27: =IF(O27=AC27,"OK","@@") -> OK | AI27: =O27-AC27 -> 0
B28: 문화체육관광위원회 | D28: =SUM(D29) -> 0 | E28: =SUM(E29) -> 0 | F28: =SUM(F29) -> 0 | G28: =SUM(G29) -> 0 | H28: =SUM(H29) -> 0 | I28: =SUM(I29) -> 0 | J28: =SUM(J29) -> 0 | K28: =SUM(K29) -> 0 | ... P28: =SUM(P29) -> 0 | R28: =SUM(R29) -> 0 | S28: =SUM(S29) -> 0 | T28: =SUM(T29) -> 0 | U28: =SUM(U29) -> 0 | V28: =SUM(V29) -> 0 | W28: =SUM(W29) -> 0 | X28: =SUM(X29) -> 0 | Y28: =SUM(Y29) -> 0 | ... AD28: =SUM(AD29) -> 0 | AF28: =IF(J28=X28,"OK","@@") -> OK | AG28: =J28-X28 -> 0 | AH28: =IF(O28=AC28,"OK","@@") -> OK | AI28: =O28-AC28 -> 0
A29: 문화체육관광위원회 | C29: 문화체육관광국 | D29: =SUMIFS('1추일입'!G$6:G$9,'1추일입'!$A$6:$A$9,'1추총괄표(위원회)'!$A29,'1추일입'!$B$6:$B$9,'1추총괄표(위원회)'!$C29) -> 0 | E29: =SUMIFS('1추일입'!H$6:H$9,'1추일입'!$A$6:$A$9,'1추총괄표(위원회)'!$A29,'1추일입'!$B$6:$B$9,'1추총괄표(위원회)'!$C29) -> 0 | F29: =D29-E29 -> 0 | G29: =SUMIFS('1추일입'!J$6:J$9,'1추일입'!$A$6:$A$9,'1추총괄표(위원회)'!$A29,'1추일입'!$B$6:$B$9,'1추총괄표(위원회)'!$C29) -> 0 | H29: =SUMIFS('1추일입'!K$6:K$9,'1추일입'!$A$6:$A$9,'1추총괄표(위원회)'!$A29,'1추일입'!$B$6:$B$9,'1추총괄표(위원회)'!$C29) -> 0 | I29: =SUMIFS('1추일입'!L$6:L$9,'1추일입'!$A$6:$A$9,'1추총괄표(위원회)'!$A29,'1추일입'!$B$6:$B$9,'1추총괄표(위원회)'!$C29) -> 0 | J29: =SUMIFS('1추일입'!V$6:V$9,'1추일입'!$A$6:$A$9,'1추총괄표(위원회)'!$A29,'1추일입'!$B$6:$B$9,'1추총괄표(위원회)'!$C29) -> 0 | K29: =SUMIFS('1추일입'!W$6:W$9,'1추일입'!$A$6:$A$9,'1추총괄표(위원회)'!$A29,'1추일입'!$B$6:$B$9,'1추총괄표(위원회)'!$C29) -> 0 | L29: =SUMIFS('1추일입'!M$6:M$9,'1추일입'!$A$6:$A$9,'1추총괄표(위원회)'!$A29,'1추일입'!$B$6:$B$9,'1추총괄표(위원회)'!$C29) -> 0 | M29: =SUMIFS('1추일입'!N$6:N$9,'1추일입'!$A$6:$A$9,'1추총괄표(위원회)'!$A29,'1추일입'!$B$6:$B$9,'1추총괄표(위원회)'!$C29) -> 0 | N29: =SUMIFS('1추일입'!O$6:O$9,'1추일입'!$A$6:$A$9,'1추총괄표(위원회)'!$A29,'1추일입'!$B$6:$B$9,'1추총괄표(위원회)'!$C29) -> 0 | O29: =SUMIFS('1추일입'!AA$6:AA$9,'1추일입'!$A$6:$A$9,'1추총괄표(위원회)'!$A29,'1추일입'!$B$6:$B$9,'1추총괄표(위원회)'!$C29) -> 0 | P29: =SUMIFS('1추일입'!AB$6:AB$9,'1추일입'!$A$6:$A$9,'1추총괄표(위원회)'!$A29,'1추일입'!$B$6:$B$9,'1추총괄표(위원회)'!$C29) -> 0 | R29: =SUMIFS('1추일출'!G$6:G$103,'1추일출'!$A$6:$A$103,'1추총괄표(위원회)'!$A29,'1추일출'!$B$6:$B$103,'1추총괄표(위원회)'!$C29) -> 0 | S29: =SUMIFS('1추일출'!H$6:H$103,'1추일출'!$A$6:$A$103,'1추총괄표(위원회)'!$A29,'1추일출'!$B$6:$B$103,'1추총괄표(위원회)'!$C29) -> 0 | T29: =R29-S29 -> 0 | U29: =SUMIFS('1추일출'!J$6:J$103,'1추일출'!$A$6:$A$103,'1추총괄표(위원회)'!$A29,'1추일출'!$B$6:$B$103,'1추총괄표(위원회)'!$C29) -> 0 | V29: =SUMIFS('1추일출'!K$6:K$103,'1추일출'!$A$6:$A$103,'1추총괄표(위원회)'!$A29,'1추일출'!$B$6:$B$103,'1추총괄표(위원회)'!$C29) -> 0 | W29: =SUMIFS('1추일출'!L$6:L$103,'1추일출'!$A$6:$A$103,'1추총괄표(위원회)'!$A29,'1추일출'!$B$6:$B$103,'1추총괄표(위원회)'!$C29) -> 0 | X29: =SUMIFS('1추일출'!V$6:V$103,'1추일출'!$A$6:$A$103,'1추총괄표(위원회)'!$A29,'1추일출'!$B$6:$B$103,'1추총괄표(위원회)'!$C29) -> 0 | Y29: =SUMIFS('1추일출'!W$6:W$103,'1추일출'!$A$6:$A$103,'1추총괄표(위원회)'!$A29,'1추일출'!$B$6:$B$103,'1추총괄표(위원회)'!$C29) -> 0 | Z29: =SUMIFS('1추일출'!M$6:M$103,'1추일출'!$A$6:$A$103,'1추총괄표(위원회)'!$A29,'1추일출'!$B$6:$B$103,'1추총괄표(위원회)'!$C29) -> 0 | AA29: =SUMIFS('1추일출'!N$6:N$103,'1추일출'!$A$6:$A$103,'1추총괄표(위원회)'!$A29,'1추일출'!$B$6:$B$103,'1추총괄표(위원회)'!$C29) -> 0 | AB29: =SUMIFS('1추일출'!O$6:O$103,'1추일출'!$A$6:$A$103,'1추총괄표(위원회)'!$A29,'1추일출'!$B$6:$B$103,'1추총괄표(위원회)'!$C29) -> 0 | AC29: =SUMIFS('1추일출'!AA$6:AA$103,'1추일출'!$A$6:$A$103,'1추총괄표(위원회)'!$A29,'1추일출'!$B$6:$B$103,'1추총괄표(위원회)'!C$9) -> 0 | AD29: =SUMIFS('1추일출'!AB$6:AB$103,'1추일출'!$A$6:$A$103,'1추총괄표(위원회)'!$A29,'1추일출'!$B$6:$B$103,'1추총괄표(위원회)'!D$9) -> 0 | AF29: =IF(J29=X29,"OK","@@") -> OK | AG29: =J29-X29 -> 0 | AH29: =IF(O29=AC29,"OK","@@") -> OK | AI29: =O29-AC29 -> 0
B30: 농정해양위원회 | D30: =SUM(D31:D33) -> 0 | E30: =SUM(E31:E33) -> 0 | F30: =SUM(F31:F33) -> 0 | G30: =SUM(G31:G33) -> 0 | H30: =SUM(H31:H33) -> 0 | I30: =SUM(I31:I33) -> 0 | J30: =SUM(J31:J33) -> 0 | K30: =SUM(K31:K33) -> 0 | ... P30: =SUM(P31:P33) -> 0 | R30: =SUM(R31:R33) -> 0 | S30: =SUM(S31:S33) -> 0 | T30: =SUM(T31:T33) -> 0 | U30: =SUM(U31:U33) -> 0 | V30: =SUM(V31:V33) -> 0 | W30: =SUM(W31:W33) -> 0 | X30: =SUM(X31:X33) -> 0 | Y30: =SUM(Y31:Y33) -> 0 | ... AD30: =SUM(AD31:AD33) -> 0 | AF30: =IF(J30=X30,"OK","@@") -> OK | AG30: =J30-X30 -> 0 | AH30: =IF(O30=AC30,"OK","@@") -> OK | AI30: =O30-AC30 -> 0
A31: 농정해양위원회 | C31: 농정해양국 | D31: =SUMIFS('1추일입'!G$6:G$9,'1추일입'!$A$6:$A$9,'1추총괄표(위원회)'!$A31,'1추일입'!$B$6:$B$9,'1추총괄표(위원회)'!$C31) -> 0 | E31: =SUMIFS('1추일입'!H$6:H$9,'1추일입'!$A$6:$A$9,'1추총괄표(위원회)'!$A31,'1추일입'!$B$6:$B$9,'1추총괄표(위원회)'!$C31) -> 0 | F31: =D31-E31 -> 0 | G31: =SUMIFS('1추일입'!J$6:J$9,'1추일입'!$A$6:$A$9,'1추총괄표(위원회)'!$A31,'1추일입'!$B$6:$B$9,'1추총괄표(위원회)'!$C31) -> 0 | H31: =SUMIFS('1추일입'!K$6:K$9,'1추일입'!$A$6:$A$9,'1추총괄표(위원회)'!$A31,'1추일입'!$B$6:$B$9,'1추총괄표(위원회)'!$C31) -> 0 | I31: =SUMIFS('1추일입'!L$6:L$9,'1추일입'!$A$6:$A$9,'1추총괄표(위원회)'!$A31,'1추일입'!$B$6:$B$9,'1추총괄표(위원회)'!$C31) -> 0 | J31: =SUMIFS('1추일입'!V$6:V$9,'1추일입'!$A$6:$A$9,'1추총괄표(위원회)'!$A31,'1추일입'!$B$6:$B$9,'1추총괄표(위원회)'!$C31) -> 0 | K31: =SUMIFS('1추일입'!W$6:W$9,'1추일입'!$A$6:$A$9,'1추총괄표(위원회)'!$A31,'1추일입'!$B$6:$B$9,'1추총괄표(위원회)'!$C31) -> 0 | L31: =SUMIFS('1추일입'!M$6:M$9,'1추일입'!$A$6:$A$9,'1추총괄표(위원회)'!$A31,'1추일입'!$B$6:$B$9,'1추총괄표(위원회)'!$C31) -> 0 | M31: =SUMIFS('1추일입'!N$6:N$9,'1추일입'!$A$6:$A$9,'1추총괄표(위원회)'!$A31,'1추일입'!$B$6:$B$9,'1추총괄표(위원회)'!$C31) -> 0 | N31: =SUMIFS('1추일입'!O$6:O$9,'1추일입'!$A$6:$A$9,'1추총괄표(위원회)'!$A31,'1추일입'!$B$6:$B$9,'1추총괄표(위원회)'!$C31) -> 0 | O31: =SUMIFS('1추일입'!AA$6:AA$9,'1추일입'!$A$6:$A$9,'1추총괄표(위원회)'!$A31,'1추일입'!$B$6:$B$9,'1추총괄표(위원회)'!$C31) -> 0 | P31: =SUMIFS('1추일입'!AB$6:AB$9,'1추일입'!$A$6:$A$9,'1추총괄표(위원회)'!$A31,'1추일입'!$B$6:$B$9,'1추총괄표(위원회)'!$C31) -> 0 | R31: =SUMIFS('1추일출'!G$6:G$103,'1추일출'!$A$6:$A$103,'1추총괄표(위원회)'!$A31,'1추일출'!$B$6:$B$103,'1추총괄표(위원회)'!$C31) -> 0 | S31: =SUMIFS('1추일출'!H$6:H$103,'1추일출'!$A$6:$A$103,'1추총괄표(위원회)'!$A31,'1추일출'!$B$6:$B$103,'1추총괄표(위원회)'!$C31) -> 0 | T31: =R31-S31 -> 0 | U31: =SUMIFS('1추일출'!J$6:J$103,'1추일출'!$A$6:$A$103,'1추총괄표(위원회)'!$A31,'1추일출'!$B$6:$B$103,'1추총괄표(위원회)'!$C31) -> 0 | V31: =SUMIFS('1추일출'!K$6:K$103,'1추일출'!$A$6:$A$103,'1추총괄표(위원회)'!$A31,'1추일출'!$B$6:$B$103,'1추총괄표(위원회)'!$C31) -> 0 | W31: =SUMIFS('1추일출'!L$6:L$103,'1추일출'!$A$6:$A$103,'1추총괄표(위원회)'!$A31,'1추일출'!$B$6:$B$103,'1추총괄표(위원회)'!$C31) -> 0 | X31: =SUMIFS('1추일출'!V$6:V$103,'1추일출'!$A$6:$A$103,'1추총괄표(위원회)'!$A31,'1추일출'!$B$6:$B$103,'1추총괄표(위원회)'!$C31) -> 0 | Y31: =SUMIFS('1추일출'!W$6:W$103,'1추일출'!$A$6:$A$103,'1추총괄표(위원회)'!$A31,'1추일출'!$B$6:$B$103,'1추총괄표(위원회)'!$C31) -> 0 | Z31: =SUMIFS('1추일출'!M$6:M$103,'1추일출'!$A$6:$A$103,'1추총괄표(위원회)'!$A31,'1추일출'!$B$6:$B$103,'1추총괄표(위원회)'!$C31) -> 0 | AA31: =SUMIFS('1추일출'!N$6:N$103,'1추일출'!$A$6:$A$103,'1추총괄표(위원회)'!$A31,'1추일출'!$B$6:$B$103,'1추총괄표(위원회)'!$C31) -> 0 | AB31: =SUMIFS('1추일출'!O$6:O$103,'1추일출'!$A$6:$A$103,'1추총괄표(위원회)'!$A31,'1추일출'!$B$6:$B$103,'1추총괄표(위원회)'!$C31) -> 0 | AC31: =SUMIFS('1추일출'!AA$6:AA$103,'1추일출'!$A$6:$A$103,'1추총괄표(위원회)'!$A31,'1추일출'!$B$6:$B$103,'1추총괄표(위원회)'!C$9) -> 0 | AD31: =SUMIFS('1추일출'!AB$6:AB$103,'1추일출'!$A$6:$A$103,'1추총괄표(위원회)'!$A31,'1추일출'!$B$6:$B$103,'1추총괄표(위원회)'!D$9) -> 0 | AF31: =IF(J31=X31,"OK","@@") -> OK | AG31: =J31-X31 -> 0 | AH31: =IF(O31=AC31,"OK","@@") -> OK | AI31: =O31-AC31 -> 0
A32: 농정해양위원회 | C32: 축산산림국 | D32: =SUMIFS('1추일입'!G$6:G$9,'1추일입'!$A$6:$A$9,'1추총괄표(위원회)'!$A32,'1추일입'!$B$6:$B$9,'1추총괄표(위원회)'!$C32) -> 0 | E32: =SUMIFS('1추일입'!H$6:H$9,'1추일입'!$A$6:$A$9,'1추총괄표(위원회)'!$A32,'1추일입'!$B$6:$B$9,'1추총괄표(위원회)'!$C32) -> 0 | F32: =D32-E32 -> 0 | G32: =SUMIFS('1추일입'!J$6:J$9,'1추일입'!$A$6:$A$9,'1추총괄표(위원회)'!$A32,'1추일입'!$B$6:$B$9,'1추총괄표(위원회)'!$C32) -> 0 | H32: =SUMIFS('1추일입'!K$6:K$9,'1추일입'!$A$6:$A$9,'1추총괄표(위원회)'!$A32,'1추일입'!$B$6:$B$9,'1추총괄표(위원회)'!$C32) -> 0 | I32: =SUMIFS('1추일입'!L$6:L$9,'1추일입'!$A$6:$A$9,'1추총괄표(위원회)'!$A32,'1추일입'!$B$6:$B$9,'1추총괄표(위원회)'!$C32) -> 0 | J32: =SUMIFS('1추일입'!V$6:V$9,'1추일입'!$A$6:$A$9,'1추총괄표(위원회)'!$A32,'1추일입'!$B$6:$B$9,'1추총괄표(위원회)'!$C32) -> 0 | K32: =SUMIFS('1추일입'!W$6:W$9,'1추일입'!$A$6:$A$9,'1추총괄표(위원회)'!$A32,'1추일입'!$B$6:$B$9,'1추총괄표(위원회)'!$C32) -> 0 | L32: =SUMIFS('1추일입'!M$6:M$9,'1추일입'!$A$6:$A$9,'1추총괄표(위원회)'!$A32,'1추일입'!$B$6:$B$9,'1추총괄표(위원회)'!$C32) -> 0 | M32: =SUMIFS('1추일입'!N$6:N$9,'1추일입'!$A$6:$A$9,'1추총괄표(위원회)'!$A32,'1추일입'!$B$6:$B$9,'1추총괄표(위원회)'!$C32) -> 0 | N32: =SUMIFS('1추일입'!O$6:O$9,'1추일입'!$A$6:$A$9,'1추총괄표(위원회)'!$A32,'1추일입'!$B$6:$B$9,'1추총괄표(위원회)'!$C32) -> 0 | O32: =SUMIFS('1추일입'!AA$6:AA$9,'1추일입'!$A$6:$A$9,'1추총괄표(위원회)'!$A32,'1추일입'!$B$6:$B$9,'1추총괄표(위원회)'!$C32) -> 0 | P32: =SUMIFS('1추일입'!AB$6:AB$9,'1추일입'!$A$6:$A$9,'1추총괄표(위원회)'!$A32,'1추일입'!$B$6:$B$9,'1추총괄표(위원회)'!$C32) -> 0 | R32: =SUMIFS('1추일출'!G$6:G$103,'1추일출'!$A$6:$A$103,'1추총괄표(위원회)'!$A32,'1추일출'!$B$6:$B$103,'1추총괄표(위원회)'!$C32) -> 0 | S32: =SUMIFS('1추일출'!H$6:H$103,'1추일출'!$A$6:$A$103,'1추총괄표(위원회)'!$A32,'1추일출'!$B$6:$B$103,'1추총괄표(위원회)'!$C32) -> 0 | T32: =R32-S32 -> 0 | U32: =SUMIFS('1추일출'!J$6:J$103,'1추일출'!$A$6:$A$103,'1추총괄표(위원회)'!$A32,'1추일출'!$B$6:$B$103,'1추총괄표(위원회)'!$C32) -> 0 | V32: =SUMIFS('1추일출'!K$6:K$103,'1추일출'!$A$6:$A$103,'1추총괄표(위원회)'!$A32,'1추일출'!$B$6:$B$103,'1추총괄표(위원회)'!$C32) -> 0 | W32: =SUMIFS('1추일출'!L$6:L$103,'1추일출'!$A$6:$A$103,'1추총괄표(위원회)'!$A32,'1추일출'!$B$6:$B$103,'1추총괄표(위원회)'!$C32) -> 0 | X32: =SUMIFS('1추일출'!V$6:V$103,'1추일출'!$A$6:$A$103,'1추총괄표(위원회)'!$A32,'1추일출'!$B$6:$B$103,'1추총괄표(위원회)'!$C32) -> 0 | Y32: =SUMIFS('1추일출'!W$6:W$103,'1추일출'!$A$6:$A$103,'1추총괄표(위원회)'!$A32,'1추일출'!$B$6:$B$103,'1추총괄표(위원회)'!$C32) -> 0 | Z32: =SUMIFS('1추일출'!M$6:M$103,'1추일출'!$A$6:$A$103,'1추총괄표(위원회)'!$A32,'1추일출'!$B$6:$B$103,'1추총괄표(위원회)'!$C32) -> 0 | AA32: =SUMIFS('1추일출'!N$6:N$103,'1추일출'!$A$6:$A$103,'1추총괄표(위원회)'!$A32,'1추일출'!$B$6:$B$103,'1추총괄표(위원회)'!$C32) -> 0 | AB32: =SUMIFS('1추일출'!O$6:O$103,'1추일출'!$A$6:$A$103,'1추총괄표(위원회)'!$A32,'1추일출'!$B$6:$B$103,'1추총괄표(위원회)'!$C32) -> 0 | AC32: =SUMIFS('1추일출'!AA$6:AA$103,'1추일출'!$A$6:$A$103,'1추총괄표(위원회)'!$A32,'1추일출'!$B$6:$B$103,'1추총괄표(위원회)'!C$9) -> 0 | AD32: =SUMIFS('1추일출'!AB$6:AB$103,'1추일출'!$A$6:$A$103,'1추총괄표(위원회)'!$A32,'1추일출'!$B$6:$B$103,'1추총괄표(위원회)'!D$9) -> 0 | AF32: =IF(J32=X32,"OK","@@") -> OK | AG32: =J32-X32 -> 0 | AH32: =IF(O32=AC32,"OK","@@") -> OK | AI32: =O32-AC32 -> 0
A33: 농정해양위원회 | C33: 농업기술원 | D33: =SUMIFS('1추일입'!G$6:G$9,'1추일입'!$A$6:$A$9,'1추총괄표(위원회)'!$A33,'1추일입'!$B$6:$B$9,'1추총괄표(위원회)'!$C33) -> 0 | E33: =SUMIFS('1추일입'!H$6:H$9,'1추일입'!$A$6:$A$9,'1추총괄표(위원회)'!$A33,'1추일입'!$B$6:$B$9,'1추총괄표(위원회)'!$C33) -> 0 | F33: =D33-E33 -> 0 | G33: =SUMIFS('1추일입'!J$6:J$9,'1추일입'!$A$6:$A$9,'1추총괄표(위원회)'!$A33,'1추일입'!$B$6:$B$9,'1추총괄표(위원회)'!$C33) -> 0 | H33: =SUMIFS('1추일입'!K$6:K$9,'1추일입'!$A$6:$A$9,'1추총괄표(위원회)'!$A33,'1추일입'!$B$6:$B$9,'1추총괄표(위원회)'!$C33) -> 0 | I33: =SUMIFS('1추일입'!L$6:L$9,'1추일입'!$A$6:$A$9,'1추총괄표(위원회)'!$A33,'1추일입'!$B$6:$B$9,'1추총괄표(위원회)'!$C33) -> 0 | J33: =SUMIFS('1추일입'!V$6:V$9,'1추일입'!$A$6:$A$9,'1추총괄표(위원회)'!$A33,'1추일입'!$B$6:$B$9,'1추총괄표(위원회)'!$C33) -> 0 | K33: =SUMIFS('1추일입'!W$6:W$9,'1추일입'!$A$6:$A$9,'1추총괄표(위원회)'!$A33,'1추일입'!$B$6:$B$9,'1추총괄표(위원회)'!$C33) -> 0 | L33: =SUMIFS('1추일입'!M$6:M$9,'1추일입'!$A$6:$A$9,'1추총괄표(위원회)'!$A33,'1추일입'!$B$6:$B$9,'1추총괄표(위원회)'!$C33) -> 0 | M33: =SUMIFS('1추일입'!N$6:N$9,'1추일입'!$A$6:$A$9,'1추총괄표(위원회)'!$A33,'1추일입'!$B$6:$B$9,'1추총괄표(위원회)'!$C33) -> 0 | N33: =SUMIFS('1추일입'!O$6:O$9,'1추일입'!$A$6:$A$9,'1추총괄표(위원회)'!$A33,'1추일입'!$B$6:$B$9,'1추총괄표(위원회)'!$C33) -> 0 | O33: =SUMIFS('1추일입'!AA$6:AA$9,'1추일입'!$A$6:$A$9,'1추총괄표(위원회)'!$A33,'1추일입'!$B$6:$B$9,'1추총괄표(위원회)'!$C33) -> 0 | P33: =SUMIFS('1추일입'!AB$6:AB$9,'1추일입'!$A$6:$A$9,'1추총괄표(위원회)'!$A33,'1추일입'!$B$6:$B$9,'1추총괄표(위원회)'!$C33) -> 0 | R33: =SUMIFS('1추일출'!G$6:G$103,'1추일출'!$A$6:$A$103,'1추총괄표(위원회)'!$A33,'1추일출'!$B$6:$B$103,'1추총괄표(위원회)'!$C33) -> 0 | S33: =SUMIFS('1추일출'!H$6:H$103,'1추일출'!$A$6:$A$103,'1추총괄표(위원회)'!$A33,'1추일출'!$B$6:$B$103,'1추총괄표(위원회)'!$C33) -> 0 | T33: =R33-S33 -> 0 | U33: =SUMIFS('1추일출'!J$6:J$103,'1추일출'!$A$6:$A$103,'1추총괄표(위원회)'!$A33,'1추일출'!$B$6:$B$103,'1추총괄표(위원회)'!$C33) -> 0 | V33: =SUMIFS('1추일출'!K$6:K$103,'1추일출'!$A$6:$A$103,'1추총괄표(위원회)'!$A33,'1추일출'!$B$6:$B$103,'1추총괄표(위원회)'!$C33) -> 0 | W33: =SUMIFS('1추일출'!L$6:L$103,'1추일출'!$A$6:$A$103,'1추총괄표(위원회)'!$A33,'1추일출'!$B$6:$B$103,'1추총괄표(위원회)'!$C33) -> 0 | X33: =SUMIFS('1추일출'!V$6:V$103,'1추일출'!$A$6:$A$103,'1추총괄표(위원회)'!$A33,'1추일출'!$B$6:$B$103,'1추총괄표(위원회)'!$C33) -> 0 | Y33: =SUMIFS('1추일출'!W$6:W$103,'1추일출'!$A$6:$A$103,'1추총괄표(위원회)'!$A33,'1추일출'!$B$6:$B$103,'1추총괄표(위원회)'!$C33) -> 0 | Z33: =SUMIFS('1추일출'!M$6:M$103,'1추일출'!$A$6:$A$103,'1추총괄표(위원회)'!$A33,'1추일출'!$B$6:$B$103,'1추총괄표(위원회)'!$C33) -> 0 | AA33: =SUMIFS('1추일출'!N$6:N$103,'1추일출'!$A$6:$A$103,'1추총괄표(위원회)'!$A33,'1추일출'!$B$6:$B$103,'1추총괄표(위원회)'!$C33) -> 0 | AB33: =SUMIFS('1추일출'!O$6:O$103,'1추일출'!$A$6:$A$103,'1추총괄표(위원회)'!$A33,'1추일출'!$B$6:$B$103,'1추총괄표(위원회)'!$C33) -> 0 | AC33: =SUMIFS('1추일출'!AA$6:AA$103,'1추일출'!$A$6:$A$103,'1추총괄표(위원회)'!$A33,'1추일출'!$B$6:$B$103,'1추총괄표(위원회)'!C$9) -> 0 | AD33: =SUMIFS('1추일출'!AB$6:AB$103,'1추일출'!$A$6:$A$103,'1추총괄표(위원회)'!$A33,'1추일출'!$B$6:$B$103,'1추총괄표(위원회)'!D$9) -> 0 | AF33: =IF(J33=X33,"OK","@@") -> OK | AG33: =J33-X33 -> 0 | AH33: =IF(O33=AC33,"OK","@@") -> OK | AI33: =O33-AC33 -> 0
B34: 보건복지위원회 | D34: =SUM(D35:D37) -> 0 | E34: =SUM(E35:E37) -> 0 | F34: =SUM(F35:F37) -> 0 | G34: =SUM(G35:G37) -> 0 | H34: =SUM(H35:H37) -> 911675 | I34: =SUM(I35:I37) -> 911675 | J34: =SUM(J35:J37) -> 911675 | K34: =SUM(K35:K37) -> 0 | ... P34: =SUM(P35:P37) -> 0 | R34: =SUM(R35:R37) -> 4017235 | S34: =SUM(S35:S37) -> 917235 | T34: =SUM(T35:T37) -> 3100000 | U34: =SUM(U35:U37) -> -1550000 | V34: =SUM(V35:V37) -> 2509571 | W34: =SUM(W35:W37) -> 4976806 | X34: =SUM(X35:X37) -> 911675 | Y34: =SUM(Y35:Y37) -> 47896 | ... AD34: =SUM(AD35:AD37) -> 0 | AF34: =IF(J34=X34,"OK","@@") -> OK | AG34: =J34-X34 -> 0 | AH34: =IF(O34=AC34,"OK","@@") -> OK | AI34: =O34-AC34 -> 0
A35: 보건복지위원회 | C35: 보건복지국 | D35: =SUMIFS('1추일입'!G$6:G$9,'1추일입'!$A$6:$A$9,'1추총괄표(위원회)'!$A35,'1추일입'!$B$6:$B$9,'1추총괄표(위원회)'!$C35) -> 0 | E35: =SUMIFS('1추일입'!H$6:H$9,'1추일입'!$A$6:$A$9,'1추총괄표(위원회)'!$A35,'1추일입'!$B$6:$B$9,'1추총괄표(위원회)'!$C35) -> 0 | F35: =D35-E35 -> 0 | G35: =SUMIFS('1추일입'!J$6:J$9,'1추일입'!$A$6:$A$9,'1추총괄표(위원회)'!$A35,'1추일입'!$B$6:$B$9,'1추총괄표(위원회)'!$C35) -> 0 | H35: =SUMIFS('1추일입'!K$6:K$9,'1추일입'!$A$6:$A$9,'1추총괄표(위원회)'!$A35,'1추일입'!$B$6:$B$9,'1추총괄표(위원회)'!$C35) -> 911675 | I35: =SUMIFS('1추일입'!L$6:L$9,'1추일입'!$A$6:$A$9,'1추총괄표(위원회)'!$A35,'1추일입'!$B$6:$B$9,'1추총괄표(위원회)'!$C35) -> 911675 | J35: =SUMIFS('1추일입'!V$6:V$9,'1추일입'!$A$6:$A$9,'1추총괄표(위원회)'!$A35,'1추일입'!$B$6:$B$9,'1추총괄표(위원회)'!$C35) -> 911675 | K35: =SUMIFS('1추일입'!W$6:W$9,'1추일입'!$A$6:$A$9,'1추총괄표(위원회)'!$A35,'1추일입'!$B$6:$B$9,'1추총괄표(위원회)'!$C35) -> 0 | L35: =SUMIFS('1추일입'!M$6:M$9,'1추일입'!$A$6:$A$9,'1추총괄표(위원회)'!$A35,'1추일입'!$B$6:$B$9,'1추총괄표(위원회)'!$C35) -> 0 | M35: =SUMIFS('1추일입'!N$6:N$9,'1추일입'!$A$6:$A$9,'1추총괄표(위원회)'!$A35,'1추일입'!$B$6:$B$9,'1추총괄표(위원회)'!$C35) -> 0 | N35: =SUMIFS('1추일입'!O$6:O$9,'1추일입'!$A$6:$A$9,'1추총괄표(위원회)'!$A35,'1추일입'!$B$6:$B$9,'1추총괄표(위원회)'!$C35) -> 0 | O35: =SUMIFS('1추일입'!AA$6:AA$9,'1추일입'!$A$6:$A$9,'1추총괄표(위원회)'!$A35,'1추일입'!$B$6:$B$9,'1추총괄표(위원회)'!$C35) -> 0 | P35: =SUMIFS('1추일입'!AB$6:AB$9,'1추일입'!$A$6:$A$9,'1추총괄표(위원회)'!$A35,'1추일입'!$B$6:$B$9,'1추총괄표(위원회)'!$C35) -> 0 | R35: =SUMIFS('1추일출'!G$6:G$103,'1추일출'!$A$6:$A$103,'1추총괄표(위원회)'!$A35,'1추일출'!$B$6:$B$103,'1추총괄표(위원회)'!$C35) -> 3621830 | S35: =SUMIFS('1추일출'!H$6:H$103,'1추일출'!$A$6:$A$103,'1추총괄표(위원회)'!$A35,'1추일출'!$B$6:$B$103,'1추총괄표(위원회)'!$C35) -> 621830 | T35: =R35-S35 -> 3000000 | U35: =SUMIFS('1추일출'!J$6:J$103,'1추일출'!$A$6:$A$103,'1추총괄표(위원회)'!$A35,'1추일출'!$B$6:$B$103,'1추총괄표(위원회)'!$C35) -> -1450000 | V35: =SUMIFS('1추일출'!K$6:K$103,'1추일출'!$A$6:$A$103,'1추총괄표(위원회)'!$A35,'1추일출'!$B$6:$B$103,'1추총괄표(위원회)'!$C35) -> 1991907 | W35: =SUMIFS('1추일출'!L$6:L$103,'1추일출'!$A$6:$A$103,'1추총괄표(위원회)'!$A35,'1추일출'!$B$6:$B$103,'1추총괄표(위원회)'!$C35) -> 4163737 | X35: =SUMIFS('1추일출'!V$6:V$103,'1추일출'!$A$6:$A$103,'1추총괄표(위원회)'!$A35,'1추일출'!$B$6:$B$103,'1추총괄표(위원회)'!$C35) -> 911675 | Y35: =SUMIFS('1추일출'!W$6:W$103,'1추일출'!$A$6:$A$103,'1추총괄표(위원회)'!$A35,'1추일출'!$B$6:$B$103,'1추총괄표(위원회)'!$C35) -> -369768 | Z35: =SUMIFS('1추일출'!M$6:M$103,'1추일출'!$A$6:$A$103,'1추총괄표(위원회)'!$A35,'1추일출'!$B$6:$B$103,'1추총괄표(위원회)'!$C35) -> 0 | AA35: =SUMIFS('1추일출'!N$6:N$103,'1추일출'!$A$6:$A$103,'1추총괄표(위원회)'!$A35,'1추일출'!$B$6:$B$103,'1추총괄표(위원회)'!$C35) -> 0 | AB35: =SUMIFS('1추일출'!O$6:O$103,'1추일출'!$A$6:$A$103,'1추총괄표(위원회)'!$A35,'1추일출'!$B$6:$B$103,'1추총괄표(위원회)'!$C35) -> 3621830 | AC35: =SUMIFS('1추일출'!AA$6:AA$103,'1추일출'!$A$6:$A$103,'1추총괄표(위원회)'!$A35,'1추일출'!$B$6:$B$103,'1추총괄표(위원회)'!C$9) -> 0 | AD35: =SUMIFS('1추일출'!AB$6:AB$103,'1추일출'!$A$6:$A$103,'1추총괄표(위원회)'!$A35,'1추일출'!$B$6:$B$103,'1추총괄표(위원회)'!D$9) -> 0 | AF35: =IF(J35=X35,"OK","@@") -> OK | AG35: =J35-X35 -> 0 | AH35: =IF(O35=AC35,"OK","@@") -> OK | AI35: =O35-AC35 -> 0
A36: 보건복지위원회 | C36: 복지여성실 | D36: =SUMIFS('1추일입'!G$6:G$9,'1추일입'!$A$6:$A$9,'1추총괄표(위원회)'!$A36,'1추일입'!$B$6:$B$9,'1추총괄표(위원회)'!$C36) -> 0 | E36: =SUMIFS('1추일입'!H$6:H$9,'1추일입'!$A$6:$A$9,'1추총괄표(위원회)'!$A36,'1추일입'!$B$6:$B$9,'1추총괄표(위원회)'!$C36) -> 0 | F36: =D36-E36 -> 0 | G36: =SUMIFS('1추일입'!J$6:J$9,'1추일입'!$A$6:$A$9,'1추총괄표(위원회)'!$A36,'1추일입'!$B$6:$B$9,'1추총괄표(위원회)'!$C36) -> 0 | H36: =SUMIFS('1추일입'!K$6:K$9,'1추일입'!$A$6:$A$9,'1추총괄표(위원회)'!$A36,'1추일입'!$B$6:$B$9,'1추총괄표(위원회)'!$C36) -> 0 | I36: =SUMIFS('1추일입'!L$6:L$9,'1추일입'!$A$6:$A$9,'1추총괄표(위원회)'!$A36,'1추일입'!$B$6:$B$9,'1추총괄표(위원회)'!$C36) -> 0 | J36: =SUMIFS('1추일입'!V$6:V$9,'1추일입'!$A$6:$A$9,'1추총괄표(위원회)'!$A36,'1추일입'!$B$6:$B$9,'1추총괄표(위원회)'!$C36) -> 0 | K36: =SUMIFS('1추일입'!W$6:W$9,'1추일입'!$A$6:$A$9,'1추총괄표(위원회)'!$A36,'1추일입'!$B$6:$B$9,'1추총괄표(위원회)'!$C36) -> 0 | L36: =SUMIFS('1추일입'!M$6:M$9,'1추일입'!$A$6:$A$9,'1추총괄표(위원회)'!$A36,'1추일입'!$B$6:$B$9,'1추총괄표(위원회)'!$C36) -> 0 | M36: =SUMIFS('1추일입'!N$6:N$9,'1추일입'!$A$6:$A$9,'1추총괄표(위원회)'!$A36,'1추일입'!$B$6:$B$9,'1추총괄표(위원회)'!$C36) -> 0 | N36: =SUMIFS('1추일입'!O$6:O$9,'1추일입'!$A$6:$A$9,'1추총괄표(위원회)'!$A36,'1추일입'!$B$6:$B$9,'1추총괄표(위원회)'!$C36) -> 0 | O36: =SUMIFS('1추일입'!AA$6:AA$9,'1추일입'!$A$6:$A$9,'1추총괄표(위원회)'!$A36,'1추일입'!$B$6:$B$9,'1추총괄표(위원회)'!$C36) -> 0 | P36: =SUMIFS('1추일입'!AB$6:AB$9,'1추일입'!$A$6:$A$9,'1추총괄표(위원회)'!$A36,'1추일입'!$B$6:$B$9,'1추총괄표(위원회)'!$C36) -> 0 | R36: =SUMIFS('1추일출'!G$6:G$103,'1추일출'!$A$6:$A$103,'1추총괄표(위원회)'!$A36,'1추일출'!$B$6:$B$103,'1추총괄표(위원회)'!$C36) -> 295405 | S36: =SUMIFS('1추일출'!H$6:H$103,'1추일출'!$A$6:$A$103,'1추총괄표(위원회)'!$A36,'1추일출'!$B$6:$B$103,'1추총괄표(위원회)'!$C36) -> 295405 | T36: =R36-S36 -> 0 | U36: =SUMIFS('1추일출'!J$6:J$103,'1추일출'!$A$6:$A$103,'1추총괄표(위원회)'!$A36,'1추일출'!$B$6:$B$103,'1추총괄표(위원회)'!$C36) -> 0 | V36: =SUMIFS('1추일출'!K$6:K$103,'1추일출'!$A$6:$A$103,'1추총괄표(위원회)'!$A36,'1추일출'!$B$6:$B$103,'1추총괄표(위원회)'!$C36) -> 417664 | W36: =SUMIFS('1추일출'!L$6:L$103,'1추일출'!$A$6:$A$103,'1추총괄표(위원회)'!$A36,'1추일출'!$B$6:$B$103,'1추총괄표(위원회)'!$C36) -> 713069 | X36: =SUMIFS('1추일출'!V$6:V$103,'1추일출'!$A$6:$A$103,'1추총괄표(위원회)'!$A36,'1추일출'!$B$6:$B$103,'1추총괄표(위원회)'!$C36) -> 0 | Y36: =SUMIFS('1추일출'!W$6:W$103,'1추일출'!$A$6:$A$103,'1추총괄표(위원회)'!$A36,'1추일출'!$B$6:$B$103,'1추총괄표(위원회)'!$C36) -> 417664 | Z36: =SUMIFS('1추일출'!M$6:M$103,'1추일출'!$A$6:$A$103,'1추총괄표(위원회)'!$A36,'1추일출'!$B$6:$B$103,'1추총괄표(위원회)'!$C36) -> 0 | AA36: =SUMIFS('1추일출'!N$6:N$103,'1추일출'!$A$6:$A$103,'1추총괄표(위원회)'!$A36,'1추일출'!$B$6:$B$103,'1추총괄표(위원회)'!$C36) -> 0 | AB36: =SUMIFS('1추일출'!O$6:O$103,'1추일출'!$A$6:$A$103,'1추총괄표(위원회)'!$A36,'1추일출'!$B$6:$B$103,'1추총괄표(위원회)'!$C36) -> 295405 | AC36: =SUMIFS('1추일출'!AA$6:AA$103,'1추일출'!$A$6:$A$103,'1추총괄표(위원회)'!$A36,'1추일출'!$B$6:$B$103,'1추총괄표(위원회)'!C$9) -> 0 | AD36: =SUMIFS('1추일출'!AB$6:AB$103,'1추일출'!$A$6:$A$103,'1추총괄표(위원회)'!$A36,'1추일출'!$B$6:$B$103,'1추총괄표(위원회)'!D$9) -> 0 | AF36: =IF(J36=X36,"OK","@@") -> OK | AG36: =J36-X36 -> 0 | AH36: =IF(O36=AC36,"OK","@@") -> OK | AI36: =O36-AC36 -> 0
A37: 보건복지위원회 | C37: 보건환경연구원 | D37: =SUMIFS('1추일입'!G$6:G$9,'1추일입'!$A$6:$A$9,'1추총괄표(위원회)'!$A37,'1추일입'!$B$6:$B$9,'1추총괄표(위원회)'!$C37) -> 0 | E37: =SUMIFS('1추일입'!H$6:H$9,'1추일입'!$A$6:$A$9,'1추총괄표(위원회)'!$A37,'1추일입'!$B$6:$B$9,'1추총괄표(위원회)'!$C37) -> 0 | F37: =D37-E37 -> 0 | G37: =SUMIFS('1추일입'!J$6:J$9,'1추일입'!$A$6:$A$9,'1추총괄표(위원회)'!$A37,'1추일입'!$B$6:$B$9,'1추총괄표(위원회)'!$C37) -> 0 | H37: =SUMIFS('1추일입'!K$6:K$9,'1추일입'!$A$6:$A$9,'1추총괄표(위원회)'!$A37,'1추일입'!$B$6:$B$9,'1추총괄표(위원회)'!$C37) -> 0 | I37: =SUMIFS('1추일입'!L$6:L$9,'1추일입'!$A$6:$A$9,'1추총괄표(위원회)'!$A37,'1추일입'!$B$6:$B$9,'1추총괄표(위원회)'!$C37) -> 0 | J37: =SUMIFS('1추일입'!V$6:V$9,'1추일입'!$A$6:$A$9,'1추총괄표(위원회)'!$A37,'1추일입'!$B$6:$B$9,'1추총괄표(위원회)'!$C37) -> 0 | K37: =SUMIFS('1추일입'!W$6:W$9,'1추일입'!$A$6:$A$9,'1추총괄표(위원회)'!$A37,'1추일입'!$B$6:$B$9,'1추총괄표(위원회)'!$C37) -> 0 | L37: =SUMIFS('1추일입'!M$6:M$9,'1추일입'!$A$6:$A$9,'1추총괄표(위원회)'!$A37,'1추일입'!$B$6:$B$9,'1추총괄표(위원회)'!$C37) -> 0 | M37: =SUMIFS('1추일입'!N$6:N$9,'1추일입'!$A$6:$A$9,'1추총괄표(위원회)'!$A37,'1추일입'!$B$6:$B$9,'1추총괄표(위원회)'!$C37) -> 0 | N37: =SUMIFS('1추일입'!O$6:O$9,'1추일입'!$A$6:$A$9,'1추총괄표(위원회)'!$A37,'1추일입'!$B$6:$B$9,'1추총괄표(위원회)'!$C37) -> 0 | O37: =SUMIFS('1추일입'!AA$6:AA$9,'1추일입'!$A$6:$A$9,'1추총괄표(위원회)'!$A37,'1추일입'!$B$6:$B$9,'1추총괄표(위원회)'!$C37) -> 0 | P37: =SUMIFS('1추일입'!AB$6:AB$9,'1추일입'!$A$6:$A$9,'1추총괄표(위원회)'!$A37,'1추일입'!$B$6:$B$9,'1추총괄표(위원회)'!$C37) -> 0 | R37: =SUMIFS('1추일출'!G$6:G$103,'1추일출'!$A$6:$A$103,'1추총괄표(위원회)'!$A37,'1추일출'!$B$6:$B$103,'1추총괄표(위원회)'!$C37) -> 100000 | S37: =SUMIFS('1추일출'!H$6:H$103,'1추일출'!$A$6:$A$103,'1추총괄표(위원회)'!$A37,'1추일출'!$B$6:$B$103,'1추총괄표(위원회)'!$C37) -> 0 | T37: =R37-S37 -> 100000 | U37: =SUMIFS('1추일출'!J$6:J$103,'1추일출'!$A$6:$A$103,'1추총괄표(위원회)'!$A37,'1추일출'!$B$6:$B$103,'1추총괄표(위원회)'!$C37) -> -100000 | V37: =SUMIFS('1추일출'!K$6:K$103,'1추일출'!$A$6:$A$103,'1추총괄표(위원회)'!$A37,'1추일출'!$B$6:$B$103,'1추총괄표(위원회)'!$C37) -> 100000 | W37: =SUMIFS('1추일출'!L$6:L$103,'1추일출'!$A$6:$A$103,'1추총괄표(위원회)'!$A37,'1추일출'!$B$6:$B$103,'1추총괄표(위원회)'!$C37) -> 100000 | X37: =SUMIFS('1추일출'!V$6:V$103,'1추일출'!$A$6:$A$103,'1추총괄표(위원회)'!$A37,'1추일출'!$B$6:$B$103,'1추총괄표(위원회)'!$C37) -> 0 | Y37: =SUMIFS('1추일출'!W$6:W$103,'1추일출'!$A$6:$A$103,'1추총괄표(위원회)'!$A37,'1추일출'!$B$6:$B$103,'1추총괄표(위원회)'!$C37) -> 0 | Z37: =SUMIFS('1추일출'!M$6:M$103,'1추일출'!$A$6:$A$103,'1추총괄표(위원회)'!$A37,'1추일출'!$B$6:$B$103,'1추총괄표(위원회)'!$C37) -> 0 | AA37: =SUMIFS('1추일출'!N$6:N$103,'1추일출'!$A$6:$A$103,'1추총괄표(위원회)'!$A37,'1추일출'!$B$6:$B$103,'1추총괄표(위원회)'!$C37) -> 0 | AB37: =SUMIFS('1추일출'!O$6:O$103,'1추일출'!$A$6:$A$103,'1추총괄표(위원회)'!$A37,'1추일출'!$B$6:$B$103,'1추총괄표(위원회)'!$C37) -> 100000 | AC37: =SUMIFS('1추일출'!AA$6:AA$103,'1추일출'!$A$6:$A$103,'1추총괄표(위원회)'!$A37,'1추일출'!$B$6:$B$103,'1추총괄표(위원회)'!C$9) -> 0 | AD37: =SUMIFS('1추일출'!AB$6:AB$103,'1추일출'!$A$6:$A$103,'1추총괄표(위원회)'!$A37,'1추일출'!$B$6:$B$103,'1추총괄표(위원회)'!D$9) -> 0 | AF37: =IF(J37=X37,"OK","@@") -> OK | AG37: =J37-X37 -> 0 | AH37: =IF(O37=AC37,"OK","@@") -> OK | AI37: =O37-AC37 -> 0
B38: 건설교통위원회 | D38: =SUM(D39:D42) -> 0 | E38: =SUM(E39:E42) -> 0 | F38: =SUM(F39:F42) -> 0 | G38: =SUM(G39:G42) -> 0 | H38: =SUM(H39:H42) -> 0 | I38: =SUM(I39:I42) -> 0 | J38: =SUM(J39:J42) -> 0 | K38: =SUM(K39:K42) -> 0 | ... P38: =SUM(P39:P42) -> 0 | R38: =SUM(R39:R42) -> 0 | S38: =SUM(S39:S42) -> 0 | T38: =SUM(T39:T42) -> 0 | U38: =SUM(U39:U42) -> 0 | V38: =SUM(V39:V42) -> 0 | W38: =SUM(W39:W42) -> 0 | X38: =SUM(X39:X42) -> 0 | Y38: =SUM(Y39:Y42) -> 0 | ... AD38: =SUM(AD39:AD42) -> 0 | AF38: =IF(J38=X38,"OK","@@") -> OK | AG38: =J38-X38 -> 0 | AH38: =IF(O38=AC38,"OK","@@") -> OK | AI38: =O38-AC38 -> 0
A39: 건설교통위원회 | C39: 철도국 | D39: =SUMIFS('1추일입'!G$6:G$9,'1추일입'!$A$6:$A$9,'1추총괄표(위원회)'!$A39,'1추일입'!$B$6:$B$9,'1추총괄표(위원회)'!$C39) -> 0 | E39: =SUMIFS('1추일입'!H$6:H$9,'1추일입'!$A$6:$A$9,'1추총괄표(위원회)'!$A39,'1추일입'!$B$6:$B$9,'1추총괄표(위원회)'!$C39) -> 0 | F39: =D39-E39 -> 0 | G39: =SUMIFS('1추일입'!J$6:J$9,'1추일입'!$A$6:$A$9,'1추총괄표(위원회)'!$A39,'1추일입'!$B$6:$B$9,'1추총괄표(위원회)'!$C39) -> 0 | H39: =SUMIFS('1추일입'!K$6:K$9,'1추일입'!$A$6:$A$9,'1추총괄표(위원회)'!$A39,'1추일입'!$B$6:$B$9,'1추총괄표(위원회)'!$C39) -> 0 | I39: =SUMIFS('1추일입'!L$6:L$9,'1추일입'!$A$6:$A$9,'1추총괄표(위원회)'!$A39,'1추일입'!$B$6:$B$9,'1추총괄표(위원회)'!$C39) -> 0 | J39: =SUMIFS('1추일입'!V$6:V$9,'1추일입'!$A$6:$A$9,'1추총괄표(위원회)'!$A39,'1추일입'!$B$6:$B$9,'1추총괄표(위원회)'!$C39) -> 0 | K39: =SUMIFS('1추일입'!W$6:W$9,'1추일입'!$A$6:$A$9,'1추총괄표(위원회)'!$A39,'1추일입'!$B$6:$B$9,'1추총괄표(위원회)'!$C39) -> 0 | L39: =SUMIFS('1추일입'!M$6:M$9,'1추일입'!$A$6:$A$9,'1추총괄표(위원회)'!$A39,'1추일입'!$B$6:$B$9,'1추총괄표(위원회)'!$C39) -> 0 | M39: =SUMIFS('1추일입'!N$6:N$9,'1추일입'!$A$6:$A$9,'1추총괄표(위원회)'!$A39,'1추일입'!$B$6:$B$9,'1추총괄표(위원회)'!$C39) -> 0 | N39: =SUMIFS('1추일입'!O$6:O$9,'1추일입'!$A$6:$A$9,'1추총괄표(위원회)'!$A39,'1추일입'!$B$6:$B$9,'1추총괄표(위원회)'!$C39) -> 0 | O39: =SUMIFS('1추일입'!AA$6:AA$9,'1추일입'!$A$6:$A$9,'1추총괄표(위원회)'!$A39,'1추일입'!$B$6:$B$9,'1추총괄표(위원회)'!$C39) -> 0 | P39: =SUMIFS('1추일입'!AB$6:AB$9,'1추일입'!$A$6:$A$9,'1추총괄표(위원회)'!$A39,'1추일입'!$B$6:$B$9,'1추총괄표(위원회)'!$C39) -> 0 | R39: =SUMIFS('1추일출'!G$6:G$103,'1추일출'!$A$6:$A$103,'1추총괄표(위원회)'!$A39,'1추일출'!$B$6:$B$103,'1추총괄표(위원회)'!$C39) -> 0 | S39: =SUMIFS('1추일출'!H$6:H$103,'1추일출'!$A$6:$A$103,'1추총괄표(위원회)'!$A39,'1추일출'!$B$6:$B$103,'1추총괄표(위원회)'!$C39) -> 0 | T39: =R39-S39 -> 0 | U39: =SUMIFS('1추일출'!J$6:J$103,'1추일출'!$A$6:$A$103,'1추총괄표(위원회)'!$A39,'1추일출'!$B$6:$B$103,'1추총괄표(위원회)'!$C39) -> 0 | V39: =SUMIFS('1추일출'!K$6:K$103,'1추일출'!$A$6:$A$103,'1추총괄표(위원회)'!$A39,'1추일출'!$B$6:$B$103,'1추총괄표(위원회)'!$C39) -> 0 | W39: =SUMIFS('1추일출'!L$6:L$103,'1추일출'!$A$6:$A$103,'1추총괄표(위원회)'!$A39,'1추일출'!$B$6:$B$103,'1추총괄표(위원회)'!$C39) -> 0 | X39: =SUMIFS('1추일출'!V$6:V$103,'1추일출'!$A$6:$A$103,'1추총괄표(위원회)'!$A39,'1추일출'!$B$6:$B$103,'1추총괄표(위원회)'!$C39) -> 0 | Y39: =SUMIFS('1추일출'!W$6:W$103,'1추일출'!$A$6:$A$103,'1추총괄표(위원회)'!$A39,'1추일출'!$B$6:$B$103,'1추총괄표(위원회)'!$C39) -> 0 | Z39: =SUMIFS('1추일출'!M$6:M$103,'1추일출'!$A$6:$A$103,'1추총괄표(위원회)'!$A39,'1추일출'!$B$6:$B$103,'1추총괄표(위원회)'!$C39) -> 0 | AA39: =SUMIFS('1추일출'!N$6:N$103,'1추일출'!$A$6:$A$103,'1추총괄표(위원회)'!$A39,'1추일출'!$B$6:$B$103,'1추총괄표(위원회)'!$C39) -> 0 | AB39: =SUMIFS('1추일출'!O$6:O$103,'1추일출'!$A$6:$A$103,'1추총괄표(위원회)'!$A39,'1추일출'!$B$6:$B$103,'1추총괄표(위원회)'!$C39) -> 0 | AC39: =SUMIFS('1추일출'!AA$6:AA$103,'1추일출'!$A$6:$A$103,'1추총괄표(위원회)'!$A39,'1추일출'!$B$6:$B$103,'1추총괄표(위원회)'!C$9) -> 0 | AD39: =SUMIFS('1추일출'!AB$6:AB$103,'1추일출'!$A$6:$A$103,'1추총괄표(위원회)'!$A39,'1추일출'!$B$6:$B$103,'1추총괄표(위원회)'!D$9) -> 0 | AF39: =IF(J39=X39,"OK","@@") -> OK | AG39: =J39-X39 -> 0 | AH39: =IF(O39=AC39,"OK","@@") -> OK | AI39: =O39-AC39 -> 0
A40: 건설교통위원회 | C40: 교통국 | D40: =SUMIFS('1추일입'!G$6:G$9,'1추일입'!$A$6:$A$9,'1추총괄표(위원회)'!$A40,'1추일입'!$B$6:$B$9,'1추총괄표(위원회)'!$C40) -> 0 | E40: =SUMIFS('1추일입'!H$6:H$9,'1추일입'!$A$6:$A$9,'1추총괄표(위원회)'!$A40,'1추일입'!$B$6:$B$9,'1추총괄표(위원회)'!$C40) -> 0 | F40: =D40-E40 -> 0 | G40: =SUMIFS('1추일입'!J$6:J$9,'1추일입'!$A$6:$A$9,'1추총괄표(위원회)'!$A40,'1추일입'!$B$6:$B$9,'1추총괄표(위원회)'!$C40) -> 0 | H40: =SUMIFS('1추일입'!K$6:K$9,'1추일입'!$A$6:$A$9,'1추총괄표(위원회)'!$A40,'1추일입'!$B$6:$B$9,'1추총괄표(위원회)'!$C40) -> 0 | I40: =SUMIFS('1추일입'!L$6:L$9,'1추일입'!$A$6:$A$9,'1추총괄표(위원회)'!$A40,'1추일입'!$B$6:$B$9,'1추총괄표(위원회)'!$C40) -> 0 | J40: =SUMIFS('1추일입'!V$6:V$9,'1추일입'!$A$6:$A$9,'1추총괄표(위원회)'!$A40,'1추일입'!$B$6:$B$9,'1추총괄표(위원회)'!$C40) -> 0 | K40: =SUMIFS('1추일입'!W$6:W$9,'1추일입'!$A$6:$A$9,'1추총괄표(위원회)'!$A40,'1추일입'!$B$6:$B$9,'1추총괄표(위원회)'!$C40) -> 0 | L40: =SUMIFS('1추일입'!M$6:M$9,'1추일입'!$A$6:$A$9,'1추총괄표(위원회)'!$A40,'1추일입'!$B$6:$B$9,'1추총괄표(위원회)'!$C40) -> 0 | M40: =SUMIFS('1추일입'!N$6:N$9,'1추일입'!$A$6:$A$9,'1추총괄표(위원회)'!$A40,'1추일입'!$B$6:$B$9,'1추총괄표(위원회)'!$C40) -> 0 | N40: =SUMIFS('1추일입'!O$6:O$9,'1추일입'!$A$6:$A$9,'1추총괄표(위원회)'!$A40,'1추일입'!$B$6:$B$9,'1추총괄표(위원회)'!$C40) -> 0 | O40: =SUMIFS('1추일입'!AA$6:AA$9,'1추일입'!$A$6:$A$9,'1추총괄표(위원회)'!$A40,'1추일입'!$B$6:$B$9,'1추총괄표(위원회)'!$C40) -> 0 | P40: =SUMIFS('1추일입'!AB$6:AB$9,'1추일입'!$A$6:$A$9,'1추총괄표(위원회)'!$A40,'1추일입'!$B$6:$B$9,'1추총괄표(위원회)'!$C40) -> 0 | R40: =SUMIFS('1추일출'!G$6:G$103,'1추일출'!$A$6:$A$103,'1추총괄표(위원회)'!$A40,'1추일출'!$B$6:$B$103,'1추총괄표(위원회)'!$C40) -> 0 | S40: =SUMIFS('1추일출'!H$6:H$103,'1추일출'!$A$6:$A$103,'1추총괄표(위원회)'!$A40,'1추일출'!$B$6:$B$103,'1추총괄표(위원회)'!$C40) -> 0 | T40: =R40-S40 -> 0 | U40: =SUMIFS('1추일출'!J$6:J$103,'1추일출'!$A$6:$A$103,'1추총괄표(위원회)'!$A40,'1추일출'!$B$6:$B$103,'1추총괄표(위원회)'!$C40) -> 0 | V40: =SUMIFS('1추일출'!K$6:K$103,'1추일출'!$A$6:$A$103,'1추총괄표(위원회)'!$A40,'1추일출'!$B$6:$B$103,'1추총괄표(위원회)'!$C40) -> 0 | W40: =SUMIFS('1추일출'!L$6:L$103,'1추일출'!$A$6:$A$103,'1추총괄표(위원회)'!$A40,'1추일출'!$B$6:$B$103,'1추총괄표(위원회)'!$C40) -> 0 | X40: =SUMIFS('1추일출'!V$6:V$103,'1추일출'!$A$6:$A$103,'1추총괄표(위원회)'!$A40,'1추일출'!$B$6:$B$103,'1추총괄표(위원회)'!$C40) -> 0 | Y40: =SUMIFS('1추일출'!W$6:W$103,'1추일출'!$A$6:$A$103,'1추총괄표(위원회)'!$A40,'1추일출'!$B$6:$B$103,'1추총괄표(위원회)'!$C40) -> 0 | Z40: =SUMIFS('1추일출'!M$6:M$103,'1추일출'!$A$6:$A$103,'1추총괄표(위원회)'!$A40,'1추일출'!$B$6:$B$103,'1추총괄표(위원회)'!$C40) -> 0 | AA40: =SUMIFS('1추일출'!N$6:N$103,'1추일출'!$A$6:$A$103,'1추총괄표(위원회)'!$A40,'1추일출'!$B$6:$B$103,'1추총괄표(위원회)'!$C40) -> 0 | AB40: =SUMIFS('1추일출'!O$6:O$103,'1추일출'!$A$6:$A$103,'1추총괄표(위원회)'!$A40,'1추일출'!$B$6:$B$103,'1추총괄표(위원회)'!$C40) -> 0 | AC40: =SUMIFS('1추일출'!AA$6:AA$103,'1추일출'!$A$6:$A$103,'1추총괄표(위원회)'!$A40,'1추일출'!$B$6:$B$103,'1추총괄표(위원회)'!C$9) -> 0 | AD40: =SUMIFS('1추일출'!AB$6:AB$103,'1추일출'!$A$6:$A$103,'1추총괄표(위원회)'!$A40,'1추일출'!$B$6:$B$103,'1추총괄표(위원회)'!D$9) -> 0 | AF40: =IF(J40=X40,"OK","@@") -> OK | AG40: =J40-X40 -> 0 | AH40: =IF(O40=AC40,"OK","@@") -> OK | AI40: =O40-AC40 -> 0
A41: 건설교통위원회 | C41: 건설국 | D41: =SUMIFS('1추일입'!G$6:G$9,'1추일입'!$A$6:$A$9,'1추총괄표(위원회)'!$A41,'1추일입'!$B$6:$B$9,'1추총괄표(위원회)'!$C41) -> 0 | E41: =SUMIFS('1추일입'!H$6:H$9,'1추일입'!$A$6:$A$9,'1추총괄표(위원회)'!$A41,'1추일입'!$B$6:$B$9,'1추총괄표(위원회)'!$C41) -> 0 | F41: =D41-E41 -> 0 | G41: =SUMIFS('1추일입'!J$6:J$9,'1추일입'!$A$6:$A$9,'1추총괄표(위원회)'!$A41,'1추일입'!$B$6:$B$9,'1추총괄표(위원회)'!$C41) -> 0 | H41: =SUMIFS('1추일입'!K$6:K$9,'1추일입'!$A$6:$A$9,'1추총괄표(위원회)'!$A41,'1추일입'!$B$6:$B$9,'1추총괄표(위원회)'!$C41) -> 0 | I41: =SUMIFS('1추일입'!L$6:L$9,'1추일입'!$A$6:$A$9,'1추총괄표(위원회)'!$A41,'1추일입'!$B$6:$B$9,'1추총괄표(위원회)'!$C41) -> 0 | J41: =SUMIFS('1추일입'!V$6:V$9,'1추일입'!$A$6:$A$9,'1추총괄표(위원회)'!$A41,'1추일입'!$B$6:$B$9,'1추총괄표(위원회)'!$C41) -> 0 | K41: =SUMIFS('1추일입'!W$6:W$9,'1추일입'!$A$6:$A$9,'1추총괄표(위원회)'!$A41,'1추일입'!$B$6:$B$9,'1추총괄표(위원회)'!$C41) -> 0 | L41: =SUMIFS('1추일입'!M$6:M$9,'1추일입'!$A$6:$A$9,'1추총괄표(위원회)'!$A41,'1추일입'!$B$6:$B$9,'1추총괄표(위원회)'!$C41) -> 0 | M41: =SUMIFS('1추일입'!N$6:N$9,'1추일입'!$A$6:$A$9,'1추총괄표(위원회)'!$A41,'1추일입'!$B$6:$B$9,'1추총괄표(위원회)'!$C41) -> 0 | N41: =SUMIFS('1추일입'!O$6:O$9,'1추일입'!$A$6:$A$9,'1추총괄표(위원회)'!$A41,'1추일입'!$B$6:$B$9,'1추총괄표(위원회)'!$C41) -> 0 | O41: =SUMIFS('1추일입'!AA$6:AA$9,'1추일입'!$A$6:$A$9,'1추총괄표(위원회)'!$A41,'1추일입'!$B$6:$B$9,'1추총괄표(위원회)'!$C41) -> 0 | P41: =SUMIFS('1추일입'!AB$6:AB$9,'1추일입'!$A$6:$A$9,'1추총괄표(위원회)'!$A41,'1추일입'!$B$6:$B$9,'1추총괄표(위원회)'!$C41) -> 0 | R41: =SUMIFS('1추일출'!G$6:G$103,'1추일출'!$A$6:$A$103,'1추총괄표(위원회)'!$A41,'1추일출'!$B$6:$B$103,'1추총괄표(위원회)'!$C41) -> 0 | S41: =SUMIFS('1추일출'!H$6:H$103,'1추일출'!$A$6:$A$103,'1추총괄표(위원회)'!$A41,'1추일출'!$B$6:$B$103,'1추총괄표(위원회)'!$C41) -> 0 | T41: =R41-S41 -> 0 | U41: =SUMIFS('1추일출'!J$6:J$103,'1추일출'!$A$6:$A$103,'1추총괄표(위원회)'!$A41,'1추일출'!$B$6:$B$103,'1추총괄표(위원회)'!$C41) -> 0 | V41: =SUMIFS('1추일출'!K$6:K$103,'1추일출'!$A$6:$A$103,'1추총괄표(위원회)'!$A41,'1추일출'!$B$6:$B$103,'1추총괄표(위원회)'!$C41) -> 0 | W41: =SUMIFS('1추일출'!L$6:L$103,'1추일출'!$A$6:$A$103,'1추총괄표(위원회)'!$A41,'1추일출'!$B$6:$B$103,'1추총괄표(위원회)'!$C41) -> 0 | X41: =SUMIFS('1추일출'!V$6:V$103,'1추일출'!$A$6:$A$103,'1추총괄표(위원회)'!$A41,'1추일출'!$B$6:$B$103,'1추총괄표(위원회)'!$C41) -> 0 | Y41: =SUMIFS('1추일출'!W$6:W$103,'1추일출'!$A$6:$A$103,'1추총괄표(위원회)'!$A41,'1추일출'!$B$6:$B$103,'1추총괄표(위원회)'!$C41) -> 0 | Z41: =SUMIFS('1추일출'!M$6:M$103,'1추일출'!$A$6:$A$103,'1추총괄표(위원회)'!$A41,'1추일출'!$B$6:$B$103,'1추총괄표(위원회)'!$C41) -> 0 | AA41: =SUMIFS('1추일출'!N$6:N$103,'1추일출'!$A$6:$A$103,'1추총괄표(위원회)'!$A41,'1추일출'!$B$6:$B$103,'1추총괄표(위원회)'!$C41) -> 0 | AB41: =SUMIFS('1추일출'!O$6:O$103,'1추일출'!$A$6:$A$103,'1추총괄표(위원회)'!$A41,'1추일출'!$B$6:$B$103,'1추총괄표(위원회)'!$C41) -> 0 | AC41: =SUMIFS('1추일출'!AA$6:AA$103,'1추일출'!$A$6:$A$103,'1추총괄표(위원회)'!$A41,'1추일출'!$B$6:$B$103,'1추총괄표(위원회)'!C$9) -> 0 | AD41: =SUMIFS('1추일출'!AB$6:AB$103,'1추일출'!$A$6:$A$103,'1추총괄표(위원회)'!$A41,'1추일출'!$B$6:$B$103,'1추총괄표(위원회)'!D$9) -> 0 | AF41: =IF(J41=X41,"OK","@@") -> OK | AG41: =J41-X41 -> 0 | AH41: =IF(O41=AC41,"OK","@@") -> OK | AI41: =O41-AC41 -> 0
A42: 건설교통위원회 | C42: 건설본부 | D42: =SUMIFS('1추일입'!G$6:G$9,'1추일입'!$A$6:$A$9,'1추총괄표(위원회)'!$A42,'1추일입'!$B$6:$B$9,'1추총괄표(위원회)'!$C42) -> 0 | E42: =SUMIFS('1추일입'!H$6:H$9,'1추일입'!$A$6:$A$9,'1추총괄표(위원회)'!$A42,'1추일입'!$B$6:$B$9,'1추총괄표(위원회)'!$C42) -> 0 | F42: =D42-E42 -> 0 | G42: =SUMIFS('1추일입'!J$6:J$9,'1추일입'!$A$6:$A$9,'1추총괄표(위원회)'!$A42,'1추일입'!$B$6:$B$9,'1추총괄표(위원회)'!$C42) -> 0 | H42: =SUMIFS('1추일입'!K$6:K$9,'1추일입'!$A$6:$A$9,'1추총괄표(위원회)'!$A42,'1추일입'!$B$6:$B$9,'1추총괄표(위원회)'!$C42) -> 0 | I42: =SUMIFS('1추일입'!L$6:L$9,'1추일입'!$A$6:$A$9,'1추총괄표(위원회)'!$A42,'1추일입'!$B$6:$B$9,'1추총괄표(위원회)'!$C42) -> 0 | J42: =SUMIFS('1추일입'!V$6:V$9,'1추일입'!$A$6:$A$9,'1추총괄표(위원회)'!$A42,'1추일입'!$B$6:$B$9,'1추총괄표(위원회)'!$C42) -> 0 | K42: =SUMIFS('1추일입'!W$6:W$9,'1추일입'!$A$6:$A$9,'1추총괄표(위원회)'!$A42,'1추일입'!$B$6:$B$9,'1추총괄표(위원회)'!$C42) -> 0 | L42: =SUMIFS('1추일입'!M$6:M$9,'1추일입'!$A$6:$A$9,'1추총괄표(위원회)'!$A42,'1추일입'!$B$6:$B$9,'1추총괄표(위원회)'!$C42) -> 0 | M42: =SUMIFS('1추일입'!N$6:N$9,'1추일입'!$A$6:$A$9,'1추총괄표(위원회)'!$A42,'1추일입'!$B$6:$B$9,'1추총괄표(위원회)'!$C42) -> 0 | N42: =SUMIFS('1추일입'!O$6:O$9,'1추일입'!$A$6:$A$9,'1추총괄표(위원회)'!$A42,'1추일입'!$B$6:$B$9,'1추총괄표(위원회)'!$C42) -> 0 | O42: =SUMIFS('1추일입'!AA$6:AA$9,'1추일입'!$A$6:$A$9,'1추총괄표(위원회)'!$A42,'1추일입'!$B$6:$B$9,'1추총괄표(위원회)'!$C42) -> 0 | P42: =SUMIFS('1추일입'!AB$6:AB$9,'1추일입'!$A$6:$A$9,'1추총괄표(위원회)'!$A42,'1추일입'!$B$6:$B$9,'1추총괄표(위원회)'!$C42) -> 0 | R42: =SUMIFS('1추일출'!G$6:G$103,'1추일출'!$A$6:$A$103,'1추총괄표(위원회)'!$A42,'1추일출'!$B$6:$B$103,'1추총괄표(위원회)'!$C42) -> 0 | S42: =SUMIFS('1추일출'!H$6:H$103,'1추일출'!$A$6:$A$103,'1추총괄표(위원회)'!$A42,'1추일출'!$B$6:$B$103,'1추총괄표(위원회)'!$C42) -> 0 | T42: =R42-S42 -> 0 | U42: =SUMIFS('1추일출'!J$6:J$103,'1추일출'!$A$6:$A$103,'1추총괄표(위원회)'!$A42,'1추일출'!$B$6:$B$103,'1추총괄표(위원회)'!$C42) -> 0 | V42: =SUMIFS('1추일출'!K$6:K$103,'1추일출'!$A$6:$A$103,'1추총괄표(위원회)'!$A42,'1추일출'!$B$6:$B$103,'1추총괄표(위원회)'!$C42) -> 0 | W42: =SUMIFS('1추일출'!L$6:L$103,'1추일출'!$A$6:$A$103,'1추총괄표(위원회)'!$A42,'1추일출'!$B$6:$B$103,'1추총괄표(위원회)'!$C42) -> 0 | X42: =SUMIFS('1추일출'!V$6:V$103,'1추일출'!$A$6:$A$103,'1추총괄표(위원회)'!$A42,'1추일출'!$B$6:$B$103,'1추총괄표(위원회)'!$C42) -> 0 | Y42: =SUMIFS('1추일출'!W$6:W$103,'1추일출'!$A$6:$A$103,'1추총괄표(위원회)'!$A42,'1추일출'!$B$6:$B$103,'1추총괄표(위원회)'!$C42) -> 0 | Z42: =SUMIFS('1추일출'!M$6:M$103,'1추일출'!$A$6:$A$103,'1추총괄표(위원회)'!$A42,'1추일출'!$B$6:$B$103,'1추총괄표(위원회)'!$C42) -> 0 | AA42: =SUMIFS('1추일출'!N$6:N$103,'1추일출'!$A$6:$A$103,'1추총괄표(위원회)'!$A42,'1추일출'!$B$6:$B$103,'1추총괄표(위원회)'!$C42) -> 0 | AB42: =SUMIFS('1추일출'!O$6:O$103,'1추일출'!$A$6:$A$103,'1추총괄표(위원회)'!$A42,'1추일출'!$B$6:$B$103,'1추총괄표(위원회)'!$C42) -> 0 | AC42: =SUMIFS('1추일출'!AA$6:AA$103,'1추일출'!$A$6:$A$103,'1추총괄표(위원회)'!$A42,'1추일출'!$B$6:$B$103,'1추총괄표(위원회)'!C$9) -> 0 | AD42: =SUMIFS('1추일출'!AB$6:AB$103,'1추일출'!$A$6:$A$103,'1추총괄표(위원회)'!$A42,'1추일출'!$B$6:$B$103,'1추총괄표(위원회)'!D$9) -> 0 | AF42: =IF(J42=X42,"OK","@@") -> OK | AG42: =J42-X42 -> 0 | AH42: =IF(O42=AC42,"OK","@@") -> OK | AI42: =O42-AC42 -> 0
B43: 도시환경위원회 | D43: =SUM(D44:D48) -> 0 | E43: =SUM(E44:E48) -> 0 | F43: =SUM(F44:F48) -> 0 | G43: =SUM(G44:G48) -> 0 | H43: =SUM(H44:H48) -> 0 | I43: =SUM(I44:I48) -> 0 | J43: =SUM(J44:J48) -> 0 | K43: =SUM(K44:K48) -> 0 | ... P43: =SUM(P44:P48) -> 0 | R43: =SUM(R44:R48) -> 0 | S43: =SUM(S44:S48) -> 0 | T43: =SUM(T44:T48) -> 0 | U43: =SUM(U44:U48) -> 0 | V43: =SUM(V44:V48) -> 0 | W43: =SUM(W44:W48) -> 0 | X43: =SUM(X44:X48) -> 0 | Y43: =SUM(Y44:Y48) -> 0 | ... AD43: =SUM(AD44:AD48) -> 0 | AF43: =IF(J43=X43,"OK","@@") -> OK | AG43: =J43-X43 -> 0 | AH43: =IF(O43=AC43,"OK","@@") -> OK | AI43: =O43-AC43 -> 0
A44: 도시환경위원회 | C44: 도시주택실 | D44: =SUMIFS('1추일입'!G$6:G$9,'1추일입'!$A$6:$A$9,'1추총괄표(위원회)'!$A44,'1추일입'!$B$6:$B$9,'1추총괄표(위원회)'!$C44) -> 0 | E44: =SUMIFS('1추일입'!H$6:H$9,'1추일입'!$A$6:$A$9,'1추총괄표(위원회)'!$A44,'1추일입'!$B$6:$B$9,'1추총괄표(위원회)'!$C44) -> 0 | F44: =D44-E44 -> 0 | G44: =SUMIFS('1추일입'!J$6:J$9,'1추일입'!$A$6:$A$9,'1추총괄표(위원회)'!$A44,'1추일입'!$B$6:$B$9,'1추총괄표(위원회)'!$C44) -> 0 | H44: =SUMIFS('1추일입'!K$6:K$9,'1추일입'!$A$6:$A$9,'1추총괄표(위원회)'!$A44,'1추일입'!$B$6:$B$9,'1추총괄표(위원회)'!$C44) -> 0 | I44: =SUMIFS('1추일입'!L$6:L$9,'1추일입'!$A$6:$A$9,'1추총괄표(위원회)'!$A44,'1추일입'!$B$6:$B$9,'1추총괄표(위원회)'!$C44) -> 0 | J44: =SUMIFS('1추일입'!V$6:V$9,'1추일입'!$A$6:$A$9,'1추총괄표(위원회)'!$A44,'1추일입'!$B$6:$B$9,'1추총괄표(위원회)'!$C44) -> 0 | K44: =SUMIFS('1추일입'!W$6:W$9,'1추일입'!$A$6:$A$9,'1추총괄표(위원회)'!$A44,'1추일입'!$B$6:$B$9,'1추총괄표(위원회)'!$C44) -> 0 | L44: =SUMIFS('1추일입'!M$6:M$9,'1추일입'!$A$6:$A$9,'1추총괄표(위원회)'!$A44,'1추일입'!$B$6:$B$9,'1추총괄표(위원회)'!$C44) -> 0 | M44: =SUMIFS('1추일입'!N$6:N$9,'1추일입'!$A$6:$A$9,'1추총괄표(위원회)'!$A44,'1추일입'!$B$6:$B$9,'1추총괄표(위원회)'!$C44) -> 0 | N44: =SUMIFS('1추일입'!O$6:O$9,'1추일입'!$A$6:$A$9,'1추총괄표(위원회)'!$A44,'1추일입'!$B$6:$B$9,'1추총괄표(위원회)'!$C44) -> 0 | O44: =SUMIFS('1추일입'!AA$6:AA$9,'1추일입'!$A$6:$A$9,'1추총괄표(위원회)'!$A44,'1추일입'!$B$6:$B$9,'1추총괄표(위원회)'!$C44) -> 0 | P44: =SUMIFS('1추일입'!AB$6:AB$9,'1추일입'!$A$6:$A$9,'1추총괄표(위원회)'!$A44,'1추일입'!$B$6:$B$9,'1추총괄표(위원회)'!$C44) -> 0 | R44: =SUMIFS('1추일출'!G$6:G$103,'1추일출'!$A$6:$A$103,'1추총괄표(위원회)'!$A44,'1추일출'!$B$6:$B$103,'1추총괄표(위원회)'!$C44) -> 0 | S44: =SUMIFS('1추일출'!H$6:H$103,'1추일출'!$A$6:$A$103,'1추총괄표(위원회)'!$A44,'1추일출'!$B$6:$B$103,'1추총괄표(위원회)'!$C44) -> 0 | T44: =R44-S44 -> 0 | U44: =SUMIFS('1추일출'!J$6:J$103,'1추일출'!$A$6:$A$103,'1추총괄표(위원회)'!$A44,'1추일출'!$B$6:$B$103,'1추총괄표(위원회)'!$C44) -> 0 | V44: =SUMIFS('1추일출'!K$6:K$103,'1추일출'!$A$6:$A$103,'1추총괄표(위원회)'!$A44,'1추일출'!$B$6:$B$103,'1추총괄표(위원회)'!$C44) -> 0 | W44: =SUMIFS('1추일출'!L$6:L$103,'1추일출'!$A$6:$A$103,'1추총괄표(위원회)'!$A44,'1추일출'!$B$6:$B$103,'1추총괄표(위원회)'!$C44) -> 0 | X44: =SUMIFS('1추일출'!V$6:V$103,'1추일출'!$A$6:$A$103,'1추총괄표(위원회)'!$A44,'1추일출'!$B$6:$B$103,'1추총괄표(위원회)'!$C44) -> 0 | Y44: =SUMIFS('1추일출'!W$6:W$103,'1추일출'!$A$6:$A$103,'1추총괄표(위원회)'!$A44,'1추일출'!$B$6:$B$103,'1추총괄표(위원회)'!$C44) -> 0 | Z44: =SUMIFS('1추일출'!M$6:M$103,'1추일출'!$A$6:$A$103,'1추총괄표(위원회)'!$A44,'1추일출'!$B$6:$B$103,'1추총괄표(위원회)'!$C44) -> 0 | AA44: =SUMIFS('1추일출'!N$6:N$103,'1추일출'!$A$6:$A$103,'1추총괄표(위원회)'!$A44,'1추일출'!$B$6:$B$103,'1추총괄표(위원회)'!$C44) -> 0 | AB44: =SUMIFS('1추일출'!O$6:O$103,'1추일출'!$A$6:$A$103,'1추총괄표(위원회)'!$A44,'1추일출'!$B$6:$B$103,'1추총괄표(위원회)'!$C44) -> 0 | AC44: =SUMIFS('1추일출'!AA$6:AA$103,'1추일출'!$A$6:$A$103,'1추총괄표(위원회)'!$A44,'1추일출'!$B$6:$B$103,'1추총괄표(위원회)'!C$9) -> 0 | AD44: =SUMIFS('1추일출'!AB$6:AB$103,'1추일출'!$A$6:$A$103,'1추총괄표(위원회)'!$A44,'1추일출'!$B$6:$B$103,'1추총괄표(위원회)'!D$9) -> 0 | AF44: =IF(J44=X44,"OK","@@") -> OK | AG44: =J44-X44 -> 0 | AH44: =IF(O44=AC44,"OK","@@") -> OK | AI44: =O44-AC44 -> 0
A45: 도시환경위원회 | C45: 환경국 | D45: =SUMIFS('1추일입'!G$6:G$9,'1추일입'!$A$6:$A$9,'1추총괄표(위원회)'!$A45,'1추일입'!$B$6:$B$9,'1추총괄표(위원회)'!$C45) -> 0 | E45: =SUMIFS('1추일입'!H$6:H$9,'1추일입'!$A$6:$A$9,'1추총괄표(위원회)'!$A45,'1추일입'!$B$6:$B$9,'1추총괄표(위원회)'!$C45) -> 0 | F45: =D45-E45 -> 0 | G45: =SUMIFS('1추일입'!J$6:J$9,'1추일입'!$A$6:$A$9,'1추총괄표(위원회)'!$A45,'1추일입'!$B$6:$B$9,'1추총괄표(위원회)'!$C45) -> 0 | H45: =SUMIFS('1추일입'!K$6:K$9,'1추일입'!$A$6:$A$9,'1추총괄표(위원회)'!$A45,'1추일입'!$B$6:$B$9,'1추총괄표(위원회)'!$C45) -> 0 | I45: =SUMIFS('1추일입'!L$6:L$9,'1추일입'!$A$6:$A$9,'1추총괄표(위원회)'!$A45,'1추일입'!$B$6:$B$9,'1추총괄표(위원회)'!$C45) -> 0 | J45: =SUMIFS('1추일입'!V$6:V$9,'1추일입'!$A$6:$A$9,'1추총괄표(위원회)'!$A45,'1추일입'!$B$6:$B$9,'1추총괄표(위원회)'!$C45) -> 0 | K45: =SUMIFS('1추일입'!W$6:W$9,'1추일입'!$A$6:$A$9,'1추총괄표(위원회)'!$A45,'1추일입'!$B$6:$B$9,'1추총괄표(위원회)'!$C45) -> 0 | L45: =SUMIFS('1추일입'!M$6:M$9,'1추일입'!$A$6:$A$9,'1추총괄표(위원회)'!$A45,'1추일입'!$B$6:$B$9,'1추총괄표(위원회)'!$C45) -> 0 | M45: =SUMIFS('1추일입'!N$6:N$9,'1추일입'!$A$6:$A$9,'1추총괄표(위원회)'!$A45,'1추일입'!$B$6:$B$9,'1추총괄표(위원회)'!$C45) -> 0 | N45: =SUMIFS('1추일입'!O$6:O$9,'1추일입'!$A$6:$A$9,'1추총괄표(위원회)'!$A45,'1추일입'!$B$6:$B$9,'1추총괄표(위원회)'!$C45) -> 0 | O45: =SUMIFS('1추일입'!AA$6:AA$9,'1추일입'!$A$6:$A$9,'1추총괄표(위원회)'!$A45,'1추일입'!$B$6:$B$9,'1추총괄표(위원회)'!$C45) -> 0 | P45: =SUMIFS('1추일입'!AB$6:AB$9,'1추일입'!$A$6:$A$9,'1추총괄표(위원회)'!$A45,'1추일입'!$B$6:$B$9,'1추총괄표(위원회)'!$C45) -> 0 | R45: =SUMIFS('1추일출'!G$6:G$103,'1추일출'!$A$6:$A$103,'1추총괄표(위원회)'!$A45,'1추일출'!$B$6:$B$103,'1추총괄표(위원회)'!$C45) -> 0 | S45: =SUMIFS('1추일출'!H$6:H$103,'1추일출'!$A$6:$A$103,'1추총괄표(위원회)'!$A45,'1추일출'!$B$6:$B$103,'1추총괄표(위원회)'!$C45) -> 0 | T45: =R45-S45 -> 0 | U45: =SUMIFS('1추일출'!J$6:J$103,'1추일출'!$A$6:$A$103,'1추총괄표(위원회)'!$A45,'1추일출'!$B$6:$B$103,'1추총괄표(위원회)'!$C45) -> 0 | V45: =SUMIFS('1추일출'!K$6:K$103,'1추일출'!$A$6:$A$103,'1추총괄표(위원회)'!$A45,'1추일출'!$B$6:$B$103,'1추총괄표(위원회)'!$C45) -> 0 | W45: =SUMIFS('1추일출'!L$6:L$103,'1추일출'!$A$6:$A$103,'1추총괄표(위원회)'!$A45,'1추일출'!$B$6:$B$103,'1추총괄표(위원회)'!$C45) -> 0 | X45: =SUMIFS('1추일출'!V$6:V$103,'1추일출'!$A$6:$A$103,'1추총괄표(위원회)'!$A45,'1추일출'!$B$6:$B$103,'1추총괄표(위원회)'!$C45) -> 0 | Y45: =SUMIFS('1추일출'!W$6:W$103,'1추일출'!$A$6:$A$103,'1추총괄표(위원회)'!$A45,'1추일출'!$B$6:$B$103,'1추총괄표(위원회)'!$C45) -> 0 | Z45: =SUMIFS('1추일출'!M$6:M$103,'1추일출'!$A$6:$A$103,'1추총괄표(위원회)'!$A45,'1추일출'!$B$6:$B$103,'1추총괄표(위원회)'!$C45) -> 0 | AA45: =SUMIFS('1추일출'!N$6:N$103,'1추일출'!$A$6:$A$103,'1추총괄표(위원회)'!$A45,'1추일출'!$B$6:$B$103,'1추총괄표(위원회)'!$C45) -> 0 | AB45: =SUMIFS('1추일출'!O$6:O$103,'1추일출'!$A$6:$A$103,'1추총괄표(위원회)'!$A45,'1추일출'!$B$6:$B$103,'1추총괄표(위원회)'!$C45) -> 0 | AC45: =SUMIFS('1추일출'!AA$6:AA$103,'1추일출'!$A$6:$A$103,'1추총괄표(위원회)'!$A45,'1추일출'!$B$6:$B$103,'1추총괄표(위원회)'!C$9) -> 0 | AD45: =SUMIFS('1추일출'!AB$6:AB$103,'1추일출'!$A$6:$A$103,'1추총괄표(위원회)'!$A45,'1추일출'!$B$6:$B$103,'1추총괄표(위원회)'!D$9) -> 0 | AF45: =IF(J45=X45,"OK","@@") -> OK | AG45: =J45-X45 -> 0 | AH45: =IF(O45=AC45,"OK","@@") -> OK | AI45: =O45-AC45 -> 0
A46: 도시환경위원회 | C46: 축산산림국 | D46: =SUMIFS('1추일입'!G$6:G$9,'1추일입'!$A$6:$A$9,'1추총괄표(위원회)'!$A46,'1추일입'!$B$6:$B$9,'1추총괄표(위원회)'!$C46) -> 0 | E46: =SUMIFS('1추일입'!H$6:H$9,'1추일입'!$A$6:$A$9,'1추총괄표(위원회)'!$A46,'1추일입'!$B$6:$B$9,'1추총괄표(위원회)'!$C46) -> 0 | F46: =D46-E46 -> 0 | G46: =SUMIFS('1추일입'!J$6:J$9,'1추일입'!$A$6:$A$9,'1추총괄표(위원회)'!$A46,'1추일입'!$B$6:$B$9,'1추총괄표(위원회)'!$C46) -> 0 | H46: =SUMIFS('1추일입'!K$6:K$9,'1추일입'!$A$6:$A$9,'1추총괄표(위원회)'!$A46,'1추일입'!$B$6:$B$9,'1추총괄표(위원회)'!$C46) -> 0 | I46: =SUMIFS('1추일입'!L$6:L$9,'1추일입'!$A$6:$A$9,'1추총괄표(위원회)'!$A46,'1추일입'!$B$6:$B$9,'1추총괄표(위원회)'!$C46) -> 0 | J46: =SUMIFS('1추일입'!V$6:V$9,'1추일입'!$A$6:$A$9,'1추총괄표(위원회)'!$A46,'1추일입'!$B$6:$B$9,'1추총괄표(위원회)'!$C46) -> 0 | K46: =SUMIFS('1추일입'!W$6:W$9,'1추일입'!$A$6:$A$9,'1추총괄표(위원회)'!$A46,'1추일입'!$B$6:$B$9,'1추총괄표(위원회)'!$C46) -> 0 | L46: =SUMIFS('1추일입'!M$6:M$9,'1추일입'!$A$6:$A$9,'1추총괄표(위원회)'!$A46,'1추일입'!$B$6:$B$9,'1추총괄표(위원회)'!$C46) -> 0 | M46: =SUMIFS('1추일입'!N$6:N$9,'1추일입'!$A$6:$A$9,'1추총괄표(위원회)'!$A46,'1추일입'!$B$6:$B$9,'1추총괄표(위원회)'!$C46) -> 0 | N46: =SUMIFS('1추일입'!O$6:O$9,'1추일입'!$A$6:$A$9,'1추총괄표(위원회)'!$A46,'1추일입'!$B$6:$B$9,'1추총괄표(위원회)'!$C46) -> 0 | O46: =SUMIFS('1추일입'!AA$6:AA$9,'1추일입'!$A$6:$A$9,'1추총괄표(위원회)'!$A46,'1추일입'!$B$6:$B$9,'1추총괄표(위원회)'!$C46) -> 0 | P46: =SUMIFS('1추일입'!AB$6:AB$9,'1추일입'!$A$6:$A$9,'1추총괄표(위원회)'!$A46,'1추일입'!$B$6:$B$9,'1추총괄표(위원회)'!$C46) -> 0 | R46: =SUMIFS('1추일출'!G$6:G$103,'1추일출'!$A$6:$A$103,'1추총괄표(위원회)'!$A46,'1추일출'!$B$6:$B$103,'1추총괄표(위원회)'!$C46) -> 0 | S46: =SUMIFS('1추일출'!H$6:H$103,'1추일출'!$A$6:$A$103,'1추총괄표(위원회)'!$A46,'1추일출'!$B$6:$B$103,'1추총괄표(위원회)'!$C46) -> 0 | T46: =R46-S46 -> 0 | U46: =SUMIFS('1추일출'!J$6:J$103,'1추일출'!$A$6:$A$103,'1추총괄표(위원회)'!$A46,'1추일출'!$B$6:$B$103,'1추총괄표(위원회)'!$C46) -> 0 | V46: =SUMIFS('1추일출'!K$6:K$103,'1추일출'!$A$6:$A$103,'1추총괄표(위원회)'!$A46,'1추일출'!$B$6:$B$103,'1추총괄표(위원회)'!$C46) -> 0 | W46: =SUMIFS('1추일출'!L$6:L$103,'1추일출'!$A$6:$A$103,'1추총괄표(위원회)'!$A46,'1추일출'!$B$6:$B$103,'1추총괄표(위원회)'!$C46) -> 0 | X46: =SUMIFS('1추일출'!V$6:V$103,'1추일출'!$A$6:$A$103,'1추총괄표(위원회)'!$A46,'1추일출'!$B$6:$B$103,'1추총괄표(위원회)'!$C46) -> 0 | Y46: =SUMIFS('1추일출'!W$6:W$103,'1추일출'!$A$6:$A$103,'1추총괄표(위원회)'!$A46,'1추일출'!$B$6:$B$103,'1추총괄표(위원회)'!$C46) -> 0 | Z46: =SUMIFS('1추일출'!M$6:M$103,'1추일출'!$A$6:$A$103,'1추총괄표(위원회)'!$A46,'1추일출'!$B$6:$B$103,'1추총괄표(위원회)'!$C46) -> 0 | AA46: =SUMIFS('1추일출'!N$6:N$103,'1추일출'!$A$6:$A$103,'1추총괄표(위원회)'!$A46,'1추일출'!$B$6:$B$103,'1추총괄표(위원회)'!$C46) -> 0 | AB46: =SUMIFS('1추일출'!O$6:O$103,'1추일출'!$A$6:$A$103,'1추총괄표(위원회)'!$A46,'1추일출'!$B$6:$B$103,'1추총괄표(위원회)'!$C46) -> 0 | AC46: =SUMIFS('1추일출'!AA$6:AA$103,'1추일출'!$A$6:$A$103,'1추총괄표(위원회)'!$A46,'1추일출'!$B$6:$B$103,'1추총괄표(위원회)'!C$9) -> 0 | AD46: =SUMIFS('1추일출'!AB$6:AB$103,'1추일출'!$A$6:$A$103,'1추총괄표(위원회)'!$A46,'1추일출'!$B$6:$B$103,'1추총괄표(위원회)'!D$9) -> 0 | AF46: =IF(J46=X46,"OK","@@") -> OK | AG46: =J46-X46 -> 0 | AH46: =IF(O46=AC46,"OK","@@") -> OK | AI46: =O46-AC46 -> 0
A47: 도시환경위원회 | C47: 보건환경연구원 | D47: =SUMIFS('1추일입'!G$6:G$9,'1추일입'!$A$6:$A$9,'1추총괄표(위원회)'!$A47,'1추일입'!$B$6:$B$9,'1추총괄표(위원회)'!$C47) -> 0 | E47: =SUMIFS('1추일입'!H$6:H$9,'1추일입'!$A$6:$A$9,'1추총괄표(위원회)'!$A47,'1추일입'!$B$6:$B$9,'1추총괄표(위원회)'!$C47) -> 0 | F47: =D47-E47 -> 0 | G47: =SUMIFS('1추일입'!J$6:J$9,'1추일입'!$A$6:$A$9,'1추총괄표(위원회)'!$A47,'1추일입'!$B$6:$B$9,'1추총괄표(위원회)'!$C47) -> 0 | H47: =SUMIFS('1추일입'!K$6:K$9,'1추일입'!$A$6:$A$9,'1추총괄표(위원회)'!$A47,'1추일입'!$B$6:$B$9,'1추총괄표(위원회)'!$C47) -> 0 | I47: =SUMIFS('1추일입'!L$6:L$9,'1추일입'!$A$6:$A$9,'1추총괄표(위원회)'!$A47,'1추일입'!$B$6:$B$9,'1추총괄표(위원회)'!$C47) -> 0 | J47: =SUMIFS('1추일입'!V$6:V$9,'1추일입'!$A$6:$A$9,'1추총괄표(위원회)'!$A47,'1추일입'!$B$6:$B$9,'1추총괄표(위원회)'!$C47) -> 0 | K47: =SUMIFS('1추일입'!W$6:W$9,'1추일입'!$A$6:$A$9,'1추총괄표(위원회)'!$A47,'1추일입'!$B$6:$B$9,'1추총괄표(위원회)'!$C47) -> 0 | L47: =SUMIFS('1추일입'!M$6:M$9,'1추일입'!$A$6:$A$9,'1추총괄표(위원회)'!$A47,'1추일입'!$B$6:$B$9,'1추총괄표(위원회)'!$C47) -> 0 | M47: =SUMIFS('1추일입'!N$6:N$9,'1추일입'!$A$6:$A$9,'1추총괄표(위원회)'!$A47,'1추일입'!$B$6:$B$9,'1추총괄표(위원회)'!$C47) -> 0 | N47: =SUMIFS('1추일입'!O$6:O$9,'1추일입'!$A$6:$A$9,'1추총괄표(위원회)'!$A47,'1추일입'!$B$6:$B$9,'1추총괄표(위원회)'!$C47) -> 0 | O47: =SUMIFS('1추일입'!AA$6:AA$9,'1추일입'!$A$6:$A$9,'1추총괄표(위원회)'!$A47,'1추일입'!$B$6:$B$9,'1추총괄표(위원회)'!$C47) -> 0 | P47: =SUMIFS('1추일입'!AB$6:AB$9,'1추일입'!$A$6:$A$9,'1추총괄표(위원회)'!$A47,'1추일입'!$B$6:$B$9,'1추총괄표(위원회)'!$C47) -> 0 | R47: =SUMIFS('1추일출'!G$6:G$103,'1추일출'!$A$6:$A$103,'1추총괄표(위원회)'!$A47,'1추일출'!$B$6:$B$103,'1추총괄표(위원회)'!$C47) -> 0 | S47: =SUMIFS('1추일출'!H$6:H$103,'1추일출'!$A$6:$A$103,'1추총괄표(위원회)'!$A47,'1추일출'!$B$6:$B$103,'1추총괄표(위원회)'!$C47) -> 0 | T47: =R47-S47 -> 0 | U47: =SUMIFS('1추일출'!J$6:J$103,'1추일출'!$A$6:$A$103,'1추총괄표(위원회)'!$A47,'1추일출'!$B$6:$B$103,'1추총괄표(위원회)'!$C47) -> 0 | V47: =SUMIFS('1추일출'!K$6:K$103,'1추일출'!$A$6:$A$103,'1추총괄표(위원회)'!$A47,'1추일출'!$B$6:$B$103,'1추총괄표(위원회)'!$C47) -> 0 | W47: =SUMIFS('1추일출'!L$6:L$103,'1추일출'!$A$6:$A$103,'1추총괄표(위원회)'!$A47,'1추일출'!$B$6:$B$103,'1추총괄표(위원회)'!$C47) -> 0 | X47: =SUMIFS('1추일출'!V$6:V$103,'1추일출'!$A$6:$A$103,'1추총괄표(위원회)'!$A47,'1추일출'!$B$6:$B$103,'1추총괄표(위원회)'!$C47) -> 0 | Y47: =SUMIFS('1추일출'!W$6:W$103,'1추일출'!$A$6:$A$103,'1추총괄표(위원회)'!$A47,'1추일출'!$B$6:$B$103,'1추총괄표(위원회)'!$C47) -> 0 | Z47: =SUMIFS('1추일출'!M$6:M$103,'1추일출'!$A$6:$A$103,'1추총괄표(위원회)'!$A47,'1추일출'!$B$6:$B$103,'1추총괄표(위원회)'!$C47) -> 0 | AA47: =SUMIFS('1추일출'!N$6:N$103,'1추일출'!$A$6:$A$103,'1추총괄표(위원회)'!$A47,'1추일출'!$B$6:$B$103,'1추총괄표(위원회)'!$C47) -> 0 | AB47: =SUMIFS('1추일출'!O$6:O$103,'1추일출'!$A$6:$A$103,'1추총괄표(위원회)'!$A47,'1추일출'!$B$6:$B$103,'1추총괄표(위원회)'!$C47) -> 0 | AC47: =SUMIFS('1추일출'!AA$6:AA$103,'1추일출'!$A$6:$A$103,'1추총괄표(위원회)'!$A47,'1추일출'!$B$6:$B$103,'1추총괄표(위원회)'!C$9) -> 0 | AD47: =SUMIFS('1추일출'!AB$6:AB$103,'1추일출'!$A$6:$A$103,'1추총괄표(위원회)'!$A47,'1추일출'!$B$6:$B$103,'1추총괄표(위원회)'!D$9) -> 0 | AF47: =IF(J47=X47,"OK","@@") -> OK | AG47: =J47-X47 -> 0 | AH47: =IF(O47=AC47,"OK","@@") -> OK | AI47: =O47-AC47 -> 0
A48: 도시환경위원회 | C48: 수자원본부 | D48: =SUMIFS('1추일입'!G$6:G$9,'1추일입'!$A$6:$A$9,'1추총괄표(위원회)'!$A48,'1추일입'!$B$6:$B$9,'1추총괄표(위원회)'!$C48) -> 0 | E48: =SUMIFS('1추일입'!H$6:H$9,'1추일입'!$A$6:$A$9,'1추총괄표(위원회)'!$A48,'1추일입'!$B$6:$B$9,'1추총괄표(위원회)'!$C48) -> 0 | F48: =D48-E48 -> 0 | G48: =SUMIFS('1추일입'!J$6:J$9,'1추일입'!$A$6:$A$9,'1추총괄표(위원회)'!$A48,'1추일입'!$B$6:$B$9,'1추총괄표(위원회)'!$C48) -> 0 | H48: =SUMIFS('1추일입'!K$6:K$9,'1추일입'!$A$6:$A$9,'1추총괄표(위원회)'!$A48,'1추일입'!$B$6:$B$9,'1추총괄표(위원회)'!$C48) -> 0 | I48: =SUMIFS('1추일입'!L$6:L$9,'1추일입'!$A$6:$A$9,'1추총괄표(위원회)'!$A48,'1추일입'!$B$6:$B$9,'1추총괄표(위원회)'!$C48) -> 0 | J48: =SUMIFS('1추일입'!V$6:V$9,'1추일입'!$A$6:$A$9,'1추총괄표(위원회)'!$A48,'1추일입'!$B$6:$B$9,'1추총괄표(위원회)'!$C48) -> 0 | K48: =SUMIFS('1추일입'!W$6:W$9,'1추일입'!$A$6:$A$9,'1추총괄표(위원회)'!$A48,'1추일입'!$B$6:$B$9,'1추총괄표(위원회)'!$C48) -> 0 | L48: =SUMIFS('1추일입'!M$6:M$9,'1추일입'!$A$6:$A$9,'1추총괄표(위원회)'!$A48,'1추일입'!$B$6:$B$9,'1추총괄표(위원회)'!$C48) -> 0 | M48: =SUMIFS('1추일입'!N$6:N$9,'1추일입'!$A$6:$A$9,'1추총괄표(위원회)'!$A48,'1추일입'!$B$6:$B$9,'1추총괄표(위원회)'!$C48) -> 0 | N48: =SUMIFS('1추일입'!O$6:O$9,'1추일입'!$A$6:$A$9,'1추총괄표(위원회)'!$A48,'1추일입'!$B$6:$B$9,'1추총괄표(위원회)'!$C48) -> 0 | O48: =SUMIFS('1추일입'!AA$6:AA$9,'1추일입'!$A$6:$A$9,'1추총괄표(위원회)'!$A48,'1추일입'!$B$6:$B$9,'1추총괄표(위원회)'!$C48) -> 0 | P48: =SUMIFS('1추일입'!AB$6:AB$9,'1추일입'!$A$6:$A$9,'1추총괄표(위원회)'!$A48,'1추일입'!$B$6:$B$9,'1추총괄표(위원회)'!$C48) -> 0 | R48: =SUMIFS('1추일출'!G$6:G$103,'1추일출'!$A$6:$A$103,'1추총괄표(위원회)'!$A48,'1추일출'!$B$6:$B$103,'1추총괄표(위원회)'!$C48) -> 0 | S48: =SUMIFS('1추일출'!H$6:H$103,'1추일출'!$A$6:$A$103,'1추총괄표(위원회)'!$A48,'1추일출'!$B$6:$B$103,'1추총괄표(위원회)'!$C48) -> 0 | T48: =R48-S48 -> 0 | U48: =SUMIFS('1추일출'!J$6:J$103,'1추일출'!$A$6:$A$103,'1추총괄표(위원회)'!$A48,'1추일출'!$B$6:$B$103,'1추총괄표(위원회)'!$C48) -> 0 | V48: =SUMIFS('1추일출'!K$6:K$103,'1추일출'!$A$6:$A$103,'1추총괄표(위원회)'!$A48,'1추일출'!$B$6:$B$103,'1추총괄표(위원회)'!$C48) -> 0 | W48: =SUMIFS('1추일출'!L$6:L$103,'1추일출'!$A$6:$A$103,'1추총괄표(위원회)'!$A48,'1추일출'!$B$6:$B$103,'1추총괄표(위원회)'!$C48) -> 0 | X48: =SUMIFS('1추일출'!V$6:V$103,'1추일출'!$A$6:$A$103,'1추총괄표(위원회)'!$A48,'1추일출'!$B$6:$B$103,'1추총괄표(위원회)'!$C48) -> 0 | Y48: =SUMIFS('1추일출'!W$6:W$103,'1추일출'!$A$6:$A$103,'1추총괄표(위원회)'!$A48,'1추일출'!$B$6:$B$103,'1추총괄표(위원회)'!$C48) -> 0 | Z48: =SUMIFS('1추일출'!M$6:M$103,'1추일출'!$A$6:$A$103,'1추총괄표(위원회)'!$A48,'1추일출'!$B$6:$B$103,'1추총괄표(위원회)'!$C48) -> 0 | AA48: =SUMIFS('1추일출'!N$6:N$103,'1추일출'!$A$6:$A$103,'1추총괄표(위원회)'!$A48,'1추일출'!$B$6:$B$103,'1추총괄표(위원회)'!$C48) -> 0 | AB48: =SUMIFS('1추일출'!O$6:O$103,'1추일출'!$A$6:$A$103,'1추총괄표(위원회)'!$A48,'1추일출'!$B$6:$B$103,'1추총괄표(위원회)'!$C48) -> 0 | AC48: =SUMIFS('1추일출'!AA$6:AA$103,'1추일출'!$A$6:$A$103,'1추총괄표(위원회)'!$A48,'1추일출'!$B$6:$B$103,'1추총괄표(위원회)'!C$9) -> 0 | AD48: =SUMIFS('1추일출'!AB$6:AB$103,'1추일출'!$A$6:$A$103,'1추총괄표(위원회)'!$A48,'1추일출'!$B$6:$B$103,'1추총괄표(위원회)'!D$9) -> 0 | AF48: =IF(J48=X48,"OK","@@") -> OK | AG48: =J48-X48 -> 0 | AH48: =IF(O48=AC48,"OK","@@") -> OK | AI48: =O48-AC48 -> 0
B49: 여성가족교육협력위원회 | D49: =SUM(D50:D52) -> 0 | E49: =SUM(E50:E52) -> 0 | F49: =SUM(F50:F52) -> 0 | G49: =SUM(G50:G52) -> 0 | H49: =SUM(H50:H52) -> 0 | I49: =SUM(I50:I52) -> 0 | J49: =SUM(J50:J52) -> 0 | K49: =SUM(K50:K52) -> 0 | ... P49: =SUM(P50:P52) -> 0 | R49: =SUM(R50:R52) -> 0 | S49: =SUM(S50:S52) -> 0 | T49: =SUM(T50:T52) -> 0 | U49: =SUM(U50:U52) -> 0 | V49: =SUM(V50:V52) -> 0 | W49: =SUM(W50:W52) -> 0 | X49: =SUM(X50:X52) -> 0 | Y49: =SUM(Y50:Y52) -> 0 | ... AD49: =SUM(AD50:AD52) -> 0 | AF49: =IF(J49=X49,"OK","@@") -> OK | AG49: =J49-X49 -> 0 | AH49: =IF(O49=AC49,"OK","@@") -> OK | AI49: =O49-AC49 -> 0
A50: 여성가족교육협력위원회 | C50: 여성가족국 | D50: =SUMIFS('1추일입'!G$6:G$9,'1추일입'!$A$6:$A$9,'1추총괄표(위원회)'!$A50,'1추일입'!$B$6:$B$9,'1추총괄표(위원회)'!$C50) -> 0 | E50: =SUMIFS('1추일입'!H$6:H$9,'1추일입'!$A$6:$A$9,'1추총괄표(위원회)'!$A50,'1추일입'!$B$6:$B$9,'1추총괄표(위원회)'!$C50) -> 0 | F50: =D50-E50 -> 0 | G50: =SUMIFS('1추일입'!J$6:J$9,'1추일입'!$A$6:$A$9,'1추총괄표(위원회)'!$A50,'1추일입'!$B$6:$B$9,'1추총괄표(위원회)'!$C50) -> 0 | H50: =SUMIFS('1추일입'!K$6:K$9,'1추일입'!$A$6:$A$9,'1추총괄표(위원회)'!$A50,'1추일입'!$B$6:$B$9,'1추총괄표(위원회)'!$C50) -> 0 | I50: =SUMIFS('1추일입'!L$6:L$9,'1추일입'!$A$6:$A$9,'1추총괄표(위원회)'!$A50,'1추일입'!$B$6:$B$9,'1추총괄표(위원회)'!$C50) -> 0 | J50: =SUMIFS('1추일입'!V$6:V$9,'1추일입'!$A$6:$A$9,'1추총괄표(위원회)'!$A50,'1추일입'!$B$6:$B$9,'1추총괄표(위원회)'!$C50) -> 0 | K50: =SUMIFS('1추일입'!W$6:W$9,'1추일입'!$A$6:$A$9,'1추총괄표(위원회)'!$A50,'1추일입'!$B$6:$B$9,'1추총괄표(위원회)'!$C50) -> 0 | L50: =SUMIFS('1추일입'!M$6:M$9,'1추일입'!$A$6:$A$9,'1추총괄표(위원회)'!$A50,'1추일입'!$B$6:$B$9,'1추총괄표(위원회)'!$C50) -> 0 | M50: =SUMIFS('1추일입'!N$6:N$9,'1추일입'!$A$6:$A$9,'1추총괄표(위원회)'!$A50,'1추일입'!$B$6:$B$9,'1추총괄표(위원회)'!$C50) -> 0 | N50: =SUMIFS('1추일입'!O$6:O$9,'1추일입'!$A$6:$A$9,'1추총괄표(위원회)'!$A50,'1추일입'!$B$6:$B$9,'1추총괄표(위원회)'!$C50) -> 0 | O50: =SUMIFS('1추일입'!AA$6:AA$9,'1추일입'!$A$6:$A$9,'1추총괄표(위원회)'!$A50,'1추일입'!$B$6:$B$9,'1추총괄표(위원회)'!$C50) -> 0 | P50: =SUMIFS('1추일입'!AB$6:AB$9,'1추일입'!$A$6:$A$9,'1추총괄표(위원회)'!$A50,'1추일입'!$B$6:$B$9,'1추총괄표(위원회)'!$C50) -> 0 | R50: =SUMIFS('1추일출'!G$6:G$103,'1추일출'!$A$6:$A$103,'1추총괄표(위원회)'!$A50,'1추일출'!$B$6:$B$103,'1추총괄표(위원회)'!$C50) -> 0 | S50: =SUMIFS('1추일출'!H$6:H$103,'1추일출'!$A$6:$A$103,'1추총괄표(위원회)'!$A50,'1추일출'!$B$6:$B$103,'1추총괄표(위원회)'!$C50) -> 0 | T50: =R50-S50 -> 0 | U50: =SUMIFS('1추일출'!J$6:J$103,'1추일출'!$A$6:$A$103,'1추총괄표(위원회)'!$A50,'1추일출'!$B$6:$B$103,'1추총괄표(위원회)'!$C50) -> 0 | V50: =SUMIFS('1추일출'!K$6:K$103,'1추일출'!$A$6:$A$103,'1추총괄표(위원회)'!$A50,'1추일출'!$B$6:$B$103,'1추총괄표(위원회)'!$C50) -> 0 | W50: =SUMIFS('1추일출'!L$6:L$103,'1추일출'!$A$6:$A$103,'1추총괄표(위원회)'!$A50,'1추일출'!$B$6:$B$103,'1추총괄표(위원회)'!$C50) -> 0 | X50: =SUMIFS('1추일출'!V$6:V$103,'1추일출'!$A$6:$A$103,'1추총괄표(위원회)'!$A50,'1추일출'!$B$6:$B$103,'1추총괄표(위원회)'!$C50) -> 0 | Y50: =SUMIFS('1추일출'!W$6:W$103,'1추일출'!$A$6:$A$103,'1추총괄표(위원회)'!$A50,'1추일출'!$B$6:$B$103,'1추총괄표(위원회)'!$C50) -> 0 | Z50: =SUMIFS('1추일출'!M$6:M$103,'1추일출'!$A$6:$A$103,'1추총괄표(위원회)'!$A50,'1추일출'!$B$6:$B$103,'1추총괄표(위원회)'!$C50) -> 0 | AA50: =SUMIFS('1추일출'!N$6:N$103,'1추일출'!$A$6:$A$103,'1추총괄표(위원회)'!$A50,'1추일출'!$B$6:$B$103,'1추총괄표(위원회)'!$C50) -> 0 | AB50: =SUMIFS('1추일출'!O$6:O$103,'1추일출'!$A$6:$A$103,'1추총괄표(위원회)'!$A50,'1추일출'!$B$6:$B$103,'1추총괄표(위원회)'!$C50) -> 0 | AC50: =SUMIFS('1추일출'!AA$6:AA$103,'1추일출'!$A$6:$A$103,'1추총괄표(위원회)'!$A50,'1추일출'!$B$6:$B$103,'1추총괄표(위원회)'!C$9) -> 0 | AD50: =SUMIFS('1추일출'!AB$6:AB$103,'1추일출'!$A$6:$A$103,'1추총괄표(위원회)'!$A50,'1추일출'!$B$6:$B$103,'1추총괄표(위원회)'!D$9) -> 0 | AF50: =IF(J50=X50,"OK","@@") -> OK | AG50: =J50-X50 -> 0 | AH50: =IF(O50=AC50,"OK","@@") -> OK | AI50: =O50-AC50 -> 0
A51: 여성가족교육협력위원회 | C51: 복지여성실 | D51: =SUMIFS('1추일입'!G$6:G$9,'1추일입'!$A$6:$A$9,'1추총괄표(위원회)'!$A51,'1추일입'!$B$6:$B$9,'1추총괄표(위원회)'!$C51) -> 0 | E51: =SUMIFS('1추일입'!H$6:H$9,'1추일입'!$A$6:$A$9,'1추총괄표(위원회)'!$A51,'1추일입'!$B$6:$B$9,'1추총괄표(위원회)'!$C51) -> 0 | F51: =D51-E51 -> 0 | G51: =SUMIFS('1추일입'!J$6:J$9,'1추일입'!$A$6:$A$9,'1추총괄표(위원회)'!$A51,'1추일입'!$B$6:$B$9,'1추총괄표(위원회)'!$C51) -> 0 | H51: =SUMIFS('1추일입'!K$6:K$9,'1추일입'!$A$6:$A$9,'1추총괄표(위원회)'!$A51,'1추일입'!$B$6:$B$9,'1추총괄표(위원회)'!$C51) -> 0 | I51: =SUMIFS('1추일입'!L$6:L$9,'1추일입'!$A$6:$A$9,'1추총괄표(위원회)'!$A51,'1추일입'!$B$6:$B$9,'1추총괄표(위원회)'!$C51) -> 0 | J51: =SUMIFS('1추일입'!V$6:V$9,'1추일입'!$A$6:$A$9,'1추총괄표(위원회)'!$A51,'1추일입'!$B$6:$B$9,'1추총괄표(위원회)'!$C51) -> 0 | K51: =SUMIFS('1추일입'!W$6:W$9,'1추일입'!$A$6:$A$9,'1추총괄표(위원회)'!$A51,'1추일입'!$B$6:$B$9,'1추총괄표(위원회)'!$C51) -> 0 | L51: =SUMIFS('1추일입'!M$6:M$9,'1추일입'!$A$6:$A$9,'1추총괄표(위원회)'!$A51,'1추일입'!$B$6:$B$9,'1추총괄표(위원회)'!$C51) -> 0 | M51: =SUMIFS('1추일입'!N$6:N$9,'1추일입'!$A$6:$A$9,'1추총괄표(위원회)'!$A51,'1추일입'!$B$6:$B$9,'1추총괄표(위원회)'!$C51) -> 0 | N51: =SUMIFS('1추일입'!O$6:O$9,'1추일입'!$A$6:$A$9,'1추총괄표(위원회)'!$A51,'1추일입'!$B$6:$B$9,'1추총괄표(위원회)'!$C51) -> 0 | O51: =SUMIFS('1추일입'!AA$6:AA$9,'1추일입'!$A$6:$A$9,'1추총괄표(위원회)'!$A51,'1추일입'!$B$6:$B$9,'1추총괄표(위원회)'!$C51) -> 0 | P51: =SUMIFS('1추일입'!AB$6:AB$9,'1추일입'!$A$6:$A$9,'1추총괄표(위원회)'!$A51,'1추일입'!$B$6:$B$9,'1추총괄표(위원회)'!$C51) -> 0 | R51: =SUMIFS('1추일출'!G$6:G$103,'1추일출'!$A$6:$A$103,'1추총괄표(위원회)'!$A51,'1추일출'!$B$6:$B$103,'1추총괄표(위원회)'!$C51) -> 0 | S51: =SUMIFS('1추일출'!H$6:H$103,'1추일출'!$A$6:$A$103,'1추총괄표(위원회)'!$A51,'1추일출'!$B$6:$B$103,'1추총괄표(위원회)'!$C51) -> 0 | T51: =R51-S51 -> 0 | U51: =SUMIFS('1추일출'!J$6:J$103,'1추일출'!$A$6:$A$103,'1추총괄표(위원회)'!$A51,'1추일출'!$B$6:$B$103,'1추총괄표(위원회)'!$C51) -> 0 | V51: =SUMIFS('1추일출'!K$6:K$103,'1추일출'!$A$6:$A$103,'1추총괄표(위원회)'!$A51,'1추일출'!$B$6:$B$103,'1추총괄표(위원회)'!$C51) -> 0 | W51: =SUMIFS('1추일출'!L$6:L$103,'1추일출'!$A$6:$A$103,'1추총괄표(위원회)'!$A51,'1추일출'!$B$6:$B$103,'1추총괄표(위원회)'!$C51) -> 0 | X51: =SUMIFS('1추일출'!V$6:V$103,'1추일출'!$A$6:$A$103,'1추총괄표(위원회)'!$A51,'1추일출'!$B$6:$B$103,'1추총괄표(위원회)'!$C51) -> 0 | Y51: =SUMIFS('1추일출'!W$6:W$103,'1추일출'!$A$6:$A$103,'1추총괄표(위원회)'!$A51,'1추일출'!$B$6:$B$103,'1추총괄표(위원회)'!$C51) -> 0 | Z51: =SUMIFS('1추일출'!M$6:M$103,'1추일출'!$A$6:$A$103,'1추총괄표(위원회)'!$A51,'1추일출'!$B$6:$B$103,'1추총괄표(위원회)'!$C51) -> 0 | AA51: =SUMIFS('1추일출'!N$6:N$103,'1추일출'!$A$6:$A$103,'1추총괄표(위원회)'!$A51,'1추일출'!$B$6:$B$103,'1추총괄표(위원회)'!$C51) -> 0 | AB51: =SUMIFS('1추일출'!O$6:O$103,'1추일출'!$A$6:$A$103,'1추총괄표(위원회)'!$A51,'1추일출'!$B$6:$B$103,'1추총괄표(위원회)'!$C51) -> 0 | AC51: =SUMIFS('1추일출'!AA$6:AA$103,'1추일출'!$A$6:$A$103,'1추총괄표(위원회)'!$A51,'1추일출'!$B$6:$B$103,'1추총괄표(위원회)'!C$9) -> 0 | AD51: =SUMIFS('1추일출'!AB$6:AB$103,'1추일출'!$A$6:$A$103,'1추총괄표(위원회)'!$A51,'1추일출'!$B$6:$B$103,'1추총괄표(위원회)'!D$9) -> 0 | AF51: =IF(J51=X51,"OK","@@") -> OK | AG51: =J51-X51 -> 0 | AH51: =IF(O51=AC51,"OK","@@") -> OK | AI51: =O51-AC51 -> 0
A52: 여성가족교육협력위원회 | C52: 교육협력국 | D52: =SUMIFS('1추일입'!G$6:G$9,'1추일입'!$A$6:$A$9,'1추총괄표(위원회)'!$A52,'1추일입'!$B$6:$B$9,'1추총괄표(위원회)'!$C52) -> 0 | E52: =SUMIFS('1추일입'!H$6:H$9,'1추일입'!$A$6:$A$9,'1추총괄표(위원회)'!$A52,'1추일입'!$B$6:$B$9,'1추총괄표(위원회)'!$C52) -> 0 | F52: =D52-E52 -> 0 | G52: =SUMIFS('1추일입'!J$6:J$9,'1추일입'!$A$6:$A$9,'1추총괄표(위원회)'!$A52,'1추일입'!$B$6:$B$9,'1추총괄표(위원회)'!$C52) -> 0 | H52: =SUMIFS('1추일입'!K$6:K$9,'1추일입'!$A$6:$A$9,'1추총괄표(위원회)'!$A52,'1추일입'!$B$6:$B$9,'1추총괄표(위원회)'!$C52) -> 0 | I52: =SUMIFS('1추일입'!L$6:L$9,'1추일입'!$A$6:$A$9,'1추총괄표(위원회)'!$A52,'1추일입'!$B$6:$B$9,'1추총괄표(위원회)'!$C52) -> 0 | J52: =SUMIFS('1추일입'!V$6:V$9,'1추일입'!$A$6:$A$9,'1추총괄표(위원회)'!$A52,'1추일입'!$B$6:$B$9,'1추총괄표(위원회)'!$C52) -> 0 | K52: =SUMIFS('1추일입'!W$6:W$9,'1추일입'!$A$6:$A$9,'1추총괄표(위원회)'!$A52,'1추일입'!$B$6:$B$9,'1추총괄표(위원회)'!$C52) -> 0 | L52: =SUMIFS('1추일입'!M$6:M$9,'1추일입'!$A$6:$A$9,'1추총괄표(위원회)'!$A52,'1추일입'!$B$6:$B$9,'1추총괄표(위원회)'!$C52) -> 0 | M52: =SUMIFS('1추일입'!N$6:N$9,'1추일입'!$A$6:$A$9,'1추총괄표(위원회)'!$A52,'1추일입'!$B$6:$B$9,'1추총괄표(위원회)'!$C52) -> 0 | N52: =SUMIFS('1추일입'!O$6:O$9,'1추일입'!$A$6:$A$9,'1추총괄표(위원회)'!$A52,'1추일입'!$B$6:$B$9,'1추총괄표(위원회)'!$C52) -> 0 | O52: =SUMIFS('1추일입'!AA$6:AA$9,'1추일입'!$A$6:$A$9,'1추총괄표(위원회)'!$A52,'1추일입'!$B$6:$B$9,'1추총괄표(위원회)'!$C52) -> 0 | P52: =SUMIFS('1추일입'!AB$6:AB$9,'1추일입'!$A$6:$A$9,'1추총괄표(위원회)'!$A52,'1추일입'!$B$6:$B$9,'1추총괄표(위원회)'!$C52) -> 0 | R52: =SUMIFS('1추일출'!G$6:G$103,'1추일출'!$A$6:$A$103,'1추총괄표(위원회)'!$A52,'1추일출'!$B$6:$B$103,'1추총괄표(위원회)'!$C52) -> 0 | S52: =SUMIFS('1추일출'!H$6:H$103,'1추일출'!$A$6:$A$103,'1추총괄표(위원회)'!$A52,'1추일출'!$B$6:$B$103,'1추총괄표(위원회)'!$C52) -> 0 | T52: =R52-S52 -> 0 | U52: =SUMIFS('1추일출'!J$6:J$103,'1추일출'!$A$6:$A$103,'1추총괄표(위원회)'!$A52,'1추일출'!$B$6:$B$103,'1추총괄표(위원회)'!$C52) -> 0 | V52: =SUMIFS('1추일출'!K$6:K$103,'1추일출'!$A$6:$A$103,'1추총괄표(위원회)'!$A52,'1추일출'!$B$6:$B$103,'1추총괄표(위원회)'!$C52) -> 0 | W52: =SUMIFS('1추일출'!L$6:L$103,'1추일출'!$A$6:$A$103,'1추총괄표(위원회)'!$A52,'1추일출'!$B$6:$B$103,'1추총괄표(위원회)'!$C52) -> 0 | X52: =SUMIFS('1추일출'!V$6:V$103,'1추일출'!$A$6:$A$103,'1추총괄표(위원회)'!$A52,'1추일출'!$B$6:$B$103,'1추총괄표(위원회)'!$C52) -> 0 | Y52: =SUMIFS('1추일출'!W$6:W$103,'1추일출'!$A$6:$A$103,'1추총괄표(위원회)'!$A52,'1추일출'!$B$6:$B$103,'1추총괄표(위원회)'!$C52) -> 0 | Z52: =SUMIFS('1추일출'!M$6:M$103,'1추일출'!$A$6:$A$103,'1추총괄표(위원회)'!$A52,'1추일출'!$B$6:$B$103,'1추총괄표(위원회)'!$C52) -> 0 | AA52: =SUMIFS('1추일출'!N$6:N$103,'1추일출'!$A$6:$A$103,'1추총괄표(위원회)'!$A52,'1추일출'!$B$6:$B$103,'1추총괄표(위원회)'!$C52) -> 0 | AB52: =SUMIFS('1추일출'!O$6:O$103,'1추일출'!$A$6:$A$103,'1추총괄표(위원회)'!$A52,'1추일출'!$B$6:$B$103,'1추총괄표(위원회)'!$C52) -> 0 | AC52: =SUMIFS('1추일출'!AA$6:AA$103,'1추일출'!$A$6:$A$103,'1추총괄표(위원회)'!$A52,'1추일출'!$B$6:$B$103,'1추총괄표(위원회)'!C$9) -> 0 | AD52: =SUMIFS('1추일출'!AB$6:AB$103,'1추일출'!$A$6:$A$103,'1추총괄표(위원회)'!$A52,'1추일출'!$B$6:$B$103,'1추총괄표(위원회)'!D$9) -> 0 | AF52: =IF(J52=X52,"OK","@@") -> OK | AG52: =J52-X52 -> 0 | AH52: =IF(O52=AC52,"OK","@@") -> OK | AI52: =O52-AC52 -> 0

Sheet 1추일입
A1: 2015년도 제1회 추경 경기도 일반회계 세입 예산 조정(안)
A2: □ 세입예산 | V2: 세입=세출 | AA2: 세입=세출
J3: =COUNTA(J7:J9) -> 0 | K3: =COUNTA(K7:K9) -> 2 | M3: =COUNTA(M7:M9) -> 0 | N3: =COUNTA(N7:N9) -> 0 | Q3: (단위 : 천원) | V3: =IF(V6='1추일출'!V6,"OK","@@") -> OK | X3: =IF(COUNTIF(X6:X9,"검토")>0,"@@","OK") -> OK | AA3: =IF(AA6='1추일출'!AA6,"OK","@@") -> OK | AC3: =IF(COUNTIF(AC6:AC9,"검토")>0,"@@","OK") -> OK
A4: 위원회명 | B4: 실국명 | C4: 부서명 | D4: 편성 구분 | E4: 예산안 페이지 | F4: 사업명 | G4: 제1회 추경 예산안 (가) | H4: 기정액 (나) | I4: 제1회 추경 증감액 (다=가-나) | J4: 상임위 제1회 추경 예산안 조정액(라) | L4: 상임위 수정 예산안 (마=가or나+라) | M4: 예결위 제1회 추경 예산안 조정액(라) | O4: 예결위 수정 예산안 (마=가or나+라) | P4: 동의 대상 | Q4: 비고 (부대의견) | S4: 국도비 등 여부 | U4: 재원 | V4: 상임위 재원별 증감액 | Z4: 재원 | AA4: 예결위 재원별 증감액 | AE4: 세입번호 | AG4: 실국부서 코드 | AI4: 추가 내시 등 | AK4: 상임위 세입 검증 | AO4: 예결위 세입 검증
J5: 감액 | K5: 증액 | M5: 감액 | N5: 증액 | V5: 국비 등 | W5: 도비 | X5: 검증 | AA5: 국비 등 | AB5: 도비 | AC5: 검증 | AK5: 국비 증감액 | AL5: 건수 | AM5: 검증 | AO5: 국비 증감액 | AP5: 건수 | AQ5: 검증
A6: 합 계 | G6: =SUBTOTAL(9,G7:G9) -> 0 | H6: =SUBTOTAL(9,H7:H9) -> 0 | I6: =SUBTOTAL(9,I7:I9) -> 0 | J6: =SUBTOTAL(9,J7:J9) -> 0 | K6: =SUBTOTAL(9,K7:K9) -> 911675 | L6: =SUBTOTAL(9,L7:L9) -> 911675 | M6: =SUBTOTAL(9,M7:M9) -> 0 | N6: =SUBTOTAL(9,N7:N9) -> 0 | O6: =SUBTOTAL(9,O7:O9) -> 0 | V6: =SUBTOTAL(9,V7:V9) -> 911675 | W6: =SUBTOTAL(9,W7:W9) -> 0 | X6: =IF(SUM($J6:$K6)=SUM($V6:$W6),"OK","검토") -> OK | AA6: =SUBTOTAL(9,AA7:AA9) -> 0 | AB6: =SUBTOTAL(9,AB7:AB9) -> 0 | AC6: =IF(SUM($J6:$K6)=SUM($V6:$W6),"OK","검토") -> OK | AK6: =SUBTOTAL(9,AK7:AK9) -> #NAME? | AL6: =SUBTOTAL(9,AL7:AL9) -> #NAME? | AM6: =IF(COUNTIF(AM7:AM9,"@@")>0,"@@","OK") -> OK | AO6: =SUBTOTAL(9,AO7:AO9) -> #NAME? | AP6: =SUBTOTAL(9,AP7:AP9) -> #NAME? | AQ6: =IF(COUNTIF(AQ7:AQ9,"@@")>0,"@@","OK") -> OK
A7: =IFERROR(VLOOKUP($C7,구분표!$A$2:$C$300,2,FALSE),"") -> 보건복지위원회 | B7: =IFERROR(VLOOKUP($C7,구분표!$A$2:$C$300,3,FALSE),"") -> 보건복지국 | C7: 노인복지과 | D7: 신규 | F7: (국고보조금) 메르스 사망자 장례비용 지원 | G7: 0 | H7: 0 | I7: =IF(D7="","",G7-H7) -> 0 | K7: 70947 | L7: =IF(G7=0,H7+J7+K7,G7+J7+K7) -> 70947 | O7: =IF(G7=0,H7+M7+N7,G7+M7+N7) -> 0 | P7: =IF(AND((L7=0),(O7>0)),"O",IF(AND((J7<0),(L7-O7<0)),"O","X")) -> X | Q7: 국비확정내시 ※질병관리본부 공중보건위기대응과 -1998(2015.7.14)호 | U7: 국비 | V7: =IF($U7<>"도비",IF($S7="국도비","직접입력",SUM($J7:$K7)),) -> 70947 | W7: =IF($U7="도비",SUM($J7:$K7),IF($S7="국도비","직접입력",SUM($J7:$K7)-$V7)) -> 0 | X7: =IF(SUM($J7:$K7)=SUM($V7:$W7),"OK","검토") -> OK | AA7: =IF($U7<>"도비",IF($S7="국도비","직접입력",SUM($M7:$N7)),) -> 0 | AB7: =IF($U7="도비",SUM(M7:N7),IF($S7="국도비","직접입력",SUM(M7:N7)-AA7)) -> 0 | AC7: =IF(SUM(M7:N7)=SUM(AA7:AB7),"OK","검토") -> OK | AE7: =IF(AG7="","",IF(U7="도비","세입없음",AG7&"-"&test(COUNTIF($AG$7:AG7,AG7),"00"))) -> #NAME? | AG7: {=IF(C7="","",INDEX(구분표!$I$2:$I$300, MATCH(1,(구분표!$E$2:$E$300='1추일입'!B7)*(구분표!$F$2:$F$300='1추일입'!C7)*(구분표!$G$2:$G$300='1추일입'!A7),0)))} -> 0703 | AK7: =IF(AE7="",0,SUMIFS('1추일출'!$V$6:$V$103,'1추일출'!$AE$6:$AE$103,'1추일입'!$AE7)) -> #NAME? | AL7: =IF(AE7="","",COUNTIFS('1추일출'!$AE$6:$AE$103,'1추일입'!AE7)) -> #NAME? | AM7: =IF(V7=AK7,"OK","@@") -> #NAME? | AO7: =IF(AE7="",0,SUMIFS('1추일출'!$AA$6:$AA$103,'1추일출'!$AE$6:$AE$103,'1추일입'!$AE7)) -> #NAME? | AP7: =IF(AE7="","",COUNTIFS('1추일출'!$AE$6:$AE$103,AE7)) -> #NAME? | AQ7: =IF(AA7=AO7,"OK","@@") -> #NAME?
A8: =IFERROR(VLOOKUP($C8,구분표!$A$2:$C$300,2,FALSE),"") -> 보건복지위원회 | B8: =IFERROR(VLOOKUP($C8,구분표!$A$2:$C$300,3,FALSE),"") -> 보건복지국 | C8: 보건정책과 | D8: 신규 | F8: (국고보조금) 선별진료소 운영기관 지원 | G8: 0 | H8: 0 | I8: =IF(D8="","",G8-H8) -> 0 | K8: 840728 | L8: =IF(G8=0,H8+J8+K8,G8+J8+K8) -> 840728 | O8: =IF(G8=0,H8+M8+N8,G8+M8+N8) -> 0 | P8: =IF(AND((L8=0),(O8>0)),"O",IF(AND((J8<0),(L8-O8<0)),"O","X")) -> X | Q8: 국비확정내시 ※질병관리본부 공중보건위기대응과 -1950(2015.7.10)호 | U8: 국비 | V8: =IF($U8<>"도비",IF($S8="국도비","직접입력",SUM($J8:$K8)),) -> 840728 | W8: =IF($U8="도비",SUM($J8:$K8),IF($S8="국도비","직접입력",SUM($J8:$K8)-$V8)) -> 0 | X8: =IF(SUM($J8:$K8)=SUM($V8:$W8),"OK","검토") -> OK | AA8: =IF($U8<>"도비",IF($S8="국도비","직접입력",SUM($M8:$N8)),) -> 0 | AB8: =IF($U8="도비",SUM(M8:N8),IF($S8="국도비","직접입력",SUM(M8:N8)-AA8)) -> 0 | AC8: =IF(SUM(M8:N8)=SUM(AA8:AB8),"OK","검토") -> OK | AE8: =IF(AG8="","",IF(U8="도비","세입없음",AG8&"-"&test(COUNTIF($AG$7:AG8,AG8),"00"))) -> #NAME? | AG8: {=IF(C8="","",INDEX(구분표!$I$2:$I$300, MATCH(1,(구분표!$E$2:$E$300='1추일입'!B8)*(구분표!$F$2:$F$300='1추일입'!C8)*(구분표!$G$2:$G$300='1추일입'!A8),0)))} -> 0705 | AK8: =IF(AE8="",0,SUMIFS('1추일출'!$V$6:$V$103,'1추일출'!$AE$6:$AE$103,'1추일입'!$AE8)) -> #NAME? | AL8: =IF(AE8="","",COUNTIFS('1추일출'!$AE$6:$AE$103,'1추일입'!AE8)) -> #NAME? | AM8: =IF(V8=AK8,"OK","@@") -> #NAME? | AO8: =IF(AE8="",0,SUMIFS('1추일출'!$AA$6:$AA$103,'1추일출'!$AE$6:$AE$103,'1추일입'!$AE8)) -> #NAME? | AP8: =IF(AE8="","",COUNTIFS('1추일출'!$AE$6:$AE$103,AE8)) -> #NAME? | AQ8: =IF(AA8=AO8,"OK","@@") -> #NAME?
A9: =IFERROR(VLOOKUP($C9,구분표!$A$2:$C$300,2,FALSE),"") | B9: =IFERROR(VLOOKUP($C9,구분표!$A$2:$C$300,3,FALSE),"") | I9: =IF(D9="","",G9-H9) | L9: =IF(G9=0,H9+J9+K9,G9+J9+K9) -> 0 | O9: =IF(G9=0,H9+M9+N9,G9+M9+N9) -> 0 | P9: =IF(AND((L9=0),(O9>0)),"O",IF(AND((J9<0),(L9-O9<0)),"O","X")) -> X | V9: =IF($U9<>"도비",IF($S9="국도비","직접입력",SUM($J9:$K9)),) -> 0 | W9: =IF($U9="도비",SUM($J9:$K9),IF($S9="국도비","직접입력",SUM($J9:$K9)-$V9)) -> 0 | X9: =IF(SUM($J9:$K9)=SUM($V9:$W9),"OK","검토") -> OK | AA9: =IF($U9<>"도비",IF($S9="국도비","직접입력",SUM($M9:$N9)),) -> 0 | AB9: =IF($U9="도비",SUM(M9:N9),IF($S9="국도비","직접입력",SUM(M9:N9)-AA9)) -> 0 | AC9: =IF(SUM(M9:N9)=SUM(AA9:AB9),"OK","검토") -> OK | AE9: =IF(AG9="","",IF(U9="도비","세입없음",AG9&"-"&test(COUNTIF($AG$7:AG9,AG9),"00"))) | AG9: {=IF(C9="","",INDEX(구분표!$I$2:$I$300, MATCH(1,(구분표!$E$2:$E$300='1추일입'!B9)*(구분표!$F$2:$F$300='1추일입'!C9)*(구분표!$G$2:$G$300='1추일입'!A9),0)))} | AK9: =IF(AE9="",0,SUMIFS('1추일출'!$V$6:$V$103,'1추일출'!$AE$6:$AE$103,'1추일입'!$AE9)) -> 0 | AL9: =IF(AE9="","",COUNTIFS('1추일출'!$AE$6:$AE$103,'1추일입'!AE9)) | AM9: =IF(V9=AK9,"OK","@@") -> OK | AO9: =IF(AE9="",0,SUMIFS('1추일출'!$AA$6:$AA$103,'1추일출'!$AE$6:$AE$103,'1추일입'!$AE9)) -> 0 | AP9: =IF(AE9="","",COUNTIFS('1추일출'!$AE$6:$AE$103,AE9)) | AQ9: =IF(AA9=AO9,"OK","@@") -> OK

Sheet 1추일출
A1: 2015년도 제1회 추경 경기도 일반회계 세출 예산 조정(안)
A2: □ 세출예산 | K2: =J6+K6 -> 959571 | Q2: =V56+V57 -> 911675 | V2: 세입=세출 | W2: =V55+W55 -> 959571 | AA2: 세입=세출
J3: =COUNTA(J7:J103)-10 -> 4 | K3: =COUNTA(K7:K103)-10 -> 5 | M3: =COUNTA(M7:M103)-10 -> 0 | N3: =COUNTA(N7:N103)-10 -> 0 | Q3: (단위 : 천원) | V3: =IF(V6='1추일입'!V6,"OK","@@") -> OK | X3: =IF(COUNTIF(X6:X103,"검토")>0,"@@","OK") -> OK | AA3: =IF(AA6='1추일입'!AA6,"OK","@@") -> OK | AC3: =IF(COUNTIF(AC6:AC103,"검토")>0,"@@","OK") -> OK
A4: 위원회명 | B4: 실국명 | C4: 부서명 | D4: 편성 구분 | E4: 예산안 페이지 | F4: 세부사업명 및 부기명 | G4: 제1회 추경 예산안 (가) | H4: 기정액 (나) | I4: 제1회 추경 증감액 (다=가-나) | J4: 상임위 제1회 추경 예산안 조정액(라) | L4: 상임위 수정 예산안 (마=가or나+라) | M4: 예결위 제1회 추경 예산안 조정액(라) | O4: 예결위 수정 예산안 (마=가or나+라) | P4: 동의 대상 | Q4: 비고 (부대의견) | S4: 국도비 등 여부 | U4: 재원 | V4: 상임위 재원별 증감액 | Z4: 재원 | AA4: 예결위 재원별 증감액 | AE4: 세입번호 | AG4: 동일 세입 건수 | AH4: 세출 번호 검증 | AJ4: 실국부서 코드 | AL4: 추가 내시 등
J5: 감액 | K5: 증액 | M5: 감액 | N5: 증액 | V5: 국비 등 | W5: 도비 | X5: 검증 | AA5: 국비 등 | AB5: 도비 | AC5: 검증
A6: 합 계 | G6: =SUBTOTAL(9,G7:G103)/2 -> 4017235 | H6: =SUBTOTAL(9,H7:H103)/2 -> 917235 | I6: =SUBTOTAL(9,I7:I103)/2 -> 3100000 | J6: =SUBTOTAL(9,J7:J103)/2 -> -1550000 | K6: =SUBTOTAL(9,K7:K103)/2 -> 2509571 | L6: =SUBTOTAL(9,L7:L103)/2 -> 4976806 | M6: =SUBTOTAL(9,M7:M103)/2 -> 0 | N6: =SUBTOTAL(9,N7:N103)/2 -> 0 | O6: =SUBTOTAL(9,O7:O103)/2 -> 3558617.5 | V6: =SUBTOTAL(9,V7:V103)/2 -> 911675 | W6: =SUBTOTAL(9,W7:W103)/2 -> 47896 | X6: =IF(SUM($J6:$K6)=SUM($V6:$W6),"OK","검토") -> OK | AA6: =SUBTOTAL(9,AA7:AA103)/2 -> 0 | AB6: =SUBTOTAL(9,AB7:AB103)/2 -> 0 | AC6: =IF(SUM($J6:$K6)=SUM($V6:$W6),"OK","검토") -> OK
A7: (의회운영위원회) | G7: =SUM(G8:G14) -> 0 | H7: =SUM(H8:H14) -> 0 | I7: =SUM(I8:I14) -> 0 | J7: =SUM(J8:J14) -> 0 | K7: =SUM(K8:K14) -> 0 | L7: =SUM(L8:L14) -> 0 | M7: =SUM(M8:M14) -> 0 | N7: =SUM(N8:N14) -> 0 | O7: =SUM(O8:O14) -> 0 | V7: =IF($U7<>"도비",IF($S7="국도비","직접입력",SUM($J7:$K7)),) -> 0 | W7: =IF($U7="도비",SUM($J7:$K7),IF($S7="국도비","직접입력",SUM($J7:$K7)-$V7)) -> 0 | X7: =IF(SUM($J7:$K7)=SUM($V7:$W7),"OK","검토") -> OK | AA7: =IF($U7<>"도비",IF($S7="국도비","직접입력",SUM($M7:$N7)),) -> 0 | AB7: =IF($U7="도비",SUM(M7:N7),IF($S7="국도비","직접입력",SUM(M7:N7)-AA7)) -> 0 | AC7: =IF(SUM(M7:N7)=SUM(AA7:AB7),"OK","검토") -> OK | AE7: =IF(U7="","",IF(U7="도비","세입없음","직접입력")) | AG7: =IF(AE7="","",COUNTIF($AE$7:$AE$103,AE7)) | AH7: =IF(U7="","",IF(AND(U7="도비",AE7="세입없음"),"OK",IF(AND(U7<>"도비",AE7<>""),"OK","@@"))) | AJ7: {=IF(C7="","",INDEX(구분표!$I$2:$I$300, MATCH(1,(구분표!$E$2:$E$300='1추일출'!B7)*(구분표!$F$2:$F$300='1추일출'!C7)*(구분표!$G$2:$G$300='1추일출'!A7),0)))}
A8: =IFERROR(VLOOKUP($C8,구분표!$A$2:$C$300,2,FALSE),"") | B8: =IFERROR(VLOOKUP($C8,구분표!$A$2:$C$300,3,FALSE),"") | I8: =IF(D8="","",G8-H8) | L8: =IF(G8=0,H8+J8+K8,G8+J8+K8) -> 0 | O8: =IF(G8=0,H8+M8+N8,G8+M8+N8) -> 0 | P8: =IF(AND((L8=0),(O8>0)),"O",IF(AND((J8<0),(L8-O8<0)),"O","X")) -> X | V8: =IF($U8<>"도비",IF($S8="국도비","직접입력",SUM($J8:$K8)),) -> 0 | W8: =IF($U8="도비",SUM($J8:$K8),IF($S8="국도비","직접입력",SUM($J8:$K8)-$V8)) -> 0 | X8: =IF(SUM($J8:$K8)=SUM($V8:$W8),"OK","검토") -> OK | AA8: =IF($U8<>"도비",IF($S8="국도비","직접입력",SUM($M8:$N8)),) -> 0 | AB8: =IF($U8="도비",SUM(M8:N8),IF($S8="국도비","직접입력",SUM(M8:N8)-AA8)) -> 0 | AC8: =IF(SUM(M8:N8)=SUM(AA8:AB8),"OK","검토") -> OK | AE8: =IF(U8="","",IF(U8="도비","세입없음","직접입력")) | AG8: =IF(AE8="","",COUNTIF($AE$7:$AE$103,AE8)) | AH8: =IF(U8="","",IF(AND(U8="도비",AE8="세입없음"),"OK",IF(AND(U8<>"도비",AE8<>""),"OK","@@"))) | AJ8: {=IF(C8="","",INDEX(구분표!$I$2:$I$300, MATCH(1,(구분표!$E$2:$E$300='1추일출'!B8)*(구분표!$F$2:$F$300='1추일출'!C8)*(구분표!$G$2:$G$300='1추일출'!A8),0)))}
A9: =IFERROR(VLOOKUP($C9,구분표!$A$2:$C$300,2,FALSE),"") | B9: =IFERROR(VLOOKUP($C9,구분표!$A$2:$C$300,3,FALSE),"") | I9: =IF(D9="","",G9-H9) | L9: =IF(G9=0,H9+J9+K9,G9+J9+K9) -> 0 | O9: =IF(G9=0,H9+M9+N9,G9+M9+N9) -> 0 | P9: =IF(AND((L9=0),(O9>0)),"O",IF(AND((J9<0),(L9-O9<0)),"O","X")) -> X | V9: =IF($U9<>"도비",IF($S9="국도비","직접입력",SUM($J9:$K9)),) -> 0 | W9: =IF($U9="도비",SUM($J9:$K9),IF($S9="국도비","직접입력",SUM($J9:$K9)-$V9)) -> 0 | X9: =IF(SUM($J9:$K9)=SUM($V9:$W9),"OK","검토") -> OK | AA9: =IF($U9<>"도비",IF($S9="국도비","직접입력",SUM($M9:$N9)),) -> 0 | AB9: =IF($U9="도비",SUM(M9:N9),IF($S9="국도비","직접입력",SUM(M9:N9)-AA9)) -> 0 | AC9: =IF(SUM(M9:N9)=SUM(AA9:AB9),"OK","검토") -> OK | AE9: =IF(U9="","",IF(U9="도비","세입없음","직접입력")) | AG9: =IF(AE9="","",COUNTIF($AE$7:$AE$103,AE9)) | AH9: =IF(U9="","",IF(AND(U9="도비",AE9="세입없음"),"OK",IF(AND(U9<>"도비",AE9<>""),"OK","@@"))) | AJ9: {=IF(C9="","",INDEX(구분표!$I$2:$I$300, MATCH(1,(구분표!$E$2:$E$300='1추일출'!B9)*(구분표!$F$2:$F$300='1추일출'!C9)*(구분표!$G$2:$G$300='1추일출'!A9),0)))}
A10: =IFERROR(VLOOKUP($C10,구분표!$A$2:$C$300,2,FALSE),"") | B10: =IFERROR(VLOOKUP($C10,구분표!$A$2:$C$300,3,FALSE),"") | I10: =IF(D10="","",G10-H10) | L10: =IF(G10=0,H10+J10+K10,G10+J10+K10) -> 0 | O10: =IF(G10=0,H10+M10+N10,G10+M10+N10) -> 0 | P10: =IF(AND((L10=0),(O10>0)),"O",IF(AND((J10<0),(L10-O10<0)),"O","X")) -> X | V10: =IF($U10<>"도비",IF($S10="국도비","직접입력",SUM($J10:$K10)),) -> 0 | W10: =IF($U10="도비",SUM($J10:$K10),IF($S10="국도비","직접입력",SUM($J10:$K10)-$V10)) -> 0 | X10: =IF(SUM($J10:$K10)=SUM($V10:$W10),"OK","검토") -> OK | AA10: =IF($U10<>"도비",IF($S10="국도비","직접입력",SUM($M10:$N10)),) -> 0 | AB10: =IF($U10="도비",SUM(M10:N10),IF($S10="국도비","직접입력",SUM(M10:N10)-AA10)) -> 0 | AC10: =IF(SUM(M10:N10)=SUM(AA10:AB10),"OK","검토") -> OK | AE10: =IF(U10="","",IF(U10="도비","세입없음","직접입력")) | AG10: =IF(AE10="","",COUNTIF($AE$7:$AE$103,AE10)) | AH10: =IF(U10="","",IF(AND(U10="도비",AE10="세입없음"),"OK",IF(AND(U10<>"도비",AE10<>""),"OK","@@"))) | AJ10: {=IF(C10="","",INDEX(구분표!$I$2:$I$300, MATCH(1,(구분표!$E$2:$E$300='1추일출'!B10)*(구분표!$F$2:$F$300='1추일출'!C10)*(구분표!$G$2:$G$300='1추일출'!A10),0)))}
A11: =IFERROR(VLOOKUP($C11,구분표!$A$2:$C$300,2,FALSE),"") | B11: =IFERROR(VLOOKUP($C11,구분표!$A$2:$C$300,3,FALSE),"") | I11: =IF(D11="","",G11-H11) | L11: =IF(G11=0,H11+J11+K11,G11+J11+K11) -> 0 | O11: =IF(G11=0,H11+M11+N11,G11+M11+N11) -> 0 | P11: =IF(AND((L11=0),(O11>0)),"O",IF(AND((J11<0),(L11-O11<0)),"O","X")) -> X | V11: =IF($U11<>"도비",IF($S11="국도비","직접입력",SUM($J11:$K11)),) -> 0 | W11: =IF($U11="도비",SUM($J11:$K11),IF($S11="국도비","직접입력",SUM($J11:$K11)-$V11)) -> 0 | X11: =IF(SUM($J11:$K11)=SUM($V11:$W11),"OK","검토") -> OK | AA11: =IF($U11<>"도비",IF($S11="국도비","직접입력",SUM($M11:$N11)),) -> 0 | AB11: =IF($U11="도비",SUM(M11:N11),IF($S11="국도비","직접입력",SUM(M11:N11)-AA11)) -> 0 | AC11: =IF(SUM(M11:N11)=SUM(AA11:AB11),"OK","검토") -> OK | AE11: =IF(U11="","",IF(U11="도비","세입없음","직접입력")) | AG11: =IF(AE11="","",COUNTIF($AE$7:$AE$103,AE11)) | AH11: =IF(U11="","",IF(AND(U11="도비",AE11="세입없음"),"OK",IF(AND(U11<>"도비",AE11<>""),"OK","@@"))) | AJ11: {=IF(C11="","",INDEX(구분표!$I$2:$I$300, MATCH(1,(구분표!$E$2:$E$300='1추일출'!B11)*(구분표!$F$2:$F$300='1추일출'!C11)*(구분표!$G$2:$G$300='1추일출'!A11),0)))}
A12: =IFERROR(VLOOKUP($C12,구분표!$A$2:$C$300,2,FALSE),"") | B12: =IFERROR(VLOOKUP($C12,구분표!$A$2:$C$300,3,FALSE),"") | I12: =IF(D12="","",G12-H12) | L12: =IF(G12=0,H12+J12+K12,G12+J12+K12) -> 0 | O12: =IF(G12=0,H12+M12+N12,G12+M12+N12) -> 0 | P12: =IF(AND((L12=0),(O12>0)),"O",IF(AND((J12<0),(L12-O12<0)),"O","X")) -> X | V12: =IF($U12<>"도비",IF($S12="국도비","직접입력",SUM($J12:$K12)),) -> 0 | W12: =IF($U12="도비",SUM($J12:$K12),IF($S12="국도비","직접입력",SUM($J12:$K12)-$V12)) -> 0 | X12: =IF(SUM($J12:$K12)=SUM($V12:$W12),"OK","검토") -> OK | AA12: =IF($U12<>"도비",IF($S12="국도비","직접입력",SUM($M12:$N12)),) -> 0 | AB12: =IF($U12="도비",SUM(M12:N12),IF($S12="국도비","직접입력",SUM(M12:N12)-AA12)) -> 0 | AC12: =IF(SUM(M12:N12)=SUM(AA12:AB12),"OK","검토") -> OK | AE12: =IF(U12="","",IF(U12="도비","세입없음","직접입력")) | AG12: =IF(AE12="","",COUNTIF($AE$7:$AE$103,AE12)) | AH12: =IF(U12="","",IF(AND(U12="도비",AE12="세입없음"),"OK",IF(AND(U12<>"도비",AE12<>""),"OK","@@"))) | AJ12: {=IF(C12="","",INDEX(구분표!$I$2:$I$300, MATCH(1,(구분표!$E$2:$E$300='1추일출'!B12)*(구분표!$F$2:$F$300='1추일출'!C12)*(구분표!$G$2:$G$300='1추일출'!A12),0)))}
A13: =IFERROR(VLOOKUP($C13,구분표!$A$2:$C$300,2,FALSE),"") | B13: =IFERROR(VLOOKUP($C13,구분표!$A$2:$C$300,3,FALSE),"") | I13: =IF(D13="","",G13-H13) | L13: =IF(G13=0,H13+J13+K13,G13+J13+K13) -> 0 | O13: =IF(G13=0,H13+M13+N13,G13+M13+N13) -> 0 | P13: =IF(AND((L13=0),(O13>0)),"O",IF(AND((J13<0),(L13-O13<0)),"O","X")) -> X | V13: =IF($U13<>"도비",IF($S13="국도비","직접입력",SUM($J13:$K13)),) -> 0 | W13: =IF($U13="도비",SUM($J13:$K13),IF($S13="국도비","직접입력",SUM($J13:$K13)-$V13)) -> 0 | X13: =IF(SUM($J13:$K13)=SUM($V13:$W13),"OK","검토") -> OK | AA13: =IF($U13<>"도비",IF($S13="국도비","직접입력",SUM($M13:$N13)),) -> 0 | AB13: =IF($U13="도비",SUM(M13:N13),IF($S13="국도비","직접입력",SUM(M13:N13)-AA13)) -> 0 | AC13: =IF(SUM(M13:N13)=SUM(AA13:AB13),"OK","검토") -> OK | AE13: =IF(U13="","",IF(U13="도비","세입없음","직접입력")) | AG13: =IF(AE13="","",COUNTIF($AE$7:$AE$103,AE13)) | AH13: =IF(U13="","",IF(AND(U13="도비",AE13="세입없음"),"OK",IF(AND(U13<>"도비",AE13<>""),"OK","@@"))) | AJ13: {=IF(C13="","",INDEX(구분표!$I$2:$I$300, MATCH(1,(구분표!$E$2:$E$300='1추일출'!B13)*(구분표!$F$2:$F$300='1추일출'!C13)*(구분표!$G$2:$G$300='1추일출'!A13),0)))}
A14: =IFERROR(VLOOKUP($C14,구분표!$A$2:$C$300,2,FALSE),"") | B14: =IFERROR(VLOOKUP($C14,구분표!$A$2:$C$300,3,FALSE),"") | I14: =IF(D14="","",G14-H14) | L14: =IF(G14=0,H14+J14+K14,G14+J14+K14) -> 0 | O14: =IF(G14=0,H14+M14+N14,G14+M14+N14) -> 0 | P14: =IF(AND((L14=0),(O14>0)),"O",IF(AND((J14<0),(L14-O14<0)),"O","X")) -> X | V14: =IF($U14<>"도비",IF($S14="국도비","직접입력",SUM($J14:$K14)),) -> 0 | W14: =IF($U14="도비",SUM($J14:$K14),IF($S14="국도비","직접입력",SUM($J14:$K14)-$V14)) -> 0 | X14: =IF(SUM($J14:$K14)=SUM($V14:$W14),"OK","검토") -> OK | AA14: =IF($U14<>"도비",IF($S14="국도비","직접입력",SUM($M14:$N14)),) -> 0 | AB14: =IF($U14="도비",SUM(M14:N14),IF($S14="국도비","직접입력",SUM(M14:N14)-AA14)) -> 0 | AC14: =IF(SUM(M14:N14)=SUM(AA14:AB14),"OK","검토") -> OK | AE14: =IF(U14="","",IF(U14="도비","세입없음","직접입력")) | AG14: =IF(AE14="","",COUNTIF($AE$7:$AE$103,AE14)) | AH14: =IF(U14="","",IF(AND(U14="도비",AE14="세입없음"),"OK",IF(AND(U14<>"도비",AE14<>""),"OK","@@"))) | AJ14: {=IF(C14="","",INDEX(구분표!$I$2:$I$300, MATCH(1,(구분표!$E$2:$E$300='1추일출'!B14)*(구분표!$F$2:$F$300='1추일출'!C14)*(구분표!$G$2:$G$300='1추일출'!A14),0)))}
A15: (기획재정위원회) | G15: =SUM(G16:G22) -> 0 | H15: =SUM(H16:H22) -> 0 | I15: =SUM(I16:I22) -> 0 | J15: =SUM(J16:J22) -> 0 | K15: =SUM(K16:K22) -> 0 | L15: =SUM(L16:L22) -> 0 | M15: =SUM(M16:M22) -> 0 | N15: =SUM(N16:N22) -> 0 | O15: =SUM(O16:O22) -> 0 | V15: =IF($U15<>"도비",IF($S15="국도비","직접입력",SUM($J15:$K15)),) -> 0 | W15: =IF($U15="도비",SUM($J15:$K15),IF($S15="국도비","직접입력",SUM($J15:$K15)-$V15)) -> 0 | X15: =IF(SUM($J15:$K15)=SUM($V15:$W15),"OK","검토") -> OK | AA15: =IF($U15<>"도비",IF($S15="국도비","직접입력",SUM($M15:$N15)),) -> 0 | AB15: =IF($U15="도비",SUM(M15:N15),IF($S15="국도비","직접입력",SUM(M15:N15)-AA15)) -> 0 | AC15: =IF(SUM(M15:N15)=SUM(AA15:AB15),"OK","검토") -> OK | AE15: =IF(U15="","",IF(U15="도비","세입없음","직접입력")) | AG15: =IF(AE15="","",COUNTIF($AE$7:$AE$103,AE15)) | AH15: =IF(U15="","",IF(AND(U15="도비",AE15="세입없음"),"OK",IF(AND(U15<>"도비",AE15<>""),"OK","@@"))) | AJ15: {=IF(C15="","",INDEX(구분표!$I$2:$I$300, MATCH(1,(구분표!$E$2:$E$300='1추일출'!B15)*(구분표!$F$2:$F$300='1추일출'!C15)*(구분표!$G$2:$G$300='1추일출'!A15),0)))}
A16: =IFERROR(VLOOKUP($C16,구분표!$A$2:$C$300,2,FALSE),"") | B16: =IFERROR(VLOOKUP($C16,구분표!$A$2:$C$300,3,FALSE),"") | I16: =IF(D16="","",G16-H16) | L16: =IF(G16=0,H16+J16+K16,G16+J16+K16) -> 0 | O16: =IF(G16=0,H16+M16+N16,G16+M16+N16) -> 0 | P16: =IF(AND((L16=0),(O16>0)),"O",IF(AND((J16<0),(L16-O16<0)),"O","X")) -> X | V16: =IF($U16<>"도비",IF($S16="국도비","직접입력",SUM($J16:$K16)),) -> 0 | W16: =IF($U16="도비",SUM($J16:$K16),IF($S16="국도비","직접입력",SUM($J16:$K16)-$V16)) -> 0 | X16: =IF(SUM($J16:$K16)=SUM($V16:$W16),"OK","검토") -> OK | AA16: =IF($U16<>"도비",IF($S16="국도비","직접입력",SUM($M16:$N16)),) -> 0 | AB16: =IF($U16="도비",SUM(M16:N16),IF($S16="국도비","직접입력",SUM(M16:N16)-AA16)) -> 0 | AC16: =IF(SUM(M16:N16)=SUM(AA16:AB16),"OK","검토") -> OK | AE16: =IF(U16="","",IF(U16="도비","세입없음","직접입력")) | AG16: =IF(AE16="","",COUNTIF($AE$7:$AE$103,AE16)) | AH16: =IF(U16="","",IF(AND(U16="도비",AE16="세입없음"),"OK",IF(AND(U16<>"도비",AE16<>""),"OK","@@"))) | AJ16: {=IF(C16="","",INDEX(구분표!$I$2:$I$300, MATCH(1,(구분표!$E$2:$E$300='1추일출'!B16)*(구분표!$F$2:$F$300='1추일출'!C16)*(구분표!$G$2:$G$300='1추일출'!A16),0)))}
A17: =IFERROR(VLOOKUP($C17,구분표!$A$2:$C$300,2,FALSE),"") | B17: =IFERROR(VLOOKUP($C17,구분표!$A$2:$C$300,3,FALSE),"") | I17: =IF(D17="","",G17-H17) | L17: =IF(G17=0,H17+J17+K17,G17+J17+K17) -> 0 | O17: =IF(G17=0,H17+M17+N17,G17+M17+N17) -> 0 | P17: =IF(AND((L17=0),(O17>0)),"O",IF(AND((J17<0),(L17-O17<0)),"O","X")) -> X | V17: =IF($U17<>"도비",IF($S17="국도비","직접입력",SUM($J17:$K17)),) -> 0 | W17: =IF($U17="도비",SUM($J17:$K17),IF($S17="국도비","직접입력",SUM($J17:$K17)-$V17)) -> 0 | X17: =IF(SUM($J17:$K17)=SUM($V17:$W17),"OK","검토") -> OK | AA17: =IF($U17<>"도비",IF($S17="국도비","직접입력",SUM($M17:$N17)),) -> 0 | AB17: =IF($U17="도비",SUM(M17:N17),IF($S17="국도비","직접입력",SUM(M17:N17)-AA17)) -> 0 | AC17: =IF(SUM(M17:N17)=SUM(AA17:AB17),"OK","검토") -> OK | AE17: =IF(U17="","",IF(U17="도비","세입없음","직접입력")) | AG17: =IF(AE17="","",COUNTIF($AE$7:$AE$103,AE17)) | AH17: =IF(U17="","",IF(AND(U17="도비",AE17="세입없음"),"OK",IF(AND(U17<>"도비",AE17<>""),"OK","@@"))) | AJ17: {=IF(C17="","",INDEX(구분표!$I$2:$I$300, MATCH(1,(구분표!$E$2:$E$300='1추일출'!B17)*(구분표!$F$2:$F$300='1추일출'!C17)*(구분표!$G$2:$G$300='1추일출'!A17),0)))}
A18: =IFERROR(VLOOKUP($C18,구분표!$A$2:$C$300,2,FALSE),"") | B18: =IFERROR(VLOOKUP($C18,구분표!$A$2:$C$300,3,FALSE),"") | I18: =IF(D18="","",G18-H18) | L18: =IF(G18=0,H18+J18+K18,G18+J18+K18) -> 0 | O18: =IF(G18=0,H18+M18+N18,G18+M18+N18) -> 0 | P18: =IF(AND((L18=0),(O18>0)),"O",IF(AND((J18<0),(L18-O18<0)),"O","X")) -> X | V18: =IF($U18<>"도비",IF($S18="국도비","직접입력",SUM($J18:$K18)),) -> 0 | W18: =IF($U18="도비",SUM($J18:$K18),IF($S18="국도비","직접입력",SUM($J18:$K18)-$V18)) -> 0 | X18: =IF(SUM($J18:$K18)=SUM($V18:$W18),"OK","검토") -> OK | AA18: =IF($U18<>"도비",IF($S18="국도비","직접입력",SUM($M18:$N18)),) -> 0 | AB18: =IF($U18="도비",SUM(M18:N18),IF($S18="국도비","직접입력",SUM(M18:N18)-AA18)) -> 0 | AC18: =IF(SUM(M18:N18)=SUM(AA18:AB18),"OK","검토") -> OK | AE18: =IF(U18="","",IF(U18="도비","세입없음","직접입력")) | AG18: =IF(AE18="","",COUNTIF($AE$7:$AE$103,AE18)) | AH18: =IF(U18="","",IF(AND(U18="도비",AE18="세입없음"),"OK",IF(AND(U18<>"도비",AE18<>""),"OK","@@"))) | AJ18: {=IF(C18="","",INDEX(구분표!$I$2:$I$300, MATCH(1,(구분표!$E$2:$E$300='1추일출'!B18)*(구분표!$F$2:$F$300='1추일출'!C18)*(구분표!$G$2:$G$300='1추일출'!A18),0)))}
A19: =IFERROR(VLOOKUP($C19,구분표!$A$2:$C$300,2,FALSE),"") | B19: =IFERROR(VLOOKUP($C19,구분표!$A$2:$C$300,3,FALSE),"") | I19: =IF(D19="","",G19-H19) | L19: =IF(G19=0,H19+J19+K19,G19+J19+K19) -> 0 | O19: =IF(G19=0,H19+M19+N19,G19+M19+N19) -> 0 | P19: =IF(AND((L19=0),(O19>0)),"O",IF(AND((J19<0),(L19-O19<0)),"O","X")) -> X | V19: =IF($U19<>"도비",IF($S19="국도비","직접입력",SUM($J19:$K19)),) -> 0 | W19: =IF($U19="도비",SUM($J19:$K19),IF($S19="국도비","직접입력",SUM($J19:$K19)-$V19)) -> 0 | X19: =IF(SUM($J19:$K19)=SUM($V19:$W19),"OK","검토") -> OK | AA19: =IF($U19<>"도비",IF($S19="국도비","직접입력",SUM($M19:$N19)),) -> 0 | AB19: =IF($U19="도비",SUM(M19:N19),IF($S19="국도비","직접입력",SUM(M19:N19)-AA19)) -> 0 | AC19: =IF(SUM(M19:N19)=SUM(AA19:AB19),"OK","검토") -> OK | AE19: =IF(U19="","",IF(U19="도비","세입없음","직접입력")) | AG19: =IF(AE19="","",COUNTIF($AE$7:$AE$103,AE19)) | AH19: =IF(U19="","",IF(AND(U19="도비",AE19="세입없음"),"OK",IF(AND(U19<>"도비",AE19<>""),"OK","@@"))) | AJ19: {=IF(C19="","",INDEX(구분표!$I$2:$I$300, MATCH(1,(구분표!$E$2:$E$300='1추일출'!B19)*(구분표!$F$2:$F$300='1추일출'!C19)*(구분표!$G$2:$G$300='1추일출'!A19),0)))}
A20: =IFERROR(VLOOKUP($C20,구분표!$A$2:$C$300,2,FALSE),"") | B20: =IFERROR(VLOOKUP($C20,구분표!$A$2:$C$300,3,FALSE),"") | I20: =IF(D20="","",G20-H20) | L20: =IF(G20=0,H20+J20+K20,G20+J20+K20) -> 0 | O20: =IF(G20=0,H20+M20+N20,G20+M20+N20) -> 0 | P20: =IF(AND((L20=0),(O20>0)),"O",IF(AND((J20<0),(L20-O20<0)),"O","X")) -> X | V20: =IF($U20<>"도비",IF($S20="국도비","직접입력",SUM($J20:$K20)),) -> 0 | W20: =IF($U20="도비",SUM($J20:$K20),IF($S20="국도비","직접입력",SUM($J20:$K20)-$V20)) -> 0 | X20: =IF(SUM($J20:$K20)=SUM($V20:$W20),"OK","검토") -> OK | AA20: =IF($U20<>"도비",IF($S20="국도비","직접입력",SUM($M20:$N20)),) -> 0 | AB20: =IF($U20="도비",SUM(M20:N20),IF($S20="국도비","직접입력",SUM(M20:N20)-AA20)) -> 0 | AC20: =IF(SUM(M20:N20)=SUM(AA20:AB20),"OK","검토") -> OK | AE20: =IF(U20="","",IF(U20="도비","세입없음","직접입력")) | AG20: =IF(AE20="","",COUNTIF($AE$7:$AE$103,AE20)) | AH20: =IF(U20="","",IF(AND(U20="도비",AE20="세입없음"),"OK",IF(AND(U20<>"도비",AE20<>""),"OK","@@"))) | AJ20: {=IF(C20="","",INDEX(구분표!$I$2:$I$300, MATCH(1,(구분표!$E$2:$E$300='1추일출'!B20)*(구분표!$F$2:$F$300='1추일출'!C20)*(구분표!$G$2:$G$300='1추일출'!A20),0)))}
A21: =IFERROR(VLOOKUP($C21,구분표!$A$2:$C$300,2,FALSE),"") | B21: =IFERROR(VLOOKUP($C21,구분표!$A$2:$C$300,3,FALSE),"") | I21: =IF(D21="","",G21-H21) | L21: =IF(G21=0,H21+J21+K21,G21+J21+K21) -> 0 | O21: =IF(G21=0,H21+M21+N21,G21+M21+N21) -> 0 | P21: =IF(AND((L21=0),(O21>0)),"O",IF(AND((J21<0),(L21-O21<0)),"O","X")) -> X | V21: =IF($U21<>"도비",IF($S21="국도비","직접입력",SUM($J21:$K21)),) -> 0 | W21: =IF($U21="도비",SUM($J21:$K21),IF($S21="국도비","직접입력",SUM($J21:$K21)-$V21)) -> 0 | X21: =IF(SUM($J21:$K21)=SUM($V21:$W21),"OK","검토") -> OK | AA21: =IF($U21<>"도비",IF($S21="국도비","직접입력",SUM($M21:$N21)),) -> 0 | AB21: =IF($U21="도비",SUM(M21:N21),IF($S21="국도비","직접입력",SUM(M21:N21)-AA21)) -> 0 | AC21: =IF(SUM(M21:N21)=SUM(AA21:AB21),"OK","검토") -> OK | AE21: =IF(U21="","",IF(U21="도비","세입없음","직접입력")) | AG21: =IF(AE21="","",COUNTIF($AE$7:$AE$103,AE21)) | AH21: =IF(U21="","",IF(AND(U21="도비",AE21="세입없음"),"OK",IF(AND(U21<>"도비",AE21<>""),"OK","@@"))) | AJ21: {=IF(C21="","",INDEX(구분표!$I$2:$I$300, MATCH(1,(구분표!$E$2:$E$300='1추일출'!B21)*(구분표!$F$2:$F$300='1추일출'!C21)*(구분표!$G$2:$G$300='1추일출'!A21),0)))}
A22: =IFERROR(VLOOKUP($C22,구분표!$A$2:$C$300,2,FALSE),"") | B22: =IFERROR(VLOOKUP($C22,구분표!$A$2:$C$300,3,FALSE),"") | I22: =IF(D22="","",G22-H22) | L22: =IF(G22=0,H22+J22+K22,G22+J22+K22) -> 0 | O22: =IF(G22=0,H22+M22+N22,G22+M22+N22) -> 0 | P22: =IF(AND((L22=0),(O22>0)),"O",IF(AND((J22<0),(L22-O22<0)),"O","X")) -> X | V22: =IF($U22<>"도비",IF($S22="국도비","직접입력",SUM($J22:$K22)),) -> 0 | W22: =IF($U22="도비",SUM($J22:$K22),IF($S22="국도비","직접입력",SUM($J22:$K22)-$V22)) -> 0 | X22: =IF(SUM($J22:$K22)=SUM($V22:$W22),"OK","검토") -> OK | AA22: =IF($U22<>"도비",IF($S22="국도비","직접입력",SUM($M22:$N22)),) -> 0 | AB22: =IF($U22="도비",SUM(M22:N22),IF($S22="국도비","직접입력",SUM(M22:N22)-AA22)) -> 0 | AC22: =IF(SUM(M22:N22)=SUM(AA22:AB22),"OK","검토") -> OK | AE22: =IF(U22="","",IF(U22="도비","세입없음","직접입력")) | AG22: =IF(AE22="","",COUNTIF($AE$7:$AE$103,AE22)) | AH22: =IF(U22="","",IF(AND(U22="도비",AE22="세입없음"),"OK",IF(AND(U22<>"도비",AE22<>""),"OK","@@"))) | AJ22: {=IF(C22="","",INDEX(구분표!$I$2:$I$300, MATCH(1,(구분표!$E$2:$E$300='1추일출'!B22)*(구분표!$F$2:$F$300='1추일출'!C22)*(구분표!$G$2:$G$300='1추일출'!A22),0)))}
A23: (경제과학기술위원회) | G23: =SUM(G24:G30) -> 0 | H23: =SUM(H24:H30) -> 0 | I23: =SUM(I24:I30) -> 0 | J23: =SUM(J24:J30) -> 0 | K23: =SUM(K24:K30) -> 0 | L23: =SUM(L24:L30) -> 0 | M23: =SUM(M24:M30) -> 0 | N23: =SUM(N24:N30) -> 0 | O23: =SUM(O24:O30) -> 0 | V23: =IF($U23<>"도비",IF($S23="국도비","직접입력",SUM($J23:$K23)),) -> 0 | W23: =IF($U23="도비",SUM($J23:$K23),IF($S23="국도비","직접입력",SUM($J23:$K23)-$V23)) -> 0 | X23: =IF(SUM($J23:$K23)=SUM($V23:$W23),"OK","검토") -> OK | AA23: =IF($U23<>"도비",IF($S23="국도비","직접입력",SUM($M23:$N23)),) -> 0 | AB23: =IF($U23="도비",SUM(M23:N23),IF($S23="국도비","직접입력",SUM(M23:N23)-AA23)) -> 0 | AC23: =IF(SUM(M23:N23)=SUM(AA23:AB23),"OK","검토") -> OK | AE23: =IF(U23="","",IF(U23="도비","세입없음","직접입력")) | AG23: =IF(AE23="","",COUNTIF($AE$7:$AE$103,AE23)) | AH23: =IF(U23="","",IF(AND(U23="도비",AE23="세입없음"),"OK",IF(AND(U23<>"도비",AE23<>""),"OK","@@"))) | AJ23: {=IF(C23="","",INDEX(구분표!$I$2:$I$300, MATCH(1,(구분표!$E$2:$E$300='1추일출'!B23)*(구분표!$F$2:$F$300='1추일출'!C23)*(구분표!$G$2:$G$300='1추일출'!A23),0)))}
A24: =IFERROR(VLOOKUP($C24,구분표!$A$2:$C$300,2,FALSE),"") | B24: =IFERROR(VLOOKUP($C24,구분표!$A$2:$C$300,3,FALSE),"") | I24: =IF(D24="","",G24-H24) | L24: =IF(G24=0,H24+J24+K24,G24+J24+K24) -> 0 | O24: =IF(G24=0,H24+M24+N24,G24+M24+N24) -> 0 | P24: =IF(AND((L24=0),(O24>0)),"O",IF(AND((J24<0),(L24-O24<0)),"O","X")) -> X | V24: =IF($U24<>"도비",IF($S24="국도비","직접입력",SUM($J24:$K24)),) -> 0 | W24: =IF($U24="도비",SUM($J24:$K24),IF($S24="국도비","직접입력",SUM($J24:$K24)-$V24)) -> 0 | X24: =IF(SUM($J24:$K24)=SUM($V24:$W24),"OK","검토") -> OK | AA24: =IF($U24<>"도비",IF($S24="국도비","직접입력",SUM($M24:$N24)),) -> 0 | AB24: =IF($U24="도비",SUM(M24:N24),IF($S24="국도비","직접입력",SUM(M24:N24)-AA24)) -> 0 | AC24: =IF(SUM(M24:N24)=SUM(AA24:AB24),"OK","검토") -> OK | AE24: =IF(U24="","",IF(U24="도비","세입없음","직접입력")) | AG24: =IF(AE24="","",COUNTIF($AE$7:$AE$103,AE24)) | AH24: =IF(U24="","",IF(AND(U24="도비",AE24="세입없음"),"OK",IF(AND(U24<>"도비",AE24<>""),"OK","@@"))) | AJ24: {=IF(C24="","",INDEX(구분표!$I$2:$I$300, MATCH(1,(구분표!$E$2:$E$300='1추일출'!B24)*(구분표!$F$2:$F$300='1추일출'!C24)*(구분표!$G$2:$G$300='1추일출'!A24),0)))}
A25: =IFERROR(VLOOKUP($C25,구분표!$A$2:$C$300,2,FALSE),"") | B25: =IFERROR(VLOOKUP($C25,구분표!$A$2:$C$300,3,FALSE),"") | I25: =IF(D25="","",G25-H25) | L25: =IF(G25=0,H25+J25+K25,G25+J25+K25) -> 0 | O25: =IF(G25=0,H25+M25+N25,G25+M25+N25) -> 0 | P25: =IF(AND((L25=0),(O25>0)),"O",IF(AND((J25<0),(L25-O25<0)),"O","X")) -> X | V25: =IF($U25<>"도비",IF($S25="국도비","직접입력",SUM($J25:$K25)),) -> 0 | W25: =IF($U25="도비",SUM($J25:$K25),IF($S25="국도비","직접입력",SUM($J25:$K25)-$V25)) -> 0 | X25: =IF(SUM($J25:$K25)=SUM($V25:$W25),"OK","검토") -> OK | AA25: =IF($U25<>"도비",IF($S25="국도비","직접입력",SUM($M25:$N25)),) -> 0 | AB25: =IF($U25="도비",SUM(M25:N25),IF($S25="국도비","직접입력",SUM(M25:N25)-AA25)) -> 0 | AC25: =IF(SUM(M25:N25)=SUM(AA25:AB25),"OK","검토") -> OK | AE25: =IF(U25="","",IF(U25="도비","세입없음","직접입력")) | AG25: =IF(AE25="","",COUNTIF($AE$7:$AE$103,AE25)) | AH25: =IF(U25="","",IF(AND(U25="도비",AE25="세입없음"),"OK",IF(AND(U25<>"도비",AE25<>""),"OK","@@"))) | AJ25: {=IF(C25="","",INDEX(구분표!$I$2:$I$300, MATCH(1,(구분표!$E$2:$E$300='1추일출'!B25)*(구분표!$F$2:$F$300='1추일출'!C25)*(구분표!$G$2:$G$300='1추일출'!A25),0)))}
A26: =IFERROR(VLOOKUP($C26,구분표!$A$2:$C$300,2,FALSE),"") | B26: =IFERROR(VLOOKUP($C26,구분표!$A$2:$C$300,3,FALSE),"") | I26: =IF(D26="","",G26-H26) | L26: =IF(G26=0,H26+J26+K26,G26+J26+K26) -> 0 | O26: =IF(G26=0,H26+M26+N26,G26+M26+N26) -> 0 | P26: =IF(AND((L26=0),(O26>0)),"O",IF(AND((J26<0),(L26-O26<0)),"O","X")) -> X | V26: =IF($U26<>"도비",IF($S26="국도비","직접입력",SUM($J26:$K26)),) -> 0 | W26: =IF($U26="도비",SUM($J26:$K26),IF($S26="국도비","직접입력",SUM($J26:$K26)-$V26)) -> 0 | X26: =IF(SUM($J26:$K26)=SUM($V26:$W26),"OK","검토") -> OK | AA26: =IF($U26<>"도비",IF($S26="국도비","직접입력",SUM($M26:$N26)),) -> 0 | AB26: =IF($U26="도비",SUM(M26:N26),IF($S26="국도비","직접입력",SUM(M26:N26)-AA26)) -> 0 | AC26: =IF(SUM(M26:N26)=SUM(AA26:AB26),"OK","검토") -> OK | AE26: =IF(U26="","",IF(U26="도비","세입없음","직접입력")) | AG26: =IF(AE26="","",COUNTIF($AE$7:$AE$103,AE26)) | AH26: =IF(U26="","",IF(AND(U26="도비",AE26="세입없음"),"OK",IF(AND(U26<>"도비",AE26<>""),"OK","@@"))) | AJ26: {=IF(C26="","",INDEX(구분표!$I$2:$I$300, MATCH(1,(구분표!$E$2:$E$300='1추일출'!B26)*(구분표!$F$2:$F$300='1추일출'!C26)*(구분표!$G$2:$G$300='1추일출'!A26),0)))}
A27: =IFERROR(VLOOKUP($C27,구분표!$A$2:$C$300,2,FALSE),"") | B27: =IFERROR(VLOOKUP($C27,구분표!$A$2:$C$300,3,FALSE),"") | I27: =IF(D27="","",G27-H27) | L27: =IF(G27=0,H27+J27+K27,G27+J27+K27) -> 0 | O27: =IF(G27=0,H27+M27+N27,G27+M27+N27) -> 0 | P27: =IF(AND((L27=0),(O27>0)),"O",IF(AND((J27<0),(L27-O27<0)),"O","X")) -> X | V27: =IF($U27<>"도비",IF($S27="국도비","직접입력",SUM($J27:$K27)),) -> 0 | W27: =IF($U27="도비",SUM($J27:$K27),IF($S27="국도비","직접입력",SUM($J27:$K27)-$V27)) -> 0 | X27: =IF(SUM($J27:$K27)=SUM($V27:$W27),"OK","검토") -> OK | AA27: =IF($U27<>"도비",IF($S27="국도비","직접입력",SUM($M27:$N27)),) -> 0 | AB27: =IF($U27="도비",SUM(M27:N27),IF($S27="국도비","직접입력",SUM(M27:N27)-AA27)) -> 0 | AC27: =IF(SUM(M27:N27)=SUM(AA27:AB27),"OK","검토") -> OK | AE27: =IF(U27="","",IF(U27="도비","세입없음","직접입력")) | AG27: =IF(AE27="","",COUNTIF($AE$7:$AE$103,AE27)) | AH27: =IF(U27="","",IF(AND(U27="도비",AE27="세입없음"),"OK",IF(AND(U27<>"도비",AE27<>""),"OK","@@"))) | AJ27: {=IF(C27="","",INDEX(구분표!$I$2:$I$300, MATCH(1,(구분표!$E$2:$E$300='1추일출'!B27)*(구분표!$F$2:$F$300='1추일출'!C27)*(구분표!$G$2:$G$300='1추일출'!A27),0)))}
A28: =IFERROR(VLOOKUP($C28,구분표!$A$2:$C$300,2,FALSE),"") | B28: =IFERROR(VLOOKUP($C28,구분표!$A$2:$C$300,3,FALSE),"") | I28: =IF(D28="","",G28-H28) | L28: =IF(G28=0,H28+J28+K28,G28+J28+K28) -> 0 | O28: =IF(G28=0,H28+M28+N28,G28+M28+N28) -> 0 | P28: =IF(AND((L28=0),(O28>0)),"O",IF(AND((J28<0),(L28-O28<0)),"O","X")) -> X | V28: =IF($U28<>"도비",IF($S28="국도비","직접입력",SUM($J28:$K28)),) -> 0 | W28: =IF($U28="도비",SUM($J28:$K28),IF($S28="국도비","직접입력",SUM($J28:$K28)-$V28)) -> 0 | X28: =IF(SUM($J28:$K28)=SUM($V28:$W28),"OK","검토") -> OK | AA28: =IF($U28<>"도비",IF($S28="국도비","직접입력",SUM($M28:$N28)),) -> 0 | AB28: =IF($U28="도비",SUM(M28:N28),IF($S28="국도비","직접입력",SUM(M28:N28)-AA28)) -> 0 | AC28: =IF(SUM(M28:N28)=SUM(AA28:AB28),"OK","검토") -> OK | AE28: =IF(U28="","",IF(U28="도비","세입없음","직접입력")) | AG28: =IF(AE28="","",COUNTIF($AE$7:$AE$103,AE28)) | AH28: =IF(U28="","",IF(AND(U28="도비",AE28="세입없음"),"OK",IF(AND(U28<>"도비",AE28<>""),"OK","@@"))) | AJ28: {=IF(C28="","",INDEX(구분표!$I$2:$I$300, MATCH(1,(구분표!$E$2:$E$300='1추일출'!B28)*(구분표!$F$2:$F$300='1추일출'!C28)*(구분표!$G$2:$G$300='1추일출'!A28),0)))}
A29: =IFERROR(VLOOKUP($C29,구분표!$A$2:$C$300,2,FALSE),"") | B29: =IFERROR(VLOOKUP($C29,구분표!$A$2:$C$300,3,FALSE),"") | I29: =IF(D29="","",G29-H29) | L29: =IF(G29=0,H29+J29+K29,G29+J29+K29) -> 0 | O29: =IF(G29=0,H29+M29+N29,G29+M29+N29) -> 0 | P29: =IF(AND((L29=0),(O29>0)),"O",IF(AND((J29<0),(L29-O29<0)),"O","X")) -> X | V29: =IF($U29<>"도비",IF($S29="국도비","직접입력",SUM($J29:$K29)),) -> 0 | W29: =IF($U29="도비",SUM($J29:$K29),IF($S29="국도비","직접입력",SUM($J29:$K29)-$V29)) -> 0 | X29: =IF(SUM($J29:$K29)=SUM($V29:$W29),"OK","검토") -> OK | AA29: =IF($U29<>"도비",IF($S29="국도비","직접입력",SUM($M29:$N29)),) -> 0 | AB29: =IF($U29="도비",SUM(M29:N29),IF($S29="국도비","직접입력",SUM(M29:N29)-AA29)) -> 0 | AC29: =IF(SUM(M29:N29)=SUM(AA29:AB29),"OK","검토") -> OK | AE29: =IF(U29="","",IF(U29="도비","세입없음","직접입력")) | AG29: =IF(AE29="","",COUNTIF($AE$7:$AE$103,AE29)) | AH29: =IF(U29="","",IF(AND(U29="도비",AE29="세입없음"),"OK",IF(AND(U29<>"도비",AE29<>""),"OK","@@"))) | AJ29: {=IF(C29="","",INDEX(구분표!$I$2:$I$300, MATCH(1,(구분표!$E$2:$E$300='1추일출'!B29)*(구분표!$F$2:$F$300='1추일출'!C29)*(구분표!$G$2:$G$300='1추일출'!A29),0)))}
A30: =IFERROR(VLOOKUP($C30,구분표!$A$2:$C$300,2,FALSE),"") | B30: =IFERROR(VLOOKUP($C30,구분표!$A$2:$C$300,3,FALSE),"") | I30: =IF(D30="","",G30-H30) | L30: =IF(G30=0,H30+J30+K30,G30+J30+K30) -> 0 | O30: =IF(G30=0,H30+M30+N30,G30+M30+N30) -> 0 | P30: =IF(AND((L30=0),(O30>0)),"O",IF(AND((J30<0),(L30-O30<0)),"O","X")) -> X | V30: =IF($U30<>"도비",IF($S30="국도비","직접입력",SUM($J30:$K30)),) -> 0 | W30: =IF($U30="도비",SUM($J30:$K30),IF($S30="국도비","직접입력",SUM($J30:$K30)-$V30)) -> 0 | X30: =IF(SUM($J30:$K30)=SUM($V30:$W30),"OK","검토") -> OK | AA30: =IF($U30<>"도비",IF($S30="국도비","직접입력",SUM($M30:$N30)),) -> 0 | AB30: =IF($U30="도비",SUM(M30:N30),IF($S30="국도비","직접입력",SUM(M30:N30)-AA30)) -> 0 | AC30: =IF(SUM(M30:N30)=SUM(AA30:AB30),"OK","검토") -> OK | AE30: =IF(U30="","",IF(U30="도비","세입없음","직접입력")) | AG30: =IF(AE30="","",COUNTIF($AE$7:$AE$103,AE30)) | AH30: =IF(U30="","",IF(AND(U30="도비",AE30="세입없음"),"OK",IF(AND(U30<>"도비",AE30<>""),"OK","@@"))) | AJ30: {=IF(C30="","",INDEX(구분표!$I$2:$I$300, MATCH(1,(구분표!$E$2:$E$300='1추일출'!B30)*(구분표!$F$2:$F$300='1추일출'!C30)*(구분표!$G$2:$G$300='1추일출'!A30),0)))}
A31: (안전행정위원회) | G31: =SUM(G32:G38) -> 0 | H31: =SUM(H32:H38) -> 0 | I31: =SUM(I32:I38) -> 0 | J31: =SUM(J32:J38) -> 0 | K31: =SUM(K32:K38) -> 0 | L31: =SUM(L32:L38) -> 0 | M31: =SUM(M32:M38) -> 0 | N31: =SUM(N32:N38) -> 0 | O31: =SUM(O32:O38) -> 0 | V31: =IF($U31<>"도비",IF($S31="국도비","직접입력",SUM($J31:$K31)),) -> 0 | W31: =IF($U31="도비",SUM($J31:$K31),IF($S31="국도비","직접입력",SUM($J31:$K31)-$V31)) -> 0 | X31: =IF(SUM($J31:$K31)=SUM($V31:$W31),"OK","검토") -> OK | AA31: =IF($U31<>"도비",IF($S31="국도비","직접입력",SUM($M31:$N31)),) -> 0 | AB31: =IF($U31="도비",SUM(M31:N31),IF($S31="국도비","직접입력",SUM(M31:N31)-AA31)) -> 0 | AC31: =IF(SUM(M31:N31)=SUM(AA31:AB31),"OK","검토") -> OK | AE31: =IF(U31="","",IF(U31="도비","세입없음","직접입력")) | AG31: =IF(AE31="","",COUNTIF($AE$7:$AE$103,AE31)) | AH31: =IF(U31="","",IF(AND(U31="도비",AE31="세입없음"),"OK",IF(AND(U31<>"도비",AE31<>""),"OK","@@"))) | AJ31: {=IF(C31="","",INDEX(구분표!$I$2:$I$300, MATCH(1,(구분표!$E$2:$E$300='1추일출'!B31)*(구분표!$F$2:$F$300='1추일출'!C31)*(구분표!$G$2:$G$300='1추일출'!A31),0)))}
A32: =IFERROR(VLOOKUP($C32,구분표!$A$2:$C$300,2,FALSE),"") | B32: =IFERROR(VLOOKUP($C32,구분표!$A$2:$C$300,3,FALSE),"") | I32: =IF(D32="","",G32-H32) | L32: =IF(G32=0,H32+J32+K32,G32+J32+K32) -> 0 | O32: =IF(G32=0,H32+M32+N32,G32+M32+N32) -> 0 | P32: =IF(AND((L32=0),(O32>0)),"O",IF(AND((J32<0),(L32-O32<0)),"O","X")) -> X | V32: =IF($U32<>"도비",IF($S32="국도비","직접입력",SUM($J32:$K32)),) -> 0 | W32: =IF($U32="도비",SUM($J32:$K32),IF($S32="국도비","직접입력",SUM($J32:$K32)-$V32)) -> 0 | X32: =IF(SUM($J32:$K32)=SUM($V32:$W32),"OK","검토") -> OK | AA32: =IF($U32<>"도비",IF($S32="국도비","직접입력",SUM($M32:$N32)),) -> 0 | AB32: =IF($U32="도비",SUM(M32:N32),IF($S32="국도비","직접입력",SUM(M32:N32)-AA32)) -> 0 | AC32: =IF(SUM(M32:N32)=SUM(AA32:AB32),"OK","검토") -> OK | AE32: =IF(U32="","",IF(U32="도비","세입없음","직접입력")) | AG32: =IF(AE32="","",COUNTIF($AE$7:$AE$103,AE32)) | AH32: =IF(U32="","",IF(AND(U32="도비",AE32="세입없음"),"OK",IF(AND(U32<>"도비",AE32<>""),"OK","@@"))) | AJ32: {=IF(C32="","",INDEX(구분표!$I$2:$I$300, MATCH(1,(구분표!$E$2:$E$300='1추일출'!B32)*(구분표!$F$2:$F$300='1추일출'!C32)*(구분표!$G$2:$G$300='1추일출'!A32),0)))}
A33: =IFERROR(VLOOKUP($C33,구분표!$A$2:$C$300,2,FALSE),"") | B33: =IFERROR(VLOOKUP($C33,구분표!$A$2:$C$300,3,FALSE),"") | I33: =IF(D33="","",G33-H33) | L33: =IF(G33=0,H33+J33+K33,G33+J33+K33) -> 0 | O33: =IF(G33=0,H33+M33+N33,G33+M33+N33) -> 0 | P33: =IF(AND((L33=0),(O33>0)),"O",IF(AND((J33<0),(L33-O33<0)),"O","X")) -> X | V33: =IF($U33<>"도비",IF($S33="국도비","직접입력",SUM($J33:$K33)),) -> 0 | W33: =IF($U33="도비",SUM($J33:$K33),IF($S33="국도비","직접입력",SUM($J33:$K33)-$V33)) -> 0 | X33: =IF(SUM($J33:$K33)=SUM($V33:$W33),"OK","검토") -> OK | AA33: =IF($U33<>"도비",IF($S33="국도비","직접입력",SUM($M33:$N33)),) -> 0 | AB33: =IF($U33="도비",SUM(M33:N33),IF($S33="국도비","직접입력",SUM(M33:N33)-AA33)) -> 0 | AC33: =IF(SUM(M33:N33)=SUM(AA33:AB33),"OK","검토") -> OK | AE33: =IF(U33="","",IF(U33="도비","세입없음","직접입력")) | AG33: =IF(AE33="","",COUNTIF($AE$7:$AE$103,AE33)) | AH33: =IF(U33="","",IF(AND(U33="도비",AE33="세입없음"),"OK",IF(AND(U33<>"도비",AE33<>""),"OK","@@"))) | AJ33: {=IF(C33="","",INDEX(구분표!$I$2:$I$300, MATCH(1,(구분표!$E$2:$E$300='1추일출'!B33)*(구분표!$F$2:$F$300='1추일출'!C33)*(구분표!$G$2:$G$300='1추일출'!A33),0)))}
A34: =IFERROR(VLOOKUP($C34,구분표!$A$2:$C$300,2,FALSE),"") | B34: =IFERROR(VLOOKUP($C34,구분표!$A$2:$C$300,3,FALSE),"") | I34: =IF(D34="","",G34-H34) | L34: =IF(G34=0,H34+J34+K34,G34+J34+K34) -> 0 | O34: =IF(G34=0,H34+M34+N34,G34+M34+N34) -> 0 | P34: =IF(AND((L34=0),(O34>0)),"O",IF(AND((J34<0),(L34-O34<0)),"O","X")) -> X | V34: =IF($U34<>"도비",IF($S34="국도비","직접입력",SUM($J34:$K34)),) -> 0 | W34: =IF($U34="도비",SUM($J34:$K34),IF($S34="국도비","직접입력",SUM($J34:$K34)-$V34)) -> 0 | X34: =IF(SUM($J34:$K34)=SUM($V34:$W34),"OK","검토") -> OK | AA34: =IF($U34<>"도비",IF($S34="국도비","직접입력",SUM($M34:$N34)),) -> 0 | AB34: =IF($U34="도비",SUM(M34:N34),IF($S34="국도비","직접입력",SUM(M34:N34)-AA34)) -> 0 | AC34: =IF(SUM(M34:N34)=SUM(AA34:AB34),"OK","검토") -> OK | AE34: =IF(U34="","",IF(U34="도비","세입없음","직접입력")) | AG34: =IF(AE34="","",COUNTIF($AE$7:$AE$103,AE34)) | AH34: =IF(U34="","",IF(AND(U34="도비",AE34="세입없음"),"OK",IF(AND(U34<>"도비",AE34<>""),"OK","@@"))) | AJ34: {=IF(C34="","",INDEX(구분표!$I$2:$I$300, MATCH(1,(구분표!$E$2:$E$300='1추일출'!B34)*(구분표!$F$2:$F$300='1추일출'!C34)*(구분표!$G$2:$G$300='1추일출'!A34),0)))}
A35: =IFERROR(VLOOKUP($C35,구분표!$A$2:$C$300,2,FALSE),"") | B35: =IFERROR(VLOOKUP($C35,구분표!$A$2:$C$300,3,FALSE),"") | I35: =IF(D35="","",G35-H35) | L35: =IF(G35=0,H35+J35+K35,G35+J35+K35) -> 0 | O35: =IF(G35=0,H35+M35+N35,G35+M35+N35) -> 0 | P35: =IF(AND((L35=0),(O35>0)),"O",IF(AND((J35<0),(L35-O35<0)),"O","X")) -> X | V35: =IF($U35<>"도비",IF($S35="국도비","직접입력",SUM($J35:$K35)),) -> 0 | W35: =IF($U35="도비",SUM($J35:$K35),IF($S35="국도비","직접입력",SUM($J35:$K35)-$V35)) -> 0 | X35: =IF(SUM($J35:$K35)=SUM($V35:$W35),"OK","검토") -> OK | AA35: =IF($U35<>"도비",IF($S35="국도비","직접입력",SUM($M35:$N35)),) -> 0 | AB35: =IF($U35="도비",SUM(M35:N35),IF($S35="국도비","직접입력",SUM(M35:N35)-AA35)) -> 0 | AC35: =IF(SUM(M35:N35)=SUM(AA35:AB35),"OK","검토") -> OK | AE35: =IF(U35="","",IF(U35="도비","세입없음","직접입력")) | AG35: =IF(AE35="","",COUNTIF($AE$7:$AE$103,AE35)) | AH35: =IF(U35="","",IF(AND(U35="도비",AE35="세입없음"),"OK",IF(AND(U35<>"도비",AE35<>""),"OK","@@"))) | AJ35: {=IF(C35="","",INDEX(구분표!$I$2:$I$300, MATCH(1,(구분표!$E$2:$E$300='1추일출'!B35)*(구분표!$F$2:$F$300='1추일출'!C35)*(구분표!$G$2:$G$300='1추일출'!A35),0)))}
A36: =IFERROR(VLOOKUP($C36,구분표!$A$2:$C$300,2,FALSE),"") | B36: =IFERROR(VLOOKUP($C36,구분표!$A$2:$C$300,3,FALSE),"") | I36: =IF(D36="","",G36-H36) | L36: =IF(G36=0,H36+J36+K36,G36+J36+K36) -> 0 | O36: =IF(G36=0,H36+M36+N36,G36+M36+N36) -> 0 | P36: =IF(AND((L36=0),(O36>0)),"O",IF(AND((J36<0),(L36-O36<0)),"O","X")) -> X | V36: =IF($U36<>"도비",IF($S36="국도비","직접입력",SUM($J36:$K36)),) -> 0 | W36: =IF($U36="도비",SUM($J36:$K36),IF($S36="국도비","직접입력",SUM($J36:$K36)-$V36)) -> 0 | X36: =IF(SUM($J36:$K36)=SUM($V36:$W36),"OK","검토") -> OK | AA36: =IF($U36<>"도비",IF($S36="국도비","직접입력",SUM($M36:$N36)),) -> 0 | AB36: =IF($U36="도비",SUM(M36:N36),IF($S36="국도비","직접입력",SUM(M36:N36)-AA36)) -> 0 | AC36: =IF(SUM(M36:N36)=SUM(AA36:AB36),"OK","검토") -> OK | AE36: =IF(U36="","",IF(U36="도비","세입없음","직접입력")) | AG36: =IF(AE36="","",COUNTIF($AE$7:$AE$103,AE36)) | AH36: =IF(U36="","",IF(AND(U36="도비",AE36="세입없음"),"OK",IF(AND(U36<>"도비",AE36<>""),"OK","@@"))) | AJ36: {=IF(C36="","",INDEX(구분표!$I$2:$I$300, MATCH(1,(구분표!$E$2:$E$300='1추일출'!B36)*(구분표!$F$2:$F$300='1추일출'!C36)*(구분표!$G$2:$G$300='1추일출'!A36),0)))}
A37: =IFERROR(VLOOKUP($C37,구분표!$A$2:$C$300,2,FALSE),"") | B37: =IFERROR(VLOOKUP($C37,구분표!$A$2:$C$300,3,FALSE),"") | I37: =IF(D37="","",G37-H37) | L37: =IF(G37=0,H37+J37+K37,G37+J37+K37) -> 0 | O37: =IF(G37=0,H37+M37+N37,G37+M37+N37) -> 0 | P37: =IF(AND((L37=0),(O37>0)),"O",IF(AND((J37<0),(L37-O37<0)),"O","X")) -> X | V37: =IF($U37<>"도비",IF($S37="국도비","직접입력",SUM($J37:$K37)),) -> 0 | W37: =IF($U37="도비",SUM($J37:$K37),IF($S37="국도비","직접입력",SUM($J37:$K37)-$V37)) -> 0 | X37: =IF(SUM($J37:$K37)=SUM($V37:$W37),"OK","검토") -> OK | AA37: =IF($U37<>"도비",IF($S37="국도비","직접입력",SUM($M37:$N37)),) -> 0 | AB37: =IF($U37="도비",SUM(M37:N37),IF($S37="국도비","직접입력",SUM(M37:N37)-AA37)) -> 0 | AC37: =IF(SUM(M37:N37)=SUM(AA37:AB37),"OK","검토") -> OK | AE37: =IF(U37="","",IF(U37="도비","세입없음","직접입력")) | AG37: =IF(AE37="","",COUNTIF($AE$7:$AE$103,AE37)) | AH37: =IF(U37="","",IF(AND(U37="도비",AE37="세입없음"),"OK",IF(AND(U37<>"도비",AE37<>""),"OK","@@"))) | AJ37: {=IF(C37="","",INDEX(구분표!$I$2:$I$300, MATCH(1,(구분표!$E$2:$E$300='1추일출'!B37)*(구분표!$F$2:$F$300='1추일출'!C37)*(구분표!$G$2:$G$300='1추일출'!A37),0)))}
A38: =IFERROR(VLOOKUP($C38,구분표!$A$2:$C$300,2,FALSE),"") | B38: =IFERROR(VLOOKUP($C38,구분표!$A$2:$C$300,3,FALSE),"") | I38: =IF(D38="","",G38-H38) | L38: =IF(G38=0,H38+J38+K38,G38+J38+K38) -> 0 | O38: =IF(G38=0,H38+M38+N38,G38+M38+N38) -> 0 | P38: =IF(AND((L38=0),(O38>0)),"O",IF(AND((J38<0),(L38-O38<0)),"O","X")) -> X | V38: =IF($U38<>"도비",IF($S38="국도비","직접입력",SUM($J38:$K38)),) -> 0 | W38: =IF($U38="도비",SUM($J38:$K38),IF($S38="국도비","직접입력",SUM($J38:$K38)-$V38)) -> 0 | X38: =IF(SUM($J38:$K38)=SUM($V38:$W38),"OK","검토") -> OK | AA38: =IF($U38<>"도비",IF($S38="국도비","직접입력",SUM($M38:$N38)),) -> 0 | AB38: =IF($U38="도비",SUM(M38:N38),IF($S38="국도비","직접입력",SUM(M38:N38)-AA38)) -> 0 | AC38: =IF(SUM(M38:N38)=SUM(AA38:AB38),"OK","검토") -> OK | AE38: =IF(U38="","",IF(U38="도비","세입없음","직접입력")) | AG38: =IF(AE38="","",COUNTIF($AE$7:$AE$103,AE38)) | AH38: =IF(U38="","",IF(AND(U38="도비",AE38="세입없음"),"OK",IF(AND(U38<>"도비",AE38<>""),"OK","@@"))) | AJ38: {=IF(C38="","",INDEX(구분표!$I$2:$I$300, MATCH(1,(구분표!$E$2:$E$300='1추일출'!B38)*(구분표!$F$2:$F$300='1추일출'!C38)*(구분표!$G$2:$G$300='1추일출'!A38),0)))}
A39: (문화체육관광위원회) | G39: =SUM(G40:G46) -> 0 | H39: =SUM(H40:H46) -> 0 | I39: =SUM(I40:I46) -> 0 | J39: =SUM(J40:J46) -> 0 | K39: =SUM(K40:K46) -> 0 | L39: =SUM(L40:L46) -> 0 | M39: =SUM(M40:M46) -> 0 | N39: =SUM(N40:N46) -> 0 | O39: =SUM(O40:O46) -> 0 | V39: =IF($U39<>"도비",IF($S39="국도비","직접입력",SUM($J39:$K39)),) -> 0 | W39: =IF($U39="도비",SUM($J39:$K39),IF($S39="국도비","직접입력",SUM($J39:$K39)-$V39)) -> 0 | X39: =IF(SUM($J39:$K39)=SUM($V39:$W39),"OK","검토") -> OK | AA39: =IF($U39<>"도비",IF($S39="국도비","직접입력",SUM($M39:$N39)),) -> 0 | AB39: =IF($U39="도비",SUM(M39:N39),IF($S39="국도비","직접입력",SUM(M39:N39)-AA39)) -> 0 | AC39: =IF(SUM(M39:N39)=SUM(AA39:AB39),"OK","검토") -> OK | AE39: =IF(U39="","",IF(U39="도비","세입없음","직접입력")) | AG39: =IF(AE39="","",COUNTIF($AE$7:$AE$103,AE39)) | AH39: =IF(U39="","",IF(AND(U39="도비",AE39="세입없음"),"OK",IF(AND(U39<>"도비",AE39<>""),"OK","@@"))) | AJ39: {=IF(C39="","",INDEX(구분표!$I$2:$I$300, MATCH(1,(구분표!$E$2:$E$300='1추일출'!B39)*(구분표!$F$2:$F$300='1추일출'!C39)*(구분표!$G$2:$G$300='1추일출'!A39),0)))}
A40: =IFERROR(VLOOKUP($C40,구분표!$A$2:$C$300,2,FALSE),"") | B40: =IFERROR(VLOOKUP($C40,구분표!$A$2:$C$300,3,FALSE),"") | I40: =IF(D40="","",G40-H40) | L40: =IF(G40=0,H40+J40+K40,G40+J40+K40) -> 0 | O40: =IF(G40=0,H40+M40+N40,G40+M40+N40) -> 0 | P40: =IF(AND((L40=0),(O40>0)),"O",IF(AND((J40<0),(L40-O40<0)),"O","X")) -> X | V40: =IF($U40<>"도비",IF($S40="국도비","직접입력",SUM($J40:$K40)),) -> 0 | W40: =IF($U40="도비",SUM($J40:$K40),IF($S40="국도비","직접입력",SUM($J40:$K40)-$V40)) -> 0 | X40: =IF(SUM($J40:$K40)=SUM($V40:$W40),"OK","검토") -> OK | AA40: =IF($U40<>"도비",IF($S40="국도비","직접입력",SUM($M40:$N40)),) -> 0 | AB40: =IF($U40="도비",SUM(M40:N40),IF($S40="국도비","직접입력",SUM(M40:N40)-AA40)) -> 0 | AC40: =IF(SUM(M40:N40)=SUM(AA40:AB40),"OK","검토") -> OK | AE40: =IF(U40="","",IF(U40="도비","세입없음","직접입력")) | AG40: =IF(AE40="","",COUNTIF($AE$7:$AE$103,AE40)) | AH40: =IF(U40="","",IF(AND(U40="도비",AE40="세입없음"),"OK",IF(AND(U40<>"도비",AE40<>""),"OK","@@"))) | AJ40: {=IF(C40="","",INDEX(구분표!$I$2:$I$300, MATCH(1,(구분표!$E$2:$E$300='1추일출'!B40)*(구분표!$F$2:$F$300='1추일출'!C40)*(구분표!$G$2:$G$300='1추일출'!A40),0)))}
A41: =IFERROR(VLOOKUP($C41,구분표!$A$2:$C$300,2,FALSE),"") | B41: =IFERROR(VLOOKUP($C41,구분표!$A$2:$C$300,3,FALSE),"") | I41: =IF(D41="","",G41-H41) | L41: =IF(G41=0,H41+J41+K41,G41+J41+K41) -> 0 | O41: =IF(G41=0,H41+M41+N41,G41+M41+N41) -> 0 | P41: =IF(AND((L41=0),(O41>0)),"O",IF(AND((J41<0),(L41-O41<0)),"O","X")) -> X | V41: =IF($U41<>"도비",IF($S41="국도비","직접입력",SUM($J41:$K41)),) -> 0 | W41: =IF($U41="도비",SUM($J41:$K41),IF($S41="국도비","직접입력",SUM($J41:$K41)-$V41)) -> 0 | X41: =IF(SUM($J41:$K41)=SUM($V41:$W41),"OK","검토") -> OK | AA41: =IF($U41<>"도비",IF($S41="국도비","직접입력",SUM($M41:$N41)),) -> 0 | AB41: =IF($U41="도비",SUM(M41:N41),IF($S41="국도비","직접입력",SUM(M41:N41)-AA41)) -> 0 | AC41: =IF(SUM(M41:N41)=SUM(AA41:AB41),"OK","검토") -> OK | AE41: =IF(U41="","",IF(U41="도비","세입없음","직접입력")) | AG41: =IF(AE41="","",COUNTIF($AE$7:$AE$103,AE41)) | AH41: =IF(U41="","",IF(AND(U41="도비",AE41="세입없음"),"OK",IF(AND(U41<>"도비",AE41<>""),"OK","@@"))) | AJ41: {=IF(C41="","",INDEX(구분표!$I$2:$I$300, MATCH(1,(구분표!$E$2:$E$300='1추일출'!B41)*(구분표!$F$2:$F$300='1추일출'!C41)*(구분표!$G$2:$G$300='1추일출'!A41),0)))}
A42: =IFERROR(VLOOKUP($C42,구분표!$A$2:$C$300,2,FALSE),"") | B42: =IFERROR(VLOOKUP($C42,구분표!$A$2:$C$300,3,FALSE),"") | I42: =IF(D42="","",G42-H42) | L42: =IF(G42=0,H42+J42+K42,G42+J42+K42) -> 0 | O42: =IF(G42=0,H42+M42+N42,G42+M42+N42) -> 0 | P42: =IF(AND((L42=0),(O42>0)),"O",IF(AND((J42<0),(L42-O42<0)),"O","X")) -> X | V42: =IF($U42<>"도비",IF($S42="국도비","직접입력",SUM($J42:$K42)),) -> 0 | W42: =IF($U42="도비",SUM($J42:$K42),IF($S42="국도비","직접입력",SUM($J42:$K42)-$V42)) -> 0 | X42: =IF(SUM($J42:$K42)=SUM($V42:$W42),"OK","검토") -> OK | AA42: =IF($U42<>"도비",IF($S42="국도비","직접입력",SUM($M42:$N42)),) -> 0 | AB42: =IF($U42="도비",SUM(M42:N42),IF($S42="국도비","직접입력",SUM(M42:N42)-AA42)) -> 0 | AC42: =IF(SUM(M42:N42)=SUM(AA42:AB42),"OK","검토") -> OK | AE42: =IF(U42="","",IF(U42="도비","세입없음","직접입력")) | AG42: =IF(AE42="","",COUNTIF($AE$7:$AE$103,AE42)) | AH42: =IF(U42="","",IF(AND(U42="도비",AE42="세입없음"),"OK",IF(AND(U42<>"도비",AE42<>""),"OK","@@"))) | AJ42: {=IF(C42="","",INDEX(구분표!$I$2:$I$300, MATCH(1,(구분표!$E$2:$E$300='1추일출'!B42)*(구분표!$F$2:$F$300='1추일출'!C42)*(구분표!$G$2:$G$300='1추일출'!A42),0)))}
A43: =IFERROR(VLOOKUP($C43,구분표!$A$2:$C$300,2,FALSE),"") | B43: =IFERROR(VLOOKUP($C43,구분표!$A$2:$C$300,3,FALSE),"") | I43: =IF(D43="","",G43-H43) | L43: =IF(G43=0,H43+J43+K43,G43+J43+K43) -> 0 | O43: =IF(G43=0,H43+M43+N43,G43+M43+N43) -> 0 | P43: =IF(AND((L43=0),(O43>0)),"O",IF(AND((J43<0),(L43-O43<0)),"O","X")) -> X | V43: =IF($U43<>"도비",IF($S43="국도비","직접입력",SUM($J43:$K43)),) -> 0 | W43: =IF($U43="도비",SUM($J43:$K43),IF($S43="국도비","직접입력",SUM($J43:$K43)-$V43)) -> 0 | X43: =IF(SUM($J43:$K43)=SUM($V43:$W43),"OK","검토") -> OK | AA43: =IF($U43<>"도비",IF($S43="국도비","직접입력",SUM($M43:$N43)),) -> 0 | AB43: =IF($U43="도비",SUM(M43:N43),IF($S43="국도비","직접입력",SUM(M43:N43)-AA43)) -> 0 | AC43: =IF(SUM(M43:N43)=SUM(AA43:AB43),"OK","검토") -> OK | AE43: =IF(U43="","",IF(U43="도비","세입없음","직접입력")) | AG43: =IF(AE43="","",COUNTIF($AE$7:$AE$103,AE43)) | AH43: =IF(U43="","",IF(AND(U43="도비",AE43="세입없음"),"OK",IF(AND(U43<>"도비",AE43<>""),"OK","@@"))) | AJ43: {=IF(C43="","",INDEX(구분표!$I$2:$I$300, MATCH(1,(구분표!$E$2:$E$300='1추일출'!B43)*(구분표!$F$2:$F$300='1추일출'!C43)*(구분표!$G$2:$G$300='1추일출'!A43),0)))}
A44: =IFERROR(VLOOKUP($C44,구분표!$A$2:$C$300,2,FALSE),"") | B44: =IFERROR(VLOOKUP($C44,구분표!$A$2:$C$300,3,FALSE),"") | I44: =IF(D44="","",G44-H44) | L44: =IF(G44=0,H44+J44+K44,G44+J44+K44) -> 0 | O44: =IF(G44=0,H44+M44+N44,G44+M44+N44) -> 0 | P44: =IF(AND((L44=0),(O44>0)),"O",IF(AND((J44<0),(L44-O44<0)),"O","X")) -> X | V44: =IF($U44<>"도비",IF($S44="국도비","직접입력",SUM($J44:$K44)),) -> 0 | W44: =IF($U44="도비",SUM($J44:$K44),IF($S44="국도비","직접입력",SUM($J44:$K44)-$V44)) -> 0 | X44: =IF(SUM($J44:$K44)=SUM($V44:$W44),"OK","검토") -> OK | AA44: =IF($U44<>"도비",IF($S44="국도비","직접입력",SUM($M44:$N44)),) -> 0 | AB44: =IF($U44="도비",SUM(M44:N44),IF($S44="국도비","직접입력",SUM(M44:N44)-AA44)) -> 0 | AC44: =IF(SUM(M44:N44)=SUM(AA44:AB44),"OK","검토") -> OK | AE44: =IF(U44="","",IF(U44="도비","세입없음","직접입력")) | AG44: =IF(AE44="","",COUNTIF($AE$7:$AE$103,AE44)) | AH44: =IF(U44="","",IF(AND(U44="도비",AE44="세입없음"),"OK",IF(AND(U44<>"도비",AE44<>""),"OK","@@"))) | AJ44: {=IF(C44="","",INDEX(구분표!$I$2:$I$300, MATCH(1,(구분표!$E$2:$E$300='1추일출'!B44)*(구분표!$F$2:$F$300='1추일출'!C44)*(구분표!$G$2:$G$300='1추일출'!A44),0)))}
A45: =IFERROR(VLOOKUP($C45,구분표!$A$2:$C$300,2,FALSE),"") | B45: =IFERROR(VLOOKUP($C45,구분표!$A$2:$C$300,3,FALSE),"") | I45: =IF(D45="","",G45-H45) | L45: =IF(G45=0,H45+J45+K45,G45+J45+K45) -> 0 | O45: =IF(G45=0,H45+M45+N45,G45+M45+N45) -> 0 | P45: =IF(AND((L45=0),(O45>0)),"O",IF(AND((J45<0),(L45-O45<0)),"O","X")) -> X | V45: =IF($U45<>"도비",IF($S45="국도비","직접입력",SUM($J45:$K45)),) -> 0 | W45: =IF($U45="도비",SUM($J45:$K45),IF($S45="국도비","직접입력",SUM($J45:$K45)-$V45)) -> 0 | X45: =IF(SUM($J45:$K45)=SUM($V45:$W45),"OK","검토") -> OK | AA45: =IF($U45<>"도비",IF($S45="국도비","직접입력",SUM($M45:$N45)),) -> 0 | AB45: =IF($U45="도비",SUM(M45:N45),IF($S45="국도비","직접입력",SUM(M45:N45)-AA45)) -> 0 | AC45: =IF(SUM(M45:N45)=SUM(AA45:AB45),"OK","검토") -> OK | AE45: =IF(U45="","",IF(U45="도비","세입없음","직접입력")) | AG45: =IF(AE45="","",COUNTIF($AE$7:$AE$103,AE45)) | AH45: =IF(U45="","",IF(AND(U45="도비",AE45="세입없음"),"OK",IF(AND(U45<>"도비",AE45<>""),"OK","@@"))) | AJ45: {=IF(C45="","",INDEX(구분표!$I$2:$I$300, MATCH(1,(구분표!$E$2:$E$300='1추일출'!B45)*(구분표!$F$2:$F$300='1추일출'!C45)*(구분표!$G$2:$G$300='1추일출'!A45),0)))}
A46: =IFERROR(VLOOKUP($C46,구분표!$A$2:$C$300,2,FALSE),"") | B46: =IFERROR(VLOOKUP($C46,구분표!$A$2:$C$300,3,FALSE),"") | I46: =IF(D46="","",G46-H46) | L46: =IF(G46=0,H46+J46+K46,G46+J46+K46) -> 0 | O46: =IF(G46=0,H46+M46+N46,G46+M46+N46) -> 0 | P46: =IF(AND((L46=0),(O46>0)),"O",IF(AND((J46<0),(L46-O46<0)),"O","X")) -> X | V46: =IF($U46<>"도비",IF($S46="국도비","직접입력",SUM($J46:$K46)),) -> 0 | W46: =IF($U46="도비",SUM($J46:$K46),IF($S46="국도비","직접입력",SUM($J46:$K46)-$V46)) -> 0 | X46: =IF(SUM($J46:$K46)=SUM($V46:$W46),"OK","검토") -> OK | AA46: =IF($U46<>"도비",IF($S46="국도비","직접입력",SUM($M46:$N46)),) -> 0 | AB46: =IF($U46="도비",SUM(M46:N46),IF($S46="국도비","직접입력",SUM(M46:N46)-AA46)) -> 0 | AC46: =IF(SUM(M46:N46)=SUM(AA46:AB46),"OK","검토") -> OK | AE46: =IF(U46="","",IF(U46="도비","세입없음","직접입력")) | AG46: =IF(AE46="","",COUNTIF($AE$7:$AE$103,AE46)) | AH46: =IF(U46="","",IF(AND(U46="도비",AE46="세입없음"),"OK",IF(AND(U46<>"도비",AE46<>""),"OK","@@"))) | AJ46: {=IF(C46="","",INDEX(구분표!$I$2:$I$300, MATCH(1,(구분표!$E$2:$E$300='1추일출'!B46)*(구분표!$F$2:$F$300='1추일출'!C46)*(구분표!$G$2:$G$300='1추일출'!A46),0)))}
A47: (농정해양위원회) | G47: =SUM(G48:G54) -> 0 | H47: =SUM(H48:H54) -> 0 | I47: =SUM(I48:I54) -> 0 | J47: =SUM(J48:J54) -> 0 | K47: =SUM(K48:K54) -> 0 | L47: =SUM(L48:L54) -> 0 | M47: =SUM(M48:M54) -> 0 | N47: =SUM(N48:N54) -> 0 | O47: =SUM(O48:O54) -> 0 | V47: =IF($U47<>"도비",IF($S47="국도비","직접입력",SUM($J47:$K47)),) -> 0 | W47: =IF($U47="도비",SUM($J47:$K47),IF($S47="국도비","직접입력",SUM($J47:$K47)-$V47)) -> 0 | X47: =IF(SUM($J47:$K47)=SUM($V47:$W47),"OK","검토") -> OK | AA47: =IF($U47<>"도비",IF($S47="국도비","직접입력",SUM($M47:$N47)),) -> 0 | AB47: =IF($U47="도비",SUM(M47:N47),IF($S47="국도비","직접입력",SUM(M47:N47)-AA47)) -> 0 | AC47: =IF(SUM(M47:N47)=SUM(AA47:AB47),"OK","검토") -> OK | AE47: =IF(U47="","",IF(U47="도비","세입없음","직접입력")) | AG47: =IF(AE47="","",COUNTIF($AE$7:$AE$103,AE47)) | AH47: =IF(U47="","",IF(AND(U47="도비",AE47="세입없음"),"OK",IF(AND(U47<>"도비",AE47<>""),"OK","@@"))) | AJ47: {=IF(C47="","",INDEX(구분표!$I$2:$I$300, MATCH(1,(구분표!$E$2:$E$300='1추일출'!B47)*(구분표!$F$2:$F$300='1추일출'!C47)*(구분표!$G$2:$G$300='1추일출'!A47),0)))}
A48: =IFERROR(VLOOKUP($C48,구분표!$A$2:$C$300,2,FALSE),"") | B48: =IFERROR(VLOOKUP($C48,구분표!$A$2:$C$300,3,FALSE),"") | I48: =IF(D48="","",G48-H48) | L48: =IF(G48=0,H48+J48+K48,G48+J48+K48) -> 0 | O48: =IF(G48=0,H48+M48+N48,G48+M48+N48) -> 0 | P48: =IF(AND((L48=0),(O48>0)),"O",IF(AND((J48<0),(L48-O48<0)),"O","X")) -> X | V48: =IF($U48<>"도비",IF($S48="국도비","직접입력",SUM($J48:$K48)),) -> 0 | W48: =IF($U48="도비",SUM($J48:$K48),IF($S48="국도비","직접입력",SUM($J48:$K48)-$V48)) -> 0 | X48: =IF(SUM($J48:$K48)=SUM($V48:$W48),"OK","검토") -> OK | AA48: =IF($U48<>"도비",IF($S48="국도비","직접입력",SUM($M48:$N48)),) -> 0 | AB48: =IF($U48="도비",SUM(M48:N48),IF($S48="국도비","직접입력",SUM(M48:N48)-AA48)) -> 0 | AC48: =IF(SUM(M48:N48)=SUM(AA48:AB48),"OK","검토") -> OK | AE48: =IF(U48="","",IF(U48="도비","세입없음","직접입력")) | AG48: =IF(AE48="","",COUNTIF($AE$7:$AE$103,AE48)) | AH48: =IF(U48="","",IF(AND(U48="도비",AE48="세입없음"),"OK",IF(AND(U48<>"도비",AE48<>""),"OK","@@"))) | AJ48: {=IF(C48="","",INDEX(구분표!$I$2:$I$300, MATCH(1,(구분표!$E$2:$E$300='1추일출'!B48)*(구분표!$F$2:$F$300='1추일출'!C48)*(구분표!$G$2:$G$300='1추일출'!A48),0)))}
A49: =IFERROR(VLOOKUP($C49,구분표!$A$2:$C$300,2,FALSE),"") | B49: =IFERROR(VLOOKUP($C49,구분표!$A$2:$C$300,3,FALSE),"") | I49: =IF(D49="","",G49-H49) | L49: =IF(G49=0,H49+J49+K49,G49+J49+K49) -> 0 | O49: =IF(G49=0,H49+M49+N49,G49+M49+N49) -> 0 | P49: =IF(AND((L49=0),(O49>0)),"O",IF(AND((J49<0),(L49-O49<0)),"O","X")) -> X | V49: =IF($U49<>"도비",IF($S49="국도비","직접입력",SUM($J49:$K49)),) -> 0 | W49: =IF($U49="도비",SUM($J49:$K49),IF($S49="국도비","직접입력",SUM($J49:$K49)-$V49)) -> 0 | X49: =IF(SUM($J49:$K49)=SUM($V49:$W49),"OK","검토") -> OK | AA49: =IF($U49<>"도비",IF($S49="국도비","직접입력",SUM($M49:$N49)),) -> 0 | AB49: =IF($U49="도비",SUM(M49:N49),IF($S49="국도비","직접입력",SUM(M49:N49)-AA49)) -> 0 | AC49: =IF(SUM(M49:N49)=SUM(AA49:AB49),"OK","검토") -> OK | AE49: =IF(U49="","",IF(U49="도비","세입없음","직접입력")) | AG49: =IF(AE49="","",COUNTIF($AE$7:$AE$103,AE49)) | AH49: =IF(U49="","",IF(AND(U49="도비",AE49="세입없음"),"OK",IF(AND(U49<>"도비",AE49<>""),"OK","@@"))) | AJ49: {=IF(C49="","",INDEX(구분표!$I$2:$I$300, MATCH(1,(구분표!$E$2:$E$300='1추일출'!B49)*(구분표!$F$2:$F$300='1추일출'!C49)*(구분표!$G$2:$G$300='1추일출'!A49),0)))}
A50: =IFERROR(VLOOKUP($C50,구분표!$A$2:$C$300,2,FALSE),"") | B50: =IFERROR(VLOOKUP($C50,구분표!$A$2:$C$300,3,FALSE),"") | I50: =IF(D50="","",G50-H50) | L50: =IF(G50=0,H50+J50+K50,G50+J50+K50) -> 0 | O50: =IF(G50=0,H50+M50+N50,G50+M50+N50) -> 0 | P50: =IF(AND((L50=0),(O50>0)),"O",IF(AND((J50<0),(L50-O50<0)),"O","X")) -> X | V50: =IF($U50<>"도비",IF($S50="국도비","직접입력",SUM($J50:$K50)),) -> 0 | W50: =IF($U50="도비",SUM($J50:$K50),IF($S50="국도비","직접입력",SUM($J50:$K50)-$V50)) -> 0 | X50: =IF(SUM($J50:$K50)=SUM($V50:$W50),"OK","검토") -> OK | AA50: =IF($U50<>"도비",IF($S50="국도비","직접입력",SUM($M50:$N50)),) -> 0 | AB50: =IF($U50="도비",SUM(M50:N50),IF($S50="국도비","직접입력",SUM(M50:N50)-AA50)) -> 0 | AC50: =IF(SUM(M50:N50)=SUM(AA50:AB50),"OK","검토") -> OK | AE50: =IF(U50="","",IF(U50="도비","세입없음","직접입력")) | AG50: =IF(AE50="","",COUNTIF($AE$7:$AE$103,AE50)) | AH50: =IF(U50="","",IF(AND(U50="도비",AE50="세입없음"),"OK",IF(AND(U50<>"도비",AE50<>""),"OK","@@"))) | AJ50: {=IF(C50="","",INDEX(구분표!$I$2:$I$300, MATCH(1,(구분표!$E$2:$E$300='1추일출'!B50)*(구분표!$F$2:$F$300='1추일출'!C50)*(구분표!$G$2:$G$300='1추일출'!A50),0)))}
A51: =IFERROR(VLOOKUP($C51,구분표!$A$2:$C$300,2,FALSE),"") | B51: =IFERROR(VLOOKUP($C51,구분표!$A$2:$C$300,3,FALSE),"") | I51: =IF(D51="","",G51-H51) | L51: =IF(G51=0,H51+J51+K51,G51+J51+K51) -> 0 | O51: =IF(G51=0,H51+M51+N51,G51+M51+N51) -> 0 | P51: =IF(AND((L51=0),(O51>0)),"O",IF(AND((J51<0),(L51-O51<0)),"O","X")) -> X | V51: =IF($U51<>"도비",IF($S51="국도비","직접입력",SUM($J51:$K51)),) -> 0 | W51: =IF($U51="도비",SUM($J51:$K51),IF($S51="국도비","직접입력",SUM($J51:$K51)-$V51)) -> 0 | X51: =IF(SUM($J51:$K51)=SUM($V51:$W51),"OK","검토") -> OK | AA51: =IF($U51<>"도비",IF($S51="국도비","직접입력",SUM($M51:$N51)),) -> 0 | AB51: =IF($U51="도비",SUM(M51:N51),IF($S51="국도비","직접입력",SUM(M51:N51)-AA51)) -> 0 | AC51: =IF(SUM(M51:N51)=SUM(AA51:AB51),"OK","검토") -> OK | AE51: =IF(U51="","",IF(U51="도비","세입없음","직접입력")) | AG51: =IF(AE51="","",COUNTIF($AE$7:$AE$103,AE51)) | AH51: =IF(U51="","",IF(AND(U51="도비",AE51="세입없음"),"OK",IF(AND(U51<>"도비",AE51<>""),"OK","@@"))) | AJ51: {=IF(C51="","",INDEX(구분표!$I$2:$I$300, MATCH(1,(구분표!$E$2:$E$300='1추일출'!B51)*(구분표!$F$2:$F$300='1추일출'!C51)*(구분표!$G$2:$G$300='1추일출'!A51),0)))}
A52: =IFERROR(VLOOKUP($C52,구분표!$A$2:$C$300,2,FALSE),"") | B52: =IFERROR(VLOOKUP($C52,구분표!$A$2:$C$300,3,FALSE),"") | I52: =IF(D52="","",G52-H52) | L52: =IF(G52=0,H52+J52+K52,G52+J52+K52) -> 0 | O52: =IF(G52=0,H52+M52+N52,G52+M52+N52) -> 0 | P52: =IF(AND((L52=0),(O52>0)),"O",IF(AND((J52<0),(L52-O52<0)),"O","X")) -> X | V52: =IF($U52<>"도비",IF($S52="국도비","직접입력",SUM($J52:$K52)),) -> 0 | W52: =IF($U52="도비",SUM($J52:$K52),IF($S52="국도비","직접입력",SUM($J52:$K52)-$V52)) -> 0 | X52: =IF(SUM($J52:$K52)=SUM($V52:$W52),"OK","검토") -> OK | AA52: =IF($U52<>"도비",IF($S52="국도비","직접입력",SUM($M52:$N52)),) -> 0 | AB52: =IF($U52="도비",SUM(M52:N52),IF($S52="국도비","직접입력",SUM(M52:N52)-AA52)) -> 0 | AC52: =IF(SUM(M52:N52)=SUM(AA52:AB52),"OK","검토") -> OK | AE52: =IF(U52="","",IF(U52="도비","세입없음","직접입력")) | AG52: =IF(AE52="","",COUNTIF($AE$7:$AE$103,AE52)) | AH52: =IF(U52="","",IF(AND(U52="도비",AE52="세입없음"),"OK",IF(AND(U52<>"도비",AE52<>""),"OK","@@"))) | AJ52: {=IF(C52="","",INDEX(구분표!$I$2:$I$300, MATCH(1,(구분표!$E$2:$E$300='1추일출'!B52)*(구분표!$F$2:$F$300='1추일출'!C52)*(구분표!$G$2:$G$300='1추일출'!A52),0)))}
A53: =IFERROR(VLOOKUP($C53,구분표!$A$2:$C$300,2,FALSE),"") | B53: =IFERROR(VLOOKUP($C53,구분표!$A$2:$C$300,3,FALSE),"") | I53: =IF(D53="","",G53-H53) | L53: =IF(G53=0,H53+J53+K53,G53+J53+K53) -> 0 | O53: =IF(G53=0,H53+M53+N53,G53+M53+N53) -> 0 | P53: =IF(AND((L53=0),(O53>0)),"O",IF(AND((J53<0),(L53-O53<0)),"O","X")) -> X | V53: =IF($U53<>"도비",IF($S53="국도비","직접입력",SUM($J53:$K53)),) -> 0 | W53: =IF($U53="도비",SUM($J53:$K53),IF($S53="국도비","직접입력",SUM($J53:$K53)-$V53)) -> 0 | X53: =IF(SUM($J53:$K53)=SUM($V53:$W53),"OK","검토") -> OK | AA53: =IF($U53<>"도비",IF($S53="국도비","직접입력",SUM($M53:$N53)),) -> 0 | AB53: =IF($U53="도비",SUM(M53:N53),IF($S53="국도비","직접입력",SUM(M53:N53)-AA53)) -> 0 | AC53: =IF(SUM(M53:N53)=SUM(AA53:AB53),"OK","검토") -> OK | AE53: =IF(U53="","",IF(U53="도비","세입없음","직접입력")) | AG53: =IF(AE53="","",COUNTIF($AE$7:$AE$103,AE53)) | AH53: =IF(U53="","",IF(AND(U53="도비",AE53="세입없음"),"OK",IF(AND(U53<>"도비",AE53<>""),"OK","@@"))) | AJ53: {=IF(C53="","",INDEX(구분표!$I$2:$I$300, MATCH(1,(구분표!$E$2:$E$300='1추일출'!B53)*(구분표!$F$2:$F$300='1추일출'!C53)*(구분표!$G$2:$G$300='1추일출'!A53),0)))}
A54: =IFERROR(VLOOKUP($C54,구분표!$A$2:$C$300,2,FALSE),"") | B54: =IFERROR(VLOOKUP($C54,구분표!$A$2:$C$300,3,FALSE),"") | I54: =IF(D54="","",G54-H54) | L54: =IF(G54=0,H54+J54+K54,G54+J54+K54) -> 0 | O54: =IF(G54=0,H54+M54+N54,G54+M54+N54) -> 0 | P54: =IF(AND((L54=0),(O54>0)),"O",IF(AND((J54<0),(L54-O54<0)),"O","X")) -> X | V54: =IF($U54<>"도비",IF($S54="국도비","직접입력",SUM($J54:$K54)),) -> 0 | W54: =IF($U54="도비",SUM($J54:$K54),IF($S54="국도비","직접입력",SUM($J54:$K54)-$V54)) -> 0 | X54: =IF(SUM($J54:$K54)=SUM($V54:$W54),"OK","검토") -> OK | AA54: =IF($U54<>"도비",IF($S54="국도비","직접입력",SUM($M54:$N54)),) -> 0 | AB54: =IF($U54="도비",SUM(M54:N54),IF($S54="국도비","직접입력",SUM(M54:N54)-AA54)) -> 0 | AC54: =IF(SUM(M54:N54)=SUM(AA54:AB54),"OK","검토") -> OK | AE54: =IF(U54="","",IF(U54="도비","세입없음","직접입력")) | AG54: =IF(AE54="","",COUNTIF($AE$7:$AE$103,AE54)) | AH54: =IF(U54="","",IF(AND(U54="도비",AE54="세입없음"),"OK",IF(AND(U54<>"도비",AE54<>""),"OK","@@"))) | AJ54: {=IF(C54="","",INDEX(구분표!$I$2:$I$300, MATCH(1,(구분표!$E$2:$E$300='1추일출'!B54)*(구분표!$F$2:$F$300='1추일출'!C54)*(구분표!$G$2:$G$300='1추일출'!A54),0)))}
A55: (보건복지위원회) | G55: =SUM(G56:G65) -> 4017235 | H55: =SUM(H56:H65) -> 917235 | I55: =SUM(I56:I65) -> 3100000 | J55: =SUM(J56:J65) -> -1550000 | K55: =SUM(K56:K65) -> 2509571 | L55: =SUM(L56:L65) -> 4976806 | M55: =SUM(M60:M65) -> 0 | N55: =SUM(N60:N65) -> 0 | O55: =SUM(O60:O65) -> 3100000 | S55: 국도비 | V55: 911675 | W55: 47896 | X55: =IF(SUM($J55:$K55)=SUM($V55:$W55),"OK","검토") -> OK | AA55: =IF($U55<>"도비",IF($S55="국도비","직접입력",SUM($M55:$N55)),) -> 직접입력 | AB55: =IF($U55="도비",SUM(M55:N55),IF($S55="국도비","직접입력",SUM(M55:N55)-AA55)) -> 직접입력 | AC55: =IF(SUM(M55:N55)=SUM(AA55:AB55),"OK","검토") -> OK | AE55: =IF(U55="","",IF(U55="도비","세입없음","직접입력")) | AG55: =IF(AE55="","",COUNTIF($AE$7:$AE$103,AE55)) | AH55: =IF(U55="","",IF(AND(U55="도비",AE55="세입없음"),"OK",IF(AND(U55<>"도비",AE55<>""),"OK","@@"))) | AJ55: {=IF(C55="","",INDEX(구분표!$I$2:$I$300, MATCH(1,(구분표!$E$2:$E$300='1추일출'!B55)*(구분표!$F$2:$F$300='1추일출'!C55)*(구분표!$G$2:$G$300='1추일출'!A55),0)))}
A56: =IFERROR(VLOOKUP($C56,구분표!$A$2:$C$300,2,FALSE),"") -> 보건복지위원회 | B56: =IFERROR(VLOOKUP($C56,구분표!$A$2:$C$300,3,FALSE),"") -> 보건복지국 | C56: 노인복지과 | D56: 신규 | F56: 메르스 사망자 장례비용 지원(국비/지원) -메르스 사망자 장례비용 지원 | G56: 0 | H56: 0 | I56: =IF(D56="","",G56-H56) -> 0 | K56: 70947 | L56: =IF(G56=0,H56+J56+K56,G56+J56+K56) -> 70947 | O56: =IF(G56=0,H56+M56+N56,G56+M56+N56) -> 0 | P56: =IF(AND((L56=0),(O56>0)),"O",IF(AND((J56<0),(L56-O56<0)),"O","X")) -> X | Q56: 국비확정내시 ※질병관리본부 공중보건위기대응과 -1998(2015.7.14)호 | S56: 국도비 | U56: 국비 | V56: 70947 | W56: 0 | X56: =IF(SUM($J56:$K56)=SUM($V56:$W56),"OK","검토") -> OK | AA56: =IF($U56<>"도비",IF($S56="국도비","직접입력",SUM($M56:$N56)),) -> 직접입력 | AB56: =IF($U56="도비",SUM(M56:N56),IF($S56="국도비","직접입력",SUM(M56:N56)-AA56)) -> 직접입력 | AC56: =IF(SUM(M56:N56)=SUM(AA56:AB56),"OK","검토") -> OK | AE56: =IF(U56="","",IF(U56="도비","세입없음","직접입력")) -> 직접입력 | AG56: =IF(AE56="","",COUNTIF($AE$7:$AE$103,AE56)) -> 2 | AH56: =IF(U56="","",IF(AND(U56="도비",AE56="세입없음"),"OK",IF(AND(U56<>"도비",AE56<>""),"OK","@@"))) -> OK | AJ56: {=IF(C56="","",INDEX(구분표!$I$2:$I$300, MATCH(1,(구분표!$E$2:$E$300='1추일출'!B56)*(구분표!$F$2:$F$300='1추일출'!C56)*(구분표!$G$2:$G$300='1추일출'!A56),0)))} -> 0703
A57: =IFERROR(VLOOKUP($C57,구분표!$A$2:$C$300,2,FALSE),"") -> 보건복지위원회 | B57: =IFERROR(VLOOKUP($C57,구분표!$A$2:$C$300,3,FALSE),"") -> 보건복지국 | C57: 보건정책과 | D57: 신규 | F57: 선별진료소 운영기관 지원(국비/지원) -선별진료소 운영기관 지원 | G57: 0 | H57: 0 | I57: =IF(D57="","",G57-H57) -> 0 | K57: 1404016 | L57: =IF(G57=0,H57+J57+K57,G57+J57+K57) -> 1404016 | O57: =IF(G57=0,H57+M57+N57,G57+M57+N57) -> 0 | P57: =IF(AND((L57=0),(O57>0)),"O",IF(AND((J57<0),(L57-O57<0)),"O","X")) -> X | Q57: 국비확정내시 ※질병관리본부 공중보건위기대응과 -1950(2015.7.10)호 | S57: 국도비 | U57: 국비 | V57: 840728 | W57: 563288 | X57: =IF(SUM($J57:$K57)=SUM($V57:$W57),"OK","검토") -> OK | AA57: =IF($U57<>"도비",IF($S57="국도비","직접입력",SUM($M57:$N57)),) -> 직접입력 | AB57: =IF($U57="도비",SUM(M57:N57),IF($S57="국도비","직접입력",SUM(M57:N57)-AA57)) -> 직접입력 | AC57: =IF(SUM(M57:N57)=SUM(AA57:AB57),"OK","검토") -> OK | AE57: =IF(U57="","",IF(U57="도비","세입없음","직접입력")) -> 직접입력 | AG57: =IF(AE57="","",COUNTIF($AE$7:$AE$103,AE57)) -> 2 | AH57: =IF(U57="","",IF(AND(U57="도비",AE57="세입없음"),"OK",IF(AND(U57<>"도비",AE57<>""),"OK","@@"))) -> OK | AJ57: {=IF(C57="","",INDEX(구분표!$I$2:$I$300, MATCH(1,(구분표!$E$2:$E$300='1추일출'!B57)*(구분표!$F$2:$F$300='1추일출'!C57)*(구분표!$G$2:$G$300='1추일출'!A57),0)))} -> 0705
A58: =IFERROR(VLOOKUP($C58,구분표!$A$2:$C$300,2,FALSE),"") -> 보건복지위원회 | B58: =IFERROR(VLOOKUP($C58,구분표!$A$2:$C$300,3,FALSE),"") -> 보건복지국 | C58: 장애인복지과 | D58: 본예산 | E58: 355 | F58: 장애인사회활동지원(자체/지원) -중증장애인 사회활동지원 | G58: 621830 | H58: 621830 | I58: =IF(D58="","",G58-H58) -> 0 | K58: 516944 | L58: =IF(G58=0,H58+J58+K58,G58+J58+K58) -> 1138774 | O58: =IF(G58=0,H58+M58+N58,G58+M58+N58) -> 621830 | P58: =IF(AND((L58=0),(O58>0)),"O",IF(AND((J58<0),(L58-O58<0)),"O","X")) -> X | Q58: 당초 9개월분만 반영, 7월부터 지원대상 2급에서 3급 확대로 인한 증가된 사업량 반영 | S58: 도비 | U58: 도비 | V58: =IF($U58<>"도비",IF($S58="국도비","직접입력",SUM($J58:$K58)),) -> 0 | W58: =IF($U58="도비",SUM($J58:$K58),IF($S58="국도비","직접입력",SUM($J58:$K58)-$V58)) -> 516944 | X58: =IF(SUM($J58:$K58)=SUM($V58:$W58),"OK","검토") -> OK | AA58: =IF($U58<>"도비",IF($S58="국도비","직접입력",SUM($M58:$N58)),) -> 0 | AB58: =IF($U58="도비",SUM(M58:N58),IF($S58="국도비","직접입력",SUM(M58:N58)-AA58)) -> 0 | AC58: =IF(SUM(M58:N58)=SUM(AA58:AB58),"OK","검토") -> OK | AE58: =IF(U58="","",IF(U58="도비","세입없음","직접입력")) -> 세입없음 | AG58: =IF(AE58="","",COUNTIF($AE$7:$AE$103,AE58)) -> 7 | AH58: =IF(U58="","",IF(AND(U58="도비",AE58="세입없음"),"OK",IF(AND(U58<>"도비",AE58<>""),"OK","@@"))) -> OK | AJ58: {=IF(C58="","",INDEX(구분표!$I$2:$I$300, MATCH(1,(구분표!$E$2:$E$300='1추일출'!B58)*(구분표!$F$2:$F$300='1추일출'!C58)*(구분표!$G$2:$G$300='1추일출'!A58),0)))} -> 0704
A59: =IFERROR(VLOOKUP($C59,구분표!$A$2:$C$300,2,FALSE),"") -> 보건복지위원회 | B59: =IFERROR(VLOOKUP($C59,구분표!$A$2:$C$300,3,FALSE),"") -> 복지여성실 | C59: 사회복지담당관 | D59: 본예산 | E59: 509 | F59: 장애인사회활동지원(자체/지원) -중증장애인 사회활동지원 | G59: 295405 | H59: 295405 | I59: =IF(D59="","",G59-H59) -> 0 | K59: 417664 | L59: =IF(G59=0,H59+J59+K59,G59+J59+K59) -> 713069 | O59: =IF(G59=0,H59+M59+N59,G59+M59+N59) -> 295405 | P59: =IF(AND((L59=0),(O59>0)),"O",IF(AND((J59<0),(L59-O59<0)),"O","X")) -> X | Q59: 당초 9개월분만 반영, 7월부터 지원대상 2급에서 3급 확대로 인한 증가된 사업량 반영 | S59: 도비 | U59: 도비 | V59: =IF($U59<>"도비",IF($S59="국도비","직접입력",SUM($J59:$K59)),) -> 0 | W59: =IF($U59="도비",SUM($J59:$K59),IF($S59="국도비","직접입력",SUM($J59:$K59)-$V59)) -> 417664 | X59: =IF(SUM($J59:$K59)=SUM($V59:$W59),"OK","검토") -> OK | AA59: =IF($U59<>"도비",IF($S59="국도비","직접입력",SUM($M59:$N59)),) -> 0 | AB59: =IF($U59="도비",SUM(M59:N59),IF($S59="국도비","직접입력",SUM(M59:N59)-AA59)) -> 0 | AC59: =IF(SUM(M59:N59)=SUM(AA59:AB59),"OK","검토") -> OK | AE59: =IF(U59="","",IF(U59="도비","세입없음","직접입력")) -> 세입없음 | AG59: =IF(AE59="","",COUNTIF($AE$7:$AE$103,AE59)) -> 7 | AH59: =IF(U59="","",IF(AND(U59="도비",AE59="세입없음"),"OK",IF(AND(U59<>"도비",AE59<>""),"OK","@@"))) -> OK | AJ59: {=IF(C59="","",INDEX(구분표!$I$2:$I$300, MATCH(1,(구분표!$E$2:$E$300='1추일출'!B59)*(구분표!$F$2:$F$300='1추일출'!C59)*(구분표!$G$2:$G$300='1추일출'!A59),0)))} -> 0708
A60: =IFERROR(VLOOKUP($C60,구분표!$A$2:$C$300,2,FALSE),"") -> 보건복지위원회 | B60: =IFERROR(VLOOKUP($C60,구분표!$A$2:$C$300,3,FALSE),"") -> 보건복지국 | C60: 보건정책과 | D60: 1회추경 | E60: 204 | F60: 감염병 대책 방역물품 지원(자체/지원) -감염병 대책 비축물품 지원 | G60: 1000000 | H60: 0 | I60: =IF(D60="","",G60-H60) -> 1000000 | J60: -750000 | L60: =IF(G60=0,H60+J60+K60,G60+J60+K60) -> 250000 | O60: =IF(G60=0,H60+M60+N60,G60+M60+N60) -> 1000000 | P60: =IF(AND((L60=0),(O60>0)),"O",IF(AND((J60<0),(L60-O60<0)),"O","X")) -> O | S60: 도비 | U60: 도비 | V60: =IF($U60<>"도비",IF($S60="국도비","직접입력",SUM($J60:$K60)),) -> 0 | W60: =IF($U60="도비",SUM($J60:$K60),IF($S60="국도비","직접입력",SUM($J60:$K60)-$V60)) -> -750000 | X60: =IF(SUM($J60:$K60)=SUM($V60:$W60),"OK","검토") -> OK | AA60: =IF($U60<>"도비",IF($S60="국도비","직접입력",SUM($M60:$N60)),) -> 0 | AB60: =IF($U60="도비",SUM(M60:N60),IF($S60="국도비","직접입력",SUM(M60:N60)-AA60)) -> 0 | AC60: =IF(SUM(M60:N60)=SUM(AA60:AB60),"OK","검토") -> OK | AE60: =IF(U60="","",IF(U60="도비","세입없음","직접입력")) -> 세입없음 | AG60: =IF(AE60="","",COUNTIF($AE$7:$AE$103,AE60)) -> 7 | AH60: =IF(U60="","",IF(AND(U60="도비",AE60="세입없음"),"OK",IF(AND(U60<>"도비",AE60<>""),"OK","@@"))) -> OK | AJ60: {=IF(C60="","",INDEX(구분표!$I$2:$I$300, MATCH(1,(구분표!$E$2:$E$300='1추일출'!B60)*(구분표!$F$2:$F$300='1추일출'!C60)*(구분표!$G$2:$G$300='1추일출'!A60),0)))} -> 0705
A61: =IFERROR(VLOOKUP($C61,구분표!$A$2:$C$300,2,FALSE),"") -> 보건복지위원회 | B61: =IFERROR(VLOOKUP($C61,구분표!$A$2:$C$300,3,FALSE),"") -> 보건복지국 | C61: 보건정책과 | D61: 1회추경 | E61: 204 | F61: 감염병 대책 홍보(자체/직접) -감염병 대처방법, 행동요령 등 감염병 대처 홍보 | G61: 700000 | H61: 0 | I61: =IF(D61="","",G61-H61) -> 700000 | J61: -400000 | L61: =IF(G61=0,H61+J61+K61,G61+J61+K61) -> 300000 | O61: =IF(G61=0,H61+M61+N61,G61+M61+N61) -> 700000 | P61: =IF(AND((L61=0),(O61>0)),"O",IF(AND((J61<0),(L61-O61<0)),"O","X")) -> O | S61: 도비 | U61: 도비 | V61: =IF($U61<>"도비",IF($S61="국도비","직접입력",SUM($J61:$K61)),) -> 0 | W61: =IF($U61="도비",SUM($J61:$K61),IF($S61="국도비","직접입력",SUM($J61:$K61)-$V61)) -> -400000 | X61: =IF(SUM($J61:$K61)=SUM($V61:$W61),"OK","검토") -> OK | AA61: =IF($U61<>"도비",IF($S61="국도비","직접입력",SUM($M61:$N61)),) -> 0 | AB61: =IF($U61="도비",SUM(M61:N61),IF($S61="국도비","직접입력",SUM(M61:N61)-AA61)) -> 0 | AC61: =IF(SUM(M61:N61)=SUM(AA61:AB61),"OK","검토") -> OK | AE61: =IF(U61="","",IF(U61="도비","세입없음","직접입력")) -> 세입없음 | AG61: =IF(AE61="","",COUNTIF($AE$7:$AE$103,AE61)) -> 7 | AH61: =IF(U61="","",IF(AND(U61="도비",AE61="세입없음"),"OK",IF(AND(U61<>"도비",AE61<>""),"OK","@@"))) -> OK | AJ61: {=IF(C61="","",INDEX(구분표!$I$2:$I$300, MATCH(1,(구분표!$E$2:$E$300='1추일출'!B61)*(구분표!$F$2:$F$300='1추일출'!C61)*(구분표!$G$2:$G$300='1추일출'!A61),0)))} -> 0705
A62: =IFERROR(VLOOKUP($C62,구분표!$A$2:$C$300,2,FALSE),"") -> 보건복지위원회 | B62: =IFERROR(VLOOKUP($C62,구분표!$A$2:$C$300,3,FALSE),"") -> 보건복지국 | C62: 건강증진과 | D62: 1회추경 | E62: 205 | F62: 경기도의료원 공공보건사업 지원(자체/직접) -감염병 치료 의료진 심리프로그램 등 지원 | G62: 1300000 | H62: 0 | I62: =IF(D62="","",G62-H62) -> 1300000 | J62: -300000 | L62: =IF(G62=0,H62+J62+K62,G62+J62+K62) -> 1000000 | O62: =IF(G62=0,H62+M62+N62,G62+M62+N62) -> 1300000 | P62: =IF(AND((L62=0),(O62>0)),"O",IF(AND((J62<0),(L62-O62<0)),"O","X")) -> O | Q62: 세부사업계획 수립 후 상임위와 협의 | S62: 도비 | U62: 도비 | V62: =IF($U62<>"도비",IF($S62="국도비","직접입력",SUM($J62:$K62)),) -> 0 | W62: =IF($U62="도비",SUM($J62:$K62),IF($S62="국도비","직접입력",SUM($J62:$K62)-$V62)) -> -300000 | X62: =IF(SUM($J62:$K62)=SUM($V62:$W62),"OK","검토") -> OK | AA62: =IF($U62<>"도비",IF($S62="국도비","직접입력",SUM($M62:$N62)),) -> 0 | AB62: =IF($U62="도비",SUM(M62:N62),IF($S62="국도비","직접입력",SUM(M62:N62)-AA62)) -> 0 | AC62: =IF(SUM(M62:N62)=SUM(AA62:AB62),"OK","검토") -> OK | AE62: =IF(U62="","",IF(U62="도비","세입없음","직접입력")) -> 세입없음 | AG62: =IF(AE62="","",COUNTIF($AE$7:$AE$103,AE62)) -> 7 | AH62: =IF(U62="","",IF(AND(U62="도비",AE62="세입없음"),"OK",IF(AND(U62<>"도비",AE62<>""),"OK","@@"))) -> OK | AJ62: {=IF(C62="","",INDEX(구분표!$I$2:$I$300, MATCH(1,(구분표!$E$2:$E$300='1추일출'!B62)*(구분표!$F$2:$F$300='1추일출'!C62)*(구분표!$G$2:$G$300='1추일출'!A62),0)))} -> 0706
A63: 보건복지위원회 | B63: 보건환경연구원 | C63: 총무과 | D63: 1회추경 | E63: 213 | F63: 연구원 신청사 건립사업 추진(자체/직접) -청사 이전·신축 기본계획 용역 | G63: 100000 | H63: 0 | I63: =IF(D63="","",G63-H63) -> 100000 | J63: -100000 | L63: =IF(G63=0,H63+J63+K63,G63+J63+K63) -> 0 | O63: =IF(G63=0,H63+M63+N63,G63+M63+N63) -> 100000 | P63: =IF(AND((L63=0),(O63>0)),"O",IF(AND((J63<0),(L63-O63<0)),"O","X")) -> O | Q63: 통계목 변경 연구용역비(207-01) → 시설비(401-01) | S63: 도비 | U63: 도비 | V63: =IF($U63<>"도비",IF($S63="국도비","직접입력",SUM($J63:$K63)),) -> 0 | W63: =IF($U63="도비",SUM($J63:$K63),IF($S63="국도비","직접입력",SUM($J63:$K63)-$V63)) -> -100000 | X63: =IF(SUM($J63:$K63)=SUM($V63:$W63),"OK","검토") -> OK | AA63: =IF($U63<>"도비",IF($S63="국도비","직접입력",SUM($M63:$N63)),) -> 0 | AB63: =IF($U63="도비",SUM(M63:N63),IF($S63="국도비","직접입력",SUM(M63:N63)-AA63)) -> 0 | AC63: =IF(SUM(M63:N63)=SUM(AA63:AB63),"OK","검토") -> OK | AE63: =IF(U63="","",IF(U63="도비","세입없음","직접입력")) -> 세입없음 | AG63: =IF(AE63="","",COUNTIF($AE$7:$AE$103,AE63)) -> 7 | AH63: =IF(U63="","",IF(AND(U63="도비",AE63="세입없음"),"OK",IF(AND(U63<>"도비",AE63<>""),"OK","@@"))) -> OK | AJ63: {=IF(C63="","",INDEX(구분표!$I$2:$I$300, MATCH(1,(구분표!$E$2:$E$300='1추일출'!B63)*(구분표!$F$2:$F$300='1추일출'!C63)*(구분표!$G$2:$G$300='1추일출'!A63),0)))} -> #N/A
A64: 보건복지위원회 | B64: 보건환경연구원 | C64: 총무과 | D64: 1회추경 | E64: 213 | F64: 연구원 신청사 건립사업 추진(자체/직접) -청사 이전·신축 기본계획 용역 | G64: 0 | H64: 0 | I64: =IF(D64="","",G64-H64) -> 0 | K64: 100000 | L64: =IF(G64=0,H64+J64+K64,G64+J64+K64) -> 100000 | O64: =IF(G64=0,H64+M64+N64,G64+M64+N64) -> 0 | P64: =IF(AND((L64=0),(O64>0)),"O",IF(AND((J64<0),(L64-O64<0)),"O","X")) -> X | Q64: 통계목 변경 연구용역비(207-01) → 시설비(401-01) | S64: 도비 | U64: 도비 | V64: =IF($U64<>"도비",IF($S64="국도비","직접입력",SUM($J64:$K64)),) -> 0 | W64: =IF($U64="도비",SUM($J64:$K64),IF($S64="국도비","직접입력",SUM($J64:$K64)-$V64)) -> 100000 | X64: =IF(SUM($J64:$K64)=SUM($V64:$W64),"OK","검토") -> OK | AA64: =IF($U64<>"도비",IF($S64="국도비","직접입력",SUM($M64:$N64)),) -> 0 | AB64: =IF($U64="도비",SUM(M64:N64),IF($S64="국도비","직접입력",SUM(M64:N64)-AA64)) -> 0 | AC64: =IF(SUM(M64:N64)=SUM(AA64:AB64),"OK","검토") -> OK | AE64: =IF(U64="","",IF(U64="도비","세입없음","직접입력")) -> 세입없음 | AG64: =IF(AE64="","",COUNTIF($AE$7:$AE$103,AE64)) -> 7 | AH64: =IF(U64="","",IF(AND(U64="도비",AE64="세입없음"),"OK",IF(AND(U64<>"도비",AE64<>""),"OK","@@"))) -> OK | AJ64: {=IF(C64="","",INDEX(구분표!$I$2:$I$300, MATCH(1,(구분표!$E$2:$E$300='1추일출'!B64)*(구분표!$F$2:$F$300='1추일출'!C64)*(구분표!$G$2:$G$300='1추일출'!A64),0)))} -> #N/A
A65: =IFERROR(VLOOKUP($C65,구분표!$A$2:$C$300,2,FALSE),"") | B65: =IFERROR(VLOOKUP($C65,구분표!$A$2:$C$300,3,FALSE),"") | I65: =IF(D65="","",G65-H65) | L65: =IF(G65=0,H65+J65+K65,G65+J65+K65) -> 0 | O65: =IF(G65=0,H65+M65+N65,G65+M65+N65) -> 0 | P65: =IF(AND((L65=0),(O65>0)),"O",IF(AND((J65<0),(L65-O65<0)),"O","X")) -> X | V65: =IF($U65<>"도비",IF($S65="국도비","직접입력",SUM($J65:$K65)),) -> 0 | W65: =IF($U65="도비",SUM($J65:$K65),IF($S65="국도비","직접입력",SUM($J65:$K65)-$V65)) -> 0 | X65: =IF(SUM($J65:$K65)=SUM($V65:$W65),"OK","검토") -> OK | AA65: =IF($U65<>"도비",IF($S65="국도비","직접입력",SUM($M65:$N65)),) -> 0 | AB65: =IF($U65="도비",SUM(M65:N65),IF($S65="국도비","직접입력",SUM(M65:N65)-AA65)) -> 0 | AC65: =IF(SUM(M65:N65)=SUM(AA65:AB65),"OK","검토") -> OK | AE65: =IF(U65="","",IF(U65="도비","세입없음","직접입력")) | AG65: =IF(AE65="","",COUNTIF($AE$7:$AE$103,AE65)) | AH65: =IF(U65="","",IF(AND(U65="도비",AE65="세입없음"),"OK",IF(AND(U65<>"도비",AE65<>""),"OK","@@"))) | AJ65: {=IF(C65="","",INDEX(구분표!$I$2:$I$300, MATCH(1,(구분표!$E$2:$E$300='1추일출'!B65)*(구분표!$F$2:$F$300='1추일출'!C65)*(구분표!$G$2:$G$300='1추일출'!A65),0)))}
A66: (건설교통위원회) | G66: =SUM(G67:G73) -> 0 | H66: =SUM(H67:H73) -> 0 | I66: =SUM(I67:I73) -> 0 | J66: =SUM(J67:J73) -> 0 | K66: =SUM(K67:K73) -> 0 | L66: =SUM(L67:L73) -> 0 | M66: =SUM(M67:M73) -> 0 | N66: =SUM(N67:N73) -> 0 | O66: =SUM(O67:O73) -> 0 | V66: =IF($U66<>"도비",IF($S66="국도비","직접입력",SUM($J66:$K66)),) -> 0 | W66: =IF($U66="도비",SUM($J66:$K66),IF($S66="국도비","직접입력",SUM($J66:$K66)-$V66)) -> 0 | X66: =IF(SUM($J66:$K66)=SUM($V66:$W66),"OK","검토") -> OK | AA66: =IF($U66<>"도비",IF($S66="국도비","직접입력",SUM($M66:$N66)),) -> 0 | AB66: =IF($U66="도비",SUM(M66:N66),IF($S66="국도비","직접입력",SUM(M66:N66)-AA66)) -> 0 | AC66: =IF(SUM(M66:N66)=SUM(AA66:AB66),"OK","검토") -> OK | AE66: =IF(U66="","",IF(U66="도비","세입없음","직접입력")) | AG66: =IF(AE66="","",COUNTIF($AE$7:$AE$103,AE66)) | AH66: =IF(U66="","",IF(AND(U66="도비",AE66="세입없음"),"OK",IF(AND(U66<>"도비",AE66<>""),"OK","@@"))) | AJ66: {=IF(C66="","",INDEX(구분표!$I$2:$I$300, MATCH(1,(구분표!$E$2:$E$300='1추일출'!B66)*(구분표!$F$2:$F$300='1추일출'!C66)*(구분표!$G$2:$G$300='1추일출'!A66),0)))}
A67: =IFERROR(VLOOKUP($C67,구분표!$A$2:$C$300,2,FALSE),"") | B67: =IFERROR(VLOOKUP($C67,구분표!$A$2:$C$300,3,FALSE),"") | I67: =IF(D67="","",G67-H67) | L67: =IF(G67=0,H67+J67+K67,G67+J67+K67) -> 0 | O67: =IF(G67=0,H67+M67+N67,G67+M67+N67) -> 0 | P67: =IF(AND((L67=0),(O67>0)),"O",IF(AND((J67<0),(L67-O67<0)),"O","X")) -> X | V67: =IF($U67<>"도비",IF($S67="국도비","직접입력",SUM($J67:$K67)),) -> 0 | W67: =IF($U67="도비",SUM($J67:$K67),IF($S67="국도비","직접입력",SUM($J67:$K67)-$V67)) -> 0 | X67: =IF(SUM($J67:$K67)=SUM($V67:$W67),"OK","검토") -> OK | AA67: =IF($U67<>"도비",IF($S67="국도비","직접입력",SUM($M67:$N67)),) -> 0 | AB67: =IF($U67="도비",SUM(M67:N67),IF($S67="국도비","직접입력",SUM(M67:N67)-AA67)) -> 0 | AC67: =IF(SUM(M67:N67)=SUM(AA67:AB67),"OK","검토") -> OK | AE67: =IF(U67="","",IF(U67="도비","세입없음","직접입력")) | AG67: =IF(AE67="","",COUNTIF($AE$7:$AE$103,AE67)) | AH67: =IF(U67="","",IF(AND(U67="도비",AE67="세입없음"),"OK",IF(AND(U67<>"도비",AE67<>""),"OK","@@"))) | AJ67: {=IF(C67="","",INDEX(구분표!$I$2:$I$300, MATCH(1,(구분표!$E$2:$E$300='1추일출'!B67)*(구분표!$F$2:$F$300='1추일출'!C67)*(구분표!$G$2:$G$300='1추일출'!A67),0)))}
A68: =IFERROR(VLOOKUP($C68,구분표!$A$2:$C$300,2,FALSE),"") | B68: =IFERROR(VLOOKUP($C68,구분표!$A$2:$C$300,3,FALSE),"") | I68: =IF(D68="","",G68-H68) | L68: =IF(G68=0,H68+J68+K68,G68+J68+K68) -> 0 | O68: =IF(G68=0,H68+M68+N68,G68+M68+N68) -> 0 | P68: =IF(AND((L68=0),(O68>0)),"O",IF(AND((J68<0),(L68-O68<0)),"O","X")) -> X | V68: =IF($U68<>"도비",IF($S68="국도비","직접입력",SUM($J68:$K68)),) -> 0 | W68: =IF($U68="도비",SUM($J68:$K68),IF($S68="국도비","직접입력",SUM($J68:$K68)-$V68)) -> 0 | X68: =IF(SUM($J68:$K68)=SUM($V68:$W68),"OK","검토") -> OK | AA68: =IF($U68<>"도비",IF($S68="국도비","직접입력",SUM($M68:$N68)),) -> 0 | AB68: =IF($U68="도비",SUM(M68:N68),IF($S68="국도비","직접입력",SUM(M68:N68)-AA68)) -> 0 | AC68: =IF(SUM(M68:N68)=SUM(AA68:AB68),"OK","검토") -> OK | AE68: =IF(U68="","",IF(U68="도비","세입없음","직접입력")) | AG68: =IF(AE68="","",COUNTIF($AE$7:$AE$103,AE68)) | AH68: =IF(U68="","",IF(AND(U68="도비",AE68="세입없음"),"OK",IF(AND(U68<>"도비",AE68<>""),"OK","@@"))) | AJ68: {=IF(C68="","",INDEX(구분표!$I$2:$I$300, MATCH(1,(구분표!$E$2:$E$300='1추일출'!B68)*(구분표!$F$2:$F$300='1추일출'!C68)*(구분표!$G$2:$G$300='1추일출'!A68),0)))}
