Workbook

Sheet 구분표
A2: 실과명 조정 | B2: 위원회명 조정 | C2: 실국명 조정 | E2: 실국명 | F2: 실과명 | G2: 위원회명 | H2: 정렬순서 | I2: 정렬코드
A3: 공보담당관 | B3: 의회운영위원회 | C3: 의회사무처 | E3: 의회사무처 | F3: 공보담당관 | G3: 의회운영위원회 | H3: 1 | I3: 0101
A4: 총무담당관 | B4: 의회운영위원회 | C4: 의회사무처 | E4: 의회사무처 | F4: 총무담당관 | G4: 의회운영위원회 | H4: 2 | I4: 0102
A5: 의정담당관 | B5: 의회운영위원회 | C5: 의회사무처 | E5: 의회사무처 | F5: 의정담당관 | G5: 의회운영위원회 | H5: 3 | I5: 0103
A6: 입법정책담당관 | B6: 의회운영위원회 | C6: 의회사무처 | E6: 의회사무처 | F6: 입법정책담당관 | G6: 의회운영위원회 | H6: 4 | I6: 0104
A7: 예산정책담당관 | B7: 의회운영위원회 | C7: 의회사무처 | E7: 의회사무처 | F7: 예산정책담당관 | G7: 의회운영위원회 | H7: 5 | I7: 0105
A8: 언론협력담당관 | B8: 의회운영위원회 | C8: 대변인 | E8: 대변인 | F8: 언론협력담당관 | G8: 의회운영위원회 | H8: 6 | I8: 0106
A9: 보도기획담당관 | B9: 의회운영위원회 | C9: 대변인 | E9: 대변인 | F9: 보도기획담당관 | G9: 의회운영위원회 | H9: 7 | I9: 0107
A10: 홍보담당관 | B10: 의회운영위원회 | C10: 소통기획관 | E10: 소통기획관 | F10: 홍보담당관 | G10: 의회운영위원회 | H10: 8 | I10: 0108
A11: 소통담당관 | B11: 의회운영위원회 | C11: 소통기획관 | E11: 소통기획관 | F11: 소통담당관 | G11: 의회운영위원회 | H11: 9 | I11: 0109
A12: 연정협력관 | B12: 의회운영위원회 | C12: 연정협력관 | E12: 연정협력관 | F12: 연정협력관 | G12: 의회운영위원회 | H12: 10 | I12: 0110
A13: 대외협력담당관 | B13: 의회운영위원회 | C13: 대외협력담당관 | E13: 대외협력담당관 | F13: 대외협력담당관 | G13: 의회운영위원회 | H13: 11 | I13: 0111
... A202: 도서관정책과 | B202: 여성가족교육협력위원회 | C202: 교육협력국 | E202: 교육협력국 | F202: 도서관정책과 | G202: 여성가족교육협력위원회 | H202: 200 | I202: 1012

Sheet 예결표지(세로)
A5: 2015년도 제1회 일반회계 및 특별회계 추가경정 세입·세출 예산안
A7: 예결위 계수조정 결과
A20: 예산결산특별위원회

Sheet 예결표지(가로)
A3: 2015년도 제1회 일반회계 및 특별회계 추가경정 세입·세출 예산안
A5: 예결위 계수조정 결과
A14: 예산결산특별위원회

Sheet 추경표지
A4: 예결위 계수조정 결과
B6: - 2015년도 제1회 일반회계 및 특별회계 추가경정 세입·세출 예산안
A12: 예산결산특별위원회

Sheet 1추검증
A1: 1회 추경 일반회계 검증 | H1: 1추 예비비 | J1: 조정액 | K1: =IFERROR(INDEX('1추일출'!AC6:AC63,MATCH("*예비비*",'1추일출'!F6:F63,0)),0) -> -10563288 | L1: 조정잔액 | M1: =I1+K1 -> -10563288
M2: (단위 : 천원)
A3: 구분 | B3: 상 임 위 | H3: 구분 | I3: 예 결 위
B4: 세입 | C4: 검증 | D4: 세출 | E4: 검증 | F4: 차액 | I4: 세입 | J4: 검증 | K4: 세출 | L4: 검증 | M4: 차액
A5: 전체 총계 | B5: =SUM(B6:B13)/2 -> 0 | C5: =IF(B5=SUM('1추일입'!J6:K6),"OK","@@") -> @@ | D5: =SUM(D6:D13)/2 -> 6806184 | E5: =IF(D5=SUM('1추일출'!J6:K6),"OK","@@") -> @@ | H5: 전체 총계 | I5: =SUM(I6:I13)/2 -> 0 | J5: =IF(I5=SUM('1추일입'!M6:N6),"OK","@@") -> @@ | K5: =SUM(K6:K13)/2 -> 0 | L5: =IF(K5=SUM('1추일출'!M6:N6),"OK","@@") -> @@
A6: 자체 계 | B6: =SUM(B7:B8) -> 0 | C6: =IF(B6='1추일입'!W6,"OK","@@") -> OK | D6: =SUM(D7:D8) -> 6242896 | E6: =IF(D6='1추일출'!X6,"OK","@@") -> OK | H6: 자체 계 | I6: =SUM(I7:I8) -> 0 | J6: =IF(I6='1추일입'!AB6,"OK","@@") -> OK | K6: =SUM(K7:K8) -> 0 | L6: =IF(K6='1추일출'!AC6,"OK","@@") -> OK
A7: 자체 도비 | B7: =SUMIFS('1추일입'!W6:W15,'1추일입'!U6:U15,"도비") -> 0 | D7: =SUMIFS('1추일출'!$X$6:$X$63,'1추일출'!$V$6:$V$63,"도비") -> 5679608 | H7: 자체 도비 | I7: =SUMIFS('1추일입'!AB6:AB15,'1추일입'!Z6:Z15,"국비") -> 0 | K7: =SUMIFS('1추일출'!$AC$6:$AC$63,'1추일출'!$AA$6:$AA$63,"도비") -> 0
A8: 의존 매칭 도비 | B8: =SUMIFS('1추일입'!W6:W15,'1추일입'!U6:U15,"국비")+SUMIFS('1추일입'!W6:W15,'1추일입'!U6:U15,"지특")+SUMIFS('1추일입'!W6:W15,'1추일입'!U6:U15,"기금")+SUMIFS('1추일입'!W6:W15,'1추일입'!U6:U15,"특교") -> 0 | D8: =SUMIFS('1추일출'!$X$6:$X$63,'1추일출'!$V$6:$V$63,"국비")+SUMIFS('1추일출'!$X$6:$X$63,'1추일출'!$V$6:$V$63,"지특")+SUMIFS('1추일출'!$X$6:$X$63,'1추일출'!$V$6:$V$63,"기금")+SUMIFS('1추일출'!$X$6:$X$63,'1추일출'!$V$6:$V$63,"특교") -> 563288 | H8: 의존 매칭 도비 | I8: =SUMIFS('1추일입'!AB6:AB15,'1추일입'!Z6:Z15,"국비")+SUMIFS('1추일입'!AB6:AB15,'1추일입'!Z6:Z15,"지특")+SUMIFS('1추일입'!AB6:AB15,'1추일입'!Z6:Z15,"기금")+SUMIFS('1추일입'!AB6:AB15,'1추일입'!Z6:Z15,"특교") -> 0 | K8: =SUMIFS('1추일출'!$AC$6:$AC$63,'1추일출'!$AA$6:$AA$63,"국비")+SUMIFS('1추일출'!$AC$6:$AC$63,'1추일출'!$AA$6:$AA$63,"지특")+SUMIFS('1추일출'!$AC$6:$AC$63,'1추일출'!$AA$6:$AA$63,"기금")+SUMIFS('1추일출'!$AC$6:$AC$63,'1추일출'!$AA$6:$AA$63,"특교") -> 0
A9: 의존 계 | B9: =SUM(B10:B13) -> 0 | C9: =IF(B9='1추일입'!V6,"OK","@@") -> @@ | D9: =SUM(D10:D13) -> 563288 | E9: =IF(D9='1추일출'!W6,"OK","@@") -> @@ | F9: =SUM(F10:F13) -> 563288 | H9: 의존 계 | I9: =SUM(I10:I13) -> 0 | J9: =IF(I9='1추일입'!V6,"OK","@@") -> @@ | K9: =SUM(K10:K13) -> 0 | L9: =IF(K9='1추일출'!AB6,"OK","@@") -> @@ | M9: =SUM(M10:M13) -> 0
A10: 국비 | B10: =SUMIFS('1추일입'!$W$6:$W$15,'1추일입'!$U$6:$U$15,'1추검증'!A10) -> 0 | D10: =SUMIFS('1추일출'!$X$6:$X$63,'1추일출'!$V$6:$V$63,'1추검증'!A10) -> 563288 | F10: =D10-B10 -> 563288 | H10: 국비 | I10: =SUMIFS('1추일입'!$AB$6:$AB$15,'1추일입'!$Z$6:$Z$15,'1추검증'!H10) -> 0 | K10: =SUMIFS('1추일출'!$AC$6:$AC$63,'1추일출'!$AA$6:$AA$63,'1추검증'!H10) -> 0 | M10: =K10-I10 -> 0
A11: 지특 | B11: =SUMIFS('1추일입'!$W$6:$W$15,'1추일입'!$U$6:$U$15,'1추검증'!A11) -> 0 | D11: =SUMIFS('1추일출'!$X$6:$X$63,'1추일출'!$V$6:$V$63,'1추검증'!A11) -> 0 | F11: =D11-B11 -> 0 | H11: 지특 | I11: =SUMIFS('1추일입'!$AB$6:$AB$15,'1추일입'!$Z$6:$Z$15,'1추검증'!H11) -> 0 | K11: =SUMIFS('1추일출'!$AC$6:$AC$63,'1추일출'!$AA$6:$AA$63,'1추검증'!H11) -> 0 | M11: =K11-I11 -> 0
A12: 기금 | B12: =SUMIFS('1추일입'!$W$6:$W$15,'1추일입'!$U$6:$U$15,'1추검증'!A12) -> 0 | D12: =SUMIFS('1추일출'!$X$6:$X$63,'1추일출'!$V$6:$V$63,'1추검증'!A12) -> 0 | F12: =D12-B12 -> 0 | H12: 기금 | I12: =SUMIFS('1추일입'!$AB$6:$AB$15,'1추일입'!$Z$6:$Z$15,'1추검증'!H12) -> 0 | K12: =SUMIFS('1추일출'!$AC$6:$AC$63,'1추일출'!$AA$6:$AA$63,'1추검증'!H12) -> 0 | M12: =K12-I12 -> 0
A13: 특교 | B13: =SUMIFS('1추일입'!$W$6:$W$15,'1추일입'!$U$6:$U$15,'1추검증'!A13) -> 0 | D13: =SUMIFS('1추일출'!$X$6:$X$63,'1추일출'!$V$6:$V$63,'1추검증'!A13) -> 0 | F13: =D13-B13 -> 0 | H13: 특교 | I13: =SUMIFS('1추일입'!$AB$6:$AB$15,'1추일입'!$Z$6:$Z$15,'1추검증'!H13) -> 0 | K13: =SUMIFS('1추일출'!$AC$6:$AC$63,'1추일출'!$AA$6:$AA$63,'1추검증'!H13) -> 0 | M13: =K13-I13 -> 0

Sheet 1추총괄표
A1: 2015년도 제1회 추경 일반 및 특별회계 세입·세출 예산안(전체예산총괄)
A3: □ 총 괄 | C3: 세입예산 증감 | D3: =SUM(C7:D7) -> 911675 | E3: 세출예산증감 | F3: =SUM(E7:F7) -> 911675
E4: ※ 예비비 증감 | F4: -10563288 | G4: (단위 : 천원)
A5: 구 분 | B5: 집행부제출(안) | C5: 세입예산(안) | E5: 세출예산(안) | G5: 수정예산(안) | I5: ※ 예산안 증감현황
C6: 감 액 | D6: 증 액 | E6: 감 액 | F6: 증 액 | I6: 구 분 | J6: 세입 | K6: 세출 | L6: 예비비 | M6: 비고(???)
A7: 합 계 | B7: =SUM(B8:B17) -> 738556856 | C7: =SUM(C8:C17) -> 0 | D7: =SUM(D8:D17) -> 911675 | E7: =SUM(E8:E17) -> -17696788 | F7: =SUM(F8:F17) -> 18608463 | G7: =SUM(G8:G17) -> 739468531 | I7: 합 계 | J7: =SUM(J8:J9) -> 911675 | K7: =SUM(K8:K9) -> 911675 | L7: =J7-K7 -> 0
A8: 의회운영위원회 | B8: =C31 -> 0 | C8: =SUMIFS('1추일입'!$M$6:$M$15,'1추일입'!$A$6:$A$15,'1추총괄표'!$A8)+SUMIFS('1추특입'!$M$6:$M$100,'1추특입'!$A$6:$A$100,'1추총괄표'!$A8) -> 0 | D8: =SUMIFS('1추일입'!$N$6:$N$15,'1추일입'!$A$6:$A$15,'1추총괄표'!$A8)+SUMIFS('1추특입'!$N$6:$N$100,'1추특입'!$A$6:$A$100,'1추총괄표'!$A8) -> 0 | E8: =SUMIFS('1추일출'!M$6:M$63,'1추일출'!$A$6:$A$63,'1추총괄표'!$A8)+SUMIFS('1추특출'!M$6:M$100,'1추특출'!$A$6:$A$100,'1추총괄표'!$A8) -> 0 | F8: =SUMIFS('1추일출'!N$6:N$63,'1추일출'!$A$6:$A$63,'1추총괄표'!$A8)+SUMIFS('1추특출'!N$6:N$100,'1추특출'!$A$6:$A$100,'1추총괄표'!$A8) -> 0 | G8: =B8+E8+F8 -> 0 | I8: 일반회계 | J8: =SUM(C24:D24) -> 911675 | K8: =SUM(E24:F24) -> 911675 | L8: =J8-K8 -> 0 | M8: 예비비 증감 - 감액, + 증액에 입력
A9: 기획재정위원회 | B9: =C32 -> 193124967 | C9: =SUMIFS('1추일입'!$M$6:$M$15,'1추일입'!$A$6:$A$15,'1추총괄표'!$A9)+SUMIFS('1추특입'!$M$6:$M$100,'1추특입'!$A$6:$A$100,'1추총괄표'!$A9) -> 0 | D9: =SUMIFS('1추일입'!$N$6:$N$15,'1추일입'!$A$6:$A$15,'1추총괄표'!$A9)+SUMIFS('1추특입'!$N$6:$N$100,'1추특입'!$A$6:$A$100,'1추총괄표'!$A9) -> 0 | E9: =SUMIFS('1추일출'!M$6:M$63,'1추일출'!$A$6:$A$63,'1추총괄표'!$A9)+SUMIFS('1추특출'!M$6:M$100,'1추특출'!$A$6:$A$100,'1추총괄표'!$A9) -> -10563288 | F9: =SUMIFS('1추일출'!N$6:N$63,'1추일출'!$A$6:$A$63,'1추총괄표'!$A9)+SUMIFS('1추특출'!N$6:N$100,'1추특출'!$A$6:$A$100,'1추총괄표'!$A9) -> 200000 | G9: =B9+E9+F9 -> 182761679 | I9: 특별회계 | J9: =SUM(C25:D25) -> 0 | K9: =SUM(E25:F25) -> 0 | L9: =J9-K9 -> 0
A10: 경제과학기술위원회 | B10: =C33 -> 17940261 | C10: =SUMIFS('1추일입'!$M$6:$M$15,'1추일입'!$A$6:$A$15,'1추총괄표'!$A10)+SUMIFS('1추특입'!$M$6:$M$100,'1추특입'!$A$6:$A$100,'1추총괄표'!$A10) -> 0 | D10: =SUMIFS('1추일입'!$N$6:$N$15,'1추일입'!$A$6:$A$15,'1추총괄표'!$A10)+SUMIFS('1추특입'!$N$6:$N$100,'1추특입'!$A$6:$A$100,'1추총괄표'!$A10) -> 0 | E10: =SUMIFS('1추일출'!M$6:M$63,'1추일출'!$A$6:$A$63,'1추총괄표'!$A10)+SUMIFS('1추특출'!M$6:M$100,'1추특출'!$A$6:$A$100,'1추총괄표'!$A10) -> 0 | F10: =SUMIFS('1추일출'!N$6:N$63,'1추일출'!$A$6:$A$63,'1추총괄표'!$A10)+SUMIFS('1추특출'!N$6:N$100,'1추특출'!$A$6:$A$100,'1추총괄표'!$A10) -> 6000000 | G10: =B10+E10+F10 -> 23940261
A11: 안전행정위원회 | B11: =C34 -> 14615060 | C11: =SUMIFS('1추일입'!$M$6:$M$15,'1추일입'!$A$6:$A$15,'1추총괄표'!$A11)+SUMIFS('1추특입'!$M$6:$M$100,'1추특입'!$A$6:$A$100,'1추총괄표'!$A11) -> 0 | D11: =SUMIFS('1추일입'!$N$6:$N$15,'1추일입'!$A$6:$A$15,'1추총괄표'!$A11)+SUMIFS('1추특입'!$N$6:$N$100,'1추특입'!$A$6:$A$100,'1추총괄표'!$A11) -> 0 | E11: =SUMIFS('1추일출'!M$6:M$63,'1추일출'!$A$6:$A$63,'1추총괄표'!$A11)+SUMIFS('1추특출'!M$6:M$100,'1추특출'!$A$6:$A$100,'1추총괄표'!$A11) -> 0 | F11: =SUMIFS('1추일출'!N$6:N$63,'1추일출'!$A$6:$A$63,'1추총괄표'!$A11)+SUMIFS('1추특출'!N$6:N$100,'1추특출'!$A$6:$A$100,'1추총괄표'!$A11) -> 441500 | G11: =B11+E11+F11 -> 15056560
A12: 문화체육관광위원회 | B12: =C35 -> 21603000 | C12: =SUMIFS('1추일입'!$M$6:$M$15,'1추일입'!$A$6:$A$15,'1추총괄표'!$A12)+SUMIFS('1추특입'!$M$6:$M$100,'1추특입'!$A$6:$A$100,'1추총괄표'!$A12) -> 0 | D12: =SUMIFS('1추일입'!$N$6:$N$15,'1추일입'!$A$6:$A$15,'1추총괄표'!$A12)+SUMIFS('1추특입'!$N$6:$N$100,'1추특입'!$A$6:$A$100,'1추총괄표'!$A12) -> 0 | E12: =SUMIFS('1추일출'!M$6:M$63,'1추일출'!$A$6:$A$63,'1추총괄표'!$A12)+SUMIFS('1추특출'!M$6:M$100,'1추특출'!$A$6:$A$100,'1추총괄표'!$A12) -> -1290000 | F12: =SUMIFS('1추일출'!N$6:N$63,'1추일출'!$A$6:$A$63,'1추총괄표'!$A12)+SUMIFS('1추특출'!N$6:N$100,'1추특출'!$A$6:$A$100,'1추총괄표'!$A12) -> 2100000 | G12: =B12+E12+F12 -> 22413000
A13: 농정해양위원회 | B13: =C36 -> 14153954 | C13: =SUMIFS('1추일입'!$M$6:$M$15,'1추일입'!$A$6:$A$15,'1추총괄표'!$A13)+SUMIFS('1추특입'!$M$6:$M$100,'1추특입'!$A$6:$A$100,'1추총괄표'!$A13) -> 0 | D13: =SUMIFS('1추일입'!$N$6:$N$15,'1추일입'!$A$6:$A$15,'1추총괄표'!$A13)+SUMIFS('1추특입'!$N$6:$N$100,'1추특입'!$A$6:$A$100,'1추총괄표'!$A13) -> 0 | E13: =SUMIFS('1추일출'!M$6:M$63,'1추일출'!$A$6:$A$63,'1추총괄표'!$A13)+SUMIFS('1추특출'!M$6:M$100,'1추특출'!$A$6:$A$100,'1추총괄표'!$A13) -> -500000 | F13: =SUMIFS('1추일출'!N$6:N$63,'1추일출'!$A$6:$A$63,'1추총괄표'!$A13)+SUMIFS('1추특출'!N$6:N$100,'1추특출'!$A$6:$A$100,'1추총괄표'!$A13) -> 5061392 | G13: =B13+E13+F13 -> 18715346
A14: 보건복지위원회 | B14: =C37 -> 24847941 | C14: =SUMIFS('1추일입'!$M$6:$M$15,'1추일입'!$A$6:$A$15,'1추총괄표'!$A14)+SUMIFS('1추특입'!$M$6:$M$100,'1추특입'!$A$6:$A$100,'1추총괄표'!$A14) -> 0 | D14: =SUMIFS('1추일입'!$N$6:$N$15,'1추일입'!$A$6:$A$15,'1추총괄표'!$A14)+SUMIFS('1추특입'!$N$6:$N$100,'1추특입'!$A$6:$A$100,'1추총괄표'!$A14) -> 911675 | E14: =SUMIFS('1추일출'!M$6:M$63,'1추일출'!$A$6:$A$63,'1추총괄표'!$A14)+SUMIFS('1추특출'!M$6:M$100,'1추특출'!$A$6:$A$100,'1추총괄표'!$A14) -> -1500000 | F14: =SUMIFS('1추일출'!N$6:N$63,'1추일출'!$A$6:$A$63,'1추총괄표'!$A14)+SUMIFS('1추특출'!N$6:N$100,'1추특출'!$A$6:$A$100,'1추총괄표'!$A14) -> 4409571 | G14: =B14+E14+F14 -> 27757512
A15: 건설교통위원회 | B15: =C38 -> 14285000 | C15: =SUMIFS('1추일입'!$M$6:$M$15,'1추일입'!$A$6:$A$15,'1추총괄표'!$A15)+SUMIFS('1추특입'!$M$6:$M$100,'1추특입'!$A$6:$A$100,'1추총괄표'!$A15) -> 0 | D15: =SUMIFS('1추일입'!$N$6:$N$15,'1추일입'!$A$6:$A$15,'1추총괄표'!$A15)+SUMIFS('1추특입'!$N$6:$N$100,'1추특입'!$A$6:$A$100,'1추총괄표'!$A15) -> 0 | E15: =SUMIFS('1추일출'!M$6:M$63,'1추일출'!$A$6:$A$63,'1추총괄표'!$A15)+SUMIFS('1추특출'!M$6:M$100,'1추특출'!$A$6:$A$100,'1추총괄표'!$A15) -> -3843500 | F15: =SUMIFS('1추일출'!N$6:N$63,'1추일출'!$A$6:$A$63,'1추총괄표'!$A15)+SUMIFS('1추특출'!N$6:N$100,'1추특출'!$A$6:$A$100,'1추총괄표'!$A15) -> 196000 | G15: =B15+E15+F15 -> 10637500
A16: 도시환경위원회 | B16: =C39 -> 30077790 | C16: =SUMIFS('1추일입'!$M$6:$M$15,'1추일입'!$A$6:$A$15,'1추총괄표'!$A16)+SUMIFS('1추특입'!$M$6:$M$100,'1추특입'!$A$6:$A$100,'1추총괄표'!$A16) -> 0 | D16: =SUMIFS('1추일입'!$N$6:$N$15,'1추일입'!$A$6:$A$15,'1추총괄표'!$A16)+SUMIFS('1추특입'!$N$6:$N$100,'1추특입'!$A$6:$A$100,'1추총괄표'!$A16) -> 0 | E16: =SUMIFS('1추일출'!M$6:M$63,'1추일출'!$A$6:$A$63,'1추총괄표'!$A16)+SUMIFS('1추특출'!M$6:M$100,'1추특출'!$A$6:$A$100,'1추총괄표'!$A16) -> 0 | F16: =SUMIFS('1추일출'!N$6:N$63,'1추일출'!$A$6:$A$63,'1추총괄표'!$A16)+SUMIFS('1추특출'!N$6:N$100,'1추특출'!$A$6:$A$100,'1추총괄표'!$A16) -> 0 | G16: =B16+E16+F16 -> 30077790
A17: 여성가족교육협력위원회 | B17: =C40 -> 407908883 | C17: =SUMIFS('1추일입'!$M$6:$M$15,'1추일입'!$A$6:$A$15,'1추총괄표'!$A17)+SUMIFS('1추특입'!$M$6:$M$100,'1추특입'!$A$6:$A$100,'1추총괄표'!$A17) -> 0 | D17: =SUMIFS('1추일입'!$N$6:$N$15,'1추일입'!$A$6:$A$15,'1추총괄표'!$A17)+SUMIFS('1추특입'!$N$6:$N$100,'1추특입'!$A$6:$A$100,'1추총괄표'!$A17) -> 0 | E17: =SUMIFS('1추일출'!M$6:M$63,'1추일출'!$A$6:$A$63,'1추총괄표'!$A17)+SUMIFS('1추특출'!M$6:M$100,'1추특출'!$A$6:$A$100,'1추총괄표'!$A17) -> 0 | F17: =SUMIFS('1추일출'!N$6:N$63,'1추일출'!$A$6:$A$63,'1추총괄표'!$A17)+SUMIFS('1추특출'!N$6:N$100,'1추특출'!$A$6:$A$100,'1추총괄표'!$A17) -> 200000 | G17: =B17+E17+F17 -> 408108883
A19: □ 회계별 예산 총 규모
G20: (단위 : 천원)
A21: 구 분 | B21: 집행부제출(안) | C21: 세입예산(안) | E21: 세출예산(안) | G21: 수정예산(안) | I21: 세입기준
C22: 감 액 | D22: 증 액 | E22: 감 액 | F22: 증 액 | I22: 수정예산(안) | J22: 세출기준-세입기준
A23: 합 계 | B23: =SUM(B24:B25) -> 738556856 | C23: =SUM(C24:C25) -> 0 | D23: =SUM(D24:D25) -> 911675 | E23: =SUM(E24:E25) -> -17696788 | F23: =SUM(F24:F25) -> 18608463 | G23: =SUM(G24:G25) -> 739468531 | I23: =SUM(I24:I25) -> 739468531 | J23: =G23-I23 -> 0
A24: 일반회계 | B24: =D30 -> 738556856 | C24: ='1추일입'!M6 -> 0 | D24: ='1추일입'!N6 -> 911675 | E24: ='1추일출'!M6 -> -17696788 | F24: ='1추일출'!N6 -> 18608463 | G24: =B24+E24+F24 -> 739468531 | I24: =B24+C24+D24 -> 739468531 | J24: =G24-I24 -> 0
A25: 특별회계 | B25: =E30 -> 0 | C25: ='1추특입'!M6 -> 0 | D25: ='1추특입'!N6 -> 0 | E25: ='1추특출'!M6 -> 0 | F25: ='1추특출'!N6 -> 0 | G25: =B25+E25+F25 -> 0 | I25: =B25+C25+D25 -> 0 | J25: =G25-I25 -> 0
A28: ※ 회계별, 위원회별 집행부제출안
A29: 위원회명 | B29: 합계 | C29: 일반+기타 | D29: 일반회계 | E29: 기타특별회계 | F29: 공기업특별회계
A30: 합계 | B30: =SUM(B31:B40) -> 738556856 | C30: =SUM(C31:C40) -> 738556856 | D30: =SUM(D31:D40) -> 738556856 | E30: =SUM(E31:E40) -> 0 | F30: =SUM(F31:F40) -> 0
A31: 의회운영위원회 | B31: =SUM(D31:F31) -> 0 | C31: =D31+E31 -> 0 | D31: 0
A32: 기획재정위원회 | B32: =SUM(D32:F32) -> 193124967 | C32: =D32+E32 -> 193124967 | D32: 193124967
A33: 경제과학기술위원회 | B33: =SUM(D33:F33) -> 17940261 | C33: =D33+E33 -> 17940261 | D33: 17940261
A34: 안전행정위원회 | B34: =SUM(D34:F34) -> 14615060 | C34: =D34+E34 -> 14615060 | D34: 14615060
A35: 문화체육관광위원회 | B35: =SUM(D35:F35) -> 21603000 | C35: =D35+E35 -> 21603000 | D35: 21603000
A36: 농정해양위원회 | B36: =SUM(D36:F36) -> 14153954 | C36: =D36+E36 -> 14153954 | D36: 14153954
A37: 보건복지위원회 | B37: =SUM(D37:F37) -> 24847941 | C37: =D37+E37 -> 24847941 | D37: 24847941
A38: 건설교통위원회 | B38: =SUM(D38:F38) -> 14285000 | C38: =D38+E38 -> 14285000 | D38: 14285000
A39: 도시환경위원회 | B39: =SUM(D39:F39) -> 30077790 | C39: =D39+E39 -> 30077790 | D39: 30077790
A40: 여성가족교육협력위원회 | B40: =SUM(D40:F40) -> 407908883 | C40: =D40+E40 -> 407908883 | D40: 407908883
A42: 예비비 | B42: 6000000

Sheet 1추총괄표(실국)
A1: 2015년도 제1회 추경 일반 및 특별회계 세입·세출 예산안(전체예산총괄)
A2: □ 총괄(실국별)
D3: =SUM(C6:D6) -> 911675 | F3: =SUM(E6:F6) -> 911675 | G3: (단위 : 천원) | I3: (일반회계) | P3: (특별회계)
A4: 구 분 | B4: 집행부제출(안) | C4: 세입예산(안) | E4: 세출예산(안) | G4: 수정예산(안) | I4: 집행부제출(안) | J4: 세입예산(안) | L4: 세출예산(안) | N4: 수정예산(안) | P4: 집행부제출(안) | Q4: 세입예산(안) | S4: 세출예산(안) | U4: 수정예산(안)
C5: 감 액 | D5: 증 액 | E5: 감 액 | F5: 증 액 | J5: 감 액 | K5: 증 액 | L5: 감 액 | M5: 증 액 | Q5: 감 액 | R5: 증 액 | S5: 감 액 | T5: 증 액
A6: 합계 | B6: =SUM(B7:B36) -> 738556856 | C6: =SUM(C7:C36) -> 0 | D6: =SUM(D7:D36) -> 911675 | E6: =SUM(E7:E36) -> -17696788 | F6: =SUM(F7:F36) -> 18608463 | G6: =SUM(G7:G36) -> 739468531 | I6: =SUM(I7:I36) -> 738556856 | J6: =SUM(J7:J36) -> 0 | K6: =SUM(K7:K36) -> 911675 | L6: =SUM(L7:L36) -> -17696788 | M6: =SUM(M7:M36) -> 18608463 | N6: =SUM(N7:N36) -> 739468531 | P6: =SUM(P7:P36) -> 0 | Q6: =SUM(Q7:Q36) -> 0 | R6: =SUM(R7:R36) -> 0 | S6: =SUM(S7:S36) -> 0 | T6: =SUM(T7:T36) -> 0 | U6: =SUM(U7:U36) -> 0
A7: 감사관 | B7: =I7+P7 -> 0 | C7: =J7+Q7 -> 0 | D7: =K7+R7 -> 0 | E7: =L7+S7 -> 0 | F7: =M7+T7 -> 0 | G7: =B7+E7+F7 -> 0 | I7: =D48 -> 0 | J7: =SUMIFS('1추일입'!M$6:M$15,'1추일입'!$B$6:$B$15,'1추총괄표(실국)'!$A7) -> 0 | K7: =SUMIFS('1추일입'!N$6:N$15,'1추일입'!$B$6:$B$15,'1추총괄표(실국)'!$A7) -> 0 | L7: =SUMIFS('1추일출'!M$6:M$63,'1추일출'!$B$6:$B$63,'1추총괄표(실국)'!$A7) -> 0 | M7: =SUMIFS('1추일출'!N$6:N$63,'1추일출'!$B$6:$B$63,'1추총괄표(실국)'!$A7) -> 0 | N7: =I7+L7+M7 -> 0 | P7: =E48 -> 0 | Q7: =SUMIFS('1추특입'!M$6:M$50,'1추특입'!$B$6:$B$50,'1추총괄표(실국)'!$A7) -> 0 | R7: =SUMIFS('1추특입'!N$6:N$50,'1추특입'!$B$6:$B$50,'1추총괄표(실국)'!$A7) -> 0 | S7: =SUMIFS('1추특출'!M$6:M$40,'1추특출'!$B$6:$B$40,'1추총괄표(실국)'!$A7) -> 0 | T7: =SUMIFS('1추특출'!N$6:N$40,'1추특출'!$B$6:$B$40,'1추총괄표(실국)'!$A7) -> 0 | U7: =P7+S7+T7 -> 0
A8: 기획조정실 | B8: =I8+P8 -> 185572667 | C8: =J8+Q8 -> 0 | D8: =K8+R8 -> 0 | E8: =L8+S8 -> -10563288 | F8: =M8+T8 -> 200000 | G8: =B8+E8+F8 -> 175209379 | I8: =D49 -> 185572667 | J8: =SUMIFS('1추일입'!M$6:M$15,'1추일입'!$B$6:$B$15,'1추총괄표(실국)'!$A8) -> 0 | K8: =SUMIFS('1추일입'!N$6:N$15,'1추일입'!$B$6:$B$15,'1추총괄표(실국)'!$A8) -> 0 | L8: =SUMIFS('1추일출'!M$6:M$63,'1추일출'!$B$6:$B$63,'1추총괄표(실국)'!$A8) -> -10563288 | M8: =SUMIFS('1추일출'!N$6:N$63,'1추일출'!$B$6:$B$63,'1추총괄표(실국)'!$A8) -> 200000 | N8: =I8+L8+M8 -> 175209379 | P8: =E49 -> 0 | Q8: =SUMIFS('1추특입'!M$6:M$50,'1추특입'!$B$6:$B$50,'1추총괄표(실국)'!$A8) -> 0 | R8: =SUMIFS('1추특입'!N$6:N$50,'1추특입'!$B$6:$B$50,'1추총괄표(실국)'!$A8) -> 0 | S8: =SUMIFS('1추특출'!M$6:M$40,'1추특출'!$B$6:$B$40,'1추총괄표(실국)'!$A8) -> 0 | T8: =SUMIFS('1추특출'!N$6:N$40,'1추특출'!$B$6:$B$40,'1추총괄표(실국)'!$A8) -> 0 | U8: =P8+S8+T8 -> 0
A9: 도시주택실 | B9: =I9+P9 -> 8532790 | C9: =J9+Q9 -> 0 | D9: =K9+R9 -> 0 | E9: =L9+S9 -> 0 | F9: =M9+T9 -> 0 | G9: =B9+E9+F9 -> 8532790 | I9: =D50 -> 8532790 | J9: =SUMIFS('1추일입'!M$6:M$15,'1추일입'!$B$6:$B$15,'1추총괄표(실국)'!$A9) -> 0 | K9: =SUMIFS('1추일입'!N$6:N$15,'1추일입'!$B$6:$B$15,'1추총괄표(실국)'!$A9) -> 0 | L9: =SUMIFS('1추일출'!M$6:M$63,'1추일출'!$B$6:$B$63,'1추총괄표(실국)'!$A9) -> 0 | M9: =SUMIFS('1추일출'!N$6:N$63,'1추일출'!$B$6:$B$63,'1추총괄표(실국)'!$A9) -> 0 | N9: =I9+L9+M9 -> 8532790 | P9: =E50 -> 0 | Q9: =SUMIFS('1추특입'!M$6:M$50,'1추특입'!$B$6:$B$50,'1추총괄표(실국)'!$A9) -> 0 | R9: =SUMIFS('1추특입'!N$6:N$50,'1추특입'!$B$6:$B$50,'1추총괄표(실국)'!$A9) -> 0 | S9: =SUMIFS('1추특출'!M$6:M$40,'1추특출'!$B$6:$B$40,'1추총괄표(실국)'!$A9) -> 0 | T9: =SUMIFS('1추특출'!N$6:N$40,'1추특출'!$B$6:$B$40,'1추총괄표(실국)'!$A9) -> 0 | U9: =P9+S9+T9 -> 0
A10: 자치행정국 | B10: =I10+P10 -> 9603506 | C10: =J10+Q10 -> 0 | D10: =K10+R10 -> 0 | E10: =L10+S10 -> 0 | F10: =M10+T10 -> 0 | G10: =B10+E10+F10 -> 9603506 | I10: =D51 -> 9603506 | J10: =SUMIFS('1추일입'!M$6:M$15,'1추일입'!$B$6:$B$15,'1추총괄표(실국)'!$A10) -> 0 | K10: =SUMIFS('1추일입'!N$6:N$15,'1추일입'!$B$6:$B$15,'1추총괄표(실국)'!$A10) -> 0 | L10: =SUMIFS('1추일출'!M$6:M$63,'1추일출'!$B$6:$B$63,'1추총괄표(실국)'!$A10) -> 0 | M10: =SUMIFS('1추일출'!N$6:N$63,'1추일출'!$B$6:$B$63,'1추총괄표(실국)'!$A10) -> 0 | N10: =I10+L10+M10 -> 9603506 | P10: =E51 -> 0 | Q10: =SUMIFS('1추특입'!M$6:M$50,'1추특입'!$B$6:$B$50,'1추총괄표(실국)'!$A10) -> 0 | R10: =SUMIFS('1추특입'!N$6:N$50,'1추특입'!$B$6:$B$50,'1추총괄표(실국)'!$A10) -> 0 | S10: =SUMIFS('1추특출'!M$6:M$40,'1추특출'!$B$6:$B$40,'1추총괄표(실국)'!$A10) -> 0 | T10: =SUMIFS('1추특출'!N$6:N$40,'1추특출'!$B$6:$B$40,'1추총괄표(실국)'!$A10) -> 0 | U10: =P10+S10+T10 -> 0
A11: 교육협력국 | B11: =I11+P11 -> 123758756 | C11: =J11+Q11 -> 0 | D11: =K11+R11 -> 0 | E11: =L11+S11 -> 0 | F11: =M11+T11 -> 100000 | G11: =B11+E11+F11 -> 123858756 | I11: =D52 -> 123758756 | J11: =SUMIFS('1추일입'!M$6:M$15,'1추일입'!$B$6:$B$15,'1추총괄표(실국)'!$A11) -> 0 | K11: =SUMIFS('1추일입'!N$6:N$15,'1추일입'!$B$6:$B$15,'1추총괄표(실국)'!$A11) -> 0 | L11: =SUMIFS('1추일출'!M$6:M$63,'1추일출'!$B$6:$B$63,'1추총괄표(실국)'!$A11) -> 0 | M11: =SUMIFS('1추일출'!N$6:N$63,'1추일출'!$B$6:$B$63,'1추총괄표(실국)'!$A11) -> 100000 | N11: =I11+L11+M11 -> 123858756 | P11: =E52 -> 0 | Q11: =SUMIFS('1추특입'!M$6:M$50,'1추특입'!$B$6:$B$50,'1추총괄표(실국)'!$A11) -> 0 | R11: =SUMIFS('1추특입'!N$6:N$50,'1추특입'!$B$6:$B$50,'1추총괄표(실국)'!$A11) -> 0 | S11: =SUMIFS('1추특출'!M$6:M$40,'1추특출'!$B$6:$B$40,'1추총괄표(실국)'!$A11) -> 0 | T11: =SUMIFS('1추특출'!N$6:N$40,'1추특출'!$B$6:$B$40,'1추총괄표(실국)'!$A11) -> 0 | U11: =P11+S11+T11 -> 0
A12: 문화체육관광국 | B12: =I12+P12 -> 21603000 | C12: =J12+Q12 -> 0 | D12: =K12+R12 -> 0 | E12: =L12+S12 -> -1290000 | F12: =M12+T12 -> 2100000 | G12: =B12+E12+F12 -> 22413000 | I12: =D53 -> 21603000 | J12: =SUMIFS('1추일입'!M$6:M$15,'1추일입'!$B$6:$B$15,'1추총괄표(실국)'!$A12) -> 0 | K12: =SUMIFS('1추일입'!N$6:N$15,'1추일입'!$B$6:$B$15,'1추총괄표(실국)'!$A12) -> 0 | L12: =SUMIFS('1추일출'!M$6:M$63,'1추일출'!$B$6:$B$63,'1추총괄표(실국)'!$A12) -> -1290000 | M12: =SUMIFS('1추일출'!N$6:N$63,'1추일출'!$B$6:$B$63,'1추총괄표(실국)'!$A12) -> 2100000 | N12: =I12+L12+M12 -> 22413000 | P12: =E53 -> 0 | Q12: =SUMIFS('1추특입'!M$6:M$50,'1추특입'!$B$6:$B$50,'1추총괄표(실국)'!$A12) -> 0 | R12: =SUMIFS('1추특입'!N$6:N$50,'1추특입'!$B$6:$B$50,'1추총괄표(실국)'!$A12) -> 0 | S12: =SUMIFS('1추특출'!M$6:M$40,'1추특출'!$B$6:$B$40,'1추총괄표(실국)'!$A12) -> 0 | T12: =SUMIFS('1추특출'!N$6:N$40,'1추특출'!$B$6:$B$40,'1추총괄표(실국)'!$A12) -> 0 | U12: =P12+S12+T12 -> 0
A13: 농정해양국 | B13: =I13+P13 -> 11470364 | C13: =J13+Q13 -> 0 | D13: =K13+R13 -> 0 | E13: =L13+S13 -> 0 | F13: =M13+T13 -> 5061392 | G13: =B13+E13+F13 -> 16531756 | I13: =D54 -> 11470364 | J13: =SUMIFS('1추일입'!M$6:M$15,'1추일입'!$B$6:$B$15,'1추총괄표(실국)'!$A13) -> 0 | K13: =SUMIFS('1추일입'!N$6:N$15,'1추일입'!$B$6:$B$15,'1추총괄표(실국)'!$A13) -> 0 | L13: =SUMIFS('1추일출'!M$6:M$63,'1추일출'!$B$6:$B$63,'1추총괄표(실국)'!$A13) -> 0 | M13: =SUMIFS('1추일출'!N$6:N$63,'1추일출'!$B$6:$B$63,'1추총괄표(실국)'!$A13) -> 5061392 | N13: =I13+L13+M13 -> 16531756 | P13: =E54 -> 0 | Q13: =SUMIFS('1추특입'!M$6:M$50,'1추특입'!$B$6:$B$50,'1추총괄표(실국)'!$A13) -> 0 | R13: =SUMIFS('1추특입'!N$6:N$50,'1추특입'!$B$6:$B$50,'1추총괄표(실국)'!$A13) -> 0 | S13: =SUMIFS('1추특출'!M$6:M$40,'1추특출'!$B$6:$B$40,'1추총괄표(실국)'!$A13) -> 0 | T13: =SUMIFS('1추특출'!N$6:N$40,'1추특출'!$B$6:$B$40,'1추총괄표(실국)'!$A13) -> 0 | U13: =P13+S13+T13 -> 0
A14: 철도국 | B14: =I14+P14 -> 0 | C14: =J14+Q14 -> 0 | D14: =K14+R14 -> 0 | E14: =L14+S14 -> 0 | F14: =M14+T14 -> 100000 | G14: =B14+E14+F14 -> 100000 | I14: =D55 -> 0 | J14: =SUMIFS('1추일입'!M$6:M$15,'1추일입'!$B$6:$B$15,'1추총괄표(실국)'!$A14) -> 0 | K14: =SUMIFS('1추일입'!N$6:N$15,'1추일입'!$B$6:$B$15,'1추총괄표(실국)'!$A14) -> 0 | L14: =SUMIFS('1추일출'!M$6:M$63,'1추일출'!$B$6:$B$63,'1추총괄표(실국)'!$A14) -> 0 | M14: =SUMIFS('1추일출'!N$6:N$63,'1추일출'!$B$6:$B$63,'1추총괄표(실국)'!$A14) -> 100000 | N14: =I14+L14+M14 -> 100000 | P14: =E55 -> 0 | Q14: =SUMIFS('1추특입'!M$6:M$50,'1추특입'!$B$6:$B$50,'1추총괄표(실국)'!$A14) -> 0 | R14: =SUMIFS('1추특입'!N$6:N$50,'1추특입'!$B$6:$B$50,'1추총괄표(실국)'!$A14) -> 0 | S14: =SUMIFS('1추특출'!M$6:M$40,'1추특출'!$B$6:$B$40,'1추총괄표(실국)'!$A14) -> 0 | T14: =SUMIFS('1추특출'!N$6:N$40,'1추특출'!$B$6:$B$40,'1추총괄표(실국)'!$A14) -> 0 | U14: =P14+S14+T14 -> 0
A15: 연정협력관 | B15: =I15+P15 -> 0 | C15: =J15+Q15 -> 0 | D15: =K15+R15 -> 0 | E15: =L15+S15 -> 0 | F15: =M15+T15 -> 0 | G15: =B15+E15+F15 -> 0 | I15: =D56 -> 0 | J15: =SUMIFS('1추일입'!M$6:M$15,'1추일입'!$B$6:$B$15,'1추총괄표(실국)'!$A15) -> 0 | K15: =SUMIFS('1추일입'!N$6:N$15,'1추일입'!$B$6:$B$15,'1추총괄표(실국)'!$A15) -> 0 | L15: =SUMIFS('1추일출'!M$6:M$63,'1추일출'!$B$6:$B$63,'1추총괄표(실국)'!$A15) -> 0 | M15: =SUMIFS('1추일출'!N$6:N$63,'1추일출'!$B$6:$B$63,'1추총괄표(실국)'!$A15) -> 0 | N15: =I15+L15+M15 -> 0 | P15: =E56 -> 0 | Q15: =SUMIFS('1추특입'!M$6:M$50,'1추특입'!$B$6:$B$50,'1추총괄표(실국)'!$A15) -> 0 | R15: =SUMIFS('1추특입'!N$6:N$50,'1추특입'!$B$6:$B$50,'1추총괄표(실국)'!$A15) -> 0 | S15: =SUMIFS('1추특출'!M$6:M$40,'1추특출'!$B$6:$B$40,'1추총괄표(실국)'!$A15) -> 0 | T15: =SUMIFS('1추특출'!N$6:N$40,'1추특출'!$B$6:$B$40,'1추총괄표(실국)'!$A15) -> 0 | U15: =P15+S15+T15 -> 0
A16: 대외협력담당관 | B16: =I16+P16 -> 0 | C16: =J16+Q16 -> 0 | D16: =K16+R16 -> 0 | E16: =L16+S16 -> 0 | F16: =M16+T16 -> 0 | G16: =B16+E16+F16 -> 0 | I16: =D57 -> 0 | J16: =SUMIFS('1추일입'!M$6:M$15,'1추일입'!$B$6:$B$15,'1추총괄표(실국)'!$A16) -> 0 | K16: =SUMIFS('1추일입'!N$6:N$15,'1추일입'!$B$6:$B$15,'1추총괄표(실국)'!$A16) -> 0 | L16: =SUMIFS('1추일출'!M$6:M$63,'1추일출'!$B$6:$B$63,'1추총괄표(실국)'!$A16) -> 0 | M16: =SUMIFS('1추일출'!N$6:N$63,'1추일출'!$B$6:$B$63,'1추총괄표(실국)'!$A16) -> 0 | N16: =I16+L16+M16 -> 0 | P16: =E57 -> 0 | Q16: =SUMIFS('1추특입'!M$6:M$50,'1추특입'!$B$6:$B$50,'1추총괄표(실국)'!$A16) -> 0 | R16: =SUMIFS('1추특입'!N$6:N$50,'1추특입'!$B$6:$B$50,'1추총괄표(실국)'!$A16) -> 0 | S16: =SUMIFS('1추특출'!M$6:M$40,'1추특출'!$B$6:$B$40,'1추총괄표(실국)'!$A16) -> 0 | T16: =SUMIFS('1추특출'!N$6:N$40,'1추특출'!$B$6:$B$40,'1추총괄표(실국)'!$A16) -> 0 | U16: =P16+S16+T16 -> 0
A17: 보건복지국 | B17: =I17+P17 -> 23662291 | C17: =J17+Q17 -> 0 | D17: =K17+R17 -> 911675 | E17: =L17+S17 -> -1500000 | F17: =M17+T17 -> 3991907 | G17: =B17+E17+F17 -> 26154198 | I17: =D58 -> 23662291 | J17: =SUMIFS('1추일입'!M$6:M$15,'1추일입'!$B$6:$B$15,'1추총괄표(실국)'!$A17) -> 0 | K17: =SUMIFS('1추일입'!N$6:N$15,'1추일입'!$B$6:$B$15,'1추총괄표(실국)'!$A17) -> 911675 | L17: =SUMIFS('1추일출'!M$6:M$63,'1추일출'!$B$6:$B$63,'1추총괄표(실국)'!$A17) -> -1500000 | M17: =SUMIFS('1추일출'!N$6:N$63,'1추일출'!$B$6:$B$63,'1추총괄표(실국)'!$A17) -> 3991907 | N17: =I17+L17+M17 -> 26154198 | P17: =E58 -> 0 | Q17: =SUMIFS('1추특입'!M$6:M$50,'1추특입'!$B$6:$B$50,'1추총괄표(실국)'!$A17) -> 0 | R17: =SUMIFS('1추특입'!N$6:N$50,'1추특입'!$B$6:$B$50,'1추총괄표(실국)'!$A17) -> 0 | S17: =SUMIFS('1추특출'!M$6:M$40,'1추특출'!$B$6:$B$40,'1추총괄표(실국)'!$A17) -> 0 | T17: =SUMIFS('1추특출'!N$6:N$40,'1추특출'!$B$6:$B$40,'1추총괄표(실국)'!$A17) -> 0 | U17: =P17+S17+T17 -> 0
A18: 환경국 | B18: =I18+P18 -> 87000 | C18: =J18+Q18 -> 0 | D18: =K18+R18 -> 0 | E18: =L18+S18 -> 0 | F18: =M18+T18 -> 0 | G18: =B18+E18+F18 -> 87000 | I18: =D59 -> 87000 | J18: =SUMIFS('1추일입'!M$6:M$15,'1추일입'!$B$6:$B$15,'1추총괄표(실국)'!$A18) -> 0 | K18: =SUMIFS('1추일입'!N$6:N$15,'1추일입'!$B$6:$B$15,'1추총괄표(실국)'!$A18) -> 0 | L18: =SUMIFS('1추일출'!M$6:M$63,'1추일출'!$B$6:$B$63,'1추총괄표(실국)'!$A18) -> 0 | M18: =SUMIFS('1추일출'!N$6:N$63,'1추일출'!$B$6:$B$63,'1추총괄표(실국)'!$A18) -> 0 | N18: =I18+L18+M18 -> 87000 | P18: =E59 -> 0 | Q18: =SUMIFS('1추특입'!M$6:M$50,'1추특입'!$B$6:$B$50,'1추총괄표(실국)'!$A18) -> 0 | R18: =SUMIFS('1추특입'!N$6:N$50,'1추특입'!$B$6:$B$50,'1추총괄표(실국)'!$A18) -> 0 | S18: =SUMIFS('1추특출'!M$6:M$40,'1추특출'!$B$6:$B$40,'1추총괄표(실국)'!$A18) -> 0 | T18: =SUMIFS('1추특출'!N$6:N$40,'1추특출'!$B$6:$B$40,'1추총괄표(실국)'!$A18) -> 0 | U18: =P18+S18+T18 -> 0
... A36: 건설본부 | B36: =I36+P36 -> 0 | C36: =J36+Q36 -> 0 | D36: =K36+R36 -> 0 | E36: =L36+S36 -> 0 | F36: =M36+T36 -> 0 | G36: =B36+E36+F36 -> 0 | I36: =D77 -> 0 | J36: =SUMIFS('1추일입'!M$6:M$15,'1추일입'!$B$6:$B$15,'1추총괄표(실국)'!$A36) -> 0 | K36: =SUMIFS('1추일입'!N$6:N$15,'1추일입'!$B$6:$B$15,'1추총괄표(실국)'!$A36) -> 0 | L36: =SUMIFS('1추일출'!M$6:M$63,'1추일출'!$B$6:$B$63,'1추총괄표(실국)'!$A36) -> 0 | M36: =SUMIFS('1추일출'!N$6:N$63,'1추일출'!$B$6:$B$63,'1추총괄표(실국)'!$A36) -> 0 | N36: =I36+L36+M36 -> 0 | P36: =E77 -> 0 | Q36: =SUMIFS('1추특입'!M$6:M$50,'1추특입'!$B$6:$B$50,'1추총괄표(실국)'!$A36) -> 0 | R36: =SUMIFS('1추특입'!N$6:N$50,'1추특입'!$B$6:$B$50,'1추총괄표(실국)'!$A36) -> 0 | S36: =SUMIFS('1추특출'!M$6:M$40,'1추특출'!$B$6:$B$40,'1추총괄표(실국)'!$A36) -> 0 | T36: =SUMIFS('1추특출'!N$6:N$40,'1추특출'!$B$6:$B$40,'1추총괄표(실국)'!$A36) -> 0 | U36: =P36+S36+T36 -> 0
A39: ※ 예산안 증감현황
A40: 구 분 | B40: 세입 | C40: 세출 | D40: 예비비 | E40: 비고(???)
A41: 합 계 | B41: =SUM(B42:B43) -> 911675 | C41: =SUM(C42:C43) -> 911675 | D41: =B41-C41 -> 0
A42: 일반회계 | B42: =SUM(J6:K6) -> 911675 | C42: =SUM(L6:M6) -> 911675 | D42: =B42-C42 -> 0 | E42: 예비비 증감 - 감액, + 증액에 입력
A43: 특별회계 | B43: =SUM(Q6:R6) -> 0 | C43: =SUM(S6:T6) -> 0 | D43: =B43-C43 -> 0
A45: ※ 집행부제출안
A46: 구분 | B46: 합계 | C46: 일반+기타 | D46: 일반회계 | E46: 기타특별회계 | F46: 공기업특별회계
A47: 합계 | B47: =SUM(B48:B77) -> 738556856 | C47: =SUM(C48:C77) -> 738556856 | D47: =SUM(D48:D77) -> 738556856 | E47: =SUM(E48:E77) -> 0 | F47: =SUM(F48:F77) -> 0 | G47: =IF(D47='1추총괄표'!D30,"OK","@@") -> OK
A48: 감사관 | B48: =SUM(D48:F48) -> 0 | C48: =D48+E48 -> 0 | D48: 0
A49: 기획조정실 | B49: =SUM(D49:F49) -> 185572667 | C49: =D49+E49 -> 185572667 | D49: 185572667
A50: 도시주택실 | B50: =SUM(D50:F50) -> 8532790 | C50: =D50+E50 -> 8532790 | D50: 8532790
A51: 자치행정국 | B51: =SUM(D51:F51) -> 9603506 | C51: =D51+E51 -> 9603506 | D51: 9603506
A52: 교육협력국 | B52: =SUM(D52:F52) -> 123758756 | C52: =D52+E52 -> 123758756 | D52: 123758756
A53: 문화체육관광국 | B53: =SUM(D53:F53) -> 21603000 | C53: =D53+E53 -> 21603000 | D53: 21603000
A54: 농정해양국 | B54: =SUM(D54:F54) -> 11470364 | C54: =D54+E54 -> 11470364 | D54: 11470364
A55: 철도국 | B55: =SUM(D55:F55) -> 0 | C55: =D55+E55 -> 0 | D55: 0
A56: 연정협력관 | B56: =SUM(D56:F56) -> 0 | C56: =D56+E56 -> 0 | D56: 0
A57: 대외협력담당관 | B57: =SUM(D57:F57) -> 0 | C57: =D57+E57 -> 0 | D57: 0
A58: 보건복지국 | B58: =SUM(D58:F58) -> 23662291 | C58: =D58+E58 -> 23662291 | D58: 23662291
A59: 환경국 | B59: =SUM(D59:F59) -> 87000 | C59: =D59+E59 -> 87000 | D59: 87000
... A77: 건설본부 | B77: =SUM(D77:F77) -> 0 | C77: =D77+E77 -> 0 | D77: 0

Sheet 1추총괄표(위원회)
B1: 2015년도 제1회 추경 일반회계 세입·세출 총괄표
P3: (단위 : 천원) | AD3: (단위 : 천원)
B4: 위원회 및 실국명 | D4: 세입 | R4: 세입 | AF4: 국비 검증
D5: 제1회 추경 예산안 (가) | E5: 기정액 (나) | F5: 제1회 추경 증감액 (다=가-나) | G5: 상임위 조정액(라) | I5: 상임위 수정 예산안 (마=가or나+라) | J5: 상임위 재원별 증감액 | L5: 예결위 조정액(라) | N5: 예결위 수정 예산안 (마=가or나+라) | O5: 예결위 재원별 증감액 | R5: 제1회 추경 예산안 (가) | S5: 기정액 (나) | T5: 제1회 추경 증감액 (다=가-나) | U5: 상임위 조정액(라) | W5: 상임위 수정 예산안 (마=가or나+라) | X5: 상임위 재원별 증감액 | Z5: 예결위 조정액(라) | AB5: 예결위 수정 예산안 (마=가or나+라) | AC5: 예결위 재원별 증감액 | AF5: 상임위 | AH5: 예결위
G6: 감액 | H6: 증액 | J6: 국비 등 | K6: 도비 | L6: 감액 | M6: 증액 | O6: 국비 등 | P6: 도비 | U6: 감액 | V6: 증액 | X6: 국비 등 | Y6: 도비 | Z6: 감액 | AA6: 증액 | AC6: 국비 등 | AD6: 도비 | AF6: 검증 | AG6: 차액 | AH6: 검증 | AI6: 차액
B7: 합 계 | D7: =SUM(D8:D52)/2 -> 0 | E7: =SUM(E8:E52)/2 -> 0 | F7: =SUM(F8:F52)/2 -> 0 | G7: =SUM(G8:G52)/2 -> 0 | H7: =SUM(H8:H52)/2 -> 911675 | I7: =SUM(I8:I52)/2 -> 911675 | J7: =SUM(J8:J52)/2 -> 911675 | K7: =SUM(K8:K52)/2 -> 0 | ... P7: =SUM(P8:P52)/2 -> 0 | R7: =SUM(R8:R52)/2 -> 94068741 | S7: =SUM(S8:S52)/2 -> 63820741 | T7: =SUM(T8:T52)/2 -> 30248000 | U7: =SUM(U8:U52)/2 -> -5293500 | V7: =SUM(V8:V52)/2 -> 12448071 | W7: =SUM(W8:W52)/2 -> 101223312 | X7: =SUM(X8:X52)/2 -> 911675 | Y7: =SUM(Y8:Y52)/2 -> 6242896 | ... AD7: =SUM(AD8:AD52)/2 -> 0 | AF7: =IF(J7=X7,"OK","@@") -> OK | AG7: =J7-X7 -> 0 | AH7: =IF(O7=AC7,"OK","@@") -> @@ | AI7: =O7-AC7 -> 911675
B8: 의회운영위원회 | D8: =SUM(D9:D13) -> 0 | E8: =SUM(E9:E13) -> 0 | F8: =SUM(F9:F13) -> 0 | G8: =SUM(G9:G13) -> 0 | H8: =SUM(H9:H13) -> 0 | I8: =SUM(I9:I13) -> 0 | J8: =SUM(J9:J13) -> 0 | K8: =SUM(K9:K13) -> 0 | ... P8: =SUM(P9:P13) -> 0 | R8: =SUM(R9:R13) -> 0 | S8: =SUM(S9:S13) -> 0 | T8: =SUM(T9:T13) -> 0 | U8: =SUM(U9:U13) -> 0 | V8: =SUM(V9:V13) -> 0 | W8: =SUM(W9:W13) -> 0 | X8: =SUM(X9:X13) -> 0 | Y8: =SUM(Y9:Y13) -> 0 | ... AD8: =SUM(AD9:AD13) -> 0 | AF8: =IF(J8=X8,"OK","@@") -> OK | AG8: =J8-X8 -> 0 | AH8: =IF(O8=AC8,"OK","@@") -> OK | AI8: =O8-AC8 -> 0
A9: 의회운영위원회 | C9: 의회사무처 | D9: =SUMIFS('1추일입'!G$6:G$15,'1추일입'!$A$6:$A$15,'1추총괄표(위원회)'!$A9,'1추일입'!$B$6:$B$15,'1추총괄표(위원회)'!$C9) -> 0 | E9: =SUMIFS('1추일입'!H$6:H$15,'1추일입'!$A$6:$A$15,'1추총괄표(위원회)'!$A9,'1추일입'!$B$6:$B$15,'1추총괄표(위원회)'!$C9) -> 0 | F9: =D9-E9 -> 0 | G9: =SUMIFS('1추일입'!J$6:J$15,'1추일입'!$A$6:$A$15,'1추총괄표(위원회)'!$A9,'1추일입'!$B$6:$B$15,'1추총괄표(위원회)'!$C9) -> 0 | H9: =SUMIFS('1추일입'!K$6:K$15,'1추일입'!$A$6:$A$15,'1추총괄표(위원회)'!$A9,'1추일입'!$B$6:$B$15,'1추총괄표(위원회)'!$C9) -> 0 | I9: =SUMIFS('1추일입'!L$6:L$15,'1추일입'!$A$6:$A$15,'1추총괄표(위원회)'!$A9,'1추일입'!$B$6:$B$15,'1추총괄표(위원회)'!$C9) -> 0 | J9: =SUMIFS('1추일입'!V$6:V$15,'1추일입'!$A$6:$A$15,'1추총괄표(위원회)'!$A9,'1추일입'!$B$6:$B$15,'1추총괄표(위원회)'!$C9) -> 0 | K9: =SUMIFS('1추일입'!W$6:W$15,'1추일입'!$A$6:$A$15,'1추총괄표(위원회)'!$A9,'1추일입'!$B$6:$B$15,'1추총괄표(위원회)'!$C9) -> 0 | L9: =SUMIFS('1추일입'!M$6:M$15,'1추일입'!$A$6:$A$15,'1추총괄표(위원회)'!$A9,'1추일입'!$B$6:$B$15,'1추총괄표(위원회)'!$C9) -> 0 | M9: =SUMIFS('1추일입'!N$6:N$15,'1추일입'!$A$6:$A$15,'1추총괄표(위원회)'!$A9,'1추일입'!$B$6:$B$15,'1추총괄표(위원회)'!$C9) -> 0 | N9: =SUMIFS('1추일입'!O$6:O$15,'1추일입'!$A$6:$A$15,'1추총괄표(위원회)'!$A9,'1추일입'!$B$6:$B$15,'1추총괄표(위원회)'!$C9) -> 0 | O9: =SUMIFS('1추일입'!AA$6:AA$15,'1추일입'!$A$6:$A$15,'1추총괄표(위원회)'!$A9,'1추일입'!$B$6:$B$15,'1추총괄표(위원회)'!$C9) -> 0 | P9: =SUMIFS('1추일입'!AB$6:AB$15,'1추일입'!$A$6:$A$15,'1추총괄표(위원회)'!$A9,'1추일입'!$B$6:$B$15,'1추총괄표(위원회)'!$C9) -> 0 | R9: =SUMIFS('1추일출'!G$6:G$63,'1추일출'!$A$6:$A$63,'1추총괄표(위원회)'!$A9,'1추일출'!$B$6:$B$63,'1추총괄표(위원회)'!$C9) -> 0 | S9: =SUMIFS('1추일출'!H$6:H$63,'1추일출'!$A$6:$A$63,'1추총괄표(위원회)'!$A9,'1추일출'!$B$6:$B$63,'1추총괄표(위원회)'!$C9) -> 0 | T9: =R9-S9 -> 0 | U9: =SUMIFS('1추일출'!J$6:J$63,'1추일출'!$A$6:$A$63,'1추총괄표(위원회)'!$A9,'1추일출'!$B$6:$B$63,'1추총괄표(위원회)'!$C9) -> 0 | V9: =SUMIFS('1추일출'!K$6:K$63,'1추일출'!$A$6:$A$63,'1추총괄표(위원회)'!$A9,'1추일출'!$B$6:$B$63,'1추총괄표(위원회)'!$C9) -> 0 | W9: =SUMIFS('1추일출'!L$6:L$63,'1추일출'!$A$6:$A$63,'1추총괄표(위원회)'!$A9,'1추일출'!$B$6:$B$63,'1추총괄표(위원회)'!$C9) -> 0 | X9: =SUMIFS('1추일출'!W$6:W$63,'1추일출'!$A$6:$A$63,'1추총괄표(위원회)'!$A9,'1추일출'!$B$6:$B$63,'1추총괄표(위원회)'!$C9) -> 0 | Y9: =SUMIFS('1추일출'!X$6:X$63,'1추일출'!$A$6:$A$63,'1추총괄표(위원회)'!$A9,'1추일출'!$B$6:$B$63,'1추총괄표(위원회)'!$C9) -> 0 | Z9: =SUMIFS('1추일출'!M$6:M$63,'1추일출'!$A$6:$A$63,'1추총괄표(위원회)'!$A9,'1추일출'!$B$6:$B$63,'1추총괄표(위원회)'!$C9) -> 0 | AA9: =SUMIFS('1추일출'!N$6:N$63,'1추일출'!$A$6:$A$63,'1추총괄표(위원회)'!$A9,'1추일출'!$B$6:$B$63,'1추총괄표(위원회)'!$C9) -> 0 | AB9: =SUMIFS('1추일출'!O$6:O$63,'1추일출'!$A$6:$A$63,'1추총괄표(위원회)'!$A9,'1추일출'!$B$6:$B$63,'1추총괄표(위원회)'!$C9) -> 0 | AC9: =SUMIFS('1추일출'!AB$6:AB$63,'1추일출'!$A$6:$A$63,'1추총괄표(위원회)'!$A9,'1추일출'!$B$6:$B$63,'1추총괄표(위원회)'!C$9) -> 0 | AD9: =SUMIFS('1추일출'!AC$6:AC$63,'1추일출'!$A$6:$A$63,'1추총괄표(위원회)'!$A9,'1추일출'!$B$6:$B$63,'1추총괄표(위원회)'!D$9) -> 0 | AF9: =IF(J9=X9,"OK","@@") -> OK | AG9: =J9-X9 -> 0 | AH9: =IF(O9=AC9,"OK","@@") -> OK | AI9: =O9-AC9 -> 0
A10: 의회운영위원회 | C10: 소통기획관 | D10: =SUMIFS('1추일입'!G$6:G$15,'1추일입'!$A$6:$A$15,'1추총괄표(위원회)'!$A10,'1추일입'!$B$6:$B$15,'1추총괄표(위원회)'!$C10) -> 0 | E10: =SUMIFS('1추일입'!H$6:H$15,'1추일입'!$A$6:$A$15,'1추총괄표(위원회)'!$A10,'1추일입'!$B$6:$B$15,'1추총괄표(위원회)'!$C10) -> 0 | F10: =D10-E10 -> 0 | G10: =SUMIFS('1추일입'!J$6:J$15,'1추일입'!$A$6:$A$15,'1추총괄표(위원회)'!$A10,'1추일입'!$B$6:$B$15,'1추총괄표(위원회)'!$C10) -> 0 | H10: =SUMIFS('1추일입'!K$6:K$15,'1추일입'!$A$6:$A$15,'1추총괄표(위원회)'!$A10,'1추일입'!$B$6:$B$15,'1추총괄표(위원회)'!$C10) -> 0 | I10: =SUMIFS('1추일입'!L$6:L$15,'1추일입'!$A$6:$A$15,'1추총괄표(위원회)'!$A10,'1추일입'!$B$6:$B$15,'1추총괄표(위원회)'!$C10) -> 0 | J10: =SUMIFS('1추일입'!V$6:V$15,'1추일입'!$A$6:$A$15,'1추총괄표(위원회)'!$A10,'1추일입'!$B$6:$B$15,'1추총괄표(위원회)'!$C10) -> 0 | K10: =SUMIFS('1추일입'!W$6:W$15,'1추일입'!$A$6:$A$15,'1추총괄표(위원회)'!$A10,'1추일입'!$B$6:$B$15,'1추총괄표(위원회)'!$C10) -> 0 | L10: =SUMIFS('1추일입'!M$6:M$15,'1추일입'!$A$6:$A$15,'1추총괄표(위원회)'!$A10,'1추일입'!$B$6:$B$15,'1추총괄표(위원회)'!$C10) -> 0 | M10: =SUMIFS('1추일입'!N$6:N$15,'1추일입'!$A$6:$A$15,'1추총괄표(위원회)'!$A10,'1추일입'!$B$6:$B$15,'1추총괄표(위원회)'!$C10) -> 0 | N10: =SUMIFS('1추일입'!O$6:O$15,'1추일입'!$A$6:$A$15,'1추총괄표(위원회)'!$A10,'1추일입'!$B$6:$B$15,'1추총괄표(위원회)'!$C10) -> 0 | O10: =SUMIFS('1추일입'!AA$6:AA$15,'1추일입'!$A$6:$A$15,'1추총괄표(위원회)'!$A10,'1추일입'!$B$6:$B$15,'1추총괄표(위원회)'!$C10) -> 0 | P10: =SUMIFS('1추일입'!AB$6:AB$15,'1추일입'!$A$6:$A$15,'1추총괄표(위원회)'!$A10,'1추일입'!$B$6:$B$15,'1추총괄표(위원회)'!$C10) -> 0 | R10: =SUMIFS('1추일출'!G$6:G$63,'1추일출'!$A$6:$A$63,'1추총괄표(위원회)'!$A10,'1추일출'!$B$6:$B$63,'1추총괄표(위원회)'!$C10) -> 0 | S10: =SUMIFS('1추일출'!H$6:H$63,'1추일출'!$A$6:$A$63,'1추총괄표(위원회)'!$A10,'1추일출'!$B$6:$B$63,'1추총괄표(위원회)'!$C10) -> 0 | T10: =R10-S10 -> 0 | U10: =SUMIFS('1추일출'!J$6:J$63,'1추일출'!$A$6:$A$63,'1추총괄표(위원회)'!$A10,'1추일출'!$B$6:$B$63,'1추총괄표(위원회)'!$C10) -> 0 | V10: =SUMIFS('1추일출'!K$6:K$63,'1추일출'!$A$6:$A$63,'1추총괄표(위원회)'!$A10,'1추일출'!$B$6:$B$63,'1추총괄표(위원회)'!$C10) -> 0 | W10: =SUMIFS('1추일출'!L$6:L$63,'1추일출'!$A$6:$A$63,'1추총괄표(위원회)'!$A10,'1추일출'!$B$6:$B$63,'1추총괄표(위원회)'!$C10) -> 0 | X10: =SUMIFS('1추일출'!W$6:W$63,'1추일출'!$A$6:$A$63,'1추총괄표(위원회)'!$A10,'1추일출'!$B$6:$B$63,'1추총괄표(위원회)'!$C10) -> 0 | Y10: =SUMIFS('1추일출'!X$6:X$63,'1추일출'!$A$6:$A$63,'1추총괄표(위원회)'!$A10,'1추일출'!$B$6:$B$63,'1추총괄표(위원회)'!$C10) -> 0 | Z10: =SUMIFS('1추일출'!M$6:M$63,'1추일출'!$A$6:$A$63,'1추총괄표(위원회)'!$A10,'1추일출'!$B$6:$B$63,'1추총괄표(위원회)'!$C10) -> 0 | AA10: =SUMIFS('1추일출'!N$6:N$63,'1추일출'!$A$6:$A$63,'1추총괄표(위원회)'!$A10,'1추일출'!$B$6:$B$63,'1추총괄표(위원회)'!$C10) -> 0 | AB10: =SUMIFS('1추일출'!O$6:O$63,'1추일출'!$A$6:$A$63,'1추총괄표(위원회)'!$A10,'1추일출'!$B$6:$B$63,'1추총괄표(위원회)'!$C10) -> 0 | AC10: =SUMIFS('1추일출'!AB$6:AB$63,'1추일출'!$A$6:$A$63,'1추총괄표(위원회)'!$A10,'1추일출'!$B$6:$B$63,'1추총괄표(위원회)'!C$9) -> 0 | AD10: =SUMIFS('1추일출'!AC$6:AC$63,'1추일출'!$A$6:$A$63,'1추총괄표(위원회)'!$A10,'1추일출'!$B$6:$B$63,'1추총괄표(위원회)'!D$9) -> 0 | AF10: =IF(J10=X10,"OK","@@") -> OK | AG10: =J10-X10 -> 0 | AH10: =IF(O10=AC10,"OK","@@") -> OK | AI10: =O10-AC10 -> 0
A11: 의회운영위원회 | C11: 대변인 | D11: =SUMIFS('1추일입'!G$6:G$15,'1추일입'!$A$6:$A$15,'1추총괄표(위원회)'!$A11,'1추일입'!$B$6:$B$15,'1추총괄표(위원회)'!$C11) -> 0 | E11: =SUMIFS('1추일입'!H$6:H$15,'1추일입'!$A$6:$A$15,'1추총괄표(위원회)'!$A11,'1추일입'!$B$6:$B$15,'1추총괄표(위원회)'!$C11) -> 0 | F11: =D11-E11 -> 0 | G11: =SUMIFS('1추일입'!J$6:J$15,'1추일입'!$A$6:$A$15,'1추총괄표(위원회)'!$A11,'1추일입'!$B$6:$B$15,'1추총괄표(위원회)'!$C11) -> 0 | H11: =SUMIFS('1추일입'!K$6:K$15,'1추일입'!$A$6:$A$15,'1추총괄표(위원회)'!$A11,'1추일입'!$B$6:$B$15,'1추총괄표(위원회)'!$C11) -> 0 | I11: =SUMIFS('1추일입'!L$6:L$15,'1추일입'!$A$6:$A$15,'1추총괄표(위원회)'!$A11,'1추일입'!$B$6:$B$15,'1추총괄표(위원회)'!$C11) -> 0 | J11: =SUMIFS('1추일입'!V$6:V$15,'1추일입'!$A$6:$A$15,'1추총괄표(위원회)'!$A11,'1추일입'!$B$6:$B$15,'1추총괄표(위원회)'!$C11) -> 0 | K11: =SUMIFS('1추일입'!W$6:W$15,'1추일입'!$A$6:$A$15,'1추총괄표(위원회)'!$A11,'1추일입'!$B$6:$B$15,'1추총괄표(위원회)'!$C11) -> 0 | L11: =SUMIFS('1추일입'!M$6:M$15,'1추일입'!$A$6:$A$15,'1추총괄표(위원회)'!$A11,'1추일입'!$B$6:$B$15,'1추총괄표(위원회)'!$C11) -> 0 | M11: =SUMIFS('1추일입'!N$6:N$15,'1추일입'!$A$6:$A$15,'1추총괄표(위원회)'!$A11,'1추일입'!$B$6:$B$15,'1추총괄표(위원회)'!$C11) -> 0 | N11: =SUMIFS('1추일입'!O$6:O$15,'1추일입'!$A$6:$A$15,'1추총괄표(위원회)'!$A11,'1추일입'!$B$6:$B$15,'1추총괄표(위원회)'!$C11) -> 0 | O11: =SUMIFS('1추일입'!AA$6:AA$15,'1추일입'!$A$6:$A$15,'1추총괄표(위원회)'!$A11,'1추일입'!$B$6:$B$15,'1추총괄표(위원회)'!$C11) -> 0 | P11: =SUMIFS('1추일입'!AB$6:AB$15,'1추일입'!$A$6:$A$15,'1추총괄표(위원회)'!$A11,'1추일입'!$B$6:$B$15,'1추총괄표(위원회)'!$C11) -> 0 | R11: =SUMIFS('1추일출'!G$6:G$63,'1추일출'!$A$6:$A$63,'1추총괄표(위원회)'!$A11,'1추일출'!$B$6:$B$63,'1추총괄표(위원회)'!$C11) -> 0 | S11: =SUMIFS('1추일출'!H$6:H$63,'1추일출'!$A$6:$A$63,'1추총괄표(위원회)'!$A11,'1추일출'!$B$6:$B$63,'1추총괄표(위원회)'!$C11) -> 0 | T11: =R11-S11 -> 0 | U11: =SUMIFS('1추일출'!J$6:J$63,'1추일출'!$A$6:$A$63,'1추총괄표(위원회)'!$A11,'1추일출'!$B$6:$B$63,'1추총괄표(위원회)'!$C11) -> 0 | V11: =SUMIFS('1추일출'!K$6:K$63,'1추일출'!$A$6:$A$63,'1추총괄표(위원회)'!$A11,'1추일출'!$B$6:$B$63,'1추총괄표(위원회)'!$C11) -> 0 | W11: =SUMIFS('1추일출'!L$6:L$63,'1추일출'!$A$6:$A$63,'1추총괄표(위원회)'!$A11,'1추일출'!$B$6:$B$63,'1추총괄표(위원회)'!$C11) -> 0 | X11: =SUMIFS('1추일출'!W$6:W$63,'1추일출'!$A$6:$A$63,'1추총괄표(위원회)'!$A11,'1추일출'!$B$6:$B$63,'1추총괄표(위원회)'!$C11) -> 0 | Y11: =SUMIFS('1추일출'!X$6:X$63,'1추일출'!$A$6:$A$63,'1추총괄표(위원회)'!$A11,'1추일출'!$B$6:$B$63,'1추총괄표(위원회)'!$C11) -> 0 | Z11: =SUMIFS('1추일출'!M$6:M$63,'1추일출'!$A$6:$A$63,'1추총괄표(위원회)'!$A11,'1추일출'!$B$6:$B$63,'1추총괄표(위원회)'!$C11) -> 0 | AA11: =SUMIFS('1추일출'!N$6:N$63,'1추일출'!$A$6:$A$63,'1추총괄표(위원회)'!$A11,'1추일출'!$B$6:$B$63,'1추총괄표(위원회)'!$C11) -> 0 | AB11: =SUMIFS('1추일출'!O$6:O$63,'1추일출'!$A$6:$A$63,'1추총괄표(위원회)'!$A11,'1추일출'!$B$6:$B$63,'1추총괄표(위원회)'!$C11) -> 0 | AC11: =SUMIFS('1추일출'!AB$6:AB$63,'1추일출'!$A$6:$A$63,'1추총괄표(위원회)'!$A11,'1추일출'!$B$6:$B$63,'1추총괄표(위원회)'!C$9) -> 0 | AD11: =SUMIFS('1추일출'!AC$6:AC$63,'1추일출'!$A$6:$A$63,'1추총괄표(위원회)'!$A11,'1추일출'!$B$6:$B$63,'1추총괄표(위원회)'!D$9) -> 0 | AF11: =IF(J11=X11,"OK","@@") -> OK | AG11: =J11-X11 -> 0 | AH11: =IF(O11=AC11,"OK","@@") -> OK | AI11: =O11-AC11 -> 0
A12: 의회운영위원회 | C12: 연정협력관 | D12: =SUMIFS('1추일입'!G$6:G$15,'1추일입'!$A$6:$A$15,'1추총괄표(위원회)'!$A12,'1추일입'!$B$6:$B$15,'1추총괄표(위원회)'!$C12) -> 0 | E12: =SUMIFS('1추일입'!H$6:H$15,'1추일입'!$A$6:$A$15,'1추총괄표(위원회)'!$A12,'1추일입'!$B$6:$B$15,'1추총괄표(위원회)'!$C12) -> 0 | F12: =D12-E12 -> 0 | G12: =SUMIFS('1추일입'!J$6:J$15,'1추일입'!$A$6:$A$15,'1추총괄표(위원회)'!$A12,'1추일입'!$B$6:$B$15,'1추총괄표(위원회)'!$C12) -> 0 | H12: =SUMIFS('1추일입'!K$6:K$15,'1추일입'!$A$6:$A$15,'1추총괄표(위원회)'!$A12,'1추일입'!$B$6:$B$15,'1추총괄표(위원회)'!$C12) -> 0 | I12: =SUMIFS('1추일입'!L$6:L$15,'1추일입'!$A$6:$A$15,'1추총괄표(위원회)'!$A12,'1추일입'!$B$6:$B$15,'1추총괄표(위원회)'!$C12) -> 0 | J12: =SUMIFS('1추일입'!V$6:V$15,'1추일입'!$A$6:$A$15,'1추총괄표(위원회)'!$A12,'1추일입'!$B$6:$B$15,'1추총괄표(위원회)'!$C12) -> 0 | K12: =SUMIFS('1추일입'!W$6:W$15,'1추일입'!$A$6:$A$15,'1추총괄표(위원회)'!$A12,'1추일입'!$B$6:$B$15,'1추총괄표(위원회)'!$C12) -> 0 | L12: =SUMIFS('1추일입'!M$6:M$15,'1추일입'!$A$6:$A$15,'1추총괄표(위원회)'!$A12,'1추일입'!$B$6:$B$15,'1추총괄표(위원회)'!$C12) -> 0 | M12: =SUMIFS('1추일입'!N$6:N$15,'1추일입'!$A$6:$A$15,'1추총괄표(위원회)'!$A12,'1추일입'!$B$6:$B$15,'1추총괄표(위원회)'!$C12) -> 0 | N12: =SUMIFS('1추일입'!O$6:O$15,'1추일입'!$A$6:$A$15,'1추총괄표(위원회)'!$A12,'1추일입'!$B$6:$B$15,'1추총괄표(위원회)'!$C12) -> 0 | O12: =SUMIFS('1추일입'!AA$6:AA$15,'1추일입'!$A$6:$A$15,'1추총괄표(위원회)'!$A12,'1추일입'!$B$6:$B$15,'1추총괄표(위원회)'!$C12) -> 0 | P12: =SUMIFS('1추일입'!AB$6:AB$15,'1추일입'!$A$6:$A$15,'1추총괄표(위원회)'!$A12,'1추일입'!$B$6:$B$15,'1추총괄표(위원회)'!$C12) -> 0 | R12: =SUMIFS('1추일출'!G$6:G$63,'1추일출'!$A$6:$A$63,'1추총괄표(위원회)'!$A12,'1추일출'!$B$6:$B$63,'1추총괄표(위원회)'!$C12) -> 0 | S12: =SUMIFS('1추일출'!H$6:H$63,'1추일출'!$A$6:$A$63,'1추총괄표(위원회)'!$A12,'1추일출'!$B$6:$B$63,'1추총괄표(위원회)'!$C12) -> 0 | T12: =R12-S12 -> 0 | U12: =SUMIFS('1추일출'!J$6:J$63,'1추일출'!$A$6:$A$63,'1추총괄표(위원회)'!$A12,'1추일출'!$B$6:$B$63,'1추총괄표(위원회)'!$C12) -> 0 | V12: =SUMIFS('1추일출'!K$6:K$63,'1추일출'!$A$6:$A$63,'1추총괄표(위원회)'!$A12,'1추일출'!$B$6:$B$63,'1추총괄표(위원회)'!$C12) -> 0 | W12: =SUMIFS('1추일출'!L$6:L$63,'1추일출'!$A$6:$A$63,'1추총괄표(위원회)'!$A12,'1추일출'!$B$6:$B$63,'1추총괄표(위원회)'!$C12) -> 0 | X12: =SUMIFS('1추일출'!W$6:W$63,'1추일출'!$A$6:$A$63,'1추총괄표(위원회)'!$A12,'1추일출'!$B$6:$B$63,'1추총괄표(위원회)'!$C12) -> 0 | Y12: =SUMIFS('1추일출'!X$6:X$63,'1추일출'!$A$6:$A$63,'1추총괄표(위원회)'!$A12,'1추일출'!$B$6:$B$63,'1추총괄표(위원회)'!$C12) -> 0 | Z12: =SUMIFS('1추일출'!M$6:M$63,'1추일출'!$A$6:$A$63,'1추총괄표(위원회)'!$A12,'1추일출'!$B$6:$B$63,'1추총괄표(위원회)'!$C12) -> 0 | AA12: =SUMIFS('1추일출'!N$6:N$63,'1추일출'!$A$6:$A$63,'1추총괄표(위원회)'!$A12,'1추일출'!$B$6:$B$63,'1추총괄표(위원회)'!$C12) -> 0 | AB12: =SUMIFS('1추일출'!O$6:O$63,'1추일출'!$A$6:$A$63,'1추총괄표(위원회)'!$A12,'1추일출'!$B$6:$B$63,'1추총괄표(위원회)'!$C12) -> 0 | AC12: =SUMIFS('1추일출'!AB$6:AB$63,'1추일출'!$A$6:$A$63,'1추총괄표(위원회)'!$A12,'1추일출'!$B$6:$B$63,'1추총괄표(위원회)'!C$9) -> 0 | AD12: =SUMIFS('1추일출'!AC$6:AC$63,'1추일출'!$A$6:$A$63,'1추총괄표(위원회)'!$A12,'1추일출'!$B$6:$B$63,'1추총괄표(위원회)'!D$9) -> 0 | AF12: =IF(J12=X12,"OK","@@") -> OK | AG12: =J12-X12 -> 0 | AH12: =IF(O12=AC12,"OK","@@") -> OK | AI12: =O12-AC12 -> 0
A13: 의회운영위원회 | C13: 대외협력담당관 | D13: =SUMIFS('1추일입'!G$6:G$15,'1추일입'!$A$6:$A$15,'1추총괄표(위원회)'!$A13,'1추일입'!$B$6:$B$15,'1추총괄표(위원회)'!$C13) -> 0 | E13: =SUMIFS('1추일입'!H$6:H$15,'1추일입'!$A$6:$A$15,'1추총괄표(위원회)'!$A13,'1추일입'!$B$6:$B$15,'1추총괄표(위원회)'!$C13) -> 0 | F13: =D13-E13 -> 0 | G13: =SUMIFS('1추일입'!J$6:J$15,'1추일입'!$A$6:$A$15,'1추총괄표(위원회)'!$A13,'1추일입'!$B$6:$B$15,'1추총괄표(위원회)'!$C13) -> 0 | H13: =SUMIFS('1추일입'!K$6:K$15,'1추일입'!$A$6:$A$15,'1추총괄표(위원회)'!$A13,'1추일입'!$B$6:$B$15,'1추총괄표(위원회)'!$C13) -> 0 | I13: =SUMIFS('1추일입'!L$6:L$15,'1추일입'!$A$6:$A$15,'1추총괄표(위원회)'!$A13,'1추일입'!$B$6:$B$15,'1추총괄표(위원회)'!$C13) -> 0 | J13: =SUMIFS('1추일입'!V$6:V$15,'1추일입'!$A$6:$A$15,'1추총괄표(위원회)'!$A13,'1추일입'!$B$6:$B$15,'1추총괄표(위원회)'!$C13) -> 0 | K13: =SUMIFS('1추일입'!W$6:W$15,'1추일입'!$A$6:$A$15,'1추총괄표(위원회)'!$A13,'1추일입'!$B$6:$B$15,'1추총괄표(위원회)'!$C13) -> 0 | L13: =SUMIFS('1추일입'!M$6:M$15,'1추일입'!$A$6:$A$15,'1추총괄표(위원회)'!$A13,'1추일입'!$B$6:$B$15,'1추총괄표(위원회)'!$C13) -> 0 | M13: =SUMIFS('1추일입'!N$6:N$15,'1추일입'!$A$6:$A$15,'1추총괄표(위원회)'!$A13,'1추일입'!$B$6:$B$15,'1추총괄표(위원회)'!$C13) -> 0 | N13: =SUMIFS('1추일입'!O$6:O$15,'1추일입'!$A$6:$A$15,'1추총괄표(위원회)'!$A13,'1추일입'!$B$6:$B$15,'1추총괄표(위원회)'!$C13) -> 0 | O13: =SUMIFS('1추일입'!AA$6:AA$15,'1추일입'!$A$6:$A$15,'1추총괄표(위원회)'!$A13,'1추일입'!$B$6:$B$15,'1추총괄표(위원회)'!$C13) -> 0 | P13: =SUMIFS('1추일입'!AB$6:AB$15,'1추일입'!$A$6:$A$15,'1추총괄표(위원회)'!$A13,'1추일입'!$B$6:$B$15,'1추총괄표(위원회)'!$C13) -> 0 | R13: =SUMIFS('1추일출'!G$6:G$63,'1추일출'!$A$6:$A$63,'1추총괄표(위원회)'!$A13,'1추일출'!$B$6:$B$63,'1추총괄표(위원회)'!$C13) -> 0 | S13: =SUMIFS('1추일출'!H$6:H$63,'1추일출'!$A$6:$A$63,'1추총괄표(위원회)'!$A13,'1추일출'!$B$6:$B$63,'1추총괄표(위원회)'!$C13) -> 0 | T13: =R13-S13 -> 0 | U13: =SUMIFS('1추일출'!J$6:J$63,'1추일출'!$A$6:$A$63,'1추총괄표(위원회)'!$A13,'1추일출'!$B$6:$B$63,'1추총괄표(위원회)'!$C13) -> 0 | V13: =SUMIFS('1추일출'!K$6:K$63,'1추일출'!$A$6:$A$63,'1추총괄표(위원회)'!$A13,'1추일출'!$B$6:$B$63,'1추총괄표(위원회)'!$C13) -> 0 | W13: =SUMIFS('1추일출'!L$6:L$63,'1추일출'!$A$6:$A$63,'1추총괄표(위원회)'!$A13,'1추일출'!$B$6:$B$63,'1추총괄표(위원회)'!$C13) -> 0 | X13: =SUMIFS('1추일출'!W$6:W$63,'1추일출'!$A$6:$A$63,'1추총괄표(위원회)'!$A13,'1추일출'!$B$6:$B$63,'1추총괄표(위원회)'!$C13) -> 0 | Y13: =SUMIFS('1추일출'!X$6:X$63,'1추일출'!$A$6:$A$63,'1추총괄표(위원회)'!$A13,'1추일출'!$B$6:$B$63,'1추총괄표(위원회)'!$C13) -> 0 | Z13: =SUMIFS('1추일출'!M$6:M$63,'1추일출'!$A$6:$A$63,'1추총괄표(위원회)'!$A13,'1추일출'!$B$6:$B$63,'1추총괄표(위원회)'!$C13) -> 0 | AA13: =SUMIFS('1추일출'!N$6:N$63,'1추일출'!$A$6:$A$63,'1추총괄표(위원회)'!$A13,'1추일출'!$B$6:$B$63,'1추총괄표(위원회)'!$C13) -> 0 | AB13: =SUMIFS('1추일출'!O$6:O$63,'1추일출'!$A$6:$A$63,'1추총괄표(위원회)'!$A13,'1추일출'!$B$6:$B$63,'1추총괄표(위원회)'!$C13) -> 0 | AC13: =SUMIFS('1추일출'!AB$6:AB$63,'1추일출'!$A$6:$A$63,'1추총괄표(위원회)'!$A13,'1추일출'!$B$6:$B$63,'1추총괄표(위원회)'!C$9) -> 0 | AD13: =SUMIFS('1추일출'!AC$6:AC$63,'1추일출'!$A$6:$A$63,'1추총괄표(위원회)'!$A13,'1추일출'!$B$6:$B$63,'1추총괄표(위원회)'!D$9) -> 0 | AF13: =IF(J13=X13,"OK","@@") -> OK | AG13: =J13-X13 -> 0 | AH13: =IF(O13=AC13,"OK","@@") -> OK | AI13: =O13-AC13 -> 0
B14: 기획재정위원회 | D14: =SUM(D15:D18) -> 0 | E14: =SUM(E15:E18) -> 0 | F14: =SUM(F15:F18) -> 0 | G14: =SUM(G15:G18) -> 0 | H14: =SUM(H15:H18) -> 0 | I14: =SUM(I15:I18) -> 0 | J14: =SUM(J15:J18) -> 0 | K14: =SUM(K15:K18) -> 0 | ... P14: =SUM(P15:P18) -> 0 | R14: =SUM(R15:R18) -> 68903506 | S14: =SUM(S15:S18) -> 62903506 | T14: =SUM(T15:T18) -> 6000000 | U14: =SUM(U15:U18) -> 0 | V14: =SUM(V15:V18) -> 0 | W14: =SUM(W15:W18) -> 68903506 | X14: =SUM(X15:X18) -> 0 | Y14: =SUM(Y15:Y18) -> 0 | ... AD14: =SUM(AD15:AD18) -> 0 | AF14: =IF(J14=X14,"OK","@@") -> OK | AG14: =J14-X14 -> 0 | AH14: =IF(O14=AC14,"OK","@@") -> OK | AI14: =O14-AC14 -> 0
A15: 기획재정위원회 | C15: 감사관 | D15: =SUMIFS('1추일입'!G$6:G$15,'1추일입'!$A$6:$A$15,'1추총괄표(위원회)'!$A15,'1추일입'!$B$6:$B$15,'1추총괄표(위원회)'!$C15) -> 0 | E15: =SUMIFS('1추일입'!H$6:H$15,'1추일입'!$A$6:$A$15,'1추총괄표(위원회)'!$A15,'1추일입'!$B$6:$B$15,'1추총괄표(위원회)'!$C15) -> 0 | F15: =D15-E15 -> 0 | G15: =SUMIFS('1추일입'!J$6:J$15,'1추일입'!$A$6:$A$15,'1추총괄표(위원회)'!$A15,'1추일입'!$B$6:$B$15,'1추총괄표(위원회)'!$C15) -> 0 | H15: =SUMIFS('1추일입'!K$6:K$15,'1추일입'!$A$6:$A$15,'1추총괄표(위원회)'!$A15,'1추일입'!$B$6:$B$15,'1추총괄표(위원회)'!$C15) -> 0 | I15: =SUMIFS('1추일입'!L$6:L$15,'1추일입'!$A$6:$A$15,'1추총괄표(위원회)'!$A15,'1추일입'!$B$6:$B$15,'1추총괄표(위원회)'!$C15) -> 0 | J15: =SUMIFS('1추일입'!V$6:V$15,'1추일입'!$A$6:$A$15,'1추총괄표(위원회)'!$A15,'1추일입'!$B$6:$B$15,'1추총괄표(위원회)'!$C15) -> 0 | K15: =SUMIFS('1추일입'!W$6:W$15,'1추일입'!$A$6:$A$15,'1추총괄표(위원회)'!$A15,'1추일입'!$B$6:$B$15,'1추총괄표(위원회)'!$C15) -> 0 | L15: =SUMIFS('1추일입'!M$6:M$15,'1추일입'!$A$6:$A$15,'1추총괄표(위원회)'!$A15,'1추일입'!$B$6:$B$15,'1추총괄표(위원회)'!$C15) -> 0 | M15: =SUMIFS('1추일입'!N$6:N$15,'1추일입'!$A$6:$A$15,'1추총괄표(위원회)'!$A15,'1추일입'!$B$6:$B$15,'1추총괄표(위원회)'!$C15) -> 0 | N15: =SUMIFS('1추일입'!O$6:O$15,'1추일입'!$A$6:$A$15,'1추총괄표(위원회)'!$A15,'1추일입'!$B$6:$B$15,'1추총괄표(위원회)'!$C15) -> 0 | O15: =SUMIFS('1추일입'!AA$6:AA$15,'1추일입'!$A$6:$A$15,'1추총괄표(위원회)'!$A15,'1추일입'!$B$6:$B$15,'1추총괄표(위원회)'!$C15) -> 0 | P15: =SUMIFS('1추일입'!AB$6:AB$15,'1추일입'!$A$6:$A$15,'1추총괄표(위원회)'!$A15,'1추일입'!$B$6:$B$15,'1추총괄표(위원회)'!$C15) -> 0 | R15: =SUMIFS('1추일출'!G$6:G$63,'1추일출'!$A$6:$A$63,'1추총괄표(위원회)'!$A15,'1추일출'!$B$6:$B$63,'1추총괄표(위원회)'!$C15) -> 0 | S15: =SUMIFS('1추일출'!H$6:H$63,'1추일출'!$A$6:$A$63,'1추총괄표(위원회)'!$A15,'1추일출'!$B$6:$B$63,'1추총괄표(위원회)'!$C15) -> 0 | T15: =R15-S15 -> 0 | U15: =SUMIFS('1추일출'!J$6:J$63,'1추일출'!$A$6:$A$63,'1추총괄표(위원회)'!$A15,'1추일출'!$B$6:$B$63,'1추총괄표(위원회)'!$C15) -> 0 | V15: =SUMIFS('1추일출'!K$6:K$63,'1추일출'!$A$6:$A$63,'1추총괄표(위원회)'!$A15,'1추일출'!$B$6:$B$63,'1추총괄표(위원회)'!$C15) -> 0 | W15: =SUMIFS('1추일출'!L$6:L$63,'1추일출'!$A$6:$A$63,'1추총괄표(위원회)'!$A15,'1추일출'!$B$6:$B$63,'1추총괄표(위원회)'!$C15) -> 0 | X15: =SUMIFS('1추일출'!W$6:W$63,'1추일출'!$A$6:$A$63,'1추총괄표(위원회)'!$A15,'1추일출'!$B$6:$B$63,'1추총괄표(위원회)'!$C15) -> 0 | Y15: =SUMIFS('1추일출'!X$6:X$63,'1추일출'!$A$6:$A$63,'1추총괄표(위원회)'!$A15,'1추일출'!$B$6:$B$63,'1추총괄표(위원회)'!$C15) -> 0 | Z15: =SUMIFS('1추일출'!M$6:M$63,'1추일출'!$A$6:$A$63,'1추총괄표(위원회)'!$A15,'1추일출'!$B$6:$B$63,'1추총괄표(위원회)'!$C15) -> 0 | AA15: =SUMIFS('1추일출'!N$6:N$63,'1추일출'!$A$6:$A$63,'1추총괄표(위원회)'!$A15,'1추일출'!$B$6:$B$63,'1추총괄표(위원회)'!$C15) -> 0 | AB15: =SUMIFS('1추일출'!O$6:O$63,'1추일출'!$A$6:$A$63,'1추총괄표(위원회)'!$A15,'1추일출'!$B$6:$B$63,'1추총괄표(위원회)'!$C15) -> 0 | AC15: =SUMIFS('1추일출'!AB$6:AB$63,'1추일출'!$A$6:$A$63,'1추총괄표(위원회)'!$A15,'1추일출'!$B$6:$B$63,'1추총괄표(위원회)'!C$9) -> 0 | AD15: =SUMIFS('1추일출'!AC$6:AC$63,'1추일출'!$A$6:$A$63,'1추총괄표(위원회)'!$A15,'1추일출'!$B$6:$B$63,'1추총괄표(위원회)'!D$9) -> 0 | AF15: =IF(J15=X15,"OK","@@") -> OK | AG15: =J15-X15 -> 0 | AH15: =IF(O15=AC15,"OK","@@") -> OK | AI15: =O15-AC15 -> 0
A16: 기획재정위원회 | C16: 기획조정실 | D16: =SUMIFS('1추일입'!G$6:G$15,'1추일입'!$A$6:$A$15,'1추총괄표(위원회)'!$A16,'1추일입'!$B$6:$B$15,'1추총괄표(위원회)'!$C16) -> 0 | E16: =SUMIFS('1추일입'!H$6:H$15,'1추일입'!$A$6:$A$15,'1추총괄표(위원회)'!$A16,'1추일입'!$B$6:$B$15,'1추총괄표(위원회)'!$C16) -> 0 | F16: =D16-E16 -> 0 | G16: =SUMIFS('1추일입'!J$6:J$15,'1추일입'!$A$6:$A$15,'1추총괄표(위원회)'!$A16,'1추일입'!$B$6:$B$15,'1추총괄표(위원회)'!$C16) -> 0 | H16: =SUMIFS('1추일입'!K$6:K$15,'1추일입'!$A$6:$A$15,'1추총괄표(위원회)'!$A16,'1추일입'!$B$6:$B$15,'1추총괄표(위원회)'!$C16) -> 0 | I16: =SUMIFS('1추일입'!L$6:L$15,'1추일입'!$A$6:$A$15,'1추총괄표(위원회)'!$A16,'1추일입'!$B$6:$B$15,'1추총괄표(위원회)'!$C16) -> 0 | J16: =SUMIFS('1추일입'!V$6:V$15,'1추일입'!$A$6:$A$15,'1추총괄표(위원회)'!$A16,'1추일입'!$B$6:$B$15,'1추총괄표(위원회)'!$C16) -> 0 | K16: =SUMIFS('1추일입'!W$6:W$15,'1추일입'!$A$6:$A$15,'1추총괄표(위원회)'!$A16,'1추일입'!$B$6:$B$15,'1추총괄표(위원회)'!$C16) -> 0 | L16: =SUMIFS('1추일입'!M$6:M$15,'1추일입'!$A$6:$A$15,'1추총괄표(위원회)'!$A16,'1추일입'!$B$6:$B$15,'1추총괄표(위원회)'!$C16) -> 0 | M16: =SUMIFS('1추일입'!N$6:N$15,'1추일입'!$A$6:$A$15,'1추총괄표(위원회)'!$A16,'1추일입'!$B$6:$B$15,'1추총괄표(위원회)'!$C16) -> 0 | N16: =SUMIFS('1추일입'!O$6:O$15,'1추일입'!$A$6:$A$15,'1추총괄표(위원회)'!$A16,'1추일입'!$B$6:$B$15,'1추총괄표(위원회)'!$C16) -> 0 | O16: =SUMIFS('1추일입'!AA$6:AA$15,'1추일입'!$A$6:$A$15,'1추총괄표(위원회)'!$A16,'1추일입'!$B$6:$B$15,'1추총괄표(위원회)'!$C16) -> 0 | P16: =SUMIFS('1추일입'!AB$6:AB$15,'1추일입'!$A$6:$A$15,'1추총괄표(위원회)'!$A16,'1추일입'!$B$6:$B$15,'1추총괄표(위원회)'!$C16) -> 0 | R16: =SUMIFS('1추일출'!G$6:G$63,'1추일출'!$A$6:$A$63,'1추총괄표(위원회)'!$A16,'1추일출'!$B$6:$B$63,'1추총괄표(위원회)'!$C16) -> 68903506 | S16: =SUMIFS('1추일출'!H$6:H$63,'1추일출'!$A$6:$A$63,'1추총괄표(위원회)'!$A16,'1추일출'!$B$6:$B$63,'1추총괄표(위원회)'!$C16) -> 62903506 | T16: =R16-S16 -> 6000000 | U16: =SUMIFS('1추일출'!J$6:J$63,'1추일출'!$A$6:$A$63,'1추총괄표(위원회)'!$A16,'1추일출'!$B$6:$B$63,'1추총괄표(위원회)'!$C16) -> 0 | V16: =SUMIFS('1추일출'!K$6:K$63,'1추일출'!$A$6:$A$63,'1추총괄표(위원회)'!$A16,'1추일출'!$B$6:$B$63,'1추총괄표(위원회)'!$C16) -> 0 | W16: =SUMIFS('1추일출'!L$6:L$63,'1추일출'!$A$6:$A$63,'1추총괄표(위원회)'!$A16,'1추일출'!$B$6:$B$63,'1추총괄표(위원회)'!$C16) -> 68903506 | X16: =SUMIFS('1추일출'!W$6:W$63,'1추일출'!$A$6:$A$63,'1추총괄표(위원회)'!$A16,'1추일출'!$B$6:$B$63,'1추총괄표(위원회)'!$C16) -> 0 | Y16: =SUMIFS('1추일출'!X$6:X$63,'1추일출'!$A$6:$A$63,'1추총괄표(위원회)'!$A16,'1추일출'!$B$6:$B$63,'1추총괄표(위원회)'!$C16) -> 0 | Z16: =SUMIFS('1추일출'!M$6:M$63,'1추일출'!$A$6:$A$63,'1추총괄표(위원회)'!$A16,'1추일출'!$B$6:$B$63,'1추총괄표(위원회)'!$C16) -> -10563288 | AA16: =SUMIFS('1추일출'!N$6:N$63,'1추일출'!$A$6:$A$63,'1추총괄표(위원회)'!$A16,'1추일출'!$B$6:$B$63,'1추총괄표(위원회)'!$C16) -> 200000 | AB16: =SUMIFS('1추일출'!O$6:O$63,'1추일출'!$A$6:$A$63,'1추총괄표(위원회)'!$A16,'1추일출'!$B$6:$B$63,'1추총괄표(위원회)'!$C16) -> 58540218 | AC16: =SUMIFS('1추일출'!AB$6:AB$63,'1추일출'!$A$6:$A$63,'1추총괄표(위원회)'!$A16,'1추일출'!$B$6:$B$63,'1추총괄표(위원회)'!C$9) -> 0 | AD16: =SUMIFS('1추일출'!AC$6:AC$63,'1추일출'!$A$6:$A$63,'1추총괄표(위원회)'!$A16,'1추일출'!$B$6:$B$63,'1추총괄표(위원회)'!D$9) -> 0 | AF16: =IF(J16=X16,"OK","@@") -> OK | AG16: =J16-X16 -> 0 | AH16: =IF(O16=AC16,"OK","@@") -> OK | AI16: =O16-AC16 -> 0
A17: 기획재정위원회 | C17: 균형발전기획실 | D17: =SUMIFS('1추일입'!G$6:G$15,'1추일입'!$A$6:$A$15,'1추총괄표(위원회)'!$A17,'1추일입'!$B$6:$B$15,'1추총괄표(위원회)'!$C17) -> 0 | E17: =SUMIFS('1추일입'!H$6:H$15,'1추일입'!$A$6:$A$15,'1추총괄표(위원회)'!$A17,'1추일입'!$B$6:$B$15,'1추총괄표(위원회)'!$C17) -> 0 | F17: =D17-E17 -> 0 | G17: =SUMIFS('1추일입'!J$6:J$15,'1추일입'!$A$6:$A$15,'1추총괄표(위원회)'!$A17,'1추일입'!$B$6:$B$15,'1추총괄표(위원회)'!$C17) -> 0 | H17: =SUMIFS('1추일입'!K$6:K$15,'1추일입'!$A$6:$A$15,'1추총괄표(위원회)'!$A17,'1추일입'!$B$6:$B$15,'1추총괄표(위원회)'!$C17) -> 0 | I17: =SUMIFS('1추일입'!L$6:L$15,'1추일입'!$A$6:$A$15,'1추총괄표(위원회)'!$A17,'1추일입'!$B$6:$B$15,'1추총괄표(위원회)'!$C17) -> 0 | J17: =SUMIFS('1추일입'!V$6:V$15,'1추일입'!$A$6:$A$15,'1추총괄표(위원회)'!$A17,'1추일입'!$B$6:$B$15,'1추총괄표(위원회)'!$C17) -> 0 | K17: =SUMIFS('1추일입'!W$6:W$15,'1추일입'!$A$6:$A$15,'1추총괄표(위원회)'!$A17,'1추일입'!$B$6:$B$15,'1추총괄표(위원회)'!$C17) -> 0 | L17: =SUMIFS('1추일입'!M$6:M$15,'1추일입'!$A$6:$A$15,'1추총괄표(위원회)'!$A17,'1추일입'!$B$6:$B$15,'1추총괄표(위원회)'!$C17) -> 0 | M17: =SUMIFS('1추일입'!N$6:N$15,'1추일입'!$A$6:$A$15,'1추총괄표(위원회)'!$A17,'1추일입'!$B$6:$B$15,'1추총괄표(위원회)'!$C17) -> 0 | N17: =SUMIFS('1추일입'!O$6:O$15,'1추일입'!$A$6:$A$15,'1추총괄표(위원회)'!$A17,'1추일입'!$B$6:$B$15,'1추총괄표(위원회)'!$C17) -> 0 | O17: =SUMIFS('1추일입'!AA$6:AA$15,'1추일입'!$A$6:$A$15,'1추총괄표(위원회)'!$A17,'1추일입'!$B$6:$B$15,'1추총괄표(위원회)'!$C17) -> 0 | P17: =SUMIFS('1추일입'!AB$6:AB$15,'1추일입'!$A$6:$A$15,'1추총괄표(위원회)'!$A17,'1추일입'!$B$6:$B$15,'1추총괄표(위원회)'!$C17) -> 0 | R17: =SUMIFS('1추일출'!G$6:G$63,'1추일출'!$A$6:$A$63,'1추총괄표(위원회)'!$A17,'1추일출'!$B$6:$B$63,'1추총괄표(위원회)'!$C17) -> 0 | S17: =SUMIFS('1추일출'!H$6:H$63,'1추일출'!$A$6:$A$63,'1추총괄표(위원회)'!$A17,'1추일출'!$B$6:$B$63,'1추총괄표(위원회)'!$C17) -> 0 | T17: =R17-S17 -> 0 | U17: =SUMIFS('1추일출'!J$6:J$63,'1추일출'!$A$6:$A$63,'1추총괄표(위원회)'!$A17,'1추일출'!$B$6:$B$63,'1추총괄표(위원회)'!$C17) -> 0 | V17: =SUMIFS('1추일출'!K$6:K$63,'1추일출'!$A$6:$A$63,'1추총괄표(위원회)'!$A17,'1추일출'!$B$6:$B$63,'1추총괄표(위원회)'!$C17) -> 0 | W17: =SUMIFS('1추일출'!L$6:L$63,'1추일출'!$A$6:$A$63,'1추총괄표(위원회)'!$A17,'1추일출'!$B$6:$B$63,'1추총괄표(위원회)'!$C17) -> 0 | X17: =SUMIFS('1추일출'!W$6:W$63,'1추일출'!$A$6:$A$63,'1추총괄표(위원회)'!$A17,'1추일출'!$B$6:$B$63,'1추총괄표(위원회)'!$C17) -> 0 | Y17: =SUMIFS('1추일출'!X$6:X$63,'1추일출'!$A$6:$A$63,'1추총괄표(위원회)'!$A17,'1추일출'!$B$6:$B$63,'1추총괄표(위원회)'!$C17) -> 0 | Z17: =SUMIFS('1추일출'!M$6:M$63,'1추일출'!$A$6:$A$63,'1추총괄표(위원회)'!$A17,'1추일출'!$B$6:$B$63,'1추총괄표(위원회)'!$C17) -> 0 | AA17: =SUMIFS('1추일출'!N$6:N$63,'1추일출'!$A$6:$A$63,'1추총괄표(위원회)'!$A17,'1추일출'!$B$6:$B$63,'1추총괄표(위원회)'!$C17) -> 0 | AB17: =SUMIFS('1추일출'!O$6:O$63,'1추일출'!$A$6:$A$63,'1추총괄표(위원회)'!$A17,'1추일출'!$B$6:$B$63,'1추총괄표(위원회)'!$C17) -> 0 | AC17: =SUMIFS('1추일출'!AB$6:AB$63,'1추일출'!$A$6:$A$63,'1추총괄표(위원회)'!$A17,'1추일출'!$B$6:$B$63,'1추총괄표(위원회)'!C$9) -> 0 | AD17: =SUMIFS('1추일출'!AC$6:AC$63,'1추일출'!$A$6:$A$63,'1추총괄표(위원회)'!$A17,'1추일출'!$B$6:$B$63,'1추총괄표(위원회)'!D$9) -> 0 | AF17: =IF(J17=X17,"OK","@@") -> OK | AG17: =J17-X17 -> 0 | AH17: =IF(O17=AC17,"OK","@@") -> OK | AI17: =O17-AC17 -> 0
A18: 기획재정위원회 | C18: 따복공동체지원단 | D18: =SUMIFS('1추일입'!G$6:G$15,'1추일입'!$A$6:$A$15,'1추총괄표(위원회)'!$A18,'1추일입'!$B$6:$B$15,'1추총괄표(위원회)'!$C18) -> 0 | E18: =SUMIFS('1추일입'!H$6:H$15,'1추일입'!$A$6:$A$15,'1추총괄표(위원회)'!$A18,'1추일입'!$B$6:$B$15,'1추총괄표(위원회)'!$C18) -> 0 | F18: =D18-E18 -> 0 | G18: =SUMIFS('1추일입'!J$6:J$15,'1추일입'!$A$6:$A$15,'1추총괄표(위원회)'!$A18,'1추일입'!$B$6:$B$15,'1추총괄표(위원회)'!$C18) -> 0 | H18: =SUMIFS('1추일입'!K$6:K$15,'1추일입'!$A$6:$A$15,'1추총괄표(위원회)'!$A18,'1추일입'!$B$6:$B$15,'1추총괄표(위원회)'!$C18) -> 0 | I18: =SUMIFS('1추일입'!L$6:L$15,'1추일입'!$A$6:$A$15,'1추총괄표(위원회)'!$A18,'1추일입'!$B$6:$B$15,'1추총괄표(위원회)'!$C18) -> 0 | J18: =SUMIFS('1추일입'!V$6:V$15,'1추일입'!$A$6:$A$15,'1추총괄표(위원회)'!$A18,'1추일입'!$B$6:$B$15,'1추총괄표(위원회)'!$C18) -> 0 | K18: =SUMIFS('1추일입'!W$6:W$15,'1추일입'!$A$6:$A$15,'1추총괄표(위원회)'!$A18,'1추일입'!$B$6:$B$15,'1추총괄표(위원회)'!$C18) -> 0 | L18: =SUMIFS('1추일입'!M$6:M$15,'1추일입'!$A$6:$A$15,'1추총괄표(위원회)'!$A18,'1추일입'!$B$6:$B$15,'1추총괄표(위원회)'!$C18) -> 0 | M18: =SUMIFS('1추일입'!N$6:N$15,'1추일입'!$A$6:$A$15,'1추총괄표(위원회)'!$A18,'1추일입'!$B$6:$B$15,'1추총괄표(위원회)'!$C18) -> 0 | N18: =SUMIFS('1추일입'!O$6:O$15,'1추일입'!$A$6:$A$15,'1추총괄표(위원회)'!$A18,'1추일입'!$B$6:$B$15,'1추총괄표(위원회)'!$C18) -> 0 | O18: =SUMIFS('1추일입'!AA$6:AA$15,'1추일입'!$A$6:$A$15,'1추총괄표(위원회)'!$A18,'1추일입'!$B$6:$B$15,'1추총괄표(위원회)'!$C18) -> 0 | P18: =SUMIFS('1추일입'!AB$6:AB$15,'1추일입'!$A$6:$A$15,'1추총괄표(위원회)'!$A18,'1추일입'!$B$6:$B$15,'1추총괄표(위원회)'!$C18) -> 0 | R18: =SUMIFS('1추일출'!G$6:G$63,'1추일출'!$A$6:$A$63,'1추총괄표(위원회)'!$A18,'1추일출'!$B$6:$B$63,'1추총괄표(위원회)'!$C18) -> 0 | S18: =SUMIFS('1추일출'!H$6:H$63,'1추일출'!$A$6:$A$63,'1추총괄표(위원회)'!$A18,'1추일출'!$B$6:$B$63,'1추총괄표(위원회)'!$C18) -> 0 | T18: =R18-S18 -> 0 | U18: =SUMIFS('1추일출'!J$6:J$63,'1추일출'!$A$6:$A$63,'1추총괄표(위원회)'!$A18,'1추일출'!$B$6:$B$63,'1추총괄표(위원회)'!$C18) -> 0 | V18: =SUMIFS('1추일출'!K$6:K$63,'1추일출'!$A$6:$A$63,'1추총괄표(위원회)'!$A18,'1추일출'!$B$6:$B$63,'1추총괄표(위원회)'!$C18) -> 0 | W18: =SUMIFS('1추일출'!L$6:L$63,'1추일출'!$A$6:$A$63,'1추총괄표(위원회)'!$A18,'1추일출'!$B$6:$B$63,'1추총괄표(위원회)'!$C18) -> 0 | X18: =SUMIFS('1추일출'!W$6:W$63,'1추일출'!$A$6:$A$63,'1추총괄표(위원회)'!$A18,'1추일출'!$B$6:$B$63,'1추총괄표(위원회)'!$C18) -> 0 | Y18: =SUMIFS('1추일출'!X$6:X$63,'1추일출'!$A$6:$A$63,'1추총괄표(위원회)'!$A18,'1추일출'!$B$6:$B$63,'1추총괄표(위원회)'!$C18) -> 0 | Z18: =SUMIFS('1추일출'!M$6:M$63,'1추일출'!$A$6:$A$63,'1추총괄표(위원회)'!$A18,'1추일출'!$B$6:$B$63,'1추총괄표(위원회)'!$C18) -> 0 | AA18: =SUMIFS('1추일출'!N$6:N$63,'1추일출'!$A$6:$A$63,'1추총괄표(위원회)'!$A18,'1추일출'!$B$6:$B$63,'1추총괄표(위원회)'!$C18) -> 0 | AB18: =SUMIFS('1추일출'!O$6:O$63,'1추일출'!$A$6:$A$63,'1추총괄표(위원회)'!$A18,'1추일출'!$B$6:$B$63,'1추총괄표(위원회)'!$C18) -> 0 | AC18: =SUMIFS('1추일출'!AB$6:AB$63,'1추일출'!$A$6:$A$63,'1추총괄표(위원회)'!$A18,'1추일출'!$B$6:$B$63,'1추총괄표(위원회)'!C$9) -> 0 | AD18: =SUMIFS('1추일출'!AC$6:AC$63,'1추일출'!$A$6:$A$63,'1추총괄표(위원회)'!$A18,'1추일출'!$B$6:$B$63,'1추총괄표(위원회)'!D$9) -> 0 | AF18: =IF(J18=X18,"OK","@@") -> OK | AG18: =J18-X18 -> 0 | AH18: =IF(O18=AC18,"OK","@@") -> OK | AI18: =O18-AC18 -> 0
B19: 경제과학기술위원회 | D19: =SUM(D20:D22) -> 0 | E19: =SUM(E20:E22) -> 0 | F19: =SUM(F20:F22) -> 0 | G19: =SUM(G20:G22) -> 0 | H19: =SUM(H20:H22) -> 0 | I19: =SUM(I20:I22) -> 0 | J19: =SUM(J20:J22) -> 0 | K19: =SUM(K20:K22) -> 0 | ... P19: =SUM(P20:P22) -> 0 | R19: =SUM(R20:R22) -> 0 | S19: =SUM(S20:S22) -> 0 | T19: =SUM(T20:T22) -> 0 | U19: =SUM(U20:U22) -> 0 | V19: =SUM(V20:V22) -> 2000000 | W19: =SUM(W20:W22) -> 2000000 | X19: =SUM(X20:X22) -> 0 | Y19: =SUM(Y20:Y22) -> 2000000 | ... AD19: =SUM(AD20:AD22) -> 0 | AF19: =IF(J19=X19,"OK","@@") -> OK | AG19: =J19-X19 -> 0 | AH19: =IF(O19=AC19,"OK","@@") -> OK | AI19: =O19-AC19 -> 0
A20: 경제과학기술위원회 | C20: 경제실 | D20: =SUMIFS('1추일입'!G$6:G$15,'1추일입'!$A$6:$A$15,'1추총괄표(위원회)'!$A20,'1추일입'!$B$6:$B$15,'1추총괄표(위원회)'!$C20) -> 0 | E20: =SUMIFS('1추일입'!H$6:H$15,'1추일입'!$A$6:$A$15,'1추총괄표(위원회)'!$A20,'1추일입'!$B$6:$B$15,'1추총괄표(위원회)'!$C20) -> 0 | F20: =D20-E20 -> 0 | G20: =SUMIFS('1추일입'!J$6:J$15,'1추일입'!$A$6:$A$15,'1추총괄표(위원회)'!$A20,'1추일입'!$B$6:$B$15,'1추총괄표(위원회)'!$C20) -> 0 | H20: =SUMIFS('1추일입'!K$6:K$15,'1추일입'!$A$6:$A$15,'1추총괄표(위원회)'!$A20,'1추일입'!$B$6:$B$15,'1추총괄표(위원회)'!$C20) -> 0 | I20: =SUMIFS('1추일입'!L$6:L$15,'1추일입'!$A$6:$A$15,'1추총괄표(위원회)'!$A20,'1추일입'!$B$6:$B$15,'1추총괄표(위원회)'!$C20) -> 0 | J20: =SUMIFS('1추일입'!V$6:V$15,'1추일입'!$A$6:$A$15,'1추총괄표(위원회)'!$A20,'1추일입'!$B$6:$B$15,'1추총괄표(위원회)'!$C20) -> 0 | K20: =SUMIFS('1추일입'!W$6:W$15,'1추일입'!$A$6:$A$15,'1추총괄표(위원회)'!$A20,'1추일입'!$B$6:$B$15,'1추총괄표(위원회)'!$C20) -> 0 | L20: =SUMIFS('1추일입'!M$6:M$15,'1추일입'!$A$6:$A$15,'1추총괄표(위원회)'!$A20,'1추일입'!$B$6:$B$15,'1추총괄표(위원회)'!$C20) -> 0 | M20: =SUMIFS('1추일입'!N$6:N$15,'1추일입'!$A$6:$A$15,'1추총괄표(위원회)'!$A20,'1추일입'!$B$6:$B$15,'1추총괄표(위원회)'!$C20) -> 0 | N20: =SUMIFS('1추일입'!O$6:O$15,'1추일입'!$A$6:$A$15,'1추총괄표(위원회)'!$A20,'1추일입'!$B$6:$B$15,'1추총괄표(위원회)'!$C20) -> 0 | O20: =SUMIFS('1추일입'!AA$6:AA$15,'1추일입'!$A$6:$A$15,'1추총괄표(위원회)'!$A20,'1추일입'!$B$6:$B$15,'1추총괄표(위원회)'!$C20) -> 0 | P20: =SUMIFS('1추일입'!AB$6:AB$15,'1추일입'!$A$6:$A$15,'1추총괄표(위원회)'!$A20,'1추일입'!$B$6:$B$15,'1추총괄표(위원회)'!$C20) -> 0 | R20: =SUMIFS('1추일출'!G$6:G$63,'1추일출'!$A$6:$A$63,'1추총괄표(위원회)'!$A20,'1추일출'!$B$6:$B$63,'1추총괄표(위원회)'!$C20) -> 0 | S20: =SUMIFS('1추일출'!H$6:H$63,'1추일출'!$A$6:$A$63,'1추총괄표(위원회)'!$A20,'1추일출'!$B$6:$B$63,'1추총괄표(위원회)'!$C20) -> 0 | T20: =R20-S20 -> 0 | U20: =SUMIFS('1추일출'!J$6:J$63,'1추일출'!$A$6:$A$63,'1추총괄표(위원회)'!$A20,'1추일출'!$B$6:$B$63,'1추총괄표(위원회)'!$C20) -> 0 | V20: =SUMIFS('1추일출'!K$6:K$63,'1추일출'!$A$6:$A$63,'1추총괄표(위원회)'!$A20,'1추일출'!$B$6:$B$63,'1추총괄표(위원회)'!$C20) -> 2000000 | W20: =SUMIFS('1추일출'!L$6:L$63,'1추일출'!$A$6:$A$63,'1추총괄표(위원회)'!$A20,'1추일출'!$B$6:$B$63,'1추총괄표(위원회)'!$C20) -> 2000000 | X20: =SUMIFS('1추일출'!W$6:W$63,'1추일출'!$A$6:$A$63,'1추총괄표(위원회)'!$A20,'1추일출'!$B$6:$B$63,'1추총괄표(위원회)'!$C20) -> 0 | Y20: =SUMIFS('1추일출'!X$6:X$63,'1추일출'!$A$6:$A$63,'1추총괄표(위원회)'!$A20,'1추일출'!$B$6:$B$63,'1추총괄표(위원회)'!$C20) -> 2000000 | Z20: =SUMIFS('1추일출'!M$6:M$63,'1추일출'!$A$6:$A$63,'1추총괄표(위원회)'!$A20,'1추일출'!$B$6:$B$63,'1추총괄표(위원회)'!$C20) -> 0 | AA20: =SUMIFS('1추일출'!N$6:N$63,'1추일출'!$A$6:$A$63,'1추총괄표(위원회)'!$A20,'1추일출'!$B$6:$B$63,'1추총괄표(위원회)'!$C20) -> 6000000 | AB20: =SUMIFS('1추일출'!O$6:O$63,'1추일출'!$A$6:$A$63,'1추총괄표(위원회)'!$A20,'1추일출'!$B$6:$B$63,'1추총괄표(위원회)'!$C20) -> 6000000 | AC20: =SUMIFS('1추일출'!AB$6:AB$63,'1추일출'!$A$6:$A$63,'1추총괄표(위원회)'!$A20,'1추일출'!$B$6:$B$63,'1추총괄표(위원회)'!C$9) -> 0 | AD20: =SUMIFS('1추일출'!AC$6:AC$63,'1추일출'!$A$6:$A$63,'1추총괄표(위원회)'!$A20,'1추일출'!$B$6:$B$63,'1추총괄표(위원회)'!D$9) -> 0 | AF20: =IF(J20=X20,"OK","@@") -> OK | AG20: =J20-X20 -> 0 | AH20: =IF(O20=AC20,"OK","@@") -> OK | AI20: =O20-AC20 -> 0
A21: 경제과학기술위원회 | C21: 황해경제자유구역청 | D21: =SUMIFS('1추일입'!G$6:G$15,'1추일입'!$A$6:$A$15,'1추총괄표(위원회)'!$A21,'1추일입'!$B$6:$B$15,'1추총괄표(위원회)'!$C21) -> 0 | E21: =SUMIFS('1추일입'!H$6:H$15,'1추일입'!$A$6:$A$15,'1추총괄표(위원회)'!$A21,'1추일입'!$B$6:$B$15,'1추총괄표(위원회)'!$C21) -> 0 | F21: =D21-E21 -> 0 | G21: =SUMIFS('1추일입'!J$6:J$15,'1추일입'!$A$6:$A$15,'1추총괄표(위원회)'!$A21,'1추일입'!$B$6:$B$15,'1추총괄표(위원회)'!$C21) -> 0 | H21: =SUMIFS('1추일입'!K$6:K$15,'1추일입'!$A$6:$A$15,'1추총괄표(위원회)'!$A21,'1추일입'!$B$6:$B$15,'1추총괄표(위원회)'!$C21) -> 0 | I21: =SUMIFS('1추일입'!L$6:L$15,'1추일입'!$A$6:$A$15,'1추총괄표(위원회)'!$A21,'1추일입'!$B$6:$B$15,'1추총괄표(위원회)'!$C21) -> 0 | J21: =SUMIFS('1추일입'!V$6:V$15,'1추일입'!$A$6:$A$15,'1추총괄표(위원회)'!$A21,'1추일입'!$B$6:$B$15,'1추총괄표(위원회)'!$C21) -> 0 | K21: =SUMIFS('1추일입'!W$6:W$15,'1추일입'!$A$6:$A$15,'1추총괄표(위원회)'!$A21,'1추일입'!$B$6:$B$15,'1추총괄표(위원회)'!$C21) -> 0 | L21: =SUMIFS('1추일입'!M$6:M$15,'1추일입'!$A$6:$A$15,'1추총괄표(위원회)'!$A21,'1추일입'!$B$6:$B$15,'1추총괄표(위원회)'!$C21) -> 0 | M21: =SUMIFS('1추일입'!N$6:N$15,'1추일입'!$A$6:$A$15,'1추총괄표(위원회)'!$A21,'1추일입'!$B$6:$B$15,'1추총괄표(위원회)'!$C21) -> 0 | N21: =SUMIFS('1추일입'!O$6:O$15,'1추일입'!$A$6:$A$15,'1추총괄표(위원회)'!$A21,'1추일입'!$B$6:$B$15,'1추총괄표(위원회)'!$C21) -> 0 | O21: =SUMIFS('1추일입'!AA$6:AA$15,'1추일입'!$A$6:$A$15,'1추총괄표(위원회)'!$A21,'1추일입'!$B$6:$B$15,'1추총괄표(위원회)'!$C21) -> 0 | P21: =SUMIFS('1추일입'!AB$6:AB$15,'1추일입'!$A$6:$A$15,'1추총괄표(위원회)'!$A21,'1추일입'!$B$6:$B$15,'1추총괄표(위원회)'!$C21) -> 0 | R21: =SUMIFS('1추일출'!G$6:G$63,'1추일출'!$A$6:$A$63,'1추총괄표(위원회)'!$A21,'1추일출'!$B$6:$B$63,'1추총괄표(위원회)'!$C21) -> 0 | S21: =SUMIFS('1추일출'!H$6:H$63,'1추일출'!$A$6:$A$63,'1추총괄표(위원회)'!$A21,'1추일출'!$B$6:$B$63,'1추총괄표(위원회)'!$C21) -> 0 | T21: =R21-S21 -> 0 | U21: =SUMIFS('1추일출'!J$6:J$63,'1추일출'!$A$6:$A$63,'1추총괄표(위원회)'!$A21,'1추일출'!$B$6:$B$63,'1추총괄표(위원회)'!$C21) -> 0 | V21: =SUMIFS('1추일출'!K$6:K$63,'1추일출'!$A$6:$A$63,'1추총괄표(위원회)'!$A21,'1추일출'!$B$6:$B$63,'1추총괄표(위원회)'!$C21) -> 0 | W21: =SUMIFS('1추일출'!L$6:L$63,'1추일출'!$A$6:$A$63,'1추총괄표(위원회)'!$A21,'1추일출'!$B$6:$B$63,'1추총괄표(위원회)'!$C21) -> 0 | X21: =SUMIFS('1추일출'!W$6:W$63,'1추일출'!$A$6:$A$63,'1추총괄표(위원회)'!$A21,'1추일출'!$B$6:$B$63,'1추총괄표(위원회)'!$C21) -> 0 | Y21: =SUMIFS('1추일출'!X$6:X$63,'1추일출'!$A$6:$A$63,'1추총괄표(위원회)'!$A21,'1추일출'!$B$6:$B$63,'1추총괄표(위원회)'!$C21) -> 0 | Z21: =SUMIFS('1추일출'!M$6:M$63,'1추일출'!$A$6:$A$63,'1추총괄표(위원회)'!$A21,'1추일출'!$B$6:$B$63,'1추총괄표(위원회)'!$C21) -> 0 | AA21: =SUMIFS('1추일출'!N$6:N$63,'1추일출'!$A$6:$A$63,'1추총괄표(위원회)'!$A21,'1추일출'!$B$6:$B$63,'1추총괄표(위원회)'!$C21) -> 0 | AB21: =SUMIFS('1추일출'!O$6:O$63,'1추일출'!$A$6:$A$63,'1추총괄표(위원회)'!$A21,'1추일출'!$B$6:$B$63,'1추총괄표(위원회)'!$C21) -> 0 | AC21: =SUMIFS('1추일출'!AB$6:AB$63,'1추일출'!$A$6:$A$63,'1추총괄표(위원회)'!$A21,'1추일출'!$B$6:$B$63,'1추총괄표(위원회)'!C$9) -> 0 | AD21: =SUMIFS('1추일출'!AC$6:AC$63,'1추일출'!$A$6:$A$63,'1추총괄표(위원회)'!$A21,'1추일출'!$B$6:$B$63,'1추총괄표(위원회)'!D$9) -> 0 | AF21: =IF(J21=X21,"OK","@@") -> OK | AG21: =J21-X21 -> 0 | AH21: =IF(O21=AC21,"OK","@@") -> OK | AI21: =O21-AC21 -> 0
A22: 경제과학기술위원회 | C22: 따복공동체지원단 | D22: =SUMIFS('1추일입'!G$6:G$15,'1추일입'!$A$6:$A$15,'1추총괄표(위원회)'!$A22,'1추일입'!$B$6:$B$15,'1추총괄표(위원회)'!$C22) -> 0 | E22: =SUMIFS('1추일입'!H$6:H$15,'1추일입'!$A$6:$A$15,'1추총괄표(위원회)'!$A22,'1추일입'!$B$6:$B$15,'1추총괄표(위원회)'!$C22) -> 0 | F22: =D22-E22 -> 0 | G22: =SUMIFS('1추일입'!J$6:J$15,'1추일입'!$A$6:$A$15,'1추총괄표(위원회)'!$A22,'1추일입'!$B$6:$B$15,'1추총괄표(위원회)'!$C22) -> 0 | H22: =SUMIFS('1추일입'!K$6:K$15,'1추일입'!$A$6:$A$15,'1추총괄표(위원회)'!$A22,'1추일입'!$B$6:$B$15,'1추총괄표(위원회)'!$C22) -> 0 | I22: =SUMIFS('1추일입'!L$6:L$15,'1추일입'!$A$6:$A$15,'1추총괄표(위원회)'!$A22,'1추일입'!$B$6:$B$15,'1추총괄표(위원회)'!$C22) -> 0 | J22: =SUMIFS('1추일입'!V$6:V$15,'1추일입'!$A$6:$A$15,'1추총괄표(위원회)'!$A22,'1추일입'!$B$6:$B$15,'1추총괄표(위원회)'!$C22) -> 0 | K22: =SUMIFS('1추일입'!W$6:W$15,'1추일입'!$A$6:$A$15,'1추총괄표(위원회)'!$A22,'1추일입'!$B$6:$B$15,'1추총괄표(위원회)'!$C22) -> 0 | L22: =SUMIFS('1추일입'!M$6:M$15,'1추일입'!$A$6:$A$15,'1추총괄표(위원회)'!$A22,'1추일입'!$B$6:$B$15,'1추총괄표(위원회)'!$C22) -> 0 | M22: =SUMIFS('1추일입'!N$6:N$15,'1추일입'!$A$6:$A$15,'1추총괄표(위원회)'!$A22,'1추일입'!$B$6:$B$15,'1추총괄표(위원회)'!$C22) -> 0 | N22: =SUMIFS('1추일입'!O$6:O$15,'1추일입'!$A$6:$A$15,'1추총괄표(위원회)'!$A22,'1추일입'!$B$6:$B$15,'1추총괄표(위원회)'!$C22) -> 0 | O22: =SUMIFS('1추일입'!AA$6:AA$15,'1추일입'!$A$6:$A$15,'1추총괄표(위원회)'!$A22,'1추일입'!$B$6:$B$15,'1추총괄표(위원회)'!$C22) -> 0 | P22: =SUMIFS('1추일입'!AB$6:AB$15,'1추일입'!$A$6:$A$15,'1추총괄표(위원회)'!$A22,'1추일입'!$B$6:$B$15,'1추총괄표(위원회)'!$C22) -> 0 | R22: =SUMIFS('1추일출'!G$6:G$63,'1추일출'!$A$6:$A$63,'1추총괄표(위원회)'!$A22,'1추일출'!$B$6:$B$63,'1추총괄표(위원회)'!$C22) -> 0 | S22: =SUMIFS('1추일출'!H$6:H$63,'1추일출'!$A$6:$A$63,'1추총괄표(위원회)'!$A22,'1추일출'!$B$6:$B$63,'1추총괄표(위원회)'!$C22) -> 0 | T22: =R22-S22 -> 0 | U22: =SUMIFS('1추일출'!J$6:J$63,'1추일출'!$A$6:$A$63,'1추총괄표(위원회)'!$A22,'1추일출'!$B$6:$B$63,'1추총괄표(위원회)'!$C22) -> 0 | V22: =SUMIFS('1추일출'!K$6:K$63,'1추일출'!$A$6:$A$63,'1추총괄표(위원회)'!$A22,'1추일출'!$B$6:$B$63,'1추총괄표(위원회)'!$C22) -> 0 | W22: =SUMIFS('1추일출'!L$6:L$63,'1추일출'!$A$6:$A$63,'1추총괄표(위원회)'!$A22,'1추일출'!$B$6:$B$63,'1추총괄표(위원회)'!$C22) -> 0 | X22: =SUMIFS('1추일출'!W$6:W$63,'1추일출'!$A$6:$A$63,'1추총괄표(위원회)'!$A22,'1추일출'!$B$6:$B$63,'1추총괄표(위원회)'!$C22) -> 0 | Y22: =SUMIFS('1추일출'!X$6:X$63,'1추일출'!$A$6:$A$63,'1추총괄표(위원회)'!$A22,'1추일출'!$B$6:$B$63,'1추총괄표(위원회)'!$C22) -> 0 | Z22: =SUMIFS('1추일출'!M$6:M$63,'1추일출'!$A$6:$A$63,'1추총괄표(위원회)'!$A22,'1추일출'!$B$6:$B$63,'1추총괄표(위원회)'!$C22) -> 0 | AA22: =SUMIFS('1추일출'!N$6:N$63,'1추일출'!$A$6:$A$63,'1추총괄표(위원회)'!$A22,'1추일출'!$B$6:$B$63,'1추총괄표(위원회)'!$C22) -> 0 | AB22: =SUMIFS('1추일출'!O$6:O$63,'1추일출'!$A$6:$A$63,'1추총괄표(위원회)'!$A22,'1추일출'!$B$6:$B$63,'1추총괄표(위원회)'!$C22) -> 0 | AC22: =SUMIFS('1추일출'!AB$6:AB$63,'1추일출'!$A$6:$A$63,'1추총괄표(위원회)'!$A22,'1추일출'!$B$6:$B$63,'1추총괄표(위원회)'!C$9) -> 0 | AD22: =SUMIFS('1추일출'!AC$6:AC$63,'1추일출'!$A$6:$A$63,'1추총괄표(위원회)'!$A22,'1추일출'!$B$6:$B$63,'1추총괄표(위원회)'!D$9) -> 0 | AF22: =IF(J22=X22,"OK","@@") -> OK | AG22: =J22-X22 -> 0 | AH22: =IF(O22=AC22,"OK","@@") -> OK | AI22: =O22-AC22 -> 0
B23: 안전행정위원회 | D23: =SUM(D24:D27) -> 0 | E23: =SUM(E24:E27) -> 0 | F23: =SUM(F24:F27) -> 0 | G23: =SUM(G24:G27) -> 0 | H23: =SUM(H24:H27) -> 0 | I23: =SUM(I24:I27) -> 0 | J23: =SUM(J24:J27) -> 0 | K23: =SUM(K24:K27) -> 0 | ... P23: =SUM(P24:P27) -> 0 | R23: =SUM(R24:R27) -> 773000 | S23: =SUM(S24:S27) -> 0 | T23: =SUM(T24:T27) -> 773000 | U23: =SUM(U24:U27) -> 0 | V23: =SUM(V24:V27) -> 37500 | W23: =SUM(W24:W27) -> 810500 | X23: =SUM(X24:X27) -> 0 | Y23: =SUM(Y24:Y27) -> 37500 | ... AD23: =SUM(AD24:AD27) -> 0 | AF23: =IF(J23=X23,"OK","@@") -> OK | AG23: =J23-X23 -> 0 | AH23: =IF(O23=AC23,"OK","@@") -> OK | AI23: =O23-AC23 -> 0
A24: 안전행정위원회 | C24: 자치행정국 | D24: =SUMIFS('1추일입'!G$6:G$15,'1추일입'!$A$6:$A$15,'1추총괄표(위원회)'!$A24,'1추일입'!$B$6:$B$15,'1추총괄표(위원회)'!$C24) -> 0 | E24: =SUMIFS('1추일입'!H$6:H$15,'1추일입'!$A$6:$A$15,'1추총괄표(위원회)'!$A24,'1추일입'!$B$6:$B$15,'1추총괄표(위원회)'!$C24) -> 0 | F24: =D24-E24 -> 0 | G24: =SUMIFS('1추일입'!J$6:J$15,'1추일입'!$A$6:$A$15,'1추총괄표(위원회)'!$A24,'1추일입'!$B$6:$B$15,'1추총괄표(위원회)'!$C24) -> 0 | H24: =SUMIFS('1추일입'!K$6:K$15,'1추일입'!$A$6:$A$15,'1추총괄표(위원회)'!$A24,'1추일입'!$B$6:$B$15,'1추총괄표(위원회)'!$C24) -> 0 | I24: =SUMIFS('1추일입'!L$6:L$15,'1추일입'!$A$6:$A$15,'1추총괄표(위원회)'!$A24,'1추일입'!$B$6:$B$15,'1추총괄표(위원회)'!$C24) -> 0 | J24: =SUMIFS('1추일입'!V$6:V$15,'1추일입'!$A$6:$A$15,'1추총괄표(위원회)'!$A24,'1추일입'!$B$6:$B$15,'1추총괄표(위원회)'!$C24) -> 0 | K24: =SUMIFS('1추일입'!W$6:W$15,'1추일입'!$A$6:$A$15,'1추총괄표(위원회)'!$A24,'1추일입'!$B$6:$B$15,'1추총괄표(위원회)'!$C24) -> 0 | L24: =SUMIFS('1추일입'!M$6:M$15,'1추일입'!$A$6:$A$15,'1추총괄표(위원회)'!$A24,'1추일입'!$B$6:$B$15,'1추총괄표(위원회)'!$C24) -> 0 | M24: =SUMIFS('1추일입'!N$6:N$15,'1추일입'!$A$6:$A$15,'1추총괄표(위원회)'!$A24,'1추일입'!$B$6:$B$15,'1추총괄표(위원회)'!$C24) -> 0 | N24: =SUMIFS('1추일입'!O$6:O$15,'1추일입'!$A$6:$A$15,'1추총괄표(위원회)'!$A24,'1추일입'!$B$6:$B$15,'1추총괄표(위원회)'!$C24) -> 0 | O24: =SUMIFS('1추일입'!AA$6:AA$15,'1추일입'!$A$6:$A$15,'1추총괄표(위원회)'!$A24,'1추일입'!$B$6:$B$15,'1추총괄표(위원회)'!$C24) -> 0 | P24: =SUMIFS('1추일입'!AB$6:AB$15,'1추일입'!$A$6:$A$15,'1추총괄표(위원회)'!$A24,'1추일입'!$B$6:$B$15,'1추총괄표(위원회)'!$C24) -> 0 | R24: =SUMIFS('1추일출'!G$6:G$63,'1추일출'!$A$6:$A$63,'1추총괄표(위원회)'!$A24,'1추일출'!$B$6:$B$63,'1추총괄표(위원회)'!$C24) -> 0 | S24: =SUMIFS('1추일출'!H$6:H$63,'1추일출'!$A$6:$A$63,'1추총괄표(위원회)'!$A24,'1추일출'!$B$6:$B$63,'1추총괄표(위원회)'!$C24) -> 0 | T24: =R24-S24 -> 0 | U24: =SUMIFS('1추일출'!J$6:J$63,'1추일출'!$A$6:$A$63,'1추총괄표(위원회)'!$A24,'1추일출'!$B$6:$B$63,'1추총괄표(위원회)'!$C24) -> 0 | V24: =SUMIFS('1추일출'!K$6:K$63,'1추일출'!$A$6:$A$63,'1추총괄표(위원회)'!$A24,'1추일출'!$B$6:$B$63,'1추총괄표(위원회)'!$C24) -> 0 | W24: =SUMIFS('1추일출'!L$6:L$63,'1추일출'!$A$6:$A$63,'1추총괄표(위원회)'!$A24,'1추일출'!$B$6:$B$63,'1추총괄표(위원회)'!$C24) -> 0 | X24: =SUMIFS('1추일출'!W$6:W$63,'1추일출'!$A$6:$A$63,'1추총괄표(위원회)'!$A24,'1추일출'!$B$6:$B$63,'1추총괄표(위원회)'!$C24) -> 0 | Y24: =SUMIFS('1추일출'!X$6:X$63,'1추일출'!$A$6:$A$63,'1추총괄표(위원회)'!$A24,'1추일출'!$B$6:$B$63,'1추총괄표(위원회)'!$C24) -> 0 | Z24: =SUMIFS('1추일출'!M$6:M$63,'1추일출'!$A$6:$A$63,'1추총괄표(위원회)'!$A24,'1추일출'!$B$6:$B$63,'1추총괄표(위원회)'!$C24) -> 0 | AA24: =SUMIFS('1추일출'!N$6:N$63,'1추일출'!$A$6:$A$63,'1추총괄표(위원회)'!$A24,'1추일출'!$B$6:$B$63,'1추총괄표(위원회)'!$C24) -> 0 | AB24: =SUMIFS('1추일출'!O$6:O$63,'1추일출'!$A$6:$A$63,'1추총괄표(위원회)'!$A24,'1추일출'!$B$6:$B$63,'1추총괄표(위원회)'!$C24) -> 0 | AC24: =SUMIFS('1추일출'!AB$6:AB$63,'1추일출'!$A$6:$A$63,'1추총괄표(위원회)'!$A24,'1추일출'!$B$6:$B$63,'1추총괄표(위원회)'!C$9) -> 0 | AD24: =SUMIFS('1추일출'!AC$6:AC$63,'1추일출'!$A$6:$A$63,'1추총괄표(위원회)'!$A24,'1추일출'!$B$6:$B$63,'1추총괄표(위원회)'!D$9) -> 0 | AF24: =IF(J24=X24,"OK","@@") -> OK | AG24: =J24-X24 -> 0 | AH24: =IF(O24=AC24,"OK","@@") -> OK | AI24: =O24-AC24 -> 0
A25: 안전행정위원회 | C25: 재난안전본부 | D25: =SUMIFS('1추일입'!G$6:G$15,'1추일입'!$A$6:$A$15,'1추총괄표(위원회)'!$A25,'1추일입'!$B$6:$B$15,'1추총괄표(위원회)'!$C25) -> 0 | E25: =SUMIFS('1추일입'!H$6:H$15,'1추일입'!$A$6:$A$15,'1추총괄표(위원회)'!$A25,'1추일입'!$B$6:$B$15,'1추총괄표(위원회)'!$C25) -> 0 | F25: =D25-E25 -> 0 | G25: =SUMIFS('1추일입'!J$6:J$15,'1추일입'!$A$6:$A$15,'1추총괄표(위원회)'!$A25,'1추일입'!$B$6:$B$15,'1추총괄표(위원회)'!$C25) -> 0 | H25: =SUMIFS('1추일입'!K$6:K$15,'1추일입'!$A$6:$A$15,'1추총괄표(위원회)'!$A25,'1추일입'!$B$6:$B$15,'1추총괄표(위원회)'!$C25) -> 0 | I25: =SUMIFS('1추일입'!L$6:L$15,'1추일입'!$A$6:$A$15,'1추총괄표(위원회)'!$A25,'1추일입'!$B$6:$B$15,'1추총괄표(위원회)'!$C25) -> 0 | J25: =SUMIFS('1추일입'!V$6:V$15,'1추일입'!$A$6:$A$15,'1추총괄표(위원회)'!$A25,'1추일입'!$B$6:$B$15,'1추총괄표(위원회)'!$C25) -> 0 | K25: =SUMIFS('1추일입'!W$6:W$15,'1추일입'!$A$6:$A$15,'1추총괄표(위원회)'!$A25,'1추일입'!$B$6:$B$15,'1추총괄표(위원회)'!$C25) -> 0 | L25: =SUMIFS('1추일입'!M$6:M$15,'1추일입'!$A$6:$A$15,'1추총괄표(위원회)'!$A25,'1추일입'!$B$6:$B$15,'1추총괄표(위원회)'!$C25) -> 0 | M25: =SUMIFS('1추일입'!N$6:N$15,'1추일입'!$A$6:$A$15,'1추총괄표(위원회)'!$A25,'1추일입'!$B$6:$B$15,'1추총괄표(위원회)'!$C25) -> 0 | N25: =SUMIFS('1추일입'!O$6:O$15,'1추일입'!$A$6:$A$15,'1추총괄표(위원회)'!$A25,'1추일입'!$B$6:$B$15,'1추총괄표(위원회)'!$C25) -> 0 | O25: =SUMIFS('1추일입'!AA$6:AA$15,'1추일입'!$A$6:$A$15,'1추총괄표(위원회)'!$A25,'1추일입'!$B$6:$B$15,'1추총괄표(위원회)'!$C25) -> 0 | P25: =SUMIFS('1추일입'!AB$6:AB$15,'1추일입'!$A$6:$A$15,'1추총괄표(위원회)'!$A25,'1추일입'!$B$6:$B$15,'1추총괄표(위원회)'!$C25) -> 0 | R25: =SUMIFS('1추일출'!G$6:G$63,'1추일출'!$A$6:$A$63,'1추총괄표(위원회)'!$A25,'1추일출'!$B$6:$B$63,'1추총괄표(위원회)'!$C25) -> 773000 | S25: =SUMIFS('1추일출'!H$6:H$63,'1추일출'!$A$6:$A$63,'1추총괄표(위원회)'!$A25,'1추일출'!$B$6:$B$63,'1추총괄표(위원회)'!$C25) -> 0 | T25: =R25-S25 -> 773000 | U25: =SUMIFS('1추일출'!J$6:J$63,'1추일출'!$A$6:$A$63,'1추총괄표(위원회)'!$A25,'1추일출'!$B$6:$B$63,'1추총괄표(위원회)'!$C25) -> 0 | V25: =SUMIFS('1추일출'!K$6:K$63,'1추일출'!$A$6:$A$63,'1추총괄표(위원회)'!$A25,'1추일출'!$B$6:$B$63,'1추총괄표(위원회)'!$C25) -> 37500 | W25: =SUMIFS('1추일출'!L$6:L$63,'1추일출'!$A$6:$A$63,'1추총괄표(위원회)'!$A25,'1추일출'!$B$6:$B$63,'1추총괄표(위원회)'!$C25) -> 810500 | X25: =SUMIFS('1추일출'!W$6:W$63,'1추일출'!$A$6:$A$63,'1추총괄표(위원회)'!$A25,'1추일출'!$B$6:$B$63,'1추총괄표(위원회)'!$C25) -> 0 | Y25: =SUMIFS('1추일출'!X$6:X$63,'1추일출'!$A$6:$A$63,'1추총괄표(위원회)'!$A25,'1추일출'!$B$6:$B$63,'1추총괄표(위원회)'!$C25) -> 37500 | Z25: =SUMIFS('1추일출'!M$6:M$63,'1추일출'!$A$6:$A$63,'1추총괄표(위원회)'!$A25,'1추일출'!$B$6:$B$63,'1추총괄표(위원회)'!$C25) -> 0 | AA25: =SUMIFS('1추일출'!N$6:N$63,'1추일출'!$A$6:$A$63,'1추총괄표(위원회)'!$A25,'1추일출'!$B$6:$B$63,'1추총괄표(위원회)'!$C25) -> 441500 | AB25: =SUMIFS('1추일출'!O$6:O$63,'1추일출'!$A$6:$A$63,'1추총괄표(위원회)'!$A25,'1추일출'!$B$6:$B$63,'1추총괄표(위원회)'!$C25) -> 1214500 | AC25: =SUMIFS('1추일출'!AB$6:AB$63,'1추일출'!$A$6:$A$63,'1추총괄표(위원회)'!$A25,'1추일출'!$B$6:$B$63,'1추총괄표(위원회)'!C$9) -> 0 | AD25: =SUMIFS('1추일출'!AC$6:AC$63,'1추일출'!$A$6:$A$63,'1추총괄표(위원회)'!$A25,'1추일출'!$B$6:$B$63,'1추총괄표(위원회)'!D$9) -> 0 | AF25: =IF(J25=X25,"OK","@@") -> OK | AG25: =J25-X25 -> 0 | AH25: =IF(O25=AC25,"OK","@@") -> OK | AI25: =O25-AC25 -> 0
A26: 안전행정위원회 | C26: 균형발전기획실 | D26: =SUMIFS('1추일입'!G$6:G$15,'1추일입'!$A$6:$A$15,'1추총괄표(위원회)'!$A26,'1추일입'!$B$6:$B$15,'1추총괄표(위원회)'!$C26) -> 0 | E26: =SUMIFS('1추일입'!H$6:H$15,'1추일입'!$A$6:$A$15,'1추총괄표(위원회)'!$A26,'1추일입'!$B$6:$B$15,'1추총괄표(위원회)'!$C26) -> 0 | F26: =D26-E26 -> 0 | G26: =SUMIFS('1추일입'!J$6:J$15,'1추일입'!$A$6:$A$15,'1추총괄표(위원회)'!$A26,'1추일입'!$B$6:$B$15,'1추총괄표(위원회)'!$C26) -> 0 | H26: =SUMIFS('1추일입'!K$6:K$15,'1추일입'!$A$6:$A$15,'1추총괄표(위원회)'!$A26,'1추일입'!$B$6:$B$15,'1추총괄표(위원회)'!$C26) -> 0 | I26: =SUMIFS('1추일입'!L$6:L$15,'1추일입'!$A$6:$A$15,'1추총괄표(위원회)'!$A26,'1추일입'!$B$6:$B$15,'1추총괄표(위원회)'!$C26) -> 0 | J26: =SUMIFS('1추일입'!V$6:V$15,'1추일입'!$A$6:$A$15,'1추총괄표(위원회)'!$A26,'1추일입'!$B$6:$B$15,'1추총괄표(위원회)'!$C26) -> 0 | K26: =SUMIFS('1추일입'!W$6:W$15,'1추일입'!$A$6:$A$15,'1추총괄표(위원회)'!$A26,'1추일입'!$B$6:$B$15,'1추총괄표(위원회)'!$C26) -> 0 | L26: =SUMIFS('1추일입'!M$6:M$15,'1추일입'!$A$6:$A$15,'1추총괄표(위원회)'!$A26,'1추일입'!$B$6:$B$15,'1추총괄표(위원회)'!$C26) -> 0 | M26: =SUMIFS('1추일입'!N$6:N$15,'1추일입'!$A$6:$A$15,'1추총괄표(위원회)'!$A26,'1추일입'!$B$6:$B$15,'1추총괄표(위원회)'!$C26) -> 0 | N26: =SUMIFS('1추일입'!O$6:O$15,'1추일입'!$A$6:$A$15,'1추총괄표(위원회)'!$A26,'1추일입'!$B$6:$B$15,'1추총괄표(위원회)'!$C26) -> 0 | O26: =SUMIFS('1추일입'!AA$6:AA$15,'1추일입'!$A$6:$A$15,'1추총괄표(위원회)'!$A26,'1추일입'!$B$6:$B$15,'1추총괄표(위원회)'!$C26) -> 0 | P26: =SUMIFS('1추일입'!AB$6:AB$15,'1추일입'!$A$6:$A$15,'1추총괄표(위원회)'!$A26,'1추일입'!$B$6:$B$15,'1추총괄표(위원회)'!$C26) -> 0 | R26: =SUMIFS('1추일출'!G$6:G$63,'1추일출'!$A$6:$A$63,'1추총괄표(위원회)'!$A26,'1추일출'!$B$6:$B$63,'1추총괄표(위원회)'!$C26) -> 0 | S26: =SUMIFS('1추일출'!H$6:H$63,'1추일출'!$A$6:$A$63,'1추총괄표(위원회)'!$A26,'1추일출'!$B$6:$B$63,'1추총괄표(위원회)'!$C26) -> 0 | T26: =R26-S26 -> 0 | U26: =SUMIFS('1추일출'!J$6:J$63,'1추일출'!$A$6:$A$63,'1추총괄표(위원회)'!$A26,'1추일출'!$B$6:$B$63,'1추총괄표(위원회)'!$C26) -> 0 | V26: =SUMIFS('1추일출'!K$6:K$63,'1추일출'!$A$6:$A$63,'1추총괄표(위원회)'!$A26,'1추일출'!$B$6:$B$63,'1추총괄표(위원회)'!$C26) -> 0 | W26: =SUMIFS('1추일출'!L$6:L$63,'1추일출'!$A$6:$A$63,'1추총괄표(위원회)'!$A26,'1추일출'!$B$6:$B$63,'1추총괄표(위원회)'!$C26) -> 0 | X26: =SUMIFS('1추일출'!W$6:W$63,'1추일출'!$A$6:$A$63,'1추총괄표(위원회)'!$A26,'1추일출'!$B$6:$B$63,'1추총괄표(위원회)'!$C26) -> 0 | Y26: =SUMIFS('1추일출'!X$6:X$63,'1추일출'!$A$6:$A$63,'1추총괄표(위원회)'!$A26,'1추일출'!$B$6:$B$63,'1추총괄표(위원회)'!$C26) -> 0 | Z26: =SUMIFS('1추일출'!M$6:M$63,'1추일출'!$A$6:$A$63,'1추총괄표(위원회)'!$A26,'1추일출'!$B$6:$B$63,'1추총괄표(위원회)'!$C26) -> 0 | AA26: =SUMIFS('1추일출'!N$6:N$63,'1추일출'!$A$6:$A$63,'1추총괄표(위원회)'!$A26,'1추일출'!$B$6:$B$63,'1추총괄표(위원회)'!$C26) -> 0 | AB26: =SUMIFS('1추일출'!O$6:O$63,'1추일출'!$A$6:$A$63,'1추총괄표(위원회)'!$A26,'1추일출'!$B$6:$B$63,'1추총괄표(위원회)'!$C26) -> 0 | AC26: =SUMIFS('1추일출'!AB$6:AB$63,'1추일출'!$A$6:$A$63,'1추총괄표(위원회)'!$A26,'1추일출'!$B$6:$B$63,'1추총괄표(위원회)'!C$9) -> 0 | AD26: =SUMIFS('1추일출'!AC$6:AC$63,'1추일출'!$A$6:$A$63,'1추총괄표(위원회)'!$A26,'1추일출'!$B$6:$B$63,'1추총괄표(위원회)'!D$9) -> 0 | AF26: =IF(J26=X26,"OK","@@") -> OK | AG26: =J26-X26 -> 0 | AH26: =IF(O26=AC26,"OK","@@") -> OK | AI26: =O26-AC26 -> 0
A27: 안전행정위원회 | C27: 인재개발원 | D27: =SUMIFS('1추일입'!G$6:G$15,'1추일입'!$A$6:$A$15,'1추총괄표(위원회)'!$A27,'1추일입'!$B$6:$B$15,'1추총괄표(위원회)'!$C27) -> 0 | E27: =SUMIFS('1추일입'!H$6:H$15,'1추일입'!$A$6:$A$15,'1추총괄표(위원회)'!$A27,'1추일입'!$B$6:$B$15,'1추총괄표(위원회)'!$C27) -> 0 | F27: =D27-E27 -> 0 | G27: =SUMIFS('1추일입'!J$6:J$15,'1추일입'!$A$6:$A$15,'1추총괄표(위원회)'!$A27,'1추일입'!$B$6:$B$15,'1추총괄표(위원회)'!$C27) -> 0 | H27: =SUMIFS('1추일입'!K$6:K$15,'1추일입'!$A$6:$A$15,'1추총괄표(위원회)'!$A27,'1추일입'!$B$6:$B$15,'1추총괄표(위원회)'!$C27) -> 0 | I27: =SUMIFS('1추일입'!L$6:L$15,'1추일입'!$A$6:$A$15,'1추총괄표(위원회)'!$A27,'1추일입'!$B$6:$B$15,'1추총괄표(위원회)'!$C27) -> 0 | J27: =SUMIFS('1추일입'!V$6:V$15,'1추일입'!$A$6:$A$15,'1추총괄표(위원회)'!$A27,'1추일입'!$B$6:$B$15,'1추총괄표(위원회)'!$C27) -> 0 | K27: =SUMIFS('1추일입'!W$6:W$15,'1추일입'!$A$6:$A$15,'1추총괄표(위원회)'!$A27,'1추일입'!$B$6:$B$15,'1추총괄표(위원회)'!$C27) -> 0 | L27: =SUMIFS('1추일입'!M$6:M$15,'1추일입'!$A$6:$A$15,'1추총괄표(위원회)'!$A27,'1추일입'!$B$6:$B$15,'1추총괄표(위원회)'!$C27) -> 0 | M27: =SUMIFS('1추일입'!N$6:N$15,'1추일입'!$A$6:$A$15,'1추총괄표(위원회)'!$A27,'1추일입'!$B$6:$B$15,'1추총괄표(위원회)'!$C27) -> 0 | N27: =SUMIFS('1추일입'!O$6:O$15,'1추일입'!$A$6:$A$15,'1추총괄표(위원회)'!$A27,'1추일입'!$B$6:$B$15,'1추총괄표(위원회)'!$C27) -> 0 | O27: =SUMIFS('1추일입'!AA$6:AA$15,'1추일입'!$A$6:$A$15,'1추총괄표(위원회)'!$A27,'1추일입'!$B$6:$B$15,'1추총괄표(위원회)'!$C27) -> 0 | P27: =SUMIFS('1추일입'!AB$6:AB$15,'1추일입'!$A$6:$A$15,'1추총괄표(위원회)'!$A27,'1추일입'!$B$6:$B$15,'1추총괄표(위원회)'!$C27) -> 0 | R27: =SUMIFS('1추일출'!G$6:G$63,'1추일출'!$A$6:$A$63,'1추총괄표(위원회)'!$A27,'1추일출'!$B$6:$B$63,'1추총괄표(위원회)'!$C27) -> 0 | S27: =SUMIFS('1추일출'!H$6:H$63,'1추일출'!$A$6:$A$63,'1추총괄표(위원회)'!$A27,'1추일출'!$B$6:$B$63,'1추총괄표(위원회)'!$C27) -> 0 | T27: =R27-S27 -> 0 | U27: =SUMIFS('1추일출'!J$6:J$63,'1추일출'!$A$6:$A$63,'1추총괄표(위원회)'!$A27,'1추일출'!$B$6:$B$63,'1추총괄표(위원회)'!$C27) -> 0 | V27: =SUMIFS('1추일출'!K$6:K$63,'1추일출'!$A$6:$A$63,'1추총괄표(위원회)'!$A27,'1추일출'!$B$6:$B$63,'1추총괄표(위원회)'!$C27) -> 0 | W27: =SUMIFS('1추일출'!L$6:L$63,'1추일출'!$A$6:$A$63,'1추총괄표(위원회)'!$A27,'1추일출'!$B$6:$B$63,'1추총괄표(위원회)'!$C27) -> 0 | X27: =SUMIFS('1추일출'!W$6:W$63,'1추일출'!$A$6:$A$63,'1추총괄표(위원회)'!$A27,'1추일출'!$B$6:$B$63,'1추총괄표(위원회)'!$C27) -> 0 | Y27: =SUMIFS('1추일출'!X$6:X$63,'1추일출'!$A$6:$A$63,'1추총괄표(위원회)'!$A27,'1추일출'!$B$6:$B$63,'1추총괄표(위원회)'!$C27) -> 0 | Z27: =SUMIFS('1추일출'!M$6:M$63,'1추일출'!$A$6:$A$63,'1추총괄표(위원회)'!$A27,'1추일출'!$B$6:$B$63,'1추총괄표(위원회)'!$C27) -> 0 | AA27: =SUMIFS('1추일출'!N$6:N$63,'1추일출'!$A$6:$A$63,'1추총괄표(위원회)'!$A27,'1추일출'!$B$6:$B$63,'1추총괄표(위원회)'!$C27) -> 0 | AB27: =SUMIFS('1추일출'!O$6:O$63,'1추일출'!$A$6:$A$63,'1추총괄표(위원회)'!$A27,'1추일출'!$B$6:$B$63,'1추총괄표(위원회)'!$C27) -> 0 | AC27: =SUMIFS('1추일출'!AB$6:AB$63,'1추일출'!$A$6:$A$63,'1추총괄표(위원회)'!$A27,'1추일출'!$B$6:$B$63,'1추총괄표(위원회)'!C$9) -> 0 | AD27: =SUMIFS('1추일출'!AC$6:AC$63,'1추일출'!$A$6:$A$63,'1추총괄표(위원회)'!$A27,'1추일출'!$B$6:$B$63,'1추총괄표(위원회)'!D$9) -> 0 | AF27: =IF(J27=X27,"OK","@@") -> OK | AG27: =J27-X27 -> 0 | AH27: =IF(O27=AC27,"OK","@@") -> OK | AI27: =O27-AC27 -> 0
B28: 문화체육관광위원회 | D28: =SUM(D29) -> 0 | E28: =SUM(E29) -> 0 | F28: =SUM(F29) -> 0 | G28: =SUM(G29) -> 0 | H28: =SUM(H29) -> 0 | I28: =SUM(I29) -> 0 | J28: =SUM(J29) -> 0 | K28: =SUM(K29) -> 0 | ... P28: =SUM(P29) -> 0 | R28: =SUM(R29) -> 5830000 | S28: =SUM(S29) -> 0 | T28: =SUM(T29) -> 5830000 | U28: =SUM(U29) -> 0 | V28: =SUM(V29) -> 2100000 | W28: =SUM(W29) -> 7930000 | X28: =SUM(X29) -> 0 | Y28: =SUM(Y29) -> 2100000 | ... AD28: =SUM(AD29) -> 0 | AF28: =IF(J28=X28,"OK","@@") -> OK | AG28: =J28-X28 -> 0 | AH28: =IF(O28=AC28,"OK","@@") -> OK | AI28: =O28-AC28 -> 0
A29: 문화체육관광위원회 | C29: 문화체육관광국 | D29: =SUMIFS('1추일입'!G$6:G$15,'1추일입'!$A$6:$A$15,'1추총괄표(위원회)'!$A29,'1추일입'!$B$6:$B$15,'1추총괄표(위원회)'!$C29) -> 0 | E29: =SUMIFS('1추일입'!H$6:H$15,'1추일입'!$A$6:$A$15,'1추총괄표(위원회)'!$A29,'1추일입'!$B$6:$B$15,'1추총괄표(위원회)'!$C29) -> 0 | F29: =D29-E29 -> 0 | G29: =SUMIFS('1추일입'!J$6:J$15,'1추일입'!$A$6:$A$15,'1추총괄표(위원회)'!$A29,'1추일입'!$B$6:$B$15,'1추총괄표(위원회)'!$C29) -> 0 | H29: =SUMIFS('1추일입'!K$6:K$15,'1추일입'!$A$6:$A$15,'1추총괄표(위원회)'!$A29,'1추일입'!$B$6:$B$15,'1추총괄표(위원회)'!$C29) -> 0 | I29: =SUMIFS('1추일입'!L$6:L$15,'1추일입'!$A$6:$A$15,'1추총괄표(위원회)'!$A29,'1추일입'!$B$6:$B$15,'1추총괄표(위원회)'!$C29) -> 0 | J29: =SUMIFS('1추일입'!V$6:V$15,'1추일입'!$A$6:$A$15,'1추총괄표(위원회)'!$A29,'1추일입'!$B$6:$B$15,'1추총괄표(위원회)'!$C29) -> 0 | K29: =SUMIFS('1추일입'!W$6:W$15,'1추일입'!$A$6:$A$15,'1추총괄표(위원회)'!$A29,'1추일입'!$B$6:$B$15,'1추총괄표(위원회)'!$C29) -> 0 | L29: =SUMIFS('1추일입'!M$6:M$15,'1추일입'!$A$6:$A$15,'1추총괄표(위원회)'!$A29,'1추일입'!$B$6:$B$15,'1추총괄표(위원회)'!$C29) -> 0 | M29: =SUMIFS('1추일입'!N$6:N$15,'1추일입'!$A$6:$A$15,'1추총괄표(위원회)'!$A29,'1추일입'!$B$6:$B$15,'1추총괄표(위원회)'!$C29) -> 0 | N29: =SUMIFS('1추일입'!O$6:O$15,'1추일입'!$A$6:$A$15,'1추총괄표(위원회)'!$A29,'1추일입'!$B$6:$B$15,'1추총괄표(위원회)'!$C29) -> 0 | O29: =SUMIFS('1추일입'!AA$6:AA$15,'1추일입'!$A$6:$A$15,'1추총괄표(위원회)'!$A29,'1추일입'!$B$6:$B$15,'1추총괄표(위원회)'!$C29) -> 0 | P29: =SUMIFS('1추일입'!AB$6:AB$15,'1추일입'!$A$6:$A$15,'1추총괄표(위원회)'!$A29,'1추일입'!$B$6:$B$15,'1추총괄표(위원회)'!$C29) -> 0 | R29: =SUMIFS('1추일출'!G$6:G$63,'1추일출'!$A$6:$A$63,'1추총괄표(위원회)'!$A29,'1추일출'!$B$6:$B$63,'1추총괄표(위원회)'!$C29) -> 5830000 | S29: =SUMIFS('1추일출'!H$6:H$63,'1추일출'!$A$6:$A$63,'1추총괄표(위원회)'!$A29,'1추일출'!$B$6:$B$63,'1추총괄표(위원회)'!$C29) -> 0 | T29: =R29-S29 -> 5830000 | U29: =SUMIFS('1추일출'!J$6:J$63,'1추일출'!$A$6:$A$63,'1추총괄표(위원회)'!$A29,'1추일출'!$B$6:$B$63,'1추총괄표(위원회)'!$C29) -> 0 | V29: =SUMIFS('1추일출'!K$6:K$63,'1추일출'!$A$6:$A$63,'1추총괄표(위원회)'!$A29,'1추일출'!$B$6:$B$63,'1추총괄표(위원회)'!$C29) -> 2100000 | W29: =SUMIFS('1추일출'!L$6:L$63,'1추일출'!$A$6:$A$63,'1추총괄표(위원회)'!$A29,'1추일출'!$B$6:$B$63,'1추총괄표(위원회)'!$C29) -> 7930000 | X29: =SUMIFS('1추일출'!W$6:W$63,'1추일출'!$A$6:$A$63,'1추총괄표(위원회)'!$A29,'1추일출'!$B$6:$B$63,'1추총괄표(위원회)'!$C29) -> 0 | Y29: =SUMIFS('1추일출'!X$6:X$63,'1추일출'!$A$6:$A$63,'1추총괄표(위원회)'!$A29,'1추일출'!$B$6:$B$63,'1추총괄표(위원회)'!$C29) -> 2100000 | Z29: =SUMIFS('1추일출'!M$6:M$63,'1추일출'!$A$6:$A$63,'1추총괄표(위원회)'!$A29,'1추일출'!$B$6:$B$63,'1추총괄표(위원회)'!$C29) -> -1290000 | AA29: =SUMIFS('1추일출'!N$6:N$63,'1추일출'!$A$6:$A$63,'1추총괄표(위원회)'!$A29,'1추일출'!$B$6:$B$63,'1추총괄표(위원회)'!$C29) -> 2100000 | AB29: =SUMIFS('1추일출'!O$6:O$63,'1추일출'!$A$6:$A$63,'1추총괄표(위원회)'!$A29,'1추일출'!$B$6:$B$63,'1추총괄표(위원회)'!$C29) -> 6640000 | AC29: =SUMIFS('1추일출'!AB$6:AB$63,'1추일출'!$A$6:$A$63,'1추총괄표(위원회)'!$A29,'1추일출'!$B$6:$B$63,'1추총괄표(위원회)'!C$9) -> 0 | AD29: =SUMIFS('1추일출'!AC$6:AC$63,'1추일출'!$A$6:$A$63,'1추총괄표(위원회)'!$A29,'1추일출'!$B$6:$B$63,'1추총괄표(위원회)'!D$9) -> 0 | AF29: =IF(J29=X29,"OK","@@") -> OK | AG29: =J29-X29 -> 0 | AH29: =IF(O29=AC29,"OK","@@") -> OK | AI29: =O29-AC29 -> 0
B30: 농정해양위원회 | D30: =SUM(D31:D33) -> 0 | E30: =SUM(E31:E33) -> 0 | F30: =SUM(F31:F33) -> 0 | G30: =SUM(G31:G33) -> 0 | H30: =SUM(H31:H33) -> 0 | I30: =SUM(I31:I33) -> 0 | J30: =SUM(J31:J33) -> 0 | K30: =SUM(K31:K33) -> 0 | ... P30: =SUM(P31:P33) -> 0 | R30: =SUM(R31:R33) -> 9460000 | S30: =SUM(S31:S33) -> 0 | T30: =SUM(T31:T33) -> 9460000 | U30: =SUM(U31:U33) -> 0 | V30: =SUM(V31:V33) -> 5901000 | W30: =SUM(W31:W33) -> 15361000 | X30: =SUM(X31:X33) -> 0 | Y30: =SUM(Y31:Y33) -> 5901000 | ... AD30: =SUM(AD31:AD33) -> 0 | AF30: =IF(J30=X30,"OK","@@") -> OK | AG30: =J30-X30 -> 0 | AH30: =IF(O30=AC30,"OK","@@") -> OK | AI30: =O30-AC30 -> 0
A31: 농정해양위원회 | C31: 농정해양국 | D31: =SUMIFS('1추일입'!G$6:G$15,'1추일입'!$A$6:$A$15,'1추총괄표(위원회)'!$A31,'1추일입'!$B$6:$B$15,'1추총괄표(위원회)'!$C31) -> 0 | E31: =SUMIFS('1추일입'!H$6:H$15,'1추일입'!$A$6:$A$15,'1추총괄표(위원회)'!$A31,'1추일입'!$B$6:$B$15,'1추총괄표(위원회)'!$C31) -> 0 | F31: =D31-E31 -> 0 | G31: =SUMIFS('1추일입'!J$6:J$15,'1추일입'!$A$6:$A$15,'1추총괄표(위원회)'!$A31,'1추일입'!$B$6:$B$15,'1추총괄표(위원회)'!$C31) -> 0 | H31: =SUMIFS('1추일입'!K$6:K$15,'1추일입'!$A$6:$A$15,'1추총괄표(위원회)'!$A31,'1추일입'!$B$6:$B$15,'1추총괄표(위원회)'!$C31) -> 0 | I31: =SUMIFS('1추일입'!L$6:L$15,'1추일입'!$A$6:$A$15,'1추총괄표(위원회)'!$A31,'1추일입'!$B$6:$B$15,'1추총괄표(위원회)'!$C31) -> 0 | J31: =SUMIFS('1추일입'!V$6:V$15,'1추일입'!$A$6:$A$15,'1추총괄표(위원회)'!$A31,'1추일입'!$B$6:$B$15,'1추총괄표(위원회)'!$C31) -> 0 | K31: =SUMIFS('1추일입'!W$6:W$15,'1추일입'!$A$6:$A$15,'1추총괄표(위원회)'!$A31,'1추일입'!$B$6:$B$15,'1추총괄표(위원회)'!$C31) -> 0 | L31: =SUMIFS('1추일입'!M$6:M$15,'1추일입'!$A$6:$A$15,'1추총괄표(위원회)'!$A31,'1추일입'!$B$6:$B$15,'1추총괄표(위원회)'!$C31) -> 0 | M31: =SUMIFS('1추일입'!N$6:N$15,'1추일입'!$A$6:$A$15,'1추총괄표(위원회)'!$A31,'1추일입'!$B$6:$B$15,'1추총괄표(위원회)'!$C31) -> 0 | N31: =SUMIFS('1추일입'!O$6:O$15,'1추일입'!$A$6:$A$15,'1추총괄표(위원회)'!$A31,'1추일입'!$B$6:$B$15,'1추총괄표(위원회)'!$C31) -> 0 | O31: =SUMIFS('1추일입'!AA$6:AA$15,'1추일입'!$A$6:$A$15,'1추총괄표(위원회)'!$A31,'1추일입'!$B$6:$B$15,'1추총괄표(위원회)'!$C31) -> 0 | P31: =SUMIFS('1추일입'!AB$6:AB$15,'1추일입'!$A$6:$A$15,'1추총괄표(위원회)'!$A31,'1추일입'!$B$6:$B$15,'1추총괄표(위원회)'!$C31) -> 0 | R31: =SUMIFS('1추일출'!G$6:G$63,'1추일출'!$A$6:$A$63,'1추총괄표(위원회)'!$A31,'1추일출'!$B$6:$B$63,'1추총괄표(위원회)'!$C31) -> 8960000 | S31: =SUMIFS('1추일출'!H$6:H$63,'1추일출'!$A$6:$A$63,'1추총괄표(위원회)'!$A31,'1추일출'!$B$6:$B$63,'1추총괄표(위원회)'!$C31) -> 0 | T31: =R31-S31 -> 8960000 | U31: =SUMIFS('1추일출'!J$6:J$63,'1추일출'!$A$6:$A$63,'1추총괄표(위원회)'!$A31,'1추일출'!$B$6:$B$63,'1추총괄표(위원회)'!$C31) -> 0 | V31: =SUMIFS('1추일출'!K$6:K$63,'1추일출'!$A$6:$A$63,'1추총괄표(위원회)'!$A31,'1추일출'!$B$6:$B$63,'1추총괄표(위원회)'!$C31) -> 5901000 | W31: =SUMIFS('1추일출'!L$6:L$63,'1추일출'!$A$6:$A$63,'1추총괄표(위원회)'!$A31,'1추일출'!$B$6:$B$63,'1추총괄표(위원회)'!$C31) -> 14861000 | X31: =SUMIFS('1추일출'!W$6:W$63,'1추일출'!$A$6:$A$63,'1추총괄표(위원회)'!$A31,'1추일출'!$B$6:$B$63,'1추총괄표(위원회)'!$C31) -> 0 | Y31: =SUMIFS('1추일출'!X$6:X$63,'1추일출'!$A$6:$A$63,'1추총괄표(위원회)'!$A31,'1추일출'!$B$6:$B$63,'1추총괄표(위원회)'!$C31) -> 5901000 | Z31: =SUMIFS('1추일출'!M$6:M$63,'1추일출'!$A$6:$A$63,'1추총괄표(위원회)'!$A31,'1추일출'!$B$6:$B$63,'1추총괄표(위원회)'!$C31) -> 0 | AA31: =SUMIFS('1추일출'!N$6:N$63,'1추일출'!$A$6:$A$63,'1추총괄표(위원회)'!$A31,'1추일출'!$B$6:$B$63,'1추총괄표(위원회)'!$C31) -> 5061392 | AB31: =SUMIFS('1추일출'!O$6:O$63,'1추일출'!$A$6:$A$63,'1추총괄표(위원회)'!$A31,'1추일출'!$B$6:$B$63,'1추총괄표(위원회)'!$C31) -> 14021392 | AC31: =SUMIFS('1추일출'!AB$6:AB$63,'1추일출'!$A$6:$A$63,'1추총괄표(위원회)'!$A31,'1추일출'!$B$6:$B$63,'1추총괄표(위원회)'!C$9) -> 0 | AD31: =SUMIFS('1추일출'!AC$6:AC$63,'1추일출'!$A$6:$A$63,'1추총괄표(위원회)'!$A31,'1추일출'!$B$6:$B$63,'1추총괄표(위원회)'!D$9) -> 0 | AF31: =IF(J31=X31,"OK","@@") -> OK | AG31: =J31-X31 -> 0 | AH31: =IF(O31=AC31,"OK","@@") -> OK | AI31: =O31-AC31 -> 0
A32: 농정해양위원회 | C32: 축산산림국 | D32: =SUMIFS('1추일입'!G$6:G$15,'1추일입'!$A$6:$A$15,'1추총괄표(위원회)'!$A32,'1추일입'!$B$6:$B$15,'1추총괄표(위원회)'!$C32) -> 0 | E32: =SUMIFS('1추일입'!H$6:H$15,'1추일입'!$A$6:$A$15,'1추총괄표(위원회)'!$A32,'1추일입'!$B$6:$B$15,'1추총괄표(위원회)'!$C32) -> 0 | F32: =D32-E32 -> 0 | G32: =SUMIFS('1추일입'!J$6:J$15,'1추일입'!$A$6:$A$15,'1추총괄표(위원회)'!$A32,'1추일입'!$B$6:$B$15,'1추총괄표(위원회)'!$C32) -> 0 | H32: =SUMIFS('1추일입'!K$6:K$15,'1추일입'!$A$6:$A$15,'1추총괄표(위원회)'!$A32,'1추일입'!$B$6:$B$15,'1추총괄표(위원회)'!$C32) -> 0 | I32: =SUMIFS('1추일입'!L$6:L$15,'1추일입'!$A$6:$A$15,'1추총괄표(위원회)'!$A32,'1추일입'!$B$6:$B$15,'1추총괄표(위원회)'!$C32) -> 0 | J32: =SUMIFS('1추일입'!V$6:V$15,'1추일입'!$A$6:$A$15,'1추총괄표(위원회)'!$A32,'1추일입'!$B$6:$B$15,'1추총괄표(위원회)'!$C32) -> 0 | K32: =SUMIFS('1추일입'!W$6:W$15,'1추일입'!$A$6:$A$15,'1추총괄표(위원회)'!$A32,'1추일입'!$B$6:$B$15,'1추총괄표(위원회)'!$C32) -> 0 | L32: =SUMIFS('1추일입'!M$6:M$15,'1추일입'!$A$6:$A$15,'1추총괄표(위원회)'!$A32,'1추일입'!$B$6:$B$15,'1추총괄표(위원회)'!$C32) -> 0 | M32: =SUMIFS('1추일입'!N$6:N$15,'1추일입'!$A$6:$A$15,'1추총괄표(위원회)'!$A32,'1추일입'!$B$6:$B$15,'1추총괄표(위원회)'!$C32) -> 0 | N32: =SUMIFS('1추일입'!O$6:O$15,'1추일입'!$A$6:$A$15,'1추총괄표(위원회)'!$A32,'1추일입'!$B$6:$B$15,'1추총괄표(위원회)'!$C32) -> 0 | O32: =SUMIFS('1추일입'!AA$6:AA$15,'1추일입'!$A$6:$A$15,'1추총괄표(위원회)'!$A32,'1추일입'!$B$6:$B$15,'1추총괄표(위원회)'!$C32) -> 0 | P32: =SUMIFS('1추일입'!AB$6:AB$15,'1추일입'!$A$6:$A$15,'1추총괄표(위원회)'!$A32,'1추일입'!$B$6:$B$15,'1추총괄표(위원회)'!$C32) -> 0 | R32: =SUMIFS('1추일출'!G$6:G$63,'1추일출'!$A$6:$A$63,'1추총괄표(위원회)'!$A32,'1추일출'!$B$6:$B$63,'1추총괄표(위원회)'!$C32) -> 500000 | S32: =SUMIFS('1추일출'!H$6:H$63,'1추일출'!$A$6:$A$63,'1추총괄표(위원회)'!$A32,'1추일출'!$B$6:$B$63,'1추총괄표(위원회)'!$C32) -> 0 | T32: =R32-S32 -> 500000 | U32: =SUMIFS('1추일출'!J$6:J$63,'1추일출'!$A$6:$A$63,'1추총괄표(위원회)'!$A32,'1추일출'!$B$6:$B$63,'1추총괄표(위원회)'!$C32) -> 0 | V32: =SUMIFS('1추일출'!K$6:K$63,'1추일출'!$A$6:$A$63,'1추총괄표(위원회)'!$A32,'1추일출'!$B$6:$B$63,'1추총괄표(위원회)'!$C32) -> 0 | W32: =SUMIFS('1추일출'!L$6:L$63,'1추일출'!$A$6:$A$63,'1추총괄표(위원회)'!$A32,'1추일출'!$B$6:$B$63,'1추총괄표(위원회)'!$C32) -> 500000 | X32: =SUMIFS('1추일출'!W$6:W$63,'1추일출'!$A$6:$A$63,'1추총괄표(위원회)'!$A32,'1추일출'!$B$6:$B$63,'1추총괄표(위원회)'!$C32) -> 0 | Y32: =SUMIFS('1추일출'!X$6:X$63,'1추일출'!$A$6:$A$63,'1추총괄표(위원회)'!$A32,'1추일출'!$B$6:$B$63,'1추총괄표(위원회)'!$C32) -> 0 | Z32: =SUMIFS('1추일출'!M$6:M$63,'1추일출'!$A$6:$A$63,'1추총괄표(위원회)'!$A32,'1추일출'!$B$6:$B$63,'1추총괄표(위원회)'!$C32) -> -500000 | AA32: =SUMIFS('1추일출'!N$6:N$63,'1추일출'!$A$6:$A$63,'1추총괄표(위원회)'!$A32,'1추일출'!$B$6:$B$63,'1추총괄표(위원회)'!$C32) -> 0 | AB32: =SUMIFS('1추일출'!O$6:O$63,'1추일출'!$A$6:$A$63,'1추총괄표(위원회)'!$A32,'1추일출'!$B$6:$B$63,'1추총괄표(위원회)'!$C32) -> 0 | AC32: =SUMIFS('1추일출'!AB$6:AB$63,'1추일출'!$A$6:$A$63,'1추총괄표(위원회)'!$A32,'1추일출'!$B$6:$B$63,'1추총괄표(위원회)'!C$9) -> 0 | AD32: =SUMIFS('1추일출'!AC$6:AC$63,'1추일출'!$A$6:$A$63,'1추총괄표(위원회)'!$A32,'1추일출'!$B$6:$B$63,'1추총괄표(위원회)'!D$9) -> 0 | AF32: =IF(J32=X32,"OK","@@") -> OK | AG32: =J32-X32 -> 0 | AH32: =IF(O32=AC32,"OK","@@") -> OK | AI32: =O32-AC32 -> 0
A33: 농정해양위원회 | C33: 농업기술원 | D33: =SUMIFS('1추일입'!G$6:G$15,'1추일입'!$A$6:$A$15,'1추총괄표(위원회)'!$A33,'1추일입'!$B$6:$B$15,'1추총괄표(위원회)'!$C33) -> 0 | E33: =SUMIFS('1추일입'!H$6:H$15,'1추일입'!$A$6:$A$15,'1추총괄표(위원회)'!$A33,'1추일입'!$B$6:$B$15,'1추총괄표(위원회)'!$C33) -> 0 | F33: =D33-E33 -> 0 | G33: =SUMIFS('1추일입'!J$6:J$15,'1추일입'!$A$6:$A$15,'1추총괄표(위원회)'!$A33,'1추일입'!$B$6:$B$15,'1추총괄표(위원회)'!$C33) -> 0 | H33: =SUMIFS('1추일입'!K$6:K$15,'1추일입'!$A$6:$A$15,'1추총괄표(위원회)'!$A33,'1추일입'!$B$6:$B$15,'1추총괄표(위원회)'!$C33) -> 0 | I33: =SUMIFS('1추일입'!L$6:L$15,'1추일입'!$A$6:$A$15,'1추총괄표(위원회)'!$A33,'1추일입'!$B$6:$B$15,'1추총괄표(위원회)'!$C33) -> 0 | J33: =SUMIFS('1추일입'!V$6:V$15,'1추일입'!$A$6:$A$15,'1추총괄표(위원회)'!$A33,'1추일입'!$B$6:$B$15,'1추총괄표(위원회)'!$C33) -> 0 | K33: =SUMIFS('1추일입'!W$6:W$15,'1추일입'!$A$6:$A$15,'1추총괄표(위원회)'!$A33,'1추일입'!$B$6:$B$15,'1추총괄표(위원회)'!$C33) -> 0 | L33: =SUMIFS('1추일입'!M$6:M$15,'1추일입'!$A$6:$A$15,'1추총괄표(위원회)'!$A33,'1추일입'!$B$6:$B$15,'1추총괄표(위원회)'!$C33) -> 0 | M33: =SUMIFS('1추일입'!N$6:N$15,'1추일입'!$A$6:$A$15,'1추총괄표(위원회)'!$A33,'1추일입'!$B$6:$B$15,'1추총괄표(위원회)'!$C33) -> 0 | N33: =SUMIFS('1추일입'!O$6:O$15,'1추일입'!$A$6:$A$15,'1추총괄표(위원회)'!$A33,'1추일입'!$B$6:$B$15,'1추총괄표(위원회)'!$C33) -> 0 | O33: =SUMIFS('1추일입'!AA$6:AA$15,'1추일입'!$A$6:$A$15,'1추총괄표(위원회)'!$A33,'1추일입'!$B$6:$B$15,'1추총괄표(위원회)'!$C33) -> 0 | P33: =SUMIFS('1추일입'!AB$6:AB$15,'1추일입'!$A$6:$A$15,'1추총괄표(위원회)'!$A33,'1추일입'!$B$6:$B$15,'1추총괄표(위원회)'!$C33) -> 0 | R33: =SUMIFS('1추일출'!G$6:G$63,'1추일출'!$A$6:$A$63,'1추총괄표(위원회)'!$A33,'1추일출'!$B$6:$B$63,'1추총괄표(위원회)'!$C33) -> 0 | S33: =SUMIFS('1추일출'!H$6:H$63,'1추일출'!$A$6:$A$63,'1추총괄표(위원회)'!$A33,'1추일출'!$B$6:$B$63,'1추총괄표(위원회)'!$C33) -> 0 | T33: =R33-S33 -> 0 | U33: =SUMIFS('1추일출'!J$6:J$63,'1추일출'!$A$6:$A$63,'1추총괄표(위원회)'!$A33,'1추일출'!$B$6:$B$63,'1추총괄표(위원회)'!$C33) -> 0 | V33: =SUMIFS('1추일출'!K$6:K$63,'1추일출'!$A$6:$A$63,'1추총괄표(위원회)'!$A33,'1추일출'!$B$6:$B$63,'1추총괄표(위원회)'!$C33) -> 0 | W33: =SUMIFS('1추일출'!L$6:L$63,'1추일출'!$A$6:$A$63,'1추총괄표(위원회)'!$A33,'1추일출'!$B$6:$B$63,'1추총괄표(위원회)'!$C33) -> 0 | X33: =SUMIFS('1추일출'!W$6:W$63,'1추일출'!$A$6:$A$63,'1추총괄표(위원회)'!$A33,'1추일출'!$B$6:$B$63,'1추총괄표(위원회)'!$C33) -> 0 | Y33: =SUMIFS('1추일출'!X$6:X$63,'1추일출'!$A$6:$A$63,'1추총괄표(위원회)'!$A33,'1추일출'!$B$6:$B$63,'1추총괄표(위원회)'!$C33) -> 0 | Z33: =SUMIFS('1추일출'!M$6:M$63,'1추일출'!$A$6:$A$63,'1추총괄표(위원회)'!$A33,'1추일출'!$B$6:$B$63,'1추총괄표(위원회)'!$C33) -> 0 | AA33: =SUMIFS('1추일출'!N$6:N$63,'1추일출'!$A$6:$A$63,'1추총괄표(위원회)'!$A33,'1추일출'!$B$6:$B$63,'1추총괄표(위원회)'!$C33) -> 0 | AB33: =SUMIFS('1추일출'!O$6:O$63,'1추일출'!$A$6:$A$63,'1추총괄표(위원회)'!$A33,'1추일출'!$B$6:$B$63,'1추총괄표(위원회)'!$C33) -> 0 | AC33: =SUMIFS('1추일출'!AB$6:AB$63,'1추일출'!$A$6:$A$63,'1추총괄표(위원회)'!$A33,'1추일출'!$B$6:$B$63,'1추총괄표(위원회)'!C$9) -> 0 | AD33: =SUMIFS('1추일출'!AC$6:AC$63,'1추일출'!$A$6:$A$63,'1추총괄표(위원회)'!$A33,'1추일출'!$B$6:$B$63,'1추총괄표(위원회)'!D$9) -> 0 | AF33: =IF(J33=X33,"OK","@@") -> OK | AG33: =J33-X33 -> 0 | AH33: =IF(O33=AC33,"OK","@@") -> OK | AI33: =O33-AC33 -> 0
B34: 보건복지위원회 | D34: =SUM(D35:D37) -> 0 | E34: =SUM(E35:E37) -> 0 | F34: =SUM(F35:F37) -> 0 | G34: =SUM(G35:G37) -> 0 | H34: =SUM(H35:H37) -> 911675 | I34: =SUM(I35:I37) -> 911675 | J34: =SUM(J35:J37) -> 911675 | K34: =SUM(K35:K37) -> 0 | ... P34: =SUM(P35:P37) -> 0 | R34: =SUM(R35:R37) -> 4817235 | S34: =SUM(S35:S37) -> 917235 | T34: =SUM(T35:T37) -> 3900000 | U34: =SUM(U35:U37) -> -1450000 | V34: =SUM(V35:V37) -> 2409571 | W34: =SUM(W35:W37) -> 5776806 | X34: =SUM(X35:X37) -> 911675 | Y34: =SUM(Y35:Y37) -> 47896 | ... AD34: =SUM(AD35:AD37) -> 0 | AF34: =IF(J34=X34,"OK","@@") -> OK | AG34: =J34-X34 -> 0 | AH34: =IF(O34=AC34,"OK","@@") -> @@ | AI34: =O34-AC34 -> 911675
A35: 보건복지위원회 | C35: 보건복지국 | D35: =SUMIFS('1추일입'!G$6:G$15,'1추일입'!$A$6:$A$15,'1추총괄표(위원회)'!$A35,'1추일입'!$B$6:$B$15,'1추총괄표(위원회)'!$C35) -> 0 | E35: =SUMIFS('1추일입'!H$6:H$15,'1추일입'!$A$6:$A$15,'1추총괄표(위원회)'!$A35,'1추일입'!$B$6:$B$15,'1추총괄표(위원회)'!$C35) -> 0 | F35: =D35-E35 -> 0 | G35: =SUMIFS('1추일입'!J$6:J$15,'1추일입'!$A$6:$A$15,'1추총괄표(위원회)'!$A35,'1추일입'!$B$6:$B$15,'1추총괄표(위원회)'!$C35) -> 0 | H35: =SUMIFS('1추일입'!K$6:K$15,'1추일입'!$A$6:$A$15,'1추총괄표(위원회)'!$A35,'1추일입'!$B$6:$B$15,'1추총괄표(위원회)'!$C35) -> 911675 | I35: =SUMIFS('1추일입'!L$6:L$15,'1추일입'!$A$6:$A$15,'1추총괄표(위원회)'!$A35,'1추일입'!$B$6:$B$15,'1추총괄표(위원회)'!$C35) -> 911675 | J35: =SUMIFS('1추일입'!V$6:V$15,'1추일입'!$A$6:$A$15,'1추총괄표(위원회)'!$A35,'1추일입'!$B$6:$B$15,'1추총괄표(위원회)'!$C35) -> 911675 | K35: =SUMIFS('1추일입'!W$6:W$15,'1추일입'!$A$6:$A$15,'1추총괄표(위원회)'!$A35,'1추일입'!$B$6:$B$15,'1추총괄표(위원회)'!$C35) -> 0 | L35: =SUMIFS('1추일입'!M$6:M$15,'1추일입'!$A$6:$A$15,'1추총괄표(위원회)'!$A35,'1추일입'!$B$6:$B$15,'1추총괄표(위원회)'!$C35) -> 0 | M35: =SUMIFS('1추일입'!N$6:N$15,'1추일입'!$A$6:$A$15,'1추총괄표(위원회)'!$A35,'1추일입'!$B$6:$B$15,'1추총괄표(위원회)'!$C35) -> 911675 | N35: =SUMIFS('1추일입'!O$6:O$15,'1추일입'!$A$6:$A$15,'1추총괄표(위원회)'!$A35,'1추일입'!$B$6:$B$15,'1추총괄표(위원회)'!$C35) -> 911675 | O35: =SUMIFS('1추일입'!AA$6:AA$15,'1추일입'!$A$6:$A$15,'1추총괄표(위원회)'!$A35,'1추일입'!$B$6:$B$15,'1추총괄표(위원회)'!$C35) -> 911675 | P35: =SUMIFS('1추일입'!AB$6:AB$15,'1추일입'!$A$6:$A$15,'1추총괄표(위원회)'!$A35,'1추일입'!$B$6:$B$15,'1추총괄표(위원회)'!$C35) -> 0 | R35: =SUMIFS('1추일출'!G$6:G$63,'1추일출'!$A$6:$A$63,'1추총괄표(위원회)'!$A35,'1추일출'!$B$6:$B$63,'1추총괄표(위원회)'!$C35) -> 4421830 | S35: =SUMIFS('1추일출'!H$6:H$63,'1추일출'!$A$6:$A$63,'1추총괄표(위원회)'!$A35,'1추일출'!$B$6:$B$63,'1추총괄표(위원회)'!$C35) -> 621830 | T35: =R35-S35 -> 3800000 | U35: =SUMIFS('1추일출'!J$6:J$63,'1추일출'!$A$6:$A$63,'1추총괄표(위원회)'!$A35,'1추일출'!$B$6:$B$63,'1추총괄표(위원회)'!$C35) -> -1450000 | V35: =SUMIFS('1추일출'!K$6:K$63,'1추일출'!$A$6:$A$63,'1추총괄표(위원회)'!$A35,'1추일출'!$B$6:$B$63,'1추총괄표(위원회)'!$C35) -> 1991907 | W35: =SUMIFS('1추일출'!L$6:L$63,'1추일출'!$A$6:$A$63,'1추총괄표(위원회)'!$A35,'1추일출'!$B$6:$B$63,'1추총괄표(위원회)'!$C35) -> 4963737 | X35: =SUMIFS('1추일출'!W$6:W$63,'1추일출'!$A$6:$A$63,'1추총괄표(위원회)'!$A35,'1추일출'!$B$6:$B$63,'1추총괄표(위원회)'!$C35) -> 911675 | Y35: =SUMIFS('1추일출'!X$6:X$63,'1추일출'!$A$6:$A$63,'1추총괄표(위원회)'!$A35,'1추일출'!$B$6:$B$63,'1추총괄표(위원회)'!$C35) -> -369768 | Z35: =SUMIFS('1추일출'!M$6:M$63,'1추일출'!$A$6:$A$63,'1추총괄표(위원회)'!$A35,'1추일출'!$B$6:$B$63,'1추총괄표(위원회)'!$C35) -> -1500000 | AA35: =SUMIFS('1추일출'!N$6:N$63,'1추일출'!$A$6:$A$63,'1추총괄표(위원회)'!$A35,'1추일출'!$B$6:$B$63,'1추총괄표(위원회)'!$C35) -> 3991907 | AB35: =SUMIFS('1추일출'!O$6:O$63,'1추일출'!$A$6:$A$63,'1추총괄표(위원회)'!$A35,'1추일출'!$B$6:$B$63,'1추총괄표(위원회)'!$C35) -> 6913737 | AC35: =SUMIFS('1추일출'!AB$6:AB$63,'1추일출'!$A$6:$A$63,'1추총괄표(위원회)'!$A35,'1추일출'!$B$6:$B$63,'1추총괄표(위원회)'!C$9) -> 0 | AD35: =SUMIFS('1추일출'!AC$6:AC$63,'1추일출'!$A$6:$A$63,'1추총괄표(위원회)'!$A35,'1추일출'!$B$6:$B$63,'1추총괄표(위원회)'!D$9) -> 0 | AF35: =IF(J35=X35,"OK","@@") -> OK | AG35: =J35-X35 -> 0 | AH35: =IF(O35=AC35,"OK","@@") -> @@ | AI35: =O35-AC35 -> 911675
A36: 보건복지위원회 | C36: 복지여성실 | D36: =SUMIFS('1추일입'!G$6:G$15,'1추일입'!$A$6:$A$15,'1추총괄표(위원회)'!$A36,'1추일입'!$B$6:$B$15,'1추총괄표(위원회)'!$C36) -> 0 | E36: =SUMIFS('1추일입'!H$6:H$15,'1추일입'!$A$6:$A$15,'1추총괄표(위원회)'!$A36,'1추일입'!$B$6:$B$15,'1추총괄표(위원회)'!$C36) -> 0 | F36: =D36-E36 -> 0 | G36: =SUMIFS('1추일입'!J$6:J$15,'1추일입'!$A$6:$A$15,'1추총괄표(위원회)'!$A36,'1추일입'!$B$6:$B$15,'1추총괄표(위원회)'!$C36) -> 0 | H36: =SUMIFS('1추일입'!K$6:K$15,'1추일입'!$A$6:$A$15,'1추총괄표(위원회)'!$A36,'1추일입'!$B$6:$B$15,'1추총괄표(위원회)'!$C36) -> 0 | I36: =SUMIFS('1추일입'!L$6:L$15,'1추일입'!$A$6:$A$15,'1추총괄표(위원회)'!$A36,'1추일입'!$B$6:$B$15,'1추총괄표(위원회)'!$C36) -> 0 | J36: =SUMIFS('1추일입'!V$6:V$15,'1추일입'!$A$6:$A$15,'1추총괄표(위원회)'!$A36,'1추일입'!$B$6:$B$15,'1추총괄표(위원회)'!$C36) -> 0 | K36: =SUMIFS('1추일입'!W$6:W$15,'1추일입'!$A$6:$A$15,'1추총괄표(위원회)'!$A36,'1추일입'!$B$6:$B$15,'1추총괄표(위원회)'!$C36) -> 0 | L36: =SUMIFS('1추일입'!M$6:M$15,'1추일입'!$A$6:$A$15,'1추총괄표(위원회)'!$A36,'1추일입'!$B$6:$B$15,'1추총괄표(위원회)'!$C36) -> 0 | M36: =SUMIFS('1추일입'!N$6:N$15,'1추일입'!$A$6:$A$15,'1추총괄표(위원회)'!$A36,'1추일입'!$B$6:$B$15,'1추총괄표(위원회)'!$C36) -> 0 | N36: =SUMIFS('1추일입'!O$6:O$15,'1추일입'!$A$6:$A$15,'1추총괄표(위원회)'!$A36,'1추일입'!$B$6:$B$15,'1추총괄표(위원회)'!$C36) -> 0 | O36: =SUMIFS('1추일입'!AA$6:AA$15,'1추일입'!$A$6:$A$15,'1추총괄표(위원회)'!$A36,'1추일입'!$B$6:$B$15,'1추총괄표(위원회)'!$C36) -> 0 | P36: =SUMIFS('1추일입'!AB$6:AB$15,'1추일입'!$A$6:$A$15,'1추총괄표(위원회)'!$A36,'1추일입'!$B$6:$B$15,'1추총괄표(위원회)'!$C36) -> 0 | R36: =SUMIFS('1추일출'!G$6:G$63,'1추일출'!$A$6:$A$63,'1추총괄표(위원회)'!$A36,'1추일출'!$B$6:$B$63,'1추총괄표(위원회)'!$C36) -> 295405 | S36: =SUMIFS('1추일출'!H$6:H$63,'1추일출'!$A$6:$A$63,'1추총괄표(위원회)'!$A36,'1추일출'!$B$6:$B$63,'1추총괄표(위원회)'!$C36) -> 295405 | T36: =R36-S36 -> 0 | U36: =SUMIFS('1추일출'!J$6:J$63,'1추일출'!$A$6:$A$63,'1추총괄표(위원회)'!$A36,'1추일출'!$B$6:$B$63,'1추총괄표(위원회)'!$C36) -> 0 | V36: =SUMIFS('1추일출'!K$6:K$63,'1추일출'!$A$6:$A$63,'1추총괄표(위원회)'!$A36,'1추일출'!$B$6:$B$63,'1추총괄표(위원회)'!$C36) -> 417664 | W36: =SUMIFS('1추일출'!L$6:L$63,'1추일출'!$A$6:$A$63,'1추총괄표(위원회)'!$A36,'1추일출'!$B$6:$B$63,'1추총괄표(위원회)'!$C36) -> 713069 | X36: =SUMIFS('1추일출'!W$6:W$63,'1추일출'!$A$6:$A$63,'1추총괄표(위원회)'!$A36,'1추일출'!$B$6:$B$63,'1추총괄표(위원회)'!$C36) -> 0 | Y36: =SUMIFS('1추일출'!X$6:X$63,'1추일출'!$A$6:$A$63,'1추총괄표(위원회)'!$A36,'1추일출'!$B$6:$B$63,'1추총괄표(위원회)'!$C36) -> 417664 | Z36: =SUMIFS('1추일출'!M$6:M$63,'1추일출'!$A$6:$A$63,'1추총괄표(위원회)'!$A36,'1추일출'!$B$6:$B$63,'1추총괄표(위원회)'!$C36) -> 0 | AA36: =SUMIFS('1추일출'!N$6:N$63,'1추일출'!$A$6:$A$63,'1추총괄표(위원회)'!$A36,'1추일출'!$B$6:$B$63,'1추총괄표(위원회)'!$C36) -> 417664 | AB36: =SUMIFS('1추일출'!O$6:O$63,'1추일출'!$A$6:$A$63,'1추총괄표(위원회)'!$A36,'1추일출'!$B$6:$B$63,'1추총괄표(위원회)'!$C36) -> 713069 | AC36: =SUMIFS('1추일출'!AB$6:AB$63,'1추일출'!$A$6:$A$63,'1추총괄표(위원회)'!$A36,'1추일출'!$B$6:$B$63,'1추총괄표(위원회)'!C$9) -> 0 | AD36: =SUMIFS('1추일출'!AC$6:AC$63,'1추일출'!$A$6:$A$63,'1추총괄표(위원회)'!$A36,'1추일출'!$B$6:$B$63,'1추총괄표(위원회)'!D$9) -> 0 | AF36: =IF(J36=X36,"OK","@@") -> OK | AG36: =J36-X36 -> 0 | AH36: =IF(O36=AC36,"OK","@@") -> OK | AI36: =O36-AC36 -> 0
A37: 보건복지위원회 | C37: 보건환경연구원 | D37: =SUMIFS('1추일입'!G$6:G$15,'1추일입'!$A$6:$A$15,'1추총괄표(위원회)'!$A37,'1추일입'!$B$6:$B$15,'1추총괄표(위원회)'!$C37) -> 0 | E37: =SUMIFS('1추일입'!H$6:H$15,'1추일입'!$A$6:$A$15,'1추총괄표(위원회)'!$A37,'1추일입'!$B$6:$B$15,'1추총괄표(위원회)'!$C37) -> 0 | F37: =D37-E37 -> 0 | G37: =SUMIFS('1추일입'!J$6:J$15,'1추일입'!$A$6:$A$15,'1추총괄표(위원회)'!$A37,'1추일입'!$B$6:$B$15,'1추총괄표(위원회)'!$C37) -> 0 | H37: =SUMIFS('1추일입'!K$6:K$15,'1추일입'!$A$6:$A$15,'1추총괄표(위원회)'!$A37,'1추일입'!$B$6:$B$15,'1추총괄표(위원회)'!$C37) -> 0 | I37: =SUMIFS('1추일입'!L$6:L$15,'1추일입'!$A$6:$A$15,'1추총괄표(위원회)'!$A37,'1추일입'!$B$6:$B$15,'1추총괄표(위원회)'!$C37) -> 0 | J37: =SUMIFS('1추일입'!V$6:V$15,'1추일입'!$A$6:$A$15,'1추총괄표(위원회)'!$A37,'1추일입'!$B$6:$B$15,'1추총괄표(위원회)'!$C37) -> 0 | K37: =SUMIFS('1추일입'!W$6:W$15,'1추일입'!$A$6:$A$15,'1추총괄표(위원회)'!$A37,'1추일입'!$B$6:$B$15,'1추총괄표(위원회)'!$C37) -> 0 | L37: =SUMIFS('1추일입'!M$6:M$15,'1추일입'!$A$6:$A$15,'1추총괄표(위원회)'!$A37,'1추일입'!$B$6:$B$15,'1추총괄표(위원회)'!$C37) -> 0 | M37: =SUMIFS('1추일입'!N$6:N$15,'1추일입'!$A$6:$A$15,'1추총괄표(위원회)'!$A37,'1추일입'!$B$6:$B$15,'1추총괄표(위원회)'!$C37) -> 0 | N37: =SUMIFS('1추일입'!O$6:O$15,'1추일입'!$A$6:$A$15,'1추총괄표(위원회)'!$A37,'1추일입'!$B$6:$B$15,'1추총괄표(위원회)'!$C37) -> 0 | O37: =SUMIFS('1추일입'!AA$6:AA$15,'1추일입'!$A$6:$A$15,'1추총괄표(위원회)'!$A37,'1추일입'!$B$6:$B$15,'1추총괄표(위원회)'!$C37) -> 0 | P37: =SUMIFS('1추일입'!AB$6:AB$15,'1추일입'!$A$6:$A$15,'1추총괄표(위원회)'!$A37,'1추일입'!$B$6:$B$15,'1추총괄표(위원회)'!$C37) -> 0 | R37: =SUMIFS('1추일출'!G$6:G$63,'1추일출'!$A$6:$A$63,'1추총괄표(위원회)'!$A37,'1추일출'!$B$6:$B$63,'1추총괄표(위원회)'!$C37) -> 100000 | S37: =SUMIFS('1추일출'!H$6:H$63,'1추일출'!$A$6:$A$63,'1추총괄표(위원회)'!$A37,'1추일출'!$B$6:$B$63,'1추총괄표(위원회)'!$C37) -> 0 | T37: =R37-S37 -> 100000 | U37: =SUMIFS('1추일출'!J$6:J$63,'1추일출'!$A$6:$A$63,'1추총괄표(위원회)'!$A37,'1추일출'!$B$6:$B$63,'1추총괄표(위원회)'!$C37) -> 0 | V37: =SUMIFS('1추일출'!K$6:K$63,'1추일출'!$A$6:$A$63,'1추총괄표(위원회)'!$A37,'1추일출'!$B$6:$B$63,'1추총괄표(위원회)'!$C37) -> 0 | W37: =SUMIFS('1추일출'!L$6:L$63,'1추일출'!$A$6:$A$63,'1추총괄표(위원회)'!$A37,'1추일출'!$B$6:$B$63,'1추총괄표(위원회)'!$C37) -> 100000 | X37: =SUMIFS('1추일출'!W$6:W$63,'1추일출'!$A$6:$A$63,'1추총괄표(위원회)'!$A37,'1추일출'!$B$6:$B$63,'1추총괄표(위원회)'!$C37) -> 0 | Y37: =SUMIFS('1추일출'!X$6:X$63,'1추일출'!$A$6:$A$63,'1추총괄표(위원회)'!$A37,'1추일출'!$B$6:$B$63,'1추총괄표(위원회)'!$C37) -> 0 | Z37: =SUMIFS('1추일출'!M$6:M$63,'1추일출'!$A$6:$A$63,'1추총괄표(위원회)'!$A37,'1추일출'!$B$6:$B$63,'1추총괄표(위원회)'!$C37) -> 0 | AA37: =SUMIFS('1추일출'!N$6:N$63,'1추일출'!$A$6:$A$63,'1추총괄표(위원회)'!$A37,'1추일출'!$B$6:$B$63,'1추총괄표(위원회)'!$C37) -> 0 | AB37: =SUMIFS('1추일출'!O$6:O$63,'1추일출'!$A$6:$A$63,'1추총괄표(위원회)'!$A37,'1추일출'!$B$6:$B$63,'1추총괄표(위원회)'!$C37) -> 100000 | AC37: =SUMIFS('1추일출'!AB$6:AB$63,'1추일출'!$A$6:$A$63,'1추총괄표(위원회)'!$A37,'1추일출'!$B$6:$B$63,'1추총괄표(위원회)'!C$9) -> 0 | AD37: =SUMIFS('1추일출'!AC$6:AC$63,'1추일출'!$A$6:$A$63,'1추총괄표(위원회)'!$A37,'1추일출'!$B$6:$B$63,'1추총괄표(위원회)'!D$9) -> 0 | AF37: =IF(J37=X37,"OK","@@") -> OK | AG37: =J37-X37 -> 0 | AH37: =IF(O37=AC37,"OK","@@") -> OK | AI37: =O37-AC37 -> 0
B38: 건설교통위원회 | D38: =SUM(D39:D42) -> 0 | E38: =SUM(E39:E42) -> 0 | F38: =SUM(F39:F42) -> 0 | G38: =SUM(G39:G42) -> 0 | H38: =SUM(H39:H42) -> 0 | I38: =SUM(I39:I42) -> 0 | J38: =SUM(J39:J42) -> 0 | K38: =SUM(K39:K42) -> 0 | ... P38: =SUM(P39:P42) -> 0 | R38: =SUM(R39:R42) -> 4285000 | S38: =SUM(S39:S42) -> 0 | T38: =SUM(T39:T42) -> 4285000 | U38: =SUM(U39:U42) -> -3843500 | V38: =SUM(V39:V42) -> 0 | W38: =SUM(W39:W42) -> 441500 | X38: =SUM(X39:X42) -> 0 | Y38: =SUM(Y39:Y42) -> -3843500 | ... AD38: =SUM(AD39:AD42) -> 0 | AF38: =IF(J38=X38,"OK","@@") -> OK | AG38: =J38-X38 -> 0 | AH38: =IF(O38=AC38,"OK","@@") -> OK | AI38: =O38-AC38 -> 0
A39: 건설교통위원회 | C39: 철도국 | D39: =SUMIFS('1추일입'!G$6:G$15,'1추일입'!$A$6:$A$15,'1추총괄표(위원회)'!$A39,'1추일입'!$B$6:$B$15,'1추총괄표(위원회)'!$C39) -> 0 | E39: =SUMIFS('1추일입'!H$6:H$15,'1추일입'!$A$6:$A$15,'1추총괄표(위원회)'!$A39,'1추일입'!$B$6:$B$15,'1추총괄표(위원회)'!$C39) -> 0 | F39: =D39-E39 -> 0 | G39: =SUMIFS('1추일입'!J$6:J$15,'1추일입'!$A$6:$A$15,'1추총괄표(위원회)'!$A39,'1추일입'!$B$6:$B$15,'1추총괄표(위원회)'!$C39) -> 0 | H39: =SUMIFS('1추일입'!K$6:K$15,'1추일입'!$A$6:$A$15,'1추총괄표(위원회)'!$A39,'1추일입'!$B$6:$B$15,'1추총괄표(위원회)'!$C39) -> 0 | I39: =SUMIFS('1추일입'!L$6:L$15,'1추일입'!$A$6:$A$15,'1추총괄표(위원회)'!$A39,'1추일입'!$B$6:$B$15,'1추총괄표(위원회)'!$C39) -> 0 | J39: =SUMIFS('1추일입'!V$6:V$15,'1추일입'!$A$6:$A$15,'1추총괄표(위원회)'!$A39,'1추일입'!$B$6:$B$15,'1추총괄표(위원회)'!$C39) -> 0 | K39: =SUMIFS('1추일입'!W$6:W$15,'1추일입'!$A$6:$A$15,'1추총괄표(위원회)'!$A39,'1추일입'!$B$6:$B$15,'1추총괄표(위원회)'!$C39) -> 0 | L39: =SUMIFS('1추일입'!M$6:M$15,'1추일입'!$A$6:$A$15,'1추총괄표(위원회)'!$A39,'1추일입'!$B$6:$B$15,'1추총괄표(위원회)'!$C39) -> 0 | M39: =SUMIFS('1추일입'!N$6:N$15,'1추일입'!$A$6:$A$15,'1추총괄표(위원회)'!$A39,'1추일입'!$B$6:$B$15,'1추총괄표(위원회)'!$C39) -> 0 | N39: =SUMIFS('1추일입'!O$6:O$15,'1추일입'!$A$6:$A$15,'1추총괄표(위원회)'!$A39,'1추일입'!$B$6:$B$15,'1추총괄표(위원회)'!$C39) -> 0 | O39: =SUMIFS('1추일입'!AA$6:AA$15,'1추일입'!$A$6:$A$15,'1추총괄표(위원회)'!$A39,'1추일입'!$B$6:$B$15,'1추총괄표(위원회)'!$C39) -> 0 | P39: =SUMIFS('1추일입'!AB$6:AB$15,'1추일입'!$A$6:$A$15,'1추총괄표(위원회)'!$A39,'1추일입'!$B$6:$B$15,'1추총괄표(위원회)'!$C39) -> 0 | R39: =SUMIFS('1추일출'!G$6:G$63,'1추일출'!$A$6:$A$63,'1추총괄표(위원회)'!$A39,'1추일출'!$B$6:$B$63,'1추총괄표(위원회)'!$C39) -> 0 | S39: =SUMIFS('1추일출'!H$6:H$63,'1추일출'!$A$6:$A$63,'1추총괄표(위원회)'!$A39,'1추일출'!$B$6:$B$63,'1추총괄표(위원회)'!$C39) -> 0 | T39: =R39-S39 -> 0 | U39: =SUMIFS('1추일출'!J$6:J$63,'1추일출'!$A$6:$A$63,'1추총괄표(위원회)'!$A39,'1추일출'!$B$6:$B$63,'1추총괄표(위원회)'!$C39) -> 0 | V39: =SUMIFS('1추일출'!K$6:K$63,'1추일출'!$A$6:$A$63,'1추총괄표(위원회)'!$A39,'1추일출'!$B$6:$B$63,'1추총괄표(위원회)'!$C39) -> 0 | W39: =SUMIFS('1추일출'!L$6:L$63,'1추일출'!$A$6:$A$63,'1추총괄표(위원회)'!$A39,'1추일출'!$B$6:$B$63,'1추총괄표(위원회)'!$C39) -> 0 | X39: =SUMIFS('1추일출'!W$6:W$63,'1추일출'!$A$6:$A$63,'1추총괄표(위원회)'!$A39,'1추일출'!$B$6:$B$63,'1추총괄표(위원회)'!$C39) -> 0 | Y39: =SUMIFS('1추일출'!X$6:X$63,'1추일출'!$A$6:$A$63,'1추총괄표(위원회)'!$A39,'1추일출'!$B$6:$B$63,'1추총괄표(위원회)'!$C39) -> 0 | Z39: =SUMIFS('1추일출'!M$6:M$63,'1추일출'!$A$6:$A$63,'1추총괄표(위원회)'!$A39,'1추일출'!$B$6:$B$63,'1추총괄표(위원회)'!$C39) -> 0 | AA39: =SUMIFS('1추일출'!N$6:N$63,'1추일출'!$A$6:$A$63,'1추총괄표(위원회)'!$A39,'1추일출'!$B$6:$B$63,'1추총괄표(위원회)'!$C39) -> 100000 | AB39: =SUMIFS('1추일출'!O$6:O$63,'1추일출'!$A$6:$A$63,'1추총괄표(위원회)'!$A39,'1추일출'!$B$6:$B$63,'1추총괄표(위원회)'!$C39) -> 100000 | AC39: =SUMIFS('1추일출'!AB$6:AB$63,'1추일출'!$A$6:$A$63,'1추총괄표(위원회)'!$A39,'1추일출'!$B$6:$B$63,'1추총괄표(위원회)'!C$9) -> 0 | AD39: =SUMIFS('1추일출'!AC$6:AC$63,'1추일출'!$A$6:$A$63,'1추총괄표(위원회)'!$A39,'1추일출'!$B$6:$B$63,'1추총괄표(위원회)'!D$9) -> 0 | AF39: =IF(J39=X39,"OK","@@") -> OK | AG39: =J39-X39 -> 0 | AH39: =IF(O39=AC39,"OK","@@") -> OK | AI39: =O39-AC39 -> 0
A40: 건설교통위원회 | C40: 교통국 | D40: =SUMIFS('1추일입'!G$6:G$15,'1추일입'!$A$6:$A$15,'1추총괄표(위원회)'!$A40,'1추일입'!$B$6:$B$15,'1추총괄표(위원회)'!$C40) -> 0 | E40: =SUMIFS('1추일입'!H$6:H$15,'1추일입'!$A$6:$A$15,'1추총괄표(위원회)'!$A40,'1추일입'!$B$6:$B$15,'1추총괄표(위원회)'!$C40) -> 0 | F40: =D40-E40 -> 0 | G40: =SUMIFS('1추일입'!J$6:J$15,'1추일입'!$A$6:$A$15,'1추총괄표(위원회)'!$A40,'1추일입'!$B$6:$B$15,'1추총괄표(위원회)'!$C40) -> 0 | H40: =SUMIFS('1추일입'!K$6:K$15,'1추일입'!$A$6:$A$15,'1추총괄표(위원회)'!$A40,'1추일입'!$B$6:$B$15,'1추총괄표(위원회)'!$C40) -> 0 | I40: =SUMIFS('1추일입'!L$6:L$15,'1추일입'!$A$6:$A$15,'1추총괄표(위원회)'!$A40,'1추일입'!$B$6:$B$15,'1추총괄표(위원회)'!$C40) -> 0 | J40: =SUMIFS('1추일입'!V$6:V$15,'1추일입'!$A$6:$A$15,'1추총괄표(위원회)'!$A40,'1추일입'!$B$6:$B$15,'1추총괄표(위원회)'!$C40) -> 0 | K40: =SUMIFS('1추일입'!W$6:W$15,'1추일입'!$A$6:$A$15,'1추총괄표(위원회)'!$A40,'1추일입'!$B$6:$B$15,'1추총괄표(위원회)'!$C40) -> 0 | L40: =SUMIFS('1추일입'!M$6:M$15,'1추일입'!$A$6:$A$15,'1추총괄표(위원회)'!$A40,'1추일입'!$B$6:$B$15,'1추총괄표(위원회)'!$C40) -> 0 | M40: =SUMIFS('1추일입'!N$6:N$15,'1추일입'!$A$6:$A$15,'1추총괄표(위원회)'!$A40,'1추일입'!$B$6:$B$15,'1추총괄표(위원회)'!$C40) -> 0 | N40: =SUMIFS('1추일입'!O$6:O$15,'1추일입'!$A$6:$A$15,'1추총괄표(위원회)'!$A40,'1추일입'!$B$6:$B$15,'1추총괄표(위원회)'!$C40) -> 0 | O40: =SUMIFS('1추일입'!AA$6:AA$15,'1추일입'!$A$6:$A$15,'1추총괄표(위원회)'!$A40,'1추일입'!$B$6:$B$15,'1추총괄표(위원회)'!$C40) -> 0 | P40: =SUMIFS('1추일입'!AB$6:AB$15,'1추일입'!$A$6:$A$15,'1추총괄표(위원회)'!$A40,'1추일입'!$B$6:$B$15,'1추총괄표(위원회)'!$C40) -> 0 | R40: =SUMIFS('1추일출'!G$6:G$63,'1추일출'!$A$6:$A$63,'1추총괄표(위원회)'!$A40,'1추일출'!$B$6:$B$63,'1추총괄표(위원회)'!$C40) -> 785000 | S40: =SUMIFS('1추일출'!H$6:H$63,'1추일출'!$A$6:$A$63,'1추총괄표(위원회)'!$A40,'1추일출'!$B$6:$B$63,'1추총괄표(위원회)'!$C40) -> 0 | T40: =R40-S40 -> 785000 | U40: =SUMIFS('1추일출'!J$6:J$63,'1추일출'!$A$6:$A$63,'1추총괄표(위원회)'!$A40,'1추일출'!$B$6:$B$63,'1추총괄표(위원회)'!$C40) -> -343500 | V40: =SUMIFS('1추일출'!K$6:K$63,'1추일출'!$A$6:$A$63,'1추총괄표(위원회)'!$A40,'1추일출'!$B$6:$B$63,'1추총괄표(위원회)'!$C40) -> 0 | W40: =SUMIFS('1추일출'!L$6:L$63,'1추일출'!$A$6:$A$63,'1추총괄표(위원회)'!$A40,'1추일출'!$B$6:$B$63,'1추총괄표(위원회)'!$C40) -> 441500 | X40: =SUMIFS('1추일출'!W$6:W$63,'1추일출'!$A$6:$A$63,'1추총괄표(위원회)'!$A40,'1추일출'!$B$6:$B$63,'1추총괄표(위원회)'!$C40) -> 0 | Y40: =SUMIFS('1추일출'!X$6:X$63,'1추일출'!$A$6:$A$63,'1추총괄표(위원회)'!$A40,'1추일출'!$B$6:$B$63,'1추총괄표(위원회)'!$C40) -> -343500 | Z40: =SUMIFS('1추일출'!M$6:M$63,'1추일출'!$A$6:$A$63,'1추총괄표(위원회)'!$A40,'1추일출'!$B$6:$B$63,'1추총괄표(위원회)'!$C40) -> -343500 | AA40: =SUMIFS('1추일출'!N$6:N$63,'1추일출'!$A$6:$A$63,'1추총괄표(위원회)'!$A40,'1추일출'!$B$6:$B$63,'1추총괄표(위원회)'!$C40) -> 96000 | AB40: =SUMIFS('1추일출'!O$6:O$63,'1추일출'!$A$6:$A$63,'1추총괄표(위원회)'!$A40,'1추일출'!$B$6:$B$63,'1추총괄표(위원회)'!$C40) -> 537500 | AC40: =SUMIFS('1추일출'!AB$6:AB$63,'1추일출'!$A$6:$A$63,'1추총괄표(위원회)'!$A40,'1추일출'!$B$6:$B$63,'1추총괄표(위원회)'!C$9) -> 0 | AD40: =SUMIFS('1추일출'!AC$6:AC$63,'1추일출'!$A$6:$A$63,'1추총괄표(위원회)'!$A40,'1추일출'!$B$6:$B$63,'1추총괄표(위원회)'!D$9) -> 0 | AF40: =IF(J40=X40,"OK","@@") -> OK | AG40: =J40-X40 -> 0 | AH40: =IF(O40=AC40,"OK","@@") -> OK | AI40: =O40-AC40 -> 0
A41: 건설교통위원회 | C41: 건설국 | D41: =SUMIFS('1추일입'!G$6:G$15,'1추일입'!$A$6:$A$15,'1추총괄표(위원회)'!$A41,'1추일입'!$B$6:$B$15,'1추총괄표(위원회)'!$C41) -> 0 | E41: =SUMIFS('1추일입'!H$6:H$15,'1추일입'!$A$6:$A$15,'1추총괄표(위원회)'!$A41,'1추일입'!$B$6:$B$15,'1추총괄표(위원회)'!$C41) -> 0 | F41: =D41-E41 -> 0 | G41: =SUMIFS('1추일입'!J$6:J$15,'1추일입'!$A$6:$A$15,'1추총괄표(위원회)'!$A41,'1추일입'!$B$6:$B$15,'1추총괄표(위원회)'!$C41) -> 0 | H41: =SUMIFS('1추일입'!K$6:K$15,'1추일입'!$A$6:$A$15,'1추총괄표(위원회)'!$A41,'1추일입'!$B$6:$B$15,'1추총괄표(위원회)'!$C41) -> 0 | I41: =SUMIFS('1추일입'!L$6:L$15,'1추일입'!$A$6:$A$15,'1추총괄표(위원회)'!$A41,'1추일입'!$B$6:$B$15,'1추총괄표(위원회)'!$C41) -> 0 | J41: =SUMIFS('1추일입'!V$6:V$15,'1추일입'!$A$6:$A$15,'1추총괄표(위원회)'!$A41,'1추일입'!$B$6:$B$15,'1추총괄표(위원회)'!$C41) -> 0 | K41: =SUMIFS('1추일입'!W$6:W$15,'1추일입'!$A$6:$A$15,'1추총괄표(위원회)'!$A41,'1추일입'!$B$6:$B$15,'1추총괄표(위원회)'!$C41) -> 0 | L41: =SUMIFS('1추일입'!M$6:M$15,'1추일입'!$A$6:$A$15,'1추총괄표(위원회)'!$A41,'1추일입'!$B$6:$B$15,'1추총괄표(위원회)'!$C41) -> 0 | M41: =SUMIFS('1추일입'!N$6:N$15,'1추일입'!$A$6:$A$15,'1추총괄표(위원회)'!$A41,'1추일입'!$B$6:$B$15,'1추총괄표(위원회)'!$C41) -> 0 | N41: =SUMIFS('1추일입'!O$6:O$15,'1추일입'!$A$6:$A$15,'1추총괄표(위원회)'!$A41,'1추일입'!$B$6:$B$15,'1추총괄표(위원회)'!$C41) -> 0 | O41: =SUMIFS('1추일입'!AA$6:AA$15,'1추일입'!$A$6:$A$15,'1추총괄표(위원회)'!$A41,'1추일입'!$B$6:$B$15,'1추총괄표(위원회)'!$C41) -> 0 | P41: =SUMIFS('1추일입'!AB$6:AB$15,'1추일입'!$A$6:$A$15,'1추총괄표(위원회)'!$A41,'1추일입'!$B$6:$B$15,'1추총괄표(위원회)'!$C41) -> 0 | R41: =SUMIFS('1추일출'!G$6:G$63,'1추일출'!$A$6:$A$63,'1추총괄표(위원회)'!$A41,'1추일출'!$B$6:$B$63,'1추총괄표(위원회)'!$C41) -> 3500000 | S41: =SUMIFS('1추일출'!H$6:H$63,'1추일출'!$A$6:$A$63,'1추총괄표(위원회)'!$A41,'1추일출'!$B$6:$B$63,'1추총괄표(위원회)'!$C41) -> 0 | T41: =R41-S41 -> 3500000 | U41: =SUMIFS('1추일출'!J$6:J$63,'1추일출'!$A$6:$A$63,'1추총괄표(위원회)'!$A41,'1추일출'!$B$6:$B$63,'1추총괄표(위원회)'!$C41) -> -3500000 | V41: =SUMIFS('1추일출'!K$6:K$63,'1추일출'!$A$6:$A$63,'1추총괄표(위원회)'!$A41,'1추일출'!$B$6:$B$63,'1추총괄표(위원회)'!$C41) -> 0 | W41: =SUMIFS('1추일출'!L$6:L$63,'1추일출'!$A$6:$A$63,'1추총괄표(위원회)'!$A41,'1추일출'!$B$6:$B$63,'1추총괄표(위원회)'!$C41) -> 0 | X41: =SUMIFS('1추일출'!W$6:W$63,'1추일출'!$A$6:$A$63,'1추총괄표(위원회)'!$A41,'1추일출'!$B$6:$B$63,'1추총괄표(위원회)'!$C41) -> 0 | Y41: =SUMIFS('1추일출'!X$6:X$63,'1추일출'!$A$6:$A$63,'1추총괄표(위원회)'!$A41,'1추일출'!$B$6:$B$63,'1추총괄표(위원회)'!$C41) -> -3500000 | Z41: =SUMIFS('1추일출'!M$6:M$63,'1추일출'!$A$6:$A$63,'1추총괄표(위원회)'!$A41,'1추일출'!$B$6:$B$63,'1추총괄표(위원회)'!$C41) -> -3500000 | AA41: =SUMIFS('1추일출'!N$6:N$63,'1추일출'!$A$6:$A$63,'1추총괄표(위원회)'!$A41,'1추일출'!$B$6:$B$63,'1추총괄표(위원회)'!$C41) -> 0 | AB41: =SUMIFS('1추일출'!O$6:O$63,'1추일출'!$A$6:$A$63,'1추총괄표(위원회)'!$A41,'1추일출'!$B$6:$B$63,'1추총괄표(위원회)'!$C41) -> 0 | AC41: =SUMIFS('1추일출'!AB$6:AB$63,'1추일출'!$A$6:$A$63,'1추총괄표(위원회)'!$A41,'1추일출'!$B$6:$B$63,'1추총괄표(위원회)'!C$9) -> 0 | AD41: =SUMIFS('1추일출'!AC$6:AC$63,'1추일출'!$A$6:$A$63,'1추총괄표(위원회)'!$A41,'1추일출'!$B$6:$B$63,'1추총괄표(위원회)'!D$9) -> 0 | AF41: =IF(J41=X41,"OK","@@") -> OK | AG41: =J41-X41 -> 0 | AH41: =IF(O41=AC41,"OK","@@") -> OK | AI41: =O41-AC41 -> 0
A42: 건설교통위원회 | C42: 건설본부 | D42: =SUMIFS('1추일입'!G$6:G$15,'1추일입'!$A$6:$A$15,'1추총괄표(위원회)'!$A42,'1추일입'!$B$6:$B$15,'1추총괄표(위원회)'!$C42) -> 0 | E42: =SUMIFS('1추일입'!H$6:H$15,'1추일입'!$A$6:$A$15,'1추총괄표(위원회)'!$A42,'1추일입'!$B$6:$B$15,'1추총괄표(위원회)'!$C42) -> 0 | F42: =D42-E42 -> 0 | G42: =SUMIFS('1추일입'!J$6:J$15,'1추일입'!$A$6:$A$15,'1추총괄표(위원회)'!$A42,'1추일입'!$B$6:$B$15,'1추총괄표(위원회)'!$C42) -> 0 | H42: =SUMIFS('1추일입'!K$6:K$15,'1추일입'!$A$6:$A$15,'1추총괄표(위원회)'!$A42,'1추일입'!$B$6:$B$15,'1추총괄표(위원회)'!$C42) -> 0 | I42: =SUMIFS('1추일입'!L$6:L$15,'1추일입'!$A$6:$A$15,'1추총괄표(위원회)'!$A42,'1추일입'!$B$6:$B$15,'1추총괄표(위원회)'!$C42) -> 0 | J42: =SUMIFS('1추일입'!V$6:V$15,'1추일입'!$A$6:$A$15,'1추총괄표(위원회)'!$A42,'1추일입'!$B$6:$B$15,'1추총괄표(위원회)'!$C42) -> 0 | K42: =SUMIFS('1추일입'!W$6:W$15,'1추일입'!$A$6:$A$15,'1추총괄표(위원회)'!$A42,'1추일입'!$B$6:$B$15,'1추총괄표(위원회)'!$C42) -> 0 | L42: =SUMIFS('1추일입'!M$6:M$15,'1추일입'!$A$6:$A$15,'1추총괄표(위원회)'!$A42,'1추일입'!$B$6:$B$15,'1추총괄표(위원회)'!$C42) -> 0 | M42: =SUMIFS('1추일입'!N$6:N$15,'1추일입'!$A$6:$A$15,'1추총괄표(위원회)'!$A42,'1추일입'!$B$6:$B$15,'1추총괄표(위원회)'!$C42) -> 0 | N42: =SUMIFS('1추일입'!O$6:O$15,'1추일입'!$A$6:$A$15,'1추총괄표(위원회)'!$A42,'1추일입'!$B$6:$B$15,'1추총괄표(위원회)'!$C42) -> 0 | O42: =SUMIFS('1추일입'!AA$6:AA$15,'1추일입'!$A$6:$A$15,'1추총괄표(위원회)'!$A42,'1추일입'!$B$6:$B$15,'1추총괄표(위원회)'!$C42) -> 0 | P42: =SUMIFS('1추일입'!AB$6:AB$15,'1추일입'!$A$6:$A$15,'1추총괄표(위원회)'!$A42,'1추일입'!$B$6:$B$15,'1추총괄표(위원회)'!$C42) -> 0 | R42: =SUMIFS('1추일출'!G$6:G$63,'1추일출'!$A$6:$A$63,'1추총괄표(위원회)'!$A42,'1추일출'!$B$6:$B$63,'1추총괄표(위원회)'!$C42) -> 0 | S42: =SUMIFS('1추일출'!H$6:H$63,'1추일출'!$A$6:$A$63,'1추총괄표(위원회)'!$A42,'1추일출'!$B$6:$B$63,'1추총괄표(위원회)'!$C42) -> 0 | T42: =R42-S42 -> 0 | U42: =SUMIFS('1추일출'!J$6:J$63,'1추일출'!$A$6:$A$63,'1추총괄표(위원회)'!$A42,'1추일출'!$B$6:$B$63,'1추총괄표(위원회)'!$C42) -> 0 | V42: =SUMIFS('1추일출'!K$6:K$63,'1추일출'!$A$6:$A$63,'1추총괄표(위원회)'!$A42,'1추일출'!$B$6:$B$63,'1추총괄표(위원회)'!$C42) -> 0 | W42: =SUMIFS('1추일출'!L$6:L$63,'1추일출'!$A$6:$A$63,'1추총괄표(위원회)'!$A42,'1추일출'!$B$6:$B$63,'1추총괄표(위원회)'!$C42) -> 0 | X42: =SUMIFS('1추일출'!W$6:W$63,'1추일출'!$A$6:$A$63,'1추총괄표(위원회)'!$A42,'1추일출'!$B$6:$B$63,'1추총괄표(위원회)'!$C42) -> 0 | Y42: =SUMIFS('1추일출'!X$6:X$63,'1추일출'!$A$6:$A$63,'1추총괄표(위원회)'!$A42,'1추일출'!$B$6:$B$63,'1추총괄표(위원회)'!$C42) -> 0 | Z42: =SUMIFS('1추일출'!M$6:M$63,'1추일출'!$A$6:$A$63,'1추총괄표(위원회)'!$A42,'1추일출'!$B$6:$B$63,'1추총괄표(위원회)'!$C42) -> 0 | AA42: =SUMIFS('1추일출'!N$6:N$63,'1추일출'!$A$6:$A$63,'1추총괄표(위원회)'!$A42,'1추일출'!$B$6:$B$63,'1추총괄표(위원회)'!$C42) -> 0 | AB42: =SUMIFS('1추일출'!O$6:O$63,'1추일출'!$A$6:$A$63,'1추총괄표(위원회)'!$A42,'1추일출'!$B$6:$B$63,'1추총괄표(위원회)'!$C42) -> 0 | AC42: =SUMIFS('1추일출'!AB$6:AB$63,'1추일출'!$A$6:$A$63,'1추총괄표(위원회)'!$A42,'1추일출'!$B$6:$B$63,'1추총괄표(위원회)'!C$9) -> 0 | AD42: =SUMIFS('1추일출'!AC$6:AC$63,'1추일출'!$A$6:$A$63,'1추총괄표(위원회)'!$A42,'1추일출'!$B$6:$B$63,'1추총괄표(위원회)'!D$9) -> 0 | AF42: =IF(J42=X42,"OK","@@") -> OK | AG42: =J42-X42 -> 0 | AH42: =IF(O42=AC42,"OK","@@") -> OK | AI42: =O42-AC42 -> 0
B43: 도시환경위원회 | D43: =SUM(D44:D48) -> 0 | E43: =SUM(E44:E48) -> 0 | F43: =SUM(F44:F48) -> 0 | G43: =SUM(G44:G48) -> 0 | H43: =SUM(H44:H48) -> 0 | I43: =SUM(I44:I48) -> 0 | J43: =SUM(J44:J48) -> 0 | K43: =SUM(K44:K48) -> 0 | ... P43: =SUM(P44:P48) -> 0 | R43: =SUM(R44:R48) -> 0 | S43: =SUM(S44:S48) -> 0 | T43: =SUM(T44:T48) -> 0 | U43: =SUM(U44:U48) -> 0 | V43: =SUM(V44:V48) -> 0 | W43: =SUM(W44:W48) -> 0 | X43: =SUM(X44:X48) -> 0 | Y43: =SUM(Y44:Y48) -> 0 | ... AD43: =SUM(AD44:AD48) -> 0 | AF43: =IF(J43=X43,"OK","@@") -> OK | AG43: =J43-X43 -> 0 | AH43: =IF(O43=AC43,"OK","@@") -> OK | AI43: =O43-AC43 -> 0
A44: 도시환경위원회 | C44: 도시주택실 | D44: =SUMIFS('1추일입'!G$6:G$15,'1추일입'!$A$6:$A$15,'1추총괄표(위원회)'!$A44,'1추일입'!$B$6:$B$15,'1추총괄표(위원회)'!$C44) -> 0 | E44: =SUMIFS('1추일입'!H$6:H$15,'1추일입'!$A$6:$A$15,'1추총괄표(위원회)'!$A44,'1추일입'!$B$6:$B$15,'1추총괄표(위원회)'!$C44) -> 0 | F44: =D44-E44 -> 0 | G44: =SUMIFS('1추일입'!J$6:J$15,'1추일입'!$A$6:$A$15,'1추총괄표(위원회)'!$A44,'1추일입'!$B$6:$B$15,'1추총괄표(위원회)'!$C44) -> 0 | H44: =SUMIFS('1추일입'!K$6:K$15,'1추일입'!$A$6:$A$15,'1추총괄표(위원회)'!$A44,'1추일입'!$B$6:$B$15,'1추총괄표(위원회)'!$C44) -> 0 | I44: =SUMIFS('1추일입'!L$6:L$15,'1추일입'!$A$6:$A$15,'1추총괄표(위원회)'!$A44,'1추일입'!$B$6:$B$15,'1추총괄표(위원회)'!$C44) -> 0 | J44: =SUMIFS('1추일입'!V$6:V$15,'1추일입'!$A$6:$A$15,'1추총괄표(위원회)'!$A44,'1추일입'!$B$6:$B$15,'1추총괄표(위원회)'!$C44) -> 0 | K44: =SUMIFS('1추일입'!W$6:W$15,'1추일입'!$A$6:$A$15,'1추총괄표(위원회)'!$A44,'1추일입'!$B$6:$B$15,'1추총괄표(위원회)'!$C44) -> 0 | L44: =SUMIFS('1추일입'!M$6:M$15,'1추일입'!$A$6:$A$15,'1추총괄표(위원회)'!$A44,'1추일입'!$B$6:$B$15,'1추총괄표(위원회)'!$C44) -> 0 | M44: =SUMIFS('1추일입'!N$6:N$15,'1추일입'!$A$6:$A$15,'1추총괄표(위원회)'!$A44,'1추일입'!$B$6:$B$15,'1추총괄표(위원회)'!$C44) -> 0 | N44: =SUMIFS('1추일입'!O$6:O$15,'1추일입'!$A$6:$A$15,'1추총괄표(위원회)'!$A44,'1추일입'!$B$6:$B$15,'1추총괄표(위원회)'!$C44) -> 0 | O44: =SUMIFS('1추일입'!AA$6:AA$15,'1추일입'!$A$6:$A$15,'1추총괄표(위원회)'!$A44,'1추일입'!$B$6:$B$15,'1추총괄표(위원회)'!$C44) -> 0 | P44: =SUMIFS('1추일입'!AB$6:AB$15,'1추일입'!$A$6:$A$15,'1추총괄표(위원회)'!$A44,'1추일입'!$B$6:$B$15,'1추총괄표(위원회)'!$C44) -> 0 | R44: =SUMIFS('1추일출'!G$6:G$63,'1추일출'!$A$6:$A$63,'1추총괄표(위원회)'!$A44,'1추일출'!$B$6:$B$63,'1추총괄표(위원회)'!$C44) -> 0 | S44: =SUMIFS('1추일출'!H$6:H$63,'1추일출'!$A$6:$A$63,'1추총괄표(위원회)'!$A44,'1추일출'!$B$6:$B$63,'1추총괄표(위원회)'!$C44) -> 0 | T44: =R44-S44 -> 0 | U44: =SUMIFS('1추일출'!J$6:J$63,'1추일출'!$A$6:$A$63,'1추총괄표(위원회)'!$A44,'1추일출'!$B$6:$B$63,'1추총괄표(위원회)'!$C44) -> 0 | V44: =SUMIFS('1추일출'!K$6:K$63,'1추일출'!$A$6:$A$63,'1추총괄표(위원회)'!$A44,'1추일출'!$B$6:$B$63,'1추총괄표(위원회)'!$C44) -> 0 | W44: =SUMIFS('1추일출'!L$6:L$63,'1추일출'!$A$6:$A$63,'1추총괄표(위원회)'!$A44,'1추일출'!$B$6:$B$63,'1추총괄표(위원회)'!$C44) -> 0 | X44: =SUMIFS('1추일출'!W$6:W$63,'1추일출'!$A$6:$A$63,'1추총괄표(위원회)'!$A44,'1추일출'!$B$6:$B$63,'1추총괄표(위원회)'!$C44) -> 0 | Y44: =SUMIFS('1추일출'!X$6:X$63,'1추일출'!$A$6:$A$63,'1추총괄표(위원회)'!$A44,'1추일출'!$B$6:$B$63,'1추총괄표(위원회)'!$C44) -> 0 | Z44: =SUMIFS('1추일출'!M$6:M$63,'1추일출'!$A$6:$A$63,'1추총괄표(위원회)'!$A44,'1추일출'!$B$6:$B$63,'1추총괄표(위원회)'!$C44) -> 0 | AA44: =SUMIFS('1추일출'!N$6:N$63,'1추일출'!$A$6:$A$63,'1추총괄표(위원회)'!$A44,'1추일출'!$B$6:$B$63,'1추총괄표(위원회)'!$C44) -> 0 | AB44: =SUMIFS('1추일출'!O$6:O$63,'1추일출'!$A$6:$A$63,'1추총괄표(위원회)'!$A44,'1추일출'!$B$6:$B$63,'1추총괄표(위원회)'!$C44) -> 0 | AC44: =SUMIFS('1추일출'!AB$6:AB$63,'1추일출'!$A$6:$A$63,'1추총괄표(위원회)'!$A44,'1추일출'!$B$6:$B$63,'1추총괄표(위원회)'!C$9) -> 0 | AD44: =SUMIFS('1추일출'!AC$6:AC$63,'1추일출'!$A$6:$A$63,'1추총괄표(위원회)'!$A44,'1추일출'!$B$6:$B$63,'1추총괄표(위원회)'!D$9) -> 0 | AF44: =IF(J44=X44,"OK","@@") -> OK | AG44: =J44-X44 -> 0 | AH44: =IF(O44=AC44,"OK","@@") -> OK | AI44: =O44-AC44 -> 0
A45: 도시환경위원회 | C45: 환경국 | D45: =SUMIFS('1추일입'!G$6:G$15,'1추일입'!$A$6:$A$15,'1추총괄표(위원회)'!$A45,'1추일입'!$B$6:$B$15,'1추총괄표(위원회)'!$C45) -> 0 | E45: =SUMIFS('1추일입'!H$6:H$15,'1추일입'!$A$6:$A$15,'1추총괄표(위원회)'!$A45,'1추일입'!$B$6:$B$15,'1추총괄표(위원회)'!$C45) -> 0 | F45: =D45-E45 -> 0 | G45: =SUMIFS('1추일입'!J$6:J$15,'1추일입'!$A$6:$A$15,'1추총괄표(위원회)'!$A45,'1추일입'!$B$6:$B$15,'1추총괄표(위원회)'!$C45) -> 0 | H45: =SUMIFS('1추일입'!K$6:K$15,'1추일입'!$A$6:$A$15,'1추총괄표(위원회)'!$A45,'1추일입'!$B$6:$B$15,'1추총괄표(위원회)'!$C45) -> 0 | I45: =SUMIFS('1추일입'!L$6:L$15,'1추일입'!$A$6:$A$15,'1추총괄표(위원회)'!$A45,'1추일입'!$B$6:$B$15,'1추총괄표(위원회)'!$C45) -> 0 | J45: =SUMIFS('1추일입'!V$6:V$15,'1추일입'!$A$6:$A$15,'1추총괄표(위원회)'!$A45,'1추일입'!$B$6:$B$15,'1추총괄표(위원회)'!$C45) -> 0 | K45: =SUMIFS('1추일입'!W$6:W$15,'1추일입'!$A$6:$A$15,'1추총괄표(위원회)'!$A45,'1추일입'!$B$6:$B$15,'1추총괄표(위원회)'!$C45) -> 0 | L45: =SUMIFS('1추일입'!M$6:M$15,'1추일입'!$A$6:$A$15,'1추총괄표(위원회)'!$A45,'1추일입'!$B$6:$B$15,'1추총괄표(위원회)'!$C45) -> 0 | M45: =SUMIFS('1추일입'!N$6:N$15,'1추일입'!$A$6:$A$15,'1추총괄표(위원회)'!$A45,'1추일입'!$B$6:$B$15,'1추총괄표(위원회)'!$C45) -> 0 | N45: =SUMIFS('1추일입'!O$6:O$15,'1추일입'!$A$6:$A$15,'1추총괄표(위원회)'!$A45,'1추일입'!$B$6:$B$15,'1추총괄표(위원회)'!$C45) -> 0 | O45: =SUMIFS('1추일입'!AA$6:AA$15,'1추일입'!$A$6:$A$15,'1추총괄표(위원회)'!$A45,'1추일입'!$B$6:$B$15,'1추총괄표(위원회)'!$C45) -> 0 | P45: =SUMIFS('1추일입'!AB$6:AB$15,'1추일입'!$A$6:$A$15,'1추총괄표(위원회)'!$A45,'1추일입'!$B$6:$B$15,'1추총괄표(위원회)'!$C45) -> 0 | R45: =SUMIFS('1추일출'!G$6:G$63,'1추일출'!$A$6:$A$63,'1추총괄표(위원회)'!$A45,'1추일출'!$B$6:$B$63,'1추총괄표(위원회)'!$C45) -> 0 | S45: =SUMIFS('1추일출'!H$6:H$63,'1추일출'!$A$6:$A$63,'1추총괄표(위원회)'!$A45,'1추일출'!$B$6:$B$63,'1추총괄표(위원회)'!$C45) -> 0 | T45: =R45-S45 -> 0 | U45: =SUMIFS('1추일출'!J$6:J$63,'1추일출'!$A$6:$A$63,'1추총괄표(위원회)'!$A45,'1추일출'!$B$6:$B$63,'1추총괄표(위원회)'!$C45) -> 0 | V45: =SUMIFS('1추일출'!K$6:K$63,'1추일출'!$A$6:$A$63,'1추총괄표(위원회)'!$A45,'1추일출'!$B$6:$B$63,'1추총괄표(위원회)'!$C45) -> 0 | W45: =SUMIFS('1추일출'!L$6:L$63,'1추일출'!$A$6:$A$63,'1추총괄표(위원회)'!$A45,'1추일출'!$B$6:$B$63,'1추총괄표(위원회)'!$C45) -> 0 | X45: =SUMIFS('1추일출'!W$6:W$63,'1추일출'!$A$6:$A$63,'1추총괄표(위원회)'!$A45,'1추일출'!$B$6:$B$63,'1추총괄표(위원회)'!$C45) -> 0 | Y45: =SUMIFS('1추일출'!X$6:X$63,'1추일출'!$A$6:$A$63,'1추총괄표(위원회)'!$A45,'1추일출'!$B$6:$B$63,'1추총괄표(위원회)'!$C45) -> 0 | Z45: =SUMIFS('1추일출'!M$6:M$63,'1추일출'!$A$6:$A$63,'1추총괄표(위원회)'!$A45,'1추일출'!$B$6:$B$63,'1추총괄표(위원회)'!$C45) -> 0 | AA45: =SUMIFS('1추일출'!N$6:N$63,'1추일출'!$A$6:$A$63,'1추총괄표(위원회)'!$A45,'1추일출'!$B$6:$B$63,'1추총괄표(위원회)'!$C45) -> 0 | AB45: =SUMIFS('1추일출'!O$6:O$63,'1추일출'!$A$6:$A$63,'1추총괄표(위원회)'!$A45,'1추일출'!$B$6:$B$63,'1추총괄표(위원회)'!$C45) -> 0 | AC45: =SUMIFS('1추일출'!AB$6:AB$63,'1추일출'!$A$6:$A$63,'1추총괄표(위원회)'!$A45,'1추일출'!$B$6:$B$63,'1추총괄표(위원회)'!C$9) -> 0 | AD45: =SUMIFS('1추일출'!AC$6:AC$63,'1추일출'!$A$6:$A$63,'1추총괄표(위원회)'!$A45,'1추일출'!$B$6:$B$63,'1추총괄표(위원회)'!D$9) -> 0 | AF45: =IF(J45=X45,"OK","@@") -> OK | AG45: =J45-X45 -> 0 | AH45: =IF(O45=AC45,"OK","@@") -> OK | AI45: =O45-AC45 -> 0
A46: 도시환경위원회 | C46: 축산산림국 | D46: =SUMIFS('1추일입'!G$6:G$15,'1추일입'!$A$6:$A$15,'1추총괄표(위원회)'!$A46,'1추일입'!$B$6:$B$15,'1추총괄표(위원회)'!$C46) -> 0 | E46: =SUMIFS('1추일입'!H$6:H$15,'1추일입'!$A$6:$A$15,'1추총괄표(위원회)'!$A46,'1추일입'!$B$6:$B$15,'1추총괄표(위원회)'!$C46) -> 0 | F46: =D46-E46 -> 0 | G46: =SUMIFS('1추일입'!J$6:J$15,'1추일입'!$A$6:$A$15,'1추총괄표(위원회)'!$A46,'1추일입'!$B$6:$B$15,'1추총괄표(위원회)'!$C46) -> 0 | H46: =SUMIFS('1추일입'!K$6:K$15,'1추일입'!$A$6:$A$15,'1추총괄표(위원회)'!$A46,'1추일입'!$B$6:$B$15,'1추총괄표(위원회)'!$C46) -> 0 | I46: =SUMIFS('1추일입'!L$6:L$15,'1추일입'!$A$6:$A$15,'1추총괄표(위원회)'!$A46,'1추일입'!$B$6:$B$15,'1추총괄표(위원회)'!$C46) -> 0 | J46: =SUMIFS('1추일입'!V$6:V$15,'1추일입'!$A$6:$A$15,'1추총괄표(위원회)'!$A46,'1추일입'!$B$6:$B$15,'1추총괄표(위원회)'!$C46) -> 0 | K46: =SUMIFS('1추일입'!W$6:W$15,'1추일입'!$A$6:$A$15,'1추총괄표(위원회)'!$A46,'1추일입'!$B$6:$B$15,'1추총괄표(위원회)'!$C46) -> 0 | L46: =SUMIFS('1추일입'!M$6:M$15,'1추일입'!$A$6:$A$15,'1추총괄표(위원회)'!$A46,'1추일입'!$B$6:$B$15,'1추총괄표(위원회)'!$C46) -> 0 | M46: =SUMIFS('1추일입'!N$6:N$15,'1추일입'!$A$6:$A$15,'1추총괄표(위원회)'!$A46,'1추일입'!$B$6:$B$15,'1추총괄표(위원회)'!$C46) -> 0 | N46: =SUMIFS('1추일입'!O$6:O$15,'1추일입'!$A$6:$A$15,'1추총괄표(위원회)'!$A46,'1추일입'!$B$6:$B$15,'1추총괄표(위원회)'!$C46) -> 0 | O46: =SUMIFS('1추일입'!AA$6:AA$15,'1추일입'!$A$6:$A$15,'1추총괄표(위원회)'!$A46,'1추일입'!$B$6:$B$15,'1추총괄표(위원회)'!$C46) -> 0 | P46: =SUMIFS('1추일입'!AB$6:AB$15,'1추일입'!$A$6:$A$15,'1추총괄표(위원회)'!$A46,'1추일입'!$B$6:$B$15,'1추총괄표(위원회)'!$C46) -> 0 | R46: =SUMIFS('1추일출'!G$6:G$63,'1추일출'!$A$6:$A$63,'1추총괄표(위원회)'!$A46,'1추일출'!$B$6:$B$63,'1추총괄표(위원회)'!$C46) -> 0 | S46: =SUMIFS('1추일출'!H$6:H$63,'1추일출'!$A$6:$A$63,'1추총괄표(위원회)'!$A46,'1추일출'!$B$6:$B$63,'1추총괄표(위원회)'!$C46) -> 0 | T46: =R46-S46 -> 0 | U46: =SUMIFS('1추일출'!J$6:J$63,'1추일출'!$A$6:$A$63,'1추총괄표(위원회)'!$A46,'1추일출'!$B$6:$B$63,'1추총괄표(위원회)'!$C46) -> 0 | V46: =SUMIFS('1추일출'!K$6:K$63,'1추일출'!$A$6:$A$63,'1추총괄표(위원회)'!$A46,'1추일출'!$B$6:$B$63,'1추총괄표(위원회)'!$C46) -> 0 | W46: =SUMIFS('1추일출'!L$6:L$63,'1추일출'!$A$6:$A$63,'1추총괄표(위원회)'!$A46,'1추일출'!$B$6:$B$63,'1추총괄표(위원회)'!$C46) -> 0 | X46: =SUMIFS('1추일출'!W$6:W$63,'1추일출'!$A$6:$A$63,'1추총괄표(위원회)'!$A46,'1추일출'!$B$6:$B$63,'1추총괄표(위원회)'!$C46) -> 0 | Y46: =SUMIFS('1추일출'!X$6:X$63,'1추일출'!$A$6:$A$63,'1추총괄표(위원회)'!$A46,'1추일출'!$B$6:$B$63,'1추총괄표(위원회)'!$C46) -> 0 | Z46: =SUMIFS('1추일출'!M$6:M$63,'1추일출'!$A$6:$A$63,'1추총괄표(위원회)'!$A46,'1추일출'!$B$6:$B$63,'1추총괄표(위원회)'!$C46) -> 0 | AA46: =SUMIFS('1추일출'!N$6:N$63,'1추일출'!$A$6:$A$63,'1추총괄표(위원회)'!$A46,'1추일출'!$B$6:$B$63,'1추총괄표(위원회)'!$C46) -> 0 | AB46: =SUMIFS('1추일출'!O$6:O$63,'1추일출'!$A$6:$A$63,'1추총괄표(위원회)'!$A46,'1추일출'!$B$6:$B$63,'1추총괄표(위원회)'!$C46) -> 0 | AC46: =SUMIFS('1추일출'!AB$6:AB$63,'1추일출'!$A$6:$A$63,'1추총괄표(위원회)'!$A46,'1추일출'!$B$6:$B$63,'1추총괄표(위원회)'!C$9) -> 0 | AD46: =SUMIFS('1추일출'!AC$6:AC$63,'1추일출'!$A$6:$A$63,'1추총괄표(위원회)'!$A46,'1추일출'!$B$6:$B$63,'1추총괄표(위원회)'!D$9) -> 0 | AF46: =IF(J46=X46,"OK","@@") -> OK | AG46: =J46-X46 -> 0 | AH46: =IF(O46=AC46,"OK","@@") -> OK | AI46: =O46-AC46 -> 0
A47: 도시환경위원회 | C47: 보건환경연구원 | D47: =SUMIFS('1추일입'!G$6:G$15,'1추일입'!$A$6:$A$15,'1추총괄표(위원회)'!$A47,'1추일입'!$B$6:$B$15,'1추총괄표(위원회)'!$C47) -> 0 | E47: =SUMIFS('1추일입'!H$6:H$15,'1추일입'!$A$6:$A$15,'1추총괄표(위원회)'!$A47,'1추일입'!$B$6:$B$15,'1추총괄표(위원회)'!$C47) -> 0 | F47: =D47-E47 -> 0 | G47: =SUMIFS('1추일입'!J$6:J$15,'1추일입'!$A$6:$A$15,'1추총괄표(위원회)'!$A47,'1추일입'!$B$6:$B$15,'1추총괄표(위원회)'!$C47) -> 0 | H47: =SUMIFS('1추일입'!K$6:K$15,'1추일입'!$A$6:$A$15,'1추총괄표(위원회)'!$A47,'1추일입'!$B$6:$B$15,'1추총괄표(위원회)'!$C47) -> 0 | I47: =SUMIFS('1추일입'!L$6:L$15,'1추일입'!$A$6:$A$15,'1추총괄표(위원회)'!$A47,'1추일입'!$B$6:$B$15,'1추총괄표(위원회)'!$C47) -> 0 | J47: =SUMIFS('1추일입'!V$6:V$15,'1추일입'!$A$6:$A$15,'1추총괄표(위원회)'!$A47,'1추일입'!$B$6:$B$15,'1추총괄표(위원회)'!$C47) -> 0 | K47: =SUMIFS('1추일입'!W$6:W$15,'1추일입'!$A$6:$A$15,'1추총괄표(위원회)'!$A47,'1추일입'!$B$6:$B$15,'1추총괄표(위원회)'!$C47) -> 0 | L47: =SUMIFS('1추일입'!M$6:M$15,'1추일입'!$A$6:$A$15,'1추총괄표(위원회)'!$A47,'1추일입'!$B$6:$B$15,'1추총괄표(위원회)'!$C47) -> 0 | M47: =SUMIFS('1추일입'!N$6:N$15,'1추일입'!$A$6:$A$15,'1추총괄표(위원회)'!$A47,'1추일입'!$B$6:$B$15,'1추총괄표(위원회)'!$C47) -> 0 | N47: =SUMIFS('1추일입'!O$6:O$15,'1추일입'!$A$6:$A$15,'1추총괄표(위원회)'!$A47,'1추일입'!$B$6:$B$15,'1추총괄표(위원회)'!$C47) -> 0 | O47: =SUMIFS('1추일입'!AA$6:AA$15,'1추일입'!$A$6:$A$15,'1추총괄표(위원회)'!$A47,'1추일입'!$B$6:$B$15,'1추총괄표(위원회)'!$C47) -> 0 | P47: =SUMIFS('1추일입'!AB$6:AB$15,'1추일입'!$A$6:$A$15,'1추총괄표(위원회)'!$A47,'1추일입'!$B$6:$B$15,'1추총괄표(위원회)'!$C47) -> 0 | R47: =SUMIFS('1추일출'!G$6:G$63,'1추일출'!$A$6:$A$63,'1추총괄표(위원회)'!$A47,'1추일출'!$B$6:$B$63,'1추총괄표(위원회)'!$C47) -> 0 | S47: =SUMIFS('1추일출'!H$6:H$63,'1추일출'!$A$6:$A$63,'1추총괄표(위원회)'!$A47,'1추일출'!$B$6:$B$63,'1추총괄표(위원회)'!$C47) -> 0 | T47: =R47-S47 -> 0 | U47: =SUMIFS('1추일출'!J$6:J$63,'1추일출'!$A$6:$A$63,'1추총괄표(위원회)'!$A47,'1추일출'!$B$6:$B$63,'1추총괄표(위원회)'!$C47) -> 0 | V47: =SUMIFS('1추일출'!K$6:K$63,'1추일출'!$A$6:$A$63,'1추총괄표(위원회)'!$A47,'1추일출'!$B$6:$B$63,'1추총괄표(위원회)'!$C47) -> 0 | W47: =SUMIFS('1추일출'!L$6:L$63,'1추일출'!$A$6:$A$63,'1추총괄표(위원회)'!$A47,'1추일출'!$B$6:$B$63,'1추총괄표(위원회)'!$C47) -> 0 | X47: =SUMIFS('1추일출'!W$6:W$63,'1추일출'!$A$6:$A$63,'1추총괄표(위원회)'!$A47,'1추일출'!$B$6:$B$63,'1추총괄표(위원회)'!$C47) -> 0 | Y47: =SUMIFS('1추일출'!X$6:X$63,'1추일출'!$A$6:$A$63,'1추총괄표(위원회)'!$A47,'1추일출'!$B$6:$B$63,'1추총괄표(위원회)'!$C47) -> 0 | Z47: =SUMIFS('1추일출'!M$6:M$63,'1추일출'!$A$6:$A$63,'1추총괄표(위원회)'!$A47,'1추일출'!$B$6:$B$63,'1추총괄표(위원회)'!$C47) -> 0 | AA47: =SUMIFS('1추일출'!N$6:N$63,'1추일출'!$A$6:$A$63,'1추총괄표(위원회)'!$A47,'1추일출'!$B$6:$B$63,'1추총괄표(위원회)'!$C47) -> 0 | AB47: =SUMIFS('1추일출'!O$6:O$63,'1추일출'!$A$6:$A$63,'1추총괄표(위원회)'!$A47,'1추일출'!$B$6:$B$63,'1추총괄표(위원회)'!$C47) -> 0 | AC47: =SUMIFS('1추일출'!AB$6:AB$63,'1추일출'!$A$6:$A$63,'1추총괄표(위원회)'!$A47,'1추일출'!$B$6:$B$63,'1추총괄표(위원회)'!C$9) -> 0 | AD47: =SUMIFS('1추일출'!AC$6:AC$63,'1추일출'!$A$6:$A$63,'1추총괄표(위원회)'!$A47,'1추일출'!$B$6:$B$63,'1추총괄표(위원회)'!D$9) -> 0 | AF47: =IF(J47=X47,"OK","@@") -> OK | AG47: =J47-X47 -> 0 | AH47: =IF(O47=AC47,"OK","@@") -> OK | AI47: =O47-AC47 -> 0
A48: 도시환경위원회 | C48: 수자원본부 | D48: =SUMIFS('1추일입'!G$6:G$15,'1추일입'!$A$6:$A$15,'1추총괄표(위원회)'!$A48,'1추일입'!$B$6:$B$15,'1추총괄표(위원회)'!$C48) -> 0 | E48: =SUMIFS('1추일입'!H$6:H$15,'1추일입'!$A$6:$A$15,'1추총괄표(위원회)'!$A48,'1추일입'!$B$6:$B$15,'1추총괄표(위원회)'!$C48) -> 0 | F48: =D48-E48 -> 0 | G48: =SUMIFS('1추일입'!J$6:J$15,'1추일입'!$A$6:$A$15,'1추총괄표(위원회)'!$A48,'1추일입'!$B$6:$B$15,'1추총괄표(위원회)'!$C48) -> 0 | H48: =SUMIFS('1추일입'!K$6:K$15,'1추일입'!$A$6:$A$15,'1추총괄표(위원회)'!$A48,'1추일입'!$B$6:$B$15,'1추총괄표(위원회)'!$C48) -> 0 | I48: =SUMIFS('1추일입'!L$6:L$15,'1추일입'!$A$6:$A$15,'1추총괄표(위원회)'!$A48,'1추일입'!$B$6:$B$15,'1추총괄표(위원회)'!$C48) -> 0 | J48: =SUMIFS('1추일입'!V$6:V$15,'1추일입'!$A$6:$A$15,'1추총괄표(위원회)'!$A48,'1추일입'!$B$6:$B$15,'1추총괄표(위원회)'!$C48) -> 0 | K48: =SUMIFS('1추일입'!W$6:W$15,'1추일입'!$A$6:$A$15,'1추총괄표(위원회)'!$A48,'1추일입'!$B$6:$B$15,'1추총괄표(위원회)'!$C48) -> 0 | L48: =SUMIFS('1추일입'!M$6:M$15,'1추일입'!$A$6:$A$15,'1추총괄표(위원회)'!$A48,'1추일입'!$B$6:$B$15,'1추총괄표(위원회)'!$C48) -> 0 | M48: =SUMIFS('1추일입'!N$6:N$15,'1추일입'!$A$6:$A$15,'1추총괄표(위원회)'!$A48,'1추일입'!$B$6:$B$15,'1추총괄표(위원회)'!$C48) -> 0 | N48: =SUMIFS('1추일입'!O$6:O$15,'1추일입'!$A$6:$A$15,'1추총괄표(위원회)'!$A48,'1추일입'!$B$6:$B$15,'1추총괄표(위원회)'!$C48) -> 0 | O48: =SUMIFS('1추일입'!AA$6:AA$15,'1추일입'!$A$6:$A$15,'1추총괄표(위원회)'!$A48,'1추일입'!$B$6:$B$15,'1추총괄표(위원회)'!$C48) -> 0 | P48: =SUMIFS('1추일입'!AB$6:AB$15,'1추일입'!$A$6:$A$15,'1추총괄표(위원회)'!$A48,'1추일입'!$B$6:$B$15,'1추총괄표(위원회)'!$C48) -> 0 | R48: =SUMIFS('1추일출'!G$6:G$63,'1추일출'!$A$6:$A$63,'1추총괄표(위원회)'!$A48,'1추일출'!$B$6:$B$63,'1추총괄표(위원회)'!$C48) -> 0 | S48: =SUMIFS('1추일출'!H$6:H$63,'1추일출'!$A$6:$A$63,'1추총괄표(위원회)'!$A48,'1추일출'!$B$6:$B$63,'1추총괄표(위원회)'!$C48) -> 0 | T48: =R48-S48 -> 0 | U48: =SUMIFS('1추일출'!J$6:J$63,'1추일출'!$A$6:$A$63,'1추총괄표(위원회)'!$A48,'1추일출'!$B$6:$B$63,'1추총괄표(위원회)'!$C48) -> 0 | V48: =SUMIFS('1추일출'!K$6:K$63,'1추일출'!$A$6:$A$63,'1추총괄표(위원회)'!$A48,'1추일출'!$B$6:$B$63,'1추총괄표(위원회)'!$C48) -> 0 | W48: =SUMIFS('1추일출'!L$6:L$63,'1추일출'!$A$6:$A$63,'1추총괄표(위원회)'!$A48,'1추일출'!$B$6:$B$63,'1추총괄표(위원회)'!$C48) -> 0 | X48: =SUMIFS('1추일출'!W$6:W$63,'1추일출'!$A$6:$A$63,'1추총괄표(위원회)'!$A48,'1추일출'!$B$6:$B$63,'1추총괄표(위원회)'!$C48) -> 0 | Y48: =SUMIFS('1추일출'!X$6:X$63,'1추일출'!$A$6:$A$63,'1추총괄표(위원회)'!$A48,'1추일출'!$B$6:$B$63,'1추총괄표(위원회)'!$C48) -> 0 | Z48: =SUMIFS('1추일출'!M$6:M$63,'1추일출'!$A$6:$A$63,'1추총괄표(위원회)'!$A48,'1추일출'!$B$6:$B$63,'1추총괄표(위원회)'!$C48) -> 0 | AA48: =SUMIFS('1추일출'!N$6:N$63,'1추일출'!$A$6:$A$63,'1추총괄표(위원회)'!$A48,'1추일출'!$B$6:$B$63,'1추총괄표(위원회)'!$C48) -> 0 | AB48: =SUMIFS('1추일출'!O$6:O$63,'1추일출'!$A$6:$A$63,'1추총괄표(위원회)'!$A48,'1추일출'!$B$6:$B$63,'1추총괄표(위원회)'!$C48) -> 0 | AC48: =SUMIFS('1추일출'!AB$6:AB$63,'1추일출'!$A$6:$A$63,'1추총괄표(위원회)'!$A48,'1추일출'!$B$6:$B$63,'1추총괄표(위원회)'!C$9) -> 0 | AD48: =SUMIFS('1추일출'!AC$6:AC$63,'1추일출'!$A$6:$A$63,'1추총괄표(위원회)'!$A48,'1추일출'!$B$6:$B$63,'1추총괄표(위원회)'!D$9) -> 0 | AF48: =IF(J48=X48,"OK","@@") -> OK | AG48: =J48-X48 -> 0 | AH48: =IF(O48=AC48,"OK","@@") -> OK | AI48: =O48-AC48 -> 0
B49: 여성가족교육협력위원회 | D49: =SUM(D50:D52) -> 0 | E49: =SUM(E50:E52) -> 0 | F49: =SUM(F50:F52) -> 0 | G49: =SUM(G50:G52) -> 0 | H49: =SUM(H50:H52) -> 0 | I49: =SUM(I50:I52) -> 0 | J49: =SUM(J50:J52) -> 0 | K49: =SUM(K50:K52) -> 0 | ... P49: =SUM(P50:P52) -> 0 | R49: =SUM(R50:R52) -> 0 | S49: =SUM(S50:S52) -> 0 | T49: =SUM(T50:T52) -> 0 | U49: =SUM(U50:U52) -> 0 | V49: =SUM(V50:V52) -> 0 | W49: =SUM(W50:W52) -> 0 | X49: =SUM(X50:X52) -> 0 | Y49: =SUM(Y50:Y52) -> 0 | ... AD49: =SUM(AD50:AD52) -> 0 | AF49: =IF(J49=X49,"OK","@@") -> OK | AG49: =J49-X49 -> 0 | AH49: =IF(O49=AC49,"OK","@@") -> OK | AI49: =O49-AC49 -> 0
A50: 여성가족교육협력위원회 | C50: 여성가족국 | D50: =SUMIFS('1추일입'!G$6:G$15,'1추일입'!$A$6:$A$15,'1추총괄표(위원회)'!$A50,'1추일입'!$B$6:$B$15,'1추총괄표(위원회)'!$C50) -> 0 | E50: =SUMIFS('1추일입'!H$6:H$15,'1추일입'!$A$6:$A$15,'1추총괄표(위원회)'!$A50,'1추일입'!$B$6:$B$15,'1추총괄표(위원회)'!$C50) -> 0 | F50: =D50-E50 -> 0 | G50: =SUMIFS('1추일입'!J$6:J$15,'1추일입'!$A$6:$A$15,'1추총괄표(위원회)'!$A50,'1추일입'!$B$6:$B$15,'1추총괄표(위원회)'!$C50) -> 0 | H50: =SUMIFS('1추일입'!K$6:K$15,'1추일입'!$A$6:$A$15,'1추총괄표(위원회)'!$A50,'1추일입'!$B$6:$B$15,'1추총괄표(위원회)'!$C50) -> 0 | I50: =SUMIFS('1추일입'!L$6:L$15,'1추일입'!$A$6:$A$15,'1추총괄표(위원회)'!$A50,'1추일입'!$B$6:$B$15,'1추총괄표(위원회)'!$C50) -> 0 | J50: =SUMIFS('1추일입'!V$6:V$15,'1추일입'!$A$6:$A$15,'1추총괄표(위원회)'!$A50,'1추일입'!$B$6:$B$15,'1추총괄표(위원회)'!$C50) -> 0 | K50: =SUMIFS('1추일입'!W$6:W$15,'1추일입'!$A$6:$A$15,'1추총괄표(위원회)'!$A50,'1추일입'!$B$6:$B$15,'1추총괄표(위원회)'!$C50) -> 0 | L50: =SUMIFS('1추일입'!M$6:M$15,'1추일입'!$A$6:$A$15,'1추총괄표(위원회)'!$A50,'1추일입'!$B$6:$B$15,'1추총괄표(위원회)'!$C50) -> 0 | M50: =SUMIFS('1추일입'!N$6:N$15,'1추일입'!$A$6:$A$15,'1추총괄표(위원회)'!$A50,'1추일입'!$B$6:$B$15,'1추총괄표(위원회)'!$C50) -> 0 | N50: =SUMIFS('1추일입'!O$6:O$15,'1추일입'!$A$6:$A$15,'1추총괄표(위원회)'!$A50,'1추일입'!$B$6:$B$15,'1추총괄표(위원회)'!$C50) -> 0 | O50: =SUMIFS('1추일입'!AA$6:AA$15,'1추일입'!$A$6:$A$15,'1추총괄표(위원회)'!$A50,'1추일입'!$B$6:$B$15,'1추총괄표(위원회)'!$C50) -> 0 | P50: =SUMIFS('1추일입'!AB$6:AB$15,'1추일입'!$A$6:$A$15,'1추총괄표(위원회)'!$A50,'1추일입'!$B$6:$B$15,'1추총괄표(위원회)'!$C50) -> 0 | R50: =SUMIFS('1추일출'!G$6:G$63,'1추일출'!$A$6:$A$63,'1추총괄표(위원회)'!$A50,'1추일출'!$B$6:$B$63,'1추총괄표(위원회)'!$C50) -> 0 | S50: =SUMIFS('1추일출'!H$6:H$63,'1추일출'!$A$6:$A$63,'1추총괄표(위원회)'!$A50,'1추일출'!$B$6:$B$63,'1추총괄표(위원회)'!$C50) -> 0 | T50: =R50-S50 -> 0 | U50: =SUMIFS('1추일출'!J$6:J$63,'1추일출'!$A$6:$A$63,'1추총괄표(위원회)'!$A50,'1추일출'!$B$6:$B$63,'1추총괄표(위원회)'!$C50) -> 0 | V50: =SUMIFS('1추일출'!K$6:K$63,'1추일출'!$A$6:$A$63,'1추총괄표(위원회)'!$A50,'1추일출'!$B$6:$B$63,'1추총괄표(위원회)'!$C50) -> 0 | W50: =SUMIFS('1추일출'!L$6:L$63,'1추일출'!$A$6:$A$63,'1추총괄표(위원회)'!$A50,'1추일출'!$B$6:$B$63,'1추총괄표(위원회)'!$C50) -> 0 | X50: =SUMIFS('1추일출'!W$6:W$63,'1추일출'!$A$6:$A$63,'1추총괄표(위원회)'!$A50,'1추일출'!$B$6:$B$63,'1추총괄표(위원회)'!$C50) -> 0 | Y50: =SUMIFS('1추일출'!X$6:X$63,'1추일출'!$A$6:$A$63,'1추총괄표(위원회)'!$A50,'1추일출'!$B$6:$B$63,'1추총괄표(위원회)'!$C50) -> 0 | Z50: =SUMIFS('1추일출'!M$6:M$63,'1추일출'!$A$6:$A$63,'1추총괄표(위원회)'!$A50,'1추일출'!$B$6:$B$63,'1추총괄표(위원회)'!$C50) -> 0 | AA50: =SUMIFS('1추일출'!N$6:N$63,'1추일출'!$A$6:$A$63,'1추총괄표(위원회)'!$A50,'1추일출'!$B$6:$B$63,'1추총괄표(위원회)'!$C50) -> 100000 | AB50: =SUMIFS('1추일출'!O$6:O$63,'1추일출'!$A$6:$A$63,'1추총괄표(위원회)'!$A50,'1추일출'!$B$6:$B$63,'1추총괄표(위원회)'!$C50) -> 100000 | AC50: =SUMIFS('1추일출'!AB$6:AB$63,'1추일출'!$A$6:$A$63,'1추총괄표(위원회)'!$A50,'1추일출'!$B$6:$B$63,'1추총괄표(위원회)'!C$9) -> 0 | AD50: =SUMIFS('1추일출'!AC$6:AC$63,'1추일출'!$A$6:$A$63,'1추총괄표(위원회)'!$A50,'1추일출'!$B$6:$B$63,'1추총괄표(위원회)'!D$9) -> 0 | AF50: =IF(J50=X50,"OK","@@") -> OK | AG50: =J50-X50 -> 0 | AH50: =IF(O50=AC50,"OK","@@") -> OK | AI50: =O50-AC50 -> 0
A51: 여성가족교육협력위원회 | C51: 복지여성실 | D51: =SUMIFS('1추일입'!G$6:G$15,'1추일입'!$A$6:$A$15,'1추총괄표(위원회)'!$A51,'1추일입'!$B$6:$B$15,'1추총괄표(위원회)'!$C51) -> 0 | E51: =SUMIFS('1추일입'!H$6:H$15,'1추일입'!$A$6:$A$15,'1추총괄표(위원회)'!$A51,'1추일입'!$B$6:$B$15,'1추총괄표(위원회)'!$C51) -> 0 | F51: =D51-E51 -> 0 | G51: =SUMIFS('1추일입'!J$6:J$15,'1추일입'!$A$6:$A$15,'1추총괄표(위원회)'!$A51,'1추일입'!$B$6:$B$15,'1추총괄표(위원회)'!$C51) -> 0 | H51: =SUMIFS('1추일입'!K$6:K$15,'1추일입'!$A$6:$A$15,'1추총괄표(위원회)'!$A51,'1추일입'!$B$6:$B$15,'1추총괄표(위원회)'!$C51) -> 0 | I51: =SUMIFS('1추일입'!L$6:L$15,'1추일입'!$A$6:$A$15,'1추총괄표(위원회)'!$A51,'1추일입'!$B$6:$B$15,'1추총괄표(위원회)'!$C51) -> 0 | J51: =SUMIFS('1추일입'!V$6:V$15,'1추일입'!$A$6:$A$15,'1추총괄표(위원회)'!$A51,'1추일입'!$B$6:$B$15,'1추총괄표(위원회)'!$C51) -> 0 | K51: =SUMIFS('1추일입'!W$6:W$15,'1추일입'!$A$6:$A$15,'1추총괄표(위원회)'!$A51,'1추일입'!$B$6:$B$15,'1추총괄표(위원회)'!$C51) -> 0 | L51: =SUMIFS('1추일입'!M$6:M$15,'1추일입'!$A$6:$A$15,'1추총괄표(위원회)'!$A51,'1추일입'!$B$6:$B$15,'1추총괄표(위원회)'!$C51) -> 0 | M51: =SUMIFS('1추일입'!N$6:N$15,'1추일입'!$A$6:$A$15,'1추총괄표(위원회)'!$A51,'1추일입'!$B$6:$B$15,'1추총괄표(위원회)'!$C51) -> 0 | N51: =SUMIFS('1추일입'!O$6:O$15,'1추일입'!$A$6:$A$15,'1추총괄표(위원회)'!$A51,'1추일입'!$B$6:$B$15,'1추총괄표(위원회)'!$C51) -> 0 | O51: =SUMIFS('1추일입'!AA$6:AA$15,'1추일입'!$A$6:$A$15,'1추총괄표(위원회)'!$A51,'1추일입'!$B$6:$B$15,'1추총괄표(위원회)'!$C51) -> 0 | P51: =SUMIFS('1추일입'!AB$6:AB$15,'1추일입'!$A$6:$A$15,'1추총괄표(위원회)'!$A51,'1추일입'!$B$6:$B$15,'1추총괄표(위원회)'!$C51) -> 0 | R51: =SUMIFS('1추일출'!G$6:G$63,'1추일출'!$A$6:$A$63,'1추총괄표(위원회)'!$A51,'1추일출'!$B$6:$B$63,'1추총괄표(위원회)'!$C51) -> 0 | S51: =SUMIFS('1추일출'!H$6:H$63,'1추일출'!$A$6:$A$63,'1추총괄표(위원회)'!$A51,'1추일출'!$B$6:$B$63,'1추총괄표(위원회)'!$C51) -> 0 | T51: =R51-S51 -> 0 | U51: =SUMIFS('1추일출'!J$6:J$63,'1추일출'!$A$6:$A$63,'1추총괄표(위원회)'!$A51,'1추일출'!$B$6:$B$63,'1추총괄표(위원회)'!$C51) -> 0 | V51: =SUMIFS('1추일출'!K$6:K$63,'1추일출'!$A$6:$A$63,'1추총괄표(위원회)'!$A51,'1추일출'!$B$6:$B$63,'1추총괄표(위원회)'!$C51) -> 0 | W51: =SUMIFS('1추일출'!L$6:L$63,'1추일출'!$A$6:$A$63,'1추총괄표(위원회)'!$A51,'1추일출'!$B$6:$B$63,'1추총괄표(위원회)'!$C51) -> 0 | X51: =SUMIFS('1추일출'!W$6:W$63,'1추일출'!$A$6:$A$63,'1추총괄표(위원회)'!$A51,'1추일출'!$B$6:$B$63,'1추총괄표(위원회)'!$C51) -> 0 | Y51: =SUMIFS('1추일출'!X$6:X$63,'1추일출'!$A$6:$A$63,'1추총괄표(위원회)'!$A51,'1추일출'!$B$6:$B$63,'1추총괄표(위원회)'!$C51) -> 0 | Z51: =SUMIFS('1추일출'!M$6:M$63,'1추일출'!$A$6:$A$63,'1추총괄표(위원회)'!$A51,'1추일출'!$B$6:$B$63,'1추총괄표(위원회)'!$C51) -> 0 | AA51: =SUMIFS('1추일출'!N$6:N$63,'1추일출'!$A$6:$A$63,'1추총괄표(위원회)'!$A51,'1추일출'!$B$6:$B$63,'1추총괄표(위원회)'!$C51) -> 0 | AB51: =SUMIFS('1추일출'!O$6:O$63,'1추일출'!$A$6:$A$63,'1추총괄표(위원회)'!$A51,'1추일출'!$B$6:$B$63,'1추총괄표(위원회)'!$C51) -> 0 | AC51: =SUMIFS('1추일출'!AB$6:AB$63,'1추일출'!$A$6:$A$63,'1추총괄표(위원회)'!$A51,'1추일출'!$B$6:$B$63,'1추총괄표(위원회)'!C$9) -> 0 | AD51: =SUMIFS('1추일출'!AC$6:AC$63,'1추일출'!$A$6:$A$63,'1추총괄표(위원회)'!$A51,'1추일출'!$B$6:$B$63,'1추총괄표(위원회)'!D$9) -> 0 | AF51: =IF(J51=X51,"OK","@@") -> OK | AG51: =J51-X51 -> 0 | AH51: =IF(O51=AC51,"OK","@@") -> OK | AI51: =O51-AC51 -> 0
A52: 여성가족교육협력위원회 | C52: 교육협력국 | D52: =SUMIFS('1추일입'!G$6:G$15,'1추일입'!$A$6:$A$15,'1추총괄표(위원회)'!$A52,'1추일입'!$B$6:$B$15,'1추총괄표(위원회)'!$C52) -> 0 | E52: =SUMIFS('1추일입'!H$6:H$15,'1추일입'!$A$6:$A$15,'1추총괄표(위원회)'!$A52,'1추일입'!$B$6:$B$15,'1추총괄표(위원회)'!$C52) -> 0 | F52: =D52-E52 -> 0 | G52: =SUMIFS('1추일입'!J$6:J$15,'1추일입'!$A$6:$A$15,'1추총괄표(위원회)'!$A52,'1추일입'!$B$6:$B$15,'1추총괄표(위원회)'!$C52) -> 0 | H52: =SUMIFS('1추일입'!K$6:K$15,'1추일입'!$A$6:$A$15,'1추총괄표(위원회)'!$A52,'1추일입'!$B$6:$B$15,'1추총괄표(위원회)'!$C52) -> 0 | I52: =SUMIFS('1추일입'!L$6:L$15,'1추일입'!$A$6:$A$15,'1추총괄표(위원회)'!$A52,'1추일입'!$B$6:$B$15,'1추총괄표(위원회)'!$C52) -> 0 | J52: =SUMIFS('1추일입'!V$6:V$15,'1추일입'!$A$6:$A$15,'1추총괄표(위원회)'!$A52,'1추일입'!$B$6:$B$15,'1추총괄표(위원회)'!$C52) -> 0 | K52: =SUMIFS('1추일입'!W$6:W$15,'1추일입'!$A$6:$A$15,'1추총괄표(위원회)'!$A52,'1추일입'!$B$6:$B$15,'1추총괄표(위원회)'!$C52) -> 0 | L52: =SUMIFS('1추일입'!M$6:M$15,'1추일입'!$A$6:$A$15,'1추총괄표(위원회)'!$A52,'1추일입'!$B$6:$B$15,'1추총괄표(위원회)'!$C52) -> 0 | M52: =SUMIFS('1추일입'!N$6:N$15,'1추일입'!$A$6:$A$15,'1추총괄표(위원회)'!$A52,'1추일입'!$B$6:$B$15,'1추총괄표(위원회)'!$C52) -> 0 | N52: =SUMIFS('1추일입'!O$6:O$15,'1추일입'!$A$6:$A$15,'1추총괄표(위원회)'!$A52,'1추일입'!$B$6:$B$15,'1추총괄표(위원회)'!$C52) -> 0 | O52: =SUMIFS('1추일입'!AA$6:AA$15,'1추일입'!$A$6:$A$15,'1추총괄표(위원회)'!$A52,'1추일입'!$B$6:$B$15,'1추총괄표(위원회)'!$C52) -> 0 | P52: =SUMIFS('1추일입'!AB$6:AB$15,'1추일입'!$A$6:$A$15,'1추총괄표(위원회)'!$A52,'1추일입'!$B$6:$B$15,'1추총괄표(위원회)'!$C52) -> 0 | R52: =SUMIFS('1추일출'!G$6:G$63,'1추일출'!$A$6:$A$63,'1추총괄표(위원회)'!$A52,'1추일출'!$B$6:$B$63,'1추총괄표(위원회)'!$C52) -> 0 | S52: =SUMIFS('1추일출'!H$6:H$63,'1추일출'!$A$6:$A$63,'1추총괄표(위원회)'!$A52,'1추일출'!$B$6:$B$63,'1추총괄표(위원회)'!$C52) -> 0 | T52: =R52-S52 -> 0 | U52: =SUMIFS('1추일출'!J$6:J$63,'1추일출'!$A$6:$A$63,'1추총괄표(위원회)'!$A52,'1추일출'!$B$6:$B$63,'1추총괄표(위원회)'!$C52) -> 0 | V52: =SUMIFS('1추일출'!K$6:K$63,'1추일출'!$A$6:$A$63,'1추총괄표(위원회)'!$A52,'1추일출'!$B$6:$B$63,'1추총괄표(위원회)'!$C52) -> 0 | W52: =SUMIFS('1추일출'!L$6:L$63,'1추일출'!$A$6:$A$63,'1추총괄표(위원회)'!$A52,'1추일출'!$B$6:$B$63,'1추총괄표(위원회)'!$C52) -> 0 | X52: =SUMIFS('1추일출'!W$6:W$63,'1추일출'!$A$6:$A$63,'1추총괄표(위원회)'!$A52,'1추일출'!$B$6:$B$63,'1추총괄표(위원회)'!$C52) -> 0 | Y52: =SUMIFS('1추일출'!X$6:X$63,'1추일출'!$A$6:$A$63,'1추총괄표(위원회)'!$A52,'1추일출'!$B$6:$B$63,'1추총괄표(위원회)'!$C52) -> 0 | Z52: =SUMIFS('1추일출'!M$6:M$63,'1추일출'!$A$6:$A$63,'1추총괄표(위원회)'!$A52,'1추일출'!$B$6:$B$63,'1추총괄표(위원회)'!$C52) -> 0 | AA52: =SUMIFS('1추일출'!N$6:N$63,'1추일출'!$A$6:$A$63,'1추총괄표(위원회)'!$A52,'1추일출'!$B$6:$B$63,'1추총괄표(위원회)'!$C52) -> 100000 | AB52: =SUMIFS('1추일출'!O$6:O$63,'1추일출'!$A$6:$A$63,'1추총괄표(위원회)'!$A52,'1추일출'!$B$6:$B$63,'1추총괄표(위원회)'!$C52) -> 100000 | AC52: =SUMIFS('1추일출'!AB$6:AB$63,'1추일출'!$A$6:$A$63,'1추총괄표(위원회)'!$A52,'1추일출'!$B$6:$B$63,'1추총괄표(위원회)'!C$9) -> 0 | AD52: =SUMIFS('1추일출'!AC$6:AC$63,'1추일출'!$A$6:$A$63,'1추총괄표(위원회)'!$A52,'1추일출'!$B$6:$B$63,'1추총괄표(위원회)'!D$9) -> 0 | AF52: =IF(J52=X52,"OK","@@") -> OK | AG52: =J52-X52 -> 0 | AH52: =IF(O52=AC52,"OK","@@") -> OK | AI52: =O52-AC52 -> 0

Sheet 1추일입
A1: 2015년도 제1회 추경 경기도 일반회계 세입 예산 조정(안)
A2: □ 세입예산 | V2: 세입=세출 | AA2: 세입=세출
J3: =COUNTA(J7:J15) -> 0 | K3: =COUNTA(K7:K15) -> 2 | M3: =COUNTA(M7:M15) -> 0 | N3: =COUNTA(N7:N15) -> 2 | Q3: (단위 : 천원) | V3: =IF(V6='1추일출'!W6,"OK","@@") -> OK | X3: =IF(COUNTIF(X6:X15,"검토")>0,"@@","OK") -> OK | AA3: =IF(AA6='1추일출'!AB6,"OK","@@") -> OK | AC3: =IF(COUNTIF(AC6:AC15,"검토")>0,"@@","OK") -> OK
A4: 위원회명 | B4: 실국명 | C4: 부서명 | D4: 편성 구분 | E4: 예산안 페이지 | F4: 사업명 | G4: 제1회 추경 예산안 (가) | H4: 기정액 (나) | I4: 제1회 추경 증감액 (다=가-나) | J4: 상임위 제1회 추경 예산안 조정액(라) | L4: 상임위 수정 예산안 (마=가or나+라) | M4: 예결위 제1회 추경 예산안 조정액(라) | O4: 예결위 수정 예산안 (마=가or나+라) | P4: 동의 대상 | Q4: 비고 (부대의견) | S4: 국도비 등 여부 | U4: 재원 | V4: 상임위 재원별 증감액 | Z4: 재원 | AA4: 예결위 재원별 증감액 | AE4: 세입번호 | AG4: 실국부서 코드 | AI4: 추가 내시 등 | AK4: 상임위 세입 검증 | AO4: 예결위 세입 검증
J5: 감액 | K5: 증액 | M5: 감액 | N5: 증액 | V5: 국비 등 | W5: 도비 | X5: 검증 | AA5: 국비 등 | AB5: 도비 | AC5: 검증 | AK5: 국비 증감액 | AL5: 건수 | AM5: 검증 | AO5: 국비 증감액 | AP5: 건수 | AQ5: 검증
A6: 합 계 | G6: =SUBTOTAL(9,G7:G15) -> 0 | H6: =SUBTOTAL(9,H7:H15) -> 0 | I6: =SUBTOTAL(9,I7:I15) -> 0 | J6: =SUBTOTAL(9,J7:J15) -> 0 | K6: =SUBTOTAL(9,K7:K15) -> 911675 | L6: =SUBTOTAL(9,L7:L15) -> 911675 | M6: =SUBTOTAL(9,M7:M15) -> 0 | N6: =SUBTOTAL(9,N7:N15) -> 911675 | O6: =SUBTOTAL(9,O7:O15) -> 911675 | V6: =SUBTOTAL(9,V7:V15) -> 911675 | W6: =SUBTOTAL(9,W7:W15) -> 0 | X6: =IF(SUM($J6:$K6)=SUM($V6:$W6),"OK","검토") -> OK | AA6: =SUBTOTAL(9,AA7:AA15) -> 911675 | AB6: =SUBTOTAL(9,AB7:AB15) -> 0 | AC6: =IF(SUM($J6:$K6)=SUM($V6:$W6),"OK","검토") -> OK | AK6: =SUBTOTAL(9,AK7:AK15) -> 911675 | AL6: =SUBTOTAL(9,AL7:AL15) -> 2 | AM6: =IF(COUNTIF(AM7:AM15,"@@")>0,"@@","OK") -> OK | AO6: =SUBTOTAL(9,AO7:AO15) -> 911675 | AP6: =SUBTOTAL(9,AP7:AP15) -> 2 | AQ6: =IF(COUNTIF(AQ7:AQ15,"@@")>0,"@@","OK") -> OK
A7: =IFERROR(VLOOKUP($C7,구분표!$A$2:$C$300,2,FALSE),"") -> 보건복지위원회 | B7: =IFERROR(VLOOKUP($C7,구분표!$A$2:$C$300,3,FALSE),"") -> 보건복지국 | C7: 노인복지과 | D7: 신규 | F7: (국고보조금) 메르스 사망자 장례비용 지원 | G7: 0 | H7: 0 | I7: =IF(D7="","",G7-H7) -> 0 | K7: 70947 | L7: =IF(G7=0,H7+J7+K7,G7+J7+K7) -> 70947 | N7: 70947 | O7: =IF(G7=0,H7+M7+N7,G7+M7+N7) -> 70947 | P7: =IF(AND((L7=0),(O7>0)),"O",IF(AND((J7<0),(L7-O7<0)),"O","X")) -> X | Q7: 국비확정내시 ※질병관리본부 공중보건위기대응과 -1998(2015.7.14)호 | S7: 국비 | U7: 국비 | V7: =IF($U7<>"도비",IF($S7="국도비","직접입력",SUM($J7:$K7)),) -> 70947 | W7: =IF($U7="도비",SUM($J7:$K7),IF($S7="국도비","직접입력",SUM($J7:$K7)-$V7)) -> 0 | X7: =IF(SUM($J7:$K7)=SUM($V7:$W7),"OK","검토") -> OK | AA7: =IF($U7<>"도비",IF($S7="국도비","직접입력",SUM($M7:$N7)),) -> 70947 | AB7: =IF($U7="도비",SUM(M7:N7),IF($S7="국도비","직접입력",SUM(M7:N7)-AA7)) -> 0 | AC7: =IF(SUM(M7:N7)=SUM(AA7:AB7),"OK","검토") -> OK | AE7: =IF(AG7="","",IF(U7="도비","세입없음",CONCATENATE(AG7,"-",COUNTIF($AG$7:AG7,AG7)))) -> 0703-1 | AG7: {=IF(C7="","",INDEX(구분표!$I$2:$I$300, MATCH(1,(구분표!$E$2:$E$300='1추일입'!B7)*(구분표!$F$2:$F$300='1추일입'!C7)*(구분표!$G$2:$G$300='1추일입'!A7),0)))} -> 0703 | AK7: =IF(AE7="",0,SUMIFS('1추일출'!$W$6:$W$63,'1추일출'!$AF$6:$AF$63,'1추일입'!$AE7)) -> 70947 | AL7: =IF(AE7="","",COUNTIFS('1추일출'!$AF$6:$AF$63,'1추일입'!AE7)) -> 1 | AM7: =IF(V7=AK7,"OK","@@") -> OK | AO7: =IF(AE7="",0,SUMIFS('1추일출'!$AB$6:$AB$63,'1추일출'!$AF$6:$AF$63,'1추일입'!$AE7)) -> 70947 | AP7: =IF(AE7="","",COUNTIFS('1추일출'!$AF$6:$AF$63,AE7)) -> 1 | AQ7: =IF(AA7=AO7,"OK","@@") -> OK
A8: =IFERROR(VLOOKUP($C8,구분표!$A$2:$C$300,2,FALSE),"") -> 보건복지위원회 | B8: =IFERROR(VLOOKUP($C8,구분표!$A$2:$C$300,3,FALSE),"") -> 보건복지국 | C8: 보건정책과 | D8: 신규 | F8: (국고보조금) 선별진료소 운영기관 지원 | G8: 0 | H8: 0 | I8: =IF(D8="","",G8-H8) -> 0 | K8: 840728 | L8: =IF(G8=0,H8+J8+K8,G8+J8+K8) -> 840728 | N8: 840728 | O8: =IF(G8=0,H8+M8+N8,G8+M8+N8) -> 840728 | P8: =IF(AND((L8=0),(O8>0)),"O",IF(AND((J8<0),(L8-O8<0)),"O","X")) -> X | Q8: 국비확정내시 ※질병관리본부 공중보건위기대응과 -1950(2015.7.10)호 | S8: 국비 | U8: 국비 | V8: =IF($U8<>"도비",IF($S8="국도비","직접입력",SUM($J8:$K8)),) -> 840728 | W8: =IF($U8="도비",SUM($J8:$K8),IF($S8="국도비","직접입력",SUM($J8:$K8)-$V8)) -> 0 | X8: =IF(SUM($J8:$K8)=SUM($V8:$W8),"OK","검토") -> OK | AA8: =IF($U8<>"도비",IF($S8="국도비","직접입력",SUM($M8:$N8)),) -> 840728 | AB8: =IF($U8="도비",SUM(M8:N8),IF($S8="국도비","직접입력",SUM(M8:N8)-AA8)) -> 0 | AC8: =IF(SUM(M8:N8)=SUM(AA8:AB8),"OK","검토") -> OK | AE8: =IF(AG8="","",IF(U8="도비","세입없음",CONCATENATE(AG8,"-",COUNTIF($AG$7:AG8,AG8)))) -> 0705-1 | AG8: {=IF(C8="","",INDEX(구분표!$I$2:$I$300, MATCH(1,(구분표!$E$2:$E$300='1추일입'!B8)*(구분표!$F$2:$F$300='1추일입'!C8)*(구분표!$G$2:$G$300='1추일입'!A8),0)))} -> 0705 | AK8: =IF(AE8="",0,SUMIFS('1추일출'!$W$6:$W$63,'1추일출'!$AF$6:$AF$63,'1추일입'!$AE8)) -> 840728 | AL8: =IF(AE8="","",COUNTIFS('1추일출'!$AF$6:$AF$63,'1추일입'!AE8)) -> 1 | AM8: =IF(V8=AK8,"OK","@@") -> OK | AO8: =IF(AE8="",0,SUMIFS('1추일출'!$AB$6:$AB$63,'1추일출'!$AF$6:$AF$63,'1추일입'!$AE8)) -> 840728 | AP8: =IF(AE8="","",COUNTIFS('1추일출'!$AF$6:$AF$63,AE8)) -> 1 | AQ8: =IF(AA8=AO8,"OK","@@") -> OK
A9: =IFERROR(VLOOKUP($C9,구분표!$A$2:$C$300,2,FALSE),"") | B9: =IFERROR(VLOOKUP($C9,구분표!$A$2:$C$300,3,FALSE),"") | I9: =IF(D9="","",G9-H9) | L9: =IF(G9=0,H9+J9+K9,G9+J9+K9) -> 0 | O9: =IF(G9=0,H9+M9+N9,G9+M9+N9) -> 0 | P9: =IF(AND((L9=0),(O9>0)),"O",IF(AND((J9<0),(L9-O9<0)),"O","X")) -> X | V9: =IF($U9<>"도비",IF($S9="국도비","직접입력",SUM($J9:$K9)),) -> 0 | W9: =IF($U9="도비",SUM($J9:$K9),IF($S9="국도비","직접입력",SUM($J9:$K9)-$V9)) -> 0 | X9: =IF(SUM($J9:$K9)=SUM($V9:$W9),"OK","검토") -> OK | AA9: =IF($U9<>"도비",IF($S9="국도비","직접입력",SUM($M9:$N9)),) -> 0 | AB9: =IF($U9="도비",SUM(M9:N9),IF($S9="국도비","직접입력",SUM(M9:N9)-AA9)) -> 0 | AC9: =IF(SUM(M9:N9)=SUM(AA9:AB9),"OK","검토") -> OK | AE9: =IF(AG9="","",IF(U9="도비","세입없음",CONCATENATE(AG9,"-",COUNTIF($AG$7:AG9,AG9)))) | AG9: {=IF(C9="","",INDEX(구분표!$I$2:$I$300, MATCH(1,(구분표!$E$2:$E$300='1추일입'!B9)*(구분표!$F$2:$F$300='1추일입'!C9)*(구분표!$G$2:$G$300='1추일입'!A9),0)))} | AK9: =IF(AE9="",0,SUMIFS('1추일출'!$W$6:$W$63,'1추일출'!$AF$6:$AF$63,'1추일입'!$AE9)) -> 0 | AL9: =IF(AE9="","",COUNTIFS('1추일출'!$AF$6:$AF$63,'1추일입'!AE9)) | AM9: =IF(V9=AK9,"OK","@@") -> OK | AO9: =IF(AE9="",0,SUMIFS('1추일출'!$AB$6:$AB$63,'1추일출'!$AF$6:$AF$63,'1추일입'!$AE9)) -> 0 | AP9: =IF(AE9="","",COUNTIFS('1추일출'!$AF$6:$AF$63,AE9)) | AQ9: =IF(AA9=AO9,"OK","@@") -> OK
A10: =IFERROR(VLOOKUP($C10,구분표!$A$2:$C$300,2,FALSE),"") | B10: =IFERROR(VLOOKUP($C10,구분표!$A$2:$C$300,3,FALSE),"") | I10: =IF(D10="","",G10-H10) | L10: =IF(G10=0,H10+J10+K10,G10+J10+K10) -> 0 | O10: =IF(G10=0,H10+M10+N10,G10+M10+N10) -> 0 | P10: =IF(AND((L10=0),(O10>0)),"O",IF(AND((J10<0),(L10-O10<0)),"O","X")) -> X | V10: =IF($U10<>"도비",IF($S10="국도비","직접입력",SUM($J10:$K10)),) -> 0 | W10: =IF($U10="도비",SUM($J10:$K10),IF($S10="국도비","직접입력",SUM($J10:$K10)-$V10)) -> 0 | X10: =IF(SUM($J10:$K10)=SUM($V10:$W10),"OK","검토") -> OK | AA10: =IF($U10<>"도비",IF($S10="국도비","직접입력",SUM($M10:$N10)),) -> 0 | AB10: =IF($U10="도비",SUM(M10:N10),IF($S10="국도비","직접입력",SUM(M10:N10)-AA10)) -> 0 | AC10: =IF(SUM(M10:N10)=SUM(AA10:AB10),"OK","검토") -> OK | AE10: =IF(AG10="","",IF(U10="도비","세입없음",CONCATENATE(AG10,"-",COUNTIF($AG$7:AG10,AG10)))) | AG10: {=IF(C10="","",INDEX(구분표!$I$2:$I$300, MATCH(1,(구분표!$E$2:$E$300='1추일입'!B10)*(구분표!$F$2:$F$300='1추일입'!C10)*(구분표!$G$2:$G$300='1추일입'!A10),0)))} | AK10: =IF(AE10="",0,SUMIFS('1추일출'!$W$6:$W$63,'1추일출'!$AF$6:$AF$63,'1추일입'!$AE10)) -> 0 | AL10: =IF(AE10="","",COUNTIFS('1추일출'!$AF$6:$AF$63,'1추일입'!AE10)) | AM10: =IF(V10=AK10,"OK","@@") -> OK | AO10: =IF(AE10="",0,SUMIFS('1추일출'!$AB$6:$AB$63,'1추일출'!$AF$6:$AF$63,'1추일입'!$AE10)) -> 0 | AP10: =IF(AE10="","",COUNTIFS('1추일출'!$AF$6:$AF$63,AE10)) | AQ10: =IF(AA10=AO10,"OK","@@") -> OK
A11: =IFERROR(VLOOKUP($C11,구분표!$A$2:$C$300,2,FALSE),"") | B11: =IFERROR(VLOOKUP($C11,구분표!$A$2:$C$300,3,FALSE),"") | I11: =IF(D11="","",G11-H11) | L11: =IF(G11=0,H11+J11+K11,G11+J11+K11) -> 0 | O11: =IF(G11=0,H11+M11+N11,G11+M11+N11) -> 0 | P11: =IF(AND((L11=0),(O11>0)),"O",IF(AND((J11<0),(L11-O11<0)),"O","X")) -> X | V11: =IF($U11<>"도비",IF($S11="국도비","직접입력",SUM($J11:$K11)),) -> 0 | W11: =IF($U11="도비",SUM($J11:$K11),IF($S11="국도비","직접입력",SUM($J11:$K11)-$V11)) -> 0 | X11: =IF(SUM($J11:$K11)=SUM($V11:$W11),"OK","검토") -> OK | AA11: =IF($U11<>"도비",IF($S11="국도비","직접입력",SUM($M11:$N11)),) -> 0 | AB11: =IF($U11="도비",SUM(M11:N11),IF($S11="국도비","직접입력",SUM(M11:N11)-AA11)) -> 0 | AC11: =IF(SUM(M11:N11)=SUM(AA11:AB11),"OK","검토") -> OK | AE11: =IF(AG11="","",IF(U11="도비","세입없음",CONCATENATE(AG11,"-",COUNTIF($AG$7:AG11,AG11)))) | AG11: {=IF(C11="","",INDEX(구분표!$I$2:$I$300, MATCH(1,(구분표!$E$2:$E$300='1추일입'!B11)*(구분표!$F$2:$F$300='1추일입'!C11)*(구분표!$G$2:$G$300='1추일입'!A11),0)))} | AK11: =IF(AE11="",0,SUMIFS('1추일출'!$W$6:$W$63,'1추일출'!$AF$6:$AF$63,'1추일입'!$AE11)) -> 0 | AL11: =IF(AE11="","",COUNTIFS('1추일출'!$AF$6:$AF$63,'1추일입'!AE11)) | AM11: =IF(V11=AK11,"OK","@@") -> OK | AO11: =IF(AE11="",0,SUMIFS('1추일출'!$AB$6:$AB$63,'1추일출'!$AF$6:$AF$63,'1추일입'!$AE11)) -> 0 | AP11: =IF(AE11="","",COUNTIFS('1추일출'!$AF$6:$AF$63,AE11)) | AQ11: =IF(AA11=AO11,"OK","@@") -> OK
A12: =IFERROR(VLOOKUP($C12,구분표!$A$2:$C$300,2,FALSE),"") | B12: =IFERROR(VLOOKUP($C12,구분표!$A$2:$C$300,3,FALSE),"") | I12: =IF(D12="","",G12-H12) | L12: =IF(G12=0,H12+J12+K12,G12+J12+K12) -> 0 | O12: =IF(G12=0,H12+M12+N12,G12+M12+N12) -> 0 | P12: =IF(AND((L12=0),(O12>0)),"O",IF(AND((J12<0),(L12-O12<0)),"O","X")) -> X | V12: =IF($U12<>"도비",IF($S12="국도비","직접입력",SUM($J12:$K12)),) -> 0 | W12: =IF($U12="도비",SUM($J12:$K12),IF($S12="국도비","직접입력",SUM($J12:$K12)-$V12)) -> 0 | X12: =IF(SUM($J12:$K12)=SUM($V12:$W12),"OK","검토") -> OK | AA12: =IF($U12<>"도비",IF($S12="국도비","직접입력",SUM($M12:$N12)),) -> 0 | AB12: =IF($U12="도비",SUM(M12:N12),IF($S12="국도비","직접입력",SUM(M12:N12)-AA12)) -> 0 | AC12: =IF(SUM(M12:N12)=SUM(AA12:AB12),"OK","검토") -> OK | AE12: =IF(AG12="","",IF(U12="도비","세입없음",CONCATENATE(AG12,"-",COUNTIF($AG$7:AG12,AG12)))) | AG12: {=IF(C12="","",INDEX(구분표!$I$2:$I$300, MATCH(1,(구분표!$E$2:$E$300='1추일입'!B12)*(구분표!$F$2:$F$300='1추일입'!C12)*(구분표!$G$2:$G$300='1추일입'!A12),0)))} | AK12: =IF(AE12="",0,SUMIFS('1추일출'!$W$6:$W$63,'1추일출'!$AF$6:$AF$63,'1추일입'!$AE12)) -> 0 | AL12: =IF(AE12="","",COUNTIFS('1추일출'!$AF$6:$AF$63,'1추일입'!AE12)) | AM12: =IF(V12=AK12,"OK","@@") -> OK | AO12: =IF(AE12="",0,SUMIFS('1추일출'!$AB$6:$AB$63,'1추일출'!$AF$6:$AF$63,'1추일입'!$AE12)) -> 0 | AP12: =IF(AE12="","",COUNTIFS('1추일출'!$AF$6:$AF$63,AE12)) | AQ12: =IF(AA12=AO12,"OK","@@") -> OK
A13: =IFERROR(VLOOKUP($C13,구분표!$A$2:$C$300,2,FALSE),"") | B13: =IFERROR(VLOOKUP($C13,구분표!$A$2:$C$300,3,FALSE),"") | I13: =IF(D13="","",G13-H13) | L13: =IF(G13=0,H13+J13+K13,G13+J13+K13) -> 0 | O13: =IF(G13=0,H13+M13+N13,G13+M13+N13) -> 0 | P13: =IF(AND((L13=0),(O13>0)),"O",IF(AND((J13<0),(L13-O13<0)),"O","X")) -> X | V13: =IF($U13<>"도비",IF($S13="국도비","직접입력",SUM($J13:$K13)),) -> 0 | W13: =IF($U13="도비",SUM($J13:$K13),IF($S13="국도비","직접입력",SUM($J13:$K13)-$V13)) -> 0 | X13: =IF(SUM($J13:$K13)=SUM($V13:$W13),"OK","검토") -> OK | AA13: =IF($U13<>"도비",IF($S13="국도비","직접입력",SUM($M13:$N13)),) -> 0 | AB13: =IF($U13="도비",SUM(M13:N13),IF($S13="국도비","직접입력",SUM(M13:N13)-AA13)) -> 0 | AC13: =IF(SUM(M13:N13)=SUM(AA13:AB13),"OK","검토") -> OK | AE13: =IF(AG13="","",IF(U13="도비","세입없음",CONCATENATE(AG13,"-",COUNTIF($AG$7:AG13,AG13)))) | AG13: {=IF(C13="","",INDEX(구분표!$I$2:$I$300, MATCH(1,(구분표!$E$2:$E$300='1추일입'!B13)*(구분표!$F$2:$F$300='1추일입'!C13)*(구분표!$G$2:$G$300='1추일입'!A13),0)))} | AK13: =IF(AE13="",0,SUMIFS('1추일출'!$W$6:$W$63,'1추일출'!$AF$6:$AF$63,'1추일입'!$AE13)) -> 0 | AL13: =IF(AE13="","",COUNTIFS('1추일출'!$AF$6:$AF$63,'1추일입'!AE13)) | AM13: =IF(V13=AK13,"OK","@@") -> OK | AO13: =IF(AE13="",0,SUMIFS('1추일출'!$AB$6:$AB$63,'1추일출'!$AF$6:$AF$63,'1추일입'!$AE13)) -> 0 | AP13: =IF(AE13="","",COUNTIFS('1추일출'!$AF$6:$AF$63,AE13)) | AQ13: =IF(AA13=AO13,"OK","@@") -> OK
A14: =IFERROR(VLOOKUP($C14,구분표!$A$2:$C$300,2,FALSE),"") | B14: =IFERROR(VLOOKUP($C14,구분표!$A$2:$C$300,3,FALSE),"") | I14: =IF(D14="","",G14-H14) | L14: =IF(G14=0,H14+J14+K14,G14+J14+K14) -> 0 | O14: =IF(G14=0,H14+M14+N14,G14+M14+N14) -> 0 | P14: =IF(AND((L14=0),(O14>0)),"O",IF(AND((J14<0),(L14-O14<0)),"O","X")) -> X | V14: =IF($U14<>"도비",IF($S14="국도비","직접입력",SUM($J14:$K14)),) -> 0 | W14: =IF($U14="도비",SUM($J14:$K14),IF($S14="국도비","직접입력",SUM($J14:$K14)-$V14)) -> 0 | X14: =IF(SUM($J14:$K14)=SUM($V14:$W14),"OK","검토") -> OK | AA14: =IF($U14<>"도비",IF($S14="국도비","직접입력",SUM($M14:$N14)),) -> 0 | AB14: =IF($U14="도비",SUM(M14:N14),IF($S14="국도비","직접입력",SUM(M14:N14)-AA14)) -> 0 | AC14: =IF(SUM(M14:N14)=SUM(AA14:AB14),"OK","검토") -> OK | AE14: =IF(AG14="","",IF(U14="도비","세입없음",CONCATENATE(AG14,"-",COUNTIF($AG$7:AG14,AG14)))) | AG14: {=IF(C14="","",INDEX(구분표!$I$2:$I$300, MATCH(1,(구분표!$E$2:$E$300='1추일입'!B14)*(구분표!$F$2:$F$300='1추일입'!C14)*(구분표!$G$2:$G$300='1추일입'!A14),0)))} | AK14: =IF(AE14="",0,SUMIFS('1추일출'!$W$6:$W$63,'1추일출'!$AF$6:$AF$63,'1추일입'!$AE14)) -> 0 | AL14: =IF(AE14="","",COUNTIFS('1추일출'!$AF$6:$AF$63,'1추일입'!AE14)) | AM14: =IF(V14=AK14,"OK","@@") -> OK | AO14: =IF(AE14="",0,SUMIFS('1추일출'!$AB$6:$AB$63,'1추일출'!$AF$6:$AF$63,'1추일입'!$AE14)) -> 0 | AP14: =IF(AE14="","",COUNTIFS('1추일출'!$AF$6:$AF$63,AE14)) | AQ14: =IF(AA14=AO14,"OK","@@") -> OK
A15: =IFERROR(VLOOKUP($C15,구분표!$A$2:$C$300,2,FALSE),"") | B15: =IFERROR(VLOOKUP($C15,구분표!$A$2:$C$300,3,FALSE),"") | I15: =IF(D15="","",G15-H15) | L15: =IF(G15=0,H15+J15+K15,G15+J15+K15) -> 0 | O15: =IF(G15=0,H15+M15+N15,G15+M15+N15) -> 0 | P15: =IF(AND((L15=0),(O15>0)),"O",IF(AND((J15<0),(L15-O15<0)),"O","X")) -> X | V15: =IF($U15<>"도비",IF($S15="국도비","직접입력",SUM($J15:$K15)),) -> 0 | W15: =IF($U15="도비",SUM($J15:$K15),IF($S15="국도비","직접입력",SUM($J15:$K15)-$V15)) -> 0 | X15: =IF(SUM($J15:$K15)=SUM($V15:$W15),"OK","검토") -> OK | AA15: =IF($U15<>"도비",IF($S15="국도비","직접입력",SUM($M15:$N15)),) -> 0 | AB15: =IF($U15="도비",SUM(M15:N15),IF($S15="국도비","직접입력",SUM(M15:N15)-AA15)) -> 0 | AC15: =IF(SUM(M15:N15)=SUM(AA15:AB15),"OK","검토") -> OK | AE15: =IF(AG15="","",IF(U15="도비","세입없음",CONCATENATE(AG15,"-",COUNTIF($AG$7:AG15,AG15)))) | AG15: {=IF(C15="","",INDEX(구분표!$I$2:$I$300, MATCH(1,(구분표!$E$2:$E$300='1추일입'!B15)*(구분표!$F$2:$F$300='1추일입'!C15)*(구분표!$G$2:$G$300='1추일입'!A15),0)))} | AK15: =IF(AE15="",0,SUMIFS('1추일출'!$W$6:$W$63,'1추일출'!$AF$6:$AF$63,'1추일입'!$AE15)) -> 0 | AL15: =IF(AE15="","",COUNTIFS('1추일출'!$AF$6:$AF$63,'1추일입'!AE15)) | AM15: =IF(V15=AK15,"OK","@@") -> OK | AO15: =IF(AE15="",0,SUMIFS('1추일출'!$AB$6:$AB$63,'1추일출'!$AF$6:$AF$63,'1추일입'!$AE15)) -> 0 | AP15: =IF(AE15="","",COUNTIFS('1추일출'!$AF$6:$AF$63,AE15)) | AQ15: =IF(AA15=AO15,"OK","@@") -> OK

Sheet 1추일출
A1: 2015년도 제1회 추경 경기도 일반회계 세출 예산 조정(안)
A2: □ 세출예산 | W2: 세입=세출 | AB2: 세입=세출
J3: =COUNTA(J7:J63)-10 -> 5 | K3: =COUNTA(K7:K63)-10 -> 12 | M3: =COUNTA(M7:M63)-10 -> 10 | N3: =COUNTA(N7:N63)-10 -> 19 | R3: (단위 : 천원) | W3: =IF(W6='1추일입'!V6,"OK","@@") -> OK | Y3: =IF(COUNTIF(Y6:Y63,"검토")>0,"@@","OK") -> OK | AB3: =IF(AB6='1추일입'!AA6,"OK","@@") -> OK | AD3: =IF(COUNTIF(AD6:AD63,"검토")>0,"@@","OK") -> OK
A4: 위원회명 | B4: 실국명 | C4: 부서명 | D4: 편성 구분 | E4: 예산안 페이지 | F4: 세부사업명 및 부기명 | G4: 제1회 추경 예산안 (가) | H4: 기정액 (나) | I4: 제1회 추경 증감액 (다=가-나) | J4: 상임위 제1회 추경 예산안 조정액(라) | L4: 상임위 수정 예산안 (마=가or나+라) | M4: 예결위 제1회 추경 예산안 조정액(라) | O4: 예결위 수정 예산안 (마=가or나+라) | P4: 동의 대상 | Q4: 비고 (상임위 부대의견) | R4: 비고 (예결위 부대의견) | T4: 국도비 등 여부 | V4: 재원 | W4: 상임위 재원별 증감액 | AA4: 재원 | AB4: 예결위 재원별 증감액 | AF4: 세입번호 | AH4: 동일 세입 건수 | AI4: 세출 번호 검증 | AK4: 실국부서 코드 | AM4: 추가 내시 등
J5: 감액 | K5: 증액 | M5: 감액 | N5: 증액 | W5: 국비 등 | X5: 도비 | Y5: 검증 | AB5: 국비 등 | AC5: 도비 | AD5: 검증
A6: 합 계 | G6: =SUBTOTAL(9,G7:G63)/2 -> 94068741 | H6: =SUBTOTAL(9,H7:H63)/2 -> 63820741 | I6: =SUBTOTAL(9,I7:I63)/2 -> 30248000 | J6: =SUBTOTAL(9,J7:J63)/2 -> -5293500 | K6: =SUBTOTAL(9,K7:K63)/2 -> 12448071 | L6: =SUBTOTAL(9,L7:L63)/2 -> 101223312 | M6: =SUBTOTAL(9,M7:M63)/2 -> -17696788 | N6: =SUBTOTAL(9,N7:N63)/2 -> 18608463 | O6: =SUBTOTAL(9,O7:O63)/2 -> 94980416 | W6: =SUBTOTAL(9,W7:W63) -> 911675 | X6: =SUBTOTAL(9,X7:X63) -> 6242896 | Y6: =IF(SUM($J6:$K6)=SUM($W6:$X6),"OK","검토") -> OK | AB6: =SUBTOTAL(9,AB7:AB63) -> 911675 | AC6: =SUBTOTAL(9,AC7:AC63) -> 0 | AD6: =IF(SUM($J6:$K6)=SUM($W6:$X6),"OK","검토") -> OK
A7: (기획재정위원회) | G7: =SUM(G8:G10) -> 68903506 | H7: =SUM(H8:H10) -> 62903506 | I7: =SUM(I8:I10) -> 6000000 | J7: =SUM(J8:J10) -> 0 | K7: =SUM(K8:K10) -> 0 | L7: =SUM(L8:L10) -> 68903506 | M7: =SUM(M8:M10) -> -10563288 | N7: =SUM(N8:N10) -> 200000 | O7: =SUM(O8:O10) -> 58540218
A8: =IFERROR(VLOOKUP($C8,구분표!$A$2:$C$300,2,FALSE),"") -> 기획재정위원회 | B8: =IFERROR(VLOOKUP($C8,구분표!$A$2:$C$300,3,FALSE),"") -> 기획조정실 | C8: 정보기획담당관 | D8: 본예산 | F8: 사랑의 그린PC 보급 -사랑의 그린PC 보급사업 | G8: 276800 | H8: 276800 | I8: =IF(D8="","",G8-H8) -> 0 | L8: =IF(G8=0,H8+J8+K8,G8+J8+K8) -> 276800 | N8: 200000 | O8: =IF(G8=0,H8+M8+N8,G8+M8+N8) -> 476800 | P8: =IF(AND((L8=0),(O8>0)),"O",IF(AND((J8<0),(L8-O8<0)),"O","X")) -> X | S8: v | T8: 도비 | V8: 도비 | W8: =IF($V8<>"도비",IF($T8="국도비","직접입력",SUM($J8:$K8)),) -> 0 | X8: =IF($V8="도비",SUM($J8:$K8),SUM($J8:$K8)-$W8) -> 0 | Y8: =IF(SUM($J8:$K8)=SUM($W8:$X8),"OK","검토") -> OK | AB8: =IF($V8<>"도비",IF($T8="국도비","직접입력",SUM($M8:$N8)),) -> 0 | AC8: =IF($V8="도비",SUM(M8:N8),SUM(M8:N8)-AB8) -> 200000 | AD8: =IF(SUM(M8:N8)=SUM(AB8:AC8),"OK","검토") -> OK | AF8: =IF(V8="","",IF(V8="도비","세입없음","직접입력")) -> 세입없음 | AH8: =IF(AF8="","",COUNTIF($AF$7:$AF$63,AF8)) -> 33 | AI8: =IF(V8="","",IF(AND(V8="도비",AF8="세입없음"),"OK",IF(AND(V8<>"도비",AF8<>""),"OK","@@"))) -> OK | AK8: {=IF(C8="","",INDEX(구분표!$I$2:$I$300, MATCH(1,(구분표!$E$2:$E$300='1추일출'!B8)*(구분표!$F$2:$F$300='1추일출'!C8)*(구분표!$G$2:$G$300='1추일출'!A8),0)))} -> 0212
A9: =IFERROR(VLOOKUP($C9,구분표!$A$2:$C$300,2,FALSE),"") -> 기획재정위원회 | B9: =IFERROR(VLOOKUP($C9,구분표!$A$2:$C$300,3,FALSE),"") -> 기획조정실 | C9: 예산담당관 | D9: 1회추경 | E9: 114 | F9: 예비비 | G9: 68626706 | H9: 62626706 | I9: =IF(D9="","",G9-H9) -> 6000000 | L9: =IF(G9=0,H9+J9+K9,G9+J9+K9) -> 68626706 | M9: -10563288 | O9: =IF(G9=0,H9+M9+N9,G9+M9+N9) -> 58063418 | P9: =IF(AND((L9=0),(O9>0)),"O",IF(AND((J9<0),(L9-O9<0)),"O","X")) -> X | T9: 도비 | V9: 도비 | W9: =IF($V9<>"도비",IF($T9="국도비","직접입력",SUM($J9:$K9)),) -> 0 | X9: =IF($V9="도비",SUM($J9:$K9),SUM($J9:$K9)-$W9) -> 0 | Y9: =IF(SUM($J9:$K9)=SUM($W9:$X9),"OK","검토") -> OK | AB9: =IF($V9<>"도비",IF($T9="국도비","직접입력",SUM($M9:$N9)),) -> 0 | AC9: =IF($V9="도비",SUM(M9:N9),SUM(M9:N9)-AB9) -> -10563288 | AD9: =IF(SUM(M9:N9)=SUM(AB9:AC9),"OK","검토") -> OK | AF9: =IF(V9="","",IF(V9="도비","세입없음","직접입력")) -> 세입없음 | AH9: =IF(AF9="","",COUNTIF($AF$7:$AF$63,AF9)) -> 33 | AI9: =IF(V9="","",IF(AND(V9="도비",AF9="세입없음"),"OK",IF(AND(V9<>"도비",AF9<>""),"OK","@@"))) -> OK | AK9: {=IF(C9="","",INDEX(구분표!$I$2:$I$300, MATCH(1,(구분표!$E$2:$E$300='1추일출'!B9)*(구분표!$F$2:$F$300='1추일출'!C9)*(구분표!$G$2:$G$300='1추일출'!A9),0)))} -> 0207
A10: =IFERROR(VLOOKUP($C10,구분표!$A$2:$C$300,2,FALSE),"") | B10: =IFERROR(VLOOKUP($C10,구분표!$A$2:$C$300,3,FALSE),"") | I10: =IF(D10="","",G10-H10) | L10: =IF(G10=0,H10+J10+K10,G10+J10+K10) -> 0 | O10: =IF(G10=0,H10+M10+N10,G10+M10+N10) -> 0 | P10: =IF(AND((L10=0),(O10>0)),"O",IF(AND((J10<0),(L10-O10<0)),"O","X")) -> X | W10: =IF($V10<>"도비",IF($T10="국도비","직접입력",SUM($J10:$K10)),) -> 0 | X10: =IF($V10="도비",SUM($J10:$K10),SUM($J10:$K10)-$W10) -> 0 | Y10: =IF(SUM($J10:$K10)=SUM($W10:$X10),"OK","검토") -> OK | AB10: =IF($V10<>"도비",IF($T10="국도비","직접입력",SUM($M10:$N10)),) -> 0 | AC10: =IF($V10="도비",SUM(M10:N10),SUM(M10:N10)-AB10) -> 0 | AD10: =IF(SUM(M10:N10)=SUM(AB10:AC10),"OK","검토") -> OK | AF10: =IF(V10="","",IF(V10="도비","세입없음","직접입력")) | AH10: =IF(AF10="","",COUNTIF($AF$7:$AF$63,AF10)) | AI10: =IF(V10="","",IF(AND(V10="도비",AF10="세입없음"),"OK",IF(AND(V10<>"도비",AF10<>""),"OK","@@"))) | AK10: {=IF(C10="","",INDEX(구분표!$I$2:$I$300, MATCH(1,(구분표!$E$2:$E$300='1추일출'!B10)*(구분표!$F$2:$F$300='1추일출'!C10)*(구분표!$G$2:$G$300='1추일출'!A10),0)))}
A11: (경제과학기술위원회) | G11: =SUM(G12:G15) -> 0 | H11: =SUM(H12:H15) -> 0 | I11: =SUM(I12:I15) -> 0 | J11: =SUM(J12:J15) -> 0 | K11: =SUM(K12:K15) -> 2000000 | L11: =SUM(L12:L15) -> 2000000 | M11: =SUM(M12:M15) -> 0 | N11: =SUM(N12:N15) -> 6000000 | O11: =SUM(O12:O15) -> 6000000
A12: =IFERROR(VLOOKUP($C12,구분표!$A$2:$C$300,2,FALSE),"") -> 경제과학기술위원회 | B12: =IFERROR(VLOOKUP($C12,구분표!$A$2:$C$300,3,FALSE),"") -> 경제실 | C12: 기업지원과 | D12: 신규 | F12: 메르스 관련 소규모 기업환경 개선사업(자체/지원) -메르스 관련 소규모 기업환경 개선사업 | G12: 0 | H12: 0 | I12: =IF(D12="","",G12-H12) -> 0 | K12: 1000000 | L12: =IF(G12=0,H12+J12+K12,G12+J12+K12) -> 1000000 | N12: 1000000 | O12: =IF(G12=0,H12+M12+N12,G12+M12+N12) -> 1000000 | P12: =IF(AND((L12=0),(O12>0)),"O",IF(AND((J12<0),(L12-O12<0)),"O","X")) -> X | T12: 도비 | V12: 도비 | W12: =IF($V12<>"도비",IF($T12="국도비","직접입력",SUM($J12:$K12)),) -> 0 | X12: =IF($V12="도비",SUM($J12:$K12),SUM($J12:$K12)-$W12) -> 1000000 | Y12: =IF(SUM($J12:$K12)=SUM($W12:$X12),"OK","검토") -> OK | AB12: =IF($V12<>"도비",IF($T12="국도비","직접입력",SUM($M12:$N12)),) -> 0 | AC12: =IF($V12="도비",SUM(M12:N12),SUM(M12:N12)-AB12) -> 1000000 | AD12: =IF(SUM(M12:N12)=SUM(AB12:AC12),"OK","검토") -> OK | AF12: =IF(V12="","",IF(V12="도비","세입없음","직접입력")) -> 세입없음 | AH12: =IF(AF12="","",COUNTIF($AF$7:$AF$63,AF12)) -> 33 | AI12: =IF(V12="","",IF(AND(V12="도비",AF12="세입없음"),"OK",IF(AND(V12<>"도비",AF12<>""),"OK","@@"))) -> OK | AK12: {=IF(C12="","",INDEX(구분표!$I$2:$I$300, MATCH(1,(구분표!$E$2:$E$300='1추일출'!B12)*(구분표!$F$2:$F$300='1추일출'!C12)*(구분표!$G$2:$G$300='1추일출'!A12),0)))} -> 0305
A13: =IFERROR(VLOOKUP($C13,구분표!$A$2:$C$300,2,FALSE),"") -> 경제과학기술위원회 | B13: =IFERROR(VLOOKUP($C13,구분표!$A$2:$C$300,3,FALSE),"") -> 경제실 | C13: 공정경제과 | D13: 신규 | F13: 메르스 피해 소상공인 경영환경 지원(자체/직접) -메르스 피해 소상공인 경영환경 지원 | G13: 0 | H13: 0 | I13: =IF(D13="","",G13-H13) -> 0 | K13: 1000000 | L13: =IF(G13=0,H13+J13+K13,G13+J13+K13) -> 1000000 | O13: =IF(G13=0,H13+M13+N13,G13+M13+N13) -> 0 | P13: =IF(AND((L13=0),(O13>0)),"O",IF(AND((J13<0),(L13-O13<0)),"O","X")) -> X | T13: 도비 | V13: 도비 | W13: =IF($V13<>"도비",IF($T13="국도비","직접입력",SUM($J13:$K13)),) -> 0 | X13: =IF($V13="도비",SUM($J13:$K13),SUM($J13:$K13)-$W13) -> 1000000 | Y13: =IF(SUM($J13:$K13)=SUM($W13:$X13),"OK","검토") -> OK | AB13: =IF($V13<>"도비",IF($T13="국도비","직접입력",SUM($M13:$N13)),) -> 0 | AC13: =IF($V13="도비",SUM(M13:N13),SUM(M13:N13)-AB13) -> 0 | AD13: =IF(SUM(M13:N13)=SUM(AB13:AC13),"OK","검토") -> OK | AF13: =IF(V13="","",IF(V13="도비","세입없음","직접입력")) -> 세입없음 | AH13: =IF(AF13="","",COUNTIF($AF$7:$AF$63,AF13)) -> 33 | AI13: =IF(V13="","",IF(AND(V13="도비",AF13="세입없음"),"OK",IF(AND(V13<>"도비",AF13<>""),"OK","@@"))) -> OK | AK13: {=IF(C13="","",INDEX(구분표!$I$2:$I$300, MATCH(1,(구분표!$E$2:$E$300='1추일출'!B13)*(구분표!$F$2:$F$300='1추일출'!C13)*(구분표!$G$2:$G$300='1추일출'!A13),0)))} -> 0304
A14: =IFERROR(VLOOKUP($C14,구분표!$A$2:$C$300,2,FALSE),"") -> 경제과학기술위원회 | B14: =IFERROR(VLOOKUP($C14,구분표!$A$2:$C$300,3,FALSE),"") -> 경제실 | C14: 경기일자리센터 | D14: 신규 | F14: 공공근로사업 | I14: =IF(D14="","",G14-H14) -> 0 | L14: =IF(G14=0,H14+J14+K14,G14+J14+K14) -> 0 | N14: 2000000 | O14: =IF(G14=0,H14+M14+N14,G14+M14+N14) -> 2000000 | P14: =IF(AND((L14=0),(O14>0)),"O",IF(AND((J14<0),(L14-O14<0)),"O","X")) -> O | S14: v | T14: 도비 | V14: 도비 | W14: =IF($V14<>"도비",IF($T14="국도비","직접입력",SUM($J14:$K14)),) -> 0 | X14: =IF($V14="도비",SUM($J14:$K14),SUM($J14:$K14)-$W14) -> 0 | Y14: =IF(SUM($J14:$K14)=SUM($W14:$X14),"OK","검토") -> OK | AB14: =IF($V14<>"도비",IF($T14="국도비","직접입력",SUM($M14:$N14)),) -> 0 | AC14: =IF($V14="도비",SUM(M14:N14),SUM(M14:N14)-AB14) -> 2000000 | AD14: =IF(SUM(M14:N14)=SUM(AB14:AC14),"OK","검토") -> OK | AF14: =IF(V14="","",IF(V14="도비","세입없음","직접입력")) -> 세입없음 | AH14: =IF(AF14="","",COUNTIF($AF$7:$AF$63,AF14)) -> 33 | AI14: =IF(V14="","",IF(AND(V14="도비",AF14="세입없음"),"OK",IF(AND(V14<>"도비",AF14<>""),"OK","@@"))) -> OK | AK14: {=IF(C14="","",INDEX(구분표!$I$2:$I$300, MATCH(1,(구분표!$E$2:$E$300='1추일출'!B14)*(구분표!$F$2:$F$300='1추일출'!C14)*(구분표!$G$2:$G$300='1추일출'!A14),0)))} -> 0303
A15: =IFERROR(VLOOKUP($C15,구분표!$A$2:$C$300,2,FALSE),"") -> 경제과학기술위원회 | B15: =IFERROR(VLOOKUP($C15,구분표!$A$2:$C$300,3,FALSE),"") -> 경제실 | C15: 공정경제과 | D15: 신규 | F15: 메르스 피해 전통시장 마케팅 지원 | I15: =IF(D15="","",G15-H15) -> 0 | L15: =IF(G15=0,H15+J15+K15,G15+J15+K15) -> 0 | N15: 3000000 | O15: =IF(G15=0,H15+M15+N15,G15+M15+N15) -> 3000000 | P15: =IF(AND((L15=0),(O15>0)),"O",IF(AND((J15<0),(L15-O15<0)),"O","X")) -> O | S15: v | T15: 도비 | V15: 도비 | W15: =IF($V15<>"도비",IF($T15="국도비","직접입력",SUM($J15:$K15)),) -> 0 | X15: =IF($V15="도비",SUM($J15:$K15),SUM($J15:$K15)-$W15) -> 0 | Y15: =IF(SUM($J15:$K15)=SUM($W15:$X15),"OK","검토") -> OK | AB15: =IF($V15<>"도비",IF($T15="국도비","직접입력",SUM($M15:$N15)),) -> 0 | AC15: =IF($V15="도비",SUM(M15:N15),SUM(M15:N15)-AB15) -> 3000000 | AD15: =IF(SUM(M15:N15)=SUM(AB15:AC15),"OK","검토") -> OK | AF15: =IF(V15="","",IF(V15="도비","세입없음","직접입력")) -> 세입없음 | AH15: =IF(AF15="","",COUNTIF($AF$7:$AF$63,AF15)) -> 33 | AI15: =IF(V15="","",IF(AND(V15="도비",AF15="세입없음"),"OK",IF(AND(V15<>"도비",AF15<>""),"OK","@@"))) -> OK | AK15: {=IF(C15="","",INDEX(구분표!$I$2:$I$300, MATCH(1,(구분표!$E$2:$E$300='1추일출'!B15)*(구분표!$F$2:$F$300='1추일출'!C15)*(구분표!$G$2:$G$300='1추일출'!A15),0)))} -> 0304
A16: (안전행정위원회) | G16: =SUM(G17:G20) -> 773000 | H16: =SUM(H17:H20) -> 0 | I16: =SUM(I17:I20) -> 773000 | J16: =SUM(J17:J20) -> 0 | K16: =SUM(K17:K20) -> 37500 | L16: =SUM(L17:L20) -> 810500 | M16: =SUM(M17:M20) -> 0 | N16: =SUM(N17:N20) -> 441500 | O16: =SUM(O17:O20) -> 1214500
A17: =IFERROR(VLOOKUP($C17,구분표!$A$2:$C$300,2,FALSE),"") -> 안전행정위원회 | B17: =IFERROR(VLOOKUP($C17,구분표!$A$2:$C$300,3,FALSE),"") -> 재난안전본부 | C17: 재난대응과 | D17: 1회추경 | E17: 153 | F17: 구조구급장비 보강(자체/직접) -구급대원 감염병 예방 장비 등 | G17: 773000 | H17: 0 | I17: =IF(D17="","",G17-H17) -> 773000 | K17: 37500 | L17: =IF(G17=0,H17+J17+K17,G17+J17+K17) -> 810500 | N17: 37500 | O17: =IF(G17=0,H17+M17+N17,G17+M17+N17) -> 810500 | P17: =IF(AND((L17=0),(O17>0)),"O",IF(AND((J17<0),(L17-O17<0)),"O","X")) -> X | Q17: 구급대원 감염병 예방 장비 등 (자산및물품취득비-살균수 제조장치 6대) | R17: 구급대원 감염병 예방 장비 등 (자산및물품취득비-살균수 제조장치 6대) | T17: 도비 | V17: 도비 | W17: =IF($V17<>"도비",IF($T17="국도비","직접입력",SUM($J17:$K17)),) -> 0 | X17: =IF($V17="도비",SUM($J17:$K17),SUM($J17:$K17)-$W17) -> 37500 | Y17: =IF(SUM($J17:$K17)=SUM($W17:$X17),"OK","검토") -> OK | AB17: =IF($V17<>"도비",IF($T17="국도비","직접입력",SUM($M17:$N17)),) -> 0 | AC17: =IF($V17="도비",SUM(M17:N17),SUM(M17:N17)-AB17) -> 37500 | AD17: =IF(SUM(M17:N17)=SUM(AB17:AC17),"OK","검토") -> OK | AF17: =IF(V17="","",IF(V17="도비","세입없음","직접입력")) -> 세입없음 | AH17: =IF(AF17="","",COUNTIF($AF$7:$AF$63,AF17)) -> 33 | AI17: =IF(V17="","",IF(AND(V17="도비",AF17="세입없음"),"OK",IF(AND(V17<>"도비",AF17<>""),"OK","@@"))) -> OK | AK17: {=IF(C17="","",INDEX(구분표!$I$2:$I$300, MATCH(1,(구분표!$E$2:$E$300='1추일출'!B17)*(구분표!$F$2:$F$300='1추일출'!C17)*(구분표!$G$2:$G$300='1추일출'!A17),0)))} -> 0411
A18: =IFERROR(VLOOKUP($C18,구분표!$A$2:$C$300,2,FALSE),"") -> 안전행정위원회 | B18: =IFERROR(VLOOKUP($C18,구분표!$A$2:$C$300,3,FALSE),"") -> 재난안전본부 | C18: 소방행정과 | D18: 신규 | F18: 메르스 재난활동 소방공무원 사기진작 프로그램 | I18: =IF(D18="","",G18-H18) -> 0 | L18: =IF(G18=0,H18+J18+K18,G18+J18+K18) -> 0 | N18: 404000 | O18: =IF(G18=0,H18+M18+N18,G18+M18+N18) -> 404000 | P18: =IF(AND((L18=0),(O18>0)),"O",IF(AND((J18<0),(L18-O18<0)),"O","X")) -> O | S18: v | T18: 도비 | V18: 도비 | W18: =IF($V18<>"도비",IF($T18="국도비","직접입력",SUM($J18:$K18)),) -> 0 | X18: =IF($V18="도비",SUM($J18:$K18),SUM($J18:$K18)-$W18) -> 0 | Y18: =IF(SUM($J18:$K18)=SUM($W18:$X18),"OK","검토") -> OK | AB18: =IF($V18<>"도비",IF($T18="국도비","직접입력",SUM($M18:$N18)),) -> 0 | AC18: =IF($V18="도비",SUM(M18:N18),SUM(M18:N18)-AB18) -> 404000 | AD18: =IF(SUM(M18:N18)=SUM(AB18:AC18),"OK","검토") -> OK | AF18: =IF(V18="","",IF(V18="도비","세입없음","직접입력")) -> 세입없음 | AH18: =IF(AF18="","",COUNTIF($AF$7:$AF$63,AF18)) -> 33 | AI18: =IF(V18="","",IF(AND(V18="도비",AF18="세입없음"),"OK",IF(AND(V18<>"도비",AF18<>""),"OK","@@"))) -> OK | AK18: {=IF(C18="","",INDEX(구분표!$I$2:$I$300, MATCH(1,(구분표!$E$2:$E$300='1추일출'!B18)*(구분표!$F$2:$F$300='1추일출'!C18)*(구분표!$G$2:$G$300='1추일출'!A18),0)))} -> 0409
A19: =IFERROR(VLOOKUP($C19,구분표!$A$2:$C$300,2,FALSE),"") | B19: =IFERROR(VLOOKUP($C19,구분표!$A$2:$C$300,3,FALSE),"") | I19: =IF(D19="","",G19-H19) | L19: =IF(G19=0,H19+J19+K19,G19+J19+K19) -> 0 | O19: =IF(G19=0,H19+M19+N19,G19+M19+N19) -> 0 | P19: =IF(AND((L19=0),(O19>0)),"O",IF(AND((J19<0),(L19-O19<0)),"O","X")) -> X | W19: =IF($V19<>"도비",IF($T19="국도비","직접입력",SUM($J19:$K19)),) -> 0 | X19: =IF($V19="도비",SUM($J19:$K19),SUM($J19:$K19)-$W19) -> 0 | Y19: =IF(SUM($J19:$K19)=SUM($W19:$X19),"OK","검토") -> OK | AB19: =IF($V19<>"도비",IF($T19="국도비","직접입력",SUM($M19:$N19)),) -> 0 | AC19: =IF($V19="도비",SUM(M19:N19),SUM(M19:N19)-AB19) -> 0 | AD19: =IF(SUM(M19:N19)=SUM(AB19:AC19),"OK","검토") -> OK | AF19: =IF(V19="","",IF(V19="도비","세입없음","직접입력")) | AH19: =IF(AF19="","",COUNTIF($AF$7:$AF$63,AF19)) | AI19: =IF(V19="","",IF(AND(V19="도비",AF19="세입없음"),"OK",IF(AND(V19<>"도비",AF19<>""),"OK","@@"))) | AK19: {=IF(C19="","",INDEX(구분표!$I$2:$I$300, MATCH(1,(구분표!$E$2:$E$300='1추일출'!B19)*(구분표!$F$2:$F$300='1추일출'!C19)*(구분표!$G$2:$G$300='1추일출'!A19),0)))}
A20: =IFERROR(VLOOKUP($C20,구분표!$A$2:$C$300,2,FALSE),"") | B20: =IFERROR(VLOOKUP($C20,구분표!$A$2:$C$300,3,FALSE),"") | I20: =IF(D20="","",G20-H20) | L20: =IF(G20=0,H20+J20+K20,G20+J20+K20) -> 0 | O20: =IF(G20=0,H20+M20+N20,G20+M20+N20) -> 0 | P20: =IF(AND((L20=0),(O20>0)),"O",IF(AND((J20<0),(L20-O20<0)),"O","X")) -> X | W20: =IF($V20<>"도비",IF($T20="국도비","직접입력",SUM($J20:$K20)),) -> 0 | X20: =IF($V20="도비",SUM($J20:$K20),SUM($J20:$K20)-$W20) -> 0 | Y20: =IF(SUM($J20:$K20)=SUM($W20:$X20),"OK","검토") -> OK | AB20: =IF($V20<>"도비",IF($T20="국도비","직접입력",SUM($M20:$N20)),) -> 0 | AC20: =IF($V20="도비",SUM(M20:N20),SUM(M20:N20)-AB20) -> 0 | AD20: =IF(SUM(M20:N20)=SUM(AB20:AC20),"OK","검토") -> OK | AF20: =IF(V20="","",IF(V20="도비","세입없음","직접입력")) | AH20: =IF(AF20="","",COUNTIF($AF$7:$AF$63,AF20)) | AI20: =IF(V20="","",IF(AND(V20="도비",AF20="세입없음"),"OK",IF(AND(V20<>"도비",AF20<>""),"OK","@@"))) | AK20: {=IF(C20="","",INDEX(구분표!$I$2:$I$300, MATCH(1,(구분표!$E$2:$E$300='1추일출'!B20)*(구분표!$F$2:$F$300='1추일출'!C20)*(구분표!$G$2:$G$300='1추일출'!A20),0)))}
A21: (문화체육관광위원회) | G21: =SUM(G22:G32) -> 5830000 | H21: =SUM(H22:H32) -> 0 | I21: =SUM(I22:I32) -> 5830000 | J21: =SUM(J22:J32) -> 0 | K21: =SUM(K22:K32) -> 2100000 | L21: =SUM(L22:L32) -> 7930000 | M21: =SUM(M22:M32) -> -1290000 | N21: =SUM(N22:N32) -> 2100000 | O21: =SUM(O22:O32) -> 6640000
A22: =IFERROR(VLOOKUP($C22,구분표!$A$2:$C$300,2,FALSE),"") -> 문화체육관광위원회 | B22: =IFERROR(VLOOKUP($C22,구분표!$A$2:$C$300,3,FALSE),"") -> 문화체육관광국 | C22: 문화정책과 | D22: 1회추경 | E22: 165 | F22: 경기문화재단 운영(자체/직접) -지역경제 활력 제고를 위한 문화예술 공연 지원 | G22: 1500000 | H22: 0 | I22: =IF(D22="","",G22-H22) -> 1500000 | K22: 100000 | L22: =IF(G22=0,H22+J22+K22,G22+J22+K22) -> 1600000 | N22: 100000 | O22: =IF(G22=0,H22+M22+N22,G22+M22+N22) -> 1600000 | P22: =IF(AND((L22=0),(O22>0)),"O",IF(AND((J22<0),(L22-O22<0)),"O","X")) -> X | Q22: 1. 지역경제 활력 제고를 위한 문화예술 공연 지원 1억 증 = 16억 | R22: 1. 지역경제 활력 제고를 위한 문화예술 공연 지원 1억 증 = 16억 | T22: 도비 | V22: 도비 | W22: =IF($V22<>"도비",IF($T22="국도비","직접입력",SUM($J22:$K22)),) -> 0 | X22: =IF($V22="도비",SUM($J22:$K22),SUM($J22:$K22)-$W22) -> 100000 | Y22: =IF(SUM($J22:$K22)=SUM($W22:$X22),"OK","검토") -> OK | AB22: =IF($V22<>"도비",IF($T22="국도비","직접입력",SUM($M22:$N22)),) -> 0 | AC22: =IF($V22="도비",SUM(M22:N22),SUM(M22:N22)-AB22) -> 100000 | AD22: =IF(SUM(M22:N22)=SUM(AB22:AC22),"OK","검토") -> OK | AF22: =IF(V22="","",IF(V22="도비","세입없음","직접입력")) -> 세입없음 | AH22: =IF(AF22="","",COUNTIF($AF$7:$AF$63,AF22)) -> 33 | AI22: =IF(V22="","",IF(AND(V22="도비",AF22="세입없음"),"OK",IF(AND(V22<>"도비",AF22<>""),"OK","@@"))) -> OK | AK22: {=IF(C22="","",INDEX(구분표!$I$2:$I$300, MATCH(1,(구분표!$E$2:$E$300='1추일출'!B22)*(구분표!$F$2:$F$300='1추일출'!C22)*(구분표!$G$2:$G$300='1추일출'!A22),0)))} -> 0501
A23: =IFERROR(VLOOKUP($C23,구분표!$A$2:$C$300,2,FALSE),"") -> 문화체육관광위원회 | B23: =IFERROR(VLOOKUP($C23,구분표!$A$2:$C$300,3,FALSE),"") -> 문화체육관광국 | C23: 문화정책과 | D23: 1회추경 | E23: 166 | F23: 경기문화재단 운영(자체/직접) -메르스 관련 종사자 한마음 대회 | G23: 1000000 | H23: 0 | I23: =IF(D23="","",G23-H23) -> 1000000 | L23: =IF(G23=0,H23+J23+K23,G23+J23+K23) -> 1000000 | M23: -200000 | O23: =IF(G23=0,H23+M23+N23,G23+M23+N23) -> 800000 | P23: =IF(AND((L23=0),(O23>0)),"O",IF(AND((J23<0),(L23-O23<0)),"O","X")) -> X | T23: 도비 | V23: 도비 | W23: =IF($V23<>"도비",IF($T23="국도비","직접입력",SUM($J23:$K23)),) -> 0 | X23: =IF($V23="도비",SUM($J23:$K23),SUM($J23:$K23)-$W23) -> 0 | Y23: =IF(SUM($J23:$K23)=SUM($W23:$X23),"OK","검토") -> OK | AB23: =IF($V23<>"도비",IF($T23="국도비","직접입력",SUM($M23:$N23)),) -> 0 | AC23: =IF($V23="도비",SUM(M23:N23),SUM(M23:N23)-AB23) -> -200000 | AD23: =IF(SUM(M23:N23)=SUM(AB23:AC23),"OK","검토") -> OK | AF23: =IF(V23="","",IF(V23="도비","세입없음","직접입력")) -> 세입없음 | AH23: =IF(AF23="","",COUNTIF($AF$7:$AF$63,AF23)) -> 33 | AI23: =IF(V23="","",IF(AND(V23="도비",AF23="세입없음"),"OK",IF(AND(V23<>"도비",AF23<>""),"OK","@@"))) -> OK | AK23: {=IF(C23="","",INDEX(구분표!$I$2:$I$300, MATCH(1,(구분표!$E$2:$E$300='1추일출'!B23)*(구분표!$F$2:$F$300='1추일출'!C23)*(구분표!$G$2:$G$300='1추일출'!A23),0)))} -> 0501
A24: =IFERROR(VLOOKUP($C24,구분표!$A$2:$C$300,2,FALSE),"") -> 문화체육관광위원회 | B24: =IFERROR(VLOOKUP($C24,구분표!$A$2:$C$300,3,FALSE),"") -> 문화체육관광국 | C24: 체육과 | D24: 1회추경 | E24: 169 | F24: 곤지암 스포츠 밸리 조성(자체/직접) -생활체육 활성화를 위한 스포츠밸리 조성 | G24: 850000 | H24: 0 | I24: =IF(D24="","",G24-H24) -> 850000 | L24: =IF(G24=0,H24+J24+K24,G24+J24+K24) -> 850000 | M24: -850000 | O24: =IF(G24=0,H24+M24+N24,G24+M24+N24) -> 0 | P24: =IF(AND((L24=0),(O24>0)),"O",IF(AND((J24<0),(L24-O24<0)),"O","X")) -> X | T24: 도비 | V24: 도비 | W24: =IF($V24<>"도비",IF($T24="국도비","직접입력",SUM($J24:$K24)),) -> 0 | X24: =IF($V24="도비",SUM($J24:$K24),SUM($J24:$K24)-$W24) -> 0 | Y24: =IF(SUM($J24:$K24)=SUM($W24:$X24),"OK","검토") -> OK | AB24: =IF($V24<>"도비",IF($T24="국도비","직접입력",SUM($M24:$N24)),) -> 0 | AC24: =IF($V24="도비",SUM(M24:N24),SUM(M24:N24)-AB24) -> -850000 | AD24: =IF(SUM(M24:N24)=SUM(AB24:AC24),"OK","검토") -> OK | AF24: =IF(V24="","",IF(V24="도비","세입없음","직접입력")) -> 세입없음 | AH24: =IF(AF24="","",COUNTIF($AF$7:$AF$63,AF24)) -> 33 | AI24: =IF(V24="","",IF(AND(V24="도비",AF24="세입없음"),"OK",IF(AND(V24<>"도비",AF24<>""),"OK","@@"))) -> OK | AK24: {=IF(C24="","",INDEX(구분표!$I$2:$I$300, MATCH(1,(구분표!$E$2:$E$300='1추일출'!B24)*(구분표!$F$2:$F$300='1추일출'!C24)*(구분표!$G$2:$G$300='1추일출'!A24),0)))} -> 0503
A25: =IFERROR(VLOOKUP($C25,구분표!$A$2:$C$300,2,FALSE),"") -> 문화체육관광위원회 | B25: =IFERROR(VLOOKUP($C25,구분표!$A$2:$C$300,3,FALSE),"") -> 문화체육관광국 | C25: 관광과 | D25: 1회추경 | E25: 171 | F25: 감염병 격리생활 숙소 리모델링(자체/지원) -감염병 의료진 등 종사자 격리숙소 리모델링 → 단체 관광객 유치를 위한 숙박시설 리모델링(자체/지원) -단체 관광객 유치를 위한 숙박시설 리모델링 | G25: 1000000 | H25: 0 | I25: =IF(D25="","",G25-H25) -> 1000000 | L25: =IF(G25=0,H25+J25+K25,G25+J25+K25) -> 1000000 | O25: =IF(G25=0,H25+M25+N25,G25+M25+N25) -> 1000000 | P25: =IF(AND((L25=0),(O25>0)),"O",IF(AND((J25<0),(L25-O25<0)),"O","X")) -> X | T25: 도비 | V25: 도비 | W25: =IF($V25<>"도비",IF($T25="국도비","직접입력",SUM($J25:$K25)),) -> 0 | X25: =IF($V25="도비",SUM($J25:$K25),SUM($J25:$K25)-$W25) -> 0 | Y25: =IF(SUM($J25:$K25)=SUM($W25:$X25),"OK","검토") -> OK | AB25: =IF($V25<>"도비",IF($T25="국도비","직접입력",SUM($M25:$N25)),) -> 0 | AC25: =IF($V25="도비",SUM(M25:N25),SUM(M25:N25)-AB25) -> 0 | AD25: =IF(SUM(M25:N25)=SUM(AB25:AC25),"OK","검토") -> OK | AF25: =IF(V25="","",IF(V25="도비","세입없음","직접입력")) -> 세입없음 | AH25: =IF(AF25="","",COUNTIF($AF$7:$AF$63,AF25)) -> 33 | AI25: =IF(V25="","",IF(AND(V25="도비",AF25="세입없음"),"OK",IF(AND(V25<>"도비",AF25<>""),"OK","@@"))) -> OK | AK25: {=IF(C25="","",INDEX(구분표!$I$2:$I$300, MATCH(1,(구분표!$E$2:$E$300='1추일출'!B25)*(구분표!$F$2:$F$300='1추일출'!C25)*(구분표!$G$2:$G$300='1추일출'!A25),0)))} -> 0506
A26: =IFERROR(VLOOKUP($C26,구분표!$A$2:$C$300,2,FALSE),"") -> 문화체육관광위원회 | B26: =IFERROR(VLOOKUP($C26,구분표!$A$2:$C$300,3,FALSE),"") -> 문화체육관광국 | C26: 관광과 | D26: 1회추경 | E26: 172 | F26: 관광업계 활성화 지원을 위한 국내외 마케팅 강화(자체/직접) -관광업계 활성화 지원을 위한 국내외 마케팅 강화 | G26: 1000000 | H26: 0 | I26: =IF(D26="","",G26-H26) -> 1000000 | K26: 500000 | L26: =IF(G26=0,H26+J26+K26,G26+J26+K26) -> 1500000 | N26: 1000000 | O26: =IF(G26=0,H26+M26+N26,G26+M26+N26) -> 2000000 | P26: =IF(AND((L26=0),(O26>0)),"O",IF(AND((J26<0),(L26-O26<0)),"O","X")) -> X | Q26: 1. (신규) : 관광업계 활성화 사업 5억 증 | R26: 1. (신규) : 관광업계 활성화 사업 5억 증 | S26: v | T26: 도비 | V26: 도비 | W26: =IF($V26<>"도비",IF($T26="국도비","직접입력",SUM($J26:$K26)),) -> 0 | X26: =IF($V26="도비",SUM($J26:$K26),SUM($J26:$K26)-$W26) -> 500000 | Y26: =IF(SUM($J26:$K26)=SUM($W26:$X26),"OK","검토") -> OK | AB26: =IF($V26<>"도비",IF($T26="국도비","직접입력",SUM($M26:$N26)),) -> 0 | AC26: =IF($V26="도비",SUM(M26:N26),SUM(M26:N26)-AB26) -> 1000000 | AD26: =IF(SUM(M26:N26)=SUM(AB26:AC26),"OK","검토") -> OK | AF26: =IF(V26="","",IF(V26="도비","세입없음","직접입력")) -> 세입없음 | AH26: =IF(AF26="","",COUNTIF($AF$7:$AF$63,AF26)) -> 33 | AI26: =IF(V26="","",IF(AND(V26="도비",AF26="세입없음"),"OK",IF(AND(V26<>"도비",AF26<>""),"OK","@@"))) -> OK | AK26: {=IF(C26="","",INDEX(구분표!$I$2:$I$300, MATCH(1,(구분표!$E$2:$E$300='1추일출'!B26)*(구분표!$F$2:$F$300='1추일출'!C26)*(구분표!$G$2:$G$300='1추일출'!A26),0)))} -> 0506
A27: =IFERROR(VLOOKUP($C27,구분표!$A$2:$C$300,2,FALSE),"") -> 문화체육관광위원회 | B27: =IFERROR(VLOOKUP($C27,구분표!$A$2:$C$300,3,FALSE),"") -> 문화체육관광국 | C27: 관광과 | D27: 1회추경 | E27: 172 | F27: 행사 지원(자체/지원) -메르스 극복 평택시민 어울림 한마당 | G27: 480000 | H27: 0 | I27: =IF(D27="","",G27-H27) -> 480000 | L27: =IF(G27=0,H27+J27+K27,G27+J27+K27) -> 480000 | M27: -240000 | O27: =IF(G27=0,H27+M27+N27,G27+M27+N27) -> 240000 | P27: =IF(AND((L27=0),(O27>0)),"O",IF(AND((J27<0),(L27-O27<0)),"O","X")) -> X | T27: 도비 | V27: 도비 | W27: =IF($V27<>"도비",IF($T27="국도비","직접입력",SUM($J27:$K27)),) -> 0 | X27: =IF($V27="도비",SUM($J27:$K27),SUM($J27:$K27)-$W27) -> 0 | Y27: =IF(SUM($J27:$K27)=SUM($W27:$X27),"OK","검토") -> OK | AB27: =IF($V27<>"도비",IF($T27="국도비","직접입력",SUM($M27:$N27)),) -> 0 | AC27: =IF($V27="도비",SUM(M27:N27),SUM(M27:N27)-AB27) -> -240000 | AD27: =IF(SUM(M27:N27)=SUM(AB27:AC27),"OK","검토") -> OK | AF27: =IF(V27="","",IF(V27="도비","세입없음","직접입력")) -> 세입없음 | AH27: =IF(AF27="","",COUNTIF($AF$7:$AF$63,AF27)) -> 33 | AI27: =IF(V27="","",IF(AND(V27="도비",AF27="세입없음"),"OK",IF(AND(V27<>"도비",AF27<>""),"OK","@@"))) -> OK | AK27: {=IF(C27="","",INDEX(구분표!$I$2:$I$300, MATCH(1,(구분표!$E$2:$E$300='1추일출'!B27)*(구분표!$F$2:$F$300='1추일출'!C27)*(구분표!$G$2:$G$300='1추일출'!A27),0)))} -> 0506
A28: =IFERROR(VLOOKUP($C28,구분표!$A$2:$C$300,2,FALSE),"") -> 문화체육관광위원회 | B28: =IFERROR(VLOOKUP($C28,구분표!$A$2:$C$300,3,FALSE),"") -> 문화체육관광국 | C28: 문화정책과 | D28: 신규 | F28: 지역경제 활성화를 위한 예술단체 지원 | G28: 0 | H28: 0 | I28: =IF(D28="","",G28-H28) -> 0 | K28: 1000000 | L28: =IF(G28=0,H28+J28+K28,G28+J28+K28) -> 1000000 | N28: 500000 | O28: =IF(G28=0,H28+M28+N28,G28+M28+N28) -> 500000 | P28: =IF(AND((L28=0),(O28>0)),"O",IF(AND((J28<0),(L28-O28<0)),"O","X")) -> X | Q28: ※ 경기문화재단 출연금(의회 10억) | R28: ※ 경기문화재단 출연금 | T28: 도비 | V28: 도비 | W28: =IF($V28<>"도비",IF($T28="국도비","직접입력",SUM($J28:$K28)),) -> 0 | X28: =IF($V28="도비",SUM($J28:$K28),SUM($J28:$K28)-$W28) -> 1000000 | Y28: =IF(SUM($J28:$K28)=SUM($W28:$X28),"OK","검토") -> OK | AB28: =IF($V28<>"도비",IF($T28="국도비","직접입력",SUM($M28:$N28)),) -> 0 | AC28: =IF($V28="도비",SUM(M28:N28),SUM(M28:N28)-AB28) -> 500000 | AD28: =IF(SUM(M28:N28)=SUM(AB28:AC28),"OK","검토") -> OK | AF28: =IF(V28="","",IF(V28="도비","세입없음","직접입력")) -> 세입없음 | AH28: =IF(AF28="","",COUNTIF($AF$7:$AF$63,AF28)) -> 33 | AI28: =IF(V28="","",IF(AND(V28="도비",AF28="세입없음"),"OK",IF(AND(V28<>"도비",AF28<>""),"OK","@@"))) -> OK | AK28: {=IF(C28="","",INDEX(구분표!$I$2:$I$300, MATCH(1,(구분표!$E$2:$E$300='1추일출'!B28)*(구분표!$F$2:$F$300='1추일출'!C28)*(구분표!$G$2:$G$300='1추일출'!A28),0)))} -> 0501
A29: =IFERROR(VLOOKUP($C29,구분표!$A$2:$C$300,2,FALSE),"") -> 문화체육관광위원회 | B29: =IFERROR(VLOOKUP($C29,구분표!$A$2:$C$300,3,FALSE),"") -> 문화체육관광국 | C29: 문화정책과 | D29: 신규 | F29: 시군 예술단체 사업 | G29: 0 | H29: 0 | I29: =IF(D29="","",G29-H29) -> 0 | K29: 500000 | L29: =IF(G29=0,H29+J29+K29,G29+J29+K29) -> 500000 | N29: 500000 | O29: =IF(G29=0,H29+M29+N29,G29+M29+N29) -> 500000 | P29: =IF(AND((L29=0),(O29>0)),"O",IF(AND((J29<0),(L29-O29<0)),"O","X")) -> X | Q29: ※ 자치단체 등 이전(자치단체 경상보조금) | R29: ※ 자치단체 등 이전(자치단체 경상보조금) | T29: 도비 | V29: 도비 | W29: =IF($V29<>"도비",IF($T29="국도비","직접입력",SUM($J29:$K29)),) -> 0 | X29: =IF($V29="도비",SUM($J29:$K29),SUM($J29:$K29)-$W29) -> 500000 | Y29: =IF(SUM($J29:$K29)=SUM($W29:$X29),"OK","검토") -> OK | AB29: =IF($V29<>"도비",IF($T29="국도비","직접입력",SUM($M29:$N29)),) -> 0 | AC29: =IF($V29="도비",SUM(M29:N29),SUM(M29:N29)-AB29) -> 500000 | AD29: =IF(SUM(M29:N29)=SUM(AB29:AC29),"OK","검토") -> OK | AF29: =IF(V29="","",IF(V29="도비","세입없음","직접입력")) -> 세입없음 | AH29: =IF(AF29="","",COUNTIF($AF$7:$AF$63,AF29)) -> 33 | AI29: =IF(V29="","",IF(AND(V29="도비",AF29="세입없음"),"OK",IF(AND(V29<>"도비",AF29<>""),"OK","@@"))) -> OK | AK29: {=IF(C29="","",INDEX(구분표!$I$2:$I$300, MATCH(1,(구분표!$E$2:$E$300='1추일출'!B29)*(구분표!$F$2:$F$300='1추일출'!C29)*(구분표!$G$2:$G$300='1추일출'!A29),0)))} -> 0501
A30: =IFERROR(VLOOKUP($C30,구분표!$A$2:$C$300,2,FALSE),"") | B30: =IFERROR(VLOOKUP($C30,구분표!$A$2:$C$300,3,FALSE),"") | I30: =IF(D30="","",G30-H30) | L30: =IF(G30=0,H30+J30+K30,G30+J30+K30) -> 0 | O30: =IF(G30=0,H30+M30+N30,G30+M30+N30) -> 0 | P30: =IF(AND((L30=0),(O30>0)),"O",IF(AND((J30<0),(L30-O30<0)),"O","X")) -> X | W30: =IF($V30<>"도비",IF($T30="국도비","직접입력",SUM($J30:$K30)),) -> 0 | X30: =IF($V30="도비",SUM($J30:$K30),SUM($J30:$K30)-$W30) -> 0 | Y30: =IF(SUM($J30:$K30)=SUM($W30:$X30),"OK","검토") -> OK | AB30: =IF($V30<>"도비",IF($T30="국도비","직접입력",SUM($M30:$N30)),) -> 0 | AC30: =IF($V30="도비",SUM(M30:N30),SUM(M30:N30)-AB30) -> 0 | AD30: =IF(SUM(M30:N30)=SUM(AB30:AC30),"OK","검토") -> OK | AF30: =IF(V30="","",IF(V30="도비","세입없음","직접입력")) | AH30: =IF(AF30="","",COUNTIF($AF$7:$AF$63,AF30)) | AI30: =IF(V30="","",IF(AND(V30="도비",AF30="세입없음"),"OK",IF(AND(V30<>"도비",AF30<>""),"OK","@@"))) | AK30: {=IF(C30="","",INDEX(구분표!$I$2:$I$300, MATCH(1,(구분표!$E$2:$E$300='1추일출'!B30)*(구분표!$F$2:$F$300='1추일출'!C30)*(구분표!$G$2:$G$300='1추일출'!A30),0)))}
A31: =IFERROR(VLOOKUP($C31,구분표!$A$2:$C$300,2,FALSE),"") | B31: =IFERROR(VLOOKUP($C31,구분표!$A$2:$C$300,3,FALSE),"") | I31: =IF(D31="","",G31-H31) | L31: =IF(G31=0,H31+J31+K31,G31+J31+K31) -> 0 | O31: =IF(G31=0,H31+M31+N31,G31+M31+N31) -> 0 | P31: =IF(AND((L31=0),(O31>0)),"O",IF(AND((J31<0),(L31-O31<0)),"O","X")) -> X | W31: =IF($V31<>"도비",IF($T31="국도비","직접입력",SUM($J31:$K31)),) -> 0 | X31: =IF($V31="도비",SUM($J31:$K31),SUM($J31:$K31)-$W31) -> 0 | Y31: =IF(SUM($J31:$K31)=SUM($W31:$X31),"OK","검토") -> OK | AB31: =IF($V31<>"도비",IF($T31="국도비","직접입력",SUM($M31:$N31)),) -> 0 | AC31: =IF($V31="도비",SUM(M31:N31),SUM(M31:N31)-AB31) -> 0 | AD31: =IF(SUM(M31:N31)=SUM(AB31:AC31),"OK","검토") -> OK | AF31: =IF(V31="","",IF(V31="도비","세입없음","직접입력")) | AH31: =IF(AF31="","",COUNTIF($AF$7:$AF$63,AF31)) | AI31: =IF(V31="","",IF(AND(V31="도비",AF31="세입없음"),"OK",IF(AND(V31<>"도비",AF31<>""),"OK","@@"))) | AK31: {=IF(C31="","",INDEX(구분표!$I$2:$I$300, MATCH(1,(구분표!$E$2:$E$300='1추일출'!B31)*(구분표!$F$2:$F$300='1추일출'!C31)*(구분표!$G$2:$G$300='1추일출'!A31),0)))}
A32: =IFERROR(VLOOKUP($C32,구분표!$A$2:$C$300,2,FALSE),"") | B32: =IFERROR(VLOOKUP($C32,구분표!$A$2:$C$300,3,FALSE),"") | I32: =IF(D32="","",G32-H32) | L32: =IF(G32=0,H32+J32+K32,G32+J32+K32) -> 0 | O32: =IF(G32=0,H32+M32+N32,G32+M32+N32) -> 0 | P32: =IF(AND((L32=0),(O32>0)),"O",IF(AND((J32<0),(L32-O32<0)),"O","X")) -> X | W32: =IF($V32<>"도비",IF($T32="국도비","직접입력",SUM($J32:$K32)),) -> 0 | X32: =IF($V32="도비",SUM($J32:$K32),SUM($J32:$K32)-$W32) -> 0 | Y32: =IF(SUM($J32:$K32)=SUM($W32:$X32),"OK","검토") -> OK | AB32: =IF($V32<>"도비",IF($T32="국도비","직접입력",SUM($M32:$N32)),) -> 0 | AC32: =IF($V32="도비",SUM(M32:N32),SUM(M32:N32)-AB32) -> 0 | AD32: =IF(SUM(M32:N32)=SUM(AB32:AC32),"OK","검토") -> OK | AF32: =IF(V32="","",IF(V32="도비","세입없음","직접입력")) | AH32: =IF(AF32="","",COUNTIF($AF$7:$AF$63,AF32)) | AI32: =IF(V32="","",IF(AND(V32="도비",AF32="세입없음"),"OK",IF(AND(V32<>"도비",AF32<>""),"OK","@@"))) | AK32: {=IF(C32="","",INDEX(구분표!$I$2:$I$300, MATCH(1,(구분표!$E$2:$E$300='1추일출'!B32)*(구분표!$F$2:$F$300='1추일출'!C32)*(구분표!$G$2:$G$300='1추일출'!A32),0)))}
A33: (농정해양위원회) | G33: =SUM(G34:G36) -> 9460000 | H33: =SUM(H34:H36) -> 0 | I33: =SUM(I34:I36) -> 9460000 | J33: =SUM(J34:J36) -> 0 | K33: =SUM(K34:K36) -> 5901000 | L33: =SUM(L34:L36) -> 15361000 | M33: =SUM(M34:M36) -> -500000 | N33: =SUM(N34:N36) -> 5061392 | O33: =SUM(O34:O36) -> 14021392
A34: =IFERROR(VLOOKUP($C34,구분표!$A$2:$C$300,2,FALSE),"") -> 농정해양위원회 | B34: =IFERROR(VLOOKUP($C34,구분표!$A$2:$C$300,3,FALSE),"") -> 농정해양국 | C34: 친환경농업과 | D34: 1회추경 | E34: 184 | F34: 가뭄대비 용수개발 사업(자체/지원) -가뭄대비 용수개발 사업 → 한·수해대책 사업(자체/지원) -한·수해대책 사업 | G34: 8960000 | H34: 0 | I34: =IF(D34="","",G34-H34) -> 8960000 | K34: 5901000 | L34: =IF(G34=0,H34+J34+K34,G34+J34+K34) -> 14861000 | N34: =3000000+1000000+1061392 -> 5061392 | O34: =IF(G34=0,H34+M34+N34,G34+M34+N34) -> 14021392 | P34: =IF(AND((L34=0),(O34>0)),"O",IF(AND((J34<0),(L34-O34<0)),"O","X")) -> X | Q34: 가뭄에 대한 항구적인 대책을 마련하고, 수해까지 대비하기 위해 시군 추가요청 사업 예산 증액 | R34: 가뭄에 대한 항구적인 대책을 마련하고, 수해까지 대비하기 위해 시군 추가요청 사업 예산 증액 | S34: v | T34: 도비 | V34: 도비 | W34: =IF($V34<>"도비",IF($T34="국도비","직접입력",SUM($J34:$K34)),) -> 0 | X34: =IF($V34="도비",SUM($J34:$K34),SUM($J34:$K34)-$W34) -> 5901000 | Y34: =IF(SUM($J34:$K34)=SUM($W34:$X34),"OK","검토") -> OK | AB34: =IF($V34<>"도비",IF($T34="국도비","직접입력",SUM($M34:$N34)),) -> 0 | AC34: =IF($V34="도비",SUM(M34:N34),SUM(M34:N34)-AB34) -> 5061392 | AD34: =IF(SUM(M34:N34)=SUM(AB34:AC34),"OK","검토") -> OK | AF34: =IF(V34="","",IF(V34="도비","세입없음","직접입력")) -> 세입없음 | AH34: =IF(AF34="","",COUNTIF($AF$7:$AF$63,AF34)) -> 33 | AI34: =IF(V34="","",IF(AND(V34="도비",AF34="세입없음"),"OK",IF(AND(V34<>"도비",AF34<>""),"OK","@@"))) -> OK | AK34: {=IF(C34="","",INDEX(구분표!$I$2:$I$300, MATCH(1,(구분표!$E$2:$E$300='1추일출'!B34)*(구분표!$F$2:$F$300='1추일출'!C34)*(구분표!$G$2:$G$300='1추일출'!A34),0)))} -> 0604
A35: =IFERROR(VLOOKUP($C35,구분표!$A$2:$C$300,2,FALSE),"") -> 농정해양위원회 | B35: =IFERROR(VLOOKUP($C35,구분표!$A$2:$C$300,3,FALSE),"") -> 축산산림국 | C35: 동물방역위생과 | D35: 1회추경 | E35: 189 | F35: 반려동물 테마파크 조성(자체/직접) -지역경제 활성화를 위한 반려동물 테마파크 조성 | G35: 500000 | I35: =IF(D35="","",G35-H35) -> 500000 | L35: =IF(G35=0,H35+J35+K35,G35+J35+K35) -> 500000 | M35: -500000 | O35: =IF(G35=0,H35+M35+N35,G35+M35+N35) -> 0 | P35: =IF(AND((L35=0),(O35>0)),"O",IF(AND((J35<0),(L35-O35<0)),"O","X")) -> X | T35: 도비 | V35: 도비 | W35: =IF($V35<>"도비",IF($T35="국도비","직접입력",SUM($J35:$K35)),) -> 0 | X35: =IF($V35="도비",SUM($J35:$K35),SUM($J35:$K35)-$W35) -> 0 | Y35: =IF(SUM($J35:$K35)=SUM($W35:$X35),"OK","검토") -> OK | AB35: =IF($V35<>"도비",IF($T35="국도비","직접입력",SUM($M35:$N35)),) -> 0 | AC35: =IF($V35="도비",SUM(M35:N35),SUM(M35:N35)-AB35) -> -500000 | AD35: =IF(SUM(M35:N35)=SUM(AB35:AC35),"OK","검토") -> OK | AF35: =IF(V35="","",IF(V35="도비","세입없음","직접입력")) -> 세입없음 | AH35: =IF(AF35="","",COUNTIF($AF$7:$AF$63,AF35)) -> 33 | AI35: =IF(V35="","",IF(AND(V35="도비",AF35="세입없음"),"OK",IF(AND(V35<>"도비",AF35<>""),"OK","@@"))) -> OK | AK35: {=IF(C35="","",INDEX(구분표!$I$2:$I$300, MATCH(1,(구분표!$E$2:$E$300='1추일출'!B35)*(구분표!$F$2:$F$300='1추일출'!C35)*(구분표!$G$2:$G$300='1추일출'!A35),0)))} -> 0609
A36: =IFERROR(VLOOKUP($C36,구분표!$A$2:$C$300,2,FALSE),"") | B36: =IFERROR(VLOOKUP($C36,구분표!$A$2:$C$300,3,FALSE),"") | I36: =IF(D36="","",G36-H36) | L36: =IF(G36=0,H36+J36+K36,G36+J36+K36) -> 0 | O36: =IF(G36=0,H36+M36+N36,G36+M36+N36) -> 0 | P36: =IF(AND((L36=0),(O36>0)),"O",IF(AND((J36<0),(L36-O36<0)),"O","X")) -> X | W36: =IF($V36<>"도비",IF($T36="국도비","직접입력",SUM($J36:$K36)),) -> 0 | X36: =IF($V36="도비",SUM($J36:$K36),SUM($J36:$K36)-$W36) -> 0 | Y36: =IF(SUM($J36:$K36)=SUM($W36:$X36),"OK","검토") -> OK | AB36: =IF($V36<>"도비",IF($T36="국도비","직접입력",SUM($M36:$N36)),) -> 0 | AC36: =IF($V36="도비",SUM(M36:N36),SUM(M36:N36)-AB36) -> 0 | AD36: =IF(SUM(M36:N36)=SUM(AB36:AC36),"OK","검토") -> OK | AF36: =IF(V36="","",IF(V36="도비","세입없음","직접입력")) | AH36: =IF(AF36="","",COUNTIF($AF$7:$AF$63,AF36)) | AI36: =IF(V36="","",IF(AND(V36="도비",AF36="세입없음"),"OK",IF(AND(V36<>"도비",AF36<>""),"OK","@@"))) | AK36: {=IF(C36="","",INDEX(구분표!$I$2:$I$300, MATCH(1,(구분표!$E$2:$E$300='1추일출'!B36)*(구분표!$F$2:$F$300='1추일출'!C36)*(구분표!$G$2:$G$300='1추일출'!A36),0)))}
A37: (보건복지위원회) | G37: =SUM(G38:G49) -> 4817235 | H37: =SUM(H38:H49) -> 917235 | I37: =SUM(I38:I49) -> 3900000 | J37: =SUM(J38:J49) -> -1450000 | K37: =SUM(K38:K49) -> 2409571 | L37: =SUM(L38:L49) -> 5776806 | M37: =SUM(M38:M49) -> -1500000 | N37: =SUM(N38:N49) -> 4409571 | O37: =SUM(O38:O49) -> 7726806 | AH37: =IF(AF37="","",COUNTIF($AF$7:$AF$63,AF37)) | AI37: =IF(V37="","",IF(AND(V37="도비",AF37="세입없음"),"OK",IF(AND(V37<>"도비",AF37<>""),"OK","@@"))) | AK37: {=IF(C37="","",INDEX(구분표!$I$2:$I$300, MATCH(1,(구분표!$E$2:$E$300='1추일출'!B37)*(구분표!$F$2:$F$300='1추일출'!C37)*(구분표!$G$2:$G$300='1추일출'!A37),0)))}
A38: =IFERROR(VLOOKUP($C38,구분표!$A$2:$C$300,2,FALSE),"") -> 보건복지위원회 | B38: =IFERROR(VLOOKUP($C38,구분표!$A$2:$C$300,3,FALSE),"") -> 보건복지국 | C38: 노인복지과 | D38: 신규 | F38: 메르스 사망자 장례비용 지원(국비/지원) -메르스 사망자 장례비용 지원 | G38: 0 | H38: 0 | I38: =IF(D38="","",G38-H38) -> 0 | K38: 70947 | L38: =IF(G38=0,H38+J38+K38,G38+J38+K38) -> 70947 | N38: 70947 | O38: =IF(G38=0,H38+M38+N38,G38+M38+N38) -> 70947 | P38: =IF(AND((L38=0),(O38>0)),"O",IF(AND((J38<0),(L38-O38<0)),"O","X")) -> X | Q38: 국비확정내시 ※질병관리본부 공중보건위기대응과 -1998(2015.7.14)호 | R38: 국비확정내시 ※질병관리본부 공중보건위기대응과 -1998(2015.7.14)호 | T38: 국도비 | V38: 국비 | W38: 70947 | X38: =IF($V38="도비",SUM($J38:$K38),SUM($J38:$K38)-$W38) -> 0 | Y38: =IF(SUM($J38:$K38)=SUM($W38:$X38),"OK","검토") -> OK | AB38: 70947 | AC38: =IF($V38="도비",SUM(M38:N38),SUM(M38:N38)-AB38) -> 0 | AD38: =IF(SUM(M38:N38)=SUM(AB38:AC38),"OK","검토") -> OK | AF38: 0703-1 | AH38: =IF(AF38="","",COUNTIF($AF$7:$AF$63,AF38)) -> 1 | AI38: =IF(V38="","",IF(AND(V38="도비",AF38="세입없음"),"OK",IF(AND(V38<>"도비",AF38<>""),"OK","@@"))) -> OK | AK38: {=IF(C38="","",INDEX(구분표!$I$2:$I$300, MATCH(1,(구분표!$E$2:$E$300='1추일출'!B38)*(구분표!$F$2:$F$300='1추일출'!C38)*(구분표!$G$2:$G$300='1추일출'!A38),0)))} -> 0703 | AM38: 추가
A39: =IFERROR(VLOOKUP($C39,구분표!$A$2:$C$300,2,FALSE),"") -> 보건복지위원회 | B39: =IFERROR(VLOOKUP($C39,구분표!$A$2:$C$300,3,FALSE),"") -> 보건복지국 | C39: 보건정책과 | D39: 신규 | F39: 선별진료소 운영기관 지원(국비/지원) -선별진료소 운영기관 지원 | G39: 0 | H39: 0 | I39: =IF(D39="","",G39-H39) -> 0 | K39: 1404016 | L39: =IF(G39=0,H39+J39+K39,G39+J39+K39) -> 1404016 | N39: 1404016 | O39: =IF(G39=0,H39+M39+N39,G39+M39+N39) -> 1404016 | P39: =IF(AND((L39=0),(O39>0)),"O",IF(AND((J39<0),(L39-O39<0)),"O","X")) -> X | Q39: 국비확정내시 ※질병관리본부 공중보건위기대응과 -1950(2015.7.10)호 | R39: 국비확정내시 ※질병관리본부 공중보건위기대응과 -1950(2015.7.10)호 | T39: 국도비 | V39: 국비 | W39: 840728 | X39: =IF($V39="도비",SUM($J39:$K39),SUM($J39:$K39)-$W39) -> 563288 | Y39: =IF(SUM($J39:$K39)=SUM($W39:$X39),"OK","검토") -> OK | AB39: 840728 | AC39: =IF($V39="도비",SUM(M39:N39),SUM(M39:N39)-AB39) -> 563288 | AD39: =IF(SUM(M39:N39)=SUM(AB39:AC39),"OK","검토") -> OK | AF39: 0705-1 | AH39: =IF(AF39="","",COUNTIF($AF$7:$AF$63,AF39)) -> 1 | AI39: =IF(V39="","",IF(AND(V39="도비",AF39="세입없음"),"OK",IF(AND(V39<>"도비",AF39<>""),"OK","@@"))) -> OK | AK39: {=IF(C39="","",INDEX(구분표!$I$2:$I$300, MATCH(1,(구분표!$E$2:$E$300='1추일출'!B39)*(구분표!$F$2:$F$300='1추일출'!C39)*(구분표!$G$2:$G$300='1추일출'!A39),0)))} -> 0705 | AM39: 추가
A40: =IFERROR(VLOOKUP($C40,구분표!$A$2:$C$300,2,FALSE),"") -> 보건복지위원회 | B40: =IFERROR(VLOOKUP($C40,구분표!$A$2:$C$300,3,FALSE),"") -> 보건복지국 | C40: 보건정책과 | D40: 1회추경 | E40: 204 | F40: 감염병 대책 방역물품 지원(자체/지원) -감염병 대책 비축물품 지원 | G40: 1000000 | H40: 0 | I40: =IF(D40="","",G40-H40) -> 1000000 | J40: -750000 | L40: =IF(G40=0,H40+J40+K40,G40+J40+K40) -> 250000 | M40: -750000 | O40: =IF(G40=0,H40+M40+N40,G40+M40+N40) -> 250000 | P40: =IF(AND((L40=0),(O40>0)),"O",IF(AND((J40<0),(L40-O40<0)),"O","X")) -> X | T40: 도비 | V40: 도비 | W40: =IF($V40<>"도비",IF($T40="국도비","직접입력",SUM($J40:$K40)),) -> 0 | X40: =IF($V40="도비",SUM($J40:$K40),SUM($J40:$K40)-$W40) -> -750000 | Y40: =IF(SUM($J40:$K40)=SUM($W40:$X40),"OK","검토") -> OK | AB40: =IF($V40<>"도비",IF($T40="국도비","직접입력",SUM($M40:$N40)),) -> 0 | AC40: =IF($V40="도비",SUM(M40:N40),SUM(M40:N40)-AB40) -> -750000 | AD40: =IF(SUM(M40:N40)=SUM(AB40:AC40),"OK","검토") -> OK | AF40: =IF(V40="","",IF(V40="도비","세입없음","직접입력")) -> 세입없음 | AH40: =IF(AF40="","",COUNTIF($AF$7:$AF$63,AF40)) -> 33 | AI40: =IF(V40="","",IF(AND(V40="도비",AF40="세입없음"),"OK",IF(AND(V40<>"도비",AF40<>""),"OK","@@"))) -> OK | AK40: {=IF(C40="","",INDEX(구분표!$I$2:$I$300, MATCH(1,(구분표!$E$2:$E$300='1추일출'!B40)*(구분표!$F$2:$F$300='1추일출'!C40)*(구분표!$G$2:$G$300='1추일출'!A40),0)))} -> 0705
A41: =IFERROR(VLOOKUP($C41,구분표!$A$2:$C$300,2,FALSE),"") -> 보건복지위원회 | B41: =IFERROR(VLOOKUP($C41,구분표!$A$2:$C$300,3,FALSE),"") -> 보건복지국 | C41: 보건정책과 | D41: 1회추경 | E41: 204 | F41: 감염병 대책 홍보(자체/직접) -감염병 대처방법, 행동요령 등 감염병 대처 홍보 | G41: 700000 | H41: 0 | I41: =IF(D41="","",G41-H41) -> 700000 | J41: -400000 | L41: =IF(G41=0,H41+J41+K41,G41+J41+K41) -> 300000 | M41: -400000 | O41: =IF(G41=0,H41+M41+N41,G41+M41+N41) -> 300000 | P41: =IF(AND((L41=0),(O41>0)),"O",IF(AND((J41<0),(L41-O41<0)),"O","X")) -> X | T41: 도비 | V41: 도비 | W41: =IF($V41<>"도비",IF($T41="국도비","직접입력",SUM($J41:$K41)),) -> 0 | X41: =IF($V41="도비",SUM($J41:$K41),SUM($J41:$K41)-$W41) -> -400000 | Y41: =IF(SUM($J41:$K41)=SUM($W41:$X41),"OK","검토") -> OK | AB41: =IF($V41<>"도비",IF($T41="국도비","직접입력",SUM($M41:$N41)),) -> 0 | AC41: =IF($V41="도비",SUM(M41:N41),SUM(M41:N41)-AB41) -> -400000 | AD41: =IF(SUM(M41:N41)=SUM(AB41:AC41),"OK","검토") -> OK | AF41: =IF(V41="","",IF(V41="도비","세입없음","직접입력")) -> 세입없음 | AH41: =IF(AF41="","",COUNTIF($AF$7:$AF$63,AF41)) -> 33 | AI41: =IF(V41="","",IF(AND(V41="도비",AF41="세입없음"),"OK",IF(AND(V41<>"도비",AF41<>""),"OK","@@"))) -> OK | AK41: {=IF(C41="","",INDEX(구분표!$I$2:$I$300, MATCH(1,(구분표!$E$2:$E$300='1추일출'!B41)*(구분표!$F$2:$F$300='1추일출'!C41)*(구분표!$G$2:$G$300='1추일출'!A41),0)))} -> 0705
A42: =IFERROR(VLOOKUP($C42,구분표!$A$2:$C$300,2,FALSE),"") -> 보건복지위원회 | B42: =IFERROR(VLOOKUP($C42,구분표!$A$2:$C$300,3,FALSE),"") -> 보건복지국 | C42: 보건정책과 | D42: 1회추경 | E42: 204 | F42: 감염병 종합 대응체계 구축(자체/직접) -감염병 종합 대응체계 구축 | G42: 800000 | I42: =IF(D42="","",G42-H42) -> 800000 | L42: =IF(G42=0,H42+J42+K42,G42+J42+K42) -> 800000 | M42: -50000 | O42: =IF(G42=0,H42+M42+N42,G42+M42+N42) -> 750000 | P42: =IF(AND((L42=0),(O42>0)),"O",IF(AND((J42<0),(L42-O42<0)),"O","X")) -> X | T42: 도비 | V42: 도비 | W42: =IF($V42<>"도비",IF($T42="국도비","직접입력",SUM($J42:$K42)),) -> 0 | X42: =IF($V42="도비",SUM($J42:$K42),SUM($J42:$K42)-$W42) -> 0 | Y42: =IF(SUM($J42:$K42)=SUM($W42:$X42),"OK","검토") -> OK | AB42: =IF($V42<>"도비",IF($T42="국도비","직접입력",SUM($M42:$N42)),) -> 0 | AC42: =IF($V42="도비",SUM(M42:N42),SUM(M42:N42)-AB42) -> -50000 | AD42: =IF(SUM(M42:N42)=SUM(AB42:AC42),"OK","검토") -> OK | AF42: =IF(V42="","",IF(V42="도비","세입없음","직접입력")) -> 세입없음 | AH42: =IF(AF42="","",COUNTIF($AF$7:$AF$63,AF42)) -> 33 | AI42: =IF(V42="","",IF(AND(V42="도비",AF42="세입없음"),"OK",IF(AND(V42<>"도비",AF42<>""),"OK","@@"))) -> OK | AK42: {=IF(C42="","",INDEX(구분표!$I$2:$I$300, MATCH(1,(구분표!$E$2:$E$300='1추일출'!B42)*(구분표!$F$2:$F$300='1추일출'!C42)*(구분표!$G$2:$G$300='1추일출'!A42),0)))} -> 0705
A43: =IFERROR(VLOOKUP($C43,구분표!$A$2:$C$300,2,FALSE),"") -> 보건복지위원회 | B43: =IFERROR(VLOOKUP($C43,구분표!$A$2:$C$300,3,FALSE),"") -> 보건복지국 | C43: 건강증진과 | D43: 1회추경 | E43: 205 | F43: 경기도의료원 공공보건사업 지원(자체/직접) -감염병 치료 의료진 심리프로그램 등 지원 | G43: 1300000 | H43: 0 | I43: =IF(D43="","",G43-H43) -> 1300000 | J43: -300000 | L43: =IF(G43=0,H43+J43+K43,G43+J43+K43) -> 1000000 | M43: -300000 | O43: =IF(G43=0,H43+M43+N43,G43+M43+N43) -> 1000000 | P43: =IF(AND((L43=0),(O43>0)),"O",IF(AND((J43<0),(L43-O43<0)),"O","X")) -> X | Q43: 세부사업계획 수립 후 상임위와 협의 | T43: 도비 | V43: 도비 | W43: =IF($V43<>"도비",IF($T43="국도비","직접입력",SUM($J43:$K43)),) -> 0 | X43: =IF($V43="도비",SUM($J43:$K43),SUM($J43:$K43)-$W43) -> -300000 | Y43: =IF(SUM($J43:$K43)=SUM($W43:$X43),"OK","검토") -> OK | AB43: =IF($V43<>"도비",IF($T43="국도비","직접입력",SUM($M43:$N43)),) -> 0 | AC43: =IF($V43="도비",SUM(M43:N43),SUM(M43:N43)-AB43) -> -300000 | AD43: =IF(SUM(M43:N43)=SUM(AB43:AC43),"OK","검토") -> OK | AF43: =IF(V43="","",IF(V43="도비","세입없음","직접입력")) -> 세입없음 | AH43: =IF(AF43="","",COUNTIF($AF$7:$AF$63,AF43)) -> 33 | AI43: =IF(V43="","",IF(AND(V43="도비",AF43="세입없음"),"OK",IF(AND(V43<>"도비",AF43<>""),"OK","@@"))) -> OK | AK43: {=IF(C43="","",INDEX(구분표!$I$2:$I$300, MATCH(1,(구분표!$E$2:$E$300='1추일출'!B43)*(구분표!$F$2:$F$300='1추일출'!C43)*(구분표!$G$2:$G$300='1추일출'!A43),0)))} -> 0706
A44: =IFERROR(VLOOKUP($C44,구분표!$A$2:$C$300,2,FALSE),"") -> 보건복지위원회 | B44: =IFERROR(VLOOKUP($C44,구분표!$A$2:$C$300,3,FALSE),"") -> 보건복지국 | C44: 장애인복지과 | D44: 본예산 | F44: 장애인사회활동지원(자체/지원) -중증장애인 사회활동지원 | G44: 621830 | H44: 621830 | I44: =IF(D44="","",G44-H44) -> 0 | K44: 516944 | L44: =IF(G44=0,H44+J44+K44,G44+J44+K44) -> 1138774 | N44: 516944 | O44: =IF(G44=0,H44+M44+N44,G44+M44+N44) -> 1138774 | P44: =IF(AND((L44=0),(O44>0)),"O",IF(AND((J44<0),(L44-O44<0)),"O","X")) -> X | Q44: 당초 9개월분만 반영, 7월부터 지원대상 2급에서 3급 확대로 인한 증가된 사업량 반영 | R44: 당초 9개월분만 반영, 7월부터 지원대상 2급에서 3급 확대로 인한 증가된 사업량 반영 | T44: 도비 | V44: 도비 | W44: =IF($V44<>"도비",IF($T44="국도비","직접입력",SUM($J44:$K44)),) -> 0 | X44: =IF($V44="도비",SUM($J44:$K44),SUM($J44:$K44)-$W44) -> 516944 | Y44: =IF(SUM($J44:$K44)=SUM($W44:$X44),"OK","검토") -> OK | AB44: =IF($V44<>"도비",IF($T44="국도비","직접입력",SUM($M44:$N44)),) -> 0 | AC44: =IF($V44="도비",SUM(M44:N44),SUM(M44:N44)-AB44) -> 516944 | AD44: =IF(SUM(M44:N44)=SUM(AB44:AC44),"OK","검토") -> OK | AF44: =IF(V44="","",IF(V44="도비","세입없음","직접입력")) -> 세입없음 | AH44: =IF(AF44="","",COUNTIF($AF$7:$AF$63,AF44)) -> 33 | AI44: =IF(V44="","",IF(AND(V44="도비",AF44="세입없음"),"OK",IF(AND(V44<>"도비",AF44<>""),"OK","@@"))) -> OK | AK44: {=IF(C44="","",INDEX(구분표!$I$2:$I$300, MATCH(1,(구분표!$E$2:$E$300='1추일출'!B44)*(구분표!$F$2:$F$300='1추일출'!C44)*(구분표!$G$2:$G$300='1추일출'!A44),0)))} -> 0704
A45: =IFERROR(VLOOKUP($C45,구분표!$A$2:$C$300,2,FALSE),"") -> 보건복지위원회 | B45: =IFERROR(VLOOKUP($C45,구분표!$A$2:$C$300,3,FALSE),"") -> 복지여성실 | C45: 사회복지담당관 | D45: 본예산 | F45: 장애인사회활동지원(자체/지원) -중증장애인 사회활동지원 | G45: 295405 | H45: 295405 | I45: =IF(D45="","",G45-H45) -> 0 | K45: 417664 | L45: =IF(G45=0,H45+J45+K45,G45+J45+K45) -> 713069 | N45: 417664 | O45: =IF(G45=0,H45+M45+N45,G45+M45+N45) -> 713069 | P45: =IF(AND((L45=0),(O45>0)),"O",IF(AND((J45<0),(L45-O45<0)),"O","X")) -> X | Q45: 당초 9개월분만 반영, 7월부터 지원대상 2급에서 3급 확대로 인한 증가된 사업량 반영 | R45: 당초 9개월분만 반영, 7월부터 지원대상 2급에서 3급 확대로 인한 증가된 사업량 반영 | T45: 도비 | V45: 도비 | W45: =IF($V45<>"도비",IF($T45="국도비","직접입력",SUM($J45:$K45)),) -> 0 | X45: =IF($V45="도비",SUM($J45:$K45),SUM($J45:$K45)-$W45) -> 417664 | Y45: =IF(SUM($J45:$K45)=SUM($W45:$X45),"OK","검토") -> OK | AB45: =IF($V45<>"도비",IF($T45="국도비","직접입력",SUM($M45:$N45)),) -> 0 | AC45: =IF($V45="도비",SUM(M45:N45),SUM(M45:N45)-AB45) -> 417664 | AD45: =IF(SUM(M45:N45)=SUM(AB45:AC45),"OK","검토") -> OK | AF45: =IF(V45="","",IF(V45="도비","세입없음","직접입력")) -> 세입없음 | AH45: =IF(AF45="","",COUNTIF($AF$7:$AF$63,AF45)) -> 33 | AI45: =IF(V45="","",IF(AND(V45="도비",AF45="세입없음"),"OK",IF(AND(V45<>"도비",AF45<>""),"OK","@@"))) -> OK | AK45: {=IF(C45="","",INDEX(구분표!$I$2:$I$300, MATCH(1,(구분표!$E$2:$E$300='1추일출'!B45)*(구분표!$F$2:$F$300='1추일출'!C45)*(구분표!$G$2:$G$300='1추일출'!A45),0)))} -> 0708
A46: =IFERROR(VLOOKUP($C46,구분표!$A$2:$C$300,2,FALSE),"") -> 보건복지위원회 | B46: =IFERROR(VLOOKUP($C46,구분표!$A$2:$C$300,3,FALSE),"") -> 보건환경연구원 | C46: 보건환경연구원(총무과) | D46: 1회추경 | E46: 213 | F46: 연구원 신청사 건립사업 추진(자체/직접) -청사 이전·신축 기본계획 용역 | G46: 100000 | H46: 0 | I46: =IF(D46="","",G46-H46) -> 100000 | J46: 0 | K46: 0 | L46: =IF(G46=0,H46+J46+K46,G46+J46+K46) -> 100000 | O46: =IF(G46=0,H46+M46+N46,G46+M46+N46) -> 100000 | P46: =IF(AND((L46=0),(O46>0)),"O",IF(AND((J46<0),(L46-O46<0)),"O","X")) -> X | Q46: 통계목 변경 (연구용역비(207-01) → 시설비(401-01)) | R46: 통계목 변경 (연구용역비(207-01) → 시설비(401-01)) | T46: 도비 | V46: 도비 | W46: =IF($V46<>"도비",IF($T46="국도비","직접입력",SUM($J46:$K46)),) -> 0 | X46: =IF($V46="도비",SUM($J46:$K46),SUM($J46:$K46)-$W46) -> 0 | Y46: =IF(SUM($J46:$K46)=SUM($W46:$X46),"OK","검토") -> OK | AB46: =IF($V46<>"도비",IF($T46="국도비","직접입력",SUM($M46:$N46)),) -> 0 | AC46: =IF($V46="도비",SUM(M46:N46),SUM(M46:N46)-AB46) -> 0 | AD46: =IF(SUM(M46:N46)=SUM(AB46:AC46),"OK","검토") -> OK | AF46: =IF(V46="","",IF(V46="도비","세입없음","직접입력")) -> 세입없음 | AH46: =IF(AF46="","",COUNTIF($AF$7:$AF$63,AF46)) -> 33 | AI46: =IF(V46="","",IF(AND(V46="도비",AF46="세입없음"),"OK",IF(AND(V46<>"도비",AF46<>""),"OK","@@"))) -> OK | AK46: {=IF(C46="","",INDEX(구분표!$I$2:$I$300, MATCH(1,(구분표!$E$2:$E$300='1추일출'!B46)*(구분표!$F$2:$F$300='1추일출'!C46)*(구분표!$G$2:$G$300='1추일출'!A46),0)))} -> 0710
A47: =IFERROR(VLOOKUP($C47,구분표!$A$2:$C$300,2,FALSE),"") -> 보건복지위원회 | B47: =IFERROR(VLOOKUP($C47,구분표!$A$2:$C$300,3,FALSE),"") -> 보건복지국 | C47: 건강증진과 | D47: 신규 | F47: 경기도의료원, 음압병실 등 감염병 치료시설 설치 | I47: =IF(D47="","",G47-H47) -> 0 | L47: =IF(G47=0,H47+J47+K47,G47+J47+K47) -> 0 | N47: 2000000 | O47: =IF(G47=0,H47+M47+N47,G47+M47+N47) -> 2000000 | P47: =IF(AND((L47=0),(O47>0)),"O",IF(AND((J47<0),(L47-O47<0)),"O","X")) -> O | S47: v | T47: 도비 | V47: 도비 | W47: =IF($V47<>"도비",IF($T47="국도비","직접입력",SUM($J47:$K47)),) -> 0 | X47: =IF($V47="도비",SUM($J47:$K47),SUM($J47:$K47)-$W47) -> 0 | Y47: =IF(SUM($J47:$K47)=SUM($W47:$X47),"OK","검토") -> OK | AB47: =IF($V47<>"도비",IF($T47="국도비","직접입력",SUM($M47:$N47)),) -> 0 | AC47: =IF($V47="도비",SUM(M47:N47),SUM(M47:N47)-AB47) -> 2000000 | AD47: =IF(SUM(M47:N47)=SUM(AB47:AC47),"OK","검토") -> OK | AF47: =IF(V47="","",IF(V47="도비","세입없음","직접입력")) -> 세입없음 | AH47: =IF(AF47="","",COUNTIF($AF$7:$AF$63,AF47)) -> 33 | AI47: =IF(V47="","",IF(AND(V47="도비",AF47="세입없음"),"OK",IF(AND(V47<>"도비",AF47<>""),"OK","@@"))) -> OK | AK47: {=IF(C47="","",INDEX(구분표!$I$2:$I$300, MATCH(1,(구분표!$E$2:$E$300='1추일출'!B47)*(구분표!$F$2:$F$300='1추일출'!C47)*(구분표!$G$2:$G$300='1추일출'!A47),0)))} -> 0706
A48: =IFERROR(VLOOKUP($C48,구분표!$A$2:$C$300,2,FALSE),"") | B48: =IFERROR(VLOOKUP($C48,구분표!$A$2:$C$300,3,FALSE),"") | I48: =IF(D48="","",G48-H48) | L48: =IF(G48=0,H48+J48+K48,G48+J48+K48) -> 0 | O48: =IF(G48=0,H48+M48+N48,G48+M48+N48) -> 0 | P48: =IF(AND((L48=0),(O48>0)),"O",IF(AND((J48<0),(L48-O48<0)),"O","X")) -> X | W48: =IF($V48<>"도비",IF($T48="국도비","직접입력",SUM($J48:$K48)),) -> 0 | X48: =IF($V48="도비",SUM($J48:$K48),SUM($J48:$K48)-$W48) -> 0 | Y48: =IF(SUM($J48:$K48)=SUM($W48:$X48),"OK","검토") -> OK | AB48: =IF($V48<>"도비",IF($T48="국도비","직접입력",SUM($M48:$N48)),) -> 0 | AC48: =IF($V48="도비",SUM(M48:N48),SUM(M48:N48)-AB48) -> 0 | AD48: =IF(SUM(M48:N48)=SUM(AB48:AC48),"OK","검토") -> OK | AF48: =IF(V48="","",IF(V48="도비","세입없음","직접입력")) | AH48: =IF(AF48="","",COUNTIF($AF$7:$AF$63,AF48)) | AI48: =IF(V48="","",IF(AND(V48="도비",AF48="세입없음"),"OK",IF(AND(V48<>"도비",AF48<>""),"OK","@@"))) | AK48: {=IF(C48="","",INDEX(구분표!$I$2:$I$300, MATCH(1,(구분표!$E$2:$E$300='1추일출'!B48)*(구분표!$F$2:$F$300='1추일출'!C48)*(구분표!$G$2:$G$300='1추일출'!A48),0)))}
A49: =IFERROR(VLOOKUP($C49,구분표!$A$2:$C$300,2,FALSE),"") | B49: =IFERROR(VLOOKUP($C49,구분표!$A$2:$C$300,3,FALSE),"") | I49: =IF(D49="","",G49-H49) | L49: =IF(G49=0,H49+J49+K49,G49+J49+K49) -> 0 | O49: =IF(G49=0,H49+M49+N49,G49+M49+N49) -> 0 | P49: =IF(AND((L49=0),(O49>0)),"O",IF(AND((J49<0),(L49-O49<0)),"O","X")) -> X | W49: =IF($V49<>"도비",IF($T49="국도비","직접입력",SUM($J49:$K49)),) -> 0 | X49: =IF($V49="도비",SUM($J49:$K49),SUM($J49:$K49)-$W49) -> 0 | Y49: =IF(SUM($J49:$K49)=SUM($W49:$X49),"OK","검토") -> OK | AB49: =IF($V49<>"도비",IF($T49="국도비","직접입력",SUM($M49:$N49)),) -> 0 | AC49: =IF($V49="도비",SUM(M49:N49),SUM(M49:N49)-AB49) -> 0 | AD49: =IF(SUM(M49:N49)=SUM(AB49:AC49),"OK","검토") -> OK | AF49: =IF(V49="","",IF(V49="도비","세입없음","직접입력")) | AH49: =IF(AF49="","",COUNTIF($AF$7:$AF$63,AF49)) | AI49: =IF(V49="","",IF(AND(V49="도비",AF49="세입없음"),"OK",IF(AND(V49<>"도비",AF49<>""),"OK","@@"))) | AK49: {=IF(C49="","",INDEX(구분표!$I$2:$I$300, MATCH(1,(구분표!$E$2:$E$300='1추일출'!B49)*(구분표!$F$2:$F$300='1추일출'!C49)*(구분표!$G$2:$G$300='1추일출'!A49),0)))}
A50: (건설교통위원회) | G50: =SUM(G51:G56) -> 4285000 | H50: =SUM(H51:H56) -> 0 | I50: =SUM(I51:I56) -> 4285000 | J50: =SUM(J51:J56) -> -3843500 | K50: =SUM(K51:K56) -> 0 | L50: =SUM(L51:L56) -> 441500 | M50: =SUM(M51:M56) -> -3843500 | N50: =SUM(N51:N56) -> 196000 | O50: =SUM(O51:O56) -> 637500
A51: =IFERROR(VLOOKUP($C51,구분표!$A$2:$C$300,2,FALSE),"") -> 건설교통위원회 | B51: =IFERROR(VLOOKUP($C51,구분표!$A$2:$C$300,3,FALSE),"") -> 교통국 | C51: 버스정책과 | D51: 1회추경 | E51: 221 | F51: 메르스 확산방지 버스내부 소독제 지원(자체/직접) -메르스 확산 예방 버스 소득제지원 → 감염병 확산방지 버스내부 소독제 지원(자체/직접) -감염병 확산 예방 버스 소득제지원 | G51: 687000 | H51: 0 | I51: =IF(D51="","",G51-H51) -> 687000 | J51: -343500 | L51: =IF(G51=0,H51+J51+K51,G51+J51+K51) -> 343500 | M51: -343500 | O51: =IF(G51=0,H51+M51+N51,G51+M51+N51) -> 343500 | P51: =IF(AND((L51=0),(O51>0)),"O",IF(AND((J51<0),(L51-O51<0)),"O","X")) -> X | Q51: 1. 버스업체 1일 1회 소독비만 지원 1회 도비, 1회 버스업체 자부담 추진 2. 도.시군 소독추진 실태 점검 이행 | R51: 1. 버스업체 1일 1회 소독비만 지원 1회 도비, 1회 버스업체 자부담 추진 2. 도.시군 소독추진 실태 점검 이행 | T51: 도비 | V51: 도비 | W51: =IF($V51<>"도비",IF($T51="국도비","직접입력",SUM($J51:$K51)),) -> 0 | X51: =IF($V51="도비",SUM($J51:$K51),SUM($J51:$K51)-$W51) -> -343500 | Y51: =IF(SUM($J51:$K51)=SUM($W51:$X51),"OK","검토") -> OK | AB51: =IF($V51<>"도비",IF($T51="국도비","직접입력",SUM($M51:$N51)),) -> 0 | AC51: =IF($V51="도비",SUM(M51:N51),SUM(M51:N51)-AB51) -> -343500 | AD51: =IF(SUM(M51:N51)=SUM(AB51:AC51),"OK","검토") -> OK | AF51: =IF(V51="","",IF(V51="도비","세입없음","직접입력")) -> 세입없음 | AH51: =IF(AF51="","",COUNTIF($AF$7:$AF$63,AF51)) -> 33 | AI51: =IF(V51="","",IF(AND(V51="도비",AF51="세입없음"),"OK",IF(AND(V51<>"도비",AF51<>""),"OK","@@"))) -> OK | AK51: {=IF(C51="","",INDEX(구분표!$I$2:$I$300, MATCH(1,(구분표!$E$2:$E$300='1추일출'!B51)*(구분표!$F$2:$F$300='1추일출'!C51)*(구분표!$G$2:$G$300='1추일출'!A51),0)))} -> 0805
A52: =IFERROR(VLOOKUP($C52,구분표!$A$2:$C$300,2,FALSE),"") -> 건설교통위원회 | B52: =IFERROR(VLOOKUP($C52,구분표!$A$2:$C$300,3,FALSE),"") -> 교통국 | C52: 택시정책과 | D52: 1회추경 | E52: 222 | F52: 메르스 확산 방지 택시 내부 소독제 지원(자체/직접) -메르스 확산 예방 택시 소독제지원 → 감염병 확산 방지 택시 내부 소독제 지원(자체/직접) -감염병 확산 예방 택시 소독제지원 | G52: 98000 | H52: 0 | I52: =IF(D52="","",G52-H52) -> 98000 | L52: =IF(G52=0,H52+J52+K52,G52+J52+K52) -> 98000 | O52: =IF(G52=0,H52+M52+N52,G52+M52+N52) -> 98000 | P52: =IF(AND((L52=0),(O52>0)),"O",IF(AND((J52<0),(L52-O52<0)),"O","X")) -> X | Q52: 1. 택시 자체소독 1일 2회 추진당부 1회 도비, 1회 택시업체 자부담추진 2. 도.시군 소독추진 실태 점검 이행 | R52: 1. 택시 자체소독 1일 2회 추진당부 1회 도비, 1회 택시업체 자부담추진 2. 도.시군 소독추진 실태 점검 이행 | T52: 도비 | V52: 도비 | W52: =IF($V52<>"도비",IF($T52="국도비","직접입력",SUM($J52:$K52)),) -> 0 | X52: =IF($V52="도비",SUM($J52:$K52),SUM($J52:$K52)-$W52) -> 0 | Y52: =IF(SUM($J52:$K52)=SUM($W52:$X52),"OK","검토") -> OK | AB52: =IF($V52<>"도비",IF($T52="국도비","직접입력",SUM($M52:$N52)),) -> 0 | AC52: =IF($V52="도비",SUM(M52:N52),SUM(M52:N52)-AB52) -> 0 | AD52: =IF(SUM(M52:N52)=SUM(AB52:AC52),"OK","검토") -> OK | AF52: =IF(V52="","",IF(V52="도비","세입없음","직접입력")) -> 세입없음 | AH52: =IF(AF52="","",COUNTIF($AF$7:$AF$63,AF52)) -> 33 | AI52: =IF(V52="","",IF(AND(V52="도비",AF52="세입없음"),"OK",IF(AND(V52<>"도비",AF52<>""),"OK","@@"))) -> OK | AK52: {=IF(C52="","",INDEX(구분표!$I$2:$I$300, MATCH(1,(구분표!$E$2:$E$300='1추일출'!B52)*(구분표!$F$2:$F$300='1추일출'!C52)*(구분표!$G$2:$G$300='1추일출'!A52),0)))} -> 0807
