Workbook

Sheet 구분표
A2: 실과명 조정 | B2: 위원회명 조정 | C2: 실국명 조정 | E2: 실국명 | F2: 실과명 | G2: 위원회명 | H2: 정렬순서 | I2: 정렬코드
A3: 공보담당관 | B3: 의회운영위원회 | C3: 의회사무처 | E3: 의회사무처 | F3: 공보담당관 | G3: 의회운영위원회 | H3: 1 | I3: 0101
A4: 총무담당관 | B4: 의회운영위원회 | C4: 의회사무처 | E4: 의회사무처 | F4: 총무담당관 | G4: 의회운영위원회 | H4: 2 | I4: 0102
A5: 의정담당관 | B5: 의회운영위원회 | C5: 의회사무처 | E5: 의회사무처 | F5: 의정담당관 | G5: 의회운영위원회 | H5: 3 | I5: 0103
A6: 입법정책담당관 | B6: 의회운영위원회 | C6: 의회사무처 | E6: 의회사무처 | F6: 입법정책담당관 | G6: 의회운영위원회 | H6: 4 | I6: 0104
A7: 예산정책담당관 | B7: 의회운영위원회 | C7: 의회사무처 | E7: 의회사무처 | F7: 예산정책담당관 | G7: 의회운영위원회 | H7: 5 | I7: 0105
A8: 언론협력담당관 | B8: 의회운영위원회 | C8: 대변인 | E8: 대변인 | F8: 언론협력담당관 | G8: 의회운영위원회 | H8: 6 | I8: 0106
A9: 보도기획담당관 | B9: 의회운영위원회 | C9: 대변인 | E9: 대변인 | F9: 보도기획담당관 | G9: 의회운영위원회 | H9: 7 | I9: 0107
A10: 홍보담당관 | B10: 의회운영위원회 | C10: 소통기획관 | E10: 소통기획관 | F10: 홍보담당관 | G10: 의회운영위원회 | H10: 8 | I10: 0108
A11: 소통담당관 | B11: 의회운영위원회 | C11: 소통기획관 | E11: 소통기획관 | F11: 소통담당관 | G11: 의회운영위원회 | H11: 9 | I11: 0109
A12: 연정협력관 | B12: 의회운영위원회 | C12: 연정협력관 | E12: 연정협력관 | F12: 연정협력관 | G12: 의회운영위원회 | H12: 10 | I12: 0110
A13: 대외협력담당관 | B13: 의회운영위원회 | C13: 대외협력담당관 | E13: 대외협력담당관 | F13: 대외협력담당관 | G13: 의회운영위원회 | H13: 11 | I13: 0111
... A202: 도서관정책과 | B202: 여성가족교육협력위원회 | C202: 교육협력국 | E202: 교육협력국 | F202: 도서관정책과 | G202: 여성가족교육협력위원회 | H202: 200 | I202: 1012

Sheet 예결표지(세로)
A5: 2015년도 제2회 일반회계 및 특별회계 추가경정 세입·세출 예산안
A7: 예결위 계수조정 결과
A20: 예산결산특별위원회

Sheet 예결표지(가로)
A3: 2015년도 제2회 일반회계 및 특별회계 추가경정 세입·세출 예산안
A5: 예결위 계수조정 결과
A14: 예산결산특별위원회

Sheet 추경표지
A4: 예결위 계수조정 결과
B6: - 2015년도 제2회 일반회계 및 특별회계 추가경정 세입·세출 예산안
A12: 예산결산특별위원회

Sheet 2추검증
A1: 제2회 추경 일반회계 검증 | H1: 2추 예비비 | J1: 조정액 | K1: =IFERROR(INDEX('2추일출'!AB6:AB294,MATCH("*예비비*",'2추일출'!F6:F294,0)),0) -> 12249889 | L1: 조정잔액 | M1: =I1+K1 -> 12249889
M2: (단위 : 천원)
A3: 구분 | B3: 상 임 위 | H3: 구분 | I3: 예 결 위
B4: 세입 | C4: 검증 | D4: 세출 | E4: 검증 | F4: 차액 | I4: 세입 | J4: 검증 | K4: 세출 | L4: 검증 | M4: 차액
A5: 전체 총계 | B5: =SUM(B6:B13)/2 -> 0 | C5: =IF(B5=SUM('2추일입'!J6:K6),"OK","@@") -> @@ | D5: =SUM(D6:D13)/2 -> -7201170 | E5: =IF(D5=SUM('2추일출'!J6:K6),"OK","@@") -> @@ | H5: 전체 총계 | I5: =SUM(I6:I13)/2 -> 0 | J5: =IF(I5=SUM('2추일입'!M6:N6),"OK","@@") -> @@ | K5: =SUM(K6:K13)/2 -> 3355378 | L5: =IF(K5=SUM('2추일출'!M6:N6),"OK","@@") -> @@
A6: 자체 계 | B6: =SUM(B7:B8) -> 0 | C6: =IF(B6='2추일입'!W6,"OK","@@") -> OK | D6: =SUM(D7:D8) -> -6169051 | E6: =IF(D6='2추일출'!W6,"OK","@@") -> @@ | H6: 자체 계 | I6: =SUM(I7:I8) -> 0 | J6: =IF(I6='2추일입'!AB6,"OK","@@") -> OK | K6: =SUM(K7:K8) -> 1676113 | L6: =IF(K6='2추일출'!AB6,"OK","@@") -> @@
A7: 자체 도비 | B7: =SUMIFS('2추일입'!W6:W60,'2추일입'!U6:U60,"도비") -> 0 | D7: =SUMIFS('2추일출'!$W$6:$W$294,'2추일출'!$U$6:$U$294,"도비") -> -5136932 | H7: 자체 도비 | I7: =SUMIFS('2추일입'!AB6:AB60,'2추일입'!Z6:Z60,"국비") -> 0 | K7: =SUMIFS('2추일출'!$AB$6:$AB$294,'2추일출'!$Z$6:$Z$294,"도비") -> -3152
A8: 의존 매칭 도비 | B8: =SUMIFS('2추일입'!W6:W60,'2추일입'!U6:U60,"국비")+SUMIFS('2추일입'!W6:W60,'2추일입'!U6:U60,"지특")+SUMIFS('2추일입'!W6:W60,'2추일입'!U6:U60,"기금")+SUMIFS('2추일입'!W6:W60,'2추일입'!U6:U60,"특교") -> 0 | D8: =SUMIFS('2추일출'!$W$6:$W$294,'2추일출'!$U$6:$U$294,"국비")+SUMIFS('2추일출'!$W$6:$W$294,'2추일출'!$U$6:$U$294,"지특")+SUMIFS('2추일출'!$W$6:$W$294,'2추일출'!$U$6:$U$294,"기금")+SUMIFS('2추일출'!$W$6:$W$294,'2추일출'!$U$6:$U$294,"특교") -> -1032119 | H8: 의존 매칭 도비 | I8: =SUMIFS('2추일입'!AB6:AB60,'2추일입'!Z6:Z60,"국비")+SUMIFS('2추일입'!AB6:AB60,'2추일입'!Z6:Z60,"지특")+SUMIFS('2추일입'!AB6:AB60,'2추일입'!Z6:Z60,"기금")+SUMIFS('2추일입'!AB6:AB60,'2추일입'!Z6:Z60,"특교") -> 0 | K8: =SUMIFS('2추일출'!$AB$6:$AB$294,'2추일출'!$Z$6:$Z$294,"국비")+SUMIFS('2추일출'!$AB$6:$AB$294,'2추일출'!$Z$6:$Z$294,"지특")+SUMIFS('2추일출'!$AB$6:$AB$294,'2추일출'!$Z$6:$Z$294,"기금")+SUMIFS('2추일출'!$AB$6:$AB$294,'2추일출'!$Z$6:$Z$294,"특교") -> 1679265
A9: 의존 계 | B9: =SUM(B10:B13) -> 0 | C9: =IF(B9='2추일입'!V6,"OK","@@") -> @@ | D9: =SUM(D10:D13) -> -1032119 | E9: =IF(D9='2추일출'!V6,"OK","@@") -> @@ | F9: =SUM(F10:F13) -> -1032119 | H9: 의존 계 | I9: =SUM(I10:I13) -> 0 | J9: =IF(I9='2추일입'!V6,"OK","@@") -> @@ | K9: =SUM(K10:K13) -> 1679265 | L9: =IF(K9='2추일출'!AA6,"OK","@@") -> @@ | M9: =SUM(M10:M13) -> 1679265
A10: 국비 | B10: =SUMIFS('2추일입'!$W$6:$W$60,'2추일입'!$U$6:$U$60,'2추검증'!A10) -> 0 | D10: =SUMIFS('2추일출'!$W$6:$W$294,'2추일출'!$U$6:$U$294,'2추검증'!A10) -> -1065495 | F10: =D10-B10 -> -1065495 | H10: 국비 | I10: =SUMIFS('2추일입'!$AB$6:$AB$60,'2추일입'!$Z$6:$Z$60,'2추검증'!H10) -> 0 | K10: =SUMIFS('2추일출'!$AB$6:$AB$294,'2추일출'!$Z$6:$Z$294,'2추검증'!H10) -> -762777 | M10: =K10-I10 -> -762777
A11: 지특 | B11: =SUMIFS('2추일입'!$W$6:$W$60,'2추일입'!$U$6:$U$60,'2추검증'!A11) -> 0 | D11: =SUMIFS('2추일출'!$W$6:$W$294,'2추일출'!$U$6:$U$294,'2추검증'!A11) -> 0 | F11: =D11-B11 -> 0 | H11: 지특 | I11: =SUMIFS('2추일입'!$AB$6:$AB$60,'2추일입'!$Z$6:$Z$60,'2추검증'!H11) -> 0 | K11: =SUMIFS('2추일출'!$AB$6:$AB$294,'2추일출'!$Z$6:$Z$294,'2추검증'!H11) -> 2490000 | M11: =K11-I11 -> 2490000
A12: 기금 | B12: =SUMIFS('2추일입'!$W$6:$W$60,'2추일입'!$U$6:$U$60,'2추검증'!A12) -> 0 | D12: =SUMIFS('2추일출'!$W$6:$W$294,'2추일출'!$U$6:$U$294,'2추검증'!A12) -> 33376 | F12: =D12-B12 -> 33376 | H12: 기금 | I12: =SUMIFS('2추일입'!$AB$6:$AB$60,'2추일입'!$Z$6:$Z$60,'2추검증'!H12) -> 0 | K12: =SUMIFS('2추일출'!$AB$6:$AB$294,'2추일출'!$Z$6:$Z$294,'2추검증'!H12) -> -47958 | M12: =K12-I12 -> -47958
A13: 특교 | B13: =SUMIFS('2추일입'!$W$6:$W$60,'2추일입'!$U$6:$U$60,'2추검증'!A13) -> 0 | D13: =SUMIFS('2추일출'!$W$6:$W$294,'2추일출'!$U$6:$U$294,'2추검증'!A13) -> 0 | F13: =D13-B13 -> 0 | H13: 특교 | I13: =SUMIFS('2추일입'!$AB$6:$AB$60,'2추일입'!$Z$6:$Z$60,'2추검증'!H13) -> 0 | K13: =SUMIFS('2추일출'!$AB$6:$AB$294,'2추일출'!$Z$6:$Z$294,'2추검증'!H13) -> 0 | M13: =K13-I13 -> 0

Sheet 2추총괄표
A1: 2015년도 제2회 추경 일반 및 특별회계 세입·세출 예산안(전체예산총괄)
A3: □ 총 괄 | C3: 세입예산 증감 | D3: =SUM(C7:D7) -> 19824877 | E3: 세출예산증감 | F3: =SUM(E7:F7) -> 19824877
E4: ※ 예비비 증감 | G4: (단위 : 천원)
A5: 구 분 | B5: 집행부제출(안) | C5: 세입예산(안) | E5: 세출예산(안) | G5: 수정예산(안)
C6: 감 액 | D6: 증 액 | E6: 감 액 | F6: 증 액
A7: 합 계 | B7: =SUM(B8:B17) -> 21325237843 | C7: =SUM(C8:C17) -> -11857170 | D7: =SUM(D8:D17) -> 31682047 | E7: =SUM(E8:E17) -> -74752271 | F7: =SUM(F8:F17) -> 94577148 | G7: =SUM(G8:G17) -> 21345062720
A8: 의회운영위원회 | B8: =B31 -> 52731770 | C8: =SUMIFS('2추일입'!$M$6:$M$60,'2추일입'!$A$6:$A$60,'2추총괄표'!$A8)+SUMIFS('2추특입'!$M$6:$M$100,'2추특입'!$A$6:$A$100,'2추총괄표'!$A8) -> 0 | D8: =SUMIFS('2추일입'!$N$6:$N$60,'2추일입'!$A$6:$A$60,'2추총괄표'!$A8)+SUMIFS('2추특입'!$N$6:$N$100,'2추특입'!$A$6:$A$100,'2추총괄표'!$A8) -> 0 | E8: =SUMIFS('2추일출'!M$6:M$294,'2추일출'!$A$6:$A$294,'2추총괄표'!$A8)+SUMIFS('2추특출'!M$6:M$100,'2추특출'!$A$6:$A$100,'2추총괄표'!$A8) -> -2165000 | F8: =SUMIFS('2추일출'!N$6:N$294,'2추일출'!$A$6:$A$294,'2추총괄표'!$A8)+SUMIFS('2추특출'!N$6:N$100,'2추특출'!$A$6:$A$100,'2추총괄표'!$A8) -> 819700 | G8: =B8+E8+F8 -> 51386470
A9: 기획재정위원회 | B9: =B32 -> 6565707178 | C9: =SUMIFS('2추일입'!$M$6:$M$60,'2추일입'!$A$6:$A$60,'2추총괄표'!$A9)+SUMIFS('2추특입'!$M$6:$M$100,'2추특입'!$A$6:$A$100,'2추총괄표'!$A9) -> 0 | D9: =SUMIFS('2추일입'!$N$6:$N$60,'2추일입'!$A$6:$A$60,'2추총괄표'!$A9)+SUMIFS('2추특입'!$N$6:$N$100,'2추특입'!$A$6:$A$100,'2추총괄표'!$A9) -> 0 | E9: =SUMIFS('2추일출'!M$6:M$294,'2추일출'!$A$6:$A$294,'2추총괄표'!$A9)+SUMIFS('2추특출'!M$6:M$100,'2추특출'!$A$6:$A$100,'2추총괄표'!$A9) -> -30855000 | F9: =SUMIFS('2추일출'!N$6:N$294,'2추일출'!$A$6:$A$294,'2추총괄표'!$A9)+SUMIFS('2추특출'!N$6:N$100,'2추특출'!$A$6:$A$100,'2추총괄표'!$A9) -> 14449889 | G9: =B9+E9+F9 -> 6549302067
A10: 경제과학기술위원회 | B10: =B33 -> 585316491 | C10: =SUMIFS('2추일입'!$M$6:$M$60,'2추일입'!$A$6:$A$60,'2추총괄표'!$A10)+SUMIFS('2추특입'!$M$6:$M$100,'2추특입'!$A$6:$A$100,'2추총괄표'!$A10) -> 0 | D10: =SUMIFS('2추일입'!$N$6:$N$60,'2추일입'!$A$6:$A$60,'2추총괄표'!$A10)+SUMIFS('2추특입'!$N$6:$N$100,'2추특입'!$A$6:$A$100,'2추총괄표'!$A10) -> 600000 | E10: =SUMIFS('2추일출'!M$6:M$294,'2추일출'!$A$6:$A$294,'2추총괄표'!$A10)+SUMIFS('2추특출'!M$6:M$100,'2추특출'!$A$6:$A$100,'2추총괄표'!$A10) -> -1420000 | F10: =SUMIFS('2추일출'!N$6:N$294,'2추일출'!$A$6:$A$294,'2추총괄표'!$A10)+SUMIFS('2추특출'!N$6:N$100,'2추특출'!$A$6:$A$100,'2추총괄표'!$A10) -> 3100000 | G10: =B10+E10+F10 -> 586996491
A11: 안전행정위원회 | B11: =B34 -> 1455931660 | C11: =SUMIFS('2추일입'!$M$6:$M$60,'2추일입'!$A$6:$A$60,'2추총괄표'!$A11)+SUMIFS('2추특입'!$M$6:$M$100,'2추특입'!$A$6:$A$100,'2추총괄표'!$A11) -> 0 | D11: =SUMIFS('2추일입'!$N$6:$N$60,'2추일입'!$A$6:$A$60,'2추총괄표'!$A11)+SUMIFS('2추특입'!$N$6:$N$100,'2추특입'!$A$6:$A$100,'2추총괄표'!$A11) -> 0 | E11: =SUMIFS('2추일출'!M$6:M$294,'2추일출'!$A$6:$A$294,'2추총괄표'!$A11)+SUMIFS('2추특출'!M$6:M$100,'2추특출'!$A$6:$A$100,'2추총괄표'!$A11) -> -340000 | F11: =SUMIFS('2추일출'!N$6:N$294,'2추일출'!$A$6:$A$294,'2추총괄표'!$A11)+SUMIFS('2추특출'!N$6:N$100,'2추특출'!$A$6:$A$100,'2추총괄표'!$A11) -> 4419000 | G11: =B11+E11+F11 -> 1460010660
A12: 문화체육관광위원회 | B12: =B35 -> 387718085 | C12: =SUMIFS('2추일입'!$M$6:$M$60,'2추일입'!$A$6:$A$60,'2추총괄표'!$A12)+SUMIFS('2추특입'!$M$6:$M$100,'2추특입'!$A$6:$A$100,'2추총괄표'!$A12) -> 0 | D12: =SUMIFS('2추일입'!$N$6:$N$60,'2추일입'!$A$6:$A$60,'2추총괄표'!$A12)+SUMIFS('2추특입'!$N$6:$N$100,'2추특입'!$A$6:$A$100,'2추총괄표'!$A12) -> 3925000 | E12: =SUMIFS('2추일출'!M$6:M$294,'2추일출'!$A$6:$A$294,'2추총괄표'!$A12)+SUMIFS('2추특출'!M$6:M$100,'2추특출'!$A$6:$A$100,'2추총괄표'!$A12) -> -3280000 | F12: =SUMIFS('2추일출'!N$6:N$294,'2추일출'!$A$6:$A$294,'2추총괄표'!$A12)+SUMIFS('2추특출'!N$6:N$100,'2추특출'!$A$6:$A$100,'2추총괄표'!$A12) -> 8895000 | G12: =B12+E12+F12 -> 393333085
A13: 농정해양위원회 | B13: =B36 -> 517279817 | C13: =SUMIFS('2추일입'!$M$6:$M$60,'2추일입'!$A$6:$A$60,'2추총괄표'!$A13)+SUMIFS('2추특입'!$M$6:$M$100,'2추특입'!$A$6:$A$100,'2추총괄표'!$A13) -> -3152 | D13: =SUMIFS('2추일입'!$N$6:$N$60,'2추일입'!$A$6:$A$60,'2추총괄표'!$A13)+SUMIFS('2추특입'!$N$6:$N$100,'2추특입'!$A$6:$A$100,'2추총괄표'!$A13) -> 6314400 | E13: =SUMIFS('2추일출'!M$6:M$294,'2추일출'!$A$6:$A$294,'2추총괄표'!$A13)+SUMIFS('2추특출'!M$6:M$100,'2추특출'!$A$6:$A$100,'2추총괄표'!$A13) -> -815219 | F13: =SUMIFS('2추일출'!N$6:N$294,'2추일출'!$A$6:$A$294,'2추총괄표'!$A13)+SUMIFS('2추특출'!N$6:N$100,'2추특출'!$A$6:$A$100,'2추총괄표'!$A13) -> 10344710 | G13: =B13+E13+F13 -> 526809308
A14: 보건복지위원회 | B14: =B37 -> 3790839170 | C14: =SUMIFS('2추일입'!$M$6:$M$60,'2추일입'!$A$6:$A$60,'2추총괄표'!$A14)+SUMIFS('2추특입'!$M$6:$M$100,'2추특입'!$A$6:$A$100,'2추총괄표'!$A14) -> -4797190 | D14: =SUMIFS('2추일입'!$N$6:$N$60,'2추일입'!$A$6:$A$60,'2추총괄표'!$A14)+SUMIFS('2추특입'!$N$6:$N$100,'2추특입'!$A$6:$A$100,'2추총괄표'!$A14) -> 3247216 | E14: =SUMIFS('2추일출'!M$6:M$294,'2추일출'!$A$6:$A$294,'2추총괄표'!$A14)+SUMIFS('2추특출'!M$6:M$100,'2추특출'!$A$6:$A$100,'2추총괄표'!$A14) -> -7066850 | F14: =SUMIFS('2추일출'!N$6:N$294,'2추일출'!$A$6:$A$294,'2추총괄표'!$A14)+SUMIFS('2추특출'!N$6:N$100,'2추특출'!$A$6:$A$100,'2추총괄표'!$A14) -> 7340592 | G14: =B14+E14+F14 -> 3791112912
A15: 건설교통위원회 | B15: =B38 -> 1656739971 | C15: =SUMIFS('2추일입'!$M$6:$M$60,'2추일입'!$A$6:$A$60,'2추총괄표'!$A15)+SUMIFS('2추특입'!$M$6:$M$100,'2추특입'!$A$6:$A$100,'2추총괄표'!$A15) -> 0 | D15: =SUMIFS('2추일입'!$N$6:$N$60,'2추일입'!$A$6:$A$60,'2추총괄표'!$A15)+SUMIFS('2추특입'!$N$6:$N$100,'2추특입'!$A$6:$A$100,'2추총괄표'!$A15) -> 0 | E15: =SUMIFS('2추일출'!M$6:M$294,'2추일출'!$A$6:$A$294,'2추총괄표'!$A15)+SUMIFS('2추특출'!M$6:M$100,'2추특출'!$A$6:$A$100,'2추총괄표'!$A15) -> -17900000 | F15: =SUMIFS('2추일출'!N$6:N$294,'2추일출'!$A$6:$A$294,'2추총괄표'!$A15)+SUMIFS('2추특출'!N$6:N$100,'2추특출'!$A$6:$A$100,'2추총괄표'!$A15) -> 13490000 | G15: =B15+E15+F15 -> 1652329971
A16: 도시환경위원회 | B16: =B39 -> 1141757097 | C16: =SUMIFS('2추일입'!$M$6:$M$60,'2추일입'!$A$6:$A$60,'2추총괄표'!$A16)+SUMIFS('2추특입'!$M$6:$M$100,'2추특입'!$A$6:$A$100,'2추총괄표'!$A16) -> -6902000 | D16: =SUMIFS('2추일입'!$N$6:$N$60,'2추일입'!$A$6:$A$60,'2추총괄표'!$A16)+SUMIFS('2추특입'!$N$6:$N$100,'2추특입'!$A$6:$A$100,'2추총괄표'!$A16) -> 16673000 | E16: =SUMIFS('2추일출'!M$6:M$294,'2추일출'!$A$6:$A$294,'2추총괄표'!$A16)+SUMIFS('2추특출'!M$6:M$100,'2추특출'!$A$6:$A$100,'2추총괄표'!$A16) -> -9705000 | F16: =SUMIFS('2추일출'!N$6:N$294,'2추일출'!$A$6:$A$294,'2추총괄표'!$A16)+SUMIFS('2추특출'!N$6:N$100,'2추특출'!$A$6:$A$100,'2추총괄표'!$A16) -> 24295392 | G16: =B16+E16+F16 -> 1156347489
A17: 여성가족교육협력위원회 | B17: =B40 -> 5171216604 | C17: =SUMIFS('2추일입'!$M$6:$M$60,'2추일입'!$A$6:$A$60,'2추총괄표'!$A17)+SUMIFS('2추특입'!$M$6:$M$100,'2추특입'!$A$6:$A$100,'2추총괄표'!$A17) -> -154828 | D17: =SUMIFS('2추일입'!$N$6:$N$60,'2추일입'!$A$6:$A$60,'2추총괄표'!$A17)+SUMIFS('2추특입'!$N$6:$N$100,'2추특입'!$A$6:$A$100,'2추총괄표'!$A17) -> 922431 | E17: =SUMIFS('2추일출'!M$6:M$294,'2추일출'!$A$6:$A$294,'2추총괄표'!$A17)+SUMIFS('2추특출'!M$6:M$100,'2추특출'!$A$6:$A$100,'2추총괄표'!$A17) -> -1205202 | F17: =SUMIFS('2추일출'!N$6:N$294,'2추일출'!$A$6:$A$294,'2추총괄표'!$A17)+SUMIFS('2추특출'!N$6:N$100,'2추특출'!$A$6:$A$100,'2추총괄표'!$A17) -> 7422865 | G17: =B17+E17+F17 -> 5177434267
A19: □ 회계별 예산 총 규모
G20: (단위 : 천원)
A21: 구 분 | B21: 집행부제출(안) | C21: 세입예산(안) | E21: 세출예산(안) | G21: 수정예산(안)
C22: 감 액 | D22: 증 액 | E22: 감 액 | F22: 증 액
A23: 합 계 | B23: =SUM(B24:B25) -> 21325237843 | C23: =SUM(C24:C25) -> -11857170 | D23: =SUM(D24:D25) -> 31682047 | E23: =SUM(E24:E25) -> -74752271 | F23: =SUM(F24:F25) -> 94577148 | G23: =SUM(G24:G25) -> 21345062720
A24: 일반회계 | B24: =SUM(D30) -> 17312490734 | C24: ='2추일입'!M6 -> -11857170 | D24: ='2추일입'!N6 -> 31682047 | E24: ='2추일출'!M6 -> -74682271 | F24: ='2추일출'!N6 -> 94507148 | G24: =B24+E24+F24 -> 17332315611
A25: 특별회계 | B25: =SUM(E30+F30) -> 4012747109 | C25: ='2추특입'!M6 -> 0 | D25: ='2추특입'!N6 -> 0 | E25: ='2추특출'!M6 -> -70000 | F25: ='2추특출'!N6 -> 70000 | G25: =B25+E25+F25 -> 4012747109
A28: ※ 회계별, 위원회별 집행부제출안
A29: 위원회명 | B29: 합계 | C29: 일반+기타 | D29: 일반회계 | E29: 기타특별회계 | F29: 공기업특별회계
A30: 합계 | B30: =SUM(B31:B40) -> 21325237843 | C30: =SUM(C31:C40) -> 18609741142 | D30: =SUM(D31:D40) -> 17312490734 | E30: =SUM(E31:E40) -> 1297250408 | F30: =SUM(F31:F40) -> 2715496701
A31: 의회운영위원회 | B31: =SUM(D31+E31+F31) -> 52731770 | C31: =SUM(D31:E31) -> 52731770 | D31: 52731770
A32: 기획재정위원회 | B32: =SUM(D32+E32+F32) -> 6565707178 | C32: =SUM(D32:E32) -> 4269232523 | D32: 4244504923 | E32: 24727600 | F32: 2296474655
A33: 경제과학기술위원회 | B33: =SUM(D33+E33+F33) -> 585316491 | C33: =SUM(D33:E33) -> 284598678 | D33: 284598678 | F33: 300717813
A34: 안전행정위원회 | B34: =SUM(D34+E34+F34) -> 1455931660 | C34: =SUM(D34:E34) -> 1455931660 | D34: 1455931660
A35: 문화체육관광위원회 | B35: =SUM(D35+E35+F35) -> 387718085 | C35: =SUM(D35:E35) -> 302413852 | D35: 302413852 | F35: 85304233
A36: 농정해양위원회 | B36: =SUM(D36+E36+F36) -> 517279817 | C36: =SUM(D36:E36) -> 517279817 | D36: 517279817
A37: 보건복지위원회 | B37: =SUM(D37+E37+F37) -> 3790839170 | C37: =SUM(D37:E37) -> 3790839170 | D37: 2897988328 | E37: 892850842
A38: 건설교통위원회 | B38: =SUM(D38+E38+F38) -> 1656739971 | C38: =SUM(D38:E38) -> 1656739971 | D38: 1517945766 | E38: 138794205
A39: 도시환경위원회 | B39: =SUM(D39+E39+F39) -> 1141757097 | C39: =SUM(D39:E39) -> 1108757097 | D39: 1089770368 | E39: 18986729 | F39: 33000000
A40: 여상가족교육협력위원회 | B40: =SUM(D40+E40+F40) -> 5171216604 | C40: =SUM(D40:E40) -> 5171216604 | D40: 4949325572 | E40: 221891032
A42: 예비비

Sheet 2추총괄표(실국)
A1: 2015년도 제2회 추경 일반 및 특별회계 세입·세출 예산안(전체예산총괄)
A2: □ 총괄(실국별)
D3: =SUM(C6:D6) -> 19824877 | F3: =SUM(E6:F6) -> 19824877 | G3: (단위 : 천원) | I3: (일반회계) | P3: (특별회계)
A4: 구 분 | B4: 집행부제출(안) | C4: 세입예산(안) | E4: 세출예산(안) | G4: 수정예산(안) | I4: 집행부제출(안) | J4: 세입예산(안) | L4: 세출예산(안) | N4: 수정예산(안) | P4: 집행부제출(안) | Q4: 세입예산(안) | S4: 세출예산(안) | U4: 수정예산(안)
C5: 감 액 | D5: 증 액 | E5: 감 액 | F5: 증 액 | J5: 감 액 | K5: 증 액 | L5: 감 액 | M5: 증 액 | Q5: 감 액 | R5: 증 액 | S5: 감 액 | T5: 증 액
A6: 합계 | B6: =SUM(B7:B36) -> 0 | C6: =SUM(C7:C36) -> -11857170 | D6: =SUM(D7:D36) -> 31682047 | E6: =SUM(E7:E36) -> -74752271 | F6: =SUM(F7:F36) -> 94577148 | G6: =SUM(G7:G36) -> 19824877 | I6: =SUM(I7:I36) -> 0 | J6: =SUM(J7:J36) -> -11857170 | K6: =SUM(K7:K36) -> 31682047 | L6: =SUM(L7:L36) -> -74682271 | M6: =SUM(M7:M36) -> 94507148 | N6: =SUM(N7:N36) -> 19824877 | P6: =SUM(P7:P36) -> 0 | Q6: =SUM(Q7:Q36) -> 0 | R6: =SUM(R7:R36) -> 0 | S6: =SUM(S7:S36) -> -70000 | T6: =SUM(T7:T36) -> 70000 | U6: =SUM(U7:U36) -> 0
A7: 감사관 | B7: =I7+P7 -> 0 | C7: =J7+Q7 -> 0 | D7: =K7+R7 -> 0 | E7: =L7+S7 -> 0 | F7: =M7+T7 -> 0 | G7: =B7+E7+F7 -> 0 | I7: =D48 -> 0 | J7: =SUMIFS('2추일입'!M$6:M$60,'2추일입'!$B$6:$B$60,'2추총괄표(실국)'!$A7) -> 0 | K7: =SUMIFS('2추일입'!N$6:N$60,'2추일입'!$B$6:$B$60,'2추총괄표(실국)'!$A7) -> 0 | L7: =SUMIFS('2추일출'!M$6:M$294,'2추일출'!$B$6:$B$294,'2추총괄표(실국)'!$A7) -> 0 | M7: =SUMIFS('2추일출'!N$6:N$294,'2추일출'!$B$6:$B$294,'2추총괄표(실국)'!$A7) -> 0 | N7: =I7+L7+M7 -> 0 | P7: =E48 -> 0 | Q7: =SUMIFS('2추특입'!M$6:M$50,'2추특입'!$B$6:$B$50,'2추총괄표(실국)'!$A7) -> 0 | R7: =SUMIFS('2추특입'!N$6:N$50,'2추특입'!$B$6:$B$50,'2추총괄표(실국)'!$A7) -> 0 | S7: =SUMIFS('2추특출'!M$6:M$40,'2추특출'!$B$6:$B$40,'2추총괄표(실국)'!$A7) -> 0 | T7: =SUMIFS('2추특출'!N$6:N$40,'2추특출'!$B$6:$B$40,'2추총괄표(실국)'!$A7) -> 0 | U7: =P7+S7+T7 -> 0
A8: 기획조정실 | B8: =I8+P8 -> 0 | C8: =J8+Q8 -> 0 | D8: =K8+R8 -> 0 | E8: =L8+S8 -> -30255000 | F8: =M8+T8 -> 13399889 | G8: =B8+E8+F8 -> -16855111 | I8: =D49 -> 0 | J8: =SUMIFS('2추일입'!M$6:M$60,'2추일입'!$B$6:$B$60,'2추총괄표(실국)'!$A8) -> 0 | K8: =SUMIFS('2추일입'!N$6:N$60,'2추일입'!$B$6:$B$60,'2추총괄표(실국)'!$A8) -> 0 | L8: =SUMIFS('2추일출'!M$6:M$294,'2추일출'!$B$6:$B$294,'2추총괄표(실국)'!$A8) -> -30255000 | M8: =SUMIFS('2추일출'!N$6:N$294,'2추일출'!$B$6:$B$294,'2추총괄표(실국)'!$A8) -> 13399889 | N8: =I8+L8+M8 -> -16855111 | P8: =E49 -> 0 | Q8: =SUMIFS('2추특입'!M$6:M$50,'2추특입'!$B$6:$B$50,'2추총괄표(실국)'!$A8) -> 0 | R8: =SUMIFS('2추특입'!N$6:N$50,'2추특입'!$B$6:$B$50,'2추총괄표(실국)'!$A8) -> 0 | S8: =SUMIFS('2추특출'!M$6:M$40,'2추특출'!$B$6:$B$40,'2추총괄표(실국)'!$A8) -> 0 | T8: =SUMIFS('2추특출'!N$6:N$40,'2추특출'!$B$6:$B$40,'2추총괄표(실국)'!$A8) -> 0 | U8: =P8+S8+T8 -> 0
A9: 도시주택실 | B9: =I9+P9 -> 0 | C9: =J9+Q9 -> 0 | D9: =K9+R9 -> 0 | E9: =L9+S9 -> 0 | F9: =M9+T9 -> 200000 | G9: =B9+E9+F9 -> 200000 | I9: =D50 -> 0 | J9: =SUMIFS('2추일입'!M$6:M$60,'2추일입'!$B$6:$B$60,'2추총괄표(실국)'!$A9) -> 0 | K9: =SUMIFS('2추일입'!N$6:N$60,'2추일입'!$B$6:$B$60,'2추총괄표(실국)'!$A9) -> 0 | L9: =SUMIFS('2추일출'!M$6:M$294,'2추일출'!$B$6:$B$294,'2추총괄표(실국)'!$A9) -> 0 | M9: =SUMIFS('2추일출'!N$6:N$294,'2추일출'!$B$6:$B$294,'2추총괄표(실국)'!$A9) -> 200000 | N9: =I9+L9+M9 -> 200000 | P9: =E50 -> 0 | Q9: =SUMIFS('2추특입'!M$6:M$50,'2추특입'!$B$6:$B$50,'2추총괄표(실국)'!$A9) -> 0 | R9: =SUMIFS('2추특입'!N$6:N$50,'2추특입'!$B$6:$B$50,'2추총괄표(실국)'!$A9) -> 0 | S9: =SUMIFS('2추특출'!M$6:M$40,'2추특출'!$B$6:$B$40,'2추총괄표(실국)'!$A9) -> 0 | T9: =SUMIFS('2추특출'!N$6:N$40,'2추특출'!$B$6:$B$40,'2추총괄표(실국)'!$A9) -> 0 | U9: =P9+S9+T9 -> 0
A10: 자치행정국 | B10: =I10+P10 -> 0 | C10: =J10+Q10 -> 0 | D10: =K10+R10 -> 0 | E10: =L10+S10 -> -340000 | F10: =M10+T10 -> 40000 | G10: =B10+E10+F10 -> -300000 | I10: =D51 -> 0 | J10: =SUMIFS('2추일입'!M$6:M$60,'2추일입'!$B$6:$B$60,'2추총괄표(실국)'!$A10) -> 0 | K10: =SUMIFS('2추일입'!N$6:N$60,'2추일입'!$B$6:$B$60,'2추총괄표(실국)'!$A10) -> 0 | L10: =SUMIFS('2추일출'!M$6:M$294,'2추일출'!$B$6:$B$294,'2추총괄표(실국)'!$A10) -> -340000 | M10: =SUMIFS('2추일출'!N$6:N$294,'2추일출'!$B$6:$B$294,'2추총괄표(실국)'!$A10) -> 40000 | N10: =I10+L10+M10 -> -300000 | P10: =E51 -> 0 | Q10: =SUMIFS('2추특입'!M$6:M$50,'2추특입'!$B$6:$B$50,'2추총괄표(실국)'!$A10) -> 0 | R10: =SUMIFS('2추특입'!N$6:N$50,'2추특입'!$B$6:$B$50,'2추총괄표(실국)'!$A10) -> 0 | S10: =SUMIFS('2추특출'!M$6:M$40,'2추특출'!$B$6:$B$40,'2추총괄표(실국)'!$A10) -> 0 | T10: =SUMIFS('2추특출'!N$6:N$40,'2추특출'!$B$6:$B$40,'2추총괄표(실국)'!$A10) -> 0 | U10: =P10+S10+T10 -> 0
A11: 교육협력국 | B11: =I11+P11 -> 0 | C11: =J11+Q11 -> 0 | D11: =K11+R11 -> 0 | E11: =L11+S11 -> -250000 | F11: =M11+T11 -> 4126020 | G11: =B11+E11+F11 -> 3876020 | I11: =D52 -> 0 | J11: =SUMIFS('2추일입'!M$6:M$60,'2추일입'!$B$6:$B$60,'2추총괄표(실국)'!$A11) -> 0 | K11: =SUMIFS('2추일입'!N$6:N$60,'2추일입'!$B$6:$B$60,'2추총괄표(실국)'!$A11) -> 0 | L11: =SUMIFS('2추일출'!M$6:M$294,'2추일출'!$B$6:$B$294,'2추총괄표(실국)'!$A11) -> -250000 | M11: =SUMIFS('2추일출'!N$6:N$294,'2추일출'!$B$6:$B$294,'2추총괄표(실국)'!$A11) -> 4126020 | N11: =I11+L11+M11 -> 3876020 | P11: =E52 -> 0 | Q11: =SUMIFS('2추특입'!M$6:M$50,'2추특입'!$B$6:$B$50,'2추총괄표(실국)'!$A11) -> 0 | R11: =SUMIFS('2추특입'!N$6:N$50,'2추특입'!$B$6:$B$50,'2추총괄표(실국)'!$A11) -> 0 | S11: =SUMIFS('2추특출'!M$6:M$40,'2추특출'!$B$6:$B$40,'2추총괄표(실국)'!$A11) -> 0 | T11: =SUMIFS('2추특출'!N$6:N$40,'2추특출'!$B$6:$B$40,'2추총괄표(실국)'!$A11) -> 0 | U11: =P11+S11+T11 -> 0
A12: 문화체육관광국 | B12: =I12+P12 -> 0 | C12: =J12+Q12 -> 0 | D12: =K12+R12 -> 3925000 | E12: =L12+S12 -> -3280000 | F12: =M12+T12 -> 8895000 | G12: =B12+E12+F12 -> 5615000 | I12: =D53 -> 0 | J12: =SUMIFS('2추일입'!M$6:M$60,'2추일입'!$B$6:$B$60,'2추총괄표(실국)'!$A12) -> 0 | K12: =SUMIFS('2추일입'!N$6:N$60,'2추일입'!$B$6:$B$60,'2추총괄표(실국)'!$A12) -> 3925000 | L12: =SUMIFS('2추일출'!M$6:M$294,'2추일출'!$B$6:$B$294,'2추총괄표(실국)'!$A12) -> -3280000 | M12: =SUMIFS('2추일출'!N$6:N$294,'2추일출'!$B$6:$B$294,'2추총괄표(실국)'!$A12) -> 8895000 | N12: =I12+L12+M12 -> 5615000 | P12: =E53 -> 0 | Q12: =SUMIFS('2추특입'!M$6:M$50,'2추특입'!$B$6:$B$50,'2추총괄표(실국)'!$A12) -> 0 | R12: =SUMIFS('2추특입'!N$6:N$50,'2추특입'!$B$6:$B$50,'2추총괄표(실국)'!$A12) -> 0 | S12: =SUMIFS('2추특출'!M$6:M$40,'2추특출'!$B$6:$B$40,'2추총괄표(실국)'!$A12) -> 0 | T12: =SUMIFS('2추특출'!N$6:N$40,'2추특출'!$B$6:$B$40,'2추총괄표(실국)'!$A12) -> 0 | U12: =P12+S12+T12 -> 0
A13: 농정해양국 | B13: =I13+P13 -> 0 | C13: =J13+Q13 -> 0 | D13: =K13+R13 -> 5758000 | E13: =L13+S13 -> -100000 | F13: =M13+T13 -> 7968000 | G13: =B13+E13+F13 -> 7868000 | I13: =D54 -> 0 | J13: =SUMIFS('2추일입'!M$6:M$60,'2추일입'!$B$6:$B$60,'2추총괄표(실국)'!$A13) -> 0 | K13: =SUMIFS('2추일입'!N$6:N$60,'2추일입'!$B$6:$B$60,'2추총괄표(실국)'!$A13) -> 5758000 | L13: =SUMIFS('2추일출'!M$6:M$294,'2추일출'!$B$6:$B$294,'2추총괄표(실국)'!$A13) -> -100000 | M13: =SUMIFS('2추일출'!N$6:N$294,'2추일출'!$B$6:$B$294,'2추총괄표(실국)'!$A13) -> 7968000 | N13: =I13+L13+M13 -> 7868000 | P13: =E54 -> 0 | Q13: =SUMIFS('2추특입'!M$6:M$50,'2추특입'!$B$6:$B$50,'2추총괄표(실국)'!$A13) -> 0 | R13: =SUMIFS('2추특입'!N$6:N$50,'2추특입'!$B$6:$B$50,'2추총괄표(실국)'!$A13) -> 0 | S13: =SUMIFS('2추특출'!M$6:M$40,'2추특출'!$B$6:$B$40,'2추총괄표(실국)'!$A13) -> 0 | T13: =SUMIFS('2추특출'!N$6:N$40,'2추특출'!$B$6:$B$40,'2추총괄표(실국)'!$A13) -> 0 | U13: =P13+S13+T13 -> 0
A14: 철도국 | B14: =I14+P14 -> 0 | C14: =J14+Q14 -> 0 | D14: =K14+R14 -> 0 | E14: =L14+S14 -> 0 | F14: =M14+T14 -> 490000 | G14: =B14+E14+F14 -> 490000 | I14: =D55 -> 0 | J14: =SUMIFS('2추일입'!M$6:M$60,'2추일입'!$B$6:$B$60,'2추총괄표(실국)'!$A14) -> 0 | K14: =SUMIFS('2추일입'!N$6:N$60,'2추일입'!$B$6:$B$60,'2추총괄표(실국)'!$A14) -> 0 | L14: =SUMIFS('2추일출'!M$6:M$294,'2추일출'!$B$6:$B$294,'2추총괄표(실국)'!$A14) -> 0 | M14: =SUMIFS('2추일출'!N$6:N$294,'2추일출'!$B$6:$B$294,'2추총괄표(실국)'!$A14) -> 490000 | N14: =I14+L14+M14 -> 490000 | P14: =E55 -> 0 | Q14: =SUMIFS('2추특입'!M$6:M$50,'2추특입'!$B$6:$B$50,'2추총괄표(실국)'!$A14) -> 0 | R14: =SUMIFS('2추특입'!N$6:N$50,'2추특입'!$B$6:$B$50,'2추총괄표(실국)'!$A14) -> 0 | S14: =SUMIFS('2추특출'!M$6:M$40,'2추특출'!$B$6:$B$40,'2추총괄표(실국)'!$A14) -> 0 | T14: =SUMIFS('2추특출'!N$6:N$40,'2추특출'!$B$6:$B$40,'2추총괄표(실국)'!$A14) -> 0 | U14: =P14+S14+T14 -> 0
A15: 연정협력관 | B15: =I15+P15 -> 0 | C15: =J15+Q15 -> 0 | D15: =K15+R15 -> 0 | E15: =L15+S15 -> 0 | F15: =M15+T15 -> 0 | G15: =B15+E15+F15 -> 0 | I15: =D56 -> 0 | J15: =SUMIFS('2추일입'!M$6:M$60,'2추일입'!$B$6:$B$60,'2추총괄표(실국)'!$A15) -> 0 | K15: =SUMIFS('2추일입'!N$6:N$60,'2추일입'!$B$6:$B$60,'2추총괄표(실국)'!$A15) -> 0 | L15: =SUMIFS('2추일출'!M$6:M$294,'2추일출'!$B$6:$B$294,'2추총괄표(실국)'!$A15) -> 0 | M15: =SUMIFS('2추일출'!N$6:N$294,'2추일출'!$B$6:$B$294,'2추총괄표(실국)'!$A15) -> 0 | N15: =I15+L15+M15 -> 0 | P15: =E56 -> 0 | Q15: =SUMIFS('2추특입'!M$6:M$50,'2추특입'!$B$6:$B$50,'2추총괄표(실국)'!$A15) -> 0 | R15: =SUMIFS('2추특입'!N$6:N$50,'2추특입'!$B$6:$B$50,'2추총괄표(실국)'!$A15) -> 0 | S15: =SUMIFS('2추특출'!M$6:M$40,'2추특출'!$B$6:$B$40,'2추총괄표(실국)'!$A15) -> 0 | T15: =SUMIFS('2추특출'!N$6:N$40,'2추특출'!$B$6:$B$40,'2추총괄표(실국)'!$A15) -> 0 | U15: =P15+S15+T15 -> 0
A16: 대외협력담당관 | B16: =I16+P16 -> 0 | C16: =J16+Q16 -> 0 | D16: =K16+R16 -> 0 | E16: =L16+S16 -> 0 | F16: =M16+T16 -> 0 | G16: =B16+E16+F16 -> 0 | I16: =D57 -> 0 | J16: =SUMIFS('2추일입'!M$6:M$60,'2추일입'!$B$6:$B$60,'2추총괄표(실국)'!$A16) -> 0 | K16: =SUMIFS('2추일입'!N$6:N$60,'2추일입'!$B$6:$B$60,'2추총괄표(실국)'!$A16) -> 0 | L16: =SUMIFS('2추일출'!M$6:M$294,'2추일출'!$B$6:$B$294,'2추총괄표(실국)'!$A16) -> 0 | M16: =SUMIFS('2추일출'!N$6:N$294,'2추일출'!$B$6:$B$294,'2추총괄표(실국)'!$A16) -> 0 | N16: =I16+L16+M16 -> 0 | P16: =E57 -> 0 | Q16: =SUMIFS('2추특입'!M$6:M$50,'2추특입'!$B$6:$B$50,'2추총괄표(실국)'!$A16) -> 0 | R16: =SUMIFS('2추특입'!N$6:N$50,'2추특입'!$B$6:$B$50,'2추총괄표(실국)'!$A16) -> 0 | S16: =SUMIFS('2추특출'!M$6:M$40,'2추특출'!$B$6:$B$40,'2추총괄표(실국)'!$A16) -> 0 | T16: =SUMIFS('2추특출'!N$6:N$40,'2추특출'!$B$6:$B$40,'2추총괄표(실국)'!$A16) -> 0 | U16: =P16+S16+T16 -> 0
A17: 보건복지국 | B17: =I17+P17 -> 0 | C17: =J17+Q17 -> -4797190 | D17: =K17+R17 -> 3247216 | E17: =L17+S17 -> -6781901 | F17: =M17+T17 -> 4567754 | G17: =B17+E17+F17 -> -2214147 | I17: =D58 -> 0 | J17: =SUMIFS('2추일입'!M$6:M$60,'2추일입'!$B$6:$B$60,'2추총괄표(실국)'!$A17) -> -4797190 | K17: =SUMIFS('2추일입'!N$6:N$60,'2추일입'!$B$6:$B$60,'2추총괄표(실국)'!$A17) -> 3247216 | L17: =SUMIFS('2추일출'!M$6:M$294,'2추일출'!$B$6:$B$294,'2추총괄표(실국)'!$A17) -> -6781901 | M17: =SUMIFS('2추일출'!N$6:N$294,'2추일출'!$B$6:$B$294,'2추총괄표(실국)'!$A17) -> 4567754 | N17: =I17+L17+M17 -> -2214147 | P17: =E58 -> 0 | Q17: =SUMIFS('2추특입'!M$6:M$50,'2추특입'!$B$6:$B$50,'2추총괄표(실국)'!$A17) -> 0 | R17: =SUMIFS('2추특입'!N$6:N$50,'2추특입'!$B$6:$B$50,'2추총괄표(실국)'!$A17) -> 0 | S17: =SUMIFS('2추특출'!M$6:M$40,'2추특출'!$B$6:$B$40,'2추총괄표(실국)'!$A17) -> 0 | T17: =SUMIFS('2추특출'!N$6:N$40,'2추특출'!$B$6:$B$40,'2추총괄표(실국)'!$A17) -> 0 | U17: =P17+S17+T17 -> 0
A18: 환경국 | B18: =I18+P18 -> 0 | C18: =J18+Q18 -> 0 | D18: =K18+R18 -> 110000 | E18: =L18+S18 -> 0 | F18: =M18+T18 -> 266600 | G18: =B18+E18+F18 -> 266600 | I18: =D59 -> 0 | J18: =SUMIFS('2추일입'!M$6:M$60,'2추일입'!$B$6:$B$60,'2추총괄표(실국)'!$A18) -> 0 | K18: =SUMIFS('2추일입'!N$6:N$60,'2추일입'!$B$6:$B$60,'2추총괄표(실국)'!$A18) -> 110000 | L18: =SUMIFS('2추일출'!M$6:M$294,'2추일출'!$B$6:$B$294,'2추총괄표(실국)'!$A18) -> 0 | M18: =SUMIFS('2추일출'!N$6:N$294,'2추일출'!$B$6:$B$294,'2추총괄표(실국)'!$A18) -> 266600 | N18: =I18+L18+M18 -> 266600 | P18: =E59 -> 0 | Q18: =SUMIFS('2추특입'!M$6:M$50,'2추특입'!$B$6:$B$50,'2추총괄표(실국)'!$A18) -> 0 | R18: =SUMIFS('2추특입'!N$6:N$50,'2추특입'!$B$6:$B$50,'2추총괄표(실국)'!$A18) -> 0 | S18: =SUMIFS('2추특출'!M$6:M$40,'2추특출'!$B$6:$B$40,'2추총괄표(실국)'!$A18) -> 0 | T18: =SUMIFS('2추특출'!N$6:N$40,'2추특출'!$B$6:$B$40,'2추총괄표(실국)'!$A18) -> 0 | U18: =P18+S18+T18 -> 0
... A36: 건설본부 | B36: =I36+P36 -> 0 | C36: =J36+Q36 -> 0 | D36: =K36+R36 -> 0 | E36: =L36+S36 -> 0 | F36: =M36+T36 -> 800000 | G36: =B36+E36+F36 -> 800000 | I36: =D77 -> 0 | J36: =SUMIFS('2추일입'!M$6:M$60,'2추일입'!$B$6:$B$60,'2추총괄표(실국)'!$A36) -> 0 | K36: =SUMIFS('2추일입'!N$6:N$60,'2추일입'!$B$6:$B$60,'2추총괄표(실국)'!$A36) -> 0 | L36: =SUMIFS('2추일출'!M$6:M$294,'2추일출'!$B$6:$B$294,'2추총괄표(실국)'!$A36) -> 0 | M36: =SUMIFS('2추일출'!N$6:N$294,'2추일출'!$B$6:$B$294,'2추총괄표(실국)'!$A36) -> 800000 | N36: =I36+L36+M36 -> 800000 | P36: =E77 -> 0 | Q36: =SUMIFS('2추특입'!M$6:M$50,'2추특입'!$B$6:$B$50,'2추총괄표(실국)'!$A36) -> 0 | R36: =SUMIFS('2추특입'!N$6:N$50,'2추특입'!$B$6:$B$50,'2추총괄표(실국)'!$A36) -> 0 | S36: =SUMIFS('2추특출'!M$6:M$40,'2추특출'!$B$6:$B$40,'2추총괄표(실국)'!$A36) -> 0 | T36: =SUMIFS('2추특출'!N$6:N$40,'2추특출'!$B$6:$B$40,'2추총괄표(실국)'!$A36) -> 0 | U36: =P36+S36+T36 -> 0
A39: ※ 예산안 증감현황
A40: 구 분 | B40: 세입 | C40: 세출 | D40: 예비비 | E40: 비고(???)
A41: 합 계 | B41: =SUM(B42:B43) -> 19824877 | C41: =SUM(C42:C43) -> 19824877 | D41: =B41-C41 -> 0
A42: 일반회계 | B42: =SUM(J6:K6) -> 19824877 | C42: =SUM(L6:M6) -> 19824877 | D42: =B42-C42 -> 0 | E42: 예비비 증감 - 감액, + 증액에 입력
A43: 특별회계 | B43: =SUM(Q6:R6) -> 0 | C43: =SUM(S6:T6) -> 0 | D43: =B43-C43 -> 0
A45: ※ 집행부제출안
A46: 구분 | B46: 합계 | C46: 일반+기타 | D46: 일반회계 | E46: 기타특별회계 | F46: 공기업특별회계
A47: 합계 | B47: =SUM(C47:F47) -> 0 | C47: =SUM(C48:C77) -> 0 | D47: =SUM(D48:D77) -> 0 | E47: =SUM(E48:E77) -> 0 | F47: =SUM(F48:F77) -> 0
A48: 감사관 | B48: =SUM(D48:F48) -> 0 | C48: =D48+E48 -> 0
A49: 기획조정실 | B49: =SUM(D49:F49) -> 0 | C49: =D49+E49 -> 0
A50: 도시주택실 | B50: =SUM(D50:F50) -> 0 | C50: =D50+E50 -> 0
A51: 자치행정국 | B51: =SUM(D51:F51) -> 0 | C51: =D51+E51 -> 0
A52: 교육협력국 | B52: =SUM(D52:F52) -> 0 | C52: =D52+E52 -> 0
A53: 문화체육관광국 | B53: =SUM(D53:F53) -> 0 | C53: =D53+E53 -> 0
A54: 농정해양국 | B54: =SUM(D54:F54) -> 0 | C54: =D54+E54 -> 0
A55: 철도국 | B55: =SUM(D55:F55) -> 0 | C55: =D55+E55 -> 0
A56: 연정협력관 | B56: =SUM(D56:F56) -> 0 | C56: =D56+E56 -> 0
A57: 대외협력담당관 | B57: =SUM(D57:F57) -> 0 | C57: =D57+E57 -> 0
A58: 보건복지국 | B58: =SUM(D58:F58) -> 0 | C58: =D58+E58 -> 0
A59: 환경국 | B59: =SUM(D59:F59) -> 0 | C59: =D59+E59 -> 0
... A77: 건설본부 | B77: =SUM(D77:F77) -> 0 | C77: =D77+E77 -> 0

Sheet 2추일입
A1: 2015년도 제2회 추경 경기도 일반회계 세입 예산 조정(안) | AA1: =SUMIFS(AA7:AA73,F7:F73,"*잔액*") -> -2993
A2: □ 세입예산 | V2: 세입=세출 | AA2: 세입=세출
J3: =COUNTA(J7:J60) -> 6 | K3: =COUNTA(K7:K60) -> 26 | M3: =COUNTA(M7:M60) -> 9 | N3: =COUNTA(N7:N60) -> 33 | Q3: (단위 : 천원) | V3: =IF(V6='2추일출'!V6,"OK","@@") -> @@ | X3: =IF(COUNTIF(X6:X60,"검토")>0,"@@","OK") -> OK | AA3: =IF((AA6-AA1)='2추일출'!AA6,"OK","@@") -> OK | AC3: =IF(COUNTIF(AC6:AC60,"검토")>0,"@@","OK") -> OK
A4: 위원회명 | B4: 실국명 | C4: 부서명 | D4: 편성 구분 | E4: 예산안 페이지 | F4: 사업명 | G4: 제2회 추경 예산안 (가) | H4: 기정액 (나) | I4: 제2회 추경 증감액 (다=가-나) | J4: 상임위 제2회 추경 예산안 조정액(라) | L4: 상임위 수정 예산안 (마=가or나+라) | M4: 예결위 제2회 추경 예산안 조정액(라) | O4: 예결위 수정 예산안 (마=가or나+라) | P4: 동의 대상 | Q4: 비고 (부대의견) | S4: 국도비 등 여부 | U4: 재원 | V4: 상임위 재원별 증감액 | Z4: 재원 | AA4: 예결위 재원별 증감액 | AE4: 세입번호 | AG4: 실국부서 코드 | AI4: 추가 내시 등 | AK4: 상임위 세입 검증 | AO4: 예결위 세입 검증
J5: 감액 | K5: 증액 | M5: 감액 | N5: 증액 | V5: 국비 등 | W5: 도비 | X5: 검증 | AA5: 국비 등 | AB5: 도비 | AC5: 검증 | AK5: 국비 증감액 | AL5: 건수 | AM5: 검증 | AO5: 국비 증감액 | AP5: 건수 | AQ5: 검증
A6: 합 계 | G6: =SUBTOTAL(9,G7:G60) -> 517643787 | H6: =SUBTOTAL(9,H7:H60) -> 630839567 | I6: =SUBTOTAL(9,I7:I60) -> -113195780 | J6: =SUBTOTAL(9,J7:J60) -> -10349503 | K6: =SUBTOTAL(9,K7:K60) -> 30694580 | L6: =SUBTOTAL(9,L7:L60) -> 660451310 | M6: =SUBTOTAL(9,M7:M60) -> -11857170 | N6: =SUBTOTAL(9,N7:N60) -> 31682047 | O6: =SUBTOTAL(9,O7:O60) -> 659931110 | V6: =SUBTOTAL(9,V7:V60) -> 20345077 | W6: =SUBTOTAL(9,W7:W60) -> 0 | X6: =IF(SUM($J6:$K6)=SUM($V6:$W6),"OK","검토") -> OK | AA6: =SUBTOTAL(9,AA7:AA60) -> 19824877 | AB6: =SUBTOTAL(9,AB7:AB60) -> 0 | AC6: =IF(SUM($J6:$K6)=SUM($V6:$W6),"OK","검토") -> OK | AK6: =SUBTOTAL(9,AK7:AK60) -> 20348091 | AL6: =SUBTOTAL(9,AL7:AL60) -> 60 | AM6: =IF(COUNTIF(AM7:AM60,"@@")>0,"@@","OK") -> @@ | AO6: =SUBTOTAL(9,AO7:AO60) -> 19827870 | AP6: =SUBTOTAL(9,AP7:AP60) -> 60 | AQ6: =IF(COUNTIF(AQ7:AQ60,"@@")>0,"@@","OK") -> @@
A7: =IFERROR(VLOOKUP($C7,구분표!$A$2:$C$300,2,FALSE),"") -> 경제과학기술위원회 | B7: =IFERROR(VLOOKUP($C7,구분표!$A$2:$C$300,3,FALSE),"") -> 경제실 | C7: 에너지과 | D7: 신규 | F7: LPG소형저장탱크 보급사업(국비/지원) | I7: =IF(D7="","",G7-H7) -> 0 | K7: 600000 | L7: =IF(G7=0,H7+J7+K7,G7+J7+K7) -> 600000 | N7: 600000 | O7: =IF(G7=0,H7+M7+N7,G7+M7+N7) -> 600000 | P7: =IF(AND((L7=0),(O7>0)),"O",IF(AND((J7<0),(L7-O7<0)),"O","X")) -> X | Q7: 국비내시 추가 | V7: =IF($U7<>"도비",IF($S7="국도비","직접입력",SUM($J7:$K7)),) -> 600000 | W7: =IF($U7="도비",SUM($J7:$K7),IF($S7="국도비","직접입력",SUM($J7:$K7)-$V7)) -> 0 | X7: =IF(SUM($J7:$K7)=SUM($V7:$W7),"OK","검토") -> OK | AA7: =IF($U7<>"도비",IF($S7="국도비","직접입력",SUM($M7:$N7)),) -> 600000 | AB7: =IF($U7="도비",SUM(M7:N7),IF($S7="국도비","직접입력",SUM(M7:N7)-AA7)) -> 0 | AC7: =IF(SUM(M7:N7)=SUM(AA7:AB7),"OK","검토") -> OK | AE7: =IF(AG7="","",IF(U7="도비","세입없음",CONCATENATE(AG7,"-",COUNTIF($AG$7:AG7,AG7)))) -> 0307-1 | AG7: {=IF(C7="","",INDEX(구분표!$I$2:$I$300, MATCH(1,(구분표!$E$2:$E$300='2추일입'!B7)*(구분표!$F$2:$F$300='2추일입'!C7)*(구분표!$G$2:$G$300='2추일입'!A7),0)))} -> 0307 | AK7: =IF(AE7="",0,SUMIFS('2추일출'!$V$6:$V$294,'2추일출'!$AE$6:$AE$294,'2추일입'!$AE7)) -> 600000 | AL7: =IF(AE7="","",COUNTIFS('2추일출'!$AE$6:$AE$294,'2추일입'!AE7)) -> 1 | AM7: =IF(V7=AK7,"OK","@@") -> OK | AO7: =IF(AE7="",0,SUMIFS('2추일출'!$AA$6:$AA$294,'2추일출'!$AE$6:$AE$294,'2추일입'!$AE7)) -> 600000 | AP7: =IF(AE7="","",COUNTIFS('2추일출'!$AE$6:$AE$294,AE7)) -> 1 | AQ7: =IF(AA7=AO7,"OK","@@") -> OK
A8: =IFERROR(VLOOKUP($C8,구분표!$A$2:$C$300,2,FALSE),"") -> 농정해양위원회 | B8: =IFERROR(VLOOKUP($C8,구분표!$A$2:$C$300,3,FALSE),"") -> 농정해양국 | C8: 친환경농업과 | D8: 신규 | E8: 신규 | F8: 국고보조금등 -한발대비용수개발 | H8: 240000 | I8: =IF(D8="","",G8-H8) -> -240000 | K8: 5752000 | L8: =IF(G8=0,H8+J8+K8,G8+J8+K8) -> 5992000 | N8: 5752000 | O8: =IF(G8=0,H8+M8+N8,G8+M8+N8) -> 5992000 | P8: =IF(AND((L8=0),(O8>0)),"O",IF(AND((J8<0),(L8-O8<0)),"O","X")) -> X | Q8: 국비추가내시 -농림축산식품부 농업기반과-3978(2015.8.28.)호 | V8: =IF($U8<>"도비",IF($S8="국도비","직접입력",SUM($J8:$K8)),) -> 5752000 | W8: =IF($U8="도비",SUM($J8:$K8),IF($S8="국도비","직접입력",SUM($J8:$K8)-$V8)) -> 0 | X8: =IF(SUM($J8:$K8)=SUM($V8:$W8),"OK","검토") -> OK | AA8: =IF($U8<>"도비",IF($S8="국도비","직접입력",SUM($M8:$N8)),) -> 5752000 | AB8: =IF($U8="도비",SUM(M8:N8),IF($S8="국도비","직접입력",SUM(M8:N8)-AA8)) -> 0 | AC8: =IF(SUM(M8:N8)=SUM(AA8:AB8),"OK","검토") -> OK | AE8: =IF(AG8="","",IF(U8="도비","세입없음",CONCATENATE(AG8,"-",COUNTIF($AG$7:AG8,AG8)))) -> 0604-1 | AG8: {=IF(C8="","",INDEX(구분표!$I$2:$I$300, MATCH(1,(구분표!$E$2:$E$300='2추일입'!B8)*(구분표!$F$2:$F$300='2추일입'!C8)*(구분표!$G$2:$G$300='2추일입'!A8),0)))} -> 0604 | AK8: =IF(AE8="",0,SUMIFS('2추일출'!$V$6:$V$294,'2추일출'!$AE$6:$AE$294,'2추일입'!$AE8)) -> 5752000 | AL8: =IF(AE8="","",COUNTIFS('2추일출'!$AE$6:$AE$294,'2추일입'!AE8)) -> 1 | AM8: =IF(V8=AK8,"OK","@@") -> OK | AO8: =IF(AE8="",0,SUMIFS('2추일출'!$AA$6:$AA$294,'2추일출'!$AE$6:$AE$294,'2추일입'!$AE8)) -> 5752000 | AP8: =IF(AE8="","",COUNTIFS('2추일출'!$AE$6:$AE$294,AE8)) -> 1 | AQ8: =IF(AA8=AO8,"OK","@@") -> OK
A9: =IFERROR(VLOOKUP($C9,구분표!$A$2:$C$300,2,FALSE),"") -> 농정해양위원회 | B9: =IFERROR(VLOOKUP($C9,구분표!$A$2:$C$300,3,FALSE),"") -> 농정해양국 | C9: 수산과 | D9: 신규 | E9: 신규 | F9: 국고보조금등 -피해보전직물 및 폐업지원 | I9: =IF(D9="","",G9-H9) -> 0 | K9: 6000 | L9: =IF(G9=0,H9+J9+K9,G9+J9+K9) -> 6000 | N9: 6000 | O9: =IF(G9=0,H9+M9+N9,G9+M9+N9) -> 6000 | P9: =IF(AND((L9=0),(O9>0)),"O",IF(AND((J9<0),(L9-O9<0)),"O","X")) -> X | Q9: 국비추가내시 -해양수산부 수산정책과-3565(2015.9.3.)호 | V9: =IF($U9<>"도비",IF($S9="국도비","직접입력",SUM($J9:$K9)),) -> 6000 | W9: =IF($U9="도비",SUM($J9:$K9),IF($S9="국도비","직접입력",SUM($J9:$K9)-$V9)) -> 0 | X9: =IF(SUM($J9:$K9)=SUM($V9:$W9),"OK","검토") -> OK | AA9: =IF($U9<>"도비",IF($S9="국도비","직접입력",SUM($M9:$N9)),) -> 6000 | AB9: =IF($U9="도비",SUM(M9:N9),IF($S9="국도비","직접입력",SUM(M9:N9)-AA9)) -> 0 | AC9: =IF(SUM(M9:N9)=SUM(AA9:AB9),"OK","검토") -> OK | AE9: =IF(AG9="","",IF(U9="도비","세입없음",CONCATENATE(AG9,"-",COUNTIF($AG$7:AG9,AG9)))) -> 0605-1 | AG9: {=IF(C9="","",INDEX(구분표!$I$2:$I$300, MATCH(1,(구분표!$E$2:$E$300='2추일입'!B9)*(구분표!$F$2:$F$300='2추일입'!C9)*(구분표!$G$2:$G$300='2추일입'!A9),0)))} -> 0605 | AK9: =IF(AE9="",0,SUMIFS('2추일출'!$V$6:$V$294,'2추일출'!$AE$6:$AE$294,'2추일입'!$AE9)) -> 6000 | AL9: =IF(AE9="","",COUNTIFS('2추일출'!$AE$6:$AE$294,'2추일입'!AE9)) -> 1 | AM9: =IF(V9=AK9,"OK","@@") -> OK | AO9: =IF(AE9="",0,SUMIFS('2추일출'!$AA$6:$AA$294,'2추일출'!$AE$6:$AE$294,'2추일입'!$AE9)) -> 6000 | AP9: =IF(AE9="","",COUNTIFS('2추일출'!$AE$6:$AE$294,AE9)) -> 1 | AQ9: =IF(AA9=AO9,"OK","@@") -> OK
A10: =IFERROR(VLOOKUP($C10,구분표!$A$2:$C$300,2,FALSE),"") -> 농정해양위원회 | B10: =IFERROR(VLOOKUP($C10,구분표!$A$2:$C$300,3,FALSE),"") -> 축산산림국 | C10: 축산정책과 | D10: 신규 | E10: 신규 | F10: 국고보조금등 -승마대회 활성화 지원 | I10: =IF(D10="","",G10-H10) -> 0 | K10: 70000 | L10: =IF(G10=0,H10+J10+K10,G10+J10+K10) -> 70000 | N10: 70000 | O10: =IF(G10=0,H10+M10+N10,G10+M10+N10) -> 70000 | P10: =IF(AND((L10=0),(O10>0)),"O",IF(AND((J10<0),(L10-O10<0)),"O","X")) -> X | Q10: 국비추가내시 -농림축산식품부 축산정책과-3931(2015.8.27.)호 | V10: =IF($U10<>"도비",IF($S10="국도비","직접입력",SUM($J10:$K10)),) -> 70000 | W10: =IF($U10="도비",SUM($J10:$K10),IF($S10="국도비","직접입력",SUM($J10:$K10)-$V10)) -> 0 | X10: =IF(SUM($J10:$K10)=SUM($V10:$W10),"OK","검토") -> OK | AA10: =IF($U10<>"도비",IF($S10="국도비","직접입력",SUM($M10:$N10)),) -> 70000 | AB10: =IF($U10="도비",SUM(M10:N10),IF($S10="국도비","직접입력",SUM(M10:N10)-AA10)) -> 0 | AC10: =IF(SUM(M10:N10)=SUM(AA10:AB10),"OK","검토") -> OK | AE10: =IF(AG10="","",IF(U10="도비","세입없음",CONCATENATE(AG10,"-",COUNTIF($AG$7:AG10,AG10)))) -> 0608-1 | AG10: {=IF(C10="","",INDEX(구분표!$I$2:$I$300, MATCH(1,(구분표!$E$2:$E$300='2추일입'!B10)*(구분표!$F$2:$F$300='2추일입'!C10)*(구분표!$G$2:$G$300='2추일입'!A10),0)))} -> 0608 | AK10: =IF(AE10="",0,SUMIFS('2추일출'!$V$6:$V$294,'2추일출'!$AE$6:$AE$294,'2추일입'!$AE10)) -> 70000 | AL10: =IF(AE10="","",COUNTIFS('2추일출'!$AE$6:$AE$294,'2추일입'!AE10)) -> 1 | AM10: =IF(V10=AK10,"OK","@@") -> OK | AO10: =IF(AE10="",0,SUMIFS('2추일출'!$AA$6:$AA$294,'2추일출'!$AE$6:$AE$294,'2추일입'!$AE10)) -> 70000 | AP10: =IF(AE10="","",COUNTIFS('2추일출'!$AE$6:$AE$294,AE10)) -> 1 | AQ10: =IF(AA10=AO10,"OK","@@") -> OK
A11: =IFERROR(VLOOKUP($C11,구분표!$A$2:$C$300,2,FALSE),"") -> 농정해양위원회 | B11: =IFERROR(VLOOKUP($C11,구분표!$A$2:$C$300,3,FALSE),"") -> 축산산림국 | C11: 축산위생연구소 | D11: 2회추경 | E11: 506 | F11: 국고보조금사용잔액 -축산위생연구소국비사용잔액 | G11: 11385 | I11: =IF(D11="","",G11-H11) -> 11385 | J11: -3152 | L11: =IF(G11=0,H11+J11+K11,G11+J11+K11) -> 8233 | M11: -3152 | O11: =IF(G11=0,H11+M11+N11,G11+M11+N11) -> 8233 | P11: =IF(AND((L11=0),(O11>0)),"O",IF(AND((J11<0),(L11-O11<0)),"O","X")) -> X | V11: =IF($U11<>"도비",IF($S11="국도비","직접입력",SUM($J11:$K11)),) -> -3152 | W11: =IF($U11="도비",SUM($J11:$K11),IF($S11="국도비","직접입력",SUM($J11:$K11)-$V11)) -> 0 | X11: =IF(SUM($J11:$K11)=SUM($V11:$W11),"OK","검토") -> OK | AA11: =IF($U11<>"도비",IF($S11="국도비","직접입력",SUM($M11:$N11)),) -> -3152 | AB11: =IF($U11="도비",SUM(M11:N11),IF($S11="국도비","직접입력",SUM(M11:N11)-AA11)) -> 0 | AC11: =IF(SUM(M11:N11)=SUM(AA11:AB11),"OK","검토") -> OK | AE11: =IF(AG11="","",IF(U11="도비","세입없음",CONCATENATE(AG11,"-",COUNTIF($AG$7:AG11,AG11)))) -> 0611-1 | AG11: {=IF(C11="","",INDEX(구분표!$I$2:$I$300, MATCH(1,(구분표!$E$2:$E$300='2추일입'!B11)*(구분표!$F$2:$F$300='2추일입'!C11)*(구분표!$G$2:$G$300='2추일입'!A11),0)))} -> 0611 | AK11: =IF(AE11="",0,SUMIFS('2추일출'!$V$6:$V$294,'2추일출'!$AE$6:$AE$294,'2추일입'!$AE11)) -> 0 | AL11: =IF(AE11="","",COUNTIFS('2추일출'!$AE$6:$AE$294,'2추일입'!AE11)) -> 1 | AM11: =IF(V11=AK11,"OK","@@") -> @@ | AO11: =IF(AE11="",0,SUMIFS('2추일출'!$AA$6:$AA$294,'2추일출'!$AE$6:$AE$294,'2추일입'!$AE11)) -> 0 | AP11: =IF(AE11="","",COUNTIFS('2추일출'!$AE$6:$AE$294,AE11)) -> 1 | AQ11: =IF(AA11=AO11,"OK","@@") -> @@
A12: =IFERROR(VLOOKUP($C12,구분표!$A$2:$C$300,2,FALSE),"") -> 보건복지위원회 | B12: =IFERROR(VLOOKUP($C12,구분표!$A$2:$C$300,3,FALSE),"") -> 보건복지국 | C12: 노인복지과 | D12: 2회추경 | E12: 566 | F12: 국고보조금 (노인생활시설 기능보강) | G12: 2429241 | H12: 2200246 | I12: =IF(D12="","",G12-H12) -> 228995 | K12: 92715 | L12: =IF(G12=0,H12+J12+K12,G12+J12+K12) -> 2521956 | N12: 92715 | O12: =IF(G12=0,H12+M12+N12,G12+M12+N12) -> 2521956 | P12: =IF(AND((L12=0),(O12>0)),"O",IF(AND((J12<0),(L12-O12<0)),"O","X")) -> X | Q12: 국비 확정내시 ※ 보건복지부 요양보험운영과-5820(2015. 8.21) | V12: =IF($U12<>"도비",IF($S12="국도비","직접입력",SUM($J12:$K12)),) -> 92715 | W12: =IF($U12="도비",SUM($J12:$K12),IF($S12="국도비","직접입력",SUM($J12:$K12)-$V12)) -> 0 | X12: =IF(SUM($J12:$K12)=SUM($V12:$W12),"OK","검토") -> OK | AA12: =IF($U12<>"도비",IF($S12="국도비","직접입력",SUM($M12:$N12)),) -> 92715 | AB12: =IF($U12="도비",SUM(M12:N12),IF($S12="국도비","직접입력",SUM(M12:N12)-AA12)) -> 0 | AC12: =IF(SUM(M12:N12)=SUM(AA12:AB12),"OK","검토") -> OK | AE12: =IF(AG12="","",IF(U12="도비","세입없음",CONCATENATE(AG12,"-",COUNTIF($AG$7:AG12,AG12)))) -> 0703-1 | AG12: {=IF(C12="","",INDEX(구분표!$I$2:$I$300, MATCH(1,(구분표!$E$2:$E$300='2추일입'!B12)*(구분표!$F$2:$F$300='2추일입'!C12)*(구분표!$G$2:$G$300='2추일입'!A12),0)))} -> 0703 | AK12: =IF(AE12="",0,SUMIFS('2추일출'!$V$6:$V$294,'2추일출'!$AE$6:$AE$294,'2추일입'!$AE12)) -> 92715 | AL12: =IF(AE12="","",COUNTIFS('2추일출'!$AE$6:$AE$294,'2추일입'!AE12)) -> 2 | AM12: =IF(V12=AK12,"OK","@@") -> OK | AO12: =IF(AE12="",0,SUMIFS('2추일출'!$AA$6:$AA$294,'2추일출'!$AE$6:$AE$294,'2추일입'!$AE12)) -> 92715 | AP12: =IF(AE12="","",COUNTIFS('2추일출'!$AE$6:$AE$294,AE12)) -> 2 | AQ12: =IF(AA12=AO12,"OK","@@") -> OK
A13: =IFERROR(VLOOKUP($C13,구분표!$A$2:$C$300,2,FALSE),"") -> 보건복지위원회 | B13: =IFERROR(VLOOKUP($C13,구분표!$A$2:$C$300,3,FALSE),"") -> 보건복지국 | C13: 노인복지과 | D13: 본예산 | E13: 56 | F13: 국고보조금 (노인양로시설 운영) | H13: 5375188 | I13: =IF(D13="","",G13-H13) -> -5375188 | J13: -401109 | L13: =IF(G13=0,H13+J13+K13,G13+J13+K13) -> 4974079 | M13: -401109 | O13: =IF(G13=0,H13+M13+N13,G13+M13+N13) -> 4974079 | P13: =IF(AND((L13=0),(O13>0)),"O",IF(AND((J13<0),(L13-O13<0)),"O","X")) -> X | Q13: 국비 확정내시 ※ 보건복지부 요양보험운영과-5999(2015.8.28)호 | V13: =IF($U13<>"도비",IF($S13="국도비","직접입력",SUM($J13:$K13)),) -> -401109 | W13: =IF($U13="도비",SUM($J13:$K13),IF($S13="국도비","직접입력",SUM($J13:$K13)-$V13)) -> 0 | X13: =IF(SUM($J13:$K13)=SUM($V13:$W13),"OK","검토") -> OK | AA13: =IF($U13<>"도비",IF($S13="국도비","직접입력",SUM($M13:$N13)),) -> -401109 | AB13: =IF($U13="도비",SUM(M13:N13),IF($S13="국도비","직접입력",SUM(M13:N13)-AA13)) -> 0 | AC13: =IF(SUM(M13:N13)=SUM(AA13:AB13),"OK","검토") -> OK | AE13: =IF(AG13="","",IF(U13="도비","세입없음",CONCATENATE(AG13,"-",COUNTIF($AG$7:AG13,AG13)))) -> 0703-2 | AG13: {=IF(C13="","",INDEX(구분표!$I$2:$I$300, MATCH(1,(구분표!$E$2:$E$300='2추일입'!B13)*(구분표!$F$2:$F$300='2추일입'!C13)*(구분표!$G$2:$G$300='2추일입'!A13),0)))} -> 0703 | AK13: =IF(AE13="",0,SUMIFS('2추일출'!$V$6:$V$294,'2추일출'!$AE$6:$AE$294,'2추일입'!$AE13)) -> -401109 | AL13: =IF(AE13="","",COUNTIFS('2추일출'!$AE$6:$AE$294,'2추일입'!AE13)) -> 2 | AM13: =IF(V13=AK13,"OK","@@") -> OK | AO13: =IF(AE13="",0,SUMIFS('2추일출'!$AA$6:$AA$294,'2추일출'!$AE$6:$AE$294,'2추일입'!$AE13)) -> -401109 | AP13: =IF(AE13="","",COUNTIFS('2추일출'!$AE$6:$AE$294,AE13)) -> 2 | AQ13: =IF(AA13=AO13,"OK","@@") -> OK
A14: =IFERROR(VLOOKUP($C14,구분표!$A$2:$C$300,2,FALSE),"") -> 보건복지위원회 | B14: =IFERROR(VLOOKUP($C14,구분표!$A$2:$C$300,3,FALSE),"") -> 보건복지국 | C14: 노인복지과 | D14: 1회추경 | E14: 24 | F14: 국고보조금 (메르스 사망자 장례비용 지원) | H14: 70947 | I14: =IF(D14="","",G14-H14) -> -70947 | K14: 25782 | L14: =IF(G14=0,H14+J14+K14,G14+J14+K14) -> 96729 | N14: 25782 | O14: =IF(G14=0,H14+M14+N14,G14+M14+N14) -> 96729 | P14: =IF(AND((L14=0),(O14>0)),"O",IF(AND((J14<0),(L14-O14<0)),"O","X")) -> X | Q14: 국비 확정내시 변경 ※ 질병관리본부 공중보건위기대응과-2351(2015.8.21)호 | V14: =IF($U14<>"도비",IF($S14="국도비","직접입력",SUM($J14:$K14)),) -> 25782 | W14: =IF($U14="도비",SUM($J14:$K14),IF($S14="국도비","직접입력",SUM($J14:$K14)-$V14)) -> 0 | X14: =IF(SUM($J14:$K14)=SUM($V14:$W14),"OK","검토") -> OK | AA14: =IF($U14<>"도비",IF($S14="국도비","직접입력",SUM($M14:$N14)),) -> 25782 | AB14: =IF($U14="도비",SUM(M14:N14),IF($S14="국도비","직접입력",SUM(M14:N14)-AA14)) -> 0 | AC14: =IF(SUM(M14:N14)=SUM(AA14:AB14),"OK","검토") -> OK | AE14: =IF(AG14="","",IF(U14="도비","세입없음",CONCATENATE(AG14,"-",COUNTIF($AG$7:AG14,AG14)))) -> 0703-3 | AG14: {=IF(C14="","",INDEX(구분표!$I$2:$I$300, MATCH(1,(구분표!$E$2:$E$300='2추일입'!B14)*(구분표!$F$2:$F$300='2추일입'!C14)*(구분표!$G$2:$G$300='2추일입'!A14),0)))} -> 0703 | AK14: =IF(AE14="",0,SUMIFS('2추일출'!$V$6:$V$294,'2추일출'!$AE$6:$AE$294,'2추일입'!$AE14)) -> 25782 | AL14: =IF(AE14="","",COUNTIFS('2추일출'!$AE$6:$AE$294,'2추일입'!AE14)) -> 1 | AM14: =IF(V14=AK14,"OK","@@") -> OK | AO14: =IF(AE14="",0,SUMIFS('2추일출'!$AA$6:$AA$294,'2추일출'!$AE$6:$AE$294,'2추일입'!$AE14)) -> 25782 | AP14: =IF(AE14="","",COUNTIFS('2추일출'!$AE$6:$AE$294,AE14)) -> 1 | AQ14: =IF(AA14=AO14,"OK","@@") -> OK
A15: =IFERROR(VLOOKUP($C15,구분표!$A$2:$C$300,2,FALSE),"") -> 보건복지위원회 | B15: =IFERROR(VLOOKUP($C15,구분표!$A$2:$C$300,3,FALSE),"") -> 보건복지국 | C15: 노인복지과 | D15: 2회추경 | E15: 567 | F15: 국고보조금 반환금 (노인복지과 국비 사용 잔액) | G15: 29782 | I15: =IF(D15="","",G15-H15) -> 29782 | K15: 136 | L15: =IF(G15=0,H15+J15+K15,G15+J15+K15) -> 29918 | N15: 136 | O15: =IF(G15=0,H15+M15+N15,G15+M15+N15) -> 29918 | P15: =IF(AND((L15=0),(O15>0)),"O",IF(AND((J15<0),(L15-O15<0)),"O","X")) -> X | Q15: 오입력에 따른 예산액 정정 | V15: =IF($U15<>"도비",IF($S15="국도비","직접입력",SUM($J15:$K15)),) -> 136 | W15: =IF($U15="도비",SUM($J15:$K15),IF($S15="국도비","직접입력",SUM($J15:$K15)-$V15)) -> 0 | X15: =IF(SUM($J15:$K15)=SUM($V15:$W15),"OK","검토") -> OK | AA15: =IF($U15<>"도비",IF($S15="국도비","직접입력",SUM($M15:$N15)),) -> 136 | AB15: =IF($U15="도비",SUM(M15:N15),IF($S15="국도비","직접입력",SUM(M15:N15)-AA15)) -> 0 | AC15: =IF(SUM(M15:N15)=SUM(AA15:AB15),"OK","검토") -> OK | AE15: =IF(AG15="","",IF(U15="도비","세입없음",CONCATENATE(AG15,"-",COUNTIF($AG$7:AG15,AG15)))) -> 0703-4 | AG15: {=IF(C15="","",INDEX(구분표!$I$2:$I$300, MATCH(1,(구분표!$E$2:$E$300='2추일입'!B15)*(구분표!$F$2:$F$300='2추일입'!C15)*(구분표!$G$2:$G$300='2추일입'!A15),0)))} -> 0703 | AK15: =IF(AE15="",0,SUMIFS('2추일출'!$V$6:$V$294,'2추일출'!$AE$6:$AE$294,'2추일입'!$AE15)) -> 0 | AL15: =IF(AE15="","",COUNTIFS('2추일출'!$AE$6:$AE$294,'2추일입'!AE15)) -> 0 | AM15: =IF(V15=AK15,"OK","@@") -> @@ | AO15: =IF(AE15="",0,SUMIFS('2추일출'!$AA$6:$AA$294,'2추일출'!$AE$6:$AE$294,'2추일입'!$AE15)) -> 0 | AP15: =IF(AE15="","",COUNTIFS('2추일출'!$AE$6:$AE$294,AE15)) -> 0 | AQ15: =IF(AA15=AO15,"OK","@@") -> @@
A16: =IFERROR(VLOOKUP($C16,구분표!$A$2:$C$300,2,FALSE),"") -> 보건복지위원회 | B16: =IFERROR(VLOOKUP($C16,구분표!$A$2:$C$300,3,FALSE),"") -> 보건복지국 | C16: 장애인복지과 | D16: 본예산 | E16: 56 | F16: 국고보조금 (장애수당(기초)) | H16: 10743684 | I16: =IF(D16="","",G16-H16) -> -10743684 | K16: 286516 | L16: =IF(G16=0,H16+J16+K16,G16+J16+K16) -> 11030200 | N16: 286516 | O16: =IF(G16=0,H16+M16+N16,G16+M16+N16) -> 11030200 | P16: =IF(AND((L16=0),(O16>0)),"O",IF(AND((J16<0),(L16-O16<0)),"O","X")) -> X | Q16: 국비 변경내시 ※ 보건복지부 장애인자립기반과-7615(2015.9.8)호 | V16: =IF($U16<>"도비",IF($S16="국도비","직접입력",SUM($J16:$K16)),) -> 286516 | W16: =IF($U16="도비",SUM($J16:$K16),IF($S16="국도비","직접입력",SUM($J16:$K16)-$V16)) -> 0 | X16: =IF(SUM($J16:$K16)=SUM($V16:$W16),"OK","검토") -> OK | AA16: =IF($U16<>"도비",IF($S16="국도비","직접입력",SUM($M16:$N16)),) -> 286516 | AB16: =IF($U16="도비",SUM(M16:N16),IF($S16="국도비","직접입력",SUM(M16:N16)-AA16)) -> 0 | AC16: =IF(SUM(M16:N16)=SUM(AA16:AB16),"OK","검토") -> OK | AE16: =IF(AG16="","",IF(U16="도비","세입없음",CONCATENATE(AG16,"-",COUNTIF($AG$7:AG16,AG16)))) -> 0704-1 | AG16: {=IF(C16="","",INDEX(구분표!$I$2:$I$300, MATCH(1,(구분표!$E$2:$E$300='2추일입'!B16)*(구분표!$F$2:$F$300='2추일입'!C16)*(구분표!$G$2:$G$300='2추일입'!A16),0)))} -> 0704 | AK16: =IF(AE16="",0,SUMIFS('2추일출'!$V$6:$V$294,'2추일출'!$AE$6:$AE$294,'2추일입'!$AE16)) -> 286516 | AL16: =IF(AE16="","",COUNTIFS('2추일출'!$AE$6:$AE$294,'2추일입'!AE16)) -> 2 | AM16: =IF(V16=AK16,"OK","@@") -> OK | AO16: =IF(AE16="",0,SUMIFS('2추일출'!$AA$6:$AA$294,'2추일출'!$AE$6:$AE$294,'2추일입'!$AE16)) -> 286516 | AP16: =IF(AE16="","",COUNTIFS('2추일출'!$AE$6:$AE$294,AE16)) -> 2 | AQ16: =IF(AA16=AO16,"OK","@@") -> OK
A17: =IFERROR(VLOOKUP($C17,구분표!$A$2:$C$300,2,FALSE),"") -> 보건복지위원회 | B17: =IFERROR(VLOOKUP($C17,구분표!$A$2:$C$300,3,FALSE),"") -> 보건복지국 | C17: 장애인복지과 | D17: 본예산 | E17: 56 | F17: 국고보조금 (장애수당(차상위 등)) | H17: 9746627 | I17: =IF(D17="","",G17-H17) -> -9746627 | K17: 35373 | L17: =IF(G17=0,H17+J17+K17,G17+J17+K17) -> 9782000 | N17: 35373 | O17: =IF(G17=0,H17+M17+N17,G17+M17+N17) -> 9782000 | P17: =IF(AND((L17=0),(O17>0)),"O",IF(AND((J17<0),(L17-O17<0)),"O","X")) -> X | Q17: 국비 변경내시 ※ 보건복지부 장애인자립기반과-7615(2015.9.8)호 | V17: =IF($U17<>"도비",IF($S17="국도비","직접입력",SUM($J17:$K17)),) -> 35373 | W17: =IF($U17="도비",SUM($J17:$K17),IF($S17="국도비","직접입력",SUM($J17:$K17)-$V17)) -> 0 | X17: =IF(SUM($J17:$K17)=SUM($V17:$W17),"OK","검토") -> OK | AA17: =IF($U17<>"도비",IF($S17="국도비","직접입력",SUM($M17:$N17)),) -> 35373 | AB17: =IF($U17="도비",SUM(M17:N17),IF($S17="국도비","직접입력",SUM(M17:N17)-AA17)) -> 0 | AC17: =IF(SUM(M17:N17)=SUM(AA17:AB17),"OK","검토") -> OK | AE17: =IF(AG17="","",IF(U17="도비","세입없음",CONCATENATE(AG17,"-",COUNTIF($AG$7:AG17,AG17)))) -> 0704-2 | AG17: {=IF(C17="","",INDEX(구분표!$I$2:$I$300, MATCH(1,(구분표!$E$2:$E$300='2추일입'!B17)*(구분표!$F$2:$F$300='2추일입'!C17)*(구분표!$G$2:$G$300='2추일입'!A17),0)))} -> 0704 | AK17: =IF(AE17="",0,SUMIFS('2추일출'!$V$6:$V$294,'2추일출'!$AE$6:$AE$294,'2추일입'!$AE17)) -> 35373 | AL17: =IF(AE17="","",COUNTIFS('2추일출'!$AE$6:$AE$294,'2추일입'!AE17)) -> 2 | AM17: =IF(V17=AK17,"OK","@@") -> OK | AO17: =IF(AE17="",0,SUMIFS('2추일출'!$AA$6:$AA$294,'2추일출'!$AE$6:$AE$294,'2추일입'!$AE17)) -> 35373 | AP17: =IF(AE17="","",COUNTIFS('2추일출'!$AE$6:$AE$294,AE17)) -> 2 | AQ17: =IF(AA17=AO17,"OK","@@") -> OK
A18: =IFERROR(VLOOKUP($C18,구분표!$A$2:$C$300,2,FALSE),"") -> 보건복지위원회 | B18: =IFERROR(VLOOKUP($C18,구분표!$A$2:$C$300,3,FALSE),"") -> 보건복지국 | C18: 장애인복지과 | D18: 본예산 | E18: 56 | F18: 국고보조금 (장애인연금) | H18: 95838000 | I18: =IF(D18="","",G18-H18) -> -95838000 | K18: 2292372 | L18: =IF(G18=0,H18+J18+K18,G18+J18+K18) -> 98130372 | N18: 2292372 | O18: =IF(G18=0,H18+M18+N18,G18+M18+N18) -> 98130372 | P18: =IF(AND((L18=0),(O18>0)),"O",IF(AND((J18<0),(L18-O18<0)),"O","X")) -> X | Q18: 국비 변경내시 ※ 보건복지부 장애인자립기반과-7534(2015.9.4)호 | V18: =IF($U18<>"도비",IF($S18="국도비","직접입력",SUM($J18:$K18)),) -> 2292372 | W18: =IF($U18="도비",SUM($J18:$K18),IF($S18="국도비","직접입력",SUM($J18:$K18)-$V18)) -> 0 | X18: =IF(SUM($J18:$K18)=SUM($V18:$W18),"OK","검토") -> OK | AA18: =IF($U18<>"도비",IF($S18="국도비","직접입력",SUM($M18:$N18)),) -> 2292372 | AB18: =IF($U18="도비",SUM(M18:N18),IF($S18="국도비","직접입력",SUM(M18:N18)-AA18)) -> 0 | AC18: =IF(SUM(M18:N18)=SUM(AA18:AB18),"OK","검토") -> OK | AE18: =IF(AG18="","",IF(U18="도비","세입없음",CONCATENATE(AG18,"-",COUNTIF($AG$7:AG18,AG18)))) -> 0704-3 | AG18: {=IF(C18="","",INDEX(구분표!$I$2:$I$300, MATCH(1,(구분표!$E$2:$E$300='2추일입'!B18)*(구분표!$F$2:$F$300='2추일입'!C18)*(구분표!$G$2:$G$300='2추일입'!A18),0)))} -> 0704 | AK18: =IF(AE18="",0,SUMIFS('2추일출'!$V$6:$V$294,'2추일출'!$AE$6:$AE$294,'2추일입'!$AE18)) -> 2292372 | AL18: =IF(AE18="","",COUNTIFS('2추일출'!$AE$6:$AE$294,'2추일입'!AE18)) -> 2 | AM18: =IF(V18=AK18,"OK","@@") -> OK | AO18: =IF(AE18="",0,SUMIFS('2추일출'!$AA$6:$AA$294,'2추일출'!$AE$6:$AE$294,'2추일입'!$AE18)) -> 2292372 | AP18: =IF(AE18="","",COUNTIFS('2추일출'!$AE$6:$AE$294,AE18)) -> 2 | AQ18: =IF(AA18=AO18,"OK","@@") -> OK
A19: =IFERROR(VLOOKUP($C19,구분표!$A$2:$C$300,2,FALSE),"") -> 보건복지위원회 | B19: =IFERROR(VLOOKUP($C19,구분표!$A$2:$C$300,3,FALSE),"") -> 보건복지국 | C19: 보건정책과 | D19: 1회추경 | E19: 24 | F19: 국고보조금 (급성감염병관리사업) | H19: 379000 | I19: =IF(D19="","",G19-H19) -> -379000 | K19: 149400 | L19: =IF(G19=0,H19+J19+K19,G19+J19+K19) -> 528400 | N19: 149400 | O19: =IF(G19=0,H19+M19+N19,G19+M19+N19) -> 528400 | P19: =IF(AND((L19=0),(O19>0)),"O",IF(AND((J19<0),(L19-O19<0)),"O","X")) -> X | Q19: 국비 변경내시 ※ 질병관리본부 감염병관리과-2539(2015.8.17.)호 | V19: =IF($U19<>"도비",IF($S19="국도비","직접입력",SUM($J19:$K19)),) -> 149400 | W19: =IF($U19="도비",SUM($J19:$K19),IF($S19="국도비","직접입력",SUM($J19:$K19)-$V19)) -> 0 | X19: =IF(SUM($J19:$K19)=SUM($V19:$W19),"OK","검토") -> OK | AA19: =IF($U19<>"도비",IF($S19="국도비","직접입력",SUM($M19:$N19)),) -> 149400 | AB19: =IF($U19="도비",SUM(M19:N19),IF($S19="국도비","직접입력",SUM(M19:N19)-AA19)) -> 0 | AC19: =IF(SUM(M19:N19)=SUM(AA19:AB19),"OK","검토") -> OK | AE19: =IF(AG19="","",IF(U19="도비","세입없음",CONCATENATE(AG19,"-",COUNTIF($AG$7:AG19,AG19)))) -> 0705-1 | AG19: {=IF(C19="","",INDEX(구분표!$I$2:$I$300, MATCH(1,(구분표!$E$2:$E$300='2추일입'!B19)*(구분표!$F$2:$F$300='2추일입'!C19)*(구분표!$G$2:$G$300='2추일입'!A19),0)))} -> 0705 | AK19: =IF(AE19="",0,SUMIFS('2추일출'!$V$6:$V$294,'2추일출'!$AE$6:$AE$294,'2추일입'!$AE19)) -> 149400 | AL19: =IF(AE19="","",COUNTIFS('2추일출'!$AE$6:$AE$294,'2추일입'!AE19)) -> 1 | AM19: =IF(V19=AK19,"OK","@@") -> OK | AO19: =IF(AE19="",0,SUMIFS('2추일출'!$AA$6:$AA$294,'2추일출'!$AE$6:$AE$294,'2추일입'!$AE19)) -> 149400 | AP19: =IF(AE19="","",COUNTIFS('2추일출'!$AE$6:$AE$294,AE19)) -> 1 | AQ19: =IF(AA19=AO19,"OK","@@") -> OK
A20: =IFERROR(VLOOKUP($C20,구분표!$A$2:$C$300,2,FALSE),"") -> 보건복지위원회 | B20: =IFERROR(VLOOKUP($C20,구분표!$A$2:$C$300,3,FALSE),"") -> 보건복지국 | C20: 보건정책과 | D20: 2회추경 | E20: 568 | F20: 국고보조금 (감염병관리 시설 및 장비확충) | G20: 5625280 | I20: =IF(D20="","",G20-H20) -> 5625280 | J20: -1531082 | L20: =IF(G20=0,H20+J20+K20,G20+J20+K20) -> 4094198 | M20: -1531082 | O20: =IF(G20=0,H20+M20+N20,G20+M20+N20) -> 4094198 | P20: =IF(AND((L20=0),(O20>0)),"O",IF(AND((J20<0),(L20-O20<0)),"O","X")) -> X | Q20: 국비 변경내시 ※ 질병관리본부 공중보건위기대응과-2338(2015.8.21)호 ※ 보건복지부 응급의료과-6007(2015.9.3)호 | V20: =IF($U20<>"도비",IF($S20="국도비","직접입력",SUM($J20:$K20)),) -> -1531082 | W20: =IF($U20="도비",SUM($J20:$K20),IF($S20="국도비","직접입력",SUM($J20:$K20)-$V20)) -> 0 | X20: =IF(SUM($J20:$K20)=SUM($V20:$W20),"OK","검토") -> OK | AA20: =IF($U20<>"도비",IF($S20="국도비","직접입력",SUM($M20:$N20)),) -> -1531082 | AB20: =IF($U20="도비",SUM(M20:N20),IF($S20="국도비","직접입력",SUM(M20:N20)-AA20)) -> 0 | AC20: =IF(SUM(M20:N20)=SUM(AA20:AB20),"OK","검토") -> OK | AE20: =IF(AG20="","",IF(U20="도비","세입없음",CONCATENATE(AG20,"-",COUNTIF($AG$7:AG20,AG20)))) -> 0705-2 | AG20: {=IF(C20="","",INDEX(구분표!$I$2:$I$300, MATCH(1,(구분표!$E$2:$E$300='2추일입'!B20)*(구분표!$F$2:$F$300='2추일입'!C20)*(구분표!$G$2:$G$300='2추일입'!A20),0)))} -> 0705 | AK20: =IF(AE20="",0,SUMIFS('2추일출'!$V$6:$V$294,'2추일출'!$AE$6:$AE$294,'2추일입'!$AE20)) -> -1531082 | AL20: =IF(AE20="","",COUNTIFS('2추일출'!$AE$6:$AE$294,'2추일입'!AE20)) -> 2 | AM20: =IF(V20=AK20,"OK","@@") -> OK | AO20: =IF(AE20="",0,SUMIFS('2추일출'!$AA$6:$AA$294,'2추일출'!$AE$6:$AE$294,'2추일입'!$AE20)) -> -1531082 | AP20: =IF(AE20="","",COUNTIFS('2추일출'!$AE$6:$AE$294,AE20)) -> 2 | AQ20: =IF(AA20=AO20,"OK","@@") -> OK
A21: =IFERROR(VLOOKUP($C21,구분표!$A$2:$C$300,2,FALSE),"") -> 보건복지위원회 | B21: =IFERROR(VLOOKUP($C21,구분표!$A$2:$C$300,3,FALSE),"") -> 보건복지국 | C21: 보건정책과 | D21: 2회추경 | E21: 568 | F21: 기금 (취약지역 응급의료기관 운영) | G21: 3325000 | H21: 3220000 | I21: =IF(D21="","",G21-H21) -> 105000 | J21: -1440000 | L21: =IF(G21=0,H21+J21+K21,G21+J21+K21) -> 1885000 | M21: -1440000 | O21: =IF(G21=0,H21+M21+N21,G21+M21+N21) -> 1885000 | P21: =IF(AND((L21=0),(O21>0)),"O",IF(AND((J21<0),(L21-O21<0)),"O","X")) -> X | Q21: 국비 변경내시 ※ 보건복지부 응급의료과-5440(2015.8.7.)호 | V21: =IF($U21<>"도비",IF($S21="국도비","직접입력",SUM($J21:$K21)),) -> -1440000 | W21: =IF($U21="도비",SUM($J21:$K21),IF($S21="국도비","직접입력",SUM($J21:$K21)-$V21)) -> 0 | X21: =IF(SUM($J21:$K21)=SUM($V21:$W21),"OK","검토") -> OK | AA21: =IF($U21<>"도비",IF($S21="국도비","직접입력",SUM($M21:$N21)),) -> -1440000 | AB21: =IF($U21="도비",SUM(M21:N21),IF($S21="국도비","직접입력",SUM(M21:N21)-AA21)) -> 0 | AC21: =IF(SUM(M21:N21)=SUM(AA21:AB21),"OK","검토") -> OK | AE21: =IF(AG21="","",IF(U21="도비","세입없음",CONCATENATE(AG21,"-",COUNTIF($AG$7:AG21,AG21)))) -> 0705-3 | AG21: {=IF(C21="","",INDEX(구분표!$I$2:$I$300, MATCH(1,(구분표!$E$2:$E$300='2추일입'!B21)*(구분표!$F$2:$F$300='2추일입'!C21)*(구분표!$G$2:$G$300='2추일입'!A21),0)))} -> 0705 | AK21: =IF(AE21="",0,SUMIFS('2추일출'!$V$6:$V$294,'2추일출'!$AE$6:$AE$294,'2추일입'!$AE21)) -> -1440000 | AL21: =IF(AE21="","",COUNTIFS('2추일출'!$AE$6:$AE$294,'2추일입'!AE21)) -> 2 | AM21: =IF(V21=AK21,"OK","@@") -> OK | AO21: =IF(AE21="",0,SUMIFS('2추일출'!$AA$6:$AA$294,'2추일출'!$AE$6:$AE$294,'2추일입'!$AE21)) -> -1440000 | AP21: =IF(AE21="","",COUNTIFS('2추일출'!$AE$6:$AE$294,AE21)) -> 2 | AQ21: =IF(AA21=AO21,"OK","@@") -> OK
A22: =IFERROR(VLOOKUP($C22,구분표!$A$2:$C$300,2,FALSE),"") -> 보건복지위원회 | B22: =IFERROR(VLOOKUP($C22,구분표!$A$2:$C$300,3,FALSE),"") -> 보건복지국 | C22: 보건정책과 | D22: 2회추경 | E22: 568 | F22: 기금 (국내외재난의료지원) | G22: 666935 | H22: 558935 | I22: =IF(D22="","",G22-H22) -> 108000 | K22: 77000 | L22: =IF(G22=0,H22+J22+K22,G22+J22+K22) -> 743935 | N22: 77000 | O22: =IF(G22=0,H22+M22+N22,G22+M22+N22) -> 743935 | P22: =IF(AND((L22=0),(O22>0)),"O",IF(AND((J22<0),(L22-O22<0)),"O","X")) -> X | Q22: 국비 변경내시 ※ 보건복지부 응급의료과-5928(2015.8.31)호 | V22: =IF($U22<>"도비",IF($S22="국도비","직접입력",SUM($J22:$K22)),) -> 77000 | W22: =IF($U22="도비",SUM($J22:$K22),IF($S22="국도비","직접입력",SUM($J22:$K22)-$V22)) -> 0 | X22: =IF(SUM($J22:$K22)=SUM($V22:$W22),"OK","검토") -> OK | AA22: =IF($U22<>"도비",IF($S22="국도비","직접입력",SUM($M22:$N22)),) -> 77000 | AB22: =IF($U22="도비",SUM(M22:N22),IF($S22="국도비","직접입력",SUM(M22:N22)-AA22)) -> 0 | AC22: =IF(SUM(M22:N22)=SUM(AA22:AB22),"OK","검토") -> OK | AE22: =IF(AG22="","",IF(U22="도비","세입없음",CONCATENATE(AG22,"-",COUNTIF($AG$7:AG22,AG22)))) -> 0705-4 | AG22: {=IF(C22="","",INDEX(구분표!$I$2:$I$300, MATCH(1,(구분표!$E$2:$E$300='2추일입'!B22)*(구분표!$F$2:$F$300='2추일입'!C22)*(구분표!$G$2:$G$300='2추일입'!A22),0)))} -> 0705 | AK22: =IF(AE22="",0,SUMIFS('2추일출'!$V$6:$V$294,'2추일출'!$AE$6:$AE$294,'2추일입'!$AE22)) -> 77000 | AL22: =IF(AE22="","",COUNTIFS('2추일출'!$AE$6:$AE$294,'2추일입'!AE22)) -> 2 | AM22: =IF(V22=AK22,"OK","@@") -> OK | AO22: =IF(AE22="",0,SUMIFS('2추일출'!$AA$6:$AA$294,'2추일출'!$AE$6:$AE$294,'2추일입'!$AE22)) -> 77000 | AP22: =IF(AE22="","",COUNTIFS('2추일출'!$AE$6:$AE$294,AE22)) -> 2 | AQ22: =IF(AA22=AO22,"OK","@@") -> OK
A23: =IFERROR(VLOOKUP($C23,구분표!$A$2:$C$300,2,FALSE),"") -> 보건복지위원회 | B23: =IFERROR(VLOOKUP($C23,구분표!$A$2:$C$300,3,FALSE),"") -> 보건복지국 | C23: 건강증진과 | D23: 2회추경 | E23: 569 | F23: 기금 (암환자지원사업) | G23: 4793303 | H23: 4312387 | I23: =IF(D23="","",G23-H23) -> 480916 | K23: 44439 | L23: =IF(G23=0,H23+J23+K23,G23+J23+K23) -> 4837742 | N23: 44439 | O23: =IF(G23=0,H23+M23+N23,G23+M23+N23) -> 4837742 | P23: =IF(AND((L23=0),(O23>0)),"O",IF(AND((J23<0),(L23-O23<0)),"O","X")) -> X | Q23: 국비 변경내시 ※ 보건복지부 질병정책과-6448(2015.9.9.)호 | V23: =IF($U23<>"도비",IF($S23="국도비","직접입력",SUM($J23:$K23)),) -> 44439 | W23: =IF($U23="도비",SUM($J23:$K23),IF($S23="국도비","직접입력",SUM($J23:$K23)-$V23)) -> 0 | X23: =IF(SUM($J23:$K23)=SUM($V23:$W23),"OK","검토") -> OK | AA23: =IF($U23<>"도비",IF($S23="국도비","직접입력",SUM($M23:$N23)),) -> 44439 | AB23: =IF($U23="도비",SUM(M23:N23),IF($S23="국도비","직접입력",SUM(M23:N23)-AA23)) -> 0 | AC23: =IF(SUM(M23:N23)=SUM(AA23:AB23),"OK","검토") -> OK | AE23: =IF(AG23="","",IF(U23="도비","세입없음",CONCATENATE(AG23,"-",COUNTIF($AG$7:AG23,AG23)))) -> 0706-1 | AG23: {=IF(C23="","",INDEX(구분표!$I$2:$I$300, MATCH(1,(구분표!$E$2:$E$300='2추일입'!B23)*(구분표!$F$2:$F$300='2추일입'!C23)*(구분표!$G$2:$G$300='2추일입'!A23),0)))} -> 0706 | AK23: =IF(AE23="",0,SUMIFS('2추일출'!$V$6:$V$294,'2추일출'!$AE$6:$AE$294,'2추일입'!$AE23)) -> 44439 | AL23: =IF(AE23="","",COUNTIFS('2추일출'!$AE$6:$AE$294,'2추일입'!AE23)) -> 1 | AM23: =IF(V23=AK23,"OK","@@") -> OK | AO23: =IF(AE23="",0,SUMIFS('2추일출'!$AA$6:$AA$294,'2추일출'!$AE$6:$AE$294,'2추일입'!$AE23)) -> 44439 | AP23: =IF(AE23="","",COUNTIFS('2추일출'!$AE$6:$AE$294,AE23)) -> 1 | AQ23: =IF(AA23=AO23,"OK","@@") -> OK
A24: =IFERROR(VLOOKUP($C24,구분표!$A$2:$C$300,2,FALSE),"") -> 도시환경위원회 | B24: =IFERROR(VLOOKUP($C24,구분표!$A$2:$C$300,3,FALSE),"") -> 수자원본부 | C24: 수자원본부 | D24: 2회추경 | E24: 761 | F24: 도시침수대응 | G24: 38242000 | H24: 38431000 | I24: =IF(D24="","",G24-H24) -> -189000 | K24: 3310000 | L24: =IF(G24=0,H24+J24+K24,G24+J24+K24) -> 41552000 | N24: 3310000 | O24: =IF(G24=0,H24+M24+N24,G24+M24+N24) -> 41552000 | P24: =IF(AND((L24=0),(O24>0)),"O",IF(AND((J24<0),(L24-O24<0)),"O","X")) -> X | Q24: 환경부 국비 증액내시에 따른 예산 증액 ※한강유역환경청 수질총량관리과-7909(15.8.21)호 | V24: =IF($U24<>"도비",IF($S24="국도비","직접입력",SUM($J24:$K24)),) -> 3310000 | W24: =IF($U24="도비",SUM($J24:$K24),IF($S24="국도비","직접입력",SUM($J24:$K24)-$V24)) -> 0 | X24: =IF(SUM($J24:$K24)=SUM($V24:$W24),"OK","검토") -> OK | AA24: =IF($U24<>"도비",IF($S24="국도비","직접입력",SUM($M24:$N24)),) -> 3310000 | AB24: =IF($U24="도비",SUM(M24:N24),IF($S24="국도비","직접입력",SUM(M24:N24)-AA24)) -> 0 | AC24: =IF(SUM(M24:N24)=SUM(AA24:AB24),"OK","검토") -> OK | AE24: =IF(AG24="","",IF(U24="도비","세입없음",CONCATENATE(AG24,"-",COUNTIF($AG$7:AG24,AG24)))) -> 0921-1 | AG24: {=IF(C24="","",INDEX(구분표!$I$2:$I$300, MATCH(1,(구분표!$E$2:$E$300='2추일입'!B24)*(구분표!$F$2:$F$300='2추일입'!C24)*(구분표!$G$2:$G$300='2추일입'!A24),0)))} -> 0921 | AK24: =IF(AE24="",0,SUMIFS('2추일출'!$V$6:$V$294,'2추일출'!$AE$6:$AE$294,'2추일입'!$AE24)) -> 3310000 | AL24: =IF(AE24="","",COUNTIFS('2추일출'!$AE$6:$AE$294,'2추일입'!AE24)) -> 1 | AM24: =IF(V24=AK24,"OK","@@") -> OK | AO24: =IF(AE24="",0,SUMIFS('2추일출'!$AA$6:$AA$294,'2추일출'!$AE$6:$AE$294,'2추일입'!$AE24)) -> 3310000 | AP24: =IF(AE24="","",COUNTIFS('2추일출'!$AE$6:$AE$294,AE24)) -> 1 | AQ24: =IF(AA24=AO24,"OK","@@") -> OK
A25: =IFERROR(VLOOKUP($C25,구분표!$A$2:$C$300,2,FALSE),"") -> 도시환경위원회 | B25: =IFERROR(VLOOKUP($C25,구분표!$A$2:$C$300,3,FALSE),"") -> 수자원본부 | C25: 수자원본부 | D25: 2회추경 | E25: 761 | F25: 하수처리장 확충 | G25: 109356000 | H25: 110747000 | I25: =IF(D25="","",G25-H25) -> -1391000 | J25: -6902000 | L25: =IF(G25=0,H25+J25+K25,G25+J25+K25) -> 102454000 | M25: -6902000 | O25: =IF(G25=0,H25+M25+N25,G25+M25+N25) -> 102454000 | P25: =IF(AND((L25=0),(O25>0)),"O",IF(AND((J25<0),(L25-O25<0)),"O","X")) -> X | Q25: 환경부 국비 감액내시에 따른 예산 감액 ※한강유역환경청 수질총량관리과-7277(15.8.4)호, 수질총량관리과-7909(2015.8.21)호 | V25: =IF($U25<>"도비",IF($S25="국도비","직접입력",SUM($J25:$K25)),) -> -6902000 | W25: =IF($U25="도비",SUM($J25:$K25),IF($S25="국도비","직접입력",SUM($J25:$K25)-$V25)) -> 0 | X25: =IF(SUM($J25:$K25)=SUM($V25:$W25),"OK","검토") -> OK | AA25: =IF($U25<>"도비",IF($S25="국도비","직접입력",SUM($M25:$N25)),) -> -6902000 | AB25: =IF($U25="도비",SUM(M25:N25),IF($S25="국도비","직접입력",SUM(M25:N25)-AA25)) -> 0 | AC25: =IF(SUM(M25:N25)=SUM(AA25:AB25),"OK","검토") -> OK | AE25: =IF(AG25="","",IF(U25="도비","세입없음",CONCATENATE(AG25,"-",COUNTIF($AG$7:AG25,AG25)))) -> 0921-2 | AG25: {=IF(C25="","",INDEX(구분표!$I$2:$I$300, MATCH(1,(구분표!$E$2:$E$300='2추일입'!B25)*(구분표!$F$2:$F$300='2추일입'!C25)*(구분표!$G$2:$G$300='2추일입'!A25),0)))} -> 0921 | AK25: =IF(AE25="",0,SUMIFS('2추일출'!$V$6:$V$294,'2추일출'!$AE$6:$AE$294,'2추일입'!$AE25)) -> -6902000 | AL25: =IF(AE25="","",COUNTIFS('2추일출'!$AE$6:$AE$294,'2추일입'!AE25)) -> 1 | AM25: =IF(V25=AK25,"OK","@@") -> OK | AO25: =IF(AE25="",0,SUMIFS('2추일출'!$AA$6:$AA$294,'2추일출'!$AE$6:$AE$294,'2추일입'!$AE25)) -> -6902000 | AP25: =IF(AE25="","",COUNTIFS('2추일출'!$AE$6:$AE$294,AE25)) -> 1 | AQ25: =IF(AA25=AO25,"OK","@@") -> OK
A26: =IFERROR(VLOOKUP($C26,구분표!$A$2:$C$300,2,FALSE),"") -> 도시환경위원회 | B26: =IFERROR(VLOOKUP($C26,구분표!$A$2:$C$300,3,FALSE),"") -> 수자원본부 | C26: 수자원본부 | D26: 2회추경 | E26: 761 | F26: 농어촌마을 하수처리장 설치 | G26: 22506000 | H26: 23264000 | I26: =IF(D26="","",G26-H26) -> -758000 | K26: 564000 | L26: =IF(G26=0,H26+J26+K26,G26+J26+K26) -> 23070000 | N26: 564000 | O26: =IF(G26=0,H26+M26+N26,G26+M26+N26) -> 23070000 | P26: =IF(AND((L26=0),(O26>0)),"O",IF(AND((J26<0),(L26-O26<0)),"O","X")) -> X | Q26: 환경부 국비 증액내시에 따른 예산 증액 ※한강유역환경청 수질총량관리과-7277(15.8.4)호, 수질총량관리과-7909(2015.8.21)호 | V26: =IF($U26<>"도비",IF($S26="국도비","직접입력",SUM($J26:$K26)),) -> 564000 | W26: =IF($U26="도비",SUM($J26:$K26),IF($S26="국도비","직접입력",SUM($J26:$K26)-$V26)) -> 0 | X26: =IF(SUM($J26:$K26)=SUM($V26:$W26),"OK","검토") -> OK | AA26: =IF($U26<>"도비",IF($S26="국도비","직접입력",SUM($M26:$N26)),) -> 564000 | AB26: =IF($U26="도비",SUM(M26:N26),IF($S26="국도비","직접입력",SUM(M26:N26)-AA26)) -> 0 | AC26: =IF(SUM(M26:N26)=SUM(AA26:AB26),"OK","검토") -> OK | AE26: =IF(AG26="","",IF(U26="도비","세입없음",CONCATENATE(AG26,"-",COUNTIF($AG$7:AG26,AG26)))) -> 0921-3 | AG26: {=IF(C26="","",INDEX(구분표!$I$2:$I$300, MATCH(1,(구분표!$E$2:$E$300='2추일입'!B26)*(구분표!$F$2:$F$300='2추일입'!C26)*(구분표!$G$2:$G$300='2추일입'!A26),0)))} -> 0921 | AK26: =IF(AE26="",0,SUMIFS('2추일출'!$V$6:$V$294,'2추일출'!$AE$6:$AE$294,'2추일입'!$AE26)) -> 564000 | AL26: =IF(AE26="","",COUNTIFS('2추일출'!$AE$6:$AE$294,'2추일입'!AE26)) -> 1 | AM26: =IF(V26=AK26,"OK","@@") -> OK | AO26: =IF(AE26="",0,SUMIFS('2추일출'!$AA$6:$AA$294,'2추일출'!$AE$6:$AE$294,'2추일입'!$AE26)) -> 564000 | AP26: =IF(AE26="","",COUNTIFS('2추일출'!$AE$6:$AE$294,AE26)) -> 1 | AQ26: =IF(AA26=AO26,"OK","@@") -> OK
A27: =IFERROR(VLOOKUP($C27,구분표!$A$2:$C$300,2,FALSE),"") -> 도시환경위원회 | B27: =IFERROR(VLOOKUP($C27,구분표!$A$2:$C$300,3,FALSE),"") -> 수자원본부 | C27: 수자원본부 | D27: 2회추경 | E27: 761 | F27: 하수관로 정비사업 | G27: 184848000 | H27: 190237000 | I27: =IF(D27="","",G27-H27) -> -5389000 | K27: 11189000 | L27: =IF(G27=0,H27+J27+K27,G27+J27+K27) -> 196037000 | N27: 11189000 | O27: =IF(G27=0,H27+M27+N27,G27+M27+N27) -> 196037000 | P27: =IF(AND((L27=0),(O27>0)),"O",IF(AND((J27<0),(L27-O27<0)),"O","X")) -> X | Q27: 환경부 국비 증액내시에 따른 예산 증액 ※한강유역환경청 수질총량관리과-7277(15.8.4)호, 수질총량관리과-7909(2015.8.21)호 | V27: =IF($U27<>"도비",IF($S27="국도비","직접입력",SUM($J27:$K27)),) -> 11189000 | W27: =IF($U27="도비",SUM($J27:$K27),IF($S27="국도비","직접입력",SUM($J27:$K27)-$V27)) -> 0 | X27: =IF(SUM($J27:$K27)=SUM($V27:$W27),"OK","검토") -> OK | AA27: =IF($U27<>"도비",IF($S27="국도비","직접입력",SUM($M27:$N27)),) -> 11189000 | AB27: =IF($U27="도비",SUM(M27:N27),IF($S27="국도비","직접입력",SUM(M27:N27)-AA27)) -> 0 | AC27: =IF(SUM(M27:N27)=SUM(AA27:AB27),"OK","검토") -> OK | AE27: =IF(AG27="","",IF(U27="도비","세입없음",CONCATENATE(AG27,"-",COUNTIF($AG$7:AG27,AG27)))) -> 0921-4 | AG27: {=IF(C27="","",INDEX(구분표!$I$2:$I$300, MATCH(1,(구분표!$E$2:$E$300='2추일입'!B27)*(구분표!$F$2:$F$300='2추일입'!C27)*(구분표!$G$2:$G$300='2추일입'!A27),0)))} -> 0921 | AK27: =IF(AE27="",0,SUMIFS('2추일출'!$V$6:$V$294,'2추일출'!$AE$6:$AE$294,'2추일입'!$AE27)) -> 11189000 | AL27: =IF(AE27="","",COUNTIFS('2추일출'!$AE$6:$AE$294,'2추일입'!AE27)) -> 1 | AM27: =IF(V27=AK27,"OK","@@") -> OK | AO27: =IF(AE27="",0,SUMIFS('2추일출'!$AA$6:$AA$294,'2추일출'!$AE$6:$AE$294,'2추일입'!$AE27)) -> 11189000 | AP27: =IF(AE27="","",COUNTIFS('2추일출'!$AE$6:$AE$294,AE27)) -> 1 | AQ27: =IF(AA27=AO27,"OK","@@") -> OK
A28: =IFERROR(VLOOKUP($C28,구분표!$A$2:$C$300,2,FALSE),"") -> 도시환경위원회 | B28: =IFERROR(VLOOKUP($C28,구분표!$A$2:$C$300,3,FALSE),"") -> 수자원본부 | C28: 수자원본부 | D28: 본예산 | E28: 62 | F28: 면단위하수처리장 설치 | G28: 0 | H28: 69000 | I28: =IF(D28="","",G28-H28) -> -69000 | K28: 1500000 | L28: =IF(G28=0,H28+J28+K28,G28+J28+K28) -> 1569000 | N28: 1500000 | O28: =IF(G28=0,H28+M28+N28,G28+M28+N28) -> 1569000 | P28: =IF(AND((L28=0),(O28>0)),"O",IF(AND((J28<0),(L28-O28<0)),"O","X")) -> X | Q28: 환경부 국비 증액내시에 따른 예산 증액 ※한강유역환경청 수질총량관리과-7277(15.8.4)호, 수질총량관리과-7909(2015.8.21)호 | V28: =IF($U28<>"도비",IF($S28="국도비","직접입력",SUM($J28:$K28)),) -> 1500000 | W28: =IF($U28="도비",SUM($J28:$K28),IF($S28="국도비","직접입력",SUM($J28:$K28)-$V28)) -> 0 | X28: =IF(SUM($J28:$K28)=SUM($V28:$W28),"OK","검토") -> OK | AA28: =IF($U28<>"도비",IF($S28="국도비","직접입력",SUM($M28:$N28)),) -> 1500000 | AB28: =IF($U28="도비",SUM(M28:N28),IF($S28="국도비","직접입력",SUM(M28:N28)-AA28)) -> 0 | AC28: =IF(SUM(M28:N28)=SUM(AA28:AB28),"OK","검토") -> OK | AE28: =IF(AG28="","",IF(U28="도비","세입없음",CONCATENATE(AG28,"-",COUNTIF($AG$7:AG28,AG28)))) -> 0921-5 | AG28: {=IF(C28="","",INDEX(구분표!$I$2:$I$300, MATCH(1,(구분표!$E$2:$E$300='2추일입'!B28)*(구분표!$F$2:$F$300='2추일입'!C28)*(구분표!$G$2:$G$300='2추일입'!A28),0)))} -> 0921 | AK28: =IF(AE28="",0,SUMIFS('2추일출'!$V$6:$V$294,'2추일출'!$AE$6:$AE$294,'2추일입'!$AE28)) -> 1500000 | AL28: =IF(AE28="","",COUNTIFS('2추일출'!$AE$6:$AE$294,'2추일입'!AE28)) -> 1 | AM28: =IF(V28=AK28,"OK","@@") -> OK | AO28: =IF(AE28="",0,SUMIFS('2추일출'!$AA$6:$AA$294,'2추일출'!$AE$6:$AE$294,'2추일입'!$AE28)) -> 1500000 | AP28: =IF(AE28="","",COUNTIFS('2추일출'!$AE$6:$AE$294,AE28)) -> 1 | AQ28: =IF(AA28=AO28,"OK","@@") -> OK
A29: =IFERROR(VLOOKUP($C29,구분표!$A$2:$C$300,2,FALSE),"") -> 도시환경위원회 | B29: =IFERROR(VLOOKUP($C29,구분표!$A$2:$C$300,3,FALSE),"") -> 환경국 | C29: 환경정책과 | D29: 신규 | F29: 도시소생태사업 조성사업 | G29: 0 | H29: 0 | I29: =IF(D29="","",G29-H29) -> 0 | K29: 110000 | L29: =IF(G29=0,H29+J29+K29,G29+J29+K29) -> 110000 | N29: 110000 | O29: =IF(G29=0,H29+M29+N29,G29+M29+N29) -> 110000 | P29: =IF(AND((L29=0),(O29>0)),"O",IF(AND((J29<0),(L29-O29<0)),"O","X")) -> X | Q29: 환경부 국비 증액내시에 따른 예산 증액 ※환경부 자연정책과-4360(2015.9.8)호 | V29: =IF($U29<>"도비",IF($S29="국도비","직접입력",SUM($J29:$K29)),) -> 110000 | W29: =IF($U29="도비",SUM($J29:$K29),IF($S29="국도비","직접입력",SUM($J29:$K29)-$V29)) -> 0 | X29: =IF(SUM($J29:$K29)=SUM($V29:$W29),"OK","검토") -> OK | AA29: =IF($U29<>"도비",IF($S29="국도비","직접입력",SUM($M29:$N29)),) -> 110000 | AB29: =IF($U29="도비",SUM(M29:N29),IF($S29="국도비","직접입력",SUM(M29:N29)-AA29)) -> 0 | AC29: =IF(SUM(M29:N29)=SUM(AA29:AB29),"OK","검토") -> OK | AE29: =IF(AG29="","",IF(U29="도비","세입없음",CONCATENATE(AG29,"-",COUNTIF($AG$7:AG29,AG29)))) -> 0911-1 | AG29: {=IF(C29="","",INDEX(구분표!$I$2:$I$300, MATCH(1,(구분표!$E$2:$E$300='2추일입'!B29)*(구분표!$F$2:$F$300='2추일입'!C29)*(구분표!$G$2:$G$300='2추일입'!A29),0)))} -> 0911 | AK29: =IF(AE29="",0,SUMIFS('2추일출'!$V$6:$V$294,'2추일출'!$AE$6:$AE$294,'2추일입'!$AE29)) -> 110000 | AL29: =IF(AE29="","",COUNTIFS('2추일출'!$AE$6:$AE$294,'2추일입'!AE29)) -> 1 | AM29: =IF(V29=AK29,"OK","@@") -> OK | AO29: =IF(AE29="",0,SUMIFS('2추일출'!$AA$6:$AA$294,'2추일출'!$AE$6:$AE$294,'2추일입'!$AE29)) -> 110000 | AP29: =IF(AE29="","",COUNTIFS('2추일출'!$AE$6:$AE$294,AE29)) -> 1 | AQ29: =IF(AA29=AO29,"OK","@@") -> OK
A30: =IFERROR(VLOOKUP($C30,구분표!$A$2:$C$300,2,FALSE),"") -> 안전행정위원회 | B30: =IFERROR(VLOOKUP($C30,구분표!$A$2:$C$300,3,FALSE),"") -> 재난안전본부 | C30: 재난대응과 | D30: 신규 | E30: 387 | F30: 감염병시설 및 장비확충 | G30: 704000 | H30: 0 | I30: =IF(D30="","",G30-H30) -> 704000 | L30: =IF(G30=0,H30+J30+K30,G30+J30+K30) -> 704000 | O30: =IF(G30=0,H30+M30+N30,G30+M30+N30) -> 704000 | P30: =IF(AND((L30=0),(O30>0)),"O",IF(AND((J30<0),(L30-O30<0)),"O","X")) -> X | Q30: 세입과목 변경(기금 ⇒ 국고보조금) | V30: =IF($U30<>"도비",IF($S30="국도비","직접입력",SUM($J30:$K30)),) -> 0 | W30: =IF($U30="도비",SUM($J30:$K30),IF($S30="국도비","직접입력",SUM($J30:$K30)-$V30)) -> 0 | X30: =IF(SUM($J30:$K30)=SUM($V30:$W30),"OK","검토") -> OK | AA30: =IF($U30<>"도비",IF($S30="국도비","직접입력",SUM($M30:$N30)),) -> 0 | AB30: =IF($U30="도비",SUM(M30:N30),IF($S30="국도비","직접입력",SUM(M30:N30)-AA30)) -> 0 | AC30: =IF(SUM(M30:N30)=SUM(AA30:AB30),"OK","검토") -> OK | AE30: =IF(AG30="","",IF(U30="도비","세입없음",CONCATENATE(AG30,"-",COUNTIF($AG$7:AG30,AG30)))) -> 0411-1 | AG30: {=IF(C30="","",INDEX(구분표!$I$2:$I$300, MATCH(1,(구분표!$E$2:$E$300='2추일입'!B30)*(구분표!$F$2:$F$300='2추일입'!C30)*(구분표!$G$2:$G$300='2추일입'!A30),0)))} -> 0411 | AK30: =IF(AE30="",0,SUMIFS('2추일출'!$V$6:$V$294,'2추일출'!$AE$6:$AE$294,'2추일입'!$AE30)) -> 0 | AL30: =IF(AE30="","",COUNTIFS('2추일출'!$AE$6:$AE$294,'2추일입'!AE30)) -> 1 | AM30: =IF(V30=AK30,"OK","@@") -> OK | AO30: =IF(AE30="",0,SUMIFS('2추일출'!$AA$6:$AA$294,'2추일출'!$AE$6:$AE$294,'2추일입'!$AE30)) -> 0 | AP30: =IF(AE30="","",COUNTIFS('2추일출'!$AE$6:$AE$294,AE30)) -> 1 | AQ30: =IF(AA30=AO30,"OK","@@") -> OK
A31: =IFERROR(VLOOKUP($C31,구분표!$A$2:$C$300,2,FALSE),"") -> 문화체육관광위원회 | B31: =IFERROR(VLOOKUP($C31,구분표!$A$2:$C$300,3,FALSE),"") -> 문화체육관광국 | C31: 체육과 | D31: 신규 | F31: 지방체육진흥 지원사업 | G31: 0 | H31: 0 | I31: =IF(D31="","",G31-H31) -> 0 | K31: 925000 | L31: =IF(G31=0,H31+J31+K31,G31+J31+K31) -> 925000 | N31: 925000 | O31: =IF(G31=0,H31+M31+N31,G31+M31+N31) -> 925000 | P31: =IF(AND((L31=0),(O31>0)),"O",IF(AND((J31<0),(L31-O31<0)),"O","X")) -> X | V31: =IF($U31<>"도비",IF($S31="국도비","직접입력",SUM($J31:$K31)),) -> 925000 | W31: =IF($U31="도비",SUM($J31:$K31),IF($S31="국도비","직접입력",SUM($J31:$K31)-$V31)) -> 0 | X31: =IF(SUM($J31:$K31)=SUM($V31:$W31),"OK","검토") -> OK | AA31: =IF($U31<>"도비",IF($S31="국도비","직접입력",SUM($M31:$N31)),) -> 925000 | AB31: =IF($U31="도비",SUM(M31:N31),IF($S31="국도비","직접입력",SUM(M31:N31)-AA31)) -> 0 | AC31: =IF(SUM(M31:N31)=SUM(AA31:AB31),"OK","검토") -> OK | AE31: =IF(AG31="","",IF(U31="도비","세입없음",CONCATENATE(AG31,"-",COUNTIF($AG$7:AG31,AG31)))) -> 0503-1 | AG31: {=IF(C31="","",INDEX(구분표!$I$2:$I$300, MATCH(1,(구분표!$E$2:$E$300='2추일입'!B31)*(구분표!$F$2:$F$300='2추일입'!C31)*(구분표!$G$2:$G$300='2추일입'!A31),0)))} -> 0503 | AK31: =IF(AE31="",0,SUMIFS('2추일출'!$V$6:$V$294,'2추일출'!$AE$6:$AE$294,'2추일입'!$AE31)) -> 925000 | AL31: =IF(AE31="","",COUNTIFS('2추일출'!$AE$6:$AE$294,'2추일입'!AE31)) -> 3 | AM31: =IF(V31=AK31,"OK","@@") -> OK | AO31: =IF(AE31="",0,SUMIFS('2추일출'!$AA$6:$AA$294,'2추일출'!$AE$6:$AE$294,'2추일입'!$AE31)) -> 925000 | AP31: =IF(AE31="","",COUNTIFS('2추일출'!$AE$6:$AE$294,AE31)) -> 3 | AQ31: =IF(AA31=AO31,"OK","@@") -> OK
A32: =IFERROR(VLOOKUP($C32,구분표!$A$2:$C$300,2,FALSE),"") -> 문화체육관광위원회 | B32: =IFERROR(VLOOKUP($C32,구분표!$A$2:$C$300,3,FALSE),"") -> 문화체육관광국 | C32: 체육과 | D32: 2회추경 | E32: 452 | F32: 국민체육센터 건립 지원 | G32: 8740000 | H32: 4440000 | I32: =IF(D32="","",G32-H32) -> 4300000 | K32: 2700000 | L32: =IF(G32=0,H32+J32+K32,G32+J32+K32) -> 11440000 | N32: 2700000 | O32: =IF(G32=0,H32+M32+N32,G32+M32+N32) -> 11440000 | P32: =IF(AND((L32=0),(O32>0)),"O",IF(AND((J32<0),(L32-O32<0)),"O","X")) -> X | V32: =IF($U32<>"도비",IF($S32="국도비","직접입력",SUM($J32:$K32)),) -> 2700000 | W32: =IF($U32="도비",SUM($J32:$K32),IF($S32="국도비","직접입력",SUM($J32:$K32)-$V32)) -> 0 | X32: =IF(SUM($J32:$K32)=SUM($V32:$W32),"OK","검토") -> OK | AA32: =IF($U32<>"도비",IF($S32="국도비","직접입력",SUM($M32:$N32)),) -> 2700000 | AB32: =IF($U32="도비",SUM(M32:N32),IF($S32="국도비","직접입력",SUM(M32:N32)-AA32)) -> 0 | AC32: =IF(SUM(M32:N32)=SUM(AA32:AB32),"OK","검토") -> OK | AE32: =IF(AG32="","",IF(U32="도비","세입없음",CONCATENATE(AG32,"-",COUNTIF($AG$7:AG32,AG32)))) -> 0503-2 | AG32: {=IF(C32="","",INDEX(구분표!$I$2:$I$300, MATCH(1,(구분표!$E$2:$E$300='2추일입'!B32)*(구분표!$F$2:$F$300='2추일입'!C32)*(구분표!$G$2:$G$300='2추일입'!A32),0)))} -> 0503 | AK32: =IF(AE32="",0,SUMIFS('2추일출'!$V$6:$V$294,'2추일출'!$AE$6:$AE$294,'2추일입'!$AE32)) -> 2700000 | AL32: =IF(AE32="","",COUNTIFS('2추일출'!$AE$6:$AE$294,'2추일입'!AE32)) -> 1 | AM32: =IF(V32=AK32,"OK","@@") -> OK | AO32: =IF(AE32="",0,SUMIFS('2추일출'!$AA$6:$AA$294,'2추일출'!$AE$6:$AE$294,'2추일입'!$AE32)) -> 2700000 | AP32: =IF(AE32="","",COUNTIFS('2추일출'!$AE$6:$AE$294,AE32)) -> 1 | AQ32: =IF(AA32=AO32,"OK","@@") -> OK
A33: =IFERROR(VLOOKUP($C33,구분표!$A$2:$C$300,2,FALSE),"") -> 문화체육관광위원회 | B33: =IFERROR(VLOOKUP($C33,구분표!$A$2:$C$300,3,FALSE),"") -> 문화체육관광국 | C33: 종무과 | D33: 신규 | F33: 호국의승군 기념관 건립 | G33: 0 | H33: 0 | I33: =IF(D33="","",G33-H33) -> 0 | K33: 300000 | L33: =IF(G33=0,H33+J33+K33,G33+J33+K33) -> 300000 | N33: 300000 | O33: =IF(G33=0,H33+M33+N33,G33+M33+N33) -> 300000 | P33: =IF(AND((L33=0),(O33>0)),"O",IF(AND((J33<0),(L33-O33<0)),"O","X")) -> X | V33: =IF($U33<>"도비",IF($S33="국도비","직접입력",SUM($J33:$K33)),) -> 300000 | W33: =IF($U33="도비",SUM($J33:$K33),IF($S33="국도비","직접입력",SUM($J33:$K33)-$V33)) -> 0 | X33: =IF(SUM($J33:$K33)=SUM($V33:$W33),"OK","검토") -> OK | AA33: =IF($U33<>"도비",IF($S33="국도비","직접입력",SUM($M33:$N33)),) -> 300000 | AB33: =IF($U33="도비",SUM(M33:N33),IF($S33="국도비","직접입력",SUM(M33:N33)-AA33)) -> 0 | AC33: =IF(SUM(M33:N33)=SUM(AA33:AB33),"OK","검토") -> OK | AE33: =IF(AG33="","",IF(U33="도비","세입없음",CONCATENATE(AG33,"-",COUNTIF($AG$7:AG33,AG33)))) -> 0502-1 | AG33: {=IF(C33="","",INDEX(구분표!$I$2:$I$300, MATCH(1,(구분표!$E$2:$E$300='2추일입'!B33)*(구분표!$F$2:$F$300='2추일입'!C33)*(구분표!$G$2:$G$300='2추일입'!A33),0)))} -> 0502 | AK33: =IF(AE33="",0,SUMIFS('2추일출'!$V$6:$V$294,'2추일출'!$AE$6:$AE$294,'2추일입'!$AE33)) -> 300000 | AL33: =IF(AE33="","",COUNTIFS('2추일출'!$AE$6:$AE$294,'2추일입'!AE33)) -> 1 | AM33: =IF(V33=AK33,"OK","@@") -> OK | AO33: =IF(AE33="",0,SUMIFS('2추일출'!$AA$6:$AA$294,'2추일출'!$AE$6:$AE$294,'2추일입'!$AE33)) -> 300000 | AP33: =IF(AE33="","",COUNTIFS('2추일출'!$AE$6:$AE$294,AE33)) -> 1 | AQ33: =IF(AA33=AO33,"OK","@@") -> OK
A34: =IFERROR(VLOOKUP($C34,구분표!$A$2:$C$300,2,FALSE),"") -> 여성가족교육협력위원회 | B34: =IFERROR(VLOOKUP($C34,구분표!$A$2:$C$300,3,FALSE),"") -> 여성가족국 | C34: 여성가족과 | D34: 신규 | E34: 781 | F34: 여성가족과 도비사용잔액 | G34: 433267 | H34: 0 | I34: =IF(D34="","",G34-H34) -> 433267 | J34: -72160 | L34: =IF(G34=0,H34+J34+K34,G34+J34+K34) -> 361107 | M34: -72160 | O34: =IF(G34=0,H34+M34+N34,G34+M34+N34) -> 361107 | P34: =IF(AND((L34=0),(O34>0)),"O",IF(AND((J34<0),(L34-O34<0)),"O","X")) -> X | Q34: 세입과목 정정 | V34: =IF($U34<>"도비",IF($S34="국도비","직접입력",SUM($J34:$K34)),) -> -72160 | W34: =IF($U34="도비",SUM($J34:$K34),IF($S34="국도비","직접입력",SUM($J34:$K34)-$V34)) -> 0 | X34: =IF(SUM($J34:$K34)=SUM($V34:$W34),"OK","검토") -> OK | AA34: =IF($U34<>"도비",IF($S34="국도비","직접입력",SUM($M34:$N34)),) -> -72160 | AB34: =IF($U34="도비",SUM(M34:N34),IF($S34="국도비","직접입력",SUM(M34:N34)-AA34)) -> 0 | AC34: =IF(SUM(M34:N34)=SUM(AA34:AB34),"OK","검토") -> OK | AE34: =IF(AG34="","",IF(U34="도비","세입없음",CONCATENATE(AG34,"-",COUNTIF($AG$7:AG34,AG34)))) -> 1001-1 | AG34: {=IF(C34="","",INDEX(구분표!$I$2:$I$300, MATCH(1,(구분표!$E$2:$E$300='2추일입'!B34)*(구분표!$F$2:$F$300='2추일입'!C34)*(구분표!$G$2:$G$300='2추일입'!A34),0)))} -> 1001 | AK34: =IF(AE34="",0,SUMIFS('2추일출'!$V$6:$V$294,'2추일출'!$AE$6:$AE$294,'2추일입'!$AE34)) -> 0 | AL34: =IF(AE34="","",COUNTIFS('2추일출'!$AE$6:$AE$294,'2추일입'!AE34)) -> 0 | AM34: =IF(V34=AK34,"OK","@@") -> @@ | AO34: =IF(AE34="",0,SUMIFS('2추일출'!$AA$6:$AA$294,'2추일출'!$AE$6:$AE$294,'2추일입'!$AE34)) -> 0 | AP34: =IF(AE34="","",COUNTIFS('2추일출'!$AE$6:$AE$294,AE34)) -> 0 | AQ34: =IF(AA34=AO34,"OK","@@") -> @@
A35: =IFERROR(VLOOKUP($C35,구분표!$A$2:$C$300,2,FALSE),"") -> 여성가족교육협력위원회 | B35: =IFERROR(VLOOKUP($C35,구분표!$A$2:$C$300,3,FALSE),"") -> 여성가족국 | C35: 여성가족과 | D35: 신규 | E35: 782 | F35: 여성가족과 국고보조금 사용잔액 | G35: 941 | H35: 0 | I35: =IF(D35="","",G35-H35) -> 941 | K35: 72162 | L35: =IF(G35=0,H35+J35+K35,G35+J35+K35) -> 73103 | N35: 72183 | O35: =IF(G35=0,H35+M35+N35,G35+M35+N35) -> 73124 | P35: =IF(AND((L35=0),(O35>0)),"O",IF(AND((J35<0),(L35-O35<0)),"O","X")) -> X | Q35: 세입과목 정정 | V35: =IF($U35<>"도비",IF($S35="국도비","직접입력",SUM($J35:$K35)),) -> 72162 | W35: =IF($U35="도비",SUM($J35:$K35),IF($S35="국도비","직접입력",SUM($J35:$K35)-$V35)) -> 0 | X35: =IF(SUM($J35:$K35)=SUM($V35:$W35),"OK","검토") -> OK | AA35: =IF($U35<>"도비",IF($S35="국도비","직접입력",SUM($M35:$N35)),) -> 72183 | AB35: =IF($U35="도비",SUM(M35:N35),IF($S35="국도비","직접입력",SUM(M35:N35)-AA35)) -> 0 | AC35: =IF(SUM(M35:N35)=SUM(AA35:AB35),"OK","검토") -> OK | AE35: =IF(AG35="","",IF(U35="도비","세입없음",CONCATENATE(AG35,"-",COUNTIF($AG$7:AG35,AG35)))) -> 1001-2 | AG35: {=IF(C35="","",INDEX(구분표!$I$2:$I$300, MATCH(1,(구분표!$E$2:$E$300='2추일입'!B35)*(구분표!$F$2:$F$300='2추일입'!C35)*(구분표!$G$2:$G$300='2추일입'!A35),0)))} -> 1001 | AK35: =IF(AE35="",0,SUMIFS('2추일출'!$V$6:$V$294,'2추일출'!$AE$6:$AE$294,'2추일입'!$AE35)) -> 0 | AL35: =IF(AE35="","",COUNTIFS('2추일출'!$AE$6:$AE$294,'2추일입'!AE35)) -> 0 | AM35: =IF(V35=AK35,"OK","@@") -> @@ | AO35: =IF(AE35="",0,SUMIFS('2추일출'!$AA$6:$AA$294,'2추일출'!$AE$6:$AE$294,'2추일입'!$AE35)) -> 0 | AP35: =IF(AE35="","",COUNTIFS('2추일출'!$AE$6:$AE$294,AE35)) -> 0 | AQ35: =IF(AA35=AO35,"OK","@@") -> @@
A36: =IFERROR(VLOOKUP($C36,구분표!$A$2:$C$300,2,FALSE),"") -> 여성가족교육협력위원회 | B36: =IFERROR(VLOOKUP($C36,구분표!$A$2:$C$300,3,FALSE),"") -> 여성가족국 | C36: 여성가족과 | D36: 본예산 | E36: 781 | F36: 성폭력방지 및 피해자지원사업 | G36: 2515776 | H36: 2464372 | I36: =IF(D36="","",G36-H36) -> 51404 | K36: 147175 | L36: =IF(G36=0,H36+J36+K36,G36+J36+K36) -> 2662951 | N36: 147175 | O36: =IF(G36=0,H36+M36+N36,G36+M36+N36) -> 2662951 | P36: =IF(AND((L36=0),(O36>0)),"O",IF(AND((J36<0),(L36-O36<0)),"O","X")) -> X | Q36: ※ 여성가족부 권익정책과-3260(2015.9.11.)호 국비내시 반영 | V36: =IF($U36<>"도비",IF($S36="국도비","직접입력",SUM($J36:$K36)),) -> 147175 | W36: =IF($U36="도비",SUM($J36:$K36),IF($S36="국도비","직접입력",SUM($J36:$K36)-$V36)) -> 0 | X36: =IF(SUM($J36:$K36)=SUM($V36:$W36),"OK","검토") -> OK | AA36: =IF($U36<>"도비",IF($S36="국도비","직접입력",SUM($M36:$N36)),) -> 147175 | AB36: =IF($U36="도비",SUM(M36:N36),IF($S36="국도비","직접입력",SUM(M36:N36)-AA36)) -> 0 | AC36: =IF(SUM(M36:N36)=SUM(AA36:AB36),"OK","검토") -> OK | AE36: =IF(AG36="","",IF(U36="도비","세입없음",CONCATENATE(AG36,"-",COUNTIF($AG$7:AG36,AG36)))) -> 1001-3 | AG36: {=IF(C36="","",INDEX(구분표!$I$2:$I$300, MATCH(1,(구분표!$E$2:$E$300='2추일입'!B36)*(구분표!$F$2:$F$300='2추일입'!C36)*(구분표!$G$2:$G$300='2추일입'!A36),0)))} -> 1001 | AK36: =IF(AE36="",0,SUMIFS('2추일출'!$V$6:$V$294,'2추일출'!$AE$6:$AE$294,'2추일입'!$AE36)) -> 147175 | AL36: =IF(AE36="","",COUNTIFS('2추일출'!$AE$6:$AE$294,'2추일입'!AE36)) -> 6 | AM36: =IF(V36=AK36,"OK","@@") -> OK | AO36: =IF(AE36="",0,SUMIFS('2추일출'!$AA$6:$AA$294,'2추일출'!$AE$6:$AE$294,'2추일입'!$AE36)) -> 147175 | AP36: =IF(AE36="","",COUNTIFS('2추일출'!$AE$6:$AE$294,AE36)) -> 6 | AQ36: =IF(AA36=AO36,"OK","@@") -> OK
A37: =IFERROR(VLOOKUP($C37,구분표!$A$2:$C$300,2,FALSE),"") -> 여성가족교육협력위원회 | B37: =IFERROR(VLOOKUP($C37,구분표!$A$2:$C$300,3,FALSE),"") -> 여성가족국 | C37: 아동청소년과 | D37: 본예산 | F37: 아동통합서비스지원 운영 | G37: 9300000 | H37: 9300000 | I37: =IF(D37="","",G37-H37) -> 0 | K37: 275350 | L37: =IF(G37=0,H37+J37+K37,G37+J37+K37) -> 9575350 | N37: 275350 | O37: =IF(G37=0,H37+M37+N37,G37+M37+N37) -> 9575350 | P37: =IF(AND((L37=0),(O37>0)),"O",IF(AND((J37<0),(L37-O37<0)),"O","X")) -> X | Q37: ※ 보건복지부 아동권리과-5360(2015.8.28.)호 국비내시 반영 | V37: =IF($U37<>"도비",IF($S37="국도비","직접입력",SUM($J37:$K37)),) -> 275350 | W37: =IF($U37="도비",SUM($J37:$K37),IF($S37="국도비","직접입력",SUM($J37:$K37)-$V37)) -> 0 | X37: =IF(SUM($J37:$K37)=SUM($V37:$W37),"OK","검토") -> OK | AA37: =IF($U37<>"도비",IF($S37="국도비","직접입력",SUM($M37:$N37)),) -> 275350 | AB37: =IF($U37="도비",SUM(M37:N37),IF($S37="국도비","직접입력",SUM(M37:N37)-AA37)) -> 0 | AC37: =IF(SUM(M37:N37)=SUM(AA37:AB37),"OK","검토") -> OK | AE37: =IF(AG37="","",IF(U37="도비","세입없음",CONCATENATE(AG37,"-",COUNTIF($AG$7:AG37,AG37)))) -> 1003-1 | AG37: {=IF(C37="","",INDEX(구분표!$I$2:$I$300, MATCH(1,(구분표!$E$2:$E$300='2추일입'!B37)*(구분표!$F$2:$F$300='2추일입'!C37)*(구분표!$G$2:$G$300='2추일입'!A37),0)))} -> 1003 | AK37: =IF(AE37="",0,SUMIFS('2추일출'!$V$6:$V$294,'2추일출'!$AE$6:$AE$294,'2추일입'!$AE37)) -> 275350 | AL37: =IF(AE37="","",COUNTIFS('2추일출'!$AE$6:$AE$294,'2추일입'!AE37)) -> 2 | AM37: =IF(V37=AK37,"OK","@@") -> OK | AO37: =IF(AE37="",0,SUMIFS('2추일출'!$AA$6:$AA$294,'2추일출'!$AE$6:$AE$294,'2추일입'!$AE37)) -> 275350 | AP37: =IF(AE37="","",COUNTIFS('2추일출'!$AE$6:$AE$294,AE37)) -> 2 | AQ37: =IF(AA37=AO37,"OK","@@") -> OK
A38: =IFERROR(VLOOKUP($C38,구분표!$A$2:$C$300,2,FALSE),"") -> 여성가족교육협력위원회 | B38: =IFERROR(VLOOKUP($C38,구분표!$A$2:$C$300,3,FALSE),"") -> 여성가족국 | C38: 다문화가족과 | D38: 본예산 | E38: 784 | F38: 다문화가족지원센터 운영 | G38: 6017165 | H38: 6277348 | I38: =IF(D38="","",G38-H38) -> -260183 | K38: 20160 | L38: =IF(G38=0,H38+J38+K38,G38+J38+K38) -> 6037325 | N38: 20160 | O38: =IF(G38=0,H38+M38+N38,G38+M38+N38) -> 6037325 | P38: =IF(AND((L38=0),(O38>0)),"O",IF(AND((J38<0),(L38-O38<0)),"O","X")) -> X | Q38: ※ 여성가족부 다문화가족정책과-2150(2015.9.7.)호 국비내시 반영 | V38: =IF($U38<>"도비",IF($S38="국도비","직접입력",SUM($J38:$K38)),) -> 20160 | W38: =IF($U38="도비",SUM($J38:$K38),IF($S38="국도비","직접입력",SUM($J38:$K38)-$V38)) -> 0 | X38: =IF(SUM($J38:$K38)=SUM($V38:$W38),"OK","검토") -> OK | AA38: =IF($U38<>"도비",IF($S38="국도비","직접입력",SUM($M38:$N38)),) -> 20160 | AB38: =IF($U38="도비",SUM(M38:N38),IF($S38="국도비","직접입력",SUM(M38:N38)-AA38)) -> 0 | AC38: =IF(SUM(M38:N38)=SUM(AA38:AB38),"OK","검토") -> OK | AE38: =IF(AG38="","",IF(U38="도비","세입없음",CONCATENATE(AG38,"-",COUNTIF($AG$7:AG38,AG38)))) -> 1004-1 | AG38: {=IF(C38="","",INDEX(구분표!$I$2:$I$300, MATCH(1,(구분표!$E$2:$E$300='2추일입'!B38)*(구분표!$F$2:$F$300='2추일입'!C38)*(구분표!$G$2:$G$300='2추일입'!A38),0)))} -> 1004 | AK38: =IF(AE38="",0,SUMIFS('2추일출'!$V$6:$V$294,'2추일출'!$AE$6:$AE$294,'2추일입'!$AE38)) -> 20160 | AL38: =IF(AE38="","",COUNTIFS('2추일출'!$AE$6:$AE$294,'2추일입'!AE38)) -> 1 | AM38: =IF(V38=AK38,"OK","@@") -> OK | AO38: =IF(AE38="",0,SUMIFS('2추일출'!$AA$6:$AA$294,'2추일출'!$AE$6:$AE$294,'2추일입'!$AE38)) -> 20160 | AP38: =IF(AE38="","",COUNTIFS('2추일출'!$AE$6:$AE$294,AE38)) -> 1 | AQ38: =IF(AA38=AO38,"OK","@@") -> OK
A39: =IFERROR(VLOOKUP($C39,구분표!$A$2:$C$300,2,FALSE),"") -> 여성가족교육협력위원회 | B39: =IFERROR(VLOOKUP($C39,구분표!$A$2:$C$300,3,FALSE),"") -> 여성가족국 | C39: 여성능력개발센터 | D39: 신규 | F39: 취업자 사후관리 서비스 구축 | G39: 0 | H39: 0 | I39: =IF(D39="","",G39-H39) -> 0 | K39: 150000 | L39: =IF(G39=0,H39+J39+K39,G39+J39+K39) -> 150000 | N39: 150000 | O39: =IF(G39=0,H39+M39+N39,G39+M39+N39) -> 150000 | P39: =IF(AND((L39=0),(O39>0)),"O",IF(AND((J39<0),(L39-O39<0)),"O","X")) -> X | Q39: ※ 행정자치부 행정제도혁신과-2697(2015.8.20.)호 국비내시 반영 | V39: =IF($U39<>"도비",IF($S39="국도비","직접입력",SUM($J39:$K39)),) -> 150000 | W39: =IF($U39="도비",SUM($J39:$K39),IF($S39="국도비","직접입력",SUM($J39:$K39)-$V39)) -> 0 | X39: =IF(SUM($J39:$K39)=SUM($V39:$W39),"OK","검토") -> OK | AA39: =IF($U39<>"도비",IF($S39="국도비","직접입력",SUM($M39:$N39)),) -> 150000 | AB39: =IF($U39="도비",SUM(M39:N39),IF($S39="국도비","직접입력",SUM(M39:N39)-AA39)) -> 0 | AC39: =IF(SUM(M39:N39)=SUM(AA39:AB39),"OK","검토") -> OK | AE39: =IF(AG39="","",IF(U39="도비","세입없음",CONCATENATE(AG39,"-",COUNTIF($AG$7:AG39,AG39)))) -> 1006-1 | AG39: {=IF(C39="","",INDEX(구분표!$I$2:$I$300, MATCH(1,(구분표!$E$2:$E$300='2추일입'!B39)*(구분표!$F$2:$F$300='2추일입'!C39)*(구분표!$G$2:$G$300='2추일입'!A39),0)))} -> 1006 | AK39: =IF(AE39="",0,SUMIFS('2추일출'!$V$6:$V$294,'2추일출'!$AE$6:$AE$294,'2추일입'!$AE39)) -> 150000 | AL39: =IF(AE39="","",COUNTIFS('2추일출'!$AE$6:$AE$294,'2추일입'!AE39)) -> 1 | AM39: =IF(V39=AK39,"OK","@@") -> OK | AO39: =IF(AE39="",0,SUMIFS('2추일출'!$AA$6:$AA$294,'2추일출'!$AE$6:$AE$294,'2추일입'!$AE39)) -> 150000 | AP39: =IF(AE39="","",COUNTIFS('2추일출'!$AE$6:$AE$294,AE39)) -> 1 | AQ39: =IF(AA39=AO39,"OK","@@") -> OK
A40: =IFERROR(VLOOKUP($C40,구분표!$A$2:$C$300,2,FALSE),"") -> 여성가족교육협력위원회 | B40: =IFERROR(VLOOKUP($C40,구분표!$A$2:$C$300,3,FALSE),"") -> 여성가족국 | C40: 여성가족과 | D40: 본예산 | E40: 781 | F40: 저소득한부모가족 지원 | G40: 17542300 | H40: 15892800 | I40: =IF(D40="","",G40-H40) -> 1649500 | L40: =IF(G40=0,H40+J40+K40,G40+J40+K40) -> 17542300 | N40: 235000 | O40: =IF(G40=0,H40+M40+N40,G40+M40+N40) -> 17777300 | P40: =IF(AND((L40=0),(O40>0)),"O",IF(AND((J40<0),(L40-O40<0)),"O","X")) -> X | Q40: ※ 여성가족부 가족지원과-3251(2015.9.18.)호 국비내시 반영 | V40: =IF($U40<>"도비",IF($S40="국도비","직접입력",SUM($J40:$K40)),) -> 0 | W40: =IF($U40="도비",SUM($J40:$K40),IF($S40="국도비","직접입력",SUM($J40:$K40)-$V40)) -> 0 | X40: =IF(SUM($J40:$K40)=SUM($V40:$W40),"OK","검토") -> OK | AA40: =IF($U40<>"도비",IF($S40="국도비","직접입력",SUM($M40:$N40)),) -> 235000 | AB40: =IF($U40="도비",SUM(M40:N40),IF($S40="국도비","직접입력",SUM(M40:N40)-AA40)) -> 0 | AC40: =IF(SUM(M40:N40)=SUM(AA40:AB40),"OK","검토") -> OK | AE40: =IF(AG40="","",IF(U40="도비","세입없음",CONCATENATE(AG40,"-",COUNTIF($AG$7:AG40,AG40)))) -> 1001-4 | AG40: {=IF(C40="","",INDEX(구분표!$I$2:$I$300, MATCH(1,(구분표!$E$2:$E$300='2추일입'!B40)*(구분표!$F$2:$F$300='2추일입'!C40)*(구분표!$G$2:$G$300='2추일입'!A40),0)))} -> 1001 | AK40: =IF(AE40="",0,SUMIFS('2추일출'!$V$6:$V$294,'2추일출'!$AE$6:$AE$294,'2추일입'!$AE40)) -> 0 | AL40: =IF(AE40="","",COUNTIFS('2추일출'!$AE$6:$AE$294,'2추일입'!AE40)) -> 2 | AM40: =IF(V40=AK40,"OK","@@") -> OK | AO40: =IF(AE40="",0,SUMIFS('2추일출'!$AA$6:$AA$294,'2추일출'!$AE$6:$AE$294,'2추일입'!$AE40)) -> 235000 | AP40: =IF(AE40="","",COUNTIFS('2추일출'!$AE$6:$AE$294,AE40)) -> 2 | AQ40: =IF(AA40=AO40,"OK","@@") -> OK
A41: =IFERROR(VLOOKUP($C41,구분표!$A$2:$C$300,2,FALSE),"") -> 여성가족교육협력위원회 | B41: =IFERROR(VLOOKUP($C41,구분표!$A$2:$C$300,3,FALSE),"") -> 여성가족국 | C41: 아동청소년과 | D41: 본예산 | E41: 783 | F41: 청소년 방과후 활동지원 | G41: 2961067 | H41: 2626550 | I41: =IF(D41="","",G41-H41) -> 334517 | L41: =IF(G41=0,H41+J41+K41,G41+J41+K41) -> 2961067 | N41: 18655 | O41: =IF(G41=0,H41+M41+N41,G41+M41+N41) -> 2979722 | P41: =IF(AND((L41=0),(O41>0)),"O",IF(AND((J41<0),(L41-O41<0)),"O","X")) -> X | Q41: ※ 여성가족부 청소년활동진흥과-5167(2015.9.17.)호 국비내시 증가에 따른 예산 반영 필요 | V41: =IF($U41<>"도비",IF($S41="국도비","직접입력",SUM($J41:$K41)),) -> 0 | W41: =IF($U41="도비",SUM($J41:$K41),IF($S41="국도비","직접입력",SUM($J41:$K41)-$V41)) -> 0 | X41: =IF(SUM($J41:$K41)=SUM($V41:$W41),"OK","검토") -> OK | AA41: =IF($U41<>"도비",IF($S41="국도비","직접입력",SUM($M41:$N41)),) -> 18655 | AB41: =IF($U41="도비",SUM(M41:N41),IF($S41="국도비","직접입력",SUM(M41:N41)-AA41)) -> 0 | AC41: =IF(SUM(M41:N41)=SUM(AA41:AB41),"OK","검토") -> OK | AE41: =IF(AG41="","",IF(U41="도비","세입없음",CONCATENATE(AG41,"-",COUNTIF($AG$7:AG41,AG41)))) -> 1003-2 | AG41: {=IF(C41="","",INDEX(구분표!$I$2:$I$300, MATCH(1,(구분표!$E$2:$E$300='2추일입'!B41)*(구분표!$F$2:$F$300='2추일입'!C41)*(구분표!$G$2:$G$300='2추일입'!A41),0)))} -> 1003 | AK41: =IF(AE41="",0,SUMIFS('2추일출'!$V$6:$V$294,'2추일출'!$AE$6:$AE$294,'2추일입'!$AE41)) -> 0 | AL41: =IF(AE41="","",COUNTIFS('2추일출'!$AE$6:$AE$294,'2추일입'!AE41)) -> 1 | AM41: =IF(V41=AK41,"OK","@@") -> OK | AO41: =IF(AE41="",0,SUMIFS('2추일출'!$AA$6:$AA$294,'2추일출'!$AE$6:$AE$294,'2추일입'!$AE41)) -> 18655 | AP41: =IF(AE41="","",COUNTIFS('2추일출'!$AE$6:$AE$294,AE41)) -> 1 | AQ41: =IF(AA41=AO41,"OK","@@") -> OK
A42: =IFERROR(VLOOKUP($C42,구분표!$A$2:$C$300,2,FALSE),"") -> 여성가족교육협력위원회 | B42: =IFERROR(VLOOKUP($C42,구분표!$A$2:$C$300,3,FALSE),"") -> 여성가족국 | C42: 아동청소년과 | D42: 본예산 | E42: 783 | F42: 가정위탁 지원운영 | G42: 141780 | H42: 140542 | I42: =IF(D42="","",G42-H42) -> 1238 | L42: =IF(G42=0,H42+J42+K42,G42+J42+K42) -> 141780 | N42: 3908 | O42: =IF(G42=0,H42+M42+N42,G42+M42+N42) -> 145688 | P42: =IF(AND((L42=0),(O42>0)),"O",IF(AND((J42<0),(L42-O42<0)),"O","X")) -> X | Q42: ※ 보건복지부 아동복지정책과-5786(2015.9.16.)호 국비내시 증가에 따른 예산 반영 필요 | V42: =IF($U42<>"도비",IF($S42="국도비","직접입력",SUM($J42:$K42)),) -> 0 | W42: =IF($U42="도비",SUM($J42:$K42),IF($S42="국도비","직접입력",SUM($J42:$K42)-$V42)) -> 0 | X42: =IF(SUM($J42:$K42)=SUM($V42:$W42),"OK","검토") -> OK | AA42: =IF($U42<>"도비",IF($S42="국도비","직접입력",SUM($M42:$N42)),) -> 3908 | AB42: =IF($U42="도비",SUM(M42:N42),IF($S42="국도비","직접입력",SUM(M42:N42)-AA42)) -> 0 | AC42: =IF(SUM(M42:N42)=SUM(AA42:AB42),"OK","검토") -> OK | AE42: =IF(AG42="","",IF(U42="도비","세입없음",CONCATENATE(AG42,"-",COUNTIF($AG$7:AG42,AG42)))) -> 1003-3 | AG42: {=IF(C42="","",INDEX(구분표!$I$2:$I$300, MATCH(1,(구분표!$E$2:$E$300='2추일입'!B42)*(구분표!$F$2:$F$300='2추일입'!C42)*(구분표!$G$2:$G$300='2추일입'!A42),0)))} -> 1003 | AK42: =IF(AE42="",0,SUMIFS('2추일출'!$V$6:$V$294,'2추일출'!$AE$6:$AE$294,'2추일입'!$AE42)) -> 0 | AL42: =IF(AE42="","",COUNTIFS('2추일출'!$AE$6:$AE$294,'2추일입'!AE42)) -> 2 | AM42: =IF(V42=AK42,"OK","@@") -> OK | AO42: =IF(AE42="",0,SUMIFS('2추일출'!$AA$6:$AA$294,'2추일출'!$AE$6:$AE$294,'2추일입'!$AE42)) -> 3908 | AP42: =IF(AE42="","",COUNTIFS('2추일출'!$AE$6:$AE$294,AE42)) -> 2 | AQ42: =IF(AA42=AO42,"OK","@@") -> OK
A43: =IFERROR(VLOOKUP($C43,구분표!$A$2:$C$300,2,FALSE),"") -> 여성가족교육협력위원회 | B43: =IFERROR(VLOOKUP($C43,구분표!$A$2:$C$300,3,FALSE),"") -> 여성가족국 | C43: 아동청소년과 | D43: 본예산 | E43: 784 | F43: 학대피해아동쉼터 운영 | G43: 893000 | H43: 307780 | I43: =IF(D43="","",G43-H43) -> 585220 | L43: =IF(G43=0,H43+J43+K43,G43+J43+K43) -> 893000 | M43: -82668 | O43: =IF(G43=0,H43+M43+N43,G43+M43+N43) -> 810332 | P43: =IF(AND((L43=0),(O43>0)),"O",IF(AND((J43<0),(L43-O43<0)),"O","X")) -> X | Q43: ※ 보건복지부 아동권리과 변경내시 9월말 예정 | V43: =IF($U43<>"도비",IF($S43="국도비","직접입력",SUM($J43:$K43)),) -> 0 | W43: =IF($U43="도비",SUM($J43:$K43),IF($S43="국도비","직접입력",SUM($J43:$K43)-$V43)) -> 0 | X43: =IF(SUM($J43:$K43)=SUM($V43:$W43),"OK","검토") -> OK | AA43: =IF($U43<>"도비",IF($S43="국도비","직접입력",SUM($M43:$N43)),) -> -82668 | AB43: =IF($U43="도비",SUM(M43:N43),IF($S43="국도비","직접입력",SUM(M43:N43)-AA43)) -> 0 | AC43: =IF(SUM(M43:N43)=SUM(AA43:AB43),"OK","검토") -> OK | AE43: =IF(AG43="","",IF(U43="도비","세입없음",CONCATENATE(AG43,"-",COUNTIF($AG$7:AG43,AG43)))) -> 1003-4 | AG43: {=IF(C43="","",INDEX(구분표!$I$2:$I$300, MATCH(1,(구분표!$E$2:$E$300='2추일입'!B43)*(구분표!$F$2:$F$300='2추일입'!C43)*(구분표!$G$2:$G$300='2추일입'!A43),0)))} -> 1003 | AK43: =IF(AE43="",0,SUMIFS('2추일출'!$V$6:$V$294,'2추일출'!$AE$6:$AE$294,'2추일입'!$AE43)) -> 0 | AL43: =IF(AE43="","",COUNTIFS('2추일출'!$AE$6:$AE$294,'2추일입'!AE43)) -> 1 | AM43: =IF(V43=AK43,"OK","@@") -> OK | AO43: =IF(AE43="",0,SUMIFS('2추일출'!$AA$6:$AA$294,'2추일출'!$AE$6:$AE$294,'2추일입'!$AE43)) -> -82668 | AP43: =IF(AE43="","",COUNTIFS('2추일출'!$AE$6:$AE$294,AE43)) -> 1 | AQ43: =IF(AA43=AO43,"OK","@@") -> OK
A44: =IFERROR(VLOOKUP($C44,구분표!$A$2:$C$300,2,FALSE),"") -> 보건복지위원회 | B44: =IFERROR(VLOOKUP($C44,구분표!$A$2:$C$300,3,FALSE),"") -> 보건복지국 | C44: 보건정책과 | D44: 2회추경 | E44: 568 | F44: 국고보조금 (농어촌의료서비스개선사업) | G44: 3067517 | H44: 2681585 | I44: =IF(D44="","",G44-H44) -> 385932 | L44: =IF(G44=0,H44+J44+K44,G44+J44+K44) -> 3067517 | N44: 39580 | O44: =IF(G44=0,H44+M44+N44,G44+M44+N44) -> 3107097 | P44: =IF(AND((L44=0),(O44>0)),"O",IF(AND((J44<0),(L44-O44<0)),"O","X")) -> X | Q44: 국비 변경내시 ※ 보건복지부 건강정책과-6634(2015.9.11)호 | V44: =IF($U44<>"도비",IF($S44="국도비","직접입력",SUM($J44:$K44)),) -> 0 | W44: =IF($U44="도비",SUM($J44:$K44),IF($S44="국도비","직접입력",SUM($J44:$K44)-$V44)) -> 0 | X44: =IF(SUM($J44:$K44)=SUM($V44:$W44),"OK","검토") -> OK | AA44: =IF($U44<>"도비",IF($S44="국도비","직접입력",SUM($M44:$N44)),) -> 39580 | AB44: =IF($U44="도비",SUM(M44:N44),IF($S44="국도비","직접입력",SUM(M44:N44)-AA44)) -> 0 | AC44: =IF(SUM(M44:N44)=SUM(AA44:AB44),"OK","검토") -> OK | AE44: =IF(AG44="","",IF(U44="도비","세입없음",CONCATENATE(AG44,"-",COUNTIF($AG$7:AG44,AG44)))) -> 0705-5 | AG44: {=IF(C44="","",INDEX(구분표!$I$2:$I$300, MATCH(1,(구분표!$E$2:$E$300='2추일입'!B44)*(구분표!$F$2:$F$300='2추일입'!C44)*(구분표!$G$2:$G$300='2추일입'!A44),0)))} -> 0705 | AK44: =IF(AE44="",0,SUMIFS('2추일출'!$V$6:$V$294,'2추일출'!$AE$6:$AE$294,'2추일입'!$AE44)) -> 0 | AL44: =IF(AE44="","",COUNTIFS('2추일출'!$AE$6:$AE$294,'2추일입'!AE44)) -> 1 | AM44: =IF(V44=AK44,"OK","@@") -> OK | AO44: =IF(AE44="",0,SUMIFS('2추일출'!$AA$6:$AA$294,'2추일출'!$AE$6:$AE$294,'2추일입'!$AE44)) -> 39580 | AP44: =IF(AE44="","",COUNTIFS('2추일출'!$AE$6:$AE$294,AE44)) -> 1 | AQ44: =IF(AA44=AO44,"OK","@@") -> OK
A45: =IFERROR(VLOOKUP($C45,구분표!$A$2:$C$300,2,FALSE),"") -> 보건복지위원회 | B45: =IFERROR(VLOOKUP($C45,구분표!$A$2:$C$300,3,FALSE),"") -> 보건복지국 | C45: 보건정책과 | D45: 본예산 | E45: 69 | F45: 기금 (국가예방접종사업) | G45: 71112188 | H45: 71112188 | I45: =IF(D45="","",G45-H45) -> 0 | L45: =IF(G45=0,H45+J45+K45,G45+J45+K45) -> 71112188 | M45: -1233596 | O45: =IF(G45=0,H45+M45+N45,G45+M45+N45) -> 69878592 | P45: =IF(AND((L45=0),(O45>0)),"O",IF(AND((J45<0),(L45-O45<0)),"O","X")) -> X | Q45: 국비 변경내시 ※ 질병관리본부 예방접종과-3373(2015.9.10)호 | V45: =IF($U45<>"도비",IF($S45="국도비","직접입력",SUM($J45:$K45)),) -> 0 | W45: =IF($U45="도비",SUM($J45:$K45),IF($S45="국도비","직접입력",SUM($J45:$K45)-$V45)) -> 0 | X45: =IF(SUM($J45:$K45)=SUM($V45:$W45),"OK","검토") -> OK | AA45: =IF($U45<>"도비",IF($S45="국도비","직접입력",SUM($M45:$N45)),) -> -1233596 | AB45: =IF($U45="도비",SUM(M45:N45),IF($S45="국도비","직접입력",SUM(M45:N45)-AA45)) -> 0 | AC45: =IF(SUM(M45:N45)=SUM(AA45:AB45),"OK","검토") -> OK | AE45: =IF(AG45="","",IF(U45="도비","세입없음",CONCATENATE(AG45,"-",COUNTIF($AG$7:AG45,AG45)))) -> 0705-6 | AG45: {=IF(C45="","",INDEX(구분표!$I$2:$I$300, MATCH(1,(구분표!$E$2:$E$300='2추일입'!B45)*(구분표!$F$2:$F$300='2추일입'!C45)*(구분표!$G$2:$G$300='2추일입'!A45),0)))} -> 0705 | AK45: =IF(AE45="",0,SUMIFS('2추일출'!$V$6:$V$294,'2추일출'!$AE$6:$AE$294,'2추일입'!$AE45)) -> 0 | AL45: =IF(AE45="","",COUNTIFS('2추일출'!$AE$6:$AE$294,'2추일입'!AE45)) -> 2 | AM45: =IF(V45=AK45,"OK","@@") -> OK | AO45: =IF(AE45="",0,SUMIFS('2추일출'!$AA$6:$AA$294,'2추일출'!$AE$6:$AE$294,'2추일입'!$AE45)) -> -1233596 | AP45: =IF(AE45="","",COUNTIFS('2추일출'!$AE$6:$AE$294,AE45)) -> 2 | AQ45: =IF(AA45=AO45,"OK","@@") -> OK
A46: =IFERROR(VLOOKUP($C46,구분표!$A$2:$C$300,2,FALSE),"") -> 보건복지위원회 | B46: =IFERROR(VLOOKUP($C46,구분표!$A$2:$C$300,3,FALSE),"") -> 보건복지국 | C46: 건강증진과 | D46: 2회추경 | E46: 569 | F46: 국고보조금 (정신보건시설 확충사업) | G46: 127604 | H46: 127769 | I46: =IF(D46="","",G46-H46) -> -165 | L46: =IF(G46=0,H46+J46+K46,G46+J46+K46) -> 127604 | N46: 12500 | O46: =IF(G46=0,H46+M46+N46,G46+M46+N46) -> 140104 | P46: =IF(AND((L46=0),(O46>0)),"O",IF(AND((J46<0),(L46-O46<0)),"O","X")) -> X | Q46: 국비 변경내시 ※ 보건복지부 정신건강정책과- (2015.9.16.)호 | V46: =IF($U46<>"도비",IF($S46="국도비","직접입력",SUM($J46:$K46)),) -> 0 | W46: =IF($U46="도비",SUM($J46:$K46),IF($S46="국도비","직접입력",SUM($J46:$K46)-$V46)) -> 0 | X46: =IF(SUM($J46:$K46)=SUM($V46:$W46),"OK","검토") -> OK | AA46: =IF($U46<>"도비",IF($S46="국도비","직접입력",SUM($M46:$N46)),) -> 12500 | AB46: =IF($U46="도비",SUM(M46:N46),IF($S46="국도비","직접입력",SUM(M46:N46)-AA46)) -> 0 | AC46: =IF(SUM(M46:N46)=SUM(AA46:AB46),"OK","검토") -> OK | AE46: =IF(AG46="","",IF(U46="도비","세입없음",CONCATENATE(AG46,"-",COUNTIF($AG$7:AG46,AG46)))) -> 0706-2 | AG46: {=IF(C46="","",INDEX(구분표!$I$2:$I$300, MATCH(1,(구분표!$E$2:$E$300='2추일입'!B46)*(구분표!$F$2:$F$300='2추일입'!C46)*(구분표!$G$2:$G$300='2추일입'!A46),0)))} -> 0706 | AK46: =IF(AE46="",0,SUMIFS('2추일출'!$V$6:$V$294,'2추일출'!$AE$6:$AE$294,'2추일입'!$AE46)) -> 0 | AL46: =IF(AE46="","",COUNTIFS('2추일출'!$AE$6:$AE$294,'2추일입'!AE46)) -> 1 | AM46: =IF(V46=AK46,"OK","@@") -> OK | AO46: =IF(AE46="",0,SUMIFS('2추일출'!$AA$6:$AA$294,'2추일출'!$AE$6:$AE$294,'2추일입'!$AE46)) -> 12500 | AP46: =IF(AE46="","",COUNTIFS('2추일출'!$AE$6:$AE$294,AE46)) -> 1 | AQ46: =IF(AA46=AO46,"OK","@@") -> OK
A47: =IFERROR(VLOOKUP($C47,구분표!$A$2:$C$300,2,FALSE),"") -> 보건복지위원회 | B47: =IFERROR(VLOOKUP($C47,구분표!$A$2:$C$300,3,FALSE),"") -> 보건복지국 | C47: 사회적일자리과 | D47: 2회추경 | E47: 565 | F47: 국고보조금 (희망키움통장Ⅰ) | G47: 5241403 | H47: 4058000 | I47: =IF(D47="","",G47-H47) -> 1183403 | L47: =IF(G47=0,H47+J47+K47,G47+J47+K47) -> 5241403 | M47: -191403 | O47: =IF(G47=0,H47+M47+N47,G47+M47+N47) -> 5050000 | P47: =IF(AND((L47=0),(O47>0)),"O",IF(AND((J47<0),(L47-O47<0)),"O","X")) -> X | Q47: 국비 변경내시 ※ 보건복지부 자립지원과-6834(2015.9.18)호 | R47: 삭 | V47: =IF($U47<>"도비",IF($S47="국도비","직접입력",SUM($J47:$K47)),) -> 0 | W47: =IF($U47="도비",SUM($J47:$K47),IF($S47="국도비","직접입력",SUM($J47:$K47)-$V47)) -> 0 | X47: =IF(SUM($J47:$K47)=SUM($V47:$W47),"OK","검토") -> OK | AA47: =IF($U47<>"도비",IF($S47="국도비","직접입력",SUM($M47:$N47)),) -> -191403 | AB47: =IF($U47="도비",SUM(M47:N47),IF($S47="국도비","직접입력",SUM(M47:N47)-AA47)) -> 0 | AC47: =IF(SUM(M47:N47)=SUM(AA47:AB47),"OK","검토") -> OK | AE47: =IF(AG47="","",IF(U47="도비","세입없음",CONCATENATE(AG47,"-",COUNTIF($AG$7:AG47,AG47)))) -> 0702-1 | AG47: {=IF(C47="","",INDEX(구분표!$I$2:$I$300, MATCH(1,(구분표!$E$2:$E$300='2추일입'!B47)*(구분표!$F$2:$F$300='2추일입'!C47)*(구분표!$G$2:$G$300='2추일입'!A47),0)))} -> 0702 | AK47: =IF(AE47="",0,SUMIFS('2추일출'!$V$6:$V$294,'2추일출'!$AE$6:$AE$294,'2추일입'!$AE47)) -> 0 | AL47: =IF(AE47="","",COUNTIFS('2추일출'!$AE$6:$AE$294,'2추일입'!AE47)) -> 2 | AM47: =IF(V47=AK47,"OK","@@") -> OK | AO47: =IF(AE47="",0,SUMIFS('2추일출'!$AA$6:$AA$294,'2추일출'!$AE$6:$AE$294,'2추일입'!$AE47)) -> -191403 | AP47: =IF(AE47="","",COUNTIFS('2추일출'!$AE$6:$AE$294,AE47)) -> 2 | AQ47: =IF(AA47=AO47,"OK","@@") -> OK
A48: =IFERROR(VLOOKUP($C48,구분표!$A$2:$C$300,2,FALSE),"") -> 보건복지위원회 | B48: =IFERROR(VLOOKUP($C48,구분표!$A$2:$C$300,3,FALSE),"") -> 보건복지국 | C48: 사회적일자리과 | D48: 2회추경 | E48: 565 | F48: 국고보조금 (희망키움통장Ⅱ) | G48: 3659582 | H48: 3324000 | I48: =IF(D48="","",G48-H48) -> 335582 | L48: =IF(G48=0,H48+J48+K48,G48+J48+K48) -> 3659582 | N48: 191403 | O48: =IF(G48=0,H48+M48+N48,G48+M48+N48) -> 3850985 | P48: =IF(AND((L48=0),(O48>0)),"O",IF(AND((J48<0),(L48-O48<0)),"O","X")) -> X | Q48: 국비 변경내시 ※ 보건복지부 자립지원과-6834(2015.9.18)호 | R48: 삭 | V48: =IF($U48<>"도비",IF($S48="국도비","직접입력",SUM($J48:$K48)),) -> 0 | W48: =IF($U48="도비",SUM($J48:$K48),IF($S48="국도비","직접입력",SUM($J48:$K48)-$V48)) -> 0 | X48: =IF(SUM($J48:$K48)=SUM($V48:$W48),"OK","검토") -> OK | AA48: =IF($U48<>"도비",IF($S48="국도비","직접입력",SUM($M48:$N48)),) -> 191403 | AB48: =IF($U48="도비",SUM(M48:N48),IF($S48="국도비","직접입력",SUM(M48:N48)-AA48)) -> 0 | AC48: =IF(SUM(M48:N48)=SUM(AA48:AB48),"OK","검토") -> OK | AE48: =IF(AG48="","",IF(U48="도비","세입없음",CONCATENATE(AG48,"-",COUNTIF($AG$7:AG48,AG48)))) -> 0702-2 | AG48: {=IF(C48="","",INDEX(구분표!$I$2:$I$300, MATCH(1,(구분표!$E$2:$E$300='2추일입'!B48)*(구분표!$F$2:$F$300='2추일입'!C48)*(구분표!$G$2:$G$300='2추일입'!A48),0)))} -> 0702 | AK48: =IF(AE48="",0,SUMIFS('2추일출'!$V$6:$V$294,'2추일출'!$AE$6:$AE$294,'2추일입'!$AE48)) -> 0 | AL48: =IF(AE48="","",COUNTIFS('2추일출'!$AE$6:$AE$294,'2추일입'!AE48)) -> 1 | AM48: =IF(V48=AK48,"OK","@@") -> OK | AO48: =IF(AE48="",0,SUMIFS('2추일출'!$AA$6:$AA$294,'2추일출'!$AE$6:$AE$294,'2추일입'!$AE48)) -> 191403 | AP48: =IF(AE48="","",COUNTIFS('2추일출'!$AE$6:$AE$294,AE48)) -> 1 | AQ48: =IF(AA48=AO48,"OK","@@") -> OK
A49: =IFERROR(VLOOKUP($C49,구분표!$A$2:$C$300,2,FALSE),"") -> 농정해양위원회 | B49: =IFERROR(VLOOKUP($C49,구분표!$A$2:$C$300,3,FALSE),"") -> 축산산림국 | C49: 동물방역위생과 | D49: 2회추경 | E49: 504 | F49: 국고보조금(시도가축방역사업) | G49: 13353271 | H49: 12653619 | I49: =IF(D49="","",G49-H49) -> 699652 | L49: =IF(G49=0,H49+J49+K49,G49+J49+K49) -> 13353271 | N49: 486400 | O49: =IF(G49=0,H49+M49+N49,G49+M49+N49) -> 13839671 | P49: =IF(AND((L49=0),(O49>0)),"O",IF(AND((J49<0),(L49-O49<0)),"O","X")) -> X | Q49: 국비 변경내시 ※ 농림부 방역총괄과-6934(2015.9.16) | V49: =IF($U49<>"도비",IF($S49="국도비","직접입력",SUM($J49:$K49)),) -> 0 | W49: =IF($U49="도비",SUM($J49:$K49),IF($S49="국도비","직접입력",SUM($J49:$K49)-$V49)) -> 0 | X49: =IF(SUM($J49:$K49)=SUM($V49:$W49),"OK","검토") -> OK | AA49: =IF($U49<>"도비",IF($S49="국도비","직접입력",SUM($M49:$N49)),) -> 486400 | AB49: =IF($U49="도비",SUM(M49:N49),IF($S49="국도비","직접입력",SUM(M49:N49)-AA49)) -> 0 | AC49: =IF(SUM(M49:N49)=SUM(AA49:AB49),"OK","검토") -> OK | AE49: =IF(AG49="","",IF(U49="도비","세입없음",CONCATENATE(AG49,"-",COUNTIF($AG$7:AG49,AG49)))) -> 0609-1 | AG49: {=IF(C49="","",INDEX(구분표!$I$2:$I$300, MATCH(1,(구분표!$E$2:$E$300='2추일입'!B49)*(구분표!$F$2:$F$300='2추일입'!C49)*(구분표!$G$2:$G$300='2추일입'!A49),0)))} -> 0609 | AK49: =IF(AE49="",0,SUMIFS('2추일출'!$V$6:$V$294,'2추일출'!$AE$6:$AE$294,'2추일입'!$AE49)) -> 0 | AL49: =IF(AE49="","",COUNTIFS('2추일출'!$AE$6:$AE$294,'2추일입'!AE49)) -> 1 | AM49: =IF(V49=AK49,"OK","@@") -> OK | AO49: =IF(AE49="",0,SUMIFS('2추일출'!$AA$6:$AA$294,'2추일출'!$AE$6:$AE$294,'2추일입'!$AE49)) -> 486400 | AP49: =IF(AE49="","",COUNTIFS('2추일출'!$AE$6:$AE$294,AE49)) -> 1 | AQ49: =IF(AA49=AO49,"OK","@@") -> OK
A50: =IFERROR(VLOOKUP($C50,구분표!$A$2:$C$300,2,FALSE),"") | B50: =IFERROR(VLOOKUP($C50,구분표!$A$2:$C$300,3,FALSE),"") | I50: =IF(D50="","",G50-H50) | L50: =IF(G50=0,H50+J50+K50,G50+J50+K50) -> 0 | O50: =IF(G50=0,H50+M50+N50,G50+M50+N50) -> 0 | P50: =IF(AND((L50=0),(O50>0)),"O",IF(AND((J50<0),(L50-O50<0)),"O","X")) -> X | V50: =IF($U50<>"도비",IF($S50="국도비","직접입력",SUM($J50:$K50)),) -> 0 | W50: =IF($U50="도비",SUM($J50:$K50),IF($S50="국도비","직접입력",SUM($J50:$K50)-$V50)) -> 0 | X50: =IF(SUM($J50:$K50)=SUM($V50:$W50),"OK","검토") -> OK | AA50: =IF($U50<>"도비",IF($S50="국도비","직접입력",SUM($M50:$N50)),) -> 0 | AB50: =IF($U50="도비",SUM(M50:N50),IF($S50="국도비","직접입력",SUM(M50:N50)-AA50)) -> 0 | AC50: =IF(SUM(M50:N50)=SUM(AA50:AB50),"OK","검토") -> OK | AE50: =IF(AG50="","",IF(U50="도비","세입없음",CONCATENATE(AG50,"-",COUNTIF($AG$7:AG50,AG50)))) | AG50: {=IF(C50="","",INDEX(구분표!$I$2:$I$300, MATCH(1,(구분표!$E$2:$E$300='2추일입'!B50)*(구분표!$F$2:$F$300='2추일입'!C50)*(구분표!$G$2:$G$300='2추일입'!A50),0)))} | AK50: =IF(AE50="",0,SUMIFS('2추일출'!$V$6:$V$294,'2추일출'!$AE$6:$AE$294,'2추일입'!$AE50)) -> 0 | AL50: =IF(AE50="","",COUNTIFS('2추일출'!$AE$6:$AE$294,'2추일입'!AE50)) | AM50: =IF(V50=AK50,"OK","@@") -> OK | AO50: =IF(AE50="",0,SUMIFS('2추일출'!$AA$6:$AA$294,'2추일출'!$AE$6:$AE$294,'2추일입'!$AE50)) -> 0 | AP50: =IF(AE50="","",COUNTIFS('2추일출'!$AE$6:$AE$294,AE50)) | AQ50: =IF(AA50=AO50,"OK","@@") -> OK
A51: =IFERROR(VLOOKUP($C51,구분표!$A$2:$C$300,2,FALSE),"") | B51: =IFERROR(VLOOKUP($C51,구분표!$A$2:$C$300,3,FALSE),"") | I51: =IF(D51="","",G51-H51) | L51: =IF(G51=0,H51+J51+K51,G51+J51+K51) -> 0 | O51: =IF(G51=0,H51+M51+N51,G51+M51+N51) -> 0 | P51: =IF(AND((L51=0),(O51>0)),"O",IF(AND((J51<0),(L51-O51<0)),"O","X")) -> X | V51: =IF($U51<>"도비",IF($S51="국도비","직접입력",SUM($J51:$K51)),) -> 0 | W51: =IF($U51="도비",SUM($J51:$K51),IF($S51="국도비","직접입력",SUM($J51:$K51)-$V51)) -> 0 | X51: =IF(SUM($J51:$K51)=SUM($V51:$W51),"OK","검토") -> OK | AA51: =IF($U51<>"도비",IF($S51="국도비","직접입력",SUM($M51:$N51)),) -> 0 | AB51: =IF($U51="도비",SUM(M51:N51),IF($S51="국도비","직접입력",SUM(M51:N51)-AA51)) -> 0 | AC51: =IF(SUM(M51:N51)=SUM(AA51:AB51),"OK","검토") -> OK | AE51: =IF(AG51="","",IF(U51="도비","세입없음",CONCATENATE(AG51,"-",COUNTIF($AG$7:AG51,AG51)))) | AG51: {=IF(C51="","",INDEX(구분표!$I$2:$I$300, MATCH(1,(구분표!$E$2:$E$300='2추일입'!B51)*(구분표!$F$2:$F$300='2추일입'!C51)*(구분표!$G$2:$G$300='2추일입'!A51),0)))} | AK51: =IF(AE51="",0,SUMIFS('2추일출'!$V$6:$V$294,'2추일출'!$AE$6:$AE$294,'2추일입'!$AE51)) -> 0 | AL51: =IF(AE51="","",COUNTIFS('2추일출'!$AE$6:$AE$294,'2추일입'!AE51)) | AM51: =IF(V51=AK51,"OK","@@") -> OK | AO51: =IF(AE51="",0,SUMIFS('2추일출'!$AA$6:$AA$294,'2추일출'!$AE$6:$AE$294,'2추일입'!$AE51)) -> 0 | AP51: =IF(AE51="","",COUNTIFS('2추일출'!$AE$6:$AE$294,AE51)) | AQ51: =IF(AA51=AO51,"OK","@@") -> OK
A52: =IFERROR(VLOOKUP($C52,구분표!$A$2:$C$300,2,FALSE),"") | B52: =IFERROR(VLOOKUP($C52,구분표!$A$2:$C$300,3,FALSE),"") | I52: =IF(D52="","",G52-H52) | L52: =IF(G52=0,H52+J52+K52,G52+J52+K52) -> 0 | O52: =IF(G52=0,H52+M52+N52,G52+M52+N52) -> 0 | P52: =IF(AND((L52=0),(O52>0)),"O",IF(AND((J52<0),(L52-O52<0)),"O","X")) -> X | V52: =IF($U52<>"도비",IF($S52="국도비","직접입력",SUM($J52:$K52)),) -> 0 | W52: =IF($U52="도비",SUM($J52:$K52),IF($S52="국도비","직접입력",SUM($J52:$K52)-$V52)) -> 0 | X52: =IF(SUM($J52:$K52)=SUM($V52:$W52),"OK","검토") -> OK | AA52: =IF($U52<>"도비",IF($S52="국도비","직접입력",SUM($M52:$N52)),) -> 0 | AB52: =IF($U52="도비",SUM(M52:N52),IF($S52="국도비","직접입력",SUM(M52:N52)-AA52)) -> 0 | AC52: =IF(SUM(M52:N52)=SUM(AA52:AB52),"OK","검토") -> OK | AE52: =IF(AG52="","",IF(U52="도비","세입없음",CONCATENATE(AG52,"-",COUNTIF($AG$7:AG52,AG52)))) | AG52: {=IF(C52="","",INDEX(구분표!$I$2:$I$300, MATCH(1,(구분표!$E$2:$E$300='2추일입'!B52)*(구분표!$F$2:$F$300='2추일입'!C52)*(구분표!$G$2:$G$300='2추일입'!A52),0)))} | AK52: =IF(AE52="",0,SUMIFS('2추일출'!$V$6:$V$294,'2추일출'!$AE$6:$AE$294,'2추일입'!$AE52)) -> 0 | AL52: =IF(AE52="","",COUNTIFS('2추일출'!$AE$6:$AE$294,'2추일입'!AE52)) | AM52: =IF(V52=AK52,"OK","@@") -> OK | AO52: =IF(AE52="",0,SUMIFS('2추일출'!$AA$6:$AA$294,'2추일출'!$AE$6:$AE$294,'2추일입'!$AE52)) -> 0 | AP52: =IF(AE52="","",COUNTIFS('2추일출'!$AE$6:$AE$294,AE52)) | AQ52: =IF(AA52=AO52,"OK","@@") -> OK
A53: =IFERROR(VLOOKUP($C53,구분표!$A$2:$C$300,2,FALSE),"") | B53: =IFERROR(VLOOKUP($C53,구분표!$A$2:$C$300,3,FALSE),"") | I53: =IF(D53="","",G53-H53) | L53: =IF(G53=0,H53+J53+K53,G53+J53+K53) -> 0 | O53: =IF(G53=0,H53+M53+N53,G53+M53+N53) -> 0 | P53: =IF(AND((L53=0),(O53>0)),"O",IF(AND((J53<0),(L53-O53<0)),"O","X")) -> X | V53: =IF($U53<>"도비",IF($S53="국도비","직접입력",SUM($J53:$K53)),) -> 0 | W53: =IF($U53="도비",SUM($J53:$K53),IF($S53="국도비","직접입력",SUM($J53:$K53)-$V53)) -> 0 | X53: =IF(SUM($J53:$K53)=SUM($V53:$W53),"OK","검토") -> OK | AA53: =IF($U53<>"도비",IF($S53="국도비","직접입력",SUM($M53:$N53)),) -> 0 | AB53: =IF($U53="도비",SUM(M53:N53),IF($S53="국도비","직접입력",SUM(M53:N53)-AA53)) -> 0 | AC53: =IF(SUM(M53:N53)=SUM(AA53:AB53),"OK","검토") -> OK | AE53: =IF(AG53="","",IF(U53="도비","세입없음",CONCATENATE(AG53,"-",COUNTIF($AG$7:AG53,AG53)))) | AG53: {=IF(C53="","",INDEX(구분표!$I$2:$I$300, MATCH(1,(구분표!$E$2:$E$300='2추일입'!B53)*(구분표!$F$2:$F$300='2추일입'!C53)*(구분표!$G$2:$G$300='2추일입'!A53),0)))} | AK53: =IF(AE53="",0,SUMIFS('2추일출'!$V$6:$V$294,'2추일출'!$AE$6:$AE$294,'2추일입'!$AE53)) -> 0 | AL53: =IF(AE53="","",COUNTIFS('2추일출'!$AE$6:$AE$294,'2추일입'!AE53)) | AM53: =IF(V53=AK53,"OK","@@") -> OK | AO53: =IF(AE53="",0,SUMIFS('2추일출'!$AA$6:$AA$294,'2추일출'!$AE$6:$AE$294,'2추일입'!$AE53)) -> 0 | AP53: =IF(AE53="","",COUNTIFS('2추일출'!$AE$6:$AE$294,AE53)) | AQ53: =IF(AA53=AO53,"OK","@@") -> OK
A54: =IFERROR(VLOOKUP($C54,구분표!$A$2:$C$300,2,FALSE),"") | B54: =IFERROR(VLOOKUP($C54,구분표!$A$2:$C$300,3,FALSE),"") | I54: =IF(D54="","",G54-H54) | L54: =IF(G54=0,H54+J54+K54,G54+J54+K54) -> 0 | O54: =IF(G54=0,H54+M54+N54,G54+M54+N54) -> 0 | P54: =IF(AND((L54=0),(O54>0)),"O",IF(AND((J54<0),(L54-O54<0)),"O","X")) -> X | V54: =IF($U54<>"도비",IF($S54="국도비","직접입력",SUM($J54:$K54)),) -> 0 | W54: =IF($U54="도비",SUM($J54:$K54),IF($S54="국도비","직접입력",SUM($J54:$K54)-$V54)) -> 0 | X54: =IF(SUM($J54:$K54)=SUM($V54:$W54),"OK","검토") -> OK | AA54: =IF($U54<>"도비",IF($S54="국도비","직접입력",SUM($M54:$N54)),) -> 0 | AB54: =IF($U54="도비",SUM(M54:N54),IF($S54="국도비","직접입력",SUM(M54:N54)-AA54)) -> 0 | AC54: =IF(SUM(M54:N54)=SUM(AA54:AB54),"OK","검토") -> OK | AE54: =IF(AG54="","",IF(U54="도비","세입없음",CONCATENATE(AG54,"-",COUNTIF($AG$7:AG54,AG54)))) | AG54: {=IF(C54="","",INDEX(구분표!$I$2:$I$300, MATCH(1,(구분표!$E$2:$E$300='2추일입'!B54)*(구분표!$F$2:$F$300='2추일입'!C54)*(구분표!$G$2:$G$300='2추일입'!A54),0)))} | AK54: =IF(AE54="",0,SUMIFS('2추일출'!$V$6:$V$294,'2추일출'!$AE$6:$AE$294,'2추일입'!$AE54)) -> 0 | AL54: =IF(AE54="","",COUNTIFS('2추일출'!$AE$6:$AE$294,'2추일입'!AE54)) | AM54: =IF(V54=AK54,"OK","@@") -> OK | AO54: =IF(AE54="",0,SUMIFS('2추일출'!$AA$6:$AA$294,'2추일출'!$AE$6:$AE$294,'2추일입'!$AE54)) -> 0 | AP54: =IF(AE54="","",COUNTIFS('2추일출'!$AE$6:$AE$294,AE54)) | AQ54: =IF(AA54=AO54,"OK","@@") -> OK
A55: =IFERROR(VLOOKUP($C55,구분표!$A$2:$C$300,2,FALSE),"") | B55: =IFERROR(VLOOKUP($C55,구분표!$A$2:$C$300,3,FALSE),"") | I55: =IF(D55="","",G55-H55) | L55: =IF(G55=0,H55+J55+K55,G55+J55+K55) -> 0 | O55: =IF(G55=0,H55+M55+N55,G55+M55+N55) -> 0 | P55: =IF(AND((L55=0),(O55>0)),"O",IF(AND((J55<0),(L55-O55<0)),"O","X")) -> X | V55: =IF($U55<>"도비",IF($S55="국도비","직접입력",SUM($J55:$K55)),) -> 0 | W55: =IF($U55="도비",SUM($J55:$K55),IF($S55="국도비","직접입력",SUM($J55:$K55)-$V55)) -> 0 | X55: =IF(SUM($J55:$K55)=SUM($V55:$W55),"OK","검토") -> OK | AA55: =IF($U55<>"도비",IF($S55="국도비","직접입력",SUM($M55:$N55)),) -> 0 | AB55: =IF($U55="도비",SUM(M55:N55),IF($S55="국도비","직접입력",SUM(M55:N55)-AA55)) -> 0 | AC55: =IF(SUM(M55:N55)=SUM(AA55:AB55),"OK","검토") -> OK | AE55: =IF(AG55="","",IF(U55="도비","세입없음",CONCATENATE(AG55,"-",COUNTIF($AG$7:AG55,AG55)))) | AG55: {=IF(C55="","",INDEX(구분표!$I$2:$I$300, MATCH(1,(구분표!$E$2:$E$300='2추일입'!B55)*(구분표!$F$2:$F$300='2추일입'!C55)*(구분표!$G$2:$G$300='2추일입'!A55),0)))} | AK55: =IF(AE55="",0,SUMIFS('2추일출'!$V$6:$V$294,'2추일출'!$AE$6:$AE$294,'2추일입'!$AE55)) -> 0 | AL55: =IF(AE55="","",COUNTIFS('2추일출'!$AE$6:$AE$294,'2추일입'!AE55)) | AM55: =IF(V55=AK55,"OK","@@") -> OK | AO55: =IF(AE55="",0,SUMIFS('2추일출'!$AA$6:$AA$294,'2추일출'!$AE$6:$AE$294,'2추일입'!$AE55)) -> 0 | AP55: =IF(AE55="","",COUNTIFS('2추일출'!$AE$6:$AE$294,AE55)) | AQ55: =IF(AA55=AO55,"OK","@@") -> OK
A56: =IFERROR(VLOOKUP($C56,구분표!$A$2:$C$300,2,FALSE),"") | B56: =IFERROR(VLOOKUP($C56,구분표!$A$2:$C$300,3,FALSE),"") | I56: =IF(D56="","",G56-H56) | L56: =IF(G56=0,H56+J56+K56,G56+J56+K56) -> 0 | O56: =IF(G56=0,H56+M56+N56,G56+M56+N56) -> 0 | P56: =IF(AND((L56=0),(O56>0)),"O",IF(AND((J56<0),(L56-O56<0)),"O","X")) -> X | V56: =IF($U56<>"도비",IF($S56="국도비","직접입력",SUM($J56:$K56)),) -> 0 | W56: =IF($U56="도비",SUM($J56:$K56),IF($S56="국도비","직접입력",SUM($J56:$K56)-$V56)) -> 0 | X56: =IF(SUM($J56:$K56)=SUM($V56:$W56),"OK","검토") -> OK | AA56: =IF($U56<>"도비",IF($S56="국도비","직접입력",SUM($M56:$N56)),) -> 0 | AB56: =IF($U56="도비",SUM(M56:N56),IF($S56="국도비","직접입력",SUM(M56:N56)-AA56)) -> 0 | AC56: =IF(SUM(M56:N56)=SUM(AA56:AB56),"OK","검토") -> OK | AE56: =IF(AG56="","",IF(U56="도비","세입없음",CONCATENATE(AG56,"-",COUNTIF($AG$7:AG56,AG56)))) | AG56: {=IF(C56="","",INDEX(구분표!$I$2:$I$300, MATCH(1,(구분표!$E$2:$E$300='2추일입'!B56)*(구분표!$F$2:$F$300='2추일입'!C56)*(구분표!$G$2:$G$300='2추일입'!A56),0)))} | AK56: =IF(AE56="",0,SUMIFS('2추일출'!$V$6:$V$294,'2추일출'!$AE$6:$AE$294,'2추일입'!$AE56)) -> 0 | AL56: =IF(AE56="","",COUNTIFS('2추일출'!$AE$6:$AE$294,'2추일입'!AE56)) | AM56: =IF(V56=AK56,"OK","@@") -> OK | AO56: =IF(AE56="",0,SUMIFS('2추일출'!$AA$6:$AA$294,'2추일출'!$AE$6:$AE$294,'2추일입'!$AE56)) -> 0 | AP56: =IF(AE56="","",COUNTIFS('2추일출'!$AE$6:$AE$294,AE56)) | AQ56: =IF(AA56=AO56,"OK","@@") -> OK
A57: =IFERROR(VLOOKUP($C57,구분표!$A$2:$C$300,2,FALSE),"") | B57: =IFERROR(VLOOKUP($C57,구분표!$A$2:$C$300,3,FALSE),"") | I57: =IF(D57="","",G57-H57) | L57: =IF(G57=0,H57+J57+K57,G57+J57+K57) -> 0 | O57: =IF(G57=0,H57+M57+N57,G57+M57+N57) -> 0 | P57: =IF(AND((L57=0),(O57>0)),"O",IF(AND((J57<0),(L57-O57<0)),"O","X")) -> X | V57: =IF($U57<>"도비",IF($S57="국도비","직접입력",SUM($J57:$K57)),) -> 0 | W57: =IF($U57="도비",SUM($J57:$K57),IF($S57="국도비","직접입력",SUM($J57:$K57)-$V57)) -> 0 | X57: =IF(SUM($J57:$K57)=SUM($V57:$W57),"OK","검토") -> OK | AA57: =IF($U57<>"도비",IF($S57="국도비","직접입력",SUM($M57:$N57)),) -> 0 | AB57: =IF($U57="도비",SUM(M57:N57),IF($S57="국도비","직접입력",SUM(M57:N57)-AA57)) -> 0 | AC57: =IF(SUM(M57:N57)=SUM(AA57:AB57),"OK","검토") -> OK | AE57: =IF(AG57="","",IF(U57="도비","세입없음",CONCATENATE(AG57,"-",COUNTIF($AG$7:AG57,AG57)))) | AG57: {=IF(C57="","",INDEX(구분표!$I$2:$I$300, MATCH(1,(구분표!$E$2:$E$300='2추일입'!B57)*(구분표!$F$2:$F$300='2추일입'!C57)*(구분표!$G$2:$G$300='2추일입'!A57),0)))} | AK57: =IF(AE57="",0,SUMIFS('2추일출'!$V$6:$V$294,'2추일출'!$AE$6:$AE$294,'2추일입'!$AE57)) -> 0 | AL57: =IF(AE57="","",COUNTIFS('2추일출'!$AE$6:$AE$294,'2추일입'!AE57)) | AM57: =IF(V57=AK57,"OK","@@") -> OK | AO57: =IF(AE57="",0,SUMIFS('2추일출'!$AA$6:$AA$294,'2추일출'!$AE$6:$AE$294,'2추일입'!$AE57)) -> 0 | AP57: =IF(AE57="","",COUNTIFS('2추일출'!$AE$6:$AE$294,AE57)) | AQ57: =IF(AA57=AO57,"OK","@@") -> OK
A58: =IFERROR(VLOOKUP($C58,구분표!$A$2:$C$300,2,FALSE),"") | B58: =IFERROR(VLOOKUP($C58,구분표!$A$2:$C$300,3,FALSE),"") | I58: =IF(D58="","",G58-H58) | L58: =IF(G58=0,H58+J58+K58,G58+J58+K58) -> 0 | O58: =IF(G58=0,H58+M58+N58,G58+M58+N58) -> 0 | P58: =IF(AND((L58=0),(O58>0)),"O",IF(AND((J58<0),(L58-O58<0)),"O","X")) -> X | V58: =IF($U58<>"도비",IF($S58="국도비","직접입력",SUM($J58:$K58)),) -> 0 | W58: =IF($U58="도비",SUM($J58:$K58),IF($S58="국도비","직접입력",SUM($J58:$K58)-$V58)) -> 0 | X58: =IF(SUM($J58:$K58)=SUM($V58:$W58),"OK","검토") -> OK | AA58: =IF($U58<>"도비",IF($S58="국도비","직접입력",SUM($M58:$N58)),) -> 0 | AB58: =IF($U58="도비",SUM(M58:N58),IF($S58="국도비","직접입력",SUM(M58:N58)-AA58)) -> 0 | AC58: =IF(SUM(M58:N58)=SUM(AA58:AB58),"OK","검토") -> OK | AE58: =IF(AG58="","",IF(U58="도비","세입없음",CONCATENATE(AG58,"-",COUNTIF($AG$7:AG58,AG58)))) | AG58: {=IF(C58="","",INDEX(구분표!$I$2:$I$300, MATCH(1,(구분표!$E$2:$E$300='2추일입'!B58)*(구분표!$F$2:$F$300='2추일입'!C58)*(구분표!$G$2:$G$300='2추일입'!A58),0)))} | AK58: =IF(AE58="",0,SUMIFS('2추일출'!$V$6:$V$294,'2추일출'!$AE$6:$AE$294,'2추일입'!$AE58)) -> 0 | AL58: =IF(AE58="","",COUNTIFS('2추일출'!$AE$6:$AE$294,'2추일입'!AE58)) | AM58: =IF(V58=AK58,"OK","@@") -> OK | AO58: =IF(AE58="",0,SUMIFS('2추일출'!$AA$6:$AA$294,'2추일출'!$AE$6:$AE$294,'2추일입'!$AE58)) -> 0 | AP58: =IF(AE58="","",COUNTIFS('2추일출'!$AE$6:$AE$294,AE58)) | AQ58: =IF(AA58=AO58,"OK","@@") -> OK
A59: =IFERROR(VLOOKUP($C59,구분표!$A$2:$C$300,2,FALSE),"") | B59: =IFERROR(VLOOKUP($C59,구분표!$A$2:$C$300,3,FALSE),"") | I59: =IF(D59="","",G59-H59) | L59: =IF(G59=0,H59+J59+K59,G59+J59+K59) -> 0 | O59: =IF(G59=0,H59+M59+N59,G59+M59+N59) -> 0 | P59: =IF(AND((L59=0),(O59>0)),"O",IF(AND((J59<0),(L59-O59<0)),"O","X")) -> X | V59: =IF($U59<>"도비",IF($S59="국도비","직접입력",SUM($J59:$K59)),) -> 0 | W59: =IF($U59="도비",SUM($J59:$K59),IF($S59="국도비","직접입력",SUM($J59:$K59)-$V59)) -> 0 | X59: =IF(SUM($J59:$K59)=SUM($V59:$W59),"OK","검토") -> OK | AA59: =IF($U59<>"도비",IF($S59="국도비","직접입력",SUM($M59:$N59)),) -> 0 | AB59: =IF($U59="도비",SUM(M59:N59),IF($S59="국도비","직접입력",SUM(M59:N59)-AA59)) -> 0 | AC59: =IF(SUM(M59:N59)=SUM(AA59:AB59),"OK","검토") -> OK | AE59: =IF(AG59="","",IF(U59="도비","세입없음",CONCATENATE(AG59,"-",COUNTIF($AG$7:AG59,AG59)))) | AG59: {=IF(C59="","",INDEX(구분표!$I$2:$I$300, MATCH(1,(구분표!$E$2:$E$300='2추일입'!B59)*(구분표!$F$2:$F$300='2추일입'!C59)*(구분표!$G$2:$G$300='2추일입'!A59),0)))} | AK59: =IF(AE59="",0,SUMIFS('2추일출'!$V$6:$V$294,'2추일출'!$AE$6:$AE$294,'2추일입'!$AE59)) -> 0 | AL59: =IF(AE59="","",COUNTIFS('2추일출'!$AE$6:$AE$294,'2추일입'!AE59)) | AM59: =IF(V59=AK59,"OK","@@") -> OK | AO59: =IF(AE59="",0,SUMIFS('2추일출'!$AA$6:$AA$294,'2추일출'!$AE$6:$AE$294,'2추일입'!$AE59)) -> 0 | AP59: =IF(AE59="","",COUNTIFS('2추일출'!$AE$6:$AE$294,AE59)) | AQ59: =IF(AA59=AO59,"OK","@@") -> OK
A60: =IFERROR(VLOOKUP($C60,구분표!$A$2:$C$300,2,FALSE),"") | B60: =IFERROR(VLOOKUP($C60,구분표!$A$2:$C$300,3,FALSE),"") | I60: =IF(D60="","",G60-H60) | L60: =IF(G60=0,H60+J60+K60,G60+J60+K60) -> 0 | O60: =IF(G60=0,H60+M60+N60,G60+M60+N60) -> 0 | P60: =IF(AND((L60=0),(O60>0)),"O",IF(AND((J60<0),(L60-O60<0)),"O","X")) -> X | V60: =IF($U60<>"도비",IF($S60="국도비","직접입력",SUM($J60:$K60)),) -> 0 | W60: =IF($U60="도비",SUM($J60:$K60),IF($S60="국도비","직접입력",SUM($J60:$K60)-$V60)) -> 0 | X60: =IF(SUM($J60:$K60)=SUM($V60:$W60),"OK","검토") -> OK | AA60: =IF($U60<>"도비",IF($S60="국도비","직접입력",SUM($M60:$N60)),) -> 0 | AB60: =IF($U60="도비",SUM(M60:N60),IF($S60="국도비","직접입력",SUM(M60:N60)-AA60)) -> 0 | AC60: =IF(SUM(M60:N60)=SUM(AA60:AB60),"OK","검토") -> OK | AE60: =IF(AG60="","",IF(U60="도비","세입없음",CONCATENATE(AG60,"-",COUNTIF($AG$7:AG60,AG60)))) | AG60: {=IF(C60="","",INDEX(구분표!$I$2:$I$300, MATCH(1,(구분표!$E$2:$E$300='2추일입'!B60)*(구분표!$F$2:$F$300='2추일입'!C60)*(구분표!$G$2:$G$300='2추일입'!A60),0)))} | AK60: =IF(AE60="",0,SUMIFS('2추일출'!$V$6:$V$294,'2추일출'!$AE$6:$AE$294,'2추일입'!$AE60)) -> 0 | AL60: =IF(AE60="","",COUNTIFS('2추일출'!$AE$6:$AE$294,'2추일입'!AE60)) | AM60: =IF(V60=AK60,"OK","@@") -> OK | AO60: =IF(AE60="",0,SUMIFS('2추일출'!$AA$6:$AA$294,'2추일출'!$AE$6:$AE$294,'2추일입'!$AE60)) -> 0 | AP60: =IF(AE60="","",COUNTIFS('2추일출'!$AE$6:$AE$294,AE60)) | AQ60: =IF(AA60=AO60,"OK","@@") -> OK

Sheet 2추일출
A1: 2015년도 제2회 추경 경기도 일반회계 세출 예산 조정(안)
A2: □ 세출예산 | P2: ⇒ | V2: 세입=세출 | AA2: 세입=세출
J3: =COUNTA(J7:J294)-10 -> 54 | K3: =COUNTA(K7:K294)-10 -> 198 | M3: =COUNTA(M7:M294)-10 -> 130 | N3: =COUNTA(N7:N294)-10 -> 258 | Q3: (단위 : 천원) | V3: =IF(V6='2추일입'!V6,"OK","@@") -> @@ | X3: =IF(COUNTIF(X6:X294,"검토")>0,"@@","OK") -> OK | AA3: =IF((AA6='2추일입'!AA6-'2추일입'!AA1),"OK","@@") -> OK | AC3: =IF(COUNTIF(AC6:AC294,"검토")>0,"@@","OK") -> OK
A4: 위원회명 | B4: 실국명 | C4: 부서명 | D4: 편성 구분 | E4: 예산안 페이지 | F4: 세부사업명 및 부기명 | G4: 제2회 추경 예산안 (가) | H4: 기정액 (나) | I4: 제2회 추경 증감액 (다=가-나) | J4: 상임위 제2회 추경 예산안 조정액(라) | L4: 상임위 수정 예산안 (마=가or나+라) | M4: 예결위 제2회 추경 예산안 조정액(라) | O4: 예결위 수정 예산안 (마=가or나+라) | P4: 동의 대상 | Q4: 비고 (부대의견) | S4: 국도비 등 여부 | U4: 재원 | V4: 상임위 재원별 증감액 | Z4: 재원 | AA4: 예결위 재원별 증감액 | AE4: 세입번호 | AG4: 동일 세입 건수 | AH4: 세출 번호 검증 | AJ4: 실국부서 코드 | AL4: 추가 내시 등
J5: 감액 | K5: 증액 | M5: 감액 | N5: 증액 | V5: 국비 등 | W5: 도비 | X5: 검증 | AA5: 국비 등 | AB5: 도비 | AC5: 검증
A6: 합 계 | G6: =SUBTOTAL(9,G7:G294)/2 -> 1175159009 | H6: =SUBTOTAL(9,H7:H294)/2 -> 893443440 | I6: =SUBTOTAL(9,I7:I294)/2 -> 281715569 | J6: =SUBTOTAL(9,J7:J294)/2 -> -67930918 | K6: =SUBTOTAL(9,K7:K294)/2 -> 82409958 | L6: =SUBTOTAL(9,L7:L294)/2 -> 1189788049 | M6: =SUBTOTAL(9,M7:M294)/2 -> -74682271 | N6: =SUBTOTAL(9,N7:N294)/2 -> 94507148 | O6: =SUBTOTAL(9,O7:O294)/2 -> 1194833886 | V6: =SUBTOTAL(9,V7:V294) -> 20348091 | W6: =SUBTOTAL(9,W7:W294) -> -5869051 | X6: =IF(SUM($J6:$K6)=SUM($V6:$W6),"OK","검토") -> OK | AA6: =SUBTOTAL(9,AA7:AA294) -> 19827870 | AB6: =SUBTOTAL(9,AB7:AB294) -> -2993 | AC6: =IF(SUM($J6:$K6)=SUM($V6:$W6),"OK","검토") -> OK
A7: (의회운영위원회) | G7: =SUM(G8:G29) -> 9247996 | H7: =SUM(H8:H29) -> 5555996 | I7: =SUM(I8:I29) -> 3692000 | J7: =SUM(J8:J29) -> -1765000 | K7: =SUM(K8:K29) -> 900000 | L7: =SUM(L8:L29) -> 8382996 | M7: =SUM(M8:M29) -> -2165000 | N7: =SUM(N8:N29) -> 819700 | O7: =SUM(O8:O29) -> 7902696 | AE7: =IF(U7="","",IF(U7="도비","세입없음","직접입력")) | AG7: =IF(AE7="","",COUNTIF($AE$7:$AE$294,AE7)) | AH7: =IF(U7="","",IF(AND(U7="도비",AE7="세입없음"),"OK",IF(AND(U7<>"도비",AE7<>""),"OK","@@"))) | AJ7: {=IF(C7="","",INDEX(구분표!$I$2:$I$300, MATCH(1,(구분표!$E$2:$E$300='2추일출'!B7)*(구분표!$F$2:$F$300='2추일출'!C7)*(구분표!$G$2:$G$300='2추일출'!A7),0)))}
A8: =IFERROR(VLOOKUP($C8,구분표!$A$2:$C$300,2,FALSE),"") -> 의회운영위원회 | B8: =IFERROR(VLOOKUP($C8,구분표!$A$2:$C$300,3,FALSE),"") -> 의회사무처 | C8: 총무담당관 | D8: 신규 | E8: 의회 | F8: 체력단련실 샤워장 설치 | I8: =IF(D8="","",G8-H8) -> 0 | K8: 20000 | L8: =IF(G8=0,H8+J8+K8,G8+J8+K8) -> 20000 | N8: 20000 | O8: =IF(G8=0,H8+M8+N8,G8+M8+N8) -> 20000 | P8: =IF(AND((L8=0),(O8>0)),"O",IF(AND((J8<0),(L8-O8<0)),"O","X")) -> X | S8: 도비 | U8: 도비 | V8: =IF($U8<>"도비",IF($S8="국도비","직접입력",SUM($J8:$K8)),) -> 0 | W8: =IF($U8="도비",SUM($J8:$K8),IF($S8="국도비","직접입력",SUM($J8:$K8)-$V8)) -> 20000 | X8: =IF(SUM($J8:$K8)=SUM($V8:$W8),"OK","검토") -> OK | AA8: =IF($U8<>"도비",IF($S8="국도비","직접입력",SUM($M8:$N8)),) -> 0 | AB8: =IF($U8="도비",SUM(M8:N8),IF($S8="국도비","직접입력",SUM(M8:N8)-AA8)) -> 20000 | AC8: =IF(SUM(M8:N8)=SUM(AA8:AB8),"OK","검토") -> OK | AE8: =IF(U8="","",IF(U8="도비","세입없음","직접입력")) -> 세입없음 | AG8: =IF(AE8="","",COUNTIF($AE$7:$AE$294,AE8)) -> 217 | AH8: =IF(U8="","",IF(AND(U8="도비",AE8="세입없음"),"OK",IF(AND(U8<>"도비",AE8<>""),"OK","@@"))) -> OK | AJ8: {=IF(C8="","",INDEX(구분표!$I$2:$I$300, MATCH(1,(구분표!$E$2:$E$300='2추일출'!B8)*(구분표!$F$2:$F$300='2추일출'!C8)*(구분표!$G$2:$G$300='2추일출'!A8),0)))} -> 0102
A9: =IFERROR(VLOOKUP($C9,구분표!$A$2:$C$300,2,FALSE),"") -> 의회운영위원회 | B9: =IFERROR(VLOOKUP($C9,구분표!$A$2:$C$300,3,FALSE),"") -> 의회사무처 | C9: 총무담당관 | D9: 신규 | E9: 의회 | F9: 행사운영지원 | I9: =IF(D9="","",G9-H9) -> 0 | K9: 60000 | L9: =IF(G9=0,H9+J9+K9,G9+J9+K9) -> 60000 | N9: 0 | O9: =IF(G9=0,H9+M9+N9,G9+M9+N9) -> 0 | P9: =IF(AND((L9=0),(O9>0)),"O",IF(AND((J9<0),(L9-O9<0)),"O","X")) -> X | Q9: (삭감)삭감하여 기존 본예산에 있는 체육대회 경비 20,000천원 증액 | S9: 도비 | U9: 도비 | V9: =IF($U9<>"도비",IF($S9="국도비","직접입력",SUM($J9:$K9)),) -> 0 | W9: =IF($U9="도비",SUM($J9:$K9),IF($S9="국도비","직접입력",SUM($J9:$K9)-$V9)) -> 60000 | X9: =IF(SUM($J9:$K9)=SUM($V9:$W9),"OK","검토") -> OK | AA9: =IF($U9<>"도비",IF($S9="국도비","직접입력",SUM($M9:$N9)),) -> 0 | AB9: =IF($U9="도비",SUM(M9:N9),IF($S9="국도비","직접입력",SUM(M9:N9)-AA9)) -> 0 | AC9: =IF(SUM(M9:N9)=SUM(AA9:AB9),"OK","검토") -> OK | AE9: =IF(U9="","",IF(U9="도비","세입없음","직접입력")) -> 세입없음 | AG9: =IF(AE9="","",COUNTIF($AE$7:$AE$294,AE9)) -> 217 | AH9: =IF(U9="","",IF(AND(U9="도비",AE9="세입없음"),"OK",IF(AND(U9<>"도비",AE9<>""),"OK","@@"))) -> OK | AJ9: {=IF(C9="","",INDEX(구분표!$I$2:$I$300, MATCH(1,(구분표!$E$2:$E$300='2추일출'!B9)*(구분표!$F$2:$F$300='2추일출'!C9)*(구분표!$G$2:$G$300='2추일출'!A9),0)))} -> 0102
A10: 의회운영위원회 | B10: 의회사무처 | C10: 총무담당관 | D10: 본예산 | F10: 의원 체육의날 행사 | G10: 18000 | H10: 18000 | I10: =IF(D10="","",G10-H10) -> 0 | L10: =IF(G10=0,H10+J10+K10,G10+J10+K10) -> 18000 | N10: 20000 | O10: =IF(G10=0,H10+M10+N10,G10+M10+N10) -> 38000 | P10: =IF(AND((L10=0),(O10>0)),"O",IF(AND((J10<0),(L10-O10<0)),"O","X")) -> X | S10: 도비 | U10: 도비 | V10: =IF($U10<>"도비",IF($S10="국도비","직접입력",SUM($J10:$K10)),) -> 0 | W10: =IF($U10="도비",SUM($J10:$K10),IF($S10="국도비","직접입력",SUM($J10:$K10)-$V10)) -> 0 | X10: =IF(SUM($J10:$K10)=SUM($V10:$W10),"OK","검토") -> OK | AA10: =IF($U10<>"도비",IF($S10="국도비","직접입력",SUM($M10:$N10)),) -> 0 | AB10: =IF($U10="도비",SUM(M10:N10),IF($S10="국도비","직접입력",SUM(M10:N10)-AA10)) -> 20000 | AC10: =IF(SUM(M10:N10)=SUM(AA10:AB10),"OK","검토") -> OK | AE10: =IF(U10="","",IF(U10="도비","세입없음","직접입력")) -> 세입없음 | AG10: =IF(AE10="","",COUNTIF($AE$7:$AE$294,AE10)) -> 217 | AH10: =IF(U10="","",IF(AND(U10="도비",AE10="세입없음"),"OK",IF(AND(U10<>"도비",AE10<>""),"OK","@@"))) -> OK | AJ10: {=IF(C10="","",INDEX(구분표!$I$2:$I$300, MATCH(1,(구분표!$E$2:$E$300='2추일출'!B10)*(구분표!$F$2:$F$300='2추일출'!C10)*(구분표!$G$2:$G$300='2추일출'!A10),0)))} -> 0102
A11: =IFERROR(VLOOKUP($C11,구분표!$A$2:$C$300,2,FALSE),"") -> 의회운영위원회 | B11: =IFERROR(VLOOKUP($C11,구분표!$A$2:$C$300,3,FALSE),"") -> 의회사무처 | C11: 총무담당관 | D11: 신규 | E11: 의회 | F11: 의원 의정능력 배양 | I11: =IF(D11="","",G11-H11) -> 0 | K11: 15000 | L11: =IF(G11=0,H11+J11+K11,G11+J11+K11) -> 15000 | N11: 15000 | O11: =IF(G11=0,H11+M11+N11,G11+M11+N11) -> 15000 | P11: =IF(AND((L11=0),(O11>0)),"O",IF(AND((J11<0),(L11-O11<0)),"O","X")) -> X | S11: 도비 | U11: 도비 | V11: =IF($U11<>"도비",IF($S11="국도비","직접입력",SUM($J11:$K11)),) -> 0 | W11: =IF($U11="도비",SUM($J11:$K11),IF($S11="국도비","직접입력",SUM($J11:$K11)-$V11)) -> 15000 | X11: =IF(SUM($J11:$K11)=SUM($V11:$W11),"OK","검토") -> OK | AA11: =IF($U11<>"도비",IF($S11="국도비","직접입력",SUM($M11:$N11)),) -> 0 | AB11: =IF($U11="도비",SUM(M11:N11),IF($S11="국도비","직접입력",SUM(M11:N11)-AA11)) -> 15000 | AC11: =IF(SUM(M11:N11)=SUM(AA11:AB11),"OK","검토") -> OK | AE11: =IF(U11="","",IF(U11="도비","세입없음","직접입력")) -> 세입없음 | AG11: =IF(AE11="","",COUNTIF($AE$7:$AE$294,AE11)) -> 217 | AH11: =IF(U11="","",IF(AND(U11="도비",AE11="세입없음"),"OK",IF(AND(U11<>"도비",AE11<>""),"OK","@@"))) -> OK | AJ11: {=IF(C11="","",INDEX(구분표!$I$2:$I$300, MATCH(1,(구분표!$E$2:$E$300='2추일출'!B11)*(구분표!$F$2:$F$300='2추일출'!C11)*(구분표!$G$2:$G$300='2추일출'!A11),0)))} -> 0102
A12: =IFERROR(VLOOKUP($C12,구분표!$A$2:$C$300,2,FALSE),"") -> 의회운영위원회 | B12: =IFERROR(VLOOKUP($C12,구분표!$A$2:$C$300,3,FALSE),"") -> 의회사무처 | C12: 총무담당관 | D12: 신규 | E12: 의회 | F12: 공공운영비 | I12: =IF(D12="","",G12-H12) -> 0 | K12: 26800 | L12: =IF(G12=0,H12+J12+K12,G12+J12+K12) -> 26800 | N12: 0 | O12: =IF(G12=0,H12+M12+N12,G12+M12+N12) -> 0 | P12: =IF(AND((L12=0),(O12>0)),"O",IF(AND((J12<0),(L12-O12<0)),"O","X")) -> X | S12: 도비 | U12: 도비 | V12: =IF($U12<>"도비",IF($S12="국도비","직접입력",SUM($J12:$K12)),) -> 0 | W12: =IF($U12="도비",SUM($J12:$K12),IF($S12="국도비","직접입력",SUM($J12:$K12)-$V12)) -> 26800 | X12: =IF(SUM($J12:$K12)=SUM($V12:$W12),"OK","검토") -> OK | AA12: =IF($U12<>"도비",IF($S12="국도비","직접입력",SUM($M12:$N12)),) -> 0 | AB12: =IF($U12="도비",SUM(M12:N12),IF($S12="국도비","직접입력",SUM(M12:N12)-AA12)) -> 0 | AC12: =IF(SUM(M12:N12)=SUM(AA12:AB12),"OK","검토") -> OK | AE12: =IF(U12="","",IF(U12="도비","세입없음","직접입력")) -> 세입없음 | AG12: =IF(AE12="","",COUNTIF($AE$7:$AE$294,AE12)) -> 217 | AH12: =IF(U12="","",IF(AND(U12="도비",AE12="세입없음"),"OK",IF(AND(U12<>"도비",AE12<>""),"OK","@@"))) -> OK | AJ12: {=IF(C12="","",INDEX(구분표!$I$2:$I$300, MATCH(1,(구분표!$E$2:$E$300='2추일출'!B12)*(구분표!$F$2:$F$300='2추일출'!C12)*(구분표!$G$2:$G$300='2추일출'!A12),0)))} -> 0102
A13: =IFERROR(VLOOKUP($C13,구분표!$A$2:$C$300,2,FALSE),"") -> 의회운영위원회 | B13: =IFERROR(VLOOKUP($C13,구분표!$A$2:$C$300,3,FALSE),"") -> 의회사무처 | C13: 총무담당관 | D13: 신규 | E13: 의회 | F13: 지방의원 공제회 운영방안 연구용역 | I13: =IF(D13="","",G13-H13) -> 0 | K13: 15000 | L13: =IF(G13=0,H13+J13+K13,G13+J13+K13) -> 15000 | N13: 15000 | O13: =IF(G13=0,H13+M13+N13,G13+M13+N13) -> 15000 | P13: =IF(AND((L13=0),(O13>0)),"O",IF(AND((J13<0),(L13-O13<0)),"O","X")) -> X | S13: 도비 | U13: 도비 | V13: =IF($U13<>"도비",IF($S13="국도비","직접입력",SUM($J13:$K13)),) -> 0 | W13: =IF($U13="도비",SUM($J13:$K13),IF($S13="국도비","직접입력",SUM($J13:$K13)-$V13)) -> 15000 | X13: =IF(SUM($J13:$K13)=SUM($V13:$W13),"OK","검토") -> OK | AA13: =IF($U13<>"도비",IF($S13="국도비","직접입력",SUM($M13:$N13)),) -> 0 | AB13: =IF($U13="도비",SUM(M13:N13),IF($S13="국도비","직접입력",SUM(M13:N13)-AA13)) -> 15000 | AC13: =IF(SUM(M13:N13)=SUM(AA13:AB13),"OK","검토") -> OK | AE13: =IF(U13="","",IF(U13="도비","세입없음","직접입력")) -> 세입없음 | AG13: =IF(AE13="","",COUNTIF($AE$7:$AE$294,AE13)) -> 217 | AH13: =IF(U13="","",IF(AND(U13="도비",AE13="세입없음"),"OK",IF(AND(U13<>"도비",AE13<>""),"OK","@@"))) -> OK | AJ13: {=IF(C13="","",INDEX(구분표!$I$2:$I$300, MATCH(1,(구분표!$E$2:$E$300='2추일출'!B13)*(구분표!$F$2:$F$300='2추일출'!C13)*(구분표!$G$2:$G$300='2추일출'!A13),0)))} -> 0102
A14: =IFERROR(VLOOKUP($C14,구분표!$A$2:$C$300,2,FALSE),"") -> 의회운영위원회 | B14: =IFERROR(VLOOKUP($C14,구분표!$A$2:$C$300,3,FALSE),"") -> 의회사무처 | C14: 공보담당관 | D14: 신규 | E14: 의회 | F14: 포토의정 에세이 | I14: =IF(D14="","",G14-H14) -> 0 | K14: 45000 | L14: =IF(G14=0,H14+J14+K14,G14+J14+K14) -> 45000 | N14: 45000 | O14: =IF(G14=0,H14+M14+N14,G14+M14+N14) -> 45000 | P14: =IF(AND((L14=0),(O14>0)),"O",IF(AND((J14<0),(L14-O14<0)),"O","X")) -> X | S14: 도비 | U14: 도비 | V14: =IF($U14<>"도비",IF($S14="국도비","직접입력",SUM($J14:$K14)),) -> 0 | W14: =IF($U14="도비",SUM($J14:$K14),IF($S14="국도비","직접입력",SUM($J14:$K14)-$V14)) -> 45000 | X14: =IF(SUM($J14:$K14)=SUM($V14:$W14),"OK","검토") -> OK | AA14: =IF($U14<>"도비",IF($S14="국도비","직접입력",SUM($M14:$N14)),) -> 0 | AB14: =IF($U14="도비",SUM(M14:N14),IF($S14="국도비","직접입력",SUM(M14:N14)-AA14)) -> 45000 | AC14: =IF(SUM(M14:N14)=SUM(AA14:AB14),"OK","검토") -> OK | AE14: =IF(U14="","",IF(U14="도비","세입없음","직접입력")) -> 세입없음 | AG14: =IF(AE14="","",COUNTIF($AE$7:$AE$294,AE14)) -> 217 | AH14: =IF(U14="","",IF(AND(U14="도비",AE14="세입없음"),"OK",IF(AND(U14<>"도비",AE14<>""),"OK","@@"))) -> OK | AJ14: {=IF(C14="","",INDEX(구분표!$I$2:$I$300, MATCH(1,(구분표!$E$2:$E$300='2추일출'!B14)*(구분표!$F$2:$F$300='2추일출'!C14)*(구분표!$G$2:$G$300='2추일출'!A14),0)))} -> 0101
A15: =IFERROR(VLOOKUP($C15,구분표!$A$2:$C$300,2,FALSE),"") -> 의회운영위원회 | B15: =IFERROR(VLOOKUP($C15,구분표!$A$2:$C$300,3,FALSE),"") -> 의회사무처 | C15: 공보담당관 | D15: 본예산 | E15: 의회 | F15: 의정현안 시책홍보 | G15: 1817996 | H15: 1817996 | I15: =IF(D15="","",G15-H15) -> 0 | K15: 175000 | L15: =IF(G15=0,H15+J15+K15,G15+J15+K15) -> 1992996 | N15: 240000 | O15: =IF(G15=0,H15+M15+N15,G15+M15+N15) -> 2057996 | P15: =IF(AND((L15=0),(O15>0)),"O",IF(AND((J15<0),(L15-O15<0)),"O","X")) -> X | Q15: (부기)시군지역지로만 사용 | S15: 도비 | U15: 도비 | V15: =IF($U15<>"도비",IF($S15="국도비","직접입력",SUM($J15:$K15)),) -> 0 | W15: =IF($U15="도비",SUM($J15:$K15),IF($S15="국도비","직접입력",SUM($J15:$K15)-$V15)) -> 175000 | X15: =IF(SUM($J15:$K15)=SUM($V15:$W15),"OK","검토") -> OK | AA15: =IF($U15<>"도비",IF($S15="국도비","직접입력",SUM($M15:$N15)),) -> 0 | AB15: =IF($U15="도비",SUM(M15:N15),IF($S15="국도비","직접입력",SUM(M15:N15)-AA15)) -> 240000 | AC15: =IF(SUM(M15:N15)=SUM(AA15:AB15),"OK","검토") -> OK | AE15: =IF(U15="","",IF(U15="도비","세입없음","직접입력")) -> 세입없음 | AG15: =IF(AE15="","",COUNTIF($AE$7:$AE$294,AE15)) -> 217 | AH15: =IF(U15="","",IF(AND(U15="도비",AE15="세입없음"),"OK",IF(AND(U15<>"도비",AE15<>""),"OK","@@"))) -> OK | AJ15: {=IF(C15="","",INDEX(구분표!$I$2:$I$300, MATCH(1,(구분표!$E$2:$E$300='2추일출'!B15)*(구분표!$F$2:$F$300='2추일출'!C15)*(구분표!$G$2:$G$300='2추일출'!A15),0)))} -> 0101
A16: =IFERROR(VLOOKUP($C16,구분표!$A$2:$C$300,2,FALSE),"") -> 의회운영위원회 | B16: =IFERROR(VLOOKUP($C16,구분표!$A$2:$C$300,3,FALSE),"") -> 의회사무처 | C16: 공보담당관 | D16: 본예산 | E16: 의회 | F16: 인터넷 사이트를 통한 의정홍보 | G16: 150000 | H16: 150000 | I16: =IF(D16="","",G16-H16) -> 0 | K16: 65000 | L16: =IF(G16=0,H16+J16+K16,G16+J16+K16) -> 215000 | O16: =IF(G16=0,H16+M16+N16,G16+M16+N16) -> 150000 | P16: =IF(AND((L16=0),(O16>0)),"O",IF(AND((J16<0),(L16-O16<0)),"O","X")) -> X | S16: 도비 | U16: 도비 | V16: =IF($U16<>"도비",IF($S16="국도비","직접입력",SUM($J16:$K16)),) -> 0 | W16: =IF($U16="도비",SUM($J16:$K16),IF($S16="국도비","직접입력",SUM($J16:$K16)-$V16)) -> 65000 | X16: =IF(SUM($J16:$K16)=SUM($V16:$W16),"OK","검토") -> OK | AA16: =IF($U16<>"도비",IF($S16="국도비","직접입력",SUM($M16:$N16)),) -> 0 | AB16: =IF($U16="도비",SUM(M16:N16),IF($S16="국도비","직접입력",SUM(M16:N16)-AA16)) -> 0 | AC16: =IF(SUM(M16:N16)=SUM(AA16:AB16),"OK","검토") -> OK | AE16: =IF(U16="","",IF(U16="도비","세입없음","직접입력")) -> 세입없음 | AG16: =IF(AE16="","",COUNTIF($AE$7:$AE$294,AE16)) -> 217 | AH16: =IF(U16="","",IF(AND(U16="도비",AE16="세입없음"),"OK",IF(AND(U16<>"도비",AE16<>""),"OK","@@"))) -> OK | AJ16: {=IF(C16="","",INDEX(구분표!$I$2:$I$300, MATCH(1,(구분표!$E$2:$E$300='2추일출'!B16)*(구분표!$F$2:$F$300='2추일출'!C16)*(구분표!$G$2:$G$300='2추일출'!A16),0)))} -> 0101
A17: =IFERROR(VLOOKUP($C17,구분표!$A$2:$C$300,2,FALSE),"") -> 의회운영위원회 | B17: =IFERROR(VLOOKUP($C17,구분표!$A$2:$C$300,3,FALSE),"") -> 의회사무처 | C17: 총무담당관 | D17: 신규 | E17: 의회 | F17: 의정지원능력 강화 | I17: =IF(D17="","",G17-H17) -> 0 | K17: 20000 | L17: =IF(G17=0,H17+J17+K17,G17+J17+K17) -> 20000 | N17: 30000 | O17: =IF(G17=0,H17+M17+N17,G17+M17+N17) -> 30000 | P17: =IF(AND((L17=0),(O17>0)),"O",IF(AND((J17<0),(L17-O17<0)),"O","X")) -> X | S17: 도비 | U17: 도비 | V17: =IF($U17<>"도비",IF($S17="국도비","직접입력",SUM($J17:$K17)),) -> 0 | W17: =IF($U17="도비",SUM($J17:$K17),IF($S17="국도비","직접입력",SUM($J17:$K17)-$V17)) -> 20000 | X17: =IF(SUM($J17:$K17)=SUM($V17:$W17),"OK","검토") -> OK | AA17: =IF($U17<>"도비",IF($S17="국도비","직접입력",SUM($M17:$N17)),) -> 0 | AB17: =IF($U17="도비",SUM(M17:N17),IF($S17="국도비","직접입력",SUM(M17:N17)-AA17)) -> 30000 | AC17: =IF(SUM(M17:N17)=SUM(AA17:AB17),"OK","검토") -> OK | AE17: =IF(U17="","",IF(U17="도비","세입없음","직접입력")) -> 세입없음 | AG17: =IF(AE17="","",COUNTIF($AE$7:$AE$294,AE17)) -> 217 | AH17: =IF(U17="","",IF(AND(U17="도비",AE17="세입없음"),"OK",IF(AND(U17<>"도비",AE17<>""),"OK","@@"))) -> OK | AJ17: {=IF(C17="","",INDEX(구분표!$I$2:$I$300, MATCH(1,(구분표!$E$2:$E$300='2추일출'!B17)*(구분표!$F$2:$F$300='2추일출'!C17)*(구분표!$G$2:$G$300='2추일출'!A17),0)))} -> 0102
A18: =IFERROR(VLOOKUP($C18,구분표!$A$2:$C$300,2,FALSE),"") -> 의회운영위원회 | B18: =IFERROR(VLOOKUP($C18,구분표!$A$2:$C$300,3,FALSE),"") -> 의회사무처 | C18: 총무담당관 | D18: 본예산 | E18: 의회 | F18: 선진의회 운영 사례연구 | G18: 40000 | H18: 40000 | I18: =IF(D18="","",G18-H18) -> 0 | K18: 20000 | L18: =IF(G18=0,H18+J18+K18,G18+J18+K18) -> 60000 | N18: 0 | O18: =IF(G18=0,H18+M18+N18,G18+M18+N18) -> 40000 | P18: =IF(AND((L18=0),(O18>0)),"O",IF(AND((J18<0),(L18-O18<0)),"O","X")) -> X | S18: 도비 | U18: 도비 | V18: =IF($U18<>"도비",IF($S18="국도비","직접입력",SUM($J18:$K18)),) -> 0 | W18: =IF($U18="도비",SUM($J18:$K18),IF($S18="국도비","직접입력",SUM($J18:$K18)-$V18)) -> 20000 | X18: =IF(SUM($J18:$K18)=SUM($V18:$W18),"OK","검토") -> OK | AA18: =IF($U18<>"도비",IF($S18="국도비","직접입력",SUM($M18:$N18)),) -> 0 | AB18: =IF($U18="도비",SUM(M18:N18),IF($S18="국도비","직접입력",SUM(M18:N18)-AA18)) -> 0 | AC18: =IF(SUM(M18:N18)=SUM(AA18:AB18),"OK","검토") -> OK | AE18: =IF(U18="","",IF(U18="도비","세입없음","직접입력")) -> 세입없음 | AG18: =IF(AE18="","",COUNTIF($AE$7:$AE$294,AE18)) -> 217 | AH18: =IF(U18="","",IF(AND(U18="도비",AE18="세입없음"),"OK",IF(AND(U18<>"도비",AE18<>""),"OK","@@"))) -> OK | AJ18: {=IF(C18="","",INDEX(구분표!$I$2:$I$300, MATCH(1,(구분표!$E$2:$E$300='2추일출'!B18)*(구분표!$F$2:$F$300='2추일출'!C18)*(구분표!$G$2:$G$300='2추일출'!A18),0)))} -> 0102
A19: =IFERROR(VLOOKUP($C19,구분표!$A$2:$C$300,2,FALSE),"") -> 의회운영위원회 | B19: =IFERROR(VLOOKUP($C19,구분표!$A$2:$C$300,3,FALSE),"") -> 의회사무처 | C19: 총무담당관 | D19: 신규 | E19: 의회 | F19: 실내조명 환경개선사업 | I19: =IF(D19="","",G19-H19) -> 0 | K19: 154200 | L19: =IF(G19=0,H19+J19+K19,G19+J19+K19) -> 154200 | N19: 154200 | O19: =IF(G19=0,H19+M19+N19,G19+M19+N19) -> 154200 | P19: =IF(AND((L19=0),(O19>0)),"O",IF(AND((J19<0),(L19-O19<0)),"O","X")) -> X | S19: 도비 | U19: 도비 | V19: =IF($U19<>"도비",IF($S19="국도비","직접입력",SUM($J19:$K19)),) -> 0 | W19: =IF($U19="도비",SUM($J19:$K19),IF($S19="국도비","직접입력",SUM($J19:$K19)-$V19)) -> 154200 | X19: =IF(SUM($J19:$K19)=SUM($V19:$W19),"OK","검토") -> OK | AA19: =IF($U19<>"도비",IF($S19="국도비","직접입력",SUM($M19:$N19)),) -> 0 | AB19: =IF($U19="도비",SUM(M19:N19),IF($S19="국도비","직접입력",SUM(M19:N19)-AA19)) -> 154200 | AC19: =IF(SUM(M19:N19)=SUM(AA19:AB19),"OK","검토") -> OK | AE19: =IF(U19="","",IF(U19="도비","세입없음","직접입력")) -> 세입없음 | AG19: =IF(AE19="","",COUNTIF($AE$7:$AE$294,AE19)) -> 217 | AH19: =IF(U19="","",IF(AND(U19="도비",AE19="세입없음"),"OK",IF(AND(U19<>"도비",AE19<>""),"OK","@@"))) -> OK | AJ19: {=IF(C19="","",INDEX(구분표!$I$2:$I$300, MATCH(1,(구분표!$E$2:$E$300='2추일출'!B19)*(구분표!$F$2:$F$300='2추일출'!C19)*(구분표!$G$2:$G$300='2추일출'!A19),0)))} -> 0102
A20: =IFERROR(VLOOKUP($C20,구분표!$A$2:$C$300,2,FALSE),"") -> 의회운영위원회 | B20: =IFERROR(VLOOKUP($C20,구분표!$A$2:$C$300,3,FALSE),"") -> 의회사무처 | C20: 공보담당관 | D20: 본예산 | E20: 의회 | F20: CATV 의정홍보 | G20: 110000 | H20: 110000 | I20: =IF(D20="","",G20-H20) -> 0 | K20: 30000 | L20: =IF(G20=0,H20+J20+K20,G20+J20+K20) -> 140000 | N20: 30000 | O20: =IF(G20=0,H20+M20+N20,G20+M20+N20) -> 140000 | P20: =IF(AND((L20=0),(O20>0)),"O",IF(AND((J20<0),(L20-O20<0)),"O","X")) -> X | S20: 도비 | U20: 도비 | V20: =IF($U20<>"도비",IF($S20="국도비","직접입력",SUM($J20:$K20)),) -> 0 | W20: =IF($U20="도비",SUM($J20:$K20),IF($S20="국도비","직접입력",SUM($J20:$K20)-$V20)) -> 30000 | X20: =IF(SUM($J20:$K20)=SUM($V20:$W20),"OK","검토") -> OK | AA20: =IF($U20<>"도비",IF($S20="국도비","직접입력",SUM($M20:$N20)),) -> 0 | AB20: =IF($U20="도비",SUM(M20:N20),IF($S20="국도비","직접입력",SUM(M20:N20)-AA20)) -> 30000 | AC20: =IF(SUM(M20:N20)=SUM(AA20:AB20),"OK","검토") -> OK | AE20: =IF(U20="","",IF(U20="도비","세입없음","직접입력")) -> 세입없음 | AG20: =IF(AE20="","",COUNTIF($AE$7:$AE$294,AE20)) -> 217 | AH20: =IF(U20="","",IF(AND(U20="도비",AE20="세입없음"),"OK",IF(AND(U20<>"도비",AE20<>""),"OK","@@"))) -> OK | AJ20: {=IF(C20="","",INDEX(구분표!$I$2:$I$300, MATCH(1,(구분표!$E$2:$E$300='2추일출'!B20)*(구분표!$F$2:$F$300='2추일출'!C20)*(구분표!$G$2:$G$300='2추일출'!A20),0)))} -> 0101
A21: =IFERROR(VLOOKUP($C21,구분표!$A$2:$C$300,2,FALSE),"") -> 의회운영위원회 | B21: =IFERROR(VLOOKUP($C21,구분표!$A$2:$C$300,3,FALSE),"") -> 의회사무처 | C21: 총무담당관 | D21: 신규 | E21: 의회 | F21: 노후 집기 교체 | I21: =IF(D21="","",G21-H21) -> 0 | K21: 170000 | L21: =IF(G21=0,H21+J21+K21,G21+J21+K21) -> 170000 | N21: 166500 | O21: =IF(G21=0,H21+M21+N21,G21+M21+N21) -> 166500 | P21: =IF(AND((L21=0),(O21>0)),"O",IF(AND((J21<0),(L21-O21<0)),"O","X")) -> X | S21: 도비 | U21: 도비 | V21: =IF($U21<>"도비",IF($S21="국도비","직접입력",SUM($J21:$K21)),) -> 0 | W21: =IF($U21="도비",SUM($J21:$K21),IF($S21="국도비","직접입력",SUM($J21:$K21)-$V21)) -> 170000 | X21: =IF(SUM($J21:$K21)=SUM($V21:$W21),"OK","검토") -> OK | AA21: =IF($U21<>"도비",IF($S21="국도비","직접입력",SUM($M21:$N21)),) -> 0 | AB21: =IF($U21="도비",SUM(M21:N21),IF($S21="국도비","직접입력",SUM(M21:N21)-AA21)) -> 166500 | AC21: =IF(SUM(M21:N21)=SUM(AA21:AB21),"OK","검토") -> OK | AE21: =IF(U21="","",IF(U21="도비","세입없음","직접입력")) -> 세입없음 | AG21: =IF(AE21="","",COUNTIF($AE$7:$AE$294,AE21)) -> 217 | AH21: =IF(U21="","",IF(AND(U21="도비",AE21="세입없음"),"OK",IF(AND(U21<>"도비",AE21<>""),"OK","@@"))) -> OK | AJ21: {=IF(C21="","",INDEX(구분표!$I$2:$I$300, MATCH(1,(구분표!$E$2:$E$300='2추일출'!B21)*(구분표!$F$2:$F$300='2추일출'!C21)*(구분표!$G$2:$G$300='2추일출'!A21),0)))} -> 0102
A22: =IFERROR(VLOOKUP($C22,구분표!$A$2:$C$300,2,FALSE),"") -> 의회운영위원회 | B22: =IFERROR(VLOOKUP($C22,구분표!$A$2:$C$300,3,FALSE),"") -> 의회사무처 | C22: 입법정책담당관 | D22: 신규 | E22: 의회 | F22: 위원회별 정책연구용역 | G22: 320000 | H22: 320000 | I22: =IF(D22="","",G22-H22) -> 0 | K22: 10000 | L22: =IF(G22=0,H22+J22+K22,G22+J22+K22) -> 330000 | N22: 10000 | O22: =IF(G22=0,H22+M22+N22,G22+M22+N22) -> 330000 | P22: =IF(AND((L22=0),(O22>0)),"O",IF(AND((J22<0),(L22-O22<0)),"O","X")) -> X | S22: 도비 | U22: 도비 | V22: =IF($U22<>"도비",IF($S22="국도비","직접입력",SUM($J22:$K22)),) -> 0 | W22: =IF($U22="도비",SUM($J22:$K22),IF($S22="국도비","직접입력",SUM($J22:$K22)-$V22)) -> 10000 | X22: =IF(SUM($J22:$K22)=SUM($V22:$W22),"OK","검토") -> OK | AA22: =IF($U22<>"도비",IF($S22="국도비","직접입력",SUM($M22:$N22)),) -> 0 | AB22: =IF($U22="도비",SUM(M22:N22),IF($S22="국도비","직접입력",SUM(M22:N22)-AA22)) -> 10000 | AC22: =IF(SUM(M22:N22)=SUM(AA22:AB22),"OK","검토") -> OK | AE22: =IF(U22="","",IF(U22="도비","세입없음","직접입력")) -> 세입없음 | AG22: =IF(AE22="","",COUNTIF($AE$7:$AE$294,AE22)) -> 217 | AH22: =IF(U22="","",IF(AND(U22="도비",AE22="세입없음"),"OK",IF(AND(U22<>"도비",AE22<>""),"OK","@@"))) -> OK | AJ22: {=IF(C22="","",INDEX(구분표!$I$2:$I$300, MATCH(1,(구분표!$E$2:$E$300='2추일출'!B22)*(구분표!$F$2:$F$300='2추일출'!C22)*(구분표!$G$2:$G$300='2추일출'!A22),0)))} -> 0104
A23: =IFERROR(VLOOKUP($C23,구분표!$A$2:$C$300,2,FALSE),"") -> 의회운영위원회 | B23: =IFERROR(VLOOKUP($C23,구분표!$A$2:$C$300,3,FALSE),"") -> 소통기획관 | C23: 소통담당관 | D23: 신규 | E23: 의회 | F23: 경기도 운영사이트 정보접근성 실태조사 | I23: =IF(D23="","",G23-H23) -> 0 | K23: 74000 | L23: =IF(G23=0,H23+J23+K23,G23+J23+K23) -> 74000 | N23: 74000 | O23: =IF(G23=0,H23+M23+N23,G23+M23+N23) -> 74000 | P23: =IF(AND((L23=0),(O23>0)),"O",IF(AND((J23<0),(L23-O23<0)),"O","X")) -> X | S23: 도비 | U23: 도비 | V23: =IF($U23<>"도비",IF($S23="국도비","직접입력",SUM($J23:$K23)),) -> 0 | W23: =IF($U23="도비",SUM($J23:$K23),IF($S23="국도비","직접입력",SUM($J23:$K23)-$V23)) -> 74000 | X23: =IF(SUM($J23:$K23)=SUM($V23:$W23),"OK","검토") -> OK | AA23: =IF($U23<>"도비",IF($S23="국도비","직접입력",SUM($M23:$N23)),) -> 0 | AB23: =IF($U23="도비",SUM(M23:N23),IF($S23="국도비","직접입력",SUM(M23:N23)-AA23)) -> 74000 | AC23: =IF(SUM(M23:N23)=SUM(AA23:AB23),"OK","검토") -> OK | AE23: =IF(U23="","",IF(U23="도비","세입없음","직접입력")) -> 세입없음 | AG23: =IF(AE23="","",COUNTIF($AE$7:$AE$294,AE23)) -> 217 | AH23: =IF(U23="","",IF(AND(U23="도비",AE23="세입없음"),"OK",IF(AND(U23<>"도비",AE23<>""),"OK","@@"))) -> OK | AJ23: {=IF(C23="","",INDEX(구분표!$I$2:$I$300, MATCH(1,(구분표!$E$2:$E$300='2추일출'!B23)*(구분표!$F$2:$F$300='2추일출'!C23)*(구분표!$G$2:$G$300='2추일출'!A23),0)))} -> 0109
A24: =IFERROR(VLOOKUP($C24,구분표!$A$2:$C$300,2,FALSE),"") -> 의회운영위원회 | B24: =IFERROR(VLOOKUP($C24,구분표!$A$2:$C$300,3,FALSE),"") -> 대변인 | C24: 언론협력담당관 | D24: 2회추경 | E24: 254 | F24: 신문을 통한 홍보(자체/직접) -언론공익광고 | G24: 2900000 | H24: 900000 | I24: =IF(D24="","",G24-H24) -> 2000000 | J24: -800000 | L24: =IF(G24=0,H24+J24+K24,G24+J24+K24) -> 2100000 | M24: -900000 | N24: 0 | O24: =IF(G24=0,H24+M24+N24,G24+M24+N24) -> 2000000 | P24: =IF(AND((L24=0),(O24>0)),"O",IF(AND((J24<0),(L24-O24<0)),"O","X")) -> X | S24: 도비 | U24: 도비 | V24: =IF($U24<>"도비",IF($S24="국도비","직접입력",SUM($J24:$K24)),) -> 0 | W24: =IF($U24="도비",SUM($J24:$K24),IF($S24="국도비","직접입력",SUM($J24:$K24)-$V24)) -> -800000 | X24: =IF(SUM($J24:$K24)=SUM($V24:$W24),"OK","검토") -> OK | AA24: =IF($U24<>"도비",IF($S24="국도비","직접입력",SUM($M24:$N24)),) -> 0 | AB24: =IF($U24="도비",SUM(M24:N24),IF($S24="국도비","직접입력",SUM(M24:N24)-AA24)) -> -900000 | AC24: =IF(SUM(M24:N24)=SUM(AA24:AB24),"OK","검토") -> OK | AE24: =IF(U24="","",IF(U24="도비","세입없음","직접입력")) -> 세입없음 | AG24: =IF(AE24="","",COUNTIF($AE$7:$AE$294,AE24)) -> 217 | AH24: =IF(U24="","",IF(AND(U24="도비",AE24="세입없음"),"OK",IF(AND(U24<>"도비",AE24<>""),"OK","@@"))) -> OK | AJ24: {=IF(C24="","",INDEX(구분표!$I$2:$I$300, MATCH(1,(구분표!$E$2:$E$300='2추일출'!B24)*(구분표!$F$2:$F$300='2추일출'!C24)*(구분표!$G$2:$G$300='2추일출'!A24),0)))} -> 0106
A25: =IFERROR(VLOOKUP($C25,구분표!$A$2:$C$300,2,FALSE),"") -> 의회운영위원회 | B25: =IFERROR(VLOOKUP($C25,구분표!$A$2:$C$300,3,FALSE),"") -> 대변인 | C25: 언론협력담당관 | D25: 2회추경 | E25: 254 | F25: 방송을 이용한 홍보(자체/직접) -방송을 이용한 홍보 | G25: 1000000 | I25: =IF(D25="","",G25-H25) -> 1000000 | J25: -365000 | L25: =IF(G25=0,H25+J25+K25,G25+J25+K25) -> 635000 | M25: -565000 | N25: 0 | O25: =IF(G25=0,H25+M25+N25,G25+M25+N25) -> 435000 | P25: =IF(AND((L25=0),(O25>0)),"O",IF(AND((J25<0),(L25-O25<0)),"O","X")) -> X | S25: 도비 | U25: 도비 | V25: =IF($U25<>"도비",IF($S25="국도비","직접입력",SUM($J25:$K25)),) -> 0 | W25: =IF($U25="도비",SUM($J25:$K25),IF($S25="국도비","직접입력",SUM($J25:$K25)-$V25)) -> -365000 | X25: =IF(SUM($J25:$K25)=SUM($V25:$W25),"OK","검토") -> OK | AA25: =IF($U25<>"도비",IF($S25="국도비","직접입력",SUM($M25:$N25)),) -> 0 | AB25: =IF($U25="도비",SUM(M25:N25),IF($S25="국도비","직접입력",SUM(M25:N25)-AA25)) -> -565000 | AC25: =IF(SUM(M25:N25)=SUM(AA25:AB25),"OK","검토") -> OK | AE25: =IF(U25="","",IF(U25="도비","세입없음","직접입력")) -> 세입없음 | AG25: =IF(AE25="","",COUNTIF($AE$7:$AE$294,AE25)) -> 217 | AH25: =IF(U25="","",IF(AND(U25="도비",AE25="세입없음"),"OK",IF(AND(U25<>"도비",AE25<>""),"OK","@@"))) -> OK | AJ25: {=IF(C25="","",INDEX(구분표!$I$2:$I$300, MATCH(1,(구분표!$E$2:$E$300='2추일출'!B25)*(구분표!$F$2:$F$300='2추일출'!C25)*(구분표!$G$2:$G$300='2추일출'!A25),0)))} -> 0106
A26: =IFERROR(VLOOKUP($C26,구분표!$A$2:$C$300,2,FALSE),"") -> 의회운영위원회 | B26: =IFERROR(VLOOKUP($C26,구분표!$A$2:$C$300,3,FALSE),"") -> 대변인 | C26: 언론협력담당관 | D26: 2회추경 | E26: 254 | F26: 인터넷 언론을 이용한 홍보(자체/직접) -인터넷 공익 광고 | G26: 700000 | I26: =IF(D26="","",G26-H26) -> 700000 | J26: -500000 | L26: =IF(G26=0,H26+J26+K26,G26+J26+K26) -> 200000 | M26: -600000 | N26: 0 | O26: =IF(G26=0,H26+M26+N26,G26+M26+N26) -> 100000 | P26: =IF(AND((L26=0),(O26>0)),"O",IF(AND((J26<0),(L26-O26<0)),"O","X")) -> X | S26: 도비 | U26: 도비 | V26: =IF($U26<>"도비",IF($S26="국도비","직접입력",SUM($J26:$K26)),) -> 0 | W26: =IF($U26="도비",SUM($J26:$K26),IF($S26="국도비","직접입력",SUM($J26:$K26)-$V26)) -> -500000 | X26: =IF(SUM($J26:$K26)=SUM($V26:$W26),"OK","검토") -> OK | AA26: =IF($U26<>"도비",IF($S26="국도비","직접입력",SUM($M26:$N26)),) -> 0 | AB26: =IF($U26="도비",SUM(M26:N26),IF($S26="국도비","직접입력",SUM(M26:N26)-AA26)) -> -600000 | AC26: =IF(SUM(M26:N26)=SUM(AA26:AB26),"OK","검토") -> OK | AE26: =IF(U26="","",IF(U26="도비","세입없음","직접입력")) -> 세입없음 | AG26: =IF(AE26="","",COUNTIF($AE$7:$AE$294,AE26)) -> 217 | AH26: =IF(U26="","",IF(AND(U26="도비",AE26="세입없음"),"OK",IF(AND(U26<>"도비",AE26<>""),"OK","@@"))) -> OK | AJ26: {=IF(C26="","",INDEX(구분표!$I$2:$I$300, MATCH(1,(구분표!$E$2:$E$300='2추일출'!B26)*(구분표!$F$2:$F$300='2추일출'!C26)*(구분표!$G$2:$G$300='2추일출'!A26),0)))} -> 0106
A27: =IFERROR(VLOOKUP($C27,구분표!$A$2:$C$300,2,FALSE),"") -> 의회운영위원회 | B27: =IFERROR(VLOOKUP($C27,구분표!$A$2:$C$300,3,FALSE),"") -> 소통기획관 | C27: 홍보담당관 | D27: 2회추경 | E27: 260 | F27: 도정정책홍보(자체/직접) -도정정책홍보 | G27: 2086000 | H27: 2200000 | I27: =IF(D27="","",G27-H27) -> -114000 | J27: -50000 | L27: =IF(G27=0,H27+J27+K27,G27+J27+K27) -> 2036000 | M27: -50000 | N27: 0 | O27: =IF(G27=0,H27+M27+N27,G27+M27+N27) -> 2036000 | P27: =IF(AND((L27=0),(O27>0)),"O",IF(AND((J27<0),(L27-O27<0)),"O","X")) -> X | S27: 도비 | U27: 도비 | V27: =IF($U27<>"도비",IF($S27="국도비","직접입력",SUM($J27:$K27)),) -> 0 | W27: =IF($U27="도비",SUM($J27:$K27),IF($S27="국도비","직접입력",SUM($J27:$K27)-$V27)) -> -50000 | X27: =IF(SUM($J27:$K27)=SUM($V27:$W27),"OK","검토") -> OK | AA27: =IF($U27<>"도비",IF($S27="국도비","직접입력",SUM($M27:$N27)),) -> 0 | AB27: =IF($U27="도비",SUM(M27:N27),IF($S27="국도비","직접입력",SUM(M27:N27)-AA27)) -> -50000 | AC27: =IF(SUM(M27:N27)=SUM(AA27:AB27),"OK","검토") -> OK | AE27: =IF(U27="","",IF(U27="도비","세입없음","직접입력")) -> 세입없음 | AG27: =IF(AE27="","",COUNTIF($AE$7:$AE$294,AE27)) -> 217 | AH27: =IF(U27="","",IF(AND(U27="도비",AE27="세입없음"),"OK",IF(AND(U27<>"도비",AE27<>""),"OK","@@"))) -> OK | AJ27: {=IF(C27="","",INDEX(구분표!$I$2:$I$300, MATCH(1,(구분표!$E$2:$E$300='2추일출'!B27)*(구분표!$F$2:$F$300='2추일출'!C27)*(구분표!$G$2:$G$300='2추일출'!A27),0)))} -> 0108
A28: =IFERROR(VLOOKUP($C28,구분표!$A$2:$C$300,2,FALSE),"") -> 의회운영위원회 | B28: =IFERROR(VLOOKUP($C28,구분표!$A$2:$C$300,3,FALSE),"") -> 소통기획관 | C28: 홍보담당관 | D28: 2회추경 | E28: 260 | F28: 도정정책홍보(자체/직접) -경기도 홍보 이벤트 | G28: 100000 | I28: =IF(D28="","",G28-H28) -> 100000 | J28: -50000 | L28: =IF(G28=0,H28+J28+K28,G28+J28+K28) -> 50000 | M28: -50000 | N28: 0 | O28: =IF(G28=0,H28+M28+N28,G28+M28+N28) -> 50000 | P28: =IF(AND((L28=0),(O28>0)),"O",IF(AND((J28<0),(L28-O28<0)),"O","X")) -> X | S28: 도비 | U28: 도비 | V28: =IF($U28<>"도비",IF($S28="국도비","직접입력",SUM($J28:$K28)),) -> 0 | W28: =IF($U28="도비",SUM($J28:$K28),IF($S28="국도비","직접입력",SUM($J28:$K28)-$V28)) -> -50000 | X28: =IF(SUM($J28:$K28)=SUM($V28:$W28),"OK","검토") -> OK | AA28: =IF($U28<>"도비",IF($S28="국도비","직접입력",SUM($M28:$N28)),) -> 0 | AB28: =IF($U28="도비",SUM(M28:N28),IF($S28="국도비","직접입력",SUM(M28:N28)-AA28)) -> -50000 | AC28: =IF(SUM(M28:N28)=SUM(AA28:AB28),"OK","검토") -> OK | AE28: =IF(U28="","",IF(U28="도비","세입없음","직접입력")) -> 세입없음 | AG28: =IF(AE28="","",COUNTIF($AE$7:$AE$294,AE28)) -> 217 | AH28: =IF(U28="","",IF(AND(U28="도비",AE28="세입없음"),"OK",IF(AND(U28<>"도비",AE28<>""),"OK","@@"))) -> OK | AJ28: {=IF(C28="","",INDEX(구분표!$I$2:$I$300, MATCH(1,(구분표!$E$2:$E$300='2추일출'!B28)*(구분표!$F$2:$F$300='2추일출'!C28)*(구분표!$G$2:$G$300='2추일출'!A28),0)))} -> 0108
A29: =IFERROR(VLOOKUP($C29,구분표!$A$2:$C$300,2,FALSE),"") -> 의회운영위원회 | B29: =IFERROR(VLOOKUP($C29,구분표!$A$2:$C$300,3,FALSE),"") -> 의회사무처 | C29: 입법정책담당관 | D29: 2회추경 | E29: 247 | F29: 지역상담소 운영(자체/직접) -선풍기 ⇒ 지역상담소 운영(자체/직접) -온풍기 | G29: 6000 | I29: =IF(D29="","",G29-H29) -> 6000 | L29: =IF(G29=0,H29+J29+K29,G29+J29+K29) -> 6000 | M29: 0 | N29: 0 | O29: =IF(G29=0,H29+M29+N29,G29+M29+N29) -> 6000 | P29: =IF(AND((L29=0),(O29>0)),"O",IF(AND((J29<0),(L29-O29<0)),"O","X")) -> X | Q29: 부기변경(선풍기⇒온풍기) | S29: 도비 | U29: 도비 | V29: =IF($U29<>"도비",IF($S29="국도비","직접입력",SUM($J29:$K29)),) -> 0 | W29: =IF($U29="도비",SUM($J29:$K29),IF($S29="국도비","직접입력",SUM($J29:$K29)-$V29)) -> 0 | X29: =IF(SUM($J29:$K29)=SUM($V29:$W29),"OK","검토") -> OK | AA29: =IF($U29<>"도비",IF($S29="국도비","직접입력",SUM($M29:$N29)),) -> 0 | AB29: =IF($U29="도비",SUM(M29:N29),IF($S29="국도비","직접입력",SUM(M29:N29)-AA29)) -> 0 | AC29: =IF(SUM(M29:N29)=SUM(AA29:AB29),"OK","검토") -> OK | AE29: =IF(U29="","",IF(U29="도비","세입없음","직접입력")) -> 세입없음 | AG29: =IF(AE29="","",COUNTIF($AE$7:$AE$294,AE29)) -> 217 | AH29: =IF(U29="","",IF(AND(U29="도비",AE29="세입없음"),"OK",IF(AND(U29<>"도비",AE29<>""),"OK","@@"))) -> OK | AJ29: {=IF(C29="","",INDEX(구분표!$I$2:$I$300, MATCH(1,(구분표!$E$2:$E$300='2추일출'!B29)*(구분표!$F$2:$F$300='2추일출'!C29)*(구분표!$G$2:$G$300='2추일출'!A29),0)))} -> 0104
A30: (기획재정위원회) | G30: =SUM(G31:G40) -> 140079859 | H30: =SUM(H31:H40) -> 58063418 | I30: =SUM(I31:I40) -> 82016441 | J30: =SUM(J31:J40) -> -30825000 | K30: =SUM(K31:K40) -> 2000000 | L30: =SUM(L31:L40) -> 111254859 | M30: =SUM(M31:M40) -> -30855000 | N30: =SUM(N31:N40) -> 14449889 | O30: =SUM(O31:O40) -> 123674748 | AE30: =IF(U30="","",IF(U30="도비","세입없음","직접입력")) | AG30: =IF(AE30="","",COUNTIF($AE$7:$AE$294,AE30)) | AH30: =IF(U30="","",IF(AND(U30="도비",AE30="세입없음"),"OK",IF(AND(U30<>"도비",AE30<>""),"OK","@@"))) | AJ30: {=IF(C30="","",INDEX(구분표!$I$2:$I$300, MATCH(1,(구분표!$E$2:$E$300='2추일출'!B30)*(구분표!$F$2:$F$300='2추일출'!C30)*(구분표!$G$2:$G$300='2추일출'!A30),0)))}
A31: =IFERROR(VLOOKUP($C31,구분표!$A$2:$C$300,2,FALSE),"") -> 기획재정위원회 | B31: =IFERROR(VLOOKUP($C31,구분표!$A$2:$C$300,3,FALSE),"") -> 따복공동체지원단 | C31: 따복공동체지원단 | D31: 신규 | E31: 의회 | F31: 따복공동체 사랑방 조성지원 사업(6억원) 따복공동체 생태계 기반 조성지원(4억원) | I31: =IF(D31="","",G31-H31) -> 0 | K31: 1000000 | L31: =IF(G31=0,H31+J31+K31,G31+J31+K31) -> 1000000 | N31: 1000000 | O31: =IF(G31=0,H31+M31+N31,G31+M31+N31) -> 1000000 | P31: =IF(AND((L31=0),(O31>0)),"O",IF(AND((J31<0),(L31-O31<0)),"O","X")) -> X | S31: 도비 | U31: 도비 | V31: =IF($U31<>"도비",IF($S31="국도비","직접입력",SUM($J31:$K31)),) -> 0 | W31: =IF($U31="도비",SUM($J31:$K31),IF($S31="국도비","직접입력",SUM($J31:$K31)-$V31)) -> 1000000 | X31: =IF(SUM($J31:$K31)=SUM($V31:$W31),"OK","검토") -> OK | AA31: =IF($U31<>"도비",IF($S31="국도비","직접입력",SUM($M31:$N31)),) -> 0 | AB31: =IF($U31="도비",SUM(M31:N31),IF($S31="국도비","직접입력",SUM(M31:N31)-AA31)) -> 1000000 | AC31: =IF(SUM(M31:N31)=SUM(AA31:AB31),"OK","검토") -> OK | AE31: =IF(U31="","",IF(U31="도비","세입없음","직접입력")) -> 세입없음 | AG31: =IF(AE31="","",COUNTIF($AE$7:$AE$294,AE31)) -> 217 | AH31: =IF(U31="","",IF(AND(U31="도비",AE31="세입없음"),"OK",IF(AND(U31<>"도비",AE31<>""),"OK","@@"))) -> OK | AJ31: {=IF(C31="","",INDEX(구분표!$I$2:$I$300, MATCH(1,(구분표!$E$2:$E$300='2추일출'!B31)*(구분표!$F$2:$F$300='2추일출'!C31)*(구분표!$G$2:$G$300='2추일출'!A31),0)))} -> 0220
A32: =IFERROR(VLOOKUP($C32,구분표!$A$2:$C$300,2,FALSE),"") -> 기획재정위원회 | B32: =IFERROR(VLOOKUP($C32,구분표!$A$2:$C$300,3,FALSE),"") -> 기획조정실 | C32: 미래전략담당관 | D32: 신규 | E32: 의회 | F32: 경기연구원 출연금 | I32: =IF(D32="","",G32-H32) -> 0 | K32: 900000 | L32: =IF(G32=0,H32+J32+K32,G32+J32+K32) -> 900000 | N32: 900000 | O32: =IF(G32=0,H32+M32+N32,G32+M32+N32) -> 900000 | P32: =IF(AND((L32=0),(O32>0)),"O",IF(AND((J32<0),(L32-O32<0)),"O","X")) -> X | S32: 도비 | U32: 도비 | V32: =IF($U32<>"도비",IF($S32="국도비","직접입력",SUM($J32:$K32)),) -> 0 | W32: =IF($U32="도비",SUM($J32:$K32),IF($S32="국도비","직접입력",SUM($J32:$K32)-$V32)) -> 900000 | X32: =IF(SUM($J32:$K32)=SUM($V32:$W32),"OK","검토") -> OK | AA32: =IF($U32<>"도비",IF($S32="국도비","직접입력",SUM($M32:$N32)),) -> 0 | AB32: =IF($U32="도비",SUM(M32:N32),IF($S32="국도비","직접입력",SUM(M32:N32)-AA32)) -> 900000 | AC32: =IF(SUM(M32:N32)=SUM(AA32:AB32),"OK","검토") -> OK | AE32: =IF(U32="","",IF(U32="도비","세입없음","직접입력")) -> 세입없음 | AG32: =IF(AE32="","",COUNTIF($AE$7:$AE$294,AE32)) -> 217 | AH32: =IF(U32="","",IF(AND(U32="도비",AE32="세입없음"),"OK",IF(AND(U32<>"도비",AE32<>""),"OK","@@"))) -> OK | AJ32: {=IF(C32="","",INDEX(구분표!$I$2:$I$300, MATCH(1,(구분표!$E$2:$E$300='2추일출'!B32)*(구분표!$F$2:$F$300='2추일출'!C32)*(구분표!$G$2:$G$300='2추일출'!A32),0)))} -> 0206
A33: =IFERROR(VLOOKUP($C33,구분표!$A$2:$C$300,2,FALSE),"") -> 기획재정위원회 | B33: =IFERROR(VLOOKUP($C33,구분표!$A$2:$C$300,3,FALSE),"") -> 기획조정실 | C33: 빅데이터담당관 | D33: 2회추경 | E33: 294 | F33: 빅파이 프로젝트 사업 추진(자체/직접) -빅데이터 플랫폼구축 및 운영 -빅파이추진단 이전 | G33: 500000 | I33: =IF(D33="","",G33-H33) -> 500000 | J33: -255000 | L33: =IF(G33=0,H33+J33+K33,G33+J33+K33) -> 245000 | M33: -255000 | N33: 0 | O33: =IF(G33=0,H33+M33+N33,G33+M33+N33) -> 245000 | P33: =IF(AND((L33=0),(O33>0)),"O",IF(AND((J33<0),(L33-O33<0)),"O","X")) -> X | Q33: 빅파이추진단 이전(삭감) | S33: 도비 | U33: 도비 | V33: =IF($U33<>"도비",IF($S33="국도비","직접입력",SUM($J33:$K33)),) -> 0 | W33: =IF($U33="도비",SUM($J33:$K33),IF($S33="국도비","직접입력",SUM($J33:$K33)-$V33)) -> -255000 | X33: =IF(SUM($J33:$K33)=SUM($V33:$W33),"OK","검토") -> OK | AA33: =IF($U33<>"도비",IF($S33="국도비","직접입력",SUM($M33:$N33)),) -> 0 | AB33: =IF($U33="도비",SUM(M33:N33),IF($S33="국도비","직접입력",SUM(M33:N33)-AA33)) -> -255000 | AC33: =IF(SUM(M33:N33)=SUM(AA33:AB33),"OK","검토") -> OK | AE33: =IF(U33="","",IF(U33="도비","세입없음","직접입력")) -> 세입없음 | AG33: =IF(AE33="","",COUNTIF($AE$7:$AE$294,AE33)) -> 217 | AH33: =IF(U33="","",IF(AND(U33="도비",AE33="세입없음"),"OK",IF(AND(U33<>"도비",AE33<>""),"OK","@@"))) -> OK | AJ33: {=IF(C33="","",INDEX(구분표!$I$2:$I$300, MATCH(1,(구분표!$E$2:$E$300='2추일출'!B33)*(구분표!$F$2:$F$300='2추일출'!C33)*(구분표!$G$2:$G$300='2추일출'!A33),0)))} -> 0214
A34: =IFERROR(VLOOKUP($C34,구분표!$A$2:$C$300,2,FALSE),"") -> 기획재정위원회 | B34: =IFERROR(VLOOKUP($C34,구분표!$A$2:$C$300,3,FALSE),"") -> 균형발전기획실 | C34: DMZ정책담당관 | D34: 2회추경 | E34: 308 | F34: 연천 태풍 열쇠전망대 리모델링(자체/직접) -태풍전망대 리모델링 -열쇠전망대 리모델링 | G34: 570000 | I34: =IF(D34="","",G34-H34) -> 570000 | J34: -570000 | L34: =IF(G34=0,H34+J34+K34,G34+J34+K34) -> 0 | M34: -570000 | N34: 0 | O34: =IF(G34=0,H34+M34+N34,G34+M34+N34) -> 0 | P34: =IF(AND((L34=0),(O34>0)),"O",IF(AND((J34<0),(L34-O34<0)),"O","X")) -> X | S34: 도비 | U34: 도비 | V34: =IF($U34<>"도비",IF($S34="국도비","직접입력",SUM($J34:$K34)),) -> 0 | W34: =IF($U34="도비",SUM($J34:$K34),IF($S34="국도비","직접입력",SUM($J34:$K34)-$V34)) -> -570000 | X34: =IF(SUM($J34:$K34)=SUM($V34:$W34),"OK","검토") -> OK | AA34: =IF($U34<>"도비",IF($S34="국도비","직접입력",SUM($M34:$N34)),) -> 0 | AB34: =IF($U34="도비",SUM(M34:N34),IF($S34="국도비","직접입력",SUM(M34:N34)-AA34)) -> -570000 | AC34: =IF(SUM(M34:N34)=SUM(AA34:AB34),"OK","검토") -> OK | AE34: =IF(U34="","",IF(U34="도비","세입없음","직접입력")) -> 세입없음 | AG34: =IF(AE34="","",COUNTIF($AE$7:$AE$294,AE34)) -> 217 | AH34: =IF(U34="","",IF(AND(U34="도비",AE34="세입없음"),"OK",IF(AND(U34<>"도비",AE34<>""),"OK","@@"))) -> OK | AJ34: {=IF(C34="","",INDEX(구분표!$I$2:$I$300, MATCH(1,(구분표!$E$2:$E$300='2추일출'!B34)*(구분표!$F$2:$F$300='2추일출'!C34)*(구분표!$G$2:$G$300='2추일출'!A34),0)))} -> 0218
A35: =IFERROR(VLOOKUP($C35,구분표!$A$2:$C$300,2,FALSE),"") -> 기획재정위원회 | B35: 기획조정실 | C35: 정보기획담당관 | D35: 신규 | E35: 의회 | F35: 3대 자영업자(요식업, 화물차, 대리기사)를 위한 공공앱 개발타당성 연구 | I35: =IF(D35="","",G35-H35) -> 0 | K35: 50000 | L35: =IF(G35=0,H35+J35+K35,G35+J35+K35) -> 50000 | N35: 50000 | O35: =IF(G35=0,H35+M35+N35,G35+M35+N35) -> 50000 | P35: =IF(AND((L35=0),(O35>0)),"O",IF(AND((J35<0),(L35-O35<0)),"O","X")) -> X | S35: 도비 | U35: 도비 | V35: =IF($U35<>"도비",IF($S35="국도비","직접입력",SUM($J35:$K35)),) -> 0 | W35: =IF($U35="도비",SUM($J35:$K35),IF($S35="국도비","직접입력",SUM($J35:$K35)-$V35)) -> 50000 | X35: =IF(SUM($J35:$K35)=SUM($V35:$W35),"OK","검토") -> OK | AA35: =IF($U35<>"도비",IF($S35="국도비","직접입력",SUM($M35:$N35)),) -> 0 | AB35: =IF($U35="도비",SUM(M35:N35),IF($S35="국도비","직접입력",SUM(M35:N35)-AA35)) -> 50000 | AC35: =IF(SUM(M35:N35)=SUM(AA35:AB35),"OK","검토") -> OK | AE35: =IF(U35="","",IF(U35="도비","세입없음","직접입력")) -> 세입없음 | AG35: =IF(AE35="","",COUNTIF($AE$7:$AE$294,AE35)) -> 217 | AH35: =IF(U35="","",IF(AND(U35="도비",AE35="세입없음"),"OK",IF(AND(U35<>"도비",AE35<>""),"OK","@@"))) -> OK | AJ35: {=IF(C35="","",INDEX(구분표!$I$2:$I$300, MATCH(1,(구분표!$E$2:$E$300='2추일출'!B35)*(구분표!$F$2:$F$300='2추일출'!C35)*(구분표!$G$2:$G$300='2추일출'!A35),0)))} -> 0212
A36: =IFERROR(VLOOKUP($C36,구분표!$A$2:$C$300,2,FALSE),"") -> 기획재정위원회 | B36: 균형발전기획실 | C36: 통일기반조성담당관 | D36: 신규 | E36: 의회 | F36: 경기도 민간주도 통일사업 지원 | I36: =IF(D36="","",G36-H36) -> 0 | K36: 50000 | L36: =IF(G36=0,H36+J36+K36,G36+J36+K36) -> 50000 | N36: 50000 | O36: =IF(G36=0,H36+M36+N36,G36+M36+N36) -> 50000 | P36: =IF(AND((L36=0),(O36>0)),"O",IF(AND((J36<0),(L36-O36<0)),"O","X")) -> X | S36: 도비 | U36: 도비 | V36: =IF($U36<>"도비",IF($S36="국도비","직접입력",SUM($J36:$K36)),) -> 0 | W36: =IF($U36="도비",SUM($J36:$K36),IF($S36="국도비","직접입력",SUM($J36:$K36)-$V36)) -> 50000 | X36: =IF(SUM($J36:$K36)=SUM($V36:$W36),"OK","검토") -> OK | AA36: =IF($U36<>"도비",IF($S36="국도비","직접입력",SUM($M36:$N36)),) -> 0 | AB36: =IF($U36="도비",SUM(M36:N36),IF($S36="국도비","직접입력",SUM(M36:N36)-AA36)) -> 50000 | AC36: =IF(SUM(M36:N36)=SUM(AA36:AB36),"OK","검토") -> OK | AE36: =IF(U36="","",IF(U36="도비","세입없음","직접입력")) -> 세입없음 | AG36: =IF(AE36="","",COUNTIF($AE$7:$AE$294,AE36)) -> 217 | AH36: =IF(U36="","",IF(AND(U36="도비",AE36="세입없음"),"OK",IF(AND(U36<>"도비",AE36<>""),"OK","@@"))) -> OK | AJ36: {=IF(C36="","",INDEX(구분표!$I$2:$I$300, MATCH(1,(구분표!$E$2:$E$300='2추일출'!B36)*(구분표!$F$2:$F$300='2추일출'!C36)*(구분표!$G$2:$G$300='2추일출'!A36),0)))} -> 0217
A37: =IFERROR(VLOOKUP($C37,구분표!$A$2:$C$300,2,FALSE),"") -> 기획재정위원회 | B37: =IFERROR(VLOOKUP($C37,구분표!$A$2:$C$300,3,FALSE),"") -> 기획조정실 | C37: 평가담당관 | D37: 2회추경 | E37: 288 | F37: 공공기관 역량 강화 구축(자체/직접) -공공기관 경영 합리화 추진 | G37: 350000 | I37: =IF(D37="","",G37-H37) -> 350000 | L37: =IF(G37=0,H37+J37+K37,G37+J37+K37) -> 350000 | M37: 0 | N37: 200000 | O37: =IF(G37=0,H37+M37+N37,G37+M37+N37) -> 550000 | P37: =IF(AND((L37=0),(O37>0)),"O",IF(AND((J37<0),(L37-O37<0)),"O","X")) -> X | Q37: (부기)국책연구기관에서 수행 | S37: 도비 | U37: 도비 | V37: =IF($U37<>"도비",IF($S37="국도비","직접입력",SUM($J37:$K37)),) -> 0 | W37: =IF($U37="도비",SUM($J37:$K37),IF($S37="국도비","직접입력",SUM($J37:$K37)-$V37)) -> 0 | X37: =IF(SUM($J37:$K37)=SUM($V37:$W37),"OK","검토") -> OK | AA37: =IF($U37<>"도비",IF($S37="국도비","직접입력",SUM($M37:$N37)),) -> 0 | AB37: =IF($U37="도비",SUM(M37:N37),IF($S37="국도비","직접입력",SUM(M37:N37)-AA37)) -> 200000 | AC37: =IF(SUM(M37:N37)=SUM(AA37:AB37),"OK","검토") -> OK | AE37: =IF(U37="","",IF(U37="도비","세입없음","직접입력")) -> 세입없음 | AG37: =IF(AE37="","",COUNTIF($AE$7:$AE$294,AE37)) -> 217 | AH37: =IF(U37="","",IF(AND(U37="도비",AE37="세입없음"),"OK",IF(AND(U37<>"도비",AE37<>""),"OK","@@"))) -> OK | AJ37: {=IF(C37="","",INDEX(구분표!$I$2:$I$300, MATCH(1,(구분표!$E$2:$E$300='2추일출'!B37)*(구분표!$F$2:$F$300='2추일출'!C37)*(구분표!$G$2:$G$300='2추일출'!A37),0)))} -> 0208
A38: =IFERROR(VLOOKUP($C38,구분표!$A$2:$C$300,2,FALSE),"") -> 기획재정위원회 | B38: =IFERROR(VLOOKUP($C38,구분표!$A$2:$C$300,3,FALSE),"") -> 균형발전기획실 | C38: DMZ정책담당관 | D38: 2회추경 | E38: 306 | F38: DMZ 국제 트레일러닝 대회(자체/직접) -DMZ 국제 트레일러닝 대회 추진 | G38: 100000 | I38: =IF(D38="","",G38-H38) -> 100000 | L38: =IF(G38=0,H38+J38+K38,G38+J38+K38) -> 100000 | M38: -30000 | N38: 0 | O38: =IF(G38=0,H38+M38+N38,G38+M38+N38) -> 70000 | P38: =IF(AND((L38=0),(O38>0)),"O",IF(AND((J38<0),(L38-O38<0)),"O","X")) -> X | S38: 도비 | U38: 도비 | V38: =IF($U38<>"도비",IF($S38="국도비","직접입력",SUM($J38:$K38)),) -> 0 | W38: =IF($U38="도비",SUM($J38:$K38),IF($S38="국도비","직접입력",SUM($J38:$K38)-$V38)) -> 0 | X38: =IF(SUM($J38:$K38)=SUM($V38:$W38),"OK","검토") -> OK | AA38: =IF($U38<>"도비",IF($S38="국도비","직접입력",SUM($M38:$N38)),) -> 0 | AB38: =IF($U38="도비",SUM(M38:N38),IF($S38="국도비","직접입력",SUM(M38:N38)-AA38)) -> -30000 | AC38: =IF(SUM(M38:N38)=SUM(AA38:AB38),"OK","검토") -> OK | AE38: =IF(U38="","",IF(U38="도비","세입없음","직접입력")) -> 세입없음 | AG38: =IF(AE38="","",COUNTIF($AE$7:$AE$294,AE38)) -> 217 | AH38: =IF(U38="","",IF(AND(U38="도비",AE38="세입없음"),"OK",IF(AND(U38<>"도비",AE38<>""),"OK","@@"))) -> OK | AJ38: {=IF(C38="","",INDEX(구분표!$I$2:$I$300, MATCH(1,(구분표!$E$2:$E$300='2추일출'!B38)*(구분표!$F$2:$F$300='2추일출'!C38)*(구분표!$G$2:$G$300='2추일출'!A38),0)))} -> 0218
A39: =IFERROR(VLOOKUP($C39,구분표!$A$2:$C$300,2,FALSE),"") -> 기획재정위원회 | B39: =IFERROR(VLOOKUP($C39,구분표!$A$2:$C$300,3,FALSE),"") -> 기획조정실 | C39: 예산담당관 | D39: 2회추경 | E39: 286 | F39: 의회추진사업(자체/직접) | G39: 30000000 | H39: 0 | I39: =IF(D39="","",G39-H39) -> 30000000 | J39: -30000000 | L39: =IF(G39=0,H39+J39+K39,G39+J39+K39) -> 0 | M39: -30000000 | O39: =IF(G39=0,H39+M39+N39,G39+M39+N39) -> 0 | P39: =IF(AND((L39=0),(O39>0)),"O",IF(AND((J39<0),(L39-O39<0)),"O","X")) -> X | S39: 도비 | U39: 도비 | V39: =IF($U39<>"도비",IF($S39="국도비","직접입력",SUM($J39:$K39)),) -> 0 | W39: =IF($U39="도비",SUM($J39:$K39),IF($S39="국도비","직접입력",SUM($J39:$K39)-$V39)) -> -30000000 | X39: =IF(SUM($J39:$K39)=SUM($V39:$W39),"OK","검토") -> OK | AA39: =IF($U39<>"도비",IF($S39="국도비","직접입력",SUM($M39:$N39)),) -> 0 | AB39: =IF($U39="도비",SUM(M39:N39),IF($S39="국도비","직접입력",SUM(M39:N39)-AA39)) -> -30000000 | AC39: =IF(SUM(M39:N39)=SUM(AA39:AB39),"OK","검토") -> OK | AE39: =IF(U39="","",IF(U39="도비","세입없음","직접입력")) -> 세입없음 | AG39: =IF(AE39="","",COUNTIF($AE$7:$AE$294,AE39)) -> 217 | AH39: =IF(U39="","",IF(AND(U39="도비",AE39="세입없음"),"OK",IF(AND(U39<>"도비",AE39<>""),"OK","@@"))) -> OK | AJ39: {=IF(C39="","",INDEX(구분표!$I$2:$I$300, MATCH(1,(구분표!$E$2:$E$300='2추일출'!B39)*(구분표!$F$2:$F$300='2추일출'!C39)*(구분표!$G$2:$G$300='2추일출'!A39),0)))} -> 0207
A40: =IFERROR(VLOOKUP($C40,구분표!$A$2:$C$300,2,FALSE),"") -> 기획재정위원회 | B40: =IFERROR(VLOOKUP($C40,구분표!$A$2:$C$300,3,FALSE),"") -> 기획조정실 | C40: 예산담당관 | D40: 2회추경 | E40: 286 | F40: 예비비(자체/직접) | G40: 108559859 | H40: 58063418 | I40: =IF(D40="","",G40-H40) -> 50496441 | L40: =IF(G40=0,H40+J40+K40,G40+J40+K40) -> 108559859 | N40: 12249889 | O40: =IF(G40=0,H40+M40+N40,G40+M40+N40) -> 120809748 | P40: =IF(AND((L40=0),(O40>0)),"O",IF(AND((J40<0),(L40-O40<0)),"O","X")) -> X | S40: 도비 | U40: 도비 | V40: =IF($U40<>"도비",IF($S40="국도비","직접입력",SUM($J40:$K40)),) -> 0 | W40: =IF($U40="도비",SUM($J40:$K40),IF($S40="국도비","직접입력",SUM($J40:$K40)-$V40)) -> 0 | X40: =IF(SUM($J40:$K40)=SUM($V40:$W40),"OK","검토") -> OK | AA40: =IF($U40<>"도비",IF($S40="국도비","직접입력",SUM($M40:$N40)),) -> 0 | AB40: =IF($U40="도비",SUM(M40:N40),IF($S40="국도비","직접입력",SUM(M40:N40)-AA40)) -> 12249889 | AC40: =IF(SUM(M40:N40)=SUM(AA40:AB40),"OK","검토") -> OK | AE40: =IF(U40="","",IF(U40="도비","세입없음","직접입력")) -> 세입없음 | AG40: =IF(AE40="","",COUNTIF($AE$7:$AE$294,AE40)) -> 217 | AH40: =IF(U40="","",IF(AND(U40="도비",AE40="세입없음"),"OK",IF(AND(U40<>"도비",AE40<>""),"OK","@@"))) -> OK | AJ40: {=IF(C40="","",INDEX(구분표!$I$2:$I$300, MATCH(1,(구분표!$E$2:$E$300='2추일출'!B40)*(구분표!$F$2:$F$300='2추일출'!C40)*(구분표!$G$2:$G$300='2추일출'!A40),0)))} -> 0207
A41: (경제과학기술위원회) | G41: =SUM(G42:G56) -> 15236000 | H41: =SUM(H42:H56) -> 0 | I41: =SUM(I42:I56) -> 15236000 | J41: =SUM(J42:J56) -> -200000 | K41: =SUM(K42:K56) -> 3880000 | L41: =SUM(L42:L56) -> 18916000 | M41: =SUM(M42:M56) -> -1350000 | N41: =SUM(N42:N56) -> 3030000 | O41: =SUM(O42:O56) -> 16916000 | AE41: =IF(U41="","",IF(U41="도비","세입없음","직접입력")) | AG41: =IF(AE41="","",COUNTIF($AE$7:$AE$294,AE41)) | AH41: =IF(U41="","",IF(AND(U41="도비",AE41="세입없음"),"OK",IF(AND(U41<>"도비",AE41<>""),"OK","@@"))) | AJ41: {=IF(C41="","",INDEX(구분표!$I$2:$I$300, MATCH(1,(구분표!$E$2:$E$300='2추일출'!B41)*(구분표!$F$2:$F$300='2추일출'!C41)*(구분표!$G$2:$G$300='2추일출'!A41),0)))}
A42: =IFERROR(VLOOKUP($C42,구분표!$A$2:$C$300,2,FALSE),"") -> 경제과학기술위원회 | B42: =IFERROR(VLOOKUP($C42,구분표!$A$2:$C$300,3,FALSE),"") -> 경제실 | C42: 일자리정책과 | D42: 2회추경 | E42: 339 | F42: 경기취헙희망재단 설립 추진단 운영(자체/직접) -경기취헙희망재단 설립 추진단 운영 ⇒ 가칭 경기일자리재단 설립추진단 운영(자체/직접) -가칭 경기일자리재단 설립추진단 운영 | G42: 500000 | I42: =IF(D42="","",G42-H42) -> 500000 | J42: -200000 | L42: =IF(G42=0,H42+J42+K42,G42+J42+K42) -> 300000 | M42: -250000 | N42: 0 | O42: =IF(G42=0,H42+M42+N42,G42+M42+N42) -> 250000 | P42: =IF(AND((L42=0),(O42>0)),"O",IF(AND((J42<0),(L42-O42<0)),"O","X")) -> X | S42: 도비 | U42: 도비 | V42: =IF($U42<>"도비",IF($S42="국도비","직접입력",SUM($J42:$K42)),) -> 0 | W42: =IF($U42="도비",SUM($J42:$K42),IF($S42="국도비","직접입력",SUM($J42:$K42)-$V42)) -> -200000 | X42: =IF(SUM($J42:$K42)=SUM($V42:$W42),"OK","검토") -> OK | AA42: =IF($U42<>"도비",IF($S42="국도비","직접입력",SUM($M42:$N42)),) -> 0 | AB42: =IF($U42="도비",SUM(M42:N42),IF($S42="국도비","직접입력",SUM(M42:N42)-AA42)) -> -250000 | AC42: =IF(SUM(M42:N42)=SUM(AA42:AB42),"OK","검토") -> OK | AE42: =IF(U42="","",IF(U42="도비","세입없음","직접입력")) -> 세입없음 | AG42: =IF(AE42="","",COUNTIF($AE$7:$AE$294,AE42)) -> 217 | AH42: =IF(U42="","",IF(AND(U42="도비",AE42="세입없음"),"OK",IF(AND(U42<>"도비",AE42<>""),"OK","@@"))) -> OK | AJ42: {=IF(C42="","",INDEX(구분표!$I$2:$I$300, MATCH(1,(구분표!$E$2:$E$300='2추일출'!B42)*(구분표!$F$2:$F$300='2추일출'!C42)*(구분표!$G$2:$G$300='2추일출'!A42),0)))} -> 0302
A43: =IFERROR(VLOOKUP($C43,구분표!$A$2:$C$300,2,FALSE),"") -> 경제과학기술위원회 | B43: =IFERROR(VLOOKUP($C43,구분표!$A$2:$C$300,3,FALSE),"") -> 경제실 | C43: 기업지원과 | D43: 2회추경 | E43: 346 | F43: 경기북부 벤처창업센터 허브 조성(자체/직접) -경기북부 벤처창업센터 구축 및 운영 | G43: 14406000 | I43: =IF(D43="","",G43-H43) -> 14406000 | K43: 1000000 | L43: =IF(G43=0,H43+J43+K43,G43+J43+K43) -> 15406000 | M43: -1100000 | N43: 0 | O43: =IF(G43=0,H43+M43+N43,G43+M43+N43) -> 13306000 | P43: =IF(AND((L43=0),(O43>0)),"O",IF(AND((J43<0),(L43-O43<0)),"O","X")) -> X | Q43: (부기)양주YTC빌딩 분양 85억원 중 11억원 삭감 (통계목 변경 : 공기관등에대한사업비) | S43: 도비 | U43: 도비 | V43: =IF($U43<>"도비",IF($S43="국도비","직접입력",SUM($J43:$K43)),) -> 0 | W43: =IF($U43="도비",SUM($J43:$K43),IF($S43="국도비","직접입력",SUM($J43:$K43)-$V43)) -> 1000000 | X43: =IF(SUM($J43:$K43)=SUM($V43:$W43),"OK","검토") -> OK | AA43: =IF($U43<>"도비",IF($S43="국도비","직접입력",SUM($M43:$N43)),) -> 0 | AB43: =IF($U43="도비",SUM(M43:N43),IF($S43="국도비","직접입력",SUM(M43:N43)-AA43)) -> -1100000 | AC43: =IF(SUM(M43:N43)=SUM(AA43:AB43),"OK","검토") -> OK | AE43: =IF(U43="","",IF(U43="도비","세입없음","직접입력")) -> 세입없음 | AG43: =IF(AE43="","",COUNTIF($AE$7:$AE$294,AE43)) -> 217 | AH43: =IF(U43="","",IF(AND(U43="도비",AE43="세입없음"),"OK",IF(AND(U43<>"도비",AE43<>""),"OK","@@"))) -> OK | AJ43: {=IF(C43="","",INDEX(구분표!$I$2:$I$300, MATCH(1,(구분표!$E$2:$E$300='2추일출'!B43)*(구분표!$F$2:$F$300='2추일출'!C43)*(구분표!$G$2:$G$300='2추일출'!A43),0)))} -> 0305
A44: =IFERROR(VLOOKUP($C44,구분표!$A$2:$C$300,2,FALSE),"") -> 경제과학기술위원회 | B44: =IFERROR(VLOOKUP($C44,구분표!$A$2:$C$300,3,FALSE),"") -> 경제실 | C44: 과학기술과 | D44: 2회추경 | E44: 354 | F44: 국제로봇올림피아드 세계대회 지원(자체/지원) -경기청소년 천문과학 대회 | G44: 300000 | I44: =IF(D44="","",G44-H44) -> 300000 | K44: 30000 | L44: =IF(G44=0,H44+J44+K44,G44+J44+K44) -> 330000 | M44: 0 | N44: 30000 | O44: =IF(G44=0,H44+M44+N44,G44+M44+N44) -> 330000 | P44: =IF(AND((L44=0),(O44>0)),"O",IF(AND((J44<0),(L44-O44<0)),"O","X")) -> X | S44: 도비 | U44: 도비 | V44: =IF($U44<>"도비",IF($S44="국도비","직접입력",SUM($J44:$K44)),) -> 0 | W44: =IF($U44="도비",SUM($J44:$K44),IF($S44="국도비","직접입력",SUM($J44:$K44)-$V44)) -> 30000 | X44: =IF(SUM($J44:$K44)=SUM($V44:$W44),"OK","검토") -> OK | AA44: =IF($U44<>"도비",IF($S44="국도비","직접입력",SUM($M44:$N44)),) -> 0 | AB44: =IF($U44="도비",SUM(M44:N44),IF($S44="국도비","직접입력",SUM(M44:N44)-AA44)) -> 30000 | AC44: =IF(SUM(M44:N44)=SUM(AA44:AB44),"OK","검토") -> OK | AE44: =IF(U44="","",IF(U44="도비","세입없음","직접입력")) -> 세입없음 | AG44: =IF(AE44="","",COUNTIF($AE$7:$AE$294,AE44)) -> 217 | AH44: =IF(U44="","",IF(AND(U44="도비",AE44="세입없음"),"OK",IF(AND(U44<>"도비",AE44<>""),"OK","@@"))) -> OK | AJ44: {=IF(C44="","",INDEX(구분표!$I$2:$I$300, MATCH(1,(구분표!$E$2:$E$300='2추일출'!B44)*(구분표!$F$2:$F$300='2추일출'!C44)*(구분표!$G$2:$G$300='2추일출'!A44),0)))} -> 0309
A45: =IFERROR(VLOOKUP($C45,구분표!$A$2:$C$300,2,FALSE),"") -> 경제과학기술위원회 | B45: =IFERROR(VLOOKUP($C45,구분표!$A$2:$C$300,3,FALSE),"") -> 경제실 | C45: 국제통상과 | D45: 2회추경 | E45: 357 | F45: 해외전시회 단체관 운영(자체/직접) | G45: 30000 | I45: =IF(D45="","",G45-H45) -> 30000 | K45: 50000 | L45: =IF(G45=0,H45+J45+K45,G45+J45+K45) -> 80000 | M45: 0 | N45: 0 | O45: =IF(G45=0,H45+M45+N45,G45+M45+N45) -> 30000 | P45: =IF(AND((L45=0),(O45>0)),"O",IF(AND((J45<0),(L45-O45<0)),"O","X")) -> X | S45: 도비 | U45: 도비 | V45: =IF($U45<>"도비",IF($S45="국도비","직접입력",SUM($J45:$K45)),) -> 0 | W45: =IF($U45="도비",SUM($J45:$K45),IF($S45="국도비","직접입력",SUM($J45:$K45)-$V45)) -> 50000 | X45: =IF(SUM($J45:$K45)=SUM($V45:$W45),"OK","검토") -> OK | AA45: =IF($U45<>"도비",IF($S45="국도비","직접입력",SUM($M45:$N45)),) -> 0 | AB45: =IF($U45="도비",SUM(M45:N45),IF($S45="국도비","직접입력",SUM(M45:N45)-AA45)) -> 0 | AC45: =IF(SUM(M45:N45)=SUM(AA45:AB45),"OK","검토") -> OK | AE45: =IF(U45="","",IF(U45="도비","세입없음","직접입력")) -> 세입없음 | AG45: =IF(AE45="","",COUNTIF($AE$7:$AE$294,AE45)) -> 217 | AH45: =IF(U45="","",IF(AND(U45="도비",AE45="세입없음"),"OK",IF(AND(U45<>"도비",AE45<>""),"OK","@@"))) -> OK | AJ45: {=IF(C45="","",INDEX(구분표!$I$2:$I$300, MATCH(1,(구분표!$E$2:$E$300='2추일출'!B45)*(구분표!$F$2:$F$300='2추일출'!C45)*(구분표!$G$2:$G$300='2추일출'!A45),0)))} -> 0311
A46: =IFERROR(VLOOKUP($C46,구분표!$A$2:$C$300,2,FALSE),"") -> 경제과학기술위원회 | B46: =IFERROR(VLOOKUP($C46,구분표!$A$2:$C$300,3,FALSE),"") -> 경제실 | C46: 국제통상과 | D46: 2회추경 | E46: 의회 | F46: 해외전시회 단체관 운영(자체/직접) | I46: =IF(D46="","",G46-H46) -> 0 | K46: 130000 | L46: =IF(G46=0,H46+J46+K46,G46+J46+K46) -> 130000 | N46: 130000 | O46: =IF(G46=0,H46+M46+N46,G46+M46+N46) -> 130000 | P46: =IF(AND((L46=0),(O46>0)),"O",IF(AND((J46<0),(L46-O46<0)),"O","X")) -> X | S46: 도비 | U46: 도비 | V46: =IF($U46<>"도비",IF($S46="국도비","직접입력",SUM($J46:$K46)),) -> 0 | W46: =IF($U46="도비",SUM($J46:$K46),IF($S46="국도비","직접입력",SUM($J46:$K46)-$V46)) -> 130000 | X46: =IF(SUM($J46:$K46)=SUM($V46:$W46),"OK","검토") -> OK | AA46: =IF($U46<>"도비",IF($S46="국도비","직접입력",SUM($M46:$N46)),) -> 0 | AB46: =IF($U46="도비",SUM(M46:N46),IF($S46="국도비","직접입력",SUM(M46:N46)-AA46)) -> 130000 | AC46: =IF(SUM(M46:N46)=SUM(AA46:AB46),"OK","검토") -> OK | AE46: =IF(U46="","",IF(U46="도비","세입없음","직접입력")) -> 세입없음 | AG46: =IF(AE46="","",COUNTIF($AE$7:$AE$294,AE46)) -> 217 | AH46: =IF(U46="","",IF(AND(U46="도비",AE46="세입없음"),"OK",IF(AND(U46<>"도비",AE46<>""),"OK","@@"))) -> OK | AJ46: {=IF(C46="","",INDEX(구분표!$I$2:$I$300, MATCH(1,(구분표!$E$2:$E$300='2추일출'!B46)*(구분표!$F$2:$F$300='2추일출'!C46)*(구분표!$G$2:$G$300='2추일출'!A46),0)))} -> 0311
A47: =IFERROR(VLOOKUP($C47,구분표!$A$2:$C$300,2,FALSE),"") -> 경제과학기술위원회 | B47: =IFERROR(VLOOKUP($C47,구분표!$A$2:$C$300,3,FALSE),"") -> 경제실 | C47: 에너지과 | D47: 신규 | F47: 에너지태양광 소규모발전 투자촉진 보조금 지원(자체/지원) -에너지태양광 소규모발전 투자촉진 보조금 지원 | I47: =IF(D47="","",G47-H47) -> 0 | K47: 100000 | L47: =IF(G47=0,H47+J47+K47,G47+J47+K47) -> 100000 | N47: 100000 | O47: =IF(G47=0,H47+M47+N47,G47+M47+N47) -> 100000 | P47: =IF(AND((L47=0),(O47>0)),"O",IF(AND((J47<0),(L47-O47<0)),"O","X")) -> X | S47: 도비 | U47: 도비 | V47: =IF($U47<>"도비",IF($S47="국도비","직접입력",SUM($J47:$K47)),) -> 0 | W47: =IF($U47="도비",SUM($J47:$K47),IF($S47="국도비","직접입력",SUM($J47:$K47)-$V47)) -> 100000 | X47: =IF(SUM($J47:$K47)=SUM($V47:$W47),"OK","검토") -> OK | AA47: =IF($U47<>"도비",IF($S47="국도비","직접입력",SUM($M47:$N47)),) -> 0 | AB47: =IF($U47="도비",SUM(M47:N47),IF($S47="국도비","직접입력",SUM(M47:N47)-AA47)) -> 100000 | AC47: =IF(SUM(M47:N47)=SUM(AA47:AB47),"OK","검토") -> OK | AE47: =IF(U47="","",IF(U47="도비","세입없음","직접입력")) -> 세입없음 | AG47: =IF(AE47="","",COUNTIF($AE$7:$AE$294,AE47)) -> 217 | AH47: =IF(U47="","",IF(AND(U47="도비",AE47="세입없음"),"OK",IF(AND(U47<>"도비",AE47<>""),"OK","@@"))) -> OK | AJ47: {=IF(C47="","",INDEX(구분표!$I$2:$I$300, MATCH(1,(구분표!$E$2:$E$300='2추일출'!B47)*(구분표!$F$2:$F$300='2추일출'!C47)*(구분표!$G$2:$G$300='2추일출'!A47),0)))} -> 0307
A48: =IFERROR(VLOOKUP($C48,구분표!$A$2:$C$300,2,FALSE),"") -> 경제과학기술위원회 | B48: =IFERROR(VLOOKUP($C48,구분표!$A$2:$C$300,3,FALSE),"") -> 경제실 | C48: 공정경제과 | D48: 신규 | F48: 도내 기업의 사회적책임 추진현황 실태조사(자체/직접) -도내 기업의 사회적책임 추진현황 실태조사 | I48: =IF(D48="","",G48-H48) -> 0 | K48: 20000 | L48: =IF(G48=0,H48+J48+K48,G48+J48+K48) -> 20000 | N48: 20000 | O48: =IF(G48=0,H48+M48+N48,G48+M48+N48) -> 20000 | P48: =IF(AND((L48=0),(O48>0)),"O",IF(AND((J48<0),(L48-O48<0)),"O","X")) -> X | S48: 도비 | U48: 도비 | V48: =IF($U48<>"도비",IF($S48="국도비","직접입력",SUM($J48:$K48)),) -> 0 | W48: =IF($U48="도비",SUM($J48:$K48),IF($S48="국도비","직접입력",SUM($J48:$K48)-$V48)) -> 20000 | X48: =IF(SUM($J48:$K48)=SUM($V48:$W48),"OK","검토") -> OK | AA48: =IF($U48<>"도비",IF($S48="국도비","직접입력",SUM($M48:$N48)),) -> 0 | AB48: =IF($U48="도비",SUM(M48:N48),IF($S48="국도비","직접입력",SUM(M48:N48)-AA48)) -> 20000 | AC48: =IF(SUM(M48:N48)=SUM(AA48:AB48),"OK","검토") -> OK | AE48: =IF(U48="","",IF(U48="도비","세입없음","직접입력")) -> 세입없음 | AG48: =IF(AE48="","",COUNTIF($AE$7:$AE$294,AE48)) -> 217 | AH48: =IF(U48="","",IF(AND(U48="도비",AE48="세입없음"),"OK",IF(AND(U48<>"도비",AE48<>""),"OK","@@"))) -> OK | AJ48: {=IF(C48="","",INDEX(구분표!$I$2:$I$300, MATCH(1,(구분표!$E$2:$E$300='2추일출'!B48)*(구분표!$F$2:$F$300='2추일출'!C48)*(구분표!$G$2:$G$300='2추일출'!A48),0)))} -> 0304
A49: =IFERROR(VLOOKUP($C49,구분표!$A$2:$C$300,2,FALSE),"") -> 경제과학기술위원회 | B49: =IFERROR(VLOOKUP($C49,구분표!$A$2:$C$300,3,FALSE),"") -> 경제실 | C49: 에너지과 | D49: 신규 | E49: 국비 | F49: LPG소형저장탱크 보급사업(국비/지원) -LPG소형저장탱크 보급사업 | I49: =IF(D49="","",G49-H49) -> 0 | K49: 600000 | L49: =IF(G49=0,H49+J49+K49,G49+J49+K49) -> 600000 | N49: 600000 | O49: =IF(G49=0,H49+M49+N49,G49+M49+N49) -> 600000 | P49: =IF(AND((L49=0),(O49>0)),"O",IF(AND((J49<0),(L49-O49<0)),"O","X")) -> X | Q49: 국비 내시 추가 | S49: 국도비 | U49: 국비 | V49: 600000 | W49: 0 | X49: =IF(SUM($J49:$K49)=SUM($V49:$W49),"OK","검토") -> OK | Z49: 국비 | AA49: 600000 | AB49: 0 | AC49: =IF(SUM(M49:N49)=SUM(AA49:AB49),"OK","검토") -> OK | AE49: 0307-1 | AG49: =IF(AE49="","",COUNTIF($AE$7:$AE$294,AE49)) -> 1 | AH49: =IF(U49="","",IF(AND(U49="도비",AE49="세입없음"),"OK",IF(AND(U49<>"도비",AE49<>""),"OK","@@"))) -> OK | AJ49: {=IF(C49="","",INDEX(구분표!$I$2:$I$300, MATCH(1,(구분표!$E$2:$E$300='2추일출'!B49)*(구분표!$F$2:$F$300='2추일출'!C49)*(구분표!$G$2:$G$300='2추일출'!A49),0)))} -> 0307
A50: =IFERROR(VLOOKUP($C50,구분표!$A$2:$C$300,2,FALSE),"") -> 경제과학기술위원회 | B50: =IFERROR(VLOOKUP($C50,구분표!$A$2:$C$300,3,FALSE),"") -> 경제실 | C50: 공정경제과 | D50: 신규 | E50: 의회 | F50: 특화거리 및 재래시장 활성화 지원 | I50: =IF(D50="","",G50-H50) -> 0 | K50: 770000 | L50: =IF(G50=0,H50+J50+K50,G50+J50+K50) -> 770000 | N50: 770000 | O50: =IF(G50=0,H50+M50+N50,G50+M50+N50) -> 770000 | P50: =IF(AND((L50=0),(O50>0)),"O",IF(AND((J50<0),(L50-O50<0)),"O","X")) -> X | S50: 도비 | U50: 도비 | V50: =IF($U50<>"도비",IF($S50="국도비","직접입력",SUM($J50:$K50)),) -> 0 | W50: =IF($U50="도비",SUM($J50:$K50),IF($S50="국도비","직접입력",SUM($J50:$K50)-$V50)) -> 770000 | X50: =IF(SUM($J50:$K50)=SUM($V50:$W50),"OK","검토") -> OK | AA50: =IF($U50<>"도비",IF($S50="국도비","직접입력",SUM($M50:$N50)),) -> 0 | AB50: =IF($U50="도비",SUM(M50:N50),IF($S50="국도비","직접입력",SUM(M50:N50)-AA50)) -> 770000 | AC50: =IF(SUM(M50:N50)=SUM(AA50:AB50),"OK","검토") -> OK | AE50: =IF(U50="","",IF(U50="도비","세입없음","직접입력")) -> 세입없음 | AG50: =IF(AE50="","",COUNTIF($AE$7:$AE$294,AE50)) -> 217 | AH50: =IF(U50="","",IF(AND(U50="도비",AE50="세입없음"),"OK",IF(AND(U50<>"도비",AE50<>""),"OK","@@"))) -> OK | AJ50: {=IF(C50="","",INDEX(구분표!$I$2:$I$300, MATCH(1,(구분표!$E$2:$E$300='2추일출'!B50)*(구분표!$F$2:$F$300='2추일출'!C50)*(구분표!$G$2:$G$300='2추일출'!A50),0)))} -> 0304
A51: =IFERROR(VLOOKUP($C51,구분표!$A$2:$C$300,2,FALSE),"") -> 경제과학기술위원회 | B51: =IFERROR(VLOOKUP($C51,구분표!$A$2:$C$300,3,FALSE),"") -> 경제실 | C51: 공정경제과 | D51: 신규 | E51: 의회 | F51: 전통시장 기반시설 확충 지원 | I51: =IF(D51="","",G51-H51) -> 0 | K51: 300000 | L51: =IF(G51=0,H51+J51+K51,G51+J51+K51) -> 300000 | N51: 500000 | O51: =IF(G51=0,H51+M51+N51,G51+M51+N51) -> 500000 | P51: =IF(AND((L51=0),(O51>0)),"O",IF(AND((J51<0),(L51-O51<0)),"O","X")) -> X | S51: 도비 | U51: 도비 | V51: =IF($U51<>"도비",IF($S51="국도비","직접입력",SUM($J51:$K51)),) -> 0 | W51: =IF($U51="도비",SUM($J51:$K51),IF($S51="국도비","직접입력",SUM($J51:$K51)-$V51)) -> 300000 | X51: =IF(SUM($J51:$K51)=SUM($V51:$W51),"OK","검토") -> OK | AA51: =IF($U51<>"도비",IF($S51="국도비","직접입력",SUM($M51:$N51)),) -> 0 | AB51: =IF($U51="도비",SUM(M51:N51),IF($S51="국도비","직접입력",SUM(M51:N51)-AA51)) -> 500000 | AC51: =IF(SUM(M51:N51)=SUM(AA51:AB51),"OK","검토") -> OK | AE51: =IF(U51="","",IF(U51="도비","세입없음","직접입력")) -> 세입없음 | AG51: =IF(AE51="","",COUNTIF($AE$7:$AE$294,AE51)) -> 217 | AH51: =IF(U51="","",IF(AND(U51="도비",AE51="세입없음"),"OK",IF(AND(U51<>"도비",AE51<>""),"OK","@@"))) -> OK | AJ51: {=IF(C51="","",INDEX(구분표!$I$2:$I$300, MATCH(1,(구분표!$E$2:$E$300='2추일출'!B51)*(구분표!$F$2:$F$300='2추일출'!C51)*(구분표!$G$2:$G$300='2추일출'!A51),0)))} -> 0304
A52: =IFERROR(VLOOKUP($C52,구분표!$A$2:$C$300,2,FALSE),"") -> 경제과학기술위원회 | B52: =IFERROR(VLOOKUP($C52,구분표!$A$2:$C$300,3,FALSE),"") -> 경제실 | C52: 경제정책과 | D52: 신규 | E52: 의회 | F52: 마이크로크레딧(굿모닝론) 확대운영 | I52: =IF(D52="","",G52-H52) -> 0 | K52: 300000 | L52: =IF(G52=0,H52+J52+K52,G52+J52+K52) -> 300000 | N52: 300000 | O52: =IF(G52=0,H52+M52+N52,G52+M52+N52) -> 300000 | P52: =IF(AND((L52=0),(O52>0)),"O",IF(AND((J52<0),(L52-O52<0)),"O","X")) -> X | S52: 도비 | U52: 도비 | V52: =IF($U52<>"도비",IF($S52="국도비","직접입력",SUM($J52:$K52)),) -> 0 | W52: =IF($U52="도비",SUM($J52:$K52),IF($S52="국도비","직접입력",SUM($J52:$K52)-$V52)) -> 300000 | X52: =IF(SUM($J52:$K52)=SUM($V52:$W52),"OK","검토") -> OK | AA52: =IF($U52<>"도비",IF($S52="국도비","직접입력",SUM($M52:$N52)),) -> 0 | AB52: =IF($U52="도비",SUM(M52:N52),IF($S52="국도비","직접입력",SUM(M52:N52)-AA52)) -> 300000 | AC52: =IF(SUM(M52:N52)=SUM(AA52:AB52),"OK","검토") -> OK | AE52: =IF(U52="","",IF(U52="도비","세입없음","직접입력")) -> 세입없음 | AG52: =IF(AE52="","",COUNTIF($AE$7:$AE$294,AE52)) -> 217 | AH52: =IF(U52="","",IF(AND(U52="도비",AE52="세입없음"),"OK",IF(AND(U52<>"도비",AE52<>""),"OK","@@"))) -> OK | AJ52: {=IF(C52="","",INDEX(구분표!$I$2:$I$300, MATCH(1,(구분표!$E$2:$E$300='2추일출'!B52)*(구분표!$F$2:$F$300='2추일출'!C52)*(구분표!$G$2:$G$300='2추일출'!A52),0)))} -> 0301
A53: =IFERROR(VLOOKUP($C53,구분표!$A$2:$C$300,2,FALSE),"") -> 경제과학기술위원회 | B53: =IFERROR(VLOOKUP($C53,구분표!$A$2:$C$300,3,FALSE),"") -> 경제실 | C53: 국제통상과 | D53: 신규 | E53: 의회 | F53: 중소기업 교류협력 지원 | I53: =IF(D53="","",G53-H53) -> 0 | K53: 20000 | L53: =IF(G53=0,H53+J53+K53,G53+J53+K53) -> 20000 | N53: 20000 | O53: =IF(G53=0,H53+M53+N53,G53+M53+N53) -> 20000 | P53: =IF(AND((L53=0),(O53>0)),"O",IF(AND((J53<0),(L53-O53<0)),"O","X")) -> X | S53: 도비 | U53: 도비 | V53: =IF($U53<>"도비",IF($S53="국도비","직접입력",SUM($J53:$K53)),) -> 0 | W53: =IF($U53="도비",SUM($J53:$K53),IF($S53="국도비","직접입력",SUM($J53:$K53)-$V53)) -> 20000 | X53: =IF(SUM($J53:$K53)=SUM($V53:$W53),"OK","검토") -> OK | AA53: =IF($U53<>"도비",IF($S53="국도비","직접입력",SUM($M53:$N53)),) -> 0 | AB53: =IF($U53="도비",SUM(M53:N53),IF($S53="국도비","직접입력",SUM(M53:N53)-AA53)) -> 20000 | AC53: =IF(SUM(M53:N53)=SUM(AA53:AB53),"OK","검토") -> OK | AE53: =IF(U53="","",IF(U53="도비","세입없음","직접입력")) -> 세입없음 | AG53: =IF(AE53="","",COUNTIF($AE$7:$AE$294,AE53)) -> 217 | AH53: =IF(U53="","",IF(AND(U53="도비",AE53="세입없음"),"OK",IF(AND(U53<>"도비",AE53<>""),"OK","@@"))) -> OK | AJ53: {=IF(C53="","",INDEX(구분표!$I$2:$I$300, MATCH(1,(구분표!$E$2:$E$300='2추일출'!B53)*(구분표!$F$2:$F$300='2추일출'!C53)*(구분표!$G$2:$G$300='2추일출'!A53),0)))} -> 0311
A54: =IFERROR(VLOOKUP($C54,구분표!$A$2:$C$300,2,FALSE),"") -> 경제과학기술위원회 | B54: =IFERROR(VLOOKUP($C54,구분표!$A$2:$C$300,3,FALSE),"") -> 경제실 | C54: 과학기술과 | D54: 신규 | E54: 의회 | F54: IOT소자 연구개발 및 시생산 팹구축사업 | I54: =IF(D54="","",G54-H54) -> 0 | K54: 300000 | L54: =IF(G54=0,H54+J54+K54,G54+J54+K54) -> 300000 | N54: 300000 | O54: =IF(G54=0,H54+M54+N54,G54+M54+N54) -> 300000 | P54: =IF(AND((L54=0),(O54>0)),"O",IF(AND((J54<0),(L54-O54<0)),"O","X")) -> X | S54: 도비 | U54: 도비 | V54: =IF($U54<>"도비",IF($S54="국도비","직접입력",SUM($J54:$K54)),) -> 0 | W54: =IF($U54="도비",SUM($J54:$K54),IF($S54="국도비","직접입력",SUM($J54:$K54)-$V54)) -> 300000 | X54: =IF(SUM($J54:$K54)=SUM($V54:$W54),"OK","검토") -> OK | AA54: =IF($U54<>"도비",IF($S54="국도비","직접입력",SUM($M54:$N54)),) -> 0 | AB54: =IF($U54="도비",SUM(M54:N54),IF($S54="국도비","직접입력",SUM(M54:N54)-AA54)) -> 300000 | AC54: =IF(SUM(M54:N54)=SUM(AA54:AB54),"OK","검토") -> OK | AE54: =IF(U54="","",IF(U54="도비","세입없음","직접입력")) -> 세입없음 | AG54: =IF(AE54="","",COUNTIF($AE$7:$AE$294,AE54)) -> 217 | AH54: =IF(U54="","",IF(AND(U54="도비",AE54="세입없음"),"OK",IF(AND(U54<>"도비",AE54<>""),"OK","@@"))) -> OK | AJ54: {=IF(C54="","",INDEX(구분표!$I$2:$I$300, MATCH(1,(구분표!$E$2:$E$300='2추일출'!B54)*(구분표!$F$2:$F$300='2추일출'!C54)*(구분표!$G$2:$G$300='2추일출'!A54),0)))} -> 0309
A55: =IFERROR(VLOOKUP($C55,구분표!$A$2:$C$300,2,FALSE),"") -> 경제과학기술위원회 | B55: =IFERROR(VLOOKUP($C55,구분표!$A$2:$C$300,3,FALSE),"") -> 경제실 | C55: 특화산업과 | D55: 신규 | E55: 의회 | F55: 특화산업 육성 지원 | I55: =IF(D55="","",G55-H55) -> 0 | K55: 80000 | L55: =IF(G55=0,H55+J55+K55,G55+J55+K55) -> 80000 | N55: 80000 | O55: =IF(G55=0,H55+M55+N55,G55+M55+N55) -> 80000 | P55: =IF(AND((L55=0),(O55>0)),"O",IF(AND((J55<0),(L55-O55<0)),"O","X")) -> X | S55: 도비 | U55: 도비 | V55: =IF($U55<>"도비",IF($S55="국도비","직접입력",SUM($J55:$K55)),) -> 0 | W55: =IF($U55="도비",SUM($J55:$K55),IF($S55="국도비","직접입력",SUM($J55:$K55)-$V55)) -> 80000 | X55: =IF(SUM($J55:$K55)=SUM($V55:$W55),"OK","검토") -> OK | AA55: =IF($U55<>"도비",IF($S55="국도비","직접입력",SUM($M55:$N55)),) -> 0 | AB55: =IF($U55="도비",SUM(M55:N55),IF($S55="국도비","직접입력",SUM(M55:N55)-AA55)) -> 80000 | AC55: =IF(SUM(M55:N55)=SUM(AA55:AB55),"OK","검토") -> OK | AE55: =IF(U55="","",IF(U55="도비","세입없음","직접입력")) -> 세입없음 | AG55: =IF(AE55="","",COUNTIF($AE$7:$AE$294,AE55)) -> 217 | AH55: =IF(U55="","",IF(AND(U55="도비",AE55="세입없음"),"OK",IF(AND(U55<>"도비",AE55<>""),"OK","@@"))) -> OK | AJ55: {=IF(C55="","",INDEX(구분표!$I$2:$I$300, MATCH(1,(구분표!$E$2:$E$300='2추일출'!B55)*(구분표!$F$2:$F$300='2추일출'!C55)*(구분표!$G$2:$G$300='2추일출'!A55),0)))} -> 0308
A56: =IFERROR(VLOOKUP($C56,구분표!$A$2:$C$300,2,FALSE),"") -> 경제과학기술위원회 | B56: =IFERROR(VLOOKUP($C56,구분표!$A$2:$C$300,3,FALSE),"") -> 경제실 | C56: 기업지원과 | D56: 신규 | E56: 의회 | F56: 경기도 유망중소기업 브랜드가치 고도화 | I56: =IF(D56="","",G56-H56) -> 0 | K56: 180000 | L56: =IF(G56=0,H56+J56+K56,G56+J56+K56) -> 180000 | N56: 180000 | O56: =IF(G56=0,H56+M56+N56,G56+M56+N56) -> 180000 | P56: =IF(AND((L56=0),(O56>0)),"O",IF(AND((J56<0),(L56-O56<0)),"O","X")) -> X | S56: 도비 | U56: 도비 | V56: =IF($U56<>"도비",IF($S56="국도비","직접입력",SUM($J56:$K56)),) -> 0 | W56: =IF($U56="도비",SUM($J56:$K56),IF($S56="국도비","직접입력",SUM($J56:$K56)-$V56)) -> 180000 | X56: =IF(SUM($J56:$K56)=SUM($V56:$W56),"OK","검토") -> OK | AA56: =IF($U56<>"도비",IF($S56="국도비","직접입력",SUM($M56:$N56)),) -> 0 | AB56: =IF($U56="도비",SUM(M56:N56),IF($S56="국도비","직접입력",SUM(M56:N56)-AA56)) -> 180000 | AC56: =IF(SUM(M56:N56)=SUM(AA56:AB56),"OK","검토") -> OK | AE56: =IF(U56="","",IF(U56="도비","세입없음","직접입력")) -> 세입없음 | AG56: =IF(AE56="","",COUNTIF($AE$7:$AE$294,AE56)) -> 217 | AH56: =IF(U56="","",IF(AND(U56="도비",AE56="세입없음"),"OK",IF(AND(U56<>"도비",AE56<>""),"OK","@@"))) -> OK | AJ56: {=IF(C56="","",INDEX(구분표!$I$2:$I$300, MATCH(1,(구분표!$E$2:$E$300='2추일출'!B56)*(구분표!$F$2:$F$300='2추일출'!C56)*(구분표!$G$2:$G$300='2추일출'!A56),0)))} -> 0305
A57: (안전행정위원회) | G57: =SUM(G58:G89) -> 4670096 | H57: =SUM(H58:H89) -> 2512096 | I57: =SUM(I58:I89) -> 2158000 | J57: =SUM(J58:J89) -> -300000 | K57: =SUM(K58:K89) -> 4379000 | L57: =SUM(L58:L89) -> 8749096 | M57: =SUM(M58:M89) -> -340000 | N57: =SUM(N58:N89) -> 4419000 | O57: =SUM(O58:O89) -> 8749096 | AE57: =IF(U57="","",IF(U57="도비","세입없음","직접입력")) | AG57: =IF(AE57="","",COUNTIF($AE$7:$AE$294,AE57)) | AH57: =IF(U57="","",IF(AND(U57="도비",AE57="세입없음"),"OK",IF(AND(U57<>"도비",AE57<>""),"OK","@@"))) | AJ57: {=IF(C57="","",INDEX(구분표!$I$2:$I$300, MATCH(1,(구분표!$E$2:$E$300='2추일출'!B57)*(구분표!$F$2:$F$300='2추일출'!C57)*(구분표!$G$2:$G$300='2추일출'!A57),0)))}
A58: =IFERROR(VLOOKUP($C58,구분표!$A$2:$C$300,2,FALSE),"") -> 안전행정위원회 | B58: =IFERROR(VLOOKUP($C58,구분표!$A$2:$C$300,3,FALSE),"") -> 자치행정국 | C58: 자치행정과 | D58: 2회추경 | E58: 376 | F58: 민간단체 공익활동 지원(자체/직접) -2015년 바르게살기 운동 전국 회원대회 | G58: 300000 | I58: =IF(D58="","",G58-H58) -> 300000 | J58: -300000 | L58: =IF(G58=0,H58+J58+K58,G58+J58+K58) -> 0 | M58: -300000 | O58: =IF(G58=0,H58+M58+N58,G58+M58+N58) -> 0 | P58: =IF(AND((L58=0),(O58>0)),"O",IF(AND((J58<0),(L58-O58<0)),"O","X")) -> X | S58: 도비 | U58: 도비 | V58: =IF($U58<>"도비",IF($S58="국도비","직접입력",SUM($J58:$K58)),) -> 0 | W58: =IF($U58="도비",SUM($J58:$K58),IF($S58="국도비","직접입력",SUM($J58:$K58)-$V58)) -> -300000 | X58: =IF(SUM($J58:$K58)=SUM($V58:$W58),"OK","검토") -> OK | AA58: =IF($U58<>"도비",IF($S58="국도비","직접입력",SUM($M58:$N58)),) -> 0 | AB58: =IF($U58="도비",SUM(M58:N58),IF($S58="국도비","직접입력",SUM(M58:N58)-AA58)) -> -300000 | AC58: =IF(SUM(M58:N58)=SUM(AA58:AB58),"OK","검토") -> OK | AE58: =IF(U58="","",IF(U58="도비","세입없음","직접입력")) -> 세입없음 | AG58: =IF(AE58="","",COUNTIF($AE$7:$AE$294,AE58)) -> 217 | AH58: =IF(U58="","",IF(AND(U58="도비",AE58="세입없음"),"OK",IF(AND(U58<>"도비",AE58<>""),"OK","@@"))) -> OK | AJ58: {=IF(C58="","",INDEX(구분표!$I$2:$I$300, MATCH(1,(구분표!$E$2:$E$300='2추일출'!B58)*(구분표!$F$2:$F$300='2추일출'!C58)*(구분표!$G$2:$G$300='2추일출'!A58),0)))} -> 0402
A59: =IFERROR(VLOOKUP($C59,구분표!$A$2:$C$300,2,FALSE),"") -> 안전행정위원회 | B59: =IFERROR(VLOOKUP($C59,구분표!$A$2:$C$300,3,FALSE),"") -> 인재개발원 | C59: 인재개발원 | D59: 신규 | E59: 의회 | F59: 교육생용 방독면 구입 | I59: =IF(D59="","",G59-H59) -> 0 | K59: 27500 | L59: =IF(G59=0,H59+J59+K59,G59+J59+K59) -> 27500 | N59: 27500 | O59: =IF(G59=0,H59+M59+N59,G59+M59+N59) -> 27500 | P59: =IF(AND((L59=0),(O59>0)),"O",IF(AND((J59<0),(L59-O59<0)),"O","X")) -> X | Q59: 자산 및 물품취득비 | S59: 도비 | U59: 도비 | V59: =IF($U59<>"도비",IF($S59="국도비","직접입력",SUM($J59:$K59)),) -> 0 | W59: =IF($U59="도비",SUM($J59:$K59),IF($S59="국도비","직접입력",SUM($J59:$K59)-$V59)) -> 27500 | X59: =IF(SUM($J59:$K59)=SUM($V59:$W59),"OK","검토") -> OK | AA59: =IF($U59<>"도비",IF($S59="국도비","직접입력",SUM($M59:$N59)),) -> 0 | AB59: =IF($U59="도비",SUM(M59:N59),IF($S59="국도비","직접입력",SUM(M59:N59)-AA59)) -> 27500 | AC59: =IF(SUM(M59:N59)=SUM(AA59:AB59),"OK","검토") -> OK | AE59: =IF(U59="","",IF(U59="도비","세입없음","직접입력")) -> 세입없음 | AG59: =IF(AE59="","",COUNTIF($AE$7:$AE$294,AE59)) -> 217 | AH59: =IF(U59="","",IF(AND(U59="도비",AE59="세입없음"),"OK",IF(AND(U59<>"도비",AE59<>""),"OK","@@"))) -> OK | AJ59: {=IF(C59="","",INDEX(구분표!$I$2:$I$300, MATCH(1,(구분표!$E$2:$E$300='2추일출'!B59)*(구분표!$F$2:$F$300='2추일출'!C59)*(구분표!$G$2:$G$300='2추일출'!A59),0)))} -> 0458
A60: =IFERROR(VLOOKUP($C60,구분표!$A$2:$C$300,2,FALSE),"") -> 안전행정위원회 | B60: =IFERROR(VLOOKUP($C60,구분표!$A$2:$C$300,3,FALSE),"") -> 재난안전본부 | C60: 구리소방서 | D60: 신규 | E60: 의회 | F60: 소규모시설물 개보수(자체/직접) -구리소방서 물품 창고 신설 | I60: =IF(D60="","",G60-H60) -> 0 | K60: 60000 | L60: =IF(G60=0,H60+J60+K60,G60+J60+K60) -> 60000 | N60: 60000 | O60: =IF(G60=0,H60+M60+N60,G60+M60+N60) -> 60000 | P60: =IF(AND((L60=0),(O60>0)),"O",IF(AND((J60<0),(L60-O60<0)),"O","X")) -> X | Q60: 물품창고 신설 -부대시설 공사(시설비) : 30,600천원 -컨테이너 및 소요물품(자산및물품취득비) : 29,400천원 | S60: 도비 | U60: 도비 | V60: =IF($U60<>"도비",IF($S60="국도비","직접입력",SUM($J60:$K60)),) -> 0 | W60: =IF($U60="도비",SUM($J60:$K60),IF($S60="국도비","직접입력",SUM($J60:$K60)-$V60)) -> 60000 | X60: =IF(SUM($J60:$K60)=SUM($V60:$W60),"OK","검토") -> OK | AA60: =IF($U60<>"도비",IF($S60="국도비","직접입력",SUM($M60:$N60)),) -> 0 | AB60: =IF($U60="도비",SUM(M60:N60),IF($S60="국도비","직접입력",SUM(M60:N60)-AA60)) -> 60000 | AC60: =IF(SUM(M60:N60)=SUM(AA60:AB60),"OK","검토") -> OK | AE60: =IF(U60="","",IF(U60="도비","세입없음","직접입력")) -> 세입없음 | AG60: =IF(AE60="","",COUNTIF($AE$7:$AE$294,AE60)) -> 217 | AH60: =IF(U60="","",IF(AND(U60="도비",AE60="세입없음"),"OK",IF(AND(U60<>"도비",AE60<>""),"OK","@@"))) -> OK | AJ60: {=IF(C60="","",INDEX(구분표!$I$2:$I$300, MATCH(1,(구분표!$E$2:$E$300='2추일출'!B60)*(구분표!$F$2:$F$300='2추일출'!C60)*(구분표!$G$2:$G$300='2추일출'!A60),0)))} -> 0450
A61: =IFERROR(VLOOKUP($C61,구분표!$A$2:$C$300,2,FALSE),"") -> 안전행정위원회 | B61: =IFERROR(VLOOKUP($C61,구분표!$A$2:$C$300,3,FALSE),"") -> 재난안전본부 | C61: 구리소방서 | D61: 신규 | E61: 의회 | F61: 소규모시설물 개보수(자체/직접) -구리소방서 화재예방홍보 회전 옥외 전시대 | I61: =IF(D61="","",G61-H61) -> 0 | K61: 22000 | L61: =IF(G61=0,H61+J61+K61,G61+J61+K61) -> 22000 | N61: 22000 | O61: =IF(G61=0,H61+M61+N61,G61+M61+N61) -> 22000 | P61: =IF(AND((L61=0),(O61>0)),"O",IF(AND((J61<0),(L61-O61<0)),"O","X")) -> X | Q61: 시설비 | S61: 도비 | U61: 도비 | V61: =IF($U61<>"도비",IF($S61="국도비","직접입력",SUM($J61:$K61)),) -> 0 | W61: =IF($U61="도비",SUM($J61:$K61),IF($S61="국도비","직접입력",SUM($J61:$K61)-$V61)) -> 22000 | X61: =IF(SUM($J61:$K61)=SUM($V61:$W61),"OK","검토") -> OK | AA61: =IF($U61<>"도비",IF($S61="국도비","직접입력",SUM($M61:$N61)),) -> 0 | AB61: =IF($U61="도비",SUM(M61:N61),IF($S61="국도비","직접입력",SUM(M61:N61)-AA61)) -> 22000 | AC61: =IF(SUM(M61:N61)=SUM(AA61:AB61),"OK","검토") -> OK | AE61: =IF(U61="","",IF(U61="도비","세입없음","직접입력")) -> 세입없음 | AG61: =IF(AE61="","",COUNTIF($AE$7:$AE$294,AE61)) -> 217 | AH61: =IF(U61="","",IF(AND(U61="도비",AE61="세입없음"),"OK",IF(AND(U61<>"도비",AE61<>""),"OK","@@"))) -> OK | AJ61: {=IF(C61="","",INDEX(구분표!$I$2:$I$300, MATCH(1,(구분표!$E$2:$E$300='2추일출'!B61)*(구분표!$F$2:$F$300='2추일출'!C61)*(구분표!$G$2:$G$300='2추일출'!A61),0)))} -> 0450
A62: =IFERROR(VLOOKUP($C62,구분표!$A$2:$C$300,2,FALSE),"") -> 안전행정위원회 | B62: =IFERROR(VLOOKUP($C62,구분표!$A$2:$C$300,3,FALSE),"") -> 재난안전본부 | C62: 안산소방서 | D62: 신규 | E62: 의회 | F62: 소규모시설물 개보수(자체/직접) -안산소방서 인조잔디 설치 및 포장공사 | I62: =IF(D62="","",G62-H62) -> 0 | K62: 98352 | L62: =IF(G62=0,H62+J62+K62,G62+J62+K62) -> 98352 | N62: 98352 | O62: =IF(G62=0,H62+M62+N62,G62+M62+N62) -> 98352 | P62: =IF(AND((L62=0),(O62>0)),"O",IF(AND((J62<0),(L62-O62<0)),"O","X")) -> X | Q62: 시설비 | S62: 도비 | U62: 도비 | V62: =IF($U62<>"도비",IF($S62="국도비","직접입력",SUM($J62:$K62)),) -> 0 | W62: =IF($U62="도비",SUM($J62:$K62),IF($S62="국도비","직접입력",SUM($J62:$K62)-$V62)) -> 98352 | X62: =IF(SUM($J62:$K62)=SUM($V62:$W62),"OK","검토") -> OK | AA62: =IF($U62<>"도비",IF($S62="국도비","직접입력",SUM($M62:$N62)),) -> 0 | AB62: =IF($U62="도비",SUM(M62:N62),IF($S62="국도비","직접입력",SUM(M62:N62)-AA62)) -> 98352 | AC62: =IF(SUM(M62:N62)=SUM(AA62:AB62),"OK","검토") -> OK | AE62: =IF(U62="","",IF(U62="도비","세입없음","직접입력")) -> 세입없음 | AG62: =IF(AE62="","",COUNTIF($AE$7:$AE$294,AE62)) -> 217 | AH62: =IF(U62="","",IF(AND(U62="도비",AE62="세입없음"),"OK",IF(AND(U62<>"도비",AE62<>""),"OK","@@"))) -> OK | AJ62: {=IF(C62="","",INDEX(구분표!$I$2:$I$300, MATCH(1,(구분표!$E$2:$E$300='2추일출'!B62)*(구분표!$F$2:$F$300='2추일출'!C62)*(구분표!$G$2:$G$300='2추일출'!A62),0)))} -> 0427
A63: =IFERROR(VLOOKUP($C63,구분표!$A$2:$C$300,2,FALSE),"") -> 안전행정위원회 | B63: =IFERROR(VLOOKUP($C63,구분표!$A$2:$C$300,3,FALSE),"") -> 재난안전본부 | C63: 일산소방서 | D63: 신규 | E63: 의회 | F63: 소규모통신시설 관리(자체/직접) -일산소방서 고층건물 기지국 설치 | I63: =IF(D63="","",G63-H63) -> 0 | K63: 20000 | L63: =IF(G63=0,H63+J63+K63,G63+J63+K63) -> 20000 | N63: 20000 | O63: =IF(G63=0,H63+M63+N63,G63+M63+N63) -> 20000 | P63: =IF(AND((L63=0),(O63>0)),"O",IF(AND((J63<0),(L63-O63<0)),"O","X")) -> X | Q63: 시설비 | S63: 도비 | U63: 도비 | V63: =IF($U63<>"도비",IF($S63="국도비","직접입력",SUM($J63:$K63)),) -> 0 | W63: =IF($U63="도비",SUM($J63:$K63),IF($S63="국도비","직접입력",SUM($J63:$K63)-$V63)) -> 20000 | X63: =IF(SUM($J63:$K63)=SUM($V63:$W63),"OK","검토") -> OK | AA63: =IF($U63<>"도비",IF($S63="국도비","직접입력",SUM($M63:$N63)),) -> 0 | AB63: =IF($U63="도비",SUM(M63:N63),IF($S63="국도비","직접입력",SUM(M63:N63)-AA63)) -> 20000 | AC63: =IF(SUM(M63:N63)=SUM(AA63:AB63),"OK","검토") -> OK | AE63: =IF(U63="","",IF(U63="도비","세입없음","직접입력")) -> 세입없음 | AG63: =IF(AE63="","",COUNTIF($AE$7:$AE$294,AE63)) -> 217 | AH63: =IF(U63="","",IF(AND(U63="도비",AE63="세입없음"),"OK",IF(AND(U63<>"도비",AE63<>""),"OK","@@"))) -> OK | AJ63: {=IF(C63="","",INDEX(구분표!$I$2:$I$300, MATCH(1,(구분표!$E$2:$E$300='2추일출'!B63)*(구분표!$F$2:$F$300='2추일출'!C63)*(구분표!$G$2:$G$300='2추일출'!A63),0)))} -> 0446
A64: =IFERROR(VLOOKUP($C64,구분표!$A$2:$C$300,2,FALSE),"") -> 안전행정위원회 | B64: =IFERROR(VLOOKUP($C64,구분표!$A$2:$C$300,3,FALSE),"") -> 재난안전본부 | C64: 일산소방서 | D64: 신규 | E64: 의회 | F64: 소규모시설물 개보수(자체/직접) -일산소방서 본서 옥외주차장 보수 | I64: =IF(D64="","",G64-H64) -> 0 | K64: 25000 | L64: =IF(G64=0,H64+J64+K64,G64+J64+K64) -> 25000 | N64: 25000 | O64: =IF(G64=0,H64+M64+N64,G64+M64+N64) -> 25000 | P64: =IF(AND((L64=0),(O64>0)),"O",IF(AND((J64<0),(L64-O64<0)),"O","X")) -> X | Q64: 시설비 | S64: 도비 | U64: 도비 | V64: =IF($U64<>"도비",IF($S64="국도비","직접입력",SUM($J64:$K64)),) -> 0 | W64: =IF($U64="도비",SUM($J64:$K64),IF($S64="국도비","직접입력",SUM($J64:$K64)-$V64)) -> 25000 | X64: =IF(SUM($J64:$K64)=SUM($V64:$W64),"OK","검토") -> OK | AA64: =IF($U64<>"도비",IF($S64="국도비","직접입력",SUM($M64:$N64)),) -> 0 | AB64: =IF($U64="도비",SUM(M64:N64),IF($S64="국도비","직접입력",SUM(M64:N64)-AA64)) -> 25000 | AC64: =IF(SUM(M64:N64)=SUM(AA64:AB64),"OK","검토") -> OK | AE64: =IF(U64="","",IF(U64="도비","세입없음","직접입력")) -> 세입없음 | AG64: =IF(AE64="","",COUNTIF($AE$7:$AE$294,AE64)) -> 217 | AH64: =IF(U64="","",IF(AND(U64="도비",AE64="세입없음"),"OK",IF(AND(U64<>"도비",AE64<>""),"OK","@@"))) -> OK | AJ64: {=IF(C64="","",INDEX(구분표!$I$2:$I$300, MATCH(1,(구분표!$E$2:$E$300='2추일출'!B64)*(구분표!$F$2:$F$300='2추일출'!C64)*(구분표!$G$2:$G$300='2추일출'!A64),0)))} -> 0446
A65: =IFERROR(VLOOKUP($C65,구분표!$A$2:$C$300,2,FALSE),"") -> 안전행정위원회 | B65: =IFERROR(VLOOKUP($C65,구분표!$A$2:$C$300,3,FALSE),"") -> 재난안전본부 | C65: 일산소방서 | D65: 신규 | E65: 의회 | F65: 119구급대소독실 설치(자체/직접) -일산소방서 구급소독실 물품 구입(중산119안전센터) | I65: =IF(D65="","",G65-H65) -> 0 | K65: 28640 | L65: =IF(G65=0,H65+J65+K65,G65+J65+K65) -> 28640 | N65: 28640 | O65: =IF(G65=0,H65+M65+N65,G65+M65+N65) -> 28640 | P65: =IF(AND((L65=0),(O65>0)),"O",IF(AND((J65<0),(L65-O65<0)),"O","X")) -> X | Q65: 자산 및 물품취득비 | S65: 도비 | U65: 도비 | V65: =IF($U65<>"도비",IF($S65="국도비","직접입력",SUM($J65:$K65)),) -> 0 | W65: =IF($U65="도비",SUM($J65:$K65),IF($S65="국도비","직접입력",SUM($J65:$K65)-$V65)) -> 28640 | X65: =IF(SUM($J65:$K65)=SUM($V65:$W65),"OK","검토") -> OK | AA65: =IF($U65<>"도비",IF($S65="국도비","직접입력",SUM($M65:$N65)),) -> 0 | AB65: =IF($U65="도비",SUM(M65:N65),IF($S65="국도비","직접입력",SUM(M65:N65)-AA65)) -> 28640 | AC65: =IF(SUM(M65:N65)=SUM(AA65:AB65),"OK","검토") -> OK | AE65: =IF(U65="","",IF(U65="도비","세입없음","직접입력")) -> 세입없음 | AG65: =IF(AE65="","",COUNTIF($AE$7:$AE$294,AE65)) -> 217 | AH65: =IF(U65="","",IF(AND(U65="도비",AE65="세입없음"),"OK",IF(AND(U65<>"도비",AE65<>""),"OK","@@"))) -> OK | AJ65: {=IF(C65="","",INDEX(구분표!$I$2:$I$300, MATCH(1,(구분표!$E$2:$E$300='2추일출'!B65)*(구분표!$F$2:$F$300='2추일출'!C65)*(구분표!$G$2:$G$300='2추일출'!A65),0)))} -> 0446
A66: =IFERROR(VLOOKUP($C66,구분표!$A$2:$C$300,2,FALSE),"") -> 안전행정위원회 | B66: =IFERROR(VLOOKUP($C66,구분표!$A$2:$C$300,3,FALSE),"") -> 재난안전본부 | C66: 일산소방서 | D66: 신규 | E66: 의회 | F66: 소규모시설물 개보수(자체/직접) -일산소방서 본서 및 각 안전센터 노후사무가구 교체 | I66: =IF(D66="","",G66-H66) -> 0 | K66: 28104 | L66: =IF(G66=0,H66+J66+K66,G66+J66+K66) -> 28104 | N66: 28104 | O66: =IF(G66=0,H66+M66+N66,G66+M66+N66) -> 28104 | P66: =IF(AND((L66=0),(O66>0)),"O",IF(AND((J66<0),(L66-O66<0)),"O","X")) -> X | Q66: 자산 및 물품취득비 | S66: 도비 | U66: 도비 | V66: =IF($U66<>"도비",IF($S66="국도비","직접입력",SUM($J66:$K66)),) -> 0 | W66: =IF($U66="도비",SUM($J66:$K66),IF($S66="국도비","직접입력",SUM($J66:$K66)-$V66)) -> 28104 | X66: =IF(SUM($J66:$K66)=SUM($V66:$W66),"OK","검토") -> OK | AA66: =IF($U66<>"도비",IF($S66="국도비","직접입력",SUM($M66:$N66)),) -> 0 | AB66: =IF($U66="도비",SUM(M66:N66),IF($S66="국도비","직접입력",SUM(M66:N66)-AA66)) -> 28104 | AC66: =IF(SUM(M66:N66)=SUM(AA66:AB66),"OK","검토") -> OK | AE66: =IF(U66="","",IF(U66="도비","세입없음","직접입력")) -> 세입없음 | AG66: =IF(AE66="","",COUNTIF($AE$7:$AE$294,AE66)) -> 217 | AH66: =IF(U66="","",IF(AND(U66="도비",AE66="세입없음"),"OK",IF(AND(U66<>"도비",AE66<>""),"OK","@@"))) -> OK | AJ66: {=IF(C66="","",INDEX(구분표!$I$2:$I$300, MATCH(1,(구분표!$E$2:$E$300='2추일출'!B66)*(구분표!$F$2:$F$300='2추일출'!C66)*(구분표!$G$2:$G$300='2추일출'!A66),0)))} -> 0446
A67: =IFERROR(VLOOKUP($C67,구분표!$A$2:$C$300,2,FALSE),"") -> 안전행정위원회 | B67: =IFERROR(VLOOKUP($C67,구분표!$A$2:$C$300,3,FALSE),"") -> 재난안전본부 | C67: 부천소방서 | D67: 신규 | E67: 의회 | F67: 소규모시설물 개보수(자체/직접) -부천소방서 주차장 포장공사 | I67: =IF(D67="","",G67-H67) -> 0 | K67: 50000 | L67: =IF(G67=0,H67+J67+K67,G67+J67+K67) -> 50000 | N67: 50000 | O67: =IF(G67=0,H67+M67+N67,G67+M67+N67) -> 50000 | P67: =IF(AND((L67=0),(O67>0)),"O",IF(AND((J67<0),(L67-O67<0)),"O","X")) -> X | Q67: 시설비 | S67: 도비 | U67: 도비 | V67: =IF($U67<>"도비",IF($S67="국도비","직접입력",SUM($J67:$K67)),) -> 0 | W67: =IF($U67="도비",SUM($J67:$K67),IF($S67="국도비","직접입력",SUM($J67:$K67)-$V67)) -> 50000 | X67: =IF(SUM($J67:$K67)=SUM($V67:$W67),"OK","검토") -> OK | AA67: =IF($U67<>"도비",IF($S67="국도비","직접입력",SUM($M67:$N67)),) -> 0 | AB67: =IF($U67="도비",SUM(M67:N67),IF($S67="국도비","직접입력",SUM(M67:N67)-AA67)) -> 50000 | AC67: =IF(SUM(M67:N67)=SUM(AA67:AB67),"OK","검토") -> OK | AE67: =IF(U67="","",IF(U67="도비","세입없음","직접입력")) -> 세입없음 | AG67: =IF(AE67="","",COUNTIF($AE$7:$AE$294,AE67)) -> 217 | AH67: =IF(U67="","",IF(AND(U67="도비",AE67="세입없음"),"OK",IF(AND(U67<>"도비",AE67<>""),"OK","@@"))) -> OK | AJ67: {=IF(C67="","",INDEX(구분표!$I$2:$I$300, MATCH(1,(구분표!$E$2:$E$300='2추일출'!B67)*(구분표!$F$2:$F$300='2추일출'!C67)*(구분표!$G$2:$G$300='2추일출'!A67),0)))} -> 0425
A68: =IFERROR(VLOOKUP($C68,구분표!$A$2:$C$300,2,FALSE),"") -> 안전행정위원회 | B68: =IFERROR(VLOOKUP($C68,구분표!$A$2:$C$300,3,FALSE),"") -> 재난안전본부 | C68: 용인소방서 | D68: 신규 | E68: 의회 | F68: 소방공무원 근무환경 개선(자체/직접) -용인소방서 구갈119안전센터 환경개선 공사 | I68: =IF(D68="","",G68-H68) -> 0 | K68: 80000 | L68: =IF(G68=0,H68+J68+K68,G68+J68+K68) -> 80000 | N68: 80000 | O68: =IF(G68=0,H68+M68+N68,G68+M68+N68) -> 80000 | P68: =IF(AND((L68=0),(O68>0)),"O",IF(AND((J68<0),(L68-O68<0)),"O","X")) -> X | Q68: 시설비 | S68: 도비 | U68: 도비 | V68: =IF($U68<>"도비",IF($S68="국도비","직접입력",SUM($J68:$K68)),) -> 0 | W68: =IF($U68="도비",SUM($J68:$K68),IF($S68="국도비","직접입력",SUM($J68:$K68)-$V68)) -> 80000 | X68: =IF(SUM($J68:$K68)=SUM($V68:$W68),"OK","검토") -> OK | AA68: =IF($U68<>"도비",IF($S68="국도비","직접입력",SUM($M68:$N68)),) -> 0 | AB68: =IF($U68="도비",SUM(M68:N68),IF($S68="국도비","직접입력",SUM(M68:N68)-AA68)) -> 80000 | AC68: =IF(SUM(M68:N68)=SUM(AA68:AB68),"OK","검토") -> OK | AE68: =IF(U68="","",IF(U68="도비","세입없음","직접입력")) -> 세입없음 | AG68: =IF(AE68="","",COUNTIF($AE$7:$AE$294,AE68)) -> 217 | AH68: =IF(U68="","",IF(AND(U68="도비",AE68="세입없음"),"OK",IF(AND(U68<>"도비",AE68<>""),"OK","@@"))) -> OK | AJ68: {=IF(C68="","",INDEX(구분표!$I$2:$I$300, MATCH(1,(구분표!$E$2:$E$300='2추일출'!B68)*(구분표!$F$2:$F$300='2추일출'!C68)*(구분표!$G$2:$G$300='2추일출'!A68),0)))} -> 0428
A69: =IFERROR(VLOOKUP($C69,구분표!$A$2:$C$300,2,FALSE),"") -> 안전행정위원회 | B69: =IFERROR(VLOOKUP($C69,구분표!$A$2:$C$300,3,FALSE),"") -> 재난안전본부 | C69: 성남소방서 | D69: 신규 | E69: 의회 | F69: 취약계층 안전시설 보급(자체/직접) - 성남소방서 취약계층 소방시설 지원 | I69: =IF(D69="","",G69-H69) -> 0 | K69: 100000 | L69: =IF(G69=0,H69+J69+K69,G69+J69+K69) -> 100000 | N69: 100000 | O69: =IF(G69=0,H69+M69+N69,G69+M69+N69) -> 100000 | P69: =IF(AND((L69=0),(O69>0)),"O",IF(AND((J69<0),(L69-O69<0)),"O","X")) -> X | Q69: 사무관리비(단독감지기, 소화기 구입) | S69: 도비 | U69: 도비 | V69: =IF($U69<>"도비",IF($S69="국도비","직접입력",SUM($J69:$K69)),) -> 0 | W69: =IF($U69="도비",SUM($J69:$K69),IF($S69="국도비","직접입력",SUM($J69:$K69)-$V69)) -> 100000 | X69: =IF(SUM($J69:$K69)=SUM($V69:$W69),"OK","검토") -> OK | AA69: =IF($U69<>"도비",IF($S69="국도비","직접입력",SUM($M69:$N69)),) -> 0 | AB69: =IF($U69="도비",SUM(M69:N69),IF($S69="국도비","직접입력",SUM(M69:N69)-AA69)) -> 100000 | AC69: =IF(SUM(M69:N69)=SUM(AA69:AB69),"OK","검토") -> OK | AE69: =IF(U69="","",IF(U69="도비","세입없음","직접입력")) -> 세입없음 | AG69: =IF(AE69="","",COUNTIF($AE$7:$AE$294,AE69)) -> 217 | AH69: =IF(U69="","",IF(AND(U69="도비",AE69="세입없음"),"OK",IF(AND(U69<>"도비",AE69<>""),"OK","@@"))) -> OK | AJ69: {=IF(C69="","",INDEX(구분표!$I$2:$I$300, MATCH(1,(구분표!$E$2:$E$300='2추일출'!B69)*(구분표!$F$2:$F$300='2추일출'!C69)*(구분표!$G$2:$G$300='2추일출'!A69),0)))} -> 0423
A70: =IFERROR(VLOOKUP($C70,구분표!$A$2:$C$300,2,FALSE),"") -> 안전행정위원회 | B70: =IFERROR(VLOOKUP($C70,구분표!$A$2:$C$300,3,FALSE),"") -> 재난안전본부 | C70: 김포소방서 | D70: 신규 | E70: 의회 | F70: 소규모시설물 개보수(자체/직접) -김포소방서 월곶119지역대 보수공사 | I70: =IF(D70="","",G70-H70) -> 0 | K70: 40000 | L70: =IF(G70=0,H70+J70+K70,G70+J70+K70) -> 40000 | N70: 40000 | O70: =IF(G70=0,H70+M70+N70,G70+M70+N70) -> 40000 | P70: =IF(AND((L70=0),(O70>0)),"O",IF(AND((J70<0),(L70-O70<0)),"O","X")) -> X | Q70: 월곶 119지역대 보수공사 -보수공사(시설비) : 25,086천원 -노후물품 교체보강(자산및물품취득비) : 14,914천원 | S70: 도비 | U70: 도비 | V70: =IF($U70<>"도비",IF($S70="국도비","직접입력",SUM($J70:$K70)),) -> 0 | W70: =IF($U70="도비",SUM($J70:$K70),IF($S70="국도비","직접입력",SUM($J70:$K70)-$V70)) -> 40000 | X70: =IF(SUM($J70:$K70)=SUM($V70:$W70),"OK","검토") -> OK | AA70: =IF($U70<>"도비",IF($S70="국도비","직접입력",SUM($M70:$N70)),) -> 0 | AB70: =IF($U70="도비",SUM(M70:N70),IF($S70="국도비","직접입력",SUM(M70:N70)-AA70)) -> 40000 | AC70: =IF(SUM(M70:N70)=SUM(AA70:AB70),"OK","검토") -> OK | AE70: =IF(U70="","",IF(U70="도비","세입없음","직접입력")) -> 세입없음 | AG70: =IF(AE70="","",COUNTIF($AE$7:$AE$294,AE70)) -> 217 | AH70: =IF(U70="","",IF(AND(U70="도비",AE70="세입없음"),"OK",IF(AND(U70<>"도비",AE70<>""),"OK","@@"))) -> OK | AJ70: {=IF(C70="","",INDEX(구분표!$I$2:$I$300, MATCH(1,(구분표!$E$2:$E$300='2추일출'!B70)*(구분표!$F$2:$F$300='2추일출'!C70)*(구분표!$G$2:$G$300='2추일출'!A70),0)))} -> 0436
... A78: =IFERROR(VLOOKUP($C78,구분표!$A$2:$C$300,2,FALSE),"") -> 안전행정위원회 | B78: =IFERROR(VLOOKUP($C78,구분표!$A$2:$C$300,3,FALSE),"") -> 재난안전본부 | C78: 재난대응과 | D78: 신규 | E78: 의회 | F78: 구조구급장비 보강(자체/직접) -액션캠(Action Cam) 보강 | I78: =IF(D78="","",G78-H78) -> 0 | K78: 15540 | L78: =IF(G78=0,H78+J78+K78,G78+J78+K78) -> 15540 | N78: 15540 | O78: =IF(G78=0,H78+M78+N78,G78+M78+N78) -> 15540 | P78: =IF(AND((L78=0),(O78>0)),"O",IF(AND((J78<0),(L78-O78<0)),"O","X")) -> X | Q78: 자산 및 물품취득비 | S78: 도비 | U78: 도비 | V78: =IF($U78<>"도비",IF($S78="국도비","직접입력",SUM($J78:$K78)),) -> 0 | W78: =IF($U78="도비",SUM($J78:$K78),IF($S78="국도비","직접입력",SUM($J78:$K78)-$V78)) -> 15540 | X78: =IF(SUM($J78:$K78)=SUM($V78:$W78),"OK","검토") -> OK | AA78: =IF($U78<>"도비",IF($S78="국도비","직접입력",SUM($M78:$N78)),) -> 0 | AB78: =IF($U78="도비",SUM(M78:N78),IF($S78="국도비","직접입력",SUM(M78:N78)-AA78)) -> 15540 | AC78: =IF(SUM(M78:N78)=SUM(AA78:AB78),"OK","검토") -> OK | AE78: =IF(U78="","",IF(U78="도비","세입없음","직접입력")) -> 세입없음 | AG78: =IF(AE78="","",COUNTIF($AE$7:$AE$294,AE78)) -> 217 | AH78: =IF(U78="","",IF(AND(U78="도비",AE78="세입없음"),"OK",IF(AND(U78<>"도비",AE78<>""),"OK","@@"))) -> OK | AJ78: {=IF(C78="","",INDEX(구분표!$I$2:$I$300, MATCH(1,(구분표!$E$2:$E$300='2추일출'!B78)*(구분표!$F$2:$F$300='2추일출'!C78)*(구분표!$G$2:$G$300='2추일출'!A78),0)))} -> 0411
A79: =IFERROR(VLOOKUP($C79,구분표!$A$2:$C$300,2,FALSE),"") -> 안전행정위원회 | B79: =IFERROR(VLOOKUP($C79,구분표!$A$2:$C$300,3,FALSE),"") -> 재난안전본부 | C79: 소방행정과 | D79: 2회추경 | E79: 의회 | F79: 소방공무원 PTSD치유(자체/직접) -PTSD치유물품 구입 | G79: 1342096 | H79: 1032096 | I79: =IF(D79="","",G79-H79) -> 310000 | K79: 62418 | L79: =IF(G79=0,H79+J79+K79,G79+J79+K79) -> 1404514 | N79: 62418 | O79: =IF(G79=0,H79+M79+N79,G79+M79+N79) -> 1404514 | P79: =IF(AND((L79=0),(O79>0)),"O",IF(AND((J79<0),(L79-O79<0)),"O","X")) -> X | Q79: 자산 및 물품취득비 | S79: 도비 | U79: 도비 | V79: =IF($U79<>"도비",IF($S79="국도비","직접입력",SUM($J79:$K79)),) -> 0 | W79: =IF($U79="도비",SUM($J79:$K79),IF($S79="국도비","직접입력",SUM($J79:$K79)-$V79)) -> 62418 | X79: =IF(SUM($J79:$K79)=SUM($V79:$W79),"OK","검토") -> OK | AA79: =IF($U79<>"도비",IF($S79="국도비","직접입력",SUM($M79:$N79)),) -> 0 | AB79: =IF($U79="도비",SUM(M79:N79),IF($S79="국도비","직접입력",SUM(M79:N79)-AA79)) -> 62418 | AC79: =IF(SUM(M79:N79)=SUM(AA79:AB79),"OK","검토") -> OK | AE79: =IF(U79="","",IF(U79="도비","세입없음","직접입력")) -> 세입없음 | AG79: =IF(AE79="","",COUNTIF($AE$7:$AE$294,AE79)) -> 217 | AH79: =IF(U79="","",IF(AND(U79="도비",AE79="세입없음"),"OK",IF(AND(U79<>"도비",AE79<>""),"OK","@@"))) -> OK | AJ79: {=IF(C79="","",INDEX(구분표!$I$2:$I$300, MATCH(1,(구분표!$E$2:$E$300='2추일출'!B79)*(구분표!$F$2:$F$300='2추일출'!C79)*(구분표!$G$2:$G$300='2추일출'!A79),0)))} -> 0409
A80: =IFERROR(VLOOKUP($C80,구분표!$A$2:$C$300,2,FALSE),"") -> 안전행정위원회 | B80: =IFERROR(VLOOKUP($C80,구분표!$A$2:$C$300,3,FALSE),"") -> 재난안전본부 | C80: 소방행정과 | D80: 2회추경 | E80: 의회 | F80: 소방공무원 PTSD치유(자체/직접) -PTSD치유물품 구입 | I80: =IF(D80="","",G80-H80) -> 0 | K80: 423000 | L80: =IF(G80=0,H80+J80+K80,G80+J80+K80) -> 423000 | N80: 423000 | O80: =IF(G80=0,H80+M80+N80,G80+M80+N80) -> 423000 | P80: =IF(AND((L80=0),(O80>0)),"O",IF(AND((J80<0),(L80-O80<0)),"O","X")) -> X | S80: 도비 | U80: 도비 | V80: =IF($U80<>"도비",IF($S80="국도비","직접입력",SUM($J80:$K80)),) -> 0 | W80: =IF($U80="도비",SUM($J80:$K80),IF($S80="국도비","직접입력",SUM($J80:$K80)-$V80)) -> 423000 | X80: =IF(SUM($J80:$K80)=SUM($V80:$W80),"OK","검토") -> OK | AA80: =IF($U80<>"도비",IF($S80="국도비","직접입력",SUM($M80:$N80)),) -> 0 | AB80: =IF($U80="도비",SUM(M80:N80),IF($S80="국도비","직접입력",SUM(M80:N80)-AA80)) -> 423000 | AC80: =IF(SUM(M80:N80)=SUM(AA80:AB80),"OK","검토") -> OK | AE80: =IF(U80="","",IF(U80="도비","세입없음","직접입력")) -> 세입없음 | AG80: =IF(AE80="","",COUNTIF($AE$7:$AE$294,AE80)) -> 217 | AH80: =IF(U80="","",IF(AND(U80="도비",AE80="세입없음"),"OK",IF(AND(U80<>"도비",AE80<>""),"OK","@@"))) -> OK | AJ80: {=IF(C80="","",INDEX(구분표!$I$2:$I$300, MATCH(1,(구분표!$E$2:$E$300='2추일출'!B80)*(구분표!$F$2:$F$300='2추일출'!C80)*(구분표!$G$2:$G$300='2추일출'!A80),0)))} -> 0409
A81: =IFERROR(VLOOKUP($C81,구분표!$A$2:$C$300,2,FALSE),"") -> 안전행정위원회 | B81: =IFERROR(VLOOKUP($C81,구분표!$A$2:$C$300,3,FALSE),"") -> 재난안전본부 | C81: 재난대응과 | D81: 신규 | E81: 의회 | F81: 의용소방대 활성화(자체/직접) -소방장갑 보강 | I81: =IF(D81="","",G81-H81) -> 0 | K81: 65200 | L81: =IF(G81=0,H81+J81+K81,G81+J81+K81) -> 65200 | N81: 65200 | O81: =IF(G81=0,H81+M81+N81,G81+M81+N81) -> 65200 | P81: =IF(AND((L81=0),(O81>0)),"O",IF(AND((J81<0),(L81-O81<0)),"O","X")) -> X | Q81: 자산 및 물품취득비 | S81: 도비 | U81: 도비 | V81: =IF($U81<>"도비",IF($S81="국도비","직접입력",SUM($J81:$K81)),) -> 0 | W81: =IF($U81="도비",SUM($J81:$K81),IF($S81="국도비","직접입력",SUM($J81:$K81)-$V81)) -> 65200 | X81: =IF(SUM($J81:$K81)=SUM($V81:$W81),"OK","검토") -> OK | AA81: =IF($U81<>"도비",IF($S81="국도비","직접입력",SUM($M81:$N81)),) -> 0 | AB81: =IF($U81="도비",SUM(M81:N81),IF($S81="국도비","직접입력",SUM(M81:N81)-AA81)) -> 65200 | AC81: =IF(SUM(M81:N81)=SUM(AA81:AB81),"OK","검토") -> OK | AE81: =IF(U81="","",IF(U81="도비","세입없음","직접입력")) -> 세입없음 | AG81: =IF(AE81="","",COUNTIF($AE$7:$AE$294,AE81)) -> 217 | AH81: =IF(U81="","",IF(AND(U81="도비",AE81="세입없음"),"OK",IF(AND(U81<>"도비",AE81<>""),"OK","@@"))) -> OK | AJ81: {=IF(C81="","",INDEX(구분표!$I$2:$I$300, MATCH(1,(구분표!$E$2:$E$300='2추일출'!B81)*(구분표!$F$2:$F$300='2추일출'!C81)*(구분표!$G$2:$G$300='2추일출'!A81),0)))} -> 0411
A82: =IFERROR(VLOOKUP($C82,구분표!$A$2:$C$300,2,FALSE),"") -> 안전행정위원회 | B82: =IFERROR(VLOOKUP($C82,구분표!$A$2:$C$300,3,FALSE),"") -> 재난안전본부 | C82: 재난대응과 | D82: 신규 | E82: 신규 | F82: 소방장비 보강(자체/직접) -소방펌프차 보강 | I82: =IF(D82="","",G82-H82) -> 0 | K82: 500000 | L82: =IF(G82=0,H82+J82+K82,G82+J82+K82) -> 500000 | M82: 0 | N82: 500000 | O82: =IF(G82=0,H82+M82+N82,G82+M82+N82) -> 500000 | P82: =IF(AND((L82=0),(O82>0)),"O",IF(AND((J82<0),(L82-O82<0)),"O","X")) -> X | S82: 도비 | U82: 도비 | V82: =IF($U82<>"도비",IF($S82="국도비","직접입력",SUM($J82:$K82)),) -> 0 | W82: =IF($U82="도비",SUM($J82:$K82),IF($S82="국도비","직접입력",SUM($J82:$K82)-$V82)) -> 500000 | X82: =IF(SUM($J82:$K82)=SUM($V82:$W82),"OK","검토") -> OK | AA82: =IF($U82<>"도비",IF($S82="국도비","직접입력",SUM($M82:$N82)),) -> 0 | AB82: =IF($U82="도비",SUM(M82:N82),IF($S82="국도비","직접입력",SUM(M82:N82)-AA82)) -> 500000 | AC82: =IF(SUM(M82:N82)=SUM(AA82:AB82),"OK","검토") -> OK | AE82: =IF(U82="","",IF(U82="도비","세입없음","직접입력")) -> 세입없음 | AG82: =IF(AE82="","",COUNTIF($AE$7:$AE$294,AE82)) -> 217 | AH82: =IF(U82="","",IF(AND(U82="도비",AE82="세입없음"),"OK",IF(AND(U82<>"도비",AE82<>""),"OK","@@"))) -> OK | AJ82: {=IF(C82="","",INDEX(구분표!$I$2:$I$300, MATCH(1,(구분표!$E$2:$E$300='2추일출'!B82)*(구분표!$F$2:$F$300='2추일출'!C82)*(구분표!$G$2:$G$300='2추일출'!A82),0)))} -> 0411
A83: =IFERROR(VLOOKUP($C83,구분표!$A$2:$C$300,2,FALSE),"") -> 안전행정위원회 | B83: =IFERROR(VLOOKUP($C83,구분표!$A$2:$C$300,3,FALSE),"") -> 재난안전본부 | C83: 재난대응과 | D83: 2회추경 | E83: 402 | F83: 감염병시설 및 장비확충(기금/직접) -119구급대 감염관리실 설치 ⇒ 감병병시설 및 장비확충(국비/직접) -119구급대 감염관리실 설치 | G83: 1408000 | I83: =IF(D83="","",G83-H83) -> 1408000 | L83: =IF(G83=0,H83+J83+K83,G83+J83+K83) -> 1408000 | M83: 0 | N83: 0 | O83: =IF(G83=0,H83+M83+N83,G83+M83+N83) -> 1408000 | P83: =IF(AND((L83=0),(O83>0)),"O",IF(AND((J83<0),(L83-O83<0)),"O","X")) -> X | Q83: 재원변경(기금 ⇒ 국비) | S83: 국도비 | U83: 국비 | V83: 0 | W83: 0 | X83: =IF(SUM($J83:$K83)=SUM($V83:$W83),"OK","검토") -> OK | Z83: 국비 | AA83: 0 | AB83: 0 | AC83: =IF(SUM(M83:N83)=SUM(AA83:AB83),"OK","검토") -> OK | AE83: 0411-1 | AG83: =IF(AE83="","",COUNTIF($AE$7:$AE$294,AE83)) -> 1 | AH83: =IF(U83="","",IF(AND(U83="도비",AE83="세입없음"),"OK",IF(AND(U83<>"도비",AE83<>""),"OK","@@"))) -> OK | AJ83: {=IF(C83="","",INDEX(구분표!$I$2:$I$300, MATCH(1,(구분표!$E$2:$E$300='2추일출'!B83)*(구분표!$F$2:$F$300='2추일출'!C83)*(구분표!$G$2:$G$300='2추일출'!A83),0)))} -> 0411
