Workbook

Sheet 구분표
A2: 실과명 조정 | B2: 위원회명 조정 | C2: 실국명 조정 | E2: 실국명 | F2: 실과명 | G2: 위원회명 | H2: 정렬순서 | I2: 정렬코드
A3: 공보담당관 | B3: 의회운영위원회 | C3: 의회사무처 | E3: 의회사무처 | F3: 공보담당관 | G3: 의회운영위원회 | H3: 1 | I3: 0101
A4: 총무담당관 | B4: 의회운영위원회 | C4: 의회사무처 | E4: 의회사무처 | F4: 총무담당관 | G4: 의회운영위원회 | H4: 2 | I4: 0102
A5: 의정담당관 | B5: 의회운영위원회 | C5: 의회사무처 | E5: 의회사무처 | F5: 의정담당관 | G5: 의회운영위원회 | H5: 3 | I5: 0103
A6: 입법정책담당관 | B6: 의회운영위원회 | C6: 의회사무처 | E6: 의회사무처 | F6: 입법정책담당관 | G6: 의회운영위원회 | H6: 4 | I6: 0104
A7: 예산정책담당관 | B7: 의회운영위원회 | C7: 의회사무처 | E7: 의회사무처 | F7: 예산정책담당관 | G7: 의회운영위원회 | H7: 5 | I7: 0105
A8: 언론협력담당관 | B8: 의회운영위원회 | C8: 대변인 | E8: 대변인 | F8: 언론협력담당관 | G8: 의회운영위원회 | H8: 6 | I8: 0106
A9: 보도기획담당관 | B9: 의회운영위원회 | C9: 대변인 | E9: 대변인 | F9: 보도기획담당관 | G9: 의회운영위원회 | H9: 7 | I9: 0107
A10: 홍보담당관 | B10: 의회운영위원회 | C10: 소통기획관 | E10: 소통기획관 | F10: 홍보담당관 | G10: 의회운영위원회 | H10: 8 | I10: 0108
A11: 소통담당관 | B11: 의회운영위원회 | C11: 소통기획관 | E11: 소통기획관 | F11: 소통담당관 | G11: 의회운영위원회 | H11: 9 | I11: 0109
A12: 연정협력관 | B12: 의회운영위원회 | C12: 연정협력관 | E12: 연정협력관 | F12: 연정협력관 | G12: 의회운영위원회 | H12: 10 | I12: 0110
A13: 대외협력담당관 | B13: 의회운영위원회 | C13: 대외협력담당관 | E13: 대외협력담당관 | F13: 대외협력담당관 | G13: 의회운영위원회 | H13: 11 | I13: 0111
... A202: 도서관정책과 | B202: 여성가족교육협력위원회 | C202: 교육협력국 | E202: 교육협력국 | F202: 도서관정책과 | G202: 여성가족교육협력위원회 | H202: 200 | I202: 1012

Sheet 예결표지(세로)
A5: 2015년도 제2회 일반회계 및 특별회계 추가경정 세입·세출 예산안
A7: 예결위 계수조정 결과
A20: 예산결산특별위원회

Sheet 예결표지(가로)
A3: 2015년도 제2회 일반회계 및 특별회계 추가경정 세입·세출 예산안
A5: 예결위 계수조정 결과
A14: 예산결산특별위원회

Sheet 추경표지
A4: 예결위 계수조정 결과
B6: - 2015년도 제2회 일반회계 및 특별회계 추가경정 세입·세출 예산안
A12: 예산결산특별위원회

Sheet 2추검증
A1: 제2회 추경 일반회계 검증 | H1: 2추 예비비 | J1: 조정액 | K1: =IFERROR(INDEX('2추일출'!AB6:AB294,MATCH("*예비비*",'2추일출'!F6:F294,0)),0) -> 12249889 | L1: 조정잔액 | M1: =I1+K1 -> 12249889
M2: (단위 : 천원)
A3: 구분 | B3: 상 임 위 | H3: 구분 | I3: 예 결 위
B4: 세입 | C4: 검증 | D4: 세출 | E4: 검증 | F4: 차액 | I4: 세입 | J4: 검증 | K4: 세출 | L4: 검증 | M4: 차액
A5: 전체 총계 | B5: =SUM(B6:B13)/2 -> 0 | C5: =IF(B5=SUM('2추일입'!J6:K6),"OK","@@") -> @@ | D5: =SUM(D6:D13)/2 -> -7201170 | E5: =IF(D5=SUM('2추일출'!J6:K6),"OK","@@") -> @@ | H5: 전체 총계 | I5: =SUM(I6:I13)/2 -> 0 | J5: =IF(I5=SUM('2추일입'!M6:N6),"OK","@@") -> @@ | K5: =SUM(K6:K13)/2 -> 3355378 | L5: =IF(K5=SUM('2추일출'!M6:N6),"OK","@@") -> @@
A6: 자체 계 | B6: =SUM(B7:B8) -> 0 | C6: =IF(B6='2추일입'!W6,"OK","@@") -> OK | D6: =SUM(D7:D8) -> -6169051 | E6: =IF(D6='2추일출'!W6,"OK","@@") -> @@ | H6: 자체 계 | I6: =SUM(I7:I8) -> 0 | J6: =IF(I6='2추일입'!AB6,"OK","@@") -> OK | K6: =SUM(K7:K8) -> 1676113 | L6: =IF(K6='2추일출'!AB6,"OK","@@") -> @@
A7: 자체 도비 | B7: =SUMIFS('2추일입'!W6:W60,'2추일입'!U6:U60,"도비") -> 0 | D7: =SUMIFS('2추일출'!$W$6:$W$294,'2추일출'!$U$6:$U$294,"도비") -> -5136932 | H7: 자체 도비 | I7: =SUMIFS('2추일입'!AB6:AB60,'2추일입'!Z6:Z60,"국비") -> 0 | K7: =SUMIFS('2추일출'!$AB$6:$AB$294,'2추일출'!$Z$6:$Z$294,"도비") -> -3152
A8: 의존 매칭 도비 | B8: =SUMIFS('2추일입'!W6:W60,'2추일입'!U6:U60,"국비")+SUMIFS('2추일입'!W6:W60,'2추일입'!U6:U60,"지특")+SUMIFS('2추일입'!W6:W60,'2추일입'!U6:U60,"기금")+SUMIFS('2추일입'!W6:W60,'2추일입'!U6:U60,"특교") -> 0 | D8: =SUMIFS('2추일출'!$W$6:$W$294,'2추일출'!$U$6:$U$294,"국비")+SUMIFS('2추일출'!$W$6:$W$294,'2추일출'!$U$6:$U$294,"지특")+SUMIFS('2추일출'!$W$6:$W$294,'2추일출'!$U$6:$U$294,"기금")+SUMIFS('2추일출'!$W$6:$W$294,'2추일출'!$U$6:$U$294,"특교") -> -1032119 | H8: 의존 매칭 도비 | I8: =SUMIFS('2추일입'!AB6:AB60,'2추일입'!Z6:Z60,"국비")+SUMIFS('2추일입'!AB6:AB60,'2추일입'!Z6:Z60,"지특")+SUMIFS('2추일입'!AB6:AB60,'2추일입'!Z6:Z60,"기금")+SUMIFS('2추일입'!AB6:AB60,'2추일입'!Z6:Z60,"특교") -> 0 | K8: =SUMIFS('2추일출'!$AB$6:$AB$294,'2추일출'!$Z$6:$Z$294,"국비")+SUMIFS('2추일출'!$AB$6:$AB$294,'2추일출'!$Z$6:$Z$294,"지특")+SUMIFS('2추일출'!$AB$6:$AB$294,'2추일출'!$Z$6:$Z$294,"기금")+SUMIFS('2추일출'!$AB$6:$AB$294,'2추일출'!$Z$6:$Z$294,"특교") -> 1679265
A9: 의존 계 | B9: =SUM(B10:B13) -> 0 | C9: =IF(B9='2추일입'!V6,"OK","@@") -> @@ | D9: =SUM(D10:D13) -> -1032119 | E9: =IF(D9='2추일출'!V6,"OK","@@") -> @@ | F9: =SUM(F10:F13) -> -1032119 | H9: 의존 계 | I9: =SUM(I10:I13) -> 0 | J9: =IF(I9='2추일입'!V6,"OK","@@") -> @@ | K9: =SUM(K10:K13) -> 1679265 | L9: =IF(K9='2추일출'!AA6,"OK","@@") -> @@ | M9: =SUM(M10:M13) -> 1679265
A10: 국비 | B10: =SUMIFS('2추일입'!$W$6:$W$60,'2추일입'!$U$6:$U$60,'2추검증'!A10) -> 0 | D10: =SUMIFS('2추일출'!$W$6:$W$294,'2추일출'!$U$6:$U$294,'2추검증'!A10) -> -1065495 | F10: =D10-B10 -> -1065495 | H10: 국비 | I10: =SUMIFS('2추일입'!$AB$6:$AB$60,'2추일입'!$Z$6:$Z$60,'2추검증'!H10) -> 0 | K10: =SUMIFS('2추일출'!$AB$6:$AB$294,'2추일출'!$Z$6:$Z$294,'2추검증'!H10) -> -762777 | M10: =K10-I10 -> -762777
A11: 지특 | B11: =SUMIFS('2추일입'!$W$6:$W$60,'2추일입'!$U$6:$U$60,'2추검증'!A11) -> 0 | D11: =SUMIFS('2추일출'!$W$6:$W$294,'2추일출'!$U$6:$U$294,'2추검증'!A11) -> 0 | F11: =D11-B11 -> 0 | H11: 지특 | I11: =SUMIFS('2추일입'!$AB$6:$AB$60,'2추일입'!$Z$6:$Z$60,'2추검증'!H11) -> 0 | K11: =SUMIFS('2추일출'!$AB$6:$AB$294,'2추일출'!$Z$6:$Z$294,'2추검증'!H11) -> 2490000 | M11: =K11-I11 -> 2490000
A12: 기금 | B12: =SUMIFS('2추일입'!$W$6:$W$60,'2추일입'!$U$6:$U$60,'2추검증'!A12) -> 0 | D12: =SUMIFS('2추일출'!$W$6:$W$294,'2추일출'!$U$6:$U$294,'2추검증'!A12) -> 33376 | F12: =D12-B12 -> 33376 | H12: 기금 | I12: =SUMIFS('2추일입'!$AB$6:$AB$60,'2추일입'!$Z$6:$Z$60,'2추검증'!H12) -> 0 | K12: =SUMIFS('2추일출'!$AB$6:$AB$294,'2추일출'!$Z$6:$Z$294,'2추검증'!H12) -> -47958 | M12: =K12-I12 -> -47958
A13: 특교 | B13: =SUMIFS('2추일입'!$W$6:$W$60,'2추일입'!$U$6:$U$60,'2추검증'!A13) -> 0 | D13: =SUMIFS('2추일출'!$W$6:$W$294,'2추일출'!$U$6:$U$294,'2추검증'!A13) -> 0 | F13: =D13-B13 -> 0 | H13: 특교 | I13: =SUMIFS('2추일입'!$AB$6:$AB$60,'2추일입'!$Z$6:$Z$60,'2추검증'!H13) -> 0 | K13: =SUMIFS('2추일출'!$AB$6:$AB$294,'2추일출'!$Z$6:$Z$294,'2추검증'!H13) -> 0 | M13: =K13-I13 -> 0

Sheet 2추총괄표
A1: 2015년도 제2회 추경 일반 및 특별회계 세입·세출 예산안(전체예산총괄)
A3: □ 총 괄 | C3: 세입예산 증감 | D3: =SUM(C7:D7) -> 19824877 | E3: 세출예산증감 | F3: =SUM(E7:F7) -> 19824877
E4: ※ 예비비 증감 | G4: (단위 : 천원)
A5: 구 분 | B5: 집행부제출(안) | C5: 세입예산(안) | E5: 세출예산(안) | G5: 수정예산(안)
C6: 감 액 | D6: 증 액 | E6: 감 액 | F6: 증 액
A7: 합 계 | B7: =SUM(B8:B17) -> 21325237843 | C7: =SUM(C8:C17) -> -11857170 | D7: =SUM(D8:D17) -> 31682047 | E7: =SUM(E8:E17) -> -74752271 | F7: =SUM(F8:F17) -> 94577148 | G7: =SUM(G8:G17) -> 21345062720
A8: 의회운영위원회 | B8: =B31 -> 52731770 | C8: =SUMIFS('2추일입'!$M$6:$M$60,'2추일입'!$A$6:$A$60,'2추총괄표'!$A8)+SUMIFS('2추특입'!$M$6:$M$100,'2추특입'!$A$6:$A$100,'2추총괄표'!$A8) -> 0 | D8: =SUMIFS('2추일입'!$N$6:$N$60,'2추일입'!$A$6:$A$60,'2추총괄표'!$A8)+SUMIFS('2추특입'!$N$6:$N$100,'2추특입'!$A$6:$A$100,'2추총괄표'!$A8) -> 0 | E8: =SUMIFS('2추일출'!M$6:M$294,'2추일출'!$A$6:$A$294,'2추총괄표'!$A8)+SUMIFS('2추특출'!M$6:M$100,'2추특출'!$A$6:$A$100,'2추총괄표'!$A8) -> -2165000 | F8: =SUMIFS('2추일출'!N$6:N$294,'2추일출'!$A$6:$A$294,'2추총괄표'!$A8)+SUMIFS('2추특출'!N$6:N$100,'2추특출'!$A$6:$A$100,'2추총괄표'!$A8) -> 819700 | G8: =B8+E8+F8 -> 51386470
A9: 기획재정위원회 | B9: =B32 -> 6565707178 | C9: =SUMIFS('2추일입'!$M$6:$M$60,'2추일입'!$A$6:$A$60,'2추총괄표'!$A9)+SUMIFS('2추특입'!$M$6:$M$100,'2추특입'!$A$6:$A$100,'2추총괄표'!$A9) -> 0 | D9: =SUMIFS('2추일입'!$N$6:$N$60,'2추일입'!$A$6:$A$60,'2추총괄표'!$A9)+SUMIFS('2추특입'!$N$6:$N$100,'2추특입'!$A$6:$A$100,'2추총괄표'!$A9) -> 0 | E9: =SUMIFS('2추일출'!M$6:M$294,'2추일출'!$A$6:$A$294,'2추총괄표'!$A9)+SUMIFS('2추특출'!M$6:M$100,'2추특출'!$A$6:$A$100,'2추총괄표'!$A9) -> -30855000 | F9: =SUMIFS('2추일출'!N$6:N$294,'2추일출'!$A$6:$A$294,'2추총괄표'!$A9)+SUMIFS('2추특출'!N$6:N$100,'2추특출'!$A$6:$A$100,'2추총괄표'!$A9) -> 14449889 | G9: =B9+E9+F9 -> 6549302067
A10: 경제과학기술위원회 | B10: =B33 -> 585316491 | C10: =SUMIFS('2추일입'!$M$6:$M$60,'2추일입'!$A$6:$A$60,'2추총괄표'!$A10)+SUMIFS('2추특입'!$M$6:$M$100,'2추특입'!$A$6:$A$100,'2추총괄표'!$A10) -> 0 | D10: =SUMIFS('2추일입'!$N$6:$N$60,'2추일입'!$A$6:$A$60,'2추총괄표'!$A10)+SUMIFS('2추특입'!$N$6:$N$100,'2추특입'!$A$6:$A$100,'2추총괄표'!$A10) -> 600000 | E10: =SUMIFS('2추일출'!M$6:M$294,'2추일출'!$A$6:$A$294,'2추총괄표'!$A10)+SUMIFS('2추특출'!M$6:M$100,'2추특출'!$A$6:$A$100,'2추총괄표'!$A10) -> -1420000 | F10: =SUMIFS('2추일출'!N$6:N$294,'2추일출'!$A$6:$A$294,'2추총괄표'!$A10)+SUMIFS('2추특출'!N$6:N$100,'2추특출'!$A$6:$A$100,'2추총괄표'!$A10) -> 3100000 | G10: =B10+E10+F10 -> 586996491
A11: 안전행정위원회 | B11: =B34 -> 1455931660 | C11: =SUMIFS('2추일입'!$M$6:$M$60,'2추일입'!$A$6:$A$60,'2추총괄표'!$A11)+SUMIFS('2추특입'!$M$6:$M$100,'2추특입'!$A$6:$A$100,'2추총괄표'!$A11) -> 0 | D11: =SUMIFS('2추일입'!$N$6:$N$60,'2추일입'!$A$6:$A$60,'2추총괄표'!$A11)+SUMIFS('2추특입'!$N$6:$N$100,'2추특입'!$A$6:$A$100,'2추총괄표'!$A11) -> 0 | E11: =SUMIFS('2추일출'!M$6:M$294,'2추일출'!$A$6:$A$294,'2추총괄표'!$A11)+SUMIFS('2추특출'!M$6:M$100,'2추특출'!$A$6:$A$100,'2추총괄표'!$A11) -> -340000 | F11: =SUMIFS('2추일출'!N$6:N$294,'2추일출'!$A$6:$A$294,'2추총괄표'!$A11)+SUMIFS('2추특출'!N$6:N$100,'2추특출'!$A$6:$A$100,'2추총괄표'!$A11) -> 4419000 | G11: =B11+E11+F11 -> 1460010660
A12: 문화체육관광위원회 | B12: =B35 -> 387718085 | C12: =SUMIFS('2추일입'!$M$6:$M$60,'2추일입'!$A$6:$A$60,'2추총괄표'!$A12)+SUMIFS('2추특입'!$M$6:$M$100,'2추특입'!$A$6:$A$100,'2추총괄표'!$A12) -> 0 | D12: =SUMIFS('2추일입'!$N$6:$N$60,'2추일입'!$A$6:$A$60,'2추총괄표'!$A12)+SUMIFS('2추특입'!$N$6:$N$100,'2추특입'!$A$6:$A$100,'2추총괄표'!$A12) -> 3925000 | E12: =SUMIFS('2추일출'!M$6:M$294,'2추일출'!$A$6:$A$294,'2추총괄표'!$A12)+SUMIFS('2추특출'!M$6:M$100,'2추특출'!$A$6:$A$100,'2추총괄표'!$A12) -> -3280000 | F12: =SUMIFS('2추일출'!N$6:N$294,'2추일출'!$A$6:$A$294,'2추총괄표'!$A12)+SUMIFS('2추특출'!N$6:N$100,'2추특출'!$A$6:$A$100,'2추총괄표'!$A12) -> 8895000 | G12: =B12+E12+F12 -> 393333085
A13: 농정해양위원회 | B13: =B36 -> 517279817 | C13: =SUMIFS('2추일입'!$M$6:$M$60,'2추일입'!$A$6:$A$60,'2추총괄표'!$A13)+SUMIFS('2추특입'!$M$6:$M$100,'2추특입'!$A$6:$A$100,'2추총괄표'!$A13) -> -3152 | D13: =SUMIFS('2추일입'!$N$6:$N$60,'2추일입'!$A$6:$A$60,'2추총괄표'!$A13)+SUMIFS('2추특입'!$N$6:$N$100,'2추특입'!$A$6:$A$100,'2추총괄표'!$A13) -> 6314400 | E13: =SUMIFS('2추일출'!M$6:M$294,'2추일출'!$A$6:$A$294,'2추총괄표'!$A13)+SUMIFS('2추특출'!M$6:M$100,'2추특출'!$A$6:$A$100,'2추총괄표'!$A13) -> -815219 | F13: =SUMIFS('2추일출'!N$6:N$294,'2추일출'!$A$6:$A$294,'2추총괄표'!$A13)+SUMIFS('2추특출'!N$6:N$100,'2추특출'!$A$6:$A$100,'2추총괄표'!$A13) -> 10344710 | G13: =B13+E13+F13 -> 526809308
A14: 보건복지위원회 | B14: =B37 -> 3790839170 | C14: =SUMIFS('2추일입'!$M$6:$M$60,'2추일입'!$A$6:$A$60,'2추총괄표'!$A14)+SUMIFS('2추특입'!$M$6:$M$100,'2추특입'!$A$6:$A$100,'2추총괄표'!$A14) -> -4797190 | D14: =SUMIFS('2추일입'!$N$6:$N$60,'2추일입'!$A$6:$A$60,'2추총괄표'!$A14)+SUMIFS('2추특입'!$N$6:$N$100,'2추특입'!$A$6:$A$100,'2추총괄표'!$A14) -> 3247216 | E14: =SUMIFS('2추일출'!M$6:M$294,'2추일출'!$A$6:$A$294,'2추총괄표'!$A14)+SUMIFS('2추특출'!M$6:M$100,'2추특출'!$A$6:$A$100,'2추총괄표'!$A14) -> -7066850 | F14: =SUMIFS('2추일출'!N$6:N$294,'2추일출'!$A$6:$A$294,'2추총괄표'!$A14)+SUMIFS('2추특출'!N$6:N$100,'2추특출'!$A$6:$A$100,'2추총괄표'!$A14) -> 7340592 | G14: =B14+E14+F14 -> 3791112912
A15: 건설교통위원회 | B15: =B38 -> 1656739971 | C15: =SUMIFS('2추일입'!$M$6:$M$60,'2추일입'!$A$6:$A$60,'2추총괄표'!$A15)+SUMIFS('2추특입'!$M$6:$M$100,'2추특입'!$A$6:$A$100,'2추총괄표'!$A15) -> 0 | D15: =SUMIFS('2추일입'!$N$6:$N$60,'2추일입'!$A$6:$A$60,'2추총괄표'!$A15)+SUMIFS('2추특입'!$N$6:$N$100,'2추특입'!$A$6:$A$100,'2추총괄표'!$A15) -> 0 | E15: =SUMIFS('2추일출'!M$6:M$294,'2추일출'!$A$6:$A$294,'2추총괄표'!$A15)+SUMIFS('2추특출'!M$6:M$100,'2추특출'!$A$6:$A$100,'2추총괄표'!$A15) -> -17900000 | F15: =SUMIFS('2추일출'!N$6:N$294,'2추일출'!$A$6:$A$294,'2추총괄표'!$A15)+SUMIFS('2추특출'!N$6:N$100,'2추특출'!$A$6:$A$100,'2추총괄표'!$A15) -> 13490000 | G15: =B15+E15+F15 -> 1652329971
A16: 도시환경위원회 | B16: =B39 -> 1141757097 | C16: =SUMIFS('2추일입'!$M$6:$M$60,'2추일입'!$A$6:$A$60,'2추총괄표'!$A16)+SUMIFS('2추특입'!$M$6:$M$100,'2추특입'!$A$6:$A$100,'2추총괄표'!$A16) -> -6902000 | D16: =SUMIFS('2추일입'!$N$6:$N$60,'2추일입'!$A$6:$A$60,'2추총괄표'!$A16)+SUMIFS('2추특입'!$N$6:$N$100,'2추특입'!$A$6:$A$100,'2추총괄표'!$A16) -> 16673000 | E16: =SUMIFS('2추일출'!M$6:M$294,'2추일출'!$A$6:$A$294,'2추총괄표'!$A16)+SUMIFS('2추특출'!M$6:M$100,'2추특출'!$A$6:$A$100,'2추총괄표'!$A16) -> -9705000 | F16: =SUMIFS('2추일출'!N$6:N$294,'2추일출'!$A$6:$A$294,'2추총괄표'!$A16)+SUMIFS('2추특출'!N$6:N$100,'2추특출'!$A$6:$A$100,'2추총괄표'!$A16) -> 24295392 | G16: =B16+E16+F16 -> 1156347489
A17: 여성가족교육협력위원회 | B17: =B40 -> 5171216604 | C17: =SUMIFS('2추일입'!$M$6:$M$60,'2추일입'!$A$6:$A$60,'2추총괄표'!$A17)+SUMIFS('2추특입'!$M$6:$M$100,'2추특입'!$A$6:$A$100,'2추총괄표'!$A17) -> -154828 | D17: =SUMIFS('2추일입'!$N$6:$N$60,'2추일입'!$A$6:$A$60,'2추총괄표'!$A17)+SUMIFS('2추특입'!$N$6:$N$100,'2추특입'!$A$6:$A$100,'2추총괄표'!$A17) -> 922431 | E17: =SUMIFS('2추일출'!M$6:M$294,'2추일출'!$A$6:$A$294,'2추총괄표'!$A17)+SUMIFS('2추특출'!M$6:M$100,'2추특출'!$A$6:$A$100,'2추총괄표'!$A17) -> -1205202 | F17: =SUMIFS('2추일출'!N$6:N$294,'2추일출'!$A$6:$A$294,'2추총괄표'!$A17)+SUMIFS('2추특출'!N$6:N$100,'2추특출'!$A$6:$A$100,'2추총괄표'!$A17) -> 7422865 | G17: =B17+E17+F17 -> 5177434267
A19: □ 회계별 예산 총 규모
G20: (단위 : 천원)
A21: 구 분 | B21: 집행부제출(안) | C21: 세입예산(안) | E21: 세출예산(안) | G21: 수정예산(안)
C22: 감 액 | D22: 증 액 | E22: 감 액 | F22: 증 액
A23: 합 계 | B23: =SUM(B24:B25) -> 21325237843 | C23: =SUM(C24:C25) -> -11857170 | D23: =SUM(D24:D25) -> 31682047 | E23: =SUM(E24:E25) -> -74752271 | F23: =SUM(F24:F25) -> 94577148 | G23: =SUM(G24:G25) -> 21345062720
A24: 일반회계 | B24: =SUM(D30) -> 17312490734 | C24: ='2추일입'!M6 -> -11857170 | D24: ='2추일입'!N6 -> 31682047 | E24: ='2추일출'!M6 -> -74682271 | F24: ='2추일출'!N6 -> 94507148 | G24: =B24+E24+F24 -> 17332315611
A25: 특별회계 | B25: =SUM(E30+F30) -> 4012747109 | C25: ='2추특입'!M6 -> 0 | D25: ='2추특입'!N6 -> 0 | E25: ='2추특출'!M6 -> -70000 | F25: ='2추특출'!N6 -> 70000 | G25: =B25+E25+F25 -> 4012747109
A28: ※ 회계별, 위원회별 집행부제출안
A29: 위원회명 | B29: 합계 | C29: 일반+기타 | D29: 일반회계 | E29: 기타특별회계 | F29: 공기업특별회계
A30: 합계 | B30: =SUM(B31:B40) -> 21325237843 | C30: =SUM(C31:C40) -> 18609741142 | D30: =SUM(D31:D40) -> 17312490734 | E30: =SUM(E31:E40) -> 1297250408 | F30: =SUM(F31:F40) -> 2715496701
A31: 의회운영위원회 | B31: =SUM(D31+E31+F31) -> 52731770 | C31: =SUM(D31:E31) -> 52731770 | D31: 52731770
A32: 기획재정위원회 | B32: =SUM(D32+E32+F32) -> 6565707178 | C32: =SUM(D32:E32) -> 4269232523 | D32: 4244504923 | E32: 24727600 | F32: 2296474655
A33: 경제과학기술위원회 | B33: =SUM(D33+E33+F33) -> 585316491 | C33: =SUM(D33:E33) -> 284598678 | D33: 284598678 | F33: 300717813
A34: 안전행정위원회 | B34: =SUM(D34+E34+F34) -> 1455931660 | C34: =SUM(D34:E34) -> 1455931660 | D34: 1455931660
A35: 문화체육관광위원회 | B35: =SUM(D35+E35+F35) -> 387718085 | C35: =SUM(D35:E35) -> 302413852 | D35: 302413852 | F35: 85304233
A36: 농정해양위원회 | B36: =SUM(D36+E36+F36) -> 517279817 | C36: =SUM(D36:E36) -> 517279817 | D36: 517279817
A37: 보건복지위원회 | B37: =SUM(D37+E37+F37) -> 3790839170 | C37: =SUM(D37:E37) -> 3790839170 | D37: 2897988328 | E37: 892850842
A38: 건설교통위원회 | B38: =SUM(D38+E38+F38) -> 1656739971 | C38: =SUM(D38:E38) -> 1656739971 | D38: 1517945766 | E38: 138794205
A39: 도시환경위원회 | B39: =SUM(D39+E39+F39) -> 1141757097 | C39: =SUM(D39:E39) -> 1108757097 | D39: 1089770368 | E39: 18986729 | F39: 33000000
A40: 여상가족교육협력위원회 | B40: =SUM(D40+E40+F40) -> 5171216604 | C40: =SUM(D40:E40) -> 5171216604 | D40: 4949325572 | E40: 221891032
A42: 예비비

Sheet 2추총괄표(실국)
A1: 2015년도 제2회 추경 일반 및 특별회계 세입·세출 예산안(전체예산총괄)
A2: □ 총괄(실국별)
D3: =SUM(C6:D6) -> 19824877 | F3: =SUM(E6:F6) -> 19824877 | G3: (단위 : 천원) | I3: (일반회계) | P3: (특별회계)
A4: 구 분 | B4: 집행부제출(안) | C4: 세입예산(안) | E4: 세출예산(안) | G4: 수정예산(안) | I4: 집행부제출(안) | J4: 세입예산(안) | L4: 세출예산(안) | N4: 수정예산(안) | P4: 집행부제출(안) | Q4: 세입예산(안) | S4: 세출예산(안) | U4: 수정예산(안)
C5: 감 액 | D5: 증 액 | E5: 감 액 | F5: 증 액 | J5: 감 액 | K5: 증 액 | L5: 감 액 | M5: 증 액 | Q5: 감 액 | R5: 증 액 | S5: 감 액 | T5: 증 액
A6: 합계 | B6: =SUM(B7:B36) -> 0 | C6: =SUM(C7:C36) -> -11857170 | D6: =SUM(D7:D36) -> 31682047 | E6: =SUM(E7:E36) -> -74752271 | F6: =SUM(F7:F36) -> 94577148 | G6: =SUM(G7:G36) -> 19824877 | I6: =SUM(I7:I36) -> 0 | J6: =SUM(J7:J36) -> -11857170 | K6: =SUM(K7:K36) -> 31682047 | L6: =SUM(L7:L36) -> -74682271 | M6: =SUM(M7:M36) -> 94507148 | N6: =SUM(N7:N36) -> 19824877 | P6: =SUM(P7:P36) -> 0 | Q6: =SUM(Q7:Q36) -> 0 | R6: =SUM(R7:R36) -> 0 | S6: =SUM(S7:S36) -> -70000 | T6: =SUM(T7:T36) -> 70000 | U6: =SUM(U7:U36) -> 0
A7: 감사관 | B7: =I7+P7 -> 0 | C7: =J7+Q7 -> 0 | D7: =K7+R7 -> 0 | E7: =L7+S7 -> 0 | F7: =M7+T7 -> 0 | G7: =B7+E7+F7 -> 0 | I7: =D48 -> 0 | J7: =SUMIFS('2추일입'!M$6:M$60,'2추일입'!$B$6:$B$60,'2추총괄표(실국)'!$A7) -> 0 | K7: =SUMIFS('2추일입'!N$6:N$60,'2추일입'!$B$6:$B$60,'2추총괄표(실국)'!$A7) -> 0 | L7: =SUMIFS('2추일출'!M$6:M$294,'2추일출'!$B$6:$B$294,'2추총괄표(실국)'!$A7) -> 0 | M7: =SUMIFS('2추일출'!N$6:N$294,'2추일출'!$B$6:$B$294,'2추총괄표(실국)'!$A7) -> 0 | N7: =I7+L7+M7 -> 0 | P7: =E48 -> 0 | Q7: =SUMIFS('2추특입'!M$6:M$50,'2추특입'!$B$6:$B$50,'2추총괄표(실국)'!$A7) -> 0 | R7: =SUMIFS('2추특입'!N$6:N$50,'2추특입'!$B$6:$B$50,'2추총괄표(실국)'!$A7) -> 0 | S7: =SUMIFS('2추특출'!M$6:M$40,'2추특출'!$B$6:$B$40,'2추총괄표(실국)'!$A7) -> 0 | T7: =SUMIFS('2추특출'!N$6:N$40,'2추특출'!$B$6:$B$40,'2추총괄표(실국)'!$A7) -> 0 | U7: =P7+S7+T7 -> 0
A8: 기획조정실 | B8: =I8+P8 -> 0 | C8: =J8+Q8 -> 0 | D8: =K8+R8 -> 0 | E8: =L8+S8 -> -30255000 | F8: =M8+T8 -> 13399889 | G8: =B8+E8+F8 -> -16855111 | I8: =D49 -> 0 | J8: =SUMIFS('2추일입'!M$6:M$60,'2추일입'!$B$6:$B$60,'2추총괄표(실국)'!$A8) -> 0 | K8: =SUMIFS('2추일입'!N$6:N$60,'2추일입'!$B$6:$B$60,'2추총괄표(실국)'!$A8) -> 0 | L8: =SUMIFS('2추일출'!M$6:M$294,'2추일출'!$B$6:$B$294,'2추총괄표(실국)'!$A8) -> -30255000 | M8: =SUMIFS('2추일출'!N$6:N$294,'2추일출'!$B$6:$B$294,'2추총괄표(실국)'!$A8) -> 13399889 | N8: =I8+L8+M8 -> -16855111 | P8: =E49 -> 0 | Q8: =SUMIFS('2추특입'!M$6:M$50,'2추특입'!$B$6:$B$50,'2추총괄표(실국)'!$A8) -> 0 | R8: =SUMIFS('2추특입'!N$6:N$50,'2추특입'!$B$6:$B$50,'2추총괄표(실국)'!$A8) -> 0 | S8: =SUMIFS('2추특출'!M$6:M$40,'2추특출'!$B$6:$B$40,'2추총괄표(실국)'!$A8) -> 0 | T8: =SUMIFS('2추특출'!N$6:N$40,'2추특출'!$B$6:$B$40,'2추총괄표(실국)'!$A8) -> 0 | U8: =P8+S8+T8 -> 0
A9: 도시주택실 | B9: =I9+P9 -> 0 | C9: =J9+Q9 -> 0 | D9: =K9+R9 -> 0 | E9: =L9+S9 -> 0 | F9: =M9+T9 -> 200000 | G9: =B9+E9+F9 -> 200000 | I9: =D50 -> 0 | J9: =SUMIFS('2추일입'!M$6:M$60,'2추일입'!$B$6:$B$60,'2추총괄표(실국)'!$A9) -> 0 | K9: =SUMIFS('2추일입'!N$6:N$60,'2추일입'!$B$6:$B$60,'2추총괄표(실국)'!$A9) -> 0 | L9: =SUMIFS('2추일출'!M$6:M$294,'2추일출'!$B$6:$B$294,'2추총괄표(실국)'!$A9) -> 0 | M9: =SUMIFS('2추일출'!N$6:N$294,'2추일출'!$B$6:$B$294,'2추총괄표(실국)'!$A9) -> 200000 | N9: =I9+L9+M9 -> 200000 | P9: =E50 -> 0 | Q9: =SUMIFS('2추특입'!M$6:M$50,'2추특입'!$B$6:$B$50,'2추총괄표(실국)'!$A9) -> 0 | R9: =SUMIFS('2추특입'!N$6:N$50,'2추특입'!$B$6:$B$50,'2추총괄표(실국)'!$A9) -> 0 | S9: =SUMIFS('2추특출'!M$6:M$40,'2추특출'!$B$6:$B$40,'2추총괄표(실국)'!$A9) -> 0 | T9: =SUMIFS('2추특출'!N$6:N$40,'2추특출'!$B$6:$B$40,'2추총괄표(실국)'!$A9) -> 0 | U9: =P9+S9+T9 -> 0
A10: 자치행정국 | B10: =I10+P10 -> 0 | C10: =J10+Q10 -> 0 | D10: =K10+R10 -> 0 | E10: =L10+S10 -> -340000 | F10: =M10+T10 -> 40000 | G10: =B10+E10+F10 -> -300000 | I10: =D51 -> 0 | J10: =SUMIFS('2추일입'!M$6:M$60,'2추일입'!$B$6:$B$60,'2추총괄표(실국)'!$A10) -> 0 | K10: =SUMIFS('2추일입'!N$6:N$60,'2추일입'!$B$6:$B$60,'2추총괄표(실국)'!$A10) -> 0 | L10: =SUMIFS('2추일출'!M$6:M$294,'2추일출'!$B$6:$B$294,'2추총괄표(실국)'!$A10) -> -340000 | M10: =SUMIFS('2추일출'!N$6:N$294,'2추일출'!$B$6:$B$294,'2추총괄표(실국)'!$A10) -> 40000 | N10: =I10+L10+M10 -> -300000 | P10: =E51 -> 0 | Q10: =SUMIFS('2추특입'!M$6:M$50,'2추특입'!$B$6:$B$50,'2추총괄표(실국)'!$A10) -> 0 | R10: =SUMIFS('2추특입'!N$6:N$50,'2추특입'!$B$6:$B$50,'2추총괄표(실국)'!$A10) -> 0 | S10: =SUMIFS('2추특출'!M$6:M$40,'2추특출'!$B$6:$B$40,'2추총괄표(실국)'!$A10) -> 0 | T10: =SUMIFS('2추특출'!N$6:N$40,'2추특출'!$B$6:$B$40,'2추총괄표(실국)'!$A10) -> 0 | U10: =P10+S10+T10 -> 0
A11: 교육협력국 | B11: =I11+P11 -> 0 | C11: =J11+Q11 -> 0 | D11: =K11+R11 -> 0 | E11: =L11+S11 -> -250000 | F11: =M11+T11 -> 4126020 | G11: =B11+E11+F11 -> 3876020 | I11: =D52 -> 0 | J11: =SUMIFS('2추일입'!M$6:M$60,'2추일입'!$B$6:$B$60,'2추총괄표(실국)'!$A11) -> 0 | K11: =SUMIFS('2추일입'!N$6:N$60,'2추일입'!$B$6:$B$60,'2추총괄표(실국)'!$A11) -> 0 | L11: =SUMIFS('2추일출'!M$6:M$294,'2추일출'!$B$6:$B$294,'2추총괄표(실국)'!$A11) -> -250000 | M11: =SUMIFS('2추일출'!N$6:N$294,'2추일출'!$B$6:$B$294,'2추총괄표(실국)'!$A11) -> 4126020 | N11: =I11+L11+M11 -> 3876020 | P11: =E52 -> 0 | Q11: =SUMIFS('2추특입'!M$6:M$50,'2추특입'!$B$6:$B$50,'2추총괄표(실국)'!$A11) -> 0 | R11: =SUMIFS('2추특입'!N$6:N$50,'2추특입'!$B$6:$B$50,'2추총괄표(실국)'!$A11) -> 0 | S11: =SUMIFS('2추특출'!M$6:M$40,'2추특출'!$B$6:$B$40,'2추총괄표(실국)'!$A11) -> 0 | T11: =SUMIFS('2추특출'!N$6:N$40,'2추특출'!$B$6:$B$40,'2추총괄표(실국)'!$A11) -> 0 | U11: =P11+S11+T11 -> 0
A12: 문화체육관광국 | B12: =I12+P12 -> 0 | C12: =J12+Q12 -> 0 | D12: =K12+R12 -> 3925000 | E12: =L12+S12 -> -3280000 | F12: =M12+T12 -> 8895000 | G12: =B12+E12+F12 -> 5615000 | I12: =D53 -> 0 | J12: =SUMIFS('2추일입'!M$6:M$60,'2추일입'!$B$6:$B$60,'2추총괄표(실국)'!$A12) -> 0 | K12: =SUMIFS('2추일입'!N$6:N$60,'2추일입'!$B$6:$B$60,'2추총괄표(실국)'!$A12) -> 3925000 | L12: =SUMIFS('2추일출'!M$6:M$294,'2추일출'!$B$6:$B$294,'2추총괄표(실국)'!$A12) -> -3280000 | M12: =SUMIFS('2추일출'!N$6:N$294,'2추일출'!$B$6:$B$294,'2추총괄표(실국)'!$A12) -> 8895000 | N12: =I12+L12+M12 -> 5615000 | P12: =E53 -> 0 | Q12: =SUMIFS('2추특입'!M$6:M$50,'2추특입'!$B$6:$B$50,'2추총괄표(실국)'!$A12) -> 0 | R12: =SUMIFS('2추특입'!N$6:N$50,'2추특입'!$B$6:$B$50,'2추총괄표(실국)'!$A12) -> 0 | S12: =SUMIFS('2추특출'!M$6:M$40,'2추특출'!$B$6:$B$40,'2추총괄표(실국)'!$A12) -> 0 | T12: =SUMIFS('2추특출'!N$6:N$40,'2추특출'!$B$6:$B$40,'2추총괄표(실국)'!$A12) -> 0 | U12: =P12+S12+T12 -> 0
A13: 농정해양국 | B13: =I13+P13 -> 0 | C13: =J13+Q13 -> 0 | D13: =K13+R13 -> 5758000 | E13: =L13+S13 -> -100000 | F13: =M13+T13 -> 7968000 | G13: =B13+E13+F13 -> 7868000 | I13: =D54 -> 0 | J13: =SUMIFS('2추일입'!M$6:M$60,'2추일입'!$B$6:$B$60,'2추총괄표(실국)'!$A13) -> 0 | K13: =SUMIFS('2추일입'!N$6:N$60,'2추일입'!$B$6:$B$60,'2추총괄표(실국)'!$A13) -> 5758000 | L13: =SUMIFS('2추일출'!M$6:M$294,'2추일출'!$B$6:$B$294,'2추총괄표(실국)'!$A13) -> -100000 | M13: =SUMIFS('2추일출'!N$6:N$294,'2추일출'!$B$6:$B$294,'2추총괄표(실국)'!$A13) -> 7968000 | N13: =I13+L13+M13 -> 7868000 | P13: =E54 -> 0 | Q13: =SUMIFS('2추특입'!M$6:M$50,'2추특입'!$B$6:$B$50,'2추총괄표(실국)'!$A13) -> 0 | R13: =SUMIFS('2추특입'!N$6:N$50,'2추특입'!$B$6:$B$50,'2추총괄표(실국)'!$A13) -> 0 | S13: =SUMIFS('2추특출'!M$6:M$40,'2추특출'!$B$6:$B$40,'2추총괄표(실국)'!$A13) -> 0 | T13: =SUMIFS('2추특출'!N$6:N$40,'2추특출'!$B$6:$B$40,'2추총괄표(실국)'!$A13) -> 0 | U13: =P13+S13+T13 -> 0
A14: 철도국 | B14: =I14+P14 -> 0 | C14: =J14+Q14 -> 0 | D14: =K14+R14 -> 0 | E14: =L14+S14 -> 0 | F14: =M14+T14 -> 490000 | G14: =B14+E14+F14 -> 490000 | I14: =D55 -> 0 | J14: =SUMIFS('2추일입'!M$6:M$60,'2추일입'!$B$6:$B$60,'2추총괄표(실국)'!$A14) -> 0 | K14: =SUMIFS('2추일입'!N$6:N$60,'2추일입'!$B$6:$B$60,'2추총괄표(실국)'!$A14) -> 0 | L14: =SUMIFS('2추일출'!M$6:M$294,'2추일출'!$B$6:$B$294,'2추총괄표(실국)'!$A14) -> 0 | M14: =SUMIFS('2추일출'!N$6:N$294,'2추일출'!$B$6:$B$294,'2추총괄표(실국)'!$A14) -> 490000 | N14: =I14+L14+M14 -> 490000 | P14: =E55 -> 0 | Q14: =SUMIFS('2추특입'!M$6:M$50,'2추특입'!$B$6:$B$50,'2추총괄표(실국)'!$A14) -> 0 | R14: =SUMIFS('2추특입'!N$6:N$50,'2추특입'!$B$6:$B$50,'2추총괄표(실국)'!$A14) -> 0 | S14: =SUMIFS('2추특출'!M$6:M$40,'2추특출'!$B$6:$B$40,'2추총괄표(실국)'!$A14) -> 0 | T14: =SUMIFS('2추특출'!N$6:N$40,'2추특출'!$B$6:$B$40,'2추총괄표(실국)'!$A14) -> 0 | U14: =P14+S14+T14 -> 0
A15: 연정협력관 | B15: =I15+P15 -> 0 | C15: =J15+Q15 -> 0 | D15: =K15+R15 -> 0 | E15: =L15+S15 -> 0 | F15: =M15+T15 -> 0 | G15: =B15+E15+F15 -> 0 | I15: =D56 -> 0 | J15: =SUMIFS('2추일입'!M$6:M$60,'2추일입'!$B$6:$B$60,'2추총괄표(실국)'!$A15) -> 0 | K15: =SUMIFS('2추일입'!N$6:N$60,'2추일입'!$B$6:$B$60,'2추총괄표(실국)'!$A15) -> 0 | L15: =SUMIFS('2추일출'!M$6:M$294,'2추일출'!$B$6:$B$294,'2추총괄표(실국)'!$A15) -> 0 | M15: =SUMIFS('2추일출'!N$6:N$294,'2추일출'!$B$6:$B$294,'2추총괄표(실국)'!$A15) -> 0 | N15: =I15+L15+M15 -> 0 | P15: =E56 -> 0 | Q15: =SUMIFS('2추특입'!M$6:M$50,'2추특입'!$B$6:$B$50,'2추총괄표(실국)'!$A15) -> 0 | R15: =SUMIFS('2추특입'!N$6:N$50,'2추특입'!$B$6:$B$50,'2추총괄표(실국)'!$A15) -> 0 | S15: =SUMIFS('2추특출'!M$6:M$40,'2추특출'!$B$6:$B$40,'2추총괄표(실국)'!$A15) -> 0 | T15: =SUMIFS('2추특출'!N$6:N$40,'2추특출'!$B$6:$B$40,'2추총괄표(실국)'!$A15) -> 0 | U15: =P15+S15+T15 -> 0
A16: 대외협력담당관 | B16: =I16+P16 -> 0 | C16: =J16+Q16 -> 0 | D16: =K16+R16 -> 0 | E16: =L16+S16 -> 0 | F16: =M16+T16 -> 0 | G16: =B16+E16+F16 -> 0 | I16: =D57 -> 0 | J16: =SUMIFS('2추일입'!M$6:M$60,'2추일입'!$B$6:$B$60,'2추총괄표(실국)'!$A16) -> 0 | K16: =SUMIFS('2추일입'!N$6:N$60,'2추일입'!$B$6:$B$60,'2추총괄표(실국)'!$A16) -> 0 | L16: =SUMIFS('2추일출'!M$6:M$294,'2추일출'!$B$6:$B$294,'2추총괄표(실국)'!$A16) -> 0 | M16: =SUMIFS('2추일출'!N$6:N$294,'2추일출'!$B$6:$B$294,'2추총괄표(실국)'!$A16) -> 0 | N16: =I16+L16+M16 -> 0 | P16: =E57 -> 0 | Q16: =SUMIFS('2추특입'!M$6:M$50,'2추특입'!$B$6:$B$50,'2추총괄표(실국)'!$A16) -> 0 | R16: =SUMIFS('2추특입'!N$6:N$50,'2추특입'!$B$6:$B$50,'2추총괄표(실국)'!$A16) -> 0 | S16: =SUMIFS('2추특출'!M$6:M$40,'2추특출'!$B$6:$B$40,'2추총괄표(실국)'!$A16) -> 0 | T16: =SUMIFS('2추특출'!N$6:N$40,'2추특출'!$B$6:$B$40,'2추총괄표(실국)'!$A16) -> 0 | U16: =P16+S16+T16 -> 0
A17: 보건복지국 | B17: =I17+P17 -> 0 | C17: =J17+Q17 -> -4797190 | D17: =K17+R17 -> 3247216 | E17: =L17+S17 -> -6781901 | F17: =M17+T17 -> 4567754 | G17: =B17+E17+F17 -> -2214147 | I17: =D58 -> 0 | J17: =SUMIFS('2추일입'!M$6:M$60,'2추일입'!$B$6:$B$60,'2추총괄표(실국)'!$A17) -> -4797190 | K17: =SUMIFS('2추일입'!N$6:N$60,'2추일입'!$B$6:$B$60,'2추총괄표(실국)'!$A17) -> 3247216 | L17: =SUMIFS('2추일출'!M$6:M$294,'2추일출'!$B$6:$B$294,'2추총괄표(실국)'!$A17) -> -6781901 | M17: =SUMIFS('2추일출'!N$6:N$294,'2추일출'!$B$6:$B$294,'2추총괄표(실국)'!$A17) -> 4567754 | N17: =I17+L17+M17 -> -2214147 | P17: =E58 -> 0 | Q17: =SUMIFS('2추특입'!M$6:M$50,'2추특입'!$B$6:$B$50,'2추총괄표(실국)'!$A17) -> 0 | R17: =SUMIFS('2추특입'!N$6:N$50,'2추특입'!$B$6:$B$50,'2추총괄표(실국)'!$A17) -> 0 | S17: =SUMIFS('2추특출'!M$6:M$40,'2추특출'!$B$6:$B$40,'2추총괄표(실국)'!$A17) -> 0 | T17: =SUMIFS('2추특출'!N$6:N$40,'2추특출'!$B$6:$B$40,'2추총괄표(실국)'!$A17) -> 0 | U17: =P17+S17+T17 -> 0
A18: 환경국 | B18: =I18+P18 -> 0 | C18: =J18+Q18 -> 0 | D18: =K18+R18 -> 110000 | E18: =L18+S18 -> 0 | F18: =M18+T18 -> 266600 | G18: =B18+E18+F18 -> 266600 | I18: =D59 -> 0 | J18: =SUMIFS('2추일입'!M$6:M$60,'2추일입'!$B$6:$B$60,'2추총괄표(실국)'!$A18) -> 0 | K18: =SUMIFS('2추일입'!N$6:N$60,'2추일입'!$B$6:$B$60,'2추총괄표(실국)'!$A18) -> 110000 | L18: =SUMIFS('2추일출'!M$6:M$294,'2추일출'!$B$6:$B$294,'2추총괄표(실국)'!$A18) -> 0 | M18: =SUMIFS('2추일출'!N$6:N$294,'2추일출'!$B$6:$B$294,'2추총괄표(실국)'!$A18) -> 266600 | N18: =I18+L18+M18 -> 266600 | P18: =E59 -> 0 | Q18: =SUMIFS('2추특입'!M$6:M$50,'2추특입'!$B$6:$B$50,'2추총괄표(실국)'!$A18) -> 0 | R18: =SUMIFS('2추특입'!N$6:N$50,'2추특입'!$B$6:$B$50,'2추총괄표(실국)'!$A18) -> 0 | S18: =SUMIFS('2추특출'!M$6:M$40,'2추특출'!$B$6:$B$40,'2추총괄표(실국)'!$A18) -> 0 | T18: =SUMIFS('2추특출'!N$6:N$40,'2추특출'!$B$6:$B$40,'2추총괄표(실국)'!$A18) -> 0 | U18: =P18+S18+T18 -> 0
... A36: 건설본부 | B36: =I36+P36 -> 0 | C36: =J36+Q36 -> 0 | D36: =K36+R36 -> 0 | E36: =L36+S36 -> 0 | F36: =M36+T36 -> 800000 | G36: =B36+E36+F36 -> 800000 | I36: =D77 -> 0 | J36: =SUMIFS('2추일입'!M$6:M$60,'2추일입'!$B$6:$B$60,'2추총괄표(실국)'!$A36) -> 0 | K36: =SUMIFS('2추일입'!N$6:N$60,'2추일입'!$B$6:$B$60,'2추총괄표(실국)'!$A36) -> 0 | L36: =SUMIFS('2추일출'!M$6:M$294,'2추일출'!$B$6:$B$294,'2추총괄표(실국)'!$A36) -> 0 | M36: =SUMIFS('2추일출'!N$6:N$294,'2추일출'!$B$6:$B$294,'2추총괄표(실국)'!$A36) -> 800000 | N36: =I36+L36+M36 -> 800000 | P36: =E77 -> 0 | Q36: =SUMIFS('2추특입'!M$6:M$50,'2추특입'!$B$6:$B$50,'2추총괄표(실국)'!$A36) -> 0 | R36: =SUMIFS('2추특입'!N$6:N$50,'2추특입'!$B$6:$B$50,'2추총괄표(실국)'!$A36) -> 0 | S36: =SUMIFS('2추특출'!M$6:M$40,'2추특출'!$B$6:$B$40,'2추총괄표(실국)'!$A36) -> 0 | T36: =SUMIFS('2추특출'!N$6:N$40,'2추특출'!$B$6:$B$40,'2추총괄표(실국)'!$A36) -> 0 | U36: =P36+S36+T36 -> 0
A39: ※ 예산안 증감현황
A40: 구 분 | B40: 세입 | C40: 세출 | D40: 예비비 | E40: 비고(???)
A41: 합 계 | B41: =SUM(B42:B43) -> 19824877 | C41: =SUM(C42:C43) -> 19824877 | D41: =B41-C41 -> 0
A42: 일반회계 | B42: =SUM(J6:K6) -> 19824877 | C42: =SUM(L6:M6) -> 19824877 | D42: =B42-C42 -> 0 | E42: 예비비 증감 - 감액, + 증액에 입력
A43: 특별회계 | B43: =SUM(Q6:R6) -> 0 | C43: =SUM(S6:T6) -> 0 | D43: =B43-C43 -> 0
A45: ※ 집행부제출안
A46: 구분 | B46: 합계 | C46: 일반+기타 | D46: 일반회계 | E46: 기타특별회계 | F46: 공기업특별회계
A47: 합계 | B47: =SUM(C47:F47) -> 0 | C47: =SUM(C48:C77) -> 0 | D47: =SUM(D48:D77) -> 0 | E47: =SUM(E48:E77) -> 0 | F47: =SUM(F48:F77) -> 0
A48: 감사관 | B48: =SUM(D48:F48) -> 0 | C48: =D48+E48 -> 0
A49: 기획조정실 | B49: =SUM(D49:F49) -> 0 | C49: =D49+E49 -> 0
A50: 도시주택실 | B50: =SUM(D50:F50) -> 0 | C50: =D50+E50 -> 0
A51: 자치행정국 | B51: =SUM(D51:F51) -> 0 | C51: =D51+E51 -> 0
A52: 교육협력국 | B52: =SUM(D52:F52) -> 0 | C52: =D52+E52 -> 0
A53: 문화체육관광국 | B53: =SUM(D53:F53) -> 0 | C53: =D53+E53 -> 0
A54: 농정해양국 | B54: =SUM(D54:F54) -> 0 | C54: =D54+E54 -> 0
A55: 철도국 | B55: =SUM(D55:F55) -> 0 | C55: =D55+E55 -> 0
A56: 연정협력관 | B56: =SUM(D56:F56) -> 0 | C56: =D56+E56 -> 0
A57: 대외협력담당관 | B57: =SUM(D57:F57) -> 0 | C57: =D57+E57 -> 0
A58: 보건복지국 | B58: =SUM(D58:F58) -> 0 | C58: =D58+E58 -> 0
A59: 환경국 | B59: =SUM(D59:F59) -> 0 | C59: =D59+E59 -> 0
... A77: 건설본부 | B77: =SUM(D77:F77) -> 0 | C77: =D77+E77 -> 0

Sheet 2추일입
A1: 2015년도 제2회 추경 경기도 일반회계 세입 예산 조정(안) | AA1: =SUMIFS(AA7:AA73,F7:F73,"*잔액*") -> -2993
A2: □ 세입예산 | V2: 세입=세출 | AA2: 세입=세출
J3: =COUNTA(J7:J60) -> 6 | K3: =COUNTA(K7:K60) -> 26 | M3: =COUNTA(M7:M60) -> 9 | N3: =COUNTA(N7:N60) -> 33 | Q3: (단위 : 천원) | V3: =IF(V6='2추일출'!V6,"OK","@@") -> @@ | X3: =IF(COUNTIF(X6:X60,"검토")>0,"@@","OK") -> OK | AA3: =IF((AA6-AA1)='2추일출'!AA6,"OK","@@") -> OK | AC3: =IF(COUNTIF(AC6:AC60,"검토")>0,"@@","OK") -> OK
A4: 위원회명 | B4: 실국명 | C4: 부서명 | D4: 편성 구분 | E4: 예산안 페이지 | F4: 사업명 | G4: 제2회 추경 예산안 (가) | H4: 기정액 (나) | I4: 제2회 추경 증감액 (다=가-나) | J4: 상임위 제2회 추경 예산안 조정액(라) | L4: 상임위 수정 예산안 (마=가or나+라) | M4: 예결위 제2회 추경 예산안 조정액(라) | O4: 예결위 수정 예산안 (마=가or나+라) | P4: 동의 대상 | Q4: 비고 (부대의견) | S4: 국도비 등 여부 | U4: 재원 | V4: 상임위 재원별 증감액 | Z4: 재원 | AA4: 예결위 재원별 증감액 | AE4: 세입번호 | AG4: 실국부서 코드 | AI4: 추가 내시 등 | AK4: 상임위 세입 검증 | AO4: 예결위 세입 검증
J5: 감액 | K5: 증액 | M5: 감액 | N5: 증액 | V5: 국비 등 | W5: 도비 | X5: 검증 | AA5: 국비 등 | AB5: 도비 | AC5: 검증 | AK5: 국비 증감액 | AL5: 건수 | AM5: 검증 | AO5: 국비 증감액 | AP5: 건수 | AQ5: 검증
A6: 합 계 | G6: =SUBTOTAL(9,G7:G60) -> 517643787 | H6: =SUBTOTAL(9,H7:H60) -> 630839567 | I6: =SUBTOTAL(9,I7:I60) -> -113195780 | J6: =SUBTOTAL(9,J7:J60) -> -10349503 | K6: =SUBTOTAL(9,K7:K60) -> 30694580 | L6: =SUBTOTAL(9,L7:L60) -> 660451310 | M6: =SUBTOTAL(9,M7:M60) -> -11857170 | N6: =SUBTOTAL(9,N7:N60) -> 31682047 | O6: =SUBTOTAL(9,O7:O60) -> 659931110 | V6: =SUBTOTAL(9,V7:V60) -> 20345077 | W6: =SUBTOTAL(9,W7:W60) -> 0 | X6: =IF(SUM($J6:$K6)=SUM($V6:$W6),"OK","검토") -> OK | AA6: =SUBTOTAL(9,AA7:AA60) -> 19824877 | AB6: =SUBTOTAL(9,AB7:AB60) -> 0 | AC6: =IF(SUM($J6:$K6)=SUM($V6:$W6),"OK","검토") -> OK | AK6: =SUBTOTAL(9,AK7:AK60) -> 20348091 | AL6: =SUBTOTAL(9,AL7:AL60) -> 60 | AM6: =IF(COUNTIF(AM7:AM60,"@@")>0,"@@","OK") -> @@ | AO6: =SUBTOTAL(9,AO7:AO60) -> 19827870 | AP6: =SUBTOTAL(9,AP7:AP60) -> 60 | AQ6: =IF(COUNTIF(AQ7:AQ60,"@@")>0,"@@","OK") -> @@
A7: =IFERROR(VLOOKUP($C7,구분표!$A$2:$C$300,2,FALSE),"") -> 경제과학기술위원회 | B7: =IFERROR(VLOOKUP($C7,구분표!$A$2:$C$300,3,FALSE),"") -> 경제실 | C7: 에너지과 | D7: 신규 | F7: LPG소형저장탱크 보급사업(국비/지원) | I7: =IF(D7="","",G7-H7) -> 0 | K7: 600000 | L7: =IF(G7=0,H7+J7+K7,G7+J7+K7) -> 600000 | N7: 600000 | O7: =IF(G7=0,H7+M7+N7,G7+M7+N7) -> 600000 | P7: =IF(AND((L7=0),(O7>0)),"O",IF(AND((J7<0),(L7-O7<0)),"O","X")) -> X | Q7: 국비내시 추가 | V7: =IF($U7<>"도비",IF($S7="국도비","직접입력",SUM($J7:$K7)),) -> 600000 | W7: =IF($U7="도비",SUM($J7:$K7),IF($S7="국도비","직접입력",SUM($J7:$K7)-$V7)) -> 0 | X7: =IF(SUM($J7:$K7)=SUM($V7:$W7),"OK","검토") -> OK | AA7: =IF($U7<>"도비",IF($S7="국도비","직접입력",SUM($M7:$N7)),) -> 600000 | AB7: =IF($U7="도비",SUM(M7:N7),IF($S7="국도비","직접입력",SUM(M7:N7)-AA7)) -> 0 | AC7: =IF(SUM(M7:N7)=SUM(AA7:AB7),"OK","검토") -> OK | AE7: =IF(AG7="","",IF(U7="도비","세입없음",CONCATENATE(AG7,"-",COUNTIF($AG$7:AG7,AG7)))) -> 0307-1 | AG7: {=IF(C7="","",INDEX(구분표!$I$2:$I$300, MATCH(1,(구분표!$E$2:$E$300='2추일입'!B7)*(구분표!$F$2:$F$300='2추일입'!C7)*(구분표!$G$2:$G$300='2추일입'!A7),0)))} -> 0307 | AK7: =IF(AE7="",0,SUMIFS('2추일출'!$V$6:$V$294,'2추일출'!$AE$6:$AE$294,'2추일입'!$AE7)) -> 600000 | AL7: =IF(AE7="","",COUNTIFS('2추일출'!$AE$6:$AE$294,'2추일입'!AE7)) -> 1 | AM7: =IF(V7=AK7,"OK","@@") -> OK | AO7: =IF(AE7="",0,SUMIFS('2추일출'!$AA$6:$AA$294,'2추일출'!$AE$6:$AE$294,'2추일입'!$AE7)) -> 600000 | AP7: =IF(AE7="","",COUNTIFS('2추일출'!$AE$6:$AE$294,AE7)) -> 1 | AQ7: =IF(AA7=AO7,"OK","@@") -> OK
A8: =IFERROR(VLOOKUP($C8,구분표!$A$2:$C$300,2,FALSE),"") -> 농정해양위원회 | B8: =IFERROR(VLOOKUP($C8,구분표!$A$2:$C$300,3,FALSE),"") -> 농정해양국 | C8: 친환경농업과 | D8: 신규 | E8: 신규 | F8: 국고보조금등 -한발대비용수개발 | H8: 240000 | I8: =IF(D8="","",G8-H8) -> -240000 | K8: 5752000 | L8: =IF(G8=0,H8+J8+K8,G8+J8+K8) -> 5992000 | N8: 5752000 | O8: =IF(G8=0,H8+M8+N8,G8+M8+N8) -> 5992000 | P8: =IF(AND((L8=0),(O8>0)),"O",IF(AND((J8<0),(L8-O8<0)),"O","X")) -> X | Q8: 국비추가내시 -농림축산식품부 농업기반과-3978(2015.8.28.)호 | V8: =IF($U8<>"도비",IF($S8="국도비","직접입력",SUM($J8:$K8)),) -> 5752000 | W8: =IF($U8="도비",SUM($J8:$K8),IF($S8="국도비","직접입력",SUM($J8:$K8)-$V8)) -> 0 | X8: =IF(SUM($J8:$K8)=SUM($V8:$W8),"OK","검토") -> OK | AA8: =IF($U8<>"도비",IF($S8="국도비","직접입력",SUM($M8:$N8)),) -> 5752000 | AB8: =IF($U8="도비",SUM(M8:N8),IF($S8="국도비","직접입력",SUM(M8:N8)-AA8)) -> 0 | AC8: =IF(SUM(M8:N8)=SUM(AA8:AB8),"OK","검토") -> OK | AE8: =IF(AG8="","",IF(U8="도비","세입없음",CONCATENATE(AG8,"-",COUNTIF($AG$7:AG8,AG8)))) -> 0604-1 | AG8: {=IF(C8="","",INDEX(구분표!$I$2:$I$300, MATCH(1,(구분표!$E$2:$E$300='2추일입'!B8)*(구분표!$F$2:$F$300='2추일입'!C8)*(구분표!$G$2:$G$300='2추일입'!A8),0)))} -> 0604 | AK8: =IF(AE8="",0,SUMIFS('2추일출'!$V$6:$V$294,'2추일출'!$AE$6:$AE$294,'2추일입'!$AE8)) -> 5752000 | AL8: =IF(AE8="","",COUNTIFS('2추일출'!$AE$6:$AE$294,'2추일입'!AE8)) -> 1 | AM8: =IF(V8=AK8,"OK","@@") -> OK | AO8: =IF(AE8="",0,SUMIFS('2추일출'!$AA$6:$AA$294,'2추일출'!$AE$6:$AE$294,'2추일입'!$AE8)) -> 5752000 | AP8: =IF(AE8="","",COUNTIFS('2추일출'!$AE$6:$AE$294,AE8)) -> 1 | AQ8: =IF(AA8=AO8,"OK","@@") -> OK
A9: =IFERROR(VLOOKUP($C9,구분표!$A$2:$C$300,2,FALSE),"") -> 농정해양위원회 | B9: =IFERROR(VLOOKUP($C9,구분표!$A$2:$C$300,3,FALSE),"") -> 농정해양국 | C9: 수산과 | D9: 신규 | E9: 신규 | F9: 국고보조금등 -피해보전직물 및 폐업지원 | I9: =IF(D9="","",G9-H9) -> 0 | K9: 6000 | L9: =IF(G9=0,H9+J9+K9,G9+J9+K9) -> 6000 | N9: 6000 | O9: =IF(G9=0,H9+M9+N9,G9+M9+N9) -> 6000 | P9: =IF(AND((L9=0),(O9>0)),"O",IF(AND((J9<0),(L9-O9<0)),"O","X")) -> X | Q9: 국비추가내시 -해양수산부 수산정책과-3565(2015.9.3.)호 | V9: =IF($U9<>"도비",IF($S9="국도비","직접입력",SUM($J9:$K9)),) -> 6000 | W9: =IF($U9="도비",SUM($J9:$K9),IF($S9="국도비","직접입력",SUM($J9:$K9)-$V9)) -> 0 | X9: =IF(SUM($J9:$K9)=SUM($V9:$W9),"OK","검토") -> OK | AA9: =IF($U9<>"도비",IF($S9="국도비","직접입력",SUM($M9:$N9)),) -> 6000 | AB9: =IF($U9="도비",SUM(M9:N9),IF($S9="국도비","직접입력",SUM(M9:N9)-AA9)) -> 0 | AC9: =IF(SUM(M9:N9)=SUM(AA9:AB9),"OK","검토") -> OK | AE9: =IF(AG9="","",IF(U9="도비","세입없음",CONCATENATE(AG9,"-",COUNTIF($AG$7:AG9,AG9)))) -> 0605-1 | AG9: {=IF(C9="","",INDEX(구분표!$I$2:$I$300, MATCH(1,(구분표!$E$2:$E$300='2추일입'!B9)*(구분표!$F$2:$F$300='2추일입'!C9)*(구분표!$G$2:$G$300='2추일입'!A9),0)))} -> 0605 | AK9: =IF(AE9="",0,SUMIFS('2추일출'!$V$6:$V$294,'2추일출'!$AE$6:$AE$294,'2추일입'!$AE9)) -> 6000 | AL9: =IF(AE9="","",COUNTIFS('2추일출'!$AE$6:$AE$294,'2추일입'!AE9)) -> 1 | AM9: =IF(V9=AK9,"OK","@@") -> OK | AO9: =IF(AE9="",0,SUMIFS('2추일출'!$AA$6:$AA$294,'2추일출'!$AE$6:$AE$294,'2추일입'!$AE9)) -> 6000 | AP9: =IF(AE9="","",COUNTIFS('2추일출'!$AE$6:$AE$294,AE9)) -> 1 | AQ9: =IF(AA9=AO9,"OK","@@") -> OK
A10: =IFERROR(VLOOKUP($C10,구분표!$A$2:$C$300,2,FALSE),"") -> 농정해양위원회 | B10: =IFERROR(VLOOKUP($C10,구분표!$A$2:$C$300,3,FALSE),"") -> 축산산림국 | C10: 축산정책과 | D10: 신규 | E10: 신규 | F10: 국고보조금등 -승마대회 활성화 지원 | I10: =IF(D10="","",G10-H10) -> 0 | K10: 70000 | L10: =IF(G10=0,H10+J10+K10,G10+J10+K10) -> 70000 | N10: 70000 | O10: =IF(G10=0,H10+M10+N10,G10+M10+N10) -> 70000 | P10: =IF(AND((L10=0),(O10>0)),"O",IF(AND((J10<0),(L10-O10<0)),"O","X")) -> X | Q10: 국비추가내시 -농림축산식품부 축산정책과-3931(2015.8.27.)호 | V10: =IF($U10<>"도비",IF($S10="국도비","직접입력",SUM($J10:$K10)),) -> 70000 | W10: =IF($U10="도비",SUM($J10:$K10),IF($S10="국도비","직접입력",SUM($J10:$K10)-$V10)) -> 0 | X10: =IF(SUM($J10:$K10)=SUM($V10:$W10),"OK","검토") -> OK | AA10: =IF($U10<>"도비",IF($S10="국도비","직접입력",SUM($M10:$N10)),) -> 70000 | AB10: =IF($U10="도비",SUM(M10:N10),IF($S10="국도비","직접입력",SUM(M10:N10)-AA10)) -> 0 | AC10: =IF(SUM(M10:N10)=SUM(AA10:AB10),"OK","검토") -> OK | AE10: =IF(AG10="","",IF(U10="도비","세입없음",CONCATENATE(AG10,"-",COUNTIF($AG$7:AG10,AG10)))) -> 0608-1 | AG10: {=IF(C10="","",INDEX(구분표!$I$2:$I$300, MATCH(1,(구분표!$E$2:$E$300='2추일입'!B10)*(구분표!$F$2:$F$300='2추일입'!C10)*(구분표!$G$2:$G$300='2추일입'!A10),0)))} -> 0608 | AK10: =IF(AE10="",0,SUMIFS('2추일출'!$V$6:$V$294,'2추일출'!$AE$6:$AE$294,'2추일입'!$AE10)) -> 70000 | AL10: =IF(AE10="","",COUNTIFS('2추일출'!$AE$6:$AE$294,'2추일입'!AE10)) -> 1 | AM10: =IF(V10=AK10,"OK","@@") -> OK | AO10: =IF(AE10="",0,SUMIFS('2추일출'!$AA$6:$AA$294,'2추일출'!$AE$6:$AE$294,'2추일입'!$AE10)) -> 70000 | AP10: =IF(AE10="","",COUNTIFS('2추일출'!$AE$6:$AE$294,AE10)) -> 1 | AQ10: =IF(AA10=AO10,"OK","@@") -> OK
A11: =IFERROR(VLOOKUP($C11,구분표!$A$2:$C$300,2,FALSE),"") -> 농정해양위원회 | B11: =IFERROR(VLOOKUP($C11,구분표!$A$2:$C$300,3,FALSE),"") -> 축산산림국 | C11: 축산위생연구소 | D11: 2회추경 | E11: 506 | F11: 국고보조금사용잔액 -축산위생연구소국비사용잔액 | G11: 11385 | I11: =IF(D11="","",G11-H11) -> 11385 | J11: -3152 | L11: =IF(G11=0,H11+J11+K11,G11+J11+K11) -> 8233 | M11: -3152 | O11: =IF(G11=0,H11+M11+N11,G11+M11+N11) -> 8233 | P11: =IF(AND((L11=0),(O11>0)),"O",IF(AND((J11<0),(L11-O11<0)),"O","X")) -> X | V11: =IF($U11<>"도비",IF($S11="국도비","직접입력",SUM($J11:$K11)),) -> -3152 | W11: =IF($U11="도비",SUM($J11:$K11),IF($S11="국도비","직접입력",SUM($J11:$K11)-$V11)) -> 0 | X11: =IF(SUM($J11:$K11)=SUM($V11:$W11),"OK","검토") -> OK | AA11: =IF($U11<>"도비",IF($S11="국도비","직접입력",SUM($M11:$N11)),) -> -3152 | AB11: =IF($U11="도비",SUM(M11:N11),IF($S11="국도비","직접입력",SUM(M11:N11)-AA11)) -> 0 | AC11: =IF(SUM(M11:N11)=SUM(AA11:AB11),"OK","검토") -> OK | AE11: =IF(AG11="","",IF(U11="도비","세입없음",CONCATENATE(AG11,"-",COUNTIF($AG$7:AG11,AG11)))) -> 0611-1 | AG11: {=IF(C11="","",INDEX(구분표!$I$2:$I$300, MATCH(1,(구분표!$E$2:$E$300='2추일입'!B11)*(구분표!$F$2:$F$300='2추일입'!C11)*(구분표!$G$2:$G$300='2추일입'!A11),0)))} -> 0611 | AK11: =IF(AE11="",0,SUMIFS('2추일출'!$V$6:$V$294,'2추일출'!$AE$6:$AE$294,'2추일입'!$AE11)) -> 0 | AL11: =IF(AE11="","",COUNTIFS('2추일출'!$AE$6:$AE$294,'2추일입'!AE11)) -> 1 | AM11: =IF(V11=AK11,"OK","@@") -> @@ | AO11: =IF(AE11="",0,SUMIFS('2추일출'!$AA$6:$AA$294,'2추일출'!$AE$6:$AE$294,'2추일입'!$AE11)) -> 0 | AP11: =IF(AE11="","",COUNTIFS('2추일출'!$AE$6:$AE$294,AE11)) -> 1 | AQ11: =IF(AA11=AO11,"OK","@@") -> @@
A12: =IFERROR(VLOOKUP($C12,구분표!$A$2:$C$300,2,FALSE),"") -> 보건복지위원회 | B12: =IFERROR(VLOOKUP($C12,구분표!$A$2:$C$300,3,FALSE),"") -> 보건복지국 | C12: 노인복지과 | D12: 2회추경 | E12: 566 | F12: 국고보조금 (노인생활시설 기능보강) | G12: 2429241 | H12: 2200246 | I12: =IF(D12="","",G12-H12) -> 228995 | K12: 92715 | L12: =IF(G12=0,H12+J12+K12,G12+J12+K12) -> 2521956 | N12: 92715 | O12: =IF(G12=0,H12+M12+N12,G12+M12+N12) -> 2521956 | P12: =IF(AND((L12=0),(O12>0)),"O",IF(AND((J12<0),(L12-O12<0)),"O","X")) -> X | Q12: 국비 확정내시 ※ 보건복지부 요양보험운영과-5820(2015. 8.21) | V12: =IF($U12<>"도비",IF($S12="국도비","직접입력",SUM($J12:$K12)),) -> 92715 | W12: =IF($U12="도비",SUM($J12:$K12),IF($S12="국도비","직접입력",SUM($J12:$K12)-$V12)) -> 0 | X12: =IF(SUM($J12:$K12)=SUM($V12:$W12),"OK","검토") -> OK | AA12: =IF($U12<>"도비",IF($S12="국도비","직접입력",SUM($M12:$N12)),) -> 92715 | AB12: =IF($U12="도비",SUM(M12:N12),IF($S12="국도비","직접입력",SUM(M12:N12)-AA12)) -> 0 | AC12: =IF(SUM(M12:N12)=SUM(AA12:AB12),"OK","검토") -> OK | AE12: =IF(AG12="","",IF(U12="도비","세입없음",CONCATENATE(AG12,"-",COUNTIF($AG$7:AG12,AG12)))) -> 0703-1 | AG12: {=IF(C12="","",INDEX(구분표!$I$2:$I$300, MATCH(1,(구분표!$E$2:$E$300='2추일입'!B12)*(구분표!$F$2:$F$300='2추일입'!C12)*(구분표!$G$2:$G$300='2추일입'!A12),0)))} -> 0703 | AK12: =IF(AE12="",0,SUMIFS('2추일출'!$V$6:$V$294,'2추일출'!$AE$6:$AE$294,'2추일입'!$AE12)) -> 92715 | AL12: =IF(AE12="","",COUNTIFS('2추일출'!$AE$6:$AE$294,'2추일입'!AE12)) -> 2 | AM12: =IF(V12=AK12,"OK","@@") -> OK | AO12: =IF(AE12="",0,SUMIFS('2추일출'!$AA$6:$AA$294,'2추일출'!$AE$6:$AE$294,'2추일입'!$AE12)) -> 92715 | AP12: =IF(AE12="","",COUNTIFS('2추일출'!$AE$6:$AE$294,AE12)) -> 2 | AQ12: =IF(AA12=AO12,"OK","@@") -> OK
A13: =IFERROR(VLOOKUP($C13,구분표!$A$2:$C$300,2,FALSE),"") -> 보건복지위원회 | B13: =IFERROR(VLOOKUP($C13,구분표!$A$2:$C$300,3,FALSE),"") -> 보건복지국 | C13: 노인복지과 | D13: 본예산 | E13: 56 | F13: 국고보조금 (노인양로시설 운영) | H13: 5375188 | I13: =IF(D13="","",G13-H13) -> -5375188 | J13: -401109 | L13: =IF(G13=0,H13+J13+K13,G13+J13+K13) -> 4974079 | M13: -401109 | O13: =IF(G13=0,H13+M13+N13,G13+M13+N13) -> 4974079 | P13: =IF(AND((L13=0),(O13>0)),"O",IF(AND((J13<0),(L13-O13<0)),"O","X")) -> X | Q13: 국비 확정내시 ※ 보건복지부 요양보험운영과-5999(2015.8.28)호 | V13: =IF($U13<>"도비",IF($S13="국도비","직접입력",SUM($J13:$K13)),) -> -401109 | W13: =IF($U13="도비",SUM($J13:$K13),IF($S13="국도비","직접입력",SUM($J13:$K13)-$V13)) -> 0 | X13: =IF(SUM($J13:$K13)=SUM($V13:$W13),"OK","검토") -> OK | AA13: =IF($U13<>"도비",IF($S13="국도비","직접입력",SUM($M13:$N13)),) -> -401109 | AB13: =IF($U13="도비",SUM(M13:N13),IF($S13="국도비","직접입력",SUM(M13:N13)-AA13)) -> 0 | AC13: =IF(SUM(M13:N13)=SUM(AA13:AB13),"OK","검토") -> OK | AE13: =IF(AG13="","",IF(U13="도비","세입없음",CONCATENATE(AG13,"-",COUNTIF($AG$7:AG13,AG13)))) -> 0703-2 | AG13: {=IF(C13="","",INDEX(구분표!$I$2:$I$300, MATCH(1,(구분표!$E$2:$E$300='2추일입'!B13)*(구분표!$F$2:$F$300='2추일입'!C13)*(구분표!$G$2:$G$300='2추일입'!A13),0)))} -> 0703 | AK13: =IF(AE13="",0,SUMIFS('2추일출'!$V$6:$V$294,'2추일출'!$AE$6:$AE$294,'2추일입'!$AE13)) -> -401109 | AL13: =IF(AE13="","",COUNTIFS('2추일출'!$AE$6:$AE$294,'2추일입'!AE13)) -> 2 | AM13: =IF(V13=AK13,"OK","@@") -> OK | AO13: =IF(AE13="",0,SUMIFS('2추일출'!$AA$6:$AA$294,'2추일출'!$AE$6:$AE$294,'2추일입'!$AE13)) -> -401109 | AP13: =IF(AE13="","",COUNTIFS('2추일출'!$AE$6:$AE$294,AE13)) -> 2 | AQ13: =IF(AA13=AO13,"OK","@@") -> OK
A14: =IFERROR(VLOOKUP($C14,구분표!$A$2:$C$300,2,FALSE),"") -> 보건복지위원회 | B14: =IFERROR(VLOOKUP($C14,구분표!$A$2:$C$300,3,FALSE),"") -> 보건복지국 | C14: 노인복지과 | D14: 1회추경 | E14: 24 | F14: 국고보조금 (메르스 사망자 장례비용 지원) | H14: 70947 | I14: =IF(D14="","",G14-H14) -> -70947 | K14: 25782 | L14: =IF(G14=0,H14+J14+K14,G14+J14+K14) -> 96729 | N14: 25782 | O14: =IF(G14=0,H14+M14+N14,G14+M14+N14) -> 96729 | P14: =IF(AND((L14=0),(O14>0)),"O",IF(AND((J14<0),(L14-O14<0)),"O","X")) -> X | Q14: 국비 확정내시 변경 ※ 질병관리본부 공중보건위기대응과-2351(2015.8.21)호 | V14: =IF($U14<>"도비",IF($S14="국도비","직접입력",SUM($J14:$K14)),) -> 25782 | W14: =IF($U14="도비",SUM($J14:$K14),IF($S14="국도비","직접입력",SUM($J14:$K14)-$V14)) -> 0 | X14: =IF(SUM($J14:$K14)=SUM($V14:$W14),"OK","검토") -> OK | AA14: =IF($U14<>"도비",IF($S14="국도비","직접입력",SUM($M14:$N14)),) -> 25782 | AB14: =IF($U14="도비",SUM(M14:N14),IF($S14="국도비","직접입력",SUM(M14:N14)-AA14)) -> 0 | AC14: =IF(SUM(M14:N14)=SUM(AA14:AB14),"OK","검토") -> OK | AE14: =IF(AG14="","",IF(U14="도비","세입없음",CONCATENATE(AG14,"-",COUNTIF($AG$7:AG14,AG14)))) -> 0703-3 | AG14: {=IF(C14="","",INDEX(구분표!$I$2:$I$300, MATCH(1,(구분표!$E$2:$E$300='2추일입'!B14)*(구분표!$F$2:$F$300='2추일입'!C14)*(구분표!$G$2:$G$300='2추일입'!A14),0)))} -> 0703 | AK14: =IF(AE14="",0,SUMIFS('2추일출'!$V$6:$V$294,'2추일출'!$AE$6:$AE$294,'2추일입'!$AE14)) -> 25782 | AL14: =IF(AE14="","",COUNTIFS('2추일출'!$AE$6:$AE$294,'2추일입'!AE14)) -> 1 | AM14: =IF(V14=AK14,"OK","@@") -> OK | AO14: =IF(AE14="",0,SUMIFS('2추일출'!$AA$6:$AA$294,'2추일출'!$AE$6:$AE$294,'2추일입'!$AE14)) -> 25782 | AP14: =IF(AE14="","",COUNTIFS('2추일출'!$AE$6:$AE$294,AE14)) -> 1 | AQ14: =IF(AA14=AO14,"OK","@@") -> OK
A15: =IFERROR(VLOOKUP($C15,구분표!$A$2:$C$300,2,FALSE),"") -> 보건복지위원회 | B15: =IFERROR(VLOOKUP($C15,구분표!$A$2:$C$300,3,FALSE),"") -> 보건복지국 | C15: 노인복지과 | D15: 2회추경 | E15: 567 | F15: 국고보조금 반환금 (노인복지과 국비 사용 잔액) | G15: 29782 | I15: =IF(D15="","",G15-H15) -> 29782 | K15: 136 | L15: =IF(G15=0,H15+J15+K15,G15+J15+K15) -> 29918 | N15: 136 | O15: =IF(G15=0,H15+M15+N15,G15+M15+N15) -> 29918 | P15: =IF(AND((L15=0),(O15>0)),"O",IF(AND((J15<0),(L15-O15<0)),"O","X")) -> X | Q15: 오입력에 따른 예산액 정정 | V15: =IF($U15<>"도비",IF($S15="국도비","직접입력",SUM($J15:$K15)),) -> 136 | W15: =IF($U15="도비",SUM($J15:$K15),IF($S15="국도비","직접입력",SUM($J15:$K15)-$V15)) -> 0 | X15: =IF(SUM($J15:$K15)=SUM($V15:$W15),"OK","검토") -> OK | AA15: =IF($U15<>"도비",IF($S15="국도비","직접입력",SUM($M15:$N15)),) -> 136 | AB15: =IF($U15="도비",SUM(M15:N15),IF($S15="국도비","직접입력",SUM(M15:N15)-AA15)) -> 0 | AC15: =IF(SUM(M15:N15)=SUM(AA15:AB15),"OK","검토") -> OK | AE15: =IF(AG15="","",IF(U15="도비","세입없음",CONCATENATE(AG15,"-",COUNTIF($AG$7:AG15,AG15)))) -> 0703-4 | AG15: {=IF(C15="","",INDEX(구분표!$I$2:$I$300, MATCH(1,(구분표!$E$2:$E$300='2추일입'!B15)*(구분표!$F$2:$F$300='2추일입'!C15)*(구분표!$G$2:$G$300='2추일입'!A15),0)))} -> 0703 | AK15: =IF(AE15="",0,SUMIFS('2추일출'!$V$6:$V$294,'2추일출'!$AE$6:$AE$294,'2추일입'!$AE15)) -> 0 | AL15: =IF(AE15="","",COUNTIFS('2추일출'!$AE$6:$AE$294,'2추일입'!AE15)) -> 0 | AM15: =IF(V15=AK15,"OK","@@") -> @@ | AO15: =IF(AE15="",0,SUMIFS('2추일출'!$AA$6:$AA$294,'2추일출'!$AE$6:$AE$294,'2추일입'!$AE15)) -> 0 | AP15: =IF(AE15="","",COUNTIFS('2추일출'!$AE$6:$AE$294,AE15)) -> 0 | AQ15: =IF(AA15=AO15,"OK","@@") -> @@
A16: =IFERROR(VLOOKUP($C16,구분표!$A$2:$C$300,2,FALSE),"") -> 보건복지위원회 | B16: =IFERROR(VLOOKUP($C16,구분표!$A$2:$C$300,3,FALSE),"") -> 보건복지국 | C16: 장애인복지과 | D16: 본예산 | E16: 56 | F16: 국고보조금 (장애수당(기초)) | H16: 10743684 | I16: =IF(D16="","",G16-H16) -> -10743684 | K16: 286516 | L16: =IF(G16=0,H16+J16+K16,G16+J16+K16) -> 11030200 | N16: 286516 | O16: =IF(G16=0,H16+M16+N16,G16+M16+N16) -> 11030200 | P16: =IF(AND((L16=0),(O16>0)),"O",IF(AND((J16<0),(L16-O16<0)),"O","X")) -> X | Q16: 국비 변경내시 ※ 보건복지부 장애인자립기반과-7615(2015.9.8)호 | V16: =IF($U16<>"도비",IF($S16="국도비","직접입력",SUM($J16:$K16)),) -> 286516 | W16: =IF($U16="도비",SUM($J16:$K16),IF($S16="국도비","직접입력",SUM($J16:$K16)-$V16)) -> 0 | X16: =IF(SUM($J16:$K16)=SUM($V16:$W16),"OK","검토") -> OK | AA16: =IF($U16<>"도비",IF($S16="국도비","직접입력",SUM($M16:$N16)),) -> 286516 | AB16: =IF($U16="도비",SUM(M16:N16),IF($S16="국도비","직접입력",SUM(M16:N16)-AA16)) -> 0 | AC16: =IF(SUM(M16:N16)=SUM(AA16:AB16),"OK","검토") -> OK | AE16: =IF(AG16="","",IF(U16="도비","세입없음",CONCATENATE(AG16,"-",COUNTIF($AG$7:AG16,AG16)))) -> 0704-1 | AG16: {=IF(C16="","",INDEX(구분표!$I$2:$I$300, MATCH(1,(구분표!$E$2:$E$300='2추일입'!B16)*(구분표!$F$2:$F$300='2추일입'!C16)*(구분표!$G$2:$G$300='2추일입'!A16),0)))} -> 0704 | AK16: =IF(AE16="",0,SUMIFS('2추일출'!$V$6:$V$294,'2추일출'!$AE$6:$AE$294,'2추일입'!$AE16)) -> 286516 | AL16: =IF(AE16="","",COUNTIFS('2추일출'!$AE$6:$AE$294,'2추일입'!AE16)) -> 2 | AM16: =IF(V16=AK16,"OK","@@") -> OK | AO16: =IF(AE16="",0,SUMIFS('2추일출'!$AA$6:$AA$294,'2추일출'!$AE$6:$AE$294,'2추일입'!$AE16)) -> 286516 | AP16: =IF(AE16="","",COUNTIFS('2추일출'!$AE$6:$AE$294,AE16)) -> 2 | AQ16: =IF(AA16=AO16,"OK","@@") -> OK
A17: =IFERROR(VLOOKUP($C17,구분표!$A$2:$C$300,2,FALSE),"") -> 보건복지위원회 | B17: =IFERROR(VLOOKUP($C17,구분표!$A$2:$C$300,3,FALSE),"") -> 보건복지국 | C17: 장애인복지과 | D17: 본예산 | E17: 56 | F17: 국고보조금 (장애수당(차상위 등)) | H17: 9746627 | I17: =IF(D17="","",G17-H17) -> -9746627 | K17: 35373 | L17: =IF(G17=0,H17+J17+K17,G17+J17+K17) -> 9782000 | N17: 35373 | O17: =IF(G17=0,H17+M17+N17,G17+M17+N17) -> 9782000 | P17: =IF(AND((L17=0),(O17>0)),"O",IF(AND((J17<0),(L17-O17<0)),"O","X")) -> X | Q17: 국비 변경내시 ※ 보건복지부 장애인자립기반과-7615(2015.9.8)호 | V17: =IF($U17<>"도비",IF($S17="국도비","직접입력",SUM($J17:$K17)),) -> 35373 | W17: =IF($U17="도비",SUM($J17:$K17),IF($S17="국도비","직접입력",SUM($J17:$K17)-$V17)) -> 0 | X17: =IF(SUM($J17:$K17)=SUM($V17:$W17),"OK","검토") -> OK | AA17: =IF($U17<>"도비",IF($S17="국도비","직접입력",SUM($M17:$N17)),) -> 35373 | AB17: =IF($U17="도비",SUM(M17:N17),IF($S17="국도비","직접입력",SUM(M17:N17)-AA17)) -> 0 | AC17: =IF(SUM(M17:N17)=SUM(AA17:AB17),"OK","검토") -> OK | AE17: =IF(AG17="","",IF(U17="도비","세입없음",CONCATENATE(AG17,"-",COUNTIF($AG$7:AG17,AG17)))) -> 0704-2 | AG17: {=IF(C17="","",INDEX(구분표!$I$2:$I$300, MATCH(1,(구분표!$E$2:$E$300='2추일입'!B17)*(구분표!$F$2:$F$300='2추일입'!C17)*(구분표!$G$2:$G$300='2추일입'!A17),0)))} -> 0704 | AK17: =IF(AE17="",0,SUMIFS('2추일출'!$V$6:$V$294,'2추일출'!$AE$6:$AE$294,'2추일입'!$AE17)) -> 35373 | AL17: =IF(AE17="","",COUNTIFS('2추일출'!$AE$6:$AE$294,'2추일입'!AE17)) -> 2 | AM17: =IF(V17=AK17,"OK","@@") -> OK | AO17: =IF(AE17="",0,SUMIFS('2추일출'!$AA$6:$AA$294,'2추일출'!$AE$6:$AE$294,'2추일입'!$AE17)) -> 35373 | AP17: =IF(AE17="","",COUNTIFS('2추일출'!$AE$6:$AE$294,AE17)) -> 2 | AQ17: =IF(AA17=AO17,"OK","@@") -> OK
A18: =IFERROR(VLOOKUP($C18,구분표!$A$2:$C$300,2,FALSE),"") -> 보건복지위원회 | B18: =IFERROR(VLOOKUP($C18,구분표!$A$2:$C$300,3,FALSE),"") -> 보건복지국 | C18: 장애인복지과 | D18: 본예산 | E18: 56 | F18: 국고보조금 (장애인연금) | H18: 95838000 | I18: =IF(D18="","",G18-H18) -> -95838000 | K18: 2292372 | L18: =IF(G18=0,H18+J18+K18,G18+J18+K18) -> 98130372 | N18: 2292372 | O18: =IF(G18=0,H18+M18+N18,G18+M18+N18) -> 98130372 | P18: =IF(AND((L18=0),(O18>0)),"O",IF(AND((J18<0),(L18-O18<0)),"O","X")) -> X | Q18: 국비 변경내시 ※ 보건복지부 장애인자립기반과-7534(2015.9.4)호 | V18: =IF($U18<>"도비",IF($S18="국도비","직접입력",SUM($J18:$K18)),) -> 2292372 | W18: =IF($U18="도비",SUM($J18:$K18),IF($S18="국도비","직접입력",SUM($J18:$K18)-$V18)) -> 0 | X18: =IF(SUM($J18:$K18)=SUM($V18:$W18),"OK","검토") -> OK | AA18: =IF($U18<>"도비",IF($S18="국도비","직접입력",SUM($M18:$N18)),) -> 2292372 | AB18: =IF($U18="도비",SUM(M18:N18),IF($S18="국도비","직접입력",SUM(M18:N18)-AA18)) -> 0 | AC18: =IF(SUM(M18:N18)=SUM(AA18:AB18),"OK","검토") -> OK | AE18: =IF(AG18="","",IF(U18="도비","세입없음",CONCATENATE(AG18,"-",COUNTIF($AG$7:AG18,AG18)))) -> 0704-3 | AG18: {=IF(C18="","",INDEX(구분표!$I$2:$I$300, MATCH(1,(구분표!$E$2:$E$300='2추일입'!B18)*(구분표!$F$2:$F$300='2추일입'!C18)*(구분표!$G$2:$G$300='2추일입'!A18),0)))} -> 0704 | AK18: =IF(AE18="",0,SUMIFS('2추일출'!$V$6:$V$294,'2추일출'!$AE$6:$AE$294,'2추일입'!$AE18)) -> 2292372 | AL18: =IF(AE18="","",COUNTIFS('2추일출'!$AE$6:$AE$294,'2추일입'!AE18)) -> 2 | AM18: =IF(V18=AK18,"OK","@@") -> OK | AO18: =IF(AE18="",0,SUMIFS('2추일출'!$AA$6:$AA$294,'2추일출'!$AE$6:$AE$294,'2추일입'!$AE18)) -> 2292372 | AP18: =IF(AE18="","",COUNTIFS('2추일출'!$AE$6:$AE$294,AE18)) -> 2 | AQ18: =IF(AA18=AO18,"OK","@@") -> OK
A19: =IFERROR(VLOOKUP($C19,구분표!$A$2:$C$300,2,FALSE),"") -> 보건복지위원회 | B19: =IFERROR(VLOOKUP($C19,구분표!$A$2:$C$300,3,FALSE),"") -> 보건복지국 | C19: 보건정책과 | D19: 1회추경 | E19: 24 | F19: 국고보조금 (급성감염병관리사업) | H19: 379000 | I19: =IF(D19="","",G19-H19) -> -379000 | K19: 149400 | L19: =IF(G19=0,H19+J19+K19,G19+J19+K19) -> 528400 | N19: 149400 | O19: =IF(G19=0,H19+M19+N19,G19+M19+N19) -> 528400 | P19: =IF(AND((L19=0),(O19>0)),"O",IF(AND((J19<0),(L19-O19<0)),"O","X")) -> X | Q19: 국비 변경내시 ※ 질병관리본부 감염병관리과-2539(2015.8.17.)호 | V19: =IF($U19<>"도비",IF($S19="국도비","직접입력",SUM($J19:$K19)),) -> 149400 | W19: =IF($U19="도비",SUM($J19:$K19),IF($S19="국도비","직접입력",SUM($J19:$K19)-$V19)) -> 0 | X19: =IF(SUM($J19:$K19)=SUM($V19:$W19),"OK","검토") -> OK | AA19: =IF($U19<>"도비",IF($S19="국도비","직접입력",SUM($M19:$N19)),) -> 149400 | AB19: =IF($U19="도비",SUM(M19:N19),IF($S19="국도비","직접입력",SUM(M19:N19)-AA19)) -> 0 | AC19: =IF(SUM(M19:N19)=SUM(AA19:AB19),"OK","검토") -> OK | AE19: =IF(AG19="","",IF(U19="도비","세입없음",CONCATENATE(AG19,"-",COUNTIF($AG$7:AG19,AG19)))) -> 0705-1 | AG19: {=IF(C19="","",INDEX(구분표!$I$2:$I$300, MATCH(1,(구분표!$E$2:$E$300='2추일입'!B19)*(구분표!$F$2:$F$300='2추일입'!C19)*(구분표!$G$2:$G$300='2추일입'!A19),0)))} -> 0705 | AK19: =IF(AE19="",0,SUMIFS('2추일출'!$V$6:$V$294,'2추일출'!$AE$6:$AE$294,'2추일입'!$AE19)) -> 149400 | AL19: =IF(AE19="","",COUNTIFS('2추일출'!$AE$6:$AE$294,'2추일입'!AE19)) -> 1 | AM19: =IF(V19=AK19,"OK","@@") -> OK | AO19: =IF(AE19="",0,SUMIFS('2추일출'!$AA$6:$AA$294,'2추일출'!$AE$6:$AE$294,'2추일입'!$AE19)) -> 149400 | AP19: =IF(AE19="","",COUNTIFS('2추일출'!$AE$6:$AE$294,AE19)) -> 1 | AQ19: =IF(AA19=AO19,"OK","@@") -> OK
A20: =IFERROR(VLOOKUP($C20,구분표!$A$2:$C$300,2,FALSE),"") -> 보건복지위원회 | B20: =IFERROR(VLOOKUP($C20,구분표!$A$2:$C$300,3,FALSE),"") -> 보건복지국 | C20: 보건정책과 | D20: 2회추경 | E20: 568 | F20: 국고보조금 (감염병관리 시설 및 장비확충) | G20: 5625280 | I20: =IF(D20="","",G20-H20) -> 5625280 | J20: -1531082 | L20: =IF(G20=0,H20+J20+K20,G20+J20+K20) -> 4094198 | M20: -1531082 | O20: =IF(G20=0,H20+M20+N20,G20+M20+N20) -> 4094198 | P20: =IF(AND((L20=0),(O20>0)),"O",IF(AND((J20<0),(L20-O20<0)),"O","X")) -> X | Q20: 국비 변경내시 ※ 질병관리본부 공중보건위기대응과-2338(2015.8.21)호 ※ 보건복지부 응급의료과-6007(2015.9.3)호 | V20: =IF($U20<>"도비",IF($S20="국도비","직접입력",SUM($J20:$K20)),) -> -1531082 | W20: =IF($U20="도비",SUM($J20:$K20),IF($S20="국도비","직접입력",SUM($J20:$K20)-$V20)) -> 0 | X20: =IF(SUM($J20:$K20)=SUM($V20:$W20),"OK","검토") -> OK | AA20: =IF($U20<>"도비",IF($S20="국도비","직접입력",SUM($M20:$N20)),) -> -1531082 | AB20: =IF($U20="도비",SUM(M20:N20),IF($S20="국도비","직접입력",SUM(M20:N20)-AA20)) -> 0 | AC20: =IF(SUM(M20:N20)=SUM(AA20:AB20),"OK","검토") -> OK | AE20: =IF(AG20="","",IF(U20="도비","세입없음",CONCATENATE(AG20,"-",COUNTIF($AG$7:AG20,AG20)))) -> 0705-2 | AG20: {=IF(C20="","",INDEX(구분표!$I$2:$I$300, MATCH(1,(구분표!$E$2:$E$300='2추일입'!B20)*(구분표!$F$2:$F$300='2추일입'!C20)*(구분표!$G$2:$G$300='2추일입'!A20),0)))} -> 0705 | AK20: =IF(AE20="",0,SUMIFS('2추일출'!$V$6:$V$294,'2추일출'!$AE$6:$AE$294,'2추일입'!$AE20)) -> -1531082 | AL20: =IF(AE20="","",COUNTIFS('2추일출'!$AE$6:$AE$294,'2추일입'!AE20)) -> 2 | AM20: =IF(V20=AK20,"OK","@@") -> OK | AO20: =IF(AE20="",0,SUMIFS('2추일출'!$AA$6:$AA$294,'2추일출'!$AE$6:$AE$294,'2추일입'!$AE20)) -> -1531082 | AP20: =IF(AE20="","",COUNTIFS('2추일출'!$AE$6:$AE$294,AE20)) -> 2 | AQ20: =IF(AA20=AO20,"OK","@@") -> OK
A21: =IFERROR(VLOOKUP($C21,구분표!$A$2:$C$300,2,FALSE),"") -> 보건복지위원회 | B21: =IFERROR(VLOOKUP($C21,구분표!$A$2:$C$300,3,FALSE),"") -> 보건복지국 | C21: 보건정책과 | D21: 2회추경 | E21: 568 | F21: 기금 (취약지역 응급의료기관 운영) | G21: 3325000 | H21: 3220000 | I21: =IF(D21="","",G21-H21) -> 105000 | J21: -1440000 | L21: =IF(G21=0,H21+J21+K21,G21+J21+K21) -> 1885000 | M21: -1440000 | O21: =IF(G21=0,H21+M21+N21,G21+M21+N21) -> 1885000 | P21: =IF(AND((L21=0),(O21>0)),"O",IF(AND((J21<0),(L21-O21<0)),"O","X")) -> X | Q21: 국비 변경내시 ※ 보건복지부 응급의료과-5440(2015.8.7.)호 | V21: =IF($U21<>"도비",IF($S21="국도비","직접입력",SUM($J21:$K21)),) -> -1440000 | W21: =IF($U21="도비",SUM($J21:$K21),IF($S21="국도비","직접입력",SUM($J21:$K21)-$V21)) -> 0 | X21: =IF(SUM($J21:$K21)=SUM($V21:$W21),"OK","검토") -> OK | AA21: =IF($U21<>"도비",IF($S21="국도비","직접입력",SUM($M21:$N21)),) -> -1440000 | AB21: =IF($U21="도비",SUM(M21:N21),IF($S21="국도비","직접입력",SUM(M21:N21)-AA21)) -> 0 | AC21: =IF(SUM(M21:N21)=SUM(AA21:AB21),"OK","검토") -> OK | AE21: =IF(AG21="","",IF(U21="도비","세입없음",CONCATENATE(AG21,"-",COUNTIF($AG$7:AG21,AG21)))) -> 0705-3 | AG21: {=IF(C21="","",INDEX(구분표!$I$2:$I$300, MATCH(1,(구분표!$E$2:$E$300='2추일입'!B21)*(구분표!$F$2:$F$300='2추일입'!C21)*(구분표!$G$2:$G$300='2추일입'!A21),0)))} -> 0705 | AK21: =IF(AE21="",0,SUMIFS('2추일출'!$V$6:$V$294,'2추일출'!$AE$6:$AE$294,'2추일입'!$AE21)) -> -1440000 | AL21: =IF(AE21="","",COUNTIFS('2추일출'!$AE$6:$AE$294,'2추일입'!AE21)) -> 2 | AM21: =IF(V21=AK21,"OK","@@") -> OK | AO21: =IF(AE21="",0,SUMIFS('2추일출'!$AA$6:$AA$294,'2추일출'!$AE$6:$AE$294,'2추일입'!$AE21)) -> -1440000 | AP21: =IF(AE21="","",COUNTIFS('2추일출'!$AE$6:$AE$294,AE21)) -> 2 | AQ21: =IF(AA21=AO21,"OK","@@") -> OK
A22: =IFERROR(VLOOKUP($C22,구분표!$A$2:$C$300,2,FALSE),"") -> 보건복지위원회 | B22: =IFERROR(VLOOKUP($C22,구분표!$A$2:$C$300,3,FALSE),"") -> 보건복지국 | C22: 보건정책과 | D22: 2회추경 | E22: 568 | F22: 기금 (국내외재난의료지원) | G22: 666935 | H22: 558935 | I22: =IF(D22="","",G22-H22) -> 108000 | K22: 77000 | L22: =IF(G22=0,H22+J22+K22,G22+J22+K22) -> 743935 | N22: 77000 | O22: =IF(G22=0,H22+M22+N22,G22+M22+N22) -> 743935 | P22: =IF(AND((L22=0),(O22>0)),"O",IF(AND((J22<0),(L22-O22<0)),"O","X")) -> X | Q22: 국비 변경내시 ※ 보건복지부 응급의료과-5928(2015.8.31)호 | V22: =IF($U22<>"도비",IF($S22="국도비","직접입력",SUM($J22:$K22)),) -> 77000 | W22: =IF($U22="도비",SUM($J22:$K22),IF($S22="국도비","직접입력",SUM($J22:$K22)-$V22)) -> 0 | X22: =IF(SUM($J22:$K22)=SUM($V22:$W22),"OK","검토") -> OK | AA22: =IF($U22<>"도비",IF($S22="국도비","직접입력",SUM($M22:$N22)),) -> 77000 | AB22: =IF($U22="도비",SUM(M22:N22),IF($S22="국도비","직접입력",SUM(M22:N22)-AA22)) -> 0 | AC22: =IF(SUM(M22:N22)=SUM(AA22:AB22),"OK","검토") -> OK | AE22: =IF(AG22="","",IF(U22="도비","세입없음",CONCATENATE(AG22,"-",COUNTIF($AG$7:AG22,AG22)))) -> 0705-4 | AG22: {=IF(C22="","",INDEX(구분표!$I$2:$I$300, MATCH(1,(구분표!$E$2:$E$300='2추일입'!B22)*(구분표!$F$2:$F$300='2추일입'!C22)*(구분표!$G$2:$G$300='2추일입'!A22),0)))} -> 0705 | AK22: =IF(AE22="",0,SUMIFS('2추일출'!$V$6:$V$294,'2추일출'!$AE$6:$AE$294,'2추일입'!$AE22)) -> 77000 | AL22: =IF(AE22="","",COUNTIFS('2추일출'!$AE$6:$AE$294,'2추일입'!AE22)) -> 2 | AM22: =IF(V22=AK22,"OK","@@") -> OK | AO22: =IF(AE22="",0,SUMIFS('2추일출'!$AA$6:$AA$294,'2추일출'!$AE$6:$AE$294,'2추일입'!$AE22)) -> 77000 | AP22: =IF(AE22="","",COUNTIFS('2추일출'!$AE$6:$AE$294,AE22)) -> 2 | AQ22: =IF(AA22=AO22,"OK","@@") -> OK
A23: =IFERROR(VLOOKUP($C23,구분표!$A$2:$C$300,2,FALSE),"") -> 보건복지위원회 | B23: =IFERROR(VLOOKUP($C23,구분표!$A$2:$C$300,3,FALSE),"") -> 보건복지국 | C23: 건강증진과 | D23: 2회추경 | E23: 569 | F23: 기금 (암환자지원사업) | G23: 4793303 | H23: 4312387 | I23: =IF(D23="","",G23-H23) -> 480916 | K23: 44439 | L23: =IF(G23=0,H23+J23+K23,G23+J23+K23) -> 4837742 | N23: 44439 | O23: =IF(G23=0,H23+M23+N23,G23+M23+N23) -> 4837742 | P23: =IF(AND((L23=0),(O23>0)),"O",IF(AND((J23<0),(L23-O23<0)),"O","X")) -> X | Q23: 국비 변경내시 ※ 보건복지부 질병정책과-6448(2015.9.9.)호 | V23: =IF($U23<>"도비",IF($S23="국도비","직접입력",SUM($J23:$K23)),) -> 44439 | W23: =IF($U23="도비",SUM($J23:$K23),IF($S23="국도비","직접입력",SUM($J23:$K23)-$V23)) -> 0 | X23: =IF(SUM($J23:$K23)=SUM($V23:$W23),"OK","검토") -> OK | AA23: =IF($U23<>"도비",IF($S23="국도비","직접입력",SUM($M23:$N23)),) -> 44439 | AB23: =IF($U23="도비",SUM(M23:N23),IF($S23="국도비","직접입력",SUM(M23:N23)-AA23)) -> 0 | AC23: =IF(SUM(M23:N23)=SUM(AA23:AB23),"OK","검토") -> OK | AE23: =IF(AG23="","",IF(U23="도비","세입없음",CONCATENATE(AG23,"-",COUNTIF($AG$7:AG23,AG23)))) -> 0706-1 | AG23: {=IF(C23="","",INDEX(구분표!$I$2:$I$300, MATCH(1,(구분표!$E$2:$E$300='2추일입'!B23)*(구분표!$F$2:$F$300='2추일입'!C23)*(구분표!$G$2:$G$300='2추일입'!A23),0)))} -> 0706 | AK23: =IF(AE23="",0,SUMIFS('2추일출'!$V$6:$V$294,'2추일출'!$AE$6:$AE$294,'2추일입'!$AE23)) -> 44439 | AL23: =IF(AE23="","",COUNTIFS('2추일출'!$AE$6:$AE$294,'2추일입'!AE23)) -> 1 | AM23: =IF(V23=AK23,"OK","@@") -> OK | AO23: =IF(AE23="",0,SUMIFS('2추일출'!$AA$6:$AA$294,'2추일출'!$AE$6:$AE$294,'2추일입'!$AE23)) -> 44439 | AP23: =IF(AE23="","",COUNTIFS('2추일출'!$AE$6:$AE$294,AE23)) -> 1 | AQ23: =IF(AA23=AO23,"OK","@@") -> OK
A24: =IFERROR(VLOOKUP($C24,구분표!$A$2:$C$300,2,FALSE),"") -> 도시환경위원회 | B24: =IFERROR(VLOOKUP($C24,구분표!$A$2:$C$300,3,FALSE),"") -> 수자원본부 | C24: 수자원본부 | D24: 2회추경 | E24: 761 | F24: 도시침수대응 | G24: 38242000 | H24: 38431000 | I24: =IF(D24="","",G24-H24) -> -189000 | K24: 3310000 | L24: =IF(G24=0,H24+J24+K24,G24+J24+K24) -> 41552000 | N24: 3310000 | O24: =IF(G24=0,H24+M24+N24,G24+M24+N24) -> 41552000 | P24: =IF(AND((L24=0),(O24>0)),"O",IF(AND((J24<0),(L24-O24<0)),"O","X")) -> X | Q24: 환경부 국비 증액내시에 따른 예산 증액 ※한강유역환경청 수질총량관리과-7909(15.8.21)호 | V24: =IF($U24<>"도비",IF($S24="국도비","직접입력",SUM($J24:$K24)),) -> 3310000 | W24: =IF($U24="도비",SUM($J24:$K24),IF($S24="국도비","직접입력",SUM($J24:$K24)-$V24)) -> 0 | X24: =IF(SUM($J24:$K24)=SUM($V24:$W24),"OK","검토") -> OK | AA24: =IF($U24<>"도비",IF($S24="국도비","직접입력",SUM($M24:$N24)),) -> 3310000 | AB24: =IF($U24="도비",SUM(M24:N24),IF($S24="국도비","직접입력",SUM(M24:N24)-AA24)) -> 0 | AC24: =IF(SUM(M24:N24)=SUM(AA24:AB24),"OK","검토") -> OK | AE24: =IF(AG24="","",IF(U24="도비","세입없음",CONCATENATE(AG24,"-",COUNTIF($AG$7:AG24,AG24)))) -> 0921-1 | AG24: {=IF(C24="","",INDEX(구분표!$I$2:$I$300, MATCH(1,(구분표!$E$2:$E$300='2추일입'!B24)*(구분표!$F$2:$F$300='2추일입'!C24)*(구분표!$G$2:$G$300='2추일입'!A24),0)))} -> 0921 | AK24: =IF(AE24="",0,SUMIFS('2추일출'!$V$6:$V$294,'2추일출'!$AE$6:$AE$294,'2추일입'!$AE24)) -> 3310000 | AL24: =IF(AE24="","",COUNTIFS('2추일출'!$AE$6:$AE$294,'2추일입'!AE24)) -> 1 | AM24: =IF(V24=AK24,"OK","@@") -> OK | AO24: =IF(AE24="",0,SUMIFS('2추일출'!$AA$6:$AA$294,'2추일출'!$AE$6:$AE$294,'2추일입'!$AE24)) -> 3310000 | AP24: =IF(AE24="","",COUNTIFS('2추일출'!$AE$6:$AE$294,AE24)) -> 1 | AQ24: =IF(AA24=AO24,"OK","@@") -> OK
A25: =IFERROR(VLOOKUP($C25,구분표!$A$2:$C$300,2,FALSE),"") -> 도시환경위원회 | B25: =IFERROR(VLOOKUP($C25,구분표!$A$2:$C$300,3,FALSE),"") -> 수자원본부 | C25: 수자원본부 | D25: 2회추경 | E25: 761 | F25: 하수처리장 확충 | G25: 109356000 | H25: 110747000 | I25: =IF(D25="","",G25-H25) -> -1391000 | J25: -6902000 | L25: =IF(G25=0,H25+J25+K25,G25+J25+K25) -> 102454000 | M25: -6902000 | O25: =IF(G25=0,H25+M25+N25,G25+M25+N25) -> 102454000 | P25: =IF(AND((L25=0),(O25>0)),"O",IF(AND((J25<0),(L25-O25<0)),"O","X")) -> X | Q25: 환경부 국비 감액내시에 따른 예산 감액 ※한강유역환경청 수질총량관리과-7277(15.8.4)호, 수질총량관리과-7909(2015.8.21)호 | V25: =IF($U25<>"도비",IF($S25="국도비","직접입력",SUM($J25:$K25)),) -> -6902000 | W25: =IF($U25="도비",SUM($J25:$K25),IF($S25="국도비","직접입력",SUM($J25:$K25)-$V25)) -> 0 | X25: =IF(SUM($J25:$K25)=SUM($V25:$W25),"OK","검토") -> OK | AA25: =IF($U25<>"도비",IF($S25="국도비","직접입력",SUM($M25:$N25)),) -> -6902000 | AB25: =IF($U25="도비",SUM(M25:N25),IF($S25="국도비","직접입력",SUM(M25:N25)-AA25)) -> 0 | AC25: =IF(SUM(M25:N25)=SUM(AA25:AB25),"OK","검토") -> OK | AE25: =IF(AG25="","",IF(U25="도비","세입없음",CONCATENATE(AG25,"-",COUNTIF($AG$7:AG25,AG25)))) -> 0921-2 | AG25: {=IF(C25="","",INDEX(구분표!$I$2:$I$300, MATCH(1,(구분표!$E$2:$E$300='2추일입'!B25)*(구분표!$F$2:$F$300='2추일입'!C25)*(구분표!$G$2:$G$300='2추일입'!A25),0)))} -> 0921 | AK25: =IF(AE25="",0,SUMIFS('2추일출'!$V$6:$V$294,'2추일출'!$AE$6:$AE$294,'2추일입'!$AE25)) -> -6902000 | AL25: =IF(AE25="","",COUNTIFS('2추일출'!$AE$6:$AE$294,'2추일입'!AE25)) -> 1 | AM25: =IF(V25=AK25,"OK","@@") -> OK | AO25: =IF(AE25="",0,SUMIFS('2추일출'!$AA$6:$AA$294,'2추일출'!$AE$6:$AE$294,'2추일입'!$AE25)) -> -6902000 | AP25: =IF(AE25="","",COUNTIFS('2추일출'!$AE$6:$AE$294,AE25)) -> 1 | AQ25: =IF(AA25=AO25,"OK","@@") -> OK
