Workbook

Sheet 구분표
A2: 실과명 조정 | B2: 위원회명 조정 | C2: 실국명 조정 | E2: 실국명 | F2: 실과명 | G2: 위원회명 | H2: 정렬순서 | I2: 정렬코드
A3: 공보담당관 | B3: 의회운영위원회 | C3: 의회사무처 | E3: 의회사무처 | F3: 공보담당관 | G3: 의회운영위원회 | H3: 1 | I3: 0101
A4: 총무담당관 | B4: 의회운영위원회 | C4: 의회사무처 | E4: 의회사무처 | F4: 총무담당관 | G4: 의회운영위원회 | H4: 2 | I4: 0102
A5: 의정담당관 | B5: 의회운영위원회 | C5: 의회사무처 | E5: 의회사무처 | F5: 의정담당관 | G5: 의회운영위원회 | H5: 3 | I5: 0103
A6: 입법정책담당관 | B6: 의회운영위원회 | C6: 의회사무처 | E6: 의회사무처 | F6: 입법정책담당관 | G6: 의회운영위원회 | H6: 4 | I6: 0104
A7: 예산정책담당관 | B7: 의회운영위원회 | C7: 의회사무처 | E7: 의회사무처 | F7: 예산정책담당관 | G7: 의회운영위원회 | H7: 5 | I7: 0105
A8: 언론협력담당관 | B8: 의회운영위원회 | C8: 대변인 | E8: 대변인 | F8: 언론협력담당관 | G8: 의회운영위원회 | H8: 6 | I8: 0106
A9: 보도기획담당관 | B9: 의회운영위원회 | C9: 대변인 | E9: 대변인 | F9: 보도기획담당관 | G9: 의회운영위원회 | H9: 7 | I9: 0107
A10: 홍보담당관 | B10: 의회운영위원회 | C10: 소통기획관 | E10: 소통기획관 | F10: 홍보담당관 | G10: 의회운영위원회 | H10: 8 | I10: 0108
A11: 소통담당관 | B11: 의회운영위원회 | C11: 소통기획관 | E11: 소통기획관 | F11: 소통담당관 | G11: 의회운영위원회 | H11: 9 | I11: 0109
A12: 연정협력관 | B12: 의회운영위원회 | C12: 연정협력관 | E12: 연정협력관 | F12: 연정협력관 | G12: 의회운영위원회 | H12: 10 | I12: 0110
A13: 대외협력담당관 | B13: 의회운영위원회 | C13: 대외협력담당관 | E13: 대외협력담당관 | F13: 대외협력담당관 | G13: 의회운영위원회 | H13: 11 | I13: 0111
... A202: 도서관정책과 | B202: 여성가족교육협력위원회 | C202: 교육협력국 | E202: 교육협력국 | F202: 도서관정책과 | G202: 여성가족교육협력위원회 | H202: 200 | I202: 1012

Sheet 예결표지(세로)
A5: 2015년도 제1회 일반회계 및 특별회계 추가경정 세입·세출 예산안
A7: 예결위 계수조정 결과
A20: 예산결산특별위원회

Sheet 예결표지(가로)
A3: 2015년도 제1회 일반회계 및 특별회계 추가경정 세입·세출 예산안
A5: 예결위 계수조정 결과
A14: 예산결산특별위원회

Sheet 추경표지
A4: o o 위 예산안조정 결과
B6: - 2015년도 제2회 일반회계 및 특별회계 추가경정 세입·세출 예산안
A12: o o o o 위원회

Sheet 1추검증
A1: 1회 추경 일반회계 검증 | H1: 1추 예비비 | J1: 조정액 | K1: =IFERROR(INDEX('2추 세출'!AB6:AB264,MATCH("*예비비*",'2추 세출'!F6:F264,0)),0) -> 0 | L1: 조정잔액 | M1: =I1+K1 -> 0
M2: (단위 : 천원)
A3: 구분 | B3: 상 임 위 | H3: 구분 | I3: 예 결 위
B4: 세입 | C4: 검증 | D4: 세출 | E4: 검증 | F4: 차액 | I4: 세입 | J4: 검증 | K4: 세출 | L4: 검증 | M4: 차액
A5: 전체 총계 | B5: =SUM(B6:B13)/2 -> 2 | C5: =IF(B5=SUM('2추 세입'!J6:K6),"OK","@@") -> @@ | D5: =SUM(D6:D13)/2 -> 0 | E5: =IF(D5=SUM('2추 세출'!J6:K6),"OK","@@") -> @@ | H5: 전체 총계 | I5: =SUM(I6:I13)/2 -> 0 | J5: =IF(I5=SUM('2추 세입'!M6:N6),"OK","@@") -> OK | K5: =SUM(K6:K13)/2 -> 0 | L5: =IF(K5=SUM('2추 세출'!M6:N6),"OK","@@") -> OK
A6: 자체 계 | B6: =SUM(B7:B8) -> 2 | C6: =IF(B6='2추 세입'!W6,"OK","@@") -> OK | D6: =SUM(D7:D8) -> 0 | E6: =IF(D6='2추 세출'!W6,"OK","@@") -> OK | H6: 자체 계 | I6: =SUM(I7:I8) -> 0 | J6: =IF(I6='2추 세입'!AB6,"OK","@@") -> OK | K6: =SUM(K7:K8) -> 0 | L6: =IF(K6='2추 세출'!AB6,"OK","@@") -> OK
A7: 자체 도비 | B7: =SUMIFS('2추 세입'!W6:W100,'2추 세입'!U6:U100,"도비") -> 2 | D7: =SUMIFS('2추 세출'!$W$6:$W$264,'2추 세출'!$U$6:$U$264,"도비") -> 0 | H7: 자체 도비 | I7: =SUMIFS('2추 세입'!AB6:AB100,'2추 세입'!Z6:Z100,"국비") -> 0 | K7: =SUMIFS('2추 세출'!$AB$6:$AB$264,'2추 세출'!$Z$6:$Z$264,"도비") -> 0
A8: 의존 매칭 도비 | B8: =SUMIFS('2추 세입'!W6:W100,'2추 세입'!U6:U100,"국비")+SUMIFS('2추 세입'!W6:W100,'2추 세입'!U6:U100,"지특")+SUMIFS('2추 세입'!W6:W100,'2추 세입'!U6:U100,"기금")+SUMIFS('2추 세입'!W6:W100,'2추 세입'!U6:U100,"특교") -> 0 | D8: =SUMIFS('2추 세출'!$W$6:$W$264,'2추 세출'!$U$6:$U$264,"국비")+SUMIFS('2추 세출'!$W$6:$W$264,'2추 세출'!$U$6:$U$264,"지특")+SUMIFS('2추 세출'!$W$6:$W$264,'2추 세출'!$U$6:$U$264,"기금")+SUMIFS('2추 세출'!$W$6:$W$264,'2추 세출'!$U$6:$U$264,"특교") -> 0 | H8: 의존 매칭 도비 | I8: =SUMIFS('2추 세입'!AB6:AB100,'2추 세입'!Z6:Z100,"국비")+SUMIFS('2추 세입'!AB6:AB100,'2추 세입'!Z6:Z100,"지특")+SUMIFS('2추 세입'!AB6:AB100,'2추 세입'!Z6:Z100,"기금")+SUMIFS('2추 세입'!AB6:AB100,'2추 세입'!Z6:Z100,"특교") -> 0 | K8: =SUMIFS('2추 세출'!$AB$6:$AB$264,'2추 세출'!$Z$6:$Z$264,"국비")+SUMIFS('2추 세출'!$AB$6:$AB$264,'2추 세출'!$Z$6:$Z$264,"지특")+SUMIFS('2추 세출'!$AB$6:$AB$264,'2추 세출'!$Z$6:$Z$264,"기금")+SUMIFS('2추 세출'!$AB$6:$AB$264,'2추 세출'!$Z$6:$Z$264,"특교") -> 0
A9: 의존 계 | B9: =SUM(B10:B13) -> 0 | C9: =IF(B9='2추 세입'!V6,"OK","@@") -> @@ | D9: =SUM(D10:D13) -> 0 | E9: =IF(D9='2추 세출'!V6,"OK","@@") -> @@ | F9: =SUM(F10:F13) -> 0 | H9: 의존 계 | I9: =SUM(I10:I13) -> 0 | J9: =IF(I9='2추 세입'!V6,"OK","@@") -> @@ | K9: =SUM(K10:K13) -> 0 | L9: =IF(K9='2추 세출'!AA6,"OK","@@") -> OK | M9: =SUM(M10:M13) -> 0
A10: 국비 | B10: =SUMIFS('2추 세입'!$W$6:$W$100,'2추 세입'!$U$6:$U$100,'1추검증'!A10) -> 0 | D10: =SUMIFS('2추 세출'!$W$6:$W$264,'2추 세출'!$U$6:$U$264,'1추검증'!A10) -> 0 | F10: =D10-B10 -> 0 | H10: 국비 | I10: =SUMIFS('2추 세입'!$AB$6:$AB$100,'2추 세입'!$Z$6:$Z$100,'1추검증'!H10) -> 0 | K10: =SUMIFS('2추 세출'!$AB$6:$AB$264,'2추 세출'!$Z$6:$Z$264,'1추검증'!H10) -> 0 | M10: =K10-I10 -> 0
A11: 지특 | B11: =SUMIFS('2추 세입'!$W$6:$W$100,'2추 세입'!$U$6:$U$100,'1추검증'!A11) -> 0 | D11: =SUMIFS('2추 세출'!$W$6:$W$264,'2추 세출'!$U$6:$U$264,'1추검증'!A11) -> 0 | F11: =D11-B11 -> 0 | H11: 지특 | I11: =SUMIFS('2추 세입'!$AB$6:$AB$100,'2추 세입'!$Z$6:$Z$100,'1추검증'!H11) -> 0 | K11: =SUMIFS('2추 세출'!$AB$6:$AB$264,'2추 세출'!$Z$6:$Z$264,'1추검증'!H11) -> 0 | M11: =K11-I11 -> 0
A12: 기금 | B12: =SUMIFS('2추 세입'!$W$6:$W$100,'2추 세입'!$U$6:$U$100,'1추검증'!A12) -> 0 | D12: =SUMIFS('2추 세출'!$W$6:$W$264,'2추 세출'!$U$6:$U$264,'1추검증'!A12) -> 0 | F12: =D12-B12 -> 0 | H12: 기금 | I12: =SUMIFS('2추 세입'!$AB$6:$AB$100,'2추 세입'!$Z$6:$Z$100,'1추검증'!H12) -> 0 | K12: =SUMIFS('2추 세출'!$AB$6:$AB$264,'2추 세출'!$Z$6:$Z$264,'1추검증'!H12) -> 0 | M12: =K12-I12 -> 0
A13: 특교 | B13: =SUMIFS('2추 세입'!$W$6:$W$100,'2추 세입'!$U$6:$U$100,'1추검증'!A13) -> 0 | D13: =SUMIFS('2추 세출'!$W$6:$W$264,'2추 세출'!$U$6:$U$264,'1추검증'!A13) -> 0 | F13: =D13-B13 -> 0 | H13: 특교 | I13: =SUMIFS('2추 세입'!$AB$6:$AB$100,'2추 세입'!$Z$6:$Z$100,'1추검증'!H13) -> 0 | K13: =SUMIFS('2추 세출'!$AB$6:$AB$264,'2추 세출'!$Z$6:$Z$264,'1추검증'!H13) -> 0 | M13: =K13-I13 -> 0

Sheet 2추총괄표
A1: 2015년도 제2회 추경 일반 및 특별회계 세입·세출 예산안(전체예산총괄)
A3: □ 총 괄 | C3: 세입예산 증감 | D3: =SUM(C7:D7) -> 0 | E3: 세출예산증감 | F3: =SUM(E7:F7) -> 0
E4: ※ 예비비 증감 | G4: (단위 : 천원)
A5: 구 분 | B5: 집행부제출(안) | C5: 세입예산(안) | E5: 세출예산(안) | G5: 수정예산(안) | I5: ※ 예산안 증감현황
C6: 감 액 | D6: 증 액 | E6: 감 액 | F6: 증 액 | I6: 구 분 | J6: 세입 | K6: 세출 | L6: 예비비 | M6: 비고(???)
A7: 합 계 | B7: =SUM(B8:B17) -> 0 | C7: =SUM(C8:C17) -> 0 | D7: =SUM(D8:D17) -> 0 | E7: =SUM(E8:E17) -> 0 | F7: =SUM(F8:F17) -> 0 | G7: =SUM(G8:G17) -> 0 | I7: 합 계 | J7: =SUM(J8:J9) -> 0 | K7: =SUM(K8:K9) -> 0 | L7: =J7-K7 -> 0
A8: 의회운영위원회 | B8: =C31 -> 0 | C8: =SUMIFS('2추 세입'!$M$6:$M$100,'2추 세입'!$A$6:$A$100,'2추총괄표'!$A8)+SUMIFS('1추특입'!$M$6:$M$100,'1추특입'!$A$6:$A$100,'2추총괄표'!$A8) -> 0 | D8: =SUMIFS('2추 세입'!$N$6:$N$100,'2추 세입'!$A$6:$A$100,'2추총괄표'!$A8)+SUMIFS('1추특입'!$N$6:$N$100,'1추특입'!$A$6:$A$100,'2추총괄표'!$A8) -> 0 | E8: =SUMIFS('2추 세출'!M$6:M$264,'2추 세출'!$A$6:$A$264,'2추총괄표'!$A8)+SUMIFS('1추특출'!M$6:M$100,'1추특출'!$A$6:$A$100,'2추총괄표'!$A8) -> 0 | F8: =SUMIFS('2추 세출'!N$6:N$264,'2추 세출'!$A$6:$A$264,'2추총괄표'!$A8)+SUMIFS('1추특출'!N$6:N$100,'1추특출'!$A$6:$A$100,'2추총괄표'!$A8) -> 0 | G8: =B8+E8+F8 -> 0 | I8: 일반회계 | J8: =SUM(C24:D24) -> 0 | K8: =SUM(E24:F24) -> 0 | L8: =J8-K8 -> 0 | M8: 예비비 증감 - 감액, + 증액에 입력
A9: 기획재정위원회 | B9: =C32 -> 0 | C9: =SUMIFS('2추 세입'!$M$6:$M$100,'2추 세입'!$A$6:$A$100,'2추총괄표'!$A9)+SUMIFS('1추특입'!$M$6:$M$100,'1추특입'!$A$6:$A$100,'2추총괄표'!$A9) -> 0 | D9: =SUMIFS('2추 세입'!$N$6:$N$100,'2추 세입'!$A$6:$A$100,'2추총괄표'!$A9)+SUMIFS('1추특입'!$N$6:$N$100,'1추특입'!$A$6:$A$100,'2추총괄표'!$A9) -> 0 | E9: =SUMIFS('2추 세출'!M$6:M$264,'2추 세출'!$A$6:$A$264,'2추총괄표'!$A9)+SUMIFS('1추특출'!M$6:M$100,'1추특출'!$A$6:$A$100,'2추총괄표'!$A9) -> 0 | F9: =SUMIFS('2추 세출'!N$6:N$264,'2추 세출'!$A$6:$A$264,'2추총괄표'!$A9)+SUMIFS('1추특출'!N$6:N$100,'1추특출'!$A$6:$A$100,'2추총괄표'!$A9) -> 0 | G9: =B9+E9+F9 -> 0 | I9: 특별회계 | J9: =SUM(C25:D25) -> 0 | K9: =SUM(E25:F25) -> 0 | L9: =J9-K9 -> 0
A10: 경제과학기술위원회 | B10: =C33 -> 0 | C10: =SUMIFS('2추 세입'!$M$6:$M$100,'2추 세입'!$A$6:$A$100,'2추총괄표'!$A10)+SUMIFS('1추특입'!$M$6:$M$100,'1추특입'!$A$6:$A$100,'2추총괄표'!$A10) -> 0 | D10: =SUMIFS('2추 세입'!$N$6:$N$100,'2추 세입'!$A$6:$A$100,'2추총괄표'!$A10)+SUMIFS('1추특입'!$N$6:$N$100,'1추특입'!$A$6:$A$100,'2추총괄표'!$A10) -> 0 | E10: =SUMIFS('2추 세출'!M$6:M$264,'2추 세출'!$A$6:$A$264,'2추총괄표'!$A10)+SUMIFS('1추특출'!M$6:M$100,'1추특출'!$A$6:$A$100,'2추총괄표'!$A10) -> 0 | F10: =SUMIFS('2추 세출'!N$6:N$264,'2추 세출'!$A$6:$A$264,'2추총괄표'!$A10)+SUMIFS('1추특출'!N$6:N$100,'1추특출'!$A$6:$A$100,'2추총괄표'!$A10) -> 0 | G10: =B10+E10+F10 -> 0
A11: 안전행정위원회 | B11: =C34 -> 0 | C11: =SUMIFS('2추 세입'!$M$6:$M$100,'2추 세입'!$A$6:$A$100,'2추총괄표'!$A11)+SUMIFS('1추특입'!$M$6:$M$100,'1추특입'!$A$6:$A$100,'2추총괄표'!$A11) -> 0 | D11: =SUMIFS('2추 세입'!$N$6:$N$100,'2추 세입'!$A$6:$A$100,'2추총괄표'!$A11)+SUMIFS('1추특입'!$N$6:$N$100,'1추특입'!$A$6:$A$100,'2추총괄표'!$A11) -> 0 | E11: =SUMIFS('2추 세출'!M$6:M$264,'2추 세출'!$A$6:$A$264,'2추총괄표'!$A11)+SUMIFS('1추특출'!M$6:M$100,'1추특출'!$A$6:$A$100,'2추총괄표'!$A11) -> 0 | F11: =SUMIFS('2추 세출'!N$6:N$264,'2추 세출'!$A$6:$A$264,'2추총괄표'!$A11)+SUMIFS('1추특출'!N$6:N$100,'1추특출'!$A$6:$A$100,'2추총괄표'!$A11) -> 0 | G11: =B11+E11+F11 -> 0
A12: 문화체육관광위원회 | B12: =C35 -> 0 | C12: =SUMIFS('2추 세입'!$M$6:$M$100,'2추 세입'!$A$6:$A$100,'2추총괄표'!$A12)+SUMIFS('1추특입'!$M$6:$M$100,'1추특입'!$A$6:$A$100,'2추총괄표'!$A12) -> 0 | D12: =SUMIFS('2추 세입'!$N$6:$N$100,'2추 세입'!$A$6:$A$100,'2추총괄표'!$A12)+SUMIFS('1추특입'!$N$6:$N$100,'1추특입'!$A$6:$A$100,'2추총괄표'!$A12) -> 0 | E12: =SUMIFS('2추 세출'!M$6:M$264,'2추 세출'!$A$6:$A$264,'2추총괄표'!$A12)+SUMIFS('1추특출'!M$6:M$100,'1추특출'!$A$6:$A$100,'2추총괄표'!$A12) -> 0 | F12: =SUMIFS('2추 세출'!N$6:N$264,'2추 세출'!$A$6:$A$264,'2추총괄표'!$A12)+SUMIFS('1추특출'!N$6:N$100,'1추특출'!$A$6:$A$100,'2추총괄표'!$A12) -> 0 | G12: =B12+E12+F12 -> 0
A13: 농정해양위원회 | B13: =C36 -> 0 | C13: =SUMIFS('2추 세입'!$M$6:$M$100,'2추 세입'!$A$6:$A$100,'2추총괄표'!$A13)+SUMIFS('1추특입'!$M$6:$M$100,'1추특입'!$A$6:$A$100,'2추총괄표'!$A13) -> 0 | D13: =SUMIFS('2추 세입'!$N$6:$N$100,'2추 세입'!$A$6:$A$100,'2추총괄표'!$A13)+SUMIFS('1추특입'!$N$6:$N$100,'1추특입'!$A$6:$A$100,'2추총괄표'!$A13) -> 0 | E13: =SUMIFS('2추 세출'!M$6:M$264,'2추 세출'!$A$6:$A$264,'2추총괄표'!$A13)+SUMIFS('1추특출'!M$6:M$100,'1추특출'!$A$6:$A$100,'2추총괄표'!$A13) -> 0 | F13: =SUMIFS('2추 세출'!N$6:N$264,'2추 세출'!$A$6:$A$264,'2추총괄표'!$A13)+SUMIFS('1추특출'!N$6:N$100,'1추특출'!$A$6:$A$100,'2추총괄표'!$A13) -> 0 | G13: =B13+E13+F13 -> 0
A14: 보건복지위원회 | B14: =C37 -> 0 | C14: =SUMIFS('2추 세입'!$M$6:$M$100,'2추 세입'!$A$6:$A$100,'2추총괄표'!$A14)+SUMIFS('1추특입'!$M$6:$M$100,'1추특입'!$A$6:$A$100,'2추총괄표'!$A14) -> 0 | D14: =SUMIFS('2추 세입'!$N$6:$N$100,'2추 세입'!$A$6:$A$100,'2추총괄표'!$A14)+SUMIFS('1추특입'!$N$6:$N$100,'1추특입'!$A$6:$A$100,'2추총괄표'!$A14) -> 0 | E14: =SUMIFS('2추 세출'!M$6:M$264,'2추 세출'!$A$6:$A$264,'2추총괄표'!$A14)+SUMIFS('1추특출'!M$6:M$100,'1추특출'!$A$6:$A$100,'2추총괄표'!$A14) -> 0 | F14: =SUMIFS('2추 세출'!N$6:N$264,'2추 세출'!$A$6:$A$264,'2추총괄표'!$A14)+SUMIFS('1추특출'!N$6:N$100,'1추특출'!$A$6:$A$100,'2추총괄표'!$A14) -> 0 | G14: =B14+E14+F14 -> 0
A15: 건설교통위원회 | B15: =C38 -> 0 | C15: =SUMIFS('2추 세입'!$M$6:$M$100,'2추 세입'!$A$6:$A$100,'2추총괄표'!$A15)+SUMIFS('1추특입'!$M$6:$M$100,'1추특입'!$A$6:$A$100,'2추총괄표'!$A15) -> 0 | D15: =SUMIFS('2추 세입'!$N$6:$N$100,'2추 세입'!$A$6:$A$100,'2추총괄표'!$A15)+SUMIFS('1추특입'!$N$6:$N$100,'1추특입'!$A$6:$A$100,'2추총괄표'!$A15) -> 0 | E15: =SUMIFS('2추 세출'!M$6:M$264,'2추 세출'!$A$6:$A$264,'2추총괄표'!$A15)+SUMIFS('1추특출'!M$6:M$100,'1추특출'!$A$6:$A$100,'2추총괄표'!$A15) -> 0 | F15: =SUMIFS('2추 세출'!N$6:N$264,'2추 세출'!$A$6:$A$264,'2추총괄표'!$A15)+SUMIFS('1추특출'!N$6:N$100,'1추특출'!$A$6:$A$100,'2추총괄표'!$A15) -> 0 | G15: =B15+E15+F15 -> 0
A16: 도시환경위원회 | B16: =C39 -> 0 | C16: =SUMIFS('2추 세입'!$M$6:$M$100,'2추 세입'!$A$6:$A$100,'2추총괄표'!$A16)+SUMIFS('1추특입'!$M$6:$M$100,'1추특입'!$A$6:$A$100,'2추총괄표'!$A16) -> 0 | D16: =SUMIFS('2추 세입'!$N$6:$N$100,'2추 세입'!$A$6:$A$100,'2추총괄표'!$A16)+SUMIFS('1추특입'!$N$6:$N$100,'1추특입'!$A$6:$A$100,'2추총괄표'!$A16) -> 0 | E16: =SUMIFS('2추 세출'!M$6:M$264,'2추 세출'!$A$6:$A$264,'2추총괄표'!$A16)+SUMIFS('1추특출'!M$6:M$100,'1추특출'!$A$6:$A$100,'2추총괄표'!$A16) -> 0 | F16: =SUMIFS('2추 세출'!N$6:N$264,'2추 세출'!$A$6:$A$264,'2추총괄표'!$A16)+SUMIFS('1추특출'!N$6:N$100,'1추특출'!$A$6:$A$100,'2추총괄표'!$A16) -> 0 | G16: =B16+E16+F16 -> 0
A17: 여성가족교육협력위원회 | B17: =C40 -> 0 | C17: =SUMIFS('2추 세입'!$M$6:$M$100,'2추 세입'!$A$6:$A$100,'2추총괄표'!$A17)+SUMIFS('1추특입'!$M$6:$M$100,'1추특입'!$A$6:$A$100,'2추총괄표'!$A17) -> 0 | D17: =SUMIFS('2추 세입'!$N$6:$N$100,'2추 세입'!$A$6:$A$100,'2추총괄표'!$A17)+SUMIFS('1추특입'!$N$6:$N$100,'1추특입'!$A$6:$A$100,'2추총괄표'!$A17) -> 0 | E17: =SUMIFS('2추 세출'!M$6:M$264,'2추 세출'!$A$6:$A$264,'2추총괄표'!$A17)+SUMIFS('1추특출'!M$6:M$100,'1추특출'!$A$6:$A$100,'2추총괄표'!$A17) -> 0 | F17: =SUMIFS('2추 세출'!N$6:N$264,'2추 세출'!$A$6:$A$264,'2추총괄표'!$A17)+SUMIFS('1추특출'!N$6:N$100,'1추특출'!$A$6:$A$100,'2추총괄표'!$A17) -> 0 | G17: =B17+E17+F17 -> 0
A19: □ 회계별 예산 총 규모
G20: (단위 : 천원)
A21: 구 분 | B21: 집행부제출(안) | C21: 세입예산(안) | E21: 세출예산(안) | G21: 수정예산(안) | I21: 세입기준
C22: 감 액 | D22: 증 액 | E22: 감 액 | F22: 증 액 | I22: 수정예산(안) | J22: 세출기준-세입기준
A23: 합 계 | B23: =SUM(B24:B25) -> 0 | C23: =SUM(C24:C25) -> 0 | D23: =SUM(D24:D25) -> 0 | E23: =SUM(E24:E25) -> 0 | F23: =SUM(F24:F25) -> 0 | G23: =SUM(G24:G25) -> 0 | I23: =SUM(I24:I25) -> 0 | J23: =G23-I23 -> 0
A24: 일반회계 | B24: =E30 -> 0 | C24: ='2추 세입'!M6 -> 0 | D24: ='2추 세입'!N6 -> 0 | E24: ='2추 세출'!M6 -> 0 | F24: ='2추 세출'!N6 -> 0 | G24: =B24+E24+F24 -> 0 | I24: =B24+C24+D24 -> 0 | J24: =G24-I24 -> 0
A25: 특별회계 | B25: =D30 -> 0 | C25: ='1추특입'!M6 -> 0 | D25: ='1추특입'!N6 -> 0 | E25: ='1추특출'!M6 -> 0 | F25: ='1추특출'!N6 -> 0 | G25: =B25+E25+F25 -> 0 | I25: =B25+C25+D25 -> 0 | J25: =G25-I25 -> 0
A28: ※ 회계별, 위원회별 집행부제출안
A29: 위원회명 | B29: 합계 | C29: 일반+기타 | D29: 일반회계 | E29: 기타특별회계 | F29: 공기업특별회계
A30: 합계 | B30: =SUM(B31:B40) -> 0 | C30: =SUM(C31:C40) -> 0 | D30: =SUM(D31:D40) -> 0 | E30: =SUM(E31:E40) -> 0 | F30: =SUM(F31:F40) -> 0
A31: 의회운영위원회 | B31: =SUM(D31:F31) -> 0 | C31: =D31+E31 -> 0 | D31: 0
A32: 기획재정위원회 | B32: =SUM(D32:F32) -> 0
A33: 경제과학기술위원회 | B33: =SUM(D33:F33) -> 0
A34: 안전행정위원회 | B34: =SUM(D34:F34) -> 0
A35: 문화체육관광위원회 | B35: =SUM(D35:F35) -> 0
A36: 농정해양위원회 | B36: =SUM(D36:F36) -> 0
A37: 보건복지위원회 | B37: =SUM(D37:F37) -> 0
A38: 건설교통위원회 | B38: =SUM(D38:F38) -> 0
A39: 도시환경위원회 | B39: =SUM(D39:F39) -> 0
A40: 여성가족교육협력위원회 | B40: =SUM(D40:F40) -> 0
A42: 예비비

Sheet 1추총괄표(실국)
A1: 2015년도 제1회 추경 일반 및 특별회계 세입·세출 예산안(전체예산총괄)
A2: □ 총괄(실국별)
D3: =SUM(C6:D6) -> 0 | F3: =SUM(E6:F6) -> 0 | G3: (단위 : 천원) | I3: (일반회계) | P3: (특별회계)
A4: 구 분 | B4: 집행부제출(안) | C4: 세입예산(안) | E4: 세출예산(안) | G4: 수정예산(안) | I4: 집행부제출(안) | J4: 세입예산(안) | L4: 세출예산(안) | N4: 수정예산(안) | P4: 집행부제출(안) | Q4: 세입예산(안) | S4: 세출예산(안) | U4: 수정예산(안)
C5: 감 액 | D5: 증 액 | E5: 감 액 | F5: 증 액 | J5: 감 액 | K5: 증 액 | L5: 감 액 | M5: 증 액 | Q5: 감 액 | R5: 증 액 | S5: 감 액 | T5: 증 액
A6: 합계 | B6: =SUM(B7:B36) -> 738556856 | C6: =SUM(C7:C36) -> 0 | D6: =SUM(D7:D36) -> 0 | E6: =SUM(E7:E36) -> 0 | F6: =SUM(F7:F36) -> 0 | G6: =SUM(G7:G36) -> 738556856 | I6: =SUM(I7:I36) -> 738556856 | J6: =SUM(J7:J36) -> 0 | K6: =SUM(K7:K36) -> 0 | L6: =SUM(L7:L36) -> 0 | M6: =SUM(M7:M36) -> 0 | N6: =SUM(N7:N36) -> 738556856 | P6: =SUM(P7:P36) -> 0 | Q6: =SUM(Q7:Q36) -> 0 | R6: =SUM(R7:R36) -> 0 | S6: =SUM(S7:S36) -> 0 | T6: =SUM(T7:T36) -> 0 | U6: =SUM(U7:U36) -> 0
A7: 감사관 | B7: =I7+P7 -> 0 | C7: =J7+Q7 -> 0 | D7: =K7+R7 -> 0 | E7: =L7+S7 -> 0 | F7: =M7+T7 -> 0 | G7: =B7+E7+F7 -> 0 | I7: =D48 -> 0 | J7: =SUMIFS('2추 세입'!M$6:M$100,'2추 세입'!$B$6:$B$100,'1추총괄표(실국)'!$A7) -> 0 | K7: =SUMIFS('2추 세입'!N$6:N$100,'2추 세입'!$B$6:$B$100,'1추총괄표(실국)'!$A7) -> 0 | L7: =SUMIFS('2추 세출'!M$6:M$264,'2추 세출'!$B$6:$B$264,'1추총괄표(실국)'!$A7) -> 0 | M7: =SUMIFS('2추 세출'!N$6:N$264,'2추 세출'!$B$6:$B$264,'1추총괄표(실국)'!$A7) -> 0 | N7: =I7+L7+M7 -> 0 | P7: =E48 -> 0 | Q7: =SUMIFS('1추특입'!M$6:M$50,'1추특입'!$B$6:$B$50,'1추총괄표(실국)'!$A7) -> 0 | R7: =SUMIFS('1추특입'!N$6:N$50,'1추특입'!$B$6:$B$50,'1추총괄표(실국)'!$A7) -> 0 | S7: =SUMIFS('1추특출'!M$6:M$40,'1추특출'!$B$6:$B$40,'1추총괄표(실국)'!$A7) -> 0 | T7: =SUMIFS('1추특출'!N$6:N$40,'1추특출'!$B$6:$B$40,'1추총괄표(실국)'!$A7) -> 0 | U7: =P7+S7+T7 -> 0
A8: 기획조정실 | B8: =I8+P8 -> 185572667 | C8: =J8+Q8 -> 0 | D8: =K8+R8 -> 0 | E8: =L8+S8 -> 0 | F8: =M8+T8 -> 0 | G8: =B8+E8+F8 -> 185572667 | I8: =D49 -> 185572667 | J8: =SUMIFS('2추 세입'!M$6:M$100,'2추 세입'!$B$6:$B$100,'1추총괄표(실국)'!$A8) -> 0 | K8: =SUMIFS('2추 세입'!N$6:N$100,'2추 세입'!$B$6:$B$100,'1추총괄표(실국)'!$A8) -> 0 | L8: =SUMIFS('2추 세출'!M$6:M$264,'2추 세출'!$B$6:$B$264,'1추총괄표(실국)'!$A8) -> 0 | M8: =SUMIFS('2추 세출'!N$6:N$264,'2추 세출'!$B$6:$B$264,'1추총괄표(실국)'!$A8) -> 0 | N8: =I8+L8+M8 -> 185572667 | P8: =E49 -> 0 | Q8: =SUMIFS('1추특입'!M$6:M$50,'1추특입'!$B$6:$B$50,'1추총괄표(실국)'!$A8) -> 0 | R8: =SUMIFS('1추특입'!N$6:N$50,'1추특입'!$B$6:$B$50,'1추총괄표(실국)'!$A8) -> 0 | S8: =SUMIFS('1추특출'!M$6:M$40,'1추특출'!$B$6:$B$40,'1추총괄표(실국)'!$A8) -> 0 | T8: =SUMIFS('1추특출'!N$6:N$40,'1추특출'!$B$6:$B$40,'1추총괄표(실국)'!$A8) -> 0 | U8: =P8+S8+T8 -> 0
A9: 도시주택실 | B9: =I9+P9 -> 8532790 | C9: =J9+Q9 -> 0 | D9: =K9+R9 -> 0 | E9: =L9+S9 -> 0 | F9: =M9+T9 -> 0 | G9: =B9+E9+F9 -> 8532790 | I9: =D50 -> 8532790 | J9: =SUMIFS('2추 세입'!M$6:M$100,'2추 세입'!$B$6:$B$100,'1추총괄표(실국)'!$A9) -> 0 | K9: =SUMIFS('2추 세입'!N$6:N$100,'2추 세입'!$B$6:$B$100,'1추총괄표(실국)'!$A9) -> 0 | L9: =SUMIFS('2추 세출'!M$6:M$264,'2추 세출'!$B$6:$B$264,'1추총괄표(실국)'!$A9) -> 0 | M9: =SUMIFS('2추 세출'!N$6:N$264,'2추 세출'!$B$6:$B$264,'1추총괄표(실국)'!$A9) -> 0 | N9: =I9+L9+M9 -> 8532790 | P9: =E50 -> 0 | Q9: =SUMIFS('1추특입'!M$6:M$50,'1추특입'!$B$6:$B$50,'1추총괄표(실국)'!$A9) -> 0 | R9: =SUMIFS('1추특입'!N$6:N$50,'1추특입'!$B$6:$B$50,'1추총괄표(실국)'!$A9) -> 0 | S9: =SUMIFS('1추특출'!M$6:M$40,'1추특출'!$B$6:$B$40,'1추총괄표(실국)'!$A9) -> 0 | T9: =SUMIFS('1추특출'!N$6:N$40,'1추특출'!$B$6:$B$40,'1추총괄표(실국)'!$A9) -> 0 | U9: =P9+S9+T9 -> 0
A10: 자치행정국 | B10: =I10+P10 -> 9603506 | C10: =J10+Q10 -> 0 | D10: =K10+R10 -> 0 | E10: =L10+S10 -> 0 | F10: =M10+T10 -> 0 | G10: =B10+E10+F10 -> 9603506 | I10: =D51 -> 9603506 | J10: =SUMIFS('2추 세입'!M$6:M$100,'2추 세입'!$B$6:$B$100,'1추총괄표(실국)'!$A10) -> 0 | K10: =SUMIFS('2추 세입'!N$6:N$100,'2추 세입'!$B$6:$B$100,'1추총괄표(실국)'!$A10) -> 0 | L10: =SUMIFS('2추 세출'!M$6:M$264,'2추 세출'!$B$6:$B$264,'1추총괄표(실국)'!$A10) -> 0 | M10: =SUMIFS('2추 세출'!N$6:N$264,'2추 세출'!$B$6:$B$264,'1추총괄표(실국)'!$A10) -> 0 | N10: =I10+L10+M10 -> 9603506 | P10: =E51 -> 0 | Q10: =SUMIFS('1추특입'!M$6:M$50,'1추특입'!$B$6:$B$50,'1추총괄표(실국)'!$A10) -> 0 | R10: =SUMIFS('1추특입'!N$6:N$50,'1추특입'!$B$6:$B$50,'1추총괄표(실국)'!$A10) -> 0 | S10: =SUMIFS('1추특출'!M$6:M$40,'1추특출'!$B$6:$B$40,'1추총괄표(실국)'!$A10) -> 0 | T10: =SUMIFS('1추특출'!N$6:N$40,'1추특출'!$B$6:$B$40,'1추총괄표(실국)'!$A10) -> 0 | U10: =P10+S10+T10 -> 0
A11: 교육협력국 | B11: =I11+P11 -> 123758756 | C11: =J11+Q11 -> 0 | D11: =K11+R11 -> 0 | E11: =L11+S11 -> 0 | F11: =M11+T11 -> 0 | G11: =B11+E11+F11 -> 123758756 | I11: =D52 -> 123758756 | J11: =SUMIFS('2추 세입'!M$6:M$100,'2추 세입'!$B$6:$B$100,'1추총괄표(실국)'!$A11) -> 0 | K11: =SUMIFS('2추 세입'!N$6:N$100,'2추 세입'!$B$6:$B$100,'1추총괄표(실국)'!$A11) -> 0 | L11: =SUMIFS('2추 세출'!M$6:M$264,'2추 세출'!$B$6:$B$264,'1추총괄표(실국)'!$A11) -> 0 | M11: =SUMIFS('2추 세출'!N$6:N$264,'2추 세출'!$B$6:$B$264,'1추총괄표(실국)'!$A11) -> 0 | N11: =I11+L11+M11 -> 123758756 | P11: =E52 -> 0 | Q11: =SUMIFS('1추특입'!M$6:M$50,'1추특입'!$B$6:$B$50,'1추총괄표(실국)'!$A11) -> 0 | R11: =SUMIFS('1추특입'!N$6:N$50,'1추특입'!$B$6:$B$50,'1추총괄표(실국)'!$A11) -> 0 | S11: =SUMIFS('1추특출'!M$6:M$40,'1추특출'!$B$6:$B$40,'1추총괄표(실국)'!$A11) -> 0 | T11: =SUMIFS('1추특출'!N$6:N$40,'1추특출'!$B$6:$B$40,'1추총괄표(실국)'!$A11) -> 0 | U11: =P11+S11+T11 -> 0
A12: 문화체육관광국 | B12: =I12+P12 -> 21603000 | C12: =J12+Q12 -> 0 | D12: =K12+R12 -> 0 | E12: =L12+S12 -> 0 | F12: =M12+T12 -> 0 | G12: =B12+E12+F12 -> 21603000 | I12: =D53 -> 21603000 | J12: =SUMIFS('2추 세입'!M$6:M$100,'2추 세입'!$B$6:$B$100,'1추총괄표(실국)'!$A12) -> 0 | K12: =SUMIFS('2추 세입'!N$6:N$100,'2추 세입'!$B$6:$B$100,'1추총괄표(실국)'!$A12) -> 0 | L12: =SUMIFS('2추 세출'!M$6:M$264,'2추 세출'!$B$6:$B$264,'1추총괄표(실국)'!$A12) -> 0 | M12: =SUMIFS('2추 세출'!N$6:N$264,'2추 세출'!$B$6:$B$264,'1추총괄표(실국)'!$A12) -> 0 | N12: =I12+L12+M12 -> 21603000 | P12: =E53 -> 0 | Q12: =SUMIFS('1추특입'!M$6:M$50,'1추특입'!$B$6:$B$50,'1추총괄표(실국)'!$A12) -> 0 | R12: =SUMIFS('1추특입'!N$6:N$50,'1추특입'!$B$6:$B$50,'1추총괄표(실국)'!$A12) -> 0 | S12: =SUMIFS('1추특출'!M$6:M$40,'1추특출'!$B$6:$B$40,'1추총괄표(실국)'!$A12) -> 0 | T12: =SUMIFS('1추특출'!N$6:N$40,'1추특출'!$B$6:$B$40,'1추총괄표(실국)'!$A12) -> 0 | U12: =P12+S12+T12 -> 0
A13: 농정해양국 | B13: =I13+P13 -> 11470364 | C13: =J13+Q13 -> 0 | D13: =K13+R13 -> 0 | E13: =L13+S13 -> 0 | F13: =M13+T13 -> 0 | G13: =B13+E13+F13 -> 11470364 | I13: =D54 -> 11470364 | J13: =SUMIFS('2추 세입'!M$6:M$100,'2추 세입'!$B$6:$B$100,'1추총괄표(실국)'!$A13) -> 0 | K13: =SUMIFS('2추 세입'!N$6:N$100,'2추 세입'!$B$6:$B$100,'1추총괄표(실국)'!$A13) -> 0 | L13: =SUMIFS('2추 세출'!M$6:M$264,'2추 세출'!$B$6:$B$264,'1추총괄표(실국)'!$A13) -> 0 | M13: =SUMIFS('2추 세출'!N$6:N$264,'2추 세출'!$B$6:$B$264,'1추총괄표(실국)'!$A13) -> 0 | N13: =I13+L13+M13 -> 11470364 | P13: =E54 -> 0 | Q13: =SUMIFS('1추특입'!M$6:M$50,'1추특입'!$B$6:$B$50,'1추총괄표(실국)'!$A13) -> 0 | R13: =SUMIFS('1추특입'!N$6:N$50,'1추특입'!$B$6:$B$50,'1추총괄표(실국)'!$A13) -> 0 | S13: =SUMIFS('1추특출'!M$6:M$40,'1추특출'!$B$6:$B$40,'1추총괄표(실국)'!$A13) -> 0 | T13: =SUMIFS('1추특출'!N$6:N$40,'1추특출'!$B$6:$B$40,'1추총괄표(실국)'!$A13) -> 0 | U13: =P13+S13+T13 -> 0
A14: 철도국 | B14: =I14+P14 -> 0 | C14: =J14+Q14 -> 0 | D14: =K14+R14 -> 0 | E14: =L14+S14 -> 0 | F14: =M14+T14 -> 0 | G14: =B14+E14+F14 -> 0 | I14: =D55 -> 0 | J14: =SUMIFS('2추 세입'!M$6:M$100,'2추 세입'!$B$6:$B$100,'1추총괄표(실국)'!$A14) -> 0 | K14: =SUMIFS('2추 세입'!N$6:N$100,'2추 세입'!$B$6:$B$100,'1추총괄표(실국)'!$A14) -> 0 | L14: =SUMIFS('2추 세출'!M$6:M$264,'2추 세출'!$B$6:$B$264,'1추총괄표(실국)'!$A14) -> 0 | M14: =SUMIFS('2추 세출'!N$6:N$264,'2추 세출'!$B$6:$B$264,'1추총괄표(실국)'!$A14) -> 0 | N14: =I14+L14+M14 -> 0 | P14: =E55 -> 0 | Q14: =SUMIFS('1추특입'!M$6:M$50,'1추특입'!$B$6:$B$50,'1추총괄표(실국)'!$A14) -> 0 | R14: =SUMIFS('1추특입'!N$6:N$50,'1추특입'!$B$6:$B$50,'1추총괄표(실국)'!$A14) -> 0 | S14: =SUMIFS('1추특출'!M$6:M$40,'1추특출'!$B$6:$B$40,'1추총괄표(실국)'!$A14) -> 0 | T14: =SUMIFS('1추특출'!N$6:N$40,'1추특출'!$B$6:$B$40,'1추총괄표(실국)'!$A14) -> 0 | U14: =P14+S14+T14 -> 0
A15: 연정협력관 | B15: =I15+P15 -> 0 | C15: =J15+Q15 -> 0 | D15: =K15+R15 -> 0 | E15: =L15+S15 -> 0 | F15: =M15+T15 -> 0 | G15: =B15+E15+F15 -> 0 | I15: =D56 -> 0 | J15: =SUMIFS('2추 세입'!M$6:M$100,'2추 세입'!$B$6:$B$100,'1추총괄표(실국)'!$A15) -> 0 | K15: =SUMIFS('2추 세입'!N$6:N$100,'2추 세입'!$B$6:$B$100,'1추총괄표(실국)'!$A15) -> 0 | L15: =SUMIFS('2추 세출'!M$6:M$264,'2추 세출'!$B$6:$B$264,'1추총괄표(실국)'!$A15) -> 0 | M15: =SUMIFS('2추 세출'!N$6:N$264,'2추 세출'!$B$6:$B$264,'1추총괄표(실국)'!$A15) -> 0 | N15: =I15+L15+M15 -> 0 | P15: =E56 -> 0 | Q15: =SUMIFS('1추특입'!M$6:M$50,'1추특입'!$B$6:$B$50,'1추총괄표(실국)'!$A15) -> 0 | R15: =SUMIFS('1추특입'!N$6:N$50,'1추특입'!$B$6:$B$50,'1추총괄표(실국)'!$A15) -> 0 | S15: =SUMIFS('1추특출'!M$6:M$40,'1추특출'!$B$6:$B$40,'1추총괄표(실국)'!$A15) -> 0 | T15: =SUMIFS('1추특출'!N$6:N$40,'1추특출'!$B$6:$B$40,'1추총괄표(실국)'!$A15) -> 0 | U15: =P15+S15+T15 -> 0
A16: 대외협력담당관 | B16: =I16+P16 -> 0 | C16: =J16+Q16 -> 0 | D16: =K16+R16 -> 0 | E16: =L16+S16 -> 0 | F16: =M16+T16 -> 0 | G16: =B16+E16+F16 -> 0 | I16: =D57 -> 0 | J16: =SUMIFS('2추 세입'!M$6:M$100,'2추 세입'!$B$6:$B$100,'1추총괄표(실국)'!$A16) -> 0 | K16: =SUMIFS('2추 세입'!N$6:N$100,'2추 세입'!$B$6:$B$100,'1추총괄표(실국)'!$A16) -> 0 | L16: =SUMIFS('2추 세출'!M$6:M$264,'2추 세출'!$B$6:$B$264,'1추총괄표(실국)'!$A16) -> 0 | M16: =SUMIFS('2추 세출'!N$6:N$264,'2추 세출'!$B$6:$B$264,'1추총괄표(실국)'!$A16) -> 0 | N16: =I16+L16+M16 -> 0 | P16: =E57 -> 0 | Q16: =SUMIFS('1추특입'!M$6:M$50,'1추특입'!$B$6:$B$50,'1추총괄표(실국)'!$A16) -> 0 | R16: =SUMIFS('1추특입'!N$6:N$50,'1추특입'!$B$6:$B$50,'1추총괄표(실국)'!$A16) -> 0 | S16: =SUMIFS('1추특출'!M$6:M$40,'1추특출'!$B$6:$B$40,'1추총괄표(실국)'!$A16) -> 0 | T16: =SUMIFS('1추특출'!N$6:N$40,'1추특출'!$B$6:$B$40,'1추총괄표(실국)'!$A16) -> 0 | U16: =P16+S16+T16 -> 0
A17: 보건복지국 | B17: =I17+P17 -> 23662291 | C17: =J17+Q17 -> 0 | D17: =K17+R17 -> 0 | E17: =L17+S17 -> 0 | F17: =M17+T17 -> 0 | G17: =B17+E17+F17 -> 23662291 | I17: =D58 -> 23662291 | J17: =SUMIFS('2추 세입'!M$6:M$100,'2추 세입'!$B$6:$B$100,'1추총괄표(실국)'!$A17) -> 0 | K17: =SUMIFS('2추 세입'!N$6:N$100,'2추 세입'!$B$6:$B$100,'1추총괄표(실국)'!$A17) -> 0 | L17: =SUMIFS('2추 세출'!M$6:M$264,'2추 세출'!$B$6:$B$264,'1추총괄표(실국)'!$A17) -> 0 | M17: =SUMIFS('2추 세출'!N$6:N$264,'2추 세출'!$B$6:$B$264,'1추총괄표(실국)'!$A17) -> 0 | N17: =I17+L17+M17 -> 23662291 | P17: =E58 -> 0 | Q17: =SUMIFS('1추특입'!M$6:M$50,'1추특입'!$B$6:$B$50,'1추총괄표(실국)'!$A17) -> 0 | R17: =SUMIFS('1추특입'!N$6:N$50,'1추특입'!$B$6:$B$50,'1추총괄표(실국)'!$A17) -> 0 | S17: =SUMIFS('1추특출'!M$6:M$40,'1추특출'!$B$6:$B$40,'1추총괄표(실국)'!$A17) -> 0 | T17: =SUMIFS('1추특출'!N$6:N$40,'1추특출'!$B$6:$B$40,'1추총괄표(실국)'!$A17) -> 0 | U17: =P17+S17+T17 -> 0
A18: 환경국 | B18: =I18+P18 -> 87000 | C18: =J18+Q18 -> 0 | D18: =K18+R18 -> 0 | E18: =L18+S18 -> 0 | F18: =M18+T18 -> 0 | G18: =B18+E18+F18 -> 87000 | I18: =D59 -> 87000 | J18: =SUMIFS('2추 세입'!M$6:M$100,'2추 세입'!$B$6:$B$100,'1추총괄표(실국)'!$A18) -> 0 | K18: =SUMIFS('2추 세입'!N$6:N$100,'2추 세입'!$B$6:$B$100,'1추총괄표(실국)'!$A18) -> 0 | L18: =SUMIFS('2추 세출'!M$6:M$264,'2추 세출'!$B$6:$B$264,'1추총괄표(실국)'!$A18) -> 0 | M18: =SUMIFS('2추 세출'!N$6:N$264,'2추 세출'!$B$6:$B$264,'1추총괄표(실국)'!$A18) -> 0 | N18: =I18+L18+M18 -> 87000 | P18: =E59 -> 0 | Q18: =SUMIFS('1추특입'!M$6:M$50,'1추특입'!$B$6:$B$50,'1추총괄표(실국)'!$A18) -> 0 | R18: =SUMIFS('1추특입'!N$6:N$50,'1추특입'!$B$6:$B$50,'1추총괄표(실국)'!$A18) -> 0 | S18: =SUMIFS('1추특출'!M$6:M$40,'1추특출'!$B$6:$B$40,'1추총괄표(실국)'!$A18) -> 0 | T18: =SUMIFS('1추특출'!N$6:N$40,'1추특출'!$B$6:$B$40,'1추총괄표(실국)'!$A18) -> 0 | U18: =P18+S18+T18 -> 0
... A36: 건설본부 | B36: =I36+P36 -> 0 | C36: =J36+Q36 -> 0 | D36: =K36+R36 -> 0 | E36: =L36+S36 -> 0 | F36: =M36+T36 -> 0 | G36: =B36+E36+F36 -> 0 | I36: =D77 -> 0 | J36: =SUMIFS('2추 세입'!M$6:M$100,'2추 세입'!$B$6:$B$100,'1추총괄표(실국)'!$A36) -> 0 | K36: =SUMIFS('2추 세입'!N$6:N$100,'2추 세입'!$B$6:$B$100,'1추총괄표(실국)'!$A36) -> 0 | L36: =SUMIFS('2추 세출'!M$6:M$264,'2추 세출'!$B$6:$B$264,'1추총괄표(실국)'!$A36) -> 0 | M36: =SUMIFS('2추 세출'!N$6:N$264,'2추 세출'!$B$6:$B$264,'1추총괄표(실국)'!$A36) -> 0 | N36: =I36+L36+M36 -> 0 | P36: =E77 -> 0 | Q36: =SUMIFS('1추특입'!M$6:M$50,'1추특입'!$B$6:$B$50,'1추총괄표(실국)'!$A36) -> 0 | R36: =SUMIFS('1추특입'!N$6:N$50,'1추특입'!$B$6:$B$50,'1추총괄표(실국)'!$A36) -> 0 | S36: =SUMIFS('1추특출'!M$6:M$40,'1추특출'!$B$6:$B$40,'1추총괄표(실국)'!$A36) -> 0 | T36: =SUMIFS('1추특출'!N$6:N$40,'1추특출'!$B$6:$B$40,'1추총괄표(실국)'!$A36) -> 0 | U36: =P36+S36+T36 -> 0
A39: ※ 예산안 증감현황
A40: 구 분 | B40: 세입 | C40: 세출 | D40: 예비비 | E40: 비고(???)
A41: 합 계 | B41: =SUM(B42:B43) -> 0 | C41: =SUM(C42:C43) -> 0 | D41: =B41-C41 -> 0
A42: 일반회계 | B42: =SUM(J6:K6) -> 0 | C42: =SUM(L6:M6) -> 0 | D42: =B42-C42 -> 0 | E42: 예비비 증감 - 감액, + 증액에 입력
A43: 특별회계 | B43: =SUM(Q6:R6) -> 0 | C43: =SUM(S6:T6) -> 0 | D43: =B43-C43 -> 0
A45: ※ 집행부제출안
A46: 구분 | B46: 합계 | C46: 일반+기타 | D46: 일반회계 | E46: 기타특별회계 | F46: 공기업특별회계
A47: 합계 | B47: =SUM(B48:B77) -> 738556856 | C47: =SUM(C48:C77) -> 738556856 | D47: =SUM(D48:D77) -> 738556856 | E47: =SUM(E48:E77) -> 0 | F47: =SUM(F48:F77) -> 0 | G47: =IF(D47='2추총괄표'!D30,"OK","@@") -> @@
A48: 감사관 | B48: =SUM(D48:F48) -> 0 | C48: =D48+E48 -> 0 | D48: 0
A49: 기획조정실 | B49: =SUM(D49:F49) -> 185572667 | C49: =D49+E49 -> 185572667 | D49: 185572667
A50: 도시주택실 | B50: =SUM(D50:F50) -> 8532790 | C50: =D50+E50 -> 8532790 | D50: 8532790
A51: 자치행정국 | B51: =SUM(D51:F51) -> 9603506 | C51: =D51+E51 -> 9603506 | D51: 9603506
A52: 교육협력국 | B52: =SUM(D52:F52) -> 123758756 | C52: =D52+E52 -> 123758756 | D52: 123758756
A53: 문화체육관광국 | B53: =SUM(D53:F53) -> 21603000 | C53: =D53+E53 -> 21603000 | D53: 21603000
A54: 농정해양국 | B54: =SUM(D54:F54) -> 11470364 | C54: =D54+E54 -> 11470364 | D54: 11470364
A55: 철도국 | B55: =SUM(D55:F55) -> 0 | C55: =D55+E55 -> 0 | D55: 0
A56: 연정협력관 | B56: =SUM(D56:F56) -> 0 | C56: =D56+E56 -> 0 | D56: 0
A57: 대외협력담당관 | B57: =SUM(D57:F57) -> 0 | C57: =D57+E57 -> 0 | D57: 0
A58: 보건복지국 | B58: =SUM(D58:F58) -> 23662291 | C58: =D58+E58 -> 23662291 | D58: 23662291
A59: 환경국 | B59: =SUM(D59:F59) -> 87000 | C59: =D59+E59 -> 87000 | D59: 87000
... A77: 건설본부 | B77: =SUM(D77:F77) -> 0 | C77: =D77+E77 -> 0 | D77: 0

Sheet 1추총괄표(위원회)
B1: 2015년도 제1회 추경 일반회계 세입·세출 총괄표
P3: (단위 : 천원) | AD3: (단위 : 천원)
B4: 위원회 및 실국명 | D4: 세입 | R4: 세입 | AF4: 국비 검증
D5: 제1회 추경 예산안 (가) | E5: 기정액 (나) | F5: 제1회 추경 증감액 (다=가-나) | G5: 상임위 조정액(라) | I5: 상임위 수정 예산안 (마=가or나+라) | J5: 상임위 재원별 증감액 | L5: 예결위 조정액(라) | N5: 예결위 수정 예산안 (마=가or나+라) | O5: 예결위 재원별 증감액 | R5: 제1회 추경 예산안 (가) | S5: 기정액 (나) | T5: 제1회 추경 증감액 (다=가-나) | U5: 상임위 조정액(라) | W5: 상임위 수정 예산안 (마=가or나+라) | X5: 상임위 재원별 증감액 | Z5: 예결위 조정액(라) | AB5: 예결위 수정 예산안 (마=가or나+라) | AC5: 예결위 재원별 증감액 | AF5: 상임위 | AH5: 예결위
G6: 감액 | H6: 증액 | J6: 국비 등 | K6: 도비 | L6: 감액 | M6: 증액 | O6: 국비 등 | P6: 도비 | U6: 감액 | V6: 증액 | X6: 국비 등 | Y6: 도비 | Z6: 감액 | AA6: 증액 | AC6: 국비 등 | AD6: 도비 | AF6: 검증 | AG6: 차액 | AH6: 검증 | AI6: 차액
B7: 합 계 | D7: =SUM(D8:D52)/2 -> 399544075 | E7: =SUM(E8:E52)/2 -> 517914734 | F7: =SUM(F8:F52)/2 -> -118370659 | G7: =SUM(G8:G52)/2 -> -10349503 | H7: =SUM(H8:H52)/2 -> 30694579 | I7: =SUM(I8:I52)/2 -> 542351597 | J7: =SUM(J8:J52)/2 -> 19752389 | K7: =SUM(K8:K52)/2 -> 2 | ... P7: =SUM(P8:P52)/2 -> 0 | R7: =SUM(R8:R52)/2 -> 315304991 | S7: =SUM(S8:S52)/2 -> 338531347 | T7: =SUM(T8:T52)/2 -> -23226356 | U7: =SUM(U8:U52)/2 -> -28545918 | V7: =SUM(V8:V52)/2 -> 48418231 | W7: =SUM(W8:W52)/2 -> 475768304 | X7: =SUM(X8:X52)/2 -> 8313839 | Y7: =SUM(Y8:Y52)/2 -> 0 | ... AD7: =SUM(AD8:AD52)/2 -> 0 | AF7: =IF(J7=X7,"OK","@@") -> @@ | AG7: =J7-X7 -> 11438550 | AH7: =IF(O7=AC7,"OK","@@") -> OK | AI7: =O7-AC7 -> 0
B8: 의회운영위원회 | D8: =SUM(D9:D13) -> 0 | E8: =SUM(E9:E13) -> 0 | F8: =SUM(F9:F13) -> 0 | G8: =SUM(G9:G13) -> 0 | H8: =SUM(H9:H13) -> 0 | I8: =SUM(I9:I13) -> 0 | J8: =SUM(J9:J13) -> 0 | K8: =SUM(K9:K13) -> 0 | ... P8: =SUM(P9:P13) -> 0 | R8: =SUM(R9:R13) -> 7112000 | S8: =SUM(S9:S13) -> 5226996 | T8: =SUM(T9:T13) -> 1885004 | U8: =SUM(U9:U13) -> -1765000 | V8: =SUM(V9:V13) -> 900000 | W8: =SUM(W9:W13) -> 8373996 | X8: =SUM(X9:X13) -> -30000 | Y8: =SUM(Y9:Y13) -> 0 | ... AD8: =SUM(AD9:AD13) -> 0 | AF8: =IF(J8=X8,"OK","@@") -> @@ | AG8: =J8-X8 -> 30000 | AH8: =IF(O8=AC8,"OK","@@") -> OK | AI8: =O8-AC8 -> 0
A9: 의회운영위원회 | C9: 의회사무처 | D9: =SUMIFS('2추 세입'!G$6:G$100,'2추 세입'!$A$6:$A$100,'1추총괄표(위원회)'!$A9,'2추 세입'!$B$6:$B$100,'1추총괄표(위원회)'!$C9) -> 0 | E9: =SUMIFS('2추 세입'!H$6:H$100,'2추 세입'!$A$6:$A$100,'1추총괄표(위원회)'!$A9,'2추 세입'!$B$6:$B$100,'1추총괄표(위원회)'!$C9) -> 0 | F9: =D9-E9 -> 0 | G9: =SUMIFS('2추 세입'!J$6:J$100,'2추 세입'!$A$6:$A$100,'1추총괄표(위원회)'!$A9,'2추 세입'!$B$6:$B$100,'1추총괄표(위원회)'!$C9) -> 0 | H9: =SUMIFS('2추 세입'!K$6:K$100,'2추 세입'!$A$6:$A$100,'1추총괄표(위원회)'!$A9,'2추 세입'!$B$6:$B$100,'1추총괄표(위원회)'!$C9) -> 0 | I9: =SUMIFS('2추 세입'!L$6:L$100,'2추 세입'!$A$6:$A$100,'1추총괄표(위원회)'!$A9,'2추 세입'!$B$6:$B$100,'1추총괄표(위원회)'!$C9) -> 0 | J9: =SUMIFS('2추 세입'!V$6:V$100,'2추 세입'!$A$6:$A$100,'1추총괄표(위원회)'!$A9,'2추 세입'!$B$6:$B$100,'1추총괄표(위원회)'!$C9) -> 0 | K9: =SUMIFS('2추 세입'!W$6:W$100,'2추 세입'!$A$6:$A$100,'1추총괄표(위원회)'!$A9,'2추 세입'!$B$6:$B$100,'1추총괄표(위원회)'!$C9) -> 0 | L9: =SUMIFS('2추 세입'!M$6:M$100,'2추 세입'!$A$6:$A$100,'1추총괄표(위원회)'!$A9,'2추 세입'!$B$6:$B$100,'1추총괄표(위원회)'!$C9) -> 0 | M9: =SUMIFS('2추 세입'!N$6:N$100,'2추 세입'!$A$6:$A$100,'1추총괄표(위원회)'!$A9,'2추 세입'!$B$6:$B$100,'1추총괄표(위원회)'!$C9) -> 0 | N9: =SUMIFS('2추 세입'!O$6:O$100,'2추 세입'!$A$6:$A$100,'1추총괄표(위원회)'!$A9,'2추 세입'!$B$6:$B$100,'1추총괄표(위원회)'!$C9) -> 0 | O9: =SUMIFS('2추 세입'!AA$6:AA$100,'2추 세입'!$A$6:$A$100,'1추총괄표(위원회)'!$A9,'2추 세입'!$B$6:$B$100,'1추총괄표(위원회)'!$C9) -> 0 | P9: =SUMIFS('2추 세입'!AB$6:AB$100,'2추 세입'!$A$6:$A$100,'1추총괄표(위원회)'!$A9,'2추 세입'!$B$6:$B$100,'1추총괄표(위원회)'!$C9) -> 0 | R9: =SUMIFS('2추 세출'!G$6:G$264,'2추 세출'!$A$6:$A$264,'1추총괄표(위원회)'!$A9,'2추 세출'!$B$6:$B$264,'1추총괄표(위원회)'!$C9) -> 326000 | S9: =SUMIFS('2추 세출'!H$6:H$264,'2추 세출'!$A$6:$A$264,'1추총괄표(위원회)'!$A9,'2추 세출'!$B$6:$B$264,'1추총괄표(위원회)'!$C9) -> 2126996 | T9: =R9-S9 -> -1800996 | U9: =SUMIFS('2추 세출'!J$6:J$264,'2추 세출'!$A$6:$A$264,'1추총괄표(위원회)'!$A9,'2추 세출'!$B$6:$B$264,'1추총괄표(위원회)'!$C9) -> 0 | V9: =SUMIFS('2추 세출'!K$6:K$264,'2추 세출'!$A$6:$A$264,'1추총괄표(위원회)'!$A9,'2추 세출'!$B$6:$B$264,'1추총괄표(위원회)'!$C9) -> 826000 | W9: =SUMIFS('2추 세출'!L$6:L$264,'2추 세출'!$A$6:$A$264,'1추총괄표(위원회)'!$A9,'2추 세출'!$B$6:$B$264,'1추총괄표(위원회)'!$C9) -> 3278996 | X9: =SUMIFS('2추 세출'!V$6:V$264,'2추 세출'!$A$6:$A$264,'1추총괄표(위원회)'!$A9,'2추 세출'!$B$6:$B$264,'1추총괄표(위원회)'!$C9) -> 20000 | Y9: =SUMIFS('2추 세출'!W$6:W$264,'2추 세출'!$A$6:$A$264,'1추총괄표(위원회)'!$A9,'2추 세출'!$B$6:$B$264,'1추총괄표(위원회)'!$C9) -> 0 | Z9: =SUMIFS('2추 세출'!M$6:M$264,'2추 세출'!$A$6:$A$264,'1추총괄표(위원회)'!$A9,'2추 세출'!$B$6:$B$264,'1추총괄표(위원회)'!$C9) -> 0 | AA9: =SUMIFS('2추 세출'!N$6:N$264,'2추 세출'!$A$6:$A$264,'1추총괄표(위원회)'!$A9,'2추 세출'!$B$6:$B$264,'1추총괄표(위원회)'!$C9) -> 0 | AB9: =SUMIFS('2추 세출'!O$6:O$264,'2추 세출'!$A$6:$A$264,'1추총괄표(위원회)'!$A9,'2추 세출'!$B$6:$B$264,'1추총괄표(위원회)'!$C9) -> 2452996 | AC9: =SUMIFS('2추 세출'!AA$6:AA$264,'2추 세출'!$A$6:$A$264,'1추총괄표(위원회)'!$A9,'2추 세출'!$B$6:$B$264,'1추총괄표(위원회)'!C$9) -> 0 | AD9: =SUMIFS('2추 세출'!AB$6:AB$264,'2추 세출'!$A$6:$A$264,'1추총괄표(위원회)'!$A9,'2추 세출'!$B$6:$B$264,'1추총괄표(위원회)'!D$9) -> 0 | AF9: =IF(J9=X9,"OK","@@") -> @@ | AG9: =J9-X9 -> -20000 | AH9: =IF(O9=AC9,"OK","@@") -> OK | AI9: =O9-AC9 -> 0
A10: 의회운영위원회 | C10: 소통기획관 | D10: =SUMIFS('2추 세입'!G$6:G$100,'2추 세입'!$A$6:$A$100,'1추총괄표(위원회)'!$A10,'2추 세입'!$B$6:$B$100,'1추총괄표(위원회)'!$C10) -> 0 | E10: =SUMIFS('2추 세입'!H$6:H$100,'2추 세입'!$A$6:$A$100,'1추총괄표(위원회)'!$A10,'2추 세입'!$B$6:$B$100,'1추총괄표(위원회)'!$C10) -> 0 | F10: =D10-E10 -> 0 | G10: =SUMIFS('2추 세입'!J$6:J$100,'2추 세입'!$A$6:$A$100,'1추총괄표(위원회)'!$A10,'2추 세입'!$B$6:$B$100,'1추총괄표(위원회)'!$C10) -> 0 | H10: =SUMIFS('2추 세입'!K$6:K$100,'2추 세입'!$A$6:$A$100,'1추총괄표(위원회)'!$A10,'2추 세입'!$B$6:$B$100,'1추총괄표(위원회)'!$C10) -> 0 | I10: =SUMIFS('2추 세입'!L$6:L$100,'2추 세입'!$A$6:$A$100,'1추총괄표(위원회)'!$A10,'2추 세입'!$B$6:$B$100,'1추총괄표(위원회)'!$C10) -> 0 | J10: =SUMIFS('2추 세입'!V$6:V$100,'2추 세입'!$A$6:$A$100,'1추총괄표(위원회)'!$A10,'2추 세입'!$B$6:$B$100,'1추총괄표(위원회)'!$C10) -> 0 | K10: =SUMIFS('2추 세입'!W$6:W$100,'2추 세입'!$A$6:$A$100,'1추총괄표(위원회)'!$A10,'2추 세입'!$B$6:$B$100,'1추총괄표(위원회)'!$C10) -> 0 | L10: =SUMIFS('2추 세입'!M$6:M$100,'2추 세입'!$A$6:$A$100,'1추총괄표(위원회)'!$A10,'2추 세입'!$B$6:$B$100,'1추총괄표(위원회)'!$C10) -> 0 | M10: =SUMIFS('2추 세입'!N$6:N$100,'2추 세입'!$A$6:$A$100,'1추총괄표(위원회)'!$A10,'2추 세입'!$B$6:$B$100,'1추총괄표(위원회)'!$C10) -> 0 | N10: =SUMIFS('2추 세입'!O$6:O$100,'2추 세입'!$A$6:$A$100,'1추총괄표(위원회)'!$A10,'2추 세입'!$B$6:$B$100,'1추총괄표(위원회)'!$C10) -> 0 | O10: =SUMIFS('2추 세입'!AA$6:AA$100,'2추 세입'!$A$6:$A$100,'1추총괄표(위원회)'!$A10,'2추 세입'!$B$6:$B$100,'1추총괄표(위원회)'!$C10) -> 0 | P10: =SUMIFS('2추 세입'!AB$6:AB$100,'2추 세입'!$A$6:$A$100,'1추총괄표(위원회)'!$A10,'2추 세입'!$B$6:$B$100,'1추총괄표(위원회)'!$C10) -> 0 | R10: =SUMIFS('2추 세출'!G$6:G$264,'2추 세출'!$A$6:$A$264,'1추총괄표(위원회)'!$A10,'2추 세출'!$B$6:$B$264,'1추총괄표(위원회)'!$C10) -> 2186000 | S10: =SUMIFS('2추 세출'!H$6:H$264,'2추 세출'!$A$6:$A$264,'1추총괄표(위원회)'!$A10,'2추 세출'!$B$6:$B$264,'1추총괄표(위원회)'!$C10) -> 2200000 | T10: =R10-S10 -> -14000 | U10: =SUMIFS('2추 세출'!J$6:J$264,'2추 세출'!$A$6:$A$264,'1추총괄표(위원회)'!$A10,'2추 세출'!$B$6:$B$264,'1추총괄표(위원회)'!$C10) -> -100000 | V10: =SUMIFS('2추 세출'!K$6:K$264,'2추 세출'!$A$6:$A$264,'1추총괄표(위원회)'!$A10,'2추 세출'!$B$6:$B$264,'1추총괄표(위원회)'!$C10) -> 74000 | W10: =SUMIFS('2추 세출'!L$6:L$264,'2추 세출'!$A$6:$A$264,'1추총괄표(위원회)'!$A10,'2추 세출'!$B$6:$B$264,'1추총괄표(위원회)'!$C10) -> 2160000 | X10: =SUMIFS('2추 세출'!V$6:V$264,'2추 세출'!$A$6:$A$264,'1추총괄표(위원회)'!$A10,'2추 세출'!$B$6:$B$264,'1추총괄표(위원회)'!$C10) -> -50000 | Y10: =SUMIFS('2추 세출'!W$6:W$264,'2추 세출'!$A$6:$A$264,'1추총괄표(위원회)'!$A10,'2추 세출'!$B$6:$B$264,'1추총괄표(위원회)'!$C10) -> 0 | Z10: =SUMIFS('2추 세출'!M$6:M$264,'2추 세출'!$A$6:$A$264,'1추총괄표(위원회)'!$A10,'2추 세출'!$B$6:$B$264,'1추총괄표(위원회)'!$C10) -> 0 | AA10: =SUMIFS('2추 세출'!N$6:N$264,'2추 세출'!$A$6:$A$264,'1추총괄표(위원회)'!$A10,'2추 세출'!$B$6:$B$264,'1추총괄표(위원회)'!$C10) -> 0 | AB10: =SUMIFS('2추 세출'!O$6:O$264,'2추 세출'!$A$6:$A$264,'1추총괄표(위원회)'!$A10,'2추 세출'!$B$6:$B$264,'1추총괄표(위원회)'!$C10) -> 2186000 | AC10: =SUMIFS('2추 세출'!AA$6:AA$264,'2추 세출'!$A$6:$A$264,'1추총괄표(위원회)'!$A10,'2추 세출'!$B$6:$B$264,'1추총괄표(위원회)'!C$9) -> 0 | AD10: =SUMIFS('2추 세출'!AB$6:AB$264,'2추 세출'!$A$6:$A$264,'1추총괄표(위원회)'!$A10,'2추 세출'!$B$6:$B$264,'1추총괄표(위원회)'!D$9) -> 0 | AF10: =IF(J10=X10,"OK","@@") -> @@ | AG10: =J10-X10 -> 50000 | AH10: =IF(O10=AC10,"OK","@@") -> OK | AI10: =O10-AC10 -> 0
A11: 의회운영위원회 | C11: 대변인 | D11: =SUMIFS('2추 세입'!G$6:G$100,'2추 세입'!$A$6:$A$100,'1추총괄표(위원회)'!$A11,'2추 세입'!$B$6:$B$100,'1추총괄표(위원회)'!$C11) -> 0 | E11: =SUMIFS('2추 세입'!H$6:H$100,'2추 세입'!$A$6:$A$100,'1추총괄표(위원회)'!$A11,'2추 세입'!$B$6:$B$100,'1추총괄표(위원회)'!$C11) -> 0 | F11: =D11-E11 -> 0 | G11: =SUMIFS('2추 세입'!J$6:J$100,'2추 세입'!$A$6:$A$100,'1추총괄표(위원회)'!$A11,'2추 세입'!$B$6:$B$100,'1추총괄표(위원회)'!$C11) -> 0 | H11: =SUMIFS('2추 세입'!K$6:K$100,'2추 세입'!$A$6:$A$100,'1추총괄표(위원회)'!$A11,'2추 세입'!$B$6:$B$100,'1추총괄표(위원회)'!$C11) -> 0 | I11: =SUMIFS('2추 세입'!L$6:L$100,'2추 세입'!$A$6:$A$100,'1추총괄표(위원회)'!$A11,'2추 세입'!$B$6:$B$100,'1추총괄표(위원회)'!$C11) -> 0 | J11: =SUMIFS('2추 세입'!V$6:V$100,'2추 세입'!$A$6:$A$100,'1추총괄표(위원회)'!$A11,'2추 세입'!$B$6:$B$100,'1추총괄표(위원회)'!$C11) -> 0 | K11: =SUMIFS('2추 세입'!W$6:W$100,'2추 세입'!$A$6:$A$100,'1추총괄표(위원회)'!$A11,'2추 세입'!$B$6:$B$100,'1추총괄표(위원회)'!$C11) -> 0 | L11: =SUMIFS('2추 세입'!M$6:M$100,'2추 세입'!$A$6:$A$100,'1추총괄표(위원회)'!$A11,'2추 세입'!$B$6:$B$100,'1추총괄표(위원회)'!$C11) -> 0 | M11: =SUMIFS('2추 세입'!N$6:N$100,'2추 세입'!$A$6:$A$100,'1추총괄표(위원회)'!$A11,'2추 세입'!$B$6:$B$100,'1추총괄표(위원회)'!$C11) -> 0 | N11: =SUMIFS('2추 세입'!O$6:O$100,'2추 세입'!$A$6:$A$100,'1추총괄표(위원회)'!$A11,'2추 세입'!$B$6:$B$100,'1추총괄표(위원회)'!$C11) -> 0 | O11: =SUMIFS('2추 세입'!AA$6:AA$100,'2추 세입'!$A$6:$A$100,'1추총괄표(위원회)'!$A11,'2추 세입'!$B$6:$B$100,'1추총괄표(위원회)'!$C11) -> 0 | P11: =SUMIFS('2추 세입'!AB$6:AB$100,'2추 세입'!$A$6:$A$100,'1추총괄표(위원회)'!$A11,'2추 세입'!$B$6:$B$100,'1추총괄표(위원회)'!$C11) -> 0 | R11: =SUMIFS('2추 세출'!G$6:G$264,'2추 세출'!$A$6:$A$264,'1추총괄표(위원회)'!$A11,'2추 세출'!$B$6:$B$264,'1추총괄표(위원회)'!$C11) -> 4600000 | S11: =SUMIFS('2추 세출'!H$6:H$264,'2추 세출'!$A$6:$A$264,'1추총괄표(위원회)'!$A11,'2추 세출'!$B$6:$B$264,'1추총괄표(위원회)'!$C11) -> 900000 | T11: =R11-S11 -> 3700000 | U11: =SUMIFS('2추 세출'!J$6:J$264,'2추 세출'!$A$6:$A$264,'1추총괄표(위원회)'!$A11,'2추 세출'!$B$6:$B$264,'1추총괄표(위원회)'!$C11) -> -1665000 | V11: =SUMIFS('2추 세출'!K$6:K$264,'2추 세출'!$A$6:$A$264,'1추총괄표(위원회)'!$A11,'2추 세출'!$B$6:$B$264,'1추총괄표(위원회)'!$C11) -> 0 | W11: =SUMIFS('2추 세출'!L$6:L$264,'2추 세출'!$A$6:$A$264,'1추총괄표(위원회)'!$A11,'2추 세출'!$B$6:$B$264,'1추총괄표(위원회)'!$C11) -> 2935000 | X11: =SUMIFS('2추 세출'!V$6:V$264,'2추 세출'!$A$6:$A$264,'1추총괄표(위원회)'!$A11,'2추 세출'!$B$6:$B$264,'1추총괄표(위원회)'!$C11) -> 0 | Y11: =SUMIFS('2추 세출'!W$6:W$264,'2추 세출'!$A$6:$A$264,'1추총괄표(위원회)'!$A11,'2추 세출'!$B$6:$B$264,'1추총괄표(위원회)'!$C11) -> 0 | Z11: =SUMIFS('2추 세출'!M$6:M$264,'2추 세출'!$A$6:$A$264,'1추총괄표(위원회)'!$A11,'2추 세출'!$B$6:$B$264,'1추총괄표(위원회)'!$C11) -> 0 | AA11: =SUMIFS('2추 세출'!N$6:N$264,'2추 세출'!$A$6:$A$264,'1추총괄표(위원회)'!$A11,'2추 세출'!$B$6:$B$264,'1추총괄표(위원회)'!$C11) -> 0 | AB11: =SUMIFS('2추 세출'!O$6:O$264,'2추 세출'!$A$6:$A$264,'1추총괄표(위원회)'!$A11,'2추 세출'!$B$6:$B$264,'1추총괄표(위원회)'!$C11) -> 4600000 | AC11: =SUMIFS('2추 세출'!AA$6:AA$264,'2추 세출'!$A$6:$A$264,'1추총괄표(위원회)'!$A11,'2추 세출'!$B$6:$B$264,'1추총괄표(위원회)'!C$9) -> 0 | AD11: =SUMIFS('2추 세출'!AB$6:AB$264,'2추 세출'!$A$6:$A$264,'1추총괄표(위원회)'!$A11,'2추 세출'!$B$6:$B$264,'1추총괄표(위원회)'!D$9) -> 0 | AF11: =IF(J11=X11,"OK","@@") -> OK | AG11: =J11-X11 -> 0 | AH11: =IF(O11=AC11,"OK","@@") -> OK | AI11: =O11-AC11 -> 0
A12: 의회운영위원회 | C12: 연정협력관 | D12: =SUMIFS('2추 세입'!G$6:G$100,'2추 세입'!$A$6:$A$100,'1추총괄표(위원회)'!$A12,'2추 세입'!$B$6:$B$100,'1추총괄표(위원회)'!$C12) -> 0 | E12: =SUMIFS('2추 세입'!H$6:H$100,'2추 세입'!$A$6:$A$100,'1추총괄표(위원회)'!$A12,'2추 세입'!$B$6:$B$100,'1추총괄표(위원회)'!$C12) -> 0 | F12: =D12-E12 -> 0 | G12: =SUMIFS('2추 세입'!J$6:J$100,'2추 세입'!$A$6:$A$100,'1추총괄표(위원회)'!$A12,'2추 세입'!$B$6:$B$100,'1추총괄표(위원회)'!$C12) -> 0 | H12: =SUMIFS('2추 세입'!K$6:K$100,'2추 세입'!$A$6:$A$100,'1추총괄표(위원회)'!$A12,'2추 세입'!$B$6:$B$100,'1추총괄표(위원회)'!$C12) -> 0 | I12: =SUMIFS('2추 세입'!L$6:L$100,'2추 세입'!$A$6:$A$100,'1추총괄표(위원회)'!$A12,'2추 세입'!$B$6:$B$100,'1추총괄표(위원회)'!$C12) -> 0 | J12: =SUMIFS('2추 세입'!V$6:V$100,'2추 세입'!$A$6:$A$100,'1추총괄표(위원회)'!$A12,'2추 세입'!$B$6:$B$100,'1추총괄표(위원회)'!$C12) -> 0 | K12: =SUMIFS('2추 세입'!W$6:W$100,'2추 세입'!$A$6:$A$100,'1추총괄표(위원회)'!$A12,'2추 세입'!$B$6:$B$100,'1추총괄표(위원회)'!$C12) -> 0 | L12: =SUMIFS('2추 세입'!M$6:M$100,'2추 세입'!$A$6:$A$100,'1추총괄표(위원회)'!$A12,'2추 세입'!$B$6:$B$100,'1추총괄표(위원회)'!$C12) -> 0 | M12: =SUMIFS('2추 세입'!N$6:N$100,'2추 세입'!$A$6:$A$100,'1추총괄표(위원회)'!$A12,'2추 세입'!$B$6:$B$100,'1추총괄표(위원회)'!$C12) -> 0 | N12: =SUMIFS('2추 세입'!O$6:O$100,'2추 세입'!$A$6:$A$100,'1추총괄표(위원회)'!$A12,'2추 세입'!$B$6:$B$100,'1추총괄표(위원회)'!$C12) -> 0 | O12: =SUMIFS('2추 세입'!AA$6:AA$100,'2추 세입'!$A$6:$A$100,'1추총괄표(위원회)'!$A12,'2추 세입'!$B$6:$B$100,'1추총괄표(위원회)'!$C12) -> 0 | P12: =SUMIFS('2추 세입'!AB$6:AB$100,'2추 세입'!$A$6:$A$100,'1추총괄표(위원회)'!$A12,'2추 세입'!$B$6:$B$100,'1추총괄표(위원회)'!$C12) -> 0 | R12: =SUMIFS('2추 세출'!G$6:G$264,'2추 세출'!$A$6:$A$264,'1추총괄표(위원회)'!$A12,'2추 세출'!$B$6:$B$264,'1추총괄표(위원회)'!$C12) -> 0 | S12: =SUMIFS('2추 세출'!H$6:H$264,'2추 세출'!$A$6:$A$264,'1추총괄표(위원회)'!$A12,'2추 세출'!$B$6:$B$264,'1추총괄표(위원회)'!$C12) -> 0 | T12: =R12-S12 -> 0 | U12: =SUMIFS('2추 세출'!J$6:J$264,'2추 세출'!$A$6:$A$264,'1추총괄표(위원회)'!$A12,'2추 세출'!$B$6:$B$264,'1추총괄표(위원회)'!$C12) -> 0 | V12: =SUMIFS('2추 세출'!K$6:K$264,'2추 세출'!$A$6:$A$264,'1추총괄표(위원회)'!$A12,'2추 세출'!$B$6:$B$264,'1추총괄표(위원회)'!$C12) -> 0 | W12: =SUMIFS('2추 세출'!L$6:L$264,'2추 세출'!$A$6:$A$264,'1추총괄표(위원회)'!$A12,'2추 세출'!$B$6:$B$264,'1추총괄표(위원회)'!$C12) -> 0 | X12: =SUMIFS('2추 세출'!V$6:V$264,'2추 세출'!$A$6:$A$264,'1추총괄표(위원회)'!$A12,'2추 세출'!$B$6:$B$264,'1추총괄표(위원회)'!$C12) -> 0 | Y12: =SUMIFS('2추 세출'!W$6:W$264,'2추 세출'!$A$6:$A$264,'1추총괄표(위원회)'!$A12,'2추 세출'!$B$6:$B$264,'1추총괄표(위원회)'!$C12) -> 0 | Z12: =SUMIFS('2추 세출'!M$6:M$264,'2추 세출'!$A$6:$A$264,'1추총괄표(위원회)'!$A12,'2추 세출'!$B$6:$B$264,'1추총괄표(위원회)'!$C12) -> 0 | AA12: =SUMIFS('2추 세출'!N$6:N$264,'2추 세출'!$A$6:$A$264,'1추총괄표(위원회)'!$A12,'2추 세출'!$B$6:$B$264,'1추총괄표(위원회)'!$C12) -> 0 | AB12: =SUMIFS('2추 세출'!O$6:O$264,'2추 세출'!$A$6:$A$264,'1추총괄표(위원회)'!$A12,'2추 세출'!$B$6:$B$264,'1추총괄표(위원회)'!$C12) -> 0 | AC12: =SUMIFS('2추 세출'!AA$6:AA$264,'2추 세출'!$A$6:$A$264,'1추총괄표(위원회)'!$A12,'2추 세출'!$B$6:$B$264,'1추총괄표(위원회)'!C$9) -> 0 | AD12: =SUMIFS('2추 세출'!AB$6:AB$264,'2추 세출'!$A$6:$A$264,'1추총괄표(위원회)'!$A12,'2추 세출'!$B$6:$B$264,'1추총괄표(위원회)'!D$9) -> 0 | AF12: =IF(J12=X12,"OK","@@") -> OK | AG12: =J12-X12 -> 0 | AH12: =IF(O12=AC12,"OK","@@") -> OK | AI12: =O12-AC12 -> 0
A13: 의회운영위원회 | C13: 대외협력담당관 | D13: =SUMIFS('2추 세입'!G$6:G$100,'2추 세입'!$A$6:$A$100,'1추총괄표(위원회)'!$A13,'2추 세입'!$B$6:$B$100,'1추총괄표(위원회)'!$C13) -> 0 | E13: =SUMIFS('2추 세입'!H$6:H$100,'2추 세입'!$A$6:$A$100,'1추총괄표(위원회)'!$A13,'2추 세입'!$B$6:$B$100,'1추총괄표(위원회)'!$C13) -> 0 | F13: =D13-E13 -> 0 | G13: =SUMIFS('2추 세입'!J$6:J$100,'2추 세입'!$A$6:$A$100,'1추총괄표(위원회)'!$A13,'2추 세입'!$B$6:$B$100,'1추총괄표(위원회)'!$C13) -> 0 | H13: =SUMIFS('2추 세입'!K$6:K$100,'2추 세입'!$A$6:$A$100,'1추총괄표(위원회)'!$A13,'2추 세입'!$B$6:$B$100,'1추총괄표(위원회)'!$C13) -> 0 | I13: =SUMIFS('2추 세입'!L$6:L$100,'2추 세입'!$A$6:$A$100,'1추총괄표(위원회)'!$A13,'2추 세입'!$B$6:$B$100,'1추총괄표(위원회)'!$C13) -> 0 | J13: =SUMIFS('2추 세입'!V$6:V$100,'2추 세입'!$A$6:$A$100,'1추총괄표(위원회)'!$A13,'2추 세입'!$B$6:$B$100,'1추총괄표(위원회)'!$C13) -> 0 | K13: =SUMIFS('2추 세입'!W$6:W$100,'2추 세입'!$A$6:$A$100,'1추총괄표(위원회)'!$A13,'2추 세입'!$B$6:$B$100,'1추총괄표(위원회)'!$C13) -> 0 | L13: =SUMIFS('2추 세입'!M$6:M$100,'2추 세입'!$A$6:$A$100,'1추총괄표(위원회)'!$A13,'2추 세입'!$B$6:$B$100,'1추총괄표(위원회)'!$C13) -> 0 | M13: =SUMIFS('2추 세입'!N$6:N$100,'2추 세입'!$A$6:$A$100,'1추총괄표(위원회)'!$A13,'2추 세입'!$B$6:$B$100,'1추총괄표(위원회)'!$C13) -> 0 | N13: =SUMIFS('2추 세입'!O$6:O$100,'2추 세입'!$A$6:$A$100,'1추총괄표(위원회)'!$A13,'2추 세입'!$B$6:$B$100,'1추총괄표(위원회)'!$C13) -> 0 | O13: =SUMIFS('2추 세입'!AA$6:AA$100,'2추 세입'!$A$6:$A$100,'1추총괄표(위원회)'!$A13,'2추 세입'!$B$6:$B$100,'1추총괄표(위원회)'!$C13) -> 0 | P13: =SUMIFS('2추 세입'!AB$6:AB$100,'2추 세입'!$A$6:$A$100,'1추총괄표(위원회)'!$A13,'2추 세입'!$B$6:$B$100,'1추총괄표(위원회)'!$C13) -> 0 | R13: =SUMIFS('2추 세출'!G$6:G$264,'2추 세출'!$A$6:$A$264,'1추총괄표(위원회)'!$A13,'2추 세출'!$B$6:$B$264,'1추총괄표(위원회)'!$C13) -> 0 | S13: =SUMIFS('2추 세출'!H$6:H$264,'2추 세출'!$A$6:$A$264,'1추총괄표(위원회)'!$A13,'2추 세출'!$B$6:$B$264,'1추총괄표(위원회)'!$C13) -> 0 | T13: =R13-S13 -> 0 | U13: =SUMIFS('2추 세출'!J$6:J$264,'2추 세출'!$A$6:$A$264,'1추총괄표(위원회)'!$A13,'2추 세출'!$B$6:$B$264,'1추총괄표(위원회)'!$C13) -> 0 | V13: =SUMIFS('2추 세출'!K$6:K$264,'2추 세출'!$A$6:$A$264,'1추총괄표(위원회)'!$A13,'2추 세출'!$B$6:$B$264,'1추총괄표(위원회)'!$C13) -> 0 | W13: =SUMIFS('2추 세출'!L$6:L$264,'2추 세출'!$A$6:$A$264,'1추총괄표(위원회)'!$A13,'2추 세출'!$B$6:$B$264,'1추총괄표(위원회)'!$C13) -> 0 | X13: =SUMIFS('2추 세출'!V$6:V$264,'2추 세출'!$A$6:$A$264,'1추총괄표(위원회)'!$A13,'2추 세출'!$B$6:$B$264,'1추총괄표(위원회)'!$C13) -> 0 | Y13: =SUMIFS('2추 세출'!W$6:W$264,'2추 세출'!$A$6:$A$264,'1추총괄표(위원회)'!$A13,'2추 세출'!$B$6:$B$264,'1추총괄표(위원회)'!$C13) -> 0 | Z13: =SUMIFS('2추 세출'!M$6:M$264,'2추 세출'!$A$6:$A$264,'1추총괄표(위원회)'!$A13,'2추 세출'!$B$6:$B$264,'1추총괄표(위원회)'!$C13) -> 0 | AA13: =SUMIFS('2추 세출'!N$6:N$264,'2추 세출'!$A$6:$A$264,'1추총괄표(위원회)'!$A13,'2추 세출'!$B$6:$B$264,'1추총괄표(위원회)'!$C13) -> 0 | AB13: =SUMIFS('2추 세출'!O$6:O$264,'2추 세출'!$A$6:$A$264,'1추총괄표(위원회)'!$A13,'2추 세출'!$B$6:$B$264,'1추총괄표(위원회)'!$C13) -> 0 | AC13: =SUMIFS('2추 세출'!AA$6:AA$264,'2추 세출'!$A$6:$A$264,'1추총괄표(위원회)'!$A13,'2추 세출'!$B$6:$B$264,'1추총괄표(위원회)'!C$9) -> 0 | AD13: =SUMIFS('2추 세출'!AB$6:AB$264,'2추 세출'!$A$6:$A$264,'1추총괄표(위원회)'!$A13,'2추 세출'!$B$6:$B$264,'1추총괄표(위원회)'!D$9) -> 0 | AF13: =IF(J13=X13,"OK","@@") -> OK | AG13: =J13-X13 -> 0 | AH13: =IF(O13=AC13,"OK","@@") -> OK | AI13: =O13-AC13 -> 0
B14: 기획재정위원회 | D14: =SUM(D15:D18) -> 0 | E14: =SUM(E15:E18) -> 0 | F14: =SUM(F15:F18) -> 0 | G14: =SUM(G15:G18) -> 0 | H14: =SUM(H15:H18) -> 0 | I14: =SUM(I15:I18) -> 0 | J14: =SUM(J15:J18) -> 0 | K14: =SUM(K15:K18) -> 0 | ... P14: =SUM(P15:P18) -> 0 | R14: =SUM(R15:R18) -> 1070000 | S14: =SUM(S15:S18) -> 0 | T14: =SUM(T15:T18) -> 1070000 | U14: =SUM(U15:U18) -> -825000 | V14: =SUM(V15:V18) -> 1900000 | W14: =SUM(W15:W18) -> 2145000 | X14: =SUM(X15:X18) -> 1075000 | Y14: =SUM(Y15:Y18) -> 0 | ... AD14: =SUM(AD15:AD18) -> 0 | AF14: =IF(J14=X14,"OK","@@") -> @@ | AG14: =J14-X14 -> -1075000 | AH14: =IF(O14=AC14,"OK","@@") -> OK | AI14: =O14-AC14 -> 0
A15: 기획재정위원회 | C15: 감사관 | D15: =SUMIFS('2추 세입'!G$6:G$100,'2추 세입'!$A$6:$A$100,'1추총괄표(위원회)'!$A15,'2추 세입'!$B$6:$B$100,'1추총괄표(위원회)'!$C15) -> 0 | E15: =SUMIFS('2추 세입'!H$6:H$100,'2추 세입'!$A$6:$A$100,'1추총괄표(위원회)'!$A15,'2추 세입'!$B$6:$B$100,'1추총괄표(위원회)'!$C15) -> 0 | F15: =D15-E15 -> 0 | G15: =SUMIFS('2추 세입'!J$6:J$100,'2추 세입'!$A$6:$A$100,'1추총괄표(위원회)'!$A15,'2추 세입'!$B$6:$B$100,'1추총괄표(위원회)'!$C15) -> 0 | H15: =SUMIFS('2추 세입'!K$6:K$100,'2추 세입'!$A$6:$A$100,'1추총괄표(위원회)'!$A15,'2추 세입'!$B$6:$B$100,'1추총괄표(위원회)'!$C15) -> 0 | I15: =SUMIFS('2추 세입'!L$6:L$100,'2추 세입'!$A$6:$A$100,'1추총괄표(위원회)'!$A15,'2추 세입'!$B$6:$B$100,'1추총괄표(위원회)'!$C15) -> 0 | J15: =SUMIFS('2추 세입'!V$6:V$100,'2추 세입'!$A$6:$A$100,'1추총괄표(위원회)'!$A15,'2추 세입'!$B$6:$B$100,'1추총괄표(위원회)'!$C15) -> 0 | K15: =SUMIFS('2추 세입'!W$6:W$100,'2추 세입'!$A$6:$A$100,'1추총괄표(위원회)'!$A15,'2추 세입'!$B$6:$B$100,'1추총괄표(위원회)'!$C15) -> 0 | L15: =SUMIFS('2추 세입'!M$6:M$100,'2추 세입'!$A$6:$A$100,'1추총괄표(위원회)'!$A15,'2추 세입'!$B$6:$B$100,'1추총괄표(위원회)'!$C15) -> 0 | M15: =SUMIFS('2추 세입'!N$6:N$100,'2추 세입'!$A$6:$A$100,'1추총괄표(위원회)'!$A15,'2추 세입'!$B$6:$B$100,'1추총괄표(위원회)'!$C15) -> 0 | N15: =SUMIFS('2추 세입'!O$6:O$100,'2추 세입'!$A$6:$A$100,'1추총괄표(위원회)'!$A15,'2추 세입'!$B$6:$B$100,'1추총괄표(위원회)'!$C15) -> 0 | O15: =SUMIFS('2추 세입'!AA$6:AA$100,'2추 세입'!$A$6:$A$100,'1추총괄표(위원회)'!$A15,'2추 세입'!$B$6:$B$100,'1추총괄표(위원회)'!$C15) -> 0 | P15: =SUMIFS('2추 세입'!AB$6:AB$100,'2추 세입'!$A$6:$A$100,'1추총괄표(위원회)'!$A15,'2추 세입'!$B$6:$B$100,'1추총괄표(위원회)'!$C15) -> 0 | R15: =SUMIFS('2추 세출'!G$6:G$264,'2추 세출'!$A$6:$A$264,'1추총괄표(위원회)'!$A15,'2추 세출'!$B$6:$B$264,'1추총괄표(위원회)'!$C15) -> 0 | S15: =SUMIFS('2추 세출'!H$6:H$264,'2추 세출'!$A$6:$A$264,'1추총괄표(위원회)'!$A15,'2추 세출'!$B$6:$B$264,'1추총괄표(위원회)'!$C15) -> 0 | T15: =R15-S15 -> 0 | U15: =SUMIFS('2추 세출'!J$6:J$264,'2추 세출'!$A$6:$A$264,'1추총괄표(위원회)'!$A15,'2추 세출'!$B$6:$B$264,'1추총괄표(위원회)'!$C15) -> 0 | V15: =SUMIFS('2추 세출'!K$6:K$264,'2추 세출'!$A$6:$A$264,'1추총괄표(위원회)'!$A15,'2추 세출'!$B$6:$B$264,'1추총괄표(위원회)'!$C15) -> 0 | W15: =SUMIFS('2추 세출'!L$6:L$264,'2추 세출'!$A$6:$A$264,'1추총괄표(위원회)'!$A15,'2추 세출'!$B$6:$B$264,'1추총괄표(위원회)'!$C15) -> 0 | X15: =SUMIFS('2추 세출'!V$6:V$264,'2추 세출'!$A$6:$A$264,'1추총괄표(위원회)'!$A15,'2추 세출'!$B$6:$B$264,'1추총괄표(위원회)'!$C15) -> 0 | Y15: =SUMIFS('2추 세출'!W$6:W$264,'2추 세출'!$A$6:$A$264,'1추총괄표(위원회)'!$A15,'2추 세출'!$B$6:$B$264,'1추총괄표(위원회)'!$C15) -> 0 | Z15: =SUMIFS('2추 세출'!M$6:M$264,'2추 세출'!$A$6:$A$264,'1추총괄표(위원회)'!$A15,'2추 세출'!$B$6:$B$264,'1추총괄표(위원회)'!$C15) -> 0 | AA15: =SUMIFS('2추 세출'!N$6:N$264,'2추 세출'!$A$6:$A$264,'1추총괄표(위원회)'!$A15,'2추 세출'!$B$6:$B$264,'1추총괄표(위원회)'!$C15) -> 0 | AB15: =SUMIFS('2추 세출'!O$6:O$264,'2추 세출'!$A$6:$A$264,'1추총괄표(위원회)'!$A15,'2추 세출'!$B$6:$B$264,'1추총괄표(위원회)'!$C15) -> 0 | AC15: =SUMIFS('2추 세출'!AA$6:AA$264,'2추 세출'!$A$6:$A$264,'1추총괄표(위원회)'!$A15,'2추 세출'!$B$6:$B$264,'1추총괄표(위원회)'!C$9) -> 0 | AD15: =SUMIFS('2추 세출'!AB$6:AB$264,'2추 세출'!$A$6:$A$264,'1추총괄표(위원회)'!$A15,'2추 세출'!$B$6:$B$264,'1추총괄표(위원회)'!D$9) -> 0 | AF15: =IF(J15=X15,"OK","@@") -> OK | AG15: =J15-X15 -> 0 | AH15: =IF(O15=AC15,"OK","@@") -> OK | AI15: =O15-AC15 -> 0
A16: 기획재정위원회 | C16: 기획조정실 | D16: =SUMIFS('2추 세입'!G$6:G$100,'2추 세입'!$A$6:$A$100,'1추총괄표(위원회)'!$A16,'2추 세입'!$B$6:$B$100,'1추총괄표(위원회)'!$C16) -> 0 | E16: =SUMIFS('2추 세입'!H$6:H$100,'2추 세입'!$A$6:$A$100,'1추총괄표(위원회)'!$A16,'2추 세입'!$B$6:$B$100,'1추총괄표(위원회)'!$C16) -> 0 | F16: =D16-E16 -> 0 | G16: =SUMIFS('2추 세입'!J$6:J$100,'2추 세입'!$A$6:$A$100,'1추총괄표(위원회)'!$A16,'2추 세입'!$B$6:$B$100,'1추총괄표(위원회)'!$C16) -> 0 | H16: =SUMIFS('2추 세입'!K$6:K$100,'2추 세입'!$A$6:$A$100,'1추총괄표(위원회)'!$A16,'2추 세입'!$B$6:$B$100,'1추총괄표(위원회)'!$C16) -> 0 | I16: =SUMIFS('2추 세입'!L$6:L$100,'2추 세입'!$A$6:$A$100,'1추총괄표(위원회)'!$A16,'2추 세입'!$B$6:$B$100,'1추총괄표(위원회)'!$C16) -> 0 | J16: =SUMIFS('2추 세입'!V$6:V$100,'2추 세입'!$A$6:$A$100,'1추총괄표(위원회)'!$A16,'2추 세입'!$B$6:$B$100,'1추총괄표(위원회)'!$C16) -> 0 | K16: =SUMIFS('2추 세입'!W$6:W$100,'2추 세입'!$A$6:$A$100,'1추총괄표(위원회)'!$A16,'2추 세입'!$B$6:$B$100,'1추총괄표(위원회)'!$C16) -> 0 | L16: =SUMIFS('2추 세입'!M$6:M$100,'2추 세입'!$A$6:$A$100,'1추총괄표(위원회)'!$A16,'2추 세입'!$B$6:$B$100,'1추총괄표(위원회)'!$C16) -> 0 | M16: =SUMIFS('2추 세입'!N$6:N$100,'2추 세입'!$A$6:$A$100,'1추총괄표(위원회)'!$A16,'2추 세입'!$B$6:$B$100,'1추총괄표(위원회)'!$C16) -> 0 | N16: =SUMIFS('2추 세입'!O$6:O$100,'2추 세입'!$A$6:$A$100,'1추총괄표(위원회)'!$A16,'2추 세입'!$B$6:$B$100,'1추총괄표(위원회)'!$C16) -> 0 | O16: =SUMIFS('2추 세입'!AA$6:AA$100,'2추 세입'!$A$6:$A$100,'1추총괄표(위원회)'!$A16,'2추 세입'!$B$6:$B$100,'1추총괄표(위원회)'!$C16) -> 0 | P16: =SUMIFS('2추 세입'!AB$6:AB$100,'2추 세입'!$A$6:$A$100,'1추총괄표(위원회)'!$A16,'2추 세입'!$B$6:$B$100,'1추총괄표(위원회)'!$C16) -> 0 | R16: =SUMIFS('2추 세출'!G$6:G$264,'2추 세출'!$A$6:$A$264,'1추총괄표(위원회)'!$A16,'2추 세출'!$B$6:$B$264,'1추총괄표(위원회)'!$C16) -> 500000 | S16: =SUMIFS('2추 세출'!H$6:H$264,'2추 세출'!$A$6:$A$264,'1추총괄표(위원회)'!$A16,'2추 세출'!$B$6:$B$264,'1추총괄표(위원회)'!$C16) -> 0 | T16: =R16-S16 -> 500000 | U16: =SUMIFS('2추 세출'!J$6:J$264,'2추 세출'!$A$6:$A$264,'1추총괄표(위원회)'!$A16,'2추 세출'!$B$6:$B$264,'1추총괄표(위원회)'!$C16) -> -255000 | V16: =SUMIFS('2추 세출'!K$6:K$264,'2추 세출'!$A$6:$A$264,'1추총괄표(위원회)'!$A16,'2추 세출'!$B$6:$B$264,'1추총괄표(위원회)'!$C16) -> 900000 | W16: =SUMIFS('2추 세출'!L$6:L$264,'2추 세출'!$A$6:$A$264,'1추총괄표(위원회)'!$A16,'2추 세출'!$B$6:$B$264,'1추총괄표(위원회)'!$C16) -> 1145000 | X16: =SUMIFS('2추 세출'!V$6:V$264,'2추 세출'!$A$6:$A$264,'1추총괄표(위원회)'!$A16,'2추 세출'!$B$6:$B$264,'1추총괄표(위원회)'!$C16) -> 645000 | Y16: =SUMIFS('2추 세출'!W$6:W$264,'2추 세출'!$A$6:$A$264,'1추총괄표(위원회)'!$A16,'2추 세출'!$B$6:$B$264,'1추총괄표(위원회)'!$C16) -> 0 | Z16: =SUMIFS('2추 세출'!M$6:M$264,'2추 세출'!$A$6:$A$264,'1추총괄표(위원회)'!$A16,'2추 세출'!$B$6:$B$264,'1추총괄표(위원회)'!$C16) -> 0 | AA16: =SUMIFS('2추 세출'!N$6:N$264,'2추 세출'!$A$6:$A$264,'1추총괄표(위원회)'!$A16,'2추 세출'!$B$6:$B$264,'1추총괄표(위원회)'!$C16) -> 0 | AB16: =SUMIFS('2추 세출'!O$6:O$264,'2추 세출'!$A$6:$A$264,'1추총괄표(위원회)'!$A16,'2추 세출'!$B$6:$B$264,'1추총괄표(위원회)'!$C16) -> 500000 | AC16: =SUMIFS('2추 세출'!AA$6:AA$264,'2추 세출'!$A$6:$A$264,'1추총괄표(위원회)'!$A16,'2추 세출'!$B$6:$B$264,'1추총괄표(위원회)'!C$9) -> 0 | AD16: =SUMIFS('2추 세출'!AB$6:AB$264,'2추 세출'!$A$6:$A$264,'1추총괄표(위원회)'!$A16,'2추 세출'!$B$6:$B$264,'1추총괄표(위원회)'!D$9) -> 0 | AF16: =IF(J16=X16,"OK","@@") -> @@ | AG16: =J16-X16 -> -645000 | AH16: =IF(O16=AC16,"OK","@@") -> OK | AI16: =O16-AC16 -> 0
A17: 기획재정위원회 | C17: 균형발전기획실 | D17: =SUMIFS('2추 세입'!G$6:G$100,'2추 세입'!$A$6:$A$100,'1추총괄표(위원회)'!$A17,'2추 세입'!$B$6:$B$100,'1추총괄표(위원회)'!$C17) -> 0 | E17: =SUMIFS('2추 세입'!H$6:H$100,'2추 세입'!$A$6:$A$100,'1추총괄표(위원회)'!$A17,'2추 세입'!$B$6:$B$100,'1추총괄표(위원회)'!$C17) -> 0 | F17: =D17-E17 -> 0 | G17: =SUMIFS('2추 세입'!J$6:J$100,'2추 세입'!$A$6:$A$100,'1추총괄표(위원회)'!$A17,'2추 세입'!$B$6:$B$100,'1추총괄표(위원회)'!$C17) -> 0 | H17: =SUMIFS('2추 세입'!K$6:K$100,'2추 세입'!$A$6:$A$100,'1추총괄표(위원회)'!$A17,'2추 세입'!$B$6:$B$100,'1추총괄표(위원회)'!$C17) -> 0 | I17: =SUMIFS('2추 세입'!L$6:L$100,'2추 세입'!$A$6:$A$100,'1추총괄표(위원회)'!$A17,'2추 세입'!$B$6:$B$100,'1추총괄표(위원회)'!$C17) -> 0 | J17: =SUMIFS('2추 세입'!V$6:V$100,'2추 세입'!$A$6:$A$100,'1추총괄표(위원회)'!$A17,'2추 세입'!$B$6:$B$100,'1추총괄표(위원회)'!$C17) -> 0 | K17: =SUMIFS('2추 세입'!W$6:W$100,'2추 세입'!$A$6:$A$100,'1추총괄표(위원회)'!$A17,'2추 세입'!$B$6:$B$100,'1추총괄표(위원회)'!$C17) -> 0 | L17: =SUMIFS('2추 세입'!M$6:M$100,'2추 세입'!$A$6:$A$100,'1추총괄표(위원회)'!$A17,'2추 세입'!$B$6:$B$100,'1추총괄표(위원회)'!$C17) -> 0 | M17: =SUMIFS('2추 세입'!N$6:N$100,'2추 세입'!$A$6:$A$100,'1추총괄표(위원회)'!$A17,'2추 세입'!$B$6:$B$100,'1추총괄표(위원회)'!$C17) -> 0 | N17: =SUMIFS('2추 세입'!O$6:O$100,'2추 세입'!$A$6:$A$100,'1추총괄표(위원회)'!$A17,'2추 세입'!$B$6:$B$100,'1추총괄표(위원회)'!$C17) -> 0 | O17: =SUMIFS('2추 세입'!AA$6:AA$100,'2추 세입'!$A$6:$A$100,'1추총괄표(위원회)'!$A17,'2추 세입'!$B$6:$B$100,'1추총괄표(위원회)'!$C17) -> 0 | P17: =SUMIFS('2추 세입'!AB$6:AB$100,'2추 세입'!$A$6:$A$100,'1추총괄표(위원회)'!$A17,'2추 세입'!$B$6:$B$100,'1추총괄표(위원회)'!$C17) -> 0 | R17: =SUMIFS('2추 세출'!G$6:G$264,'2추 세출'!$A$6:$A$264,'1추총괄표(위원회)'!$A17,'2추 세출'!$B$6:$B$264,'1추총괄표(위원회)'!$C17) -> 570000 | S17: =SUMIFS('2추 세출'!H$6:H$264,'2추 세출'!$A$6:$A$264,'1추총괄표(위원회)'!$A17,'2추 세출'!$B$6:$B$264,'1추총괄표(위원회)'!$C17) -> 0 | T17: =R17-S17 -> 570000 | U17: =SUMIFS('2추 세출'!J$6:J$264,'2추 세출'!$A$6:$A$264,'1추총괄표(위원회)'!$A17,'2추 세출'!$B$6:$B$264,'1추총괄표(위원회)'!$C17) -> -570000 | V17: =SUMIFS('2추 세출'!K$6:K$264,'2추 세출'!$A$6:$A$264,'1추총괄표(위원회)'!$A17,'2추 세출'!$B$6:$B$264,'1추총괄표(위원회)'!$C17) -> 0 | W17: =SUMIFS('2추 세출'!L$6:L$264,'2추 세출'!$A$6:$A$264,'1추총괄표(위원회)'!$A17,'2추 세출'!$B$6:$B$264,'1추총괄표(위원회)'!$C17) -> 0 | X17: =SUMIFS('2추 세출'!V$6:V$264,'2추 세출'!$A$6:$A$264,'1추총괄표(위원회)'!$A17,'2추 세출'!$B$6:$B$264,'1추총괄표(위원회)'!$C17) -> -570000 | Y17: =SUMIFS('2추 세출'!W$6:W$264,'2추 세출'!$A$6:$A$264,'1추총괄표(위원회)'!$A17,'2추 세출'!$B$6:$B$264,'1추총괄표(위원회)'!$C17) -> 0 | Z17: =SUMIFS('2추 세출'!M$6:M$264,'2추 세출'!$A$6:$A$264,'1추총괄표(위원회)'!$A17,'2추 세출'!$B$6:$B$264,'1추총괄표(위원회)'!$C17) -> 0 | AA17: =SUMIFS('2추 세출'!N$6:N$264,'2추 세출'!$A$6:$A$264,'1추총괄표(위원회)'!$A17,'2추 세출'!$B$6:$B$264,'1추총괄표(위원회)'!$C17) -> 0 | AB17: =SUMIFS('2추 세출'!O$6:O$264,'2추 세출'!$A$6:$A$264,'1추총괄표(위원회)'!$A17,'2추 세출'!$B$6:$B$264,'1추총괄표(위원회)'!$C17) -> 570000 | AC17: =SUMIFS('2추 세출'!AA$6:AA$264,'2추 세출'!$A$6:$A$264,'1추총괄표(위원회)'!$A17,'2추 세출'!$B$6:$B$264,'1추총괄표(위원회)'!C$9) -> 0 | AD17: =SUMIFS('2추 세출'!AB$6:AB$264,'2추 세출'!$A$6:$A$264,'1추총괄표(위원회)'!$A17,'2추 세출'!$B$6:$B$264,'1추총괄표(위원회)'!D$9) -> 0 | AF17: =IF(J17=X17,"OK","@@") -> @@ | AG17: =J17-X17 -> 570000 | AH17: =IF(O17=AC17,"OK","@@") -> OK | AI17: =O17-AC17 -> 0
A18: 기획재정위원회 | C18: 따복공동체지원단 | D18: =SUMIFS('2추 세입'!G$6:G$100,'2추 세입'!$A$6:$A$100,'1추총괄표(위원회)'!$A18,'2추 세입'!$B$6:$B$100,'1추총괄표(위원회)'!$C18) -> 0 | E18: =SUMIFS('2추 세입'!H$6:H$100,'2추 세입'!$A$6:$A$100,'1추총괄표(위원회)'!$A18,'2추 세입'!$B$6:$B$100,'1추총괄표(위원회)'!$C18) -> 0 | F18: =D18-E18 -> 0 | G18: =SUMIFS('2추 세입'!J$6:J$100,'2추 세입'!$A$6:$A$100,'1추총괄표(위원회)'!$A18,'2추 세입'!$B$6:$B$100,'1추총괄표(위원회)'!$C18) -> 0 | H18: =SUMIFS('2추 세입'!K$6:K$100,'2추 세입'!$A$6:$A$100,'1추총괄표(위원회)'!$A18,'2추 세입'!$B$6:$B$100,'1추총괄표(위원회)'!$C18) -> 0 | I18: =SUMIFS('2추 세입'!L$6:L$100,'2추 세입'!$A$6:$A$100,'1추총괄표(위원회)'!$A18,'2추 세입'!$B$6:$B$100,'1추총괄표(위원회)'!$C18) -> 0 | J18: =SUMIFS('2추 세입'!V$6:V$100,'2추 세입'!$A$6:$A$100,'1추총괄표(위원회)'!$A18,'2추 세입'!$B$6:$B$100,'1추총괄표(위원회)'!$C18) -> 0 | K18: =SUMIFS('2추 세입'!W$6:W$100,'2추 세입'!$A$6:$A$100,'1추총괄표(위원회)'!$A18,'2추 세입'!$B$6:$B$100,'1추총괄표(위원회)'!$C18) -> 0 | L18: =SUMIFS('2추 세입'!M$6:M$100,'2추 세입'!$A$6:$A$100,'1추총괄표(위원회)'!$A18,'2추 세입'!$B$6:$B$100,'1추총괄표(위원회)'!$C18) -> 0 | M18: =SUMIFS('2추 세입'!N$6:N$100,'2추 세입'!$A$6:$A$100,'1추총괄표(위원회)'!$A18,'2추 세입'!$B$6:$B$100,'1추총괄표(위원회)'!$C18) -> 0 | N18: =SUMIFS('2추 세입'!O$6:O$100,'2추 세입'!$A$6:$A$100,'1추총괄표(위원회)'!$A18,'2추 세입'!$B$6:$B$100,'1추총괄표(위원회)'!$C18) -> 0 | O18: =SUMIFS('2추 세입'!AA$6:AA$100,'2추 세입'!$A$6:$A$100,'1추총괄표(위원회)'!$A18,'2추 세입'!$B$6:$B$100,'1추총괄표(위원회)'!$C18) -> 0 | P18: =SUMIFS('2추 세입'!AB$6:AB$100,'2추 세입'!$A$6:$A$100,'1추총괄표(위원회)'!$A18,'2추 세입'!$B$6:$B$100,'1추총괄표(위원회)'!$C18) -> 0 | R18: =SUMIFS('2추 세출'!G$6:G$264,'2추 세출'!$A$6:$A$264,'1추총괄표(위원회)'!$A18,'2추 세출'!$B$6:$B$264,'1추총괄표(위원회)'!$C18) -> 0 | S18: =SUMIFS('2추 세출'!H$6:H$264,'2추 세출'!$A$6:$A$264,'1추총괄표(위원회)'!$A18,'2추 세출'!$B$6:$B$264,'1추총괄표(위원회)'!$C18) -> 0 | T18: =R18-S18 -> 0 | U18: =SUMIFS('2추 세출'!J$6:J$264,'2추 세출'!$A$6:$A$264,'1추총괄표(위원회)'!$A18,'2추 세출'!$B$6:$B$264,'1추총괄표(위원회)'!$C18) -> 0 | V18: =SUMIFS('2추 세출'!K$6:K$264,'2추 세출'!$A$6:$A$264,'1추총괄표(위원회)'!$A18,'2추 세출'!$B$6:$B$264,'1추총괄표(위원회)'!$C18) -> 1000000 | W18: =SUMIFS('2추 세출'!L$6:L$264,'2추 세출'!$A$6:$A$264,'1추총괄표(위원회)'!$A18,'2추 세출'!$B$6:$B$264,'1추총괄표(위원회)'!$C18) -> 1000000 | X18: =SUMIFS('2추 세출'!V$6:V$264,'2추 세출'!$A$6:$A$264,'1추총괄표(위원회)'!$A18,'2추 세출'!$B$6:$B$264,'1추총괄표(위원회)'!$C18) -> 1000000 | Y18: =SUMIFS('2추 세출'!W$6:W$264,'2추 세출'!$A$6:$A$264,'1추총괄표(위원회)'!$A18,'2추 세출'!$B$6:$B$264,'1추총괄표(위원회)'!$C18) -> 0 | Z18: =SUMIFS('2추 세출'!M$6:M$264,'2추 세출'!$A$6:$A$264,'1추총괄표(위원회)'!$A18,'2추 세출'!$B$6:$B$264,'1추총괄표(위원회)'!$C18) -> 0 | AA18: =SUMIFS('2추 세출'!N$6:N$264,'2추 세출'!$A$6:$A$264,'1추총괄표(위원회)'!$A18,'2추 세출'!$B$6:$B$264,'1추총괄표(위원회)'!$C18) -> 0 | AB18: =SUMIFS('2추 세출'!O$6:O$264,'2추 세출'!$A$6:$A$264,'1추총괄표(위원회)'!$A18,'2추 세출'!$B$6:$B$264,'1추총괄표(위원회)'!$C18) -> 0 | AC18: =SUMIFS('2추 세출'!AA$6:AA$264,'2추 세출'!$A$6:$A$264,'1추총괄표(위원회)'!$A18,'2추 세출'!$B$6:$B$264,'1추총괄표(위원회)'!C$9) -> 0 | AD18: =SUMIFS('2추 세출'!AB$6:AB$264,'2추 세출'!$A$6:$A$264,'1추총괄표(위원회)'!$A18,'2추 세출'!$B$6:$B$264,'1추총괄표(위원회)'!D$9) -> 0 | AF18: =IF(J18=X18,"OK","@@") -> @@ | AG18: =J18-X18 -> -1000000 | AH18: =IF(O18=AC18,"OK","@@") -> OK | AI18: =O18-AC18 -> 0
B19: 경제과학기술위원회 | D19: =SUM(D20:D22) -> 0 | E19: =SUM(E20:E22) -> 0 | F19: =SUM(F20:F22) -> 0 | G19: =SUM(G20:G22) -> 0 | H19: =SUM(H20:H22) -> 600000 | I19: =SUM(I20:I22) -> 600000 | J19: =SUM(J20:J22) -> 600000 | K19: =SUM(K20:K22) -> 0 | ... P19: =SUM(P20:P22) -> 0 | R19: =SUM(R20:R22) -> 11771873 | S19: =SUM(S20:S22) -> 0 | T19: =SUM(T20:T22) -> 11771873 | U19: =SUM(U20:U22) -> -270000 | V19: =SUM(V20:V22) -> 1870000 | W19: =SUM(W20:W22) -> 13371873 | X19: =SUM(X20:X22) -> 1600000 | Y19: =SUM(Y20:Y22) -> 0 | ... AD19: =SUM(AD20:AD22) -> 0 | AF19: =IF(J19=X19,"OK","@@") -> @@ | AG19: =J19-X19 -> -1000000 | AH19: =IF(O19=AC19,"OK","@@") -> OK | AI19: =O19-AC19 -> 0
A20: 경제과학기술위원회 | C20: 경제실 | D20: =SUMIFS('2추 세입'!G$6:G$100,'2추 세입'!$A$6:$A$100,'1추총괄표(위원회)'!$A20,'2추 세입'!$B$6:$B$100,'1추총괄표(위원회)'!$C20) -> 0 | E20: =SUMIFS('2추 세입'!H$6:H$100,'2추 세입'!$A$6:$A$100,'1추총괄표(위원회)'!$A20,'2추 세입'!$B$6:$B$100,'1추총괄표(위원회)'!$C20) -> 0 | F20: =D20-E20 -> 0 | G20: =SUMIFS('2추 세입'!J$6:J$100,'2추 세입'!$A$6:$A$100,'1추총괄표(위원회)'!$A20,'2추 세입'!$B$6:$B$100,'1추총괄표(위원회)'!$C20) -> 0 | H20: =SUMIFS('2추 세입'!K$6:K$100,'2추 세입'!$A$6:$A$100,'1추총괄표(위원회)'!$A20,'2추 세입'!$B$6:$B$100,'1추총괄표(위원회)'!$C20) -> 600000 | I20: =SUMIFS('2추 세입'!L$6:L$100,'2추 세입'!$A$6:$A$100,'1추총괄표(위원회)'!$A20,'2추 세입'!$B$6:$B$100,'1추총괄표(위원회)'!$C20) -> 600000 | J20: =SUMIFS('2추 세입'!V$6:V$100,'2추 세입'!$A$6:$A$100,'1추총괄표(위원회)'!$A20,'2추 세입'!$B$6:$B$100,'1추총괄표(위원회)'!$C20) -> 600000 | K20: =SUMIFS('2추 세입'!W$6:W$100,'2추 세입'!$A$6:$A$100,'1추총괄표(위원회)'!$A20,'2추 세입'!$B$6:$B$100,'1추총괄표(위원회)'!$C20) -> 0 | L20: =SUMIFS('2추 세입'!M$6:M$100,'2추 세입'!$A$6:$A$100,'1추총괄표(위원회)'!$A20,'2추 세입'!$B$6:$B$100,'1추총괄표(위원회)'!$C20) -> 0 | M20: =SUMIFS('2추 세입'!N$6:N$100,'2추 세입'!$A$6:$A$100,'1추총괄표(위원회)'!$A20,'2추 세입'!$B$6:$B$100,'1추총괄표(위원회)'!$C20) -> 0 | N20: =SUMIFS('2추 세입'!O$6:O$100,'2추 세입'!$A$6:$A$100,'1추총괄표(위원회)'!$A20,'2추 세입'!$B$6:$B$100,'1추총괄표(위원회)'!$C20) -> 0 | O20: =SUMIFS('2추 세입'!AA$6:AA$100,'2추 세입'!$A$6:$A$100,'1추총괄표(위원회)'!$A20,'2추 세입'!$B$6:$B$100,'1추총괄표(위원회)'!$C20) -> 0 | P20: =SUMIFS('2추 세입'!AB$6:AB$100,'2추 세입'!$A$6:$A$100,'1추총괄표(위원회)'!$A20,'2추 세입'!$B$6:$B$100,'1추총괄표(위원회)'!$C20) -> 0 | R20: =SUMIFS('2추 세출'!G$6:G$264,'2추 세출'!$A$6:$A$264,'1추총괄표(위원회)'!$A20,'2추 세출'!$B$6:$B$264,'1추총괄표(위원회)'!$C20) -> 11771873 | S20: =SUMIFS('2추 세출'!H$6:H$264,'2추 세출'!$A$6:$A$264,'1추총괄표(위원회)'!$A20,'2추 세출'!$B$6:$B$264,'1추총괄표(위원회)'!$C20) -> 0 | T20: =R20-S20 -> 11771873 | U20: =SUMIFS('2추 세출'!J$6:J$264,'2추 세출'!$A$6:$A$264,'1추총괄표(위원회)'!$A20,'2추 세출'!$B$6:$B$264,'1추총괄표(위원회)'!$C20) -> -270000 | V20: =SUMIFS('2추 세출'!K$6:K$264,'2추 세출'!$A$6:$A$264,'1추총괄표(위원회)'!$A20,'2추 세출'!$B$6:$B$264,'1추총괄표(위원회)'!$C20) -> 1870000 | W20: =SUMIFS('2추 세출'!L$6:L$264,'2추 세출'!$A$6:$A$264,'1추총괄표(위원회)'!$A20,'2추 세출'!$B$6:$B$264,'1추총괄표(위원회)'!$C20) -> 13371873 | X20: =SUMIFS('2추 세출'!V$6:V$264,'2추 세출'!$A$6:$A$264,'1추총괄표(위원회)'!$A20,'2추 세출'!$B$6:$B$264,'1추총괄표(위원회)'!$C20) -> 1600000 | Y20: =SUMIFS('2추 세출'!W$6:W$264,'2추 세출'!$A$6:$A$264,'1추총괄표(위원회)'!$A20,'2추 세출'!$B$6:$B$264,'1추총괄표(위원회)'!$C20) -> 0 | Z20: =SUMIFS('2추 세출'!M$6:M$264,'2추 세출'!$A$6:$A$264,'1추총괄표(위원회)'!$A20,'2추 세출'!$B$6:$B$264,'1추총괄표(위원회)'!$C20) -> 0 | AA20: =SUMIFS('2추 세출'!N$6:N$264,'2추 세출'!$A$6:$A$264,'1추총괄표(위원회)'!$A20,'2추 세출'!$B$6:$B$264,'1추총괄표(위원회)'!$C20) -> 0 | AB20: =SUMIFS('2추 세출'!O$6:O$264,'2추 세출'!$A$6:$A$264,'1추총괄표(위원회)'!$A20,'2추 세출'!$B$6:$B$264,'1추총괄표(위원회)'!$C20) -> 11771873 | AC20: =SUMIFS('2추 세출'!AA$6:AA$264,'2추 세출'!$A$6:$A$264,'1추총괄표(위원회)'!$A20,'2추 세출'!$B$6:$B$264,'1추총괄표(위원회)'!C$9) -> 0 | AD20: =SUMIFS('2추 세출'!AB$6:AB$264,'2추 세출'!$A$6:$A$264,'1추총괄표(위원회)'!$A20,'2추 세출'!$B$6:$B$264,'1추총괄표(위원회)'!D$9) -> 0 | AF20: =IF(J20=X20,"OK","@@") -> @@ | AG20: =J20-X20 -> -1000000 | AH20: =IF(O20=AC20,"OK","@@") -> OK | AI20: =O20-AC20 -> 0
A21: 경제과학기술위원회 | C21: 황해경제자유구역청 | D21: =SUMIFS('2추 세입'!G$6:G$100,'2추 세입'!$A$6:$A$100,'1추총괄표(위원회)'!$A21,'2추 세입'!$B$6:$B$100,'1추총괄표(위원회)'!$C21) -> 0 | E21: =SUMIFS('2추 세입'!H$6:H$100,'2추 세입'!$A$6:$A$100,'1추총괄표(위원회)'!$A21,'2추 세입'!$B$6:$B$100,'1추총괄표(위원회)'!$C21) -> 0 | F21: =D21-E21 -> 0 | G21: =SUMIFS('2추 세입'!J$6:J$100,'2추 세입'!$A$6:$A$100,'1추총괄표(위원회)'!$A21,'2추 세입'!$B$6:$B$100,'1추총괄표(위원회)'!$C21) -> 0 | H21: =SUMIFS('2추 세입'!K$6:K$100,'2추 세입'!$A$6:$A$100,'1추총괄표(위원회)'!$A21,'2추 세입'!$B$6:$B$100,'1추총괄표(위원회)'!$C21) -> 0 | I21: =SUMIFS('2추 세입'!L$6:L$100,'2추 세입'!$A$6:$A$100,'1추총괄표(위원회)'!$A21,'2추 세입'!$B$6:$B$100,'1추총괄표(위원회)'!$C21) -> 0 | J21: =SUMIFS('2추 세입'!V$6:V$100,'2추 세입'!$A$6:$A$100,'1추총괄표(위원회)'!$A21,'2추 세입'!$B$6:$B$100,'1추총괄표(위원회)'!$C21) -> 0 | K21: =SUMIFS('2추 세입'!W$6:W$100,'2추 세입'!$A$6:$A$100,'1추총괄표(위원회)'!$A21,'2추 세입'!$B$6:$B$100,'1추총괄표(위원회)'!$C21) -> 0 | L21: =SUMIFS('2추 세입'!M$6:M$100,'2추 세입'!$A$6:$A$100,'1추총괄표(위원회)'!$A21,'2추 세입'!$B$6:$B$100,'1추총괄표(위원회)'!$C21) -> 0 | M21: =SUMIFS('2추 세입'!N$6:N$100,'2추 세입'!$A$6:$A$100,'1추총괄표(위원회)'!$A21,'2추 세입'!$B$6:$B$100,'1추총괄표(위원회)'!$C21) -> 0 | N21: =SUMIFS('2추 세입'!O$6:O$100,'2추 세입'!$A$6:$A$100,'1추총괄표(위원회)'!$A21,'2추 세입'!$B$6:$B$100,'1추총괄표(위원회)'!$C21) -> 0 | O21: =SUMIFS('2추 세입'!AA$6:AA$100,'2추 세입'!$A$6:$A$100,'1추총괄표(위원회)'!$A21,'2추 세입'!$B$6:$B$100,'1추총괄표(위원회)'!$C21) -> 0 | P21: =SUMIFS('2추 세입'!AB$6:AB$100,'2추 세입'!$A$6:$A$100,'1추총괄표(위원회)'!$A21,'2추 세입'!$B$6:$B$100,'1추총괄표(위원회)'!$C21) -> 0 | R21: =SUMIFS('2추 세출'!G$6:G$264,'2추 세출'!$A$6:$A$264,'1추총괄표(위원회)'!$A21,'2추 세출'!$B$6:$B$264,'1추총괄표(위원회)'!$C21) -> 0 | S21: =SUMIFS('2추 세출'!H$6:H$264,'2추 세출'!$A$6:$A$264,'1추총괄표(위원회)'!$A21,'2추 세출'!$B$6:$B$264,'1추총괄표(위원회)'!$C21) -> 0 | T21: =R21-S21 -> 0 | U21: =SUMIFS('2추 세출'!J$6:J$264,'2추 세출'!$A$6:$A$264,'1추총괄표(위원회)'!$A21,'2추 세출'!$B$6:$B$264,'1추총괄표(위원회)'!$C21) -> 0 | V21: =SUMIFS('2추 세출'!K$6:K$264,'2추 세출'!$A$6:$A$264,'1추총괄표(위원회)'!$A21,'2추 세출'!$B$6:$B$264,'1추총괄표(위원회)'!$C21) -> 0 | W21: =SUMIFS('2추 세출'!L$6:L$264,'2추 세출'!$A$6:$A$264,'1추총괄표(위원회)'!$A21,'2추 세출'!$B$6:$B$264,'1추총괄표(위원회)'!$C21) -> 0 | X21: =SUMIFS('2추 세출'!V$6:V$264,'2추 세출'!$A$6:$A$264,'1추총괄표(위원회)'!$A21,'2추 세출'!$B$6:$B$264,'1추총괄표(위원회)'!$C21) -> 0 | Y21: =SUMIFS('2추 세출'!W$6:W$264,'2추 세출'!$A$6:$A$264,'1추총괄표(위원회)'!$A21,'2추 세출'!$B$6:$B$264,'1추총괄표(위원회)'!$C21) -> 0 | Z21: =SUMIFS('2추 세출'!M$6:M$264,'2추 세출'!$A$6:$A$264,'1추총괄표(위원회)'!$A21,'2추 세출'!$B$6:$B$264,'1추총괄표(위원회)'!$C21) -> 0 | AA21: =SUMIFS('2추 세출'!N$6:N$264,'2추 세출'!$A$6:$A$264,'1추총괄표(위원회)'!$A21,'2추 세출'!$B$6:$B$264,'1추총괄표(위원회)'!$C21) -> 0 | AB21: =SUMIFS('2추 세출'!O$6:O$264,'2추 세출'!$A$6:$A$264,'1추총괄표(위원회)'!$A21,'2추 세출'!$B$6:$B$264,'1추총괄표(위원회)'!$C21) -> 0 | AC21: =SUMIFS('2추 세출'!AA$6:AA$264,'2추 세출'!$A$6:$A$264,'1추총괄표(위원회)'!$A21,'2추 세출'!$B$6:$B$264,'1추총괄표(위원회)'!C$9) -> 0 | AD21: =SUMIFS('2추 세출'!AB$6:AB$264,'2추 세출'!$A$6:$A$264,'1추총괄표(위원회)'!$A21,'2추 세출'!$B$6:$B$264,'1추총괄표(위원회)'!D$9) -> 0 | AF21: =IF(J21=X21,"OK","@@") -> OK | AG21: =J21-X21 -> 0 | AH21: =IF(O21=AC21,"OK","@@") -> OK | AI21: =O21-AC21 -> 0
A22: 경제과학기술위원회 | C22: 따복공동체지원단 | D22: =SUMIFS('2추 세입'!G$6:G$100,'2추 세입'!$A$6:$A$100,'1추총괄표(위원회)'!$A22,'2추 세입'!$B$6:$B$100,'1추총괄표(위원회)'!$C22) -> 0 | E22: =SUMIFS('2추 세입'!H$6:H$100,'2추 세입'!$A$6:$A$100,'1추총괄표(위원회)'!$A22,'2추 세입'!$B$6:$B$100,'1추총괄표(위원회)'!$C22) -> 0 | F22: =D22-E22 -> 0 | G22: =SUMIFS('2추 세입'!J$6:J$100,'2추 세입'!$A$6:$A$100,'1추총괄표(위원회)'!$A22,'2추 세입'!$B$6:$B$100,'1추총괄표(위원회)'!$C22) -> 0 | H22: =SUMIFS('2추 세입'!K$6:K$100,'2추 세입'!$A$6:$A$100,'1추총괄표(위원회)'!$A22,'2추 세입'!$B$6:$B$100,'1추총괄표(위원회)'!$C22) -> 0 | I22: =SUMIFS('2추 세입'!L$6:L$100,'2추 세입'!$A$6:$A$100,'1추총괄표(위원회)'!$A22,'2추 세입'!$B$6:$B$100,'1추총괄표(위원회)'!$C22) -> 0 | J22: =SUMIFS('2추 세입'!V$6:V$100,'2추 세입'!$A$6:$A$100,'1추총괄표(위원회)'!$A22,'2추 세입'!$B$6:$B$100,'1추총괄표(위원회)'!$C22) -> 0 | K22: =SUMIFS('2추 세입'!W$6:W$100,'2추 세입'!$A$6:$A$100,'1추총괄표(위원회)'!$A22,'2추 세입'!$B$6:$B$100,'1추총괄표(위원회)'!$C22) -> 0 | L22: =SUMIFS('2추 세입'!M$6:M$100,'2추 세입'!$A$6:$A$100,'1추총괄표(위원회)'!$A22,'2추 세입'!$B$6:$B$100,'1추총괄표(위원회)'!$C22) -> 0 | M22: =SUMIFS('2추 세입'!N$6:N$100,'2추 세입'!$A$6:$A$100,'1추총괄표(위원회)'!$A22,'2추 세입'!$B$6:$B$100,'1추총괄표(위원회)'!$C22) -> 0 | N22: =SUMIFS('2추 세입'!O$6:O$100,'2추 세입'!$A$6:$A$100,'1추총괄표(위원회)'!$A22,'2추 세입'!$B$6:$B$100,'1추총괄표(위원회)'!$C22) -> 0 | O22: =SUMIFS('2추 세입'!AA$6:AA$100,'2추 세입'!$A$6:$A$100,'1추총괄표(위원회)'!$A22,'2추 세입'!$B$6:$B$100,'1추총괄표(위원회)'!$C22) -> 0 | P22: =SUMIFS('2추 세입'!AB$6:AB$100,'2추 세입'!$A$6:$A$100,'1추총괄표(위원회)'!$A22,'2추 세입'!$B$6:$B$100,'1추총괄표(위원회)'!$C22) -> 0 | R22: =SUMIFS('2추 세출'!G$6:G$264,'2추 세출'!$A$6:$A$264,'1추총괄표(위원회)'!$A22,'2추 세출'!$B$6:$B$264,'1추총괄표(위원회)'!$C22) -> 0 | S22: =SUMIFS('2추 세출'!H$6:H$264,'2추 세출'!$A$6:$A$264,'1추총괄표(위원회)'!$A22,'2추 세출'!$B$6:$B$264,'1추총괄표(위원회)'!$C22) -> 0 | T22: =R22-S22 -> 0 | U22: =SUMIFS('2추 세출'!J$6:J$264,'2추 세출'!$A$6:$A$264,'1추총괄표(위원회)'!$A22,'2추 세출'!$B$6:$B$264,'1추총괄표(위원회)'!$C22) -> 0 | V22: =SUMIFS('2추 세출'!K$6:K$264,'2추 세출'!$A$6:$A$264,'1추총괄표(위원회)'!$A22,'2추 세출'!$B$6:$B$264,'1추총괄표(위원회)'!$C22) -> 0 | W22: =SUMIFS('2추 세출'!L$6:L$264,'2추 세출'!$A$6:$A$264,'1추총괄표(위원회)'!$A22,'2추 세출'!$B$6:$B$264,'1추총괄표(위원회)'!$C22) -> 0 | X22: =SUMIFS('2추 세출'!V$6:V$264,'2추 세출'!$A$6:$A$264,'1추총괄표(위원회)'!$A22,'2추 세출'!$B$6:$B$264,'1추총괄표(위원회)'!$C22) -> 0 | Y22: =SUMIFS('2추 세출'!W$6:W$264,'2추 세출'!$A$6:$A$264,'1추총괄표(위원회)'!$A22,'2추 세출'!$B$6:$B$264,'1추총괄표(위원회)'!$C22) -> 0 | Z22: =SUMIFS('2추 세출'!M$6:M$264,'2추 세출'!$A$6:$A$264,'1추총괄표(위원회)'!$A22,'2추 세출'!$B$6:$B$264,'1추총괄표(위원회)'!$C22) -> 0 | AA22: =SUMIFS('2추 세출'!N$6:N$264,'2추 세출'!$A$6:$A$264,'1추총괄표(위원회)'!$A22,'2추 세출'!$B$6:$B$264,'1추총괄표(위원회)'!$C22) -> 0 | AB22: =SUMIFS('2추 세출'!O$6:O$264,'2추 세출'!$A$6:$A$264,'1추총괄표(위원회)'!$A22,'2추 세출'!$B$6:$B$264,'1추총괄표(위원회)'!$C22) -> 0 | AC22: =SUMIFS('2추 세출'!AA$6:AA$264,'2추 세출'!$A$6:$A$264,'1추총괄표(위원회)'!$A22,'2추 세출'!$B$6:$B$264,'1추총괄표(위원회)'!C$9) -> 0 | AD22: =SUMIFS('2추 세출'!AB$6:AB$264,'2추 세출'!$A$6:$A$264,'1추총괄표(위원회)'!$A22,'2추 세출'!$B$6:$B$264,'1추총괄표(위원회)'!D$9) -> 0 | AF22: =IF(J22=X22,"OK","@@") -> OK | AG22: =J22-X22 -> 0 | AH22: =IF(O22=AC22,"OK","@@") -> OK | AI22: =O22-AC22 -> 0
B23: 안전행정위원회 | D23: =SUM(D24:D27) -> 704000 | E23: =SUM(E24:E27) -> 0 | F23: =SUM(F24:F27) -> 704000 | G23: =SUM(G24:G27) -> 0 | H23: =SUM(H24:H27) -> 0 | I23: =SUM(I24:I27) -> 704000 | J23: =SUM(J24:J27) -> 0 | K23: =SUM(K24:K27) -> 0 | ... P23: =SUM(P24:P27) -> 0 | R23: =SUM(R24:R27) -> 3050096 | S23: =SUM(S24:S27) -> 1032096 | T23: =SUM(T24:T27) -> 2018000 | U23: =SUM(U24:U27) -> -300000 | V23: =SUM(V24:V27) -> 2400000 | W23: =SUM(W24:W27) -> 5150096 | X23: =SUM(X24:X27) -> 498126 | Y23: =SUM(Y24:Y27) -> 0 | ... AD23: =SUM(AD24:AD27) -> 0 | AF23: =IF(J23=X23,"OK","@@") -> @@ | AG23: =J23-X23 -> -498126 | AH23: =IF(O23=AC23,"OK","@@") -> OK | AI23: =O23-AC23 -> 0
A24: 안전행정위원회 | C24: 자치행정국 | D24: =SUMIFS('2추 세입'!G$6:G$100,'2추 세입'!$A$6:$A$100,'1추총괄표(위원회)'!$A24,'2추 세입'!$B$6:$B$100,'1추총괄표(위원회)'!$C24) -> 0 | E24: =SUMIFS('2추 세입'!H$6:H$100,'2추 세입'!$A$6:$A$100,'1추총괄표(위원회)'!$A24,'2추 세입'!$B$6:$B$100,'1추총괄표(위원회)'!$C24) -> 0 | F24: =D24-E24 -> 0 | G24: =SUMIFS('2추 세입'!J$6:J$100,'2추 세입'!$A$6:$A$100,'1추총괄표(위원회)'!$A24,'2추 세입'!$B$6:$B$100,'1추총괄표(위원회)'!$C24) -> 0 | H24: =SUMIFS('2추 세입'!K$6:K$100,'2추 세입'!$A$6:$A$100,'1추총괄표(위원회)'!$A24,'2추 세입'!$B$6:$B$100,'1추총괄표(위원회)'!$C24) -> 0 | I24: =SUMIFS('2추 세입'!L$6:L$100,'2추 세입'!$A$6:$A$100,'1추총괄표(위원회)'!$A24,'2추 세입'!$B$6:$B$100,'1추총괄표(위원회)'!$C24) -> 0 | J24: =SUMIFS('2추 세입'!V$6:V$100,'2추 세입'!$A$6:$A$100,'1추총괄표(위원회)'!$A24,'2추 세입'!$B$6:$B$100,'1추총괄표(위원회)'!$C24) -> 0 | K24: =SUMIFS('2추 세입'!W$6:W$100,'2추 세입'!$A$6:$A$100,'1추총괄표(위원회)'!$A24,'2추 세입'!$B$6:$B$100,'1추총괄표(위원회)'!$C24) -> 0 | L24: =SUMIFS('2추 세입'!M$6:M$100,'2추 세입'!$A$6:$A$100,'1추총괄표(위원회)'!$A24,'2추 세입'!$B$6:$B$100,'1추총괄표(위원회)'!$C24) -> 0 | M24: =SUMIFS('2추 세입'!N$6:N$100,'2추 세입'!$A$6:$A$100,'1추총괄표(위원회)'!$A24,'2추 세입'!$B$6:$B$100,'1추총괄표(위원회)'!$C24) -> 0 | N24: =SUMIFS('2추 세입'!O$6:O$100,'2추 세입'!$A$6:$A$100,'1추총괄표(위원회)'!$A24,'2추 세입'!$B$6:$B$100,'1추총괄표(위원회)'!$C24) -> 0 | O24: =SUMIFS('2추 세입'!AA$6:AA$100,'2추 세입'!$A$6:$A$100,'1추총괄표(위원회)'!$A24,'2추 세입'!$B$6:$B$100,'1추총괄표(위원회)'!$C24) -> 0 | P24: =SUMIFS('2추 세입'!AB$6:AB$100,'2추 세입'!$A$6:$A$100,'1추총괄표(위원회)'!$A24,'2추 세입'!$B$6:$B$100,'1추총괄표(위원회)'!$C24) -> 0 | R24: =SUMIFS('2추 세출'!G$6:G$264,'2추 세출'!$A$6:$A$264,'1추총괄표(위원회)'!$A24,'2추 세출'!$B$6:$B$264,'1추총괄표(위원회)'!$C24) -> 300000 | S24: =SUMIFS('2추 세출'!H$6:H$264,'2추 세출'!$A$6:$A$264,'1추총괄표(위원회)'!$A24,'2추 세출'!$B$6:$B$264,'1추총괄표(위원회)'!$C24) -> 0 | T24: =R24-S24 -> 300000 | U24: =SUMIFS('2추 세출'!J$6:J$264,'2추 세출'!$A$6:$A$264,'1추총괄표(위원회)'!$A24,'2추 세출'!$B$6:$B$264,'1추총괄표(위원회)'!$C24) -> -300000 | V24: =SUMIFS('2추 세출'!K$6:K$264,'2추 세출'!$A$6:$A$264,'1추총괄표(위원회)'!$A24,'2추 세출'!$B$6:$B$264,'1추총괄표(위원회)'!$C24) -> 0 | W24: =SUMIFS('2추 세출'!L$6:L$264,'2추 세출'!$A$6:$A$264,'1추총괄표(위원회)'!$A24,'2추 세출'!$B$6:$B$264,'1추총괄표(위원회)'!$C24) -> 0 | X24: =SUMIFS('2추 세출'!V$6:V$264,'2추 세출'!$A$6:$A$264,'1추총괄표(위원회)'!$A24,'2추 세출'!$B$6:$B$264,'1추총괄표(위원회)'!$C24) -> -300000 | Y24: =SUMIFS('2추 세출'!W$6:W$264,'2추 세출'!$A$6:$A$264,'1추총괄표(위원회)'!$A24,'2추 세출'!$B$6:$B$264,'1추총괄표(위원회)'!$C24) -> 0 | Z24: =SUMIFS('2추 세출'!M$6:M$264,'2추 세출'!$A$6:$A$264,'1추총괄표(위원회)'!$A24,'2추 세출'!$B$6:$B$264,'1추총괄표(위원회)'!$C24) -> 0 | AA24: =SUMIFS('2추 세출'!N$6:N$264,'2추 세출'!$A$6:$A$264,'1추총괄표(위원회)'!$A24,'2추 세출'!$B$6:$B$264,'1추총괄표(위원회)'!$C24) -> 0 | AB24: =SUMIFS('2추 세출'!O$6:O$264,'2추 세출'!$A$6:$A$264,'1추총괄표(위원회)'!$A24,'2추 세출'!$B$6:$B$264,'1추총괄표(위원회)'!$C24) -> 300000 | AC24: =SUMIFS('2추 세출'!AA$6:AA$264,'2추 세출'!$A$6:$A$264,'1추총괄표(위원회)'!$A24,'2추 세출'!$B$6:$B$264,'1추총괄표(위원회)'!C$9) -> 0 | AD24: =SUMIFS('2추 세출'!AB$6:AB$264,'2추 세출'!$A$6:$A$264,'1추총괄표(위원회)'!$A24,'2추 세출'!$B$6:$B$264,'1추총괄표(위원회)'!D$9) -> 0 | AF24: =IF(J24=X24,"OK","@@") -> @@ | AG24: =J24-X24 -> 300000 | AH24: =IF(O24=AC24,"OK","@@") -> OK | AI24: =O24-AC24 -> 0
A25: 안전행정위원회 | C25: 재난안전본부 | D25: =SUMIFS('2추 세입'!G$6:G$100,'2추 세입'!$A$6:$A$100,'1추총괄표(위원회)'!$A25,'2추 세입'!$B$6:$B$100,'1추총괄표(위원회)'!$C25) -> 704000 | E25: =SUMIFS('2추 세입'!H$6:H$100,'2추 세입'!$A$6:$A$100,'1추총괄표(위원회)'!$A25,'2추 세입'!$B$6:$B$100,'1추총괄표(위원회)'!$C25) -> 0 | F25: =D25-E25 -> 704000 | G25: =SUMIFS('2추 세입'!J$6:J$100,'2추 세입'!$A$6:$A$100,'1추총괄표(위원회)'!$A25,'2추 세입'!$B$6:$B$100,'1추총괄표(위원회)'!$C25) -> 0 | H25: =SUMIFS('2추 세입'!K$6:K$100,'2추 세입'!$A$6:$A$100,'1추총괄표(위원회)'!$A25,'2추 세입'!$B$6:$B$100,'1추총괄표(위원회)'!$C25) -> 0 | I25: =SUMIFS('2추 세입'!L$6:L$100,'2추 세입'!$A$6:$A$100,'1추총괄표(위원회)'!$A25,'2추 세입'!$B$6:$B$100,'1추총괄표(위원회)'!$C25) -> 704000 | J25: =SUMIFS('2추 세입'!V$6:V$100,'2추 세입'!$A$6:$A$100,'1추총괄표(위원회)'!$A25,'2추 세입'!$B$6:$B$100,'1추총괄표(위원회)'!$C25) -> 0 | K25: =SUMIFS('2추 세입'!W$6:W$100,'2추 세입'!$A$6:$A$100,'1추총괄표(위원회)'!$A25,'2추 세입'!$B$6:$B$100,'1추총괄표(위원회)'!$C25) -> 0 | L25: =SUMIFS('2추 세입'!M$6:M$100,'2추 세입'!$A$6:$A$100,'1추총괄표(위원회)'!$A25,'2추 세입'!$B$6:$B$100,'1추총괄표(위원회)'!$C25) -> 0 | M25: =SUMIFS('2추 세입'!N$6:N$100,'2추 세입'!$A$6:$A$100,'1추총괄표(위원회)'!$A25,'2추 세입'!$B$6:$B$100,'1추총괄표(위원회)'!$C25) -> 0 | N25: =SUMIFS('2추 세입'!O$6:O$100,'2추 세입'!$A$6:$A$100,'1추총괄표(위원회)'!$A25,'2추 세입'!$B$6:$B$100,'1추총괄표(위원회)'!$C25) -> 704000 | O25: =SUMIFS('2추 세입'!AA$6:AA$100,'2추 세입'!$A$6:$A$100,'1추총괄표(위원회)'!$A25,'2추 세입'!$B$6:$B$100,'1추총괄표(위원회)'!$C25) -> 0 | P25: =SUMIFS('2추 세입'!AB$6:AB$100,'2추 세입'!$A$6:$A$100,'1추총괄표(위원회)'!$A25,'2추 세입'!$B$6:$B$100,'1추총괄표(위원회)'!$C25) -> 0 | R25: =SUMIFS('2추 세출'!G$6:G$264,'2추 세출'!$A$6:$A$264,'1추총괄표(위원회)'!$A25,'2추 세출'!$B$6:$B$264,'1추총괄표(위원회)'!$C25) -> 2750096 | S25: =SUMIFS('2추 세출'!H$6:H$264,'2추 세출'!$A$6:$A$264,'1추총괄표(위원회)'!$A25,'2추 세출'!$B$6:$B$264,'1추총괄표(위원회)'!$C25) -> 1032096 | T25: =R25-S25 -> 1718000 | U25: =SUMIFS('2추 세출'!J$6:J$264,'2추 세출'!$A$6:$A$264,'1추총괄표(위원회)'!$A25,'2추 세출'!$B$6:$B$264,'1추총괄표(위원회)'!$C25) -> 0 | V25: =SUMIFS('2추 세출'!K$6:K$264,'2추 세출'!$A$6:$A$264,'1추총괄표(위원회)'!$A25,'2추 세출'!$B$6:$B$264,'1추총괄표(위원회)'!$C25) -> 2372500 | W25: =SUMIFS('2추 세출'!L$6:L$264,'2추 세출'!$A$6:$A$264,'1추총괄표(위원회)'!$A25,'2추 세출'!$B$6:$B$264,'1추총괄표(위원회)'!$C25) -> 5122596 | X25: =SUMIFS('2추 세출'!V$6:V$264,'2추 세출'!$A$6:$A$264,'1추총괄표(위원회)'!$A25,'2추 세출'!$B$6:$B$264,'1추총괄표(위원회)'!$C25) -> 798126 | Y25: =SUMIFS('2추 세출'!W$6:W$264,'2추 세출'!$A$6:$A$264,'1추총괄표(위원회)'!$A25,'2추 세출'!$B$6:$B$264,'1추총괄표(위원회)'!$C25) -> 0 | Z25: =SUMIFS('2추 세출'!M$6:M$264,'2추 세출'!$A$6:$A$264,'1추총괄표(위원회)'!$A25,'2추 세출'!$B$6:$B$264,'1추총괄표(위원회)'!$C25) -> 0 | AA25: =SUMIFS('2추 세출'!N$6:N$264,'2추 세출'!$A$6:$A$264,'1추총괄표(위원회)'!$A25,'2추 세출'!$B$6:$B$264,'1추총괄표(위원회)'!$C25) -> 0 | AB25: =SUMIFS('2추 세출'!O$6:O$264,'2추 세출'!$A$6:$A$264,'1추총괄표(위원회)'!$A25,'2추 세출'!$B$6:$B$264,'1추총괄표(위원회)'!$C25) -> 2750096 | AC25: =SUMIFS('2추 세출'!AA$6:AA$264,'2추 세출'!$A$6:$A$264,'1추총괄표(위원회)'!$A25,'2추 세출'!$B$6:$B$264,'1추총괄표(위원회)'!C$9) -> 0 | AD25: =SUMIFS('2추 세출'!AB$6:AB$264,'2추 세출'!$A$6:$A$264,'1추총괄표(위원회)'!$A25,'2추 세출'!$B$6:$B$264,'1추총괄표(위원회)'!D$9) -> 0 | AF25: =IF(J25=X25,"OK","@@") -> @@ | AG25: =J25-X25 -> -798126 | AH25: =IF(O25=AC25,"OK","@@") -> OK | AI25: =O25-AC25 -> 0
A26: 안전행정위원회 | C26: 균형발전기획실 | D26: =SUMIFS('2추 세입'!G$6:G$100,'2추 세입'!$A$6:$A$100,'1추총괄표(위원회)'!$A26,'2추 세입'!$B$6:$B$100,'1추총괄표(위원회)'!$C26) -> 0 | E26: =SUMIFS('2추 세입'!H$6:H$100,'2추 세입'!$A$6:$A$100,'1추총괄표(위원회)'!$A26,'2추 세입'!$B$6:$B$100,'1추총괄표(위원회)'!$C26) -> 0 | F26: =D26-E26 -> 0 | G26: =SUMIFS('2추 세입'!J$6:J$100,'2추 세입'!$A$6:$A$100,'1추총괄표(위원회)'!$A26,'2추 세입'!$B$6:$B$100,'1추총괄표(위원회)'!$C26) -> 0 | H26: =SUMIFS('2추 세입'!K$6:K$100,'2추 세입'!$A$6:$A$100,'1추총괄표(위원회)'!$A26,'2추 세입'!$B$6:$B$100,'1추총괄표(위원회)'!$C26) -> 0 | I26: =SUMIFS('2추 세입'!L$6:L$100,'2추 세입'!$A$6:$A$100,'1추총괄표(위원회)'!$A26,'2추 세입'!$B$6:$B$100,'1추총괄표(위원회)'!$C26) -> 0 | J26: =SUMIFS('2추 세입'!V$6:V$100,'2추 세입'!$A$6:$A$100,'1추총괄표(위원회)'!$A26,'2추 세입'!$B$6:$B$100,'1추총괄표(위원회)'!$C26) -> 0 | K26: =SUMIFS('2추 세입'!W$6:W$100,'2추 세입'!$A$6:$A$100,'1추총괄표(위원회)'!$A26,'2추 세입'!$B$6:$B$100,'1추총괄표(위원회)'!$C26) -> 0 | L26: =SUMIFS('2추 세입'!M$6:M$100,'2추 세입'!$A$6:$A$100,'1추총괄표(위원회)'!$A26,'2추 세입'!$B$6:$B$100,'1추총괄표(위원회)'!$C26) -> 0 | M26: =SUMIFS('2추 세입'!N$6:N$100,'2추 세입'!$A$6:$A$100,'1추총괄표(위원회)'!$A26,'2추 세입'!$B$6:$B$100,'1추총괄표(위원회)'!$C26) -> 0 | N26: =SUMIFS('2추 세입'!O$6:O$100,'2추 세입'!$A$6:$A$100,'1추총괄표(위원회)'!$A26,'2추 세입'!$B$6:$B$100,'1추총괄표(위원회)'!$C26) -> 0 | O26: =SUMIFS('2추 세입'!AA$6:AA$100,'2추 세입'!$A$6:$A$100,'1추총괄표(위원회)'!$A26,'2추 세입'!$B$6:$B$100,'1추총괄표(위원회)'!$C26) -> 0 | P26: =SUMIFS('2추 세입'!AB$6:AB$100,'2추 세입'!$A$6:$A$100,'1추총괄표(위원회)'!$A26,'2추 세입'!$B$6:$B$100,'1추총괄표(위원회)'!$C26) -> 0 | R26: =SUMIFS('2추 세출'!G$6:G$264,'2추 세출'!$A$6:$A$264,'1추총괄표(위원회)'!$A26,'2추 세출'!$B$6:$B$264,'1추총괄표(위원회)'!$C26) -> 0 | S26: =SUMIFS('2추 세출'!H$6:H$264,'2추 세출'!$A$6:$A$264,'1추총괄표(위원회)'!$A26,'2추 세출'!$B$6:$B$264,'1추총괄표(위원회)'!$C26) -> 0 | T26: =R26-S26 -> 0 | U26: =SUMIFS('2추 세출'!J$6:J$264,'2추 세출'!$A$6:$A$264,'1추총괄표(위원회)'!$A26,'2추 세출'!$B$6:$B$264,'1추총괄표(위원회)'!$C26) -> 0 | V26: =SUMIFS('2추 세출'!K$6:K$264,'2추 세출'!$A$6:$A$264,'1추총괄표(위원회)'!$A26,'2추 세출'!$B$6:$B$264,'1추총괄표(위원회)'!$C26) -> 0 | W26: =SUMIFS('2추 세출'!L$6:L$264,'2추 세출'!$A$6:$A$264,'1추총괄표(위원회)'!$A26,'2추 세출'!$B$6:$B$264,'1추총괄표(위원회)'!$C26) -> 0 | X26: =SUMIFS('2추 세출'!V$6:V$264,'2추 세출'!$A$6:$A$264,'1추총괄표(위원회)'!$A26,'2추 세출'!$B$6:$B$264,'1추총괄표(위원회)'!$C26) -> 0 | Y26: =SUMIFS('2추 세출'!W$6:W$264,'2추 세출'!$A$6:$A$264,'1추총괄표(위원회)'!$A26,'2추 세출'!$B$6:$B$264,'1추총괄표(위원회)'!$C26) -> 0 | Z26: =SUMIFS('2추 세출'!M$6:M$264,'2추 세출'!$A$6:$A$264,'1추총괄표(위원회)'!$A26,'2추 세출'!$B$6:$B$264,'1추총괄표(위원회)'!$C26) -> 0 | AA26: =SUMIFS('2추 세출'!N$6:N$264,'2추 세출'!$A$6:$A$264,'1추총괄표(위원회)'!$A26,'2추 세출'!$B$6:$B$264,'1추총괄표(위원회)'!$C26) -> 0 | AB26: =SUMIFS('2추 세출'!O$6:O$264,'2추 세출'!$A$6:$A$264,'1추총괄표(위원회)'!$A26,'2추 세출'!$B$6:$B$264,'1추총괄표(위원회)'!$C26) -> 0 | AC26: =SUMIFS('2추 세출'!AA$6:AA$264,'2추 세출'!$A$6:$A$264,'1추총괄표(위원회)'!$A26,'2추 세출'!$B$6:$B$264,'1추총괄표(위원회)'!C$9) -> 0 | AD26: =SUMIFS('2추 세출'!AB$6:AB$264,'2추 세출'!$A$6:$A$264,'1추총괄표(위원회)'!$A26,'2추 세출'!$B$6:$B$264,'1추총괄표(위원회)'!D$9) -> 0 | AF26: =IF(J26=X26,"OK","@@") -> OK | AG26: =J26-X26 -> 0 | AH26: =IF(O26=AC26,"OK","@@") -> OK | AI26: =O26-AC26 -> 0
A27: 안전행정위원회 | C27: 인재개발원 | D27: =SUMIFS('2추 세입'!G$6:G$100,'2추 세입'!$A$6:$A$100,'1추총괄표(위원회)'!$A27,'2추 세입'!$B$6:$B$100,'1추총괄표(위원회)'!$C27) -> 0 | E27: =SUMIFS('2추 세입'!H$6:H$100,'2추 세입'!$A$6:$A$100,'1추총괄표(위원회)'!$A27,'2추 세입'!$B$6:$B$100,'1추총괄표(위원회)'!$C27) -> 0 | F27: =D27-E27 -> 0 | G27: =SUMIFS('2추 세입'!J$6:J$100,'2추 세입'!$A$6:$A$100,'1추총괄표(위원회)'!$A27,'2추 세입'!$B$6:$B$100,'1추총괄표(위원회)'!$C27) -> 0 | H27: =SUMIFS('2추 세입'!K$6:K$100,'2추 세입'!$A$6:$A$100,'1추총괄표(위원회)'!$A27,'2추 세입'!$B$6:$B$100,'1추총괄표(위원회)'!$C27) -> 0 | I27: =SUMIFS('2추 세입'!L$6:L$100,'2추 세입'!$A$6:$A$100,'1추총괄표(위원회)'!$A27,'2추 세입'!$B$6:$B$100,'1추총괄표(위원회)'!$C27) -> 0 | J27: =SUMIFS('2추 세입'!V$6:V$100,'2추 세입'!$A$6:$A$100,'1추총괄표(위원회)'!$A27,'2추 세입'!$B$6:$B$100,'1추총괄표(위원회)'!$C27) -> 0 | K27: =SUMIFS('2추 세입'!W$6:W$100,'2추 세입'!$A$6:$A$100,'1추총괄표(위원회)'!$A27,'2추 세입'!$B$6:$B$100,'1추총괄표(위원회)'!$C27) -> 0 | L27: =SUMIFS('2추 세입'!M$6:M$100,'2추 세입'!$A$6:$A$100,'1추총괄표(위원회)'!$A27,'2추 세입'!$B$6:$B$100,'1추총괄표(위원회)'!$C27) -> 0 | M27: =SUMIFS('2추 세입'!N$6:N$100,'2추 세입'!$A$6:$A$100,'1추총괄표(위원회)'!$A27,'2추 세입'!$B$6:$B$100,'1추총괄표(위원회)'!$C27) -> 0 | N27: =SUMIFS('2추 세입'!O$6:O$100,'2추 세입'!$A$6:$A$100,'1추총괄표(위원회)'!$A27,'2추 세입'!$B$6:$B$100,'1추총괄표(위원회)'!$C27) -> 0 | O27: =SUMIFS('2추 세입'!AA$6:AA$100,'2추 세입'!$A$6:$A$100,'1추총괄표(위원회)'!$A27,'2추 세입'!$B$6:$B$100,'1추총괄표(위원회)'!$C27) -> 0 | P27: =SUMIFS('2추 세입'!AB$6:AB$100,'2추 세입'!$A$6:$A$100,'1추총괄표(위원회)'!$A27,'2추 세입'!$B$6:$B$100,'1추총괄표(위원회)'!$C27) -> 0 | R27: =SUMIFS('2추 세출'!G$6:G$264,'2추 세출'!$A$6:$A$264,'1추총괄표(위원회)'!$A27,'2추 세출'!$B$6:$B$264,'1추총괄표(위원회)'!$C27) -> 0 | S27: =SUMIFS('2추 세출'!H$6:H$264,'2추 세출'!$A$6:$A$264,'1추총괄표(위원회)'!$A27,'2추 세출'!$B$6:$B$264,'1추총괄표(위원회)'!$C27) -> 0 | T27: =R27-S27 -> 0 | U27: =SUMIFS('2추 세출'!J$6:J$264,'2추 세출'!$A$6:$A$264,'1추총괄표(위원회)'!$A27,'2추 세출'!$B$6:$B$264,'1추총괄표(위원회)'!$C27) -> 0 | V27: =SUMIFS('2추 세출'!K$6:K$264,'2추 세출'!$A$6:$A$264,'1추총괄표(위원회)'!$A27,'2추 세출'!$B$6:$B$264,'1추총괄표(위원회)'!$C27) -> 27500 | W27: =SUMIFS('2추 세출'!L$6:L$264,'2추 세출'!$A$6:$A$264,'1추총괄표(위원회)'!$A27,'2추 세출'!$B$6:$B$264,'1추총괄표(위원회)'!$C27) -> 27500 | X27: =SUMIFS('2추 세출'!V$6:V$264,'2추 세출'!$A$6:$A$264,'1추총괄표(위원회)'!$A27,'2추 세출'!$B$6:$B$264,'1추총괄표(위원회)'!$C27) -> 0 | Y27: =SUMIFS('2추 세출'!W$6:W$264,'2추 세출'!$A$6:$A$264,'1추총괄표(위원회)'!$A27,'2추 세출'!$B$6:$B$264,'1추총괄표(위원회)'!$C27) -> 0 | Z27: =SUMIFS('2추 세출'!M$6:M$264,'2추 세출'!$A$6:$A$264,'1추총괄표(위원회)'!$A27,'2추 세출'!$B$6:$B$264,'1추총괄표(위원회)'!$C27) -> 0 | AA27: =SUMIFS('2추 세출'!N$6:N$264,'2추 세출'!$A$6:$A$264,'1추총괄표(위원회)'!$A27,'2추 세출'!$B$6:$B$264,'1추총괄표(위원회)'!$C27) -> 0 | AB27: =SUMIFS('2추 세출'!O$6:O$264,'2추 세출'!$A$6:$A$264,'1추총괄표(위원회)'!$A27,'2추 세출'!$B$6:$B$264,'1추총괄표(위원회)'!$C27) -> 0 | AC27: =SUMIFS('2추 세출'!AA$6:AA$264,'2추 세출'!$A$6:$A$264,'1추총괄표(위원회)'!$A27,'2추 세출'!$B$6:$B$264,'1추총괄표(위원회)'!C$9) -> 0 | AD27: =SUMIFS('2추 세출'!AB$6:AB$264,'2추 세출'!$A$6:$A$264,'1추총괄표(위원회)'!$A27,'2추 세출'!$B$6:$B$264,'1추총괄표(위원회)'!D$9) -> 0 | AF27: =IF(J27=X27,"OK","@@") -> OK | AG27: =J27-X27 -> 0 | AH27: =IF(O27=AC27,"OK","@@") -> OK | AI27: =O27-AC27 -> 0
B28: 문화체육관광위원회 | D28: =SUM(D29) -> 8740000 | E28: =SUM(E29) -> 4440000 | F28: =SUM(F29) -> 4300000 | G28: =SUM(G29) -> 0 | H28: =SUM(H29) -> 3925000 | I28: =SUM(I29) -> 12665000 | J28: =SUM(J29) -> 3925000 | K28: =SUM(K29) -> 0 | ... P28: =SUM(P29) -> 0 | R28: =SUM(R29) -> 155161520 | S28: =SUM(S29) -> 124844025 | T28: =SUM(T29) -> 30317495 | U28: =SUM(U29) -> -2800000 | V28: =SUM(V29) -> 9675000 | W28: =SUM(W29) -> 162036520 | X28: =SUM(X29) -> 0 | Y28: =SUM(Y29) -> 0 | ... AD28: =SUM(AD29) -> 0 | AF28: =IF(J28=X28,"OK","@@") -> @@ | AG28: =J28-X28 -> 3925000 | AH28: =IF(O28=AC28,"OK","@@") -> OK | AI28: =O28-AC28 -> 0
A29: 문화체육관광위원회 | C29: 문화체육관광국 | D29: =SUMIFS('2추 세입'!G$6:G$100,'2추 세입'!$A$6:$A$100,'1추총괄표(위원회)'!$A29,'2추 세입'!$B$6:$B$100,'1추총괄표(위원회)'!$C29) -> 8740000 | E29: =SUMIFS('2추 세입'!H$6:H$100,'2추 세입'!$A$6:$A$100,'1추총괄표(위원회)'!$A29,'2추 세입'!$B$6:$B$100,'1추총괄표(위원회)'!$C29) -> 4440000 | F29: =D29-E29 -> 4300000 | G29: =SUMIFS('2추 세입'!J$6:J$100,'2추 세입'!$A$6:$A$100,'1추총괄표(위원회)'!$A29,'2추 세입'!$B$6:$B$100,'1추총괄표(위원회)'!$C29) -> 0 | H29: =SUMIFS('2추 세입'!K$6:K$100,'2추 세입'!$A$6:$A$100,'1추총괄표(위원회)'!$A29,'2추 세입'!$B$6:$B$100,'1추총괄표(위원회)'!$C29) -> 3925000 | I29: =SUMIFS('2추 세입'!L$6:L$100,'2추 세입'!$A$6:$A$100,'1추총괄표(위원회)'!$A29,'2추 세입'!$B$6:$B$100,'1추총괄표(위원회)'!$C29) -> 12665000 | J29: =SUMIFS('2추 세입'!V$6:V$100,'2추 세입'!$A$6:$A$100,'1추총괄표(위원회)'!$A29,'2추 세입'!$B$6:$B$100,'1추총괄표(위원회)'!$C29) -> 3925000 | K29: =SUMIFS('2추 세입'!W$6:W$100,'2추 세입'!$A$6:$A$100,'1추총괄표(위원회)'!$A29,'2추 세입'!$B$6:$B$100,'1추총괄표(위원회)'!$C29) -> 0 | L29: =SUMIFS('2추 세입'!M$6:M$100,'2추 세입'!$A$6:$A$100,'1추총괄표(위원회)'!$A29,'2추 세입'!$B$6:$B$100,'1추총괄표(위원회)'!$C29) -> 0 | M29: =SUMIFS('2추 세입'!N$6:N$100,'2추 세입'!$A$6:$A$100,'1추총괄표(위원회)'!$A29,'2추 세입'!$B$6:$B$100,'1추총괄표(위원회)'!$C29) -> 0 | N29: =SUMIFS('2추 세입'!O$6:O$100,'2추 세입'!$A$6:$A$100,'1추총괄표(위원회)'!$A29,'2추 세입'!$B$6:$B$100,'1추총괄표(위원회)'!$C29) -> 8740000 | O29: =SUMIFS('2추 세입'!AA$6:AA$100,'2추 세입'!$A$6:$A$100,'1추총괄표(위원회)'!$A29,'2추 세입'!$B$6:$B$100,'1추총괄표(위원회)'!$C29) -> 0 | P29: =SUMIFS('2추 세입'!AB$6:AB$100,'2추 세입'!$A$6:$A$100,'1추총괄표(위원회)'!$A29,'2추 세입'!$B$6:$B$100,'1추총괄표(위원회)'!$C29) -> 0 | R29: =SUMIFS('2추 세출'!G$6:G$264,'2추 세출'!$A$6:$A$264,'1추총괄표(위원회)'!$A29,'2추 세출'!$B$6:$B$264,'1추총괄표(위원회)'!$C29) -> 155161520 | S29: =SUMIFS('2추 세출'!H$6:H$264,'2추 세출'!$A$6:$A$264,'1추총괄표(위원회)'!$A29,'2추 세출'!$B$6:$B$264,'1추총괄표(위원회)'!$C29) -> 124844025 | T29: =R29-S29 -> 30317495 | U29: =SUMIFS('2추 세출'!J$6:J$264,'2추 세출'!$A$6:$A$264,'1추총괄표(위원회)'!$A29,'2추 세출'!$B$6:$B$264,'1추총괄표(위원회)'!$C29) -> -2800000 | V29: =SUMIFS('2추 세출'!K$6:K$264,'2추 세출'!$A$6:$A$264,'1추총괄표(위원회)'!$A29,'2추 세출'!$B$6:$B$264,'1추총괄표(위원회)'!$C29) -> 9675000 | W29: =SUMIFS('2추 세출'!L$6:L$264,'2추 세출'!$A$6:$A$264,'1추총괄표(위원회)'!$A29,'2추 세출'!$B$6:$B$264,'1추총괄표(위원회)'!$C29) -> 162036520 | X29: =SUMIFS('2추 세출'!V$6:V$264,'2추 세출'!$A$6:$A$264,'1추총괄표(위원회)'!$A29,'2추 세출'!$B$6:$B$264,'1추총괄표(위원회)'!$C29) -> 0 | Y29: =SUMIFS('2추 세출'!W$6:W$264,'2추 세출'!$A$6:$A$264,'1추총괄표(위원회)'!$A29,'2추 세출'!$B$6:$B$264,'1추총괄표(위원회)'!$C29) -> 0 | Z29: =SUMIFS('2추 세출'!M$6:M$264,'2추 세출'!$A$6:$A$264,'1추총괄표(위원회)'!$A29,'2추 세출'!$B$6:$B$264,'1추총괄표(위원회)'!$C29) -> 0 | AA29: =SUMIFS('2추 세출'!N$6:N$264,'2추 세출'!$A$6:$A$264,'1추총괄표(위원회)'!$A29,'2추 세출'!$B$6:$B$264,'1추총괄표(위원회)'!$C29) -> 0 | AB29: =SUMIFS('2추 세출'!O$6:O$264,'2추 세출'!$A$6:$A$264,'1추총괄표(위원회)'!$A29,'2추 세출'!$B$6:$B$264,'1추총괄표(위원회)'!$C29) -> 155161520 | AC29: =SUMIFS('2추 세출'!AA$6:AA$264,'2추 세출'!$A$6:$A$264,'1추총괄표(위원회)'!$A29,'2추 세출'!$B$6:$B$264,'1추총괄표(위원회)'!C$9) -> 0 | AD29: =SUMIFS('2추 세출'!AB$6:AB$264,'2추 세출'!$A$6:$A$264,'1추총괄표(위원회)'!$A29,'2추 세출'!$B$6:$B$264,'1추총괄표(위원회)'!D$9) -> 0 | AF29: =IF(J29=X29,"OK","@@") -> @@ | AG29: =J29-X29 -> 3925000 | AH29: =IF(O29=AC29,"OK","@@") -> OK | AI29: =O29-AC29 -> 0
B30: 농정해양위원회 | D30: =SUM(D31:D33) -> 11385 | E30: =SUM(E31:E33) -> 240000 | F30: =SUM(F31:F33) -> -228615 | G30: =SUM(G31:G33) -> -3152 | H30: =SUM(H31:H33) -> 5828000 | I30: =SUM(I31:I33) -> 6076233 | J30: =SUM(J31:J33) -> 5824848 | K30: =SUM(K31:K33) -> 0 | ... P30: =SUM(P31:P33) -> 0 | R30: =SUM(R31:R33) -> 8968133 | S30: =SUM(S31:S33) -> 9010945 | T30: =SUM(T31:T33) -> -42812 | U30: =SUM(U31:U33) -> -710219 | V30: =SUM(V31:V33) -> 9848310 | W30: =SUM(W31:W33) -> 21946494 | X30: =SUM(X31:X33) -> 9138091 | Y30: =SUM(Y31:Y33) -> 0 | ... AD30: =SUM(AD31:AD33) -> 0 | AF30: =IF(J30=X30,"OK","@@") -> @@ | AG30: =J30-X30 -> -3313243 | AH30: =IF(O30=AC30,"OK","@@") -> OK | AI30: =O30-AC30 -> 0
A31: 농정해양위원회 | C31: 농정해양국 | D31: =SUMIFS('2추 세입'!G$6:G$100,'2추 세입'!$A$6:$A$100,'1추총괄표(위원회)'!$A31,'2추 세입'!$B$6:$B$100,'1추총괄표(위원회)'!$C31) -> 0 | E31: =SUMIFS('2추 세입'!H$6:H$100,'2추 세입'!$A$6:$A$100,'1추총괄표(위원회)'!$A31,'2추 세입'!$B$6:$B$100,'1추총괄표(위원회)'!$C31) -> 240000 | F31: =D31-E31 -> -240000 | G31: =SUMIFS('2추 세입'!J$6:J$100,'2추 세입'!$A$6:$A$100,'1추총괄표(위원회)'!$A31,'2추 세입'!$B$6:$B$100,'1추총괄표(위원회)'!$C31) -> 0 | H31: =SUMIFS('2추 세입'!K$6:K$100,'2추 세입'!$A$6:$A$100,'1추총괄표(위원회)'!$A31,'2추 세입'!$B$6:$B$100,'1추총괄표(위원회)'!$C31) -> 5758000 | I31: =SUMIFS('2추 세입'!L$6:L$100,'2추 세입'!$A$6:$A$100,'1추총괄표(위원회)'!$A31,'2추 세입'!$B$6:$B$100,'1추총괄표(위원회)'!$C31) -> 5998000 | J31: =SUMIFS('2추 세입'!V$6:V$100,'2추 세입'!$A$6:$A$100,'1추총괄표(위원회)'!$A31,'2추 세입'!$B$6:$B$100,'1추총괄표(위원회)'!$C31) -> 5758000 | K31: =SUMIFS('2추 세입'!W$6:W$100,'2추 세입'!$A$6:$A$100,'1추총괄표(위원회)'!$A31,'2추 세입'!$B$6:$B$100,'1추총괄표(위원회)'!$C31) -> 0 | L31: =SUMIFS('2추 세입'!M$6:M$100,'2추 세입'!$A$6:$A$100,'1추총괄표(위원회)'!$A31,'2추 세입'!$B$6:$B$100,'1추총괄표(위원회)'!$C31) -> 0 | M31: =SUMIFS('2추 세입'!N$6:N$100,'2추 세입'!$A$6:$A$100,'1추총괄표(위원회)'!$A31,'2추 세입'!$B$6:$B$100,'1추총괄표(위원회)'!$C31) -> 0 | N31: =SUMIFS('2추 세입'!O$6:O$100,'2추 세입'!$A$6:$A$100,'1추총괄표(위원회)'!$A31,'2추 세입'!$B$6:$B$100,'1추총괄표(위원회)'!$C31) -> 240000 | O31: =SUMIFS('2추 세입'!AA$6:AA$100,'2추 세입'!$A$6:$A$100,'1추총괄표(위원회)'!$A31,'2추 세입'!$B$6:$B$100,'1추총괄표(위원회)'!$C31) -> 0 | P31: =SUMIFS('2추 세입'!AB$6:AB$100,'2추 세입'!$A$6:$A$100,'1추총괄표(위원회)'!$A31,'2추 세입'!$B$6:$B$100,'1추총괄표(위원회)'!$C31) -> 0 | R31: =SUMIFS('2추 세출'!G$6:G$264,'2추 세출'!$A$6:$A$264,'1추총괄표(위원회)'!$A31,'2추 세출'!$B$6:$B$264,'1추총괄표(위원회)'!$C31) -> 5126000 | S31: =SUMIFS('2추 세출'!H$6:H$264,'2추 세출'!$A$6:$A$264,'1추총괄표(위원회)'!$A31,'2추 세출'!$B$6:$B$264,'1추총괄표(위원회)'!$C31) -> 7908310 | T31: =R31-S31 -> -2782310 | U31: =SUMIFS('2추 세출'!J$6:J$264,'2추 세출'!$A$6:$A$264,'1추총괄표(위원회)'!$A31,'2추 세출'!$B$6:$B$264,'1추총괄표(위원회)'!$C31) -> -100000 | V31: =SUMIFS('2추 세출'!K$6:K$264,'2추 세출'!$A$6:$A$264,'1추총괄표(위원회)'!$A31,'2추 세출'!$B$6:$B$264,'1추총괄표(위원회)'!$C31) -> 7968000 | W31: =SUMIFS('2추 세출'!L$6:L$264,'2추 세출'!$A$6:$A$264,'1추총괄표(위원회)'!$A31,'2추 세출'!$B$6:$B$264,'1추총괄표(위원회)'!$C31) -> 16576310 | X31: =SUMIFS('2추 세출'!V$6:V$264,'2추 세출'!$A$6:$A$264,'1추총괄표(위원회)'!$A31,'2추 세출'!$B$6:$B$264,'1추총괄표(위원회)'!$C31) -> 7868000 | Y31: =SUMIFS('2추 세출'!W$6:W$264,'2추 세출'!$A$6:$A$264,'1추총괄표(위원회)'!$A31,'2추 세출'!$B$6:$B$264,'1추총괄표(위원회)'!$C31) -> 0 | Z31: =SUMIFS('2추 세출'!M$6:M$264,'2추 세출'!$A$6:$A$264,'1추총괄표(위원회)'!$A31,'2추 세출'!$B$6:$B$264,'1추총괄표(위원회)'!$C31) -> 0 | AA31: =SUMIFS('2추 세출'!N$6:N$264,'2추 세출'!$A$6:$A$264,'1추총괄표(위원회)'!$A31,'2추 세출'!$B$6:$B$264,'1추총괄표(위원회)'!$C31) -> 0 | AB31: =SUMIFS('2추 세출'!O$6:O$264,'2추 세출'!$A$6:$A$264,'1추총괄표(위원회)'!$A31,'2추 세출'!$B$6:$B$264,'1추총괄표(위원회)'!$C31) -> 8708310 | AC31: =SUMIFS('2추 세출'!AA$6:AA$264,'2추 세출'!$A$6:$A$264,'1추총괄표(위원회)'!$A31,'2추 세출'!$B$6:$B$264,'1추총괄표(위원회)'!C$9) -> 0 | AD31: =SUMIFS('2추 세출'!AB$6:AB$264,'2추 세출'!$A$6:$A$264,'1추총괄표(위원회)'!$A31,'2추 세출'!$B$6:$B$264,'1추총괄표(위원회)'!D$9) -> 0 | AF31: =IF(J31=X31,"OK","@@") -> @@ | AG31: =J31-X31 -> -2110000 | AH31: =IF(O31=AC31,"OK","@@") -> OK | AI31: =O31-AC31 -> 0
A32: 농정해양위원회 | C32: 축산산림국 | D32: =SUMIFS('2추 세입'!G$6:G$100,'2추 세입'!$A$6:$A$100,'1추총괄표(위원회)'!$A32,'2추 세입'!$B$6:$B$100,'1추총괄표(위원회)'!$C32) -> 11385 | E32: =SUMIFS('2추 세입'!H$6:H$100,'2추 세입'!$A$6:$A$100,'1추총괄표(위원회)'!$A32,'2추 세입'!$B$6:$B$100,'1추총괄표(위원회)'!$C32) -> 0 | F32: =D32-E32 -> 11385 | G32: =SUMIFS('2추 세입'!J$6:J$100,'2추 세입'!$A$6:$A$100,'1추총괄표(위원회)'!$A32,'2추 세입'!$B$6:$B$100,'1추총괄표(위원회)'!$C32) -> -3152 | H32: =SUMIFS('2추 세입'!K$6:K$100,'2추 세입'!$A$6:$A$100,'1추총괄표(위원회)'!$A32,'2추 세입'!$B$6:$B$100,'1추총괄표(위원회)'!$C32) -> 70000 | I32: =SUMIFS('2추 세입'!L$6:L$100,'2추 세입'!$A$6:$A$100,'1추총괄표(위원회)'!$A32,'2추 세입'!$B$6:$B$100,'1추총괄표(위원회)'!$C32) -> 78233 | J32: =SUMIFS('2추 세입'!V$6:V$100,'2추 세입'!$A$6:$A$100,'1추총괄표(위원회)'!$A32,'2추 세입'!$B$6:$B$100,'1추총괄표(위원회)'!$C32) -> 66848 | K32: =SUMIFS('2추 세입'!W$6:W$100,'2추 세입'!$A$6:$A$100,'1추총괄표(위원회)'!$A32,'2추 세입'!$B$6:$B$100,'1추총괄표(위원회)'!$C32) -> 0 | L32: =SUMIFS('2추 세입'!M$6:M$100,'2추 세입'!$A$6:$A$100,'1추총괄표(위원회)'!$A32,'2추 세입'!$B$6:$B$100,'1추총괄표(위원회)'!$C32) -> 0 | M32: =SUMIFS('2추 세입'!N$6:N$100,'2추 세입'!$A$6:$A$100,'1추총괄표(위원회)'!$A32,'2추 세입'!$B$6:$B$100,'1추총괄표(위원회)'!$C32) -> 0 | N32: =SUMIFS('2추 세입'!O$6:O$100,'2추 세입'!$A$6:$A$100,'1추총괄표(위원회)'!$A32,'2추 세입'!$B$6:$B$100,'1추총괄표(위원회)'!$C32) -> 11385 | O32: =SUMIFS('2추 세입'!AA$6:AA$100,'2추 세입'!$A$6:$A$100,'1추총괄표(위원회)'!$A32,'2추 세입'!$B$6:$B$100,'1추총괄표(위원회)'!$C32) -> 0 | P32: =SUMIFS('2추 세입'!AB$6:AB$100,'2추 세입'!$A$6:$A$100,'1추총괄표(위원회)'!$A32,'2추 세입'!$B$6:$B$100,'1추총괄표(위원회)'!$C32) -> 0 | R32: =SUMIFS('2추 세출'!G$6:G$264,'2추 세출'!$A$6:$A$264,'1추총괄표(위원회)'!$A32,'2추 세출'!$B$6:$B$264,'1추총괄표(위원회)'!$C32) -> 3382129 | S32: =SUMIFS('2추 세출'!H$6:H$264,'2추 세출'!$A$6:$A$264,'1추총괄표(위원회)'!$A32,'2추 세출'!$B$6:$B$264,'1추총괄표(위원회)'!$C32) -> 617642 | T32: =R32-S32 -> 2764487 | U32: =SUMIFS('2추 세출'!J$6:J$264,'2추 세출'!$A$6:$A$264,'1추총괄표(위원회)'!$A32,'2추 세출'!$B$6:$B$264,'1추총괄표(위원회)'!$C32) -> -555168 | V32: =SUMIFS('2추 세출'!K$6:K$264,'2추 세출'!$A$6:$A$264,'1추총괄표(위원회)'!$A32,'2추 세출'!$B$6:$B$264,'1추총괄표(위원회)'!$C32) -> 1510259 | W32: =SUMIFS('2추 세출'!L$6:L$264,'2추 세출'!$A$6:$A$264,'1추총괄표(위원회)'!$A32,'2추 세출'!$B$6:$B$264,'1추총괄표(위원회)'!$C32) -> 4437220 | X32: =SUMIFS('2추 세출'!V$6:V$264,'2추 세출'!$A$6:$A$264,'1추총괄표(위원회)'!$A32,'2추 세출'!$B$6:$B$264,'1추총괄표(위원회)'!$C32) -> 955091 | Y32: =SUMIFS('2추 세출'!W$6:W$264,'2추 세출'!$A$6:$A$264,'1추총괄표(위원회)'!$A32,'2추 세출'!$B$6:$B$264,'1추총괄표(위원회)'!$C32) -> 0 | Z32: =SUMIFS('2추 세출'!M$6:M$264,'2추 세출'!$A$6:$A$264,'1추총괄표(위원회)'!$A32,'2추 세출'!$B$6:$B$264,'1추총괄표(위원회)'!$C32) -> 0 | AA32: =SUMIFS('2추 세출'!N$6:N$264,'2추 세출'!$A$6:$A$264,'1추총괄표(위원회)'!$A32,'2추 세출'!$B$6:$B$264,'1추총괄표(위원회)'!$C32) -> 0 | AB32: =SUMIFS('2추 세출'!O$6:O$264,'2추 세출'!$A$6:$A$264,'1추총괄표(위원회)'!$A32,'2추 세출'!$B$6:$B$264,'1추총괄표(위원회)'!$C32) -> 3482129 | AC32: =SUMIFS('2추 세출'!AA$6:AA$264,'2추 세출'!$A$6:$A$264,'1추총괄표(위원회)'!$A32,'2추 세출'!$B$6:$B$264,'1추총괄표(위원회)'!C$9) -> 0 | AD32: =SUMIFS('2추 세출'!AB$6:AB$264,'2추 세출'!$A$6:$A$264,'1추총괄표(위원회)'!$A32,'2추 세출'!$B$6:$B$264,'1추총괄표(위원회)'!D$9) -> 0 | AF32: =IF(J32=X32,"OK","@@") -> @@ | AG32: =J32-X32 -> -888243 | AH32: =IF(O32=AC32,"OK","@@") -> OK | AI32: =O32-AC32 -> 0
A33: 농정해양위원회 | C33: 농업기술원 | D33: =SUMIFS('2추 세입'!G$6:G$100,'2추 세입'!$A$6:$A$100,'1추총괄표(위원회)'!$A33,'2추 세입'!$B$6:$B$100,'1추총괄표(위원회)'!$C33) -> 0 | E33: =SUMIFS('2추 세입'!H$6:H$100,'2추 세입'!$A$6:$A$100,'1추총괄표(위원회)'!$A33,'2추 세입'!$B$6:$B$100,'1추총괄표(위원회)'!$C33) -> 0 | F33: =D33-E33 -> 0 | G33: =SUMIFS('2추 세입'!J$6:J$100,'2추 세입'!$A$6:$A$100,'1추총괄표(위원회)'!$A33,'2추 세입'!$B$6:$B$100,'1추총괄표(위원회)'!$C33) -> 0 | H33: =SUMIFS('2추 세입'!K$6:K$100,'2추 세입'!$A$6:$A$100,'1추총괄표(위원회)'!$A33,'2추 세입'!$B$6:$B$100,'1추총괄표(위원회)'!$C33) -> 0 | I33: =SUMIFS('2추 세입'!L$6:L$100,'2추 세입'!$A$6:$A$100,'1추총괄표(위원회)'!$A33,'2추 세입'!$B$6:$B$100,'1추총괄표(위원회)'!$C33) -> 0 | J33: =SUMIFS('2추 세입'!V$6:V$100,'2추 세입'!$A$6:$A$100,'1추총괄표(위원회)'!$A33,'2추 세입'!$B$6:$B$100,'1추총괄표(위원회)'!$C33) -> 0 | K33: =SUMIFS('2추 세입'!W$6:W$100,'2추 세입'!$A$6:$A$100,'1추총괄표(위원회)'!$A33,'2추 세입'!$B$6:$B$100,'1추총괄표(위원회)'!$C33) -> 0 | L33: =SUMIFS('2추 세입'!M$6:M$100,'2추 세입'!$A$6:$A$100,'1추총괄표(위원회)'!$A33,'2추 세입'!$B$6:$B$100,'1추총괄표(위원회)'!$C33) -> 0 | M33: =SUMIFS('2추 세입'!N$6:N$100,'2추 세입'!$A$6:$A$100,'1추총괄표(위원회)'!$A33,'2추 세입'!$B$6:$B$100,'1추총괄표(위원회)'!$C33) -> 0 | N33: =SUMIFS('2추 세입'!O$6:O$100,'2추 세입'!$A$6:$A$100,'1추총괄표(위원회)'!$A33,'2추 세입'!$B$6:$B$100,'1추총괄표(위원회)'!$C33) -> 0 | O33: =SUMIFS('2추 세입'!AA$6:AA$100,'2추 세입'!$A$6:$A$100,'1추총괄표(위원회)'!$A33,'2추 세입'!$B$6:$B$100,'1추총괄표(위원회)'!$C33) -> 0 | P33: =SUMIFS('2추 세입'!AB$6:AB$100,'2추 세입'!$A$6:$A$100,'1추총괄표(위원회)'!$A33,'2추 세입'!$B$6:$B$100,'1추총괄표(위원회)'!$C33) -> 0 | R33: =SUMIFS('2추 세출'!G$6:G$264,'2추 세출'!$A$6:$A$264,'1추총괄표(위원회)'!$A33,'2추 세출'!$B$6:$B$264,'1추총괄표(위원회)'!$C33) -> 460004 | S33: =SUMIFS('2추 세출'!H$6:H$264,'2추 세출'!$A$6:$A$264,'1추총괄표(위원회)'!$A33,'2추 세출'!$B$6:$B$264,'1추총괄표(위원회)'!$C33) -> 484993 | T33: =R33-S33 -> -24989 | U33: =SUMIFS('2추 세출'!J$6:J$264,'2추 세출'!$A$6:$A$264,'1추총괄표(위원회)'!$A33,'2추 세출'!$B$6:$B$264,'1추총괄표(위원회)'!$C33) -> -55051 | V33: =SUMIFS('2추 세출'!K$6:K$264,'2추 세출'!$A$6:$A$264,'1추총괄표(위원회)'!$A33,'2추 세출'!$B$6:$B$264,'1추총괄표(위원회)'!$C33) -> 370051 | W33: =SUMIFS('2추 세출'!L$6:L$264,'2추 세출'!$A$6:$A$264,'1추총괄표(위원회)'!$A33,'2추 세출'!$B$6:$B$264,'1추총괄표(위원회)'!$C33) -> 932964 | X33: =SUMIFS('2추 세출'!V$6:V$264,'2추 세출'!$A$6:$A$264,'1추총괄표(위원회)'!$A33,'2추 세출'!$B$6:$B$264,'1추총괄표(위원회)'!$C33) -> 315000 | Y33: =SUMIFS('2추 세출'!W$6:W$264,'2추 세출'!$A$6:$A$264,'1추총괄표(위원회)'!$A33,'2추 세출'!$B$6:$B$264,'1추총괄표(위원회)'!$C33) -> 0 | Z33: =SUMIFS('2추 세출'!M$6:M$264,'2추 세출'!$A$6:$A$264,'1추총괄표(위원회)'!$A33,'2추 세출'!$B$6:$B$264,'1추총괄표(위원회)'!$C33) -> 0 | AA33: =SUMIFS('2추 세출'!N$6:N$264,'2추 세출'!$A$6:$A$264,'1추총괄표(위원회)'!$A33,'2추 세출'!$B$6:$B$264,'1추총괄표(위원회)'!$C33) -> 0 | AB33: =SUMIFS('2추 세출'!O$6:O$264,'2추 세출'!$A$6:$A$264,'1추총괄표(위원회)'!$A33,'2추 세출'!$B$6:$B$264,'1추총괄표(위원회)'!$C33) -> 617964 | AC33: =SUMIFS('2추 세출'!AA$6:AA$264,'2추 세출'!$A$6:$A$264,'1추총괄표(위원회)'!$A33,'2추 세출'!$B$6:$B$264,'1추총괄표(위원회)'!C$9) -> 0 | AD33: =SUMIFS('2추 세출'!AB$6:AB$264,'2추 세출'!$A$6:$A$264,'1추총괄표(위원회)'!$A33,'2추 세출'!$B$6:$B$264,'1추총괄표(위원회)'!D$9) -> 0 | AF33: =IF(J33=X33,"OK","@@") -> @@ | AG33: =J33-X33 -> -315000 | AH33: =IF(O33=AC33,"OK","@@") -> OK | AI33: =O33-AC33 -> 0
B34: 보건복지위원회 | D34: =SUM(D35:D37) -> 16869541 | E34: =SUM(E35:E37) -> 132445014 | F34: =SUM(F35:F37) -> -115575473 | G34: =SUM(G35:G37) -> -3372191 | H34: =SUM(H35:H37) -> 3003732 | I34: =SUM(I35:I37) -> 138654528 | J34: =SUM(J35:J37) -> -368459 | K34: =SUM(K35:K37) -> 0 | ... P34: =SUM(P35:P37) -> 0 | R34: =SUM(R35:R37) -> 25820893 | S34: =SUM(S35:S37) -> 144349057 | T34: =SUM(T35:T37) -> -118528164 | U34: =SUM(U35:U37) -> -13449634 | V34: =SUM(V35:V37) -> 5892364 | W34: =SUM(W35:W37) -> 152766357 | X34: =SUM(X35:X37) -> -7557270 | Y34: =SUM(Y35:Y37) -> 0 | ... AD34: =SUM(AD35:AD37) -> 0 | AF34: =IF(J34=X34,"OK","@@") -> @@ | AG34: =J34-X34 -> 7188811 | AH34: =IF(O34=AC34,"OK","@@") -> OK | AI34: =O34-AC34 -> 0
A35: 보건복지위원회 | C35: 보건복지국 | D35: =SUMIFS('2추 세입'!G$6:G$100,'2추 세입'!$A$6:$A$100,'1추총괄표(위원회)'!$A35,'2추 세입'!$B$6:$B$100,'1추총괄표(위원회)'!$C35) -> 16869541 | E35: =SUMIFS('2추 세입'!H$6:H$100,'2추 세입'!$A$6:$A$100,'1추총괄표(위원회)'!$A35,'2추 세입'!$B$6:$B$100,'1추총괄표(위원회)'!$C35) -> 132445014 | F35: =D35-E35 -> -115575473 | G35: =SUMIFS('2추 세입'!J$6:J$100,'2추 세입'!$A$6:$A$100,'1추총괄표(위원회)'!$A35,'2추 세입'!$B$6:$B$100,'1추총괄표(위원회)'!$C35) -> -3372191 | H35: =SUMIFS('2추 세입'!K$6:K$100,'2추 세입'!$A$6:$A$100,'1추총괄표(위원회)'!$A35,'2추 세입'!$B$6:$B$100,'1추총괄표(위원회)'!$C35) -> 3003732 | I35: =SUMIFS('2추 세입'!L$6:L$100,'2추 세입'!$A$6:$A$100,'1추총괄표(위원회)'!$A35,'2추 세입'!$B$6:$B$100,'1추총괄표(위원회)'!$C35) -> 138654528 | J35: =SUMIFS('2추 세입'!V$6:V$100,'2추 세입'!$A$6:$A$100,'1추총괄표(위원회)'!$A35,'2추 세입'!$B$6:$B$100,'1추총괄표(위원회)'!$C35) -> -368459 | K35: =SUMIFS('2추 세입'!W$6:W$100,'2추 세입'!$A$6:$A$100,'1추총괄표(위원회)'!$A35,'2추 세입'!$B$6:$B$100,'1추총괄표(위원회)'!$C35) -> 0 | L35: =SUMIFS('2추 세입'!M$6:M$100,'2추 세입'!$A$6:$A$100,'1추총괄표(위원회)'!$A35,'2추 세입'!$B$6:$B$100,'1추총괄표(위원회)'!$C35) -> 0 | M35: =SUMIFS('2추 세입'!N$6:N$100,'2추 세입'!$A$6:$A$100,'1추총괄표(위원회)'!$A35,'2추 세입'!$B$6:$B$100,'1추총괄표(위원회)'!$C35) -> 0 | N35: =SUMIFS('2추 세입'!O$6:O$100,'2추 세입'!$A$6:$A$100,'1추총괄표(위원회)'!$A35,'2추 세입'!$B$6:$B$100,'1추총괄표(위원회)'!$C35) -> 139022987 | O35: =SUMIFS('2추 세입'!AA$6:AA$100,'2추 세입'!$A$6:$A$100,'1추총괄표(위원회)'!$A35,'2추 세입'!$B$6:$B$100,'1추총괄표(위원회)'!$C35) -> 0 | P35: =SUMIFS('2추 세입'!AB$6:AB$100,'2추 세입'!$A$6:$A$100,'1추총괄표(위원회)'!$A35,'2추 세입'!$B$6:$B$100,'1추총괄표(위원회)'!$C35) -> 0 | R35: =SUMIFS('2추 세출'!G$6:G$264,'2추 세출'!$A$6:$A$264,'1추총괄표(위원회)'!$A35,'2추 세출'!$B$6:$B$264,'1추총괄표(위원회)'!$C35) -> 25344831 | S35: =SUMIFS('2추 세출'!H$6:H$264,'2추 세출'!$A$6:$A$264,'1추총괄표(위원회)'!$A35,'2추 세출'!$B$6:$B$264,'1추총괄표(위원회)'!$C35) -> 105558561 | T35: =R35-S35 -> -80213730 | U35: =SUMIFS('2추 세출'!J$6:J$264,'2추 세출'!$A$6:$A$264,'1추총괄표(위원회)'!$A35,'2추 세출'!$B$6:$B$264,'1추총괄표(위원회)'!$C35) -> -13449634 | V35: =SUMIFS('2추 세출'!K$6:K$264,'2추 세출'!$A$6:$A$264,'1추총괄표(위원회)'!$A35,'2추 세출'!$B$6:$B$264,'1추총괄표(위원회)'!$C35) -> 3132026 | W35: =SUMIFS('2추 세출'!L$6:L$264,'2추 세출'!$A$6:$A$264,'1추총괄표(위원회)'!$A35,'2추 세출'!$B$6:$B$264,'1추총괄표(위원회)'!$C35) -> 111015683 | X35: =SUMIFS('2추 세출'!V$6:V$264,'2추 세출'!$A$6:$A$264,'1추총괄표(위원회)'!$A35,'2추 세출'!$B$6:$B$264,'1추총괄표(위원회)'!$C35) -> -10317608 | Y35: =SUMIFS('2추 세출'!W$6:W$264,'2추 세출'!$A$6:$A$264,'1추총괄표(위원회)'!$A35,'2추 세출'!$B$6:$B$264,'1추총괄표(위원회)'!$C35) -> 0 | Z35: =SUMIFS('2추 세출'!M$6:M$264,'2추 세출'!$A$6:$A$264,'1추총괄표(위원회)'!$A35,'2추 세출'!$B$6:$B$264,'1추총괄표(위원회)'!$C35) -> 0 | AA35: =SUMIFS('2추 세출'!N$6:N$264,'2추 세출'!$A$6:$A$264,'1추총괄표(위원회)'!$A35,'2추 세출'!$B$6:$B$264,'1추총괄표(위원회)'!$C35) -> 0 | AB35: =SUMIFS('2추 세출'!O$6:O$264,'2추 세출'!$A$6:$A$264,'1추총괄표(위원회)'!$A35,'2추 세출'!$B$6:$B$264,'1추총괄표(위원회)'!$C35) -> 121333291 | AC35: =SUMIFS('2추 세출'!AA$6:AA$264,'2추 세출'!$A$6:$A$264,'1추총괄표(위원회)'!$A35,'2추 세출'!$B$6:$B$264,'1추총괄표(위원회)'!C$9) -> 0 | AD35: =SUMIFS('2추 세출'!AB$6:AB$264,'2추 세출'!$A$6:$A$264,'1추총괄표(위원회)'!$A35,'2추 세출'!$B$6:$B$264,'1추총괄표(위원회)'!D$9) -> 0 | AF35: =IF(J35=X35,"OK","@@") -> @@ | AG35: =J35-X35 -> 9949149 | AH35: =IF(O35=AC35,"OK","@@") -> OK | AI35: =O35-AC35 -> 0
A36: 보건복지위원회 | C36: 복지여성실 | D36: =SUMIFS('2추 세입'!G$6:G$100,'2추 세입'!$A$6:$A$100,'1추총괄표(위원회)'!$A36,'2추 세입'!$B$6:$B$100,'1추총괄표(위원회)'!$C36) -> 0 | E36: =SUMIFS('2추 세입'!H$6:H$100,'2추 세입'!$A$6:$A$100,'1추총괄표(위원회)'!$A36,'2추 세입'!$B$6:$B$100,'1추총괄표(위원회)'!$C36) -> 0 | F36: =D36-E36 -> 0 | G36: =SUMIFS('2추 세입'!J$6:J$100,'2추 세입'!$A$6:$A$100,'1추총괄표(위원회)'!$A36,'2추 세입'!$B$6:$B$100,'1추총괄표(위원회)'!$C36) -> 0 | H36: =SUMIFS('2추 세입'!K$6:K$100,'2추 세입'!$A$6:$A$100,'1추총괄표(위원회)'!$A36,'2추 세입'!$B$6:$B$100,'1추총괄표(위원회)'!$C36) -> 0 | I36: =SUMIFS('2추 세입'!L$6:L$100,'2추 세입'!$A$6:$A$100,'1추총괄표(위원회)'!$A36,'2추 세입'!$B$6:$B$100,'1추총괄표(위원회)'!$C36) -> 0 | J36: =SUMIFS('2추 세입'!V$6:V$100,'2추 세입'!$A$6:$A$100,'1추총괄표(위원회)'!$A36,'2추 세입'!$B$6:$B$100,'1추총괄표(위원회)'!$C36) -> 0 | K36: =SUMIFS('2추 세입'!W$6:W$100,'2추 세입'!$A$6:$A$100,'1추총괄표(위원회)'!$A36,'2추 세입'!$B$6:$B$100,'1추총괄표(위원회)'!$C36) -> 0 | L36: =SUMIFS('2추 세입'!M$6:M$100,'2추 세입'!$A$6:$A$100,'1추총괄표(위원회)'!$A36,'2추 세입'!$B$6:$B$100,'1추총괄표(위원회)'!$C36) -> 0 | M36: =SUMIFS('2추 세입'!N$6:N$100,'2추 세입'!$A$6:$A$100,'1추총괄표(위원회)'!$A36,'2추 세입'!$B$6:$B$100,'1추총괄표(위원회)'!$C36) -> 0 | N36: =SUMIFS('2추 세입'!O$6:O$100,'2추 세입'!$A$6:$A$100,'1추총괄표(위원회)'!$A36,'2추 세입'!$B$6:$B$100,'1추총괄표(위원회)'!$C36) -> 0 | O36: =SUMIFS('2추 세입'!AA$6:AA$100,'2추 세입'!$A$6:$A$100,'1추총괄표(위원회)'!$A36,'2추 세입'!$B$6:$B$100,'1추총괄표(위원회)'!$C36) -> 0 | P36: =SUMIFS('2추 세입'!AB$6:AB$100,'2추 세입'!$A$6:$A$100,'1추총괄표(위원회)'!$A36,'2추 세입'!$B$6:$B$100,'1추총괄표(위원회)'!$C36) -> 0 | R36: =SUMIFS('2추 세출'!G$6:G$264,'2추 세출'!$A$6:$A$264,'1추총괄표(위원회)'!$A36,'2추 세출'!$B$6:$B$264,'1추총괄표(위원회)'!$C36) -> 476062 | S36: =SUMIFS('2추 세출'!H$6:H$264,'2추 세출'!$A$6:$A$264,'1추총괄표(위원회)'!$A36,'2추 세출'!$B$6:$B$264,'1추총괄표(위원회)'!$C36) -> 38790496 | T36: =R36-S36 -> -38314434 | U36: =SUMIFS('2추 세출'!J$6:J$264,'2추 세출'!$A$6:$A$264,'1추총괄표(위원회)'!$A36,'2추 세출'!$B$6:$B$264,'1추총괄표(위원회)'!$C36) -> 0 | V36: =SUMIFS('2추 세출'!K$6:K$264,'2추 세출'!$A$6:$A$264,'1추총괄표(위원회)'!$A36,'2추 세출'!$B$6:$B$264,'1추총괄표(위원회)'!$C36) -> 2760338 | W36: =SUMIFS('2추 세출'!L$6:L$264,'2추 세출'!$A$6:$A$264,'1추총괄표(위원회)'!$A36,'2추 세출'!$B$6:$B$264,'1추총괄표(위원회)'!$C36) -> 41750674 | X36: =SUMIFS('2추 세출'!V$6:V$264,'2추 세출'!$A$6:$A$264,'1추총괄표(위원회)'!$A36,'2추 세출'!$B$6:$B$264,'1추총괄표(위원회)'!$C36) -> 2760338 | Y36: =SUMIFS('2추 세출'!W$6:W$264,'2추 세출'!$A$6:$A$264,'1추총괄표(위원회)'!$A36,'2추 세출'!$B$6:$B$264,'1추총괄표(위원회)'!$C36) -> 0 | Z36: =SUMIFS('2추 세출'!M$6:M$264,'2추 세출'!$A$6:$A$264,'1추총괄표(위원회)'!$A36,'2추 세출'!$B$6:$B$264,'1추총괄표(위원회)'!$C36) -> 0 | AA36: =SUMIFS('2추 세출'!N$6:N$264,'2추 세출'!$A$6:$A$264,'1추총괄표(위원회)'!$A36,'2추 세출'!$B$6:$B$264,'1추총괄표(위원회)'!$C36) -> 0 | AB36: =SUMIFS('2추 세출'!O$6:O$264,'2추 세출'!$A$6:$A$264,'1추총괄표(위원회)'!$A36,'2추 세출'!$B$6:$B$264,'1추총괄표(위원회)'!$C36) -> 38990336 | AC36: =SUMIFS('2추 세출'!AA$6:AA$264,'2추 세출'!$A$6:$A$264,'1추총괄표(위원회)'!$A36,'2추 세출'!$B$6:$B$264,'1추총괄표(위원회)'!C$9) -> 0 | AD36: =SUMIFS('2추 세출'!AB$6:AB$264,'2추 세출'!$A$6:$A$264,'1추총괄표(위원회)'!$A36,'2추 세출'!$B$6:$B$264,'1추총괄표(위원회)'!D$9) -> 0 | AF36: =IF(J36=X36,"OK","@@") -> @@ | AG36: =J36-X36 -> -2760338 | AH36: =IF(O36=AC36,"OK","@@") -> OK | AI36: =O36-AC36 -> 0
A37: 보건복지위원회 | C37: 보건환경연구원 | D37: =SUMIFS('2추 세입'!G$6:G$100,'2추 세입'!$A$6:$A$100,'1추총괄표(위원회)'!$A37,'2추 세입'!$B$6:$B$100,'1추총괄표(위원회)'!$C37) -> 0 | E37: =SUMIFS('2추 세입'!H$6:H$100,'2추 세입'!$A$6:$A$100,'1추총괄표(위원회)'!$A37,'2추 세입'!$B$6:$B$100,'1추총괄표(위원회)'!$C37) -> 0 | F37: =D37-E37 -> 0 | G37: =SUMIFS('2추 세입'!J$6:J$100,'2추 세입'!$A$6:$A$100,'1추총괄표(위원회)'!$A37,'2추 세입'!$B$6:$B$100,'1추총괄표(위원회)'!$C37) -> 0 | H37: =SUMIFS('2추 세입'!K$6:K$100,'2추 세입'!$A$6:$A$100,'1추총괄표(위원회)'!$A37,'2추 세입'!$B$6:$B$100,'1추총괄표(위원회)'!$C37) -> 0 | I37: =SUMIFS('2추 세입'!L$6:L$100,'2추 세입'!$A$6:$A$100,'1추총괄표(위원회)'!$A37,'2추 세입'!$B$6:$B$100,'1추총괄표(위원회)'!$C37) -> 0 | J37: =SUMIFS('2추 세입'!V$6:V$100,'2추 세입'!$A$6:$A$100,'1추총괄표(위원회)'!$A37,'2추 세입'!$B$6:$B$100,'1추총괄표(위원회)'!$C37) -> 0 | K37: =SUMIFS('2추 세입'!W$6:W$100,'2추 세입'!$A$6:$A$100,'1추총괄표(위원회)'!$A37,'2추 세입'!$B$6:$B$100,'1추총괄표(위원회)'!$C37) -> 0 | L37: =SUMIFS('2추 세입'!M$6:M$100,'2추 세입'!$A$6:$A$100,'1추총괄표(위원회)'!$A37,'2추 세입'!$B$6:$B$100,'1추총괄표(위원회)'!$C37) -> 0 | M37: =SUMIFS('2추 세입'!N$6:N$100,'2추 세입'!$A$6:$A$100,'1추총괄표(위원회)'!$A37,'2추 세입'!$B$6:$B$100,'1추총괄표(위원회)'!$C37) -> 0 | N37: =SUMIFS('2추 세입'!O$6:O$100,'2추 세입'!$A$6:$A$100,'1추총괄표(위원회)'!$A37,'2추 세입'!$B$6:$B$100,'1추총괄표(위원회)'!$C37) -> 0 | O37: =SUMIFS('2추 세입'!AA$6:AA$100,'2추 세입'!$A$6:$A$100,'1추총괄표(위원회)'!$A37,'2추 세입'!$B$6:$B$100,'1추총괄표(위원회)'!$C37) -> 0 | P37: =SUMIFS('2추 세입'!AB$6:AB$100,'2추 세입'!$A$6:$A$100,'1추총괄표(위원회)'!$A37,'2추 세입'!$B$6:$B$100,'1추총괄표(위원회)'!$C37) -> 0 | R37: =SUMIFS('2추 세출'!G$6:G$264,'2추 세출'!$A$6:$A$264,'1추총괄표(위원회)'!$A37,'2추 세출'!$B$6:$B$264,'1추총괄표(위원회)'!$C37) -> 0 | S37: =SUMIFS('2추 세출'!H$6:H$264,'2추 세출'!$A$6:$A$264,'1추총괄표(위원회)'!$A37,'2추 세출'!$B$6:$B$264,'1추총괄표(위원회)'!$C37) -> 0 | T37: =R37-S37 -> 0 | U37: =SUMIFS('2추 세출'!J$6:J$264,'2추 세출'!$A$6:$A$264,'1추총괄표(위원회)'!$A37,'2추 세출'!$B$6:$B$264,'1추총괄표(위원회)'!$C37) -> 0 | V37: =SUMIFS('2추 세출'!K$6:K$264,'2추 세출'!$A$6:$A$264,'1추총괄표(위원회)'!$A37,'2추 세출'!$B$6:$B$264,'1추총괄표(위원회)'!$C37) -> 0 | W37: =SUMIFS('2추 세출'!L$6:L$264,'2추 세출'!$A$6:$A$264,'1추총괄표(위원회)'!$A37,'2추 세출'!$B$6:$B$264,'1추총괄표(위원회)'!$C37) -> 0 | X37: =SUMIFS('2추 세출'!V$6:V$264,'2추 세출'!$A$6:$A$264,'1추총괄표(위원회)'!$A37,'2추 세출'!$B$6:$B$264,'1추총괄표(위원회)'!$C37) -> 0 | Y37: =SUMIFS('2추 세출'!W$6:W$264,'2추 세출'!$A$6:$A$264,'1추총괄표(위원회)'!$A37,'2추 세출'!$B$6:$B$264,'1추총괄표(위원회)'!$C37) -> 0 | Z37: =SUMIFS('2추 세출'!M$6:M$264,'2추 세출'!$A$6:$A$264,'1추총괄표(위원회)'!$A37,'2추 세출'!$B$6:$B$264,'1추총괄표(위원회)'!$C37) -> 0 | AA37: =SUMIFS('2추 세출'!N$6:N$264,'2추 세출'!$A$6:$A$264,'1추총괄표(위원회)'!$A37,'2추 세출'!$B$6:$B$264,'1추총괄표(위원회)'!$C37) -> 0 | AB37: =SUMIFS('2추 세출'!O$6:O$264,'2추 세출'!$A$6:$A$264,'1추총괄표(위원회)'!$A37,'2추 세출'!$B$6:$B$264,'1추총괄표(위원회)'!$C37) -> 0 | AC37: =SUMIFS('2추 세출'!AA$6:AA$264,'2추 세출'!$A$6:$A$264,'1추총괄표(위원회)'!$A37,'2추 세출'!$B$6:$B$264,'1추총괄표(위원회)'!C$9) -> 0 | AD37: =SUMIFS('2추 세출'!AB$6:AB$264,'2추 세출'!$A$6:$A$264,'1추총괄표(위원회)'!$A37,'2추 세출'!$B$6:$B$264,'1추총괄표(위원회)'!D$9) -> 0 | AF37: =IF(J37=X37,"OK","@@") -> OK | AG37: =J37-X37 -> 0 | AH37: =IF(O37=AC37,"OK","@@") -> OK | AI37: =O37-AC37 -> 0
B38: 건설교통위원회 | D38: =SUM(D39:D42) -> 0 | E38: =SUM(E39:E42) -> 0 | F38: =SUM(F39:F42) -> 0 | G38: =SUM(G39:G42) -> 0 | H38: =SUM(H39:H42) -> 0 | I38: =SUM(I39:I42) -> 0 | J38: =SUM(J39:J42) -> 0 | K38: =SUM(K39:K42) -> 0 | ... P38: =SUM(P39:P42) -> 0 | R38: =SUM(R39:R42) -> 83094401 | S38: =SUM(S39:S42) -> 36440000 | T38: =SUM(T39:T42) -> 46654401 | U38: =SUM(U39:U42) -> -7000000 | V38: =SUM(V39:V42) -> 11290000 | W38: =SUM(W39:W42) -> 87384401 | X38: =SUM(X39:X42) -> 790000 | Y38: =SUM(Y39:Y42) -> 0 | ... AD38: =SUM(AD39:AD42) -> 0 | AF38: =IF(J38=X38,"OK","@@") -> @@ | AG38: =J38-X38 -> -790000 | AH38: =IF(O38=AC38,"OK","@@") -> OK | AI38: =O38-AC38 -> 0
A39: 건설교통위원회 | C39: 철도국 | D39: =SUMIFS('2추 세입'!G$6:G$100,'2추 세입'!$A$6:$A$100,'1추총괄표(위원회)'!$A39,'2추 세입'!$B$6:$B$100,'1추총괄표(위원회)'!$C39) -> 0 | E39: =SUMIFS('2추 세입'!H$6:H$100,'2추 세입'!$A$6:$A$100,'1추총괄표(위원회)'!$A39,'2추 세입'!$B$6:$B$100,'1추총괄표(위원회)'!$C39) -> 0 | F39: =D39-E39 -> 0 | G39: =SUMIFS('2추 세입'!J$6:J$100,'2추 세입'!$A$6:$A$100,'1추총괄표(위원회)'!$A39,'2추 세입'!$B$6:$B$100,'1추총괄표(위원회)'!$C39) -> 0 | H39: =SUMIFS('2추 세입'!K$6:K$100,'2추 세입'!$A$6:$A$100,'1추총괄표(위원회)'!$A39,'2추 세입'!$B$6:$B$100,'1추총괄표(위원회)'!$C39) -> 0 | I39: =SUMIFS('2추 세입'!L$6:L$100,'2추 세입'!$A$6:$A$100,'1추총괄표(위원회)'!$A39,'2추 세입'!$B$6:$B$100,'1추총괄표(위원회)'!$C39) -> 0 | J39: =SUMIFS('2추 세입'!V$6:V$100,'2추 세입'!$A$6:$A$100,'1추총괄표(위원회)'!$A39,'2추 세입'!$B$6:$B$100,'1추총괄표(위원회)'!$C39) -> 0 | K39: =SUMIFS('2추 세입'!W$6:W$100,'2추 세입'!$A$6:$A$100,'1추총괄표(위원회)'!$A39,'2추 세입'!$B$6:$B$100,'1추총괄표(위원회)'!$C39) -> 0 | L39: =SUMIFS('2추 세입'!M$6:M$100,'2추 세입'!$A$6:$A$100,'1추총괄표(위원회)'!$A39,'2추 세입'!$B$6:$B$100,'1추총괄표(위원회)'!$C39) -> 0 | M39: =SUMIFS('2추 세입'!N$6:N$100,'2추 세입'!$A$6:$A$100,'1추총괄표(위원회)'!$A39,'2추 세입'!$B$6:$B$100,'1추총괄표(위원회)'!$C39) -> 0 | N39: =SUMIFS('2추 세입'!O$6:O$100,'2추 세입'!$A$6:$A$100,'1추총괄표(위원회)'!$A39,'2추 세입'!$B$6:$B$100,'1추총괄표(위원회)'!$C39) -> 0 | O39: =SUMIFS('2추 세입'!AA$6:AA$100,'2추 세입'!$A$6:$A$100,'1추총괄표(위원회)'!$A39,'2추 세입'!$B$6:$B$100,'1추총괄표(위원회)'!$C39) -> 0 | P39: =SUMIFS('2추 세입'!AB$6:AB$100,'2추 세입'!$A$6:$A$100,'1추총괄표(위원회)'!$A39,'2추 세입'!$B$6:$B$100,'1추총괄표(위원회)'!$C39) -> 0 | R39: =SUMIFS('2추 세출'!G$6:G$264,'2추 세출'!$A$6:$A$264,'1추총괄표(위원회)'!$A39,'2추 세출'!$B$6:$B$264,'1추총괄표(위원회)'!$C39) -> 1890000 | S39: =SUMIFS('2추 세출'!H$6:H$264,'2추 세출'!$A$6:$A$264,'1추총괄표(위원회)'!$A39,'2추 세출'!$B$6:$B$264,'1추총괄표(위원회)'!$C39) -> 1890000 | T39: =R39-S39 -> 0 | U39: =SUMIFS('2추 세출'!J$6:J$264,'2추 세출'!$A$6:$A$264,'1추총괄표(위원회)'!$A39,'2추 세출'!$B$6:$B$264,'1추총괄표(위원회)'!$C39) -> 0 | V39: =SUMIFS('2추 세출'!K$6:K$264,'2추 세출'!$A$6:$A$264,'1추총괄표(위원회)'!$A39,'2추 세출'!$B$6:$B$264,'1추총괄표(위원회)'!$C39) -> 490000 | W39: =SUMIFS('2추 세출'!L$6:L$264,'2추 세출'!$A$6:$A$264,'1추총괄표(위원회)'!$A39,'2추 세출'!$B$6:$B$264,'1추총괄표(위원회)'!$C39) -> 2380000 | X39: =SUMIFS('2추 세출'!V$6:V$264,'2추 세출'!$A$6:$A$264,'1추총괄표(위원회)'!$A39,'2추 세출'!$B$6:$B$264,'1추총괄표(위원회)'!$C39) -> 490000 | Y39: =SUMIFS('2추 세출'!W$6:W$264,'2추 세출'!$A$6:$A$264,'1추총괄표(위원회)'!$A39,'2추 세출'!$B$6:$B$264,'1추총괄표(위원회)'!$C39) -> 0 | Z39: =SUMIFS('2추 세출'!M$6:M$264,'2추 세출'!$A$6:$A$264,'1추총괄표(위원회)'!$A39,'2추 세출'!$B$6:$B$264,'1추총괄표(위원회)'!$C39) -> 0 | AA39: =SUMIFS('2추 세출'!N$6:N$264,'2추 세출'!$A$6:$A$264,'1추총괄표(위원회)'!$A39,'2추 세출'!$B$6:$B$264,'1추총괄표(위원회)'!$C39) -> 0 | AB39: =SUMIFS('2추 세출'!O$6:O$264,'2추 세출'!$A$6:$A$264,'1추총괄표(위원회)'!$A39,'2추 세출'!$B$6:$B$264,'1추총괄표(위원회)'!$C39) -> 1890000 | AC39: =SUMIFS('2추 세출'!AA$6:AA$264,'2추 세출'!$A$6:$A$264,'1추총괄표(위원회)'!$A39,'2추 세출'!$B$6:$B$264,'1추총괄표(위원회)'!C$9) -> 0 | AD39: =SUMIFS('2추 세출'!AB$6:AB$264,'2추 세출'!$A$6:$A$264,'1추총괄표(위원회)'!$A39,'2추 세출'!$B$6:$B$264,'1추총괄표(위원회)'!D$9) -> 0 | AF39: =IF(J39=X39,"OK","@@") -> @@ | AG39: =J39-X39 -> -490000 | AH39: =IF(O39=AC39,"OK","@@") -> OK | AI39: =O39-AC39 -> 0
A40: 건설교통위원회 | C40: 교통국 | D40: =SUMIFS('2추 세입'!G$6:G$100,'2추 세입'!$A$6:$A$100,'1추총괄표(위원회)'!$A40,'2추 세입'!$B$6:$B$100,'1추총괄표(위원회)'!$C40) -> 0 | E40: =SUMIFS('2추 세입'!H$6:H$100,'2추 세입'!$A$6:$A$100,'1추총괄표(위원회)'!$A40,'2추 세입'!$B$6:$B$100,'1추총괄표(위원회)'!$C40) -> 0 | F40: =D40-E40 -> 0 | G40: =SUMIFS('2추 세입'!J$6:J$100,'2추 세입'!$A$6:$A$100,'1추총괄표(위원회)'!$A40,'2추 세입'!$B$6:$B$100,'1추총괄표(위원회)'!$C40) -> 0 | H40: =SUMIFS('2추 세입'!K$6:K$100,'2추 세입'!$A$6:$A$100,'1추총괄표(위원회)'!$A40,'2추 세입'!$B$6:$B$100,'1추총괄표(위원회)'!$C40) -> 0 | I40: =SUMIFS('2추 세입'!L$6:L$100,'2추 세입'!$A$6:$A$100,'1추총괄표(위원회)'!$A40,'2추 세입'!$B$6:$B$100,'1추총괄표(위원회)'!$C40) -> 0 | J40: =SUMIFS('2추 세입'!V$6:V$100,'2추 세입'!$A$6:$A$100,'1추총괄표(위원회)'!$A40,'2추 세입'!$B$6:$B$100,'1추총괄표(위원회)'!$C40) -> 0 | K40: =SUMIFS('2추 세입'!W$6:W$100,'2추 세입'!$A$6:$A$100,'1추총괄표(위원회)'!$A40,'2추 세입'!$B$6:$B$100,'1추총괄표(위원회)'!$C40) -> 0 | L40: =SUMIFS('2추 세입'!M$6:M$100,'2추 세입'!$A$6:$A$100,'1추총괄표(위원회)'!$A40,'2추 세입'!$B$6:$B$100,'1추총괄표(위원회)'!$C40) -> 0 | M40: =SUMIFS('2추 세입'!N$6:N$100,'2추 세입'!$A$6:$A$100,'1추총괄표(위원회)'!$A40,'2추 세입'!$B$6:$B$100,'1추총괄표(위원회)'!$C40) -> 0 | N40: =SUMIFS('2추 세입'!O$6:O$100,'2추 세입'!$A$6:$A$100,'1추총괄표(위원회)'!$A40,'2추 세입'!$B$6:$B$100,'1추총괄표(위원회)'!$C40) -> 0 | O40: =SUMIFS('2추 세입'!AA$6:AA$100,'2추 세입'!$A$6:$A$100,'1추총괄표(위원회)'!$A40,'2추 세입'!$B$6:$B$100,'1추총괄표(위원회)'!$C40) -> 0 | P40: =SUMIFS('2추 세입'!AB$6:AB$100,'2추 세입'!$A$6:$A$100,'1추총괄표(위원회)'!$A40,'2추 세입'!$B$6:$B$100,'1추총괄표(위원회)'!$C40) -> 0 | R40: =SUMIFS('2추 세출'!G$6:G$264,'2추 세출'!$A$6:$A$264,'1추총괄표(위원회)'!$A40,'2추 세출'!$B$6:$B$264,'1추총괄표(위원회)'!$C40) -> 4104401 | S40: =SUMIFS('2추 세출'!H$6:H$264,'2추 세출'!$A$6:$A$264,'1추총괄표(위원회)'!$A40,'2추 세출'!$B$6:$B$264,'1추총괄표(위원회)'!$C40) -> 1350000 | T40: =R40-S40 -> 2754401 | U40: =SUMIFS('2추 세출'!J$6:J$264,'2추 세출'!$A$6:$A$264,'1추총괄표(위원회)'!$A40,'2추 세출'!$B$6:$B$264,'1추총괄표(위원회)'!$C40) -> 0 | V40: =SUMIFS('2추 세출'!K$6:K$264,'2추 세출'!$A$6:$A$264,'1추총괄표(위원회)'!$A40,'2추 세출'!$B$6:$B$264,'1추총괄표(위원회)'!$C40) -> 0 | W40: =SUMIFS('2추 세출'!L$6:L$264,'2추 세출'!$A$6:$A$264,'1추총괄표(위원회)'!$A40,'2추 세출'!$B$6:$B$264,'1추총괄표(위원회)'!$C40) -> 4104401 | X40: =SUMIFS('2추 세출'!V$6:V$264,'2추 세출'!$A$6:$A$264,'1추총괄표(위원회)'!$A40,'2추 세출'!$B$6:$B$264,'1추총괄표(위원회)'!$C40) -> 0 | Y40: =SUMIFS('2추 세출'!W$6:W$264,'2추 세출'!$A$6:$A$264,'1추총괄표(위원회)'!$A40,'2추 세출'!$B$6:$B$264,'1추총괄표(위원회)'!$C40) -> 0 | Z40: =SUMIFS('2추 세출'!M$6:M$264,'2추 세출'!$A$6:$A$264,'1추총괄표(위원회)'!$A40,'2추 세출'!$B$6:$B$264,'1추총괄표(위원회)'!$C40) -> 0 | AA40: =SUMIFS('2추 세출'!N$6:N$264,'2추 세출'!$A$6:$A$264,'1추총괄표(위원회)'!$A40,'2추 세출'!$B$6:$B$264,'1추총괄표(위원회)'!$C40) -> 0 | AB40: =SUMIFS('2추 세출'!O$6:O$264,'2추 세출'!$A$6:$A$264,'1추총괄표(위원회)'!$A40,'2추 세출'!$B$6:$B$264,'1추총괄표(위원회)'!$C40) -> 4104401 | AC40: =SUMIFS('2추 세출'!AA$6:AA$264,'2추 세출'!$A$6:$A$264,'1추총괄표(위원회)'!$A40,'2추 세출'!$B$6:$B$264,'1추총괄표(위원회)'!C$9) -> 0 | AD40: =SUMIFS('2추 세출'!AB$6:AB$264,'2추 세출'!$A$6:$A$264,'1추총괄표(위원회)'!$A40,'2추 세출'!$B$6:$B$264,'1추총괄표(위원회)'!D$9) -> 0 | AF40: =IF(J40=X40,"OK","@@") -> OK | AG40: =J40-X40 -> 0 | AH40: =IF(O40=AC40,"OK","@@") -> OK | AI40: =O40-AC40 -> 0
A41: 건설교통위원회 | C41: 건설국 | D41: =SUMIFS('2추 세입'!G$6:G$100,'2추 세입'!$A$6:$A$100,'1추총괄표(위원회)'!$A41,'2추 세입'!$B$6:$B$100,'1추총괄표(위원회)'!$C41) -> 0 | E41: =SUMIFS('2추 세입'!H$6:H$100,'2추 세입'!$A$6:$A$100,'1추총괄표(위원회)'!$A41,'2추 세입'!$B$6:$B$100,'1추총괄표(위원회)'!$C41) -> 0 | F41: =D41-E41 -> 0 | G41: =SUMIFS('2추 세입'!J$6:J$100,'2추 세입'!$A$6:$A$100,'1추총괄표(위원회)'!$A41,'2추 세입'!$B$6:$B$100,'1추총괄표(위원회)'!$C41) -> 0 | H41: =SUMIFS('2추 세입'!K$6:K$100,'2추 세입'!$A$6:$A$100,'1추총괄표(위원회)'!$A41,'2추 세입'!$B$6:$B$100,'1추총괄표(위원회)'!$C41) -> 0 | I41: =SUMIFS('2추 세입'!L$6:L$100,'2추 세입'!$A$6:$A$100,'1추총괄표(위원회)'!$A41,'2추 세입'!$B$6:$B$100,'1추총괄표(위원회)'!$C41) -> 0 | J41: =SUMIFS('2추 세입'!V$6:V$100,'2추 세입'!$A$6:$A$100,'1추총괄표(위원회)'!$A41,'2추 세입'!$B$6:$B$100,'1추총괄표(위원회)'!$C41) -> 0 | K41: =SUMIFS('2추 세입'!W$6:W$100,'2추 세입'!$A$6:$A$100,'1추총괄표(위원회)'!$A41,'2추 세입'!$B$6:$B$100,'1추총괄표(위원회)'!$C41) -> 0 | L41: =SUMIFS('2추 세입'!M$6:M$100,'2추 세입'!$A$6:$A$100,'1추총괄표(위원회)'!$A41,'2추 세입'!$B$6:$B$100,'1추총괄표(위원회)'!$C41) -> 0 | M41: =SUMIFS('2추 세입'!N$6:N$100,'2추 세입'!$A$6:$A$100,'1추총괄표(위원회)'!$A41,'2추 세입'!$B$6:$B$100,'1추총괄표(위원회)'!$C41) -> 0 | N41: =SUMIFS('2추 세입'!O$6:O$100,'2추 세입'!$A$6:$A$100,'1추총괄표(위원회)'!$A41,'2추 세입'!$B$6:$B$100,'1추총괄표(위원회)'!$C41) -> 0 | O41: =SUMIFS('2추 세입'!AA$6:AA$100,'2추 세입'!$A$6:$A$100,'1추총괄표(위원회)'!$A41,'2추 세입'!$B$6:$B$100,'1추총괄표(위원회)'!$C41) -> 0 | P41: =SUMIFS('2추 세입'!AB$6:AB$100,'2추 세입'!$A$6:$A$100,'1추총괄표(위원회)'!$A41,'2추 세입'!$B$6:$B$100,'1추총괄표(위원회)'!$C41) -> 0 | R41: =SUMIFS('2추 세출'!G$6:G$264,'2추 세출'!$A$6:$A$264,'1추총괄표(위원회)'!$A41,'2추 세출'!$B$6:$B$264,'1추총괄표(위원회)'!$C41) -> 33360000 | S41: =SUMIFS('2추 세출'!H$6:H$264,'2추 세출'!$A$6:$A$264,'1추총괄표(위원회)'!$A41,'2추 세출'!$B$6:$B$264,'1추총괄표(위원회)'!$C41) -> 19460000 | T41: =R41-S41 -> 13900000 | U41: =SUMIFS('2추 세출'!J$6:J$264,'2추 세출'!$A$6:$A$264,'1추총괄표(위원회)'!$A41,'2추 세출'!$B$6:$B$264,'1추총괄표(위원회)'!$C41) -> -7000000 | V41: =SUMIFS('2추 세출'!K$6:K$264,'2추 세출'!$A$6:$A$264,'1추총괄표(위원회)'!$A41,'2추 세출'!$B$6:$B$264,'1추총괄표(위원회)'!$C41) -> 10000000 | W41: =SUMIFS('2추 세출'!L$6:L$264,'2추 세출'!$A$6:$A$264,'1추총괄표(위원회)'!$A41,'2추 세출'!$B$6:$B$264,'1추총괄표(위원회)'!$C41) -> 36360000 | X41: =SUMIFS('2추 세출'!V$6:V$264,'2추 세출'!$A$6:$A$264,'1추총괄표(위원회)'!$A41,'2추 세출'!$B$6:$B$264,'1추총괄표(위원회)'!$C41) -> 0 | Y41: =SUMIFS('2추 세출'!W$6:W$264,'2추 세출'!$A$6:$A$264,'1추총괄표(위원회)'!$A41,'2추 세출'!$B$6:$B$264,'1추총괄표(위원회)'!$C41) -> 0 | Z41: =SUMIFS('2추 세출'!M$6:M$264,'2추 세출'!$A$6:$A$264,'1추총괄표(위원회)'!$A41,'2추 세출'!$B$6:$B$264,'1추총괄표(위원회)'!$C41) -> 0 | AA41: =SUMIFS('2추 세출'!N$6:N$264,'2추 세출'!$A$6:$A$264,'1추총괄표(위원회)'!$A41,'2추 세출'!$B$6:$B$264,'1추총괄표(위원회)'!$C41) -> 0 | AB41: =SUMIFS('2추 세출'!O$6:O$264,'2추 세출'!$A$6:$A$264,'1추총괄표(위원회)'!$A41,'2추 세출'!$B$6:$B$264,'1추총괄표(위원회)'!$C41) -> 33360000 | AC41: =SUMIFS('2추 세출'!AA$6:AA$264,'2추 세출'!$A$6:$A$264,'1추총괄표(위원회)'!$A41,'2추 세출'!$B$6:$B$264,'1추총괄표(위원회)'!C$9) -> 0 | AD41: =SUMIFS('2추 세출'!AB$6:AB$264,'2추 세출'!$A$6:$A$264,'1추총괄표(위원회)'!$A41,'2추 세출'!$B$6:$B$264,'1추총괄표(위원회)'!D$9) -> 0 | AF41: =IF(J41=X41,"OK","@@") -> OK | AG41: =J41-X41 -> 0 | AH41: =IF(O41=AC41,"OK","@@") -> OK | AI41: =O41-AC41 -> 0
A42: 건설교통위원회 | C42: 건설본부 | D42: =SUMIFS('2추 세입'!G$6:G$100,'2추 세입'!$A$6:$A$100,'1추총괄표(위원회)'!$A42,'2추 세입'!$B$6:$B$100,'1추총괄표(위원회)'!$C42) -> 0 | E42: =SUMIFS('2추 세입'!H$6:H$100,'2추 세입'!$A$6:$A$100,'1추총괄표(위원회)'!$A42,'2추 세입'!$B$6:$B$100,'1추총괄표(위원회)'!$C42) -> 0 | F42: =D42-E42 -> 0 | G42: =SUMIFS('2추 세입'!J$6:J$100,'2추 세입'!$A$6:$A$100,'1추총괄표(위원회)'!$A42,'2추 세입'!$B$6:$B$100,'1추총괄표(위원회)'!$C42) -> 0 | H42: =SUMIFS('2추 세입'!K$6:K$100,'2추 세입'!$A$6:$A$100,'1추총괄표(위원회)'!$A42,'2추 세입'!$B$6:$B$100,'1추총괄표(위원회)'!$C42) -> 0 | I42: =SUMIFS('2추 세입'!L$6:L$100,'2추 세입'!$A$6:$A$100,'1추총괄표(위원회)'!$A42,'2추 세입'!$B$6:$B$100,'1추총괄표(위원회)'!$C42) -> 0 | J42: =SUMIFS('2추 세입'!V$6:V$100,'2추 세입'!$A$6:$A$100,'1추총괄표(위원회)'!$A42,'2추 세입'!$B$6:$B$100,'1추총괄표(위원회)'!$C42) -> 0 | K42: =SUMIFS('2추 세입'!W$6:W$100,'2추 세입'!$A$6:$A$100,'1추총괄표(위원회)'!$A42,'2추 세입'!$B$6:$B$100,'1추총괄표(위원회)'!$C42) -> 0 | L42: =SUMIFS('2추 세입'!M$6:M$100,'2추 세입'!$A$6:$A$100,'1추총괄표(위원회)'!$A42,'2추 세입'!$B$6:$B$100,'1추총괄표(위원회)'!$C42) -> 0 | M42: =SUMIFS('2추 세입'!N$6:N$100,'2추 세입'!$A$6:$A$100,'1추총괄표(위원회)'!$A42,'2추 세입'!$B$6:$B$100,'1추총괄표(위원회)'!$C42) -> 0 | N42: =SUMIFS('2추 세입'!O$6:O$100,'2추 세입'!$A$6:$A$100,'1추총괄표(위원회)'!$A42,'2추 세입'!$B$6:$B$100,'1추총괄표(위원회)'!$C42) -> 0 | O42: =SUMIFS('2추 세입'!AA$6:AA$100,'2추 세입'!$A$6:$A$100,'1추총괄표(위원회)'!$A42,'2추 세입'!$B$6:$B$100,'1추총괄표(위원회)'!$C42) -> 0 | P42: =SUMIFS('2추 세입'!AB$6:AB$100,'2추 세입'!$A$6:$A$100,'1추총괄표(위원회)'!$A42,'2추 세입'!$B$6:$B$100,'1추총괄표(위원회)'!$C42) -> 0 | R42: =SUMIFS('2추 세출'!G$6:G$264,'2추 세출'!$A$6:$A$264,'1추총괄표(위원회)'!$A42,'2추 세출'!$B$6:$B$264,'1추총괄표(위원회)'!$C42) -> 43740000 | S42: =SUMIFS('2추 세출'!H$6:H$264,'2추 세출'!$A$6:$A$264,'1추총괄표(위원회)'!$A42,'2추 세출'!$B$6:$B$264,'1추총괄표(위원회)'!$C42) -> 13740000 | T42: =R42-S42 -> 30000000 | U42: =SUMIFS('2추 세출'!J$6:J$264,'2추 세출'!$A$6:$A$264,'1추총괄표(위원회)'!$A42,'2추 세출'!$B$6:$B$264,'1추총괄표(위원회)'!$C42) -> 0 | V42: =SUMIFS('2추 세출'!K$6:K$264,'2추 세출'!$A$6:$A$264,'1추총괄표(위원회)'!$A42,'2추 세출'!$B$6:$B$264,'1추총괄표(위원회)'!$C42) -> 800000 | W42: =SUMIFS('2추 세출'!L$6:L$264,'2추 세출'!$A$6:$A$264,'1추총괄표(위원회)'!$A42,'2추 세출'!$B$6:$B$264,'1추총괄표(위원회)'!$C42) -> 44540000 | X42: =SUMIFS('2추 세출'!V$6:V$264,'2추 세출'!$A$6:$A$264,'1추총괄표(위원회)'!$A42,'2추 세출'!$B$6:$B$264,'1추총괄표(위원회)'!$C42) -> 300000 | Y42: =SUMIFS('2추 세출'!W$6:W$264,'2추 세출'!$A$6:$A$264,'1추총괄표(위원회)'!$A42,'2추 세출'!$B$6:$B$264,'1추총괄표(위원회)'!$C42) -> 0 | Z42: =SUMIFS('2추 세출'!M$6:M$264,'2추 세출'!$A$6:$A$264,'1추총괄표(위원회)'!$A42,'2추 세출'!$B$6:$B$264,'1추총괄표(위원회)'!$C42) -> 0 | AA42: =SUMIFS('2추 세출'!N$6:N$264,'2추 세출'!$A$6:$A$264,'1추총괄표(위원회)'!$A42,'2추 세출'!$B$6:$B$264,'1추총괄표(위원회)'!$C42) -> 0 | AB42: =SUMIFS('2추 세출'!O$6:O$264,'2추 세출'!$A$6:$A$264,'1추총괄표(위원회)'!$A42,'2추 세출'!$B$6:$B$264,'1추총괄표(위원회)'!$C42) -> 43740000 | AC42: =SUMIFS('2추 세출'!AA$6:AA$264,'2추 세출'!$A$6:$A$264,'1추총괄표(위원회)'!$A42,'2추 세출'!$B$6:$B$264,'1추총괄표(위원회)'!C$9) -> 0 | AD42: =SUMIFS('2추 세출'!AB$6:AB$264,'2추 세출'!$A$6:$A$264,'1추총괄표(위원회)'!$A42,'2추 세출'!$B$6:$B$264,'1추총괄표(위원회)'!D$9) -> 0 | AF42: =IF(J42=X42,"OK","@@") -> @@ | AG42: =J42-X42 -> -300000 | AH42: =IF(O42=AC42,"OK","@@") -> OK | AI42: =O42-AC42 -> 0
B43: 도시환경위원회 | D43: =SUM(D44:D48) -> 354952000 | E43: =SUM(E44:E48) -> 362748000 | F43: =SUM(F44:F48) -> -7796000 | G43: =SUM(G44:G48) -> -6902000 | H43: =SUM(H44:H48) -> 16673000 | I43: =SUM(I44:I48) -> 364792000 | J43: =SUM(J44:J48) -> 9771000 | K43: =SUM(K44:K48) -> 0 | ... P43: =SUM(P44:P48) -> 0 | R43: =SUM(R44:R48) -> 694506 | S43: =SUM(S44:S48) -> 360650 | T43: =SUM(T44:T48) -> 333856 | U43: =SUM(U44:U48) -> -350000 | V43: =SUM(V44:V48) -> 966600 | W43: =SUM(W44:W48) -> 1432106 | X43: =SUM(X44:X48) -> 200000 | Y43: =SUM(Y44:Y48) -> 0 | ... AD43: =SUM(AD44:AD48) -> 0 | AF43: =IF(J43=X43,"OK","@@") -> @@ | AG43: =J43-X43 -> 9571000 | AH43: =IF(O43=AC43,"OK","@@") -> OK | AI43: =O43-AC43 -> 0
A44: 도시환경위원회 | C44: 도시주택실 | D44: =SUMIFS('2추 세입'!G$6:G$100,'2추 세입'!$A$6:$A$100,'1추총괄표(위원회)'!$A44,'2추 세입'!$B$6:$B$100,'1추총괄표(위원회)'!$C44) -> 0 | E44: =SUMIFS('2추 세입'!H$6:H$100,'2추 세입'!$A$6:$A$100,'1추총괄표(위원회)'!$A44,'2추 세입'!$B$6:$B$100,'1추총괄표(위원회)'!$C44) -> 0 | F44: =D44-E44 -> 0 | G44: =SUMIFS('2추 세입'!J$6:J$100,'2추 세입'!$A$6:$A$100,'1추총괄표(위원회)'!$A44,'2추 세입'!$B$6:$B$100,'1추총괄표(위원회)'!$C44) -> 0 | H44: =SUMIFS('2추 세입'!K$6:K$100,'2추 세입'!$A$6:$A$100,'1추총괄표(위원회)'!$A44,'2추 세입'!$B$6:$B$100,'1추총괄표(위원회)'!$C44) -> 0 | I44: =SUMIFS('2추 세입'!L$6:L$100,'2추 세입'!$A$6:$A$100,'1추총괄표(위원회)'!$A44,'2추 세입'!$B$6:$B$100,'1추총괄표(위원회)'!$C44) -> 0 | J44: =SUMIFS('2추 세입'!V$6:V$100,'2추 세입'!$A$6:$A$100,'1추총괄표(위원회)'!$A44,'2추 세입'!$B$6:$B$100,'1추총괄표(위원회)'!$C44) -> 0 | K44: =SUMIFS('2추 세입'!W$6:W$100,'2추 세입'!$A$6:$A$100,'1추총괄표(위원회)'!$A44,'2추 세입'!$B$6:$B$100,'1추총괄표(위원회)'!$C44) -> 0 | L44: =SUMIFS('2추 세입'!M$6:M$100,'2추 세입'!$A$6:$A$100,'1추총괄표(위원회)'!$A44,'2추 세입'!$B$6:$B$100,'1추총괄표(위원회)'!$C44) -> 0 | M44: =SUMIFS('2추 세입'!N$6:N$100,'2추 세입'!$A$6:$A$100,'1추총괄표(위원회)'!$A44,'2추 세입'!$B$6:$B$100,'1추총괄표(위원회)'!$C44) -> 0 | N44: =SUMIFS('2추 세입'!O$6:O$100,'2추 세입'!$A$6:$A$100,'1추총괄표(위원회)'!$A44,'2추 세입'!$B$6:$B$100,'1추총괄표(위원회)'!$C44) -> 0 | O44: =SUMIFS('2추 세입'!AA$6:AA$100,'2추 세입'!$A$6:$A$100,'1추총괄표(위원회)'!$A44,'2추 세입'!$B$6:$B$100,'1추총괄표(위원회)'!$C44) -> 0 | P44: =SUMIFS('2추 세입'!AB$6:AB$100,'2추 세입'!$A$6:$A$100,'1추총괄표(위원회)'!$A44,'2추 세입'!$B$6:$B$100,'1추총괄표(위원회)'!$C44) -> 0 | R44: =SUMIFS('2추 세출'!G$6:G$264,'2추 세출'!$A$6:$A$264,'1추총괄표(위원회)'!$A44,'2추 세출'!$B$6:$B$264,'1추총괄표(위원회)'!$C44) -> 0 | S44: =SUMIFS('2추 세출'!H$6:H$264,'2추 세출'!$A$6:$A$264,'1추총괄표(위원회)'!$A44,'2추 세출'!$B$6:$B$264,'1추총괄표(위원회)'!$C44) -> 0 | T44: =R44-S44 -> 0 | U44: =SUMIFS('2추 세출'!J$6:J$264,'2추 세출'!$A$6:$A$264,'1추총괄표(위원회)'!$A44,'2추 세출'!$B$6:$B$264,'1추총괄표(위원회)'!$C44) -> 0 | V44: =SUMIFS('2추 세출'!K$6:K$264,'2추 세출'!$A$6:$A$264,'1추총괄표(위원회)'!$A44,'2추 세출'!$B$6:$B$264,'1추총괄표(위원회)'!$C44) -> 200000 | W44: =SUMIFS('2추 세출'!L$6:L$264,'2추 세출'!$A$6:$A$264,'1추총괄표(위원회)'!$A44,'2추 세출'!$B$6:$B$264,'1추총괄표(위원회)'!$C44) -> 200000 | X44: =SUMIFS('2추 세출'!V$6:V$264,'2추 세출'!$A$6:$A$264,'1추총괄표(위원회)'!$A44,'2추 세출'!$B$6:$B$264,'1추총괄표(위원회)'!$C44) -> 200000 | Y44: =SUMIFS('2추 세출'!W$6:W$264,'2추 세출'!$A$6:$A$264,'1추총괄표(위원회)'!$A44,'2추 세출'!$B$6:$B$264,'1추총괄표(위원회)'!$C44) -> 0 | Z44: =SUMIFS('2추 세출'!M$6:M$264,'2추 세출'!$A$6:$A$264,'1추총괄표(위원회)'!$A44,'2추 세출'!$B$6:$B$264,'1추총괄표(위원회)'!$C44) -> 0 | AA44: =SUMIFS('2추 세출'!N$6:N$264,'2추 세출'!$A$6:$A$264,'1추총괄표(위원회)'!$A44,'2추 세출'!$B$6:$B$264,'1추총괄표(위원회)'!$C44) -> 0 | AB44: =SUMIFS('2추 세출'!O$6:O$264,'2추 세출'!$A$6:$A$264,'1추총괄표(위원회)'!$A44,'2추 세출'!$B$6:$B$264,'1추총괄표(위원회)'!$C44) -> 0 | AC44: =SUMIFS('2추 세출'!AA$6:AA$264,'2추 세출'!$A$6:$A$264,'1추총괄표(위원회)'!$A44,'2추 세출'!$B$6:$B$264,'1추총괄표(위원회)'!C$9) -> 0 | AD44: =SUMIFS('2추 세출'!AB$6:AB$264,'2추 세출'!$A$6:$A$264,'1추총괄표(위원회)'!$A44,'2추 세출'!$B$6:$B$264,'1추총괄표(위원회)'!D$9) -> 0 | AF44: =IF(J44=X44,"OK","@@") -> @@ | AG44: =J44-X44 -> -200000 | AH44: =IF(O44=AC44,"OK","@@") -> OK | AI44: =O44-AC44 -> 0
A45: 도시환경위원회 | C45: 환경국 | D45: =SUMIFS('2추 세입'!G$6:G$100,'2추 세입'!$A$6:$A$100,'1추총괄표(위원회)'!$A45,'2추 세입'!$B$6:$B$100,'1추총괄표(위원회)'!$C45) -> 0 | E45: =SUMIFS('2추 세입'!H$6:H$100,'2추 세입'!$A$6:$A$100,'1추총괄표(위원회)'!$A45,'2추 세입'!$B$6:$B$100,'1추총괄표(위원회)'!$C45) -> 0 | F45: =D45-E45 -> 0 | G45: =SUMIFS('2추 세입'!J$6:J$100,'2추 세입'!$A$6:$A$100,'1추총괄표(위원회)'!$A45,'2추 세입'!$B$6:$B$100,'1추총괄표(위원회)'!$C45) -> 0 | H45: =SUMIFS('2추 세입'!K$6:K$100,'2추 세입'!$A$6:$A$100,'1추총괄표(위원회)'!$A45,'2추 세입'!$B$6:$B$100,'1추총괄표(위원회)'!$C45) -> 110000 | I45: =SUMIFS('2추 세입'!L$6:L$100,'2추 세입'!$A$6:$A$100,'1추총괄표(위원회)'!$A45,'2추 세입'!$B$6:$B$100,'1추총괄표(위원회)'!$C45) -> 110000 | J45: =SUMIFS('2추 세입'!V$6:V$100,'2추 세입'!$A$6:$A$100,'1추총괄표(위원회)'!$A45,'2추 세입'!$B$6:$B$100,'1추총괄표(위원회)'!$C45) -> 110000 | K45: =SUMIFS('2추 세입'!W$6:W$100,'2추 세입'!$A$6:$A$100,'1추총괄표(위원회)'!$A45,'2추 세입'!$B$6:$B$100,'1추총괄표(위원회)'!$C45) -> 0 | L45: =SUMIFS('2추 세입'!M$6:M$100,'2추 세입'!$A$6:$A$100,'1추총괄표(위원회)'!$A45,'2추 세입'!$B$6:$B$100,'1추총괄표(위원회)'!$C45) -> 0 | M45: =SUMIFS('2추 세입'!N$6:N$100,'2추 세입'!$A$6:$A$100,'1추총괄표(위원회)'!$A45,'2추 세입'!$B$6:$B$100,'1추총괄표(위원회)'!$C45) -> 0 | N45: =SUMIFS('2추 세입'!O$6:O$100,'2추 세입'!$A$6:$A$100,'1추총괄표(위원회)'!$A45,'2추 세입'!$B$6:$B$100,'1추총괄표(위원회)'!$C45) -> 0 | O45: =SUMIFS('2추 세입'!AA$6:AA$100,'2추 세입'!$A$6:$A$100,'1추총괄표(위원회)'!$A45,'2추 세입'!$B$6:$B$100,'1추총괄표(위원회)'!$C45) -> 0 | P45: =SUMIFS('2추 세입'!AB$6:AB$100,'2추 세입'!$A$6:$A$100,'1추총괄표(위원회)'!$A45,'2추 세입'!$B$6:$B$100,'1추총괄표(위원회)'!$C45) -> 0 | R45: =SUMIFS('2추 세출'!G$6:G$264,'2추 세출'!$A$6:$A$264,'1추총괄표(위원회)'!$A45,'2추 세출'!$B$6:$B$264,'1추총괄표(위원회)'!$C45) -> 644506 | S45: =SUMIFS('2추 세출'!H$6:H$264,'2추 세출'!$A$6:$A$264,'1추총괄표(위원회)'!$A45,'2추 세출'!$B$6:$B$264,'1추총괄표(위원회)'!$C45) -> 360650 | T45: =R45-S45 -> 283856 | U45: =SUMIFS('2추 세출'!J$6:J$264,'2추 세출'!$A$6:$A$264,'1추총괄표(위원회)'!$A45,'2추 세출'!$B$6:$B$264,'1추총괄표(위원회)'!$C45) -> -300000 | V45: =SUMIFS('2추 세출'!K$6:K$264,'2추 세출'!$A$6:$A$264,'1추총괄표(위원회)'!$A45,'2추 세출'!$B$6:$B$264,'1추총괄표(위원회)'!$C45) -> 566600 | W45: =SUMIFS('2추 세출'!L$6:L$264,'2추 세출'!$A$6:$A$264,'1추총괄표(위원회)'!$A45,'2추 세출'!$B$6:$B$264,'1추총괄표(위원회)'!$C45) -> 1032106 | X45: =SUMIFS('2추 세출'!V$6:V$264,'2추 세출'!$A$6:$A$264,'1추총괄표(위원회)'!$A45,'2추 세출'!$B$6:$B$264,'1추총괄표(위원회)'!$C45) -> 0 | Y45: =SUMIFS('2추 세출'!W$6:W$264,'2추 세출'!$A$6:$A$264,'1추총괄표(위원회)'!$A45,'2추 세출'!$B$6:$B$264,'1추총괄표(위원회)'!$C45) -> 0 | Z45: =SUMIFS('2추 세출'!M$6:M$264,'2추 세출'!$A$6:$A$264,'1추총괄표(위원회)'!$A45,'2추 세출'!$B$6:$B$264,'1추총괄표(위원회)'!$C45) -> 0 | AA45: =SUMIFS('2추 세출'!N$6:N$264,'2추 세출'!$A$6:$A$264,'1추총괄표(위원회)'!$A45,'2추 세출'!$B$6:$B$264,'1추총괄표(위원회)'!$C45) -> 0 | AB45: =SUMIFS('2추 세출'!O$6:O$264,'2추 세출'!$A$6:$A$264,'1추총괄표(위원회)'!$A45,'2추 세출'!$B$6:$B$264,'1추총괄표(위원회)'!$C45) -> 765506 | AC45: =SUMIFS('2추 세출'!AA$6:AA$264,'2추 세출'!$A$6:$A$264,'1추총괄표(위원회)'!$A45,'2추 세출'!$B$6:$B$264,'1추총괄표(위원회)'!C$9) -> 0 | AD45: =SUMIFS('2추 세출'!AB$6:AB$264,'2추 세출'!$A$6:$A$264,'1추총괄표(위원회)'!$A45,'2추 세출'!$B$6:$B$264,'1추총괄표(위원회)'!D$9) -> 0 | AF45: =IF(J45=X45,"OK","@@") -> @@ | AG45: =J45-X45 -> 110000 | AH45: =IF(O45=AC45,"OK","@@") -> OK | AI45: =O45-AC45 -> 0
A46: 도시환경위원회 | C46: 축산산림국 | D46: =SUMIFS('2추 세입'!G$6:G$100,'2추 세입'!$A$6:$A$100,'1추총괄표(위원회)'!$A46,'2추 세입'!$B$6:$B$100,'1추총괄표(위원회)'!$C46) -> 0 | E46: =SUMIFS('2추 세입'!H$6:H$100,'2추 세입'!$A$6:$A$100,'1추총괄표(위원회)'!$A46,'2추 세입'!$B$6:$B$100,'1추총괄표(위원회)'!$C46) -> 0 | F46: =D46-E46 -> 0 | G46: =SUMIFS('2추 세입'!J$6:J$100,'2추 세입'!$A$6:$A$100,'1추총괄표(위원회)'!$A46,'2추 세입'!$B$6:$B$100,'1추총괄표(위원회)'!$C46) -> 0 | H46: =SUMIFS('2추 세입'!K$6:K$100,'2추 세입'!$A$6:$A$100,'1추총괄표(위원회)'!$A46,'2추 세입'!$B$6:$B$100,'1추총괄표(위원회)'!$C46) -> 0 | I46: =SUMIFS('2추 세입'!L$6:L$100,'2추 세입'!$A$6:$A$100,'1추총괄표(위원회)'!$A46,'2추 세입'!$B$6:$B$100,'1추총괄표(위원회)'!$C46) -> 0 | J46: =SUMIFS('2추 세입'!V$6:V$100,'2추 세입'!$A$6:$A$100,'1추총괄표(위원회)'!$A46,'2추 세입'!$B$6:$B$100,'1추총괄표(위원회)'!$C46) -> 0 | K46: =SUMIFS('2추 세입'!W$6:W$100,'2추 세입'!$A$6:$A$100,'1추총괄표(위원회)'!$A46,'2추 세입'!$B$6:$B$100,'1추총괄표(위원회)'!$C46) -> 0 | L46: =SUMIFS('2추 세입'!M$6:M$100,'2추 세입'!$A$6:$A$100,'1추총괄표(위원회)'!$A46,'2추 세입'!$B$6:$B$100,'1추총괄표(위원회)'!$C46) -> 0 | M46: =SUMIFS('2추 세입'!N$6:N$100,'2추 세입'!$A$6:$A$100,'1추총괄표(위원회)'!$A46,'2추 세입'!$B$6:$B$100,'1추총괄표(위원회)'!$C46) -> 0 | N46: =SUMIFS('2추 세입'!O$6:O$100,'2추 세입'!$A$6:$A$100,'1추총괄표(위원회)'!$A46,'2추 세입'!$B$6:$B$100,'1추총괄표(위원회)'!$C46) -> 0 | O46: =SUMIFS('2추 세입'!AA$6:AA$100,'2추 세입'!$A$6:$A$100,'1추총괄표(위원회)'!$A46,'2추 세입'!$B$6:$B$100,'1추총괄표(위원회)'!$C46) -> 0 | P46: =SUMIFS('2추 세입'!AB$6:AB$100,'2추 세입'!$A$6:$A$100,'1추총괄표(위원회)'!$A46,'2추 세입'!$B$6:$B$100,'1추총괄표(위원회)'!$C46) -> 0 | R46: =SUMIFS('2추 세출'!G$6:G$264,'2추 세출'!$A$6:$A$264,'1추총괄표(위원회)'!$A46,'2추 세출'!$B$6:$B$264,'1추총괄표(위원회)'!$C46) -> 50000 | S46: =SUMIFS('2추 세출'!H$6:H$264,'2추 세출'!$A$6:$A$264,'1추총괄표(위원회)'!$A46,'2추 세출'!$B$6:$B$264,'1추총괄표(위원회)'!$C46) -> 0 | T46: =R46-S46 -> 50000 | U46: =SUMIFS('2추 세출'!J$6:J$264,'2추 세출'!$A$6:$A$264,'1추총괄표(위원회)'!$A46,'2추 세출'!$B$6:$B$264,'1추총괄표(위원회)'!$C46) -> -50000 | V46: =SUMIFS('2추 세출'!K$6:K$264,'2추 세출'!$A$6:$A$264,'1추총괄표(위원회)'!$A46,'2추 세출'!$B$6:$B$264,'1추총괄표(위원회)'!$C46) -> 200000 | W46: =SUMIFS('2추 세출'!L$6:L$264,'2추 세출'!$A$6:$A$264,'1추총괄표(위원회)'!$A46,'2추 세출'!$B$6:$B$264,'1추총괄표(위원회)'!$C46) -> 200000 | X46: =SUMIFS('2추 세출'!V$6:V$264,'2추 세출'!$A$6:$A$264,'1추총괄표(위원회)'!$A46,'2추 세출'!$B$6:$B$264,'1추총괄표(위원회)'!$C46) -> 0 | Y46: =SUMIFS('2추 세출'!W$6:W$264,'2추 세출'!$A$6:$A$264,'1추총괄표(위원회)'!$A46,'2추 세출'!$B$6:$B$264,'1추총괄표(위원회)'!$C46) -> 0 | Z46: =SUMIFS('2추 세출'!M$6:M$264,'2추 세출'!$A$6:$A$264,'1추총괄표(위원회)'!$A46,'2추 세출'!$B$6:$B$264,'1추총괄표(위원회)'!$C46) -> 0 | AA46: =SUMIFS('2추 세출'!N$6:N$264,'2추 세출'!$A$6:$A$264,'1추총괄표(위원회)'!$A46,'2추 세출'!$B$6:$B$264,'1추총괄표(위원회)'!$C46) -> 0 | AB46: =SUMIFS('2추 세출'!O$6:O$264,'2추 세출'!$A$6:$A$264,'1추총괄표(위원회)'!$A46,'2추 세출'!$B$6:$B$264,'1추총괄표(위원회)'!$C46) -> 50000 | AC46: =SUMIFS('2추 세출'!AA$6:AA$264,'2추 세출'!$A$6:$A$264,'1추총괄표(위원회)'!$A46,'2추 세출'!$B$6:$B$264,'1추총괄표(위원회)'!C$9) -> 0 | AD46: =SUMIFS('2추 세출'!AB$6:AB$264,'2추 세출'!$A$6:$A$264,'1추총괄표(위원회)'!$A46,'2추 세출'!$B$6:$B$264,'1추총괄표(위원회)'!D$9) -> 0 | AF46: =IF(J46=X46,"OK","@@") -> OK | AG46: =J46-X46 -> 0 | AH46: =IF(O46=AC46,"OK","@@") -> OK | AI46: =O46-AC46 -> 0
A47: 도시환경위원회 | C47: 보건환경연구원 | D47: =SUMIFS('2추 세입'!G$6:G$100,'2추 세입'!$A$6:$A$100,'1추총괄표(위원회)'!$A47,'2추 세입'!$B$6:$B$100,'1추총괄표(위원회)'!$C47) -> 0 | E47: =SUMIFS('2추 세입'!H$6:H$100,'2추 세입'!$A$6:$A$100,'1추총괄표(위원회)'!$A47,'2추 세입'!$B$6:$B$100,'1추총괄표(위원회)'!$C47) -> 0 | F47: =D47-E47 -> 0 | G47: =SUMIFS('2추 세입'!J$6:J$100,'2추 세입'!$A$6:$A$100,'1추총괄표(위원회)'!$A47,'2추 세입'!$B$6:$B$100,'1추총괄표(위원회)'!$C47) -> 0 | H47: =SUMIFS('2추 세입'!K$6:K$100,'2추 세입'!$A$6:$A$100,'1추총괄표(위원회)'!$A47,'2추 세입'!$B$6:$B$100,'1추총괄표(위원회)'!$C47) -> 0 | I47: =SUMIFS('2추 세입'!L$6:L$100,'2추 세입'!$A$6:$A$100,'1추총괄표(위원회)'!$A47,'2추 세입'!$B$6:$B$100,'1추총괄표(위원회)'!$C47) -> 0 | J47: =SUMIFS('2추 세입'!V$6:V$100,'2추 세입'!$A$6:$A$100,'1추총괄표(위원회)'!$A47,'2추 세입'!$B$6:$B$100,'1추총괄표(위원회)'!$C47) -> 0 | K47: =SUMIFS('2추 세입'!W$6:W$100,'2추 세입'!$A$6:$A$100,'1추총괄표(위원회)'!$A47,'2추 세입'!$B$6:$B$100,'1추총괄표(위원회)'!$C47) -> 0 | L47: =SUMIFS('2추 세입'!M$6:M$100,'2추 세입'!$A$6:$A$100,'1추총괄표(위원회)'!$A47,'2추 세입'!$B$6:$B$100,'1추총괄표(위원회)'!$C47) -> 0 | M47: =SUMIFS('2추 세입'!N$6:N$100,'2추 세입'!$A$6:$A$100,'1추총괄표(위원회)'!$A47,'2추 세입'!$B$6:$B$100,'1추총괄표(위원회)'!$C47) -> 0 | N47: =SUMIFS('2추 세입'!O$6:O$100,'2추 세입'!$A$6:$A$100,'1추총괄표(위원회)'!$A47,'2추 세입'!$B$6:$B$100,'1추총괄표(위원회)'!$C47) -> 0 | O47: =SUMIFS('2추 세입'!AA$6:AA$100,'2추 세입'!$A$6:$A$100,'1추총괄표(위원회)'!$A47,'2추 세입'!$B$6:$B$100,'1추총괄표(위원회)'!$C47) -> 0 | P47: =SUMIFS('2추 세입'!AB$6:AB$100,'2추 세입'!$A$6:$A$100,'1추총괄표(위원회)'!$A47,'2추 세입'!$B$6:$B$100,'1추총괄표(위원회)'!$C47) -> 0 | R47: =SUMIFS('2추 세출'!G$6:G$264,'2추 세출'!$A$6:$A$264,'1추총괄표(위원회)'!$A47,'2추 세출'!$B$6:$B$264,'1추총괄표(위원회)'!$C47) -> 0 | S47: =SUMIFS('2추 세출'!H$6:H$264,'2추 세출'!$A$6:$A$264,'1추총괄표(위원회)'!$A47,'2추 세출'!$B$6:$B$264,'1추총괄표(위원회)'!$C47) -> 0 | T47: =R47-S47 -> 0 | U47: =SUMIFS('2추 세출'!J$6:J$264,'2추 세출'!$A$6:$A$264,'1추총괄표(위원회)'!$A47,'2추 세출'!$B$6:$B$264,'1추총괄표(위원회)'!$C47) -> 0 | V47: =SUMIFS('2추 세출'!K$6:K$264,'2추 세출'!$A$6:$A$264,'1추총괄표(위원회)'!$A47,'2추 세출'!$B$6:$B$264,'1추총괄표(위원회)'!$C47) -> 0 | W47: =SUMIFS('2추 세출'!L$6:L$264,'2추 세출'!$A$6:$A$264,'1추총괄표(위원회)'!$A47,'2추 세출'!$B$6:$B$264,'1추총괄표(위원회)'!$C47) -> 0 | X47: =SUMIFS('2추 세출'!V$6:V$264,'2추 세출'!$A$6:$A$264,'1추총괄표(위원회)'!$A47,'2추 세출'!$B$6:$B$264,'1추총괄표(위원회)'!$C47) -> 0 | Y47: =SUMIFS('2추 세출'!W$6:W$264,'2추 세출'!$A$6:$A$264,'1추총괄표(위원회)'!$A47,'2추 세출'!$B$6:$B$264,'1추총괄표(위원회)'!$C47) -> 0 | Z47: =SUMIFS('2추 세출'!M$6:M$264,'2추 세출'!$A$6:$A$264,'1추총괄표(위원회)'!$A47,'2추 세출'!$B$6:$B$264,'1추총괄표(위원회)'!$C47) -> 0 | AA47: =SUMIFS('2추 세출'!N$6:N$264,'2추 세출'!$A$6:$A$264,'1추총괄표(위원회)'!$A47,'2추 세출'!$B$6:$B$264,'1추총괄표(위원회)'!$C47) -> 0 | AB47: =SUMIFS('2추 세출'!O$6:O$264,'2추 세출'!$A$6:$A$264,'1추총괄표(위원회)'!$A47,'2추 세출'!$B$6:$B$264,'1추총괄표(위원회)'!$C47) -> 0 | AC47: =SUMIFS('2추 세출'!AA$6:AA$264,'2추 세출'!$A$6:$A$264,'1추총괄표(위원회)'!$A47,'2추 세출'!$B$6:$B$264,'1추총괄표(위원회)'!C$9) -> 0 | AD47: =SUMIFS('2추 세출'!AB$6:AB$264,'2추 세출'!$A$6:$A$264,'1추총괄표(위원회)'!$A47,'2추 세출'!$B$6:$B$264,'1추총괄표(위원회)'!D$9) -> 0 | AF47: =IF(J47=X47,"OK","@@") -> OK | AG47: =J47-X47 -> 0 | AH47: =IF(O47=AC47,"OK","@@") -> OK | AI47: =O47-AC47 -> 0
A48: 도시환경위원회 | C48: 수자원본부 | D48: =SUMIFS('2추 세입'!G$6:G$100,'2추 세입'!$A$6:$A$100,'1추총괄표(위원회)'!$A48,'2추 세입'!$B$6:$B$100,'1추총괄표(위원회)'!$C48) -> 354952000 | E48: =SUMIFS('2추 세입'!H$6:H$100,'2추 세입'!$A$6:$A$100,'1추총괄표(위원회)'!$A48,'2추 세입'!$B$6:$B$100,'1추총괄표(위원회)'!$C48) -> 362748000 | F48: =D48-E48 -> -7796000 | G48: =SUMIFS('2추 세입'!J$6:J$100,'2추 세입'!$A$6:$A$100,'1추총괄표(위원회)'!$A48,'2추 세입'!$B$6:$B$100,'1추총괄표(위원회)'!$C48) -> -6902000 | H48: =SUMIFS('2추 세입'!K$6:K$100,'2추 세입'!$A$6:$A$100,'1추총괄표(위원회)'!$A48,'2추 세입'!$B$6:$B$100,'1추총괄표(위원회)'!$C48) -> 16563000 | I48: =SUMIFS('2추 세입'!L$6:L$100,'2추 세입'!$A$6:$A$100,'1추총괄표(위원회)'!$A48,'2추 세입'!$B$6:$B$100,'1추총괄표(위원회)'!$C48) -> 364682000 | J48: =SUMIFS('2추 세입'!V$6:V$100,'2추 세입'!$A$6:$A$100,'1추총괄표(위원회)'!$A48,'2추 세입'!$B$6:$B$100,'1추총괄표(위원회)'!$C48) -> 9661000 | K48: =SUMIFS('2추 세입'!W$6:W$100,'2추 세입'!$A$6:$A$100,'1추총괄표(위원회)'!$A48,'2추 세입'!$B$6:$B$100,'1추총괄표(위원회)'!$C48) -> 0 | L48: =SUMIFS('2추 세입'!M$6:M$100,'2추 세입'!$A$6:$A$100,'1추총괄표(위원회)'!$A48,'2추 세입'!$B$6:$B$100,'1추총괄표(위원회)'!$C48) -> 0 | M48: =SUMIFS('2추 세입'!N$6:N$100,'2추 세입'!$A$6:$A$100,'1추총괄표(위원회)'!$A48,'2추 세입'!$B$6:$B$100,'1추총괄표(위원회)'!$C48) -> 0 | N48: =SUMIFS('2추 세입'!O$6:O$100,'2추 세입'!$A$6:$A$100,'1추총괄표(위원회)'!$A48,'2추 세입'!$B$6:$B$100,'1추총괄표(위원회)'!$C48) -> 355021000 | O48: =SUMIFS('2추 세입'!AA$6:AA$100,'2추 세입'!$A$6:$A$100,'1추총괄표(위원회)'!$A48,'2추 세입'!$B$6:$B$100,'1추총괄표(위원회)'!$C48) -> 0 | P48: =SUMIFS('2추 세입'!AB$6:AB$100,'2추 세입'!$A$6:$A$100,'1추총괄표(위원회)'!$A48,'2추 세입'!$B$6:$B$100,'1추총괄표(위원회)'!$C48) -> 0 | R48: =SUMIFS('2추 세출'!G$6:G$264,'2추 세출'!$A$6:$A$264,'1추총괄표(위원회)'!$A48,'2추 세출'!$B$6:$B$264,'1추총괄표(위원회)'!$C48) -> 0 | S48: =SUMIFS('2추 세출'!H$6:H$264,'2추 세출'!$A$6:$A$264,'1추총괄표(위원회)'!$A48,'2추 세출'!$B$6:$B$264,'1추총괄표(위원회)'!$C48) -> 0 | T48: =R48-S48 -> 0 | U48: =SUMIFS('2추 세출'!J$6:J$264,'2추 세출'!$A$6:$A$264,'1추총괄표(위원회)'!$A48,'2추 세출'!$B$6:$B$264,'1추총괄표(위원회)'!$C48) -> 0 | V48: =SUMIFS('2추 세출'!K$6:K$264,'2추 세출'!$A$6:$A$264,'1추총괄표(위원회)'!$A48,'2추 세출'!$B$6:$B$264,'1추총괄표(위원회)'!$C48) -> 0 | W48: =SUMIFS('2추 세출'!L$6:L$264,'2추 세출'!$A$6:$A$264,'1추총괄표(위원회)'!$A48,'2추 세출'!$B$6:$B$264,'1추총괄표(위원회)'!$C48) -> 0 | X48: =SUMIFS('2추 세출'!V$6:V$264,'2추 세출'!$A$6:$A$264,'1추총괄표(위원회)'!$A48,'2추 세출'!$B$6:$B$264,'1추총괄표(위원회)'!$C48) -> 0 | Y48: =SUMIFS('2추 세출'!W$6:W$264,'2추 세출'!$A$6:$A$264,'1추총괄표(위원회)'!$A48,'2추 세출'!$B$6:$B$264,'1추총괄표(위원회)'!$C48) -> 0 | Z48: =SUMIFS('2추 세출'!M$6:M$264,'2추 세출'!$A$6:$A$264,'1추총괄표(위원회)'!$A48,'2추 세출'!$B$6:$B$264,'1추총괄표(위원회)'!$C48) -> 0 | AA48: =SUMIFS('2추 세출'!N$6:N$264,'2추 세출'!$A$6:$A$264,'1추총괄표(위원회)'!$A48,'2추 세출'!$B$6:$B$264,'1추총괄표(위원회)'!$C48) -> 0 | AB48: =SUMIFS('2추 세출'!O$6:O$264,'2추 세출'!$A$6:$A$264,'1추총괄표(위원회)'!$A48,'2추 세출'!$B$6:$B$264,'1추총괄표(위원회)'!$C48) -> 0 | AC48: =SUMIFS('2추 세출'!AA$6:AA$264,'2추 세출'!$A$6:$A$264,'1추총괄표(위원회)'!$A48,'2추 세출'!$B$6:$B$264,'1추총괄표(위원회)'!C$9) -> 0 | AD48: =SUMIFS('2추 세출'!AB$6:AB$264,'2추 세출'!$A$6:$A$264,'1추총괄표(위원회)'!$A48,'2추 세출'!$B$6:$B$264,'1추총괄표(위원회)'!D$9) -> 0 | AF48: =IF(J48=X48,"OK","@@") -> @@ | AG48: =J48-X48 -> 9661000 | AH48: =IF(O48=AC48,"OK","@@") -> OK | AI48: =O48-AC48 -> 0
B49: 여성가족교육협력위원회 | D49: =SUM(D50:D52) -> 18267149 | E49: =SUM(E50:E52) -> 18041720 | F49: =SUM(F50:F52) -> 225429 | G49: =SUM(G50:G52) -> -72160 | H49: =SUM(H50:H52) -> 664847 | I49: =SUM(I50:I52) -> 18859836 | J49: =SUM(J50:J52) -> 0 | K49: =SUM(K50:K52) -> 2 | ... P49: =SUM(P50:P52) -> 0 | R49: =SUM(R50:R52) -> 18561569 | S49: =SUM(S50:S52) -> 17267578 | T49: =SUM(T50:T52) -> 1293991 | U49: =SUM(U50:U52) -> -1076065 | V49: =SUM(V50:V52) -> 3675957 | W49: =SUM(W50:W52) -> 21161461 | X49: =SUM(X50:X52) -> 2599892 | Y49: =SUM(Y50:Y52) -> 0 | ... AD49: =SUM(AD50:AD52) -> 0 | AF49: =IF(J49=X49,"OK","@@") -> @@ | AG49: =J49-X49 -> -2599892 | AH49: =IF(O49=AC49,"OK","@@") -> OK | AI49: =O49-AC49 -> 0
A50: 여성가족교육협력위원회 | C50: 여성가족국 | D50: =SUMIFS('2추 세입'!G$6:G$100,'2추 세입'!$A$6:$A$100,'1추총괄표(위원회)'!$A50,'2추 세입'!$B$6:$B$100,'1추총괄표(위원회)'!$C50) -> 18267149 | E50: =SUMIFS('2추 세입'!H$6:H$100,'2추 세입'!$A$6:$A$100,'1추총괄표(위원회)'!$A50,'2추 세입'!$B$6:$B$100,'1추총괄표(위원회)'!$C50) -> 18041720 | F50: =D50-E50 -> 225429 | G50: =SUMIFS('2추 세입'!J$6:J$100,'2추 세입'!$A$6:$A$100,'1추총괄표(위원회)'!$A50,'2추 세입'!$B$6:$B$100,'1추총괄표(위원회)'!$C50) -> -72160 | H50: =SUMIFS('2추 세입'!K$6:K$100,'2추 세입'!$A$6:$A$100,'1추총괄표(위원회)'!$A50,'2추 세입'!$B$6:$B$100,'1추총괄표(위원회)'!$C50) -> 664847 | I50: =SUMIFS('2추 세입'!L$6:L$100,'2추 세입'!$A$6:$A$100,'1추총괄표(위원회)'!$A50,'2추 세입'!$B$6:$B$100,'1추총괄표(위원회)'!$C50) -> 18859836 | J50: =SUMIFS('2추 세입'!V$6:V$100,'2추 세입'!$A$6:$A$100,'1추총괄표(위원회)'!$A50,'2추 세입'!$B$6:$B$100,'1추총괄표(위원회)'!$C50) -> 0 | K50: =SUMIFS('2추 세입'!W$6:W$100,'2추 세입'!$A$6:$A$100,'1추총괄표(위원회)'!$A50,'2추 세입'!$B$6:$B$100,'1추총괄표(위원회)'!$C50) -> 2 | L50: =SUMIFS('2추 세입'!M$6:M$100,'2추 세입'!$A$6:$A$100,'1추총괄표(위원회)'!$A50,'2추 세입'!$B$6:$B$100,'1추총괄표(위원회)'!$C50) -> 0 | M50: =SUMIFS('2추 세입'!N$6:N$100,'2추 세입'!$A$6:$A$100,'1추총괄표(위원회)'!$A50,'2추 세입'!$B$6:$B$100,'1추총괄표(위원회)'!$C50) -> 0 | N50: =SUMIFS('2추 세입'!O$6:O$100,'2추 세입'!$A$6:$A$100,'1추총괄표(위원회)'!$A50,'2추 세입'!$B$6:$B$100,'1추총괄표(위원회)'!$C50) -> 18267149 | O50: =SUMIFS('2추 세입'!AA$6:AA$100,'2추 세입'!$A$6:$A$100,'1추총괄표(위원회)'!$A50,'2추 세입'!$B$6:$B$100,'1추총괄표(위원회)'!$C50) -> 0 | P50: =SUMIFS('2추 세입'!AB$6:AB$100,'2추 세입'!$A$6:$A$100,'1추총괄표(위원회)'!$A50,'2추 세입'!$B$6:$B$100,'1추총괄표(위원회)'!$C50) -> 0 | R50: =SUMIFS('2추 세출'!G$6:G$264,'2추 세출'!$A$6:$A$264,'1추총괄표(위원회)'!$A50,'2추 세출'!$B$6:$B$264,'1추총괄표(위원회)'!$C50) -> 12179582 | S50: =SUMIFS('2추 세출'!H$6:H$264,'2추 세출'!$A$6:$A$264,'1추총괄표(위원회)'!$A50,'2추 세출'!$B$6:$B$264,'1추총괄표(위원회)'!$C50) -> 11495591 | T50: =R50-S50 -> 683991 | U50: =SUMIFS('2추 세출'!J$6:J$264,'2추 세출'!$A$6:$A$264,'1추총괄표(위원회)'!$A50,'2추 세출'!$B$6:$B$264,'1추총괄표(위원회)'!$C50) -> -826065 | V50: =SUMIFS('2추 세출'!K$6:K$264,'2추 세출'!$A$6:$A$264,'1추총괄표(위원회)'!$A50,'2추 세출'!$B$6:$B$264,'1추총괄표(위원회)'!$C50) -> 2551874 | W50: =SUMIFS('2추 세출'!L$6:L$264,'2추 세출'!$A$6:$A$264,'1추총괄표(위원회)'!$A50,'2추 세출'!$B$6:$B$264,'1추총괄표(위원회)'!$C50) -> 13905391 | X50: =SUMIFS('2추 세출'!V$6:V$264,'2추 세출'!$A$6:$A$264,'1추총괄표(위원회)'!$A50,'2추 세출'!$B$6:$B$264,'1추총괄표(위원회)'!$C50) -> 1725809 | Y50: =SUMIFS('2추 세출'!W$6:W$264,'2추 세출'!$A$6:$A$264,'1추총괄표(위원회)'!$A50,'2추 세출'!$B$6:$B$264,'1추총괄표(위원회)'!$C50) -> 0 | Z50: =SUMIFS('2추 세출'!M$6:M$264,'2추 세출'!$A$6:$A$264,'1추총괄표(위원회)'!$A50,'2추 세출'!$B$6:$B$264,'1추총괄표(위원회)'!$C50) -> 0 | AA50: =SUMIFS('2추 세출'!N$6:N$264,'2추 세출'!$A$6:$A$264,'1추총괄표(위원회)'!$A50,'2추 세출'!$B$6:$B$264,'1추총괄표(위원회)'!$C50) -> 0 | AB50: =SUMIFS('2추 세출'!O$6:O$264,'2추 세출'!$A$6:$A$264,'1추총괄표(위원회)'!$A50,'2추 세출'!$B$6:$B$264,'1추총괄표(위원회)'!$C50) -> 12179582 | AC50: =SUMIFS('2추 세출'!AA$6:AA$264,'2추 세출'!$A$6:$A$264,'1추총괄표(위원회)'!$A50,'2추 세출'!$B$6:$B$264,'1추총괄표(위원회)'!C$9) -> 0 | AD50: =SUMIFS('2추 세출'!AB$6:AB$264,'2추 세출'!$A$6:$A$264,'1추총괄표(위원회)'!$A50,'2추 세출'!$B$6:$B$264,'1추총괄표(위원회)'!D$9) -> 0 | AF50: =IF(J50=X50,"OK","@@") -> @@ | AG50: =J50-X50 -> -1725809 | AH50: =IF(O50=AC50,"OK","@@") -> OK | AI50: =O50-AC50 -> 0
A51: 여성가족교육협력위원회 | C51: 복지여성실 | D51: =SUMIFS('2추 세입'!G$6:G$100,'2추 세입'!$A$6:$A$100,'1추총괄표(위원회)'!$A51,'2추 세입'!$B$6:$B$100,'1추총괄표(위원회)'!$C51) -> 0 | E51: =SUMIFS('2추 세입'!H$6:H$100,'2추 세입'!$A$6:$A$100,'1추총괄표(위원회)'!$A51,'2추 세입'!$B$6:$B$100,'1추총괄표(위원회)'!$C51) -> 0 | F51: =D51-E51 -> 0 | G51: =SUMIFS('2추 세입'!J$6:J$100,'2추 세입'!$A$6:$A$100,'1추총괄표(위원회)'!$A51,'2추 세입'!$B$6:$B$100,'1추총괄표(위원회)'!$C51) -> 0 | H51: =SUMIFS('2추 세입'!K$6:K$100,'2추 세입'!$A$6:$A$100,'1추총괄표(위원회)'!$A51,'2추 세입'!$B$6:$B$100,'1추총괄표(위원회)'!$C51) -> 0 | I51: =SUMIFS('2추 세입'!L$6:L$100,'2추 세입'!$A$6:$A$100,'1추총괄표(위원회)'!$A51,'2추 세입'!$B$6:$B$100,'1추총괄표(위원회)'!$C51) -> 0 | J51: =SUMIFS('2추 세입'!V$6:V$100,'2추 세입'!$A$6:$A$100,'1추총괄표(위원회)'!$A51,'2추 세입'!$B$6:$B$100,'1추총괄표(위원회)'!$C51) -> 0 | K51: =SUMIFS('2추 세입'!W$6:W$100,'2추 세입'!$A$6:$A$100,'1추총괄표(위원회)'!$A51,'2추 세입'!$B$6:$B$100,'1추총괄표(위원회)'!$C51) -> 0 | L51: =SUMIFS('2추 세입'!M$6:M$100,'2추 세입'!$A$6:$A$100,'1추총괄표(위원회)'!$A51,'2추 세입'!$B$6:$B$100,'1추총괄표(위원회)'!$C51) -> 0 | M51: =SUMIFS('2추 세입'!N$6:N$100,'2추 세입'!$A$6:$A$100,'1추총괄표(위원회)'!$A51,'2추 세입'!$B$6:$B$100,'1추총괄표(위원회)'!$C51) -> 0 | N51: =SUMIFS('2추 세입'!O$6:O$100,'2추 세입'!$A$6:$A$100,'1추총괄표(위원회)'!$A51,'2추 세입'!$B$6:$B$100,'1추총괄표(위원회)'!$C51) -> 0 | O51: =SUMIFS('2추 세입'!AA$6:AA$100,'2추 세입'!$A$6:$A$100,'1추총괄표(위원회)'!$A51,'2추 세입'!$B$6:$B$100,'1추총괄표(위원회)'!$C51) -> 0 | P51: =SUMIFS('2추 세입'!AB$6:AB$100,'2추 세입'!$A$6:$A$100,'1추총괄표(위원회)'!$A51,'2추 세입'!$B$6:$B$100,'1추총괄표(위원회)'!$C51) -> 0 | R51: =SUMIFS('2추 세출'!G$6:G$264,'2추 세출'!$A$6:$A$264,'1추총괄표(위원회)'!$A51,'2추 세출'!$B$6:$B$264,'1추총괄표(위원회)'!$C51) -> 3287987 | S51: =SUMIFS('2추 세출'!H$6:H$264,'2추 세출'!$A$6:$A$264,'1추총괄표(위원회)'!$A51,'2추 세출'!$B$6:$B$264,'1추총괄표(위원회)'!$C51) -> 3177987 | T51: =R51-S51 -> 110000 | U51: =SUMIFS('2추 세출'!J$6:J$264,'2추 세출'!$A$6:$A$264,'1추총괄표(위원회)'!$A51,'2추 세출'!$B$6:$B$264,'1추총괄표(위원회)'!$C51) -> 0 | V51: =SUMIFS('2추 세출'!K$6:K$264,'2추 세출'!$A$6:$A$264,'1추총괄표(위원회)'!$A51,'2추 세출'!$B$6:$B$264,'1추총괄표(위원회)'!$C51) -> 182083 | W51: =SUMIFS('2추 세출'!L$6:L$264,'2추 세출'!$A$6:$A$264,'1추총괄표(위원회)'!$A51,'2추 세출'!$B$6:$B$264,'1추총괄표(위원회)'!$C51) -> 3470070 | X51: =SUMIFS('2추 세출'!V$6:V$264,'2추 세출'!$A$6:$A$264,'1추총괄표(위원회)'!$A51,'2추 세출'!$B$6:$B$264,'1추총괄표(위원회)'!$C51) -> 182083 | Y51: =SUMIFS('2추 세출'!W$6:W$264,'2추 세출'!$A$6:$A$264,'1추총괄표(위원회)'!$A51,'2추 세출'!$B$6:$B$264,'1추총괄표(위원회)'!$C51) -> 0 | Z51: =SUMIFS('2추 세출'!M$6:M$264,'2추 세출'!$A$6:$A$264,'1추총괄표(위원회)'!$A51,'2추 세출'!$B$6:$B$264,'1추총괄표(위원회)'!$C51) -> 0 | AA51: =SUMIFS('2추 세출'!N$6:N$264,'2추 세출'!$A$6:$A$264,'1추총괄표(위원회)'!$A51,'2추 세출'!$B$6:$B$264,'1추총괄표(위원회)'!$C51) -> 0 | AB51: =SUMIFS('2추 세출'!O$6:O$264,'2추 세출'!$A$6:$A$264,'1추총괄표(위원회)'!$A51,'2추 세출'!$B$6:$B$264,'1추총괄표(위원회)'!$C51) -> 3287987 | AC51: =SUMIFS('2추 세출'!AA$6:AA$264,'2추 세출'!$A$6:$A$264,'1추총괄표(위원회)'!$A51,'2추 세출'!$B$6:$B$264,'1추총괄표(위원회)'!C$9) -> 0 | AD51: =SUMIFS('2추 세출'!AB$6:AB$264,'2추 세출'!$A$6:$A$264,'1추총괄표(위원회)'!$A51,'2추 세출'!$B$6:$B$264,'1추총괄표(위원회)'!D$9) -> 0 | AF51: =IF(J51=X51,"OK","@@") -> @@ | AG51: =J51-X51 -> -182083 | AH51: =IF(O51=AC51,"OK","@@") -> OK | AI51: =O51-AC51 -> 0
A52: 여성가족교육협력위원회 | C52: 교육협력국 | D52: =SUMIFS('2추 세입'!G$6:G$100,'2추 세입'!$A$6:$A$100,'1추총괄표(위원회)'!$A52,'2추 세입'!$B$6:$B$100,'1추총괄표(위원회)'!$C52) -> 0 | E52: =SUMIFS('2추 세입'!H$6:H$100,'2추 세입'!$A$6:$A$100,'1추총괄표(위원회)'!$A52,'2추 세입'!$B$6:$B$100,'1추총괄표(위원회)'!$C52) -> 0 | F52: =D52-E52 -> 0 | G52: =SUMIFS('2추 세입'!J$6:J$100,'2추 세입'!$A$6:$A$100,'1추총괄표(위원회)'!$A52,'2추 세입'!$B$6:$B$100,'1추총괄표(위원회)'!$C52) -> 0 | H52: =SUMIFS('2추 세입'!K$6:K$100,'2추 세입'!$A$6:$A$100,'1추총괄표(위원회)'!$A52,'2추 세입'!$B$6:$B$100,'1추총괄표(위원회)'!$C52) -> 0 | I52: =SUMIFS('2추 세입'!L$6:L$100,'2추 세입'!$A$6:$A$100,'1추총괄표(위원회)'!$A52,'2추 세입'!$B$6:$B$100,'1추총괄표(위원회)'!$C52) -> 0 | J52: =SUMIFS('2추 세입'!V$6:V$100,'2추 세입'!$A$6:$A$100,'1추총괄표(위원회)'!$A52,'2추 세입'!$B$6:$B$100,'1추총괄표(위원회)'!$C52) -> 0 | K52: =SUMIFS('2추 세입'!W$6:W$100,'2추 세입'!$A$6:$A$100,'1추총괄표(위원회)'!$A52,'2추 세입'!$B$6:$B$100,'1추총괄표(위원회)'!$C52) -> 0 | L52: =SUMIFS('2추 세입'!M$6:M$100,'2추 세입'!$A$6:$A$100,'1추총괄표(위원회)'!$A52,'2추 세입'!$B$6:$B$100,'1추총괄표(위원회)'!$C52) -> 0 | M52: =SUMIFS('2추 세입'!N$6:N$100,'2추 세입'!$A$6:$A$100,'1추총괄표(위원회)'!$A52,'2추 세입'!$B$6:$B$100,'1추총괄표(위원회)'!$C52) -> 0 | N52: =SUMIFS('2추 세입'!O$6:O$100,'2추 세입'!$A$6:$A$100,'1추총괄표(위원회)'!$A52,'2추 세입'!$B$6:$B$100,'1추총괄표(위원회)'!$C52) -> 0 | O52: =SUMIFS('2추 세입'!AA$6:AA$100,'2추 세입'!$A$6:$A$100,'1추총괄표(위원회)'!$A52,'2추 세입'!$B$6:$B$100,'1추총괄표(위원회)'!$C52) -> 0 | P52: =SUMIFS('2추 세입'!AB$6:AB$100,'2추 세입'!$A$6:$A$100,'1추총괄표(위원회)'!$A52,'2추 세입'!$B$6:$B$100,'1추총괄표(위원회)'!$C52) -> 0 | R52: =SUMIFS('2추 세출'!G$6:G$264,'2추 세출'!$A$6:$A$264,'1추총괄표(위원회)'!$A52,'2추 세출'!$B$6:$B$264,'1추총괄표(위원회)'!$C52) -> 3094000 | S52: =SUMIFS('2추 세출'!H$6:H$264,'2추 세출'!$A$6:$A$264,'1추총괄표(위원회)'!$A52,'2추 세출'!$B$6:$B$264,'1추총괄표(위원회)'!$C52) -> 2594000 | T52: =R52-S52 -> 500000 | U52: =SUMIFS('2추 세출'!J$6:J$264,'2추 세출'!$A$6:$A$264,'1추총괄표(위원회)'!$A52,'2추 세출'!$B$6:$B$264,'1추총괄표(위원회)'!$C52) -> -250000 | V52: =SUMIFS('2추 세출'!K$6:K$264,'2추 세출'!$A$6:$A$264,'1추총괄표(위원회)'!$A52,'2추 세출'!$B$6:$B$264,'1추총괄표(위원회)'!$C52) -> 942000 | W52: =SUMIFS('2추 세출'!L$6:L$264,'2추 세출'!$A$6:$A$264,'1추총괄표(위원회)'!$A52,'2추 세출'!$B$6:$B$264,'1추총괄표(위원회)'!$C52) -> 3786000 | X52: =SUMIFS('2추 세출'!V$6:V$264,'2추 세출'!$A$6:$A$264,'1추총괄표(위원회)'!$A52,'2추 세출'!$B$6:$B$264,'1추총괄표(위원회)'!$C52) -> 692000 | Y52: =SUMIFS('2추 세출'!W$6:W$264,'2추 세출'!$A$6:$A$264,'1추총괄표(위원회)'!$A52,'2추 세출'!$B$6:$B$264,'1추총괄표(위원회)'!$C52) -> 0 | Z52: =SUMIFS('2추 세출'!M$6:M$264,'2추 세출'!$A$6:$A$264,'1추총괄표(위원회)'!$A52,'2추 세출'!$B$6:$B$264,'1추총괄표(위원회)'!$C52) -> 0 | AA52: =SUMIFS('2추 세출'!N$6:N$264,'2추 세출'!$A$6:$A$264,'1추총괄표(위원회)'!$A52,'2추 세출'!$B$6:$B$264,'1추총괄표(위원회)'!$C52) -> 0 | AB52: =SUMIFS('2추 세출'!O$6:O$264,'2추 세출'!$A$6:$A$264,'1추총괄표(위원회)'!$A52,'2추 세출'!$B$6:$B$264,'1추총괄표(위원회)'!$C52) -> 3094000 | AC52: =SUMIFS('2추 세출'!AA$6:AA$264,'2추 세출'!$A$6:$A$264,'1추총괄표(위원회)'!$A52,'2추 세출'!$B$6:$B$264,'1추총괄표(위원회)'!C$9) -> 0 | AD52: =SUMIFS('2추 세출'!AB$6:AB$264,'2추 세출'!$A$6:$A$264,'1추총괄표(위원회)'!$A52,'2추 세출'!$B$6:$B$264,'1추총괄표(위원회)'!D$9) -> 0 | AF52: =IF(J52=X52,"OK","@@") -> @@ | AG52: =J52-X52 -> -692000 | AH52: =IF(O52=AC52,"OK","@@") -> OK | AI52: =O52-AC52 -> 0

Sheet 2추 세입
A1: 2015년도 제2회 추경 경기도 일반회계 세입 예산 조정(안)
A2: □ 세입예산 | V2: 세입=세출 | AA2: 세입=세출
J3: =COUNTA(J7:J100) -> 6 | K3: =COUNTA(K7:K100) -> 26 | M3: =COUNTA(M7:M100) -> 0 | N3: =COUNTA(N7:N100) -> 0 | Q3: (단위 : 천원) | V3: =IF(V6='2추 세출'!V6,"OK","@@") -> @@ | X3: =IF(COUNTIF(X6:X100,"검토")>0,"@@","OK") -> @@ | AA3: =IF(AA6='2추 세출'!AA6,"OK","@@") -> OK | AC3: =IF(COUNTIF(AC6:AC100,"검토")>0,"@@","OK") -> @@
A4: 위원회명 | B4: 실국명 | C4: 부서명 | D4: 편성 구분 | E4: 예산안 페이지 | F4: 사업명 | G4: 제2회 추경 예산안 (가) | H4: 기정액 (나) | I4: 제2회 추경 증감액 (다=가-나) | J4: 상임위 제2회 추경 예산안 조정액(라) | L4: 상임위 수정 예산안 (마=가or나+라) | M4: 예결위 제2회 추경 예산안 조정액(라) | O4: 예결위 수정 예산안 (마=가or나+라) | P4: 동의 대상 | Q4: 비고 (부대의견) | S4: 국도비 등 여부 | U4: 재원 | V4: 상임위 재원별 증감액 | Z4: 재원 | AA4: 예결위 재원별 증감액 | AE4: 세입번호 | AG4: 실국부서 코드 | AI4: 추가 내시 등 | AK4: 상임위 세입 검증 | AO4: 예결위 세입 검증
J5: 감액 | K5: 증액 | M5: 감액 | N5: 증액 | V5: 국비 등 | W5: 도비 | X5: 검증 | AA5: 국비 등 | AB5: 도비 | AC5: 검증 | AK5: 국비 증감액 | AL5: 건수 | AM5: 검증 | AO5: 국비 증감액 | AP5: 건수 | AQ5: 검증
A6: 합 계 | G6: =SUBTOTAL(9,G7:G100) -> 399544075 | H6: =SUBTOTAL(9,H7:H100) -> 517914734 | I6: =SUBTOTAL(9,I7:I100) -> -124948632 | J6: =SUBTOTAL(9,J7:J100) -> -10349503 | K6: =SUBTOTAL(9,K7:K100) -> 30694579 | L6: =SUBTOTAL(9,L7:L100) -> 542351597 | M6: =SUBTOTAL(9,M7:M100) -> 0 | N6: =SUBTOTAL(9,N7:N100) -> 0 | O6: =SUBTOTAL(9,O7:O100) -> 522006521 | V6: =SUBTOTAL(9,V7:V100) -> 19752389 | W6: =SUBTOTAL(9,W7:W100) -> 2 | X6: =IF(SUM($J6:$K6)=SUM($V6:$W6),"OK","검토") -> 검토 | AA6: =SUBTOTAL(9,AA7:AA100) -> 0 | AB6: =SUBTOTAL(9,AB7:AB100) -> 0 | AC6: =IF(SUM($J6:$K6)=SUM($V6:$W6),"OK","검토") -> 검토 | AK6: =SUBTOTAL(9,AK7:AK100) -> #NAME? | AL6: =SUBTOTAL(9,AL7:AL100) -> #NAME? | AM6: =IF(COUNTIF(AM7:AM100,"@@")>0,"@@","OK") -> OK | AO6: =SUBTOTAL(9,AO7:AO100) -> #NAME? | AP6: =SUBTOTAL(9,AP7:AP100) -> #NAME? | AQ6: =IF(COUNTIF(AQ7:AQ100,"@@")>0,"@@","OK") -> OK
A7: =IFERROR(VLOOKUP($C7,구분표!$A$2:$C$300,2,FALSE),"") -> 경제과학기술위원회 | B7: 경제실 | C7: 에너지과 | D7: 신규 | F7: LPG소형저장탱크 보급사업(국비/지원) | I7: =IF(D7="","",G7-H7) -> 0 | K7: 600000 | L7: =IF(G7=0,H7+J7+K7,G7+J7+K7) -> 600000 | O7: =IF(G7=0,H7+M7+N7,G7+M7+N7) -> 0 | P7: =IF(AND((L7=0),(O7>0)),"O",IF(AND((J7<0),(L7-O7<0)),"O","X")) -> X | Q7: 국비내시 추가 | V7: =IF($U7<>"도비",IF($S7="국도비","직접입력",SUM($J7:$K7)),) -> 600000 | W7: =IF($U7="도비",SUM($J7:$K7),IF($S7="국도비","직접입력",SUM($J7:$K7)-$V7)) -> 0 | X7: =IF(SUM($J7:$K7)=SUM($V7:$W7),"OK","검토") -> OK | AA7: =IF($U7<>"도비",IF($S7="국도비","직접입력",SUM($M7:$N7)),) -> 0 | AB7: =IF($U7="도비",SUM(M7:N7),IF($S7="국도비","직접입력",SUM(M7:N7)-AA7)) -> 0 | AC7: =IF(SUM(M7:N7)=SUM(AA7:AB7),"OK","검토") -> OK | AE7: =IF(AG7="","",IF(U7="도비","세입없음",AG7&"-"&test(COUNTIF($AG$7:AG7,AG7),"00"))) -> #NAME? | AG7: {=IF(C7="","",INDEX(구분표!$I$2:$I$300, MATCH(1,(구분표!$E$2:$E$300='2추 세입'!B7)*(구분표!$F$2:$F$300='2추 세입'!C7)*(구분표!$G$2:$G$300='2추 세입'!A7),0)))} -> 0307 | AK7: =IF(AE7="",0,SUMIFS('2추 세출'!$V$6:$V$264,'2추 세출'!$AE$6:$AE$264,'2추 세입'!$AE7)) -> #NAME? | AL7: =IF(AE7="","",COUNTIFS('2추 세출'!$AE$6:$AE$264,'2추 세입'!AE7)) -> #NAME? | AM7: =IF(V7=AK7,"OK","@@") -> #NAME? | AO7: =IF(AE7="",0,SUMIFS('2추 세출'!$AA$6:$AA$264,'2추 세출'!$AE$6:$AE$264,'2추 세입'!$AE7)) -> #NAME? | AP7: =IF(AE7="","",COUNTIFS('2추 세출'!$AE$6:$AE$264,AE7)) -> #NAME? | AQ7: =IF(AA7=AO7,"OK","@@") -> #NAME?
A8: =IFERROR(VLOOKUP($C8,구분표!$A$2:$C$300,2,FALSE),"") -> 농정해양위원회 | B8: =IFERROR(VLOOKUP($C8,[1]구분표!$A$2:$C$300,3,FALSE),"") -> 농정해양국 | C8: 친환경농업과 | D8: 신규 | E8: 신규 | F8: 국고보조금등 -한발대비용수개발 | H8: 240000 | I8: =IF(D8="","",G8-H8) -> -240000 | K8: 5752000 | L8: =IF(G8=0,H8+J8+K8,G8+J8+K8) -> 5992000 | O8: =IF(G8=0,H8+M8+N8,G8+M8+N8) -> 240000 | Q8: 국비추가내시 -농림축산식품부 농업기반과-3978(2015.8.28.)호 | V8: =IF($U8<>"도비",IF($S8="국도비","직접입력",SUM($J8:$K8)),) -> 5752000 | W8: =IF($U8="도비",SUM($J8:$K8),IF($S8="국도비","직접입력",SUM($J8:$K8)-$V8)) -> 0 | X8: =IF(SUM($J8:$K8)=SUM($V8:$W8),"OK","검토") -> OK | AA8: =IF($U8<>"도비",IF($S8="국도비","직접입력",SUM($M8:$N8)),) -> 0 | AB8: =IF($U8="도비",SUM(M8:N8),IF($S8="국도비","직접입력",SUM(M8:N8)-AA8)) -> 0 | AC8: =IF(SUM(M8:N8)=SUM(AA8:AB8),"OK","검토") -> OK | AE8: =IF(AG8="","",IF(U8="도비","세입없음",AG8&"-"&test(COUNTIF($AG$7:AG8,AG8),"00"))) -> #NAME? | AG8: {=IF(C8="","",INDEX(구분표!$I$2:$I$300, MATCH(1,(구분표!$E$2:$E$300='2추 세입'!B8)*(구분표!$F$2:$F$300='2추 세입'!C8)*(구분표!$G$2:$G$300='2추 세입'!A8),0)))} -> 0604 | AK8: =IF(AE8="",0,SUMIFS('2추 세출'!$V$6:$V$264,'2추 세출'!$AE$6:$AE$264,'2추 세입'!$AE8)) -> #NAME? | AL8: =IF(AE8="","",COUNTIFS('2추 세출'!$AE$6:$AE$264,'2추 세입'!AE8)) -> #NAME? | AM8: =IF(V8=AK8,"OK","@@") -> #NAME? | AO8: =IF(AE8="",0,SUMIFS('2추 세출'!$AA$6:$AA$264,'2추 세출'!$AE$6:$AE$264,'2추 세입'!$AE8)) -> #NAME? | AP8: =IF(AE8="","",COUNTIFS('2추 세출'!$AE$6:$AE$264,AE8)) -> #NAME? | AQ8: =IF(AA8=AO8,"OK","@@") -> #NAME?
A9: =IFERROR(VLOOKUP($C9,구분표!$A$2:$C$300,2,FALSE),"") -> 농정해양위원회 | B9: =IFERROR(VLOOKUP($C9,[1]구분표!$A$2:$C$300,3,FALSE),"") -> 농정해양국 | C9: 수산과 | D9: 신규 | E9: 신규 | F9: 국고보조금등 -피해보전직물 및 폐업지원 | I9: =IF(D9="","",G9-H9) -> 0 | K9: 6000 | L9: =IF(G9=0,H9+J9+K9,G9+J9+K9) -> 6000 | O9: =IF(G9=0,H9+M9+N9,G9+M9+N9) -> 0 | Q9: 국비추가내시 -해양수산부 수산정책과-3565(2015.9.3.)호 | V9: =IF($U9<>"도비",IF($S9="국도비","직접입력",SUM($J9:$K9)),) -> 6000 | W9: =IF($U9="도비",SUM($J9:$K9),IF($S9="국도비","직접입력",SUM($J9:$K9)-$V9)) -> 0 | X9: =IF(SUM($J9:$K9)=SUM($V9:$W9),"OK","검토") -> OK | AA9: =IF($U9<>"도비",IF($S9="국도비","직접입력",SUM($M9:$N9)),) -> 0 | AB9: =IF($U9="도비",SUM(M9:N9),IF($S9="국도비","직접입력",SUM(M9:N9)-AA9)) -> 0 | AC9: =IF(SUM(M9:N9)=SUM(AA9:AB9),"OK","검토") -> OK | AE9: =IF(AG9="","",IF(U9="도비","세입없음",AG9&"-"&test(COUNTIF($AG$7:AG9,AG9),"00"))) -> #NAME? | AG9: {=IF(C9="","",INDEX(구분표!$I$2:$I$300, MATCH(1,(구분표!$E$2:$E$300='2추 세입'!B9)*(구분표!$F$2:$F$300='2추 세입'!C9)*(구분표!$G$2:$G$300='2추 세입'!A9),0)))} -> 0605 | AK9: =IF(AE9="",0,SUMIFS('2추 세출'!$V$6:$V$264,'2추 세출'!$AE$6:$AE$264,'2추 세입'!$AE9)) -> #NAME? | AL9: =IF(AE9="","",COUNTIFS('2추 세출'!$AE$6:$AE$264,'2추 세입'!AE9)) -> #NAME? | AM9: =IF(V9=AK9,"OK","@@") -> #NAME? | AO9: =IF(AE9="",0,SUMIFS('2추 세출'!$AA$6:$AA$264,'2추 세출'!$AE$6:$AE$264,'2추 세입'!$AE9)) -> #NAME? | AP9: =IF(AE9="","",COUNTIFS('2추 세출'!$AE$6:$AE$264,AE9)) -> #NAME? | AQ9: =IF(AA9=AO9,"OK","@@") -> #NAME?
A10: =IFERROR(VLOOKUP($C10,구분표!$A$2:$C$300,2,FALSE),"") -> 농정해양위원회 | B10: =IFERROR(VLOOKUP($C10,[1]구분표!$A$2:$C$300,3,FALSE),"") -> 축산산림국 | C10: 축산정책과 | D10: 신규 | E10: 신규 | F10: 국고보조금등 -승마대회 활성화 지원 | I10: =IF(D10="","",G10-H10) -> 0 | K10: 70000 | L10: =IF(G10=0,H10+J10+K10,G10+J10+K10) -> 70000 | O10: =IF(G10=0,H10+M10+N10,G10+M10+N10) -> 0 | Q10: 국비추가내시 -농림축산식품부 축산정책과-3931(2015.8.27.)호 | V10: =IF($U10<>"도비",IF($S10="국도비","직접입력",SUM($J10:$K10)),) -> 70000 | W10: =IF($U10="도비",SUM($J10:$K10),IF($S10="국도비","직접입력",SUM($J10:$K10)-$V10)) -> 0 | X10: =IF(SUM($J10:$K10)=SUM($V10:$W10),"OK","검토") -> OK | AA10: =IF($U10<>"도비",IF($S10="국도비","직접입력",SUM($M10:$N10)),) -> 0 | AB10: =IF($U10="도비",SUM(M10:N10),IF($S10="국도비","직접입력",SUM(M10:N10)-AA10)) -> 0 | AC10: =IF(SUM(M10:N10)=SUM(AA10:AB10),"OK","검토") -> OK | AE10: =IF(AG10="","",IF(U10="도비","세입없음",AG10&"-"&test(COUNTIF($AG$7:AG10,AG10),"00"))) -> #NAME? | AG10: {=IF(C10="","",INDEX(구분표!$I$2:$I$300, MATCH(1,(구분표!$E$2:$E$300='2추 세입'!B10)*(구분표!$F$2:$F$300='2추 세입'!C10)*(구분표!$G$2:$G$300='2추 세입'!A10),0)))} -> 0608 | AK10: =IF(AE10="",0,SUMIFS('2추 세출'!$V$6:$V$264,'2추 세출'!$AE$6:$AE$264,'2추 세입'!$AE10)) -> #NAME? | AL10: =IF(AE10="","",COUNTIFS('2추 세출'!$AE$6:$AE$264,'2추 세입'!AE10)) -> #NAME? | AM10: =IF(V10=AK10,"OK","@@") -> #NAME? | AO10: =IF(AE10="",0,SUMIFS('2추 세출'!$AA$6:$AA$264,'2추 세출'!$AE$6:$AE$264,'2추 세입'!$AE10)) -> #NAME? | AP10: =IF(AE10="","",COUNTIFS('2추 세출'!$AE$6:$AE$264,AE10)) -> #NAME? | AQ10: =IF(AA10=AO10,"OK","@@") -> #NAME?
A11: =IFERROR(VLOOKUP($C11,구분표!$A$2:$C$300,2,FALSE),"") -> 농정해양위원회 | B11: =IFERROR(VLOOKUP($C11,[1]구분표!$A$2:$C$300,3,FALSE),"") -> 축산산림국 | C11: 축산위생연구소 | D11: 2회추경 | E11: 506 | F11: 국고보조금사용잔액 -축산위생연구소국비사용잔액 | G11: 11385 | I11: =IF(D11="","",G11-H11) -> 11385 | J11: -3152 | L11: =IF(G11=0,H11+J11+K11,G11+J11+K11) -> 8233 | O11: =IF(G11=0,H11+M11+N11,G11+M11+N11) -> 11385 | P11: =IF(AND((L11=0),(O11>0)),"O",IF(AND((J11<0),(L11-O11<0)),"O","X")) -> O | V11: =IF($U11<>"도비",IF($S11="국도비","직접입력",SUM($J11:$K11)),) -> -3152 | W11: =IF($U11="도비",SUM($J11:$K11),IF($S11="국도비","직접입력",SUM($J11:$K11)-$V11)) -> 0 | X11: =IF(SUM($J11:$K11)=SUM($V11:$W11),"OK","검토") -> OK | AA11: =IF($U11<>"도비",IF($S11="국도비","직접입력",SUM($M11:$N11)),) -> 0 | AB11: =IF($U11="도비",SUM(M11:N11),IF($S11="국도비","직접입력",SUM(M11:N11)-AA11)) -> 0 | AC11: =IF(SUM(M11:N11)=SUM(AA11:AB11),"OK","검토") -> OK | AE11: =IF(AG11="","",IF(U11="도비","세입없음",AG11&"-"&test(COUNTIF($AG$7:AG11,AG11),"00"))) -> #NAME? | AG11: {=IF(C11="","",INDEX(구분표!$I$2:$I$300, MATCH(1,(구분표!$E$2:$E$300='2추 세입'!B11)*(구분표!$F$2:$F$300='2추 세입'!C11)*(구분표!$G$2:$G$300='2추 세입'!A11),0)))} -> 0611 | AK11: =IF(AE11="",0,SUMIFS('2추 세출'!$V$6:$V$264,'2추 세출'!$AE$6:$AE$264,'2추 세입'!$AE11)) -> #NAME? | AL11: =IF(AE11="","",COUNTIFS('2추 세출'!$AE$6:$AE$264,'2추 세입'!AE11)) -> #NAME? | AM11: =IF(V11=AK11,"OK","@@") -> #NAME? | AO11: =IF(AE11="",0,SUMIFS('2추 세출'!$AA$6:$AA$264,'2추 세출'!$AE$6:$AE$264,'2추 세입'!$AE11)) -> #NAME? | AP11: =IF(AE11="","",COUNTIFS('2추 세출'!$AE$6:$AE$264,AE11)) -> #NAME? | AQ11: =IF(AA11=AO11,"OK","@@") -> #NAME?
A12: =IFERROR(VLOOKUP($C12,구분표!$A$2:$C$300,2,FALSE),"") -> 보건복지위원회 | B12: =IFERROR(VLOOKUP($C12,[2]구분표!$A$2:$C$300,3,FALSE),"") -> 보건복지국 | C12: 노인복지과 | E12: 566 | F12: 국고보조금 (노인생활시설 기능보강) | G12: 2429241 | H12: 2200246 | I12: =IF(D12="","",G12-H12) | K12: 92715 | L12: =IF(G12=0,H12+J12+K12,G12+J12+K12) -> 2521956 | O12: =IF(G12=0,H12+M12+N12,G12+M12+N12) -> 2429241 | P12: =IF(AND((L12=0),(O12>0)),"O",IF(AND((J12<0),(L12-O12<0)),"O","X")) -> X | Q12: 국비 확정내시 ※ 보건복지부 요양보험운영과-5820(2015. 8.21) | V12: =IF($U12<>"도비",IF($S12="국도비","직접입력",SUM($J12:$K12)),) -> 92715 | W12: =IF($U12="도비",SUM($J12:$K12),IF($S12="국도비","직접입력",SUM($J12:$K12)-$V12)) -> 0 | X12: =IF(SUM($J12:$K12)=SUM($V12:$W12),"OK","검토") -> OK | AA12: =IF($U12<>"도비",IF($S12="국도비","직접입력",SUM($M12:$N12)),) -> 0 | AB12: =IF($U12="도비",SUM(M12:N12),IF($S12="국도비","직접입력",SUM(M12:N12)-AA12)) -> 0 | AC12: =IF(SUM(M12:N12)=SUM(AA12:AB12),"OK","검토") -> OK | AE12: =IF(AG12="","",IF(U12="도비","세입없음",AG12&"-"&test(COUNTIF($AG$7:AG12,AG12),"00"))) -> #NAME? | AG12: {=IF(C12="","",INDEX(구분표!$I$2:$I$300, MATCH(1,(구분표!$E$2:$E$300='2추 세입'!B12)*(구분표!$F$2:$F$300='2추 세입'!C12)*(구분표!$G$2:$G$300='2추 세입'!A12),0)))} -> 0703 | AK12: =IF(AE12="",0,SUMIFS('2추 세출'!$V$6:$V$264,'2추 세출'!$AE$6:$AE$264,'2추 세입'!$AE12)) -> #NAME? | AL12: =IF(AE12="","",COUNTIFS('2추 세출'!$AE$6:$AE$264,'2추 세입'!AE12)) -> #NAME? | AM12: =IF(V12=AK12,"OK","@@") -> #NAME? | AO12: =IF(AE12="",0,SUMIFS('2추 세출'!$AA$6:$AA$264,'2추 세출'!$AE$6:$AE$264,'2추 세입'!$AE12)) -> #NAME? | AP12: =IF(AE12="","",COUNTIFS('2추 세출'!$AE$6:$AE$264,AE12)) -> #NAME? | AQ12: =IF(AA12=AO12,"OK","@@") -> #NAME?
A13: =IFERROR(VLOOKUP($C13,구분표!$A$2:$C$300,2,FALSE),"") -> 보건복지위원회 | B13: =IFERROR(VLOOKUP($C13,[2]구분표!$A$2:$C$300,3,FALSE),"") -> 보건복지국 | C13: 노인복지과 | D13: 본예산 | E13: 56 | F13: 국고보조금 (노인양로시설 운영) | H13: 5375188 | I13: =IF(D13="","",G13-H13) -> -5375188 | J13: -401109 | L13: =IF(G13=0,H13+J13+K13,G13+J13+K13) -> 4974079 | O13: =IF(G13=0,H13+M13+N13,G13+M13+N13) -> 5375188 | P13: =IF(AND((L13=0),(O13>0)),"O",IF(AND((J13<0),(L13-O13<0)),"O","X")) -> O | Q13: 국비 확정내시 ※ 보건복지부 요양보험운영과-5999(2015.8.28)호 | V13: =IF($U13<>"도비",IF($S13="국도비","직접입력",SUM($J13:$K13)),) -> -401109 | W13: =IF($U13="도비",SUM($J13:$K13),IF($S13="국도비","직접입력",SUM($J13:$K13)-$V13)) -> 0 | X13: =IF(SUM($J13:$K13)=SUM($V13:$W13),"OK","검토") -> OK | AA13: =IF($U13<>"도비",IF($S13="국도비","직접입력",SUM($M13:$N13)),) -> 0 | AB13: =IF($U13="도비",SUM(M13:N13),IF($S13="국도비","직접입력",SUM(M13:N13)-AA13)) -> 0 | AC13: =IF(SUM(M13:N13)=SUM(AA13:AB13),"OK","검토") -> OK | AE13: =IF(AG13="","",IF(U13="도비","세입없음",AG13&"-"&test(COUNTIF($AG$7:AG13,AG13),"00"))) -> #NAME? | AG13: {=IF(C13="","",INDEX(구분표!$I$2:$I$300, MATCH(1,(구분표!$E$2:$E$300='2추 세입'!B13)*(구분표!$F$2:$F$300='2추 세입'!C13)*(구분표!$G$2:$G$300='2추 세입'!A13),0)))} -> 0703 | AK13: =IF(AE13="",0,SUMIFS('2추 세출'!$V$6:$V$264,'2추 세출'!$AE$6:$AE$264,'2추 세입'!$AE13)) -> #NAME? | AL13: =IF(AE13="","",COUNTIFS('2추 세출'!$AE$6:$AE$264,'2추 세입'!AE13)) -> #NAME? | AM13: =IF(V13=AK13,"OK","@@") -> #NAME? | AO13: =IF(AE13="",0,SUMIFS('2추 세출'!$AA$6:$AA$264,'2추 세출'!$AE$6:$AE$264,'2추 세입'!$AE13)) -> #NAME? | AP13: =IF(AE13="","",COUNTIFS('2추 세출'!$AE$6:$AE$264,AE13)) -> #NAME? | AQ13: =IF(AA13=AO13,"OK","@@") -> #NAME?
A14: =IFERROR(VLOOKUP($C14,구분표!$A$2:$C$300,2,FALSE),"") -> 보건복지위원회 | B14: =IFERROR(VLOOKUP($C14,[2]구분표!$A$2:$C$300,3,FALSE),"") -> 보건복지국 | C14: 노인복지과 | D14: 1회추경 | E14: 24 | F14: 국고보조금 (메르스 사망자 장례비용 지원) | H14: 70947 | I14: =IF(D14="","",G14-H14) -> -70947 | K14: 25781 | L14: =IF(G14=0,H14+J14+K14,G14+J14+K14) -> 96728 | O14: =IF(G14=0,H14+M14+N14,G14+M14+N14) -> 70947 | P14: =IF(AND((L14=0),(O14>0)),"O",IF(AND((J14<0),(L14-O14<0)),"O","X")) -> X | Q14: 국비 확정내시 변경 ※ 질병관리본부 공중보건위기대응과-2351(2015.8.21)호 | V14: =IF($U14<>"도비",IF($S14="국도비","직접입력",SUM($J14:$K14)),) -> 25781 | W14: =IF($U14="도비",SUM($J14:$K14),IF($S14="국도비","직접입력",SUM($J14:$K14)-$V14)) -> 0 | X14: =IF(SUM($J14:$K14)=SUM($V14:$W14),"OK","검토") -> OK | AA14: =IF($U14<>"도비",IF($S14="국도비","직접입력",SUM($M14:$N14)),) -> 0 | AB14: =IF($U14="도비",SUM(M14:N14),IF($S14="국도비","직접입력",SUM(M14:N14)-AA14)) -> 0 | AC14: =IF(SUM(M14:N14)=SUM(AA14:AB14),"OK","검토") -> OK | AE14: =IF(AG14="","",IF(U14="도비","세입없음",AG14&"-"&test(COUNTIF($AG$7:AG14,AG14),"00"))) -> #NAME? | AG14: {=IF(C14="","",INDEX(구분표!$I$2:$I$300, MATCH(1,(구분표!$E$2:$E$300='2추 세입'!B14)*(구분표!$F$2:$F$300='2추 세입'!C14)*(구분표!$G$2:$G$300='2추 세입'!A14),0)))} -> 0703 | AK14: =IF(AE14="",0,SUMIFS('2추 세출'!$V$6:$V$264,'2추 세출'!$AE$6:$AE$264,'2추 세입'!$AE14)) -> #NAME? | AL14: =IF(AE14="","",COUNTIFS('2추 세출'!$AE$6:$AE$264,'2추 세입'!AE14)) -> #NAME? | AM14: =IF(V14=AK14,"OK","@@") -> #NAME? | AO14: =IF(AE14="",0,SUMIFS('2추 세출'!$AA$6:$AA$264,'2추 세출'!$AE$6:$AE$264,'2추 세입'!$AE14)) -> #NAME? | AP14: =IF(AE14="","",COUNTIFS('2추 세출'!$AE$6:$AE$264,AE14)) -> #NAME? | AQ14: =IF(AA14=AO14,"OK","@@") -> #NAME?
A15: =IFERROR(VLOOKUP($C15,구분표!$A$2:$C$300,2,FALSE),"") -> 보건복지위원회 | B15: =IFERROR(VLOOKUP($C15,[2]구분표!$A$2:$C$300,3,FALSE),"") -> 보건복지국 | C15: 노인복지과 | E15: 567 | F15: 국고보조금 반환금 (노인복지과 국비 사용 잔액) | G15: 29782 | I15: =IF(D15="","",G15-H15) | K15: 136 | L15: =IF(G15=0,H15+J15+K15,G15+J15+K15) -> 29918 | O15: =IF(G15=0,H15+M15+N15,G15+M15+N15) -> 29782 | P15: =IF(AND((L15=0),(O15>0)),"O",IF(AND((J15<0),(L15-O15<0)),"O","X")) -> X | Q15: 오입력에 따른 예산액 정정 | V15: =IF($U15<>"도비",IF($S15="국도비","직접입력",SUM($J15:$K15)),) -> 136 | W15: =IF($U15="도비",SUM($J15:$K15),IF($S15="국도비","직접입력",SUM($J15:$K15)-$V15)) -> 0 | X15: =IF(SUM($J15:$K15)=SUM($V15:$W15),"OK","검토") -> OK | AA15: =IF($U15<>"도비",IF($S15="국도비","직접입력",SUM($M15:$N15)),) -> 0 | AB15: =IF($U15="도비",SUM(M15:N15),IF($S15="국도비","직접입력",SUM(M15:N15)-AA15)) -> 0 | AC15: =IF(SUM(M15:N15)=SUM(AA15:AB15),"OK","검토") -> OK | AE15: =IF(AG15="","",IF(U15="도비","세입없음",AG15&"-"&test(COUNTIF($AG$7:AG15,AG15),"00"))) -> #NAME? | AG15: {=IF(C15="","",INDEX(구분표!$I$2:$I$300, MATCH(1,(구분표!$E$2:$E$300='2추 세입'!B15)*(구분표!$F$2:$F$300='2추 세입'!C15)*(구분표!$G$2:$G$300='2추 세입'!A15),0)))} -> 0703 | AK15: =IF(AE15="",0,SUMIFS('2추 세출'!$V$6:$V$264,'2추 세출'!$AE$6:$AE$264,'2추 세입'!$AE15)) -> #NAME? | AL15: =IF(AE15="","",COUNTIFS('2추 세출'!$AE$6:$AE$264,'2추 세입'!AE15)) -> #NAME? | AM15: =IF(V15=AK15,"OK","@@") -> #NAME? | AO15: =IF(AE15="",0,SUMIFS('2추 세출'!$AA$6:$AA$264,'2추 세출'!$AE$6:$AE$264,'2추 세입'!$AE15)) -> #NAME? | AP15: =IF(AE15="","",COUNTIFS('2추 세출'!$AE$6:$AE$264,AE15)) -> #NAME? | AQ15: =IF(AA15=AO15,"OK","@@") -> #NAME?
A16: =IFERROR(VLOOKUP($C16,구분표!$A$2:$C$300,2,FALSE),"") -> 보건복지위원회 | B16: =IFERROR(VLOOKUP($C16,[2]구분표!$A$2:$C$300,3,FALSE),"") -> 보건복지국 | C16: 장애인복지과 | D16: 본예산 | E16: 56 | F16: 국고보조금 (장애수당(기초)) | H16: 10743684 | I16: =IF(D16="","",G16-H16) -> -10743684 | K16: 286516 | L16: =IF(G16=0,H16+J16+K16,G16+J16+K16) -> 11030200 | O16: =IF(G16=0,H16+M16+N16,G16+M16+N16) -> 10743684 | P16: =IF(AND((L16=0),(O16>0)),"O",IF(AND((J16<0),(L16-O16<0)),"O","X")) -> X | Q16: 국비 변경내시 ※ 보건복지부 장애인자립기반과-7615(2015.9.8)호 | V16: =IF($U16<>"도비",IF($S16="국도비","직접입력",SUM($J16:$K16)),) -> 286516 | W16: =IF($U16="도비",SUM($J16:$K16),IF($S16="국도비","직접입력",SUM($J16:$K16)-$V16)) -> 0 | X16: =IF(SUM($J16:$K16)=SUM($V16:$W16),"OK","검토") -> OK | AA16: =IF($U16<>"도비",IF($S16="국도비","직접입력",SUM($M16:$N16)),) -> 0 | AB16: =IF($U16="도비",SUM(M16:N16),IF($S16="국도비","직접입력",SUM(M16:N16)-AA16)) -> 0 | AC16: =IF(SUM(M16:N16)=SUM(AA16:AB16),"OK","검토") -> OK | AE16: =IF(AG16="","",IF(U16="도비","세입없음",AG16&"-"&test(COUNTIF($AG$7:AG16,AG16),"00"))) -> #NAME? | AG16: {=IF(C16="","",INDEX(구분표!$I$2:$I$300, MATCH(1,(구분표!$E$2:$E$300='2추 세입'!B16)*(구분표!$F$2:$F$300='2추 세입'!C16)*(구분표!$G$2:$G$300='2추 세입'!A16),0)))} -> 0704 | AK16: =IF(AE16="",0,SUMIFS('2추 세출'!$V$6:$V$264,'2추 세출'!$AE$6:$AE$264,'2추 세입'!$AE16)) -> #NAME? | AL16: =IF(AE16="","",COUNTIFS('2추 세출'!$AE$6:$AE$264,'2추 세입'!AE16)) -> #NAME? | AM16: =IF(V16=AK16,"OK","@@") -> #NAME? | AO16: =IF(AE16="",0,SUMIFS('2추 세출'!$AA$6:$AA$264,'2추 세출'!$AE$6:$AE$264,'2추 세입'!$AE16)) -> #NAME? | AP16: =IF(AE16="","",COUNTIFS('2추 세출'!$AE$6:$AE$264,AE16)) -> #NAME? | AQ16: =IF(AA16=AO16,"OK","@@") -> #NAME?
A17: =IFERROR(VLOOKUP($C17,구분표!$A$2:$C$300,2,FALSE),"") -> 보건복지위원회 | B17: =IFERROR(VLOOKUP($C17,[2]구분표!$A$2:$C$300,3,FALSE),"") -> 보건복지국 | C17: 장애인복지과 | D17: 본예산 | E17: 56 | F17: 국고보조금 (장애수당(차상위 등)) | H17: 9746627 | I17: =IF(D17="","",G17-H17) -> -9746627 | K17: 35373 | L17: =IF(G17=0,H17+J17+K17,G17+J17+K17) -> 9782000 | O17: =IF(G17=0,H17+M17+N17,G17+M17+N17) -> 9746627 | P17: =IF(AND((L17=0),(O17>0)),"O",IF(AND((J17<0),(L17-O17<0)),"O","X")) -> X | Q17: 국비 변경내시 ※ 보건복지부 장애인자립기반과-7615(2015.9.8)호 | V17: =IF($U17<>"도비",IF($S17="국도비","직접입력",SUM($J17:$K17)),) -> 35373 | W17: =IF($U17="도비",SUM($J17:$K17),IF($S17="국도비","직접입력",SUM($J17:$K17)-$V17)) -> 0 | X17: =IF(SUM($J17:$K17)=SUM($V17:$W17),"OK","검토") -> OK | AA17: =IF($U17<>"도비",IF($S17="국도비","직접입력",SUM($M17:$N17)),) -> 0 | AB17: =IF($U17="도비",SUM(M17:N17),IF($S17="국도비","직접입력",SUM(M17:N17)-AA17)) -> 0 | AC17: =IF(SUM(M17:N17)=SUM(AA17:AB17),"OK","검토") -> OK | AE17: =IF(AG17="","",IF(U17="도비","세입없음",AG17&"-"&test(COUNTIF($AG$7:AG17,AG17),"00"))) -> #NAME? | AG17: {=IF(C17="","",INDEX(구분표!$I$2:$I$300, MATCH(1,(구분표!$E$2:$E$300='2추 세입'!B17)*(구분표!$F$2:$F$300='2추 세입'!C17)*(구분표!$G$2:$G$300='2추 세입'!A17),0)))} -> 0704 | AK17: =IF(AE17="",0,SUMIFS('2추 세출'!$V$6:$V$264,'2추 세출'!$AE$6:$AE$264,'2추 세입'!$AE17)) -> #NAME? | AL17: =IF(AE17="","",COUNTIFS('2추 세출'!$AE$6:$AE$264,'2추 세입'!AE17)) -> #NAME? | AM17: =IF(V17=AK17,"OK","@@") -> #NAME? | AO17: =IF(AE17="",0,SUMIFS('2추 세출'!$AA$6:$AA$264,'2추 세출'!$AE$6:$AE$264,'2추 세입'!$AE17)) -> #NAME? | AP17: =IF(AE17="","",COUNTIFS('2추 세출'!$AE$6:$AE$264,AE17)) -> #NAME? | AQ17: =IF(AA17=AO17,"OK","@@") -> #NAME?
A18: =IFERROR(VLOOKUP($C18,구분표!$A$2:$C$300,2,FALSE),"") -> 보건복지위원회 | B18: =IFERROR(VLOOKUP($C18,[2]구분표!$A$2:$C$300,3,FALSE),"") -> 보건복지국 | C18: 장애인복지과 | D18: 본예산 | E18: 56 | F18: 국고보조금 (장애인연금) | H18: 95838000 | I18: =IF(D18="","",G18-H18) -> -95838000 | K18: 2292372 | L18: =IF(G18=0,H18+J18+K18,G18+J18+K18) -> 98130372 | O18: =IF(G18=0,H18+M18+N18,G18+M18+N18) -> 95838000 | P18: =IF(AND((L18=0),(O18>0)),"O",IF(AND((J18<0),(L18-O18<0)),"O","X")) -> X | Q18: 국비 변경내시 ※ 보건복지부 장애인자립기반과-7534(2015.9.4)호 | V18: =IF($U18<>"도비",IF($S18="국도비","직접입력",SUM($J18:$K18)),) -> 2292372 | W18: =IF($U18="도비",SUM($J18:$K18),IF($S18="국도비","직접입력",SUM($J18:$K18)-$V18)) -> 0 | X18: =IF(SUM($J18:$K18)=SUM($V18:$W18),"OK","검토") -> OK | AA18: =IF($U18<>"도비",IF($S18="국도비","직접입력",SUM($M18:$N18)),) -> 0 | AB18: =IF($U18="도비",SUM(M18:N18),IF($S18="국도비","직접입력",SUM(M18:N18)-AA18)) -> 0 | AC18: =IF(SUM(M18:N18)=SUM(AA18:AB18),"OK","검토") -> OK | AE18: =IF(AG18="","",IF(U18="도비","세입없음",AG18&"-"&test(COUNTIF($AG$7:AG18,AG18),"00"))) -> #NAME? | AG18: {=IF(C18="","",INDEX(구분표!$I$2:$I$300, MATCH(1,(구분표!$E$2:$E$300='2추 세입'!B18)*(구분표!$F$2:$F$300='2추 세입'!C18)*(구분표!$G$2:$G$300='2추 세입'!A18),0)))} -> 0704 | AK18: =IF(AE18="",0,SUMIFS('2추 세출'!$V$6:$V$264,'2추 세출'!$AE$6:$AE$264,'2추 세입'!$AE18)) -> #NAME? | AL18: =IF(AE18="","",COUNTIFS('2추 세출'!$AE$6:$AE$264,'2추 세입'!AE18)) -> #NAME? | AM18: =IF(V18=AK18,"OK","@@") -> #NAME? | AO18: =IF(AE18="",0,SUMIFS('2추 세출'!$AA$6:$AA$264,'2추 세출'!$AE$6:$AE$264,'2추 세입'!$AE18)) -> #NAME? | AP18: =IF(AE18="","",COUNTIFS('2추 세출'!$AE$6:$AE$264,AE18)) -> #NAME? | AQ18: =IF(AA18=AO18,"OK","@@") -> #NAME?
A19: =IFERROR(VLOOKUP($C19,구분표!$A$2:$C$300,2,FALSE),"") -> 보건복지위원회 | B19: =IFERROR(VLOOKUP($C19,[2]구분표!$A$2:$C$300,3,FALSE),"") -> 보건복지국 | C19: 보건정책과 | D19: 1회추경 | E19: 24 | F19: 국고보조금 (급성감염병관리사업) | H19: 379000 | I19: =IF(D19="","",G19-H19) -> -379000 | K19: 149400 | L19: =IF(G19=0,H19+J19+K19,G19+J19+K19) -> 528400 | O19: =IF(G19=0,H19+M19+N19,G19+M19+N19) -> 379000 | P19: =IF(AND((L19=0),(O19>0)),"O",IF(AND((J19<0),(L19-O19<0)),"O","X")) -> X | Q19: 국비 변경내시 ※ 질병관리본부 감염병관리과-2539(2015.8.17.)호 | V19: =IF($U19<>"도비",IF($S19="국도비","직접입력",SUM($J19:$K19)),) -> 149400 | W19: =IF($U19="도비",SUM($J19:$K19),IF($S19="국도비","직접입력",SUM($J19:$K19)-$V19)) -> 0 | X19: =IF(SUM($J19:$K19)=SUM($V19:$W19),"OK","검토") -> OK | AA19: =IF($U19<>"도비",IF($S19="국도비","직접입력",SUM($M19:$N19)),) -> 0 | AB19: =IF($U19="도비",SUM(M19:N19),IF($S19="국도비","직접입력",SUM(M19:N19)-AA19)) -> 0 | AC19: =IF(SUM(M19:N19)=SUM(AA19:AB19),"OK","검토") -> OK | AE19: =IF(AG19="","",IF(U19="도비","세입없음",AG19&"-"&test(COUNTIF($AG$7:AG19,AG19),"00"))) -> #NAME? | AG19: {=IF(C19="","",INDEX(구분표!$I$2:$I$300, MATCH(1,(구분표!$E$2:$E$300='2추 세입'!B19)*(구분표!$F$2:$F$300='2추 세입'!C19)*(구분표!$G$2:$G$300='2추 세입'!A19),0)))} -> 0705 | AK19: =IF(AE19="",0,SUMIFS('2추 세출'!$V$6:$V$264,'2추 세출'!$AE$6:$AE$264,'2추 세입'!$AE19)) -> #NAME? | AL19: =IF(AE19="","",COUNTIFS('2추 세출'!$AE$6:$AE$264,'2추 세입'!AE19)) -> #NAME? | AM19: =IF(V19=AK19,"OK","@@") -> #NAME? | AO19: =IF(AE19="",0,SUMIFS('2추 세출'!$AA$6:$AA$264,'2추 세출'!$AE$6:$AE$264,'2추 세입'!$AE19)) -> #NAME? | AP19: =IF(AE19="","",COUNTIFS('2추 세출'!$AE$6:$AE$264,AE19)) -> #NAME? | AQ19: =IF(AA19=AO19,"OK","@@") -> #NAME?
A20: =IFERROR(VLOOKUP($C20,구분표!$A$2:$C$300,2,FALSE),"") -> 보건복지위원회 | B20: =IFERROR(VLOOKUP($C20,[2]구분표!$A$2:$C$300,3,FALSE),"") -> 보건복지국 | C20: 보건정책과 | E20: 568 | F20: 국고보조금 (감염병관리 시설 및 장비확충) | G20: 5625280 | I20: =IF(D20="","",G20-H20) | J20: -1531082 | L20: =IF(G20=0,H20+J20+K20,G20+J20+K20) -> 4094198 | O20: =IF(G20=0,H20+M20+N20,G20+M20+N20) -> 5625280 | P20: =IF(AND((L20=0),(O20>0)),"O",IF(AND((J20<0),(L20-O20<0)),"O","X")) -> O | Q20: 국비 변경내시 ※ 질병관리본부 공중보건위기대응과-2338(2015.8.21)호 ※ 보건복지부 응급의료과-6007(2015.9.3)호 | V20: =IF($U20<>"도비",IF($S20="국도비","직접입력",SUM($J20:$K20)),) -> -1531082 | W20: =IF($U20="도비",SUM($J20:$K20),IF($S20="국도비","직접입력",SUM($J20:$K20)-$V20)) -> 0 | X20: =IF(SUM($J20:$K20)=SUM($V20:$W20),"OK","검토") -> OK | AA20: =IF($U20<>"도비",IF($S20="국도비","직접입력",SUM($M20:$N20)),) -> 0 | AB20: =IF($U20="도비",SUM(M20:N20),IF($S20="국도비","직접입력",SUM(M20:N20)-AA20)) -> 0 | AC20: =IF(SUM(M20:N20)=SUM(AA20:AB20),"OK","검토") -> OK | AE20: =IF(AG20="","",IF(U20="도비","세입없음",AG20&"-"&test(COUNTIF($AG$7:AG20,AG20),"00"))) -> #NAME? | AG20: {=IF(C20="","",INDEX(구분표!$I$2:$I$300, MATCH(1,(구분표!$E$2:$E$300='2추 세입'!B20)*(구분표!$F$2:$F$300='2추 세입'!C20)*(구분표!$G$2:$G$300='2추 세입'!A20),0)))} -> 0705 | AK20: =IF(AE20="",0,SUMIFS('2추 세출'!$V$6:$V$264,'2추 세출'!$AE$6:$AE$264,'2추 세입'!$AE20)) -> #NAME? | AL20: =IF(AE20="","",COUNTIFS('2추 세출'!$AE$6:$AE$264,'2추 세입'!AE20)) -> #NAME? | AM20: =IF(V20=AK20,"OK","@@") -> #NAME? | AO20: =IF(AE20="",0,SUMIFS('2추 세출'!$AA$6:$AA$264,'2추 세출'!$AE$6:$AE$264,'2추 세입'!$AE20)) -> #NAME? | AP20: =IF(AE20="","",COUNTIFS('2추 세출'!$AE$6:$AE$264,AE20)) -> #NAME? | AQ20: =IF(AA20=AO20,"OK","@@") -> #NAME?
A21: =IFERROR(VLOOKUP($C21,구분표!$A$2:$C$300,2,FALSE),"") -> 보건복지위원회 | B21: =IFERROR(VLOOKUP($C21,[2]구분표!$A$2:$C$300,3,FALSE),"") -> 보건복지국 | C21: 보건정책과 | E21: 568 | F21: 기금 (취약지역 응급의료기관 운영) | G21: 3325000 | H21: 3220000 | I21: =IF(D21="","",G21-H21) | J21: -1440000 | L21: =IF(G21=0,H21+J21+K21,G21+J21+K21) -> 1885000 | O21: =IF(G21=0,H21+M21+N21,G21+M21+N21) -> 3325000 | P21: =IF(AND((L21=0),(O21>0)),"O",IF(AND((J21<0),(L21-O21<0)),"O","X")) -> O | Q21: 국비 변경내시 ※ 보건복지부 응급의료과-5440(2015.8.7.)호 | V21: =IF($U21<>"도비",IF($S21="국도비","직접입력",SUM($J21:$K21)),) -> -1440000 | W21: =IF($U21="도비",SUM($J21:$K21),IF($S21="국도비","직접입력",SUM($J21:$K21)-$V21)) -> 0 | X21: =IF(SUM($J21:$K21)=SUM($V21:$W21),"OK","검토") -> OK | AA21: =IF($U21<>"도비",IF($S21="국도비","직접입력",SUM($M21:$N21)),) -> 0 | AB21: =IF($U21="도비",SUM(M21:N21),IF($S21="국도비","직접입력",SUM(M21:N21)-AA21)) -> 0 | AC21: =IF(SUM(M21:N21)=SUM(AA21:AB21),"OK","검토") -> OK | AE21: =IF(AG21="","",IF(U21="도비","세입없음",AG21&"-"&test(COUNTIF($AG$7:AG21,AG21),"00"))) -> #NAME? | AG21: {=IF(C21="","",INDEX(구분표!$I$2:$I$300, MATCH(1,(구분표!$E$2:$E$300='2추 세입'!B21)*(구분표!$F$2:$F$300='2추 세입'!C21)*(구분표!$G$2:$G$300='2추 세입'!A21),0)))} -> 0705 | AK21: =IF(AE21="",0,SUMIFS('2추 세출'!$V$6:$V$264,'2추 세출'!$AE$6:$AE$264,'2추 세입'!$AE21)) -> #NAME? | AL21: =IF(AE21="","",COUNTIFS('2추 세출'!$AE$6:$AE$264,'2추 세입'!AE21)) -> #NAME? | AM21: =IF(V21=AK21,"OK","@@") -> #NAME? | AO21: =IF(AE21="",0,SUMIFS('2추 세출'!$AA$6:$AA$264,'2추 세출'!$AE$6:$AE$264,'2추 세입'!$AE21)) -> #NAME? | AP21: =IF(AE21="","",COUNTIFS('2추 세출'!$AE$6:$AE$264,AE21)) -> #NAME? | AQ21: =IF(AA21=AO21,"OK","@@") -> #NAME?
A22: =IFERROR(VLOOKUP($C22,구분표!$A$2:$C$300,2,FALSE),"") -> 보건복지위원회 | B22: =IFERROR(VLOOKUP($C22,[2]구분표!$A$2:$C$300,3,FALSE),"") -> 보건복지국 | C22: 보건정책과 | E22: 568 | F22: 기금 (국내외재난의료지원) | G22: 666935 | H22: 558935 | I22: =IF(D22="","",G22-H22) | K22: 77000 | L22: =IF(G22=0,H22+J22+K22,G22+J22+K22) -> 743935 | O22: =IF(G22=0,H22+M22+N22,G22+M22+N22) -> 666935 | P22: =IF(AND((L22=0),(O22>0)),"O",IF(AND((J22<0),(L22-O22<0)),"O","X")) -> X | Q22: 국비 변경내시 ※ 보건복지부 응급의료과-5928(2015.8.31)호 | V22: =IF($U22<>"도비",IF($S22="국도비","직접입력",SUM($J22:$K22)),) -> 77000 | W22: =IF($U22="도비",SUM($J22:$K22),IF($S22="국도비","직접입력",SUM($J22:$K22)-$V22)) -> 0 | X22: =IF(SUM($J22:$K22)=SUM($V22:$W22),"OK","검토") -> OK | AA22: =IF($U22<>"도비",IF($S22="국도비","직접입력",SUM($M22:$N22)),) -> 0 | AB22: =IF($U22="도비",SUM(M22:N22),IF($S22="국도비","직접입력",SUM(M22:N22)-AA22)) -> 0 | AC22: =IF(SUM(M22:N22)=SUM(AA22:AB22),"OK","검토") -> OK | AE22: =IF(AG22="","",IF(U22="도비","세입없음",AG22&"-"&test(COUNTIF($AG$7:AG22,AG22),"00"))) -> #NAME? | AG22: {=IF(C22="","",INDEX(구분표!$I$2:$I$300, MATCH(1,(구분표!$E$2:$E$300='2추 세입'!B22)*(구분표!$F$2:$F$300='2추 세입'!C22)*(구분표!$G$2:$G$300='2추 세입'!A22),0)))} -> 0705 | AK22: =IF(AE22="",0,SUMIFS('2추 세출'!$V$6:$V$264,'2추 세출'!$AE$6:$AE$264,'2추 세입'!$AE22)) -> #NAME? | AL22: =IF(AE22="","",COUNTIFS('2추 세출'!$AE$6:$AE$264,'2추 세입'!AE22)) -> #NAME? | AM22: =IF(V22=AK22,"OK","@@") -> #NAME? | AO22: =IF(AE22="",0,SUMIFS('2추 세출'!$AA$6:$AA$264,'2추 세출'!$AE$6:$AE$264,'2추 세입'!$AE22)) -> #NAME? | AP22: =IF(AE22="","",COUNTIFS('2추 세출'!$AE$6:$AE$264,AE22)) -> #NAME? | AQ22: =IF(AA22=AO22,"OK","@@") -> #NAME?
A23: =IFERROR(VLOOKUP($C23,구분표!$A$2:$C$300,2,FALSE),"") -> 보건복지위원회 | B23: =IFERROR(VLOOKUP($C23,[2]구분표!$A$2:$C$300,3,FALSE),"") -> 보건복지국 | C23: 건강증진과 | E23: 569 | F23: 기금 (암환자지원사업) | G23: 4793303 | H23: 4312387 | I23: =IF(D23="","",G23-H23) | K23: 44439 | L23: =IF(G23=0,H23+J23+K23,G23+J23+K23) -> 4837742 | O23: =IF(G23=0,H23+M23+N23,G23+M23+N23) -> 4793303 | P23: =IF(AND((L23=0),(O23>0)),"O",IF(AND((J23<0),(L23-O23<0)),"O","X")) -> X | Q23: 국비 변경내시 ※ 보건복지부 질병정책과-6448(2015.9.9.)호 | V23: =IF($U23<>"도비",IF($S23="국도비","직접입력",SUM($J23:$K23)),) -> 44439 | W23: =IF($U23="도비",SUM($J23:$K23),IF($S23="국도비","직접입력",SUM($J23:$K23)-$V23)) -> 0 | X23: =IF(SUM($J23:$K23)=SUM($V23:$W23),"OK","검토") -> OK | AA23: =IF($U23<>"도비",IF($S23="국도비","직접입력",SUM($M23:$N23)),) -> 0 | AB23: =IF($U23="도비",SUM(M23:N23),IF($S23="국도비","직접입력",SUM(M23:N23)-AA23)) -> 0 | AC23: =IF(SUM(M23:N23)=SUM(AA23:AB23),"OK","검토") -> OK | AE23: =IF(AG23="","",IF(U23="도비","세입없음",AG23&"-"&test(COUNTIF($AG$7:AG23,AG23),"00"))) -> #NAME? | AG23: {=IF(C23="","",INDEX(구분표!$I$2:$I$300, MATCH(1,(구분표!$E$2:$E$300='2추 세입'!B23)*(구분표!$F$2:$F$300='2추 세입'!C23)*(구분표!$G$2:$G$300='2추 세입'!A23),0)))} -> 0706 | AK23: =IF(AE23="",0,SUMIFS('2추 세출'!$V$6:$V$264,'2추 세출'!$AE$6:$AE$264,'2추 세입'!$AE23)) -> #NAME? | AL23: =IF(AE23="","",COUNTIFS('2추 세출'!$AE$6:$AE$264,'2추 세입'!AE23)) -> #NAME? | AM23: =IF(V23=AK23,"OK","@@") -> #NAME? | AO23: =IF(AE23="",0,SUMIFS('2추 세출'!$AA$6:$AA$264,'2추 세출'!$AE$6:$AE$264,'2추 세입'!$AE23)) -> #NAME? | AP23: =IF(AE23="","",COUNTIFS('2추 세출'!$AE$6:$AE$264,AE23)) -> #NAME? | AQ23: =IF(AA23=AO23,"OK","@@") -> #NAME?
A24: 도시환경위원회 | B24: 수자원본부 | C24: 상하수과 | D24: 1회추경 | E24: 761 | F24: 도시침수대응 | G24: 38242000 | H24: 38431000 | I24: =IF(D24="","",G24-H24) -> -189000 | K24: 3310000 | L24: =IF(G24=0,H24+J24+K24,G24+J24+K24) -> 41552000 | O24: =IF(G24=0,H24+M24+N24,G24+M24+N24) -> 38242000 | P24: =IF(AND((L24=0),(O24>0)),"O",IF(AND((J24<0),(L24-O24<0)),"O","X")) -> X | Q24: 환경부 국비 증액내시에 따른 예산 증액 ※한강유역환경청 수질총량관리과-7909(15.8.21)호 | V24: =IF($U24<>"도비",IF($S24="국도비","직접입력",SUM($J24:$K24)),) -> 3310000 | W24: =IF($U24="도비",SUM($J24:$K24),IF($S24="국도비","직접입력",SUM($J24:$K24)-$V24)) -> 0 | X24: =IF(SUM($J24:$K24)=SUM($V24:$W24),"OK","검토") -> OK | AA24: =IF($U24<>"도비",IF($S24="국도비","직접입력",SUM($M24:$N24)),) -> 0 | AB24: =IF($U24="도비",SUM(M24:N24),IF($S24="국도비","직접입력",SUM(M24:N24)-AA24)) -> 0 | AC24: =IF(SUM(M24:N24)=SUM(AA24:AB24),"OK","검토") -> OK | AE24: =IF(AG24="","",IF(U24="도비","세입없음",AG24&"-"&test(COUNTIF($AG$7:AG24,AG24),"00"))) -> #N/A | AG24: {=IF(C24="","",INDEX(구분표!$I$2:$I$300, MATCH(1,(구분표!$E$2:$E$300='2추 세입'!B24)*(구분표!$F$2:$F$300='2추 세입'!C24)*(구분표!$G$2:$G$300='2추 세입'!A24),0)))} -> #N/A | AK24: =IF(AE24="",0,SUMIFS('2추 세출'!$V$6:$V$264,'2추 세출'!$AE$6:$AE$264,'2추 세입'!$AE24)) -> #N/A | AL24: =IF(AE24="","",COUNTIFS('2추 세출'!$AE$6:$AE$264,'2추 세입'!AE24)) -> #N/A | AM24: =IF(V24=AK24,"OK","@@") -> #N/A | AO24: =IF(AE24="",0,SUMIFS('2추 세출'!$AA$6:$AA$264,'2추 세출'!$AE$6:$AE$264,'2추 세입'!$AE24)) -> #N/A | AP24: =IF(AE24="","",COUNTIFS('2추 세출'!$AE$6:$AE$264,AE24)) -> #N/A | AQ24: =IF(AA24=AO24,"OK","@@") -> #N/A
A25: 도시환경위원회 | B25: 수자원본부 | C25: 상하수과 | D25: 1회추경 | E25: 761 | F25: 하수처리장 확충 | G25: 109356000 | H25: 110747000 | I25: =IF(D25="","",G25-H25) -> -1391000 | J25: -6902000 | L25: =IF(G25=0,H25+J25+K25,G25+J25+K25) -> 102454000 | O25: =IF(G25=0,H25+M25+N25,G25+M25+N25) -> 109356000 | P25: =IF(AND((L25=0),(O25>0)),"O",IF(AND((J25<0),(L25-O25<0)),"O","X")) -> O | Q25: 환경부 국비 감액내시에 따른 예산 감액 ※한강유역환경청 수질총량관리과-7277(15.8.4)호, 수질총량관리과-7909(2015.8.21)호 | V25: =IF($U25<>"도비",IF($S25="국도비","직접입력",SUM($J25:$K25)),) -> -6902000 | W25: =IF($U25="도비",SUM($J25:$K25),IF($S25="국도비","직접입력",SUM($J25:$K25)-$V25)) -> 0 | X25: =IF(SUM($J25:$K25)=SUM($V25:$W25),"OK","검토") -> OK | AA25: =IF($U25<>"도비",IF($S25="국도비","직접입력",SUM($M25:$N25)),) -> 0 | AB25: =IF($U25="도비",SUM(M25:N25),IF($S25="국도비","직접입력",SUM(M25:N25)-AA25)) -> 0 | AC25: =IF(SUM(M25:N25)=SUM(AA25:AB25),"OK","검토") -> OK | AE25: =IF(AG25="","",IF(U25="도비","세입없음",AG25&"-"&test(COUNTIF($AG$7:AG25,AG25),"00"))) -> #N/A | AG25: {=IF(C25="","",INDEX(구분표!$I$2:$I$300, MATCH(1,(구분표!$E$2:$E$300='2추 세입'!B25)*(구분표!$F$2:$F$300='2추 세입'!C25)*(구분표!$G$2:$G$300='2추 세입'!A25),0)))} -> #N/A | AK25: =IF(AE25="",0,SUMIFS('2추 세출'!$V$6:$V$264,'2추 세출'!$AE$6:$AE$264,'2추 세입'!$AE25)) -> #N/A | AL25: =IF(AE25="","",COUNTIFS('2추 세출'!$AE$6:$AE$264,'2추 세입'!AE25)) -> #N/A | AM25: =IF(V25=AK25,"OK","@@") -> #N/A | AO25: =IF(AE25="",0,SUMIFS('2추 세출'!$AA$6:$AA$264,'2추 세출'!$AE$6:$AE$264,'2추 세입'!$AE25)) -> #N/A | AP25: =IF(AE25="","",COUNTIFS('2추 세출'!$AE$6:$AE$264,AE25)) -> #N/A | AQ25: =IF(AA25=AO25,"OK","@@") -> #N/A
A26: 도시환경위원회 | B26: 수자원본부 | C26: 상하수과 | D26: 1회추경 | E26: 761 | F26: 농어촌마을 하수처리장 설치 | G26: 22506000 | H26: 23264000 | I26: =IF(D26="","",G26-H26) -> -758000 | K26: 564000 | L26: =IF(G26=0,H26+J26+K26,G26+J26+K26) -> 23070000 | O26: =IF(G26=0,H26+M26+N26,G26+M26+N26) -> 22506000 | P26: =IF(AND((L26=0),(O26>0)),"O",IF(AND((J26<0),(L26-O26<0)),"O","X")) -> X | Q26: 환경부 국비 증액내시에 따른 예산 증액 ※한강유역환경청 수질총량관리과-7277(15.8.4)호, 수질총량관리과-7909(2015.8.21)호 | V26: =IF($U26<>"도비",IF($S26="국도비","직접입력",SUM($J26:$K26)),) -> 564000 | W26: =IF($U26="도비",SUM($J26:$K26),IF($S26="국도비","직접입력",SUM($J26:$K26)-$V26)) -> 0 | X26: =IF(SUM($J26:$K26)=SUM($V26:$W26),"OK","검토") -> OK | AA26: =IF($U26<>"도비",IF($S26="국도비","직접입력",SUM($M26:$N26)),) -> 0 | AB26: =IF($U26="도비",SUM(M26:N26),IF($S26="국도비","직접입력",SUM(M26:N26)-AA26)) -> 0 | AC26: =IF(SUM(M26:N26)=SUM(AA26:AB26),"OK","검토") -> OK | AE26: =IF(AG26="","",IF(U26="도비","세입없음",AG26&"-"&test(COUNTIF($AG$7:AG26,AG26),"00"))) -> #N/A | AG26: {=IF(C26="","",INDEX(구분표!$I$2:$I$300, MATCH(1,(구분표!$E$2:$E$300='2추 세입'!B26)*(구분표!$F$2:$F$300='2추 세입'!C26)*(구분표!$G$2:$G$300='2추 세입'!A26),0)))} -> #N/A | AK26: =IF(AE26="",0,SUMIFS('2추 세출'!$V$6:$V$264,'2추 세출'!$AE$6:$AE$264,'2추 세입'!$AE26)) -> #N/A | AL26: =IF(AE26="","",COUNTIFS('2추 세출'!$AE$6:$AE$264,'2추 세입'!AE26)) -> #N/A | AM26: =IF(V26=AK26,"OK","@@") -> #N/A | AO26: =IF(AE26="",0,SUMIFS('2추 세출'!$AA$6:$AA$264,'2추 세출'!$AE$6:$AE$264,'2추 세입'!$AE26)) -> #N/A | AP26: =IF(AE26="","",COUNTIFS('2추 세출'!$AE$6:$AE$264,AE26)) -> #N/A | AQ26: =IF(AA26=AO26,"OK","@@") -> #N/A
A27: 도시환경위원회 | B27: 수자원본부 | C27: 상하수과 | D27: 1회추경 | E27: 761 | F27: 하수관로 정비사업 | G27: 184848000 | H27: 190237000 | I27: =IF(D27="","",G27-H27) -> -5389000 | K27: 11189000 | L27: =IF(G27=0,H27+J27+K27,G27+J27+K27) -> 196037000 | O27: =IF(G27=0,H27+M27+N27,G27+M27+N27) -> 184848000 | P27: =IF(AND((L27=0),(O27>0)),"O",IF(AND((J27<0),(L27-O27<0)),"O","X")) -> X | Q27: 환경부 국비 증액내시에 따른 예산 증액 ※한강유역환경청 수질총량관리과-7277(15.8.4)호, 수질총량관리과-7909(2015.8.21)호 | V27: =IF($U27<>"도비",IF($S27="국도비","직접입력",SUM($J27:$K27)),) -> 11189000 | W27: =IF($U27="도비",SUM($J27:$K27),IF($S27="국도비","직접입력",SUM($J27:$K27)-$V27)) -> 0 | X27: =IF(SUM($J27:$K27)=SUM($V27:$W27),"OK","검토") -> OK | AA27: =IF($U27<>"도비",IF($S27="국도비","직접입력",SUM($M27:$N27)),) -> 0 | AB27: =IF($U27="도비",SUM(M27:N27),IF($S27="국도비","직접입력",SUM(M27:N27)-AA27)) -> 0 | AC27: =IF(SUM(M27:N27)=SUM(AA27:AB27),"OK","검토") -> OK | AE27: =IF(AG27="","",IF(U27="도비","세입없음",AG27&"-"&test(COUNTIF($AG$7:AG27,AG27),"00"))) -> #N/A | AG27: {=IF(C27="","",INDEX(구분표!$I$2:$I$300, MATCH(1,(구분표!$E$2:$E$300='2추 세입'!B27)*(구분표!$F$2:$F$300='2추 세입'!C27)*(구분표!$G$2:$G$300='2추 세입'!A27),0)))} -> #N/A | AK27: =IF(AE27="",0,SUMIFS('2추 세출'!$V$6:$V$264,'2추 세출'!$AE$6:$AE$264,'2추 세입'!$AE27)) -> #N/A | AL27: =IF(AE27="","",COUNTIFS('2추 세출'!$AE$6:$AE$264,'2추 세입'!AE27)) -> #N/A | AM27: =IF(V27=AK27,"OK","@@") -> #N/A | AO27: =IF(AE27="",0,SUMIFS('2추 세출'!$AA$6:$AA$264,'2추 세출'!$AE$6:$AE$264,'2추 세입'!$AE27)) -> #N/A | AP27: =IF(AE27="","",COUNTIFS('2추 세출'!$AE$6:$AE$264,AE27)) -> #N/A | AQ27: =IF(AA27=AO27,"OK","@@") -> #N/A
A28: 도시환경위원회 | B28: 수자원본부 | C28: 상하수과 | D28: 본예산 | F28: 면단위하수처리장 설치 | G28: 0 | H28: 69000 | I28: =IF(D28="","",G28-H28) -> -69000 | K28: 1500000 | L28: =IF(G28=0,H28+J28+K28,G28+J28+K28) -> 1569000 | O28: =IF(G28=0,H28+M28+N28,G28+M28+N28) -> 69000 | P28: =IF(AND((L28=0),(O28>0)),"O",IF(AND((J28<0),(L28-O28<0)),"O","X")) -> X | Q28: 환경부 국비 증액내시에 따른 예산 증액 ※한강유역환경청 수질총량관리과-7277(15.8.4)호, 수질총량관리과-7909(2015.8.21)호 | V28: =IF($U28<>"도비",IF($S28="국도비","직접입력",SUM($J28:$K28)),) -> 1500000 | W28: =IF($U28="도비",SUM($J28:$K28),IF($S28="국도비","직접입력",SUM($J28:$K28)-$V28)) -> 0 | X28: =IF(SUM($J28:$K28)=SUM($V28:$W28),"OK","검토") -> OK | AA28: =IF($U28<>"도비",IF($S28="국도비","직접입력",SUM($M28:$N28)),) -> 0 | AB28: =IF($U28="도비",SUM(M28:N28),IF($S28="국도비","직접입력",SUM(M28:N28)-AA28)) -> 0 | AC28: =IF(SUM(M28:N28)=SUM(AA28:AB28),"OK","검토") -> OK | AE28: =IF(AG28="","",IF(U28="도비","세입없음",AG28&"-"&test(COUNTIF($AG$7:AG28,AG28),"00"))) -> #N/A | AG28: {=IF(C28="","",INDEX(구분표!$I$2:$I$300, MATCH(1,(구분표!$E$2:$E$300='2추 세입'!B28)*(구분표!$F$2:$F$300='2추 세입'!C28)*(구분표!$G$2:$G$300='2추 세입'!A28),0)))} -> #N/A | AK28: =IF(AE28="",0,SUMIFS('2추 세출'!$V$6:$V$264,'2추 세출'!$AE$6:$AE$264,'2추 세입'!$AE28)) -> #N/A | AL28: =IF(AE28="","",COUNTIFS('2추 세출'!$AE$6:$AE$264,'2추 세입'!AE28)) -> #N/A | AM28: =IF(V28=AK28,"OK","@@") -> #N/A | AO28: =IF(AE28="",0,SUMIFS('2추 세출'!$AA$6:$AA$264,'2추 세출'!$AE$6:$AE$264,'2추 세입'!$AE28)) -> #N/A | AP28: =IF(AE28="","",COUNTIFS('2추 세출'!$AE$6:$AE$264,AE28)) -> #N/A | AQ28: =IF(AA28=AO28,"OK","@@") -> #N/A
A29: =IFERROR(VLOOKUP($C29,구분표!$A$2:$C$300,2,FALSE),"") -> 도시환경위원회 | B29: 환경국 | C29: 환경정책과 | D29: 신규 | F29: 도시소생태사업 조성사업(국비/지원) | G29: 0 | H29: 0 | I29: =IF(D29="","",G29-H29) -> 0 | K29: 110000 | L29: =IF(G29=0,H29+J29+K29,G29+J29+K29) -> 110000 | O29: =IF(G29=0,H29+M29+N29,G29+M29+N29) -> 0 | P29: =IF(AND((L29=0),(O29>0)),"O",IF(AND((J29<0),(L29-O29<0)),"O","X")) -> X | Q29: 환경부 국비 증액내시에 따른 예산 증액 ※환경부 자연정책과-4360(2015.9.8)호 | V29: =IF($U29<>"도비",IF($S29="국도비","직접입력",SUM($J29:$K29)),) -> 110000 | W29: =IF($U29="도비",SUM($J29:$K29),IF($S29="국도비","직접입력",SUM($J29:$K29)-$V29)) -> 0 | X29: =IF(SUM($J29:$K29)=SUM($V29:$W29),"OK","검토") -> OK | AA29: =IF($U29<>"도비",IF($S29="국도비","직접입력",SUM($M29:$N29)),) -> 0 | AB29: =IF($U29="도비",SUM(M29:N29),IF($S29="국도비","직접입력",SUM(M29:N29)-AA29)) -> 0 | AC29: =IF(SUM(M29:N29)=SUM(AA29:AB29),"OK","검토") -> OK | AE29: =IF(AG29="","",IF(U29="도비","세입없음",AG29&"-"&test(COUNTIF($AG$7:AG29,AG29),"00"))) -> #NAME? | AG29: {=IF(C29="","",INDEX(구분표!$I$2:$I$300, MATCH(1,(구분표!$E$2:$E$300='2추 세입'!B29)*(구분표!$F$2:$F$300='2추 세입'!C29)*(구분표!$G$2:$G$300='2추 세입'!A29),0)))} -> 0911 | AK29: =IF(AE29="",0,SUMIFS('2추 세출'!$V$6:$V$264,'2추 세출'!$AE$6:$AE$264,'2추 세입'!$AE29)) -> #NAME? | AL29: =IF(AE29="","",COUNTIFS('2추 세출'!$AE$6:$AE$264,'2추 세입'!AE29)) -> #NAME? | AM29: =IF(V29=AK29,"OK","@@") -> #NAME? | AO29: =IF(AE29="",0,SUMIFS('2추 세출'!$AA$6:$AA$264,'2추 세출'!$AE$6:$AE$264,'2추 세입'!$AE29)) -> #NAME? | AP29: =IF(AE29="","",COUNTIFS('2추 세출'!$AE$6:$AE$264,AE29)) -> #NAME? | AQ29: =IF(AA29=AO29,"OK","@@") -> #NAME?
A30: =IFERROR(VLOOKUP($C30,구분표!$A$2:$C$300,2,FALSE),"") -> 안전행정위원회 | B30: 재난안전본부 | C30: 재난대응과 | D30: 신규 | E30: 387 | F30: 감염병시설 및 장비확충 | G30: 704000 | H30: 0 | I30: =IF(D30="","",G30-H30) -> 704000 | L30: =IF(G30=0,H30+J30+K30,G30+J30+K30) -> 704000 | O30: =IF(G30=0,H30+M30+N30,G30+M30+N30) -> 704000 | P30: =IF(AND((L30=0),(O30>0)),"O",IF(AND((J30<0),(L30-O30<0)),"O","X")) -> X | Q30: 기금-->국고보조금으로 세입과목 변경 | V30: =IF($U30<>"도비",IF($S30="국도비","직접입력",SUM($J30:$K30)),) -> 0 | W30: =IF($U30="도비",SUM($J30:$K30),IF($S30="국도비","직접입력",SUM($J30:$K30)-$V30)) -> 0 | X30: =IF(SUM($J30:$K30)=SUM($V30:$W30),"OK","검토") -> OK | AA30: =IF($U30<>"도비",IF($S30="국도비","직접입력",SUM($M30:$N30)),) -> 0 | AB30: =IF($U30="도비",SUM(M30:N30),IF($S30="국도비","직접입력",SUM(M30:N30)-AA30)) -> 0 | AC30: =IF(SUM(M30:N30)=SUM(AA30:AB30),"OK","검토") -> OK | AE30: =IF(AG30="","",IF(U30="도비","세입없음",AG30&"-"&test(COUNTIF($AG$7:AG30,AG30),"00"))) -> #NAME? | AG30: {=IF(C30="","",INDEX(구분표!$I$2:$I$300, MATCH(1,(구분표!$E$2:$E$300='2추 세입'!B30)*(구분표!$F$2:$F$300='2추 세입'!C30)*(구분표!$G$2:$G$300='2추 세입'!A30),0)))} -> 0411 | AK30: =IF(AE30="",0,SUMIFS('2추 세출'!$V$6:$V$264,'2추 세출'!$AE$6:$AE$264,'2추 세입'!$AE30)) -> #NAME? | AL30: =IF(AE30="","",COUNTIFS('2추 세출'!$AE$6:$AE$264,'2추 세입'!AE30)) -> #NAME? | AM30: =IF(V30=AK30,"OK","@@") -> #NAME? | AO30: =IF(AE30="",0,SUMIFS('2추 세출'!$AA$6:$AA$264,'2추 세출'!$AE$6:$AE$264,'2추 세입'!$AE30)) -> #NAME? | AP30: =IF(AE30="","",COUNTIFS('2추 세출'!$AE$6:$AE$264,AE30)) -> #NAME? | AQ30: =IF(AA30=AO30,"OK","@@") -> #NAME?
A31: =IFERROR(VLOOKUP($C31,구분표!$A$2:$C$300,2,FALSE),"") -> 문화체육관광위원회 | B31: =IFERROR(VLOOKUP($C31,[3]구분표!$A$2:$C$300,3,FALSE),"") -> 문화체육관광국 | C31: 체육과 | D31: 신규 | F31: 지방체육진흥 지원사업 | G31: 0 | H31: 0 | I31: =IF(D31="","",G31-H31) -> 0 | K31: 925000 | L31: =IF(G31=0,H31+J31+K31,G31+J31+K31) -> 925000 | O31: =IF(G31=0,H31+M31+N31,G31+M31+N31) -> 0 | P31: =IF(AND((L31=0),(O31>0)),"O",IF(AND((J31<0),(L31-O31<0)),"O","X")) -> X | V31: =IF($U31<>"도비",IF($S31="국도비","직접입력",SUM($J31:$K31)),) -> 925000 | W31: =IF($U31="도비",SUM($J31:$K31),IF($S31="국도비","직접입력",SUM($J31:$K31)-$V31)) -> 0 | X31: =IF(SUM($J31:$K31)=SUM($V31:$W31),"OK","검토") -> OK | AA31: =IF($U31<>"도비",IF($S31="국도비","직접입력",SUM($M31:$N31)),) -> 0 | AB31: =IF($U31="도비",SUM(M31:N31),IF($S31="국도비","직접입력",SUM(M31:N31)-AA31)) -> 0 | AC31: =IF(SUM(M31:N31)=SUM(AA31:AB31),"OK","검토") -> OK | AE31: =IF(AG31="","",IF(U31="도비","세입없음",AG31&"-"&test(COUNTIF($AG$7:AG31,AG31),"00"))) -> #NAME? | AG31: {=IF(C31="","",INDEX(구분표!$I$2:$I$300, MATCH(1,(구분표!$E$2:$E$300='2추 세입'!B31)*(구분표!$F$2:$F$300='2추 세입'!C31)*(구분표!$G$2:$G$300='2추 세입'!A31),0)))} -> 0503 | AK31: =IF(AE31="",0,SUMIFS('2추 세출'!$V$6:$V$264,'2추 세출'!$AE$6:$AE$264,'2추 세입'!$AE31)) -> #NAME? | AL31: =IF(AE31="","",COUNTIFS('2추 세출'!$AE$6:$AE$264,'2추 세입'!AE31)) -> #NAME? | AM31: =IF(V31=AK31,"OK","@@") -> #NAME? | AO31: =IF(AE31="",0,SUMIFS('2추 세출'!$AA$6:$AA$264,'2추 세출'!$AE$6:$AE$264,'2추 세입'!$AE31)) -> #NAME? | AP31: =IF(AE31="","",COUNTIFS('2추 세출'!$AE$6:$AE$264,AE31)) -> #NAME? | AQ31: =IF(AA31=AO31,"OK","@@") -> #NAME?
A32: =IFERROR(VLOOKUP($C32,구분표!$A$2:$C$300,2,FALSE),"") -> 문화체육관광위원회 | B32: =IFERROR(VLOOKUP($C32,[3]구분표!$A$2:$C$300,3,FALSE),"") -> 문화체육관광국 | C32: 체육과 | D32: 2회추경 | E32: 452 | F32: 국민체육센터 건립 지원 | G32: 8740000 | H32: 4440000 | I32: =IF(D32="","",G32-H32) -> 4300000 | K32: 2700000 | L32: =IF(G32=0,H32+J32+K32,G32+J32+K32) -> 11440000 | O32: =IF(G32=0,H32+M32+N32,G32+M32+N32) -> 8740000 | P32: =IF(AND((L32=0),(O32>0)),"O",IF(AND((J32<0),(L32-O32<0)),"O","X")) -> X | V32: =IF($U32<>"도비",IF($S32="국도비","직접입력",SUM($J32:$K32)),) -> 2700000 | W32: =IF($U32="도비",SUM($J32:$K32),IF($S32="국도비","직접입력",SUM($J32:$K32)-$V32)) -> 0 | X32: =IF(SUM($J32:$K32)=SUM($V32:$W32),"OK","검토") -> OK | AA32: =IF($U32<>"도비",IF($S32="국도비","직접입력",SUM($M32:$N32)),) -> 0 | AB32: =IF($U32="도비",SUM(M32:N32),IF($S32="국도비","직접입력",SUM(M32:N32)-AA32)) -> 0 | AC32: =IF(SUM(M32:N32)=SUM(AA32:AB32),"OK","검토") -> OK | AE32: =IF(AG32="","",IF(U32="도비","세입없음",AG32&"-"&test(COUNTIF($AG$7:AG32,AG32),"00"))) -> #NAME? | AG32: {=IF(C32="","",INDEX(구분표!$I$2:$I$300, MATCH(1,(구분표!$E$2:$E$300='2추 세입'!B32)*(구분표!$F$2:$F$300='2추 세입'!C32)*(구분표!$G$2:$G$300='2추 세입'!A32),0)))} -> 0503 | AK32: =IF(AE32="",0,SUMIFS('2추 세출'!$V$6:$V$264,'2추 세출'!$AE$6:$AE$264,'2추 세입'!$AE32)) -> #NAME? | AL32: =IF(AE32="","",COUNTIFS('2추 세출'!$AE$6:$AE$264,'2추 세입'!AE32)) -> #NAME? | AM32: =IF(V32=AK32,"OK","@@") -> #NAME? | AO32: =IF(AE32="",0,SUMIFS('2추 세출'!$AA$6:$AA$264,'2추 세출'!$AE$6:$AE$264,'2추 세입'!$AE32)) -> #NAME? | AP32: =IF(AE32="","",COUNTIFS('2추 세출'!$AE$6:$AE$264,AE32)) -> #NAME? | AQ32: =IF(AA32=AO32,"OK","@@") -> #NAME?
A33: =IFERROR(VLOOKUP($C33,구분표!$A$2:$C$300,2,FALSE),"") -> 문화체육관광위원회 | B33: =IFERROR(VLOOKUP($C33,[3]구분표!$A$2:$C$300,3,FALSE),"") -> 문화체육관광국 | C33: 종무과 | D33: 신규 | F33: 호국의승군 기념관 건립 | G33: 0 | H33: 0 | I33: =IF(D33="","",G33-H33) -> 0 | K33: 300000 | L33: =IF(G33=0,H33+J33+K33,G33+J33+K33) -> 300000 | O33: =IF(G33=0,H33+M33+N33,G33+M33+N33) -> 0 | P33: =IF(AND((L33=0),(O33>0)),"O",IF(AND((J33<0),(L33-O33<0)),"O","X")) -> X | V33: =IF($U33<>"도비",IF($S33="국도비","직접입력",SUM($J33:$K33)),) -> 300000 | W33: =IF($U33="도비",SUM($J33:$K33),IF($S33="국도비","직접입력",SUM($J33:$K33)-$V33)) -> 0 | X33: =IF(SUM($J33:$K33)=SUM($V33:$W33),"OK","검토") -> OK | AA33: =IF($U33<>"도비",IF($S33="국도비","직접입력",SUM($M33:$N33)),) -> 0 | AB33: =IF($U33="도비",SUM(M33:N33),IF($S33="국도비","직접입력",SUM(M33:N33)-AA33)) -> 0 | AC33: =IF(SUM(M33:N33)=SUM(AA33:AB33),"OK","검토") -> OK | AE33: =IF(AG33="","",IF(U33="도비","세입없음",AG33&"-"&test(COUNTIF($AG$7:AG33,AG33),"00"))) -> #NAME? | AG33: {=IF(C33="","",INDEX(구분표!$I$2:$I$300, MATCH(1,(구분표!$E$2:$E$300='2추 세입'!B33)*(구분표!$F$2:$F$300='2추 세입'!C33)*(구분표!$G$2:$G$300='2추 세입'!A33),0)))} -> 0502 | AK33: =IF(AE33="",0,SUMIFS('2추 세출'!$V$6:$V$264,'2추 세출'!$AE$6:$AE$264,'2추 세입'!$AE33)) -> #NAME? | AL33: =IF(AE33="","",COUNTIFS('2추 세출'!$AE$6:$AE$264,'2추 세입'!AE33)) -> #NAME? | AM33: =IF(V33=AK33,"OK","@@") -> #NAME? | AO33: =IF(AE33="",0,SUMIFS('2추 세출'!$AA$6:$AA$264,'2추 세출'!$AE$6:$AE$264,'2추 세입'!$AE33)) -> #NAME? | AP33: =IF(AE33="","",COUNTIFS('2추 세출'!$AE$6:$AE$264,AE33)) -> #NAME? | AQ33: =IF(AA33=AO33,"OK","@@") -> #NAME?
A34: =IFERROR(VLOOKUP($C34,구분표!$A$2:$C$300,2,FALSE),"") -> 여성가족교육협력위원회 | B34: 여성가족국 | C34: 여성가족과 | D34: 신규 | E34: 781 | F34: 여성가족과 도비사용잔액 | G34: 433267 | H34: 0 | I34: =IF(D34="","",G34-H34) -> 433267 | J34: -72160 | L34: =IF(G34=0,H34+J34+K34,G34+J34+K34) -> 361107 | O34: =IF(G34=0,H34+M34+N34,G34+M34+N34) -> 433267 | P34: =IF(AND((L34=0),(O34>0)),"O",IF(AND((J34<0),(L34-O34<0)),"O","X")) -> O | Q34: 세입과목 정정 | S34: 도비 | U34: 도비 | V34: =IF($U34<>"도비",IF($S34="국도비","직접입력",SUM($J34:$K34)),) -> 0 | W34: =IF($U34="도비",SUM($J34:$K34),IF($S34="국도비","직접입력",SUM($J34:$K34)-$V34)) -> -72160 | X34: =IF(SUM($J34:$K34)=SUM($V34:$W34),"OK","검토") -> OK | AA34: =IF($U34<>"도비",IF($S34="국도비","직접입력",SUM($M34:$N34)),) -> 0 | AB34: =IF($U34="도비",SUM(M34:N34),IF($S34="국도비","직접입력",SUM(M34:N34)-AA34)) -> 0 | AC34: =IF(SUM(M34:N34)=SUM(AA34:AB34),"OK","검토") -> OK | AE34: =IF(AG34="","",IF(U34="도비","세입없음",AG34&"-"&test(COUNTIF($AG$7:AG34,AG34),"00"))) -> 세입없음 | AG34: {=IF(C34="","",INDEX(구분표!$I$2:$I$300, MATCH(1,(구분표!$E$2:$E$300='2추 세입'!B34)*(구분표!$F$2:$F$300='2추 세입'!C34)*(구분표!$G$2:$G$300='2추 세입'!A34),0)))} -> 1001 | AK34: =IF(AE34="",0,SUMIFS('2추 세출'!$V$6:$V$264,'2추 세출'!$AE$6:$AE$264,'2추 세입'!$AE34)) -> 0 | AL34: =IF(AE34="","",COUNTIFS('2추 세출'!$AE$6:$AE$264,'2추 세입'!AE34)) -> 0 | AM34: =IF(V34=AK34,"OK","@@") -> OK | AO34: =IF(AE34="",0,SUMIFS('2추 세출'!$AA$6:$AA$264,'2추 세출'!$AE$6:$AE$264,'2추 세입'!$AE34)) -> 0 | AP34: =IF(AE34="","",COUNTIFS('2추 세출'!$AE$6:$AE$264,AE34)) -> 0 | AQ34: =IF(AA34=AO34,"OK","@@") -> OK
A35: =IFERROR(VLOOKUP($C35,구분표!$A$2:$C$300,2,FALSE),"") -> 여성가족교육협력위원회 | B35: 여성가족국 | C35: 여성가족과 | D35: 신규 | E35: 782 | F35: 여성가족과 국고보조금 사용잔액 | G35: 941 | H35: 0 | I35: =IF(D35="","",G35-H35) -> 941 | K35: 72162 | L35: =IF(G35=0,H35+J35+K35,G35+J35+K35) -> 73103 | O35: =IF(G35=0,H35+M35+N35,G35+M35+N35) -> 941 | P35: =IF(AND((L35=0),(O35>0)),"O",IF(AND((J35<0),(L35-O35<0)),"O","X")) -> X | Q35: 세입과목 정정 | S35: 도비 | U35: 도비 | V35: =IF($U35<>"도비",IF($S35="국도비","직접입력",SUM($J35:$K35)),) -> 0 | W35: =IF($U35="도비",SUM($J35:$K35),IF($S35="국도비","직접입력",SUM($J35:$K35)-$V35)) -> 72162 | X35: =IF(SUM($J35:$K35)=SUM($V35:$W35),"OK","검토") -> OK | AA35: =IF($U35<>"도비",IF($S35="국도비","직접입력",SUM($M35:$N35)),) -> 0 | AB35: =IF($U35="도비",SUM(M35:N35),IF($S35="국도비","직접입력",SUM(M35:N35)-AA35)) -> 0 | AC35: =IF(SUM(M35:N35)=SUM(AA35:AB35),"OK","검토") -> OK | AE35: =IF(AG35="","",IF(U35="도비","세입없음",AG35&"-"&test(COUNTIF($AG$7:AG35,AG35),"00"))) -> 세입없음 | AG35: {=IF(C35="","",INDEX(구분표!$I$2:$I$300, MATCH(1,(구분표!$E$2:$E$300='2추 세입'!B35)*(구분표!$F$2:$F$300='2추 세입'!C35)*(구분표!$G$2:$G$300='2추 세입'!A35),0)))} -> 1001 | AK35: =IF(AE35="",0,SUMIFS('2추 세출'!$V$6:$V$264,'2추 세출'!$AE$6:$AE$264,'2추 세입'!$AE35)) -> 0 | AL35: =IF(AE35="","",COUNTIFS('2추 세출'!$AE$6:$AE$264,'2추 세입'!AE35)) -> 0 | AM35: =IF(V35=AK35,"OK","@@") -> OK | AO35: =IF(AE35="",0,SUMIFS('2추 세출'!$AA$6:$AA$264,'2추 세출'!$AE$6:$AE$264,'2추 세입'!$AE35)) -> 0 | AP35: =IF(AE35="","",COUNTIFS('2추 세출'!$AE$6:$AE$264,AE35)) -> 0 | AQ35: =IF(AA35=AO35,"OK","@@") -> OK
A36: =IFERROR(VLOOKUP($C36,구분표!$A$2:$C$300,2,FALSE),"") -> 여성가족교육협력위원회 | B36: 여성가족국 | C36: 여성가족과 | D36: 본예산 | E36: 781 | F36: 성폭력방지 및 피해자지원사업 | G36: 2515776 | H36: 2464372 | I36: =IF(D36="","",G36-H36) -> 51404 | K36: 147175 | L36: =IF(G36=0,H36+J36+K36,G36+J36+K36) -> 2662951 | O36: =IF(G36=0,H36+M36+N36,G36+M36+N36) -> 2515776 | P36: =IF(AND((L36=0),(O36>0)),"O",IF(AND((J36<0),(L36-O36<0)),"O","X")) -> X | Q36: ※ 여성가족부 권익정책과-3260(2015.9.11.)호 국비내시 반영 | S36: 국도비 | U36: 국비 | V36: =IF($U36<>"도비",IF($S36="국도비","직접입력",SUM($J36:$K36)),) -> 직접입력 | W36: =IF($U36="도비",SUM($J36:$K36),IF($S36="국도비","직접입력",SUM($J36:$K36)-$V36)) -> 직접입력 | X36: =IF(SUM($J36:$K36)=SUM($V36:$W36),"OK","검토") -> 검토 | AA36: =IF($U36<>"도비",IF($S36="국도비","직접입력",SUM($M36:$N36)),) -> 직접입력 | AB36: =IF($U36="도비",SUM(M36:N36),IF($S36="국도비","직접입력",SUM(M36:N36)-AA36)) -> 직접입력 | AC36: =IF(SUM(M36:N36)=SUM(AA36:AB36),"OK","검토") -> OK | AE36: =IF(AG36="","",IF(U36="도비","세입없음",AG36&"-"&test(COUNTIF($AG$7:AG36,AG36),"00"))) -> #NAME? | AG36: {=IF(C36="","",INDEX(구분표!$I$2:$I$300, MATCH(1,(구분표!$E$2:$E$300='2추 세입'!B36)*(구분표!$F$2:$F$300='2추 세입'!C36)*(구분표!$G$2:$G$300='2추 세입'!A36),0)))} -> 1001 | AK36: =IF(AE36="",0,SUMIFS('2추 세출'!$V$6:$V$264,'2추 세출'!$AE$6:$AE$264,'2추 세입'!$AE36)) -> #NAME? | AL36: =IF(AE36="","",COUNTIFS('2추 세출'!$AE$6:$AE$264,'2추 세입'!AE36)) -> #NAME? | AM36: =IF(V36=AK36,"OK","@@") -> #NAME? | AO36: =IF(AE36="",0,SUMIFS('2추 세출'!$AA$6:$AA$264,'2추 세출'!$AE$6:$AE$264,'2추 세입'!$AE36)) -> #NAME? | AP36: =IF(AE36="","",COUNTIFS('2추 세출'!$AE$6:$AE$264,AE36)) -> #NAME? | AQ36: =IF(AA36=AO36,"OK","@@") -> #NAME?
A37: =IFERROR(VLOOKUP($C37,구분표!$A$2:$C$300,2,FALSE),"") -> 여성가족교육협력위원회 | B37: 여성가족국 | C37: 아동청소년과 | D37: 본예산 | F37: 아동통합서비스지원 운영 | G37: 9300000 | H37: 9300000 | I37: =IF(D37="","",G37-H37) -> 0 | K37: 275350 | L37: =IF(G37=0,H37+J37+K37,G37+J37+K37) -> 9575350 | O37: =IF(G37=0,H37+M37+N37,G37+M37+N37) -> 9300000 | P37: =IF(AND((L37=0),(O37>0)),"O",IF(AND((J37<0),(L37-O37<0)),"O","X")) -> X | Q37: ※ 보건복지부 아동권리과-5360(2015.8.28.)호 국비내시 반영 | S37: 국도비 | U37: 국비 | V37: =IF($U37<>"도비",IF($S37="국도비","직접입력",SUM($J37:$K37)),) -> 직접입력 | W37: =IF($U37="도비",SUM($J37:$K37),IF($S37="국도비","직접입력",SUM($J37:$K37)-$V37)) -> 직접입력 | X37: =IF(SUM($J37:$K37)=SUM($V37:$W37),"OK","검토") -> 검토 | AA37: =IF($U37<>"도비",IF($S37="국도비","직접입력",SUM($M37:$N37)),) -> 직접입력 | AB37: =IF($U37="도비",SUM(M37:N37),IF($S37="국도비","직접입력",SUM(M37:N37)-AA37)) -> 직접입력 | AC37: =IF(SUM(M37:N37)=SUM(AA37:AB37),"OK","검토") -> OK | AE37: =IF(AG37="","",IF(U37="도비","세입없음",AG37&"-"&test(COUNTIF($AG$7:AG37,AG37),"00"))) -> #NAME? | AG37: {=IF(C37="","",INDEX(구분표!$I$2:$I$300, MATCH(1,(구분표!$E$2:$E$300='2추 세입'!B37)*(구분표!$F$2:$F$300='2추 세입'!C37)*(구분표!$G$2:$G$300='2추 세입'!A37),0)))} -> 1003 | AK37: =IF(AE37="",0,SUMIFS('2추 세출'!$V$6:$V$264,'2추 세출'!$AE$6:$AE$264,'2추 세입'!$AE37)) -> #NAME? | AL37: =IF(AE37="","",COUNTIFS('2추 세출'!$AE$6:$AE$264,'2추 세입'!AE37)) -> #NAME? | AM37: =IF(V37=AK37,"OK","@@") -> #NAME? | AO37: =IF(AE37="",0,SUMIFS('2추 세출'!$AA$6:$AA$264,'2추 세출'!$AE$6:$AE$264,'2추 세입'!$AE37)) -> #NAME? | AP37: =IF(AE37="","",COUNTIFS('2추 세출'!$AE$6:$AE$264,AE37)) -> #NAME? | AQ37: =IF(AA37=AO37,"OK","@@") -> #NAME?
A38: =IFERROR(VLOOKUP($C38,구분표!$A$2:$C$300,2,FALSE),"") -> 여성가족교육협력위원회 | B38: 여성가족국 | C38: 다문화가족과 | D38: 본예산 | E38: 784 | F38: 다문화가족지원센터 운영 | G38: 6017165 | H38: 6277348 | I38: =IF(D38="","",G38-H38) -> -260183 | K38: 20160 | L38: =IF(G38=0,H38+J38+K38,G38+J38+K38) -> 6037325 | O38: =IF(G38=0,H38+M38+N38,G38+M38+N38) -> 6017165 | P38: =IF(AND((L38=0),(O38>0)),"O",IF(AND((J38<0),(L38-O38<0)),"O","X")) -> X | Q38: ※ 여성가족부 다문화가족정책과-2150(2015.9.7.)호 국비내시 반영 | S38: 국도비 | U38: 기금 | V38: =IF($U38<>"도비",IF($S38="국도비","직접입력",SUM($J38:$K38)),) -> 직접입력 | W38: =IF($U38="도비",SUM($J38:$K38),IF($S38="국도비","직접입력",SUM($J38:$K38)-$V38)) -> 직접입력 | X38: =IF(SUM($J38:$K38)=SUM($V38:$W38),"OK","검토") -> 검토 | AA38: =IF($U38<>"도비",IF($S38="국도비","직접입력",SUM($M38:$N38)),) -> 직접입력 | AB38: =IF($U38="도비",SUM(M38:N38),IF($S38="국도비","직접입력",SUM(M38:N38)-AA38)) -> 직접입력 | AC38: =IF(SUM(M38:N38)=SUM(AA38:AB38),"OK","검토") -> OK | AE38: =IF(AG38="","",IF(U38="도비","세입없음",AG38&"-"&test(COUNTIF($AG$7:AG38,AG38),"00"))) -> #NAME? | AG38: {=IF(C38="","",INDEX(구분표!$I$2:$I$300, MATCH(1,(구분표!$E$2:$E$300='2추 세입'!B38)*(구분표!$F$2:$F$300='2추 세입'!C38)*(구분표!$G$2:$G$300='2추 세입'!A38),0)))} -> 1004 | AK38: =IF(AE38="",0,SUMIFS('2추 세출'!$V$6:$V$264,'2추 세출'!$AE$6:$AE$264,'2추 세입'!$AE38)) -> #NAME? | AL38: =IF(AE38="","",COUNTIFS('2추 세출'!$AE$6:$AE$264,'2추 세입'!AE38)) -> #NAME? | AM38: =IF(V38=AK38,"OK","@@") -> #NAME? | AO38: =IF(AE38="",0,SUMIFS('2추 세출'!$AA$6:$AA$264,'2추 세출'!$AE$6:$AE$264,'2추 세입'!$AE38)) -> #NAME? | AP38: =IF(AE38="","",COUNTIFS('2추 세출'!$AE$6:$AE$264,AE38)) -> #NAME? | AQ38: =IF(AA38=AO38,"OK","@@") -> #NAME?
A39: =IFERROR(VLOOKUP($C39,구분표!$A$2:$C$300,2,FALSE),"") -> 여성가족교육협력위원회 | B39: 여성가족국 | C39: 여성능력개발센터 | D39: 신규 | F39: 취업자 사후관리 서비스 구축 | G39: 0 | H39: 0 | I39: =IF(D39="","",G39-H39) -> 0 | K39: 150000 | L39: =IF(G39=0,H39+J39+K39,G39+J39+K39) -> 150000 | O39: =IF(G39=0,H39+M39+N39,G39+M39+N39) -> 0 | P39: =IF(AND((L39=0),(O39>0)),"O",IF(AND((J39<0),(L39-O39<0)),"O","X")) -> X | Q39: ※ 행정자치부 행정제도혁신과-2697(2015.8.20.)호 국비내시 반영 | S39: 국도비 | U39: 특교 | V39: =IF($U39<>"도비",IF($S39="국도비","직접입력",SUM($J39:$K39)),) -> 직접입력 | W39: =IF($U39="도비",SUM($J39:$K39),IF($S39="국도비","직접입력",SUM($J39:$K39)-$V39)) -> 직접입력 | X39: =IF(SUM($J39:$K39)=SUM($V39:$W39),"OK","검토") -> 검토 | AA39: =IF($U39<>"도비",IF($S39="국도비","직접입력",SUM($M39:$N39)),) -> 직접입력 | AB39: =IF($U39="도비",SUM(M39:N39),IF($S39="국도비","직접입력",SUM(M39:N39)-AA39)) -> 직접입력 | AC39: =IF(SUM(M39:N39)=SUM(AA39:AB39),"OK","검토") -> OK | AE39: =IF(AG39="","",IF(U39="도비","세입없음",AG39&"-"&test(COUNTIF($AG$7:AG39,AG39),"00"))) -> #NAME? | AG39: {=IF(C39="","",INDEX(구분표!$I$2:$I$300, MATCH(1,(구분표!$E$2:$E$300='2추 세입'!B39)*(구분표!$F$2:$F$300='2추 세입'!C39)*(구분표!$G$2:$G$300='2추 세입'!A39),0)))} -> 1006 | AK39: =IF(AE39="",0,SUMIFS('2추 세출'!$V$6:$V$264,'2추 세출'!$AE$6:$AE$264,'2추 세입'!$AE39)) -> #NAME? | AL39: =IF(AE39="","",COUNTIFS('2추 세출'!$AE$6:$AE$264,'2추 세입'!AE39)) -> #NAME? | AM39: =IF(V39=AK39,"OK","@@") -> #NAME? | AO39: =IF(AE39="",0,SUMIFS('2추 세출'!$AA$6:$AA$264,'2추 세출'!$AE$6:$AE$264,'2추 세입'!$AE39)) -> #NAME? | AP39: =IF(AE39="","",COUNTIFS('2추 세출'!$AE$6:$AE$264,AE39)) -> #NAME? | AQ39: =IF(AA39=AO39,"OK","@@") -> #NAME?
A40: =IFERROR(VLOOKUP($C40,구분표!$A$2:$C$300,2,FALSE),"") | B40: =IFERROR(VLOOKUP($C40,구분표!$A$2:$C$300,3,FALSE),"") | I40: =IF(D40="","",G40-H40) | L40: =IF(G40=0,H40+J40+K40,G40+J40+K40) -> 0 | O40: =IF(G40=0,H40+M40+N40,G40+M40+N40) -> 0 | P40: =IF(AND((L40=0),(O40>0)),"O",IF(AND((J40<0),(L40-O40<0)),"O","X")) -> X | V40: =IF($U40<>"도비",IF($S40="국도비","직접입력",SUM($J40:$K40)),) -> 0 | W40: =IF($U40="도비",SUM($J40:$K40),IF($S40="국도비","직접입력",SUM($J40:$K40)-$V40)) -> 0 | X40: =IF(SUM($J40:$K40)=SUM($V40:$W40),"OK","검토") -> OK | AA40: =IF($U40<>"도비",IF($S40="국도비","직접입력",SUM($M40:$N40)),) -> 0 | AB40: =IF($U40="도비",SUM(M40:N40),IF($S40="국도비","직접입력",SUM(M40:N40)-AA40)) -> 0 | AC40: =IF(SUM(M40:N40)=SUM(AA40:AB40),"OK","검토") -> OK | AE40: =IF(AG40="","",IF(U40="도비","세입없음",AG40&"-"&test(COUNTIF($AG$7:AG40,AG40),"00"))) | AG40: {=IF(C40="","",INDEX(구분표!$I$2:$I$300, MATCH(1,(구분표!$E$2:$E$300='2추 세입'!B40)*(구분표!$F$2:$F$300='2추 세입'!C40)*(구분표!$G$2:$G$300='2추 세입'!A40),0)))} | AK40: =IF(AE40="",0,SUMIFS('2추 세출'!$V$6:$V$264,'2추 세출'!$AE$6:$AE$264,'2추 세입'!$AE40)) -> 0 | AL40: =IF(AE40="","",COUNTIFS('2추 세출'!$AE$6:$AE$264,'2추 세입'!AE40)) | AM40: =IF(V40=AK40,"OK","@@") -> OK | AO40: =IF(AE40="",0,SUMIFS('2추 세출'!$AA$6:$AA$264,'2추 세출'!$AE$6:$AE$264,'2추 세입'!$AE40)) -> 0 | AP40: =IF(AE40="","",COUNTIFS('2추 세출'!$AE$6:$AE$264,AE40)) | AQ40: =IF(AA40=AO40,"OK","@@") -> OK
A41: =IFERROR(VLOOKUP($C41,구분표!$A$2:$C$300,2,FALSE),"") | B41: =IFERROR(VLOOKUP($C41,구분표!$A$2:$C$300,3,FALSE),"") | I41: =IF(D41="","",G41-H41) | L41: =IF(G41=0,H41+J41+K41,G41+J41+K41) -> 0 | O41: =IF(G41=0,H41+M41+N41,G41+M41+N41) -> 0 | P41: =IF(AND((L41=0),(O41>0)),"O",IF(AND((J41<0),(L41-O41<0)),"O","X")) -> X | V41: =IF($U41<>"도비",IF($S41="국도비","직접입력",SUM($J41:$K41)),) -> 0 | W41: =IF($U41="도비",SUM($J41:$K41),IF($S41="국도비","직접입력",SUM($J41:$K41)-$V41)) -> 0 | X41: =IF(SUM($J41:$K41)=SUM($V41:$W41),"OK","검토") -> OK | AA41: =IF($U41<>"도비",IF($S41="국도비","직접입력",SUM($M41:$N41)),) -> 0 | AB41: =IF($U41="도비",SUM(M41:N41),IF($S41="국도비","직접입력",SUM(M41:N41)-AA41)) -> 0 | AC41: =IF(SUM(M41:N41)=SUM(AA41:AB41),"OK","검토") -> OK | AE41: =IF(AG41="","",IF(U41="도비","세입없음",AG41&"-"&test(COUNTIF($AG$7:AG41,AG41),"00"))) | AG41: {=IF(C41="","",INDEX(구분표!$I$2:$I$300, MATCH(1,(구분표!$E$2:$E$300='2추 세입'!B41)*(구분표!$F$2:$F$300='2추 세입'!C41)*(구분표!$G$2:$G$300='2추 세입'!A41),0)))} | AK41: =IF(AE41="",0,SUMIFS('2추 세출'!$V$6:$V$264,'2추 세출'!$AE$6:$AE$264,'2추 세입'!$AE41)) -> 0 | AL41: =IF(AE41="","",COUNTIFS('2추 세출'!$AE$6:$AE$264,'2추 세입'!AE41)) | AM41: =IF(V41=AK41,"OK","@@") -> OK | AO41: =IF(AE41="",0,SUMIFS('2추 세출'!$AA$6:$AA$264,'2추 세출'!$AE$6:$AE$264,'2추 세입'!$AE41)) -> 0 | AP41: =IF(AE41="","",COUNTIFS('2추 세출'!$AE$6:$AE$264,AE41)) | AQ41: =IF(AA41=AO41,"OK","@@") -> OK
A42: =IFERROR(VLOOKUP($C42,구분표!$A$2:$C$300,2,FALSE),"") | B42: =IFERROR(VLOOKUP($C42,구분표!$A$2:$C$300,3,FALSE),"") | I42: =IF(D42="","",G42-H42) | L42: =IF(G42=0,H42+J42+K42,G42+J42+K42) -> 0 | O42: =IF(G42=0,H42+M42+N42,G42+M42+N42) -> 0 | P42: =IF(AND((L42=0),(O42>0)),"O",IF(AND((J42<0),(L42-O42<0)),"O","X")) -> X | V42: =IF($U42<>"도비",IF($S42="국도비","직접입력",SUM($J42:$K42)),) -> 0 | W42: =IF($U42="도비",SUM($J42:$K42),IF($S42="국도비","직접입력",SUM($J42:$K42)-$V42)) -> 0 | X42: =IF(SUM($J42:$K42)=SUM($V42:$W42),"OK","검토") -> OK | AA42: =IF($U42<>"도비",IF($S42="국도비","직접입력",SUM($M42:$N42)),) -> 0 | AB42: =IF($U42="도비",SUM(M42:N42),IF($S42="국도비","직접입력",SUM(M42:N42)-AA42)) -> 0 | AC42: =IF(SUM(M42:N42)=SUM(AA42:AB42),"OK","검토") -> OK | AE42: =IF(AG42="","",IF(U42="도비","세입없음",AG42&"-"&test(COUNTIF($AG$7:AG42,AG42),"00"))) | AG42: {=IF(C42="","",INDEX(구분표!$I$2:$I$300, MATCH(1,(구분표!$E$2:$E$300='2추 세입'!B42)*(구분표!$F$2:$F$300='2추 세입'!C42)*(구분표!$G$2:$G$300='2추 세입'!A42),0)))} | AK42: =IF(AE42="",0,SUMIFS('2추 세출'!$V$6:$V$264,'2추 세출'!$AE$6:$AE$264,'2추 세입'!$AE42)) -> 0 | AL42: =IF(AE42="","",COUNTIFS('2추 세출'!$AE$6:$AE$264,'2추 세입'!AE42)) | AM42: =IF(V42=AK42,"OK","@@") -> OK | AO42: =IF(AE42="",0,SUMIFS('2추 세출'!$AA$6:$AA$264,'2추 세출'!$AE$6:$AE$264,'2추 세입'!$AE42)) -> 0 | AP42: =IF(AE42="","",COUNTIFS('2추 세출'!$AE$6:$AE$264,AE42)) | AQ42: =IF(AA42=AO42,"OK","@@") -> OK
A43: =IFERROR(VLOOKUP($C43,구분표!$A$2:$C$300,2,FALSE),"") | B43: =IFERROR(VLOOKUP($C43,구분표!$A$2:$C$300,3,FALSE),"") | I43: =IF(D43="","",G43-H43) | L43: =IF(G43=0,H43+J43+K43,G43+J43+K43) -> 0 | O43: =IF(G43=0,H43+M43+N43,G43+M43+N43) -> 0 | P43: =IF(AND((L43=0),(O43>0)),"O",IF(AND((J43<0),(L43-O43<0)),"O","X")) -> X | V43: =IF($U43<>"도비",IF($S43="국도비","직접입력",SUM($J43:$K43)),) -> 0 | W43: =IF($U43="도비",SUM($J43:$K43),IF($S43="국도비","직접입력",SUM($J43:$K43)-$V43)) -> 0 | X43: =IF(SUM($J43:$K43)=SUM($V43:$W43),"OK","검토") -> OK | AA43: =IF($U43<>"도비",IF($S43="국도비","직접입력",SUM($M43:$N43)),) -> 0 | AB43: =IF($U43="도비",SUM(M43:N43),IF($S43="국도비","직접입력",SUM(M43:N43)-AA43)) -> 0 | AC43: =IF(SUM(M43:N43)=SUM(AA43:AB43),"OK","검토") -> OK | AE43: =IF(AG43="","",IF(U43="도비","세입없음",AG43&"-"&test(COUNTIF($AG$7:AG43,AG43),"00"))) | AG43: {=IF(C43="","",INDEX(구분표!$I$2:$I$300, MATCH(1,(구분표!$E$2:$E$300='2추 세입'!B43)*(구분표!$F$2:$F$300='2추 세입'!C43)*(구분표!$G$2:$G$300='2추 세입'!A43),0)))} | AK43: =IF(AE43="",0,SUMIFS('2추 세출'!$V$6:$V$264,'2추 세출'!$AE$6:$AE$264,'2추 세입'!$AE43)) -> 0 | AL43: =IF(AE43="","",COUNTIFS('2추 세출'!$AE$6:$AE$264,'2추 세입'!AE43)) | AM43: =IF(V43=AK43,"OK","@@") -> OK | AO43: =IF(AE43="",0,SUMIFS('2추 세출'!$AA$6:$AA$264,'2추 세출'!$AE$6:$AE$264,'2추 세입'!$AE43)) -> 0 | AP43: =IF(AE43="","",COUNTIFS('2추 세출'!$AE$6:$AE$264,AE43)) | AQ43: =IF(AA43=AO43,"OK","@@") -> OK
A44: =IFERROR(VLOOKUP($C44,구분표!$A$2:$C$300,2,FALSE),"") | B44: =IFERROR(VLOOKUP($C44,구분표!$A$2:$C$300,3,FALSE),"") | I44: =IF(D44="","",G44-H44) | L44: =IF(G44=0,H44+J44+K44,G44+J44+K44) -> 0 | O44: =IF(G44=0,H44+M44+N44,G44+M44+N44) -> 0 | P44: =IF(AND((L44=0),(O44>0)),"O",IF(AND((J44<0),(L44-O44<0)),"O","X")) -> X | V44: =IF($U44<>"도비",IF($S44="국도비","직접입력",SUM($J44:$K44)),) -> 0 | W44: =IF($U44="도비",SUM($J44:$K44),IF($S44="국도비","직접입력",SUM($J44:$K44)-$V44)) -> 0 | X44: =IF(SUM($J44:$K44)=SUM($V44:$W44),"OK","검토") -> OK | AA44: =IF($U44<>"도비",IF($S44="국도비","직접입력",SUM($M44:$N44)),) -> 0 | AB44: =IF($U44="도비",SUM(M44:N44),IF($S44="국도비","직접입력",SUM(M44:N44)-AA44)) -> 0 | AC44: =IF(SUM(M44:N44)=SUM(AA44:AB44),"OK","검토") -> OK | AE44: =IF(AG44="","",IF(U44="도비","세입없음",AG44&"-"&test(COUNTIF($AG$7:AG44,AG44),"00"))) | AG44: {=IF(C44="","",INDEX(구분표!$I$2:$I$300, MATCH(1,(구분표!$E$2:$E$300='2추 세입'!B44)*(구분표!$F$2:$F$300='2추 세입'!C44)*(구분표!$G$2:$G$300='2추 세입'!A44),0)))} | AK44: =IF(AE44="",0,SUMIFS('2추 세출'!$V$6:$V$264,'2추 세출'!$AE$6:$AE$264,'2추 세입'!$AE44)) -> 0 | AL44: =IF(AE44="","",COUNTIFS('2추 세출'!$AE$6:$AE$264,'2추 세입'!AE44)) | AM44: =IF(V44=AK44,"OK","@@") -> OK | AO44: =IF(AE44="",0,SUMIFS('2추 세출'!$AA$6:$AA$264,'2추 세출'!$AE$6:$AE$264,'2추 세입'!$AE44)) -> 0 | AP44: =IF(AE44="","",COUNTIFS('2추 세출'!$AE$6:$AE$264,AE44)) | AQ44: =IF(AA44=AO44,"OK","@@") -> OK
