Workbook

Sheet 15년검증
A1: 2015년 본예산 검증 | H1: 본예산 예비비 | J1: 124682800
M2: (단위 : 천원)
A3: 구 분 | B3: 상임위 | H3: 구 분 | I3: 예결위
B4: 세입 | C4: 검증 | D4: 세출 | E4: 검증 | F4: 차액 | I4: 세입 | J4: 검증 | K4: 세출 | L4: 검증 | M4: 차액
A5: 전체 총계 | B5: =SUM(B6,B9) -> #REF! | C5: =IF(B5=#REF!,"OK","@@") -> #REF! | D5: =SUM(D6,D9) -> #REF! | E5: =IF(D5=#REF!,"OK","@@") -> #REF! | H5: 전체 총계 | I5: =SUM(I6,I9) -> #REF! | J5: =IF(I5=#REF!,"OK","@@") -> #REF! | K5: =SUM(K6,K9) -> #REF! | L5: =IF(K5=#REF!,"OK","@@") -> #REF!
A6: 자체 총계 | B6: =SUM(B7:B8) -> #REF! | C6: =IF(B6=#REF!,"OK","@@") -> #REF! | D6: =SUM(D7:D8) -> #REF! | E6: =IF($D$6=#REF!,"OK","@@") -> #REF! | H6: 자체 총계 | I6: =SUM(I7:I8) -> #REF! | J6: =IF(I6=#REF!,"OK","@@") -> #REF! | K6: =SUM(K7:K8) -> #REF! | L6: =IF($K6=#REF!,"OK","@@") -> #REF!
A7: 자체 도비 | B7: =SUMIFS(#REF!,#REF!,"도비") -> #REF! | D7: =SUMIFS(#REF!,#REF!,"도비") -> #REF! | H7: 자체 도비 | I7: =SUMIFS(#REF!,#REF!,"도비") -> #REF! | K7: =SUMIFS(#REF!,#REF!,"도비") -> #REF!
A8: 의존 매칭 도비 | B8: =SUMIFS(#REF!,#REF!,"국비")+SUMIFS(#REF!,#REF!,"지특")+SUMIFS(#REF!,#REF!,"기금")+SUMIFS(#REF!,#REF!,"분권")+SUMIFS(#REF!,#REF!,"특교") -> #REF! | D8: =SUMIFS(#REF!,#REF!,"국비")+SUMIFS(#REF!,#REF!,"지특")+SUMIFS(#REF!,#REF!,"기금")+SUMIFS(#REF!,#REF!,"분권")+SUMIFS(#REF!,#REF!,"특교") -> #REF! | H8: 의존 매칭 도비 | I8: =SUMIFS(#REF!,#REF!,"국비")+SUMIFS(#REF!,#REF!,"지특")+SUMIFS(#REF!,#REF!,"기금")+SUMIFS(#REF!,#REF!,"분권")+SUMIFS(#REF!,#REF!,"특교") -> #REF! | K8: =SUMIFS(#REF!,#REF!,"국비")+SUMIFS(#REF!,#REF!,"지특")+SUMIFS(#REF!,#REF!,"기금")+SUMIFS(#REF!,#REF!,"분권")+SUMIFS(#REF!,#REF!,"특교") -> #REF!
A9: 의존계 | B9: =SUM(B10:B14) -> #REF! | C9: =IF(B9=#REF!,"OK","@@") -> #REF! | D9: =SUM(D10:D14) -> #REF! | E9: =IF(B9=D9,"OK","@@") -> #REF! | F9: =D9-B9 -> #REF! | H9: 의존계 | I9: =SUM(I10:I14) -> #REF! | J9: =IF(I9=#REF!,"OK","@@") -> #REF! | K9: =SUM(K10:K14) -> #REF! | L9: =IF(I9=K9,"OK","@@") -> #REF!
A10: 국비 | B10: =SUMIFS(#REF!,#REF!,'15년검증'!$A10) -> #REF! | D10: =SUMIFS(#REF!,#REF!,'15년검증'!$A10) -> #REF! | E10: =IF(B10=D10,"OK","@@") -> #REF! | F10: =D10-B10 -> #REF! | H10: 국비 | I10: =SUMIFS(#REF!,#REF!,'15년검증'!$A10) -> #REF! | K10: =SUMIFS(#REF!,#REF!,'15년검증'!$A10) -> #REF! | L10: =IF(I10=K10,"OK","@@") -> #REF! | M10: =K10-I10 -> #REF!
A11: 지특 | B11: =SUMIFS(#REF!,#REF!,'15년검증'!$A11) -> #REF! | D11: =SUMIFS(#REF!,#REF!,'15년검증'!$A11) -> #REF! | E11: =IF(B11=D11,"OK","@@") -> #REF! | F11: =D11-B11 -> #REF! | H11: 지특 | I11: =SUMIFS(#REF!,#REF!,'15년검증'!$A11) -> #REF! | K11: =SUMIFS(#REF!,#REF!,'15년검증'!$A11) -> #REF! | L11: =IF(I11=K11,"OK","@@") -> #REF! | M11: =K11-I11 -> #REF!
A12: 기금 | B12: =SUMIFS(#REF!,#REF!,'15년검증'!$A12) -> #REF! | D12: =SUMIFS(#REF!,#REF!,'15년검증'!$A12) -> #REF! | E12: =IF(B12=D12,"OK","@@") -> #REF! | F12: =D12-B12 -> #REF! | H12: 기금 | I12: =SUMIFS(#REF!,#REF!,'15년검증'!$A12) -> #REF! | K12: =SUMIFS(#REF!,#REF!,'15년검증'!$A12) -> #REF! | L12: =IF(I12=K12,"OK","@@") -> #REF! | M12: =K12-I12 -> #REF!
A13: 분권 | B13: =SUMIFS(#REF!,#REF!,'15년검증'!$A13) -> #REF! | D13: =SUMIFS(#REF!,#REF!,'15년검증'!$A13) -> #REF! | E13: =IF(B13=D13,"OK","@@") -> #REF! | F13: =D13-B13 -> #REF! | H13: 분권 | I13: =SUMIFS(#REF!,#REF!,'15년검증'!$A13) -> #REF! | K13: =SUMIFS(#REF!,#REF!,'15년검증'!$A13) -> #REF! | L13: =IF(I13=K13,"OK","@@") -> #REF! | M13: =K13-I13 -> #REF!
A14: 특교 | B14: =SUMIFS(#REF!,#REF!,'15년검증'!$A14) -> #REF! | D14: =SUMIFS(#REF!,#REF!,'15년검증'!$A14) -> #REF! | E14: =IF(B14=D14,"OK","@@") -> #REF! | F14: =D14-B14 -> #REF! | H14: 특교 | I14: =SUMIFS(#REF!,#REF!,'15년검증'!$A14) -> #REF! | K14: =SUMIFS(#REF!,#REF!,'15년검증'!$A14) -> #REF! | L14: =IF(I14=K14,"OK","@@") -> #REF! | M14: =K14-I14 -> #REF!
H16: 예비비 조정액 | I16: =IFERROR(INDEX(#REF!,MATCH("*예비비*",#REF!,0)),"")
I18: =SUM(I5-K5) -> #REF!
H20: 예비비 조정잔액 | I20: =IFERROR(SUM(J1+I16),"")

Sheet 3추검증
A1: 3회추경 검증 | H1: 2회추경 예비비 | J1: 22466366
M2: (단위 : 천원)
A3: 구 분 | B3: 상임위 | H3: 구 분 | I3: 예결위
B4: 세입 | C4: 검증 | D4: 세출 | E4: 검증 | F4: 차액 | I4: 세입 | J4: 검증 | K4: 세출 | L4: 검증 | M4: 차액
A5: 전체 총계 | B5: =SUM(B6,B9) -> #REF! | C5: =IF(B5=#REF!,"OK","@@") -> #REF! | D5: =SUM(D6,D9) -> #REF! | E5: =IF(D5=#REF!,"OK","@@") -> #REF! | H5: 전체 총계 | I5: =SUM(I6,I9) -> #REF! | J5: =IF(I5=#REF!,"OK","@@") -> #REF! | K5: =SUM(K6,K9) -> #REF! | L5: =IF(K5=#REF!,"OK","@@") -> #REF!
A6: 자체 총계 | B6: =SUM(B7:B8) -> #REF! | C6: =IF(B6=#REF!,"OK","@@") -> #REF! | D6: =SUM(D7:D8) -> #REF! | E6: =IF($D$6=#REF!,"OK","@@") -> #REF! | H6: 자체 총계 | I6: =SUM(I7:I8) -> #REF! | J6: =IF(I6=#REF!,"OK","@@") -> #REF! | K6: =SUM(K7:K8) -> #REF! | L6: =IF($K6=#REF!,"OK","@@") -> #REF!
A7: 자체 도비 | B7: =SUMIFS(#REF!,#REF!,"도비") -> #REF! | D7: =SUMIFS(#REF!,#REF!,"도비") -> #REF! | H7: 자체 도비 | I7: =SUMIFS(#REF!,#REF!,"도비") -> #REF! | K7: =SUMIFS(#REF!,#REF!,"도비") -> #REF!
A8: 의존 매칭 도비 | B8: =SUMIFS(#REF!,#REF!,"국비")+SUMIFS(#REF!,#REF!,"광특")+SUMIFS(#REF!,#REF!,"기금")+SUMIFS(#REF!,#REF!,"분권")+SUMIFS(#REF!,#REF!,"특교") -> #REF! | D8: =SUMIFS(#REF!,#REF!,"국비")+SUMIFS(#REF!,#REF!,"광특")+SUMIFS(#REF!,#REF!,"기금")+SUMIFS(#REF!,#REF!,"분권")+SUMIFS(#REF!,#REF!,"특교") -> #REF! | H8: 의존 매칭 도비 | I8: =SUMIFS(#REF!,#REF!,"국비")+SUMIFS(#REF!,#REF!,"광특")+SUMIFS(#REF!,#REF!,"기금")+SUMIFS(#REF!,#REF!,"분권")+SUMIFS(#REF!,#REF!,"특교") -> #REF! | K8: =SUMIFS(#REF!,#REF!,"국비")+SUMIFS(#REF!,#REF!,"광특")+SUMIFS(#REF!,#REF!,"기금")+SUMIFS(#REF!,#REF!,"분권")+SUMIFS(#REF!,#REF!,"특교") -> #REF!
A9: 의존계 | B9: =SUM(B10:B14) -> #REF! | C9: =IF(B9=#REF!,"OK","@@") -> #REF! | D9: =SUM(D10:D14) -> #REF! | E9: =IF(B9=D9,"OK","@@") -> #REF! | F9: =D9-B9 -> #REF! | H9: 의존계 | I9: =SUM(I10:I14) -> #REF! | J9: =IF(I9=#REF!,"OK","@@") -> #REF! | K9: =SUM(K10:K14) -> #REF! | L9: =IF(I9=K9,"OK","@@") -> #REF! | M9: =K9-I9 -> #REF!
A10: 국비 | B10: =SUMIFS(#REF!,#REF!,'3추검증'!$A10) -> #REF! | D10: =SUMIFS(#REF!,#REF!,'3추검증'!$A10) -> #REF! | E10: =IF(B10=D10,"OK","@@") -> #REF! | F10: =D10-B10 -> #REF! | H10: 국비 | I10: =SUMIFS(#REF!,#REF!,'3추검증'!$A10) -> #REF! | K10: =SUMIFS(#REF!,#REF!,'3추검증'!$A10) -> #REF! | L10: =IF(I10=K10,"OK","@@") -> #REF! | M10: =K10-I10 -> #REF!
A11: 광특 | B11: =SUMIFS(#REF!,#REF!,'3추검증'!$A11) -> #REF! | D11: =SUMIFS(#REF!,#REF!,'3추검증'!$A11) -> #REF! | E11: =IF(B11=D11,"OK","@@") -> #REF! | F11: =D11-B11 -> #REF! | H11: 광특 | I11: =SUMIFS(#REF!,#REF!,'3추검증'!$A11) -> #REF! | K11: =SUMIFS(#REF!,#REF!,'3추검증'!$A11) -> #REF! | L11: =IF(I11=K11,"OK","@@") -> #REF! | M11: =K11-I11 -> #REF!
A12: 기금 | B12: =SUMIFS(#REF!,#REF!,'3추검증'!$A12) -> #REF! | D12: =SUMIFS(#REF!,#REF!,'3추검증'!$A12) -> #REF! | E12: =IF(B12=D12,"OK","@@") -> #REF! | F12: =D12-B12 -> #REF! | H12: 기금 | I12: =SUMIFS(#REF!,#REF!,'3추검증'!$A12) -> #REF! | K12: =SUMIFS(#REF!,#REF!,'3추검증'!$A12) -> #REF! | L12: =IF(I12=K12,"OK","@@") -> #REF! | M12: =K12-I12 -> #REF!
A13: 분권 | B13: =SUMIFS(#REF!,#REF!,'3추검증'!$A13) -> #REF! | D13: =SUMIFS(#REF!,#REF!,'3추검증'!$A13) -> #REF! | E13: =IF(B13=D13,"OK","@@") -> #REF! | F13: =D13-B13 -> #REF! | H13: 분권 | I13: =SUMIFS(#REF!,#REF!,'3추검증'!$A13) -> #REF! | K13: =SUMIFS(#REF!,#REF!,'3추검증'!$A13) -> #REF! | L13: =IF(I13=K13,"OK","@@") -> #REF! | M13: =K13-I13 -> #REF!
A14: 특교 | B14: =SUMIFS(#REF!,#REF!,'3추검증'!$A14) -> #REF! | D14: =SUMIFS(#REF!,#REF!,'3추검증'!$A14) -> #REF! | E14: =IF(B14=D14,"OK","@@") -> #REF! | F14: =D14-B14 -> #REF! | H14: 특교 | I14: =SUMIFS(#REF!,#REF!,'3추검증'!$A14) -> #REF! | K14: =SUMIFS(#REF!,#REF!,'3추검증'!$A14) -> #REF! | L14: =IF(I14=K14,"OK","@@") -> #REF! | M14: =K14-I14 -> #REF!
H16: 예비비 조정액 | I16: =IFERROR(INDEX(#REF!,MATCH("*예비비*",#REF!,0)),"")
I18: =SUM(I5-K5) -> #REF!
H20: 예비비 조정잔액 | I20: =IFERROR(SUM(J1-I16),"")

Sheet 상임 표지
D2: 2014년도 제2회 일반회계 및 특별회계 추가경정 세입·세출 예산안
D4: 상 임 위 계 수 조 정 결 과
D16: 예산결산특별위원회

Sheet 표지
D2: 2014년도 제2회 일반회계 및 특별회계 추가경정 세입·세출 예산안
A4: 예결위 계수조정 결과
D16: 예산결산특별위원회

Sheet 예결 표지
B5: 2014년도 제2회 일반회계 및 특별회계 추가경정 세입·세출 예산안
B7: 예결위 계수조정 결과
B33: 예산결산특별위원회

Sheet 예결 표지(가로)
B3: 2014년도 제2회 일반회계 및 특별회계 추가경정 세입·세출 예산안
B5: 예결위 계수조정 결과
B24: 예산결산특별위원회

Sheet 15년총괄표
B1: 2015년도 경기도 일반 및 특별회계 세입·세출 예산안[전체예산총괄]
B3: □ 총 괄 | D3: 세입예산증감 | E3: =SUM(D7:E7) -> #REF! | F3: 세출예산증감 | G3: =SUM(F7:G7) -> #REF!
H4: (단위:천원) | M4: (일반+특별+기금) | O4: 특별+기금
B5: 구 분 | C5: 집행부제출(안) | D5: 세입예산(안) | F5: 세출예산(안) | H5: 예산수정(안) | I5: 일반회계 증감(총괄표) | K5: 예비비증감 | L5: 비 고 | M5: 전체 증감(시트) | O5: 비고
D6: 감 액 | E6: 증 액 | F6: 감 액 | G6: 증 액 | I6: 세입 | J6: 세출 | M6: 세입 | N6: 세출
B7: 합 계 | C7: =SUM(C8:C18) -> 17818538715 | D7: =SUM(D8:D18) -> #REF! | E7: =SUM(E8:E18) -> #REF! | F7: =SUM(F8:F18) -> #REF! | G7: =SUM(G8:G18) -> #REF! | H7: =SUM(H8:H18) -> #REF! | I7: =E25+D25 -> #REF! | J7: =F25+G25 -> #REF! | K7: =I7-J7 -> #REF! | L7: 예비비 증감이 - 예산이면 감액에 + 예산이면 증액에 입력 | M7: =D24+E24 -> #REF! | N7: =F24+G24 -> #REF! | O7: 0 | P7: 0
B8: 기 타 | C8: 0 | H8: =C8-F8+G8 -> 0 | I8: =D7+E7 -> #REF! | J8: =F7+G7 -> #REF! | K8: =I8-J8 -> #REF!
B9: 의회운영위원회 | C9: 43594098 | D9: =SUMIFS(#REF!,#REF!,'15년총괄표'!$B9) -> #REF! | E9: =SUMIFS(#REF!,#REF!,'15년총괄표'!$B9) -> #REF! | F9: =SUMIFS(#REF!,#REF!,'15년총괄표'!$B9) -> #REF! | G9: =SUMIFS(#REF!,#REF!,'15년총괄표'!$B9) -> #REF! | H9: =C9+F9+G9 -> #REF! | I9: 일반회계 증감(시트) | N9: 전체 증감
B10: 기획재정위원회 | C10: 5206191432 | D10: =SUMIFS(#REF!,#REF!,'15년총괄표'!$B10) -> #REF! | E10: =SUMIFS(#REF!,#REF!,'15년총괄표'!$B10) -> #REF! | F10: =SUMIFS(#REF!,#REF!,'15년총괄표'!$B10) -> #REF! | G10: =SUMIFS(#REF!,#REF!,'15년총괄표'!$B10) -> #REF! | H10: =C10+F10+G10 -> #REF! | I10: =#REF!+#REF! -> #REF! | J10: =#REF!+#REF! -> #REF! | N10: =M7-N7 -> #REF!
B11: 경제과학기술위원회 | C11: 506163851 | D11: =SUMIFS(#REF!,#REF!,'15년총괄표'!$B11) -> #REF! | E11: =SUMIFS(#REF!,#REF!,'15년총괄표'!$B11) -> #REF! | F11: =SUMIFS(#REF!,#REF!,'15년총괄표'!$B11) -> #REF! | G11: =SUMIFS(#REF!,#REF!,'15년총괄표'!$B11) -> #REF! | H11: =C11+F11+G11 -> #REF!
B12: 안전행정위원회 | C12: 1207474631 | D12: =SUMIFS(#REF!,#REF!,'15년총괄표'!$B12) -> #REF! | E12: =SUMIFS(#REF!,#REF!,'15년총괄표'!$B12) -> #REF! | F12: =SUMIFS(#REF!,#REF!,'15년총괄표'!$B12) -> #REF! | G12: =SUMIFS(#REF!,#REF!,'15년총괄표'!$B12) -> #REF! | H12: =C12+F12+G12 -> #REF!
B13: 문화체육관광위원회 | C13: 309073261 | D13: =SUMIFS(#REF!,#REF!,'15년총괄표'!$B13) -> #REF! | E13: =SUMIFS(#REF!,#REF!,'15년총괄표'!$B13) -> #REF! | F13: =SUMIFS(#REF!,#REF!,'15년총괄표'!$B13) -> #REF! | G13: =SUMIFS(#REF!,#REF!,'15년총괄표'!$B13) -> #REF! | H13: =C13+F13+G13 -> #REF! | N13: 기금
B14: 농정해양위원회 | C14: 442431566 | D14: =SUMIFS(#REF!,#REF!,'15년총괄표'!$B14) -> #REF! | E14: =SUMIFS(#REF!,#REF!,'15년총괄표'!$B14) -> #REF! | F14: =SUMIFS(#REF!,#REF!,'15년총괄표'!$B14) -> #REF! | G14: =SUMIFS(#REF!,#REF!,'15년총괄표'!$B14) -> #REF! | H14: =C14+F14+G14 -> #REF! | N14: =N10-K7 -> #REF!
B15: 보건복지위원회 | C15: 3621498611 | D15: =SUMIFS(#REF!,#REF!,'15년총괄표'!$B15) -> #REF! | E15: =SUMIFS(#REF!,#REF!,'15년총괄표'!$B15) -> #REF! | F15: =SUMIFS(#REF!,#REF!,'15년총괄표'!$B15) -> #REF! | G15: =SUMIFS(#REF!,#REF!,'15년총괄표'!$B15) -> #REF! | H15: =C15+F15+G15 -> #REF!
B16: 건설교통위원회 | C16: 1291490754 | D16: =SUMIFS(#REF!,#REF!,'15년총괄표'!$B16) -> #REF! | E16: =SUMIFS(#REF!,#REF!,'15년총괄표'!$B16) -> #REF! | F16: =SUMIFS(#REF!,#REF!,'15년총괄표'!$B16) -> #REF! | G16: =SUMIFS(#REF!,#REF!,'15년총괄표'!$B16) -> #REF! | H16: =C16+F16+G16 -> #REF!
B17: 도시환경위원회 | C17: 1095793534 | D17: =SUMIFS(#REF!,#REF!,'15년총괄표'!$B17) -> #REF! | E17: =SUMIFS(#REF!,#REF!,'15년총괄표'!$B17) -> #REF! | F17: =SUMIFS(#REF!,#REF!,'15년총괄표'!$B17) -> #REF! | G17: =SUMIFS(#REF!,#REF!,'15년총괄표'!$B17) -> #REF! | H17: =C17+F17+G17 -> #REF!
B18: 여성가족교육협력위원회 | C18: 4094826977 | D18: =SUMIFS(#REF!,#REF!,'15년총괄표'!$B18) -> #REF! | E18: =SUMIFS(#REF!,#REF!,'15년총괄표'!$B18) -> #REF! | F18: =SUMIFS(#REF!,#REF!,'15년총괄표'!$B18) -> #REF! | G18: =SUMIFS(#REF!,#REF!,'15년총괄표'!$B18) -> #REF! | H18: =C18+F18+G18 -> #REF!
B20: □ 회계별 예산총규모
H21: (단위:천원)
B22: 구 분 | C22: 세출예산액 (집행부제출 안) | D22: 세입예산(안) | F22: 세출예산(안) | H22: 예산수정(안)
D23: 감 액 | E23: 증 액 | F23: 감 액 | G23: 증 액 | I23: 세입기준 수정예산안
B24: 합 계 | C24: =SUM(C25:C26) -> 17818538715 | D24: =SUM(D25:D26) -> #REF! | E24: =SUM(E25:E26) -> #REF! | F24: =SUM(F25:F26) -> #REF! | G24: =SUM(G25:G26) -> #REF! | H24: =SUM(H25:H26) -> #REF! | I24: =C24+D24+E24 -> #REF! | J24: =I24-H24 -> #REF! | K24: (세출기준-세입기준)
B25: 일반회계 | C25: 14504760931 | D25: =#REF! -> #REF! | E25: =#REF! -> #REF! | F25: =#REF! -> #REF! | G25: =#REF! -> #REF! | H25: =C25+F25+G25 -> #REF! | I25: =C25+D25+E25 -> #REF! | J25: =I25-H25 -> #REF! | K25: (세출기준-세입기준)
B26: 특별회계 | C26: 3313777784 | H26: =C26+F26+G26 -> 3313777784 | I26: =C26+D26+E26 -> 3313777784 | J26: =I26-H26 -> 0 | K26: (세출기준-세입기준)
B30: 위원회명 | C30: 일반+기특 | D30: 공기업 | E30: 합계
B31: 의회운영위원회 | C31: 39922113 | E31: =SUM(C31:D31) -> 39922113
B32: 기획재정위원회 | C32: 3302571667 | D32: 1780946434 | E32: =SUM(C32:D32) -> 5083518101
B33: 경제과학기술위원회 | C33: 155329320 | D33: 384743740 | E33: =SUM(C33:D33) -> 540073060
B34: 안전행정위원회 | C34: 1142858974 | E34: =SUM(C34:D34) -> 1142858974
B35: 문화체육관광위원회 | C35: 224243208 | D35: 52484400 | E35: =SUM(C35:D35) -> 276727608
B36: 농정해양위원회 | C36: 466978999 | E36: =SUM(C36:D36) -> 466978999
B37: 보건복지위원회 | C37: 3254006708 | E37: =SUM(C37:D37) -> 3254006708
B38: 건설교통위원회 | C38: 1220859831 | E38: =SUM(C38:D38) -> 1220859831
B39: 도시환경위원회 | C39: 866963933 | D39: 28360000 | E39: =SUM(C39:D39) -> 895323933
B40: 여성가족평생교육위원회 | C40: 4882582917 | E40: =SUM(C40:D40) -> 4882582917
B41: 총합계 | C41: =SUM(C31:C40) -> 15556317670 | D41: =SUM(D31:D40) -> 2246534574 | E41: =SUM(C41:D41) -> 17802852244
B43: 예비비 | C43: =3922478-221377 -> 3701101
B54: 위원회명 | C54: 일반 | D54: 기특 | E54: 공특 | F54: 합계
B56: 총합계 | C56: =SUM(C57:C66) -> 14504760931 | D56: =SUM(D57:D66) -> 1174065395 | E56: =SUM(E57:E66) -> 2139712389 | F56: =SUM(C56:E56) -> 17818538715
B57: 의회운영위원회 | C57: 43594098 | F57: =SUM(C57:E57) -> 43594098
B58: 기획재정위원회 | C58: 3440363748 | D58: 24291000 | E58: 1741536684 | F58: =SUM(C58:E58) -> 5206191432
B59: 경제과학기술위원회 | C59: 203612581 | E59: 302551270 | F59: =SUM(C59:E59) -> 506163851
B60: 안전행정위원회 | C60: 1207474631 | F60: =SUM(C60:E60) -> 1207474631
B61: 문화체육관광위원회 | C61: 246448826 | E61: 62624435 | F61: =SUM(C61:E61) -> 309073261
B62: 농정해양위원회 | C62: 442431566 | F62: =SUM(C62:E62) -> 442431566
B63: 보건복지위원회 | C63: 2784804193 | D63: 836694418 | F63: =SUM(C63:E63) -> 3621498611
B64: 건설교통위원회 | C64: 1163747689 | D64: =125570000+2173065 -> 127743065 | F64: =SUM(C64:E64) -> 1291490754
B65: 도시환경위원회 | C65: 1043870622 | D65: =4191000+14731912 -> 18922912 | E65: 33000000 | F65: =SUM(C65:E65) -> 1095793534
B66: 여성가족교육협력위원회 | C66: 3928412977 | D66: 166414000 | F66: =SUM(C66:E66) -> 4094826977
I145: ◦ 본청 83,000 증 ◦ 북부청 377,000 증
K275: -50000

Sheet 15년총괄표(실국별)
B1: 2015년도 경기도 일반 및 특별회계 세입·세출 예산안[전체예산총괄]
B3: □ 총괄(실국별) | E3: =SUM(D7:E7) -> #REF! | G3: =SUM(F7:G7) -> #REF!
H4: (단위:천원) | M4: (일반+특별+기금) | O4: 특별+기금
B5: 구 분 | C5: 집행부제출(안) | D5: 세입예산(안) | F5: 세출예산(안) | H5: 예산수정(안) | I5: 일반회계 증감(총괄표) | K5: 예비비증감 | L5: 비 고 | M5: 전체 증감(시트) | O5: 비고
D6: 감 액 | E6: 증 액 | F6: 감 액 | G6: 증 액 | I6: 세입 | J6: 세출 | M6: 세입 | N6: 세출
B7: 합 계 | C7: =SUM(C8:C33) -> 17818538715 | D7: =SUM(D8:D33) -> #REF! | E7: =SUM(E8:E33) -> #REF! | F7: =SUM(F8:F33) -> #REF! | G7: =SUM(G8:G33) -> #REF! | H7: =SUM(H8:H33) -> #REF! | I7: =#REF!+#REF! -> #REF! | J7: =#REF!+#REF! -> #REF! | K7: =I7-J7 -> #REF! | L7: 예비비 증감이 - 예산이면 감액에 + 예산이면 증액에 입력 | M7: =#REF!+#REF! -> #REF! | N7: =#REF!+#REF! -> #REF! | O7: 0 | P7: 0
B8: 감사관 | C8: 1230140 | D8: =SUMIFS(#REF!,#REF!,'15년총괄표(실국별)'!$B8) -> #REF! | E8: =SUMIFS(#REF!,#REF!,'15년총괄표(실국별)'!$B8) -> #REF! | F8: =SUMIFS(#REF!,#REF!,'15년총괄표(실국별)'!$B8) -> #REF! | G8: =SUMIFS(#REF!,#REF!,'15년총괄표(실국별)'!$B8) -> #REF! | H8: =C8+F8+G8 -> #REF! | I8: 일반회계 증감(시트) | N8: 전체 증감
B9: 기획조정실 | C9: 4995050831 | D9: =SUMIFS(#REF!,#REF!,'15년총괄표(실국별)'!$B9) -> #REF! | E9: =SUMIFS(#REF!,#REF!,'15년총괄표(실국별)'!$B9) -> #REF! | F9: =SUMIFS(#REF!,#REF!,'15년총괄표(실국별)'!$B9) -> #REF! | G9: =SUMIFS(#REF!,#REF!,'15년총괄표(실국별)'!$B9) -> #REF! | H9: =C9+F9+G9 -> #REF! | I9: =#REF!+#REF! -> #REF! | J9: =#REF!+#REF! -> #REF! | N9: =#REF!-#REF! -> #REF!
B10: 도시주택실 | C10: 350475445 | D10: =SUMIFS(#REF!,#REF!,'15년총괄표(실국별)'!$B10) -> #REF! | E10: =SUMIFS(#REF!,#REF!,'15년총괄표(실국별)'!$B10) -> #REF! | F10: =SUMIFS(#REF!,#REF!,'15년총괄표(실국별)'!$B10) -> #REF! | G10: =SUMIFS(#REF!,#REF!,'15년총괄표(실국별)'!$B10) -> #REF! | H10: =C10+F10+G10 -> #REF! | I10: =#REF!+#REF! -> #REF! | J10: =#REF!+#REF! -> #REF! | N10: =#REF!-#REF! -> #REF!
B11: 자치행정국 | C11: 489102362 | D11: =SUMIFS(#REF!,#REF!,'15년총괄표(실국별)'!$B11) -> #REF! | E11: =SUMIFS(#REF!,#REF!,'15년총괄표(실국별)'!$B11) -> #REF! | F11: =SUMIFS(#REF!,#REF!,'15년총괄표(실국별)'!$B11) -> #REF! | G11: =SUMIFS(#REF!,#REF!,'15년총괄표(실국별)'!$B11) -> #REF! | H11: =C11+F11+G11 -> #REF!
B12: 교육협력국 | C12: 2124399774 | D12: =SUMIFS(#REF!,#REF!,'15년총괄표(실국별)'!$B12) -> #REF! | E12: =SUMIFS(#REF!,#REF!,'15년총괄표(실국별)'!$B12) -> #REF! | F12: =SUMIFS(#REF!,#REF!,'15년총괄표(실국별)'!$B12) -> #REF! | G12: =SUMIFS(#REF!,#REF!,'15년총괄표(실국별)'!$B12) -> #REF! | H12: =C12+F12+G12 -> #REF!
B13: 문화체육관광국 | C13: 309073261 | D13: =SUMIFS(#REF!,#REF!,'15년총괄표(실국별)'!$B13) -> #REF! | E13: =SUMIFS(#REF!,#REF!,'15년총괄표(실국별)'!$B13) -> #REF! | F13: =SUMIFS(#REF!,#REF!,'15년총괄표(실국별)'!$B13) -> #REF! | G13: =SUMIFS(#REF!,#REF!,'15년총괄표(실국별)'!$B13) -> #REF! | H13: =C13+F13+G13 -> #REF! | N13: 기금
B14: 농정해양국 | C14: 255604029 | D14: =SUMIFS(#REF!,#REF!,'15년총괄표(실국별)'!$B14) -> #REF! | E14: =SUMIFS(#REF!,#REF!,'15년총괄표(실국별)'!$B14) -> #REF! | F14: =SUMIFS(#REF!,#REF!,'15년총괄표(실국별)'!$B14) -> #REF! | G14: =SUMIFS(#REF!,#REF!,'15년총괄표(실국별)'!$B14) -> #REF! | H14: =C14+F14+G14 -> #REF! | N14: =N10-#REF! -> #REF!
B15: 철도국 | C15: 205393587 | D15: =SUMIFS(#REF!,#REF!,'15년총괄표(실국별)'!$B15) -> #REF! | E15: =SUMIFS(#REF!,#REF!,'15년총괄표(실국별)'!$B15) -> #REF! | F15: =SUMIFS(#REF!,#REF!,'15년총괄표(실국별)'!$B15) -> #REF! | G15: =SUMIFS(#REF!,#REF!,'15년총괄표(실국별)'!$B15) -> #REF! | H15: =C15+F15+G15 -> #REF!
B16: 재난안전본부 | C16: 694104955 | D16: =SUMIFS(#REF!,#REF!,'15년총괄표(실국별)'!$B16) -> #REF! | E16: =SUMIFS(#REF!,#REF!,'15년총괄표(실국별)'!$B16) -> #REF! | F16: =SUMIFS(#REF!,#REF!,'15년총괄표(실국별)'!$B16) -> #REF! | G16: =SUMIFS(#REF!,#REF!,'15년총괄표(실국별)'!$B16) -> #REF! | H16: =C16+F16+G16 -> #REF!
B17: 의회사무처 | C17: 30412373 | D17: =SUMIFS(#REF!,#REF!,'15년총괄표(실국별)'!$B17) -> #REF! | E17: =SUMIFS(#REF!,#REF!,'15년총괄표(실국별)'!$B17) -> #REF! | F17: =SUMIFS(#REF!,#REF!,'15년총괄표(실국별)'!$B17) -> #REF! | G17: =SUMIFS(#REF!,#REF!,'15년총괄표(실국별)'!$B17) -> #REF! | H17: =C17+F17+G17 -> #REF!
B18: 대변인 | C18: 12731214 | D18: =SUMIFS(#REF!,#REF!,'15년총괄표(실국별)'!$B18) -> #REF! | E18: =SUMIFS(#REF!,#REF!,'15년총괄표(실국별)'!$B18) -> #REF! | F18: =SUMIFS(#REF!,#REF!,'15년총괄표(실국별)'!$B18) -> #REF! | G18: =SUMIFS(#REF!,#REF!,'15년총괄표(실국별)'!$B18) -> #REF! | H18: =C18+F18+G18 -> #REF! | I18: =#REF!+#REF! -> #REF! | J18: =#REF!+#REF! -> #REF! | N18: =#REF!-#REF! -> #REF!
B19: 대외협력담당관 | C19: 450511 | D19: =SUMIFS(#REF!,#REF!,'15년총괄표(실국별)'!$B19) -> #REF! | E19: =SUMIFS(#REF!,#REF!,'15년총괄표(실국별)'!$B19) -> #REF! | F19: =SUMIFS(#REF!,#REF!,'15년총괄표(실국별)'!$B19) -> #REF! | G19: =SUMIFS(#REF!,#REF!,'15년총괄표(실국별)'!$B19) -> #REF! | H19: =C19+F19+G19 -> #REF!
B20: 보건복지국 | C20: 2803637639 | D20: =SUMIFS(#REF!,#REF!,'15년총괄표(실국별)'!$B20) -> #REF! | E20: =SUMIFS(#REF!,#REF!,'15년총괄표(실국별)'!$B20) -> #REF! | F20: =SUMIFS(#REF!,#REF!,'15년총괄표(실국별)'!$B20) -> #REF! | G20: =SUMIFS(#REF!,#REF!,'15년총괄표(실국별)'!$B20) -> #REF! | H20: =C20+F20+G20 -> #REF!
B21: 환경국 | C21: 96522924 | D21: =SUMIFS(#REF!,#REF!,'15년총괄표(실국별)'!$B21) -> #REF! | E21: =SUMIFS(#REF!,#REF!,'15년총괄표(실국별)'!$B21) -> #REF! | F21: =SUMIFS(#REF!,#REF!,'15년총괄표(실국별)'!$B21) -> #REF! | G21: =SUMIFS(#REF!,#REF!,'15년총괄표(실국별)'!$B21) -> #REF! | H21: =C21+F21+G21 -> #REF! | N21: 기금
B22: 여성가족국 | C22: 1454395771 | D22: =SUMIFS(#REF!,#REF!,'15년총괄표(실국별)'!$B22) -> #REF! | E22: =SUMIFS(#REF!,#REF!,'15년총괄표(실국별)'!$B22) -> #REF! | F22: =SUMIFS(#REF!,#REF!,'15년총괄표(실국별)'!$B22) -> #REF! | G22: =SUMIFS(#REF!,#REF!,'15년총괄표(실국별)'!$B22) -> #REF! | H22: =C22+F22+G22 -> #REF! | N22: =N18-#REF! -> #REF!
B23: 농업기술원 | C23: 35645539 | D23: =SUMIFS(#REF!,#REF!,'15년총괄표(실국별)'!$B23) -> #REF! | E23: =SUMIFS(#REF!,#REF!,'15년총괄표(실국별)'!$B23) -> #REF! | F23: =SUMIFS(#REF!,#REF!,'15년총괄표(실국별)'!$B23) -> #REF! | G23: =SUMIFS(#REF!,#REF!,'15년총괄표(실국별)'!$B23) -> #REF! | H23: =C23+F23+G23 -> #REF!
B24: 인재개발원 | C24: 10314647 | D24: =SUMIFS(#REF!,#REF!,'15년총괄표(실국별)'!$B24) -> #REF! | E24: =SUMIFS(#REF!,#REF!,'15년총괄표(실국별)'!$B24) -> #REF! | F24: =SUMIFS(#REF!,#REF!,'15년총괄표(실국별)'!$B24) -> #REF! | G24: =SUMIFS(#REF!,#REF!,'15년총괄표(실국별)'!$B24) -> #REF! | H24: =C24+F24+G24 -> #REF!
B25: 보건환경연구원 | C25: 8202067 | D25: =SUMIFS(#REF!,#REF!,'15년총괄표(실국별)'!$B25) -> #REF! | E25: =SUMIFS(#REF!,#REF!,'15년총괄표(실국별)'!$B25) -> #REF! | F25: =SUMIFS(#REF!,#REF!,'15년총괄표(실국별)'!$B25) -> #REF! | G25: =SUMIFS(#REF!,#REF!,'15년총괄표(실국별)'!$B25) -> #REF! | H25: =C25+F25+G25 -> #REF!
B26: 수자원본부 | C26: 631831527 | D26: =SUMIFS(#REF!,#REF!,'15년총괄표(실국별)'!$B26) -> #REF! | E26: =SUMIFS(#REF!,#REF!,'15년총괄표(실국별)'!$B26) -> #REF! | F26: =SUMIFS(#REF!,#REF!,'15년총괄표(실국별)'!$B26) -> #REF! | G26: =SUMIFS(#REF!,#REF!,'15년총괄표(실국별)'!$B26) -> #REF! | H26: =C26+F26+G26 -> #REF! | I26: =#REF!+#REF! -> #REF! | J26: =#REF!+#REF! -> #REF! | N26: =M2-N2 -> 0
B27: 복지여성실 | C27: 1328409175 | D27: =SUMIFS(#REF!,#REF!,'15년총괄표(실국별)'!$B27) -> #REF! | E27: =SUMIFS(#REF!,#REF!,'15년총괄표(실국별)'!$B27) -> #REF! | F27: =SUMIFS(#REF!,#REF!,'15년총괄표(실국별)'!$B27) -> #REF! | G27: =SUMIFS(#REF!,#REF!,'15년총괄표(실국별)'!$B27) -> #REF! | H27: =C27+F27+G27 -> #REF!
B28: 균형발전기획실 | C28: 223863128 | D28: =SUMIFS(#REF!,#REF!,'15년총괄표(실국별)'!$B28) -> #REF! | E28: =SUMIFS(#REF!,#REF!,'15년총괄표(실국별)'!$B28) -> #REF! | F28: =SUMIFS(#REF!,#REF!,'15년총괄표(실국별)'!$B28) -> #REF! | G28: =SUMIFS(#REF!,#REF!,'15년총괄표(실국별)'!$B28) -> #REF! | H28: =C28+F28+G28 -> #REF!
B29: 경제실 | C29: 506163851 | D29: =SUMIFS(#REF!,#REF!,'15년총괄표(실국별)'!$B29) -> #REF! | E29: =SUMIFS(#REF!,#REF!,'15년총괄표(실국별)'!$B29) -> #REF! | F29: =SUMIFS(#REF!,#REF!,'15년총괄표(실국별)'!$B29) -> #REF! | G29: =SUMIFS(#REF!,#REF!,'15년총괄표(실국별)'!$B29) -> #REF! | H29: =C29+F29+G29 -> #REF! | N29: 기금
B30: 축산산림국 | C30: 165426798 | D30: =SUMIFS(#REF!,#REF!,'15년총괄표(실국별)'!$B30) -> #REF! | E30: =SUMIFS(#REF!,#REF!,'15년총괄표(실국별)'!$B30) -> #REF! | F30: =SUMIFS(#REF!,#REF!,'15년총괄표(실국별)'!$B30) -> #REF! | G30: =SUMIFS(#REF!,#REF!,'15년총괄표(실국별)'!$B30) -> #REF! | H30: =C30+F30+G30 -> #REF! | N30: =N26-K2 -> 0
B31: 교통국 | C31: 466950444 | D31: =SUMIFS(#REF!,#REF!,'15년총괄표(실국별)'!$B31) -> #REF! | E31: =SUMIFS(#REF!,#REF!,'15년총괄표(실국별)'!$B31) -> #REF! | F31: =SUMIFS(#REF!,#REF!,'15년총괄표(실국별)'!$B31) -> #REF! | G31: =SUMIFS(#REF!,#REF!,'15년총괄표(실국별)'!$B31) -> #REF! | H31: =C31+F31+G31 -> #REF! | I31: =#REF!+#REF! -> #REF! | J31: =#REF!+#REF! -> #REF! | N31: =M7-N7 -> #REF!
B32: 건설국 | C32: 570450422 | D32: =SUMIFS(#REF!,#REF!,'15년총괄표(실국별)'!$B32) -> #REF! | E32: =SUMIFS(#REF!,#REF!,'15년총괄표(실국별)'!$B32) -> #REF! | F32: =SUMIFS(#REF!,#REF!,'15년총괄표(실국별)'!$B32) -> #REF! | G32: =SUMIFS(#REF!,#REF!,'15년총괄표(실국별)'!$B32) -> #REF! | H32: =C32+F32+G32 -> #REF!
B33: 건설본부 | C33: 48696301 | D33: =SUMIFS(#REF!,#REF!,'15년총괄표(실국별)'!$B33) -> #REF! | E33: =SUMIFS(#REF!,#REF!,'15년총괄표(실국별)'!$B33) -> #REF! | F33: =SUMIFS(#REF!,#REF!,'15년총괄표(실국별)'!$B33) -> #REF! | G33: =SUMIFS(#REF!,#REF!,'15년총괄표(실국별)'!$B33) -> #REF! | H33: =C33+F33+G33 -> #REF!
B37: 실국명 | C37: 일반 | D37: 기특 | E37: 공특 | F37: 합계
B38: 총합계 | C38: =SUM(C39:C64) -> 14504760931 | D38: =SUM(D39:D64) -> 1174065395 | E38: =SUM(E39:E64) -> 2139712389 | F38: =SUM(C38:E38) -> 17818538715
B39: 감사관 | C39: 1230140 | F39: =SUM(C39:E39) -> 1230140
B40: 기획조정실 | C40: 3253514147 | E40: 1741536684 | F40: =SUM(C40:E40) -> 4995050831
B41: 도시주택실 | C41: 302743533 | D41: 14731912 | E41: 33000000 | F41: =SUM(C41:E41) -> 350475445
B42: 자치행정국 | C42: 489102362 | F42: =SUM(C42:E42) -> 489102362
B43: 교육협력국 | C43: 1957985774 | D43: 166414000 | F43: =SUM(C43:E43) -> 2124399774
B44: 문화체육관광국 | C44: 246448826 | E44: 62624435 | F44: =SUM(C44:E44) -> 309073261
B45: 농정해양국 | C45: 255604029 | F45: =SUM(C45:E45) -> 255604029
B46: 철도국 | C46: 205393587 | F46: =SUM(C46:E46) -> 205393587
B47: 재난안전본부 | C47: =635730961+1074501+3040529+54258964 -> 694104955 | F47: =SUM(C47:E47) -> 694104955
B48: 의회사무처 | C48: 30412373 | F48: =SUM(C48:E48) -> 30412373
B49: 대변인 | C49: 12731214 | F49: =SUM(C49:E49) -> 12731214
B50: 대외협력담당관 | C50: 450511 | F50: =SUM(C50:E50) -> 450511
B51: 보건복지국 | C51: 1966943221 | D51: 836694418 | F51: =SUM(C51:E51) -> 2803637639
B52: 환경국 | C52: 96522924 | F52: =SUM(C52:E52) -> 96522924
B53: 여성가족국 | C53: 1454395771 | F53: =SUM(C53:E53) -> 1454395771
B54: 농업기술원 | C54: 35645539 | F54: =SUM(C54:E54) -> 35645539
B55: 인재개발원 | C55: 10314647 | F55: =SUM(C55:E55) -> 10314647
B56: 보건환경연구원 | C56: 8202067 | F56: =SUM(C56:E56) -> 8202067
B57: 수자원본부 | C57: 627640527 | D57: 4191000 | F57: =SUM(C57:E57) -> 631831527
B58: 복지여성실 | C58: 1328409175 | F58: =SUM(C58:E58) -> 1328409175
B59: 균형발전기획실 | C59: 199572128 | D59: 24291000 | F59: =SUM(C59:E59) -> 223863128
B60: 경제실 | C60: 203612581 | E60: 302551270 | F60: =SUM(C60:E60) -> 506163851
B61: 축산산림국 | C61: 165426798 | F61: =SUM(C61:E61) -> 165426798
B62: 교통국 | C62: 341380444 | D62: 125570000 | F62: =SUM(C62:E62) -> 466950444
B63: 건설국 | C63: 568277357 | D63: 2173065 | F63: =SUM(C63:E63) -> 570450422
B64: 건설본부 | C64: 48696301 | F64: =SUM(C64:E64) -> 48696301
I164: ◦ 본청 83,000 증 ◦ 북부청 377,000 증
K294: -50000

Sheet 2추총괄표
B1: '14년도 제2회 추경 일반 및 특별회계 세입·세출 예산안[전체예산총괄]
B3: □ 총 괄 | D3: 세입예산증감 | E3: =SUM(D7:E7) -> #REF! | F3: 세출예산증감 | G3: =SUM(F7:G7) -> #REF!
H4: (단위:천원) | M4: (일반+특별+기금) | O4: 특별+기금
B5: 구 분 | C5: 집행부제출(안) | D5: 세입예산(안) | F5: 세출예산(안) | H5: 예산수정(안) | I5: 일반회계 증감(총괄표) | K5: 예비비증감 | L5: 비 고 | M5: 전체 증감(시트) | O5: 비고
D6: 감 액 | E6: 증 액 | F6: 감 액 | G6: 증 액 | I6: 세입 | J6: 세출 | M6: 세입 | N6: 세출
B7: 합 계 | C7: =SUM(C8:C18) -> 18076711803 | D7: =SUM(D8:D18) -> #REF! | E7: =SUM(E8:E18) -> #REF! | F7: =SUM(F8:F18) -> #REF! | G7: =SUM(G8:G18) -> #REF! | H7: =SUM(H8:H18) -> #REF! | I7: =E25+D25 -> #REF! | J7: =F25+G25 -> #REF! | K7: =I7-J7 -> #REF! | L7: 예비비 증감이 - 예산이면 감액에 + 예산이면 증액에 입력 | M7: =D24+E24 -> #REF! | N7: =F24+G24 -> #REF! | O7: 0 | P7: 0
B8: 기 타 | C8: 0 | H8: =C8-F8+G8 -> 0 | I8: =D7+E7 -> #REF! | J8: =F7+G7 -> #REF! | K8: =I8-J8 -> #REF!
B9: 의회운영위원회 | C9: 41526053 | D9: =SUMIFS(#REF!,#REF!,'2추총괄표'!$B9) -> #REF! | E9: =SUMIFS(#REF!,#REF!,'2추총괄표'!$B9) -> #REF! | F9: =SUMIFS(#REF!,#REF!,'2추총괄표'!$B9) -> #REF! | G9: =SUMIFS(#REF!,#REF!,'2추총괄표'!$B9) -> #REF! | H9: =C9+F9+G9 -> #REF! | I9: 일반회계 증감(시트) | N9: 전체 증감
B10: 기획재정위원회 | C10: 5330576319 | D10: =SUMIFS(#REF!,#REF!,'2추총괄표'!$B10) -> #REF! | E10: =SUMIFS(#REF!,#REF!,'2추총괄표'!$B10) -> #REF! | F10: =SUMIFS(#REF!,#REF!,'2추총괄표'!$B10) -> #REF! | G10: =SUMIFS(#REF!,#REF!,'2추총괄표'!$B10) -> #REF! | H10: =C10+F10+G10 -> #REF! | I10: =#REF!+#REF! -> #REF! | J10: =#REF!+#REF! -> #REF! | N10: =M7-N7 -> #REF!
B11: 경제과학기술위원회 | C11: 551253750 | D11: =SUMIFS(#REF!,#REF!,'2추총괄표'!$B11) -> #REF! | E11: =SUMIFS(#REF!,#REF!,'2추총괄표'!$B11) -> #REF! | F11: =SUMIFS(#REF!,#REF!,'2추총괄표'!$B11) -> #REF! | G11: =SUMIFS(#REF!,#REF!,'2추총괄표'!$B11) -> #REF! | H11: =C11+F11+G11 -> #REF!
B12: 안전행정위원회 | C12: 1151519175 | D12: =SUMIFS(#REF!,#REF!,'2추총괄표'!$B12) -> #REF! | E12: =SUMIFS(#REF!,#REF!,'2추총괄표'!$B12) -> #REF! | F12: =SUMIFS(#REF!,#REF!,'2추총괄표'!$B12) -> #REF! | G12: =SUMIFS(#REF!,#REF!,'2추총괄표'!$B12) -> #REF! | H12: =C12+F12+G12 -> #REF!
B13: 문화체육관광위원회 | C13: 258716894 | D13: =SUMIFS(#REF!,#REF!,'2추총괄표'!$B13) -> #REF! | E13: =SUMIFS(#REF!,#REF!,'2추총괄표'!$B13) -> #REF! | F13: =SUMIFS(#REF!,#REF!,'2추총괄표'!$B13) -> #REF! | G13: =SUMIFS(#REF!,#REF!,'2추총괄표'!$B13) -> #REF! | H13: =C13+F13+G13 -> #REF! | N13: 기금
B14: 농정해양위원회 | C14: 474291470 | D14: =SUMIFS(#REF!,#REF!,'2추총괄표'!$B14) -> #REF! | E14: =SUMIFS(#REF!,#REF!,'2추총괄표'!$B14) -> #REF! | F14: =SUMIFS(#REF!,#REF!,'2추총괄표'!$B14) -> #REF! | G14: =SUMIFS(#REF!,#REF!,'2추총괄표'!$B14) -> #REF! | H14: =C14+F14+G14 -> #REF! | N14: =N10-K7 -> #REF!
B15: 보건복지위원회 | C15: 3278893259 | D15: =SUMIFS(#REF!,#REF!,'2추총괄표'!$B15) -> #REF! | E15: =SUMIFS(#REF!,#REF!,'2추총괄표'!$B15) -> #REF! | F15: =SUMIFS(#REF!,#REF!,'2추총괄표'!$B15) -> #REF! | G15: =SUMIFS(#REF!,#REF!,'2추총괄표'!$B15) -> #REF! | H15: =C15+F15+G15 -> #REF!
B16: 건설교통위원회 | C16: 1191584285 | D16: =SUMIFS(#REF!,#REF!,'2추총괄표'!$B16) -> #REF! | E16: =SUMIFS(#REF!,#REF!,'2추총괄표'!$B16) -> #REF! | F16: =SUMIFS(#REF!,#REF!,'2추총괄표'!$B16) -> #REF! | G16: =SUMIFS(#REF!,#REF!,'2추총괄표'!$B16) -> #REF! | H16: =C16+F16+G16 -> #REF!
B17: 도시환경위원회 | C17: 898421829 | D17: =SUMIFS(#REF!,#REF!,'2추총괄표'!$B17) -> #REF! | E17: =SUMIFS(#REF!,#REF!,'2추총괄표'!$B17) -> #REF! | F17: =SUMIFS(#REF!,#REF!,'2추총괄표'!$B17) -> #REF! | G17: =SUMIFS(#REF!,#REF!,'2추총괄표'!$B17) -> #REF! | H17: =C17+F17+G17 -> #REF!
B18: 여성가족교육협력위원회 | C18: 4899928769 | D18: =SUMIFS(#REF!,#REF!,'2추총괄표'!$B18) -> #REF! | E18: =SUMIFS(#REF!,#REF!,'2추총괄표'!$B18) -> #REF! | F18: =SUMIFS(#REF!,#REF!,'2추총괄표'!$B18) -> #REF! | G18: =SUMIFS(#REF!,#REF!,'2추총괄표'!$B18) -> #REF! | H18: =C18+F18+G18 -> #REF!
B20: □ 회계별 예산총규모
H21: (단위:천원)
B22: 구 분 | C22: 세출예산액 (집행부제출 안) | D22: 세입예산(안) | F22: 세출예산(안) | H22: 예산수정(안)
D23: 감 액 | E23: 증 액 | F23: 감 액 | G23: 증 액 | I23: 세입기준 수정예산안
B24: 합 계 | C24: =SUM(C25:C26) -> 0 | D24: =SUM(D25:D26) -> #REF! | E24: =SUM(E25:E26) -> #REF! | F24: =SUM(F25:F26) -> #REF! | G24: =SUM(G25:G26) -> #REF! | H24: =SUM(H25:H26) -> #REF! | I24: =C24+D24+E24 -> #REF! | J24: =I24-H24 -> #REF! | K24: (세출기준-세입기준)
B25: 일반회계 | D25: =#REF! -> #REF! | E25: =#REF! -> #REF! | F25: =#REF! -> #REF! | G25: =#REF! -> #REF! | H25: =C25+F25+G25 -> #REF! | I25: =C25+D25+E25 -> #REF! | J25: =I25-H25 -> #REF! | K25: (세출기준-세입기준)
B26: 특별회계 | H26: =C26+F26+G26 -> 0 | I26: =C26+D26+E26 -> 0 | J26: =I26-H26 -> 0 | K26: (세출기준-세입기준)
B30: 위원회명 | C30: 일반+기특 | D30: 공기업 | E30: 합계
B31: 의회운영위원회 | C31: 39922113 | E31: =SUM(C31:D31) -> 39922113
B32: 기획재정위원회 | C32: 3302571667 | D32: 1780946434 | E32: =SUM(C32:D32) -> 5083518101
B33: 경제과학기술위원회 | C33: 155329320 | D33: 384743740 | E33: =SUM(C33:D33) -> 540073060
B34: 안전행정위원회 | C34: 1142858974 | E34: =SUM(C34:D34) -> 1142858974
B35: 문화체육관광위원회 | C35: 224243208 | D35: 52484400 | E35: =SUM(C35:D35) -> 276727608
B36: 농정해양위원회 | C36: 466978999 | E36: =SUM(C36:D36) -> 466978999
B37: 보건복지위원회 | C37: 3254006708 | E37: =SUM(C37:D37) -> 3254006708
B38: 건설교통위원회 | C38: 1220859831 | E38: =SUM(C38:D38) -> 1220859831
B39: 도시환경위원회 | C39: 866963933 | D39: 28360000 | E39: =SUM(C39:D39) -> 895323933
B40: 여성가족평생교육위원회 | C40: 4882582917 | E40: =SUM(C40:D40) -> 4882582917
B41: 총합계 | C41: =SUM(C31:C40) -> 15556317670 | D41: =SUM(D31:D40) -> 2246534574 | E41: =SUM(C41:D41) -> 17802852244
B43: 예비비 | C43: =3922478-221377 -> 3701101
B54: 위원회명 | C54: 일반 | D54: 기특 | E54: 공특 | F54: 합계
B56: 총합계 | C56: =SUM(C57:C66) -> 14571523178 | D56: =SUM(D57:D66) -> 1223711435 | E56: =SUM(E57:E66) -> 2281477190 | F56: =SUM(C56:E56) -> 18076711803
B57: 의회운영위원회 | C57: 41526053 | F57: =SUM(C57:E57) -> 41526053
B58: 기획재정위원회 | C58: 3471558203 | D58: 15000000 | E58: 1844018116 | F58: =SUM(C58:E58) -> 5330576319
B59: 경제과학기술위원회 | C59: 166510010 | E59: 384743740 | F59: =SUM(C59:E59) -> 551253750
B60: 안전행정위원회 | C60: 1151519175 | F60: =SUM(C60:E60) -> 1151519175
B61: 문화체육관광위원회 | C61: 234366028 | E61: 24350866 | F61: =SUM(C61:E61) -> 258716894
B62: 농정해양위원회 | C62: 474291470 | F62: =SUM(C62:E62) -> 474291470
B63: 보건복지위원회 | C63: 2439677682 | D63: 839215577 | F63: =SUM(C63:E63) -> 3278893259
B64: 건설교통위원회 | C64: 1093857927 | D64: 97726358 | F64: =SUM(C64:E64) -> 1191584285
B65: 도시환경위원회 | C65: 845217861 | D65: 24839500 | E65: 28364468 | F65: =SUM(C65:E65) -> 898421829
B66: 여성가족교육협력위원회 | C66: 4652998769 | D66: 246930000 | F66: =SUM(C66:E66) -> 4899928769
I160: ◦ 본청 83,000 증 ◦ 북부청 377,000 증
K290: -50000

Sheet 2추총괄표(실국별)
B1: '14년도 제2회 추경 일반 및 특별회계 세입·세출 예산안[전체예산총괄]
B3: □ 총괄(실국별) | E3: =SUM(D7:E7) -> #REF! | G3: =SUM(F7:G7) -> #REF!
H4: (단위:천원) | M4: (일반+특별+기금) | O4: 특별+기금
B5: 구 분 | C5: 집행부제출(안) | D5: 세입예산(안) | F5: 세출예산(안) | H5: 예산수정(안) | I5: 일반회계 증감(총괄표) | K5: 예비비증감 | L5: 비 고 | M5: 전체 증감(시트) | O5: 비고
D6: 감 액 | E6: 증 액 | F6: 감 액 | G6: 증 액 | I6: 세입 | J6: 세출 | M6: 세입 | N6: 세출
B7: 합 계 | C7: =SUM(C8:C33) -> 18076711803 | D7: =SUM(D8:D33) -> #REF! | E7: =SUM(E8:E33) -> #REF! | F7: =SUM(F8:F33) -> #REF! | G7: =SUM(G8:G33) -> #REF! | H7: =SUM(H8:H33) -> #REF! | I7: =#REF!+#REF! -> #REF! | J7: =#REF!+#REF! -> #REF! | K7: =I7-J7 -> #REF! | L7: 예비비 증감이 - 예산이면 감액에 + 예산이면 증액에 입력 | M7: =#REF!+#REF! -> #REF! | N7: =#REF!+#REF! -> #REF! | O7: 0 | P7: 0
B8: 감사관 | C8: 914581 | D8: =SUMIFS(#REF!,#REF!,'2추총괄표(실국별)'!$B8) -> #REF! | E8: =SUMIFS(#REF!,#REF!,'2추총괄표(실국별)'!$B8) -> #REF! | F8: =SUMIFS(#REF!,#REF!,'2추총괄표(실국별)'!$B8) -> #REF! | G8: =SUMIFS(#REF!,#REF!,'2추총괄표(실국별)'!$B8) -> #REF! | H8: =C8+F8+G8 -> #REF! | I8: 일반회계 증감(시트) | N8: 전체 증감
B9: 기획조정실 | C9: 5144786053 | D9: =SUMIFS(#REF!,#REF!,'2추총괄표(실국별)'!$B9) -> #REF! | E9: =SUMIFS(#REF!,#REF!,'2추총괄표(실국별)'!$B9) -> #REF! | F9: =SUMIFS(#REF!,#REF!,'2추총괄표(실국별)'!$B9) -> #REF! | G9: =SUMIFS(#REF!,#REF!,'2추총괄표(실국별)'!$B9) -> #REF! | H9: =C9+F9+G9 -> #REF! | I9: =#REF!+#REF! -> #REF! | J9: =#REF!+#REF! -> #REF! | N9: =#REF!-#REF! -> #REF!
B10: 도시주택실 | C10: 221255441 | D10: =SUMIFS(#REF!,#REF!,'2추총괄표(실국별)'!$B10) -> #REF! | E10: =SUMIFS(#REF!,#REF!,'2추총괄표(실국별)'!$B10) -> #REF! | F10: =SUMIFS(#REF!,#REF!,'2추총괄표(실국별)'!$B10) -> #REF! | G10: =SUMIFS(#REF!,#REF!,'2추총괄표(실국별)'!$B10) -> #REF! | H10: =C10+F10+G10 -> #REF! | I10: =#REF!+#REF! -> #REF! | J10: =#REF!+#REF! -> #REF! | N10: =#REF!-#REF! -> #REF!
B11: 자치행정국 | C11: 547246549 | D11: =SUMIFS(#REF!,#REF!,'2추총괄표(실국별)'!$B11) -> #REF! | E11: =SUMIFS(#REF!,#REF!,'2추총괄표(실국별)'!$B11) -> #REF! | F11: =SUMIFS(#REF!,#REF!,'2추총괄표(실국별)'!$B11) -> #REF! | G11: =SUMIFS(#REF!,#REF!,'2추총괄표(실국별)'!$B11) -> #REF! | H11: =C11+F11+G11 -> #REF!
B12: 교육협력국 | C12: 2339199089 | D12: =SUMIFS(#REF!,#REF!,'2추총괄표(실국별)'!$B12) -> #REF! | E12: =SUMIFS(#REF!,#REF!,'2추총괄표(실국별)'!$B12) -> #REF! | F12: =SUMIFS(#REF!,#REF!,'2추총괄표(실국별)'!$B12) -> #REF! | G12: =SUMIFS(#REF!,#REF!,'2추총괄표(실국별)'!$B12) -> #REF! | H12: =C12+F12+G12 -> #REF!
B13: 문화체육관광국 | C13: 258716894 | D13: =SUMIFS(#REF!,#REF!,'2추총괄표(실국별)'!$B13) -> #REF! | E13: =SUMIFS(#REF!,#REF!,'2추총괄표(실국별)'!$B13) -> #REF! | F13: =SUMIFS(#REF!,#REF!,'2추총괄표(실국별)'!$B13) -> #REF! | G13: =SUMIFS(#REF!,#REF!,'2추총괄표(실국별)'!$B13) -> #REF! | H13: =C13+F13+G13 -> #REF! | N13: 기금
B14: 농정해양국 | C14: 250268892 | D14: =SUMIFS(#REF!,#REF!,'2추총괄표(실국별)'!$B14) -> #REF! | E14: =SUMIFS(#REF!,#REF!,'2추총괄표(실국별)'!$B14) -> #REF! | F14: =SUMIFS(#REF!,#REF!,'2추총괄표(실국별)'!$B14) -> #REF! | G14: =SUMIFS(#REF!,#REF!,'2추총괄표(실국별)'!$B14) -> #REF! | H14: =C14+F14+G14 -> #REF! | N14: =N10-#REF! -> #REF!
B15: 철도국 | C15: 97467509 | D15: =SUMIFS(#REF!,#REF!,'2추총괄표(실국별)'!$B15) -> #REF! | E15: =SUMIFS(#REF!,#REF!,'2추총괄표(실국별)'!$B15) -> #REF! | F15: =SUMIFS(#REF!,#REF!,'2추총괄표(실국별)'!$B15) -> #REF! | G15: =SUMIFS(#REF!,#REF!,'2추총괄표(실국별)'!$B15) -> #REF! | H15: =C15+F15+G15 -> #REF!
B16: 재난안전본부 | C16: 577186012 | D16: =SUMIFS(#REF!,#REF!,'2추총괄표(실국별)'!$B16) -> #REF! | E16: =SUMIFS(#REF!,#REF!,'2추총괄표(실국별)'!$B16) -> #REF! | F16: =SUMIFS(#REF!,#REF!,'2추총괄표(실국별)'!$B16) -> #REF! | G16: =SUMIFS(#REF!,#REF!,'2추총괄표(실국별)'!$B16) -> #REF! | H16: =C16+F16+G16 -> #REF!
B17: 의회사무처 | C17: 29891138 | D17: =SUMIFS(#REF!,#REF!,'2추총괄표(실국별)'!$B17) -> #REF! | E17: =SUMIFS(#REF!,#REF!,'2추총괄표(실국별)'!$B17) -> #REF! | F17: =SUMIFS(#REF!,#REF!,'2추총괄표(실국별)'!$B17) -> #REF! | G17: =SUMIFS(#REF!,#REF!,'2추총괄표(실국별)'!$B17) -> #REF! | H17: =C17+F17+G17 -> #REF!
B18: 대변인 | C18: 11250846 | D18: =SUMIFS(#REF!,#REF!,'2추총괄표(실국별)'!$B18) -> #REF! | E18: =SUMIFS(#REF!,#REF!,'2추총괄표(실국별)'!$B18) -> #REF! | F18: =SUMIFS(#REF!,#REF!,'2추총괄표(실국별)'!$B18) -> #REF! | G18: =SUMIFS(#REF!,#REF!,'2추총괄표(실국별)'!$B18) -> #REF! | H18: =C18+F18+G18 -> #REF! | I18: =#REF!+#REF! -> #REF! | J18: =#REF!+#REF! -> #REF! | N18: =#REF!-#REF! -> #REF!
B19: 대외협력담당관 | C19: 384069 | D19: =SUMIFS(#REF!,#REF!,'2추총괄표(실국별)'!$B19) -> #REF! | E19: =SUMIFS(#REF!,#REF!,'2추총괄표(실국별)'!$B19) -> #REF! | F19: =SUMIFS(#REF!,#REF!,'2추총괄표(실국별)'!$B19) -> #REF! | G19: =SUMIFS(#REF!,#REF!,'2추총괄표(실국별)'!$B19) -> #REF! | H19: =C19+F19+G19 -> #REF!
B20: 보건복지국 | C20: 2582006910 | D20: =SUMIFS(#REF!,#REF!,'2추총괄표(실국별)'!$B20) -> #REF! | E20: =SUMIFS(#REF!,#REF!,'2추총괄표(실국별)'!$B20) -> #REF! | F20: =SUMIFS(#REF!,#REF!,'2추총괄표(실국별)'!$B20) -> #REF! | G20: =SUMIFS(#REF!,#REF!,'2추총괄표(실국별)'!$B20) -> #REF! | H20: =C20+F20+G20 -> #REF!
B21: 환경국 | C21: 90647611 | D21: =SUMIFS(#REF!,#REF!,'2추총괄표(실국별)'!$B21) -> #REF! | E21: =SUMIFS(#REF!,#REF!,'2추총괄표(실국별)'!$B21) -> #REF! | F21: =SUMIFS(#REF!,#REF!,'2추총괄표(실국별)'!$B21) -> #REF! | G21: =SUMIFS(#REF!,#REF!,'2추총괄표(실국별)'!$B21) -> #REF! | H21: =C21+F21+G21 -> #REF! | N21: 기금
B22: 여성가족국 | C22: 1883037298 | D22: =SUMIFS(#REF!,#REF!,'2추총괄표(실국별)'!$B22) -> #REF! | E22: =SUMIFS(#REF!,#REF!,'2추총괄표(실국별)'!$B22) -> #REF! | F22: =SUMIFS(#REF!,#REF!,'2추총괄표(실국별)'!$B22) -> #REF! | G22: =SUMIFS(#REF!,#REF!,'2추총괄표(실국별)'!$B22) -> #REF! | H22: =C22+F22+G22 -> #REF! | N22: =N18-#REF! -> #REF!
B23: 농업기술원 | C23: 39275302 | D23: =SUMIFS(#REF!,#REF!,'2추총괄표(실국별)'!$B23) -> #REF! | E23: =SUMIFS(#REF!,#REF!,'2추총괄표(실국별)'!$B23) -> #REF! | F23: =SUMIFS(#REF!,#REF!,'2추총괄표(실국별)'!$B23) -> #REF! | G23: =SUMIFS(#REF!,#REF!,'2추총괄표(실국별)'!$B23) -> #REF! | H23: =C23+F23+G23 -> #REF!
B24: 인재개발원 | C24: 8834247 | D24: =SUMIFS(#REF!,#REF!,'2추총괄표(실국별)'!$B24) -> #REF! | E24: =SUMIFS(#REF!,#REF!,'2추총괄표(실국별)'!$B24) -> #REF! | F24: =SUMIFS(#REF!,#REF!,'2추총괄표(실국별)'!$B24) -> #REF! | G24: =SUMIFS(#REF!,#REF!,'2추총괄표(실국별)'!$B24) -> #REF! | H24: =C24+F24+G24 -> #REF!
B25: 보건환경연구원 | C25: 9409184 | D25: =SUMIFS(#REF!,#REF!,'2추총괄표(실국별)'!$B25) -> #REF! | E25: =SUMIFS(#REF!,#REF!,'2추총괄표(실국별)'!$B25) -> #REF! | F25: =SUMIFS(#REF!,#REF!,'2추총괄표(실국별)'!$B25) -> #REF! | G25: =SUMIFS(#REF!,#REF!,'2추총괄표(실국별)'!$B25) -> #REF! | H25: =C25+F25+G25 -> #REF!
B26: 수자원본부 | C26: 568254411 | D26: =SUMIFS(#REF!,#REF!,'2추총괄표(실국별)'!$B26) -> #REF! | E26: =SUMIFS(#REF!,#REF!,'2추총괄표(실국별)'!$B26) -> #REF! | F26: =SUMIFS(#REF!,#REF!,'2추총괄표(실국별)'!$B26) -> #REF! | G26: =SUMIFS(#REF!,#REF!,'2추총괄표(실국별)'!$B26) -> #REF! | H26: =C26+F26+G26 -> #REF! | I26: =#REF!+#REF! -> #REF! | J26: =#REF!+#REF! -> #REF! | N26: =M2-N2 -> 0
B27: 복지여성실 | C27: 1368375599 | D27: =SUMIFS(#REF!,#REF!,'2추총괄표(실국별)'!$B27) -> #REF! | E27: =SUMIFS(#REF!,#REF!,'2추총괄표(실국별)'!$B27) -> #REF! | F27: =SUMIFS(#REF!,#REF!,'2추총괄표(실국별)'!$B27) -> #REF! | G27: =SUMIFS(#REF!,#REF!,'2추총괄표(실국별)'!$B27) -> #REF! | H27: =C27+F27+G27 -> #REF!
B28: 균형발전기획실 | C28: 203128052 | D28: =SUMIFS(#REF!,#REF!,'2추총괄표(실국별)'!$B28) -> #REF! | E28: =SUMIFS(#REF!,#REF!,'2추총괄표(실국별)'!$B28) -> #REF! | F28: =SUMIFS(#REF!,#REF!,'2추총괄표(실국별)'!$B28) -> #REF! | G28: =SUMIFS(#REF!,#REF!,'2추총괄표(실국별)'!$B28) -> #REF! | H28: =C28+F28+G28 -> #REF!
B29: 경제실 | C29: 551253750 | D29: =SUMIFS(#REF!,#REF!,'2추총괄표(실국별)'!$B29) -> #REF! | E29: =SUMIFS(#REF!,#REF!,'2추총괄표(실국별)'!$B29) -> #REF! | F29: =SUMIFS(#REF!,#REF!,'2추총괄표(실국별)'!$B29) -> #REF! | G29: =SUMIFS(#REF!,#REF!,'2추총괄표(실국별)'!$B29) -> #REF! | H29: =C29+F29+G29 -> #REF! | N29: 기금
B30: 축산산림국 | C30: 199805590 | D30: =SUMIFS(#REF!,#REF!,'2추총괄표(실국별)'!$B30) -> #REF! | E30: =SUMIFS(#REF!,#REF!,'2추총괄표(실국별)'!$B30) -> #REF! | F30: =SUMIFS(#REF!,#REF!,'2추총괄표(실국별)'!$B30) -> #REF! | G30: =SUMIFS(#REF!,#REF!,'2추총괄표(실국별)'!$B30) -> #REF! | H30: =C30+F30+G30 -> #REF! | N30: =N26-K2 -> 0
B31: 교통국 | C31: 444655559 | D31: =SUMIFS(#REF!,#REF!,'2추총괄표(실국별)'!$B31) -> #REF! | E31: =SUMIFS(#REF!,#REF!,'2추총괄표(실국별)'!$B31) -> #REF! | F31: =SUMIFS(#REF!,#REF!,'2추총괄표(실국별)'!$B31) -> #REF! | G31: =SUMIFS(#REF!,#REF!,'2추총괄표(실국별)'!$B31) -> #REF! | H31: =C31+F31+G31 -> #REF! | I31: =#REF!+#REF! -> #REF! | J31: =#REF!+#REF! -> #REF! | N31: =M7-N7 -> #REF!
B32: 건설국 | C32: 606801393 | D32: =SUMIFS(#REF!,#REF!,'2추총괄표(실국별)'!$B32) -> #REF! | E32: =SUMIFS(#REF!,#REF!,'2추총괄표(실국별)'!$B32) -> #REF! | F32: =SUMIFS(#REF!,#REF!,'2추총괄표(실국별)'!$B32) -> #REF! | G32: =SUMIFS(#REF!,#REF!,'2추총괄표(실국별)'!$B32) -> #REF! | H32: =C32+F32+G32 -> #REF!
B33: 건설본부 | C33: 42659824 | D33: =SUMIFS(#REF!,#REF!,'2추총괄표(실국별)'!$B33) -> #REF! | E33: =SUMIFS(#REF!,#REF!,'2추총괄표(실국별)'!$B33) -> #REF! | F33: =SUMIFS(#REF!,#REF!,'2추총괄표(실국별)'!$B33) -> #REF! | G33: =SUMIFS(#REF!,#REF!,'2추총괄표(실국별)'!$B33) -> #REF! | H33: =C33+F33+G33 -> #REF!
B37: 실국명 | C37: 일반 | D37: 기특 | E37: 공특 | F37: 합계
B38: 총합계 | C38: =SUM(C39:C64) -> 14571523178 | D38: =SUM(D39:D64) -> 1223711435 | E38: =SUM(E39:E64) -> 2281477190 | F38: =SUM(C38:E38) -> 18076711803
B39: 감사관 | C39: 914581 | F39: =SUM(C39:E39) -> 914581
B40: 기획조정실 | C40: 3300767937 | E40: 1844018116 | F40: =SUM(C40:E40) -> 5144786053
B41: 도시주택실 | C41: 171642061 | D41: 21248912 | E41: 28364468 | F41: =SUM(C41:E41) -> 221255441
B42: 자치행정국 | C42: 547246549 | F42: =SUM(C42:E42) -> 547246549
B43: 교육협력국 | C43: 2092269089 | D43: 246930000 | F43: =SUM(C43:E43) -> 2339199089
B44: 문화체육관광국 | C44: 234366028 | E44: 24350866 | F44: =SUM(C44:E44) -> 258716894
B45: 농정해양국 | C45: 250268892 | F45: =SUM(C45:E45) -> 250268892
B46: 철도국 | C46: 97467509 | F46: =SUM(C46:E46) -> 97467509
B47: 재난안전본부 | C47: =512692414+1402108+5137721+57953769 -> 577186012 | F47: =SUM(C47:E47) -> 577186012
B48: 의회사무처 | C48: 29891138 | F48: =SUM(C48:E48) -> 29891138
B49: 대변인 | C49: 11250846 | F49: =SUM(C49:E49) -> 11250846
B50: 대외협력담당관 | C50: 384069 | F50: =SUM(C50:E50) -> 384069
B51: 보건복지국 | C51: 1742791333 | D51: 839215577 | F51: =SUM(C51:E51) -> 2582006910
B52: 환경국 | C52: 90647611 | F52: =SUM(C52:E52) -> 90647611
B53: 여성가족국 | C53: 1883037298 | F53: =SUM(C53:E53) -> 1883037298
B54: 농업기술원 | C54: 39275302 | F54: =SUM(C54:E54) -> 39275302
B55: 인재개발원 | C55: 8834247 | F55: =SUM(C55:E55) -> 8834247
B56: 보건환경연구원 | C56: 9409184 | F56: =SUM(C56:E56) -> 9409184
B57: 수자원본부 | C57: 564663823 | D57: 3590588 | F57: =SUM(C57:E57) -> 568254411
B58: 복지여성실 | C58: 1368375599 | F58: =SUM(C58:E58) -> 1368375599
B59: 균형발전기획실 | C59: 188128052 | D59: 15000000 | F59: =SUM(C59:E59) -> 203128052
B60: 경제실 | C60: 166510010 | E60: 384743740 | F60: =SUM(C60:E60) -> 551253750
B61: 축산산림국 | C61: 199805590 | F61: =SUM(C61:E61) -> 199805590
B62: 교통국 | C62: 351095559 | D62: 93560000 | F62: =SUM(C62:E62) -> 444655559
B63: 건설국 | C63: 602635035 | D63: 4166358 | F63: =SUM(C63:E63) -> 606801393
B64: 건설본부 | C64: 42659824 | F64: =SUM(C64:E64) -> 42659824
I164: ◦ 본청 83,000 증 ◦ 북부청 377,000 증
K294: -50000

Sheet 16년일출(1차부동의)
A1: 2016년도 경기도 일반회계 세출예산 부동의사업 목록
F2: =SUBTOTAL(3,F6:F391) -> 3 | G2: =SUBTOTAL(3,G6:G391) -> 376 | J2: (단위 : 천원)
A3: 연번 | B3: 실국명 | C3: 부서명 | D3: 세부사업명 및 부기명 | E3: 예산안 (A) | F3: 도의회 조정액(B) | H3: 의회 확정예산 (C=A+B) | I3: 부동의 금 액 | J3: 비 고
F4: 감액 | G4: 증액
A5: 합계 | D5: (376건) | E5: =SUM(E6+E54+E60+E132+E213+E246+E308+E320+E334+E361) -> 278204697 | F5: =SUM(F6+F54+F60+F132+F213+F246+F308+F320+F334+F361) -> -695000 | G5: =SUM(G6+G54+G60+G132+G213+G246+G308+G320+G334+G361) -> 102868671 | H5: =SUM(H6+H54+H60+H132+H213+H246+H308+H320+H334+H361) -> 380378368 | I5: =SUM(I6+I54+I60+I132+I213+I246+I308+I320+I334+I361) -> 102868671
A6: (의회운영위원회) | E6: =SUBTOTAL(9,E7:E53) -> 4440967 | F6: =SUBTOTAL(9,F7:F53) -> 0 | G6: =SUBTOTAL(9,G7:G53) -> 2910590 | H6: =SUBTOTAL(9,H7:H53) -> 7351557 | I6: =SUM(G6) -> 2910590
A7: 1 | B7: 의회사무처 | C7: 공보담당관 | D7: 도민소통 의정홍보(자체/직접) -업무수첩 및 홍보물 제작 | G7: 85000 | H7: =SUM(E7+F7+G7) -> 85000 | I7: =SUM(G7) -> 85000
A8: 2 | B8: 의회사무처 | C8: 공보담당관 | D8: 의정홍보역량강화(자체/직접) - 의정활동 사진촬영 및 운영 | G8: 12080 | H8: =SUM(E8+F8+G8) -> 12080 | I8: =SUM(G8) -> 12080
A9: 3 | B9: 의회사무처 | C9: 공보담당관 | D9: 영상 및 언론매체 홍보(자체/직접) - CATV 의정홍보 | E9: 110000 | G9: 165600 | H9: =SUM(E9+F9+G9) -> 275600 | I9: =SUM(G9) -> 165600
A10: 4 | B10: 의회사무처 | C10: 공보담당관 | D10: 미디어 홍보(자체/직접) - 간행물 우편요금 | E10: 380520 | G10: 100660 | H10: =SUM(E10+F10+G10) -> 481180 | I10: =SUM(G10) -> 100660
A11: 5 | B11: 의회사무처 | C11: 공보담당관 | D11: 자산취득비(행정운영경비) -노트북 | G11: 1200 | H11: =SUM(E11+F11+G11) -> 1200 | I11: =SUM(G11) -> 1200
A12: 6 | B12: 의회사무처 | C12: 공보담당관 | D12: 자산취득비(행정운영경비) -디지털카메라 | G12: 11000 | H12: =SUM(E12+F12+G12) -> 11000 | I12: =SUM(G12) -> 11000
A13: 7 | B13: 의회사무처 | C13: 공보담당관 | D13: 자산취득비(행정운영경비) -레이져프린터 | G13: 450 | H13: =SUM(E13+F13+G13) -> 450 | I13: =SUM(G13) -> 450
A14: 8 | B14: 의회사무처 | C14: 총무담당관 | D14: 의회운영(자체/직접) - 해외의회 운영 사례연구 | E14: 10000 | G14: 30000 | H14: =SUM(E14+F14+G14) -> 40000 | I14: =SUM(G14) -> 30000
A15: 9 | B15: 의회사무처 | C15: 총무담당관 | D15: 의회운영(자체/직접) - 의회운영 및 예산 관련 비교 연수 | E15: 10000 | G15: 30000 | H15: =SUM(E15+F15+G15) -> 40000 | I15: =SUM(G15) -> 30000
A16: 10 | B16: 의회사무처 | C16: 총무담당관 | D16: 청사시설 유지관리(자체/직접) - 사무실 재배치 등 인테리어공사 | E16: 19000 | G16: 217000 | H16: =SUM(E16+F16+G16) -> 236000 | I16: =SUM(G16) -> 217000
A17: 11 | B17: 의회사무처 | C17: 총무담당관 | D17: 청사시설 유지관리(자체/직접) - 사무실 재배치 등 인테리어공사 | G17: 14000 | H17: =SUM(E17+F17+G17) -> 14000 | I17: =SUM(G17) -> 14000
A18: 12 | B18: 의회사무처 | C18: 총무담당관 | D18: 의정지원 기준경비(자체/직접) - 전국시도의회 운영위원장협의회 부담금 | G18: 10000 | H18: =SUM(E18+F18+G18) -> 10000 | I18: =SUM(G18) -> 10000
A19: 13 | B19: 의회사무처 | C19: 총무담당관 | D19: 의원 의정역량 강화 지원(자체/직접) - 의원 의정능력 배양 | E19: 9000 | G19: 41000 | H19: =SUM(E19+F19+G19) -> 50000 | I19: =SUM(G19) -> 41000
A20: 14 | B20: 의회사무처 | C20: 총무담당관 | D20: 자산취득비(행정운영경비) -공용차량(승용) | G20: 40000 | H20: =SUM(E20+F20+G20) -> 40000 | I20: =SUM(G20) -> 40000
A21: 15 | B21: 의회사무처 | C21: 총무담당관 | D21: 의회운영(자체/직접) -노트북컴퓨터 | G21: 256000 | H21: =SUM(E21+F21+G21) -> 256000 | I21: =SUM(G21) -> 256000
A22: 16 | B22: 의회사무처 | C22: 총무담당관 | D22: 자산취득비(행정운영경비) - 체력단련실 상체운동기구 | G22: 4000 | H22: =SUM(E22+F22+G22) -> 4000 | I22: =SUM(G22) -> 4000
A23: 17 | B23: 의회사무처 | C23: 총무담당관 | D23: 의원 정책활동 지원(자체/직접) -개원 60주년 기념행사 | G23: 150000 | H23: =SUM(E23+F23+G23) -> 150000 | I23: =SUM(G23) -> 150000
A24: 18 | B24: 의회사무처 | C24: 총무담당관 | D24: 의정지원능력강화(자체/직접) -소통과 나눔 아카데미 운영 지원 | G24: 50000 | H24: =SUM(E24+F24+G24) -> 50000 | I24: =SUM(G24) -> 50000
A25: 19 | B25: 의회사무처 | C25: 총무담당관 | D25: 국내외 교류사업 추진(자체/직접) - 의원 국외활동 수행여비 | E25: 174000 | G25: 68000 | H25: =SUM(E25+F25+G25) -> 242000 | I25: =SUM(G25) -> 68000
A26: 20 | B26: 의회사무처 | C26: 총무담당관 | D26: 자산취득비(행정운영경비) -책상 등 노후집기 교체 | G26: 31040 | H26: =SUM(E26+F26+G26) -> 31040 | I26: =SUM(G26) -> 31040
A27: 21 | B27: 의회사무처 | C27: 총무담당관 | D27: 자산취득비(행정운영경비) -의자 등 집기류 구입 | G27: 4256 | H27: =SUM(E27+F27+G27) -> 4256 | I27: =SUM(G27) -> 4256
A28: 22 | B28: 의회사무처 | C28: 총무담당관 | D28: 자산취득비(행정운영경비) -노트북 | G28: 1610 | H28: =SUM(E28+F28+G28) -> 1610 | I28: =SUM(G28) -> 1610
A29: 23 | B29: 의회사무처 | C29: 총무담당관 | D29: 자산취득비(행정운영경비) -프린터 | G29: 494 | H29: =SUM(E29+F29+G29) -> 494 | I29: =SUM(G29) -> 494
A30: 24 | B30: 의회사무처 | C30: 총무담당관 | D30: 자산취득비(행정운영경비) -접견용 커피머신 | G30: 600 | H30: =SUM(E30+F30+G30) -> 600 | I30: =SUM(G30) -> 600
A31: 25 | B31: 의회사무처 | C31: 총무담당관 | D31: 청사시설유지관리(자체/직접) - 상임위 노후시설 개선공사 | G31: 178000 | H31: =SUM(E31+F31+G31) -> 178000 | I31: =SUM(G31) -> 178000
A32: 26 | B32: 의회사무처 | C32: 입법정책담당관 | D32: 의원 입법활동 연구용역(자체/직접) -경기도의회 정책개발 연구용역 | E32: 180000 | G32: 200000 | H32: =SUM(E32+F32+G32) -> 380000 | I32: =SUM(G32) -> 200000
A33: 27 | B33: 의회사무처 | C33: 입법정책담당관 | D33: 의원 입법활동 연구용역(자체/직접) -자치법규 사후 입법영향분석 연구용역 | G33: 100000 | H33: =SUM(E33+F33+G33) -> 100000 | I33: =SUM(G33) -> 100000
A34: 28 | B34: 의회사무처 | C34: 입법정책담당관 | D34: 지역상담소 운영(자체/직접) -상담소 운영 기본경비 | E34: 186000 | G34: 74400 | H34: =SUM(E34+F34+G34) -> 260400 | I34: =SUM(G34) -> 74400
A35: 29 | B35: 의회사무처 | C35: 입법정책담당관 | D35: 자산취득비 -지역상담소 문서세단기 | G35: 12400 | H35: =SUM(E35+F35+G35) -> 12400 | I35: =SUM(G35) -> 12400
A36: 30 | B36: 대외협력담당관 | C36: 서울사무소 | D36: 국비예산 추가확보 지원(자체/직접) -생활관 임차·관리비 | G36: 22000 | H36: =SUM(E36+F36+G36) -> 22000 | I36: =SUM(G36) -> 22000
A37: 31 | B37: 대외협력담당관 | C37: 서울사무소 | D37: 자산취득비(행정운영경비) - LED TV | G37: 2000 | H37: =SUM(E37+F37+G37) -> 2000 | I37: =SUM(G37) -> 2000
A38: 32 | B38: 의회사무처 | C38: 공보담당관 | D38: 미디어홍보(자체/직접) - 의정홍보 만화 제작 | G38: 20000 | H38: =SUM(E38+F38+G38) -> 20000 | I38: =SUM(G38) -> 20000
A39: 33 | B39: 의회사무처 | C39: 공보담당관 | D39: 영상 및 언론매체 홍보(자체/직접) - 의정현안 시책홍보 | E39: 1918247 | G39: 520000 | H39: =SUM(E39+F39+G39) -> 2438247 | I39: =SUM(G39) -> 520000
A40: 34 | B40: 의회사무처 | C40: 공보담당관 | D40: 영상 및 언론매체 홍보(자체/직접) - 뉴스통신수신료 | E40: 196000 | G40: 44000 | H40: =SUM(E40+F40+G40) -> 240000 | I40: =SUM(G40) -> 44000
A41: 35 | B41: 의회사무처 | C41: 공보담당관 | D41: 영상 및 언론매체 홍보(자체/직접) - 라디오방송의정홍보 | E41: 267000 | G41: 83000 | H41: =SUM(E41+F41+G41) -> 350000 | I41: =SUM(G41) -> 83000
A42: 36 | B42: 의회사무처 | C42: 공보담당관 | D42: 영상 및 언론매체 홍보(자체/직접) - 정책모니터 광고 등 지하철 영상홍보 | E42: 130000 | G42: 20000 | H42: =SUM(E42+F42+G42) -> 150000 | I42: =SUM(G42) -> 20000
A43: 37 | B43: 의회사무처 | C43: 의정담당관 | D43: 청소년 의회교실 운영 지원(자체/직접) - 청소년 의회교실 운영 | E43: 6300 | G43: 19600 | H43: =SUM(E43+F43+G43) -> 25900 | I43: =SUM(G43) -> 19600
A44: 38 | B44: 의회사무처 | C44: 의정담당관 | D44: 청소년 의회교실 운영 지원(자체/직접) - 청소년 의회교실 운영 | E44: 5700 | G44: 8400 | H44: =SUM(E44+F44+G44) -> 14100 | I44: =SUM(G44) -> 8400
A45: 39 | B45: 의회사무처 | C45: 공보담당관 | D45: 의회도서관 운영(자체/직접) - 의회도서관 정보서비스 지원 및 운영 | E45: 12000 | G45: 8000 | H45: =SUM(E45+F45+G45) -> 20000 | I45: =SUM(G45) -> 8000
A46: 40 | B46: 의회사무처 | C46: 총무담당관 | D46: 일반운영비(행정운영경비) - 중형승합차 임차 | G46: 36000 | H46: =SUM(E46+F46+G46) -> 36000 | I46: =SUM(G46) -> 36000
A47: 41 | B47: 연정협력관 | C47: 연정협력관 | D47: 경기연정 효율적 지원 체계 구축(자체/직접) - 경기연정 강화 위한 국외연수 | E47: 7000 | G47: 9000 | H47: =SUM(E47+F47+G47) -> 16000 | I47: =SUM(G47) -> 9000
A48: 42 | B48: 연정협력관 | C48: 연정협력관 | D48: 경기연정 효율적 지원 체계 구축(자체/직접) - 경기연정 강화 위한 국외연수(민간인) | G48: 9000 | H48: =SUM(E48+F48+G48) -> 9000 | I48: =SUM(G48) -> 9000
A49: 43 | B49: 대외협력담당관 | C49: 대외협력담당관 | D49: 대외협력 강화(자체/직접) - 의회협력 국외업무 수행 | E49: 7200 | G49: 8800 | H49: =SUM(E49+F49+G49) -> 16000 | I49: =SUM(G49) -> 8800
A50: 44 | B50: 의회사무처 | C50: 공보담당관 | D50: 의정홍보 역량강화(자체/직접) -의정활동 사진인화 및 유지관리 | E50: 7000 | G50: 8000 | H50: =SUM(E50+F50+G50) -> 15000 | I50: =SUM(G50) -> 8000
A51: 45 | B51: 의회사무처 | C51: 총무담당관 | D51: 국내외 교류사업 추진(자체/직접) - 교류사업 기념품 구입 | E51: 30000 | G51: 10000 | H51: =SUM(E51+F51+G51) -> 40000 | I51: =SUM(G51) -> 10000
A52: 46 | B52: 소통기획관 | C52: 홍보미디어담당관 | D52: 경기도 인터넷 뉴스 운영(자체/직접) - 경기도 인터넷뉴스 운영 | E52: 376000 | G52: 94000 | H52: =SUM(E52+F52+G52) -> 470000 | I52: =SUM(G52) -> 94000
A53: 47 | B53: 대변인 | C53: 언론협력담당관 | D53: 여론수렴 강화(자체/직접) - 통신 구독료 | E53: 400000 | G53: 100000 | H53: =SUM(E53+F53+G53) -> 500000 | I53: =SUM(G53) -> 100000
A54: (기획재정위원회) | E54: =SUBTOTAL(9,E55:E59) -> 850000 | F54: =SUBTOTAL(9,F55:F59) -> 0 | G54: =SUBTOTAL(9,G55:G59) -> 570000 | H54: =SUBTOTAL(9,H55:H59) -> 1420000 | I54: =SUM(G54) -> 570000
A55: 48 | B55: 기획조정실 | C55: 평가담당관 | D55: 공공기관 역량 강화 기반 구축(자체/직접) - 공공기관 규정정비 컨설팅 (사무관리비) | G55: 200000 | H55: =SUM(E55+F55+G55) -> 200000 | I55: =SUM(G55) -> 200000
A56: 49 | B56: 균형발전기획실 | C56: 통일기반조성담당관 | D56: 북한이탈주민 취업박람회(자체/직접) - 북한이탈주민 취업박람회 | E56: 100000 | G56: 30000 | H56: =SUM(E56+F56+G56) -> 130000 | I56: =SUM(G56) -> 30000
A57: 50 | B57: 균형발전기획실 | C57: 군관협력담당관 | D57: 한미친선 교류협력(자체/지원) - 한미친선 교류 협력 | E57: 500000 | G57: 240000 | H57: =SUM(E57+F57+G57) -> 740000 | I57: =SUM(G57) -> 240000
A58: 51 | B58: 균형발전기획실 | C58: DMZ정책담당관 | D58: DMZ 여성 평화 학술토론 및 걷기대행진(자체/직접)- 전문가 포럼 및 걷기대행진 | G58: 50000 | H58: =SUM(E58+F58+G58) -> 50000 | I58: =SUM(G58) -> 50000
A59: 52 | B59: 따복공동체지원단 | C59: 따복공동체지원단 | D59: 따복공동체 활성화 지원(자체/직접) - 따복공동체 인식확산 | E59: 250000 | G59: 50000 | H59: =SUM(E59+F59+G59) -> 300000 | I59: =SUM(G59) -> 50000
A60: (경제과학기술위원회) | E60: =SUBTOTAL(9,E61:E131) -> 62525000 | F60: =SUBTOTAL(9,F61:F131) -> 0 | G60: =SUBTOTAL(9,G61:G131) -> 29426100 | H60: =SUBTOTAL(9,H61:H131) -> 91951100 | I60: =SUM(G60) -> 29426100
A61: 53 | B61: 경제실 | C61: 경제정책과 | D61: 지역경제활성화 정책개발(자체/직접) | E61: 66000 | G61: 50000 | H61: =SUM(E61+F61+G61) -> 116000 | I61: =SUM(G61) -> 50000
A62: 54 | B62: 경제실 | C62: 경기일자리센터 | D62: 4050 재취업 지원사업(자체/직접) -단일부기 | E62: 400000 | G62: 100000 | H62: =SUM(E62+F62+G62) -> 500000 | I62: =SUM(G62) -> 100000
A63: 55 | B63: 경제실 | C63: 경기일자리센터 | D63: 고용유지 증대를 위한 취업근로자 지원사업(자체/직접) | G63: 300000 | H63: =SUM(E63+F63+G63) -> 300000 | I63: =SUM(G63) -> 300000
A64: 56 | B64: 경제실 | C64: 공정경제과 | D64: 전통시장 활성화 지원(자체/직접) - 전통시장 활성화 지원 | E64: 350000 | G64: 160000 | H64: =SUM(E64+F64+G64) -> 510000 | I64: =SUM(G64) -> 160000
A65: 57 | B65: 경제실 | C65: 공정경제과 | D65: 전통시장 활성화 지원(자체/직접) - 경기도 우수시장 박람회 | G65: 200000 | H65: =SUM(E65+F65+G65) -> 200000 | I65: =SUM(G65) -> 200000
A66: 58 | B66: 경제실 | C66: 공정경제과 | D66: 소상공인 지원(자체/직접) | E66: 2440000 | G66: 3590000 | H66: =SUM(E66+F66+G66) -> 6030000 | I66: =SUM(G66) -> 3590000
A67: 59 | B67: 경제실 | C67: 공정경제과 | D67: 상권영향정보분석(자체/직접) | E67: 50000 | G67: 200000 | H67: =SUM(E67+F67+G67) -> 250000 | I67: =SUM(G67) -> 200000
A68: 60 | B68: 경제실 | C68: 공정경제과 | D68: 비정규직지원센터 운영 지원(자체/직접) | E68: 200000 | G68: 200000 | H68: =SUM(E68+F68+G68) -> 400000 | I68: =SUM(G68) -> 200000
A69: 61 | B69: 경제실 | C69: 공정경제과 | D69: 예비 취업자 역량강화 교육(자체/직접) | E69: 140000 | G69: 180000 | H69: =SUM(E69+F69+G69) -> 320000 | I69: =SUM(G69) -> 180000
A70: 62 | B70: 경제실 | C70: 공정경제과 | D70: 고용 및 노사민정 협력 활성화(자체/직접) | E70: 18000 | G70: 30000 | H70: =SUM(E70+F70+G70) -> 48000 | I70: =SUM(G70) -> 30000
A71: 63 | B71: 경제실 | C71: 공정경제과 | D71: 2016년 경기도 소상공인 한마당(자체/직접) | G71: 200000 | H71: =SUM(E71+F71+G71) -> 200000 | I71: =SUM(G71) -> 200000
A72: 64 | B72: 경제실 | C72: 공정경제과 | D72: 전통시장 화재예방 시설(자체/지원) | G72: 100000 | H72: =SUM(E72+F72+G72) -> 100000 | I72: =SUM(G72) -> 100000
A73: 65 | B73: 경제실 | C73: 공정경제과 | D73: 경기도 공익을 위한 건물폐쇄로 손해를 입은 소상공인 임차인 지원(자체/지원) | G73: 1000000 | H73: =SUM(E73+F73+G73) -> 1000000 | I73: =SUM(G73) -> 1000000
A74: 66 | B74: 경제실 | C74: 공정경제과 | D74: 전통시장 시설현대화 사업(자체/지원) | G74: 3283000 | H74: =SUM(E74+F74+G74) -> 3283000 | I74: =SUM(G74) -> 3283000
A75: 67 | B75: 경제실 | C75: 기업지원과 | D75: 중소기업종합지원센터 사업지원(자체/직접) | E75: 11706000 | G75: 1750000 | H75: =SUM(E75+F75+G75) -> 13456000 | I75: =SUM(G75) -> 1750000
A76: 68 | B76: 경제실 | C76: 기업지원과 | D76: 유망중소기업 선정 및 지원(자체/직접) | E76: 690000 | G76: 345000 | H76: =SUM(E76+F76+G76) -> 1035000 | I76: =SUM(G76) -> 345000
A77: 69 | B77: 경제실 | C77: 기업지원과 | D77: 소규모기업환경 개선사업(자체/지원) | E77: 5000000 | G77: 800000 | H77: =SUM(E77+F77+G77) -> 5800000 | I77: =SUM(G77) -> 800000
A78: 70 | B78: 경제실 | C78: 기업지원과 | D78: 기업SOS 대상 평가시상금(자체/지원) | E78: 30000 | G78: 20000 | H78: =SUM(E78+F78+G78) -> 50000 | I78: =SUM(G78) -> 20000
A79: 71 | B79: 경제실 | C79: 기업지원과 | D79: 경기벤처센터 허브 조성(자체/지원) | E79: 7000000 | G79: 500000 | H79: =SUM(E79+F79+G79) -> 7500000 | I79: =SUM(G79) -> 500000
A80: 72 | B80: 경제실 | C80: 기업지원과 | D80: STAR 기업육성 프로젝트(자체/직접) | E80: 1000000 | G80: 200000 | H80: =SUM(E80+F80+G80) -> 1200000 | I80: =SUM(G80) -> 200000
A81: 73 | B81: 경제실 | C81: 기업지원과 | D81: 디자인개발사업 지원(자체/직접) | E81: 700000 | G81: 150000 | H81: =SUM(E81+F81+G81) -> 850000 | I81: =SUM(G81) -> 150000
A82: 74 | B82: 경제실 | C82: 기업지원과 | D82: 품질경영활동 지원(자체/직접) | E82: 200000 | G82: 200000 | H82: =SUM(E82+F82+G82) -> 400000 | I82: =SUM(G82) -> 200000
A83: 75 | B83: 경제실 | C83: 기업지원과 | D83: 공예품대전 및 우수공예품 판로지원(자체/직접) | E83: 40000 | G83: 20000 | H83: =SUM(E83+F83+G83) -> 60000 | I83: =SUM(G83) -> 20000
A84: 76 | B84: 경제실 | C84: 기업지원과 | D84: 낙후지역 피역 염색산업단지 환경개선사업 | G84: 300000 | H84: =SUM(E84+F84+G84) -> 300000 | I84: =SUM(G84) -> 300000
A85: 77 | B85: 경제실 | C85: 기업지원과 | D85: 경기서북부 기업지원 센터 건립 연구 용역 | G85: 100000 | H85: =SUM(E85+F85+G85) -> 100000 | I85: =SUM(G85) -> 100000
A86: 78 | B86: 경제실 | C86: 기업지원과 | D86: 청년창업 실태조사 | G86: 50000 | H86: =SUM(E86+F86+G86) -> 50000 | I86: =SUM(G86) -> 50000
A87: 79 | B87: 경제실 | C87: 산업정책과 | D87: 노후산단재정비지원(성남일반산단재생사업)(국비/지원) | E87: 350000 | G87: 105000 | H87: =SUM(E87+F87+G87) -> 455000 | I87: =SUM(G87) -> 105000
A88: 80 | B88: 경제실 | C88: 산업정책과 | D88: 노후공단 재정비지원(안산반월국가산단 재생사업)(국비/지원) | E88: 1000000 | G88: 300000 | H88: =SUM(E88+F88+G88) -> 1300000 | I88: =SUM(G88) -> 300000
A89: 81 | B89: 경제실 | C89: 산업정책과 | D89: 노후공업지역 재생사업지구 수립용역(자체/지원) | G89: 200000 | H89: =SUM(E89+F89+G89) -> 200000 | I89: =SUM(G89) -> 200000
A90: 82 | B90: 경제실 | C90: 산업정책과 | D90: 화성전곡해양산업단지 조성사업 | G90: 1500000 | H90: =SUM(E90+F90+G90) -> 1500000 | I90: =SUM(G90) -> 1500000
A91: 83 | B91: 경제실 | C91: 산업정책과 | D91: 산업단지(공업지역) 공유경제 활성화 지원(자체/직접) | G91: 600000 | H91: =SUM(E91+F91+G91) -> 600000 | I91: =SUM(G91) -> 600000
A92: 84 | B92: 경제실 | C92: 에너지과 | D92: LPG소형저장탱크 보급사업(자체/지원) -단일부기 | E92: 1000000 | G92: 1000000 | H92: =SUM(E92+F92+G92) -> 2000000 | I92: =SUM(G92) -> 1000000
A93: 85 | B93: 경제실 | C93: 에너지과 | D93: 태양광 발전소 계통연계비용 지원(자체/직접) | G93: 500000 | H93: =SUM(E93+F93+G93) -> 500000 | I93: =SUM(G93) -> 500000
A94: 86 | B94: 경제실 | C94: 에너지과 | D94: 신재생에너지 융복합사업(자체/지원) | G94: 200000 | H94: =SUM(E94+F94+G94) -> 200000 | I94: =SUM(G94) -> 200000
A95: 87 | B95: 경제실 | C95: 특화산업과 | D95: 섬유 가구 전시회 참가 지원(자체/직접) - 섬유 가구 전시회 참가 도내기업 지원 | E95: 434000 | G95: 256000 | H95: =SUM(E95+F95+G95) -> 690000 | I95: =SUM(G95) -> 256000
A96: 88 | B96: 경제실 | C96: 특화산업과 | D96: 가구 유통업체 밀집지역 마케팅 촉진 사업(자체/지원) | E96: 150000 | G96: 150000 | H96: =SUM(E96+F96+G96) -> 300000 | I96: =SUM(G96) -> 150000
A97: 89 | B97: 경제실 | C97: 특화산업과 | D97: 섬유기업 활성화 지원(자체/직접) | E97: 500000 | G97: 550000 | H97: =SUM(E97+F97+G97) -> 1050000 | I97: =SUM(G97) -> 550000
A98: 90 | B98: 경제실 | C98: 특화산업과 | D98: 섬유 디자인 패션 사업(자체/직접) | E98: 400000 | G98: 300000 | H98: =SUM(E98+F98+G98) -> 700000 | I98: =SUM(G98) -> 300000
A99: 91 | B99: 경제실 | C99: 특화산업과 | D99: K-디자인빌리지 조성사업(자체/직접) | E99: 10000 | G99: 84000 | H99: =SUM(E99+F99+G99) -> 94000 | I99: =SUM(G99) -> 84000
A100: 92 | B100: 경제실 | C100: 특화산업과 | D100: 닥섬유 활용 R&D 지원 사업(자체/직접) | E100: 200000 | G100: 100000 | H100: =SUM(E100+F100+G100) -> 300000 | I100: =SUM(G100) -> 100000
...
