Workbook

Sheet 15년검증
A1: 2015년 본예산 검증 | H1: 본예산 예비비 | J1: 124682800
M2: (단위 : 천원)
A3: 구 분 | B3: 상임위 | H3: 구 분 | I3: 예결위
B4: 세입 | C4: 검증 | D4: 세출 | E4: 검증 | F4: 차액 | I4: 세입 | J4: 검증 | K4: 세출 | L4: 검증 | M4: 차액
A5: 전체 총계 | B5: =SUM(B6,B9) -> #REF! | C5: =IF(B5=#REF!,"OK","@@") -> #REF! | D5: =SUM(D6,D9) -> #REF! | E5: =IF(D5=#REF!,"OK","@@") -> #REF! | H5: 전체 총계 | I5: =SUM(I6,I9) -> #REF! | J5: =IF(I5=#REF!,"OK","@@") -> #REF! | K5: =SUM(K6,K9) -> #REF! | L5: =IF(K5=#REF!,"OK","@@") -> #REF!
A6: 자체 총계 | B6: =SUM(B7:B8) -> #REF! | C6: =IF(B6=#REF!,"OK","@@") -> #REF! | D6: =SUM(D7:D8) -> #REF! | E6: =IF($D$6=#REF!,"OK","@@") -> #REF! | H6: 자체 총계 | I6: =SUM(I7:I8) -> #REF! | J6: =IF(I6=#REF!,"OK","@@") -> #REF! | K6: =SUM(K7:K8) -> #REF! | L6: =IF($K6=#REF!,"OK","@@") -> #REF!
A7: 자체 도비 | B7: =SUMIFS(#REF!,#REF!,"도비") -> #REF! | D7: =SUMIFS(#REF!,#REF!,"도비") -> #REF! | H7: 자체 도비 | I7: =SUMIFS(#REF!,#REF!,"도비") -> #REF! | K7: =SUMIFS(#REF!,#REF!,"도비") -> #REF!
A8: 의존 매칭 도비 | B8: =SUMIFS(#REF!,#REF!,"국비")+SUMIFS(#REF!,#REF!,"지특")+SUMIFS(#REF!,#REF!,"기금")+SUMIFS(#REF!,#REF!,"분권")+SUMIFS(#REF!,#REF!,"특교") -> #REF! | D8: =SUMIFS(#REF!,#REF!,"국비")+SUMIFS(#REF!,#REF!,"지특")+SUMIFS(#REF!,#REF!,"기금")+SUMIFS(#REF!,#REF!,"분권")+SUMIFS(#REF!,#REF!,"특교") -> #REF! | H8: 의존 매칭 도비 | I8: =SUMIFS(#REF!,#REF!,"국비")+SUMIFS(#REF!,#REF!,"지특")+SUMIFS(#REF!,#REF!,"기금")+SUMIFS(#REF!,#REF!,"분권")+SUMIFS(#REF!,#REF!,"특교") -> #REF! | K8: =SUMIFS(#REF!,#REF!,"국비")+SUMIFS(#REF!,#REF!,"지특")+SUMIFS(#REF!,#REF!,"기금")+SUMIFS(#REF!,#REF!,"분권")+SUMIFS(#REF!,#REF!,"특교") -> #REF!
A9: 의존계 | B9: =SUM(B10:B14) -> #REF! | C9: =IF(B9=#REF!,"OK","@@") -> #REF! | D9: =SUM(D10:D14) -> #REF! | E9: =IF(B9=D9,"OK","@@") -> #REF! | F9: =D9-B9 -> #REF! | H9: 의존계 | I9: =SUM(I10:I14) -> #REF! | J9: =IF(I9=#REF!,"OK","@@") -> #REF! | K9: =SUM(K10:K14) -> #REF! | L9: =IF(I9=K9,"OK","@@") -> #REF!
A10: 국비 | B10: =SUMIFS(#REF!,#REF!,'15년검증'!$A10) -> #REF! | D10: =SUMIFS(#REF!,#REF!,'15년검증'!$A10) -> #REF! | E10: =IF(B10=D10,"OK","@@") -> #REF! | F10: =D10-B10 -> #REF! | H10: 국비 | I10: =SUMIFS(#REF!,#REF!,'15년검증'!$A10) -> #REF! | K10: =SUMIFS(#REF!,#REF!,'15년검증'!$A10) -> #REF! | L10: =IF(I10=K10,"OK","@@") -> #REF! | M10: =K10-I10 -> #REF!
A11: 지특 | B11: =SUMIFS(#REF!,#REF!,'15년검증'!$A11) -> #REF! | D11: =SUMIFS(#REF!,#REF!,'15년검증'!$A11) -> #REF! | E11: =IF(B11=D11,"OK","@@") -> #REF! | F11: =D11-B11 -> #REF! | H11: 지특 | I11: =SUMIFS(#REF!,#REF!,'15년검증'!$A11) -> #REF! | K11: =SUMIFS(#REF!,#REF!,'15년검증'!$A11) -> #REF! | L11: =IF(I11=K11,"OK","@@") -> #REF! | M11: =K11-I11 -> #REF!
A12: 기금 | B12: =SUMIFS(#REF!,#REF!,'15년검증'!$A12) -> #REF! | D12: =SUMIFS(#REF!,#REF!,'15년검증'!$A12) -> #REF! | E12: =IF(B12=D12,"OK","@@") -> #REF! | F12: =D12-B12 -> #REF! | H12: 기금 | I12: =SUMIFS(#REF!,#REF!,'15년검증'!$A12) -> #REF! | K12: =SUMIFS(#REF!,#REF!,'15년검증'!$A12) -> #REF! | L12: =IF(I12=K12,"OK","@@") -> #REF! | M12: =K12-I12 -> #REF!
A13: 분권 | B13: =SUMIFS(#REF!,#REF!,'15년검증'!$A13) -> #REF! | D13: =SUMIFS(#REF!,#REF!,'15년검증'!$A13) -> #REF! | E13: =IF(B13=D13,"OK","@@") -> #REF! | F13: =D13-B13 -> #REF! | H13: 분권 | I13: =SUMIFS(#REF!,#REF!,'15년검증'!$A13) -> #REF! | K13: =SUMIFS(#REF!,#REF!,'15년검증'!$A13) -> #REF! | L13: =IF(I13=K13,"OK","@@") -> #REF! | M13: =K13-I13 -> #REF!
A14: 특교 | B14: =SUMIFS(#REF!,#REF!,'15년검증'!$A14) -> #REF! | D14: =SUMIFS(#REF!,#REF!,'15년검증'!$A14) -> #REF! | E14: =IF(B14=D14,"OK","@@") -> #REF! | F14: =D14-B14 -> #REF! | H14: 특교 | I14: =SUMIFS(#REF!,#REF!,'15년검증'!$A14) -> #REF! | K14: =SUMIFS(#REF!,#REF!,'15년검증'!$A14) -> #REF! | L14: =IF(I14=K14,"OK","@@") -> #REF! | M14: =K14-I14 -> #REF!
H16: 예비비 조정액 | I16: =IFERROR(INDEX(#REF!,MATCH("*예비비*",#REF!,0)),"")
I18: =SUM(I5-K5) -> #REF!
H20: 예비비 조정잔액 | I20: =IFERROR(SUM(J1+I16),"")

Sheet 3추검증
A1: 3회추경 검증 | H1: 2회추경 예비비 | J1: 22466366
M2: (단위 : 천원)
A3: 구 분 | B3: 상임위 | H3: 구 분 | I3: 예결위
B4: 세입 | C4: 검증 | D4: 세출 | E4: 검증 | F4: 차액 | I4: 세입 | J4: 검증 | K4: 세출 | L4: 검증 | M4: 차액
A5: 전체 총계 | B5: =SUM(B6,B9) -> #REF! | C5: =IF(B5=#REF!,"OK","@@") -> #REF! | D5: =SUM(D6,D9) -> #REF! | E5: =IF(D5=#REF!,"OK","@@") -> #REF! | H5: 전체 총계 | I5: =SUM(I6,I9) -> #REF! | J5: =IF(I5=#REF!,"OK","@@") -> #REF! | K5: =SUM(K6,K9) -> #REF! | L5: =IF(K5=#REF!,"OK","@@") -> #REF!
A6: 자체 총계 | B6: =SUM(B7:B8) -> #REF! | C6: =IF(B6=#REF!,"OK","@@") -> #REF! | D6: =SUM(D7:D8) -> #REF! | E6: =IF($D$6=#REF!,"OK","@@") -> #REF! | H6: 자체 총계 | I6: =SUM(I7:I8) -> #REF! | J6: =IF(I6=#REF!,"OK","@@") -> #REF! | K6: =SUM(K7:K8) -> #REF! | L6: =IF($K6=#REF!,"OK","@@") -> #REF!
A7: 자체 도비 | B7: =SUMIFS(#REF!,#REF!,"도비") -> #REF! | D7: =SUMIFS(#REF!,#REF!,"도비") -> #REF! | H7: 자체 도비 | I7: =SUMIFS(#REF!,#REF!,"도비") -> #REF! | K7: =SUMIFS(#REF!,#REF!,"도비") -> #REF!
A8: 의존 매칭 도비 | B8: =SUMIFS(#REF!,#REF!,"국비")+SUMIFS(#REF!,#REF!,"광특")+SUMIFS(#REF!,#REF!,"기금")+SUMIFS(#REF!,#REF!,"분권")+SUMIFS(#REF!,#REF!,"특교") -> #REF! | D8: =SUMIFS(#REF!,#REF!,"국비")+SUMIFS(#REF!,#REF!,"광특")+SUMIFS(#REF!,#REF!,"기금")+SUMIFS(#REF!,#REF!,"분권")+SUMIFS(#REF!,#REF!,"특교") -> #REF! | H8: 의존 매칭 도비 | I8: =SUMIFS(#REF!,#REF!,"국비")+SUMIFS(#REF!,#REF!,"광특")+SUMIFS(#REF!,#REF!,"기금")+SUMIFS(#REF!,#REF!,"분권")+SUMIFS(#REF!,#REF!,"특교") -> #REF! | K8: =SUMIFS(#REF!,#REF!,"국비")+SUMIFS(#REF!,#REF!,"광특")+SUMIFS(#REF!,#REF!,"기금")+SUMIFS(#REF!,#REF!,"분권")+SUMIFS(#REF!,#REF!,"특교") -> #REF!
A9: 의존계 | B9: =SUM(B10:B14) -> #REF! | C9: =IF(B9=#REF!,"OK","@@") -> #REF! | D9: =SUM(D10:D14) -> #REF! | E9: =IF(B9=D9,"OK","@@") -> #REF! | F9: =D9-B9 -> #REF! | H9: 의존계 | I9: =SUM(I10:I14) -> #REF! | J9: =IF(I9=#REF!,"OK","@@") -> #REF! | K9: =SUM(K10:K14) -> #REF! | L9: =IF(I9=K9,"OK","@@") -> #REF! | M9: =K9-I9 -> #REF!
A10: 국비 | B10: =SUMIFS(#REF!,#REF!,'3추검증'!$A10) -> #REF! | D10: =SUMIFS(#REF!,#REF!,'3추검증'!$A10) -> #REF! | E10: =IF(B10=D10,"OK","@@") -> #REF! | F10: =D10-B10 -> #REF! | H10: 국비 | I10: =SUMIFS(#REF!,#REF!,'3추검증'!$A10) -> #REF! | K10: =SUMIFS(#REF!,#REF!,'3추검증'!$A10) -> #REF! | L10: =IF(I10=K10,"OK","@@") -> #REF! | M10: =K10-I10 -> #REF!
A11: 광특 | B11: =SUMIFS(#REF!,#REF!,'3추검증'!$A11) -> #REF! | D11: =SUMIFS(#REF!,#REF!,'3추검증'!$A11) -> #REF! | E11: =IF(B11=D11,"OK","@@") -> #REF! | F11: =D11-B11 -> #REF! | H11: 광특 | I11: =SUMIFS(#REF!,#REF!,'3추검증'!$A11) -> #REF! | K11: =SUMIFS(#REF!,#REF!,'3추검증'!$A11) -> #REF! | L11: =IF(I11=K11,"OK","@@") -> #REF! | M11: =K11-I11 -> #REF!
A12: 기금 | B12: =SUMIFS(#REF!,#REF!,'3추검증'!$A12) -> #REF! | D12: =SUMIFS(#REF!,#REF!,'3추검증'!$A12) -> #REF! | E12: =IF(B12=D12,"OK","@@") -> #REF! | F12: =D12-B12 -> #REF! | H12: 기금 | I12: =SUMIFS(#REF!,#REF!,'3추검증'!$A12) -> #REF! | K12: =SUMIFS(#REF!,#REF!,'3추검증'!$A12) -> #REF! | L12: =IF(I12=K12,"OK","@@") -> #REF! | M12: =K12-I12 -> #REF!
A13: 분권 | B13: =SUMIFS(#REF!,#REF!,'3추검증'!$A13) -> #REF! | D13: =SUMIFS(#REF!,#REF!,'3추검증'!$A13) -> #REF! | E13: =IF(B13=D13,"OK","@@") -> #REF! | F13: =D13-B13 -> #REF! | H13: 분권 | I13: =SUMIFS(#REF!,#REF!,'3추검증'!$A13) -> #REF! | K13: =SUMIFS(#REF!,#REF!,'3추검증'!$A13) -> #REF! | L13: =IF(I13=K13,"OK","@@") -> #REF! | M13: =K13-I13 -> #REF!
A14: 특교 | B14: =SUMIFS(#REF!,#REF!,'3추검증'!$A14) -> #REF! | D14: =SUMIFS(#REF!,#REF!,'3추검증'!$A14) -> #REF! | E14: =IF(B14=D14,"OK","@@") -> #REF! | F14: =D14-B14 -> #REF! | H14: 특교 | I14: =SUMIFS(#REF!,#REF!,'3추검증'!$A14) -> #REF! | K14: =SUMIFS(#REF!,#REF!,'3추검증'!$A14) -> #REF! | L14: =IF(I14=K14,"OK","@@") -> #REF! | M14: =K14-I14 -> #REF!
H16: 예비비 조정액 | I16: =IFERROR(INDEX(#REF!,MATCH("*예비비*",#REF!,0)),"")
I18: =SUM(I5-K5) -> #REF!
H20: 예비비 조정잔액 | I20: =IFERROR(SUM(J1-I16),"")

Sheet 상임 표지
D2: 2014년도 제2회 일반회계 및 특별회계 추가경정 세입·세출 예산안
D4: 상 임 위 계 수 조 정 결 과
D16: 예산결산특별위원회

Sheet 표지
D2: 2014년도 제2회 일반회계 및 특별회계 추가경정 세입·세출 예산안
A4: 예결위 계수조정 결과
D16: 예산결산특별위원회

Sheet 예결 표지
B5: 2014년도 제2회 일반회계 및 특별회계 추가경정 세입·세출 예산안
B7: 예결위 계수조정 결과
B33: 예산결산특별위원회

Sheet 예결 표지(가로)
B3: 2014년도 제2회 일반회계 및 특별회계 추가경정 세입·세출 예산안
B5: 예결위 계수조정 결과
B24: 예산결산특별위원회

Sheet 15년총괄표
B1: 2015년도 경기도 일반 및 특별회계 세입·세출 예산안[전체예산총괄]
B3: □ 총 괄 | D3: 세입예산증감 | E3: =SUM(D7:E7) -> #REF! | F3: 세출예산증감 | G3: =SUM(F7:G7) -> #REF!
H4: (단위:천원) | M4: (일반+특별+기금) | O4: 특별+기금
B5: 구 분 | C5: 집행부제출(안) | D5: 세입예산(안) | F5: 세출예산(안) | H5: 예산수정(안) | I5: 일반회계 증감(총괄표) | K5: 예비비증감 | L5: 비 고 | M5: 전체 증감(시트) | O5: 비고
D6: 감 액 | E6: 증 액 | F6: 감 액 | G6: 증 액 | I6: 세입 | J6: 세출 | M6: 세입 | N6: 세출
B7: 합 계 | C7: =SUM(C8:C18) -> 17818538715 | D7: =SUM(D8:D18) -> #REF! | E7: =SUM(E8:E18) -> #REF! | F7: =SUM(F8:F18) -> #REF! | G7: =SUM(G8:G18) -> #REF! | H7: =SUM(H8:H18) -> #REF! | I7: =E25+D25 -> #REF! | J7: =F25+G25 -> #REF! | K7: =I7-J7 -> #REF! | L7: 예비비 증감이 - 예산이면 감액에 + 예산이면 증액에 입력 | M7: =D24+E24 -> #REF! | N7: =F24+G24 -> #REF! | O7: 0 | P7: 0
B8: 기 타 | C8: 0 | H8: =C8-F8+G8 -> 0 | I8: =D7+E7 -> #REF! | J8: =F7+G7 -> #REF! | K8: =I8-J8 -> #REF!
B9: 의회운영위원회 | C9: 43594098 | D9: =SUMIFS(#REF!,#REF!,'15년총괄표'!$B9) -> #REF! | E9: =SUMIFS(#REF!,#REF!,'15년총괄표'!$B9) -> #REF! | F9: =SUMIFS(#REF!,#REF!,'15년총괄표'!$B9) -> #REF! | G9: =SUMIFS(#REF!,#REF!,'15년총괄표'!$B9) -> #REF! | H9: =C9+F9+G9 -> #REF! | I9: 일반회계 증감(시트) | N9: 전체 증감
B10: 기획재정위원회 | C10: 5206191432 | D10: =SUMIFS(#REF!,#REF!,'15년총괄표'!$B10) -> #REF! | E10: =SUMIFS(#REF!,#REF!,'15년총괄표'!$B10) -> #REF! | F10: =SUMIFS(#REF!,#REF!,'15년총괄표'!$B10) -> #REF! | G10: =SUMIFS(#REF!,#REF!,'15년총괄표'!$B10) -> #REF! | H10: =C10+F10+G10 -> #REF! | I10: =#REF!+#REF! -> #REF! | J10: =#REF!+#REF! -> #REF! | N10: =M7-N7 -> #REF!
B11: 경제과학기술위원회 | C11: 506163851 | D11: =SUMIFS(#REF!,#REF!,'15년총괄표'!$B11) -> #REF! | E11: =SUMIFS(#REF!,#REF!,'15년총괄표'!$B11) -> #REF! | F11: =SUMIFS(#REF!,#REF!,'15년총괄표'!$B11) -> #REF! | G11: =SUMIFS(#REF!,#REF!,'15년총괄표'!$B11) -> #REF! | H11: =C11+F11+G11 -> #REF!
B12: 안전행정위원회 | C12: 1207474631 | D12: =SUMIFS(#REF!,#REF!,'15년총괄표'!$B12) -> #REF! | E12: =SUMIFS(#REF!,#REF!,'15년총괄표'!$B12) -> #REF! | F12: =SUMIFS(#REF!,#REF!,'15년총괄표'!$B12) -> #REF! | G12: =SUMIFS(#REF!,#REF!,'15년총괄표'!$B12) -> #REF! | H12: =C12+F12+G12 -> #REF!
B13: 문화체육관광위원회 | C13: 309073261 | D13: =SUMIFS(#REF!,#REF!,'15년총괄표'!$B13) -> #REF! | E13: =SUMIFS(#REF!,#REF!,'15년총괄표'!$B13) -> #REF! | F13: =SUMIFS(#REF!,#REF!,'15년총괄표'!$B13) -> #REF! | G13: =SUMIFS(#REF!,#REF!,'15년총괄표'!$B13) -> #REF! | H13: =C13+F13+G13 -> #REF! | N13: 기금
B14: 농정해양위원회 | C14: 442431566 | D14: =SUMIFS(#REF!,#REF!,'15년총괄표'!$B14) -> #REF! | E14: =SUMIFS(#REF!,#REF!,'15년총괄표'!$B14) -> #REF! | F14: =SUMIFS(#REF!,#REF!,'15년총괄표'!$B14) -> #REF! | G14: =SUMIFS(#REF!,#REF!,'15년총괄표'!$B14) -> #REF! | H14: =C14+F14+G14 -> #REF! | N14: =N10-K7 -> #REF!
B15: 보건복지위원회 | C15: 3621498611 | D15: =SUMIFS(#REF!,#REF!,'15년총괄표'!$B15) -> #REF! | E15: =SUMIFS(#REF!,#REF!,'15년총괄표'!$B15) -> #REF! | F15: =SUMIFS(#REF!,#REF!,'15년총괄표'!$B15) -> #REF! | G15: =SUMIFS(#REF!,#REF!,'15년총괄표'!$B15) -> #REF! | H15: =C15+F15+G15 -> #REF!
B16: 건설교통위원회 | C16: 1291490754 | D16: =SUMIFS(#REF!,#REF!,'15년총괄표'!$B16) -> #REF! | E16: =SUMIFS(#REF!,#REF!,'15년총괄표'!$B16) -> #REF! | F16: =SUMIFS(#REF!,#REF!,'15년총괄표'!$B16) -> #REF! | G16: =SUMIFS(#REF!,#REF!,'15년총괄표'!$B16) -> #REF! | H16: =C16+F16+G16 -> #REF!
B17: 도시환경위원회 | C17: 1095793534 | D17: =SUMIFS(#REF!,#REF!,'15년총괄표'!$B17) -> #REF! | E17: =SUMIFS(#REF!,#REF!,'15년총괄표'!$B17) -> #REF! | F17: =SUMIFS(#REF!,#REF!,'15년총괄표'!$B17) -> #REF! | G17: =SUMIFS(#REF!,#REF!,'15년총괄표'!$B17) -> #REF! | H17: =C17+F17+G17 -> #REF!
B18: 여성가족교육협력위원회 | C18: 4094826977 | D18: =SUMIFS(#REF!,#REF!,'15년총괄표'!$B18) -> #REF! | E18: =SUMIFS(#REF!,#REF!,'15년총괄표'!$B18) -> #REF! | F18: =SUMIFS(#REF!,#REF!,'15년총괄표'!$B18) -> #REF! | G18: =SUMIFS(#REF!,#REF!,'15년총괄표'!$B18) -> #REF! | H18: =C18+F18+G18 -> #REF!
B20: □ 회계별 예산총규모
H21: (단위:천원)
B22: 구 분 | C22: 세출예산액 (집행부제출 안) | D22: 세입예산(안) | F22: 세출예산(안) | H22: 예산수정(안)
D23: 감 액 | E23: 증 액 | F23: 감 액 | G23: 증 액 | I23: 세입기준 수정예산안
B24: 합 계 | C24: =SUM(C25:C26) -> 17818538715 | D24: =SUM(D25:D26) -> #REF! | E24: =SUM(E25:E26) -> #REF! | F24: =SUM(F25:F26) -> #REF! | G24: =SUM(G25:G26) -> #REF! | H24: =SUM(H25:H26) -> #REF! | I24: =C24+D24+E24 -> #REF! | J24: =I24-H24 -> #REF! | K24: (세출기준-세입기준)
B25: 일반회계 | C25: 14504760931 | D25: =#REF! -> #REF! | E25: =#REF! -> #REF! | F25: =#REF! -> #REF! | G25: =#REF! -> #REF! | H25: =C25+F25+G25 -> #REF! | I25: =C25+D25+E25 -> #REF! | J25: =I25-H25 -> #REF! | K25: (세출기준-세입기준)
B26: 특별회계 | C26: 3313777784 | H26: =C26+F26+G26 -> 3313777784 | I26: =C26+D26+E26 -> 3313777784 | J26: =I26-H26 -> 0 | K26: (세출기준-세입기준)
B30: 위원회명 | C30: 일반+기특 | D30: 공기업 | E30: 합계
B31: 의회운영위원회 | C31: 39922113 | E31: =SUM(C31:D31) -> 39922113
B32: 기획재정위원회 | C32: 3302571667 | D32: 1780946434 | E32: =SUM(C32:D32) -> 5083518101
B33: 경제과학기술위원회 | C33: 155329320 | D33: 384743740 | E33: =SUM(C33:D33) -> 540073060
B34: 안전행정위원회 | C34: 1142858974 | E34: =SUM(C34:D34) -> 1142858974
B35: 문화체육관광위원회 | C35: 224243208 | D35: 52484400 | E35: =SUM(C35:D35) -> 276727608
B36: 농정해양위원회 | C36: 466978999 | E36: =SUM(C36:D36) -> 466978999
B37: 보건복지위원회 | C37: 3254006708 | E37: =SUM(C37:D37) -> 3254006708
B38: 건설교통위원회 | C38: 1220859831 | E38: =SUM(C38:D38) -> 1220859831
B39: 도시환경위원회 | C39: 866963933 | D39: 28360000 | E39: =SUM(C39:D39) -> 895323933
B40: 여성가족평생교육위원회 | C40: 4882582917 | E40: =SUM(C40:D40) -> 4882582917
B41: 총합계 | C41: =SUM(C31:C40) -> 15556317670 | D41: =SUM(D31:D40) -> 2246534574 | E41: =SUM(C41:D41) -> 17802852244
B43: 예비비 | C43: =3922478-221377 -> 3701101
B54: 위원회명 | C54: 일반 | D54: 기특 | E54: 공특 | F54: 합계
B56: 총합계 | C56: =SUM(C57:C66) -> 14504760931 | D56: =SUM(D57:D66) -> 1174065395 | E56: =SUM(E57:E66) -> 2139712389 | F56: =SUM(C56:E56) -> 17818538715
B57: 의회운영위원회 | C57: 43594098 | F57: =SUM(C57:E57) -> 43594098
...

Sheet 15년총괄표(실국별)
B1: 2015년도 경기도 일반 및 특별회계 세입·세출 예산안[전체예산총괄]
B3: □ 총괄(실국별) | E3: =SUM(D7:E7) -> #REF! | G3: =SUM(F7:G7) -> #REF!
H4: (단위:천원) | M4: (일반+특별+기금) | O4: 특별+기금
B5: 구 분 | C5: 집행부제출(안) | D5: 세입예산(안) | F5: 세출예산(안) | H5: 예산수정(안) | I5: 일반회계 증감(총괄표) | K5: 예비비증감 | L5: 비 고 | M5: 전체 증감(시트) | O5: 비고
D6: 감 액 | E6: 증 액 | F6: 감 액 | G6: 증 액 | I6: 세입 | J6: 세출 | M6: 세입 | N6: 세출
B7: 합 계 | C7: =SUM(C8:C33) -> 17818538715 | D7: =SUM(D8:D33) -> #REF! | E7: =SUM(E8:E33) -> #REF! | F7: =SUM(F8:F33) -> #REF! | G7: =SUM(G8:G33) -> #REF! | H7: =SUM(H8:H33) -> #REF! | I7: =#REF!+#REF! -> #REF! | J7: =#REF!+#REF! -> #REF! | K7: =I7-J7 -> #REF! | L7: 예비비 증감이 - 예산이면 감액에 + 예산이면 증액에 입력 | M7: =#REF!+#REF! -> #REF! | N7: =#REF!+#REF! -> #REF! | O7: 0 | P7: 0
B8: 감사관 | C8: 1230140 | D8: =SUMIFS(#REF!,#REF!,'15년총괄표(실국별)'!$B8) -> #REF! | E8: =SUMIFS(#REF!,#REF!,'15년총괄표(실국별)'!$B8) -> #REF! | F8: =SUMIFS(#REF!,#REF!,'15년총괄표(실국별)'!$B8) -> #REF! | G8: =SUMIFS(#REF!,#REF!,'15년총괄표(실국별)'!$B8) -> #REF! | H8: =C8+F8+G8 -> #REF! | I8: 일반회계 증감(시트) | N8: 전체 증감
B9: 기획조정실 | C9: 4995050831 | D9: =SUMIFS(#REF!,#REF!,'15년총괄표(실국별)'!$B9) -> #REF! | E9: =SUMIFS(#REF!,#REF!,'15년총괄표(실국별)'!$B9) -> #REF! | F9: =SUMIFS(#REF!,#REF!,'15년총괄표(실국별)'!$B9) -> #REF! | G9: =SUMIFS(#REF!,#REF!,'15년총괄표(실국별)'!$B9) -> #REF! | H9: =C9+F9+G9 -> #REF! | I9: =#REF!+#REF! -> #REF! | J9: =#REF!+#REF! -> #REF! | N9: =#REF!-#REF! -> #REF!
B10: 도시주택실 | C10: 350475445 | D10: =SUMIFS(#REF!,#REF!,'15년총괄표(실국별)'!$B10) -> #REF! | E10: =SUMIFS(#REF!,#REF!,'15년총괄표(실국별)'!$B10) -> #REF! | F10: =SUMIFS(#REF!,#REF!,'15년총괄표(실국별)'!$B10) -> #REF! | G10: =SUMIFS(#REF!,#REF!,'15년총괄표(실국별)'!$B10) -> #REF! | H10: =C10+F10+G10 -> #REF! | I10: =#REF!+#REF! -> #REF! | J10: =#REF!+#REF! -> #REF! | N10: =#REF!-#REF! -> #REF!
B11: 자치행정국 | C11: 489102362 | D11: =SUMIFS(#REF!,#REF!,'15년총괄표(실국별)'!$B11) -> #REF! | E11: =SUMIFS(#REF!,#REF!,'15년총괄표(실국별)'!$B11) -> #REF! | F11: =SUMIFS(#REF!,#REF!,'15년총괄표(실국별)'!$B11) -> #REF! | G11: =SUMIFS(#REF!,#REF!,'15년총괄표(실국별)'!$B11) -> #REF! | H11: =C11+F11+G11 -> #REF!
B12: 교육협력국 | C12: 2124399774 | D12: =SUMIFS(#REF!,#REF!,'15년총괄표(실국별)'!$B12) -> #REF! | E12: =SUMIFS(#REF!,#REF!,'15년총괄표(실국별)'!$B12) -> #REF! | F12: =SUMIFS(#REF!,#REF!,'15년총괄표(실국별)'!$B12) -> #REF! | G12: =SUMIFS(#REF!,#REF!,'15년총괄표(실국별)'!$B12) -> #REF! | H12: =C12+F12+G12 -> #REF!
B13: 문화체육관광국 | C13: 309073261 | D13: =SUMIFS(#REF!,#REF!,'15년총괄표(실국별)'!$B13) -> #REF! | E13: =SUMIFS(#REF!,#REF!,'15년총괄표(실국별)'!$B13) -> #REF! | F13: =SUMIFS(#REF!,#REF!,'15년총괄표(실국별)'!$B13) -> #REF! | G13: =SUMIFS(#REF!,#REF!,'15년총괄표(실국별)'!$B13) -> #REF! | H13: =C13+F13+G13 -> #REF! | N13: 기금
B14: 농정해양국 | C14: 255604029 | D14: =SUMIFS(#REF!,#REF!,'15년총괄표(실국별)'!$B14) -> #REF! | E14: =SUMIFS(#REF!,#REF!,'15년총괄표(실국별)'!$B14) -> #REF! | F14: =SUMIFS(#REF!,#REF!,'15년총괄표(실국별)'!$B14) -> #REF! | G14: =SUMIFS(#REF!,#REF!,'15년총괄표(실국별)'!$B14) -> #REF! | H14: =C14+F14+G14 -> #REF! | N14: =N10-#REF! -> #REF!
B15: 철도국 | C15: 205393587 | D15: =SUMIFS(#REF!,#REF!,'15년총괄표(실국별)'!$B15) -> #REF! | E15: =SUMIFS(#REF!,#REF!,'15년총괄표(실국별)'!$B15) -> #REF! | F15: =SUMIFS(#REF!,#REF!,'15년총괄표(실국별)'!$B15) -> #REF! | G15: =SUMIFS(#REF!,#REF!,'15년총괄표(실국별)'!$B15) -> #REF! | H15: =C15+F15+G15 -> #REF!
B16: 재난안전본부 | C16: 694104955 | D16: =SUMIFS(#REF!,#REF!,'15년총괄표(실국별)'!$B16) -> #REF! | E16: =SUMIFS(#REF!,#REF!,'15년총괄표(실국별)'!$B16) -> #REF! | F16: =SUMIFS(#REF!,#REF!,'15년총괄표(실국별)'!$B16) -> #REF! | G16: =SUMIFS(#REF!,#REF!,'15년총괄표(실국별)'!$B16) -> #REF! | H16: =C16+F16+G16 -> #REF!
B17: 의회사무처 | C17: 30412373 | D17: =SUMIFS(#REF!,#REF!,'15년총괄표(실국별)'!$B17) -> #REF! | E17: =SUMIFS(#REF!,#REF!,'15년총괄표(실국별)'!$B17) -> #REF! | F17: =SUMIFS(#REF!,#REF!,'15년총괄표(실국별)'!$B17) -> #REF! | G17: =SUMIFS(#REF!,#REF!,'15년총괄표(실국별)'!$B17) -> #REF! | H17: =C17+F17+G17 -> #REF!
B18: 대변인 | C18: 12731214 | D18: =SUMIFS(#REF!,#REF!,'15년총괄표(실국별)'!$B18) -> #REF! | E18: =SUMIFS(#REF!,#REF!,'15년총괄표(실국별)'!$B18) -> #REF! | F18: =SUMIFS(#REF!,#REF!,'15년총괄표(실국별)'!$B18) -> #REF! | G18: =SUMIFS(#REF!,#REF!,'15년총괄표(실국별)'!$B18) -> #REF! | H18: =C18+F18+G18 -> #REF! | I18: =#REF!+#REF! -> #REF! | J18: =#REF!+#REF! -> #REF! | N18: =#REF!-#REF! -> #REF!
B19: 대외협력담당관 | C19: 450511 | D19: =SUMIFS(#REF!,#REF!,'15년총괄표(실국별)'!$B19) -> #REF! | E19: =SUMIFS(#REF!,#REF!,'15년총괄표(실국별)'!$B19) -> #REF! | F19: =SUMIFS(#REF!,#REF!,'15년총괄표(실국별)'!$B19) -> #REF! | G19: =SUMIFS(#REF!,#REF!,'15년총괄표(실국별)'!$B19) -> #REF! | H19: =C19+F19+G19 -> #REF!
B20: 보건복지국 | C20: 2803637639 | D20: =SUMIFS(#REF!,#REF!,'15년총괄표(실국별)'!$B20) -> #REF! | E20: =SUMIFS(#REF!,#REF!,'15년총괄표(실국별)'!$B20) -> #REF! | F20: =SUMIFS(#REF!,#REF!,'15년총괄표(실국별)'!$B20) -> #REF! | G20: =SUMIFS(#REF!,#REF!,'15년총괄표(실국별)'!$B20) -> #REF! | H20: =C20+F20+G20 -> #REF!
B21: 환경국 | C21: 96522924 | D21: =SUMIFS(#REF!,#REF!,'15년총괄표(실국별)'!$B21) -> #REF! | E21: =SUMIFS(#REF!,#REF!,'15년총괄표(실국별)'!$B21) -> #REF! | F21: =SUMIFS(#REF!,#REF!,'15년총괄표(실국별)'!$B21) -> #REF! | G21: =SUMIFS(#REF!,#REF!,'15년총괄표(실국별)'!$B21) -> #REF! | H21: =C21+F21+G21 -> #REF! | N21: 기금
B22: 여성가족국 | C22: 1454395771 | D22: =SUMIFS(#REF!,#REF!,'15년총괄표(실국별)'!$B22) -> #REF! | E22: =SUMIFS(#REF!,#REF!,'15년총괄표(실국별)'!$B22) -> #REF! | F22: =SUMIFS(#REF!,#REF!,'15년총괄표(실국별)'!$B22) -> #REF! | G22: =SUMIFS(#REF!,#REF!,'15년총괄표(실국별)'!$B22) -> #REF! | H22: =C22+F22+G22 -> #REF! | N22: =N18-#REF! -> #REF!
B23: 농업기술원 | C23: 35645539 | D23: =SUMIFS(#REF!,#REF!,'15년총괄표(실국별)'!$B23) -> #REF! | E23: =SUMIFS(#REF!,#REF!,'15년총괄표(실국별)'!$B23) -> #REF! | F23: =SUMIFS(#REF!,#REF!,'15년총괄표(실국별)'!$B23) -> #REF! | G23: =SUMIFS(#REF!,#REF!,'15년총괄표(실국별)'!$B23) -> #REF! | H23: =C23+F23+G23 -> #REF!
B24: 인재개발원 | C24: 10314647 | D24: =SUMIFS(#REF!,#REF!,'15년총괄표(실국별)'!$B24) -> #REF! | E24: =SUMIFS(#REF!,#REF!,'15년총괄표(실국별)'!$B24) -> #REF! | F24: =SUMIFS(#REF!,#REF!,'15년총괄표(실국별)'!$B24) -> #REF! | G24: =SUMIFS(#REF!,#REF!,'15년총괄표(실국별)'!$B24) -> #REF! | H24: =C24+F24+G24 -> #REF!
B25: 보건환경연구원 | C25: 8202067 | D25: =SUMIFS(#REF!,#REF!,'15년총괄표(실국별)'!$B25) -> #REF! | E25: =SUMIFS(#REF!,#REF!,'15년총괄표(실국별)'!$B25) -> #REF! | F25: =SUMIFS(#REF!,#REF!,'15년총괄표(실국별)'!$B25) -> #REF! | G25: =SUMIFS(#REF!,#REF!,'15년총괄표(실국별)'!$B25) -> #REF! | H25: =C25+F25+G25 -> #REF!
B26: 수자원본부 | C26: 631831527 | D26: =SUMIFS(#REF!,#REF!,'15년총괄표(실국별)'!$B26) -> #REF! | E26: =SUMIFS(#REF!,#REF!,'15년총괄표(실국별)'!$B26) -> #REF! | F26: =SUMIFS(#REF!,#REF!,'15년총괄표(실국별)'!$B26) -> #REF! | G26: =SUMIFS(#REF!,#REF!,'15년총괄표(실국별)'!$B26) -> #REF! | H26: =C26+F26+G26 -> #REF! | I26: =#REF!+#REF! -> #REF! | J26: =#REF!+#REF! -> #REF! | N26: =M2-N2 -> 0
B27: 복지여성실 | C27: 1328409175 | D27: =SUMIFS(#REF!,#REF!,'15년총괄표(실국별)'!$B27) -> #REF! | E27: =SUMIFS(#REF!,#REF!,'15년총괄표(실국별)'!$B27) -> #REF! | F27: =SUMIFS(#REF!,#REF!,'15년총괄표(실국별)'!$B27) -> #REF! | G27: =SUMIFS(#REF!,#REF!,'15년총괄표(실국별)'!$B27) -> #REF! | H27: =C27+F27+G27 -> #REF!
B28: 균형발전기획실 | C28: 223863128 | D28: =SUMIFS(#REF!,#REF!,'15년총괄표(실국별)'!$B28) -> #REF! | E28: =SUMIFS(#REF!,#REF!,'15년총괄표(실국별)'!$B28) -> #REF! | F28: =SUMIFS(#REF!,#REF!,'15년총괄표(실국별)'!$B28) -> #REF! | G28: =SUMIFS(#REF!,#REF!,'15년총괄표(실국별)'!$B28) -> #REF! | H28: =C28+F28+G28 -> #REF!
B29: 경제실 | C29: 506163851 | D29: =SUMIFS(#REF!,#REF!,'15년총괄표(실국별)'!$B29) -> #REF! | E29: =SUMIFS(#REF!,#REF!,'15년총괄표(실국별)'!$B29) -> #REF! | F29: =SUMIFS(#REF!,#REF!,'15년총괄표(실국별)'!$B29) -> #REF! | G29: =SUMIFS(#REF!,#REF!,'15년총괄표(실국별)'!$B29) -> #REF! | H29: =C29+F29+G29 -> #REF! | N29: 기금
B30: 축산산림국 | C30: 165426798 | D30: =SUMIFS(#REF!,#REF!,'15년총괄표(실국별)'!$B30) -> #REF! | E30: =SUMIFS(#REF!,#REF!,'15년총괄표(실국별)'!$B30) -> #REF! | F30: =SUMIFS(#REF!,#REF!,'15년총괄표(실국별)'!$B30) -> #REF! | G30: =SUMIFS(#REF!,#REF!,'15년총괄표(실국별)'!$B30) -> #REF! | H30: =C30+F30+G30 -> #REF! | N30: =N26-K2 -> 0
B31: 교통국 | C31: 466950444 | D31: =SUMIFS(#REF!,#REF!,'15년총괄표(실국별)'!$B31) -> #REF! | E31: =SUMIFS(#REF!,#REF!,'15년총괄표(실국별)'!$B31) -> #REF! | F31: =SUMIFS(#REF!,#REF!,'15년총괄표(실국별)'!$B31) -> #REF! | G31: =SUMIFS(#REF!,#REF!,'15년총괄표(실국별)'!$B31) -> #REF! | H31: =C31+F31+G31 -> #REF! | I31: =#REF!+#REF! -> #REF! | J31: =#REF!+#REF! -> #REF! | N31: =M7-N7 -> #REF!
B32: 건설국 | C32: 570450422 | D32: =SUMIFS(#REF!,#REF!,'15년총괄표(실국별)'!$B32) -> #REF! | E32: =SUMIFS(#REF!,#REF!,'15년총괄표(실국별)'!$B32) -> #REF! | F32: =SUMIFS(#REF!,#REF!,'15년총괄표(실국별)'!$B32) -> #REF! | G32: =SUMIFS(#REF!,#REF!,'15년총괄표(실국별)'!$B32) -> #REF! | H32: =C32+F32+G32 -> #REF!
B33: 건설본부 | C33: 48696301 | D33: =SUMIFS(#REF!,#REF!,'15년총괄표(실국별)'!$B33) -> #REF! | E33: =SUMIFS(#REF!,#REF!,'15년총괄표(실국별)'!$B33) -> #REF! | F33: =SUMIFS(#REF!,#REF!,'15년총괄표(실국별)'!$B33) -> #REF! | G33: =SUMIFS(#REF!,#REF!,'15년총괄표(실국별)'!$B33) -> #REF! | H33: =C33+F33+G33 -> #REF!
B37: 실국명 | C37: 일반 | D37: 기특 | E37: 공특 | F37: 합계
B38: 총합계 | C38: =SUM(C39:C64) -> 14504760931 | D38: =SUM(D39:D64) -> 1174065395 | E38: =SUM(E39:E64) -> 2139712389 | F38: =SUM(C38:E38) -> 17818538715
B39: 감사관 | C39: 1230140 | F39: =SUM(C39:E39) -> 1230140
B40: 기획조정실 | C40: 3253514147 | E40: 1741536684 | F40: =SUM(C40:E40) -> 4995050831
B41: 도시주택실 | C41: 302743533 | D41: 14731912 | E41: 33000000 | F41: =SUM(C41:E41) -> 350475445
B42: 자치행정국 | C42: 489102362 | F42: =SUM(C42:E42) -> 489102362
B43: 교육협력국 | C43: 1957985774 | D43: 166414000 | F43: =SUM(C43:E43) -> 2124399774
B44: 문화체육관광국 | C44: 246448826 | E44: 62624435 | F44: =SUM(C44:E44) -> 309073261
...

Sheet 2추총괄표
B1: '14년도 제2회 추경 일반 및 특별회계 세입·세출 예산안[전체예산총괄]
B3: □ 총 괄 | D3: 세입예산증감 | E3: =SUM(D7:E7) -> #REF! | F3: 세출예산증감 | G3: =SUM(F7:G7) -> #REF!
H4: (단위:천원) | M4: (일반+특별+기금) | O4: 특별+기금
B5: 구 분 | C5: 집행부제출(안) | D5: 세입예산(안) | F5: 세출예산(안) | H5: 예산수정(안) | I5: 일반회계 증감(총괄표) | K5: 예비비증감 | L5: 비 고 | M5: 전체 증감(시트) | O5: 비고
D6: 감 액 | E6: 증 액 | F6: 감 액 | G6: 증 액 | I6: 세입 | J6: 세출 | M6: 세입 | N6: 세출
B7: 합 계 | C7: =SUM(C8:C18) -> 18076711803 | D7: =SUM(D8:D18) -> #REF! | E7: =SUM(E8:E18) -> #REF! | F7: =SUM(F8:F18) -> #REF! | G7: =SUM(G8:G18) -> #REF! | H7: =SUM(H8:H18) -> #REF! | I7: =E25+D25 -> #REF! | J7: =F25+G25 -> #REF! | K7: =I7-J7 -> #REF! | L7: 예비비 증감이 - 예산이면 감액에 + 예산이면 증액에 입력 | M7: =D24+E24 -> #REF! | N7: =F24+G24 -> #REF! | O7: 0 | P7: 0
B8: 기 타 | C8: 0 | H8: =C8-F8+G8 -> 0 | I8: =D7+E7 -> #REF! | J8: =F7+G7 -> #REF! | K8: =I8-J8 -> #REF!
B9: 의회운영위원회 | C9: 41526053 | D9: =SUMIFS(#REF!,#REF!,'2추총괄표'!$B9) -> #REF! | E9: =SUMIFS(#REF!,#REF!,'2추총괄표'!$B9) -> #REF! | F9: =SUMIFS(#REF!,#REF!,'2추총괄표'!$B9) -> #REF! | G9: =SUMIFS(#REF!,#REF!,'2추총괄표'!$B9) -> #REF! | H9: =C9+F9+G9 -> #REF! | I9: 일반회계 증감(시트) | N9: 전체 증감
B10: 기획재정위원회 | C10: 5330576319 | D10: =SUMIFS(#REF!,#REF!,'2추총괄표'!$B10) -> #REF! | E10: =SUMIFS(#REF!,#REF!,'2추총괄표'!$B10) -> #REF! | F10: =SUMIFS(#REF!,#REF!,'2추총괄표'!$B10) -> #REF! | G10: =SUMIFS(#REF!,#REF!,'2추총괄표'!$B10) -> #REF! | H10: =C10+F10+G10 -> #REF! | I10: =#REF!+#REF! -> #REF! | J10: =#REF!+#REF! -> #REF! | N10: =M7-N7 -> #REF!
B11: 경제과학기술위원회 | C11: 551253750 | D11: =SUMIFS(#REF!,#REF!,'2추총괄표'!$B11) -> #REF! | E11: =SUMIFS(#REF!,#REF!,'2추총괄표'!$B11) -> #REF! | F11: =SUMIFS(#REF!,#REF!,'2추총괄표'!$B11) -> #REF! | G11: =SUMIFS(#REF!,#REF!,'2추총괄표'!$B11) -> #REF! | H11: =C11+F11+G11 -> #REF!
B12: 안전행정위원회 | C12: 1151519175 | D12: =SUMIFS(#REF!,#REF!,'2추총괄표'!$B12) -> #REF! | E12: =SUMIFS(#REF!,#REF!,'2추총괄표'!$B12) -> #REF! | F12: =SUMIFS(#REF!,#REF!,'2추총괄표'!$B12) -> #REF! | G12: =SUMIFS(#REF!,#REF!,'2추총괄표'!$B12) -> #REF! | H12: =C12+F12+G12 -> #REF!
B13: 문화체육관광위원회 | C13: 258716894 | D13: =SUMIFS(#REF!,#REF!,'2추총괄표'!$B13) -> #REF! | E13: =SUMIFS(#REF!,#REF!,'2추총괄표'!$B13) -> #REF! | F13: =SUMIFS(#REF!,#REF!,'2추총괄표'!$B13) -> #REF! | G13: =SUMIFS(#REF!,#REF!,'2추총괄표'!$B13) -> #REF! | H13: =C13+F13+G13 -> #REF! | N13: 기금
B14: 농정해양위원회 | C14: 474291470 | D14: =SUMIFS(#REF!,#REF!,'2추총괄표'!$B14) -> #REF! | E14: =SUMIFS(#REF!,#REF!,'2추총괄표'!$B14) -> #REF! | F14: =SUMIFS(#REF!,#REF!,'2추총괄표'!$B14) -> #REF! | G14: =SUMIFS(#REF!,#REF!,'2추총괄표'!$B14) -> #REF! | H14: =C14+F14+G14 -> #REF! | N14: =N10-K7 -> #REF!
B15: 보건복지위원회 | C15: 3278893259 | D15: =SUMIFS(#REF!,#REF!,'2추총괄표'!$B15) -> #REF! | E15: =SUMIFS(#REF!,#REF!,'2추총괄표'!$B15) -> #REF! | F15: =SUMIFS(#REF!,#REF!,'2추총괄표'!$B15) -> #REF! | G15: =SUMIFS(#REF!,#REF!,'2추총괄표'!$B15) -> #REF! | H15: =C15+F15+G15 -> #REF!
B16: 건설교통위원회 | C16: 1191584285 | D16: =SUMIFS(#REF!,#REF!,'2추총괄표'!$B16) -> #REF! | E16: =SUMIFS(#REF!,#REF!,'2추총괄표'!$B16) -> #REF! | F16: =SUMIFS(#REF!,#REF!,'2추총괄표'!$B16) -> #REF! | G16: =SUMIFS(#REF!,#REF!,'2추총괄표'!$B16) -> #REF! | H16: =C16+F16+G16 -> #REF!
B17: 도시환경위원회 | C17: 898421829 | D17: =SUMIFS(#REF!,#REF!,'2추총괄표'!$B17) -> #REF! | E17: =SUMIFS(#REF!,#REF!,'2추총괄표'!$B17) -> #REF! | F17: =SUMIFS(#REF!,#REF!,'2추총괄표'!$B17) -> #REF! | G17: =SUMIFS(#REF!,#REF!,'2추총괄표'!$B17) -> #REF! | H17: =C17+F17+G17 -> #REF!
B18: 여성가족교육협력위원회 | C18: 4899928769 | D18: =SUMIFS(#REF!,#REF!,'2추총괄표'!$B18) -> #REF! | E18: =SUMIFS(#REF!,#REF!,'2추총괄표'!$B18) -> #REF! | F18: =SUMIFS(#REF!,#REF!,'2추총괄표'!$B18) -> #REF! | G18: =SUMIFS(#REF!,#REF!,'2추총괄표'!$B18) -> #REF! | H18: =C18+F18+G18 -> #REF!
B20: □ 회계별 예산총규모
H21: (단위:천원)
B22: 구 분 | C22: 세출예산액 (집행부제출 안) | D22: 세입예산(안) | F22: 세출예산(안) | H22: 예산수정(안)
D23: 감 액 | E23: 증 액 | F23: 감 액 | G23: 증 액 | I23: 세입기준 수정예산안
B24: 합 계 | C24: =SUM(C25:C26) -> 0 | D24: =SUM(D25:D26) -> #REF! | E24: =SUM(E25:E26) -> #REF! | F24: =SUM(F25:F26) -> #REF! | G24: =SUM(G25:G26) -> #REF! | H24: =SUM(H25:H26) -> #REF! | I24: =C24+D24+E24 -> #REF! | J24: =I24-H24 -> #REF! | K24: (세출기준-세입기준)
B25: 일반회계 | D25: =#REF! -> #REF! | E25: =#REF! -> #REF! | F25: =#REF! -> #REF! | G25: =#REF! -> #REF! | H25: =C25+F25+G25 -> #REF! | I25: =C25+D25+E25 -> #REF! | J25: =I25-H25 -> #REF! | K25: (세출기준-세입기준)
B26: 특별회계 | H26: =C26+F26+G26 -> 0 | I26: =C26+D26+E26 -> 0 | J26: =I26-H26 -> 0 | K26: (세출기준-세입기준)
B30: 위원회명 | C30: 일반+기특 | D30: 공기업 | E30: 합계
B31: 의회운영위원회 | C31: 39922113 | E31: =SUM(C31:D31) -> 39922113
B32: 기획재정위원회 | C32: 3302571667 | D32: 1780946434 | E32: =SUM(C32:D32) -> 5083518101
B33: 경제과학기술위원회 | C33: 155329320 | D33: 384743740 | E33: =SUM(C33:D33) -> 540073060
B34: 안전행정위원회 | C34: 1142858974 | E34: =SUM(C34:D34) -> 1142858974
B35: 문화체육관광위원회 | C35: 224243208 | D35: 52484400 | E35: =SUM(C35:D35) -> 276727608
B36: 농정해양위원회 | C36: 466978999 | E36: =SUM(C36:D36) -> 466978999
B37: 보건복지위원회 | C37: 3254006708 | E37: =SUM(C37:D37) -> 3254006708
B38: 건설교통위원회 | C38: 1220859831 | E38: =SUM(C38:D38) -> 1220859831
B39: 도시환경위원회 | C39: 866963933 | D39: 28360000 | E39: =SUM(C39:D39) -> 895323933
B40: 여성가족평생교육위원회 | C40: 4882582917 | E40: =SUM(C40:D40) -> 4882582917
B41: 총합계 | C41: =SUM(C31:C40) -> 15556317670 | D41: =SUM(D31:D40) -> 2246534574 | E41: =SUM(C41:D41) -> 17802852244
B43: 예비비 | C43: =3922478-221377 -> 3701101
B54: 위원회명 | C54: 일반 | D54: 기특 | E54: 공특 | F54: 합계
B56: 총합계 | C56: =SUM(C57:C66) -> 14571523178 | D56: =SUM(D57:D66) -> 1223711435 | E56: =SUM(E57:E66) -> 2281477190 | F56: =SUM(C56:E56) -> 18076711803
B57: 의회운영위원회 | C57: 41526053 | F57: =SUM(C57:E57) -> 41526053
...

Sheet 2추총괄표(실국별)
B1: '14년도 제2회 추경 일반 및 특별회계 세입·세출 예산안[전체예산총괄]
B3: □ 총괄(실국별) | E3: =SUM(D7:E7) -> #REF! | G3: =SUM(F7:G7) -> #REF!
H4: (단위:천원) | M4: (일반+특별+기금) | O4: 특별+기금
B5: 구 분 | C5: 집행부제출(안) | D5: 세입예산(안) | F5: 세출예산(안) | H5: 예산수정(안) | I5: 일반회계 증감(총괄표) | K5: 예비비증감 | L5: 비 고 | M5: 전체 증감(시트) | O5: 비고
D6: 감 액 | E6: 증 액 | F6: 감 액 | G6: 증 액 | I6: 세입 | J6: 세출 | M6: 세입 | N6: 세출
B7: 합 계 | C7: =SUM(C8:C33) -> 18076711803 | D7: =SUM(D8:D33) -> #REF! | E7: =SUM(E8:E33) -> #REF! | F7: =SUM(F8:F33) -> #REF! | G7: =SUM(G8:G33) -> #REF! | H7: =SUM(H8:H33) -> #REF! | I7: =#REF!+#REF! -> #REF! | J7: =#REF!+#REF! -> #REF! | K7: =I7-J7 -> #REF! | L7: 예비비 증감이 - 예산이면 감액에 + 예산이면 증액에 입력 | M7: =#REF!+#REF! -> #REF! | N7: =#REF!+#REF! -> #REF! | O7: 0 | P7: 0
B8: 감사관 | C8: 914581 | D8: =SUMIFS(#REF!,#REF!,'2추총괄표(실국별)'!$B8) -> #REF! | E8: =SUMIFS(#REF!,#REF!,'2추총괄표(실국별)'!$B8) -> #REF! | F8: =SUMIFS(#REF!,#REF!,'2추총괄표(실국별)'!$B8) -> #REF! | G8: =SUMIFS(#REF!,#REF!,'2추총괄표(실국별)'!$B8) -> #REF! | H8: =C8+F8+G8 -> #REF! | I8: 일반회계 증감(시트) | N8: 전체 증감
B9: 기획조정실 | C9: 5144786053 | D9: =SUMIFS(#REF!,#REF!,'2추총괄표(실국별)'!$B9) -> #REF! | E9: =SUMIFS(#REF!,#REF!,'2추총괄표(실국별)'!$B9) -> #REF! | F9: =SUMIFS(#REF!,#REF!,'2추총괄표(실국별)'!$B9) -> #REF! | G9: =SUMIFS(#REF!,#REF!,'2추총괄표(실국별)'!$B9) -> #REF! | H9: =C9+F9+G9 -> #REF! | I9: =#REF!+#REF! -> #REF! | J9: =#REF!+#REF! -> #REF! | N9: =#REF!-#REF! -> #REF!
B10: 도시주택실 | C10: 221255441 | D10: =SUMIFS(#REF!,#REF!,'2추총괄표(실국별)'!$B10) -> #REF! | E10: =SUMIFS(#REF!,#REF!,'2추총괄표(실국별)'!$B10) -> #REF! | F10: =SUMIFS(#REF!,#REF!,'2추총괄표(실국별)'!$B10) -> #REF! | G10: =SUMIFS(#REF!,#REF!,'2추총괄표(실국별)'!$B10) -> #REF! | H10: =C10+F10+G10 -> #REF! | I10: =#REF!+#REF! -> #REF! | J10: =#REF!+#REF! -> #REF! | N10: =#REF!-#REF! -> #REF!
B11: 자치행정국 | C11: 547246549 | D11: =SUMIFS(#REF!,#REF!,'2추총괄표(실국별)'!$B11) -> #REF! | E11: =SUMIFS(#REF!,#REF!,'2추총괄표(실국별)'!$B11) -> #REF! | F11: =SUMIFS(#REF!,#REF!,'2추총괄표(실국별)'!$B11) -> #REF! | G11: =SUMIFS(#REF!,#REF!,'2추총괄표(실국별)'!$B11) -> #REF! | H11: =C11+F11+G11 -> #REF!
B12: 교육협력국 | C12: 2339199089 | D12: =SUMIFS(#REF!,#REF!,'2추총괄표(실국별)'!$B12) -> #REF! | E12: =SUMIFS(#REF!,#REF!,'2추총괄표(실국별)'!$B12) -> #REF! | F12: =SUMIFS(#REF!,#REF!,'2추총괄표(실국별)'!$B12) -> #REF! | G12: =SUMIFS(#REF!,#REF!,'2추총괄표(실국별)'!$B12) -> #REF! | H12: =C12+F12+G12 -> #REF!
B13: 문화체육관광국 | C13: 258716894 | D13: =SUMIFS(#REF!,#REF!,'2추총괄표(실국별)'!$B13) -> #REF! | E13: =SUMIFS(#REF!,#REF!,'2추총괄표(실국별)'!$B13) -> #REF! | F13: =SUMIFS(#REF!,#REF!,'2추총괄표(실국별)'!$B13) -> #REF! | G13: =SUMIFS(#REF!,#REF!,'2추총괄표(실국별)'!$B13) -> #REF! | H13: =C13+F13+G13 -> #REF! | N13: 기금
B14: 농정해양국 | C14: 250268892 | D14: =SUMIFS(#REF!,#REF!,'2추총괄표(실국별)'!$B14) -> #REF! | E14: =SUMIFS(#REF!,#REF!,'2추총괄표(실국별)'!$B14) -> #REF! | F14: =SUMIFS(#REF!,#REF!,'2추총괄표(실국별)'!$B14) -> #REF! | G14: =SUMIFS(#REF!,#REF!,'2추총괄표(실국별)'!$B14) -> #REF! | H14: =C14+F14+G14 -> #REF! | N14: =N10-#REF! -> #REF!
B15: 철도국 | C15: 97467509 | D15: =SUMIFS(#REF!,#REF!,'2추총괄표(실국별)'!$B15) -> #REF! | E15: =SUMIFS(#REF!,#REF!,'2추총괄표(실국별)'!$B15) -> #REF! | F15: =SUMIFS(#REF!,#REF!,'2추총괄표(실국별)'!$B15) -> #REF! | G15: =SUMIFS(#REF!,#REF!,'2추총괄표(실국별)'!$B15) -> #REF! | H15: =C15+F15+G15 -> #REF!
B16: 재난안전본부 | C16: 577186012 | D16: =SUMIFS(#REF!,#REF!,'2추총괄표(실국별)'!$B16) -> #REF! | E16: =SUMIFS(#REF!,#REF!,'2추총괄표(실국별)'!$B16) -> #REF! | F16: =SUMIFS(#REF!,#REF!,'2추총괄표(실국별)'!$B16) -> #REF! | G16: =SUMIFS(#REF!,#REF!,'2추총괄표(실국별)'!$B16) -> #REF! | H16: =C16+F16+G16 -> #REF!
B17: 의회사무처 | C17: 29891138 | D17: =SUMIFS(#REF!,#REF!,'2추총괄표(실국별)'!$B17) -> #REF! | E17: =SUMIFS(#REF!,#REF!,'2추총괄표(실국별)'!$B17) -> #REF! | F17: =SUMIFS(#REF!,#REF!,'2추총괄표(실국별)'!$B17) -> #REF! | G17: =SUMIFS(#REF!,#REF!,'2추총괄표(실국별)'!$B17) -> #REF! | H17: =C17+F17+G17 -> #REF!
B18: 대변인 | C18: 11250846 | D18: =SUMIFS(#REF!,#REF!,'2추총괄표(실국별)'!$B18) -> #REF! | E18: =SUMIFS(#REF!,#REF!,'2추총괄표(실국별)'!$B18) -> #REF! | F18: =SUMIFS(#REF!,#REF!,'2추총괄표(실국별)'!$B18) -> #REF! | G18: =SUMIFS(#REF!,#REF!,'2추총괄표(실국별)'!$B18) -> #REF! | H18: =C18+F18+G18 -> #REF! | I18: =#REF!+#REF! -> #REF! | J18: =#REF!+#REF! -> #REF! | N18: =#REF!-#REF! -> #REF!
B19: 대외협력담당관 | C19: 384069 | D19: =SUMIFS(#REF!,#REF!,'2추총괄표(실국별)'!$B19) -> #REF! | E19: =SUMIFS(#REF!,#REF!,'2추총괄표(실국별)'!$B19) -> #REF! | F19: =SUMIFS(#REF!,#REF!,'2추총괄표(실국별)'!$B19) -> #REF! | G19: =SUMIFS(#REF!,#REF!,'2추총괄표(실국별)'!$B19) -> #REF! | H19: =C19+F19+G19 -> #REF!
B20: 보건복지국 | C20: 2582006910 | D20: =SUMIFS(#REF!,#REF!,'2추총괄표(실국별)'!$B20) -> #REF! | E20: =SUMIFS(#REF!,#REF!,'2추총괄표(실국별)'!$B20) -> #REF! | F20: =SUMIFS(#REF!,#REF!,'2추총괄표(실국별)'!$B20) -> #REF! | G20: =SUMIFS(#REF!,#REF!,'2추총괄표(실국별)'!$B20) -> #REF! | H20: =C20+F20+G20 -> #REF!
B21: 환경국 | C21: 90647611 | D21: =SUMIFS(#REF!,#REF!,'2추총괄표(실국별)'!$B21) -> #REF! | E21: =SUMIFS(#REF!,#REF!,'2추총괄표(실국별)'!$B21) -> #REF! | F21: =SUMIFS(#REF!,#REF!,'2추총괄표(실국별)'!$B21) -> #REF! | G21: =SUMIFS(#REF!,#REF!,'2추총괄표(실국별)'!$B21) -> #REF! | H21: =C21+F21+G21 -> #REF! | N21: 기금
B22: 여성가족국 | C22: 1883037298 | D22: =SUMIFS(#REF!,#REF!,'2추총괄표(실국별)'!$B22) -> #REF! | E22: =SUMIFS(#REF!,#REF!,'2추총괄표(실국별)'!$B22) -> #REF! | F22: =SUMIFS(#REF!,#REF!,'2추총괄표(실국별)'!$B22) -> #REF! | G22: =SUMIFS(#REF!,#REF!,'2추총괄표(실국별)'!$B22) -> #REF! | H22: =C22+F22+G22 -> #REF! | N22: =N18-#REF! -> #REF!
B23: 농업기술원 | C23: 39275302 | D23: =SUMIFS(#REF!,#REF!,'2추총괄표(실국별)'!$B23) -> #REF! | E23: =SUMIFS(#REF!,#REF!,'2추총괄표(실국별)'!$B23) -> #REF! | F23: =SUMIFS(#REF!,#REF!,'2추총괄표(실국별)'!$B23) -> #REF! | G23: =SUMIFS(#REF!,#REF!,'2추총괄표(실국별)'!$B23) -> #REF! | H23: =C23+F23+G23 -> #REF!
B24: 인재개발원 | C24: 8834247 | D24: =SUMIFS(#REF!,#REF!,'2추총괄표(실국별)'!$B24) -> #REF! | E24: =SUMIFS(#REF!,#REF!,'2추총괄표(실국별)'!$B24) -> #REF! | F24: =SUMIFS(#REF!,#REF!,'2추총괄표(실국별)'!$B24) -> #REF! | G24: =SUMIFS(#REF!,#REF!,'2추총괄표(실국별)'!$B24) -> #REF! | H24: =C24+F24+G24 -> #REF!
B25: 보건환경연구원 | C25: 9409184 | D25: =SUMIFS(#REF!,#REF!,'2추총괄표(실국별)'!$B25) -> #REF! | E25: =SUMIFS(#REF!,#REF!,'2추총괄표(실국별)'!$B25) -> #REF! | F25: =SUMIFS(#REF!,#REF!,'2추총괄표(실국별)'!$B25) -> #REF! | G25: =SUMIFS(#REF!,#REF!,'2추총괄표(실국별)'!$B25) -> #REF! | H25: =C25+F25+G25 -> #REF!
B26: 수자원본부 | C26: 568254411 | D26: =SUMIFS(#REF!,#REF!,'2추총괄표(실국별)'!$B26) -> #REF! | E26: =SUMIFS(#REF!,#REF!,'2추총괄표(실국별)'!$B26) -> #REF! | F26: =SUMIFS(#REF!,#REF!,'2추총괄표(실국별)'!$B26) -> #REF! | G26: =SUMIFS(#REF!,#REF!,'2추총괄표(실국별)'!$B26) -> #REF! | H26: =C26+F26+G26 -> #REF! | I26: =#REF!+#REF! -> #REF! | J26: =#REF!+#REF! -> #REF! | N26: =M2-N2 -> 0
B27: 복지여성실 | C27: 1368375599 | D27: =SUMIFS(#REF!,#REF!,'2추총괄표(실국별)'!$B27) -> #REF! | E27: =SUMIFS(#REF!,#REF!,'2추총괄표(실국별)'!$B27) -> #REF! | F27: =SUMIFS(#REF!,#REF!,'2추총괄표(실국별)'!$B27) -> #REF! | G27: =SUMIFS(#REF!,#REF!,'2추총괄표(실국별)'!$B27) -> #REF! | H27: =C27+F27+G27 -> #REF!
B28: 균형발전기획실 | C28: 203128052 | D28: =SUMIFS(#REF!,#REF!,'2추총괄표(실국별)'!$B28) -> #REF! | E28: =SUMIFS(#REF!,#REF!,'2추총괄표(실국별)'!$B28) -> #REF! | F28: =SUMIFS(#REF!,#REF!,'2추총괄표(실국별)'!$B28) -> #REF! | G28: =SUMIFS(#REF!,#REF!,'2추총괄표(실국별)'!$B28) -> #REF! | H28: =C28+F28+G28 -> #REF!
B29: 경제실 | C29: 551253750 | D29: =SUMIFS(#REF!,#REF!,'2추총괄표(실국별)'!$B29) -> #REF! | E29: =SUMIFS(#REF!,#REF!,'2추총괄표(실국별)'!$B29) -> #REF! | F29: =SUMIFS(#REF!,#REF!,'2추총괄표(실국별)'!$B29) -> #REF! | G29: =SUMIFS(#REF!,#REF!,'2추총괄표(실국별)'!$B29) -> #REF! | H29: =C29+F29+G29 -> #REF! | N29: 기금
B30: 축산산림국 | C30: 199805590 | D30: =SUMIFS(#REF!,#REF!,'2추총괄표(실국별)'!$B30) -> #REF! | E30: =SUMIFS(#REF!,#REF!,'2추총괄표(실국별)'!$B30) -> #REF! | F30: =SUMIFS(#REF!,#REF!,'2추총괄표(실국별)'!$B30) -> #REF! | G30: =SUMIFS(#REF!,#REF!,'2추총괄표(실국별)'!$B30) -> #REF! | H30: =C30+F30+G30 -> #REF! | N30: =N26-K2 -> 0
B31: 교통국 | C31: 444655559 | D31: =SUMIFS(#REF!,#REF!,'2추총괄표(실국별)'!$B31) -> #REF! | E31: =SUMIFS(#REF!,#REF!,'2추총괄표(실국별)'!$B31) -> #REF! | F31: =SUMIFS(#REF!,#REF!,'2추총괄표(실국별)'!$B31) -> #REF! | G31: =SUMIFS(#REF!,#REF!,'2추총괄표(실국별)'!$B31) -> #REF! | H31: =C31+F31+G31 -> #REF! | I31: =#REF!+#REF! -> #REF! | J31: =#REF!+#REF! -> #REF! | N31: =M7-N7 -> #REF!
B32: 건설국 | C32: 606801393 | D32: =SUMIFS(#REF!,#REF!,'2추총괄표(실국별)'!$B32) -> #REF! | E32: =SUMIFS(#REF!,#REF!,'2추총괄표(실국별)'!$B32) -> #REF! | F32: =SUMIFS(#REF!,#REF!,'2추총괄표(실국별)'!$B32) -> #REF! | G32: =SUMIFS(#REF!,#REF!,'2추총괄표(실국별)'!$B32) -> #REF! | H32: =C32+F32+G32 -> #REF!
B33: 건설본부 | C33: 42659824 | D33: =SUMIFS(#REF!,#REF!,'2추총괄표(실국별)'!$B33) -> #REF! | E33: =SUMIFS(#REF!,#REF!,'2추총괄표(실국별)'!$B33) -> #REF! | F33: =SUMIFS(#REF!,#REF!,'2추총괄표(실국별)'!$B33) -> #REF! | G33: =SUMIFS(#REF!,#REF!,'2추총괄표(실국별)'!$B33) -> #REF! | H33: =C33+F33+G33 -> #REF!
B37: 실국명 | C37: 일반 | D37: 기특 | E37: 공특 | F37: 합계
B38: 총합계 | C38: =SUM(C39:C64) -> 14571523178 | D38: =SUM(D39:D64) -> 1223711435 | E38: =SUM(E39:E64) -> 2281477190 | F38: =SUM(C38:E38) -> 18076711803
B39: 감사관 | C39: 914581 | F39: =SUM(C39:E39) -> 914581
B40: 기획조정실 | C40: 3300767937 | E40: 1844018116 | F40: =SUM(C40:E40) -> 5144786053
B41: 도시주택실 | C41: 171642061 | D41: 21248912 | E41: 28364468 | F41: =SUM(C41:E41) -> 221255441
B42: 자치행정국 | C42: 547246549 | F42: =SUM(C42:E42) -> 547246549
B43: 교육협력국 | C43: 2092269089 | D43: 246930000 | F43: =SUM(C43:E43) -> 2339199089
B44: 문화체육관광국 | C44: 234366028 | E44: 24350866 | F44: =SUM(C44:E44) -> 258716894
...

Sheet 16년일출(1차부동의)
A1: 2016년도 경기도 일반회계 세출예산 부동의사업 목록
F2: =SUBTOTAL(3,F6:F391) -> 3 | G2: =SUBTOTAL(3,G6:G391) -> 376 | J2: (단위 : 천원)
A3: 연번 | B3: 실국명 | C3: 부서명 | D3: 세부사업명 및 부기명 | E3: 예산안 (A) | F3: 도의회 조정액(B) | H3: 의회 확정예산 (C=A+B) | I3: 부동의 금 액 | J3: 비 고
F4: 감액 | G4: 증액
A5: 합계 | D5: (376건) | E5: =SUM(E6+E54+E60+E132+E213+E246+E308+E320+E334+E361) -> 278204697 | F5: =SUM(F6+F54+F60+F132+F213+F246+F308+F320+F334+F361) -> -695000 | G5: =SUM(G6+G54+G60+G132+G213+G246+G308+G320+G334+G361) -> 102868671 | H5: =SUM(H6+H54+H60+H132+H213+H246+H308+H320+H334+H361) -> 380378368 | I5: =SUM(I6+I54+I60+I132+I213+I246+I308+I320+I334+I361) -> 102868671
A6: (의회운영위원회) | E6: =SUBTOTAL(9,E7:E53) -> 4440967 | F6: =SUBTOTAL(9,F7:F53) -> 0 | G6: =SUBTOTAL(9,G7:G53) -> 2910590 | H6: =SUBTOTAL(9,H7:H53) -> 7351557 | I6: =SUM(G6) -> 2910590
A7: 1 | B7: 의회사무처 | C7: 공보담당관 | D7: 도민소통 의정홍보(자체/직접) -업무수첩 및 홍보물 제작 | G7: 85000 | H7: =SUM(E7+F7+G7) -> 85000 | I7: =SUM(G7) -> 85000
A8: 2 | B8: 의회사무처 | C8: 공보담당관 | D8: 의정홍보역량강화(자체/직접) - 의정활동 사진촬영 및 운영 | G8: 12080 | H8: =SUM(E8+F8+G8) -> 12080 | I8: =SUM(G8) -> 12080
A9: 3 | B9: 의회사무처 | C9: 공보담당관 | D9: 영상 및 언론매체 홍보(자체/직접) - CATV 의정홍보 | E9: 110000 | G9: 165600 | H9: =SUM(E9+F9+G9) -> 275600 | I9: =SUM(G9) -> 165600
A10: 4 | B10: 의회사무처 | C10: 공보담당관 | D10: 미디어 홍보(자체/직접) - 간행물 우편요금 | E10: 380520 | G10: 100660 | H10: =SUM(E10+F10+G10) -> 481180 | I10: =SUM(G10) -> 100660
A11: 5 | B11: 의회사무처 | C11: 공보담당관 | D11: 자산취득비(행정운영경비) -노트북 | G11: 1200 | H11: =SUM(E11+F11+G11) -> 1200 | I11: =SUM(G11) -> 1200
A12: 6 | B12: 의회사무처 | C12: 공보담당관 | D12: 자산취득비(행정운영경비) -디지털카메라 | G12: 11000 | H12: =SUM(E12+F12+G12) -> 11000 | I12: =SUM(G12) -> 11000
A13: 7 | B13: 의회사무처 | C13: 공보담당관 | D13: 자산취득비(행정운영경비) -레이져프린터 | G13: 450 | H13: =SUM(E13+F13+G13) -> 450 | I13: =SUM(G13) -> 450
A14: 8 | B14: 의회사무처 | C14: 총무담당관 | D14: 의회운영(자체/직접) - 해외의회 운영 사례연구 | E14: 10000 | G14: 30000 | H14: =SUM(E14+F14+G14) -> 40000 | I14: =SUM(G14) -> 30000
A15: 9 | B15: 의회사무처 | C15: 총무담당관 | D15: 의회운영(자체/직접) - 의회운영 및 예산 관련 비교 연수 | E15: 10000 | G15: 30000 | H15: =SUM(E15+F15+G15) -> 40000 | I15: =SUM(G15) -> 30000
A16: 10 | B16: 의회사무처 | C16: 총무담당관 | D16: 청사시설 유지관리(자체/직접) - 사무실 재배치 등 인테리어공사 | E16: 19000 | G16: 217000 | H16: =SUM(E16+F16+G16) -> 236000 | I16: =SUM(G16) -> 217000
A17: 11 | B17: 의회사무처 | C17: 총무담당관 | D17: 청사시설 유지관리(자체/직접) - 사무실 재배치 등 인테리어공사 | G17: 14000 | H17: =SUM(E17+F17+G17) -> 14000 | I17: =SUM(G17) -> 14000
A18: 12 | B18: 의회사무처 | C18: 총무담당관 | D18: 의정지원 기준경비(자체/직접) - 전국시도의회 운영위원장협의회 부담금 | G18: 10000 | H18: =SUM(E18+F18+G18) -> 10000 | I18: =SUM(G18) -> 10000
A19: 13 | B19: 의회사무처 | C19: 총무담당관 | D19: 의원 의정역량 강화 지원(자체/직접) - 의원 의정능력 배양 | E19: 9000 | G19: 41000 | H19: =SUM(E19+F19+G19) -> 50000 | I19: =SUM(G19) -> 41000
A20: 14 | B20: 의회사무처 | C20: 총무담당관 | D20: 자산취득비(행정운영경비) -공용차량(승용) | G20: 40000 | H20: =SUM(E20+F20+G20) -> 40000 | I20: =SUM(G20) -> 40000
A21: 15 | B21: 의회사무처 | C21: 총무담당관 | D21: 의회운영(자체/직접) -노트북컴퓨터 | G21: 256000 | H21: =SUM(E21+F21+G21) -> 256000 | I21: =SUM(G21) -> 256000
A22: 16 | B22: 의회사무처 | C22: 총무담당관 | D22: 자산취득비(행정운영경비) - 체력단련실 상체운동기구 | G22: 4000 | H22: =SUM(E22+F22+G22) -> 4000 | I22: =SUM(G22) -> 4000
A23: 17 | B23: 의회사무처 | C23: 총무담당관 | D23: 의원 정책활동 지원(자체/직접) -개원 60주년 기념행사 | G23: 150000 | H23: =SUM(E23+F23+G23) -> 150000 | I23: =SUM(G23) -> 150000
A24: 18 | B24: 의회사무처 | C24: 총무담당관 | D24: 의정지원능력강화(자체/직접) -소통과 나눔 아카데미 운영 지원 | G24: 50000 | H24: =SUM(E24+F24+G24) -> 50000 | I24: =SUM(G24) -> 50000
A25: 19 | B25: 의회사무처 | C25: 총무담당관 | D25: 국내외 교류사업 추진(자체/직접) - 의원 국외활동 수행여비 | E25: 174000 | G25: 68000 | H25: =SUM(E25+F25+G25) -> 242000 | I25: =SUM(G25) -> 68000
A26: 20 | B26: 의회사무처 | C26: 총무담당관 | D26: 자산취득비(행정운영경비) -책상 등 노후집기 교체 | G26: 31040 | H26: =SUM(E26+F26+G26) -> 31040 | I26: =SUM(G26) -> 31040
A27: 21 | B27: 의회사무처 | C27: 총무담당관 | D27: 자산취득비(행정운영경비) -의자 등 집기류 구입 | G27: 4256 | H27: =SUM(E27+F27+G27) -> 4256 | I27: =SUM(G27) -> 4256
A28: 22 | B28: 의회사무처 | C28: 총무담당관 | D28: 자산취득비(행정운영경비) -노트북 | G28: 1610 | H28: =SUM(E28+F28+G28) -> 1610 | I28: =SUM(G28) -> 1610
A29: 23 | B29: 의회사무처 | C29: 총무담당관 | D29: 자산취득비(행정운영경비) -프린터 | G29: 494 | H29: =SUM(E29+F29+G29) -> 494 | I29: =SUM(G29) -> 494
A30: 24 | B30: 의회사무처 | C30: 총무담당관 | D30: 자산취득비(행정운영경비) -접견용 커피머신 | G30: 600 | H30: =SUM(E30+F30+G30) -> 600 | I30: =SUM(G30) -> 600
A31: 25 | B31: 의회사무처 | C31: 총무담당관 | D31: 청사시설유지관리(자체/직접) - 상임위 노후시설 개선공사 | G31: 178000 | H31: =SUM(E31+F31+G31) -> 178000 | I31: =SUM(G31) -> 178000
A32: 26 | B32: 의회사무처 | C32: 입법정책담당관 | D32: 의원 입법활동 연구용역(자체/직접) -경기도의회 정책개발 연구용역 | E32: 180000 | G32: 200000 | H32: =SUM(E32+F32+G32) -> 380000 | I32: =SUM(G32) -> 200000
A33: 27 | B33: 의회사무처 | C33: 입법정책담당관 | D33: 의원 입법활동 연구용역(자체/직접) -자치법규 사후 입법영향분석 연구용역 | G33: 100000 | H33: =SUM(E33+F33+G33) -> 100000 | I33: =SUM(G33) -> 100000
A34: 28 | B34: 의회사무처 | C34: 입법정책담당관 | D34: 지역상담소 운영(자체/직접) -상담소 운영 기본경비 | E34: 186000 | G34: 74400 | H34: =SUM(E34+F34+G34) -> 260400 | I34: =SUM(G34) -> 74400
A35: 29 | B35: 의회사무처 | C35: 입법정책담당관 | D35: 자산취득비 -지역상담소 문서세단기 | G35: 12400 | H35: =SUM(E35+F35+G35) -> 12400 | I35: =SUM(G35) -> 12400
A36: 30 | B36: 대외협력담당관 | C36: 서울사무소 | D36: 국비예산 추가확보 지원(자체/직접) -생활관 임차·관리비 | G36: 22000 | H36: =SUM(E36+F36+G36) -> 22000 | I36: =SUM(G36) -> 22000
A37: 31 | B37: 대외협력담당관 | C37: 서울사무소 | D37: 자산취득비(행정운영경비) - LED TV | G37: 2000 | H37: =SUM(E37+F37+G37) -> 2000 | I37: =SUM(G37) -> 2000
A38: 32 | B38: 의회사무처 | C38: 공보담당관 | D38: 미디어홍보(자체/직접) - 의정홍보 만화 제작 | G38: 20000 | H38: =SUM(E38+F38+G38) -> 20000 | I38: =SUM(G38) -> 20000
A39: 33 | B39: 의회사무처 | C39: 공보담당관 | D39: 영상 및 언론매체 홍보(자체/직접) - 의정현안 시책홍보 | E39: 1918247 | G39: 520000 | H39: =SUM(E39+F39+G39) -> 2438247 | I39: =SUM(G39) -> 520000
A40: 34 | B40: 의회사무처 | C40: 공보담당관 | D40: 영상 및 언론매체 홍보(자체/직접) - 뉴스통신수신료 | E40: 196000 | G40: 44000 | H40: =SUM(E40+F40+G40) -> 240000 | I40: =SUM(G40) -> 44000
...
