Workbook

Sheet 구분표
A1: 실과명 조정 | B1: 위원회명 조정 | C1: 실국명 조정 | E1: 실국명 | F1: 실과명 | G1: 위원회명 | H1: 정렬순서 | I1: 정렬코드 | K1: 2014재원 | L1: 2015재원 | N1: 본예산 | O1: 2회추경 | Q1: 국도비 등 여부 | S1: 동의여부
A2: =IF(COUNT(AND(FIND("북부소방재난본부",$E2),FIND("특수대응단",$F2))),"특수대응단(북부)",IF(COUNT(FIND("작물연구과",$F2)),"작물연구과",IF(COUNT(FIND("원예연구과",$F2)),"원예연구과",IF(COUNT(FIND("환경농업연구과",$F2)),"환경농업연구과",IF(COUNT(FIND("지원기획과",$F2)),"지원기획과",IF(COUNT(FIND("기술보급과",$F2)),"기술보급과",IF(COUNT(FIND("농촌자원과",$F2)),"농촌자원과",IF(COUNT(FIND("종자관리소",$F2)),"종자관리소",IF(COUNT(FIND("버섯연구소",$F2)),"버섯연구소",IF(COUNT(FIND("소득자원연구소",$F2)),"소득자원연구소",IF(COUNT(FIND("선인장다육식물연구소",$F2)),"선인장다육식물연구소",IF(COUNT(FIND("보건연구부",$F2)),"보건연구부",IF(COUNT(FIND("대기연구부",$F2)),"대기연구부",IF(COUNT(FIND("수질연구부",$F2)),"수질연구부",IF(COUNT(FIND("북부지원",$F2)),"북부지원",IF(COUNT(FIND("수원농산물검사소",$F2)),"수원농산물검사소",IF(COUNT(FIND("건설본부(관리과)",$F2)),"관리과",IF(COUNT(FIND("도로건설과",$F2)),"도로건설과",IF(COUNT(FIND("북부도로과",$F2)),"북부도로과",IF(COUNT(FIND("건축시설과",$F2)),"건축시설과",IF(COUNT(FIND("신청사건립추진단",$F2)),"신청사건립추진단",$F2))))))))))))))))))))) -> 의회사무처 | B2: =G2 -> 의회운영위원회 | C2: =IF(COUNT(FIND("경기도건설본부",$E2)),"건설본부",IF(COUNT(FIND("경기도농업기술원",$E2)),"농업기술원",IF(COUNT(FIND("경기도보건환경연구원",$E2)),"보건환경연구원",IF(COUNT(FIND("소방재난본부",$E2)),"재난안전본부",IF(COUNT(FIND("경기도소방학교",$E2)),"재난안전본부",IF(COUNT(FIND("경기도인재개발원",$E2)),"인재개발원",IF(COUNT(FIND("북부소방재난본부",$E2)),"재난안전본부",IF(COUNT(FIND("소방서",$E2)),"재난안전본부",$E2)))))))) -> 의회사무처 | E2: 의회사무처 | F2: 의회사무처 | G2: 의회운영위원회 | H2: 1 | I2: 0101 | K2: 도비 | L2: 도비 | N2: 본예산 | O2: 2회추경 | Q2: 국도비 | S2: 동의
A3: =IF(COUNT(AND(FIND("북부소방재난본부",$E3),FIND("특수대응단",$F3))),"특수대응단(북부)",IF(COUNT(FIND("작물연구과",$F3)),"작물연구과",IF(COUNT(FIND("원예연구과",$F3)),"원예연구과",IF(COUNT(FIND("환경농업연구과",$F3)),"환경농업연구과",IF(COUNT(FIND("지원기획과",$F3)),"지원기획과",IF(COUNT(FIND("기술보급과",$F3)),"기술보급과",IF(COUNT(FIND("농촌자원과",$F3)),"농촌자원과",IF(COUNT(FIND("종자관리소",$F3)),"종자관리소",IF(COUNT(FIND("버섯연구소",$F3)),"버섯연구소",IF(COUNT(FIND("소득자원연구소",$F3)),"소득자원연구소",IF(COUNT(FIND("선인장다육식물연구소",$F3)),"선인장다육식물연구소",IF(COUNT(FIND("보건연구부",$F3)),"보건연구부",IF(COUNT(FIND("대기연구부",$F3)),"대기연구부",IF(COUNT(FIND("수질연구부",$F3)),"수질연구부",IF(COUNT(FIND("북부지원",$F3)),"북부지원",IF(COUNT(FIND("수원농산물검사소",$F3)),"수원농산물검사소",IF(COUNT(FIND("건설본부(관리과)",$F3)),"관리과",IF(COUNT(FIND("도로건설과",$F3)),"도로건설과",IF(COUNT(FIND("북부도로과",$F3)),"북부도로과",IF(COUNT(FIND("건축시설과",$F3)),"건축시설과",IF(COUNT(FIND("신청사건립추진단",$F3)),"신청사건립추진단",$F3))))))))))))))))))))) -> 언론담당관 | B3: =G3 -> 의회운영위원회 | C3: =IF(COUNT(FIND("경기도건설본부",$E3)),"건설본부",IF(COUNT(FIND("경기도농업기술원",$E3)),"농업기술원",IF(COUNT(FIND("경기도보건환경연구원",$E3)),"보건환경연구원",IF(COUNT(FIND("소방재난본부",$E3)),"재난안전본부",IF(COUNT(FIND("경기도소방학교",$E3)),"재난안전본부",IF(COUNT(FIND("경기도인재개발원",$E3)),"인재개발원",IF(COUNT(FIND("북부소방재난본부",$E3)),"재난안전본부",IF(COUNT(FIND("소방서",$E3)),"재난안전본부",$E3)))))))) -> 대변인 | E3: 대변인 | F3: 언론담당관 | G3: 의회운영위원회 | H3: 2 | I3: 0201 | K3: 국비 | L3: 국비 | N3: 신규 | O3: 1회추경 | Q3: 도비 | S3: 부동의
A4: =IF(COUNT(AND(FIND("북부소방재난본부",$E4),FIND("특수대응단",$F4))),"특수대응단(북부)",IF(COUNT(FIND("작물연구과",$F4)),"작물연구과",IF(COUNT(FIND("원예연구과",$F4)),"원예연구과",IF(COUNT(FIND("환경농업연구과",$F4)),"환경농업연구과",IF(COUNT(FIND("지원기획과",$F4)),"지원기획과",IF(COUNT(FIND("기술보급과",$F4)),"기술보급과",IF(COUNT(FIND("농촌자원과",$F4)),"농촌자원과",IF(COUNT(FIND("종자관리소",$F4)),"종자관리소",IF(COUNT(FIND("버섯연구소",$F4)),"버섯연구소",IF(COUNT(FIND("소득자원연구소",$F4)),"소득자원연구소",IF(COUNT(FIND("선인장다육식물연구소",$F4)),"선인장다육식물연구소",IF(COUNT(FIND("보건연구부",$F4)),"보건연구부",IF(COUNT(FIND("대기연구부",$F4)),"대기연구부",IF(COUNT(FIND("수질연구부",$F4)),"수질연구부",IF(COUNT(FIND("북부지원",$F4)),"북부지원",IF(COUNT(FIND("수원농산물검사소",$F4)),"수원농산물검사소",IF(COUNT(FIND("건설본부(관리과)",$F4)),"관리과",IF(COUNT(FIND("도로건설과",$F4)),"도로건설과",IF(COUNT(FIND("북부도로과",$F4)),"북부도로과",IF(COUNT(FIND("건축시설과",$F4)),"건축시설과",IF(COUNT(FIND("신청사건립추진단",$F4)),"신청사건립추진단",$F4))))))))))))))))))))) -> 홍보담당관 | B4: =G4 -> 의회운영위원회 | C4: =IF(COUNT(FIND("경기도건설본부",$E4)),"건설본부",IF(COUNT(FIND("경기도농업기술원",$E4)),"농업기술원",IF(COUNT(FIND("경기도보건환경연구원",$E4)),"보건환경연구원",IF(COUNT(FIND("소방재난본부",$E4)),"재난안전본부",IF(COUNT(FIND("경기도소방학교",$E4)),"재난안전본부",IF(COUNT(FIND("경기도인재개발원",$E4)),"인재개발원",IF(COUNT(FIND("북부소방재난본부",$E4)),"재난안전본부",IF(COUNT(FIND("소방서",$E4)),"재난안전본부",$E4)))))))) -> 대변인 | E4: 대변인 | F4: 홍보담당관 | G4: 의회운영위원회 | H4: 3 | I4: 0202 | K4: 광특 | L4: 지특 | O4: 본예산
A5: =IF(COUNT(AND(FIND("북부소방재난본부",$E5),FIND("특수대응단",$F5))),"특수대응단(북부)",IF(COUNT(FIND("작물연구과",$F5)),"작물연구과",IF(COUNT(FIND("원예연구과",$F5)),"원예연구과",IF(COUNT(FIND("환경농업연구과",$F5)),"환경농업연구과",IF(COUNT(FIND("지원기획과",$F5)),"지원기획과",IF(COUNT(FIND("기술보급과",$F5)),"기술보급과",IF(COUNT(FIND("농촌자원과",$F5)),"농촌자원과",IF(COUNT(FIND("종자관리소",$F5)),"종자관리소",IF(COUNT(FIND("버섯연구소",$F5)),"버섯연구소",IF(COUNT(FIND("소득자원연구소",$F5)),"소득자원연구소",IF(COUNT(FIND("선인장다육식물연구소",$F5)),"선인장다육식물연구소",IF(COUNT(FIND("보건연구부",$F5)),"보건연구부",IF(COUNT(FIND("대기연구부",$F5)),"대기연구부",IF(COUNT(FIND("수질연구부",$F5)),"수질연구부",IF(COUNT(FIND("북부지원",$F5)),"북부지원",IF(COUNT(FIND("수원농산물검사소",$F5)),"수원농산물검사소",IF(COUNT(FIND("건설본부(관리과)",$F5)),"관리과",IF(COUNT(FIND("도로건설과",$F5)),"도로건설과",IF(COUNT(FIND("북부도로과",$F5)),"북부도로과",IF(COUNT(FIND("건축시설과",$F5)),"건축시설과",IF(COUNT(FIND("신청사건립추진단",$F5)),"신청사건립추진단",$F5))))))))))))))))))))) -> 소통담당관 | B5: =G5 -> 의회운영위원회 | C5: =IF(COUNT(FIND("경기도건설본부",$E5)),"건설본부",IF(COUNT(FIND("경기도농업기술원",$E5)),"농업기술원",IF(COUNT(FIND("경기도보건환경연구원",$E5)),"보건환경연구원",IF(COUNT(FIND("소방재난본부",$E5)),"재난안전본부",IF(COUNT(FIND("경기도소방학교",$E5)),"재난안전본부",IF(COUNT(FIND("경기도인재개발원",$E5)),"인재개발원",IF(COUNT(FIND("북부소방재난본부",$E5)),"재난안전본부",IF(COUNT(FIND("소방서",$E5)),"재난안전본부",$E5)))))))) -> 대변인 | E5: 대변인 | F5: 소통담당관 | G5: 의회운영위원회 | H5: 4 | I5: 0203 | K5: 기금 | L5: 기금 | O5: 신규
A6: =IF(COUNT(AND(FIND("북부소방재난본부",$E6),FIND("특수대응단",$F6))),"특수대응단(북부)",IF(COUNT(FIND("작물연구과",$F6)),"작물연구과",IF(COUNT(FIND("원예연구과",$F6)),"원예연구과",IF(COUNT(FIND("환경농업연구과",$F6)),"환경농업연구과",IF(COUNT(FIND("지원기획과",$F6)),"지원기획과",IF(COUNT(FIND("기술보급과",$F6)),"기술보급과",IF(COUNT(FIND("농촌자원과",$F6)),"농촌자원과",IF(COUNT(FIND("종자관리소",$F6)),"종자관리소",IF(COUNT(FIND("버섯연구소",$F6)),"버섯연구소",IF(COUNT(FIND("소득자원연구소",$F6)),"소득자원연구소",IF(COUNT(FIND("선인장다육식물연구소",$F6)),"선인장다육식물연구소",IF(COUNT(FIND("보건연구부",$F6)),"보건연구부",IF(COUNT(FIND("대기연구부",$F6)),"대기연구부",IF(COUNT(FIND("수질연구부",$F6)),"수질연구부",IF(COUNT(FIND("북부지원",$F6)),"북부지원",IF(COUNT(FIND("수원농산물검사소",$F6)),"수원농산물검사소",IF(COUNT(FIND("건설본부(관리과)",$F6)),"관리과",IF(COUNT(FIND("도로건설과",$F6)),"도로건설과",IF(COUNT(FIND("북부도로과",$F6)),"북부도로과",IF(COUNT(FIND("건축시설과",$F6)),"건축시설과",IF(COUNT(FIND("신청사건립추진단",$F6)),"신청사건립추진단",$F6))))))))))))))))))))) -> 대외협력담당관 | B6: =G6 -> 의회운영위원회 | C6: =IF(COUNT(FIND("경기도건설본부",$E6)),"건설본부",IF(COUNT(FIND("경기도농업기술원",$E6)),"농업기술원",IF(COUNT(FIND("경기도보건환경연구원",$E6)),"보건환경연구원",IF(COUNT(FIND("소방재난본부",$E6)),"재난안전본부",IF(COUNT(FIND("경기도소방학교",$E6)),"재난안전본부",IF(COUNT(FIND("경기도인재개발원",$E6)),"인재개발원",IF(COUNT(FIND("북부소방재난본부",$E6)),"재난안전본부",IF(COUNT(FIND("소방서",$E6)),"재난안전본부",$E6)))))))) -> 대외협력담당관 | E6: 대외협력담당관 | F6: 대외협력담당관 | G6: 의회운영위원회 | H6: 5 | I6: 0301 | K6: 분권 | L6: 특교
A7: =IF(COUNT(AND(FIND("북부소방재난본부",$E7),FIND("특수대응단",$F7))),"특수대응단(북부)",IF(COUNT(FIND("작물연구과",$F7)),"작물연구과",IF(COUNT(FIND("원예연구과",$F7)),"원예연구과",IF(COUNT(FIND("환경농업연구과",$F7)),"환경농업연구과",IF(COUNT(FIND("지원기획과",$F7)),"지원기획과",IF(COUNT(FIND("기술보급과",$F7)),"기술보급과",IF(COUNT(FIND("농촌자원과",$F7)),"농촌자원과",IF(COUNT(FIND("종자관리소",$F7)),"종자관리소",IF(COUNT(FIND("버섯연구소",$F7)),"버섯연구소",IF(COUNT(FIND("소득자원연구소",$F7)),"소득자원연구소",IF(COUNT(FIND("선인장다육식물연구소",$F7)),"선인장다육식물연구소",IF(COUNT(FIND("보건연구부",$F7)),"보건연구부",IF(COUNT(FIND("대기연구부",$F7)),"대기연구부",IF(COUNT(FIND("수질연구부",$F7)),"수질연구부",IF(COUNT(FIND("북부지원",$F7)),"북부지원",IF(COUNT(FIND("수원농산물검사소",$F7)),"수원농산물검사소",IF(COUNT(FIND("건설본부(관리과)",$F7)),"관리과",IF(COUNT(FIND("도로건설과",$F7)),"도로건설과",IF(COUNT(FIND("북부도로과",$F7)),"북부도로과",IF(COUNT(FIND("건축시설과",$F7)),"건축시설과",IF(COUNT(FIND("신청사건립추진단",$F7)),"신청사건립추진단",$F7))))))))))))))))))))) -> 서울사무소 | B7: =G7 -> 의회운영위원회 | C7: =IF(COUNT(FIND("경기도건설본부",$E7)),"건설본부",IF(COUNT(FIND("경기도농업기술원",$E7)),"농업기술원",IF(COUNT(FIND("경기도보건환경연구원",$E7)),"보건환경연구원",IF(COUNT(FIND("소방재난본부",$E7)),"재난안전본부",IF(COUNT(FIND("경기도소방학교",$E7)),"재난안전본부",IF(COUNT(FIND("경기도인재개발원",$E7)),"인재개발원",IF(COUNT(FIND("북부소방재난본부",$E7)),"재난안전본부",IF(COUNT(FIND("소방서",$E7)),"재난안전본부",$E7)))))))) -> 대외협력담당관 | E7: 대외협력담당관 | F7: 서울사무소 | G7: 의회운영위원회 | H7: 6 | I7: 0302 | K7: 특교
A8: =IF(COUNT(AND(FIND("북부소방재난본부",$E8),FIND("특수대응단",$F8))),"특수대응단(북부)",IF(COUNT(FIND("작물연구과",$F8)),"작물연구과",IF(COUNT(FIND("원예연구과",$F8)),"원예연구과",IF(COUNT(FIND("환경농업연구과",$F8)),"환경농업연구과",IF(COUNT(FIND("지원기획과",$F8)),"지원기획과",IF(COUNT(FIND("기술보급과",$F8)),"기술보급과",IF(COUNT(FIND("농촌자원과",$F8)),"농촌자원과",IF(COUNT(FIND("종자관리소",$F8)),"종자관리소",IF(COUNT(FIND("버섯연구소",$F8)),"버섯연구소",IF(COUNT(FIND("소득자원연구소",$F8)),"소득자원연구소",IF(COUNT(FIND("선인장다육식물연구소",$F8)),"선인장다육식물연구소",IF(COUNT(FIND("보건연구부",$F8)),"보건연구부",IF(COUNT(FIND("대기연구부",$F8)),"대기연구부",IF(COUNT(FIND("수질연구부",$F8)),"수질연구부",IF(COUNT(FIND("북부지원",$F8)),"북부지원",IF(COUNT(FIND("수원농산물검사소",$F8)),"수원농산물검사소",IF(COUNT(FIND("건설본부(관리과)",$F8)),"관리과",IF(COUNT(FIND("도로건설과",$F8)),"도로건설과",IF(COUNT(FIND("북부도로과",$F8)),"북부도로과",IF(COUNT(FIND("건축시설과",$F8)),"건축시설과",IF(COUNT(FIND("신청사건립추진단",$F8)),"신청사건립추진단",$F8))))))))))))))))))))) -> 감사총괄담당관 | B8: =G8 -> 기획재정위원회 | C8: =IF(COUNT(FIND("경기도건설본부",$E8)),"건설본부",IF(COUNT(FIND("경기도농업기술원",$E8)),"농업기술원",IF(COUNT(FIND("경기도보건환경연구원",$E8)),"보건환경연구원",IF(COUNT(FIND("소방재난본부",$E8)),"재난안전본부",IF(COUNT(FIND("경기도소방학교",$E8)),"재난안전본부",IF(COUNT(FIND("경기도인재개발원",$E8)),"인재개발원",IF(COUNT(FIND("북부소방재난본부",$E8)),"재난안전본부",IF(COUNT(FIND("소방서",$E8)),"재난안전본부",$E8)))))))) -> 감사관 | E8: 감사관 | F8: 감사총괄담당관 | G8: 기획재정위원회 | H8: 7 | I8: 0401
A9: =IF(COUNT(AND(FIND("북부소방재난본부",$E9),FIND("특수대응단",$F9))),"특수대응단(북부)",IF(COUNT(FIND("작물연구과",$F9)),"작물연구과",IF(COUNT(FIND("원예연구과",$F9)),"원예연구과",IF(COUNT(FIND("환경농업연구과",$F9)),"환경농업연구과",IF(COUNT(FIND("지원기획과",$F9)),"지원기획과",IF(COUNT(FIND("기술보급과",$F9)),"기술보급과",IF(COUNT(FIND("농촌자원과",$F9)),"농촌자원과",IF(COUNT(FIND("종자관리소",$F9)),"종자관리소",IF(COUNT(FIND("버섯연구소",$F9)),"버섯연구소",IF(COUNT(FIND("소득자원연구소",$F9)),"소득자원연구소",IF(COUNT(FIND("선인장다육식물연구소",$F9)),"선인장다육식물연구소",IF(COUNT(FIND("보건연구부",$F9)),"보건연구부",IF(COUNT(FIND("대기연구부",$F9)),"대기연구부",IF(COUNT(FIND("수질연구부",$F9)),"수질연구부",IF(COUNT(FIND("북부지원",$F9)),"북부지원",IF(COUNT(FIND("수원농산물검사소",$F9)),"수원농산물검사소",IF(COUNT(FIND("건설본부(관리과)",$F9)),"관리과",IF(COUNT(FIND("도로건설과",$F9)),"도로건설과",IF(COUNT(FIND("북부도로과",$F9)),"북부도로과",IF(COUNT(FIND("건축시설과",$F9)),"건축시설과",IF(COUNT(FIND("신청사건립추진단",$F9)),"신청사건립추진단",$F9))))))))))))))))))))) -> 조사담당관 | B9: =G9 -> 기획재정위원회 | C9: =IF(COUNT(FIND("경기도건설본부",$E9)),"건설본부",IF(COUNT(FIND("경기도농업기술원",$E9)),"농업기술원",IF(COUNT(FIND("경기도보건환경연구원",$E9)),"보건환경연구원",IF(COUNT(FIND("소방재난본부",$E9)),"재난안전본부",IF(COUNT(FIND("경기도소방학교",$E9)),"재난안전본부",IF(COUNT(FIND("경기도인재개발원",$E9)),"인재개발원",IF(COUNT(FIND("북부소방재난본부",$E9)),"재난안전본부",IF(COUNT(FIND("소방서",$E9)),"재난안전본부",$E9)))))))) -> 감사관 | E9: 감사관 | F9: 조사담당관 | G9: 기획재정위원회 | H9: 8 | I9: 0402
A10: =IF(COUNT(AND(FIND("북부소방재난본부",$E10),FIND("특수대응단",$F10))),"특수대응단(북부)",IF(COUNT(FIND("작물연구과",$F10)),"작물연구과",IF(COUNT(FIND("원예연구과",$F10)),"원예연구과",IF(COUNT(FIND("환경농업연구과",$F10)),"환경농업연구과",IF(COUNT(FIND("지원기획과",$F10)),"지원기획과",IF(COUNT(FIND("기술보급과",$F10)),"기술보급과",IF(COUNT(FIND("농촌자원과",$F10)),"농촌자원과",IF(COUNT(FIND("종자관리소",$F10)),"종자관리소",IF(COUNT(FIND("버섯연구소",$F10)),"버섯연구소",IF(COUNT(FIND("소득자원연구소",$F10)),"소득자원연구소",IF(COUNT(FIND("선인장다육식물연구소",$F10)),"선인장다육식물연구소",IF(COUNT(FIND("보건연구부",$F10)),"보건연구부",IF(COUNT(FIND("대기연구부",$F10)),"대기연구부",IF(COUNT(FIND("수질연구부",$F10)),"수질연구부",IF(COUNT(FIND("북부지원",$F10)),"북부지원",IF(COUNT(FIND("수원농산물검사소",$F10)),"수원농산물검사소",IF(COUNT(FIND("건설본부(관리과)",$F10)),"관리과",IF(COUNT(FIND("도로건설과",$F10)),"도로건설과",IF(COUNT(FIND("북부도로과",$F10)),"북부도로과",IF(COUNT(FIND("건축시설과",$F10)),"건축시설과",IF(COUNT(FIND("신청사건립추진단",$F10)),"신청사건립추진단",$F10))))))))))))))))))))) -> 감사담당관 | B10: =G10 -> 기획재정위원회 | C10: =IF(COUNT(FIND("경기도건설본부",$E10)),"건설본부",IF(COUNT(FIND("경기도농업기술원",$E10)),"농업기술원",IF(COUNT(FIND("경기도보건환경연구원",$E10)),"보건환경연구원",IF(COUNT(FIND("소방재난본부",$E10)),"재난안전본부",IF(COUNT(FIND("경기도소방학교",$E10)),"재난안전본부",IF(COUNT(FIND("경기도인재개발원",$E10)),"인재개발원",IF(COUNT(FIND("북부소방재난본부",$E10)),"재난안전본부",IF(COUNT(FIND("소방서",$E10)),"재난안전본부",$E10)))))))) -> 감사관 | E10: 감사관 | F10: 감사담당관 | G10: 기획재정위원회 | H10: 9 | I10: 0403
A11: =IF(COUNT(AND(FIND("북부소방재난본부",$E11),FIND("특수대응단",$F11))),"특수대응단(북부)",IF(COUNT(FIND("작물연구과",$F11)),"작물연구과",IF(COUNT(FIND("원예연구과",$F11)),"원예연구과",IF(COUNT(FIND("환경농업연구과",$F11)),"환경농업연구과",IF(COUNT(FIND("지원기획과",$F11)),"지원기획과",IF(COUNT(FIND("기술보급과",$F11)),"기술보급과",IF(COUNT(FIND("농촌자원과",$F11)),"농촌자원과",IF(COUNT(FIND("종자관리소",$F11)),"종자관리소",IF(COUNT(FIND("버섯연구소",$F11)),"버섯연구소",IF(COUNT(FIND("소득자원연구소",$F11)),"소득자원연구소",IF(COUNT(FIND("선인장다육식물연구소",$F11)),"선인장다육식물연구소",IF(COUNT(FIND("보건연구부",$F11)),"보건연구부",IF(COUNT(FIND("대기연구부",$F11)),"대기연구부",IF(COUNT(FIND("수질연구부",$F11)),"수질연구부",IF(COUNT(FIND("북부지원",$F11)),"북부지원",IF(COUNT(FIND("수원농산물검사소",$F11)),"수원농산물검사소",IF(COUNT(FIND("건설본부(관리과)",$F11)),"관리과",IF(COUNT(FIND("도로건설과",$F11)),"도로건설과",IF(COUNT(FIND("북부도로과",$F11)),"북부도로과",IF(COUNT(FIND("건축시설과",$F11)),"건축시설과",IF(COUNT(FIND("신청사건립추진단",$F11)),"신청사건립추진단",$F11))))))))))))))))))))) -> 계약심사담당관 | B11: =G11 -> 기획재정위원회 | C11: =IF(COUNT(FIND("경기도건설본부",$E11)),"건설본부",IF(COUNT(FIND("경기도농업기술원",$E11)),"농업기술원",IF(COUNT(FIND("경기도보건환경연구원",$E11)),"보건환경연구원",IF(COUNT(FIND("소방재난본부",$E11)),"재난안전본부",IF(COUNT(FIND("경기도소방학교",$E11)),"재난안전본부",IF(COUNT(FIND("경기도인재개발원",$E11)),"인재개발원",IF(COUNT(FIND("북부소방재난본부",$E11)),"재난안전본부",IF(COUNT(FIND("소방서",$E11)),"재난안전본부",$E11)))))))) -> 감사관 | E11: 감사관 | F11: 계약심사담당관 | G11: 기획재정위원회 | H11: 10 | I11: 0404
A12: =IF(COUNT(AND(FIND("북부소방재난본부",$E12),FIND("특수대응단",$F12))),"특수대응단(북부)",IF(COUNT(FIND("작물연구과",$F12)),"작물연구과",IF(COUNT(FIND("원예연구과",$F12)),"원예연구과",IF(COUNT(FIND("환경농업연구과",$F12)),"환경농업연구과",IF(COUNT(FIND("지원기획과",$F12)),"지원기획과",IF(COUNT(FIND("기술보급과",$F12)),"기술보급과",IF(COUNT(FIND("농촌자원과",$F12)),"농촌자원과",IF(COUNT(FIND("종자관리소",$F12)),"종자관리소",IF(COUNT(FIND("버섯연구소",$F12)),"버섯연구소",IF(COUNT(FIND("소득자원연구소",$F12)),"소득자원연구소",IF(COUNT(FIND("선인장다육식물연구소",$F12)),"선인장다육식물연구소",IF(COUNT(FIND("보건연구부",$F12)),"보건연구부",IF(COUNT(FIND("대기연구부",$F12)),"대기연구부",IF(COUNT(FIND("수질연구부",$F12)),"수질연구부",IF(COUNT(FIND("북부지원",$F12)),"북부지원",IF(COUNT(FIND("수원농산물검사소",$F12)),"수원농산물검사소",IF(COUNT(FIND("건설본부(관리과)",$F12)),"관리과",IF(COUNT(FIND("도로건설과",$F12)),"도로건설과",IF(COUNT(FIND("북부도로과",$F12)),"북부도로과",IF(COUNT(FIND("건축시설과",$F12)),"건축시설과",IF(COUNT(FIND("신청사건립추진단",$F12)),"신청사건립추진단",$F12))))))))))))))))))))) -> 기획담당관 | B12: =G12 -> 기획재정위원회 | C12: =IF(COUNT(FIND("경기도건설본부",$E12)),"건설본부",IF(COUNT(FIND("경기도농업기술원",$E12)),"농업기술원",IF(COUNT(FIND("경기도보건환경연구원",$E12)),"보건환경연구원",IF(COUNT(FIND("소방재난본부",$E12)),"재난안전본부",IF(COUNT(FIND("경기도소방학교",$E12)),"재난안전본부",IF(COUNT(FIND("경기도인재개발원",$E12)),"인재개발원",IF(COUNT(FIND("북부소방재난본부",$E12)),"재난안전본부",IF(COUNT(FIND("소방서",$E12)),"재난안전본부",$E12)))))))) -> 기획조정실 | E12: 기획조정실 | F12: 기획담당관 | G12: 기획재정위원회 | H12: 11 | I12: 0501
A13: =IF(COUNT(AND(FIND("북부소방재난본부",$E13),FIND("특수대응단",$F13))),"특수대응단(북부)",IF(COUNT(FIND("작물연구과",$F13)),"작물연구과",IF(COUNT(FIND("원예연구과",$F13)),"원예연구과",IF(COUNT(FIND("환경농업연구과",$F13)),"환경농업연구과",IF(COUNT(FIND("지원기획과",$F13)),"지원기획과",IF(COUNT(FIND("기술보급과",$F13)),"기술보급과",IF(COUNT(FIND("농촌자원과",$F13)),"농촌자원과",IF(COUNT(FIND("종자관리소",$F13)),"종자관리소",IF(COUNT(FIND("버섯연구소",$F13)),"버섯연구소",IF(COUNT(FIND("소득자원연구소",$F13)),"소득자원연구소",IF(COUNT(FIND("선인장다육식물연구소",$F13)),"선인장다육식물연구소",IF(COUNT(FIND("보건연구부",$F13)),"보건연구부",IF(COUNT(FIND("대기연구부",$F13)),"대기연구부",IF(COUNT(FIND("수질연구부",$F13)),"수질연구부",IF(COUNT(FIND("북부지원",$F13)),"북부지원",IF(COUNT(FIND("수원농산물검사소",$F13)),"수원농산물검사소",IF(COUNT(FIND("건설본부(관리과)",$F13)),"관리과",IF(COUNT(FIND("도로건설과",$F13)),"도로건설과",IF(COUNT(FIND("북부도로과",$F13)),"북부도로과",IF(COUNT(FIND("건축시설과",$F13)),"건축시설과",IF(COUNT(FIND("신청사건립추진단",$F13)),"신청사건립추진단",$F13))))))))))))))))))))) -> 미래전략담당관 | B13: =G13 -> 기획재정위원회 | C13: =IF(COUNT(FIND("경기도건설본부",$E13)),"건설본부",IF(COUNT(FIND("경기도농업기술원",$E13)),"농업기술원",IF(COUNT(FIND("경기도보건환경연구원",$E13)),"보건환경연구원",IF(COUNT(FIND("소방재난본부",$E13)),"재난안전본부",IF(COUNT(FIND("경기도소방학교",$E13)),"재난안전본부",IF(COUNT(FIND("경기도인재개발원",$E13)),"인재개발원",IF(COUNT(FIND("북부소방재난본부",$E13)),"재난안전본부",IF(COUNT(FIND("소방서",$E13)),"재난안전본부",$E13)))))))) -> 기획조정실 | E13: 기획조정실 | F13: 미래전략담당관 | G13: 기획재정위원회 | H13: 12 | I13: 0502
A14: =IF(COUNT(AND(FIND("북부소방재난본부",$E14),FIND("특수대응단",$F14))),"특수대응단(북부)",IF(COUNT(FIND("작물연구과",$F14)),"작물연구과",IF(COUNT(FIND("원예연구과",$F14)),"원예연구과",IF(COUNT(FIND("환경농업연구과",$F14)),"환경농업연구과",IF(COUNT(FIND("지원기획과",$F14)),"지원기획과",IF(COUNT(FIND("기술보급과",$F14)),"기술보급과",IF(COUNT(FIND("농촌자원과",$F14)),"농촌자원과",IF(COUNT(FIND("종자관리소",$F14)),"종자관리소",IF(COUNT(FIND("버섯연구소",$F14)),"버섯연구소",IF(COUNT(FIND("소득자원연구소",$F14)),"소득자원연구소",IF(COUNT(FIND("선인장다육식물연구소",$F14)),"선인장다육식물연구소",IF(COUNT(FIND("보건연구부",$F14)),"보건연구부",IF(COUNT(FIND("대기연구부",$F14)),"대기연구부",IF(COUNT(FIND("수질연구부",$F14)),"수질연구부",IF(COUNT(FIND("북부지원",$F14)),"북부지원",IF(COUNT(FIND("수원농산물검사소",$F14)),"수원농산물검사소",IF(COUNT(FIND("건설본부(관리과)",$F14)),"관리과",IF(COUNT(FIND("도로건설과",$F14)),"도로건설과",IF(COUNT(FIND("북부도로과",$F14)),"북부도로과",IF(COUNT(FIND("건축시설과",$F14)),"건축시설과",IF(COUNT(FIND("신청사건립추진단",$F14)),"신청사건립추진단",$F14))))))))))))))))))))) -> 예산담당관 | B14: =G14 -> 기획재정위원회 | C14: =IF(COUNT(FIND("경기도건설본부",$E14)),"건설본부",IF(COUNT(FIND("경기도농업기술원",$E14)),"농업기술원",IF(COUNT(FIND("경기도보건환경연구원",$E14)),"보건환경연구원",IF(COUNT(FIND("소방재난본부",$E14)),"재난안전본부",IF(COUNT(FIND("경기도소방학교",$E14)),"재난안전본부",IF(COUNT(FIND("경기도인재개발원",$E14)),"인재개발원",IF(COUNT(FIND("북부소방재난본부",$E14)),"재난안전본부",IF(COUNT(FIND("소방서",$E14)),"재난안전본부",$E14)))))))) -> 기획조정실 | E14: 기획조정실 | F14: 예산담당관 | G14: 기획재정위원회 | H14: 13 | I14: 0503
A15: =IF(COUNT(AND(FIND("북부소방재난본부",$E15),FIND("특수대응단",$F15))),"특수대응단(북부)",IF(COUNT(FIND("작물연구과",$F15)),"작물연구과",IF(COUNT(FIND("원예연구과",$F15)),"원예연구과",IF(COUNT(FIND("환경농업연구과",$F15)),"환경농업연구과",IF(COUNT(FIND("지원기획과",$F15)),"지원기획과",IF(COUNT(FIND("기술보급과",$F15)),"기술보급과",IF(COUNT(FIND("농촌자원과",$F15)),"농촌자원과",IF(COUNT(FIND("종자관리소",$F15)),"종자관리소",IF(COUNT(FIND("버섯연구소",$F15)),"버섯연구소",IF(COUNT(FIND("소득자원연구소",$F15)),"소득자원연구소",IF(COUNT(FIND("선인장다육식물연구소",$F15)),"선인장다육식물연구소",IF(COUNT(FIND("보건연구부",$F15)),"보건연구부",IF(COUNT(FIND("대기연구부",$F15)),"대기연구부",IF(COUNT(FIND("수질연구부",$F15)),"수질연구부",IF(COUNT(FIND("북부지원",$F15)),"북부지원",IF(COUNT(FIND("수원농산물검사소",$F15)),"수원농산물검사소",IF(COUNT(FIND("건설본부(관리과)",$F15)),"관리과",IF(COUNT(FIND("도로건설과",$F15)),"도로건설과",IF(COUNT(FIND("북부도로과",$F15)),"북부도로과",IF(COUNT(FIND("건축시설과",$F15)),"건축시설과",IF(COUNT(FIND("신청사건립추진단",$F15)),"신청사건립추진단",$F15))))))))))))))))))))) -> 평가담당관 | B15: =G15 -> 기획재정위원회 | C15: =IF(COUNT(FIND("경기도건설본부",$E15)),"건설본부",IF(COUNT(FIND("경기도농업기술원",$E15)),"농업기술원",IF(COUNT(FIND("경기도보건환경연구원",$E15)),"보건환경연구원",IF(COUNT(FIND("소방재난본부",$E15)),"재난안전본부",IF(COUNT(FIND("경기도소방학교",$E15)),"재난안전본부",IF(COUNT(FIND("경기도인재개발원",$E15)),"인재개발원",IF(COUNT(FIND("북부소방재난본부",$E15)),"재난안전본부",IF(COUNT(FIND("소방서",$E15)),"재난안전본부",$E15)))))))) -> 기획조정실 | E15: 기획조정실 | F15: 평가담당관 | G15: 기획재정위원회 | H15: 14 | I15: 0504
A16: =IF(COUNT(AND(FIND("북부소방재난본부",$E16),FIND("특수대응단",$F16))),"특수대응단(북부)",IF(COUNT(FIND("작물연구과",$F16)),"작물연구과",IF(COUNT(FIND("원예연구과",$F16)),"원예연구과",IF(COUNT(FIND("환경농업연구과",$F16)),"환경농업연구과",IF(COUNT(FIND("지원기획과",$F16)),"지원기획과",IF(COUNT(FIND("기술보급과",$F16)),"기술보급과",IF(COUNT(FIND("농촌자원과",$F16)),"농촌자원과",IF(COUNT(FIND("종자관리소",$F16)),"종자관리소",IF(COUNT(FIND("버섯연구소",$F16)),"버섯연구소",IF(COUNT(FIND("소득자원연구소",$F16)),"소득자원연구소",IF(COUNT(FIND("선인장다육식물연구소",$F16)),"선인장다육식물연구소",IF(COUNT(FIND("보건연구부",$F16)),"보건연구부",IF(COUNT(FIND("대기연구부",$F16)),"대기연구부",IF(COUNT(FIND("수질연구부",$F16)),"수질연구부",IF(COUNT(FIND("북부지원",$F16)),"북부지원",IF(COUNT(FIND("수원농산물검사소",$F16)),"수원농산물검사소",IF(COUNT(FIND("건설본부(관리과)",$F16)),"관리과",IF(COUNT(FIND("도로건설과",$F16)),"도로건설과",IF(COUNT(FIND("북부도로과",$F16)),"북부도로과",IF(COUNT(FIND("건축시설과",$F16)),"건축시설과",IF(COUNT(FIND("신청사건립추진단",$F16)),"신청사건립추진단",$F16))))))))))))))))))))) -> 법무담당관 | B16: =G16 -> 기획재정위원회 | C16: =IF(COUNT(FIND("경기도건설본부",$E16)),"건설본부",IF(COUNT(FIND("경기도농업기술원",$E16)),"농업기술원",IF(COUNT(FIND("경기도보건환경연구원",$E16)),"보건환경연구원",IF(COUNT(FIND("소방재난본부",$E16)),"재난안전본부",IF(COUNT(FIND("경기도소방학교",$E16)),"재난안전본부",IF(COUNT(FIND("경기도인재개발원",$E16)),"인재개발원",IF(COUNT(FIND("북부소방재난본부",$E16)),"재난안전본부",IF(COUNT(FIND("소방서",$E16)),"재난안전본부",$E16)))))))) -> 기획조정실 | E16: 기획조정실 | F16: 법무담당관 | G16: 기획재정위원회 | H16: 15 | I16: 0505
A17: =IF(COUNT(AND(FIND("북부소방재난본부",$E17),FIND("특수대응단",$F17))),"특수대응단(북부)",IF(COUNT(FIND("작물연구과",$F17)),"작물연구과",IF(COUNT(FIND("원예연구과",$F17)),"원예연구과",IF(COUNT(FIND("환경농업연구과",$F17)),"환경농업연구과",IF(COUNT(FIND("지원기획과",$F17)),"지원기획과",IF(COUNT(FIND("기술보급과",$F17)),"기술보급과",IF(COUNT(FIND("농촌자원과",$F17)),"농촌자원과",IF(COUNT(FIND("종자관리소",$F17)),"종자관리소",IF(COUNT(FIND("버섯연구소",$F17)),"버섯연구소",IF(COUNT(FIND("소득자원연구소",$F17)),"소득자원연구소",IF(COUNT(FIND("선인장다육식물연구소",$F17)),"선인장다육식물연구소",IF(COUNT(FIND("보건연구부",$F17)),"보건연구부",IF(COUNT(FIND("대기연구부",$F17)),"대기연구부",IF(COUNT(FIND("수질연구부",$F17)),"수질연구부",IF(COUNT(FIND("북부지원",$F17)),"북부지원",IF(COUNT(FIND("수원농산물검사소",$F17)),"수원농산물검사소",IF(COUNT(FIND("건설본부(관리과)",$F17)),"관리과",IF(COUNT(FIND("도로건설과",$F17)),"도로건설과",IF(COUNT(FIND("북부도로과",$F17)),"북부도로과",IF(COUNT(FIND("건축시설과",$F17)),"건축시설과",IF(COUNT(FIND("신청사건립추진단",$F17)),"신청사건립추진단",$F17))))))))))))))))))))) -> 규제개혁추진단 | B17: =G17 -> 기획재정위원회 | C17: =IF(COUNT(FIND("경기도건설본부",$E17)),"건설본부",IF(COUNT(FIND("경기도농업기술원",$E17)),"농업기술원",IF(COUNT(FIND("경기도보건환경연구원",$E17)),"보건환경연구원",IF(COUNT(FIND("소방재난본부",$E17)),"재난안전본부",IF(COUNT(FIND("경기도소방학교",$E17)),"재난안전본부",IF(COUNT(FIND("경기도인재개발원",$E17)),"인재개발원",IF(COUNT(FIND("북부소방재난본부",$E17)),"재난안전본부",IF(COUNT(FIND("소방서",$E17)),"재난안전본부",$E17)))))))) -> 기획조정실 | E17: 기획조정실 | F17: 규제개혁추진단 | G17: 기획재정위원회 | H17: 16 | I17: 0506
A18: =IF(COUNT(AND(FIND("북부소방재난본부",$E18),FIND("특수대응단",$F18))),"특수대응단(북부)",IF(COUNT(FIND("작물연구과",$F18)),"작물연구과",IF(COUNT(FIND("원예연구과",$F18)),"원예연구과",IF(COUNT(FIND("환경농업연구과",$F18)),"환경농업연구과",IF(COUNT(FIND("지원기획과",$F18)),"지원기획과",IF(COUNT(FIND("기술보급과",$F18)),"기술보급과",IF(COUNT(FIND("농촌자원과",$F18)),"농촌자원과",IF(COUNT(FIND("종자관리소",$F18)),"종자관리소",IF(COUNT(FIND("버섯연구소",$F18)),"버섯연구소",IF(COUNT(FIND("소득자원연구소",$F18)),"소득자원연구소",IF(COUNT(FIND("선인장다육식물연구소",$F18)),"선인장다육식물연구소",IF(COUNT(FIND("보건연구부",$F18)),"보건연구부",IF(COUNT(FIND("대기연구부",$F18)),"대기연구부",IF(COUNT(FIND("수질연구부",$F18)),"수질연구부",IF(COUNT(FIND("북부지원",$F18)),"북부지원",IF(COUNT(FIND("수원농산물검사소",$F18)),"수원농산물검사소",IF(COUNT(FIND("건설본부(관리과)",$F18)),"관리과",IF(COUNT(FIND("도로건설과",$F18)),"도로건설과",IF(COUNT(FIND("북부도로과",$F18)),"북부도로과",IF(COUNT(FIND("건축시설과",$F18)),"건축시설과",IF(COUNT(FIND("신청사건립추진단",$F18)),"신청사건립추진단",$F18))))))))))))))))))))) -> 따복공동체지원단 | B18: =G18 -> 기획재정위원회 | C18: =IF(COUNT(FIND("경기도건설본부",$E18)),"건설본부",IF(COUNT(FIND("경기도농업기술원",$E18)),"농업기술원",IF(COUNT(FIND("경기도보건환경연구원",$E18)),"보건환경연구원",IF(COUNT(FIND("소방재난본부",$E18)),"재난안전본부",IF(COUNT(FIND("경기도소방학교",$E18)),"재난안전본부",IF(COUNT(FIND("경기도인재개발원",$E18)),"인재개발원",IF(COUNT(FIND("북부소방재난본부",$E18)),"재난안전본부",IF(COUNT(FIND("소방서",$E18)),"재난안전본부",$E18)))))))) -> 기획조정실 | E18: 기획조정실 | F18: 따복공동체지원단 | G18: 기획재정위원회 | H18: 17 | I18: 0507
A19: =IF(COUNT(AND(FIND("북부소방재난본부",$E19),FIND("특수대응단",$F19))),"특수대응단(북부)",IF(COUNT(FIND("작물연구과",$F19)),"작물연구과",IF(COUNT(FIND("원예연구과",$F19)),"원예연구과",IF(COUNT(FIND("환경농업연구과",$F19)),"환경농업연구과",IF(COUNT(FIND("지원기획과",$F19)),"지원기획과",IF(COUNT(FIND("기술보급과",$F19)),"기술보급과",IF(COUNT(FIND("농촌자원과",$F19)),"농촌자원과",IF(COUNT(FIND("종자관리소",$F19)),"종자관리소",IF(COUNT(FIND("버섯연구소",$F19)),"버섯연구소",IF(COUNT(FIND("소득자원연구소",$F19)),"소득자원연구소",IF(COUNT(FIND("선인장다육식물연구소",$F19)),"선인장다육식물연구소",IF(COUNT(FIND("보건연구부",$F19)),"보건연구부",IF(COUNT(FIND("대기연구부",$F19)),"대기연구부",IF(COUNT(FIND("수질연구부",$F19)),"수질연구부",IF(COUNT(FIND("북부지원",$F19)),"북부지원",IF(COUNT(FIND("수원농산물검사소",$F19)),"수원농산물검사소",IF(COUNT(FIND("건설본부(관리과)",$F19)),"관리과",IF(COUNT(FIND("도로건설과",$F19)),"도로건설과",IF(COUNT(FIND("북부도로과",$F19)),"북부도로과",IF(COUNT(FIND("건축시설과",$F19)),"건축시설과",IF(COUNT(FIND("신청사건립추진단",$F19)),"신청사건립추진단",$F19))))))))))))))))))))) -> 정보기획담당관 | B19: =G19 -> 기획재정위원회 | C19: =IF(COUNT(FIND("경기도건설본부",$E19)),"건설본부",IF(COUNT(FIND("경기도농업기술원",$E19)),"농업기술원",IF(COUNT(FIND("경기도보건환경연구원",$E19)),"보건환경연구원",IF(COUNT(FIND("소방재난본부",$E19)),"재난안전본부",IF(COUNT(FIND("경기도소방학교",$E19)),"재난안전본부",IF(COUNT(FIND("경기도인재개발원",$E19)),"인재개발원",IF(COUNT(FIND("북부소방재난본부",$E19)),"재난안전본부",IF(COUNT(FIND("소방서",$E19)),"재난안전본부",$E19)))))))) -> 기획조정실 | E19: 기획조정실 | F19: 정보기획담당관 | G19: 기획재정위원회 | H19: 18 | I19: 0508
... A174: =IF(COUNT(AND(FIND("북부소방재난본부",$E174),FIND("특수대응단",$F174))),"특수대응단(북부)",IF(COUNT(FIND("작물연구과",$F174)),"작물연구과",IF(COUNT(FIND("원예연구과",$F174)),"원예연구과",IF(COUNT(FIND("환경농업연구과",$F174)),"환경농업연구과",IF(COUNT(FIND("지원기획과",$F174)),"지원기획과",IF(COUNT(FIND("기술보급과",$F174)),"기술보급과",IF(COUNT(FIND("농촌자원과",$F174)),"농촌자원과",IF(COUNT(FIND("종자관리소",$F174)),"종자관리소",IF(COUNT(FIND("버섯연구소",$F174)),"버섯연구소",IF(COUNT(FIND("소득자원연구소",$F174)),"소득자원연구소",IF(COUNT(FIND("선인장다육식물연구소",$F174)),"선인장다육식물연구소",IF(COUNT(FIND("보건연구부",$F174)),"보건연구부",IF(COUNT(FIND("대기연구부",$F174)),"대기연구부",IF(COUNT(FIND("수질연구부",$F174)),"수질연구부",IF(COUNT(FIND("북부지원",$F174)),"북부지원",IF(COUNT(FIND("수원농산물검사소",$F174)),"수원농산물검사소",IF(COUNT(FIND("건설본부(관리과)",$F174)),"관리과",IF(COUNT(FIND("도로건설과",$F174)),"도로건설과",IF(COUNT(FIND("북부도로과",$F174)),"북부도로과",IF(COUNT(FIND("건축시설과",$F174)),"건축시설과",IF(COUNT(FIND("신청사건립추진단",$F174)),"신청사건립추진단",$F174))))))))))))))))))))) -> 수질연구부 | B174: =G174 -> 도시환경위원회 | C174: =IF(COUNT(FIND("경기도건설본부",$E174)),"건설본부",IF(COUNT(FIND("경기도농업기술원",$E174)),"농업기술원",IF(COUNT(FIND("경기도보건환경연구원",$E174)),"보건환경연구원",IF(COUNT(FIND("소방재난본부",$E174)),"재난안전본부",IF(COUNT(FIND("경기도소방학교",$E174)),"재난안전본부",IF(COUNT(FIND("경기도인재개발원",$E174)),"인재개발원",IF(COUNT(FIND("북부소방재난본부",$E174)),"재난안전본부",IF(COUNT(FIND("소방서",$E174)),"재난안전본부",$E174)))))))) -> 보건환경연구원 | E174: 경기도보건환경연구원 | F174: 보건환경연구원(수질연구부) | G174: 도시환경위원회 | H174: 173 | I174: 2902
A175: =IF(COUNT(AND(FIND("북부소방재난본부",$E175),FIND("특수대응단",$F175))),"특수대응단(북부)",IF(COUNT(FIND("작물연구과",$F175)),"작물연구과",IF(COUNT(FIND("원예연구과",$F175)),"원예연구과",IF(COUNT(FIND("환경농업연구과",$F175)),"환경농업연구과",IF(COUNT(FIND("지원기획과",$F175)),"지원기획과",IF(COUNT(FIND("기술보급과",$F175)),"기술보급과",IF(COUNT(FIND("농촌자원과",$F175)),"농촌자원과",IF(COUNT(FIND("종자관리소",$F175)),"종자관리소",IF(COUNT(FIND("버섯연구소",$F175)),"버섯연구소",IF(COUNT(FIND("소득자원연구소",$F175)),"소득자원연구소",IF(COUNT(FIND("선인장다육식물연구소",$F175)),"선인장다육식물연구소",IF(COUNT(FIND("보건연구부",$F175)),"보건연구부",IF(COUNT(FIND("대기연구부",$F175)),"대기연구부",IF(COUNT(FIND("수질연구부",$F175)),"수질연구부",IF(COUNT(FIND("북부지원",$F175)),"북부지원",IF(COUNT(FIND("수원농산물검사소",$F175)),"수원농산물검사소",IF(COUNT(FIND("건설본부(관리과)",$F175)),"관리과",IF(COUNT(FIND("도로건설과",$F175)),"도로건설과",IF(COUNT(FIND("북부도로과",$F175)),"북부도로과",IF(COUNT(FIND("건축시설과",$F175)),"건축시설과",IF(COUNT(FIND("신청사건립추진단",$F175)),"신청사건립추진단",$F175))))))))))))))))))))) -> 북부지원 | B175: =G175 -> 도시환경위원회 | C175: =IF(COUNT(FIND("경기도건설본부",$E175)),"건설본부",IF(COUNT(FIND("경기도농업기술원",$E175)),"농업기술원",IF(COUNT(FIND("경기도보건환경연구원",$E175)),"보건환경연구원",IF(COUNT(FIND("소방재난본부",$E175)),"재난안전본부",IF(COUNT(FIND("경기도소방학교",$E175)),"재난안전본부",IF(COUNT(FIND("경기도인재개발원",$E175)),"인재개발원",IF(COUNT(FIND("북부소방재난본부",$E175)),"재난안전본부",IF(COUNT(FIND("소방서",$E175)),"재난안전본부",$E175)))))))) -> 보건환경연구원 | E175: 경기도보건환경연구원 | F175: 보건환경연구원북부지원 | G175: 도시환경위원회 | H175: 187 | I175: 2903
A176: =IF(COUNT(AND(FIND("북부소방재난본부",$E176),FIND("특수대응단",$F176))),"특수대응단(북부)",IF(COUNT(FIND("작물연구과",$F176)),"작물연구과",IF(COUNT(FIND("원예연구과",$F176)),"원예연구과",IF(COUNT(FIND("환경농업연구과",$F176)),"환경농업연구과",IF(COUNT(FIND("지원기획과",$F176)),"지원기획과",IF(COUNT(FIND("기술보급과",$F176)),"기술보급과",IF(COUNT(FIND("농촌자원과",$F176)),"농촌자원과",IF(COUNT(FIND("종자관리소",$F176)),"종자관리소",IF(COUNT(FIND("버섯연구소",$F176)),"버섯연구소",IF(COUNT(FIND("소득자원연구소",$F176)),"소득자원연구소",IF(COUNT(FIND("선인장다육식물연구소",$F176)),"선인장다육식물연구소",IF(COUNT(FIND("보건연구부",$F176)),"보건연구부",IF(COUNT(FIND("대기연구부",$F176)),"대기연구부",IF(COUNT(FIND("수질연구부",$F176)),"수질연구부",IF(COUNT(FIND("북부지원",$F176)),"북부지원",IF(COUNT(FIND("수원농산물검사소",$F176)),"수원농산물검사소",IF(COUNT(FIND("건설본부(관리과)",$F176)),"관리과",IF(COUNT(FIND("도로건설과",$F176)),"도로건설과",IF(COUNT(FIND("북부도로과",$F176)),"북부도로과",IF(COUNT(FIND("건축시설과",$F176)),"건축시설과",IF(COUNT(FIND("신청사건립추진단",$F176)),"신청사건립추진단",$F176))))))))))))))))))))) -> 수자원본부 | B176: =G176 -> 도시환경위원회 | C176: =IF(COUNT(FIND("경기도건설본부",$E176)),"건설본부",IF(COUNT(FIND("경기도농업기술원",$E176)),"농업기술원",IF(COUNT(FIND("경기도보건환경연구원",$E176)),"보건환경연구원",IF(COUNT(FIND("소방재난본부",$E176)),"재난안전본부",IF(COUNT(FIND("경기도소방학교",$E176)),"재난안전본부",IF(COUNT(FIND("경기도인재개발원",$E176)),"인재개발원",IF(COUNT(FIND("북부소방재난본부",$E176)),"재난안전본부",IF(COUNT(FIND("소방서",$E176)),"재난안전본부",$E176)))))))) -> 수자원본부 | E176: 수자원본부 | F176: 수자원본부 | G176: 도시환경위원회 | H176: 174 | I176: 3001
A177: =IF(COUNT(AND(FIND("북부소방재난본부",$E177),FIND("특수대응단",$F177))),"특수대응단(북부)",IF(COUNT(FIND("작물연구과",$F177)),"작물연구과",IF(COUNT(FIND("원예연구과",$F177)),"원예연구과",IF(COUNT(FIND("환경농업연구과",$F177)),"환경농업연구과",IF(COUNT(FIND("지원기획과",$F177)),"지원기획과",IF(COUNT(FIND("기술보급과",$F177)),"기술보급과",IF(COUNT(FIND("농촌자원과",$F177)),"농촌자원과",IF(COUNT(FIND("종자관리소",$F177)),"종자관리소",IF(COUNT(FIND("버섯연구소",$F177)),"버섯연구소",IF(COUNT(FIND("소득자원연구소",$F177)),"소득자원연구소",IF(COUNT(FIND("선인장다육식물연구소",$F177)),"선인장다육식물연구소",IF(COUNT(FIND("보건연구부",$F177)),"보건연구부",IF(COUNT(FIND("대기연구부",$F177)),"대기연구부",IF(COUNT(FIND("수질연구부",$F177)),"수질연구부",IF(COUNT(FIND("북부지원",$F177)),"북부지원",IF(COUNT(FIND("수원농산물검사소",$F177)),"수원농산물검사소",IF(COUNT(FIND("건설본부(관리과)",$F177)),"관리과",IF(COUNT(FIND("도로건설과",$F177)),"도로건설과",IF(COUNT(FIND("북부도로과",$F177)),"북부도로과",IF(COUNT(FIND("건축시설과",$F177)),"건축시설과",IF(COUNT(FIND("신청사건립추진단",$F177)),"신청사건립추진단",$F177))))))))))))))))))))) -> 교육정책과 | B177: =G177 -> 여성가족교육협력위원회 | C177: =IF(COUNT(FIND("경기도건설본부",$E177)),"건설본부",IF(COUNT(FIND("경기도농업기술원",$E177)),"농업기술원",IF(COUNT(FIND("경기도보건환경연구원",$E177)),"보건환경연구원",IF(COUNT(FIND("소방재난본부",$E177)),"재난안전본부",IF(COUNT(FIND("경기도소방학교",$E177)),"재난안전본부",IF(COUNT(FIND("경기도인재개발원",$E177)),"인재개발원",IF(COUNT(FIND("북부소방재난본부",$E177)),"재난안전본부",IF(COUNT(FIND("소방서",$E177)),"재난안전본부",$E177)))))))) -> 교육협력국 | E177: 교육협력국 | F177: 교육정책과 | G177: 여성가족교육협력위원회 | H177: 175 | I177: 3101
A178: =IF(COUNT(AND(FIND("북부소방재난본부",$E178),FIND("특수대응단",$F178))),"특수대응단(북부)",IF(COUNT(FIND("작물연구과",$F178)),"작물연구과",IF(COUNT(FIND("원예연구과",$F178)),"원예연구과",IF(COUNT(FIND("환경농업연구과",$F178)),"환경농업연구과",IF(COUNT(FIND("지원기획과",$F178)),"지원기획과",IF(COUNT(FIND("기술보급과",$F178)),"기술보급과",IF(COUNT(FIND("농촌자원과",$F178)),"농촌자원과",IF(COUNT(FIND("종자관리소",$F178)),"종자관리소",IF(COUNT(FIND("버섯연구소",$F178)),"버섯연구소",IF(COUNT(FIND("소득자원연구소",$F178)),"소득자원연구소",IF(COUNT(FIND("선인장다육식물연구소",$F178)),"선인장다육식물연구소",IF(COUNT(FIND("보건연구부",$F178)),"보건연구부",IF(COUNT(FIND("대기연구부",$F178)),"대기연구부",IF(COUNT(FIND("수질연구부",$F178)),"수질연구부",IF(COUNT(FIND("북부지원",$F178)),"북부지원",IF(COUNT(FIND("수원농산물검사소",$F178)),"수원농산물검사소",IF(COUNT(FIND("건설본부(관리과)",$F178)),"관리과",IF(COUNT(FIND("도로건설과",$F178)),"도로건설과",IF(COUNT(FIND("북부도로과",$F178)),"북부도로과",IF(COUNT(FIND("건축시설과",$F178)),"건축시설과",IF(COUNT(FIND("신청사건립추진단",$F178)),"신청사건립추진단",$F178))))))))))))))))))))) -> 교육협력과 | B178: =G178 -> 여성가족교육협력위원회 | C178: =IF(COUNT(FIND("경기도건설본부",$E178)),"건설본부",IF(COUNT(FIND("경기도농업기술원",$E178)),"농업기술원",IF(COUNT(FIND("경기도보건환경연구원",$E178)),"보건환경연구원",IF(COUNT(FIND("소방재난본부",$E178)),"재난안전본부",IF(COUNT(FIND("경기도소방학교",$E178)),"재난안전본부",IF(COUNT(FIND("경기도인재개발원",$E178)),"인재개발원",IF(COUNT(FIND("북부소방재난본부",$E178)),"재난안전본부",IF(COUNT(FIND("소방서",$E178)),"재난안전본부",$E178)))))))) -> 교육협력국 | E178: 교육협력국 | F178: 교육협력과 | G178: 여성가족교육협력위원회 | H178: 176 | I178: 3102
A179: =IF(COUNT(AND(FIND("북부소방재난본부",$E179),FIND("특수대응단",$F179))),"특수대응단(북부)",IF(COUNT(FIND("작물연구과",$F179)),"작물연구과",IF(COUNT(FIND("원예연구과",$F179)),"원예연구과",IF(COUNT(FIND("환경농업연구과",$F179)),"환경농업연구과",IF(COUNT(FIND("지원기획과",$F179)),"지원기획과",IF(COUNT(FIND("기술보급과",$F179)),"기술보급과",IF(COUNT(FIND("농촌자원과",$F179)),"농촌자원과",IF(COUNT(FIND("종자관리소",$F179)),"종자관리소",IF(COUNT(FIND("버섯연구소",$F179)),"버섯연구소",IF(COUNT(FIND("소득자원연구소",$F179)),"소득자원연구소",IF(COUNT(FIND("선인장다육식물연구소",$F179)),"선인장다육식물연구소",IF(COUNT(FIND("보건연구부",$F179)),"보건연구부",IF(COUNT(FIND("대기연구부",$F179)),"대기연구부",IF(COUNT(FIND("수질연구부",$F179)),"수질연구부",IF(COUNT(FIND("북부지원",$F179)),"북부지원",IF(COUNT(FIND("수원농산물검사소",$F179)),"수원농산물검사소",IF(COUNT(FIND("건설본부(관리과)",$F179)),"관리과",IF(COUNT(FIND("도로건설과",$F179)),"도로건설과",IF(COUNT(FIND("북부도로과",$F179)),"북부도로과",IF(COUNT(FIND("건축시설과",$F179)),"건축시설과",IF(COUNT(FIND("신청사건립추진단",$F179)),"신청사건립추진단",$F179))))))))))))))))))))) -> 도서관정책과 | B179: =G179 -> 여성가족교육협력위원회 | C179: =IF(COUNT(FIND("경기도건설본부",$E179)),"건설본부",IF(COUNT(FIND("경기도농업기술원",$E179)),"농업기술원",IF(COUNT(FIND("경기도보건환경연구원",$E179)),"보건환경연구원",IF(COUNT(FIND("소방재난본부",$E179)),"재난안전본부",IF(COUNT(FIND("경기도소방학교",$E179)),"재난안전본부",IF(COUNT(FIND("경기도인재개발원",$E179)),"인재개발원",IF(COUNT(FIND("북부소방재난본부",$E179)),"재난안전본부",IF(COUNT(FIND("소방서",$E179)),"재난안전본부",$E179)))))))) -> 교육협력국 | E179: 교육협력국 | F179: 도서관정책과 | G179: 여성가족교육협력위원회 | H179: 177 | I179: 3103
A180: =IF(COUNT(AND(FIND("북부소방재난본부",$E180),FIND("특수대응단",$F180))),"특수대응단(북부)",IF(COUNT(FIND("작물연구과",$F180)),"작물연구과",IF(COUNT(FIND("원예연구과",$F180)),"원예연구과",IF(COUNT(FIND("환경농업연구과",$F180)),"환경농업연구과",IF(COUNT(FIND("지원기획과",$F180)),"지원기획과",IF(COUNT(FIND("기술보급과",$F180)),"기술보급과",IF(COUNT(FIND("농촌자원과",$F180)),"농촌자원과",IF(COUNT(FIND("종자관리소",$F180)),"종자관리소",IF(COUNT(FIND("버섯연구소",$F180)),"버섯연구소",IF(COUNT(FIND("소득자원연구소",$F180)),"소득자원연구소",IF(COUNT(FIND("선인장다육식물연구소",$F180)),"선인장다육식물연구소",IF(COUNT(FIND("보건연구부",$F180)),"보건연구부",IF(COUNT(FIND("대기연구부",$F180)),"대기연구부",IF(COUNT(FIND("수질연구부",$F180)),"수질연구부",IF(COUNT(FIND("북부지원",$F180)),"북부지원",IF(COUNT(FIND("수원농산물검사소",$F180)),"수원농산물검사소",IF(COUNT(FIND("건설본부(관리과)",$F180)),"관리과",IF(COUNT(FIND("도로건설과",$F180)),"도로건설과",IF(COUNT(FIND("북부도로과",$F180)),"북부도로과",IF(COUNT(FIND("건축시설과",$F180)),"건축시설과",IF(COUNT(FIND("신청사건립추진단",$F180)),"신청사건립추진단",$F180))))))))))))))))))))) -> 여성가족과 | B180: =G180 -> 여성가족교육협력위원회 | C180: =IF(COUNT(FIND("경기도건설본부",$E180)),"건설본부",IF(COUNT(FIND("경기도농업기술원",$E180)),"농업기술원",IF(COUNT(FIND("경기도보건환경연구원",$E180)),"보건환경연구원",IF(COUNT(FIND("소방재난본부",$E180)),"재난안전본부",IF(COUNT(FIND("경기도소방학교",$E180)),"재난안전본부",IF(COUNT(FIND("경기도인재개발원",$E180)),"인재개발원",IF(COUNT(FIND("북부소방재난본부",$E180)),"재난안전본부",IF(COUNT(FIND("소방서",$E180)),"재난안전본부",$E180)))))))) -> 여성가족국 | E180: 여성가족국 | F180: 여성가족과 | G180: 여성가족교육협력위원회 | H180: 178 | I180: 3201
A181: =IF(COUNT(AND(FIND("북부소방재난본부",$E181),FIND("특수대응단",$F181))),"특수대응단(북부)",IF(COUNT(FIND("작물연구과",$F181)),"작물연구과",IF(COUNT(FIND("원예연구과",$F181)),"원예연구과",IF(COUNT(FIND("환경농업연구과",$F181)),"환경농업연구과",IF(COUNT(FIND("지원기획과",$F181)),"지원기획과",IF(COUNT(FIND("기술보급과",$F181)),"기술보급과",IF(COUNT(FIND("농촌자원과",$F181)),"농촌자원과",IF(COUNT(FIND("종자관리소",$F181)),"종자관리소",IF(COUNT(FIND("버섯연구소",$F181)),"버섯연구소",IF(COUNT(FIND("소득자원연구소",$F181)),"소득자원연구소",IF(COUNT(FIND("선인장다육식물연구소",$F181)),"선인장다육식물연구소",IF(COUNT(FIND("보건연구부",$F181)),"보건연구부",IF(COUNT(FIND("대기연구부",$F181)),"대기연구부",IF(COUNT(FIND("수질연구부",$F181)),"수질연구부",IF(COUNT(FIND("북부지원",$F181)),"북부지원",IF(COUNT(FIND("수원농산물검사소",$F181)),"수원농산물검사소",IF(COUNT(FIND("건설본부(관리과)",$F181)),"관리과",IF(COUNT(FIND("도로건설과",$F181)),"도로건설과",IF(COUNT(FIND("북부도로과",$F181)),"북부도로과",IF(COUNT(FIND("건축시설과",$F181)),"건축시설과",IF(COUNT(FIND("신청사건립추진단",$F181)),"신청사건립추진단",$F181))))))))))))))))))))) -> 보육정책과 | B181: =G181 -> 여성가족교육협력위원회 | C181: =IF(COUNT(FIND("경기도건설본부",$E181)),"건설본부",IF(COUNT(FIND("경기도농업기술원",$E181)),"농업기술원",IF(COUNT(FIND("경기도보건환경연구원",$E181)),"보건환경연구원",IF(COUNT(FIND("소방재난본부",$E181)),"재난안전본부",IF(COUNT(FIND("경기도소방학교",$E181)),"재난안전본부",IF(COUNT(FIND("경기도인재개발원",$E181)),"인재개발원",IF(COUNT(FIND("북부소방재난본부",$E181)),"재난안전본부",IF(COUNT(FIND("소방서",$E181)),"재난안전본부",$E181)))))))) -> 여성가족국 | E181: 여성가족국 | F181: 보육정책과 | G181: 여성가족교육협력위원회 | H181: 179 | I181: 3202
A182: =IF(COUNT(AND(FIND("북부소방재난본부",$E182),FIND("특수대응단",$F182))),"특수대응단(북부)",IF(COUNT(FIND("작물연구과",$F182)),"작물연구과",IF(COUNT(FIND("원예연구과",$F182)),"원예연구과",IF(COUNT(FIND("환경농업연구과",$F182)),"환경농업연구과",IF(COUNT(FIND("지원기획과",$F182)),"지원기획과",IF(COUNT(FIND("기술보급과",$F182)),"기술보급과",IF(COUNT(FIND("농촌자원과",$F182)),"농촌자원과",IF(COUNT(FIND("종자관리소",$F182)),"종자관리소",IF(COUNT(FIND("버섯연구소",$F182)),"버섯연구소",IF(COUNT(FIND("소득자원연구소",$F182)),"소득자원연구소",IF(COUNT(FIND("선인장다육식물연구소",$F182)),"선인장다육식물연구소",IF(COUNT(FIND("보건연구부",$F182)),"보건연구부",IF(COUNT(FIND("대기연구부",$F182)),"대기연구부",IF(COUNT(FIND("수질연구부",$F182)),"수질연구부",IF(COUNT(FIND("북부지원",$F182)),"북부지원",IF(COUNT(FIND("수원농산물검사소",$F182)),"수원농산물검사소",IF(COUNT(FIND("건설본부(관리과)",$F182)),"관리과",IF(COUNT(FIND("도로건설과",$F182)),"도로건설과",IF(COUNT(FIND("북부도로과",$F182)),"북부도로과",IF(COUNT(FIND("건축시설과",$F182)),"건축시설과",IF(COUNT(FIND("신청사건립추진단",$F182)),"신청사건립추진단",$F182))))))))))))))))))))) -> 아동청소년과 | B182: =G182 -> 여성가족교육협력위원회 | C182: =IF(COUNT(FIND("경기도건설본부",$E182)),"건설본부",IF(COUNT(FIND("경기도농업기술원",$E182)),"농업기술원",IF(COUNT(FIND("경기도보건환경연구원",$E182)),"보건환경연구원",IF(COUNT(FIND("소방재난본부",$E182)),"재난안전본부",IF(COUNT(FIND("경기도소방학교",$E182)),"재난안전본부",IF(COUNT(FIND("경기도인재개발원",$E182)),"인재개발원",IF(COUNT(FIND("북부소방재난본부",$E182)),"재난안전본부",IF(COUNT(FIND("소방서",$E182)),"재난안전본부",$E182)))))))) -> 여성가족국 | E182: 여성가족국 | F182: 아동청소년과 | G182: 여성가족교육협력위원회 | H182: 180 | I182: 3203
A183: =IF(COUNT(AND(FIND("북부소방재난본부",$E183),FIND("특수대응단",$F183))),"특수대응단(북부)",IF(COUNT(FIND("작물연구과",$F183)),"작물연구과",IF(COUNT(FIND("원예연구과",$F183)),"원예연구과",IF(COUNT(FIND("환경농업연구과",$F183)),"환경농업연구과",IF(COUNT(FIND("지원기획과",$F183)),"지원기획과",IF(COUNT(FIND("기술보급과",$F183)),"기술보급과",IF(COUNT(FIND("농촌자원과",$F183)),"농촌자원과",IF(COUNT(FIND("종자관리소",$F183)),"종자관리소",IF(COUNT(FIND("버섯연구소",$F183)),"버섯연구소",IF(COUNT(FIND("소득자원연구소",$F183)),"소득자원연구소",IF(COUNT(FIND("선인장다육식물연구소",$F183)),"선인장다육식물연구소",IF(COUNT(FIND("보건연구부",$F183)),"보건연구부",IF(COUNT(FIND("대기연구부",$F183)),"대기연구부",IF(COUNT(FIND("수질연구부",$F183)),"수질연구부",IF(COUNT(FIND("북부지원",$F183)),"북부지원",IF(COUNT(FIND("수원농산물검사소",$F183)),"수원농산물검사소",IF(COUNT(FIND("건설본부(관리과)",$F183)),"관리과",IF(COUNT(FIND("도로건설과",$F183)),"도로건설과",IF(COUNT(FIND("북부도로과",$F183)),"북부도로과",IF(COUNT(FIND("건축시설과",$F183)),"건축시설과",IF(COUNT(FIND("신청사건립추진단",$F183)),"신청사건립추진단",$F183))))))))))))))))))))) -> 다문화가족과 | B183: =G183 -> 여성가족교육협력위원회 | C183: =IF(COUNT(FIND("경기도건설본부",$E183)),"건설본부",IF(COUNT(FIND("경기도농업기술원",$E183)),"농업기술원",IF(COUNT(FIND("경기도보건환경연구원",$E183)),"보건환경연구원",IF(COUNT(FIND("소방재난본부",$E183)),"재난안전본부",IF(COUNT(FIND("경기도소방학교",$E183)),"재난안전본부",IF(COUNT(FIND("경기도인재개발원",$E183)),"인재개발원",IF(COUNT(FIND("북부소방재난본부",$E183)),"재난안전본부",IF(COUNT(FIND("소방서",$E183)),"재난안전본부",$E183)))))))) -> 여성가족국 | E183: 여성가족국 | F183: 다문화가족과 | G183: 여성가족교육협력위원회 | H183: 181 | I183: 3204
A184: =IF(COUNT(AND(FIND("북부소방재난본부",$E184),FIND("특수대응단",$F184))),"특수대응단(북부)",IF(COUNT(FIND("작물연구과",$F184)),"작물연구과",IF(COUNT(FIND("원예연구과",$F184)),"원예연구과",IF(COUNT(FIND("환경농업연구과",$F184)),"환경농업연구과",IF(COUNT(FIND("지원기획과",$F184)),"지원기획과",IF(COUNT(FIND("기술보급과",$F184)),"기술보급과",IF(COUNT(FIND("농촌자원과",$F184)),"농촌자원과",IF(COUNT(FIND("종자관리소",$F184)),"종자관리소",IF(COUNT(FIND("버섯연구소",$F184)),"버섯연구소",IF(COUNT(FIND("소득자원연구소",$F184)),"소득자원연구소",IF(COUNT(FIND("선인장다육식물연구소",$F184)),"선인장다육식물연구소",IF(COUNT(FIND("보건연구부",$F184)),"보건연구부",IF(COUNT(FIND("대기연구부",$F184)),"대기연구부",IF(COUNT(FIND("수질연구부",$F184)),"수질연구부",IF(COUNT(FIND("북부지원",$F184)),"북부지원",IF(COUNT(FIND("수원농산물검사소",$F184)),"수원농산물검사소",IF(COUNT(FIND("건설본부(관리과)",$F184)),"관리과",IF(COUNT(FIND("도로건설과",$F184)),"도로건설과",IF(COUNT(FIND("북부도로과",$F184)),"북부도로과",IF(COUNT(FIND("건축시설과",$F184)),"건축시설과",IF(COUNT(FIND("신청사건립추진단",$F184)),"신청사건립추진단",$F184))))))))))))))))))))) -> 여성비전센터 | B184: =G184 -> 여성가족교육협력위원회 | C184: =IF(COUNT(FIND("경기도건설본부",$E184)),"건설본부",IF(COUNT(FIND("경기도농업기술원",$E184)),"농업기술원",IF(COUNT(FIND("경기도보건환경연구원",$E184)),"보건환경연구원",IF(COUNT(FIND("소방재난본부",$E184)),"재난안전본부",IF(COUNT(FIND("경기도소방학교",$E184)),"재난안전본부",IF(COUNT(FIND("경기도인재개발원",$E184)),"인재개발원",IF(COUNT(FIND("북부소방재난본부",$E184)),"재난안전본부",IF(COUNT(FIND("소방서",$E184)),"재난안전본부",$E184)))))))) -> 여성가족국 | E184: 여성가족국 | F184: 여성비전센터 | G184: 여성가족교육협력위원회 | H184: 182 | I184: 3205
A185: =IF(COUNT(AND(FIND("북부소방재난본부",$E185),FIND("특수대응단",$F185))),"특수대응단(북부)",IF(COUNT(FIND("작물연구과",$F185)),"작물연구과",IF(COUNT(FIND("원예연구과",$F185)),"원예연구과",IF(COUNT(FIND("환경농업연구과",$F185)),"환경농업연구과",IF(COUNT(FIND("지원기획과",$F185)),"지원기획과",IF(COUNT(FIND("기술보급과",$F185)),"기술보급과",IF(COUNT(FIND("농촌자원과",$F185)),"농촌자원과",IF(COUNT(FIND("종자관리소",$F185)),"종자관리소",IF(COUNT(FIND("버섯연구소",$F185)),"버섯연구소",IF(COUNT(FIND("소득자원연구소",$F185)),"소득자원연구소",IF(COUNT(FIND("선인장다육식물연구소",$F185)),"선인장다육식물연구소",IF(COUNT(FIND("보건연구부",$F185)),"보건연구부",IF(COUNT(FIND("대기연구부",$F185)),"대기연구부",IF(COUNT(FIND("수질연구부",$F185)),"수질연구부",IF(COUNT(FIND("북부지원",$F185)),"북부지원",IF(COUNT(FIND("수원농산물검사소",$F185)),"수원농산물검사소",IF(COUNT(FIND("건설본부(관리과)",$F185)),"관리과",IF(COUNT(FIND("도로건설과",$F185)),"도로건설과",IF(COUNT(FIND("북부도로과",$F185)),"북부도로과",IF(COUNT(FIND("건축시설과",$F185)),"건축시설과",IF(COUNT(FIND("신청사건립추진단",$F185)),"신청사건립추진단",$F185))))))))))))))))))))) -> 여성능력개발센터 | B185: =G185 -> 여성가족교육협력위원회 | C185: =IF(COUNT(FIND("경기도건설본부",$E185)),"건설본부",IF(COUNT(FIND("경기도농업기술원",$E185)),"농업기술원",IF(COUNT(FIND("경기도보건환경연구원",$E185)),"보건환경연구원",IF(COUNT(FIND("소방재난본부",$E185)),"재난안전본부",IF(COUNT(FIND("경기도소방학교",$E185)),"재난안전본부",IF(COUNT(FIND("경기도인재개발원",$E185)),"인재개발원",IF(COUNT(FIND("북부소방재난본부",$E185)),"재난안전본부",IF(COUNT(FIND("소방서",$E185)),"재난안전본부",$E185)))))))) -> 여성가족국 | E185: 여성가족국 | F185: 여성능력개발센터 | G185: 여성가족교육협력위원회 | H185: 183 | I185: 3206
A186: =IF(COUNT(AND(FIND("북부소방재난본부",$E186),FIND("특수대응단",$F186))),"특수대응단(북부)",IF(COUNT(FIND("작물연구과",$F186)),"작물연구과",IF(COUNT(FIND("원예연구과",$F186)),"원예연구과",IF(COUNT(FIND("환경농업연구과",$F186)),"환경농업연구과",IF(COUNT(FIND("지원기획과",$F186)),"지원기획과",IF(COUNT(FIND("기술보급과",$F186)),"기술보급과",IF(COUNT(FIND("농촌자원과",$F186)),"농촌자원과",IF(COUNT(FIND("종자관리소",$F186)),"종자관리소",IF(COUNT(FIND("버섯연구소",$F186)),"버섯연구소",IF(COUNT(FIND("소득자원연구소",$F186)),"소득자원연구소",IF(COUNT(FIND("선인장다육식물연구소",$F186)),"선인장다육식물연구소",IF(COUNT(FIND("보건연구부",$F186)),"보건연구부",IF(COUNT(FIND("대기연구부",$F186)),"대기연구부",IF(COUNT(FIND("수질연구부",$F186)),"수질연구부",IF(COUNT(FIND("북부지원",$F186)),"북부지원",IF(COUNT(FIND("수원농산물검사소",$F186)),"수원농산물검사소",IF(COUNT(FIND("건설본부(관리과)",$F186)),"관리과",IF(COUNT(FIND("도로건설과",$F186)),"도로건설과",IF(COUNT(FIND("북부도로과",$F186)),"북부도로과",IF(COUNT(FIND("건축시설과",$F186)),"건축시설과",IF(COUNT(FIND("신청사건립추진단",$F186)),"신청사건립추진단",$F186))))))))))))))))))))) -> 가족여성담당관 | B186: =G186 -> 여성가족교육협력위원회 | C186: =IF(COUNT(FIND("경기도건설본부",$E186)),"건설본부",IF(COUNT(FIND("경기도농업기술원",$E186)),"농업기술원",IF(COUNT(FIND("경기도보건환경연구원",$E186)),"보건환경연구원",IF(COUNT(FIND("소방재난본부",$E186)),"재난안전본부",IF(COUNT(FIND("경기도소방학교",$E186)),"재난안전본부",IF(COUNT(FIND("경기도인재개발원",$E186)),"인재개발원",IF(COUNT(FIND("북부소방재난본부",$E186)),"재난안전본부",IF(COUNT(FIND("소방서",$E186)),"재난안전본부",$E186)))))))) -> 복지여성실 | E186: 복지여성실 | F186: 가족여성담당관 | G186: 여성가족교육협력위원회 | H186: 184 | I186: 3301
A187: =IF(COUNT(AND(FIND("북부소방재난본부",$E187),FIND("특수대응단",$F187))),"특수대응단(북부)",IF(COUNT(FIND("작물연구과",$F187)),"작물연구과",IF(COUNT(FIND("원예연구과",$F187)),"원예연구과",IF(COUNT(FIND("환경농업연구과",$F187)),"환경농업연구과",IF(COUNT(FIND("지원기획과",$F187)),"지원기획과",IF(COUNT(FIND("기술보급과",$F187)),"기술보급과",IF(COUNT(FIND("농촌자원과",$F187)),"농촌자원과",IF(COUNT(FIND("종자관리소",$F187)),"종자관리소",IF(COUNT(FIND("버섯연구소",$F187)),"버섯연구소",IF(COUNT(FIND("소득자원연구소",$F187)),"소득자원연구소",IF(COUNT(FIND("선인장다육식물연구소",$F187)),"선인장다육식물연구소",IF(COUNT(FIND("보건연구부",$F187)),"보건연구부",IF(COUNT(FIND("대기연구부",$F187)),"대기연구부",IF(COUNT(FIND("수질연구부",$F187)),"수질연구부",IF(COUNT(FIND("북부지원",$F187)),"북부지원",IF(COUNT(FIND("수원농산물검사소",$F187)),"수원농산물검사소",IF(COUNT(FIND("건설본부(관리과)",$F187)),"관리과",IF(COUNT(FIND("도로건설과",$F187)),"도로건설과",IF(COUNT(FIND("북부도로과",$F187)),"북부도로과",IF(COUNT(FIND("건축시설과",$F187)),"건축시설과",IF(COUNT(FIND("신청사건립추진단",$F187)),"신청사건립추진단",$F187))))))))))))))))))))) -> 보육청소년담당관 | B187: =G187 -> 여성가족교육협력위원회 | C187: =IF(COUNT(FIND("경기도건설본부",$E187)),"건설본부",IF(COUNT(FIND("경기도농업기술원",$E187)),"농업기술원",IF(COUNT(FIND("경기도보건환경연구원",$E187)),"보건환경연구원",IF(COUNT(FIND("소방재난본부",$E187)),"재난안전본부",IF(COUNT(FIND("경기도소방학교",$E187)),"재난안전본부",IF(COUNT(FIND("경기도인재개발원",$E187)),"인재개발원",IF(COUNT(FIND("북부소방재난본부",$E187)),"재난안전본부",IF(COUNT(FIND("소방서",$E187)),"재난안전본부",$E187)))))))) -> 복지여성실 | E187: 복지여성실 | F187: 보육청소년담당관 | G187: 여성가족교육협력위원회 | H187: 185 | I187: 3302
A188: =IF(COUNT(AND(FIND("북부소방재난본부",$E188),FIND("특수대응단",$F188))),"특수대응단(북부)",IF(COUNT(FIND("작물연구과",$F188)),"작물연구과",IF(COUNT(FIND("원예연구과",$F188)),"원예연구과",IF(COUNT(FIND("환경농업연구과",$F188)),"환경농업연구과",IF(COUNT(FIND("지원기획과",$F188)),"지원기획과",IF(COUNT(FIND("기술보급과",$F188)),"기술보급과",IF(COUNT(FIND("농촌자원과",$F188)),"농촌자원과",IF(COUNT(FIND("종자관리소",$F188)),"종자관리소",IF(COUNT(FIND("버섯연구소",$F188)),"버섯연구소",IF(COUNT(FIND("소득자원연구소",$F188)),"소득자원연구소",IF(COUNT(FIND("선인장다육식물연구소",$F188)),"선인장다육식물연구소",IF(COUNT(FIND("보건연구부",$F188)),"보건연구부",IF(COUNT(FIND("대기연구부",$F188)),"대기연구부",IF(COUNT(FIND("수질연구부",$F188)),"수질연구부",IF(COUNT(FIND("북부지원",$F188)),"북부지원",IF(COUNT(FIND("수원농산물검사소",$F188)),"수원농산물검사소",IF(COUNT(FIND("건설본부(관리과)",$F188)),"관리과",IF(COUNT(FIND("도로건설과",$F188)),"도로건설과",IF(COUNT(FIND("북부도로과",$F188)),"북부도로과",IF(COUNT(FIND("건축시설과",$F188)),"건축시설과",IF(COUNT(FIND("신청사건립추진단",$F188)),"신청사건립추진단",$F188))))))))))))))))))))) -> 북부여성비전센터 | B188: =G188 -> 여성가족교육협력위원회 | C188: =IF(COUNT(FIND("경기도건설본부",$E188)),"건설본부",IF(COUNT(FIND("경기도농업기술원",$E188)),"농업기술원",IF(COUNT(FIND("경기도보건환경연구원",$E188)),"보건환경연구원",IF(COUNT(FIND("소방재난본부",$E188)),"재난안전본부",IF(COUNT(FIND("경기도소방학교",$E188)),"재난안전본부",IF(COUNT(FIND("경기도인재개발원",$E188)),"인재개발원",IF(COUNT(FIND("북부소방재난본부",$E188)),"재난안전본부",IF(COUNT(FIND("소방서",$E188)),"재난안전본부",$E188)))))))) -> 복지여성실 | E188: 복지여성실 | F188: 북부여성비전센터 | G188: 여성가족교육협력위원회 | H188: 186 | I188: 3303

Sheet 15년검증
A1: 2015년 본예산 검증 | H1: 본예산 예비비 | J1: 124682800
M2: (단위 : 천원)
A3: 구 분 | B3: 상임위 | H3: 구 분 | I3: 예결위
B4: 세입 | C4: 검증 | D4: 세출 | E4: 검증 | F4: 차액 | I4: 세입 | J4: 검증 | K4: 세출 | L4: 검증 | M4: 차액
A5: 전체 총계 | B5: =SUM(B6,B9) -> 0 | C5: =IF(B5='16년1추 일입'!V3,"OK","@@") -> OK | D5: =SUM(D6,D9) -> 1871030 | E5: =IF(D5='16년 1추일출'!X3,"OK","@@") -> OK | H5: 전체 총계 | I5: =SUM(I6,I9) -> 140000000 | J5: =IF(I5='16년1추 일입'!AA3,"OK","@@") -> OK | K5: =SUM(K6,K9) -> 88071030 | L5: =IF(K5='16년 1추일출'!AC3,"OK","@@") -> @@
A6: 자체 총계 | B6: =SUM(B7:B8) -> 0 | C6: =IF(B6='16년1추 일입'!V6,"OK","@@") -> OK | D6: =SUM(D7:D8) -> 1871030 | E6: =IF($D$6='16년 1추일출'!$X$6,"OK","@@") -> OK | H6: 자체 총계 | I6: =SUM(I7:I8) -> 140000000 | J6: =IF(I6='16년1추 일입'!AA6,"OK","@@") -> OK | K6: =SUM(K7:K8) -> 88071030 | L6: =IF($K6='16년 1추일출'!$AC6,"OK","@@") -> @@
A7: 자체 도비 | B7: =SUMIFS('16년1추 일입'!$V$7:$V$566,'16년1추 일입'!$T$7:$T$566,"도비") -> 0 | D7: =SUMIFS('16년 1추일출'!$X$8:$X$565,'16년 1추일출'!$V$8:$V$565,"도비") -> 1871030 | H7: 자체 도비 | I7: =SUMIFS('16년1추 일입'!$AA$7:$AA$566,'16년1추 일입'!$Y$7:$Y$566,"도비") -> 140000000 | K7: =SUMIFS('16년 1추일출'!$AC$8:$AC$565,'16년 1추일출'!$AA$8:$AA$565,"도비") -> 88071030
A8: 의존 매칭 도비 | B8: =SUMIFS('16년1추 일입'!$V$7:$V$566,'16년1추 일입'!$T$7:$T$566,"국비")+SUMIFS('16년1추 일입'!$V$7:$V$566,'16년1추 일입'!$T$7:$T$566,"지특")+SUMIFS('16년1추 일입'!$V$7:$V$566,'16년1추 일입'!$T$7:$T$566,"기금")+SUMIFS('16년1추 일입'!$V$7:$V$566,'16년1추 일입'!$T$7:$T$566,"분권")+SUMIFS('16년1추 일입'!$V$7:$V$566,'16년1추 일입'!$T$7:$T$566,"특교") -> 0 | D8: =SUMIFS('16년 1추일출'!$X$8:$X$565,'16년 1추일출'!$V$8:$V$565,"국비")+SUMIFS('16년 1추일출'!$X$8:$X$565,'16년 1추일출'!$V$8:$V$565,"지특")+SUMIFS('16년 1추일출'!$X$8:$X$565,'16년 1추일출'!$V$8:$V$565,"기금")+SUMIFS('16년 1추일출'!$X$8:$X$565,'16년 1추일출'!$V$8:$V$565,"분권")+SUMIFS('16년 1추일출'!$X$8:$X$565,'16년 1추일출'!$V$8:$V$565,"특교") -> 0 | H8: 의존 매칭 도비 | I8: =SUMIFS('16년1추 일입'!$AA$7:$AA$566,'16년1추 일입'!$Y$7:$Y$566,"국비")+SUMIFS('16년1추 일입'!$AA$7:$AA$566,'16년1추 일입'!$Y$7:$Y$566,"지특")+SUMIFS('16년1추 일입'!$AA$7:$AA$566,'16년1추 일입'!$Y$7:$Y$566,"기금")+SUMIFS('16년1추 일입'!$AA$7:$AA$566,'16년1추 일입'!$Y$7:$Y$566,"분권")+SUMIFS('16년1추 일입'!$AA$7:$AA$566,'16년1추 일입'!$Y$7:$Y$566,"특교") -> 0 | K8: =SUMIFS('16년 1추일출'!$AC$8:$AC$565,'16년 1추일출'!$AA$8:$AA$565,"국비")+SUMIFS('16년 1추일출'!$AC$8:$AC$565,'16년 1추일출'!$AA$8:$AA$565,"지특")+SUMIFS('16년 1추일출'!$AC$8:$AC$565,'16년 1추일출'!$AA$8:$AA$565,"기금")+SUMIFS('16년 1추일출'!$AC$8:$AC$565,'16년 1추일출'!$AA$8:$AA$565,"분권")+SUMIFS('16년 1추일출'!$AC$8:$AC$565,'16년 1추일출'!$AA$8:$AA$565,"특교") -> 0
A9: 의존계 | B9: =SUM(B10:B14) -> 0 | C9: =IF(B9='16년1추 일입'!U6,"OK","@@") -> OK | D9: =SUM(D10:D14) -> 0 | E9: =IF(B9=D9,"OK","@@") -> OK | F9: =D9-B9 -> 0 | H9: 의존계 | I9: =SUM(I10:I14) -> 0 | J9: =IF(I9='16년1추 일입'!Z6,"OK","@@") -> OK | K9: =SUM(K10:K14) -> 0 | L9: =IF(I9=K9,"OK","@@") -> OK
A10: 국비 | B10: =SUMIFS('16년1추 일입'!$U$7:$U$566,'16년1추 일입'!$T$7:$T$566,'15년검증'!$A10) -> 0 | D10: =SUMIFS('16년 1추일출'!$W$8:$W$565,'16년 1추일출'!$V$8:$V$565,'15년검증'!$A10) -> 0 | E10: =IF(B10=D10,"OK","@@") -> OK | F10: =D10-B10 -> 0 | H10: 국비 | I10: =SUMIFS('16년1추 일입'!$Z$7:$Z$566,'16년1추 일입'!$Y$7:$Y$566,'15년검증'!$A10) -> 0 | K10: =SUMIFS('16년 1추일출'!$AB$8:$AB$565,'16년 1추일출'!$AA$8:$AA$565,'15년검증'!$A10) -> 0 | L10: =IF(I10=K10,"OK","@@") -> OK | M10: =K10-I10 -> 0
A11: 지특 | B11: =SUMIFS('16년1추 일입'!$U$7:$U$566,'16년1추 일입'!$T$7:$T$566,'15년검증'!$A11) -> 0 | D11: =SUMIFS('16년 1추일출'!$W$8:$W$565,'16년 1추일출'!$V$8:$V$565,'15년검증'!$A11) -> 0 | E11: =IF(B11=D11,"OK","@@") -> OK | F11: =D11-B11 -> 0 | H11: 지특 | I11: =SUMIFS('16년1추 일입'!$Z$7:$Z$566,'16년1추 일입'!$Y$7:$Y$566,'15년검증'!$A11) -> 0 | K11: =SUMIFS('16년 1추일출'!$AB$8:$AB$565,'16년 1추일출'!$AA$8:$AA$565,'15년검증'!$A11) -> 0 | L11: =IF(I11=K11,"OK","@@") -> OK | M11: =K11-I11 -> 0
A12: 기금 | B12: =SUMIFS('16년1추 일입'!$U$7:$U$566,'16년1추 일입'!$T$7:$T$566,'15년검증'!$A12) -> 0 | D12: =SUMIFS('16년 1추일출'!$W$8:$W$565,'16년 1추일출'!$V$8:$V$565,'15년검증'!$A12) -> 0 | E12: =IF(B12=D12,"OK","@@") -> OK | F12: =D12-B12 -> 0 | H12: 기금 | I12: =SUMIFS('16년1추 일입'!$Z$7:$Z$566,'16년1추 일입'!$Y$7:$Y$566,'15년검증'!$A12) -> 0 | K12: =SUMIFS('16년 1추일출'!$AB$8:$AB$565,'16년 1추일출'!$AA$8:$AA$565,'15년검증'!$A12) -> 0 | L12: =IF(I12=K12,"OK","@@") -> OK | M12: =K12-I12 -> 0
A13: 분권 | B13: =SUMIFS('16년1추 일입'!$U$7:$U$566,'16년1추 일입'!$T$7:$T$566,'15년검증'!$A13) -> 0 | D13: =SUMIFS('16년 1추일출'!$W$8:$W$565,'16년 1추일출'!$V$8:$V$565,'15년검증'!$A13) -> 0 | E13: =IF(B13=D13,"OK","@@") -> OK | F13: =D13-B13 -> 0 | H13: 분권 | I13: =SUMIFS('16년1추 일입'!$Z$7:$Z$566,'16년1추 일입'!$Y$7:$Y$566,'15년검증'!$A13) -> 0 | K13: =SUMIFS('16년 1추일출'!$AB$8:$AB$565,'16년 1추일출'!$AA$8:$AA$565,'15년검증'!$A13) -> 0 | L13: =IF(I13=K13,"OK","@@") -> OK | M13: =K13-I13 -> 0
A14: 특교 | B14: =SUMIFS('16년1추 일입'!$U$7:$U$566,'16년1추 일입'!$T$7:$T$566,'15년검증'!$A14) -> 0 | D14: =SUMIFS('16년 1추일출'!$W$8:$W$565,'16년 1추일출'!$V$8:$V$565,'15년검증'!$A14) -> 0 | E14: =IF(B14=D14,"OK","@@") -> OK | F14: =D14-B14 -> 0 | H14: 특교 | I14: =SUMIFS('16년1추 일입'!$Z$7:$Z$566,'16년1추 일입'!$Y$7:$Y$566,'15년검증'!$A14) -> 0 | K14: =SUMIFS('16년 1추일출'!$AB$8:$AB$565,'16년 1추일출'!$AA$8:$AA$565,'15년검증'!$A14) -> 0 | L14: =IF(I14=K14,"OK","@@") -> OK | M14: =K14-I14 -> 0
H16: 예비비 조정액 | I16: =IFERROR(INDEX('16년 1추일출'!AC8:AC565,MATCH("*예비비*",'16년 1추일출'!G8:G565,0)),"") -> -1871030
I18: =SUM(I5-K5) -> 51928970
H20: 예비비 조정잔액 | I20: =IFERROR(SUM(J1+I16),"") -> 122811770

Sheet 2추검증
A1: 2회추경 검증 | H1: 2회추경 예비비 | J1: 22466366
M2: (단위 : 천원)
A3: 구 분 | B3: 상임위 | H3: 구 분 | I3: 예결위
B4: 세입 | C4: 검증 | D4: 세출 | E4: 검증 | F4: 차액 | I4: 세입 | J4: 검증 | K4: 세출 | L4: 검증 | M4: 차액
A5: 전체 총계 | B5: =SUM(B6,B9) -> #REF! | C5: =IF(B5=#REF!,"OK","@@") -> #REF! | D5: =SUM(D6,D9) -> #REF! | E5: =IF(D5=#REF!,"OK","@@") -> #REF! | H5: 전체 총계 | I5: =SUM(I6,I9) -> #REF! | J5: =IF(I5=#REF!,"OK","@@") -> #REF! | K5: =SUM(K6,K9) -> #REF! | L5: =IF(K5=#REF!,"OK","@@") -> #REF!
A6: 자체 총계 | B6: =SUM(B7:B8) -> #REF! | C6: =IF(B6=#REF!,"OK","@@") -> #REF! | D6: =SUM(D7:D8) -> #REF! | E6: =IF($D$6=#REF!,"OK","@@") -> #REF! | H6: 자체 총계 | I6: =SUM(I7:I8) -> #REF! | J6: =IF(I6=#REF!,"OK","@@") -> #REF! | K6: =SUM(K7:K8) -> #REF! | L6: =IF($K6=#REF!,"OK","@@") -> #REF!
A7: 자체 도비 | B7: =SUMIFS(#REF!,#REF!,"도비") -> #REF! | D7: =SUMIFS(#REF!,#REF!,"도비") -> #REF! | H7: 자체 도비 | I7: =SUMIFS(#REF!,#REF!,"도비") -> #REF! | K7: =SUMIFS(#REF!,#REF!,"도비") -> #REF!
A8: 의존 매칭 도비 | B8: =SUMIFS(#REF!,#REF!,"국비")+SUMIFS(#REF!,#REF!,"광특")+SUMIFS(#REF!,#REF!,"기금")+SUMIFS(#REF!,#REF!,"분권")+SUMIFS(#REF!,#REF!,"특교") -> #REF! | D8: =SUMIFS(#REF!,#REF!,"국비")+SUMIFS(#REF!,#REF!,"광특")+SUMIFS(#REF!,#REF!,"기금")+SUMIFS(#REF!,#REF!,"분권")+SUMIFS(#REF!,#REF!,"특교") -> #REF! | H8: 의존 매칭 도비 | I8: =SUMIFS(#REF!,#REF!,"국비")+SUMIFS(#REF!,#REF!,"광특")+SUMIFS(#REF!,#REF!,"기금")+SUMIFS(#REF!,#REF!,"분권")+SUMIFS(#REF!,#REF!,"특교") -> #REF! | K8: =SUMIFS(#REF!,#REF!,"국비")+SUMIFS(#REF!,#REF!,"광특")+SUMIFS(#REF!,#REF!,"기금")+SUMIFS(#REF!,#REF!,"분권")+SUMIFS(#REF!,#REF!,"특교") -> #REF!
A9: 의존계 | B9: =SUM(B10:B14) -> #REF! | C9: =IF(B9=#REF!,"OK","@@") -> #REF! | D9: =SUM(D10:D14) -> #REF! | E9: =IF(B9=D9,"OK","@@") -> #REF! | F9: =D9-B9 -> #REF! | H9: 의존계 | I9: =SUM(I10:I14) -> #REF! | J9: =IF(I9=#REF!,"OK","@@") -> #REF! | K9: =SUM(K10:K14) -> #REF! | L9: =IF(I9=K9,"OK","@@") -> #REF! | M9: =K9-I9 -> #REF!
A10: 국비 | B10: =SUMIFS(#REF!,#REF!,'2추검증'!$A10) -> #REF! | D10: =SUMIFS(#REF!,#REF!,'2추검증'!$A10) -> #REF! | E10: =IF(B10=D10,"OK","@@") -> #REF! | F10: =D10-B10 -> #REF! | H10: 국비 | I10: =SUMIFS(#REF!,#REF!,'2추검증'!$A10) -> #REF! | K10: =SUMIFS(#REF!,#REF!,'2추검증'!$A10) -> #REF! | L10: =IF(I10=K10,"OK","@@") -> #REF! | M10: =K10-I10 -> #REF!
A11: 광특 | B11: =SUMIFS(#REF!,#REF!,'2추검증'!$A11) -> #REF! | D11: =SUMIFS(#REF!,#REF!,'2추검증'!$A11) -> #REF! | E11: =IF(B11=D11,"OK","@@") -> #REF! | F11: =D11-B11 -> #REF! | H11: 광특 | I11: =SUMIFS(#REF!,#REF!,'2추검증'!$A11) -> #REF! | K11: =SUMIFS(#REF!,#REF!,'2추검증'!$A11) -> #REF! | L11: =IF(I11=K11,"OK","@@") -> #REF! | M11: =K11-I11 -> #REF!
A12: 기금 | B12: =SUMIFS(#REF!,#REF!,'2추검증'!$A12) -> #REF! | D12: =SUMIFS(#REF!,#REF!,'2추검증'!$A12) -> #REF! | E12: =IF(B12=D12,"OK","@@") -> #REF! | F12: =D12-B12 -> #REF! | H12: 기금 | I12: =SUMIFS(#REF!,#REF!,'2추검증'!$A12) -> #REF! | K12: =SUMIFS(#REF!,#REF!,'2추검증'!$A12) -> #REF! | L12: =IF(I12=K12,"OK","@@") -> #REF! | M12: =K12-I12 -> #REF!
A13: 분권 | B13: =SUMIFS(#REF!,#REF!,'2추검증'!$A13) -> #REF! | D13: =SUMIFS(#REF!,#REF!,'2추검증'!$A13) -> #REF! | E13: =IF(B13=D13,"OK","@@") -> #REF! | F13: =D13-B13 -> #REF! | H13: 분권 | I13: =SUMIFS(#REF!,#REF!,'2추검증'!$A13) -> #REF! | K13: =SUMIFS(#REF!,#REF!,'2추검증'!$A13) -> #REF! | L13: =IF(I13=K13,"OK","@@") -> #REF! | M13: =K13-I13 -> #REF!
A14: 특교 | B14: =SUMIFS(#REF!,#REF!,'2추검증'!$A14) -> #REF! | D14: =SUMIFS(#REF!,#REF!,'2추검증'!$A14) -> #REF! | E14: =IF(B14=D14,"OK","@@") -> #REF! | F14: =D14-B14 -> #REF! | H14: 특교 | I14: =SUMIFS(#REF!,#REF!,'2추검증'!$A14) -> #REF! | K14: =SUMIFS(#REF!,#REF!,'2추검증'!$A14) -> #REF! | L14: =IF(I14=K14,"OK","@@") -> #REF! | M14: =K14-I14 -> #REF!
H16: 예비비 조정액 | I16: =IFERROR(INDEX(#REF!,MATCH("*예비비*",#REF!,0)),"")
I18: =SUM(I5-K5) -> #REF!
H20: 예비비 조정잔액 | I20: =IFERROR(SUM(J1-I16),"")

Sheet 상임 표지
D2: 2014년도 제2회 일반회계 및 특별회계 추가경정 세입·세출 예산안
D4: 상 임 위 계 수 조 정 결 과
D16: 예산결산특별위원회

Sheet 표지
D2: 2014년도 제2회 일반회계 및 특별회계 추가경정 세입·세출 예산안
A4: 예결위 계수조정 결과
D16: 예산결산특별위원회

Sheet 예결 표지
B5: 2014년도 제2회 일반회계 및 특별회계 추가경정 세입·세출 예산안
B7: 예결위 계수조정 결과
B33: 예산결산특별위원회

Sheet 예결 표지(가로)
B3: 2014년도 제2회 일반회계 및 특별회계 추가경정 세입·세출 예산안
B5: 예결위 계수조정 결과
B24: 예산결산특별위원회

Sheet 15년총괄표
B1: 2015년도 경기도 일반 및 특별회계 세입·세출 예산안[전체예산총괄]
B3: □ 총 괄 | D3: 세입예산증감 | E3: =SUM(D7:E7) -> 140000000 | F3: 세출예산증감 | G3: =SUM(F7:G7) -> 140000000
H4: (단위:천원) | M4: (일반+특별+기금) | O4: 특별+기금
B5: 구 분 | C5: 집행부제출(안) | D5: 세입예산(안) | F5: 세출예산(안) | H5: 예산수정(안) | I5: 일반회계 증감(총괄표) | K5: 예비비증감 | L5: 비 고 | M5: 전체 증감(시트) | O5: 비고
D6: 감 액 | E6: 증 액 | F6: 감 액 | G6: 증 액 | I6: 세입 | J6: 세출 | M6: 세입 | N6: 세출
B7: 합 계 | C7: =SUM(C8:C18) -> 17818538715 | D7: =SUM(D8:D18) -> 0 | E7: =SUM(E8:E18) -> 140000000 | F7: =SUM(F8:F18) -> -19000000 | G7: =SUM(G8:G18) -> 159000000 | H7: =SUM(H8:H18) -> 17958538715 | I7: =E25+D25 -> 140000000 | J7: =F25+G25 -> 140000000 | K7: =I7-J7 -> 0 | L7: 예비비 증감이 - 예산이면 감액에 + 예산이면 증액에 입력 | M7: =D24+E24 -> 140000000 | N7: =F24+G24 -> 140000000 | O7: 0 | P7: 0
B8: 기 타 | C8: 0 | H8: =C8-F8+G8 -> 0 | I8: =D7+E7 -> 140000000 | J8: =F7+G7 -> 140000000 | K8: =I8-J8 -> 0
B9: 의회운영위원회 | C9: 43594098 | D9: =SUMIFS('16년1추 일입'!$N$7:$N$566,'16년1추 일입'!$A$7:$A$566,'15년총괄표'!$B9) -> 0 | E9: =SUMIFS('16년1추 일입'!$O$7:$O$566,'16년1추 일입'!$A$7:$A$566,'15년총괄표'!$B9) -> 0 | F9: =SUMIFS('16년 1추일출'!$N$8:$N$565,'16년 1추일출'!$A$8:$A$565,'15년총괄표'!$B9) -> 0 | G9: =SUMIFS('16년 1추일출'!$O$8:$O$565,'16년 1추일출'!$A$8:$A$565,'15년총괄표'!$B9) -> 0 | H9: =C9+F9+G9 -> 43594098 | I9: 일반회계 증감(시트) | N9: 전체 증감
B10: 기획재정위원회 | C10: 5206191432 | D10: =SUMIFS('16년1추 일입'!$N$7:$N$566,'16년1추 일입'!$A$7:$A$566,'15년총괄표'!$B10) -> 0 | E10: =SUMIFS('16년1추 일입'!$O$7:$O$566,'16년1추 일입'!$A$7:$A$566,'15년총괄표'!$B10) -> 0 | F10: =SUMIFS('16년 1추일출'!$N$8:$N$565,'16년 1추일출'!$A$8:$A$565,'15년총괄표'!$B10) -> -12921030 | G10: =SUMIFS('16년 1추일출'!$O$8:$O$565,'16년 1추일출'!$A$8:$A$565,'15년총괄표'!$B10) -> 53800000 | H10: =C10+F10+G10 -> 5247070402 | I10: =#REF!+#REF! -> #REF! | J10: =#REF!+#REF! -> #REF! | N10: =M7-N7 -> 0
B11: 경제과학기술위원회 | C11: 506163851 | D11: =SUMIFS('16년1추 일입'!$N$7:$N$566,'16년1추 일입'!$A$7:$A$566,'15년총괄표'!$B11) -> 0 | E11: =SUMIFS('16년1추 일입'!$O$7:$O$566,'16년1추 일입'!$A$7:$A$566,'15년총괄표'!$B11) -> 0 | F11: =SUMIFS('16년 1추일출'!$N$8:$N$565,'16년 1추일출'!$A$8:$A$565,'15년총괄표'!$B11) -> 0 | G11: =SUMIFS('16년 1추일출'!$O$8:$O$565,'16년 1추일출'!$A$8:$A$565,'15년총괄표'!$B11) -> 0 | H11: =C11+F11+G11 -> 506163851
B12: 안전행정위원회 | C12: 1207474631 | D12: =SUMIFS('16년1추 일입'!$N$7:$N$566,'16년1추 일입'!$A$7:$A$566,'15년총괄표'!$B12) -> 0 | E12: =SUMIFS('16년1추 일입'!$O$7:$O$566,'16년1추 일입'!$A$7:$A$566,'15년총괄표'!$B12) -> 140000000 | F12: =SUMIFS('16년 1추일출'!$N$8:$N$565,'16년 1추일출'!$A$8:$A$565,'15년총괄표'!$B12) -> 0 | G12: =SUMIFS('16년 1추일출'!$O$8:$O$565,'16년 1추일출'!$A$8:$A$565,'15년총괄표'!$B12) -> 4200000 | H12: =C12+F12+G12 -> 1211674631
B13: 문화체육관광위원회 | C13: 309073261 | D13: =SUMIFS('16년1추 일입'!$N$7:$N$566,'16년1추 일입'!$A$7:$A$566,'15년총괄표'!$B13) -> 0 | E13: =SUMIFS('16년1추 일입'!$O$7:$O$566,'16년1추 일입'!$A$7:$A$566,'15년총괄표'!$B13) -> 0 | F13: =SUMIFS('16년 1추일출'!$N$8:$N$565,'16년 1추일출'!$A$8:$A$565,'15년총괄표'!$B13) -> 0 | G13: =SUMIFS('16년 1추일출'!$O$8:$O$565,'16년 1추일출'!$A$8:$A$565,'15년총괄표'!$B13) -> 14000000 | H13: =C13+F13+G13 -> 323073261 | N13: 기금
B14: 농정해양위원회 | C14: 442431566 | D14: =SUMIFS('16년1추 일입'!$N$7:$N$566,'16년1추 일입'!$A$7:$A$566,'15년총괄표'!$B14) -> 0 | E14: =SUMIFS('16년1추 일입'!$O$7:$O$566,'16년1추 일입'!$A$7:$A$566,'15년총괄표'!$B14) -> 0 | F14: =SUMIFS('16년 1추일출'!$N$8:$N$565,'16년 1추일출'!$A$8:$A$565,'15년총괄표'!$B14) -> 0 | G14: =SUMIFS('16년 1추일출'!$O$8:$O$565,'16년 1추일출'!$A$8:$A$565,'15년총괄표'!$B14) -> 0 | H14: =C14+F14+G14 -> 442431566 | N14: =N10-K7 -> 0
B15: 보건복지위원회 | C15: 3621498611 | D15: =SUMIFS('16년1추 일입'!$N$7:$N$566,'16년1추 일입'!$A$7:$A$566,'15년총괄표'!$B15) -> 0 | E15: =SUMIFS('16년1추 일입'!$O$7:$O$566,'16년1추 일입'!$A$7:$A$566,'15년총괄표'!$B15) -> 0 | F15: =SUMIFS('16년 1추일출'!$N$8:$N$565,'16년 1추일출'!$A$8:$A$565,'15년총괄표'!$B15) -> 0 | G15: =SUMIFS('16년 1추일출'!$O$8:$O$565,'16년 1추일출'!$A$8:$A$565,'15년총괄표'!$B15) -> 0 | H15: =C15+F15+G15 -> 3621498611
B16: 건설교통위원회 | C16: 1291490754 | D16: =SUMIFS('16년1추 일입'!$N$7:$N$566,'16년1추 일입'!$A$7:$A$566,'15년총괄표'!$B16) -> 0 | E16: =SUMIFS('16년1추 일입'!$O$7:$O$566,'16년1추 일입'!$A$7:$A$566,'15년총괄표'!$B16) -> 0 | F16: =SUMIFS('16년 1추일출'!$N$8:$N$565,'16년 1추일출'!$A$8:$A$565,'15년총괄표'!$B16) -> -5000000 | G16: =SUMIFS('16년 1추일출'!$O$8:$O$565,'16년 1추일출'!$A$8:$A$565,'15년총괄표'!$B16) -> 5000000 | H16: =C16+F16+G16 -> 1291490754
B17: 도시환경위원회 | C17: 1095793534 | D17: =SUMIFS('16년1추 일입'!$N$7:$N$566,'16년1추 일입'!$A$7:$A$566,'15년총괄표'!$B17) -> 0 | E17: =SUMIFS('16년1추 일입'!$O$7:$O$566,'16년1추 일입'!$A$7:$A$566,'15년총괄표'!$B17) -> 0 | F17: =SUMIFS('16년 1추일출'!$N$8:$N$565,'16년 1추일출'!$A$8:$A$565,'15년총괄표'!$B17) -> 0 | G17: =SUMIFS('16년 1추일출'!$O$8:$O$565,'16년 1추일출'!$A$8:$A$565,'15년총괄표'!$B17) -> 0 | H17: =C17+F17+G17 -> 1095793534
B18: 여성가족교육협력위원회 | C18: 4094826977 | D18: =SUMIFS('16년1추 일입'!$N$7:$N$566,'16년1추 일입'!$A$7:$A$566,'15년총괄표'!$B18) -> 0 | E18: =SUMIFS('16년1추 일입'!$O$7:$O$566,'16년1추 일입'!$A$7:$A$566,'15년총괄표'!$B18) -> 0 | F18: =SUMIFS('16년 1추일출'!$N$8:$N$565,'16년 1추일출'!$A$8:$A$565,'15년총괄표'!$B18) -> -1078970 | G18: =SUMIFS('16년 1추일출'!$O$8:$O$565,'16년 1추일출'!$A$8:$A$565,'15년총괄표'!$B18) -> 82000000 | H18: =C18+F18+G18 -> 4175748007
B20: □ 회계별 예산총규모
H21: (단위:천원)
B22: 구 분 | C22: 세출예산액 (집행부제출 안) | D22: 세입예산(안) | F22: 세출예산(안) | H22: 예산수정(안)
D23: 감 액 | E23: 증 액 | F23: 감 액 | G23: 증 액 | I23: 세입기준 수정예산안
B24: 합 계 | C24: =SUM(C25:C26) -> 17818538715 | D24: =SUM(D25:D26) -> 0 | E24: =SUM(E25:E26) -> 140000000 | F24: =SUM(F25:F26) -> -19000000 | G24: =SUM(G25:G26) -> 159000000 | H24: =SUM(H25:H26) -> 17958538715 | I24: =C24+D24+E24 -> 17958538715 | J24: =I24-H24 -> 0 | K24: (세출기준-세입기준)
B25: 일반회계 | C25: 14504760931 | D25: ='16년1추 일입'!$N$6 -> 0 | E25: ='16년1추 일입'!$O$6 -> 140000000 | F25: ='16년 1추일출'!$N$6 -> -19000000 | G25: ='16년 1추일출'!$O$6 -> 159000000 | H25: =C25+F25+G25 -> 14644760931 | I25: =C25+D25+E25 -> 14644760931 | J25: =I25-H25 -> 0 | K25: (세출기준-세입기준)
B26: 특별회계 | C26: 3313777784 | H26: =C26+F26+G26 -> 3313777784 | I26: =C26+D26+E26 -> 3313777784 | J26: =I26-H26 -> 0 | K26: (세출기준-세입기준)
B30: 위원회명 | C30: 일반+기특 | D30: 공기업 | E30: 합계
B31: 의회운영위원회 | C31: 39922113 | E31: =SUM(C31:D31) -> 39922113
B32: 기획재정위원회 | C32: 3302571667 | D32: 1780946434 | E32: =SUM(C32:D32) -> 5083518101
B33: 경제과학기술위원회 | C33: 155329320 | D33: 384743740 | E33: =SUM(C33:D33) -> 540073060
B34: 안전행정위원회 | C34: 1142858974 | E34: =SUM(C34:D34) -> 1142858974
B35: 문화체육관광위원회 | C35: 224243208 | D35: 52484400 | E35: =SUM(C35:D35) -> 276727608
B36: 농정해양위원회 | C36: 466978999 | E36: =SUM(C36:D36) -> 466978999
B37: 보건복지위원회 | C37: 3254006708 | E37: =SUM(C37:D37) -> 3254006708
B38: 건설교통위원회 | C38: 1220859831 | E38: =SUM(C38:D38) -> 1220859831
B39: 도시환경위원회 | C39: 866963933 | D39: 28360000 | E39: =SUM(C39:D39) -> 895323933
B40: 여성가족평생교육위원회 | C40: 4882582917 | E40: =SUM(C40:D40) -> 4882582917
B41: 총합계 | C41: =SUM(C31:C40) -> 15556317670 | D41: =SUM(D31:D40) -> 2246534574 | E41: =SUM(C41:D41) -> 17802852244
B43: 예비비 | C43: =3922478-221377 -> 3701101
B54: 위원회명 | C54: 일반 | D54: 기특 | E54: 공특 | F54: 합계
B56: 총합계 | C56: =SUM(C57:C66) -> 14504760931 | D56: =SUM(D57:D66) -> 1174065395 | E56: =SUM(E57:E66) -> 2139712389 | F56: =SUM(C56:E56) -> 17818538715
B57: 의회운영위원회 | C57: 43594098 | F57: =SUM(C57:E57) -> 43594098
B58: 기획재정위원회 | C58: 3440363748 | D58: 24291000 | E58: 1741536684 | F58: =SUM(C58:E58) -> 5206191432
B59: 경제과학기술위원회 | C59: 203612581 | E59: 302551270 | F59: =SUM(C59:E59) -> 506163851
B60: 안전행정위원회 | C60: 1207474631 | F60: =SUM(C60:E60) -> 1207474631
B61: 문화체육관광위원회 | C61: 246448826 | E61: 62624435 | F61: =SUM(C61:E61) -> 309073261
B62: 농정해양위원회 | C62: 442431566 | F62: =SUM(C62:E62) -> 442431566
B63: 보건복지위원회 | C63: 2784804193 | D63: 836694418 | F63: =SUM(C63:E63) -> 3621498611
B64: 건설교통위원회 | C64: 1163747689 | D64: =125570000+2173065 -> 127743065 | F64: =SUM(C64:E64) -> 1291490754
B65: 도시환경위원회 | C65: 1043870622 | D65: =4191000+14731912 -> 18922912 | E65: 33000000 | F65: =SUM(C65:E65) -> 1095793534
B66: 여성가족교육협력위원회 | C66: 3928412977 | D66: 166414000 | F66: =SUM(C66:E66) -> 4094826977
I145: ◦ 본청 83,000 증 ◦ 북부청 377,000 증
K275: -50000

Sheet 15년총괄표(실국별)
B1: 2015년도 경기도 일반 및 특별회계 세입·세출 예산안[전체예산총괄]
B3: □ 총괄(실국별) | E3: =SUM(D7:E7) -> 140000000 | G3: =SUM(F7:G7) -> 140000000
H4: (단위:천원) | M4: (일반+특별+기금) | O4: 특별+기금
B5: 구 분 | C5: 집행부제출(안) | D5: 세입예산(안) | F5: 세출예산(안) | H5: 예산수정(안) | I5: 일반회계 증감(총괄표) | K5: 예비비증감 | L5: 비 고 | M5: 전체 증감(시트) | O5: 비고
D6: 감 액 | E6: 증 액 | F6: 감 액 | G6: 증 액 | I6: 세입 | J6: 세출 | M6: 세입 | N6: 세출
B7: 합 계 | C7: =SUM(C8:C33) -> 17818538715 | D7: =SUM(D8:D33) -> 0 | E7: =SUM(E8:E33) -> 140000000 | F7: =SUM(F8:F33) -> -19000000 | G7: =SUM(G8:G33) -> 159000000 | H7: =SUM(H8:H33) -> 17958538715 | I7: =#REF!+#REF! -> #REF! | J7: =#REF!+#REF! -> #REF! | K7: =I7-J7 -> #REF! | L7: 예비비 증감이 - 예산이면 감액에 + 예산이면 증액에 입력 | M7: =#REF!+#REF! -> #REF! | N7: =#REF!+#REF! -> #REF! | O7: 0 | P7: 0
B8: 감사관 | C8: 1230140 | D8: =SUMIFS('16년1추 일입'!$N$7:$N$566,'16년1추 일입'!$B$7:$B$566,'15년총괄표(실국별)'!$B8) -> 0 | E8: =SUMIFS('16년1추 일입'!$O$7:$O$566,'16년1추 일입'!$B$7:$B$566,'15년총괄표(실국별)'!$B8) -> 0 | F8: =SUMIFS('16년 1추일출'!$N$8:$N$565,'16년 1추일출'!$B$8:$B$565,'15년총괄표(실국별)'!$B8) -> 0 | G8: =SUMIFS('16년 1추일출'!$O$8:$O$565,'16년 1추일출'!$B$8:$B$565,'15년총괄표(실국별)'!$B8) -> 0 | H8: =C8+F8+G8 -> 1230140 | I8: 일반회계 증감(시트) | N8: 전체 증감
B9: 기획조정실 | C9: 4995050831 | D9: =SUMIFS('16년1추 일입'!$N$7:$N$566,'16년1추 일입'!$B$7:$B$566,'15년총괄표(실국별)'!$B9) -> 0 | E9: =SUMIFS('16년1추 일입'!$O$7:$O$566,'16년1추 일입'!$B$7:$B$566,'15년총괄표(실국별)'!$B9) -> 0 | F9: =SUMIFS('16년 1추일출'!$N$8:$N$565,'16년 1추일출'!$B$8:$B$565,'15년총괄표(실국별)'!$B9) -> -2921030 | G9: =SUMIFS('16년 1추일출'!$O$8:$O$565,'16년 1추일출'!$B$8:$B$565,'15년총괄표(실국별)'!$B9) -> 53800000 | H9: =C9+F9+G9 -> 5045929801 | I9: =#REF!+#REF! -> #REF! | J9: =#REF!+#REF! -> #REF! | N9: =#REF!-#REF! -> #REF!
B10: 도시주택실 | C10: 350475445 | D10: =SUMIFS('16년1추 일입'!$N$7:$N$566,'16년1추 일입'!$B$7:$B$566,'15년총괄표(실국별)'!$B10) -> 0 | E10: =SUMIFS('16년1추 일입'!$O$7:$O$566,'16년1추 일입'!$B$7:$B$566,'15년총괄표(실국별)'!$B10) -> 0 | F10: =SUMIFS('16년 1추일출'!$N$8:$N$565,'16년 1추일출'!$B$8:$B$565,'15년총괄표(실국별)'!$B10) -> 0 | G10: =SUMIFS('16년 1추일출'!$O$8:$O$565,'16년 1추일출'!$B$8:$B$565,'15년총괄표(실국별)'!$B10) -> 0 | H10: =C10+F10+G10 -> 350475445 | I10: =#REF!+#REF! -> #REF! | J10: =#REF!+#REF! -> #REF! | N10: =#REF!-#REF! -> #REF!
B11: 자치행정국 | C11: 489102362 | D11: =SUMIFS('16년1추 일입'!$N$7:$N$566,'16년1추 일입'!$B$7:$B$566,'15년총괄표(실국별)'!$B11) -> 0 | E11: =SUMIFS('16년1추 일입'!$O$7:$O$566,'16년1추 일입'!$B$7:$B$566,'15년총괄표(실국별)'!$B11) -> 140000000 | F11: =SUMIFS('16년 1추일출'!$N$8:$N$565,'16년 1추일출'!$B$8:$B$565,'15년총괄표(실국별)'!$B11) -> 0 | G11: =SUMIFS('16년 1추일출'!$O$8:$O$565,'16년 1추일출'!$B$8:$B$565,'15년총괄표(실국별)'!$B11) -> 4200000 | H11: =C11+F11+G11 -> 493302362
B12: 교육협력국 | C12: 2124399774 | D12: =SUMIFS('16년1추 일입'!$N$7:$N$566,'16년1추 일입'!$B$7:$B$566,'15년총괄표(실국별)'!$B12) -> 0 | E12: =SUMIFS('16년1추 일입'!$O$7:$O$566,'16년1추 일입'!$B$7:$B$566,'15년총괄표(실국별)'!$B12) -> 0 | F12: =SUMIFS('16년 1추일출'!$N$8:$N$565,'16년 1추일출'!$B$8:$B$565,'15년총괄표(실국별)'!$B12) -> -1078970 | G12: =SUMIFS('16년 1추일출'!$O$8:$O$565,'16년 1추일출'!$B$8:$B$565,'15년총괄표(실국별)'!$B12) -> 82000000 | H12: =C12+F12+G12 -> 2205320804
B13: 문화체육관광국 | C13: 309073261 | D13: =SUMIFS('16년1추 일입'!$N$7:$N$566,'16년1추 일입'!$B$7:$B$566,'15년총괄표(실국별)'!$B13) -> 0 | E13: =SUMIFS('16년1추 일입'!$O$7:$O$566,'16년1추 일입'!$B$7:$B$566,'15년총괄표(실국별)'!$B13) -> 0 | F13: =SUMIFS('16년 1추일출'!$N$8:$N$565,'16년 1추일출'!$B$8:$B$565,'15년총괄표(실국별)'!$B13) -> 0 | G13: =SUMIFS('16년 1추일출'!$O$8:$O$565,'16년 1추일출'!$B$8:$B$565,'15년총괄표(실국별)'!$B13) -> 14000000 | H13: =C13+F13+G13 -> 323073261 | N13: 기금
B14: 농정해양국 | C14: 255604029 | D14: =SUMIFS('16년1추 일입'!$N$7:$N$566,'16년1추 일입'!$B$7:$B$566,'15년총괄표(실국별)'!$B14) -> 0 | E14: =SUMIFS('16년1추 일입'!$O$7:$O$566,'16년1추 일입'!$B$7:$B$566,'15년총괄표(실국별)'!$B14) -> 0 | F14: =SUMIFS('16년 1추일출'!$N$8:$N$565,'16년 1추일출'!$B$8:$B$565,'15년총괄표(실국별)'!$B14) -> 0 | G14: =SUMIFS('16년 1추일출'!$O$8:$O$565,'16년 1추일출'!$B$8:$B$565,'15년총괄표(실국별)'!$B14) -> 0 | H14: =C14+F14+G14 -> 255604029 | N14: =N10-#REF! -> #REF!
B15: 철도국 | C15: 205393587 | D15: =SUMIFS('16년1추 일입'!$N$7:$N$566,'16년1추 일입'!$B$7:$B$566,'15년총괄표(실국별)'!$B15) -> 0 | E15: =SUMIFS('16년1추 일입'!$O$7:$O$566,'16년1추 일입'!$B$7:$B$566,'15년총괄표(실국별)'!$B15) -> 0 | F15: =SUMIFS('16년 1추일출'!$N$8:$N$565,'16년 1추일출'!$B$8:$B$565,'15년총괄표(실국별)'!$B15) -> 0 | G15: =SUMIFS('16년 1추일출'!$O$8:$O$565,'16년 1추일출'!$B$8:$B$565,'15년총괄표(실국별)'!$B15) -> 0 | H15: =C15+F15+G15 -> 205393587
B16: 재난안전본부 | C16: 694104955 | D16: =SUMIFS('16년1추 일입'!$N$7:$N$566,'16년1추 일입'!$B$7:$B$566,'15년총괄표(실국별)'!$B16) -> 0 | E16: =SUMIFS('16년1추 일입'!$O$7:$O$566,'16년1추 일입'!$B$7:$B$566,'15년총괄표(실국별)'!$B16) -> 0 | F16: =SUMIFS('16년 1추일출'!$N$8:$N$565,'16년 1추일출'!$B$8:$B$565,'15년총괄표(실국별)'!$B16) -> 0 | G16: =SUMIFS('16년 1추일출'!$O$8:$O$565,'16년 1추일출'!$B$8:$B$565,'15년총괄표(실국별)'!$B16) -> 0 | H16: =C16+F16+G16 -> 694104955
B17: 의회사무처 | C17: 30412373 | D17: =SUMIFS('16년1추 일입'!$N$7:$N$566,'16년1추 일입'!$B$7:$B$566,'15년총괄표(실국별)'!$B17) -> 0 | E17: =SUMIFS('16년1추 일입'!$O$7:$O$566,'16년1추 일입'!$B$7:$B$566,'15년총괄표(실국별)'!$B17) -> 0 | F17: =SUMIFS('16년 1추일출'!$N$8:$N$565,'16년 1추일출'!$B$8:$B$565,'15년총괄표(실국별)'!$B17) -> 0 | G17: =SUMIFS('16년 1추일출'!$O$8:$O$565,'16년 1추일출'!$B$8:$B$565,'15년총괄표(실국별)'!$B17) -> 0 | H17: =C17+F17+G17 -> 30412373
B18: 대변인 | C18: 12731214 | D18: =SUMIFS('16년1추 일입'!$N$7:$N$566,'16년1추 일입'!$B$7:$B$566,'15년총괄표(실국별)'!$B18) -> 0 | E18: =SUMIFS('16년1추 일입'!$O$7:$O$566,'16년1추 일입'!$B$7:$B$566,'15년총괄표(실국별)'!$B18) -> 0 | F18: =SUMIFS('16년 1추일출'!$N$8:$N$565,'16년 1추일출'!$B$8:$B$565,'15년총괄표(실국별)'!$B18) -> 0 | G18: =SUMIFS('16년 1추일출'!$O$8:$O$565,'16년 1추일출'!$B$8:$B$565,'15년총괄표(실국별)'!$B18) -> 0 | H18: =C18+F18+G18 -> 12731214 | I18: =#REF!+#REF! -> #REF! | J18: =#REF!+#REF! -> #REF! | N18: =#REF!-#REF! -> #REF!
B19: 대외협력담당관 | C19: 450511 | D19: =SUMIFS('16년1추 일입'!$N$7:$N$566,'16년1추 일입'!$B$7:$B$566,'15년총괄표(실국별)'!$B19) -> 0 | E19: =SUMIFS('16년1추 일입'!$O$7:$O$566,'16년1추 일입'!$B$7:$B$566,'15년총괄표(실국별)'!$B19) -> 0 | F19: =SUMIFS('16년 1추일출'!$N$8:$N$565,'16년 1추일출'!$B$8:$B$565,'15년총괄표(실국별)'!$B19) -> 0 | G19: =SUMIFS('16년 1추일출'!$O$8:$O$565,'16년 1추일출'!$B$8:$B$565,'15년총괄표(실국별)'!$B19) -> 0 | H19: =C19+F19+G19 -> 450511
B20: 보건복지국 | C20: 2803637639 | D20: =SUMIFS('16년1추 일입'!$N$7:$N$566,'16년1추 일입'!$B$7:$B$566,'15년총괄표(실국별)'!$B20) -> 0 | E20: =SUMIFS('16년1추 일입'!$O$7:$O$566,'16년1추 일입'!$B$7:$B$566,'15년총괄표(실국별)'!$B20) -> 0 | F20: =SUMIFS('16년 1추일출'!$N$8:$N$565,'16년 1추일출'!$B$8:$B$565,'15년총괄표(실국별)'!$B20) -> 0 | G20: =SUMIFS('16년 1추일출'!$O$8:$O$565,'16년 1추일출'!$B$8:$B$565,'15년총괄표(실국별)'!$B20) -> 0 | H20: =C20+F20+G20 -> 2803637639
B21: 환경국 | C21: 96522924 | D21: =SUMIFS('16년1추 일입'!$N$7:$N$566,'16년1추 일입'!$B$7:$B$566,'15년총괄표(실국별)'!$B21) -> 0 | E21: =SUMIFS('16년1추 일입'!$O$7:$O$566,'16년1추 일입'!$B$7:$B$566,'15년총괄표(실국별)'!$B21) -> 0 | F21: =SUMIFS('16년 1추일출'!$N$8:$N$565,'16년 1추일출'!$B$8:$B$565,'15년총괄표(실국별)'!$B21) -> 0 | G21: =SUMIFS('16년 1추일출'!$O$8:$O$565,'16년 1추일출'!$B$8:$B$565,'15년총괄표(실국별)'!$B21) -> 0 | H21: =C21+F21+G21 -> 96522924 | N21: 기금
B22: 여성가족국 | C22: 1454395771 | D22: =SUMIFS('16년1추 일입'!$N$7:$N$566,'16년1추 일입'!$B$7:$B$566,'15년총괄표(실국별)'!$B22) -> 0 | E22: =SUMIFS('16년1추 일입'!$O$7:$O$566,'16년1추 일입'!$B$7:$B$566,'15년총괄표(실국별)'!$B22) -> 0 | F22: =SUMIFS('16년 1추일출'!$N$8:$N$565,'16년 1추일출'!$B$8:$B$565,'15년총괄표(실국별)'!$B22) -> 0 | G22: =SUMIFS('16년 1추일출'!$O$8:$O$565,'16년 1추일출'!$B$8:$B$565,'15년총괄표(실국별)'!$B22) -> 0 | H22: =C22+F22+G22 -> 1454395771 | N22: =N18-#REF! -> #REF!
B23: 농업기술원 | C23: 35645539 | D23: =SUMIFS('16년1추 일입'!$N$7:$N$566,'16년1추 일입'!$B$7:$B$566,'15년총괄표(실국별)'!$B23) -> 0 | E23: =SUMIFS('16년1추 일입'!$O$7:$O$566,'16년1추 일입'!$B$7:$B$566,'15년총괄표(실국별)'!$B23) -> 0 | F23: =SUMIFS('16년 1추일출'!$N$8:$N$565,'16년 1추일출'!$B$8:$B$565,'15년총괄표(실국별)'!$B23) -> 0 | G23: =SUMIFS('16년 1추일출'!$O$8:$O$565,'16년 1추일출'!$B$8:$B$565,'15년총괄표(실국별)'!$B23) -> 0 | H23: =C23+F23+G23 -> 35645539
B24: 인재개발원 | C24: 10314647 | D24: =SUMIFS('16년1추 일입'!$N$7:$N$566,'16년1추 일입'!$B$7:$B$566,'15년총괄표(실국별)'!$B24) -> 0 | E24: =SUMIFS('16년1추 일입'!$O$7:$O$566,'16년1추 일입'!$B$7:$B$566,'15년총괄표(실국별)'!$B24) -> 0 | F24: =SUMIFS('16년 1추일출'!$N$8:$N$565,'16년 1추일출'!$B$8:$B$565,'15년총괄표(실국별)'!$B24) -> 0 | G24: =SUMIFS('16년 1추일출'!$O$8:$O$565,'16년 1추일출'!$B$8:$B$565,'15년총괄표(실국별)'!$B24) -> 0 | H24: =C24+F24+G24 -> 10314647
B25: 보건환경연구원 | C25: 8202067 | D25: =SUMIFS('16년1추 일입'!$N$7:$N$566,'16년1추 일입'!$B$7:$B$566,'15년총괄표(실국별)'!$B25) -> 0 | E25: =SUMIFS('16년1추 일입'!$O$7:$O$566,'16년1추 일입'!$B$7:$B$566,'15년총괄표(실국별)'!$B25) -> 0 | F25: =SUMIFS('16년 1추일출'!$N$8:$N$565,'16년 1추일출'!$B$8:$B$565,'15년총괄표(실국별)'!$B25) -> 0 | G25: =SUMIFS('16년 1추일출'!$O$8:$O$565,'16년 1추일출'!$B$8:$B$565,'15년총괄표(실국별)'!$B25) -> 0 | H25: =C25+F25+G25 -> 8202067
B26: 수자원본부 | C26: 631831527 | D26: =SUMIFS('16년1추 일입'!$N$7:$N$566,'16년1추 일입'!$B$7:$B$566,'15년총괄표(실국별)'!$B26) -> 0 | E26: =SUMIFS('16년1추 일입'!$O$7:$O$566,'16년1추 일입'!$B$7:$B$566,'15년총괄표(실국별)'!$B26) -> 0 | F26: =SUMIFS('16년 1추일출'!$N$8:$N$565,'16년 1추일출'!$B$8:$B$565,'15년총괄표(실국별)'!$B26) -> 0 | G26: =SUMIFS('16년 1추일출'!$O$8:$O$565,'16년 1추일출'!$B$8:$B$565,'15년총괄표(실국별)'!$B26) -> 0 | H26: =C26+F26+G26 -> 631831527 | I26: =#REF!+#REF! -> #REF! | J26: =#REF!+#REF! -> #REF! | N26: =M2-N2 -> 0
B27: 복지여성실 | C27: 1328409175 | D27: =SUMIFS('16년1추 일입'!$N$7:$N$566,'16년1추 일입'!$B$7:$B$566,'15년총괄표(실국별)'!$B27) -> 0 | E27: =SUMIFS('16년1추 일입'!$O$7:$O$566,'16년1추 일입'!$B$7:$B$566,'15년총괄표(실국별)'!$B27) -> 0 | F27: =SUMIFS('16년 1추일출'!$N$8:$N$565,'16년 1추일출'!$B$8:$B$565,'15년총괄표(실국별)'!$B27) -> 0 | G27: =SUMIFS('16년 1추일출'!$O$8:$O$565,'16년 1추일출'!$B$8:$B$565,'15년총괄표(실국별)'!$B27) -> 0 | H27: =C27+F27+G27 -> 1328409175
B28: 균형발전기획실 | C28: 223863128 | D28: =SUMIFS('16년1추 일입'!$N$7:$N$566,'16년1추 일입'!$B$7:$B$566,'15년총괄표(실국별)'!$B28) -> 0 | E28: =SUMIFS('16년1추 일입'!$O$7:$O$566,'16년1추 일입'!$B$7:$B$566,'15년총괄표(실국별)'!$B28) -> 0 | F28: =SUMIFS('16년 1추일출'!$N$8:$N$565,'16년 1추일출'!$B$8:$B$565,'15년총괄표(실국별)'!$B28) -> -10000000 | G28: =SUMIFS('16년 1추일출'!$O$8:$O$565,'16년 1추일출'!$B$8:$B$565,'15년총괄표(실국별)'!$B28) -> 0 | H28: =C28+F28+G28 -> 213863128
B29: 경제실 | C29: 506163851 | D29: =SUMIFS('16년1추 일입'!$N$7:$N$566,'16년1추 일입'!$B$7:$B$566,'15년총괄표(실국별)'!$B29) -> 0 | E29: =SUMIFS('16년1추 일입'!$O$7:$O$566,'16년1추 일입'!$B$7:$B$566,'15년총괄표(실국별)'!$B29) -> 0 | F29: =SUMIFS('16년 1추일출'!$N$8:$N$565,'16년 1추일출'!$B$8:$B$565,'15년총괄표(실국별)'!$B29) -> 0 | G29: =SUMIFS('16년 1추일출'!$O$8:$O$565,'16년 1추일출'!$B$8:$B$565,'15년총괄표(실국별)'!$B29) -> 0 | H29: =C29+F29+G29 -> 506163851 | N29: 기금
B30: 축산산림국 | C30: 165426798 | D30: =SUMIFS('16년1추 일입'!$N$7:$N$566,'16년1추 일입'!$B$7:$B$566,'15년총괄표(실국별)'!$B30) -> 0 | E30: =SUMIFS('16년1추 일입'!$O$7:$O$566,'16년1추 일입'!$B$7:$B$566,'15년총괄표(실국별)'!$B30) -> 0 | F30: =SUMIFS('16년 1추일출'!$N$8:$N$565,'16년 1추일출'!$B$8:$B$565,'15년총괄표(실국별)'!$B30) -> 0 | G30: =SUMIFS('16년 1추일출'!$O$8:$O$565,'16년 1추일출'!$B$8:$B$565,'15년총괄표(실국별)'!$B30) -> 0 | H30: =C30+F30+G30 -> 165426798 | N30: =N26-K2 -> 0
B31: 교통국 | C31: 466950444 | D31: =SUMIFS('16년1추 일입'!$N$7:$N$566,'16년1추 일입'!$B$7:$B$566,'15년총괄표(실국별)'!$B31) -> 0 | E31: =SUMIFS('16년1추 일입'!$O$7:$O$566,'16년1추 일입'!$B$7:$B$566,'15년총괄표(실국별)'!$B31) -> 0 | F31: =SUMIFS('16년 1추일출'!$N$8:$N$565,'16년 1추일출'!$B$8:$B$565,'15년총괄표(실국별)'!$B31) -> 0 | G31: =SUMIFS('16년 1추일출'!$O$8:$O$565,'16년 1추일출'!$B$8:$B$565,'15년총괄표(실국별)'!$B31) -> 0 | H31: =C31+F31+G31 -> 466950444 | I31: =#REF!+#REF! -> #REF! | J31: =#REF!+#REF! -> #REF! | N31: =M7-N7 -> #REF!
B32: 건설국 | C32: 570450422 | D32: =SUMIFS('16년1추 일입'!$N$7:$N$566,'16년1추 일입'!$B$7:$B$566,'15년총괄표(실국별)'!$B32) -> 0 | E32: =SUMIFS('16년1추 일입'!$O$7:$O$566,'16년1추 일입'!$B$7:$B$566,'15년총괄표(실국별)'!$B32) -> 0 | F32: =SUMIFS('16년 1추일출'!$N$8:$N$565,'16년 1추일출'!$B$8:$B$565,'15년총괄표(실국별)'!$B32) -> -5000000 | G32: =SUMIFS('16년 1추일출'!$O$8:$O$565,'16년 1추일출'!$B$8:$B$565,'15년총괄표(실국별)'!$B32) -> 5000000 | H32: =C32+F32+G32 -> 570450422
B33: 건설본부 | C33: 48696301 | D33: =SUMIFS('16년1추 일입'!$N$7:$N$566,'16년1추 일입'!$B$7:$B$566,'15년총괄표(실국별)'!$B33) -> 0 | E33: =SUMIFS('16년1추 일입'!$O$7:$O$566,'16년1추 일입'!$B$7:$B$566,'15년총괄표(실국별)'!$B33) -> 0 | F33: =SUMIFS('16년 1추일출'!$N$8:$N$565,'16년 1추일출'!$B$8:$B$565,'15년총괄표(실국별)'!$B33) -> 0 | G33: =SUMIFS('16년 1추일출'!$O$8:$O$565,'16년 1추일출'!$B$8:$B$565,'15년총괄표(실국별)'!$B33) -> 0 | H33: =C33+F33+G33 -> 48696301
B37: 실국명 | C37: 일반 | D37: 기특 | E37: 공특 | F37: 합계
B38: 총합계 | C38: =SUM(C39:C64) -> 14504760931 | D38: =SUM(D39:D64) -> 1174065395 | E38: =SUM(E39:E64) -> 2139712389 | F38: =SUM(C38:E38) -> 17818538715
B39: 감사관 | C39: 1230140 | F39: =SUM(C39:E39) -> 1230140
B40: 기획조정실 | C40: 3253514147 | E40: 1741536684 | F40: =SUM(C40:E40) -> 4995050831
B41: 도시주택실 | C41: 302743533 | D41: 14731912 | E41: 33000000 | F41: =SUM(C41:E41) -> 350475445
B42: 자치행정국 | C42: 489102362 | F42: =SUM(C42:E42) -> 489102362
B43: 교육협력국 | C43: 1957985774 | D43: 166414000 | F43: =SUM(C43:E43) -> 2124399774
B44: 문화체육관광국 | C44: 246448826 | E44: 62624435 | F44: =SUM(C44:E44) -> 309073261
B45: 농정해양국 | C45: 255604029 | F45: =SUM(C45:E45) -> 255604029
B46: 철도국 | C46: 205393587 | F46: =SUM(C46:E46) -> 205393587
B47: 재난안전본부 | C47: =635730961+1074501+3040529+54258964 -> 694104955 | F47: =SUM(C47:E47) -> 694104955
B48: 의회사무처 | C48: 30412373 | F48: =SUM(C48:E48) -> 30412373
B49: 대변인 | C49: 12731214 | F49: =SUM(C49:E49) -> 12731214
B50: 대외협력담당관 | C50: 450511 | F50: =SUM(C50:E50) -> 450511
B51: 보건복지국 | C51: 1966943221 | D51: 836694418 | F51: =SUM(C51:E51) -> 2803637639
B52: 환경국 | C52: 96522924 | F52: =SUM(C52:E52) -> 96522924
B53: 여성가족국 | C53: 1454395771 | F53: =SUM(C53:E53) -> 1454395771
B54: 농업기술원 | C54: 35645539 | F54: =SUM(C54:E54) -> 35645539
B55: 인재개발원 | C55: 10314647 | F55: =SUM(C55:E55) -> 10314647
B56: 보건환경연구원 | C56: 8202067 | F56: =SUM(C56:E56) -> 8202067
B57: 수자원본부 | C57: 627640527 | D57: 4191000 | F57: =SUM(C57:E57) -> 631831527
B58: 복지여성실 | C58: 1328409175 | F58: =SUM(C58:E58) -> 1328409175
B59: 균형발전기획실 | C59: 199572128 | D59: 24291000 | F59: =SUM(C59:E59) -> 223863128
B60: 경제실 | C60: 203612581 | E60: 302551270 | F60: =SUM(C60:E60) -> 506163851
B61: 축산산림국 | C61: 165426798 | F61: =SUM(C61:E61) -> 165426798
B62: 교통국 | C62: 341380444 | D62: 125570000 | F62: =SUM(C62:E62) -> 466950444
B63: 건설국 | C63: 568277357 | D63: 2173065 | F63: =SUM(C63:E63) -> 570450422
B64: 건설본부 | C64: 48696301 | F64: =SUM(C64:E64) -> 48696301
I164: ◦ 본청 83,000 증 ◦ 북부청 377,000 증
K294: -50000

Sheet 예산안 표지
A4: 예결위 예산안 조정 결과
B6: - 2016년도 제1회 경기도 추가경정예산안
A12: 예산결산특별위원회

Sheet 16년 1추총괄표
A1: 2016년도 제1회 추가경정예산안(총괄)
A3: □ 총 괄 | C3: 세입예산 증감 | D3: =SUM(C7:D7) -> 144000000 | E3: 세출예산증감 | F3: =SUM(E7:F7) -> 144000000
E4: ※ 예비비 증감 | G4: (단위 : 천원)
A5: 구 분 | B5: 집행부제출(안) | C5: 세입예산(안) | E5: 세출예산(안) | G5: 수정예산(안) | I5: ※ 예산안 증감현황
C6: 감 액 | D6: 증 액 | E6: 감 액 | F6: 증 액 | I6: 구 분 | J6: 세입 | K6: 세출 | L6: 예비비 | M6: 비고
A7: 합 계 | B7: =SUM(B8:B17) -> 19097508620 | C7: =SUM(C8:C17) -> -10000000 | D7: =SUM(D8:D17) -> 154000000 | E7: =SUM(E8:E17) -> -29000000 | F7: =SUM(F8:F17) -> 173000000 | G7: =SUM(G8:G17) -> 19241508620 | I7: 합 계 | J7: =SUM(J8:J9) -> 144000000 | K7: =SUM(K8:K9) -> 144000000 | L7: =J7-K7 -> 0
A8: 의회운영위원회 | B8: 56153139 | C8: =SUMIFS('16년1추 일입'!$N$7:$N$15,'16년1추 일입'!$A$7:$A$15,$A8)+SUMIFS('16년 1추특입'!$N$7:$N$12,'16년 1추특입'!$A$7:$A$12,$A8) -> 0 | D8: =SUMIFS('16년1추 일입'!$O$7:$O$15,'16년1추 일입'!$A$7:$A$15,$A8)+SUMIFS('16년 1추특입'!$O$7:$O$12,'16년 1추특입'!$A$7:$A$12,$A8) -> 0 | E8: =SUMIFS('16년 1추일출'!$N$7:$N$28,'16년 1추일출'!$A$7:$A$28,$A8)+SUMIFS('16년 1추특출'!$N$7:$N$12,'16년 1추특출'!$A$7:$A$12,$A8) -> 0 | F8: =SUMIFS('16년 1추일출'!$O$7:$O$28,'16년 1추일출'!$A$7:$A$28,$A8)+SUMIFS('16년 1추특출'!$O$7:$O$12,'16년 1추특출'!$A$7:$A$12,$A8) -> 0 | G8: =B8+E8+F8 -> 56153139 | I8: 일반회계 | J8: =SUM(C24:D24) -> 140000000 | K8: =SUM(E24:F24) -> 140000000 | L8: =J8-K8 -> 0
A9: 기획재정위원회 | B9: 5482100057 | C9: =SUMIFS('16년1추 일입'!$N$7:$N$15,'16년1추 일입'!$A$7:$A$15,$A9)+SUMIFS('16년 1추특입'!$N$7:$N$12,'16년 1추특입'!$A$7:$A$12,$A9) -> -10000000 | D9: =SUMIFS('16년1추 일입'!$O$7:$O$15,'16년1추 일입'!$A$7:$A$15,$A9)+SUMIFS('16년 1추특입'!$O$7:$O$12,'16년 1추특입'!$A$7:$A$12,$A9) -> 0 | E9: =SUMIFS('16년 1추일출'!$N$7:$N$28,'16년 1추일출'!$A$7:$A$28,$A9)+SUMIFS('16년 1추특출'!$N$7:$N$12,'16년 1추특출'!$A$7:$A$12,$A9) -> -22921030 | F9: =SUMIFS('16년 1추일출'!$O$7:$O$28,'16년 1추일출'!$A$7:$A$28,$A9)+SUMIFS('16년 1추특출'!$O$7:$O$12,'16년 1추특출'!$A$7:$A$12,$A9) -> 53800000 | G9: =B9+E9+F9 -> 5512979027 | I9: 특별회계 | J9: =SUM(C25:D25) -> 4000000 | K9: =SUM(E25:F25) -> 4000000 | L9: =J9-K9 -> 0
A10: 경제과학기술위원회 | B10: 522015656 | C10: =SUMIFS('16년1추 일입'!$N$7:$N$15,'16년1추 일입'!$A$7:$A$15,$A10)+SUMIFS('16년 1추특입'!$N$7:$N$12,'16년 1추특입'!$A$7:$A$12,$A10) -> 0 | D10: =SUMIFS('16년1추 일입'!$O$7:$O$15,'16년1추 일입'!$A$7:$A$15,$A10)+SUMIFS('16년 1추특입'!$O$7:$O$12,'16년 1추특입'!$A$7:$A$12,$A10) -> 0 | E10: =SUMIFS('16년 1추일출'!$N$7:$N$28,'16년 1추일출'!$A$7:$A$28,$A10)+SUMIFS('16년 1추특출'!$N$7:$N$12,'16년 1추특출'!$A$7:$A$12,$A10) -> 0 | F10: =SUMIFS('16년 1추일출'!$O$7:$O$28,'16년 1추일출'!$A$7:$A$28,$A10)+SUMIFS('16년 1추특출'!$O$7:$O$12,'16년 1추특출'!$A$7:$A$12,$A10) -> 0 | G10: =B10+E10+F10 -> 522015656
A11: 안전행정위원회 | B11: 1445519843 | C11: =SUMIFS('16년1추 일입'!$N$7:$N$15,'16년1추 일입'!$A$7:$A$15,$A11)+SUMIFS('16년 1추특입'!$N$7:$N$12,'16년 1추특입'!$A$7:$A$12,$A11) -> 0 | D11: =SUMIFS('16년1추 일입'!$O$7:$O$15,'16년1추 일입'!$A$7:$A$15,$A11)+SUMIFS('16년 1추특입'!$O$7:$O$12,'16년 1추특입'!$A$7:$A$12,$A11) -> 140000000 | E11: =SUMIFS('16년 1추일출'!$N$7:$N$28,'16년 1추일출'!$A$7:$A$28,$A11)+SUMIFS('16년 1추특출'!$N$7:$N$12,'16년 1추특출'!$A$7:$A$12,$A11) -> 0 | F11: =SUMIFS('16년 1추일출'!$O$7:$O$28,'16년 1추일출'!$A$7:$A$28,$A11)+SUMIFS('16년 1추특출'!$O$7:$O$12,'16년 1추특출'!$A$7:$A$12,$A11) -> 4200000 | G11: =B11+E11+F11 -> 1449719843
A12: 문화체육관광위원회 | B12: 364940130 | C12: =SUMIFS('16년1추 일입'!$N$7:$N$15,'16년1추 일입'!$A$7:$A$15,$A12)+SUMIFS('16년 1추특입'!$N$7:$N$12,'16년 1추특입'!$A$7:$A$12,$A12) -> 0 | D12: =SUMIFS('16년1추 일입'!$O$7:$O$15,'16년1추 일입'!$A$7:$A$15,$A12)+SUMIFS('16년 1추특입'!$O$7:$O$12,'16년 1추특입'!$A$7:$A$12,$A12) -> 14000000 | E12: =SUMIFS('16년 1추일출'!$N$7:$N$28,'16년 1추일출'!$A$7:$A$28,$A12)+SUMIFS('16년 1추특출'!$N$7:$N$12,'16년 1추특출'!$A$7:$A$12,$A12) -> 0 | F12: =SUMIFS('16년 1추일출'!$O$7:$O$28,'16년 1추일출'!$A$7:$A$28,$A12)+SUMIFS('16년 1추특출'!$O$7:$O$12,'16년 1추특출'!$A$7:$A$12,$A12) -> 28000000 | G12: =B12+E12+F12 -> 392940130
A13: 농정해양위원회 | B13: 499643803 | C13: =SUMIFS('16년1추 일입'!$N$7:$N$15,'16년1추 일입'!$A$7:$A$15,$A13)+SUMIFS('16년 1추특입'!$N$7:$N$12,'16년 1추특입'!$A$7:$A$12,$A13) -> 0 | D13: =SUMIFS('16년1추 일입'!$O$7:$O$15,'16년1추 일입'!$A$7:$A$15,$A13)+SUMIFS('16년 1추특입'!$O$7:$O$12,'16년 1추특입'!$A$7:$A$12,$A13) -> 0 | E13: =SUMIFS('16년 1추일출'!$N$7:$N$28,'16년 1추일출'!$A$7:$A$28,$A13)+SUMIFS('16년 1추특출'!$N$7:$N$12,'16년 1추특출'!$A$7:$A$12,$A13) -> 0 | F13: =SUMIFS('16년 1추일출'!$O$7:$O$28,'16년 1추일출'!$A$7:$A$28,$A13)+SUMIFS('16년 1추특출'!$O$7:$O$12,'16년 1추특출'!$A$7:$A$12,$A13) -> 0 | G13: =B13+E13+F13 -> 499643803
A14: 보건복지위원회 | B14: 3966689029 | C14: =SUMIFS('16년1추 일입'!$N$7:$N$15,'16년1추 일입'!$A$7:$A$15,$A14)+SUMIFS('16년 1추특입'!$N$7:$N$12,'16년 1추특입'!$A$7:$A$12,$A14) -> 0 | D14: =SUMIFS('16년1추 일입'!$O$7:$O$15,'16년1추 일입'!$A$7:$A$15,$A14)+SUMIFS('16년 1추특입'!$O$7:$O$12,'16년 1추특입'!$A$7:$A$12,$A14) -> 0 | E14: =SUMIFS('16년 1추일출'!$N$7:$N$28,'16년 1추일출'!$A$7:$A$28,$A14)+SUMIFS('16년 1추특출'!$N$7:$N$12,'16년 1추특출'!$A$7:$A$12,$A14) -> 0 | F14: =SUMIFS('16년 1추일출'!$O$7:$O$28,'16년 1추일출'!$A$7:$A$28,$A14)+SUMIFS('16년 1추특출'!$O$7:$O$12,'16년 1추특출'!$A$7:$A$12,$A14) -> 0 | G14: =B14+E14+F14 -> 3966689029 | I14: 구 분 | J14: 세입예산 | K14: 세출예산 | L14: 잔액
A15: 건설교통위원회 | B15: 1408356074 | C15: =SUMIFS('16년1추 일입'!$N$7:$N$15,'16년1추 일입'!$A$7:$A$15,$A15)+SUMIFS('16년 1추특입'!$N$7:$N$12,'16년 1추특입'!$A$7:$A$12,$A15) -> 0 | D15: =SUMIFS('16년1추 일입'!$O$7:$O$15,'16년1추 일입'!$A$7:$A$15,$A15)+SUMIFS('16년 1추특입'!$O$7:$O$12,'16년 1추특입'!$A$7:$A$12,$A15) -> 0 | E15: =SUMIFS('16년 1추일출'!$N$7:$N$28,'16년 1추일출'!$A$7:$A$28,$A15)+SUMIFS('16년 1추특출'!$N$7:$N$12,'16년 1추특출'!$A$7:$A$12,$A15) -> -5000000 | F15: =SUMIFS('16년 1추일출'!$O$7:$O$28,'16년 1추일출'!$A$7:$A$28,$A15)+SUMIFS('16년 1추특출'!$O$7:$O$12,'16년 1추특출'!$A$7:$A$12,$A15) -> 5000000 | G15: =B15+E15+F15 -> 1408356074 | I15: 예산증감 | J15: 30000000
A16: 도시환경위원회 | B16: 975016046 | C16: =SUMIFS('16년1추 일입'!$N$7:$N$15,'16년1추 일입'!$A$7:$A$15,$A16)+SUMIFS('16년 1추특입'!$N$7:$N$12,'16년 1추특입'!$A$7:$A$12,$A16) -> 0 | D16: =SUMIFS('16년1추 일입'!$O$7:$O$15,'16년1추 일입'!$A$7:$A$15,$A16)+SUMIFS('16년 1추특입'!$O$7:$O$12,'16년 1추특입'!$A$7:$A$12,$A16) -> 0 | E16: =SUMIFS('16년 1추일출'!$N$7:$N$28,'16년 1추일출'!$A$7:$A$28,$A16)+SUMIFS('16년 1추특출'!$N$7:$N$12,'16년 1추특출'!$A$7:$A$12,$A16) -> 0 | F16: =SUMIFS('16년 1추일출'!$O$7:$O$28,'16년 1추일출'!$A$7:$A$28,$A16)+SUMIFS('16년 1추특출'!$O$7:$O$12,'16년 1추특출'!$A$7:$A$12,$A16) -> 0 | G16: =B16+E16+F16 -> 975016046
A17: 여성가족교육협력위원회 | B17: 4377074843 | C17: =SUMIFS('16년1추 일입'!$N$7:$N$15,'16년1추 일입'!$A$7:$A$15,$A17)+SUMIFS('16년 1추특입'!$N$7:$N$12,'16년 1추특입'!$A$7:$A$12,$A17) -> 0 | D17: =SUMIFS('16년1추 일입'!$O$7:$O$15,'16년1추 일입'!$A$7:$A$15,$A17)+SUMIFS('16년 1추특입'!$O$7:$O$12,'16년 1추특입'!$A$7:$A$12,$A17) -> 0 | E17: =SUMIFS('16년 1추일출'!$N$7:$N$28,'16년 1추일출'!$A$7:$A$28,$A17)+SUMIFS('16년 1추특출'!$N$7:$N$12,'16년 1추특출'!$A$7:$A$12,$A17) -> -1078970 | F17: =SUMIFS('16년 1추일출'!$O$7:$O$28,'16년 1추일출'!$A$7:$A$28,$A17)+SUMIFS('16년 1추특출'!$O$7:$O$12,'16년 1추특출'!$A$7:$A$12,$A17) -> 82000000 | G17: =B17+E17+F17 -> 4457995873
A19: □ 회계별 예산 총 규모
G20: (단위 : 천원)
A21: 구 분 | B21: 집행부제출(안) | C21: 세입예산(안) | E21: 세출예산(안) | G21: 수정예산(안)
C22: 감 액 | D22: 증 액 | E22: 감 액 | F22: 증 액
A23: 합 계 | B23: =SUM(B24:B25) -> 19097508620 | C23: =SUM(C24:C25) -> -10000000 | D23: =SUM(D24:D25) -> 154000000 | E23: =SUM(E24:E25) -> -29000000 | F23: =SUM(F24:F25) -> 173000000 | G23: =SUM(G24:G25) -> 19241508620
A24: 일반회계 | B24: 15567362577 | C24: ='16년1추 일입'!N6 -> 0 | D24: ='16년1추 일입'!O6 -> 140000000 | E24: ='16년 1추일출'!N6 -> -19000000 | F24: ='16년 1추일출'!O6 -> 159000000 | G24: =B24+E24+F24 -> 15707362577
A25: 특별회계 | B25: 3530146043 | C25: ='16년 1추특입'!N6 -> -10000000 | D25: ='16년 1추특입'!O6 -> 14000000 | E25: ='16년 1추특출'!N6 -> -10000000 | F25: ='16년 1추특출'!O6 -> 14000000 | G25: =B25+E25+F25 -> 3534146043
A28: ※ 회계별, 위원회별 집행부제출안
A29: 위원회명 | B29: 합계 | C29: 일반+기타 | D29: 일반회계 | E29: 기타특별회계 | F29: 공기업특별회계
A30: 합계 | B30: =SUM(B31:B40) -> 192153139 | C30: =SUM(C31:C40) -> 192153139 | D30: =SUM(D31:D40) -> 142153139 | E30: =SUM(E31:E40) -> 50000000 | F30: =SUM(F31:F40) -> 0
A31: 의회운영위원회 | B31: =SUM(D31+E31+F31) -> 56153139 | C31: =SUM(D31:E31) -> 56153139 | D31: 56153139
A32: 기획재정위원회 | B32: =SUM(D32+E32+F32) -> 54654130 | C32: =SUM(D32:E32) -> 54654130 | D32: 4654130 | E32: 50000000
A33: 경제과학기술위원회 | B33: =SUM(D33+E33+F33) -> 25850000 | C33: =SUM(D33:E33) -> 25850000 | D33: 25850000
A34: 안전행정위원회 | B34: =SUM(D34+E34+F34) -> 2580000 | C34: =SUM(D34:E34) -> 2580000 | D34: 2580000
A35: 문화체육관광위원회 | B35: =SUM(D35+E35+F35) -> 6000000 | C35: =SUM(D35:E35) -> 6000000 | D35: 6000000
A36: 농정해양위원회 | B36: =SUM(D36+E36+F36) -> 3075870 | C36: =SUM(D36:E36) -> 3075870 | D36: 3075870
A37: 보건복지위원회 | B37: =SUM(D37+E37+F37) -> 0 | C37: =SUM(D37:E37) -> 0
A38: 건설교통위원회 | B38: =SUM(D38+E38+F38) -> 31000000 | C38: =SUM(D38:E38) -> 31000000 | D38: 31000000
A39: 도시환경위원회 | B39: =SUM(D39+E39+F39) -> 0 | C39: =SUM(D39:E39) -> 0
A40: 여성가족교육협력위원회 | B40: =SUM(D40+E40+F40) -> 12840000 | C40: =SUM(D40:E40) -> 12840000 | D40: 12840000
A42: 예비비
B43: =SUM(B7-B23) -> 0

Sheet 16년1추 일입
A1: 2016년도 제1회 추경 경기도 일반회계 세입 예산 조정(안)
A2: □세입예산 | U2: 세입 = 세출 | Z2: 세입 = 세출
K3: =COUNTA(K7:K15)-10 -> -10 | L3: =COUNTA(L7:L15)-10 -> -10 | N3: =COUNTA(N7:N15)-10 -> -10 | O3: =COUNTA(O7:O15)-10 -> -9 | R3: (단위 : 천원) | U3: =IF(U6='16년 1추일출'!$W$6,"OK","@@") -> OK | V3: =SUM(U6:V6) -> 0 | W3: =IF(COUNTIF(W6:W837,"@@")>0,"@@","OK") -> OK | Z3: =IF(Z6='16년 1추일출'!$AB$6,"OK","@@") -> OK | AA3: =SUM(Z6:AA6) -> 140000000 | AB3: =IF(COUNTIF(AB6:AB837,"@@")>0,"@@","OK") -> OK | AJ3: =IF(U6=AJ6,"OK","@@") -> OK | AN3: =IF(Z6=AN6,"OK","@@") -> OK
A4: 위원회명 | B4: 실국명 | C4: 부서명 | D4: 편성 구분 | E4: 예산안 페이지 | F4: 사 업 설명서 | G4: 세부사업명 및 부기명 | H4: 제1회 추경 예산안 (가) | I4: 기정액 (나) | J4: 제1회 추경 증감액 (다=가-나) | K4: 상임위 예산안 조정액(나) | M4: 상임위 조정 예산안 (마=가or나+라) | N4: 예결위 예산안 조정액(라) | P4: 예결위 조정 예산안 (마=가or나+라) | Q4: 동의 대상 | R4: 비고(부대의견) | T4: 재원 | U4: 상임위 재원별 증감액 | Y4: 재원 | Z4: 예결위 재원별 증감액 | AD4: 세입번호 | AF4: 실국부서 코드 | AH4: 추가 내시 등 | AJ4: 상임위 세입 검증 | AN4: 예결위 세입 검증
K5: 감액 | L5: 증액 | N5: 감액 | O5: 증액 | U5: 국비 등 | V5: 도 비 | W5: 검증 | Z5: 국비 등 | AA5: 도 비 | AB5: 검증 | AJ5: 국비 증감액 | AK5: 건수 | AL5: 검증 | AN5: 국비 증감액 | AO5: 건수 | AP5: 검증
H6: =SUM(H7:H15) -> 4428600000 | I6: =SUM(I7:I15) -> 4342600000 | J6: =SUM(J7:J15) -> 86000000 | K6: =SUM(K7:K15) -> 0 | L6: =SUM(L7:L15) -> 0 | M6: =SUM(M7:M15) -> 4428600000 | N6: =SUM(N7:N15) -> 0 | O6: =SUM(O7:O15) -> 140000000 | P6: =SUM(P7:P15) -> 4568600000 | U6: =SUBTOTAL(9,U7:U749) -> 0 | V6: =SUBTOTAL(9,V7:V749) -> 0 | W6: =IF((K6+L6)=(U6+V6),"OK","검토") -> OK | Z6: =SUBTOTAL(9,Z7:Z749) -> 0 | AA6: =SUBTOTAL(9,AA7:AA749) -> 140000000 | AB6: =IF((N6+O6)=(Z6+AA6),"OK","검토") -> OK | AJ6: =SUBTOTAL(9,AJ7:AJ749) -> 0 | AK6: =SUBTOTAL(9,AK7:AK15) -> 0 | AL6: =IF(COUNTIF($AL$7:$AL$9860,"@@")>0,"@@","OK") -> OK | AN6: =SUBTOTAL(9,AN7:AN749) -> 0 | AO6: =SUBTOTAL(9,AO7:AO15) -> 0 | AP6: =IF(COUNTIF($AP$7:$AP$9860,"@@")>0,"@@","OK") -> OK
A7: 안전행정위원회 | B7: 자치행정국 | C7: 세정과 | D7: 1회추경 | G7: 지방세수입 - 취득세 | H7: 4428600000 | I7: 4342600000 | J7: =IF(D7="","",H7-I7) -> 86000000 | M7: =IF(H7=0,I7+K7+L7,H7+K7+L7) -> 4428600000 | O7: 140000000 | P7: =IF(H7=0,I7+N7+O7,H7+N7+O7) -> 4568600000 | T7: 도비 | U7: 0 | V7: 0 | W7: =IF($AD7="국도비","ok",IF(($K7+$L7)=($U7+$V7),"ok","검토")) -> ok | Y7: 도비 | Z7: =IF($Y7<>"도비",IF($AD7="국도비","직접입력",SUM($N7:$O7)),) -> 0 | AA7: =IF($Y7="도비",SUM($N7:$O7),IF($AD7="국도비","직접입력",SUM($N7:$O7)-$Z7)) -> 140000000 | AB7: =IF($AD7="국도비","ok",IF(($N7+$O7)=($Z7+$AA7),"ok","검토")) -> ok | AF7: {=IFERROR(IF($C7="","",INDEX(구분표!$I$2:$I$1001,MATCH(1,(구분표!$B$2:$B$1001='16년1추 일입'!$A7)*(구분표!$C$2:$C$1001='16년1추 일입'!$B7)*(구분표!$A$2:$A$1001='16년1추 일입'!$C7),0))),"@@")} -> 0805 | AJ7: =IF(AD7="","",SUMIFS('16년 1추일출'!$W$8:$W$9184,'16년 1추일출'!$AF$8:$AF$9184,'16년1추 일입'!$AD7)) | AK7: =IF(AD7="","",IF(AD7="세입없음","",COUNTIF('16년 1추일출'!$AF$8:$AF$9184,'16년1추 일입'!$AD7))) | AL7: =IF(U7=0,"OK",IF(U7=AJ7,"OK","@@")) -> OK | AN7: =IF(AD7="","",SUMIFS('16년 1추일출'!$AB$8:$AB$9184,'16년 1추일출'!$AF$8:$AF$9184,'16년1추 일입'!$AD7)) | AO7: =IF(AD7="","",IF(AD7="세입없음","",COUNTIF('16년 1추일출'!$AF$8:$AF$9184,'16년1추 일입'!$AD7))) | AP7: =IF(Z7=0,"OK",IF(Z7=AN7,"OK","@@")) -> OK
J8: =IF(D8="","",H8-I8) | M8: =IF(H8=0,I8+K8+L8,H8+K8+L8) -> 0 | P8: =IF(H8=0,I8+N8+O8,H8+N8+O8) -> 0 | U8: 0 | V8: 0 | W8: =IF($AD8="국도비","ok",IF(($K8+$L8)=($U8+$V8),"ok","검토")) -> ok | Y8: =$T8 -> 0 | Z8: =IF($Y8<>"도비",IF($AD8="국도비","직접입력",SUM($N8:$O8)),) -> 0 | AA8: =IF($Y8="도비",SUM($N8:$O8),IF($AD8="국도비","직접입력",SUM($N8:$O8)-$Z8)) -> 0 | AB8: =IF($AD8="국도비","ok",IF(($N8+$O8)=($Z8+$AA8),"ok","검토")) -> ok | AD8: =IF(AF8="","",IF($T8="도비","세입없음",$AF8&"-"&TEXT(COUNTIF(AF$7:AF8,AF$7:AF8),"00"))) | AF8: {=IFERROR(IF($C8="","",INDEX(구분표!$I$2:$I$1001,MATCH(1,(구분표!$B$2:$B$1001='16년1추 일입'!$A8)*(구분표!$C$2:$C$1001='16년1추 일입'!$B8)*(구분표!$A$2:$A$1001='16년1추 일입'!$C8),0))),"@@")} | AJ8: =IF(AD8="","",SUMIFS('16년 1추일출'!$W$8:$W$9184,'16년 1추일출'!$AF$8:$AF$9184,'16년1추 일입'!$AD8)) | AK8: 0 | AL8: =IF(U8=0,"OK",IF(U8=AJ8,"OK","@@")) -> OK | AN8: =IF(AD8="","",SUMIFS('16년 1추일출'!$AB$8:$AB$9184,'16년 1추일출'!$AF$8:$AF$9184,'16년1추 일입'!$AD8)) | AO8: 0 | AP8: =IF(Z8=0,"OK",IF(Z8=AN8,"OK","@@")) -> OK
J9: =IF(D9="","",H9-I9) | M9: =IF(H9=0,I9+K9+L9,H9+K9+L9) -> 0 | P9: =IF(H9=0,I9+N9+O9,H9+N9+O9) -> 0 | U9: =IF($T9<>"도비",IF($AD9="국도비","직접입력",SUM($K9:$L9)),) -> 0 | V9: =IF($T9="도비",SUM($K9:$L9),IF($AD9="국도비","직접입력",SUM($K9:$L9)-$U9)) -> 0 | W9: =IF($AD9="국도비","ok",IF(($K9+$L9)=($U9+$V9),"ok","검토")) -> ok | Y9: =$T9 -> 0 | Z9: =IF($Y9<>"도비",IF($AD9="국도비","직접입력",SUM($N9:$O9)),) -> 0 | AA9: =IF($Y9="도비",SUM($N9:$O9),IF($AD9="국도비","직접입력",SUM($N9:$O9)-$Z9)) -> 0 | AB9: =IF($AD9="국도비","ok",IF(($N9+$O9)=($Z9+$AA9),"ok","검토")) -> ok | AD9: =IF(AF9="","",IF($T9="도비","세입없음",$AF9&"-"&TEXT(COUNTIF(AF$7:AF9,AF$7:AF9),"00"))) | AF9: {=IFERROR(IF($C9="","",INDEX(구분표!$I$2:$I$1001,MATCH(1,(구분표!$B$2:$B$1001='16년1추 일입'!$A9)*(구분표!$C$2:$C$1001='16년1추 일입'!$B9)*(구분표!$A$2:$A$1001='16년1추 일입'!$C9),0))),"@@")} | AJ9: =IF(AD9="","",SUMIFS('16년 1추일출'!$W$8:$W$9184,'16년 1추일출'!$AF$8:$AF$9184,'16년1추 일입'!$AD9)) | AK9: =IF(AD9="","",IF(AD9="세입없음","",COUNTIF('16년 1추일출'!$AF$8:$AF$9184,'16년1추 일입'!$AD9))) | AL9: =IF(U9=0,"OK",IF(U9=AJ9,"OK","@@")) -> OK | AN9: =IF(AD9="","",SUMIFS('16년 1추일출'!$AB$8:$AB$9184,'16년 1추일출'!$AF$8:$AF$9184,'16년1추 일입'!$AD9)) | AO9: =IF(AD9="","",IF(AD9="세입없음","",COUNTIF('16년 1추일출'!$AF$8:$AF$9184,'16년1추 일입'!$AD9))) | AP9: =IF(Z9=0,"OK",IF(Z9=AN9,"OK","@@")) -> OK
J10: =IF(D10="","",H10-I10) | M10: =IF(H10=0,I10+K10+L10,H10+K10+L10) -> 0 | P10: =IF(H10=0,I10+N10+O10,H10+N10+O10) -> 0 | U10: =IF($T10<>"도비",IF($AD10="국도비","직접입력",SUM($K10:$L10)),) -> 0 | V10: =IF($T10="도비",SUM($K10:$L10),IF($AD10="국도비","직접입력",SUM($K10:$L10)-$U10)) -> 0 | W10: =IF($AD10="국도비","ok",IF(($K10+$L10)=($U10+$V10),"ok","검토")) -> ok | Y10: =$T10 -> 0 | Z10: =IF($Y10<>"도비",IF($AD10="국도비","직접입력",SUM($N10:$O10)),) -> 0 | AA10: =IF($Y10="도비",SUM($N10:$O10),IF($AD10="국도비","직접입력",SUM($N10:$O10)-$Z10)) -> 0 | AB10: =IF($AD10="국도비","ok",IF(($N10+$O10)=($Z10+$AA10),"ok","검토")) -> ok | AD10: =IF(AF10="","",IF($T10="도비","세입없음",$AF10&"-"&TEXT(COUNTIF(AF$7:AF10,AF$7:AF10),"00"))) | AF10: {=IFERROR(IF($C10="","",INDEX(구분표!$I$2:$I$1001,MATCH(1,(구분표!$B$2:$B$1001='16년1추 일입'!$A10)*(구분표!$C$2:$C$1001='16년1추 일입'!$B10)*(구분표!$A$2:$A$1001='16년1추 일입'!$C10),0))),"@@")} | AJ10: =IF(AD10="","",SUMIFS('16년 1추일출'!$W$8:$W$9184,'16년 1추일출'!$AF$8:$AF$9184,'16년1추 일입'!$AD10)) | AK10: =IF(AD10="","",IF(AD10="세입없음","",COUNTIF('16년 1추일출'!$AF$8:$AF$9184,'16년1추 일입'!$AD10))) | AL10: =IF(U10=0,"OK",IF(U10=AJ10,"OK","@@")) -> OK | AN10: =IF(AD10="","",SUMIFS('16년 1추일출'!$AB$8:$AB$9184,'16년 1추일출'!$AF$8:$AF$9184,'16년1추 일입'!$AD10)) | AO10: =IF(AD10="","",IF(AD10="세입없음","",COUNTIF('16년 1추일출'!$AF$8:$AF$9184,'16년1추 일입'!$AD10))) | AP10: =IF(Z10=0,"OK",IF(Z10=AN10,"OK","@@")) -> OK
J11: =IF(D11="","",H11-I11) | M11: =IF(H11=0,I11+K11+L11,H11+K11+L11) -> 0 | P11: =IF(H11=0,I11+N11+O11,H11+N11+O11) -> 0 | U11: =IF($T11<>"도비",IF($AD11="국도비","직접입력",SUM($K11:$L11)),) -> 0 | V11: =IF($T11="도비",SUM($K11:$L11),IF($AD11="국도비","직접입력",SUM($K11:$L11)-$U11)) -> 0 | W11: =IF($AD11="국도비","ok",IF(($K11+$L11)=($U11+$V11),"ok","검토")) -> ok | Y11: =$T11 -> 0 | Z11: =IF($Y11<>"도비",IF($AD11="국도비","직접입력",SUM($N11:$O11)),) -> 0 | AA11: =IF($Y11="도비",SUM($N11:$O11),IF($AD11="국도비","직접입력",SUM($N11:$O11)-$Z11)) -> 0 | AB11: =IF($AD11="국도비","ok",IF(($N11+$O11)=($Z11+$AA11),"ok","검토")) -> ok | AD11: =IF(AF11="","",IF($T11="도비","세입없음",$AF11&"-"&TEXT(COUNTIF(AF$7:AF11,AF$7:AF11),"00"))) | AF11: {=IFERROR(IF($C11="","",INDEX(구분표!$I$2:$I$1001,MATCH(1,(구분표!$B$2:$B$1001='16년1추 일입'!$A11)*(구분표!$C$2:$C$1001='16년1추 일입'!$B11)*(구분표!$A$2:$A$1001='16년1추 일입'!$C11),0))),"@@")} | AJ11: =IF(AD11="","",SUMIFS('16년 1추일출'!$W$8:$W$9184,'16년 1추일출'!$AF$8:$AF$9184,'16년1추 일입'!$AD11)) | AK11: =IF(AD11="","",IF(AD11="세입없음","",COUNTIF('16년 1추일출'!$AF$8:$AF$9184,'16년1추 일입'!$AD11))) | AL11: =IF(U11=0,"OK",IF(U11=AJ11,"OK","@@")) -> OK | AN11: =IF(AD11="","",SUMIFS('16년 1추일출'!$AB$8:$AB$9184,'16년 1추일출'!$AF$8:$AF$9184,'16년1추 일입'!$AD11)) | AO11: =IF(AD11="","",IF(AD11="세입없음","",COUNTIF('16년 1추일출'!$AF$8:$AF$9184,'16년1추 일입'!$AD11))) | AP11: =IF(Z11=0,"OK",IF(Z11=AN11,"OK","@@")) -> OK
J12: =IF(D12="","",H12-I12) | M12: =IF(H12=0,I12+K12+L12,H12+K12+L12) -> 0 | P12: =IF(H12=0,I12+N12+O12,H12+N12+O12) -> 0 | U12: =IF($T12<>"도비",IF($AD12="국도비","직접입력",SUM($K12:$L12)),) -> 0 | V12: =IF($T12="도비",SUM($K12:$L12),IF($AD12="국도비","직접입력",SUM($K12:$L12)-$U12)) -> 0 | W12: =IF($AD12="국도비","ok",IF(($K12+$L12)=($U12+$V12),"ok","검토")) -> ok | Y12: =$T12 -> 0 | Z12: =IF($Y12<>"도비",IF($AD12="국도비","직접입력",SUM($N12:$O12)),) -> 0 | AA12: =IF($Y12="도비",SUM($N12:$O12),IF($AD12="국도비","직접입력",SUM($N12:$O12)-$Z12)) -> 0 | AB12: =IF($AD12="국도비","ok",IF(($N12+$O12)=($Z12+$AA12),"ok","검토")) -> ok | AD12: =IF(AF12="","",IF($T12="도비","세입없음",$AF12&"-"&TEXT(COUNTIF(AF$7:AF12,AF$7:AF12),"00"))) | AF12: {=IFERROR(IF($C12="","",INDEX(구분표!$I$2:$I$1001,MATCH(1,(구분표!$B$2:$B$1001='16년1추 일입'!$A12)*(구분표!$C$2:$C$1001='16년1추 일입'!$B12)*(구분표!$A$2:$A$1001='16년1추 일입'!$C12),0))),"@@")} | AJ12: =IF(AD12="","",SUMIFS('16년 1추일출'!$W$8:$W$9184,'16년 1추일출'!$AF$8:$AF$9184,'16년1추 일입'!$AD12)) | AK12: =IF(AD12="","",IF(AD12="세입없음","",COUNTIF('16년 1추일출'!$AF$8:$AF$9184,'16년1추 일입'!$AD12))) | AL12: =IF(U12=0,"OK",IF(U12=AJ12,"OK","@@")) -> OK | AN12: =IF(AD12="","",SUMIFS('16년 1추일출'!$AB$8:$AB$9184,'16년 1추일출'!$AF$8:$AF$9184,'16년1추 일입'!$AD12)) | AO12: =IF(AD12="","",IF(AD12="세입없음","",COUNTIF('16년 1추일출'!$AF$8:$AF$9184,'16년1추 일입'!$AD12))) | AP12: =IF(Z12=0,"OK",IF(Z12=AN12,"OK","@@")) -> OK
J13: =IF(D13="","",H13-I13) | M13: =IF(H13=0,I13+K13+L13,H13+K13+L13) -> 0 | P13: =IF(H13=0,I13+N13+O13,H13+N13+O13) -> 0 | U13: =IF($T13<>"도비",IF($AD13="국도비","직접입력",SUM($K13:$L13)),) -> 0 | V13: =IF($T13="도비",SUM($K13:$L13),IF($AD13="국도비","직접입력",SUM($K13:$L13)-$U13)) -> 0 | W13: =IF($AD13="국도비","ok",IF(($K13+$L13)=($U13+$V13),"ok","검토")) -> ok | Y13: =$T13 -> 0 | Z13: =IF($Y13<>"도비",IF($AD13="국도비","직접입력",SUM($N13:$O13)),) -> 0 | AA13: =IF($Y13="도비",SUM($N13:$O13),IF($AD13="국도비","직접입력",SUM($N13:$O13)-$Z13)) -> 0 | AB13: =IF($AD13="국도비","ok",IF(($N13+$O13)=($Z13+$AA13),"ok","검토")) -> ok | AD13: =IF(AF13="","",IF($T13="도비","세입없음",$AF13&"-"&TEXT(COUNTIF(AF$7:AF13,AF$7:AF13),"00"))) | AF13: {=IFERROR(IF($C13="","",INDEX(구분표!$I$2:$I$1001,MATCH(1,(구분표!$B$2:$B$1001='16년1추 일입'!$A13)*(구분표!$C$2:$C$1001='16년1추 일입'!$B13)*(구분표!$A$2:$A$1001='16년1추 일입'!$C13),0))),"@@")} | AJ13: =IF(AD13="","",SUMIFS('16년 1추일출'!$W$8:$W$9184,'16년 1추일출'!$AF$8:$AF$9184,'16년1추 일입'!$AD13)) | AK13: =IF(AD13="","",IF(AD13="세입없음","",COUNTIF('16년 1추일출'!$AF$8:$AF$9184,'16년1추 일입'!$AD13))) | AL13: =IF(U13=0,"OK",IF(U13=AJ13,"OK","@@")) -> OK | AN13: =IF(AD13="","",SUMIFS('16년 1추일출'!$AB$8:$AB$9184,'16년 1추일출'!$AF$8:$AF$9184,'16년1추 일입'!$AD13)) | AO13: =IF(AD13="","",IF(AD13="세입없음","",COUNTIF('16년 1추일출'!$AF$8:$AF$9184,'16년1추 일입'!$AD13))) | AP13: =IF(Z13=0,"OK",IF(Z13=AN13,"OK","@@")) -> OK
J14: =IF(D14="","",H14-I14) | M14: =IF(H14=0,I14+K14+L14,H14+K14+L14) -> 0 | P14: =IF(H14=0,I14+N14+O14,H14+N14+O14) -> 0 | U14: =IF($T14<>"도비",IF($AD14="국도비","직접입력",SUM($K14:$L14)),) -> 0 | V14: =IF($T14="도비",SUM($K14:$L14),IF($AD14="국도비","직접입력",SUM($K14:$L14)-$U14)) -> 0 | W14: =IF($AD14="국도비","ok",IF(($K14+$L14)=($U14+$V14),"ok","검토")) -> ok | Y14: =$T14 -> 0 | Z14: =IF($Y14<>"도비",IF($AD14="국도비","직접입력",SUM($N14:$O14)),) -> 0 | AA14: =IF($Y14="도비",SUM($N14:$O14),IF($AD14="국도비","직접입력",SUM($N14:$O14)-$Z14)) -> 0 | AB14: =IF($AD14="국도비","ok",IF(($N14+$O14)=($Z14+$AA14),"ok","검토")) -> ok | AD14: =IF(AF14="","",IF($T14="도비","세입없음",$AF14&"-"&TEXT(COUNTIF(AF$7:AF14,AF$7:AF14),"00"))) | AF14: {=IFERROR(IF($C14="","",INDEX(구분표!$I$2:$I$1001,MATCH(1,(구분표!$B$2:$B$1001='16년1추 일입'!$A14)*(구분표!$C$2:$C$1001='16년1추 일입'!$B14)*(구분표!$A$2:$A$1001='16년1추 일입'!$C14),0))),"@@")} | AJ14: =IF(AD14="","",SUMIFS('16년 1추일출'!$W$8:$W$9184,'16년 1추일출'!$AF$8:$AF$9184,'16년1추 일입'!$AD14)) | AK14: =IF(AD14="","",IF(AD14="세입없음","",COUNTIF('16년 1추일출'!$AF$8:$AF$9184,'16년1추 일입'!$AD14))) | AL14: =IF(U14=0,"OK",IF(U14=AJ14,"OK","@@")) -> OK | AN14: =IF(AD14="","",SUMIFS('16년 1추일출'!$AB$8:$AB$9184,'16년 1추일출'!$AF$8:$AF$9184,'16년1추 일입'!$AD14)) | AO14: =IF(AD14="","",IF(AD14="세입없음","",COUNTIF('16년 1추일출'!$AF$8:$AF$9184,'16년1추 일입'!$AD14))) | AP14: =IF(Z14=0,"OK",IF(Z14=AN14,"OK","@@")) -> OK
J15: =IF(D15="","",H15-I15) | M15: =IF(H15=0,I15+K15+L15,H15+K15+L15) -> 0 | P15: =IF(H15=0,I15+N15+O15,H15+N15+O15) -> 0 | U15: =IF($T15<>"도비",IF($AD15="국도비","직접입력",SUM($K15:$L15)),) -> 0 | V15: =IF($T15="도비",SUM($K15:$L15),IF($AD15="국도비","직접입력",SUM($K15:$L15)-$U15)) -> 0 | W15: =IF($AD15="국도비","ok",IF(($K15+$L15)=($U15+$V15),"ok","검토")) -> ok | Y15: =$T15 -> 0 | Z15: =IF($Y15<>"도비",IF($AD15="국도비","직접입력",SUM($N15:$O15)),) -> 0 | AA15: =IF($Y15="도비",SUM($N15:$O15),IF($AD15="국도비","직접입력",SUM($N15:$O15)-$Z15)) -> 0 | AB15: =IF($AD15="국도비","ok",IF(($N15+$O15)=($Z15+$AA15),"ok","검토")) -> ok | AD15: =IF(AF15="","",IF($T15="도비","세입없음",$AF15&"-"&TEXT(COUNTIF(AF$7:AF15,AF$7:AF15),"00"))) | AF15: {=IFERROR(IF($C15="","",INDEX(구분표!$I$2:$I$1001,MATCH(1,(구분표!$B$2:$B$1001='16년1추 일입'!$A15)*(구분표!$C$2:$C$1001='16년1추 일입'!$B15)*(구분표!$A$2:$A$1001='16년1추 일입'!$C15),0))),"@@")} | AJ15: =IF(AD15="","",SUMIFS('16년 1추일출'!$W$8:$W$9184,'16년 1추일출'!$AF$8:$AF$9184,'16년1추 일입'!$AD15)) | AK15: =IF(AD15="","",IF(AD15="세입없음","",COUNTIF('16년 1추일출'!$AF$8:$AF$9184,'16년1추 일입'!$AD15))) | AL15: =IF(U15=0,"OK",IF(U15=AJ15,"OK","@@")) -> OK | AN15: =IF(AD15="","",SUMIFS('16년 1추일출'!$AB$8:$AB$9184,'16년 1추일출'!$AF$8:$AF$9184,'16년1추 일입'!$AD15)) | AO15: =IF(AD15="","",IF(AD15="세입없음","",COUNTIF('16년 1추일출'!$AF$8:$AF$9184,'16년1추 일입'!$AD15))) | AP15: =IF(Z15=0,"OK",IF(Z15=AN15,"OK","@@")) -> OK

Sheet 16년 1추일출
A1: 2016년도 제1회 추경 경기도 일반회계 세출 예산 조정(안)
A2: □세출예산 | W2: 세입 = 세출 | AB2: 세입 = 세출
K3: =COUNTA(K7:K28)-10 -> 3 | L3: =COUNTA(L7:L28)-10 -> -2 | N3: =COUNTA(N7:N28)-10 -> 4 | O3: =COUNTA(O7:O28)-10 -> 2 | R3: (단위 : 천원) | W3: =IF(W6='16년1추 일입'!$U$6,"OK","@@") -> OK | X3: =SUM(W6:X6) -> 1871030 | Y3: =IF(COUNTIF(Y6:Y836,"@@")>0,"@@","OK") -> OK | AB3: =IF(AB6='16년1추 일입'!$Z$6,"OK","@@") -> OK | AC3: =SUM(AB6:AC6) -> 140000000 | AD3: =IF(COUNTIF(AD6:AD836,"@@")>0,"@@","OK") -> OK
A4: 위원회명 | B4: 실국명 | C4: 부서명 | D4: 편성 구분 | E4: 예산안 페이지 | F4: 사 업 설명서 | G4: 세부사업명 및 부기명 | H4: 제1회 추경 예산안 (가) | I4: 기정액 (나) | J4: 제1회 추경 증감액 (다=가-나) | K4: 상임위 예산안 조정액(나) | M4: 상임위 조정 예산안 (마=가or나+라) | N4: 예결위 예산안 조정액(라) | P4: 예결위 조정 예산안 (마=가or나+라) | Q4: 동의 대상 | R4: 비고(부대의견) | T4: 국도비 등 여부 | V4: 재원 | W4: 상임위 재원별 증감액 | AA4: 재원 | AB4: 예결위 재원별 증감액 | AF4: 세입 번호 | AH4: 동일 세입 건수 | AI4: 세입 번호 검증 | AK4: 위원회 부서별 정렬 | AM4: 추가 내시 등
K5: 감액 | L5: 증액 | N5: 감액 | O5: 증액 | W5: 국비 등 | X5: 도 비 | Y5: 검증 | AB5: 국비 등 | AC5: 도 비 | AD5: 검증
H6: =SUM(H7+H12+H14+H16+H18+H22) -> 3111134259 | I6: =SUM(I7+I12+I14+I16+I18+I22) -> 2975179000 | J6: =SUM(J7+J12+J14+J16+J18+J22) -> 135955259 | K6: =SUM(K7+K12+K14+K16+K18+K22) -> -17128970 | L6: =SUM(L7+L12+L14+L16+L18+L22) -> 19000000 | M6: =SUM(M7+M12+M14+M16+M18+M22) -> 3113005289 | N6: =SUM(N7+N12+N14+N16+N18+N22) -> -19000000 | O6: =SUM(O7+O12+O14+O16+O18+O22) -> 159000000 | P6: =SUM(P7+P12+P14+P16+P18+P22) -> 3251134259 | W6: =SUM(W7:W28) -> 0 | X6: =SUM(X7:X28) -> 1871030 | AB6: =SUM(AB7:AB28) -> 0 | AC6: =SUM(AC7:AC28) -> 140000000
A7: (기획재정위원회) | H7: =SUM(H8:H11) -> 2564550659 | I7: =SUM(I8:I11) -> 2468564000 | J7: =SUM(J8:J11) -> 95986659 | K7: =SUM(K8:K11) -> -11050000 | L7: =SUM(L8:L11) -> 0 | M7: =SUM(M8:M11) -> 2553500659 | N7: =SUM(N8:N11) -> -12921030 | O7: =SUM(O8:O11) -> 53800000 | P7: =SUM(P8:P11) -> 2605429629
A8: 기획재정위원회 | B8: 기획조정실 | C8: 미래전략담당관 | D8: 1회추경 | E8: 234 | F8: 9 | G8: 경기연구원 출연(자체/직접) - 경기연구원 출연금 | H8: 13050000 | J8: =IF(D8="","",H8-I8) -> 13050000 | K8: -1050000 | M8: =IF(H8=0,I8+K8+L8,H8+K8+L8) -> 12000000 | N8: -1050000 | P8: =IF(H8=0,I8+N8+O8,H8+N8+O8) -> 12000000 | T8: 도비 | V8: 도비 | W8: =IF($V8<>"도비",IF($T8="국도비","직접입력",SUM($K8:$L8)),) -> 0 | X8: =IF($V8="도비",SUM($K8:$L8),IF($T8="국도비","직접입력",SUM($K8:$L8)-$W8)) -> -1050000 | Y8: =IFERROR(IF(($K8+$L8)=($W8+$X8),"ok","검토"),"검토") -> ok | AA8: =$V8 -> 도비 | AB8: =IF($V8<>"도비",IF($T8="국도비","직접입력",SUM(N8:O8)),) -> 0 | AC8: =IF($V8="도비",SUM(N8:O8),IF($T8="국도비","직접입력",SUM(N8:O8)-AB8)) -> -1050000 | AD8: =IFERROR(IF((N8+O8)=(AB8+AC8),"ok","검토"),"검토") -> ok | AF8: 세입없음 | AH8: =IF(AF8="","",COUNTIF($AF$8:$AF$10003,$AF8)) -> 16 | AI8: =IF(C8="","",IF(AND(V8="도비",AF8="세입없음"),"OK",IF(AND(V8<>"도비",AF8<>""),"Ok","@@"))) -> OK
A9: 기획재정위원회 | B9: 균형발전기획실 | C9: 균형발전담당관 | D9: 1회추경 | E9: 240 | G9: 기타회계전출금 - 지역균형발전 특별회계 전출금 | H9: 50000000 | J9: =IF(D9="","",H9-I9) -> 50000000 | K9: -10000000 | M9: =IF(H9=0,I9+K9+L9,H9+K9+L9) -> 40000000 | N9: -10000000 | P9: =IF(H9=0,I9+N9+O9,H9+N9+O9) -> 40000000 | T9: 도비 | V9: 도비 | W9: =IF($V9<>"도비",IF($T9="국도비","직접입력",SUM($K9:$L9)),) -> 0 | X9: =IF($V9="도비",SUM($K9:$L9),IF($T9="국도비","직접입력",SUM($K9:$L9)-$W9)) -> -10000000 | Y9: =IFERROR(IF(($K9+$L9)=($W9+$X9),"ok","검토"),"검토") -> ok | AA9: 도비 | AB9: =IF($V9<>"도비",IF($T9="국도비","직접입력",SUM(N9:O9)),) -> 0 | AC9: =IF($V9="도비",SUM(N9:O9),IF($T9="국도비","직접입력",SUM(N9:O9)-AB9)) -> -10000000 | AD9: =IFERROR(IF((N9+O9)=(AB9+AC9),"ok","검토"),"검토") -> ok | AF9: 세입없음
A10: 기획재정위원회 | B10: 기획조정실 | C10: 예산담당관 | D10: 1회추경 | E10: 235 | G10: 조정교부금지원(자체/지원) - 조정교부금 | H10: 2444240659 | I10: 2411304000 | J10: =IF(D10="","",H10-I10) -> 32936659 | M10: =IF(H10=0,I10+K10+L10,H10+K10+L10) -> 2444240659 | O10: 53800000 | P10: =IF(H10=0,I10+N10+O10,H10+N10+O10) -> 2498040659 | T10: 도비 | V10: 도비 | W10: =IF($V10<>"도비",IF($T10="국도비","직접입력",SUM($K10:$L10)),) -> 0 | X10: =IF($V10="도비",SUM($K10:$L10),IF($T10="국도비","직접입력",SUM($K10:$L10)-$W10)) -> 0 | Y10: =IFERROR(IF(($K10+$L10)=($W10+$X10),"ok","검토"),"검토") -> ok | AB10: =IF($V10<>"도비",IF($T10="국도비","직접입력",SUM(N10:O10)),) -> 0 | AC10: =IF($V10="도비",SUM(N10:O10),IF($T10="국도비","직접입력",SUM(N10:O10)-AB10)) -> 53800000 | AD10: =IFERROR(IF((N10+O10)=(AB10+AC10),"ok","검토"),"검토") -> ok | AF10: 세입없음
A11: 기획재정위원회 | B11: 기획조정실 | C11: 예산담당관 | D11: 1회추경 | E11: 235 | G11: 예비비 - 예비비 | H11: 57260000 | I11: 57260000 | J11: =IF(D11="","",H11-I11) -> 0 | M11: =IF(H11=0,I11+K11+L11,H11+K11+L11) -> 57260000 | N11: -1871030 | P11: =IF(H11=0,I11+N11+O11,H11+N11+O11) -> 55388970 | T11: 도비 | V11: 도비 | W11: =IF($V11<>"도비",IF($T11="국도비","직접입력",SUM($K11:$L11)),) -> 0 | X11: =IF($V11="도비",SUM($K11:$L11),IF($T11="국도비","직접입력",SUM($K11:$L11)-$W11)) -> 0 | Y11: =IFERROR(IF(($K11+$L11)=($W11+$X11),"ok","검토"),"검토") -> ok | AB11: =IF($V11<>"도비",IF($T11="국도비","직접입력",SUM(N11:O11)),) -> 0 | AC11: =IF($V11="도비",SUM(N11:O11),IF($T11="국도비","직접입력",SUM(N11:O11)-AB11)) -> -1871030 | AD11: =IFERROR(IF((N11+O11)=(AB11+AC11),"ok","검토"),"검토") -> ok | AF11: 세입없음
A12: (경제과학기술위원회) | H12: =SUM(H13:H13) -> 8100000 | I12: =SUM(I13:I13) -> 0 | J12: =SUM(J13:J13) -> 8100000 | K12: =SUM(K13:K13) -> 0 | L12: =SUM(L13:L13) -> 0 | M12: =SUM(M13:M13) -> 8100000 | N12: =SUM(N13:N13) -> 0 | O12: =SUM(O13:O13) -> 0 | P12: =SUM(P13:P13) -> 8100000 | AH12: =IF(AF12="","",COUNTIF($AF$8:$AF$9184,$AF12)) | AI12: =IF(C12="","",IF(AND(V12="도비",AF12="세입없음"),"OK",IF(AND(V12<>"도비",AF12<>""),"Ok","@@")))
A13: 경제과학기술위원회 | B13: 경제실 | C13: 기업지원과 | D13: 1회추경 | E13: 257 | F13: 27 | G13: NEXT경기 스타트업 콜라보레이션(자체/직접) - NEXT경기 스타트업 콜라보레이션 | H13: 8100000 | J13: =IF(D13="","",H13-I13) -> 8100000 | M13: =IF(H13=0,I13+K13+L13,H13+K13+L13) -> 8100000 | P13: =IF(H13=0,I13+N13+O13,H13+N13+O13) -> 8100000 | R13: 예산 중 40억은 경기신보 특례보증 출연금으로 지원하여 10배수 운영 | T13: 도비 | V13: 도비 | W13: =IF($V13<>"도비",IF($T13="국도비","직접입력",SUM($K13:$L13)),) -> 0 | X13: =IF($V13="도비",SUM($K13:$L13),IF($T13="국도비","직접입력",SUM($K13:$L13)-$W13)) -> 0 | Y13: =IFERROR(IF(($K13+$L13)=($W13+$X13),"ok","검토"),"검토") -> ok | AA13: =$V13 -> 도비 | AB13: =IF($V13<>"도비",IF($T13="국도비","직접입력",SUM(N13:O13)),) -> 0 | AC13: =IF($V13="도비",SUM(N13:O13),IF($T13="국도비","직접입력",SUM(N13:O13)-AB13)) -> 0 | AD13: =IFERROR(IF((N13+O13)=(AB13+AC13),"ok","검토"),"검토") -> ok | AF13: 세입없음 | AH13: =IF(AF13="","",COUNTIF($AF$8:$AF$9184,$AF13)) -> 16 | AI13: =IF(C13="","",IF(AND(V13="도비",AF13="세입없음"),"OK",IF(AND(V13<>"도비",AF13<>""),"Ok","@@"))) -> OK
A14: (안전행정위원회) | H14: =SUM(H15:H15) -> 172905000 | I14: =SUM(I15:I15) -> 170325000 | J14: =SUM(J15:J15) -> 2580000 | K14: =SUM(K15:K15) -> 0 | L14: =SUM(L15:L15) -> 0 | M14: =SUM(M15:M15) -> 172905000 | N14: =SUM(N15:N15) -> 0 | O14: =SUM(O15:O15) -> 4200000 | P14: =SUM(P15:P15) -> 177105000 | AH14: =IF(AF14="","",COUNTIF($AF$8:$AF$9184,$AF14)) | AI14: =IF(C14="","",IF(AND(V14="도비",AF14="세입없음"),"OK",IF(AND(V14<>"도비",AF14<>""),"Ok","@@")))
A15: 안전행정위원회 | B15: 자치행정국 | C15: 세정과 | D15: 1회추경 | E15: 267 | G15: 지방세수증대 지원(자체/지원) - 도세징수교부금(3%) | H15: 172905000 | I15: 170325000 | J15: =IF(D15="","",H15-I15) -> 2580000 | M15: =IF(H15=0,I15+K15+L15,H15+K15+L15) -> 172905000 | O15: 4200000 | P15: =IF(H15=0,I15+N15+O15,H15+N15+O15) -> 177105000 | T15: 도비 | V15: 도비 | W15: =IF($V15<>"도비",IF($T15="국도비","직접입력",SUM($K15:$L15)),) -> 0 | X15: =IF($V15="도비",SUM($K15:$L15),IF($T15="국도비","직접입력",SUM($K15:$L15)-$W15)) -> 0 | Y15: =IFERROR(IF(($K15+$L15)=($W15+$X15),"ok","검토"),"검토") -> ok | AA15: =$V15 -> 도비 | AB15: =IF($V15<>"도비",IF($T15="국도비","직접입력",SUM(N15:O15)),) -> 0 | AC15: =IF($V15="도비",SUM(N15:O15),IF($T15="국도비","직접입력",SUM(N15:O15)-AB15)) -> 4200000 | AD15: =IFERROR(IF((N15+O15)=(AB15+AC15),"ok","검토"),"검토") -> ok | AF15: 세입없음 | AH15: =IF(AF15="","",COUNTIF($AF$8:$AF$9184,$AF15)) -> 16 | AI15: =IF(C15="","",IF(AND(V15="도비",AF15="세입없음"),"OK",IF(AND(V15<>"도비",AF15<>""),"Ok","@@"))) -> OK
A16: (문화체육관광위원회) | H16: =SUM(H17:H17) -> 0 | I16: =SUM(I17:I17) -> 0 | J16: =SUM(J17:J17) -> 0 | K16: =SUM(K17:K17) -> 0 | L16: =SUM(L17:L17) -> 14000000 | M16: =SUM(M17:M17) -> 14000000 | N16: =SUM(N17:N17) -> 0 | O16: =SUM(O17:O17) -> 14000000 | P16: =SUM(P17:P17) -> 14000000 | AH16: =IF(AF16="","",COUNTIF($AF$8:$AF$9184,$AF16)) | AI16: =IF(C16="","",IF(AND(V16="도비",AF16="세입없음"),"OK",IF(AND(V16<>"도비",AF16<>""),"Ok","@@")))
A17: 문화체육관광위원회 | B17: 문화체육관광국 | C17: 한류월드사업단 | D17: 신규 | G17: 기타회계등 전출금 -공기업특별회계 자본전출금 | J17: =IF(D17="","",H17-I17) -> 0 | L17: 14000000 | M17: =IF(H17=0,I17+K17+L17,H17+K17+L17) -> 14000000 | O17: 14000000 | P17: =IF(H17=0,I17+N17+O17,H17+N17+O17) -> 14000000 | R17: 한류월드 2구역 계약금 반환청구 소송 패소에 따른 배상금 | T17: 도비 | V17: 도비 | W17: =IF($V17<>"도비",IF($T17="국도비","직접입력",SUM($K17:$L17)),) -> 0 | X17: =IF($V17="도비",SUM($K17:$L17),IF($T17="국도비","직접입력",SUM($K17:$L17)-$W17)) -> 14000000 | Y17: =IFERROR(IF(($K17+$L17)=($W17+$X17),"ok","검토"),"검토") -> ok | AA17: =$V17 -> 도비 | AB17: =IF($V17<>"도비",IF($T17="국도비","직접입력",SUM(N17:O17)),) -> 0 | AC17: =IF($V17="도비",SUM(N17:O17),IF($T17="국도비","직접입력",SUM(N17:O17)-AB17)) -> 14000000 | AD17: =IFERROR(IF((N17+O17)=(AB17+AC17),"ok","검토"),"검토") -> ok | AF17: 세입없음 | AH17: =IF(AF17="","",COUNTIF($AF$8:$AF$9184,$AF17)) -> 16 | AI17: =IF(C17="","",IF(AND(V17="도비",AF17="세입없음"),"OK",IF(AND(V17<>"도비",AF17<>""),"Ok","@@"))) -> OK
A18: (건설교통위원회) | H18: =SUM(H19:H21) -> 35000000 | I18: =SUM(I19:I21) -> 17000000 | J18: =SUM(J19:J21) -> 18000000 | K18: =SUM(K19:K21) -> -5000000 | L18: =SUM(L19:L21) -> 5000000 | M18: =SUM(M19:M21) -> 35000000 | N18: =SUM(N19:N21) -> -5000000 | O18: =SUM(O19:O21) -> 5000000 | P18: =SUM(P19:P21) -> 35000000 | AH18: =IF(AF18="","",COUNTIF($AF$8:$AF$9184,$AF18)) | AI18: =IF(C18="","",IF(AND(V18="도비",AF18="세입없음"),"OK",IF(AND(V18<>"도비",AF18<>""),"Ok","@@")))
A19: 건설교통위원회 | B19: 건설국 | C19: 도로정책과 | D19: 1회추경 | E19: 294 | F19: 66 | G19: 동두천 상패-연천 청산 도로확포장공사(자체/지원) | H19: 15000000 | I19: 10000000 | J19: =IF(D19="","",H19-I19) -> 5000000 | K19: -5000000 | M19: =IF(H19=0,I19+K19+L19,H19+K19+L19) -> 10000000 | N19: -5000000 | P19: =IF(H19=0,I19+N19+O19,H19+N19+O19) -> 10000000 | R19: 국비내시변경 도비부담 감액 균형발전담당관-962(2016.2.16) | T19: 도비 | V19: 도비 | W19: =IF($V19<>"도비",IF($T19="국도비","직접입력",SUM($K19:$L19)),) -> 0 | X19: =IF($V19="도비",SUM($K19:$L19),IF($T19="국도비","직접입력",SUM($K19:$L19)-$W19)) -> -5000000 | Y19: =IFERROR(IF(($K19+$L19)=($W19+$X19),"ok","검토"),"검토") -> ok | AA19: =$V19 -> 도비 | AB19: =IF($V19<>"도비",IF($T19="국도비","직접입력",SUM(N19:O19)),) -> 0 | AC19: =IF($V19="도비",SUM(N19:O19),IF($T19="국도비","직접입력",SUM(N19:O19)-AB19)) -> -5000000 | AD19: =IFERROR(IF((N19+O19)=(AB19+AC19),"ok","검토"),"검토") -> ok | AF19: 세입없음 | AH19: =IF(AF19="","",COUNTIF($AF$8:$AF$9184,$AF19)) -> 16 | AI19: =IF(C19="","",IF(AND(V19="도비",AF19="세입없음"),"OK",IF(AND(V19<>"도비",AF19<>""),"Ok","@@"))) -> OK
A20: 건설교통위원회 | B20: 건설국 | C20: 도로정책과 | D20: 1회추경 | E20: 294 | F20: 67 | G20: 파주 설마-구읍 도로확포장공사(자체/직접) | H20: 15000000 | I20: 7000000 | J20: =IF(D20="","",H20-I20) -> 8000000 | L20: 5000000 | M20: =IF(H20=0,I20+K20+L20,H20+K20+L20) -> 20000000 | O20: 5000000 | P20: =IF(H20=0,I20+N20+O20,H20+N20+O20) -> 20000000 | R20: 공사추진실적 양호, 조기완공을 위해 집중투자 | T20: 도비 | V20: 도비 | W20: =IF($V20<>"도비",IF($T20="국도비","직접입력",SUM($K20:$L20)),) -> 0 | X20: =IF($V20="도비",SUM($K20:$L20),IF($T20="국도비","직접입력",SUM($K20:$L20)-$W20)) -> 5000000 | Y20: =IFERROR(IF(($K20+$L20)=($W20+$X20),"ok","검토"),"검토") -> ok | AA20: =$V20 -> 도비 | AB20: =IF($V20<>"도비",IF($T20="국도비","직접입력",SUM(N20:O20)),) -> 0 | AC20: =IF($V20="도비",SUM(N20:O20),IF($T20="국도비","직접입력",SUM(N20:O20)-AB20)) -> 5000000 | AD20: =IFERROR(IF((N20+O20)=(AB20+AC20),"ok","검토"),"검토") -> ok | AF20: 세입없음 | AH20: =IF(AF20="","",COUNTIF($AF$8:$AF$9184,$AF20)) -> 16 | AI20: =IF(C20="","",IF(AND(V20="도비",AF20="세입없음"),"OK",IF(AND(V20<>"도비",AF20<>""),"Ok","@@"))) -> OK
A21: 건설교통위원회 | B21: 건설국 | C21: 도로정책과 | D21: 1회추경 | E21: 294 | F21: 69 | G21: 파주 적성-연천 두일 도로확포장 공사(자체/직접) | H21: 5000000 | J21: =IF(D21="","",H21-I21) -> 5000000 | M21: =IF(H21=0,I21+K21+L21,H21+K21+L21) -> 5000000 | P21: =IF(H21=0,I21+N21+O21,H21+N21+O21) -> 5000000 | R21: (부대의견) 타당성 용역 결과 후 집행 | T21: 도비 | V21: 도비 | W21: =IF($V21<>"도비",IF($T21="국도비","직접입력",SUM($K21:$L21)),) -> 0 | X21: =IF($V21="도비",SUM($K21:$L21),IF($T21="국도비","직접입력",SUM($K21:$L21)-$W21)) -> 0 | Y21: =IFERROR(IF(($K21+$L21)=($W21+$X21),"ok","검토"),"검토") -> ok | AA21: =$V21 -> 도비 | AB21: =IF($V21<>"도비",IF($T21="국도비","직접입력",SUM(N21:O21)),) -> 0 | AC21: =IF($V21="도비",SUM(N21:O21),IF($T21="국도비","직접입력",SUM(N21:O21)-AB21)) -> 0 | AD21: =IFERROR(IF((N21+O21)=(AB21+AC21),"ok","검토"),"검토") -> ok | AF21: 세입없음 | AH21: =IF(AF21="","",COUNTIF($AF$8:$AF$9184,$AF21)) -> 16 | AI21: =IF(C21="","",IF(AND(V21="도비",AF21="세입없음"),"OK",IF(AND(V21<>"도비",AF21<>""),"Ok","@@"))) -> OK
A22: (여성가족교육협력위원회) | H22: =SUM(H23:H28) -> 330578600 | I22: =SUM(I23:I28) -> 319290000 | J22: =SUM(J23:J28) -> 11288600 | K22: =SUM(K23:K28) -> -1078970 | L22: =SUM(L23:L28) -> 0 | M22: =SUM(M23:M28) -> 329499630 | N22: =SUM(N23:N28) -> -1078970 | O22: =SUM(O23:O28) -> 82000000 | P22: =SUM(P23:P28) -> 411499630 | AH22: =IF(AF22="","",COUNTIF($AF$8:$AF$9184,$AF22)) | AI22: =IF(C22="","",IF(AND(V22="도비",AF22="세입없음"),"OK",IF(AND(V22<>"도비",AF22<>""),"Ok","@@")))
A23: 여성가족교육협력위원회 | B23: 교육협력국 | C23: 교육정책과 | D23: 1회추경 | E23: 314 | F23: 79 | G23: 창의테마파크 사업 추진(자체/직접) - 창의테마파크 운영 지원 | H23: 342000 | J23: =IF(D23="","",H23-I23) -> 342000 | K23: -68400 | M23: =IF(H23=0,I23+K23+L23,H23+K23+L23) -> 273600 | N23: -68400 | P23: =IF(H23=0,I23+N23+O23,H23+N23+O23) -> 273600 | R23: - 영어마을 명칭 훼손하지 않고 빈 공간을 활용하여 사업추진 할것. - 인건비를 제외한 사업은 공기관등에대한대행사업으로 추진할 것. - 예산편성 세부내역은 상임위 승인 후 집행할것. | T23: 도비 | V23: 도비 | W23: =IF($V23<>"도비",IF($T23="국도비","직접입력",SUM($K23:$L23)),) -> 0 | X23: =IF($V23="도비",SUM($K23:$L23),IF($T23="국도비","직접입력",SUM($K23:$L23)-$W23)) -> -68400 | Y23: =IFERROR(IF(($K23+$L23)=($W23+$X23),"ok","검토"),"검토") -> ok | AA23: =$V23 -> 도비 | AB23: =IF($V23<>"도비",IF($T23="국도비","직접입력",SUM(N23:O23)),) -> 0 | AC23: =IF($V23="도비",SUM(N23:O23),IF($T23="국도비","직접입력",SUM(N23:O23)-AB23)) -> -68400 | AD23: =IFERROR(IF((N23+O23)=(AB23+AC23),"ok","검토"),"검토") -> ok | AF23: 세입없음 | AH23: =IF(AF23="","",COUNTIF($AF$8:$AF$9184,$AF23)) -> 16 | AI23: =IF(C23="","",IF(AND(V23="도비",AF23="세입없음"),"OK",IF(AND(V23<>"도비",AF23<>""),"Ok","@@"))) -> OK
A24: 여성가족교육협력위원회 | B24: 교육협력국 | C24: 교육정책과 | D24: 1회추경 | E24: 314 | F24: 80 | G24: 인성테마파크 사업 추진(자체/직접) - 인성테마파크 운영 지원 | H24: 271600 | J24: =IF(D24="","",H24-I24) -> 271600 | K24: -54320 | M24: =IF(H24=0,I24+K24+L24,H24+K24+L24) -> 217280 | N24: -54320 | P24: =IF(H24=0,I24+N24+O24,H24+N24+O24) -> 217280 | R24: - 영어마을 명칭 훼손하지 않고 빈 공간을 활용하여 사업추진 할것. - 인건비를 제외한 사업은 공기관등에대한대행사업으로 추진할 것. - 예산편성 세부내역은 상임위 승인 후 집행할것. | T24: 도비 | V24: 도비 | W24: =IF($V24<>"도비",IF($T24="국도비","직접입력",SUM($K24:$L24)),) -> 0 | X24: =IF($V24="도비",SUM($K24:$L24),IF($T24="국도비","직접입력",SUM($K24:$L24)-$W24)) -> -54320 | Y24: =IFERROR(IF(($K24+$L24)=($W24+$X24),"ok","검토"),"검토") -> ok | AA24: =$V24 -> 도비 | AB24: =IF($V24<>"도비",IF($T24="국도비","직접입력",SUM(N24:O24)),) -> 0 | AC24: =IF($V24="도비",SUM(N24:O24),IF($T24="국도비","직접입력",SUM(N24:O24)-AB24)) -> -54320 | AD24: =IFERROR(IF((N24+O24)=(AB24+AC24),"ok","검토"),"검토") -> ok | AF24: 세입없음 | AH24: =IF(AF24="","",COUNTIF($AF$8:$AF$9184,$AF24)) -> 16 | AI24: =IF(C24="","",IF(AND(V24="도비",AF24="세입없음"),"OK",IF(AND(V24<>"도비",AF24<>""),"Ok","@@"))) -> OK
A25: 여성가족교육협력위원회 | B25: 교육협력국 | C25: 교육정책과 | D25: 1회추경 | E25: 315 | F25: 82 | G25: G-MOOC 사업 추진(자체/직접) - G-MOOC 추진단 운영 | H25: 1675000 | J25: =IF(D25="","",H25-I25) -> 1675000 | K25: -251250 | M25: =IF(H25=0,I25+K25+L25,H25+K25+L25) -> 1423750 | N25: -251250 | P25: =IF(H25=0,I25+N25+O25,H25+N25+O25) -> 1423750 | R25: - 예산편성 세부내역은 상임위 승인 후 집행할것. - 인건비 등 운영비를 제외한 사업은 공기관등에대한대행사업으로 추진할것 | T25: 도비 | V25: 도비 | W25: =IF($V25<>"도비",IF($T25="국도비","직접입력",SUM($K25:$L25)),) -> 0 | X25: =IF($V25="도비",SUM($K25:$L25),IF($T25="국도비","직접입력",SUM($K25:$L25)-$W25)) -> -251250 | Y25: =IFERROR(IF(($K25+$L25)=($W25+$X25),"ok","검토"),"검토") -> ok | AA25: =$V25 -> 도비 | AB25: =IF($V25<>"도비",IF($T25="국도비","직접입력",SUM(N25:O25)),) -> 0 | AC25: =IF($V25="도비",SUM(N25:O25),IF($T25="국도비","직접입력",SUM(N25:O25)-AB25)) -> -251250 | AD25: =IFERROR(IF((N25+O25)=(AB25+AC25),"ok","검토"),"검토") -> ok | AF25: 세입없음 | AH25: =IF(AF25="","",COUNTIF($AF$8:$AF$9184,$AF25)) -> 16 | AI25: =IF(C25="","",IF(AND(V25="도비",AF25="세입없음"),"OK",IF(AND(V25<>"도비",AF25<>""),"Ok","@@"))) -> OK
A26: 여성가족교육협력위원회 | B26: 교육협력국 | C26: 교육정책과 | D26: 1회추경 | E26: 315 | F26: 83 | G26: G-MOOC 사업 추진(자체/직접) - G-MOOC 사업 추진 | H26: 4700000 | J26: =IF(D26="","",H26-I26) -> 4700000 | K26: -705000 | M26: =IF(H26=0,I26+K26+L26,H26+K26+L26) -> 3995000 | N26: -705000 | P26: =IF(H26=0,I26+N26+O26,H26+N26+O26) -> 3995000 | R26: - 공무원 e러닝교육(콘텐츠제작 및 유지관리 등)은 G-MOOC사업에 포함하지 말것. - 예산편성 세부내역은 상임위 승인 후 집행할것. - 공기관등에대한 대행사업으로 추진 | T26: 도비 | V26: 도비 | W26: =IF($V26<>"도비",IF($T26="국도비","직접입력",SUM($K26:$L26)),) -> 0 | X26: =IF($V26="도비",SUM($K26:$L26),IF($T26="국도비","직접입력",SUM($K26:$L26)-$W26)) -> -705000 | Y26: =IFERROR(IF(($K26+$L26)=($W26+$X26),"ok","검토"),"검토") -> ok | AA26: =$V26 -> 도비 | AB26: =IF($V26<>"도비",IF($T26="국도비","직접입력",SUM(N26:O26)),) -> 0 | AC26: =IF($V26="도비",SUM(N26:O26),IF($T26="국도비","직접입력",SUM(N26:O26)-AB26)) -> -705000 | AD26: =IFERROR(IF((N26+O26)=(AB26+AC26),"ok","검토"),"검토") -> ok | AF26: 세입없음 | AH26: =IF(AF26="","",COUNTIF($AF$8:$AF$9184,$AF26)) -> 16 | AI26: =IF(C26="","",IF(AND(V26="도비",AF26="세입없음"),"OK",IF(AND(V26<>"도비",AF26<>""),"Ok","@@"))) -> OK
A27: 여성가족교육협력위원회 | B27: 교육협력국 | C27: 교육협력과 | D27: 신규 | G27: 교육협력사업(자체/직접) -비법정전출금 | J27: =IF(D27="","",H27-I27) -> 0 | M27: =IF(H27=0,I27+K27+L27,H27+K27+L27) -> 0 | O27: 75000000 | P27: =IF(H27=0,I27+N27+O27,H27+N27+O27) -> 75000000 | R27: (부대의견) 도와 교육청 향후 협의 | T27: 도비 | V27: 도비 | W27: =IF($V27<>"도비",IF($T27="국도비","직접입력",SUM($K27:$L27)),) -> 0 | X27: =IF($V27="도비",SUM($K27:$L27),IF($T27="국도비","직접입력",SUM($K27:$L27)-$W27)) -> 0 | Y27: =IFERROR(IF(($K27+$L27)=($W27+$X27),"ok","검토"),"검토") -> ok | AA27: =$V27 -> 도비 | AB27: =IF($V27<>"도비",IF($T27="국도비","직접입력",SUM(N27:O27)),) -> 0 | AC27: =IF($V27="도비",SUM(N27:O27),IF($T27="국도비","직접입력",SUM(N27:O27)-AB27)) -> 75000000 | AD27: =IFERROR(IF((N27+O27)=(AB27+AC27),"ok","검토"),"검토") -> ok | AF27: 세입없음 | AH27: =IF(AF27="","",COUNTIF($AF$8:$AF$9184,$AF27)) -> 16 | AI27: =IF(C27="","",IF(AND(V27="도비",AF27="세입없음"),"OK",IF(AND(V27<>"도비",AF27<>""),"Ok","@@"))) -> OK
A28: 여성가족교육협력위원회 | B28: 교육협력국 | C28: 교육정책과 | D28: 1회추경 | E28: 314 | G28: 법정 부담금(자체/직접) - 교육재정부담금 | H28: 323590000 | I28: 319290000 | J28: =IF(D28="","",H28-I28) -> 4300000 | M28: =IF(H28=0,I28+K28+L28,H28+K28+L28) -> 323590000 | O28: 7000000 | P28: =IF(H28=0,I28+N28+O28,H28+N28+O28) -> 330590000 | T28: 도비 | V28: 도비 | W28: =IF($V28<>"도비",IF($T28="국도비","직접입력",SUM($K28:$L28)),) -> 0 | X28: =IF($V28="도비",SUM($K28:$L28),IF($T28="국도비","직접입력",SUM($K28:$L28)-$W28)) -> 0 | Y28: =IFERROR(IF(($K28+$L28)=($W28+$X28),"ok","검토"),"검토") -> ok | AA28: =$V28 -> 도비 | AB28: =IF($V28<>"도비",IF($T28="국도비","직접입력",SUM(N28:O28)),) -> 0 | AC28: =IF($V28="도비",SUM(N28:O28),IF($T28="국도비","직접입력",SUM(N28:O28)-AB28)) -> 7000000 | AD28: =IFERROR(IF((N28+O28)=(AB28+AC28),"ok","검토"),"검토") -> ok | AF28: 세입없음 | AH28: =IF(AF28="","",COUNTIF($AF$8:$AF$9184,$AF28)) -> 16 | AI28: =IF(C28="","",IF(AND(V28="도비",AF28="세입없음"),"OK",IF(AND(V28<>"도비",AF28<>""),"Ok","@@"))) -> OK

Sheet 2추총괄표
B1: '14년도 제2회 추경 일반 및 특별회계 세입·세출 예산안[전체예산총괄]
B3: □ 총 괄 | D3: 세입예산증감 | E3: =SUM(D7:E7) -> #REF! | F3: 세출예산증감 | G3: =SUM(F7:G7) -> #REF!
H4: (단위:천원) | M4: (일반+특별+기금) | O4: 특별+기금
B5: 구 분 | C5: 집행부제출(안) | D5: 세입예산(안) | F5: 세출예산(안) | H5: 예산수정(안) | I5: 일반회계 증감(총괄표) | K5: 예비비증감 | L5: 비 고 | M5: 전체 증감(시트) | O5: 비고
D6: 감 액 | E6: 증 액 | F6: 감 액 | G6: 증 액 | I6: 세입 | J6: 세출 | M6: 세입 | N6: 세출
B7: 합 계 | C7: =SUM(C8:C18) -> 18076711803 | D7: =SUM(D8:D18) -> #REF! | E7: =SUM(E8:E18) -> #REF! | F7: =SUM(F8:F18) -> #REF! | G7: =SUM(G8:G18) -> #REF! | H7: =SUM(H8:H18) -> #REF! | I7: =E25+D25 -> #REF! | J7: =F25+G25 -> #REF! | K7: =I7-J7 -> #REF! | L7: 예비비 증감이 - 예산이면 감액에 + 예산이면 증액에 입력 | M7: =D24+E24 -> #REF! | N7: =F24+G24 -> #REF! | O7: 0 | P7: 0
B8: 기 타 | C8: 0 | H8: =C8-F8+G8 -> 0 | I8: =D7+E7 -> #REF! | J8: =F7+G7 -> #REF! | K8: =I8-J8 -> #REF!
B9: 의회운영위원회 | C9: 41526053 | D9: =SUMIFS(#REF!,#REF!,'2추총괄표'!$B9) -> #REF! | E9: =SUMIFS(#REF!,#REF!,'2추총괄표'!$B9) -> #REF! | F9: =SUMIFS(#REF!,#REF!,'2추총괄표'!$B9) -> #REF! | G9: =SUMIFS(#REF!,#REF!,'2추총괄표'!$B9) -> #REF! | H9: =C9+F9+G9 -> #REF! | I9: 일반회계 증감(시트) | N9: 전체 증감
B10: 기획재정위원회 | C10: 5330576319 | D10: =SUMIFS(#REF!,#REF!,'2추총괄표'!$B10) -> #REF! | E10: =SUMIFS(#REF!,#REF!,'2추총괄표'!$B10) -> #REF! | F10: =SUMIFS(#REF!,#REF!,'2추총괄표'!$B10) -> #REF! | G10: =SUMIFS(#REF!,#REF!,'2추총괄표'!$B10) -> #REF! | H10: =C10+F10+G10 -> #REF! | I10: =#REF!+#REF! -> #REF! | J10: =#REF!+#REF! -> #REF! | N10: =M7-N7 -> #REF!
B11: 경제과학기술위원회 | C11: 551253750 | D11: =SUMIFS(#REF!,#REF!,'2추총괄표'!$B11) -> #REF! | E11: =SUMIFS(#REF!,#REF!,'2추총괄표'!$B11) -> #REF! | F11: =SUMIFS(#REF!,#REF!,'2추총괄표'!$B11) -> #REF! | G11: =SUMIFS(#REF!,#REF!,'2추총괄표'!$B11) -> #REF! | H11: =C11+F11+G11 -> #REF!
B12: 안전행정위원회 | C12: 1151519175 | D12: =SUMIFS(#REF!,#REF!,'2추총괄표'!$B12) -> #REF! | E12: =SUMIFS(#REF!,#REF!,'2추총괄표'!$B12) -> #REF! | F12: =SUMIFS(#REF!,#REF!,'2추총괄표'!$B12) -> #REF! | G12: =SUMIFS(#REF!,#REF!,'2추총괄표'!$B12) -> #REF! | H12: =C12+F12+G12 -> #REF!
B13: 문화체육관광위원회 | C13: 258716894 | D13: =SUMIFS(#REF!,#REF!,'2추총괄표'!$B13) -> #REF! | E13: =SUMIFS(#REF!,#REF!,'2추총괄표'!$B13) -> #REF! | F13: =SUMIFS(#REF!,#REF!,'2추총괄표'!$B13) -> #REF! | G13: =SUMIFS(#REF!,#REF!,'2추총괄표'!$B13) -> #REF! | H13: =C13+F13+G13 -> #REF! | N13: 기금
B14: 농정해양위원회 | C14: 474291470 | D14: =SUMIFS(#REF!,#REF!,'2추총괄표'!$B14) -> #REF! | E14: =SUMIFS(#REF!,#REF!,'2추총괄표'!$B14) -> #REF! | F14: =SUMIFS(#REF!,#REF!,'2추총괄표'!$B14) -> #REF! | G14: =SUMIFS(#REF!,#REF!,'2추총괄표'!$B14) -> #REF! | H14: =C14+F14+G14 -> #REF! | N14: =N10-K7 -> #REF!
B15: 보건복지위원회 | C15: 3278893259 | D15: =SUMIFS(#REF!,#REF!,'2추총괄표'!$B15) -> #REF! | E15: =SUMIFS(#REF!,#REF!,'2추총괄표'!$B15) -> #REF! | F15: =SUMIFS(#REF!,#REF!,'2추총괄표'!$B15) -> #REF! | G15: =SUMIFS(#REF!,#REF!,'2추총괄표'!$B15) -> #REF! | H15: =C15+F15+G15 -> #REF!
B16: 건설교통위원회 | C16: 1191584285 | D16: =SUMIFS(#REF!,#REF!,'2추총괄표'!$B16) -> #REF! | E16: =SUMIFS(#REF!,#REF!,'2추총괄표'!$B16) -> #REF! | F16: =SUMIFS(#REF!,#REF!,'2추총괄표'!$B16) -> #REF! | G16: =SUMIFS(#REF!,#REF!,'2추총괄표'!$B16) -> #REF! | H16: =C16+F16+G16 -> #REF!
B17: 도시환경위원회 | C17: 898421829 | D17: =SUMIFS(#REF!,#REF!,'2추총괄표'!$B17) -> #REF! | E17: =SUMIFS(#REF!,#REF!,'2추총괄표'!$B17) -> #REF! | F17: =SUMIFS(#REF!,#REF!,'2추총괄표'!$B17) -> #REF! | G17: =SUMIFS(#REF!,#REF!,'2추총괄표'!$B17) -> #REF! | H17: =C17+F17+G17 -> #REF!
B18: 여성가족교육협력위원회 | C18: 4899928769 | D18: =SUMIFS(#REF!,#REF!,'2추총괄표'!$B18) -> #REF! | E18: =SUMIFS(#REF!,#REF!,'2추총괄표'!$B18) -> #REF! | F18: =SUMIFS(#REF!,#REF!,'2추총괄표'!$B18) -> #REF! | G18: =SUMIFS(#REF!,#REF!,'2추총괄표'!$B18) -> #REF! | H18: =C18+F18+G18 -> #REF!
B20: □ 회계별 예산총규모
H21: (단위:천원)
B22: 구 분 | C22: 세출예산액 (집행부제출 안) | D22: 세입예산(안) | F22: 세출예산(안) | H22: 예산수정(안)
D23: 감 액 | E23: 증 액 | F23: 감 액 | G23: 증 액 | I23: 세입기준 수정예산안
B24: 합 계 | C24: =SUM(C25:C26) -> 0 | D24: =SUM(D25:D26) -> #REF! | E24: =SUM(E25:E26) -> #REF! | F24: =SUM(F25:F26) -> #REF! | G24: =SUM(G25:G26) -> #REF! | H24: =SUM(H25:H26) -> #REF! | I24: =C24+D24+E24 -> #REF! | J24: =I24-H24 -> #REF! | K24: (세출기준-세입기준)
B25: 일반회계 | D25: =#REF! -> #REF! | E25: =#REF! -> #REF! | F25: =#REF! -> #REF! | G25: =#REF! -> #REF! | H25: =C25+F25+G25 -> #REF! | I25: =C25+D25+E25 -> #REF! | J25: =I25-H25 -> #REF! | K25: (세출기준-세입기준)
B26: 특별회계 | H26: =C26+F26+G26 -> 0 | I26: =C26+D26+E26 -> 0 | J26: =I26-H26 -> 0 | K26: (세출기준-세입기준)
B30: 위원회명 | C30: 일반+기특 | D30: 공기업 | E30: 합계
B31: 의회운영위원회 | C31: 39922113 | E31: =SUM(C31:D31) -> 39922113
B32: 기획재정위원회 | C32: 3302571667 | D32: 1780946434 | E32: =SUM(C32:D32) -> 5083518101
B33: 경제과학기술위원회 | C33: 155329320 | D33: 384743740 | E33: =SUM(C33:D33) -> 540073060
B34: 안전행정위원회 | C34: 1142858974 | E34: =SUM(C34:D34) -> 1142858974
B35: 문화체육관광위원회 | C35: 224243208 | D35: 52484400 | E35: =SUM(C35:D35) -> 276727608
B36: 농정해양위원회 | C36: 466978999 | E36: =SUM(C36:D36) -> 466978999
B37: 보건복지위원회 | C37: 3254006708 | E37: =SUM(C37:D37) -> 3254006708
B38: 건설교통위원회 | C38: 1220859831 | E38: =SUM(C38:D38) -> 1220859831
B39: 도시환경위원회 | C39: 866963933 | D39: 28360000 | E39: =SUM(C39:D39) -> 895323933
B40: 여성가족평생교육위원회 | C40: 4882582917 | E40: =SUM(C40:D40) -> 4882582917
B41: 총합계 | C41: =SUM(C31:C40) -> 15556317670 | D41: =SUM(D31:D40) -> 2246534574 | E41: =SUM(C41:D41) -> 17802852244
B43: 예비비 | C43: =3922478-221377 -> 3701101
B54: 위원회명 | C54: 일반 | D54: 기특 | E54: 공특 | F54: 합계
B56: 총합계 | C56: =SUM(C57:C66) -> 14571523178 | D56: =SUM(D57:D66) -> 1223711435 | E56: =SUM(E57:E66) -> 2281477190 | F56: =SUM(C56:E56) -> 18076711803
B57: 의회운영위원회 | C57: 41526053 | F57: =SUM(C57:E57) -> 41526053
B58: 기획재정위원회 | C58: 3471558203 | D58: 15000000 | E58: 1844018116 | F58: =SUM(C58:E58) -> 5330576319
B59: 경제과학기술위원회 | C59: 166510010 | E59: 384743740 | F59: =SUM(C59:E59) -> 551253750
B60: 안전행정위원회 | C60: 1151519175 | F60: =SUM(C60:E60) -> 1151519175
B61: 문화체육관광위원회 | C61: 234366028 | E61: 24350866 | F61: =SUM(C61:E61) -> 258716894
B62: 농정해양위원회 | C62: 474291470 | F62: =SUM(C62:E62) -> 474291470
B63: 보건복지위원회 | C63: 2439677682 | D63: 839215577 | F63: =SUM(C63:E63) -> 3278893259
B64: 건설교통위원회 | C64: 1093857927 | D64: 97726358 | F64: =SUM(C64:E64) -> 1191584285
B65: 도시환경위원회 | C65: 845217861 | D65: 24839500 | E65: 28364468 | F65: =SUM(C65:E65) -> 898421829
B66: 여성가족교육협력위원회 | C66: 4652998769 | D66: 246930000 | F66: =SUM(C66:E66) -> 4899928769
I160: ◦ 본청 83,000 증 ◦ 북부청 377,000 증
K290: -50000

Sheet 2추총괄표(실국별)
B1: '14년도 제2회 추경 일반 및 특별회계 세입·세출 예산안[전체예산총괄]
B3: □ 총괄(실국별) | E3: =SUM(D7:E7) -> #REF! | G3: =SUM(F7:G7) -> #REF!
H4: (단위:천원) | M4: (일반+특별+기금) | O4: 특별+기금
B5: 구 분 | C5: 집행부제출(안) | D5: 세입예산(안) | F5: 세출예산(안) | H5: 예산수정(안) | I5: 일반회계 증감(총괄표) | K5: 예비비증감 | L5: 비 고 | M5: 전체 증감(시트) | O5: 비고
D6: 감 액 | E6: 증 액 | F6: 감 액 | G6: 증 액 | I6: 세입 | J6: 세출 | M6: 세입 | N6: 세출
B7: 합 계 | C7: =SUM(C8:C33) -> 18076711803 | D7: =SUM(D8:D33) -> #REF! | E7: =SUM(E8:E33) -> #REF! | F7: =SUM(F8:F33) -> #REF! | G7: =SUM(G8:G33) -> #REF! | H7: =SUM(H8:H33) -> #REF! | I7: =#REF!+#REF! -> #REF! | J7: =#REF!+#REF! -> #REF! | K7: =I7-J7 -> #REF! | L7: 예비비 증감이 - 예산이면 감액에 + 예산이면 증액에 입력 | M7: =#REF!+#REF! -> #REF! | N7: =#REF!+#REF! -> #REF! | O7: 0 | P7: 0
B8: 감사관 | C8: 914581 | D8: =SUMIFS(#REF!,#REF!,'2추총괄표(실국별)'!$B8) -> #REF! | E8: =SUMIFS(#REF!,#REF!,'2추총괄표(실국별)'!$B8) -> #REF! | F8: =SUMIFS(#REF!,#REF!,'2추총괄표(실국별)'!$B8) -> #REF! | G8: =SUMIFS(#REF!,#REF!,'2추총괄표(실국별)'!$B8) -> #REF! | H8: =C8+F8+G8 -> #REF! | I8: 일반회계 증감(시트) | N8: 전체 증감
B9: 기획조정실 | C9: 5144786053 | D9: =SUMIFS(#REF!,#REF!,'2추총괄표(실국별)'!$B9) -> #REF! | E9: =SUMIFS(#REF!,#REF!,'2추총괄표(실국별)'!$B9) -> #REF! | F9: =SUMIFS(#REF!,#REF!,'2추총괄표(실국별)'!$B9) -> #REF! | G9: =SUMIFS(#REF!,#REF!,'2추총괄표(실국별)'!$B9) -> #REF! | H9: =C9+F9+G9 -> #REF! | I9: =#REF!+#REF! -> #REF! | J9: =#REF!+#REF! -> #REF! | N9: =#REF!-#REF! -> #REF!
B10: 도시주택실 | C10: 221255441 | D10: =SUMIFS(#REF!,#REF!,'2추총괄표(실국별)'!$B10) -> #REF! | E10: =SUMIFS(#REF!,#REF!,'2추총괄표(실국별)'!$B10) -> #REF! | F10: =SUMIFS(#REF!,#REF!,'2추총괄표(실국별)'!$B10) -> #REF! | G10: =SUMIFS(#REF!,#REF!,'2추총괄표(실국별)'!$B10) -> #REF! | H10: =C10+F10+G10 -> #REF! | I10: =#REF!+#REF! -> #REF! | J10: =#REF!+#REF! -> #REF! | N10: =#REF!-#REF! -> #REF!
B11: 자치행정국 | C11: 547246549 | D11: =SUMIFS(#REF!,#REF!,'2추총괄표(실국별)'!$B11) -> #REF! | E11: =SUMIFS(#REF!,#REF!,'2추총괄표(실국별)'!$B11) -> #REF! | F11: =SUMIFS(#REF!,#REF!,'2추총괄표(실국별)'!$B11) -> #REF! | G11: =SUMIFS(#REF!,#REF!,'2추총괄표(실국별)'!$B11) -> #REF! | H11: =C11+F11+G11 -> #REF!
B12: 교육협력국 | C12: 2339199089 | D12: =SUMIFS(#REF!,#REF!,'2추총괄표(실국별)'!$B12) -> #REF! | E12: =SUMIFS(#REF!,#REF!,'2추총괄표(실국별)'!$B12) -> #REF! | F12: =SUMIFS(#REF!,#REF!,'2추총괄표(실국별)'!$B12) -> #REF! | G12: =SUMIFS(#REF!,#REF!,'2추총괄표(실국별)'!$B12) -> #REF! | H12: =C12+F12+G12 -> #REF!
B13: 문화체육관광국 | C13: 258716894 | D13: =SUMIFS(#REF!,#REF!,'2추총괄표(실국별)'!$B13) -> #REF! | E13: =SUMIFS(#REF!,#REF!,'2추총괄표(실국별)'!$B13) -> #REF! | F13: =SUMIFS(#REF!,#REF!,'2추총괄표(실국별)'!$B13) -> #REF! | G13: =SUMIFS(#REF!,#REF!,'2추총괄표(실국별)'!$B13) -> #REF! | H13: =C13+F13+G13 -> #REF! | N13: 기금
B14: 농정해양국 | C14: 250268892 | D14: =SUMIFS(#REF!,#REF!,'2추총괄표(실국별)'!$B14) -> #REF! | E14: =SUMIFS(#REF!,#REF!,'2추총괄표(실국별)'!$B14) -> #REF! | F14: =SUMIFS(#REF!,#REF!,'2추총괄표(실국별)'!$B14) -> #REF! | G14: =SUMIFS(#REF!,#REF!,'2추총괄표(실국별)'!$B14) -> #REF! | H14: =C14+F14+G14 -> #REF! | N14: =N10-#REF! -> #REF!
B15: 철도국 | C15: 97467509 | D15: =SUMIFS(#REF!,#REF!,'2추총괄표(실국별)'!$B15) -> #REF! | E15: =SUMIFS(#REF!,#REF!,'2추총괄표(실국별)'!$B15) -> #REF! | F15: =SUMIFS(#REF!,#REF!,'2추총괄표(실국별)'!$B15) -> #REF! | G15: =SUMIFS(#REF!,#REF!,'2추총괄표(실국별)'!$B15) -> #REF! | H15: =C15+F15+G15 -> #REF!
B16: 재난안전본부 | C16: 577186012 | D16: =SUMIFS(#REF!,#REF!,'2추총괄표(실국별)'!$B16) -> #REF! | E16: =SUMIFS(#REF!,#REF!,'2추총괄표(실국별)'!$B16) -> #REF! | F16: =SUMIFS(#REF!,#REF!,'2추총괄표(실국별)'!$B16) -> #REF! | G16: =SUMIFS(#REF!,#REF!,'2추총괄표(실국별)'!$B16) -> #REF! | H16: =C16+F16+G16 -> #REF!
B17: 의회사무처 | C17: 29891138 | D17: =SUMIFS(#REF!,#REF!,'2추총괄표(실국별)'!$B17) -> #REF! | E17: =SUMIFS(#REF!,#REF!,'2추총괄표(실국별)'!$B17) -> #REF! | F17: =SUMIFS(#REF!,#REF!,'2추총괄표(실국별)'!$B17) -> #REF! | G17: =SUMIFS(#REF!,#REF!,'2추총괄표(실국별)'!$B17) -> #REF! | H17: =C17+F17+G17 -> #REF!
B18: 대변인 | C18: 11250846 | D18: =SUMIFS(#REF!,#REF!,'2추총괄표(실국별)'!$B18) -> #REF! | E18: =SUMIFS(#REF!,#REF!,'2추총괄표(실국별)'!$B18) -> #REF! | F18: =SUMIFS(#REF!,#REF!,'2추총괄표(실국별)'!$B18) -> #REF! | G18: =SUMIFS(#REF!,#REF!,'2추총괄표(실국별)'!$B18) -> #REF! | H18: =C18+F18+G18 -> #REF! | I18: =#REF!+#REF! -> #REF! | J18: =#REF!+#REF! -> #REF! | N18: =#REF!-#REF! -> #REF!
B19: 대외협력담당관 | C19: 384069 | D19: =SUMIFS(#REF!,#REF!,'2추총괄표(실국별)'!$B19) -> #REF! | E19: =SUMIFS(#REF!,#REF!,'2추총괄표(실국별)'!$B19) -> #REF! | F19: =SUMIFS(#REF!,#REF!,'2추총괄표(실국별)'!$B19) -> #REF! | G19: =SUMIFS(#REF!,#REF!,'2추총괄표(실국별)'!$B19) -> #REF! | H19: =C19+F19+G19 -> #REF!
B20: 보건복지국 | C20: 2582006910 | D20: =SUMIFS(#REF!,#REF!,'2추총괄표(실국별)'!$B20) -> #REF! | E20: =SUMIFS(#REF!,#REF!,'2추총괄표(실국별)'!$B20) -> #REF! | F20: =SUMIFS(#REF!,#REF!,'2추총괄표(실국별)'!$B20) -> #REF! | G20: =SUMIFS(#REF!,#REF!,'2추총괄표(실국별)'!$B20) -> #REF! | H20: =C20+F20+G20 -> #REF!
B21: 환경국 | C21: 90647611 | D21: =SUMIFS(#REF!,#REF!,'2추총괄표(실국별)'!$B21) -> #REF! | E21: =SUMIFS(#REF!,#REF!,'2추총괄표(실국별)'!$B21) -> #REF! | F21: =SUMIFS(#REF!,#REF!,'2추총괄표(실국별)'!$B21) -> #REF! | G21: =SUMIFS(#REF!,#REF!,'2추총괄표(실국별)'!$B21) -> #REF! | H21: =C21+F21+G21 -> #REF! | N21: 기금
B22: 여성가족국 | C22: 1883037298 | D22: =SUMIFS(#REF!,#REF!,'2추총괄표(실국별)'!$B22) -> #REF! | E22: =SUMIFS(#REF!,#REF!,'2추총괄표(실국별)'!$B22) -> #REF! | F22: =SUMIFS(#REF!,#REF!,'2추총괄표(실국별)'!$B22) -> #REF! | G22: =SUMIFS(#REF!,#REF!,'2추총괄표(실국별)'!$B22) -> #REF! | H22: =C22+F22+G22 -> #REF! | N22: =N18-#REF! -> #REF!
B23: 농업기술원 | C23: 39275302 | D23: =SUMIFS(#REF!,#REF!,'2추총괄표(실국별)'!$B23) -> #REF! | E23: =SUMIFS(#REF!,#REF!,'2추총괄표(실국별)'!$B23) -> #REF! | F23: =SUMIFS(#REF!,#REF!,'2추총괄표(실국별)'!$B23) -> #REF! | G23: =SUMIFS(#REF!,#REF!,'2추총괄표(실국별)'!$B23) -> #REF! | H23: =C23+F23+G23 -> #REF!
B24: 인재개발원 | C24: 8834247 | D24: =SUMIFS(#REF!,#REF!,'2추총괄표(실국별)'!$B24) -> #REF! | E24: =SUMIFS(#REF!,#REF!,'2추총괄표(실국별)'!$B24) -> #REF! | F24: =SUMIFS(#REF!,#REF!,'2추총괄표(실국별)'!$B24) -> #REF! | G24: =SUMIFS(#REF!,#REF!,'2추총괄표(실국별)'!$B24) -> #REF! | H24: =C24+F24+G24 -> #REF!
B25: 보건환경연구원 | C25: 9409184 | D25: =SUMIFS(#REF!,#REF!,'2추총괄표(실국별)'!$B25) -> #REF! | E25: =SUMIFS(#REF!,#REF!,'2추총괄표(실국별)'!$B25) -> #REF! | F25: =SUMIFS(#REF!,#REF!,'2추총괄표(실국별)'!$B25) -> #REF! | G25: =SUMIFS(#REF!,#REF!,'2추총괄표(실국별)'!$B25) -> #REF! | H25: =C25+F25+G25 -> #REF!
B26: 수자원본부 | C26: 568254411 | D26: =SUMIFS(#REF!,#REF!,'2추총괄표(실국별)'!$B26) -> #REF! | E26: =SUMIFS(#REF!,#REF!,'2추총괄표(실국별)'!$B26) -> #REF! | F26: =SUMIFS(#REF!,#REF!,'2추총괄표(실국별)'!$B26) -> #REF! | G26: =SUMIFS(#REF!,#REF!,'2추총괄표(실국별)'!$B26) -> #REF! | H26: =C26+F26+G26 -> #REF! | I26: =#REF!+#REF! -> #REF! | J26: =#REF!+#REF! -> #REF! | N26: =M2-N2 -> 0
B27: 복지여성실 | C27: 1368375599 | D27: =SUMIFS(#REF!,#REF!,'2추총괄표(실국별)'!$B27) -> #REF! | E27: =SUMIFS(#REF!,#REF!,'2추총괄표(실국별)'!$B27) -> #REF! | F27: =SUMIFS(#REF!,#REF!,'2추총괄표(실국별)'!$B27) -> #REF! | G27: =SUMIFS(#REF!,#REF!,'2추총괄표(실국별)'!$B27) -> #REF! | H27: =C27+F27+G27 -> #REF!
B28: 균형발전기획실 | C28: 203128052 | D28: =SUMIFS(#REF!,#REF!,'2추총괄표(실국별)'!$B28) -> #REF! | E28: =SUMIFS(#REF!,#REF!,'2추총괄표(실국별)'!$B28) -> #REF! | F28: =SUMIFS(#REF!,#REF!,'2추총괄표(실국별)'!$B28) -> #REF! | G28: =SUMIFS(#REF!,#REF!,'2추총괄표(실국별)'!$B28) -> #REF! | H28: =C28+F28+G28 -> #REF!
B29: 경제실 | C29: 551253750 | D29: =SUMIFS(#REF!,#REF!,'2추총괄표(실국별)'!$B29) -> #REF! | E29: =SUMIFS(#REF!,#REF!,'2추총괄표(실국별)'!$B29) -> #REF! | F29: =SUMIFS(#REF!,#REF!,'2추총괄표(실국별)'!$B29) -> #REF! | G29: =SUMIFS(#REF!,#REF!,'2추총괄표(실국별)'!$B29) -> #REF! | H29: =C29+F29+G29 -> #REF! | N29: 기금
B30: 축산산림국 | C30: 199805590 | D30: =SUMIFS(#REF!,#REF!,'2추총괄표(실국별)'!$B30) -> #REF! | E30: =SUMIFS(#REF!,#REF!,'2추총괄표(실국별)'!$B30) -> #REF! | F30: =SUMIFS(#REF!,#REF!,'2추총괄표(실국별)'!$B30) -> #REF! | G30: =SUMIFS(#REF!,#REF!,'2추총괄표(실국별)'!$B30) -> #REF! | H30: =C30+F30+G30 -> #REF! | N30: =N26-K2 -> 0
B31: 교통국 | C31: 444655559 | D31: =SUMIFS(#REF!,#REF!,'2추총괄표(실국별)'!$B31) -> #REF! | E31: =SUMIFS(#REF!,#REF!,'2추총괄표(실국별)'!$B31) -> #REF! | F31: =SUMIFS(#REF!,#REF!,'2추총괄표(실국별)'!$B31) -> #REF! | G31: =SUMIFS(#REF!,#REF!,'2추총괄표(실국별)'!$B31) -> #REF! | H31: =C31+F31+G31 -> #REF! | I31: =#REF!+#REF! -> #REF! | J31: =#REF!+#REF! -> #REF! | N31: =M7-N7 -> #REF!
B32: 건설국 | C32: 606801393 | D32: =SUMIFS(#REF!,#REF!,'2추총괄표(실국별)'!$B32) -> #REF! | E32: =SUMIFS(#REF!,#REF!,'2추총괄표(실국별)'!$B32) -> #REF! | F32: =SUMIFS(#REF!,#REF!,'2추총괄표(실국별)'!$B32) -> #REF! | G32: =SUMIFS(#REF!,#REF!,'2추총괄표(실국별)'!$B32) -> #REF! | H32: =C32+F32+G32 -> #REF!
B33: 건설본부 | C33: 42659824 | D33: =SUMIFS(#REF!,#REF!,'2추총괄표(실국별)'!$B33) -> #REF! | E33: =SUMIFS(#REF!,#REF!,'2추총괄표(실국별)'!$B33) -> #REF! | F33: =SUMIFS(#REF!,#REF!,'2추총괄표(실국별)'!$B33) -> #REF! | G33: =SUMIFS(#REF!,#REF!,'2추총괄표(실국별)'!$B33) -> #REF! | H33: =C33+F33+G33 -> #REF!
B37: 실국명 | C37: 일반 | D37: 기특 | E37: 공특 | F37: 합계
B38: 총합계 | C38: =SUM(C39:C64) -> 14571523178 | D38: =SUM(D39:D64) -> 1223711435 | E38: =SUM(E39:E64) -> 2281477190 | F38: =SUM(C38:E38) -> 18076711803
B39: 감사관 | C39: 914581 | F39: =SUM(C39:E39) -> 914581
B40: 기획조정실 | C40: 3300767937 | E40: 1844018116 | F40: =SUM(C40:E40) -> 5144786053
B41: 도시주택실 | C41: 171642061 | D41: 21248912 | E41: 28364468 | F41: =SUM(C41:E41) -> 221255441
B42: 자치행정국 | C42: 547246549 | F42: =SUM(C42:E42) -> 547246549
B43: 교육협력국 | C43: 2092269089 | D43: 246930000 | F43: =SUM(C43:E43) -> 2339199089
B44: 문화체육관광국 | C44: 234366028 | E44: 24350866 | F44: =SUM(C44:E44) -> 258716894
B45: 농정해양국 | C45: 250268892 | F45: =SUM(C45:E45) -> 250268892
B46: 철도국 | C46: 97467509 | F46: =SUM(C46:E46) -> 97467509
B47: 재난안전본부 | C47: =512692414+1402108+5137721+57953769 -> 577186012 | F47: =SUM(C47:E47) -> 577186012
B48: 의회사무처 | C48: 29891138 | F48: =SUM(C48:E48) -> 29891138
B49: 대변인 | C49: 11250846 | F49: =SUM(C49:E49) -> 11250846
B50: 대외협력담당관 | C50: 384069 | F50: =SUM(C50:E50) -> 384069
B51: 보건복지국 | C51: 1742791333 | D51: 839215577 | F51: =SUM(C51:E51) -> 2582006910
B52: 환경국 | C52: 90647611 | F52: =SUM(C52:E52) -> 90647611
B53: 여성가족국 | C53: 1883037298 | F53: =SUM(C53:E53) -> 1883037298
B54: 농업기술원 | C54: 39275302 | F54: =SUM(C54:E54) -> 39275302
B55: 인재개발원 | C55: 8834247 | F55: =SUM(C55:E55) -> 8834247
B56: 보건환경연구원 | C56: 9409184 | F56: =SUM(C56:E56) -> 9409184
B57: 수자원본부 | C57: 564663823 | D57: 3590588 | F57: =SUM(C57:E57) -> 568254411
B58: 복지여성실 | C58: 1368375599 | F58: =SUM(C58:E58) -> 1368375599
B59: 균형발전기획실 | C59: 188128052 | D59: 15000000 | F59: =SUM(C59:E59) -> 203128052
B60: 경제실 | C60: 166510010 | E60: 384743740 | F60: =SUM(C60:E60) -> 551253750
B61: 축산산림국 | C61: 199805590 | F61: =SUM(C61:E61) -> 199805590
B62: 교통국 | C62: 351095559 | D62: 93560000 | F62: =SUM(C62:E62) -> 444655559
B63: 건설국 | C63: 602635035 | D63: 4166358 | F63: =SUM(C63:E63) -> 606801393
B64: 건설본부 | C64: 42659824 | F64: =SUM(C64:E64) -> 42659824
I164: ◦ 본청 83,000 증 ◦ 북부청 377,000 증
K294: -50000

Sheet 16년 1추특입
A1: 2016년도 제1회 추경경기도 특별회계 세입 예산 조정(안)
A2: □세입예산 | U2: 세입 = 세출 | Z2: 세입 = 세출
K3: =COUNTA(K7:K12)-10 -> -7 | L3: =COUNTA(L7:L12)-10 -> -7 | N3: =COUNTA(N7:N12)-10 -> -7 | O3: =COUNTA(O7:O12)-10 -> -7 | R3: (단위 : 천원) | U3: =IF(U6='16년 1추일출'!$W$6,"OK","@@") -> OK | V3: =SUM(U6:V6) -> 0 | W3: =IF(COUNTIF(W6:W830,"@@")>0,"@@","OK") -> OK | Z3: =IF(Z6='16년 1추일출'!$AB$6,"OK","@@") -> OK | AA3: =SUM(Z6:AA6) -> 0 | AB3: =IF(COUNTIF(AB6:AB830,"@@")>0,"@@","OK") -> OK | AJ3: =IF(U6=AJ6,"OK","@@") -> OK | AN3: =IF(Z6=AN6,"OK","@@") -> OK
A4: 위원회명 | B4: 실국명 | C4: 부서명 | D4: 편성 구분 | E4: 예산안 페이지 | F4: 사 업 설명서 | G4: 세부사업명 및 부기명 | H4: 제1회 추경 예산안 (가) | I4: 기정액 (나) | J4: 제1회 추경 증감액 (다=가-나) | K4: 상임위 예산안 조정액(나) | M4: 상임위 조정 예산안 (마=가or나+라) | N4: 예결위 예산안 조정액(라) | P4: 예결위 조정 예산안 (마=가or나+라) | Q4: 동의 대상 | R4: 비고(부대의견) | T4: 재원 | U4: 상임위 재원별 증감액 | Y4: 재원 | Z4: 예결위 재원별 증감액 | AD4: 세입번호 | AF4: 실국부서 코드 | AH4: 추가 내시 등 | AJ4: 상임위 세입 검증 | AN4: 예결위 세입 검증
K5: 감액 | L5: 증액 | N5: 감액 | O5: 증액 | U5: 국비 등 | V5: 도 비 | W5: 검증 | Z5: 국비 등 | AA5: 도 비 | AB5: 검증 | AJ5: 국비 증감액 | AK5: 건수 | AL5: 검증 | AN5: 국비 증감액 | AO5: 건수 | AP5: 검증
H6: =SUM(H7+H10) -> 50000000 | I6: =SUM(I7+I10) -> 0 | J6: =SUM(J7+J10) -> 50000000 | K6: =SUM(K7+K10) -> -10000000 | L6: =SUM(L7+L10) -> 14000000 | M6: =SUM(M7+M10) -> 54000000 | N6: =SUM(N7+N10) -> -10000000 | O6: =SUM(O7+O10) -> 14000000 | P6: =SUM(P7+P10) -> 54000000 | U6: =SUBTOTAL(9,U7:U742) -> 0 | V6: =SUBTOTAL(9,V7:V742) -> 0 | W6: =IF((K6+L6)=(U6+V6),"OK","검토") -> 검토 | Z6: =SUBTOTAL(9,Z7:Z742) -> 0 | AA6: =SUBTOTAL(9,AA7:AA742) -> 0 | AB6: =IF((N6+O6)=(Z6+AA6),"OK","검토") -> 검토 | AJ6: =SUBTOTAL(9,AJ7:AJ742) -> 0 | AK6: =SUBTOTAL(9,#REF!) -> #REF! | AL6: =IF(COUNTIF($AL$7:$AL$9853,"@@")>0,"@@","OK") -> OK | AN6: =SUBTOTAL(9,AN7:AN742) -> 0 | AO6: =SUBTOTAL(9,#REF!) -> #REF! | AP6: =IF(COUNTIF($AP$7:$AP$9853,"@@")>0,"@@","OK") -> OK
A7: (지역균형발전 기타특별회계) | H7: =SUM(H8:H9) -> 50000000 | I7: =SUM(I8:I9) -> 0 | J7: =SUM(J8:J9) -> 50000000 | K7: =SUM(K8:K9) -> -10000000 | L7: =SUM(L8:L9) -> 0 | M7: =SUM(M8:M9) -> 40000000 | N7: =SUM(N8:N9) -> -10000000 | O7: =SUM(O8:O9) -> 0 | P7: =SUM(P8:P9) -> 40000000
A8: 기획재정위원회 | B8: 균형발전기획실 | C8: 균형발전담당관 | D8: 1회추경 | E8: 245 | F8: 91 | G8: 기타회계전입금 - 일반회계 전입금 | H8: 50000000 | J8: =IF(D8="","",H8-I8) -> 50000000 | K8: -10000000 | M8: =IF(H8=0,I8+K8+L8,H8+K8+L8) -> 40000000 | N8: -10000000 | P8: =IF(H8=0,I8+N8+O8,H8+N8+O8) -> 40000000
J9: =IF(D9="","",H9-I9) | M9: =IF(H9=0,I9+K9+L9,H9+K9+L9) -> 0 | P9: =IF(H9=0,I9+N9+O9,H9+N9+O9) -> 0
A10: (한류월드조성사업 공기업특별회계) | H10: =SUM(H11:H12) -> 0 | I10: =SUM(I11:I12) -> 0 | J10: =SUM(J11:J12) -> 0 | K10: =SUM(K11:K12) -> 0 | L10: =SUM(L11:L12) -> 14000000 | M10: =SUM(M11:M12) -> 14000000 | N10: =SUM(N11:N12) -> 0 | O10: =SUM(O11:O12) -> 14000000 | P10: =SUM(P11:P12) -> 14000000
A11: 문화체육관광위원회 | B11: 문화체육관광국 | C11: 한류월드사업단 | D11: 신규 | G11: 기타자본적수입 - 일반회계 전입금 | J11: =IF(D11="","",H11-I11) -> 0 | L11: 14000000 | M11: =IF(H11=0,I11+K11+L11,H11+K11+L11) -> 14000000 | O11: 14000000 | P11: =IF(H11=0,I11+N11+O11,H11+N11+O11) -> 14000000 | R11: 한류월드 2구역 계약금 반환청구 소송 패소에 따른 판결금 부족분에 대한 일반회계 전입금
J12: =IF(D12="","",H12-I12) | M12: =IF(H12=0,I12+K12+L12,H12+K12+L12) -> 0 | P12: =IF(H12=0,I12+N12+O12,H12+N12+O12) -> 0

Sheet 16년 1추특출
A1: 2016년도 제1회 추경 경기도 특별회계 세출 예산 조정(안)
A2: □세출예산 | W2: 세입 = 세출 | AB2: 세입 = 세출
K3: =COUNTA(K7:K12)-10 -> -7 | L3: =COUNTA(L7:L12)-10 -> -7 | N3: =COUNTA(N7:N12)-10 -> -7 | O3: =COUNTA(O7:O12)-10 -> -7 | R3: (단위 : 천원) | W3: =IF(W6='16년1추 일입'!$U$6,"OK","@@") -> OK | X3: =SUM(W6:X6) -> 4000000 | Y3: =IF(COUNTIF(Y6:Y807,"@@")>0,"@@","OK") -> OK | AB3: =IF(AB6='16년1추 일입'!$Z$6,"OK","@@") -> OK | AC3: =SUM(AB6:AC6) -> 4000000 | AD3: =IF(COUNTIF(AD6:AD807,"@@")>0,"@@","OK") -> OK
A4: 위원회명 | B4: 실국명 | C4: 부서명 | D4: 편성 구분 | E4: 예산안 페이지 | F4: 사 업 설명서 | G4: 세부사업명 및 부기명 | H4: 제1회 추경 예산안 (가) | I4: 기정액 (나) | J4: 제1회 추경 증감액 (다=가-나) | K4: 상임위 예산안 조정액(나) | M4: 상임위 조정 예산안 (마=가or나+라) | N4: 예결위 예산안 조정액(라) | P4: 예결위 조정 예산안 (마=가or나+라) | Q4: 동의 대상 | R4: 비고(부대의견) | T4: 국도비 등 여부 | V4: 재원 | W4: 상임위 재원별 증감액 | AA4: 재원 | AB4: 예결위 재원별 증감액 | AF4: 세입 번호 | AH4: 동일 세입 건수 | AI4: 세입 번호 검증 | AK4: 위원회 부서별 정렬 | AM4: 추가 내시 등
K5: 감액 | L5: 증액 | N5: 감액 | O5: 증액 | W5: 국비 등 | X5: 도 비 | Y5: 검증 | AB5: 국비 등 | AC5: 도 비 | AD5: 검증
H6: =SUM(H7+H10) -> 50000000 | I6: =SUM(I7+I10) -> 0 | J6: =SUM(J7+J10) -> 50000000 | K6: =SUM(K7+K10) -> -10000000 | L6: =SUM(L7+L10) -> 14000000 | M6: =SUM(M7+M10) -> 54000000 | N6: =SUM(N7+N10) -> -10000000 | O6: =SUM(O7+O10) -> 14000000 | P6: =SUM(P7+P10) -> 54000000 | W6: =SUM(W7:W12) -> 0 | X6: =SUM(X7:X12) -> 4000000 | AB6: =SUM(AB7:AB12) -> 0 | AC6: =SUM(AC7:AC12) -> 4000000
A7: (지역균형발전 기타특별회계) | H7: =SUM(H8:H9) -> 50000000 | I7: =SUM(I8:I9) -> 0 | J7: =SUM(J8:J9) -> 50000000 | K7: =SUM(K8:K9) -> -10000000 | L7: =SUM(L8:L9) -> 0 | M7: =SUM(M8:M9) -> 40000000 | N7: =SUM(N8:N9) -> -10000000 | O7: =SUM(O8:O9) -> 0 | P7: =SUM(P8:P9) -> 40000000
A8: 기획재정위원회 | B8: 균형발전기획실 | C8: 균형발전담당관 | D8: 1회추경 | E8: 247 | F8: 95 | G8: 지역균형발전사업 육성(자체/지원) - 지역균형발전사업 지원 | H8: 50000000 | J8: =IF(D8="","",H8-I8) -> 50000000 | K8: -10000000 | M8: =IF(H8=0,I8+K8+L8,H8+K8+L8) -> 40000000 | N8: -10000000 | P8: =IF(H8=0,I8+N8+O8,H8+N8+O8) -> 40000000 | T8: 도비 | V8: 도비 | W8: =IF($V8<>"도비",IF($T8="국도비","직접입력",SUM($K8:$L8)),) -> 0 | X8: =IF($V8="도비",SUM($K8:$L8),IF($T8="국도비","직접입력",SUM($K8:$L8)-$W8)) -> -10000000 | Y8: =IFERROR(IF(($K8+$L8)=($W8+$X8),"ok","검토"),"검토") -> ok | AA8: =$V8 -> 도비 | AB8: =IF($V8<>"도비",IF($T8="국도비","직접입력",SUM(N8:O8)),) -> 0 | AC8: =IF($V8="도비",SUM(N8:O8),IF($T8="국도비","직접입력",SUM(N8:O8)-AB8)) -> -10000000 | AD8: =IFERROR(IF((N8+O8)=(AB8+AC8),"ok","검토"),"검토") -> ok | AF8: =IF(V8="도비","세입없음","") -> 세입없음 | AH8: =IF(AF8="","",COUNTIF($AF$8:$AF$9974,$AF8)) -> 2 | AI8: =IF(C8="","",IF(AND(V8="도비",AF8="세입없음"),"OK",IF(AND(V8<>"도비",AF8<>""),"Ok","@@"))) -> OK
J9: =IF(D9="","",H9-I9) | M9: =IF(H9=0,I9+K9+L9,H9+K9+L9) -> 0 | P9: =IF(H9=0,I9+N9+O9,H9+N9+O9) -> 0
A10: (한류월드조성사업 공기업특별회계) | H10: =SUM(H11:H12) -> 0 | I10: =SUM(I11:I12) -> 0 | J10: =SUM(J11:J12) -> 0 | K10: =SUM(K11:K12) -> 0 | L10: =SUM(L11:L12) -> 14000000 | M10: =SUM(M11:M12) -> 14000000 | N10: =SUM(N11:N12) -> 0 | O10: =SUM(O11:O12) -> 14000000 | P10: =SUM(P11:P12) -> 14000000
A11: 문화체육관광위원회 | B11: 문화체육관광국 | C11: 한류월드사업단 | D11: 신규 | G11: 배상금 - 한류월드2구역 계약금 반환청구소송 판결금 | J11: =IF(D11="","",H11-I11) -> 0 | L11: 14000000 | M11: =IF(H11=0,I11+K11+L11,H11+K11+L11) -> 14000000 | O11: 14000000 | P11: =IF(H11=0,I11+N11+O11,H11+N11+O11) -> 14000000 | R11: 한류월드 2구역 계약금 반환청구 소송 패소에 따른 배상금 | T11: 도비 | V11: 도비 | W11: =IF($V11<>"도비",IF($T11="국도비","직접입력",SUM($K11:$L11)),) -> 0 | X11: =IF($V11="도비",SUM($K11:$L11),IF($T11="국도비","직접입력",SUM($K11:$L11)-$W11)) -> 14000000 | Y11: =IFERROR(IF(($K11+$L11)=($W11+$X11),"ok","검토"),"검토") -> ok | AA11: =$V11 -> 도비 | AB11: =IF($V11<>"도비",IF($T11="국도비","직접입력",SUM(N11:O11)),) -> 0 | AC11: =IF($V11="도비",SUM(N11:O11),IF($T11="국도비","직접입력",SUM(N11:O11)-AB11)) -> 14000000 | AD11: =IFERROR(IF((N11+O11)=(AB11+AC11),"ok","검토"),"검토") -> ok | AF11: =IF(V11="도비","세입없음","") -> 세입없음 | AH11: =IF(AF11="","",COUNTIF($AF$8:$AF$9974,$AF11)) -> 2 | AI11: =IF(C11="","",IF(AND(V11="도비",AF11="세입없음"),"OK",IF(AND(V11<>"도비",AF11<>""),"Ok","@@"))) -> OK
J12: =IF(D12="","",H12-I12) | M12: =IF(H12=0,I12+K12+L12,H12+K12+L12) -> 0 | P12: =IF(H12=0,I12+N12+O12,H12+N12+O12) -> 0
