Workbook

Sheet 구분표
A1: 실과명 조정 | B1: 위원회명 조정 | C1: 실국명 조정 | E1: 실국명 | F1: 실과명 | G1: 위원회명 | H1: 정렬순서 | I1: 정렬코드 | K1: 2014재원 | L1: 2015재원 | M1: 2016재원 | N1: 본예산 | O1: 2회추경 | Q1: 국도비 등 여부 | S1: 동의여부
A2: 연정협력관 | B2: 의회운영위원회 | C2: 연정협력관 | E2: 연정협력관 | F2: 연정협력관 | G2: 의회운영위원회 | H2: 1 | I2: 0101 | K2: 도비 | L2: 도비 | M2: 도비 | N2: 본예산 | O2: 2회추경 | Q2: 국도비 | S2: 동의
A3: 대외협력담당관 | B3: 의회운영위원회 | C3: 대외협력담당관 | E3: 대외협력담당관 | F3: 대외협력담당관 | G3: 의회운영위원회 | H3: 2 | I3: 0102 | K3: 국비 | L3: 국비 | M3: 국비 | N3: 신규 | O3: 1회추경 | Q3: 도비 | S3: 부동의
A4: 서울사무소 | B4: 의회운영위원회 | C4: 대외협력담당관 | E4: 대외협력담당관 | F4: 서울사무소 | G4: 의회운영위원회 | H4: 3 | I4: 0103 | K4: 광특 | L4: 지특 | M4: 지특 | O4: 본예산
A5: 홍보미디어담당관 | B5: 의회운영위원회 | C5: 소통기획관 | E5: 소통기획관 | F5: 홍보미디어담당관 | G5: 의회운영위원회 | H5: 4 | I5: 0104 | K5: 기금 | L5: 기금 | M5: 기금 | O5: 신규
A6: 홍보콘텐츠담당관 | B6: 의회운영위원회 | C6: 소통기획관 | E6: 소통기획관 | F6: 홍보콘텐츠담당관 | G6: 의회운영위원회 | H6: 5 | I6: 0105 | K6: 분권 | L6: 특교 | M6: 특교
A7: 언론협력담당관 | B7: 의회운영위원회 | C7: 대변인 | E7: 대변인 | F7: 언론협력담당관 | G7: 의회운영위원회 | H7: 6 | I7: 0106 | K7: 특교 | M7: 소방안전
A8: 보도기획담당관 | B8: 의회운영위원회 | C8: 대변인 | E8: 대변인 | F8: 보도기획담당관 | G8: 의회운영위원회 | H8: 7 | I8: 0107
A9: 공보담당관 | B9: 의회운영위원회 | C9: 의회사무처 | E9: 의회사무처 | F9: 공보담당관 | G9: 의회운영위원회 | H9: 8 | I9: 0108
A10: 총무담당관 | B10: 의회운영위원회 | C10: 의회사무처 | E10: 의회사무처 | F10: 총무담당관 | G10: 의회운영위원회 | H10: 9 | I10: 0109
A11: 의정담당관 | B11: 의회운영위원회 | C11: 의회사무처 | E11: 의회사무처 | F11: 의정담당관 | G11: 의회운영위원회 | H11: 10 | I11: 0110
A12: 입법정책담당관 | B12: 의회운영위원회 | C12: 의회사무처 | E12: 의회사무처 | F12: 입법정책담당관 | G12: 의회운영위원회 | H12: 11 | I12: 0111
A13: 예산정책담당관 | B13: 의회운영위원회 | C13: 의회사무처 | E13: 의회사무처 | F13: 예산정책담당관 | G13: 의회운영위원회 | H13: 12 | I13: 0112
A14: 감사총괄담당관 | B14: 기획재정위원회 | C14: 감사관 | E14: 감사관 | F14: 감사총괄담당관 | G14: 기획재정위원회 | H14: 13 | I14: 0201
A15: 조사담당관 | B15: 기획재정위원회 | C15: 감사관 | E15: 감사관 | F15: 조사담당관 | G15: 기획재정위원회 | H15: 14 | I15: 0202
A16: 감사담당관 | B16: 기획재정위원회 | C16: 감사관 | E16: 감사관 | F16: 감사담당관 | G16: 기획재정위원회 | H16: 15 | I16: 0203
A17: 계약심사담당관 | B17: 기획재정위원회 | C17: 감사관 | E17: 감사관 | F17: 계약심사담당관 | G17: 기획재정위원회 | H17: 16 | I17: 0204
A18: 기획담당관 | B18: 기획재정위원회 | C18: 기획조정실 | E18: 기획조정실 | F18: 기획담당관 | G18: 기획재정위원회 | H18: 17 | I18: 0205
A19: 미래전략담당관 | B19: 기획재정위원회 | C19: 기획조정실 | E19: 기획조정실 | F19: 미래전략담당관 | G19: 기획재정위원회 | H19: 18 | I19: 0206
... A201: 북부여성비전센터 | B201: 여성가족교육협력위원회 | C201: 복지여성실 | E201: 복지여성실 | F201: 북부여성비전센터 | G201: 여성가족교육협력위원회 | H201: 200 | I201: 1012

Sheet 15년검증
A1: 2015년 본예산 검증 | H1: 본예산 예비비 | J1: 124682800
M2: (단위 : 천원)
A3: 구 분 | B3: 상임위 | H3: 구 분 | I3: 예결위
B4: 세입 | C4: 검증 | D4: 세출 | E4: 검증 | F4: 차액 | I4: 세입 | J4: 검증 | K4: 세출 | L4: 검증 | M4: 차액
A5: 전체 총계 | B5: =SUM(B6,B9) -> 10491056 | C5: =IF(B5='16년3추 일입'!X3,"OK","@@") -> OK | D5: =SUM(D6,D9) -> 3182689 | E5: =IF(D5='16년 3추일출'!Z3,"OK","@@") -> @@ | H5: 전체 총계 | I5: =SUM(I6,I9) -> 64242035 | J5: =IF(I5='16년3추 일입'!AC3,"OK","@@") -> OK | K5: =SUM(K6,K9) -> 64312035 | L5: =IF(K5='16년 3추일출'!AE3,"OK","@@") -> @@
A6: 자체 총계 | B6: =SUM(B7:B8) -> -213845 | C6: =IF(B6='16년3추 일입'!X6,"OK","@@") -> OK | D6: =SUM(D7:D8) -> -7522212 | E6: =IF($D$6='16년 3추일출'!$Z$6,"OK","@@") -> @@ | H6: 자체 총계 | I6: =SUM(I7:I8) -> 13558155 | J6: =IF(I6='16년3추 일입'!AC6,"OK","@@") -> OK | K6: =SUM(K7:K8) -> 13628155 | L6: =IF($K6='16년 3추일출'!$AE6,"OK","@@") -> @@
A7: 자체 도비 | B7: =SUMIFS('16년3추 일입'!$X$7:$X$602,'16년3추 일입'!$V$7:$V$602,"도비") -> -213845 | D7: =SUMIFS('16년 3추일출'!$Z$14:$Z$703,'16년 3추일출'!$X$14:$X$703,"도비") -> -9116282 | H7: 자체 도비 | I7: =SUMIFS('16년3추 일입'!$AC$7:$AC$602,'16년3추 일입'!$AA$7:$AA$602,"도비") -> 13558155 | K7: =SUMIFS('16년 3추일출'!$AE$14:$AE$703,'16년 3추일출'!$AC$14:$AC$703,"도비") -> 4619645
A8: 의존 매칭 도비 | B8: =SUMIFS('16년3추 일입'!$X$7:$X$602,'16년3추 일입'!$V$7:$V$602,"국비")+SUMIFS('16년3추 일입'!$X$7:$X$602,'16년3추 일입'!$V$7:$V$602,"지특")+SUMIFS('16년3추 일입'!$X$7:$X$602,'16년3추 일입'!$V$7:$V$602,"기금")+SUMIFS('16년3추 일입'!$X$7:$X$602,'16년3추 일입'!$V$7:$V$602,"분권")+SUMIFS('16년3추 일입'!$X$7:$X$602,'16년3추 일입'!$V$7:$V$602,"특교") -> 0 | D8: =SUMIFS('16년 3추일출'!$Z$14:$Z$703,'16년 3추일출'!$X$14:$X$703,"국비")+SUMIFS('16년 3추일출'!$Z$14:$Z$703,'16년 3추일출'!$X$14:$X$703,"지특")+SUMIFS('16년 3추일출'!$Z$14:$Z$703,'16년 3추일출'!$X$14:$X$703,"기금")+SUMIFS('16년 3추일출'!$Z$14:$Z$703,'16년 3추일출'!$X$14:$X$703,"분권")+SUMIFS('16년 3추일출'!$Z$14:$Z$703,'16년 3추일출'!$X$14:$X$703,"특교") -> 1594070 | H8: 의존 매칭 도비 | I8: =SUMIFS('16년3추 일입'!$AC$7:$AC$602,'16년3추 일입'!$AA$7:$AA$602,"국비")+SUMIFS('16년3추 일입'!$AC$7:$AC$602,'16년3추 일입'!$AA$7:$AA$602,"지특")+SUMIFS('16년3추 일입'!$AC$7:$AC$602,'16년3추 일입'!$AA$7:$AA$602,"기금")+SUMIFS('16년3추 일입'!$AC$7:$AC$602,'16년3추 일입'!$AA$7:$AA$602,"분권")+SUMIFS('16년3추 일입'!$AC$7:$AC$602,'16년3추 일입'!$AA$7:$AA$602,"특교") -> 0 | K8: =SUMIFS('16년 3추일출'!$AE$14:$AE$703,'16년 3추일출'!$AC$14:$AC$703,"국비")+SUMIFS('16년 3추일출'!$AE$14:$AE$703,'16년 3추일출'!$AC$14:$AC$703,"지특")+SUMIFS('16년 3추일출'!$AE$14:$AE$703,'16년 3추일출'!$AC$14:$AC$703,"기금")+SUMIFS('16년 3추일출'!$AE$14:$AE$703,'16년 3추일출'!$AC$14:$AC$703,"분권")+SUMIFS('16년 3추일출'!$AE$14:$AE$703,'16년 3추일출'!$AC$14:$AC$703,"특교") -> 9008510
A9: 의존계 | B9: =SUM(B10:B14) -> 10704901 | C9: =IF(B9='16년3추 일입'!W6,"OK","@@") -> OK | D9: =SUM(D10:D14) -> 10704901 | E9: =IF(B9=D9,"OK","@@") -> OK | F9: =D9-B9 -> 0 | H9: 의존계 | I9: =SUM(I10:I14) -> 50683880 | J9: =IF(I9='16년3추 일입'!AB6,"OK","@@") -> OK | K9: =SUM(K10:K14) -> 50683880 | L9: =IF(I9=K9,"OK","@@") -> OK
A10: 국비 | B10: =SUMIFS('16년3추 일입'!$W$7:$W$602,'16년3추 일입'!$V$7:$V$602,'15년검증'!$A10) -> 9577901 | D10: =SUMIFS('16년 3추일출'!$Y$14:$Y$703,'16년 3추일출'!$X$14:$X$703,'15년검증'!$A10) -> 9577901 | E10: =IF(B10=D10,"OK","@@") -> OK | F10: =D10-B10 -> 0 | H10: 국비 | I10: =SUMIFS('16년3추 일입'!$AB$7:$AB$602,'16년3추 일입'!$AA$7:$AA$602,'15년검증'!$A10) -> 44965909 | K10: =SUMIFS('16년 3추일출'!$AD$14:$AD$703,'16년 3추일출'!$AC$14:$AC$703,'15년검증'!$A10) -> 44965909 | L10: =IF(I10=K10,"OK","@@") -> OK | M10: =K10-I10 -> 0
A11: 지특 | B11: =SUMIFS('16년3추 일입'!$W$7:$W$602,'16년3추 일입'!$V$7:$V$602,'15년검증'!$A11) -> 0 | D11: =SUMIFS('16년 3추일출'!$Y$14:$Y$703,'16년 3추일출'!$X$14:$X$703,'15년검증'!$A11) -> 0 | E11: =IF(B11=D11,"OK","@@") -> OK | F11: =D11-B11 -> 0 | H11: 지특 | I11: =SUMIFS('16년3추 일입'!$AB$7:$AB$602,'16년3추 일입'!$AA$7:$AA$602,'15년검증'!$A11) -> 0 | K11: =SUMIFS('16년 3추일출'!$AD$14:$AD$703,'16년 3추일출'!$AC$14:$AC$703,'15년검증'!$A11) -> 0 | L11: =IF(I11=K11,"OK","@@") -> OK | M11: =K11-I11 -> 0
A12: 기금 | B12: =SUMIFS('16년3추 일입'!$W$7:$W$602,'16년3추 일입'!$V$7:$V$602,'15년검증'!$A12) -> 50000 | D12: =SUMIFS('16년 3추일출'!$Y$14:$Y$703,'16년 3추일출'!$X$14:$X$703,'15년검증'!$A12) -> 50000 | E12: =IF(B12=D12,"OK","@@") -> OK | F12: =D12-B12 -> 0 | H12: 기금 | I12: =SUMIFS('16년3추 일입'!$AB$7:$AB$602,'16년3추 일입'!$AA$7:$AA$602,'15년검증'!$A12) -> 4640971 | K12: =SUMIFS('16년 3추일출'!$AD$14:$AD$703,'16년 3추일출'!$AC$14:$AC$703,'15년검증'!$A12) -> 4640971 | L12: =IF(I12=K12,"OK","@@") -> OK | M12: =K12-I12 -> 0
A13: 분권 | B13: =SUMIFS('16년3추 일입'!$W$7:$W$602,'16년3추 일입'!$V$7:$V$602,'15년검증'!$A13) -> 0 | D13: =SUMIFS('16년 3추일출'!$Y$14:$Y$703,'16년 3추일출'!$X$14:$X$703,'15년검증'!$A13) -> 0 | E13: =IF(B13=D13,"OK","@@") -> OK | F13: =D13-B13 -> 0 | H13: 분권 | I13: =SUMIFS('16년3추 일입'!$AB$7:$AB$602,'16년3추 일입'!$AA$7:$AA$602,'15년검증'!$A13) -> 0 | K13: =SUMIFS('16년 3추일출'!$AD$14:$AD$703,'16년 3추일출'!$AC$14:$AC$703,'15년검증'!$A13) -> 0 | L13: =IF(I13=K13,"OK","@@") -> OK | M13: =K13-I13 -> 0
A14: 특교 | B14: =SUMIFS('16년3추 일입'!$W$7:$W$602,'16년3추 일입'!$V$7:$V$602,'15년검증'!$A14) -> 1077000 | D14: =SUMIFS('16년 3추일출'!$Y$14:$Y$703,'16년 3추일출'!$X$14:$X$703,'15년검증'!$A14) -> 1077000 | E14: =IF(B14=D14,"OK","@@") -> OK | F14: =D14-B14 -> 0 | H14: 특교 | I14: =SUMIFS('16년3추 일입'!$AB$7:$AB$602,'16년3추 일입'!$AA$7:$AA$602,'15년검증'!$A14) -> 1077000 | K14: =SUMIFS('16년 3추일출'!$AD$14:$AD$703,'16년 3추일출'!$AC$14:$AC$703,'15년검증'!$A14) -> 1077000 | L14: =IF(I14=K14,"OK","@@") -> OK | M14: =K14-I14 -> 0
H16: 예비비 조정액 | I16: =IFERROR(INDEX('16년 3추일출'!AE14:AE703,MATCH("*예비비*",'16년 3추일출'!G14:G703,0)),"") -> 18800000
I18: =SUM(I5-K5) -> -70000
H20: 예비비 조정잔액 | I20: =IFERROR(SUM(J1+I16),"") -> 143482800

Sheet 2추검증
A1: 2회추경 검증 | H1: 2회추경 예비비 | J1: 22466366
M2: (단위 : 천원)
A3: 구 분 | B3: 상임위 | H3: 구 분 | I3: 예결위
B4: 세입 | C4: 검증 | D4: 세출 | E4: 검증 | F4: 차액 | I4: 세입 | J4: 검증 | K4: 세출 | L4: 검증 | M4: 차액
A5: 전체 총계 | B5: =SUM(B6,B9) -> #REF! | C5: =IF(B5=#REF!,"OK","@@") -> #REF! | D5: =SUM(D6,D9) -> #REF! | E5: =IF(D5=#REF!,"OK","@@") -> #REF! | H5: 전체 총계 | I5: =SUM(I6,I9) -> #REF! | J5: =IF(I5=#REF!,"OK","@@") -> #REF! | K5: =SUM(K6,K9) -> #REF! | L5: =IF(K5=#REF!,"OK","@@") -> #REF!
A6: 자체 총계 | B6: =SUM(B7:B8) -> #REF! | C6: =IF(B6=#REF!,"OK","@@") -> #REF! | D6: =SUM(D7:D8) -> #REF! | E6: =IF($D$6=#REF!,"OK","@@") -> #REF! | H6: 자체 총계 | I6: =SUM(I7:I8) -> #REF! | J6: =IF(I6=#REF!,"OK","@@") -> #REF! | K6: =SUM(K7:K8) -> #REF! | L6: =IF($K6=#REF!,"OK","@@") -> #REF!
A7: 자체 도비 | B7: =SUMIFS(#REF!,#REF!,"도비") -> #REF! | D7: =SUMIFS(#REF!,#REF!,"도비") -> #REF! | H7: 자체 도비 | I7: =SUMIFS(#REF!,#REF!,"도비") -> #REF! | K7: =SUMIFS(#REF!,#REF!,"도비") -> #REF!
A8: 의존 매칭 도비 | B8: =SUMIFS(#REF!,#REF!,"국비")+SUMIFS(#REF!,#REF!,"광특")+SUMIFS(#REF!,#REF!,"기금")+SUMIFS(#REF!,#REF!,"분권")+SUMIFS(#REF!,#REF!,"특교") -> #REF! | D8: =SUMIFS(#REF!,#REF!,"국비")+SUMIFS(#REF!,#REF!,"광특")+SUMIFS(#REF!,#REF!,"기금")+SUMIFS(#REF!,#REF!,"분권")+SUMIFS(#REF!,#REF!,"특교") -> #REF! | H8: 의존 매칭 도비 | I8: =SUMIFS(#REF!,#REF!,"국비")+SUMIFS(#REF!,#REF!,"광특")+SUMIFS(#REF!,#REF!,"기금")+SUMIFS(#REF!,#REF!,"분권")+SUMIFS(#REF!,#REF!,"특교") -> #REF! | K8: =SUMIFS(#REF!,#REF!,"국비")+SUMIFS(#REF!,#REF!,"광특")+SUMIFS(#REF!,#REF!,"기금")+SUMIFS(#REF!,#REF!,"분권")+SUMIFS(#REF!,#REF!,"특교") -> #REF!
A9: 의존계 | B9: =SUM(B10:B14) -> #REF! | C9: =IF(B9=#REF!,"OK","@@") -> #REF! | D9: =SUM(D10:D14) -> #REF! | E9: =IF(B9=D9,"OK","@@") -> #REF! | F9: =D9-B9 -> #REF! | H9: 의존계 | I9: =SUM(I10:I14) -> #REF! | J9: =IF(I9=#REF!,"OK","@@") -> #REF! | K9: =SUM(K10:K14) -> #REF! | L9: =IF(I9=K9,"OK","@@") -> #REF! | M9: =K9-I9 -> #REF!
A10: 국비 | B10: =SUMIFS(#REF!,#REF!,'2추검증'!$A10) -> #REF! | D10: =SUMIFS(#REF!,#REF!,'2추검증'!$A10) -> #REF! | E10: =IF(B10=D10,"OK","@@") -> #REF! | F10: =D10-B10 -> #REF! | H10: 국비 | I10: =SUMIFS(#REF!,#REF!,'2추검증'!$A10) -> #REF! | K10: =SUMIFS(#REF!,#REF!,'2추검증'!$A10) -> #REF! | L10: =IF(I10=K10,"OK","@@") -> #REF! | M10: =K10-I10 -> #REF!
A11: 광특 | B11: =SUMIFS(#REF!,#REF!,'2추검증'!$A11) -> #REF! | D11: =SUMIFS(#REF!,#REF!,'2추검증'!$A11) -> #REF! | E11: =IF(B11=D11,"OK","@@") -> #REF! | F11: =D11-B11 -> #REF! | H11: 광특 | I11: =SUMIFS(#REF!,#REF!,'2추검증'!$A11) -> #REF! | K11: =SUMIFS(#REF!,#REF!,'2추검증'!$A11) -> #REF! | L11: =IF(I11=K11,"OK","@@") -> #REF! | M11: =K11-I11 -> #REF!
A12: 기금 | B12: =SUMIFS(#REF!,#REF!,'2추검증'!$A12) -> #REF! | D12: =SUMIFS(#REF!,#REF!,'2추검증'!$A12) -> #REF! | E12: =IF(B12=D12,"OK","@@") -> #REF! | F12: =D12-B12 -> #REF! | H12: 기금 | I12: =SUMIFS(#REF!,#REF!,'2추검증'!$A12) -> #REF! | K12: =SUMIFS(#REF!,#REF!,'2추검증'!$A12) -> #REF! | L12: =IF(I12=K12,"OK","@@") -> #REF! | M12: =K12-I12 -> #REF!
A13: 분권 | B13: =SUMIFS(#REF!,#REF!,'2추검증'!$A13) -> #REF! | D13: =SUMIFS(#REF!,#REF!,'2추검증'!$A13) -> #REF! | E13: =IF(B13=D13,"OK","@@") -> #REF! | F13: =D13-B13 -> #REF! | H13: 분권 | I13: =SUMIFS(#REF!,#REF!,'2추검증'!$A13) -> #REF! | K13: =SUMIFS(#REF!,#REF!,'2추검증'!$A13) -> #REF! | L13: =IF(I13=K13,"OK","@@") -> #REF! | M13: =K13-I13 -> #REF!
A14: 특교 | B14: =SUMIFS(#REF!,#REF!,'2추검증'!$A14) -> #REF! | D14: =SUMIFS(#REF!,#REF!,'2추검증'!$A14) -> #REF! | E14: =IF(B14=D14,"OK","@@") -> #REF! | F14: =D14-B14 -> #REF! | H14: 특교 | I14: =SUMIFS(#REF!,#REF!,'2추검증'!$A14) -> #REF! | K14: =SUMIFS(#REF!,#REF!,'2추검증'!$A14) -> #REF! | L14: =IF(I14=K14,"OK","@@") -> #REF! | M14: =K14-I14 -> #REF!
H16: 예비비 조정액 | I16: =IFERROR(INDEX(#REF!,MATCH("*예비비*",#REF!,0)),"")
I18: =SUM(I5-K5) -> #REF!
H20: 예비비 조정잔액 | I20: =IFERROR(SUM(J1-I16),"")

Sheet 상임 표지
D2: 2014년도 제2회 일반회계 및 특별회계 추가경정 세입·세출 예산안
D4: 상 임 위 계 수 조 정 결 과
D16: 예산결산특별위원회

Sheet 표지
D2: 2014년도 제2회 일반회계 및 특별회계 추가경정 세입·세출 예산안
A4: 예결위 계수조정 결과
D16: 예산결산특별위원회

Sheet 예결 표지
B5: 2016년도 제3회 일반회계 및 특별회계 추가경정 세입·세출 예산안
B7: 예결위 계수조정 결과
B33: 예산결산특별위원회

Sheet 예결 표지(가로)
B3: 2016년도 제3회 일반회계 및 특별회계 추가경정 세입·세출 예산안
B5: 예결위 계수조정 결과
B24: 예산결산특별위원회

Sheet 15년총괄표
B1: 2015년도 경기도 일반 및 특별회계 세입·세출 예산안[전체예산총괄]
B3: □ 총 괄 | D3: 세입예산증감 | E3: =SUM(D7:E7) -> 64242035 | F3: 세출예산증감 | G3: =SUM(F7:G7) -> 64312035
H4: (단위:천원) | M4: (일반+특별+기금) | O4: 특별+기금
B5: 구 분 | C5: 집행부제출(안) | D5: 세입예산(안) | F5: 세출예산(안) | H5: 예산수정(안) | I5: 일반회계 증감(총괄표) | K5: 예비비증감 | L5: 비 고 | M5: 전체 증감(시트) | O5: 비고
D6: 감 액 | E6: 증 액 | F6: 감 액 | G6: 증 액 | I6: 세입 | J6: 세출 | M6: 세입 | N6: 세출
B7: 합 계 | C7: =SUM(C8:C18) -> 17818538715 | D7: =SUM(D8:D18) -> -479788 | E7: =SUM(E8:E18) -> 64721823 | F7: =SUM(F8:F18) -> -28611606 | G7: =SUM(G8:G18) -> 92923641 | H7: =SUM(H8:H18) -> 17882850750 | I7: =E25+D25 -> 64242035 | J7: =F25+G25 -> 64242035 | K7: =I7-J7 -> 0 | L7: 예비비 증감이 - 예산이면 감액에 + 예산이면 증액에 입력 | M7: =D24+E24 -> 64242035 | N7: =F24+G24 -> 64242035 | O7: 0 | P7: 0
B8: 기 타 | C8: 0 | H8: =C8-F8+G8 -> 0 | I8: =D7+E7 -> 64242035 | J8: =F7+G7 -> 64312035 | K8: =I8-J8 -> -70000
B9: 의회운영위원회 | C9: 43594098 | D9: =SUMIFS('16년3추 일입'!$N$7:$N$602,'16년3추 일입'!$A$7:$A$602,'15년총괄표'!$B9) -> 0 | E9: =SUMIFS('16년3추 일입'!$O$7:$O$602,'16년3추 일입'!$A$7:$A$602,'15년총괄표'!$B9) -> 0 | F9: =SUMIFS('16년 3추일출'!$N$14:$N$703,'16년 3추일출'!$A$14:$A$703,'15년총괄표'!$B9) -> 0 | G9: =SUMIFS('16년 3추일출'!$O$14:$O$703,'16년 3추일출'!$A$14:$A$703,'15년총괄표'!$B9) -> 0 | H9: =C9+F9+G9 -> 43594098 | I9: 일반회계 증감(시트) | N9: 전체 증감
B10: 기획재정위원회 | C10: 5206191432 | D10: =SUMIFS('16년3추 일입'!$N$7:$N$602,'16년3추 일입'!$A$7:$A$602,'15년총괄표'!$B10) -> 0 | E10: =SUMIFS('16년3추 일입'!$O$7:$O$602,'16년3추 일입'!$A$7:$A$602,'15년총괄표'!$B10) -> 13772000 | F10: =SUMIFS('16년 3추일출'!$N$14:$N$703,'16년 3추일출'!$A$14:$A$703,'15년총괄표'!$B10) -> -73360 | G10: =SUMIFS('16년 3추일출'!$O$14:$O$703,'16년 3추일출'!$A$14:$A$703,'15년총괄표'!$B10) -> 21730772 | H10: =C10+F10+G10 -> 5227848844 | I10: =#REF!+#REF! -> #REF! | J10: =#REF!+#REF! -> #REF! | N10: =M7-N7 -> 0
B11: 경제과학기술위원회 | C11: 506163851 | D11: =SUMIFS('16년3추 일입'!$N$7:$N$602,'16년3추 일입'!$A$7:$A$602,'15년총괄표'!$B11) -> 0 | E11: =SUMIFS('16년3추 일입'!$O$7:$O$602,'16년3추 일입'!$A$7:$A$602,'15년총괄표'!$B11) -> 0 | F11: =SUMIFS('16년 3추일출'!$N$14:$N$703,'16년 3추일출'!$A$14:$A$703,'15년총괄표'!$B11) -> -4000000 | G11: =SUMIFS('16년 3추일출'!$O$14:$O$703,'16년 3추일출'!$A$14:$A$703,'15년총괄표'!$B11) -> 2650000 | H11: =C11+F11+G11 -> 504813851
B12: 안전행정위원회 | C12: 1207474631 | D12: =SUMIFS('16년3추 일입'!$N$7:$N$602,'16년3추 일입'!$A$7:$A$602,'15년총괄표'!$B12) -> -4236 | E12: =SUMIFS('16년3추 일입'!$O$7:$O$602,'16년3추 일입'!$A$7:$A$602,'15년총괄표'!$B12) -> 77000 | F12: =SUMIFS('16년 3추일출'!$N$14:$N$703,'16년 3추일출'!$A$14:$A$703,'15년총괄표'!$B12) -> -250000 | G12: =SUMIFS('16년 3추일출'!$O$14:$O$703,'16년 3추일출'!$A$14:$A$703,'15년총괄표'!$B12) -> 901843 | H12: =C12+F12+G12 -> 1208126474
B13: 문화체육관광위원회 | C13: 309073261 | D13: =SUMIFS('16년3추 일입'!$N$7:$N$602,'16년3추 일입'!$A$7:$A$602,'15년총괄표'!$B13) -> 0 | E13: =SUMIFS('16년3추 일입'!$O$7:$O$602,'16년3추 일입'!$A$7:$A$602,'15년총괄표'!$B13) -> 0 | F13: =SUMIFS('16년 3추일출'!$N$14:$N$703,'16년 3추일출'!$A$14:$A$703,'15년총괄표'!$B13) -> 0 | G13: =SUMIFS('16년 3추일출'!$O$14:$O$703,'16년 3추일출'!$A$14:$A$703,'15년총괄표'!$B13) -> 240000 | H13: =C13+F13+G13 -> 309313261 | N13: 기금
B14: 농정해양위원회 | C14: 442431566 | D14: =SUMIFS('16년3추 일입'!$N$7:$N$602,'16년3추 일입'!$A$7:$A$602,'15년총괄표'!$B14) -> -4159 | E14: =SUMIFS('16년3추 일입'!$O$7:$O$602,'16년3추 일입'!$A$7:$A$602,'15년총괄표'!$B14) -> 3854402 | F14: =SUMIFS('16년 3추일출'!$N$14:$N$703,'16년 3추일출'!$A$14:$A$703,'15년총괄표'!$B14) -> -126594 | G14: =SUMIFS('16년 3추일출'!$O$14:$O$703,'16년 3추일출'!$A$14:$A$703,'15년총괄표'!$B14) -> 4320157 | H14: =C14+F14+G14 -> 446625129 | N14: =N10-K7 -> 0
B15: 보건복지위원회 | C15: 3621498611 | D15: =SUMIFS('16년3추 일입'!$N$7:$N$602,'16년3추 일입'!$A$7:$A$602,'15년총괄표'!$B15) -> -55000 | E15: =SUMIFS('16년3추 일입'!$O$7:$O$602,'16년3추 일입'!$A$7:$A$602,'15년총괄표'!$B15) -> 26400229 | F15: =SUMIFS('16년 3추일출'!$N$14:$N$703,'16년 3추일출'!$A$14:$A$703,'15년총괄표'!$B15) -> -474685 | G15: =SUMIFS('16년 3추일출'!$O$14:$O$703,'16년 3추일출'!$A$14:$A$703,'15년총괄표'!$B15) -> 33422682 | H15: =C15+F15+G15 -> 3654446608
B16: 건설교통위원회 | C16: 1291490754 | D16: =SUMIFS('16년3추 일입'!$N$7:$N$602,'16년3추 일입'!$A$7:$A$602,'15년총괄표'!$B16) -> 0 | E16: =SUMIFS('16년3추 일입'!$O$7:$O$602,'16년3추 일입'!$A$7:$A$602,'15년총괄표'!$B16) -> 800000 | F16: =SUMIFS('16년 3추일출'!$N$14:$N$703,'16년 3추일출'!$A$14:$A$703,'15년총괄표'!$B16) -> -4650000 | G16: =SUMIFS('16년 3추일출'!$O$14:$O$703,'16년 3추일출'!$A$14:$A$703,'15년총괄표'!$B16) -> 4078200 | H16: =C16+F16+G16 -> 1290918954
B17: 도시환경위원회 | C17: 1095793534 | D17: =SUMIFS('16년3추 일입'!$N$7:$N$602,'16년3추 일입'!$A$7:$A$602,'15년총괄표'!$B17) -> -413744 | E17: =SUMIFS('16년3추 일입'!$O$7:$O$602,'16년3추 일입'!$A$7:$A$602,'15년총괄표'!$B17) -> 54000 | F17: =SUMIFS('16년 3추일출'!$N$14:$N$703,'16년 3추일출'!$A$14:$A$703,'15년총괄표'!$B17) -> -200000 | G17: =SUMIFS('16년 3추일출'!$O$14:$O$703,'16년 3추일출'!$A$14:$A$703,'15년총괄표'!$B17) -> 754000 | H17: =C17+F17+G17 -> 1096347534
B18: 여성가족교육협력위원회 | C18: 4094826977 | D18: =SUMIFS('16년3추 일입'!$N$7:$N$602,'16년3추 일입'!$A$7:$A$602,'15년총괄표'!$B18) -> -2649 | E18: =SUMIFS('16년3추 일입'!$O$7:$O$602,'16년3추 일입'!$A$7:$A$602,'15년총괄표'!$B18) -> 19764192 | F18: =SUMIFS('16년 3추일출'!$N$14:$N$703,'16년 3추일출'!$A$14:$A$703,'15년총괄표'!$B18) -> -18836967 | G18: =SUMIFS('16년 3추일출'!$O$14:$O$703,'16년 3추일출'!$A$14:$A$703,'15년총괄표'!$B18) -> 24825987 | H18: =C18+F18+G18 -> 4100815997
B20: □ 회계별 예산총규모
H21: (단위:천원)
B22: 구 분 | C22: 세출예산액 (집행부제출 안) | D22: 세입예산(안) | F22: 세출예산(안) | H22: 예산수정(안)
D23: 감 액 | E23: 증 액 | F23: 감 액 | G23: 증 액 | I23: 세입기준 수정예산안
B24: 합 계 | C24: =SUM(C25:C26) -> 17818538715 | D24: =SUM(D25:D26) -> -479788 | E24: =SUM(E25:E26) -> 64721823 | F24: =SUM(F25:F26) -> -28681606 | G24: =SUM(G25:G26) -> 92923641 | H24: =SUM(H25:H26) -> 17882780750 | I24: =C24+D24+E24 -> 17882780750 | J24: =I24-H24 -> 0 | K24: (세출기준-세입기준)
B25: 일반회계 | C25: 14504760931 | D25: ='16년3추 일입'!$N$6 -> -479788 | E25: ='16년3추 일입'!$O$6 -> 64721823 | F25: ='16년 3추일출'!$N$6 -> -28681606 | G25: ='16년 3추일출'!$O$6 -> 92923641 | H25: =C25+F25+G25 -> 14569002966 | I25: =C25+D25+E25 -> 14569002966 | J25: =I25-H25 -> 0 | K25: (세출기준-세입기준)
B26: 특별회계 | C26: 3313777784 | H26: =C26+F26+G26 -> 3313777784 | I26: =C26+D26+E26 -> 3313777784 | J26: =I26-H26 -> 0 | K26: (세출기준-세입기준)
B30: 위원회명 | C30: 일반+기특 | D30: 공기업 | E30: 합계
B31: 의회운영위원회 | C31: 39922113 | E31: =SUM(C31:D31) -> 39922113
B32: 기획재정위원회 | C32: 3302571667 | D32: 1780946434 | E32: =SUM(C32:D32) -> 5083518101
B33: 경제과학기술위원회 | C33: 155329320 | D33: 384743740 | E33: =SUM(C33:D33) -> 540073060
B34: 안전행정위원회 | C34: 1142858974 | E34: =SUM(C34:D34) -> 1142858974
B35: 문화체육관광위원회 | C35: 224243208 | D35: 52484400 | E35: =SUM(C35:D35) -> 276727608
B36: 농정해양위원회 | C36: 466978999 | E36: =SUM(C36:D36) -> 466978999
B37: 보건복지위원회 | C37: 3254006708 | E37: =SUM(C37:D37) -> 3254006708
B38: 건설교통위원회 | C38: 1220859831 | E38: =SUM(C38:D38) -> 1220859831
B39: 도시환경위원회 | C39: 866963933 | D39: 28360000 | E39: =SUM(C39:D39) -> 895323933
B40: 여성가족평생교육위원회 | C40: 4882582917 | E40: =SUM(C40:D40) -> 4882582917
B41: 총합계 | C41: =SUM(C31:C40) -> 15556317670 | D41: =SUM(D31:D40) -> 2246534574 | E41: =SUM(C41:D41) -> 17802852244
B43: 예비비 | C43: =3922478-221377 -> 3701101
B54: 위원회명 | C54: 일반 | D54: 기특 | E54: 공특 | F54: 합계
B56: 총합계 | C56: =SUM(C57:C66) -> 14504760931 | D56: =SUM(D57:D66) -> 1174065395 | E56: =SUM(E57:E66) -> 2139712389 | F56: =SUM(C56:E56) -> 17818538715
B57: 의회운영위원회 | C57: 43594098 | F57: =SUM(C57:E57) -> 43594098
B58: 기획재정위원회 | C58: 3440363748 | D58: 24291000 | E58: 1741536684 | F58: =SUM(C58:E58) -> 5206191432
B59: 경제과학기술위원회 | C59: 203612581 | E59: 302551270 | F59: =SUM(C59:E59) -> 506163851
B60: 안전행정위원회 | C60: 1207474631 | F60: =SUM(C60:E60) -> 1207474631
B61: 문화체육관광위원회 | C61: 246448826 | E61: 62624435 | F61: =SUM(C61:E61) -> 309073261
B62: 농정해양위원회 | C62: 442431566 | F62: =SUM(C62:E62) -> 442431566
B63: 보건복지위원회 | C63: 2784804193 | D63: 836694418 | F63: =SUM(C63:E63) -> 3621498611
B64: 건설교통위원회 | C64: 1163747689 | D64: =125570000+2173065 -> 127743065 | F64: =SUM(C64:E64) -> 1291490754
B65: 도시환경위원회 | C65: 1043870622 | D65: =4191000+14731912 -> 18922912 | E65: 33000000 | F65: =SUM(C65:E65) -> 1095793534
B66: 여성가족교육협력위원회 | C66: 3928412977 | D66: 166414000 | F66: =SUM(C66:E66) -> 4094826977
I145: ◦ 본청 83,000 증 ◦ 북부청 377,000 증
K275: -50000

Sheet 15년총괄표(실국별)
B1: 2015년도 경기도 일반 및 특별회계 세입·세출 예산안[전체예산총괄]
B3: □ 총괄(실국별) | E3: =SUM(D7:E7) -> 64242035 | G3: =SUM(F7:G7) -> 64312035
H4: (단위:천원) | M4: (일반+특별+기금) | O4: 특별+기금
B5: 구 분 | C5: 집행부제출(안) | D5: 세입예산(안) | F5: 세출예산(안) | H5: 예산수정(안) | I5: 일반회계 증감(총괄표) | K5: 예비비증감 | L5: 비 고 | M5: 전체 증감(시트) | O5: 비고
D6: 감 액 | E6: 증 액 | F6: 감 액 | G6: 증 액 | I6: 세입 | J6: 세출 | M6: 세입 | N6: 세출
B7: 합 계 | C7: =SUM(C8:C33) -> 17818538715 | D7: =SUM(D8:D33) -> -479788 | E7: =SUM(E8:E33) -> 64721823 | F7: =SUM(F8:F33) -> -28611606 | G7: =SUM(G8:G33) -> 92923641 | H7: =SUM(H8:H33) -> 17882850750 | I7: =#REF!+#REF! -> #REF! | J7: =#REF!+#REF! -> #REF! | K7: =I7-J7 -> #REF! | L7: 예비비 증감이 - 예산이면 감액에 + 예산이면 증액에 입력 | M7: =#REF!+#REF! -> #REF! | N7: =#REF!+#REF! -> #REF! | O7: 0 | P7: 0
B8: 감사관 | C8: 1230140 | D8: =SUMIFS('16년3추 일입'!$N$7:$N$602,'16년3추 일입'!$B$7:$B$602,'15년총괄표(실국별)'!$B8) -> 0 | E8: =SUMIFS('16년3추 일입'!$O$7:$O$602,'16년3추 일입'!$B$7:$B$602,'15년총괄표(실국별)'!$B8) -> 0 | F8: =SUMIFS('16년 3추일출'!$N$14:$N$703,'16년 3추일출'!$B$14:$B$703,'15년총괄표(실국별)'!$B8) -> -3360 | G8: =SUMIFS('16년 3추일출'!$O$14:$O$703,'16년 3추일출'!$B$14:$B$703,'15년총괄표(실국별)'!$B8) -> 0 | H8: =C8+F8+G8 -> 1226780 | I8: 일반회계 증감(시트) | N8: 전체 증감
B9: 기획조정실 | C9: 4995050831 | D9: =SUMIFS('16년3추 일입'!$N$7:$N$602,'16년3추 일입'!$B$7:$B$602,'15년총괄표(실국별)'!$B9) -> 0 | E9: =SUMIFS('16년3추 일입'!$O$7:$O$602,'16년3추 일입'!$B$7:$B$602,'15년총괄표(실국별)'!$B9) -> 13772000 | F9: =SUMIFS('16년 3추일출'!$N$14:$N$703,'16년 3추일출'!$B$14:$B$703,'15년총괄표(실국별)'!$B9) -> -50000 | G9: =SUMIFS('16년 3추일출'!$O$14:$O$703,'16년 3추일출'!$B$14:$B$703,'15년총괄표(실국별)'!$B9) -> 21730772 | H9: =C9+F9+G9 -> 5016731603 | I9: =#REF!+#REF! -> #REF! | J9: =#REF!+#REF! -> #REF! | N9: =#REF!-#REF! -> #REF!
B10: 도시주택실 | C10: 350475445 | D10: =SUMIFS('16년3추 일입'!$N$7:$N$602,'16년3추 일입'!$B$7:$B$602,'15년총괄표(실국별)'!$B10) -> 0 | E10: =SUMIFS('16년3추 일입'!$O$7:$O$602,'16년3추 일입'!$B$7:$B$602,'15년총괄표(실국별)'!$B10) -> 0 | F10: =SUMIFS('16년 3추일출'!$N$14:$N$703,'16년 3추일출'!$B$14:$B$703,'15년총괄표(실국별)'!$B10) -> 0 | G10: =SUMIFS('16년 3추일출'!$O$14:$O$703,'16년 3추일출'!$B$14:$B$703,'15년총괄표(실국별)'!$B10) -> 0 | H10: =C10+F10+G10 -> 350475445 | I10: =#REF!+#REF! -> #REF! | J10: =#REF!+#REF! -> #REF! | N10: =#REF!-#REF! -> #REF!
B11: 자치행정국 | C11: 489102362 | D11: =SUMIFS('16년3추 일입'!$N$7:$N$602,'16년3추 일입'!$B$7:$B$602,'15년총괄표(실국별)'!$B11) -> 0 | E11: =SUMIFS('16년3추 일입'!$O$7:$O$602,'16년3추 일입'!$B$7:$B$602,'15년총괄표(실국별)'!$B11) -> 0 | F11: =SUMIFS('16년 3추일출'!$N$14:$N$703,'16년 3추일출'!$B$14:$B$703,'15년총괄표(실국별)'!$B11) -> 0 | G11: =SUMIFS('16년 3추일출'!$O$14:$O$703,'16년 3추일출'!$B$14:$B$703,'15년총괄표(실국별)'!$B11) -> 574843 | H11: =C11+F11+G11 -> 489677205
B12: 교육협력국 | C12: 2124399774 | D12: =SUMIFS('16년3추 일입'!$N$7:$N$602,'16년3추 일입'!$B$7:$B$602,'15년총괄표(실국별)'!$B12) -> 0 | E12: =SUMIFS('16년3추 일입'!$O$7:$O$602,'16년3추 일입'!$B$7:$B$602,'15년총괄표(실국별)'!$B12) -> 0 | F12: =SUMIFS('16년 3추일출'!$N$14:$N$703,'16년 3추일출'!$B$14:$B$703,'15년총괄표(실국별)'!$B12) -> -18800000 | G12: =SUMIFS('16년 3추일출'!$O$14:$O$703,'16년 3추일출'!$B$14:$B$703,'15년총괄표(실국별)'!$B12) -> 0 | H12: =C12+F12+G12 -> 2105599774
B13: 문화체육관광국 | C13: 309073261 | D13: =SUMIFS('16년3추 일입'!$N$7:$N$602,'16년3추 일입'!$B$7:$B$602,'15년총괄표(실국별)'!$B13) -> 0 | E13: =SUMIFS('16년3추 일입'!$O$7:$O$602,'16년3추 일입'!$B$7:$B$602,'15년총괄표(실국별)'!$B13) -> 0 | F13: =SUMIFS('16년 3추일출'!$N$14:$N$703,'16년 3추일출'!$B$14:$B$703,'15년총괄표(실국별)'!$B13) -> 0 | G13: =SUMIFS('16년 3추일출'!$O$14:$O$703,'16년 3추일출'!$B$14:$B$703,'15년총괄표(실국별)'!$B13) -> 240000 | H13: =C13+F13+G13 -> 309313261 | N13: 기금
B14: 농정해양국 | C14: 255604029 | D14: =SUMIFS('16년3추 일입'!$N$7:$N$602,'16년3추 일입'!$B$7:$B$602,'15년총괄표(실국별)'!$B14) -> 0 | E14: =SUMIFS('16년3추 일입'!$O$7:$O$602,'16년3추 일입'!$B$7:$B$602,'15년총괄표(실국별)'!$B14) -> 1500000 | F14: =SUMIFS('16년 3추일출'!$N$14:$N$703,'16년 3추일출'!$B$14:$B$703,'15년총괄표(실국별)'!$B14) -> -100000 | G14: =SUMIFS('16년 3추일출'!$O$14:$O$703,'16년 3추일출'!$B$14:$B$703,'15년총괄표(실국별)'!$B14) -> 1600000 | H14: =C14+F14+G14 -> 257104029 | N14: =N10-#REF! -> #REF!
B15: 철도국 | C15: 205393587 | D15: =SUMIFS('16년3추 일입'!$N$7:$N$602,'16년3추 일입'!$B$7:$B$602,'15년총괄표(실국별)'!$B15) -> 0 | E15: =SUMIFS('16년3추 일입'!$O$7:$O$602,'16년3추 일입'!$B$7:$B$602,'15년총괄표(실국별)'!$B15) -> 0 | F15: =SUMIFS('16년 3추일출'!$N$14:$N$703,'16년 3추일출'!$B$14:$B$703,'15년총괄표(실국별)'!$B15) -> 0 | G15: =SUMIFS('16년 3추일출'!$O$14:$O$703,'16년 3추일출'!$B$14:$B$703,'15년총괄표(실국별)'!$B15) -> 0 | H15: =C15+F15+G15 -> 205393587
B16: 재난안전본부 | C16: 694104955 | D16: =SUMIFS('16년3추 일입'!$N$7:$N$602,'16년3추 일입'!$B$7:$B$602,'15년총괄표(실국별)'!$B16) -> -4236 | E16: =SUMIFS('16년3추 일입'!$O$7:$O$602,'16년3추 일입'!$B$7:$B$602,'15년총괄표(실국별)'!$B16) -> 77000 | F16: =SUMIFS('16년 3추일출'!$N$14:$N$703,'16년 3추일출'!$B$14:$B$703,'15년총괄표(실국별)'!$B16) -> -250000 | G16: =SUMIFS('16년 3추일출'!$O$14:$O$703,'16년 3추일출'!$B$14:$B$703,'15년총괄표(실국별)'!$B16) -> 327000 | H16: =C16+F16+G16 -> 694181955
B17: 의회사무처 | C17: 30412373 | D17: =SUMIFS('16년3추 일입'!$N$7:$N$602,'16년3추 일입'!$B$7:$B$602,'15년총괄표(실국별)'!$B17) -> 0 | E17: =SUMIFS('16년3추 일입'!$O$7:$O$602,'16년3추 일입'!$B$7:$B$602,'15년총괄표(실국별)'!$B17) -> 0 | F17: =SUMIFS('16년 3추일출'!$N$14:$N$703,'16년 3추일출'!$B$14:$B$703,'15년총괄표(실국별)'!$B17) -> 0 | G17: =SUMIFS('16년 3추일출'!$O$14:$O$703,'16년 3추일출'!$B$14:$B$703,'15년총괄표(실국별)'!$B17) -> 0 | H17: =C17+F17+G17 -> 30412373
B18: 대변인 | C18: 12731214 | D18: =SUMIFS('16년3추 일입'!$N$7:$N$602,'16년3추 일입'!$B$7:$B$602,'15년총괄표(실국별)'!$B18) -> 0 | E18: =SUMIFS('16년3추 일입'!$O$7:$O$602,'16년3추 일입'!$B$7:$B$602,'15년총괄표(실국별)'!$B18) -> 0 | F18: =SUMIFS('16년 3추일출'!$N$14:$N$703,'16년 3추일출'!$B$14:$B$703,'15년총괄표(실국별)'!$B18) -> 0 | G18: =SUMIFS('16년 3추일출'!$O$14:$O$703,'16년 3추일출'!$B$14:$B$703,'15년총괄표(실국별)'!$B18) -> 0 | H18: =C18+F18+G18 -> 12731214 | I18: =#REF!+#REF! -> #REF! | J18: =#REF!+#REF! -> #REF! | N18: =#REF!-#REF! -> #REF!
B19: 대외협력담당관 | C19: 450511 | D19: =SUMIFS('16년3추 일입'!$N$7:$N$602,'16년3추 일입'!$B$7:$B$602,'15년총괄표(실국별)'!$B19) -> 0 | E19: =SUMIFS('16년3추 일입'!$O$7:$O$602,'16년3추 일입'!$B$7:$B$602,'15년총괄표(실국별)'!$B19) -> 0 | F19: =SUMIFS('16년 3추일출'!$N$14:$N$703,'16년 3추일출'!$B$14:$B$703,'15년총괄표(실국별)'!$B19) -> 0 | G19: =SUMIFS('16년 3추일출'!$O$14:$O$703,'16년 3추일출'!$B$14:$B$703,'15년총괄표(실국별)'!$B19) -> 0 | H19: =C19+F19+G19 -> 450511
B20: 보건복지국 | C20: 2803637639 | D20: =SUMIFS('16년3추 일입'!$N$7:$N$602,'16년3추 일입'!$B$7:$B$602,'15년총괄표(실국별)'!$B20) -> -55000 | E20: =SUMIFS('16년3추 일입'!$O$7:$O$602,'16년3추 일입'!$B$7:$B$602,'15년총괄표(실국별)'!$B20) -> 26400229 | F20: =SUMIFS('16년 3추일출'!$N$14:$N$703,'16년 3추일출'!$B$14:$B$703,'15년총괄표(실국별)'!$B20) -> -456535 | G20: =SUMIFS('16년 3추일출'!$O$14:$O$703,'16년 3추일출'!$B$14:$B$703,'15년총괄표(실국별)'!$B20) -> 25705722 | H20: =C20+F20+G20 -> 2828886826
B21: 환경국 | C21: 96522924 | D21: =SUMIFS('16년3추 일입'!$N$7:$N$602,'16년3추 일입'!$B$7:$B$602,'15년총괄표(실국별)'!$B21) -> 0 | E21: =SUMIFS('16년3추 일입'!$O$7:$O$602,'16년3추 일입'!$B$7:$B$602,'15년총괄표(실국별)'!$B21) -> 54000 | F21: =SUMIFS('16년 3추일출'!$N$14:$N$703,'16년 3추일출'!$B$14:$B$703,'15년총괄표(실국별)'!$B21) -> -200000 | G21: =SUMIFS('16년 3추일출'!$O$14:$O$703,'16년 3추일출'!$B$14:$B$703,'15년총괄표(실국별)'!$B21) -> 254000 | H21: =C21+F21+G21 -> 96576924 | N21: 기금
B22: 여성가족국 | C22: 1454395771 | D22: =SUMIFS('16년3추 일입'!$N$7:$N$602,'16년3추 일입'!$B$7:$B$602,'15년총괄표(실국별)'!$B22) -> -2649 | E22: =SUMIFS('16년3추 일입'!$O$7:$O$602,'16년3추 일입'!$B$7:$B$602,'15년총괄표(실국별)'!$B22) -> 19764192 | F22: =SUMIFS('16년 3추일출'!$N$14:$N$703,'16년 3추일출'!$B$14:$B$703,'15년총괄표(실국별)'!$B22) -> -33217 | G22: =SUMIFS('16년 3추일출'!$O$14:$O$703,'16년 3추일출'!$B$14:$B$703,'15년총괄표(실국별)'!$B22) -> 18284469 | H22: =C22+F22+G22 -> 1472647023 | N22: =N18-#REF! -> #REF!
B23: 농업기술원 | C23: 35645539 | D23: =SUMIFS('16년3추 일입'!$N$7:$N$602,'16년3추 일입'!$B$7:$B$602,'15년총괄표(실국별)'!$B23) -> 0 | E23: =SUMIFS('16년3추 일입'!$O$7:$O$602,'16년3추 일입'!$B$7:$B$602,'15년총괄표(실국별)'!$B23) -> 0 | F23: =SUMIFS('16년 3추일출'!$N$14:$N$703,'16년 3추일출'!$B$14:$B$703,'15년총괄표(실국별)'!$B23) -> -26594 | G23: =SUMIFS('16년 3추일출'!$O$14:$O$703,'16년 3추일출'!$B$14:$B$703,'15년총괄표(실국별)'!$B23) -> 0 | H23: =C23+F23+G23 -> 35618945
B24: 인재개발원 | C24: 10314647 | D24: =SUMIFS('16년3추 일입'!$N$7:$N$602,'16년3추 일입'!$B$7:$B$602,'15년총괄표(실국별)'!$B24) -> 0 | E24: =SUMIFS('16년3추 일입'!$O$7:$O$602,'16년3추 일입'!$B$7:$B$602,'15년총괄표(실국별)'!$B24) -> 0 | F24: =SUMIFS('16년 3추일출'!$N$14:$N$703,'16년 3추일출'!$B$14:$B$703,'15년총괄표(실국별)'!$B24) -> 0 | G24: =SUMIFS('16년 3추일출'!$O$14:$O$703,'16년 3추일출'!$B$14:$B$703,'15년총괄표(실국별)'!$B24) -> 0 | H24: =C24+F24+G24 -> 10314647
B25: 보건환경연구원 | C25: 8202067 | D25: =SUMIFS('16년3추 일입'!$N$7:$N$602,'16년3추 일입'!$B$7:$B$602,'15년총괄표(실국별)'!$B25) -> 0 | E25: =SUMIFS('16년3추 일입'!$O$7:$O$602,'16년3추 일입'!$B$7:$B$602,'15년총괄표(실국별)'!$B25) -> 0 | F25: =SUMIFS('16년 3추일출'!$N$14:$N$703,'16년 3추일출'!$B$14:$B$703,'15년총괄표(실국별)'!$B25) -> 0 | G25: =SUMIFS('16년 3추일출'!$O$14:$O$703,'16년 3추일출'!$B$14:$B$703,'15년총괄표(실국별)'!$B25) -> 0 | H25: =C25+F25+G25 -> 8202067
B26: 수자원본부 | C26: 631831527 | D26: =SUMIFS('16년3추 일입'!$N$7:$N$602,'16년3추 일입'!$B$7:$B$602,'15년총괄표(실국별)'!$B26) -> -413744 | E26: =SUMIFS('16년3추 일입'!$O$7:$O$602,'16년3추 일입'!$B$7:$B$602,'15년총괄표(실국별)'!$B26) -> 0 | F26: =SUMIFS('16년 3추일출'!$N$14:$N$703,'16년 3추일출'!$B$14:$B$703,'15년총괄표(실국별)'!$B26) -> 0 | G26: =SUMIFS('16년 3추일출'!$O$14:$O$703,'16년 3추일출'!$B$14:$B$703,'15년총괄표(실국별)'!$B26) -> 0 | H26: =C26+F26+G26 -> 631831527 | I26: =#REF!+#REF! -> #REF! | J26: =#REF!+#REF! -> #REF! | N26: =M2-N2 -> 0
B27: 복지여성실 | C27: 1328409175 | D27: =SUMIFS('16년3추 일입'!$N$7:$N$602,'16년3추 일입'!$B$7:$B$602,'15년총괄표(실국별)'!$B27) -> 0 | E27: =SUMIFS('16년3추 일입'!$O$7:$O$602,'16년3추 일입'!$B$7:$B$602,'15년총괄표(실국별)'!$B27) -> 0 | F27: =SUMIFS('16년 3추일출'!$N$14:$N$703,'16년 3추일출'!$B$14:$B$703,'15년총괄표(실국별)'!$B27) -> -21900 | G27: =SUMIFS('16년 3추일출'!$O$14:$O$703,'16년 3추일출'!$B$14:$B$703,'15년총괄표(실국별)'!$B27) -> 14258478 | H27: =C27+F27+G27 -> 1342645753
B28: 균형발전기획실 | C28: 223863128 | D28: =SUMIFS('16년3추 일입'!$N$7:$N$602,'16년3추 일입'!$B$7:$B$602,'15년총괄표(실국별)'!$B28) -> 0 | E28: =SUMIFS('16년3추 일입'!$O$7:$O$602,'16년3추 일입'!$B$7:$B$602,'15년총괄표(실국별)'!$B28) -> 0 | F28: =SUMIFS('16년 3추일출'!$N$14:$N$703,'16년 3추일출'!$B$14:$B$703,'15년총괄표(실국별)'!$B28) -> -20000 | G28: =SUMIFS('16년 3추일출'!$O$14:$O$703,'16년 3추일출'!$B$14:$B$703,'15년총괄표(실국별)'!$B28) -> 0 | H28: =C28+F28+G28 -> 223843128
B29: 경제실 | C29: 506163851 | D29: =SUMIFS('16년3추 일입'!$N$7:$N$602,'16년3추 일입'!$B$7:$B$602,'15년총괄표(실국별)'!$B29) -> 0 | E29: =SUMIFS('16년3추 일입'!$O$7:$O$602,'16년3추 일입'!$B$7:$B$602,'15년총괄표(실국별)'!$B29) -> 0 | F29: =SUMIFS('16년 3추일출'!$N$14:$N$703,'16년 3추일출'!$B$14:$B$703,'15년총괄표(실국별)'!$B29) -> -4000000 | G29: =SUMIFS('16년 3추일출'!$O$14:$O$703,'16년 3추일출'!$B$14:$B$703,'15년총괄표(실국별)'!$B29) -> 2650000 | H29: =C29+F29+G29 -> 504813851 | N29: 기금
B30: 축산산림국 | C30: 165426798 | D30: =SUMIFS('16년3추 일입'!$N$7:$N$602,'16년3추 일입'!$B$7:$B$602,'15년총괄표(실국별)'!$B30) -> -4159 | E30: =SUMIFS('16년3추 일입'!$O$7:$O$602,'16년3추 일입'!$B$7:$B$602,'15년총괄표(실국별)'!$B30) -> 2354402 | F30: =SUMIFS('16년 3추일출'!$N$14:$N$703,'16년 3추일출'!$B$14:$B$703,'15년총괄표(실국별)'!$B30) -> 0 | G30: =SUMIFS('16년 3추일출'!$O$14:$O$703,'16년 3추일출'!$B$14:$B$703,'15년총괄표(실국별)'!$B30) -> 3220157 | H30: =C30+F30+G30 -> 168646955 | N30: =N26-K2 -> 0
B31: 교통국 | C31: 466950444 | D31: =SUMIFS('16년3추 일입'!$N$7:$N$602,'16년3추 일입'!$B$7:$B$602,'15년총괄표(실국별)'!$B31) -> 0 | E31: =SUMIFS('16년3추 일입'!$O$7:$O$602,'16년3추 일입'!$B$7:$B$602,'15년총괄표(실국별)'!$B31) -> 0 | F31: =SUMIFS('16년 3추일출'!$N$14:$N$703,'16년 3추일출'!$B$14:$B$703,'15년총괄표(실국별)'!$B31) -> -4650000 | G31: =SUMIFS('16년 3추일출'!$O$14:$O$703,'16년 3추일출'!$B$14:$B$703,'15년총괄표(실국별)'!$B31) -> 0 | H31: =C31+F31+G31 -> 462300444 | I31: =#REF!+#REF! -> #REF! | J31: =#REF!+#REF! -> #REF! | N31: =M7-N7 -> #REF!
B32: 건설국 | C32: 570450422 | D32: =SUMIFS('16년3추 일입'!$N$7:$N$602,'16년3추 일입'!$B$7:$B$602,'15년총괄표(실국별)'!$B32) -> 0 | E32: =SUMIFS('16년3추 일입'!$O$7:$O$602,'16년3추 일입'!$B$7:$B$602,'15년총괄표(실국별)'!$B32) -> 0 | F32: =SUMIFS('16년 3추일출'!$N$14:$N$703,'16년 3추일출'!$B$14:$B$703,'15년총괄표(실국별)'!$B32) -> 0 | G32: =SUMIFS('16년 3추일출'!$O$14:$O$703,'16년 3추일출'!$B$14:$B$703,'15년총괄표(실국별)'!$B32) -> 3278200 | H32: =C32+F32+G32 -> 573728622
B33: 건설본부 | C33: 48696301 | D33: =SUMIFS('16년3추 일입'!$N$7:$N$602,'16년3추 일입'!$B$7:$B$602,'15년총괄표(실국별)'!$B33) -> 0 | E33: =SUMIFS('16년3추 일입'!$O$7:$O$602,'16년3추 일입'!$B$7:$B$602,'15년총괄표(실국별)'!$B33) -> 800000 | F33: =SUMIFS('16년 3추일출'!$N$14:$N$703,'16년 3추일출'!$B$14:$B$703,'15년총괄표(실국별)'!$B33) -> 0 | G33: =SUMIFS('16년 3추일출'!$O$14:$O$703,'16년 3추일출'!$B$14:$B$703,'15년총괄표(실국별)'!$B33) -> 800000 | H33: =C33+F33+G33 -> 49496301
B37: 실국명 | C37: 일반 | D37: 기특 | E37: 공특 | F37: 합계
B38: 총합계 | C38: =SUM(C39:C64) -> 14504760931 | D38: =SUM(D39:D64) -> 1174065395 | E38: =SUM(E39:E64) -> 2139712389 | F38: =SUM(C38:E38) -> 17818538715
B39: 감사관 | C39: 1230140 | F39: =SUM(C39:E39) -> 1230140
B40: 기획조정실 | C40: 3253514147 | E40: 1741536684 | F40: =SUM(C40:E40) -> 4995050831
B41: 도시주택실 | C41: 302743533 | D41: 14731912 | E41: 33000000 | F41: =SUM(C41:E41) -> 350475445
B42: 자치행정국 | C42: 489102362 | F42: =SUM(C42:E42) -> 489102362
B43: 교육협력국 | C43: 1957985774 | D43: 166414000 | F43: =SUM(C43:E43) -> 2124399774
B44: 문화체육관광국 | C44: 246448826 | E44: 62624435 | F44: =SUM(C44:E44) -> 309073261
B45: 농정해양국 | C45: 255604029 | F45: =SUM(C45:E45) -> 255604029
B46: 철도국 | C46: 205393587 | F46: =SUM(C46:E46) -> 205393587
B47: 재난안전본부 | C47: =635730961+1074501+3040529+54258964 -> 694104955 | F47: =SUM(C47:E47) -> 694104955
B48: 의회사무처 | C48: 30412373 | F48: =SUM(C48:E48) -> 30412373
B49: 대변인 | C49: 12731214 | F49: =SUM(C49:E49) -> 12731214
B50: 대외협력담당관 | C50: 450511 | F50: =SUM(C50:E50) -> 450511
B51: 보건복지국 | C51: 1966943221 | D51: 836694418 | F51: =SUM(C51:E51) -> 2803637639
B52: 환경국 | C52: 96522924 | F52: =SUM(C52:E52) -> 96522924
B53: 여성가족국 | C53: 1454395771 | F53: =SUM(C53:E53) -> 1454395771
B54: 농업기술원 | C54: 35645539 | F54: =SUM(C54:E54) -> 35645539
B55: 인재개발원 | C55: 10314647 | F55: =SUM(C55:E55) -> 10314647
B56: 보건환경연구원 | C56: 8202067 | F56: =SUM(C56:E56) -> 8202067
B57: 수자원본부 | C57: 627640527 | D57: 4191000 | F57: =SUM(C57:E57) -> 631831527
B58: 복지여성실 | C58: 1328409175 | F58: =SUM(C58:E58) -> 1328409175
B59: 균형발전기획실 | C59: 199572128 | D59: 24291000 | F59: =SUM(C59:E59) -> 223863128
B60: 경제실 | C60: 203612581 | E60: 302551270 | F60: =SUM(C60:E60) -> 506163851
B61: 축산산림국 | C61: 165426798 | F61: =SUM(C61:E61) -> 165426798
B62: 교통국 | C62: 341380444 | D62: 125570000 | F62: =SUM(C62:E62) -> 466950444
B63: 건설국 | C63: 568277357 | D63: 2173065 | F63: =SUM(C63:E63) -> 570450422
B64: 건설본부 | C64: 48696301 | F64: =SUM(C64:E64) -> 48696301
I164: ◦ 본청 83,000 증 ◦ 북부청 377,000 증
K294: -50000

Sheet 예산안 표지
A4: 예결위 예산안 조정 결과
B6: - 2016년도 제3회 경기도 추가경정예산안
A12: 예산결산특별위원회

Sheet 16년 3추총괄표
A1: 2016년도 제3회 추가경정예산안(총괄)
A3: □ 총 괄 | C3: 세입예산 증감 | D3: =SUM(C7:D7) -> 89077971 | F3: 세출예산증감 | G3: =SUM(F7:G7) -> 89077971
J4: (단위 : 천원)
A5: 구 분 | B5: 집행부제출(안) | C5: 세입예산(안) | F5: 세출예산(안) | I5: 조정증감액 | J5: 수정예산(안) | L5: ※ 예산안 증감현황
C6: 감 액 | D6: 증 액 | E6: 증감액 | F6: 감 액 | G6: 증 액 | H6: 증감액 | L6: 구 분 | M6: 세입 | N6: 세출 | O6: 예비비 | P6: 비고
A7: 합 계 | B7: =SUM(B8:B17) -> 22308585965 | C7: =SUM(C8:C17) -> -479788 | D7: =SUM(D8:D17) -> 89557759 | E7: =SUM(E8:E17) -> 89077971 | F7: =SUM(F8:F17) -> -28681606 | G7: =SUM(G8:G17) -> 117759577 | H7: =SUM(H8:H17) -> 89077971 | I7: =SUM(I8:I17) -> 178155942 | J7: =SUM(J8:J17) -> 22397663936 | L7: 합 계 | M7: =SUM(M8:M9) -> 89077971 | N7: =SUM(N8:N9) -> 89077971 | O7: =M7-N7 -> 0
A8: 의회운영위원회 | B8: 58793305 | C8: =SUMIFS('16년3추 일입'!$N$7:$N$51,'16년3추 일입'!$A$7:$A$51,$A8)+SUMIFS('16년 3추특입'!$N$7:$N$35,'16년 3추특입'!$A$7:$A$35,$A8) -> 0 | D8: =SUMIFS('16년3추 일입'!$O$7:$O$51,'16년3추 일입'!$A$7:$A$51,$A8)+SUMIFS('16년 3추특입'!$O$7:$O$35,'16년 3추특입'!$A$7:$A$35,$A8) -> 0 | E8: =C8+D8 -> 0 | F8: =SUMIFS('16년 3추일출'!$N$7:$N$200,'16년 3추일출'!$A$7:$A$200,$A8)+SUMIFS('16년 3추특출'!$N$7:$N$100,'16년 3추특출'!$A$7:$A$100,$A8) -> -70000 | G8: =SUMIFS('16년 3추일출'!$O$7:$O$200,'16년 3추일출'!$A$7:$A$200,$A8)+SUMIFS('16년 3추특출'!$O$7:$O$100,'16년 3추특출'!$A$7:$A$100,$A8) -> 0 | H8: =F8+G8 -> -70000 | I8: =E8+H8 -> -70000 | J8: =B8+F8+G8 -> 58723305 | L8: 일반회계 | M8: =SUM(C24:D24) -> 64242035 | N8: =SUM(F24:G24) -> 64242035 | O8: =M8-N8 -> 0
A9: 기획재정위원회 | B9: 6944547374 | C9: =SUMIFS('16년3추 일입'!$N$7:$N$51,'16년3추 일입'!$A$7:$A$51,$A9)+SUMIFS('16년 3추특입'!$N$7:$N$35,'16년 3추특입'!$A$7:$A$35,$A9) -> 0 | D9: =SUMIFS('16년3추 일입'!$O$7:$O$51,'16년3추 일입'!$A$7:$A$51,$A9)+SUMIFS('16년 3추특입'!$O$7:$O$35,'16년 3추특입'!$A$7:$A$35,$A9) -> 13772000 | E9: =C9+D9 -> 13772000 | F9: =SUMIFS('16년 3추일출'!$N$7:$N$200,'16년 3추일출'!$A$7:$A$200,$A9)+SUMIFS('16년 3추특출'!$N$7:$N$100,'16년 3추특출'!$A$7:$A$100,$A9) -> -73360 | G9: =SUMIFS('16년 3추일출'!$O$7:$O$200,'16년 3추일출'!$A$7:$A$200,$A9)+SUMIFS('16년 3추특출'!$O$7:$O$100,'16년 3추특출'!$A$7:$A$100,$A9) -> 21730772 | H9: =F9+G9 -> 21657412 | I9: =E9+H9 -> 35429412 | J9: =B9+F9+G9 -> 6966204786 | L9: 특별회계 | M9: =SUM(C25:D25) -> 24835936 | N9: =SUM(F25:G25) -> 24835936 | O9: =M9-N9 -> 0
A10: 경제과학기술위원회 | B10: 540014874 | C10: =SUMIFS('16년3추 일입'!$N$7:$N$51,'16년3추 일입'!$A$7:$A$51,$A10)+SUMIFS('16년 3추특입'!$N$7:$N$35,'16년 3추특입'!$A$7:$A$35,$A10) -> 0 | D10: =SUMIFS('16년3추 일입'!$O$7:$O$51,'16년3추 일입'!$A$7:$A$51,$A10)+SUMIFS('16년 3추특입'!$O$7:$O$35,'16년 3추특입'!$A$7:$A$35,$A10) -> 0 | E10: =C10+D10 -> 0 | F10: =SUMIFS('16년 3추일출'!$N$7:$N$200,'16년 3추일출'!$A$7:$A$200,$A10)+SUMIFS('16년 3추특출'!$N$7:$N$100,'16년 3추특출'!$A$7:$A$100,$A10) -> -4000000 | G10: =SUMIFS('16년 3추일출'!$O$7:$O$200,'16년 3추일출'!$A$7:$A$200,$A10)+SUMIFS('16년 3추특출'!$O$7:$O$100,'16년 3추특출'!$A$7:$A$100,$A10) -> 2650000 | H10: =F10+G10 -> -1350000 | I10: =E10+H10 -> -1350000 | J10: =B10+F10+G10 -> 538664874
A11: 안전행정위원회 | B11: 1512341160 | C11: =SUMIFS('16년3추 일입'!$N$7:$N$51,'16년3추 일입'!$A$7:$A$51,$A11)+SUMIFS('16년 3추특입'!$N$7:$N$35,'16년 3추특입'!$A$7:$A$35,$A11) -> -4236 | D11: =SUMIFS('16년3추 일입'!$O$7:$O$51,'16년3추 일입'!$A$7:$A$51,$A11)+SUMIFS('16년 3추특입'!$O$7:$O$35,'16년 3추특입'!$A$7:$A$35,$A11) -> 77000 | E11: =C11+D11 -> 72764 | F11: =SUMIFS('16년 3추일출'!$N$7:$N$200,'16년 3추일출'!$A$7:$A$200,$A11)+SUMIFS('16년 3추특출'!$N$7:$N$100,'16년 3추특출'!$A$7:$A$100,$A11) -> -250000 | G11: =SUMIFS('16년 3추일출'!$O$7:$O$200,'16년 3추일출'!$A$7:$A$200,$A11)+SUMIFS('16년 3추특출'!$O$7:$O$100,'16년 3추특출'!$A$7:$A$100,$A11) -> 901843 | H11: =F11+G11 -> 651843 | I11: =E11+H11 -> 724607 | J11: =B11+F11+G11 -> 1512993003
A12: 문화체육관광위원회 | B12: 445965367 | C12: =SUMIFS('16년3추 일입'!$N$7:$N$51,'16년3추 일입'!$A$7:$A$51,$A12)+SUMIFS('16년 3추특입'!$N$7:$N$35,'16년 3추특입'!$A$7:$A$35,$A12) -> 0 | D12: =SUMIFS('16년3추 일입'!$O$7:$O$51,'16년3추 일입'!$A$7:$A$51,$A12)+SUMIFS('16년 3추특입'!$O$7:$O$35,'16년 3추특입'!$A$7:$A$35,$A12) -> 0 | E12: =C12+D12 -> 0 | F12: =SUMIFS('16년 3추일출'!$N$7:$N$200,'16년 3추일출'!$A$7:$A$200,$A12)+SUMIFS('16년 3추특출'!$N$7:$N$100,'16년 3추특출'!$A$7:$A$100,$A12) -> 0 | G12: =SUMIFS('16년 3추일출'!$O$7:$O$200,'16년 3추일출'!$A$7:$A$200,$A12)+SUMIFS('16년 3추특출'!$O$7:$O$100,'16년 3추특출'!$A$7:$A$100,$A12) -> 240000 | H12: =F12+G12 -> 240000 | I12: =E12+H12 -> 240000 | J12: =B12+F12+G12 -> 446205367
A13: 농정해양위원회 | B13: 538304870 | C13: =SUMIFS('16년3추 일입'!$N$7:$N$51,'16년3추 일입'!$A$7:$A$51,$A13)+SUMIFS('16년 3추특입'!$N$7:$N$35,'16년 3추특입'!$A$7:$A$35,$A13) -> -4159 | D13: =SUMIFS('16년3추 일입'!$O$7:$O$51,'16년3추 일입'!$A$7:$A$51,$A13)+SUMIFS('16년 3추특입'!$O$7:$O$35,'16년 3추특입'!$A$7:$A$35,$A13) -> 3854402 | E13: =C13+D13 -> 3850243 | F13: =SUMIFS('16년 3추일출'!$N$7:$N$200,'16년 3추일출'!$A$7:$A$200,$A13)+SUMIFS('16년 3추특출'!$N$7:$N$100,'16년 3추특출'!$A$7:$A$100,$A13) -> -126594 | G13: =SUMIFS('16년 3추일출'!$O$7:$O$200,'16년 3추일출'!$A$7:$A$200,$A13)+SUMIFS('16년 3추특출'!$O$7:$O$100,'16년 3추특출'!$A$7:$A$100,$A13) -> 4320157 | H13: =F13+G13 -> 4193563 | I13: =E13+H13 -> 8043806 | J13: =B13+F13+G13 -> 542498433
A14: 보건복지위원회 | B14: 4056409346 | C14: =SUMIFS('16년3추 일입'!$N$7:$N$51,'16년3추 일입'!$A$7:$A$51,$A14)+SUMIFS('16년 3추특입'!$N$7:$N$35,'16년 3추특입'!$A$7:$A$35,$A14) -> -55000 | D14: =SUMIFS('16년3추 일입'!$O$7:$O$51,'16년3추 일입'!$A$7:$A$51,$A14)+SUMIFS('16년 3추특입'!$O$7:$O$35,'16년 3추특입'!$A$7:$A$35,$A14) -> 51236165 | E14: =C14+D14 -> 51181165 | F14: =SUMIFS('16년 3추일출'!$N$7:$N$200,'16년 3추일출'!$A$7:$A$200,$A14)+SUMIFS('16년 3추특출'!$N$7:$N$100,'16년 3추특출'!$A$7:$A$100,$A14) -> -474685 | G14: =SUMIFS('16년 3추일출'!$O$7:$O$200,'16년 3추일출'!$A$7:$A$200,$A14)+SUMIFS('16년 3추특출'!$O$7:$O$100,'16년 3추특출'!$A$7:$A$100,$A14) -> 58258618 | H14: =F14+G14 -> 57783933 | I14: =E14+H14 -> 108965098 | J14: =B14+F14+G14 -> 4114193279
A15: 건설교통위원회 | B15: 1594913939 | C15: =SUMIFS('16년3추 일입'!$N$7:$N$51,'16년3추 일입'!$A$7:$A$51,$A15)+SUMIFS('16년 3추특입'!$N$7:$N$35,'16년 3추특입'!$A$7:$A$35,$A15) -> 0 | D15: =SUMIFS('16년3추 일입'!$O$7:$O$51,'16년3추 일입'!$A$7:$A$51,$A15)+SUMIFS('16년 3추특입'!$O$7:$O$35,'16년 3추특입'!$A$7:$A$35,$A15) -> 800000 | E15: =C15+D15 -> 800000 | F15: =SUMIFS('16년 3추일출'!$N$7:$N$200,'16년 3추일출'!$A$7:$A$200,$A15)+SUMIFS('16년 3추특출'!$N$7:$N$100,'16년 3추특출'!$A$7:$A$100,$A15) -> -4650000 | G15: =SUMIFS('16년 3추일출'!$O$7:$O$200,'16년 3추일출'!$A$7:$A$200,$A15)+SUMIFS('16년 3추특출'!$O$7:$O$100,'16년 3추특출'!$A$7:$A$100,$A15) -> 4078200 | H15: =F15+G15 -> -571800 | I15: =E15+H15 -> 228200 | J15: =B15+F15+G15 -> 1594342139
A16: 도시환경위원회 | B16: 1046847091 | C16: =SUMIFS('16년3추 일입'!$N$7:$N$51,'16년3추 일입'!$A$7:$A$51,$A16)+SUMIFS('16년 3추특입'!$N$7:$N$35,'16년 3추특입'!$A$7:$A$35,$A16) -> -413744 | D16: =SUMIFS('16년3추 일입'!$O$7:$O$51,'16년3추 일입'!$A$7:$A$51,$A16)+SUMIFS('16년 3추특입'!$O$7:$O$35,'16년 3추특입'!$A$7:$A$35,$A16) -> 54000 | E16: =C16+D16 -> -359744 | F16: =SUMIFS('16년 3추일출'!$N$7:$N$200,'16년 3추일출'!$A$7:$A$200,$A16)+SUMIFS('16년 3추특출'!$N$7:$N$100,'16년 3추특출'!$A$7:$A$100,$A16) -> -200000 | G16: =SUMIFS('16년 3추일출'!$O$7:$O$200,'16년 3추일출'!$A$7:$A$200,$A16)+SUMIFS('16년 3추특출'!$O$7:$O$100,'16년 3추특출'!$A$7:$A$100,$A16) -> 754000 | H16: =F16+G16 -> 554000 | I16: =E16+H16 -> 194256 | J16: =B16+F16+G16 -> 1047401091
A17: 여성가족교육협력위원회 | B17: 5570448639 | C17: =SUMIFS('16년3추 일입'!$N$7:$N$51,'16년3추 일입'!$A$7:$A$51,$A17)+SUMIFS('16년 3추특입'!$N$7:$N$35,'16년 3추특입'!$A$7:$A$35,$A17) -> -2649 | D17: =SUMIFS('16년3추 일입'!$O$7:$O$51,'16년3추 일입'!$A$7:$A$51,$A17)+SUMIFS('16년 3추특입'!$O$7:$O$35,'16년 3추특입'!$A$7:$A$35,$A17) -> 19764192 | E17: =C17+D17 -> 19761543 | F17: =SUMIFS('16년 3추일출'!$N$7:$N$200,'16년 3추일출'!$A$7:$A$200,$A17)+SUMIFS('16년 3추특출'!$N$7:$N$100,'16년 3추특출'!$A$7:$A$100,$A17) -> -18836967 | G17: =SUMIFS('16년 3추일출'!$O$7:$O$200,'16년 3추일출'!$A$7:$A$200,$A17)+SUMIFS('16년 3추특출'!$O$7:$O$100,'16년 3추특출'!$A$7:$A$100,$A17) -> 24825987 | H17: =F17+G17 -> 5989020 | I17: =E17+H17 -> 25750563 | J17: =B17+F17+G17 -> 5576437659
A19: □ 회계별 예산 총 규모
J20: (단위 : 천원)
A21: 구 분 | B21: 집행부제출(안) | C21: 세입예산(안) | F21: 세출예산(안) | I21: 조정증감액 | J21: 수정예산(안)
C22: 감 액 | D22: 증 액 | E22: 증감액 | F22: 감 액 | G22: 증 액 | H22: 증감액
A23: 합 계 | B23: =SUM(B24:B25) -> 22308585965 | C23: =SUM(C24:C25) -> -479788 | D23: =SUM(D24:D25) -> 89557759 | E23: =SUM(E24:E25) -> 89077971 | F23: =SUM(F24:F25) -> -28681606 | G23: =SUM(G24:G25) -> 117759577 | H23: =SUM(H24:H25) -> 89077971 | I23: =SUM(I24:I25) -> 178155942 | J23: =SUM(J24:J25) -> 22397663936
A24: 일반회계 | B24: 17796092289 | C24: ='16년3추 일입'!N6 -> -479788 | D24: ='16년3추 일입'!O6 -> 64721823 | E24: =C24+D24 -> 64242035 | F24: ='16년 3추일출'!N6 -> -28681606 | G24: ='16년 3추일출'!O6 -> 92923641 | H24: =F24+G24 -> 64242035 | I24: =E24+H24 -> 128484070 | J24: =B24+F24+G24 -> 17860334324
A25: 특별회계 | B25: 4512493676 | C25: ='16년 3추특입'!N6 -> 0 | D25: ='16년 3추특입'!O6 -> 24835936 | E25: =C25+D25 -> 24835936 | F25: ='16년 3추특출'!N6 -> 0 | G25: ='16년 3추특출'!O6 -> 24835936 | H25: =F25+G25 -> 24835936 | I25: =E25+H25 -> 49671872 | J25: =B25+F25+G25 -> 4537329612
E26: =SUM('16년3추 일입'!AB6:AC6)-'16년 3추총괄표'!E24 -> 0 | H26: =SUM('16년 3추일출'!AD6:AE6)-'16년 3추총괄표'!H24 -> 0
A28: ※ 회계별, 위원회별 집행부제출안
A29: 위원회명 | B29: 합계 | C29: 일반+기타 | D29: 일반회계 | E29: 기타특별회계 | F29: 공기업특별회계
A30: 합계 | B30: =SUM(B31:B40) -> 22308585965 | C30: =SUM(C31:C40) -> 19214397896 | D30: =SUM(D31:D40) -> 17796092289 | E30: =SUM(E31:E40) -> 1418305607 | F30: =SUM(F31:F40) -> 3094188069
A31: 의회운영위원회 | B31: =SUM(D31+E31+F31) -> 58793305 | C31: =SUM(D31:E31) -> 58793305 | D31: 58793305
A32: 기획재정위원회 | B32: =SUM(D32+E32+F32) -> 6944547374 | C32: =SUM(D32:E32) -> 4191829498 | D32: 4144049246 | E32: 47780252 | F32: 2752717876
A33: 경제과학기술위원회 | B33: =SUM(D33+E33+F33) -> 540014874 | C33: =SUM(D33:E33) -> 316723623 | D33: 316723623 | F33: 223291251
A34: 안전행정위원회 | B34: =SUM(D34+E34+F34) -> 1512341160 | C34: =SUM(D34:E34) -> 1512341160 | D34: 1512341160
A35: 문화체육관광위원회 | B35: =SUM(D35+E35+F35) -> 445965367 | C35: =SUM(D35:E35) -> 347286425 | D35: 347286425 | F35: 98678942
A36: 농정해양위원회 | B36: =SUM(D36+E36+F36) -> 538304870 | C36: =SUM(D36:E36) -> 538304870 | D36: 538304870
A37: 보건복지위원회 | B37: =SUM(D37+E37+F37) -> 4056409346 | C37: =SUM(D37:E37) -> 4056409346 | D37: 3125312720 | E37: 931096626
A38: 건설교통위원회 | B38: =SUM(D38+E38+F38) -> 1594913939 | C38: =SUM(D38:E38) -> 1594913939 | D38: 1480986012 | E38: =113718000+209927 -> 113927927
A39: 도시환경위원회 | B39: =SUM(D39+E39+F39) -> 1046847091 | C39: =SUM(D39:E39) -> 1027347091 | D39: 1007872189 | E39: =4610477+14864425 -> 19474902 | F39: 19500000
A40: 여성가족교육협력위원회 | B40: =SUM(D40+E40+F40) -> 5570448639 | C40: =SUM(D40:E40) -> 5570448639 | D40: 5264422739 | E40: 306025900
A42: 예비비

Sheet 16년3추 일입
A1: 2016년도 제3회 추경 경기도 일반회계 세입 예산 조정(안)
A2: □세입예산 | W2: 세입 = 세출 | AB2: 세입 = 세출
K3: =COUNTA(K7:K51) -> 4 | L3: =COUNTA(L7:L51) -> 13 | N3: =COUNTA(N7:N51) -> 6 | O3: =COUNTA(O7:O51) -> 34 | S3: (단위 : 천원) | T3: (단위 : 천원) | W3: =IF(W6='16년 3추일출'!$Y$6,"OK","@@") -> OK | X3: =SUM(W6:X6) -> 10491056 | Y3: =IF(COUNTIF(Y6:Y873,"@@")>0,"@@","OK") -> OK | AB3: =IF(AB6='16년 3추일출'!$AD$6,"OK","@@") -> OK | AC3: =SUM(AB6:AC6) -> 64242035 | AD3: =IF(COUNTIF(AD6:AD873,"@@")>0,"@@","OK") -> OK | AL3: =IF(W6=AL6,"OK","@@") -> OK | AP3: =IF(AB6=AP6,"OK","@@") -> OK
A4: 위원회명 | B4: 실국명 | C4: 부서명 | D4: 편성 구분 | E4: 예산안 페이지 | F4: 사 업 설명서 | G4: 목명 및 부기명 | H4: 제3회 추경 예산안 (가) | I4: 기정액 (나) | J4: 제3회 추경 증감액 (다=가-나) | K4: 상임위 예산안 조정액(나) | M4: 상임위 조정 예산안 (마=가or나+라) | N4: 예결위 예산안 조정액(라) | P4: 예결위 조정 예산안 (마=가or나+라) | Q4: 동의 대상 | R4: 상임위 변경사유 | S4: 상임위(부대의견) | T4: 비고(부대의견) | V4: 재원 | W4: 상임위 재원별 증감액 | AA4: 재원 | AB4: 예결위 재원별 증감액 | AF4: 세입번호 | AH4: 실국부서 코드 | AJ4: 추가 내시 등 | AL4: 상임위 세입 검증 | AP4: 예결위 세입 검증
K5: 감액 | L5: 증액 | N5: 감액 | O5: 증액 | W5: 국비 등 | X5: 도 비 | Y5: 검증 | AB5: 국비 등 | AC5: 도 비 | AD5: 검증 | AL5: 국비 증감액 | AM5: 건수 | AN5: 검증 | AP5: 국비 증감액 | AQ5: 건수 | AR5: 검증
H6: =SUM(H7:H51) -> 2267438810 | I6: =SUM(I7:I51) -> 2196853994 | J6: =SUM(J7:J51) -> 70584816 | K6: =SUM(K7:K51) -> -424728 | L6: =SUM(L7:L51) -> 10915784 | M6: =SUM(M7:M51) -> 2277929866 | N6: =SUM(N7:N51) -> -479788 | O6: =SUM(O7:O51) -> 64721823 | P6: =SUM(P7:P51) -> 2331680845 | W6: =SUBTOTAL(9,W7:W785) -> 10704901 | X6: =SUBTOTAL(9,X7:X785) -> -213845 | Y6: =IF((K6+L6)=(W6+X6),"OK","검토") -> OK | AB6: =SUBTOTAL(9,AB7:AB785) -> 50683880 | AC6: =SUBTOTAL(9,AC7:AC785) -> 13558155 | AD6: =IF((N6+O6)=(AB6+AC6),"OK","검토") -> OK | AL6: =SUBTOTAL(9,AL7:AL785) -> 10704901 | AM6: =SUBTOTAL(9,AM7:AM51) -> 61 | AN6: =IF(COUNTIF($AN$7:$AN$9896,"@@")>0,"@@","OK") -> OK | AP6: =SUBTOTAL(9,AP7:AP785) -> 50683880 | AQ6: =SUBTOTAL(9,AQ7:AQ51) -> 61 | AR6: =IF(COUNTIF($AR$7:$AR$9896,"@@")>0,"@@","OK") -> @@
A7: 안전행정위원회 | B7: 재난안전본부 | C7: 안전기획과 | D7: 신규 | G7: 특별교부세 - 지자체 안전표지판 설치비 | H7: 0 | I7: 0 | J7: =IF(D7="","",H7-I7) -> 0 | L7: 77000 | M7: =H7+K7+L7 -> 77000 | O7: 77000 | P7: =H7+N7+O7 -> 77000 | V7: 특교 | W7: =IF($V7<>"도비",IF($AF7="국도비","직접입력",SUM($K7:$L7)),) -> 77000 | X7: =IF($V7="도비",SUM($K7:$L7),IF($AF7="국도비","직접입력",SUM($K7:$L7)-$W7)) -> 0 | Y7: =IF($AF7="국도비","ok",IF(($K7+$L7)=($W7+$X7),"ok","검토")) -> ok | AA7: =$V7 -> 특교 | AB7: =IF($AA7<>"도비",IF($AF7="국도비","직접입력",SUM($N7:$O7)),) -> 77000 | AC7: =IF($AA7="도비",SUM($N7:$O7),IF($AF7="국도비","직접입력",SUM($N7:$O7)-$AB7)) -> 0 | AD7: =IF($AF7="국도비","ok",IF(($N7+$O7)=($AB7+$AC7),"ok","검토")) -> ok | AF7: =IF(AH7="","",IF($V7="도비","세입없음",$AH7&"-"&TEXT(COUNTIF(AH$7:AH7,AH$7:AH7),"00"))) -> 0416-01 | AH7: {=IFERROR(IF($C7="","",INDEX(구분표!$I$2:$I$1001,MATCH(1,(구분표!$B$2:$B$1001='16년3추 일입'!$A7)*(구분표!$C$2:$C$1001='16년3추 일입'!$B7)*(구분표!$A$2:$A$1001='16년3추 일입'!$C7),0))),"@@")} -> 0416 | AL7: =IF(AF7="","",SUMIFS('16년 3추일출'!$Y$14:$Y$9322,'16년 3추일출'!$AH$14:$AH$9322,'16년3추 일입'!$AF7)) -> 77000 | AM7: =IF(AF7="","",IF(AF7="세입없음","",COUNTIF('16년 3추일출'!$AH$14:$AH$9322,'16년3추 일입'!$AF7))) -> 1 | AN7: =IF(W7=0,"OK",IF(W7=AL7,"OK","@@")) -> OK | AP7: =IF(AF7="","",SUMIFS('16년 3추일출'!$AD$7:$AD$9322,'16년 3추일출'!$AH$7:$AH$9322,'16년3추 일입'!$AF7)) -> 77000 | AQ7: =IF(AF7="","",IF(AF7="세입없음","",COUNTIF('16년 3추일출'!$AH$14:$AH$9322,'16년3추 일입'!$AF7))) -> 1 | AR7: =IF(AB7=0,"OK",IF(AB7=AP7,"OK","@@")) -> OK | AS7: =SUM(N7:O7)-SUM(AB7:AC7) -> 0
A8: 안전행정위원회 | B8: 재난안전본부 | C8: 안전교육훈련담당관 | D8: 3회추경 | E8: 382 | F8: 23 | G8: 시도비반환금수입 - 안전교육훈련담당관 도비 사용잔액 | H8: 7218 | I8: 0 | J8: =IF(D8="","",H8-I8) -> 7218 | K8: -4236 | M8: =H8+K8+L8 -> 2982 | N8: -4236 | P8: =H8+N8+O8 -> 2982 | V8: 도비 | W8: =IF($V8<>"도비",IF($AF8="국도비","직접입력",SUM($K8:$L8)),) -> 0 | X8: =IF($V8="도비",SUM($K8:$L8),IF($AF8="국도비","직접입력",SUM($K8:$L8)-$W8)) -> -4236 | Y8: =IF($AF8="국도비","ok",IF(($K8+$L8)=($W8+$X8),"ok","검토")) -> ok | AA8: =$V8 -> 도비 | AB8: =IF($AA8<>"도비",IF($AF8="국도비","직접입력",SUM($N8:$O8)),) -> 0 | AC8: =IF($AA8="도비",SUM($N8:$O8),IF($AF8="국도비","직접입력",SUM($N8:$O8)-$AB8)) -> -4236 | AD8: =IF($AF8="국도비","ok",IF(($N8+$O8)=($AB8+$AC8),"ok","검토")) -> ok | AF8: =IF(AH8="","",IF($V8="도비","세입없음",$AH8&"-"&TEXT(COUNTIF(AH$7:AH8,AH$7:AH8),"00"))) -> 세입없음 | AH8: {=IFERROR(IF($C8="","",INDEX(구분표!$I$2:$I$1001,MATCH(1,(구분표!$B$2:$B$1001='16년3추 일입'!$A8)*(구분표!$C$2:$C$1001='16년3추 일입'!$B8)*(구분표!$A$2:$A$1001='16년3추 일입'!$C8),0))),"@@")} -> 0413 | AL8: =IF(AF8="","",SUMIFS('16년 3추일출'!$Y$14:$Y$9322,'16년 3추일출'!$AH$14:$AH$9322,'16년3추 일입'!$AF8)) -> 0 | AM8: =IF(AF8="","",IF(AF8="세입없음","",COUNTIF('16년 3추일출'!$AH$14:$AH$9322,'16년3추 일입'!$AF8))) | AN8: =IF(W8=0,"OK",IF(W8=AL8,"OK","@@")) -> OK | AP8: =IF(AF8="","",SUMIFS('16년 3추일출'!$AD$7:$AD$9322,'16년 3추일출'!$AH$7:$AH$9322,'16년3추 일입'!$AF8)) -> 0 | AQ8: =IF(AF8="","",IF(AF8="세입없음","",COUNTIF('16년 3추일출'!$AH$14:$AH$9322,'16년3추 일입'!$AF8))) | AR8: =IF(AB8=0,"OK",IF(AB8=AP8,"OK","@@")) -> OK | AS8: =SUM(N8:O8)-SUM(AB8:AC8) -> 0
A9: 도시환경위원회 | B9: 수자원본부 | C9: 수자원본부 | D9: 3회추경 | E9: 757 | F9: 4 | G9: 시도비반환금수입 - 수자원본부 도비 사용잔액 | H9: 2722770 | J9: =IF(D9="","",H9-I9) -> 2722770 | K9: -413744 | M9: =H9+K9+L9 -> 2309026 | N9: -413744 | P9: =H9+N9+O9 -> 2309026 | R9: 15년도 반납완료된 용인사사업 집행잔액 조정반영 | S9: 15년도 반납완료된 용인사사업 집행잔액 조정반영 | T9: 15년도 반납완료된 용인사사업 집행잔액 조정반영 | V9: 도비 | X9: =IF($V9="도비",SUM($K9:$L9),IF($AF9="국도비","직접입력",SUM($K9:$L9)-$W9)) -> -413744 | Y9: =IF($AF9="국도비","ok",IF(($K9+$L9)=($W9+$X9),"ok","검토")) -> ok | AA9: =$V9 -> 도비 | AB9: =IF($AA9<>"도비",IF($AF9="국도비","직접입력",SUM($N9:$O9)),) -> 0 | AC9: =IF($AA9="도비",SUM($N9:$O9),IF($AF9="국도비","직접입력",SUM($N9:$O9)-$AB9)) -> -413744 | AD9: =IF($AF9="국도비","ok",IF(($N9+$O9)=($AB9+$AC9),"ok","검토")) -> ok | AF9: =IF(AH9="","",IF($V9="도비","세입없음",$AH9&"-"&TEXT(COUNTIF(AH$7:AH9,AH$7:AH9),"00"))) -> 세입없음 | AH9: {=IFERROR(IF($C9="","",INDEX(구분표!$I$2:$I$1001,MATCH(1,(구분표!$B$2:$B$1001='16년3추 일입'!$A9)*(구분표!$C$2:$C$1001='16년3추 일입'!$B9)*(구분표!$A$2:$A$1001='16년3추 일입'!$C9),0))),"@@")} -> 0921 | AL9: =IF(AF9="","",SUMIFS('16년 3추일출'!$Y$14:$Y$9322,'16년 3추일출'!$AH$14:$AH$9322,'16년3추 일입'!$AF9)) -> 0 | AM9: =IF(AF9="","",IF(AF9="세입없음","",COUNTIF('16년 3추일출'!$AH$14:$AH$9322,'16년3추 일입'!$AF9))) | AN9: =IF(W9=0,"OK",IF(W9=AL9,"OK","@@")) -> OK | AP9: =IF(AF9="","",SUMIFS('16년 3추일출'!$AD$7:$AD$9322,'16년 3추일출'!$AH$7:$AH$9322,'16년3추 일입'!$AF9)) -> 0 | AQ9: =IF(AF9="","",IF(AF9="세입없음","",COUNTIF('16년 3추일출'!$AH$14:$AH$9322,'16년3추 일입'!$AF9))) | AR9: =IF(AB9=0,"OK",IF(AB9=AP9,"OK","@@")) -> OK | AS9: =SUM(N9:O9)-SUM(AB9:AC9) -> 0
A10: 문화체육관광위원회 | B10: 문화체육관광국 | C10: 문화유산과 | D10: 3회추경 | E10: 460 | F10: 36 | G10: 기금 - 문화재 긴급보수사업 | H10: 200000 | J10: =IF(D10="","",H10-I10) -> 200000 | M10: =H10+K10+L10 -> 200000 | P10: =H10+N10+O10 -> 200000 | R10: 과목경정 (국고보조금에서 기금으로 목 변경) | S10: 과목경정 (국고보조금에서 기금으로 목 변경) | T10: 과목경정 (국고보조금에서 기금으로 목 변경) | V10: 기금 | W10: =IF($V10<>"도비",IF($AF10="국도비","직접입력",SUM($K10:$L10)),) -> 0 | X10: =IF($V10="도비",SUM($K10:$L10),IF($AF10="국도비","직접입력",SUM($K10:$L10)-$W10)) -> 0 | Y10: =IF($AF10="국도비","ok",IF(($K10+$L10)=($W10+$X10),"ok","검토")) -> ok | AA10: =$V10 -> 기금 | AB10: =IF($AA10<>"도비",IF($AF10="국도비","직접입력",SUM($N10:$O10)),) -> 0 | AC10: =IF($AA10="도비",SUM($N10:$O10),IF($AF10="국도비","직접입력",SUM($N10:$O10)-$AB10)) -> 0 | AD10: =IF($AF10="국도비","ok",IF(($N10+$O10)=($AB10+$AC10),"ok","검토")) -> ok | AF10: =IF(AH10="","",IF($V10="도비","세입없음",$AH10&"-"&TEXT(COUNTIF(AH$7:AH10,AH$7:AH10),"00"))) -> 0504-01 | AH10: {=IFERROR(IF($C10="","",INDEX(구분표!$I$2:$I$1001,MATCH(1,(구분표!$B$2:$B$1001='16년3추 일입'!$A10)*(구분표!$C$2:$C$1001='16년3추 일입'!$B10)*(구분표!$A$2:$A$1001='16년3추 일입'!$C10),0))),"@@")} -> 0504 | AL10: =IF(AF10="","",SUMIFS('16년 3추일출'!$Y$14:$Y$9322,'16년 3추일출'!$AH$14:$AH$9322,'16년3추 일입'!$AF10)) -> 0 | AM10: =IF(AF10="","",IF(AF10="세입없음","",COUNTIF('16년 3추일출'!$AH$14:$AH$9322,'16년3추 일입'!$AF10))) -> 1 | AN10: =IF(W10=0,"OK",IF(W10=AL10,"OK","@@")) -> OK | AP10: =IF(AF10="","",SUMIFS('16년 3추일출'!$AD$7:$AD$9322,'16년 3추일출'!$AH$7:$AH$9322,'16년3추 일입'!$AF10)) -> 0 | AQ10: =IF(AF10="","",IF(AF10="세입없음","",COUNTIF('16년 3추일출'!$AH$14:$AH$9322,'16년3추 일입'!$AF10))) -> 1 | AR10: =IF(AB10=0,"OK",IF(AB10=AP10,"OK","@@")) -> OK | AS10: =SUM(N10:O10)-SUM(AB10:AC10) -> 0
A11: 건설교통위원회 | B11: 건설본부 | C11: 북부도로과 | D11: 신규 | G11: 특별교부세 - 비룡대교 긴급복구 | H11: 0 | I11: 0 | J11: =IF(D11="","",H11-I11) -> 0 | L11: 800000 | M11: =H11+K11+L11 -> 800000 | O11: 800000 | P11: =H11+N11+O11 -> 800000 | V11: 특교 | W11: =IF($V11<>"도비",IF($AF11="국도비","직접입력",SUM($K11:$L11)),) -> 800000 | X11: =IF($V11="도비",SUM($K11:$L11),IF($AF11="국도비","직접입력",SUM($K11:$L11)-$W11)) -> 0 | Y11: =IF($AF11="국도비","ok",IF(($K11+$L11)=($W11+$X11),"ok","검토")) -> ok | AA11: =$V11 -> 특교 | AB11: =IF($AA11<>"도비",IF($AF11="국도비","직접입력",SUM($N11:$O11)),) -> 800000 | AC11: =IF($AA11="도비",SUM($N11:$O11),IF($AF11="국도비","직접입력",SUM($N11:$O11)-$AB11)) -> 0 | AD11: =IF($AF11="국도비","ok",IF(($N11+$O11)=($AB11+$AC11),"ok","검토")) -> ok | AF11: =IF(AH11="","",IF($V11="도비","세입없음",$AH11&"-"&TEXT(COUNTIF(AH$7:AH11,AH$7:AH11),"00"))) -> 0815-01 | AH11: {=IFERROR(IF($C11="","",INDEX(구분표!$I$2:$I$1001,MATCH(1,(구분표!$B$2:$B$1001='16년3추 일입'!$A11)*(구분표!$C$2:$C$1001='16년3추 일입'!$B11)*(구분표!$A$2:$A$1001='16년3추 일입'!$C11),0))),"@@")} -> 0815 | AL11: =IF(AF11="","",SUMIFS('16년 3추일출'!$Y$14:$Y$9322,'16년 3추일출'!$AH$14:$AH$9322,'16년3추 일입'!$AF11)) -> 800000 | AM11: =IF(AF11="","",IF(AF11="세입없음","",COUNTIF('16년 3추일출'!$AH$14:$AH$9322,'16년3추 일입'!$AF11))) -> 1 | AN11: =IF(W11=0,"OK",IF(W11=AL11,"OK","@@")) -> OK | AP11: =IF(AF11="","",SUMIFS('16년 3추일출'!$AD$7:$AD$9322,'16년 3추일출'!$AH$7:$AH$9322,'16년3추 일입'!$AF11)) -> 800000 | AQ11: =IF(AF11="","",IF(AF11="세입없음","",COUNTIF('16년 3추일출'!$AH$14:$AH$9322,'16년3추 일입'!$AF11))) -> 1 | AR11: =IF(AB11=0,"OK",IF(AB11=AP11,"OK","@@")) -> OK | AS11: =SUM(N11:O11)-SUM(AB11:AC11) -> 0
A12: 여성가족교육협력위원회 | B12: 여성가족국 | C12: 여성가족과 | D12: 3회추경 | E12: 777 | F12: 10 | G12: 기금 - 성매매 피해자 지원사업 | H12: 1837025 | I12: 1727938 | J12: =IF(D12="","",H12-I12) -> 109087 | L12: 25500 | M12: =H12+K12+L12 -> 1862525 | O12: 25500 | P12: =H12+N12+O12 -> 1862525 | R12: 국비 변경내시, 여성가족부 권익지원과-2264(2016.8.23.) | S12: 국비 변경내시, 여성가족부 권익지원과-2264(2016.8.23.) | T12: 국비 변경내시, 여성가족부 권익지원과-2264(2016.8.23.) | V12: 기금 | W12: =IF($V12<>"도비",IF($AF12="국도비","직접입력",SUM($K12:$L12)),) -> 25500 | X12: =IF($V12="도비",SUM($K12:$L12),IF($AF12="국도비","직접입력",SUM($K12:$L12)-$W12)) -> 0 | Y12: =IF($AF12="국도비","ok",IF(($K12+$L12)=($W12+$X12),"ok","검토")) -> ok | AA12: =$V12 -> 기금 | AB12: =IF($AA12<>"도비",IF($AF12="국도비","직접입력",SUM($N12:$O12)),) -> 25500 | AC12: =IF($AA12="도비",SUM($N12:$O12),IF($AF12="국도비","직접입력",SUM($N12:$O12)-$AB12)) -> 0 | AD12: =IF($AF12="국도비","ok",IF(($N12+$O12)=($AB12+$AC12),"ok","검토")) -> ok | AF12: 3201-01 | AH12: {=IFERROR(IF($C12="","",INDEX(구분표!$I$2:$I$1001,MATCH(1,(구분표!$B$2:$B$1001='16년3추 일입'!$A12)*(구분표!$C$2:$C$1001='16년3추 일입'!$B12)*(구분표!$A$2:$A$1001='16년3추 일입'!$C12),0))),"@@")} -> 1004 | AL12: =IF(AF12="","",SUMIFS('16년 3추일출'!$Y$14:$Y$9322,'16년 3추일출'!$AH$14:$AH$9322,'16년3추 일입'!$AF12)) -> 25500 | AM12: =IF(AF12="","",IF(AF12="세입없음","",COUNTIF('16년 3추일출'!$AH$14:$AH$9322,'16년3추 일입'!$AF12))) -> 4 | AN12: =IF(W12=0,"OK",IF(W12=AL12,"OK","@@")) -> OK | AP12: =IF(AF12="","",SUMIFS('16년 3추일출'!$AD$7:$AD$9322,'16년 3추일출'!$AH$7:$AH$9322,'16년3추 일입'!$AF12)) -> 25500 | AQ12: =IF(AF12="","",IF(AF12="세입없음","",COUNTIF('16년 3추일출'!$AH$14:$AH$9322,'16년3추 일입'!$AF12))) -> 4 | AR12: =IF(AB12=0,"OK",IF(AB12=AP12,"OK","@@")) -> OK | AS12: =SUM(N12:O12)-SUM(AB12:AC12) -> 0
A13: 여성가족교육협력위원회 | B13: 여성가족국 | C13: 여성가족과 | D13: 3회추경 | E13: 777 | F13: 10 | G13: 기금 - 경력단절여성고용촉진사업 | H13: 631000 | I13: 600000 | J13: =IF(D13="","",H13-I13) -> 31000 | L13: 18000 | M13: =H13+K13+L13 -> 649000 | O13: 18000 | P13: =H13+N13+O13 -> 649000 | R13: 국비 변경내시, 고용노동부 여성고용정책과-2919(2016.8.18.) | S13: 국비 변경내시, 고용노동부 여성고용정책과-2919(2016.8.18.) | T13: 국비 변경내시, 고용노동부 여성고용정책과-2919(2016.8.18.) | V13: 기금 | W13: =IF($V13<>"도비",IF($AF13="국도비","직접입력",SUM($K13:$L13)),) -> 18000 | X13: =IF($V13="도비",SUM($K13:$L13),IF($AF13="국도비","직접입력",SUM($K13:$L13)-$W13)) -> 0 | Y13: =IF($AF13="국도비","ok",IF(($K13+$L13)=($W13+$X13),"ok","검토")) -> ok | AA13: =$V13 -> 기금 | AB13: =IF($AA13<>"도비",IF($AF13="국도비","직접입력",SUM($N13:$O13)),) -> 18000 | AC13: =IF($AA13="도비",SUM($N13:$O13),IF($AF13="국도비","직접입력",SUM($N13:$O13)-$AB13)) -> 0 | AD13: =IF($AF13="국도비","ok",IF(($N13+$O13)=($AB13+$AC13),"ok","검토")) -> ok | AF13: 3201-02 | AH13: {=IFERROR(IF($C13="","",INDEX(구분표!$I$2:$I$1001,MATCH(1,(구분표!$B$2:$B$1001='16년3추 일입'!$A13)*(구분표!$C$2:$C$1001='16년3추 일입'!$B13)*(구분표!$A$2:$A$1001='16년3추 일입'!$C13),0))),"@@")} -> 1004 | AL13: =IF(AF13="","",SUMIFS('16년 3추일출'!$Y$14:$Y$9322,'16년 3추일출'!$AH$14:$AH$9322,'16년3추 일입'!$AF13)) -> 18000 | AM13: =IF(AF13="","",IF(AF13="세입없음","",COUNTIF('16년 3추일출'!$AH$14:$AH$9322,'16년3추 일입'!$AF13))) -> 1 | AN13: =IF(W13=0,"OK",IF(W13=AL13,"OK","@@")) -> OK | AP13: =IF(AF13="","",SUMIFS('16년 3추일출'!$AD$7:$AD$9322,'16년 3추일출'!$AH$7:$AH$9322,'16년3추 일입'!$AF13)) -> 18000 | AQ13: =IF(AF13="","",IF(AF13="세입없음","",COUNTIF('16년 3추일출'!$AH$14:$AH$9322,'16년3추 일입'!$AF13))) -> 1 | AR13: =IF(AB13=0,"OK",IF(AB13=AP13,"OK","@@")) -> OK | AS13: =SUM(N13:O13)-SUM(AB13:AC13) -> 0
A14: 여성가족교육협력위원회 | B14: 여성가족국 | C14: 아동청소년과 | D14: 3회추경 | E14: 779 | F14: 21 | G14: 기금 - 청소년 사회안전망 구축 | H14: 5873287 | I14: 5977643 | J14: =IF(D14="","",H14-I14) -> -104356 | L14: 6500 | M14: =H14+K14+L14 -> 5879787 | O14: 6500 | P14: =H14+N14+O14 -> 5879787 | R14: 국비 변경내시, 여성가족부 학교밖청소년지원과-1553(2016.8.17.) | S14: 국비 변경내시, 여성가족부 학교밖청소년지원과-1553(2016.8.17.) | T14: 국비 변경내시, 여성가족부 학교밖청소년지원과-1553(2016.8.17.) | V14: 기금 | W14: =IF($V14<>"도비",IF($AF14="국도비","직접입력",SUM($K14:$L14)),) -> 6500 | X14: =IF($V14="도비",SUM($K14:$L14),IF($AF14="국도비","직접입력",SUM($K14:$L14)-$W14)) -> 0 | Y14: =IF($AF14="국도비","ok",IF(($K14+$L14)=($W14+$X14),"ok","검토")) -> ok | AA14: =$V14 -> 기금 | AB14: =IF($AA14<>"도비",IF($AF14="국도비","직접입력",SUM($N14:$O14)),) -> 6500 | AC14: =IF($AA14="도비",SUM($N14:$O14),IF($AF14="국도비","직접입력",SUM($N14:$O14)-$AB14)) -> 0 | AD14: =IF($AF14="국도비","ok",IF(($N14+$O14)=($AB14+$AC14),"ok","검토")) -> ok | AF14: =IF(AH14="","",IF($V14="도비","세입없음",$AH14&"-"&TEXT(COUNTIF(AH$7:AH14,AH$7:AH14),"00"))) -> 1006-01 | AH14: {=IFERROR(IF($C14="","",INDEX(구분표!$I$2:$I$1001,MATCH(1,(구분표!$B$2:$B$1001='16년3추 일입'!$A14)*(구분표!$C$2:$C$1001='16년3추 일입'!$B14)*(구분표!$A$2:$A$1001='16년3추 일입'!$C14),0))),"@@")} -> 1006 | AL14: =IF(AF14="","",SUMIFS('16년 3추일출'!$Y$14:$Y$9322,'16년 3추일출'!$AH$14:$AH$9322,'16년3추 일입'!$AF14)) -> 6500 | AM14: =IF(AF14="","",IF(AF14="세입없음","",COUNTIF('16년 3추일출'!$AH$14:$AH$9322,'16년3추 일입'!$AF14))) -> 1 | AN14: =IF(W14=0,"OK",IF(W14=AL14,"OK","@@")) -> OK | AP14: =IF(AF14="","",SUMIFS('16년 3추일출'!$AD$7:$AD$9322,'16년 3추일출'!$AH$7:$AH$9322,'16년3추 일입'!$AF14)) -> 6500 | AQ14: =IF(AF14="","",IF(AF14="세입없음","",COUNTIF('16년 3추일출'!$AH$14:$AH$9322,'16년3추 일입'!$AF14))) -> 1 | AR14: =IF(AB14=0,"OK",IF(AB14=AP14,"OK","@@")) -> OK | AS14: =SUM(N14:O14)-SUM(AB14:AC14) -> 0
A15: 여성가족교육협력위원회 | B15: 여성가족국 | C15: 여성비전센터 | D15: 3회추경 | E15: 780 | F15: 31 | G15: 국고보조금 - 아이돌봄 지원사업 | H15: 15729649 | I15: 15727000 | J15: =IF(D15="","",H15-I15) -> 2649 | K15: -2649 | M15: =H15+K15+L15 -> 15727000 | N15: -2649 | P15: =H15+N15+O15 -> 15727000 | R15: 아이돌봄 사업간 예산액 조정 | S15: 아이돌봄 사업간 예산액 조정 | T15: 아이돌봄 사업간 예산액 조정 | V15: 국비 | W15: =IF($V15<>"도비",IF($AF15="국도비","직접입력",SUM($K15:$L15)),) -> -2649 | X15: =IF($V15="도비",SUM($K15:$L15),IF($AF15="국도비","직접입력",SUM($K15:$L15)-$W15)) -> 0 | Y15: =IF($AF15="국도비","ok",IF(($K15+$L15)=($W15+$X15),"ok","검토")) -> ok | AA15: =$V15 -> 국비 | AB15: =IF($AA15<>"도비",IF($AF15="국도비","직접입력",SUM($N15:$O15)),) -> -2649 | AC15: =IF($AA15="도비",SUM($N15:$O15),IF($AF15="국도비","직접입력",SUM($N15:$O15)-$AB15)) -> 0 | AD15: =IF($AF15="국도비","ok",IF(($N15+$O15)=($AB15+$AC15),"ok","검토")) -> ok | AF15: =IF(AH15="","",IF($V15="도비","세입없음",$AH15&"-"&TEXT(COUNTIF(AH$7:AH15,AH$7:AH15),"00"))) -> 1008-01 | AH15: {=IFERROR(IF($C15="","",INDEX(구분표!$I$2:$I$1001,MATCH(1,(구분표!$B$2:$B$1001='16년3추 일입'!$A15)*(구분표!$C$2:$C$1001='16년3추 일입'!$B15)*(구분표!$A$2:$A$1001='16년3추 일입'!$C15),0))),"@@")} -> 1008 | AL15: =IF(AF15="","",SUMIFS('16년 3추일출'!$Y$14:$Y$9322,'16년 3추일출'!$AH$14:$AH$9322,'16년3추 일입'!$AF15)) -> -2649 | AM15: =IF(AF15="","",IF(AF15="세입없음","",COUNTIF('16년 3추일출'!$AH$14:$AH$9322,'16년3추 일입'!$AF15))) -> 1 | AN15: =IF(W15=0,"OK",IF(W15=AL15,"OK","@@")) -> OK | AP15: =IF(AF15="","",SUMIFS('16년 3추일출'!$AD$7:$AD$9322,'16년 3추일출'!$AH$7:$AH$9322,'16년3추 일입'!$AF15)) -> -2649 | AQ15: =IF(AF15="","",IF(AF15="세입없음","",COUNTIF('16년 3추일출'!$AH$14:$AH$9322,'16년3추 일입'!$AF15))) -> 1 | AR15: =IF(AB15=0,"OK",IF(AB15=AP15,"OK","@@")) -> OK | AS15: =SUM(N15:O15)-SUM(AB15:AC15) -> 0
A16: 여성가족교육협력위원회 | B16: 교육협력국 | C16: 교육협력과 | D16: 3회추경 | E16: 831 | F16: 13 | G16: 국고보조금 - 공공건축물 에너지성능개선 사업 | H16: 150000 | I16: 0 | J16: =IF(D16="","",H16-I16) -> 150000 | M16: =H16+K16+L16 -> 150000 | P16: =H16+N16+O16 -> 150000 | R16: 부기명변경(따복기숙사 에너지성능개선사업 -> 공공건축물 에너지성능개선 사업) | S16: 부기명변경(따복기숙사 에너지성능개선사업 -> 공공건축물 에너지성능개선 사업) | T16: 부기명변경(따복기숙사 에너지성능개선사업 -> 공공건축물 에너지성능개선 사업) | V16: 국비 | W16: =IF($V16<>"도비",IF($AF16="국도비","직접입력",SUM($K16:$L16)),) -> 0 | X16: =IF($V16="도비",SUM($K16:$L16),IF($AF16="국도비","직접입력",SUM($K16:$L16)-$W16)) -> 0 | Y16: =IF($AF16="국도비","ok",IF(($K16+$L16)=($W16+$X16),"ok","검토")) -> ok | AA16: =$V16 -> 국비 | AB16: =IF($AA16<>"도비",IF($AF16="국도비","직접입력",SUM($N16:$O16)),) -> 0 | AC16: =IF($AA16="도비",SUM($N16:$O16),IF($AF16="국도비","직접입력",SUM($N16:$O16)-$AB16)) -> 0 | AD16: =IF($AF16="국도비","ok",IF(($N16+$O16)=($AB16+$AC16),"ok","검토")) -> ok | AF16: =IF(AH16="","",IF($V16="도비","세입없음",$AH16&"-"&TEXT(COUNTIF(AH$7:AH16,AH$7:AH16),"00"))) -> 1002-01 | AH16: {=IFERROR(IF($C16="","",INDEX(구분표!$I$2:$I$1001,MATCH(1,(구분표!$B$2:$B$1001='16년3추 일입'!$A16)*(구분표!$C$2:$C$1001='16년3추 일입'!$B16)*(구분표!$A$2:$A$1001='16년3추 일입'!$C16),0))),"@@")} -> 1002 | AL16: =IF(AF16="","",SUMIFS('16년 3추일출'!$Y$14:$Y$9322,'16년 3추일출'!$AH$14:$AH$9322,'16년3추 일입'!$AF16)) -> 0 | AM16: =IF(AF16="","",IF(AF16="세입없음","",COUNTIF('16년 3추일출'!$AH$14:$AH$9322,'16년3추 일입'!$AF16))) -> 0 | AN16: =IF(W16=0,"OK",IF(W16=AL16,"OK","@@")) -> OK | AP16: =IF(AF16="","",SUMIFS('16년 3추일출'!$AD$7:$AD$9322,'16년 3추일출'!$AH$7:$AH$9322,'16년3추 일입'!$AF16)) -> 0 | AQ16: =IF(AF16="","",IF(AF16="세입없음","",COUNTIF('16년 3추일출'!$AH$14:$AH$9322,'16년3추 일입'!$AF16))) -> 0 | AR16: =IF(AB16=0,"OK",IF(AB16=AP16,"OK","@@")) -> OK | AS16: =SUM(N16:O16)-SUM(AB16:AC16) -> 0
A17: 보건복지위원회 | B17: 보건복지국 | C17: 사회적일자리과 | D17: 3회추경 | E17: 572 | F17: 36 | G17: 국고보조금 - 근로능력이있는 수급자의 탈수급 지원 | H17: 11570798 | I17: 11547553 | J17: =IF(D17="","",H17-I17) -> 23245 | L17: 669202 | M17: =H17+K17+L17 -> 12240000 | O17: 669202 | P17: =H17+N17+O17 -> 12240000 | R17: 국비 변경내시 보건복지부 자립지원과-5566(2016.8.23.)호 | S17: 국비 변경내시 보건복지부 자립지원과-5566(2016.8.23.)호 | T17: 국비 변경내시 보건복지부 자립지원과-5566(2016.8.23.)호 | V17: 국비 | W17: =IF($V17<>"도비",IF($AF17="국도비","직접입력",SUM($K17:$L17)),) -> 669202 | X17: =IF($V17="도비",SUM($K17:$L17),IF($AF17="국도비","직접입력",SUM($K17:$L17)-$W17)) -> 0 | Y17: =IF($AF17="국도비","ok",IF(($K17+$L17)=($W17+$X17),"ok","검토")) -> ok | AA17: =$V17 -> 국비 | AB17: =IF($AA17<>"도비",IF($AF17="국도비","직접입력",SUM($N17:$O17)),) -> 669202 | AC17: =IF($AA17="도비",SUM($N17:$O17),IF($AF17="국도비","직접입력",SUM($N17:$O17)-$AB17)) -> 0 | AD17: =IF($AF17="국도비","ok",IF(($N17+$O17)=($AB17+$AC17),"ok","검토")) -> ok | AF17: =IF(AH17="","",IF($V17="도비","세입없음",$AH17&"-"&TEXT(COUNTIF(AH$7:AH17,AH$7:AH17),"00"))) -> 0702-01 | AH17: {=IFERROR(IF($C17="","",INDEX(구분표!$I$2:$I$1001,MATCH(1,(구분표!$B$2:$B$1001='16년3추 일입'!$A17)*(구분표!$C$2:$C$1001='16년3추 일입'!$B17)*(구분표!$A$2:$A$1001='16년3추 일입'!$C17),0))),"@@")} -> 0702 | AL17: =IF(AF17="","",SUMIFS('16년 3추일출'!$Y$14:$Y$9322,'16년 3추일출'!$AH$14:$AH$9322,'16년3추 일입'!$AF17)) -> 669202 | AM17: =IF(AF17="","",IF(AF17="세입없음","",COUNTIF('16년 3추일출'!$AH$14:$AH$9322,'16년3추 일입'!$AF17))) -> 4 | AN17: =IF(W17=0,"OK",IF(W17=AL17,"OK","@@")) -> OK | AP17: =IF(AF17="","",SUMIFS('16년 3추일출'!$AD$7:$AD$9322,'16년 3추일출'!$AH$7:$AH$9322,'16년3추 일입'!$AF17)) -> 683675 | AQ17: =IF(AF17="","",IF(AF17="세입없음","",COUNTIF('16년 3추일출'!$AH$14:$AH$9322,'16년3추 일입'!$AF17))) -> 4 | AR17: =IF(AB17=0,"OK",IF(AB17=AP17,"OK","@@")) -> @@ | AS17: =SUM(N17:O17)-SUM(AB17:AC17) -> 0
A18: 보건복지위원회 | B18: 보건복지국 | C18: 장애인복지과 | D18: 본예산 | E18: 65 | G18: 국고보조금 - 장애수당(기초) | H18: 10828531 | I18: 10828531 | J18: =IF(D18="","",H18-I18) -> 0 | L18: 1852188 | M18: =H18+K18+L18 -> 12680719 | O18: 1852188 | P18: =H18+N18+O18 -> 12680719 | R18: 보건복지부 장애인자립기반과-5362호(2016.8.1.) 국 : 1,252,008천원 / 도 : 80,486천원 | S18: 보건복지부 장애인자립기반과-5362호(2016.8.1.) 국 : 1,252,008천원 / 도 : 80,486천원 | T18: 보건복지부 장애인자립기반과-5362호(2016.8.1.) 국 : 1,252,008천원 / 도 : 80,486천원 | V18: 국비 | W18: =IF($V18<>"도비",IF($AF18="국도비","직접입력",SUM($K18:$L18)),) -> 1852188 | X18: =IF($V18="도비",SUM($K18:$L18),IF($AF18="국도비","직접입력",SUM($K18:$L18)-$W18)) -> 0 | Y18: =IF($AF18="국도비","ok",IF(($K18+$L18)=($W18+$X18),"ok","검토")) -> ok | AA18: =$V18 -> 국비 | AB18: =IF($AA18<>"도비",IF($AF18="국도비","직접입력",SUM($N18:$O18)),) -> 1852188 | AC18: =IF($AA18="도비",SUM($N18:$O18),IF($AF18="국도비","직접입력",SUM($N18:$O18)-$AB18)) -> 0 | AD18: =IF($AF18="국도비","ok",IF(($N18+$O18)=($AB18+$AC18),"ok","검토")) -> ok | AF18: =IF(AH18="","",IF($V18="도비","세입없음",$AH18&"-"&TEXT(COUNTIF(AH$7:AH18,AH$7:AH18),"00"))) -> 0704-01 | AH18: {=IFERROR(IF($C18="","",INDEX(구분표!$I$2:$I$1001,MATCH(1,(구분표!$B$2:$B$1001='16년3추 일입'!$A18)*(구분표!$C$2:$C$1001='16년3추 일입'!$B18)*(구분표!$A$2:$A$1001='16년3추 일입'!$C18),0))),"@@")} -> 0704 | AL18: =IF(AF18="","",SUMIFS('16년 3추일출'!$Y$14:$Y$9322,'16년 3추일출'!$AH$14:$AH$9322,'16년3추 일입'!$AF18)) -> 1852188 | AM18: =IF(AF18="","",IF(AF18="세입없음","",COUNTIF('16년 3추일출'!$AH$14:$AH$9322,'16년3추 일입'!$AF18))) -> 2 | AN18: =IF(W18=0,"OK",IF(W18=AL18,"OK","@@")) -> OK | AP18: =IF(AF18="","",SUMIFS('16년 3추일출'!$AD$7:$AD$9322,'16년 3추일출'!$AH$7:$AH$9322,'16년3추 일입'!$AF18)) -> 1852188 | AQ18: =IF(AF18="","",IF(AF18="세입없음","",COUNTIF('16년 3추일출'!$AH$14:$AH$9322,'16년3추 일입'!$AF18))) -> 2 | AR18: =IF(AB18=0,"OK",IF(AB18=AP18,"OK","@@")) -> OK | AS18: =SUM(N18:O18)-SUM(AB18:AC18) -> 0
A19: 보건복지위원회 | B19: 보건복지국 | C19: 장애인복지과 | D19: 본예산 | E19: 65 | G19: 국고보조금 - 장애인연금 | H19: 101285000 | I19: 101285000 | J19: =IF(D19="","",H19-I19) -> 0 | L19: 2774000 | M19: =H19+K19+L19 -> 104059000 | O19: 2774000 | P19: =H19+N19+O19 -> 104059000 | R19: 보건복지부 장애인자립기반과-5398호(2016.8.2.) 국 : 2,091,592천원 / 도 : 134,460천원 | S19: 보건복지부 장애인자립기반과-5398호(2016.8.2.) 국 : 2,091,592천원 / 도 : 134,460천원 | T19: 보건복지부 장애인자립기반과-5398호(2016.8.2.) 국 : 2,091,592천원 / 도 : 134,460천원 | V19: 국비 | W19: =IF($V19<>"도비",IF($AF19="국도비","직접입력",SUM($K19:$L19)),) -> 2774000 | X19: =IF($V19="도비",SUM($K19:$L19),IF($AF19="국도비","직접입력",SUM($K19:$L19)-$W19)) -> 0 | Y19: =IF($AF19="국도비","ok",IF(($K19+$L19)=($W19+$X19),"ok","검토")) -> ok | AA19: =$V19 -> 국비 | AB19: =IF($AA19<>"도비",IF($AF19="국도비","직접입력",SUM($N19:$O19)),) -> 2774000 | AC19: =IF($AA19="도비",SUM($N19:$O19),IF($AF19="국도비","직접입력",SUM($N19:$O19)-$AB19)) -> 0 | AD19: =IF($AF19="국도비","ok",IF(($N19+$O19)=($AB19+$AC19),"ok","검토")) -> ok | AF19: =IF(AH19="","",IF($V19="도비","세입없음",$AH19&"-"&TEXT(COUNTIF(AH$7:AH19,AH$7:AH19),"00"))) -> 0704-02 | AH19: {=IFERROR(IF($C19="","",INDEX(구분표!$I$2:$I$1001,MATCH(1,(구분표!$B$2:$B$1001='16년3추 일입'!$A19)*(구분표!$C$2:$C$1001='16년3추 일입'!$B19)*(구분표!$A$2:$A$1001='16년3추 일입'!$C19),0))),"@@")} -> 0704 | AL19: =IF(AF19="","",SUMIFS('16년 3추일출'!$Y$14:$Y$9322,'16년 3추일출'!$AH$14:$AH$9322,'16년3추 일입'!$AF19)) -> 2774000 | AM19: =IF(AF19="","",IF(AF19="세입없음","",COUNTIF('16년 3추일출'!$AH$14:$AH$9322,'16년3추 일입'!$AF19))) -> 2 | AN19: =IF(W19=0,"OK",IF(W19=AL19,"OK","@@")) -> OK | AP19: =IF(AF19="","",SUMIFS('16년 3추일출'!$AD$7:$AD$9322,'16년 3추일출'!$AH$7:$AH$9322,'16년3추 일입'!$AF19)) -> 2774000 | AQ19: =IF(AF19="","",IF(AF19="세입없음","",COUNTIF('16년 3추일출'!$AH$14:$AH$9322,'16년3추 일입'!$AF19))) -> 2 | AR19: =IF(AB19=0,"OK",IF(AB19=AP19,"OK","@@")) -> OK | AS19: =SUM(N19:O19)-SUM(AB19:AC19) -> 0
A20: 보건복지위원회 | B20: 보건복지국 | C20: 장애인복지과 | D20: 본예산 | E20: 65 | G20: 국고보조금 - 장애인의료비 | H20: 3926000 | I20: 3926000 | J20: =IF(D20="","",H20-I20) -> 0 | L20: 2231960 | M20: =H20+K20+L20 -> 6157960 | O20: 2231960 | P20: =H20+N20+O20 -> 6157960 | R20: 보건복지부 장애인자립기반과-5414호(2016.8.2.) 국 : 1,322,029천원 | S20: 보건복지부 장애인자립기반과-5414호(2016.8.2.) 국 : 1,322,029천원 | T20: 보건복지부 장애인자립기반과-5414호(2016.8.2.) 국 : 1,322,029천원 | V20: 국비 | W20: =IF($V20<>"도비",IF($AF20="국도비","직접입력",SUM($K20:$L20)),) -> 2231960 | X20: =IF($V20="도비",SUM($K20:$L20),IF($AF20="국도비","직접입력",SUM($K20:$L20)-$W20)) -> 0 | Y20: =IF($AF20="국도비","ok",IF(($K20+$L20)=($W20+$X20),"ok","검토")) -> ok | AA20: =$V20 -> 국비 | AB20: =IF($AA20<>"도비",IF($AF20="국도비","직접입력",SUM($N20:$O20)),) -> 2231960 | AC20: =IF($AA20="도비",SUM($N20:$O20),IF($AF20="국도비","직접입력",SUM($N20:$O20)-$AB20)) -> 0 | AD20: =IF($AF20="국도비","ok",IF(($N20+$O20)=($AB20+$AC20),"ok","검토")) -> ok | AF20: =IF(AH20="","",IF($V20="도비","세입없음",$AH20&"-"&TEXT(COUNTIF(AH$7:AH20,AH$7:AH20),"00"))) -> 0704-03 | AH20: {=IFERROR(IF($C20="","",INDEX(구분표!$I$2:$I$1001,MATCH(1,(구분표!$B$2:$B$1001='16년3추 일입'!$A20)*(구분표!$C$2:$C$1001='16년3추 일입'!$B20)*(구분표!$A$2:$A$1001='16년3추 일입'!$C20),0))),"@@")} -> 0704 | AL20: =IF(AF20="","",SUMIFS('16년 3추일출'!$Y$14:$Y$9322,'16년 3추일출'!$AH$14:$AH$9322,'16년3추 일입'!$AF20)) -> 2231960 | AM20: =IF(AF20="","",IF(AF20="세입없음","",COUNTIF('16년 3추일출'!$AH$14:$AH$9322,'16년3추 일입'!$AF20))) -> 2 | AN20: =IF(W20=0,"OK",IF(W20=AL20,"OK","@@")) -> OK | AP20: =IF(AF20="","",SUMIFS('16년 3추일출'!$AD$7:$AD$9322,'16년 3추일출'!$AH$7:$AH$9322,'16년3추 일입'!$AF20)) -> 2231960 | AQ20: =IF(AF20="","",IF(AF20="세입없음","",COUNTIF('16년 3추일출'!$AH$14:$AH$9322,'16년3추 일입'!$AF20))) -> 2 | AR20: =IF(AB20=0,"OK",IF(AB20=AP20,"OK","@@")) -> OK | AS20: =SUM(N20:O20)-SUM(AB20:AC20) -> 0
A21: 보건복지위원회 | B21: 보건복지국 | C21: 장애인복지과 | D21: 3회추경 | E21: 573 | F21: 62 | G21: 국고보조금 - 장애인사회활동지원 | H21: 99458962 | I21: 99433952 | J21: =IF(D21="","",H21-I21) -> 25010 | L21: 2050000 | M21: =H21+K21+L21 -> 101508962 | O21: 2050000 | P21: =H21+N21+O21 -> 101508962 | R21: 보건복지부 장애인서비스과-4828호(2016.8.18.)) 기요구액 : 26,617천원(국 : 25,010/도 : 1,607) 추가 요구액 : 1,645,991천원(국 : 1,546,567/ 도 : 99,424) | S21: 보건복지부 장애인서비스과-4828호(2016.8.18.)) 기요구액 : 26,617천원(국 : 25,010/도 : 1,607) 추가 요구액 : 1,645,991천원(국 : 1,546,567/ 도 : 99,424) | T21: 보건복지부 장애인서비스과-4828호(2016.8.18.)) 기요구액 : 26,617천원(국 : 25,010/도 : 1,607) 추가 요구액 : 1,645,991천원(국 : 1,546,567/ 도 : 99,424) | V21: 국비 | W21: =IF($V21<>"도비",IF($AF21="국도비","직접입력",SUM($K21:$L21)),) -> 2050000 | X21: =IF($V21="도비",SUM($K21:$L21),IF($AF21="국도비","직접입력",SUM($K21:$L21)-$W21)) -> 0 | Y21: =IF($AF21="국도비","ok",IF(($K21+$L21)=($W21+$X21),"ok","검토")) -> ok | AA21: =$V21 -> 국비 | AB21: =IF($AA21<>"도비",IF($AF21="국도비","직접입력",SUM($N21:$O21)),) -> 2050000 | AC21: =IF($AA21="도비",SUM($N21:$O21),IF($AF21="국도비","직접입력",SUM($N21:$O21)-$AB21)) -> 0 | AD21: =IF($AF21="국도비","ok",IF(($N21+$O21)=($AB21+$AC21),"ok","검토")) -> ok | AF21: =IF(AH21="","",IF($V21="도비","세입없음",$AH21&"-"&TEXT(COUNTIF(AH$7:AH21,AH$7:AH21),"00"))) -> 0704-04 | AH21: {=IFERROR(IF($C21="","",INDEX(구분표!$I$2:$I$1001,MATCH(1,(구분표!$B$2:$B$1001='16년3추 일입'!$A21)*(구분표!$C$2:$C$1001='16년3추 일입'!$B21)*(구분표!$A$2:$A$1001='16년3추 일입'!$C21),0))),"@@")} -> 0704 | AL21: =IF(AF21="","",SUMIFS('16년 3추일출'!$Y$14:$Y$9322,'16년 3추일출'!$AH$14:$AH$9322,'16년3추 일입'!$AF21)) -> 2050000 | AM21: =IF(AF21="","",IF(AF21="세입없음","",COUNTIF('16년 3추일출'!$AH$14:$AH$9322,'16년3추 일입'!$AF21))) -> 2 | AN21: =IF(W21=0,"OK",IF(W21=AL21,"OK","@@")) -> OK | AP21: =IF(AF21="","",SUMIFS('16년 3추일출'!$AD$7:$AD$9322,'16년 3추일출'!$AH$7:$AH$9322,'16년3추 일입'!$AF21)) -> 2050000 | AQ21: =IF(AF21="","",IF(AF21="세입없음","",COUNTIF('16년 3추일출'!$AH$14:$AH$9322,'16년3추 일입'!$AF21))) -> 2 | AR21: =IF(AB21=0,"OK",IF(AB21=AP21,"OK","@@")) -> OK | AS21: =SUM(N21:O21)-SUM(AB21:AC21) -> 0
A22: 농정해양위원회 | B22: 축산산림국 | C22: 축산정책과 | D22: 3회추경 | E22: 509 | F22: 7 | G22: 시도비반황금수입 - 축산정책과 도비사용잔액 | H22: 472898 | I22: 0 | J22: =IF(D22="","",H22-I22) -> 472898 | K22: -4099 | M22: =H22+K22+L22 -> 468799 | N22: -4099 | P22: =H22+N22+O22 -> 468799 | V22: 도비 | W22: =IF($V22<>"도비",IF($AF22="국도비","직접입력",SUM($K22:$L22)),) -> 0 | X22: =IF($V22="도비",SUM($K22:$L22),IF($AF22="국도비","직접입력",SUM($K22:$L22)-$W22)) -> -4099 | Y22: =IF($AF22="국도비","ok",IF(($K22+$L22)=($W22+$X22),"ok","검토")) -> ok | AA22: =$V22 -> 도비 | AB22: =IF($AA22<>"도비",IF($AF22="국도비","직접입력",SUM($N22:$O22)),) -> 0 | AC22: =IF($AA22="도비",SUM($N22:$O22),IF($AF22="국도비","직접입력",SUM($N22:$O22)-$AB22)) -> -4099 | AD22: =IF($AF22="국도비","ok",IF(($N22+$O22)=($AB22+$AC22),"ok","검토")) -> ok | AF22: =IF(AH22="","",IF($V22="도비","세입없음",$AH22&"-"&TEXT(COUNTIF(AH$7:AH22,AH$7:AH22),"00"))) -> 세입없음 | AH22: {=IFERROR(IF($C22="","",INDEX(구분표!$I$2:$I$1001,MATCH(1,(구분표!$B$2:$B$1001='16년3추 일입'!$A22)*(구분표!$C$2:$C$1001='16년3추 일입'!$B22)*(구분표!$A$2:$A$1001='16년3추 일입'!$C22),0))),"@@")} -> 0608 | AL22: =IF(AF22="","",SUMIFS('16년 3추일출'!$Y$14:$Y$9322,'16년 3추일출'!$AH$14:$AH$9322,'16년3추 일입'!$AF22)) -> 0 | AM22: =IF(AF22="","",IF(AF22="세입없음","",COUNTIF('16년 3추일출'!$AH$14:$AH$9322,'16년3추 일입'!$AF22))) | AN22: =IF(W22=0,"OK",IF(W22=AL22,"OK","@@")) -> OK | AP22: =IF(AF22="","",SUMIFS('16년 3추일출'!$AD$7:$AD$9322,'16년 3추일출'!$AH$7:$AH$9322,'16년3추 일입'!$AF22)) -> 0 | AQ22: =IF(AF22="","",IF(AF22="세입없음","",COUNTIF('16년 3추일출'!$AH$14:$AH$9322,'16년3추 일입'!$AF22))) | AR22: =IF(AB22=0,"OK",IF(AB22=AP22,"OK","@@")) -> OK | AS22: =SUM(N22:O22)-SUM(AB22:AC22) -> 0
A23: 농정해양위원회 | B23: 축산산림국 | C23: 축산정책과 | D23: 3회추경 | E23: 509 | F23: 10 | G23: 국고보조금사용잔액 - 축산정책과 국비사용잔액 | H23: 2882 | I23: 0 | J23: =IF(D23="","",H23-I23) -> 2882 | L23: 208234 | M23: =H23+K23+L23 -> 211116 | N23: -60 | P23: =H23+N23+O23 -> 2822 | V23: 도비 | W23: =IF($V23<>"도비",IF($AF23="국도비","직접입력",SUM($K23:$L23)),) -> 0 | X23: =IF($V23="도비",SUM($K23:$L23),IF($AF23="국도비","직접입력",SUM($K23:$L23)-$W23)) -> 208234 | Y23: =IF($AF23="국도비","ok",IF(($K23+$L23)=($W23+$X23),"ok","검토")) -> ok | AA23: =$V23 -> 도비 | AB23: =IF($AA23<>"도비",IF($AF23="국도비","직접입력",SUM($N23:$O23)),) -> 0 | AC23: =IF($AA23="도비",SUM($N23:$O23),IF($AF23="국도비","직접입력",SUM($N23:$O23)-$AB23)) -> -60 | AD23: =IF($AF23="국도비","ok",IF(($N23+$O23)=($AB23+$AC23),"ok","검토")) -> ok | AF23: =IF(AH23="","",IF($V23="도비","세입없음",$AH23&"-"&TEXT(COUNTIF(AH$7:AH23,AH$7:AH23),"00"))) -> 세입없음 | AH23: {=IFERROR(IF($C23="","",INDEX(구분표!$I$2:$I$1001,MATCH(1,(구분표!$B$2:$B$1001='16년3추 일입'!$A23)*(구분표!$C$2:$C$1001='16년3추 일입'!$B23)*(구분표!$A$2:$A$1001='16년3추 일입'!$C23),0))),"@@")} -> 0608 | AL23: =IF(AF23="","",SUMIFS('16년 3추일출'!$Y$14:$Y$9322,'16년 3추일출'!$AH$14:$AH$9322,'16년3추 일입'!$AF23)) -> 0 | AM23: =IF(AF23="","",IF(AF23="세입없음","",COUNTIF('16년 3추일출'!$AH$14:$AH$9322,'16년3추 일입'!$AF23))) | AN23: =IF(W23=0,"OK",IF(W23=AL23,"OK","@@")) -> OK | AP23: =IF(AF23="","",SUMIFS('16년 3추일출'!$AD$7:$AD$9322,'16년 3추일출'!$AH$7:$AH$9322,'16년3추 일입'!$AF23)) -> 0 | AQ23: =IF(AF23="","",IF(AF23="세입없음","",COUNTIF('16년 3추일출'!$AH$14:$AH$9322,'16년3추 일입'!$AF23))) | AR23: =IF(AB23=0,"OK",IF(AB23=AP23,"OK","@@")) -> OK | AS23: =SUM(N23:O23)-SUM(AB23:AC23) -> 0
A24: 농정해양위원회 | B24: 축산산림국 | C24: 축산정책과 | D24: 3회추경 | E24: 509 | G24: 그외수입 - 축산정책과 국도비 민간이전 사용잔액 | H24: 207991 | J24: =IF(D24="","",H24-I24) -> 207991 | M24: =H24+K24+L24 -> 207991 | O24: 207992 | P24: =H24+N24+O24 -> 415983 | V24: 도비 | W24: =IF($V24<>"도비",IF($AF24="국도비","직접입력",SUM($K24:$L24)),) -> 0 | X24: =IF($V24="도비",SUM($K24:$L24),IF($AF24="국도비","직접입력",SUM($K24:$L24)-$W24)) -> 0 | Y24: =IF($AF24="국도비","ok",IF(($K24+$L24)=($W24+$X24),"ok","검토")) -> ok | AA24: =$V24 -> 도비 | AB24: =IF($AA24<>"도비",IF($AF24="국도비","직접입력",SUM($N24:$O24)),) -> 0 | AC24: =IF($AA24="도비",SUM($N24:$O24),IF($AF24="국도비","직접입력",SUM($N24:$O24)-$AB24)) -> 207992 | AD24: =IF($AF24="국도비","ok",IF(($N24+$O24)=($AB24+$AC24),"ok","검토")) -> ok | AF24: =IF(AH24="","",IF($V24="도비","세입없음",$AH24&"-"&TEXT(COUNTIF(AH$7:AH24,AH$7:AH24),"00"))) -> 세입없음 | AH24: {=IFERROR(IF($C24="","",INDEX(구분표!$I$2:$I$1001,MATCH(1,(구분표!$B$2:$B$1001='16년3추 일입'!$A24)*(구분표!$C$2:$C$1001='16년3추 일입'!$B24)*(구분표!$A$2:$A$1001='16년3추 일입'!$C24),0))),"@@")} -> 0608 | AL24: =IF(AF24="","",SUMIFS('16년 3추일출'!$Y$14:$Y$9322,'16년 3추일출'!$AH$14:$AH$9322,'16년3추 일입'!$AF24)) -> 0 | AM24: =IF(AF24="","",IF(AF24="세입없음","",COUNTIF('16년 3추일출'!$AH$14:$AH$9322,'16년3추 일입'!$AF24))) | AN24: =IF(W24=0,"OK",IF(W24=AL24,"OK","@@")) -> OK | AP24: =IF(AF24="","",SUMIFS('16년 3추일출'!$AD$7:$AD$9322,'16년 3추일출'!$AH$7:$AH$9322,'16년3추 일입'!$AF24)) -> 0 | AQ24: =IF(AF24="","",IF(AF24="세입없음","",COUNTIF('16년 3추일출'!$AH$14:$AH$9322,'16년3추 일입'!$AF24))) | AR24: =IF(AB24=0,"OK",IF(AB24=AP24,"OK","@@")) -> OK | AS24: =SUM(N24:O24)-SUM(AB24:AC24) -> 0
A25: 농정해양위원회 | B25: 축산산림국 | C25: 축산정책과 | D25: 신규 | G25: 기타이자수입 - 축산정책과 민간이전사업 이자수입 | J25: =IF(D25="","",H25-I25) -> 0 | M25: =H25+K25+L25 -> 0 | O25: 302 | P25: =H25+N25+O25 -> 302 | V25: 도비 | W25: =IF($V25<>"도비",IF($AF25="국도비","직접입력",SUM($K25:$L25)),) -> 0 | X25: =IF($V25="도비",SUM($K25:$L25),IF($AF25="국도비","직접입력",SUM($K25:$L25)-$W25)) -> 0 | Y25: =IF($AF25="국도비","ok",IF(($K25+$L25)=($W25+$X25),"ok","검토")) -> ok | AA25: =$V25 -> 도비 | AB25: =IF($AA25<>"도비",IF($AF25="국도비","직접입력",SUM($N25:$O25)),) -> 0 | AC25: =IF($AA25="도비",SUM($N25:$O25),IF($AF25="국도비","직접입력",SUM($N25:$O25)-$AB25)) -> 302 | AD25: =IF($AF25="국도비","ok",IF(($N25+$O25)=($AB25+$AC25),"ok","검토")) -> ok | AF25: =IF(AH25="","",IF($V25="도비","세입없음",$AH25&"-"&TEXT(COUNTIF(AH$7:AH25,AH$7:AH25),"00"))) -> 세입없음 | AH25: {=IFERROR(IF($C25="","",INDEX(구분표!$I$2:$I$1001,MATCH(1,(구분표!$B$2:$B$1001='16년3추 일입'!$A25)*(구분표!$C$2:$C$1001='16년3추 일입'!$B25)*(구분표!$A$2:$A$1001='16년3추 일입'!$C25),0))),"@@")} -> 0608 | AL25: =IF(AF25="","",SUMIFS('16년 3추일출'!$Y$14:$Y$9322,'16년 3추일출'!$AH$14:$AH$9322,'16년3추 일입'!$AF25)) -> 0 | AM25: =IF(AF25="","",IF(AF25="세입없음","",COUNTIF('16년 3추일출'!$AH$14:$AH$9322,'16년3추 일입'!$AF25))) | AN25: =IF(W25=0,"OK",IF(W25=AL25,"OK","@@")) -> OK | AP25: =IF(AF25="","",SUMIFS('16년 3추일출'!$AD$7:$AD$9322,'16년 3추일출'!$AH$7:$AH$9322,'16년3추 일입'!$AF25)) -> 0 | AQ25: =IF(AF25="","",IF(AF25="세입없음","",COUNTIF('16년 3추일출'!$AH$14:$AH$9322,'16년3추 일입'!$AF25))) | AR25: =IF(AB25=0,"OK",IF(AB25=AP25,"OK","@@")) -> OK | AS25: =SUM(N25:O25)-SUM(AB25:AC25) -> 0
A26: 농정해양위원회 | B26: 축산산림국 | C26: 동물방역위생과 | D26: 3회추경 | E26: 510 | F26: 13 | G26: 국고보조금 - 축산물 HACCP컨설팅지원(식품의약품안전처) | H26: 60800 | I26: 48000 | J26: =IF(D26="","",H26-I26) -> 12800 | L26: 3200 | M26: =H26+K26+L26 -> 64000 | O26: 3200 | P26: =H26+N26+O26 -> 64000 | V26: 국비 | W26: =IF($V26<>"도비",IF($AF26="국도비","직접입력",SUM($K26:$L26)),) -> 3200 | X26: =IF($V26="도비",SUM($K26:$L26),IF($AF26="국도비","직접입력",SUM($K26:$L26)-$W26)) -> 0 | Y26: =IF($AF26="국도비","ok",IF(($K26+$L26)=($W26+$X26),"ok","검토")) -> ok | AA26: =$V26 -> 국비 | AB26: =IF($AA26<>"도비",IF($AF26="국도비","직접입력",SUM($N26:$O26)),) -> 3200 | AC26: =IF($AA26="도비",SUM($N26:$O26),IF($AF26="국도비","직접입력",SUM($N26:$O26)-$AB26)) -> 0 | AD26: =IF($AF26="국도비","ok",IF(($N26+$O26)=($AB26+$AC26),"ok","검토")) -> ok | AF26: =IF(AH26="","",IF($V26="도비","세입없음",$AH26&"-"&TEXT(COUNTIF(AH$7:AH26,AH$7:AH26),"00"))) -> 0609-01 | AH26: {=IFERROR(IF($C26="","",INDEX(구분표!$I$2:$I$1001,MATCH(1,(구분표!$B$2:$B$1001='16년3추 일입'!$A26)*(구분표!$C$2:$C$1001='16년3추 일입'!$B26)*(구분표!$A$2:$A$1001='16년3추 일입'!$C26),0))),"@@")} -> 0609 | AL26: =IF(AF26="","",SUMIFS('16년 3추일출'!$Y$14:$Y$9322,'16년 3추일출'!$AH$14:$AH$9322,'16년3추 일입'!$AF26)) -> 3200 | AM26: =IF(AF26="","",IF(AF26="세입없음","",COUNTIF('16년 3추일출'!$AH$14:$AH$9322,'16년3추 일입'!$AF26))) -> 1 | AN26: =IF(W26=0,"OK",IF(W26=AL26,"OK","@@")) -> OK | AP26: =IF(AF26="","",SUMIFS('16년 3추일출'!$AD$7:$AD$9322,'16년 3추일출'!$AH$7:$AH$9322,'16년3추 일입'!$AF26)) -> 3200 | AQ26: =IF(AF26="","",IF(AF26="세입없음","",COUNTIF('16년 3추일출'!$AH$14:$AH$9322,'16년3추 일입'!$AF26))) -> 1 | AR26: =IF(AB26=0,"OK",IF(AB26=AP26,"OK","@@")) -> OK | AS26: =SUM(N26:O26)-SUM(AB26:AC26) -> 0
A27: 농정해양위원회 | B27: 축산산림국 | C27: 산림환경연구소 | D27: 3회추경 | E27: 신규 | F27: 신규 | G27: 특별교부세 - 등산로 위험사면보강 | H27: 0 | I27: 0 | J27: =IF(D27="","",H27-I27) -> 0 | L27: 200000 | M27: =H27+K27+L27 -> 200000 | O27: 200000 | P27: =H27+N27+O27 -> 200000 | V27: 특교 | W27: =IF($V27<>"도비",IF($AF27="국도비","직접입력",SUM($K27:$L27)),) -> 200000 | X27: =IF($V27="도비",SUM($K27:$L27),IF($AF27="국도비","직접입력",SUM($K27:$L27)-$W27)) -> 0 | Y27: =IF($AF27="국도비","ok",IF(($K27+$L27)=($W27+$X27),"ok","검토")) -> ok | AA27: =$V27 -> 특교 | AB27: =IF($AA27<>"도비",IF($AF27="국도비","직접입력",SUM($N27:$O27)),) -> 200000 | AC27: =IF($AA27="도비",SUM($N27:$O27),IF($AF27="국도비","직접입력",SUM($N27:$O27)-$AB27)) -> 0 | AD27: =IF($AF27="국도비","ok",IF(($N27+$O27)=($AB27+$AC27),"ok","검토")) -> ok | AF27: =IF(AH27="","",IF($V27="도비","세입없음",$AH27&"-"&TEXT(COUNTIF(AH$7:AH27,AH$7:AH27),"00"))) -> 0613-01 | AH27: {=IFERROR(IF($C27="","",INDEX(구분표!$I$2:$I$1001,MATCH(1,(구분표!$B$2:$B$1001='16년3추 일입'!$A27)*(구분표!$C$2:$C$1001='16년3추 일입'!$B27)*(구분표!$A$2:$A$1001='16년3추 일입'!$C27),0))),"@@")} -> 0613 | AL27: =IF(AF27="","",SUMIFS('16년 3추일출'!$Y$14:$Y$9322,'16년 3추일출'!$AH$14:$AH$9322,'16년3추 일입'!$AF27)) -> 200000 | AM27: =IF(AF27="","",IF(AF27="세입없음","",COUNTIF('16년 3추일출'!$AH$14:$AH$9322,'16년3추 일입'!$AF27))) -> 1 | AN27: =IF(W27=0,"OK",IF(W27=AL27,"OK","@@")) -> OK | AP27: =IF(AF27="","",SUMIFS('16년 3추일출'!$AD$7:$AD$9322,'16년 3추일출'!$AH$7:$AH$9322,'16년3추 일입'!$AF27)) -> 200000 | AQ27: =IF(AF27="","",IF(AF27="세입없음","",COUNTIF('16년 3추일출'!$AH$14:$AH$9322,'16년3추 일입'!$AF27))) -> 1 | AR27: =IF(AB27=0,"OK",IF(AB27=AP27,"OK","@@")) -> OK | AS27: =SUM(N27:O27)-SUM(AB27:AC27) -> 0
A28: 농정해양위원회 | B28: 축산산림국 | C28: 산림과 | D28: 본예산 | G28: 국고보조금 - 숲가꾸기 | H28: 8023960 | I28: 8023960 | J28: =IF(D28="","",H28-I28) -> 0 | M28: =H28+K28+L28 -> 8023960 | O28: 100000 | P28: =H28+N28+O28 -> 8123960 | T28: 국가추경 | V28: 국비 | W28: =IF($V28<>"도비",IF($AF28="국도비","직접입력",SUM($K28:$L28)),) -> 0 | X28: =IF($V28="도비",SUM($K28:$L28),IF($AF28="국도비","직접입력",SUM($K28:$L28)-$W28)) -> 0 | Y28: =IF($AF28="국도비","ok",IF(($K28+$L28)=($W28+$X28),"ok","검토")) -> ok | AA28: =$V28 -> 국비 | AB28: =IF($AA28<>"도비",IF($AF28="국도비","직접입력",SUM($N28:$O28)),) -> 100000 | AC28: =IF($AA28="도비",SUM($N28:$O28),IF($AF28="국도비","직접입력",SUM($N28:$O28)-$AB28)) -> 0 | AD28: =IF($AF28="국도비","ok",IF(($N28+$O28)=($AB28+$AC28),"ok","검토")) -> ok | AF28: =IF(AH28="","",IF($V28="도비","세입없음",$AH28&"-"&TEXT(COUNTIF(AH$7:AH28,AH$7:AH28),"00"))) -> 0610-01 | AH28: {=IFERROR(IF($C28="","",INDEX(구분표!$I$2:$I$1001,MATCH(1,(구분표!$B$2:$B$1001='16년3추 일입'!$A28)*(구분표!$C$2:$C$1001='16년3추 일입'!$B28)*(구분표!$A$2:$A$1001='16년3추 일입'!$C28),0))),"@@")} -> 0610 | AL28: =IF(AF28="","",SUMIFS('16년 3추일출'!$Y$14:$Y$9322,'16년 3추일출'!$AH$14:$AH$9322,'16년3추 일입'!$AF28)) -> 0 | AM28: =IF(AF28="","",IF(AF28="세입없음","",COUNTIF('16년 3추일출'!$AH$14:$AH$9322,'16년3추 일입'!$AF28))) -> 4 | AN28: =IF(W28=0,"OK",IF(W28=AL28,"OK","@@")) -> OK | AP28: =IF(AF28="","",SUMIFS('16년 3추일출'!$AD$7:$AD$9322,'16년 3추일출'!$AH$7:$AH$9322,'16년3추 일입'!$AF28)) -> 100000 | AQ28: =IF(AF28="","",IF(AF28="세입없음","",COUNTIF('16년 3추일출'!$AH$14:$AH$9322,'16년3추 일입'!$AF28))) -> 4 | AR28: =IF(AB28=0,"OK",IF(AB28=AP28,"OK","@@")) -> OK | AS28: =SUM(N28:O28)-SUM(AB28:AC28) -> 0
A29: 농정해양위원회 | B29: 축산산림국 | C29: 산림과 | D29: 3회추경 | E29: 511 | G29: 국고보조금 - 산림병해충방제 | H29: 8096980 | I29: 7246980 | J29: =IF(D29="","",H29-I29) -> 850000 | M29: =H29+K29+L29 -> 8096980 | O29: 1535000 | P29: =H29+N29+O29 -> 9631980 | T29: 국가추경 | V29: 국비 | W29: =IF($V29<>"도비",IF($AF29="국도비","직접입력",SUM($K29:$L29)),) -> 0 | X29: =IF($V29="도비",SUM($K29:$L29),IF($AF29="국도비","직접입력",SUM($K29:$L29)-$W29)) -> 0 | Y29: =IF($AF29="국도비","ok",IF(($K29+$L29)=($W29+$X29),"ok","검토")) -> ok | AA29: =$V29 -> 국비 | AB29: =IF($AA29<>"도비",IF($AF29="국도비","직접입력",SUM($N29:$O29)),) -> 1535000 | AC29: =IF($AA29="도비",SUM($N29:$O29),IF($AF29="국도비","직접입력",SUM($N29:$O29)-$AB29)) -> 0 | AD29: =IF($AF29="국도비","ok",IF(($N29+$O29)=($AB29+$AC29),"ok","검토")) -> ok | AF29: =IF(AH29="","",IF($V29="도비","세입없음",$AH29&"-"&TEXT(COUNTIF(AH$7:AH29,AH$7:AH29),"00"))) -> 0610-02 | AH29: {=IFERROR(IF($C29="","",INDEX(구분표!$I$2:$I$1001,MATCH(1,(구분표!$B$2:$B$1001='16년3추 일입'!$A29)*(구분표!$C$2:$C$1001='16년3추 일입'!$B29)*(구분표!$A$2:$A$1001='16년3추 일입'!$C29),0))),"@@")} -> 0610 | AL29: =IF(AF29="","",SUMIFS('16년 3추일출'!$Y$14:$Y$9322,'16년 3추일출'!$AH$14:$AH$9322,'16년3추 일입'!$AF29)) -> 0 | AM29: =IF(AF29="","",IF(AF29="세입없음","",COUNTIF('16년 3추일출'!$AH$14:$AH$9322,'16년3추 일입'!$AF29))) -> 2 | AN29: =IF(W29=0,"OK",IF(W29=AL29,"OK","@@")) -> OK | AP29: =IF(AF29="","",SUMIFS('16년 3추일출'!$AD$7:$AD$9322,'16년 3추일출'!$AH$7:$AH$9322,'16년3추 일입'!$AF29)) -> 1535000 | AQ29: =IF(AF29="","",IF(AF29="세입없음","",COUNTIF('16년 3추일출'!$AH$14:$AH$9322,'16년3추 일입'!$AF29))) -> 2 | AR29: =IF(AB29=0,"OK",IF(AB29=AP29,"OK","@@")) -> OK | AS29: =SUM(N29:O29)-SUM(AB29:AC29) -> 0
A30: 도시환경위원회 | B30: 환경국 | C30: 기후대기과 | D30: 3회추경 | E30: 732 | G30: 국고보조금 - 전기자동차 보급 및 충전인프라 구축 | H30: 8036000 | I30: 7332000 | J30: =IF(D30="","",H30-I30) -> 704000 | M30: =H30+K30+L30 -> 8036000 | O30: 54000 | P30: =H30+N30+O30 -> 8090000 | T30: 국가추경 | V30: 국비 | W30: =IF($V30<>"도비",IF($AF30="국도비","직접입력",SUM($K30:$L30)),) -> 0 | X30: =IF($V30="도비",SUM($K30:$L30),IF($AF30="국도비","직접입력",SUM($K30:$L30)-$W30)) -> 0 | Y30: =IF($AF30="국도비","ok",IF(($K30+$L30)=($W30+$X30),"ok","검토")) -> ok | AA30: =$V30 -> 국비 | AB30: =IF($AA30<>"도비",IF($AF30="국도비","직접입력",SUM($N30:$O30)),) -> 54000 | AC30: =IF($AA30="도비",SUM($N30:$O30),IF($AF30="국도비","직접입력",SUM($N30:$O30)-$AB30)) -> 0 | AD30: =IF($AF30="국도비","ok",IF(($N30+$O30)=($AB30+$AC30),"ok","검토")) -> ok | AF30: =IF(AH30="","",IF($V30="도비","세입없음",$AH30&"-"&TEXT(COUNTIF(AH$7:AH30,AH$7:AH30),"00"))) -> 0912-01 | AH30: {=IFERROR(IF($C30="","",INDEX(구분표!$I$2:$I$1001,MATCH(1,(구분표!$B$2:$B$1001='16년3추 일입'!$A30)*(구분표!$C$2:$C$1001='16년3추 일입'!$B30)*(구분표!$A$2:$A$1001='16년3추 일입'!$C30),0))),"@@")} -> 0912 | AL30: =IF(AF30="","",SUMIFS('16년 3추일출'!$Y$14:$Y$9322,'16년 3추일출'!$AH$14:$AH$9322,'16년3추 일입'!$AF30)) -> 0 | AM30: =IF(AF30="","",IF(AF30="세입없음","",COUNTIF('16년 3추일출'!$AH$14:$AH$9322,'16년3추 일입'!$AF30))) -> 1 | AN30: =IF(W30=0,"OK",IF(W30=AL30,"OK","@@")) -> OK | AP30: =IF(AF30="","",SUMIFS('16년 3추일출'!$AD$7:$AD$9322,'16년 3추일출'!$AH$7:$AH$9322,'16년3추 일입'!$AF30)) -> 54000 | AQ30: =IF(AF30="","",IF(AF30="세입없음","",COUNTIF('16년 3추일출'!$AH$14:$AH$9322,'16년3추 일입'!$AF30))) -> 1 | AR30: =IF(AB30=0,"OK",IF(AB30=AP30,"OK","@@")) -> OK | AS30: =SUM(N30:O30)-SUM(AB30:AC30) -> 0
A31: 농정해양위원회 | B31: 축산산림국 | C31: 축산정책과 | D31: 3회추경 | E31: 509 | G31: 기금 - 조사료 생산기반 확충 | H31: 3798700 | I31: 3596260 | J31: =IF(D31="","",H31-I31) -> 202440 | M31: =H31+K31+L31 -> 3798700 | O31: 307908 | P31: =H31+N31+O31 -> 4106608 | T31: 국가추경 | V31: 기금 | W31: =IF($V31<>"도비",IF($AF31="국도비","직접입력",SUM($K31:$L31)),) -> 0 | X31: =IF($V31="도비",SUM($K31:$L31),IF($AF31="국도비","직접입력",SUM($K31:$L31)-$W31)) -> 0 | Y31: =IF($AF31="국도비","ok",IF(($K31+$L31)=($W31+$X31),"ok","검토")) -> ok | AA31: =$V31 -> 기금 | AB31: =IF($AA31<>"도비",IF($AF31="국도비","직접입력",SUM($N31:$O31)),) -> 307908 | AC31: =IF($AA31="도비",SUM($N31:$O31),IF($AF31="국도비","직접입력",SUM($N31:$O31)-$AB31)) -> 0 | AD31: =IF($AF31="국도비","ok",IF(($N31+$O31)=($AB31+$AC31),"ok","검토")) -> ok | AF31: =IF(AH31="","",IF($V31="도비","세입없음",$AH31&"-"&TEXT(COUNTIF(AH$7:AH31,AH$7:AH31),"00"))) -> 0608-05 | AH31: {=IFERROR(IF($C31="","",INDEX(구분표!$I$2:$I$1001,MATCH(1,(구분표!$B$2:$B$1001='16년3추 일입'!$A31)*(구분표!$C$2:$C$1001='16년3추 일입'!$B31)*(구분표!$A$2:$A$1001='16년3추 일입'!$C31),0))),"@@")} -> 0608 | AL31: =IF(AF31="","",SUMIFS('16년 3추일출'!$Y$14:$Y$9322,'16년 3추일출'!$AH$14:$AH$9322,'16년3추 일입'!$AF31)) -> 0 | AM31: =IF(AF31="","",IF(AF31="세입없음","",COUNTIF('16년 3추일출'!$AH$14:$AH$9322,'16년3추 일입'!$AF31))) -> 1 | AN31: =IF(W31=0,"OK",IF(W31=AL31,"OK","@@")) -> OK | AP31: =IF(AF31="","",SUMIFS('16년 3추일출'!$AD$7:$AD$9322,'16년 3추일출'!$AH$7:$AH$9322,'16년3추 일입'!$AF31)) -> 307908 | AQ31: =IF(AF31="","",IF(AF31="세입없음","",COUNTIF('16년 3추일출'!$AH$14:$AH$9322,'16년3추 일입'!$AF31))) -> 1 | AR31: =IF(AB31=0,"OK",IF(AB31=AP31,"OK","@@")) -> OK | AS31: =SUM(N31:O31)-SUM(AB31:AC31) -> 0
A32: 여성가족교육협력위원회 | B32: 여성가족국 | C32: 아동청소년과 | D32: 본예산 | G32: 국고보조금 - 아동통합서비스지원 운영 | H32: 9300000 | I32: 9300000 | J32: =IF(D32="","",H32-I32) -> 0 | M32: =H32+K32+L32 -> 9300000 | O32: 67000 | P32: =H32+N32+O32 -> 9367000 | T32: 국가추경 | V32: 국비 | W32: =IF($V32<>"도비",IF($AF32="국도비","직접입력",SUM($K32:$L32)),) -> 0 | X32: =IF($V32="도비",SUM($K32:$L32),IF($AF32="국도비","직접입력",SUM($K32:$L32)-$W32)) -> 0 | Y32: =IF($AF32="국도비","ok",IF(($K32+$L32)=($W32+$X32),"ok","검토")) -> ok | AA32: =$V32 -> 국비 | AB32: =IF($AA32<>"도비",IF($AF32="국도비","직접입력",SUM($N32:$O32)),) -> 67000 | AC32: =IF($AA32="도비",SUM($N32:$O32),IF($AF32="국도비","직접입력",SUM($N32:$O32)-$AB32)) -> 0 | AD32: =IF($AF32="국도비","ok",IF(($N32+$O32)=($AB32+$AC32),"ok","검토")) -> ok | AF32: =IF(AH32="","",IF($V32="도비","세입없음",$AH32&"-"&TEXT(COUNTIF(AH$7:AH32,AH$7:AH32),"00"))) -> 1006-02 | AH32: {=IFERROR(IF($C32="","",INDEX(구분표!$I$2:$I$1001,MATCH(1,(구분표!$B$2:$B$1001='16년3추 일입'!$A32)*(구분표!$C$2:$C$1001='16년3추 일입'!$B32)*(구분표!$A$2:$A$1001='16년3추 일입'!$C32),0))),"@@")} -> 1006 | AL32: =IF(AF32="","",SUMIFS('16년 3추일출'!$Y$14:$Y$9322,'16년 3추일출'!$AH$14:$AH$9322,'16년3추 일입'!$AF32)) -> 0 | AM32: =IF(AF32="","",IF(AF32="세입없음","",COUNTIF('16년 3추일출'!$AH$14:$AH$9322,'16년3추 일입'!$AF32))) -> 1 | AN32: =IF(W32=0,"OK",IF(W32=AL32,"OK","@@")) -> OK | AP32: =IF(AF32="","",SUMIFS('16년 3추일출'!$AD$7:$AD$9322,'16년 3추일출'!$AH$7:$AH$9322,'16년3추 일입'!$AF32)) -> 67000 | AQ32: =IF(AF32="","",IF(AF32="세입없음","",COUNTIF('16년 3추일출'!$AH$14:$AH$9322,'16년3추 일입'!$AF32))) -> 1 | AR32: =IF(AB32=0,"OK",IF(AB32=AP32,"OK","@@")) -> OK | AS32: =SUM(N32:O32)-SUM(AB32:AC32) -> 0
A33: 여성가족교육협력위원회 | B33: 여성가족국 | C33: 여성가족과 | D33: 3회추경 | E33: 777 | G33: 기금 - 성폭력 피해자 지원사업 | H33: 5693343 | I33: 5657493 | J33: =IF(D33="","",H33-I33) -> 35850 | M33: =H33+K33+L33 -> 5693343 | O33: 36063 | P33: =H33+N33+O33 -> 5729406 | T33: 국가추경 | V33: 기금 | W33: =IF($V33<>"도비",IF($AF33="국도비","직접입력",SUM($K33:$L33)),) -> 0 | X33: =IF($V33="도비",SUM($K33:$L33),IF($AF33="국도비","직접입력",SUM($K33:$L33)-$W33)) -> 0 | Y33: =IF($AF33="국도비","ok",IF(($K33+$L33)=($W33+$X33),"ok","검토")) -> ok | AA33: =$V33 -> 기금 | AB33: =IF($AA33<>"도비",IF($AF33="국도비","직접입력",SUM($N33:$O33)),) -> 36063 | AC33: =IF($AA33="도비",SUM($N33:$O33),IF($AF33="국도비","직접입력",SUM($N33:$O33)-$AB33)) -> 0 | AD33: =IF($AF33="국도비","ok",IF(($N33+$O33)=($AB33+$AC33),"ok","검토")) -> ok | AF33: =IF(AH33="","",IF($V33="도비","세입없음",$AH33&"-"&TEXT(COUNTIF(AH$7:AH33,AH$7:AH33),"00"))) -> 1004-03 | AH33: {=IFERROR(IF($C33="","",INDEX(구분표!$I$2:$I$1001,MATCH(1,(구분표!$B$2:$B$1001='16년3추 일입'!$A33)*(구분표!$C$2:$C$1001='16년3추 일입'!$B33)*(구분표!$A$2:$A$1001='16년3추 일입'!$C33),0))),"@@")} -> 1004 | AL33: =IF(AF33="","",SUMIFS('16년 3추일출'!$Y$14:$Y$9322,'16년 3추일출'!$AH$14:$AH$9322,'16년3추 일입'!$AF33)) -> 0 | AM33: =IF(AF33="","",IF(AF33="세입없음","",COUNTIF('16년 3추일출'!$AH$14:$AH$9322,'16년3추 일입'!$AF33))) -> 1 | AN33: =IF(W33=0,"OK",IF(W33=AL33,"OK","@@")) -> OK | AP33: =IF(AF33="","",SUMIFS('16년 3추일출'!$AD$7:$AD$9322,'16년 3추일출'!$AH$7:$AH$9322,'16년3추 일입'!$AF33)) -> 36063 | AQ33: =IF(AF33="","",IF(AF33="세입없음","",COUNTIF('16년 3추일출'!$AH$14:$AH$9322,'16년3추 일입'!$AF33))) -> 1 | AR33: =IF(AB33=0,"OK",IF(AB33=AP33,"OK","@@")) -> OK | AS33: =SUM(N33:O33)-SUM(AB33:AC33) -> 0
A34: 여성가족교육협력위원회 | B34: 여성가족국 | C34: 보육정책과 | D34: 본예산 | E34: 778 | G34: 국고보조금 - 영유아보육료 지원 | H34: 915998000 | I34: 878130000 | J34: =IF(D34="","",H34-I34) -> 37868000 | M34: =H34+K34+L34 -> 915998000 | O34: 19611129 | P34: =H34+N34+O34 -> 935609129 | T34: 국가추경 | V34: 국비 | W34: =IF($V34<>"도비",IF($AF34="국도비","직접입력",SUM($K34:$L34)),) -> 0 | X34: =IF($V34="도비",SUM($K34:$L34),IF($AF34="국도비","직접입력",SUM($K34:$L34)-$W34)) -> 0 | Y34: =IF($AF34="국도비","ok",IF(($K34+$L34)=($W34+$X34),"ok","검토")) -> ok | AA34: =$V34 -> 국비 | AB34: =IF($AA34<>"도비",IF($AF34="국도비","직접입력",SUM($N34:$O34)),) -> 19611129 | AC34: =IF($AA34="도비",SUM($N34:$O34),IF($AF34="국도비","직접입력",SUM($N34:$O34)-$AB34)) -> 0 | AD34: =IF($AF34="국도비","ok",IF(($N34+$O34)=($AB34+$AC34),"ok","검토")) -> ok | AF34: =IF(AH34="","",IF($V34="도비","세입없음",$AH34&"-"&TEXT(COUNTIF(AH$7:AH34,AH$7:AH34),"00"))) -> 1005-01 | AH34: {=IFERROR(IF($C34="","",INDEX(구분표!$I$2:$I$1001,MATCH(1,(구분표!$B$2:$B$1001='16년3추 일입'!$A34)*(구분표!$C$2:$C$1001='16년3추 일입'!$B34)*(구분표!$A$2:$A$1001='16년3추 일입'!$C34),0))),"@@")} -> 1005 | AL34: =IF(AF34="","",SUMIFS('16년 3추일출'!$Y$14:$Y$9322,'16년 3추일출'!$AH$14:$AH$9322,'16년3추 일입'!$AF34)) -> 0 | AM34: =IF(AF34="","",IF(AF34="세입없음","",COUNTIF('16년 3추일출'!$AH$14:$AH$9322,'16년3추 일입'!$AF34))) -> 2 | AN34: =IF(W34=0,"OK",IF(W34=AL34,"OK","@@")) -> OK | AP34: =IF(AF34="","",SUMIFS('16년 3추일출'!$AD$7:$AD$9322,'16년 3추일출'!$AH$7:$AH$9322,'16년3추 일입'!$AF34)) -> 19611129 | AQ34: =IF(AF34="","",IF(AF34="세입없음","",COUNTIF('16년 3추일출'!$AH$14:$AH$9322,'16년3추 일입'!$AF34))) -> 2 | AR34: =IF(AB34=0,"OK",IF(AB34=AP34,"OK","@@")) -> OK | AS34: =SUM(N34:O34)-SUM(AB34:AC34) -> 0
A35: 보건복지위원회 | B35: 보건복지국 | C35: 건강증진과 | D35: 3회추경 | E35: 575 | G35: 국고보조금 - 정신요양시설 운영 | H35: 8770445 | I35: 8772156 | J35: =IF(D35="","",H35-I35) -> -1711 | M35: =H35+K35+L35 -> 8770445 | N35: -55000 | P35: =H35+N35+O35 -> 8715445 | T35: 국가추경 | V35: 국비 | W35: =IF($V35<>"도비",IF($AF35="국도비","직접입력",SUM($K35:$L35)),) -> 0 | X35: =IF($V35="도비",SUM($K35:$L35),IF($AF35="국도비","직접입력",SUM($K35:$L35)-$W35)) -> 0 | Y35: =IF($AF35="국도비","ok",IF(($K35+$L35)=($W35+$X35),"ok","검토")) -> ok | AA35: =$V35 -> 국비 | AB35: =IF($AA35<>"도비",IF($AF35="국도비","직접입력",SUM($N35:$O35)),) -> -55000 | AC35: =IF($AA35="도비",SUM($N35:$O35),IF($AF35="국도비","직접입력",SUM($N35:$O35)-$AB35)) -> 0 | AD35: =IF($AF35="국도비","ok",IF(($N35+$O35)=($AB35+$AC35),"ok","검토")) -> ok | AF35: =IF(AH35="","",IF($V35="도비","세입없음",$AH35&"-"&TEXT(COUNTIF(AH$7:AH35,AH$7:AH35),"00"))) -> 0706-01 | AH35: {=IFERROR(IF($C35="","",INDEX(구분표!$I$2:$I$1001,MATCH(1,(구분표!$B$2:$B$1001='16년3추 일입'!$A35)*(구분표!$C$2:$C$1001='16년3추 일입'!$B35)*(구분표!$A$2:$A$1001='16년3추 일입'!$C35),0))),"@@")} -> 0706 | AL35: =IF(AF35="","",SUMIFS('16년 3추일출'!$Y$14:$Y$9322,'16년 3추일출'!$AH$14:$AH$9322,'16년3추 일입'!$AF35)) -> 0 | AM35: =IF(AF35="","",IF(AF35="세입없음","",COUNTIF('16년 3추일출'!$AH$14:$AH$9322,'16년3추 일입'!$AF35))) -> 1 | AN35: =IF(W35=0,"OK",IF(W35=AL35,"OK","@@")) -> OK | AP35: =IF(AF35="","",SUMIFS('16년 3추일출'!$AD$7:$AD$9322,'16년 3추일출'!$AH$7:$AH$9322,'16년3추 일입'!$AF35)) -> -55000 | AQ35: =IF(AF35="","",IF(AF35="세입없음","",COUNTIF('16년 3추일출'!$AH$14:$AH$9322,'16년3추 일입'!$AF35))) -> 1 | AR35: =IF(AB35=0,"OK",IF(AB35=AP35,"OK","@@")) -> OK | AS35: =SUM(N35:O35)-SUM(AB35:AC35) -> 0
A36: 보건복지위원회 | B36: 보건복지국 | C36: 사회적일자리과 | D36: 3회추경 | E36: 572 | G36: 국고보조금 - 자활사업 | H36: 41075144 | I36: 40881953 | J36: =IF(D36="","",H36-I36) -> 193191 | M36: =H36+K36+L36 -> 41075144 | O36: 14473 | P36: =H36+N36+O36 -> 41089617 | T36: 국가추경 | V36: 국비 | W36: =IF($V36<>"도비",IF($AF36="국도비","직접입력",SUM($K36:$L36)),) -> 0 | X36: =IF($V36="도비",SUM($K36:$L36),IF($AF36="국도비","직접입력",SUM($K36:$L36)-$W36)) -> 0 | Y36: =IF($AF36="국도비","ok",IF(($K36+$L36)=($W36+$X36),"ok","검토")) -> ok | AA36: =$V36 -> 국비 | AB36: =IF($AA36<>"도비",IF($AF36="국도비","직접입력",SUM($N36:$O36)),) -> 14473 | AC36: =IF($AA36="도비",SUM($N36:$O36),IF($AF36="국도비","직접입력",SUM($N36:$O36)-$AB36)) -> 0 | AD36: =IF($AF36="국도비","ok",IF(($N36+$O36)=($AB36+$AC36),"ok","검토")) -> ok | AF36: =IF(AH36="","",IF($V36="도비","세입없음",$AH36&"-"&TEXT(COUNTIF(AH$7:AH36,AH$7:AH36),"00"))) -> 0702-02 | AH36: {=IFERROR(IF($C36="","",INDEX(구분표!$I$2:$I$1001,MATCH(1,(구분표!$B$2:$B$1001='16년3추 일입'!$A36)*(구분표!$C$2:$C$1001='16년3추 일입'!$B36)*(구분표!$A$2:$A$1001='16년3추 일입'!$C36),0))),"@@")} -> 0702 | AL36: =IF(AF36="","",SUMIFS('16년 3추일출'!$Y$14:$Y$9322,'16년 3추일출'!$AH$14:$AH$9322,'16년3추 일입'!$AF36)) -> 0 | AM36: =IF(AF36="","",IF(AF36="세입없음","",COUNTIF('16년 3추일출'!$AH$14:$AH$9322,'16년3추 일입'!$AF36))) -> 2 | AN36: =IF(W36=0,"OK",IF(W36=AL36,"OK","@@")) -> OK | AP36: =IF(AF36="","",SUMIFS('16년 3추일출'!$AD$7:$AD$9322,'16년 3추일출'!$AH$7:$AH$9322,'16년3추 일입'!$AF36)) -> 2202200 | AQ36: =IF(AF36="","",IF(AF36="세입없음","",COUNTIF('16년 3추일출'!$AH$14:$AH$9322,'16년3추 일입'!$AF36))) -> 2 | AR36: =IF(AB36=0,"OK",IF(AB36=AP36,"OK","@@")) -> @@ | AS36: =SUM(N36:O36)-SUM(AB36:AC36) -> 0
A37: 보건복지위원회 | B37: 보건복지국 | C37: 노인복지과 | D37: 3회추경 | E37: 573 | G37: 국고보조금 - 노인돌봄서비스 | H37: 20387673 | I37: 20234416 | J37: =IF(D37="","",H37-I37) -> 153257 | M37: =H37+K37+L37 -> 20387673 | O37: 468600 | P37: =H37+N37+O37 -> 20856273 | T37: 국가추경 | V37: 국비 | W37: =IF($V37<>"도비",IF($AF37="국도비","직접입력",SUM($K37:$L37)),) -> 0 | X37: =IF($V37="도비",SUM($K37:$L37),IF($AF37="국도비","직접입력",SUM($K37:$L37)-$W37)) -> 0 | Y37: =IF($AF37="국도비","ok",IF(($K37+$L37)=($W37+$X37),"ok","검토")) -> ok | AA37: =$V37 -> 국비 | AB37: =IF($AA37<>"도비",IF($AF37="국도비","직접입력",SUM($N37:$O37)),) -> 468600 | AC37: =IF($AA37="도비",SUM($N37:$O37),IF($AF37="국도비","직접입력",SUM($N37:$O37)-$AB37)) -> 0 | AD37: =IF($AF37="국도비","ok",IF(($N37+$O37)=($AB37+$AC37),"ok","검토")) -> ok | AF37: =IF(AH37="","",IF($V37="도비","세입없음",$AH37&"-"&TEXT(COUNTIF(AH$7:AH37,AH$7:AH37),"00"))) -> 0703-01 | AH37: {=IFERROR(IF($C37="","",INDEX(구분표!$I$2:$I$1001,MATCH(1,(구분표!$B$2:$B$1001='16년3추 일입'!$A37)*(구분표!$C$2:$C$1001='16년3추 일입'!$B37)*(구분표!$A$2:$A$1001='16년3추 일입'!$C37),0))),"@@")} -> 0703 | AL37: =IF(AF37="","",SUMIFS('16년 3추일출'!$Y$14:$Y$9322,'16년 3추일출'!$AH$14:$AH$9322,'16년3추 일입'!$AF37)) -> 0 | AM37: =IF(AF37="","",IF(AF37="세입없음","",COUNTIF('16년 3추일출'!$AH$14:$AH$9322,'16년3추 일입'!$AF37))) -> 2 | AN37: =IF(W37=0,"OK",IF(W37=AL37,"OK","@@")) -> OK | AP37: =IF(AF37="","",SUMIFS('16년 3추일출'!$AD$7:$AD$9322,'16년 3추일출'!$AH$7:$AH$9322,'16년3추 일입'!$AF37)) -> 468600 | AQ37: =IF(AF37="","",IF(AF37="세입없음","",COUNTIF('16년 3추일출'!$AH$14:$AH$9322,'16년3추 일입'!$AF37))) -> 2 | AR37: =IF(AB37=0,"OK",IF(AB37=AP37,"OK","@@")) -> OK | AS37: =SUM(N37:O37)-SUM(AB37:AC37) -> 0
A38: 보건복지위원회 | B38: 보건복지국 | C38: 사회적일자리과 | D38: 3회추경 | E38: 572 | G38: 국고보조금 - 노인사회활동지원 | H38: 40254560 | I38: 44600175 | J38: =IF(D38="","",H38-I38) -> -4345615 | M38: =H38+K38+L38 -> 40254560 | O38: 2202200 | P38: =H38+N38+O38 -> 42456760 | T38: 국가추경 | V38: 국비 | W38: =IF($V38<>"도비",IF($AF38="국도비","직접입력",SUM($K38:$L38)),) -> 0 | X38: =IF($V38="도비",SUM($K38:$L38),IF($AF38="국도비","직접입력",SUM($K38:$L38)-$W38)) -> 0 | Y38: =IF($AF38="국도비","ok",IF(($K38+$L38)=($W38+$X38),"ok","검토")) -> ok | AA38: =$V38 -> 국비 | AB38: =IF($AA38<>"도비",IF($AF38="국도비","직접입력",SUM($N38:$O38)),) -> 2202200 | AC38: =IF($AA38="도비",SUM($N38:$O38),IF($AF38="국도비","직접입력",SUM($N38:$O38)-$AB38)) -> 0 | AD38: =IF($AF38="국도비","ok",IF(($N38+$O38)=($AB38+$AC38),"ok","검토")) -> ok | AF38: =IF(AH38="","",IF($V38="도비","세입없음",$AH38&"-"&TEXT(COUNTIF(AH$7:AH38,AH$7:AH38),"00"))) -> 0702-03 | AH38: {=IFERROR(IF($C38="","",INDEX(구분표!$I$2:$I$1001,MATCH(1,(구분표!$B$2:$B$1001='16년3추 일입'!$A38)*(구분표!$C$2:$C$1001='16년3추 일입'!$B38)*(구분표!$A$2:$A$1001='16년3추 일입'!$C38),0))),"@@")} -> 0702 | AL38: =IF(AF38="","",SUMIFS('16년 3추일출'!$Y$14:$Y$9322,'16년 3추일출'!$AH$14:$AH$9322,'16년3추 일입'!$AF38)) -> 0 | AM38: =IF(AF38="","",IF(AF38="세입없음","",COUNTIF('16년 3추일출'!$AH$14:$AH$9322,'16년3추 일입'!$AF38))) -> 0 | AN38: =IF(W38=0,"OK",IF(W38=AL38,"OK","@@")) -> OK | AP38: =IF(AF38="","",SUMIFS('16년 3추일출'!$AD$7:$AD$9322,'16년 3추일출'!$AH$7:$AH$9322,'16년3추 일입'!$AF38)) -> 0 | AQ38: =IF(AF38="","",IF(AF38="세입없음","",COUNTIF('16년 3추일출'!$AH$14:$AH$9322,'16년3추 일입'!$AF38))) -> 0 | AR38: =IF(AB38=0,"OK",IF(AB38=AP38,"OK","@@")) -> @@ | AS38: =SUM(N38:O38)-SUM(AB38:AC38) -> 0
A39: 보건복지위원회 | B39: 보건복지국 | C39: 건강증진과 | D39: 본예산 | E39: 79 | G39: 기금 - 영유아사전예방적건강관리 | H39: 4403500 | I39: 4403500 | J39: =IF(D39="","",H39-I39) -> 0 | M39: =H39+K39+L39 -> 4403500 | O39: 1400000 | P39: =H39+N39+O39 -> 5803500 | T39: 국가추경 | V39: 기금 | W39: =IF($V39<>"도비",IF($AF39="국도비","직접입력",SUM($K39:$L39)),) -> 0 | X39: =IF($V39="도비",SUM($K39:$L39),IF($AF39="국도비","직접입력",SUM($K39:$L39)-$W39)) -> 0 | Y39: =IF($AF39="국도비","ok",IF(($K39+$L39)=($W39+$X39),"ok","검토")) -> ok | AA39: =$V39 -> 기금 | AB39: =IF($AA39<>"도비",IF($AF39="국도비","직접입력",SUM($N39:$O39)),) -> 1400000 | AC39: =IF($AA39="도비",SUM($N39:$O39),IF($AF39="국도비","직접입력",SUM($N39:$O39)-$AB39)) -> 0 | AD39: =IF($AF39="국도비","ok",IF(($N39+$O39)=($AB39+$AC39),"ok","검토")) -> ok | AF39: =IF(AH39="","",IF($V39="도비","세입없음",$AH39&"-"&TEXT(COUNTIF(AH$7:AH39,AH$7:AH39),"00"))) -> 0706-02 | AH39: {=IFERROR(IF($C39="","",INDEX(구분표!$I$2:$I$1001,MATCH(1,(구분표!$B$2:$B$1001='16년3추 일입'!$A39)*(구분표!$C$2:$C$1001='16년3추 일입'!$B39)*(구분표!$A$2:$A$1001='16년3추 일입'!$C39),0))),"@@")} -> 0706 | AL39: =IF(AF39="","",SUMIFS('16년 3추일출'!$Y$14:$Y$9322,'16년 3추일출'!$AH$14:$AH$9322,'16년3추 일입'!$AF39)) -> 0 | AM39: =IF(AF39="","",IF(AF39="세입없음","",COUNTIF('16년 3추일출'!$AH$14:$AH$9322,'16년3추 일입'!$AF39))) -> 6 | AN39: =IF(W39=0,"OK",IF(W39=AL39,"OK","@@")) -> OK | AP39: =IF(AF39="","",SUMIFS('16년 3추일출'!$AD$7:$AD$9322,'16년 3추일출'!$AH$7:$AH$9322,'16년3추 일입'!$AF39)) -> 1400000 | AQ39: =IF(AF39="","",IF(AF39="세입없음","",COUNTIF('16년 3추일출'!$AH$14:$AH$9322,'16년3추 일입'!$AF39))) -> 6 | AR39: =IF(AB39=0,"OK",IF(AB39=AP39,"OK","@@")) -> OK | AS39: =SUM(N39:O39)-SUM(AB39:AC39) -> 0
A40: 보건복지위원회 | B40: 보건복지국 | C40: 건강증진과 | D40: 3회추경 | E40: 575 | G40: 기금 - 모자보건사업 | H40: 13124900 | I40: 13134900 | J40: =IF(D40="","",H40-I40) -> -10000 | M40: =H40+K40+L40 -> 13124900 | O40: 2847000 | P40: =H40+N40+O40 -> 15971900 | T40: 국가추경 | V40: 기금 | W40: =IF($V40<>"도비",IF($AF40="국도비","직접입력",SUM($K40:$L40)),) -> 0 | X40: =IF($V40="도비",SUM($K40:$L40),IF($AF40="국도비","직접입력",SUM($K40:$L40)-$W40)) -> 0 | Y40: =IF($AF40="국도비","ok",IF(($K40+$L40)=($W40+$X40),"ok","검토")) -> ok | AA40: =$V40 -> 기금 | AB40: =IF($AA40<>"도비",IF($AF40="국도비","직접입력",SUM($N40:$O40)),) -> 2847000 | AC40: =IF($AA40="도비",SUM($N40:$O40),IF($AF40="국도비","직접입력",SUM($N40:$O40)-$AB40)) -> 0 | AD40: =IF($AF40="국도비","ok",IF(($N40+$O40)=($AB40+$AC40),"ok","검토")) -> ok | AF40: =IF(AH40="","",IF($V40="도비","세입없음",$AH40&"-"&TEXT(COUNTIF(AH$7:AH40,AH$7:AH40),"00"))) -> 0706-03 | AH40: {=IFERROR(IF($C40="","",INDEX(구분표!$I$2:$I$1001,MATCH(1,(구분표!$B$2:$B$1001='16년3추 일입'!$A40)*(구분표!$C$2:$C$1001='16년3추 일입'!$B40)*(구분표!$A$2:$A$1001='16년3추 일입'!$C40),0))),"@@")} -> 0706 | AL40: =IF(AF40="","",SUMIFS('16년 3추일출'!$Y$14:$Y$9322,'16년 3추일출'!$AH$14:$AH$9322,'16년3추 일입'!$AF40)) -> 0 | AM40: =IF(AF40="","",IF(AF40="세입없음","",COUNTIF('16년 3추일출'!$AH$14:$AH$9322,'16년3추 일입'!$AF40))) -> 2 | AN40: =IF(W40=0,"OK",IF(W40=AL40,"OK","@@")) -> OK | AP40: =IF(AF40="","",SUMIFS('16년 3추일출'!$AD$7:$AD$9322,'16년 3추일출'!$AH$7:$AH$9322,'16년3추 일입'!$AF40)) -> 2847000 | AQ40: =IF(AF40="","",IF(AF40="세입없음","",COUNTIF('16년 3추일출'!$AH$14:$AH$9322,'16년3추 일입'!$AF40))) -> 2 | AR40: =IF(AB40=0,"OK",IF(AB40=AP40,"OK","@@")) -> OK | AS40: =SUM(N40:O40)-SUM(AB40:AC40) -> 0
A41: 보건복지위원회 | B41: 보건복지국 | C41: 장애인복지과 | D41: 3회추경 | E41: 573 | G41: 국고보조금 - 장애인사회활동지원 | H41: 99458962 | I41: 99433952 | J41: =IF(D41="","",H41-I41) -> 25010 | M41: =H41+K41+L41 -> 99458962 | O41: 6300000 | P41: =H41+N41+O41 -> 105758962 | T41: 국가추경 | V41: 국비 | W41: =IF($V41<>"도비",IF($AF41="국도비","직접입력",SUM($K41:$L41)),) -> 0 | X41: =IF($V41="도비",SUM($K41:$L41),IF($AF41="국도비","직접입력",SUM($K41:$L41)-$W41)) -> 0 | Y41: =IF($AF41="국도비","ok",IF(($K41+$L41)=($W41+$X41),"ok","검토")) -> ok | AA41: =$V41 -> 국비 | AB41: =IF($AA41<>"도비",IF($AF41="국도비","직접입력",SUM($N41:$O41)),) -> 6300000 | AC41: =IF($AA41="도비",SUM($N41:$O41),IF($AF41="국도비","직접입력",SUM($N41:$O41)-$AB41)) -> 0 | AD41: =IF($AF41="국도비","ok",IF(($N41+$O41)=($AB41+$AC41),"ok","검토")) -> ok | AF41: =IF(AH41="","",IF($V41="도비","세입없음",$AH41&"-"&TEXT(COUNTIF(AH$7:AH41,AH$7:AH41),"00"))) -> 0704-05 | AH41: {=IFERROR(IF($C41="","",INDEX(구분표!$I$2:$I$1001,MATCH(1,(구분표!$B$2:$B$1001='16년3추 일입'!$A41)*(구분표!$C$2:$C$1001='16년3추 일입'!$B41)*(구분표!$A$2:$A$1001='16년3추 일입'!$C41),0))),"@@")} -> 0704 | AL41: =IF(AF41="","",SUMIFS('16년 3추일출'!$Y$14:$Y$9322,'16년 3추일출'!$AH$14:$AH$9322,'16년3추 일입'!$AF41)) -> 0 | AM41: =IF(AF41="","",IF(AF41="세입없음","",COUNTIF('16년 3추일출'!$AH$14:$AH$9322,'16년3추 일입'!$AF41))) -> 2 | AN41: =IF(W41=0,"OK",IF(W41=AL41,"OK","@@")) -> OK | AP41: =IF(AF41="","",SUMIFS('16년 3추일출'!$AD$7:$AD$9322,'16년 3추일출'!$AH$7:$AH$9322,'16년3추 일입'!$AF41)) -> 6300000 | AQ41: =IF(AF41="","",IF(AF41="세입없음","",COUNTIF('16년 3추일출'!$AH$14:$AH$9322,'16년3추 일입'!$AF41))) -> 2 | AR41: =IF(AB41=0,"OK",IF(AB41=AP41,"OK","@@")) -> OK | AS41: =SUM(N41:O41)-SUM(AB41:AC41) -> 0
A42: 보건복지위원회 | B42: 보건복지국 | C42: 보건정책과 | D42: 본예산 | E42: 65 | G42: 국고보조금 - 마약중독자 치료보호비 | H42: 21000 | I42: 21000 | J42: =IF(D42="","",H42-I42) -> 0 | M42: =H42+K42+L42 -> 21000 | O42: 1500 | P42: =H42+N42+O42 -> 22500 | T42: 국가추경 | V42: 국비 | W42: =IF($V42<>"도비",IF($AF42="국도비","직접입력",SUM($K42:$L42)),) -> 0 | X42: =IF($V42="도비",SUM($K42:$L42),IF($AF42="국도비","직접입력",SUM($K42:$L42)-$W42)) -> 0 | Y42: =IF($AF42="국도비","ok",IF(($K42+$L42)=($W42+$X42),"ok","검토")) -> ok | AA42: =$V42 -> 국비 | AB42: =IF($AA42<>"도비",IF($AF42="국도비","직접입력",SUM($N42:$O42)),) -> 1500 | AC42: =IF($AA42="도비",SUM($N42:$O42),IF($AF42="국도비","직접입력",SUM($N42:$O42)-$AB42)) -> 0 | AD42: =IF($AF42="국도비","ok",IF(($N42+$O42)=($AB42+$AC42),"ok","검토")) -> ok | AF42: =IF(AH42="","",IF($V42="도비","세입없음",$AH42&"-"&TEXT(COUNTIF(AH$7:AH42,AH$7:AH42),"00"))) -> 0705-01 | AH42: {=IFERROR(IF($C42="","",INDEX(구분표!$I$2:$I$1001,MATCH(1,(구분표!$B$2:$B$1001='16년3추 일입'!$A42)*(구분표!$C$2:$C$1001='16년3추 일입'!$B42)*(구분표!$A$2:$A$1001='16년3추 일입'!$C42),0))),"@@")} -> 0705 | AL42: =IF(AF42="","",SUMIFS('16년 3추일출'!$Y$14:$Y$9322,'16년 3추일출'!$AH$14:$AH$9322,'16년3추 일입'!$AF42)) -> 0 | AM42: =IF(AF42="","",IF(AF42="세입없음","",COUNTIF('16년 3추일출'!$AH$14:$AH$9322,'16년3추 일입'!$AF42))) -> 1 | AN42: =IF(W42=0,"OK",IF(W42=AL42,"OK","@@")) -> OK | AP42: =IF(AF42="","",SUMIFS('16년 3추일출'!$AD$7:$AD$9322,'16년 3추일출'!$AH$7:$AH$9322,'16년3추 일입'!$AF42)) -> 1500 | AQ42: =IF(AF42="","",IF(AF42="세입없음","",COUNTIF('16년 3추일출'!$AH$14:$AH$9322,'16년3추 일입'!$AF42))) -> 1 | AR42: =IF(AB42=0,"OK",IF(AB42=AP42,"OK","@@")) -> OK | AS42: =SUM(N42:O42)-SUM(AB42:AC42) -> 0
A43: 보건복지위원회 | B43: 보건복지국 | C43: 복지정책과 | D43: 3회추경 | E43: 571 | G43: 국고보조금 - 생계급여 | H43: 548308000 | I43: 523289000 | J43: =IF(D43="","",H43-I43) -> 25019000 | M43: =H43+K43+L43 -> 548308000 | O43: 1305000 | P43: =H43+N43+O43 -> 549613000 | T43: 국가추경 | V43: 국비 | W43: =IF($V43<>"도비",IF($AF43="국도비","직접입력",SUM($K43:$L43)),) -> 0 | X43: =IF($V43="도비",SUM($K43:$L43),IF($AF43="국도비","직접입력",SUM($K43:$L43)-$W43)) -> 0 | Y43: =IF($AF43="국도비","ok",IF(($K43+$L43)=($W43+$X43),"ok","검토")) -> ok | AA43: =$V43 -> 국비 | AB43: =IF($AA43<>"도비",IF($AF43="국도비","직접입력",SUM($N43:$O43)),) -> 1305000 | AC43: =IF($AA43="도비",SUM($N43:$O43),IF($AF43="국도비","직접입력",SUM($N43:$O43)-$AB43)) -> 0 | AD43: =IF($AF43="국도비","ok",IF(($N43+$O43)=($AB43+$AC43),"ok","검토")) -> ok | AF43: =IF(AH43="","",IF($V43="도비","세입없음",$AH43&"-"&TEXT(COUNTIF(AH$7:AH43,AH$7:AH43),"00"))) -> 0701-01 | AH43: {=IFERROR(IF($C43="","",INDEX(구분표!$I$2:$I$1001,MATCH(1,(구분표!$B$2:$B$1001='16년3추 일입'!$A43)*(구분표!$C$2:$C$1001='16년3추 일입'!$B43)*(구분표!$A$2:$A$1001='16년3추 일입'!$C43),0))),"@@")} -> 0701 | AL43: =IF(AF43="","",SUMIFS('16년 3추일출'!$Y$14:$Y$9322,'16년 3추일출'!$AH$14:$AH$9322,'16년3추 일입'!$AF43)) -> 0 | AM43: =IF(AF43="","",IF(AF43="세입없음","",COUNTIF('16년 3추일출'!$AH$14:$AH$9322,'16년3추 일입'!$AF43))) -> 2 | AN43: =IF(W43=0,"OK",IF(W43=AL43,"OK","@@")) -> OK | AP43: =IF(AF43="","",SUMIFS('16년 3추일출'!$AD$7:$AD$9322,'16년 3추일출'!$AH$7:$AH$9322,'16년3추 일입'!$AF43)) -> 1305000 | AQ43: =IF(AF43="","",IF(AF43="세입없음","",COUNTIF('16년 3추일출'!$AH$14:$AH$9322,'16년3추 일입'!$AF43))) -> 2 | AR43: =IF(AB43=0,"OK",IF(AB43=AP43,"OK","@@")) -> OK | AS43: =SUM(N43:O43)-SUM(AB43:AC43) -> 0
A44: 보건복지위원회 | B44: 보건복지국 | C44: 복지정책과 | D44: 본예산 | E44: 64 | G44: 국고보조금 - 해산장제급여 | H44: 3724000 | I44: 3724000 | J44: =IF(D44="","",H44-I44) -> 0 | M44: =H44+K44+L44 -> 3724000 | O44: 92000 | P44: =H44+N44+O44 -> 3816000 | T44: 국가추경 | V44: 국비 | W44: =IF($V44<>"도비",IF($AF44="국도비","직접입력",SUM($K44:$L44)),) -> 0 | X44: =IF($V44="도비",SUM($K44:$L44),IF($AF44="국도비","직접입력",SUM($K44:$L44)-$W44)) -> 0 | Y44: =IF($AF44="국도비","ok",IF(($K44+$L44)=($W44+$X44),"ok","검토")) -> ok | AA44: =$V44 -> 국비 | AB44: =IF($AA44<>"도비",IF($AF44="국도비","직접입력",SUM($N44:$O44)),) -> 92000 | AC44: =IF($AA44="도비",SUM($N44:$O44),IF($AF44="국도비","직접입력",SUM($N44:$O44)-$AB44)) -> 0 | AD44: =IF($AF44="국도비","ok",IF(($N44+$O44)=($AB44+$AC44),"ok","검토")) -> ok | AF44: =IF(AH44="","",IF($V44="도비","세입없음",$AH44&"-"&TEXT(COUNTIF(AH$7:AH44,AH$7:AH44),"00"))) -> 0701-02 | AH44: {=IFERROR(IF($C44="","",INDEX(구분표!$I$2:$I$1001,MATCH(1,(구분표!$B$2:$B$1001='16년3추 일입'!$A44)*(구분표!$C$2:$C$1001='16년3추 일입'!$B44)*(구분표!$A$2:$A$1001='16년3추 일입'!$C44),0))),"@@")} -> 0701 | AL44: =IF(AF44="","",SUMIFS('16년 3추일출'!$Y$14:$Y$9322,'16년 3추일출'!$AH$14:$AH$9322,'16년3추 일입'!$AF44)) -> 0 | AM44: =IF(AF44="","",IF(AF44="세입없음","",COUNTIF('16년 3추일출'!$AH$14:$AH$9322,'16년3추 일입'!$AF44))) -> 2 | AN44: =IF(W44=0,"OK",IF(W44=AL44,"OK","@@")) -> OK | AP44: =IF(AF44="","",SUMIFS('16년 3추일출'!$AD$7:$AD$9322,'16년 3추일출'!$AH$7:$AH$9322,'16년3추 일입'!$AF44)) -> 92000 | AQ44: =IF(AF44="","",IF(AF44="세입없음","",COUNTIF('16년 3추일출'!$AH$14:$AH$9322,'16년3추 일입'!$AF44))) -> 2 | AR44: =IF(AB44=0,"OK",IF(AB44=AP44,"OK","@@")) -> OK | AS44: =SUM(N44:O44)-SUM(AB44:AC44) -> 0
A45: 보건복지위원회 | B45: 보건복지국 | C45: 복지정책과 | D45: 3회추경 | E45: 571 | G45: 국고보조금 - 읍면동 복지허브화 선도지역 방문용차량 지원(성립전) | H45: 25200 | I45: 0 | J45: =IF(D45="","",H45-I45) -> 25200 | M45: =H45+K45+L45 -> 25200 | O45: 7420 | P45: =H45+N45+O45 -> 32620 | T45: 국가추경 | V45: 국비 | W45: =IF($V45<>"도비",IF($AF45="국도비","직접입력",SUM($K45:$L45)),) -> 0 | X45: =IF($V45="도비",SUM($K45:$L45),IF($AF45="국도비","직접입력",SUM($K45:$L45)-$W45)) -> 0 | Y45: =IF($AF45="국도비","ok",IF(($K45+$L45)=($W45+$X45),"ok","검토")) -> ok | AA45: =$V45 -> 국비 | AB45: =IF($AA45<>"도비",IF($AF45="국도비","직접입력",SUM($N45:$O45)),) -> 7420 | AC45: =IF($AA45="도비",SUM($N45:$O45),IF($AF45="국도비","직접입력",SUM($N45:$O45)-$AB45)) -> 0 | AD45: =IF($AF45="국도비","ok",IF(($N45+$O45)=($AB45+$AC45),"ok","검토")) -> ok | AF45: =IF(AH45="","",IF($V45="도비","세입없음",$AH45&"-"&TEXT(COUNTIF(AH$7:AH45,AH$7:AH45),"00"))) -> 0701-03 | AH45: {=IFERROR(IF($C45="","",INDEX(구분표!$I$2:$I$1001,MATCH(1,(구분표!$B$2:$B$1001='16년3추 일입'!$A45)*(구분표!$C$2:$C$1001='16년3추 일입'!$B45)*(구분표!$A$2:$A$1001='16년3추 일입'!$C45),0))),"@@")} -> 0701 | AL45: =IF(AF45="","",SUMIFS('16년 3추일출'!$Y$14:$Y$9322,'16년 3추일출'!$AH$14:$AH$9322,'16년3추 일입'!$AF45)) -> 0 | AM45: =IF(AF45="","",IF(AF45="세입없음","",COUNTIF('16년 3추일출'!$AH$14:$AH$9322,'16년3추 일입'!$AF45))) -> 1 | AN45: =IF(W45=0,"OK",IF(W45=AL45,"OK","@@")) -> OK | AP45: =IF(AF45="","",SUMIFS('16년 3추일출'!$AD$7:$AD$9322,'16년 3추일출'!$AH$7:$AH$9322,'16년3추 일입'!$AF45)) -> 7420 | AQ45: =IF(AF45="","",IF(AF45="세입없음","",COUNTIF('16년 3추일출'!$AH$14:$AH$9322,'16년3추 일입'!$AF45))) -> 1 | AR45: =IF(AB45=0,"OK",IF(AB45=AP45,"OK","@@")) -> OK | AS45: =SUM(N45:O45)-SUM(AB45:AC45) -> 0
A46: 보건복지위원회 | B46: 보건복지국 | C46: 장애인복지과 | D46: 본예산 | E46: 65 | G46: 국고보조금 - 장애아동가족지원 | H46: 16309632 | I46: 16309632 | J46: =IF(D46="","",H46-I46) -> 0 | M46: =H46+K46+L46 -> 16309632 | O46: 2184686 | P46: =H46+N46+O46 -> 18494318 | T46: 국가추경 | V46: 국비 | W46: =IF($V46<>"도비",IF($AF46="국도비","직접입력",SUM($K46:$L46)),) -> 0 | X46: =IF($V46="도비",SUM($K46:$L46),IF($AF46="국도비","직접입력",SUM($K46:$L46)-$W46)) -> 0 | Y46: =IF($AF46="국도비","ok",IF(($K46+$L46)=($W46+$X46),"ok","검토")) -> ok | AA46: =$V46 -> 국비 | AB46: =IF($AA46<>"도비",IF($AF46="국도비","직접입력",SUM($N46:$O46)),) -> 2184686 | AC46: =IF($AA46="도비",SUM($N46:$O46),IF($AF46="국도비","직접입력",SUM($N46:$O46)-$AB46)) -> 0 | AD46: =IF($AF46="국도비","ok",IF(($N46+$O46)=($AB46+$AC46),"ok","검토")) -> ok | AF46: =IF(AH46="","",IF($V46="도비","세입없음",$AH46&"-"&TEXT(COUNTIF(AH$7:AH46,AH$7:AH46),"00"))) -> 0704-06 | AH46: {=IFERROR(IF($C46="","",INDEX(구분표!$I$2:$I$1001,MATCH(1,(구분표!$B$2:$B$1001='16년3추 일입'!$A46)*(구분표!$C$2:$C$1001='16년3추 일입'!$B46)*(구분표!$A$2:$A$1001='16년3추 일입'!$C46),0))),"@@")} -> 0704 | AL46: =IF(AF46="","",SUMIFS('16년 3추일출'!$Y$14:$Y$9322,'16년 3추일출'!$AH$14:$AH$9322,'16년3추 일입'!$AF46)) -> 0 | AM46: =IF(AF46="","",IF(AF46="세입없음","",COUNTIF('16년 3추일출'!$AH$14:$AH$9322,'16년3추 일입'!$AF46))) -> 3 | AN46: =IF(W46=0,"OK",IF(W46=AL46,"OK","@@")) -> OK | AP46: =IF(AF46="","",SUMIFS('16년 3추일출'!$AD$7:$AD$9322,'16년 3추일출'!$AH$7:$AH$9322,'16년3추 일입'!$AF46)) -> 2184686 | AQ46: =IF(AF46="","",IF(AF46="세입없음","",COUNTIF('16년 3추일출'!$AH$14:$AH$9322,'16년3추 일입'!$AF46))) -> 3 | AR46: =IF(AB46=0,"OK",IF(AB46=AP46,"OK","@@")) -> OK | AS46: =SUM(N46:O46)-SUM(AB46:AC46) -> 0
A47: 농정해양위원회 | B47: 농정해양국 | C47: 친환경농업과 | D47: 신규 | G47: 국고보조금 - 한발대비용수개발 | H47: 0 | I47: 0 | J47: =IF(D47="","",H47-I47) -> 0 | M47: =H47+K47+L47 -> 0 | O47: 1500000 | P47: =H47+N47+O47 -> 1500000 | T47: 국비내시 | V47: 국비 | W47: =IF($V47<>"도비",IF($AF47="국도비","직접입력",SUM($K47:$L47)),) -> 0 | X47: =IF($V47="도비",SUM($K47:$L47),IF($AF47="국도비","직접입력",SUM($K47:$L47)-$W47)) -> 0 | Y47: =IF($AF47="국도비","ok",IF(($K47+$L47)=($W47+$X47),"ok","검토")) -> ok | AA47: =$V47 -> 국비 | AB47: =IF($AA47<>"도비",IF($AF47="국도비","직접입력",SUM($N47:$O47)),) -> 1500000 | AC47: =IF($AA47="도비",SUM($N47:$O47),IF($AF47="국도비","직접입력",SUM($N47:$O47)-$AB47)) -> 0 | AD47: =IF($AF47="국도비","ok",IF(($N47+$O47)=($AB47+$AC47),"ok","검토")) -> ok | AF47: =IF(AH47="","",IF($V47="도비","세입없음",$AH47&"-"&TEXT(COUNTIF(AH$7:AH47,AH$7:AH47),"00"))) -> 0604-01 | AH47: {=IFERROR(IF($C47="","",INDEX(구분표!$I$2:$I$1001,MATCH(1,(구분표!$B$2:$B$1001='16년3추 일입'!$A47)*(구분표!$C$2:$C$1001='16년3추 일입'!$B47)*(구분표!$A$2:$A$1001='16년3추 일입'!$C47),0))),"@@")} -> 0604 | AL47: =IF(AF47="","",SUMIFS('16년 3추일출'!$Y$14:$Y$9322,'16년 3추일출'!$AH$14:$AH$9322,'16년3추 일입'!$AF47)) -> 0 | AM47: =IF(AF47="","",IF(AF47="세입없음","",COUNTIF('16년 3추일출'!$AH$14:$AH$9322,'16년3추 일입'!$AF47))) -> 1 | AN47: =IF(W47=0,"OK",IF(W47=AL47,"OK","@@")) -> OK | AP47: =IF(AF47="","",SUMIFS('16년 3추일출'!$AD$7:$AD$9322,'16년 3추일출'!$AH$7:$AH$9322,'16년3추 일입'!$AF47)) -> 1500000 | AQ47: =IF(AF47="","",IF(AF47="세입없음","",COUNTIF('16년 3추일출'!$AH$14:$AH$9322,'16년3추 일입'!$AF47))) -> 1 | AR47: =IF(AB47=0,"OK",IF(AB47=AP47,"OK","@@")) -> OK | AS47: =SUM(N47:O47)-SUM(AB47:AC47) -> 0
A48: 기획재정위원회 | B48: 기획조정실 | C48: 예산담당관 | D48: 3회추경 | E48: 281 | G48: 보통교부세 - 보통교부세 | H48: 257664000 | I48: 251661000 | J48: =IF(D48="","",H48-I48) -> 6003000 | M48: =H48+K48+L48 -> 257664000 | O48: 13772000 | P48: =H48+N48+O48 -> 271436000 | T48: 국가추경 / 행정자치부 교부세-1704(2016.9.5) | V48: 도비 | W48: =IF($V48<>"도비",IF($AF48="국도비","직접입력",SUM($K48:$L48)),) -> 0 | X48: =IF($V48="도비",SUM($K48:$L48),IF($AF48="국도비","직접입력",SUM($K48:$L48)-$W48)) -> 0 | Y48: =IF($AF48="국도비","ok",IF(($K48+$L48)=($W48+$X48),"ok","검토")) -> ok | AA48: =$V48 -> 도비 | AB48: =IF($AA48<>"도비",IF($AF48="국도비","직접입력",SUM($N48:$O48)),) -> 0 | AC48: =IF($AA48="도비",SUM($N48:$O48),IF($AF48="국도비","직접입력",SUM($N48:$O48)-$AB48)) -> 13772000 | AD48: =IF($AF48="국도비","ok",IF(($N48+$O48)=($AB48+$AC48),"ok","검토")) -> ok | AF48: =IF(AH48="","",IF($V48="도비","세입없음",$AH48&"-"&TEXT(COUNTIF(AH$7:AH48,AH$7:AH48),"00"))) -> 세입없음 | AH48: {=IFERROR(IF($C48="","",INDEX(구분표!$I$2:$I$1001,MATCH(1,(구분표!$B$2:$B$1001='16년3추 일입'!$A48)*(구분표!$C$2:$C$1001='16년3추 일입'!$B48)*(구분표!$A$2:$A$1001='16년3추 일입'!$C48),0))),"@@")} -> 0207 | AL48: =IF(AF48="","",SUMIFS('16년 3추일출'!$Y$14:$Y$9322,'16년 3추일출'!$AH$14:$AH$9322,'16년3추 일입'!$AF48)) -> 0 | AM48: =IF(AF48="","",IF(AF48="세입없음","",COUNTIF('16년 3추일출'!$AH$14:$AH$9322,'16년3추 일입'!$AF48))) | AN48: =IF(W48=0,"OK",IF(W48=AL48,"OK","@@")) -> OK | AP48: =IF(AF48="","",SUMIFS('16년 3추일출'!$AD$7:$AD$9322,'16년 3추일출'!$AH$7:$AH$9322,'16년3추 일입'!$AF48)) -> 0 | AQ48: =IF(AF48="","",IF(AF48="세입없음","",COUNTIF('16년 3추일출'!$AH$14:$AH$9322,'16년3추 일입'!$AF48))) | AR48: =IF(AB48=0,"OK",IF(AB48=AP48,"OK","@@")) -> OK | AS48: =SUM(N48:O48)-SUM(AB48:AC48) -> 0
J49: =IF(D49="","",H49-I49) | M49: =H49+K49+L49 -> 0 | P49: =H49+N49+O49 -> 0 | W49: =IF($V49<>"도비",IF($AF49="국도비","직접입력",SUM($K49:$L49)),) -> 0 | X49: =IF($V49="도비",SUM($K49:$L49),IF($AF49="국도비","직접입력",SUM($K49:$L49)-$W49)) -> 0 | Y49: =IF($AF49="국도비","ok",IF(($K49+$L49)=($W49+$X49),"ok","검토")) -> ok | AA49: =$V49 -> 0 | AB49: =IF($AA49<>"도비",IF($AF49="국도비","직접입력",SUM($N49:$O49)),) -> 0 | AC49: =IF($AA49="도비",SUM($N49:$O49),IF($AF49="국도비","직접입력",SUM($N49:$O49)-$AB49)) -> 0 | AD49: =IF($AF49="국도비","ok",IF(($N49+$O49)=($AB49+$AC49),"ok","검토")) -> ok | AF49: =IF(AH49="","",IF($V49="도비","세입없음",$AH49&"-"&TEXT(COUNTIF(AH$7:AH49,AH$7:AH49),"00"))) | AH49: {=IFERROR(IF($C49="","",INDEX(구분표!$I$2:$I$1001,MATCH(1,(구분표!$B$2:$B$1001='16년3추 일입'!$A49)*(구분표!$C$2:$C$1001='16년3추 일입'!$B49)*(구분표!$A$2:$A$1001='16년3추 일입'!$C49),0))),"@@")} | AL49: =IF(AF49="","",SUMIFS('16년 3추일출'!$Y$14:$Y$9322,'16년 3추일출'!$AH$14:$AH$9322,'16년3추 일입'!$AF49)) | AM49: =IF(AF49="","",IF(AF49="세입없음","",COUNTIF('16년 3추일출'!$AH$14:$AH$9322,'16년3추 일입'!$AF49))) | AN49: =IF(W49=0,"OK",IF(W49=AL49,"OK","@@")) -> OK | AP49: =IF(AF49="","",SUMIFS('16년 3추일출'!$AD$7:$AD$9322,'16년 3추일출'!$AH$7:$AH$9322,'16년3추 일입'!$AF49)) | AQ49: =IF(AF49="","",IF(AF49="세입없음","",COUNTIF('16년 3추일출'!$AH$14:$AH$9322,'16년3추 일입'!$AF49))) | AR49: =IF(AB49=0,"OK",IF(AB49=AP49,"OK","@@")) -> OK | AS49: =SUM(N49:O49)-SUM(AB49:AC49) -> 0
J50: =IF(D50="","",H50-I50) | M50: =H50+K50+L50 -> 0 | P50: =H50+N50+O50 -> 0 | W50: =IF($V50<>"도비",IF($AF50="국도비","직접입력",SUM($K50:$L50)),) -> 0 | X50: =IF($V50="도비",SUM($K50:$L50),IF($AF50="국도비","직접입력",SUM($K50:$L50)-$W50)) -> 0 | Y50: =IF($AF50="국도비","ok",IF(($K50+$L50)=($W50+$X50),"ok","검토")) -> ok | AA50: =$V50 -> 0 | AB50: =IF($AA50<>"도비",IF($AF50="국도비","직접입력",SUM($N50:$O50)),) -> 0 | AC50: =IF($AA50="도비",SUM($N50:$O50),IF($AF50="국도비","직접입력",SUM($N50:$O50)-$AB50)) -> 0 | AD50: =IF($AF50="국도비","ok",IF(($N50+$O50)=($AB50+$AC50),"ok","검토")) -> ok | AF50: =IF(AH50="","",IF($V50="도비","세입없음",$AH50&"-"&TEXT(COUNTIF(AH$7:AH50,AH$7:AH50),"00"))) | AH50: {=IFERROR(IF($C50="","",INDEX(구분표!$I$2:$I$1001,MATCH(1,(구분표!$B$2:$B$1001='16년3추 일입'!$A50)*(구분표!$C$2:$C$1001='16년3추 일입'!$B50)*(구분표!$A$2:$A$1001='16년3추 일입'!$C50),0))),"@@")} | AL50: =IF(AF50="","",SUMIFS('16년 3추일출'!$Y$14:$Y$9322,'16년 3추일출'!$AH$14:$AH$9322,'16년3추 일입'!$AF50)) | AM50: =IF(AF50="","",IF(AF50="세입없음","",COUNTIF('16년 3추일출'!$AH$14:$AH$9322,'16년3추 일입'!$AF50))) | AN50: =IF(W50=0,"OK",IF(W50=AL50,"OK","@@")) -> OK | AP50: =IF(AF50="","",SUMIFS('16년 3추일출'!$AD$7:$AD$9322,'16년 3추일출'!$AH$7:$AH$9322,'16년3추 일입'!$AF50)) | AQ50: =IF(AF50="","",IF(AF50="세입없음","",COUNTIF('16년 3추일출'!$AH$14:$AH$9322,'16년3추 일입'!$AF50))) | AR50: =IF(AB50=0,"OK",IF(AB50=AP50,"OK","@@")) -> OK | AS50: =SUM(N50:O50)-SUM(AB50:AC50) -> 0
J51: =IF(D51="","",H51-I51) | M51: =H51+K51+L51 -> 0 | P51: =H51+N51+O51 -> 0 | W51: =IF($V51<>"도비",IF($AF51="국도비","직접입력",SUM($K51:$L51)),) -> 0 | X51: =IF($V51="도비",SUM($K51:$L51),IF($AF51="국도비","직접입력",SUM($K51:$L51)-$W51)) -> 0 | Y51: =IF($AF51="국도비","ok",IF(($K51+$L51)=($W51+$X51),"ok","검토")) -> ok | AA51: =$V51 -> 0 | AB51: =IF($AA51<>"도비",IF($AF51="국도비","직접입력",SUM($N51:$O51)),) -> 0 | AC51: =IF($AA51="도비",SUM($N51:$O51),IF($AF51="국도비","직접입력",SUM($N51:$O51)-$AB51)) -> 0 | AD51: =IF($AF51="국도비","ok",IF(($N51+$O51)=($AB51+$AC51),"ok","검토")) -> ok | AF51: =IF(AH51="","",IF($V51="도비","세입없음",$AH51&"-"&TEXT(COUNTIF(AH$7:AH51,AH$7:AH51),"00"))) | AH51: {=IFERROR(IF($C51="","",INDEX(구분표!$I$2:$I$1001,MATCH(1,(구분표!$B$2:$B$1001='16년3추 일입'!$A51)*(구분표!$C$2:$C$1001='16년3추 일입'!$B51)*(구분표!$A$2:$A$1001='16년3추 일입'!$C51),0))),"@@")} | AL51: =IF(AF51="","",SUMIFS('16년 3추일출'!$Y$14:$Y$9322,'16년 3추일출'!$AH$14:$AH$9322,'16년3추 일입'!$AF51)) | AM51: =IF(AF51="","",IF(AF51="세입없음","",COUNTIF('16년 3추일출'!$AH$14:$AH$9322,'16년3추 일입'!$AF51))) | AN51: =IF(W51=0,"OK",IF(W51=AL51,"OK","@@")) -> OK | AP51: =IF(AF51="","",SUMIFS('16년 3추일출'!$AD$7:$AD$9322,'16년 3추일출'!$AH$7:$AH$9322,'16년3추 일입'!$AF51)) | AQ51: =IF(AF51="","",IF(AF51="세입없음","",COUNTIF('16년 3추일출'!$AH$14:$AH$9322,'16년3추 일입'!$AF51))) | AR51: =IF(AB51=0,"OK",IF(AB51=AP51,"OK","@@")) -> OK | AS51: =SUM(N51:O51)-SUM(AB51:AC51) -> 0

Sheet 16년 3추일출
A1: 2016년도 제3회 추경 경기도 일반회계 세출 예산 조정(안) | AD1: =AD6-'16년3추 일입'!AB6 -> 0
A2: □세출예산 | M2: =SUM(K6:L6) -> 3012689 | P2: =N6+O6 -> 64242035 | Y2: 세입 = 세출 | AD2: 세입 = 세출
K3: =COUNTA(K7:K166)-10 -> 17 | L3: =COUNTA(L7:L166)-10 -> 45 | M3: =M6-H6 -> 3012689 | N3: =COUNTA(N7:N166)-10 -> 23 | O3: =COUNTA(O7:O166)-10 -> 95 | P3: =P6-H6 -> 64242035 | S3: (단위 : 천원) | T3: (단위 : 천원) | Y3: =IF(Y6='16년3추 일입'!$W$6,"OK","@@") -> OK | Z3: =SUM(Y6:Z6) -> 3012689 | AA3: =IF(COUNTIF(AA6:AA974,"@@")>0,"@@","OK") -> OK | AD3: =IF(AD6='16년3추 일입'!AB6,"OK","@@") -> OK | AE3: =SUM(AD6:AE6) -> 64242035 | AF3: =IF(COUNTIF(AF6:AF974,"@@")>0,"@@","OK") -> OK
A4: 위원회명 | B4: 실국명 | C4: 부서명 | D4: 편성 구분 | E4: 예산안 페이지 | F4: 사 업 설명서 | G4: 세부사업명 및 부기명 | H4: 제3회 추경 예산안 (가) | I4: 기정액 (나) | J4: 제3회 추경 증감액 (다=가-나) | K4: 상임위 예산안 조정액(라) | M4: 상임위 조정 예산안 (마=가+라) | N4: 예결위 예산안 조정액(라) | P4: 예결위 조정 예산안 (마=가or나+라) | Q4: 동의 대상 | R4: 상임위 변경사유 | S4: 상임위(부대의견) | T4: 비고(부대의견) | U4: 비고 | V4: 국도비 등 여부 | X4: 재원 | Y4: 상임위 재원별 증감액 | AC4: 재원 | AD4: 예결위 재원별 증감액 | AH4: 세입 번호 | AJ4: 동일 세입 건수 | AK4: 세입 번호 검증 | AM4: 위원회 부서별 정렬 | AO4: 추가 내시 등
K5: 감액 | L5: 증액 | N5: 감액 | O5: 증액 | Y5: 국비 등 | Z5: 도 비 | AA5: 검증 | AD5: 국비 등 | AE5: 도 비 | AF5: 검증
H6: =SUM(H7,H13,H22,H32,H43,H51,H76,H129,H137,H146) -> 2947112335 | I6: =SUM(I7,I13,I22,I32,I43,I51,I76,I129,I137,I146) -> 2736015115 | J6: =SUM(J7,J13,J22,J32,J43,J51,J76,J129,J137,J146) -> 211097220 | K6: =SUM(K7,K13,K22,K32,K43,K51,K76,K129,K137,K146) -> -13460921 | L6: =SUM(L7,L13,L22,L32,L43,L51,L76,L129,L137,L146) -> 16473610 | M6: =SUM(M7,M13,M22,M32,M43,M51,M76,M129,M137,M146) -> 2950125024 | N6: =SUM(N7,N13,N22,N32,N43,N51,N76,N129,N137,N146) -> -28681606 | O6: =SUM(O7,O13,O22,O32,O43,O51,O76,O129,O137,O146) -> 92923641 | P6: =SUM(P7,P13,P22,P32,P43,P51,P76,P129,P137,P146) -> 3011354370 | Y6: =SUM(Y7,Y13,Y22,Y32,Y43,Y51,Y76,Y129,Y137,Y146) -> 10704901 | Z6: =SUM(Z7,Z13,Z22,Z32,Z43,Z51,Z76,Z129,Z137,Z146) -> -7692212 | AD6: =SUM(AD7,AD13,AD22,AD32,AD43,AD51,AD76,AD129,AD137,AD146) -> 50683880 | AE6: =SUM(AE7,AE13,AE22,AE32,AE43,AE51,AE76,AE129,AE137,AE146) -> 13558155
A7: (의회운영위원회) | H7: =SUM(H8:H12) -> 3218475 | I7: =SUM(I8:I12) -> 1828475 | J7: =SUM(J8:J12) -> 1390000 | K7: =SUM(K8:K12) -> -170000 | L7: =SUM(L8:L12) -> 0 | M7: =SUM(M8:M12) -> 3048475 | N7: =SUM(N8:N12) -> -70000 | O7: =SUM(O8:O12) -> 0 | P7: =SUM(P8:P12) -> 3148475 | Y7: =SUM(Y8:Y12) -> 0 | Z7: =SUM(Z8:Z12) -> -170000 | AA7: =IFERROR(IF(($K7+$L7)=($Y7+$Z7),"ok","검토"),"검토") -> ok | AC7: =IF(X7="","",$X7) | AD7: =SUM(AD8:AD12) -> 0 | AE7: =SUM(AE8:AE12) -> -70000 | AF7: =IFERROR(IF((N7+O7)=(AD7+AE7),"ok","검토"),"검토") -> ok | AJ7: =IF(AH7="","",COUNTIF($AH$7:$AH$10141,$AH7)) | AK7: =IF(C7="","",IF(AND(X7="도비",AH7="세입없음"),"OK",IF(AND(X7<>"도비",AH7<>""),"Ok","@@"))) | AP7: =SUM(N7:O7)-SUM(AD7:AE7) -> 0
A8: 의회운영위원회 | B8: 의회사무처 | C8: 입법정책담당관 | D8: 3회추경 | E8: 257 | F8: 46 | G8: 의원 입법활동 연구용역(자체/직접) - 위원회별 정책연구용역 | H8: 540000 | I8: 300000 | J8: =IF(D8="","",H8-I8) -> 240000 | K8: -20000 | M8: =H8+K8+L8 -> 520000 | N8: -20000 | P8: =H8+N8+O8 -> 520000 | Q8: =IF(OR(AND(K8<0,K8<N8),AND(K8<0,N8+O8=0),AND(K8<0,O8>0),AND(I8=0,M8=0,P8>0)),"동의","") | R8: 선감학원 사건 진상조사 및 지원방안 연구용역 사업비 감액(경비가 과다) | V8: 도비 | X8: 도비 | Y8: =IF($X8<>"도비",IF($V8="국도비","직접입력",SUM($K8:$L8)),) -> 0 | Z8: =IF($X8="도비",SUM($K8:$L8),IF($V8="국도비","직접입력",SUM($K8:$L8)-$Y8)) -> -20000 | AA8: =IFERROR(IF(($K8+$L8)=($Y8+$Z8),"ok","검토"),"검토") -> ok | AC8: =IF(X8="","",$X8) -> 도비 | AD8: =IF($X8<>"도비",IF($V8="국도비","직접입력",SUM(N8:O8)),) -> 0 | AE8: =IF($X8="도비",SUM(N8:O8),IF($V8="국도비","직접입력",SUM(N8:O8)-AD8)) -> -20000 | AF8: =IFERROR(IF((N8+O8)=(AD8+AE8),"ok","검토"),"검토") -> ok | AH8: 세입없음 | AJ8: =IF(AH8="","",COUNTIF($AH$7:$AH$10141,$AH8)) -> 65 | AK8: =IF(C8="","",IF(AND(X8="도비",AH8="세입없음"),"OK",IF(AND(X8<>"도비",AH8<>""),"Ok","@@"))) -> OK | AP8: =SUM(N8:O8)-SUM(AD8:AE8) -> 0
A9: 의회운영위원회 | B9: 대변인 | C9: 언론협력담당관 | D9: 3회추경 | E9: 263 | F9: 6 | G9: 신문을 통한 홍보(자체/직접) - 언론공익광고 | H9: 2500475 | I9: 1400475 | J9: =IF(D9="","",H9-I9) -> 1100000 | K9: -150000 | M9: =H9+K9+L9 -> 2350475 | N9: -50000 | P9: =H9+N9+O9 -> 2450475 | Q9: =IF(OR(AND(K9<0,K9<N9),AND(K9<0,N9+O9=0),AND(K9<0,O9>0),AND(I9=0,M9=0,P9>0)),"동의","") -> 동의 | R9: 2015년 예산 수준(20억원)에서 광고단가 인상분(1억원), 연정협력사업·지역주간지수요(2억5천만원)반영 | V9: 도비 | X9: 도비 | Y9: =IF($X9<>"도비",IF($V9="국도비","직접입력",SUM($K9:$L9)),) -> 0 | Z9: =IF($X9="도비",SUM($K9:$L9),IF($V9="국도비","직접입력",SUM($K9:$L9)-$Y9)) -> -150000 | AA9: =IFERROR(IF(($K9+$L9)=($Y9+$Z9),"ok","검토"),"검토") -> ok | AC9: =IF(X9="","",$X9) -> 도비 | AD9: =IF($X9<>"도비",IF($V9="국도비","직접입력",SUM(N9:O9)),) -> 0 | AE9: =IF($X9="도비",SUM(N9:O9),IF($V9="국도비","직접입력",SUM(N9:O9)-AD9)) -> -50000 | AF9: =IFERROR(IF((N9+O9)=(AD9+AE9),"ok","검토"),"검토") -> ok | AH9: 세입없음 | AJ9: =IF(AH9="","",COUNTIF($AH$7:$AH$10141,$AH9)) -> 65 | AK9: =IF(C9="","",IF(AND(X9="도비",AH9="세입없음"),"OK",IF(AND(X9<>"도비",AH9<>""),"Ok","@@"))) -> OK | AP9: =SUM(N9:O9)-SUM(AD9:AE9) -> 0
A10: 의회운영위원회 | B10: 의회사무처 | C10: 총무담당관 | D10: 3회추경 | E10: 253 | F10: 22 | G10: 의정지원 기준경비(자체/직접) - 국내여비(의정업무수행) | H10: 158000 | I10: 128000 | J10: =IF(D10="","",H10-I10) -> 30000 | M10: =H10+K10+L10 -> 158000 | P10: =H10+N10+O10 -> 158000 | Q10: =IF(OR(AND(K10<0,K10<N10),AND(K10<0,N10+O10=0),AND(K10<0,O10>0),AND(I10=0,M10=0,P10>0)),"동의","") | T10: (부대의견)특정단체에 예산이 편중되지 않도록 집행할 것 | V10: 도비 | X10: 도비 | Y10: =IF($X10<>"도비",IF($V10="국도비","직접입력",SUM($K10:$L10)),) -> 0 | Z10: =IF($X10="도비",SUM($K10:$L10),IF($V10="국도비","직접입력",SUM($K10:$L10)-$Y10)) -> 0 | AA10: =IFERROR(IF(($K10+$L10)=($Y10+$Z10),"ok","검토"),"검토") -> ok | AC10: =IF(X10="","",$X10) -> 도비 | AD10: =IF($X10<>"도비",IF($V10="국도비","직접입력",SUM(N10:O10)),) -> 0 | AE10: =IF($X10="도비",SUM(N10:O10),IF($V10="국도비","직접입력",SUM(N10:O10)-AD10)) -> 0 | AF10: =IFERROR(IF((N10+O10)=(AD10+AE10),"ok","검토"),"검토") -> ok | AH10: 세입없음 | AJ10: =IF(AH10="","",COUNTIF($AH$7:$AH$10141,$AH10)) -> 65 | AK10: =IF(C10="","",IF(AND(X10="도비",AH10="세입없음"),"OK",IF(AND(X10<>"도비",AH10<>""),"Ok","@@"))) -> OK | AP10: =SUM(N10:O10)-SUM(AD10:AE10) -> 0
A11: 의회운영위원회 | B11: 의회사무처 | C11: 총무담당관 | D11: 3회추경 | E11: 253 | F11: 15 | G11: 청사시설 유지관리(자체/직접) - 지하주차장 진단 및 설계용역 | H11: 20000 | I11: 0 | J11: =IF(D11="","",H11-I11) -> 20000 | M11: =H11+K11+L11 -> 20000 | P11: =H11+N11+O11 -> 20000 | Q11: =IF(OR(AND(K11<0,K11<N11),AND(K11<0,N11+O11=0),AND(K11<0,O11>0),AND(I11=0,M11=0,P11>0)),"동의","") | T11: 부기명 변경(지하주차장 진단용역 → 지하주차장 진단 및 설계용역) | V11: 도비 | X11: 도비 | Y11: =IF($X11<>"도비",IF($V11="국도비","직접입력",SUM($K11:$L11)),) -> 0 | Z11: =IF($X11="도비",SUM($K11:$L11),IF($V11="국도비","직접입력",SUM($K11:$L11)-$Y11)) -> 0 | AA11: =IFERROR(IF(($K11+$L11)=($Y11+$Z11),"ok","검토"),"검토") -> ok | AC11: =IF(X11="","",$X11) -> 도비 | AD11: =IF($X11<>"도비",IF($V11="국도비","직접입력",SUM(N11:O11)),) -> 0 | AE11: =IF($X11="도비",SUM(N11:O11),IF($V11="국도비","직접입력",SUM(N11:O11)-AD11)) -> 0 | AF11: =IFERROR(IF((N11+O11)=(AD11+AE11),"ok","검토"),"검토") -> ok | AH11: 세입없음 | AJ11: =IF(AH11="","",COUNTIF($AH$7:$AH$10141,$AH11)) -> 65 | AK11: =IF(C11="","",IF(AND(X11="도비",AH11="세입없음"),"OK",IF(AND(X11<>"도비",AH11<>""),"Ok","@@"))) -> OK | AP11: =SUM(N11:O11)-SUM(AD11:AE11) -> 0
J12: =IF(D12="","",H12-I12) | M12: =H12+K12+L12 -> 0 | P12: =H12+N12+O12 -> 0 | Q12: =IF(OR(AND(K12<0,K12<N12),AND(K12<0,N12+O12=0),AND(K12<0,O12>0),AND(I12=0,M12=0,P12>0)),"동의","") | Y12: =IF($X12<>"도비",IF($V12="국도비","직접입력",SUM($K12:$L12)),) -> 0 | Z12: =IF($X12="도비",SUM($K12:$L12),IF($V12="국도비","직접입력",SUM($K12:$L12)-$Y12)) -> 0 | AA12: =IFERROR(IF(($K12+$L12)=($Y12+$Z12),"ok","검토"),"검토") -> ok | AC12: =IF(X12="","",$X12) | AD12: =IF($X12<>"도비",IF($V12="국도비","직접입력",SUM(N12:O12)),) -> 0 | AE12: =IF($X12="도비",SUM(N12:O12),IF($V12="국도비","직접입력",SUM(N12:O12)-AD12)) -> 0 | AF12: =IFERROR(IF((N12+O12)=(AD12+AE12),"ok","검토"),"검토") -> ok | AJ12: =IF(AH12="","",COUNTIF($AH$7:$AH$10141,$AH12)) | AK12: =IF(C12="","",IF(AND(X12="도비",AH12="세입없음"),"OK",IF(AND(X12<>"도비",AH12<>""),"Ok","@@")))
A13: (기획재정위원회) | H13: =SUM(H14:H21) -> 97265832 | I13: =SUM(I14:I21) -> 55971170 | J13: =SUM(J14:J21) -> 41294662 | K13: =SUM(K14:K21) -> -1073360 | L13: =SUM(L14:L21) -> 50000 | M13: =SUM(M14:M21) -> 96242472 | N13: =SUM(N14:N21) -> -73360 | O13: =SUM(O14:O21) -> 21730772 | P13: =SUM(P14:P21) -> 118923244 | Y13: =SUM(Y14:Y21) -> 0 | Z13: =SUM(Z14:Z21) -> -1023360 | AA13: =IFERROR(IF(($K13+$L13)=($Y13+$Z13),"ok","검토"),"검토") -> ok | AC13: =IF(X13="","",$X13) | AD13: =SUM(AD14:AD21) -> 0 | AE13: =SUM(AE14:AE21) -> 21657412 | AF13: =IFERROR(IF((N13+O13)=(AD13+AE13),"ok","검토"),"검토") -> ok | AJ13: =IF(AH13="","",COUNTIF($AH$7:$AH$10141,$AH13)) | AK13: =IF(C13="","",IF(AND(X13="도비",AH13="세입없음"),"OK",IF(AND(X13<>"도비",AH13<>""),"Ok","@@"))) | AP13: =SUM(N13:O13)-SUM(AD13:AE13) -> 0
A14: 기획재정위원회 | B14: 기획조정실 | C14: 규제개혁추진단 | D14: 3회추경 | E14: 292 | F14: 111 | G14: 푸드트럭 창업 지원(자체/직접) - 규제시책 및 푸드트럭 활성화 홍보 | H14: 150000 | I14: 100000 | J14: =IF(D14="","",H14-I14) -> 50000 | K14: -50000 | M14: =H14+K14+L14 -> 100000 | N14: -50000 | P14: =H14+N14+O14 -> 100000 | Q14: =IF(OR(AND(K14<0,K14<N14),AND(K14<0,N14+O14=0),AND(K14<0,O14>0),AND(I14=0,M14=0,P14>0)),"동의","") | R14: 당초 예산과 같게 추진 | V14: 도비 | X14: 도비 | Y14: =IF($X14<>"도비",IF($V14="국도비","직접입력",SUM($K14:$L14)),) -> 0 | Z14: =IF($X14="도비",SUM($K14:$L14),IF($V14="국도비","직접입력",SUM($K14:$L14)-$Y14)) -> -50000 | AA14: =IFERROR(IF(($K14+$L14)=($Y14+$Z14),"ok","검토"),"검토") -> ok | AC14: =IF(X14="","",$X14) -> 도비 | AD14: =IF($X14<>"도비",IF($V14="국도비","직접입력",SUM(N14:O14)),) -> 0 | AE14: =IF($X14="도비",SUM(N14:O14),IF($V14="국도비","직접입력",SUM(N14:O14)-AD14)) -> -50000 | AF14: =IFERROR(IF((N14+O14)=(AD14+AE14),"ok","검토"),"검토") -> ok | AH14: 세입없음 | AJ14: =IF(AH14="","",COUNTIF($AH$7:$AH$10141,$AH14)) -> 65 | AK14: =IF(C14="","",IF(AND(X14="도비",AH14="세입없음"),"OK",IF(AND(X14<>"도비",AH14<>""),"Ok","@@"))) -> OK | AP14: =SUM(N14:O14)-SUM(AD14:AE14) -> 0
A15: 기획재정위원회 | B15: 기획조정실 | C15: 규제개혁추진단 | D15: 3회추경 | E15: 292 | F15: 111 | G15: 푸드트럭 창업 지원(자체/직접) - 푸드트럭 구입비 | H15: 415000 | I15: 465000 | J15: =IF(D15="","",H15-I15) -> -50000 | L15: 50000 | M15: =H15+K15+L15 -> 465000 | O15: 50000 | P15: =H15+N15+O15 -> 465000 | Q15: =IF(OR(AND(K15<0,K15<N15),AND(K15<0,N15+O15=0),AND(K15<0,O15>0),AND(I15=0,M15=0,P15>0)),"동의","") | R15: 당초 예산과 같게 추진 | V15: 도비 | X15: 도비 | Y15: =IF($X15<>"도비",IF($V15="국도비","직접입력",SUM($K15:$L15)),) -> 0 | Z15: =IF($X15="도비",SUM($K15:$L15),IF($V15="국도비","직접입력",SUM($K15:$L15)-$Y15)) -> 50000 | AA15: =IFERROR(IF(($K15+$L15)=($Y15+$Z15),"ok","검토"),"검토") -> ok | AC15: =IF(X15="","",$X15) -> 도비 | AD15: =IF($X15<>"도비",IF($V15="국도비","직접입력",SUM(N15:O15)),) -> 0 | AE15: =IF($X15="도비",SUM(N15:O15),IF($V15="국도비","직접입력",SUM(N15:O15)-AD15)) -> 50000 | AF15: =IFERROR(IF((N15+O15)=(AD15+AE15),"ok","검토"),"검토") -> ok | AH15: 세입없음 | AJ15: =IF(AH15="","",COUNTIF($AH$7:$AH$10141,$AH15)) -> 65 | AK15: =IF(C15="","",IF(AND(X15="도비",AH15="세입없음"),"OK",IF(AND(X15<>"도비",AH15<>""),"Ok","@@"))) -> OK | AP15: =SUM(N15:O15)-SUM(AD15:AE15) -> 0
A16: 기획재정위원회 | B16: 균형발전기획실 | C16: 균형발전담당관 | D16: 3회추경 | E16: 304 | F16: 23 | G16: 주한미군공여구역주변지역 지원사업(자체/지원) - 공여구역 주변지역 지원사업 | H16: 18000000 | I16: 0 | J16: =IF(D16="","",H16-I16) -> 18000000 | K16: -1000000 | M16: =H16+K16+L16 -> 17000000 | P16: =H16+N16+O16 -> 18000000 | Q16: =IF(OR(AND(K16<0,K16<N16),AND(K16<0,N16+O16=0),AND(K16<0,O16>0),AND(I16=0,M16=0,P16>0)),"동의","") -> 동의 | R16: 일부 시군비 부담 | V16: 도비 | X16: 도비 | Y16: =IF($X16<>"도비",IF($V16="국도비","직접입력",SUM($K16:$L16)),) -> 0 | Z16: =IF($X16="도비",SUM($K16:$L16),IF($V16="국도비","직접입력",SUM($K16:$L16)-$Y16)) -> -1000000 | AA16: =IFERROR(IF(($K16+$L16)=($Y16+$Z16),"ok","검토"),"검토") -> ok | AC16: =IF(X16="","",$X16) -> 도비 | AD16: =IF($X16<>"도비",IF($V16="국도비","직접입력",SUM(N16:O16)),) -> 0 | AE16: =IF($X16="도비",SUM(N16:O16),IF($V16="국도비","직접입력",SUM(N16:O16)-AD16)) -> 0 | AF16: =IFERROR(IF((N16+O16)=(AD16+AE16),"ok","검토"),"검토") -> ok | AH16: 세입없음 | AJ16: =IF(AH16="","",COUNTIF($AH$7:$AH$10141,$AH16)) -> 65 | AK16: =IF(C16="","",IF(AND(X16="도비",AH16="세입없음"),"OK",IF(AND(X16<>"도비",AH16<>""),"Ok","@@"))) -> OK | AP16: =SUM(N16:O16)-SUM(AD16:AE16) -> 0
A17: 기획재정위원회 | B17: 균형발전기획실 | C17: 통일기반조성담당관 | D17: 3회추경 | E17: 305 | F17: 38 | G17: 북한이탈주민 문화격차 해소사업(자체/직접) - 북한이탈주민 문화격차 해소사업 | H17: 20000 | I17: 0 | J17: =IF(D17="","",H17-I17) -> 20000 | K17: -20000 | M17: =H17+K17+L17 -> 0 | N17: -20000 | P17: =H17+N17+O17 -> 0 | Q17: =IF(OR(AND(K17<0,K17<N17),AND(K17<0,N17+O17=0),AND(K17<0,O17>0),AND(I17=0,M17=0,P17>0)),"동의","") | R17: 1회성 (행사성) 예산으로 추경에 적절치 않음 | V17: 도비 | X17: 도비 | Y17: =IF($X17<>"도비",IF($V17="국도비","직접입력",SUM($K17:$L17)),) -> 0 | Z17: =IF($X17="도비",SUM($K17:$L17),IF($V17="국도비","직접입력",SUM($K17:$L17)-$Y17)) -> -20000 | AA17: =IFERROR(IF(($K17+$L17)=($Y17+$Z17),"ok","검토"),"검토") -> ok | AC17: =IF(X17="","",$X17) -> 도비 | AD17: =IF($X17<>"도비",IF($V17="국도비","직접입력",SUM(N17:O17)),) -> 0 | AE17: =IF($X17="도비",SUM(N17:O17),IF($V17="국도비","직접입력",SUM(N17:O17)-AD17)) -> -20000 | AF17: =IFERROR(IF((N17+O17)=(AD17+AE17),"ok","검토"),"검토") -> ok | AH17: 세입없음 | AJ17: =IF(AH17="","",COUNTIF($AH$7:$AH$10141,$AH17)) -> 65 | AK17: =IF(C17="","",IF(AND(X17="도비",AH17="세입없음"),"OK",IF(AND(X17<>"도비",AH17<>""),"Ok","@@"))) -> OK | AP17: =SUM(N17:O17)-SUM(AD17:AE17) -> 0
A18: 기획재정위원회 | B18: 감사관 | C18: 조사담당관 | D18: 3회추경 | E18: 277 | F18: 29 | G18: 옴부즈만 지원(자체/지접) - 옴부즈만 운영수당 등 | H18: 20560 | I18: 17200 | J18: =IF(D18="","",H18-I18) -> 3360 | K18: -3360 | M18: =H18+K18+L18 -> 17200 | N18: -3360 | P18: =H18+N18+O18 -> 17200 | Q18: =IF(OR(AND(K18<0,K18<N18),AND(K18<0,N18+O18=0),AND(K18<0,O18>0),AND(I18=0,M18=0,P18>0)),"동의","") | R18: 건당 심사수당을 추가로 지급하는 것으로 적절치 않음 | V18: 도비 | X18: 도비 | Y18: =IF($X18<>"도비",IF($V18="국도비","직접입력",SUM($K18:$L18)),) -> 0 | Z18: =IF($X18="도비",SUM($K18:$L18),IF($V18="국도비","직접입력",SUM($K18:$L18)-$Y18)) -> -3360 | AA18: =IFERROR(IF(($K18+$L18)=($Y18+$Z18),"ok","검토"),"검토") -> ok | AC18: =IF(X18="","",$X18) -> 도비 | AD18: =IF($X18<>"도비",IF($V18="국도비","직접입력",SUM(N18:O18)),) -> 0 | AE18: =IF($X18="도비",SUM(N18:O18),IF($V18="국도비","직접입력",SUM(N18:O18)-AD18)) -> -3360 | AF18: =IFERROR(IF((N18+O18)=(AD18+AE18),"ok","검토"),"검토") -> ok | AH18: 세입없음 | AJ18: =IF(AH18="","",COUNTIF($AH$7:$AH$10141,$AH18)) -> 65 | AK18: =IF(C18="","",IF(AND(X18="도비",AH18="세입없음"),"OK",IF(AND(X18<>"도비",AH18<>""),"Ok","@@"))) -> OK | AP18: =SUM(N18:O18)-SUM(AD18:AE18) -> 0
A19: 기획재정위원회 | B19: 기획조정실 | C19: 예산담당관 | D19: 신규 | G19: 예비비(자체/직접) - 내부유보금 | H19: 0 | I19: 0 | J19: =IF(D19="","",H19-I19) -> 0 | M19: =H19+K19+L19 -> 0 | O19: 18800000 | P19: =H19+N19+O19 -> 18800000 | Q19: =IF(OR(AND(K19<0,K19<N19),AND(K19<0,N19+O19=0),AND(K19<0,O19>0),AND(I19=0,M19=0,P19>0)),"동의","") -> 동의 | T19: 교육비특별회계 전출금(교육재정부담금) 감액분 | V19: 도비 | X19: 도비 | Y19: =IF($X19<>"도비",IF($V19="국도비","직접입력",SUM($K19:$L19)),) -> 0 | Z19: =IF($X19="도비",SUM($K19:$L19),IF($V19="국도비","직접입력",SUM($K19:$L19)-$Y19)) -> 0 | AA19: =IFERROR(IF(($K19+$L19)=($Y19+$Z19),"ok","검토"),"검토") -> ok | AC19: =IF(X19="","",$X19) -> 도비 | AD19: =IF($X19<>"도비",IF($V19="국도비","직접입력",SUM(N19:O19)),) -> 0 | AE19: =IF($X19="도비",SUM(N19:O19),IF($V19="국도비","직접입력",SUM(N19:O19)-AD19)) -> 18800000 | AF19: =IFERROR(IF((N19+O19)=(AD19+AE19),"ok","검토"),"검토") -> ok | AH19: 세입없음 | AJ19: =IF(AH19="","",COUNTIF($AH$7:$AH$10141,$AH19)) -> 65 | AK19: =IF(C19="","",IF(AND(X19="도비",AH19="세입없음"),"OK",IF(AND(X19<>"도비",AH19<>""),"Ok","@@"))) -> OK | AP19: =SUM(N19:O19)-SUM(AD19:AE19) -> 0
A20: 기획재정위원회 | B20: 기획조정실 | C20: 예산담당관 | D20: 3회추경 | E20: 288 | G20: 예비비(자체/직접) - 예비비 | H20: 78660272 | I20: 55388970 | J20: =IF(D20="","",H20-I20) -> 23271302 | M20: =H20+K20+L20 -> 78660272 | O20: 2880772 | P20: =H20+N20+O20 -> 81541044 | Q20: =IF(OR(AND(K20<0,K20<N20),AND(K20<0,N20+O20=0),AND(K20<0,O20>0),AND(I20=0,M20=0,P20>0)),"동의","") | V20: 도비 | X20: 도비 | Y20: =IF($X20<>"도비",IF($V20="국도비","직접입력",SUM($K20:$L20)),) -> 0 | Z20: =IF($X20="도비",SUM($K20:$L20),IF($V20="국도비","직접입력",SUM($K20:$L20)-$Y20)) -> 0 | AA20: =IFERROR(IF(($K20+$L20)=($Y20+$Z20),"ok","검토"),"검토") -> ok | AC20: =IF(X20="","",$X20) -> 도비 | AD20: =IF($X20<>"도비",IF($V20="국도비","직접입력",SUM(N20:O20)),) -> 0 | AE20: =IF($X20="도비",SUM(N20:O20),IF($V20="국도비","직접입력",SUM(N20:O20)-AD20)) -> 2880772 | AF20: =IFERROR(IF((N20+O20)=(AD20+AE20),"ok","검토"),"검토") -> ok | AJ20: =IF(AH20="","",COUNTIF($AH$7:$AH$10141,$AH20)) | AK20: =IF(C20="","",IF(AND(X20="도비",AH20="세입없음"),"OK",IF(AND(X20<>"도비",AH20<>""),"Ok","@@"))) -> @@ | AP20: =SUM(N20:O20)-SUM(AD20:AE20) -> 0
J21: =IF(D21="","",H21-I21) | M21: =H21+K21+L21 -> 0 | P21: =H21+N21+O21 -> 0 | Q21: =IF(OR(AND(K21<0,K21<N21),AND(K21<0,N21+O21=0),AND(K21<0,O21>0),AND(I21=0,M21=0,P21>0)),"동의","") | Y21: =IF($X21<>"도비",IF($V21="국도비","직접입력",SUM($K21:$L21)),) -> 0 | Z21: =IF($X21="도비",SUM($K21:$L21),IF($V21="국도비","직접입력",SUM($K21:$L21)-$Y21)) -> 0 | AA21: =IFERROR(IF(($K21+$L21)=($Y21+$Z21),"ok","검토"),"검토") -> ok | AC21: =IF(X21="","",$X21) | AD21: =IF($X21<>"도비",IF($V21="국도비","직접입력",SUM(N21:O21)),) -> 0 | AE21: =IF($X21="도비",SUM(N21:O21),IF($V21="국도비","직접입력",SUM(N21:O21)-AD21)) -> 0 | AF21: =IFERROR(IF((N21+O21)=(AD21+AE21),"ok","검토"),"검토") -> ok | AJ21: =IF(AH21="","",COUNTIF($AH$7:$AH$10141,$AH21)) | AK21: =IF(C21="","",IF(AND(X21="도비",AH21="세입없음"),"OK",IF(AND(X21<>"도비",AH21<>""),"Ok","@@")))
A22: (경제과학기술위원회) | H22: =SUM(H23:H31) -> 11690000 | I22: =SUM(I23:I31) -> 5590000 | J22: =SUM(J23:J31) -> 6100000 | K22: =SUM(K23:K31) -> 0 | L22: =SUM(L23:L31) -> 0 | M22: =SUM(M23:M31) -> 11690000 | N22: =SUM(N23:N31) -> -4000000 | O22: =SUM(O23:O31) -> 2650000 | P22: =SUM(P23:P31) -> 10340000 | Y22: =SUM(Y23:Y31) -> 0 | Z22: =SUM(Z23:Z31) -> 0 | AA22: =IFERROR(IF(($K22+$L22)=($Y22+$Z22),"ok","검토"),"검토") -> ok | AC22: =IF(X22="","",$X22) | AD22: =SUM(AD23:AD31) -> 0 | AE22: =SUM(AE23:AE31) -> -1350000 | AF22: =IFERROR(IF((N22+O22)=(AD22+AE22),"ok","검토"),"검토") -> ok | AJ22: =IF(AH22="","",COUNTIF($AH$7:$AH$10141,$AH22)) | AK22: =IF(C22="","",IF(AND(X22="도비",AH22="세입없음"),"OK",IF(AND(X22<>"도비",AH22<>""),"Ok","@@"))) | AP22: =SUM(N22:O22)-SUM(AD22:AE22) -> 0
A23: 경제과학기술위원회 | B23: 경제실 | C23: 경제정책과 | D23: 3회추경 | E23: 331 | F23: 55 | G23: 경제회생 및 민생경제안정대책 홍보(자체/직접) - 경제회생 및 민생경제안정대책 홍보 | H23: 500000 | I23: 400000 | J23: =IF(D23="","",H23-I23) -> 100000 | M23: =H23+K23+L23 -> 500000 | P23: =H23+N23+O23 -> 500000 | Q23: =IF(OR(AND(K23<0,K23<N23),AND(K23<0,N23+O23=0),AND(K23<0,O23>0),AND(I23=0,M23=0,P23>0)),"동의","") | V23: 도비 | X23: 도비 | Y23: =IF($X23<>"도비",IF($V23="국도비","직접입력",SUM($K23:$L23)),) -> 0 | Z23: =IF($X23="도비",SUM($K23:$L23),IF($V23="국도비","직접입력",SUM($K23:$L23)-$Y23)) -> 0 | AA23: =IFERROR(IF(($K23+$L23)=($Y23+$Z23),"ok","검토"),"검토") -> ok | AC23: =IF(X23="","",$X23) -> 도비 | AD23: =IF($X23<>"도비",IF($V23="국도비","직접입력",SUM(N23:O23)),) -> 0 | AE23: =IF($X23="도비",SUM(N23:O23),IF($V23="국도비","직접입력",SUM(N23:O23)-AD23)) -> 0 | AF23: =IFERROR(IF((N23+O23)=(AD23+AE23),"ok","검토"),"검토") -> ok | AH23: 세입없음 | AJ23: =IF(AH23="","",COUNTIF($AH$7:$AH$10141,$AH23)) -> 65 | AK23: =IF(C23="","",IF(AND(X23="도비",AH23="세입없음"),"OK",IF(AND(X23<>"도비",AH23<>""),"Ok","@@"))) -> OK | AP23: =SUM(N23:O23)-SUM(AD23:AE23) -> 0
A24: 경제과학기술위원회 | B24: 경제실 | C24: 국제통상과 | D24: 3회추경 | E24: 343 | G24: 해외 경기통상사무소(자체/직접) - 해외 경기통상사무소(GBC) 운영 | H24: 3140000 | I24: 2340000 | J24: =IF(D24="","",H24-I24) -> 800000 | M24: =H24+K24+L24 -> 3140000 | P24: =H24+N24+O24 -> 3140000 | Q24: =IF(OR(AND(K24<0,K24<N24),AND(K24<0,N24+O24=0),AND(K24<0,O24>0),AND(I24=0,M24=0,P24>0)),"동의","") | V24: 도비 | X24: 도비 | Y24: =IF($X24<>"도비",IF($V24="국도비","직접입력",SUM($K24:$L24)),) -> 0 | Z24: =IF($X24="도비",SUM($K24:$L24),IF($V24="국도비","직접입력",SUM($K24:$L24)-$Y24)) -> 0 | AA24: =IFERROR(IF(($K24+$L24)=($Y24+$Z24),"ok","검토"),"검토") -> ok | AC24: =IF(X24="","",$X24) -> 도비 | AD24: =IF($X24<>"도비",IF($V24="국도비","직접입력",SUM(N24:O24)),) -> 0 | AE24: =IF($X24="도비",SUM(N24:O24),IF($V24="국도비","직접입력",SUM(N24:O24)-AD24)) -> 0 | AF24: =IFERROR(IF((N24+O24)=(AD24+AE24),"ok","검토"),"검토") -> ok | AH24: 세입없음 | AJ24: =IF(AH24="","",COUNTIF($AH$7:$AH$10141,$AH24)) -> 65 | AK24: =IF(C24="","",IF(AND(X24="도비",AH24="세입없음"),"OK",IF(AND(X24<>"도비",AH24<>""),"Ok","@@"))) -> OK | AP24: =SUM(N24:O24)-SUM(AD24:AE24) -> 0
A25: 경제과학기술위원회 | B25: 경제실 | C25: 기업지원과 | D25: 3회추경 | E25: 336 | G25: 경기도주식회사 설립(자체/직접) - 경기도주식회사 설립 | H25: 1200000 | I25: 0 | J25: =IF(D25="","",H25-I25) -> 1200000 | M25: =H25+K25+L25 -> 1200000 | O25: 300000 | P25: =H25+N25+O25 -> 1500000 | Q25: =IF(OR(AND(K25<0,K25<N25),AND(K25<0,N25+O25=0),AND(K25<0,O25>0),AND(I25=0,M25=0,P25>0)),"동의","") | V25: 도비 | X25: 도비 | Y25: =IF($X25<>"도비",IF($V25="국도비","직접입력",SUM($K25:$L25)),) -> 0 | Z25: =IF($X25="도비",SUM($K25:$L25),IF($V25="국도비","직접입력",SUM($K25:$L25)-$Y25)) -> 0 | AA25: =IFERROR(IF(($K25+$L25)=($Y25+$Z25),"ok","검토"),"검토") -> ok | AC25: =IF(X25="","",$X25) -> 도비 | AD25: =IF($X25<>"도비",IF($V25="국도비","직접입력",SUM(N25:O25)),) -> 0 | AE25: =IF($X25="도비",SUM(N25:O25),IF($V25="국도비","직접입력",SUM(N25:O25)-AD25)) -> 300000 | AF25: =IFERROR(IF((N25+O25)=(AD25+AE25),"ok","검토"),"검토") -> ok | AH25: 세입없음 | AJ25: =IF(AH25="","",COUNTIF($AH$7:$AH$10141,$AH25)) -> 65 | AK25: =IF(C25="","",IF(AND(X25="도비",AH25="세입없음"),"OK",IF(AND(X25<>"도비",AH25<>""),"Ok","@@"))) -> OK | AP25: =SUM(N25:O25)-SUM(AD25:AE25) -> 0
A26: 경제과학기술위원회 | B26: 경제실 | C26: 기업지원과 | D26: 3회추경 | E26: 336 | G26: 경기도 공동브랜드 우수상품 판로지원(자체/직접) -경기도 공동브랜드 우수상품 판로지원 | H26: 4550000 | I26: 550000 | J26: =IF(D26="","",H26-I26) -> 4000000 | M26: =H26+K26+L26 -> 4550000 | N26: -4000000 | P26: =H26+N26+O26 -> 550000 | Q26: =IF(OR(AND(K26<0,K26<N26),AND(K26<0,N26+O26=0),AND(K26<0,O26>0),AND(I26=0,M26=0,P26>0)),"동의","") | V26: 도비 | X26: 도비 | Y26: =IF($X26<>"도비",IF($V26="국도비","직접입력",SUM($K26:$L26)),) -> 0 | Z26: =IF($X26="도비",SUM($K26:$L26),IF($V26="국도비","직접입력",SUM($K26:$L26)-$Y26)) -> 0 | AA26: =IFERROR(IF(($K26+$L26)=($Y26+$Z26),"ok","검토"),"검토") -> ok | AC26: =IF(X26="","",$X26) -> 도비 | AD26: =IF($X26<>"도비",IF($V26="국도비","직접입력",SUM(N26:O26)),) -> 0 | AE26: =IF($X26="도비",SUM(N26:O26),IF($V26="국도비","직접입력",SUM(N26:O26)-AD26)) -> -4000000 | AF26: =IFERROR(IF((N26+O26)=(AD26+AE26),"ok","검토"),"검토") -> ok | AH26: 세입없음 | AJ26: =IF(AH26="","",COUNTIF($AH$7:$AH$10141,$AH26)) -> 65 | AK26: =IF(C26="","",IF(AND(X26="도비",AH26="세입없음"),"OK",IF(AND(X26<>"도비",AH26<>""),"Ok","@@"))) -> OK | AP26: =SUM(N26:O26)-SUM(AD26:AE26) -> 0
A27: 경제과학기술위원회 | B27: 경제실 | C27: 경제정책과 | D27: 본예산 | E27: 639 | G27: 경기도형 마이크로크레딧 운영(자체/직접) - 마이크로크레딧 운영지원 | H27: 1800000 | I27: 1800000 | J27: =IF(D27="","",H27-I27) -> 0 | M27: =H27+K27+L27 -> 1800000 | O27: 750000 | P27: =H27+N27+O27 -> 2550000 | Q27: =IF(OR(AND(K27<0,K27<N27),AND(K27<0,N27+O27=0),AND(K27<0,O27>0),AND(I27=0,M27=0,P27>0)),"동의","") | U27: 오탈자 수정 -> 통계목 삭제 | V27: 도비 | X27: 도비 | Y27: =IF($X27<>"도비",IF($V27="국도비","직접입력",SUM($K27:$L27)),) -> 0 | Z27: =IF($X27="도비",SUM($K27:$L27),IF($V27="국도비","직접입력",SUM($K27:$L27)-$Y27)) -> 0 | AA27: =IFERROR(IF(($K27+$L27)=($Y27+$Z27),"ok","검토"),"검토") -> ok | AC27: =IF(X27="","",$X27) -> 도비 | AD27: =IF($X27<>"도비",IF($V27="국도비","직접입력",SUM(N27:O27)),) -> 0 | AE27: =IF($X27="도비",SUM(N27:O27),IF($V27="국도비","직접입력",SUM(N27:O27)-AD27)) -> 750000 | AF27: =IFERROR(IF((N27+O27)=(AD27+AE27),"ok","검토"),"검토") -> ok | AH27: 세입없음 | AJ27: =IF(AH27="","",COUNTIF($AH$7:$AH$10141,$AH27)) -> 65 | AK27: =IF(C27="","",IF(AND(X27="도비",AH27="세입없음"),"OK",IF(AND(X27<>"도비",AH27<>""),"Ok","@@"))) -> OK | AP27: =SUM(N27:O27)-SUM(AD27:AE27) -> 0
A28: 경제과학기술위원회 | B28: 경제실 | C28: 공정경제과 | D28: 신규 | G28: 소상공인지원자금 이차보전금 - 소상공인지원자금 이차보전금 | H28: 0 | I28: 0 | J28: =IF(D28="","",H28-I28) -> 0 | M28: =H28+K28+L28 -> 0 | O28: 1100000 | P28: =H28+N28+O28 -> 1100000 | Q28: =IF(OR(AND(K28<0,K28<N28),AND(K28<0,N28+O28=0),AND(K28<0,O28>0),AND(I28=0,M28=0,P28>0)),"동의","") -> 동의 | V28: 도비 | X28: 도비 | Y28: =IF($X28<>"도비",IF($V28="국도비","직접입력",SUM($K28:$L28)),) -> 0 | Z28: =IF($X28="도비",SUM($K28:$L28),IF($V28="국도비","직접입력",SUM($K28:$L28)-$Y28)) -> 0 | AA28: =IFERROR(IF(($K28+$L28)=($Y28+$Z28),"ok","검토"),"검토") -> ok | AC28: =IF(X28="","",$X28) -> 도비 | AD28: =IF($X28<>"도비",IF($V28="국도비","직접입력",SUM(N28:O28)),) -> 0 | AE28: =IF($X28="도비",SUM(N28:O28),IF($V28="국도비","직접입력",SUM(N28:O28)-AD28)) -> 1100000 | AF28: =IFERROR(IF((N28+O28)=(AD28+AE28),"ok","검토"),"검토") -> ok | AH28: 세입없음 | AJ28: =IF(AH28="","",COUNTIF($AH$7:$AH$10141,$AH28)) -> 65 | AK28: =IF(C28="","",IF(AND(X28="도비",AH28="세입없음"),"OK",IF(AND(X28<>"도비",AH28<>""),"Ok","@@"))) -> OK | AP28: =SUM(N28:O28)-SUM(AD28:AE28) -> 0
A29: 경제과학기술위원회 | B29: 경제실 | C29: 과학기술과 | D29: 본예산 | E29: 673 | G29: 지식재산권 육성 지원(자체/직접) - 특허 브랜드 디자인 융합 개발 지원 | H29: 500000 | I29: 500000 | J29: =IF(D29="","",H29-I29) -> 0 | M29: =H29+K29+L29 -> 500000 | O29: 500000 | P29: =H29+N29+O29 -> 1000000 | Q29: =IF(OR(AND(K29<0,K29<N29),AND(K29<0,N29+O29=0),AND(K29<0,O29>0),AND(I29=0,M29=0,P29>0)),"동의","") | V29: 도비 | X29: 도비 | Y29: =IF($X29<>"도비",IF($V29="국도비","직접입력",SUM($K29:$L29)),) -> 0 | Z29: =IF($X29="도비",SUM($K29:$L29),IF($V29="국도비","직접입력",SUM($K29:$L29)-$Y29)) -> 0 | AA29: =IFERROR(IF(($K29+$L29)=($Y29+$Z29),"ok","검토"),"검토") -> ok | AC29: =IF(X29="","",$X29) -> 도비 | AD29: =IF($X29<>"도비",IF($V29="국도비","직접입력",SUM(N29:O29)),) -> 0 | AE29: =IF($X29="도비",SUM(N29:O29),IF($V29="국도비","직접입력",SUM(N29:O29)-AD29)) -> 500000 | AF29: =IFERROR(IF((N29+O29)=(AD29+AE29),"ok","검토"),"검토") -> ok | AH29: 세입없음 | AJ29: =IF(AH29="","",COUNTIF($AH$7:$AH$10141,$AH29)) -> 65 | AK29: =IF(C29="","",IF(AND(X29="도비",AH29="세입없음"),"OK",IF(AND(X29<>"도비",AH29<>""),"Ok","@@"))) -> OK | AP29: =SUM(N29:O29)-SUM(AD29:AE29) -> 0
J30: =IF(D30="","",H30-I30) | M30: =H30+K30+L30 -> 0 | P30: =H30+N30+O30 -> 0 | Q30: =IF(OR(AND(K30<0,K30<N30),AND(K30<0,N30+O30=0),AND(K30<0,O30>0),AND(I30=0,M30=0,P30>0)),"동의","") | Y30: =IF($X30<>"도비",IF($V30="국도비","직접입력",SUM($K30:$L30)),) -> 0 | Z30: =IF($X30="도비",SUM($K30:$L30),IF($V30="국도비","직접입력",SUM($K30:$L30)-$Y30)) -> 0 | AA30: =IFERROR(IF(($K30+$L30)=($Y30+$Z30),"ok","검토"),"검토") -> ok | AC30: =IF(X30="","",$X30) | AD30: =IF($X30<>"도비",IF($V30="국도비","직접입력",SUM(N30:O30)),) -> 0 | AE30: =IF($X30="도비",SUM(N30:O30),IF($V30="국도비","직접입력",SUM(N30:O30)-AD30)) -> 0 | AF30: =IFERROR(IF((N30+O30)=(AD30+AE30),"ok","검토"),"검토") -> ok | AJ30: =IF(AH30="","",COUNTIF($AH$7:$AH$10141,$AH30)) | AK30: =IF(C30="","",IF(AND(X30="도비",AH30="세입없음"),"OK",IF(AND(X30<>"도비",AH30<>""),"Ok","@@")))
J31: =IF(D31="","",H31-I31) | M31: =H31+K31+L31 -> 0 | P31: =H31+N31+O31 -> 0 | Q31: =IF(OR(AND(K31<0,K31<N31),AND(K31<0,N31+O31=0),AND(K31<0,O31>0),AND(I31=0,M31=0,P31>0)),"동의","") | U31: 통계목 분리(시설비 715,160천원 → 시설비 708,260천원, 감리비 6,900천원) | Y31: =IF($X31<>"도비",IF($V31="국도비","직접입력",SUM($K31:$L31)),) -> 0 | Z31: =IF($X31="도비",SUM($K31:$L31),IF($V31="국도비","직접입력",SUM($K31:$L31)-$Y31)) -> 0 | AA31: =IFERROR(IF(($K31+$L31)=($Y31+$Z31),"ok","검토"),"검토") -> ok | AC31: =IF(X31="","",$X31) | AD31: =IF($X31<>"도비",IF($V31="국도비","직접입력",SUM(N31:O31)),) -> 0 | AE31: =IF($X31="도비",SUM(N31:O31),IF($V31="국도비","직접입력",SUM(N31:O31)-AD31)) -> 0 | AF31: =IFERROR(IF((N31+O31)=(AD31+AE31),"ok","검토"),"검토") -> ok | AJ31: =IF(AH31="","",COUNTIF($AH$7:$AH$10141,$AH31)) | AK31: =IF(C31="","",IF(AND(X31="도비",AH31="세입없음"),"OK",IF(AND(X31<>"도비",AH31<>""),"Ok","@@")))
A32: (안전행정위원회) | H32: =SUM(H33:H42) -> 2795160 | I32: =SUM(I33:I42) -> 1800000 | J32: =SUM(J33:J42) -> 995160 | K32: =SUM(K33:K42) -> -250000 | L32: =SUM(L33:L42) -> 821843 | M32: =SUM(M33:M42) -> 3367003 | N32: =SUM(N33:N42) -> -250000 | O32: =SUM(O33:O42) -> 901843 | P32: =SUM(P33:P42) -> 3447003 | Y32: =SUM(Y33:Y42) -> 77000 | Z32: =SUM(Z33:Z42) -> 494843 | AA32: =IFERROR(IF(($K32+$L32)=($Y32+$Z32),"ok","검토"),"검토") -> ok | AC32: =IF(X32="","",$X32) | AD32: =SUM(AD33:AD42) -> 77000 | AE32: =SUM(AE33:AE42) -> 574843 | AF32: =IFERROR(IF((N32+O32)=(AD32+AE32),"ok","검토"),"검토") -> ok | AJ32: =IF(AH32="","",COUNTIF($AH$7:$AH$10141,$AH32)) | AK32: =IF(C32="","",IF(AND(X32="도비",AH32="세입없음"),"OK",IF(AND(X32<>"도비",AH32<>""),"Ok","@@"))) | AP32: =SUM(N32:O32)-SUM(AD32:AE32) -> 0
A33: 안전행정위원회 | B33: 자치행정국 | C33: 자치행정과 | D33: 신규 | G33: 공정한 선거관리를 위한 경비지원(자체/직접) - 경기도의회 의원 보궐선거 선거관리경비 지원 | H33: 0 | I33: 0 | J33: =IF(D33="","",H33-I33) -> 0 | L33: 494843 | M33: =H33+K33+L33 -> 494843 | O33: 494843 | P33: =H33+N33+O33 -> 494843 | Q33: =IF(OR(AND(K33<0,K33<N33),AND(K33<0,N33+O33=0),AND(K33<0,O33>0),AND(I33=0,M33=0,P33>0)),"동의","") | R33: 도의원 보궐선거 경비지원 道선관위 관리과-5283(16.08.17)호 선거경비 494,843천원 납부요구 | V33: 도비 | X33: 도비 | Y33: =IF($X33<>"도비",IF($V33="국도비","직접입력",SUM($K33:$L33)),) -> 0 | Z33: =IF($X33="도비",SUM($K33:$L33),IF($V33="국도비","직접입력",SUM($K33:$L33)-$Y33)) -> 494843 | AA33: =IFERROR(IF(($K33+$L33)=($Y33+$Z33),"ok","검토"),"검토") -> ok | AC33: =IF(X33="","",$X33) -> 도비 | AD33: =IF($X33<>"도비",IF($V33="국도비","직접입력",SUM(N33:O33)),) -> 0 | AE33: =IF($X33="도비",SUM(N33:O33),IF($V33="국도비","직접입력",SUM(N33:O33)-AD33)) -> 494843 | AF33: =IFERROR(IF((N33+O33)=(AD33+AE33),"ok","검토"),"검토") -> ok | AH33: 세입없음 | AJ33: =IF(AH33="","",COUNTIF($AH$7:$AH$10141,$AH33)) -> 65 | AK33: =IF(C33="","",IF(AND(X33="도비",AH33="세입없음"),"OK",IF(AND(X33<>"도비",AH33<>""),"Ok","@@"))) -> OK | AP33: =SUM(N33:O33)-SUM(AD33:AE33) -> 0
A34: 안전행정위원회 | B34: 재난안전본부 | C34: 안전기획과 | D34: 신규 | G34: 지자체 안전표지판 설치비(교부세/지원) - 지자체 안전표지판 설치비 | H34: 0 | I34: 0 | J34: =IF(D34="","",H34-I34) -> 0 | L34: 77000 | M34: =H34+K34+L34 -> 77000 | O34: 77000 | P34: =H34+N34+O34 -> 77000 | Q34: =IF(OR(AND(K34<0,K34<N34),AND(K34<0,N34+O34=0),AND(K34<0,O34>0),AND(I34=0,M34=0,P34>0)),"동의","") | R34: 재난안전특별교부세 교부결정 국민안전처 안전개선과-4114(2016.8.17.) | V34: 국도비 | X34: 특교 | Y34: 77000 | Z34: 0 | AA34: =IFERROR(IF(($K34+$L34)=($Y34+$Z34),"ok","검토"),"검토") -> ok | AC34: =IF(X34="","",$X34) -> 특교 | AD34: 77000 | AE34: 0 | AF34: =IFERROR(IF((N34+O34)=(AD34+AE34),"ok","검토"),"검토") -> ok | AH34: 0416-01 | AJ34: =IF(AH34="","",COUNTIF($AH$7:$AH$10141,$AH34)) -> 1 | AK34: =IF(C34="","",IF(AND(X34="도비",AH34="세입없음"),"OK",IF(AND(X34<>"도비",AH34<>""),"Ok","@@"))) -> Ok | AP34: =SUM(N34:O34)-SUM(AD34:AE34) -> 0
A35: 안전행정위원회 | B35: 재난안전본부 | C35: 소방행정과 | D35: 3회추경 | E35: 389 | F35: 56 | G35: 소방관서 증축(자체/직접) - 재난안전본부 별관 증축 | H35: 2765160 | I35: 1800000 | J35: =IF(D35="","",H35-I35) -> 965160 | K35: -250000 | M35: =H35+K35+L35 -> 2515160 | N35: -250000 | P35: =H35+N35+O35 -> 2515160 | Q35: =IF(OR(AND(K35<0,K35<N35),AND(K35<0,N35+O35=0),AND(K35<0,O35>0),AND(I35=0,M35=0,P35>0)),"동의","") | T35: 통계목 분리(시설비 715,160천원 → 시설비 708,260천원, 감리비 6,900천원) | V35: 도비 | X35: 도비 | Y35: =IF($X35<>"도비",IF($V35="국도비","직접입력",SUM($K35:$L35)),) -> 0 | Z35: =IF($X35="도비",SUM($K35:$L35),IF($V35="국도비","직접입력",SUM($K35:$L35)-$Y35)) -> -250000 | AA35: =IFERROR(IF(($K35+$L35)=($Y35+$Z35),"ok","검토"),"검토") -> ok | AC35: =IF(X35="","",$X35) -> 도비 | AD35: =IF($X35<>"도비",IF($V35="국도비","직접입력",SUM(N35:O35)),) -> 0 | AE35: =IF($X35="도비",SUM(N35:O35),IF($V35="국도비","직접입력",SUM(N35:O35)-AD35)) -> -250000 | AF35: =IFERROR(IF((N35+O35)=(AD35+AE35),"ok","검토"),"검토") -> ok | AH35: 세입없음 | AJ35: =IF(AH35="","",COUNTIF($AH$7:$AH$10141,$AH35)) -> 65 | AK35: =IF(C35="","",IF(AND(X35="도비",AH35="세입없음"),"OK",IF(AND(X35<>"도비",AH35<>""),"Ok","@@"))) -> OK | AP35: =SUM(N35:O35)-SUM(AD35:AE35) -> 0
A36: 안전행정위원회 | B36: 재난안전본부 | C36: 남양주소방서 | D36: 신규 | G36: 소방관서 증축(자체/직접) - 와부센터 증축 | H36: 0 | I36: 0 | J36: =IF(D36="","",H36-I36) -> 0 | L36: 150000 | M36: =H36+K36+L36 -> 150000 | O36: 150000 | P36: =H36+N36+O36 -> 150000 | Q36: =IF(OR(AND(K36<0,K36<N36),AND(K36<0,N36+O36=0),AND(K36<0,O36>0),AND(I36=0,M36=0,P36>0)),"동의","") | R36: 남양주 와부119센터 증축공사비 | V36: 도비 | X36: 도비 | Y36: =IF($X36<>"도비",IF($V36="국도비","직접입력",SUM($K36:$L36)),) -> 0 | Z36: =IF($X36="도비",SUM($K36:$L36),IF($V36="국도비","직접입력",SUM($K36:$L36)-$Y36)) -> 150000 | AA36: =IFERROR(IF(($K36+$L36)=($Y36+$Z36),"ok","검토"),"검토") -> ok | AC36: =IF(X36="","",$X36) -> 도비 | AD36: =IF($X36<>"도비",IF($V36="국도비","직접입력",SUM(N36:O36)),) -> 0 | AE36: =IF($X36="도비",SUM(N36:O36),IF($V36="국도비","직접입력",SUM(N36:O36)-AD36)) -> 150000 | AF36: =IFERROR(IF((N36+O36)=(AD36+AE36),"ok","검토"),"검토") -> ok | AH36: 세입없음 | AJ36: =IF(AH36="","",COUNTIF($AH$7:$AH$10141,$AH36)) -> 65 | AK36: =IF(C36="","",IF(AND(X36="도비",AH36="세입없음"),"OK",IF(AND(X36<>"도비",AH36<>""),"Ok","@@"))) -> OK | AP36: =SUM(N36:O36)-SUM(AD36:AE36) -> 0
A37: 안전행정위원회 | B37: 재난안전본부 | C37: 동두천소방서 | D37: 신규 | G37: 소규모시설물 개보수(자체/직접) - 소요센터 토목공사 | H37: 0 | I37: 0 | J37: =IF(D37="","",H37-I37) -> 0 | L37: 100000 | M37: =H37+K37+L37 -> 100000 | O37: 100000 | P37: =H37+N37+O37 -> 100000 | Q37: =IF(OR(AND(K37<0,K37<N37),AND(K37<0,N37+O37=0),AND(K37<0,O37>0),AND(I37=0,M37=0,P37>0)),"동의","") | R37: 동두천 소요119센터 토목공사비 | V37: 도비 | X37: 도비 | Y37: =IF($X37<>"도비",IF($V37="국도비","직접입력",SUM($K37:$L37)),) -> 0 | Z37: =IF($X37="도비",SUM($K37:$L37),IF($V37="국도비","직접입력",SUM($K37:$L37)-$Y37)) -> 100000 | AA37: =IFERROR(IF(($K37+$L37)=($Y37+$Z37),"ok","검토"),"검토") -> ok | AC37: =IF(X37="","",$X37) -> 도비 | AD37: =IF($X37<>"도비",IF($V37="국도비","직접입력",SUM(N37:O37)),) -> 0 | AE37: =IF($X37="도비",SUM(N37:O37),IF($V37="국도비","직접입력",SUM(N37:O37)-AD37)) -> 100000 | AF37: =IFERROR(IF((N37+O37)=(AD37+AE37),"ok","검토"),"검토") -> ok | AH37: 세입없음 | AJ37: =IF(AH37="","",COUNTIF($AH$7:$AH$10141,$AH37)) -> 65 | AK37: =IF(C37="","",IF(AND(X37="도비",AH37="세입없음"),"OK",IF(AND(X37<>"도비",AH37<>""),"Ok","@@"))) -> OK | AP37: =SUM(N37:O37)-SUM(AD37:AE37) -> 0
A38: 안전행정위원회 | B38: 재난안전본부 | C38: 재난대응과 | D38: 3회추경 | E38: 393 | G38: 의용소방대 활성화(자체/직접) - 의용소방대원 문화체험 | H38: 30000 | I38: 0 | J38: =IF(D38="","",H38-I38) -> 30000 | M38: =H38+K38+L38 -> 30000 | P38: =H38+N38+O38 -> 30000 | Q38: =IF(OR(AND(K38<0,K38<N38),AND(K38<0,N38+O38=0),AND(K38<0,O38>0),AND(I38=0,M38=0,P38>0)),"동의","") | V38: 도비 | X38: 도비 | Y38: =IF($X38<>"도비",IF($V38="국도비","직접입력",SUM($K38:$L38)),) -> 0 | Z38: =IF($X38="도비",SUM($K38:$L38),IF($V38="국도비","직접입력",SUM($K38:$L38)-$Y38)) -> 0 | AA38: =IFERROR(IF(($K38+$L38)=($Y38+$Z38),"ok","검토"),"검토") -> ok | AC38: =IF(X38="","",$X38) -> 도비 | AD38: =IF($X38<>"도비",IF($V38="국도비","직접입력",SUM(N38:O38)),) -> 0 | AE38: =IF($X38="도비",SUM(N38:O38),IF($V38="국도비","직접입력",SUM(N38:O38)-AD38)) -> 0 | AF38: =IFERROR(IF((N38+O38)=(AD38+AE38),"ok","검토"),"검토") -> ok | AH38: 세입없음 | AJ38: =IF(AH38="","",COUNTIF($AH$7:$AH$10141,$AH38)) -> 65 | AK38: =IF(C38="","",IF(AND(X38="도비",AH38="세입없음"),"OK",IF(AND(X38<>"도비",AH38<>""),"Ok","@@"))) -> OK | AP38: =SUM(N38:O38)-SUM(AD38:AE38) -> 0
A39: 안전행정위원회 | B39: 자치행정국 | C39: 자치행정과 | D39: 신규 | G39: 대한적십자사 경기지사 지원(자체/직접) - 경기도 적십자 봉사원 대회 지원 | H39: 0 | I39: 0 | J39: =IF(D39="","",H39-I39) -> 0 | M39: =H39+K39+L39 -> 0 | O39: 50000 | P39: =H39+N39+O39 -> 50000 | Q39: =IF(OR(AND(K39<0,K39<N39),AND(K39<0,N39+O39=0),AND(K39<0,O39>0),AND(I39=0,M39=0,P39>0)),"동의","") -> 동의 | V39: 도비 | X39: 도비 | Y39: =IF($X39<>"도비",IF($V39="국도비","직접입력",SUM($K39:$L39)),) -> 0 | Z39: =IF($X39="도비",SUM($K39:$L39),IF($V39="국도비","직접입력",SUM($K39:$L39)-$Y39)) -> 0 | AA39: =IFERROR(IF(($K39+$L39)=($Y39+$Z39),"ok","검토"),"검토") -> ok | AC39: =IF(X39="","",$X39) -> 도비 | AD39: =IF($X39<>"도비",IF($V39="국도비","직접입력",SUM(N39:O39)),) -> 0 | AE39: =IF($X39="도비",SUM(N39:O39),IF($V39="국도비","직접입력",SUM(N39:O39)-AD39)) -> 50000 | AF39: =IFERROR(IF((N39+O39)=(AD39+AE39),"ok","검토"),"검토") -> ok | AH39: 세입없음 | AJ39: =IF(AH39="","",COUNTIF($AH$7:$AH$10141,$AH39)) -> 65 | AK39: =IF(C39="","",IF(AND(X39="도비",AH39="세입없음"),"OK",IF(AND(X39<>"도비",AH39<>""),"Ok","@@"))) -> OK | AP39: =SUM(N39:O39)-SUM(AD39:AE39) -> 0
A40: 안전행정위원회 | B40: 자치행정국 | C40: 총무과 | D40: 신규 | G40: 도민참여 프로그램 운영(자체/직접) - 도민참여 프로그램 운영 | H40: 0 | I40: 0 | J40: =IF(D40="","",H40-I40) -> 0 | M40: =H40+K40+L40 -> 0 | O40: 30000 | P40: =H40+N40+O40 -> 30000 | Q40: =IF(OR(AND(K40<0,K40<N40),AND(K40<0,N40+O40=0),AND(K40<0,O40>0),AND(I40=0,M40=0,P40>0)),"동의","") -> 동의 | V40: 도비 | X40: 도비 | Y40: =IF($X40<>"도비",IF($V40="국도비","직접입력",SUM($K40:$L40)),) -> 0 | Z40: =IF($X40="도비",SUM($K40:$L40),IF($V40="국도비","직접입력",SUM($K40:$L40)-$Y40)) -> 0 | AA40: =IFERROR(IF(($K40+$L40)=($Y40+$Z40),"ok","검토"),"검토") -> ok | AC40: =IF(X40="","",$X40) -> 도비 | AD40: =IF($X40<>"도비",IF($V40="국도비","직접입력",SUM(N40:O40)),) -> 0 | AE40: =IF($X40="도비",SUM(N40:O40),IF($V40="국도비","직접입력",SUM(N40:O40)-AD40)) -> 30000 | AF40: =IFERROR(IF((N40+O40)=(AD40+AE40),"ok","검토"),"검토") -> ok | AH40: 세입없음 | AJ40: =IF(AH40="","",COUNTIF($AH$7:$AH$10141,$AH40)) -> 65 | AK40: =IF(C40="","",IF(AND(X40="도비",AH40="세입없음"),"OK",IF(AND(X40<>"도비",AH40<>""),"Ok","@@"))) -> OK | AP40: =SUM(N40:O40)-SUM(AD40:AE40) -> 0
J41: =IF(D41="","",H41-I41) | M41: =H41+K41+L41 -> 0 | P41: =H41+N41+O41 -> 0 | Q41: =IF(OR(AND(K41<0,K41<N41),AND(K41<0,N41+O41=0),AND(K41<0,O41>0),AND(I41=0,M41=0,P41>0)),"동의","") | U41: 제2회 경기실버국악제 전국국악경연대회 | Y41: =IF($X41<>"도비",IF($V41="국도비","직접입력",SUM($K41:$L41)),) -> 0 | Z41: =IF($X41="도비",SUM($K41:$L41),IF($V41="국도비","직접입력",SUM($K41:$L41)-$Y41)) -> 0 | AA41: =IFERROR(IF(($K41+$L41)=($Y41+$Z41),"ok","검토"),"검토") -> ok | AC41: =IF(X41="","",$X41) | AD41: =IF($X41<>"도비",IF($V41="국도비","직접입력",SUM(N41:O41)),) -> 0 | AE41: =IF($X41="도비",SUM(N41:O41),IF($V41="국도비","직접입력",SUM(N41:O41)-AD41)) -> 0 | AF41: =IFERROR(IF((N41+O41)=(AD41+AE41),"ok","검토"),"검토") -> ok | AJ41: =IF(AH41="","",COUNTIF($AH$7:$AH$10141,$AH41)) | AK41: =IF(C41="","",IF(AND(X41="도비",AH41="세입없음"),"OK",IF(AND(X41<>"도비",AH41<>""),"Ok","@@")))
J42: =IF(D42="","",H42-I42) | M42: =H42+K42+L42 -> 0 | P42: =H42+N42+O42 -> 0 | Q42: =IF(OR(AND(K42<0,K42<N42),AND(K42<0,N42+O42=0),AND(K42<0,O42>0),AND(I42=0,M42=0,P42>0)),"동의","") | Y42: =IF($X42<>"도비",IF($V42="국도비","직접입력",SUM($K42:$L42)),) -> 0 | Z42: =IF($X42="도비",SUM($K42:$L42),IF($V42="국도비","직접입력",SUM($K42:$L42)-$Y42)) -> 0 | AA42: =IFERROR(IF(($K42+$L42)=($Y42+$Z42),"ok","검토"),"검토") -> ok | AC42: =IF(X42="","",$X42) | AD42: =IF($X42<>"도비",IF($V42="국도비","직접입력",SUM(N42:O42)),) -> 0 | AE42: =IF($X42="도비",SUM(N42:O42),IF($V42="국도비","직접입력",SUM(N42:O42)-AD42)) -> 0 | AF42: =IFERROR(IF((N42+O42)=(AD42+AE42),"ok","검토"),"검토") -> ok | AJ42: =IF(AH42="","",COUNTIF($AH$7:$AH$10141,$AH42)) | AK42: =IF(C42="","",IF(AND(X42="도비",AH42="세입없음"),"OK",IF(AND(X42<>"도비",AH42<>""),"Ok","@@")))
A43: (문화체육관광위원회) | H43: =SUM(H44:H50) -> 37009000 | I43: =SUM(I44:I50) -> 35509000 | J43: =SUM(J44:J50) -> 1500000 | K43: =SUM(K44:K50) -> -50000 | L43: =SUM(L44:L50) -> 180000 | M43: =SUM(M44:M50) -> 37139000 | N43: =SUM(N44:N50) -> 0 | O43: =SUM(O44:O50) -> 240000 | P43: =SUM(P44:P50) -> 37249000 | Y43: =SUM(Y44:Y50) -> 0 | Z43: =SUM(Z44:Z50) -> 130000 | AA43: =IFERROR(IF(($K43+$L43)=($Y43+$Z43),"ok","검토"),"검토") -> ok | AC43: =IF(X43="","",$X43) | AD43: =SUM(AD44:AD50) -> 0 | AE43: =SUM(AE44:AE50) -> 240000 | AF43: =IFERROR(IF((N43+O43)=(AD43+AE43),"ok","검토"),"검토") -> ok | AJ43: =IF(AH43="","",COUNTIF($AH$7:$AH$10141,$AH43)) | AK43: =IF(C43="","",IF(AND(X43="도비",AH43="세입없음"),"OK",IF(AND(X43<>"도비",AH43<>""),"Ok","@@"))) | AP43: =SUM(N43:O43)-SUM(AD43:AE43) -> 0
A44: 문화체육관광위원회 | B44: 문화체육관광국 | C44: 문화정책과 | D44: 3회추경 | E44: 465 | F44: 85 | G44: 송년제야행사(자체/직접) - 2016년 송년 제야행사 개최 | H44: 200000 | I44: 0 | J44: =IF(D44="","",H44-I44) -> 200000 | K44: -50000 | M44: =H44+K44+L44 -> 150000 | P44: =H44+N44+O44 -> 200000 | Q44: =IF(OR(AND(K44<0,K44<N44),AND(K44<0,N44+O44=0),AND(K44<0,O44>0),AND(I44=0,M44=0,P44>0)),"동의","") -> 동의 | V44: 도비 | X44: 도비 | Y44: =IF($X44<>"도비",IF($V44="국도비","직접입력",SUM($K44:$L44)),) -> 0 | Z44: =IF($X44="도비",SUM($K44:$L44),IF($V44="국도비","직접입력",SUM($K44:$L44)-$Y44)) -> -50000 | AA44: =IFERROR(IF(($K44+$L44)=($Y44+$Z44),"ok","검토"),"검토") -> ok | AC44: =IF(X44="","",$X44) -> 도비 | AD44: =IF($X44<>"도비",IF($V44="국도비","직접입력",SUM(N44:O44)),) -> 0 | AE44: =IF($X44="도비",SUM(N44:O44),IF($V44="국도비","직접입력",SUM(N44:O44)-AD44)) -> 0 | AF44: =IFERROR(IF((N44+O44)=(AD44+AE44),"ok","검토"),"검토") -> ok | AH44: 세입없음 | AJ44: =IF(AH44="","",COUNTIF($AH$7:$AH$10141,$AH44)) -> 65 | AK44: =IF(C44="","",IF(AND(X44="도비",AH44="세입없음"),"OK",IF(AND(X44<>"도비",AH44<>""),"Ok","@@"))) -> OK | AP44: =SUM(N44:O44)-SUM(AD44:AE44) -> 0
A45: 문화체육관광위원회 | B45: 문화체육관광국 | C45: 문화유산과 | D45: 3회추경 | E45: 472 | F45: 218 | G45: 문화재긴급보수(기금/직접) - 문화재긴급보수사업 | H45: 200000 | I45: 0 | J45: =IF(D45="","",H45-I45) -> 200000 | M45: =H45+K45+L45 -> 200000 | P45: =H45+N45+O45 -> 200000 | Q45: =IF(OR(AND(K45<0,K45<N45),AND(K45<0,N45+O45=0),AND(K45<0,O45>0),AND(I45=0,M45=0,P45>0)),"동의","") | R45: 세부사업 변경 - (국비/직접)에서 (기금/직접)으로 변경 | S45: 세부사업 변경 - (국비/직접)에서 (기금/직접)으로 변경 | T45: 세부사업 변경 - (국비/직접)에서 (기금/직접)으로 변경 | V45: 국도비 | X45: 기금 | Y45: 0 | Z45: 0 | AA45: =IFERROR(IF(($K45+$L45)=($Y45+$Z45),"ok","검토"),"검토") -> ok | AC45: =IF(X45="","",$X45) -> 기금 | AD45: 0 | AE45: 0 | AF45: =IFERROR(IF((N45+O45)=(AD45+AE45),"ok","검토"),"검토") -> ok | AH45: 0504-01 | AJ45: =IF(AH45="","",COUNTIF($AH$7:$AH$10141,$AH45)) -> 1 | AK45: =IF(C45="","",IF(AND(X45="도비",AH45="세입없음"),"OK",IF(AND(X45<>"도비",AH45<>""),"Ok","@@"))) -> Ok | AP45: =SUM(N45:O45)-SUM(AD45:AE45) -> 0
A46: 문화체육관광위원회 | B46: 문화체육관광국 | C46: 문화정책과 | D46: 신규 | G46: 2016 킨텍스 스푼 아트쇼(자체/직접) - 2016 킨텍스 스푼 아트쇼 | H46: 0 | I46: 0 | J46: =IF(D46="","",H46-I46) -> 0 | L46: 150000 | M46: =H46+K46+L46 -> 150000 | O46: 150000 | P46: =H46+N46+O46 -> 150000 | Q46: =IF(OR(AND(K46<0,K46<N46),AND(K46<0,N46+O46=0),AND(K46<0,O46>0),AND(I46=0,M46=0,P46>0)),"동의","") | R46: 공기관 등에 대한 경상적 대행사업비 | S46: 공기관 등에 대한 경상적 대행사업비 | T46: 공기관 등에 대한 경상적 대행사업비 | V46: 도비 | X46: 도비 | Y46: =IF($X46<>"도비",IF($V46="국도비","직접입력",SUM($K46:$L46)),) -> 0 | Z46: =IF($X46="도비",SUM($K46:$L46),IF($V46="국도비","직접입력",SUM($K46:$L46)-$Y46)) -> 150000 | AA46: =IFERROR(IF(($K46+$L46)=($Y46+$Z46),"ok","검토"),"검토") -> ok | AC46: =IF(X46="","",$X46) -> 도비 | AD46: =IF($X46<>"도비",IF($V46="국도비","직접입력",SUM(N46:O46)),) -> 0 | AE46: =IF($X46="도비",SUM(N46:O46),IF($V46="국도비","직접입력",SUM(N46:O46)-AD46)) -> 150000 | AF46: =IFERROR(IF((N46+O46)=(AD46+AE46),"ok","검토"),"검토") -> ok | AH46: 세입없음 | AJ46: =IF(AH46="","",COUNTIF($AH$7:$AH$10141,$AH46)) -> 65 | AK46: =IF(C46="","",IF(AND(X46="도비",AH46="세입없음"),"OK",IF(AND(X46<>"도비",AH46<>""),"Ok","@@"))) -> OK | AP46: =SUM(N46:O46)-SUM(AD46:AE46) -> 0
A47: 문화체육관광위원회 | B47: 문화체육관광국 | C47: 문화정책과 | D47: 본예산 | E47: 230 | G47: 도단위 예술단체 문예진흥(자체/직접) - 도단위 예술단체 문예진흥 | H47: 2000000 | I47: 2000000 | J47: =IF(D47="","",H47-I47) -> 0 | L47: 30000 | M47: =H47+K47+L47 -> 2030000 | O47: 30000 | P47: =H47+N47+O47 -> 2030000 | Q47: =IF(OR(AND(K47<0,K47<N47),AND(K47<0,N47+O47=0),AND(K47<0,O47>0),AND(I47=0,M47=0,P47>0)),"동의","") | R47: 제2회 경기실버국악제 전국국악경연대회 | S47: 제2회 경기실버국악제 전국국악경연대회 | T47: 제2회 경기실버국악제 전국국악경연대회 | V47: 도비 | X47: 도비 | Y47: =IF($X47<>"도비",IF($V47="국도비","직접입력",SUM($K47:$L47)),) -> 0 | Z47: =IF($X47="도비",SUM($K47:$L47),IF($V47="국도비","직접입력",SUM($K47:$L47)-$Y47)) -> 30000 | AA47: =IFERROR(IF(($K47+$L47)=($Y47+$Z47),"ok","검토"),"검토") -> ok | AC47: =IF(X47="","",$X47) -> 도비 | AD47: =IF($X47<>"도비",IF($V47="국도비","직접입력",SUM(N47:O47)),) -> 0 | AE47: =IF($X47="도비",SUM(N47:O47),IF($V47="국도비","직접입력",SUM(N47:O47)-AD47)) -> 30000 | AF47: =IFERROR(IF((N47+O47)=(AD47+AE47),"ok","검토"),"검토") -> ok | AH47: 세입없음 | AJ47: =IF(AH47="","",COUNTIF($AH$7:$AH$10141,$AH47)) -> 65 | AK47: =IF(C47="","",IF(AND(X47="도비",AH47="세입없음"),"OK",IF(AND(X47<>"도비",AH47<>""),"Ok","@@"))) -> OK | AP47: =SUM(N47:O47)-SUM(AD47:AE47) -> 0
A48: 문화체육관광위원회 | B48: 문화체육관광국 | C48: 문화정책과 | D48: 3회추경 | E48: 464 | G48: 경기문화재단 운영(자체/직접) - 경기문화재단 운영 | H48: 34409000 | I48: 33309000 | J48: =IF(D48="","",H48-I48) -> 1100000 | M48: =H48+K48+L48 -> 34409000 | P48: =H48+N48+O48 -> 34409000 | Q48: =IF(OR(AND(K48<0,K48<N48),AND(K48<0,N48+O48=0),AND(K48<0,O48>0),AND(I48=0,M48=0,P48>0)),"동의","") | Y48: =IF($X48<>"도비",IF($V48="국도비","직접입력",SUM($K48:$L48)),) -> 0 | Z48: =IF($X48="도비",SUM($K48:$L48),IF($V48="국도비","직접입력",SUM($K48:$L48)-$Y48)) -> 0 | AA48: =IFERROR(IF(($K48+$L48)=($Y48+$Z48),"ok","검토"),"검토") -> ok | AC48: =IF(X48="","",$X48) | AD48: =IF($X48<>"도비",IF($V48="국도비","직접입력",SUM(N48:O48)),) -> 0 | AE48: =IF($X48="도비",SUM(N48:O48),IF($V48="국도비","직접입력",SUM(N48:O48)-AD48)) -> 0 | AF48: =IFERROR(IF((N48+O48)=(AD48+AE48),"ok","검토"),"검토") -> ok | AJ48: =IF(AH48="","",COUNTIF($AH$7:$AH$10141,$AH48)) | AK48: =IF(C48="","",IF(AND(X48="도비",AH48="세입없음"),"OK",IF(AND(X48<>"도비",AH48<>""),"Ok","@@"))) -> @@ | AP48: =SUM(N48:O48)-SUM(AD48:AE48) -> 0
A49: 문화체육관광위원회 | B49: 문화체육관광국 | C49: 문화정책과 | D49: 본예산 | E49: 230 | G49: 미술품거래소 운영(자체/직접) - 미술품거래소 운영 | H49: 200000 | I49: 200000 | J49: =IF(D49="","",H49-I49) -> 0 | M49: =H49+K49+L49 -> 200000 | O49: 60000 | P49: =H49+N49+O49 -> 260000 | Q49: =IF(OR(AND(K49<0,K49<N49),AND(K49<0,N49+O49=0),AND(K49<0,O49>0),AND(I49=0,M49=0,P49>0)),"동의","") | V49: 도비 | X49: 도비 | Y49: =IF($X49<>"도비",IF($V49="국도비","직접입력",SUM($K49:$L49)),) -> 0 | Z49: =IF($X49="도비",SUM($K49:$L49),IF($V49="국도비","직접입력",SUM($K49:$L49)-$Y49)) -> 0 | AA49: =IFERROR(IF(($K49+$L49)=($Y49+$Z49),"ok","검토"),"검토") -> ok | AC49: =IF(X49="","",$X49) -> 도비 | AD49: =IF($X49<>"도비",IF($V49="국도비","직접입력",SUM(N49:O49)),) -> 0 | AE49: =IF($X49="도비",SUM(N49:O49),IF($V49="국도비","직접입력",SUM(N49:O49)-AD49)) -> 60000 | AF49: =IFERROR(IF((N49+O49)=(AD49+AE49),"ok","검토"),"검토") -> ok | AH49: 세입없음 | AJ49: =IF(AH49="","",COUNTIF($AH$7:$AH$10141,$AH49)) -> 65 | AK49: =IF(C49="","",IF(AND(X49="도비",AH49="세입없음"),"OK",IF(AND(X49<>"도비",AH49<>""),"Ok","@@"))) -> OK | AP49: =SUM(N49:O49)-SUM(AD49:AE49) -> 0
J50: =IF(D50="","",H50-I50) | M50: =H50+K50+L50 -> 0 | P50: =H50+N50+O50 -> 0 | Q50: =IF(OR(AND(K50<0,K50<N50),AND(K50<0,N50+O50=0),AND(K50<0,O50>0),AND(I50=0,M50=0,P50>0)),"동의","") | Y50: =IF($X50<>"도비",IF($V50="국도비","직접입력",SUM($K50:$L50)),) -> 0 | Z50: =IF($X50="도비",SUM($K50:$L50),IF($V50="국도비","직접입력",SUM($K50:$L50)-$Y50)) -> 0 | AA50: =IFERROR(IF(($K50+$L50)=($Y50+$Z50),"ok","검토"),"검토") -> ok | AC50: =IF(X50="","",$X50) | AD50: =IF($X50<>"도비",IF($V50="국도비","직접입력",SUM(N50:O50)),) -> 0 | AE50: =IF($X50="도비",SUM(N50:O50),IF($V50="국도비","직접입력",SUM(N50:O50)-AD50)) -> 0 | AF50: =IFERROR(IF((N50+O50)=(AD50+AE50),"ok","검토"),"검토") -> ok | AJ50: =IF(AH50="","",COUNTIF($AH$7:$AH$10141,$AH50)) | AK50: =IF(C50="","",IF(AND(X50="도비",AH50="세입없음"),"OK",IF(AND(X50<>"도비",AH50<>""),"Ok","@@")))
A51: (농정해양위원회) | H51: =SUM(H52:H75) -> 24614447 | I51: =SUM(I52:I75) -> 23046880 | J51: =SUM(J52:J75) -> 1567567 | K51: =SUM(K52:K75) -> -26594 | L51: =SUM(L52:L75) -> 212764 | M51: =SUM(M52:M75) -> 24800617 | N51: =SUM(N52:N75) -> -126594 | O51: =SUM(O52:O75) -> 4320157 | P51: =SUM(P52:P75) -> 28808010 | Y51: =SUM(Y52:Y75) -> 203200 | Z51: =SUM(Z52:Z75) -> -17030 | AA51: =IFERROR(IF(($K51+$L51)=($Y51+$Z51),"ok","검토"),"검토") -> ok | AC51: =IF(X51="","",$X51) | AD51: =SUM(AD52:AD75) -> 3646108 | AE51: =SUM(AE52:AE75) -> 547455 | AF51: =IFERROR(IF((N51+O51)=(AD51+AE51),"ok","검토"),"검토") -> ok | AJ51: =IF(AH51="","",COUNTIF($AH$7:$AH$10141,$AH51)) | AK51: =IF(C51="","",IF(AND(X51="도비",AH51="세입없음"),"OK",IF(AND(X51<>"도비",AH51<>""),"Ok","@@"))) | AP51: =SUM(N51:O51)-SUM(AD51:AE51) -> 0
A52: 농정해양위원회 | B52: 축산산림국 | C52: 축산정책과 | D52: 3회추경 | E52: 519 | F52: 92 | G52: 반환금기타 - 국비반납액 | H52: 211115 | I52: 0 | J52: =IF(D52="","",H52-I52) -> 211115 | L52: 1 | M52: =H52+K52+L52 -> 211116 | O52: 1 | P52: =H52+N52+O52 -> 211116 | Q52: =IF(OR(AND(K52<0,K52<N52),AND(K52<0,N52+O52=0),AND(K52<0,O52>0),AND(I52=0,M52=0,P52>0)),"동의","") | R52: 국비사용잔액 절상에 의한 금액수정 | V52: 도비 | X52: 도비 | Z52: 1 | AA52: =IFERROR(IF(($K52+$L52)=($Y52+$Z52),"ok","검토"),"검토") -> ok | AC52: =IF(X52="","",$X52) -> 도비 | AD52: =IF($X52<>"도비",IF($V52="국도비","직접입력",SUM(N52:O52)),) -> 0 | AE52: =IF($X52="도비",SUM(N52:O52),IF($V52="국도비","직접입력",SUM(N52:O52)-AD52)) -> 1 | AF52: =IFERROR(IF((N52+O52)=(AD52+AE52),"ok","검토"),"검토") -> ok | AH52: 세입없음 | AJ52: =IF(AH52="","",COUNTIF($AH$7:$AH$10141,$AH52)) -> 65 | AK52: =IF(C52="","",IF(AND(X52="도비",AH52="세입없음"),"OK",IF(AND(X52<>"도비",AH52<>""),"Ok","@@"))) -> OK | AP52: =SUM(N52:O52)-SUM(AD52:AE52) -> 0
A53: 농정해양위원회 | B53: 축산산림국 | C53: 동물방역위생과 | D53: 3회추경 | E53: 521 | F53: 121 | G53: 축산물 HACCP 컨설팅 지원(식품의약품안전처)(국비/지원) - 가공장 등 축산물 HACCP컨설팅 지원 | H53: 60800 | I53: 48000 | J53: =IF(D53="","",H53-I53) -> 12800 | L53: 3200 | M53: =H53+K53+L53 -> 64000 | O53: 3200 | P53: =H53+N53+O53 -> 64000 | Q53: =IF(OR(AND(K53<0,K53<N53),AND(K53<0,N53+O53=0),AND(K53<0,O53>0),AND(I53=0,M53=0,P53>0)),"동의","") | R53: 국비 추가 변경내시 *식품의약품안전처 축산물위생 안전과-5883(2016.7.19) | S53: 국비 추가 변경내시 *식품의약품안전처 축산물위생 안전과-5883(2016.7.19) | T53: 국비 추가 변경내시 *식품의약품안전처 축산물위생 안전과-5883(2016.7.19) | V53: 국도비 | X53: 국비 | Y53: 3200 | Z53: 0 | AA53: =IFERROR(IF(($K53+$L53)=($Y53+$Z53),"ok","검토"),"검토") -> ok | AC53: =IF(X53="","",$X53) -> 국비 | AD53: 3200 | AE53: 0 | AF53: =IFERROR(IF((N53+O53)=(AD53+AE53),"ok","검토"),"검토") -> ok | AH53: 0609-01 | AJ53: =IF(AH53="","",COUNTIF($AH$7:$AH$10141,$AH53)) -> 1 | AK53: =IF(C53="","",IF(AND(X53="도비",AH53="세입없음"),"OK",IF(AND(X53<>"도비",AH53<>""),"Ok","@@"))) -> Ok | AP53: =SUM(N53:O53)-SUM(AD53:AE53) -> 0
A54: 농정해양위원회 | B54: 축산산림국 | C54: 동물방역위생과 | D54: 3회추경 | E54: 522 | F54: 129 | G54: 인건비(자체/직접) - 기본급 (1호봉)2,005,640원* 3월*1명 (4호봉)2,025,430원*12월*2명 | H54: 48611 | I54: 31901 | J54: =IF(D54="","",H54-I54) -> 16710 | L54: 6017 | M54: =H54+K54+L54 -> 54628 | O54: 6107 | P54: =H54+N54+O54 -> 54718 | Q54: =IF(OR(AND(K54<0,K54<N54),AND(K54<0,N54+O54=0),AND(K54<0,O54>0),AND(I54=0,M54=0,P54>0)),"동의","") | R54: 무기계약근로자 신규채용('16.10월부터 근무예정) | V54: 도비 | X54: 도비 | Z54: 6017 | AA54: =IFERROR(IF(($K54+$L54)=($Y54+$Z54),"ok","검토"),"검토") -> ok | AC54: =IF(X54="","",$X54) -> 도비 | AD54: =IF($X54<>"도비",IF($V54="국도비","직접입력",SUM(N54:O54)),) -> 0 | AE54: =IF($X54="도비",SUM(N54:O54),IF($V54="국도비","직접입력",SUM(N54:O54)-AD54)) -> 6107 | AF54: =IFERROR(IF((N54+O54)=(AD54+AE54),"ok","검토"),"검토") -> ok | AH54: 세입없음 | AJ54: =IF(AH54="","",COUNTIF($AH$7:$AH$10141,$AH54)) -> 65 | AK54: =IF(C54="","",IF(AND(X54="도비",AH54="세입없음"),"OK",IF(AND(X54<>"도비",AH54<>""),"Ok","@@"))) -> OK | AP54: =SUM(N54:O54)-SUM(AD54:AE54) -> 0
A55: 농정해양위원회 | B55: 축산산림국 | C55: 동물방역위생과 | D55: 3회추경 | E55: 522 | F55: 129 | G55: 인건비(자체/직접) - 연가보상비 (1호봉)76,771원* 3일*1명 (4호봉)77,528원*15일*2명 | H55: 2326 | I55: 1699 | J55: =IF(D55="","",H55-I55) -> 627 | L55: 231 | M55: =H55+K55+L55 -> 2557 | O55: 231 | P55: =H55+N55+O55 -> 2557 | Q55: =IF(OR(AND(K55<0,K55<N55),AND(K55<0,N55+O55=0),AND(K55<0,O55>0),AND(I55=0,M55=0,P55>0)),"동의","") | R55: 무기계약근로자 신규채용('16.10월부터 근무예정) | V55: 도비 | X55: 도비 | Z55: 231 | AA55: =IFERROR(IF(($K55+$L55)=($Y55+$Z55),"ok","검토"),"검토") -> ok | AC55: =IF(X55="","",$X55) -> 도비 | AD55: =IF($X55<>"도비",IF($V55="국도비","직접입력",SUM(N55:O55)),) -> 0 | AE55: =IF($X55="도비",SUM(N55:O55),IF($V55="국도비","직접입력",SUM(N55:O55)-AD55)) -> 231 | AF55: =IFERROR(IF((N55+O55)=(AD55+AE55),"ok","검토"),"검토") -> ok | AH55: 세입없음 | AJ55: =IF(AH55="","",COUNTIF($AH$7:$AH$10141,$AH55)) -> 65 | AK55: =IF(C55="","",IF(AND(X55="도비",AH55="세입없음"),"OK",IF(AND(X55<>"도비",AH55<>""),"Ok","@@"))) -> OK | AP55: =SUM(N55:O55)-SUM(AD55:AE55) -> 0
A56: 농정해양위원회 | B56: 축산산림국 | C56: 동물방역위생과 | D56: 3회추경 | E56: 522 | F56: 129 | G56: 인건비(자체/직접) - 시간외근무 (1호봉)14,427원*38시간* 3월*1명 (4호봉)14,594원*38시간*12월*2명 | H56: 13310 | I56: 10192 | J56: =IF(D56="","",H56-I56) -> 3118 | L56: 1645 | M56: =H56+K56+L56 -> 14955 | O56: 1645 | P56: =H56+N56+O56 -> 14955 | Q56: =IF(OR(AND(K56<0,K56<N56),AND(K56<0,N56+O56=0),AND(K56<0,O56>0),AND(I56=0,M56=0,P56>0)),"동의","") | R56: 무기계약근로자 신규채용('16.10월부터 근무예정) | V56: 도비 | X56: 도비 | Z56: 1645 | AA56: =IFERROR(IF(($K56+$L56)=($Y56+$Z56),"ok","검토"),"검토") -> ok | AC56: =IF(X56="","",$X56) -> 도비 | AD56: =IF($X56<>"도비",IF($V56="국도비","직접입력",SUM(N56:O56)),) -> 0 | AE56: =IF($X56="도비",SUM(N56:O56),IF($V56="국도비","직접입력",SUM(N56:O56)-AD56)) -> 1645 | AF56: =IFERROR(IF((N56+O56)=(AD56+AE56),"ok","검토"),"검토") -> ok | AH56: 세입없음 | AJ56: =IF(AH56="","",COUNTIF($AH$7:$AH$10141,$AH56)) -> 65 | AK56: =IF(C56="","",IF(AND(X56="도비",AH56="세입없음"),"OK",IF(AND(X56<>"도비",AH56<>""),"Ok","@@"))) -> OK | AP56: =SUM(N56:O56)-SUM(AD56:AE56) -> 0
A57: 농정해양위원회 | B57: 축산산림국 | C57: 동물방역위생과 | D57: 3회추경 | E57: 522 | F57: 129 | G57: 인건비(자체/직접) - 급식비 (기존인력)130,000원* 3월*1명 (신규인력)130,000원*12월*2명 | H57: 3120 | I57: 0 | J57: =IF(D57="","",H57-I57) -> 3120 | L57: 390 | M57: =H57+K57+L57 -> 3510 | O57: 390 | P57: =H57+N57+O57 -> 3510 | Q57: =IF(OR(AND(K57<0,K57<N57),AND(K57<0,N57+O57=0),AND(K57<0,O57>0),AND(I57=0,M57=0,P57>0)),"동의","") | R57: 무기계약근로자 신규채용('16.10월부터 근무예정) | V57: 도비 | X57: 도비 | Z57: 390 | AA57: =IFERROR(IF(($K57+$L57)=($Y57+$Z57),"ok","검토"),"검토") -> ok | AC57: =IF(X57="","",$X57) -> 도비 | AD57: =IF($X57<>"도비",IF($V57="국도비","직접입력",SUM(N57:O57)),) -> 0 | AE57: =IF($X57="도비",SUM(N57:O57),IF($V57="국도비","직접입력",SUM(N57:O57)-AD57)) -> 390 | AF57: =IFERROR(IF((N57+O57)=(AD57+AE57),"ok","검토"),"검토") -> ok | AH57: 세입없음 | AJ57: =IF(AH57="","",COUNTIF($AH$7:$AH$10141,$AH57)) -> 65 | AK57: =IF(C57="","",IF(AND(X57="도비",AH57="세입없음"),"OK",IF(AND(X57<>"도비",AH57<>""),"Ok","@@"))) -> OK | AP57: =SUM(N57:O57)-SUM(AD57:AE57) -> 0
A58: 농정해양위원회 | B58: 축산산림국 | C58: 동물방역위생과 | D58: 3회추경 | E58: 522 | F58: 129 | G58: 인건비(자체/직접) - 여비 | H58: 3600 | I58: 3600 | J58: =IF(D58="","",H58-I58) -> 0 | L58: 1080 | M58: =H58+K58+L58 -> 4680 | O58: 1080 | P58: =H58+N58+O58 -> 4680 | Q58: =IF(OR(AND(K58<0,K58<N58),AND(K58<0,N58+O58=0),AND(K58<0,O58>0),AND(I58=0,M58=0,P58>0)),"동의","") | R58: 무기계약근로자 신규채용('16.10월부터 근무예정) | V58: 도비 | X58: 도비 | Z58: 1080 | AA58: =IFERROR(IF(($K58+$L58)=($Y58+$Z58),"ok","검토"),"검토") -> ok | AC58: =IF(X58="","",$X58) -> 도비 | AD58: =IF($X58<>"도비",IF($V58="국도비","직접입력",SUM(N58:O58)),) -> 0 | AE58: =IF($X58="도비",SUM(N58:O58),IF($V58="국도비","직접입력",SUM(N58:O58)-AD58)) -> 1080 | AF58: =IFERROR(IF((N58+O58)=(AD58+AE58),"ok","검토"),"검토") -> ok | AH58: 세입없음 | AJ58: =IF(AH58="","",COUNTIF($AH$7:$AH$10141,$AH58)) -> 65 | AK58: =IF(C58="","",IF(AND(X58="도비",AH58="세입없음"),"OK",IF(AND(X58<>"도비",AH58<>""),"Ok","@@"))) -> OK | AP58: =SUM(N58:O58)-SUM(AD58:AE58) -> 0
A59: 농정해양위원회 | B59: 축산산림국 | C59: 동물방역위생과 | D59: 3회추경 | E59: 522 | F59: 129 | G59: 인건비(자체/직접) - 피복비 200,000원*3명 | H59: 400 | I59: 400 | J59: =IF(D59="","",H59-I59) -> 0 | L59: 200 | M59: =H59+K59+L59 -> 600 | O59: 200 | P59: =H59+N59+O59 -> 600 | Q59: =IF(OR(AND(K59<0,K59<N59),AND(K59<0,N59+O59=0),AND(K59<0,O59>0),AND(I59=0,M59=0,P59>0)),"동의","") | R59: 무기계약근로자 신규채용('16.10월부터 근무예정) | V59: 도비 | X59: 도비 | Z59: 200 | AA59: =IFERROR(IF(($K59+$L59)=($Y59+$Z59),"ok","검토"),"검토") -> ok | AC59: =IF(X59="","",$X59) -> 도비 | AD59: =IF($X59<>"도비",IF($V59="국도비","직접입력",SUM(N59:O59)),) -> 0 | AE59: =IF($X59="도비",SUM(N59:O59),IF($V59="국도비","직접입력",SUM(N59:O59)-AD59)) -> 200 | AF59: =IFERROR(IF((N59+O59)=(AD59+AE59),"ok","검토"),"검토") -> ok | AH59: 세입없음 | AJ59: =IF(AH59="","",COUNTIF($AH$7:$AH$10141,$AH59)) -> 65 | AK59: =IF(C59="","",IF(AND(X59="도비",AH59="세입없음"),"OK",IF(AND(X59<>"도비",AH59<>""),"Ok","@@"))) -> OK | AP59: =SUM(N59:O59)-SUM(AD59:AE59) -> 0
A60: 농정해양위원회 | B60: 축산산림국 | C60: 산림환경연구소 | D60: 3회추경 | E60: 신규 | F60: 신규 | G60: 등산로 위험사면보강(교부세/직접) - 등산로 위험사면보강 | H60: 0 | I60: 0 | J60: =IF(D60="","",H60-I60) -> 0 | L60: 200000 | M60: =H60+K60+L60 -> 200000 | O60: 200000 | P60: =H60+N60+O60 -> 200000 | Q60: =IF(OR(AND(K60<0,K60<N60),AND(K60<0,N60+O60=0),AND(K60<0,O60>0),AND(I60=0,M60=0,P60>0)),"동의","") | R60: 재난안전특별교부세 교부결정 통보 *국민안전처 예방총괄과-4631(2016.8.10) | S60: 재난안전특별교부세 교부결정 통보 *국민안전처 예방총괄과-4631(2016.8.10) | T60: 재난안전특별교부세 교부결정 통보 *국민안전처 예방총괄과-4631(2016.8.10) | V60: 국도비 | X60: 특교 | Y60: 200000 | AA60: =IFERROR(IF(($K60+$L60)=($Y60+$Z60),"ok","검토"),"검토") -> ok | AC60: =IF(X60="","",$X60) -> 특교 | AD60: 200000 | AE60: 0 | AF60: =IFERROR(IF((N60+O60)=(AD60+AE60),"ok","검토"),"검토") -> ok | AH60: 0613-01 | AJ60: =IF(AH60="","",COUNTIF($AH$7:$AH$10141,$AH60)) -> 1 | AK60: =IF(C60="","",IF(AND(X60="도비",AH60="세입없음"),"OK",IF(AND(X60<>"도비",AH60<>""),"Ok","@@"))) -> Ok | AP60: =SUM(N60:O60)-SUM(AD60:AE60) -> 0
A61: 농정해양위원회 | B61: 농업기술원 | C61: 총무과 | D61: 3회추경 | E61: 545 | F61: 16 | G61: 청사시설관리·유지(자체/직접) - 국유지 대부료 | H61: 26594 | I61: 0 | J61: =IF(D61="","",H61-I61) -> 26594 | K61: -26594 | M61: =H61+K61+L61 -> 0 | N61: -26594 | P61: =H61+N61+O61 -> 0 | Q61: =IF(OR(AND(K61<0,K61<N61),AND(K61<0,N61+O61=0),AND(K61<0,O61>0),AND(I61=0,M61=0,P61>0)),"동의","") | R61: 2016년 내 국유지 매입시에는 대부료 불필요 | V61: 도비 | X61: 도비 | Z61: -26594 | AA61: =IFERROR(IF(($K61+$L61)=($Y61+$Z61),"ok","검토"),"검토") -> ok | AC61: =IF(X61="","",$X61) -> 도비 | AD61: =IF($X61<>"도비",IF($V61="국도비","직접입력",SUM(N61:O61)),) -> 0 | AE61: =IF($X61="도비",SUM(N61:O61),IF($V61="국도비","직접입력",SUM(N61:O61)-AD61)) -> -26594 | AF61: =IFERROR(IF((N61+O61)=(AD61+AE61),"ok","검토"),"검토") -> ok | AH61: 세입없음 | AJ61: =IF(AH61="","",COUNTIF($AH$7:$AH$10141,$AH61)) -> 65 | AK61: =IF(C61="","",IF(AND(X61="도비",AH61="세입없음"),"OK",IF(AND(X61<>"도비",AH61<>""),"Ok","@@"))) -> OK | AP61: =SUM(N61:O61)-SUM(AD61:AE61) -> 0
A62: 농정해양위원회 | B62: 축산산림국 | C62: 산림환경연구소 | D62: 3회추경 | E62: 537 | G62: 잣향기푸른숲 운영(자체/직접) - 매표소 증축(시설비, 시설부대비) | H62: 40000 | I62: 0 | J62: =IF(D62="","",H62-I62) -> 40000 | M62: =H62+K62+L62 -> 40000 | P62: =H62+N62+O62 -> 40000 | Q62: =IF(OR(AND(K62<0,K62<N62),AND(K62<0,N62+O62=0),AND(K62<0,O62>0),AND(I62=0,M62=0,P62>0)),"동의","") | V62: 도비 | X62: 도비 | Y62: =IF($X62<>"도비",IF($V62="국도비","직접입력",SUM($K62:$L62)),) -> 0 | Z62: =IF($X62="도비",SUM($K62:$L62),IF($V62="국도비","직접입력",SUM($K62:$L62)-$Y62)) -> 0 | AA62: =IFERROR(IF(($K62+$L62)=($Y62+$Z62),"ok","검토"),"검토") -> ok | AC62: =IF(X62="","",$X62) -> 도비 | AD62: =IF($X62<>"도비",IF($V62="국도비","직접입력",SUM(N62:O62)),) -> 0 | AE62: =IF($X62="도비",SUM(N62:O62),IF($V62="국도비","직접입력",SUM(N62:O62)-AD62)) -> 0 | AF62: =IFERROR(IF((N62+O62)=(AD62+AE62),"ok","검토"),"검토") -> ok | AH62: 세입없음 | AJ62: =IF(AH62="","",COUNTIF($AH$7:$AH$10141,$AH62)) -> 65 | AK62: =IF(C62="","",IF(AND(X62="도비",AH62="세입없음"),"OK",IF(AND(X62<>"도비",AH62<>""),"Ok","@@"))) -> OK | AP62: =SUM(N62:O62)-SUM(AD62:AE62) -> 0
A63: 농정해양위원회 | B63: 축산산림국 | C63: 산림과 | D63: 본예산 | G63: 숲가꾸기(국비/지원) - 숲가꾸기(자치단체자본보조금) | H63: 9839773 | I63: 9839773 | J63: =IF(D63="","",H63-I63) -> 0 | M63: =H63+K63+L63 -> 9839773 | O63: 69465 | P63: =H63+N63+O63 -> 9909238 | Q63: =IF(OR(AND(K63<0,K63<N63),AND(K63<0,N63+O63=0),AND(K63<0,O63>0),AND(I63=0,M63=0,P63>0)),"동의","") | T63: 국가추경 / 산림청-기획재정담당관실-2519(2016.8.17.)호 (국비 7,640,170천원 / 도비 2,269,068천원) | V63: 국도비 | X63: 국비 | AA63: =IFERROR(IF(($K63+$L63)=($Y63+$Z63),"ok","검토"),"검토") -> ok | AC63: =IF(X63="","",$X63) -> 국비 | AD63: 53435 | AE63: 16030 | AF63: =IFERROR(IF((N63+O63)=(AD63+AE63),"ok","검토"),"검토") -> ok | AH63: 0610-01 | AJ63: =IF(AH63="","",COUNTIF($AH$7:$AH$10141,$AH63)) -> 4 | AK63: =IF(C63="","",IF(AND(X63="도비",AH63="세입없음"),"OK",IF(AND(X63<>"도비",AH63<>""),"Ok","@@"))) -> Ok | AO63: 국가추경 | AP63: =SUM(N63:O63)-SUM(AD63:AE63) -> 0
A64: 농정해양위원회 | B64: 축산산림국 | C64: 산림환경연구소 | D64: 3회추경 | E64: 536 | G64: 숲가꾸기(국비/직접) - 숲가꾸기(시설비) | H64: 775921 | I64: 778391 | J64: =IF(D64="","",H64-I64) -> -2470 | M64: =H64+K64+L64 -> 775921 | O64: 89638 | P64: =H64+N64+O64 -> 865559 | Q64: =IF(OR(AND(K64<0,K64<N64),AND(K64<0,N64+O64=0),AND(K64<0,O64>0),AND(I64=0,M64=0,P64>0)),"동의","") | T64: 국가추경 / 산림청-기획재정담당관실-2519(2016.8.17.)호 (국비 432,780천원 도비 432,779천원) | V64: 국도비 | X64: 국비 | AA64: =IFERROR(IF(($K64+$L64)=($Y64+$Z64),"ok","검토"),"검토") -> ok | AC64: =IF(X64="","",$X64) -> 국비 | AD64: 44819 | AE64: 44819 | AF64: =IFERROR(IF((N64+O64)=(AD64+AE64),"ok","검토"),"검토") -> ok | AH64: 0610-01 | AJ64: =IF(AH64="","",COUNTIF($AH$7:$AH$10141,$AH64)) -> 4 | AK64: =IF(C64="","",IF(AND(X64="도비",AH64="세입없음"),"OK",IF(AND(X64<>"도비",AH64<>""),"Ok","@@"))) -> Ok | AO64: 국가추경 | AP64: =SUM(N64:O64)-SUM(AD64:AE64) -> 0
A65: 농정해양위원회 | B65: 축산산림국 | C65: 산림환경연구소 | D65: 3회추경 | E65: 536 | G65: 숲가꾸기(국비/직접) - 숲가꾸기(감리비) | H65: 13182 | I65: 13224 | J65: =IF(D65="","",H65-I65) -> -42 | M65: =H65+K65+L65 -> 13182 | O65: 2654 | P65: =H65+N65+O65 -> 15836 | Q65: =IF(OR(AND(K65<0,K65<N65),AND(K65<0,N65+O65=0),AND(K65<0,O65>0),AND(I65=0,M65=0,P65>0)),"동의","") | T65: 국가추경 / 산림청-기획재정담당관실-2519(2016.8.18.)호 (국비 7,918천원, 도비 7,918천원) | V65: 국도비 | X65: 국비 | AA65: =IFERROR(IF(($K65+$L65)=($Y65+$Z65),"ok","검토"),"검토") -> ok | AC65: =IF(X65="","",$X65) -> 국비 | AD65: 1327 | AE65: 1327 | AF65: =IFERROR(IF((N65+O65)=(AD65+AE65),"ok","검토"),"검토") -> ok | AH65: 0610-01 | AJ65: =IF(AH65="","",COUNTIF($AH$7:$AH$10141,$AH65)) -> 4 | AK65: =IF(C65="","",IF(AND(X65="도비",AH65="세입없음"),"OK",IF(AND(X65<>"도비",AH65<>""),"Ok","@@"))) -> Ok | AO65: 국가추경 | AP65: =SUM(N65:O65)-SUM(AD65:AE65) -> 0
A66: 농정해양위원회 | B66: 축산산림국 | C66: 산림환경연구소 | D66: 3회추경 | E66: 536 | G66: 숲가꾸기(국비/직접) - 숲가꾸기(시설부대비) | H66: 5002 | I66: 5018 | J66: =IF(D66="","",H66-I66) -> -16 | M66: =H66+K66+L66 -> 5002 | O66: 838 | P66: =H66+N66+O66 -> 5840 | Q66: =IF(OR(AND(K66<0,K66<N66),AND(K66<0,N66+O66=0),AND(K66<0,O66>0),AND(I66=0,M66=0,P66>0)),"동의","") | T66: 국가추경 / 산림청-기획재정담당관실-2519(2016.8.19.)호 (국비 2,920천원, 도비 2,920천원) | V66: 국도비 | X66: 국비 | AA66: =IFERROR(IF(($K66+$L66)=($Y66+$Z66),"ok","검토"),"검토") -> ok | AC66: =IF(X66="","",$X66) -> 국비 | AD66: 419 | AE66: 419 | AF66: =IFERROR(IF((N66+O66)=(AD66+AE66),"ok","검토"),"검토") -> ok | AH66: 0610-01 | AJ66: =IF(AH66="","",COUNTIF($AH$7:$AH$10141,$AH66)) -> 4 | AK66: =IF(C66="","",IF(AND(X66="도비",AH66="세입없음"),"OK",IF(AND(X66<>"도비",AH66<>""),"Ok","@@"))) -> Ok | AO66: 국가추경 | AP66: =SUM(N66:O66)-SUM(AD66:AE66) -> 0
A67: 농정해양위원회 | B67: 축산산림국 | C67: 산림과 | D67: 3회추경 | E67: 524 | G67: 산림병해충방제(국비/지원) - 산림병해충방제(자치단체경상보조금) | H67: 9680653 | I67: 8627082 | J67: =IF(D67="","",H67-I67) -> 1053571 | M67: =H67+K67+L67 -> 9680653 | O67: 1918800 | P67: =H67+N67+O67 -> 11599453 | Q67: =IF(OR(AND(K67<0,K67<N67),AND(K67<0,N67+O67=0),AND(K67<0,O67>0),AND(I67=0,M67=0,P67>0)),"동의","") | T67: 국가추경 / 산림청-기획재정담당관실-2519(2016.8.17.)호 (국비 9,304,592천원 /도비 2,294,861천원) | V67: 국도비 | X67: 국비 | AA67: =IFERROR(IF(($K67+$L67)=($Y67+$Z67),"ok","검토"),"검토") -> ok | AC67: =IF(X67="","",$X67) -> 국비 | AD67: 1476000 | AE67: 442800 | AF67: =IFERROR(IF((N67+O67)=(AD67+AE67),"ok","검토"),"검토") -> ok | AH67: 0610-02 | AJ67: =IF(AH67="","",COUNTIF($AH$7:$AH$10141,$AH67)) -> 2 | AK67: =IF(C67="","",IF(AND(X67="도비",AH67="세입없음"),"OK",IF(AND(X67<>"도비",AH67<>""),"Ok","@@"))) -> Ok | AO67: 국가추경 | AP67: =SUM(N67:O67)-SUM(AD67:AE67) -> 0
A68: 농정해양위원회 | B68: 축산산림국 | C68: 산림환경연구소 | D68: 신규 | G68: 산림병해충방제(국비/직접) - 소나무재선충병방제사업(시설비) | H68: 0 | I68: 0 | J68: =IF(D68="","",H68-I68) -> 0 | M68: =H68+K68+L68 -> 0 | O68: 118000 | P68: =H68+N68+O68 -> 118000 | Q68: =IF(OR(AND(K68<0,K68<N68),AND(K68<0,N68+O68=0),AND(K68<0,O68>0),AND(I68=0,M68=0,P68>0)),"동의","") -> 동의 | T68: 국가추경 / 산림청-기획재정담당관실-2519(2016.8.17.)호 (국비 59,000천원 / 도비 59,000천원) | V68: 국도비 | X68: 국비 | AA68: =IFERROR(IF(($K68+$L68)=($Y68+$Z68),"ok","검토"),"검토") -> ok | AC68: =IF(X68="","",$X68) -> 국비 | AD68: 59000 | AE68: 59000 | AF68: =IFERROR(IF((N68+O68)=(AD68+AE68),"ok","검토"),"검토") -> ok | AH68: 0610-02 | AJ68: =IF(AH68="","",COUNTIF($AH$7:$AH$10141,$AH68)) -> 2 | AK68: =IF(C68="","",IF(AND(X68="도비",AH68="세입없음"),"OK",IF(AND(X68<>"도비",AH68<>""),"Ok","@@"))) -> Ok | AO68: 국가추경 | AP68: =SUM(N68:O68)-SUM(AD68:AE68) -> 0
A69: 농정해양위원회 | B69: 농정해양국 | C69: 해앙항만정책과 | D69: 본예산 | E69: 374 | G69: 평택항 활성화 방안 연구(자체/직접) - 평택항 활성화 방안 연구 | H69: 100000 | I69: 100000 | J69: =IF(D69="","",H69-I69) -> 0 | M69: =H69+K69+L69 -> 100000 | N69: -100000 | P69: =H69+N69+O69 -> 0 | Q69: =IF(OR(AND(K69<0,K69<N69),AND(K69<0,N69+O69=0),AND(K69<0,O69>0),AND(I69=0,M69=0,P69>0)),"동의","") | V69: 도비 | X69: 도비 | Y69: =IF($X69<>"도비",IF($V69="국도비","직접입력",SUM($K69:$L69)),) -> 0 | Z69: =IF($X69="도비",SUM($K69:$L69),IF($V69="국도비","직접입력",SUM($K69:$L69)-$Y69)) -> 0 | AA69: =IFERROR(IF(($K69+$L69)=($Y69+$Z69),"ok","검토"),"검토") -> ok | AC69: =IF(X69="","",$X69) -> 도비 | AD69: =IF($X69<>"도비",IF($V69="국도비","직접입력",SUM(N69:O69)),) -> 0 | AE69: =IF($X69="도비",SUM(N69:O69),IF($V69="국도비","직접입력",SUM(N69:O69)-AD69)) -> -100000 | AF69: =IFERROR(IF((N69+O69)=(AD69+AE69),"ok","검토"),"검토") -> ok | AH69: 세입없음 | AJ69: =IF(AH69="","",COUNTIF($AH$7:$AH$10141,$AH69)) -> 65 | AK69: =IF(C69="","",IF(AND(X69="도비",AH69="세입없음"),"OK",IF(AND(X69<>"도비",AH69<>""),"Ok","@@"))) -> OK | AP69: =SUM(N69:O69)-SUM(AD69:AE69) -> 0
A70: 농정해양위원회 | B70: 농정해양국 | C70: 해앙항만정책과 | D70: 신규 | G70: 평택항 개항 30주년 기념사업(자체/직접) - 평택항 개항 30주년 기념사업 | H70: 0 | I70: 0 | J70: =IF(D70="","",H70-I70) -> 0 | M70: =H70+K70+L70 -> 0 | O70: 100000 | P70: =H70+N70+O70 -> 100000 | Q70: =IF(OR(AND(K70<0,K70<N70),AND(K70<0,N70+O70=0),AND(K70<0,O70>0),AND(I70=0,M70=0,P70>0)),"동의","") -> 동의 | V70: 도비 | X70: 도비 | Y70: =IF($X70<>"도비",IF($V70="국도비","직접입력",SUM($K70:$L70)),) -> 0 | Z70: =IF($X70="도비",SUM($K70:$L70),IF($V70="국도비","직접입력",SUM($K70:$L70)-$Y70)) -> 0 | AA70: =IFERROR(IF(($K70+$L70)=($Y70+$Z70),"ok","검토"),"검토") -> ok | AC70: =IF(X70="","",$X70) -> 도비 | AD70: =IF($X70<>"도비",IF($V70="국도비","직접입력",SUM(N70:O70)),) -> 0 | AE70: =IF($X70="도비",SUM(N70:O70),IF($V70="국도비","직접입력",SUM(N70:O70)-AD70)) -> 100000 | AF70: =IFERROR(IF((N70+O70)=(AD70+AE70),"ok","검토"),"검토") -> ok | AH70: 세입없음 | AJ70: =IF(AH70="","",COUNTIF($AH$7:$AH$10141,$AH70)) -> 65 | AK70: =IF(C70="","",IF(AND(X70="도비",AH70="세입없음"),"OK",IF(AND(X70<>"도비",AH70<>""),"Ok","@@"))) -> OK | AP70: =SUM(N70:O70)-SUM(AD70:AE70) -> 0
A71: 농정해양위원회 | B71: 축산산림국 | C71: 축산정책과 | D71: 3회추경 | E71: 515 | G71: 조사료생산기반확충(기금/지원) - 조사료 생산기반 확충(자치단체자본보조) | H71: 3790040 | I71: 3587600 | J71: =IF(D71="","",H71-I71) -> 202440 | M71: =H71+K71+L71 -> 3790040 | O71: 307908 | P71: =H71+N71+O71 -> 4097948 | Q71: =IF(OR(AND(K71<0,K71<N71),AND(K71<0,N71+O71=0),AND(K71<0,O71>0),AND(I71=0,M71=0,P71>0)),"동의","") | T71: 국가추경 / 농림축산식품부 친환경축산팀-3514(2016.08.22)호 | V71: 국도비 | X71: 기금 | AA71: =IFERROR(IF(($K71+$L71)=($Y71+$Z71),"ok","검토"),"검토") -> ok | AC71: =IF(X71="","",$X71) -> 기금 | AD71: 307908 | AE71: 0 | AF71: =IFERROR(IF((N71+O71)=(AD71+AE71),"ok","검토"),"검토") -> ok | AH71: 0608-05 | AJ71: =IF(AH71="","",COUNTIF($AH$7:$AH$10141,$AH71)) -> 1 | AK71: =IF(C71="","",IF(AND(X71="도비",AH71="세입없음"),"OK",IF(AND(X71<>"도비",AH71<>""),"Ok","@@"))) -> Ok | AP71: =SUM(N71:O71)-SUM(AD71:AE71) -> 0
A72: 농정해양위원회 | B72: 농정해양국 | C72: 친환경농업과 | D72: 신규 | G72: 한발대비용수개발(국비/지원) - 한발대비용수개발(자치단체자본보조) | H72: 0 | I72: 0 | J72: =IF(D72="","",H72-I72) -> 0 | M72: =H72+K72+L72 -> 0 | O72: 1500000 | P72: =H72+N72+O72 -> 1500000 | Q72: =IF(OR(AND(K72<0,K72<N72),AND(K72<0,N72+O72=0),AND(K72<0,O72>0),AND(I72=0,M72=0,P72>0)),"동의","") -> 동의 | T72: 농림축산식품부 농업기반과-3824(2016.9.2)호 | V72: 국도비 | X72: 국비 | AA72: =IFERROR(IF(($K72+$L72)=($Y72+$Z72),"ok","검토"),"검토") -> ok | AC72: =IF(X72="","",$X72) -> 국비 | AD72: 1500000 | AE72: 0 | AF72: =IFERROR(IF((N72+O72)=(AD72+AE72),"ok","검토"),"검토") -> ok | AH72: 0604-01 | AJ72: =IF(AH72="","",COUNTIF($AH$7:$AH$10141,$AH72)) -> 1 | AK72: =IF(C72="","",IF(AND(X72="도비",AH72="세입없음"),"OK",IF(AND(X72<>"도비",AH72<>""),"Ok","@@"))) -> Ok | AP72: =SUM(N72:O72)-SUM(AD72:AE72) -> 0
J73: =IF(D73="","",H73-I73) | M73: =H73+K73+L73 -> 0 | P73: =H73+N73+O73 -> 0 | Q73: =IF(OR(AND(K73<0,K73<N73),AND(K73<0,N73+O73=0),AND(K73<0,O73>0),AND(I73=0,M73=0,P73>0)),"동의","") | Y73: =IF($X73<>"도비",IF($V73="국도비","직접입력",SUM($K73:$L73)),) -> 0 | Z73: =IF($X73="도비",SUM($K73:$L73),IF($V73="국도비","직접입력",SUM($K73:$L73)-$Y73)) -> 0 | AA73: =IFERROR(IF(($K73+$L73)=($Y73+$Z73),"ok","검토"),"검토") -> ok | AC73: =IF(X73="","",$X73) | AD73: =IF($X73<>"도비",IF($V73="국도비","직접입력",SUM(N73:O73)),) -> 0 | AE73: =IF($X73="도비",SUM(N73:O73),IF($V73="국도비","직접입력",SUM(N73:O73)-AD73)) -> 0 | AF73: =IFERROR(IF((N73+O73)=(AD73+AE73),"ok","검토"),"검토") -> ok | AJ73: =IF(AH73="","",COUNTIF($AH$7:$AH$10141,$AH73)) | AK73: =IF(C73="","",IF(AND(X73="도비",AH73="세입없음"),"OK",IF(AND(X73<>"도비",AH73<>""),"Ok","@@")))
J74: =IF(D74="","",H74-I74) | M74: =H74+K74+L74 -> 0 | P74: =H74+N74+O74 -> 0 | Q74: =IF(OR(AND(K74<0,K74<N74),AND(K74<0,N74+O74=0),AND(K74<0,O74>0),AND(I74=0,M74=0,P74>0)),"동의","") | Y74: =IF($X74<>"도비",IF($V74="국도비","직접입력",SUM($K74:$L74)),) -> 0 | Z74: =IF($X74="도비",SUM($K74:$L74),IF($V74="국도비","직접입력",SUM($K74:$L74)-$Y74)) -> 0 | AA74: =IFERROR(IF(($K74+$L74)=($Y74+$Z74),"ok","검토"),"검토") -> ok | AC74: =IF(X74="","",$X74) | AD74: =IF($X74<>"도비",IF($V74="국도비","직접입력",SUM(N74:O74)),) -> 0 | AE74: =IF($X74="도비",SUM(N74:O74),IF($V74="국도비","직접입력",SUM(N74:O74)-AD74)) -> 0 | AF74: =IFERROR(IF((N74+O74)=(AD74+AE74),"ok","검토"),"검토") -> ok | AJ74: =IF(AH74="","",COUNTIF($AH$7:$AH$10141,$AH74)) | AK74: =IF(C74="","",IF(AND(X74="도비",AH74="세입없음"),"OK",IF(AND(X74<>"도비",AH74<>""),"Ok","@@")))
J75: =IF(D75="","",H75-I75) | M75: =H75+K75+L75 -> 0 | P75: =H75+N75+O75 -> 0 | Q75: =IF(OR(AND(K75<0,K75<N75),AND(K75<0,N75+O75=0),AND(K75<0,O75>0),AND(I75=0,M75=0,P75>0)),"동의","") | Y75: =IF($X75<>"도비",IF($V75="국도비","직접입력",SUM($K75:$L75)),) -> 0 | Z75: =IF($X75="도비",SUM($K75:$L75),IF($V75="국도비","직접입력",SUM($K75:$L75)-$Y75)) -> 0 | AA75: =IFERROR(IF(($K75+$L75)=($Y75+$Z75),"ok","검토"),"검토") -> ok | AC75: =IF(X75="","",$X75) | AD75: =IF($X75<>"도비",IF($V75="국도비","직접입력",SUM(N75:O75)),) -> 0 | AE75: =IF($X75="도비",SUM(N75:O75),IF($V75="국도비","직접입력",SUM(N75:O75)-AD75)) -> 0 | AF75: =IFERROR(IF((N75+O75)=(AD75+AE75),"ok","검토"),"검토") -> ok | AJ75: =IF(AH75="","",COUNTIF($AH$7:$AH$10141,$AH75)) | AK75: =IF(C75="","",IF(AND(X75="도비",AH75="세입없음"),"OK",IF(AND(X75<>"도비",AH75<>""),"Ok","@@")))
A76: (보건복지위원회) | H76: =SUM(H77:H128) -> 1181220111 | I76: =SUM(I77:I128) -> 1151854045 | J76: =SUM(J77:J128) -> 29366066 | K76: =SUM(K77:K128) -> -484000 | L76: =SUM(L77:L128) -> 10761891 | M76: =SUM(M77:M128) -> 1191498002 | N76: =SUM(N77:N128) -> -474685 | O76: =SUM(O77:O128) -> 33422682 | P76: =SUM(P77:P128) -> 1214168108 | Y76: =SUM(Y77:Y128) -> 9577350 | Z76: =SUM(Z77:Z128) -> 700541 | AA76: =IFERROR(IF(($K76+$L76)=($Y76+$Z76),"ok","검토"),"검토") -> ok | AC76: =IF(X76="","",$X76) | AD76: =SUM(AD77:AD128) -> 26345229 | AE76: =SUM(AE77:AE128) -> 6602768 | AF76: =IFERROR(IF((N76+O76)=(AD76+AE76),"ok","검토"),"검토") -> ok | AJ76: =IF(AH76="","",COUNTIF($AH$7:$AH$10141,$AH76)) | AK76: =IF(C76="","",IF(AND(X76="도비",AH76="세입없음"),"OK",IF(AND(X76<>"도비",AH76<>""),"Ok","@@"))) | AP76: =SUM(N76:O76)-SUM(AD76:AE76) -> 0
A77: 보건복지위원회 | B77: 보건복지국 | C77: 복지정책과 | D77: 3회추경 | E77: 578579 | F77: 156 | G77: 시군 읍면동 복지허브화 확산 지원(자체/지원) - 시군 읍면동 복지허브화 확산 지원 | H77: 726000 | I77: 0 | J77: =IF(D77="","",H77-I77) -> 726000 | L77: 36000 | M77: =H77+K77+L77 -> 762000 | O77: 36000 | P77: =H77+N77+O77 -> 762000 | Q77: =IF(OR(AND(K77<0,K77<N77),AND(K77<0,N77+O77=0),AND(K77<0,O77>0),AND(I77=0,M77=0,P77>0)),"동의","") | R77: 사업량 증가(121개소->127개소) | V77: 도비 | X77: 도비 | Z77: 36000 | AA77: =IFERROR(IF(($K77+$L77)=($Y77+$Z77),"ok","검토"),"검토") -> ok | AC77: =IF(X77="","",$X77) -> 도비 | AD77: =IF($X77<>"도비",IF($V77="국도비","직접입력",SUM(N77:O77)),) -> 0 | AE77: =IF($X77="도비",SUM(N77:O77),IF($V77="국도비","직접입력",SUM(N77:O77)-AD77)) -> 36000 | AF77: =IFERROR(IF((N77+O77)=(AD77+AE77),"ok","검토"),"검토") -> ok | AH77: 세입없음 | AJ77: =IF(AH77="","",COUNTIF($AH$7:$AH$10141,$AH77)) -> 65 | AK77: =IF(C77="","",IF(AND(X77="도비",AH77="세입없음"),"OK",IF(AND(X77<>"도비",AH77<>""),"Ok","@@"))) -> OK | AP77: =SUM(N77:O77)-SUM(AD77:AE77) -> 0
A78: 보건복지위원회 | B78: 보건복지국 | C78: 복지정책과 | D78: 3회추경 | E78: 579 | F78: 181 | G78: 사회복지종사자 및 보훈가족 문화지원(자체/직접) - 사회복지종사자 문화지원 | H78: 30000 | I78: 0 | J78: =IF(D78="","",H78-I78) -> 30000 | K78: -30000 | M78: =H78+K78+L78 -> 0 | N78: -30000 | P78: =H78+N78+O78 -> 0 | Q78: =IF(OR(AND(K78<0,K78<N78),AND(K78<0,N78+O78=0),AND(K78<0,O78>0),AND(I78=0,M78=0,P78>0)),"동의","") | R78: 행사성예산은 추경예산이 아닌 본예산에 편성되어야 함 | V78: 도비 | X78: 도비 | Z78: -30000 | AA78: =IFERROR(IF(($K78+$L78)=($Y78+$Z78),"ok","검토"),"검토") -> ok | AC78: =IF(X78="","",$X78) -> 도비 | AD78: =IF($X78<>"도비",IF($V78="국도비","직접입력",SUM(N78:O78)),) -> 0 | AE78: =IF($X78="도비",SUM(N78:O78),IF($V78="국도비","직접입력",SUM(N78:O78)-AD78)) -> -30000 | AF78: =IFERROR(IF((N78+O78)=(AD78+AE78),"ok","검토"),"검토") -> ok | AH78: 세입없음 | AJ78: =IF(AH78="","",COUNTIF($AH$7:$AH$10141,$AH78)) -> 65 | AK78: =IF(C78="","",IF(AND(X78="도비",AH78="세입없음"),"OK",IF(AND(X78<>"도비",AH78<>""),"Ok","@@"))) -> OK | AP78: =SUM(N78:O78)-SUM(AD78:AE78) -> 0
A79: 보건복지위원회 | B79: 보건복지국 | C79: 복지정책과 | D79: 3회추경 | E79: 579 | F79: 184 | G79: 사회복지종사자 및 보훈가족 문화지원(자체/직접) - 보훈가족 문화지원 | H79: 30000 | I79: 0 | J79: =IF(D79="","",H79-I79) -> 30000 | K79: -30000 | M79: =H79+K79+L79 -> 0 | N79: -30000 | P79: =H79+N79+O79 -> 0 | Q79: =IF(OR(AND(K79<0,K79<N79),AND(K79<0,N79+O79=0),AND(K79<0,O79>0),AND(I79=0,M79=0,P79>0)),"동의","") | R79: 행사성예산은 추경예산이 아닌 본예산에 편성되어야 함 | V79: 도비 | X79: 도비 | Z79: -30000 | AA79: =IFERROR(IF(($K79+$L79)=($Y79+$Z79),"ok","검토"),"검토") -> ok | AC79: =IF(X79="","",$X79) -> 도비 | AD79: =IF($X79<>"도비",IF($V79="국도비","직접입력",SUM(N79:O79)),) -> 0 | AE79: =IF($X79="도비",SUM(N79:O79),IF($V79="국도비","직접입력",SUM(N79:O79)-AD79)) -> -30000 | AF79: =IFERROR(IF((N79+O79)=(AD79+AE79),"ok","검토"),"검토") -> ok | AH79: 세입없음 | AJ79: =IF(AH79="","",COUNTIF($AH$7:$AH$10141,$AH79)) -> 65 | AK79: =IF(C79="","",IF(AND(X79="도비",AH79="세입없음"),"OK",IF(AND(X79<>"도비",AH79<>""),"Ok","@@"))) -> OK | AP79: =SUM(N79:O79)-SUM(AD79:AE79) -> 0
A80: 보건복지위원회 | B80: 보건복지국 | C80: 사회적일자리과 | D80: 3회추경 | E80: 583 | F80: 240 | G80: 일하는 청년통장Ⅱ 운영(자체/직접) - 일하는 청년통장Ⅱ 운영 | H80: 444000 | I80: 0 | J80: =IF(D80="","",H80-I80) -> 444000 | K80: -308000 | M80: =H80+K80+L80 -> 136000 | N80: -222000 | P80: =H80+N80+O80 -> 222000 | Q80: =IF(OR(AND(K80<0,K80<N80),AND(K80<0,N80+O80=0),AND(K80<0,O80>0),AND(I80=0,M80=0,P80>0)),"동의","") -> 동의 | R80: 사업량 축소(2,000명->500명) | V80: 도비 | X80: 도비 | Z80: -308000 | AA80: =IFERROR(IF(($K80+$L80)=($Y80+$Z80),"ok","검토"),"검토") -> ok | AC80: =IF(X80="","",$X80) -> 도비 | AD80: =IF($X80<>"도비",IF($V80="국도비","직접입력",SUM(N80:O80)),) -> 0 | AE80: =IF($X80="도비",SUM(N80:O80),IF($V80="국도비","직접입력",SUM(N80:O80)-AD80)) -> -222000 | AF80: =IFERROR(IF((N80+O80)=(AD80+AE80),"ok","검토"),"검토") -> ok | AH80: 세입없음 | AJ80: =IF(AH80="","",COUNTIF($AH$7:$AH$10141,$AH80)) -> 65 | AK80: =IF(C80="","",IF(AND(X80="도비",AH80="세입없음"),"OK",IF(AND(X80<>"도비",AH80<>""),"Ok","@@"))) -> OK | AP80: =SUM(N80:O80)-SUM(AD80:AE80) -> 0
A81: 보건복지위원회 | B81: 보건복지국 | C81: 장애인복지과 | D81: 3회추경 | E81: 592 | F81: 363 | G81: 경기도장애인종합지원센터 운영(자체/직접) - 경기도장애인종합지원센터 운영 | H81: 3070000 | I81: 2800000 | J81: =IF(D81="","",H81-I81) -> 270000 | K81: -40000 | M81: =H81+K81+L81 -> 3030000 | N81: -40000 | P81: =H81+N81+O81 -> 3030000 | Q81: =IF(OR(AND(K81<0,K81<N81),AND(K81<0,N81+O81=0),AND(K81<0,O81>0),AND(I81=0,M81=0,P81>0)),"동의","") | R81: 방수공사비 등 절감운영 | V81: 도비 | X81: 도비 | Z81: -40000 | AA81: =IFERROR(IF(($K81+$L81)=($Y81+$Z81),"ok","검토"),"검토") -> ok | AC81: =IF(X81="","",$X81) -> 도비 | AD81: =IF($X81<>"도비",IF($V81="국도비","직접입력",SUM(N81:O81)),) -> 0 | AE81: =IF($X81="도비",SUM(N81:O81),IF($V81="국도비","직접입력",SUM(N81:O81)-AD81)) -> -40000 | AF81: =IFERROR(IF((N81+O81)=(AD81+AE81),"ok","검토"),"검토") -> ok | AH81: 세입없음 | AJ81: =IF(AH81="","",COUNTIF($AH$7:$AH$10141,$AH81)) -> 65 | AK81: =IF(C81="","",IF(AND(X81="도비",AH81="세입없음"),"OK",IF(AND(X81<>"도비",AH81<>""),"Ok","@@"))) -> OK | AP81: =SUM(N81:O81)-SUM(AD81:AE81) -> 0
A82: 보건복지위원회 | B82: 보건복지국 | C82: 건강증진과 | D82: 3회추경 | E82: 604605 | F82: 527 | G82: 치매어르신 안전기반구축 지원사업(자체/직접) - 치매어르신 안전기반구축 지원사업 | H82: 270000 | I82: 0 | J82: =IF(D82="","",H82-I82) -> 270000 | K82: -76000 | M82: =H82+K82+L82 -> 194000 | N82: -76000 | P82: =H82+N82+O82 -> 194000 | Q82: =IF(OR(AND(K82<0,K82<N82),AND(K82<0,N82+O82=0),AND(K82<0,O82>0),AND(I82=0,M82=0,P82>0)),"동의","") | R82: 치매파트너물품구입비 삭감 | V82: 도비 | X82: 도비 | Z82: -76000 | AA82: =IFERROR(IF(($K82+$L82)=($Y82+$Z82),"ok","검토"),"검토") -> ok | AC82: =IF(X82="","",$X82) -> 도비 | AD82: =IF($X82<>"도비",IF($V82="국도비","직접입력",SUM(N82:O82)),) -> 0 | AE82: =IF($X82="도비",SUM(N82:O82),IF($V82="국도비","직접입력",SUM(N82:O82)-AD82)) -> -76000 | AF82: =IFERROR(IF((N82+O82)=(AD82+AE82),"ok","검토"),"검토") -> ok | AH82: 세입없음 | AJ82: =IF(AH82="","",COUNTIF($AH$7:$AH$10141,$AH82)) -> 65 | AK82: =IF(C82="","",IF(AND(X82="도비",AH82="세입없음"),"OK",IF(AND(X82<>"도비",AH82<>""),"Ok","@@"))) -> OK | AP82: =SUM(N82:O82)-SUM(AD82:AE82) -> 0
A83: 보건복지위원회 | B83: 보건복지국 | C83: 노인복지과 | D83: 신규 | G83: 경로당 소독비 지원(자체/지원) - 경로당 소독비 지원 | H83: 0 | I83: 0 | J83: =IF(D83="","",H83-I83) -> 0 | L83: 39042 | M83: =H83+K83+L83 -> 39042 | O83: 39042 | P83: =H83+N83+O83 -> 39042 | Q83: =IF(OR(AND(K83<0,K83<N83),AND(K83<0,N83+O83=0),AND(K83<0,O83>0),AND(I83=0,M83=0,P83>0)),"동의","") | R83: 질병에 취약한 어르신들이 주로 생활하는 경로당에 대한 소독 필요 ※ 경기도 경로당 운영 및 활성화 사업 지원에 관한 조례 제6조 -연 2회 이상 살균소독 지원(2015.11.4신설) | V83: 도비 | X83: 도비 | Z83: 39042 | AA83: =IFERROR(IF(($K83+$L83)=($Y83+$Z83),"ok","검토"),"검토") -> ok | AC83: =IF(X83="","",$X83) -> 도비 | AD83: =IF($X83<>"도비",IF($V83="국도비","직접입력",SUM(N83:O83)),) -> 0 | AE83: =IF($X83="도비",SUM(N83:O83),IF($V83="국도비","직접입력",SUM(N83:O83)-AD83)) -> 39042 | AF83: =IFERROR(IF((N83+O83)=(AD83+AE83),"ok","검토"),"검토") -> ok | AH83: 세입없음 | AJ83: =IF(AH83="","",COUNTIF($AH$7:$AH$10141,$AH83)) -> 65 | AK83: =IF(C83="","",IF(AND(X83="도비",AH83="세입없음"),"OK",IF(AND(X83<>"도비",AH83<>""),"Ok","@@"))) -> OK | AP83: =SUM(N83:O83)-SUM(AD83:AE83) -> 0
A84: 보건복지위원회 | B84: 복지여성실 | C84: 사회복지담당관 | D84: 신규 | G84: 경로당 소독비 지원(자체/지원) - 경로당 소독비 지원 | H84: 0 | I84: 0 | J84: =IF(D84="","",H84-I84) -> 0 | L84: 18423 | M84: =H84+K84+L84 -> 18423 | O84: 18423 | P84: =H84+N84+O84 -> 18423 | Q84: =IF(OR(AND(K84<0,K84<N84),AND(K84<0,N84+O84=0),AND(K84<0,O84>0),AND(I84=0,M84=0,P84>0)),"동의","") | R84: 질병에 취약한 어르신들이 주로 생활하는 경로당에 대한 소독 필요 ※ 경기도 경로당 운영 및 활성화 사업 지원에 관한 조례 제6조 -연 2회 이상 살균소독 지원(2015.11.4신설) | V84: 도비 | X84: 도비 | Z84: 18423 | AA84: =IFERROR(IF(($K84+$L84)=($Y84+$Z84),"ok","검토"),"검토") -> ok | AC84: =IF(X84="","",$X84) -> 도비 | AD84: =IF($X84<>"도비",IF($V84="국도비","직접입력",SUM(N84:O84)),) -> 0 | AE84: =IF($X84="도비",SUM(N84:O84),IF($V84="국도비","직접입력",SUM(N84:O84)-AD84)) -> 18423 | AF84: =IFERROR(IF((N84+O84)=(AD84+AE84),"ok","검토"),"검토") -> ok | AH84: 세입없음 | AJ84: =IF(AH84="","",COUNTIF($AH$7:$AH$10141,$AH84)) -> 65 | AK84: =IF(C84="","",IF(AND(X84="도비",AH84="세입없음"),"OK",IF(AND(X84<>"도비",AH84<>""),"Ok","@@"))) -> OK | AP84: =SUM(N84:O84)-SUM(AD84:AE84) -> 0
A85: 보건복지위원회 | B85: 보건복지국 | C85: 노인복지과 | D85: 신규 | G85: 대한노인회 경기도연합회 지원(자체/직접) - 경로당 환경개선 지원 | H85: 0 | I85: 0 | J85: =IF(D85="","",H85-I85) -> 0 | L85: 350000 | M85: =H85+K85+L85 -> 350000 | O85: 350000 | P85: =H85+N85+O85 -> 350000 | Q85: =IF(OR(AND(K85<0,K85<N85),AND(K85<0,N85+O85=0),AND(K85<0,O85>0),AND(I85=0,M85=0,P85>0)),"동의","") | R85: 경로당의 노후화된 시설 및 집기 등에 대하여 리모델링 및 교체 필요 | V85: 도비 | X85: 도비 | Z85: 350000 | AA85: =IFERROR(IF(($K85+$L85)=($Y85+$Z85),"ok","검토"),"검토") -> ok | AC85: =IF(X85="","",$X85) -> 도비 | AD85: =IF($X85<>"도비",IF($V85="국도비","직접입력",SUM(N85:O85)),) -> 0 | AE85: =IF($X85="도비",SUM(N85:O85),IF($V85="국도비","직접입력",SUM(N85:O85)-AD85)) -> 350000 | AF85: =IFERROR(IF((N85+O85)=(AD85+AE85),"ok","검토"),"검토") -> ok | AH85: 세입없음 | AJ85: =IF(AH85="","",COUNTIF($AH$7:$AH$10141,$AH85)) -> 65 | AK85: =IF(C85="","",IF(AND(X85="도비",AH85="세입없음"),"OK",IF(AND(X85<>"도비",AH85<>""),"Ok","@@"))) -> OK | AP85: =SUM(N85:O85)-SUM(AD85:AE85) -> 0
A86: 보건복지위원회 | B86: 복지여성실 | C86: 사회복지담당관 | D86: 신규 | G86: 대한노인회 경기도연합회 지원(자체/직접) - 경로당 환경개선 지원 | H86: 0 | I86: 0 | J86: =IF(D86="","",H86-I86) -> 0 | L86: 150000 | M86: =H86+K86+L86 -> 150000 | O86: 150000 | P86: =H86+N86+O86 -> 150000 | Q86: =IF(OR(AND(K86<0,K86<N86),AND(K86<0,N86+O86=0),AND(K86<0,O86>0),AND(I86=0,M86=0,P86>0)),"동의","") | R86: 경로당의 노후화된 시설 및 집기 등에 대하여 리모델링 및 교체 필요 | V86: 도비 | X86: 도비 | Z86: 150000 | AA86: =IFERROR(IF(($K86+$L86)=($Y86+$Z86),"ok","검토"),"검토") -> ok | AC86: =IF(X86="","",$X86) -> 도비 | AD86: =IF($X86<>"도비",IF($V86="국도비","직접입력",SUM(N86:O86)),) -> 0 | AE86: =IF($X86="도비",SUM(N86:O86),IF($V86="국도비","직접입력",SUM(N86:O86)-AD86)) -> 150000 | AF86: =IFERROR(IF((N86+O86)=(AD86+AE86),"ok","검토"),"검토") -> ok | AH86: 세입없음 | AJ86: =IF(AH86="","",COUNTIF($AH$7:$AH$10141,$AH86)) -> 65 | AK86: =IF(C86="","",IF(AND(X86="도비",AH86="세입없음"),"OK",IF(AND(X86<>"도비",AH86<>""),"Ok","@@"))) -> OK | AP86: =SUM(N86:O86)-SUM(AD86:AE86) -> 0
A87: 보건복지위원회 | B87: 보건복지국 | C87: 사회적일자리과 | D87: 3회추경 | E87: 582 | F87: 225 | G87: 희망키움통장Ⅰ(국비/지원) - 희망키움통장Ⅰ | H87: 3208922 | I87: 2826834 | J87: =IF(D87="","",H87-I87) -> 382088 | L87: 21370 | M87: =H87+K87+L87 -> 3230292 | O87: 21370 | P87: =H87+N87+O87 -> 3230292 | Q87: =IF(OR(AND(K87<0,K87<N87),AND(K87<0,N87+O87=0),AND(K87<0,O87>0),AND(I87=0,M87=0,P87>0)),"동의","") | R87: 국비 변경내시 / 보건복지부 자립지원과-5566(2016.8.23.)호 | S87: 국비 변경내시 / 보건복지부 자립지원과-5566(2016.8.23.)호 | T87: 국비 변경내시 / 보건복지부 자립지원과-5566(2016.8.23.)호 | V87: 국도비 | X87: 국비 | Y87: 21254 | Z87: 116 | AA87: =IFERROR(IF(($K87+$L87)=($Y87+$Z87),"ok","검토"),"검토") -> ok | AC87: =IF(X87="","",$X87) -> 국비 | AD87: 21254 | AE87: 116 | AF87: =IFERROR(IF((N87+O87)=(AD87+AE87),"ok","검토"),"검토") -> ok | AH87: 0702-01 | AJ87: =IF(AH87="","",COUNTIF($AH$7:$AH$10141,$AH87)) -> 4 | AK87: =IF(C87="","",IF(AND(X87="도비",AH87="세입없음"),"OK",IF(AND(X87<>"도비",AH87<>""),"Ok","@@"))) -> Ok | AP87: =SUM(N87:O87)-SUM(AD87:AE87) -> 0
A88: 보건복지위원회 | B88: 보건복지국 | C88: 사회적일자리과 | D88: 3회추경 | E88: 582 | F88: 228 | G88: 희망키움통장Ⅱ(국비/직접) - 희망키움통장Ⅱ | H88: 7796044 | I88: 8321614 | J88: =IF(D88="","",H88-I88) -> -525570 | L88: 808675 | M88: =H88+K88+L88 -> 8604719 | O88: 808675 | P88: =H88+N88+O88 -> 8604719 | Q88: =IF(OR(AND(K88<0,K88<N88),AND(K88<0,N88+O88=0),AND(K88<0,O88>0),AND(I88=0,M88=0,P88>0)),"동의","") | R88: 국비 변경내시 / 보건복지부 자립지원과-5566(2016.8.23.)호 | S88: 국비 변경내시 / 보건복지부 자립지원과-5566(2016.8.23.)호 | T88: 국비 변경내시 / 보건복지부 자립지원과-5566(2016.8.23.)호 | V88: 국도비 | X88: 국비 | Y88: 646940 | Z88: 161735 | AA88: =IFERROR(IF(($K88+$L88)=($Y88+$Z88),"ok","검토"),"검토") -> ok | AC88: =IF(X88="","",$X88) -> 국비 | AD88: 646940 | AE88: 161735 | AF88: =IFERROR(IF((N88+O88)=(AD88+AE88),"ok","검토"),"검토") -> ok | AH88: 0702-01 | AJ88: =IF(AH88="","",COUNTIF($AH$7:$AH$10141,$AH88)) -> 4 | AK88: =IF(C88="","",IF(AND(X88="도비",AH88="세입없음"),"OK",IF(AND(X88<>"도비",AH88<>""),"Ok","@@"))) -> Ok | AP88: =SUM(N88:O88)-SUM(AD88:AE88) -> 0
