Workbook

Sheet 구분표
A1: 실과명 조정 | B1: 위원회명 조정 | C1: 실국명 조정 | E1: 실국명 | F1: 실과명 | G1: 위원회명 | H1: 정렬순서 | I1: 정렬코드 | K1: 2014재원 | L1: 2015재원 | M1: 2016재원 | N1: 본예산 | O1: 2회추경 | Q1: 국도비 등 여부 | S1: 동의여부
A2: 연정협력관 | B2: 의회운영위원회 | C2: 연정협력관 | E2: 연정협력관 | F2: 연정협력관 | G2: 의회운영위원회 | H2: 1 | I2: 0101 | K2: 도비 | L2: 도비 | M2: 도비 | N2: 본예산 | O2: 2회추경 | Q2: 국도비 | S2: 동의
A3: 대외협력담당관 | B3: 의회운영위원회 | C3: 대외협력담당관 | E3: 대외협력담당관 | F3: 대외협력담당관 | G3: 의회운영위원회 | H3: 2 | I3: 0102 | K3: 국비 | L3: 국비 | M3: 국비 | N3: 신규 | O3: 1회추경 | Q3: 도비 | S3: 부동의
A4: 서울사무소 | B4: 의회운영위원회 | C4: 대외협력담당관 | E4: 대외협력담당관 | F4: 서울사무소 | G4: 의회운영위원회 | H4: 3 | I4: 0103 | K4: 광특 | L4: 지특 | M4: 지특 | O4: 본예산
A5: 홍보미디어담당관 | B5: 의회운영위원회 | C5: 소통기획관 | E5: 소통기획관 | F5: 홍보미디어담당관 | G5: 의회운영위원회 | H5: 4 | I5: 0104 | K5: 기금 | L5: 기금 | M5: 기금 | O5: 신규
A6: 홍보콘텐츠담당관 | B6: 의회운영위원회 | C6: 소통기획관 | E6: 소통기획관 | F6: 홍보콘텐츠담당관 | G6: 의회운영위원회 | H6: 5 | I6: 0105 | K6: 분권 | L6: 특교 | M6: 특교
A7: 언론협력담당관 | B7: 의회운영위원회 | C7: 대변인 | E7: 대변인 | F7: 언론협력담당관 | G7: 의회운영위원회 | H7: 6 | I7: 0106 | K7: 특교 | M7: 소방안전
A8: 보도기획담당관 | B8: 의회운영위원회 | C8: 대변인 | E8: 대변인 | F8: 보도기획담당관 | G8: 의회운영위원회 | H8: 7 | I8: 0107
A9: 공보담당관 | B9: 의회운영위원회 | C9: 의회사무처 | E9: 의회사무처 | F9: 공보담당관 | G9: 의회운영위원회 | H9: 8 | I9: 0108
A10: 총무담당관 | B10: 의회운영위원회 | C10: 의회사무처 | E10: 의회사무처 | F10: 총무담당관 | G10: 의회운영위원회 | H10: 9 | I10: 0109
A11: 의정담당관 | B11: 의회운영위원회 | C11: 의회사무처 | E11: 의회사무처 | F11: 의정담당관 | G11: 의회운영위원회 | H11: 10 | I11: 0110
A12: 입법정책담당관 | B12: 의회운영위원회 | C12: 의회사무처 | E12: 의회사무처 | F12: 입법정책담당관 | G12: 의회운영위원회 | H12: 11 | I12: 0111
A13: 예산정책담당관 | B13: 의회운영위원회 | C13: 의회사무처 | E13: 의회사무처 | F13: 예산정책담당관 | G13: 의회운영위원회 | H13: 12 | I13: 0112
A14: 감사총괄담당관 | B14: 기획재정위원회 | C14: 감사관 | E14: 감사관 | F14: 감사총괄담당관 | G14: 기획재정위원회 | H14: 13 | I14: 0201
A15: 조사담당관 | B15: 기획재정위원회 | C15: 감사관 | E15: 감사관 | F15: 조사담당관 | G15: 기획재정위원회 | H15: 14 | I15: 0202
A16: 감사담당관 | B16: 기획재정위원회 | C16: 감사관 | E16: 감사관 | F16: 감사담당관 | G16: 기획재정위원회 | H16: 15 | I16: 0203
A17: 계약심사담당관 | B17: 기획재정위원회 | C17: 감사관 | E17: 감사관 | F17: 계약심사담당관 | G17: 기획재정위원회 | H17: 16 | I17: 0204
A18: 기획담당관 | B18: 기획재정위원회 | C18: 기획조정실 | E18: 기획조정실 | F18: 기획담당관 | G18: 기획재정위원회 | H18: 17 | I18: 0205
A19: 미래전략담당관 | B19: 기획재정위원회 | C19: 기획조정실 | E19: 기획조정실 | F19: 미래전략담당관 | G19: 기획재정위원회 | H19: 18 | I19: 0206
... A201: 북부여성비전센터 | B201: 여성가족교육협력위원회 | C201: 복지여성실 | E201: 복지여성실 | F201: 북부여성비전센터 | G201: 여성가족교육협력위원회 | H201: 200 | I201: 1012

Sheet 15년검증
A1: 2015년 본예산 검증 | H1: 본예산 예비비 | J1: 124682800
M2: (단위 : 천원)
A3: 구 분 | B3: 상임위 | H3: 구 분 | I3: 예결위
B4: 세입 | C4: 검증 | D4: 세출 | E4: 검증 | F4: 차액 | I4: 세입 | J4: 검증 | K4: 세출 | L4: 검증 | M4: 차액
A5: 전체 총계 | B5: =SUM(B6,B9) -> 10491056 | C5: =IF(B5='16년3추 일입'!X3,"OK","@@") -> OK | D5: =SUM(D6,D9) -> 3182689 | E5: =IF(D5='16년 3추일출'!Z3,"OK","@@") -> @@ | H5: 전체 총계 | I5: =SUM(I6,I9) -> 64242035 | J5: =IF(I5='16년3추 일입'!AC3,"OK","@@") -> OK | K5: =SUM(K6,K9) -> 64312035 | L5: =IF(K5='16년 3추일출'!AE3,"OK","@@") -> @@
A6: 자체 총계 | B6: =SUM(B7:B8) -> -213845 | C6: =IF(B6='16년3추 일입'!X6,"OK","@@") -> OK | D6: =SUM(D7:D8) -> -7522212 | E6: =IF($D$6='16년 3추일출'!$Z$6,"OK","@@") -> @@ | H6: 자체 총계 | I6: =SUM(I7:I8) -> 13558155 | J6: =IF(I6='16년3추 일입'!AC6,"OK","@@") -> OK | K6: =SUM(K7:K8) -> 13628155 | L6: =IF($K6='16년 3추일출'!$AE6,"OK","@@") -> @@
A7: 자체 도비 | B7: =SUMIFS('16년3추 일입'!$X$7:$X$602,'16년3추 일입'!$V$7:$V$602,"도비") -> -213845 | D7: =SUMIFS('16년 3추일출'!$Z$14:$Z$703,'16년 3추일출'!$X$14:$X$703,"도비") -> -9116282 | H7: 자체 도비 | I7: =SUMIFS('16년3추 일입'!$AC$7:$AC$602,'16년3추 일입'!$AA$7:$AA$602,"도비") -> 13558155 | K7: =SUMIFS('16년 3추일출'!$AE$14:$AE$703,'16년 3추일출'!$AC$14:$AC$703,"도비") -> 4619645
A8: 의존 매칭 도비 | B8: =SUMIFS('16년3추 일입'!$X$7:$X$602,'16년3추 일입'!$V$7:$V$602,"국비")+SUMIFS('16년3추 일입'!$X$7:$X$602,'16년3추 일입'!$V$7:$V$602,"지특")+SUMIFS('16년3추 일입'!$X$7:$X$602,'16년3추 일입'!$V$7:$V$602,"기금")+SUMIFS('16년3추 일입'!$X$7:$X$602,'16년3추 일입'!$V$7:$V$602,"분권")+SUMIFS('16년3추 일입'!$X$7:$X$602,'16년3추 일입'!$V$7:$V$602,"특교") -> 0 | D8: =SUMIFS('16년 3추일출'!$Z$14:$Z$703,'16년 3추일출'!$X$14:$X$703,"국비")+SUMIFS('16년 3추일출'!$Z$14:$Z$703,'16년 3추일출'!$X$14:$X$703,"지특")+SUMIFS('16년 3추일출'!$Z$14:$Z$703,'16년 3추일출'!$X$14:$X$703,"기금")+SUMIFS('16년 3추일출'!$Z$14:$Z$703,'16년 3추일출'!$X$14:$X$703,"분권")+SUMIFS('16년 3추일출'!$Z$14:$Z$703,'16년 3추일출'!$X$14:$X$703,"특교") -> 1594070 | H8: 의존 매칭 도비 | I8: =SUMIFS('16년3추 일입'!$AC$7:$AC$602,'16년3추 일입'!$AA$7:$AA$602,"국비")+SUMIFS('16년3추 일입'!$AC$7:$AC$602,'16년3추 일입'!$AA$7:$AA$602,"지특")+SUMIFS('16년3추 일입'!$AC$7:$AC$602,'16년3추 일입'!$AA$7:$AA$602,"기금")+SUMIFS('16년3추 일입'!$AC$7:$AC$602,'16년3추 일입'!$AA$7:$AA$602,"분권")+SUMIFS('16년3추 일입'!$AC$7:$AC$602,'16년3추 일입'!$AA$7:$AA$602,"특교") -> 0 | K8: =SUMIFS('16년 3추일출'!$AE$14:$AE$703,'16년 3추일출'!$AC$14:$AC$703,"국비")+SUMIFS('16년 3추일출'!$AE$14:$AE$703,'16년 3추일출'!$AC$14:$AC$703,"지특")+SUMIFS('16년 3추일출'!$AE$14:$AE$703,'16년 3추일출'!$AC$14:$AC$703,"기금")+SUMIFS('16년 3추일출'!$AE$14:$AE$703,'16년 3추일출'!$AC$14:$AC$703,"분권")+SUMIFS('16년 3추일출'!$AE$14:$AE$703,'16년 3추일출'!$AC$14:$AC$703,"특교") -> 9008510
A9: 의존계 | B9: =SUM(B10:B14) -> 10704901 | C9: =IF(B9='16년3추 일입'!W6,"OK","@@") -> OK | D9: =SUM(D10:D14) -> 10704901 | E9: =IF(B9=D9,"OK","@@") -> OK | F9: =D9-B9 -> 0 | H9: 의존계 | I9: =SUM(I10:I14) -> 50683880 | J9: =IF(I9='16년3추 일입'!AB6,"OK","@@") -> OK | K9: =SUM(K10:K14) -> 50683880 | L9: =IF(I9=K9,"OK","@@") -> OK
A10: 국비 | B10: =SUMIFS('16년3추 일입'!$W$7:$W$602,'16년3추 일입'!$V$7:$V$602,'15년검증'!$A10) -> 9577901 | D10: =SUMIFS('16년 3추일출'!$Y$14:$Y$703,'16년 3추일출'!$X$14:$X$703,'15년검증'!$A10) -> 9577901 | E10: =IF(B10=D10,"OK","@@") -> OK | F10: =D10-B10 -> 0 | H10: 국비 | I10: =SUMIFS('16년3추 일입'!$AB$7:$AB$602,'16년3추 일입'!$AA$7:$AA$602,'15년검증'!$A10) -> 44965909 | K10: =SUMIFS('16년 3추일출'!$AD$14:$AD$703,'16년 3추일출'!$AC$14:$AC$703,'15년검증'!$A10) -> 44965909 | L10: =IF(I10=K10,"OK","@@") -> OK | M10: =K10-I10 -> 0
A11: 지특 | B11: =SUMIFS('16년3추 일입'!$W$7:$W$602,'16년3추 일입'!$V$7:$V$602,'15년검증'!$A11) -> 0 | D11: =SUMIFS('16년 3추일출'!$Y$14:$Y$703,'16년 3추일출'!$X$14:$X$703,'15년검증'!$A11) -> 0 | E11: =IF(B11=D11,"OK","@@") -> OK | F11: =D11-B11 -> 0 | H11: 지특 | I11: =SUMIFS('16년3추 일입'!$AB$7:$AB$602,'16년3추 일입'!$AA$7:$AA$602,'15년검증'!$A11) -> 0 | K11: =SUMIFS('16년 3추일출'!$AD$14:$AD$703,'16년 3추일출'!$AC$14:$AC$703,'15년검증'!$A11) -> 0 | L11: =IF(I11=K11,"OK","@@") -> OK | M11: =K11-I11 -> 0
A12: 기금 | B12: =SUMIFS('16년3추 일입'!$W$7:$W$602,'16년3추 일입'!$V$7:$V$602,'15년검증'!$A12) -> 50000 | D12: =SUMIFS('16년 3추일출'!$Y$14:$Y$703,'16년 3추일출'!$X$14:$X$703,'15년검증'!$A12) -> 50000 | E12: =IF(B12=D12,"OK","@@") -> OK | F12: =D12-B12 -> 0 | H12: 기금 | I12: =SUMIFS('16년3추 일입'!$AB$7:$AB$602,'16년3추 일입'!$AA$7:$AA$602,'15년검증'!$A12) -> 4640971 | K12: =SUMIFS('16년 3추일출'!$AD$14:$AD$703,'16년 3추일출'!$AC$14:$AC$703,'15년검증'!$A12) -> 4640971 | L12: =IF(I12=K12,"OK","@@") -> OK | M12: =K12-I12 -> 0
A13: 분권 | B13: =SUMIFS('16년3추 일입'!$W$7:$W$602,'16년3추 일입'!$V$7:$V$602,'15년검증'!$A13) -> 0 | D13: =SUMIFS('16년 3추일출'!$Y$14:$Y$703,'16년 3추일출'!$X$14:$X$703,'15년검증'!$A13) -> 0 | E13: =IF(B13=D13,"OK","@@") -> OK | F13: =D13-B13 -> 0 | H13: 분권 | I13: =SUMIFS('16년3추 일입'!$AB$7:$AB$602,'16년3추 일입'!$AA$7:$AA$602,'15년검증'!$A13) -> 0 | K13: =SUMIFS('16년 3추일출'!$AD$14:$AD$703,'16년 3추일출'!$AC$14:$AC$703,'15년검증'!$A13) -> 0 | L13: =IF(I13=K13,"OK","@@") -> OK | M13: =K13-I13 -> 0
A14: 특교 | B14: =SUMIFS('16년3추 일입'!$W$7:$W$602,'16년3추 일입'!$V$7:$V$602,'15년검증'!$A14) -> 1077000 | D14: =SUMIFS('16년 3추일출'!$Y$14:$Y$703,'16년 3추일출'!$X$14:$X$703,'15년검증'!$A14) -> 1077000 | E14: =IF(B14=D14,"OK","@@") -> OK | F14: =D14-B14 -> 0 | H14: 특교 | I14: =SUMIFS('16년3추 일입'!$AB$7:$AB$602,'16년3추 일입'!$AA$7:$AA$602,'15년검증'!$A14) -> 1077000 | K14: =SUMIFS('16년 3추일출'!$AD$14:$AD$703,'16년 3추일출'!$AC$14:$AC$703,'15년검증'!$A14) -> 1077000 | L14: =IF(I14=K14,"OK","@@") -> OK | M14: =K14-I14 -> 0
H16: 예비비 조정액 | I16: =IFERROR(INDEX('16년 3추일출'!AE14:AE703,MATCH("*예비비*",'16년 3추일출'!G14:G703,0)),"") -> 18800000
I18: =SUM(I5-K5) -> -70000
H20: 예비비 조정잔액 | I20: =IFERROR(SUM(J1+I16),"") -> 143482800

Sheet 2추검증
A1: 2회추경 검증 | H1: 2회추경 예비비 | J1: 22466366
M2: (단위 : 천원)
A3: 구 분 | B3: 상임위 | H3: 구 분 | I3: 예결위
B4: 세입 | C4: 검증 | D4: 세출 | E4: 검증 | F4: 차액 | I4: 세입 | J4: 검증 | K4: 세출 | L4: 검증 | M4: 차액
A5: 전체 총계 | B5: =SUM(B6,B9) -> #REF! | C5: =IF(B5=#REF!,"OK","@@") -> #REF! | D5: =SUM(D6,D9) -> #REF! | E5: =IF(D5=#REF!,"OK","@@") -> #REF! | H5: 전체 총계 | I5: =SUM(I6,I9) -> #REF! | J5: =IF(I5=#REF!,"OK","@@") -> #REF! | K5: =SUM(K6,K9) -> #REF! | L5: =IF(K5=#REF!,"OK","@@") -> #REF!
A6: 자체 총계 | B6: =SUM(B7:B8) -> #REF! | C6: =IF(B6=#REF!,"OK","@@") -> #REF! | D6: =SUM(D7:D8) -> #REF! | E6: =IF($D$6=#REF!,"OK","@@") -> #REF! | H6: 자체 총계 | I6: =SUM(I7:I8) -> #REF! | J6: =IF(I6=#REF!,"OK","@@") -> #REF! | K6: =SUM(K7:K8) -> #REF! | L6: =IF($K6=#REF!,"OK","@@") -> #REF!
A7: 자체 도비 | B7: =SUMIFS(#REF!,#REF!,"도비") -> #REF! | D7: =SUMIFS(#REF!,#REF!,"도비") -> #REF! | H7: 자체 도비 | I7: =SUMIFS(#REF!,#REF!,"도비") -> #REF! | K7: =SUMIFS(#REF!,#REF!,"도비") -> #REF!
A8: 의존 매칭 도비 | B8: =SUMIFS(#REF!,#REF!,"국비")+SUMIFS(#REF!,#REF!,"광특")+SUMIFS(#REF!,#REF!,"기금")+SUMIFS(#REF!,#REF!,"분권")+SUMIFS(#REF!,#REF!,"특교") -> #REF! | D8: =SUMIFS(#REF!,#REF!,"국비")+SUMIFS(#REF!,#REF!,"광특")+SUMIFS(#REF!,#REF!,"기금")+SUMIFS(#REF!,#REF!,"분권")+SUMIFS(#REF!,#REF!,"특교") -> #REF! | H8: 의존 매칭 도비 | I8: =SUMIFS(#REF!,#REF!,"국비")+SUMIFS(#REF!,#REF!,"광특")+SUMIFS(#REF!,#REF!,"기금")+SUMIFS(#REF!,#REF!,"분권")+SUMIFS(#REF!,#REF!,"특교") -> #REF! | K8: =SUMIFS(#REF!,#REF!,"국비")+SUMIFS(#REF!,#REF!,"광특")+SUMIFS(#REF!,#REF!,"기금")+SUMIFS(#REF!,#REF!,"분권")+SUMIFS(#REF!,#REF!,"특교") -> #REF!
A9: 의존계 | B9: =SUM(B10:B14) -> #REF! | C9: =IF(B9=#REF!,"OK","@@") -> #REF! | D9: =SUM(D10:D14) -> #REF! | E9: =IF(B9=D9,"OK","@@") -> #REF! | F9: =D9-B9 -> #REF! | H9: 의존계 | I9: =SUM(I10:I14) -> #REF! | J9: =IF(I9=#REF!,"OK","@@") -> #REF! | K9: =SUM(K10:K14) -> #REF! | L9: =IF(I9=K9,"OK","@@") -> #REF! | M9: =K9-I9 -> #REF!
A10: 국비 | B10: =SUMIFS(#REF!,#REF!,'2추검증'!$A10) -> #REF! | D10: =SUMIFS(#REF!,#REF!,'2추검증'!$A10) -> #REF! | E10: =IF(B10=D10,"OK","@@") -> #REF! | F10: =D10-B10 -> #REF! | H10: 국비 | I10: =SUMIFS(#REF!,#REF!,'2추검증'!$A10) -> #REF! | K10: =SUMIFS(#REF!,#REF!,'2추검증'!$A10) -> #REF! | L10: =IF(I10=K10,"OK","@@") -> #REF! | M10: =K10-I10 -> #REF!
A11: 광특 | B11: =SUMIFS(#REF!,#REF!,'2추검증'!$A11) -> #REF! | D11: =SUMIFS(#REF!,#REF!,'2추검증'!$A11) -> #REF! | E11: =IF(B11=D11,"OK","@@") -> #REF! | F11: =D11-B11 -> #REF! | H11: 광특 | I11: =SUMIFS(#REF!,#REF!,'2추검증'!$A11) -> #REF! | K11: =SUMIFS(#REF!,#REF!,'2추검증'!$A11) -> #REF! | L11: =IF(I11=K11,"OK","@@") -> #REF! | M11: =K11-I11 -> #REF!
A12: 기금 | B12: =SUMIFS(#REF!,#REF!,'2추검증'!$A12) -> #REF! | D12: =SUMIFS(#REF!,#REF!,'2추검증'!$A12) -> #REF! | E12: =IF(B12=D12,"OK","@@") -> #REF! | F12: =D12-B12 -> #REF! | H12: 기금 | I12: =SUMIFS(#REF!,#REF!,'2추검증'!$A12) -> #REF! | K12: =SUMIFS(#REF!,#REF!,'2추검증'!$A12) -> #REF! | L12: =IF(I12=K12,"OK","@@") -> #REF! | M12: =K12-I12 -> #REF!
A13: 분권 | B13: =SUMIFS(#REF!,#REF!,'2추검증'!$A13) -> #REF! | D13: =SUMIFS(#REF!,#REF!,'2추검증'!$A13) -> #REF! | E13: =IF(B13=D13,"OK","@@") -> #REF! | F13: =D13-B13 -> #REF! | H13: 분권 | I13: =SUMIFS(#REF!,#REF!,'2추검증'!$A13) -> #REF! | K13: =SUMIFS(#REF!,#REF!,'2추검증'!$A13) -> #REF! | L13: =IF(I13=K13,"OK","@@") -> #REF! | M13: =K13-I13 -> #REF!
A14: 특교 | B14: =SUMIFS(#REF!,#REF!,'2추검증'!$A14) -> #REF! | D14: =SUMIFS(#REF!,#REF!,'2추검증'!$A14) -> #REF! | E14: =IF(B14=D14,"OK","@@") -> #REF! | F14: =D14-B14 -> #REF! | H14: 특교 | I14: =SUMIFS(#REF!,#REF!,'2추검증'!$A14) -> #REF! | K14: =SUMIFS(#REF!,#REF!,'2추검증'!$A14) -> #REF! | L14: =IF(I14=K14,"OK","@@") -> #REF! | M14: =K14-I14 -> #REF!
H16: 예비비 조정액 | I16: =IFERROR(INDEX(#REF!,MATCH("*예비비*",#REF!,0)),"")
I18: =SUM(I5-K5) -> #REF!
H20: 예비비 조정잔액 | I20: =IFERROR(SUM(J1-I16),"")

Sheet 상임 표지
D2: 2014년도 제2회 일반회계 및 특별회계 추가경정 세입·세출 예산안
D4: 상 임 위 계 수 조 정 결 과
D16: 예산결산특별위원회

Sheet 표지
D2: 2014년도 제2회 일반회계 및 특별회계 추가경정 세입·세출 예산안
A4: 예결위 계수조정 결과
D16: 예산결산특별위원회

Sheet 예결 표지
B5: 2016년도 제3회 일반회계 및 특별회계 추가경정 세입·세출 예산안
B7: 예결위 계수조정 결과
B33: 예산결산특별위원회

Sheet 예결 표지(가로)
B3: 2016년도 제3회 일반회계 및 특별회계 추가경정 세입·세출 예산안
B5: 예결위 계수조정 결과
B24: 예산결산특별위원회

Sheet 15년총괄표
B1: 2015년도 경기도 일반 및 특별회계 세입·세출 예산안[전체예산총괄]
B3: □ 총 괄 | D3: 세입예산증감 | E3: =SUM(D7:E7) -> 64242035 | F3: 세출예산증감 | G3: =SUM(F7:G7) -> 64312035
H4: (단위:천원) | M4: (일반+특별+기금) | O4: 특별+기금
B5: 구 분 | C5: 집행부제출(안) | D5: 세입예산(안) | F5: 세출예산(안) | H5: 예산수정(안) | I5: 일반회계 증감(총괄표) | K5: 예비비증감 | L5: 비 고 | M5: 전체 증감(시트) | O5: 비고
D6: 감 액 | E6: 증 액 | F6: 감 액 | G6: 증 액 | I6: 세입 | J6: 세출 | M6: 세입 | N6: 세출
B7: 합 계 | C7: =SUM(C8:C18) -> 17818538715 | D7: =SUM(D8:D18) -> -479788 | E7: =SUM(E8:E18) -> 64721823 | F7: =SUM(F8:F18) -> -28611606 | G7: =SUM(G8:G18) -> 92923641 | H7: =SUM(H8:H18) -> 17882850750 | I7: =E25+D25 -> 64242035 | J7: =F25+G25 -> 64242035 | K7: =I7-J7 -> 0 | L7: 예비비 증감이 - 예산이면 감액에 + 예산이면 증액에 입력 | M7: =D24+E24 -> 64242035 | N7: =F24+G24 -> 64242035 | O7: 0 | P7: 0
B8: 기 타 | C8: 0 | H8: =C8-F8+G8 -> 0 | I8: =D7+E7 -> 64242035 | J8: =F7+G7 -> 64312035 | K8: =I8-J8 -> -70000
B9: 의회운영위원회 | C9: 43594098 | D9: =SUMIFS('16년3추 일입'!$N$7:$N$602,'16년3추 일입'!$A$7:$A$602,'15년총괄표'!$B9) -> 0 | E9: =SUMIFS('16년3추 일입'!$O$7:$O$602,'16년3추 일입'!$A$7:$A$602,'15년총괄표'!$B9) -> 0 | F9: =SUMIFS('16년 3추일출'!$N$14:$N$703,'16년 3추일출'!$A$14:$A$703,'15년총괄표'!$B9) -> 0 | G9: =SUMIFS('16년 3추일출'!$O$14:$O$703,'16년 3추일출'!$A$14:$A$703,'15년총괄표'!$B9) -> 0 | H9: =C9+F9+G9 -> 43594098 | I9: 일반회계 증감(시트) | N9: 전체 증감
B10: 기획재정위원회 | C10: 5206191432 | D10: =SUMIFS('16년3추 일입'!$N$7:$N$602,'16년3추 일입'!$A$7:$A$602,'15년총괄표'!$B10) -> 0 | E10: =SUMIFS('16년3추 일입'!$O$7:$O$602,'16년3추 일입'!$A$7:$A$602,'15년총괄표'!$B10) -> 13772000 | F10: =SUMIFS('16년 3추일출'!$N$14:$N$703,'16년 3추일출'!$A$14:$A$703,'15년총괄표'!$B10) -> -73360 | G10: =SUMIFS('16년 3추일출'!$O$14:$O$703,'16년 3추일출'!$A$14:$A$703,'15년총괄표'!$B10) -> 21730772 | H10: =C10+F10+G10 -> 5227848844 | I10: =#REF!+#REF! -> #REF! | J10: =#REF!+#REF! -> #REF! | N10: =M7-N7 -> 0
B11: 경제과학기술위원회 | C11: 506163851 | D11: =SUMIFS('16년3추 일입'!$N$7:$N$602,'16년3추 일입'!$A$7:$A$602,'15년총괄표'!$B11) -> 0 | E11: =SUMIFS('16년3추 일입'!$O$7:$O$602,'16년3추 일입'!$A$7:$A$602,'15년총괄표'!$B11) -> 0 | F11: =SUMIFS('16년 3추일출'!$N$14:$N$703,'16년 3추일출'!$A$14:$A$703,'15년총괄표'!$B11) -> -4000000 | G11: =SUMIFS('16년 3추일출'!$O$14:$O$703,'16년 3추일출'!$A$14:$A$703,'15년총괄표'!$B11) -> 2650000 | H11: =C11+F11+G11 -> 504813851
B12: 안전행정위원회 | C12: 1207474631 | D12: =SUMIFS('16년3추 일입'!$N$7:$N$602,'16년3추 일입'!$A$7:$A$602,'15년총괄표'!$B12) -> -4236 | E12: =SUMIFS('16년3추 일입'!$O$7:$O$602,'16년3추 일입'!$A$7:$A$602,'15년총괄표'!$B12) -> 77000 | F12: =SUMIFS('16년 3추일출'!$N$14:$N$703,'16년 3추일출'!$A$14:$A$703,'15년총괄표'!$B12) -> -250000 | G12: =SUMIFS('16년 3추일출'!$O$14:$O$703,'16년 3추일출'!$A$14:$A$703,'15년총괄표'!$B12) -> 901843 | H12: =C12+F12+G12 -> 1208126474
B13: 문화체육관광위원회 | C13: 309073261 | D13: =SUMIFS('16년3추 일입'!$N$7:$N$602,'16년3추 일입'!$A$7:$A$602,'15년총괄표'!$B13) -> 0 | E13: =SUMIFS('16년3추 일입'!$O$7:$O$602,'16년3추 일입'!$A$7:$A$602,'15년총괄표'!$B13) -> 0 | F13: =SUMIFS('16년 3추일출'!$N$14:$N$703,'16년 3추일출'!$A$14:$A$703,'15년총괄표'!$B13) -> 0 | G13: =SUMIFS('16년 3추일출'!$O$14:$O$703,'16년 3추일출'!$A$14:$A$703,'15년총괄표'!$B13) -> 240000 | H13: =C13+F13+G13 -> 309313261 | N13: 기금
B14: 농정해양위원회 | C14: 442431566 | D14: =SUMIFS('16년3추 일입'!$N$7:$N$602,'16년3추 일입'!$A$7:$A$602,'15년총괄표'!$B14) -> -4159 | E14: =SUMIFS('16년3추 일입'!$O$7:$O$602,'16년3추 일입'!$A$7:$A$602,'15년총괄표'!$B14) -> 3854402 | F14: =SUMIFS('16년 3추일출'!$N$14:$N$703,'16년 3추일출'!$A$14:$A$703,'15년총괄표'!$B14) -> -126594 | G14: =SUMIFS('16년 3추일출'!$O$14:$O$703,'16년 3추일출'!$A$14:$A$703,'15년총괄표'!$B14) -> 4320157 | H14: =C14+F14+G14 -> 446625129 | N14: =N10-K7 -> 0
B15: 보건복지위원회 | C15: 3621498611 | D15: =SUMIFS('16년3추 일입'!$N$7:$N$602,'16년3추 일입'!$A$7:$A$602,'15년총괄표'!$B15) -> -55000 | E15: =SUMIFS('16년3추 일입'!$O$7:$O$602,'16년3추 일입'!$A$7:$A$602,'15년총괄표'!$B15) -> 26400229 | F15: =SUMIFS('16년 3추일출'!$N$14:$N$703,'16년 3추일출'!$A$14:$A$703,'15년총괄표'!$B15) -> -474685 | G15: =SUMIFS('16년 3추일출'!$O$14:$O$703,'16년 3추일출'!$A$14:$A$703,'15년총괄표'!$B15) -> 33422682 | H15: =C15+F15+G15 -> 3654446608
B16: 건설교통위원회 | C16: 1291490754 | D16: =SUMIFS('16년3추 일입'!$N$7:$N$602,'16년3추 일입'!$A$7:$A$602,'15년총괄표'!$B16) -> 0 | E16: =SUMIFS('16년3추 일입'!$O$7:$O$602,'16년3추 일입'!$A$7:$A$602,'15년총괄표'!$B16) -> 800000 | F16: =SUMIFS('16년 3추일출'!$N$14:$N$703,'16년 3추일출'!$A$14:$A$703,'15년총괄표'!$B16) -> -4650000 | G16: =SUMIFS('16년 3추일출'!$O$14:$O$703,'16년 3추일출'!$A$14:$A$703,'15년총괄표'!$B16) -> 4078200 | H16: =C16+F16+G16 -> 1290918954
B17: 도시환경위원회 | C17: 1095793534 | D17: =SUMIFS('16년3추 일입'!$N$7:$N$602,'16년3추 일입'!$A$7:$A$602,'15년총괄표'!$B17) -> -413744 | E17: =SUMIFS('16년3추 일입'!$O$7:$O$602,'16년3추 일입'!$A$7:$A$602,'15년총괄표'!$B17) -> 54000 | F17: =SUMIFS('16년 3추일출'!$N$14:$N$703,'16년 3추일출'!$A$14:$A$703,'15년총괄표'!$B17) -> -200000 | G17: =SUMIFS('16년 3추일출'!$O$14:$O$703,'16년 3추일출'!$A$14:$A$703,'15년총괄표'!$B17) -> 754000 | H17: =C17+F17+G17 -> 1096347534
B18: 여성가족교육협력위원회 | C18: 4094826977 | D18: =SUMIFS('16년3추 일입'!$N$7:$N$602,'16년3추 일입'!$A$7:$A$602,'15년총괄표'!$B18) -> -2649 | E18: =SUMIFS('16년3추 일입'!$O$7:$O$602,'16년3추 일입'!$A$7:$A$602,'15년총괄표'!$B18) -> 19764192 | F18: =SUMIFS('16년 3추일출'!$N$14:$N$703,'16년 3추일출'!$A$14:$A$703,'15년총괄표'!$B18) -> -18836967 | G18: =SUMIFS('16년 3추일출'!$O$14:$O$703,'16년 3추일출'!$A$14:$A$703,'15년총괄표'!$B18) -> 24825987 | H18: =C18+F18+G18 -> 4100815997
B20: □ 회계별 예산총규모
H21: (단위:천원)
B22: 구 분 | C22: 세출예산액 (집행부제출 안) | D22: 세입예산(안) | F22: 세출예산(안) | H22: 예산수정(안)
D23: 감 액 | E23: 증 액 | F23: 감 액 | G23: 증 액 | I23: 세입기준 수정예산안
B24: 합 계 | C24: =SUM(C25:C26) -> 17818538715 | D24: =SUM(D25:D26) -> -479788 | E24: =SUM(E25:E26) -> 64721823 | F24: =SUM(F25:F26) -> -28681606 | G24: =SUM(G25:G26) -> 92923641 | H24: =SUM(H25:H26) -> 17882780750 | I24: =C24+D24+E24 -> 17882780750 | J24: =I24-H24 -> 0 | K24: (세출기준-세입기준)
B25: 일반회계 | C25: 14504760931 | D25: ='16년3추 일입'!$N$6 -> -479788 | E25: ='16년3추 일입'!$O$6 -> 64721823 | F25: ='16년 3추일출'!$N$6 -> -28681606 | G25: ='16년 3추일출'!$O$6 -> 92923641 | H25: =C25+F25+G25 -> 14569002966 | I25: =C25+D25+E25 -> 14569002966 | J25: =I25-H25 -> 0 | K25: (세출기준-세입기준)
B26: 특별회계 | C26: 3313777784 | H26: =C26+F26+G26 -> 3313777784 | I26: =C26+D26+E26 -> 3313777784 | J26: =I26-H26 -> 0 | K26: (세출기준-세입기준)
B30: 위원회명 | C30: 일반+기특 | D30: 공기업 | E30: 합계
B31: 의회운영위원회 | C31: 39922113 | E31: =SUM(C31:D31) -> 39922113
B32: 기획재정위원회 | C32: 3302571667 | D32: 1780946434 | E32: =SUM(C32:D32) -> 5083518101
B33: 경제과학기술위원회 | C33: 155329320 | D33: 384743740 | E33: =SUM(C33:D33) -> 540073060
B34: 안전행정위원회 | C34: 1142858974 | E34: =SUM(C34:D34) -> 1142858974
B35: 문화체육관광위원회 | C35: 224243208 | D35: 52484400 | E35: =SUM(C35:D35) -> 276727608
B36: 농정해양위원회 | C36: 466978999 | E36: =SUM(C36:D36) -> 466978999
B37: 보건복지위원회 | C37: 3254006708 | E37: =SUM(C37:D37) -> 3254006708
B38: 건설교통위원회 | C38: 1220859831 | E38: =SUM(C38:D38) -> 1220859831
B39: 도시환경위원회 | C39: 866963933 | D39: 28360000 | E39: =SUM(C39:D39) -> 895323933
B40: 여성가족평생교육위원회 | C40: 4882582917 | E40: =SUM(C40:D40) -> 4882582917
B41: 총합계 | C41: =SUM(C31:C40) -> 15556317670 | D41: =SUM(D31:D40) -> 2246534574 | E41: =SUM(C41:D41) -> 17802852244
B43: 예비비 | C43: =3922478-221377 -> 3701101
B54: 위원회명 | C54: 일반 | D54: 기특 | E54: 공특 | F54: 합계
B56: 총합계 | C56: =SUM(C57:C66) -> 14504760931 | D56: =SUM(D57:D66) -> 1174065395 | E56: =SUM(E57:E66) -> 2139712389 | F56: =SUM(C56:E56) -> 17818538715
B57: 의회운영위원회 | C57: 43594098 | F57: =SUM(C57:E57) -> 43594098
...

Sheet 15년총괄표(실국별)
B1: 2015년도 경기도 일반 및 특별회계 세입·세출 예산안[전체예산총괄]
B3: □ 총괄(실국별) | E3: =SUM(D7:E7) -> 64242035 | G3: =SUM(F7:G7) -> 64312035
H4: (단위:천원) | M4: (일반+특별+기금) | O4: 특별+기금
B5: 구 분 | C5: 집행부제출(안) | D5: 세입예산(안) | F5: 세출예산(안) | H5: 예산수정(안) | I5: 일반회계 증감(총괄표) | K5: 예비비증감 | L5: 비 고 | M5: 전체 증감(시트) | O5: 비고
D6: 감 액 | E6: 증 액 | F6: 감 액 | G6: 증 액 | I6: 세입 | J6: 세출 | M6: 세입 | N6: 세출
B7: 합 계 | C7: =SUM(C8:C33) -> 17818538715 | D7: =SUM(D8:D33) -> -479788 | E7: =SUM(E8:E33) -> 64721823 | F7: =SUM(F8:F33) -> -28611606 | G7: =SUM(G8:G33) -> 92923641 | H7: =SUM(H8:H33) -> 17882850750 | I7: =#REF!+#REF! -> #REF! | J7: =#REF!+#REF! -> #REF! | K7: =I7-J7 -> #REF! | L7: 예비비 증감이 - 예산이면 감액에 + 예산이면 증액에 입력 | M7: =#REF!+#REF! -> #REF! | N7: =#REF!+#REF! -> #REF! | O7: 0 | P7: 0
B8: 감사관 | C8: 1230140 | D8: =SUMIFS('16년3추 일입'!$N$7:$N$602,'16년3추 일입'!$B$7:$B$602,'15년총괄표(실국별)'!$B8) -> 0 | E8: =SUMIFS('16년3추 일입'!$O$7:$O$602,'16년3추 일입'!$B$7:$B$602,'15년총괄표(실국별)'!$B8) -> 0 | F8: =SUMIFS('16년 3추일출'!$N$14:$N$703,'16년 3추일출'!$B$14:$B$703,'15년총괄표(실국별)'!$B8) -> -3360 | G8: =SUMIFS('16년 3추일출'!$O$14:$O$703,'16년 3추일출'!$B$14:$B$703,'15년총괄표(실국별)'!$B8) -> 0 | H8: =C8+F8+G8 -> 1226780 | I8: 일반회계 증감(시트) | N8: 전체 증감
B9: 기획조정실 | C9: 4995050831 | D9: =SUMIFS('16년3추 일입'!$N$7:$N$602,'16년3추 일입'!$B$7:$B$602,'15년총괄표(실국별)'!$B9) -> 0 | E9: =SUMIFS('16년3추 일입'!$O$7:$O$602,'16년3추 일입'!$B$7:$B$602,'15년총괄표(실국별)'!$B9) -> 13772000 | F9: =SUMIFS('16년 3추일출'!$N$14:$N$703,'16년 3추일출'!$B$14:$B$703,'15년총괄표(실국별)'!$B9) -> -50000 | G9: =SUMIFS('16년 3추일출'!$O$14:$O$703,'16년 3추일출'!$B$14:$B$703,'15년총괄표(실국별)'!$B9) -> 21730772 | H9: =C9+F9+G9 -> 5016731603 | I9: =#REF!+#REF! -> #REF! | J9: =#REF!+#REF! -> #REF! | N9: =#REF!-#REF! -> #REF!
B10: 도시주택실 | C10: 350475445 | D10: =SUMIFS('16년3추 일입'!$N$7:$N$602,'16년3추 일입'!$B$7:$B$602,'15년총괄표(실국별)'!$B10) -> 0 | E10: =SUMIFS('16년3추 일입'!$O$7:$O$602,'16년3추 일입'!$B$7:$B$602,'15년총괄표(실국별)'!$B10) -> 0 | F10: =SUMIFS('16년 3추일출'!$N$14:$N$703,'16년 3추일출'!$B$14:$B$703,'15년총괄표(실국별)'!$B10) -> 0 | G10: =SUMIFS('16년 3추일출'!$O$14:$O$703,'16년 3추일출'!$B$14:$B$703,'15년총괄표(실국별)'!$B10) -> 0 | H10: =C10+F10+G10 -> 350475445 | I10: =#REF!+#REF! -> #REF! | J10: =#REF!+#REF! -> #REF! | N10: =#REF!-#REF! -> #REF!
B11: 자치행정국 | C11: 489102362 | D11: =SUMIFS('16년3추 일입'!$N$7:$N$602,'16년3추 일입'!$B$7:$B$602,'15년총괄표(실국별)'!$B11) -> 0 | E11: =SUMIFS('16년3추 일입'!$O$7:$O$602,'16년3추 일입'!$B$7:$B$602,'15년총괄표(실국별)'!$B11) -> 0 | F11: =SUMIFS('16년 3추일출'!$N$14:$N$703,'16년 3추일출'!$B$14:$B$703,'15년총괄표(실국별)'!$B11) -> 0 | G11: =SUMIFS('16년 3추일출'!$O$14:$O$703,'16년 3추일출'!$B$14:$B$703,'15년총괄표(실국별)'!$B11) -> 574843 | H11: =C11+F11+G11 -> 489677205
B12: 교육협력국 | C12: 2124399774 | D12: =SUMIFS('16년3추 일입'!$N$7:$N$602,'16년3추 일입'!$B$7:$B$602,'15년총괄표(실국별)'!$B12) -> 0 | E12: =SUMIFS('16년3추 일입'!$O$7:$O$602,'16년3추 일입'!$B$7:$B$602,'15년총괄표(실국별)'!$B12) -> 0 | F12: =SUMIFS('16년 3추일출'!$N$14:$N$703,'16년 3추일출'!$B$14:$B$703,'15년총괄표(실국별)'!$B12) -> -18800000 | G12: =SUMIFS('16년 3추일출'!$O$14:$O$703,'16년 3추일출'!$B$14:$B$703,'15년총괄표(실국별)'!$B12) -> 0 | H12: =C12+F12+G12 -> 2105599774
B13: 문화체육관광국 | C13: 309073261 | D13: =SUMIFS('16년3추 일입'!$N$7:$N$602,'16년3추 일입'!$B$7:$B$602,'15년총괄표(실국별)'!$B13) -> 0 | E13: =SUMIFS('16년3추 일입'!$O$7:$O$602,'16년3추 일입'!$B$7:$B$602,'15년총괄표(실국별)'!$B13) -> 0 | F13: =SUMIFS('16년 3추일출'!$N$14:$N$703,'16년 3추일출'!$B$14:$B$703,'15년총괄표(실국별)'!$B13) -> 0 | G13: =SUMIFS('16년 3추일출'!$O$14:$O$703,'16년 3추일출'!$B$14:$B$703,'15년총괄표(실국별)'!$B13) -> 240000 | H13: =C13+F13+G13 -> 309313261 | N13: 기금
B14: 농정해양국 | C14: 255604029 | D14: =SUMIFS('16년3추 일입'!$N$7:$N$602,'16년3추 일입'!$B$7:$B$602,'15년총괄표(실국별)'!$B14) -> 0 | E14: =SUMIFS('16년3추 일입'!$O$7:$O$602,'16년3추 일입'!$B$7:$B$602,'15년총괄표(실국별)'!$B14) -> 1500000 | F14: =SUMIFS('16년 3추일출'!$N$14:$N$703,'16년 3추일출'!$B$14:$B$703,'15년총괄표(실국별)'!$B14) -> -100000 | G14: =SUMIFS('16년 3추일출'!$O$14:$O$703,'16년 3추일출'!$B$14:$B$703,'15년총괄표(실국별)'!$B14) -> 1600000 | H14: =C14+F14+G14 -> 257104029 | N14: =N10-#REF! -> #REF!
B15: 철도국 | C15: 205393587 | D15: =SUMIFS('16년3추 일입'!$N$7:$N$602,'16년3추 일입'!$B$7:$B$602,'15년총괄표(실국별)'!$B15) -> 0 | E15: =SUMIFS('16년3추 일입'!$O$7:$O$602,'16년3추 일입'!$B$7:$B$602,'15년총괄표(실국별)'!$B15) -> 0 | F15: =SUMIFS('16년 3추일출'!$N$14:$N$703,'16년 3추일출'!$B$14:$B$703,'15년총괄표(실국별)'!$B15) -> 0 | G15: =SUMIFS('16년 3추일출'!$O$14:$O$703,'16년 3추일출'!$B$14:$B$703,'15년총괄표(실국별)'!$B15) -> 0 | H15: =C15+F15+G15 -> 205393587
B16: 재난안전본부 | C16: 694104955 | D16: =SUMIFS('16년3추 일입'!$N$7:$N$602,'16년3추 일입'!$B$7:$B$602,'15년총괄표(실국별)'!$B16) -> -4236 | E16: =SUMIFS('16년3추 일입'!$O$7:$O$602,'16년3추 일입'!$B$7:$B$602,'15년총괄표(실국별)'!$B16) -> 77000 | F16: =SUMIFS('16년 3추일출'!$N$14:$N$703,'16년 3추일출'!$B$14:$B$703,'15년총괄표(실국별)'!$B16) -> -250000 | G16: =SUMIFS('16년 3추일출'!$O$14:$O$703,'16년 3추일출'!$B$14:$B$703,'15년총괄표(실국별)'!$B16) -> 327000 | H16: =C16+F16+G16 -> 694181955
B17: 의회사무처 | C17: 30412373 | D17: =SUMIFS('16년3추 일입'!$N$7:$N$602,'16년3추 일입'!$B$7:$B$602,'15년총괄표(실국별)'!$B17) -> 0 | E17: =SUMIFS('16년3추 일입'!$O$7:$O$602,'16년3추 일입'!$B$7:$B$602,'15년총괄표(실국별)'!$B17) -> 0 | F17: =SUMIFS('16년 3추일출'!$N$14:$N$703,'16년 3추일출'!$B$14:$B$703,'15년총괄표(실국별)'!$B17) -> 0 | G17: =SUMIFS('16년 3추일출'!$O$14:$O$703,'16년 3추일출'!$B$14:$B$703,'15년총괄표(실국별)'!$B17) -> 0 | H17: =C17+F17+G17 -> 30412373
B18: 대변인 | C18: 12731214 | D18: =SUMIFS('16년3추 일입'!$N$7:$N$602,'16년3추 일입'!$B$7:$B$602,'15년총괄표(실국별)'!$B18) -> 0 | E18: =SUMIFS('16년3추 일입'!$O$7:$O$602,'16년3추 일입'!$B$7:$B$602,'15년총괄표(실국별)'!$B18) -> 0 | F18: =SUMIFS('16년 3추일출'!$N$14:$N$703,'16년 3추일출'!$B$14:$B$703,'15년총괄표(실국별)'!$B18) -> 0 | G18: =SUMIFS('16년 3추일출'!$O$14:$O$703,'16년 3추일출'!$B$14:$B$703,'15년총괄표(실국별)'!$B18) -> 0 | H18: =C18+F18+G18 -> 12731214 | I18: =#REF!+#REF! -> #REF! | J18: =#REF!+#REF! -> #REF! | N18: =#REF!-#REF! -> #REF!
B19: 대외협력담당관 | C19: 450511 | D19: =SUMIFS('16년3추 일입'!$N$7:$N$602,'16년3추 일입'!$B$7:$B$602,'15년총괄표(실국별)'!$B19) -> 0 | E19: =SUMIFS('16년3추 일입'!$O$7:$O$602,'16년3추 일입'!$B$7:$B$602,'15년총괄표(실국별)'!$B19) -> 0 | F19: =SUMIFS('16년 3추일출'!$N$14:$N$703,'16년 3추일출'!$B$14:$B$703,'15년총괄표(실국별)'!$B19) -> 0 | G19: =SUMIFS('16년 3추일출'!$O$14:$O$703,'16년 3추일출'!$B$14:$B$703,'15년총괄표(실국별)'!$B19) -> 0 | H19: =C19+F19+G19 -> 450511
B20: 보건복지국 | C20: 2803637639 | D20: =SUMIFS('16년3추 일입'!$N$7:$N$602,'16년3추 일입'!$B$7:$B$602,'15년총괄표(실국별)'!$B20) -> -55000 | E20: =SUMIFS('16년3추 일입'!$O$7:$O$602,'16년3추 일입'!$B$7:$B$602,'15년총괄표(실국별)'!$B20) -> 26400229 | F20: =SUMIFS('16년 3추일출'!$N$14:$N$703,'16년 3추일출'!$B$14:$B$703,'15년총괄표(실국별)'!$B20) -> -456535 | G20: =SUMIFS('16년 3추일출'!$O$14:$O$703,'16년 3추일출'!$B$14:$B$703,'15년총괄표(실국별)'!$B20) -> 25705722 | H20: =C20+F20+G20 -> 2828886826
B21: 환경국 | C21: 96522924 | D21: =SUMIFS('16년3추 일입'!$N$7:$N$602,'16년3추 일입'!$B$7:$B$602,'15년총괄표(실국별)'!$B21) -> 0 | E21: =SUMIFS('16년3추 일입'!$O$7:$O$602,'16년3추 일입'!$B$7:$B$602,'15년총괄표(실국별)'!$B21) -> 54000 | F21: =SUMIFS('16년 3추일출'!$N$14:$N$703,'16년 3추일출'!$B$14:$B$703,'15년총괄표(실국별)'!$B21) -> -200000 | G21: =SUMIFS('16년 3추일출'!$O$14:$O$703,'16년 3추일출'!$B$14:$B$703,'15년총괄표(실국별)'!$B21) -> 254000 | H21: =C21+F21+G21 -> 96576924 | N21: 기금
B22: 여성가족국 | C22: 1454395771 | D22: =SUMIFS('16년3추 일입'!$N$7:$N$602,'16년3추 일입'!$B$7:$B$602,'15년총괄표(실국별)'!$B22) -> -2649 | E22: =SUMIFS('16년3추 일입'!$O$7:$O$602,'16년3추 일입'!$B$7:$B$602,'15년총괄표(실국별)'!$B22) -> 19764192 | F22: =SUMIFS('16년 3추일출'!$N$14:$N$703,'16년 3추일출'!$B$14:$B$703,'15년총괄표(실국별)'!$B22) -> -33217 | G22: =SUMIFS('16년 3추일출'!$O$14:$O$703,'16년 3추일출'!$B$14:$B$703,'15년총괄표(실국별)'!$B22) -> 18284469 | H22: =C22+F22+G22 -> 1472647023 | N22: =N18-#REF! -> #REF!
B23: 농업기술원 | C23: 35645539 | D23: =SUMIFS('16년3추 일입'!$N$7:$N$602,'16년3추 일입'!$B$7:$B$602,'15년총괄표(실국별)'!$B23) -> 0 | E23: =SUMIFS('16년3추 일입'!$O$7:$O$602,'16년3추 일입'!$B$7:$B$602,'15년총괄표(실국별)'!$B23) -> 0 | F23: =SUMIFS('16년 3추일출'!$N$14:$N$703,'16년 3추일출'!$B$14:$B$703,'15년총괄표(실국별)'!$B23) -> -26594 | G23: =SUMIFS('16년 3추일출'!$O$14:$O$703,'16년 3추일출'!$B$14:$B$703,'15년총괄표(실국별)'!$B23) -> 0 | H23: =C23+F23+G23 -> 35618945
B24: 인재개발원 | C24: 10314647 | D24: =SUMIFS('16년3추 일입'!$N$7:$N$602,'16년3추 일입'!$B$7:$B$602,'15년총괄표(실국별)'!$B24) -> 0 | E24: =SUMIFS('16년3추 일입'!$O$7:$O$602,'16년3추 일입'!$B$7:$B$602,'15년총괄표(실국별)'!$B24) -> 0 | F24: =SUMIFS('16년 3추일출'!$N$14:$N$703,'16년 3추일출'!$B$14:$B$703,'15년총괄표(실국별)'!$B24) -> 0 | G24: =SUMIFS('16년 3추일출'!$O$14:$O$703,'16년 3추일출'!$B$14:$B$703,'15년총괄표(실국별)'!$B24) -> 0 | H24: =C24+F24+G24 -> 10314647
B25: 보건환경연구원 | C25: 8202067 | D25: =SUMIFS('16년3추 일입'!$N$7:$N$602,'16년3추 일입'!$B$7:$B$602,'15년총괄표(실국별)'!$B25) -> 0 | E25: =SUMIFS('16년3추 일입'!$O$7:$O$602,'16년3추 일입'!$B$7:$B$602,'15년총괄표(실국별)'!$B25) -> 0 | F25: =SUMIFS('16년 3추일출'!$N$14:$N$703,'16년 3추일출'!$B$14:$B$703,'15년총괄표(실국별)'!$B25) -> 0 | G25: =SUMIFS('16년 3추일출'!$O$14:$O$703,'16년 3추일출'!$B$14:$B$703,'15년총괄표(실국별)'!$B25) -> 0 | H25: =C25+F25+G25 -> 8202067
B26: 수자원본부 | C26: 631831527 | D26: =SUMIFS('16년3추 일입'!$N$7:$N$602,'16년3추 일입'!$B$7:$B$602,'15년총괄표(실국별)'!$B26) -> -413744 | E26: =SUMIFS('16년3추 일입'!$O$7:$O$602,'16년3추 일입'!$B$7:$B$602,'15년총괄표(실국별)'!$B26) -> 0 | F26: =SUMIFS('16년 3추일출'!$N$14:$N$703,'16년 3추일출'!$B$14:$B$703,'15년총괄표(실국별)'!$B26) -> 0 | G26: =SUMIFS('16년 3추일출'!$O$14:$O$703,'16년 3추일출'!$B$14:$B$703,'15년총괄표(실국별)'!$B26) -> 0 | H26: =C26+F26+G26 -> 631831527 | I26: =#REF!+#REF! -> #REF! | J26: =#REF!+#REF! -> #REF! | N26: =M2-N2 -> 0
B27: 복지여성실 | C27: 1328409175 | D27: =SUMIFS('16년3추 일입'!$N$7:$N$602,'16년3추 일입'!$B$7:$B$602,'15년총괄표(실국별)'!$B27) -> 0 | E27: =SUMIFS('16년3추 일입'!$O$7:$O$602,'16년3추 일입'!$B$7:$B$602,'15년총괄표(실국별)'!$B27) -> 0 | F27: =SUMIFS('16년 3추일출'!$N$14:$N$703,'16년 3추일출'!$B$14:$B$703,'15년총괄표(실국별)'!$B27) -> -21900 | G27: =SUMIFS('16년 3추일출'!$O$14:$O$703,'16년 3추일출'!$B$14:$B$703,'15년총괄표(실국별)'!$B27) -> 14258478 | H27: =C27+F27+G27 -> 1342645753
B28: 균형발전기획실 | C28: 223863128 | D28: =SUMIFS('16년3추 일입'!$N$7:$N$602,'16년3추 일입'!$B$7:$B$602,'15년총괄표(실국별)'!$B28) -> 0 | E28: =SUMIFS('16년3추 일입'!$O$7:$O$602,'16년3추 일입'!$B$7:$B$602,'15년총괄표(실국별)'!$B28) -> 0 | F28: =SUMIFS('16년 3추일출'!$N$14:$N$703,'16년 3추일출'!$B$14:$B$703,'15년총괄표(실국별)'!$B28) -> -20000 | G28: =SUMIFS('16년 3추일출'!$O$14:$O$703,'16년 3추일출'!$B$14:$B$703,'15년총괄표(실국별)'!$B28) -> 0 | H28: =C28+F28+G28 -> 223843128
B29: 경제실 | C29: 506163851 | D29: =SUMIFS('16년3추 일입'!$N$7:$N$602,'16년3추 일입'!$B$7:$B$602,'15년총괄표(실국별)'!$B29) -> 0 | E29: =SUMIFS('16년3추 일입'!$O$7:$O$602,'16년3추 일입'!$B$7:$B$602,'15년총괄표(실국별)'!$B29) -> 0 | F29: =SUMIFS('16년 3추일출'!$N$14:$N$703,'16년 3추일출'!$B$14:$B$703,'15년총괄표(실국별)'!$B29) -> -4000000 | G29: =SUMIFS('16년 3추일출'!$O$14:$O$703,'16년 3추일출'!$B$14:$B$703,'15년총괄표(실국별)'!$B29) -> 2650000 | H29: =C29+F29+G29 -> 504813851 | N29: 기금
B30: 축산산림국 | C30: 165426798 | D30: =SUMIFS('16년3추 일입'!$N$7:$N$602,'16년3추 일입'!$B$7:$B$602,'15년총괄표(실국별)'!$B30) -> -4159 | E30: =SUMIFS('16년3추 일입'!$O$7:$O$602,'16년3추 일입'!$B$7:$B$602,'15년총괄표(실국별)'!$B30) -> 2354402 | F30: =SUMIFS('16년 3추일출'!$N$14:$N$703,'16년 3추일출'!$B$14:$B$703,'15년총괄표(실국별)'!$B30) -> 0 | G30: =SUMIFS('16년 3추일출'!$O$14:$O$703,'16년 3추일출'!$B$14:$B$703,'15년총괄표(실국별)'!$B30) -> 3220157 | H30: =C30+F30+G30 -> 168646955 | N30: =N26-K2 -> 0
B31: 교통국 | C31: 466950444 | D31: =SUMIFS('16년3추 일입'!$N$7:$N$602,'16년3추 일입'!$B$7:$B$602,'15년총괄표(실국별)'!$B31) -> 0 | E31: =SUMIFS('16년3추 일입'!$O$7:$O$602,'16년3추 일입'!$B$7:$B$602,'15년총괄표(실국별)'!$B31) -> 0 | F31: =SUMIFS('16년 3추일출'!$N$14:$N$703,'16년 3추일출'!$B$14:$B$703,'15년총괄표(실국별)'!$B31) -> -4650000 | G31: =SUMIFS('16년 3추일출'!$O$14:$O$703,'16년 3추일출'!$B$14:$B$703,'15년총괄표(실국별)'!$B31) -> 0 | H31: =C31+F31+G31 -> 462300444 | I31: =#REF!+#REF! -> #REF! | J31: =#REF!+#REF! -> #REF! | N31: =M7-N7 -> #REF!
B32: 건설국 | C32: 570450422 | D32: =SUMIFS('16년3추 일입'!$N$7:$N$602,'16년3추 일입'!$B$7:$B$602,'15년총괄표(실국별)'!$B32) -> 0 | E32: =SUMIFS('16년3추 일입'!$O$7:$O$602,'16년3추 일입'!$B$7:$B$602,'15년총괄표(실국별)'!$B32) -> 0 | F32: =SUMIFS('16년 3추일출'!$N$14:$N$703,'16년 3추일출'!$B$14:$B$703,'15년총괄표(실국별)'!$B32) -> 0 | G32: =SUMIFS('16년 3추일출'!$O$14:$O$703,'16년 3추일출'!$B$14:$B$703,'15년총괄표(실국별)'!$B32) -> 3278200 | H32: =C32+F32+G32 -> 573728622
B33: 건설본부 | C33: 48696301 | D33: =SUMIFS('16년3추 일입'!$N$7:$N$602,'16년3추 일입'!$B$7:$B$602,'15년총괄표(실국별)'!$B33) -> 0 | E33: =SUMIFS('16년3추 일입'!$O$7:$O$602,'16년3추 일입'!$B$7:$B$602,'15년총괄표(실국별)'!$B33) -> 800000 | F33: =SUMIFS('16년 3추일출'!$N$14:$N$703,'16년 3추일출'!$B$14:$B$703,'15년총괄표(실국별)'!$B33) -> 0 | G33: =SUMIFS('16년 3추일출'!$O$14:$O$703,'16년 3추일출'!$B$14:$B$703,'15년총괄표(실국별)'!$B33) -> 800000 | H33: =C33+F33+G33 -> 49496301
B37: 실국명 | C37: 일반 | D37: 기특 | E37: 공특 | F37: 합계
B38: 총합계 | C38: =SUM(C39:C64) -> 14504760931 | D38: =SUM(D39:D64) -> 1174065395 | E38: =SUM(E39:E64) -> 2139712389 | F38: =SUM(C38:E38) -> 17818538715
B39: 감사관 | C39: 1230140 | F39: =SUM(C39:E39) -> 1230140
B40: 기획조정실 | C40: 3253514147 | E40: 1741536684 | F40: =SUM(C40:E40) -> 4995050831
B41: 도시주택실 | C41: 302743533 | D41: 14731912 | E41: 33000000 | F41: =SUM(C41:E41) -> 350475445
B42: 자치행정국 | C42: 489102362 | F42: =SUM(C42:E42) -> 489102362
B43: 교육협력국 | C43: 1957985774 | D43: 166414000 | F43: =SUM(C43:E43) -> 2124399774
B44: 문화체육관광국 | C44: 246448826 | E44: 62624435 | F44: =SUM(C44:E44) -> 309073261
...

Sheet 예산안 표지
A4: 예결위 예산안 조정 결과
B6: - 2016년도 제3회 경기도 추가경정예산안
A12: 예산결산특별위원회

Sheet 16년 3추총괄표
A1: 2016년도 제3회 추가경정예산안(총괄)
A3: □ 총 괄 | C3: 세입예산 증감 | D3: =SUM(C7:D7) -> 89077971 | F3: 세출예산증감 | G3: =SUM(F7:G7) -> 89077971
J4: (단위 : 천원)
A5: 구 분 | B5: 집행부제출(안) | C5: 세입예산(안) | F5: 세출예산(안) | I5: 조정증감액 | J5: 수정예산(안) | L5: ※ 예산안 증감현황
C6: 감 액 | D6: 증 액 | E6: 증감액 | F6: 감 액 | G6: 증 액 | H6: 증감액 | L6: 구 분 | M6: 세입 | N6: 세출 | O6: 예비비 | P6: 비고
A7: 합 계 | B7: =SUM(B8:B17) -> 22308585965 | C7: =SUM(C8:C17) -> -479788 | D7: =SUM(D8:D17) -> 89557759 | E7: =SUM(E8:E17) -> 89077971 | F7: =SUM(F8:F17) -> -28681606 | G7: =SUM(G8:G17) -> 117759577 | H7: =SUM(H8:H17) -> 89077971 | I7: =SUM(I8:I17) -> 178155942 | J7: =SUM(J8:J17) -> 22397663936 | L7: 합 계 | M7: =SUM(M8:M9) -> 89077971 | N7: =SUM(N8:N9) -> 89077971 | O7: =M7-N7 -> 0
A8: 의회운영위원회 | B8: 58793305 | C8: =SUMIFS('16년3추 일입'!$N$7:$N$51,'16년3추 일입'!$A$7:$A$51,$A8)+SUMIFS('16년 3추특입'!$N$7:$N$35,'16년 3추특입'!$A$7:$A$35,$A8) -> 0 | D8: =SUMIFS('16년3추 일입'!$O$7:$O$51,'16년3추 일입'!$A$7:$A$51,$A8)+SUMIFS('16년 3추특입'!$O$7:$O$35,'16년 3추특입'!$A$7:$A$35,$A8) -> 0 | E8: =C8+D8 -> 0 | F8: =SUMIFS('16년 3추일출'!$N$7:$N$200,'16년 3추일출'!$A$7:$A$200,$A8)+SUMIFS('16년 3추특출'!$N$7:$N$100,'16년 3추특출'!$A$7:$A$100,$A8) -> -70000 | G8: =SUMIFS('16년 3추일출'!$O$7:$O$200,'16년 3추일출'!$A$7:$A$200,$A8)+SUMIFS('16년 3추특출'!$O$7:$O$100,'16년 3추특출'!$A$7:$A$100,$A8) -> 0 | H8: =F8+G8 -> -70000 | I8: =E8+H8 -> -70000 | J8: =B8+F8+G8 -> 58723305 | L8: 일반회계 | M8: =SUM(C24:D24) -> 64242035 | N8: =SUM(F24:G24) -> 64242035 | O8: =M8-N8 -> 0
A9: 기획재정위원회 | B9: 6944547374 | C9: =SUMIFS('16년3추 일입'!$N$7:$N$51,'16년3추 일입'!$A$7:$A$51,$A9)+SUMIFS('16년 3추특입'!$N$7:$N$35,'16년 3추특입'!$A$7:$A$35,$A9) -> 0 | D9: =SUMIFS('16년3추 일입'!$O$7:$O$51,'16년3추 일입'!$A$7:$A$51,$A9)+SUMIFS('16년 3추특입'!$O$7:$O$35,'16년 3추특입'!$A$7:$A$35,$A9) -> 13772000 | E9: =C9+D9 -> 13772000 | F9: =SUMIFS('16년 3추일출'!$N$7:$N$200,'16년 3추일출'!$A$7:$A$200,$A9)+SUMIFS('16년 3추특출'!$N$7:$N$100,'16년 3추특출'!$A$7:$A$100,$A9) -> -73360 | G9: =SUMIFS('16년 3추일출'!$O$7:$O$200,'16년 3추일출'!$A$7:$A$200,$A9)+SUMIFS('16년 3추특출'!$O$7:$O$100,'16년 3추특출'!$A$7:$A$100,$A9) -> 21730772 | H9: =F9+G9 -> 21657412 | I9: =E9+H9 -> 35429412 | J9: =B9+F9+G9 -> 6966204786 | L9: 특별회계 | M9: =SUM(C25:D25) -> 24835936 | N9: =SUM(F25:G25) -> 24835936 | O9: =M9-N9 -> 0
A10: 경제과학기술위원회 | B10: 540014874 | C10: =SUMIFS('16년3추 일입'!$N$7:$N$51,'16년3추 일입'!$A$7:$A$51,$A10)+SUMIFS('16년 3추특입'!$N$7:$N$35,'16년 3추특입'!$A$7:$A$35,$A10) -> 0 | D10: =SUMIFS('16년3추 일입'!$O$7:$O$51,'16년3추 일입'!$A$7:$A$51,$A10)+SUMIFS('16년 3추특입'!$O$7:$O$35,'16년 3추특입'!$A$7:$A$35,$A10) -> 0 | E10: =C10+D10 -> 0 | F10: =SUMIFS('16년 3추일출'!$N$7:$N$200,'16년 3추일출'!$A$7:$A$200,$A10)+SUMIFS('16년 3추특출'!$N$7:$N$100,'16년 3추특출'!$A$7:$A$100,$A10) -> -4000000 | G10: =SUMIFS('16년 3추일출'!$O$7:$O$200,'16년 3추일출'!$A$7:$A$200,$A10)+SUMIFS('16년 3추특출'!$O$7:$O$100,'16년 3추특출'!$A$7:$A$100,$A10) -> 2650000 | H10: =F10+G10 -> -1350000 | I10: =E10+H10 -> -1350000 | J10: =B10+F10+G10 -> 538664874
A11: 안전행정위원회 | B11: 1512341160 | C11: =SUMIFS('16년3추 일입'!$N$7:$N$51,'16년3추 일입'!$A$7:$A$51,$A11)+SUMIFS('16년 3추특입'!$N$7:$N$35,'16년 3추특입'!$A$7:$A$35,$A11) -> -4236 | D11: =SUMIFS('16년3추 일입'!$O$7:$O$51,'16년3추 일입'!$A$7:$A$51,$A11)+SUMIFS('16년 3추특입'!$O$7:$O$35,'16년 3추특입'!$A$7:$A$35,$A11) -> 77000 | E11: =C11+D11 -> 72764 | F11: =SUMIFS('16년 3추일출'!$N$7:$N$200,'16년 3추일출'!$A$7:$A$200,$A11)+SUMIFS('16년 3추특출'!$N$7:$N$100,'16년 3추특출'!$A$7:$A$100,$A11) -> -250000 | G11: =SUMIFS('16년 3추일출'!$O$7:$O$200,'16년 3추일출'!$A$7:$A$200,$A11)+SUMIFS('16년 3추특출'!$O$7:$O$100,'16년 3추특출'!$A$7:$A$100,$A11) -> 901843 | H11: =F11+G11 -> 651843 | I11: =E11+H11 -> 724607 | J11: =B11+F11+G11 -> 1512993003
A12: 문화체육관광위원회 | B12: 445965367 | C12: =SUMIFS('16년3추 일입'!$N$7:$N$51,'16년3추 일입'!$A$7:$A$51,$A12)+SUMIFS('16년 3추특입'!$N$7:$N$35,'16년 3추특입'!$A$7:$A$35,$A12) -> 0 | D12: =SUMIFS('16년3추 일입'!$O$7:$O$51,'16년3추 일입'!$A$7:$A$51,$A12)+SUMIFS('16년 3추특입'!$O$7:$O$35,'16년 3추특입'!$A$7:$A$35,$A12) -> 0 | E12: =C12+D12 -> 0 | F12: =SUMIFS('16년 3추일출'!$N$7:$N$200,'16년 3추일출'!$A$7:$A$200,$A12)+SUMIFS('16년 3추특출'!$N$7:$N$100,'16년 3추특출'!$A$7:$A$100,$A12) -> 0 | G12: =SUMIFS('16년 3추일출'!$O$7:$O$200,'16년 3추일출'!$A$7:$A$200,$A12)+SUMIFS('16년 3추특출'!$O$7:$O$100,'16년 3추특출'!$A$7:$A$100,$A12) -> 240000 | H12: =F12+G12 -> 240000 | I12: =E12+H12 -> 240000 | J12: =B12+F12+G12 -> 446205367
A13: 농정해양위원회 | B13: 538304870 | C13: =SUMIFS('16년3추 일입'!$N$7:$N$51,'16년3추 일입'!$A$7:$A$51,$A13)+SUMIFS('16년 3추특입'!$N$7:$N$35,'16년 3추특입'!$A$7:$A$35,$A13) -> -4159 | D13: =SUMIFS('16년3추 일입'!$O$7:$O$51,'16년3추 일입'!$A$7:$A$51,$A13)+SUMIFS('16년 3추특입'!$O$7:$O$35,'16년 3추특입'!$A$7:$A$35,$A13) -> 3854402 | E13: =C13+D13 -> 3850243 | F13: =SUMIFS('16년 3추일출'!$N$7:$N$200,'16년 3추일출'!$A$7:$A$200,$A13)+SUMIFS('16년 3추특출'!$N$7:$N$100,'16년 3추특출'!$A$7:$A$100,$A13) -> -126594 | G13: =SUMIFS('16년 3추일출'!$O$7:$O$200,'16년 3추일출'!$A$7:$A$200,$A13)+SUMIFS('16년 3추특출'!$O$7:$O$100,'16년 3추특출'!$A$7:$A$100,$A13) -> 4320157 | H13: =F13+G13 -> 4193563 | I13: =E13+H13 -> 8043806 | J13: =B13+F13+G13 -> 542498433
A14: 보건복지위원회 | B14: 4056409346 | C14: =SUMIFS('16년3추 일입'!$N$7:$N$51,'16년3추 일입'!$A$7:$A$51,$A14)+SUMIFS('16년 3추특입'!$N$7:$N$35,'16년 3추특입'!$A$7:$A$35,$A14) -> -55000 | D14: =SUMIFS('16년3추 일입'!$O$7:$O$51,'16년3추 일입'!$A$7:$A$51,$A14)+SUMIFS('16년 3추특입'!$O$7:$O$35,'16년 3추특입'!$A$7:$A$35,$A14) -> 51236165 | E14: =C14+D14 -> 51181165 | F14: =SUMIFS('16년 3추일출'!$N$7:$N$200,'16년 3추일출'!$A$7:$A$200,$A14)+SUMIFS('16년 3추특출'!$N$7:$N$100,'16년 3추특출'!$A$7:$A$100,$A14) -> -474685 | G14: =SUMIFS('16년 3추일출'!$O$7:$O$200,'16년 3추일출'!$A$7:$A$200,$A14)+SUMIFS('16년 3추특출'!$O$7:$O$100,'16년 3추특출'!$A$7:$A$100,$A14) -> 58258618 | H14: =F14+G14 -> 57783933 | I14: =E14+H14 -> 108965098 | J14: =B14+F14+G14 -> 4114193279
A15: 건설교통위원회 | B15: 1594913939 | C15: =SUMIFS('16년3추 일입'!$N$7:$N$51,'16년3추 일입'!$A$7:$A$51,$A15)+SUMIFS('16년 3추특입'!$N$7:$N$35,'16년 3추특입'!$A$7:$A$35,$A15) -> 0 | D15: =SUMIFS('16년3추 일입'!$O$7:$O$51,'16년3추 일입'!$A$7:$A$51,$A15)+SUMIFS('16년 3추특입'!$O$7:$O$35,'16년 3추특입'!$A$7:$A$35,$A15) -> 800000 | E15: =C15+D15 -> 800000 | F15: =SUMIFS('16년 3추일출'!$N$7:$N$200,'16년 3추일출'!$A$7:$A$200,$A15)+SUMIFS('16년 3추특출'!$N$7:$N$100,'16년 3추특출'!$A$7:$A$100,$A15) -> -4650000 | G15: =SUMIFS('16년 3추일출'!$O$7:$O$200,'16년 3추일출'!$A$7:$A$200,$A15)+SUMIFS('16년 3추특출'!$O$7:$O$100,'16년 3추특출'!$A$7:$A$100,$A15) -> 4078200 | H15: =F15+G15 -> -571800 | I15: =E15+H15 -> 228200 | J15: =B15+F15+G15 -> 1594342139
A16: 도시환경위원회 | B16: 1046847091 | C16: =SUMIFS('16년3추 일입'!$N$7:$N$51,'16년3추 일입'!$A$7:$A$51,$A16)+SUMIFS('16년 3추특입'!$N$7:$N$35,'16년 3추특입'!$A$7:$A$35,$A16) -> -413744 | D16: =SUMIFS('16년3추 일입'!$O$7:$O$51,'16년3추 일입'!$A$7:$A$51,$A16)+SUMIFS('16년 3추특입'!$O$7:$O$35,'16년 3추특입'!$A$7:$A$35,$A16) -> 54000 | E16: =C16+D16 -> -359744 | F16: =SUMIFS('16년 3추일출'!$N$7:$N$200,'16년 3추일출'!$A$7:$A$200,$A16)+SUMIFS('16년 3추특출'!$N$7:$N$100,'16년 3추특출'!$A$7:$A$100,$A16) -> -200000 | G16: =SUMIFS('16년 3추일출'!$O$7:$O$200,'16년 3추일출'!$A$7:$A$200,$A16)+SUMIFS('16년 3추특출'!$O$7:$O$100,'16년 3추특출'!$A$7:$A$100,$A16) -> 754000 | H16: =F16+G16 -> 554000 | I16: =E16+H16 -> 194256 | J16: =B16+F16+G16 -> 1047401091
A17: 여성가족교육협력위원회 | B17: 5570448639 | C17: =SUMIFS('16년3추 일입'!$N$7:$N$51,'16년3추 일입'!$A$7:$A$51,$A17)+SUMIFS('16년 3추특입'!$N$7:$N$35,'16년 3추특입'!$A$7:$A$35,$A17) -> -2649 | D17: =SUMIFS('16년3추 일입'!$O$7:$O$51,'16년3추 일입'!$A$7:$A$51,$A17)+SUMIFS('16년 3추특입'!$O$7:$O$35,'16년 3추특입'!$A$7:$A$35,$A17) -> 19764192 | E17: =C17+D17 -> 19761543 | F17: =SUMIFS('16년 3추일출'!$N$7:$N$200,'16년 3추일출'!$A$7:$A$200,$A17)+SUMIFS('16년 3추특출'!$N$7:$N$100,'16년 3추특출'!$A$7:$A$100,$A17) -> -18836967 | G17: =SUMIFS('16년 3추일출'!$O$7:$O$200,'16년 3추일출'!$A$7:$A$200,$A17)+SUMIFS('16년 3추특출'!$O$7:$O$100,'16년 3추특출'!$A$7:$A$100,$A17) -> 24825987 | H17: =F17+G17 -> 5989020 | I17: =E17+H17 -> 25750563 | J17: =B17+F17+G17 -> 5576437659
A19: □ 회계별 예산 총 규모
J20: (단위 : 천원)
A21: 구 분 | B21: 집행부제출(안) | C21: 세입예산(안) | F21: 세출예산(안) | I21: 조정증감액 | J21: 수정예산(안)
C22: 감 액 | D22: 증 액 | E22: 증감액 | F22: 감 액 | G22: 증 액 | H22: 증감액
A23: 합 계 | B23: =SUM(B24:B25) -> 22308585965 | C23: =SUM(C24:C25) -> -479788 | D23: =SUM(D24:D25) -> 89557759 | E23: =SUM(E24:E25) -> 89077971 | F23: =SUM(F24:F25) -> -28681606 | G23: =SUM(G24:G25) -> 117759577 | H23: =SUM(H24:H25) -> 89077971 | I23: =SUM(I24:I25) -> 178155942 | J23: =SUM(J24:J25) -> 22397663936
A24: 일반회계 | B24: 17796092289 | C24: ='16년3추 일입'!N6 -> -479788 | D24: ='16년3추 일입'!O6 -> 64721823 | E24: =C24+D24 -> 64242035 | F24: ='16년 3추일출'!N6 -> -28681606 | G24: ='16년 3추일출'!O6 -> 92923641 | H24: =F24+G24 -> 64242035 | I24: =E24+H24 -> 128484070 | J24: =B24+F24+G24 -> 17860334324
A25: 특별회계 | B25: 4512493676 | C25: ='16년 3추특입'!N6 -> 0 | D25: ='16년 3추특입'!O6 -> 24835936 | E25: =C25+D25 -> 24835936 | F25: ='16년 3추특출'!N6 -> 0 | G25: ='16년 3추특출'!O6 -> 24835936 | H25: =F25+G25 -> 24835936 | I25: =E25+H25 -> 49671872 | J25: =B25+F25+G25 -> 4537329612
E26: =SUM('16년3추 일입'!AB6:AC6)-'16년 3추총괄표'!E24 -> 0 | H26: =SUM('16년 3추일출'!AD6:AE6)-'16년 3추총괄표'!H24 -> 0
A28: ※ 회계별, 위원회별 집행부제출안
A29: 위원회명 | B29: 합계 | C29: 일반+기타 | D29: 일반회계 | E29: 기타특별회계 | F29: 공기업특별회계
A30: 합계 | B30: =SUM(B31:B40) -> 22308585965 | C30: =SUM(C31:C40) -> 19214397896 | D30: =SUM(D31:D40) -> 17796092289 | E30: =SUM(E31:E40) -> 1418305607 | F30: =SUM(F31:F40) -> 3094188069
A31: 의회운영위원회 | B31: =SUM(D31+E31+F31) -> 58793305 | C31: =SUM(D31:E31) -> 58793305 | D31: 58793305
A32: 기획재정위원회 | B32: =SUM(D32+E32+F32) -> 6944547374 | C32: =SUM(D32:E32) -> 4191829498 | D32: 4144049246 | E32: 47780252 | F32: 2752717876
A33: 경제과학기술위원회 | B33: =SUM(D33+E33+F33) -> 540014874 | C33: =SUM(D33:E33) -> 316723623 | D33: 316723623 | F33: 223291251
A34: 안전행정위원회 | B34: =SUM(D34+E34+F34) -> 1512341160 | C34: =SUM(D34:E34) -> 1512341160 | D34: 1512341160
A35: 문화체육관광위원회 | B35: =SUM(D35+E35+F35) -> 445965367 | C35: =SUM(D35:E35) -> 347286425 | D35: 347286425 | F35: 98678942
A36: 농정해양위원회 | B36: =SUM(D36+E36+F36) -> 538304870 | C36: =SUM(D36:E36) -> 538304870 | D36: 538304870
A37: 보건복지위원회 | B37: =SUM(D37+E37+F37) -> 4056409346 | C37: =SUM(D37:E37) -> 4056409346 | D37: 3125312720 | E37: 931096626
A38: 건설교통위원회 | B38: =SUM(D38+E38+F38) -> 1594913939 | C38: =SUM(D38:E38) -> 1594913939 | D38: 1480986012 | E38: =113718000+209927 -> 113927927
A39: 도시환경위원회 | B39: =SUM(D39+E39+F39) -> 1046847091 | C39: =SUM(D39:E39) -> 1027347091 | D39: 1007872189 | E39: =4610477+14864425 -> 19474902 | F39: 19500000
A40: 여성가족교육협력위원회 | B40: =SUM(D40+E40+F40) -> 5570448639 | C40: =SUM(D40:E40) -> 5570448639 | D40: 5264422739 | E40: 306025900
A42: 예비비

Sheet 16년3추 일입
A1: 2016년도 제3회 추경 경기도 일반회계 세입 예산 조정(안)
A2: □세입예산 | W2: 세입 = 세출 | AB2: 세입 = 세출
K3: =COUNTA(K7:K51) -> 4 | L3: =COUNTA(L7:L51) -> 13 | N3: =COUNTA(N7:N51) -> 6 | O3: =COUNTA(O7:O51) -> 34 | S3: (단위 : 천원) | T3: (단위 : 천원) | W3: =IF(W6='16년 3추일출'!$Y$6,"OK","@@") -> OK | X3: =SUM(W6:X6) -> 10491056 | Y3: =IF(COUNTIF(Y6:Y873,"@@")>0,"@@","OK") -> OK | AB3: =IF(AB6='16년 3추일출'!$AD$6,"OK","@@") -> OK | AC3: =SUM(AB6:AC6) -> 64242035 | AD3: =IF(COUNTIF(AD6:AD873,"@@")>0,"@@","OK") -> OK | AL3: =IF(W6=AL6,"OK","@@") -> OK | AP3: =IF(AB6=AP6,"OK","@@") -> OK
A4: 위원회명 | B4: 실국명 | C4: 부서명 | D4: 편성 구분 | E4: 예산안 페이지 | F4: 사 업 설명서 | G4: 목명 및 부기명 | H4: 제3회 추경 예산안 (가) | I4: 기정액 (나) | J4: 제3회 추경 증감액 (다=가-나) | K4: 상임위 예산안 조정액(나) | M4: 상임위 조정 예산안 (마=가or나+라) | N4: 예결위 예산안 조정액(라) | P4: 예결위 조정 예산안 (마=가or나+라) | Q4: 동의 대상 | R4: 상임위 변경사유 | S4: 상임위(부대의견) | T4: 비고(부대의견) | V4: 재원 | W4: 상임위 재원별 증감액 | AA4: 재원 | AB4: 예결위 재원별 증감액 | AF4: 세입번호 | AH4: 실국부서 코드 | AJ4: 추가 내시 등 | AL4: 상임위 세입 검증 | AP4: 예결위 세입 검증
K5: 감액 | L5: 증액 | N5: 감액 | O5: 증액 | W5: 국비 등 | X5: 도 비 | Y5: 검증 | AB5: 국비 등 | AC5: 도 비 | AD5: 검증 | AL5: 국비 증감액 | AM5: 건수 | AN5: 검증 | AP5: 국비 증감액 | AQ5: 건수 | AR5: 검증
H6: =SUM(H7:H51) -> 2267438810 | I6: =SUM(I7:I51) -> 2196853994 | J6: =SUM(J7:J51) -> 70584816 | K6: =SUM(K7:K51) -> -424728 | L6: =SUM(L7:L51) -> 10915784 | M6: =SUM(M7:M51) -> 2277929866 | N6: =SUM(N7:N51) -> -479788 | O6: =SUM(O7:O51) -> 64721823 | P6: =SUM(P7:P51) -> 2331680845 | W6: =SUBTOTAL(9,W7:W785) -> 10704901 | X6: =SUBTOTAL(9,X7:X785) -> -213845 | Y6: =IF((K6+L6)=(W6+X6),"OK","검토") -> OK | AB6: =SUBTOTAL(9,AB7:AB785) -> 50683880 | AC6: =SUBTOTAL(9,AC7:AC785) -> 13558155 | AD6: =IF((N6+O6)=(AB6+AC6),"OK","검토") -> OK | AL6: =SUBTOTAL(9,AL7:AL785) -> 10704901 | AM6: =SUBTOTAL(9,AM7:AM51) -> 61 | AN6: =IF(COUNTIF($AN$7:$AN$9896,"@@")>0,"@@","OK") -> OK | AP6: =SUBTOTAL(9,AP7:AP785) -> 50683880 | AQ6: =SUBTOTAL(9,AQ7:AQ51) -> 61 | AR6: =IF(COUNTIF($AR$7:$AR$9896,"@@")>0,"@@","OK") -> @@
A7: 안전행정위원회 | B7: 재난안전본부 | C7: 안전기획과 | D7: 신규 | G7: 특별교부세 - 지자체 안전표지판 설치비 | H7: 0 | I7: 0 | J7: =IF(D7="","",H7-I7) -> 0 | L7: 77000 | M7: =H7+K7+L7 -> 77000 | O7: 77000 | P7: =H7+N7+O7 -> 77000 | V7: 특교 | W7: =IF($V7<>"도비",IF($AF7="국도비","직접입력",SUM($K7:$L7)),) -> 77000 | X7: =IF($V7="도비",SUM($K7:$L7),IF($AF7="국도비","직접입력",SUM($K7:$L7)-$W7)) -> 0 | Y7: =IF($AF7="국도비","ok",IF(($K7+$L7)=($W7+$X7),"ok","검토")) -> ok | AA7: =$V7 -> 특교 | AB7: =IF($AA7<>"도비",IF($AF7="국도비","직접입력",SUM($N7:$O7)),) -> 77000 | AC7: =IF($AA7="도비",SUM($N7:$O7),IF($AF7="국도비","직접입력",SUM($N7:$O7)-$AB7)) -> 0 | AD7: =IF($AF7="국도비","ok",IF(($N7+$O7)=($AB7+$AC7),"ok","검토")) -> ok | AF7: =IF(AH7="","",IF($V7="도비","세입없음",$AH7&"-"&TEXT(COUNTIF(AH$7:AH7,AH$7:AH7),"00"))) -> 0416-01 | AH7: {=IFERROR(IF($C7="","",INDEX(구분표!$I$2:$I$1001,MATCH(1,(구분표!$B$2:$B$1001='16년3추 일입'!$A7)*(구분표!$C$2:$C$1001='16년3추 일입'!$B7)*(구분표!$A$2:$A$1001='16년3추 일입'!$C7),0))),"@@")} -> 0416 | AL7: =IF(AF7="","",SUMIFS('16년 3추일출'!$Y$14:$Y$9322,'16년 3추일출'!$AH$14:$AH$9322,'16년3추 일입'!$AF7)) -> 77000 | AM7: =IF(AF7="","",IF(AF7="세입없음","",COUNTIF('16년 3추일출'!$AH$14:$AH$9322,'16년3추 일입'!$AF7))) -> 1 | AN7: =IF(W7=0,"OK",IF(W7=AL7,"OK","@@")) -> OK | AP7: =IF(AF7="","",SUMIFS('16년 3추일출'!$AD$7:$AD$9322,'16년 3추일출'!$AH$7:$AH$9322,'16년3추 일입'!$AF7)) -> 77000 | AQ7: =IF(AF7="","",IF(AF7="세입없음","",COUNTIF('16년 3추일출'!$AH$14:$AH$9322,'16년3추 일입'!$AF7))) -> 1 | AR7: =IF(AB7=0,"OK",IF(AB7=AP7,"OK","@@")) -> OK | AS7: =SUM(N7:O7)-SUM(AB7:AC7) -> 0
A8: 안전행정위원회 | B8: 재난안전본부 | C8: 안전교육훈련담당관 | D8: 3회추경 | E8: 382 | F8: 23 | G8: 시도비반환금수입 - 안전교육훈련담당관 도비 사용잔액 | H8: 7218 | I8: 0 | J8: =IF(D8="","",H8-I8) -> 7218 | K8: -4236 | M8: =H8+K8+L8 -> 2982 | N8: -4236 | P8: =H8+N8+O8 -> 2982 | V8: 도비 | W8: =IF($V8<>"도비",IF($AF8="국도비","직접입력",SUM($K8:$L8)),) -> 0 | X8: =IF($V8="도비",SUM($K8:$L8),IF($AF8="국도비","직접입력",SUM($K8:$L8)-$W8)) -> -4236 | Y8: =IF($AF8="국도비","ok",IF(($K8+$L8)=($W8+$X8),"ok","검토")) -> ok | AA8: =$V8 -> 도비 | AB8: =IF($AA8<>"도비",IF($AF8="국도비","직접입력",SUM($N8:$O8)),) -> 0 | AC8: =IF($AA8="도비",SUM($N8:$O8),IF($AF8="국도비","직접입력",SUM($N8:$O8)-$AB8)) -> -4236 | AD8: =IF($AF8="국도비","ok",IF(($N8+$O8)=($AB8+$AC8),"ok","검토")) -> ok | AF8: =IF(AH8="","",IF($V8="도비","세입없음",$AH8&"-"&TEXT(COUNTIF(AH$7:AH8,AH$7:AH8),"00"))) -> 세입없음 | AH8: {=IFERROR(IF($C8="","",INDEX(구분표!$I$2:$I$1001,MATCH(1,(구분표!$B$2:$B$1001='16년3추 일입'!$A8)*(구분표!$C$2:$C$1001='16년3추 일입'!$B8)*(구분표!$A$2:$A$1001='16년3추 일입'!$C8),0))),"@@")} -> 0413 | AL8: =IF(AF8="","",SUMIFS('16년 3추일출'!$Y$14:$Y$9322,'16년 3추일출'!$AH$14:$AH$9322,'16년3추 일입'!$AF8)) -> 0 | AM8: =IF(AF8="","",IF(AF8="세입없음","",COUNTIF('16년 3추일출'!$AH$14:$AH$9322,'16년3추 일입'!$AF8))) | AN8: =IF(W8=0,"OK",IF(W8=AL8,"OK","@@")) -> OK | AP8: =IF(AF8="","",SUMIFS('16년 3추일출'!$AD$7:$AD$9322,'16년 3추일출'!$AH$7:$AH$9322,'16년3추 일입'!$AF8)) -> 0 | AQ8: =IF(AF8="","",IF(AF8="세입없음","",COUNTIF('16년 3추일출'!$AH$14:$AH$9322,'16년3추 일입'!$AF8))) | AR8: =IF(AB8=0,"OK",IF(AB8=AP8,"OK","@@")) -> OK | AS8: =SUM(N8:O8)-SUM(AB8:AC8) -> 0
A9: 도시환경위원회 | B9: 수자원본부 | C9: 수자원본부 | D9: 3회추경 | E9: 757 | F9: 4 | G9: 시도비반환금수입 - 수자원본부 도비 사용잔액 | H9: 2722770 | J9: =IF(D9="","",H9-I9) -> 2722770 | K9: -413744 | M9: =H9+K9+L9 -> 2309026 | N9: -413744 | P9: =H9+N9+O9 -> 2309026 | R9: 15년도 반납완료된 용인사사업 집행잔액 조정반영 | S9: 15년도 반납완료된 용인사사업 집행잔액 조정반영 | T9: 15년도 반납완료된 용인사사업 집행잔액 조정반영 | V9: 도비 | X9: =IF($V9="도비",SUM($K9:$L9),IF($AF9="국도비","직접입력",SUM($K9:$L9)-$W9)) -> -413744 | Y9: =IF($AF9="국도비","ok",IF(($K9+$L9)=($W9+$X9),"ok","검토")) -> ok | AA9: =$V9 -> 도비 | AB9: =IF($AA9<>"도비",IF($AF9="국도비","직접입력",SUM($N9:$O9)),) -> 0 | AC9: =IF($AA9="도비",SUM($N9:$O9),IF($AF9="국도비","직접입력",SUM($N9:$O9)-$AB9)) -> -413744 | AD9: =IF($AF9="국도비","ok",IF(($N9+$O9)=($AB9+$AC9),"ok","검토")) -> ok | AF9: =IF(AH9="","",IF($V9="도비","세입없음",$AH9&"-"&TEXT(COUNTIF(AH$7:AH9,AH$7:AH9),"00"))) -> 세입없음 | AH9: {=IFERROR(IF($C9="","",INDEX(구분표!$I$2:$I$1001,MATCH(1,(구분표!$B$2:$B$1001='16년3추 일입'!$A9)*(구분표!$C$2:$C$1001='16년3추 일입'!$B9)*(구분표!$A$2:$A$1001='16년3추 일입'!$C9),0))),"@@")} -> 0921 | AL9: =IF(AF9="","",SUMIFS('16년 3추일출'!$Y$14:$Y$9322,'16년 3추일출'!$AH$14:$AH$9322,'16년3추 일입'!$AF9)) -> 0 | AM9: =IF(AF9="","",IF(AF9="세입없음","",COUNTIF('16년 3추일출'!$AH$14:$AH$9322,'16년3추 일입'!$AF9))) | AN9: =IF(W9=0,"OK",IF(W9=AL9,"OK","@@")) -> OK | AP9: =IF(AF9="","",SUMIFS('16년 3추일출'!$AD$7:$AD$9322,'16년 3추일출'!$AH$7:$AH$9322,'16년3추 일입'!$AF9)) -> 0 | AQ9: =IF(AF9="","",IF(AF9="세입없음","",COUNTIF('16년 3추일출'!$AH$14:$AH$9322,'16년3추 일입'!$AF9))) | AR9: =IF(AB9=0,"OK",IF(AB9=AP9,"OK","@@")) -> OK | AS9: =SUM(N9:O9)-SUM(AB9:AC9) -> 0
A10: 문화체육관광위원회 | B10: 문화체육관광국 | C10: 문화유산과 | D10: 3회추경 | E10: 460 | F10: 36 | G10: 기금 - 문화재 긴급보수사업 | H10: 200000 | J10: =IF(D10="","",H10-I10) -> 200000 | M10: =H10+K10+L10 -> 200000 | P10: =H10+N10+O10 -> 200000 | R10: 과목경정 (국고보조금에서 기금으로 목 변경) | S10: 과목경정 (국고보조금에서 기금으로 목 변경) | T10: 과목경정 (국고보조금에서 기금으로 목 변경) | V10: 기금 | W10: =IF($V10<>"도비",IF($AF10="국도비","직접입력",SUM($K10:$L10)),) -> 0 | X10: =IF($V10="도비",SUM($K10:$L10),IF($AF10="국도비","직접입력",SUM($K10:$L10)-$W10)) -> 0 | Y10: =IF($AF10="국도비","ok",IF(($K10+$L10)=($W10+$X10),"ok","검토")) -> ok | AA10: =$V10 -> 기금 | AB10: =IF($AA10<>"도비",IF($AF10="국도비","직접입력",SUM($N10:$O10)),) -> 0 | AC10: =IF($AA10="도비",SUM($N10:$O10),IF($AF10="국도비","직접입력",SUM($N10:$O10)-$AB10)) -> 0 | AD10: =IF($AF10="국도비","ok",IF(($N10+$O10)=($AB10+$AC10),"ok","검토")) -> ok | AF10: =IF(AH10="","",IF($V10="도비","세입없음",$AH10&"-"&TEXT(COUNTIF(AH$7:AH10,AH$7:AH10),"00"))) -> 0504-01 | AH10: {=IFERROR(IF($C10="","",INDEX(구분표!$I$2:$I$1001,MATCH(1,(구분표!$B$2:$B$1001='16년3추 일입'!$A10)*(구분표!$C$2:$C$1001='16년3추 일입'!$B10)*(구분표!$A$2:$A$1001='16년3추 일입'!$C10),0))),"@@")} -> 0504 | AL10: =IF(AF10="","",SUMIFS('16년 3추일출'!$Y$14:$Y$9322,'16년 3추일출'!$AH$14:$AH$9322,'16년3추 일입'!$AF10)) -> 0 | AM10: =IF(AF10="","",IF(AF10="세입없음","",COUNTIF('16년 3추일출'!$AH$14:$AH$9322,'16년3추 일입'!$AF10))) -> 1 | AN10: =IF(W10=0,"OK",IF(W10=AL10,"OK","@@")) -> OK | AP10: =IF(AF10="","",SUMIFS('16년 3추일출'!$AD$7:$AD$9322,'16년 3추일출'!$AH$7:$AH$9322,'16년3추 일입'!$AF10)) -> 0 | AQ10: =IF(AF10="","",IF(AF10="세입없음","",COUNTIF('16년 3추일출'!$AH$14:$AH$9322,'16년3추 일입'!$AF10))) -> 1 | AR10: =IF(AB10=0,"OK",IF(AB10=AP10,"OK","@@")) -> OK | AS10: =SUM(N10:O10)-SUM(AB10:AC10) -> 0
A11: 건설교통위원회 | B11: 건설본부 | C11: 북부도로과 | D11: 신규 | G11: 특별교부세 - 비룡대교 긴급복구 | H11: 0 | I11: 0 | J11: =IF(D11="","",H11-I11) -> 0 | L11: 800000 | M11: =H11+K11+L11 -> 800000 | O11: 800000 | P11: =H11+N11+O11 -> 800000 | V11: 특교 | W11: =IF($V11<>"도비",IF($AF11="국도비","직접입력",SUM($K11:$L11)),) -> 800000 | X11: =IF($V11="도비",SUM($K11:$L11),IF($AF11="국도비","직접입력",SUM($K11:$L11)-$W11)) -> 0 | Y11: =IF($AF11="국도비","ok",IF(($K11+$L11)=($W11+$X11),"ok","검토")) -> ok | AA11: =$V11 -> 특교 | AB11: =IF($AA11<>"도비",IF($AF11="국도비","직접입력",SUM($N11:$O11)),) -> 800000 | AC11: =IF($AA11="도비",SUM($N11:$O11),IF($AF11="국도비","직접입력",SUM($N11:$O11)-$AB11)) -> 0 | AD11: =IF($AF11="국도비","ok",IF(($N11+$O11)=($AB11+$AC11),"ok","검토")) -> ok | AF11: =IF(AH11="","",IF($V11="도비","세입없음",$AH11&"-"&TEXT(COUNTIF(AH$7:AH11,AH$7:AH11),"00"))) -> 0815-01 | AH11: {=IFERROR(IF($C11="","",INDEX(구분표!$I$2:$I$1001,MATCH(1,(구분표!$B$2:$B$1001='16년3추 일입'!$A11)*(구분표!$C$2:$C$1001='16년3추 일입'!$B11)*(구분표!$A$2:$A$1001='16년3추 일입'!$C11),0))),"@@")} -> 0815 | AL11: =IF(AF11="","",SUMIFS('16년 3추일출'!$Y$14:$Y$9322,'16년 3추일출'!$AH$14:$AH$9322,'16년3추 일입'!$AF11)) -> 800000 | AM11: =IF(AF11="","",IF(AF11="세입없음","",COUNTIF('16년 3추일출'!$AH$14:$AH$9322,'16년3추 일입'!$AF11))) -> 1 | AN11: =IF(W11=0,"OK",IF(W11=AL11,"OK","@@")) -> OK | AP11: =IF(AF11="","",SUMIFS('16년 3추일출'!$AD$7:$AD$9322,'16년 3추일출'!$AH$7:$AH$9322,'16년3추 일입'!$AF11)) -> 800000 | AQ11: =IF(AF11="","",IF(AF11="세입없음","",COUNTIF('16년 3추일출'!$AH$14:$AH$9322,'16년3추 일입'!$AF11))) -> 1 | AR11: =IF(AB11=0,"OK",IF(AB11=AP11,"OK","@@")) -> OK | AS11: =SUM(N11:O11)-SUM(AB11:AC11) -> 0
A12: 여성가족교육협력위원회 | B12: 여성가족국 | C12: 여성가족과 | D12: 3회추경 | E12: 777 | F12: 10 | G12: 기금 - 성매매 피해자 지원사업 | H12: 1837025 | I12: 1727938 | J12: =IF(D12="","",H12-I12) -> 109087 | L12: 25500 | M12: =H12+K12+L12 -> 1862525 | O12: 25500 | P12: =H12+N12+O12 -> 1862525 | R12: 국비 변경내시, 여성가족부 권익지원과-2264(2016.8.23.) | S12: 국비 변경내시, 여성가족부 권익지원과-2264(2016.8.23.) | T12: 국비 변경내시, 여성가족부 권익지원과-2264(2016.8.23.) | V12: 기금 | W12: =IF($V12<>"도비",IF($AF12="국도비","직접입력",SUM($K12:$L12)),) -> 25500 | X12: =IF($V12="도비",SUM($K12:$L12),IF($AF12="국도비","직접입력",SUM($K12:$L12)-$W12)) -> 0 | Y12: =IF($AF12="국도비","ok",IF(($K12+$L12)=($W12+$X12),"ok","검토")) -> ok | AA12: =$V12 -> 기금 | AB12: =IF($AA12<>"도비",IF($AF12="국도비","직접입력",SUM($N12:$O12)),) -> 25500 | AC12: =IF($AA12="도비",SUM($N12:$O12),IF($AF12="국도비","직접입력",SUM($N12:$O12)-$AB12)) -> 0 | AD12: =IF($AF12="국도비","ok",IF(($N12+$O12)=($AB12+$AC12),"ok","검토")) -> ok | AF12: 3201-01 | AH12: {=IFERROR(IF($C12="","",INDEX(구분표!$I$2:$I$1001,MATCH(1,(구분표!$B$2:$B$1001='16년3추 일입'!$A12)*(구분표!$C$2:$C$1001='16년3추 일입'!$B12)*(구분표!$A$2:$A$1001='16년3추 일입'!$C12),0))),"@@")} -> 1004 | AL12: =IF(AF12="","",SUMIFS('16년 3추일출'!$Y$14:$Y$9322,'16년 3추일출'!$AH$14:$AH$9322,'16년3추 일입'!$AF12)) -> 25500 | AM12: =IF(AF12="","",IF(AF12="세입없음","",COUNTIF('16년 3추일출'!$AH$14:$AH$9322,'16년3추 일입'!$AF12))) -> 4 | AN12: =IF(W12=0,"OK",IF(W12=AL12,"OK","@@")) -> OK | AP12: =IF(AF12="","",SUMIFS('16년 3추일출'!$AD$7:$AD$9322,'16년 3추일출'!$AH$7:$AH$9322,'16년3추 일입'!$AF12)) -> 25500 | AQ12: =IF(AF12="","",IF(AF12="세입없음","",COUNTIF('16년 3추일출'!$AH$14:$AH$9322,'16년3추 일입'!$AF12))) -> 4 | AR12: =IF(AB12=0,"OK",IF(AB12=AP12,"OK","@@")) -> OK | AS12: =SUM(N12:O12)-SUM(AB12:AC12) -> 0
A13: 여성가족교육협력위원회 | B13: 여성가족국 | C13: 여성가족과 | D13: 3회추경 | E13: 777 | F13: 10 | G13: 기금 - 경력단절여성고용촉진사업 | H13: 631000 | I13: 600000 | J13: =IF(D13="","",H13-I13) -> 31000 | L13: 18000 | M13: =H13+K13+L13 -> 649000 | O13: 18000 | P13: =H13+N13+O13 -> 649000 | R13: 국비 변경내시, 고용노동부 여성고용정책과-2919(2016.8.18.) | S13: 국비 변경내시, 고용노동부 여성고용정책과-2919(2016.8.18.) | T13: 국비 변경내시, 고용노동부 여성고용정책과-2919(2016.8.18.) | V13: 기금 | W13: =IF($V13<>"도비",IF($AF13="국도비","직접입력",SUM($K13:$L13)),) -> 18000 | X13: =IF($V13="도비",SUM($K13:$L13),IF($AF13="국도비","직접입력",SUM($K13:$L13)-$W13)) -> 0 | Y13: =IF($AF13="국도비","ok",IF(($K13+$L13)=($W13+$X13),"ok","검토")) -> ok | AA13: =$V13 -> 기금 | AB13: =IF($AA13<>"도비",IF($AF13="국도비","직접입력",SUM($N13:$O13)),) -> 18000 | AC13: =IF($AA13="도비",SUM($N13:$O13),IF($AF13="국도비","직접입력",SUM($N13:$O13)-$AB13)) -> 0 | AD13: =IF($AF13="국도비","ok",IF(($N13+$O13)=($AB13+$AC13),"ok","검토")) -> ok | AF13: 3201-02 | AH13: {=IFERROR(IF($C13="","",INDEX(구분표!$I$2:$I$1001,MATCH(1,(구분표!$B$2:$B$1001='16년3추 일입'!$A13)*(구분표!$C$2:$C$1001='16년3추 일입'!$B13)*(구분표!$A$2:$A$1001='16년3추 일입'!$C13),0))),"@@")} -> 1004 | AL13: =IF(AF13="","",SUMIFS('16년 3추일출'!$Y$14:$Y$9322,'16년 3추일출'!$AH$14:$AH$9322,'16년3추 일입'!$AF13)) -> 18000 | AM13: =IF(AF13="","",IF(AF13="세입없음","",COUNTIF('16년 3추일출'!$AH$14:$AH$9322,'16년3추 일입'!$AF13))) -> 1 | AN13: =IF(W13=0,"OK",IF(W13=AL13,"OK","@@")) -> OK | AP13: =IF(AF13="","",SUMIFS('16년 3추일출'!$AD$7:$AD$9322,'16년 3추일출'!$AH$7:$AH$9322,'16년3추 일입'!$AF13)) -> 18000 | AQ13: =IF(AF13="","",IF(AF13="세입없음","",COUNTIF('16년 3추일출'!$AH$14:$AH$9322,'16년3추 일입'!$AF13))) -> 1 | AR13: =IF(AB13=0,"OK",IF(AB13=AP13,"OK","@@")) -> OK | AS13: =SUM(N13:O13)-SUM(AB13:AC13) -> 0
A14: 여성가족교육협력위원회 | B14: 여성가족국 | C14: 아동청소년과 | D14: 3회추경 | E14: 779 | F14: 21 | G14: 기금 - 청소년 사회안전망 구축 | H14: 5873287 | I14: 5977643 | J14: =IF(D14="","",H14-I14) -> -104356 | L14: 6500 | M14: =H14+K14+L14 -> 5879787 | O14: 6500 | P14: =H14+N14+O14 -> 5879787 | R14: 국비 변경내시, 여성가족부 학교밖청소년지원과-1553(2016.8.17.) | S14: 국비 변경내시, 여성가족부 학교밖청소년지원과-1553(2016.8.17.) | T14: 국비 변경내시, 여성가족부 학교밖청소년지원과-1553(2016.8.17.) | V14: 기금 | W14: =IF($V14<>"도비",IF($AF14="국도비","직접입력",SUM($K14:$L14)),) -> 6500 | X14: =IF($V14="도비",SUM($K14:$L14),IF($AF14="국도비","직접입력",SUM($K14:$L14)-$W14)) -> 0 | Y14: =IF($AF14="국도비","ok",IF(($K14+$L14)=($W14+$X14),"ok","검토")) -> ok | AA14: =$V14 -> 기금 | AB14: =IF($AA14<>"도비",IF($AF14="국도비","직접입력",SUM($N14:$O14)),) -> 6500 | AC14: =IF($AA14="도비",SUM($N14:$O14),IF($AF14="국도비","직접입력",SUM($N14:$O14)-$AB14)) -> 0 | AD14: =IF($AF14="국도비","ok",IF(($N14+$O14)=($AB14+$AC14),"ok","검토")) -> ok | AF14: =IF(AH14="","",IF($V14="도비","세입없음",$AH14&"-"&TEXT(COUNTIF(AH$7:AH14,AH$7:AH14),"00"))) -> 1006-01 | AH14: {=IFERROR(IF($C14="","",INDEX(구분표!$I$2:$I$1001,MATCH(1,(구분표!$B$2:$B$1001='16년3추 일입'!$A14)*(구분표!$C$2:$C$1001='16년3추 일입'!$B14)*(구분표!$A$2:$A$1001='16년3추 일입'!$C14),0))),"@@")} -> 1006 | AL14: =IF(AF14="","",SUMIFS('16년 3추일출'!$Y$14:$Y$9322,'16년 3추일출'!$AH$14:$AH$9322,'16년3추 일입'!$AF14)) -> 6500 | AM14: =IF(AF14="","",IF(AF14="세입없음","",COUNTIF('16년 3추일출'!$AH$14:$AH$9322,'16년3추 일입'!$AF14))) -> 1 | AN14: =IF(W14=0,"OK",IF(W14=AL14,"OK","@@")) -> OK | AP14: =IF(AF14="","",SUMIFS('16년 3추일출'!$AD$7:$AD$9322,'16년 3추일출'!$AH$7:$AH$9322,'16년3추 일입'!$AF14)) -> 6500 | AQ14: =IF(AF14="","",IF(AF14="세입없음","",COUNTIF('16년 3추일출'!$AH$14:$AH$9322,'16년3추 일입'!$AF14))) -> 1 | AR14: =IF(AB14=0,"OK",IF(AB14=AP14,"OK","@@")) -> OK | AS14: =SUM(N14:O14)-SUM(AB14:AC14) -> 0
A15: 여성가족교육협력위원회 | B15: 여성가족국 | C15: 여성비전센터 | D15: 3회추경 | E15: 780 | F15: 31 | G15: 국고보조금 - 아이돌봄 지원사업 | H15: 15729649 | I15: 15727000 | J15: =IF(D15="","",H15-I15) -> 2649 | K15: -2649 | M15: =H15+K15+L15 -> 15727000 | N15: -2649 | P15: =H15+N15+O15 -> 15727000 | R15: 아이돌봄 사업간 예산액 조정 | S15: 아이돌봄 사업간 예산액 조정 | T15: 아이돌봄 사업간 예산액 조정 | V15: 국비 | W15: =IF($V15<>"도비",IF($AF15="국도비","직접입력",SUM($K15:$L15)),) -> -2649 | X15: =IF($V15="도비",SUM($K15:$L15),IF($AF15="국도비","직접입력",SUM($K15:$L15)-$W15)) -> 0 | Y15: =IF($AF15="국도비","ok",IF(($K15+$L15)=($W15+$X15),"ok","검토")) -> ok | AA15: =$V15 -> 국비 | AB15: =IF($AA15<>"도비",IF($AF15="국도비","직접입력",SUM($N15:$O15)),) -> -2649 | AC15: =IF($AA15="도비",SUM($N15:$O15),IF($AF15="국도비","직접입력",SUM($N15:$O15)-$AB15)) -> 0 | AD15: =IF($AF15="국도비","ok",IF(($N15+$O15)=($AB15+$AC15),"ok","검토")) -> ok | AF15: =IF(AH15="","",IF($V15="도비","세입없음",$AH15&"-"&TEXT(COUNTIF(AH$7:AH15,AH$7:AH15),"00"))) -> 1008-01 | AH15: {=IFERROR(IF($C15="","",INDEX(구분표!$I$2:$I$1001,MATCH(1,(구분표!$B$2:$B$1001='16년3추 일입'!$A15)*(구분표!$C$2:$C$1001='16년3추 일입'!$B15)*(구분표!$A$2:$A$1001='16년3추 일입'!$C15),0))),"@@")} -> 1008 | AL15: =IF(AF15="","",SUMIFS('16년 3추일출'!$Y$14:$Y$9322,'16년 3추일출'!$AH$14:$AH$9322,'16년3추 일입'!$AF15)) -> -2649 | AM15: =IF(AF15="","",IF(AF15="세입없음","",COUNTIF('16년 3추일출'!$AH$14:$AH$9322,'16년3추 일입'!$AF15))) -> 1 | AN15: =IF(W15=0,"OK",IF(W15=AL15,"OK","@@")) -> OK | AP15: =IF(AF15="","",SUMIFS('16년 3추일출'!$AD$7:$AD$9322,'16년 3추일출'!$AH$7:$AH$9322,'16년3추 일입'!$AF15)) -> -2649 | AQ15: =IF(AF15="","",IF(AF15="세입없음","",COUNTIF('16년 3추일출'!$AH$14:$AH$9322,'16년3추 일입'!$AF15))) -> 1 | AR15: =IF(AB15=0,"OK",IF(AB15=AP15,"OK","@@")) -> OK | AS15: =SUM(N15:O15)-SUM(AB15:AC15) -> 0
