Workbook

Sheet 구분표
A1: 실과명 조정 | B1: 위원회명 조정 | C1: 실국명 조정 | E1: 실국명 | F1: 실과명 | G1: 위원회명 | H1: 정렬순서 | I1: 정렬코드 | K1: 2014재원 | L1: 2015재원 | N1: 본예산 | O1: 2회추경 | Q1: 국도비 등 여부 | S1: 동의여부
A2: =#VALUE! -> #VALUE! | B2: =G2 -> 의회운영위원회 | C2: =#VALUE! -> #VALUE! | E2: 의회사무처 | F2: 의회사무처 | G2: 의회운영위원회 | H2: 1 | I2: 0101 | K2: 도비 | L2: 도비 | N2: 본예산 | O2: 2회추경 | Q2: 국도비 | S2: 동의
A3: =#VALUE! -> #VALUE! | B3: =G3 -> 의회운영위원회 | C3: =#VALUE! -> #VALUE! | E3: 대변인 | F3: 언론담당관 | G3: 의회운영위원회 | H3: 2 | I3: 0201 | K3: 국비 | L3: 국비 | N3: 신규 | O3: 1회추경 | Q3: 도비 | S3: 부동의
A4: =#VALUE! -> #VALUE! | B4: =G4 -> 의회운영위원회 | C4: =#VALUE! -> #VALUE! | E4: 대변인 | F4: 홍보담당관 | G4: 의회운영위원회 | H4: 3 | I4: 0202 | K4: 광특 | L4: 지특 | O4: 본예산
A5: =#VALUE! -> #VALUE! | B5: =G5 -> 의회운영위원회 | C5: =#VALUE! -> #VALUE! | E5: 대변인 | F5: 소통담당관 | G5: 의회운영위원회 | H5: 4 | I5: 0203 | K5: 기금 | L5: 기금 | O5: 신규
A6: =#VALUE! -> #VALUE! | B6: =G6 -> 의회운영위원회 | C6: =#VALUE! -> #VALUE! | E6: 대외협력담당관 | F6: 대외협력담당관 | G6: 의회운영위원회 | H6: 5 | I6: 0301 | K6: 분권 | L6: 특교
A7: =#VALUE! -> #VALUE! | B7: =G7 -> 의회운영위원회 | C7: =#VALUE! -> #VALUE! | E7: 대외협력담당관 | F7: 서울사무소 | G7: 의회운영위원회 | H7: 6 | I7: 0302 | K7: 특교
A8: =#VALUE! -> #VALUE! | B8: =G8 -> 기획재정위원회 | C8: =#VALUE! -> #VALUE! | E8: 감사관 | F8: 감사총괄담당관 | G8: 기획재정위원회 | H8: 7 | I8: 0401
A9: =#VALUE! -> #VALUE! | B9: =G9 -> 기획재정위원회 | C9: =#VALUE! -> #VALUE! | E9: 감사관 | F9: 조사담당관 | G9: 기획재정위원회 | H9: 8 | I9: 0402
A10: =#VALUE! -> #VALUE! | B10: =G10 -> 기획재정위원회 | C10: =#VALUE! -> #VALUE! | E10: 감사관 | F10: 감사담당관 | G10: 기획재정위원회 | H10: 9 | I10: 0403
A11: =#VALUE! -> #VALUE! | B11: =G11 -> 기획재정위원회 | C11: =#VALUE! -> #VALUE! | E11: 감사관 | F11: 계약심사담당관 | G11: 기획재정위원회 | H11: 10 | I11: 0404
A12: =#VALUE! -> #VALUE! | B12: =G12 -> 기획재정위원회 | C12: =#VALUE! -> #VALUE! | E12: 기획조정실 | F12: 기획담당관 | G12: 기획재정위원회 | H12: 11 | I12: 0501
A13: =#VALUE! -> #VALUE! | B13: =G13 -> 기획재정위원회 | C13: =#VALUE! -> #VALUE! | E13: 기획조정실 | F13: 미래전략담당관 | G13: 기획재정위원회 | H13: 12 | I13: 0502
A14: =#VALUE! -> #VALUE! | B14: =G14 -> 기획재정위원회 | C14: =#VALUE! -> #VALUE! | E14: 기획조정실 | F14: 예산담당관 | G14: 기획재정위원회 | H14: 13 | I14: 0503
A15: =#VALUE! -> #VALUE! | B15: =G15 -> 기획재정위원회 | C15: =#VALUE! -> #VALUE! | E15: 기획조정실 | F15: 평가담당관 | G15: 기획재정위원회 | H15: 14 | I15: 0504
A16: =#VALUE! -> #VALUE! | B16: =G16 -> 기획재정위원회 | C16: =#VALUE! -> #VALUE! | E16: 기획조정실 | F16: 법무담당관 | G16: 기획재정위원회 | H16: 15 | I16: 0505
A17: =#VALUE! -> #VALUE! | B17: =G17 -> 기획재정위원회 | C17: =#VALUE! -> #VALUE! | E17: 기획조정실 | F17: 규제개혁추진단 | G17: 기획재정위원회 | H17: 16 | I17: 0506
A18: =#VALUE! -> #VALUE! | B18: =G18 -> 기획재정위원회 | C18: =#VALUE! -> #VALUE! | E18: 기획조정실 | F18: 따복공동체지원단 | G18: 기획재정위원회 | H18: 17 | I18: 0507
A19: =#VALUE! -> #VALUE! | B19: =G19 -> 기획재정위원회 | C19: =#VALUE! -> #VALUE! | E19: 기획조정실 | F19: 정보기획담당관 | G19: 기획재정위원회 | H19: 18 | I19: 0508
... A174: =#VALUE! -> #VALUE! | B174: =G174 -> 도시환경위원회 | C174: =#VALUE! -> #VALUE! | E174: 경기도보건환경연구원 | F174: 보건환경연구원(수질연구부) | G174: 도시환경위원회 | H174: 173 | I174: 2902
A175: =#VALUE! -> #VALUE! | B175: =G175 -> 도시환경위원회 | C175: =#VALUE! -> #VALUE! | E175: 경기도보건환경연구원 | F175: 보건환경연구원북부지원 | G175: 도시환경위원회 | H175: 187 | I175: 2903
A176: =#VALUE! -> #VALUE! | B176: =G176 -> 도시환경위원회 | C176: =#VALUE! -> #VALUE! | E176: 수자원본부 | F176: 수자원본부 | G176: 도시환경위원회 | H176: 174 | I176: 3001
A177: =#VALUE! -> #VALUE! | B177: =G177 -> 여성가족교육협력위원회 | C177: =#VALUE! -> #VALUE! | E177: 교육협력국 | F177: 교육정책과 | G177: 여성가족교육협력위원회 | H177: 175 | I177: 3101
A178: =#VALUE! -> #VALUE! | B178: =G178 -> 여성가족교육협력위원회 | C178: =#VALUE! -> #VALUE! | E178: 교육협력국 | F178: 교육협력과 | G178: 여성가족교육협력위원회 | H178: 176 | I178: 3102
A179: =#VALUE! -> #VALUE! | B179: =G179 -> 여성가족교육협력위원회 | C179: =#VALUE! -> #VALUE! | E179: 교육협력국 | F179: 도서관정책과 | G179: 여성가족교육협력위원회 | H179: 177 | I179: 3103
A180: =#VALUE! -> #VALUE! | B180: =G180 -> 여성가족교육협력위원회 | C180: =#VALUE! -> #VALUE! | E180: 여성가족국 | F180: 여성가족과 | G180: 여성가족교육협력위원회 | H180: 178 | I180: 3201
A181: =#VALUE! -> #VALUE! | B181: =G181 -> 여성가족교육협력위원회 | C181: =#VALUE! -> #VALUE! | E181: 여성가족국 | F181: 보육정책과 | G181: 여성가족교육협력위원회 | H181: 179 | I181: 3202
A182: =#VALUE! -> #VALUE! | B182: =G182 -> 여성가족교육협력위원회 | C182: =#VALUE! -> #VALUE! | E182: 여성가족국 | F182: 아동청소년과 | G182: 여성가족교육협력위원회 | H182: 180 | I182: 3203
A183: =#VALUE! -> #VALUE! | B183: =G183 -> 여성가족교육협력위원회 | C183: =#VALUE! -> #VALUE! | E183: 여성가족국 | F183: 다문화가족과 | G183: 여성가족교육협력위원회 | H183: 181 | I183: 3204
A184: =#VALUE! -> #VALUE! | B184: =G184 -> 여성가족교육협력위원회 | C184: =#VALUE! -> #VALUE! | E184: 여성가족국 | F184: 여성비전센터 | G184: 여성가족교육협력위원회 | H184: 182 | I184: 3205
A185: =#VALUE! -> #VALUE! | B185: =G185 -> 여성가족교육협력위원회 | C185: =#VALUE! -> #VALUE! | E185: 여성가족국 | F185: 여성능력개발센터 | G185: 여성가족교육협력위원회 | H185: 183 | I185: 3206
A186: =#VALUE! -> #VALUE! | B186: =G186 -> 여성가족교육협력위원회 | C186: =#VALUE! -> #VALUE! | E186: 복지여성실 | F186: 가족여성담당관 | G186: 여성가족교육협력위원회 | H186: 184 | I186: 3301
A187: =#VALUE! -> #VALUE! | B187: =G187 -> 여성가족교육협력위원회 | C187: =#VALUE! -> #VALUE! | E187: 복지여성실 | F187: 보육청소년담당관 | G187: 여성가족교육협력위원회 | H187: 185 | I187: 3302
A188: =#VALUE! -> #VALUE! | B188: =G188 -> 여성가족교육협력위원회 | C188: =#VALUE! -> #VALUE! | E188: 복지여성실 | F188: 북부여성비전센터 | G188: 여성가족교육협력위원회 | H188: 186 | I188: 3303

Sheet 15년검증
A1: 2015년 본예산 검증 | H1: 본예산 예비비 | J1: 124682800
M2: (단위 : 천원)
A3: 구 분 | B3: 상임위 | H3: 구 분 | I3: 예결위
B4: 세입 | C4: 검증 | D4: 세출 | E4: 검증 | F4: 차액 | I4: 세입 | J4: 검증 | K4: 세출 | L4: 검증 | M4: 차액
A5: 전체 총계 | B5: =SUM(B6,B9) -> #REF! | C5: =IF(B5=#REF!,"OK","@@") -> #REF! | D5: =SUM(D6,D9) -> #REF! | E5: =IF(D5=#REF!,"OK","@@") -> #REF! | H5: 전체 총계 | I5: =SUM(I6,I9) -> #REF! | J5: =IF(I5=#REF!,"OK","@@") -> #REF! | K5: =SUM(K6,K9) -> #REF! | L5: =IF(K5=#REF!,"OK","@@") -> #REF!
A6: 자체 총계 | B6: =SUM(B7:B8) -> #REF! | C6: =IF(B6=#REF!,"OK","@@") -> #REF! | D6: =SUM(D7:D8) -> #REF! | E6: =IF($D$6=#REF!,"OK","@@") -> #REF! | H6: 자체 총계 | I6: =SUM(I7:I8) -> #REF! | J6: =IF(I6=#REF!,"OK","@@") -> #REF! | K6: =SUM(K7:K8) -> #REF! | L6: =IF($K6=#REF!,"OK","@@") -> #REF!
A7: 자체 도비 | B7: =SUMIFS(#REF!,#REF!,"도비") -> #REF! | D7: =SUMIFS(#REF!,#REF!,"도비") -> #REF! | H7: 자체 도비 | I7: =SUMIFS(#REF!,#REF!,"도비") -> #REF! | K7: =SUMIFS(#REF!,#REF!,"도비") -> #REF!
A8: 의존 매칭 도비 | B8: =SUMIFS(#REF!,#REF!,"국비")+SUMIFS(#REF!,#REF!,"지특")+SUMIFS(#REF!,#REF!,"기금")+SUMIFS(#REF!,#REF!,"분권")+SUMIFS(#REF!,#REF!,"특교") -> #REF! | D8: =SUMIFS(#REF!,#REF!,"국비")+SUMIFS(#REF!,#REF!,"지특")+SUMIFS(#REF!,#REF!,"기금")+SUMIFS(#REF!,#REF!,"분권")+SUMIFS(#REF!,#REF!,"특교") -> #REF! | H8: 의존 매칭 도비 | I8: =SUMIFS(#REF!,#REF!,"국비")+SUMIFS(#REF!,#REF!,"지특")+SUMIFS(#REF!,#REF!,"기금")+SUMIFS(#REF!,#REF!,"분권")+SUMIFS(#REF!,#REF!,"특교") -> #REF! | K8: =SUMIFS(#REF!,#REF!,"국비")+SUMIFS(#REF!,#REF!,"지특")+SUMIFS(#REF!,#REF!,"기금")+SUMIFS(#REF!,#REF!,"분권")+SUMIFS(#REF!,#REF!,"특교") -> #REF!
A9: 의존계 | B9: =SUM(B10:B14) -> #REF! | C9: =IF(B9=#REF!,"OK","@@") -> #REF! | D9: =SUM(D10:D14) -> #REF! | E9: =IF(B9=D9,"OK","@@") -> #REF! | F9: =D9-B9 -> #REF! | H9: 의존계 | I9: =SUM(I10:I14) -> #REF! | J9: =IF(I9=#REF!,"OK","@@") -> #REF! | K9: =SUM(K10:K14) -> #REF! | L9: =IF(I9=K9,"OK","@@") -> #REF!
A10: 국비 | B10: =SUMIFS(#REF!,#REF!,'15년검증'!$A10) -> #REF! | D10: =SUMIFS(#REF!,#REF!,'15년검증'!$A10) -> #REF! | E10: =IF(B10=D10,"OK","@@") -> #REF! | F10: =D10-B10 -> #REF! | H10: 국비 | I10: =SUMIFS(#REF!,#REF!,'15년검증'!$A10) -> #REF! | K10: =SUMIFS(#REF!,#REF!,'15년검증'!$A10) -> #REF! | L10: =IF(I10=K10,"OK","@@") -> #REF! | M10: =K10-I10 -> #REF!
A11: 지특 | B11: =SUMIFS(#REF!,#REF!,'15년검증'!$A11) -> #REF! | D11: =SUMIFS(#REF!,#REF!,'15년검증'!$A11) -> #REF! | E11: =IF(B11=D11,"OK","@@") -> #REF! | F11: =D11-B11 -> #REF! | H11: 지특 | I11: =SUMIFS(#REF!,#REF!,'15년검증'!$A11) -> #REF! | K11: =SUMIFS(#REF!,#REF!,'15년검증'!$A11) -> #REF! | L11: =IF(I11=K11,"OK","@@") -> #REF! | M11: =K11-I11 -> #REF!
A12: 기금 | B12: =SUMIFS(#REF!,#REF!,'15년검증'!$A12) -> #REF! | D12: =SUMIFS(#REF!,#REF!,'15년검증'!$A12) -> #REF! | E12: =IF(B12=D12,"OK","@@") -> #REF! | F12: =D12-B12 -> #REF! | H12: 기금 | I12: =SUMIFS(#REF!,#REF!,'15년검증'!$A12) -> #REF! | K12: =SUMIFS(#REF!,#REF!,'15년검증'!$A12) -> #REF! | L12: =IF(I12=K12,"OK","@@") -> #REF! | M12: =K12-I12 -> #REF!
A13: 분권 | B13: =SUMIFS(#REF!,#REF!,'15년검증'!$A13) -> #REF! | D13: =SUMIFS(#REF!,#REF!,'15년검증'!$A13) -> #REF! | E13: =IF(B13=D13,"OK","@@") -> #REF! | F13: =D13-B13 -> #REF! | H13: 분권 | I13: =SUMIFS(#REF!,#REF!,'15년검증'!$A13) -> #REF! | K13: =SUMIFS(#REF!,#REF!,'15년검증'!$A13) -> #REF! | L13: =IF(I13=K13,"OK","@@") -> #REF! | M13: =K13-I13 -> #REF!
A14: 특교 | B14: =SUMIFS(#REF!,#REF!,'15년검증'!$A14) -> #REF! | D14: =SUMIFS(#REF!,#REF!,'15년검증'!$A14) -> #REF! | E14: =IF(B14=D14,"OK","@@") -> #REF! | F14: =D14-B14 -> #REF! | H14: 특교 | I14: =SUMIFS(#REF!,#REF!,'15년검증'!$A14) -> #REF! | K14: =SUMIFS(#REF!,#REF!,'15년검증'!$A14) -> #REF! | L14: =IF(I14=K14,"OK","@@") -> #REF! | M14: =K14-I14 -> #REF!
H16: 예비비 조정액 | I16: =IFERROR(INDEX(#REF!,MATCH("*예비비*",#REF!,0)),"")
I18: =SUM(I5-K5) -> #REF!
H20: 예비비 조정잔액 | I20: =IFERROR(SUM(J1+I16),"")

Sheet 2추검증
A1: 2회추경 검증 | H1: 2회추경 예비비 | J1: 22466366
M2: (단위 : 천원)
A3: 구 분 | B3: 상임위 | H3: 구 분 | I3: 예결위
B4: 세입 | C4: 검증 | D4: 세출 | E4: 검증 | F4: 차액 | I4: 세입 | J4: 검증 | K4: 세출 | L4: 검증 | M4: 차액
A5: 전체 총계 | B5: =SUM(B6,B9) -> #REF! | C5: =IF(B5=#REF!,"OK","@@") -> #REF! | D5: =SUM(D6,D9) -> #REF! | E5: =IF(D5=#REF!,"OK","@@") -> #REF! | H5: 전체 총계 | I5: =SUM(I6,I9) -> #REF! | J5: =IF(I5=#REF!,"OK","@@") -> #REF! | K5: =SUM(K6,K9) -> #REF! | L5: =IF(K5=#REF!,"OK","@@") -> #REF!
A6: 자체 총계 | B6: =SUM(B7:B8) -> #REF! | C6: =IF(B6=#REF!,"OK","@@") -> #REF! | D6: =SUM(D7:D8) -> #REF! | E6: =IF($D$6=#REF!,"OK","@@") -> #REF! | H6: 자체 총계 | I6: =SUM(I7:I8) -> #REF! | J6: =IF(I6=#REF!,"OK","@@") -> #REF! | K6: =SUM(K7:K8) -> #REF! | L6: =IF($K6=#REF!,"OK","@@") -> #REF!
A7: 자체 도비 | B7: =SUMIFS(#REF!,#REF!,"도비") -> #REF! | D7: =SUMIFS(#REF!,#REF!,"도비") -> #REF! | H7: 자체 도비 | I7: =SUMIFS(#REF!,#REF!,"도비") -> #REF! | K7: =SUMIFS(#REF!,#REF!,"도비") -> #REF!
A8: 의존 매칭 도비 | B8: =SUMIFS(#REF!,#REF!,"국비")+SUMIFS(#REF!,#REF!,"광특")+SUMIFS(#REF!,#REF!,"기금")+SUMIFS(#REF!,#REF!,"분권")+SUMIFS(#REF!,#REF!,"특교") -> #REF! | D8: =SUMIFS(#REF!,#REF!,"국비")+SUMIFS(#REF!,#REF!,"광특")+SUMIFS(#REF!,#REF!,"기금")+SUMIFS(#REF!,#REF!,"분권")+SUMIFS(#REF!,#REF!,"특교") -> #REF! | H8: 의존 매칭 도비 | I8: =SUMIFS(#REF!,#REF!,"국비")+SUMIFS(#REF!,#REF!,"광특")+SUMIFS(#REF!,#REF!,"기금")+SUMIFS(#REF!,#REF!,"분권")+SUMIFS(#REF!,#REF!,"특교") -> #REF! | K8: =SUMIFS(#REF!,#REF!,"국비")+SUMIFS(#REF!,#REF!,"광특")+SUMIFS(#REF!,#REF!,"기금")+SUMIFS(#REF!,#REF!,"분권")+SUMIFS(#REF!,#REF!,"특교") -> #REF!
A9: 의존계 | B9: =SUM(B10:B14) -> #REF! | C9: =IF(B9=#REF!,"OK","@@") -> #REF! | D9: =SUM(D10:D14) -> #REF! | E9: =IF(B9=D9,"OK","@@") -> #REF! | F9: =D9-B9 -> #REF! | H9: 의존계 | I9: =SUM(I10:I14) -> #REF! | J9: =IF(I9=#REF!,"OK","@@") -> #REF! | K9: =SUM(K10:K14) -> #REF! | L9: =IF(I9=K9,"OK","@@") -> #REF! | M9: =K9-I9 -> #REF!
A10: 국비 | B10: =SUMIFS(#REF!,#REF!,'2추검증'!$A10) -> #REF! | D10: =SUMIFS(#REF!,#REF!,'2추검증'!$A10) -> #REF! | E10: =IF(B10=D10,"OK","@@") -> #REF! | F10: =D10-B10 -> #REF! | H10: 국비 | I10: =SUMIFS(#REF!,#REF!,'2추검증'!$A10) -> #REF! | K10: =SUMIFS(#REF!,#REF!,'2추검증'!$A10) -> #REF! | L10: =IF(I10=K10,"OK","@@") -> #REF! | M10: =K10-I10 -> #REF!
A11: 광특 | B11: =SUMIFS(#REF!,#REF!,'2추검증'!$A11) -> #REF! | D11: =SUMIFS(#REF!,#REF!,'2추검증'!$A11) -> #REF! | E11: =IF(B11=D11,"OK","@@") -> #REF! | F11: =D11-B11 -> #REF! | H11: 광특 | I11: =SUMIFS(#REF!,#REF!,'2추검증'!$A11) -> #REF! | K11: =SUMIFS(#REF!,#REF!,'2추검증'!$A11) -> #REF! | L11: =IF(I11=K11,"OK","@@") -> #REF! | M11: =K11-I11 -> #REF!
A12: 기금 | B12: =SUMIFS(#REF!,#REF!,'2추검증'!$A12) -> #REF! | D12: =SUMIFS(#REF!,#REF!,'2추검증'!$A12) -> #REF! | E12: =IF(B12=D12,"OK","@@") -> #REF! | F12: =D12-B12 -> #REF! | H12: 기금 | I12: =SUMIFS(#REF!,#REF!,'2추검증'!$A12) -> #REF! | K12: =SUMIFS(#REF!,#REF!,'2추검증'!$A12) -> #REF! | L12: =IF(I12=K12,"OK","@@") -> #REF! | M12: =K12-I12 -> #REF!
A13: 분권 | B13: =SUMIFS(#REF!,#REF!,'2추검증'!$A13) -> #REF! | D13: =SUMIFS(#REF!,#REF!,'2추검증'!$A13) -> #REF! | E13: =IF(B13=D13,"OK","@@") -> #REF! | F13: =D13-B13 -> #REF! | H13: 분권 | I13: =SUMIFS(#REF!,#REF!,'2추검증'!$A13) -> #REF! | K13: =SUMIFS(#REF!,#REF!,'2추검증'!$A13) -> #REF! | L13: =IF(I13=K13,"OK","@@") -> #REF! | M13: =K13-I13 -> #REF!
A14: 특교 | B14: =SUMIFS(#REF!,#REF!,'2추검증'!$A14) -> #REF! | D14: =SUMIFS(#REF!,#REF!,'2추검증'!$A14) -> #REF! | E14: =IF(B14=D14,"OK","@@") -> #REF! | F14: =D14-B14 -> #REF! | H14: 특교 | I14: =SUMIFS(#REF!,#REF!,'2추검증'!$A14) -> #REF! | K14: =SUMIFS(#REF!,#REF!,'2추검증'!$A14) -> #REF! | L14: =IF(I14=K14,"OK","@@") -> #REF! | M14: =K14-I14 -> #REF!
H16: 예비비 조정액 | I16: =IFERROR(INDEX(#REF!,MATCH("*예비비*",#REF!,0)),"")
I18: =SUM(I5-K5) -> #REF!
H20: 예비비 조정잔액 | I20: =IFERROR(SUM(J1-I16),"")

Sheet 상임 표지
D2: 2014년도 제2회 일반회계 및 특별회계 추가경정 세입·세출 예산안
D4: 상 임 위 계 수 조 정 결 과
D16: 예산결산특별위원회

Sheet 표지
D2: 2014년도 제2회 일반회계 및 특별회계 추가경정 세입·세출 예산안
A4: 예결위 계수조정 결과
D16: 예산결산특별위원회

Sheet 예결 표지
B5: 2014년도 제2회 일반회계 및 특별회계 추가경정 세입·세출 예산안
B7: 예결위 계수조정 결과
B33: 예산결산특별위원회

Sheet 예결 표지(가로)
B3: 2014년도 제2회 일반회계 및 특별회계 추가경정 세입·세출 예산안
B5: 예결위 계수조정 결과
B24: 예산결산특별위원회

Sheet 15년총괄표
B1: 2015년도 경기도 일반 및 특별회계 세입·세출 예산안[전체예산총괄]
B3: □ 총 괄 | D3: 세입예산증감 | E3: =SUM(D7:E7) -> #REF! | F3: 세출예산증감 | G3: =SUM(F7:G7) -> #REF!
H4: (단위:천원) | M4: (일반+특별+기금) | O4: 특별+기금
B5: 구 분 | C5: 집행부제출(안) | D5: 세입예산(안) | F5: 세출예산(안) | H5: 예산수정(안) | I5: 일반회계 증감(총괄표) | K5: 예비비증감 | L5: 비 고 | M5: 전체 증감(시트) | O5: 비고
D6: 감 액 | E6: 증 액 | F6: 감 액 | G6: 증 액 | I6: 세입 | J6: 세출 | M6: 세입 | N6: 세출
B7: 합 계 | C7: =SUM(C8:C18) -> 17818538715 | D7: =SUM(D8:D18) -> #REF! | E7: =SUM(E8:E18) -> #REF! | F7: =SUM(F8:F18) -> #REF! | G7: =SUM(G8:G18) -> #REF! | H7: =SUM(H8:H18) -> #REF! | I7: =E25+D25 -> #REF! | J7: =F25+G25 -> #REF! | K7: =I7-J7 -> #REF! | L7: 예비비 증감이 - 예산이면 감액에 + 예산이면 증액에 입력 | M7: =D24+E24 -> #REF! | N7: =F24+G24 -> #REF! | O7: 0 | P7: 0
B8: 기 타 | C8: 0 | H8: =C8-F8+G8 -> 0 | I8: =D7+E7 -> #REF! | J8: =F7+G7 -> #REF! | K8: =I8-J8 -> #REF!
B9: 의회운영위원회 | C9: 43594098 | D9: =SUMIFS(#REF!,#REF!,'15년총괄표'!$B9) -> #REF! | E9: =SUMIFS(#REF!,#REF!,'15년총괄표'!$B9) -> #REF! | F9: =SUMIFS(#REF!,#REF!,'15년총괄표'!$B9) -> #REF! | G9: =SUMIFS(#REF!,#REF!,'15년총괄표'!$B9) -> #REF! | H9: =C9+F9+G9 -> #REF! | I9: 일반회계 증감(시트) | N9: 전체 증감
B10: 기획재정위원회 | C10: 5206191432 | D10: =SUMIFS(#REF!,#REF!,'15년총괄표'!$B10) -> #REF! | E10: =SUMIFS(#REF!,#REF!,'15년총괄표'!$B10) -> #REF! | F10: =SUMIFS(#REF!,#REF!,'15년총괄표'!$B10) -> #REF! | G10: =SUMIFS(#REF!,#REF!,'15년총괄표'!$B10) -> #REF! | H10: =C10+F10+G10 -> #REF! | I10: =#REF!+#REF! -> #REF! | J10: =#REF!+#REF! -> #REF! | N10: =M7-N7 -> #REF!
B11: 경제과학기술위원회 | C11: 506163851 | D11: =SUMIFS(#REF!,#REF!,'15년총괄표'!$B11) -> #REF! | E11: =SUMIFS(#REF!,#REF!,'15년총괄표'!$B11) -> #REF! | F11: =SUMIFS(#REF!,#REF!,'15년총괄표'!$B11) -> #REF! | G11: =SUMIFS(#REF!,#REF!,'15년총괄표'!$B11) -> #REF! | H11: =C11+F11+G11 -> #REF!
B12: 안전행정위원회 | C12: 1207474631 | D12: =SUMIFS(#REF!,#REF!,'15년총괄표'!$B12) -> #REF! | E12: =SUMIFS(#REF!,#REF!,'15년총괄표'!$B12) -> #REF! | F12: =SUMIFS(#REF!,#REF!,'15년총괄표'!$B12) -> #REF! | G12: =SUMIFS(#REF!,#REF!,'15년총괄표'!$B12) -> #REF! | H12: =C12+F12+G12 -> #REF!
B13: 문화체육관광위원회 | C13: 309073261 | D13: =SUMIFS(#REF!,#REF!,'15년총괄표'!$B13) -> #REF! | E13: =SUMIFS(#REF!,#REF!,'15년총괄표'!$B13) -> #REF! | F13: =SUMIFS(#REF!,#REF!,'15년총괄표'!$B13) -> #REF! | G13: =SUMIFS(#REF!,#REF!,'15년총괄표'!$B13) -> #REF! | H13: =C13+F13+G13 -> #REF! | N13: 기금
B14: 농정해양위원회 | C14: 442431566 | D14: =SUMIFS(#REF!,#REF!,'15년총괄표'!$B14) -> #REF! | E14: =SUMIFS(#REF!,#REF!,'15년총괄표'!$B14) -> #REF! | F14: =SUMIFS(#REF!,#REF!,'15년총괄표'!$B14) -> #REF! | G14: =SUMIFS(#REF!,#REF!,'15년총괄표'!$B14) -> #REF! | H14: =C14+F14+G14 -> #REF! | N14: =N10-K7 -> #REF!
B15: 보건복지위원회 | C15: 3621498611 | D15: =SUMIFS(#REF!,#REF!,'15년총괄표'!$B15) -> #REF! | E15: =SUMIFS(#REF!,#REF!,'15년총괄표'!$B15) -> #REF! | F15: =SUMIFS(#REF!,#REF!,'15년총괄표'!$B15) -> #REF! | G15: =SUMIFS(#REF!,#REF!,'15년총괄표'!$B15) -> #REF! | H15: =C15+F15+G15 -> #REF!
B16: 건설교통위원회 | C16: 1291490754 | D16: =SUMIFS(#REF!,#REF!,'15년총괄표'!$B16) -> #REF! | E16: =SUMIFS(#REF!,#REF!,'15년총괄표'!$B16) -> #REF! | F16: =SUMIFS(#REF!,#REF!,'15년총괄표'!$B16) -> #REF! | G16: =SUMIFS(#REF!,#REF!,'15년총괄표'!$B16) -> #REF! | H16: =C16+F16+G16 -> #REF!
B17: 도시환경위원회 | C17: 1095793534 | D17: =SUMIFS(#REF!,#REF!,'15년총괄표'!$B17) -> #REF! | E17: =SUMIFS(#REF!,#REF!,'15년총괄표'!$B17) -> #REF! | F17: =SUMIFS(#REF!,#REF!,'15년총괄표'!$B17) -> #REF! | G17: =SUMIFS(#REF!,#REF!,'15년총괄표'!$B17) -> #REF! | H17: =C17+F17+G17 -> #REF!
B18: 여성가족교육협력위원회 | C18: 4094826977 | D18: =SUMIFS(#REF!,#REF!,'15년총괄표'!$B18) -> #REF! | E18: =SUMIFS(#REF!,#REF!,'15년총괄표'!$B18) -> #REF! | F18: =SUMIFS(#REF!,#REF!,'15년총괄표'!$B18) -> #REF! | G18: =SUMIFS(#REF!,#REF!,'15년총괄표'!$B18) -> #REF! | H18: =C18+F18+G18 -> #REF!
B20: □ 회계별 예산총규모
H21: (단위:천원)
B22: 구 분 | C22: 세출예산액 (집행부제출 안) | D22: 세입예산(안) | F22: 세출예산(안) | H22: 예산수정(안)
D23: 감 액 | E23: 증 액 | F23: 감 액 | G23: 증 액 | I23: 세입기준 수정예산안
B24: 합 계 | C24: =SUM(C25:C26) -> 17818538715 | D24: =SUM(D25:D26) -> #REF! | E24: =SUM(E25:E26) -> #REF! | F24: =SUM(F25:F26) -> #REF! | G24: =SUM(G25:G26) -> #REF! | H24: =SUM(H25:H26) -> #REF! | I24: =C24+D24+E24 -> #REF! | J24: =I24-H24 -> #REF! | K24: (세출기준-세입기준)
B25: 일반회계 | C25: 14504760931 | D25: =#REF! -> #REF! | E25: =#REF! -> #REF! | F25: =#REF! -> #REF! | G25: =#REF! -> #REF! | H25: =C25+F25+G25 -> #REF! | I25: =C25+D25+E25 -> #REF! | J25: =I25-H25 -> #REF! | K25: (세출기준-세입기준)
B26: 특별회계 | C26: 3313777784 | H26: =C26+F26+G26 -> 3313777784 | I26: =C26+D26+E26 -> 3313777784 | J26: =I26-H26 -> 0 | K26: (세출기준-세입기준)
B30: 위원회명 | C30: 일반+기특 | D30: 공기업 | E30: 합계
B31: 의회운영위원회 | C31: 39922113 | E31: =SUM(C31:D31) -> 39922113
B32: 기획재정위원회 | C32: 3302571667 | D32: 1780946434 | E32: =SUM(C32:D32) -> 5083518101
B33: 경제과학기술위원회 | C33: 155329320 | D33: 384743740 | E33: =SUM(C33:D33) -> 540073060
B34: 안전행정위원회 | C34: 1142858974 | E34: =SUM(C34:D34) -> 1142858974
B35: 문화체육관광위원회 | C35: 224243208 | D35: 52484400 | E35: =SUM(C35:D35) -> 276727608
B36: 농정해양위원회 | C36: 466978999 | E36: =SUM(C36:D36) -> 466978999
B37: 보건복지위원회 | C37: 3254006708 | E37: =SUM(C37:D37) -> 3254006708
B38: 건설교통위원회 | C38: 1220859831 | E38: =SUM(C38:D38) -> 1220859831
B39: 도시환경위원회 | C39: 866963933 | D39: 28360000 | E39: =SUM(C39:D39) -> 895323933
B40: 여성가족평생교육위원회 | C40: 4882582917 | E40: =SUM(C40:D40) -> 4882582917
B41: 총합계 | C41: =SUM(C31:C40) -> 15556317670 | D41: =SUM(D31:D40) -> 2246534574 | E41: =SUM(C41:D41) -> 17802852244
B43: 예비비 | C43: =3922478-221377 -> 3701101
B54: 위원회명 | C54: 일반 | D54: 기특 | E54: 공특 | F54: 합계
B56: 총합계 | C56: =SUM(C57:C66) -> 14504760931 | D56: =SUM(D57:D66) -> 1174065395 | E56: =SUM(E57:E66) -> 2139712389 | F56: =SUM(C56:E56) -> 17818538715
B57: 의회운영위원회 | C57: 43594098 | F57: =SUM(C57:E57) -> 43594098
B58: 기획재정위원회 | C58: 3440363748 | D58: 24291000 | E58: 1741536684 | F58: =SUM(C58:E58) -> 5206191432
B59: 경제과학기술위원회 | C59: 203612581 | E59: 302551270 | F59: =SUM(C59:E59) -> 506163851
B60: 안전행정위원회 | C60: 1207474631 | F60: =SUM(C60:E60) -> 1207474631
B61: 문화체육관광위원회 | C61: 246448826 | E61: 62624435 | F61: =SUM(C61:E61) -> 309073261
B62: 농정해양위원회 | C62: 442431566 | F62: =SUM(C62:E62) -> 442431566
B63: 보건복지위원회 | C63: 2784804193 | D63: 836694418 | F63: =SUM(C63:E63) -> 3621498611
B64: 건설교통위원회 | C64: 1163747689 | D64: =125570000+2173065 -> 127743065 | F64: =SUM(C64:E64) -> 1291490754
B65: 도시환경위원회 | C65: 1043870622 | D65: =4191000+14731912 -> 18922912 | E65: 33000000 | F65: =SUM(C65:E65) -> 1095793534
B66: 여성가족교육협력위원회 | C66: 3928412977 | D66: 166414000 | F66: =SUM(C66:E66) -> 4094826977
I145: ◦ 본청 83,000 증 ◦ 북부청 377,000 증
K275: -50000

Sheet 15년총괄표(실국별)
B1: 2015년도 경기도 일반 및 특별회계 세입·세출 예산안[전체예산총괄]
B3: □ 총괄(실국별) | E3: =SUM(D7:E7) -> #REF! | G3: =SUM(F7:G7) -> #REF!
H4: (단위:천원) | M4: (일반+특별+기금) | O4: 특별+기금
B5: 구 분 | C5: 집행부제출(안) | D5: 세입예산(안) | F5: 세출예산(안) | H5: 예산수정(안) | I5: 일반회계 증감(총괄표) | K5: 예비비증감 | L5: 비 고 | M5: 전체 증감(시트) | O5: 비고
D6: 감 액 | E6: 증 액 | F6: 감 액 | G6: 증 액 | I6: 세입 | J6: 세출 | M6: 세입 | N6: 세출
B7: 합 계 | C7: =SUM(C8:C33) -> 17818538715 | D7: =SUM(D8:D33) -> #REF! | E7: =SUM(E8:E33) -> #REF! | F7: =SUM(F8:F33) -> #REF! | G7: =SUM(G8:G33) -> #REF! | H7: =SUM(H8:H33) -> #REF! | I7: =#REF!+#REF! -> #REF! | J7: =#REF!+#REF! -> #REF! | K7: =I7-J7 -> #REF! | L7: 예비비 증감이 - 예산이면 감액에 + 예산이면 증액에 입력 | M7: =#REF!+#REF! -> #REF! | N7: =#REF!+#REF! -> #REF! | O7: 0 | P7: 0
B8: 감사관 | C8: 1230140 | D8: =SUMIFS(#REF!,#REF!,'15년총괄표(실국별)'!$B8) -> #REF! | E8: =SUMIFS(#REF!,#REF!,'15년총괄표(실국별)'!$B8) -> #REF! | F8: =SUMIFS(#REF!,#REF!,'15년총괄표(실국별)'!$B8) -> #REF! | G8: =SUMIFS(#REF!,#REF!,'15년총괄표(실국별)'!$B8) -> #REF! | H8: =C8+F8+G8 -> #REF! | I8: 일반회계 증감(시트) | N8: 전체 증감
B9: 기획조정실 | C9: 4995050831 | D9: =SUMIFS(#REF!,#REF!,'15년총괄표(실국별)'!$B9) -> #REF! | E9: =SUMIFS(#REF!,#REF!,'15년총괄표(실국별)'!$B9) -> #REF! | F9: =SUMIFS(#REF!,#REF!,'15년총괄표(실국별)'!$B9) -> #REF! | G9: =SUMIFS(#REF!,#REF!,'15년총괄표(실국별)'!$B9) -> #REF! | H9: =C9+F9+G9 -> #REF! | I9: =#REF!+#REF! -> #REF! | J9: =#REF!+#REF! -> #REF! | N9: =#REF!-#REF! -> #REF!
B10: 도시주택실 | C10: 350475445 | D10: =SUMIFS(#REF!,#REF!,'15년총괄표(실국별)'!$B10) -> #REF! | E10: =SUMIFS(#REF!,#REF!,'15년총괄표(실국별)'!$B10) -> #REF! | F10: =SUMIFS(#REF!,#REF!,'15년총괄표(실국별)'!$B10) -> #REF! | G10: =SUMIFS(#REF!,#REF!,'15년총괄표(실국별)'!$B10) -> #REF! | H10: =C10+F10+G10 -> #REF! | I10: =#REF!+#REF! -> #REF! | J10: =#REF!+#REF! -> #REF! | N10: =#REF!-#REF! -> #REF!
B11: 자치행정국 | C11: 489102362 | D11: =SUMIFS(#REF!,#REF!,'15년총괄표(실국별)'!$B11) -> #REF! | E11: =SUMIFS(#REF!,#REF!,'15년총괄표(실국별)'!$B11) -> #REF! | F11: =SUMIFS(#REF!,#REF!,'15년총괄표(실국별)'!$B11) -> #REF! | G11: =SUMIFS(#REF!,#REF!,'15년총괄표(실국별)'!$B11) -> #REF! | H11: =C11+F11+G11 -> #REF!
B12: 교육협력국 | C12: 2124399774 | D12: =SUMIFS(#REF!,#REF!,'15년총괄표(실국별)'!$B12) -> #REF! | E12: =SUMIFS(#REF!,#REF!,'15년총괄표(실국별)'!$B12) -> #REF! | F12: =SUMIFS(#REF!,#REF!,'15년총괄표(실국별)'!$B12) -> #REF! | G12: =SUMIFS(#REF!,#REF!,'15년총괄표(실국별)'!$B12) -> #REF! | H12: =C12+F12+G12 -> #REF!
B13: 문화체육관광국 | C13: 309073261 | D13: =SUMIFS(#REF!,#REF!,'15년총괄표(실국별)'!$B13) -> #REF! | E13: =SUMIFS(#REF!,#REF!,'15년총괄표(실국별)'!$B13) -> #REF! | F13: =SUMIFS(#REF!,#REF!,'15년총괄표(실국별)'!$B13) -> #REF! | G13: =SUMIFS(#REF!,#REF!,'15년총괄표(실국별)'!$B13) -> #REF! | H13: =C13+F13+G13 -> #REF! | N13: 기금
B14: 농정해양국 | C14: 255604029 | D14: =SUMIFS(#REF!,#REF!,'15년총괄표(실국별)'!$B14) -> #REF! | E14: =SUMIFS(#REF!,#REF!,'15년총괄표(실국별)'!$B14) -> #REF! | F14: =SUMIFS(#REF!,#REF!,'15년총괄표(실국별)'!$B14) -> #REF! | G14: =SUMIFS(#REF!,#REF!,'15년총괄표(실국별)'!$B14) -> #REF! | H14: =C14+F14+G14 -> #REF! | N14: =N10-#REF! -> #REF!
B15: 철도국 | C15: 205393587 | D15: =SUMIFS(#REF!,#REF!,'15년총괄표(실국별)'!$B15) -> #REF! | E15: =SUMIFS(#REF!,#REF!,'15년총괄표(실국별)'!$B15) -> #REF! | F15: =SUMIFS(#REF!,#REF!,'15년총괄표(실국별)'!$B15) -> #REF! | G15: =SUMIFS(#REF!,#REF!,'15년총괄표(실국별)'!$B15) -> #REF! | H15: =C15+F15+G15 -> #REF!
B16: 재난안전본부 | C16: 694104955 | D16: =SUMIFS(#REF!,#REF!,'15년총괄표(실국별)'!$B16) -> #REF! | E16: =SUMIFS(#REF!,#REF!,'15년총괄표(실국별)'!$B16) -> #REF! | F16: =SUMIFS(#REF!,#REF!,'15년총괄표(실국별)'!$B16) -> #REF! | G16: =SUMIFS(#REF!,#REF!,'15년총괄표(실국별)'!$B16) -> #REF! | H16: =C16+F16+G16 -> #REF!
B17: 의회사무처 | C17: 30412373 | D17: =SUMIFS(#REF!,#REF!,'15년총괄표(실국별)'!$B17) -> #REF! | E17: =SUMIFS(#REF!,#REF!,'15년총괄표(실국별)'!$B17) -> #REF! | F17: =SUMIFS(#REF!,#REF!,'15년총괄표(실국별)'!$B17) -> #REF! | G17: =SUMIFS(#REF!,#REF!,'15년총괄표(실국별)'!$B17) -> #REF! | H17: =C17+F17+G17 -> #REF!
B18: 대변인 | C18: 12731214 | D18: =SUMIFS(#REF!,#REF!,'15년총괄표(실국별)'!$B18) -> #REF! | E18: =SUMIFS(#REF!,#REF!,'15년총괄표(실국별)'!$B18) -> #REF! | F18: =SUMIFS(#REF!,#REF!,'15년총괄표(실국별)'!$B18) -> #REF! | G18: =SUMIFS(#REF!,#REF!,'15년총괄표(실국별)'!$B18) -> #REF! | H18: =C18+F18+G18 -> #REF! | I18: =#REF!+#REF! -> #REF! | J18: =#REF!+#REF! -> #REF! | N18: =#REF!-#REF! -> #REF!
B19: 대외협력담당관 | C19: 450511 | D19: =SUMIFS(#REF!,#REF!,'15년총괄표(실국별)'!$B19) -> #REF! | E19: =SUMIFS(#REF!,#REF!,'15년총괄표(실국별)'!$B19) -> #REF! | F19: =SUMIFS(#REF!,#REF!,'15년총괄표(실국별)'!$B19) -> #REF! | G19: =SUMIFS(#REF!,#REF!,'15년총괄표(실국별)'!$B19) -> #REF! | H19: =C19+F19+G19 -> #REF!
B20: 보건복지국 | C20: 2803637639 | D20: =SUMIFS(#REF!,#REF!,'15년총괄표(실국별)'!$B20) -> #REF! | E20: =SUMIFS(#REF!,#REF!,'15년총괄표(실국별)'!$B20) -> #REF! | F20: =SUMIFS(#REF!,#REF!,'15년총괄표(실국별)'!$B20) -> #REF! | G20: =SUMIFS(#REF!,#REF!,'15년총괄표(실국별)'!$B20) -> #REF! | H20: =C20+F20+G20 -> #REF!
B21: 환경국 | C21: 96522924 | D21: =SUMIFS(#REF!,#REF!,'15년총괄표(실국별)'!$B21) -> #REF! | E21: =SUMIFS(#REF!,#REF!,'15년총괄표(실국별)'!$B21) -> #REF! | F21: =SUMIFS(#REF!,#REF!,'15년총괄표(실국별)'!$B21) -> #REF! | G21: =SUMIFS(#REF!,#REF!,'15년총괄표(실국별)'!$B21) -> #REF! | H21: =C21+F21+G21 -> #REF! | N21: 기금
B22: 여성가족국 | C22: 1454395771 | D22: =SUMIFS(#REF!,#REF!,'15년총괄표(실국별)'!$B22) -> #REF! | E22: =SUMIFS(#REF!,#REF!,'15년총괄표(실국별)'!$B22) -> #REF! | F22: =SUMIFS(#REF!,#REF!,'15년총괄표(실국별)'!$B22) -> #REF! | G22: =SUMIFS(#REF!,#REF!,'15년총괄표(실국별)'!$B22) -> #REF! | H22: =C22+F22+G22 -> #REF! | N22: =N18-#REF! -> #REF!
B23: 농업기술원 | C23: 35645539 | D23: =SUMIFS(#REF!,#REF!,'15년총괄표(실국별)'!$B23) -> #REF! | E23: =SUMIFS(#REF!,#REF!,'15년총괄표(실국별)'!$B23) -> #REF! | F23: =SUMIFS(#REF!,#REF!,'15년총괄표(실국별)'!$B23) -> #REF! | G23: =SUMIFS(#REF!,#REF!,'15년총괄표(실국별)'!$B23) -> #REF! | H23: =C23+F23+G23 -> #REF!
B24: 인재개발원 | C24: 10314647 | D24: =SUMIFS(#REF!,#REF!,'15년총괄표(실국별)'!$B24) -> #REF! | E24: =SUMIFS(#REF!,#REF!,'15년총괄표(실국별)'!$B24) -> #REF! | F24: =SUMIFS(#REF!,#REF!,'15년총괄표(실국별)'!$B24) -> #REF! | G24: =SUMIFS(#REF!,#REF!,'15년총괄표(실국별)'!$B24) -> #REF! | H24: =C24+F24+G24 -> #REF!
B25: 보건환경연구원 | C25: 8202067 | D25: =SUMIFS(#REF!,#REF!,'15년총괄표(실국별)'!$B25) -> #REF! | E25: =SUMIFS(#REF!,#REF!,'15년총괄표(실국별)'!$B25) -> #REF! | F25: =SUMIFS(#REF!,#REF!,'15년총괄표(실국별)'!$B25) -> #REF! | G25: =SUMIFS(#REF!,#REF!,'15년총괄표(실국별)'!$B25) -> #REF! | H25: =C25+F25+G25 -> #REF!
B26: 수자원본부 | C26: 631831527 | D26: =SUMIFS(#REF!,#REF!,'15년총괄표(실국별)'!$B26) -> #REF! | E26: =SUMIFS(#REF!,#REF!,'15년총괄표(실국별)'!$B26) -> #REF! | F26: =SUMIFS(#REF!,#REF!,'15년총괄표(실국별)'!$B26) -> #REF! | G26: =SUMIFS(#REF!,#REF!,'15년총괄표(실국별)'!$B26) -> #REF! | H26: =C26+F26+G26 -> #REF! | I26: =#REF!+#REF! -> #REF! | J26: =#REF!+#REF! -> #REF! | N26: =M2-N2 -> 0
B27: 복지여성실 | C27: 1328409175 | D27: =SUMIFS(#REF!,#REF!,'15년총괄표(실국별)'!$B27) -> #REF! | E27: =SUMIFS(#REF!,#REF!,'15년총괄표(실국별)'!$B27) -> #REF! | F27: =SUMIFS(#REF!,#REF!,'15년총괄표(실국별)'!$B27) -> #REF! | G27: =SUMIFS(#REF!,#REF!,'15년총괄표(실국별)'!$B27) -> #REF! | H27: =C27+F27+G27 -> #REF!
B28: 균형발전기획실 | C28: 223863128 | D28: =SUMIFS(#REF!,#REF!,'15년총괄표(실국별)'!$B28) -> #REF! | E28: =SUMIFS(#REF!,#REF!,'15년총괄표(실국별)'!$B28) -> #REF! | F28: =SUMIFS(#REF!,#REF!,'15년총괄표(실국별)'!$B28) -> #REF! | G28: =SUMIFS(#REF!,#REF!,'15년총괄표(실국별)'!$B28) -> #REF! | H28: =C28+F28+G28 -> #REF!
B29: 경제실 | C29: 506163851 | D29: =SUMIFS(#REF!,#REF!,'15년총괄표(실국별)'!$B29) -> #REF! | E29: =SUMIFS(#REF!,#REF!,'15년총괄표(실국별)'!$B29) -> #REF! | F29: =SUMIFS(#REF!,#REF!,'15년총괄표(실국별)'!$B29) -> #REF! | G29: =SUMIFS(#REF!,#REF!,'15년총괄표(실국별)'!$B29) -> #REF! | H29: =C29+F29+G29 -> #REF! | N29: 기금
B30: 축산산림국 | C30: 165426798 | D30: =SUMIFS(#REF!,#REF!,'15년총괄표(실국별)'!$B30) -> #REF! | E30: =SUMIFS(#REF!,#REF!,'15년총괄표(실국별)'!$B30) -> #REF! | F30: =SUMIFS(#REF!,#REF!,'15년총괄표(실국별)'!$B30) -> #REF! | G30: =SUMIFS(#REF!,#REF!,'15년총괄표(실국별)'!$B30) -> #REF! | H30: =C30+F30+G30 -> #REF! | N30: =N26-K2 -> 0
B31: 교통국 | C31: 466950444 | D31: =SUMIFS(#REF!,#REF!,'15년총괄표(실국별)'!$B31) -> #REF! | E31: =SUMIFS(#REF!,#REF!,'15년총괄표(실국별)'!$B31) -> #REF! | F31: =SUMIFS(#REF!,#REF!,'15년총괄표(실국별)'!$B31) -> #REF! | G31: =SUMIFS(#REF!,#REF!,'15년총괄표(실국별)'!$B31) -> #REF! | H31: =C31+F31+G31 -> #REF! | I31: =#REF!+#REF! -> #REF! | J31: =#REF!+#REF! -> #REF! | N31: =M7-N7 -> #REF!
B32: 건설국 | C32: 570450422 | D32: =SUMIFS(#REF!,#REF!,'15년총괄표(실국별)'!$B32) -> #REF! | E32: =SUMIFS(#REF!,#REF!,'15년총괄표(실국별)'!$B32) -> #REF! | F32: =SUMIFS(#REF!,#REF!,'15년총괄표(실국별)'!$B32) -> #REF! | G32: =SUMIFS(#REF!,#REF!,'15년총괄표(실국별)'!$B32) -> #REF! | H32: =C32+F32+G32 -> #REF!
B33: 건설본부 | C33: 48696301 | D33: =SUMIFS(#REF!,#REF!,'15년총괄표(실국별)'!$B33) -> #REF! | E33: =SUMIFS(#REF!,#REF!,'15년총괄표(실국별)'!$B33) -> #REF! | F33: =SUMIFS(#REF!,#REF!,'15년총괄표(실국별)'!$B33) -> #REF! | G33: =SUMIFS(#REF!,#REF!,'15년총괄표(실국별)'!$B33) -> #REF! | H33: =C33+F33+G33 -> #REF!
B37: 실국명 | C37: 일반 | D37: 기특 | E37: 공특 | F37: 합계
B38: 총합계 | C38: =SUM(C39:C64) -> 14504760931 | D38: =SUM(D39:D64) -> 1174065395 | E38: =SUM(E39:E64) -> 2139712389 | F38: =SUM(C38:E38) -> 17818538715
B39: 감사관 | C39: 1230140 | F39: =SUM(C39:E39) -> 1230140
B40: 기획조정실 | C40: 3253514147 | E40: 1741536684 | F40: =SUM(C40:E40) -> 4995050831
B41: 도시주택실 | C41: 302743533 | D41: 14731912 | E41: 33000000 | F41: =SUM(C41:E41) -> 350475445
B42: 자치행정국 | C42: 489102362 | F42: =SUM(C42:E42) -> 489102362
B43: 교육협력국 | C43: 1957985774 | D43: 166414000 | F43: =SUM(C43:E43) -> 2124399774
B44: 문화체육관광국 | C44: 246448826 | E44: 62624435 | F44: =SUM(C44:E44) -> 309073261
B45: 농정해양국 | C45: 255604029 | F45: =SUM(C45:E45) -> 255604029
B46: 철도국 | C46: 205393587 | F46: =SUM(C46:E46) -> 205393587
B47: 재난안전본부 | C47: =635730961+1074501+3040529+54258964 -> 694104955 | F47: =SUM(C47:E47) -> 694104955
B48: 의회사무처 | C48: 30412373 | F48: =SUM(C48:E48) -> 30412373
B49: 대변인 | C49: 12731214 | F49: =SUM(C49:E49) -> 12731214
B50: 대외협력담당관 | C50: 450511 | F50: =SUM(C50:E50) -> 450511
B51: 보건복지국 | C51: 1966943221 | D51: 836694418 | F51: =SUM(C51:E51) -> 2803637639
B52: 환경국 | C52: 96522924 | F52: =SUM(C52:E52) -> 96522924
B53: 여성가족국 | C53: 1454395771 | F53: =SUM(C53:E53) -> 1454395771
B54: 농업기술원 | C54: 35645539 | F54: =SUM(C54:E54) -> 35645539
B55: 인재개발원 | C55: 10314647 | F55: =SUM(C55:E55) -> 10314647
B56: 보건환경연구원 | C56: 8202067 | F56: =SUM(C56:E56) -> 8202067
B57: 수자원본부 | C57: 627640527 | D57: 4191000 | F57: =SUM(C57:E57) -> 631831527
B58: 복지여성실 | C58: 1328409175 | F58: =SUM(C58:E58) -> 1328409175
B59: 균형발전기획실 | C59: 199572128 | D59: 24291000 | F59: =SUM(C59:E59) -> 223863128
B60: 경제실 | C60: 203612581 | E60: 302551270 | F60: =SUM(C60:E60) -> 506163851
B61: 축산산림국 | C61: 165426798 | F61: =SUM(C61:E61) -> 165426798
B62: 교통국 | C62: 341380444 | D62: 125570000 | F62: =SUM(C62:E62) -> 466950444
B63: 건설국 | C63: 568277357 | D63: 2173065 | F63: =SUM(C63:E63) -> 570450422
B64: 건설본부 | C64: 48696301 | F64: =SUM(C64:E64) -> 48696301
I164: ◦ 본청 83,000 증 ◦ 북부청 377,000 증
K294: -50000

Sheet 2추총괄표
B1: '14년도 제2회 추경 일반 및 특별회계 세입·세출 예산안[전체예산총괄]
B3: □ 총 괄 | D3: 세입예산증감 | E3: =SUM(D7:E7) -> #REF! | F3: 세출예산증감 | G3: =SUM(F7:G7) -> #REF!
H4: (단위:천원) | M4: (일반+특별+기금) | O4: 특별+기금
B5: 구 분 | C5: 집행부제출(안) | D5: 세입예산(안) | F5: 세출예산(안) | H5: 예산수정(안) | I5: 일반회계 증감(총괄표) | K5: 예비비증감 | L5: 비 고 | M5: 전체 증감(시트) | O5: 비고
D6: 감 액 | E6: 증 액 | F6: 감 액 | G6: 증 액 | I6: 세입 | J6: 세출 | M6: 세입 | N6: 세출
B7: 합 계 | C7: =SUM(C8:C18) -> 18076711803 | D7: =SUM(D8:D18) -> #REF! | E7: =SUM(E8:E18) -> #REF! | F7: =SUM(F8:F18) -> #REF! | G7: =SUM(G8:G18) -> #REF! | H7: =SUM(H8:H18) -> #REF! | I7: =E25+D25 -> #REF! | J7: =F25+G25 -> #REF! | K7: =I7-J7 -> #REF! | L7: 예비비 증감이 - 예산이면 감액에 + 예산이면 증액에 입력 | M7: =D24+E24 -> #REF! | N7: =F24+G24 -> #REF! | O7: 0 | P7: 0
B8: 기 타 | C8: 0 | H8: =C8-F8+G8 -> 0 | I8: =D7+E7 -> #REF! | J8: =F7+G7 -> #REF! | K8: =I8-J8 -> #REF!
B9: 의회운영위원회 | C9: 41526053 | D9: =SUMIFS(#REF!,#REF!,'2추총괄표'!$B9) -> #REF! | E9: =SUMIFS(#REF!,#REF!,'2추총괄표'!$B9) -> #REF! | F9: =SUMIFS(#REF!,#REF!,'2추총괄표'!$B9) -> #REF! | G9: =SUMIFS(#REF!,#REF!,'2추총괄표'!$B9) -> #REF! | H9: =C9+F9+G9 -> #REF! | I9: 일반회계 증감(시트) | N9: 전체 증감
B10: 기획재정위원회 | C10: 5330576319 | D10: =SUMIFS(#REF!,#REF!,'2추총괄표'!$B10) -> #REF! | E10: =SUMIFS(#REF!,#REF!,'2추총괄표'!$B10) -> #REF! | F10: =SUMIFS(#REF!,#REF!,'2추총괄표'!$B10) -> #REF! | G10: =SUMIFS(#REF!,#REF!,'2추총괄표'!$B10) -> #REF! | H10: =C10+F10+G10 -> #REF! | I10: =#REF!+#REF! -> #REF! | J10: =#REF!+#REF! -> #REF! | N10: =M7-N7 -> #REF!
B11: 경제과학기술위원회 | C11: 551253750 | D11: =SUMIFS(#REF!,#REF!,'2추총괄표'!$B11) -> #REF! | E11: =SUMIFS(#REF!,#REF!,'2추총괄표'!$B11) -> #REF! | F11: =SUMIFS(#REF!,#REF!,'2추총괄표'!$B11) -> #REF! | G11: =SUMIFS(#REF!,#REF!,'2추총괄표'!$B11) -> #REF! | H11: =C11+F11+G11 -> #REF!
B12: 안전행정위원회 | C12: 1151519175 | D12: =SUMIFS(#REF!,#REF!,'2추총괄표'!$B12) -> #REF! | E12: =SUMIFS(#REF!,#REF!,'2추총괄표'!$B12) -> #REF! | F12: =SUMIFS(#REF!,#REF!,'2추총괄표'!$B12) -> #REF! | G12: =SUMIFS(#REF!,#REF!,'2추총괄표'!$B12) -> #REF! | H12: =C12+F12+G12 -> #REF!
B13: 문화체육관광위원회 | C13: 258716894 | D13: =SUMIFS(#REF!,#REF!,'2추총괄표'!$B13) -> #REF! | E13: =SUMIFS(#REF!,#REF!,'2추총괄표'!$B13) -> #REF! | F13: =SUMIFS(#REF!,#REF!,'2추총괄표'!$B13) -> #REF! | G13: =SUMIFS(#REF!,#REF!,'2추총괄표'!$B13) -> #REF! | H13: =C13+F13+G13 -> #REF! | N13: 기금
B14: 농정해양위원회 | C14: 474291470 | D14: =SUMIFS(#REF!,#REF!,'2추총괄표'!$B14) -> #REF! | E14: =SUMIFS(#REF!,#REF!,'2추총괄표'!$B14) -> #REF! | F14: =SUMIFS(#REF!,#REF!,'2추총괄표'!$B14) -> #REF! | G14: =SUMIFS(#REF!,#REF!,'2추총괄표'!$B14) -> #REF! | H14: =C14+F14+G14 -> #REF! | N14: =N10-K7 -> #REF!
B15: 보건복지위원회 | C15: 3278893259 | D15: =SUMIFS(#REF!,#REF!,'2추총괄표'!$B15) -> #REF! | E15: =SUMIFS(#REF!,#REF!,'2추총괄표'!$B15) -> #REF! | F15: =SUMIFS(#REF!,#REF!,'2추총괄표'!$B15) -> #REF! | G15: =SUMIFS(#REF!,#REF!,'2추총괄표'!$B15) -> #REF! | H15: =C15+F15+G15 -> #REF!
B16: 건설교통위원회 | C16: 1191584285 | D16: =SUMIFS(#REF!,#REF!,'2추총괄표'!$B16) -> #REF! | E16: =SUMIFS(#REF!,#REF!,'2추총괄표'!$B16) -> #REF! | F16: =SUMIFS(#REF!,#REF!,'2추총괄표'!$B16) -> #REF! | G16: =SUMIFS(#REF!,#REF!,'2추총괄표'!$B16) -> #REF! | H16: =C16+F16+G16 -> #REF!
B17: 도시환경위원회 | C17: 898421829 | D17: =SUMIFS(#REF!,#REF!,'2추총괄표'!$B17) -> #REF! | E17: =SUMIFS(#REF!,#REF!,'2추총괄표'!$B17) -> #REF! | F17: =SUMIFS(#REF!,#REF!,'2추총괄표'!$B17) -> #REF! | G17: =SUMIFS(#REF!,#REF!,'2추총괄표'!$B17) -> #REF! | H17: =C17+F17+G17 -> #REF!
B18: 여성가족교육협력위원회 | C18: 4899928769 | D18: =SUMIFS(#REF!,#REF!,'2추총괄표'!$B18) -> #REF! | E18: =SUMIFS(#REF!,#REF!,'2추총괄표'!$B18) -> #REF! | F18: =SUMIFS(#REF!,#REF!,'2추총괄표'!$B18) -> #REF! | G18: =SUMIFS(#REF!,#REF!,'2추총괄표'!$B18) -> #REF! | H18: =C18+F18+G18 -> #REF!
B20: □ 회계별 예산총규모
H21: (단위:천원)
B22: 구 분 | C22: 세출예산액 (집행부제출 안) | D22: 세입예산(안) | F22: 세출예산(안) | H22: 예산수정(안)
D23: 감 액 | E23: 증 액 | F23: 감 액 | G23: 증 액 | I23: 세입기준 수정예산안
B24: 합 계 | C24: =SUM(C25:C26) -> 0 | D24: =SUM(D25:D26) -> #REF! | E24: =SUM(E25:E26) -> #REF! | F24: =SUM(F25:F26) -> #REF! | G24: =SUM(G25:G26) -> #REF! | H24: =SUM(H25:H26) -> #REF! | I24: =C24+D24+E24 -> #REF! | J24: =I24-H24 -> #REF! | K24: (세출기준-세입기준)
B25: 일반회계 | D25: =#REF! -> #REF! | E25: =#REF! -> #REF! | F25: =#REF! -> #REF! | G25: =#REF! -> #REF! | H25: =C25+F25+G25 -> #REF! | I25: =C25+D25+E25 -> #REF! | J25: =I25-H25 -> #REF! | K25: (세출기준-세입기준)
B26: 특별회계 | H26: =C26+F26+G26 -> 0 | I26: =C26+D26+E26 -> 0 | J26: =I26-H26 -> 0 | K26: (세출기준-세입기준)
B30: 위원회명 | C30: 일반+기특 | D30: 공기업 | E30: 합계
B31: 의회운영위원회 | C31: 39922113 | E31: =SUM(C31:D31) -> 39922113
B32: 기획재정위원회 | C32: 3302571667 | D32: 1780946434 | E32: =SUM(C32:D32) -> 5083518101
B33: 경제과학기술위원회 | C33: 155329320 | D33: 384743740 | E33: =SUM(C33:D33) -> 540073060
B34: 안전행정위원회 | C34: 1142858974 | E34: =SUM(C34:D34) -> 1142858974
B35: 문화체육관광위원회 | C35: 224243208 | D35: 52484400 | E35: =SUM(C35:D35) -> 276727608
B36: 농정해양위원회 | C36: 466978999 | E36: =SUM(C36:D36) -> 466978999
B37: 보건복지위원회 | C37: 3254006708 | E37: =SUM(C37:D37) -> 3254006708
B38: 건설교통위원회 | C38: 1220859831 | E38: =SUM(C38:D38) -> 1220859831
B39: 도시환경위원회 | C39: 866963933 | D39: 28360000 | E39: =SUM(C39:D39) -> 895323933
B40: 여성가족평생교육위원회 | C40: 4882582917 | E40: =SUM(C40:D40) -> 4882582917
B41: 총합계 | C41: =SUM(C31:C40) -> 15556317670 | D41: =SUM(D31:D40) -> 2246534574 | E41: =SUM(C41:D41) -> 17802852244
B43: 예비비 | C43: =3922478-221377 -> 3701101
B54: 위원회명 | C54: 일반 | D54: 기특 | E54: 공특 | F54: 합계
B56: 총합계 | C56: =SUM(C57:C66) -> 14571523178 | D56: =SUM(D57:D66) -> 1223711435 | E56: =SUM(E57:E66) -> 2281477190 | F56: =SUM(C56:E56) -> 18076711803
B57: 의회운영위원회 | C57: 41526053 | F57: =SUM(C57:E57) -> 41526053
B58: 기획재정위원회 | C58: 3471558203 | D58: 15000000 | E58: 1844018116 | F58: =SUM(C58:E58) -> 5330576319
B59: 경제과학기술위원회 | C59: 166510010 | E59: 384743740 | F59: =SUM(C59:E59) -> 551253750
B60: 안전행정위원회 | C60: 1151519175 | F60: =SUM(C60:E60) -> 1151519175
B61: 문화체육관광위원회 | C61: 234366028 | E61: 24350866 | F61: =SUM(C61:E61) -> 258716894
B62: 농정해양위원회 | C62: 474291470 | F62: =SUM(C62:E62) -> 474291470
B63: 보건복지위원회 | C63: 2439677682 | D63: 839215577 | F63: =SUM(C63:E63) -> 3278893259
B64: 건설교통위원회 | C64: 1093857927 | D64: 97726358 | F64: =SUM(C64:E64) -> 1191584285
B65: 도시환경위원회 | C65: 845217861 | D65: 24839500 | E65: 28364468 | F65: =SUM(C65:E65) -> 898421829
B66: 여성가족교육협력위원회 | C66: 4652998769 | D66: 246930000 | F66: =SUM(C66:E66) -> 4899928769
I160: ◦ 본청 83,000 증 ◦ 북부청 377,000 증
K290: -50000

Sheet 2추총괄표(실국별)
B1: '14년도 제2회 추경 일반 및 특별회계 세입·세출 예산안[전체예산총괄]
B3: □ 총괄(실국별) | E3: =SUM(D7:E7) -> #REF! | G3: =SUM(F7:G7) -> #REF!
H4: (단위:천원) | M4: (일반+특별+기금) | O4: 특별+기금
B5: 구 분 | C5: 집행부제출(안) | D5: 세입예산(안) | F5: 세출예산(안) | H5: 예산수정(안) | I5: 일반회계 증감(총괄표) | K5: 예비비증감 | L5: 비 고 | M5: 전체 증감(시트) | O5: 비고
D6: 감 액 | E6: 증 액 | F6: 감 액 | G6: 증 액 | I6: 세입 | J6: 세출 | M6: 세입 | N6: 세출
B7: 합 계 | C7: =SUM(C8:C33) -> 18076711803 | D7: =SUM(D8:D33) -> #REF! | E7: =SUM(E8:E33) -> #REF! | F7: =SUM(F8:F33) -> #REF! | G7: =SUM(G8:G33) -> #REF! | H7: =SUM(H8:H33) -> #REF! | I7: =#REF!+#REF! -> #REF! | J7: =#REF!+#REF! -> #REF! | K7: =I7-J7 -> #REF! | L7: 예비비 증감이 - 예산이면 감액에 + 예산이면 증액에 입력 | M7: =#REF!+#REF! -> #REF! | N7: =#REF!+#REF! -> #REF! | O7: 0 | P7: 0
B8: 감사관 | C8: 914581 | D8: =SUMIFS(#REF!,#REF!,'2추총괄표(실국별)'!$B8) -> #REF! | E8: =SUMIFS(#REF!,#REF!,'2추총괄표(실국별)'!$B8) -> #REF! | F8: =SUMIFS(#REF!,#REF!,'2추총괄표(실국별)'!$B8) -> #REF! | G8: =SUMIFS(#REF!,#REF!,'2추총괄표(실국별)'!$B8) -> #REF! | H8: =C8+F8+G8 -> #REF! | I8: 일반회계 증감(시트) | N8: 전체 증감
B9: 기획조정실 | C9: 5144786053 | D9: =SUMIFS(#REF!,#REF!,'2추총괄표(실국별)'!$B9) -> #REF! | E9: =SUMIFS(#REF!,#REF!,'2추총괄표(실국별)'!$B9) -> #REF! | F9: =SUMIFS(#REF!,#REF!,'2추총괄표(실국별)'!$B9) -> #REF! | G9: =SUMIFS(#REF!,#REF!,'2추총괄표(실국별)'!$B9) -> #REF! | H9: =C9+F9+G9 -> #REF! | I9: =#REF!+#REF! -> #REF! | J9: =#REF!+#REF! -> #REF! | N9: =#REF!-#REF! -> #REF!
B10: 도시주택실 | C10: 221255441 | D10: =SUMIFS(#REF!,#REF!,'2추총괄표(실국별)'!$B10) -> #REF! | E10: =SUMIFS(#REF!,#REF!,'2추총괄표(실국별)'!$B10) -> #REF! | F10: =SUMIFS(#REF!,#REF!,'2추총괄표(실국별)'!$B10) -> #REF! | G10: =SUMIFS(#REF!,#REF!,'2추총괄표(실국별)'!$B10) -> #REF! | H10: =C10+F10+G10 -> #REF! | I10: =#REF!+#REF! -> #REF! | J10: =#REF!+#REF! -> #REF! | N10: =#REF!-#REF! -> #REF!
B11: 자치행정국 | C11: 547246549 | D11: =SUMIFS(#REF!,#REF!,'2추총괄표(실국별)'!$B11) -> #REF! | E11: =SUMIFS(#REF!,#REF!,'2추총괄표(실국별)'!$B11) -> #REF! | F11: =SUMIFS(#REF!,#REF!,'2추총괄표(실국별)'!$B11) -> #REF! | G11: =SUMIFS(#REF!,#REF!,'2추총괄표(실국별)'!$B11) -> #REF! | H11: =C11+F11+G11 -> #REF!
B12: 교육협력국 | C12: 2339199089 | D12: =SUMIFS(#REF!,#REF!,'2추총괄표(실국별)'!$B12) -> #REF! | E12: =SUMIFS(#REF!,#REF!,'2추총괄표(실국별)'!$B12) -> #REF! | F12: =SUMIFS(#REF!,#REF!,'2추총괄표(실국별)'!$B12) -> #REF! | G12: =SUMIFS(#REF!,#REF!,'2추총괄표(실국별)'!$B12) -> #REF! | H12: =C12+F12+G12 -> #REF!
B13: 문화체육관광국 | C13: 258716894 | D13: =SUMIFS(#REF!,#REF!,'2추총괄표(실국별)'!$B13) -> #REF! | E13: =SUMIFS(#REF!,#REF!,'2추총괄표(실국별)'!$B13) -> #REF! | F13: =SUMIFS(#REF!,#REF!,'2추총괄표(실국별)'!$B13) -> #REF! | G13: =SUMIFS(#REF!,#REF!,'2추총괄표(실국별)'!$B13) -> #REF! | H13: =C13+F13+G13 -> #REF! | N13: 기금
B14: 농정해양국 | C14: 250268892 | D14: =SUMIFS(#REF!,#REF!,'2추총괄표(실국별)'!$B14) -> #REF! | E14: =SUMIFS(#REF!,#REF!,'2추총괄표(실국별)'!$B14) -> #REF! | F14: =SUMIFS(#REF!,#REF!,'2추총괄표(실국별)'!$B14) -> #REF! | G14: =SUMIFS(#REF!,#REF!,'2추총괄표(실국별)'!$B14) -> #REF! | H14: =C14+F14+G14 -> #REF! | N14: =N10-#REF! -> #REF!
B15: 철도국 | C15: 97467509 | D15: =SUMIFS(#REF!,#REF!,'2추총괄표(실국별)'!$B15) -> #REF! | E15: =SUMIFS(#REF!,#REF!,'2추총괄표(실국별)'!$B15) -> #REF! | F15: =SUMIFS(#REF!,#REF!,'2추총괄표(실국별)'!$B15) -> #REF! | G15: =SUMIFS(#REF!,#REF!,'2추총괄표(실국별)'!$B15) -> #REF! | H15: =C15+F15+G15 -> #REF!
B16: 재난안전본부 | C16: 577186012 | D16: =SUMIFS(#REF!,#REF!,'2추총괄표(실국별)'!$B16) -> #REF! | E16: =SUMIFS(#REF!,#REF!,'2추총괄표(실국별)'!$B16) -> #REF! | F16: =SUMIFS(#REF!,#REF!,'2추총괄표(실국별)'!$B16) -> #REF! | G16: =SUMIFS(#REF!,#REF!,'2추총괄표(실국별)'!$B16) -> #REF! | H16: =C16+F16+G16 -> #REF!
B17: 의회사무처 | C17: 29891138 | D17: =SUMIFS(#REF!,#REF!,'2추총괄표(실국별)'!$B17) -> #REF! | E17: =SUMIFS(#REF!,#REF!,'2추총괄표(실국별)'!$B17) -> #REF! | F17: =SUMIFS(#REF!,#REF!,'2추총괄표(실국별)'!$B17) -> #REF! | G17: =SUMIFS(#REF!,#REF!,'2추총괄표(실국별)'!$B17) -> #REF! | H17: =C17+F17+G17 -> #REF!
B18: 대변인 | C18: 11250846 | D18: =SUMIFS(#REF!,#REF!,'2추총괄표(실국별)'!$B18) -> #REF! | E18: =SUMIFS(#REF!,#REF!,'2추총괄표(실국별)'!$B18) -> #REF! | F18: =SUMIFS(#REF!,#REF!,'2추총괄표(실국별)'!$B18) -> #REF! | G18: =SUMIFS(#REF!,#REF!,'2추총괄표(실국별)'!$B18) -> #REF! | H18: =C18+F18+G18 -> #REF! | I18: =#REF!+#REF! -> #REF! | J18: =#REF!+#REF! -> #REF! | N18: =#REF!-#REF! -> #REF!
B19: 대외협력담당관 | C19: 384069 | D19: =SUMIFS(#REF!,#REF!,'2추총괄표(실국별)'!$B19) -> #REF! | E19: =SUMIFS(#REF!,#REF!,'2추총괄표(실국별)'!$B19) -> #REF! | F19: =SUMIFS(#REF!,#REF!,'2추총괄표(실국별)'!$B19) -> #REF! | G19: =SUMIFS(#REF!,#REF!,'2추총괄표(실국별)'!$B19) -> #REF! | H19: =C19+F19+G19 -> #REF!
B20: 보건복지국 | C20: 2582006910 | D20: =SUMIFS(#REF!,#REF!,'2추총괄표(실국별)'!$B20) -> #REF! | E20: =SUMIFS(#REF!,#REF!,'2추총괄표(실국별)'!$B20) -> #REF! | F20: =SUMIFS(#REF!,#REF!,'2추총괄표(실국별)'!$B20) -> #REF! | G20: =SUMIFS(#REF!,#REF!,'2추총괄표(실국별)'!$B20) -> #REF! | H20: =C20+F20+G20 -> #REF!
B21: 환경국 | C21: 90647611 | D21: =SUMIFS(#REF!,#REF!,'2추총괄표(실국별)'!$B21) -> #REF! | E21: =SUMIFS(#REF!,#REF!,'2추총괄표(실국별)'!$B21) -> #REF! | F21: =SUMIFS(#REF!,#REF!,'2추총괄표(실국별)'!$B21) -> #REF! | G21: =SUMIFS(#REF!,#REF!,'2추총괄표(실국별)'!$B21) -> #REF! | H21: =C21+F21+G21 -> #REF! | N21: 기금
B22: 여성가족국 | C22: 1883037298 | D22: =SUMIFS(#REF!,#REF!,'2추총괄표(실국별)'!$B22) -> #REF! | E22: =SUMIFS(#REF!,#REF!,'2추총괄표(실국별)'!$B22) -> #REF! | F22: =SUMIFS(#REF!,#REF!,'2추총괄표(실국별)'!$B22) -> #REF! | G22: =SUMIFS(#REF!,#REF!,'2추총괄표(실국별)'!$B22) -> #REF! | H22: =C22+F22+G22 -> #REF! | N22: =N18-#REF! -> #REF!
B23: 농업기술원 | C23: 39275302 | D23: =SUMIFS(#REF!,#REF!,'2추총괄표(실국별)'!$B23) -> #REF! | E23: =SUMIFS(#REF!,#REF!,'2추총괄표(실국별)'!$B23) -> #REF! | F23: =SUMIFS(#REF!,#REF!,'2추총괄표(실국별)'!$B23) -> #REF! | G23: =SUMIFS(#REF!,#REF!,'2추총괄표(실국별)'!$B23) -> #REF! | H23: =C23+F23+G23 -> #REF!
B24: 인재개발원 | C24: 8834247 | D24: =SUMIFS(#REF!,#REF!,'2추총괄표(실국별)'!$B24) -> #REF! | E24: =SUMIFS(#REF!,#REF!,'2추총괄표(실국별)'!$B24) -> #REF! | F24: =SUMIFS(#REF!,#REF!,'2추총괄표(실국별)'!$B24) -> #REF! | G24: =SUMIFS(#REF!,#REF!,'2추총괄표(실국별)'!$B24) -> #REF! | H24: =C24+F24+G24 -> #REF!
B25: 보건환경연구원 | C25: 9409184 | D25: =SUMIFS(#REF!,#REF!,'2추총괄표(실국별)'!$B25) -> #REF! | E25: =SUMIFS(#REF!,#REF!,'2추총괄표(실국별)'!$B25) -> #REF! | F25: =SUMIFS(#REF!,#REF!,'2추총괄표(실국별)'!$B25) -> #REF! | G25: =SUMIFS(#REF!,#REF!,'2추총괄표(실국별)'!$B25) -> #REF! | H25: =C25+F25+G25 -> #REF!
B26: 수자원본부 | C26: 568254411 | D26: =SUMIFS(#REF!,#REF!,'2추총괄표(실국별)'!$B26) -> #REF! | E26: =SUMIFS(#REF!,#REF!,'2추총괄표(실국별)'!$B26) -> #REF! | F26: =SUMIFS(#REF!,#REF!,'2추총괄표(실국별)'!$B26) -> #REF! | G26: =SUMIFS(#REF!,#REF!,'2추총괄표(실국별)'!$B26) -> #REF! | H26: =C26+F26+G26 -> #REF! | I26: =#REF!+#REF! -> #REF! | J26: =#REF!+#REF! -> #REF! | N26: =M2-N2 -> 0
B27: 복지여성실 | C27: 1368375599 | D27: =SUMIFS(#REF!,#REF!,'2추총괄표(실국별)'!$B27) -> #REF! | E27: =SUMIFS(#REF!,#REF!,'2추총괄표(실국별)'!$B27) -> #REF! | F27: =SUMIFS(#REF!,#REF!,'2추총괄표(실국별)'!$B27) -> #REF! | G27: =SUMIFS(#REF!,#REF!,'2추총괄표(실국별)'!$B27) -> #REF! | H27: =C27+F27+G27 -> #REF!
B28: 균형발전기획실 | C28: 203128052 | D28: =SUMIFS(#REF!,#REF!,'2추총괄표(실국별)'!$B28) -> #REF! | E28: =SUMIFS(#REF!,#REF!,'2추총괄표(실국별)'!$B28) -> #REF! | F28: =SUMIFS(#REF!,#REF!,'2추총괄표(실국별)'!$B28) -> #REF! | G28: =SUMIFS(#REF!,#REF!,'2추총괄표(실국별)'!$B28) -> #REF! | H28: =C28+F28+G28 -> #REF!
B29: 경제실 | C29: 551253750 | D29: =SUMIFS(#REF!,#REF!,'2추총괄표(실국별)'!$B29) -> #REF! | E29: =SUMIFS(#REF!,#REF!,'2추총괄표(실국별)'!$B29) -> #REF! | F29: =SUMIFS(#REF!,#REF!,'2추총괄표(실국별)'!$B29) -> #REF! | G29: =SUMIFS(#REF!,#REF!,'2추총괄표(실국별)'!$B29) -> #REF! | H29: =C29+F29+G29 -> #REF! | N29: 기금
B30: 축산산림국 | C30: 199805590 | D30: =SUMIFS(#REF!,#REF!,'2추총괄표(실국별)'!$B30) -> #REF! | E30: =SUMIFS(#REF!,#REF!,'2추총괄표(실국별)'!$B30) -> #REF! | F30: =SUMIFS(#REF!,#REF!,'2추총괄표(실국별)'!$B30) -> #REF! | G30: =SUMIFS(#REF!,#REF!,'2추총괄표(실국별)'!$B30) -> #REF! | H30: =C30+F30+G30 -> #REF! | N30: =N26-K2 -> 0
B31: 교통국 | C31: 444655559 | D31: =SUMIFS(#REF!,#REF!,'2추총괄표(실국별)'!$B31) -> #REF! | E31: =SUMIFS(#REF!,#REF!,'2추총괄표(실국별)'!$B31) -> #REF! | F31: =SUMIFS(#REF!,#REF!,'2추총괄표(실국별)'!$B31) -> #REF! | G31: =SUMIFS(#REF!,#REF!,'2추총괄표(실국별)'!$B31) -> #REF! | H31: =C31+F31+G31 -> #REF! | I31: =#REF!+#REF! -> #REF! | J31: =#REF!+#REF! -> #REF! | N31: =M7-N7 -> #REF!
B32: 건설국 | C32: 606801393 | D32: =SUMIFS(#REF!,#REF!,'2추총괄표(실국별)'!$B32) -> #REF! | E32: =SUMIFS(#REF!,#REF!,'2추총괄표(실국별)'!$B32) -> #REF! | F32: =SUMIFS(#REF!,#REF!,'2추총괄표(실국별)'!$B32) -> #REF! | G32: =SUMIFS(#REF!,#REF!,'2추총괄표(실국별)'!$B32) -> #REF! | H32: =C32+F32+G32 -> #REF!
B33: 건설본부 | C33: 42659824 | D33: =SUMIFS(#REF!,#REF!,'2추총괄표(실국별)'!$B33) -> #REF! | E33: =SUMIFS(#REF!,#REF!,'2추총괄표(실국별)'!$B33) -> #REF! | F33: =SUMIFS(#REF!,#REF!,'2추총괄표(실국별)'!$B33) -> #REF! | G33: =SUMIFS(#REF!,#REF!,'2추총괄표(실국별)'!$B33) -> #REF! | H33: =C33+F33+G33 -> #REF!
B37: 실국명 | C37: 일반 | D37: 기특 | E37: 공특 | F37: 합계
B38: 총합계 | C38: =SUM(C39:C64) -> 14571523178 | D38: =SUM(D39:D64) -> 1223711435 | E38: =SUM(E39:E64) -> 2281477190 | F38: =SUM(C38:E38) -> 18076711803
B39: 감사관 | C39: 914581 | F39: =SUM(C39:E39) -> 914581
B40: 기획조정실 | C40: 3300767937 | E40: 1844018116 | F40: =SUM(C40:E40) -> 5144786053
B41: 도시주택실 | C41: 171642061 | D41: 21248912 | E41: 28364468 | F41: =SUM(C41:E41) -> 221255441
B42: 자치행정국 | C42: 547246549 | F42: =SUM(C42:E42) -> 547246549
B43: 교육협력국 | C43: 2092269089 | D43: 246930000 | F43: =SUM(C43:E43) -> 2339199089
B44: 문화체육관광국 | C44: 234366028 | E44: 24350866 | F44: =SUM(C44:E44) -> 258716894
B45: 농정해양국 | C45: 250268892 | F45: =SUM(C45:E45) -> 250268892
B46: 철도국 | C46: 97467509 | F46: =SUM(C46:E46) -> 97467509
B47: 재난안전본부 | C47: =512692414+1402108+5137721+57953769 -> 577186012 | F47: =SUM(C47:E47) -> 577186012
B48: 의회사무처 | C48: 29891138 | F48: =SUM(C48:E48) -> 29891138
B49: 대변인 | C49: 11250846 | F49: =SUM(C49:E49) -> 11250846
B50: 대외협력담당관 | C50: 384069 | F50: =SUM(C50:E50) -> 384069
B51: 보건복지국 | C51: 1742791333 | D51: 839215577 | F51: =SUM(C51:E51) -> 2582006910
B52: 환경국 | C52: 90647611 | F52: =SUM(C52:E52) -> 90647611
B53: 여성가족국 | C53: 1883037298 | F53: =SUM(C53:E53) -> 1883037298
B54: 농업기술원 | C54: 39275302 | F54: =SUM(C54:E54) -> 39275302
B55: 인재개발원 | C55: 8834247 | F55: =SUM(C55:E55) -> 8834247
B56: 보건환경연구원 | C56: 9409184 | F56: =SUM(C56:E56) -> 9409184
B57: 수자원본부 | C57: 564663823 | D57: 3590588 | F57: =SUM(C57:E57) -> 568254411
B58: 복지여성실 | C58: 1368375599 | F58: =SUM(C58:E58) -> 1368375599
B59: 균형발전기획실 | C59: 188128052 | D59: 15000000 | F59: =SUM(C59:E59) -> 203128052
B60: 경제실 | C60: 166510010 | E60: 384743740 | F60: =SUM(C60:E60) -> 551253750
B61: 축산산림국 | C61: 199805590 | F61: =SUM(C61:E61) -> 199805590
B62: 교통국 | C62: 351095559 | D62: 93560000 | F62: =SUM(C62:E62) -> 444655559
B63: 건설국 | C63: 602635035 | D63: 4166358 | F63: =SUM(C63:E63) -> 606801393
B64: 건설본부 | C64: 42659824 | F64: =SUM(C64:E64) -> 42659824
I164: ◦ 본청 83,000 증 ◦ 북부청 377,000 증
K294: -50000

Sheet 조정내역
A1: 2016년도 제2회 경기도교육비특별회계 추경예산안 조정내역
A3: □세출예산 | B3: □세입예산 | O3: =#REF! -> #REF! | P3: =O3-O4 -> #REF! | R3: 수정세입-수정세출(마)=세입세출차액(과부족액)
G4: =#REF! -> #REF! | H4: =#REF!-#REF! -> #REF! | L4: =K7+L7 -> 0 | M4: =H7-M7 -> -439743482 | O4: =N7+O7 -> -18800000 | P4: =H7-P7 -> -420943482 | R4: (단위 : 천원) | U4: (단위 : 천원)
A5: 위원회명 | B5: 실국명 | C5: 부서명 | D5: 편성 구분 | E5: 예산안 페이지 | F5: 예산안 페이지 | G5: 목 | H5: 집행부안 | K5: 상임위 예산안 조정액(나) | M5: 상임위 조정 예산안 (다=가+나) | N5: 예결위 예산안 조정액(라) | P5: 예결위 조정 예산안 (마=가+라) | Q5: 동의 대상 | R5: 비고(부대의견) | S5: 1차 | T5: 2차 | U5: 상임위 의견(부대의견)
H6: 기정예산액 | I6: 추경요구액 (증감액) | J6: 경정예산액 (가) | K6: 감액 | L6: 증액 | N6: 감액 | O6: 증액
G7: 세 입 합 계 | H7: =SUM(H8,H10) -> 12637095955 | I7: =SUM(I8,I10) -> 439743482 | J7: =SUM(J8,J10) -> 13076839437 | K7: =SUM(K8,K10) -> 0 | L7: =SUM(L8,L10) -> 0 | M7: =SUM(M8,M10) -> 13076839437 | N7: =SUM(N8,N10) -> -18800000 | O7: =SUM(O8,O10) -> 0 | P7: =SUM(P8,P10) -> 13058039437
G8: 수정세입소계 | H8: =SUM(H9:H9) -> 330590000 | I8: =SUM(I9:I9) -> 64375243 | J8: =SUM(J9:J9) -> 394965243 | K8: =SUM(K9:K9) -> 0 | L8: =SUM(L9:L9) -> 0 | M8: =SUM(J8+K8+L8) -> 394965243 | N8: =SUM(N9:N9) -> -18800000 | O8: =SUM(O9:O9) -> 0 | P8: =SUM(J8+N8+O8) -> 376165243
A9: 2 | B9: 기획조정실 | C9: 정책기획관 | D9: 집행부 | F9: 11 (수정안) | G9: 시도세전입금 | H9: 330590000 | I9: 64375243 | J9: =H9+I9 -> 394965243 | K9: 0 | L9: 0 | M9: =SUM(J9+K9+L9) -> 394965243 | N9: -18800000 | O9: 0 | P9: =SUM(J9+N9+O9) -> 376165243 | Q9: =IF(OR(OR(AND(K9<0,O9>0),AND(K9<0,K9<N9)),AND(H9=0,O9>0)),"동의","")
B10: 기획조정실 | C10: 정책기획관 | D10: 집행부 | G10: 조정대상 사업 외 전체 사업 | H10: 12306505955 | I10: 375368239 | J10: =H10+I10 -> 12681874194 | K10: 0 | L10: 0 | M10: =SUM(J10+K10+L10) -> 12681874194 | N10: 0 | O10: 0 | P10: =SUM(J10+N10+O10) -> 12681874194 | Q10: =IF(OR(OR(AND(K10<0,O10>0),AND(K10<0,K10<N10)),AND(H10=0,O10>0)),"동의","")
A12: □세출예산 | B12: □세출예산 | O12: =#REF! -> #REF! | P12: =O12-O13 -> #REF! | R12: 수정세입-수정세출(마)=세입세출차액(과부족액)
G13: =#REF! -> #REF! | H13: =#REF!-조정내역!H16 -> #REF! | L13: =K16+L16 -> 0 | M13: =H16-M16 -> -439743482 | O13: =N16+O16 -> -18800000 | P13: =H16-P16 -> -420943482 | R13: (단위 : 천원) | U13: (단위 : 천원)
A14: 위원회명 | B14: 실국명 | C14: 부서명 | D14: 편성 구분 | E14: 예산안 페이지 | F14: 사 업 설명서 | G14: 세세부사업명 | H14: 집행부안 | K14: 상임위 예산안 조정액(나) | M14: 상임위 조정 예산안 (다=가+나) | N14: 예결위 예산안 조정액(라) | P14: 예결위 조정 예산안 (마=가+라) | Q14: 동의 대상 | R14: 비고(부대의견) | S14: 1차 | T14: 2차 | U14: 상임위 의견(부대의견)
H15: 기정예산액 | I15: 추경요구액 (증감액) | J15: 경정예산액 (가) | K15: 감액 | L15: 증액 | N15: 감액 | O15: 증액
G16: 세 출 합 계 | H16: =SUM(H17,H26) -> 12637095955 | I16: =SUM(I17,I26) -> 439743482 | J16: =SUM(J17,J26) -> 13076839437 | K16: =SUM(K17,K26) -> -970815 | L16: =SUM(L17,L26) -> 970815 | M16: =SUM(M17,M26) -> 13076839437 | N16: =SUM(N17,N26) -> -25228500 | O16: =SUM(O17,O26) -> 6428500 | P16: =SUM(P17,P26) -> 13058039437
G17: 수정세출소계 | H17: =SUM(H18:H25) -> 464480794 | I17: =SUM(I18:I25) -> 98760954 | J17: =SUM(J18:J25) -> 563241748 | K17: =SUM(K18:K25) -> -970815 | L17: =SUM(L18:L25) -> 970815 | M17: =SUM(J17+K17+L17) -> 563241748 | N17: =SUM(N18:N25) -> -25228500 | O17: =SUM(O18:O25) -> 6428500 | P17: =SUM(J17+N17+O17) -> 544441748
A18: 2 | B18: 기획조정실 | C18: 정책기획관 | D18: 집행부 | F18: 24 | G18: 예비비 | H18: 10400000 | I18: 2000000 | J18: =H18+I18 -> 12400000 | K18: -970815 | L18: 0 | M18: =SUM(J18+K18+L18) -> 11429185 | N18: 0 | O18: 5228500 | P18: =SUM(J18+N18+O18) -> 17628500 | Q18: =IF(OR(OR(AND(K18<0,O18>0),AND(K18<0,K18<N18)),AND(H18=0,O18>0)),"동의","") -> 동의 | R18: [내부유보금] 5,228,500천원
B19: 행정국 | C19: 교육급식과 | F19: 141 | G19: 계약제교원인건비 | H19: 1500000 | I19: -1200000 | J19: =H19+I19 -> 300000 | K19: 0 | L19: 0 | M19: =SUM(J19+K19+L19) -> 300000 | N19: 0 | O19: 1200000 | P19: =SUM(J19+N19+O19) -> 1500000 | Q19: =IF(OR(OR(AND(K19<0,O19>0),AND(K19<0,K19<N19)),AND(H19=0,O19>0)),"동의","")
B20: 행정국 | C20: 교육급식과 | F20: 142 | G20: 교육공무직원인건비 | H20: 0 | I20: 1200000 | J20: =H20+I20 -> 1200000 | K20: 0 | L20: 0 | M20: =SUM(J20+K20+L20) -> 1200000 | N20: -1200000 | O20: 0 | P20: =SUM(J20+N20+O20) -> 0 | Q20: =IF(OR(OR(AND(K20<0,O20>0),AND(K20<0,K20<N20)),AND(H20=0,O20>0)),"동의","")
B21: 행정국 | C21: 교육급식과 | F21: 147 | G21: 학교급식경비지원 | H21: 419147749 | I21: -5619544 | J21: =H21+I21 -> 413528205 | K21: 0 | L21: 0 | M21: =SUM(J21+K21+L21) -> 413528205 | N21: 0 | O21: 0 | P21: =SUM(J21+N21+O21) -> 413528205 | Q21: =IF(OR(OR(AND(K21<0,O21>0),AND(K21<0,K21<N21)),AND(H21=0,O21>0)),"동의","") | R21: (부대의견) 2017년도 본예산 편성 시 사전에 의회와 협의하여 급식연구용역결과를 반영할 것
B22: 행정국 | C22: 시설과 | F22: 157 | G22: 교육환경개선사업 (화장실 개선) | H22: 2445632 | I22: 76540000 | J22: =H22+I22 -> 78985632 | K22: 0 | L22: 0 | M22: =SUM(J22+K22+L22) -> 78985632 | N22: -14474000 | O22: 0 | P22: =SUM(J22+N22+O22) -> 64511632 | Q22: =IF(OR(OR(AND(K22<0,O22>0),AND(K22<0,K22<N22)),AND(H22=0,O22>0)),"동의","")
B23: 행정국 | C23: 시설과 | F23: 157 | G23: 교육환경개선사업 (외벽마감재 교체) | H23: 609573 | I23: 22553628 | J23: =H23+I23 -> 23163201 | K23: 0 | L23: 0 | M23: =SUM(J23+K23+L23) -> 23163201 | N23: -4326000 | O23: 0 | P23: =SUM(J23+N23+O23) -> 18837201 | Q23: =IF(OR(OR(AND(K23<0,O23>0),AND(K23<0,K23<N23)),AND(H23=0,O23>0)),"동의","")
A24: 1 | B24: 교육2국 | C24: 특성화교육과 | D24: 집행부 | F24: 199 | G24: 영어회화전문강사인건비 | H24: 30377840 | I24: -1941630 | J24: =H24+I24 -> 28436210 | K24: 0 | L24: 970815 | M24: =SUM(J24+K24+L24) -> 29407025 | N24: 0 | O24: 0 | P24: =SUM(J24+N24+O24) -> 28436210 | Q24: =IF(OR(OR(AND(K24<0,O24>0),AND(K24<0,K24<N24)),AND(H24=0,O24>0)),"동의","") | S24: 쟁점 | T24: 쟁점
A25: 2 | B25: 안전지원국 | C25: 재난예방과 | F25: 263 | G25: 직속기관시설관리 (학생안전체험시설 건립) | H25: 0 | I25: 5228500 | J25: =H25+I25 -> 5228500 | K25: 0 | L25: 0 | M25: =SUM(J25+K25+L25) -> 5228500 | N25: -5228500 | O25: 0 | P25: =SUM(J25+N25+O25) -> 0 | Q25: =IF(OR(OR(AND(K25<0,O25>0),AND(K25<0,K25<N25)),AND(H25=0,O25>0)),"동의","")
B26: 기획조정실 | C26: 정책기획관 | D26: 집행부 | G26: 조정대상 사업 외 전체 사업 | H26: 12172615161 | I26: 340982528 | J26: =H26+I26 -> 12513597689 | K26: 0 | L26: 0 | M26: =SUM(J26+K26+L26) -> 12513597689 | N26: 0 | O26: 0 | P26: =SUM(J26+N26+O26) -> 12513597689 | Q26: =IF(OR(OR(AND(K26<0,O26>0),AND(K26<0,K26<N26)),AND(H26=0,O26>0)),"동의","")
