Workbook

Sheet 구분표
A2: 실과명 조정 | B2: 위원회명 조정 | C2: 실국명 조정 | E2: 실국명 | F2: 실과명 | G2: 위원회명 | H2: 정렬순서 | I2: 정렬코드
A3: 공보담당관 | B3: 의회운영위원회 | C3: 의회사무처 | E3: 의회사무처 | F3: 공보담당관 | G3: 의회운영위원회 | H3: 1 | I3: 0101
A4: 총무담당관 | B4: 의회운영위원회 | C4: 의회사무처 | E4: 의회사무처 | F4: 총무담당관 | G4: 의회운영위원회 | H4: 2 | I4: 0102
A5: 의정담당관 | B5: 의회운영위원회 | C5: 의회사무처 | E5: 의회사무처 | F5: 의정담당관 | G5: 의회운영위원회 | H5: 3 | I5: 0103
A6: 입법정책담당관 | B6: 의회운영위원회 | C6: 의회사무처 | E6: 의회사무처 | F6: 입법정책담당관 | G6: 의회운영위원회 | H6: 4 | I6: 0104
A7: 예산정책담당관 | B7: 의회운영위원회 | C7: 의회사무처 | E7: 의회사무처 | F7: 예산정책담당관 | G7: 의회운영위원회 | H7: 5 | I7: 0105
A8: 언론협력담당관 | B8: 의회운영위원회 | C8: 대변인 | E8: 대변인 | F8: 언론협력담당관 | G8: 의회운영위원회 | H8: 6 | I8: 0106
A9: 보도기획담당관 | B9: 의회운영위원회 | C9: 대변인 | E9: 대변인 | F9: 보도기획담당관 | G9: 의회운영위원회 | H9: 7 | I9: 0107
A10: 홍보미디어담당관 | B10: 의회운영위원회 | C10: 소통기획관 | E10: 소통기획관 | F10: 홍보미디어담당관 | G10: 의회운영위원회 | H10: 8 | I10: 0108
A11: 홍보콘텐츠담당관 | B11: 의회운영위원회 | C11: 소통기획관 | E11: 소통기획관 | F11: 홍보콘텐츠담당관 | G11: 의회운영위원회 | H11: 9 | I11: 0109
A12: 연정협력과 | B12: 의회운영위원회 | C12: 연정협력국 | E12: 연정협력국 | F12: 연정협력과 | G12: 의회운영위원회 | H12: 10 | I12: 0110
A13: 대외협력과 | B13: 의회운영위원회 | C13: 연정협력국 | E13: 연정협력국 | F13: 대외협력과 | G13: 의회운영위원회 | H13: 11 | I13: 0111
... A215: 도서관정책과 | B215: 여성가족교육협력위원회 | C215: 교육협력국 | E215: 교육협력국 | F215: 도서관정책과 | G215: 여성가족교육협력위원회 | H215: 213 | I215: 0313

Sheet 예결표지(세로)
A5: 2015년도 제2회 일반회계 및 특별회계 추가경정 세입·세출 예산안
A7: 예결위 계수조정 결과
A20: 예산결산특별위원회

Sheet 예결표지(가로)
A3: 2015년도 제2회 일반회계 및 특별회계 추가경정 세입·세출 예산안
A5: 예결위 계수조정 결과
A14: 예산결산특별위원회

Sheet 표지
A4: 예결위 계수조정 결과
B6: - 2016년도 제4회 일반회계 및 특별회계 추가경정 세입·세출 예산안
A12: 예산결산특별위원회

Sheet 검증
A1: 제4회 추경 일반회계 검증 | H1: 4추 예비비 | J1: 조정액 | K1: =IFERROR(INDEX('4추일출'!AD6:AD8,MATCH("*예비비*",'4추일출'!F6:F8,0)),0) -> 0 | L1: 조정잔액 | M1: =I1+K1 -> 0
M2: (단위 : 천원)
A3: 구분 | B3: 상 임 위 | H3: 구분 | I3: 예 결 위
B4: 세입 | C4: 검증 | D4: 세출 | E4: 검증 | F4: 차액 | I4: 세입 | J4: 검증 | K4: 세출 | L4: 검증 | M4: 차액
A5: 전체 총계 | B5: =SUM(B6:B13)/2 -> 0 | C5: =IF(B5=SUM('4추일입'!J6:K6),"OK","@@") -> OK | D5: =SUM(D6:D13)/2 -> 0 | E5: =IF(D5=SUM('4추일출'!J6:K6),"OK","@@") -> @@ | H5: 전체 총계 | I5: =SUM(I6:I13)/2 -> 0 | J5: =IF(I5=SUM('4추일입'!M6:N6),"OK","@@") -> OK | K5: =SUM(K6:K13)/2 -> 0 | L5: =IF(K5=SUM('4추일출'!M6:N6),"OK","@@") -> OK
A6: 자체 계 | B6: =SUM(B7:B8) -> 0 | C6: =IF(B6='4추일입'!Y6,"OK","@@") -> OK | D6: =SUM(D7:D8) -> 0 | E6: =IF(D6='4추일출'!Y6,"OK","@@") -> OK | H6: 자체 계 | I6: =SUM(I7:I8) -> 0 | J6: =IF(I6='4추일입'!AD6,"OK","@@") -> OK | K6: =SUM(K7:K8) -> 0 | L6: =IF(K6='4추일출'!AD6,"OK","@@") -> OK
A7: 자체 도비 | B7: =SUMIFS('4추일입'!Y6:Y100,'4추일입'!W6:W100,"도비") -> 0 | D7: =SUMIFS('4추일출'!$Y$6:$Y$8,'4추일출'!$W$6:$W$8,"도비") -> 0 | H7: 자체 도비 | I7: =SUMIFS('4추일입'!AD6:AD100,'4추일입'!AB6:AB100,"국비") -> 0 | K7: =SUMIFS('4추일출'!$AD$6:$AD$8,'4추일출'!$AB$6:$AB$8,"도비") -> 0
A8: 의존 매칭 도비 | B8: =SUMIFS('4추일입'!Y6:Y100,'4추일입'!W6:W100,"국비")+SUMIFS('4추일입'!Y6:Y100,'4추일입'!W6:W100,"지특")+SUMIFS('4추일입'!Y6:Y100,'4추일입'!W6:W100,"기금")+SUMIFS('4추일입'!Y6:Y100,'4추일입'!W6:W100,"특교") -> 0 | D8: =SUMIFS('4추일출'!$Y$6:$Y$8,'4추일출'!$W$6:$W$8,"국비")+SUMIFS('4추일출'!$Y$6:$Y$8,'4추일출'!$W$6:$W$8,"지특")+SUMIFS('4추일출'!$Y$6:$Y$8,'4추일출'!$W$6:$W$8,"기금")+SUMIFS('4추일출'!$Y$6:$Y$8,'4추일출'!$W$6:$W$8,"특교") -> 0 | H8: 의존 매칭 도비 | I8: =SUMIFS('4추일입'!AD6:AD100,'4추일입'!AB6:AB100,"국비")+SUMIFS('4추일입'!AD6:AD100,'4추일입'!AB6:AB100,"지특")+SUMIFS('4추일입'!AD6:AD100,'4추일입'!AB6:AB100,"기금")+SUMIFS('4추일입'!AD6:AD100,'4추일입'!AB6:AB100,"특교") -> 0 | K8: =SUMIFS('4추일출'!$AD$6:$AD$8,'4추일출'!$AB$6:$AB$8,"국비")+SUMIFS('4추일출'!$AD$6:$AD$8,'4추일출'!$AB$6:$AB$8,"지특")+SUMIFS('4추일출'!$AD$6:$AD$8,'4추일출'!$AB$6:$AB$8,"기금")+SUMIFS('4추일출'!$AD$6:$AD$8,'4추일출'!$AB$6:$AB$8,"특교") -> 0
A9: 의존 계 | B9: =SUM(B10:B13) -> 0 | C9: =IF(B9='4추일입'!X6,"OK","@@") -> OK | D9: =SUM(D10:D13) -> 0 | E9: =IF(D9='4추일출'!X6,"OK","@@") -> @@ | F9: =SUM(F10:F13) -> 0 | H9: 의존 계 | I9: =SUM(I10:I13) -> 0 | J9: =IF(I9='4추일입'!X6,"OK","@@") -> OK | K9: =SUM(K10:K13) -> 0 | L9: =IF(K9='4추일출'!AC6,"OK","@@") -> OK | M9: =SUM(M10:M13) -> 0
A10: 국비 | B10: =SUMIFS('4추일입'!$Y$6:$Y$100,'4추일입'!$W$6:$W$100,검증!A10) -> 0 | D10: =SUMIFS('4추일출'!$Y$6:$Y$8,'4추일출'!$W$6:$W$8,검증!A10) -> 0 | F10: =D10-B10 -> 0 | H10: 국비 | I10: =SUMIFS('4추일입'!$AD$6:$AD$100,'4추일입'!$AB$6:$AB$100,검증!H10) -> 0 | K10: =SUMIFS('4추일출'!$AD$6:$AD$8,'4추일출'!$AB$6:$AB$8,검증!H10) -> 0 | M10: =K10-I10 -> 0
A11: 지특 | B11: =SUMIFS('4추일입'!$Y$6:$Y$100,'4추일입'!$W$6:$W$100,검증!A11) -> 0 | D11: =SUMIFS('4추일출'!$Y$6:$Y$8,'4추일출'!$W$6:$W$8,검증!A11) -> 0 | F11: =D11-B11 -> 0 | H11: 지특 | I11: =SUMIFS('4추일입'!$AD$6:$AD$100,'4추일입'!$AB$6:$AB$100,검증!H11) -> 0 | K11: =SUMIFS('4추일출'!$AD$6:$AD$8,'4추일출'!$AB$6:$AB$8,검증!H11) -> 0 | M11: =K11-I11 -> 0
A12: 기금 | B12: =SUMIFS('4추일입'!$Y$6:$Y$100,'4추일입'!$W$6:$W$100,검증!A12) -> 0 | D12: =SUMIFS('4추일출'!$Y$6:$Y$8,'4추일출'!$W$6:$W$8,검증!A12) -> 0 | F12: =D12-B12 -> 0 | H12: 기금 | I12: =SUMIFS('4추일입'!$AD$6:$AD$100,'4추일입'!$AB$6:$AB$100,검증!H12) -> 0 | K12: =SUMIFS('4추일출'!$AD$6:$AD$8,'4추일출'!$AB$6:$AB$8,검증!H12) -> 0 | M12: =K12-I12 -> 0
A13: 특교 | B13: =SUMIFS('4추일입'!$Y$6:$Y$100,'4추일입'!$W$6:$W$100,검증!A13) -> 0 | D13: =SUMIFS('4추일출'!$Y$6:$Y$8,'4추일출'!$W$6:$W$8,검증!A13) -> 0 | F13: =D13-B13 -> 0 | H13: 특교 | I13: =SUMIFS('4추일입'!$AD$6:$AD$100,'4추일입'!$AB$6:$AB$100,검증!H13) -> 0 | K13: =SUMIFS('4추일출'!$AD$6:$AD$8,'4추일출'!$AB$6:$AB$8,검증!H13) -> 0 | M13: =K13-I13 -> 0

Sheet 총괄표
A1: 2016년도 제4회 추경 일반 및 특별회계 세입·세출 예산안(전체예산총괄)
A3: □ 총 괄 | C3: 세입예산 증감 | D3: =SUM(C7:D7) -> 0 | F3: 세출예산증감 | G3: =SUM(F7:G7) -> 0
F4: ※ 예비비 증감 | I4: (단위 : 천원)
A5: 구 분 | B5: 집행부제출(안) | C5: 세입예산(안) | F5: 세출예산(안) | I5: 수정예산(안) | K5: ※ 예산안 증감현황
C6: 감 액 | D6: 증 액 | E6: 증감액 | F6: 감 액 | G6: 증 액 | H6: 증감액 | K6: 구 분 | L6: 세입 | M6: 세출 | N6: 예비비 | O6: 비고(???)
A7: 합 계 | B7: =SUM(B8:B17) -> 0 | C7: =SUM(C8:C17) -> 0 | D7: =SUM(D8:D17) -> 0 | E7: =SUM(E8:E17) -> 0 | F7: =SUM(F8:F17) -> 0 | G7: =SUM(G8:G17) -> 0 | H7: =SUM(H8:H17) -> 0 | I7: =SUM(I8:I17) -> 0 | K7: 합 계 | L7: =SUM(L8:L9) -> 0 | M7: =SUM(M8:M9) -> 0 | N7: =L7-M7 -> 0
A8: 의회운영위원회 | B8: =B31 -> 0 | C8: =SUMIFS('4추일입'!$M$6:$M$100,'4추일입'!$A$6:$A$100,총괄표!$A8)+SUMIFS('4추특입'!$M$6:$M$80,'4추특입'!$A$6:$A$80,총괄표!$A8) -> 0 | D8: =SUMIFS('4추일입'!$N$6:$N$100,'4추일입'!$A$6:$A$100,총괄표!$A8)+SUMIFS('4추특입'!$N$6:$N$80,'4추특입'!$A$6:$A$80,총괄표!$A8) -> 0 | E8: =D8-C8 -> 0 | F8: =SUMIFS('4추일출'!M$6:M$8,'4추일출'!$A$6:$A$8,총괄표!$A8)+SUMIFS('4추특출'!M$6:M$100,'4추특출'!$A$6:$A$100,총괄표!$A8) -> 0 | G8: =SUMIFS('4추일출'!N$6:N$8,'4추일출'!$A$6:$A$8,총괄표!$A8)+SUMIFS('4추특출'!N$6:N$100,'4추특출'!$A$6:$A$100,총괄표!$A8) -> 0 | H8: =G8-F8 -> 0 | I8: =B8+F8+G8 -> 0 | K8: 일반회계 | L8: =SUM(C24:D24) -> 0 | M8: =SUM(F24:G24) -> 0 | N8: =L8-M8 -> 0 | O8: 예비비 증감 - 감액, + 증액에 입력
A9: 기획재정위원회 | B9: =B32 -> 0 | C9: =SUMIFS('4추일입'!$M$6:$M$100,'4추일입'!$A$6:$A$100,총괄표!$A9)+SUMIFS('4추특입'!$M$6:$M$80,'4추특입'!$A$6:$A$80,총괄표!$A9) -> 0 | D9: =SUMIFS('4추일입'!$N$6:$N$100,'4추일입'!$A$6:$A$100,총괄표!$A9)+SUMIFS('4추특입'!$N$6:$N$80,'4추특입'!$A$6:$A$80,총괄표!$A9) -> 0 | E9: =D9-C9 -> 0 | F9: =SUMIFS('4추일출'!M$6:M$8,'4추일출'!$A$6:$A$8,총괄표!$A9)+SUMIFS('4추특출'!M$6:M$100,'4추특출'!$A$6:$A$100,총괄표!$A9) -> 0 | G9: =SUMIFS('4추일출'!N$6:N$8,'4추일출'!$A$6:$A$8,총괄표!$A9)+SUMIFS('4추특출'!N$6:N$100,'4추특출'!$A$6:$A$100,총괄표!$A9) -> 0 | H9: =G9-F9 -> 0 | I9: =B9+F9+G9 -> 0 | K9: 특별회계 | L9: =SUM(C25:D25) -> 0 | M9: =SUM(F25:G25) -> 0 | N9: =L9-M9 -> 0
A10: 경제과학기술위원회 | B10: =B33 -> 0 | C10: =SUMIFS('4추일입'!$M$6:$M$100,'4추일입'!$A$6:$A$100,총괄표!$A10)+SUMIFS('4추특입'!$M$6:$M$80,'4추특입'!$A$6:$A$80,총괄표!$A10) -> 0 | D10: =SUMIFS('4추일입'!$N$6:$N$100,'4추일입'!$A$6:$A$100,총괄표!$A10)+SUMIFS('4추특입'!$N$6:$N$80,'4추특입'!$A$6:$A$80,총괄표!$A10) -> 0 | E10: =D10-C10 -> 0 | F10: =SUMIFS('4추일출'!M$6:M$8,'4추일출'!$A$6:$A$8,총괄표!$A10)+SUMIFS('4추특출'!M$6:M$100,'4추특출'!$A$6:$A$100,총괄표!$A10) -> 0 | G10: =SUMIFS('4추일출'!N$6:N$8,'4추일출'!$A$6:$A$8,총괄표!$A10)+SUMIFS('4추특출'!N$6:N$100,'4추특출'!$A$6:$A$100,총괄표!$A10) -> 0 | H10: =G10-F10 -> 0 | I10: =B10+F10+G10 -> 0
A11: 안전행정위원회 | B11: =B34 -> 0 | C11: =SUMIFS('4추일입'!$M$6:$M$100,'4추일입'!$A$6:$A$100,총괄표!$A11)+SUMIFS('4추특입'!$M$6:$M$80,'4추특입'!$A$6:$A$80,총괄표!$A11) -> 0 | D11: =SUMIFS('4추일입'!$N$6:$N$100,'4추일입'!$A$6:$A$100,총괄표!$A11)+SUMIFS('4추특입'!$N$6:$N$80,'4추특입'!$A$6:$A$80,총괄표!$A11) -> 0 | E11: =D11-C11 -> 0 | F11: =SUMIFS('4추일출'!M$6:M$8,'4추일출'!$A$6:$A$8,총괄표!$A11)+SUMIFS('4추특출'!M$6:M$100,'4추특출'!$A$6:$A$100,총괄표!$A11) -> 0 | G11: =SUMIFS('4추일출'!N$6:N$8,'4추일출'!$A$6:$A$8,총괄표!$A11)+SUMIFS('4추특출'!N$6:N$100,'4추특출'!$A$6:$A$100,총괄표!$A11) -> 0 | H11: =G11-F11 -> 0 | I11: =B11+F11+G11 -> 0
A12: 문화체육관광위원회 | B12: =B35 -> 0 | C12: =SUMIFS('4추일입'!$M$6:$M$100,'4추일입'!$A$6:$A$100,총괄표!$A12)+SUMIFS('4추특입'!$M$6:$M$80,'4추특입'!$A$6:$A$80,총괄표!$A12) -> 0 | D12: =SUMIFS('4추일입'!$N$6:$N$100,'4추일입'!$A$6:$A$100,총괄표!$A12)+SUMIFS('4추특입'!$N$6:$N$80,'4추특입'!$A$6:$A$80,총괄표!$A12) -> 0 | E12: =D12-C12 -> 0 | F12: =SUMIFS('4추일출'!M$6:M$8,'4추일출'!$A$6:$A$8,총괄표!$A12)+SUMIFS('4추특출'!M$6:M$100,'4추특출'!$A$6:$A$100,총괄표!$A12) -> 0 | G12: =SUMIFS('4추일출'!N$6:N$8,'4추일출'!$A$6:$A$8,총괄표!$A12)+SUMIFS('4추특출'!N$6:N$100,'4추특출'!$A$6:$A$100,총괄표!$A12) -> 0 | H12: =G12-F12 -> 0 | I12: =B12+F12+G12 -> 0
A13: 농정해양위원회 | B13: =B36 -> 0 | C13: =SUMIFS('4추일입'!$M$6:$M$100,'4추일입'!$A$6:$A$100,총괄표!$A13)+SUMIFS('4추특입'!$M$6:$M$80,'4추특입'!$A$6:$A$80,총괄표!$A13) -> 0 | D13: =SUMIFS('4추일입'!$N$6:$N$100,'4추일입'!$A$6:$A$100,총괄표!$A13)+SUMIFS('4추특입'!$N$6:$N$80,'4추특입'!$A$6:$A$80,총괄표!$A13) -> 0 | E13: =D13-C13 -> 0 | F13: =SUMIFS('4추일출'!M$6:M$8,'4추일출'!$A$6:$A$8,총괄표!$A13)+SUMIFS('4추특출'!M$6:M$100,'4추특출'!$A$6:$A$100,총괄표!$A13) -> 0 | G13: =SUMIFS('4추일출'!N$6:N$8,'4추일출'!$A$6:$A$8,총괄표!$A13)+SUMIFS('4추특출'!N$6:N$100,'4추특출'!$A$6:$A$100,총괄표!$A13) -> 0 | H13: =G13-F13 -> 0 | I13: =B13+F13+G13 -> 0
A14: 보건복지위원회 | B14: =B37 -> 0 | C14: =SUMIFS('4추일입'!$M$6:$M$100,'4추일입'!$A$6:$A$100,총괄표!$A14)+SUMIFS('4추특입'!$M$6:$M$80,'4추특입'!$A$6:$A$80,총괄표!$A14) -> 0 | D14: =SUMIFS('4추일입'!$N$6:$N$100,'4추일입'!$A$6:$A$100,총괄표!$A14)+SUMIFS('4추특입'!$N$6:$N$80,'4추특입'!$A$6:$A$80,총괄표!$A14) -> 0 | E14: =D14-C14 -> 0 | F14: =SUMIFS('4추일출'!M$6:M$8,'4추일출'!$A$6:$A$8,총괄표!$A14)+SUMIFS('4추특출'!M$6:M$100,'4추특출'!$A$6:$A$100,총괄표!$A14) -> 0 | G14: =SUMIFS('4추일출'!N$6:N$8,'4추일출'!$A$6:$A$8,총괄표!$A14)+SUMIFS('4추특출'!N$6:N$100,'4추특출'!$A$6:$A$100,총괄표!$A14) -> 0 | H14: =G14-F14 -> 0 | I14: =B14+F14+G14 -> 0
A15: 건설교통위원회 | B15: =B38 -> 0 | C15: =SUMIFS('4추일입'!$M$6:$M$100,'4추일입'!$A$6:$A$100,총괄표!$A15)+SUMIFS('4추특입'!$M$6:$M$80,'4추특입'!$A$6:$A$80,총괄표!$A15) -> 0 | D15: =SUMIFS('4추일입'!$N$6:$N$100,'4추일입'!$A$6:$A$100,총괄표!$A15)+SUMIFS('4추특입'!$N$6:$N$80,'4추특입'!$A$6:$A$80,총괄표!$A15) -> 0 | E15: =D15-C15 -> 0 | F15: =SUMIFS('4추일출'!M$6:M$8,'4추일출'!$A$6:$A$8,총괄표!$A15)+SUMIFS('4추특출'!M$6:M$100,'4추특출'!$A$6:$A$100,총괄표!$A15) -> 0 | G15: =SUMIFS('4추일출'!N$6:N$8,'4추일출'!$A$6:$A$8,총괄표!$A15)+SUMIFS('4추특출'!N$6:N$100,'4추특출'!$A$6:$A$100,총괄표!$A15) -> 0 | H15: =G15-F15 -> 0 | I15: =B15+F15+G15 -> 0
A16: 도시환경위원회 | B16: =B39 -> 0 | C16: =SUMIFS('4추일입'!$M$6:$M$100,'4추일입'!$A$6:$A$100,총괄표!$A16)+SUMIFS('4추특입'!$M$6:$M$80,'4추특입'!$A$6:$A$80,총괄표!$A16) -> 0 | D16: =SUMIFS('4추일입'!$N$6:$N$100,'4추일입'!$A$6:$A$100,총괄표!$A16)+SUMIFS('4추특입'!$N$6:$N$80,'4추특입'!$A$6:$A$80,총괄표!$A16) -> 0 | E16: =D16-C16 -> 0 | F16: =SUMIFS('4추일출'!M$6:M$8,'4추일출'!$A$6:$A$8,총괄표!$A16)+SUMIFS('4추특출'!M$6:M$100,'4추특출'!$A$6:$A$100,총괄표!$A16) -> 0 | G16: =SUMIFS('4추일출'!N$6:N$8,'4추일출'!$A$6:$A$8,총괄표!$A16)+SUMIFS('4추특출'!N$6:N$100,'4추특출'!$A$6:$A$100,총괄표!$A16) -> 0 | H16: =G16-F16 -> 0 | I16: =B16+F16+G16 -> 0
A17: 여상가족교육협력위원회 | B17: =B40 -> 0 | C17: =SUMIFS('4추일입'!$M$6:$M$100,'4추일입'!$A$6:$A$100,총괄표!$A17)+SUMIFS('4추특입'!$M$6:$M$80,'4추특입'!$A$6:$A$80,총괄표!$A17) -> 0 | D17: =SUMIFS('4추일입'!$N$6:$N$100,'4추일입'!$A$6:$A$100,총괄표!$A17)+SUMIFS('4추특입'!$N$6:$N$80,'4추특입'!$A$6:$A$80,총괄표!$A17) -> 0 | E17: =D17-C17 -> 0 | F17: =SUMIFS('4추일출'!M$6:M$8,'4추일출'!$A$6:$A$8,총괄표!$A17)+SUMIFS('4추특출'!M$6:M$100,'4추특출'!$A$6:$A$100,총괄표!$A17) -> 0 | G17: =SUMIFS('4추일출'!N$6:N$8,'4추일출'!$A$6:$A$8,총괄표!$A17)+SUMIFS('4추특출'!N$6:N$100,'4추특출'!$A$6:$A$100,총괄표!$A17) -> 0 | H17: =G17-F17 -> 0 | I17: =B17+F17+G17 -> 0
A19: □ 회계별 예산 총 규모
I20: (단위 : 천원)
A21: 구 분 | B21: 집행부제출(안) | C21: 세입예산(안) | F21: 세출예산(안) | I21: 수정예산(안) | K21: 세입기준
C22: 감 액 | D22: 증 액 | E22: 증감액 | F22: 감 액 | G22: 증 액 | H22: 증감액 | K22: 수정예산(안) | L22: 세출기준-세입기준
A23: 합 계 | B23: =SUM(B24:B25) -> 0 | C23: =SUM(C24:C25) -> 0 | D23: =SUM(D24:D25) -> 0 | E23: =SUM(E24:E25) -> 0 | F23: =SUM(F24:F25) -> 0 | G23: =SUM(G24:G25) -> 0 | H23: =SUM(H24:H25) -> 0 | I23: =SUM(I24:I25) -> 0 | K23: =SUM(K24:K25) -> 0 | L23: =I23-K23 -> 0
A24: 일반회계 | B24: =D30 -> 0 | C24: ='4추일입'!M6 -> 0 | D24: ='4추일입'!N6 -> 0 | E24: =D24-C24 -> 0 | F24: ='4추일출'!M6 -> 0 | G24: ='4추일출'!N6 -> 0 | H24: =G24-F24 -> 0 | I24: =B24+F24+G24 -> 0 | K24: =B24+C24+D24 -> 0 | L24: =I24-K24 -> 0
A25: 특별회계 | B25: =F30+G30 -> 0 | C25: ='4추특입'!M6 -> 0 | D25: ='4추특입'!N6 -> 0 | E25: =D25-C25 -> 0 | F25: ='4추특출'!M6 -> 0 | G25: ='4추특출'!N6 -> 0 | I25: =B25+F25+G25 -> 0 | K25: =B25+C25+D25 -> 0 | L25: =I25-K25 -> 0
A28: ※ 회계별, 위원회별 집행부제출안
A29: 위원회명 | B29: 합계 | C29: 일반+기타 | D29: 일반회계 | E29: 기타특별회계 | F29: 공기업특별회계
A30: 합계 | B30: =SUM(B31:B40) -> 0 | C30: =SUM(C31:C40) -> 0 | D30: =SUM(D31:D40) -> 0 | E30: =SUM(E31:E40) -> 0 | F30: =SUM(F31:F40) -> 0
A31: 의회운영위원회 | B31: =SUM(D31:G31) -> 0 | C31: =D31+F31 -> 0
A32: 기획재정위원회 | B32: =SUM(D32:G32) -> 0 | C32: =D32+F32 -> 0
A33: 경제과학기술위원회 | B33: =SUM(D33:G33) -> 0 | C33: =D33+F33 -> 0
A34: 안전행정위원회 | B34: =SUM(D34:G34) -> 0 | C34: =D34+F34 -> 0
A35: 문화체육관광위원회 | B35: =SUM(D35:G35) -> 0 | C35: =D35+F35 -> 0
A36: 농정해양위원회 | B36: =SUM(D36:G36) -> 0 | C36: =D36+F36 -> 0
A37: 보건복지위원회 | B37: =SUM(D37:G37) -> 0 | C37: =D37+F37 -> 0
A38: 건설교통위원회 | B38: =SUM(D38:G38) -> 0 | C38: =D38+F38 -> 0
A39: 도시환경위원회 | B39: =SUM(D39:G39) -> 0 | C39: =D39+F39 -> 0
A40: 여상가족교육협력위원회 | B40: =SUM(D40:G40) -> 0 | C40: =D40+F40 -> 0
A42: 예비비

Sheet 4추일입
A1: 2016년도 제4회 추경 경기도 일반회계 세입 예산 조정(안)
A2: □ 세입예산 | X2: 세입=세출 | AC2: 세입=세출
J3: =COUNTA(J7:J100) -> 0 | K3: =COUNTA(K7:K100) -> 0 | M3: =COUNTA(M7:M100) -> 0 | N3: =COUNTA(N7:N100) -> 0 | S3: (단위 : 천원) | X3: =IF(X6='4추일출'!X6,"OK","@@") -> @@ | Z3: =IF(COUNTIF(Z6:Z100,"검토")>0,"@@","OK") -> OK | AC3: =IF(AC6='4추일출'!AC6,"OK","@@") -> OK | AE3: =IF(COUNTIF(AE6:AE100,"검토")>0,"@@","OK") -> OK
A4: 위원회명 | B4: 실국명 | C4: 부서명 | D4: 편성 구분 | E4: 예산안 페이지 | F4: 사업명 | G4: 제4회 추경 예산안 (가) | H4: 기정액 (나) | I4: 제4회 추경 증감액 (다=가-나) | J4: 상임위 제4회 추경 예산안 조정액(라) | L4: 상임위 수정 예산안 (마=가+라) | M4: 예결위 제4회 추경 예산안 조정액(라) | O4: 예결위 수정 예산안 (마=가+라) | P4: 동의 대상 | Q4: 상임위 변경사유 (심의 참고자료) | R4: 비고 (상임위 부대의견) | S4: 비고 (부대의견) | U4: 국도비 등 여부 | W4: 재원 | X4: 상임위 재원별 증감액 | AB4: 재원 | AC4: 예결위 재원별 증감액 | AG4: 세입번호 | AI4: 실국부서 코드 | AK4: 추가 내시 등 | AM4: 상임위 세입 검증 | AQ4: 예결위 세입 검증
J5: 감액 | K5: 증액 | M5: 감액 | N5: 증액 | X5: 국비 등 | Y5: 도비 | Z5: 검증 | AC5: 국비 등 | AD5: 도비 | AE5: 검증 | AM5: 국비 증감액 | AN5: 건수 | AO5: 검증 | AQ5: 국비 증감액 | AR5: 건수 | AS5: 검증
A6: 합 계 | G6: =SUBTOTAL(9,G7:G100) -> 0 | H6: =SUBTOTAL(9,H7:H100) -> 0 | I6: =SUBTOTAL(9,I7:I100) -> 0 | J6: =SUBTOTAL(9,J7:J100) -> 0 | K6: =SUBTOTAL(9,K7:K100) -> 0 | L6: =SUBTOTAL(9,L7:L100) -> 0 | M6: =SUBTOTAL(9,M7:M100) -> 0 | N6: =SUBTOTAL(9,N7:N100) -> 0 | O6: =SUBTOTAL(9,O7:O100) -> 0 | X6: =SUBTOTAL(9,X7:X100) -> 0 | Y6: =SUBTOTAL(9,Y7:Y100) -> 0 | Z6: =IF(SUM($J6:$K6)=SUM($X6:$Y6),"OK","검토") -> OK | AC6: =SUBTOTAL(9,AC7:AC100) -> 0 | AD6: =SUBTOTAL(9,AD7:AD100) -> 0 | AE6: =IF(SUM($J6:$K6)=SUM($X6:$Y6),"OK","검토") -> OK | AM6: =SUBTOTAL(9,AM7:AM100) -> 0 | AN6: =SUBTOTAL(9,AN7:AN100) -> 0 | AO6: =IF(COUNTIF(AO7:AO100,"@@")>0,"@@","OK") -> OK | AQ6: =SUBTOTAL(9,AQ7:AQ100) -> 0 | AR6: =SUBTOTAL(9,AR7:AR100) -> 0 | AS6: =IF(COUNTIF(AS7:AS100,"@@")>0,"@@","OK") -> OK
A7: =IFERROR(VLOOKUP($C7,구분표!$A$2:$C$313,2,FALSE),"") | B7: =IFERROR(VLOOKUP($C7,구분표!$A$2:$C$313,3,FALSE),"") | D7: 본예산 | I7: =IF(D7="","",G7-H7) -> 0 | L7: =G7+J7+K7 -> 0 | O7: =G7+M7+N7 -> 0 | P7: =IF(AND((L7=0),(O7>0)),"O",IF(AND((J7<0),(L7-O7<0)),"O","X")) -> X | X7: =IF($W7<>"도비",IF($U7="국도비","직접입력",SUM($J7:$K7)),) -> 0 | Y7: =IF($W7="도비",SUM($J7:$K7),IF($U7="국도비","직접입력",SUM($J7:$K7)-$X7)) -> 0 | Z7: =IF(SUM($J7:$K7)=SUM($X7:$Y7),"OK","검토") -> OK | AC7: =IF($W7<>"도비",IF($U7="국도비","직접입력",SUM($M7:$N7)),) -> 0 | AD7: =IF($W7="도비",SUM(M7:N7),IF($U7="국도비","직접입력",SUM(M7:N7)-AC7)) -> 0 | AE7: =IF(SUM(M7:N7)=SUM(AC7:AD7),"OK","검토") -> OK | AG7: =IF(AI7="","",IF(W7="도비","세입없음",CONCATENATE(AI7,"-",COUNTIF($AI$7:AI7,AI7)))) | AI7: {=IF(C7="","",INDEX(구분표!$I$2:$I$313, MATCH(1,(구분표!$E$2:$E$313='4추일입'!B7)*(구분표!$F$2:$F$313='4추일입'!C7)*(구분표!$G$2:$G$313='4추일입'!A7),0)))} | AM7: =IF(AG7="",0,SUMIFS('4추일출'!$X$6:$X$8,'4추일출'!$AG$6:$AG$8,'4추일입'!$AG7)) -> 0 | AN7: =IF(AG7="","",COUNTIFS('4추일출'!$AG$6:$AG$8,'4추일입'!AG7)) | AO7: =IF(X7=AM7,"OK","@@") -> OK | AQ7: =IF(AG7="",0,SUMIFS('4추일출'!$AC$6:$AC$8,'4추일출'!$AG$6:$AG$8,'4추일입'!$AG7)) -> 0 | AR7: =IF(AG7="","",COUNTIFS('4추일출'!$AG$6:$AG$8,AG7)) | AS7: =IF(AC7=AQ7,"OK","@@") -> OK
A8: =IFERROR(VLOOKUP($C8,구분표!$A$2:$C$313,2,FALSE),"") | B8: =IFERROR(VLOOKUP($C8,구분표!$A$2:$C$313,3,FALSE),"") | D8: 신규 | I8: =IF(D8="","",G8-H8) -> 0 | L8: =G8+J8+K8 -> 0 | O8: =G8+M8+N8 -> 0 | P8: =IF(AND((L8=0),(O8>0)),"O",IF(AND((J8<0),(L8-O8<0)),"O","X")) -> X | X8: =IF($W8<>"도비",IF($U8="국도비","직접입력",SUM($J8:$K8)),) -> 0 | Y8: =IF($W8="도비",SUM($J8:$K8),IF($U8="국도비","직접입력",SUM($J8:$K8)-$X8)) -> 0 | Z8: =IF(SUM($J8:$K8)=SUM($X8:$Y8),"OK","검토") -> OK | AC8: =IF($W8<>"도비",IF($U8="국도비","직접입력",SUM($M8:$N8)),) -> 0 | AD8: =IF($W8="도비",SUM(M8:N8),IF($U8="국도비","직접입력",SUM(M8:N8)-AC8)) -> 0 | AE8: =IF(SUM(M8:N8)=SUM(AC8:AD8),"OK","검토") -> OK | AG8: =IF(AI8="","",IF(W8="도비","세입없음",CONCATENATE(AI8,"-",COUNTIF($AI$7:AI8,AI8)))) | AI8: {=IF(C8="","",INDEX(구분표!$I$2:$I$313, MATCH(1,(구분표!$E$2:$E$313='4추일입'!B8)*(구분표!$F$2:$F$313='4추일입'!C8)*(구분표!$G$2:$G$313='4추일입'!A8),0)))} | AM8: =IF(AG8="",0,SUMIFS('4추일출'!$X$6:$X$8,'4추일출'!$AG$6:$AG$8,'4추일입'!$AG8)) -> 0 | AN8: =IF(AG8="","",COUNTIFS('4추일출'!$AG$6:$AG$8,'4추일입'!AG8)) | AO8: =IF(X8=AM8,"OK","@@") -> OK | AQ8: =IF(AG8="",0,SUMIFS('4추일출'!$AC$6:$AC$8,'4추일출'!$AG$6:$AG$8,'4추일입'!$AG8)) -> 0 | AR8: =IF(AG8="","",COUNTIFS('4추일출'!$AG$6:$AG$8,AG8)) | AS8: =IF(AC8=AQ8,"OK","@@") -> OK
A9: =IFERROR(VLOOKUP($C9,구분표!$A$2:$C$313,2,FALSE),"") | B9: =IFERROR(VLOOKUP($C9,구분표!$A$2:$C$313,3,FALSE),"") | D9: 1회추경 | I9: =IF(D9="","",G9-H9) -> 0 | L9: =G9+J9+K9 -> 0 | O9: =G9+M9+N9 -> 0 | P9: =IF(AND((L9=0),(O9>0)),"O",IF(AND((J9<0),(L9-O9<0)),"O","X")) -> X | X9: =IF($W9<>"도비",IF($U9="국도비","직접입력",SUM($J9:$K9)),) -> 0 | Y9: =IF($W9="도비",SUM($J9:$K9),IF($U9="국도비","직접입력",SUM($J9:$K9)-$X9)) -> 0 | Z9: =IF(SUM($J9:$K9)=SUM($X9:$Y9),"OK","검토") -> OK | AC9: =IF($W9<>"도비",IF($U9="국도비","직접입력",SUM($M9:$N9)),) -> 0 | AD9: =IF($W9="도비",SUM(M9:N9),IF($U9="국도비","직접입력",SUM(M9:N9)-AC9)) -> 0 | AE9: =IF(SUM(M9:N9)=SUM(AC9:AD9),"OK","검토") -> OK | AG9: =IF(AI9="","",IF(W9="도비","세입없음",CONCATENATE(AI9,"-",COUNTIF($AI$7:AI9,AI9)))) | AI9: {=IF(C9="","",INDEX(구분표!$I$2:$I$313, MATCH(1,(구분표!$E$2:$E$313='4추일입'!B9)*(구분표!$F$2:$F$313='4추일입'!C9)*(구분표!$G$2:$G$313='4추일입'!A9),0)))} | AM9: =IF(AG9="",0,SUMIFS('4추일출'!$X$6:$X$8,'4추일출'!$AG$6:$AG$8,'4추일입'!$AG9)) -> 0 | AN9: =IF(AG9="","",COUNTIFS('4추일출'!$AG$6:$AG$8,'4추일입'!AG9)) | AO9: =IF(X9=AM9,"OK","@@") -> OK | AQ9: =IF(AG9="",0,SUMIFS('4추일출'!$AC$6:$AC$8,'4추일출'!$AG$6:$AG$8,'4추일입'!$AG9)) -> 0 | AR9: =IF(AG9="","",COUNTIFS('4추일출'!$AG$6:$AG$8,AG9)) | AS9: =IF(AC9=AQ9,"OK","@@") -> OK
A10: =IFERROR(VLOOKUP($C10,구분표!$A$2:$C$313,2,FALSE),"") | B10: =IFERROR(VLOOKUP($C10,구분표!$A$2:$C$313,3,FALSE),"") | D10: 4회추경 | I10: =IF(D10="","",G10-H10) -> 0 | L10: =G10+J10+K10 -> 0 | O10: =G10+M10+N10 -> 0 | P10: =IF(AND((L10=0),(O10>0)),"O",IF(AND((J10<0),(L10-O10<0)),"O","X")) -> X | X10: =IF($W10<>"도비",IF($U10="국도비","직접입력",SUM($J10:$K10)),) -> 0 | Y10: =IF($W10="도비",SUM($J10:$K10),IF($U10="국도비","직접입력",SUM($J10:$K10)-$X10)) -> 0 | Z10: =IF(SUM($J10:$K10)=SUM($X10:$Y10),"OK","검토") -> OK | AC10: =IF($W10<>"도비",IF($U10="국도비","직접입력",SUM($M10:$N10)),) -> 0 | AD10: =IF($W10="도비",SUM(M10:N10),IF($U10="국도비","직접입력",SUM(M10:N10)-AC10)) -> 0 | AE10: =IF(SUM(M10:N10)=SUM(AC10:AD10),"OK","검토") -> OK | AG10: =IF(AI10="","",IF(W10="도비","세입없음",CONCATENATE(AI10,"-",COUNTIF($AI$7:AI10,AI10)))) | AI10: {=IF(C10="","",INDEX(구분표!$I$2:$I$313, MATCH(1,(구분표!$E$2:$E$313='4추일입'!B10)*(구분표!$F$2:$F$313='4추일입'!C10)*(구분표!$G$2:$G$313='4추일입'!A10),0)))} | AM10: =IF(AG10="",0,SUMIFS('4추일출'!$X$6:$X$8,'4추일출'!$AG$6:$AG$8,'4추일입'!$AG10)) -> 0 | AN10: =IF(AG10="","",COUNTIFS('4추일출'!$AG$6:$AG$8,'4추일입'!AG10)) | AO10: =IF(X10=AM10,"OK","@@") -> OK | AQ10: =IF(AG10="",0,SUMIFS('4추일출'!$AC$6:$AC$8,'4추일출'!$AG$6:$AG$8,'4추일입'!$AG10)) -> 0 | AR10: =IF(AG10="","",COUNTIFS('4추일출'!$AG$6:$AG$8,AG10)) | AS10: =IF(AC10=AQ10,"OK","@@") -> OK
A11: =IFERROR(VLOOKUP($C11,구분표!$A$2:$C$313,2,FALSE),"") | B11: =IFERROR(VLOOKUP($C11,구분표!$A$2:$C$313,3,FALSE),"") | I11: =IF(D11="","",G11-H11) | L11: =G11+J11+K11 -> 0 | O11: =G11+M11+N11 -> 0 | P11: =IF(AND((L11=0),(O11>0)),"O",IF(AND((J11<0),(L11-O11<0)),"O","X")) -> X | X11: =IF($W11<>"도비",IF($U11="국도비","직접입력",SUM($J11:$K11)),) -> 0 | Y11: =IF($W11="도비",SUM($J11:$K11),IF($U11="국도비","직접입력",SUM($J11:$K11)-$X11)) -> 0 | Z11: =IF(SUM($J11:$K11)=SUM($X11:$Y11),"OK","검토") -> OK | AC11: =IF($W11<>"도비",IF($U11="국도비","직접입력",SUM($M11:$N11)),) -> 0 | AD11: =IF($W11="도비",SUM(M11:N11),IF($U11="국도비","직접입력",SUM(M11:N11)-AC11)) -> 0 | AE11: =IF(SUM(M11:N11)=SUM(AC11:AD11),"OK","검토") -> OK | AG11: =IF(AI11="","",IF(W11="도비","세입없음",CONCATENATE(AI11,"-",COUNTIF($AI$7:AI11,AI11)))) | AI11: {=IF(C11="","",INDEX(구분표!$I$2:$I$313, MATCH(1,(구분표!$E$2:$E$313='4추일입'!B11)*(구분표!$F$2:$F$313='4추일입'!C11)*(구분표!$G$2:$G$313='4추일입'!A11),0)))} | AM11: =IF(AG11="",0,SUMIFS('4추일출'!$X$6:$X$8,'4추일출'!$AG$6:$AG$8,'4추일입'!$AG11)) -> 0 | AN11: =IF(AG11="","",COUNTIFS('4추일출'!$AG$6:$AG$8,'4추일입'!AG11)) | AO11: =IF(X11=AM11,"OK","@@") -> OK | AQ11: =IF(AG11="",0,SUMIFS('4추일출'!$AC$6:$AC$8,'4추일출'!$AG$6:$AG$8,'4추일입'!$AG11)) -> 0 | AR11: =IF(AG11="","",COUNTIFS('4추일출'!$AG$6:$AG$8,AG11)) | AS11: =IF(AC11=AQ11,"OK","@@") -> OK
A12: =IFERROR(VLOOKUP($C12,구분표!$A$2:$C$313,2,FALSE),"") | B12: =IFERROR(VLOOKUP($C12,구분표!$A$2:$C$313,3,FALSE),"") | I12: =IF(D12="","",G12-H12) | L12: =G12+J12+K12 -> 0 | O12: =G12+M12+N12 -> 0 | P12: =IF(AND((L12=0),(O12>0)),"O",IF(AND((J12<0),(L12-O12<0)),"O","X")) -> X | X12: =IF($W12<>"도비",IF($U12="국도비","직접입력",SUM($J12:$K12)),) -> 0 | Y12: =IF($W12="도비",SUM($J12:$K12),IF($U12="국도비","직접입력",SUM($J12:$K12)-$X12)) -> 0 | Z12: =IF(SUM($J12:$K12)=SUM($X12:$Y12),"OK","검토") -> OK | AC12: =IF($W12<>"도비",IF($U12="국도비","직접입력",SUM($M12:$N12)),) -> 0 | AD12: =IF($W12="도비",SUM(M12:N12),IF($U12="국도비","직접입력",SUM(M12:N12)-AC12)) -> 0 | AE12: =IF(SUM(M12:N12)=SUM(AC12:AD12),"OK","검토") -> OK | AG12: =IF(AI12="","",IF(W12="도비","세입없음",CONCATENATE(AI12,"-",COUNTIF($AI$7:AI12,AI12)))) | AI12: {=IF(C12="","",INDEX(구분표!$I$2:$I$313, MATCH(1,(구분표!$E$2:$E$313='4추일입'!B12)*(구분표!$F$2:$F$313='4추일입'!C12)*(구분표!$G$2:$G$313='4추일입'!A12),0)))} | AM12: =IF(AG12="",0,SUMIFS('4추일출'!$X$6:$X$8,'4추일출'!$AG$6:$AG$8,'4추일입'!$AG12)) -> 0 | AN12: =IF(AG12="","",COUNTIFS('4추일출'!$AG$6:$AG$8,'4추일입'!AG12)) | AO12: =IF(X12=AM12,"OK","@@") -> OK | AQ12: =IF(AG12="",0,SUMIFS('4추일출'!$AC$6:$AC$8,'4추일출'!$AG$6:$AG$8,'4추일입'!$AG12)) -> 0 | AR12: =IF(AG12="","",COUNTIFS('4추일출'!$AG$6:$AG$8,AG12)) | AS12: =IF(AC12=AQ12,"OK","@@") -> OK
A13: =IFERROR(VLOOKUP($C13,구분표!$A$2:$C$313,2,FALSE),"") | B13: =IFERROR(VLOOKUP($C13,구분표!$A$2:$C$313,3,FALSE),"") | I13: =IF(D13="","",G13-H13) | L13: =G13+J13+K13 -> 0 | O13: =G13+M13+N13 -> 0 | P13: =IF(AND((L13=0),(O13>0)),"O",IF(AND((J13<0),(L13-O13<0)),"O","X")) -> X | X13: =IF($W13<>"도비",IF($U13="국도비","직접입력",SUM($J13:$K13)),) -> 0 | Y13: =IF($W13="도비",SUM($J13:$K13),IF($U13="국도비","직접입력",SUM($J13:$K13)-$X13)) -> 0 | Z13: =IF(SUM($J13:$K13)=SUM($X13:$Y13),"OK","검토") -> OK | AC13: =IF($W13<>"도비",IF($U13="국도비","직접입력",SUM($M13:$N13)),) -> 0 | AD13: =IF($W13="도비",SUM(M13:N13),IF($U13="국도비","직접입력",SUM(M13:N13)-AC13)) -> 0 | AE13: =IF(SUM(M13:N13)=SUM(AC13:AD13),"OK","검토") -> OK | AG13: =IF(AI13="","",IF(W13="도비","세입없음",CONCATENATE(AI13,"-",COUNTIF($AI$7:AI13,AI13)))) | AI13: {=IF(C13="","",INDEX(구분표!$I$2:$I$313, MATCH(1,(구분표!$E$2:$E$313='4추일입'!B13)*(구분표!$F$2:$F$313='4추일입'!C13)*(구분표!$G$2:$G$313='4추일입'!A13),0)))} | AM13: =IF(AG13="",0,SUMIFS('4추일출'!$X$6:$X$8,'4추일출'!$AG$6:$AG$8,'4추일입'!$AG13)) -> 0 | AN13: =IF(AG13="","",COUNTIFS('4추일출'!$AG$6:$AG$8,'4추일입'!AG13)) | AO13: =IF(X13=AM13,"OK","@@") -> OK | AQ13: =IF(AG13="",0,SUMIFS('4추일출'!$AC$6:$AC$8,'4추일출'!$AG$6:$AG$8,'4추일입'!$AG13)) -> 0 | AR13: =IF(AG13="","",COUNTIFS('4추일출'!$AG$6:$AG$8,AG13)) | AS13: =IF(AC13=AQ13,"OK","@@") -> OK
A14: =IFERROR(VLOOKUP($C14,구분표!$A$2:$C$313,2,FALSE),"") | B14: =IFERROR(VLOOKUP($C14,구분표!$A$2:$C$313,3,FALSE),"") | I14: =IF(D14="","",G14-H14) | L14: =G14+J14+K14 -> 0 | O14: =G14+M14+N14 -> 0 | P14: =IF(AND((L14=0),(O14>0)),"O",IF(AND((J14<0),(L14-O14<0)),"O","X")) -> X | X14: =IF($W14<>"도비",IF($U14="국도비","직접입력",SUM($J14:$K14)),) -> 0 | Y14: =IF($W14="도비",SUM($J14:$K14),IF($U14="국도비","직접입력",SUM($J14:$K14)-$X14)) -> 0 | Z14: =IF(SUM($J14:$K14)=SUM($X14:$Y14),"OK","검토") -> OK | AC14: =IF($W14<>"도비",IF($U14="국도비","직접입력",SUM($M14:$N14)),) -> 0 | AD14: =IF($W14="도비",SUM(M14:N14),IF($U14="국도비","직접입력",SUM(M14:N14)-AC14)) -> 0 | AE14: =IF(SUM(M14:N14)=SUM(AC14:AD14),"OK","검토") -> OK | AG14: =IF(AI14="","",IF(W14="도비","세입없음",CONCATENATE(AI14,"-",COUNTIF($AI$7:AI14,AI14)))) | AI14: {=IF(C14="","",INDEX(구분표!$I$2:$I$313, MATCH(1,(구분표!$E$2:$E$313='4추일입'!B14)*(구분표!$F$2:$F$313='4추일입'!C14)*(구분표!$G$2:$G$313='4추일입'!A14),0)))} | AM14: =IF(AG14="",0,SUMIFS('4추일출'!$X$6:$X$8,'4추일출'!$AG$6:$AG$8,'4추일입'!$AG14)) -> 0 | AN14: =IF(AG14="","",COUNTIFS('4추일출'!$AG$6:$AG$8,'4추일입'!AG14)) | AO14: =IF(X14=AM14,"OK","@@") -> OK | AQ14: =IF(AG14="",0,SUMIFS('4추일출'!$AC$6:$AC$8,'4추일출'!$AG$6:$AG$8,'4추일입'!$AG14)) -> 0 | AR14: =IF(AG14="","",COUNTIFS('4추일출'!$AG$6:$AG$8,AG14)) | AS14: =IF(AC14=AQ14,"OK","@@") -> OK
A15: =IFERROR(VLOOKUP($C15,구분표!$A$2:$C$313,2,FALSE),"") | B15: =IFERROR(VLOOKUP($C15,구분표!$A$2:$C$313,3,FALSE),"") | I15: =IF(D15="","",G15-H15) | L15: =G15+J15+K15 -> 0 | O15: =G15+M15+N15 -> 0 | P15: =IF(AND((L15=0),(O15>0)),"O",IF(AND((J15<0),(L15-O15<0)),"O","X")) -> X | X15: =IF($W15<>"도비",IF($U15="국도비","직접입력",SUM($J15:$K15)),) -> 0 | Y15: =IF($W15="도비",SUM($J15:$K15),IF($U15="국도비","직접입력",SUM($J15:$K15)-$X15)) -> 0 | Z15: =IF(SUM($J15:$K15)=SUM($X15:$Y15),"OK","검토") -> OK | AC15: =IF($W15<>"도비",IF($U15="국도비","직접입력",SUM($M15:$N15)),) -> 0 | AD15: =IF($W15="도비",SUM(M15:N15),IF($U15="국도비","직접입력",SUM(M15:N15)-AC15)) -> 0 | AE15: =IF(SUM(M15:N15)=SUM(AC15:AD15),"OK","검토") -> OK | AG15: =IF(AI15="","",IF(W15="도비","세입없음",CONCATENATE(AI15,"-",COUNTIF($AI$7:AI15,AI15)))) | AI15: {=IF(C15="","",INDEX(구분표!$I$2:$I$313, MATCH(1,(구분표!$E$2:$E$313='4추일입'!B15)*(구분표!$F$2:$F$313='4추일입'!C15)*(구분표!$G$2:$G$313='4추일입'!A15),0)))} | AM15: =IF(AG15="",0,SUMIFS('4추일출'!$X$6:$X$8,'4추일출'!$AG$6:$AG$8,'4추일입'!$AG15)) -> 0 | AN15: =IF(AG15="","",COUNTIFS('4추일출'!$AG$6:$AG$8,'4추일입'!AG15)) | AO15: =IF(X15=AM15,"OK","@@") -> OK | AQ15: =IF(AG15="",0,SUMIFS('4추일출'!$AC$6:$AC$8,'4추일출'!$AG$6:$AG$8,'4추일입'!$AG15)) -> 0 | AR15: =IF(AG15="","",COUNTIFS('4추일출'!$AG$6:$AG$8,AG15)) | AS15: =IF(AC15=AQ15,"OK","@@") -> OK
A16: =IFERROR(VLOOKUP($C16,구분표!$A$2:$C$313,2,FALSE),"") | B16: =IFERROR(VLOOKUP($C16,구분표!$A$2:$C$313,3,FALSE),"") | I16: =IF(D16="","",G16-H16) | L16: =G16+J16+K16 -> 0 | O16: =G16+M16+N16 -> 0 | P16: =IF(AND((L16=0),(O16>0)),"O",IF(AND((J16<0),(L16-O16<0)),"O","X")) -> X | X16: =IF($W16<>"도비",IF($U16="국도비","직접입력",SUM($J16:$K16)),) -> 0 | Y16: =IF($W16="도비",SUM($J16:$K16),IF($U16="국도비","직접입력",SUM($J16:$K16)-$X16)) -> 0 | Z16: =IF(SUM($J16:$K16)=SUM($X16:$Y16),"OK","검토") -> OK | AC16: =IF($W16<>"도비",IF($U16="국도비","직접입력",SUM($M16:$N16)),) -> 0 | AD16: =IF($W16="도비",SUM(M16:N16),IF($U16="국도비","직접입력",SUM(M16:N16)-AC16)) -> 0 | AE16: =IF(SUM(M16:N16)=SUM(AC16:AD16),"OK","검토") -> OK | AG16: =IF(AI16="","",IF(W16="도비","세입없음",CONCATENATE(AI16,"-",COUNTIF($AI$7:AI16,AI16)))) | AI16: {=IF(C16="","",INDEX(구분표!$I$2:$I$313, MATCH(1,(구분표!$E$2:$E$313='4추일입'!B16)*(구분표!$F$2:$F$313='4추일입'!C16)*(구분표!$G$2:$G$313='4추일입'!A16),0)))} | AM16: =IF(AG16="",0,SUMIFS('4추일출'!$X$6:$X$8,'4추일출'!$AG$6:$AG$8,'4추일입'!$AG16)) -> 0 | AN16: =IF(AG16="","",COUNTIFS('4추일출'!$AG$6:$AG$8,'4추일입'!AG16)) | AO16: =IF(X16=AM16,"OK","@@") -> OK | AQ16: =IF(AG16="",0,SUMIFS('4추일출'!$AC$6:$AC$8,'4추일출'!$AG$6:$AG$8,'4추일입'!$AG16)) -> 0 | AR16: =IF(AG16="","",COUNTIFS('4추일출'!$AG$6:$AG$8,AG16)) | AS16: =IF(AC16=AQ16,"OK","@@") -> OK
A17: =IFERROR(VLOOKUP($C17,구분표!$A$2:$C$313,2,FALSE),"") | B17: =IFERROR(VLOOKUP($C17,구분표!$A$2:$C$313,3,FALSE),"") | I17: =IF(D17="","",G17-H17) | L17: =G17+J17+K17 -> 0 | O17: =G17+M17+N17 -> 0 | P17: =IF(AND((L17=0),(O17>0)),"O",IF(AND((J17<0),(L17-O17<0)),"O","X")) -> X | X17: =IF($W17<>"도비",IF($U17="국도비","직접입력",SUM($J17:$K17)),) -> 0 | Y17: =IF($W17="도비",SUM($J17:$K17),IF($U17="국도비","직접입력",SUM($J17:$K17)-$X17)) -> 0 | Z17: =IF(SUM($J17:$K17)=SUM($X17:$Y17),"OK","검토") -> OK | AC17: =IF($W17<>"도비",IF($U17="국도비","직접입력",SUM($M17:$N17)),) -> 0 | AD17: =IF($W17="도비",SUM(M17:N17),IF($U17="국도비","직접입력",SUM(M17:N17)-AC17)) -> 0 | AE17: =IF(SUM(M17:N17)=SUM(AC17:AD17),"OK","검토") -> OK | AG17: =IF(AI17="","",IF(W17="도비","세입없음",CONCATENATE(AI17,"-",COUNTIF($AI$7:AI17,AI17)))) | AI17: {=IF(C17="","",INDEX(구분표!$I$2:$I$313, MATCH(1,(구분표!$E$2:$E$313='4추일입'!B17)*(구분표!$F$2:$F$313='4추일입'!C17)*(구분표!$G$2:$G$313='4추일입'!A17),0)))} | AM17: =IF(AG17="",0,SUMIFS('4추일출'!$X$6:$X$8,'4추일출'!$AG$6:$AG$8,'4추일입'!$AG17)) -> 0 | AN17: =IF(AG17="","",COUNTIFS('4추일출'!$AG$6:$AG$8,'4추일입'!AG17)) | AO17: =IF(X17=AM17,"OK","@@") -> OK | AQ17: =IF(AG17="",0,SUMIFS('4추일출'!$AC$6:$AC$8,'4추일출'!$AG$6:$AG$8,'4추일입'!$AG17)) -> 0 | AR17: =IF(AG17="","",COUNTIFS('4추일출'!$AG$6:$AG$8,AG17)) | AS17: =IF(AC17=AQ17,"OK","@@") -> OK
A18: =IFERROR(VLOOKUP($C18,구분표!$A$2:$C$313,2,FALSE),"") | B18: =IFERROR(VLOOKUP($C18,구분표!$A$2:$C$313,3,FALSE),"") | I18: =IF(D18="","",G18-H18) | L18: =G18+J18+K18 -> 0 | O18: =G18+M18+N18 -> 0 | P18: =IF(AND((L18=0),(O18>0)),"O",IF(AND((J18<0),(L18-O18<0)),"O","X")) -> X | X18: =IF($W18<>"도비",IF($U18="국도비","직접입력",SUM($J18:$K18)),) -> 0 | Y18: =IF($W18="도비",SUM($J18:$K18),IF($U18="국도비","직접입력",SUM($J18:$K18)-$X18)) -> 0 | Z18: =IF(SUM($J18:$K18)=SUM($X18:$Y18),"OK","검토") -> OK | AC18: =IF($W18<>"도비",IF($U18="국도비","직접입력",SUM($M18:$N18)),) -> 0 | AD18: =IF($W18="도비",SUM(M18:N18),IF($U18="국도비","직접입력",SUM(M18:N18)-AC18)) -> 0 | AE18: =IF(SUM(M18:N18)=SUM(AC18:AD18),"OK","검토") -> OK | AG18: =IF(AI18="","",IF(W18="도비","세입없음",CONCATENATE(AI18,"-",COUNTIF($AI$7:AI18,AI18)))) | AI18: {=IF(C18="","",INDEX(구분표!$I$2:$I$313, MATCH(1,(구분표!$E$2:$E$313='4추일입'!B18)*(구분표!$F$2:$F$313='4추일입'!C18)*(구분표!$G$2:$G$313='4추일입'!A18),0)))} | AM18: =IF(AG18="",0,SUMIFS('4추일출'!$X$6:$X$8,'4추일출'!$AG$6:$AG$8,'4추일입'!$AG18)) -> 0 | AN18: =IF(AG18="","",COUNTIFS('4추일출'!$AG$6:$AG$8,'4추일입'!AG18)) | AO18: =IF(X18=AM18,"OK","@@") -> OK | AQ18: =IF(AG18="",0,SUMIFS('4추일출'!$AC$6:$AC$8,'4추일출'!$AG$6:$AG$8,'4추일입'!$AG18)) -> 0 | AR18: =IF(AG18="","",COUNTIFS('4추일출'!$AG$6:$AG$8,AG18)) | AS18: =IF(AC18=AQ18,"OK","@@") -> OK
A19: =IFERROR(VLOOKUP($C19,구분표!$A$2:$C$313,2,FALSE),"") | B19: =IFERROR(VLOOKUP($C19,구분표!$A$2:$C$313,3,FALSE),"") | I19: =IF(D19="","",G19-H19) | L19: =G19+J19+K19 -> 0 | O19: =G19+M19+N19 -> 0 | P19: =IF(AND((L19=0),(O19>0)),"O",IF(AND((J19<0),(L19-O19<0)),"O","X")) -> X | X19: =IF($W19<>"도비",IF($U19="국도비","직접입력",SUM($J19:$K19)),) -> 0 | Y19: =IF($W19="도비",SUM($J19:$K19),IF($U19="국도비","직접입력",SUM($J19:$K19)-$X19)) -> 0 | Z19: =IF(SUM($J19:$K19)=SUM($X19:$Y19),"OK","검토") -> OK | AC19: =IF($W19<>"도비",IF($U19="국도비","직접입력",SUM($M19:$N19)),) -> 0 | AD19: =IF($W19="도비",SUM(M19:N19),IF($U19="국도비","직접입력",SUM(M19:N19)-AC19)) -> 0 | AE19: =IF(SUM(M19:N19)=SUM(AC19:AD19),"OK","검토") -> OK | AG19: =IF(AI19="","",IF(W19="도비","세입없음",CONCATENATE(AI19,"-",COUNTIF($AI$7:AI19,AI19)))) | AI19: {=IF(C19="","",INDEX(구분표!$I$2:$I$313, MATCH(1,(구분표!$E$2:$E$313='4추일입'!B19)*(구분표!$F$2:$F$313='4추일입'!C19)*(구분표!$G$2:$G$313='4추일입'!A19),0)))} | AM19: =IF(AG19="",0,SUMIFS('4추일출'!$X$6:$X$8,'4추일출'!$AG$6:$AG$8,'4추일입'!$AG19)) -> 0 | AN19: =IF(AG19="","",COUNTIFS('4추일출'!$AG$6:$AG$8,'4추일입'!AG19)) | AO19: =IF(X19=AM19,"OK","@@") -> OK | AQ19: =IF(AG19="",0,SUMIFS('4추일출'!$AC$6:$AC$8,'4추일출'!$AG$6:$AG$8,'4추일입'!$AG19)) -> 0 | AR19: =IF(AG19="","",COUNTIFS('4추일출'!$AG$6:$AG$8,AG19)) | AS19: =IF(AC19=AQ19,"OK","@@") -> OK
A20: =IFERROR(VLOOKUP($C20,구분표!$A$2:$C$313,2,FALSE),"") | B20: =IFERROR(VLOOKUP($C20,구분표!$A$2:$C$313,3,FALSE),"") | I20: =IF(D20="","",G20-H20) | L20: =G20+J20+K20 -> 0 | O20: =G20+M20+N20 -> 0 | P20: =IF(AND((L20=0),(O20>0)),"O",IF(AND((J20<0),(L20-O20<0)),"O","X")) -> X | X20: =IF($W20<>"도비",IF($U20="국도비","직접입력",SUM($J20:$K20)),) -> 0 | Y20: =IF($W20="도비",SUM($J20:$K20),IF($U20="국도비","직접입력",SUM($J20:$K20)-$X20)) -> 0 | Z20: =IF(SUM($J20:$K20)=SUM($X20:$Y20),"OK","검토") -> OK | AC20: =IF($W20<>"도비",IF($U20="국도비","직접입력",SUM($M20:$N20)),) -> 0 | AD20: =IF($W20="도비",SUM(M20:N20),IF($U20="국도비","직접입력",SUM(M20:N20)-AC20)) -> 0 | AE20: =IF(SUM(M20:N20)=SUM(AC20:AD20),"OK","검토") -> OK | AG20: =IF(AI20="","",IF(W20="도비","세입없음",CONCATENATE(AI20,"-",COUNTIF($AI$7:AI20,AI20)))) | AI20: {=IF(C20="","",INDEX(구분표!$I$2:$I$313, MATCH(1,(구분표!$E$2:$E$313='4추일입'!B20)*(구분표!$F$2:$F$313='4추일입'!C20)*(구분표!$G$2:$G$313='4추일입'!A20),0)))} | AM20: =IF(AG20="",0,SUMIFS('4추일출'!$X$6:$X$8,'4추일출'!$AG$6:$AG$8,'4추일입'!$AG20)) -> 0 | AN20: =IF(AG20="","",COUNTIFS('4추일출'!$AG$6:$AG$8,'4추일입'!AG20)) | AO20: =IF(X20=AM20,"OK","@@") -> OK | AQ20: =IF(AG20="",0,SUMIFS('4추일출'!$AC$6:$AC$8,'4추일출'!$AG$6:$AG$8,'4추일입'!$AG20)) -> 0 | AR20: =IF(AG20="","",COUNTIFS('4추일출'!$AG$6:$AG$8,AG20)) | AS20: =IF(AC20=AQ20,"OK","@@") -> OK
A21: =IFERROR(VLOOKUP($C21,구분표!$A$2:$C$313,2,FALSE),"") | B21: =IFERROR(VLOOKUP($C21,구분표!$A$2:$C$313,3,FALSE),"") | I21: =IF(D21="","",G21-H21) | L21: =G21+J21+K21 -> 0 | O21: =G21+M21+N21 -> 0 | P21: =IF(AND((L21=0),(O21>0)),"O",IF(AND((J21<0),(L21-O21<0)),"O","X")) -> X | X21: =IF($W21<>"도비",IF($U21="국도비","직접입력",SUM($J21:$K21)),) -> 0 | Y21: =IF($W21="도비",SUM($J21:$K21),IF($U21="국도비","직접입력",SUM($J21:$K21)-$X21)) -> 0 | Z21: =IF(SUM($J21:$K21)=SUM($X21:$Y21),"OK","검토") -> OK | AC21: =IF($W21<>"도비",IF($U21="국도비","직접입력",SUM($M21:$N21)),) -> 0 | AD21: =IF($W21="도비",SUM(M21:N21),IF($U21="국도비","직접입력",SUM(M21:N21)-AC21)) -> 0 | AE21: =IF(SUM(M21:N21)=SUM(AC21:AD21),"OK","검토") -> OK | AG21: =IF(AI21="","",IF(W21="도비","세입없음",CONCATENATE(AI21,"-",COUNTIF($AI$7:AI21,AI21)))) | AI21: {=IF(C21="","",INDEX(구분표!$I$2:$I$313, MATCH(1,(구분표!$E$2:$E$313='4추일입'!B21)*(구분표!$F$2:$F$313='4추일입'!C21)*(구분표!$G$2:$G$313='4추일입'!A21),0)))} | AM21: =IF(AG21="",0,SUMIFS('4추일출'!$X$6:$X$8,'4추일출'!$AG$6:$AG$8,'4추일입'!$AG21)) -> 0 | AN21: =IF(AG21="","",COUNTIFS('4추일출'!$AG$6:$AG$8,'4추일입'!AG21)) | AO21: =IF(X21=AM21,"OK","@@") -> OK | AQ21: =IF(AG21="",0,SUMIFS('4추일출'!$AC$6:$AC$8,'4추일출'!$AG$6:$AG$8,'4추일입'!$AG21)) -> 0 | AR21: =IF(AG21="","",COUNTIFS('4추일출'!$AG$6:$AG$8,AG21)) | AS21: =IF(AC21=AQ21,"OK","@@") -> OK
A22: =IFERROR(VLOOKUP($C22,구분표!$A$2:$C$313,2,FALSE),"") | B22: =IFERROR(VLOOKUP($C22,구분표!$A$2:$C$313,3,FALSE),"") | I22: =IF(D22="","",G22-H22) | L22: =G22+J22+K22 -> 0 | O22: =G22+M22+N22 -> 0 | P22: =IF(AND((L22=0),(O22>0)),"O",IF(AND((J22<0),(L22-O22<0)),"O","X")) -> X | X22: =IF($W22<>"도비",IF($U22="국도비","직접입력",SUM($J22:$K22)),) -> 0 | Y22: =IF($W22="도비",SUM($J22:$K22),IF($U22="국도비","직접입력",SUM($J22:$K22)-$X22)) -> 0 | Z22: =IF(SUM($J22:$K22)=SUM($X22:$Y22),"OK","검토") -> OK | AC22: =IF($W22<>"도비",IF($U22="국도비","직접입력",SUM($M22:$N22)),) -> 0 | AD22: =IF($W22="도비",SUM(M22:N22),IF($U22="국도비","직접입력",SUM(M22:N22)-AC22)) -> 0 | AE22: =IF(SUM(M22:N22)=SUM(AC22:AD22),"OK","검토") -> OK | AG22: =IF(AI22="","",IF(W22="도비","세입없음",CONCATENATE(AI22,"-",COUNTIF($AI$7:AI22,AI22)))) | AI22: {=IF(C22="","",INDEX(구분표!$I$2:$I$313, MATCH(1,(구분표!$E$2:$E$313='4추일입'!B22)*(구분표!$F$2:$F$313='4추일입'!C22)*(구분표!$G$2:$G$313='4추일입'!A22),0)))} | AM22: =IF(AG22="",0,SUMIFS('4추일출'!$X$6:$X$8,'4추일출'!$AG$6:$AG$8,'4추일입'!$AG22)) -> 0 | AN22: =IF(AG22="","",COUNTIFS('4추일출'!$AG$6:$AG$8,'4추일입'!AG22)) | AO22: =IF(X22=AM22,"OK","@@") -> OK | AQ22: =IF(AG22="",0,SUMIFS('4추일출'!$AC$6:$AC$8,'4추일출'!$AG$6:$AG$8,'4추일입'!$AG22)) -> 0 | AR22: =IF(AG22="","",COUNTIFS('4추일출'!$AG$6:$AG$8,AG22)) | AS22: =IF(AC22=AQ22,"OK","@@") -> OK
... A100: =IFERROR(VLOOKUP($C100,구분표!$A$2:$C$313,2,FALSE),"") | B100: =IFERROR(VLOOKUP($C100,구분표!$A$2:$C$313,3,FALSE),"") | I100: =IF(D100="","",G100-H100) | L100: =G100+J100+K100 -> 0 | O100: =G100+M100+N100 -> 0 | P100: =IF(AND((L100=0),(O100>0)),"O",IF(AND((J100<0),(L100-O100<0)),"O","X")) -> X | X100: =IF($W100<>"도비",IF($U100="국도비","직접입력",SUM($J100:$K100)),) -> 0 | Y100: =IF($W100="도비",SUM($J100:$K100),IF($U100="국도비","직접입력",SUM($J100:$K100)-$X100)) -> 0 | Z100: =IF(SUM($J100:$K100)=SUM($X100:$Y100),"OK","검토") -> OK | AC100: =IF($W100<>"도비",IF($U100="국도비","직접입력",SUM($M100:$N100)),) -> 0 | AD100: =IF($W100="도비",SUM(M100:N100),IF($U100="국도비","직접입력",SUM(M100:N100)-AC100)) -> 0 | AE100: =IF(SUM(M100:N100)=SUM(AC100:AD100),"OK","검토") -> OK | AG100: =IF(AI100="","",IF(W100="도비","세입없음",CONCATENATE(AI100,"-",COUNTIF($AI$7:AI100,AI100)))) | AI100: {=IF(C100="","",INDEX(구분표!$I$2:$I$313, MATCH(1,(구분표!$E$2:$E$313='4추일입'!B100)*(구분표!$F$2:$F$313='4추일입'!C100)*(구분표!$G$2:$G$313='4추일입'!A100),0)))} | AM100: =IF(AG100="",0,SUMIFS('4추일출'!$X$6:$X$8,'4추일출'!$AG$6:$AG$8,'4추일입'!$AG100)) -> 0 | AN100: =IF(AG100="","",COUNTIFS('4추일출'!$AG$6:$AG$8,'4추일입'!AG100)) | AO100: =IF(X100=AM100,"OK","@@") -> OK | AQ100: =IF(AG100="",0,SUMIFS('4추일출'!$AC$6:$AC$8,'4추일출'!$AG$6:$AG$8,'4추일입'!$AG100)) -> 0 | AR100: =IF(AG100="","",COUNTIFS('4추일출'!$AG$6:$AG$8,AG100)) | AS100: =IF(AC100=AQ100,"OK","@@") -> OK

Sheet 4추일출
A1: 2016년도 제4회 추경 경기도 일반회계 세출 예산 조정(안)
A2: □ 세출예산 | X2: 세입=세출 | AC2: 세입=세출
J3: =COUNTA(J7:J8)-10 -> -9 | K3: =COUNTA(K7:K8)-10 -> -8 | M3: =COUNTA(M7:M8)-10 -> -9 | N3: =COUNTA(N7:N8)-10 -> -9 | S3: (단위 : 천원) | X3: =IF(X6='4추일입'!X6,"OK","@@") -> @@ | Z3: =IF(COUNTIF(Z6:Z8,"검토")>0,"@@","OK") -> OK | AC3: =IF(AC6='4추일입'!AC6,"OK","@@") -> OK | AE3: =IF(COUNTIF(AE6:AE8,"검토")>0,"@@","OK") -> OK
A4: 위원회명 | B4: 실국명 | C4: 부서명 | D4: 편성 구분 | E4: 예산안 페이지 | F4: 세부사업명 및 부기명 | G4: 제4회 추경 예산안 (가) | H4: 기정액 (나) | I4: 제4회 추경 증감액 (다=가-나) | J4: 상임위 제4회 추경 예산안 조정액(라) | L4: 상임위 수정 예산안 (마=가+라) | M4: 예결위 제4회 추경 예산안 조정액(라) | O4: 예결위 수정 예산안 (마=가+라) | P4: 동의 대상 | Q4: 상임위 변경사유 (심의 참고자료) | R4: 비고 (상임위 부대의견) | S4: 비고 (부대의견) | U4: 국도비 등 여부 | W4: 재원 | X4: 상임위 재원별 증감액 | AB4: 재원 | AC4: 예결위 재원별 증감액 | AG4: 세입번호 | AI4: 동일 세입 건수 | AJ4: 세출 번호 검증 | AL4: 실국부서 코드 | AN4: 추가 내시 등
J5: 감액 | K5: 증액 | M5: 감액 | N5: 증액 | X5: 국비 등 | Y5: 도비 | Z5: 검증 | AC5: 국비 등 | AD5: 도비 | AE5: 검증
A6: 합 계 | G6: =SUBTOTAL(9,G7:G8)/2 -> 0 | H6: =SUBTOTAL(9,H7:H8)/2 -> 0 | I6: =SUBTOTAL(9,I7:I8)/2 -> 0 | J6: =SUBTOTAL(9,J7:J8)/2 -> 0 | K6: =SUBTOTAL(9,K7:K8)/2 -> 5000 | L6: =SUBTOTAL(9,L7:L8)/2 -> 5000 | M6: =SUBTOTAL(9,M7:M8)/2 -> 0 | N6: =SUBTOTAL(9,N7:N8)/2 -> 0 | O6: =SUBTOTAL(9,O7:O8)/2 -> 0 | X6: =SUBTOTAL(9,X7:X8) -> 5000 | Y6: =SUBTOTAL(9,Y7:Y8) -> 0 | Z6: =IF(SUM($J6:$K6)=SUM($X6:$Y6),"OK","검토") -> OK | AC6: =SUBTOTAL(9,AC7:AC8) -> 0 | AD6: =SUBTOTAL(9,AD7:AD8) -> 0 | AE6: =IF(SUM($J6:$K6)=SUM($X6:$Y6),"OK","검토") -> OK
A7: (의회운영위원회) | G7: =SUM(G8:G8) -> 0 | H7: =SUM(H8:H8) -> 0 | I7: =SUM(I8:I8) -> 0 | J7: =SUM(J8:J8) -> 0 | K7: =SUM(K8:K8) -> 5000 | L7: =SUM(L8:L8) -> 5000 | M7: =SUM(M8:M8) -> 0 | N7: =SUM(N8:N8) -> 0 | O7: =SUM(O8:O8) -> 0
A8: =IFERROR(VLOOKUP($C8,구분표!$A$2:$C$313,2,FALSE),"") -> 의회운영위원회 | B8: =IFERROR(VLOOKUP($C8,구분표!$A$2:$C$313,3,FALSE),"") -> 의회사무처 | C8: 총무담당관 | D8: 본예산 | E8: 91 | F8: 의정지원 기준경비(자체/직접) - 국내여비 | I8: =IF(D8="","",G8-H8) -> 0 | K8: 5000 | L8: =G8+J8+K8 -> 5000 | O8: =G8+M8+N8 -> 0 | P8: =IF(AND((L8=0),(O8>0)),"O",IF(AND((J8<0),(L8-O8<0)),"O","X")) -> X | X8: =IF($W8<>"도비",IF($U8="국도비","직접입력",SUM($J8:$K8)),) -> 5000 | Y8: =IF($W8="도비",SUM($J8:$K8),IF($U8="국도비","직접입력",SUM($J8:$K8)-$X8)) -> 0 | Z8: =IF(SUM($J8:$K8)=SUM($X8:$Y8),"OK","검토") -> OK | AC8: =IF($W8<>"도비",IF($U8="국도비","직접입력",SUM($M8:$N8)),) -> 0 | AD8: =IF($W8="도비",SUM(M8:N8),IF($U8="국도비","직접입력",SUM(M8:N8)-AC8)) -> 0 | AE8: =IF(SUM(M8:N8)=SUM(AC8:AD8),"OK","검토") -> OK | AG8: =IF(W8="","",IF(W8="도비","세입없음","직접입력")) | AI8: =IF(AG8="","",COUNTIF($AG$7:$AG$8,AG8)) | AJ8: =IF(W8="","",IF(AND(W8="도비",AG8="세입없음"),"OK",IF(AND(W8<>"도비",AG8<>""),"OK","@@"))) | AL8: {=IF(C8="","",INDEX(구분표!$I$2:$I$313, MATCH(1,(구분표!$E$2:$E$313='4추일출'!B8)*(구분표!$F$2:$F$313='4추일출'!C8)*(구분표!$G$2:$G$313='4추일출'!A8),0)))} -> 0102

Sheet 4추특입
A1: 2016년도 제4회 추경 경기도 기타특별회계 세입 예산 조정(안)
A2: □ 세입예산 | X2: 세입=세출 | AC2: 세입=세출
J3: =COUNTA(J7:J30) -> 0 | K3: =COUNTA(K7:K30) -> 0 | M3: =COUNTA(M7:M30) -> 0 | N3: =COUNTA(N7:N30) -> 0 | S3: (단위 : 천원) | X3: =IF(X6='4추특출'!X6,"OK","@@") -> OK | Z3: =IF(COUNTIF(Z6:Z30,"검토")>0,"@@","OK") -> OK | AC3: =IF(AC6='4추특출'!AC6,"OK","@@") -> OK | AE3: =IF(COUNTIF(AE6:AE30,"검토")>0,"@@","OK") -> OK
A4: 위원회명 | B4: 실국명 | C4: 부서명 | D4: 편성 구분 | E4: 예산안 페이지 | F4: 사업명 | G4: 제4회 추경 예산안 (가) | H4: 기정액 (나) | I4: 제4회 추경 증감액 (다=가-나) | J4: 상임위 제4회 추경 예산안 조정액(라) | L4: 상임위 수정 예산안 (마=가+라) | M4: 예결위 제4회 추경 예산안 조정액(라) | O4: 예결위 수정 예산안 (마=가+라) | P4: 동의 대상 | Q4: 상임위 변경사유 (심의 참고자료) | R4: 비고 (상임위 부대의견) | S4: 비고 (부대의견) | U4: 국도비 등 여부 | W4: 재원 | X4: 상임위 재원별 증감액 | AB4: 재원 | AC4: 예결위 재원별 증감액 | AG4: 세입번호 | AI4: 실국부서 코드 | AK4: 추가 내시 등 | AM4: 상임위 세입 검증 | AQ4: 예결위 세입 검증
J5: 감액 | K5: 증액 | M5: 감액 | N5: 증액 | X5: 국비 등 | Y5: 도비 | Z5: 검증 | AC5: 국비 등 | AD5: 도비 | AE5: 검증 | AM5: 국비 증감액 | AN5: 건수 | AO5: 검증 | AQ5: 국비 증감액 | AR5: 건수 | AS5: 검증
A6: 합 계 | G6: =SUBTOTAL(9,G7:G30) -> 0 | H6: =SUBTOTAL(9,H7:H30) -> 0 | I6: =SUBTOTAL(9,I7:I30) -> 0 | J6: =SUBTOTAL(9,J7:J30) -> 0 | K6: =SUBTOTAL(9,K7:K30) -> 0 | L6: =SUBTOTAL(9,L7:L30) -> 0 | M6: =SUBTOTAL(9,M7:M30) -> 0 | N6: =SUBTOTAL(9,N7:N30) -> 0 | O6: =SUBTOTAL(9,O7:O30) -> 0 | X6: =SUBTOTAL(9,X7:X30) -> 0 | Y6: =SUBTOTAL(9,Y7:Y30) -> 0 | Z6: =IF(SUM($J6:$K6)=SUM($X6:$Y6),"OK","검토") -> OK | AC6: =SUBTOTAL(9,AC7:AC30) -> 0 | AD6: =SUBTOTAL(9,AD7:AD30) -> 0 | AE6: =IF(SUM($J6:$K6)=SUM($X6:$Y6),"OK","검토") -> OK | AM6: =SUBTOTAL(9,AM7:AM30) -> 0 | AN6: =SUBTOTAL(9,AN7:AN30) -> 0 | AO6: =IF(COUNTIF(AO7:AO30,"@@")>0,"@@","OK") -> OK | AQ6: =SUBTOTAL(9,AQ7:AQ30) -> 0 | AR6: =SUBTOTAL(9,AR7:AR30) -> 0 | AS6: =IF(COUNTIF(AS7:AS30,"@@")>0,"@@","OK") -> OK
A7: =IFERROR(VLOOKUP($C7,구분표!$A$2:$C$313,2,FALSE),"") | B7: =IFERROR(VLOOKUP($C7,구분표!$A$2:$C$313,3,FALSE),"") | D7: 본예산 | I7: =IF(D7="","",G7-H7) -> 0 | L7: =G7+J7+K7 -> 0 | O7: =G7+M7+N7 -> 0 | P7: =IF(AND((L7=0),(O7>0)),"O",IF(AND((J7<0),(L7-O7<0)),"O","X")) -> X | X7: =IF($W7<>"도비",IF($U7="국도비","직접입력",SUM($J7:$K7)),) -> 0 | Y7: =IF($W7="도비",SUM($J7:$K7),IF($U7="국도비","직접입력",SUM($J7:$K7)-$X7)) -> 0 | Z7: =IF(SUM($J7:$K7)=SUM($X7:$Y7),"OK","검토") -> OK | AC7: =IF($W7<>"도비",IF($U7="국도비","직접입력",SUM($M7:$N7)),) -> 0 | AD7: =IF($W7="도비",SUM(M7:N7),IF($U7="국도비","직접입력",SUM(M7:N7)-AC7)) -> 0 | AE7: =IF(SUM(M7:N7)=SUM(AC7:AD7),"OK","검토") -> OK | AG7: =IF(AI7="","",IF(W7="도비","세입없음",CONCATENATE(AI7,"-",COUNTIF($AI$7:AI7,AI7)))) | AI7: {=IF(C7="","",INDEX(구분표!$I$2:$I$313, MATCH(1,(구분표!$E$2:$E$313='4추특입'!B7)*(구분표!$F$2:$F$313='4추특입'!C7)*(구분표!$G$2:$G$313='4추특입'!A7),0)))} | AM7: =IF(AG7="",0,SUMIFS('4추특출'!$X$6:$X$50,'4추특출'!$AG$6:$AG$50,'4추특입'!$AG7)) -> 0 | AN7: =IF(AG7="","",COUNTIFS('4추특출'!$AG$6:$AG$50,'4추특입'!AG7)) | AO7: =IF(X7=AM7,"OK","@@") -> OK | AQ7: =IF(AG7="",0,SUMIFS('4추특출'!$AC$6:$AC$50,'4추특출'!$AG$6:$AG$50,'4추특입'!$AG7)) -> 0 | AR7: =IF(AG7="","",COUNTIFS('4추특출'!$AG$6:$AG$50,AG7)) | AS7: =IF(AC7=AQ7,"OK","@@") -> OK
A8: =IFERROR(VLOOKUP($C8,구분표!$A$2:$C$313,2,FALSE),"") | B8: =IFERROR(VLOOKUP($C8,구분표!$A$2:$C$313,3,FALSE),"") | I8: =IF(D8="","",G8-H8) | L8: =G8+J8+K8 -> 0 | O8: =G8+M8+N8 -> 0 | P8: =IF(AND((L8=0),(O8>0)),"O",IF(AND((J8<0),(L8-O8<0)),"O","X")) -> X | X8: =IF($W8<>"도비",IF($U8="국도비","직접입력",SUM($J8:$K8)),) -> 0 | Y8: =IF($W8="도비",SUM($J8:$K8),IF($U8="국도비","직접입력",SUM($J8:$K8)-$X8)) -> 0 | Z8: =IF(SUM($J8:$K8)=SUM($X8:$Y8),"OK","검토") -> OK | AC8: =IF($W8<>"도비",IF($U8="국도비","직접입력",SUM($M8:$N8)),) -> 0 | AD8: =IF($W8="도비",SUM(M8:N8),IF($U8="국도비","직접입력",SUM(M8:N8)-AC8)) -> 0 | AE8: =IF(SUM(M8:N8)=SUM(AC8:AD8),"OK","검토") -> OK | AG8: =IF(AI8="","",IF(W8="도비","세입없음",CONCATENATE(AI8,"-",COUNTIF($AI$7:AI8,AI8)))) | AI8: {=IF(C8="","",INDEX(구분표!$I$2:$I$313, MATCH(1,(구분표!$E$2:$E$313='4추특입'!B8)*(구분표!$F$2:$F$313='4추특입'!C8)*(구분표!$G$2:$G$313='4추특입'!A8),0)))} | AM8: =IF(AG8="",0,SUMIFS('4추특출'!$X$6:$X$50,'4추특출'!$AG$6:$AG$50,'4추특입'!$AG8)) -> 0 | AN8: =IF(AG8="","",COUNTIFS('4추특출'!$AG$6:$AG$50,'4추특입'!AG8)) | AO8: =IF(X8=AM8,"OK","@@") -> OK | AQ8: =IF(AG8="",0,SUMIFS('4추특출'!$AC$6:$AC$50,'4추특출'!$AG$6:$AG$50,'4추특입'!$AG8)) -> 0 | AR8: =IF(AG8="","",COUNTIFS('4추특출'!$AG$6:$AG$50,AG8)) | AS8: =IF(AC8=AQ8,"OK","@@") -> OK
A9: =IFERROR(VLOOKUP($C9,구분표!$A$2:$C$313,2,FALSE),"") | B9: =IFERROR(VLOOKUP($C9,구분표!$A$2:$C$313,3,FALSE),"") | I9: =IF(D9="","",G9-H9) | L9: =G9+J9+K9 -> 0 | O9: =G9+M9+N9 -> 0 | P9: =IF(AND((L9=0),(O9>0)),"O",IF(AND((J9<0),(L9-O9<0)),"O","X")) -> X | X9: =IF($W9<>"도비",IF($U9="국도비","직접입력",SUM($J9:$K9)),) -> 0 | Y9: =IF($W9="도비",SUM($J9:$K9),IF($U9="국도비","직접입력",SUM($J9:$K9)-$X9)) -> 0 | Z9: =IF(SUM($J9:$K9)=SUM($X9:$Y9),"OK","검토") -> OK | AC9: =IF($W9<>"도비",IF($U9="국도비","직접입력",SUM($M9:$N9)),) -> 0 | AD9: =IF($W9="도비",SUM(M9:N9),IF($U9="국도비","직접입력",SUM(M9:N9)-AC9)) -> 0 | AE9: =IF(SUM(M9:N9)=SUM(AC9:AD9),"OK","검토") -> OK | AG9: =IF(AI9="","",IF(W9="도비","세입없음",CONCATENATE(AI9,"-",COUNTIF($AI$7:AI9,AI9)))) | AI9: {=IF(C9="","",INDEX(구분표!$I$2:$I$313, MATCH(1,(구분표!$E$2:$E$313='4추특입'!B9)*(구분표!$F$2:$F$313='4추특입'!C9)*(구분표!$G$2:$G$313='4추특입'!A9),0)))} | AM9: =IF(AG9="",0,SUMIFS('4추특출'!$X$6:$X$50,'4추특출'!$AG$6:$AG$50,'4추특입'!$AG9)) -> 0 | AN9: =IF(AG9="","",COUNTIFS('4추특출'!$AG$6:$AG$50,'4추특입'!AG9)) | AO9: =IF(X9=AM9,"OK","@@") -> OK | AQ9: =IF(AG9="",0,SUMIFS('4추특출'!$AC$6:$AC$50,'4추특출'!$AG$6:$AG$50,'4추특입'!$AG9)) -> 0 | AR9: =IF(AG9="","",COUNTIFS('4추특출'!$AG$6:$AG$50,AG9)) | AS9: =IF(AC9=AQ9,"OK","@@") -> OK
A10: =IFERROR(VLOOKUP($C10,구분표!$A$2:$C$313,2,FALSE),"") | B10: =IFERROR(VLOOKUP($C10,구분표!$A$2:$C$313,3,FALSE),"") | I10: =IF(D10="","",G10-H10) | L10: =G10+J10+K10 -> 0 | O10: =G10+M10+N10 -> 0 | P10: =IF(AND((L10=0),(O10>0)),"O",IF(AND((J10<0),(L10-O10<0)),"O","X")) -> X | X10: =IF($W10<>"도비",IF($U10="국도비","직접입력",SUM($J10:$K10)),) -> 0 | Y10: =IF($W10="도비",SUM($J10:$K10),IF($U10="국도비","직접입력",SUM($J10:$K10)-$X10)) -> 0 | Z10: =IF(SUM($J10:$K10)=SUM($X10:$Y10),"OK","검토") -> OK | AC10: =IF($W10<>"도비",IF($U10="국도비","직접입력",SUM($M10:$N10)),) -> 0 | AD10: =IF($W10="도비",SUM(M10:N10),IF($U10="국도비","직접입력",SUM(M10:N10)-AC10)) -> 0 | AE10: =IF(SUM(M10:N10)=SUM(AC10:AD10),"OK","검토") -> OK | AG10: =IF(AI10="","",IF(W10="도비","세입없음",CONCATENATE(AI10,"-",COUNTIF($AI$7:AI10,AI10)))) | AI10: {=IF(C10="","",INDEX(구분표!$I$2:$I$313, MATCH(1,(구분표!$E$2:$E$313='4추특입'!B10)*(구분표!$F$2:$F$313='4추특입'!C10)*(구분표!$G$2:$G$313='4추특입'!A10),0)))} | AM10: =IF(AG10="",0,SUMIFS('4추특출'!$X$6:$X$50,'4추특출'!$AG$6:$AG$50,'4추특입'!$AG10)) -> 0 | AN10: =IF(AG10="","",COUNTIFS('4추특출'!$AG$6:$AG$50,'4추특입'!AG10)) | AO10: =IF(X10=AM10,"OK","@@") -> OK | AQ10: =IF(AG10="",0,SUMIFS('4추특출'!$AC$6:$AC$50,'4추특출'!$AG$6:$AG$50,'4추특입'!$AG10)) -> 0 | AR10: =IF(AG10="","",COUNTIFS('4추특출'!$AG$6:$AG$50,AG10)) | AS10: =IF(AC10=AQ10,"OK","@@") -> OK
A11: =IFERROR(VLOOKUP($C11,구분표!$A$2:$C$313,2,FALSE),"") | B11: =IFERROR(VLOOKUP($C11,구분표!$A$2:$C$313,3,FALSE),"") | I11: =IF(D11="","",G11-H11) | L11: =G11+J11+K11 -> 0 | O11: =G11+M11+N11 -> 0 | P11: =IF(AND((L11=0),(O11>0)),"O",IF(AND((J11<0),(L11-O11<0)),"O","X")) -> X | X11: =IF($W11<>"도비",IF($U11="국도비","직접입력",SUM($J11:$K11)),) -> 0 | Y11: =IF($W11="도비",SUM($J11:$K11),IF($U11="국도비","직접입력",SUM($J11:$K11)-$X11)) -> 0 | Z11: =IF(SUM($J11:$K11)=SUM($X11:$Y11),"OK","검토") -> OK | AC11: =IF($W11<>"도비",IF($U11="국도비","직접입력",SUM($M11:$N11)),) -> 0 | AD11: =IF($W11="도비",SUM(M11:N11),IF($U11="국도비","직접입력",SUM(M11:N11)-AC11)) -> 0 | AE11: =IF(SUM(M11:N11)=SUM(AC11:AD11),"OK","검토") -> OK | AG11: =IF(AI11="","",IF(W11="도비","세입없음",CONCATENATE(AI11,"-",COUNTIF($AI$7:AI11,AI11)))) | AI11: {=IF(C11="","",INDEX(구분표!$I$2:$I$313, MATCH(1,(구분표!$E$2:$E$313='4추특입'!B11)*(구분표!$F$2:$F$313='4추특입'!C11)*(구분표!$G$2:$G$313='4추특입'!A11),0)))} | AM11: =IF(AG11="",0,SUMIFS('4추특출'!$X$6:$X$50,'4추특출'!$AG$6:$AG$50,'4추특입'!$AG11)) -> 0 | AN11: =IF(AG11="","",COUNTIFS('4추특출'!$AG$6:$AG$50,'4추특입'!AG11)) | AO11: =IF(X11=AM11,"OK","@@") -> OK | AQ11: =IF(AG11="",0,SUMIFS('4추특출'!$AC$6:$AC$50,'4추특출'!$AG$6:$AG$50,'4추특입'!$AG11)) -> 0 | AR11: =IF(AG11="","",COUNTIFS('4추특출'!$AG$6:$AG$50,AG11)) | AS11: =IF(AC11=AQ11,"OK","@@") -> OK
A12: =IFERROR(VLOOKUP($C12,구분표!$A$2:$C$313,2,FALSE),"") | B12: =IFERROR(VLOOKUP($C12,구분표!$A$2:$C$313,3,FALSE),"") | I12: =IF(D12="","",G12-H12) | L12: =G12+J12+K12 -> 0 | O12: =G12+M12+N12 -> 0 | P12: =IF(AND((L12=0),(O12>0)),"O",IF(AND((J12<0),(L12-O12<0)),"O","X")) -> X | X12: =IF($W12<>"도비",IF($U12="국도비","직접입력",SUM($J12:$K12)),) -> 0 | Y12: =IF($W12="도비",SUM($J12:$K12),IF($U12="국도비","직접입력",SUM($J12:$K12)-$X12)) -> 0 | Z12: =IF(SUM($J12:$K12)=SUM($X12:$Y12),"OK","검토") -> OK | AC12: =IF($W12<>"도비",IF($U12="국도비","직접입력",SUM($M12:$N12)),) -> 0 | AD12: =IF($W12="도비",SUM(M12:N12),IF($U12="국도비","직접입력",SUM(M12:N12)-AC12)) -> 0 | AE12: =IF(SUM(M12:N12)=SUM(AC12:AD12),"OK","검토") -> OK | AG12: =IF(AI12="","",IF(W12="도비","세입없음",CONCATENATE(AI12,"-",COUNTIF($AI$7:AI12,AI12)))) | AI12: {=IF(C12="","",INDEX(구분표!$I$2:$I$313, MATCH(1,(구분표!$E$2:$E$313='4추특입'!B12)*(구분표!$F$2:$F$313='4추특입'!C12)*(구분표!$G$2:$G$313='4추특입'!A12),0)))} | AM12: =IF(AG12="",0,SUMIFS('4추특출'!$X$6:$X$50,'4추특출'!$AG$6:$AG$50,'4추특입'!$AG12)) -> 0 | AN12: =IF(AG12="","",COUNTIFS('4추특출'!$AG$6:$AG$50,'4추특입'!AG12)) | AO12: =IF(X12=AM12,"OK","@@") -> OK | AQ12: =IF(AG12="",0,SUMIFS('4추특출'!$AC$6:$AC$50,'4추특출'!$AG$6:$AG$50,'4추특입'!$AG12)) -> 0 | AR12: =IF(AG12="","",COUNTIFS('4추특출'!$AG$6:$AG$50,AG12)) | AS12: =IF(AC12=AQ12,"OK","@@") -> OK
A13: =IFERROR(VLOOKUP($C13,구분표!$A$2:$C$313,2,FALSE),"") | B13: =IFERROR(VLOOKUP($C13,구분표!$A$2:$C$313,3,FALSE),"") | I13: =IF(D13="","",G13-H13) | L13: =G13+J13+K13 -> 0 | O13: =G13+M13+N13 -> 0 | P13: =IF(AND((L13=0),(O13>0)),"O",IF(AND((J13<0),(L13-O13<0)),"O","X")) -> X | X13: =IF($W13<>"도비",IF($U13="국도비","직접입력",SUM($J13:$K13)),) -> 0 | Y13: =IF($W13="도비",SUM($J13:$K13),IF($U13="국도비","직접입력",SUM($J13:$K13)-$X13)) -> 0 | Z13: =IF(SUM($J13:$K13)=SUM($X13:$Y13),"OK","검토") -> OK | AC13: =IF($W13<>"도비",IF($U13="국도비","직접입력",SUM($M13:$N13)),) -> 0 | AD13: =IF($W13="도비",SUM(M13:N13),IF($U13="국도비","직접입력",SUM(M13:N13)-AC13)) -> 0 | AE13: =IF(SUM(M13:N13)=SUM(AC13:AD13),"OK","검토") -> OK | AG13: =IF(AI13="","",IF(W13="도비","세입없음",CONCATENATE(AI13,"-",COUNTIF($AI$7:AI13,AI13)))) | AI13: {=IF(C13="","",INDEX(구분표!$I$2:$I$313, MATCH(1,(구분표!$E$2:$E$313='4추특입'!B13)*(구분표!$F$2:$F$313='4추특입'!C13)*(구분표!$G$2:$G$313='4추특입'!A13),0)))} | AM13: =IF(AG13="",0,SUMIFS('4추특출'!$X$6:$X$50,'4추특출'!$AG$6:$AG$50,'4추특입'!$AG13)) -> 0 | AN13: =IF(AG13="","",COUNTIFS('4추특출'!$AG$6:$AG$50,'4추특입'!AG13)) | AO13: =IF(X13=AM13,"OK","@@") -> OK | AQ13: =IF(AG13="",0,SUMIFS('4추특출'!$AC$6:$AC$50,'4추특출'!$AG$6:$AG$50,'4추특입'!$AG13)) -> 0 | AR13: =IF(AG13="","",COUNTIFS('4추특출'!$AG$6:$AG$50,AG13)) | AS13: =IF(AC13=AQ13,"OK","@@") -> OK
A14: =IFERROR(VLOOKUP($C14,구분표!$A$2:$C$313,2,FALSE),"") | B14: =IFERROR(VLOOKUP($C14,구분표!$A$2:$C$313,3,FALSE),"") | I14: =IF(D14="","",G14-H14) | L14: =G14+J14+K14 -> 0 | O14: =G14+M14+N14 -> 0 | P14: =IF(AND((L14=0),(O14>0)),"O",IF(AND((J14<0),(L14-O14<0)),"O","X")) -> X | X14: =IF($W14<>"도비",IF($U14="국도비","직접입력",SUM($J14:$K14)),) -> 0 | Y14: =IF($W14="도비",SUM($J14:$K14),IF($U14="국도비","직접입력",SUM($J14:$K14)-$X14)) -> 0 | Z14: =IF(SUM($J14:$K14)=SUM($X14:$Y14),"OK","검토") -> OK | AC14: =IF($W14<>"도비",IF($U14="국도비","직접입력",SUM($M14:$N14)),) -> 0 | AD14: =IF($W14="도비",SUM(M14:N14),IF($U14="국도비","직접입력",SUM(M14:N14)-AC14)) -> 0 | AE14: =IF(SUM(M14:N14)=SUM(AC14:AD14),"OK","검토") -> OK | AG14: =IF(AI14="","",IF(W14="도비","세입없음",CONCATENATE(AI14,"-",COUNTIF($AI$7:AI14,AI14)))) | AI14: {=IF(C14="","",INDEX(구분표!$I$2:$I$313, MATCH(1,(구분표!$E$2:$E$313='4추특입'!B14)*(구분표!$F$2:$F$313='4추특입'!C14)*(구분표!$G$2:$G$313='4추특입'!A14),0)))} | AM14: =IF(AG14="",0,SUMIFS('4추특출'!$X$6:$X$50,'4추특출'!$AG$6:$AG$50,'4추특입'!$AG14)) -> 0 | AN14: =IF(AG14="","",COUNTIFS('4추특출'!$AG$6:$AG$50,'4추특입'!AG14)) | AO14: =IF(X14=AM14,"OK","@@") -> OK | AQ14: =IF(AG14="",0,SUMIFS('4추특출'!$AC$6:$AC$50,'4추특출'!$AG$6:$AG$50,'4추특입'!$AG14)) -> 0 | AR14: =IF(AG14="","",COUNTIFS('4추특출'!$AG$6:$AG$50,AG14)) | AS14: =IF(AC14=AQ14,"OK","@@") -> OK
A15: =IFERROR(VLOOKUP($C15,구분표!$A$2:$C$313,2,FALSE),"") | B15: =IFERROR(VLOOKUP($C15,구분표!$A$2:$C$313,3,FALSE),"") | I15: =IF(D15="","",G15-H15) | L15: =G15+J15+K15 -> 0 | O15: =G15+M15+N15 -> 0 | P15: =IF(AND((L15=0),(O15>0)),"O",IF(AND((J15<0),(L15-O15<0)),"O","X")) -> X | X15: =IF($W15<>"도비",IF($U15="국도비","직접입력",SUM($J15:$K15)),) -> 0 | Y15: =IF($W15="도비",SUM($J15:$K15),IF($U15="국도비","직접입력",SUM($J15:$K15)-$X15)) -> 0 | Z15: =IF(SUM($J15:$K15)=SUM($X15:$Y15),"OK","검토") -> OK | AC15: =IF($W15<>"도비",IF($U15="국도비","직접입력",SUM($M15:$N15)),) -> 0 | AD15: =IF($W15="도비",SUM(M15:N15),IF($U15="국도비","직접입력",SUM(M15:N15)-AC15)) -> 0 | AE15: =IF(SUM(M15:N15)=SUM(AC15:AD15),"OK","검토") -> OK | AG15: =IF(AI15="","",IF(W15="도비","세입없음",CONCATENATE(AI15,"-",COUNTIF($AI$7:AI15,AI15)))) | AI15: {=IF(C15="","",INDEX(구분표!$I$2:$I$313, MATCH(1,(구분표!$E$2:$E$313='4추특입'!B15)*(구분표!$F$2:$F$313='4추특입'!C15)*(구분표!$G$2:$G$313='4추특입'!A15),0)))} | AM15: =IF(AG15="",0,SUMIFS('4추특출'!$X$6:$X$50,'4추특출'!$AG$6:$AG$50,'4추특입'!$AG15)) -> 0 | AN15: =IF(AG15="","",COUNTIFS('4추특출'!$AG$6:$AG$50,'4추특입'!AG15)) | AO15: =IF(X15=AM15,"OK","@@") -> OK | AQ15: =IF(AG15="",0,SUMIFS('4추특출'!$AC$6:$AC$50,'4추특출'!$AG$6:$AG$50,'4추특입'!$AG15)) -> 0 | AR15: =IF(AG15="","",COUNTIFS('4추특출'!$AG$6:$AG$50,AG15)) | AS15: =IF(AC15=AQ15,"OK","@@") -> OK
A16: =IFERROR(VLOOKUP($C16,구분표!$A$2:$C$313,2,FALSE),"") | B16: =IFERROR(VLOOKUP($C16,구분표!$A$2:$C$313,3,FALSE),"") | I16: =IF(D16="","",G16-H16) | L16: =G16+J16+K16 -> 0 | O16: =G16+M16+N16 -> 0 | P16: =IF(AND((L16=0),(O16>0)),"O",IF(AND((J16<0),(L16-O16<0)),"O","X")) -> X | X16: =IF($W16<>"도비",IF($U16="국도비","직접입력",SUM($J16:$K16)),) -> 0 | Y16: =IF($W16="도비",SUM($J16:$K16),IF($U16="국도비","직접입력",SUM($J16:$K16)-$X16)) -> 0 | Z16: =IF(SUM($J16:$K16)=SUM($X16:$Y16),"OK","검토") -> OK | AC16: =IF($W16<>"도비",IF($U16="국도비","직접입력",SUM($M16:$N16)),) -> 0 | AD16: =IF($W16="도비",SUM(M16:N16),IF($U16="국도비","직접입력",SUM(M16:N16)-AC16)) -> 0 | AE16: =IF(SUM(M16:N16)=SUM(AC16:AD16),"OK","검토") -> OK | AG16: =IF(AI16="","",IF(W16="도비","세입없음",CONCATENATE(AI16,"-",COUNTIF($AI$7:AI16,AI16)))) | AI16: {=IF(C16="","",INDEX(구분표!$I$2:$I$313, MATCH(1,(구분표!$E$2:$E$313='4추특입'!B16)*(구분표!$F$2:$F$313='4추특입'!C16)*(구분표!$G$2:$G$313='4추특입'!A16),0)))} | AM16: =IF(AG16="",0,SUMIFS('4추특출'!$X$6:$X$50,'4추특출'!$AG$6:$AG$50,'4추특입'!$AG16)) -> 0 | AN16: =IF(AG16="","",COUNTIFS('4추특출'!$AG$6:$AG$50,'4추특입'!AG16)) | AO16: =IF(X16=AM16,"OK","@@") -> OK | AQ16: =IF(AG16="",0,SUMIFS('4추특출'!$AC$6:$AC$50,'4추특출'!$AG$6:$AG$50,'4추특입'!$AG16)) -> 0 | AR16: =IF(AG16="","",COUNTIFS('4추특출'!$AG$6:$AG$50,AG16)) | AS16: =IF(AC16=AQ16,"OK","@@") -> OK
A17: =IFERROR(VLOOKUP($C17,구분표!$A$2:$C$313,2,FALSE),"") | B17: =IFERROR(VLOOKUP($C17,구분표!$A$2:$C$313,3,FALSE),"") | I17: =IF(D17="","",G17-H17) | L17: =G17+J17+K17 -> 0 | O17: =G17+M17+N17 -> 0 | P17: =IF(AND((L17=0),(O17>0)),"O",IF(AND((J17<0),(L17-O17<0)),"O","X")) -> X | X17: =IF($W17<>"도비",IF($U17="국도비","직접입력",SUM($J17:$K17)),) -> 0 | Y17: =IF($W17="도비",SUM($J17:$K17),IF($U17="국도비","직접입력",SUM($J17:$K17)-$X17)) -> 0 | Z17: =IF(SUM($J17:$K17)=SUM($X17:$Y17),"OK","검토") -> OK | AC17: =IF($W17<>"도비",IF($U17="국도비","직접입력",SUM($M17:$N17)),) -> 0 | AD17: =IF($W17="도비",SUM(M17:N17),IF($U17="국도비","직접입력",SUM(M17:N17)-AC17)) -> 0 | AE17: =IF(SUM(M17:N17)=SUM(AC17:AD17),"OK","검토") -> OK | AG17: =IF(AI17="","",IF(W17="도비","세입없음",CONCATENATE(AI17,"-",COUNTIF($AI$7:AI17,AI17)))) | AI17: {=IF(C17="","",INDEX(구분표!$I$2:$I$313, MATCH(1,(구분표!$E$2:$E$313='4추특입'!B17)*(구분표!$F$2:$F$313='4추특입'!C17)*(구분표!$G$2:$G$313='4추특입'!A17),0)))} | AM17: =IF(AG17="",0,SUMIFS('4추특출'!$X$6:$X$50,'4추특출'!$AG$6:$AG$50,'4추특입'!$AG17)) -> 0 | AN17: =IF(AG17="","",COUNTIFS('4추특출'!$AG$6:$AG$50,'4추특입'!AG17)) | AO17: =IF(X17=AM17,"OK","@@") -> OK | AQ17: =IF(AG17="",0,SUMIFS('4추특출'!$AC$6:$AC$50,'4추특출'!$AG$6:$AG$50,'4추특입'!$AG17)) -> 0 | AR17: =IF(AG17="","",COUNTIFS('4추특출'!$AG$6:$AG$50,AG17)) | AS17: =IF(AC17=AQ17,"OK","@@") -> OK
A18: =IFERROR(VLOOKUP($C18,구분표!$A$2:$C$313,2,FALSE),"") | B18: =IFERROR(VLOOKUP($C18,구분표!$A$2:$C$313,3,FALSE),"") | I18: =IF(D18="","",G18-H18) | L18: =G18+J18+K18 -> 0 | O18: =G18+M18+N18 -> 0 | P18: =IF(AND((L18=0),(O18>0)),"O",IF(AND((J18<0),(L18-O18<0)),"O","X")) -> X | X18: =IF($W18<>"도비",IF($U18="국도비","직접입력",SUM($J18:$K18)),) -> 0 | Y18: =IF($W18="도비",SUM($J18:$K18),IF($U18="국도비","직접입력",SUM($J18:$K18)-$X18)) -> 0 | Z18: =IF(SUM($J18:$K18)=SUM($X18:$Y18),"OK","검토") -> OK | AC18: =IF($W18<>"도비",IF($U18="국도비","직접입력",SUM($M18:$N18)),) -> 0 | AD18: =IF($W18="도비",SUM(M18:N18),IF($U18="국도비","직접입력",SUM(M18:N18)-AC18)) -> 0 | AE18: =IF(SUM(M18:N18)=SUM(AC18:AD18),"OK","검토") -> OK | AG18: =IF(AI18="","",IF(W18="도비","세입없음",CONCATENATE(AI18,"-",COUNTIF($AI$7:AI18,AI18)))) | AI18: {=IF(C18="","",INDEX(구분표!$I$2:$I$313, MATCH(1,(구분표!$E$2:$E$313='4추특입'!B18)*(구분표!$F$2:$F$313='4추특입'!C18)*(구분표!$G$2:$G$313='4추특입'!A18),0)))} | AM18: =IF(AG18="",0,SUMIFS('4추특출'!$X$6:$X$50,'4추특출'!$AG$6:$AG$50,'4추특입'!$AG18)) -> 0 | AN18: =IF(AG18="","",COUNTIFS('4추특출'!$AG$6:$AG$50,'4추특입'!AG18)) | AO18: =IF(X18=AM18,"OK","@@") -> OK | AQ18: =IF(AG18="",0,SUMIFS('4추특출'!$AC$6:$AC$50,'4추특출'!$AG$6:$AG$50,'4추특입'!$AG18)) -> 0 | AR18: =IF(AG18="","",COUNTIFS('4추특출'!$AG$6:$AG$50,AG18)) | AS18: =IF(AC18=AQ18,"OK","@@") -> OK
A19: =IFERROR(VLOOKUP($C19,구분표!$A$2:$C$313,2,FALSE),"") | B19: =IFERROR(VLOOKUP($C19,구분표!$A$2:$C$313,3,FALSE),"") | I19: =IF(D19="","",G19-H19) | L19: =G19+J19+K19 -> 0 | O19: =G19+M19+N19 -> 0 | P19: =IF(AND((L19=0),(O19>0)),"O",IF(AND((J19<0),(L19-O19<0)),"O","X")) -> X | X19: =IF($W19<>"도비",IF($U19="국도비","직접입력",SUM($J19:$K19)),) -> 0 | Y19: =IF($W19="도비",SUM($J19:$K19),IF($U19="국도비","직접입력",SUM($J19:$K19)-$X19)) -> 0 | Z19: =IF(SUM($J19:$K19)=SUM($X19:$Y19),"OK","검토") -> OK | AC19: =IF($W19<>"도비",IF($U19="국도비","직접입력",SUM($M19:$N19)),) -> 0 | AD19: =IF($W19="도비",SUM(M19:N19),IF($U19="국도비","직접입력",SUM(M19:N19)-AC19)) -> 0 | AE19: =IF(SUM(M19:N19)=SUM(AC19:AD19),"OK","검토") -> OK | AG19: =IF(AI19="","",IF(W19="도비","세입없음",CONCATENATE(AI19,"-",COUNTIF($AI$7:AI19,AI19)))) | AI19: {=IF(C19="","",INDEX(구분표!$I$2:$I$313, MATCH(1,(구분표!$E$2:$E$313='4추특입'!B19)*(구분표!$F$2:$F$313='4추특입'!C19)*(구분표!$G$2:$G$313='4추특입'!A19),0)))} | AM19: =IF(AG19="",0,SUMIFS('4추특출'!$X$6:$X$50,'4추특출'!$AG$6:$AG$50,'4추특입'!$AG19)) -> 0 | AN19: =IF(AG19="","",COUNTIFS('4추특출'!$AG$6:$AG$50,'4추특입'!AG19)) | AO19: =IF(X19=AM19,"OK","@@") -> OK | AQ19: =IF(AG19="",0,SUMIFS('4추특출'!$AC$6:$AC$50,'4추특출'!$AG$6:$AG$50,'4추특입'!$AG19)) -> 0 | AR19: =IF(AG19="","",COUNTIFS('4추특출'!$AG$6:$AG$50,AG19)) | AS19: =IF(AC19=AQ19,"OK","@@") -> OK
... A30: =IFERROR(VLOOKUP($C30,구분표!$A$2:$C$313,2,FALSE),"") | B30: =IFERROR(VLOOKUP($C30,구분표!$A$2:$C$313,3,FALSE),"") | I30: =IF(D30="","",G30-H30) | L30: =G30+J30+K30 -> 0 | O30: =G30+M30+N30 -> 0 | P30: =IF(AND((L30=0),(O30>0)),"O",IF(AND((J30<0),(L30-O30<0)),"O","X")) -> X | X30: =IF($W30<>"도비",IF($U30="국도비","직접입력",SUM($J30:$K30)),) -> 0 | Y30: =IF($W30="도비",SUM($J30:$K30),IF($U30="국도비","직접입력",SUM($J30:$K30)-$X30)) -> 0 | Z30: =IF(SUM($J30:$K30)=SUM($X30:$Y30),"OK","검토") -> OK | AC30: =IF($W30<>"도비",IF($U30="국도비","직접입력",SUM($M30:$N30)),) -> 0 | AD30: =IF($W30="도비",SUM(M30:N30),IF($U30="국도비","직접입력",SUM(M30:N30)-AC30)) -> 0 | AE30: =IF(SUM(M30:N30)=SUM(AC30:AD30),"OK","검토") -> OK | AG30: =IF(AI30="","",IF(W30="도비","세입없음",CONCATENATE(AI30,"-",COUNTIF($AI$7:AI30,AI30)))) | AI30: {=IF(C30="","",INDEX(구분표!$I$2:$I$313, MATCH(1,(구분표!$E$2:$E$313='4추특입'!B30)*(구분표!$F$2:$F$313='4추특입'!C30)*(구분표!$G$2:$G$313='4추특입'!A30),0)))} | AM30: =IF(AG30="",0,SUMIFS('4추특출'!$X$6:$X$50,'4추특출'!$AG$6:$AG$50,'4추특입'!$AG30)) -> 0 | AN30: =IF(AG30="","",COUNTIFS('4추특출'!$AG$6:$AG$50,'4추특입'!AG30)) | AO30: =IF(X30=AM30,"OK","@@") -> OK | AQ30: =IF(AG30="",0,SUMIFS('4추특출'!$AC$6:$AC$50,'4추특출'!$AG$6:$AG$50,'4추특입'!$AG30)) -> 0 | AR30: =IF(AG30="","",COUNTIFS('4추특출'!$AG$6:$AG$50,AG30)) | AS30: =IF(AC30=AQ30,"OK","@@") -> OK

Sheet 4추특출
A1: 2016년도 제4회 추경 경기도 기타특별회계 세출 예산 조정(안)
A2: □ 세출예산 | X2: 세입=세출 | AC2: 세입=세출
