Workbook

Sheet 구분표
A2: 실과명 조정 | B2: 위원회명 조정 | C2: 실국명 조정 | E2: 실국명 | F2: 실과명 | G2: 위원회명 | H2: 정렬순서 | I2: 정렬코드
A3: 공보담당관 | B3: 의회운영위원회 | C3: 의회사무처 | E3: 의회사무처 | F3: 공보담당관 | G3: 의회운영위원회 | H3: 1 | I3: 0101
A4: 총무담당관 | B4: 의회운영위원회 | C4: 의회사무처 | E4: 의회사무처 | F4: 총무담당관 | G4: 의회운영위원회 | H4: 2 | I4: 0102
A5: 의정담당관 | B5: 의회운영위원회 | C5: 의회사무처 | E5: 의회사무처 | F5: 의정담당관 | G5: 의회운영위원회 | H5: 3 | I5: 0103
A6: 입법정책담당관 | B6: 의회운영위원회 | C6: 의회사무처 | E6: 의회사무처 | F6: 입법정책담당관 | G6: 의회운영위원회 | H6: 4 | I6: 0104
A7: 예산정책담당관 | B7: 의회운영위원회 | C7: 의회사무처 | E7: 의회사무처 | F7: 예산정책담당관 | G7: 의회운영위원회 | H7: 5 | I7: 0105
A8: 언론협력담당관 | B8: 의회운영위원회 | C8: 대변인 | E8: 대변인 | F8: 언론협력담당관 | G8: 의회운영위원회 | H8: 6 | I8: 0106
A9: 보도기획담당관 | B9: 의회운영위원회 | C9: 대변인 | E9: 대변인 | F9: 보도기획담당관 | G9: 의회운영위원회 | H9: 7 | I9: 0107
A10: 홍보미디어담당관 | B10: 의회운영위원회 | C10: 소통기획관 | E10: 소통기획관 | F10: 홍보미디어담당관 | G10: 의회운영위원회 | H10: 8 | I10: 0108
A11: 홍보콘텐츠담당관 | B11: 의회운영위원회 | C11: 소통기획관 | E11: 소통기획관 | F11: 홍보콘텐츠담당관 | G11: 의회운영위원회 | H11: 9 | I11: 0109
A12: 연정협력과 | B12: 의회운영위원회 | C12: 연정협력국 | E12: 연정협력국 | F12: 연정협력과 | G12: 의회운영위원회 | H12: 10 | I12: 0110
A13: 대외협력과 | B13: 의회운영위원회 | C13: 연정협력국 | E13: 연정협력국 | F13: 대외협력과 | G13: 의회운영위원회 | H13: 11 | I13: 0111
... A215: 도서관정책과 | B215: 여성가족교육협력위원회 | C215: 교육협력국 | E215: 교육협력국 | F215: 도서관정책과 | G215: 여성가족교육협력위원회 | H215: 213 | I215: 0313

Sheet 예결표지(세로)
A5: 2015년도 제2회 일반회계 및 특별회계 추가경정 세입·세출 예산안
A7: 예결위 계수조정 결과
A20: 예산결산특별위원회

Sheet 예결표지(가로)
A3: 2015년도 제2회 일반회계 및 특별회계 추가경정 세입·세출 예산안
A5: 예결위 계수조정 결과
A14: 예산결산특별위원회

Sheet 표지
A4: 예결위 계수조정 결과
B6: - 2017년도 일반회계 및 기타특별회계 예산안, 기금운용계획안
A12: 예산결산특별위원회

Sheet 검증
A1: 제4회 추경 일반회계 검증 | H1: 4추 예비비 | J1: 조정액 | K1: =IFERROR(INDEX('17년일출'!AB6:AB59,MATCH("*예비비*",'17년일출'!F6:F59,0)),0) -> 0 | L1: 조정잔액 | M1: =I1+K1 -> 0
M2: (단위 : 천원)
A3: 구분 | B3: 상 임 위 | H3: 구분 | I3: 예 결 위
B4: 세입 | C4: 검증 | D4: 세출 | E4: 검증 | F4: 차액 | I4: 세입 | J4: 검증 | K4: 세출 | L4: 검증 | M4: 차액
A5: 전체 총계 | B5: =SUM(B6:B13)/2 -> 0 | C5: =IF(B5=SUM('17년일입'!H6:I6),"OK","@@") -> OK | D5: =SUM(D6:D13)/2 -> 0 | E5: =IF(D5=SUM('17년일출'!H6:I6),"OK","@@") -> @@ | H5: 전체 총계 | I5: =SUM(I6:I13)/2 -> 0 | J5: =IF(I5=SUM('17년일입'!K6:L6),"OK","@@") -> OK | K5: =SUM(K6:K13)/2 -> 0 | L5: =IF(K5=SUM('17년일출'!K6:L6),"OK","@@") -> OK
A6: 자체 계 | B6: =SUM(B7:B8) -> 0 | C6: =IF(B6='17년일입'!W6,"OK","@@") -> OK | D6: =SUM(D7:D8) -> 0 | E6: =IF(D6='17년일출'!W6,"OK","@@") -> OK | H6: 자체 계 | I6: =SUM(I7:I8) -> 0 | J6: =IF(I6='17년일입'!AB6,"OK","@@") -> OK | K6: =SUM(K7:K8) -> 0 | L6: =IF(K6='17년일출'!AB6,"OK","@@") -> OK
A7: 자체 도비 | B7: =SUMIFS('17년일입'!W6:W100,'17년일입'!U6:U100,"도비") -> 0 | D7: =SUMIFS('17년일출'!$W$6:$W$59,'17년일출'!$U$6:$U$59,"도비") -> 0 | H7: 자체 도비 | I7: =SUMIFS('17년일입'!AB6:AB100,'17년일입'!Z6:Z100,"국비") -> 0 | K7: =SUMIFS('17년일출'!$AB$6:$AB$59,'17년일출'!$Z$6:$Z$59,"도비") -> 0
A8: 의존 매칭 도비 | B8: =SUMIFS('17년일입'!W6:W100,'17년일입'!U6:U100,"국비")+SUMIFS('17년일입'!W6:W100,'17년일입'!U6:U100,"지특")+SUMIFS('17년일입'!W6:W100,'17년일입'!U6:U100,"기금")+SUMIFS('17년일입'!W6:W100,'17년일입'!U6:U100,"특교") -> 0 | D8: =SUMIFS('17년일출'!$W$6:$W$59,'17년일출'!$U$6:$U$59,"국비")+SUMIFS('17년일출'!$W$6:$W$59,'17년일출'!$U$6:$U$59,"지특")+SUMIFS('17년일출'!$W$6:$W$59,'17년일출'!$U$6:$U$59,"기금")+SUMIFS('17년일출'!$W$6:$W$59,'17년일출'!$U$6:$U$59,"특교") -> 0 | H8: 의존 매칭 도비 | I8: =SUMIFS('17년일입'!AB6:AB100,'17년일입'!Z6:Z100,"국비")+SUMIFS('17년일입'!AB6:AB100,'17년일입'!Z6:Z100,"지특")+SUMIFS('17년일입'!AB6:AB100,'17년일입'!Z6:Z100,"기금")+SUMIFS('17년일입'!AB6:AB100,'17년일입'!Z6:Z100,"특교") -> 0 | K8: =SUMIFS('17년일출'!$AB$6:$AB$59,'17년일출'!$Z$6:$Z$59,"국비")+SUMIFS('17년일출'!$AB$6:$AB$59,'17년일출'!$Z$6:$Z$59,"지특")+SUMIFS('17년일출'!$AB$6:$AB$59,'17년일출'!$Z$6:$Z$59,"기금")+SUMIFS('17년일출'!$AB$6:$AB$59,'17년일출'!$Z$6:$Z$59,"특교") -> 0
A9: 의존 계 | B9: =SUM(B10:B13) -> 0 | C9: =IF(B9='17년일입'!V6,"OK","@@") -> OK | D9: =SUM(D10:D13) -> 0 | E9: =IF(D9='17년일출'!V6,"OK","@@") -> @@ | F9: =SUM(F10:F13) -> 0 | H9: 의존 계 | I9: =SUM(I10:I13) -> 0 | J9: =IF(I9='17년일입'!V6,"OK","@@") -> OK | K9: =SUM(K10:K13) -> 0 | L9: =IF(K9='17년일출'!AA6,"OK","@@") -> OK | M9: =SUM(M10:M13) -> 0
A10: 국비 | B10: =SUMIFS('17년일입'!$W$6:$W$100,'17년일입'!$U$6:$U$100,검증!A10) -> 0 | D10: =SUMIFS('17년일출'!$W$6:$W$59,'17년일출'!$U$6:$U$59,검증!A10) -> 0 | F10: =D10-B10 -> 0 | H10: 국비 | I10: =SUMIFS('17년일입'!$AB$6:$AB$100,'17년일입'!$Z$6:$Z$100,검증!H10) -> 0 | K10: =SUMIFS('17년일출'!$AB$6:$AB$59,'17년일출'!$Z$6:$Z$59,검증!H10) -> 0 | M10: =K10-I10 -> 0
A11: 지특 | B11: =SUMIFS('17년일입'!$W$6:$W$100,'17년일입'!$U$6:$U$100,검증!A11) -> 0 | D11: =SUMIFS('17년일출'!$W$6:$W$59,'17년일출'!$U$6:$U$59,검증!A11) -> 0 | F11: =D11-B11 -> 0 | H11: 지특 | I11: =SUMIFS('17년일입'!$AB$6:$AB$100,'17년일입'!$Z$6:$Z$100,검증!H11) -> 0 | K11: =SUMIFS('17년일출'!$AB$6:$AB$59,'17년일출'!$Z$6:$Z$59,검증!H11) -> 0 | M11: =K11-I11 -> 0
A12: 기금 | B12: =SUMIFS('17년일입'!$W$6:$W$100,'17년일입'!$U$6:$U$100,검증!A12) -> 0 | D12: =SUMIFS('17년일출'!$W$6:$W$59,'17년일출'!$U$6:$U$59,검증!A12) -> 0 | F12: =D12-B12 -> 0 | H12: 기금 | I12: =SUMIFS('17년일입'!$AB$6:$AB$100,'17년일입'!$Z$6:$Z$100,검증!H12) -> 0 | K12: =SUMIFS('17년일출'!$AB$6:$AB$59,'17년일출'!$Z$6:$Z$59,검증!H12) -> 0 | M12: =K12-I12 -> 0
A13: 특교 | B13: =SUMIFS('17년일입'!$W$6:$W$100,'17년일입'!$U$6:$U$100,검증!A13) -> 0 | D13: =SUMIFS('17년일출'!$W$6:$W$59,'17년일출'!$U$6:$U$59,검증!A13) -> 0 | F13: =D13-B13 -> 0 | H13: 특교 | I13: =SUMIFS('17년일입'!$AB$6:$AB$100,'17년일입'!$Z$6:$Z$100,검증!H13) -> 0 | K13: =SUMIFS('17년일출'!$AB$6:$AB$59,'17년일출'!$Z$6:$Z$59,검증!H13) -> 0 | M13: =K13-I13 -> 0

Sheet 총괄표
A1: 2017년도 일반 및 특별회계 세입·세출 예산안(전체예산총괄)
A3: □ 총 괄 | C3: 세입예산 증감 | D3: =SUM(C7:D7) -> 0 | F3: 세출예산증감 | G3: =SUM(F7:G7) -> 0
F4: ※ 예비비 증감 | I4: (단위 : 천원)
A5: 구 분 | B5: 집행부제출(안) | C5: 세입예산(안) | F5: 세출예산(안) | I5: 수정예산(안) | K5: ※ 예산안 증감현황
C6: 감 액 | D6: 증 액 | E6: 증감액 | F6: 감 액 | G6: 증 액 | H6: 증감액 | K6: 구 분 | L6: 세입 | M6: 세출 | N6: 예비비 | O6: 비고(???)
A7: 합 계 | B7: =SUM(B8:B17) -> 0 | C7: =SUM(C8:C17) -> 0 | D7: =SUM(D8:D17) -> 0 | E7: =SUM(E8:E17) -> 0 | F7: =SUM(F8:F17) -> 0 | G7: =SUM(G8:G17) -> 0 | H7: =SUM(H8:H17) -> 0 | I7: =SUM(I8:I17) -> 0 | K7: 합 계 | L7: =SUM(L8:L9) -> 0 | M7: =SUM(M8:M9) -> 0 | N7: =L7-M7 -> 0
A8: 의회운영위원회 | B8: =B31 -> 0 | C8: =SUMIFS('17년일입'!K$6:K$100,'17년일입'!$A$6:$A$100,총괄표!$A8)+SUMIFS('17년특입'!K$6:K$39,'17년특입'!$A$6:$A$39,총괄표!$A8) -> 0 | D8: =SUMIFS('17년일입'!L$6:L$100,'17년일입'!$A$6:$A$100,총괄표!$A8)+SUMIFS('17년특입'!L$6:L$39,'17년특입'!$A$6:$A$39,총괄표!$A8) -> 0 | E8: =D8-C8 -> 0 | F8: =SUMIFS('17년일출'!K$6:K$59,'17년일출'!$A$6:$A$59,총괄표!$A8)+SUMIFS('17년특출'!K$6:K$39,'17년특출'!$A$6:$A$39,총괄표!$A8) -> 0 | G8: =SUMIFS('17년일출'!L$6:L$59,'17년일출'!$A$6:$A$59,총괄표!$A8)+SUMIFS('17년특출'!L$6:L$39,'17년특출'!$A$6:$A$39,총괄표!$A8) -> 0 | H8: =G8-F8 -> 0 | I8: =B8+F8+G8 -> 0 | K8: 일반회계 | L8: =SUM(C24:D24) -> 0 | M8: =SUM(F24:G24) -> 0 | N8: =L8-M8 -> 0 | O8: 예비비 증감 - 감액, + 증액에 입력
A9: 기획재정위원회 | B9: =B32 -> 0 | C9: =SUMIFS('17년일입'!K$6:K$100,'17년일입'!$A$6:$A$100,총괄표!$A9)+SUMIFS('17년특입'!K$6:K$39,'17년특입'!$A$6:$A$39,총괄표!$A9) -> 0 | D9: =SUMIFS('17년일입'!L$6:L$100,'17년일입'!$A$6:$A$100,총괄표!$A9)+SUMIFS('17년특입'!L$6:L$39,'17년특입'!$A$6:$A$39,총괄표!$A9) -> 0 | E9: =D9-C9 -> 0 | F9: =SUMIFS('17년일출'!K$6:K$59,'17년일출'!$A$6:$A$59,총괄표!$A9)+SUMIFS('17년특출'!K$6:K$39,'17년특출'!$A$6:$A$39,총괄표!$A9) -> 0 | G9: =SUMIFS('17년일출'!L$6:L$59,'17년일출'!$A$6:$A$59,총괄표!$A9)+SUMIFS('17년특출'!L$6:L$39,'17년특출'!$A$6:$A$39,총괄표!$A9) -> 0 | H9: =G9-F9 -> 0 | I9: =B9+F9+G9 -> 0 | K9: 특별회계 | L9: =SUM(C25:D25) -> 0 | M9: =SUM(F25:G25) -> 0 | N9: =L9-M9 -> 0
A10: 경제과학기술위원회 | B10: =B33 -> 0 | C10: =SUMIFS('17년일입'!K$6:K$100,'17년일입'!$A$6:$A$100,총괄표!$A10)+SUMIFS('17년특입'!K$6:K$39,'17년특입'!$A$6:$A$39,총괄표!$A10) -> 0 | D10: =SUMIFS('17년일입'!L$6:L$100,'17년일입'!$A$6:$A$100,총괄표!$A10)+SUMIFS('17년특입'!L$6:L$39,'17년특입'!$A$6:$A$39,총괄표!$A10) -> 0 | E10: =D10-C10 -> 0 | F10: =SUMIFS('17년일출'!K$6:K$59,'17년일출'!$A$6:$A$59,총괄표!$A10)+SUMIFS('17년특출'!K$6:K$39,'17년특출'!$A$6:$A$39,총괄표!$A10) -> 0 | G10: =SUMIFS('17년일출'!L$6:L$59,'17년일출'!$A$6:$A$59,총괄표!$A10)+SUMIFS('17년특출'!L$6:L$39,'17년특출'!$A$6:$A$39,총괄표!$A10) -> 0 | H10: =G10-F10 -> 0 | I10: =B10+F10+G10 -> 0
A11: 안전행정위원회 | B11: =B34 -> 0 | C11: =SUMIFS('17년일입'!K$6:K$100,'17년일입'!$A$6:$A$100,총괄표!$A11)+SUMIFS('17년특입'!K$6:K$39,'17년특입'!$A$6:$A$39,총괄표!$A11) -> 0 | D11: =SUMIFS('17년일입'!L$6:L$100,'17년일입'!$A$6:$A$100,총괄표!$A11)+SUMIFS('17년특입'!L$6:L$39,'17년특입'!$A$6:$A$39,총괄표!$A11) -> 0 | E11: =D11-C11 -> 0 | F11: =SUMIFS('17년일출'!K$6:K$59,'17년일출'!$A$6:$A$59,총괄표!$A11)+SUMIFS('17년특출'!K$6:K$39,'17년특출'!$A$6:$A$39,총괄표!$A11) -> 0 | G11: =SUMIFS('17년일출'!L$6:L$59,'17년일출'!$A$6:$A$59,총괄표!$A11)+SUMIFS('17년특출'!L$6:L$39,'17년특출'!$A$6:$A$39,총괄표!$A11) -> 0 | H11: =G11-F11 -> 0 | I11: =B11+F11+G11 -> 0
A12: 문화체육관광위원회 | B12: =B35 -> 0 | C12: =SUMIFS('17년일입'!K$6:K$100,'17년일입'!$A$6:$A$100,총괄표!$A12)+SUMIFS('17년특입'!K$6:K$39,'17년특입'!$A$6:$A$39,총괄표!$A12) -> 0 | D12: =SUMIFS('17년일입'!L$6:L$100,'17년일입'!$A$6:$A$100,총괄표!$A12)+SUMIFS('17년특입'!L$6:L$39,'17년특입'!$A$6:$A$39,총괄표!$A12) -> 0 | E12: =D12-C12 -> 0 | F12: =SUMIFS('17년일출'!K$6:K$59,'17년일출'!$A$6:$A$59,총괄표!$A12)+SUMIFS('17년특출'!K$6:K$39,'17년특출'!$A$6:$A$39,총괄표!$A12) -> 0 | G12: =SUMIFS('17년일출'!L$6:L$59,'17년일출'!$A$6:$A$59,총괄표!$A12)+SUMIFS('17년특출'!L$6:L$39,'17년특출'!$A$6:$A$39,총괄표!$A12) -> 0 | H12: =G12-F12 -> 0 | I12: =B12+F12+G12 -> 0
A13: 농정해양위원회 | B13: =B36 -> 0 | C13: =SUMIFS('17년일입'!K$6:K$100,'17년일입'!$A$6:$A$100,총괄표!$A13)+SUMIFS('17년특입'!K$6:K$39,'17년특입'!$A$6:$A$39,총괄표!$A13) -> 0 | D13: =SUMIFS('17년일입'!L$6:L$100,'17년일입'!$A$6:$A$100,총괄표!$A13)+SUMIFS('17년특입'!L$6:L$39,'17년특입'!$A$6:$A$39,총괄표!$A13) -> 0 | E13: =D13-C13 -> 0 | F13: =SUMIFS('17년일출'!K$6:K$59,'17년일출'!$A$6:$A$59,총괄표!$A13)+SUMIFS('17년특출'!K$6:K$39,'17년특출'!$A$6:$A$39,총괄표!$A13) -> 0 | G13: =SUMIFS('17년일출'!L$6:L$59,'17년일출'!$A$6:$A$59,총괄표!$A13)+SUMIFS('17년특출'!L$6:L$39,'17년특출'!$A$6:$A$39,총괄표!$A13) -> 0 | H13: =G13-F13 -> 0 | I13: =B13+F13+G13 -> 0
A14: 보건복지위원회 | B14: =B37 -> 0 | C14: =SUMIFS('17년일입'!K$6:K$100,'17년일입'!$A$6:$A$100,총괄표!$A14)+SUMIFS('17년특입'!K$6:K$39,'17년특입'!$A$6:$A$39,총괄표!$A14) -> 0 | D14: =SUMIFS('17년일입'!L$6:L$100,'17년일입'!$A$6:$A$100,총괄표!$A14)+SUMIFS('17년특입'!L$6:L$39,'17년특입'!$A$6:$A$39,총괄표!$A14) -> 0 | E14: =D14-C14 -> 0 | F14: =SUMIFS('17년일출'!K$6:K$59,'17년일출'!$A$6:$A$59,총괄표!$A14)+SUMIFS('17년특출'!K$6:K$39,'17년특출'!$A$6:$A$39,총괄표!$A14) -> 0 | G14: =SUMIFS('17년일출'!L$6:L$59,'17년일출'!$A$6:$A$59,총괄표!$A14)+SUMIFS('17년특출'!L$6:L$39,'17년특출'!$A$6:$A$39,총괄표!$A14) -> 0 | H14: =G14-F14 -> 0 | I14: =B14+F14+G14 -> 0
A15: 건설교통위원회 | B15: =B38 -> 0 | C15: =SUMIFS('17년일입'!K$6:K$100,'17년일입'!$A$6:$A$100,총괄표!$A15)+SUMIFS('17년특입'!K$6:K$39,'17년특입'!$A$6:$A$39,총괄표!$A15) -> 0 | D15: =SUMIFS('17년일입'!L$6:L$100,'17년일입'!$A$6:$A$100,총괄표!$A15)+SUMIFS('17년특입'!L$6:L$39,'17년특입'!$A$6:$A$39,총괄표!$A15) -> 0 | E15: =D15-C15 -> 0 | F15: =SUMIFS('17년일출'!K$6:K$59,'17년일출'!$A$6:$A$59,총괄표!$A15)+SUMIFS('17년특출'!K$6:K$39,'17년특출'!$A$6:$A$39,총괄표!$A15) -> 0 | G15: =SUMIFS('17년일출'!L$6:L$59,'17년일출'!$A$6:$A$59,총괄표!$A15)+SUMIFS('17년특출'!L$6:L$39,'17년특출'!$A$6:$A$39,총괄표!$A15) -> 0 | H15: =G15-F15 -> 0 | I15: =B15+F15+G15 -> 0
A16: 도시환경위원회 | B16: =B39 -> 0 | C16: =SUMIFS('17년일입'!K$6:K$100,'17년일입'!$A$6:$A$100,총괄표!$A16)+SUMIFS('17년특입'!K$6:K$39,'17년특입'!$A$6:$A$39,총괄표!$A16) -> 0 | D16: =SUMIFS('17년일입'!L$6:L$100,'17년일입'!$A$6:$A$100,총괄표!$A16)+SUMIFS('17년특입'!L$6:L$39,'17년특입'!$A$6:$A$39,총괄표!$A16) -> 0 | E16: =D16-C16 -> 0 | F16: =SUMIFS('17년일출'!K$6:K$59,'17년일출'!$A$6:$A$59,총괄표!$A16)+SUMIFS('17년특출'!K$6:K$39,'17년특출'!$A$6:$A$39,총괄표!$A16) -> 0 | G16: =SUMIFS('17년일출'!L$6:L$59,'17년일출'!$A$6:$A$59,총괄표!$A16)+SUMIFS('17년특출'!L$6:L$39,'17년특출'!$A$6:$A$39,총괄표!$A16) -> 0 | H16: =G16-F16 -> 0 | I16: =B16+F16+G16 -> 0
A17: 여상가족교육협력위원회 | B17: =B40 -> 0 | C17: =SUMIFS('17년일입'!K$6:K$100,'17년일입'!$A$6:$A$100,총괄표!$A17)+SUMIFS('17년특입'!K$6:K$39,'17년특입'!$A$6:$A$39,총괄표!$A17) -> 0 | D17: =SUMIFS('17년일입'!L$6:L$100,'17년일입'!$A$6:$A$100,총괄표!$A17)+SUMIFS('17년특입'!L$6:L$39,'17년특입'!$A$6:$A$39,총괄표!$A17) -> 0 | E17: =D17-C17 -> 0 | F17: =SUMIFS('17년일출'!K$6:K$59,'17년일출'!$A$6:$A$59,총괄표!$A17)+SUMIFS('17년특출'!K$6:K$39,'17년특출'!$A$6:$A$39,총괄표!$A17) -> 0 | G17: =SUMIFS('17년일출'!L$6:L$59,'17년일출'!$A$6:$A$59,총괄표!$A17)+SUMIFS('17년특출'!L$6:L$39,'17년특출'!$A$6:$A$39,총괄표!$A17) -> 0 | H17: =G17-F17 -> 0 | I17: =B17+F17+G17 -> 0
A19: □ 회계별 예산 총 규모
I20: (단위 : 천원)
A21: 구 분 | B21: 집행부제출(안) | C21: 세입예산(안) | F21: 세출예산(안) | I21: 수정예산(안) | K21: 세입기준
C22: 감 액 | D22: 증 액 | E22: 증감액 | F22: 감 액 | G22: 증 액 | H22: 증감액 | K22: 수정예산(안) | L22: 세출기준-세입기준
A23: 합 계 | B23: =SUM(B24:B25) -> 0 | C23: =SUM(C24:C25) -> 0 | D23: =SUM(D24:D25) -> 0 | E23: =SUM(E24:E25) -> 0 | F23: =SUM(F24:F25) -> 0 | G23: =SUM(G24:G25) -> 0 | H23: =SUM(H24:H25) -> 0 | I23: =SUM(I24:I25) -> 0 | K23: =SUM(K24:K25) -> 0 | L23: =I23-K23 -> 0
A24: 일반회계 | B24: =D30 -> 0 | C24: ='17년일입'!K6 -> 0 | D24: ='17년일입'!L6 -> 0 | E24: =D24-C24 -> 0 | F24: ='17년일출'!K6 -> 0 | G24: ='17년일출'!L6 -> 0 | H24: =G24-F24 -> 0 | I24: =B24+F24+G24 -> 0 | K24: =B24+C24+D24 -> 0 | L24: =I24-K24 -> 0
A25: 특별회계 | B25: =F30+G30 -> 0 | C25: ='17년특입'!K6 -> 0 | D25: ='17년특입'!L6 -> 0 | E25: =D25-C25 -> 0 | F25: ='17년특출'!K6 -> 0 | G25: ='17년특출'!L6 -> 0 | H25: =G25-F25 -> 0 | I25: =B25+F25+G25 -> 0 | K25: =B25+C25+D25 -> 0 | L25: =I25-K25 -> 0
A28: ※ 회계별, 위원회별 집행부제출안
A29: 위원회명 | B29: 합계 | C29: 일반+기타 | D29: 일반회계 | E29: 기타특별회계 | F29: 공기업특별회계
A30: 합계 | B30: =SUM(B31:B40) -> 0 | C30: =SUM(C31:C40) -> 0 | D30: =SUM(D31:D40) -> 0 | E30: =SUM(E31:E40) -> 0 | F30: =SUM(F31:F40) -> 0
A31: 의회운영위원회 | B31: =SUM(D31:G31) -> 0 | C31: =D31+F31 -> 0
A32: 기획재정위원회 | B32: =SUM(D32:G32) -> 0 | C32: =D32+F32 -> 0
A33: 경제과학기술위원회 | B33: =SUM(D33:G33) -> 0 | C33: =D33+F33 -> 0
A34: 안전행정위원회 | B34: =SUM(D34:G34) -> 0 | C34: =D34+F34 -> 0
A35: 문화체육관광위원회 | B35: =SUM(D35:G35) -> 0 | C35: =D35+F35 -> 0
A36: 농정해양위원회 | B36: =SUM(D36:G36) -> 0 | C36: =D36+F36 -> 0
A37: 보건복지위원회 | B37: =SUM(D37:G37) -> 0 | C37: =D37+F37 -> 0
A38: 건설교통위원회 | B38: =SUM(D38:G38) -> 0 | C38: =D38+F38 -> 0
A39: 도시환경위원회 | B39: =SUM(D39:G39) -> 0 | C39: =D39+F39 -> 0
A40: 여상가족교육협력위원회 | B40: =SUM(D40:G40) -> 0 | C40: =D40+F40 -> 0
A42: 예비비

Sheet 17년일입
A1: 2017년도 경기도 일반회계 세입 예산 조정(안)
A2: □ 세입예산 | V2: 세입=세출 | AA2: 세입=세출
H3: =COUNTA(H7:H100) -> 0 | I3: =COUNTA(I7:I100) -> 0 | K3: =COUNTA(K7:K100) -> 0 | L3: =COUNTA(L7:L100) -> 0 | Q3: (단위 : 천원) | V3: =IF(V6='17년일출'!V6,"OK","@@") -> @@ | X3: =IF(COUNTIF(X6:X100,"검토")>0,"@@","OK") -> OK | AA3: =IF(AA6='17년일출'!AA6,"OK","@@") -> OK | AC3: =IF(COUNTIF(AC6:AC100,"검토")>0,"@@","OK") -> OK
A4: 위원회명 | B4: 실국명 | C4: 부서명 | D4: 편성 구분 | E4: 예산안 페이지 | F4: 사업명 | G4: 예산안 (가) | H4: 상임위 예산안 조정액(나) | J4: 상임위 조정 예산안 (다=가+나) | K4: 예결위 예산안 조정액(라) | M4: 예결위 조정 예산안 (마=가+라) | N4: 동의 대상 | O4: 상임위 변경사유 (심의 참고자료) | P4: 비고 (상임위 부대의견) | Q4: 비고 (부대의견) | S4: 국도비 등 여부 | U4: 재원 | V4: 상임위 재원별 증감액 | Z4: 재원 | AA4: 예결위 재원별 증감액 | AE4: 세입번호 | AG4: 실국부서 코드 | AI4: 추가 내시 등 | AK4: 상임위 세입 검증 | AO4: 예결위 세입 검증
H5: 감액 | I5: 증액 | K5: 감액 | L5: 증액 | V5: 국비 등 | W5: 도비 | X5: 검증 | AA5: 국비 등 | AB5: 도비 | AC5: 검증 | AK5: 국비 증감액 | AL5: 건수 | AM5: 검증 | AO5: 국비 증감액 | AP5: 건수 | AQ5: 검증
A6: 합 계 | G6: =SUBTOTAL(9,G7:G100) -> 0 | H6: =SUBTOTAL(9,H7:H100) -> 0 | I6: =SUBTOTAL(9,I7:I100) -> 0 | J6: =SUBTOTAL(9,J7:J100) -> 0 | K6: =SUBTOTAL(9,K7:K100) -> 0 | L6: =SUBTOTAL(9,L7:L100) -> 0 | M6: =SUBTOTAL(9,M7:M100) -> 0 | V6: =SUBTOTAL(9,V7:V100) -> 0 | W6: =SUBTOTAL(9,W7:W100) -> 0 | X6: =IF(SUM($H6:$I6)=SUM($V6:$W6),"OK","검토") -> OK | AA6: =SUBTOTAL(9,AA7:AA100) -> 0 | AB6: =SUBTOTAL(9,AB7:AB100) -> 0 | AC6: =IF(SUM($H6:$I6)=SUM($V6:$W6),"OK","검토") -> OK | AK6: =SUBTOTAL(9,AK7:AK100) -> 0 | AL6: =SUBTOTAL(9,AL7:AL100) -> 0 | AM6: =IF(COUNTIF(AM7:AM100,"@@")>0,"@@","OK") -> OK | AO6: =SUBTOTAL(9,AO7:AO100) -> 0 | AP6: =SUBTOTAL(9,AP7:AP100) -> 0 | AQ6: =IF(COUNTIF(AQ7:AQ100,"@@")>0,"@@","OK") -> OK
A7: =IFERROR(VLOOKUP($C7,구분표!$A$2:$C$313,2,FALSE),"") | B7: =IFERROR(VLOOKUP($C7,구분표!$A$2:$C$313,3,FALSE),"") | D7: 본예산 | J7: =SUM(G7:I7) -> 0 | M7: =SUM(G7,K7,L7) -> 0 | N7: =IF(AND((J7=0),(M7>0)),"O",IF(AND((H7<0),(J7-M7<0)),"O","X")) -> X | X7: =IF(SUM($H7:$I7)=SUM($V7:$W7),"OK","검토") -> OK | AA7: =IF($U7<>"도비",IF($S7="국도비","직접입력",SUM($K7:$L7)),) -> 0 | AB7: =IF($U7="도비",SUM(K7:L7),IF($S7="국도비","직접입력",SUM(K7:L7)-AA7)) -> 0 | AC7: =IF(SUM(K7:L7)=SUM(AA7:AB7),"OK","검토") -> OK | AE7: =IF(AG7="","",IF(U7="도비","세입없음",CONCATENATE(AG7,"-",COUNTIF($AG$7:AG7,AG7)))) | AG7: {=IF(C7="","",INDEX(구분표!$I$2:$I$313, MATCH(1,(구분표!$E$2:$E$313='17년일입'!B7)*(구분표!$F$2:$F$313='17년일입'!C7)*(구분표!$G$2:$G$313='17년일입'!A7),0)))} | AK7: =IF(AE7="",0,SUMIFS('17년일출'!$V$6:$V$59,'17년일출'!$AE$6:$AE$59,'17년일입'!$AE7)) -> 0 | AL7: =IF(AE7="","",COUNTIFS('17년일출'!$AE$6:$AE$59,'17년일입'!AE7)) | AM7: =IF(V7=AK7,"OK","@@") -> OK | AO7: =IF(AE7="",0,SUMIFS('17년일출'!$AA$6:$AA$59,'17년일출'!$AE$6:$AE$59,'17년일입'!$AE7)) -> 0 | AP7: =IF(AE7="","",COUNTIFS('17년일출'!$AE$6:$AE$59,AE7)) | AQ7: =IF(AA7=AO7,"OK","@@") -> OK
A8: =IFERROR(VLOOKUP($C8,구분표!$A$2:$C$313,2,FALSE),"") | B8: =IFERROR(VLOOKUP($C8,구분표!$A$2:$C$313,3,FALSE),"") | D8: 신규 | J8: =SUM(G8:I8) -> 0 | M8: =SUM(G8,K8,L8) -> 0 | N8: =IF(AND((J8=0),(M8>0)),"O",IF(AND((H8<0),(J8-M8<0)),"O","X")) -> X | V8: =IF($U8<>"도비",IF($S8="국도비","직접입력",SUM($H8:$I8)),) -> 0 | W8: =IF($U8="도비",SUM($H8:$I8),IF($S8="국도비","직접입력",SUM($H8:$I8)-$V8)) -> 0 | X8: =IF(SUM($H8:$I8)=SUM($V8:$W8),"OK","검토") -> OK | AA8: =IF($U8<>"도비",IF($S8="국도비","직접입력",SUM($K8:$L8)),) -> 0 | AB8: =IF($U8="도비",SUM(K8:L8),IF($S8="국도비","직접입력",SUM(K8:L8)-AA8)) -> 0 | AC8: =IF(SUM(K8:L8)=SUM(AA8:AB8),"OK","검토") -> OK | AE8: =IF(AG8="","",IF(U8="도비","세입없음",CONCATENATE(AG8,"-",COUNTIF($AG$7:AG8,AG8)))) | AG8: {=IF(C8="","",INDEX(구분표!$I$2:$I$313, MATCH(1,(구분표!$E$2:$E$313='17년일입'!B8)*(구분표!$F$2:$F$313='17년일입'!C8)*(구분표!$G$2:$G$313='17년일입'!A8),0)))} | AK8: =IF(AE8="",0,SUMIFS('17년일출'!$V$6:$V$59,'17년일출'!$AE$6:$AE$59,'17년일입'!$AE8)) -> 0 | AL8: =IF(AE8="","",COUNTIFS('17년일출'!$AE$6:$AE$59,'17년일입'!AE8)) | AM8: =IF(V8=AK8,"OK","@@") -> OK | AO8: =IF(AE8="",0,SUMIFS('17년일출'!$AA$6:$AA$59,'17년일출'!$AE$6:$AE$59,'17년일입'!$AE8)) -> 0 | AP8: =IF(AE8="","",COUNTIFS('17년일출'!$AE$6:$AE$59,AE8)) | AQ8: =IF(AA8=AO8,"OK","@@") -> OK
A9: =IFERROR(VLOOKUP($C9,구분표!$A$2:$C$313,2,FALSE),"") | B9: =IFERROR(VLOOKUP($C9,구분표!$A$2:$C$313,3,FALSE),"") | J9: =SUM(G9:I9) -> 0 | M9: =SUM(G9,K9,L9) -> 0 | N9: =IF(AND((J9=0),(M9>0)),"O",IF(AND((H9<0),(J9-M9<0)),"O","X")) -> X | V9: =IF($U9<>"도비",IF($S9="국도비","직접입력",SUM($H9:$I9)),) -> 0 | W9: =IF($U9="도비",SUM($H9:$I9),IF($S9="국도비","직접입력",SUM($H9:$I9)-$V9)) -> 0 | X9: =IF(SUM($H9:$I9)=SUM($V9:$W9),"OK","검토") -> OK | AA9: =IF($U9<>"도비",IF($S9="국도비","직접입력",SUM($K9:$L9)),) -> 0 | AB9: =IF($U9="도비",SUM(K9:L9),IF($S9="국도비","직접입력",SUM(K9:L9)-AA9)) -> 0 | AC9: =IF(SUM(K9:L9)=SUM(AA9:AB9),"OK","검토") -> OK | AE9: =IF(AG9="","",IF(U9="도비","세입없음",CONCATENATE(AG9,"-",COUNTIF($AG$7:AG9,AG9)))) | AG9: {=IF(C9="","",INDEX(구분표!$I$2:$I$313, MATCH(1,(구분표!$E$2:$E$313='17년일입'!B9)*(구분표!$F$2:$F$313='17년일입'!C9)*(구분표!$G$2:$G$313='17년일입'!A9),0)))} | AK9: =IF(AE9="",0,SUMIFS('17년일출'!$V$6:$V$59,'17년일출'!$AE$6:$AE$59,'17년일입'!$AE9)) -> 0 | AL9: =IF(AE9="","",COUNTIFS('17년일출'!$AE$6:$AE$59,'17년일입'!AE9)) | AM9: =IF(V9=AK9,"OK","@@") -> OK | AO9: =IF(AE9="",0,SUMIFS('17년일출'!$AA$6:$AA$59,'17년일출'!$AE$6:$AE$59,'17년일입'!$AE9)) -> 0 | AP9: =IF(AE9="","",COUNTIFS('17년일출'!$AE$6:$AE$59,AE9)) | AQ9: =IF(AA9=AO9,"OK","@@") -> OK
A10: =IFERROR(VLOOKUP($C10,구분표!$A$2:$C$313,2,FALSE),"") | B10: =IFERROR(VLOOKUP($C10,구분표!$A$2:$C$313,3,FALSE),"") | J10: =SUM(G10:I10) -> 0 | M10: =SUM(G10,K10,L10) -> 0 | N10: =IF(AND((J10=0),(M10>0)),"O",IF(AND((H10<0),(J10-M10<0)),"O","X")) -> X | V10: =IF($U10<>"도비",IF($S10="국도비","직접입력",SUM($H10:$I10)),) -> 0 | W10: =IF($U10="도비",SUM($H10:$I10),IF($S10="국도비","직접입력",SUM($H10:$I10)-$V10)) -> 0 | X10: =IF(SUM($H10:$I10)=SUM($V10:$W10),"OK","검토") -> OK | AA10: =IF($U10<>"도비",IF($S10="국도비","직접입력",SUM($K10:$L10)),) -> 0 | AB10: =IF($U10="도비",SUM(K10:L10),IF($S10="국도비","직접입력",SUM(K10:L10)-AA10)) -> 0 | AC10: =IF(SUM(K10:L10)=SUM(AA10:AB10),"OK","검토") -> OK | AE10: =IF(AG10="","",IF(U10="도비","세입없음",CONCATENATE(AG10,"-",COUNTIF($AG$7:AG10,AG10)))) | AG10: {=IF(C10="","",INDEX(구분표!$I$2:$I$313, MATCH(1,(구분표!$E$2:$E$313='17년일입'!B10)*(구분표!$F$2:$F$313='17년일입'!C10)*(구분표!$G$2:$G$313='17년일입'!A10),0)))} | AK10: =IF(AE10="",0,SUMIFS('17년일출'!$V$6:$V$59,'17년일출'!$AE$6:$AE$59,'17년일입'!$AE10)) -> 0 | AL10: =IF(AE10="","",COUNTIFS('17년일출'!$AE$6:$AE$59,'17년일입'!AE10)) | AM10: =IF(V10=AK10,"OK","@@") -> OK | AO10: =IF(AE10="",0,SUMIFS('17년일출'!$AA$6:$AA$59,'17년일출'!$AE$6:$AE$59,'17년일입'!$AE10)) -> 0 | AP10: =IF(AE10="","",COUNTIFS('17년일출'!$AE$6:$AE$59,AE10)) | AQ10: =IF(AA10=AO10,"OK","@@") -> OK
A11: =IFERROR(VLOOKUP($C11,구분표!$A$2:$C$313,2,FALSE),"") | B11: =IFERROR(VLOOKUP($C11,구분표!$A$2:$C$313,3,FALSE),"") | J11: =SUM(G11:I11) -> 0 | M11: =SUM(G11,K11,L11) -> 0 | N11: =IF(AND((J11=0),(M11>0)),"O",IF(AND((H11<0),(J11-M11<0)),"O","X")) -> X | V11: =IF($U11<>"도비",IF($S11="국도비","직접입력",SUM($H11:$I11)),) -> 0 | W11: =IF($U11="도비",SUM($H11:$I11),IF($S11="국도비","직접입력",SUM($H11:$I11)-$V11)) -> 0 | X11: =IF(SUM($H11:$I11)=SUM($V11:$W11),"OK","검토") -> OK | AA11: =IF($U11<>"도비",IF($S11="국도비","직접입력",SUM($K11:$L11)),) -> 0 | AB11: =IF($U11="도비",SUM(K11:L11),IF($S11="국도비","직접입력",SUM(K11:L11)-AA11)) -> 0 | AC11: =IF(SUM(K11:L11)=SUM(AA11:AB11),"OK","검토") -> OK | AE11: =IF(AG11="","",IF(U11="도비","세입없음",CONCATENATE(AG11,"-",COUNTIF($AG$7:AG11,AG11)))) | AG11: {=IF(C11="","",INDEX(구분표!$I$2:$I$313, MATCH(1,(구분표!$E$2:$E$313='17년일입'!B11)*(구분표!$F$2:$F$313='17년일입'!C11)*(구분표!$G$2:$G$313='17년일입'!A11),0)))} | AK11: =IF(AE11="",0,SUMIFS('17년일출'!$V$6:$V$59,'17년일출'!$AE$6:$AE$59,'17년일입'!$AE11)) -> 0 | AL11: =IF(AE11="","",COUNTIFS('17년일출'!$AE$6:$AE$59,'17년일입'!AE11)) | AM11: =IF(V11=AK11,"OK","@@") -> OK | AO11: =IF(AE11="",0,SUMIFS('17년일출'!$AA$6:$AA$59,'17년일출'!$AE$6:$AE$59,'17년일입'!$AE11)) -> 0 | AP11: =IF(AE11="","",COUNTIFS('17년일출'!$AE$6:$AE$59,AE11)) | AQ11: =IF(AA11=AO11,"OK","@@") -> OK
A12: =IFERROR(VLOOKUP($C12,구분표!$A$2:$C$313,2,FALSE),"") | B12: =IFERROR(VLOOKUP($C12,구분표!$A$2:$C$313,3,FALSE),"") | J12: =SUM(G12:I12) -> 0 | M12: =SUM(G12,K12,L12) -> 0 | N12: =IF(AND((J12=0),(M12>0)),"O",IF(AND((H12<0),(J12-M12<0)),"O","X")) -> X | V12: =IF($U12<>"도비",IF($S12="국도비","직접입력",SUM($H12:$I12)),) -> 0 | W12: =IF($U12="도비",SUM($H12:$I12),IF($S12="국도비","직접입력",SUM($H12:$I12)-$V12)) -> 0 | X12: =IF(SUM($H12:$I12)=SUM($V12:$W12),"OK","검토") -> OK | AA12: =IF($U12<>"도비",IF($S12="국도비","직접입력",SUM($K12:$L12)),) -> 0 | AB12: =IF($U12="도비",SUM(K12:L12),IF($S12="국도비","직접입력",SUM(K12:L12)-AA12)) -> 0 | AC12: =IF(SUM(K12:L12)=SUM(AA12:AB12),"OK","검토") -> OK | AE12: =IF(AG12="","",IF(U12="도비","세입없음",CONCATENATE(AG12,"-",COUNTIF($AG$7:AG12,AG12)))) | AG12: {=IF(C12="","",INDEX(구분표!$I$2:$I$313, MATCH(1,(구분표!$E$2:$E$313='17년일입'!B12)*(구분표!$F$2:$F$313='17년일입'!C12)*(구분표!$G$2:$G$313='17년일입'!A12),0)))} | AK12: =IF(AE12="",0,SUMIFS('17년일출'!$V$6:$V$59,'17년일출'!$AE$6:$AE$59,'17년일입'!$AE12)) -> 0 | AL12: =IF(AE12="","",COUNTIFS('17년일출'!$AE$6:$AE$59,'17년일입'!AE12)) | AM12: =IF(V12=AK12,"OK","@@") -> OK | AO12: =IF(AE12="",0,SUMIFS('17년일출'!$AA$6:$AA$59,'17년일출'!$AE$6:$AE$59,'17년일입'!$AE12)) -> 0 | AP12: =IF(AE12="","",COUNTIFS('17년일출'!$AE$6:$AE$59,AE12)) | AQ12: =IF(AA12=AO12,"OK","@@") -> OK
A13: =IFERROR(VLOOKUP($C13,구분표!$A$2:$C$313,2,FALSE),"") | B13: =IFERROR(VLOOKUP($C13,구분표!$A$2:$C$313,3,FALSE),"") | J13: =SUM(G13:I13) -> 0 | M13: =SUM(G13,K13,L13) -> 0 | N13: =IF(AND((J13=0),(M13>0)),"O",IF(AND((H13<0),(J13-M13<0)),"O","X")) -> X | V13: =IF($U13<>"도비",IF($S13="국도비","직접입력",SUM($H13:$I13)),) -> 0 | W13: =IF($U13="도비",SUM($H13:$I13),IF($S13="국도비","직접입력",SUM($H13:$I13)-$V13)) -> 0 | X13: =IF(SUM($H13:$I13)=SUM($V13:$W13),"OK","검토") -> OK | AA13: =IF($U13<>"도비",IF($S13="국도비","직접입력",SUM($K13:$L13)),) -> 0 | AB13: =IF($U13="도비",SUM(K13:L13),IF($S13="국도비","직접입력",SUM(K13:L13)-AA13)) -> 0 | AC13: =IF(SUM(K13:L13)=SUM(AA13:AB13),"OK","검토") -> OK | AE13: =IF(AG13="","",IF(U13="도비","세입없음",CONCATENATE(AG13,"-",COUNTIF($AG$7:AG13,AG13)))) | AG13: {=IF(C13="","",INDEX(구분표!$I$2:$I$313, MATCH(1,(구분표!$E$2:$E$313='17년일입'!B13)*(구분표!$F$2:$F$313='17년일입'!C13)*(구분표!$G$2:$G$313='17년일입'!A13),0)))} | AK13: =IF(AE13="",0,SUMIFS('17년일출'!$V$6:$V$59,'17년일출'!$AE$6:$AE$59,'17년일입'!$AE13)) -> 0 | AL13: =IF(AE13="","",COUNTIFS('17년일출'!$AE$6:$AE$59,'17년일입'!AE13)) | AM13: =IF(V13=AK13,"OK","@@") -> OK | AO13: =IF(AE13="",0,SUMIFS('17년일출'!$AA$6:$AA$59,'17년일출'!$AE$6:$AE$59,'17년일입'!$AE13)) -> 0 | AP13: =IF(AE13="","",COUNTIFS('17년일출'!$AE$6:$AE$59,AE13)) | AQ13: =IF(AA13=AO13,"OK","@@") -> OK
A14: =IFERROR(VLOOKUP($C14,구분표!$A$2:$C$313,2,FALSE),"") | B14: =IFERROR(VLOOKUP($C14,구분표!$A$2:$C$313,3,FALSE),"") | J14: =SUM(G14:I14) -> 0 | M14: =SUM(G14,K14,L14) -> 0 | N14: =IF(AND((J14=0),(M14>0)),"O",IF(AND((H14<0),(J14-M14<0)),"O","X")) -> X | V14: =IF($U14<>"도비",IF($S14="국도비","직접입력",SUM($H14:$I14)),) -> 0 | W14: =IF($U14="도비",SUM($H14:$I14),IF($S14="국도비","직접입력",SUM($H14:$I14)-$V14)) -> 0 | X14: =IF(SUM($H14:$I14)=SUM($V14:$W14),"OK","검토") -> OK | AA14: =IF($U14<>"도비",IF($S14="국도비","직접입력",SUM($K14:$L14)),) -> 0 | AB14: =IF($U14="도비",SUM(K14:L14),IF($S14="국도비","직접입력",SUM(K14:L14)-AA14)) -> 0 | AC14: =IF(SUM(K14:L14)=SUM(AA14:AB14),"OK","검토") -> OK | AE14: =IF(AG14="","",IF(U14="도비","세입없음",CONCATENATE(AG14,"-",COUNTIF($AG$7:AG14,AG14)))) | AG14: {=IF(C14="","",INDEX(구분표!$I$2:$I$313, MATCH(1,(구분표!$E$2:$E$313='17년일입'!B14)*(구분표!$F$2:$F$313='17년일입'!C14)*(구분표!$G$2:$G$313='17년일입'!A14),0)))} | AK14: =IF(AE14="",0,SUMIFS('17년일출'!$V$6:$V$59,'17년일출'!$AE$6:$AE$59,'17년일입'!$AE14)) -> 0 | AL14: =IF(AE14="","",COUNTIFS('17년일출'!$AE$6:$AE$59,'17년일입'!AE14)) | AM14: =IF(V14=AK14,"OK","@@") -> OK | AO14: =IF(AE14="",0,SUMIFS('17년일출'!$AA$6:$AA$59,'17년일출'!$AE$6:$AE$59,'17년일입'!$AE14)) -> 0 | AP14: =IF(AE14="","",COUNTIFS('17년일출'!$AE$6:$AE$59,AE14)) | AQ14: =IF(AA14=AO14,"OK","@@") -> OK
A15: =IFERROR(VLOOKUP($C15,구분표!$A$2:$C$313,2,FALSE),"") | B15: =IFERROR(VLOOKUP($C15,구분표!$A$2:$C$313,3,FALSE),"") | J15: =SUM(G15:I15) -> 0 | M15: =SUM(G15,K15,L15) -> 0 | N15: =IF(AND((J15=0),(M15>0)),"O",IF(AND((H15<0),(J15-M15<0)),"O","X")) -> X | V15: =IF($U15<>"도비",IF($S15="국도비","직접입력",SUM($H15:$I15)),) -> 0 | W15: =IF($U15="도비",SUM($H15:$I15),IF($S15="국도비","직접입력",SUM($H15:$I15)-$V15)) -> 0 | X15: =IF(SUM($H15:$I15)=SUM($V15:$W15),"OK","검토") -> OK | AA15: =IF($U15<>"도비",IF($S15="국도비","직접입력",SUM($K15:$L15)),) -> 0 | AB15: =IF($U15="도비",SUM(K15:L15),IF($S15="국도비","직접입력",SUM(K15:L15)-AA15)) -> 0 | AC15: =IF(SUM(K15:L15)=SUM(AA15:AB15),"OK","검토") -> OK | AE15: =IF(AG15="","",IF(U15="도비","세입없음",CONCATENATE(AG15,"-",COUNTIF($AG$7:AG15,AG15)))) | AG15: {=IF(C15="","",INDEX(구분표!$I$2:$I$313, MATCH(1,(구분표!$E$2:$E$313='17년일입'!B15)*(구분표!$F$2:$F$313='17년일입'!C15)*(구분표!$G$2:$G$313='17년일입'!A15),0)))} | AK15: =IF(AE15="",0,SUMIFS('17년일출'!$V$6:$V$59,'17년일출'!$AE$6:$AE$59,'17년일입'!$AE15)) -> 0 | AL15: =IF(AE15="","",COUNTIFS('17년일출'!$AE$6:$AE$59,'17년일입'!AE15)) | AM15: =IF(V15=AK15,"OK","@@") -> OK | AO15: =IF(AE15="",0,SUMIFS('17년일출'!$AA$6:$AA$59,'17년일출'!$AE$6:$AE$59,'17년일입'!$AE15)) -> 0 | AP15: =IF(AE15="","",COUNTIFS('17년일출'!$AE$6:$AE$59,AE15)) | AQ15: =IF(AA15=AO15,"OK","@@") -> OK
A16: =IFERROR(VLOOKUP($C16,구분표!$A$2:$C$313,2,FALSE),"") | B16: =IFERROR(VLOOKUP($C16,구분표!$A$2:$C$313,3,FALSE),"") | J16: =SUM(G16:I16) -> 0 | M16: =SUM(G16,K16,L16) -> 0 | N16: =IF(AND((J16=0),(M16>0)),"O",IF(AND((H16<0),(J16-M16<0)),"O","X")) -> X | V16: =IF($U16<>"도비",IF($S16="국도비","직접입력",SUM($H16:$I16)),) -> 0 | W16: =IF($U16="도비",SUM($H16:$I16),IF($S16="국도비","직접입력",SUM($H16:$I16)-$V16)) -> 0 | X16: =IF(SUM($H16:$I16)=SUM($V16:$W16),"OK","검토") -> OK | AA16: =IF($U16<>"도비",IF($S16="국도비","직접입력",SUM($K16:$L16)),) -> 0 | AB16: =IF($U16="도비",SUM(K16:L16),IF($S16="국도비","직접입력",SUM(K16:L16)-AA16)) -> 0 | AC16: =IF(SUM(K16:L16)=SUM(AA16:AB16),"OK","검토") -> OK | AE16: =IF(AG16="","",IF(U16="도비","세입없음",CONCATENATE(AG16,"-",COUNTIF($AG$7:AG16,AG16)))) | AG16: {=IF(C16="","",INDEX(구분표!$I$2:$I$313, MATCH(1,(구분표!$E$2:$E$313='17년일입'!B16)*(구분표!$F$2:$F$313='17년일입'!C16)*(구분표!$G$2:$G$313='17년일입'!A16),0)))} | AK16: =IF(AE16="",0,SUMIFS('17년일출'!$V$6:$V$59,'17년일출'!$AE$6:$AE$59,'17년일입'!$AE16)) -> 0 | AL16: =IF(AE16="","",COUNTIFS('17년일출'!$AE$6:$AE$59,'17년일입'!AE16)) | AM16: =IF(V16=AK16,"OK","@@") -> OK | AO16: =IF(AE16="",0,SUMIFS('17년일출'!$AA$6:$AA$59,'17년일출'!$AE$6:$AE$59,'17년일입'!$AE16)) -> 0 | AP16: =IF(AE16="","",COUNTIFS('17년일출'!$AE$6:$AE$59,AE16)) | AQ16: =IF(AA16=AO16,"OK","@@") -> OK
A17: =IFERROR(VLOOKUP($C17,구분표!$A$2:$C$313,2,FALSE),"") | B17: =IFERROR(VLOOKUP($C17,구분표!$A$2:$C$313,3,FALSE),"") | J17: =SUM(G17:I17) -> 0 | M17: =SUM(G17,K17,L17) -> 0 | N17: =IF(AND((J17=0),(M17>0)),"O",IF(AND((H17<0),(J17-M17<0)),"O","X")) -> X | V17: =IF($U17<>"도비",IF($S17="국도비","직접입력",SUM($H17:$I17)),) -> 0 | W17: =IF($U17="도비",SUM($H17:$I17),IF($S17="국도비","직접입력",SUM($H17:$I17)-$V17)) -> 0 | X17: =IF(SUM($H17:$I17)=SUM($V17:$W17),"OK","검토") -> OK | AA17: =IF($U17<>"도비",IF($S17="국도비","직접입력",SUM($K17:$L17)),) -> 0 | AB17: =IF($U17="도비",SUM(K17:L17),IF($S17="국도비","직접입력",SUM(K17:L17)-AA17)) -> 0 | AC17: =IF(SUM(K17:L17)=SUM(AA17:AB17),"OK","검토") -> OK | AE17: =IF(AG17="","",IF(U17="도비","세입없음",CONCATENATE(AG17,"-",COUNTIF($AG$7:AG17,AG17)))) | AG17: {=IF(C17="","",INDEX(구분표!$I$2:$I$313, MATCH(1,(구분표!$E$2:$E$313='17년일입'!B17)*(구분표!$F$2:$F$313='17년일입'!C17)*(구분표!$G$2:$G$313='17년일입'!A17),0)))} | AK17: =IF(AE17="",0,SUMIFS('17년일출'!$V$6:$V$59,'17년일출'!$AE$6:$AE$59,'17년일입'!$AE17)) -> 0 | AL17: =IF(AE17="","",COUNTIFS('17년일출'!$AE$6:$AE$59,'17년일입'!AE17)) | AM17: =IF(V17=AK17,"OK","@@") -> OK | AO17: =IF(AE17="",0,SUMIFS('17년일출'!$AA$6:$AA$59,'17년일출'!$AE$6:$AE$59,'17년일입'!$AE17)) -> 0 | AP17: =IF(AE17="","",COUNTIFS('17년일출'!$AE$6:$AE$59,AE17)) | AQ17: =IF(AA17=AO17,"OK","@@") -> OK
A18: =IFERROR(VLOOKUP($C18,구분표!$A$2:$C$313,2,FALSE),"") | B18: =IFERROR(VLOOKUP($C18,구분표!$A$2:$C$313,3,FALSE),"") | J18: =SUM(G18:I18) -> 0 | M18: =SUM(G18,K18,L18) -> 0 | N18: =IF(AND((J18=0),(M18>0)),"O",IF(AND((H18<0),(J18-M18<0)),"O","X")) -> X | V18: =IF($U18<>"도비",IF($S18="국도비","직접입력",SUM($H18:$I18)),) -> 0 | W18: =IF($U18="도비",SUM($H18:$I18),IF($S18="국도비","직접입력",SUM($H18:$I18)-$V18)) -> 0 | X18: =IF(SUM($H18:$I18)=SUM($V18:$W18),"OK","검토") -> OK | AA18: =IF($U18<>"도비",IF($S18="국도비","직접입력",SUM($K18:$L18)),) -> 0 | AB18: =IF($U18="도비",SUM(K18:L18),IF($S18="국도비","직접입력",SUM(K18:L18)-AA18)) -> 0 | AC18: =IF(SUM(K18:L18)=SUM(AA18:AB18),"OK","검토") -> OK | AE18: =IF(AG18="","",IF(U18="도비","세입없음",CONCATENATE(AG18,"-",COUNTIF($AG$7:AG18,AG18)))) | AG18: {=IF(C18="","",INDEX(구분표!$I$2:$I$313, MATCH(1,(구분표!$E$2:$E$313='17년일입'!B18)*(구분표!$F$2:$F$313='17년일입'!C18)*(구분표!$G$2:$G$313='17년일입'!A18),0)))} | AK18: =IF(AE18="",0,SUMIFS('17년일출'!$V$6:$V$59,'17년일출'!$AE$6:$AE$59,'17년일입'!$AE18)) -> 0 | AL18: =IF(AE18="","",COUNTIFS('17년일출'!$AE$6:$AE$59,'17년일입'!AE18)) | AM18: =IF(V18=AK18,"OK","@@") -> OK | AO18: =IF(AE18="",0,SUMIFS('17년일출'!$AA$6:$AA$59,'17년일출'!$AE$6:$AE$59,'17년일입'!$AE18)) -> 0 | AP18: =IF(AE18="","",COUNTIFS('17년일출'!$AE$6:$AE$59,AE18)) | AQ18: =IF(AA18=AO18,"OK","@@") -> OK
A19: =IFERROR(VLOOKUP($C19,구분표!$A$2:$C$313,2,FALSE),"") | B19: =IFERROR(VLOOKUP($C19,구분표!$A$2:$C$313,3,FALSE),"") | J19: =SUM(G19:I19) -> 0 | M19: =SUM(G19,K19,L19) -> 0 | N19: =IF(AND((J19=0),(M19>0)),"O",IF(AND((H19<0),(J19-M19<0)),"O","X")) -> X | V19: =IF($U19<>"도비",IF($S19="국도비","직접입력",SUM($H19:$I19)),) -> 0 | W19: =IF($U19="도비",SUM($H19:$I19),IF($S19="국도비","직접입력",SUM($H19:$I19)-$V19)) -> 0 | X19: =IF(SUM($H19:$I19)=SUM($V19:$W19),"OK","검토") -> OK | AA19: =IF($U19<>"도비",IF($S19="국도비","직접입력",SUM($K19:$L19)),) -> 0 | AB19: =IF($U19="도비",SUM(K19:L19),IF($S19="국도비","직접입력",SUM(K19:L19)-AA19)) -> 0 | AC19: =IF(SUM(K19:L19)=SUM(AA19:AB19),"OK","검토") -> OK | AE19: =IF(AG19="","",IF(U19="도비","세입없음",CONCATENATE(AG19,"-",COUNTIF($AG$7:AG19,AG19)))) | AG19: {=IF(C19="","",INDEX(구분표!$I$2:$I$313, MATCH(1,(구분표!$E$2:$E$313='17년일입'!B19)*(구분표!$F$2:$F$313='17년일입'!C19)*(구분표!$G$2:$G$313='17년일입'!A19),0)))} | AK19: =IF(AE19="",0,SUMIFS('17년일출'!$V$6:$V$59,'17년일출'!$AE$6:$AE$59,'17년일입'!$AE19)) -> 0 | AL19: =IF(AE19="","",COUNTIFS('17년일출'!$AE$6:$AE$59,'17년일입'!AE19)) | AM19: =IF(V19=AK19,"OK","@@") -> OK | AO19: =IF(AE19="",0,SUMIFS('17년일출'!$AA$6:$AA$59,'17년일출'!$AE$6:$AE$59,'17년일입'!$AE19)) -> 0 | AP19: =IF(AE19="","",COUNTIFS('17년일출'!$AE$6:$AE$59,AE19)) | AQ19: =IF(AA19=AO19,"OK","@@") -> OK
A20: =IFERROR(VLOOKUP($C20,구분표!$A$2:$C$313,2,FALSE),"") | B20: =IFERROR(VLOOKUP($C20,구분표!$A$2:$C$313,3,FALSE),"") | J20: =SUM(G20:I20) -> 0 | M20: =SUM(G20,K20,L20) -> 0 | N20: =IF(AND((J20=0),(M20>0)),"O",IF(AND((H20<0),(J20-M20<0)),"O","X")) -> X | V20: =IF($U20<>"도비",IF($S20="국도비","직접입력",SUM($H20:$I20)),) -> 0 | W20: =IF($U20="도비",SUM($H20:$I20),IF($S20="국도비","직접입력",SUM($H20:$I20)-$V20)) -> 0 | X20: =IF(SUM($H20:$I20)=SUM($V20:$W20),"OK","검토") -> OK | AA20: =IF($U20<>"도비",IF($S20="국도비","직접입력",SUM($K20:$L20)),) -> 0 | AB20: =IF($U20="도비",SUM(K20:L20),IF($S20="국도비","직접입력",SUM(K20:L20)-AA20)) -> 0 | AC20: =IF(SUM(K20:L20)=SUM(AA20:AB20),"OK","검토") -> OK | AE20: =IF(AG20="","",IF(U20="도비","세입없음",CONCATENATE(AG20,"-",COUNTIF($AG$7:AG20,AG20)))) | AG20: {=IF(C20="","",INDEX(구분표!$I$2:$I$313, MATCH(1,(구분표!$E$2:$E$313='17년일입'!B20)*(구분표!$F$2:$F$313='17년일입'!C20)*(구분표!$G$2:$G$313='17년일입'!A20),0)))} | AK20: =IF(AE20="",0,SUMIFS('17년일출'!$V$6:$V$59,'17년일출'!$AE$6:$AE$59,'17년일입'!$AE20)) -> 0 | AL20: =IF(AE20="","",COUNTIFS('17년일출'!$AE$6:$AE$59,'17년일입'!AE20)) | AM20: =IF(V20=AK20,"OK","@@") -> OK | AO20: =IF(AE20="",0,SUMIFS('17년일출'!$AA$6:$AA$59,'17년일출'!$AE$6:$AE$59,'17년일입'!$AE20)) -> 0 | AP20: =IF(AE20="","",COUNTIFS('17년일출'!$AE$6:$AE$59,AE20)) | AQ20: =IF(AA20=AO20,"OK","@@") -> OK
... A100: =IFERROR(VLOOKUP($C100,구분표!$A$2:$C$313,2,FALSE),"") | B100: =IFERROR(VLOOKUP($C100,구분표!$A$2:$C$313,3,FALSE),"") | J100: =SUM(G100:I100) -> 0 | M100: =SUM(G100,K100,L100) -> 0 | N100: =IF(AND((J100=0),(M100>0)),"O",IF(AND((H100<0),(J100-M100<0)),"O","X")) -> X | V100: =IF($U100<>"도비",IF($S100="국도비","직접입력",SUM($H100:$I100)),) -> 0 | W100: =IF($U100="도비",SUM($H100:$I100),IF($S100="국도비","직접입력",SUM($H100:$I100)-$V100)) -> 0 | X100: =IF(SUM($H100:$I100)=SUM($V100:$W100),"OK","검토") -> OK | AA100: =IF($U100<>"도비",IF($S100="국도비","직접입력",SUM($K100:$L100)),) -> 0 | AB100: =IF($U100="도비",SUM(K100:L100),IF($S100="국도비","직접입력",SUM(K100:L100)-AA100)) -> 0 | AC100: =IF(SUM(K100:L100)=SUM(AA100:AB100),"OK","검토") -> OK | AE100: =IF(AG100="","",IF(U100="도비","세입없음",CONCATENATE(AG100,"-",COUNTIF($AG$7:AG100,AG100)))) | AG100: {=IF(C100="","",INDEX(구분표!$I$2:$I$313, MATCH(1,(구분표!$E$2:$E$313='17년일입'!B100)*(구분표!$F$2:$F$313='17년일입'!C100)*(구분표!$G$2:$G$313='17년일입'!A100),0)))} | AK100: =IF(AE100="",0,SUMIFS('17년일출'!$V$6:$V$59,'17년일출'!$AE$6:$AE$59,'17년일입'!$AE100)) -> 0 | AL100: =IF(AE100="","",COUNTIFS('17년일출'!$AE$6:$AE$59,'17년일입'!AE100)) | AM100: =IF(V100=AK100,"OK","@@") -> OK | AO100: =IF(AE100="",0,SUMIFS('17년일출'!$AA$6:$AA$59,'17년일출'!$AE$6:$AE$59,'17년일입'!$AE100)) -> 0 | AP100: =IF(AE100="","",COUNTIFS('17년일출'!$AE$6:$AE$59,AE100)) | AQ100: =IF(AA100=AO100,"OK","@@") -> OK

Sheet 17년일출
A1: 2017년도 경기도 일반회계 세출 예산 조정(안)
A2: □ 세출예산 | V2: 세입=세출 | AA2: 세입=세출
H3: =COUNTA(H8:H59) -> 18 | I3: =COUNTA(I8:I59) -> 34 | K3: =COUNTA(K7:K59)-10 -> -9 | L3: =COUNTA(L7:L59)-10 -> -9 | Q3: (단위 : 천원) | V3: =IF(V6='17년일입'!V6,"OK","@@") -> @@ | X3: =IF(COUNTIF(X6:X59,"검토")>0,"@@","OK") -> @@ | AA3: =IF(AA6='17년일입'!AA6,"OK","@@") -> OK | AC3: =IF(COUNTIF(AC6:AC59,"검토")>0,"@@","OK") -> @@
A4: 위원회명 | B4: 실국명 | C4: 부서명 | D4: 편성 구분 | E4: 예산안 페이지 | F4: 사업명 | G4: 예산안 (가) | H4: 상임위 예산안 조정액(나) | J4: 상임위 조정 예산안 (다=가+나) | K4: 예결위 예산안 조정액(라) | M4: 예결위 조정 예산안 (마=가+라) | N4: 동의 대상 | O4: 상임위 변경사유 (심의 참고자료) | P4: 비고 (상임위 부대의견) | Q4: 비고 (부대의견) | S4: 국도비 등 여부 | U4: 재원 | V4: 상임위 재원별 증감액 | Z4: 재원 | AA4: 예결위 재원별 증감액 | AE4: 세입번호 | AG4: 동일 세입 건수 | AH4: 세출 번호 검증 | AJ4: 실국부서 코드 | AL4: 추가 내시 등
H5: 감액 | I5: 증액 | K5: 감액 | L5: 증액 | V5: 국비 등 | W5: 도비 | X5: 검증 | AA5: 국비 등 | AB5: 도비 | AC5: 검증
A6: 합 계 | G6: =SUBTOTAL(9,G7:G59)/2 -> 16645588 | H6: =SUBTOTAL(9,H7:H59)/2 -> -3169045 | I6: =SUBTOTAL(9,I7:I59)/2 -> 1768704 | J6: =SUBTOTAL(9,J7:J59)/2 -> 15245247 | K6: =SUBTOTAL(9,K7:K59)/2 -> 0 | L6: =SUBTOTAL(9,L7:L59)/2 -> 0 | M6: =SUBTOTAL(9,M7:M59)/2 -> 3742067 | V6: =SUBTOTAL(9,V7:V59) -> -1387341 | W6: =SUBTOTAL(9,W7:W59) -> 0 | X6: =IF(SUM($H6:$I6)=SUM($V6:$W6),"OK","검토") -> 검토 | AA6: =SUBTOTAL(9,AA7:AA59) -> 0 | AB6: =SUBTOTAL(9,AB7:AB59) -> 0 | AC6: =IF(SUM($H6:$I6)=SUM($V6:$W6),"OK","검토") -> 검토
A7: (의회운영위원회) | G7: =SUM(G8:G59) -> 16645588 | H7: =SUM(H8:H59) -> -3169045 | I7: =SUM(I8:I59) -> 1768704 | J7: =SUM(J8:J59) -> 15245247 | K7: =SUM(K8:K59) -> 0 | L7: =SUM(L8:L59) -> 0 | M7: =SUM(M8:M59) -> 3742067
A8: 의회운영위원회 | B8: 의회사무처 | C8: 공보담당관 | D8: 본예산 | E8: 9 | F8: 도민소통 의정홍보(자체/직접) - 홍보안내도우미 운영 | G8: 15820 | I8: 4000 | J8: =G8+H8+I8 -> 19820 | M8: =G8+K8+L8 -> 15820 | N8: =IF(AND((J8=0),(M8>0)),"O",IF(AND((H8<0),(J8-M8<0)),"O","X")) -> X | V8: =IF($U8<>"도비",IF($S8="국도비","직접입력",SUM($H8:$I8)),) -> 4000 | W8: =IF($U8="도비",SUM($H8:$I8),IF($S8="국도비","직접입력",SUM($H8:$I8)-$V8)) -> 0 | X8: =IF(SUM($H8:$I8)=SUM($V8:$W8),"OK","검토") -> OK | AA8: =IF($U8<>"도비",IF($S8="국도비","직접입력",SUM($K8:$L8)),) -> 0 | AB8: =IF($U8="도비",SUM(K8:L8),IF($S8="국도비","직접입력",SUM(K8:L8)-AA8)) -> 0 | AC8: =IF(SUM(K8:L8)=SUM(AA8:AB8),"OK","검토") -> OK | AH8: =IF(U8="","",IF(AND(U8="도비",AE8="세입없음"),"OK",IF(AND(U8<>"도비",AE8<>""),"OK","@@"))) | AJ8: {=IF(C8="","",INDEX(구분표!$I$2:$I$313, MATCH(1,(구분표!$E$2:$E$313='17년일출'!B8)*(구분표!$F$2:$F$313='17년일출'!C8)*(구분표!$G$2:$G$313='17년일출'!A8),0)))} -> 0101
A9: =IFERROR(VLOOKUP($C9,구분표!$A$2:$C$313,2,FALSE),"") -> 의회운영위원회 | B9: =IFERROR(VLOOKUP($C9,구분표!$A$2:$C$313,3,FALSE),"") -> 의회사무처 | C9: 공보담당관 | D9: 본예산 | E9: 9 | F9: 의회도서관 운영(자체/직접) - 의회도서관 운영관리 | G9: 20000 | I9: 10000 | J9: =G9+H9+I9 -> 30000 | M9: =G9+K9+L9 -> 20000 | N9: =IF(AND((J9=0),(M9>0)),"O",IF(AND((H9<0),(J9-M9<0)),"O","X")) -> X | V9: =IF($U9<>"도비",IF($S9="국도비","직접입력",SUM($H9:$I9)),) -> 10000 | W9: =IF($U9="도비",SUM($H9:$I9),IF($S9="국도비","직접입력",SUM($H9:$I9)-$V9)) -> 0 | X9: =IF(SUM($H9:$I9)=SUM($V9:$W9),"OK","검토") -> OK | AA9: =IF($U9<>"도비",IF($S9="국도비","직접입력",SUM($K9:$L9)),) -> 0 | AB9: =IF($U9="도비",SUM(K9:L9),IF($S9="국도비","직접입력",SUM(K9:L9)-AA9)) -> 0 | AC9: =IF(SUM(K9:L9)=SUM(AA9:AB9),"OK","검토") -> OK | AE9: =IF(U9="","",IF(U9="도비","세입없음","직접입력")) | AG9: =IF(AE9="","",COUNTIF($AE$7:$AE$59,AE9)) | AH9: =IF(U9="","",IF(AND(U9="도비",AE9="세입없음"),"OK",IF(AND(U9<>"도비",AE9<>""),"OK","@@"))) | AJ9: {=IF(C9="","",INDEX(구분표!$I$2:$I$313, MATCH(1,(구분표!$E$2:$E$313='17년일출'!B9)*(구분표!$F$2:$F$313='17년일출'!C9)*(구분표!$G$2:$G$313='17년일출'!A9),0)))} -> 0101
A10: =IFERROR(VLOOKUP($C10,구분표!$A$2:$C$313,2,FALSE),"") -> 의회운영위원회 | B10: =IFERROR(VLOOKUP($C10,구분표!$A$2:$C$313,3,FALSE),"") -> 의회사무처 | C10: 공보담당관 | D10: 본예산 | E10: 9 | F10: 의회도서관 운영(자체/직접) - 의회도서관 도서 구입 | G10: 30000 | I10: 20000 | J10: =G10+H10+I10 -> 50000 | M10: =G10+K10+L10 -> 30000 | N10: =IF(AND((J10=0),(M10>0)),"O",IF(AND((H10<0),(J10-M10<0)),"O","X")) -> X | V10: =IF($U10<>"도비",IF($S10="국도비","직접입력",SUM($H10:$I10)),) -> 20000 | W10: =IF($U10="도비",SUM($H10:$I10),IF($S10="국도비","직접입력",SUM($H10:$I10)-$V10)) -> 0 | X10: =IF(SUM($H10:$I10)=SUM($V10:$W10),"OK","검토") -> OK | AA10: =IF($U10<>"도비",IF($S10="국도비","직접입력",SUM($K10:$L10)),) -> 0 | AB10: =IF($U10="도비",SUM(K10:L10),IF($S10="국도비","직접입력",SUM(K10:L10)-AA10)) -> 0 | AC10: =IF(SUM(K10:L10)=SUM(AA10:AB10),"OK","검토") -> OK | AE10: =IF(U10="","",IF(U10="도비","세입없음","직접입력")) | AG10: =IF(AE10="","",COUNTIF($AE$7:$AE$59,AE10)) | AH10: =IF(U10="","",IF(AND(U10="도비",AE10="세입없음"),"OK",IF(AND(U10<>"도비",AE10<>""),"OK","@@"))) | AJ10: {=IF(C10="","",INDEX(구분표!$I$2:$I$313, MATCH(1,(구분표!$E$2:$E$313='17년일출'!B10)*(구분표!$F$2:$F$313='17년일출'!C10)*(구분표!$G$2:$G$313='17년일출'!A10),0)))} -> 0101
A11: =IFERROR(VLOOKUP($C11,구분표!$A$2:$C$313,2,FALSE),"") -> 의회운영위원회 | B11: =IFERROR(VLOOKUP($C11,구분표!$A$2:$C$313,3,FALSE),"") -> 의회사무처 | C11: 공보담당관 | D11: 본예산 | E11: 10 | F11: 영상 및 언론매체 홍보(자체/직접) - 의정현안 시책홍보 | G11: 3138247 | H11: -250000 | J11: =G11+H11+I11 -> 2888247 | M11: =G11+K11+L11 -> 3138247 | N11: =IF(AND((J11=0),(M11>0)),"O",IF(AND((H11<0),(J11-M11<0)),"O","X")) -> O | V11: =IF($U11<>"도비",IF($S11="국도비","직접입력",SUM($H11:$I11)),) -> -250000 | W11: =IF($U11="도비",SUM($H11:$I11),IF($S11="국도비","직접입력",SUM($H11:$I11)-$V11)) -> 0 | X11: =IF(SUM($H11:$I11)=SUM($V11:$W11),"OK","검토") -> OK | AA11: =IF($U11<>"도비",IF($S11="국도비","직접입력",SUM($K11:$L11)),) -> 0 | AB11: =IF($U11="도비",SUM(K11:L11),IF($S11="국도비","직접입력",SUM(K11:L11)-AA11)) -> 0 | AC11: =IF(SUM(K11:L11)=SUM(AA11:AB11),"OK","검토") -> OK | AE11: =IF(U11="","",IF(U11="도비","세입없음","직접입력")) | AG11: =IF(AE11="","",COUNTIF($AE$7:$AE$59,AE11)) | AH11: =IF(U11="","",IF(AND(U11="도비",AE11="세입없음"),"OK",IF(AND(U11<>"도비",AE11<>""),"OK","@@"))) | AJ11: {=IF(C11="","",INDEX(구분표!$I$2:$I$313, MATCH(1,(구분표!$E$2:$E$313='17년일출'!B11)*(구분표!$F$2:$F$313='17년일출'!C11)*(구분표!$G$2:$G$313='17년일출'!A11),0)))} -> 0101
A12: =IFERROR(VLOOKUP($C12,구분표!$A$2:$C$313,2,FALSE),"") -> 의회운영위원회 | B12: =IFERROR(VLOOKUP($C12,구분표!$A$2:$C$313,3,FALSE),"") -> 의회사무처 | C12: 공보담당관 | D12: 신규 | F12: 영상 및 언론매체 홍보(자체/직접) - 지역송출 의정홍보 | I12: 20000 | J12: =G12+H12+I12 -> 20000 | V12: =IF($U12<>"도비",IF($S12="국도비","직접입력",SUM($H12:$I12)),) -> 20000 | W12: =IF($U12="도비",SUM($H12:$I12),IF($S12="국도비","직접입력",SUM($H12:$I12)-$V12)) -> 0 | X12: =IF(SUM($H12:$I12)=SUM($V12:$W12),"OK","검토") -> OK | AJ12: {=IF(C12="","",INDEX(구분표!$I$2:$I$313, MATCH(1,(구분표!$E$2:$E$313='17년일출'!B12)*(구분표!$F$2:$F$313='17년일출'!C12)*(구분표!$G$2:$G$313='17년일출'!A12),0)))} -> 0101
A13: =IFERROR(VLOOKUP($C13,구분표!$A$2:$C$313,2,FALSE),"") -> 의회운영위원회 | B13: =IFERROR(VLOOKUP($C13,구분표!$A$2:$C$313,3,FALSE),"") -> 의회사무처 | C13: 공보담당관 | D13: 신규 | F13: 미디어홍보(자체/직접) - 상임위 간행물 제작 및 발행 | I13: 414000 | J13: =G13+H13+I13 -> 414000 | V13: =IF($U13<>"도비",IF($S13="국도비","직접입력",SUM($H13:$I13)),) -> 414000 | W13: =IF($U13="도비",SUM($H13:$I13),IF($S13="국도비","직접입력",SUM($H13:$I13)-$V13)) -> 0 | X13: =IF(SUM($H13:$I13)=SUM($V13:$W13),"OK","검토") -> OK | AJ13: {=IF(C13="","",INDEX(구분표!$I$2:$I$313, MATCH(1,(구분표!$E$2:$E$313='17년일출'!B13)*(구분표!$F$2:$F$313='17년일출'!C13)*(구분표!$G$2:$G$313='17년일출'!A13),0)))} -> 0101
A14: =IFERROR(VLOOKUP($C14,구분표!$A$2:$C$313,2,FALSE),"") -> 의회운영위원회 | B14: =IFERROR(VLOOKUP($C14,구분표!$A$2:$C$313,3,FALSE),"") -> 의회사무처 | C14: 총무담당관 | D14: 본예산 | E14: 12 | F14: 의회운영(자체/직접) - 선진의회운영사례연구 | G14: 25000 | I14: 35000 | J14: =G14+H14+I14 -> 60000 | V14: =IF($U14<>"도비",IF($S14="국도비","직접입력",SUM($H14:$I14)),) -> 35000 | W14: =IF($U14="도비",SUM($H14:$I14),IF($S14="국도비","직접입력",SUM($H14:$I14)-$V14)) -> 0 | X14: =IF(SUM($H14:$I14)=SUM($V14:$W14),"OK","검토") -> OK | AJ14: {=IF(C14="","",INDEX(구분표!$I$2:$I$313, MATCH(1,(구분표!$E$2:$E$313='17년일출'!B14)*(구분표!$F$2:$F$313='17년일출'!C14)*(구분표!$G$2:$G$313='17년일출'!A14),0)))} -> 0102
A15: =IFERROR(VLOOKUP($C15,구분표!$A$2:$C$313,2,FALSE),"") -> 의회운영위원회 | B15: =IFERROR(VLOOKUP($C15,구분표!$A$2:$C$313,3,FALSE),"") -> 의회사무처 | C15: 총무담당관 | D15: 본예산 | E15: 12 | F15: 의회운영(자체/직접) - 의회운영 및 예산 관련 비교연수 | G15: 25000 | I15: 35000 | J15: =G15+H15+I15 -> 60000 | V15: =IF($U15<>"도비",IF($S15="국도비","직접입력",SUM($H15:$I15)),) -> 35000 | W15: =IF($U15="도비",SUM($H15:$I15),IF($S15="국도비","직접입력",SUM($H15:$I15)-$V15)) -> 0 | X15: =IF(SUM($H15:$I15)=SUM($V15:$W15),"OK","검토") -> OK | AJ15: {=IF(C15="","",INDEX(구분표!$I$2:$I$313, MATCH(1,(구분표!$E$2:$E$313='17년일출'!B15)*(구분표!$F$2:$F$313='17년일출'!C15)*(구분표!$G$2:$G$313='17년일출'!A15),0)))} -> 0102
A16: =IFERROR(VLOOKUP($C16,구분표!$A$2:$C$313,2,FALSE),"") -> 의회운영위원회 | B16: =IFERROR(VLOOKUP($C16,구분표!$A$2:$C$313,3,FALSE),"") -> 의회사무처 | C16: 총무담당관 | D16: 본예산 | E16: 13 | F16: 국내외 교류사업 추진(자체/직접) - 의원 국외활동 수행여비 | G16: 160000 | I16: 112000 | J16: =G16+H16+I16 -> 272000 | V16: =IF($U16<>"도비",IF($S16="국도비","직접입력",SUM($H16:$I16)),) -> 112000 | W16: =IF($U16="도비",SUM($H16:$I16),IF($S16="국도비","직접입력",SUM($H16:$I16)-$V16)) -> 0 | X16: =IF(SUM($H16:$I16)=SUM($V16:$W16),"OK","검토") -> OK | AJ16: {=IF(C16="","",INDEX(구분표!$I$2:$I$313, MATCH(1,(구분표!$E$2:$E$313='17년일출'!B16)*(구분표!$F$2:$F$313='17년일출'!C16)*(구분표!$G$2:$G$313='17년일출'!A16),0)))} -> 0102
A17: =IFERROR(VLOOKUP($C17,구분표!$A$2:$C$313,2,FALSE),"") -> 의회운영위원회 | B17: =IFERROR(VLOOKUP($C17,구분표!$A$2:$C$313,3,FALSE),"") -> 의회사무처 | C17: 총무담당관 | D17: 본예산 | E17: 13 | F17: 국제외빈 방문행사 지원(자체/직접) - 국제외빈 방문행사 | G17: 3600 | I17: 46400 | J17: =G17+H17+I17 -> 50000 | V17: =IF($U17<>"도비",IF($S17="국도비","직접입력",SUM($H17:$I17)),) -> 46400 | W17: =IF($U17="도비",SUM($H17:$I17),IF($S17="국도비","직접입력",SUM($H17:$I17)-$V17)) -> 0 | X17: =IF(SUM($H17:$I17)=SUM($V17:$W17),"OK","검토") -> OK | AJ17: {=IF(C17="","",INDEX(구분표!$I$2:$I$313, MATCH(1,(구분표!$E$2:$E$313='17년일출'!B17)*(구분표!$F$2:$F$313='17년일출'!C17)*(구분표!$G$2:$G$313='17년일출'!A17),0)))} -> 0102
A18: =IFERROR(VLOOKUP($C18,구분표!$A$2:$C$313,2,FALSE),"") -> 의회운영위원회 | B18: =IFERROR(VLOOKUP($C18,구분표!$A$2:$C$313,3,FALSE),"") -> 의회사무처 | C18: 총무담당관 | D18: 본예산 | E18: 14 | F18: 청사시설 유지관리(자체/직접) -지하주차장 보수공사 | G18: 400000 | H18: -400000 | J18: =G18+H18+I18 -> 0 | P18: 용역결과 후 | V18: =IF($U18<>"도비",IF($S18="국도비","직접입력",SUM($H18:$I18)),) -> -400000 | W18: =IF($U18="도비",SUM($H18:$I18),IF($S18="국도비","직접입력",SUM($H18:$I18)-$V18)) -> 0 | X18: =IF(SUM($H18:$I18)=SUM($V18:$W18),"OK","검토") -> OK | AJ18: {=IF(C18="","",INDEX(구분표!$I$2:$I$313, MATCH(1,(구분표!$E$2:$E$313='17년일출'!B18)*(구분표!$F$2:$F$313='17년일출'!C18)*(구분표!$G$2:$G$313='17년일출'!A18),0)))} -> 0102
A19: =IFERROR(VLOOKUP($C19,구분표!$A$2:$C$313,2,FALSE),"") -> 의회운영위원회 | B19: =IFERROR(VLOOKUP($C19,구분표!$A$2:$C$313,3,FALSE),"") -> 의회사무처 | C19: 총무담당관 | D19: 본예산 | E19: 14 | F19: 의정지원능력 강화(자체/직접) - 소통과 나눔행사 | G19: 20000 | I19: 30000 | J19: =G19+H19+I19 -> 50000 | M19: =G19+K19+L19 -> 20000 | N19: =IF(AND((J19=0),(M19>0)),"O",IF(AND((H19<0),(J19-M19<0)),"O","X")) -> X | V19: =IF($U19<>"도비",IF($S19="국도비","직접입력",SUM($H19:$I19)),) -> 30000 | W19: =IF($U19="도비",SUM($H19:$I19),IF($S19="국도비","직접입력",SUM($H19:$I19)-$V19)) -> 0 | X19: =IF(SUM($H19:$I19)=SUM($V19:$W19),"OK","검토") -> OK | AA19: =IF($U19<>"도비",IF($S19="국도비","직접입력",SUM($K19:$L19)),) -> 0 | AB19: =IF($U19="도비",SUM(K19:L19),IF($S19="국도비","직접입력",SUM(K19:L19)-AA19)) -> 0 | AC19: =IF(SUM(K19:L19)=SUM(AA19:AB19),"OK","검토") -> OK | AE19: =IF(U19="","",IF(U19="도비","세입없음","직접입력")) | AG19: =IF(AE19="","",COUNTIF($AE$7:$AE$59,AE19)) | AH19: =IF(U19="","",IF(AND(U19="도비",AE19="세입없음"),"OK",IF(AND(U19<>"도비",AE19<>""),"OK","@@"))) | AJ19: {=IF(C19="","",INDEX(구분표!$I$2:$I$313, MATCH(1,(구분표!$E$2:$E$313='17년일출'!B19)*(구분표!$F$2:$F$313='17년일출'!C19)*(구분표!$G$2:$G$313='17년일출'!A19),0)))} -> 0102
A20: =IFERROR(VLOOKUP($C20,구분표!$A$2:$C$313,2,FALSE),"") -> 의회운영위원회 | B20: =IFERROR(VLOOKUP($C20,구분표!$A$2:$C$313,3,FALSE),"") -> 의회사무처 | C20: 총무담당관 | D20: 본예산 | E20: 14 | F20: 사회복지시설 지원(자체/직접) - 사회복지시설 위문 | G20: 62000 | I20: 58000 | J20: =G20+H20+I20 -> 120000 | M20: =G20+K20+L20 -> 62000 | N20: =IF(AND((J20=0),(M20>0)),"O",IF(AND((H20<0),(J20-M20<0)),"O","X")) -> X | V20: =IF($U20<>"도비",IF($S20="국도비","직접입력",SUM($H20:$I20)),) -> 58000 | W20: =IF($U20="도비",SUM($H20:$I20),IF($S20="국도비","직접입력",SUM($H20:$I20)-$V20)) -> 0 | X20: =IF(SUM($H20:$I20)=SUM($V20:$W20),"OK","검토") -> OK | AA20: =IF($U20<>"도비",IF($S20="국도비","직접입력",SUM($K20:$L20)),) -> 0 | AB20: =IF($U20="도비",SUM(K20:L20),IF($S20="국도비","직접입력",SUM(K20:L20)-AA20)) -> 0 | AC20: =IF(SUM(K20:L20)=SUM(AA20:AB20),"OK","검토") -> OK | AE20: =IF(U20="","",IF(U20="도비","세입없음","직접입력")) | AG20: =IF(AE20="","",COUNTIF($AE$7:$AE$59,AE20)) | AH20: =IF(U20="","",IF(AND(U20="도비",AE20="세입없음"),"OK",IF(AND(U20<>"도비",AE20<>""),"OK","@@"))) | AJ20: {=IF(C20="","",INDEX(구분표!$I$2:$I$313, MATCH(1,(구분표!$E$2:$E$313='17년일출'!B20)*(구분표!$F$2:$F$313='17년일출'!C20)*(구분표!$G$2:$G$313='17년일출'!A20),0)))} -> 0102
A21: =IFERROR(VLOOKUP($C21,구분표!$A$2:$C$313,2,FALSE),"") -> 의회운영위원회 | B21: =IFERROR(VLOOKUP($C21,구분표!$A$2:$C$313,3,FALSE),"") -> 의회사무처 | C21: 총무담당관 | D21: 본예산 | E21: 15 | F21: 의정지원 기준경비(자체/직접) - 국내여비 | G21: 158000 | I21: 226048 | J21: =G21+H21+I21 -> 384048 | V21: =IF($U21<>"도비",IF($S21="국도비","직접입력",SUM($H21:$I21)),) -> 226048 | W21: =IF($U21="도비",SUM($H21:$I21),IF($S21="국도비","직접입력",SUM($H21:$I21)-$V21)) -> 0 | X21: =IF(SUM($H21:$I21)=SUM($V21:$W21),"OK","검토") -> OK | AJ21: {=IF(C21="","",INDEX(구분표!$I$2:$I$313, MATCH(1,(구분표!$E$2:$E$313='17년일출'!B21)*(구분표!$F$2:$F$313='17년일출'!C21)*(구분표!$G$2:$G$313='17년일출'!A21),0)))} -> 0102
A22: =IFERROR(VLOOKUP($C22,구분표!$A$2:$C$313,2,FALSE),"") -> 의회운영위원회 | B22: =IFERROR(VLOOKUP($C22,구분표!$A$2:$C$313,3,FALSE),"") -> 의회사무처 | C22: 총무담당관 | D22: 본예산 | E22: 15 | F22: 의정지원 기준경비(자체/직접) - 전국시도의장협의회분담금 | G22: 102787 | I22: 10000 | J22: =G22+H22+I22 -> 112787 | V22: =IF($U22<>"도비",IF($S22="국도비","직접입력",SUM($H22:$I22)),) -> 10000 | W22: =IF($U22="도비",SUM($H22:$I22),IF($S22="국도비","직접입력",SUM($H22:$I22)-$V22)) -> 0 | X22: =IF(SUM($H22:$I22)=SUM($V22:$W22),"OK","검토") -> OK | AJ22: {=IF(C22="","",INDEX(구분표!$I$2:$I$313, MATCH(1,(구분표!$E$2:$E$313='17년일출'!B22)*(구분표!$F$2:$F$313='17년일출'!C22)*(구분표!$G$2:$G$313='17년일출'!A22),0)))} -> 0102
A23: =IFERROR(VLOOKUP($C23,구분표!$A$2:$C$313,2,FALSE),"") -> 의회운영위원회 | B23: =IFERROR(VLOOKUP($C23,구분표!$A$2:$C$313,3,FALSE),"") -> 의회사무처 | C23: 총무담당관 | D23: 본예산 | E23: 15 | F23: 의원 의정역량 강화 지원(자체/직접) - 의정활동지원인력 | G23: 52181 | I23: 12756 | J23: =G23+H23+I23 -> 64937 | V23: =IF($U23<>"도비",IF($S23="국도비","직접입력",SUM($H23:$I23)),) -> 12756 | W23: =IF($U23="도비",SUM($H23:$I23),IF($S23="국도비","직접입력",SUM($H23:$I23)-$V23)) -> 0 | X23: =IF(SUM($H23:$I23)=SUM($V23:$W23),"OK","검토") -> OK | AJ23: {=IF(C23="","",INDEX(구분표!$I$2:$I$313, MATCH(1,(구분표!$E$2:$E$313='17년일출'!B23)*(구분표!$F$2:$F$313='17년일출'!C23)*(구분표!$G$2:$G$313='17년일출'!A23),0)))} -> 0102
A24: =IFERROR(VLOOKUP($C24,구분표!$A$2:$C$313,2,FALSE),"") -> 의회운영위원회 | B24: =IFERROR(VLOOKUP($C24,구분표!$A$2:$C$313,3,FALSE),"") -> 의회사무처 | C24: 총무담당관 | D24: 본예산 | E24: 16 | F24: 의원 체육의 날 행사(자체/직접) - 의원 체육의 날 행사 | G24: 18000 | I24: 82000 | J24: =G24+H24+I24 -> 100000 | P24: 부기변경:도민한마음체육대회 | V24: =IF($U24<>"도비",IF($S24="국도비","직접입력",SUM($H24:$I24)),) -> 82000 | W24: =IF($U24="도비",SUM($H24:$I24),IF($S24="국도비","직접입력",SUM($H24:$I24)-$V24)) -> 0 | X24: =IF(SUM($H24:$I24)=SUM($V24:$W24),"OK","검토") -> OK | AJ24: {=IF(C24="","",INDEX(구분표!$I$2:$I$313, MATCH(1,(구분표!$E$2:$E$313='17년일출'!B24)*(구분표!$F$2:$F$313='17년일출'!C24)*(구분표!$G$2:$G$313='17년일출'!A24),0)))} -> 0102
A25: =IFERROR(VLOOKUP($C25,구분표!$A$2:$C$313,2,FALSE),"") -> 의회운영위원회 | B25: =IFERROR(VLOOKUP($C25,구분표!$A$2:$C$313,3,FALSE),"") -> 의회사무처 | C25: 총무담당관 | D25: 본예산 | E25: 16 | F25: 의원 정책활동 지원(자체/직접) - 각종 세미나 등 지원 | G25: 177000 | I25: 123000 | J25: =G25+H25+I25 -> 300000 | V25: =IF($U25<>"도비",IF($S25="국도비","직접입력",SUM($H25:$I25)),) -> 123000 | W25: =IF($U25="도비",SUM($H25:$I25),IF($S25="국도비","직접입력",SUM($H25:$I25)-$V25)) -> 0 | X25: =IF(SUM($H25:$I25)=SUM($V25:$W25),"OK","검토") -> OK | AJ25: {=IF(C25="","",INDEX(구분표!$I$2:$I$313, MATCH(1,(구분표!$E$2:$E$313='17년일출'!B25)*(구분표!$F$2:$F$313='17년일출'!C25)*(구분표!$G$2:$G$313='17년일출'!A25),0)))} -> 0102
A26: =IFERROR(VLOOKUP($C26,구분표!$A$2:$C$313,2,FALSE),"") -> 의회운영위원회 | B26: =IFERROR(VLOOKUP($C26,구분표!$A$2:$C$313,3,FALSE),"") -> 의회사무처 | C26: 총무담당관 | D26: 본예산 | E26: 20 | F26: 자산취득비 - 냉난방기 | G26: 2000 | I26: 3000 | J26: =G26+H26+I26 -> 5000 | V26: =IF($U26<>"도비",IF($S26="국도비","직접입력",SUM($H26:$I26)),) -> 3000 | W26: =IF($U26="도비",SUM($H26:$I26),IF($S26="국도비","직접입력",SUM($H26:$I26)-$V26)) -> 0 | X26: =IF(SUM($H26:$I26)=SUM($V26:$W26),"OK","검토") -> OK | AJ26: {=IF(C26="","",INDEX(구분표!$I$2:$I$313, MATCH(1,(구분표!$E$2:$E$313='17년일출'!B26)*(구분표!$F$2:$F$313='17년일출'!C26)*(구분표!$G$2:$G$313='17년일출'!A26),0)))} -> 0102
A27: =IFERROR(VLOOKUP($C27,구분표!$A$2:$C$313,2,FALSE),"") -> 의회운영위원회 | B27: =IFERROR(VLOOKUP($C27,구분표!$A$2:$C$313,3,FALSE),"") -> 의회사무처 | C27: 의정담당관 | D27: 본예산 | E27: 21 | F27: 청소년 의회교실 운영 지원(자체/직접) - 청소년 의회교실 운영 | G27: 36000 | I27: 36000 | J27: =G27+H27+I27 -> 72000 | V27: =IF($U27<>"도비",IF($S27="국도비","직접입력",SUM($H27:$I27)),) -> 36000 | W27: =IF($U27="도비",SUM($H27:$I27),IF($S27="국도비","직접입력",SUM($H27:$I27)-$V27)) -> 0 | X27: =IF(SUM($H27:$I27)=SUM($V27:$W27),"OK","검토") -> OK | AJ27: {=IF(C27="","",INDEX(구분표!$I$2:$I$313, MATCH(1,(구분표!$E$2:$E$313='17년일출'!B27)*(구분표!$F$2:$F$313='17년일출'!C27)*(구분표!$G$2:$G$313='17년일출'!A27),0)))} -> 0103
A28: =IFERROR(VLOOKUP($C28,구분표!$A$2:$C$313,2,FALSE),"") -> 의회운영위원회 | B28: =IFERROR(VLOOKUP($C28,구분표!$A$2:$C$313,3,FALSE),"") -> 의회사무처 | C28: 의정담당관 | D28: 본예산 | E28: 21 | F28: 청소년 의회교실 운영 지원(자체/직접) - 청소년 의회교실 운영 | G28: 19000 | I28: 19000 | J28: =G28+H28+I28 -> 38000 | V28: =IF($U28<>"도비",IF($S28="국도비","직접입력",SUM($H28:$I28)),) -> 19000 | W28: =IF($U28="도비",SUM($H28:$I28),IF($S28="국도비","직접입력",SUM($H28:$I28)-$V28)) -> 0 | X28: =IF(SUM($H28:$I28)=SUM($V28:$W28),"OK","검토") -> OK
A29: =IFERROR(VLOOKUP($C29,구분표!$A$2:$C$313,2,FALSE),"") -> 의회운영위원회 | B29: =IFERROR(VLOOKUP($C29,구분표!$A$2:$C$313,3,FALSE),"") -> 의회사무처 | C29: 의정담당관 | D29: 본예산 | E29: 21 | F29: 행정사무감사 및 조사지원(자체/직접) - 행정사무감사 및 조사 사무보조자 위촉수당 | G29: 6000 | I29: 30000 | J29: =G29+H29+I29 -> 36000 | V29: =IF($U29<>"도비",IF($S29="국도비","직접입력",SUM($H29:$I29)),) -> 30000 | W29: =IF($U29="도비",SUM($H29:$I29),IF($S29="국도비","직접입력",SUM($H29:$I29)-$V29)) -> 0 | X29: =IF(SUM($H29:$I29)=SUM($V29:$W29),"OK","검토") -> OK
A30: =IFERROR(VLOOKUP($C30,구분표!$A$2:$C$313,2,FALSE),"") -> 의회운영위원회 | B30: =IFERROR(VLOOKUP($C30,구분표!$A$2:$C$313,3,FALSE),"") -> 의회사무처 | C30: 의정담당관 | D30: 본예산 | E30: 21 | F30: 행정사무감사 및 조사지원(자체/직접) - 행정사무감사 및 조사 사무보조자 여비 | G30: 500 | I30: 7500 | J30: =G30+H30+I30 -> 8000 | V30: =IF($U30<>"도비",IF($S30="국도비","직접입력",SUM($H30:$I30)),) -> 7500 | W30: =IF($U30="도비",SUM($H30:$I30),IF($S30="국도비","직접입력",SUM($H30:$I30)-$V30)) -> 0 | X30: =IF(SUM($H30:$I30)=SUM($V30:$W30),"OK","검토") -> OK
A31: =IFERROR(VLOOKUP($C31,구분표!$A$2:$C$313,2,FALSE),"") -> 의회운영위원회 | B31: =IFERROR(VLOOKUP($C31,구분표!$A$2:$C$313,3,FALSE),"") -> 의회사무처 | C31: 입법정책담당관 | D31: 신규 | F31: 입법정책위원회 운영(자체/직접) - 국제입법정책심포지움 | I31: 30000 | J31: =G31+H31+I31 -> 30000 | V31: =IF($U31<>"도비",IF($S31="국도비","직접입력",SUM($H31:$I31)),) -> 30000 | W31: =IF($U31="도비",SUM($H31:$I31),IF($S31="국도비","직접입력",SUM($H31:$I31)-$V31)) -> 0 | X31: =IF(SUM($H31:$I31)=SUM($V31:$W31),"OK","검토") -> OK
A32: =IFERROR(VLOOKUP($C32,구분표!$A$2:$C$313,2,FALSE),"") -> 의회운영위원회 | B32: =IFERROR(VLOOKUP($C32,구분표!$A$2:$C$313,3,FALSE),"") -> 의회사무처 | C32: 입법정책담당관 | D32: 신규 | F32: 입법정책위원회 운영(자체/직접) - 입법정책 선진사례 해외연수 | I32: 20000 | J32: =G32+H32+I32 -> 20000 | V32: =IF($U32<>"도비",IF($S32="국도비","직접입력",SUM($H32:$I32)),) -> 20000 | W32: =IF($U32="도비",SUM($H32:$I32),IF($S32="국도비","직접입력",SUM($H32:$I32)-$V32)) -> 0 | X32: =IF(SUM($H32:$I32)=SUM($V32:$W32),"OK","검토") -> OK
A33: =IFERROR(VLOOKUP($C33,구분표!$A$2:$C$313,2,FALSE),"") -> 의회운영위원회 | B33: =IFERROR(VLOOKUP($C33,구분표!$A$2:$C$313,3,FALSE),"") -> 의회사무처 | C33: 입법정책담당관 | D33: 본예산 | E33: 23 | F33: 의원 입법활동 연구용역(자체/직접) - 경기도의회 정책개발 연구용역 | G33: 880000 | H33: -120000 | J33: =G33+H33+I33 -> 760000 | V33: =IF($U33<>"도비",IF($S33="국도비","직접입력",SUM($H33:$I33)),) -> -120000 | W33: =IF($U33="도비",SUM($H33:$I33),IF($S33="국도비","직접입력",SUM($H33:$I33)-$V33)) -> 0 | X33: =IF(SUM($H33:$I33)=SUM($V33:$W33),"OK","검토") -> OK
A34: =IFERROR(VLOOKUP($C34,구분표!$A$2:$C$313,2,FALSE),"") -> 의회운영위원회 | B34: =IFERROR(VLOOKUP($C34,구분표!$A$2:$C$313,3,FALSE),"") -> 의회사무처 | C34: 예산정책담당관 | D34: 신규 | F34: 예산분석(자체/직접) - 2018년 예산안 분석 | I34: 20000 | J34: =G34+H34+I34 -> 20000 | V34: =IF($U34<>"도비",IF($S34="국도비","직접입력",SUM($H34:$I34)),) -> 20000 | W34: =IF($U34="도비",SUM($H34:$I34),IF($S34="국도비","직접입력",SUM($H34:$I34)-$V34)) -> 0 | X34: =IF(SUM($H34:$I34)=SUM($V34:$W34),"OK","검토") -> OK
A35: =IFERROR(VLOOKUP($C35,구분표!$A$2:$C$313,2,FALSE),"") -> 의회운영위원회 | B35: =IFERROR(VLOOKUP($C35,구분표!$A$2:$C$313,3,FALSE),"") -> 의회사무처 | C35: 예산정책담당관 | D35: 신규 | F35: 국제예산정책심포지움(자체/직접) - 국제예산정책심포지움 | I35: 30000 | J35: =G35+H35+I35 -> 30000 | V35: =IF($U35<>"도비",IF($S35="국도비","직접입력",SUM($H35:$I35)),) -> 30000 | W35: =IF($U35="도비",SUM($H35:$I35),IF($S35="국도비","직접입력",SUM($H35:$I35)-$V35)) -> 0 | X35: =IF(SUM($H35:$I35)=SUM($V35:$W35),"OK","검토") -> OK
A36: =IFERROR(VLOOKUP($C36,구분표!$A$2:$C$313,2,FALSE),"") -> 의회운영위원회 | B36: =IFERROR(VLOOKUP($C36,구분표!$A$2:$C$313,3,FALSE),"") -> 의회사무처 | C36: 예산정책담당관 | D36: 신규 | F36: 예산정책 선진사례 해외연수(자체/직접) -예산정책 선진사례 해외연수 | I36: 20000 | J36: =G36+H36+I36 -> 20000 | V36: =IF($U36<>"도비",IF($S36="국도비","직접입력",SUM($H36:$I36)),) -> 20000 | W36: =IF($U36="도비",SUM($H36:$I36),IF($S36="국도비","직접입력",SUM($H36:$I36)-$V36)) -> 0 | X36: =IF(SUM($H36:$I36)=SUM($V36:$W36),"OK","검토") -> OK
A37: =IFERROR(VLOOKUP($C37,구분표!$A$2:$C$313,2,FALSE),"") -> 의회운영위원회 | B37: =IFERROR(VLOOKUP($C37,구분표!$A$2:$C$313,3,FALSE),"") -> 의회사무처 | C37: 예산정책담당관 | D37: 신규 | F37: 예산정책 활동지원(자체/직접) - 예산정책 연찬회 개최 | I37: 5000 | J37: =G37+H37+I37 -> 5000 | V37: =IF($U37<>"도비",IF($S37="국도비","직접입력",SUM($H37:$I37)),) -> 5000 | W37: =IF($U37="도비",SUM($H37:$I37),IF($S37="국도비","직접입력",SUM($H37:$I37)-$V37)) -> 0 | X37: =IF(SUM($H37:$I37)=SUM($V37:$W37),"OK","검토") -> OK
A38: =IFERROR(VLOOKUP($C38,구분표!$A$2:$C$313,2,FALSE),"") -> 의회운영위원회 | B38: 대변인 | C38: 언론협력담당관 | D38: 본예산 | E38: 30 | F38: 케이블TV를 이용한 홍보(자체/직접) - 케이블TV를 이용한 홍보 | G38: 900000 | H38: -100000 | J38: =G38+H38+I38 -> 800000 | V38: =IF($U38<>"도비",IF($S38="국도비","직접입력",SUM($H38:$I38)),) -> -100000 | W38: =IF($U38="도비",SUM($H38:$I38),IF($S38="국도비","직접입력",SUM($H38:$I38)-$V38)) -> 0 | X38: =IF(SUM($H38:$I38)=SUM($V38:$W38),"OK","검토") -> OK
A39: =IFERROR(VLOOKUP($C39,구분표!$A$2:$C$313,2,FALSE),"") -> 의회운영위원회 | B39: 대변인 | C39: 언론협력담당관 | D39: 본예산 | E39: 30 | F39: 신문을 통한 홍보(자체/직접) - 언론공익광고 | G39: 2400475 | H39: -350000 | J39: =G39+H39+I39 -> 2050475 | V39: =IF($U39<>"도비",IF($S39="국도비","직접입력",SUM($H39:$I39)),) -> -350000 | W39: =IF($U39="도비",SUM($H39:$I39),IF($S39="국도비","직접입력",SUM($H39:$I39)-$V39)) -> 0 | X39: =IF(SUM($H39:$I39)=SUM($V39:$W39),"OK","검토") -> OK
A40: =IFERROR(VLOOKUP($C40,구분표!$A$2:$C$313,2,FALSE),"") -> 의회운영위원회 | B40: 대변인 | C40: 언론협력담당관 | D40: 본예산 | E40: 30 | F40: 방송을 이용한 홍보(자체/직접) - 방송을 이용한 홍보 | G40: 1900000 | H40: -300000 | J40: =G40+H40+I40 -> 1600000 | V40: =IF($U40<>"도비",IF($S40="국도비","직접입력",SUM($H40:$I40)),) -> -300000 | W40: =IF($U40="도비",SUM($H40:$I40),IF($S40="국도비","직접입력",SUM($H40:$I40)-$V40)) -> 0 | X40: =IF(SUM($H40:$I40)=SUM($V40:$W40),"OK","검토") -> OK
A41: =IFERROR(VLOOKUP($C41,구분표!$A$2:$C$313,2,FALSE),"") -> 의회운영위원회 | B41: 대변인 | C41: 언론협력담당관 | D41: 본예산 | E41: 30 | F41: 인터넷언론을 이용한 홍보(자체/직접) - 인터넷 언론을 이용한 홍보 | G41: 1038000 | H41: -100000 | J41: =G41+H41+I41 -> 938000 | V41: =IF($U41<>"도비",IF($S41="국도비","직접입력",SUM($H41:$I41)),) -> -100000 | W41: =IF($U41="도비",SUM($H41:$I41),IF($S41="국도비","직접입력",SUM($H41:$I41)-$V41)) -> 0 | X41: =IF(SUM($H41:$I41)=SUM($V41:$W41),"OK","검토") -> OK
A42: =IFERROR(VLOOKUP($C42,구분표!$A$2:$C$313,2,FALSE),"") -> 의회운영위원회 | B42: 대변인 | C42: 언론협력담당관 | D42: 본예산 | E42: 31 | F42: 여론수렴강화(자체/직접) - 통신 구독료 | G42: 400000 | I42: 220000 | J42: =G42+H42+I42 -> 620000 | V42: =IF($U42<>"도비",IF($S42="국도비","직접입력",SUM($H42:$I42)),) -> 220000 | W42: =IF($U42="도비",SUM($H42:$I42),IF($S42="국도비","직접입력",SUM($H42:$I42)-$V42)) -> 0 | X42: =IF(SUM($H42:$I42)=SUM($V42:$W42),"OK","검토") -> OK
A43: =IFERROR(VLOOKUP($C43,구분표!$A$2:$C$313,2,FALSE),"") -> 의회운영위원회 | B43: 대변인 | C43: 언론협력담당관 | D43: 본예산 | E43: 31 | F43: 국내외 언론인 팸투어(자체/직접) - 국내외 언론인 팸투어 | G43: 100000 | H43: -100000 | J43: =G43+H43+I43 -> 0
A44: =IFERROR(VLOOKUP($C44,구분표!$A$2:$C$313,2,FALSE),"") -> 의회운영위원회 | B44: =IFERROR(VLOOKUP($C44,구분표!$A$2:$C$313,3,FALSE),"") -> 소통기획관 | C44: 홍보미디어담당관 | D44: 본예산 | E44: 39 | F44: 모바일 전용 콘텐츠 제작(자체/직접) - 모바일 전용 콘텐츠 제작 | G44: 300000 | H44: -100000 | J44: =G44+H44+I44 -> 200000 | M44: =G44+K44+L44 -> 300000 | N44: =IF(AND((J44=0),(M44>0)),"O",IF(AND((H44<0),(J44-M44<0)),"O","X")) -> O | V44: =IF($U44<>"도비",IF($S44="국도비","직접입력",SUM($H44:$I44)),) -> -100000 | W44: =IF($U44="도비",SUM($H44:$I44),IF($S44="국도비","직접입력",SUM($H44:$I44)-$V44)) -> 0 | X44: =IF(SUM($H44:$I44)=SUM($V44:$W44),"OK","검토") -> OK | AA44: =IF($U44<>"도비",IF($S44="국도비","직접입력",SUM($K44:$L44)),) -> 0 | AB44: =IF($U44="도비",SUM(K44:L44),IF($S44="국도비","직접입력",SUM(K44:L44)-AA44)) -> 0 | AC44: =IF(SUM(K44:L44)=SUM(AA44:AB44),"OK","검토") -> OK | AE44: =IF(U44="","",IF(U44="도비","세입없음","직접입력")) | AG44: =IF(AE44="","",COUNTIF($AE$7:$AE$59,AE44)) | AH44: =IF(U44="","",IF(AND(U44="도비",AE44="세입없음"),"OK",IF(AND(U44<>"도비",AE44<>""),"OK","@@"))) | AJ44: {=IF(C44="","",INDEX(구분표!$I$2:$I$313, MATCH(1,(구분표!$E$2:$E$313='17년일출'!B44)*(구분표!$F$2:$F$313='17년일출'!C44)*(구분표!$G$2:$G$313='17년일출'!A44),0)))} -> 0108
A45: =IFERROR(VLOOKUP($C45,구분표!$A$2:$C$313,2,FALSE),"") -> 의회운영위원회 | B45: =IFERROR(VLOOKUP($C45,구분표!$A$2:$C$313,3,FALSE),"") -> 소통기획관 | C45: 홍보미디어담당관 | D45: 본예산 | E45: 39 | F45: 경기도 온라인 여론조사(자체/직접) - 경기도 온라인 여론조사 운영 | G45: 135000 | H45: -44000 | J45: =G45+H45+I45 -> 91000 | M45: =G45+K45+L45 -> 135000 | N45: =IF(AND((J45=0),(M45>0)),"O",IF(AND((H45<0),(J45-M45<0)),"O","X")) -> O | V45: =IF($U45<>"도비",IF($S45="국도비","직접입력",SUM($H45:$I45)),) -> -44000 | W45: =IF($U45="도비",SUM($H45:$I45),IF($S45="국도비","직접입력",SUM($H45:$I45)-$V45)) -> 0 | X45: =IF(SUM($H45:$I45)=SUM($V45:$W45),"OK","검토") -> OK | AA45: =IF($U45<>"도비",IF($S45="국도비","직접입력",SUM($K45:$L45)),) -> 0 | AB45: =IF($U45="도비",SUM(K45:L45),IF($S45="국도비","직접입력",SUM(K45:L45)-AA45)) -> 0 | AC45: =IF(SUM(K45:L45)=SUM(AA45:AB45),"OK","검토") -> OK | AE45: =IF(U45="","",IF(U45="도비","세입없음","직접입력")) | AG45: =IF(AE45="","",COUNTIF($AE$7:$AE$59,AE45)) | AH45: =IF(U45="","",IF(AND(U45="도비",AE45="세입없음"),"OK",IF(AND(U45<>"도비",AE45<>""),"OK","@@"))) | AJ45: {=IF(C45="","",INDEX(구분표!$I$2:$I$313, MATCH(1,(구분표!$E$2:$E$313='17년일출'!B45)*(구분표!$F$2:$F$313='17년일출'!C45)*(구분표!$G$2:$G$313='17년일출'!A45),0)))} -> 0108
A46: =IFERROR(VLOOKUP($C46,구분표!$A$2:$C$313,2,FALSE),"") -> 의회운영위원회 | B46: =IFERROR(VLOOKUP($C46,구분표!$A$2:$C$313,3,FALSE),"") -> 소통기획관 | C46: 홍보미디어담당관 | D46: 본예산 | E46: 39 | F46: 경기도 온라인 여론조사(자체/직접) - 문자서비스 사용료 | G46: 19800 | H46: -10800 | J46: =G46+H46+I46 -> 9000 | V46: =IF($U46<>"도비",IF($S46="국도비","직접입력",SUM($H46:$I46)),) -> -10800 | W46: =IF($U46="도비",SUM($H46:$I46),IF($S46="국도비","직접입력",SUM($H46:$I46)-$V46)) -> 0 | X46: =IF(SUM($H46:$I46)=SUM($V46:$W46),"OK","검토") -> OK
A47: =IFERROR(VLOOKUP($C47,구분표!$A$2:$C$313,2,FALSE),"") -> 의회운영위원회 | B47: =IFERROR(VLOOKUP($C47,구분표!$A$2:$C$313,3,FALSE),"") -> 소통기획관 | C47: 홍보미디어담당관 | D47: 본예산 | E47: 39 | F47: G-Life 발행(자체/직접) - G-Life 발행 | G47: 400000 | H47: -60000 | J47: =G47+H47+I47 -> 340000 | V47: =IF($U47<>"도비",IF($S47="국도비","직접입력",SUM($H47:$I47)),) -> -60000 | W47: =IF($U47="도비",SUM($H47:$I47),IF($S47="국도비","직접입력",SUM($H47:$I47)-$V47)) -> 0 | X47: =IF(SUM($H47:$I47)=SUM($V47:$W47),"OK","검토") -> OK
A48: =IFERROR(VLOOKUP($C48,구분표!$A$2:$C$313,2,FALSE),"") -> 의회운영위원회 | B48: =IFERROR(VLOOKUP($C48,구분표!$A$2:$C$313,3,FALSE),"") -> 소통기획관 | C48: 홍보미디어담당관 | D48: 본예산 | E48: 40 | F48: 경기도 뉴스포털 홈페이지 운영(자체/직접) - 경기도 뉴스포털 홈페이지 운영 | G48: 211845 | H48: -14845 | J48: =G48+H48+I48 -> 197000 | V48: =IF($U48<>"도비",IF($S48="국도비","직접입력",SUM($H48:$I48)),) -> -14845 | W48: =IF($U48="도비",SUM($H48:$I48),IF($S48="국도비","직접입력",SUM($H48:$I48)-$V48)) -> 0 | X48: =IF(SUM($H48:$I48)=SUM($V48:$W48),"OK","검토") -> OK
A49: =IFERROR(VLOOKUP($C49,구분표!$A$2:$C$313,2,FALSE),"") -> 의회운영위원회 | B49: =IFERROR(VLOOKUP($C49,구분표!$A$2:$C$313,3,FALSE),"") -> 소통기획관 | C49: 홍보콘텐츠담당관 | D49: 본예산 | E49: 42 | F49: 경기도 해외홍보(자체/직접) - 경기도 해외홍보 | G49: 1008000 | H49: -507400 | J49: =G49+H49+I49 -> 500600 | V49: =IF($U49<>"도비",IF($S49="국도비","직접입력",SUM($H49:$I49)),) -> -507400 | W49: =IF($U49="도비",SUM($H49:$I49),IF($S49="국도비","직접입력",SUM($H49:$I49)-$V49)) -> 0 | X49: =IF(SUM($H49:$I49)=SUM($V49:$W49),"OK","검토") -> OK
A50: =IFERROR(VLOOKUP($C50,구분표!$A$2:$C$313,2,FALSE),"") -> 의회운영위원회 | B50: =IFERROR(VLOOKUP($C50,구분표!$A$2:$C$313,3,FALSE),"") -> 소통기획관 | C50: 홍보콘텐츠담당관 | D50: 본예산 | E50: 42 | F50: 도정정책홍보(자체/직접) - 기획 홍보비 | G50: 1206000 | H50: -380000 | J50: =G50+H50+I50 -> 826000 | V50: =IF($U50<>"도비",IF($S50="국도비","직접입력",SUM($H50:$I50)),) -> -380000 | W50: =IF($U50="도비",SUM($H50:$I50),IF($S50="국도비","직접입력",SUM($H50:$I50)-$V50)) -> 0 | X50: =IF(SUM($H50:$I50)=SUM($V50:$W50),"OK","검토") -> OK
A51: =IFERROR(VLOOKUP($C51,구분표!$A$2:$C$313,2,FALSE),"") -> 의회운영위원회 | B51: =IFERROR(VLOOKUP($C51,구분표!$A$2:$C$313,3,FALSE),"") -> 소통기획관 | C51: 홍보콘텐츠담당관 | D51: 본예산 | E51: 42 | F51: 경기도 브랜드 홍보(자체/직접) - 생활개선 공공 캠페인 | G51: 300000 | H51: -200000 | J51: =G51+H51+I51 -> 100000 | V51: =IF($U51<>"도비",IF($S51="국도비","직접입력",SUM($H51:$I51)),) -> -200000 | W51: =IF($U51="도비",SUM($H51:$I51),IF($S51="국도비","직접입력",SUM($H51:$I51)-$V51)) -> 0 | X51: =IF(SUM($H51:$I51)=SUM($V51:$W51),"OK","검토") -> OK
A52: =IFERROR(VLOOKUP($C52,구분표!$A$2:$C$313,2,FALSE),"") -> 의회운영위원회 | B52: =IFERROR(VLOOKUP($C52,구분표!$A$2:$C$313,3,FALSE),"") -> 소통기획관 | C52: 홍보콘텐츠담당관 | D52: 본예산 | E52: 42 | F52: 경기도 브랜드 홍보(자체/직접) - 홍보이벤트 | G52: 590000 | H52: -32000 | J52: =G52+H52+I52 -> 558000 | V52: =IF($U52<>"도비",IF($S52="국도비","직접입력",SUM($H52:$I52)),) -> -32000 | W52: =IF($U52="도비",SUM($H52:$I52),IF($S52="국도비","직접입력",SUM($H52:$I52)-$V52)) -> 0 | X52: =IF(SUM($H52:$I52)=SUM($V52:$W52),"OK","검토") -> OK
A53: =IFERROR(VLOOKUP($C53,구분표!$A$2:$C$313,2,FALSE),"") -> 의회운영위원회 | B53: =IFERROR(VLOOKUP($C53,구분표!$A$2:$C$313,3,FALSE),"") -> 소통기획관 | C53: 홍보콘텐츠담당관 | D53: 본예산 | E53: 43 | F53: 경기도 브랜드 개발(자체/직접) - 경기도 브랜드 개발 | G53: 300000 | H53: -100000 | J53: =G53+H53+I53 -> 200000 | V53: =IF($U53<>"도비",IF($S53="국도비","직접입력",SUM($H53:$I53)),) -> -100000 | W53: =IF($U53="도비",SUM($H53:$I53),IF($S53="국도비","직접입력",SUM($H53:$I53)-$V53)) -> 0 | X53: =IF(SUM($H53:$I53)=SUM($V53:$W53),"OK","검토") -> OK
A54: =IFERROR(VLOOKUP($C54,구분표!$A$2:$C$313,2,FALSE),"") -> 의회운영위원회 | B54: 연정협력국 | C54: 연정협력과 | D54: 본예산 | E54: 48 | F54: 경기연정 효율적 지원체계 구축(자체/직접) - 경기연정 토론회 및 워크숍 등 | G54: 35000 | I54: 65000 | J54: =G54+H54+I54 -> 100000
A55: =IFERROR(VLOOKUP($C55,구분표!$A$2:$C$313,2,FALSE),"") -> 의회운영위원회 | B55: 연정협력국 | C55: 대외협력과 | D55: 본예산 | E55: 50 | F55: 대외협력 강화(자체/직접) - 도정정책 협력추진 | G55: 9000 | I55: 11000 | J55: =G55+H55+I55 -> 20000
A56: =IFERROR(VLOOKUP($C56,구분표!$A$2:$C$313,2,FALSE),"") -> 의회운영위원회 | B56: 연정협력국 | C56: 대외협력과 | D56: 본예산 | E56: 50 | F56: 대외협력 강화(자체/직접) - 의회협력 국외업무 수행 | G56: 2000 | I56: 8000 | J56: =G56+H56+I56 -> 10000
A57: =IFERROR(VLOOKUP($C57,구분표!$A$2:$C$313,2,FALSE),"") -> 의회운영위원회 | B57: 연정협력국 | C57: 서울사무소 | D57: 본예산 | E57: 52 | F57: 기본경비 -기관운영기본경비(사무관리비) | G57: 18333 | I57: 3000 | J57: =G57+H57+I57 -> 21333 | O57: 차량임차료
A58: =IFERROR(VLOOKUP($C58,구분표!$A$2:$C$313,2,FALSE),"") -> 의회운영위원회 | B58: =IFERROR(VLOOKUP($C58,구분표!$A$2:$C$313,3,FALSE),"") -> 연정협력국 | C58: 서울사무소 | D58: 본예산 | E58: 52 | F58: 기본경비 -기관운영기본경비(공공운영비) | G58: 19000 | I58: 1000 | J58: =G58+H58+I58 -> 20000 | M58: =G58+K58+L58 -> 19000 | N58: =IF(AND((J58=0),(M58>0)),"O",IF(AND((H58<0),(J58-M58<0)),"O","X")) -> X | O58: 차량임차에 따른 유류비 | V58: =IF($U58<>"도비",IF($S58="국도비","직접입력",SUM($H58:$I58)),) -> 1000 | W58: =IF($U58="도비",SUM($H58:$I58),IF($S58="국도비","직접입력",SUM($H58:$I58)-$V58)) -> 0 | X58: =IF(SUM($H58:$I58)=SUM($V58:$W58),"OK","검토") -> OK | AA58: =IF($U58<>"도비",IF($S58="국도비","직접입력",SUM($K58:$L58)),) -> 0 | AB58: =IF($U58="도비",SUM(K58:L58),IF($S58="국도비","직접입력",SUM(K58:L58)-AA58)) -> 0 | AC58: =IF(SUM(K58:L58)=SUM(AA58:AB58),"OK","검토") -> OK | AE58: =IF(U58="","",IF(U58="도비","세입없음","직접입력")) | AG58: =IF(AE58="","",COUNTIF($AE$7:$AE$59,AE58)) | AH58: =IF(U58="","",IF(AND(U58="도비",AE58="세입없음"),"OK",IF(AND(U58<>"도비",AE58<>""),"OK","@@"))) | AJ58: {=IF(C58="","",INDEX(구분표!$I$2:$I$313, MATCH(1,(구분표!$E$2:$E$313='17년일출'!B58)*(구분표!$F$2:$F$313='17년일출'!C58)*(구분표!$G$2:$G$313='17년일출'!A58),0)))} -> 0112
A59: =IFERROR(VLOOKUP($C59,구분표!$A$2:$C$313,2,FALSE),"") -> 의회운영위원회 | B59: =IFERROR(VLOOKUP($C59,구분표!$A$2:$C$313,3,FALSE),"") -> 연정협력국 | C59: 서울사무소 | D59: 본예산 | E59: 51 | F59: 현안법률 체계적 대응체계 유지 - 도정협력 국외업무 수행 | G59: 2000 | I59: 2000 | J59: =G59+H59+I59 -> 4000 | M59: =G59+K59+L59 -> 2000 | N59: =IF(AND((J59=0),(M59>0)),"O",IF(AND((H59<0),(J59-M59<0)),"O","X")) -> X | V59: =IF($U59<>"도비",IF($S59="국도비","직접입력",SUM($H59:$I59)),) -> 2000 | W59: =IF($U59="도비",SUM($H59:$I59),IF($S59="국도비","직접입력",SUM($H59:$I59)-$V59)) -> 0 | X59: =IF(SUM($H59:$I59)=SUM($V59:$W59),"OK","검토") -> OK | AA59: =IF($U59<>"도비",IF($S59="국도비","직접입력",SUM($K59:$L59)),) -> 0 | AB59: =IF($U59="도비",SUM(K59:L59),IF($S59="국도비","직접입력",SUM(K59:L59)-AA59)) -> 0 | AC59: =IF(SUM(K59:L59)=SUM(AA59:AB59),"OK","검토") -> OK | AE59: =IF(U59="","",IF(U59="도비","세입없음","직접입력")) | AG59: =IF(AE59="","",COUNTIF($AE$7:$AE$59,AE59)) | AH59: =IF(U59="","",IF(AND(U59="도비",AE59="세입없음"),"OK",IF(AND(U59<>"도비",AE59<>""),"OK","@@"))) | AJ59: {=IF(C59="","",INDEX(구분표!$I$2:$I$313, MATCH(1,(구분표!$E$2:$E$313='17년일출'!B59)*(구분표!$F$2:$F$313='17년일출'!C59)*(구분표!$G$2:$G$313='17년일출'!A59),0)))} -> 0112

Sheet 17년특입
A1: 2017년도 경기도 특별회계 세입 예산 조정(안)
A2: □ 세입예산 | V2: 세입=세출 | AA2: 세입=세출
Q3: (단위 : 천원) | V3: =IF(V6='17년일출'!V6,"OK","@@") -> @@ | X3: =IF(COUNTIF(X6:X39,"검토")>0,"@@","OK") -> OK | AA3: =IF(AA6='17년일출'!AA6,"OK","@@") -> OK | AC3: =IF(COUNTIF(AC6:AC39,"검토")>0,"@@","OK") -> OK
A4: 위원회명 | B4: 실국명 | C4: 부서명 | D4: 편성 구분 | E4: 예산안 페이지 | F4: 사업명 | G4: 예산안 (가) | H4: 상임위 예산안 조정액(나) | J4: 상임위 조정 예산안 (다=가+나) | K4: 예결위 예산안 조정액(라) | M4: 예결위 조정 예산안 (마=가+라) | N4: 동의 대상 | O4: 상임위 변경사유 (심의 참고자료) | P4: 비고 (상임위 부대의견) | Q4: 비고 (부대의견) | S4: 국도비 등 여부 | U4: 재원 | V4: 상임위 재원별 증감액 | Z4: 재원 | AA4: 예결위 재원별 증감액 | AE4: 세입번호 | AG4: 실국부서 코드 | AI4: 추가 내시 등 | AK4: 상임위 세입 검증 | AO4: 예결위 세입 검증
H5: 감액 | I5: 증액 | K5: 감액 | L5: 증액 | V5: 국비 등 | W5: 도비 | X5: 검증 | AA5: 국비 등 | AB5: 도비 | AC5: 검증 | AK5: 국비 증감액 | AL5: 건수 | AM5: 검증 | AO5: 국비 증감액 | AP5: 건수 | AQ5: 검증
A6: 합 계 | G6: =SUBTOTAL(9,G7:G39)/2 -> 0 | H6: =SUBTOTAL(9,H7:H39)/2 -> 0 | I6: =SUBTOTAL(9,I7:I39)/2 -> 0 | J6: =SUBTOTAL(9,J7:J39)/2 -> 0 | K6: =SUBTOTAL(9,K7:K39)/2 -> 0 | L6: =SUBTOTAL(9,L7:L39)/2 -> 0 | M6: =SUBTOTAL(9,M7:M39)/2 -> 0 | N6: =SUBTOTAL(9,N7:N39)/2 -> 0 | Q6: =SUBTOTAL(9,Q7:Q39)/2 -> 0 | V6: =SUBTOTAL(9,V7:V39) -> 0 | W6: =SUBTOTAL(9,W7:W39) -> 0 | X6: =IF(SUM($H6:$I6)=SUM($V6:$W6),"OK","검토") -> OK | AA6: =SUBTOTAL(9,AA7:AA39) -> 0 | AB6: =SUBTOTAL(9,AB7:AB39) -> 0 | AC6: =IF(SUM($H6:$I6)=SUM($V6:$W6),"OK","검토") -> OK | AK6: =SUBTOTAL(9,AK7:AK39) -> 0 | AL6: =SUBTOTAL(9,AL7:AL39) -> 0 | AM6: =IF(COUNTIF(AM7:AM39,"@@")>0,"@@","OK") -> OK | AO6: =SUBTOTAL(9,AO7:AO39) -> 0 | AP6: =SUBTOTAL(9,AP7:AP39) -> 0 | AQ6: =IF(COUNTIF(AQ7:AQ39,"@@")>0,"@@","OK") -> OK
A7: ( 특별회계) | G7: =SUM(G8:G17) -> 0 | H7: =SUM(H8:H17) -> 0 | I7: =SUM(I8:I17) -> 0 | J7: =SUM(J8:J17) -> 0 | K7: =SUM(K8:K17) -> 0 | L7: =SUM(L8:L17) -> 0 | M7: =SUM(M8:M17) -> 0 | V7: =IF($U7<>"도비",IF($S7="국도비","직접입력",SUM($H7:$I7)),) -> 0 | W7: =IF($U7="도비",SUM($H7:$I7),IF($S7="국도비","직접입력",SUM($H7:$I7)-$V7)) -> 0 | X7: =IF(SUM($H7:$I7)=SUM($V7:$W7),"OK","검토") -> OK | AA7: =IF($U7<>"도비",IF($S7="국도비","직접입력",SUM($K7:$L7)),) -> 0 | AB7: =IF($U7="도비",SUM(K7:L7),IF($S7="국도비","직접입력",SUM(K7:L7)-AA7)) -> 0 | AC7: =IF(SUM(K7:L7)=SUM(AA7:AB7),"OK","검토") -> OK | AE7: =IF(AG7="","",IF(U7="도비","세입없음",CONCATENATE(AG7,"-",COUNTIF($AG$7:AG7,AG7)))) | AG7: {=IF(C7="","",INDEX(구분표!$I$2:$I$313, MATCH(1,(구분표!$E$2:$E$313='17년특입'!B7)*(구분표!$F$2:$F$313='17년특입'!C7)*(구분표!$G$2:$G$313='17년특입'!A7),0)))} | AK7: =IF(AE7="",0,SUMIFS('17년일출'!$V$6:$V$59,'17년일출'!$AE$6:$AE$59,'17년특입'!$AE7)) -> 0 | AL7: =IF(AE7="","",COUNTIFS('17년일출'!$AE$6:$AE$59,'17년특입'!AE7)) | AM7: =IF(V7=AK7,"OK","@@") -> OK | AO7: =IF(AE7="",0,SUMIFS('17년일출'!$AA$6:$AA$59,'17년일출'!$AE$6:$AE$59,'17년특입'!$AE7)) -> 0 | AP7: =IF(AE7="","",COUNTIFS('17년일출'!$AE$6:$AE$59,AE7)) | AQ7: =IF(AA7=AO7,"OK","@@") -> OK
A8: =IFERROR(VLOOKUP($C8,구분표!$A$2:$C$313,2,FALSE),"") | B8: =IFERROR(VLOOKUP($C8,구분표!$A$2:$C$313,3,FALSE),"") | D8: 본예산 | J8: =SUM(G8:I8) -> 0 | M8: =SUM(G8,K8,L8) -> 0 | N8: =IF(AND((J8=0),(M8>0)),"O",IF(AND((H8<0),(J8-M8<0)),"O","X")) -> X | V8: =IF($U8<>"도비",IF($S8="국도비","직접입력",SUM($H8:$I8)),) -> 0 | W8: =IF($U8="도비",SUM($H8:$I8),IF($S8="국도비","직접입력",SUM($H8:$I8)-$V8)) -> 0 | X8: =IF(SUM($H8:$I8)=SUM($V8:$W8),"OK","검토") -> OK | AA8: =IF($U8<>"도비",IF($S8="국도비","직접입력",SUM($K8:$L8)),) -> 0 | AB8: =IF($U8="도비",SUM(K8:L8),IF($S8="국도비","직접입력",SUM(K8:L8)-AA8)) -> 0 | AC8: =IF(SUM(K8:L8)=SUM(AA8:AB8),"OK","검토") -> OK | AE8: =IF(AG8="","",IF(U8="도비","세입없음",CONCATENATE(AG8,"-",COUNTIF($AG$7:AG8,AG8)))) | AG8: {=IF(C8="","",INDEX(구분표!$I$2:$I$313, MATCH(1,(구분표!$E$2:$E$313='17년특입'!B8)*(구분표!$F$2:$F$313='17년특입'!C8)*(구분표!$G$2:$G$313='17년특입'!A8),0)))} | AK8: =IF(AE8="",0,SUMIFS('17년일출'!$V$6:$V$59,'17년일출'!$AE$6:$AE$59,'17년특입'!$AE8)) -> 0 | AL8: =IF(AE8="","",COUNTIFS('17년일출'!$AE$6:$AE$59,'17년특입'!AE8)) | AM8: =IF(V8=AK8,"OK","@@") -> OK | AO8: =IF(AE8="",0,SUMIFS('17년일출'!$AA$6:$AA$59,'17년일출'!$AE$6:$AE$59,'17년특입'!$AE8)) -> 0 | AP8: =IF(AE8="","",COUNTIFS('17년일출'!$AE$6:$AE$59,AE8)) | AQ8: =IF(AA8=AO8,"OK","@@") -> OK
A9: =IFERROR(VLOOKUP($C9,구분표!$A$2:$C$313,2,FALSE),"") | B9: =IFERROR(VLOOKUP($C9,구분표!$A$2:$C$313,3,FALSE),"") | D9: 신규 | J9: =SUM(G9:I9) -> 0 | M9: =SUM(G9,K9,L9) -> 0 | N9: =IF(AND((J9=0),(M9>0)),"O",IF(AND((H9<0),(J9-M9<0)),"O","X")) -> X | V9: =IF($U9<>"도비",IF($S9="국도비","직접입력",SUM($H9:$I9)),) -> 0 | W9: =IF($U9="도비",SUM($H9:$I9),IF($S9="국도비","직접입력",SUM($H9:$I9)-$V9)) -> 0 | X9: =IF(SUM($H9:$I9)=SUM($V9:$W9),"OK","검토") -> OK | AA9: =IF($U9<>"도비",IF($S9="국도비","직접입력",SUM($K9:$L9)),) -> 0 | AB9: =IF($U9="도비",SUM(K9:L9),IF($S9="국도비","직접입력",SUM(K9:L9)-AA9)) -> 0 | AC9: =IF(SUM(K9:L9)=SUM(AA9:AB9),"OK","검토") -> OK | AE9: =IF(AG9="","",IF(U9="도비","세입없음",CONCATENATE(AG9,"-",COUNTIF($AG$7:AG9,AG9)))) | AG9: {=IF(C9="","",INDEX(구분표!$I$2:$I$313, MATCH(1,(구분표!$E$2:$E$313='17년특입'!B9)*(구분표!$F$2:$F$313='17년특입'!C9)*(구분표!$G$2:$G$313='17년특입'!A9),0)))} | AK9: =IF(AE9="",0,SUMIFS('17년일출'!$V$6:$V$59,'17년일출'!$AE$6:$AE$59,'17년특입'!$AE9)) -> 0 | AL9: =IF(AE9="","",COUNTIFS('17년일출'!$AE$6:$AE$59,'17년특입'!AE9)) | AM9: =IF(V9=AK9,"OK","@@") -> OK | AO9: =IF(AE9="",0,SUMIFS('17년일출'!$AA$6:$AA$59,'17년일출'!$AE$6:$AE$59,'17년특입'!$AE9)) -> 0 | AP9: =IF(AE9="","",COUNTIFS('17년일출'!$AE$6:$AE$59,AE9)) | AQ9: =IF(AA9=AO9,"OK","@@") -> OK
A10: =IFERROR(VLOOKUP($C10,구분표!$A$2:$C$313,2,FALSE),"") | B10: =IFERROR(VLOOKUP($C10,구분표!$A$2:$C$313,3,FALSE),"") | J10: =SUM(G10:I10) -> 0 | M10: =SUM(G10,K10,L10) -> 0 | N10: =IF(AND((J10=0),(M10>0)),"O",IF(AND((H10<0),(J10-M10<0)),"O","X")) -> X | V10: =IF($U10<>"도비",IF($S10="국도비","직접입력",SUM($H10:$I10)),) -> 0 | W10: =IF($U10="도비",SUM($H10:$I10),IF($S10="국도비","직접입력",SUM($H10:$I10)-$V10)) -> 0 | X10: =IF(SUM($H10:$I10)=SUM($V10:$W10),"OK","검토") -> OK | AA10: =IF($U10<>"도비",IF($S10="국도비","직접입력",SUM($K10:$L10)),) -> 0 | AB10: =IF($U10="도비",SUM(K10:L10),IF($S10="국도비","직접입력",SUM(K10:L10)-AA10)) -> 0 | AC10: =IF(SUM(K10:L10)=SUM(AA10:AB10),"OK","검토") -> OK | AE10: =IF(AG10="","",IF(U10="도비","세입없음",CONCATENATE(AG10,"-",COUNTIF($AG$7:AG10,AG10)))) | AG10: {=IF(C10="","",INDEX(구분표!$I$2:$I$313, MATCH(1,(구분표!$E$2:$E$313='17년특입'!B10)*(구분표!$F$2:$F$313='17년특입'!C10)*(구분표!$G$2:$G$313='17년특입'!A10),0)))} | AK10: =IF(AE10="",0,SUMIFS('17년일출'!$V$6:$V$59,'17년일출'!$AE$6:$AE$59,'17년특입'!$AE10)) -> 0 | AL10: =IF(AE10="","",COUNTIFS('17년일출'!$AE$6:$AE$59,'17년특입'!AE10)) | AM10: =IF(V10=AK10,"OK","@@") -> OK | AO10: =IF(AE10="",0,SUMIFS('17년일출'!$AA$6:$AA$59,'17년일출'!$AE$6:$AE$59,'17년특입'!$AE10)) -> 0 | AP10: =IF(AE10="","",COUNTIFS('17년일출'!$AE$6:$AE$59,AE10)) | AQ10: =IF(AA10=AO10,"OK","@@") -> OK
A11: =IFERROR(VLOOKUP($C11,구분표!$A$2:$C$313,2,FALSE),"") | B11: =IFERROR(VLOOKUP($C11,구분표!$A$2:$C$313,3,FALSE),"") | J11: =SUM(G11:I11) -> 0 | M11: =SUM(G11,K11,L11) -> 0 | N11: =IF(AND((J11=0),(M11>0)),"O",IF(AND((H11<0),(J11-M11<0)),"O","X")) -> X | V11: =IF($U11<>"도비",IF($S11="국도비","직접입력",SUM($H11:$I11)),) -> 0 | W11: =IF($U11="도비",SUM($H11:$I11),IF($S11="국도비","직접입력",SUM($H11:$I11)-$V11)) -> 0 | X11: =IF(SUM($H11:$I11)=SUM($V11:$W11),"OK","검토") -> OK | AA11: =IF($U11<>"도비",IF($S11="국도비","직접입력",SUM($K11:$L11)),) -> 0 | AB11: =IF($U11="도비",SUM(K11:L11),IF($S11="국도비","직접입력",SUM(K11:L11)-AA11)) -> 0 | AC11: =IF(SUM(K11:L11)=SUM(AA11:AB11),"OK","검토") -> OK | AE11: =IF(AG11="","",IF(U11="도비","세입없음",CONCATENATE(AG11,"-",COUNTIF($AG$7:AG11,AG11)))) | AG11: {=IF(C11="","",INDEX(구분표!$I$2:$I$313, MATCH(1,(구분표!$E$2:$E$313='17년특입'!B11)*(구분표!$F$2:$F$313='17년특입'!C11)*(구분표!$G$2:$G$313='17년특입'!A11),0)))} | AK11: =IF(AE11="",0,SUMIFS('17년일출'!$V$6:$V$59,'17년일출'!$AE$6:$AE$59,'17년특입'!$AE11)) -> 0 | AL11: =IF(AE11="","",COUNTIFS('17년일출'!$AE$6:$AE$59,'17년특입'!AE11)) | AM11: =IF(V11=AK11,"OK","@@") -> OK | AO11: =IF(AE11="",0,SUMIFS('17년일출'!$AA$6:$AA$59,'17년일출'!$AE$6:$AE$59,'17년특입'!$AE11)) -> 0 | AP11: =IF(AE11="","",COUNTIFS('17년일출'!$AE$6:$AE$59,AE11)) | AQ11: =IF(AA11=AO11,"OK","@@") -> OK
A12: =IFERROR(VLOOKUP($C12,구분표!$A$2:$C$313,2,FALSE),"") | B12: =IFERROR(VLOOKUP($C12,구분표!$A$2:$C$313,3,FALSE),"") | J12: =SUM(G12:I12) -> 0 | M12: =SUM(G12,K12,L12) -> 0 | N12: =IF(AND((J12=0),(M12>0)),"O",IF(AND((H12<0),(J12-M12<0)),"O","X")) -> X | V12: =IF($U12<>"도비",IF($S12="국도비","직접입력",SUM($H12:$I12)),) -> 0 | W12: =IF($U12="도비",SUM($H12:$I12),IF($S12="국도비","직접입력",SUM($H12:$I12)-$V12)) -> 0 | X12: =IF(SUM($H12:$I12)=SUM($V12:$W12),"OK","검토") -> OK | AA12: =IF($U12<>"도비",IF($S12="국도비","직접입력",SUM($K12:$L12)),) -> 0 | AB12: =IF($U12="도비",SUM(K12:L12),IF($S12="국도비","직접입력",SUM(K12:L12)-AA12)) -> 0 | AC12: =IF(SUM(K12:L12)=SUM(AA12:AB12),"OK","검토") -> OK | AE12: =IF(AG12="","",IF(U12="도비","세입없음",CONCATENATE(AG12,"-",COUNTIF($AG$7:AG12,AG12)))) | AG12: {=IF(C12="","",INDEX(구분표!$I$2:$I$313, MATCH(1,(구분표!$E$2:$E$313='17년특입'!B12)*(구분표!$F$2:$F$313='17년특입'!C12)*(구분표!$G$2:$G$313='17년특입'!A12),0)))} | AK12: =IF(AE12="",0,SUMIFS('17년일출'!$V$6:$V$59,'17년일출'!$AE$6:$AE$59,'17년특입'!$AE12)) -> 0 | AL12: =IF(AE12="","",COUNTIFS('17년일출'!$AE$6:$AE$59,'17년특입'!AE12)) | AM12: =IF(V12=AK12,"OK","@@") -> OK | AO12: =IF(AE12="",0,SUMIFS('17년일출'!$AA$6:$AA$59,'17년일출'!$AE$6:$AE$59,'17년특입'!$AE12)) -> 0 | AP12: =IF(AE12="","",COUNTIFS('17년일출'!$AE$6:$AE$59,AE12)) | AQ12: =IF(AA12=AO12,"OK","@@") -> OK
A13: =IFERROR(VLOOKUP($C13,구분표!$A$2:$C$313,2,FALSE),"") | B13: =IFERROR(VLOOKUP($C13,구분표!$A$2:$C$313,3,FALSE),"") | J13: =SUM(G13:I13) -> 0 | M13: =SUM(G13,K13,L13) -> 0 | N13: =IF(AND((J13=0),(M13>0)),"O",IF(AND((H13<0),(J13-M13<0)),"O","X")) -> X | V13: =IF($U13<>"도비",IF($S13="국도비","직접입력",SUM($H13:$I13)),) -> 0 | W13: =IF($U13="도비",SUM($H13:$I13),IF($S13="국도비","직접입력",SUM($H13:$I13)-$V13)) -> 0 | X13: =IF(SUM($H13:$I13)=SUM($V13:$W13),"OK","검토") -> OK | AA13: =IF($U13<>"도비",IF($S13="국도비","직접입력",SUM($K13:$L13)),) -> 0 | AB13: =IF($U13="도비",SUM(K13:L13),IF($S13="국도비","직접입력",SUM(K13:L13)-AA13)) -> 0 | AC13: =IF(SUM(K13:L13)=SUM(AA13:AB13),"OK","검토") -> OK | AE13: =IF(AG13="","",IF(U13="도비","세입없음",CONCATENATE(AG13,"-",COUNTIF($AG$7:AG13,AG13)))) | AG13: {=IF(C13="","",INDEX(구분표!$I$2:$I$313, MATCH(1,(구분표!$E$2:$E$313='17년특입'!B13)*(구분표!$F$2:$F$313='17년특입'!C13)*(구분표!$G$2:$G$313='17년특입'!A13),0)))} | AK13: =IF(AE13="",0,SUMIFS('17년일출'!$V$6:$V$59,'17년일출'!$AE$6:$AE$59,'17년특입'!$AE13)) -> 0 | AL13: =IF(AE13="","",COUNTIFS('17년일출'!$AE$6:$AE$59,'17년특입'!AE13)) | AM13: =IF(V13=AK13,"OK","@@") -> OK | AO13: =IF(AE13="",0,SUMIFS('17년일출'!$AA$6:$AA$59,'17년일출'!$AE$6:$AE$59,'17년특입'!$AE13)) -> 0 | AP13: =IF(AE13="","",COUNTIFS('17년일출'!$AE$6:$AE$59,AE13)) | AQ13: =IF(AA13=AO13,"OK","@@") -> OK
A14: =IFERROR(VLOOKUP($C14,구분표!$A$2:$C$313,2,FALSE),"") | B14: =IFERROR(VLOOKUP($C14,구분표!$A$2:$C$313,3,FALSE),"") | J14: =SUM(G14:I14) -> 0 | M14: =SUM(G14,K14,L14) -> 0 | N14: =IF(AND((J14=0),(M14>0)),"O",IF(AND((H14<0),(J14-M14<0)),"O","X")) -> X | V14: =IF($U14<>"도비",IF($S14="국도비","직접입력",SUM($H14:$I14)),) -> 0 | W14: =IF($U14="도비",SUM($H14:$I14),IF($S14="국도비","직접입력",SUM($H14:$I14)-$V14)) -> 0 | X14: =IF(SUM($H14:$I14)=SUM($V14:$W14),"OK","검토") -> OK | AA14: =IF($U14<>"도비",IF($S14="국도비","직접입력",SUM($K14:$L14)),) -> 0 | AB14: =IF($U14="도비",SUM(K14:L14),IF($S14="국도비","직접입력",SUM(K14:L14)-AA14)) -> 0 | AC14: =IF(SUM(K14:L14)=SUM(AA14:AB14),"OK","검토") -> OK | AE14: =IF(AG14="","",IF(U14="도비","세입없음",CONCATENATE(AG14,"-",COUNTIF($AG$7:AG14,AG14)))) | AG14: {=IF(C14="","",INDEX(구분표!$I$2:$I$313, MATCH(1,(구분표!$E$2:$E$313='17년특입'!B14)*(구분표!$F$2:$F$313='17년특입'!C14)*(구분표!$G$2:$G$313='17년특입'!A14),0)))} | AK14: =IF(AE14="",0,SUMIFS('17년일출'!$V$6:$V$59,'17년일출'!$AE$6:$AE$59,'17년특입'!$AE14)) -> 0 | AL14: =IF(AE14="","",COUNTIFS('17년일출'!$AE$6:$AE$59,'17년특입'!AE14)) | AM14: =IF(V14=AK14,"OK","@@") -> OK | AO14: =IF(AE14="",0,SUMIFS('17년일출'!$AA$6:$AA$59,'17년일출'!$AE$6:$AE$59,'17년특입'!$AE14)) -> 0 | AP14: =IF(AE14="","",COUNTIFS('17년일출'!$AE$6:$AE$59,AE14)) | AQ14: =IF(AA14=AO14,"OK","@@") -> OK
A15: =IFERROR(VLOOKUP($C15,구분표!$A$2:$C$313,2,FALSE),"") | B15: =IFERROR(VLOOKUP($C15,구분표!$A$2:$C$313,3,FALSE),"") | J15: =SUM(G15:I15) -> 0 | M15: =SUM(G15,K15,L15) -> 0 | N15: =IF(AND((J15=0),(M15>0)),"O",IF(AND((H15<0),(J15-M15<0)),"O","X")) -> X | V15: =IF($U15<>"도비",IF($S15="국도비","직접입력",SUM($H15:$I15)),) -> 0 | W15: =IF($U15="도비",SUM($H15:$I15),IF($S15="국도비","직접입력",SUM($H15:$I15)-$V15)) -> 0 | X15: =IF(SUM($H15:$I15)=SUM($V15:$W15),"OK","검토") -> OK | AA15: =IF($U15<>"도비",IF($S15="국도비","직접입력",SUM($K15:$L15)),) -> 0 | AB15: =IF($U15="도비",SUM(K15:L15),IF($S15="국도비","직접입력",SUM(K15:L15)-AA15)) -> 0 | AC15: =IF(SUM(K15:L15)=SUM(AA15:AB15),"OK","검토") -> OK | AE15: =IF(AG15="","",IF(U15="도비","세입없음",CONCATENATE(AG15,"-",COUNTIF($AG$7:AG15,AG15)))) | AG15: {=IF(C15="","",INDEX(구분표!$I$2:$I$313, MATCH(1,(구분표!$E$2:$E$313='17년특입'!B15)*(구분표!$F$2:$F$313='17년특입'!C15)*(구분표!$G$2:$G$313='17년특입'!A15),0)))} | AK15: =IF(AE15="",0,SUMIFS('17년일출'!$V$6:$V$59,'17년일출'!$AE$6:$AE$59,'17년특입'!$AE15)) -> 0 | AL15: =IF(AE15="","",COUNTIFS('17년일출'!$AE$6:$AE$59,'17년특입'!AE15)) | AM15: =IF(V15=AK15,"OK","@@") -> OK | AO15: =IF(AE15="",0,SUMIFS('17년일출'!$AA$6:$AA$59,'17년일출'!$AE$6:$AE$59,'17년특입'!$AE15)) -> 0 | AP15: =IF(AE15="","",COUNTIFS('17년일출'!$AE$6:$AE$59,AE15)) | AQ15: =IF(AA15=AO15,"OK","@@") -> OK
A16: =IFERROR(VLOOKUP($C16,구분표!$A$2:$C$313,2,FALSE),"") | B16: =IFERROR(VLOOKUP($C16,구분표!$A$2:$C$313,3,FALSE),"") | J16: =SUM(G16:I16) -> 0 | M16: =SUM(G16,K16,L16) -> 0 | N16: =IF(AND((J16=0),(M16>0)),"O",IF(AND((H16<0),(J16-M16<0)),"O","X")) -> X | V16: =IF($U16<>"도비",IF($S16="국도비","직접입력",SUM($H16:$I16)),) -> 0 | W16: =IF($U16="도비",SUM($H16:$I16),IF($S16="국도비","직접입력",SUM($H16:$I16)-$V16)) -> 0 | X16: =IF(SUM($H16:$I16)=SUM($V16:$W16),"OK","검토") -> OK | AA16: =IF($U16<>"도비",IF($S16="국도비","직접입력",SUM($K16:$L16)),) -> 0 | AB16: =IF($U16="도비",SUM(K16:L16),IF($S16="국도비","직접입력",SUM(K16:L16)-AA16)) -> 0 | AC16: =IF(SUM(K16:L16)=SUM(AA16:AB16),"OK","검토") -> OK | AE16: =IF(AG16="","",IF(U16="도비","세입없음",CONCATENATE(AG16,"-",COUNTIF($AG$7:AG16,AG16)))) | AG16: {=IF(C16="","",INDEX(구분표!$I$2:$I$313, MATCH(1,(구분표!$E$2:$E$313='17년특입'!B16)*(구분표!$F$2:$F$313='17년특입'!C16)*(구분표!$G$2:$G$313='17년특입'!A16),0)))} | AK16: =IF(AE16="",0,SUMIFS('17년일출'!$V$6:$V$59,'17년일출'!$AE$6:$AE$59,'17년특입'!$AE16)) -> 0 | AL16: =IF(AE16="","",COUNTIFS('17년일출'!$AE$6:$AE$59,'17년특입'!AE16)) | AM16: =IF(V16=AK16,"OK","@@") -> OK | AO16: =IF(AE16="",0,SUMIFS('17년일출'!$AA$6:$AA$59,'17년일출'!$AE$6:$AE$59,'17년특입'!$AE16)) -> 0 | AP16: =IF(AE16="","",COUNTIFS('17년일출'!$AE$6:$AE$59,AE16)) | AQ16: =IF(AA16=AO16,"OK","@@") -> OK
A17: =IFERROR(VLOOKUP($C17,구분표!$A$2:$C$313,2,FALSE),"") | B17: =IFERROR(VLOOKUP($C17,구분표!$A$2:$C$313,3,FALSE),"") | J17: =SUM(G17:I17) -> 0 | M17: =SUM(G17,K17,L17) -> 0 | N17: =IF(AND((J17=0),(M17>0)),"O",IF(AND((H17<0),(J17-M17<0)),"O","X")) -> X | V17: =IF($U17<>"도비",IF($S17="국도비","직접입력",SUM($H17:$I17)),) -> 0 | W17: =IF($U17="도비",SUM($H17:$I17),IF($S17="국도비","직접입력",SUM($H17:$I17)-$V17)) -> 0 | X17: =IF(SUM($H17:$I17)=SUM($V17:$W17),"OK","검토") -> OK | AA17: =IF($U17<>"도비",IF($S17="국도비","직접입력",SUM($K17:$L17)),) -> 0 | AB17: =IF($U17="도비",SUM(K17:L17),IF($S17="국도비","직접입력",SUM(K17:L17)-AA17)) -> 0 | AC17: =IF(SUM(K17:L17)=SUM(AA17:AB17),"OK","검토") -> OK | AE17: =IF(AG17="","",IF(U17="도비","세입없음",CONCATENATE(AG17,"-",COUNTIF($AG$7:AG17,AG17)))) | AG17: {=IF(C17="","",INDEX(구분표!$I$2:$I$313, MATCH(1,(구분표!$E$2:$E$313='17년특입'!B17)*(구분표!$F$2:$F$313='17년특입'!C17)*(구분표!$G$2:$G$313='17년특입'!A17),0)))} | AK17: =IF(AE17="",0,SUMIFS('17년일출'!$V$6:$V$59,'17년일출'!$AE$6:$AE$59,'17년특입'!$AE17)) -> 0 | AL17: =IF(AE17="","",COUNTIFS('17년일출'!$AE$6:$AE$59,'17년특입'!AE17)) | AM17: =IF(V17=AK17,"OK","@@") -> OK | AO17: =IF(AE17="",0,SUMIFS('17년일출'!$AA$6:$AA$59,'17년일출'!$AE$6:$AE$59,'17년특입'!$AE17)) -> 0 | AP17: =IF(AE17="","",COUNTIFS('17년일출'!$AE$6:$AE$59,AE17)) | AQ17: =IF(AA17=AO17,"OK","@@") -> OK
A18: ( 특별회계) | G18: =SUM(G19:G28) -> 0 | H18: =SUM(H19:H28) -> 0 | I18: =SUM(I19:I28) -> 0 | J18: =SUM(J19:J28) -> 0 | K18: =SUM(K19:K28) -> 0 | L18: =SUM(L19:L28) -> 0 | M18: =SUM(M19:M28) -> 0 | V18: =IF($U18<>"도비",IF($S18="국도비","직접입력",SUM($H18:$I18)),) -> 0 | W18: =IF($U18="도비",SUM($H18:$I18),IF($S18="국도비","직접입력",SUM($H18:$I18)-$V18)) -> 0 | X18: =IF(SUM($H18:$I18)=SUM($V18:$W18),"OK","검토") -> OK | AA18: =IF($U18<>"도비",IF($S18="국도비","직접입력",SUM($K18:$L18)),) -> 0 | AB18: =IF($U18="도비",SUM(K18:L18),IF($S18="국도비","직접입력",SUM(K18:L18)-AA18)) -> 0 | AC18: =IF(SUM(K18:L18)=SUM(AA18:AB18),"OK","검토") -> OK | AE18: =IF(AG18="","",IF(U18="도비","세입없음",CONCATENATE(AG18,"-",COUNTIF($AG$7:AG18,AG18)))) | AG18: {=IF(C18="","",INDEX(구분표!$I$2:$I$313, MATCH(1,(구분표!$E$2:$E$313='17년특입'!B18)*(구분표!$F$2:$F$313='17년특입'!C18)*(구분표!$G$2:$G$313='17년특입'!A18),0)))} | AK18: =IF(AE18="",0,SUMIFS('17년일출'!$V$6:$V$59,'17년일출'!$AE$6:$AE$59,'17년특입'!$AE18)) -> 0 | AL18: =IF(AE18="","",COUNTIFS('17년일출'!$AE$6:$AE$59,'17년특입'!AE18)) | AM18: =IF(V18=AK18,"OK","@@") -> OK | AO18: =IF(AE18="",0,SUMIFS('17년일출'!$AA$6:$AA$59,'17년일출'!$AE$6:$AE$59,'17년특입'!$AE18)) -> 0 | AP18: =IF(AE18="","",COUNTIFS('17년일출'!$AE$6:$AE$59,AE18)) | AQ18: =IF(AA18=AO18,"OK","@@") -> OK
A19: =IFERROR(VLOOKUP($C19,구분표!$A$2:$C$313,2,FALSE),"") | B19: =IFERROR(VLOOKUP($C19,구분표!$A$2:$C$313,3,FALSE),"") | J19: =SUM(G19:I19) -> 0 | M19: =SUM(G19,K19,L19) -> 0 | N19: =IF(AND((J19=0),(M19>0)),"O",IF(AND((H19<0),(J19-M19<0)),"O","X")) -> X | V19: =IF($U19<>"도비",IF($S19="국도비","직접입력",SUM($H19:$I19)),) -> 0 | W19: =IF($U19="도비",SUM($H19:$I19),IF($S19="국도비","직접입력",SUM($H19:$I19)-$V19)) -> 0 | X19: =IF(SUM($H19:$I19)=SUM($V19:$W19),"OK","검토") -> OK | AA19: =IF($U19<>"도비",IF($S19="국도비","직접입력",SUM($K19:$L19)),) -> 0 | AB19: =IF($U19="도비",SUM(K19:L19),IF($S19="국도비","직접입력",SUM(K19:L19)-AA19)) -> 0 | AC19: =IF(SUM(K19:L19)=SUM(AA19:AB19),"OK","검토") -> OK | AE19: =IF(AG19="","",IF(U19="도비","세입없음",CONCATENATE(AG19,"-",COUNTIF($AG$7:AG19,AG19)))) | AG19: {=IF(C19="","",INDEX(구분표!$I$2:$I$313, MATCH(1,(구분표!$E$2:$E$313='17년특입'!B19)*(구분표!$F$2:$F$313='17년특입'!C19)*(구분표!$G$2:$G$313='17년특입'!A19),0)))} | AK19: =IF(AE19="",0,SUMIFS('17년일출'!$V$6:$V$59,'17년일출'!$AE$6:$AE$59,'17년특입'!$AE19)) -> 0 | AL19: =IF(AE19="","",COUNTIFS('17년일출'!$AE$6:$AE$59,'17년특입'!AE19)) | AM19: =IF(V19=AK19,"OK","@@") -> OK | AO19: =IF(AE19="",0,SUMIFS('17년일출'!$AA$6:$AA$59,'17년일출'!$AE$6:$AE$59,'17년특입'!$AE19)) -> 0 | AP19: =IF(AE19="","",COUNTIFS('17년일출'!$AE$6:$AE$59,AE19)) | AQ19: =IF(AA19=AO19,"OK","@@") -> OK
A20: =IFERROR(VLOOKUP($C20,구분표!$A$2:$C$313,2,FALSE),"") | B20: =IFERROR(VLOOKUP($C20,구분표!$A$2:$C$313,3,FALSE),"") | J20: =SUM(G20:I20) -> 0 | M20: =SUM(G20,K20,L20) -> 0 | N20: =IF(AND((J20=0),(M20>0)),"O",IF(AND((H20<0),(J20-M20<0)),"O","X")) -> X | V20: =IF($U20<>"도비",IF($S20="국도비","직접입력",SUM($H20:$I20)),) -> 0 | W20: =IF($U20="도비",SUM($H20:$I20),IF($S20="국도비","직접입력",SUM($H20:$I20)-$V20)) -> 0 | X20: =IF(SUM($H20:$I20)=SUM($V20:$W20),"OK","검토") -> OK | AA20: =IF($U20<>"도비",IF($S20="국도비","직접입력",SUM($K20:$L20)),) -> 0 | AB20: =IF($U20="도비",SUM(K20:L20),IF($S20="국도비","직접입력",SUM(K20:L20)-AA20)) -> 0 | AC20: =IF(SUM(K20:L20)=SUM(AA20:AB20),"OK","검토") -> OK | AE20: =IF(AG20="","",IF(U20="도비","세입없음",CONCATENATE(AG20,"-",COUNTIF($AG$7:AG20,AG20)))) | AG20: {=IF(C20="","",INDEX(구분표!$I$2:$I$313, MATCH(1,(구분표!$E$2:$E$313='17년특입'!B20)*(구분표!$F$2:$F$313='17년특입'!C20)*(구분표!$G$2:$G$313='17년특입'!A20),0)))} | AK20: =IF(AE20="",0,SUMIFS('17년일출'!$V$6:$V$59,'17년일출'!$AE$6:$AE$59,'17년특입'!$AE20)) -> 0 | AL20: =IF(AE20="","",COUNTIFS('17년일출'!$AE$6:$AE$59,'17년특입'!AE20)) | AM20: =IF(V20=AK20,"OK","@@") -> OK | AO20: =IF(AE20="",0,SUMIFS('17년일출'!$AA$6:$AA$59,'17년일출'!$AE$6:$AE$59,'17년특입'!$AE20)) -> 0 | AP20: =IF(AE20="","",COUNTIFS('17년일출'!$AE$6:$AE$59,AE20)) | AQ20: =IF(AA20=AO20,"OK","@@") -> OK
A21: =IFERROR(VLOOKUP($C21,구분표!$A$2:$C$313,2,FALSE),"") | B21: =IFERROR(VLOOKUP($C21,구분표!$A$2:$C$313,3,FALSE),"") | J21: =SUM(G21:I21) -> 0 | M21: =SUM(G21,K21,L21) -> 0 | N21: =IF(AND((J21=0),(M21>0)),"O",IF(AND((H21<0),(J21-M21<0)),"O","X")) -> X | V21: =IF($U21<>"도비",IF($S21="국도비","직접입력",SUM($H21:$I21)),) -> 0 | W21: =IF($U21="도비",SUM($H21:$I21),IF($S21="국도비","직접입력",SUM($H21:$I21)-$V21)) -> 0 | X21: =IF(SUM($H21:$I21)=SUM($V21:$W21),"OK","검토") -> OK | AA21: =IF($U21<>"도비",IF($S21="국도비","직접입력",SUM($K21:$L21)),) -> 0 | AB21: =IF($U21="도비",SUM(K21:L21),IF($S21="국도비","직접입력",SUM(K21:L21)-AA21)) -> 0 | AC21: =IF(SUM(K21:L21)=SUM(AA21:AB21),"OK","검토") -> OK | AE21: =IF(AG21="","",IF(U21="도비","세입없음",CONCATENATE(AG21,"-",COUNTIF($AG$7:AG21,AG21)))) | AG21: {=IF(C21="","",INDEX(구분표!$I$2:$I$313, MATCH(1,(구분표!$E$2:$E$313='17년특입'!B21)*(구분표!$F$2:$F$313='17년특입'!C21)*(구분표!$G$2:$G$313='17년특입'!A21),0)))} | AK21: =IF(AE21="",0,SUMIFS('17년일출'!$V$6:$V$59,'17년일출'!$AE$6:$AE$59,'17년특입'!$AE21)) -> 0 | AL21: =IF(AE21="","",COUNTIFS('17년일출'!$AE$6:$AE$59,'17년특입'!AE21)) | AM21: =IF(V21=AK21,"OK","@@") -> OK | AO21: =IF(AE21="",0,SUMIFS('17년일출'!$AA$6:$AA$59,'17년일출'!$AE$6:$AE$59,'17년특입'!$AE21)) -> 0 | AP21: =IF(AE21="","",COUNTIFS('17년일출'!$AE$6:$AE$59,AE21)) | AQ21: =IF(AA21=AO21,"OK","@@") -> OK
A22: =IFERROR(VLOOKUP($C22,구분표!$A$2:$C$313,2,FALSE),"") | B22: =IFERROR(VLOOKUP($C22,구분표!$A$2:$C$313,3,FALSE),"") | J22: =SUM(G22:I22) -> 0 | M22: =SUM(G22,K22,L22) -> 0 | N22: =IF(AND((J22=0),(M22>0)),"O",IF(AND((H22<0),(J22-M22<0)),"O","X")) -> X | V22: =IF($U22<>"도비",IF($S22="국도비","직접입력",SUM($H22:$I22)),) -> 0 | W22: =IF($U22="도비",SUM($H22:$I22),IF($S22="국도비","직접입력",SUM($H22:$I22)-$V22)) -> 0 | X22: =IF(SUM($H22:$I22)=SUM($V22:$W22),"OK","검토") -> OK | AA22: =IF($U22<>"도비",IF($S22="국도비","직접입력",SUM($K22:$L22)),) -> 0 | AB22: =IF($U22="도비",SUM(K22:L22),IF($S22="국도비","직접입력",SUM(K22:L22)-AA22)) -> 0 | AC22: =IF(SUM(K22:L22)=SUM(AA22:AB22),"OK","검토") -> OK | AE22: =IF(AG22="","",IF(U22="도비","세입없음",CONCATENATE(AG22,"-",COUNTIF($AG$7:AG22,AG22)))) | AG22: {=IF(C22="","",INDEX(구분표!$I$2:$I$313, MATCH(1,(구분표!$E$2:$E$313='17년특입'!B22)*(구분표!$F$2:$F$313='17년특입'!C22)*(구분표!$G$2:$G$313='17년특입'!A22),0)))} | AK22: =IF(AE22="",0,SUMIFS('17년일출'!$V$6:$V$59,'17년일출'!$AE$6:$AE$59,'17년특입'!$AE22)) -> 0 | AL22: =IF(AE22="","",COUNTIFS('17년일출'!$AE$6:$AE$59,'17년특입'!AE22)) | AM22: =IF(V22=AK22,"OK","@@") -> OK | AO22: =IF(AE22="",0,SUMIFS('17년일출'!$AA$6:$AA$59,'17년일출'!$AE$6:$AE$59,'17년특입'!$AE22)) -> 0 | AP22: =IF(AE22="","",COUNTIFS('17년일출'!$AE$6:$AE$59,AE22)) | AQ22: =IF(AA22=AO22,"OK","@@") -> OK
A23: =IFERROR(VLOOKUP($C23,구분표!$A$2:$C$313,2,FALSE),"") | B23: =IFERROR(VLOOKUP($C23,구분표!$A$2:$C$313,3,FALSE),"") | J23: =SUM(G23:I23) -> 0 | M23: =SUM(G23,K23,L23) -> 0 | N23: =IF(AND((J23=0),(M23>0)),"O",IF(AND((H23<0),(J23-M23<0)),"O","X")) -> X | V23: =IF($U23<>"도비",IF($S23="국도비","직접입력",SUM($H23:$I23)),) -> 0 | W23: =IF($U23="도비",SUM($H23:$I23),IF($S23="국도비","직접입력",SUM($H23:$I23)-$V23)) -> 0 | X23: =IF(SUM($H23:$I23)=SUM($V23:$W23),"OK","검토") -> OK | AA23: =IF($U23<>"도비",IF($S23="국도비","직접입력",SUM($K23:$L23)),) -> 0 | AB23: =IF($U23="도비",SUM(K23:L23),IF($S23="국도비","직접입력",SUM(K23:L23)-AA23)) -> 0 | AC23: =IF(SUM(K23:L23)=SUM(AA23:AB23),"OK","검토") -> OK | AE23: =IF(AG23="","",IF(U23="도비","세입없음",CONCATENATE(AG23,"-",COUNTIF($AG$7:AG23,AG23)))) | AG23: {=IF(C23="","",INDEX(구분표!$I$2:$I$313, MATCH(1,(구분표!$E$2:$E$313='17년특입'!B23)*(구분표!$F$2:$F$313='17년특입'!C23)*(구분표!$G$2:$G$313='17년특입'!A23),0)))} | AK23: =IF(AE23="",0,SUMIFS('17년일출'!$V$6:$V$59,'17년일출'!$AE$6:$AE$59,'17년특입'!$AE23)) -> 0 | AL23: =IF(AE23="","",COUNTIFS('17년일출'!$AE$6:$AE$59,'17년특입'!AE23)) | AM23: =IF(V23=AK23,"OK","@@") -> OK | AO23: =IF(AE23="",0,SUMIFS('17년일출'!$AA$6:$AA$59,'17년일출'!$AE$6:$AE$59,'17년특입'!$AE23)) -> 0 | AP23: =IF(AE23="","",COUNTIFS('17년일출'!$AE$6:$AE$59,AE23)) | AQ23: =IF(AA23=AO23,"OK","@@") -> OK
A24: =IFERROR(VLOOKUP($C24,구분표!$A$2:$C$313,2,FALSE),"") | B24: =IFERROR(VLOOKUP($C24,구분표!$A$2:$C$313,3,FALSE),"") | J24: =SUM(G24:I24) -> 0 | M24: =SUM(G24,K24,L24) -> 0 | N24: =IF(AND((J24=0),(M24>0)),"O",IF(AND((H24<0),(J24-M24<0)),"O","X")) -> X | V24: =IF($U24<>"도비",IF($S24="국도비","직접입력",SUM($H24:$I24)),) -> 0 | W24: =IF($U24="도비",SUM($H24:$I24),IF($S24="국도비","직접입력",SUM($H24:$I24)-$V24)) -> 0 | X24: =IF(SUM($H24:$I24)=SUM($V24:$W24),"OK","검토") -> OK | AA24: =IF($U24<>"도비",IF($S24="국도비","직접입력",SUM($K24:$L24)),) -> 0 | AB24: =IF($U24="도비",SUM(K24:L24),IF($S24="국도비","직접입력",SUM(K24:L24)-AA24)) -> 0 | AC24: =IF(SUM(K24:L24)=SUM(AA24:AB24),"OK","검토") -> OK | AE24: =IF(AG24="","",IF(U24="도비","세입없음",CONCATENATE(AG24,"-",COUNTIF($AG$7:AG24,AG24)))) | AG24: {=IF(C24="","",INDEX(구분표!$I$2:$I$313, MATCH(1,(구분표!$E$2:$E$313='17년특입'!B24)*(구분표!$F$2:$F$313='17년특입'!C24)*(구분표!$G$2:$G$313='17년특입'!A24),0)))} | AK24: =IF(AE24="",0,SUMIFS('17년일출'!$V$6:$V$59,'17년일출'!$AE$6:$AE$59,'17년특입'!$AE24)) -> 0 | AL24: =IF(AE24="","",COUNTIFS('17년일출'!$AE$6:$AE$59,'17년특입'!AE24)) | AM24: =IF(V24=AK24,"OK","@@") -> OK | AO24: =IF(AE24="",0,SUMIFS('17년일출'!$AA$6:$AA$59,'17년일출'!$AE$6:$AE$59,'17년특입'!$AE24)) -> 0 | AP24: =IF(AE24="","",COUNTIFS('17년일출'!$AE$6:$AE$59,AE24)) | AQ24: =IF(AA24=AO24,"OK","@@") -> OK
A25: =IFERROR(VLOOKUP($C25,구분표!$A$2:$C$313,2,FALSE),"") | B25: =IFERROR(VLOOKUP($C25,구분표!$A$2:$C$313,3,FALSE),"") | J25: =SUM(G25:I25) -> 0 | M25: =SUM(G25,K25,L25) -> 0 | N25: =IF(AND((J25=0),(M25>0)),"O",IF(AND((H25<0),(J25-M25<0)),"O","X")) -> X | V25: =IF($U25<>"도비",IF($S25="국도비","직접입력",SUM($H25:$I25)),) -> 0 | W25: =IF($U25="도비",SUM($H25:$I25),IF($S25="국도비","직접입력",SUM($H25:$I25)-$V25)) -> 0 | X25: =IF(SUM($H25:$I25)=SUM($V25:$W25),"OK","검토") -> OK | AA25: =IF($U25<>"도비",IF($S25="국도비","직접입력",SUM($K25:$L25)),) -> 0 | AB25: =IF($U25="도비",SUM(K25:L25),IF($S25="국도비","직접입력",SUM(K25:L25)-AA25)) -> 0 | AC25: =IF(SUM(K25:L25)=SUM(AA25:AB25),"OK","검토") -> OK | AE25: =IF(AG25="","",IF(U25="도비","세입없음",CONCATENATE(AG25,"-",COUNTIF($AG$7:AG25,AG25)))) | AG25: {=IF(C25="","",INDEX(구분표!$I$2:$I$313, MATCH(1,(구분표!$E$2:$E$313='17년특입'!B25)*(구분표!$F$2:$F$313='17년특입'!C25)*(구분표!$G$2:$G$313='17년특입'!A25),0)))} | AK25: =IF(AE25="",0,SUMIFS('17년일출'!$V$6:$V$59,'17년일출'!$AE$6:$AE$59,'17년특입'!$AE25)) -> 0 | AL25: =IF(AE25="","",COUNTIFS('17년일출'!$AE$6:$AE$59,'17년특입'!AE25)) | AM25: =IF(V25=AK25,"OK","@@") -> OK | AO25: =IF(AE25="",0,SUMIFS('17년일출'!$AA$6:$AA$59,'17년일출'!$AE$6:$AE$59,'17년특입'!$AE25)) -> 0 | AP25: =IF(AE25="","",COUNTIFS('17년일출'!$AE$6:$AE$59,AE25)) | AQ25: =IF(AA25=AO25,"OK","@@") -> OK
A26: =IFERROR(VLOOKUP($C26,구분표!$A$2:$C$313,2,FALSE),"") | B26: =IFERROR(VLOOKUP($C26,구분표!$A$2:$C$313,3,FALSE),"") | J26: =SUM(G26:I26) -> 0 | M26: =SUM(G26,K26,L26) -> 0 | N26: =IF(AND((J26=0),(M26>0)),"O",IF(AND((H26<0),(J26-M26<0)),"O","X")) -> X | V26: =IF($U26<>"도비",IF($S26="국도비","직접입력",SUM($H26:$I26)),) -> 0 | W26: =IF($U26="도비",SUM($H26:$I26),IF($S26="국도비","직접입력",SUM($H26:$I26)-$V26)) -> 0 | X26: =IF(SUM($H26:$I26)=SUM($V26:$W26),"OK","검토") -> OK | AA26: =IF($U26<>"도비",IF($S26="국도비","직접입력",SUM($K26:$L26)),) -> 0 | AB26: =IF($U26="도비",SUM(K26:L26),IF($S26="국도비","직접입력",SUM(K26:L26)-AA26)) -> 0 | AC26: =IF(SUM(K26:L26)=SUM(AA26:AB26),"OK","검토") -> OK | AE26: =IF(AG26="","",IF(U26="도비","세입없음",CONCATENATE(AG26,"-",COUNTIF($AG$7:AG26,AG26)))) | AG26: {=IF(C26="","",INDEX(구분표!$I$2:$I$313, MATCH(1,(구분표!$E$2:$E$313='17년특입'!B26)*(구분표!$F$2:$F$313='17년특입'!C26)*(구분표!$G$2:$G$313='17년특입'!A26),0)))} | AK26: =IF(AE26="",0,SUMIFS('17년일출'!$V$6:$V$59,'17년일출'!$AE$6:$AE$59,'17년특입'!$AE26)) -> 0 | AL26: =IF(AE26="","",COUNTIFS('17년일출'!$AE$6:$AE$59,'17년특입'!AE26)) | AM26: =IF(V26=AK26,"OK","@@") -> OK | AO26: =IF(AE26="",0,SUMIFS('17년일출'!$AA$6:$AA$59,'17년일출'!$AE$6:$AE$59,'17년특입'!$AE26)) -> 0 | AP26: =IF(AE26="","",COUNTIFS('17년일출'!$AE$6:$AE$59,AE26)) | AQ26: =IF(AA26=AO26,"OK","@@") -> OK
A27: =IFERROR(VLOOKUP($C27,구분표!$A$2:$C$313,2,FALSE),"") | B27: =IFERROR(VLOOKUP($C27,구분표!$A$2:$C$313,3,FALSE),"") | J27: =SUM(G27:I27) -> 0 | M27: =SUM(G27,K27,L27) -> 0 | N27: =IF(AND((J27=0),(M27>0)),"O",IF(AND((H27<0),(J27-M27<0)),"O","X")) -> X | V27: =IF($U27<>"도비",IF($S27="국도비","직접입력",SUM($H27:$I27)),) -> 0 | W27: =IF($U27="도비",SUM($H27:$I27),IF($S27="국도비","직접입력",SUM($H27:$I27)-$V27)) -> 0 | X27: =IF(SUM($H27:$I27)=SUM($V27:$W27),"OK","검토") -> OK | AA27: =IF($U27<>"도비",IF($S27="국도비","직접입력",SUM($K27:$L27)),) -> 0 | AB27: =IF($U27="도비",SUM(K27:L27),IF($S27="국도비","직접입력",SUM(K27:L27)-AA27)) -> 0 | AC27: =IF(SUM(K27:L27)=SUM(AA27:AB27),"OK","검토") -> OK | AE27: =IF(AG27="","",IF(U27="도비","세입없음",CONCATENATE(AG27,"-",COUNTIF($AG$7:AG27,AG27)))) | AG27: {=IF(C27="","",INDEX(구분표!$I$2:$I$313, MATCH(1,(구분표!$E$2:$E$313='17년특입'!B27)*(구분표!$F$2:$F$313='17년특입'!C27)*(구분표!$G$2:$G$313='17년특입'!A27),0)))} | AK27: =IF(AE27="",0,SUMIFS('17년일출'!$V$6:$V$59,'17년일출'!$AE$6:$AE$59,'17년특입'!$AE27)) -> 0 | AL27: =IF(AE27="","",COUNTIFS('17년일출'!$AE$6:$AE$59,'17년특입'!AE27)) | AM27: =IF(V27=AK27,"OK","@@") -> OK | AO27: =IF(AE27="",0,SUMIFS('17년일출'!$AA$6:$AA$59,'17년일출'!$AE$6:$AE$59,'17년특입'!$AE27)) -> 0 | AP27: =IF(AE27="","",COUNTIFS('17년일출'!$AE$6:$AE$59,AE27)) | AQ27: =IF(AA27=AO27,"OK","@@") -> OK
A28: =IFERROR(VLOOKUP($C28,구분표!$A$2:$C$313,2,FALSE),"") | B28: =IFERROR(VLOOKUP($C28,구분표!$A$2:$C$313,3,FALSE),"") | J28: =SUM(G28:I28) -> 0 | M28: =SUM(G28,K28,L28) -> 0 | N28: =IF(AND((J28=0),(M28>0)),"O",IF(AND((H28<0),(J28-M28<0)),"O","X")) -> X | V28: =IF($U28<>"도비",IF($S28="국도비","직접입력",SUM($H28:$I28)),) -> 0 | W28: =IF($U28="도비",SUM($H28:$I28),IF($S28="국도비","직접입력",SUM($H28:$I28)-$V28)) -> 0 | X28: =IF(SUM($H28:$I28)=SUM($V28:$W28),"OK","검토") -> OK | AA28: =IF($U28<>"도비",IF($S28="국도비","직접입력",SUM($K28:$L28)),) -> 0 | AB28: =IF($U28="도비",SUM(K28:L28),IF($S28="국도비","직접입력",SUM(K28:L28)-AA28)) -> 0 | AC28: =IF(SUM(K28:L28)=SUM(AA28:AB28),"OK","검토") -> OK | AE28: =IF(AG28="","",IF(U28="도비","세입없음",CONCATENATE(AG28,"-",COUNTIF($AG$7:AG28,AG28)))) | AG28: {=IF(C28="","",INDEX(구분표!$I$2:$I$313, MATCH(1,(구분표!$E$2:$E$313='17년특입'!B28)*(구분표!$F$2:$F$313='17년특입'!C28)*(구분표!$G$2:$G$313='17년특입'!A28),0)))} | AK28: =IF(AE28="",0,SUMIFS('17년일출'!$V$6:$V$59,'17년일출'!$AE$6:$AE$59,'17년특입'!$AE28)) -> 0 | AL28: =IF(AE28="","",COUNTIFS('17년일출'!$AE$6:$AE$59,'17년특입'!AE28)) | AM28: =IF(V28=AK28,"OK","@@") -> OK | AO28: =IF(AE28="",0,SUMIFS('17년일출'!$AA$6:$AA$59,'17년일출'!$AE$6:$AE$59,'17년특입'!$AE28)) -> 0 | AP28: =IF(AE28="","",COUNTIFS('17년일출'!$AE$6:$AE$59,AE28)) | AQ28: =IF(AA28=AO28,"OK","@@") -> OK
A29: ( 특별회계) | G29: =SUM(G30:G39) -> 0 | H29: =SUM(H30:H39) -> 0 | I29: =SUM(I30:I39) -> 0 | J29: =SUM(J30:J39) -> 0 | K29: =SUM(K30:K39) -> 0 | L29: =SUM(L30:L39) -> 0 | M29: =SUM(M30:M39) -> 0 | V29: =IF($U29<>"도비",IF($S29="국도비","직접입력",SUM($H29:$I29)),) -> 0 | W29: =IF($U29="도비",SUM($H29:$I29),IF($S29="국도비","직접입력",SUM($H29:$I29)-$V29)) -> 0 | X29: =IF(SUM($H29:$I29)=SUM($V29:$W29),"OK","검토") -> OK | AA29: =IF($U29<>"도비",IF($S29="국도비","직접입력",SUM($K29:$L29)),) -> 0 | AB29: =IF($U29="도비",SUM(K29:L29),IF($S29="국도비","직접입력",SUM(K29:L29)-AA29)) -> 0 | AC29: =IF(SUM(K29:L29)=SUM(AA29:AB29),"OK","검토") -> OK | AE29: =IF(AG29="","",IF(U29="도비","세입없음",CONCATENATE(AG29,"-",COUNTIF($AG$7:AG29,AG29)))) | AG29: {=IF(C29="","",INDEX(구분표!$I$2:$I$313, MATCH(1,(구분표!$E$2:$E$313='17년특입'!B29)*(구분표!$F$2:$F$313='17년특입'!C29)*(구분표!$G$2:$G$313='17년특입'!A29),0)))} | AK29: =IF(AE29="",0,SUMIFS('17년일출'!$V$6:$V$59,'17년일출'!$AE$6:$AE$59,'17년특입'!$AE29)) -> 0 | AL29: =IF(AE29="","",COUNTIFS('17년일출'!$AE$6:$AE$59,'17년특입'!AE29)) | AM29: =IF(V29=AK29,"OK","@@") -> OK | AO29: =IF(AE29="",0,SUMIFS('17년일출'!$AA$6:$AA$59,'17년일출'!$AE$6:$AE$59,'17년특입'!$AE29)) -> 0 | AP29: =IF(AE29="","",COUNTIFS('17년일출'!$AE$6:$AE$59,AE29)) | AQ29: =IF(AA29=AO29,"OK","@@") -> OK
A30: =IFERROR(VLOOKUP($C30,구분표!$A$2:$C$313,2,FALSE),"") | B30: =IFERROR(VLOOKUP($C30,구분표!$A$2:$C$313,3,FALSE),"") | J30: =SUM(G30:I30) -> 0 | M30: =SUM(G30,K30,L30) -> 0 | N30: =IF(AND((J30=0),(M30>0)),"O",IF(AND((H30<0),(J30-M30<0)),"O","X")) -> X | V30: =IF($U30<>"도비",IF($S30="국도비","직접입력",SUM($H30:$I30)),) -> 0 | W30: =IF($U30="도비",SUM($H30:$I30),IF($S30="국도비","직접입력",SUM($H30:$I30)-$V30)) -> 0 | X30: =IF(SUM($H30:$I30)=SUM($V30:$W30),"OK","검토") -> OK | AA30: =IF($U30<>"도비",IF($S30="국도비","직접입력",SUM($K30:$L30)),) -> 0 | AB30: =IF($U30="도비",SUM(K30:L30),IF($S30="국도비","직접입력",SUM(K30:L30)-AA30)) -> 0 | AC30: =IF(SUM(K30:L30)=SUM(AA30:AB30),"OK","검토") -> OK | AE30: =IF(AG30="","",IF(U30="도비","세입없음",CONCATENATE(AG30,"-",COUNTIF($AG$7:AG30,AG30)))) | AG30: {=IF(C30="","",INDEX(구분표!$I$2:$I$313, MATCH(1,(구분표!$E$2:$E$313='17년특입'!B30)*(구분표!$F$2:$F$313='17년특입'!C30)*(구분표!$G$2:$G$313='17년특입'!A30),0)))} | AK30: =IF(AE30="",0,SUMIFS('17년일출'!$V$6:$V$59,'17년일출'!$AE$6:$AE$59,'17년특입'!$AE30)) -> 0 | AL30: =IF(AE30="","",COUNTIFS('17년일출'!$AE$6:$AE$59,'17년특입'!AE30)) | AM30: =IF(V30=AK30,"OK","@@") -> OK | AO30: =IF(AE30="",0,SUMIFS('17년일출'!$AA$6:$AA$59,'17년일출'!$AE$6:$AE$59,'17년특입'!$AE30)) -> 0 | AP30: =IF(AE30="","",COUNTIFS('17년일출'!$AE$6:$AE$59,AE30)) | AQ30: =IF(AA30=AO30,"OK","@@") -> OK
A31: =IFERROR(VLOOKUP($C31,구분표!$A$2:$C$313,2,FALSE),"") | B31: =IFERROR(VLOOKUP($C31,구분표!$A$2:$C$313,3,FALSE),"") | J31: =SUM(G31:I31) -> 0 | M31: =SUM(G31,K31,L31) -> 0 | N31: =IF(AND((J31=0),(M31>0)),"O",IF(AND((H31<0),(J31-M31<0)),"O","X")) -> X | V31: =IF($U31<>"도비",IF($S31="국도비","직접입력",SUM($H31:$I31)),) -> 0 | W31: =IF($U31="도비",SUM($H31:$I31),IF($S31="국도비","직접입력",SUM($H31:$I31)-$V31)) -> 0 | X31: =IF(SUM($H31:$I31)=SUM($V31:$W31),"OK","검토") -> OK | AA31: =IF($U31<>"도비",IF($S31="국도비","직접입력",SUM($K31:$L31)),) -> 0 | AB31: =IF($U31="도비",SUM(K31:L31),IF($S31="국도비","직접입력",SUM(K31:L31)-AA31)) -> 0 | AC31: =IF(SUM(K31:L31)=SUM(AA31:AB31),"OK","검토") -> OK | AE31: =IF(AG31="","",IF(U31="도비","세입없음",CONCATENATE(AG31,"-",COUNTIF($AG$7:AG31,AG31)))) | AG31: {=IF(C31="","",INDEX(구분표!$I$2:$I$313, MATCH(1,(구분표!$E$2:$E$313='17년특입'!B31)*(구분표!$F$2:$F$313='17년특입'!C31)*(구분표!$G$2:$G$313='17년특입'!A31),0)))} | AK31: =IF(AE31="",0,SUMIFS('17년일출'!$V$6:$V$59,'17년일출'!$AE$6:$AE$59,'17년특입'!$AE31)) -> 0 | AL31: =IF(AE31="","",COUNTIFS('17년일출'!$AE$6:$AE$59,'17년특입'!AE31)) | AM31: =IF(V31=AK31,"OK","@@") -> OK | AO31: =IF(AE31="",0,SUMIFS('17년일출'!$AA$6:$AA$59,'17년일출'!$AE$6:$AE$59,'17년특입'!$AE31)) -> 0 | AP31: =IF(AE31="","",COUNTIFS('17년일출'!$AE$6:$AE$59,AE31)) | AQ31: =IF(AA31=AO31,"OK","@@") -> OK
A32: =IFERROR(VLOOKUP($C32,구분표!$A$2:$C$313,2,FALSE),"") | B32: =IFERROR(VLOOKUP($C32,구분표!$A$2:$C$313,3,FALSE),"") | J32: =SUM(G32:I32) -> 0 | M32: =SUM(G32,K32,L32) -> 0 | N32: =IF(AND((J32=0),(M32>0)),"O",IF(AND((H32<0),(J32-M32<0)),"O","X")) -> X | V32: =IF($U32<>"도비",IF($S32="국도비","직접입력",SUM($H32:$I32)),) -> 0 | W32: =IF($U32="도비",SUM($H32:$I32),IF($S32="국도비","직접입력",SUM($H32:$I32)-$V32)) -> 0 | X32: =IF(SUM($H32:$I32)=SUM($V32:$W32),"OK","검토") -> OK | AA32: =IF($U32<>"도비",IF($S32="국도비","직접입력",SUM($K32:$L32)),) -> 0 | AB32: =IF($U32="도비",SUM(K32:L32),IF($S32="국도비","직접입력",SUM(K32:L32)-AA32)) -> 0 | AC32: =IF(SUM(K32:L32)=SUM(AA32:AB32),"OK","검토") -> OK | AE32: =IF(AG32="","",IF(U32="도비","세입없음",CONCATENATE(AG32,"-",COUNTIF($AG$7:AG32,AG32)))) | AG32: {=IF(C32="","",INDEX(구분표!$I$2:$I$313, MATCH(1,(구분표!$E$2:$E$313='17년특입'!B32)*(구분표!$F$2:$F$313='17년특입'!C32)*(구분표!$G$2:$G$313='17년특입'!A32),0)))} | AK32: =IF(AE32="",0,SUMIFS('17년일출'!$V$6:$V$59,'17년일출'!$AE$6:$AE$59,'17년특입'!$AE32)) -> 0 | AL32: =IF(AE32="","",COUNTIFS('17년일출'!$AE$6:$AE$59,'17년특입'!AE32)) | AM32: =IF(V32=AK32,"OK","@@") -> OK | AO32: =IF(AE32="",0,SUMIFS('17년일출'!$AA$6:$AA$59,'17년일출'!$AE$6:$AE$59,'17년특입'!$AE32)) -> 0 | AP32: =IF(AE32="","",COUNTIFS('17년일출'!$AE$6:$AE$59,AE32)) | AQ32: =IF(AA32=AO32,"OK","@@") -> OK
A33: =IFERROR(VLOOKUP($C33,구분표!$A$2:$C$313,2,FALSE),"") | B33: =IFERROR(VLOOKUP($C33,구분표!$A$2:$C$313,3,FALSE),"") | J33: =SUM(G33:I33) -> 0 | M33: =SUM(G33,K33,L33) -> 0 | N33: =IF(AND((J33=0),(M33>0)),"O",IF(AND((H33<0),(J33-M33<0)),"O","X")) -> X | V33: =IF($U33<>"도비",IF($S33="국도비","직접입력",SUM($H33:$I33)),) -> 0 | W33: =IF($U33="도비",SUM($H33:$I33),IF($S33="국도비","직접입력",SUM($H33:$I33)-$V33)) -> 0 | X33: =IF(SUM($H33:$I33)=SUM($V33:$W33),"OK","검토") -> OK | AA33: =IF($U33<>"도비",IF($S33="국도비","직접입력",SUM($K33:$L33)),) -> 0 | AB33: =IF($U33="도비",SUM(K33:L33),IF($S33="국도비","직접입력",SUM(K33:L33)-AA33)) -> 0 | AC33: =IF(SUM(K33:L33)=SUM(AA33:AB33),"OK","검토") -> OK | AE33: =IF(AG33="","",IF(U33="도비","세입없음",CONCATENATE(AG33,"-",COUNTIF($AG$7:AG33,AG33)))) | AG33: {=IF(C33="","",INDEX(구분표!$I$2:$I$313, MATCH(1,(구분표!$E$2:$E$313='17년특입'!B33)*(구분표!$F$2:$F$313='17년특입'!C33)*(구분표!$G$2:$G$313='17년특입'!A33),0)))} | AK33: =IF(AE33="",0,SUMIFS('17년일출'!$V$6:$V$59,'17년일출'!$AE$6:$AE$59,'17년특입'!$AE33)) -> 0 | AL33: =IF(AE33="","",COUNTIFS('17년일출'!$AE$6:$AE$59,'17년특입'!AE33)) | AM33: =IF(V33=AK33,"OK","@@") -> OK | AO33: =IF(AE33="",0,SUMIFS('17년일출'!$AA$6:$AA$59,'17년일출'!$AE$6:$AE$59,'17년특입'!$AE33)) -> 0 | AP33: =IF(AE33="","",COUNTIFS('17년일출'!$AE$6:$AE$59,AE33)) | AQ33: =IF(AA33=AO33,"OK","@@") -> OK
A34: =IFERROR(VLOOKUP($C34,구분표!$A$2:$C$313,2,FALSE),"") | B34: =IFERROR(VLOOKUP($C34,구분표!$A$2:$C$313,3,FALSE),"") | J34: =SUM(G34:I34) -> 0 | M34: =SUM(G34,K34,L34) -> 0 | N34: =IF(AND((J34=0),(M34>0)),"O",IF(AND((H34<0),(J34-M34<0)),"O","X")) -> X | V34: =IF($U34<>"도비",IF($S34="국도비","직접입력",SUM($H34:$I34)),) -> 0 | W34: =IF($U34="도비",SUM($H34:$I34),IF($S34="국도비","직접입력",SUM($H34:$I34)-$V34)) -> 0 | X34: =IF(SUM($H34:$I34)=SUM($V34:$W34),"OK","검토") -> OK | AA34: =IF($U34<>"도비",IF($S34="국도비","직접입력",SUM($K34:$L34)),) -> 0 | AB34: =IF($U34="도비",SUM(K34:L34),IF($S34="국도비","직접입력",SUM(K34:L34)-AA34)) -> 0 | AC34: =IF(SUM(K34:L34)=SUM(AA34:AB34),"OK","검토") -> OK | AE34: =IF(AG34="","",IF(U34="도비","세입없음",CONCATENATE(AG34,"-",COUNTIF($AG$7:AG34,AG34)))) | AG34: {=IF(C34="","",INDEX(구분표!$I$2:$I$313, MATCH(1,(구분표!$E$2:$E$313='17년특입'!B34)*(구분표!$F$2:$F$313='17년특입'!C34)*(구분표!$G$2:$G$313='17년특입'!A34),0)))} | AK34: =IF(AE34="",0,SUMIFS('17년일출'!$V$6:$V$59,'17년일출'!$AE$6:$AE$59,'17년특입'!$AE34)) -> 0 | AL34: =IF(AE34="","",COUNTIFS('17년일출'!$AE$6:$AE$59,'17년특입'!AE34)) | AM34: =IF(V34=AK34,"OK","@@") -> OK | AO34: =IF(AE34="",0,SUMIFS('17년일출'!$AA$6:$AA$59,'17년일출'!$AE$6:$AE$59,'17년특입'!$AE34)) -> 0 | AP34: =IF(AE34="","",COUNTIFS('17년일출'!$AE$6:$AE$59,AE34)) | AQ34: =IF(AA34=AO34,"OK","@@") -> OK
A35: =IFERROR(VLOOKUP($C35,구분표!$A$2:$C$313,2,FALSE),"") | B35: =IFERROR(VLOOKUP($C35,구분표!$A$2:$C$313,3,FALSE),"") | J35: =SUM(G35:I35) -> 0 | M35: =SUM(G35,K35,L35) -> 0 | N35: =IF(AND((J35=0),(M35>0)),"O",IF(AND((H35<0),(J35-M35<0)),"O","X")) -> X | V35: =IF($U35<>"도비",IF($S35="국도비","직접입력",SUM($H35:$I35)),) -> 0 | W35: =IF($U35="도비",SUM($H35:$I35),IF($S35="국도비","직접입력",SUM($H35:$I35)-$V35)) -> 0 | X35: =IF(SUM($H35:$I35)=SUM($V35:$W35),"OK","검토") -> OK | AA35: =IF($U35<>"도비",IF($S35="국도비","직접입력",SUM($K35:$L35)),) -> 0 | AB35: =IF($U35="도비",SUM(K35:L35),IF($S35="국도비","직접입력",SUM(K35:L35)-AA35)) -> 0 | AC35: =IF(SUM(K35:L35)=SUM(AA35:AB35),"OK","검토") -> OK | AE35: =IF(AG35="","",IF(U35="도비","세입없음",CONCATENATE(AG35,"-",COUNTIF($AG$7:AG35,AG35)))) | AG35: {=IF(C35="","",INDEX(구분표!$I$2:$I$313, MATCH(1,(구분표!$E$2:$E$313='17년특입'!B35)*(구분표!$F$2:$F$313='17년특입'!C35)*(구분표!$G$2:$G$313='17년특입'!A35),0)))} | AK35: =IF(AE35="",0,SUMIFS('17년일출'!$V$6:$V$59,'17년일출'!$AE$6:$AE$59,'17년특입'!$AE35)) -> 0 | AL35: =IF(AE35="","",COUNTIFS('17년일출'!$AE$6:$AE$59,'17년특입'!AE35)) | AM35: =IF(V35=AK35,"OK","@@") -> OK | AO35: =IF(AE35="",0,SUMIFS('17년일출'!$AA$6:$AA$59,'17년일출'!$AE$6:$AE$59,'17년특입'!$AE35)) -> 0 | AP35: =IF(AE35="","",COUNTIFS('17년일출'!$AE$6:$AE$59,AE35)) | AQ35: =IF(AA35=AO35,"OK","@@") -> OK
A36: =IFERROR(VLOOKUP($C36,구분표!$A$2:$C$313,2,FALSE),"") | B36: =IFERROR(VLOOKUP($C36,구분표!$A$2:$C$313,3,FALSE),"") | J36: =SUM(G36:I36) -> 0 | M36: =SUM(G36,K36,L36) -> 0 | N36: =IF(AND((J36=0),(M36>0)),"O",IF(AND((H36<0),(J36-M36<0)),"O","X")) -> X | V36: =IF($U36<>"도비",IF($S36="국도비","직접입력",SUM($H36:$I36)),) -> 0 | W36: =IF($U36="도비",SUM($H36:$I36),IF($S36="국도비","직접입력",SUM($H36:$I36)-$V36)) -> 0 | X36: =IF(SUM($H36:$I36)=SUM($V36:$W36),"OK","검토") -> OK | AA36: =IF($U36<>"도비",IF($S36="국도비","직접입력",SUM($K36:$L36)),) -> 0 | AB36: =IF($U36="도비",SUM(K36:L36),IF($S36="국도비","직접입력",SUM(K36:L36)-AA36)) -> 0 | AC36: =IF(SUM(K36:L36)=SUM(AA36:AB36),"OK","검토") -> OK | AE36: =IF(AG36="","",IF(U36="도비","세입없음",CONCATENATE(AG36,"-",COUNTIF($AG$7:AG36,AG36)))) | AG36: {=IF(C36="","",INDEX(구분표!$I$2:$I$313, MATCH(1,(구분표!$E$2:$E$313='17년특입'!B36)*(구분표!$F$2:$F$313='17년특입'!C36)*(구분표!$G$2:$G$313='17년특입'!A36),0)))} | AK36: =IF(AE36="",0,SUMIFS('17년일출'!$V$6:$V$59,'17년일출'!$AE$6:$AE$59,'17년특입'!$AE36)) -> 0 | AL36: =IF(AE36="","",COUNTIFS('17년일출'!$AE$6:$AE$59,'17년특입'!AE36)) | AM36: =IF(V36=AK36,"OK","@@") -> OK | AO36: =IF(AE36="",0,SUMIFS('17년일출'!$AA$6:$AA$59,'17년일출'!$AE$6:$AE$59,'17년특입'!$AE36)) -> 0 | AP36: =IF(AE36="","",COUNTIFS('17년일출'!$AE$6:$AE$59,AE36)) | AQ36: =IF(AA36=AO36,"OK","@@") -> OK
A37: =IFERROR(VLOOKUP($C37,구분표!$A$2:$C$313,2,FALSE),"") | B37: =IFERROR(VLOOKUP($C37,구분표!$A$2:$C$313,3,FALSE),"") | J37: =SUM(G37:I37) -> 0 | M37: =SUM(G37,K37,L37) -> 0 | N37: =IF(AND((J37=0),(M37>0)),"O",IF(AND((H37<0),(J37-M37<0)),"O","X")) -> X | V37: =IF($U37<>"도비",IF($S37="국도비","직접입력",SUM($H37:$I37)),) -> 0 | W37: =IF($U37="도비",SUM($H37:$I37),IF($S37="국도비","직접입력",SUM($H37:$I37)-$V37)) -> 0 | X37: =IF(SUM($H37:$I37)=SUM($V37:$W37),"OK","검토") -> OK | AA37: =IF($U37<>"도비",IF($S37="국도비","직접입력",SUM($K37:$L37)),) -> 0 | AB37: =IF($U37="도비",SUM(K37:L37),IF($S37="국도비","직접입력",SUM(K37:L37)-AA37)) -> 0 | AC37: =IF(SUM(K37:L37)=SUM(AA37:AB37),"OK","검토") -> OK | AE37: =IF(AG37="","",IF(U37="도비","세입없음",CONCATENATE(AG37,"-",COUNTIF($AG$7:AG37,AG37)))) | AG37: {=IF(C37="","",INDEX(구분표!$I$2:$I$313, MATCH(1,(구분표!$E$2:$E$313='17년특입'!B37)*(구분표!$F$2:$F$313='17년특입'!C37)*(구분표!$G$2:$G$313='17년특입'!A37),0)))} | AK37: =IF(AE37="",0,SUMIFS('17년일출'!$V$6:$V$59,'17년일출'!$AE$6:$AE$59,'17년특입'!$AE37)) -> 0 | AL37: =IF(AE37="","",COUNTIFS('17년일출'!$AE$6:$AE$59,'17년특입'!AE37)) | AM37: =IF(V37=AK37,"OK","@@") -> OK | AO37: =IF(AE37="",0,SUMIFS('17년일출'!$AA$6:$AA$59,'17년일출'!$AE$6:$AE$59,'17년특입'!$AE37)) -> 0 | AP37: =IF(AE37="","",COUNTIFS('17년일출'!$AE$6:$AE$59,AE37)) | AQ37: =IF(AA37=AO37,"OK","@@") -> OK
A38: =IFERROR(VLOOKUP($C38,구분표!$A$2:$C$313,2,FALSE),"") | B38: =IFERROR(VLOOKUP($C38,구분표!$A$2:$C$313,3,FALSE),"") | J38: =SUM(G38:I38) -> 0 | M38: =SUM(G38,K38,L38) -> 0 | N38: =IF(AND((J38=0),(M38>0)),"O",IF(AND((H38<0),(J38-M38<0)),"O","X")) -> X | V38: =IF($U38<>"도비",IF($S38="국도비","직접입력",SUM($H38:$I38)),) -> 0 | W38: =IF($U38="도비",SUM($H38:$I38),IF($S38="국도비","직접입력",SUM($H38:$I38)-$V38)) -> 0 | X38: =IF(SUM($H38:$I38)=SUM($V38:$W38),"OK","검토") -> OK | AA38: =IF($U38<>"도비",IF($S38="국도비","직접입력",SUM($K38:$L38)),) -> 0 | AB38: =IF($U38="도비",SUM(K38:L38),IF($S38="국도비","직접입력",SUM(K38:L38)-AA38)) -> 0 | AC38: =IF(SUM(K38:L38)=SUM(AA38:AB38),"OK","검토") -> OK | AE38: =IF(AG38="","",IF(U38="도비","세입없음",CONCATENATE(AG38,"-",COUNTIF($AG$7:AG38,AG38)))) | AG38: {=IF(C38="","",INDEX(구분표!$I$2:$I$313, MATCH(1,(구분표!$E$2:$E$313='17년특입'!B38)*(구분표!$F$2:$F$313='17년특입'!C38)*(구분표!$G$2:$G$313='17년특입'!A38),0)))} | AK38: =IF(AE38="",0,SUMIFS('17년일출'!$V$6:$V$59,'17년일출'!$AE$6:$AE$59,'17년특입'!$AE38)) -> 0 | AL38: =IF(AE38="","",COUNTIFS('17년일출'!$AE$6:$AE$59,'17년특입'!AE38)) | AM38: =IF(V38=AK38,"OK","@@") -> OK | AO38: =IF(AE38="",0,SUMIFS('17년일출'!$AA$6:$AA$59,'17년일출'!$AE$6:$AE$59,'17년특입'!$AE38)) -> 0 | AP38: =IF(AE38="","",COUNTIFS('17년일출'!$AE$6:$AE$59,AE38)) | AQ38: =IF(AA38=AO38,"OK","@@") -> OK
A39: =IFERROR(VLOOKUP($C39,구분표!$A$2:$C$313,2,FALSE),"") | B39: =IFERROR(VLOOKUP($C39,구분표!$A$2:$C$313,3,FALSE),"") | J39: =SUM(G39:I39) -> 0 | M39: =SUM(G39,K39,L39) -> 0 | N39: =IF(AND((J39=0),(M39>0)),"O",IF(AND((H39<0),(J39-M39<0)),"O","X")) -> X | V39: =IF($U39<>"도비",IF($S39="국도비","직접입력",SUM($H39:$I39)),) -> 0 | W39: =IF($U39="도비",SUM($H39:$I39),IF($S39="국도비","직접입력",SUM($H39:$I39)-$V39)) -> 0 | X39: =IF(SUM($H39:$I39)=SUM($V39:$W39),"OK","검토") -> OK | AA39: =IF($U39<>"도비",IF($S39="국도비","직접입력",SUM($K39:$L39)),) -> 0 | AB39: =IF($U39="도비",SUM(K39:L39),IF($S39="국도비","직접입력",SUM(K39:L39)-AA39)) -> 0 | AC39: =IF(SUM(K39:L39)=SUM(AA39:AB39),"OK","검토") -> OK | AE39: =IF(AG39="","",IF(U39="도비","세입없음",CONCATENATE(AG39,"-",COUNTIF($AG$7:AG39,AG39)))) | AG39: {=IF(C39="","",INDEX(구분표!$I$2:$I$313, MATCH(1,(구분표!$E$2:$E$313='17년특입'!B39)*(구분표!$F$2:$F$313='17년특입'!C39)*(구분표!$G$2:$G$313='17년특입'!A39),0)))} | AK39: =IF(AE39="",0,SUMIFS('17년일출'!$V$6:$V$59,'17년일출'!$AE$6:$AE$59,'17년특입'!$AE39)) -> 0 | AL39: =IF(AE39="","",COUNTIFS('17년일출'!$AE$6:$AE$59,'17년특입'!AE39)) | AM39: =IF(V39=AK39,"OK","@@") -> OK | AO39: =IF(AE39="",0,SUMIFS('17년일출'!$AA$6:$AA$59,'17년일출'!$AE$6:$AE$59,'17년특입'!$AE39)) -> 0 | AP39: =IF(AE39="","",COUNTIFS('17년일출'!$AE$6:$AE$59,AE39)) | AQ39: =IF(AA39=AO39,"OK","@@") -> OK

Sheet 17년특출
A1: 2017년도 경기도 특별회계 세출 예산 조정(안)
A2: □ 세출예산 | V2: 세입=세출 | AA2: 세입=세출
Q3: (단위 : 천원) | V3: =IF(V6='17년일입'!V6,"OK","@@") -> OK | X3: =IF(COUNTIF(X6:X39,"검토")>0,"@@","OK") -> OK | AA3: =IF(AA6='17년일입'!AA6,"OK","@@") -> OK | AC3: =IF(COUNTIF(AC6:AC39,"검토")>0,"@@","OK") -> OK
A4: 위원회명 | B4: 실국명 | C4: 부서명 | D4: 편성 구분 | E4: 예산안 페이지 | F4: 사업명 | G4: 예산안 (가) | H4: 상임위 예산안 조정액(나) | J4: 상임위 조정 예산안 (다=가+나) | K4: 예결위 예산안 조정액(라) | M4: 예결위 조정 예산안 (마=가+라) | N4: 동의 대상 | O4: 상임위 변경사유 (심의 참고자료) | P4: 비고 (상임위 부대의견) | Q4: 비고 (부대의견) | S4: 국도비 등 여부 | U4: 재원 | V4: 상임위 재원별 증감액 | Z4: 재원 | AA4: 예결위 재원별 증감액 | AE4: 세입번호 | AG4: 동일 세입 건수 | AH4: 세출 번호 검증 | AJ4: 실국부서 코드 | AL4: 추가 내시 등
H5: 감액 | I5: 증액 | K5: 감액 | L5: 증액 | V5: 국비 등 | W5: 도비 | X5: 검증 | AA5: 국비 등 | AB5: 도비 | AC5: 검증
A6: 합 계 | G6: =SUBTOTAL(9,G7:G39)/2 -> 0 | H6: =SUBTOTAL(9,H7:H39)/2 -> 0 | I6: =SUBTOTAL(9,I7:I39)/2 -> 0 | J6: =SUBTOTAL(9,J7:J39)/2 -> 0 | K6: =SUBTOTAL(9,K7:K39)/2 -> 0 | L6: =SUBTOTAL(9,L7:L39)/2 -> 0 | M6: =SUBTOTAL(9,M7:M39)/2 -> 0 | V6: =SUBTOTAL(9,V7:V39) -> 0 | W6: =SUBTOTAL(9,W7:W39) -> 0 | X6: =IF(SUM($H6:$I6)=SUM($V6:$W6),"OK","검토") -> OK | AA6: =SUBTOTAL(9,AA7:AA39) -> 0 | AB6: =SUBTOTAL(9,AB7:AB39) -> 0 | AC6: =IF(SUM($H6:$I6)=SUM($V6:$W6),"OK","검토") -> OK
A7: ( 특별회계) | G7: =SUM(G8:G17) -> 0 | H7: =SUM(H8:H17) -> 0 | I7: =SUM(I8:I17) -> 0 | J7: =SUM(J8:J17) -> 0 | K7: =SUM(K8:K17) -> 0 | L7: =SUM(L8:L17) -> 0 | M7: =SUM(M8:M17) -> 0
A8: =IFERROR(VLOOKUP($C8,구분표!$A$2:$C$313,2,FALSE),"") | B8: =IFERROR(VLOOKUP($C8,구분표!$A$2:$C$313,3,FALSE),"") | D8: 본예산 | J8: =G8+H8+I8 -> 0 | M8: =G8+K8+L8 -> 0 | N8: =IF(AND((J8=0),(M8>0)),"O",IF(AND((H8<0),(J8-M8<0)),"O","X")) -> X | V8: =IF($U8<>"도비",IF($S8="국도비","직접입력",SUM($H8:$I8)),) -> 0 | W8: =IF($U8="도비",SUM($H8:$I8),IF($S8="국도비","직접입력",SUM($H8:$I8)-$V8)) -> 0 | X8: =IF(SUM($H8:$I8)=SUM($V8:$W8),"OK","검토") -> OK | AA8: =IF($U8<>"도비",IF($S8="국도비","직접입력",SUM($K8:$L8)),) -> 0 | AB8: =IF($U8="도비",SUM(K8:L8),IF($S8="국도비","직접입력",SUM(K8:L8)-AA8)) -> 0 | AC8: =IF(SUM(K8:L8)=SUM(AA8:AB8),"OK","검토") -> OK | AE8: =IF(U8="","",IF(U8="도비","세입없음","직접입력")) | AG8: =IF(AE8="","",COUNTIF($AE$7:$AE$39,AE8)) | AH8: =IF(U8="","",IF(AND(U8="도비",AE8="세입없음"),"OK",IF(AND(U8<>"도비",AE8<>""),"OK","@@"))) | AJ8: {=IF(C8="","",INDEX(구분표!$I$2:$I$313, MATCH(1,(구분표!$E$2:$E$313='17년특출'!B8)*(구분표!$F$2:$F$313='17년특출'!C8)*(구분표!$G$2:$G$313='17년특출'!A8),0)))}
A9: =IFERROR(VLOOKUP($C9,구분표!$A$2:$C$313,2,FALSE),"") | B9: =IFERROR(VLOOKUP($C9,구분표!$A$2:$C$313,3,FALSE),"") | D9: 신규 | J9: =G9+H9+I9 -> 0 | M9: =G9+K9+L9 -> 0 | N9: =IF(AND((J9=0),(M9>0)),"O",IF(AND((H9<0),(J9-M9<0)),"O","X")) -> X | V9: =IF($U9<>"도비",IF($S9="국도비","직접입력",SUM($H9:$I9)),) -> 0 | W9: =IF($U9="도비",SUM($H9:$I9),IF($S9="국도비","직접입력",SUM($H9:$I9)-$V9)) -> 0 | X9: =IF(SUM($H9:$I9)=SUM($V9:$W9),"OK","검토") -> OK | AA9: =IF($U9<>"도비",IF($S9="국도비","직접입력",SUM($K9:$L9)),) -> 0 | AB9: =IF($U9="도비",SUM(K9:L9),IF($S9="국도비","직접입력",SUM(K9:L9)-AA9)) -> 0 | AC9: =IF(SUM(K9:L9)=SUM(AA9:AB9),"OK","검토") -> OK | AE9: =IF(U9="","",IF(U9="도비","세입없음","직접입력")) | AG9: =IF(AE9="","",COUNTIF($AE$7:$AE$39,AE9)) | AH9: =IF(U9="","",IF(AND(U9="도비",AE9="세입없음"),"OK",IF(AND(U9<>"도비",AE9<>""),"OK","@@"))) | AJ9: {=IF(C9="","",INDEX(구분표!$I$2:$I$313, MATCH(1,(구분표!$E$2:$E$313='17년특출'!B9)*(구분표!$F$2:$F$313='17년특출'!C9)*(구분표!$G$2:$G$313='17년특출'!A9),0)))}
A10: =IFERROR(VLOOKUP($C10,구분표!$A$2:$C$313,2,FALSE),"") | B10: =IFERROR(VLOOKUP($C10,구분표!$A$2:$C$313,3,FALSE),"") | J10: =G10+H10+I10 -> 0 | M10: =G10+K10+L10 -> 0 | N10: =IF(AND((J10=0),(M10>0)),"O",IF(AND((H10<0),(J10-M10<0)),"O","X")) -> X | V10: =IF($U10<>"도비",IF($S10="국도비","직접입력",SUM($H10:$I10)),) -> 0 | W10: =IF($U10="도비",SUM($H10:$I10),IF($S10="국도비","직접입력",SUM($H10:$I10)-$V10)) -> 0 | X10: =IF(SUM($H10:$I10)=SUM($V10:$W10),"OK","검토") -> OK | AA10: =IF($U10<>"도비",IF($S10="국도비","직접입력",SUM($K10:$L10)),) -> 0 | AB10: =IF($U10="도비",SUM(K10:L10),IF($S10="국도비","직접입력",SUM(K10:L10)-AA10)) -> 0 | AC10: =IF(SUM(K10:L10)=SUM(AA10:AB10),"OK","검토") -> OK | AE10: =IF(U10="","",IF(U10="도비","세입없음","직접입력")) | AG10: =IF(AE10="","",COUNTIF($AE$7:$AE$39,AE10)) | AH10: =IF(U10="","",IF(AND(U10="도비",AE10="세입없음"),"OK",IF(AND(U10<>"도비",AE10<>""),"OK","@@"))) | AJ10: {=IF(C10="","",INDEX(구분표!$I$2:$I$313, MATCH(1,(구분표!$E$2:$E$313='17년특출'!B10)*(구분표!$F$2:$F$313='17년특출'!C10)*(구분표!$G$2:$G$313='17년특출'!A10),0)))}
A11: =IFERROR(VLOOKUP($C11,구분표!$A$2:$C$313,2,FALSE),"") | B11: =IFERROR(VLOOKUP($C11,구분표!$A$2:$C$313,3,FALSE),"") | J11: =G11+H11+I11 -> 0 | M11: =G11+K11+L11 -> 0 | N11: =IF(AND((J11=0),(M11>0)),"O",IF(AND((H11<0),(J11-M11<0)),"O","X")) -> X | V11: =IF($U11<>"도비",IF($S11="국도비","직접입력",SUM($H11:$I11)),) -> 0 | W11: =IF($U11="도비",SUM($H11:$I11),IF($S11="국도비","직접입력",SUM($H11:$I11)-$V11)) -> 0 | X11: =IF(SUM($H11:$I11)=SUM($V11:$W11),"OK","검토") -> OK | AA11: =IF($U11<>"도비",IF($S11="국도비","직접입력",SUM($K11:$L11)),) -> 0 | AB11: =IF($U11="도비",SUM(K11:L11),IF($S11="국도비","직접입력",SUM(K11:L11)-AA11)) -> 0 | AC11: =IF(SUM(K11:L11)=SUM(AA11:AB11),"OK","검토") -> OK | AE11: =IF(U11="","",IF(U11="도비","세입없음","직접입력")) | AG11: =IF(AE11="","",COUNTIF($AE$7:$AE$39,AE11)) | AH11: =IF(U11="","",IF(AND(U11="도비",AE11="세입없음"),"OK",IF(AND(U11<>"도비",AE11<>""),"OK","@@"))) | AJ11: {=IF(C11="","",INDEX(구분표!$I$2:$I$313, MATCH(1,(구분표!$E$2:$E$313='17년특출'!B11)*(구분표!$F$2:$F$313='17년특출'!C11)*(구분표!$G$2:$G$313='17년특출'!A11),0)))}
A12: =IFERROR(VLOOKUP($C12,구분표!$A$2:$C$313,2,FALSE),"") | B12: =IFERROR(VLOOKUP($C12,구분표!$A$2:$C$313,3,FALSE),"") | J12: =G12+H12+I12 -> 0 | M12: =G12+K12+L12 -> 0 | N12: =IF(AND((J12=0),(M12>0)),"O",IF(AND((H12<0),(J12-M12<0)),"O","X")) -> X | V12: =IF($U12<>"도비",IF($S12="국도비","직접입력",SUM($H12:$I12)),) -> 0 | W12: =IF($U12="도비",SUM($H12:$I12),IF($S12="국도비","직접입력",SUM($H12:$I12)-$V12)) -> 0 | X12: =IF(SUM($H12:$I12)=SUM($V12:$W12),"OK","검토") -> OK | AA12: =IF($U12<>"도비",IF($S12="국도비","직접입력",SUM($K12:$L12)),) -> 0 | AB12: =IF($U12="도비",SUM(K12:L12),IF($S12="국도비","직접입력",SUM(K12:L12)-AA12)) -> 0 | AC12: =IF(SUM(K12:L12)=SUM(AA12:AB12),"OK","검토") -> OK | AE12: =IF(U12="","",IF(U12="도비","세입없음","직접입력")) | AG12: =IF(AE12="","",COUNTIF($AE$7:$AE$39,AE12)) | AH12: =IF(U12="","",IF(AND(U12="도비",AE12="세입없음"),"OK",IF(AND(U12<>"도비",AE12<>""),"OK","@@"))) | AJ12: {=IF(C12="","",INDEX(구분표!$I$2:$I$313, MATCH(1,(구분표!$E$2:$E$313='17년특출'!B12)*(구분표!$F$2:$F$313='17년특출'!C12)*(구분표!$G$2:$G$313='17년특출'!A12),0)))}
A13: =IFERROR(VLOOKUP($C13,구분표!$A$2:$C$313,2,FALSE),"") | B13: =IFERROR(VLOOKUP($C13,구분표!$A$2:$C$313,3,FALSE),"") | J13: =G13+H13+I13 -> 0 | M13: =G13+K13+L13 -> 0 | N13: =IF(AND((J13=0),(M13>0)),"O",IF(AND((H13<0),(J13-M13<0)),"O","X")) -> X | V13: =IF($U13<>"도비",IF($S13="국도비","직접입력",SUM($H13:$I13)),) -> 0 | W13: =IF($U13="도비",SUM($H13:$I13),IF($S13="국도비","직접입력",SUM($H13:$I13)-$V13)) -> 0 | X13: =IF(SUM($H13:$I13)=SUM($V13:$W13),"OK","검토") -> OK | AA13: =IF($U13<>"도비",IF($S13="국도비","직접입력",SUM($K13:$L13)),) -> 0 | AB13: =IF($U13="도비",SUM(K13:L13),IF($S13="국도비","직접입력",SUM(K13:L13)-AA13)) -> 0 | AC13: =IF(SUM(K13:L13)=SUM(AA13:AB13),"OK","검토") -> OK | AE13: =IF(U13="","",IF(U13="도비","세입없음","직접입력")) | AG13: =IF(AE13="","",COUNTIF($AE$7:$AE$39,AE13)) | AH13: =IF(U13="","",IF(AND(U13="도비",AE13="세입없음"),"OK",IF(AND(U13<>"도비",AE13<>""),"OK","@@"))) | AJ13: {=IF(C13="","",INDEX(구분표!$I$2:$I$313, MATCH(1,(구분표!$E$2:$E$313='17년특출'!B13)*(구분표!$F$2:$F$313='17년특출'!C13)*(구분표!$G$2:$G$313='17년특출'!A13),0)))}
A14: =IFERROR(VLOOKUP($C14,구분표!$A$2:$C$313,2,FALSE),"") | B14: =IFERROR(VLOOKUP($C14,구분표!$A$2:$C$313,3,FALSE),"") | J14: =G14+H14+I14 -> 0 | M14: =G14+K14+L14 -> 0 | N14: =IF(AND((J14=0),(M14>0)),"O",IF(AND((H14<0),(J14-M14<0)),"O","X")) -> X | V14: =IF($U14<>"도비",IF($S14="국도비","직접입력",SUM($H14:$I14)),) -> 0 | W14: =IF($U14="도비",SUM($H14:$I14),IF($S14="국도비","직접입력",SUM($H14:$I14)-$V14)) -> 0 | X14: =IF(SUM($H14:$I14)=SUM($V14:$W14),"OK","검토") -> OK | AA14: =IF($U14<>"도비",IF($S14="국도비","직접입력",SUM($K14:$L14)),) -> 0 | AB14: =IF($U14="도비",SUM(K14:L14),IF($S14="국도비","직접입력",SUM(K14:L14)-AA14)) -> 0 | AC14: =IF(SUM(K14:L14)=SUM(AA14:AB14),"OK","검토") -> OK | AE14: =IF(U14="","",IF(U14="도비","세입없음","직접입력")) | AG14: =IF(AE14="","",COUNTIF($AE$7:$AE$39,AE14)) | AH14: =IF(U14="","",IF(AND(U14="도비",AE14="세입없음"),"OK",IF(AND(U14<>"도비",AE14<>""),"OK","@@"))) | AJ14: {=IF(C14="","",INDEX(구분표!$I$2:$I$313, MATCH(1,(구분표!$E$2:$E$313='17년특출'!B14)*(구분표!$F$2:$F$313='17년특출'!C14)*(구분표!$G$2:$G$313='17년특출'!A14),0)))}
A15: =IFERROR(VLOOKUP($C15,구분표!$A$2:$C$313,2,FALSE),"") | B15: =IFERROR(VLOOKUP($C15,구분표!$A$2:$C$313,3,FALSE),"") | J15: =G15+H15+I15 -> 0 | M15: =G15+K15+L15 -> 0 | N15: =IF(AND((J15=0),(M15>0)),"O",IF(AND((H15<0),(J15-M15<0)),"O","X")) -> X | V15: =IF($U15<>"도비",IF($S15="국도비","직접입력",SUM($H15:$I15)),) -> 0 | W15: =IF($U15="도비",SUM($H15:$I15),IF($S15="국도비","직접입력",SUM($H15:$I15)-$V15)) -> 0 | X15: =IF(SUM($H15:$I15)=SUM($V15:$W15),"OK","검토") -> OK | AA15: =IF($U15<>"도비",IF($S15="국도비","직접입력",SUM($K15:$L15)),) -> 0 | AB15: =IF($U15="도비",SUM(K15:L15),IF($S15="국도비","직접입력",SUM(K15:L15)-AA15)) -> 0 | AC15: =IF(SUM(K15:L15)=SUM(AA15:AB15),"OK","검토") -> OK | AE15: =IF(U15="","",IF(U15="도비","세입없음","직접입력")) | AG15: =IF(AE15="","",COUNTIF($AE$7:$AE$39,AE15)) | AH15: =IF(U15="","",IF(AND(U15="도비",AE15="세입없음"),"OK",IF(AND(U15<>"도비",AE15<>""),"OK","@@"))) | AJ15: {=IF(C15="","",INDEX(구분표!$I$2:$I$313, MATCH(1,(구분표!$E$2:$E$313='17년특출'!B15)*(구분표!$F$2:$F$313='17년특출'!C15)*(구분표!$G$2:$G$313='17년특출'!A15),0)))}
A16: =IFERROR(VLOOKUP($C16,구분표!$A$2:$C$313,2,FALSE),"") | B16: =IFERROR(VLOOKUP($C16,구분표!$A$2:$C$313,3,FALSE),"") | J16: =G16+H16+I16 -> 0 | M16: =G16+K16+L16 -> 0 | N16: =IF(AND((J16=0),(M16>0)),"O",IF(AND((H16<0),(J16-M16<0)),"O","X")) -> X | V16: =IF($U16<>"도비",IF($S16="국도비","직접입력",SUM($H16:$I16)),) -> 0 | W16: =IF($U16="도비",SUM($H16:$I16),IF($S16="국도비","직접입력",SUM($H16:$I16)-$V16)) -> 0 | X16: =IF(SUM($H16:$I16)=SUM($V16:$W16),"OK","검토") -> OK | AA16: =IF($U16<>"도비",IF($S16="국도비","직접입력",SUM($K16:$L16)),) -> 0 | AB16: =IF($U16="도비",SUM(K16:L16),IF($S16="국도비","직접입력",SUM(K16:L16)-AA16)) -> 0 | AC16: =IF(SUM(K16:L16)=SUM(AA16:AB16),"OK","검토") -> OK | AE16: =IF(U16="","",IF(U16="도비","세입없음","직접입력")) | AG16: =IF(AE16="","",COUNTIF($AE$7:$AE$39,AE16)) | AH16: =IF(U16="","",IF(AND(U16="도비",AE16="세입없음"),"OK",IF(AND(U16<>"도비",AE16<>""),"OK","@@"))) | AJ16: {=IF(C16="","",INDEX(구분표!$I$2:$I$313, MATCH(1,(구분표!$E$2:$E$313='17년특출'!B16)*(구분표!$F$2:$F$313='17년특출'!C16)*(구분표!$G$2:$G$313='17년특출'!A16),0)))}
A17: =IFERROR(VLOOKUP($C17,구분표!$A$2:$C$313,2,FALSE),"") | B17: =IFERROR(VLOOKUP($C17,구분표!$A$2:$C$313,3,FALSE),"") | J17: =G17+H17+I17 -> 0 | M17: =G17+K17+L17 -> 0 | N17: =IF(AND((J17=0),(M17>0)),"O",IF(AND((H17<0),(J17-M17<0)),"O","X")) -> X | V17: =IF($U17<>"도비",IF($S17="국도비","직접입력",SUM($H17:$I17)),) -> 0 | W17: =IF($U17="도비",SUM($H17:$I17),IF($S17="국도비","직접입력",SUM($H17:$I17)-$V17)) -> 0 | X17: =IF(SUM($H17:$I17)=SUM($V17:$W17),"OK","검토") -> OK | AA17: =IF($U17<>"도비",IF($S17="국도비","직접입력",SUM($K17:$L17)),) -> 0 | AB17: =IF($U17="도비",SUM(K17:L17),IF($S17="국도비","직접입력",SUM(K17:L17)-AA17)) -> 0 | AC17: =IF(SUM(K17:L17)=SUM(AA17:AB17),"OK","검토") -> OK | AE17: =IF(U17="","",IF(U17="도비","세입없음","직접입력")) | AG17: =IF(AE17="","",COUNTIF($AE$7:$AE$39,AE17)) | AH17: =IF(U17="","",IF(AND(U17="도비",AE17="세입없음"),"OK",IF(AND(U17<>"도비",AE17<>""),"OK","@@"))) | AJ17: {=IF(C17="","",INDEX(구분표!$I$2:$I$313, MATCH(1,(구분표!$E$2:$E$313='17년특출'!B17)*(구분표!$F$2:$F$313='17년특출'!C17)*(구분표!$G$2:$G$313='17년특출'!A17),0)))}
A18: ( 특별회계) | G18: =SUM(G19:G28) -> 0 | H18: =SUM(H19:H28) -> 0 | I18: =SUM(I19:I28) -> 0 | J18: =SUM(J19:J28) -> 0 | K18: =SUM(K19:K28) -> 0 | L18: =SUM(L19:L28) -> 0 | M18: =SUM(M19:M28) -> 0 | AE18: =IF(U18="","",IF(U18="도비","세입없음","직접입력"))
A19: =IFERROR(VLOOKUP($C19,구분표!$A$2:$C$313,2,FALSE),"") | B19: =IFERROR(VLOOKUP($C19,구분표!$A$2:$C$313,3,FALSE),"") | J19: =G19+H19+I19 -> 0 | M19: =G19+K19+L19 -> 0 | N19: =IF(AND((J19=0),(M19>0)),"O",IF(AND((H19<0),(J19-M19<0)),"O","X")) -> X | V19: =IF($U19<>"도비",IF($S19="국도비","직접입력",SUM($H19:$I19)),) -> 0 | W19: =IF($U19="도비",SUM($H19:$I19),IF($S19="국도비","직접입력",SUM($H19:$I19)-$V19)) -> 0 | X19: =IF(SUM($H19:$I19)=SUM($V19:$W19),"OK","검토") -> OK | AA19: =IF($U19<>"도비",IF($S19="국도비","직접입력",SUM($K19:$L19)),) -> 0 | AB19: =IF($U19="도비",SUM(K19:L19),IF($S19="국도비","직접입력",SUM(K19:L19)-AA19)) -> 0 | AC19: =IF(SUM(K19:L19)=SUM(AA19:AB19),"OK","검토") -> OK | AE19: =IF(U19="","",IF(U19="도비","세입없음","직접입력")) | AG19: =IF(AE19="","",COUNTIF($AE$7:$AE$39,AE19)) | AH19: =IF(U19="","",IF(AND(U19="도비",AE19="세입없음"),"OK",IF(AND(U19<>"도비",AE19<>""),"OK","@@"))) | AJ19: {=IF(C19="","",INDEX(구분표!$I$2:$I$313, MATCH(1,(구분표!$E$2:$E$313='17년특출'!B19)*(구분표!$F$2:$F$313='17년특출'!C19)*(구분표!$G$2:$G$313='17년특출'!A19),0)))}
A20: =IFERROR(VLOOKUP($C20,구분표!$A$2:$C$313,2,FALSE),"") | B20: =IFERROR(VLOOKUP($C20,구분표!$A$2:$C$313,3,FALSE),"") | J20: =G20+H20+I20 -> 0 | M20: =G20+K20+L20 -> 0 | N20: =IF(AND((J20=0),(M20>0)),"O",IF(AND((H20<0),(J20-M20<0)),"O","X")) -> X | V20: =IF($U20<>"도비",IF($S20="국도비","직접입력",SUM($H20:$I20)),) -> 0 | W20: =IF($U20="도비",SUM($H20:$I20),IF($S20="국도비","직접입력",SUM($H20:$I20)-$V20)) -> 0 | X20: =IF(SUM($H20:$I20)=SUM($V20:$W20),"OK","검토") -> OK | AA20: =IF($U20<>"도비",IF($S20="국도비","직접입력",SUM($K20:$L20)),) -> 0 | AB20: =IF($U20="도비",SUM(K20:L20),IF($S20="국도비","직접입력",SUM(K20:L20)-AA20)) -> 0 | AC20: =IF(SUM(K20:L20)=SUM(AA20:AB20),"OK","검토") -> OK | AE20: =IF(U20="","",IF(U20="도비","세입없음","직접입력")) | AG20: =IF(AE20="","",COUNTIF($AE$7:$AE$39,AE20)) | AH20: =IF(U20="","",IF(AND(U20="도비",AE20="세입없음"),"OK",IF(AND(U20<>"도비",AE20<>""),"OK","@@"))) | AJ20: {=IF(C20="","",INDEX(구분표!$I$2:$I$313, MATCH(1,(구분표!$E$2:$E$313='17년특출'!B20)*(구분표!$F$2:$F$313='17년특출'!C20)*(구분표!$G$2:$G$313='17년특출'!A20),0)))}
A21: =IFERROR(VLOOKUP($C21,구분표!$A$2:$C$313,2,FALSE),"") | B21: =IFERROR(VLOOKUP($C21,구분표!$A$2:$C$313,3,FALSE),"") | J21: =G21+H21+I21 -> 0 | M21: =G21+K21+L21 -> 0 | N21: =IF(AND((J21=0),(M21>0)),"O",IF(AND((H21<0),(J21-M21<0)),"O","X")) -> X | V21: =IF($U21<>"도비",IF($S21="국도비","직접입력",SUM($H21:$I21)),) -> 0 | W21: =IF($U21="도비",SUM($H21:$I21),IF($S21="국도비","직접입력",SUM($H21:$I21)-$V21)) -> 0 | X21: =IF(SUM($H21:$I21)=SUM($V21:$W21),"OK","검토") -> OK | AA21: =IF($U21<>"도비",IF($S21="국도비","직접입력",SUM($K21:$L21)),) -> 0 | AB21: =IF($U21="도비",SUM(K21:L21),IF($S21="국도비","직접입력",SUM(K21:L21)-AA21)) -> 0 | AC21: =IF(SUM(K21:L21)=SUM(AA21:AB21),"OK","검토") -> OK | AE21: =IF(U21="","",IF(U21="도비","세입없음","직접입력")) | AG21: =IF(AE21="","",COUNTIF($AE$7:$AE$39,AE21)) | AH21: =IF(U21="","",IF(AND(U21="도비",AE21="세입없음"),"OK",IF(AND(U21<>"도비",AE21<>""),"OK","@@"))) | AJ21: {=IF(C21="","",INDEX(구분표!$I$2:$I$313, MATCH(1,(구분표!$E$2:$E$313='17년특출'!B21)*(구분표!$F$2:$F$313='17년특출'!C21)*(구분표!$G$2:$G$313='17년특출'!A21),0)))}
A22: =IFERROR(VLOOKUP($C22,구분표!$A$2:$C$313,2,FALSE),"") | B22: =IFERROR(VLOOKUP($C22,구분표!$A$2:$C$313,3,FALSE),"") | J22: =G22+H22+I22 -> 0 | M22: =G22+K22+L22 -> 0 | N22: =IF(AND((J22=0),(M22>0)),"O",IF(AND((H22<0),(J22-M22<0)),"O","X")) -> X | V22: =IF($U22<>"도비",IF($S22="국도비","직접입력",SUM($H22:$I22)),) -> 0 | W22: =IF($U22="도비",SUM($H22:$I22),IF($S22="국도비","직접입력",SUM($H22:$I22)-$V22)) -> 0 | X22: =IF(SUM($H22:$I22)=SUM($V22:$W22),"OK","검토") -> OK | AA22: =IF($U22<>"도비",IF($S22="국도비","직접입력",SUM($K22:$L22)),) -> 0 | AB22: =IF($U22="도비",SUM(K22:L22),IF($S22="국도비","직접입력",SUM(K22:L22)-AA22)) -> 0 | AC22: =IF(SUM(K22:L22)=SUM(AA22:AB22),"OK","검토") -> OK | AE22: =IF(U22="","",IF(U22="도비","세입없음","직접입력")) | AG22: =IF(AE22="","",COUNTIF($AE$7:$AE$39,AE22)) | AH22: =IF(U22="","",IF(AND(U22="도비",AE22="세입없음"),"OK",IF(AND(U22<>"도비",AE22<>""),"OK","@@"))) | AJ22: {=IF(C22="","",INDEX(구분표!$I$2:$I$313, MATCH(1,(구분표!$E$2:$E$313='17년특출'!B22)*(구분표!$F$2:$F$313='17년특출'!C22)*(구분표!$G$2:$G$313='17년특출'!A22),0)))}
A23: =IFERROR(VLOOKUP($C23,구분표!$A$2:$C$313,2,FALSE),"") | B23: =IFERROR(VLOOKUP($C23,구분표!$A$2:$C$313,3,FALSE),"") | J23: =G23+H23+I23 -> 0 | M23: =G23+K23+L23 -> 0 | N23: =IF(AND((J23=0),(M23>0)),"O",IF(AND((H23<0),(J23-M23<0)),"O","X")) -> X | V23: =IF($U23<>"도비",IF($S23="국도비","직접입력",SUM($H23:$I23)),) -> 0 | W23: =IF($U23="도비",SUM($H23:$I23),IF($S23="국도비","직접입력",SUM($H23:$I23)-$V23)) -> 0 | X23: =IF(SUM($H23:$I23)=SUM($V23:$W23),"OK","검토") -> OK | AA23: =IF($U23<>"도비",IF($S23="국도비","직접입력",SUM($K23:$L23)),) -> 0 | AB23: =IF($U23="도비",SUM(K23:L23),IF($S23="국도비","직접입력",SUM(K23:L23)-AA23)) -> 0 | AC23: =IF(SUM(K23:L23)=SUM(AA23:AB23),"OK","검토") -> OK | AE23: =IF(U23="","",IF(U23="도비","세입없음","직접입력")) | AG23: =IF(AE23="","",COUNTIF($AE$7:$AE$39,AE23)) | AH23: =IF(U23="","",IF(AND(U23="도비",AE23="세입없음"),"OK",IF(AND(U23<>"도비",AE23<>""),"OK","@@"))) | AJ23: {=IF(C23="","",INDEX(구분표!$I$2:$I$313, MATCH(1,(구분표!$E$2:$E$313='17년특출'!B23)*(구분표!$F$2:$F$313='17년특출'!C23)*(구분표!$G$2:$G$313='17년특출'!A23),0)))}
A24: =IFERROR(VLOOKUP($C24,구분표!$A$2:$C$313,2,FALSE),"") | B24: =IFERROR(VLOOKUP($C24,구분표!$A$2:$C$313,3,FALSE),"") | J24: =G24+H24+I24 -> 0 | M24: =G24+K24+L24 -> 0 | N24: =IF(AND((J24=0),(M24>0)),"O",IF(AND((H24<0),(J24-M24<0)),"O","X")) -> X | V24: =IF($U24<>"도비",IF($S24="국도비","직접입력",SUM($H24:$I24)),) -> 0 | W24: =IF($U24="도비",SUM($H24:$I24),IF($S24="국도비","직접입력",SUM($H24:$I24)-$V24)) -> 0 | X24: =IF(SUM($H24:$I24)=SUM($V24:$W24),"OK","검토") -> OK | AA24: =IF($U24<>"도비",IF($S24="국도비","직접입력",SUM($K24:$L24)),) -> 0 | AB24: =IF($U24="도비",SUM(K24:L24),IF($S24="국도비","직접입력",SUM(K24:L24)-AA24)) -> 0 | AC24: =IF(SUM(K24:L24)=SUM(AA24:AB24),"OK","검토") -> OK | AE24: =IF(U24="","",IF(U24="도비","세입없음","직접입력")) | AG24: =IF(AE24="","",COUNTIF($AE$7:$AE$39,AE24)) | AH24: =IF(U24="","",IF(AND(U24="도비",AE24="세입없음"),"OK",IF(AND(U24<>"도비",AE24<>""),"OK","@@"))) | AJ24: {=IF(C24="","",INDEX(구분표!$I$2:$I$313, MATCH(1,(구분표!$E$2:$E$313='17년특출'!B24)*(구분표!$F$2:$F$313='17년특출'!C24)*(구분표!$G$2:$G$313='17년특출'!A24),0)))}
A25: =IFERROR(VLOOKUP($C25,구분표!$A$2:$C$313,2,FALSE),"") | B25: =IFERROR(VLOOKUP($C25,구분표!$A$2:$C$313,3,FALSE),"") | J25: =G25+H25+I25 -> 0 | M25: =G25+K25+L25 -> 0 | N25: =IF(AND((J25=0),(M25>0)),"O",IF(AND((H25<0),(J25-M25<0)),"O","X")) -> X | V25: =IF($U25<>"도비",IF($S25="국도비","직접입력",SUM($H25:$I25)),) -> 0 | W25: =IF($U25="도비",SUM($H25:$I25),IF($S25="국도비","직접입력",SUM($H25:$I25)-$V25)) -> 0 | X25: =IF(SUM($H25:$I25)=SUM($V25:$W25),"OK","검토") -> OK | AA25: =IF($U25<>"도비",IF($S25="국도비","직접입력",SUM($K25:$L25)),) -> 0 | AB25: =IF($U25="도비",SUM(K25:L25),IF($S25="국도비","직접입력",SUM(K25:L25)-AA25)) -> 0 | AC25: =IF(SUM(K25:L25)=SUM(AA25:AB25),"OK","검토") -> OK | AE25: =IF(U25="","",IF(U25="도비","세입없음","직접입력")) | AG25: =IF(AE25="","",COUNTIF($AE$7:$AE$39,AE25)) | AH25: =IF(U25="","",IF(AND(U25="도비",AE25="세입없음"),"OK",IF(AND(U25<>"도비",AE25<>""),"OK","@@"))) | AJ25: {=IF(C25="","",INDEX(구분표!$I$2:$I$313, MATCH(1,(구분표!$E$2:$E$313='17년특출'!B25)*(구분표!$F$2:$F$313='17년특출'!C25)*(구분표!$G$2:$G$313='17년특출'!A25),0)))}
A26: =IFERROR(VLOOKUP($C26,구분표!$A$2:$C$313,2,FALSE),"") | B26: =IFERROR(VLOOKUP($C26,구분표!$A$2:$C$313,3,FALSE),"") | J26: =G26+H26+I26 -> 0 | M26: =G26+K26+L26 -> 0 | N26: =IF(AND((J26=0),(M26>0)),"O",IF(AND((H26<0),(J26-M26<0)),"O","X")) -> X | V26: =IF($U26<>"도비",IF($S26="국도비","직접입력",SUM($H26:$I26)),) -> 0 | W26: =IF($U26="도비",SUM($H26:$I26),IF($S26="국도비","직접입력",SUM($H26:$I26)-$V26)) -> 0 | X26: =IF(SUM($H26:$I26)=SUM($V26:$W26),"OK","검토") -> OK | AA26: =IF($U26<>"도비",IF($S26="국도비","직접입력",SUM($K26:$L26)),) -> 0 | AB26: =IF($U26="도비",SUM(K26:L26),IF($S26="국도비","직접입력",SUM(K26:L26)-AA26)) -> 0 | AC26: =IF(SUM(K26:L26)=SUM(AA26:AB26),"OK","검토") -> OK | AE26: =IF(U26="","",IF(U26="도비","세입없음","직접입력")) | AG26: =IF(AE26="","",COUNTIF($AE$7:$AE$39,AE26)) | AH26: =IF(U26="","",IF(AND(U26="도비",AE26="세입없음"),"OK",IF(AND(U26<>"도비",AE26<>""),"OK","@@"))) | AJ26: {=IF(C26="","",INDEX(구분표!$I$2:$I$313, MATCH(1,(구분표!$E$2:$E$313='17년특출'!B26)*(구분표!$F$2:$F$313='17년특출'!C26)*(구분표!$G$2:$G$313='17년특출'!A26),0)))}
A27: =IFERROR(VLOOKUP($C27,구분표!$A$2:$C$313,2,FALSE),"") | B27: =IFERROR(VLOOKUP($C27,구분표!$A$2:$C$313,3,FALSE),"") | J27: =G27+H27+I27 -> 0 | M27: =G27+K27+L27 -> 0 | N27: =IF(AND((J27=0),(M27>0)),"O",IF(AND((H27<0),(J27-M27<0)),"O","X")) -> X | V27: =IF($U27<>"도비",IF($S27="국도비","직접입력",SUM($H27:$I27)),) -> 0 | W27: =IF($U27="도비",SUM($H27:$I27),IF($S27="국도비","직접입력",SUM($H27:$I27)-$V27)) -> 0 | X27: =IF(SUM($H27:$I27)=SUM($V27:$W27),"OK","검토") -> OK | AA27: =IF($U27<>"도비",IF($S27="국도비","직접입력",SUM($K27:$L27)),) -> 0 | AB27: =IF($U27="도비",SUM(K27:L27),IF($S27="국도비","직접입력",SUM(K27:L27)-AA27)) -> 0 | AC27: =IF(SUM(K27:L27)=SUM(AA27:AB27),"OK","검토") -> OK | AE27: =IF(U27="","",IF(U27="도비","세입없음","직접입력")) | AG27: =IF(AE27="","",COUNTIF($AE$7:$AE$39,AE27)) | AH27: =IF(U27="","",IF(AND(U27="도비",AE27="세입없음"),"OK",IF(AND(U27<>"도비",AE27<>""),"OK","@@"))) | AJ27: {=IF(C27="","",INDEX(구분표!$I$2:$I$313, MATCH(1,(구분표!$E$2:$E$313='17년특출'!B27)*(구분표!$F$2:$F$313='17년특출'!C27)*(구분표!$G$2:$G$313='17년특출'!A27),0)))}
A28: =IFERROR(VLOOKUP($C28,구분표!$A$2:$C$313,2,FALSE),"") | B28: =IFERROR(VLOOKUP($C28,구분표!$A$2:$C$313,3,FALSE),"") | J28: =G28+H28+I28 -> 0 | M28: =G28+K28+L28 -> 0 | N28: =IF(AND((J28=0),(M28>0)),"O",IF(AND((H28<0),(J28-M28<0)),"O","X")) -> X | V28: =IF($U28<>"도비",IF($S28="국도비","직접입력",SUM($H28:$I28)),) -> 0 | W28: =IF($U28="도비",SUM($H28:$I28),IF($S28="국도비","직접입력",SUM($H28:$I28)-$V28)) -> 0 | X28: =IF(SUM($H28:$I28)=SUM($V28:$W28),"OK","검토") -> OK | AA28: =IF($U28<>"도비",IF($S28="국도비","직접입력",SUM($K28:$L28)),) -> 0 | AB28: =IF($U28="도비",SUM(K28:L28),IF($S28="국도비","직접입력",SUM(K28:L28)-AA28)) -> 0 | AC28: =IF(SUM(K28:L28)=SUM(AA28:AB28),"OK","검토") -> OK | AE28: =IF(U28="","",IF(U28="도비","세입없음","직접입력")) | AG28: =IF(AE28="","",COUNTIF($AE$7:$AE$39,AE28)) | AH28: =IF(U28="","",IF(AND(U28="도비",AE28="세입없음"),"OK",IF(AND(U28<>"도비",AE28<>""),"OK","@@"))) | AJ28: {=IF(C28="","",INDEX(구분표!$I$2:$I$313, MATCH(1,(구분표!$E$2:$E$313='17년특출'!B28)*(구분표!$F$2:$F$313='17년특출'!C28)*(구분표!$G$2:$G$313='17년특출'!A28),0)))}
A29: ( 특별회계) | G29: =SUM(G30:G39) -> 0 | H29: =SUM(H30:H39) -> 0 | I29: =SUM(I30:I39) -> 0 | J29: =SUM(J30:J39) -> 0 | K29: =SUM(K30:K39) -> 0 | L29: =SUM(L30:L39) -> 0 | M29: =SUM(M30:M39) -> 0 | AE29: =IF(U29="","",IF(U29="도비","세입없음","직접입력"))
A30: =IFERROR(VLOOKUP($C30,구분표!$A$2:$C$313,2,FALSE),"") | B30: =IFERROR(VLOOKUP($C30,구분표!$A$2:$C$313,3,FALSE),"") | J30: =G30+H30+I30 -> 0 | M30: =G30+K30+L30 -> 0 | N30: =IF(AND((J30=0),(M30>0)),"O",IF(AND((H30<0),(J30-M30<0)),"O","X")) -> X | V30: =IF($U30<>"도비",IF($S30="국도비","직접입력",SUM($H30:$I30)),) -> 0 | W30: =IF($U30="도비",SUM($H30:$I30),IF($S30="국도비","직접입력",SUM($H30:$I30)-$V30)) -> 0 | X30: =IF(SUM($H30:$I30)=SUM($V30:$W30),"OK","검토") -> OK | AA30: =IF($U30<>"도비",IF($S30="국도비","직접입력",SUM($K30:$L30)),) -> 0 | AB30: =IF($U30="도비",SUM(K30:L30),IF($S30="국도비","직접입력",SUM(K30:L30)-AA30)) -> 0 | AC30: =IF(SUM(K30:L30)=SUM(AA30:AB30),"OK","검토") -> OK | AE30: =IF(U30="","",IF(U30="도비","세입없음","직접입력")) | AG30: =IF(AE30="","",COUNTIF($AE$7:$AE$39,AE30)) | AH30: =IF(U30="","",IF(AND(U30="도비",AE30="세입없음"),"OK",IF(AND(U30<>"도비",AE30<>""),"OK","@@"))) | AJ30: {=IF(C30="","",INDEX(구분표!$I$2:$I$313, MATCH(1,(구분표!$E$2:$E$313='17년특출'!B30)*(구분표!$F$2:$F$313='17년특출'!C30)*(구분표!$G$2:$G$313='17년특출'!A30),0)))}
A31: =IFERROR(VLOOKUP($C31,구분표!$A$2:$C$313,2,FALSE),"") | B31: =IFERROR(VLOOKUP($C31,구분표!$A$2:$C$313,3,FALSE),"") | J31: =G31+H31+I31 -> 0 | M31: =G31+K31+L31 -> 0 | N31: =IF(AND((J31=0),(M31>0)),"O",IF(AND((H31<0),(J31-M31<0)),"O","X")) -> X | V31: =IF($U31<>"도비",IF($S31="국도비","직접입력",SUM($H31:$I31)),) -> 0 | W31: =IF($U31="도비",SUM($H31:$I31),IF($S31="국도비","직접입력",SUM($H31:$I31)-$V31)) -> 0 | X31: =IF(SUM($H31:$I31)=SUM($V31:$W31),"OK","검토") -> OK | AA31: =IF($U31<>"도비",IF($S31="국도비","직접입력",SUM($K31:$L31)),) -> 0 | AB31: =IF($U31="도비",SUM(K31:L31),IF($S31="국도비","직접입력",SUM(K31:L31)-AA31)) -> 0 | AC31: =IF(SUM(K31:L31)=SUM(AA31:AB31),"OK","검토") -> OK | AE31: =IF(U31="","",IF(U31="도비","세입없음","직접입력")) | AG31: =IF(AE31="","",COUNTIF($AE$7:$AE$39,AE31)) | AH31: =IF(U31="","",IF(AND(U31="도비",AE31="세입없음"),"OK",IF(AND(U31<>"도비",AE31<>""),"OK","@@"))) | AJ31: {=IF(C31="","",INDEX(구분표!$I$2:$I$313, MATCH(1,(구분표!$E$2:$E$313='17년특출'!B31)*(구분표!$F$2:$F$313='17년특출'!C31)*(구분표!$G$2:$G$313='17년특출'!A31),0)))}
A32: =IFERROR(VLOOKUP($C32,구분표!$A$2:$C$313,2,FALSE),"") | B32: =IFERROR(VLOOKUP($C32,구분표!$A$2:$C$313,3,FALSE),"") | J32: =G32+H32+I32 -> 0 | M32: =G32+K32+L32 -> 0 | N32: =IF(AND((J32=0),(M32>0)),"O",IF(AND((H32<0),(J32-M32<0)),"O","X")) -> X | V32: =IF($U32<>"도비",IF($S32="국도비","직접입력",SUM($H32:$I32)),) -> 0 | W32: =IF($U32="도비",SUM($H32:$I32),IF($S32="국도비","직접입력",SUM($H32:$I32)-$V32)) -> 0 | X32: =IF(SUM($H32:$I32)=SUM($V32:$W32),"OK","검토") -> OK | AA32: =IF($U32<>"도비",IF($S32="국도비","직접입력",SUM($K32:$L32)),) -> 0 | AB32: =IF($U32="도비",SUM(K32:L32),IF($S32="국도비","직접입력",SUM(K32:L32)-AA32)) -> 0 | AC32: =IF(SUM(K32:L32)=SUM(AA32:AB32),"OK","검토") -> OK | AE32: =IF(U32="","",IF(U32="도비","세입없음","직접입력")) | AG32: =IF(AE32="","",COUNTIF($AE$7:$AE$39,AE32)) | AH32: =IF(U32="","",IF(AND(U32="도비",AE32="세입없음"),"OK",IF(AND(U32<>"도비",AE32<>""),"OK","@@"))) | AJ32: {=IF(C32="","",INDEX(구분표!$I$2:$I$313, MATCH(1,(구분표!$E$2:$E$313='17년특출'!B32)*(구분표!$F$2:$F$313='17년특출'!C32)*(구분표!$G$2:$G$313='17년특출'!A32),0)))}
A33: =IFERROR(VLOOKUP($C33,구분표!$A$2:$C$313,2,FALSE),"") | B33: =IFERROR(VLOOKUP($C33,구분표!$A$2:$C$313,3,FALSE),"") | J33: =G33+H33+I33 -> 0 | M33: =G33+K33+L33 -> 0 | N33: =IF(AND((J33=0),(M33>0)),"O",IF(AND((H33<0),(J33-M33<0)),"O","X")) -> X | V33: =IF($U33<>"도비",IF($S33="국도비","직접입력",SUM($H33:$I33)),) -> 0 | W33: =IF($U33="도비",SUM($H33:$I33),IF($S33="국도비","직접입력",SUM($H33:$I33)-$V33)) -> 0 | X33: =IF(SUM($H33:$I33)=SUM($V33:$W33),"OK","검토") -> OK | AA33: =IF($U33<>"도비",IF($S33="국도비","직접입력",SUM($K33:$L33)),) -> 0 | AB33: =IF($U33="도비",SUM(K33:L33),IF($S33="국도비","직접입력",SUM(K33:L33)-AA33)) -> 0 | AC33: =IF(SUM(K33:L33)=SUM(AA33:AB33),"OK","검토") -> OK | AE33: =IF(U33="","",IF(U33="도비","세입없음","직접입력")) | AG33: =IF(AE33="","",COUNTIF($AE$7:$AE$39,AE33)) | AH33: =IF(U33="","",IF(AND(U33="도비",AE33="세입없음"),"OK",IF(AND(U33<>"도비",AE33<>""),"OK","@@"))) | AJ33: {=IF(C33="","",INDEX(구분표!$I$2:$I$313, MATCH(1,(구분표!$E$2:$E$313='17년특출'!B33)*(구분표!$F$2:$F$313='17년특출'!C33)*(구분표!$G$2:$G$313='17년특출'!A33),0)))}
A34: =IFERROR(VLOOKUP($C34,구분표!$A$2:$C$313,2,FALSE),"") | B34: =IFERROR(VLOOKUP($C34,구분표!$A$2:$C$313,3,FALSE),"") | J34: =G34+H34+I34 -> 0 | M34: =G34+K34+L34 -> 0 | N34: =IF(AND((J34=0),(M34>0)),"O",IF(AND((H34<0),(J34-M34<0)),"O","X")) -> X | V34: =IF($U34<>"도비",IF($S34="국도비","직접입력",SUM($H34:$I34)),) -> 0 | W34: =IF($U34="도비",SUM($H34:$I34),IF($S34="국도비","직접입력",SUM($H34:$I34)-$V34)) -> 0 | X34: =IF(SUM($H34:$I34)=SUM($V34:$W34),"OK","검토") -> OK | AA34: =IF($U34<>"도비",IF($S34="국도비","직접입력",SUM($K34:$L34)),) -> 0 | AB34: =IF($U34="도비",SUM(K34:L34),IF($S34="국도비","직접입력",SUM(K34:L34)-AA34)) -> 0 | AC34: =IF(SUM(K34:L34)=SUM(AA34:AB34),"OK","검토") -> OK | AE34: =IF(U34="","",IF(U34="도비","세입없음","직접입력")) | AG34: =IF(AE34="","",COUNTIF($AE$7:$AE$39,AE34)) | AH34: =IF(U34="","",IF(AND(U34="도비",AE34="세입없음"),"OK",IF(AND(U34<>"도비",AE34<>""),"OK","@@"))) | AJ34: {=IF(C34="","",INDEX(구분표!$I$2:$I$313, MATCH(1,(구분표!$E$2:$E$313='17년특출'!B34)*(구분표!$F$2:$F$313='17년특출'!C34)*(구분표!$G$2:$G$313='17년특출'!A34),0)))}
A35: =IFERROR(VLOOKUP($C35,구분표!$A$2:$C$313,2,FALSE),"") | B35: =IFERROR(VLOOKUP($C35,구분표!$A$2:$C$313,3,FALSE),"") | J35: =G35+H35+I35 -> 0 | M35: =G35+K35+L35 -> 0 | N35: =IF(AND((J35=0),(M35>0)),"O",IF(AND((H35<0),(J35-M35<0)),"O","X")) -> X | V35: =IF($U35<>"도비",IF($S35="국도비","직접입력",SUM($H35:$I35)),) -> 0 | W35: =IF($U35="도비",SUM($H35:$I35),IF($S35="국도비","직접입력",SUM($H35:$I35)-$V35)) -> 0 | X35: =IF(SUM($H35:$I35)=SUM($V35:$W35),"OK","검토") -> OK | AA35: =IF($U35<>"도비",IF($S35="국도비","직접입력",SUM($K35:$L35)),) -> 0 | AB35: =IF($U35="도비",SUM(K35:L35),IF($S35="국도비","직접입력",SUM(K35:L35)-AA35)) -> 0 | AC35: =IF(SUM(K35:L35)=SUM(AA35:AB35),"OK","검토") -> OK | AE35: =IF(U35="","",IF(U35="도비","세입없음","직접입력")) | AG35: =IF(AE35="","",COUNTIF($AE$7:$AE$39,AE35)) | AH35: =IF(U35="","",IF(AND(U35="도비",AE35="세입없음"),"OK",IF(AND(U35<>"도비",AE35<>""),"OK","@@"))) | AJ35: {=IF(C35="","",INDEX(구분표!$I$2:$I$313, MATCH(1,(구분표!$E$2:$E$313='17년특출'!B35)*(구분표!$F$2:$F$313='17년특출'!C35)*(구분표!$G$2:$G$313='17년특출'!A35),0)))}
A36: =IFERROR(VLOOKUP($C36,구분표!$A$2:$C$313,2,FALSE),"") | B36: =IFERROR(VLOOKUP($C36,구분표!$A$2:$C$313,3,FALSE),"") | J36: =G36+H36+I36 -> 0 | M36: =G36+K36+L36 -> 0 | N36: =IF(AND((J36=0),(M36>0)),"O",IF(AND((H36<0),(J36-M36<0)),"O","X")) -> X | V36: =IF($U36<>"도비",IF($S36="국도비","직접입력",SUM($H36:$I36)),) -> 0 | W36: =IF($U36="도비",SUM($H36:$I36),IF($S36="국도비","직접입력",SUM($H36:$I36)-$V36)) -> 0 | X36: =IF(SUM($H36:$I36)=SUM($V36:$W36),"OK","검토") -> OK | AA36: =IF($U36<>"도비",IF($S36="국도비","직접입력",SUM($K36:$L36)),) -> 0 | AB36: =IF($U36="도비",SUM(K36:L36),IF($S36="국도비","직접입력",SUM(K36:L36)-AA36)) -> 0 | AC36: =IF(SUM(K36:L36)=SUM(AA36:AB36),"OK","검토") -> OK | AE36: =IF(U36="","",IF(U36="도비","세입없음","직접입력")) | AG36: =IF(AE36="","",COUNTIF($AE$7:$AE$39,AE36)) | AH36: =IF(U36="","",IF(AND(U36="도비",AE36="세입없음"),"OK",IF(AND(U36<>"도비",AE36<>""),"OK","@@"))) | AJ36: {=IF(C36="","",INDEX(구분표!$I$2:$I$313, MATCH(1,(구분표!$E$2:$E$313='17년특출'!B36)*(구분표!$F$2:$F$313='17년특출'!C36)*(구분표!$G$2:$G$313='17년특출'!A36),0)))}
A37: =IFERROR(VLOOKUP($C37,구분표!$A$2:$C$313,2,FALSE),"") | B37: =IFERROR(VLOOKUP($C37,구분표!$A$2:$C$313,3,FALSE),"") | J37: =G37+H37+I37 -> 0 | M37: =G37+K37+L37 -> 0 | N37: =IF(AND((J37=0),(M37>0)),"O",IF(AND((H37<0),(J37-M37<0)),"O","X")) -> X | V37: =IF($U37<>"도비",IF($S37="국도비","직접입력",SUM($H37:$I37)),) -> 0 | W37: =IF($U37="도비",SUM($H37:$I37),IF($S37="국도비","직접입력",SUM($H37:$I37)-$V37)) -> 0 | X37: =IF(SUM($H37:$I37)=SUM($V37:$W37),"OK","검토") -> OK | AA37: =IF($U37<>"도비",IF($S37="국도비","직접입력",SUM($K37:$L37)),) -> 0 | AB37: =IF($U37="도비",SUM(K37:L37),IF($S37="국도비","직접입력",SUM(K37:L37)-AA37)) -> 0 | AC37: =IF(SUM(K37:L37)=SUM(AA37:AB37),"OK","검토") -> OK | AE37: =IF(U37="","",IF(U37="도비","세입없음","직접입력")) | AG37: =IF(AE37="","",COUNTIF($AE$7:$AE$39,AE37)) | AH37: =IF(U37="","",IF(AND(U37="도비",AE37="세입없음"),"OK",IF(AND(U37<>"도비",AE37<>""),"OK","@@"))) | AJ37: {=IF(C37="","",INDEX(구분표!$I$2:$I$313, MATCH(1,(구분표!$E$2:$E$313='17년특출'!B37)*(구분표!$F$2:$F$313='17년특출'!C37)*(구분표!$G$2:$G$313='17년특출'!A37),0)))}
A38: =IFERROR(VLOOKUP($C38,구분표!$A$2:$C$313,2,FALSE),"") | B38: =IFERROR(VLOOKUP($C38,구분표!$A$2:$C$313,3,FALSE),"") | J38: =G38+H38+I38 -> 0 | M38: =G38+K38+L38 -> 0 | N38: =IF(AND((J38=0),(M38>0)),"O",IF(AND((H38<0),(J38-M38<0)),"O","X")) -> X | V38: =IF($U38<>"도비",IF($S38="국도비","직접입력",SUM($H38:$I38)),) -> 0 | W38: =IF($U38="도비",SUM($H38:$I38),IF($S38="국도비","직접입력",SUM($H38:$I38)-$V38)) -> 0 | X38: =IF(SUM($H38:$I38)=SUM($V38:$W38),"OK","검토") -> OK | AA38: =IF($U38<>"도비",IF($S38="국도비","직접입력",SUM($K38:$L38)),) -> 0 | AB38: =IF($U38="도비",SUM(K38:L38),IF($S38="국도비","직접입력",SUM(K38:L38)-AA38)) -> 0 | AC38: =IF(SUM(K38:L38)=SUM(AA38:AB38),"OK","검토") -> OK | AE38: =IF(U38="","",IF(U38="도비","세입없음","직접입력")) | AG38: =IF(AE38="","",COUNTIF($AE$7:$AE$39,AE38)) | AH38: =IF(U38="","",IF(AND(U38="도비",AE38="세입없음"),"OK",IF(AND(U38<>"도비",AE38<>""),"OK","@@"))) | AJ38: {=IF(C38="","",INDEX(구분표!$I$2:$I$313, MATCH(1,(구분표!$E$2:$E$313='17년특출'!B38)*(구분표!$F$2:$F$313='17년특출'!C38)*(구분표!$G$2:$G$313='17년특출'!A38),0)))}
A39: =IFERROR(VLOOKUP($C39,구분표!$A$2:$C$313,2,FALSE),"") | B39: =IFERROR(VLOOKUP($C39,구분표!$A$2:$C$313,3,FALSE),"") | J39: =G39+H39+I39 -> 0 | M39: =G39+K39+L39 -> 0 | N39: =IF(AND((J39=0),(M39>0)),"O",IF(AND((H39<0),(J39-M39<0)),"O","X")) -> X | V39: =IF($U39<>"도비",IF($S39="국도비","직접입력",SUM($H39:$I39)),) -> 0 | W39: =IF($U39="도비",SUM($H39:$I39),IF($S39="국도비","직접입력",SUM($H39:$I39)-$V39)) -> 0 | X39: =IF(SUM($H39:$I39)=SUM($V39:$W39),"OK","검토") -> OK | AA39: =IF($U39<>"도비",IF($S39="국도비","직접입력",SUM($K39:$L39)),) -> 0 | AB39: =IF($U39="도비",SUM(K39:L39),IF($S39="국도비","직접입력",SUM(K39:L39)-AA39)) -> 0 | AC39: =IF(SUM(K39:L39)=SUM(AA39:AB39),"OK","검토") -> OK | AE39: =IF(U39="","",IF(U39="도비","세입없음","직접입력")) | AG39: =IF(AE39="","",COUNTIF($AE$7:$AE$39,AE39)) | AH39: =IF(U39="","",IF(AND(U39="도비",AE39="세입없음"),"OK",IF(AND(U39<>"도비",AE39<>""),"OK","@@"))) | AJ39: {=IF(C39="","",INDEX(구분표!$I$2:$I$313, MATCH(1,(구분표!$E$2:$E$313='17년특출'!B39)*(구분표!$F$2:$F$313='17년특출'!C39)*(구분표!$G$2:$G$313='17년특출'!A39),0)))}

Sheet 17년기금입
A1: 2017년도 경기도 기금운용계획 세입 예산 조정(안)
A2: □ 세입예산 | V2: 세입=세출 | AA2: 세입=세출
Q3: (단위 : 천원) | V3: =IF(V6='17년일출'!V6,"OK","@@") -> @@ | X3: =IF(COUNTIF(X6:X39,"검토")>0,"@@","OK") -> OK | AA3: =IF(AA6='17년일출'!AA6,"OK","@@") -> OK | AC3: =IF(COUNTIF(AC6:AC39,"검토")>0,"@@","OK") -> OK
A4: 위원회명 | B4: 실국명 | C4: 부서명 | D4: 편성 구분 | E4: 예산안 페이지 | F4: 사업명 | G4: 예산안 (가) | H4: 상임위 예산안 조정액(나) | J4: 상임위 조정 예산안 (다=가+나) | K4: 예결위 예산안 조정액(라) | M4: 예결위 조정 예산안 (마=가+라) | N4: 동의 대상 | O4: 상임위 변경사유 (심의 참고자료) | P4: 비고 (상임위 부대의견) | Q4: 비고 (부대의견) | S4: 국도비 등 여부 | U4: 재원 | V4: 상임위 재원별 증감액 | Z4: 재원 | AA4: 예결위 재원별 증감액 | AE4: 세입번호 | AG4: 실국부서 코드 | AI4: 추가 내시 등 | AK4: 상임위 세입 검증 | AO4: 예결위 세입 검증
H5: 감액 | I5: 증액 | K5: 감액 | L5: 증액 | V5: 국비 등 | W5: 도비 | X5: 검증 | AA5: 국비 등 | AB5: 도비 | AC5: 검증 | AK5: 국비 증감액 | AL5: 건수 | AM5: 검증 | AO5: 국비 증감액 | AP5: 건수 | AQ5: 검증
A6: 합 계 | G6: =SUBTOTAL(9,G7:G39)/2 -> 0 | H6: =SUBTOTAL(9,H7:H39)/2 -> 0 | I6: =SUBTOTAL(9,I7:I39)/2 -> 0 | J6: =SUBTOTAL(9,J7:J39)/2 -> 0 | K6: =SUBTOTAL(9,K7:K39)/2 -> 0 | L6: =SUBTOTAL(9,L7:L39)/2 -> 0 | M6: =SUBTOTAL(9,M7:M39)/2 -> 0 | N6: =SUBTOTAL(9,N7:N39)/2 -> 0 | V6: =SUBTOTAL(9,V7:V39) -> 0 | W6: =SUBTOTAL(9,W7:W39) -> 0 | X6: =IF(SUM($H6:$I6)=SUM($V6:$W6),"OK","검토") -> OK | AA6: =SUBTOTAL(9,AA7:AA39) -> 0 | AB6: =SUBTOTAL(9,AB7:AB39) -> 0 | AC6: =IF(SUM($H6:$I6)=SUM($V6:$W6),"OK","검토") -> OK | AK6: =SUBTOTAL(9,AK7:AK39) -> 0 | AL6: =SUBTOTAL(9,AL7:AL39) -> 0 | AM6: =IF(COUNTIF(AM7:AM39,"@@")>0,"@@","OK") -> OK | AO6: =SUBTOTAL(9,AO7:AO39) -> 0 | AP6: =SUBTOTAL(9,AP7:AP39) -> 0 | AQ6: =IF(COUNTIF(AQ7:AQ39,"@@")>0,"@@","OK") -> OK
A7: ( 기금) | G7: =SUM(G8:G17) -> 0 | H7: =SUM(H8:H17) -> 0 | I7: =SUM(I8:I17) -> 0 | J7: =SUM(J8:J17) -> 0 | K7: =SUM(K8:K17) -> 0 | L7: =SUM(L8:L17) -> 0 | M7: =SUM(M8:M17) -> 0 | V7: =IF($U7<>"도비",IF($S7="국도비","직접입력",SUM($H7:$I7)),) -> 0 | W7: =IF($U7="도비",SUM($H7:$I7),IF($S7="국도비","직접입력",SUM($H7:$I7)-$V7)) -> 0 | X7: =IF(SUM($H7:$I7)=SUM($V7:$W7),"OK","검토") -> OK | AA7: =IF($U7<>"도비",IF($S7="국도비","직접입력",SUM($K7:$L7)),) -> 0 | AB7: =IF($U7="도비",SUM(K7:L7),IF($S7="국도비","직접입력",SUM(K7:L7)-AA7)) -> 0 | AC7: =IF(SUM(K7:L7)=SUM(AA7:AB7),"OK","검토") -> OK | AE7: =IF(AG7="","",IF(U7="도비","세입없음",CONCATENATE(AG7,"-",COUNTIF($AG$7:AG7,AG7)))) | AG7: {=IF(C7="","",INDEX(구분표!$I$2:$I$313, MATCH(1,(구분표!$E$2:$E$313='17년기금입'!B7)*(구분표!$F$2:$F$313='17년기금입'!C7)*(구분표!$G$2:$G$313='17년기금입'!A7),0)))} | AK7: =IF(AE7="",0,SUMIFS('17년일출'!$V$6:$V$59,'17년일출'!$AE$6:$AE$59,'17년기금입'!$AE7)) -> 0 | AL7: =IF(AE7="","",COUNTIFS('17년일출'!$AE$6:$AE$59,'17년기금입'!AE7)) | AM7: =IF(V7=AK7,"OK","@@") -> OK | AO7: =IF(AE7="",0,SUMIFS('17년일출'!$AA$6:$AA$59,'17년일출'!$AE$6:$AE$59,'17년기금입'!$AE7)) -> 0 | AP7: =IF(AE7="","",COUNTIFS('17년일출'!$AE$6:$AE$59,AE7)) | AQ7: =IF(AA7=AO7,"OK","@@") -> OK
A8: =IFERROR(VLOOKUP($C8,구분표!$A$2:$C$313,2,FALSE),"") | B8: =IFERROR(VLOOKUP($C8,구분표!$A$2:$C$313,3,FALSE),"") | D8: 본예산 | J8: =SUM(G8:I8) -> 0 | M8: =SUM(G8,K8,L8) -> 0 | N8: =IF(AND((J8=0),(M8>0)),"O",IF(AND((H8<0),(J8-M8<0)),"O","X")) -> X | V8: =IF($U8<>"도비",IF($S8="국도비","직접입력",SUM($H8:$I8)),) -> 0 | W8: =IF($U8="도비",SUM($H8:$I8),IF($S8="국도비","직접입력",SUM($H8:$I8)-$V8)) -> 0 | X8: =IF(SUM($H8:$I8)=SUM($V8:$W8),"OK","검토") -> OK | AA8: =IF($U8<>"도비",IF($S8="국도비","직접입력",SUM($K8:$L8)),) -> 0 | AB8: =IF($U8="도비",SUM(K8:L8),IF($S8="국도비","직접입력",SUM(K8:L8)-AA8)) -> 0 | AC8: =IF(SUM(K8:L8)=SUM(AA8:AB8),"OK","검토") -> OK | AE8: =IF(AG8="","",IF(U8="도비","세입없음",CONCATENATE(AG8,"-",COUNTIF($AG$7:AG8,AG8)))) | AG8: {=IF(C8="","",INDEX(구분표!$I$2:$I$313, MATCH(1,(구분표!$E$2:$E$313='17년기금입'!B8)*(구분표!$F$2:$F$313='17년기금입'!C8)*(구분표!$G$2:$G$313='17년기금입'!A8),0)))} | AK8: =IF(AE8="",0,SUMIFS('17년일출'!$V$6:$V$59,'17년일출'!$AE$6:$AE$59,'17년기금입'!$AE8)) -> 0 | AL8: =IF(AE8="","",COUNTIFS('17년일출'!$AE$6:$AE$59,'17년기금입'!AE8)) | AM8: =IF(V8=AK8,"OK","@@") -> OK | AO8: =IF(AE8="",0,SUMIFS('17년일출'!$AA$6:$AA$59,'17년일출'!$AE$6:$AE$59,'17년기금입'!$AE8)) -> 0 | AP8: =IF(AE8="","",COUNTIFS('17년일출'!$AE$6:$AE$59,AE8)) | AQ8: =IF(AA8=AO8,"OK","@@") -> OK
A9: =IFERROR(VLOOKUP($C9,구분표!$A$2:$C$313,2,FALSE),"") | B9: =IFERROR(VLOOKUP($C9,구분표!$A$2:$C$313,3,FALSE),"") | D9: 신규 | J9: =SUM(G9:I9) -> 0 | M9: =SUM(G9,K9,L9) -> 0 | N9: =IF(AND((J9=0),(M9>0)),"O",IF(AND((H9<0),(J9-M9<0)),"O","X")) -> X | V9: =IF($U9<>"도비",IF($S9="국도비","직접입력",SUM($H9:$I9)),) -> 0 | W9: =IF($U9="도비",SUM($H9:$I9),IF($S9="국도비","직접입력",SUM($H9:$I9)-$V9)) -> 0 | X9: =IF(SUM($H9:$I9)=SUM($V9:$W9),"OK","검토") -> OK | AA9: =IF($U9<>"도비",IF($S9="국도비","직접입력",SUM($K9:$L9)),) -> 0 | AB9: =IF($U9="도비",SUM(K9:L9),IF($S9="국도비","직접입력",SUM(K9:L9)-AA9)) -> 0 | AC9: =IF(SUM(K9:L9)=SUM(AA9:AB9),"OK","검토") -> OK | AE9: =IF(AG9="","",IF(U9="도비","세입없음",CONCATENATE(AG9,"-",COUNTIF($AG$7:AG9,AG9)))) | AG9: {=IF(C9="","",INDEX(구분표!$I$2:$I$313, MATCH(1,(구분표!$E$2:$E$313='17년기금입'!B9)*(구분표!$F$2:$F$313='17년기금입'!C9)*(구분표!$G$2:$G$313='17년기금입'!A9),0)))} | AK9: =IF(AE9="",0,SUMIFS('17년일출'!$V$6:$V$59,'17년일출'!$AE$6:$AE$59,'17년기금입'!$AE9)) -> 0 | AL9: =IF(AE9="","",COUNTIFS('17년일출'!$AE$6:$AE$59,'17년기금입'!AE9)) | AM9: =IF(V9=AK9,"OK","@@") -> OK | AO9: =IF(AE9="",0,SUMIFS('17년일출'!$AA$6:$AA$59,'17년일출'!$AE$6:$AE$59,'17년기금입'!$AE9)) -> 0 | AP9: =IF(AE9="","",COUNTIFS('17년일출'!$AE$6:$AE$59,AE9)) | AQ9: =IF(AA9=AO9,"OK","@@") -> OK
A10: =IFERROR(VLOOKUP($C10,구분표!$A$2:$C$313,2,FALSE),"") | B10: =IFERROR(VLOOKUP($C10,구분표!$A$2:$C$313,3,FALSE),"") | J10: =SUM(G10:I10) -> 0 | M10: =SUM(G10,K10,L10) -> 0 | N10: =IF(AND((J10=0),(M10>0)),"O",IF(AND((H10<0),(J10-M10<0)),"O","X")) -> X | V10: =IF($U10<>"도비",IF($S10="국도비","직접입력",SUM($H10:$I10)),) -> 0 | W10: =IF($U10="도비",SUM($H10:$I10),IF($S10="국도비","직접입력",SUM($H10:$I10)-$V10)) -> 0 | X10: =IF(SUM($H10:$I10)=SUM($V10:$W10),"OK","검토") -> OK | AA10: =IF($U10<>"도비",IF($S10="국도비","직접입력",SUM($K10:$L10)),) -> 0 | AB10: =IF($U10="도비",SUM(K10:L10),IF($S10="국도비","직접입력",SUM(K10:L10)-AA10)) -> 0 | AC10: =IF(SUM(K10:L10)=SUM(AA10:AB10),"OK","검토") -> OK | AE10: =IF(AG10="","",IF(U10="도비","세입없음",CONCATENATE(AG10,"-",COUNTIF($AG$7:AG10,AG10)))) | AG10: {=IF(C10="","",INDEX(구분표!$I$2:$I$313, MATCH(1,(구분표!$E$2:$E$313='17년기금입'!B10)*(구분표!$F$2:$F$313='17년기금입'!C10)*(구분표!$G$2:$G$313='17년기금입'!A10),0)))} | AK10: =IF(AE10="",0,SUMIFS('17년일출'!$V$6:$V$59,'17년일출'!$AE$6:$AE$59,'17년기금입'!$AE10)) -> 0 | AL10: =IF(AE10="","",COUNTIFS('17년일출'!$AE$6:$AE$59,'17년기금입'!AE10)) | AM10: =IF(V10=AK10,"OK","@@") -> OK | AO10: =IF(AE10="",0,SUMIFS('17년일출'!$AA$6:$AA$59,'17년일출'!$AE$6:$AE$59,'17년기금입'!$AE10)) -> 0 | AP10: =IF(AE10="","",COUNTIFS('17년일출'!$AE$6:$AE$59,AE10)) | AQ10: =IF(AA10=AO10,"OK","@@") -> OK
A11: =IFERROR(VLOOKUP($C11,구분표!$A$2:$C$313,2,FALSE),"") | B11: =IFERROR(VLOOKUP($C11,구분표!$A$2:$C$313,3,FALSE),"") | J11: =SUM(G11:I11) -> 0 | M11: =SUM(G11,K11,L11) -> 0 | N11: =IF(AND((J11=0),(M11>0)),"O",IF(AND((H11<0),(J11-M11<0)),"O","X")) -> X | V11: =IF($U11<>"도비",IF($S11="국도비","직접입력",SUM($H11:$I11)),) -> 0 | W11: =IF($U11="도비",SUM($H11:$I11),IF($S11="국도비","직접입력",SUM($H11:$I11)-$V11)) -> 0 | X11: =IF(SUM($H11:$I11)=SUM($V11:$W11),"OK","검토") -> OK | AA11: =IF($U11<>"도비",IF($S11="국도비","직접입력",SUM($K11:$L11)),) -> 0 | AB11: =IF($U11="도비",SUM(K11:L11),IF($S11="국도비","직접입력",SUM(K11:L11)-AA11)) -> 0 | AC11: =IF(SUM(K11:L11)=SUM(AA11:AB11),"OK","검토") -> OK | AE11: =IF(AG11="","",IF(U11="도비","세입없음",CONCATENATE(AG11,"-",COUNTIF($AG$7:AG11,AG11)))) | AG11: {=IF(C11="","",INDEX(구분표!$I$2:$I$313, MATCH(1,(구분표!$E$2:$E$313='17년기금입'!B11)*(구분표!$F$2:$F$313='17년기금입'!C11)*(구분표!$G$2:$G$313='17년기금입'!A11),0)))} | AK11: =IF(AE11="",0,SUMIFS('17년일출'!$V$6:$V$59,'17년일출'!$AE$6:$AE$59,'17년기금입'!$AE11)) -> 0 | AL11: =IF(AE11="","",COUNTIFS('17년일출'!$AE$6:$AE$59,'17년기금입'!AE11)) | AM11: =IF(V11=AK11,"OK","@@") -> OK | AO11: =IF(AE11="",0,SUMIFS('17년일출'!$AA$6:$AA$59,'17년일출'!$AE$6:$AE$59,'17년기금입'!$AE11)) -> 0 | AP11: =IF(AE11="","",COUNTIFS('17년일출'!$AE$6:$AE$59,AE11)) | AQ11: =IF(AA11=AO11,"OK","@@") -> OK
A12: =IFERROR(VLOOKUP($C12,구분표!$A$2:$C$313,2,FALSE),"") | B12: =IFERROR(VLOOKUP($C12,구분표!$A$2:$C$313,3,FALSE),"") | J12: =SUM(G12:I12) -> 0 | M12: =SUM(G12,K12,L12) -> 0 | N12: =IF(AND((J12=0),(M12>0)),"O",IF(AND((H12<0),(J12-M12<0)),"O","X")) -> X | V12: =IF($U12<>"도비",IF($S12="국도비","직접입력",SUM($H12:$I12)),) -> 0 | W12: =IF($U12="도비",SUM($H12:$I12),IF($S12="국도비","직접입력",SUM($H12:$I12)-$V12)) -> 0 | X12: =IF(SUM($H12:$I12)=SUM($V12:$W12),"OK","검토") -> OK | AA12: =IF($U12<>"도비",IF($S12="국도비","직접입력",SUM($K12:$L12)),) -> 0 | AB12: =IF($U12="도비",SUM(K12:L12),IF($S12="국도비","직접입력",SUM(K12:L12)-AA12)) -> 0 | AC12: =IF(SUM(K12:L12)=SUM(AA12:AB12),"OK","검토") -> OK | AE12: =IF(AG12="","",IF(U12="도비","세입없음",CONCATENATE(AG12,"-",COUNTIF($AG$7:AG12,AG12)))) | AG12: {=IF(C12="","",INDEX(구분표!$I$2:$I$313, MATCH(1,(구분표!$E$2:$E$313='17년기금입'!B12)*(구분표!$F$2:$F$313='17년기금입'!C12)*(구분표!$G$2:$G$313='17년기금입'!A12),0)))} | AK12: =IF(AE12="",0,SUMIFS('17년일출'!$V$6:$V$59,'17년일출'!$AE$6:$AE$59,'17년기금입'!$AE12)) -> 0 | AL12: =IF(AE12="","",COUNTIFS('17년일출'!$AE$6:$AE$59,'17년기금입'!AE12)) | AM12: =IF(V12=AK12,"OK","@@") -> OK | AO12: =IF(AE12="",0,SUMIFS('17년일출'!$AA$6:$AA$59,'17년일출'!$AE$6:$AE$59,'17년기금입'!$AE12)) -> 0 | AP12: =IF(AE12="","",COUNTIFS('17년일출'!$AE$6:$AE$59,AE12)) | AQ12: =IF(AA12=AO12,"OK","@@") -> OK
A13: =IFERROR(VLOOKUP($C13,구분표!$A$2:$C$313,2,FALSE),"") | B13: =IFERROR(VLOOKUP($C13,구분표!$A$2:$C$313,3,FALSE),"") | J13: =SUM(G13:I13) -> 0 | M13: =SUM(G13,K13,L13) -> 0 | N13: =IF(AND((J13=0),(M13>0)),"O",IF(AND((H13<0),(J13-M13<0)),"O","X")) -> X | V13: =IF($U13<>"도비",IF($S13="국도비","직접입력",SUM($H13:$I13)),) -> 0 | W13: =IF($U13="도비",SUM($H13:$I13),IF($S13="국도비","직접입력",SUM($H13:$I13)-$V13)) -> 0 | X13: =IF(SUM($H13:$I13)=SUM($V13:$W13),"OK","검토") -> OK | AA13: =IF($U13<>"도비",IF($S13="국도비","직접입력",SUM($K13:$L13)),) -> 0 | AB13: =IF($U13="도비",SUM(K13:L13),IF($S13="국도비","직접입력",SUM(K13:L13)-AA13)) -> 0 | AC13: =IF(SUM(K13:L13)=SUM(AA13:AB13),"OK","검토") -> OK | AE13: =IF(AG13="","",IF(U13="도비","세입없음",CONCATENATE(AG13,"-",COUNTIF($AG$7:AG13,AG13)))) | AG13: {=IF(C13="","",INDEX(구분표!$I$2:$I$313, MATCH(1,(구분표!$E$2:$E$313='17년기금입'!B13)*(구분표!$F$2:$F$313='17년기금입'!C13)*(구분표!$G$2:$G$313='17년기금입'!A13),0)))} | AK13: =IF(AE13="",0,SUMIFS('17년일출'!$V$6:$V$59,'17년일출'!$AE$6:$AE$59,'17년기금입'!$AE13)) -> 0 | AL13: =IF(AE13="","",COUNTIFS('17년일출'!$AE$6:$AE$59,'17년기금입'!AE13)) | AM13: =IF(V13=AK13,"OK","@@") -> OK | AO13: =IF(AE13="",0,SUMIFS('17년일출'!$AA$6:$AA$59,'17년일출'!$AE$6:$AE$59,'17년기금입'!$AE13)) -> 0 | AP13: =IF(AE13="","",COUNTIFS('17년일출'!$AE$6:$AE$59,AE13)) | AQ13: =IF(AA13=AO13,"OK","@@") -> OK
A14: =IFERROR(VLOOKUP($C14,구분표!$A$2:$C$313,2,FALSE),"") | B14: =IFERROR(VLOOKUP($C14,구분표!$A$2:$C$313,3,FALSE),"") | J14: =SUM(G14:I14) -> 0 | M14: =SUM(G14,K14,L14) -> 0 | N14: =IF(AND((J14=0),(M14>0)),"O",IF(AND((H14<0),(J14-M14<0)),"O","X")) -> X | V14: =IF($U14<>"도비",IF($S14="국도비","직접입력",SUM($H14:$I14)),) -> 0 | W14: =IF($U14="도비",SUM($H14:$I14),IF($S14="국도비","직접입력",SUM($H14:$I14)-$V14)) -> 0 | X14: =IF(SUM($H14:$I14)=SUM($V14:$W14),"OK","검토") -> OK | AA14: =IF($U14<>"도비",IF($S14="국도비","직접입력",SUM($K14:$L14)),) -> 0 | AB14: =IF($U14="도비",SUM(K14:L14),IF($S14="국도비","직접입력",SUM(K14:L14)-AA14)) -> 0 | AC14: =IF(SUM(K14:L14)=SUM(AA14:AB14),"OK","검토") -> OK | AE14: =IF(AG14="","",IF(U14="도비","세입없음",CONCATENATE(AG14,"-",COUNTIF($AG$7:AG14,AG14)))) | AG14: {=IF(C14="","",INDEX(구분표!$I$2:$I$313, MATCH(1,(구분표!$E$2:$E$313='17년기금입'!B14)*(구분표!$F$2:$F$313='17년기금입'!C14)*(구분표!$G$2:$G$313='17년기금입'!A14),0)))} | AK14: =IF(AE14="",0,SUMIFS('17년일출'!$V$6:$V$59,'17년일출'!$AE$6:$AE$59,'17년기금입'!$AE14)) -> 0 | AL14: =IF(AE14="","",COUNTIFS('17년일출'!$AE$6:$AE$59,'17년기금입'!AE14)) | AM14: =IF(V14=AK14,"OK","@@") -> OK | AO14: =IF(AE14="",0,SUMIFS('17년일출'!$AA$6:$AA$59,'17년일출'!$AE$6:$AE$59,'17년기금입'!$AE14)) -> 0 | AP14: =IF(AE14="","",COUNTIFS('17년일출'!$AE$6:$AE$59,AE14)) | AQ14: =IF(AA14=AO14,"OK","@@") -> OK
A15: =IFERROR(VLOOKUP($C15,구분표!$A$2:$C$313,2,FALSE),"") | B15: =IFERROR(VLOOKUP($C15,구분표!$A$2:$C$313,3,FALSE),"") | J15: =SUM(G15:I15) -> 0 | M15: =SUM(G15,K15,L15) -> 0 | N15: =IF(AND((J15=0),(M15>0)),"O",IF(AND((H15<0),(J15-M15<0)),"O","X")) -> X | V15: =IF($U15<>"도비",IF($S15="국도비","직접입력",SUM($H15:$I15)),) -> 0 | W15: =IF($U15="도비",SUM($H15:$I15),IF($S15="국도비","직접입력",SUM($H15:$I15)-$V15)) -> 0 | X15: =IF(SUM($H15:$I15)=SUM($V15:$W15),"OK","검토") -> OK | AA15: =IF($U15<>"도비",IF($S15="국도비","직접입력",SUM($K15:$L15)),) -> 0 | AB15: =IF($U15="도비",SUM(K15:L15),IF($S15="국도비","직접입력",SUM(K15:L15)-AA15)) -> 0 | AC15: =IF(SUM(K15:L15)=SUM(AA15:AB15),"OK","검토") -> OK | AE15: =IF(AG15="","",IF(U15="도비","세입없음",CONCATENATE(AG15,"-",COUNTIF($AG$7:AG15,AG15)))) | AG15: {=IF(C15="","",INDEX(구분표!$I$2:$I$313, MATCH(1,(구분표!$E$2:$E$313='17년기금입'!B15)*(구분표!$F$2:$F$313='17년기금입'!C15)*(구분표!$G$2:$G$313='17년기금입'!A15),0)))} | AK15: =IF(AE15="",0,SUMIFS('17년일출'!$V$6:$V$59,'17년일출'!$AE$6:$AE$59,'17년기금입'!$AE15)) -> 0 | AL15: =IF(AE15="","",COUNTIFS('17년일출'!$AE$6:$AE$59,'17년기금입'!AE15)) | AM15: =IF(V15=AK15,"OK","@@") -> OK | AO15: =IF(AE15="",0,SUMIFS('17년일출'!$AA$6:$AA$59,'17년일출'!$AE$6:$AE$59,'17년기금입'!$AE15)) -> 0 | AP15: =IF(AE15="","",COUNTIFS('17년일출'!$AE$6:$AE$59,AE15)) | AQ15: =IF(AA15=AO15,"OK","@@") -> OK
A16: =IFERROR(VLOOKUP($C16,구분표!$A$2:$C$313,2,FALSE),"") | B16: =IFERROR(VLOOKUP($C16,구분표!$A$2:$C$313,3,FALSE),"") | J16: =SUM(G16:I16) -> 0 | M16: =SUM(G16,K16,L16) -> 0 | N16: =IF(AND((J16=0),(M16>0)),"O",IF(AND((H16<0),(J16-M16<0)),"O","X")) -> X | V16: =IF($U16<>"도비",IF($S16="국도비","직접입력",SUM($H16:$I16)),) -> 0 | W16: =IF($U16="도비",SUM($H16:$I16),IF($S16="국도비","직접입력",SUM($H16:$I16)-$V16)) -> 0 | X16: =IF(SUM($H16:$I16)=SUM($V16:$W16),"OK","검토") -> OK | AA16: =IF($U16<>"도비",IF($S16="국도비","직접입력",SUM($K16:$L16)),) -> 0 | AB16: =IF($U16="도비",SUM(K16:L16),IF($S16="국도비","직접입력",SUM(K16:L16)-AA16)) -> 0 | AC16: =IF(SUM(K16:L16)=SUM(AA16:AB16),"OK","검토") -> OK | AE16: =IF(AG16="","",IF(U16="도비","세입없음",CONCATENATE(AG16,"-",COUNTIF($AG$7:AG16,AG16)))) | AG16: {=IF(C16="","",INDEX(구분표!$I$2:$I$313, MATCH(1,(구분표!$E$2:$E$313='17년기금입'!B16)*(구분표!$F$2:$F$313='17년기금입'!C16)*(구분표!$G$2:$G$313='17년기금입'!A16),0)))} | AK16: =IF(AE16="",0,SUMIFS('17년일출'!$V$6:$V$59,'17년일출'!$AE$6:$AE$59,'17년기금입'!$AE16)) -> 0 | AL16: =IF(AE16="","",COUNTIFS('17년일출'!$AE$6:$AE$59,'17년기금입'!AE16)) | AM16: =IF(V16=AK16,"OK","@@") -> OK | AO16: =IF(AE16="",0,SUMIFS('17년일출'!$AA$6:$AA$59,'17년일출'!$AE$6:$AE$59,'17년기금입'!$AE16)) -> 0 | AP16: =IF(AE16="","",COUNTIFS('17년일출'!$AE$6:$AE$59,AE16)) | AQ16: =IF(AA16=AO16,"OK","@@") -> OK
A17: =IFERROR(VLOOKUP($C17,구분표!$A$2:$C$313,2,FALSE),"") | B17: =IFERROR(VLOOKUP($C17,구분표!$A$2:$C$313,3,FALSE),"") | J17: =SUM(G17:I17) -> 0 | M17: =SUM(G17,K17,L17) -> 0 | N17: =IF(AND((J17=0),(M17>0)),"O",IF(AND((H17<0),(J17-M17<0)),"O","X")) -> X | V17: =IF($U17<>"도비",IF($S17="국도비","직접입력",SUM($H17:$I17)),) -> 0 | W17: =IF($U17="도비",SUM($H17:$I17),IF($S17="국도비","직접입력",SUM($H17:$I17)-$V17)) -> 0 | X17: =IF(SUM($H17:$I17)=SUM($V17:$W17),"OK","검토") -> OK | AA17: =IF($U17<>"도비",IF($S17="국도비","직접입력",SUM($K17:$L17)),) -> 0 | AB17: =IF($U17="도비",SUM(K17:L17),IF($S17="국도비","직접입력",SUM(K17:L17)-AA17)) -> 0 | AC17: =IF(SUM(K17:L17)=SUM(AA17:AB17),"OK","검토") -> OK | AE17: =IF(AG17="","",IF(U17="도비","세입없음",CONCATENATE(AG17,"-",COUNTIF($AG$7:AG17,AG17)))) | AG17: {=IF(C17="","",INDEX(구분표!$I$2:$I$313, MATCH(1,(구분표!$E$2:$E$313='17년기금입'!B17)*(구분표!$F$2:$F$313='17년기금입'!C17)*(구분표!$G$2:$G$313='17년기금입'!A17),0)))} | AK17: =IF(AE17="",0,SUMIFS('17년일출'!$V$6:$V$59,'17년일출'!$AE$6:$AE$59,'17년기금입'!$AE17)) -> 0 | AL17: =IF(AE17="","",COUNTIFS('17년일출'!$AE$6:$AE$59,'17년기금입'!AE17)) | AM17: =IF(V17=AK17,"OK","@@") -> OK | AO17: =IF(AE17="",0,SUMIFS('17년일출'!$AA$6:$AA$59,'17년일출'!$AE$6:$AE$59,'17년기금입'!$AE17)) -> 0 | AP17: =IF(AE17="","",COUNTIFS('17년일출'!$AE$6:$AE$59,AE17)) | AQ17: =IF(AA17=AO17,"OK","@@") -> OK
A18: ( 기금) | G18: =SUM(G19:G28) -> 0 | H18: =SUM(H19:H28) -> 0 | I18: =SUM(I19:I28) -> 0 | J18: =SUM(J19:J28) -> 0 | K18: =SUM(K19:K28) -> 0 | L18: =SUM(L19:L28) -> 0 | M18: =SUM(M19:M28) -> 0 | V18: =IF($U18<>"도비",IF($S18="국도비","직접입력",SUM($H18:$I18)),) -> 0 | W18: =IF($U18="도비",SUM($H18:$I18),IF($S18="국도비","직접입력",SUM($H18:$I18)-$V18)) -> 0 | X18: =IF(SUM($H18:$I18)=SUM($V18:$W18),"OK","검토") -> OK | AA18: =IF($U18<>"도비",IF($S18="국도비","직접입력",SUM($K18:$L18)),) -> 0 | AB18: =IF($U18="도비",SUM(K18:L18),IF($S18="국도비","직접입력",SUM(K18:L18)-AA18)) -> 0 | AC18: =IF(SUM(K18:L18)=SUM(AA18:AB18),"OK","검토") -> OK | AE18: =IF(AG18="","",IF(U18="도비","세입없음",CONCATENATE(AG18,"-",COUNTIF($AG$7:AG18,AG18)))) | AG18: {=IF(C18="","",INDEX(구분표!$I$2:$I$313, MATCH(1,(구분표!$E$2:$E$313='17년기금입'!B18)*(구분표!$F$2:$F$313='17년기금입'!C18)*(구분표!$G$2:$G$313='17년기금입'!A18),0)))} | AK18: =IF(AE18="",0,SUMIFS('17년일출'!$V$6:$V$59,'17년일출'!$AE$6:$AE$59,'17년기금입'!$AE18)) -> 0 | AL18: =IF(AE18="","",COUNTIFS('17년일출'!$AE$6:$AE$59,'17년기금입'!AE18)) | AM18: =IF(V18=AK18,"OK","@@") -> OK | AO18: =IF(AE18="",0,SUMIFS('17년일출'!$AA$6:$AA$59,'17년일출'!$AE$6:$AE$59,'17년기금입'!$AE18)) -> 0 | AP18: =IF(AE18="","",COUNTIFS('17년일출'!$AE$6:$AE$59,AE18)) | AQ18: =IF(AA18=AO18,"OK","@@") -> OK
A19: =IFERROR(VLOOKUP($C19,구분표!$A$2:$C$313,2,FALSE),"") | B19: =IFERROR(VLOOKUP($C19,구분표!$A$2:$C$313,3,FALSE),"") | J19: =SUM(G19:I19) -> 0 | M19: =SUM(G19,K19,L19) -> 0 | N19: =IF(AND((J19=0),(M19>0)),"O",IF(AND((H19<0),(J19-M19<0)),"O","X")) -> X | V19: =IF($U19<>"도비",IF($S19="국도비","직접입력",SUM($H19:$I19)),) -> 0 | W19: =IF($U19="도비",SUM($H19:$I19),IF($S19="국도비","직접입력",SUM($H19:$I19)-$V19)) -> 0 | X19: =IF(SUM($H19:$I19)=SUM($V19:$W19),"OK","검토") -> OK | AA19: =IF($U19<>"도비",IF($S19="국도비","직접입력",SUM($K19:$L19)),) -> 0 | AB19: =IF($U19="도비",SUM(K19:L19),IF($S19="국도비","직접입력",SUM(K19:L19)-AA19)) -> 0 | AC19: =IF(SUM(K19:L19)=SUM(AA19:AB19),"OK","검토") -> OK | AE19: =IF(AG19="","",IF(U19="도비","세입없음",CONCATENATE(AG19,"-",COUNTIF($AG$7:AG19,AG19)))) | AG19: {=IF(C19="","",INDEX(구분표!$I$2:$I$313, MATCH(1,(구분표!$E$2:$E$313='17년기금입'!B19)*(구분표!$F$2:$F$313='17년기금입'!C19)*(구분표!$G$2:$G$313='17년기금입'!A19),0)))} | AK19: =IF(AE19="",0,SUMIFS('17년일출'!$V$6:$V$59,'17년일출'!$AE$6:$AE$59,'17년기금입'!$AE19)) -> 0 | AL19: =IF(AE19="","",COUNTIFS('17년일출'!$AE$6:$AE$59,'17년기금입'!AE19)) | AM19: =IF(V19=AK19,"OK","@@") -> OK | AO19: =IF(AE19="",0,SUMIFS('17년일출'!$AA$6:$AA$59,'17년일출'!$AE$6:$AE$59,'17년기금입'!$AE19)) -> 0 | AP19: =IF(AE19="","",COUNTIFS('17년일출'!$AE$6:$AE$59,AE19)) | AQ19: =IF(AA19=AO19,"OK","@@") -> OK
A20: =IFERROR(VLOOKUP($C20,구분표!$A$2:$C$313,2,FALSE),"") | B20: =IFERROR(VLOOKUP($C20,구분표!$A$2:$C$313,3,FALSE),"") | J20: =SUM(G20:I20) -> 0 | M20: =SUM(G20,K20,L20) -> 0 | N20: =IF(AND((J20=0),(M20>0)),"O",IF(AND((H20<0),(J20-M20<0)),"O","X")) -> X | V20: =IF($U20<>"도비",IF($S20="국도비","직접입력",SUM($H20:$I20)),) -> 0 | W20: =IF($U20="도비",SUM($H20:$I20),IF($S20="국도비","직접입력",SUM($H20:$I20)-$V20)) -> 0 | X20: =IF(SUM($H20:$I20)=SUM($V20:$W20),"OK","검토") -> OK | AA20: =IF($U20<>"도비",IF($S20="국도비","직접입력",SUM($K20:$L20)),) -> 0 | AB20: =IF($U20="도비",SUM(K20:L20),IF($S20="국도비","직접입력",SUM(K20:L20)-AA20)) -> 0 | AC20: =IF(SUM(K20:L20)=SUM(AA20:AB20),"OK","검토") -> OK | AE20: =IF(AG20="","",IF(U20="도비","세입없음",CONCATENATE(AG20,"-",COUNTIF($AG$7:AG20,AG20)))) | AG20: {=IF(C20="","",INDEX(구분표!$I$2:$I$313, MATCH(1,(구분표!$E$2:$E$313='17년기금입'!B20)*(구분표!$F$2:$F$313='17년기금입'!C20)*(구분표!$G$2:$G$313='17년기금입'!A20),0)))} | AK20: =IF(AE20="",0,SUMIFS('17년일출'!$V$6:$V$59,'17년일출'!$AE$6:$AE$59,'17년기금입'!$AE20)) -> 0 | AL20: =IF(AE20="","",COUNTIFS('17년일출'!$AE$6:$AE$59,'17년기금입'!AE20)) | AM20: =IF(V20=AK20,"OK","@@") -> OK | AO20: =IF(AE20="",0,SUMIFS('17년일출'!$AA$6:$AA$59,'17년일출'!$AE$6:$AE$59,'17년기금입'!$AE20)) -> 0 | AP20: =IF(AE20="","",COUNTIFS('17년일출'!$AE$6:$AE$59,AE20)) | AQ20: =IF(AA20=AO20,"OK","@@") -> OK
A21: =IFERROR(VLOOKUP($C21,구분표!$A$2:$C$313,2,FALSE),"") | B21: =IFERROR(VLOOKUP($C21,구분표!$A$2:$C$313,3,FALSE),"") | J21: =SUM(G21:I21) -> 0 | M21: =SUM(G21,K21,L21) -> 0 | N21: =IF(AND((J21=0),(M21>0)),"O",IF(AND((H21<0),(J21-M21<0)),"O","X")) -> X | V21: =IF($U21<>"도비",IF($S21="국도비","직접입력",SUM($H21:$I21)),) -> 0 | W21: =IF($U21="도비",SUM($H21:$I21),IF($S21="국도비","직접입력",SUM($H21:$I21)-$V21)) -> 0 | X21: =IF(SUM($H21:$I21)=SUM($V21:$W21),"OK","검토") -> OK | AA21: =IF($U21<>"도비",IF($S21="국도비","직접입력",SUM($K21:$L21)),) -> 0 | AB21: =IF($U21="도비",SUM(K21:L21),IF($S21="국도비","직접입력",SUM(K21:L21)-AA21)) -> 0 | AC21: =IF(SUM(K21:L21)=SUM(AA21:AB21),"OK","검토") -> OK | AE21: =IF(AG21="","",IF(U21="도비","세입없음",CONCATENATE(AG21,"-",COUNTIF($AG$7:AG21,AG21)))) | AG21: {=IF(C21="","",INDEX(구분표!$I$2:$I$313, MATCH(1,(구분표!$E$2:$E$313='17년기금입'!B21)*(구분표!$F$2:$F$313='17년기금입'!C21)*(구분표!$G$2:$G$313='17년기금입'!A21),0)))} | AK21: =IF(AE21="",0,SUMIFS('17년일출'!$V$6:$V$59,'17년일출'!$AE$6:$AE$59,'17년기금입'!$AE21)) -> 0 | AL21: =IF(AE21="","",COUNTIFS('17년일출'!$AE$6:$AE$59,'17년기금입'!AE21)) | AM21: =IF(V21=AK21,"OK","@@") -> OK | AO21: =IF(AE21="",0,SUMIFS('17년일출'!$AA$6:$AA$59,'17년일출'!$AE$6:$AE$59,'17년기금입'!$AE21)) -> 0 | AP21: =IF(AE21="","",COUNTIFS('17년일출'!$AE$6:$AE$59,AE21)) | AQ21: =IF(AA21=AO21,"OK","@@") -> OK
A22: =IFERROR(VLOOKUP($C22,구분표!$A$2:$C$313,2,FALSE),"") | B22: =IFERROR(VLOOKUP($C22,구분표!$A$2:$C$313,3,FALSE),"") | J22: =SUM(G22:I22) -> 0 | M22: =SUM(G22,K22,L22) -> 0 | N22: =IF(AND((J22=0),(M22>0)),"O",IF(AND((H22<0),(J22-M22<0)),"O","X")) -> X | V22: =IF($U22<>"도비",IF($S22="국도비","직접입력",SUM($H22:$I22)),) -> 0 | W22: =IF($U22="도비",SUM($H22:$I22),IF($S22="국도비","직접입력",SUM($H22:$I22)-$V22)) -> 0 | X22: =IF(SUM($H22:$I22)=SUM($V22:$W22),"OK","검토") -> OK | AA22: =IF($U22<>"도비",IF($S22="국도비","직접입력",SUM($K22:$L22)),) -> 0 | AB22: =IF($U22="도비",SUM(K22:L22),IF($S22="국도비","직접입력",SUM(K22:L22)-AA22)) -> 0 | AC22: =IF(SUM(K22:L22)=SUM(AA22:AB22),"OK","검토") -> OK | AE22: =IF(AG22="","",IF(U22="도비","세입없음",CONCATENATE(AG22,"-",COUNTIF($AG$7:AG22,AG22)))) | AG22: {=IF(C22="","",INDEX(구분표!$I$2:$I$313, MATCH(1,(구분표!$E$2:$E$313='17년기금입'!B22)*(구분표!$F$2:$F$313='17년기금입'!C22)*(구분표!$G$2:$G$313='17년기금입'!A22),0)))} | AK22: =IF(AE22="",0,SUMIFS('17년일출'!$V$6:$V$59,'17년일출'!$AE$6:$AE$59,'17년기금입'!$AE22)) -> 0 | AL22: =IF(AE22="","",COUNTIFS('17년일출'!$AE$6:$AE$59,'17년기금입'!AE22)) | AM22: =IF(V22=AK22,"OK","@@") -> OK | AO22: =IF(AE22="",0,SUMIFS('17년일출'!$AA$6:$AA$59,'17년일출'!$AE$6:$AE$59,'17년기금입'!$AE22)) -> 0 | AP22: =IF(AE22="","",COUNTIFS('17년일출'!$AE$6:$AE$59,AE22)) | AQ22: =IF(AA22=AO22,"OK","@@") -> OK
A23: =IFERROR(VLOOKUP($C23,구분표!$A$2:$C$313,2,FALSE),"") | B23: =IFERROR(VLOOKUP($C23,구분표!$A$2:$C$313,3,FALSE),"") | J23: =SUM(G23:I23) -> 0 | M23: =SUM(G23,K23,L23) -> 0 | N23: =IF(AND((J23=0),(M23>0)),"O",IF(AND((H23<0),(J23-M23<0)),"O","X")) -> X | V23: =IF($U23<>"도비",IF($S23="국도비","직접입력",SUM($H23:$I23)),) -> 0 | W23: =IF($U23="도비",SUM($H23:$I23),IF($S23="국도비","직접입력",SUM($H23:$I23)-$V23)) -> 0 | X23: =IF(SUM($H23:$I23)=SUM($V23:$W23),"OK","검토") -> OK | AA23: =IF($U23<>"도비",IF($S23="국도비","직접입력",SUM($K23:$L23)),) -> 0 | AB23: =IF($U23="도비",SUM(K23:L23),IF($S23="국도비","직접입력",SUM(K23:L23)-AA23)) -> 0 | AC23: =IF(SUM(K23:L23)=SUM(AA23:AB23),"OK","검토") -> OK | AE23: =IF(AG23="","",IF(U23="도비","세입없음",CONCATENATE(AG23,"-",COUNTIF($AG$7:AG23,AG23)))) | AG23: {=IF(C23="","",INDEX(구분표!$I$2:$I$313, MATCH(1,(구분표!$E$2:$E$313='17년기금입'!B23)*(구분표!$F$2:$F$313='17년기금입'!C23)*(구분표!$G$2:$G$313='17년기금입'!A23),0)))} | AK23: =IF(AE23="",0,SUMIFS('17년일출'!$V$6:$V$59,'17년일출'!$AE$6:$AE$59,'17년기금입'!$AE23)) -> 0 | AL23: =IF(AE23="","",COUNTIFS('17년일출'!$AE$6:$AE$59,'17년기금입'!AE23)) | AM23: =IF(V23=AK23,"OK","@@") -> OK | AO23: =IF(AE23="",0,SUMIFS('17년일출'!$AA$6:$AA$59,'17년일출'!$AE$6:$AE$59,'17년기금입'!$AE23)) -> 0 | AP23: =IF(AE23="","",COUNTIFS('17년일출'!$AE$6:$AE$59,AE23)) | AQ23: =IF(AA23=AO23,"OK","@@") -> OK
A24: =IFERROR(VLOOKUP($C24,구분표!$A$2:$C$313,2,FALSE),"") | B24: =IFERROR(VLOOKUP($C24,구분표!$A$2:$C$313,3,FALSE),"") | J24: =SUM(G24:I24) -> 0 | M24: =SUM(G24,K24,L24) -> 0 | N24: =IF(AND((J24=0),(M24>0)),"O",IF(AND((H24<0),(J24-M24<0)),"O","X")) -> X | V24: =IF($U24<>"도비",IF($S24="국도비","직접입력",SUM($H24:$I24)),) -> 0 | W24: =IF($U24="도비",SUM($H24:$I24),IF($S24="국도비","직접입력",SUM($H24:$I24)-$V24)) -> 0 | X24: =IF(SUM($H24:$I24)=SUM($V24:$W24),"OK","검토") -> OK | AA24: =IF($U24<>"도비",IF($S24="국도비","직접입력",SUM($K24:$L24)),) -> 0 | AB24: =IF($U24="도비",SUM(K24:L24),IF($S24="국도비","직접입력",SUM(K24:L24)-AA24)) -> 0 | AC24: =IF(SUM(K24:L24)=SUM(AA24:AB24),"OK","검토") -> OK | AE24: =IF(AG24="","",IF(U24="도비","세입없음",CONCATENATE(AG24,"-",COUNTIF($AG$7:AG24,AG24)))) | AG24: {=IF(C24="","",INDEX(구분표!$I$2:$I$313, MATCH(1,(구분표!$E$2:$E$313='17년기금입'!B24)*(구분표!$F$2:$F$313='17년기금입'!C24)*(구분표!$G$2:$G$313='17년기금입'!A24),0)))} | AK24: =IF(AE24="",0,SUMIFS('17년일출'!$V$6:$V$59,'17년일출'!$AE$6:$AE$59,'17년기금입'!$AE24)) -> 0 | AL24: =IF(AE24="","",COUNTIFS('17년일출'!$AE$6:$AE$59,'17년기금입'!AE24)) | AM24: =IF(V24=AK24,"OK","@@") -> OK | AO24: =IF(AE24="",0,SUMIFS('17년일출'!$AA$6:$AA$59,'17년일출'!$AE$6:$AE$59,'17년기금입'!$AE24)) -> 0 | AP24: =IF(AE24="","",COUNTIFS('17년일출'!$AE$6:$AE$59,AE24)) | AQ24: =IF(AA24=AO24,"OK","@@") -> OK
A25: =IFERROR(VLOOKUP($C25,구분표!$A$2:$C$313,2,FALSE),"") | B25: =IFERROR(VLOOKUP($C25,구분표!$A$2:$C$313,3,FALSE),"") | J25: =SUM(G25:I25) -> 0 | M25: =SUM(G25,K25,L25) -> 0 | N25: =IF(AND((J25=0),(M25>0)),"O",IF(AND((H25<0),(J25-M25<0)),"O","X")) -> X | V25: =IF($U25<>"도비",IF($S25="국도비","직접입력",SUM($H25:$I25)),) -> 0 | W25: =IF($U25="도비",SUM($H25:$I25),IF($S25="국도비","직접입력",SUM($H25:$I25)-$V25)) -> 0 | X25: =IF(SUM($H25:$I25)=SUM($V25:$W25),"OK","검토") -> OK | AA25: =IF($U25<>"도비",IF($S25="국도비","직접입력",SUM($K25:$L25)),) -> 0 | AB25: =IF($U25="도비",SUM(K25:L25),IF($S25="국도비","직접입력",SUM(K25:L25)-AA25)) -> 0 | AC25: =IF(SUM(K25:L25)=SUM(AA25:AB25),"OK","검토") -> OK | AE25: =IF(AG25="","",IF(U25="도비","세입없음",CONCATENATE(AG25,"-",COUNTIF($AG$7:AG25,AG25)))) | AG25: {=IF(C25="","",INDEX(구분표!$I$2:$I$313, MATCH(1,(구분표!$E$2:$E$313='17년기금입'!B25)*(구분표!$F$2:$F$313='17년기금입'!C25)*(구분표!$G$2:$G$313='17년기금입'!A25),0)))} | AK25: =IF(AE25="",0,SUMIFS('17년일출'!$V$6:$V$59,'17년일출'!$AE$6:$AE$59,'17년기금입'!$AE25)) -> 0 | AL25: =IF(AE25="","",COUNTIFS('17년일출'!$AE$6:$AE$59,'17년기금입'!AE25)) | AM25: =IF(V25=AK25,"OK","@@") -> OK | AO25: =IF(AE25="",0,SUMIFS('17년일출'!$AA$6:$AA$59,'17년일출'!$AE$6:$AE$59,'17년기금입'!$AE25)) -> 0 | AP25: =IF(AE25="","",COUNTIFS('17년일출'!$AE$6:$AE$59,AE25)) | AQ25: =IF(AA25=AO25,"OK","@@") -> OK
A26: =IFERROR(VLOOKUP($C26,구분표!$A$2:$C$313,2,FALSE),"") | B26: =IFERROR(VLOOKUP($C26,구분표!$A$2:$C$313,3,FALSE),"") | J26: =SUM(G26:I26) -> 0 | M26: =SUM(G26,K26,L26) -> 0 | N26: =IF(AND((J26=0),(M26>0)),"O",IF(AND((H26<0),(J26-M26<0)),"O","X")) -> X | V26: =IF($U26<>"도비",IF($S26="국도비","직접입력",SUM($H26:$I26)),) -> 0 | W26: =IF($U26="도비",SUM($H26:$I26),IF($S26="국도비","직접입력",SUM($H26:$I26)-$V26)) -> 0 | X26: =IF(SUM($H26:$I26)=SUM($V26:$W26),"OK","검토") -> OK | AA26: =IF($U26<>"도비",IF($S26="국도비","직접입력",SUM($K26:$L26)),) -> 0 | AB26: =IF($U26="도비",SUM(K26:L26),IF($S26="국도비","직접입력",SUM(K26:L26)-AA26)) -> 0 | AC26: =IF(SUM(K26:L26)=SUM(AA26:AB26),"OK","검토") -> OK | AE26: =IF(AG26="","",IF(U26="도비","세입없음",CONCATENATE(AG26,"-",COUNTIF($AG$7:AG26,AG26)))) | AG26: {=IF(C26="","",INDEX(구분표!$I$2:$I$313, MATCH(1,(구분표!$E$2:$E$313='17년기금입'!B26)*(구분표!$F$2:$F$313='17년기금입'!C26)*(구분표!$G$2:$G$313='17년기금입'!A26),0)))} | AK26: =IF(AE26="",0,SUMIFS('17년일출'!$V$6:$V$59,'17년일출'!$AE$6:$AE$59,'17년기금입'!$AE26)) -> 0 | AL26: =IF(AE26="","",COUNTIFS('17년일출'!$AE$6:$AE$59,'17년기금입'!AE26)) | AM26: =IF(V26=AK26,"OK","@@") -> OK | AO26: =IF(AE26="",0,SUMIFS('17년일출'!$AA$6:$AA$59,'17년일출'!$AE$6:$AE$59,'17년기금입'!$AE26)) -> 0 | AP26: =IF(AE26="","",COUNTIFS('17년일출'!$AE$6:$AE$59,AE26)) | AQ26: =IF(AA26=AO26,"OK","@@") -> OK
A27: =IFERROR(VLOOKUP($C27,구분표!$A$2:$C$313,2,FALSE),"") | B27: =IFERROR(VLOOKUP($C27,구분표!$A$2:$C$313,3,FALSE),"") | J27: =SUM(G27:I27) -> 0 | M27: =SUM(G27,K27,L27) -> 0 | N27: =IF(AND((J27=0),(M27>0)),"O",IF(AND((H27<0),(J27-M27<0)),"O","X")) -> X | V27: =IF($U27<>"도비",IF($S27="국도비","직접입력",SUM($H27:$I27)),) -> 0 | W27: =IF($U27="도비",SUM($H27:$I27),IF($S27="국도비","직접입력",SUM($H27:$I27)-$V27)) -> 0 | X27: =IF(SUM($H27:$I27)=SUM($V27:$W27),"OK","검토") -> OK | AA27: =IF($U27<>"도비",IF($S27="국도비","직접입력",SUM($K27:$L27)),) -> 0 | AB27: =IF($U27="도비",SUM(K27:L27),IF($S27="국도비","직접입력",SUM(K27:L27)-AA27)) -> 0 | AC27: =IF(SUM(K27:L27)=SUM(AA27:AB27),"OK","검토") -> OK | AE27: =IF(AG27="","",IF(U27="도비","세입없음",CONCATENATE(AG27,"-",COUNTIF($AG$7:AG27,AG27)))) | AG27: {=IF(C27="","",INDEX(구분표!$I$2:$I$313, MATCH(1,(구분표!$E$2:$E$313='17년기금입'!B27)*(구분표!$F$2:$F$313='17년기금입'!C27)*(구분표!$G$2:$G$313='17년기금입'!A27),0)))} | AK27: =IF(AE27="",0,SUMIFS('17년일출'!$V$6:$V$59,'17년일출'!$AE$6:$AE$59,'17년기금입'!$AE27)) -> 0 | AL27: =IF(AE27="","",COUNTIFS('17년일출'!$AE$6:$AE$59,'17년기금입'!AE27)) | AM27: =IF(V27=AK27,"OK","@@") -> OK | AO27: =IF(AE27="",0,SUMIFS('17년일출'!$AA$6:$AA$59,'17년일출'!$AE$6:$AE$59,'17년기금입'!$AE27)) -> 0 | AP27: =IF(AE27="","",COUNTIFS('17년일출'!$AE$6:$AE$59,AE27)) | AQ27: =IF(AA27=AO27,"OK","@@") -> OK
A28: =IFERROR(VLOOKUP($C28,구분표!$A$2:$C$313,2,FALSE),"") | B28: =IFERROR(VLOOKUP($C28,구분표!$A$2:$C$313,3,FALSE),"") | J28: =SUM(G28:I28) -> 0 | M28: =SUM(G28,K28,L28) -> 0 | N28: =IF(AND((J28=0),(M28>0)),"O",IF(AND((H28<0),(J28-M28<0)),"O","X")) -> X | V28: =IF($U28<>"도비",IF($S28="국도비","직접입력",SUM($H28:$I28)),) -> 0 | W28: =IF($U28="도비",SUM($H28:$I28),IF($S28="국도비","직접입력",SUM($H28:$I28)-$V28)) -> 0 | X28: =IF(SUM($H28:$I28)=SUM($V28:$W28),"OK","검토") -> OK | AA28: =IF($U28<>"도비",IF($S28="국도비","직접입력",SUM($K28:$L28)),) -> 0 | AB28: =IF($U28="도비",SUM(K28:L28),IF($S28="국도비","직접입력",SUM(K28:L28)-AA28)) -> 0 | AC28: =IF(SUM(K28:L28)=SUM(AA28:AB28),"OK","검토") -> OK | AE28: =IF(AG28="","",IF(U28="도비","세입없음",CONCATENATE(AG28,"-",COUNTIF($AG$7:AG28,AG28)))) | AG28: {=IF(C28="","",INDEX(구분표!$I$2:$I$313, MATCH(1,(구분표!$E$2:$E$313='17년기금입'!B28)*(구분표!$F$2:$F$313='17년기금입'!C28)*(구분표!$G$2:$G$313='17년기금입'!A28),0)))} | AK28: =IF(AE28="",0,SUMIFS('17년일출'!$V$6:$V$59,'17년일출'!$AE$6:$AE$59,'17년기금입'!$AE28)) -> 0 | AL28: =IF(AE28="","",COUNTIFS('17년일출'!$AE$6:$AE$59,'17년기금입'!AE28)) | AM28: =IF(V28=AK28,"OK","@@") -> OK | AO28: =IF(AE28="",0,SUMIFS('17년일출'!$AA$6:$AA$59,'17년일출'!$AE$6:$AE$59,'17년기금입'!$AE28)) -> 0 | AP28: =IF(AE28="","",COUNTIFS('17년일출'!$AE$6:$AE$59,AE28)) | AQ28: =IF(AA28=AO28,"OK","@@") -> OK
A29: ( 기금) | G29: =SUM(G30:G39) -> 0 | H29: =SUM(H30:H39) -> 0 | I29: =SUM(I30:I39) -> 0 | J29: =SUM(J30:J39) -> 0 | K29: =SUM(K30:K39) -> 0 | L29: =SUM(L30:L39) -> 0 | M29: =SUM(M30:M39) -> 0 | V29: =IF($U29<>"도비",IF($S29="국도비","직접입력",SUM($H29:$I29)),) -> 0 | W29: =IF($U29="도비",SUM($H29:$I29),IF($S29="국도비","직접입력",SUM($H29:$I29)-$V29)) -> 0 | X29: =IF(SUM($H29:$I29)=SUM($V29:$W29),"OK","검토") -> OK | AA29: =IF($U29<>"도비",IF($S29="국도비","직접입력",SUM($K29:$L29)),) -> 0 | AB29: =IF($U29="도비",SUM(K29:L29),IF($S29="국도비","직접입력",SUM(K29:L29)-AA29)) -> 0 | AC29: =IF(SUM(K29:L29)=SUM(AA29:AB29),"OK","검토") -> OK | AE29: =IF(AG29="","",IF(U29="도비","세입없음",CONCATENATE(AG29,"-",COUNTIF($AG$7:AG29,AG29)))) | AG29: {=IF(C29="","",INDEX(구분표!$I$2:$I$313, MATCH(1,(구분표!$E$2:$E$313='17년기금입'!B29)*(구분표!$F$2:$F$313='17년기금입'!C29)*(구분표!$G$2:$G$313='17년기금입'!A29),0)))} | AK29: =IF(AE29="",0,SUMIFS('17년일출'!$V$6:$V$59,'17년일출'!$AE$6:$AE$59,'17년기금입'!$AE29)) -> 0 | AL29: =IF(AE29="","",COUNTIFS('17년일출'!$AE$6:$AE$59,'17년기금입'!AE29)) | AM29: =IF(V29=AK29,"OK","@@") -> OK | AO29: =IF(AE29="",0,SUMIFS('17년일출'!$AA$6:$AA$59,'17년일출'!$AE$6:$AE$59,'17년기금입'!$AE29)) -> 0 | AP29: =IF(AE29="","",COUNTIFS('17년일출'!$AE$6:$AE$59,AE29)) | AQ29: =IF(AA29=AO29,"OK","@@") -> OK
A30: =IFERROR(VLOOKUP($C30,구분표!$A$2:$C$313,2,FALSE),"") | B30: =IFERROR(VLOOKUP($C30,구분표!$A$2:$C$313,3,FALSE),"") | J30: =SUM(G30:I30) -> 0 | M30: =SUM(G30,K30,L30) -> 0 | N30: =IF(AND((J30=0),(M30>0)),"O",IF(AND((H30<0),(J30-M30<0)),"O","X")) -> X | V30: =IF($U30<>"도비",IF($S30="국도비","직접입력",SUM($H30:$I30)),) -> 0 | W30: =IF($U30="도비",SUM($H30:$I30),IF($S30="국도비","직접입력",SUM($H30:$I30)-$V30)) -> 0 | X30: =IF(SUM($H30:$I30)=SUM($V30:$W30),"OK","검토") -> OK | AA30: =IF($U30<>"도비",IF($S30="국도비","직접입력",SUM($K30:$L30)),) -> 0 | AB30: =IF($U30="도비",SUM(K30:L30),IF($S30="국도비","직접입력",SUM(K30:L30)-AA30)) -> 0 | AC30: =IF(SUM(K30:L30)=SUM(AA30:AB30),"OK","검토") -> OK | AE30: =IF(AG30="","",IF(U30="도비","세입없음",CONCATENATE(AG30,"-",COUNTIF($AG$7:AG30,AG30)))) | AG30: {=IF(C30="","",INDEX(구분표!$I$2:$I$313, MATCH(1,(구분표!$E$2:$E$313='17년기금입'!B30)*(구분표!$F$2:$F$313='17년기금입'!C30)*(구분표!$G$2:$G$313='17년기금입'!A30),0)))} | AK30: =IF(AE30="",0,SUMIFS('17년일출'!$V$6:$V$59,'17년일출'!$AE$6:$AE$59,'17년기금입'!$AE30)) -> 0 | AL30: =IF(AE30="","",COUNTIFS('17년일출'!$AE$6:$AE$59,'17년기금입'!AE30)) | AM30: =IF(V30=AK30,"OK","@@") -> OK | AO30: =IF(AE30="",0,SUMIFS('17년일출'!$AA$6:$AA$59,'17년일출'!$AE$6:$AE$59,'17년기금입'!$AE30)) -> 0 | AP30: =IF(AE30="","",COUNTIFS('17년일출'!$AE$6:$AE$59,AE30)) | AQ30: =IF(AA30=AO30,"OK","@@") -> OK
A31: =IFERROR(VLOOKUP($C31,구분표!$A$2:$C$313,2,FALSE),"") | B31: =IFERROR(VLOOKUP($C31,구분표!$A$2:$C$313,3,FALSE),"") | J31: =SUM(G31:I31) -> 0 | M31: =SUM(G31,K31,L31) -> 0 | N31: =IF(AND((J31=0),(M31>0)),"O",IF(AND((H31<0),(J31-M31<0)),"O","X")) -> X | V31: =IF($U31<>"도비",IF($S31="국도비","직접입력",SUM($H31:$I31)),) -> 0 | W31: =IF($U31="도비",SUM($H31:$I31),IF($S31="국도비","직접입력",SUM($H31:$I31)-$V31)) -> 0 | X31: =IF(SUM($H31:$I31)=SUM($V31:$W31),"OK","검토") -> OK | AA31: =IF($U31<>"도비",IF($S31="국도비","직접입력",SUM($K31:$L31)),) -> 0 | AB31: =IF($U31="도비",SUM(K31:L31),IF($S31="국도비","직접입력",SUM(K31:L31)-AA31)) -> 0 | AC31: =IF(SUM(K31:L31)=SUM(AA31:AB31),"OK","검토") -> OK | AE31: =IF(AG31="","",IF(U31="도비","세입없음",CONCATENATE(AG31,"-",COUNTIF($AG$7:AG31,AG31)))) | AG31: {=IF(C31="","",INDEX(구분표!$I$2:$I$313, MATCH(1,(구분표!$E$2:$E$313='17년기금입'!B31)*(구분표!$F$2:$F$313='17년기금입'!C31)*(구분표!$G$2:$G$313='17년기금입'!A31),0)))} | AK31: =IF(AE31="",0,SUMIFS('17년일출'!$V$6:$V$59,'17년일출'!$AE$6:$AE$59,'17년기금입'!$AE31)) -> 0 | AL31: =IF(AE31="","",COUNTIFS('17년일출'!$AE$6:$AE$59,'17년기금입'!AE31)) | AM31: =IF(V31=AK31,"OK","@@") -> OK | AO31: =IF(AE31="",0,SUMIFS('17년일출'!$AA$6:$AA$59,'17년일출'!$AE$6:$AE$59,'17년기금입'!$AE31)) -> 0 | AP31: =IF(AE31="","",COUNTIFS('17년일출'!$AE$6:$AE$59,AE31)) | AQ31: =IF(AA31=AO31,"OK","@@") -> OK
A32: =IFERROR(VLOOKUP($C32,구분표!$A$2:$C$313,2,FALSE),"") | B32: =IFERROR(VLOOKUP($C32,구분표!$A$2:$C$313,3,FALSE),"") | J32: =SUM(G32:I32) -> 0 | M32: =SUM(G32,K32,L32) -> 0 | N32: =IF(AND((J32=0),(M32>0)),"O",IF(AND((H32<0),(J32-M32<0)),"O","X")) -> X | V32: =IF($U32<>"도비",IF($S32="국도비","직접입력",SUM($H32:$I32)),) -> 0 | W32: =IF($U32="도비",SUM($H32:$I32),IF($S32="국도비","직접입력",SUM($H32:$I32)-$V32)) -> 0 | X32: =IF(SUM($H32:$I32)=SUM($V32:$W32),"OK","검토") -> OK | AA32: =IF($U32<>"도비",IF($S32="국도비","직접입력",SUM($K32:$L32)),) -> 0 | AB32: =IF($U32="도비",SUM(K32:L32),IF($S32="국도비","직접입력",SUM(K32:L32)-AA32)) -> 0 | AC32: =IF(SUM(K32:L32)=SUM(AA32:AB32),"OK","검토") -> OK | AE32: =IF(AG32="","",IF(U32="도비","세입없음",CONCATENATE(AG32,"-",COUNTIF($AG$7:AG32,AG32)))) | AG32: {=IF(C32="","",INDEX(구분표!$I$2:$I$313, MATCH(1,(구분표!$E$2:$E$313='17년기금입'!B32)*(구분표!$F$2:$F$313='17년기금입'!C32)*(구분표!$G$2:$G$313='17년기금입'!A32),0)))} | AK32: =IF(AE32="",0,SUMIFS('17년일출'!$V$6:$V$59,'17년일출'!$AE$6:$AE$59,'17년기금입'!$AE32)) -> 0 | AL32: =IF(AE32="","",COUNTIFS('17년일출'!$AE$6:$AE$59,'17년기금입'!AE32)) | AM32: =IF(V32=AK32,"OK","@@") -> OK | AO32: =IF(AE32="",0,SUMIFS('17년일출'!$AA$6:$AA$59,'17년일출'!$AE$6:$AE$59,'17년기금입'!$AE32)) -> 0 | AP32: =IF(AE32="","",COUNTIFS('17년일출'!$AE$6:$AE$59,AE32)) | AQ32: =IF(AA32=AO32,"OK","@@") -> OK
A33: =IFERROR(VLOOKUP($C33,구분표!$A$2:$C$313,2,FALSE),"") | B33: =IFERROR(VLOOKUP($C33,구분표!$A$2:$C$313,3,FALSE),"") | J33: =SUM(G33:I33) -> 0 | M33: =SUM(G33,K33,L33) -> 0 | N33: =IF(AND((J33=0),(M33>0)),"O",IF(AND((H33<0),(J33-M33<0)),"O","X")) -> X | V33: =IF($U33<>"도비",IF($S33="국도비","직접입력",SUM($H33:$I33)),) -> 0 | W33: =IF($U33="도비",SUM($H33:$I33),IF($S33="국도비","직접입력",SUM($H33:$I33)-$V33)) -> 0 | X33: =IF(SUM($H33:$I33)=SUM($V33:$W33),"OK","검토") -> OK | AA33: =IF($U33<>"도비",IF($S33="국도비","직접입력",SUM($K33:$L33)),) -> 0 | AB33: =IF($U33="도비",SUM(K33:L33),IF($S33="국도비","직접입력",SUM(K33:L33)-AA33)) -> 0 | AC33: =IF(SUM(K33:L33)=SUM(AA33:AB33),"OK","검토") -> OK | AE33: =IF(AG33="","",IF(U33="도비","세입없음",CONCATENATE(AG33,"-",COUNTIF($AG$7:AG33,AG33)))) | AG33: {=IF(C33="","",INDEX(구분표!$I$2:$I$313, MATCH(1,(구분표!$E$2:$E$313='17년기금입'!B33)*(구분표!$F$2:$F$313='17년기금입'!C33)*(구분표!$G$2:$G$313='17년기금입'!A33),0)))} | AK33: =IF(AE33="",0,SUMIFS('17년일출'!$V$6:$V$59,'17년일출'!$AE$6:$AE$59,'17년기금입'!$AE33)) -> 0 | AL33: =IF(AE33="","",COUNTIFS('17년일출'!$AE$6:$AE$59,'17년기금입'!AE33)) | AM33: =IF(V33=AK33,"OK","@@") -> OK | AO33: =IF(AE33="",0,SUMIFS('17년일출'!$AA$6:$AA$59,'17년일출'!$AE$6:$AE$59,'17년기금입'!$AE33)) -> 0 | AP33: =IF(AE33="","",COUNTIFS('17년일출'!$AE$6:$AE$59,AE33)) | AQ33: =IF(AA33=AO33,"OK","@@") -> OK
A34: =IFERROR(VLOOKUP($C34,구분표!$A$2:$C$313,2,FALSE),"") | B34: =IFERROR(VLOOKUP($C34,구분표!$A$2:$C$313,3,FALSE),"") | J34: =SUM(G34:I34) -> 0 | M34: =SUM(G34,K34,L34) -> 0 | N34: =IF(AND((J34=0),(M34>0)),"O",IF(AND((H34<0),(J34-M34<0)),"O","X")) -> X | V34: =IF($U34<>"도비",IF($S34="국도비","직접입력",SUM($H34:$I34)),) -> 0 | W34: =IF($U34="도비",SUM($H34:$I34),IF($S34="국도비","직접입력",SUM($H34:$I34)-$V34)) -> 0 | X34: =IF(SUM($H34:$I34)=SUM($V34:$W34),"OK","검토") -> OK | AA34: =IF($U34<>"도비",IF($S34="국도비","직접입력",SUM($K34:$L34)),) -> 0 | AB34: =IF($U34="도비",SUM(K34:L34),IF($S34="국도비","직접입력",SUM(K34:L34)-AA34)) -> 0 | AC34: =IF(SUM(K34:L34)=SUM(AA34:AB34),"OK","검토") -> OK | AE34: =IF(AG34="","",IF(U34="도비","세입없음",CONCATENATE(AG34,"-",COUNTIF($AG$7:AG34,AG34)))) | AG34: {=IF(C34="","",INDEX(구분표!$I$2:$I$313, MATCH(1,(구분표!$E$2:$E$313='17년기금입'!B34)*(구분표!$F$2:$F$313='17년기금입'!C34)*(구분표!$G$2:$G$313='17년기금입'!A34),0)))} | AK34: =IF(AE34="",0,SUMIFS('17년일출'!$V$6:$V$59,'17년일출'!$AE$6:$AE$59,'17년기금입'!$AE34)) -> 0 | AL34: =IF(AE34="","",COUNTIFS('17년일출'!$AE$6:$AE$59,'17년기금입'!AE34)) | AM34: =IF(V34=AK34,"OK","@@") -> OK | AO34: =IF(AE34="",0,SUMIFS('17년일출'!$AA$6:$AA$59,'17년일출'!$AE$6:$AE$59,'17년기금입'!$AE34)) -> 0 | AP34: =IF(AE34="","",COUNTIFS('17년일출'!$AE$6:$AE$59,AE34)) | AQ34: =IF(AA34=AO34,"OK","@@") -> OK
A35: =IFERROR(VLOOKUP($C35,구분표!$A$2:$C$313,2,FALSE),"") | B35: =IFERROR(VLOOKUP($C35,구분표!$A$2:$C$313,3,FALSE),"") | J35: =SUM(G35:I35) -> 0 | M35: =SUM(G35,K35,L35) -> 0 | N35: =IF(AND((J35=0),(M35>0)),"O",IF(AND((H35<0),(J35-M35<0)),"O","X")) -> X | V35: =IF($U35<>"도비",IF($S35="국도비","직접입력",SUM($H35:$I35)),) -> 0 | W35: =IF($U35="도비",SUM($H35:$I35),IF($S35="국도비","직접입력",SUM($H35:$I35)-$V35)) -> 0 | X35: =IF(SUM($H35:$I35)=SUM($V35:$W35),"OK","검토") -> OK | AA35: =IF($U35<>"도비",IF($S35="국도비","직접입력",SUM($K35:$L35)),) -> 0 | AB35: =IF($U35="도비",SUM(K35:L35),IF($S35="국도비","직접입력",SUM(K35:L35)-AA35)) -> 0 | AC35: =IF(SUM(K35:L35)=SUM(AA35:AB35),"OK","검토") -> OK | AE35: =IF(AG35="","",IF(U35="도비","세입없음",CONCATENATE(AG35,"-",COUNTIF($AG$7:AG35,AG35)))) | AG35: {=IF(C35="","",INDEX(구분표!$I$2:$I$313, MATCH(1,(구분표!$E$2:$E$313='17년기금입'!B35)*(구분표!$F$2:$F$313='17년기금입'!C35)*(구분표!$G$2:$G$313='17년기금입'!A35),0)))} | AK35: =IF(AE35="",0,SUMIFS('17년일출'!$V$6:$V$59,'17년일출'!$AE$6:$AE$59,'17년기금입'!$AE35)) -> 0 | AL35: =IF(AE35="","",COUNTIFS('17년일출'!$AE$6:$AE$59,'17년기금입'!AE35)) | AM35: =IF(V35=AK35,"OK","@@") -> OK | AO35: =IF(AE35="",0,SUMIFS('17년일출'!$AA$6:$AA$59,'17년일출'!$AE$6:$AE$59,'17년기금입'!$AE35)) -> 0 | AP35: =IF(AE35="","",COUNTIFS('17년일출'!$AE$6:$AE$59,AE35)) | AQ35: =IF(AA35=AO35,"OK","@@") -> OK
A36: =IFERROR(VLOOKUP($C36,구분표!$A$2:$C$313,2,FALSE),"") | B36: =IFERROR(VLOOKUP($C36,구분표!$A$2:$C$313,3,FALSE),"") | J36: =SUM(G36:I36) -> 0 | M36: =SUM(G36,K36,L36) -> 0 | N36: =IF(AND((J36=0),(M36>0)),"O",IF(AND((H36<0),(J36-M36<0)),"O","X")) -> X | V36: =IF($U36<>"도비",IF($S36="국도비","직접입력",SUM($H36:$I36)),) -> 0 | W36: =IF($U36="도비",SUM($H36:$I36),IF($S36="국도비","직접입력",SUM($H36:$I36)-$V36)) -> 0 | X36: =IF(SUM($H36:$I36)=SUM($V36:$W36),"OK","검토") -> OK | AA36: =IF($U36<>"도비",IF($S36="국도비","직접입력",SUM($K36:$L36)),) -> 0 | AB36: =IF($U36="도비",SUM(K36:L36),IF($S36="국도비","직접입력",SUM(K36:L36)-AA36)) -> 0 | AC36: =IF(SUM(K36:L36)=SUM(AA36:AB36),"OK","검토") -> OK | AE36: =IF(AG36="","",IF(U36="도비","세입없음",CONCATENATE(AG36,"-",COUNTIF($AG$7:AG36,AG36)))) | AG36: {=IF(C36="","",INDEX(구분표!$I$2:$I$313, MATCH(1,(구분표!$E$2:$E$313='17년기금입'!B36)*(구분표!$F$2:$F$313='17년기금입'!C36)*(구분표!$G$2:$G$313='17년기금입'!A36),0)))} | AK36: =IF(AE36="",0,SUMIFS('17년일출'!$V$6:$V$59,'17년일출'!$AE$6:$AE$59,'17년기금입'!$AE36)) -> 0 | AL36: =IF(AE36="","",COUNTIFS('17년일출'!$AE$6:$AE$59,'17년기금입'!AE36)) | AM36: =IF(V36=AK36,"OK","@@") -> OK | AO36: =IF(AE36="",0,SUMIFS('17년일출'!$AA$6:$AA$59,'17년일출'!$AE$6:$AE$59,'17년기금입'!$AE36)) -> 0 | AP36: =IF(AE36="","",COUNTIFS('17년일출'!$AE$6:$AE$59,AE36)) | AQ36: =IF(AA36=AO36,"OK","@@") -> OK
A37: =IFERROR(VLOOKUP($C37,구분표!$A$2:$C$313,2,FALSE),"") | B37: =IFERROR(VLOOKUP($C37,구분표!$A$2:$C$313,3,FALSE),"") | J37: =SUM(G37:I37) -> 0 | M37: =SUM(G37,K37,L37) -> 0 | N37: =IF(AND((J37=0),(M37>0)),"O",IF(AND((H37<0),(J37-M37<0)),"O","X")) -> X | V37: =IF($U37<>"도비",IF($S37="국도비","직접입력",SUM($H37:$I37)),) -> 0 | W37: =IF($U37="도비",SUM($H37:$I37),IF($S37="국도비","직접입력",SUM($H37:$I37)-$V37)) -> 0 | X37: =IF(SUM($H37:$I37)=SUM($V37:$W37),"OK","검토") -> OK | AA37: =IF($U37<>"도비",IF($S37="국도비","직접입력",SUM($K37:$L37)),) -> 0 | AB37: =IF($U37="도비",SUM(K37:L37),IF($S37="국도비","직접입력",SUM(K37:L37)-AA37)) -> 0 | AC37: =IF(SUM(K37:L37)=SUM(AA37:AB37),"OK","검토") -> OK | AE37: =IF(AG37="","",IF(U37="도비","세입없음",CONCATENATE(AG37,"-",COUNTIF($AG$7:AG37,AG37)))) | AG37: {=IF(C37="","",INDEX(구분표!$I$2:$I$313, MATCH(1,(구분표!$E$2:$E$313='17년기금입'!B37)*(구분표!$F$2:$F$313='17년기금입'!C37)*(구분표!$G$2:$G$313='17년기금입'!A37),0)))} | AK37: =IF(AE37="",0,SUMIFS('17년일출'!$V$6:$V$59,'17년일출'!$AE$6:$AE$59,'17년기금입'!$AE37)) -> 0 | AL37: =IF(AE37="","",COUNTIFS('17년일출'!$AE$6:$AE$59,'17년기금입'!AE37)) | AM37: =IF(V37=AK37,"OK","@@") -> OK | AO37: =IF(AE37="",0,SUMIFS('17년일출'!$AA$6:$AA$59,'17년일출'!$AE$6:$AE$59,'17년기금입'!$AE37)) -> 0 | AP37: =IF(AE37="","",COUNTIFS('17년일출'!$AE$6:$AE$59,AE37)) | AQ37: =IF(AA37=AO37,"OK","@@") -> OK
A38: =IFERROR(VLOOKUP($C38,구분표!$A$2:$C$313,2,FALSE),"") | B38: =IFERROR(VLOOKUP($C38,구분표!$A$2:$C$313,3,FALSE),"") | J38: =SUM(G38:I38) -> 0 | M38: =SUM(G38,K38,L38) -> 0 | N38: =IF(AND((J38=0),(M38>0)),"O",IF(AND((H38<0),(J38-M38<0)),"O","X")) -> X | V38: =IF($U38<>"도비",IF($S38="국도비","직접입력",SUM($H38:$I38)),) -> 0 | W38: =IF($U38="도비",SUM($H38:$I38),IF($S38="국도비","직접입력",SUM($H38:$I38)-$V38)) -> 0 | X38: =IF(SUM($H38:$I38)=SUM($V38:$W38),"OK","검토") -> OK | AA38: =IF($U38<>"도비",IF($S38="국도비","직접입력",SUM($K38:$L38)),) -> 0 | AB38: =IF($U38="도비",SUM(K38:L38),IF($S38="국도비","직접입력",SUM(K38:L38)-AA38)) -> 0 | AC38: =IF(SUM(K38:L38)=SUM(AA38:AB38),"OK","검토") -> OK | AE38: =IF(AG38="","",IF(U38="도비","세입없음",CONCATENATE(AG38,"-",COUNTIF($AG$7:AG38,AG38)))) | AG38: {=IF(C38="","",INDEX(구분표!$I$2:$I$313, MATCH(1,(구분표!$E$2:$E$313='17년기금입'!B38)*(구분표!$F$2:$F$313='17년기금입'!C38)*(구분표!$G$2:$G$313='17년기금입'!A38),0)))} | AK38: =IF(AE38="",0,SUMIFS('17년일출'!$V$6:$V$59,'17년일출'!$AE$6:$AE$59,'17년기금입'!$AE38)) -> 0 | AL38: =IF(AE38="","",COUNTIFS('17년일출'!$AE$6:$AE$59,'17년기금입'!AE38)) | AM38: =IF(V38=AK38,"OK","@@") -> OK | AO38: =IF(AE38="",0,SUMIFS('17년일출'!$AA$6:$AA$59,'17년일출'!$AE$6:$AE$59,'17년기금입'!$AE38)) -> 0 | AP38: =IF(AE38="","",COUNTIFS('17년일출'!$AE$6:$AE$59,AE38)) | AQ38: =IF(AA38=AO38,"OK","@@") -> OK
A39: =IFERROR(VLOOKUP($C39,구분표!$A$2:$C$313,2,FALSE),"") | B39: =IFERROR(VLOOKUP($C39,구분표!$A$2:$C$313,3,FALSE),"") | J39: =SUM(G39:I39) -> 0 | M39: =SUM(G39,K39,L39) -> 0 | N39: =IF(AND((J39=0),(M39>0)),"O",IF(AND((H39<0),(J39-M39<0)),"O","X")) -> X | V39: =IF($U39<>"도비",IF($S39="국도비","직접입력",SUM($H39:$I39)),) -> 0 | W39: =IF($U39="도비",SUM($H39:$I39),IF($S39="국도비","직접입력",SUM($H39:$I39)-$V39)) -> 0 | X39: =IF(SUM($H39:$I39)=SUM($V39:$W39),"OK","검토") -> OK | AA39: =IF($U39<>"도비",IF($S39="국도비","직접입력",SUM($K39:$L39)),) -> 0 | AB39: =IF($U39="도비",SUM(K39:L39),IF($S39="국도비","직접입력",SUM(K39:L39)-AA39)) -> 0 | AC39: =IF(SUM(K39:L39)=SUM(AA39:AB39),"OK","검토") -> OK | AE39: =IF(AG39="","",IF(U39="도비","세입없음",CONCATENATE(AG39,"-",COUNTIF($AG$7:AG39,AG39)))) | AG39: {=IF(C39="","",INDEX(구분표!$I$2:$I$313, MATCH(1,(구분표!$E$2:$E$313='17년기금입'!B39)*(구분표!$F$2:$F$313='17년기금입'!C39)*(구분표!$G$2:$G$313='17년기금입'!A39),0)))} | AK39: =IF(AE39="",0,SUMIFS('17년일출'!$V$6:$V$59,'17년일출'!$AE$6:$AE$59,'17년기금입'!$AE39)) -> 0 | AL39: =IF(AE39="","",COUNTIFS('17년일출'!$AE$6:$AE$59,'17년기금입'!AE39)) | AM39: =IF(V39=AK39,"OK","@@") -> OK | AO39: =IF(AE39="",0,SUMIFS('17년일출'!$AA$6:$AA$59,'17년일출'!$AE$6:$AE$59,'17년기금입'!$AE39)) -> 0 | AP39: =IF(AE39="","",COUNTIFS('17년일출'!$AE$6:$AE$59,AE39)) | AQ39: =IF(AA39=AO39,"OK","@@") -> OK

Sheet 17년기금출
A1: 2017년도 경기도 기금운용계획 세출 예산 조정(안)
A2: □ 세출예산 | V2: 세입=세출 | AA2: 세입=세출
Q3: (단위 : 천원) | V3: =IF(V6='17년일입'!V6,"OK","@@") -> OK | X3: =IF(COUNTIF(X6:X39,"검토")>0,"@@","OK") -> OK | AA3: =IF(AA6='17년일입'!AA6,"OK","@@") -> OK | AC3: =IF(COUNTIF(AC6:AC39,"검토")>0,"@@","OK") -> OK
A4: 위원회명 | B4: 실국명 | C4: 부서명 | D4: 편성 구분 | E4: 예산안 페이지 | F4: 사업명 | G4: 예산안 (가) | H4: 상임위 예산안 조정액(나) | J4: 상임위 조정 예산안 (다=가+나) | K4: 예결위 예산안 조정액(라) | M4: 예결위 조정 예산안 (마=가+라) | N4: 동의 대상 | O4: 상임위 변경사유 (심의 참고자료) | P4: 비고 (상임위 부대의견) | Q4: 비고 (부대의견) | S4: 국도비 등 여부 | U4: 재원 | V4: 상임위 재원별 증감액 | Z4: 재원 | AA4: 예결위 재원별 증감액 | AE4: 세입번호 | AG4: 동일 세입 건수 | AH4: 세출 번호 검증 | AJ4: 실국부서 코드 | AL4: 추가 내시 등
H5: 감액 | I5: 증액 | K5: 감액 | L5: 증액 | V5: 국비 등 | W5: 도비 | X5: 검증 | AA5: 국비 등 | AB5: 도비 | AC5: 검증
A6: 합 계 | G6: =SUBTOTAL(9,G7:G39)/2 -> 0 | H6: =SUBTOTAL(9,H7:H39)/2 -> 0 | I6: =SUBTOTAL(9,I7:I39)/2 -> 0 | J6: =SUBTOTAL(9,J7:J39)/2 -> 0 | K6: =SUBTOTAL(9,K7:K39)/2 -> 0 | L6: =SUBTOTAL(9,L7:L39)/2 -> 0 | M6: =SUBTOTAL(9,M7:M39)/2 -> 0 | V6: =SUBTOTAL(9,V7:V39) -> 0 | W6: =SUBTOTAL(9,W7:W39) -> 0 | X6: =IF(SUM($H6:$I6)=SUM($V6:$W6),"OK","검토") -> OK | AA6: =SUBTOTAL(9,AA7:AA39) -> 0 | AB6: =SUBTOTAL(9,AB7:AB39) -> 0 | AC6: =IF(SUM($H6:$I6)=SUM($V6:$W6),"OK","검토") -> OK
A7: ( 기금) | G7: =SUM(G8:G17) -> 0 | H7: =SUM(H8:H17) -> 0 | I7: =SUM(I8:I17) -> 0 | J7: =SUM(J8:J17) -> 0 | K7: =SUM(K8:K17) -> 0 | L7: =SUM(L8:L17) -> 0 | M7: =SUM(M8:M17) -> 0
A8: =IFERROR(VLOOKUP($C8,구분표!$A$2:$C$313,2,FALSE),"") | B8: =IFERROR(VLOOKUP($C8,구분표!$A$2:$C$313,3,FALSE),"") | D8: 본예산 | J8: =G8+H8+I8 -> 0 | M8: =G8+K8+L8 -> 0 | N8: =IF(AND((J8=0),(M8>0)),"O",IF(AND((H8<0),(J8-M8<0)),"O","X")) -> X | V8: =IF($U8<>"도비",IF($S8="국도비","직접입력",SUM($H8:$I8)),) -> 0 | W8: =IF($U8="도비",SUM($H8:$I8),IF($S8="국도비","직접입력",SUM($H8:$I8)-$V8)) -> 0 | X8: =IF(SUM($H8:$I8)=SUM($V8:$W8),"OK","검토") -> OK | AA8: =IF($U8<>"도비",IF($S8="국도비","직접입력",SUM($K8:$L8)),) -> 0 | AB8: =IF($U8="도비",SUM(K8:L8),IF($S8="국도비","직접입력",SUM(K8:L8)-AA8)) -> 0 | AC8: =IF(SUM(K8:L8)=SUM(AA8:AB8),"OK","검토") -> OK | AE8: =IF(U8="","",IF(U8="도비","세입없음","직접입력")) | AG8: =IF(AE8="","",COUNTIF($AE$7:$AE$39,AE8)) | AH8: =IF(U8="","",IF(AND(U8="도비",AE8="세입없음"),"OK",IF(AND(U8<>"도비",AE8<>""),"OK","@@"))) | AJ8: {=IF(C8="","",INDEX(구분표!$I$2:$I$313, MATCH(1,(구분표!$E$2:$E$313='17년기금출'!B8)*(구분표!$F$2:$F$313='17년기금출'!C8)*(구분표!$G$2:$G$313='17년기금출'!A8),0)))}
A9: =IFERROR(VLOOKUP($C9,구분표!$A$2:$C$313,2,FALSE),"") | B9: =IFERROR(VLOOKUP($C9,구분표!$A$2:$C$313,3,FALSE),"") | D9: 신규 | J9: =G9+H9+I9 -> 0 | M9: =G9+K9+L9 -> 0 | N9: =IF(AND((J9=0),(M9>0)),"O",IF(AND((H9<0),(J9-M9<0)),"O","X")) -> X | V9: =IF($U9<>"도비",IF($S9="국도비","직접입력",SUM($H9:$I9)),) -> 0 | W9: =IF($U9="도비",SUM($H9:$I9),IF($S9="국도비","직접입력",SUM($H9:$I9)-$V9)) -> 0 | X9: =IF(SUM($H9:$I9)=SUM($V9:$W9),"OK","검토") -> OK | AA9: =IF($U9<>"도비",IF($S9="국도비","직접입력",SUM($K9:$L9)),) -> 0 | AB9: =IF($U9="도비",SUM(K9:L9),IF($S9="국도비","직접입력",SUM(K9:L9)-AA9)) -> 0 | AC9: =IF(SUM(K9:L9)=SUM(AA9:AB9),"OK","검토") -> OK | AE9: =IF(U9="","",IF(U9="도비","세입없음","직접입력")) | AG9: =IF(AE9="","",COUNTIF($AE$7:$AE$39,AE9)) | AH9: =IF(U9="","",IF(AND(U9="도비",AE9="세입없음"),"OK",IF(AND(U9<>"도비",AE9<>""),"OK","@@"))) | AJ9: {=IF(C9="","",INDEX(구분표!$I$2:$I$313, MATCH(1,(구분표!$E$2:$E$313='17년기금출'!B9)*(구분표!$F$2:$F$313='17년기금출'!C9)*(구분표!$G$2:$G$313='17년기금출'!A9),0)))}
A10: =IFERROR(VLOOKUP($C10,구분표!$A$2:$C$313,2,FALSE),"") | B10: =IFERROR(VLOOKUP($C10,구분표!$A$2:$C$313,3,FALSE),"") | J10: =G10+H10+I10 -> 0 | M10: =G10+K10+L10 -> 0 | N10: =IF(AND((J10=0),(M10>0)),"O",IF(AND((H10<0),(J10-M10<0)),"O","X")) -> X | V10: =IF($U10<>"도비",IF($S10="국도비","직접입력",SUM($H10:$I10)),) -> 0 | W10: =IF($U10="도비",SUM($H10:$I10),IF($S10="국도비","직접입력",SUM($H10:$I10)-$V10)) -> 0 | X10: =IF(SUM($H10:$I10)=SUM($V10:$W10),"OK","검토") -> OK | AA10: =IF($U10<>"도비",IF($S10="국도비","직접입력",SUM($K10:$L10)),) -> 0 | AB10: =IF($U10="도비",SUM(K10:L10),IF($S10="국도비","직접입력",SUM(K10:L10)-AA10)) -> 0 | AC10: =IF(SUM(K10:L10)=SUM(AA10:AB10),"OK","검토") -> OK | AE10: =IF(U10="","",IF(U10="도비","세입없음","직접입력")) | AG10: =IF(AE10="","",COUNTIF($AE$7:$AE$39,AE10)) | AH10: =IF(U10="","",IF(AND(U10="도비",AE10="세입없음"),"OK",IF(AND(U10<>"도비",AE10<>""),"OK","@@"))) | AJ10: {=IF(C10="","",INDEX(구분표!$I$2:$I$313, MATCH(1,(구분표!$E$2:$E$313='17년기금출'!B10)*(구분표!$F$2:$F$313='17년기금출'!C10)*(구분표!$G$2:$G$313='17년기금출'!A10),0)))}
A11: =IFERROR(VLOOKUP($C11,구분표!$A$2:$C$313,2,FALSE),"") | B11: =IFERROR(VLOOKUP($C11,구분표!$A$2:$C$313,3,FALSE),"") | J11: =G11+H11+I11 -> 0 | M11: =G11+K11+L11 -> 0 | N11: =IF(AND((J11=0),(M11>0)),"O",IF(AND((H11<0),(J11-M11<0)),"O","X")) -> X | V11: =IF($U11<>"도비",IF($S11="국도비","직접입력",SUM($H11:$I11)),) -> 0 | W11: =IF($U11="도비",SUM($H11:$I11),IF($S11="국도비","직접입력",SUM($H11:$I11)-$V11)) -> 0 | X11: =IF(SUM($H11:$I11)=SUM($V11:$W11),"OK","검토") -> OK | AA11: =IF($U11<>"도비",IF($S11="국도비","직접입력",SUM($K11:$L11)),) -> 0 | AB11: =IF($U11="도비",SUM(K11:L11),IF($S11="국도비","직접입력",SUM(K11:L11)-AA11)) -> 0 | AC11: =IF(SUM(K11:L11)=SUM(AA11:AB11),"OK","검토") -> OK | AE11: =IF(U11="","",IF(U11="도비","세입없음","직접입력")) | AG11: =IF(AE11="","",COUNTIF($AE$7:$AE$39,AE11)) | AH11: =IF(U11="","",IF(AND(U11="도비",AE11="세입없음"),"OK",IF(AND(U11<>"도비",AE11<>""),"OK","@@"))) | AJ11: {=IF(C11="","",INDEX(구분표!$I$2:$I$313, MATCH(1,(구분표!$E$2:$E$313='17년기금출'!B11)*(구분표!$F$2:$F$313='17년기금출'!C11)*(구분표!$G$2:$G$313='17년기금출'!A11),0)))}
A12: =IFERROR(VLOOKUP($C12,구분표!$A$2:$C$313,2,FALSE),"") | B12: =IFERROR(VLOOKUP($C12,구분표!$A$2:$C$313,3,FALSE),"") | J12: =G12+H12+I12 -> 0 | M12: =G12+K12+L12 -> 0 | N12: =IF(AND((J12=0),(M12>0)),"O",IF(AND((H12<0),(J12-M12<0)),"O","X")) -> X | V12: =IF($U12<>"도비",IF($S12="국도비","직접입력",SUM($H12:$I12)),) -> 0 | W12: =IF($U12="도비",SUM($H12:$I12),IF($S12="국도비","직접입력",SUM($H12:$I12)-$V12)) -> 0 | X12: =IF(SUM($H12:$I12)=SUM($V12:$W12),"OK","검토") -> OK | AA12: =IF($U12<>"도비",IF($S12="국도비","직접입력",SUM($K12:$L12)),) -> 0 | AB12: =IF($U12="도비",SUM(K12:L12),IF($S12="국도비","직접입력",SUM(K12:L12)-AA12)) -> 0 | AC12: =IF(SUM(K12:L12)=SUM(AA12:AB12),"OK","검토") -> OK | AE12: =IF(U12="","",IF(U12="도비","세입없음","직접입력")) | AG12: =IF(AE12="","",COUNTIF($AE$7:$AE$39,AE12)) | AH12: =IF(U12="","",IF(AND(U12="도비",AE12="세입없음"),"OK",IF(AND(U12<>"도비",AE12<>""),"OK","@@"))) | AJ12: {=IF(C12="","",INDEX(구분표!$I$2:$I$313, MATCH(1,(구분표!$E$2:$E$313='17년기금출'!B12)*(구분표!$F$2:$F$313='17년기금출'!C12)*(구분표!$G$2:$G$313='17년기금출'!A12),0)))}
A13: =IFERROR(VLOOKUP($C13,구분표!$A$2:$C$313,2,FALSE),"") | B13: =IFERROR(VLOOKUP($C13,구분표!$A$2:$C$313,3,FALSE),"") | J13: =G13+H13+I13 -> 0 | M13: =G13+K13+L13 -> 0 | N13: =IF(AND((J13=0),(M13>0)),"O",IF(AND((H13<0),(J13-M13<0)),"O","X")) -> X | V13: =IF($U13<>"도비",IF($S13="국도비","직접입력",SUM($H13:$I13)),) -> 0 | W13: =IF($U13="도비",SUM($H13:$I13),IF($S13="국도비","직접입력",SUM($H13:$I13)-$V13)) -> 0 | X13: =IF(SUM($H13:$I13)=SUM($V13:$W13),"OK","검토") -> OK | AA13: =IF($U13<>"도비",IF($S13="국도비","직접입력",SUM($K13:$L13)),) -> 0 | AB13: =IF($U13="도비",SUM(K13:L13),IF($S13="국도비","직접입력",SUM(K13:L13)-AA13)) -> 0 | AC13: =IF(SUM(K13:L13)=SUM(AA13:AB13),"OK","검토") -> OK | AE13: =IF(U13="","",IF(U13="도비","세입없음","직접입력")) | AG13: =IF(AE13="","",COUNTIF($AE$7:$AE$39,AE13)) | AH13: =IF(U13="","",IF(AND(U13="도비",AE13="세입없음"),"OK",IF(AND(U13<>"도비",AE13<>""),"OK","@@"))) | AJ13: {=IF(C13="","",INDEX(구분표!$I$2:$I$313, MATCH(1,(구분표!$E$2:$E$313='17년기금출'!B13)*(구분표!$F$2:$F$313='17년기금출'!C13)*(구분표!$G$2:$G$313='17년기금출'!A13),0)))}
A14: =IFERROR(VLOOKUP($C14,구분표!$A$2:$C$313,2,FALSE),"") | B14: =IFERROR(VLOOKUP($C14,구분표!$A$2:$C$313,3,FALSE),"") | J14: =G14+H14+I14 -> 0 | M14: =G14+K14+L14 -> 0 | N14: =IF(AND((J14=0),(M14>0)),"O",IF(AND((H14<0),(J14-M14<0)),"O","X")) -> X | V14: =IF($U14<>"도비",IF($S14="국도비","직접입력",SUM($H14:$I14)),) -> 0 | W14: =IF($U14="도비",SUM($H14:$I14),IF($S14="국도비","직접입력",SUM($H14:$I14)-$V14)) -> 0 | X14: =IF(SUM($H14:$I14)=SUM($V14:$W14),"OK","검토") -> OK | AA14: =IF($U14<>"도비",IF($S14="국도비","직접입력",SUM($K14:$L14)),) -> 0 | AB14: =IF($U14="도비",SUM(K14:L14),IF($S14="국도비","직접입력",SUM(K14:L14)-AA14)) -> 0 | AC14: =IF(SUM(K14:L14)=SUM(AA14:AB14),"OK","검토") -> OK | AE14: =IF(U14="","",IF(U14="도비","세입없음","직접입력")) | AG14: =IF(AE14="","",COUNTIF($AE$7:$AE$39,AE14)) | AH14: =IF(U14="","",IF(AND(U14="도비",AE14="세입없음"),"OK",IF(AND(U14<>"도비",AE14<>""),"OK","@@"))) | AJ14: {=IF(C14="","",INDEX(구분표!$I$2:$I$313, MATCH(1,(구분표!$E$2:$E$313='17년기금출'!B14)*(구분표!$F$2:$F$313='17년기금출'!C14)*(구분표!$G$2:$G$313='17년기금출'!A14),0)))}
A15: =IFERROR(VLOOKUP($C15,구분표!$A$2:$C$313,2,FALSE),"") | B15: =IFERROR(VLOOKUP($C15,구분표!$A$2:$C$313,3,FALSE),"") | J15: =G15+H15+I15 -> 0 | M15: =G15+K15+L15 -> 0 | N15: =IF(AND((J15=0),(M15>0)),"O",IF(AND((H15<0),(J15-M15<0)),"O","X")) -> X | V15: =IF($U15<>"도비",IF($S15="국도비","직접입력",SUM($H15:$I15)),) -> 0 | W15: =IF($U15="도비",SUM($H15:$I15),IF($S15="국도비","직접입력",SUM($H15:$I15)-$V15)) -> 0 | X15: =IF(SUM($H15:$I15)=SUM($V15:$W15),"OK","검토") -> OK | AA15: =IF($U15<>"도비",IF($S15="국도비","직접입력",SUM($K15:$L15)),) -> 0 | AB15: =IF($U15="도비",SUM(K15:L15),IF($S15="국도비","직접입력",SUM(K15:L15)-AA15)) -> 0 | AC15: =IF(SUM(K15:L15)=SUM(AA15:AB15),"OK","검토") -> OK | AE15: =IF(U15="","",IF(U15="도비","세입없음","직접입력")) | AG15: =IF(AE15="","",COUNTIF($AE$7:$AE$39,AE15)) | AH15: =IF(U15="","",IF(AND(U15="도비",AE15="세입없음"),"OK",IF(AND(U15<>"도비",AE15<>""),"OK","@@"))) | AJ15: {=IF(C15="","",INDEX(구분표!$I$2:$I$313, MATCH(1,(구분표!$E$2:$E$313='17년기금출'!B15)*(구분표!$F$2:$F$313='17년기금출'!C15)*(구분표!$G$2:$G$313='17년기금출'!A15),0)))}
A16: =IFERROR(VLOOKUP($C16,구분표!$A$2:$C$313,2,FALSE),"") | B16: =IFERROR(VLOOKUP($C16,구분표!$A$2:$C$313,3,FALSE),"") | J16: =G16+H16+I16 -> 0 | M16: =G16+K16+L16 -> 0 | N16: =IF(AND((J16=0),(M16>0)),"O",IF(AND((H16<0),(J16-M16<0)),"O","X")) -> X | V16: =IF($U16<>"도비",IF($S16="국도비","직접입력",SUM($H16:$I16)),) -> 0 | W16: =IF($U16="도비",SUM($H16:$I16),IF($S16="국도비","직접입력",SUM($H16:$I16)-$V16)) -> 0 | X16: =IF(SUM($H16:$I16)=SUM($V16:$W16),"OK","검토") -> OK | AA16: =IF($U16<>"도비",IF($S16="국도비","직접입력",SUM($K16:$L16)),) -> 0 | AB16: =IF($U16="도비",SUM(K16:L16),IF($S16="국도비","직접입력",SUM(K16:L16)-AA16)) -> 0 | AC16: =IF(SUM(K16:L16)=SUM(AA16:AB16),"OK","검토") -> OK | AE16: =IF(U16="","",IF(U16="도비","세입없음","직접입력")) | AG16: =IF(AE16="","",COUNTIF($AE$7:$AE$39,AE16)) | AH16: =IF(U16="","",IF(AND(U16="도비",AE16="세입없음"),"OK",IF(AND(U16<>"도비",AE16<>""),"OK","@@"))) | AJ16: {=IF(C16="","",INDEX(구분표!$I$2:$I$313, MATCH(1,(구분표!$E$2:$E$313='17년기금출'!B16)*(구분표!$F$2:$F$313='17년기금출'!C16)*(구분표!$G$2:$G$313='17년기금출'!A16),0)))}
A17: =IFERROR(VLOOKUP($C17,구분표!$A$2:$C$313,2,FALSE),"") | B17: =IFERROR(VLOOKUP($C17,구분표!$A$2:$C$313,3,FALSE),"") | J17: =G17+H17+I17 -> 0 | M17: =G17+K17+L17 -> 0 | N17: =IF(AND((J17=0),(M17>0)),"O",IF(AND((H17<0),(J17-M17<0)),"O","X")) -> X | V17: =IF($U17<>"도비",IF($S17="국도비","직접입력",SUM($H17:$I17)),) -> 0 | W17: =IF($U17="도비",SUM($H17:$I17),IF($S17="국도비","직접입력",SUM($H17:$I17)-$V17)) -> 0 | X17: =IF(SUM($H17:$I17)=SUM($V17:$W17),"OK","검토") -> OK | AA17: =IF($U17<>"도비",IF($S17="국도비","직접입력",SUM($K17:$L17)),) -> 0 | AB17: =IF($U17="도비",SUM(K17:L17),IF($S17="국도비","직접입력",SUM(K17:L17)-AA17)) -> 0 | AC17: =IF(SUM(K17:L17)=SUM(AA17:AB17),"OK","검토") -> OK | AE17: =IF(U17="","",IF(U17="도비","세입없음","직접입력")) | AG17: =IF(AE17="","",COUNTIF($AE$7:$AE$39,AE17)) | AH17: =IF(U17="","",IF(AND(U17="도비",AE17="세입없음"),"OK",IF(AND(U17<>"도비",AE17<>""),"OK","@@"))) | AJ17: {=IF(C17="","",INDEX(구분표!$I$2:$I$313, MATCH(1,(구분표!$E$2:$E$313='17년기금출'!B17)*(구분표!$F$2:$F$313='17년기금출'!C17)*(구분표!$G$2:$G$313='17년기금출'!A17),0)))}
A18: ( 기금) | G18: =SUM(G19:G28) -> 0 | H18: =SUM(H19:H28) -> 0 | I18: =SUM(I19:I28) -> 0 | J18: =SUM(J19:J28) -> 0 | K18: =SUM(K19:K28) -> 0 | L18: =SUM(L19:L28) -> 0 | M18: =SUM(M19:M28) -> 0 | AE18: =IF(U18="","",IF(U18="도비","세입없음","직접입력"))
A19: =IFERROR(VLOOKUP($C19,구분표!$A$2:$C$313,2,FALSE),"") | B19: =IFERROR(VLOOKUP($C19,구분표!$A$2:$C$313,3,FALSE),"") | J19: =G19+H19+I19 -> 0 | M19: =G19+K19+L19 -> 0 | N19: =IF(AND((J19=0),(M19>0)),"O",IF(AND((H19<0),(J19-M19<0)),"O","X")) -> X | V19: =IF($U19<>"도비",IF($S19="국도비","직접입력",SUM($H19:$I19)),) -> 0 | W19: =IF($U19="도비",SUM($H19:$I19),IF($S19="국도비","직접입력",SUM($H19:$I19)-$V19)) -> 0 | X19: =IF(SUM($H19:$I19)=SUM($V19:$W19),"OK","검토") -> OK | AA19: =IF($U19<>"도비",IF($S19="국도비","직접입력",SUM($K19:$L19)),) -> 0 | AB19: =IF($U19="도비",SUM(K19:L19),IF($S19="국도비","직접입력",SUM(K19:L19)-AA19)) -> 0 | AC19: =IF(SUM(K19:L19)=SUM(AA19:AB19),"OK","검토") -> OK | AE19: =IF(U19="","",IF(U19="도비","세입없음","직접입력")) | AG19: =IF(AE19="","",COUNTIF($AE$7:$AE$39,AE19)) | AH19: =IF(U19="","",IF(AND(U19="도비",AE19="세입없음"),"OK",IF(AND(U19<>"도비",AE19<>""),"OK","@@"))) | AJ19: {=IF(C19="","",INDEX(구분표!$I$2:$I$313, MATCH(1,(구분표!$E$2:$E$313='17년기금출'!B19)*(구분표!$F$2:$F$313='17년기금출'!C19)*(구분표!$G$2:$G$313='17년기금출'!A19),0)))}
