Workbook

Sheet 구분표
A2: 실과명 조정 | B2: 위원회명 조정 | C2: 실국명 조정 | E2: 실국명 | F2: 실과명 | G2: 위원회명 | H2: 정렬순서 | I2: 정렬코드
A3: 공보담당관 | B3: 의회운영위원회 | C3: 의회사무처 | E3: 의회사무처 | F3: 공보담당관 | G3: 의회운영위원회 | H3: 1 | I3: 0101
A4: 총무담당관 | B4: 의회운영위원회 | C4: 의회사무처 | E4: 의회사무처 | F4: 총무담당관 | G4: 의회운영위원회 | H4: 2 | I4: 0102
A5: 의정담당관 | B5: 의회운영위원회 | C5: 의회사무처 | E5: 의회사무처 | F5: 의정담당관 | G5: 의회운영위원회 | H5: 3 | I5: 0103
A6: 입법정책담당관 | B6: 의회운영위원회 | C6: 의회사무처 | E6: 의회사무처 | F6: 입법정책담당관 | G6: 의회운영위원회 | H6: 4 | I6: 0104
A7: 예산정책담당관 | B7: 의회운영위원회 | C7: 의회사무처 | E7: 의회사무처 | F7: 예산정책담당관 | G7: 의회운영위원회 | H7: 5 | I7: 0105
A8: 언론협력담당관 | B8: 의회운영위원회 | C8: 대변인 | E8: 대변인 | F8: 언론협력담당관 | G8: 의회운영위원회 | H8: 6 | I8: 0106
A9: 보도기획담당관 | B9: 의회운영위원회 | C9: 대변인 | E9: 대변인 | F9: 보도기획담당관 | G9: 의회운영위원회 | H9: 7 | I9: 0107
A10: 홍보미디어담당관 | B10: 의회운영위원회 | C10: 소통기획관 | E10: 소통기획관 | F10: 홍보미디어담당관 | G10: 의회운영위원회 | H10: 8 | I10: 0108
A11: 홍보콘텐츠담당관 | B11: 의회운영위원회 | C11: 소통기획관 | E11: 소통기획관 | F11: 홍보콘텐츠담당관 | G11: 의회운영위원회 | H11: 9 | I11: 0109
A12: 연정협력과 | B12: 의회운영위원회 | C12: 연정협력국 | E12: 연정협력국 | F12: 연정협력과 | G12: 의회운영위원회 | H12: 10 | I12: 0110
A13: 대외협력과 | B13: 의회운영위원회 | C13: 연정협력국 | E13: 연정협력국 | F13: 대외협력과 | G13: 의회운영위원회 | H13: 11 | I13: 0111
... A215: 도서관정책과 | B215: 여성가족교육협력위원회 | C215: 교육협력국 | E215: 교육협력국 | F215: 도서관정책과 | G215: 여성가족교육협력위원회 | H215: 213 | I215: 0313

Sheet 예결표지(세로)
A5: 2015년도 제2회 일반회계 및 특별회계 추가경정 세입·세출 예산안
A7: 예결위 계수조정 결과
A20: 예산결산특별위원회

Sheet 예결표지(가로)
A3: 2015년도 제2회 일반회계 및 특별회계 추가경정 세입·세출 예산안
A5: 예결위 계수조정 결과
A14: 예산결산특별위원회

Sheet 표지
A4: 예결위 계수조정 결과
B6: - 2017년도 일반회계 및 기타특별회계 예산안, 기금운용계획안
A12: 예산결산특별위원회

Sheet 검증
A1: 제4회 추경 일반회계 검증 | H1: 4추 예비비 | J1: 조정액 | K1: =IFERROR(INDEX('17년일출'!AC6:AC120,MATCH("*예비비*",'17년일출'!G6:G120,0)),0) -> 0 | L1: 조정잔액 | M1: =I1+K1 -> 0
M2: (단위 : 천원)
A3: 구분 | B3: 상 임 위 | H3: 구분 | I3: 예 결 위
B4: 세입 | C4: 검증 | D4: 세출 | E4: 검증 | F4: 차액 | I4: 세입 | J4: 검증 | K4: 세출 | L4: 검증 | M4: 차액
A5: 전체 총계 | B5: =SUM(B6:B13)/2 -> 0 | C5: =IF(B5=SUM('17년일입'!H6:I6),"OK","@@") -> OK | D5: =SUM(D6:D13)/2 -> 0 | E5: =IF(D5=SUM('17년일출'!I6:J6),"OK","@@") -> @@ | H5: 전체 총계 | I5: =SUM(I6:I13)/2 -> 0 | J5: =IF(I5=SUM('17년일입'!K6:L6),"OK","@@") -> OK | K5: =SUM(K6:K13)/2 -> 0 | L5: =IF(K5=SUM('17년일출'!L6:M6),"OK","@@") -> OK
A6: 자체 계 | B6: =SUM(B7:B8) -> 0 | C6: =IF(B6='17년일입'!W6,"OK","@@") -> OK | D6: =SUM(D7:D8) -> 0 | E6: =IF(D6='17년일출'!X6,"OK","@@") -> OK | H6: 자체 계 | I6: =SUM(I7:I8) -> 0 | J6: =IF(I6='17년일입'!AB6,"OK","@@") -> OK | K6: =SUM(K7:K8) -> 0 | L6: =IF(K6='17년일출'!AC6,"OK","@@") -> OK
A7: 자체 도비 | B7: =SUMIFS('17년일입'!W6:W100,'17년일입'!U6:U100,"도비") -> 0 | D7: =SUMIFS('17년일출'!$X$6:$X$120,'17년일출'!$V$6:$V$120,"도비") -> 0 | H7: 자체 도비 | I7: =SUMIFS('17년일입'!AB6:AB100,'17년일입'!Z6:Z100,"국비") -> 0 | K7: =SUMIFS('17년일출'!$AC$6:$AC$120,'17년일출'!$AA$6:$AA$120,"도비") -> 0
A8: 의존 매칭 도비 | B8: =SUMIFS('17년일입'!W6:W100,'17년일입'!U6:U100,"국비")+SUMIFS('17년일입'!W6:W100,'17년일입'!U6:U100,"지특")+SUMIFS('17년일입'!W6:W100,'17년일입'!U6:U100,"기금")+SUMIFS('17년일입'!W6:W100,'17년일입'!U6:U100,"특교") -> 0 | D8: =SUMIFS('17년일출'!$X$6:$X$120,'17년일출'!$V$6:$V$120,"국비")+SUMIFS('17년일출'!$X$6:$X$120,'17년일출'!$V$6:$V$120,"지특")+SUMIFS('17년일출'!$X$6:$X$120,'17년일출'!$V$6:$V$120,"기금")+SUMIFS('17년일출'!$X$6:$X$120,'17년일출'!$V$6:$V$120,"특교") -> 0 | H8: 의존 매칭 도비 | I8: =SUMIFS('17년일입'!AB6:AB100,'17년일입'!Z6:Z100,"국비")+SUMIFS('17년일입'!AB6:AB100,'17년일입'!Z6:Z100,"지특")+SUMIFS('17년일입'!AB6:AB100,'17년일입'!Z6:Z100,"기금")+SUMIFS('17년일입'!AB6:AB100,'17년일입'!Z6:Z100,"특교") -> 0 | K8: =SUMIFS('17년일출'!$AC$6:$AC$120,'17년일출'!$AA$6:$AA$120,"국비")+SUMIFS('17년일출'!$AC$6:$AC$120,'17년일출'!$AA$6:$AA$120,"지특")+SUMIFS('17년일출'!$AC$6:$AC$120,'17년일출'!$AA$6:$AA$120,"기금")+SUMIFS('17년일출'!$AC$6:$AC$120,'17년일출'!$AA$6:$AA$120,"특교") -> 0
A9: 의존 계 | B9: =SUM(B10:B13) -> 0 | C9: =IF(B9='17년일입'!V6,"OK","@@") -> OK | D9: =SUM(D10:D13) -> 0 | E9: =IF(D9='17년일출'!W6,"OK","@@") -> @@ | F9: =SUM(F10:F13) -> 0 | H9: 의존 계 | I9: =SUM(I10:I13) -> 0 | J9: =IF(I9='17년일입'!V6,"OK","@@") -> OK | K9: =SUM(K10:K13) -> 0 | L9: =IF(K9='17년일출'!AB6,"OK","@@") -> OK | M9: =SUM(M10:M13) -> 0
A10: 국비 | B10: =SUMIFS('17년일입'!$W$6:$W$100,'17년일입'!$U$6:$U$100,검증!A10) -> 0 | D10: =SUMIFS('17년일출'!$X$6:$X$120,'17년일출'!$V$6:$V$120,검증!A10) -> 0 | F10: =D10-B10 -> 0 | H10: 국비 | I10: =SUMIFS('17년일입'!$AB$6:$AB$100,'17년일입'!$Z$6:$Z$100,검증!H10) -> 0 | K10: =SUMIFS('17년일출'!$AC$6:$AC$120,'17년일출'!$AA$6:$AA$120,검증!H10) -> 0 | M10: =K10-I10 -> 0
A11: 지특 | B11: =SUMIFS('17년일입'!$W$6:$W$100,'17년일입'!$U$6:$U$100,검증!A11) -> 0 | D11: =SUMIFS('17년일출'!$X$6:$X$120,'17년일출'!$V$6:$V$120,검증!A11) -> 0 | F11: =D11-B11 -> 0 | H11: 지특 | I11: =SUMIFS('17년일입'!$AB$6:$AB$100,'17년일입'!$Z$6:$Z$100,검증!H11) -> 0 | K11: =SUMIFS('17년일출'!$AC$6:$AC$120,'17년일출'!$AA$6:$AA$120,검증!H11) -> 0 | M11: =K11-I11 -> 0
A12: 기금 | B12: =SUMIFS('17년일입'!$W$6:$W$100,'17년일입'!$U$6:$U$100,검증!A12) -> 0 | D12: =SUMIFS('17년일출'!$X$6:$X$120,'17년일출'!$V$6:$V$120,검증!A12) -> 0 | F12: =D12-B12 -> 0 | H12: 기금 | I12: =SUMIFS('17년일입'!$AB$6:$AB$100,'17년일입'!$Z$6:$Z$100,검증!H12) -> 0 | K12: =SUMIFS('17년일출'!$AC$6:$AC$120,'17년일출'!$AA$6:$AA$120,검증!H12) -> 0 | M12: =K12-I12 -> 0
A13: 특교 | B13: =SUMIFS('17년일입'!$W$6:$W$100,'17년일입'!$U$6:$U$100,검증!A13) -> 0 | D13: =SUMIFS('17년일출'!$X$6:$X$120,'17년일출'!$V$6:$V$120,검증!A13) -> 0 | F13: =D13-B13 -> 0 | H13: 특교 | I13: =SUMIFS('17년일입'!$AB$6:$AB$100,'17년일입'!$Z$6:$Z$100,검증!H13) -> 0 | K13: =SUMIFS('17년일출'!$AC$6:$AC$120,'17년일출'!$AA$6:$AA$120,검증!H13) -> 0 | M13: =K13-I13 -> 0

Sheet 총괄표
A1: 2017년도 일반 및 특별회계 세입·세출 예산안(전체예산총괄)
A3: □ 총 괄 | C3: 세입예산 증감 | D3: =SUM(C7:D7) -> 0 | F3: 세출예산증감 | G3: =SUM(F7:G7) -> 0
F4: ※ 예비비 증감 | I4: (단위 : 천원)
A5: 구 분 | B5: 집행부제출(안) | C5: 세입예산(안) | F5: 세출예산(안) | I5: 수정예산(안) | K5: ※ 예산안 증감현황
C6: 감 액 | D6: 증 액 | E6: 증감액 | F6: 감 액 | G6: 증 액 | H6: 증감액 | K6: 구 분 | L6: 세입 | M6: 세출 | N6: 예비비 | O6: 비고(???)
A7: 합 계 | B7: =SUM(B8:B17) -> 0 | C7: =SUM(C8:C17) -> 0 | D7: =SUM(D8:D17) -> 0 | E7: =SUM(E8:E17) -> 0 | F7: =SUM(F8:F17) -> 0 | G7: =SUM(G8:G17) -> 0 | H7: =SUM(H8:H17) -> 0 | I7: =SUM(I8:I17) -> 0 | K7: 합 계 | L7: =SUM(L8:L9) -> 0 | M7: =SUM(M8:M9) -> 0 | N7: =L7-M7 -> 0
A8: 의회운영위원회 | B8: =B31 -> 0 | C8: =SUMIFS('17년일입'!K$6:K$100,'17년일입'!$A$6:$A$100,총괄표!$A8)+SUMIFS('17년특입'!K$6:K$39,'17년특입'!$A$6:$A$39,총괄표!$A8) -> 0 | D8: =SUMIFS('17년일입'!L$6:L$100,'17년일입'!$A$6:$A$100,총괄표!$A8)+SUMIFS('17년특입'!L$6:L$39,'17년특입'!$A$6:$A$39,총괄표!$A8) -> 0 | E8: =D8-C8 -> 0 | F8: =SUMIFS('17년일출'!L$6:L$120,'17년일출'!$A$6:$A$120,총괄표!$A8)+SUMIFS('17년특출'!L$6:L$39,'17년특출'!$A$6:$A$39,총괄표!$A8) -> 0 | G8: =SUMIFS('17년일출'!M$6:M$120,'17년일출'!$A$6:$A$120,총괄표!$A8)+SUMIFS('17년특출'!M$6:M$39,'17년특출'!$A$6:$A$39,총괄표!$A8) -> 0 | H8: =G8-F8 -> 0 | I8: =B8+F8+G8 -> 0 | K8: 일반회계 | L8: =SUM(C24:D24) -> 0 | M8: =SUM(F24:G24) -> 0 | N8: =L8-M8 -> 0 | O8: 예비비 증감 - 감액, + 증액에 입력
A9: 기획재정위원회 | B9: =B32 -> 0 | C9: =SUMIFS('17년일입'!K$6:K$100,'17년일입'!$A$6:$A$100,총괄표!$A9)+SUMIFS('17년특입'!K$6:K$39,'17년특입'!$A$6:$A$39,총괄표!$A9) -> 0 | D9: =SUMIFS('17년일입'!L$6:L$100,'17년일입'!$A$6:$A$100,총괄표!$A9)+SUMIFS('17년특입'!L$6:L$39,'17년특입'!$A$6:$A$39,총괄표!$A9) -> 0 | E9: =D9-C9 -> 0 | F9: =SUMIFS('17년일출'!L$6:L$120,'17년일출'!$A$6:$A$120,총괄표!$A9)+SUMIFS('17년특출'!L$6:L$39,'17년특출'!$A$6:$A$39,총괄표!$A9) -> 0 | G9: =SUMIFS('17년일출'!M$6:M$120,'17년일출'!$A$6:$A$120,총괄표!$A9)+SUMIFS('17년특출'!M$6:M$39,'17년특출'!$A$6:$A$39,총괄표!$A9) -> 0 | H9: =G9-F9 -> 0 | I9: =B9+F9+G9 -> 0 | K9: 특별회계 | L9: =SUM(C25:D25) -> 0 | M9: =SUM(F25:G25) -> 0 | N9: =L9-M9 -> 0
A10: 경제과학기술위원회 | B10: =B33 -> 0 | C10: =SUMIFS('17년일입'!K$6:K$100,'17년일입'!$A$6:$A$100,총괄표!$A10)+SUMIFS('17년특입'!K$6:K$39,'17년특입'!$A$6:$A$39,총괄표!$A10) -> 0 | D10: =SUMIFS('17년일입'!L$6:L$100,'17년일입'!$A$6:$A$100,총괄표!$A10)+SUMIFS('17년특입'!L$6:L$39,'17년특입'!$A$6:$A$39,총괄표!$A10) -> 0 | E10: =D10-C10 -> 0 | F10: =SUMIFS('17년일출'!L$6:L$120,'17년일출'!$A$6:$A$120,총괄표!$A10)+SUMIFS('17년특출'!L$6:L$39,'17년특출'!$A$6:$A$39,총괄표!$A10) -> 0 | G10: =SUMIFS('17년일출'!M$6:M$120,'17년일출'!$A$6:$A$120,총괄표!$A10)+SUMIFS('17년특출'!M$6:M$39,'17년특출'!$A$6:$A$39,총괄표!$A10) -> 0 | H10: =G10-F10 -> 0 | I10: =B10+F10+G10 -> 0
A11: 안전행정위원회 | B11: =B34 -> 0 | C11: =SUMIFS('17년일입'!K$6:K$100,'17년일입'!$A$6:$A$100,총괄표!$A11)+SUMIFS('17년특입'!K$6:K$39,'17년특입'!$A$6:$A$39,총괄표!$A11) -> 0 | D11: =SUMIFS('17년일입'!L$6:L$100,'17년일입'!$A$6:$A$100,총괄표!$A11)+SUMIFS('17년특입'!L$6:L$39,'17년특입'!$A$6:$A$39,총괄표!$A11) -> 0 | E11: =D11-C11 -> 0 | F11: =SUMIFS('17년일출'!L$6:L$120,'17년일출'!$A$6:$A$120,총괄표!$A11)+SUMIFS('17년특출'!L$6:L$39,'17년특출'!$A$6:$A$39,총괄표!$A11) -> 0 | G11: =SUMIFS('17년일출'!M$6:M$120,'17년일출'!$A$6:$A$120,총괄표!$A11)+SUMIFS('17년특출'!M$6:M$39,'17년특출'!$A$6:$A$39,총괄표!$A11) -> 0 | H11: =G11-F11 -> 0 | I11: =B11+F11+G11 -> 0
A12: 문화체육관광위원회 | B12: =B35 -> 0 | C12: =SUMIFS('17년일입'!K$6:K$100,'17년일입'!$A$6:$A$100,총괄표!$A12)+SUMIFS('17년특입'!K$6:K$39,'17년특입'!$A$6:$A$39,총괄표!$A12) -> 0 | D12: =SUMIFS('17년일입'!L$6:L$100,'17년일입'!$A$6:$A$100,총괄표!$A12)+SUMIFS('17년특입'!L$6:L$39,'17년특입'!$A$6:$A$39,총괄표!$A12) -> 0 | E12: =D12-C12 -> 0 | F12: =SUMIFS('17년일출'!L$6:L$120,'17년일출'!$A$6:$A$120,총괄표!$A12)+SUMIFS('17년특출'!L$6:L$39,'17년특출'!$A$6:$A$39,총괄표!$A12) -> 0 | G12: =SUMIFS('17년일출'!M$6:M$120,'17년일출'!$A$6:$A$120,총괄표!$A12)+SUMIFS('17년특출'!M$6:M$39,'17년특출'!$A$6:$A$39,총괄표!$A12) -> 0 | H12: =G12-F12 -> 0 | I12: =B12+F12+G12 -> 0
A13: 농정해양위원회 | B13: =B36 -> 0 | C13: =SUMIFS('17년일입'!K$6:K$100,'17년일입'!$A$6:$A$100,총괄표!$A13)+SUMIFS('17년특입'!K$6:K$39,'17년특입'!$A$6:$A$39,총괄표!$A13) -> 0 | D13: =SUMIFS('17년일입'!L$6:L$100,'17년일입'!$A$6:$A$100,총괄표!$A13)+SUMIFS('17년특입'!L$6:L$39,'17년특입'!$A$6:$A$39,총괄표!$A13) -> 0 | E13: =D13-C13 -> 0 | F13: =SUMIFS('17년일출'!L$6:L$120,'17년일출'!$A$6:$A$120,총괄표!$A13)+SUMIFS('17년특출'!L$6:L$39,'17년특출'!$A$6:$A$39,총괄표!$A13) -> 0 | G13: =SUMIFS('17년일출'!M$6:M$120,'17년일출'!$A$6:$A$120,총괄표!$A13)+SUMIFS('17년특출'!M$6:M$39,'17년특출'!$A$6:$A$39,총괄표!$A13) -> 0 | H13: =G13-F13 -> 0 | I13: =B13+F13+G13 -> 0
A14: 보건복지위원회 | B14: =B37 -> 0 | C14: =SUMIFS('17년일입'!K$6:K$100,'17년일입'!$A$6:$A$100,총괄표!$A14)+SUMIFS('17년특입'!K$6:K$39,'17년특입'!$A$6:$A$39,총괄표!$A14) -> 0 | D14: =SUMIFS('17년일입'!L$6:L$100,'17년일입'!$A$6:$A$100,총괄표!$A14)+SUMIFS('17년특입'!L$6:L$39,'17년특입'!$A$6:$A$39,총괄표!$A14) -> 0 | E14: =D14-C14 -> 0 | F14: =SUMIFS('17년일출'!L$6:L$120,'17년일출'!$A$6:$A$120,총괄표!$A14)+SUMIFS('17년특출'!L$6:L$39,'17년특출'!$A$6:$A$39,총괄표!$A14) -> 0 | G14: =SUMIFS('17년일출'!M$6:M$120,'17년일출'!$A$6:$A$120,총괄표!$A14)+SUMIFS('17년특출'!M$6:M$39,'17년특출'!$A$6:$A$39,총괄표!$A14) -> 0 | H14: =G14-F14 -> 0 | I14: =B14+F14+G14 -> 0
A15: 건설교통위원회 | B15: =B38 -> 0 | C15: =SUMIFS('17년일입'!K$6:K$100,'17년일입'!$A$6:$A$100,총괄표!$A15)+SUMIFS('17년특입'!K$6:K$39,'17년특입'!$A$6:$A$39,총괄표!$A15) -> 0 | D15: =SUMIFS('17년일입'!L$6:L$100,'17년일입'!$A$6:$A$100,총괄표!$A15)+SUMIFS('17년특입'!L$6:L$39,'17년특입'!$A$6:$A$39,총괄표!$A15) -> 0 | E15: =D15-C15 -> 0 | F15: =SUMIFS('17년일출'!L$6:L$120,'17년일출'!$A$6:$A$120,총괄표!$A15)+SUMIFS('17년특출'!L$6:L$39,'17년특출'!$A$6:$A$39,총괄표!$A15) -> 0 | G15: =SUMIFS('17년일출'!M$6:M$120,'17년일출'!$A$6:$A$120,총괄표!$A15)+SUMIFS('17년특출'!M$6:M$39,'17년특출'!$A$6:$A$39,총괄표!$A15) -> 0 | H15: =G15-F15 -> 0 | I15: =B15+F15+G15 -> 0
A16: 도시환경위원회 | B16: =B39 -> 0 | C16: =SUMIFS('17년일입'!K$6:K$100,'17년일입'!$A$6:$A$100,총괄표!$A16)+SUMIFS('17년특입'!K$6:K$39,'17년특입'!$A$6:$A$39,총괄표!$A16) -> 0 | D16: =SUMIFS('17년일입'!L$6:L$100,'17년일입'!$A$6:$A$100,총괄표!$A16)+SUMIFS('17년특입'!L$6:L$39,'17년특입'!$A$6:$A$39,총괄표!$A16) -> 0 | E16: =D16-C16 -> 0 | F16: =SUMIFS('17년일출'!L$6:L$120,'17년일출'!$A$6:$A$120,총괄표!$A16)+SUMIFS('17년특출'!L$6:L$39,'17년특출'!$A$6:$A$39,총괄표!$A16) -> 0 | G16: =SUMIFS('17년일출'!M$6:M$120,'17년일출'!$A$6:$A$120,총괄표!$A16)+SUMIFS('17년특출'!M$6:M$39,'17년특출'!$A$6:$A$39,총괄표!$A16) -> 0 | H16: =G16-F16 -> 0 | I16: =B16+F16+G16 -> 0
A17: 여상가족교육협력위원회 | B17: =B40 -> 0 | C17: =SUMIFS('17년일입'!K$6:K$100,'17년일입'!$A$6:$A$100,총괄표!$A17)+SUMIFS('17년특입'!K$6:K$39,'17년특입'!$A$6:$A$39,총괄표!$A17) -> 0 | D17: =SUMIFS('17년일입'!L$6:L$100,'17년일입'!$A$6:$A$100,총괄표!$A17)+SUMIFS('17년특입'!L$6:L$39,'17년특입'!$A$6:$A$39,총괄표!$A17) -> 0 | E17: =D17-C17 -> 0 | F17: =SUMIFS('17년일출'!L$6:L$120,'17년일출'!$A$6:$A$120,총괄표!$A17)+SUMIFS('17년특출'!L$6:L$39,'17년특출'!$A$6:$A$39,총괄표!$A17) -> 0 | G17: =SUMIFS('17년일출'!M$6:M$120,'17년일출'!$A$6:$A$120,총괄표!$A17)+SUMIFS('17년특출'!M$6:M$39,'17년특출'!$A$6:$A$39,총괄표!$A17) -> 0 | H17: =G17-F17 -> 0 | I17: =B17+F17+G17 -> 0
A19: □ 회계별 예산 총 규모
I20: (단위 : 천원)
A21: 구 분 | B21: 집행부제출(안) | C21: 세입예산(안) | F21: 세출예산(안) | I21: 수정예산(안) | K21: 세입기준
C22: 감 액 | D22: 증 액 | E22: 증감액 | F22: 감 액 | G22: 증 액 | H22: 증감액 | K22: 수정예산(안) | L22: 세출기준-세입기준
A23: 합 계 | B23: =SUM(B24:B25) -> 0 | C23: =SUM(C24:C25) -> 0 | D23: =SUM(D24:D25) -> 0 | E23: =SUM(E24:E25) -> 0 | F23: =SUM(F24:F25) -> 0 | G23: =SUM(G24:G25) -> 0 | H23: =SUM(H24:H25) -> 0 | I23: =SUM(I24:I25) -> 0 | K23: =SUM(K24:K25) -> 0 | L23: =I23-K23 -> 0
A24: 일반회계 | B24: =D30 -> 0 | C24: ='17년일입'!K6 -> 0 | D24: ='17년일입'!L6 -> 0 | E24: =D24-C24 -> 0 | F24: ='17년일출'!L6 -> 0 | G24: ='17년일출'!M6 -> 0 | H24: =G24-F24 -> 0 | I24: =B24+F24+G24 -> 0 | K24: =B24+C24+D24 -> 0 | L24: =I24-K24 -> 0
A25: 특별회계 | B25: =F30+G30 -> 0 | C25: ='17년특입'!K6 -> 0 | D25: ='17년특입'!L6 -> 0 | E25: =D25-C25 -> 0 | F25: ='17년특출'!L6 -> 0 | G25: ='17년특출'!M6 -> 0 | H25: =G25-F25 -> 0 | I25: =B25+F25+G25 -> 0 | K25: =B25+C25+D25 -> 0 | L25: =I25-K25 -> 0
A28: ※ 회계별, 위원회별 집행부제출안(상임위에서 작성)
A29: 위원회명 | B29: 합계 | C29: 일반+기타 | D29: 일반회계 | E29: 기타특별회계 | F29: 공기업특별회계
A30: 합계 | B30: =SUM(B31:B40) -> 0 | C30: =SUM(C31:C40) -> 0 | D30: =SUM(D31:D40) -> 0 | E30: =SUM(E31:E40) -> 0 | F30: =SUM(F31:F40) -> 0
A31: 의회운영위원회 | B31: =SUM(D31:G31) -> 0 | C31: =D31+F31 -> 0
A32: 기획재정위원회 | B32: =SUM(D32:G32) -> 0 | C32: =D32+F32 -> 0
A33: 경제과학기술위원회 | B33: =SUM(D33:G33) -> 0 | C33: =D33+F33 -> 0
A34: 안전행정위원회 | B34: =SUM(D34:G34) -> 0 | C34: =D34+F34 -> 0
A35: 문화체육관광위원회 | B35: =SUM(D35:G35) -> 0 | C35: =D35+F35 -> 0
A36: 농정해양위원회 | B36: =SUM(D36:G36) -> 0 | C36: =D36+F36 -> 0
A37: 보건복지위원회 | B37: =SUM(D37:G37) -> 0 | C37: =D37+F37 -> 0
A38: 건설교통위원회 | B38: =SUM(D38:G38) -> 0 | C38: =D38+F38 -> 0
A39: 도시환경위원회 | B39: =SUM(D39:G39) -> 0 | C39: =D39+F39 -> 0
A40: 여상가족교육협력위원회 | B40: =SUM(D40:G40) -> 0 | C40: =D40+F40 -> 0
A42: 예비비

Sheet 17년일입
A1: 2017년도 경기도 일반회계 세입 예산 조정(안)
A2: □ 세입예산 | V2: 세입=세출 | AA2: 세입=세출
H3: =COUNTA(H7:H100) -> 0 | I3: =COUNTA(I7:I100) -> 0 | K3: =COUNTA(K7:K100) -> 0 | L3: =COUNTA(L7:L100) -> 0 | Q3: (단위 : 천원) | V3: =IF(V6='17년일출'!W6,"OK","@@") -> @@ | X3: =IF(COUNTIF(X6:X100,"검토")>0,"@@","OK") -> OK | AA3: =IF(AA6='17년일출'!AB6,"OK","@@") -> OK | AC3: =IF(COUNTIF(AC6:AC100,"검토")>0,"@@","OK") -> OK
A4: 위원회명 | B4: 실국명 | C4: 부서명 | D4: 편성 구분 | E4: 예산안 페이지 | F4: 세부사업명 및 부기명 | G4: 예산안 (가) | H4: 상임위 예산안 조정액(나) | J4: 상임위 조정 예산안 (다=가+나) | K4: 예결위 예산안 조정액(라) | M4: 예결위 조정 예산안 (마=가+라) | N4: 동의 대상 | O4: 상임위 변경사유 (심의 참고자료) | P4: 비고 (상임위 부대의견) | Q4: 비고 (부대의견) | S4: 국도비 등 여부 | U4: 재원 | V4: 상임위 재원별 증감액 | Z4: 재원 | AA4: 예결위 재원별 증감액 | AE4: 세입번호 | AG4: 실국부서 코드 | AI4: 추가 내시 등 | AK4: 상임위 세입 검증 | AO4: 예결위 세입 검증
H5: 감액 | I5: 증액 | K5: 감액 | L5: 증액 | V5: 국비 등 | W5: 도비 | X5: 검증 | AA5: 국비 등 | AB5: 도비 | AC5: 검증 | AK5: 국비 증감액 | AL5: 건수 | AM5: 검증 | AO5: 국비 증감액 | AP5: 건수 | AQ5: 검증
A6: 합 계 | G6: =SUBTOTAL(9,G7:G100) -> 0 | H6: =SUBTOTAL(9,H7:H100) -> 0 | I6: =SUBTOTAL(9,I7:I100) -> 0 | J6: =SUBTOTAL(9,J7:J100) -> 0 | K6: =SUBTOTAL(9,K7:K100) -> 0 | L6: =SUBTOTAL(9,L7:L100) -> 0 | M6: =SUBTOTAL(9,M7:M100) -> 0 | V6: =SUBTOTAL(9,V7:V100) -> 0 | W6: =SUBTOTAL(9,W7:W100) -> 0 | X6: =IF(SUM($H6:$I6)=SUM($V6:$W6),"OK","검토") -> OK | AA6: =SUBTOTAL(9,AA7:AA100) -> 0 | AB6: =SUBTOTAL(9,AB7:AB100) -> 0 | AC6: =IF(SUM($H6:$I6)=SUM($V6:$W6),"OK","검토") -> OK | AK6: =SUBTOTAL(9,AK7:AK100) -> 0 | AL6: =SUBTOTAL(9,AL7:AL100) -> 0 | AM6: =IF(COUNTIF(AM7:AM100,"@@")>0,"@@","OK") -> OK | AO6: =SUBTOTAL(9,AO7:AO100) -> 0 | AP6: =SUBTOTAL(9,AP7:AP100) -> 0 | AQ6: =IF(COUNTIF(AQ7:AQ100,"@@")>0,"@@","OK") -> OK
A7: =IFERROR(VLOOKUP($C7,구분표!$A$2:$C$313,2,FALSE),"") | B7: =IFERROR(VLOOKUP($C7,구분표!$A$2:$C$313,3,FALSE),"") | D7: 본예산 | J7: =SUM(G7:I7) -> 0 | M7: =SUM(G7,K7,L7) -> 0 | N7: =IF(AND((J7=0),(M7>0)),"O",IF(AND((H7<0),(J7-M7<0)),"O","X")) -> X | X7: =IF(SUM($H7:$I7)=SUM($V7:$W7),"OK","검토") -> OK | AA7: =IF($U7<>"도비",IF($S7="국도비","직접입력",SUM($K7:$L7)),) -> 0 | AB7: =IF($U7="도비",SUM(K7:L7),IF($S7="국도비","직접입력",SUM(K7:L7)-AA7)) -> 0 | AC7: =IF(SUM(K7:L7)=SUM(AA7:AB7),"OK","검토") -> OK | AE7: =IF(AG7="","",IF(U7="도비","세입없음",CONCATENATE(AG7,"-",COUNTIF($AG$7:AG7,AG7)))) | AG7: {=IF(C7="","",INDEX(구분표!$I$2:$I$313, MATCH(1,(구분표!$E$2:$E$313='17년일입'!B7)*(구분표!$F$2:$F$313='17년일입'!C7)*(구분표!$G$2:$G$313='17년일입'!A7),0)))} | AK7: =IF(AE7="",0,SUMIFS('17년일출'!$W$6:$W$120,'17년일출'!$AF$6:$AF$120,'17년일입'!$AE7)) -> 0 | AL7: =IF(AE7="","",COUNTIFS('17년일출'!$AF$6:$AF$120,'17년일입'!AE7)) | AM7: =IF(V7=AK7,"OK","@@") -> OK | AO7: =IF(AE7="",0,SUMIFS('17년일출'!$AB$6:$AB$120,'17년일출'!$AF$6:$AF$120,'17년일입'!$AE7)) -> 0 | AP7: =IF(AE7="","",COUNTIFS('17년일출'!$AF$6:$AF$120,AE7)) | AQ7: =IF(AA7=AO7,"OK","@@") -> OK
A8: =IFERROR(VLOOKUP($C8,구분표!$A$2:$C$313,2,FALSE),"") | B8: =IFERROR(VLOOKUP($C8,구분표!$A$2:$C$313,3,FALSE),"") | D8: 신규 | J8: =SUM(G8:I8) -> 0 | M8: =SUM(G8,K8,L8) -> 0 | N8: =IF(AND((J8=0),(M8>0)),"O",IF(AND((H8<0),(J8-M8<0)),"O","X")) -> X | V8: =IF($U8<>"도비",IF($S8="국도비","직접입력",SUM($H8:$I8)),) -> 0 | W8: =IF($U8="도비",SUM($H8:$I8),IF($S8="국도비","직접입력",SUM($H8:$I8)-$V8)) -> 0 | X8: =IF(SUM($H8:$I8)=SUM($V8:$W8),"OK","검토") -> OK | AA8: =IF($U8<>"도비",IF($S8="국도비","직접입력",SUM($K8:$L8)),) -> 0 | AB8: =IF($U8="도비",SUM(K8:L8),IF($S8="국도비","직접입력",SUM(K8:L8)-AA8)) -> 0 | AC8: =IF(SUM(K8:L8)=SUM(AA8:AB8),"OK","검토") -> OK | AE8: =IF(AG8="","",IF(U8="도비","세입없음",CONCATENATE(AG8,"-",COUNTIF($AG$7:AG8,AG8)))) | AG8: {=IF(C8="","",INDEX(구분표!$I$2:$I$313, MATCH(1,(구분표!$E$2:$E$313='17년일입'!B8)*(구분표!$F$2:$F$313='17년일입'!C8)*(구분표!$G$2:$G$313='17년일입'!A8),0)))} | AK8: =IF(AE8="",0,SUMIFS('17년일출'!$W$6:$W$120,'17년일출'!$AF$6:$AF$120,'17년일입'!$AE8)) -> 0 | AL8: =IF(AE8="","",COUNTIFS('17년일출'!$AF$6:$AF$120,'17년일입'!AE8)) | AM8: =IF(V8=AK8,"OK","@@") -> OK | AO8: =IF(AE8="",0,SUMIFS('17년일출'!$AB$6:$AB$120,'17년일출'!$AF$6:$AF$120,'17년일입'!$AE8)) -> 0 | AP8: =IF(AE8="","",COUNTIFS('17년일출'!$AF$6:$AF$120,AE8)) | AQ8: =IF(AA8=AO8,"OK","@@") -> OK
A9: =IFERROR(VLOOKUP($C9,구분표!$A$2:$C$313,2,FALSE),"") | B9: =IFERROR(VLOOKUP($C9,구분표!$A$2:$C$313,3,FALSE),"") | J9: =SUM(G9:I9) -> 0 | M9: =SUM(G9,K9,L9) -> 0 | N9: =IF(AND((J9=0),(M9>0)),"O",IF(AND((H9<0),(J9-M9<0)),"O","X")) -> X | V9: =IF($U9<>"도비",IF($S9="국도비","직접입력",SUM($H9:$I9)),) -> 0 | W9: =IF($U9="도비",SUM($H9:$I9),IF($S9="국도비","직접입력",SUM($H9:$I9)-$V9)) -> 0 | X9: =IF(SUM($H9:$I9)=SUM($V9:$W9),"OK","검토") -> OK | AA9: =IF($U9<>"도비",IF($S9="국도비","직접입력",SUM($K9:$L9)),) -> 0 | AB9: =IF($U9="도비",SUM(K9:L9),IF($S9="국도비","직접입력",SUM(K9:L9)-AA9)) -> 0 | AC9: =IF(SUM(K9:L9)=SUM(AA9:AB9),"OK","검토") -> OK | AE9: =IF(AG9="","",IF(U9="도비","세입없음",CONCATENATE(AG9,"-",COUNTIF($AG$7:AG9,AG9)))) | AG9: {=IF(C9="","",INDEX(구분표!$I$2:$I$313, MATCH(1,(구분표!$E$2:$E$313='17년일입'!B9)*(구분표!$F$2:$F$313='17년일입'!C9)*(구분표!$G$2:$G$313='17년일입'!A9),0)))} | AK9: =IF(AE9="",0,SUMIFS('17년일출'!$W$6:$W$120,'17년일출'!$AF$6:$AF$120,'17년일입'!$AE9)) -> 0 | AL9: =IF(AE9="","",COUNTIFS('17년일출'!$AF$6:$AF$120,'17년일입'!AE9)) | AM9: =IF(V9=AK9,"OK","@@") -> OK | AO9: =IF(AE9="",0,SUMIFS('17년일출'!$AB$6:$AB$120,'17년일출'!$AF$6:$AF$120,'17년일입'!$AE9)) -> 0 | AP9: =IF(AE9="","",COUNTIFS('17년일출'!$AF$6:$AF$120,AE9)) | AQ9: =IF(AA9=AO9,"OK","@@") -> OK
A10: =IFERROR(VLOOKUP($C10,구분표!$A$2:$C$313,2,FALSE),"") | B10: =IFERROR(VLOOKUP($C10,구분표!$A$2:$C$313,3,FALSE),"") | J10: =SUM(G10:I10) -> 0 | M10: =SUM(G10,K10,L10) -> 0 | N10: =IF(AND((J10=0),(M10>0)),"O",IF(AND((H10<0),(J10-M10<0)),"O","X")) -> X | V10: =IF($U10<>"도비",IF($S10="국도비","직접입력",SUM($H10:$I10)),) -> 0 | W10: =IF($U10="도비",SUM($H10:$I10),IF($S10="국도비","직접입력",SUM($H10:$I10)-$V10)) -> 0 | X10: =IF(SUM($H10:$I10)=SUM($V10:$W10),"OK","검토") -> OK | AA10: =IF($U10<>"도비",IF($S10="국도비","직접입력",SUM($K10:$L10)),) -> 0 | AB10: =IF($U10="도비",SUM(K10:L10),IF($S10="국도비","직접입력",SUM(K10:L10)-AA10)) -> 0 | AC10: =IF(SUM(K10:L10)=SUM(AA10:AB10),"OK","검토") -> OK | AE10: =IF(AG10="","",IF(U10="도비","세입없음",CONCATENATE(AG10,"-",COUNTIF($AG$7:AG10,AG10)))) | AG10: {=IF(C10="","",INDEX(구분표!$I$2:$I$313, MATCH(1,(구분표!$E$2:$E$313='17년일입'!B10)*(구분표!$F$2:$F$313='17년일입'!C10)*(구분표!$G$2:$G$313='17년일입'!A10),0)))} | AK10: =IF(AE10="",0,SUMIFS('17년일출'!$W$6:$W$120,'17년일출'!$AF$6:$AF$120,'17년일입'!$AE10)) -> 0 | AL10: =IF(AE10="","",COUNTIFS('17년일출'!$AF$6:$AF$120,'17년일입'!AE10)) | AM10: =IF(V10=AK10,"OK","@@") -> OK | AO10: =IF(AE10="",0,SUMIFS('17년일출'!$AB$6:$AB$120,'17년일출'!$AF$6:$AF$120,'17년일입'!$AE10)) -> 0 | AP10: =IF(AE10="","",COUNTIFS('17년일출'!$AF$6:$AF$120,AE10)) | AQ10: =IF(AA10=AO10,"OK","@@") -> OK
A11: =IFERROR(VLOOKUP($C11,구분표!$A$2:$C$313,2,FALSE),"") | B11: =IFERROR(VLOOKUP($C11,구분표!$A$2:$C$313,3,FALSE),"") | J11: =SUM(G11:I11) -> 0 | M11: =SUM(G11,K11,L11) -> 0 | N11: =IF(AND((J11=0),(M11>0)),"O",IF(AND((H11<0),(J11-M11<0)),"O","X")) -> X | V11: =IF($U11<>"도비",IF($S11="국도비","직접입력",SUM($H11:$I11)),) -> 0 | W11: =IF($U11="도비",SUM($H11:$I11),IF($S11="국도비","직접입력",SUM($H11:$I11)-$V11)) -> 0 | X11: =IF(SUM($H11:$I11)=SUM($V11:$W11),"OK","검토") -> OK | AA11: =IF($U11<>"도비",IF($S11="국도비","직접입력",SUM($K11:$L11)),) -> 0 | AB11: =IF($U11="도비",SUM(K11:L11),IF($S11="국도비","직접입력",SUM(K11:L11)-AA11)) -> 0 | AC11: =IF(SUM(K11:L11)=SUM(AA11:AB11),"OK","검토") -> OK | AE11: =IF(AG11="","",IF(U11="도비","세입없음",CONCATENATE(AG11,"-",COUNTIF($AG$7:AG11,AG11)))) | AG11: {=IF(C11="","",INDEX(구분표!$I$2:$I$313, MATCH(1,(구분표!$E$2:$E$313='17년일입'!B11)*(구분표!$F$2:$F$313='17년일입'!C11)*(구분표!$G$2:$G$313='17년일입'!A11),0)))} | AK11: =IF(AE11="",0,SUMIFS('17년일출'!$W$6:$W$120,'17년일출'!$AF$6:$AF$120,'17년일입'!$AE11)) -> 0 | AL11: =IF(AE11="","",COUNTIFS('17년일출'!$AF$6:$AF$120,'17년일입'!AE11)) | AM11: =IF(V11=AK11,"OK","@@") -> OK | AO11: =IF(AE11="",0,SUMIFS('17년일출'!$AB$6:$AB$120,'17년일출'!$AF$6:$AF$120,'17년일입'!$AE11)) -> 0 | AP11: =IF(AE11="","",COUNTIFS('17년일출'!$AF$6:$AF$120,AE11)) | AQ11: =IF(AA11=AO11,"OK","@@") -> OK
A12: =IFERROR(VLOOKUP($C12,구분표!$A$2:$C$313,2,FALSE),"") | B12: =IFERROR(VLOOKUP($C12,구분표!$A$2:$C$313,3,FALSE),"") | J12: =SUM(G12:I12) -> 0 | M12: =SUM(G12,K12,L12) -> 0 | N12: =IF(AND((J12=0),(M12>0)),"O",IF(AND((H12<0),(J12-M12<0)),"O","X")) -> X | V12: =IF($U12<>"도비",IF($S12="국도비","직접입력",SUM($H12:$I12)),) -> 0 | W12: =IF($U12="도비",SUM($H12:$I12),IF($S12="국도비","직접입력",SUM($H12:$I12)-$V12)) -> 0 | X12: =IF(SUM($H12:$I12)=SUM($V12:$W12),"OK","검토") -> OK | AA12: =IF($U12<>"도비",IF($S12="국도비","직접입력",SUM($K12:$L12)),) -> 0 | AB12: =IF($U12="도비",SUM(K12:L12),IF($S12="국도비","직접입력",SUM(K12:L12)-AA12)) -> 0 | AC12: =IF(SUM(K12:L12)=SUM(AA12:AB12),"OK","검토") -> OK | AE12: =IF(AG12="","",IF(U12="도비","세입없음",CONCATENATE(AG12,"-",COUNTIF($AG$7:AG12,AG12)))) | AG12: {=IF(C12="","",INDEX(구분표!$I$2:$I$313, MATCH(1,(구분표!$E$2:$E$313='17년일입'!B12)*(구분표!$F$2:$F$313='17년일입'!C12)*(구분표!$G$2:$G$313='17년일입'!A12),0)))} | AK12: =IF(AE12="",0,SUMIFS('17년일출'!$W$6:$W$120,'17년일출'!$AF$6:$AF$120,'17년일입'!$AE12)) -> 0 | AL12: =IF(AE12="","",COUNTIFS('17년일출'!$AF$6:$AF$120,'17년일입'!AE12)) | AM12: =IF(V12=AK12,"OK","@@") -> OK | AO12: =IF(AE12="",0,SUMIFS('17년일출'!$AB$6:$AB$120,'17년일출'!$AF$6:$AF$120,'17년일입'!$AE12)) -> 0 | AP12: =IF(AE12="","",COUNTIFS('17년일출'!$AF$6:$AF$120,AE12)) | AQ12: =IF(AA12=AO12,"OK","@@") -> OK
A13: =IFERROR(VLOOKUP($C13,구분표!$A$2:$C$313,2,FALSE),"") | B13: =IFERROR(VLOOKUP($C13,구분표!$A$2:$C$313,3,FALSE),"") | J13: =SUM(G13:I13) -> 0 | M13: =SUM(G13,K13,L13) -> 0 | N13: =IF(AND((J13=0),(M13>0)),"O",IF(AND((H13<0),(J13-M13<0)),"O","X")) -> X | V13: =IF($U13<>"도비",IF($S13="국도비","직접입력",SUM($H13:$I13)),) -> 0 | W13: =IF($U13="도비",SUM($H13:$I13),IF($S13="국도비","직접입력",SUM($H13:$I13)-$V13)) -> 0 | X13: =IF(SUM($H13:$I13)=SUM($V13:$W13),"OK","검토") -> OK | AA13: =IF($U13<>"도비",IF($S13="국도비","직접입력",SUM($K13:$L13)),) -> 0 | AB13: =IF($U13="도비",SUM(K13:L13),IF($S13="국도비","직접입력",SUM(K13:L13)-AA13)) -> 0 | AC13: =IF(SUM(K13:L13)=SUM(AA13:AB13),"OK","검토") -> OK | AE13: =IF(AG13="","",IF(U13="도비","세입없음",CONCATENATE(AG13,"-",COUNTIF($AG$7:AG13,AG13)))) | AG13: {=IF(C13="","",INDEX(구분표!$I$2:$I$313, MATCH(1,(구분표!$E$2:$E$313='17년일입'!B13)*(구분표!$F$2:$F$313='17년일입'!C13)*(구분표!$G$2:$G$313='17년일입'!A13),0)))} | AK13: =IF(AE13="",0,SUMIFS('17년일출'!$W$6:$W$120,'17년일출'!$AF$6:$AF$120,'17년일입'!$AE13)) -> 0 | AL13: =IF(AE13="","",COUNTIFS('17년일출'!$AF$6:$AF$120,'17년일입'!AE13)) | AM13: =IF(V13=AK13,"OK","@@") -> OK | AO13: =IF(AE13="",0,SUMIFS('17년일출'!$AB$6:$AB$120,'17년일출'!$AF$6:$AF$120,'17년일입'!$AE13)) -> 0 | AP13: =IF(AE13="","",COUNTIFS('17년일출'!$AF$6:$AF$120,AE13)) | AQ13: =IF(AA13=AO13,"OK","@@") -> OK
A14: =IFERROR(VLOOKUP($C14,구분표!$A$2:$C$313,2,FALSE),"") | B14: =IFERROR(VLOOKUP($C14,구분표!$A$2:$C$313,3,FALSE),"") | J14: =SUM(G14:I14) -> 0 | M14: =SUM(G14,K14,L14) -> 0 | N14: =IF(AND((J14=0),(M14>0)),"O",IF(AND((H14<0),(J14-M14<0)),"O","X")) -> X | V14: =IF($U14<>"도비",IF($S14="국도비","직접입력",SUM($H14:$I14)),) -> 0 | W14: =IF($U14="도비",SUM($H14:$I14),IF($S14="국도비","직접입력",SUM($H14:$I14)-$V14)) -> 0 | X14: =IF(SUM($H14:$I14)=SUM($V14:$W14),"OK","검토") -> OK | AA14: =IF($U14<>"도비",IF($S14="국도비","직접입력",SUM($K14:$L14)),) -> 0 | AB14: =IF($U14="도비",SUM(K14:L14),IF($S14="국도비","직접입력",SUM(K14:L14)-AA14)) -> 0 | AC14: =IF(SUM(K14:L14)=SUM(AA14:AB14),"OK","검토") -> OK | AE14: =IF(AG14="","",IF(U14="도비","세입없음",CONCATENATE(AG14,"-",COUNTIF($AG$7:AG14,AG14)))) | AG14: {=IF(C14="","",INDEX(구분표!$I$2:$I$313, MATCH(1,(구분표!$E$2:$E$313='17년일입'!B14)*(구분표!$F$2:$F$313='17년일입'!C14)*(구분표!$G$2:$G$313='17년일입'!A14),0)))} | AK14: =IF(AE14="",0,SUMIFS('17년일출'!$W$6:$W$120,'17년일출'!$AF$6:$AF$120,'17년일입'!$AE14)) -> 0 | AL14: =IF(AE14="","",COUNTIFS('17년일출'!$AF$6:$AF$120,'17년일입'!AE14)) | AM14: =IF(V14=AK14,"OK","@@") -> OK | AO14: =IF(AE14="",0,SUMIFS('17년일출'!$AB$6:$AB$120,'17년일출'!$AF$6:$AF$120,'17년일입'!$AE14)) -> 0 | AP14: =IF(AE14="","",COUNTIFS('17년일출'!$AF$6:$AF$120,AE14)) | AQ14: =IF(AA14=AO14,"OK","@@") -> OK
A15: =IFERROR(VLOOKUP($C15,구분표!$A$2:$C$313,2,FALSE),"") | B15: =IFERROR(VLOOKUP($C15,구분표!$A$2:$C$313,3,FALSE),"") | J15: =SUM(G15:I15) -> 0 | M15: =SUM(G15,K15,L15) -> 0 | N15: =IF(AND((J15=0),(M15>0)),"O",IF(AND((H15<0),(J15-M15<0)),"O","X")) -> X | V15: =IF($U15<>"도비",IF($S15="국도비","직접입력",SUM($H15:$I15)),) -> 0 | W15: =IF($U15="도비",SUM($H15:$I15),IF($S15="국도비","직접입력",SUM($H15:$I15)-$V15)) -> 0 | X15: =IF(SUM($H15:$I15)=SUM($V15:$W15),"OK","검토") -> OK | AA15: =IF($U15<>"도비",IF($S15="국도비","직접입력",SUM($K15:$L15)),) -> 0 | AB15: =IF($U15="도비",SUM(K15:L15),IF($S15="국도비","직접입력",SUM(K15:L15)-AA15)) -> 0 | AC15: =IF(SUM(K15:L15)=SUM(AA15:AB15),"OK","검토") -> OK | AE15: =IF(AG15="","",IF(U15="도비","세입없음",CONCATENATE(AG15,"-",COUNTIF($AG$7:AG15,AG15)))) | AG15: {=IF(C15="","",INDEX(구분표!$I$2:$I$313, MATCH(1,(구분표!$E$2:$E$313='17년일입'!B15)*(구분표!$F$2:$F$313='17년일입'!C15)*(구분표!$G$2:$G$313='17년일입'!A15),0)))} | AK15: =IF(AE15="",0,SUMIFS('17년일출'!$W$6:$W$120,'17년일출'!$AF$6:$AF$120,'17년일입'!$AE15)) -> 0 | AL15: =IF(AE15="","",COUNTIFS('17년일출'!$AF$6:$AF$120,'17년일입'!AE15)) | AM15: =IF(V15=AK15,"OK","@@") -> OK | AO15: =IF(AE15="",0,SUMIFS('17년일출'!$AB$6:$AB$120,'17년일출'!$AF$6:$AF$120,'17년일입'!$AE15)) -> 0 | AP15: =IF(AE15="","",COUNTIFS('17년일출'!$AF$6:$AF$120,AE15)) | AQ15: =IF(AA15=AO15,"OK","@@") -> OK
A16: =IFERROR(VLOOKUP($C16,구분표!$A$2:$C$313,2,FALSE),"") | B16: =IFERROR(VLOOKUP($C16,구분표!$A$2:$C$313,3,FALSE),"") | J16: =SUM(G16:I16) -> 0 | M16: =SUM(G16,K16,L16) -> 0 | N16: =IF(AND((J16=0),(M16>0)),"O",IF(AND((H16<0),(J16-M16<0)),"O","X")) -> X | V16: =IF($U16<>"도비",IF($S16="국도비","직접입력",SUM($H16:$I16)),) -> 0 | W16: =IF($U16="도비",SUM($H16:$I16),IF($S16="국도비","직접입력",SUM($H16:$I16)-$V16)) -> 0 | X16: =IF(SUM($H16:$I16)=SUM($V16:$W16),"OK","검토") -> OK | AA16: =IF($U16<>"도비",IF($S16="국도비","직접입력",SUM($K16:$L16)),) -> 0 | AB16: =IF($U16="도비",SUM(K16:L16),IF($S16="국도비","직접입력",SUM(K16:L16)-AA16)) -> 0 | AC16: =IF(SUM(K16:L16)=SUM(AA16:AB16),"OK","검토") -> OK | AE16: =IF(AG16="","",IF(U16="도비","세입없음",CONCATENATE(AG16,"-",COUNTIF($AG$7:AG16,AG16)))) | AG16: {=IF(C16="","",INDEX(구분표!$I$2:$I$313, MATCH(1,(구분표!$E$2:$E$313='17년일입'!B16)*(구분표!$F$2:$F$313='17년일입'!C16)*(구분표!$G$2:$G$313='17년일입'!A16),0)))} | AK16: =IF(AE16="",0,SUMIFS('17년일출'!$W$6:$W$120,'17년일출'!$AF$6:$AF$120,'17년일입'!$AE16)) -> 0 | AL16: =IF(AE16="","",COUNTIFS('17년일출'!$AF$6:$AF$120,'17년일입'!AE16)) | AM16: =IF(V16=AK16,"OK","@@") -> OK | AO16: =IF(AE16="",0,SUMIFS('17년일출'!$AB$6:$AB$120,'17년일출'!$AF$6:$AF$120,'17년일입'!$AE16)) -> 0 | AP16: =IF(AE16="","",COUNTIFS('17년일출'!$AF$6:$AF$120,AE16)) | AQ16: =IF(AA16=AO16,"OK","@@") -> OK
A17: =IFERROR(VLOOKUP($C17,구분표!$A$2:$C$313,2,FALSE),"") | B17: =IFERROR(VLOOKUP($C17,구분표!$A$2:$C$313,3,FALSE),"") | J17: =SUM(G17:I17) -> 0 | M17: =SUM(G17,K17,L17) -> 0 | N17: =IF(AND((J17=0),(M17>0)),"O",IF(AND((H17<0),(J17-M17<0)),"O","X")) -> X | V17: =IF($U17<>"도비",IF($S17="국도비","직접입력",SUM($H17:$I17)),) -> 0 | W17: =IF($U17="도비",SUM($H17:$I17),IF($S17="국도비","직접입력",SUM($H17:$I17)-$V17)) -> 0 | X17: =IF(SUM($H17:$I17)=SUM($V17:$W17),"OK","검토") -> OK | AA17: =IF($U17<>"도비",IF($S17="국도비","직접입력",SUM($K17:$L17)),) -> 0 | AB17: =IF($U17="도비",SUM(K17:L17),IF($S17="국도비","직접입력",SUM(K17:L17)-AA17)) -> 0 | AC17: =IF(SUM(K17:L17)=SUM(AA17:AB17),"OK","검토") -> OK | AE17: =IF(AG17="","",IF(U17="도비","세입없음",CONCATENATE(AG17,"-",COUNTIF($AG$7:AG17,AG17)))) | AG17: {=IF(C17="","",INDEX(구분표!$I$2:$I$313, MATCH(1,(구분표!$E$2:$E$313='17년일입'!B17)*(구분표!$F$2:$F$313='17년일입'!C17)*(구분표!$G$2:$G$313='17년일입'!A17),0)))} | AK17: =IF(AE17="",0,SUMIFS('17년일출'!$W$6:$W$120,'17년일출'!$AF$6:$AF$120,'17년일입'!$AE17)) -> 0 | AL17: =IF(AE17="","",COUNTIFS('17년일출'!$AF$6:$AF$120,'17년일입'!AE17)) | AM17: =IF(V17=AK17,"OK","@@") -> OK | AO17: =IF(AE17="",0,SUMIFS('17년일출'!$AB$6:$AB$120,'17년일출'!$AF$6:$AF$120,'17년일입'!$AE17)) -> 0 | AP17: =IF(AE17="","",COUNTIFS('17년일출'!$AF$6:$AF$120,AE17)) | AQ17: =IF(AA17=AO17,"OK","@@") -> OK
A18: =IFERROR(VLOOKUP($C18,구분표!$A$2:$C$313,2,FALSE),"") | B18: =IFERROR(VLOOKUP($C18,구분표!$A$2:$C$313,3,FALSE),"") | J18: =SUM(G18:I18) -> 0 | M18: =SUM(G18,K18,L18) -> 0 | N18: =IF(AND((J18=0),(M18>0)),"O",IF(AND((H18<0),(J18-M18<0)),"O","X")) -> X | V18: =IF($U18<>"도비",IF($S18="국도비","직접입력",SUM($H18:$I18)),) -> 0 | W18: =IF($U18="도비",SUM($H18:$I18),IF($S18="국도비","직접입력",SUM($H18:$I18)-$V18)) -> 0 | X18: =IF(SUM($H18:$I18)=SUM($V18:$W18),"OK","검토") -> OK | AA18: =IF($U18<>"도비",IF($S18="국도비","직접입력",SUM($K18:$L18)),) -> 0 | AB18: =IF($U18="도비",SUM(K18:L18),IF($S18="국도비","직접입력",SUM(K18:L18)-AA18)) -> 0 | AC18: =IF(SUM(K18:L18)=SUM(AA18:AB18),"OK","검토") -> OK | AE18: =IF(AG18="","",IF(U18="도비","세입없음",CONCATENATE(AG18,"-",COUNTIF($AG$7:AG18,AG18)))) | AG18: {=IF(C18="","",INDEX(구분표!$I$2:$I$313, MATCH(1,(구분표!$E$2:$E$313='17년일입'!B18)*(구분표!$F$2:$F$313='17년일입'!C18)*(구분표!$G$2:$G$313='17년일입'!A18),0)))} | AK18: =IF(AE18="",0,SUMIFS('17년일출'!$W$6:$W$120,'17년일출'!$AF$6:$AF$120,'17년일입'!$AE18)) -> 0 | AL18: =IF(AE18="","",COUNTIFS('17년일출'!$AF$6:$AF$120,'17년일입'!AE18)) | AM18: =IF(V18=AK18,"OK","@@") -> OK | AO18: =IF(AE18="",0,SUMIFS('17년일출'!$AB$6:$AB$120,'17년일출'!$AF$6:$AF$120,'17년일입'!$AE18)) -> 0 | AP18: =IF(AE18="","",COUNTIFS('17년일출'!$AF$6:$AF$120,AE18)) | AQ18: =IF(AA18=AO18,"OK","@@") -> OK
A19: =IFERROR(VLOOKUP($C19,구분표!$A$2:$C$313,2,FALSE),"") | B19: =IFERROR(VLOOKUP($C19,구분표!$A$2:$C$313,3,FALSE),"") | J19: =SUM(G19:I19) -> 0 | M19: =SUM(G19,K19,L19) -> 0 | N19: =IF(AND((J19=0),(M19>0)),"O",IF(AND((H19<0),(J19-M19<0)),"O","X")) -> X | V19: =IF($U19<>"도비",IF($S19="국도비","직접입력",SUM($H19:$I19)),) -> 0 | W19: =IF($U19="도비",SUM($H19:$I19),IF($S19="국도비","직접입력",SUM($H19:$I19)-$V19)) -> 0 | X19: =IF(SUM($H19:$I19)=SUM($V19:$W19),"OK","검토") -> OK | AA19: =IF($U19<>"도비",IF($S19="국도비","직접입력",SUM($K19:$L19)),) -> 0 | AB19: =IF($U19="도비",SUM(K19:L19),IF($S19="국도비","직접입력",SUM(K19:L19)-AA19)) -> 0 | AC19: =IF(SUM(K19:L19)=SUM(AA19:AB19),"OK","검토") -> OK | AE19: =IF(AG19="","",IF(U19="도비","세입없음",CONCATENATE(AG19,"-",COUNTIF($AG$7:AG19,AG19)))) | AG19: {=IF(C19="","",INDEX(구분표!$I$2:$I$313, MATCH(1,(구분표!$E$2:$E$313='17년일입'!B19)*(구분표!$F$2:$F$313='17년일입'!C19)*(구분표!$G$2:$G$313='17년일입'!A19),0)))} | AK19: =IF(AE19="",0,SUMIFS('17년일출'!$W$6:$W$120,'17년일출'!$AF$6:$AF$120,'17년일입'!$AE19)) -> 0 | AL19: =IF(AE19="","",COUNTIFS('17년일출'!$AF$6:$AF$120,'17년일입'!AE19)) | AM19: =IF(V19=AK19,"OK","@@") -> OK | AO19: =IF(AE19="",0,SUMIFS('17년일출'!$AB$6:$AB$120,'17년일출'!$AF$6:$AF$120,'17년일입'!$AE19)) -> 0 | AP19: =IF(AE19="","",COUNTIFS('17년일출'!$AF$6:$AF$120,AE19)) | AQ19: =IF(AA19=AO19,"OK","@@") -> OK
A20: =IFERROR(VLOOKUP($C20,구분표!$A$2:$C$313,2,FALSE),"") | B20: =IFERROR(VLOOKUP($C20,구분표!$A$2:$C$313,3,FALSE),"") | J20: =SUM(G20:I20) -> 0 | M20: =SUM(G20,K20,L20) -> 0 | N20: =IF(AND((J20=0),(M20>0)),"O",IF(AND((H20<0),(J20-M20<0)),"O","X")) -> X | V20: =IF($U20<>"도비",IF($S20="국도비","직접입력",SUM($H20:$I20)),) -> 0 | W20: =IF($U20="도비",SUM($H20:$I20),IF($S20="국도비","직접입력",SUM($H20:$I20)-$V20)) -> 0 | X20: =IF(SUM($H20:$I20)=SUM($V20:$W20),"OK","검토") -> OK | AA20: =IF($U20<>"도비",IF($S20="국도비","직접입력",SUM($K20:$L20)),) -> 0 | AB20: =IF($U20="도비",SUM(K20:L20),IF($S20="국도비","직접입력",SUM(K20:L20)-AA20)) -> 0 | AC20: =IF(SUM(K20:L20)=SUM(AA20:AB20),"OK","검토") -> OK | AE20: =IF(AG20="","",IF(U20="도비","세입없음",CONCATENATE(AG20,"-",COUNTIF($AG$7:AG20,AG20)))) | AG20: {=IF(C20="","",INDEX(구분표!$I$2:$I$313, MATCH(1,(구분표!$E$2:$E$313='17년일입'!B20)*(구분표!$F$2:$F$313='17년일입'!C20)*(구분표!$G$2:$G$313='17년일입'!A20),0)))} | AK20: =IF(AE20="",0,SUMIFS('17년일출'!$W$6:$W$120,'17년일출'!$AF$6:$AF$120,'17년일입'!$AE20)) -> 0 | AL20: =IF(AE20="","",COUNTIFS('17년일출'!$AF$6:$AF$120,'17년일입'!AE20)) | AM20: =IF(V20=AK20,"OK","@@") -> OK | AO20: =IF(AE20="",0,SUMIFS('17년일출'!$AB$6:$AB$120,'17년일출'!$AF$6:$AF$120,'17년일입'!$AE20)) -> 0 | AP20: =IF(AE20="","",COUNTIFS('17년일출'!$AF$6:$AF$120,AE20)) | AQ20: =IF(AA20=AO20,"OK","@@") -> OK
... A100: =IFERROR(VLOOKUP($C100,구분표!$A$2:$C$313,2,FALSE),"") | B100: =IFERROR(VLOOKUP($C100,구분표!$A$2:$C$313,3,FALSE),"") | J100: =SUM(G100:I100) -> 0 | M100: =SUM(G100,K100,L100) -> 0 | N100: =IF(AND((J100=0),(M100>0)),"O",IF(AND((H100<0),(J100-M100<0)),"O","X")) -> X | V100: =IF($U100<>"도비",IF($S100="국도비","직접입력",SUM($H100:$I100)),) -> 0 | W100: =IF($U100="도비",SUM($H100:$I100),IF($S100="국도비","직접입력",SUM($H100:$I100)-$V100)) -> 0 | X100: =IF(SUM($H100:$I100)=SUM($V100:$W100),"OK","검토") -> OK | AA100: =IF($U100<>"도비",IF($S100="국도비","직접입력",SUM($K100:$L100)),) -> 0 | AB100: =IF($U100="도비",SUM(K100:L100),IF($S100="국도비","직접입력",SUM(K100:L100)-AA100)) -> 0 | AC100: =IF(SUM(K100:L100)=SUM(AA100:AB100),"OK","검토") -> OK | AE100: =IF(AG100="","",IF(U100="도비","세입없음",CONCATENATE(AG100,"-",COUNTIF($AG$7:AG100,AG100)))) | AG100: {=IF(C100="","",INDEX(구분표!$I$2:$I$313, MATCH(1,(구분표!$E$2:$E$313='17년일입'!B100)*(구분표!$F$2:$F$313='17년일입'!C100)*(구분표!$G$2:$G$313='17년일입'!A100),0)))} | AK100: =IF(AE100="",0,SUMIFS('17년일출'!$W$6:$W$120,'17년일출'!$AF$6:$AF$120,'17년일입'!$AE100)) -> 0 | AL100: =IF(AE100="","",COUNTIFS('17년일출'!$AF$6:$AF$120,'17년일입'!AE100)) | AM100: =IF(V100=AK100,"OK","@@") -> OK | AO100: =IF(AE100="",0,SUMIFS('17년일출'!$AB$6:$AB$120,'17년일출'!$AF$6:$AF$120,'17년일입'!$AE100)) -> 0 | AP100: =IF(AE100="","",COUNTIFS('17년일출'!$AF$6:$AF$120,AE100)) | AQ100: =IF(AA100=AO100,"OK","@@") -> OK

Sheet 17년일출
A1: 2017년도 경기도 일반회계 세출 예산 조정(안)
A2: □ 세출예산 | W2: 세입=세출 | AB2: 세입=세출
K3: (단위 : 천원) | L3: =COUNTA(L7:L120)-10 -> -1 | M3: =COUNTA(M7:M120)-10 -> -1 | R3: (단위 : 천원) | W3: =IF(W6='17년일입'!V6,"OK","@@") -> @@ | Y3: =IF(COUNTIF(Y6:Y120,"검토")>0,"@@","OK") -> OK | AB3: =IF(AB6='17년일입'!AA6,"OK","@@") -> OK | AD3: =IF(COUNTIF(AD6:AD120,"검토")>0,"@@","OK") -> OK
A4: 위원회명 | B4: 실국명 | C4: 부서명 | D4: 편성 구분 | E4: 연정 구분 | F4: 예산안 페이지 | G4: 세부사업명 및 부기명 | H4: 예산안 (가) | I4: 상임위 예산안 조정액(나) | K4: 상임위 조정 예산안 (다=가+나) | L4: 예결위 예산안 조정액(라) | N4: 예결위 조정 예산안 (마=가+라) | O4: 동의 대상 | P4: 상임위 변경사유 (심의 참고자료) | Q4: 비고 (상임위 부대의견) | R4: 비고 (부대의견) | T4: 국도비 등 여부 | V4: 재원 | W4: 상임위 재원별 증감액 | AA4: 재원 | AB4: 예결위 재원별 증감액 | AF4: 세입번호 | AH4: 동일 세입 건수 | AI4: 세출 번호 검증 | AK4: 실국부서 코드 | AM4: 추가 내시 등
I5: 감액 | J5: 증액 | L5: 감액 | M5: 증액 | W5: 국비 등 | X5: 도비 | Y5: 검증 | AB5: 국비 등 | AC5: 도비 | AD5: 검증
A6: 합 계 | H6: =SUBTOTAL(9,H7:H120)/2 -> 212431700 | I6: =SUBTOTAL(9,I7:I120)/2 -> -10380000 | J6: =SUBTOTAL(9,J7:J120)/2 -> 4724000 | K6: =SUBTOTAL(9,K7:K120)/2 -> 206775700 | L6: =SUBTOTAL(9,L7:L120)/2 -> 0 | M6: =SUBTOTAL(9,M7:M120)/2 -> 0 | N6: =SUBTOTAL(9,N7:N120)/2 -> 212431700 | W6: =SUBTOTAL(9,W7:W120) -> -5656000 | X6: =SUBTOTAL(9,X7:X120) -> 0 | Y6: =IF(SUM($I6:$J6)=SUM($W6:$X6),"OK","검토") -> OK | AB6: =SUBTOTAL(9,AB7:AB120) -> 0 | AC6: =SUBTOTAL(9,AC7:AC120) -> 0 | AD6: =IF(SUM($I6:$J6)=SUM($W6:$X6),"OK","검토") -> OK
A7: (기획재정위원회) | H7: =SUM(H8:H32) -> 212431700 | I7: =SUM(I8:I32) -> -10380000 | J7: =SUM(J8:J32) -> 4724000 | K7: =SUM(K8:K32) -> 206775700 | L7: =SUM(L8:L32) -> 0 | M7: =SUM(M8:M32) -> 0 | N7: =SUM(N8:N32) -> 212431700 | AF7: =IF(V7="","",IF(V7="도비","세입없음","직접입력"))
A8: =IFERROR(VLOOKUP($C8,구분표!$A$2:$C$313,2,FALSE),"") -> 기획재정위원회 | B8: 기획조정실 | C8: 미래전략담당관 | F8: 75 | G8: 경기연구원 출연(자체/직접) 경기연구원 지원 | H8: 12905000 | J8: 1000000 | K8: =H8+I8+J8 -> 13905000 | N8: =H8+L8+M8 -> 12905000 | O8: =IF(AND((K8=0),(N8>0)),"O",IF(AND((I8<0),(K8-N8<0)),"O","X")) -> X | P8: 연구과제 | W8: =IF($V8<>"도비",IF($T8="국도비","직접입력",SUM($I8:$J8)),) -> 1000000 | X8: =IF($V8="도비",SUM($I8:$J8),IF($T8="국도비","직접입력",SUM($I8:$J8)-$W8)) -> 0 | Y8: =IF(SUM($I8:$J8)=SUM($W8:$X8),"OK","검토") -> OK | AB8: =IF($V8<>"도비",IF($T8="국도비","직접입력",SUM($L8:$M8)),) -> 0 | AC8: =IF($V8="도비",SUM(L8:M8),IF($T8="국도비","직접입력",SUM(L8:M8)-AB8)) -> 0 | AD8: =IF(SUM(L8:M8)=SUM(AB8:AC8),"OK","검토") -> OK | AF8: =IF(V8="","",IF(V8="도비","세입없음","직접입력")) | AH8: =IF(AF8="","",COUNTIF($AF$7:$AF$120,AF8)) | AI8: =IF(V8="","",IF(AND(V8="도비",AF8="세입없음"),"OK",IF(AND(V8<>"도비",AF8<>""),"OK","@@"))) | AK8: {=IF(C8="","",INDEX(구분표!$I$2:$I$313, MATCH(1,(구분표!$E$2:$E$313='17년일출'!B8)*(구분표!$F$2:$F$313='17년일출'!C8)*(구분표!$G$2:$G$313='17년일출'!A8),0)))} -> 0118
A9: =IFERROR(VLOOKUP($C9,구분표!$A$2:$C$313,2,FALSE),"") -> 기획재정위원회 | B9: 기획조정실 | C9: 미래전략담당관 | F9: 76 | G9: 미래전략발굴(자체/직접) 경기정명천년 기념사업홍보 | H9: 1400000 | I9: -700000 | K9: =H9+I9+J9 -> 700000 | N9: =H9+L9+M9 -> 1400000 | O9: =IF(AND((K9=0),(N9>0)),"O",IF(AND((I9<0),(K9-N9<0)),"O","X")) -> O | W9: =IF($V9<>"도비",IF($T9="국도비","직접입력",SUM($I9:$J9)),) -> -700000 | X9: =IF($V9="도비",SUM($I9:$J9),IF($T9="국도비","직접입력",SUM($I9:$J9)-$W9)) -> 0 | Y9: =IF(SUM($I9:$J9)=SUM($W9:$X9),"OK","검토") -> OK | AB9: =IF($V9<>"도비",IF($T9="국도비","직접입력",SUM($L9:$M9)),) -> 0 | AC9: =IF($V9="도비",SUM(L9:M9),IF($T9="국도비","직접입력",SUM(L9:M9)-AB9)) -> 0 | AD9: =IF(SUM(L9:M9)=SUM(AB9:AC9),"OK","검토") -> OK | AF9: =IF(V9="","",IF(V9="도비","세입없음","직접입력")) | AH9: =IF(AF9="","",COUNTIF($AF$7:$AF$120,AF9)) | AI9: =IF(V9="","",IF(AND(V9="도비",AF9="세입없음"),"OK",IF(AND(V9<>"도비",AF9<>""),"OK","@@"))) | AK9: {=IF(C9="","",INDEX(구분표!$I$2:$I$313, MATCH(1,(구분표!$E$2:$E$313='17년일출'!B9)*(구분표!$F$2:$F$313='17년일출'!C9)*(구분표!$G$2:$G$313='17년일출'!A9),0)))} -> 0118
A10: =IFERROR(VLOOKUP($C10,구분표!$A$2:$C$313,2,FALSE),"") -> 기획재정위원회 | B10: 기획조정실 | C10: 예산담당관 | F10: 82 | G10: 지역상생발전기금출연금(자체/직접) 지역상생발전기금 출연금 | H10: 192452400 | I10: -9100000 | K10: =H10+I10+J10 -> 183352400 | N10: =H10+L10+M10 -> 192452400 | O10: =IF(AND((K10=0),(N10>0)),"O",IF(AND((I10<0),(K10-N10<0)),"O","X")) -> O | W10: =IF($V10<>"도비",IF($T10="국도비","직접입력",SUM($I10:$J10)),) -> -9100000 | X10: =IF($V10="도비",SUM($I10:$J10),IF($T10="국도비","직접입력",SUM($I10:$J10)-$W10)) -> 0 | Y10: =IF(SUM($I10:$J10)=SUM($W10:$X10),"OK","검토") -> OK | AB10: =IF($V10<>"도비",IF($T10="국도비","직접입력",SUM($L10:$M10)),) -> 0 | AC10: =IF($V10="도비",SUM(L10:M10),IF($T10="국도비","직접입력",SUM(L10:M10)-AB10)) -> 0 | AD10: =IF(SUM(L10:M10)=SUM(AB10:AC10),"OK","검토") -> OK | AF10: =IF(V10="","",IF(V10="도비","세입없음","직접입력")) | AH10: =IF(AF10="","",COUNTIF($AF$7:$AF$120,AF10)) | AI10: =IF(V10="","",IF(AND(V10="도비",AF10="세입없음"),"OK",IF(AND(V10<>"도비",AF10<>""),"OK","@@"))) | AK10: {=IF(C10="","",INDEX(구분표!$I$2:$I$313, MATCH(1,(구분표!$E$2:$E$313='17년일출'!B10)*(구분표!$F$2:$F$313='17년일출'!C10)*(구분표!$G$2:$G$313='17년일출'!A10),0)))} -> 0119
A11: =IFERROR(VLOOKUP($C11,구분표!$A$2:$C$313,2,FALSE),"") -> 기획재정위원회 | B11: 균형발전기획실 | C11: 기획예산담당관 | F11: 신규 | G11: 어린이박물관 시설개선 (고양5억, 동두천5억) | J11: 1000000 | K11: =H11+I11+J11 -> 1000000 | N11: =H11+L11+M11 -> 0 | O11: =IF(AND((K11=0),(N11>0)),"O",IF(AND((I11<0),(K11-N11<0)),"O","X")) -> X | P11: 북부 박물관 시설 | W11: =IF($V11<>"도비",IF($T11="국도비","직접입력",SUM($I11:$J11)),) -> 1000000 | X11: =IF($V11="도비",SUM($I11:$J11),IF($T11="국도비","직접입력",SUM($I11:$J11)-$W11)) -> 0 | Y11: =IF(SUM($I11:$J11)=SUM($W11:$X11),"OK","검토") -> OK | AB11: =IF($V11<>"도비",IF($T11="국도비","직접입력",SUM($L11:$M11)),) -> 0 | AC11: =IF($V11="도비",SUM(L11:M11),IF($T11="국도비","직접입력",SUM(L11:M11)-AB11)) -> 0 | AD11: =IF(SUM(L11:M11)=SUM(AB11:AC11),"OK","검토") -> OK | AF11: =IF(V11="","",IF(V11="도비","세입없음","직접입력")) | AH11: =IF(AF11="","",COUNTIF($AF$7:$AF$120,AF11)) | AI11: =IF(V11="","",IF(AND(V11="도비",AF11="세입없음"),"OK",IF(AND(V11<>"도비",AF11<>""),"OK","@@"))) | AK11: {=IF(C11="","",INDEX(구분표!$I$2:$I$313, MATCH(1,(구분표!$E$2:$E$313='17년일출'!B11)*(구분표!$F$2:$F$313='17년일출'!C11)*(구분표!$G$2:$G$313='17년일출'!A11),0)))} -> 0127
A12: =IFERROR(VLOOKUP($C12,구분표!$A$2:$C$313,2,FALSE),"") -> 기획재정위원회 | B12: =IFERROR(VLOOKUP($C12,구분표!$A$2:$C$313,3,FALSE),"") -> 균형발전기획실 | C12: 기획예산담당관 | F12: 113 | G12: 도정시책 기획홍보 | H12: 1026300 | J12: 100000 | K12: =H12+I12+J12 -> 1126300 | N12: =H12+L12+M12 -> 1026300 | O12: =IF(AND((K12=0),(N12>0)),"O",IF(AND((I12<0),(K12-N12<0)),"O","X")) -> X | W12: =IF($V12<>"도비",IF($T12="국도비","직접입력",SUM($I12:$J12)),) -> 100000 | X12: =IF($V12="도비",SUM($I12:$J12),IF($T12="국도비","직접입력",SUM($I12:$J12)-$W12)) -> 0 | Y12: =IF(SUM($I12:$J12)=SUM($W12:$X12),"OK","검토") -> OK | AB12: =IF($V12<>"도비",IF($T12="국도비","직접입력",SUM($L12:$M12)),) -> 0 | AC12: =IF($V12="도비",SUM(L12:M12),IF($T12="국도비","직접입력",SUM(L12:M12)-AB12)) -> 0 | AD12: =IF(SUM(L12:M12)=SUM(AB12:AC12),"OK","검토") -> OK | AF12: =IF(V12="","",IF(V12="도비","세입없음","직접입력")) | AH12: =IF(AF12="","",COUNTIF($AF$7:$AF$120,AF12)) | AI12: =IF(V12="","",IF(AND(V12="도비",AF12="세입없음"),"OK",IF(AND(V12<>"도비",AF12<>""),"OK","@@"))) | AK12: {=IF(C12="","",INDEX(구분표!$I$2:$I$313, MATCH(1,(구분표!$E$2:$E$313='17년일출'!B12)*(구분표!$F$2:$F$313='17년일출'!C12)*(구분표!$G$2:$G$313='17년일출'!A12),0)))} -> 0127
A13: =IFERROR(VLOOKUP($C13,구분표!$A$2:$C$313,2,FALSE),"") -> 기획재정위원회 | B13: =IFERROR(VLOOKUP($C13,구분표!$A$2:$C$313,3,FALSE),"") -> 균형발전기획실 | C13: DMZ정책담당관 | F13: 128 | G13: DMZ생태관광지원센터 운영관리 지원(자체/직접) DMZ생태관광지원센터 운영관리 지원 | H13: 70000 | I13: -70000 | K13: =H13+I13+J13 -> 0 | N13: =H13+L13+M13 -> 70000 | O13: =IF(AND((K13=0),(N13>0)),"O",IF(AND((I13<0),(K13-N13<0)),"O","X")) -> O | W13: =IF($V13<>"도비",IF($T13="국도비","직접입력",SUM($I13:$J13)),) -> -70000 | X13: =IF($V13="도비",SUM($I13:$J13),IF($T13="국도비","직접입력",SUM($I13:$J13)-$W13)) -> 0 | Y13: =IF(SUM($I13:$J13)=SUM($W13:$X13),"OK","검토") -> OK | AB13: =IF($V13<>"도비",IF($T13="국도비","직접입력",SUM($L13:$M13)),) -> 0 | AC13: =IF($V13="도비",SUM(L13:M13),IF($T13="국도비","직접입력",SUM(L13:M13)-AB13)) -> 0 | AD13: =IF(SUM(L13:M13)=SUM(AB13:AC13),"OK","검토") -> OK | AF13: =IF(V13="","",IF(V13="도비","세입없음","직접입력")) | AH13: =IF(AF13="","",COUNTIF($AF$7:$AF$120,AF13)) | AI13: =IF(V13="","",IF(AND(V13="도비",AF13="세입없음"),"OK",IF(AND(V13<>"도비",AF13<>""),"OK","@@"))) | AK13: {=IF(C13="","",INDEX(구분표!$I$2:$I$313, MATCH(1,(구분표!$E$2:$E$313='17년일출'!B13)*(구분표!$F$2:$F$313='17년일출'!C13)*(구분표!$G$2:$G$313='17년일출'!A13),0)))} -> 0130
A14: =IFERROR(VLOOKUP($C14,구분표!$A$2:$C$313,2,FALSE),"") -> 기획재정위원회 | B14: =IFERROR(VLOOKUP($C14,구분표!$A$2:$C$313,3,FALSE),"") -> 균형발전기획실 | C14: DMZ정책담당관 | F14: 125 | G14: DMZ 미술대회(민간경상보조) | H14: 60000 | I14: -60000 | K14: =H14+I14+J14 -> 0 | N14: =H14+L14+M14 -> 60000 | O14: =IF(AND((K14=0),(N14>0)),"O",IF(AND((I14<0),(K14-N14<0)),"O","X")) -> O | W14: =IF($V14<>"도비",IF($T14="국도비","직접입력",SUM($I14:$J14)),) -> -60000 | X14: =IF($V14="도비",SUM($I14:$J14),IF($T14="국도비","직접입력",SUM($I14:$J14)-$W14)) -> 0 | Y14: =IF(SUM($I14:$J14)=SUM($W14:$X14),"OK","검토") -> OK | AB14: =IF($V14<>"도비",IF($T14="국도비","직접입력",SUM($L14:$M14)),) -> 0 | AC14: =IF($V14="도비",SUM(L14:M14),IF($T14="국도비","직접입력",SUM(L14:M14)-AB14)) -> 0 | AD14: =IF(SUM(L14:M14)=SUM(AB14:AC14),"OK","검토") -> OK | AF14: =IF(V14="","",IF(V14="도비","세입없음","직접입력")) | AH14: =IF(AF14="","",COUNTIF($AF$7:$AF$120,AF14)) | AI14: =IF(V14="","",IF(AND(V14="도비",AF14="세입없음"),"OK",IF(AND(V14<>"도비",AF14<>""),"OK","@@"))) | AK14: {=IF(C14="","",INDEX(구분표!$I$2:$I$313, MATCH(1,(구분표!$E$2:$E$313='17년일출'!B14)*(구분표!$F$2:$F$313='17년일출'!C14)*(구분표!$G$2:$G$313='17년일출'!A14),0)))} -> 0130
A15: =IFERROR(VLOOKUP($C15,구분표!$A$2:$C$313,2,FALSE),"") -> 기획재정위원회 | B15: =IFERROR(VLOOKUP($C15,구분표!$A$2:$C$313,3,FALSE),"") -> 균형발전기획실 | C15: DMZ정책담당관 | F15: 125 | G15: DMZ 청소년 탐험대(공기관등에 대한 대행사업비) -> (부기변경) DMZ 청소년 탐험 미술대회 | H15: 80000 | J15: 60000 | K15: =H15+I15+J15 -> 140000 | N15: =H15+L15+M15 -> 80000 | O15: =IF(AND((K15=0),(N15>0)),"O",IF(AND((I15<0),(K15-N15<0)),"O","X")) -> X | W15: =IF($V15<>"도비",IF($T15="국도비","직접입력",SUM($I15:$J15)),) -> 60000 | X15: =IF($V15="도비",SUM($I15:$J15),IF($T15="국도비","직접입력",SUM($I15:$J15)-$W15)) -> 0 | Y15: =IF(SUM($I15:$J15)=SUM($W15:$X15),"OK","검토") -> OK | AB15: =IF($V15<>"도비",IF($T15="국도비","직접입력",SUM($L15:$M15)),) -> 0 | AC15: =IF($V15="도비",SUM(L15:M15),IF($T15="국도비","직접입력",SUM(L15:M15)-AB15)) -> 0 | AD15: =IF(SUM(L15:M15)=SUM(AB15:AC15),"OK","검토") -> OK | AF15: =IF(V15="","",IF(V15="도비","세입없음","직접입력")) | AH15: =IF(AF15="","",COUNTIF($AF$7:$AF$120,AF15)) | AI15: =IF(V15="","",IF(AND(V15="도비",AF15="세입없음"),"OK",IF(AND(V15<>"도비",AF15<>""),"OK","@@"))) | AK15: {=IF(C15="","",INDEX(구분표!$I$2:$I$313, MATCH(1,(구분표!$E$2:$E$313='17년일출'!B15)*(구분표!$F$2:$F$313='17년일출'!C15)*(구분표!$G$2:$G$313='17년일출'!A15),0)))} -> 0130
A16: =IFERROR(VLOOKUP($C16,구분표!$A$2:$C$313,2,FALSE),"") -> 기획재정위원회 | B16: =IFERROR(VLOOKUP($C16,구분표!$A$2:$C$313,3,FALSE),"") -> 균형발전기획실 | C16: DMZ정책담당관 | F16: 125 | G16: DMZ 평화가족 한마당(공기관등에 대한 대행사업비) ->(부기변경) DMZ 평화가족 한마당 및 홍보 | H16: 150000 | J16: 150000 | K16: =H16+I16+J16 -> 300000 | N16: =H16+L16+M16 -> 150000 | O16: =IF(AND((K16=0),(N16>0)),"O",IF(AND((I16<0),(K16-N16<0)),"O","X")) -> X | W16: =IF($V16<>"도비",IF($T16="국도비","직접입력",SUM($I16:$J16)),) -> 150000 | X16: =IF($V16="도비",SUM($I16:$J16),IF($T16="국도비","직접입력",SUM($I16:$J16)-$W16)) -> 0 | Y16: =IF(SUM($I16:$J16)=SUM($W16:$X16),"OK","검토") -> OK | AB16: =IF($V16<>"도비",IF($T16="국도비","직접입력",SUM($L16:$M16)),) -> 0 | AC16: =IF($V16="도비",SUM(L16:M16),IF($T16="국도비","직접입력",SUM(L16:M16)-AB16)) -> 0 | AD16: =IF(SUM(L16:M16)=SUM(AB16:AC16),"OK","검토") -> OK | AF16: =IF(V16="","",IF(V16="도비","세입없음","직접입력")) | AH16: =IF(AF16="","",COUNTIF($AF$7:$AF$120,AF16)) | AI16: =IF(V16="","",IF(AND(V16="도비",AF16="세입없음"),"OK",IF(AND(V16<>"도비",AF16<>""),"OK","@@"))) | AK16: {=IF(C16="","",INDEX(구분표!$I$2:$I$313, MATCH(1,(구분표!$E$2:$E$313='17년일출'!B16)*(구분표!$F$2:$F$313='17년일출'!C16)*(구분표!$G$2:$G$313='17년일출'!A16),0)))} -> 0130
A17: =IFERROR(VLOOKUP($C17,구분표!$A$2:$C$313,2,FALSE),"") -> 기획재정위원회 | B17: =IFERROR(VLOOKUP($C17,구분표!$A$2:$C$313,3,FALSE),"") -> 균형발전기획실 | C17: DMZ정책담당관 | F17: 126 | G17: 평화누리길 탐방프로젝트 | H17: 150000 | I17: -150000 | K17: =H17+I17+J17 -> 0 | N17: =H17+L17+M17 -> 150000 | O17: =IF(AND((K17=0),(N17>0)),"O",IF(AND((I17<0),(K17-N17<0)),"O","X")) -> O | W17: =IF($V17<>"도비",IF($T17="국도비","직접입력",SUM($I17:$J17)),) -> -150000 | X17: =IF($V17="도비",SUM($I17:$J17),IF($T17="국도비","직접입력",SUM($I17:$J17)-$W17)) -> 0 | Y17: =IF(SUM($I17:$J17)=SUM($W17:$X17),"OK","검토") -> OK | AB17: =IF($V17<>"도비",IF($T17="국도비","직접입력",SUM($L17:$M17)),) -> 0 | AC17: =IF($V17="도비",SUM(L17:M17),IF($T17="국도비","직접입력",SUM(L17:M17)-AB17)) -> 0 | AD17: =IF(SUM(L17:M17)=SUM(AB17:AC17),"OK","검토") -> OK | AF17: =IF(V17="","",IF(V17="도비","세입없음","직접입력")) | AH17: =IF(AF17="","",COUNTIF($AF$7:$AF$120,AF17)) | AI17: =IF(V17="","",IF(AND(V17="도비",AF17="세입없음"),"OK",IF(AND(V17<>"도비",AF17<>""),"OK","@@"))) | AK17: {=IF(C17="","",INDEX(구분표!$I$2:$I$313, MATCH(1,(구분표!$E$2:$E$313='17년일출'!B17)*(구분표!$F$2:$F$313='17년일출'!C17)*(구분표!$G$2:$G$313='17년일출'!A17),0)))} -> 0130
A18: =IFERROR(VLOOKUP($C18,구분표!$A$2:$C$313,2,FALSE),"") -> 기획재정위원회 | B18: =IFERROR(VLOOKUP($C18,구분표!$A$2:$C$313,3,FALSE),"") -> 균형발전기획실 | C18: 군관협력담당관 | F18: 131 | G18: 한미 협력사업(자체/직접) 주한미군 한미협력사업 | H18: 120000 | J18: 50000 | K18: =H18+I18+J18 -> 170000 | N18: =H18+L18+M18 -> 120000 | O18: =IF(AND((K18=0),(N18>0)),"O",IF(AND((I18<0),(K18-N18<0)),"O","X")) -> X | W18: =IF($V18<>"도비",IF($T18="국도비","직접입력",SUM($I18:$J18)),) -> 50000 | X18: =IF($V18="도비",SUM($I18:$J18),IF($T18="국도비","직접입력",SUM($I18:$J18)-$W18)) -> 0 | Y18: =IF(SUM($I18:$J18)=SUM($W18:$X18),"OK","검토") -> OK | AB18: =IF($V18<>"도비",IF($T18="국도비","직접입력",SUM($L18:$M18)),) -> 0 | AC18: =IF($V18="도비",SUM(L18:M18),IF($T18="국도비","직접입력",SUM(L18:M18)-AB18)) -> 0 | AD18: =IF(SUM(L18:M18)=SUM(AB18:AC18),"OK","검토") -> OK | AF18: =IF(V18="","",IF(V18="도비","세입없음","직접입력")) | AH18: =IF(AF18="","",COUNTIF($AF$7:$AF$120,AF18)) | AI18: =IF(V18="","",IF(AND(V18="도비",AF18="세입없음"),"OK",IF(AND(V18<>"도비",AF18<>""),"OK","@@"))) | AK18: {=IF(C18="","",INDEX(구분표!$I$2:$I$313, MATCH(1,(구분표!$E$2:$E$313='17년일출'!B18)*(구분표!$F$2:$F$313='17년일출'!C18)*(구분표!$G$2:$G$313='17년일출'!A18),0)))} -> 0131
A19: 기획재정위원회 | B19: 균형발전기획실 | C19: 통일기반담당관 | F19: 120 | G19: 남북평화의 종 건립지원(자체/지원) 남북평화의 종 건립지원 | H19: 300000 | I19: -300000 | K19: =H19+I19+J19 -> 0 | N19: =H19+L19+M19 -> 300000 | O19: =IF(AND((K19=0),(N19>0)),"O",IF(AND((I19<0),(K19-N19<0)),"O","X")) -> O | W19: =IF($V19<>"도비",IF($T19="국도비","직접입력",SUM($I19:$J19)),) -> -300000 | X19: =IF($V19="도비",SUM($I19:$J19),IF($T19="국도비","직접입력",SUM($I19:$J19)-$W19)) -> 0 | Y19: =IF(SUM($I19:$J19)=SUM($W19:$X19),"OK","검토") -> OK | AB19: =IF($V19<>"도비",IF($T19="국도비","직접입력",SUM($L19:$M19)),) -> 0 | AC19: =IF($V19="도비",SUM(L19:M19),IF($T19="국도비","직접입력",SUM(L19:M19)-AB19)) -> 0 | AD19: =IF(SUM(L19:M19)=SUM(AB19:AC19),"OK","검토") -> OK | AF19: =IF(V19="","",IF(V19="도비","세입없음","직접입력")) | AH19: =IF(AF19="","",COUNTIF($AF$7:$AF$120,AF19)) | AI19: =IF(V19="","",IF(AND(V19="도비",AF19="세입없음"),"OK",IF(AND(V19<>"도비",AF19<>""),"OK","@@"))) | AK19: {=IF(C19="","",INDEX(구분표!$I$2:$I$313, MATCH(1,(구분표!$E$2:$E$313='17년일출'!B19)*(구분표!$F$2:$F$313='17년일출'!C19)*(구분표!$G$2:$G$313='17년일출'!A19),0)))} -> #N/A
A20: 기획재정위원회 | B20: 균형발전기획실 | C20: 통일기반담당관 | F20: 신규 | G20: 여성평화 학술토론 및 걷기 행사 | J20: 50000 | K20: =H20+I20+J20 -> 50000 | N20: =H20+L20+M20 -> 0 | O20: =IF(AND((K20=0),(N20>0)),"O",IF(AND((I20<0),(K20-N20<0)),"O","X")) -> X | W20: =IF($V20<>"도비",IF($T20="국도비","직접입력",SUM($I20:$J20)),) -> 50000 | X20: =IF($V20="도비",SUM($I20:$J20),IF($T20="국도비","직접입력",SUM($I20:$J20)-$W20)) -> 0 | Y20: =IF(SUM($I20:$J20)=SUM($W20:$X20),"OK","검토") -> OK | AB20: =IF($V20<>"도비",IF($T20="국도비","직접입력",SUM($L20:$M20)),) -> 0 | AC20: =IF($V20="도비",SUM(L20:M20),IF($T20="국도비","직접입력",SUM(L20:M20)-AB20)) -> 0 | AD20: =IF(SUM(L20:M20)=SUM(AB20:AC20),"OK","검토") -> OK | AF20: =IF(V20="","",IF(V20="도비","세입없음","직접입력")) | AH20: =IF(AF20="","",COUNTIF($AF$7:$AF$120,AF20)) | AI20: =IF(V20="","",IF(AND(V20="도비",AF20="세입없음"),"OK",IF(AND(V20<>"도비",AF20<>""),"OK","@@"))) | AK20: {=IF(C20="","",INDEX(구분표!$I$2:$I$313, MATCH(1,(구분표!$E$2:$E$313='17년일출'!B20)*(구분표!$F$2:$F$313='17년일출'!C20)*(구분표!$G$2:$G$313='17년일출'!A20),0)))} -> #N/A
A21: 기획재정위원회 | B21: 균형발전기획실 | C21: 통일기반담당관 | F21: 121 | G21: 2017년 굿모닝 경기 통일 한마당 | H21: 100000 | J21: 50000 | K21: =H21+I21+J21 -> 150000 | N21: =H21+L21+M21 -> 100000 | O21: =IF(AND((K21=0),(N21>0)),"O",IF(AND((I21<0),(K21-N21<0)),"O","X")) -> X | W21: =IF($V21<>"도비",IF($T21="국도비","직접입력",SUM($I21:$J21)),) -> 50000 | X21: =IF($V21="도비",SUM($I21:$J21),IF($T21="국도비","직접입력",SUM($I21:$J21)-$W21)) -> 0 | Y21: =IF(SUM($I21:$J21)=SUM($W21:$X21),"OK","검토") -> OK | AB21: =IF($V21<>"도비",IF($T21="국도비","직접입력",SUM($L21:$M21)),) -> 0 | AC21: =IF($V21="도비",SUM(L21:M21),IF($T21="국도비","직접입력",SUM(L21:M21)-AB21)) -> 0 | AD21: =IF(SUM(L21:M21)=SUM(AB21:AC21),"OK","검토") -> OK | AF21: =IF(V21="","",IF(V21="도비","세입없음","직접입력")) | AH21: =IF(AF21="","",COUNTIF($AF$7:$AF$120,AF21)) | AI21: =IF(V21="","",IF(AND(V21="도비",AF21="세입없음"),"OK",IF(AND(V21<>"도비",AF21<>""),"OK","@@"))) | AK21: {=IF(C21="","",INDEX(구분표!$I$2:$I$313, MATCH(1,(구분표!$E$2:$E$313='17년일출'!B21)*(구분표!$F$2:$F$313='17년일출'!C21)*(구분표!$G$2:$G$313='17년일출'!A21),0)))} -> #N/A
A22: =IFERROR(VLOOKUP($C22,구분표!$A$2:$C$313,2,FALSE),"") -> 기획재정위원회 | B22: =IFERROR(VLOOKUP($C22,구분표!$A$2:$C$313,3,FALSE),"") -> 균형발전기획실 | C22: 군관협력담당관 | F22: 131 | G22: 한미친선교류협력(자체/지원) 한미친선교류협력 | H22: 840000 | J22: 200000 | K22: =H22+I22+J22 -> 1040000 | N22: =H22+L22+M22 -> 840000 | O22: =IF(AND((K22=0),(N22>0)),"O",IF(AND((I22<0),(K22-N22<0)),"O","X")) -> X | W22: =IF($V22<>"도비",IF($T22="국도비","직접입력",SUM($I22:$J22)),) -> 200000 | X22: =IF($V22="도비",SUM($I22:$J22),IF($T22="국도비","직접입력",SUM($I22:$J22)-$W22)) -> 0 | Y22: =IF(SUM($I22:$J22)=SUM($W22:$X22),"OK","검토") -> OK | AB22: =IF($V22<>"도비",IF($T22="국도비","직접입력",SUM($L22:$M22)),) -> 0 | AC22: =IF($V22="도비",SUM(L22:M22),IF($T22="국도비","직접입력",SUM(L22:M22)-AB22)) -> 0 | AD22: =IF(SUM(L22:M22)=SUM(AB22:AC22),"OK","검토") -> OK | AF22: =IF(V22="","",IF(V22="도비","세입없음","직접입력")) | AH22: =IF(AF22="","",COUNTIF($AF$7:$AF$120,AF22)) | AI22: =IF(V22="","",IF(AND(V22="도비",AF22="세입없음"),"OK",IF(AND(V22<>"도비",AF22<>""),"OK","@@"))) | AK22: {=IF(C22="","",INDEX(구분표!$I$2:$I$313, MATCH(1,(구분표!$E$2:$E$313='17년일출'!B22)*(구분표!$F$2:$F$313='17년일출'!C22)*(구분표!$G$2:$G$313='17년일출'!A22),0)))} -> 0131
A23: =IFERROR(VLOOKUP($C23,구분표!$A$2:$C$313,2,FALSE),"") -> 기획재정위원회 | B23: 감사관 | C23: 감사총괄담당관 | F23: 신규 | G23: 자체감사 운영 및 중앙부처 감사지원(자체직접) 청렴도향상 유공공무원 국외연수 | H23: 0 | J23: 30000 | K23: =H23+I23+J23 -> 30000 | N23: =H23+L23+M23 -> 0 | O23: =IF(AND((K23=0),(N23>0)),"O",IF(AND((I23<0),(K23-N23<0)),"O","X")) -> X | W23: =IF($V23<>"도비",IF($T23="국도비","직접입력",SUM($I23:$J23)),) -> 30000 | X23: =IF($V23="도비",SUM($I23:$J23),IF($T23="국도비","직접입력",SUM($I23:$J23)-$W23)) -> 0 | Y23: =IF(SUM($I23:$J23)=SUM($W23:$X23),"OK","검토") -> OK | AB23: =IF($V23<>"도비",IF($T23="국도비","직접입력",SUM($L23:$M23)),) -> 0 | AC23: =IF($V23="도비",SUM(L23:M23),IF($T23="국도비","직접입력",SUM(L23:M23)-AB23)) -> 0 | AD23: =IF(SUM(L23:M23)=SUM(AB23:AC23),"OK","검토") -> OK | AF23: =IF(V23="","",IF(V23="도비","세입없음","직접입력")) | AH23: =IF(AF23="","",COUNTIF($AF$7:$AF$120,AF23)) | AI23: =IF(V23="","",IF(AND(V23="도비",AF23="세입없음"),"OK",IF(AND(V23<>"도비",AF23<>""),"OK","@@"))) | AK23: {=IF(C23="","",INDEX(구분표!$I$2:$I$313, MATCH(1,(구분표!$E$2:$E$313='17년일출'!B23)*(구분표!$F$2:$F$313='17년일출'!C23)*(구분표!$G$2:$G$313='17년일출'!A23),0)))} -> 0113
A24: =IFERROR(VLOOKUP($C24,구분표!$A$2:$C$313,2,FALSE),"") -> 기획재정위원회 | B24: =IFERROR(VLOOKUP($C24,구분표!$A$2:$C$313,3,FALSE),"") -> 따복공동체지원단 | C24: 따복공동체지원단 | F24: 137 | G24: 따복공동체 청년 등 특화사업 발굴(자체/직접) - 청년 따복공동체 프로젝트 추진 | H24: 150000 | J24: 150000 | K24: =H24+I24+J24 -> 300000 | N24: =H24+L24+M24 -> 150000 | O24: =IF(AND((K24=0),(N24>0)),"O",IF(AND((I24<0),(K24-N24<0)),"O","X")) -> X | W24: =IF($V24<>"도비",IF($T24="국도비","직접입력",SUM($I24:$J24)),) -> 150000 | X24: =IF($V24="도비",SUM($I24:$J24),IF($T24="국도비","직접입력",SUM($I24:$J24)-$W24)) -> 0 | Y24: =IF(SUM($I24:$J24)=SUM($W24:$X24),"OK","검토") -> OK | AB24: =IF($V24<>"도비",IF($T24="국도비","직접입력",SUM($L24:$M24)),) -> 0 | AC24: =IF($V24="도비",SUM(L24:M24),IF($T24="국도비","직접입력",SUM(L24:M24)-AB24)) -> 0 | AD24: =IF(SUM(L24:M24)=SUM(AB24:AC24),"OK","검토") -> OK | AF24: =IF(V24="","",IF(V24="도비","세입없음","직접입력")) | AH24: =IF(AF24="","",COUNTIF($AF$7:$AF$120,AF24)) | AI24: =IF(V24="","",IF(AND(V24="도비",AF24="세입없음"),"OK",IF(AND(V24<>"도비",AF24<>""),"OK","@@"))) | AK24: {=IF(C24="","",INDEX(구분표!$I$2:$I$313, MATCH(1,(구분표!$E$2:$E$313='17년일출'!B24)*(구분표!$F$2:$F$313='17년일출'!C24)*(구분표!$G$2:$G$313='17년일출'!A24),0)))} -> 0132
A25: =IFERROR(VLOOKUP($C25,구분표!$A$2:$C$313,2,FALSE),"") -> 기획재정위원회 | B25: =IFERROR(VLOOKUP($C25,구분표!$A$2:$C$313,3,FALSE),"") -> 따복공동체지원단 | C25: 따복공동체지원단 | F25: 138 | G25: 따복공동체 지원센터 운영(자체/직접) - 지원센터사업비 | H25: 2248000 | J25: 879000 | K25: =H25+I25+J25 -> 3127000 | N25: =H25+L25+M25 -> 2248000 | O25: =IF(AND((K25=0),(N25>0)),"O",IF(AND((I25<0),(K25-N25<0)),"O","X")) -> X | W25: =IF($V25<>"도비",IF($T25="국도비","직접입력",SUM($I25:$J25)),) -> 879000 | X25: =IF($V25="도비",SUM($I25:$J25),IF($T25="국도비","직접입력",SUM($I25:$J25)-$W25)) -> 0 | Y25: =IF(SUM($I25:$J25)=SUM($W25:$X25),"OK","검토") -> OK | AB25: =IF($V25<>"도비",IF($T25="국도비","직접입력",SUM($L25:$M25)),) -> 0 | AC25: =IF($V25="도비",SUM(L25:M25),IF($T25="국도비","직접입력",SUM(L25:M25)-AB25)) -> 0 | AD25: =IF(SUM(L25:M25)=SUM(AB25:AC25),"OK","검토") -> OK | AF25: =IF(V25="","",IF(V25="도비","세입없음","직접입력")) | AH25: =IF(AF25="","",COUNTIF($AF$7:$AF$120,AF25)) | AI25: =IF(V25="","",IF(AND(V25="도비",AF25="세입없음"),"OK",IF(AND(V25<>"도비",AF25<>""),"OK","@@"))) | AK25: {=IF(C25="","",INDEX(구분표!$I$2:$I$313, MATCH(1,(구분표!$E$2:$E$313='17년일출'!B25)*(구분표!$F$2:$F$313='17년일출'!C25)*(구분표!$G$2:$G$313='17년일출'!A25),0)))} -> 0132
A26: =IFERROR(VLOOKUP($C26,구분표!$A$2:$C$313,2,FALSE),"") -> 기획재정위원회 | B26: =IFERROR(VLOOKUP($C26,구분표!$A$2:$C$313,3,FALSE),"") -> 따복공동체지원단 | C26: 따복공동체지원단 | F26: 138 | G26: 따복공동체 주민제안 공모사업(자체/지원) - 따복공동체 공간조성 지원사업 | H26: 380000 | J26: 220000 | K26: =H26+I26+J26 -> 600000 | N26: =H26+L26+M26 -> 380000 | O26: =IF(AND((K26=0),(N26>0)),"O",IF(AND((I26<0),(K26-N26<0)),"O","X")) -> X | W26: =IF($V26<>"도비",IF($T26="국도비","직접입력",SUM($I26:$J26)),) -> 220000 | X26: =IF($V26="도비",SUM($I26:$J26),IF($T26="국도비","직접입력",SUM($I26:$J26)-$W26)) -> 0 | Y26: =IF(SUM($I26:$J26)=SUM($W26:$X26),"OK","검토") -> OK | AB26: =IF($V26<>"도비",IF($T26="국도비","직접입력",SUM($L26:$M26)),) -> 0 | AC26: =IF($V26="도비",SUM(L26:M26),IF($T26="국도비","직접입력",SUM(L26:M26)-AB26)) -> 0 | AD26: =IF(SUM(L26:M26)=SUM(AB26:AC26),"OK","검토") -> OK | AF26: =IF(V26="","",IF(V26="도비","세입없음","직접입력")) | AH26: =IF(AF26="","",COUNTIF($AF$7:$AF$120,AF26)) | AI26: =IF(V26="","",IF(AND(V26="도비",AF26="세입없음"),"OK",IF(AND(V26<>"도비",AF26<>""),"OK","@@"))) | AK26: {=IF(C26="","",INDEX(구분표!$I$2:$I$313, MATCH(1,(구분표!$E$2:$E$313='17년일출'!B26)*(구분표!$F$2:$F$313='17년일출'!C26)*(구분표!$G$2:$G$313='17년일출'!A26),0)))} -> 0132
A27: =IFERROR(VLOOKUP($C27,구분표!$A$2:$C$313,2,FALSE),"") -> 기획재정위원회 | B27: =IFERROR(VLOOKUP($C27,구분표!$A$2:$C$313,3,FALSE),"") -> 따복공동체지원단 | C27: 따복공동체지원단 | F27: 신규 | G27: 따복공동체 사랑방 조성지원(자체/지원) - 공동체 공간 조성 | H27: 0 | J27: 600000 | K27: =H27+I27+J27 -> 600000 | N27: =H27+L27+M27 -> 0 | O27: =IF(AND((K27=0),(N27>0)),"O",IF(AND((I27<0),(K27-N27<0)),"O","X")) -> X | W27: =IF($V27<>"도비",IF($T27="국도비","직접입력",SUM($I27:$J27)),) -> 600000 | X27: =IF($V27="도비",SUM($I27:$J27),IF($T27="국도비","직접입력",SUM($I27:$J27)-$W27)) -> 0 | Y27: =IF(SUM($I27:$J27)=SUM($W27:$X27),"OK","검토") -> OK | AB27: =IF($V27<>"도비",IF($T27="국도비","직접입력",SUM($L27:$M27)),) -> 0 | AC27: =IF($V27="도비",SUM(L27:M27),IF($T27="국도비","직접입력",SUM(L27:M27)-AB27)) -> 0 | AD27: =IF(SUM(L27:M27)=SUM(AB27:AC27),"OK","검토") -> OK | AF27: =IF(V27="","",IF(V27="도비","세입없음","직접입력")) | AH27: =IF(AF27="","",COUNTIF($AF$7:$AF$120,AF27)) | AI27: =IF(V27="","",IF(AND(V27="도비",AF27="세입없음"),"OK",IF(AND(V27<>"도비",AF27<>""),"OK","@@"))) | AK27: {=IF(C27="","",INDEX(구분표!$I$2:$I$313, MATCH(1,(구분표!$E$2:$E$313='17년일출'!B27)*(구분표!$F$2:$F$313='17년일출'!C27)*(구분표!$G$2:$G$313='17년일출'!A27),0)))} -> 0132
A28: =IFERROR(VLOOKUP($C28,구분표!$A$2:$C$313,2,FALSE),"") -> 기획재정위원회 | B28: =IFERROR(VLOOKUP($C28,구분표!$A$2:$C$313,3,FALSE),"") -> 따복공동체지원단 | C28: 따복공동체지원단 | F28: 신규 | G28: 따복 토크 콘서트 | J28: 185000 | K28: =H28+I28+J28 -> 185000 | N28: =H28+L28+M28 -> 0 | O28: =IF(AND((K28=0),(N28>0)),"O",IF(AND((I28<0),(K28-N28<0)),"O","X")) -> X | W28: =IF($V28<>"도비",IF($T28="국도비","직접입력",SUM($I28:$J28)),) -> 185000 | X28: =IF($V28="도비",SUM($I28:$J28),IF($T28="국도비","직접입력",SUM($I28:$J28)-$W28)) -> 0 | Y28: =IF(SUM($I28:$J28)=SUM($W28:$X28),"OK","검토") -> OK | AB28: =IF($V28<>"도비",IF($T28="국도비","직접입력",SUM($L28:$M28)),) -> 0 | AC28: =IF($V28="도비",SUM(L28:M28),IF($T28="국도비","직접입력",SUM(L28:M28)-AB28)) -> 0 | AD28: =IF(SUM(L28:M28)=SUM(AB28:AC28),"OK","검토") -> OK | AF28: =IF(V28="","",IF(V28="도비","세입없음","직접입력")) | AH28: =IF(AF28="","",COUNTIF($AF$7:$AF$120,AF28)) | AI28: =IF(V28="","",IF(AND(V28="도비",AF28="세입없음"),"OK",IF(AND(V28<>"도비",AF28<>""),"OK","@@"))) | AK28: {=IF(C28="","",INDEX(구분표!$I$2:$I$313, MATCH(1,(구분표!$E$2:$E$313='17년일출'!B28)*(구분표!$F$2:$F$313='17년일출'!C28)*(구분표!$G$2:$G$313='17년일출'!A28),0)))} -> 0132
A29: =IFERROR(VLOOKUP($C29,구분표!$A$2:$C$313,2,FALSE),"") | B29: =IFERROR(VLOOKUP($C29,구분표!$A$2:$C$313,3,FALSE),"") | K29: =H29+I29+J29 -> 0 | N29: =H29+L29+M29 -> 0 | O29: =IF(AND((K29=0),(N29>0)),"O",IF(AND((I29<0),(K29-N29<0)),"O","X")) -> X | W29: =IF($V29<>"도비",IF($T29="국도비","직접입력",SUM($I29:$J29)),) -> 0 | X29: =IF($V29="도비",SUM($I29:$J29),IF($T29="국도비","직접입력",SUM($I29:$J29)-$W29)) -> 0 | Y29: =IF(SUM($I29:$J29)=SUM($W29:$X29),"OK","검토") -> OK | AB29: =IF($V29<>"도비",IF($T29="국도비","직접입력",SUM($L29:$M29)),) -> 0 | AC29: =IF($V29="도비",SUM(L29:M29),IF($T29="국도비","직접입력",SUM(L29:M29)-AB29)) -> 0 | AD29: =IF(SUM(L29:M29)=SUM(AB29:AC29),"OK","검토") -> OK | AF29: =IF(V29="","",IF(V29="도비","세입없음","직접입력")) | AH29: =IF(AF29="","",COUNTIF($AF$7:$AF$120,AF29)) | AI29: =IF(V29="","",IF(AND(V29="도비",AF29="세입없음"),"OK",IF(AND(V29<>"도비",AF29<>""),"OK","@@"))) | AK29: {=IF(C29="","",INDEX(구분표!$I$2:$I$313, MATCH(1,(구분표!$E$2:$E$313='17년일출'!B29)*(구분표!$F$2:$F$313='17년일출'!C29)*(구분표!$G$2:$G$313='17년일출'!A29),0)))}
A30: =IFERROR(VLOOKUP($C30,구분표!$A$2:$C$313,2,FALSE),"") | B30: =IFERROR(VLOOKUP($C30,구분표!$A$2:$C$313,3,FALSE),"") | K30: =H30+I30+J30 -> 0 | N30: =H30+L30+M30 -> 0 | O30: =IF(AND((K30=0),(N30>0)),"O",IF(AND((I30<0),(K30-N30<0)),"O","X")) -> X | W30: =IF($V30<>"도비",IF($T30="국도비","직접입력",SUM($I30:$J30)),) -> 0 | X30: =IF($V30="도비",SUM($I30:$J30),IF($T30="국도비","직접입력",SUM($I30:$J30)-$W30)) -> 0 | Y30: =IF(SUM($I30:$J30)=SUM($W30:$X30),"OK","검토") -> OK | AB30: =IF($V30<>"도비",IF($T30="국도비","직접입력",SUM($L30:$M30)),) -> 0 | AC30: =IF($V30="도비",SUM(L30:M30),IF($T30="국도비","직접입력",SUM(L30:M30)-AB30)) -> 0 | AD30: =IF(SUM(L30:M30)=SUM(AB30:AC30),"OK","검토") -> OK | AF30: =IF(V30="","",IF(V30="도비","세입없음","직접입력")) | AH30: =IF(AF30="","",COUNTIF($AF$7:$AF$120,AF30)) | AI30: =IF(V30="","",IF(AND(V30="도비",AF30="세입없음"),"OK",IF(AND(V30<>"도비",AF30<>""),"OK","@@"))) | AK30: {=IF(C30="","",INDEX(구분표!$I$2:$I$313, MATCH(1,(구분표!$E$2:$E$313='17년일출'!B30)*(구분표!$F$2:$F$313='17년일출'!C30)*(구분표!$G$2:$G$313='17년일출'!A30),0)))}
A31: =IFERROR(VLOOKUP($C31,구분표!$A$2:$C$313,2,FALSE),"") | B31: =IFERROR(VLOOKUP($C31,구분표!$A$2:$C$313,3,FALSE),"") | K31: =H31+I31+J31 -> 0 | N31: =H31+L31+M31 -> 0 | O31: =IF(AND((K31=0),(N31>0)),"O",IF(AND((I31<0),(K31-N31<0)),"O","X")) -> X | W31: =IF($V31<>"도비",IF($T31="국도비","직접입력",SUM($I31:$J31)),) -> 0 | X31: =IF($V31="도비",SUM($I31:$J31),IF($T31="국도비","직접입력",SUM($I31:$J31)-$W31)) -> 0 | Y31: =IF(SUM($I31:$J31)=SUM($W31:$X31),"OK","검토") -> OK | AB31: =IF($V31<>"도비",IF($T31="국도비","직접입력",SUM($L31:$M31)),) -> 0 | AC31: =IF($V31="도비",SUM(L31:M31),IF($T31="국도비","직접입력",SUM(L31:M31)-AB31)) -> 0 | AD31: =IF(SUM(L31:M31)=SUM(AB31:AC31),"OK","검토") -> OK | AF31: =IF(V31="","",IF(V31="도비","세입없음","직접입력")) | AH31: =IF(AF31="","",COUNTIF($AF$7:$AF$120,AF31)) | AI31: =IF(V31="","",IF(AND(V31="도비",AF31="세입없음"),"OK",IF(AND(V31<>"도비",AF31<>""),"OK","@@"))) | AK31: {=IF(C31="","",INDEX(구분표!$I$2:$I$313, MATCH(1,(구분표!$E$2:$E$313='17년일출'!B31)*(구분표!$F$2:$F$313='17년일출'!C31)*(구분표!$G$2:$G$313='17년일출'!A31),0)))}
A32: =IFERROR(VLOOKUP($C32,구분표!$A$2:$C$313,2,FALSE),"") | B32: =IFERROR(VLOOKUP($C32,구분표!$A$2:$C$313,3,FALSE),"") | K32: =H32+I32+J32 -> 0 | N32: =H32+L32+M32 -> 0 | O32: =IF(AND((K32=0),(N32>0)),"O",IF(AND((I32<0),(K32-N32<0)),"O","X")) -> X | W32: =IF($V32<>"도비",IF($T32="국도비","직접입력",SUM($I32:$J32)),) -> 0 | X32: =IF($V32="도비",SUM($I32:$J32),IF($T32="국도비","직접입력",SUM($I32:$J32)-$W32)) -> 0 | Y32: =IF(SUM($I32:$J32)=SUM($W32:$X32),"OK","검토") -> OK | AB32: =IF($V32<>"도비",IF($T32="국도비","직접입력",SUM($L32:$M32)),) -> 0 | AC32: =IF($V32="도비",SUM(L32:M32),IF($T32="국도비","직접입력",SUM(L32:M32)-AB32)) -> 0 | AD32: =IF(SUM(L32:M32)=SUM(AB32:AC32),"OK","검토") -> OK | AF32: =IF(V32="","",IF(V32="도비","세입없음","직접입력")) | AH32: =IF(AF32="","",COUNTIF($AF$7:$AF$120,AF32)) | AI32: =IF(V32="","",IF(AND(V32="도비",AF32="세입없음"),"OK",IF(AND(V32<>"도비",AF32<>""),"OK","@@"))) | AK32: {=IF(C32="","",INDEX(구분표!$I$2:$I$313, MATCH(1,(구분표!$E$2:$E$313='17년일출'!B32)*(구분표!$F$2:$F$313='17년일출'!C32)*(구분표!$G$2:$G$313='17년일출'!A32),0)))}
A33: (경제과학기술위원회) | H33: =SUM(H34:H43) -> 0 | I33: =SUM(I34:I43) -> 0 | J33: =SUM(J34:J43) -> 0 | K33: =SUM(K34:K43) -> 0 | L33: =SUM(L34:L43) -> 0 | M33: =SUM(M34:M43) -> 0 | N33: =SUM(N34:N43) -> 0 | AF33: =IF(V33="","",IF(V33="도비","세입없음","직접입력"))
A34: =IFERROR(VLOOKUP($C34,구분표!$A$2:$C$313,2,FALSE),"") | B34: =IFERROR(VLOOKUP($C34,구분표!$A$2:$C$313,3,FALSE),"") | K34: =H34+I34+J34 -> 0 | N34: =H34+L34+M34 -> 0 | O34: =IF(AND((K34=0),(N34>0)),"O",IF(AND((I34<0),(K34-N34<0)),"O","X")) -> X | W34: =IF($V34<>"도비",IF($T34="국도비","직접입력",SUM($I34:$J34)),) -> 0 | X34: =IF($V34="도비",SUM($I34:$J34),IF($T34="국도비","직접입력",SUM($I34:$J34)-$W34)) -> 0 | Y34: =IF(SUM($I34:$J34)=SUM($W34:$X34),"OK","검토") -> OK | AB34: =IF($V34<>"도비",IF($T34="국도비","직접입력",SUM($L34:$M34)),) -> 0 | AC34: =IF($V34="도비",SUM(L34:M34),IF($T34="국도비","직접입력",SUM(L34:M34)-AB34)) -> 0 | AD34: =IF(SUM(L34:M34)=SUM(AB34:AC34),"OK","검토") -> OK | AF34: =IF(V34="","",IF(V34="도비","세입없음","직접입력")) | AH34: =IF(AF34="","",COUNTIF($AF$7:$AF$120,AF34)) | AI34: =IF(V34="","",IF(AND(V34="도비",AF34="세입없음"),"OK",IF(AND(V34<>"도비",AF34<>""),"OK","@@"))) | AK34: {=IF(C34="","",INDEX(구분표!$I$2:$I$313, MATCH(1,(구분표!$E$2:$E$313='17년일출'!B34)*(구분표!$F$2:$F$313='17년일출'!C34)*(구분표!$G$2:$G$313='17년일출'!A34),0)))}
A35: =IFERROR(VLOOKUP($C35,구분표!$A$2:$C$313,2,FALSE),"") | B35: =IFERROR(VLOOKUP($C35,구분표!$A$2:$C$313,3,FALSE),"") | K35: =H35+I35+J35 -> 0 | N35: =H35+L35+M35 -> 0 | O35: =IF(AND((K35=0),(N35>0)),"O",IF(AND((I35<0),(K35-N35<0)),"O","X")) -> X | W35: =IF($V35<>"도비",IF($T35="국도비","직접입력",SUM($I35:$J35)),) -> 0 | X35: =IF($V35="도비",SUM($I35:$J35),IF($T35="국도비","직접입력",SUM($I35:$J35)-$W35)) -> 0 | Y35: =IF(SUM($I35:$J35)=SUM($W35:$X35),"OK","검토") -> OK | AB35: =IF($V35<>"도비",IF($T35="국도비","직접입력",SUM($L35:$M35)),) -> 0 | AC35: =IF($V35="도비",SUM(L35:M35),IF($T35="국도비","직접입력",SUM(L35:M35)-AB35)) -> 0 | AD35: =IF(SUM(L35:M35)=SUM(AB35:AC35),"OK","검토") -> OK | AF35: =IF(V35="","",IF(V35="도비","세입없음","직접입력")) | AH35: =IF(AF35="","",COUNTIF($AF$7:$AF$120,AF35)) | AI35: =IF(V35="","",IF(AND(V35="도비",AF35="세입없음"),"OK",IF(AND(V35<>"도비",AF35<>""),"OK","@@"))) | AK35: {=IF(C35="","",INDEX(구분표!$I$2:$I$313, MATCH(1,(구분표!$E$2:$E$313='17년일출'!B35)*(구분표!$F$2:$F$313='17년일출'!C35)*(구분표!$G$2:$G$313='17년일출'!A35),0)))}
A36: =IFERROR(VLOOKUP($C36,구분표!$A$2:$C$313,2,FALSE),"") | B36: =IFERROR(VLOOKUP($C36,구분표!$A$2:$C$313,3,FALSE),"") | K36: =H36+I36+J36 -> 0 | N36: =H36+L36+M36 -> 0 | O36: =IF(AND((K36=0),(N36>0)),"O",IF(AND((I36<0),(K36-N36<0)),"O","X")) -> X | W36: =IF($V36<>"도비",IF($T36="국도비","직접입력",SUM($I36:$J36)),) -> 0 | X36: =IF($V36="도비",SUM($I36:$J36),IF($T36="국도비","직접입력",SUM($I36:$J36)-$W36)) -> 0 | Y36: =IF(SUM($I36:$J36)=SUM($W36:$X36),"OK","검토") -> OK | AB36: =IF($V36<>"도비",IF($T36="국도비","직접입력",SUM($L36:$M36)),) -> 0 | AC36: =IF($V36="도비",SUM(L36:M36),IF($T36="국도비","직접입력",SUM(L36:M36)-AB36)) -> 0 | AD36: =IF(SUM(L36:M36)=SUM(AB36:AC36),"OK","검토") -> OK | AF36: =IF(V36="","",IF(V36="도비","세입없음","직접입력")) | AH36: =IF(AF36="","",COUNTIF($AF$7:$AF$120,AF36)) | AI36: =IF(V36="","",IF(AND(V36="도비",AF36="세입없음"),"OK",IF(AND(V36<>"도비",AF36<>""),"OK","@@"))) | AK36: {=IF(C36="","",INDEX(구분표!$I$2:$I$313, MATCH(1,(구분표!$E$2:$E$313='17년일출'!B36)*(구분표!$F$2:$F$313='17년일출'!C36)*(구분표!$G$2:$G$313='17년일출'!A36),0)))}
A37: =IFERROR(VLOOKUP($C37,구분표!$A$2:$C$313,2,FALSE),"") | B37: =IFERROR(VLOOKUP($C37,구분표!$A$2:$C$313,3,FALSE),"") | K37: =H37+I37+J37 -> 0 | N37: =H37+L37+M37 -> 0 | O37: =IF(AND((K37=0),(N37>0)),"O",IF(AND((I37<0),(K37-N37<0)),"O","X")) -> X | W37: =IF($V37<>"도비",IF($T37="국도비","직접입력",SUM($I37:$J37)),) -> 0 | X37: =IF($V37="도비",SUM($I37:$J37),IF($T37="국도비","직접입력",SUM($I37:$J37)-$W37)) -> 0 | Y37: =IF(SUM($I37:$J37)=SUM($W37:$X37),"OK","검토") -> OK | AB37: =IF($V37<>"도비",IF($T37="국도비","직접입력",SUM($L37:$M37)),) -> 0 | AC37: =IF($V37="도비",SUM(L37:M37),IF($T37="국도비","직접입력",SUM(L37:M37)-AB37)) -> 0 | AD37: =IF(SUM(L37:M37)=SUM(AB37:AC37),"OK","검토") -> OK | AF37: =IF(V37="","",IF(V37="도비","세입없음","직접입력")) | AH37: =IF(AF37="","",COUNTIF($AF$7:$AF$120,AF37)) | AI37: =IF(V37="","",IF(AND(V37="도비",AF37="세입없음"),"OK",IF(AND(V37<>"도비",AF37<>""),"OK","@@"))) | AK37: {=IF(C37="","",INDEX(구분표!$I$2:$I$313, MATCH(1,(구분표!$E$2:$E$313='17년일출'!B37)*(구분표!$F$2:$F$313='17년일출'!C37)*(구분표!$G$2:$G$313='17년일출'!A37),0)))}
A38: =IFERROR(VLOOKUP($C38,구분표!$A$2:$C$313,2,FALSE),"") | B38: =IFERROR(VLOOKUP($C38,구분표!$A$2:$C$313,3,FALSE),"") | K38: =H38+I38+J38 -> 0 | N38: =H38+L38+M38 -> 0 | O38: =IF(AND((K38=0),(N38>0)),"O",IF(AND((I38<0),(K38-N38<0)),"O","X")) -> X | W38: =IF($V38<>"도비",IF($T38="국도비","직접입력",SUM($I38:$J38)),) -> 0 | X38: =IF($V38="도비",SUM($I38:$J38),IF($T38="국도비","직접입력",SUM($I38:$J38)-$W38)) -> 0 | Y38: =IF(SUM($I38:$J38)=SUM($W38:$X38),"OK","검토") -> OK | AB38: =IF($V38<>"도비",IF($T38="국도비","직접입력",SUM($L38:$M38)),) -> 0 | AC38: =IF($V38="도비",SUM(L38:M38),IF($T38="국도비","직접입력",SUM(L38:M38)-AB38)) -> 0 | AD38: =IF(SUM(L38:M38)=SUM(AB38:AC38),"OK","검토") -> OK | AF38: =IF(V38="","",IF(V38="도비","세입없음","직접입력")) | AH38: =IF(AF38="","",COUNTIF($AF$7:$AF$120,AF38)) | AI38: =IF(V38="","",IF(AND(V38="도비",AF38="세입없음"),"OK",IF(AND(V38<>"도비",AF38<>""),"OK","@@"))) | AK38: {=IF(C38="","",INDEX(구분표!$I$2:$I$313, MATCH(1,(구분표!$E$2:$E$313='17년일출'!B38)*(구분표!$F$2:$F$313='17년일출'!C38)*(구분표!$G$2:$G$313='17년일출'!A38),0)))}
A39: =IFERROR(VLOOKUP($C39,구분표!$A$2:$C$313,2,FALSE),"") | B39: =IFERROR(VLOOKUP($C39,구분표!$A$2:$C$313,3,FALSE),"") | K39: =H39+I39+J39 -> 0 | N39: =H39+L39+M39 -> 0 | O39: =IF(AND((K39=0),(N39>0)),"O",IF(AND((I39<0),(K39-N39<0)),"O","X")) -> X | W39: =IF($V39<>"도비",IF($T39="국도비","직접입력",SUM($I39:$J39)),) -> 0 | X39: =IF($V39="도비",SUM($I39:$J39),IF($T39="국도비","직접입력",SUM($I39:$J39)-$W39)) -> 0 | Y39: =IF(SUM($I39:$J39)=SUM($W39:$X39),"OK","검토") -> OK | AB39: =IF($V39<>"도비",IF($T39="국도비","직접입력",SUM($L39:$M39)),) -> 0 | AC39: =IF($V39="도비",SUM(L39:M39),IF($T39="국도비","직접입력",SUM(L39:M39)-AB39)) -> 0 | AD39: =IF(SUM(L39:M39)=SUM(AB39:AC39),"OK","검토") -> OK | AF39: =IF(V39="","",IF(V39="도비","세입없음","직접입력")) | AH39: =IF(AF39="","",COUNTIF($AF$7:$AF$120,AF39)) | AI39: =IF(V39="","",IF(AND(V39="도비",AF39="세입없음"),"OK",IF(AND(V39<>"도비",AF39<>""),"OK","@@"))) | AK39: {=IF(C39="","",INDEX(구분표!$I$2:$I$313, MATCH(1,(구분표!$E$2:$E$313='17년일출'!B39)*(구분표!$F$2:$F$313='17년일출'!C39)*(구분표!$G$2:$G$313='17년일출'!A39),0)))}
A40: =IFERROR(VLOOKUP($C40,구분표!$A$2:$C$313,2,FALSE),"") | B40: =IFERROR(VLOOKUP($C40,구분표!$A$2:$C$313,3,FALSE),"") | K40: =H40+I40+J40 -> 0 | N40: =H40+L40+M40 -> 0 | O40: =IF(AND((K40=0),(N40>0)),"O",IF(AND((I40<0),(K40-N40<0)),"O","X")) -> X | W40: =IF($V40<>"도비",IF($T40="국도비","직접입력",SUM($I40:$J40)),) -> 0 | X40: =IF($V40="도비",SUM($I40:$J40),IF($T40="국도비","직접입력",SUM($I40:$J40)-$W40)) -> 0 | Y40: =IF(SUM($I40:$J40)=SUM($W40:$X40),"OK","검토") -> OK | AB40: =IF($V40<>"도비",IF($T40="국도비","직접입력",SUM($L40:$M40)),) -> 0 | AC40: =IF($V40="도비",SUM(L40:M40),IF($T40="국도비","직접입력",SUM(L40:M40)-AB40)) -> 0 | AD40: =IF(SUM(L40:M40)=SUM(AB40:AC40),"OK","검토") -> OK | AF40: =IF(V40="","",IF(V40="도비","세입없음","직접입력")) | AH40: =IF(AF40="","",COUNTIF($AF$7:$AF$120,AF40)) | AI40: =IF(V40="","",IF(AND(V40="도비",AF40="세입없음"),"OK",IF(AND(V40<>"도비",AF40<>""),"OK","@@"))) | AK40: {=IF(C40="","",INDEX(구분표!$I$2:$I$313, MATCH(1,(구분표!$E$2:$E$313='17년일출'!B40)*(구분표!$F$2:$F$313='17년일출'!C40)*(구분표!$G$2:$G$313='17년일출'!A40),0)))}
A41: =IFERROR(VLOOKUP($C41,구분표!$A$2:$C$313,2,FALSE),"") | B41: =IFERROR(VLOOKUP($C41,구분표!$A$2:$C$313,3,FALSE),"") | K41: =H41+I41+J41 -> 0 | N41: =H41+L41+M41 -> 0 | O41: =IF(AND((K41=0),(N41>0)),"O",IF(AND((I41<0),(K41-N41<0)),"O","X")) -> X | W41: =IF($V41<>"도비",IF($T41="국도비","직접입력",SUM($I41:$J41)),) -> 0 | X41: =IF($V41="도비",SUM($I41:$J41),IF($T41="국도비","직접입력",SUM($I41:$J41)-$W41)) -> 0 | Y41: =IF(SUM($I41:$J41)=SUM($W41:$X41),"OK","검토") -> OK | AB41: =IF($V41<>"도비",IF($T41="국도비","직접입력",SUM($L41:$M41)),) -> 0 | AC41: =IF($V41="도비",SUM(L41:M41),IF($T41="국도비","직접입력",SUM(L41:M41)-AB41)) -> 0 | AD41: =IF(SUM(L41:M41)=SUM(AB41:AC41),"OK","검토") -> OK | AF41: =IF(V41="","",IF(V41="도비","세입없음","직접입력")) | AH41: =IF(AF41="","",COUNTIF($AF$7:$AF$120,AF41)) | AI41: =IF(V41="","",IF(AND(V41="도비",AF41="세입없음"),"OK",IF(AND(V41<>"도비",AF41<>""),"OK","@@"))) | AK41: {=IF(C41="","",INDEX(구분표!$I$2:$I$313, MATCH(1,(구분표!$E$2:$E$313='17년일출'!B41)*(구분표!$F$2:$F$313='17년일출'!C41)*(구분표!$G$2:$G$313='17년일출'!A41),0)))}
A42: =IFERROR(VLOOKUP($C42,구분표!$A$2:$C$313,2,FALSE),"") | B42: =IFERROR(VLOOKUP($C42,구분표!$A$2:$C$313,3,FALSE),"") | K42: =H42+I42+J42 -> 0 | N42: =H42+L42+M42 -> 0 | O42: =IF(AND((K42=0),(N42>0)),"O",IF(AND((I42<0),(K42-N42<0)),"O","X")) -> X | W42: =IF($V42<>"도비",IF($T42="국도비","직접입력",SUM($I42:$J42)),) -> 0 | X42: =IF($V42="도비",SUM($I42:$J42),IF($T42="국도비","직접입력",SUM($I42:$J42)-$W42)) -> 0 | Y42: =IF(SUM($I42:$J42)=SUM($W42:$X42),"OK","검토") -> OK | AB42: =IF($V42<>"도비",IF($T42="국도비","직접입력",SUM($L42:$M42)),) -> 0 | AC42: =IF($V42="도비",SUM(L42:M42),IF($T42="국도비","직접입력",SUM(L42:M42)-AB42)) -> 0 | AD42: =IF(SUM(L42:M42)=SUM(AB42:AC42),"OK","검토") -> OK | AF42: =IF(V42="","",IF(V42="도비","세입없음","직접입력")) | AH42: =IF(AF42="","",COUNTIF($AF$7:$AF$120,AF42)) | AI42: =IF(V42="","",IF(AND(V42="도비",AF42="세입없음"),"OK",IF(AND(V42<>"도비",AF42<>""),"OK","@@"))) | AK42: {=IF(C42="","",INDEX(구분표!$I$2:$I$313, MATCH(1,(구분표!$E$2:$E$313='17년일출'!B42)*(구분표!$F$2:$F$313='17년일출'!C42)*(구분표!$G$2:$G$313='17년일출'!A42),0)))}
A43: =IFERROR(VLOOKUP($C43,구분표!$A$2:$C$313,2,FALSE),"") | B43: =IFERROR(VLOOKUP($C43,구분표!$A$2:$C$313,3,FALSE),"") | K43: =H43+I43+J43 -> 0 | N43: =H43+L43+M43 -> 0 | O43: =IF(AND((K43=0),(N43>0)),"O",IF(AND((I43<0),(K43-N43<0)),"O","X")) -> X | W43: =IF($V43<>"도비",IF($T43="국도비","직접입력",SUM($I43:$J43)),) -> 0 | X43: =IF($V43="도비",SUM($I43:$J43),IF($T43="국도비","직접입력",SUM($I43:$J43)-$W43)) -> 0 | Y43: =IF(SUM($I43:$J43)=SUM($W43:$X43),"OK","검토") -> OK | AB43: =IF($V43<>"도비",IF($T43="국도비","직접입력",SUM($L43:$M43)),) -> 0 | AC43: =IF($V43="도비",SUM(L43:M43),IF($T43="국도비","직접입력",SUM(L43:M43)-AB43)) -> 0 | AD43: =IF(SUM(L43:M43)=SUM(AB43:AC43),"OK","검토") -> OK | AF43: =IF(V43="","",IF(V43="도비","세입없음","직접입력")) | AH43: =IF(AF43="","",COUNTIF($AF$7:$AF$120,AF43)) | AI43: =IF(V43="","",IF(AND(V43="도비",AF43="세입없음"),"OK",IF(AND(V43<>"도비",AF43<>""),"OK","@@"))) | AK43: {=IF(C43="","",INDEX(구분표!$I$2:$I$313, MATCH(1,(구분표!$E$2:$E$313='17년일출'!B43)*(구분표!$F$2:$F$313='17년일출'!C43)*(구분표!$G$2:$G$313='17년일출'!A43),0)))}
A44: (안전행정위원회) | H44: =SUM(H45:H54) -> 0 | I44: =SUM(I45:I54) -> 0 | J44: =SUM(J45:J54) -> 0 | K44: =SUM(K45:K54) -> 0 | L44: =SUM(L45:L54) -> 0 | M44: =SUM(M45:M54) -> 0 | N44: =SUM(N45:N54) -> 0 | AF44: =IF(V44="","",IF(V44="도비","세입없음","직접입력"))
A45: =IFERROR(VLOOKUP($C45,구분표!$A$2:$C$313,2,FALSE),"") | B45: =IFERROR(VLOOKUP($C45,구분표!$A$2:$C$313,3,FALSE),"") | K45: =H45+I45+J45 -> 0 | N45: =H45+L45+M45 -> 0 | O45: =IF(AND((K45=0),(N45>0)),"O",IF(AND((I45<0),(K45-N45<0)),"O","X")) -> X | W45: =IF($V45<>"도비",IF($T45="국도비","직접입력",SUM($I45:$J45)),) -> 0 | X45: =IF($V45="도비",SUM($I45:$J45),IF($T45="국도비","직접입력",SUM($I45:$J45)-$W45)) -> 0 | Y45: =IF(SUM($I45:$J45)=SUM($W45:$X45),"OK","검토") -> OK | AB45: =IF($V45<>"도비",IF($T45="국도비","직접입력",SUM($L45:$M45)),) -> 0 | AC45: =IF($V45="도비",SUM(L45:M45),IF($T45="국도비","직접입력",SUM(L45:M45)-AB45)) -> 0 | AD45: =IF(SUM(L45:M45)=SUM(AB45:AC45),"OK","검토") -> OK | AF45: =IF(V45="","",IF(V45="도비","세입없음","직접입력")) | AH45: =IF(AF45="","",COUNTIF($AF$7:$AF$120,AF45)) | AI45: =IF(V45="","",IF(AND(V45="도비",AF45="세입없음"),"OK",IF(AND(V45<>"도비",AF45<>""),"OK","@@"))) | AK45: {=IF(C45="","",INDEX(구분표!$I$2:$I$313, MATCH(1,(구분표!$E$2:$E$313='17년일출'!B45)*(구분표!$F$2:$F$313='17년일출'!C45)*(구분표!$G$2:$G$313='17년일출'!A45),0)))}
A46: =IFERROR(VLOOKUP($C46,구분표!$A$2:$C$313,2,FALSE),"") | B46: =IFERROR(VLOOKUP($C46,구분표!$A$2:$C$313,3,FALSE),"") | K46: =H46+I46+J46 -> 0 | N46: =H46+L46+M46 -> 0 | O46: =IF(AND((K46=0),(N46>0)),"O",IF(AND((I46<0),(K46-N46<0)),"O","X")) -> X | W46: =IF($V46<>"도비",IF($T46="국도비","직접입력",SUM($I46:$J46)),) -> 0 | X46: =IF($V46="도비",SUM($I46:$J46),IF($T46="국도비","직접입력",SUM($I46:$J46)-$W46)) -> 0 | Y46: =IF(SUM($I46:$J46)=SUM($W46:$X46),"OK","검토") -> OK | AB46: =IF($V46<>"도비",IF($T46="국도비","직접입력",SUM($L46:$M46)),) -> 0 | AC46: =IF($V46="도비",SUM(L46:M46),IF($T46="국도비","직접입력",SUM(L46:M46)-AB46)) -> 0 | AD46: =IF(SUM(L46:M46)=SUM(AB46:AC46),"OK","검토") -> OK | AF46: =IF(V46="","",IF(V46="도비","세입없음","직접입력")) | AH46: =IF(AF46="","",COUNTIF($AF$7:$AF$120,AF46)) | AI46: =IF(V46="","",IF(AND(V46="도비",AF46="세입없음"),"OK",IF(AND(V46<>"도비",AF46<>""),"OK","@@"))) | AK46: {=IF(C46="","",INDEX(구분표!$I$2:$I$313, MATCH(1,(구분표!$E$2:$E$313='17년일출'!B46)*(구분표!$F$2:$F$313='17년일출'!C46)*(구분표!$G$2:$G$313='17년일출'!A46),0)))}
A47: =IFERROR(VLOOKUP($C47,구분표!$A$2:$C$313,2,FALSE),"") | B47: =IFERROR(VLOOKUP($C47,구분표!$A$2:$C$313,3,FALSE),"") | K47: =H47+I47+J47 -> 0 | N47: =H47+L47+M47 -> 0 | O47: =IF(AND((K47=0),(N47>0)),"O",IF(AND((I47<0),(K47-N47<0)),"O","X")) -> X | W47: =IF($V47<>"도비",IF($T47="국도비","직접입력",SUM($I47:$J47)),) -> 0 | X47: =IF($V47="도비",SUM($I47:$J47),IF($T47="국도비","직접입력",SUM($I47:$J47)-$W47)) -> 0 | Y47: =IF(SUM($I47:$J47)=SUM($W47:$X47),"OK","검토") -> OK | AB47: =IF($V47<>"도비",IF($T47="국도비","직접입력",SUM($L47:$M47)),) -> 0 | AC47: =IF($V47="도비",SUM(L47:M47),IF($T47="국도비","직접입력",SUM(L47:M47)-AB47)) -> 0 | AD47: =IF(SUM(L47:M47)=SUM(AB47:AC47),"OK","검토") -> OK | AF47: =IF(V47="","",IF(V47="도비","세입없음","직접입력")) | AH47: =IF(AF47="","",COUNTIF($AF$7:$AF$120,AF47)) | AI47: =IF(V47="","",IF(AND(V47="도비",AF47="세입없음"),"OK",IF(AND(V47<>"도비",AF47<>""),"OK","@@"))) | AK47: {=IF(C47="","",INDEX(구분표!$I$2:$I$313, MATCH(1,(구분표!$E$2:$E$313='17년일출'!B47)*(구분표!$F$2:$F$313='17년일출'!C47)*(구분표!$G$2:$G$313='17년일출'!A47),0)))}
A48: =IFERROR(VLOOKUP($C48,구분표!$A$2:$C$313,2,FALSE),"") | B48: =IFERROR(VLOOKUP($C48,구분표!$A$2:$C$313,3,FALSE),"") | K48: =H48+I48+J48 -> 0 | N48: =H48+L48+M48 -> 0 | O48: =IF(AND((K48=0),(N48>0)),"O",IF(AND((I48<0),(K48-N48<0)),"O","X")) -> X | W48: =IF($V48<>"도비",IF($T48="국도비","직접입력",SUM($I48:$J48)),) -> 0 | X48: =IF($V48="도비",SUM($I48:$J48),IF($T48="국도비","직접입력",SUM($I48:$J48)-$W48)) -> 0 | Y48: =IF(SUM($I48:$J48)=SUM($W48:$X48),"OK","검토") -> OK | AB48: =IF($V48<>"도비",IF($T48="국도비","직접입력",SUM($L48:$M48)),) -> 0 | AC48: =IF($V48="도비",SUM(L48:M48),IF($T48="국도비","직접입력",SUM(L48:M48)-AB48)) -> 0 | AD48: =IF(SUM(L48:M48)=SUM(AB48:AC48),"OK","검토") -> OK | AF48: =IF(V48="","",IF(V48="도비","세입없음","직접입력")) | AH48: =IF(AF48="","",COUNTIF($AF$7:$AF$120,AF48)) | AI48: =IF(V48="","",IF(AND(V48="도비",AF48="세입없음"),"OK",IF(AND(V48<>"도비",AF48<>""),"OK","@@"))) | AK48: {=IF(C48="","",INDEX(구분표!$I$2:$I$313, MATCH(1,(구분표!$E$2:$E$313='17년일출'!B48)*(구분표!$F$2:$F$313='17년일출'!C48)*(구분표!$G$2:$G$313='17년일출'!A48),0)))}
A49: =IFERROR(VLOOKUP($C49,구분표!$A$2:$C$313,2,FALSE),"") | B49: =IFERROR(VLOOKUP($C49,구분표!$A$2:$C$313,3,FALSE),"") | K49: =H49+I49+J49 -> 0 | N49: =H49+L49+M49 -> 0 | O49: =IF(AND((K49=0),(N49>0)),"O",IF(AND((I49<0),(K49-N49<0)),"O","X")) -> X | W49: =IF($V49<>"도비",IF($T49="국도비","직접입력",SUM($I49:$J49)),) -> 0 | X49: =IF($V49="도비",SUM($I49:$J49),IF($T49="국도비","직접입력",SUM($I49:$J49)-$W49)) -> 0 | Y49: =IF(SUM($I49:$J49)=SUM($W49:$X49),"OK","검토") -> OK | AB49: =IF($V49<>"도비",IF($T49="국도비","직접입력",SUM($L49:$M49)),) -> 0 | AC49: =IF($V49="도비",SUM(L49:M49),IF($T49="국도비","직접입력",SUM(L49:M49)-AB49)) -> 0 | AD49: =IF(SUM(L49:M49)=SUM(AB49:AC49),"OK","검토") -> OK | AF49: =IF(V49="","",IF(V49="도비","세입없음","직접입력")) | AH49: =IF(AF49="","",COUNTIF($AF$7:$AF$120,AF49)) | AI49: =IF(V49="","",IF(AND(V49="도비",AF49="세입없음"),"OK",IF(AND(V49<>"도비",AF49<>""),"OK","@@"))) | AK49: {=IF(C49="","",INDEX(구분표!$I$2:$I$313, MATCH(1,(구분표!$E$2:$E$313='17년일출'!B49)*(구분표!$F$2:$F$313='17년일출'!C49)*(구분표!$G$2:$G$313='17년일출'!A49),0)))}
A50: =IFERROR(VLOOKUP($C50,구분표!$A$2:$C$313,2,FALSE),"") | B50: =IFERROR(VLOOKUP($C50,구분표!$A$2:$C$313,3,FALSE),"") | K50: =H50+I50+J50 -> 0 | N50: =H50+L50+M50 -> 0 | O50: =IF(AND((K50=0),(N50>0)),"O",IF(AND((I50<0),(K50-N50<0)),"O","X")) -> X | W50: =IF($V50<>"도비",IF($T50="국도비","직접입력",SUM($I50:$J50)),) -> 0 | X50: =IF($V50="도비",SUM($I50:$J50),IF($T50="국도비","직접입력",SUM($I50:$J50)-$W50)) -> 0 | Y50: =IF(SUM($I50:$J50)=SUM($W50:$X50),"OK","검토") -> OK | AB50: =IF($V50<>"도비",IF($T50="국도비","직접입력",SUM($L50:$M50)),) -> 0 | AC50: =IF($V50="도비",SUM(L50:M50),IF($T50="국도비","직접입력",SUM(L50:M50)-AB50)) -> 0 | AD50: =IF(SUM(L50:M50)=SUM(AB50:AC50),"OK","검토") -> OK | AF50: =IF(V50="","",IF(V50="도비","세입없음","직접입력")) | AH50: =IF(AF50="","",COUNTIF($AF$7:$AF$120,AF50)) | AI50: =IF(V50="","",IF(AND(V50="도비",AF50="세입없음"),"OK",IF(AND(V50<>"도비",AF50<>""),"OK","@@"))) | AK50: {=IF(C50="","",INDEX(구분표!$I$2:$I$313, MATCH(1,(구분표!$E$2:$E$313='17년일출'!B50)*(구분표!$F$2:$F$313='17년일출'!C50)*(구분표!$G$2:$G$313='17년일출'!A50),0)))}
A51: =IFERROR(VLOOKUP($C51,구분표!$A$2:$C$313,2,FALSE),"") | B51: =IFERROR(VLOOKUP($C51,구분표!$A$2:$C$313,3,FALSE),"") | K51: =H51+I51+J51 -> 0 | N51: =H51+L51+M51 -> 0 | O51: =IF(AND((K51=0),(N51>0)),"O",IF(AND((I51<0),(K51-N51<0)),"O","X")) -> X | W51: =IF($V51<>"도비",IF($T51="국도비","직접입력",SUM($I51:$J51)),) -> 0 | X51: =IF($V51="도비",SUM($I51:$J51),IF($T51="국도비","직접입력",SUM($I51:$J51)-$W51)) -> 0 | Y51: =IF(SUM($I51:$J51)=SUM($W51:$X51),"OK","검토") -> OK | AB51: =IF($V51<>"도비",IF($T51="국도비","직접입력",SUM($L51:$M51)),) -> 0 | AC51: =IF($V51="도비",SUM(L51:M51),IF($T51="국도비","직접입력",SUM(L51:M51)-AB51)) -> 0 | AD51: =IF(SUM(L51:M51)=SUM(AB51:AC51),"OK","검토") -> OK | AF51: =IF(V51="","",IF(V51="도비","세입없음","직접입력")) | AH51: =IF(AF51="","",COUNTIF($AF$7:$AF$120,AF51)) | AI51: =IF(V51="","",IF(AND(V51="도비",AF51="세입없음"),"OK",IF(AND(V51<>"도비",AF51<>""),"OK","@@"))) | AK51: {=IF(C51="","",INDEX(구분표!$I$2:$I$313, MATCH(1,(구분표!$E$2:$E$313='17년일출'!B51)*(구분표!$F$2:$F$313='17년일출'!C51)*(구분표!$G$2:$G$313='17년일출'!A51),0)))}
A52: =IFERROR(VLOOKUP($C52,구분표!$A$2:$C$313,2,FALSE),"") | B52: =IFERROR(VLOOKUP($C52,구분표!$A$2:$C$313,3,FALSE),"") | K52: =H52+I52+J52 -> 0 | N52: =H52+L52+M52 -> 0 | O52: =IF(AND((K52=0),(N52>0)),"O",IF(AND((I52<0),(K52-N52<0)),"O","X")) -> X | W52: =IF($V52<>"도비",IF($T52="국도비","직접입력",SUM($I52:$J52)),) -> 0 | X52: =IF($V52="도비",SUM($I52:$J52),IF($T52="국도비","직접입력",SUM($I52:$J52)-$W52)) -> 0 | Y52: =IF(SUM($I52:$J52)=SUM($W52:$X52),"OK","검토") -> OK | AB52: =IF($V52<>"도비",IF($T52="국도비","직접입력",SUM($L52:$M52)),) -> 0 | AC52: =IF($V52="도비",SUM(L52:M52),IF($T52="국도비","직접입력",SUM(L52:M52)-AB52)) -> 0 | AD52: =IF(SUM(L52:M52)=SUM(AB52:AC52),"OK","검토") -> OK | AF52: =IF(V52="","",IF(V52="도비","세입없음","직접입력")) | AH52: =IF(AF52="","",COUNTIF($AF$7:$AF$120,AF52)) | AI52: =IF(V52="","",IF(AND(V52="도비",AF52="세입없음"),"OK",IF(AND(V52<>"도비",AF52<>""),"OK","@@"))) | AK52: {=IF(C52="","",INDEX(구분표!$I$2:$I$313, MATCH(1,(구분표!$E$2:$E$313='17년일출'!B52)*(구분표!$F$2:$F$313='17년일출'!C52)*(구분표!$G$2:$G$313='17년일출'!A52),0)))}
A53: =IFERROR(VLOOKUP($C53,구분표!$A$2:$C$313,2,FALSE),"") | B53: =IFERROR(VLOOKUP($C53,구분표!$A$2:$C$313,3,FALSE),"") | K53: =H53+I53+J53 -> 0 | N53: =H53+L53+M53 -> 0 | O53: =IF(AND((K53=0),(N53>0)),"O",IF(AND((I53<0),(K53-N53<0)),"O","X")) -> X | W53: =IF($V53<>"도비",IF($T53="국도비","직접입력",SUM($I53:$J53)),) -> 0 | X53: =IF($V53="도비",SUM($I53:$J53),IF($T53="국도비","직접입력",SUM($I53:$J53)-$W53)) -> 0 | Y53: =IF(SUM($I53:$J53)=SUM($W53:$X53),"OK","검토") -> OK | AB53: =IF($V53<>"도비",IF($T53="국도비","직접입력",SUM($L53:$M53)),) -> 0 | AC53: =IF($V53="도비",SUM(L53:M53),IF($T53="국도비","직접입력",SUM(L53:M53)-AB53)) -> 0 | AD53: =IF(SUM(L53:M53)=SUM(AB53:AC53),"OK","검토") -> OK | AF53: =IF(V53="","",IF(V53="도비","세입없음","직접입력")) | AH53: =IF(AF53="","",COUNTIF($AF$7:$AF$120,AF53)) | AI53: =IF(V53="","",IF(AND(V53="도비",AF53="세입없음"),"OK",IF(AND(V53<>"도비",AF53<>""),"OK","@@"))) | AK53: {=IF(C53="","",INDEX(구분표!$I$2:$I$313, MATCH(1,(구분표!$E$2:$E$313='17년일출'!B53)*(구분표!$F$2:$F$313='17년일출'!C53)*(구분표!$G$2:$G$313='17년일출'!A53),0)))}
A54: =IFERROR(VLOOKUP($C54,구분표!$A$2:$C$313,2,FALSE),"") | B54: =IFERROR(VLOOKUP($C54,구분표!$A$2:$C$313,3,FALSE),"") | K54: =H54+I54+J54 -> 0 | N54: =H54+L54+M54 -> 0 | O54: =IF(AND((K54=0),(N54>0)),"O",IF(AND((I54<0),(K54-N54<0)),"O","X")) -> X | W54: =IF($V54<>"도비",IF($T54="국도비","직접입력",SUM($I54:$J54)),) -> 0 | X54: =IF($V54="도비",SUM($I54:$J54),IF($T54="국도비","직접입력",SUM($I54:$J54)-$W54)) -> 0 | Y54: =IF(SUM($I54:$J54)=SUM($W54:$X54),"OK","검토") -> OK | AB54: =IF($V54<>"도비",IF($T54="국도비","직접입력",SUM($L54:$M54)),) -> 0 | AC54: =IF($V54="도비",SUM(L54:M54),IF($T54="국도비","직접입력",SUM(L54:M54)-AB54)) -> 0 | AD54: =IF(SUM(L54:M54)=SUM(AB54:AC54),"OK","검토") -> OK | AF54: =IF(V54="","",IF(V54="도비","세입없음","직접입력")) | AH54: =IF(AF54="","",COUNTIF($AF$7:$AF$120,AF54)) | AI54: =IF(V54="","",IF(AND(V54="도비",AF54="세입없음"),"OK",IF(AND(V54<>"도비",AF54<>""),"OK","@@"))) | AK54: {=IF(C54="","",INDEX(구분표!$I$2:$I$313, MATCH(1,(구분표!$E$2:$E$313='17년일출'!B54)*(구분표!$F$2:$F$313='17년일출'!C54)*(구분표!$G$2:$G$313='17년일출'!A54),0)))}
A55: (문화체육관광위원회) | H55: =SUM(H56:H65) -> 0 | I55: =SUM(I56:I65) -> 0 | J55: =SUM(J56:J65) -> 0 | K55: =SUM(K56:K65) -> 0 | L55: =SUM(L56:L65) -> 0 | M55: =SUM(M56:M65) -> 0 | N55: =SUM(N56:N65) -> 0 | AF55: =IF(V55="","",IF(V55="도비","세입없음","직접입력"))
A56: =IFERROR(VLOOKUP($C56,구분표!$A$2:$C$313,2,FALSE),"") | B56: =IFERROR(VLOOKUP($C56,구분표!$A$2:$C$313,3,FALSE),"") | K56: =H56+I56+J56 -> 0 | N56: =H56+L56+M56 -> 0 | O56: =IF(AND((K56=0),(N56>0)),"O",IF(AND((I56<0),(K56-N56<0)),"O","X")) -> X | W56: =IF($V56<>"도비",IF($T56="국도비","직접입력",SUM($I56:$J56)),) -> 0 | X56: =IF($V56="도비",SUM($I56:$J56),IF($T56="국도비","직접입력",SUM($I56:$J56)-$W56)) -> 0 | Y56: =IF(SUM($I56:$J56)=SUM($W56:$X56),"OK","검토") -> OK | AB56: =IF($V56<>"도비",IF($T56="국도비","직접입력",SUM($L56:$M56)),) -> 0 | AC56: =IF($V56="도비",SUM(L56:M56),IF($T56="국도비","직접입력",SUM(L56:M56)-AB56)) -> 0 | AD56: =IF(SUM(L56:M56)=SUM(AB56:AC56),"OK","검토") -> OK | AF56: =IF(V56="","",IF(V56="도비","세입없음","직접입력")) | AH56: =IF(AF56="","",COUNTIF($AF$7:$AF$120,AF56)) | AI56: =IF(V56="","",IF(AND(V56="도비",AF56="세입없음"),"OK",IF(AND(V56<>"도비",AF56<>""),"OK","@@"))) | AK56: {=IF(C56="","",INDEX(구분표!$I$2:$I$313, MATCH(1,(구분표!$E$2:$E$313='17년일출'!B56)*(구분표!$F$2:$F$313='17년일출'!C56)*(구분표!$G$2:$G$313='17년일출'!A56),0)))}
A57: =IFERROR(VLOOKUP($C57,구분표!$A$2:$C$313,2,FALSE),"") | B57: =IFERROR(VLOOKUP($C57,구분표!$A$2:$C$313,3,FALSE),"") | K57: =H57+I57+J57 -> 0 | N57: =H57+L57+M57 -> 0 | O57: =IF(AND((K57=0),(N57>0)),"O",IF(AND((I57<0),(K57-N57<0)),"O","X")) -> X | W57: =IF($V57<>"도비",IF($T57="국도비","직접입력",SUM($I57:$J57)),) -> 0 | X57: =IF($V57="도비",SUM($I57:$J57),IF($T57="국도비","직접입력",SUM($I57:$J57)-$W57)) -> 0 | Y57: =IF(SUM($I57:$J57)=SUM($W57:$X57),"OK","검토") -> OK | AB57: =IF($V57<>"도비",IF($T57="국도비","직접입력",SUM($L57:$M57)),) -> 0 | AC57: =IF($V57="도비",SUM(L57:M57),IF($T57="국도비","직접입력",SUM(L57:M57)-AB57)) -> 0 | AD57: =IF(SUM(L57:M57)=SUM(AB57:AC57),"OK","검토") -> OK | AF57: =IF(V57="","",IF(V57="도비","세입없음","직접입력")) | AH57: =IF(AF57="","",COUNTIF($AF$7:$AF$120,AF57)) | AI57: =IF(V57="","",IF(AND(V57="도비",AF57="세입없음"),"OK",IF(AND(V57<>"도비",AF57<>""),"OK","@@"))) | AK57: {=IF(C57="","",INDEX(구분표!$I$2:$I$313, MATCH(1,(구분표!$E$2:$E$313='17년일출'!B57)*(구분표!$F$2:$F$313='17년일출'!C57)*(구분표!$G$2:$G$313='17년일출'!A57),0)))}
A58: =IFERROR(VLOOKUP($C58,구분표!$A$2:$C$313,2,FALSE),"") | B58: =IFERROR(VLOOKUP($C58,구분표!$A$2:$C$313,3,FALSE),"") | K58: =H58+I58+J58 -> 0 | N58: =H58+L58+M58 -> 0 | O58: =IF(AND((K58=0),(N58>0)),"O",IF(AND((I58<0),(K58-N58<0)),"O","X")) -> X | W58: =IF($V58<>"도비",IF($T58="국도비","직접입력",SUM($I58:$J58)),) -> 0 | X58: =IF($V58="도비",SUM($I58:$J58),IF($T58="국도비","직접입력",SUM($I58:$J58)-$W58)) -> 0 | Y58: =IF(SUM($I58:$J58)=SUM($W58:$X58),"OK","검토") -> OK | AB58: =IF($V58<>"도비",IF($T58="국도비","직접입력",SUM($L58:$M58)),) -> 0 | AC58: =IF($V58="도비",SUM(L58:M58),IF($T58="국도비","직접입력",SUM(L58:M58)-AB58)) -> 0 | AD58: =IF(SUM(L58:M58)=SUM(AB58:AC58),"OK","검토") -> OK | AF58: =IF(V58="","",IF(V58="도비","세입없음","직접입력")) | AH58: =IF(AF58="","",COUNTIF($AF$7:$AF$120,AF58)) | AI58: =IF(V58="","",IF(AND(V58="도비",AF58="세입없음"),"OK",IF(AND(V58<>"도비",AF58<>""),"OK","@@"))) | AK58: {=IF(C58="","",INDEX(구분표!$I$2:$I$313, MATCH(1,(구분표!$E$2:$E$313='17년일출'!B58)*(구분표!$F$2:$F$313='17년일출'!C58)*(구분표!$G$2:$G$313='17년일출'!A58),0)))}
A59: =IFERROR(VLOOKUP($C59,구분표!$A$2:$C$313,2,FALSE),"") | B59: =IFERROR(VLOOKUP($C59,구분표!$A$2:$C$313,3,FALSE),"") | K59: =H59+I59+J59 -> 0 | N59: =H59+L59+M59 -> 0 | O59: =IF(AND((K59=0),(N59>0)),"O",IF(AND((I59<0),(K59-N59<0)),"O","X")) -> X | W59: =IF($V59<>"도비",IF($T59="국도비","직접입력",SUM($I59:$J59)),) -> 0 | X59: =IF($V59="도비",SUM($I59:$J59),IF($T59="국도비","직접입력",SUM($I59:$J59)-$W59)) -> 0 | Y59: =IF(SUM($I59:$J59)=SUM($W59:$X59),"OK","검토") -> OK | AB59: =IF($V59<>"도비",IF($T59="국도비","직접입력",SUM($L59:$M59)),) -> 0 | AC59: =IF($V59="도비",SUM(L59:M59),IF($T59="국도비","직접입력",SUM(L59:M59)-AB59)) -> 0 | AD59: =IF(SUM(L59:M59)=SUM(AB59:AC59),"OK","검토") -> OK | AF59: =IF(V59="","",IF(V59="도비","세입없음","직접입력")) | AH59: =IF(AF59="","",COUNTIF($AF$7:$AF$120,AF59)) | AI59: =IF(V59="","",IF(AND(V59="도비",AF59="세입없음"),"OK",IF(AND(V59<>"도비",AF59<>""),"OK","@@"))) | AK59: {=IF(C59="","",INDEX(구분표!$I$2:$I$313, MATCH(1,(구분표!$E$2:$E$313='17년일출'!B59)*(구분표!$F$2:$F$313='17년일출'!C59)*(구분표!$G$2:$G$313='17년일출'!A59),0)))}
A60: =IFERROR(VLOOKUP($C60,구분표!$A$2:$C$313,2,FALSE),"") | B60: =IFERROR(VLOOKUP($C60,구분표!$A$2:$C$313,3,FALSE),"") | K60: =H60+I60+J60 -> 0 | N60: =H60+L60+M60 -> 0 | O60: =IF(AND((K60=0),(N60>0)),"O",IF(AND((I60<0),(K60-N60<0)),"O","X")) -> X | W60: =IF($V60<>"도비",IF($T60="국도비","직접입력",SUM($I60:$J60)),) -> 0 | X60: =IF($V60="도비",SUM($I60:$J60),IF($T60="국도비","직접입력",SUM($I60:$J60)-$W60)) -> 0 | Y60: =IF(SUM($I60:$J60)=SUM($W60:$X60),"OK","검토") -> OK | AB60: =IF($V60<>"도비",IF($T60="국도비","직접입력",SUM($L60:$M60)),) -> 0 | AC60: =IF($V60="도비",SUM(L60:M60),IF($T60="국도비","직접입력",SUM(L60:M60)-AB60)) -> 0 | AD60: =IF(SUM(L60:M60)=SUM(AB60:AC60),"OK","검토") -> OK | AF60: =IF(V60="","",IF(V60="도비","세입없음","직접입력")) | AH60: =IF(AF60="","",COUNTIF($AF$7:$AF$120,AF60)) | AI60: =IF(V60="","",IF(AND(V60="도비",AF60="세입없음"),"OK",IF(AND(V60<>"도비",AF60<>""),"OK","@@"))) | AK60: {=IF(C60="","",INDEX(구분표!$I$2:$I$313, MATCH(1,(구분표!$E$2:$E$313='17년일출'!B60)*(구분표!$F$2:$F$313='17년일출'!C60)*(구분표!$G$2:$G$313='17년일출'!A60),0)))}
A61: =IFERROR(VLOOKUP($C61,구분표!$A$2:$C$313,2,FALSE),"") | B61: =IFERROR(VLOOKUP($C61,구분표!$A$2:$C$313,3,FALSE),"") | K61: =H61+I61+J61 -> 0 | N61: =H61+L61+M61 -> 0 | O61: =IF(AND((K61=0),(N61>0)),"O",IF(AND((I61<0),(K61-N61<0)),"O","X")) -> X | W61: =IF($V61<>"도비",IF($T61="국도비","직접입력",SUM($I61:$J61)),) -> 0 | X61: =IF($V61="도비",SUM($I61:$J61),IF($T61="국도비","직접입력",SUM($I61:$J61)-$W61)) -> 0 | Y61: =IF(SUM($I61:$J61)=SUM($W61:$X61),"OK","검토") -> OK | AB61: =IF($V61<>"도비",IF($T61="국도비","직접입력",SUM($L61:$M61)),) -> 0 | AC61: =IF($V61="도비",SUM(L61:M61),IF($T61="국도비","직접입력",SUM(L61:M61)-AB61)) -> 0 | AD61: =IF(SUM(L61:M61)=SUM(AB61:AC61),"OK","검토") -> OK | AF61: =IF(V61="","",IF(V61="도비","세입없음","직접입력")) | AH61: =IF(AF61="","",COUNTIF($AF$7:$AF$120,AF61)) | AI61: =IF(V61="","",IF(AND(V61="도비",AF61="세입없음"),"OK",IF(AND(V61<>"도비",AF61<>""),"OK","@@"))) | AK61: {=IF(C61="","",INDEX(구분표!$I$2:$I$313, MATCH(1,(구분표!$E$2:$E$313='17년일출'!B61)*(구분표!$F$2:$F$313='17년일출'!C61)*(구분표!$G$2:$G$313='17년일출'!A61),0)))}
A62: =IFERROR(VLOOKUP($C62,구분표!$A$2:$C$313,2,FALSE),"") | B62: =IFERROR(VLOOKUP($C62,구분표!$A$2:$C$313,3,FALSE),"") | K62: =H62+I62+J62 -> 0 | N62: =H62+L62+M62 -> 0 | O62: =IF(AND((K62=0),(N62>0)),"O",IF(AND((I62<0),(K62-N62<0)),"O","X")) -> X | W62: =IF($V62<>"도비",IF($T62="국도비","직접입력",SUM($I62:$J62)),) -> 0 | X62: =IF($V62="도비",SUM($I62:$J62),IF($T62="국도비","직접입력",SUM($I62:$J62)-$W62)) -> 0 | Y62: =IF(SUM($I62:$J62)=SUM($W62:$X62),"OK","검토") -> OK | AB62: =IF($V62<>"도비",IF($T62="국도비","직접입력",SUM($L62:$M62)),) -> 0 | AC62: =IF($V62="도비",SUM(L62:M62),IF($T62="국도비","직접입력",SUM(L62:M62)-AB62)) -> 0 | AD62: =IF(SUM(L62:M62)=SUM(AB62:AC62),"OK","검토") -> OK | AF62: =IF(V62="","",IF(V62="도비","세입없음","직접입력")) | AH62: =IF(AF62="","",COUNTIF($AF$7:$AF$120,AF62)) | AI62: =IF(V62="","",IF(AND(V62="도비",AF62="세입없음"),"OK",IF(AND(V62<>"도비",AF62<>""),"OK","@@"))) | AK62: {=IF(C62="","",INDEX(구분표!$I$2:$I$313, MATCH(1,(구분표!$E$2:$E$313='17년일출'!B62)*(구분표!$F$2:$F$313='17년일출'!C62)*(구분표!$G$2:$G$313='17년일출'!A62),0)))}
A63: =IFERROR(VLOOKUP($C63,구분표!$A$2:$C$313,2,FALSE),"") | B63: =IFERROR(VLOOKUP($C63,구분표!$A$2:$C$313,3,FALSE),"") | K63: =H63+I63+J63 -> 0 | N63: =H63+L63+M63 -> 0 | O63: =IF(AND((K63=0),(N63>0)),"O",IF(AND((I63<0),(K63-N63<0)),"O","X")) -> X | W63: =IF($V63<>"도비",IF($T63="국도비","직접입력",SUM($I63:$J63)),) -> 0 | X63: =IF($V63="도비",SUM($I63:$J63),IF($T63="국도비","직접입력",SUM($I63:$J63)-$W63)) -> 0 | Y63: =IF(SUM($I63:$J63)=SUM($W63:$X63),"OK","검토") -> OK | AB63: =IF($V63<>"도비",IF($T63="국도비","직접입력",SUM($L63:$M63)),) -> 0 | AC63: =IF($V63="도비",SUM(L63:M63),IF($T63="국도비","직접입력",SUM(L63:M63)-AB63)) -> 0 | AD63: =IF(SUM(L63:M63)=SUM(AB63:AC63),"OK","검토") -> OK | AF63: =IF(V63="","",IF(V63="도비","세입없음","직접입력")) | AH63: =IF(AF63="","",COUNTIF($AF$7:$AF$120,AF63)) | AI63: =IF(V63="","",IF(AND(V63="도비",AF63="세입없음"),"OK",IF(AND(V63<>"도비",AF63<>""),"OK","@@"))) | AK63: {=IF(C63="","",INDEX(구분표!$I$2:$I$313, MATCH(1,(구분표!$E$2:$E$313='17년일출'!B63)*(구분표!$F$2:$F$313='17년일출'!C63)*(구분표!$G$2:$G$313='17년일출'!A63),0)))}
A64: =IFERROR(VLOOKUP($C64,구분표!$A$2:$C$313,2,FALSE),"") | B64: =IFERROR(VLOOKUP($C64,구분표!$A$2:$C$313,3,FALSE),"") | K64: =H64+I64+J64 -> 0 | N64: =H64+L64+M64 -> 0 | O64: =IF(AND((K64=0),(N64>0)),"O",IF(AND((I64<0),(K64-N64<0)),"O","X")) -> X | W64: =IF($V64<>"도비",IF($T64="국도비","직접입력",SUM($I64:$J64)),) -> 0 | X64: =IF($V64="도비",SUM($I64:$J64),IF($T64="국도비","직접입력",SUM($I64:$J64)-$W64)) -> 0 | Y64: =IF(SUM($I64:$J64)=SUM($W64:$X64),"OK","검토") -> OK | AB64: =IF($V64<>"도비",IF($T64="국도비","직접입력",SUM($L64:$M64)),) -> 0 | AC64: =IF($V64="도비",SUM(L64:M64),IF($T64="국도비","직접입력",SUM(L64:M64)-AB64)) -> 0 | AD64: =IF(SUM(L64:M64)=SUM(AB64:AC64),"OK","검토") -> OK | AF64: =IF(V64="","",IF(V64="도비","세입없음","직접입력")) | AH64: =IF(AF64="","",COUNTIF($AF$7:$AF$120,AF64)) | AI64: =IF(V64="","",IF(AND(V64="도비",AF64="세입없음"),"OK",IF(AND(V64<>"도비",AF64<>""),"OK","@@"))) | AK64: {=IF(C64="","",INDEX(구분표!$I$2:$I$313, MATCH(1,(구분표!$E$2:$E$313='17년일출'!B64)*(구분표!$F$2:$F$313='17년일출'!C64)*(구분표!$G$2:$G$313='17년일출'!A64),0)))}
A65: =IFERROR(VLOOKUP($C65,구분표!$A$2:$C$313,2,FALSE),"") | B65: =IFERROR(VLOOKUP($C65,구분표!$A$2:$C$313,3,FALSE),"") | K65: =H65+I65+J65 -> 0 | N65: =H65+L65+M65 -> 0 | O65: =IF(AND((K65=0),(N65>0)),"O",IF(AND((I65<0),(K65-N65<0)),"O","X")) -> X | W65: =IF($V65<>"도비",IF($T65="국도비","직접입력",SUM($I65:$J65)),) -> 0 | X65: =IF($V65="도비",SUM($I65:$J65),IF($T65="국도비","직접입력",SUM($I65:$J65)-$W65)) -> 0 | Y65: =IF(SUM($I65:$J65)=SUM($W65:$X65),"OK","검토") -> OK | AB65: =IF($V65<>"도비",IF($T65="국도비","직접입력",SUM($L65:$M65)),) -> 0 | AC65: =IF($V65="도비",SUM(L65:M65),IF($T65="국도비","직접입력",SUM(L65:M65)-AB65)) -> 0 | AD65: =IF(SUM(L65:M65)=SUM(AB65:AC65),"OK","검토") -> OK | AF65: =IF(V65="","",IF(V65="도비","세입없음","직접입력")) | AH65: =IF(AF65="","",COUNTIF($AF$7:$AF$120,AF65)) | AI65: =IF(V65="","",IF(AND(V65="도비",AF65="세입없음"),"OK",IF(AND(V65<>"도비",AF65<>""),"OK","@@"))) | AK65: {=IF(C65="","",INDEX(구분표!$I$2:$I$313, MATCH(1,(구분표!$E$2:$E$313='17년일출'!B65)*(구분표!$F$2:$F$313='17년일출'!C65)*(구분표!$G$2:$G$313='17년일출'!A65),0)))}
A66: (농정해양위원회) | H66: =SUM(H67:H76) -> 0 | I66: =SUM(I67:I76) -> 0 | J66: =SUM(J67:J76) -> 0 | K66: =SUM(K67:K76) -> 0 | L66: =SUM(L67:L76) -> 0 | M66: =SUM(M67:M76) -> 0 | N66: =SUM(N67:N76) -> 0 | AF66: =IF(V66="","",IF(V66="도비","세입없음","직접입력"))
A67: =IFERROR(VLOOKUP($C67,구분표!$A$2:$C$313,2,FALSE),"") | B67: =IFERROR(VLOOKUP($C67,구분표!$A$2:$C$313,3,FALSE),"") | K67: =H67+I67+J67 -> 0 | N67: =H67+L67+M67 -> 0 | O67: =IF(AND((K67=0),(N67>0)),"O",IF(AND((I67<0),(K67-N67<0)),"O","X")) -> X | W67: =IF($V67<>"도비",IF($T67="국도비","직접입력",SUM($I67:$J67)),) -> 0 | X67: =IF($V67="도비",SUM($I67:$J67),IF($T67="국도비","직접입력",SUM($I67:$J67)-$W67)) -> 0 | Y67: =IF(SUM($I67:$J67)=SUM($W67:$X67),"OK","검토") -> OK | AB67: =IF($V67<>"도비",IF($T67="국도비","직접입력",SUM($L67:$M67)),) -> 0 | AC67: =IF($V67="도비",SUM(L67:M67),IF($T67="국도비","직접입력",SUM(L67:M67)-AB67)) -> 0 | AD67: =IF(SUM(L67:M67)=SUM(AB67:AC67),"OK","검토") -> OK | AF67: =IF(V67="","",IF(V67="도비","세입없음","직접입력")) | AH67: =IF(AF67="","",COUNTIF($AF$7:$AF$120,AF67)) | AI67: =IF(V67="","",IF(AND(V67="도비",AF67="세입없음"),"OK",IF(AND(V67<>"도비",AF67<>""),"OK","@@"))) | AK67: {=IF(C67="","",INDEX(구분표!$I$2:$I$313, MATCH(1,(구분표!$E$2:$E$313='17년일출'!B67)*(구분표!$F$2:$F$313='17년일출'!C67)*(구분표!$G$2:$G$313='17년일출'!A67),0)))}
A68: =IFERROR(VLOOKUP($C68,구분표!$A$2:$C$313,2,FALSE),"") | B68: =IFERROR(VLOOKUP($C68,구분표!$A$2:$C$313,3,FALSE),"") | K68: =H68+I68+J68 -> 0 | N68: =H68+L68+M68 -> 0 | O68: =IF(AND((K68=0),(N68>0)),"O",IF(AND((I68<0),(K68-N68<0)),"O","X")) -> X | W68: =IF($V68<>"도비",IF($T68="국도비","직접입력",SUM($I68:$J68)),) -> 0 | X68: =IF($V68="도비",SUM($I68:$J68),IF($T68="국도비","직접입력",SUM($I68:$J68)-$W68)) -> 0 | Y68: =IF(SUM($I68:$J68)=SUM($W68:$X68),"OK","검토") -> OK | AB68: =IF($V68<>"도비",IF($T68="국도비","직접입력",SUM($L68:$M68)),) -> 0 | AC68: =IF($V68="도비",SUM(L68:M68),IF($T68="국도비","직접입력",SUM(L68:M68)-AB68)) -> 0 | AD68: =IF(SUM(L68:M68)=SUM(AB68:AC68),"OK","검토") -> OK | AF68: =IF(V68="","",IF(V68="도비","세입없음","직접입력")) | AH68: =IF(AF68="","",COUNTIF($AF$7:$AF$120,AF68)) | AI68: =IF(V68="","",IF(AND(V68="도비",AF68="세입없음"),"OK",IF(AND(V68<>"도비",AF68<>""),"OK","@@"))) | AK68: {=IF(C68="","",INDEX(구분표!$I$2:$I$313, MATCH(1,(구분표!$E$2:$E$313='17년일출'!B68)*(구분표!$F$2:$F$313='17년일출'!C68)*(구분표!$G$2:$G$313='17년일출'!A68),0)))}
A69: =IFERROR(VLOOKUP($C69,구분표!$A$2:$C$313,2,FALSE),"") | B69: =IFERROR(VLOOKUP($C69,구분표!$A$2:$C$313,3,FALSE),"") | K69: =H69+I69+J69 -> 0 | N69: =H69+L69+M69 -> 0 | O69: =IF(AND((K69=0),(N69>0)),"O",IF(AND((I69<0),(K69-N69<0)),"O","X")) -> X | W69: =IF($V69<>"도비",IF($T69="국도비","직접입력",SUM($I69:$J69)),) -> 0 | X69: =IF($V69="도비",SUM($I69:$J69),IF($T69="국도비","직접입력",SUM($I69:$J69)-$W69)) -> 0 | Y69: =IF(SUM($I69:$J69)=SUM($W69:$X69),"OK","검토") -> OK | AB69: =IF($V69<>"도비",IF($T69="국도비","직접입력",SUM($L69:$M69)),) -> 0 | AC69: =IF($V69="도비",SUM(L69:M69),IF($T69="국도비","직접입력",SUM(L69:M69)-AB69)) -> 0 | AD69: =IF(SUM(L69:M69)=SUM(AB69:AC69),"OK","검토") -> OK | AF69: =IF(V69="","",IF(V69="도비","세입없음","직접입력")) | AH69: =IF(AF69="","",COUNTIF($AF$7:$AF$120,AF69)) | AI69: =IF(V69="","",IF(AND(V69="도비",AF69="세입없음"),"OK",IF(AND(V69<>"도비",AF69<>""),"OK","@@"))) | AK69: {=IF(C69="","",INDEX(구분표!$I$2:$I$313, MATCH(1,(구분표!$E$2:$E$313='17년일출'!B69)*(구분표!$F$2:$F$313='17년일출'!C69)*(구분표!$G$2:$G$313='17년일출'!A69),0)))}
A70: =IFERROR(VLOOKUP($C70,구분표!$A$2:$C$313,2,FALSE),"") | B70: =IFERROR(VLOOKUP($C70,구분표!$A$2:$C$313,3,FALSE),"") | K70: =H70+I70+J70 -> 0 | N70: =H70+L70+M70 -> 0 | O70: =IF(AND((K70=0),(N70>0)),"O",IF(AND((I70<0),(K70-N70<0)),"O","X")) -> X | W70: =IF($V70<>"도비",IF($T70="국도비","직접입력",SUM($I70:$J70)),) -> 0 | X70: =IF($V70="도비",SUM($I70:$J70),IF($T70="국도비","직접입력",SUM($I70:$J70)-$W70)) -> 0 | Y70: =IF(SUM($I70:$J70)=SUM($W70:$X70),"OK","검토") -> OK | AB70: =IF($V70<>"도비",IF($T70="국도비","직접입력",SUM($L70:$M70)),) -> 0 | AC70: =IF($V70="도비",SUM(L70:M70),IF($T70="국도비","직접입력",SUM(L70:M70)-AB70)) -> 0 | AD70: =IF(SUM(L70:M70)=SUM(AB70:AC70),"OK","검토") -> OK | AF70: =IF(V70="","",IF(V70="도비","세입없음","직접입력")) | AH70: =IF(AF70="","",COUNTIF($AF$7:$AF$120,AF70)) | AI70: =IF(V70="","",IF(AND(V70="도비",AF70="세입없음"),"OK",IF(AND(V70<>"도비",AF70<>""),"OK","@@"))) | AK70: {=IF(C70="","",INDEX(구분표!$I$2:$I$313, MATCH(1,(구분표!$E$2:$E$313='17년일출'!B70)*(구분표!$F$2:$F$313='17년일출'!C70)*(구분표!$G$2:$G$313='17년일출'!A70),0)))}
A71: =IFERROR(VLOOKUP($C71,구분표!$A$2:$C$313,2,FALSE),"") | B71: =IFERROR(VLOOKUP($C71,구분표!$A$2:$C$313,3,FALSE),"") | K71: =H71+I71+J71 -> 0 | N71: =H71+L71+M71 -> 0 | O71: =IF(AND((K71=0),(N71>0)),"O",IF(AND((I71<0),(K71-N71<0)),"O","X")) -> X | W71: =IF($V71<>"도비",IF($T71="국도비","직접입력",SUM($I71:$J71)),) -> 0 | X71: =IF($V71="도비",SUM($I71:$J71),IF($T71="국도비","직접입력",SUM($I71:$J71)-$W71)) -> 0 | Y71: =IF(SUM($I71:$J71)=SUM($W71:$X71),"OK","검토") -> OK | AB71: =IF($V71<>"도비",IF($T71="국도비","직접입력",SUM($L71:$M71)),) -> 0 | AC71: =IF($V71="도비",SUM(L71:M71),IF($T71="국도비","직접입력",SUM(L71:M71)-AB71)) -> 0 | AD71: =IF(SUM(L71:M71)=SUM(AB71:AC71),"OK","검토") -> OK | AF71: =IF(V71="","",IF(V71="도비","세입없음","직접입력")) | AH71: =IF(AF71="","",COUNTIF($AF$7:$AF$120,AF71)) | AI71: =IF(V71="","",IF(AND(V71="도비",AF71="세입없음"),"OK",IF(AND(V71<>"도비",AF71<>""),"OK","@@"))) | AK71: {=IF(C71="","",INDEX(구분표!$I$2:$I$313, MATCH(1,(구분표!$E$2:$E$313='17년일출'!B71)*(구분표!$F$2:$F$313='17년일출'!C71)*(구분표!$G$2:$G$313='17년일출'!A71),0)))}
A72: =IFERROR(VLOOKUP($C72,구분표!$A$2:$C$313,2,FALSE),"") | B72: =IFERROR(VLOOKUP($C72,구분표!$A$2:$C$313,3,FALSE),"") | K72: =H72+I72+J72 -> 0 | N72: =H72+L72+M72 -> 0 | O72: =IF(AND((K72=0),(N72>0)),"O",IF(AND((I72<0),(K72-N72<0)),"O","X")) -> X | W72: =IF($V72<>"도비",IF($T72="국도비","직접입력",SUM($I72:$J72)),) -> 0 | X72: =IF($V72="도비",SUM($I72:$J72),IF($T72="국도비","직접입력",SUM($I72:$J72)-$W72)) -> 0 | Y72: =IF(SUM($I72:$J72)=SUM($W72:$X72),"OK","검토") -> OK | AB72: =IF($V72<>"도비",IF($T72="국도비","직접입력",SUM($L72:$M72)),) -> 0 | AC72: =IF($V72="도비",SUM(L72:M72),IF($T72="국도비","직접입력",SUM(L72:M72)-AB72)) -> 0 | AD72: =IF(SUM(L72:M72)=SUM(AB72:AC72),"OK","검토") -> OK | AF72: =IF(V72="","",IF(V72="도비","세입없음","직접입력")) | AH72: =IF(AF72="","",COUNTIF($AF$7:$AF$120,AF72)) | AI72: =IF(V72="","",IF(AND(V72="도비",AF72="세입없음"),"OK",IF(AND(V72<>"도비",AF72<>""),"OK","@@"))) | AK72: {=IF(C72="","",INDEX(구분표!$I$2:$I$313, MATCH(1,(구분표!$E$2:$E$313='17년일출'!B72)*(구분표!$F$2:$F$313='17년일출'!C72)*(구분표!$G$2:$G$313='17년일출'!A72),0)))}
A73: =IFERROR(VLOOKUP($C73,구분표!$A$2:$C$313,2,FALSE),"") | B73: =IFERROR(VLOOKUP($C73,구분표!$A$2:$C$313,3,FALSE),"") | K73: =H73+I73+J73 -> 0 | N73: =H73+L73+M73 -> 0 | O73: =IF(AND((K73=0),(N73>0)),"O",IF(AND((I73<0),(K73-N73<0)),"O","X")) -> X | W73: =IF($V73<>"도비",IF($T73="국도비","직접입력",SUM($I73:$J73)),) -> 0 | X73: =IF($V73="도비",SUM($I73:$J73),IF($T73="국도비","직접입력",SUM($I73:$J73)-$W73)) -> 0 | Y73: =IF(SUM($I73:$J73)=SUM($W73:$X73),"OK","검토") -> OK | AB73: =IF($V73<>"도비",IF($T73="국도비","직접입력",SUM($L73:$M73)),) -> 0 | AC73: =IF($V73="도비",SUM(L73:M73),IF($T73="국도비","직접입력",SUM(L73:M73)-AB73)) -> 0 | AD73: =IF(SUM(L73:M73)=SUM(AB73:AC73),"OK","검토") -> OK | AF73: =IF(V73="","",IF(V73="도비","세입없음","직접입력")) | AH73: =IF(AF73="","",COUNTIF($AF$7:$AF$120,AF73)) | AI73: =IF(V73="","",IF(AND(V73="도비",AF73="세입없음"),"OK",IF(AND(V73<>"도비",AF73<>""),"OK","@@"))) | AK73: {=IF(C73="","",INDEX(구분표!$I$2:$I$313, MATCH(1,(구분표!$E$2:$E$313='17년일출'!B73)*(구분표!$F$2:$F$313='17년일출'!C73)*(구분표!$G$2:$G$313='17년일출'!A73),0)))}
A74: =IFERROR(VLOOKUP($C74,구분표!$A$2:$C$313,2,FALSE),"") | B74: =IFERROR(VLOOKUP($C74,구분표!$A$2:$C$313,3,FALSE),"") | K74: =H74+I74+J74 -> 0 | N74: =H74+L74+M74 -> 0 | O74: =IF(AND((K74=0),(N74>0)),"O",IF(AND((I74<0),(K74-N74<0)),"O","X")) -> X | W74: =IF($V74<>"도비",IF($T74="국도비","직접입력",SUM($I74:$J74)),) -> 0 | X74: =IF($V74="도비",SUM($I74:$J74),IF($T74="국도비","직접입력",SUM($I74:$J74)-$W74)) -> 0 | Y74: =IF(SUM($I74:$J74)=SUM($W74:$X74),"OK","검토") -> OK | AB74: =IF($V74<>"도비",IF($T74="국도비","직접입력",SUM($L74:$M74)),) -> 0 | AC74: =IF($V74="도비",SUM(L74:M74),IF($T74="국도비","직접입력",SUM(L74:M74)-AB74)) -> 0 | AD74: =IF(SUM(L74:M74)=SUM(AB74:AC74),"OK","검토") -> OK | AF74: =IF(V74="","",IF(V74="도비","세입없음","직접입력")) | AH74: =IF(AF74="","",COUNTIF($AF$7:$AF$120,AF74)) | AI74: =IF(V74="","",IF(AND(V74="도비",AF74="세입없음"),"OK",IF(AND(V74<>"도비",AF74<>""),"OK","@@"))) | AK74: {=IF(C74="","",INDEX(구분표!$I$2:$I$313, MATCH(1,(구분표!$E$2:$E$313='17년일출'!B74)*(구분표!$F$2:$F$313='17년일출'!C74)*(구분표!$G$2:$G$313='17년일출'!A74),0)))}
A75: =IFERROR(VLOOKUP($C75,구분표!$A$2:$C$313,2,FALSE),"") | B75: =IFERROR(VLOOKUP($C75,구분표!$A$2:$C$313,3,FALSE),"") | K75: =H75+I75+J75 -> 0 | N75: =H75+L75+M75 -> 0 | O75: =IF(AND((K75=0),(N75>0)),"O",IF(AND((I75<0),(K75-N75<0)),"O","X")) -> X | W75: =IF($V75<>"도비",IF($T75="국도비","직접입력",SUM($I75:$J75)),) -> 0 | X75: =IF($V75="도비",SUM($I75:$J75),IF($T75="국도비","직접입력",SUM($I75:$J75)-$W75)) -> 0 | Y75: =IF(SUM($I75:$J75)=SUM($W75:$X75),"OK","검토") -> OK | AB75: =IF($V75<>"도비",IF($T75="국도비","직접입력",SUM($L75:$M75)),) -> 0 | AC75: =IF($V75="도비",SUM(L75:M75),IF($T75="국도비","직접입력",SUM(L75:M75)-AB75)) -> 0 | AD75: =IF(SUM(L75:M75)=SUM(AB75:AC75),"OK","검토") -> OK | AF75: =IF(V75="","",IF(V75="도비","세입없음","직접입력")) | AH75: =IF(AF75="","",COUNTIF($AF$7:$AF$120,AF75)) | AI75: =IF(V75="","",IF(AND(V75="도비",AF75="세입없음"),"OK",IF(AND(V75<>"도비",AF75<>""),"OK","@@"))) | AK75: {=IF(C75="","",INDEX(구분표!$I$2:$I$313, MATCH(1,(구분표!$E$2:$E$313='17년일출'!B75)*(구분표!$F$2:$F$313='17년일출'!C75)*(구분표!$G$2:$G$313='17년일출'!A75),0)))}
A76: =IFERROR(VLOOKUP($C76,구분표!$A$2:$C$313,2,FALSE),"") | B76: =IFERROR(VLOOKUP($C76,구분표!$A$2:$C$313,3,FALSE),"") | K76: =H76+I76+J76 -> 0 | N76: =H76+L76+M76 -> 0 | O76: =IF(AND((K76=0),(N76>0)),"O",IF(AND((I76<0),(K76-N76<0)),"O","X")) -> X | W76: =IF($V76<>"도비",IF($T76="국도비","직접입력",SUM($I76:$J76)),) -> 0 | X76: =IF($V76="도비",SUM($I76:$J76),IF($T76="국도비","직접입력",SUM($I76:$J76)-$W76)) -> 0 | Y76: =IF(SUM($I76:$J76)=SUM($W76:$X76),"OK","검토") -> OK | AB76: =IF($V76<>"도비",IF($T76="국도비","직접입력",SUM($L76:$M76)),) -> 0 | AC76: =IF($V76="도비",SUM(L76:M76),IF($T76="국도비","직접입력",SUM(L76:M76)-AB76)) -> 0 | AD76: =IF(SUM(L76:M76)=SUM(AB76:AC76),"OK","검토") -> OK | AF76: =IF(V76="","",IF(V76="도비","세입없음","직접입력")) | AH76: =IF(AF76="","",COUNTIF($AF$7:$AF$120,AF76)) | AI76: =IF(V76="","",IF(AND(V76="도비",AF76="세입없음"),"OK",IF(AND(V76<>"도비",AF76<>""),"OK","@@"))) | AK76: {=IF(C76="","",INDEX(구분표!$I$2:$I$313, MATCH(1,(구분표!$E$2:$E$313='17년일출'!B76)*(구분표!$F$2:$F$313='17년일출'!C76)*(구분표!$G$2:$G$313='17년일출'!A76),0)))}
A77: (보건복지위원회) | H77: =SUM(H78:H87) -> 0 | I77: =SUM(I78:I87) -> 0 | J77: =SUM(J78:J87) -> 0 | K77: =SUM(K78:K87) -> 0 | L77: =SUM(L78:L87) -> 0 | M77: =SUM(M78:M87) -> 0 | N77: =SUM(N78:N87) -> 0 | AF77: =IF(V77="","",IF(V77="도비","세입없음","직접입력"))
A78: =IFERROR(VLOOKUP($C78,구분표!$A$2:$C$313,2,FALSE),"") | B78: =IFERROR(VLOOKUP($C78,구분표!$A$2:$C$313,3,FALSE),"") | K78: =H78+I78+J78 -> 0 | N78: =H78+L78+M78 -> 0 | O78: =IF(AND((K78=0),(N78>0)),"O",IF(AND((I78<0),(K78-N78<0)),"O","X")) -> X | W78: =IF($V78<>"도비",IF($T78="국도비","직접입력",SUM($I78:$J78)),) -> 0 | X78: =IF($V78="도비",SUM($I78:$J78),IF($T78="국도비","직접입력",SUM($I78:$J78)-$W78)) -> 0 | Y78: =IF(SUM($I78:$J78)=SUM($W78:$X78),"OK","검토") -> OK | AB78: =IF($V78<>"도비",IF($T78="국도비","직접입력",SUM($L78:$M78)),) -> 0 | AC78: =IF($V78="도비",SUM(L78:M78),IF($T78="국도비","직접입력",SUM(L78:M78)-AB78)) -> 0 | AD78: =IF(SUM(L78:M78)=SUM(AB78:AC78),"OK","검토") -> OK | AF78: =IF(V78="","",IF(V78="도비","세입없음","직접입력")) | AH78: =IF(AF78="","",COUNTIF($AF$7:$AF$120,AF78)) | AI78: =IF(V78="","",IF(AND(V78="도비",AF78="세입없음"),"OK",IF(AND(V78<>"도비",AF78<>""),"OK","@@"))) | AK78: {=IF(C78="","",INDEX(구분표!$I$2:$I$313, MATCH(1,(구분표!$E$2:$E$313='17년일출'!B78)*(구분표!$F$2:$F$313='17년일출'!C78)*(구분표!$G$2:$G$313='17년일출'!A78),0)))}
A79: =IFERROR(VLOOKUP($C79,구분표!$A$2:$C$313,2,FALSE),"") | B79: =IFERROR(VLOOKUP($C79,구분표!$A$2:$C$313,3,FALSE),"") | K79: =H79+I79+J79 -> 0 | N79: =H79+L79+M79 -> 0 | O79: =IF(AND((K79=0),(N79>0)),"O",IF(AND((I79<0),(K79-N79<0)),"O","X")) -> X | W79: =IF($V79<>"도비",IF($T79="국도비","직접입력",SUM($I79:$J79)),) -> 0 | X79: =IF($V79="도비",SUM($I79:$J79),IF($T79="국도비","직접입력",SUM($I79:$J79)-$W79)) -> 0 | Y79: =IF(SUM($I79:$J79)=SUM($W79:$X79),"OK","검토") -> OK | AB79: =IF($V79<>"도비",IF($T79="국도비","직접입력",SUM($L79:$M79)),) -> 0 | AC79: =IF($V79="도비",SUM(L79:M79),IF($T79="국도비","직접입력",SUM(L79:M79)-AB79)) -> 0 | AD79: =IF(SUM(L79:M79)=SUM(AB79:AC79),"OK","검토") -> OK | AF79: =IF(V79="","",IF(V79="도비","세입없음","직접입력")) | AH79: =IF(AF79="","",COUNTIF($AF$7:$AF$120,AF79)) | AI79: =IF(V79="","",IF(AND(V79="도비",AF79="세입없음"),"OK",IF(AND(V79<>"도비",AF79<>""),"OK","@@"))) | AK79: {=IF(C79="","",INDEX(구분표!$I$2:$I$313, MATCH(1,(구분표!$E$2:$E$313='17년일출'!B79)*(구분표!$F$2:$F$313='17년일출'!C79)*(구분표!$G$2:$G$313='17년일출'!A79),0)))}
A80: =IFERROR(VLOOKUP($C80,구분표!$A$2:$C$313,2,FALSE),"") | B80: =IFERROR(VLOOKUP($C80,구분표!$A$2:$C$313,3,FALSE),"") | K80: =H80+I80+J80 -> 0 | N80: =H80+L80+M80 -> 0 | O80: =IF(AND((K80=0),(N80>0)),"O",IF(AND((I80<0),(K80-N80<0)),"O","X")) -> X | W80: =IF($V80<>"도비",IF($T80="국도비","직접입력",SUM($I80:$J80)),) -> 0 | X80: =IF($V80="도비",SUM($I80:$J80),IF($T80="국도비","직접입력",SUM($I80:$J80)-$W80)) -> 0 | Y80: =IF(SUM($I80:$J80)=SUM($W80:$X80),"OK","검토") -> OK | AB80: =IF($V80<>"도비",IF($T80="국도비","직접입력",SUM($L80:$M80)),) -> 0 | AC80: =IF($V80="도비",SUM(L80:M80),IF($T80="국도비","직접입력",SUM(L80:M80)-AB80)) -> 0 | AD80: =IF(SUM(L80:M80)=SUM(AB80:AC80),"OK","검토") -> OK | AF80: =IF(V80="","",IF(V80="도비","세입없음","직접입력")) | AH80: =IF(AF80="","",COUNTIF($AF$7:$AF$120,AF80)) | AI80: =IF(V80="","",IF(AND(V80="도비",AF80="세입없음"),"OK",IF(AND(V80<>"도비",AF80<>""),"OK","@@"))) | AK80: {=IF(C80="","",INDEX(구분표!$I$2:$I$313, MATCH(1,(구분표!$E$2:$E$313='17년일출'!B80)*(구분표!$F$2:$F$313='17년일출'!C80)*(구분표!$G$2:$G$313='17년일출'!A80),0)))}
A81: =IFERROR(VLOOKUP($C81,구분표!$A$2:$C$313,2,FALSE),"") | B81: =IFERROR(VLOOKUP($C81,구분표!$A$2:$C$313,3,FALSE),"") | K81: =H81+I81+J81 -> 0 | N81: =H81+L81+M81 -> 0 | O81: =IF(AND((K81=0),(N81>0)),"O",IF(AND((I81<0),(K81-N81<0)),"O","X")) -> X | W81: =IF($V81<>"도비",IF($T81="국도비","직접입력",SUM($I81:$J81)),) -> 0 | X81: =IF($V81="도비",SUM($I81:$J81),IF($T81="국도비","직접입력",SUM($I81:$J81)-$W81)) -> 0 | Y81: =IF(SUM($I81:$J81)=SUM($W81:$X81),"OK","검토") -> OK | AB81: =IF($V81<>"도비",IF($T81="국도비","직접입력",SUM($L81:$M81)),) -> 0 | AC81: =IF($V81="도비",SUM(L81:M81),IF($T81="국도비","직접입력",SUM(L81:M81)-AB81)) -> 0 | AD81: =IF(SUM(L81:M81)=SUM(AB81:AC81),"OK","검토") -> OK | AF81: =IF(V81="","",IF(V81="도비","세입없음","직접입력")) | AH81: =IF(AF81="","",COUNTIF($AF$7:$AF$120,AF81)) | AI81: =IF(V81="","",IF(AND(V81="도비",AF81="세입없음"),"OK",IF(AND(V81<>"도비",AF81<>""),"OK","@@"))) | AK81: {=IF(C81="","",INDEX(구분표!$I$2:$I$313, MATCH(1,(구분표!$E$2:$E$313='17년일출'!B81)*(구분표!$F$2:$F$313='17년일출'!C81)*(구분표!$G$2:$G$313='17년일출'!A81),0)))}
A82: =IFERROR(VLOOKUP($C82,구분표!$A$2:$C$313,2,FALSE),"") | B82: =IFERROR(VLOOKUP($C82,구분표!$A$2:$C$313,3,FALSE),"") | K82: =H82+I82+J82 -> 0 | N82: =H82+L82+M82 -> 0 | O82: =IF(AND((K82=0),(N82>0)),"O",IF(AND((I82<0),(K82-N82<0)),"O","X")) -> X | W82: =IF($V82<>"도비",IF($T82="국도비","직접입력",SUM($I82:$J82)),) -> 0 | X82: =IF($V82="도비",SUM($I82:$J82),IF($T82="국도비","직접입력",SUM($I82:$J82)-$W82)) -> 0 | Y82: =IF(SUM($I82:$J82)=SUM($W82:$X82),"OK","검토") -> OK | AB82: =IF($V82<>"도비",IF($T82="국도비","직접입력",SUM($L82:$M82)),) -> 0 | AC82: =IF($V82="도비",SUM(L82:M82),IF($T82="국도비","직접입력",SUM(L82:M82)-AB82)) -> 0 | AD82: =IF(SUM(L82:M82)=SUM(AB82:AC82),"OK","검토") -> OK | AF82: =IF(V82="","",IF(V82="도비","세입없음","직접입력")) | AH82: =IF(AF82="","",COUNTIF($AF$7:$AF$120,AF82)) | AI82: =IF(V82="","",IF(AND(V82="도비",AF82="세입없음"),"OK",IF(AND(V82<>"도비",AF82<>""),"OK","@@"))) | AK82: {=IF(C82="","",INDEX(구분표!$I$2:$I$313, MATCH(1,(구분표!$E$2:$E$313='17년일출'!B82)*(구분표!$F$2:$F$313='17년일출'!C82)*(구분표!$G$2:$G$313='17년일출'!A82),0)))}
A83: =IFERROR(VLOOKUP($C83,구분표!$A$2:$C$313,2,FALSE),"") | B83: =IFERROR(VLOOKUP($C83,구분표!$A$2:$C$313,3,FALSE),"") | K83: =H83+I83+J83 -> 0 | N83: =H83+L83+M83 -> 0 | O83: =IF(AND((K83=0),(N83>0)),"O",IF(AND((I83<0),(K83-N83<0)),"O","X")) -> X | W83: =IF($V83<>"도비",IF($T83="국도비","직접입력",SUM($I83:$J83)),) -> 0 | X83: =IF($V83="도비",SUM($I83:$J83),IF($T83="국도비","직접입력",SUM($I83:$J83)-$W83)) -> 0 | Y83: =IF(SUM($I83:$J83)=SUM($W83:$X83),"OK","검토") -> OK | AB83: =IF($V83<>"도비",IF($T83="국도비","직접입력",SUM($L83:$M83)),) -> 0 | AC83: =IF($V83="도비",SUM(L83:M83),IF($T83="국도비","직접입력",SUM(L83:M83)-AB83)) -> 0 | AD83: =IF(SUM(L83:M83)=SUM(AB83:AC83),"OK","검토") -> OK | AF83: =IF(V83="","",IF(V83="도비","세입없음","직접입력")) | AH83: =IF(AF83="","",COUNTIF($AF$7:$AF$120,AF83)) | AI83: =IF(V83="","",IF(AND(V83="도비",AF83="세입없음"),"OK",IF(AND(V83<>"도비",AF83<>""),"OK","@@"))) | AK83: {=IF(C83="","",INDEX(구분표!$I$2:$I$313, MATCH(1,(구분표!$E$2:$E$313='17년일출'!B83)*(구분표!$F$2:$F$313='17년일출'!C83)*(구분표!$G$2:$G$313='17년일출'!A83),0)))}
A84: =IFERROR(VLOOKUP($C84,구분표!$A$2:$C$313,2,FALSE),"") | B84: =IFERROR(VLOOKUP($C84,구분표!$A$2:$C$313,3,FALSE),"") | K84: =H84+I84+J84 -> 0 | N84: =H84+L84+M84 -> 0 | O84: =IF(AND((K84=0),(N84>0)),"O",IF(AND((I84<0),(K84-N84<0)),"O","X")) -> X | W84: =IF($V84<>"도비",IF($T84="국도비","직접입력",SUM($I84:$J84)),) -> 0 | X84: =IF($V84="도비",SUM($I84:$J84),IF($T84="국도비","직접입력",SUM($I84:$J84)-$W84)) -> 0 | Y84: =IF(SUM($I84:$J84)=SUM($W84:$X84),"OK","검토") -> OK | AB84: =IF($V84<>"도비",IF($T84="국도비","직접입력",SUM($L84:$M84)),) -> 0 | AC84: =IF($V84="도비",SUM(L84:M84),IF($T84="국도비","직접입력",SUM(L84:M84)-AB84)) -> 0 | AD84: =IF(SUM(L84:M84)=SUM(AB84:AC84),"OK","검토") -> OK | AF84: =IF(V84="","",IF(V84="도비","세입없음","직접입력")) | AH84: =IF(AF84="","",COUNTIF($AF$7:$AF$120,AF84)) | AI84: =IF(V84="","",IF(AND(V84="도비",AF84="세입없음"),"OK",IF(AND(V84<>"도비",AF84<>""),"OK","@@"))) | AK84: {=IF(C84="","",INDEX(구분표!$I$2:$I$313, MATCH(1,(구분표!$E$2:$E$313='17년일출'!B84)*(구분표!$F$2:$F$313='17년일출'!C84)*(구분표!$G$2:$G$313='17년일출'!A84),0)))}
A85: =IFERROR(VLOOKUP($C85,구분표!$A$2:$C$313,2,FALSE),"") | B85: =IFERROR(VLOOKUP($C85,구분표!$A$2:$C$313,3,FALSE),"") | K85: =H85+I85+J85 -> 0 | N85: =H85+L85+M85 -> 0 | O85: =IF(AND((K85=0),(N85>0)),"O",IF(AND((I85<0),(K85-N85<0)),"O","X")) -> X | W85: =IF($V85<>"도비",IF($T85="국도비","직접입력",SUM($I85:$J85)),) -> 0 | X85: =IF($V85="도비",SUM($I85:$J85),IF($T85="국도비","직접입력",SUM($I85:$J85)-$W85)) -> 0 | Y85: =IF(SUM($I85:$J85)=SUM($W85:$X85),"OK","검토") -> OK | AB85: =IF($V85<>"도비",IF($T85="국도비","직접입력",SUM($L85:$M85)),) -> 0 | AC85: =IF($V85="도비",SUM(L85:M85),IF($T85="국도비","직접입력",SUM(L85:M85)-AB85)) -> 0 | AD85: =IF(SUM(L85:M85)=SUM(AB85:AC85),"OK","검토") -> OK | AF85: =IF(V85="","",IF(V85="도비","세입없음","직접입력")) | AH85: =IF(AF85="","",COUNTIF($AF$7:$AF$120,AF85)) | AI85: =IF(V85="","",IF(AND(V85="도비",AF85="세입없음"),"OK",IF(AND(V85<>"도비",AF85<>""),"OK","@@"))) | AK85: {=IF(C85="","",INDEX(구분표!$I$2:$I$313, MATCH(1,(구분표!$E$2:$E$313='17년일출'!B85)*(구분표!$F$2:$F$313='17년일출'!C85)*(구분표!$G$2:$G$313='17년일출'!A85),0)))}
A86: =IFERROR(VLOOKUP($C86,구분표!$A$2:$C$313,2,FALSE),"") | B86: =IFERROR(VLOOKUP($C86,구분표!$A$2:$C$313,3,FALSE),"") | K86: =H86+I86+J86 -> 0 | N86: =H86+L86+M86 -> 0 | O86: =IF(AND((K86=0),(N86>0)),"O",IF(AND((I86<0),(K86-N86<0)),"O","X")) -> X | W86: =IF($V86<>"도비",IF($T86="국도비","직접입력",SUM($I86:$J86)),) -> 0 | X86: =IF($V86="도비",SUM($I86:$J86),IF($T86="국도비","직접입력",SUM($I86:$J86)-$W86)) -> 0 | Y86: =IF(SUM($I86:$J86)=SUM($W86:$X86),"OK","검토") -> OK | AB86: =IF($V86<>"도비",IF($T86="국도비","직접입력",SUM($L86:$M86)),) -> 0 | AC86: =IF($V86="도비",SUM(L86:M86),IF($T86="국도비","직접입력",SUM(L86:M86)-AB86)) -> 0 | AD86: =IF(SUM(L86:M86)=SUM(AB86:AC86),"OK","검토") -> OK | AF86: =IF(V86="","",IF(V86="도비","세입없음","직접입력")) | AH86: =IF(AF86="","",COUNTIF($AF$7:$AF$120,AF86)) | AI86: =IF(V86="","",IF(AND(V86="도비",AF86="세입없음"),"OK",IF(AND(V86<>"도비",AF86<>""),"OK","@@"))) | AK86: {=IF(C86="","",INDEX(구분표!$I$2:$I$313, MATCH(1,(구분표!$E$2:$E$313='17년일출'!B86)*(구분표!$F$2:$F$313='17년일출'!C86)*(구분표!$G$2:$G$313='17년일출'!A86),0)))}
A87: =IFERROR(VLOOKUP($C87,구분표!$A$2:$C$313,2,FALSE),"") | B87: =IFERROR(VLOOKUP($C87,구분표!$A$2:$C$313,3,FALSE),"") | K87: =H87+I87+J87 -> 0 | N87: =H87+L87+M87 -> 0 | O87: =IF(AND((K87=0),(N87>0)),"O",IF(AND((I87<0),(K87-N87<0)),"O","X")) -> X | W87: =IF($V87<>"도비",IF($T87="국도비","직접입력",SUM($I87:$J87)),) -> 0 | X87: =IF($V87="도비",SUM($I87:$J87),IF($T87="국도비","직접입력",SUM($I87:$J87)-$W87)) -> 0 | Y87: =IF(SUM($I87:$J87)=SUM($W87:$X87),"OK","검토") -> OK | AB87: =IF($V87<>"도비",IF($T87="국도비","직접입력",SUM($L87:$M87)),) -> 0 | AC87: =IF($V87="도비",SUM(L87:M87),IF($T87="국도비","직접입력",SUM(L87:M87)-AB87)) -> 0 | AD87: =IF(SUM(L87:M87)=SUM(AB87:AC87),"OK","검토") -> OK | AF87: =IF(V87="","",IF(V87="도비","세입없음","직접입력")) | AH87: =IF(AF87="","",COUNTIF($AF$7:$AF$120,AF87)) | AI87: =IF(V87="","",IF(AND(V87="도비",AF87="세입없음"),"OK",IF(AND(V87<>"도비",AF87<>""),"OK","@@"))) | AK87: {=IF(C87="","",INDEX(구분표!$I$2:$I$313, MATCH(1,(구분표!$E$2:$E$313='17년일출'!B87)*(구분표!$F$2:$F$313='17년일출'!C87)*(구분표!$G$2:$G$313='17년일출'!A87),0)))}
A88: (건설교통위원회) | H88: =SUM(H89:H98) -> 0 | I88: =SUM(I89:I98) -> 0 | J88: =SUM(J89:J98) -> 0 | K88: =SUM(K89:K98) -> 0 | L88: =SUM(L89:L98) -> 0 | M88: =SUM(M89:M98) -> 0 | N88: =SUM(N89:N98) -> 0 | AF88: =IF(V88="","",IF(V88="도비","세입없음","직접입력"))
A89: =IFERROR(VLOOKUP($C89,구분표!$A$2:$C$313,2,FALSE),"") | B89: =IFERROR(VLOOKUP($C89,구분표!$A$2:$C$313,3,FALSE),"") | K89: =H89+I89+J89 -> 0 | N89: =H89+L89+M89 -> 0 | O89: =IF(AND((K89=0),(N89>0)),"O",IF(AND((I89<0),(K89-N89<0)),"O","X")) -> X | W89: =IF($V89<>"도비",IF($T89="국도비","직접입력",SUM($I89:$J89)),) -> 0 | X89: =IF($V89="도비",SUM($I89:$J89),IF($T89="국도비","직접입력",SUM($I89:$J89)-$W89)) -> 0 | Y89: =IF(SUM($I89:$J89)=SUM($W89:$X89),"OK","검토") -> OK | AB89: =IF($V89<>"도비",IF($T89="국도비","직접입력",SUM($L89:$M89)),) -> 0 | AC89: =IF($V89="도비",SUM(L89:M89),IF($T89="국도비","직접입력",SUM(L89:M89)-AB89)) -> 0 | AD89: =IF(SUM(L89:M89)=SUM(AB89:AC89),"OK","검토") -> OK | AF89: =IF(V89="","",IF(V89="도비","세입없음","직접입력")) | AH89: =IF(AF89="","",COUNTIF($AF$7:$AF$120,AF89)) | AI89: =IF(V89="","",IF(AND(V89="도비",AF89="세입없음"),"OK",IF(AND(V89<>"도비",AF89<>""),"OK","@@"))) | AK89: {=IF(C89="","",INDEX(구분표!$I$2:$I$313, MATCH(1,(구분표!$E$2:$E$313='17년일출'!B89)*(구분표!$F$2:$F$313='17년일출'!C89)*(구분표!$G$2:$G$313='17년일출'!A89),0)))}
A90: =IFERROR(VLOOKUP($C90,구분표!$A$2:$C$313,2,FALSE),"") | B90: =IFERROR(VLOOKUP($C90,구분표!$A$2:$C$313,3,FALSE),"") | K90: =H90+I90+J90 -> 0 | N90: =H90+L90+M90 -> 0 | O90: =IF(AND((K90=0),(N90>0)),"O",IF(AND((I90<0),(K90-N90<0)),"O","X")) -> X | W90: =IF($V90<>"도비",IF($T90="국도비","직접입력",SUM($I90:$J90)),) -> 0 | X90: =IF($V90="도비",SUM($I90:$J90),IF($T90="국도비","직접입력",SUM($I90:$J90)-$W90)) -> 0 | Y90: =IF(SUM($I90:$J90)=SUM($W90:$X90),"OK","검토") -> OK | AB90: =IF($V90<>"도비",IF($T90="국도비","직접입력",SUM($L90:$M90)),) -> 0 | AC90: =IF($V90="도비",SUM(L90:M90),IF($T90="국도비","직접입력",SUM(L90:M90)-AB90)) -> 0 | AD90: =IF(SUM(L90:M90)=SUM(AB90:AC90),"OK","검토") -> OK | AF90: =IF(V90="","",IF(V90="도비","세입없음","직접입력")) | AH90: =IF(AF90="","",COUNTIF($AF$7:$AF$120,AF90)) | AI90: =IF(V90="","",IF(AND(V90="도비",AF90="세입없음"),"OK",IF(AND(V90<>"도비",AF90<>""),"OK","@@"))) | AK90: {=IF(C90="","",INDEX(구분표!$I$2:$I$313, MATCH(1,(구분표!$E$2:$E$313='17년일출'!B90)*(구분표!$F$2:$F$313='17년일출'!C90)*(구분표!$G$2:$G$313='17년일출'!A90),0)))}
A91: =IFERROR(VLOOKUP($C91,구분표!$A$2:$C$313,2,FALSE),"") | B91: =IFERROR(VLOOKUP($C91,구분표!$A$2:$C$313,3,FALSE),"") | K91: =H91+I91+J91 -> 0 | N91: =H91+L91+M91 -> 0 | O91: =IF(AND((K91=0),(N91>0)),"O",IF(AND((I91<0),(K91-N91<0)),"O","X")) -> X | W91: =IF($V91<>"도비",IF($T91="국도비","직접입력",SUM($I91:$J91)),) -> 0 | X91: =IF($V91="도비",SUM($I91:$J91),IF($T91="국도비","직접입력",SUM($I91:$J91)-$W91)) -> 0 | Y91: =IF(SUM($I91:$J91)=SUM($W91:$X91),"OK","검토") -> OK | AB91: =IF($V91<>"도비",IF($T91="국도비","직접입력",SUM($L91:$M91)),) -> 0 | AC91: =IF($V91="도비",SUM(L91:M91),IF($T91="국도비","직접입력",SUM(L91:M91)-AB91)) -> 0 | AD91: =IF(SUM(L91:M91)=SUM(AB91:AC91),"OK","검토") -> OK | AF91: =IF(V91="","",IF(V91="도비","세입없음","직접입력")) | AH91: =IF(AF91="","",COUNTIF($AF$7:$AF$120,AF91)) | AI91: =IF(V91="","",IF(AND(V91="도비",AF91="세입없음"),"OK",IF(AND(V91<>"도비",AF91<>""),"OK","@@"))) | AK91: {=IF(C91="","",INDEX(구분표!$I$2:$I$313, MATCH(1,(구분표!$E$2:$E$313='17년일출'!B91)*(구분표!$F$2:$F$313='17년일출'!C91)*(구분표!$G$2:$G$313='17년일출'!A91),0)))}
A92: =IFERROR(VLOOKUP($C92,구분표!$A$2:$C$313,2,FALSE),"") | B92: =IFERROR(VLOOKUP($C92,구분표!$A$2:$C$313,3,FALSE),"") | K92: =H92+I92+J92 -> 0 | N92: =H92+L92+M92 -> 0 | O92: =IF(AND((K92=0),(N92>0)),"O",IF(AND((I92<0),(K92-N92<0)),"O","X")) -> X | W92: =IF($V92<>"도비",IF($T92="국도비","직접입력",SUM($I92:$J92)),) -> 0 | X92: =IF($V92="도비",SUM($I92:$J92),IF($T92="국도비","직접입력",SUM($I92:$J92)-$W92)) -> 0 | Y92: =IF(SUM($I92:$J92)=SUM($W92:$X92),"OK","검토") -> OK | AB92: =IF($V92<>"도비",IF($T92="국도비","직접입력",SUM($L92:$M92)),) -> 0 | AC92: =IF($V92="도비",SUM(L92:M92),IF($T92="국도비","직접입력",SUM(L92:M92)-AB92)) -> 0 | AD92: =IF(SUM(L92:M92)=SUM(AB92:AC92),"OK","검토") -> OK | AF92: =IF(V92="","",IF(V92="도비","세입없음","직접입력")) | AH92: =IF(AF92="","",COUNTIF($AF$7:$AF$120,AF92)) | AI92: =IF(V92="","",IF(AND(V92="도비",AF92="세입없음"),"OK",IF(AND(V92<>"도비",AF92<>""),"OK","@@"))) | AK92: {=IF(C92="","",INDEX(구분표!$I$2:$I$313, MATCH(1,(구분표!$E$2:$E$313='17년일출'!B92)*(구분표!$F$2:$F$313='17년일출'!C92)*(구분표!$G$2:$G$313='17년일출'!A92),0)))}
A93: =IFERROR(VLOOKUP($C93,구분표!$A$2:$C$313,2,FALSE),"") | B93: =IFERROR(VLOOKUP($C93,구분표!$A$2:$C$313,3,FALSE),"") | K93: =H93+I93+J93 -> 0 | N93: =H93+L93+M93 -> 0 | O93: =IF(AND((K93=0),(N93>0)),"O",IF(AND((I93<0),(K93-N93<0)),"O","X")) -> X | W93: =IF($V93<>"도비",IF($T93="국도비","직접입력",SUM($I93:$J93)),) -> 0 | X93: =IF($V93="도비",SUM($I93:$J93),IF($T93="국도비","직접입력",SUM($I93:$J93)-$W93)) -> 0 | Y93: =IF(SUM($I93:$J93)=SUM($W93:$X93),"OK","검토") -> OK | AB93: =IF($V93<>"도비",IF($T93="국도비","직접입력",SUM($L93:$M93)),) -> 0 | AC93: =IF($V93="도비",SUM(L93:M93),IF($T93="국도비","직접입력",SUM(L93:M93)-AB93)) -> 0 | AD93: =IF(SUM(L93:M93)=SUM(AB93:AC93),"OK","검토") -> OK | AF93: =IF(V93="","",IF(V93="도비","세입없음","직접입력")) | AH93: =IF(AF93="","",COUNTIF($AF$7:$AF$120,AF93)) | AI93: =IF(V93="","",IF(AND(V93="도비",AF93="세입없음"),"OK",IF(AND(V93<>"도비",AF93<>""),"OK","@@"))) | AK93: {=IF(C93="","",INDEX(구분표!$I$2:$I$313, MATCH(1,(구분표!$E$2:$E$313='17년일출'!B93)*(구분표!$F$2:$F$313='17년일출'!C93)*(구분표!$G$2:$G$313='17년일출'!A93),0)))}
A94: =IFERROR(VLOOKUP($C94,구분표!$A$2:$C$313,2,FALSE),"") | B94: =IFERROR(VLOOKUP($C94,구분표!$A$2:$C$313,3,FALSE),"") | K94: =H94+I94+J94 -> 0 | N94: =H94+L94+M94 -> 0 | O94: =IF(AND((K94=0),(N94>0)),"O",IF(AND((I94<0),(K94-N94<0)),"O","X")) -> X | W94: =IF($V94<>"도비",IF($T94="국도비","직접입력",SUM($I94:$J94)),) -> 0 | X94: =IF($V94="도비",SUM($I94:$J94),IF($T94="국도비","직접입력",SUM($I94:$J94)-$W94)) -> 0 | Y94: =IF(SUM($I94:$J94)=SUM($W94:$X94),"OK","검토") -> OK | AB94: =IF($V94<>"도비",IF($T94="국도비","직접입력",SUM($L94:$M94)),) -> 0 | AC94: =IF($V94="도비",SUM(L94:M94),IF($T94="국도비","직접입력",SUM(L94:M94)-AB94)) -> 0 | AD94: =IF(SUM(L94:M94)=SUM(AB94:AC94),"OK","검토") -> OK | AF94: =IF(V94="","",IF(V94="도비","세입없음","직접입력")) | AH94: =IF(AF94="","",COUNTIF($AF$7:$AF$120,AF94)) | AI94: =IF(V94="","",IF(AND(V94="도비",AF94="세입없음"),"OK",IF(AND(V94<>"도비",AF94<>""),"OK","@@"))) | AK94: {=IF(C94="","",INDEX(구분표!$I$2:$I$313, MATCH(1,(구분표!$E$2:$E$313='17년일출'!B94)*(구분표!$F$2:$F$313='17년일출'!C94)*(구분표!$G$2:$G$313='17년일출'!A94),0)))}
A95: =IFERROR(VLOOKUP($C95,구분표!$A$2:$C$313,2,FALSE),"") | B95: =IFERROR(VLOOKUP($C95,구분표!$A$2:$C$313,3,FALSE),"") | K95: =H95+I95+J95 -> 0 | N95: =H95+L95+M95 -> 0 | O95: =IF(AND((K95=0),(N95>0)),"O",IF(AND((I95<0),(K95-N95<0)),"O","X")) -> X | W95: =IF($V95<>"도비",IF($T95="국도비","직접입력",SUM($I95:$J95)),) -> 0 | X95: =IF($V95="도비",SUM($I95:$J95),IF($T95="국도비","직접입력",SUM($I95:$J95)-$W95)) -> 0 | Y95: =IF(SUM($I95:$J95)=SUM($W95:$X95),"OK","검토") -> OK | AB95: =IF($V95<>"도비",IF($T95="국도비","직접입력",SUM($L95:$M95)),) -> 0 | AC95: =IF($V95="도비",SUM(L95:M95),IF($T95="국도비","직접입력",SUM(L95:M95)-AB95)) -> 0 | AD95: =IF(SUM(L95:M95)=SUM(AB95:AC95),"OK","검토") -> OK | AF95: =IF(V95="","",IF(V95="도비","세입없음","직접입력")) | AH95: =IF(AF95="","",COUNTIF($AF$7:$AF$120,AF95)) | AI95: =IF(V95="","",IF(AND(V95="도비",AF95="세입없음"),"OK",IF(AND(V95<>"도비",AF95<>""),"OK","@@"))) | AK95: {=IF(C95="","",INDEX(구분표!$I$2:$I$313, MATCH(1,(구분표!$E$2:$E$313='17년일출'!B95)*(구분표!$F$2:$F$313='17년일출'!C95)*(구분표!$G$2:$G$313='17년일출'!A95),0)))}
A96: =IFERROR(VLOOKUP($C96,구분표!$A$2:$C$313,2,FALSE),"") | B96: =IFERROR(VLOOKUP($C96,구분표!$A$2:$C$313,3,FALSE),"") | K96: =H96+I96+J96 -> 0 | N96: =H96+L96+M96 -> 0 | O96: =IF(AND((K96=0),(N96>0)),"O",IF(AND((I96<0),(K96-N96<0)),"O","X")) -> X | W96: =IF($V96<>"도비",IF($T96="국도비","직접입력",SUM($I96:$J96)),) -> 0 | X96: =IF($V96="도비",SUM($I96:$J96),IF($T96="국도비","직접입력",SUM($I96:$J96)-$W96)) -> 0 | Y96: =IF(SUM($I96:$J96)=SUM($W96:$X96),"OK","검토") -> OK | AB96: =IF($V96<>"도비",IF($T96="국도비","직접입력",SUM($L96:$M96)),) -> 0 | AC96: =IF($V96="도비",SUM(L96:M96),IF($T96="국도비","직접입력",SUM(L96:M96)-AB96)) -> 0 | AD96: =IF(SUM(L96:M96)=SUM(AB96:AC96),"OK","검토") -> OK | AF96: =IF(V96="","",IF(V96="도비","세입없음","직접입력")) | AH96: =IF(AF96="","",COUNTIF($AF$7:$AF$120,AF96)) | AI96: =IF(V96="","",IF(AND(V96="도비",AF96="세입없음"),"OK",IF(AND(V96<>"도비",AF96<>""),"OK","@@"))) | AK96: {=IF(C96="","",INDEX(구분표!$I$2:$I$313, MATCH(1,(구분표!$E$2:$E$313='17년일출'!B96)*(구분표!$F$2:$F$313='17년일출'!C96)*(구분표!$G$2:$G$313='17년일출'!A96),0)))}
A97: =IFERROR(VLOOKUP($C97,구분표!$A$2:$C$313,2,FALSE),"") | B97: =IFERROR(VLOOKUP($C97,구분표!$A$2:$C$313,3,FALSE),"") | K97: =H97+I97+J97 -> 0 | N97: =H97+L97+M97 -> 0 | O97: =IF(AND((K97=0),(N97>0)),"O",IF(AND((I97<0),(K97-N97<0)),"O","X")) -> X | W97: =IF($V97<>"도비",IF($T97="국도비","직접입력",SUM($I97:$J97)),) -> 0 | X97: =IF($V97="도비",SUM($I97:$J97),IF($T97="국도비","직접입력",SUM($I97:$J97)-$W97)) -> 0 | Y97: =IF(SUM($I97:$J97)=SUM($W97:$X97),"OK","검토") -> OK | AB97: =IF($V97<>"도비",IF($T97="국도비","직접입력",SUM($L97:$M97)),) -> 0 | AC97: =IF($V97="도비",SUM(L97:M97),IF($T97="국도비","직접입력",SUM(L97:M97)-AB97)) -> 0 | AD97: =IF(SUM(L97:M97)=SUM(AB97:AC97),"OK","검토") -> OK | AF97: =IF(V97="","",IF(V97="도비","세입없음","직접입력")) | AH97: =IF(AF97="","",COUNTIF($AF$7:$AF$120,AF97)) | AI97: =IF(V97="","",IF(AND(V97="도비",AF97="세입없음"),"OK",IF(AND(V97<>"도비",AF97<>""),"OK","@@"))) | AK97: {=IF(C97="","",INDEX(구분표!$I$2:$I$313, MATCH(1,(구분표!$E$2:$E$313='17년일출'!B97)*(구분표!$F$2:$F$313='17년일출'!C97)*(구분표!$G$2:$G$313='17년일출'!A97),0)))}
A98: =IFERROR(VLOOKUP($C98,구분표!$A$2:$C$313,2,FALSE),"") | B98: =IFERROR(VLOOKUP($C98,구분표!$A$2:$C$313,3,FALSE),"") | K98: =H98+I98+J98 -> 0 | N98: =H98+L98+M98 -> 0 | O98: =IF(AND((K98=0),(N98>0)),"O",IF(AND((I98<0),(K98-N98<0)),"O","X")) -> X | W98: =IF($V98<>"도비",IF($T98="국도비","직접입력",SUM($I98:$J98)),) -> 0 | X98: =IF($V98="도비",SUM($I98:$J98),IF($T98="국도비","직접입력",SUM($I98:$J98)-$W98)) -> 0 | Y98: =IF(SUM($I98:$J98)=SUM($W98:$X98),"OK","검토") -> OK | AB98: =IF($V98<>"도비",IF($T98="국도비","직접입력",SUM($L98:$M98)),) -> 0 | AC98: =IF($V98="도비",SUM(L98:M98),IF($T98="국도비","직접입력",SUM(L98:M98)-AB98)) -> 0 | AD98: =IF(SUM(L98:M98)=SUM(AB98:AC98),"OK","검토") -> OK | AF98: =IF(V98="","",IF(V98="도비","세입없음","직접입력")) | AH98: =IF(AF98="","",COUNTIF($AF$7:$AF$120,AF98)) | AI98: =IF(V98="","",IF(AND(V98="도비",AF98="세입없음"),"OK",IF(AND(V98<>"도비",AF98<>""),"OK","@@"))) | AK98: {=IF(C98="","",INDEX(구분표!$I$2:$I$313, MATCH(1,(구분표!$E$2:$E$313='17년일출'!B98)*(구분표!$F$2:$F$313='17년일출'!C98)*(구분표!$G$2:$G$313='17년일출'!A98),0)))}
A99: (도시환경위원회) | H99: =SUM(H100:H109) -> 0 | I99: =SUM(I100:I109) -> 0 | J99: =SUM(J100:J109) -> 0 | K99: =SUM(K100:K109) -> 0 | L99: =SUM(L100:L109) -> 0 | M99: =SUM(M100:M109) -> 0 | N99: =SUM(N100:N109) -> 0 | AF99: =IF(V99="","",IF(V99="도비","세입없음","직접입력"))
A100: =IFERROR(VLOOKUP($C100,구분표!$A$2:$C$313,2,FALSE),"") | B100: =IFERROR(VLOOKUP($C100,구분표!$A$2:$C$313,3,FALSE),"") | K100: =H100+I100+J100 -> 0 | N100: =H100+L100+M100 -> 0 | O100: =IF(AND((K100=0),(N100>0)),"O",IF(AND((I100<0),(K100-N100<0)),"O","X")) -> X | W100: =IF($V100<>"도비",IF($T100="국도비","직접입력",SUM($I100:$J100)),) -> 0 | X100: =IF($V100="도비",SUM($I100:$J100),IF($T100="국도비","직접입력",SUM($I100:$J100)-$W100)) -> 0 | Y100: =IF(SUM($I100:$J100)=SUM($W100:$X100),"OK","검토") -> OK | AB100: =IF($V100<>"도비",IF($T100="국도비","직접입력",SUM($L100:$M100)),) -> 0 | AC100: =IF($V100="도비",SUM(L100:M100),IF($T100="국도비","직접입력",SUM(L100:M100)-AB100)) -> 0 | AD100: =IF(SUM(L100:M100)=SUM(AB100:AC100),"OK","검토") -> OK | AF100: =IF(V100="","",IF(V100="도비","세입없음","직접입력")) | AH100: =IF(AF100="","",COUNTIF($AF$7:$AF$120,AF100)) | AI100: =IF(V100="","",IF(AND(V100="도비",AF100="세입없음"),"OK",IF(AND(V100<>"도비",AF100<>""),"OK","@@"))) | AK100: {=IF(C100="","",INDEX(구분표!$I$2:$I$313, MATCH(1,(구분표!$E$2:$E$313='17년일출'!B100)*(구분표!$F$2:$F$313='17년일출'!C100)*(구분표!$G$2:$G$313='17년일출'!A100),0)))}
...

Sheet 17년특입
A1: 2017년도 경기도 특별회계 세입 예산 조정(안)
A2: □ 세입예산 | V2: 세입=세출 | AA2: 세입=세출
Q3: (단위 : 천원) | V3: =IF(V6='17년일출'!W6,"OK","@@") -> @@ | X3: =IF(COUNTIF(X6:X39,"검토")>0,"@@","OK") -> OK | AA3: =IF(AA6='17년일출'!AB6,"OK","@@") -> OK | AC3: =IF(COUNTIF(AC6:AC39,"검토")>0,"@@","OK") -> OK
A4: 위원회명 | B4: 실국명 | C4: 부서명 | D4: 편성 구분 | E4: 예산안 페이지 | F4: 세부사업명 및 부기명 | G4: 예산안 (가) | H4: 상임위 예산안 조정액(나) | J4: 상임위 조정 예산안 (다=가+나) | K4: 예결위 예산안 조정액(라) | M4: 예결위 조정 예산안 (마=가+라) | N4: 동의 대상 | O4: 상임위 변경사유 (심의 참고자료) | P4: 비고 (상임위 부대의견) | Q4: 비고 (부대의견) | S4: 국도비 등 여부 | U4: 재원 | V4: 상임위 재원별 증감액 | Z4: 재원 | AA4: 예결위 재원별 증감액 | AE4: 세입번호 | AG4: 실국부서 코드 | AI4: 추가 내시 등 | AK4: 상임위 세입 검증 | AO4: 예결위 세입 검증
H5: 감액 | I5: 증액 | K5: 감액 | L5: 증액 | V5: 국비 등 | W5: 도비 | X5: 검증 | AA5: 국비 등 | AB5: 도비 | AC5: 검증 | AK5: 국비 증감액 | AL5: 건수 | AM5: 검증 | AO5: 국비 증감액 | AP5: 건수 | AQ5: 검증
A6: 합 계 | G6: =SUBTOTAL(9,G7:G39)/2 -> 0 | H6: =SUBTOTAL(9,H7:H39)/2 -> 0 | I6: =SUBTOTAL(9,I7:I39)/2 -> 0 | J6: =SUBTOTAL(9,J7:J39)/2 -> 0 | K6: =SUBTOTAL(9,K7:K39)/2 -> 0 | L6: =SUBTOTAL(9,L7:L39)/2 -> 0 | M6: =SUBTOTAL(9,M7:M39)/2 -> 0 | N6: =SUBTOTAL(9,N7:N39)/2 -> 0 | Q6: =SUBTOTAL(9,Q7:Q39)/2 -> 0 | V6: =SUBTOTAL(9,V7:V39) -> 0 | W6: =SUBTOTAL(9,W7:W39) -> 0 | X6: =IF(SUM($H6:$I6)=SUM($V6:$W6),"OK","검토") -> OK | AA6: =SUBTOTAL(9,AA7:AA39) -> 0 | AB6: =SUBTOTAL(9,AB7:AB39) -> 0 | AC6: =IF(SUM($H6:$I6)=SUM($V6:$W6),"OK","검토") -> OK | AK6: =SUBTOTAL(9,AK7:AK39) -> 0 | AL6: =SUBTOTAL(9,AL7:AL39) -> 0 | AM6: =IF(COUNTIF(AM7:AM39,"@@")>0,"@@","OK") -> OK | AO6: =SUBTOTAL(9,AO7:AO39) -> 0 | AP6: =SUBTOTAL(9,AP7:AP39) -> 0 | AQ6: =IF(COUNTIF(AQ7:AQ39,"@@")>0,"@@","OK") -> OK
A7: ( 특별회계) | G7: =SUM(G8:G17) -> 0 | H7: =SUM(H8:H17) -> 0 | I7: =SUM(I8:I17) -> 0 | J7: =SUM(J8:J17) -> 0 | K7: =SUM(K8:K17) -> 0 | L7: =SUM(L8:L17) -> 0 | M7: =SUM(M8:M17) -> 0 | V7: =IF($U7<>"도비",IF($S7="국도비","직접입력",SUM($H7:$I7)),) -> 0 | W7: =IF($U7="도비",SUM($H7:$I7),IF($S7="국도비","직접입력",SUM($H7:$I7)-$V7)) -> 0 | X7: =IF(SUM($H7:$I7)=SUM($V7:$W7),"OK","검토") -> OK | AA7: =IF($U7<>"도비",IF($S7="국도비","직접입력",SUM($K7:$L7)),) -> 0 | AB7: =IF($U7="도비",SUM(K7:L7),IF($S7="국도비","직접입력",SUM(K7:L7)-AA7)) -> 0 | AC7: =IF(SUM(K7:L7)=SUM(AA7:AB7),"OK","검토") -> OK | AE7: =IF(AG7="","",IF(U7="도비","세입없음",CONCATENATE(AG7,"-",COUNTIF($AG$7:AG7,AG7)))) | AG7: {=IF(C7="","",INDEX(구분표!$I$2:$I$313, MATCH(1,(구분표!$E$2:$E$313='17년특입'!B7)*(구분표!$F$2:$F$313='17년특입'!C7)*(구분표!$G$2:$G$313='17년특입'!A7),0)))} | AK7: =IF(AE7="",0,SUMIFS('17년일출'!$W$6:$W$120,'17년일출'!$AF$6:$AF$120,'17년특입'!$AE7)) -> 0 | AL7: =IF(AE7="","",COUNTIFS('17년일출'!$AF$6:$AF$120,'17년특입'!AE7)) | AM7: =IF(V7=AK7,"OK","@@") -> OK | AO7: =IF(AE7="",0,SUMIFS('17년일출'!$AB$6:$AB$120,'17년일출'!$AF$6:$AF$120,'17년특입'!$AE7)) -> 0 | AP7: =IF(AE7="","",COUNTIFS('17년일출'!$AF$6:$AF$120,AE7)) | AQ7: =IF(AA7=AO7,"OK","@@") -> OK
A8: =IFERROR(VLOOKUP($C8,구분표!$A$2:$C$313,2,FALSE),"") | B8: =IFERROR(VLOOKUP($C8,구분표!$A$2:$C$313,3,FALSE),"") | D8: 본예산 | J8: =SUM(G8:I8) -> 0 | M8: =SUM(G8,K8,L8) -> 0 | N8: =IF(AND((J8=0),(M8>0)),"O",IF(AND((H8<0),(J8-M8<0)),"O","X")) -> X | V8: =IF($U8<>"도비",IF($S8="국도비","직접입력",SUM($H8:$I8)),) -> 0 | W8: =IF($U8="도비",SUM($H8:$I8),IF($S8="국도비","직접입력",SUM($H8:$I8)-$V8)) -> 0 | X8: =IF(SUM($H8:$I8)=SUM($V8:$W8),"OK","검토") -> OK | AA8: =IF($U8<>"도비",IF($S8="국도비","직접입력",SUM($K8:$L8)),) -> 0 | AB8: =IF($U8="도비",SUM(K8:L8),IF($S8="국도비","직접입력",SUM(K8:L8)-AA8)) -> 0 | AC8: =IF(SUM(K8:L8)=SUM(AA8:AB8),"OK","검토") -> OK | AE8: =IF(AG8="","",IF(U8="도비","세입없음",CONCATENATE(AG8,"-",COUNTIF($AG$7:AG8,AG8)))) | AG8: {=IF(C8="","",INDEX(구분표!$I$2:$I$313, MATCH(1,(구분표!$E$2:$E$313='17년특입'!B8)*(구분표!$F$2:$F$313='17년특입'!C8)*(구분표!$G$2:$G$313='17년특입'!A8),0)))} | AK8: =IF(AE8="",0,SUMIFS('17년일출'!$W$6:$W$120,'17년일출'!$AF$6:$AF$120,'17년특입'!$AE8)) -> 0 | AL8: =IF(AE8="","",COUNTIFS('17년일출'!$AF$6:$AF$120,'17년특입'!AE8)) | AM8: =IF(V8=AK8,"OK","@@") -> OK | AO8: =IF(AE8="",0,SUMIFS('17년일출'!$AB$6:$AB$120,'17년일출'!$AF$6:$AF$120,'17년특입'!$AE8)) -> 0 | AP8: =IF(AE8="","",COUNTIFS('17년일출'!$AF$6:$AF$120,AE8)) | AQ8: =IF(AA8=AO8,"OK","@@") -> OK
A9: =IFERROR(VLOOKUP($C9,구분표!$A$2:$C$313,2,FALSE),"") | B9: =IFERROR(VLOOKUP($C9,구분표!$A$2:$C$313,3,FALSE),"") | D9: 신규 | J9: =SUM(G9:I9) -> 0 | M9: =SUM(G9,K9,L9) -> 0 | N9: =IF(AND((J9=0),(M9>0)),"O",IF(AND((H9<0),(J9-M9<0)),"O","X")) -> X | V9: =IF($U9<>"도비",IF($S9="국도비","직접입력",SUM($H9:$I9)),) -> 0 | W9: =IF($U9="도비",SUM($H9:$I9),IF($S9="국도비","직접입력",SUM($H9:$I9)-$V9)) -> 0 | X9: =IF(SUM($H9:$I9)=SUM($V9:$W9),"OK","검토") -> OK | AA9: =IF($U9<>"도비",IF($S9="국도비","직접입력",SUM($K9:$L9)),) -> 0 | AB9: =IF($U9="도비",SUM(K9:L9),IF($S9="국도비","직접입력",SUM(K9:L9)-AA9)) -> 0 | AC9: =IF(SUM(K9:L9)=SUM(AA9:AB9),"OK","검토") -> OK | AE9: =IF(AG9="","",IF(U9="도비","세입없음",CONCATENATE(AG9,"-",COUNTIF($AG$7:AG9,AG9)))) | AG9: {=IF(C9="","",INDEX(구분표!$I$2:$I$313, MATCH(1,(구분표!$E$2:$E$313='17년특입'!B9)*(구분표!$F$2:$F$313='17년특입'!C9)*(구분표!$G$2:$G$313='17년특입'!A9),0)))} | AK9: =IF(AE9="",0,SUMIFS('17년일출'!$W$6:$W$120,'17년일출'!$AF$6:$AF$120,'17년특입'!$AE9)) -> 0 | AL9: =IF(AE9="","",COUNTIFS('17년일출'!$AF$6:$AF$120,'17년특입'!AE9)) | AM9: =IF(V9=AK9,"OK","@@") -> OK | AO9: =IF(AE9="",0,SUMIFS('17년일출'!$AB$6:$AB$120,'17년일출'!$AF$6:$AF$120,'17년특입'!$AE9)) -> 0 | AP9: =IF(AE9="","",COUNTIFS('17년일출'!$AF$6:$AF$120,AE9)) | AQ9: =IF(AA9=AO9,"OK","@@") -> OK
A10: =IFERROR(VLOOKUP($C10,구분표!$A$2:$C$313,2,FALSE),"") | B10: =IFERROR(VLOOKUP($C10,구분표!$A$2:$C$313,3,FALSE),"") | J10: =SUM(G10:I10) -> 0 | M10: =SUM(G10,K10,L10) -> 0 | N10: =IF(AND((J10=0),(M10>0)),"O",IF(AND((H10<0),(J10-M10<0)),"O","X")) -> X | V10: =IF($U10<>"도비",IF($S10="국도비","직접입력",SUM($H10:$I10)),) -> 0 | W10: =IF($U10="도비",SUM($H10:$I10),IF($S10="국도비","직접입력",SUM($H10:$I10)-$V10)) -> 0 | X10: =IF(SUM($H10:$I10)=SUM($V10:$W10),"OK","검토") -> OK | AA10: =IF($U10<>"도비",IF($S10="국도비","직접입력",SUM($K10:$L10)),) -> 0 | AB10: =IF($U10="도비",SUM(K10:L10),IF($S10="국도비","직접입력",SUM(K10:L10)-AA10)) -> 0 | AC10: =IF(SUM(K10:L10)=SUM(AA10:AB10),"OK","검토") -> OK | AE10: =IF(AG10="","",IF(U10="도비","세입없음",CONCATENATE(AG10,"-",COUNTIF($AG$7:AG10,AG10)))) | AG10: {=IF(C10="","",INDEX(구분표!$I$2:$I$313, MATCH(1,(구분표!$E$2:$E$313='17년특입'!B10)*(구분표!$F$2:$F$313='17년특입'!C10)*(구분표!$G$2:$G$313='17년특입'!A10),0)))} | AK10: =IF(AE10="",0,SUMIFS('17년일출'!$W$6:$W$120,'17년일출'!$AF$6:$AF$120,'17년특입'!$AE10)) -> 0 | AL10: =IF(AE10="","",COUNTIFS('17년일출'!$AF$6:$AF$120,'17년특입'!AE10)) | AM10: =IF(V10=AK10,"OK","@@") -> OK | AO10: =IF(AE10="",0,SUMIFS('17년일출'!$AB$6:$AB$120,'17년일출'!$AF$6:$AF$120,'17년특입'!$AE10)) -> 0 | AP10: =IF(AE10="","",COUNTIFS('17년일출'!$AF$6:$AF$120,AE10)) | AQ10: =IF(AA10=AO10,"OK","@@") -> OK
A11: =IFERROR(VLOOKUP($C11,구분표!$A$2:$C$313,2,FALSE),"") | B11: =IFERROR(VLOOKUP($C11,구분표!$A$2:$C$313,3,FALSE),"") | J11: =SUM(G11:I11) -> 0 | M11: =SUM(G11,K11,L11) -> 0 | N11: =IF(AND((J11=0),(M11>0)),"O",IF(AND((H11<0),(J11-M11<0)),"O","X")) -> X | V11: =IF($U11<>"도비",IF($S11="국도비","직접입력",SUM($H11:$I11)),) -> 0 | W11: =IF($U11="도비",SUM($H11:$I11),IF($S11="국도비","직접입력",SUM($H11:$I11)-$V11)) -> 0 | X11: =IF(SUM($H11:$I11)=SUM($V11:$W11),"OK","검토") -> OK | AA11: =IF($U11<>"도비",IF($S11="국도비","직접입력",SUM($K11:$L11)),) -> 0 | AB11: =IF($U11="도비",SUM(K11:L11),IF($S11="국도비","직접입력",SUM(K11:L11)-AA11)) -> 0 | AC11: =IF(SUM(K11:L11)=SUM(AA11:AB11),"OK","검토") -> OK | AE11: =IF(AG11="","",IF(U11="도비","세입없음",CONCATENATE(AG11,"-",COUNTIF($AG$7:AG11,AG11)))) | AG11: {=IF(C11="","",INDEX(구분표!$I$2:$I$313, MATCH(1,(구분표!$E$2:$E$313='17년특입'!B11)*(구분표!$F$2:$F$313='17년특입'!C11)*(구분표!$G$2:$G$313='17년특입'!A11),0)))} | AK11: =IF(AE11="",0,SUMIFS('17년일출'!$W$6:$W$120,'17년일출'!$AF$6:$AF$120,'17년특입'!$AE11)) -> 0 | AL11: =IF(AE11="","",COUNTIFS('17년일출'!$AF$6:$AF$120,'17년특입'!AE11)) | AM11: =IF(V11=AK11,"OK","@@") -> OK | AO11: =IF(AE11="",0,SUMIFS('17년일출'!$AB$6:$AB$120,'17년일출'!$AF$6:$AF$120,'17년특입'!$AE11)) -> 0 | AP11: =IF(AE11="","",COUNTIFS('17년일출'!$AF$6:$AF$120,AE11)) | AQ11: =IF(AA11=AO11,"OK","@@") -> OK
A12: =IFERROR(VLOOKUP($C12,구분표!$A$2:$C$313,2,FALSE),"") | B12: =IFERROR(VLOOKUP($C12,구분표!$A$2:$C$313,3,FALSE),"") | J12: =SUM(G12:I12) -> 0 | M12: =SUM(G12,K12,L12) -> 0 | N12: =IF(AND((J12=0),(M12>0)),"O",IF(AND((H12<0),(J12-M12<0)),"O","X")) -> X | V12: =IF($U12<>"도비",IF($S12="국도비","직접입력",SUM($H12:$I12)),) -> 0 | W12: =IF($U12="도비",SUM($H12:$I12),IF($S12="국도비","직접입력",SUM($H12:$I12)-$V12)) -> 0 | X12: =IF(SUM($H12:$I12)=SUM($V12:$W12),"OK","검토") -> OK | AA12: =IF($U12<>"도비",IF($S12="국도비","직접입력",SUM($K12:$L12)),) -> 0 | AB12: =IF($U12="도비",SUM(K12:L12),IF($S12="국도비","직접입력",SUM(K12:L12)-AA12)) -> 0 | AC12: =IF(SUM(K12:L12)=SUM(AA12:AB12),"OK","검토") -> OK | AE12: =IF(AG12="","",IF(U12="도비","세입없음",CONCATENATE(AG12,"-",COUNTIF($AG$7:AG12,AG12)))) | AG12: {=IF(C12="","",INDEX(구분표!$I$2:$I$313, MATCH(1,(구분표!$E$2:$E$313='17년특입'!B12)*(구분표!$F$2:$F$313='17년특입'!C12)*(구분표!$G$2:$G$313='17년특입'!A12),0)))} | AK12: =IF(AE12="",0,SUMIFS('17년일출'!$W$6:$W$120,'17년일출'!$AF$6:$AF$120,'17년특입'!$AE12)) -> 0 | AL12: =IF(AE12="","",COUNTIFS('17년일출'!$AF$6:$AF$120,'17년특입'!AE12)) | AM12: =IF(V12=AK12,"OK","@@") -> OK | AO12: =IF(AE12="",0,SUMIFS('17년일출'!$AB$6:$AB$120,'17년일출'!$AF$6:$AF$120,'17년특입'!$AE12)) -> 0 | AP12: =IF(AE12="","",COUNTIFS('17년일출'!$AF$6:$AF$120,AE12)) | AQ12: =IF(AA12=AO12,"OK","@@") -> OK
A13: =IFERROR(VLOOKUP($C13,구분표!$A$2:$C$313,2,FALSE),"") | B13: =IFERROR(VLOOKUP($C13,구분표!$A$2:$C$313,3,FALSE),"") | J13: =SUM(G13:I13) -> 0 | M13: =SUM(G13,K13,L13) -> 0 | N13: =IF(AND((J13=0),(M13>0)),"O",IF(AND((H13<0),(J13-M13<0)),"O","X")) -> X | V13: =IF($U13<>"도비",IF($S13="국도비","직접입력",SUM($H13:$I13)),) -> 0 | W13: =IF($U13="도비",SUM($H13:$I13),IF($S13="국도비","직접입력",SUM($H13:$I13)-$V13)) -> 0 | X13: =IF(SUM($H13:$I13)=SUM($V13:$W13),"OK","검토") -> OK | AA13: =IF($U13<>"도비",IF($S13="국도비","직접입력",SUM($K13:$L13)),) -> 0 | AB13: =IF($U13="도비",SUM(K13:L13),IF($S13="국도비","직접입력",SUM(K13:L13)-AA13)) -> 0 | AC13: =IF(SUM(K13:L13)=SUM(AA13:AB13),"OK","검토") -> OK | AE13: =IF(AG13="","",IF(U13="도비","세입없음",CONCATENATE(AG13,"-",COUNTIF($AG$7:AG13,AG13)))) | AG13: {=IF(C13="","",INDEX(구분표!$I$2:$I$313, MATCH(1,(구분표!$E$2:$E$313='17년특입'!B13)*(구분표!$F$2:$F$313='17년특입'!C13)*(구분표!$G$2:$G$313='17년특입'!A13),0)))} | AK13: =IF(AE13="",0,SUMIFS('17년일출'!$W$6:$W$120,'17년일출'!$AF$6:$AF$120,'17년특입'!$AE13)) -> 0 | AL13: =IF(AE13="","",COUNTIFS('17년일출'!$AF$6:$AF$120,'17년특입'!AE13)) | AM13: =IF(V13=AK13,"OK","@@") -> OK | AO13: =IF(AE13="",0,SUMIFS('17년일출'!$AB$6:$AB$120,'17년일출'!$AF$6:$AF$120,'17년특입'!$AE13)) -> 0 | AP13: =IF(AE13="","",COUNTIFS('17년일출'!$AF$6:$AF$120,AE13)) | AQ13: =IF(AA13=AO13,"OK","@@") -> OK
A14: =IFERROR(VLOOKUP($C14,구분표!$A$2:$C$313,2,FALSE),"") | B14: =IFERROR(VLOOKUP($C14,구분표!$A$2:$C$313,3,FALSE),"") | J14: =SUM(G14:I14) -> 0 | M14: =SUM(G14,K14,L14) -> 0 | N14: =IF(AND((J14=0),(M14>0)),"O",IF(AND((H14<0),(J14-M14<0)),"O","X")) -> X | V14: =IF($U14<>"도비",IF($S14="국도비","직접입력",SUM($H14:$I14)),) -> 0 | W14: =IF($U14="도비",SUM($H14:$I14),IF($S14="국도비","직접입력",SUM($H14:$I14)-$V14)) -> 0 | X14: =IF(SUM($H14:$I14)=SUM($V14:$W14),"OK","검토") -> OK | AA14: =IF($U14<>"도비",IF($S14="국도비","직접입력",SUM($K14:$L14)),) -> 0 | AB14: =IF($U14="도비",SUM(K14:L14),IF($S14="국도비","직접입력",SUM(K14:L14)-AA14)) -> 0 | AC14: =IF(SUM(K14:L14)=SUM(AA14:AB14),"OK","검토") -> OK | AE14: =IF(AG14="","",IF(U14="도비","세입없음",CONCATENATE(AG14,"-",COUNTIF($AG$7:AG14,AG14)))) | AG14: {=IF(C14="","",INDEX(구분표!$I$2:$I$313, MATCH(1,(구분표!$E$2:$E$313='17년특입'!B14)*(구분표!$F$2:$F$313='17년특입'!C14)*(구분표!$G$2:$G$313='17년특입'!A14),0)))} | AK14: =IF(AE14="",0,SUMIFS('17년일출'!$W$6:$W$120,'17년일출'!$AF$6:$AF$120,'17년특입'!$AE14)) -> 0 | AL14: =IF(AE14="","",COUNTIFS('17년일출'!$AF$6:$AF$120,'17년특입'!AE14)) | AM14: =IF(V14=AK14,"OK","@@") -> OK | AO14: =IF(AE14="",0,SUMIFS('17년일출'!$AB$6:$AB$120,'17년일출'!$AF$6:$AF$120,'17년특입'!$AE14)) -> 0 | AP14: =IF(AE14="","",COUNTIFS('17년일출'!$AF$6:$AF$120,AE14)) | AQ14: =IF(AA14=AO14,"OK","@@") -> OK
A15: =IFERROR(VLOOKUP($C15,구분표!$A$2:$C$313,2,FALSE),"") | B15: =IFERROR(VLOOKUP($C15,구분표!$A$2:$C$313,3,FALSE),"") | J15: =SUM(G15:I15) -> 0 | M15: =SUM(G15,K15,L15) -> 0 | N15: =IF(AND((J15=0),(M15>0)),"O",IF(AND((H15<0),(J15-M15<0)),"O","X")) -> X | V15: =IF($U15<>"도비",IF($S15="국도비","직접입력",SUM($H15:$I15)),) -> 0 | W15: =IF($U15="도비",SUM($H15:$I15),IF($S15="국도비","직접입력",SUM($H15:$I15)-$V15)) -> 0 | X15: =IF(SUM($H15:$I15)=SUM($V15:$W15),"OK","검토") -> OK | AA15: =IF($U15<>"도비",IF($S15="국도비","직접입력",SUM($K15:$L15)),) -> 0 | AB15: =IF($U15="도비",SUM(K15:L15),IF($S15="국도비","직접입력",SUM(K15:L15)-AA15)) -> 0 | AC15: =IF(SUM(K15:L15)=SUM(AA15:AB15),"OK","검토") -> OK | AE15: =IF(AG15="","",IF(U15="도비","세입없음",CONCATENATE(AG15,"-",COUNTIF($AG$7:AG15,AG15)))) | AG15: {=IF(C15="","",INDEX(구분표!$I$2:$I$313, MATCH(1,(구분표!$E$2:$E$313='17년특입'!B15)*(구분표!$F$2:$F$313='17년특입'!C15)*(구분표!$G$2:$G$313='17년특입'!A15),0)))} | AK15: =IF(AE15="",0,SUMIFS('17년일출'!$W$6:$W$120,'17년일출'!$AF$6:$AF$120,'17년특입'!$AE15)) -> 0 | AL15: =IF(AE15="","",COUNTIFS('17년일출'!$AF$6:$AF$120,'17년특입'!AE15)) | AM15: =IF(V15=AK15,"OK","@@") -> OK | AO15: =IF(AE15="",0,SUMIFS('17년일출'!$AB$6:$AB$120,'17년일출'!$AF$6:$AF$120,'17년특입'!$AE15)) -> 0 | AP15: =IF(AE15="","",COUNTIFS('17년일출'!$AF$6:$AF$120,AE15)) | AQ15: =IF(AA15=AO15,"OK","@@") -> OK
A16: =IFERROR(VLOOKUP($C16,구분표!$A$2:$C$313,2,FALSE),"") | B16: =IFERROR(VLOOKUP($C16,구분표!$A$2:$C$313,3,FALSE),"") | J16: =SUM(G16:I16) -> 0 | M16: =SUM(G16,K16,L16) -> 0 | N16: =IF(AND((J16=0),(M16>0)),"O",IF(AND((H16<0),(J16-M16<0)),"O","X")) -> X | V16: =IF($U16<>"도비",IF($S16="국도비","직접입력",SUM($H16:$I16)),) -> 0 | W16: =IF($U16="도비",SUM($H16:$I16),IF($S16="국도비","직접입력",SUM($H16:$I16)-$V16)) -> 0 | X16: =IF(SUM($H16:$I16)=SUM($V16:$W16),"OK","검토") -> OK | AA16: =IF($U16<>"도비",IF($S16="국도비","직접입력",SUM($K16:$L16)),) -> 0 | AB16: =IF($U16="도비",SUM(K16:L16),IF($S16="국도비","직접입력",SUM(K16:L16)-AA16)) -> 0 | AC16: =IF(SUM(K16:L16)=SUM(AA16:AB16),"OK","검토") -> OK | AE16: =IF(AG16="","",IF(U16="도비","세입없음",CONCATENATE(AG16,"-",COUNTIF($AG$7:AG16,AG16)))) | AG16: {=IF(C16="","",INDEX(구분표!$I$2:$I$313, MATCH(1,(구분표!$E$2:$E$313='17년특입'!B16)*(구분표!$F$2:$F$313='17년특입'!C16)*(구분표!$G$2:$G$313='17년특입'!A16),0)))} | AK16: =IF(AE16="",0,SUMIFS('17년일출'!$W$6:$W$120,'17년일출'!$AF$6:$AF$120,'17년특입'!$AE16)) -> 0 | AL16: =IF(AE16="","",COUNTIFS('17년일출'!$AF$6:$AF$120,'17년특입'!AE16)) | AM16: =IF(V16=AK16,"OK","@@") -> OK | AO16: =IF(AE16="",0,SUMIFS('17년일출'!$AB$6:$AB$120,'17년일출'!$AF$6:$AF$120,'17년특입'!$AE16)) -> 0 | AP16: =IF(AE16="","",COUNTIFS('17년일출'!$AF$6:$AF$120,AE16)) | AQ16: =IF(AA16=AO16,"OK","@@") -> OK
A17: =IFERROR(VLOOKUP($C17,구분표!$A$2:$C$313,2,FALSE),"") | B17: =IFERROR(VLOOKUP($C17,구분표!$A$2:$C$313,3,FALSE),"") | J17: =SUM(G17:I17) -> 0 | M17: =SUM(G17,K17,L17) -> 0 | N17: =IF(AND((J17=0),(M17>0)),"O",IF(AND((H17<0),(J17-M17<0)),"O","X")) -> X | V17: =IF($U17<>"도비",IF($S17="국도비","직접입력",SUM($H17:$I17)),) -> 0 | W17: =IF($U17="도비",SUM($H17:$I17),IF($S17="국도비","직접입력",SUM($H17:$I17)-$V17)) -> 0 | X17: =IF(SUM($H17:$I17)=SUM($V17:$W17),"OK","검토") -> OK | AA17: =IF($U17<>"도비",IF($S17="국도비","직접입력",SUM($K17:$L17)),) -> 0 | AB17: =IF($U17="도비",SUM(K17:L17),IF($S17="국도비","직접입력",SUM(K17:L17)-AA17)) -> 0 | AC17: =IF(SUM(K17:L17)=SUM(AA17:AB17),"OK","검토") -> OK | AE17: =IF(AG17="","",IF(U17="도비","세입없음",CONCATENATE(AG17,"-",COUNTIF($AG$7:AG17,AG17)))) | AG17: {=IF(C17="","",INDEX(구분표!$I$2:$I$313, MATCH(1,(구분표!$E$2:$E$313='17년특입'!B17)*(구분표!$F$2:$F$313='17년특입'!C17)*(구분표!$G$2:$G$313='17년특입'!A17),0)))} | AK17: =IF(AE17="",0,SUMIFS('17년일출'!$W$6:$W$120,'17년일출'!$AF$6:$AF$120,'17년특입'!$AE17)) -> 0 | AL17: =IF(AE17="","",COUNTIFS('17년일출'!$AF$6:$AF$120,'17년특입'!AE17)) | AM17: =IF(V17=AK17,"OK","@@") -> OK | AO17: =IF(AE17="",0,SUMIFS('17년일출'!$AB$6:$AB$120,'17년일출'!$AF$6:$AF$120,'17년특입'!$AE17)) -> 0 | AP17: =IF(AE17="","",COUNTIFS('17년일출'!$AF$6:$AF$120,AE17)) | AQ17: =IF(AA17=AO17,"OK","@@") -> OK
A18: ( 특별회계) | G18: =SUM(G19:G28) -> 0 | H18: =SUM(H19:H28) -> 0 | I18: =SUM(I19:I28) -> 0 | J18: =SUM(J19:J28) -> 0 | K18: =SUM(K19:K28) -> 0 | L18: =SUM(L19:L28) -> 0 | M18: =SUM(M19:M28) -> 0 | V18: =IF($U18<>"도비",IF($S18="국도비","직접입력",SUM($H18:$I18)),) -> 0 | W18: =IF($U18="도비",SUM($H18:$I18),IF($S18="국도비","직접입력",SUM($H18:$I18)-$V18)) -> 0 | X18: =IF(SUM($H18:$I18)=SUM($V18:$W18),"OK","검토") -> OK | AA18: =IF($U18<>"도비",IF($S18="국도비","직접입력",SUM($K18:$L18)),) -> 0 | AB18: =IF($U18="도비",SUM(K18:L18),IF($S18="국도비","직접입력",SUM(K18:L18)-AA18)) -> 0 | AC18: =IF(SUM(K18:L18)=SUM(AA18:AB18),"OK","검토") -> OK | AE18: =IF(AG18="","",IF(U18="도비","세입없음",CONCATENATE(AG18,"-",COUNTIF($AG$7:AG18,AG18)))) | AG18: {=IF(C18="","",INDEX(구분표!$I$2:$I$313, MATCH(1,(구분표!$E$2:$E$313='17년특입'!B18)*(구분표!$F$2:$F$313='17년특입'!C18)*(구분표!$G$2:$G$313='17년특입'!A18),0)))} | AK18: =IF(AE18="",0,SUMIFS('17년일출'!$W$6:$W$120,'17년일출'!$AF$6:$AF$120,'17년특입'!$AE18)) -> 0 | AL18: =IF(AE18="","",COUNTIFS('17년일출'!$AF$6:$AF$120,'17년특입'!AE18)) | AM18: =IF(V18=AK18,"OK","@@") -> OK | AO18: =IF(AE18="",0,SUMIFS('17년일출'!$AB$6:$AB$120,'17년일출'!$AF$6:$AF$120,'17년특입'!$AE18)) -> 0 | AP18: =IF(AE18="","",COUNTIFS('17년일출'!$AF$6:$AF$120,AE18)) | AQ18: =IF(AA18=AO18,"OK","@@") -> OK
A19: =IFERROR(VLOOKUP($C19,구분표!$A$2:$C$313,2,FALSE),"") | B19: =IFERROR(VLOOKUP($C19,구분표!$A$2:$C$313,3,FALSE),"") | J19: =SUM(G19:I19) -> 0 | M19: =SUM(G19,K19,L19) -> 0 | N19: =IF(AND((J19=0),(M19>0)),"O",IF(AND((H19<0),(J19-M19<0)),"O","X")) -> X | V19: =IF($U19<>"도비",IF($S19="국도비","직접입력",SUM($H19:$I19)),) -> 0 | W19: =IF($U19="도비",SUM($H19:$I19),IF($S19="국도비","직접입력",SUM($H19:$I19)-$V19)) -> 0 | X19: =IF(SUM($H19:$I19)=SUM($V19:$W19),"OK","검토") -> OK | AA19: =IF($U19<>"도비",IF($S19="국도비","직접입력",SUM($K19:$L19)),) -> 0 | AB19: =IF($U19="도비",SUM(K19:L19),IF($S19="국도비","직접입력",SUM(K19:L19)-AA19)) -> 0 | AC19: =IF(SUM(K19:L19)=SUM(AA19:AB19),"OK","검토") -> OK | AE19: =IF(AG19="","",IF(U19="도비","세입없음",CONCATENATE(AG19,"-",COUNTIF($AG$7:AG19,AG19)))) | AG19: {=IF(C19="","",INDEX(구분표!$I$2:$I$313, MATCH(1,(구분표!$E$2:$E$313='17년특입'!B19)*(구분표!$F$2:$F$313='17년특입'!C19)*(구분표!$G$2:$G$313='17년특입'!A19),0)))} | AK19: =IF(AE19="",0,SUMIFS('17년일출'!$W$6:$W$120,'17년일출'!$AF$6:$AF$120,'17년특입'!$AE19)) -> 0 | AL19: =IF(AE19="","",COUNTIFS('17년일출'!$AF$6:$AF$120,'17년특입'!AE19)) | AM19: =IF(V19=AK19,"OK","@@") -> OK | AO19: =IF(AE19="",0,SUMIFS('17년일출'!$AB$6:$AB$120,'17년일출'!$AF$6:$AF$120,'17년특입'!$AE19)) -> 0 | AP19: =IF(AE19="","",COUNTIFS('17년일출'!$AF$6:$AF$120,AE19)) | AQ19: =IF(AA19=AO19,"OK","@@") -> OK
A20: =IFERROR(VLOOKUP($C20,구분표!$A$2:$C$313,2,FALSE),"") | B20: =IFERROR(VLOOKUP($C20,구분표!$A$2:$C$313,3,FALSE),"") | J20: =SUM(G20:I20) -> 0 | M20: =SUM(G20,K20,L20) -> 0 | N20: =IF(AND((J20=0),(M20>0)),"O",IF(AND((H20<0),(J20-M20<0)),"O","X")) -> X | V20: =IF($U20<>"도비",IF($S20="국도비","직접입력",SUM($H20:$I20)),) -> 0 | W20: =IF($U20="도비",SUM($H20:$I20),IF($S20="국도비","직접입력",SUM($H20:$I20)-$V20)) -> 0 | X20: =IF(SUM($H20:$I20)=SUM($V20:$W20),"OK","검토") -> OK | AA20: =IF($U20<>"도비",IF($S20="국도비","직접입력",SUM($K20:$L20)),) -> 0 | AB20: =IF($U20="도비",SUM(K20:L20),IF($S20="국도비","직접입력",SUM(K20:L20)-AA20)) -> 0 | AC20: =IF(SUM(K20:L20)=SUM(AA20:AB20),"OK","검토") -> OK | AE20: =IF(AG20="","",IF(U20="도비","세입없음",CONCATENATE(AG20,"-",COUNTIF($AG$7:AG20,AG20)))) | AG20: {=IF(C20="","",INDEX(구분표!$I$2:$I$313, MATCH(1,(구분표!$E$2:$E$313='17년특입'!B20)*(구분표!$F$2:$F$313='17년특입'!C20)*(구분표!$G$2:$G$313='17년특입'!A20),0)))} | AK20: =IF(AE20="",0,SUMIFS('17년일출'!$W$6:$W$120,'17년일출'!$AF$6:$AF$120,'17년특입'!$AE20)) -> 0 | AL20: =IF(AE20="","",COUNTIFS('17년일출'!$AF$6:$AF$120,'17년특입'!AE20)) | AM20: =IF(V20=AK20,"OK","@@") -> OK | AO20: =IF(AE20="",0,SUMIFS('17년일출'!$AB$6:$AB$120,'17년일출'!$AF$6:$AF$120,'17년특입'!$AE20)) -> 0 | AP20: =IF(AE20="","",COUNTIFS('17년일출'!$AF$6:$AF$120,AE20)) | AQ20: =IF(AA20=AO20,"OK","@@") -> OK
A21: =IFERROR(VLOOKUP($C21,구분표!$A$2:$C$313,2,FALSE),"") | B21: =IFERROR(VLOOKUP($C21,구분표!$A$2:$C$313,3,FALSE),"") | J21: =SUM(G21:I21) -> 0 | M21: =SUM(G21,K21,L21) -> 0 | N21: =IF(AND((J21=0),(M21>0)),"O",IF(AND((H21<0),(J21-M21<0)),"O","X")) -> X | V21: =IF($U21<>"도비",IF($S21="국도비","직접입력",SUM($H21:$I21)),) -> 0 | W21: =IF($U21="도비",SUM($H21:$I21),IF($S21="국도비","직접입력",SUM($H21:$I21)-$V21)) -> 0 | X21: =IF(SUM($H21:$I21)=SUM($V21:$W21),"OK","검토") -> OK | AA21: =IF($U21<>"도비",IF($S21="국도비","직접입력",SUM($K21:$L21)),) -> 0 | AB21: =IF($U21="도비",SUM(K21:L21),IF($S21="국도비","직접입력",SUM(K21:L21)-AA21)) -> 0 | AC21: =IF(SUM(K21:L21)=SUM(AA21:AB21),"OK","검토") -> OK | AE21: =IF(AG21="","",IF(U21="도비","세입없음",CONCATENATE(AG21,"-",COUNTIF($AG$7:AG21,AG21)))) | AG21: {=IF(C21="","",INDEX(구분표!$I$2:$I$313, MATCH(1,(구분표!$E$2:$E$313='17년특입'!B21)*(구분표!$F$2:$F$313='17년특입'!C21)*(구분표!$G$2:$G$313='17년특입'!A21),0)))} | AK21: =IF(AE21="",0,SUMIFS('17년일출'!$W$6:$W$120,'17년일출'!$AF$6:$AF$120,'17년특입'!$AE21)) -> 0 | AL21: =IF(AE21="","",COUNTIFS('17년일출'!$AF$6:$AF$120,'17년특입'!AE21)) | AM21: =IF(V21=AK21,"OK","@@") -> OK | AO21: =IF(AE21="",0,SUMIFS('17년일출'!$AB$6:$AB$120,'17년일출'!$AF$6:$AF$120,'17년특입'!$AE21)) -> 0 | AP21: =IF(AE21="","",COUNTIFS('17년일출'!$AF$6:$AF$120,AE21)) | AQ21: =IF(AA21=AO21,"OK","@@") -> OK
A22: =IFERROR(VLOOKUP($C22,구분표!$A$2:$C$313,2,FALSE),"") | B22: =IFERROR(VLOOKUP($C22,구분표!$A$2:$C$313,3,FALSE),"") | J22: =SUM(G22:I22) -> 0 | M22: =SUM(G22,K22,L22) -> 0 | N22: =IF(AND((J22=0),(M22>0)),"O",IF(AND((H22<0),(J22-M22<0)),"O","X")) -> X | V22: =IF($U22<>"도비",IF($S22="국도비","직접입력",SUM($H22:$I22)),) -> 0 | W22: =IF($U22="도비",SUM($H22:$I22),IF($S22="국도비","직접입력",SUM($H22:$I22)-$V22)) -> 0 | X22: =IF(SUM($H22:$I22)=SUM($V22:$W22),"OK","검토") -> OK | AA22: =IF($U22<>"도비",IF($S22="국도비","직접입력",SUM($K22:$L22)),) -> 0 | AB22: =IF($U22="도비",SUM(K22:L22),IF($S22="국도비","직접입력",SUM(K22:L22)-AA22)) -> 0 | AC22: =IF(SUM(K22:L22)=SUM(AA22:AB22),"OK","검토") -> OK | AE22: =IF(AG22="","",IF(U22="도비","세입없음",CONCATENATE(AG22,"-",COUNTIF($AG$7:AG22,AG22)))) | AG22: {=IF(C22="","",INDEX(구분표!$I$2:$I$313, MATCH(1,(구분표!$E$2:$E$313='17년특입'!B22)*(구분표!$F$2:$F$313='17년특입'!C22)*(구분표!$G$2:$G$313='17년특입'!A22),0)))} | AK22: =IF(AE22="",0,SUMIFS('17년일출'!$W$6:$W$120,'17년일출'!$AF$6:$AF$120,'17년특입'!$AE22)) -> 0 | AL22: =IF(AE22="","",COUNTIFS('17년일출'!$AF$6:$AF$120,'17년특입'!AE22)) | AM22: =IF(V22=AK22,"OK","@@") -> OK | AO22: =IF(AE22="",0,SUMIFS('17년일출'!$AB$6:$AB$120,'17년일출'!$AF$6:$AF$120,'17년특입'!$AE22)) -> 0 | AP22: =IF(AE22="","",COUNTIFS('17년일출'!$AF$6:$AF$120,AE22)) | AQ22: =IF(AA22=AO22,"OK","@@") -> OK
A23: =IFERROR(VLOOKUP($C23,구분표!$A$2:$C$313,2,FALSE),"") | B23: =IFERROR(VLOOKUP($C23,구분표!$A$2:$C$313,3,FALSE),"") | J23: =SUM(G23:I23) -> 0 | M23: =SUM(G23,K23,L23) -> 0 | N23: =IF(AND((J23=0),(M23>0)),"O",IF(AND((H23<0),(J23-M23<0)),"O","X")) -> X | V23: =IF($U23<>"도비",IF($S23="국도비","직접입력",SUM($H23:$I23)),) -> 0 | W23: =IF($U23="도비",SUM($H23:$I23),IF($S23="국도비","직접입력",SUM($H23:$I23)-$V23)) -> 0 | X23: =IF(SUM($H23:$I23)=SUM($V23:$W23),"OK","검토") -> OK | AA23: =IF($U23<>"도비",IF($S23="국도비","직접입력",SUM($K23:$L23)),) -> 0 | AB23: =IF($U23="도비",SUM(K23:L23),IF($S23="국도비","직접입력",SUM(K23:L23)-AA23)) -> 0 | AC23: =IF(SUM(K23:L23)=SUM(AA23:AB23),"OK","검토") -> OK | AE23: =IF(AG23="","",IF(U23="도비","세입없음",CONCATENATE(AG23,"-",COUNTIF($AG$7:AG23,AG23)))) | AG23: {=IF(C23="","",INDEX(구분표!$I$2:$I$313, MATCH(1,(구분표!$E$2:$E$313='17년특입'!B23)*(구분표!$F$2:$F$313='17년특입'!C23)*(구분표!$G$2:$G$313='17년특입'!A23),0)))} | AK23: =IF(AE23="",0,SUMIFS('17년일출'!$W$6:$W$120,'17년일출'!$AF$6:$AF$120,'17년특입'!$AE23)) -> 0 | AL23: =IF(AE23="","",COUNTIFS('17년일출'!$AF$6:$AF$120,'17년특입'!AE23)) | AM23: =IF(V23=AK23,"OK","@@") -> OK | AO23: =IF(AE23="",0,SUMIFS('17년일출'!$AB$6:$AB$120,'17년일출'!$AF$6:$AF$120,'17년특입'!$AE23)) -> 0 | AP23: =IF(AE23="","",COUNTIFS('17년일출'!$AF$6:$AF$120,AE23)) | AQ23: =IF(AA23=AO23,"OK","@@") -> OK
A24: =IFERROR(VLOOKUP($C24,구분표!$A$2:$C$313,2,FALSE),"") | B24: =IFERROR(VLOOKUP($C24,구분표!$A$2:$C$313,3,FALSE),"") | J24: =SUM(G24:I24) -> 0 | M24: =SUM(G24,K24,L24) -> 0 | N24: =IF(AND((J24=0),(M24>0)),"O",IF(AND((H24<0),(J24-M24<0)),"O","X")) -> X | V24: =IF($U24<>"도비",IF($S24="국도비","직접입력",SUM($H24:$I24)),) -> 0 | W24: =IF($U24="도비",SUM($H24:$I24),IF($S24="국도비","직접입력",SUM($H24:$I24)-$V24)) -> 0 | X24: =IF(SUM($H24:$I24)=SUM($V24:$W24),"OK","검토") -> OK | AA24: =IF($U24<>"도비",IF($S24="국도비","직접입력",SUM($K24:$L24)),) -> 0 | AB24: =IF($U24="도비",SUM(K24:L24),IF($S24="국도비","직접입력",SUM(K24:L24)-AA24)) -> 0 | AC24: =IF(SUM(K24:L24)=SUM(AA24:AB24),"OK","검토") -> OK | AE24: =IF(AG24="","",IF(U24="도비","세입없음",CONCATENATE(AG24,"-",COUNTIF($AG$7:AG24,AG24)))) | AG24: {=IF(C24="","",INDEX(구분표!$I$2:$I$313, MATCH(1,(구분표!$E$2:$E$313='17년특입'!B24)*(구분표!$F$2:$F$313='17년특입'!C24)*(구분표!$G$2:$G$313='17년특입'!A24),0)))} | AK24: =IF(AE24="",0,SUMIFS('17년일출'!$W$6:$W$120,'17년일출'!$AF$6:$AF$120,'17년특입'!$AE24)) -> 0 | AL24: =IF(AE24="","",COUNTIFS('17년일출'!$AF$6:$AF$120,'17년특입'!AE24)) | AM24: =IF(V24=AK24,"OK","@@") -> OK | AO24: =IF(AE24="",0,SUMIFS('17년일출'!$AB$6:$AB$120,'17년일출'!$AF$6:$AF$120,'17년특입'!$AE24)) -> 0 | AP24: =IF(AE24="","",COUNTIFS('17년일출'!$AF$6:$AF$120,AE24)) | AQ24: =IF(AA24=AO24,"OK","@@") -> OK
A25: =IFERROR(VLOOKUP($C25,구분표!$A$2:$C$313,2,FALSE),"") | B25: =IFERROR(VLOOKUP($C25,구분표!$A$2:$C$313,3,FALSE),"") | J25: =SUM(G25:I25) -> 0 | M25: =SUM(G25,K25,L25) -> 0 | N25: =IF(AND((J25=0),(M25>0)),"O",IF(AND((H25<0),(J25-M25<0)),"O","X")) -> X | V25: =IF($U25<>"도비",IF($S25="국도비","직접입력",SUM($H25:$I25)),) -> 0 | W25: =IF($U25="도비",SUM($H25:$I25),IF($S25="국도비","직접입력",SUM($H25:$I25)-$V25)) -> 0 | X25: =IF(SUM($H25:$I25)=SUM($V25:$W25),"OK","검토") -> OK | AA25: =IF($U25<>"도비",IF($S25="국도비","직접입력",SUM($K25:$L25)),) -> 0 | AB25: =IF($U25="도비",SUM(K25:L25),IF($S25="국도비","직접입력",SUM(K25:L25)-AA25)) -> 0 | AC25: =IF(SUM(K25:L25)=SUM(AA25:AB25),"OK","검토") -> OK | AE25: =IF(AG25="","",IF(U25="도비","세입없음",CONCATENATE(AG25,"-",COUNTIF($AG$7:AG25,AG25)))) | AG25: {=IF(C25="","",INDEX(구분표!$I$2:$I$313, MATCH(1,(구분표!$E$2:$E$313='17년특입'!B25)*(구분표!$F$2:$F$313='17년특입'!C25)*(구분표!$G$2:$G$313='17년특입'!A25),0)))} | AK25: =IF(AE25="",0,SUMIFS('17년일출'!$W$6:$W$120,'17년일출'!$AF$6:$AF$120,'17년특입'!$AE25)) -> 0 | AL25: =IF(AE25="","",COUNTIFS('17년일출'!$AF$6:$AF$120,'17년특입'!AE25)) | AM25: =IF(V25=AK25,"OK","@@") -> OK | AO25: =IF(AE25="",0,SUMIFS('17년일출'!$AB$6:$AB$120,'17년일출'!$AF$6:$AF$120,'17년특입'!$AE25)) -> 0 | AP25: =IF(AE25="","",COUNTIFS('17년일출'!$AF$6:$AF$120,AE25)) | AQ25: =IF(AA25=AO25,"OK","@@") -> OK
A26: =IFERROR(VLOOKUP($C26,구분표!$A$2:$C$313,2,FALSE),"") | B26: =IFERROR(VLOOKUP($C26,구분표!$A$2:$C$313,3,FALSE),"") | J26: =SUM(G26:I26) -> 0 | M26: =SUM(G26,K26,L26) -> 0 | N26: =IF(AND((J26=0),(M26>0)),"O",IF(AND((H26<0),(J26-M26<0)),"O","X")) -> X | V26: =IF($U26<>"도비",IF($S26="국도비","직접입력",SUM($H26:$I26)),) -> 0 | W26: =IF($U26="도비",SUM($H26:$I26),IF($S26="국도비","직접입력",SUM($H26:$I26)-$V26)) -> 0 | X26: =IF(SUM($H26:$I26)=SUM($V26:$W26),"OK","검토") -> OK | AA26: =IF($U26<>"도비",IF($S26="국도비","직접입력",SUM($K26:$L26)),) -> 0 | AB26: =IF($U26="도비",SUM(K26:L26),IF($S26="국도비","직접입력",SUM(K26:L26)-AA26)) -> 0 | AC26: =IF(SUM(K26:L26)=SUM(AA26:AB26),"OK","검토") -> OK | AE26: =IF(AG26="","",IF(U26="도비","세입없음",CONCATENATE(AG26,"-",COUNTIF($AG$7:AG26,AG26)))) | AG26: {=IF(C26="","",INDEX(구분표!$I$2:$I$313, MATCH(1,(구분표!$E$2:$E$313='17년특입'!B26)*(구분표!$F$2:$F$313='17년특입'!C26)*(구분표!$G$2:$G$313='17년특입'!A26),0)))} | AK26: =IF(AE26="",0,SUMIFS('17년일출'!$W$6:$W$120,'17년일출'!$AF$6:$AF$120,'17년특입'!$AE26)) -> 0 | AL26: =IF(AE26="","",COUNTIFS('17년일출'!$AF$6:$AF$120,'17년특입'!AE26)) | AM26: =IF(V26=AK26,"OK","@@") -> OK | AO26: =IF(AE26="",0,SUMIFS('17년일출'!$AB$6:$AB$120,'17년일출'!$AF$6:$AF$120,'17년특입'!$AE26)) -> 0 | AP26: =IF(AE26="","",COUNTIFS('17년일출'!$AF$6:$AF$120,AE26)) | AQ26: =IF(AA26=AO26,"OK","@@") -> OK
A27: =IFERROR(VLOOKUP($C27,구분표!$A$2:$C$313,2,FALSE),"") | B27: =IFERROR(VLOOKUP($C27,구분표!$A$2:$C$313,3,FALSE),"") | J27: =SUM(G27:I27) -> 0 | M27: =SUM(G27,K27,L27) -> 0 | N27: =IF(AND((J27=0),(M27>0)),"O",IF(AND((H27<0),(J27-M27<0)),"O","X")) -> X | V27: =IF($U27<>"도비",IF($S27="국도비","직접입력",SUM($H27:$I27)),) -> 0 | W27: =IF($U27="도비",SUM($H27:$I27),IF($S27="국도비","직접입력",SUM($H27:$I27)-$V27)) -> 0 | X27: =IF(SUM($H27:$I27)=SUM($V27:$W27),"OK","검토") -> OK | AA27: =IF($U27<>"도비",IF($S27="국도비","직접입력",SUM($K27:$L27)),) -> 0 | AB27: =IF($U27="도비",SUM(K27:L27),IF($S27="국도비","직접입력",SUM(K27:L27)-AA27)) -> 0 | AC27: =IF(SUM(K27:L27)=SUM(AA27:AB27),"OK","검토") -> OK | AE27: =IF(AG27="","",IF(U27="도비","세입없음",CONCATENATE(AG27,"-",COUNTIF($AG$7:AG27,AG27)))) | AG27: {=IF(C27="","",INDEX(구분표!$I$2:$I$313, MATCH(1,(구분표!$E$2:$E$313='17년특입'!B27)*(구분표!$F$2:$F$313='17년특입'!C27)*(구분표!$G$2:$G$313='17년특입'!A27),0)))} | AK27: =IF(AE27="",0,SUMIFS('17년일출'!$W$6:$W$120,'17년일출'!$AF$6:$AF$120,'17년특입'!$AE27)) -> 0 | AL27: =IF(AE27="","",COUNTIFS('17년일출'!$AF$6:$AF$120,'17년특입'!AE27)) | AM27: =IF(V27=AK27,"OK","@@") -> OK | AO27: =IF(AE27="",0,SUMIFS('17년일출'!$AB$6:$AB$120,'17년일출'!$AF$6:$AF$120,'17년특입'!$AE27)) -> 0 | AP27: =IF(AE27="","",COUNTIFS('17년일출'!$AF$6:$AF$120,AE27)) | AQ27: =IF(AA27=AO27,"OK","@@") -> OK
A28: =IFERROR(VLOOKUP($C28,구분표!$A$2:$C$313,2,FALSE),"") | B28: =IFERROR(VLOOKUP($C28,구분표!$A$2:$C$313,3,FALSE),"") | J28: =SUM(G28:I28) -> 0 | M28: =SUM(G28,K28,L28) -> 0 | N28: =IF(AND((J28=0),(M28>0)),"O",IF(AND((H28<0),(J28-M28<0)),"O","X")) -> X | V28: =IF($U28<>"도비",IF($S28="국도비","직접입력",SUM($H28:$I28)),) -> 0 | W28: =IF($U28="도비",SUM($H28:$I28),IF($S28="국도비","직접입력",SUM($H28:$I28)-$V28)) -> 0 | X28: =IF(SUM($H28:$I28)=SUM($V28:$W28),"OK","검토") -> OK | AA28: =IF($U28<>"도비",IF($S28="국도비","직접입력",SUM($K28:$L28)),) -> 0 | AB28: =IF($U28="도비",SUM(K28:L28),IF($S28="국도비","직접입력",SUM(K28:L28)-AA28)) -> 0 | AC28: =IF(SUM(K28:L28)=SUM(AA28:AB28),"OK","검토") -> OK | AE28: =IF(AG28="","",IF(U28="도비","세입없음",CONCATENATE(AG28,"-",COUNTIF($AG$7:AG28,AG28)))) | AG28: {=IF(C28="","",INDEX(구분표!$I$2:$I$313, MATCH(1,(구분표!$E$2:$E$313='17년특입'!B28)*(구분표!$F$2:$F$313='17년특입'!C28)*(구분표!$G$2:$G$313='17년특입'!A28),0)))} | AK28: =IF(AE28="",0,SUMIFS('17년일출'!$W$6:$W$120,'17년일출'!$AF$6:$AF$120,'17년특입'!$AE28)) -> 0 | AL28: =IF(AE28="","",COUNTIFS('17년일출'!$AF$6:$AF$120,'17년특입'!AE28)) | AM28: =IF(V28=AK28,"OK","@@") -> OK | AO28: =IF(AE28="",0,SUMIFS('17년일출'!$AB$6:$AB$120,'17년일출'!$AF$6:$AF$120,'17년특입'!$AE28)) -> 0 | AP28: =IF(AE28="","",COUNTIFS('17년일출'!$AF$6:$AF$120,AE28)) | AQ28: =IF(AA28=AO28,"OK","@@") -> OK
A29: ( 특별회계) | G29: =SUM(G30:G39) -> 0 | H29: =SUM(H30:H39) -> 0 | I29: =SUM(I30:I39) -> 0 | J29: =SUM(J30:J39) -> 0 | K29: =SUM(K30:K39) -> 0 | L29: =SUM(L30:L39) -> 0 | M29: =SUM(M30:M39) -> 0 | V29: =IF($U29<>"도비",IF($S29="국도비","직접입력",SUM($H29:$I29)),) -> 0 | W29: =IF($U29="도비",SUM($H29:$I29),IF($S29="국도비","직접입력",SUM($H29:$I29)-$V29)) -> 0 | X29: =IF(SUM($H29:$I29)=SUM($V29:$W29),"OK","검토") -> OK | AA29: =IF($U29<>"도비",IF($S29="국도비","직접입력",SUM($K29:$L29)),) -> 0 | AB29: =IF($U29="도비",SUM(K29:L29),IF($S29="국도비","직접입력",SUM(K29:L29)-AA29)) -> 0 | AC29: =IF(SUM(K29:L29)=SUM(AA29:AB29),"OK","검토") -> OK | AE29: =IF(AG29="","",IF(U29="도비","세입없음",CONCATENATE(AG29,"-",COUNTIF($AG$7:AG29,AG29)))) | AG29: {=IF(C29="","",INDEX(구분표!$I$2:$I$313, MATCH(1,(구분표!$E$2:$E$313='17년특입'!B29)*(구분표!$F$2:$F$313='17년특입'!C29)*(구분표!$G$2:$G$313='17년특입'!A29),0)))} | AK29: =IF(AE29="",0,SUMIFS('17년일출'!$W$6:$W$120,'17년일출'!$AF$6:$AF$120,'17년특입'!$AE29)) -> 0 | AL29: =IF(AE29="","",COUNTIFS('17년일출'!$AF$6:$AF$120,'17년특입'!AE29)) | AM29: =IF(V29=AK29,"OK","@@") -> OK | AO29: =IF(AE29="",0,SUMIFS('17년일출'!$AB$6:$AB$120,'17년일출'!$AF$6:$AF$120,'17년특입'!$AE29)) -> 0 | AP29: =IF(AE29="","",COUNTIFS('17년일출'!$AF$6:$AF$120,AE29)) | AQ29: =IF(AA29=AO29,"OK","@@") -> OK
A30: =IFERROR(VLOOKUP($C30,구분표!$A$2:$C$313,2,FALSE),"") | B30: =IFERROR(VLOOKUP($C30,구분표!$A$2:$C$313,3,FALSE),"") | J30: =SUM(G30:I30) -> 0 | M30: =SUM(G30,K30,L30) -> 0 | N30: =IF(AND((J30=0),(M30>0)),"O",IF(AND((H30<0),(J30-M30<0)),"O","X")) -> X | V30: =IF($U30<>"도비",IF($S30="국도비","직접입력",SUM($H30:$I30)),) -> 0 | W30: =IF($U30="도비",SUM($H30:$I30),IF($S30="국도비","직접입력",SUM($H30:$I30)-$V30)) -> 0 | X30: =IF(SUM($H30:$I30)=SUM($V30:$W30),"OK","검토") -> OK | AA30: =IF($U30<>"도비",IF($S30="국도비","직접입력",SUM($K30:$L30)),) -> 0 | AB30: =IF($U30="도비",SUM(K30:L30),IF($S30="국도비","직접입력",SUM(K30:L30)-AA30)) -> 0 | AC30: =IF(SUM(K30:L30)=SUM(AA30:AB30),"OK","검토") -> OK | AE30: =IF(AG30="","",IF(U30="도비","세입없음",CONCATENATE(AG30,"-",COUNTIF($AG$7:AG30,AG30)))) | AG30: {=IF(C30="","",INDEX(구분표!$I$2:$I$313, MATCH(1,(구분표!$E$2:$E$313='17년특입'!B30)*(구분표!$F$2:$F$313='17년특입'!C30)*(구분표!$G$2:$G$313='17년특입'!A30),0)))} | AK30: =IF(AE30="",0,SUMIFS('17년일출'!$W$6:$W$120,'17년일출'!$AF$6:$AF$120,'17년특입'!$AE30)) -> 0 | AL30: =IF(AE30="","",COUNTIFS('17년일출'!$AF$6:$AF$120,'17년특입'!AE30)) | AM30: =IF(V30=AK30,"OK","@@") -> OK | AO30: =IF(AE30="",0,SUMIFS('17년일출'!$AB$6:$AB$120,'17년일출'!$AF$6:$AF$120,'17년특입'!$AE30)) -> 0 | AP30: =IF(AE30="","",COUNTIFS('17년일출'!$AF$6:$AF$120,AE30)) | AQ30: =IF(AA30=AO30,"OK","@@") -> OK
A31: =IFERROR(VLOOKUP($C31,구분표!$A$2:$C$313,2,FALSE),"") | B31: =IFERROR(VLOOKUP($C31,구분표!$A$2:$C$313,3,FALSE),"") | J31: =SUM(G31:I31) -> 0 | M31: =SUM(G31,K31,L31) -> 0 | N31: =IF(AND((J31=0),(M31>0)),"O",IF(AND((H31<0),(J31-M31<0)),"O","X")) -> X | V31: =IF($U31<>"도비",IF($S31="국도비","직접입력",SUM($H31:$I31)),) -> 0 | W31: =IF($U31="도비",SUM($H31:$I31),IF($S31="국도비","직접입력",SUM($H31:$I31)-$V31)) -> 0 | X31: =IF(SUM($H31:$I31)=SUM($V31:$W31),"OK","검토") -> OK | AA31: =IF($U31<>"도비",IF($S31="국도비","직접입력",SUM($K31:$L31)),) -> 0 | AB31: =IF($U31="도비",SUM(K31:L31),IF($S31="국도비","직접입력",SUM(K31:L31)-AA31)) -> 0 | AC31: =IF(SUM(K31:L31)=SUM(AA31:AB31),"OK","검토") -> OK | AE31: =IF(AG31="","",IF(U31="도비","세입없음",CONCATENATE(AG31,"-",COUNTIF($AG$7:AG31,AG31)))) | AG31: {=IF(C31="","",INDEX(구분표!$I$2:$I$313, MATCH(1,(구분표!$E$2:$E$313='17년특입'!B31)*(구분표!$F$2:$F$313='17년특입'!C31)*(구분표!$G$2:$G$313='17년특입'!A31),0)))} | AK31: =IF(AE31="",0,SUMIFS('17년일출'!$W$6:$W$120,'17년일출'!$AF$6:$AF$120,'17년특입'!$AE31)) -> 0 | AL31: =IF(AE31="","",COUNTIFS('17년일출'!$AF$6:$AF$120,'17년특입'!AE31)) | AM31: =IF(V31=AK31,"OK","@@") -> OK | AO31: =IF(AE31="",0,SUMIFS('17년일출'!$AB$6:$AB$120,'17년일출'!$AF$6:$AF$120,'17년특입'!$AE31)) -> 0 | AP31: =IF(AE31="","",COUNTIFS('17년일출'!$AF$6:$AF$120,AE31)) | AQ31: =IF(AA31=AO31,"OK","@@") -> OK
A32: =IFERROR(VLOOKUP($C32,구분표!$A$2:$C$313,2,FALSE),"") | B32: =IFERROR(VLOOKUP($C32,구분표!$A$2:$C$313,3,FALSE),"") | J32: =SUM(G32:I32) -> 0 | M32: =SUM(G32,K32,L32) -> 0 | N32: =IF(AND((J32=0),(M32>0)),"O",IF(AND((H32<0),(J32-M32<0)),"O","X")) -> X | V32: =IF($U32<>"도비",IF($S32="국도비","직접입력",SUM($H32:$I32)),) -> 0 | W32: =IF($U32="도비",SUM($H32:$I32),IF($S32="국도비","직접입력",SUM($H32:$I32)-$V32)) -> 0 | X32: =IF(SUM($H32:$I32)=SUM($V32:$W32),"OK","검토") -> OK | AA32: =IF($U32<>"도비",IF($S32="국도비","직접입력",SUM($K32:$L32)),) -> 0 | AB32: =IF($U32="도비",SUM(K32:L32),IF($S32="국도비","직접입력",SUM(K32:L32)-AA32)) -> 0 | AC32: =IF(SUM(K32:L32)=SUM(AA32:AB32),"OK","검토") -> OK | AE32: =IF(AG32="","",IF(U32="도비","세입없음",CONCATENATE(AG32,"-",COUNTIF($AG$7:AG32,AG32)))) | AG32: {=IF(C32="","",INDEX(구분표!$I$2:$I$313, MATCH(1,(구분표!$E$2:$E$313='17년특입'!B32)*(구분표!$F$2:$F$313='17년특입'!C32)*(구분표!$G$2:$G$313='17년특입'!A32),0)))} | AK32: =IF(AE32="",0,SUMIFS('17년일출'!$W$6:$W$120,'17년일출'!$AF$6:$AF$120,'17년특입'!$AE32)) -> 0 | AL32: =IF(AE32="","",COUNTIFS('17년일출'!$AF$6:$AF$120,'17년특입'!AE32)) | AM32: =IF(V32=AK32,"OK","@@") -> OK | AO32: =IF(AE32="",0,SUMIFS('17년일출'!$AB$6:$AB$120,'17년일출'!$AF$6:$AF$120,'17년특입'!$AE32)) -> 0 | AP32: =IF(AE32="","",COUNTIFS('17년일출'!$AF$6:$AF$120,AE32)) | AQ32: =IF(AA32=AO32,"OK","@@") -> OK
A33: =IFERROR(VLOOKUP($C33,구분표!$A$2:$C$313,2,FALSE),"") | B33: =IFERROR(VLOOKUP($C33,구분표!$A$2:$C$313,3,FALSE),"") | J33: =SUM(G33:I33) -> 0 | M33: =SUM(G33,K33,L33) -> 0 | N33: =IF(AND((J33=0),(M33>0)),"O",IF(AND((H33<0),(J33-M33<0)),"O","X")) -> X | V33: =IF($U33<>"도비",IF($S33="국도비","직접입력",SUM($H33:$I33)),) -> 0 | W33: =IF($U33="도비",SUM($H33:$I33),IF($S33="국도비","직접입력",SUM($H33:$I33)-$V33)) -> 0 | X33: =IF(SUM($H33:$I33)=SUM($V33:$W33),"OK","검토") -> OK | AA33: =IF($U33<>"도비",IF($S33="국도비","직접입력",SUM($K33:$L33)),) -> 0 | AB33: =IF($U33="도비",SUM(K33:L33),IF($S33="국도비","직접입력",SUM(K33:L33)-AA33)) -> 0 | AC33: =IF(SUM(K33:L33)=SUM(AA33:AB33),"OK","검토") -> OK | AE33: =IF(AG33="","",IF(U33="도비","세입없음",CONCATENATE(AG33,"-",COUNTIF($AG$7:AG33,AG33)))) | AG33: {=IF(C33="","",INDEX(구분표!$I$2:$I$313, MATCH(1,(구분표!$E$2:$E$313='17년특입'!B33)*(구분표!$F$2:$F$313='17년특입'!C33)*(구분표!$G$2:$G$313='17년특입'!A33),0)))} | AK33: =IF(AE33="",0,SUMIFS('17년일출'!$W$6:$W$120,'17년일출'!$AF$6:$AF$120,'17년특입'!$AE33)) -> 0 | AL33: =IF(AE33="","",COUNTIFS('17년일출'!$AF$6:$AF$120,'17년특입'!AE33)) | AM33: =IF(V33=AK33,"OK","@@") -> OK | AO33: =IF(AE33="",0,SUMIFS('17년일출'!$AB$6:$AB$120,'17년일출'!$AF$6:$AF$120,'17년특입'!$AE33)) -> 0 | AP33: =IF(AE33="","",COUNTIFS('17년일출'!$AF$6:$AF$120,AE33)) | AQ33: =IF(AA33=AO33,"OK","@@") -> OK
A34: =IFERROR(VLOOKUP($C34,구분표!$A$2:$C$313,2,FALSE),"") | B34: =IFERROR(VLOOKUP($C34,구분표!$A$2:$C$313,3,FALSE),"") | J34: =SUM(G34:I34) -> 0 | M34: =SUM(G34,K34,L34) -> 0 | N34: =IF(AND((J34=0),(M34>0)),"O",IF(AND((H34<0),(J34-M34<0)),"O","X")) -> X | V34: =IF($U34<>"도비",IF($S34="국도비","직접입력",SUM($H34:$I34)),) -> 0 | W34: =IF($U34="도비",SUM($H34:$I34),IF($S34="국도비","직접입력",SUM($H34:$I34)-$V34)) -> 0 | X34: =IF(SUM($H34:$I34)=SUM($V34:$W34),"OK","검토") -> OK | AA34: =IF($U34<>"도비",IF($S34="국도비","직접입력",SUM($K34:$L34)),) -> 0 | AB34: =IF($U34="도비",SUM(K34:L34),IF($S34="국도비","직접입력",SUM(K34:L34)-AA34)) -> 0 | AC34: =IF(SUM(K34:L34)=SUM(AA34:AB34),"OK","검토") -> OK | AE34: =IF(AG34="","",IF(U34="도비","세입없음",CONCATENATE(AG34,"-",COUNTIF($AG$7:AG34,AG34)))) | AG34: {=IF(C34="","",INDEX(구분표!$I$2:$I$313, MATCH(1,(구분표!$E$2:$E$313='17년특입'!B34)*(구분표!$F$2:$F$313='17년특입'!C34)*(구분표!$G$2:$G$313='17년특입'!A34),0)))} | AK34: =IF(AE34="",0,SUMIFS('17년일출'!$W$6:$W$120,'17년일출'!$AF$6:$AF$120,'17년특입'!$AE34)) -> 0 | AL34: =IF(AE34="","",COUNTIFS('17년일출'!$AF$6:$AF$120,'17년특입'!AE34)) | AM34: =IF(V34=AK34,"OK","@@") -> OK | AO34: =IF(AE34="",0,SUMIFS('17년일출'!$AB$6:$AB$120,'17년일출'!$AF$6:$AF$120,'17년특입'!$AE34)) -> 0 | AP34: =IF(AE34="","",COUNTIFS('17년일출'!$AF$6:$AF$120,AE34)) | AQ34: =IF(AA34=AO34,"OK","@@") -> OK
A35: =IFERROR(VLOOKUP($C35,구분표!$A$2:$C$313,2,FALSE),"") | B35: =IFERROR(VLOOKUP($C35,구분표!$A$2:$C$313,3,FALSE),"") | J35: =SUM(G35:I35) -> 0 | M35: =SUM(G35,K35,L35) -> 0 | N35: =IF(AND((J35=0),(M35>0)),"O",IF(AND((H35<0),(J35-M35<0)),"O","X")) -> X | V35: =IF($U35<>"도비",IF($S35="국도비","직접입력",SUM($H35:$I35)),) -> 0 | W35: =IF($U35="도비",SUM($H35:$I35),IF($S35="국도비","직접입력",SUM($H35:$I35)-$V35)) -> 0 | X35: =IF(SUM($H35:$I35)=SUM($V35:$W35),"OK","검토") -> OK | AA35: =IF($U35<>"도비",IF($S35="국도비","직접입력",SUM($K35:$L35)),) -> 0 | AB35: =IF($U35="도비",SUM(K35:L35),IF($S35="국도비","직접입력",SUM(K35:L35)-AA35)) -> 0 | AC35: =IF(SUM(K35:L35)=SUM(AA35:AB35),"OK","검토") -> OK | AE35: =IF(AG35="","",IF(U35="도비","세입없음",CONCATENATE(AG35,"-",COUNTIF($AG$7:AG35,AG35)))) | AG35: {=IF(C35="","",INDEX(구분표!$I$2:$I$313, MATCH(1,(구분표!$E$2:$E$313='17년특입'!B35)*(구분표!$F$2:$F$313='17년특입'!C35)*(구분표!$G$2:$G$313='17년특입'!A35),0)))} | AK35: =IF(AE35="",0,SUMIFS('17년일출'!$W$6:$W$120,'17년일출'!$AF$6:$AF$120,'17년특입'!$AE35)) -> 0 | AL35: =IF(AE35="","",COUNTIFS('17년일출'!$AF$6:$AF$120,'17년특입'!AE35)) | AM35: =IF(V35=AK35,"OK","@@") -> OK | AO35: =IF(AE35="",0,SUMIFS('17년일출'!$AB$6:$AB$120,'17년일출'!$AF$6:$AF$120,'17년특입'!$AE35)) -> 0 | AP35: =IF(AE35="","",COUNTIFS('17년일출'!$AF$6:$AF$120,AE35)) | AQ35: =IF(AA35=AO35,"OK","@@") -> OK
A36: =IFERROR(VLOOKUP($C36,구분표!$A$2:$C$313,2,FALSE),"") | B36: =IFERROR(VLOOKUP($C36,구분표!$A$2:$C$313,3,FALSE),"") | J36: =SUM(G36:I36) -> 0 | M36: =SUM(G36,K36,L36) -> 0 | N36: =IF(AND((J36=0),(M36>0)),"O",IF(AND((H36<0),(J36-M36<0)),"O","X")) -> X | V36: =IF($U36<>"도비",IF($S36="국도비","직접입력",SUM($H36:$I36)),) -> 0 | W36: =IF($U36="도비",SUM($H36:$I36),IF($S36="국도비","직접입력",SUM($H36:$I36)-$V36)) -> 0 | X36: =IF(SUM($H36:$I36)=SUM($V36:$W36),"OK","검토") -> OK | AA36: =IF($U36<>"도비",IF($S36="국도비","직접입력",SUM($K36:$L36)),) -> 0 | AB36: =IF($U36="도비",SUM(K36:L36),IF($S36="국도비","직접입력",SUM(K36:L36)-AA36)) -> 0 | AC36: =IF(SUM(K36:L36)=SUM(AA36:AB36),"OK","검토") -> OK | AE36: =IF(AG36="","",IF(U36="도비","세입없음",CONCATENATE(AG36,"-",COUNTIF($AG$7:AG36,AG36)))) | AG36: {=IF(C36="","",INDEX(구분표!$I$2:$I$313, MATCH(1,(구분표!$E$2:$E$313='17년특입'!B36)*(구분표!$F$2:$F$313='17년특입'!C36)*(구분표!$G$2:$G$313='17년특입'!A36),0)))} | AK36: =IF(AE36="",0,SUMIFS('17년일출'!$W$6:$W$120,'17년일출'!$AF$6:$AF$120,'17년특입'!$AE36)) -> 0 | AL36: =IF(AE36="","",COUNTIFS('17년일출'!$AF$6:$AF$120,'17년특입'!AE36)) | AM36: =IF(V36=AK36,"OK","@@") -> OK | AO36: =IF(AE36="",0,SUMIFS('17년일출'!$AB$6:$AB$120,'17년일출'!$AF$6:$AF$120,'17년특입'!$AE36)) -> 0 | AP36: =IF(AE36="","",COUNTIFS('17년일출'!$AF$6:$AF$120,AE36)) | AQ36: =IF(AA36=AO36,"OK","@@") -> OK
A37: =IFERROR(VLOOKUP($C37,구분표!$A$2:$C$313,2,FALSE),"") | B37: =IFERROR(VLOOKUP($C37,구분표!$A$2:$C$313,3,FALSE),"") | J37: =SUM(G37:I37) -> 0 | M37: =SUM(G37,K37,L37) -> 0 | N37: =IF(AND((J37=0),(M37>0)),"O",IF(AND((H37<0),(J37-M37<0)),"O","X")) -> X | V37: =IF($U37<>"도비",IF($S37="국도비","직접입력",SUM($H37:$I37)),) -> 0 | W37: =IF($U37="도비",SUM($H37:$I37),IF($S37="국도비","직접입력",SUM($H37:$I37)-$V37)) -> 0 | X37: =IF(SUM($H37:$I37)=SUM($V37:$W37),"OK","검토") -> OK | AA37: =IF($U37<>"도비",IF($S37="국도비","직접입력",SUM($K37:$L37)),) -> 0 | AB37: =IF($U37="도비",SUM(K37:L37),IF($S37="국도비","직접입력",SUM(K37:L37)-AA37)) -> 0 | AC37: =IF(SUM(K37:L37)=SUM(AA37:AB37),"OK","검토") -> OK | AE37: =IF(AG37="","",IF(U37="도비","세입없음",CONCATENATE(AG37,"-",COUNTIF($AG$7:AG37,AG37)))) | AG37: {=IF(C37="","",INDEX(구분표!$I$2:$I$313, MATCH(1,(구분표!$E$2:$E$313='17년특입'!B37)*(구분표!$F$2:$F$313='17년특입'!C37)*(구분표!$G$2:$G$313='17년특입'!A37),0)))} | AK37: =IF(AE37="",0,SUMIFS('17년일출'!$W$6:$W$120,'17년일출'!$AF$6:$AF$120,'17년특입'!$AE37)) -> 0 | AL37: =IF(AE37="","",COUNTIFS('17년일출'!$AF$6:$AF$120,'17년특입'!AE37)) | AM37: =IF(V37=AK37,"OK","@@") -> OK | AO37: =IF(AE37="",0,SUMIFS('17년일출'!$AB$6:$AB$120,'17년일출'!$AF$6:$AF$120,'17년특입'!$AE37)) -> 0 | AP37: =IF(AE37="","",COUNTIFS('17년일출'!$AF$6:$AF$120,AE37)) | AQ37: =IF(AA37=AO37,"OK","@@") -> OK
A38: =IFERROR(VLOOKUP($C38,구분표!$A$2:$C$313,2,FALSE),"") | B38: =IFERROR(VLOOKUP($C38,구분표!$A$2:$C$313,3,FALSE),"") | J38: =SUM(G38:I38) -> 0 | M38: =SUM(G38,K38,L38) -> 0 | N38: =IF(AND((J38=0),(M38>0)),"O",IF(AND((H38<0),(J38-M38<0)),"O","X")) -> X | V38: =IF($U38<>"도비",IF($S38="국도비","직접입력",SUM($H38:$I38)),) -> 0 | W38: =IF($U38="도비",SUM($H38:$I38),IF($S38="국도비","직접입력",SUM($H38:$I38)-$V38)) -> 0 | X38: =IF(SUM($H38:$I38)=SUM($V38:$W38),"OK","검토") -> OK | AA38: =IF($U38<>"도비",IF($S38="국도비","직접입력",SUM($K38:$L38)),) -> 0 | AB38: =IF($U38="도비",SUM(K38:L38),IF($S38="국도비","직접입력",SUM(K38:L38)-AA38)) -> 0 | AC38: =IF(SUM(K38:L38)=SUM(AA38:AB38),"OK","검토") -> OK | AE38: =IF(AG38="","",IF(U38="도비","세입없음",CONCATENATE(AG38,"-",COUNTIF($AG$7:AG38,AG38)))) | AG38: {=IF(C38="","",INDEX(구분표!$I$2:$I$313, MATCH(1,(구분표!$E$2:$E$313='17년특입'!B38)*(구분표!$F$2:$F$313='17년특입'!C38)*(구분표!$G$2:$G$313='17년특입'!A38),0)))} | AK38: =IF(AE38="",0,SUMIFS('17년일출'!$W$6:$W$120,'17년일출'!$AF$6:$AF$120,'17년특입'!$AE38)) -> 0 | AL38: =IF(AE38="","",COUNTIFS('17년일출'!$AF$6:$AF$120,'17년특입'!AE38)) | AM38: =IF(V38=AK38,"OK","@@") -> OK | AO38: =IF(AE38="",0,SUMIFS('17년일출'!$AB$6:$AB$120,'17년일출'!$AF$6:$AF$120,'17년특입'!$AE38)) -> 0 | AP38: =IF(AE38="","",COUNTIFS('17년일출'!$AF$6:$AF$120,AE38)) | AQ38: =IF(AA38=AO38,"OK","@@") -> OK
A39: =IFERROR(VLOOKUP($C39,구분표!$A$2:$C$313,2,FALSE),"") | B39: =IFERROR(VLOOKUP($C39,구분표!$A$2:$C$313,3,FALSE),"") | J39: =SUM(G39:I39) -> 0 | M39: =SUM(G39,K39,L39) -> 0 | N39: =IF(AND((J39=0),(M39>0)),"O",IF(AND((H39<0),(J39-M39<0)),"O","X")) -> X | V39: =IF($U39<>"도비",IF($S39="국도비","직접입력",SUM($H39:$I39)),) -> 0 | W39: =IF($U39="도비",SUM($H39:$I39),IF($S39="국도비","직접입력",SUM($H39:$I39)-$V39)) -> 0 | X39: =IF(SUM($H39:$I39)=SUM($V39:$W39),"OK","검토") -> OK | AA39: =IF($U39<>"도비",IF($S39="국도비","직접입력",SUM($K39:$L39)),) -> 0 | AB39: =IF($U39="도비",SUM(K39:L39),IF($S39="국도비","직접입력",SUM(K39:L39)-AA39)) -> 0 | AC39: =IF(SUM(K39:L39)=SUM(AA39:AB39),"OK","검토") -> OK | AE39: =IF(AG39="","",IF(U39="도비","세입없음",CONCATENATE(AG39,"-",COUNTIF($AG$7:AG39,AG39)))) | AG39: {=IF(C39="","",INDEX(구분표!$I$2:$I$313, MATCH(1,(구분표!$E$2:$E$313='17년특입'!B39)*(구분표!$F$2:$F$313='17년특입'!C39)*(구분표!$G$2:$G$313='17년특입'!A39),0)))} | AK39: =IF(AE39="",0,SUMIFS('17년일출'!$W$6:$W$120,'17년일출'!$AF$6:$AF$120,'17년특입'!$AE39)) -> 0 | AL39: =IF(AE39="","",COUNTIFS('17년일출'!$AF$6:$AF$120,'17년특입'!AE39)) | AM39: =IF(V39=AK39,"OK","@@") -> OK | AO39: =IF(AE39="",0,SUMIFS('17년일출'!$AB$6:$AB$120,'17년일출'!$AF$6:$AF$120,'17년특입'!$AE39)) -> 0 | AP39: =IF(AE39="","",COUNTIFS('17년일출'!$AF$6:$AF$120,AE39)) | AQ39: =IF(AA39=AO39,"OK","@@") -> OK

Sheet 17년특출
A1: 2017년도 경기도 특별회계 세출 예산 조정(안)
A2: □ 세출예산 | W2: 세입=세출 | AB2: 세입=세출
R3: (단위 : 천원) | W3: =IF(W6='17년일입'!V6,"OK","@@") -> OK | Y3: =IF(COUNTIF(Y6:Y39,"검토")>0,"@@","OK") -> OK | AB3: =IF(AB6='17년일입'!AA6,"OK","@@") -> OK | AD3: =IF(COUNTIF(AD6:AD39,"검토")>0,"@@","OK") -> OK
A4: 위원회명 | B4: 실국명 | C4: 부서명 | D4: 편성 구분 | E4: 연정 구분 | F4: 예산안 페이지 | G4: 세브사업명 및 부기명 | H4: 예산안 (가) | I4: 상임위 예산안 조정액(나) | K4: 상임위 조정 예산안 (다=가+나) | L4: 예결위 예산안 조정액(라) | N4: 예결위 조정 예산안 (마=가+라) | O4: 동의 대상 | P4: 상임위 변경사유 (심의 참고자료) | Q4: 비고 (상임위 부대의견) | R4: 비고 (부대의견) | T4: 국도비 등 여부 | V4: 재원 | W4: 상임위 재원별 증감액 | AA4: 재원 | AB4: 예결위 재원별 증감액 | AF4: 세입번호 | AH4: 동일 세입 건수 | AI4: 세출 번호 검증 | AK4: 실국부서 코드 | AM4: 추가 내시 등
I5: 감액 | J5: 증액 | L5: 감액 | M5: 증액 | W5: 국비 등 | X5: 도비 | Y5: 검증 | AB5: 국비 등 | AC5: 도비 | AD5: 검증
A6: 합 계 | H6: =SUBTOTAL(9,H7:H39)/2 -> 0 | I6: =SUBTOTAL(9,I7:I39)/2 -> 0 | J6: =SUBTOTAL(9,J7:J39)/2 -> 0 | K6: =SUBTOTAL(9,K7:K39)/2 -> 0 | L6: =SUBTOTAL(9,L7:L39)/2 -> 0 | M6: =SUBTOTAL(9,M7:M39)/2 -> 0 | N6: =SUBTOTAL(9,N7:N39)/2 -> 0 | W6: =SUBTOTAL(9,W7:W39) -> 0 | X6: =SUBTOTAL(9,X7:X39) -> 0 | Y6: =IF(SUM($I6:$J6)=SUM($W6:$X6),"OK","검토") -> OK | AB6: =SUBTOTAL(9,AB7:AB39) -> 0 | AC6: =SUBTOTAL(9,AC7:AC39) -> 0 | AD6: =IF(SUM($I6:$J6)=SUM($W6:$X6),"OK","검토") -> OK
A7: ( 특별회계) | H7: =SUM(H8:H17) -> 0 | I7: =SUM(I8:I17) -> 0 | J7: =SUM(J8:J17) -> 0 | K7: =SUM(K8:K17) -> 0 | L7: =SUM(L8:L17) -> 0 | M7: =SUM(M8:M17) -> 0 | N7: =SUM(N8:N17) -> 0
A8: =IFERROR(VLOOKUP($C8,구분표!$A$2:$C$313,2,FALSE),"") | B8: =IFERROR(VLOOKUP($C8,구분표!$A$2:$C$313,3,FALSE),"") | D8: 본예산 | K8: =H8+I8+J8 -> 0 | N8: =H8+L8+M8 -> 0 | O8: =IF(AND((K8=0),(N8>0)),"O",IF(AND((I8<0),(K8-N8<0)),"O","X")) -> X | W8: =IF($V8<>"도비",IF($T8="국도비","직접입력",SUM($I8:$J8)),) -> 0 | X8: =IF($V8="도비",SUM($I8:$J8),IF($T8="국도비","직접입력",SUM($I8:$J8)-$W8)) -> 0 | Y8: =IF(SUM($I8:$J8)=SUM($W8:$X8),"OK","검토") -> OK | AB8: =IF($V8<>"도비",IF($T8="국도비","직접입력",SUM($L8:$M8)),) -> 0 | AC8: =IF($V8="도비",SUM(L8:M8),IF($T8="국도비","직접입력",SUM(L8:M8)-AB8)) -> 0 | AD8: =IF(SUM(L8:M8)=SUM(AB8:AC8),"OK","검토") -> OK | AF8: =IF(V8="","",IF(V8="도비","세입없음","직접입력")) | AH8: =IF(AF8="","",COUNTIF($AF$7:$AF$39,AF8)) | AI8: =IF(V8="","",IF(AND(V8="도비",AF8="세입없음"),"OK",IF(AND(V8<>"도비",AF8<>""),"OK","@@"))) | AK8: {=IF(C8="","",INDEX(구분표!$I$2:$I$313, MATCH(1,(구분표!$E$2:$E$313='17년특출'!B8)*(구분표!$F$2:$F$313='17년특출'!C8)*(구분표!$G$2:$G$313='17년특출'!A8),0)))}
A9: =IFERROR(VLOOKUP($C9,구분표!$A$2:$C$313,2,FALSE),"") | B9: =IFERROR(VLOOKUP($C9,구분표!$A$2:$C$313,3,FALSE),"") | D9: 신규 | K9: =H9+I9+J9 -> 0 | N9: =H9+L9+M9 -> 0 | O9: =IF(AND((K9=0),(N9>0)),"O",IF(AND((I9<0),(K9-N9<0)),"O","X")) -> X | W9: =IF($V9<>"도비",IF($T9="국도비","직접입력",SUM($I9:$J9)),) -> 0 | X9: =IF($V9="도비",SUM($I9:$J9),IF($T9="국도비","직접입력",SUM($I9:$J9)-$W9)) -> 0 | Y9: =IF(SUM($I9:$J9)=SUM($W9:$X9),"OK","검토") -> OK | AB9: =IF($V9<>"도비",IF($T9="국도비","직접입력",SUM($L9:$M9)),) -> 0 | AC9: =IF($V9="도비",SUM(L9:M9),IF($T9="국도비","직접입력",SUM(L9:M9)-AB9)) -> 0 | AD9: =IF(SUM(L9:M9)=SUM(AB9:AC9),"OK","검토") -> OK | AF9: =IF(V9="","",IF(V9="도비","세입없음","직접입력")) | AH9: =IF(AF9="","",COUNTIF($AF$7:$AF$39,AF9)) | AI9: =IF(V9="","",IF(AND(V9="도비",AF9="세입없음"),"OK",IF(AND(V9<>"도비",AF9<>""),"OK","@@"))) | AK9: {=IF(C9="","",INDEX(구분표!$I$2:$I$313, MATCH(1,(구분표!$E$2:$E$313='17년특출'!B9)*(구분표!$F$2:$F$313='17년특출'!C9)*(구분표!$G$2:$G$313='17년특출'!A9),0)))}
A10: =IFERROR(VLOOKUP($C10,구분표!$A$2:$C$313,2,FALSE),"") | B10: =IFERROR(VLOOKUP($C10,구분표!$A$2:$C$313,3,FALSE),"") | K10: =H10+I10+J10 -> 0 | N10: =H10+L10+M10 -> 0 | O10: =IF(AND((K10=0),(N10>0)),"O",IF(AND((I10<0),(K10-N10<0)),"O","X")) -> X | W10: =IF($V10<>"도비",IF($T10="국도비","직접입력",SUM($I10:$J10)),) -> 0 | X10: =IF($V10="도비",SUM($I10:$J10),IF($T10="국도비","직접입력",SUM($I10:$J10)-$W10)) -> 0 | Y10: =IF(SUM($I10:$J10)=SUM($W10:$X10),"OK","검토") -> OK | AB10: =IF($V10<>"도비",IF($T10="국도비","직접입력",SUM($L10:$M10)),) -> 0 | AC10: =IF($V10="도비",SUM(L10:M10),IF($T10="국도비","직접입력",SUM(L10:M10)-AB10)) -> 0 | AD10: =IF(SUM(L10:M10)=SUM(AB10:AC10),"OK","검토") -> OK | AF10: =IF(V10="","",IF(V10="도비","세입없음","직접입력")) | AH10: =IF(AF10="","",COUNTIF($AF$7:$AF$39,AF10)) | AI10: =IF(V10="","",IF(AND(V10="도비",AF10="세입없음"),"OK",IF(AND(V10<>"도비",AF10<>""),"OK","@@"))) | AK10: {=IF(C10="","",INDEX(구분표!$I$2:$I$313, MATCH(1,(구분표!$E$2:$E$313='17년특출'!B10)*(구분표!$F$2:$F$313='17년특출'!C10)*(구분표!$G$2:$G$313='17년특출'!A10),0)))}
A11: =IFERROR(VLOOKUP($C11,구분표!$A$2:$C$313,2,FALSE),"") | B11: =IFERROR(VLOOKUP($C11,구분표!$A$2:$C$313,3,FALSE),"") | K11: =H11+I11+J11 -> 0 | N11: =H11+L11+M11 -> 0 | O11: =IF(AND((K11=0),(N11>0)),"O",IF(AND((I11<0),(K11-N11<0)),"O","X")) -> X | W11: =IF($V11<>"도비",IF($T11="국도비","직접입력",SUM($I11:$J11)),) -> 0 | X11: =IF($V11="도비",SUM($I11:$J11),IF($T11="국도비","직접입력",SUM($I11:$J11)-$W11)) -> 0 | Y11: =IF(SUM($I11:$J11)=SUM($W11:$X11),"OK","검토") -> OK | AB11: =IF($V11<>"도비",IF($T11="국도비","직접입력",SUM($L11:$M11)),) -> 0 | AC11: =IF($V11="도비",SUM(L11:M11),IF($T11="국도비","직접입력",SUM(L11:M11)-AB11)) -> 0 | AD11: =IF(SUM(L11:M11)=SUM(AB11:AC11),"OK","검토") -> OK | AF11: =IF(V11="","",IF(V11="도비","세입없음","직접입력")) | AH11: =IF(AF11="","",COUNTIF($AF$7:$AF$39,AF11)) | AI11: =IF(V11="","",IF(AND(V11="도비",AF11="세입없음"),"OK",IF(AND(V11<>"도비",AF11<>""),"OK","@@"))) | AK11: {=IF(C11="","",INDEX(구분표!$I$2:$I$313, MATCH(1,(구분표!$E$2:$E$313='17년특출'!B11)*(구분표!$F$2:$F$313='17년특출'!C11)*(구분표!$G$2:$G$313='17년특출'!A11),0)))}
A12: =IFERROR(VLOOKUP($C12,구분표!$A$2:$C$313,2,FALSE),"") | B12: =IFERROR(VLOOKUP($C12,구분표!$A$2:$C$313,3,FALSE),"") | K12: =H12+I12+J12 -> 0 | N12: =H12+L12+M12 -> 0 | O12: =IF(AND((K12=0),(N12>0)),"O",IF(AND((I12<0),(K12-N12<0)),"O","X")) -> X | W12: =IF($V12<>"도비",IF($T12="국도비","직접입력",SUM($I12:$J12)),) -> 0 | X12: =IF($V12="도비",SUM($I12:$J12),IF($T12="국도비","직접입력",SUM($I12:$J12)-$W12)) -> 0 | Y12: =IF(SUM($I12:$J12)=SUM($W12:$X12),"OK","검토") -> OK | AB12: =IF($V12<>"도비",IF($T12="국도비","직접입력",SUM($L12:$M12)),) -> 0 | AC12: =IF($V12="도비",SUM(L12:M12),IF($T12="국도비","직접입력",SUM(L12:M12)-AB12)) -> 0 | AD12: =IF(SUM(L12:M12)=SUM(AB12:AC12),"OK","검토") -> OK | AF12: =IF(V12="","",IF(V12="도비","세입없음","직접입력")) | AH12: =IF(AF12="","",COUNTIF($AF$7:$AF$39,AF12)) | AI12: =IF(V12="","",IF(AND(V12="도비",AF12="세입없음"),"OK",IF(AND(V12<>"도비",AF12<>""),"OK","@@"))) | AK12: {=IF(C12="","",INDEX(구분표!$I$2:$I$313, MATCH(1,(구분표!$E$2:$E$313='17년특출'!B12)*(구분표!$F$2:$F$313='17년특출'!C12)*(구분표!$G$2:$G$313='17년특출'!A12),0)))}
A13: =IFERROR(VLOOKUP($C13,구분표!$A$2:$C$313,2,FALSE),"") | B13: =IFERROR(VLOOKUP($C13,구분표!$A$2:$C$313,3,FALSE),"") | K13: =H13+I13+J13 -> 0 | N13: =H13+L13+M13 -> 0 | O13: =IF(AND((K13=0),(N13>0)),"O",IF(AND((I13<0),(K13-N13<0)),"O","X")) -> X | W13: =IF($V13<>"도비",IF($T13="국도비","직접입력",SUM($I13:$J13)),) -> 0 | X13: =IF($V13="도비",SUM($I13:$J13),IF($T13="국도비","직접입력",SUM($I13:$J13)-$W13)) -> 0 | Y13: =IF(SUM($I13:$J13)=SUM($W13:$X13),"OK","검토") -> OK | AB13: =IF($V13<>"도비",IF($T13="국도비","직접입력",SUM($L13:$M13)),) -> 0 | AC13: =IF($V13="도비",SUM(L13:M13),IF($T13="국도비","직접입력",SUM(L13:M13)-AB13)) -> 0 | AD13: =IF(SUM(L13:M13)=SUM(AB13:AC13),"OK","검토") -> OK | AF13: =IF(V13="","",IF(V13="도비","세입없음","직접입력")) | AH13: =IF(AF13="","",COUNTIF($AF$7:$AF$39,AF13)) | AI13: =IF(V13="","",IF(AND(V13="도비",AF13="세입없음"),"OK",IF(AND(V13<>"도비",AF13<>""),"OK","@@"))) | AK13: {=IF(C13="","",INDEX(구분표!$I$2:$I$313, MATCH(1,(구분표!$E$2:$E$313='17년특출'!B13)*(구분표!$F$2:$F$313='17년특출'!C13)*(구분표!$G$2:$G$313='17년특출'!A13),0)))}
A14: =IFERROR(VLOOKUP($C14,구분표!$A$2:$C$313,2,FALSE),"") | B14: =IFERROR(VLOOKUP($C14,구분표!$A$2:$C$313,3,FALSE),"") | K14: =H14+I14+J14 -> 0 | N14: =H14+L14+M14 -> 0 | O14: =IF(AND((K14=0),(N14>0)),"O",IF(AND((I14<0),(K14-N14<0)),"O","X")) -> X | W14: =IF($V14<>"도비",IF($T14="국도비","직접입력",SUM($I14:$J14)),) -> 0 | X14: =IF($V14="도비",SUM($I14:$J14),IF($T14="국도비","직접입력",SUM($I14:$J14)-$W14)) -> 0 | Y14: =IF(SUM($I14:$J14)=SUM($W14:$X14),"OK","검토") -> OK | AB14: =IF($V14<>"도비",IF($T14="국도비","직접입력",SUM($L14:$M14)),) -> 0 | AC14: =IF($V14="도비",SUM(L14:M14),IF($T14="국도비","직접입력",SUM(L14:M14)-AB14)) -> 0 | AD14: =IF(SUM(L14:M14)=SUM(AB14:AC14),"OK","검토") -> OK | AF14: =IF(V14="","",IF(V14="도비","세입없음","직접입력")) | AH14: =IF(AF14="","",COUNTIF($AF$7:$AF$39,AF14)) | AI14: =IF(V14="","",IF(AND(V14="도비",AF14="세입없음"),"OK",IF(AND(V14<>"도비",AF14<>""),"OK","@@"))) | AK14: {=IF(C14="","",INDEX(구분표!$I$2:$I$313, MATCH(1,(구분표!$E$2:$E$313='17년특출'!B14)*(구분표!$F$2:$F$313='17년특출'!C14)*(구분표!$G$2:$G$313='17년특출'!A14),0)))}
A15: =IFERROR(VLOOKUP($C15,구분표!$A$2:$C$313,2,FALSE),"") | B15: =IFERROR(VLOOKUP($C15,구분표!$A$2:$C$313,3,FALSE),"") | K15: =H15+I15+J15 -> 0 | N15: =H15+L15+M15 -> 0 | O15: =IF(AND((K15=0),(N15>0)),"O",IF(AND((I15<0),(K15-N15<0)),"O","X")) -> X | W15: =IF($V15<>"도비",IF($T15="국도비","직접입력",SUM($I15:$J15)),) -> 0 | X15: =IF($V15="도비",SUM($I15:$J15),IF($T15="국도비","직접입력",SUM($I15:$J15)-$W15)) -> 0 | Y15: =IF(SUM($I15:$J15)=SUM($W15:$X15),"OK","검토") -> OK | AB15: =IF($V15<>"도비",IF($T15="국도비","직접입력",SUM($L15:$M15)),) -> 0 | AC15: =IF($V15="도비",SUM(L15:M15),IF($T15="국도비","직접입력",SUM(L15:M15)-AB15)) -> 0 | AD15: =IF(SUM(L15:M15)=SUM(AB15:AC15),"OK","검토") -> OK | AF15: =IF(V15="","",IF(V15="도비","세입없음","직접입력")) | AH15: =IF(AF15="","",COUNTIF($AF$7:$AF$39,AF15)) | AI15: =IF(V15="","",IF(AND(V15="도비",AF15="세입없음"),"OK",IF(AND(V15<>"도비",AF15<>""),"OK","@@"))) | AK15: {=IF(C15="","",INDEX(구분표!$I$2:$I$313, MATCH(1,(구분표!$E$2:$E$313='17년특출'!B15)*(구분표!$F$2:$F$313='17년특출'!C15)*(구분표!$G$2:$G$313='17년특출'!A15),0)))}
A16: =IFERROR(VLOOKUP($C16,구분표!$A$2:$C$313,2,FALSE),"") | B16: =IFERROR(VLOOKUP($C16,구분표!$A$2:$C$313,3,FALSE),"") | K16: =H16+I16+J16 -> 0 | N16: =H16+L16+M16 -> 0 | O16: =IF(AND((K16=0),(N16>0)),"O",IF(AND((I16<0),(K16-N16<0)),"O","X")) -> X | W16: =IF($V16<>"도비",IF($T16="국도비","직접입력",SUM($I16:$J16)),) -> 0 | X16: =IF($V16="도비",SUM($I16:$J16),IF($T16="국도비","직접입력",SUM($I16:$J16)-$W16)) -> 0 | Y16: =IF(SUM($I16:$J16)=SUM($W16:$X16),"OK","검토") -> OK | AB16: =IF($V16<>"도비",IF($T16="국도비","직접입력",SUM($L16:$M16)),) -> 0 | AC16: =IF($V16="도비",SUM(L16:M16),IF($T16="국도비","직접입력",SUM(L16:M16)-AB16)) -> 0 | AD16: =IF(SUM(L16:M16)=SUM(AB16:AC16),"OK","검토") -> OK | AF16: =IF(V16="","",IF(V16="도비","세입없음","직접입력")) | AH16: =IF(AF16="","",COUNTIF($AF$7:$AF$39,AF16)) | AI16: =IF(V16="","",IF(AND(V16="도비",AF16="세입없음"),"OK",IF(AND(V16<>"도비",AF16<>""),"OK","@@"))) | AK16: {=IF(C16="","",INDEX(구분표!$I$2:$I$313, MATCH(1,(구분표!$E$2:$E$313='17년특출'!B16)*(구분표!$F$2:$F$313='17년특출'!C16)*(구분표!$G$2:$G$313='17년특출'!A16),0)))}
A17: =IFERROR(VLOOKUP($C17,구분표!$A$2:$C$313,2,FALSE),"") | B17: =IFERROR(VLOOKUP($C17,구분표!$A$2:$C$313,3,FALSE),"") | K17: =H17+I17+J17 -> 0 | N17: =H17+L17+M17 -> 0 | O17: =IF(AND((K17=0),(N17>0)),"O",IF(AND((I17<0),(K17-N17<0)),"O","X")) -> X | W17: =IF($V17<>"도비",IF($T17="국도비","직접입력",SUM($I17:$J17)),) -> 0 | X17: =IF($V17="도비",SUM($I17:$J17),IF($T17="국도비","직접입력",SUM($I17:$J17)-$W17)) -> 0 | Y17: =IF(SUM($I17:$J17)=SUM($W17:$X17),"OK","검토") -> OK | AB17: =IF($V17<>"도비",IF($T17="국도비","직접입력",SUM($L17:$M17)),) -> 0 | AC17: =IF($V17="도비",SUM(L17:M17),IF($T17="국도비","직접입력",SUM(L17:M17)-AB17)) -> 0 | AD17: =IF(SUM(L17:M17)=SUM(AB17:AC17),"OK","검토") -> OK | AF17: =IF(V17="","",IF(V17="도비","세입없음","직접입력")) | AH17: =IF(AF17="","",COUNTIF($AF$7:$AF$39,AF17)) | AI17: =IF(V17="","",IF(AND(V17="도비",AF17="세입없음"),"OK",IF(AND(V17<>"도비",AF17<>""),"OK","@@"))) | AK17: {=IF(C17="","",INDEX(구분표!$I$2:$I$313, MATCH(1,(구분표!$E$2:$E$313='17년특출'!B17)*(구분표!$F$2:$F$313='17년특출'!C17)*(구분표!$G$2:$G$313='17년특출'!A17),0)))}
A18: ( 특별회계) | H18: =SUM(H19:H28) -> 0 | I18: =SUM(I19:I28) -> 0 | J18: =SUM(J19:J28) -> 0 | K18: =SUM(K19:K28) -> 0 | L18: =SUM(L19:L28) -> 0 | M18: =SUM(M19:M28) -> 0 | N18: =SUM(N19:N28) -> 0 | AF18: =IF(V18="","",IF(V18="도비","세입없음","직접입력"))
A19: =IFERROR(VLOOKUP($C19,구분표!$A$2:$C$313,2,FALSE),"") | B19: =IFERROR(VLOOKUP($C19,구분표!$A$2:$C$313,3,FALSE),"") | K19: =H19+I19+J19 -> 0 | N19: =H19+L19+M19 -> 0 | O19: =IF(AND((K19=0),(N19>0)),"O",IF(AND((I19<0),(K19-N19<0)),"O","X")) -> X | W19: =IF($V19<>"도비",IF($T19="국도비","직접입력",SUM($I19:$J19)),) -> 0 | X19: =IF($V19="도비",SUM($I19:$J19),IF($T19="국도비","직접입력",SUM($I19:$J19)-$W19)) -> 0 | Y19: =IF(SUM($I19:$J19)=SUM($W19:$X19),"OK","검토") -> OK | AB19: =IF($V19<>"도비",IF($T19="국도비","직접입력",SUM($L19:$M19)),) -> 0 | AC19: =IF($V19="도비",SUM(L19:M19),IF($T19="국도비","직접입력",SUM(L19:M19)-AB19)) -> 0 | AD19: =IF(SUM(L19:M19)=SUM(AB19:AC19),"OK","검토") -> OK | AF19: =IF(V19="","",IF(V19="도비","세입없음","직접입력")) | AH19: =IF(AF19="","",COUNTIF($AF$7:$AF$39,AF19)) | AI19: =IF(V19="","",IF(AND(V19="도비",AF19="세입없음"),"OK",IF(AND(V19<>"도비",AF19<>""),"OK","@@"))) | AK19: {=IF(C19="","",INDEX(구분표!$I$2:$I$313, MATCH(1,(구분표!$E$2:$E$313='17년특출'!B19)*(구분표!$F$2:$F$313='17년특출'!C19)*(구분표!$G$2:$G$313='17년특출'!A19),0)))}
A20: =IFERROR(VLOOKUP($C20,구분표!$A$2:$C$313,2,FALSE),"") | B20: =IFERROR(VLOOKUP($C20,구분표!$A$2:$C$313,3,FALSE),"") | K20: =H20+I20+J20 -> 0 | N20: =H20+L20+M20 -> 0 | O20: =IF(AND((K20=0),(N20>0)),"O",IF(AND((I20<0),(K20-N20<0)),"O","X")) -> X | W20: =IF($V20<>"도비",IF($T20="국도비","직접입력",SUM($I20:$J20)),) -> 0 | X20: =IF($V20="도비",SUM($I20:$J20),IF($T20="국도비","직접입력",SUM($I20:$J20)-$W20)) -> 0 | Y20: =IF(SUM($I20:$J20)=SUM($W20:$X20),"OK","검토") -> OK | AB20: =IF($V20<>"도비",IF($T20="국도비","직접입력",SUM($L20:$M20)),) -> 0 | AC20: =IF($V20="도비",SUM(L20:M20),IF($T20="국도비","직접입력",SUM(L20:M20)-AB20)) -> 0 | AD20: =IF(SUM(L20:M20)=SUM(AB20:AC20),"OK","검토") -> OK | AF20: =IF(V20="","",IF(V20="도비","세입없음","직접입력")) | AH20: =IF(AF20="","",COUNTIF($AF$7:$AF$39,AF20)) | AI20: =IF(V20="","",IF(AND(V20="도비",AF20="세입없음"),"OK",IF(AND(V20<>"도비",AF20<>""),"OK","@@"))) | AK20: {=IF(C20="","",INDEX(구분표!$I$2:$I$313, MATCH(1,(구분표!$E$2:$E$313='17년특출'!B20)*(구분표!$F$2:$F$313='17년특출'!C20)*(구분표!$G$2:$G$313='17년특출'!A20),0)))}
A21: =IFERROR(VLOOKUP($C21,구분표!$A$2:$C$313,2,FALSE),"") | B21: =IFERROR(VLOOKUP($C21,구분표!$A$2:$C$313,3,FALSE),"") | K21: =H21+I21+J21 -> 0 | N21: =H21+L21+M21 -> 0 | O21: =IF(AND((K21=0),(N21>0)),"O",IF(AND((I21<0),(K21-N21<0)),"O","X")) -> X | W21: =IF($V21<>"도비",IF($T21="국도비","직접입력",SUM($I21:$J21)),) -> 0 | X21: =IF($V21="도비",SUM($I21:$J21),IF($T21="국도비","직접입력",SUM($I21:$J21)-$W21)) -> 0 | Y21: =IF(SUM($I21:$J21)=SUM($W21:$X21),"OK","검토") -> OK | AB21: =IF($V21<>"도비",IF($T21="국도비","직접입력",SUM($L21:$M21)),) -> 0 | AC21: =IF($V21="도비",SUM(L21:M21),IF($T21="국도비","직접입력",SUM(L21:M21)-AB21)) -> 0 | AD21: =IF(SUM(L21:M21)=SUM(AB21:AC21),"OK","검토") -> OK | AF21: =IF(V21="","",IF(V21="도비","세입없음","직접입력")) | AH21: =IF(AF21="","",COUNTIF($AF$7:$AF$39,AF21)) | AI21: =IF(V21="","",IF(AND(V21="도비",AF21="세입없음"),"OK",IF(AND(V21<>"도비",AF21<>""),"OK","@@"))) | AK21: {=IF(C21="","",INDEX(구분표!$I$2:$I$313, MATCH(1,(구분표!$E$2:$E$313='17년특출'!B21)*(구분표!$F$2:$F$313='17년특출'!C21)*(구분표!$G$2:$G$313='17년특출'!A21),0)))}
A22: =IFERROR(VLOOKUP($C22,구분표!$A$2:$C$313,2,FALSE),"") | B22: =IFERROR(VLOOKUP($C22,구분표!$A$2:$C$313,3,FALSE),"") | K22: =H22+I22+J22 -> 0 | N22: =H22+L22+M22 -> 0 | O22: =IF(AND((K22=0),(N22>0)),"O",IF(AND((I22<0),(K22-N22<0)),"O","X")) -> X | W22: =IF($V22<>"도비",IF($T22="국도비","직접입력",SUM($I22:$J22)),) -> 0 | X22: =IF($V22="도비",SUM($I22:$J22),IF($T22="국도비","직접입력",SUM($I22:$J22)-$W22)) -> 0 | Y22: =IF(SUM($I22:$J22)=SUM($W22:$X22),"OK","검토") -> OK | AB22: =IF($V22<>"도비",IF($T22="국도비","직접입력",SUM($L22:$M22)),) -> 0 | AC22: =IF($V22="도비",SUM(L22:M22),IF($T22="국도비","직접입력",SUM(L22:M22)-AB22)) -> 0 | AD22: =IF(SUM(L22:M22)=SUM(AB22:AC22),"OK","검토") -> OK | AF22: =IF(V22="","",IF(V22="도비","세입없음","직접입력")) | AH22: =IF(AF22="","",COUNTIF($AF$7:$AF$39,AF22)) | AI22: =IF(V22="","",IF(AND(V22="도비",AF22="세입없음"),"OK",IF(AND(V22<>"도비",AF22<>""),"OK","@@"))) | AK22: {=IF(C22="","",INDEX(구분표!$I$2:$I$313, MATCH(1,(구분표!$E$2:$E$313='17년특출'!B22)*(구분표!$F$2:$F$313='17년특출'!C22)*(구분표!$G$2:$G$313='17년특출'!A22),0)))}
A23: =IFERROR(VLOOKUP($C23,구분표!$A$2:$C$313,2,FALSE),"") | B23: =IFERROR(VLOOKUP($C23,구분표!$A$2:$C$313,3,FALSE),"") | K23: =H23+I23+J23 -> 0 | N23: =H23+L23+M23 -> 0 | O23: =IF(AND((K23=0),(N23>0)),"O",IF(AND((I23<0),(K23-N23<0)),"O","X")) -> X | W23: =IF($V23<>"도비",IF($T23="국도비","직접입력",SUM($I23:$J23)),) -> 0 | X23: =IF($V23="도비",SUM($I23:$J23),IF($T23="국도비","직접입력",SUM($I23:$J23)-$W23)) -> 0 | Y23: =IF(SUM($I23:$J23)=SUM($W23:$X23),"OK","검토") -> OK | AB23: =IF($V23<>"도비",IF($T23="국도비","직접입력",SUM($L23:$M23)),) -> 0 | AC23: =IF($V23="도비",SUM(L23:M23),IF($T23="국도비","직접입력",SUM(L23:M23)-AB23)) -> 0 | AD23: =IF(SUM(L23:M23)=SUM(AB23:AC23),"OK","검토") -> OK | AF23: =IF(V23="","",IF(V23="도비","세입없음","직접입력")) | AH23: =IF(AF23="","",COUNTIF($AF$7:$AF$39,AF23)) | AI23: =IF(V23="","",IF(AND(V23="도비",AF23="세입없음"),"OK",IF(AND(V23<>"도비",AF23<>""),"OK","@@"))) | AK23: {=IF(C23="","",INDEX(구분표!$I$2:$I$313, MATCH(1,(구분표!$E$2:$E$313='17년특출'!B23)*(구분표!$F$2:$F$313='17년특출'!C23)*(구분표!$G$2:$G$313='17년특출'!A23),0)))}
A24: =IFERROR(VLOOKUP($C24,구분표!$A$2:$C$313,2,FALSE),"") | B24: =IFERROR(VLOOKUP($C24,구분표!$A$2:$C$313,3,FALSE),"") | K24: =H24+I24+J24 -> 0 | N24: =H24+L24+M24 -> 0 | O24: =IF(AND((K24=0),(N24>0)),"O",IF(AND((I24<0),(K24-N24<0)),"O","X")) -> X | W24: =IF($V24<>"도비",IF($T24="국도비","직접입력",SUM($I24:$J24)),) -> 0 | X24: =IF($V24="도비",SUM($I24:$J24),IF($T24="국도비","직접입력",SUM($I24:$J24)-$W24)) -> 0 | Y24: =IF(SUM($I24:$J24)=SUM($W24:$X24),"OK","검토") -> OK | AB24: =IF($V24<>"도비",IF($T24="국도비","직접입력",SUM($L24:$M24)),) -> 0 | AC24: =IF($V24="도비",SUM(L24:M24),IF($T24="국도비","직접입력",SUM(L24:M24)-AB24)) -> 0 | AD24: =IF(SUM(L24:M24)=SUM(AB24:AC24),"OK","검토") -> OK | AF24: =IF(V24="","",IF(V24="도비","세입없음","직접입력")) | AH24: =IF(AF24="","",COUNTIF($AF$7:$AF$39,AF24)) | AI24: =IF(V24="","",IF(AND(V24="도비",AF24="세입없음"),"OK",IF(AND(V24<>"도비",AF24<>""),"OK","@@"))) | AK24: {=IF(C24="","",INDEX(구분표!$I$2:$I$313, MATCH(1,(구분표!$E$2:$E$313='17년특출'!B24)*(구분표!$F$2:$F$313='17년특출'!C24)*(구분표!$G$2:$G$313='17년특출'!A24),0)))}
A25: =IFERROR(VLOOKUP($C25,구분표!$A$2:$C$313,2,FALSE),"") | B25: =IFERROR(VLOOKUP($C25,구분표!$A$2:$C$313,3,FALSE),"") | K25: =H25+I25+J25 -> 0 | N25: =H25+L25+M25 -> 0 | O25: =IF(AND((K25=0),(N25>0)),"O",IF(AND((I25<0),(K25-N25<0)),"O","X")) -> X | W25: =IF($V25<>"도비",IF($T25="국도비","직접입력",SUM($I25:$J25)),) -> 0 | X25: =IF($V25="도비",SUM($I25:$J25),IF($T25="국도비","직접입력",SUM($I25:$J25)-$W25)) -> 0 | Y25: =IF(SUM($I25:$J25)=SUM($W25:$X25),"OK","검토") -> OK | AB25: =IF($V25<>"도비",IF($T25="국도비","직접입력",SUM($L25:$M25)),) -> 0 | AC25: =IF($V25="도비",SUM(L25:M25),IF($T25="국도비","직접입력",SUM(L25:M25)-AB25)) -> 0 | AD25: =IF(SUM(L25:M25)=SUM(AB25:AC25),"OK","검토") -> OK | AF25: =IF(V25="","",IF(V25="도비","세입없음","직접입력")) | AH25: =IF(AF25="","",COUNTIF($AF$7:$AF$39,AF25)) | AI25: =IF(V25="","",IF(AND(V25="도비",AF25="세입없음"),"OK",IF(AND(V25<>"도비",AF25<>""),"OK","@@"))) | AK25: {=IF(C25="","",INDEX(구분표!$I$2:$I$313, MATCH(1,(구분표!$E$2:$E$313='17년특출'!B25)*(구분표!$F$2:$F$313='17년특출'!C25)*(구분표!$G$2:$G$313='17년특출'!A25),0)))}
A26: =IFERROR(VLOOKUP($C26,구분표!$A$2:$C$313,2,FALSE),"") | B26: =IFERROR(VLOOKUP($C26,구분표!$A$2:$C$313,3,FALSE),"") | K26: =H26+I26+J26 -> 0 | N26: =H26+L26+M26 -> 0 | O26: =IF(AND((K26=0),(N26>0)),"O",IF(AND((I26<0),(K26-N26<0)),"O","X")) -> X | W26: =IF($V26<>"도비",IF($T26="국도비","직접입력",SUM($I26:$J26)),) -> 0 | X26: =IF($V26="도비",SUM($I26:$J26),IF($T26="국도비","직접입력",SUM($I26:$J26)-$W26)) -> 0 | Y26: =IF(SUM($I26:$J26)=SUM($W26:$X26),"OK","검토") -> OK | AB26: =IF($V26<>"도비",IF($T26="국도비","직접입력",SUM($L26:$M26)),) -> 0 | AC26: =IF($V26="도비",SUM(L26:M26),IF($T26="국도비","직접입력",SUM(L26:M26)-AB26)) -> 0 | AD26: =IF(SUM(L26:M26)=SUM(AB26:AC26),"OK","검토") -> OK | AF26: =IF(V26="","",IF(V26="도비","세입없음","직접입력")) | AH26: =IF(AF26="","",COUNTIF($AF$7:$AF$39,AF26)) | AI26: =IF(V26="","",IF(AND(V26="도비",AF26="세입없음"),"OK",IF(AND(V26<>"도비",AF26<>""),"OK","@@"))) | AK26: {=IF(C26="","",INDEX(구분표!$I$2:$I$313, MATCH(1,(구분표!$E$2:$E$313='17년특출'!B26)*(구분표!$F$2:$F$313='17년특출'!C26)*(구분표!$G$2:$G$313='17년특출'!A26),0)))}
A27: =IFERROR(VLOOKUP($C27,구분표!$A$2:$C$313,2,FALSE),"") | B27: =IFERROR(VLOOKUP($C27,구분표!$A$2:$C$313,3,FALSE),"") | K27: =H27+I27+J27 -> 0 | N27: =H27+L27+M27 -> 0 | O27: =IF(AND((K27=0),(N27>0)),"O",IF(AND((I27<0),(K27-N27<0)),"O","X")) -> X | W27: =IF($V27<>"도비",IF($T27="국도비","직접입력",SUM($I27:$J27)),) -> 0 | X27: =IF($V27="도비",SUM($I27:$J27),IF($T27="국도비","직접입력",SUM($I27:$J27)-$W27)) -> 0 | Y27: =IF(SUM($I27:$J27)=SUM($W27:$X27),"OK","검토") -> OK | AB27: =IF($V27<>"도비",IF($T27="국도비","직접입력",SUM($L27:$M27)),) -> 0 | AC27: =IF($V27="도비",SUM(L27:M27),IF($T27="국도비","직접입력",SUM(L27:M27)-AB27)) -> 0 | AD27: =IF(SUM(L27:M27)=SUM(AB27:AC27),"OK","검토") -> OK | AF27: =IF(V27="","",IF(V27="도비","세입없음","직접입력")) | AH27: =IF(AF27="","",COUNTIF($AF$7:$AF$39,AF27)) | AI27: =IF(V27="","",IF(AND(V27="도비",AF27="세입없음"),"OK",IF(AND(V27<>"도비",AF27<>""),"OK","@@"))) | AK27: {=IF(C27="","",INDEX(구분표!$I$2:$I$313, MATCH(1,(구분표!$E$2:$E$313='17년특출'!B27)*(구분표!$F$2:$F$313='17년특출'!C27)*(구분표!$G$2:$G$313='17년특출'!A27),0)))}
A28: =IFERROR(VLOOKUP($C28,구분표!$A$2:$C$313,2,FALSE),"") | B28: =IFERROR(VLOOKUP($C28,구분표!$A$2:$C$313,3,FALSE),"") | K28: =H28+I28+J28 -> 0 | N28: =H28+L28+M28 -> 0 | O28: =IF(AND((K28=0),(N28>0)),"O",IF(AND((I28<0),(K28-N28<0)),"O","X")) -> X | W28: =IF($V28<>"도비",IF($T28="국도비","직접입력",SUM($I28:$J28)),) -> 0 | X28: =IF($V28="도비",SUM($I28:$J28),IF($T28="국도비","직접입력",SUM($I28:$J28)-$W28)) -> 0 | Y28: =IF(SUM($I28:$J28)=SUM($W28:$X28),"OK","검토") -> OK | AB28: =IF($V28<>"도비",IF($T28="국도비","직접입력",SUM($L28:$M28)),) -> 0 | AC28: =IF($V28="도비",SUM(L28:M28),IF($T28="국도비","직접입력",SUM(L28:M28)-AB28)) -> 0 | AD28: =IF(SUM(L28:M28)=SUM(AB28:AC28),"OK","검토") -> OK | AF28: =IF(V28="","",IF(V28="도비","세입없음","직접입력")) | AH28: =IF(AF28="","",COUNTIF($AF$7:$AF$39,AF28)) | AI28: =IF(V28="","",IF(AND(V28="도비",AF28="세입없음"),"OK",IF(AND(V28<>"도비",AF28<>""),"OK","@@"))) | AK28: {=IF(C28="","",INDEX(구분표!$I$2:$I$313, MATCH(1,(구분표!$E$2:$E$313='17년특출'!B28)*(구분표!$F$2:$F$313='17년특출'!C28)*(구분표!$G$2:$G$313='17년특출'!A28),0)))}
A29: ( 특별회계) | H29: =SUM(H30:H39) -> 0 | I29: =SUM(I30:I39) -> 0 | J29: =SUM(J30:J39) -> 0 | K29: =SUM(K30:K39) -> 0 | L29: =SUM(L30:L39) -> 0 | M29: =SUM(M30:M39) -> 0 | N29: =SUM(N30:N39) -> 0 | AF29: =IF(V29="","",IF(V29="도비","세입없음","직접입력"))
A30: =IFERROR(VLOOKUP($C30,구분표!$A$2:$C$313,2,FALSE),"") | B30: =IFERROR(VLOOKUP($C30,구분표!$A$2:$C$313,3,FALSE),"") | K30: =H30+I30+J30 -> 0 | N30: =H30+L30+M30 -> 0 | O30: =IF(AND((K30=0),(N30>0)),"O",IF(AND((I30<0),(K30-N30<0)),"O","X")) -> X | W30: =IF($V30<>"도비",IF($T30="국도비","직접입력",SUM($I30:$J30)),) -> 0 | X30: =IF($V30="도비",SUM($I30:$J30),IF($T30="국도비","직접입력",SUM($I30:$J30)-$W30)) -> 0 | Y30: =IF(SUM($I30:$J30)=SUM($W30:$X30),"OK","검토") -> OK | AB30: =IF($V30<>"도비",IF($T30="국도비","직접입력",SUM($L30:$M30)),) -> 0 | AC30: =IF($V30="도비",SUM(L30:M30),IF($T30="국도비","직접입력",SUM(L30:M30)-AB30)) -> 0 | AD30: =IF(SUM(L30:M30)=SUM(AB30:AC30),"OK","검토") -> OK | AF30: =IF(V30="","",IF(V30="도비","세입없음","직접입력")) | AH30: =IF(AF30="","",COUNTIF($AF$7:$AF$39,AF30)) | AI30: =IF(V30="","",IF(AND(V30="도비",AF30="세입없음"),"OK",IF(AND(V30<>"도비",AF30<>""),"OK","@@"))) | AK30: {=IF(C30="","",INDEX(구분표!$I$2:$I$313, MATCH(1,(구분표!$E$2:$E$313='17년특출'!B30)*(구분표!$F$2:$F$313='17년특출'!C30)*(구분표!$G$2:$G$313='17년특출'!A30),0)))}
A31: =IFERROR(VLOOKUP($C31,구분표!$A$2:$C$313,2,FALSE),"") | B31: =IFERROR(VLOOKUP($C31,구분표!$A$2:$C$313,3,FALSE),"") | K31: =H31+I31+J31 -> 0 | N31: =H31+L31+M31 -> 0 | O31: =IF(AND((K31=0),(N31>0)),"O",IF(AND((I31<0),(K31-N31<0)),"O","X")) -> X | W31: =IF($V31<>"도비",IF($T31="국도비","직접입력",SUM($I31:$J31)),) -> 0 | X31: =IF($V31="도비",SUM($I31:$J31),IF($T31="국도비","직접입력",SUM($I31:$J31)-$W31)) -> 0 | Y31: =IF(SUM($I31:$J31)=SUM($W31:$X31),"OK","검토") -> OK | AB31: =IF($V31<>"도비",IF($T31="국도비","직접입력",SUM($L31:$M31)),) -> 0 | AC31: =IF($V31="도비",SUM(L31:M31),IF($T31="국도비","직접입력",SUM(L31:M31)-AB31)) -> 0 | AD31: =IF(SUM(L31:M31)=SUM(AB31:AC31),"OK","검토") -> OK | AF31: =IF(V31="","",IF(V31="도비","세입없음","직접입력")) | AH31: =IF(AF31="","",COUNTIF($AF$7:$AF$39,AF31)) | AI31: =IF(V31="","",IF(AND(V31="도비",AF31="세입없음"),"OK",IF(AND(V31<>"도비",AF31<>""),"OK","@@"))) | AK31: {=IF(C31="","",INDEX(구분표!$I$2:$I$313, MATCH(1,(구분표!$E$2:$E$313='17년특출'!B31)*(구분표!$F$2:$F$313='17년특출'!C31)*(구분표!$G$2:$G$313='17년특출'!A31),0)))}
A32: =IFERROR(VLOOKUP($C32,구분표!$A$2:$C$313,2,FALSE),"") | B32: =IFERROR(VLOOKUP($C32,구분표!$A$2:$C$313,3,FALSE),"") | K32: =H32+I32+J32 -> 0 | N32: =H32+L32+M32 -> 0 | O32: =IF(AND((K32=0),(N32>0)),"O",IF(AND((I32<0),(K32-N32<0)),"O","X")) -> X | W32: =IF($V32<>"도비",IF($T32="국도비","직접입력",SUM($I32:$J32)),) -> 0 | X32: =IF($V32="도비",SUM($I32:$J32),IF($T32="국도비","직접입력",SUM($I32:$J32)-$W32)) -> 0 | Y32: =IF(SUM($I32:$J32)=SUM($W32:$X32),"OK","검토") -> OK | AB32: =IF($V32<>"도비",IF($T32="국도비","직접입력",SUM($L32:$M32)),) -> 0 | AC32: =IF($V32="도비",SUM(L32:M32),IF($T32="국도비","직접입력",SUM(L32:M32)-AB32)) -> 0 | AD32: =IF(SUM(L32:M32)=SUM(AB32:AC32),"OK","검토") -> OK | AF32: =IF(V32="","",IF(V32="도비","세입없음","직접입력")) | AH32: =IF(AF32="","",COUNTIF($AF$7:$AF$39,AF32)) | AI32: =IF(V32="","",IF(AND(V32="도비",AF32="세입없음"),"OK",IF(AND(V32<>"도비",AF32<>""),"OK","@@"))) | AK32: {=IF(C32="","",INDEX(구분표!$I$2:$I$313, MATCH(1,(구분표!$E$2:$E$313='17년특출'!B32)*(구분표!$F$2:$F$313='17년특출'!C32)*(구분표!$G$2:$G$313='17년특출'!A32),0)))}
A33: =IFERROR(VLOOKUP($C33,구분표!$A$2:$C$313,2,FALSE),"") | B33: =IFERROR(VLOOKUP($C33,구분표!$A$2:$C$313,3,FALSE),"") | K33: =H33+I33+J33 -> 0 | N33: =H33+L33+M33 -> 0 | O33: =IF(AND((K33=0),(N33>0)),"O",IF(AND((I33<0),(K33-N33<0)),"O","X")) -> X | W33: =IF($V33<>"도비",IF($T33="국도비","직접입력",SUM($I33:$J33)),) -> 0 | X33: =IF($V33="도비",SUM($I33:$J33),IF($T33="국도비","직접입력",SUM($I33:$J33)-$W33)) -> 0 | Y33: =IF(SUM($I33:$J33)=SUM($W33:$X33),"OK","검토") -> OK | AB33: =IF($V33<>"도비",IF($T33="국도비","직접입력",SUM($L33:$M33)),) -> 0 | AC33: =IF($V33="도비",SUM(L33:M33),IF($T33="국도비","직접입력",SUM(L33:M33)-AB33)) -> 0 | AD33: =IF(SUM(L33:M33)=SUM(AB33:AC33),"OK","검토") -> OK | AF33: =IF(V33="","",IF(V33="도비","세입없음","직접입력")) | AH33: =IF(AF33="","",COUNTIF($AF$7:$AF$39,AF33)) | AI33: =IF(V33="","",IF(AND(V33="도비",AF33="세입없음"),"OK",IF(AND(V33<>"도비",AF33<>""),"OK","@@"))) | AK33: {=IF(C33="","",INDEX(구분표!$I$2:$I$313, MATCH(1,(구분표!$E$2:$E$313='17년특출'!B33)*(구분표!$F$2:$F$313='17년특출'!C33)*(구분표!$G$2:$G$313='17년특출'!A33),0)))}
A34: =IFERROR(VLOOKUP($C34,구분표!$A$2:$C$313,2,FALSE),"") | B34: =IFERROR(VLOOKUP($C34,구분표!$A$2:$C$313,3,FALSE),"") | K34: =H34+I34+J34 -> 0 | N34: =H34+L34+M34 -> 0 | O34: =IF(AND((K34=0),(N34>0)),"O",IF(AND((I34<0),(K34-N34<0)),"O","X")) -> X | W34: =IF($V34<>"도비",IF($T34="국도비","직접입력",SUM($I34:$J34)),) -> 0 | X34: =IF($V34="도비",SUM($I34:$J34),IF($T34="국도비","직접입력",SUM($I34:$J34)-$W34)) -> 0 | Y34: =IF(SUM($I34:$J34)=SUM($W34:$X34),"OK","검토") -> OK | AB34: =IF($V34<>"도비",IF($T34="국도비","직접입력",SUM($L34:$M34)),) -> 0 | AC34: =IF($V34="도비",SUM(L34:M34),IF($T34="국도비","직접입력",SUM(L34:M34)-AB34)) -> 0 | AD34: =IF(SUM(L34:M34)=SUM(AB34:AC34),"OK","검토") -> OK | AF34: =IF(V34="","",IF(V34="도비","세입없음","직접입력")) | AH34: =IF(AF34="","",COUNTIF($AF$7:$AF$39,AF34)) | AI34: =IF(V34="","",IF(AND(V34="도비",AF34="세입없음"),"OK",IF(AND(V34<>"도비",AF34<>""),"OK","@@"))) | AK34: {=IF(C34="","",INDEX(구분표!$I$2:$I$313, MATCH(1,(구분표!$E$2:$E$313='17년특출'!B34)*(구분표!$F$2:$F$313='17년특출'!C34)*(구분표!$G$2:$G$313='17년특출'!A34),0)))}
A35: =IFERROR(VLOOKUP($C35,구분표!$A$2:$C$313,2,FALSE),"") | B35: =IFERROR(VLOOKUP($C35,구분표!$A$2:$C$313,3,FALSE),"") | K35: =H35+I35+J35 -> 0 | N35: =H35+L35+M35 -> 0 | O35: =IF(AND((K35=0),(N35>0)),"O",IF(AND((I35<0),(K35-N35<0)),"O","X")) -> X | W35: =IF($V35<>"도비",IF($T35="국도비","직접입력",SUM($I35:$J35)),) -> 0 | X35: =IF($V35="도비",SUM($I35:$J35),IF($T35="국도비","직접입력",SUM($I35:$J35)-$W35)) -> 0 | Y35: =IF(SUM($I35:$J35)=SUM($W35:$X35),"OK","검토") -> OK | AB35: =IF($V35<>"도비",IF($T35="국도비","직접입력",SUM($L35:$M35)),) -> 0 | AC35: =IF($V35="도비",SUM(L35:M35),IF($T35="국도비","직접입력",SUM(L35:M35)-AB35)) -> 0 | AD35: =IF(SUM(L35:M35)=SUM(AB35:AC35),"OK","검토") -> OK | AF35: =IF(V35="","",IF(V35="도비","세입없음","직접입력")) | AH35: =IF(AF35="","",COUNTIF($AF$7:$AF$39,AF35)) | AI35: =IF(V35="","",IF(AND(V35="도비",AF35="세입없음"),"OK",IF(AND(V35<>"도비",AF35<>""),"OK","@@"))) | AK35: {=IF(C35="","",INDEX(구분표!$I$2:$I$313, MATCH(1,(구분표!$E$2:$E$313='17년특출'!B35)*(구분표!$F$2:$F$313='17년특출'!C35)*(구분표!$G$2:$G$313='17년특출'!A35),0)))}
A36: =IFERROR(VLOOKUP($C36,구분표!$A$2:$C$313,2,FALSE),"") | B36: =IFERROR(VLOOKUP($C36,구분표!$A$2:$C$313,3,FALSE),"") | K36: =H36+I36+J36 -> 0 | N36: =H36+L36+M36 -> 0 | O36: =IF(AND((K36=0),(N36>0)),"O",IF(AND((I36<0),(K36-N36<0)),"O","X")) -> X | W36: =IF($V36<>"도비",IF($T36="국도비","직접입력",SUM($I36:$J36)),) -> 0 | X36: =IF($V36="도비",SUM($I36:$J36),IF($T36="국도비","직접입력",SUM($I36:$J36)-$W36)) -> 0 | Y36: =IF(SUM($I36:$J36)=SUM($W36:$X36),"OK","검토") -> OK | AB36: =IF($V36<>"도비",IF($T36="국도비","직접입력",SUM($L36:$M36)),) -> 0 | AC36: =IF($V36="도비",SUM(L36:M36),IF($T36="국도비","직접입력",SUM(L36:M36)-AB36)) -> 0 | AD36: =IF(SUM(L36:M36)=SUM(AB36:AC36),"OK","검토") -> OK | AF36: =IF(V36="","",IF(V36="도비","세입없음","직접입력")) | AH36: =IF(AF36="","",COUNTIF($AF$7:$AF$39,AF36)) | AI36: =IF(V36="","",IF(AND(V36="도비",AF36="세입없음"),"OK",IF(AND(V36<>"도비",AF36<>""),"OK","@@"))) | AK36: {=IF(C36="","",INDEX(구분표!$I$2:$I$313, MATCH(1,(구분표!$E$2:$E$313='17년특출'!B36)*(구분표!$F$2:$F$313='17년특출'!C36)*(구분표!$G$2:$G$313='17년특출'!A36),0)))}
