Workbook

Sheet 구분표
A2: 실과명 조정 | B2: 위원회명 조정 | C2: 실국명 조정 | E2: 실국명 | F2: 실과명 | G2: 위원회명 | H2: 정렬순서 | I2: 정렬코드
A3: 공보담당관 | B3: 의회운영위원회 | C3: 의회사무처 | E3: 의회사무처 | F3: 공보담당관 | G3: 의회운영위원회 | H3: 1 | I3: 0101
A4: 총무담당관 | B4: 의회운영위원회 | C4: 의회사무처 | E4: 의회사무처 | F4: 총무담당관 | G4: 의회운영위원회 | H4: 2 | I4: 0102
A5: 의정담당관 | B5: 의회운영위원회 | C5: 의회사무처 | E5: 의회사무처 | F5: 의정담당관 | G5: 의회운영위원회 | H5: 3 | I5: 0103
A6: 입법정책담당관 | B6: 의회운영위원회 | C6: 의회사무처 | E6: 의회사무처 | F6: 입법정책담당관 | G6: 의회운영위원회 | H6: 4 | I6: 0104
A7: 예산정책담당관 | B7: 의회운영위원회 | C7: 의회사무처 | E7: 의회사무처 | F7: 예산정책담당관 | G7: 의회운영위원회 | H7: 5 | I7: 0105
A8: 언론협력담당관 | B8: 의회운영위원회 | C8: 대변인 | E8: 대변인 | F8: 언론협력담당관 | G8: 의회운영위원회 | H8: 6 | I8: 0106
A9: 보도기획담당관 | B9: 의회운영위원회 | C9: 대변인 | E9: 대변인 | F9: 보도기획담당관 | G9: 의회운영위원회 | H9: 7 | I9: 0107
A10: 홍보미디어담당관 | B10: 의회운영위원회 | C10: 소통기획관 | E10: 소통기획관 | F10: 홍보미디어담당관 | G10: 의회운영위원회 | H10: 8 | I10: 0108
A11: 홍보콘텐츠담당관 | B11: 의회운영위원회 | C11: 소통기획관 | E11: 소통기획관 | F11: 홍보콘텐츠담당관 | G11: 의회운영위원회 | H11: 9 | I11: 0109
A12: 연정협력과 | B12: 의회운영위원회 | C12: 연정협력국 | E12: 연정협력국 | F12: 연정협력과 | G12: 의회운영위원회 | H12: 10 | I12: 0110
A13: 대외협력과 | B13: 의회운영위원회 | C13: 연정협력국 | E13: 연정협력국 | F13: 대외협력과 | G13: 의회운영위원회 | H13: 11 | I13: 0111
... A215: 도서관정책과 | B215: 여성가족교육협력위원회 | C215: 교육협력국 | E215: 교육협력국 | F215: 도서관정책과 | G215: 여성가족교육협력위원회 | H215: 213 | I215: 0313

Sheet 예결표지(세로)
A5: 2015년도 제2회 일반회계 및 특별회계 추가경정 세입·세출 예산안
A7: 예결위 계수조정 결과
A20: 예산결산특별위원회

Sheet 예결표지(가로)
A3: 2015년도 제2회 일반회계 및 특별회계 추가경정 세입·세출 예산안
A5: 예결위 계수조정 결과
A14: 예산결산특별위원회

Sheet 표지
A4: 예결위 계수조정 결과
B6: - 2017년도 일반회계 및 기타특별회계 예산안, 기금운용계획안
A12: 예산결산특별위원회

Sheet 검증
A1: 제4회 추경 일반회계 검증 | H1: 4추 예비비 | J1: 조정액 | K1: =IFERROR(INDEX('17년일출'!AC6:AC120,MATCH("*예비비*",'17년일출'!G6:G120,0)),0) -> 0 | L1: 조정잔액 | M1: =I1+K1 -> 0
M2: (단위 : 천원)
A3: 구분 | B3: 상 임 위 | H3: 구분 | I3: 예 결 위
B4: 세입 | C4: 검증 | D4: 세출 | E4: 검증 | F4: 차액 | I4: 세입 | J4: 검증 | K4: 세출 | L4: 검증 | M4: 차액
A5: 전체 총계 | B5: =SUM(B6:B13)/2 -> 0 | C5: =IF(B5=SUM('17년일입'!H6:I6),"OK","@@") -> OK | D5: =SUM(D6:D13)/2 -> 0 | E5: =IF(D5=SUM('17년일출'!I6:J6),"OK","@@") -> @@ | H5: 전체 총계 | I5: =SUM(I6:I13)/2 -> 0 | J5: =IF(I5=SUM('17년일입'!K6:L6),"OK","@@") -> OK | K5: =SUM(K6:K13)/2 -> 0 | L5: =IF(K5=SUM('17년일출'!L6:M6),"OK","@@") -> OK
A6: 자체 계 | B6: =SUM(B7:B8) -> 0 | C6: =IF(B6='17년일입'!W6,"OK","@@") -> OK | D6: =SUM(D7:D8) -> 0 | E6: =IF(D6='17년일출'!X6,"OK","@@") -> OK | H6: 자체 계 | I6: =SUM(I7:I8) -> 0 | J6: =IF(I6='17년일입'!AB6,"OK","@@") -> OK | K6: =SUM(K7:K8) -> 0 | L6: =IF(K6='17년일출'!AC6,"OK","@@") -> OK
A7: 자체 도비 | B7: =SUMIFS('17년일입'!W6:W100,'17년일입'!U6:U100,"도비") -> 0 | D7: =SUMIFS('17년일출'!$X$6:$X$120,'17년일출'!$V$6:$V$120,"도비") -> 0 | H7: 자체 도비 | I7: =SUMIFS('17년일입'!AB6:AB100,'17년일입'!Z6:Z100,"국비") -> 0 | K7: =SUMIFS('17년일출'!$AC$6:$AC$120,'17년일출'!$AA$6:$AA$120,"도비") -> 0
A8: 의존 매칭 도비 | B8: =SUMIFS('17년일입'!W6:W100,'17년일입'!U6:U100,"국비")+SUMIFS('17년일입'!W6:W100,'17년일입'!U6:U100,"지특")+SUMIFS('17년일입'!W6:W100,'17년일입'!U6:U100,"기금")+SUMIFS('17년일입'!W6:W100,'17년일입'!U6:U100,"특교") -> 0 | D8: =SUMIFS('17년일출'!$X$6:$X$120,'17년일출'!$V$6:$V$120,"국비")+SUMIFS('17년일출'!$X$6:$X$120,'17년일출'!$V$6:$V$120,"지특")+SUMIFS('17년일출'!$X$6:$X$120,'17년일출'!$V$6:$V$120,"기금")+SUMIFS('17년일출'!$X$6:$X$120,'17년일출'!$V$6:$V$120,"특교") -> 0 | H8: 의존 매칭 도비 | I8: =SUMIFS('17년일입'!AB6:AB100,'17년일입'!Z6:Z100,"국비")+SUMIFS('17년일입'!AB6:AB100,'17년일입'!Z6:Z100,"지특")+SUMIFS('17년일입'!AB6:AB100,'17년일입'!Z6:Z100,"기금")+SUMIFS('17년일입'!AB6:AB100,'17년일입'!Z6:Z100,"특교") -> 0 | K8: =SUMIFS('17년일출'!$AC$6:$AC$120,'17년일출'!$AA$6:$AA$120,"국비")+SUMIFS('17년일출'!$AC$6:$AC$120,'17년일출'!$AA$6:$AA$120,"지특")+SUMIFS('17년일출'!$AC$6:$AC$120,'17년일출'!$AA$6:$AA$120,"기금")+SUMIFS('17년일출'!$AC$6:$AC$120,'17년일출'!$AA$6:$AA$120,"특교") -> 0
A9: 의존 계 | B9: =SUM(B10:B13) -> 0 | C9: =IF(B9='17년일입'!V6,"OK","@@") -> OK | D9: =SUM(D10:D13) -> 0 | E9: =IF(D9='17년일출'!W6,"OK","@@") -> @@ | F9: =SUM(F10:F13) -> 0 | H9: 의존 계 | I9: =SUM(I10:I13) -> 0 | J9: =IF(I9='17년일입'!V6,"OK","@@") -> OK | K9: =SUM(K10:K13) -> 0 | L9: =IF(K9='17년일출'!AB6,"OK","@@") -> OK | M9: =SUM(M10:M13) -> 0
A10: 국비 | B10: =SUMIFS('17년일입'!$W$6:$W$100,'17년일입'!$U$6:$U$100,검증!A10) -> 0 | D10: =SUMIFS('17년일출'!$X$6:$X$120,'17년일출'!$V$6:$V$120,검증!A10) -> 0 | F10: =D10-B10 -> 0 | H10: 국비 | I10: =SUMIFS('17년일입'!$AB$6:$AB$100,'17년일입'!$Z$6:$Z$100,검증!H10) -> 0 | K10: =SUMIFS('17년일출'!$AC$6:$AC$120,'17년일출'!$AA$6:$AA$120,검증!H10) -> 0 | M10: =K10-I10 -> 0
A11: 지특 | B11: =SUMIFS('17년일입'!$W$6:$W$100,'17년일입'!$U$6:$U$100,검증!A11) -> 0 | D11: =SUMIFS('17년일출'!$X$6:$X$120,'17년일출'!$V$6:$V$120,검증!A11) -> 0 | F11: =D11-B11 -> 0 | H11: 지특 | I11: =SUMIFS('17년일입'!$AB$6:$AB$100,'17년일입'!$Z$6:$Z$100,검증!H11) -> 0 | K11: =SUMIFS('17년일출'!$AC$6:$AC$120,'17년일출'!$AA$6:$AA$120,검증!H11) -> 0 | M11: =K11-I11 -> 0
A12: 기금 | B12: =SUMIFS('17년일입'!$W$6:$W$100,'17년일입'!$U$6:$U$100,검증!A12) -> 0 | D12: =SUMIFS('17년일출'!$X$6:$X$120,'17년일출'!$V$6:$V$120,검증!A12) -> 0 | F12: =D12-B12 -> 0 | H12: 기금 | I12: =SUMIFS('17년일입'!$AB$6:$AB$100,'17년일입'!$Z$6:$Z$100,검증!H12) -> 0 | K12: =SUMIFS('17년일출'!$AC$6:$AC$120,'17년일출'!$AA$6:$AA$120,검증!H12) -> 0 | M12: =K12-I12 -> 0
A13: 특교 | B13: =SUMIFS('17년일입'!$W$6:$W$100,'17년일입'!$U$6:$U$100,검증!A13) -> 0 | D13: =SUMIFS('17년일출'!$X$6:$X$120,'17년일출'!$V$6:$V$120,검증!A13) -> 0 | F13: =D13-B13 -> 0 | H13: 특교 | I13: =SUMIFS('17년일입'!$AB$6:$AB$100,'17년일입'!$Z$6:$Z$100,검증!H13) -> 0 | K13: =SUMIFS('17년일출'!$AC$6:$AC$120,'17년일출'!$AA$6:$AA$120,검증!H13) -> 0 | M13: =K13-I13 -> 0

Sheet 총괄표
A1: 2017년도 일반 및 특별회계 세입·세출 예산안(전체예산총괄)
A3: □ 총 괄 | C3: 세입예산 증감 | D3: =SUM(C7:D7) -> 0 | F3: 세출예산증감 | G3: =SUM(F7:G7) -> 0
F4: ※ 예비비 증감 | I4: (단위 : 천원)
A5: 구 분 | B5: 집행부제출(안) | C5: 세입예산(안) | F5: 세출예산(안) | I5: 수정예산(안) | K5: ※ 예산안 증감현황
C6: 감 액 | D6: 증 액 | E6: 증감액 | F6: 감 액 | G6: 증 액 | H6: 증감액 | K6: 구 분 | L6: 세입 | M6: 세출 | N6: 예비비 | O6: 비고(???)
A7: 합 계 | B7: =SUM(B8:B17) -> 0 | C7: =SUM(C8:C17) -> 0 | D7: =SUM(D8:D17) -> 0 | E7: =SUM(E8:E17) -> 0 | F7: =SUM(F8:F17) -> 0 | G7: =SUM(G8:G17) -> 0 | H7: =SUM(H8:H17) -> 0 | I7: =SUM(I8:I17) -> 0 | K7: 합 계 | L7: =SUM(L8:L9) -> 0 | M7: =SUM(M8:M9) -> 0 | N7: =L7-M7 -> 0
A8: 의회운영위원회 | B8: =B31 -> 0 | C8: =SUMIFS('17년일입'!K$6:K$100,'17년일입'!$A$6:$A$100,총괄표!$A8)+SUMIFS('17년특입'!K$6:K$39,'17년특입'!$A$6:$A$39,총괄표!$A8) -> 0 | D8: =SUMIFS('17년일입'!L$6:L$100,'17년일입'!$A$6:$A$100,총괄표!$A8)+SUMIFS('17년특입'!L$6:L$39,'17년특입'!$A$6:$A$39,총괄표!$A8) -> 0 | E8: =D8-C8 -> 0 | F8: =SUMIFS('17년일출'!L$6:L$120,'17년일출'!$A$6:$A$120,총괄표!$A8)+SUMIFS('17년특출'!L$6:L$39,'17년특출'!$A$6:$A$39,총괄표!$A8) -> 0 | G8: =SUMIFS('17년일출'!M$6:M$120,'17년일출'!$A$6:$A$120,총괄표!$A8)+SUMIFS('17년특출'!M$6:M$39,'17년특출'!$A$6:$A$39,총괄표!$A8) -> 0 | H8: =G8-F8 -> 0 | I8: =B8+F8+G8 -> 0 | K8: 일반회계 | L8: =SUM(C24:D24) -> 0 | M8: =SUM(F24:G24) -> 0 | N8: =L8-M8 -> 0 | O8: 예비비 증감 - 감액, + 증액에 입력
A9: 기획재정위원회 | B9: =B32 -> 0 | C9: =SUMIFS('17년일입'!K$6:K$100,'17년일입'!$A$6:$A$100,총괄표!$A9)+SUMIFS('17년특입'!K$6:K$39,'17년특입'!$A$6:$A$39,총괄표!$A9) -> 0 | D9: =SUMIFS('17년일입'!L$6:L$100,'17년일입'!$A$6:$A$100,총괄표!$A9)+SUMIFS('17년특입'!L$6:L$39,'17년특입'!$A$6:$A$39,총괄표!$A9) -> 0 | E9: =D9-C9 -> 0 | F9: =SUMIFS('17년일출'!L$6:L$120,'17년일출'!$A$6:$A$120,총괄표!$A9)+SUMIFS('17년특출'!L$6:L$39,'17년특출'!$A$6:$A$39,총괄표!$A9) -> 0 | G9: =SUMIFS('17년일출'!M$6:M$120,'17년일출'!$A$6:$A$120,총괄표!$A9)+SUMIFS('17년특출'!M$6:M$39,'17년특출'!$A$6:$A$39,총괄표!$A9) -> 0 | H9: =G9-F9 -> 0 | I9: =B9+F9+G9 -> 0 | K9: 특별회계 | L9: =SUM(C25:D25) -> 0 | M9: =SUM(F25:G25) -> 0 | N9: =L9-M9 -> 0
A10: 경제과학기술위원회 | B10: =B33 -> 0 | C10: =SUMIFS('17년일입'!K$6:K$100,'17년일입'!$A$6:$A$100,총괄표!$A10)+SUMIFS('17년특입'!K$6:K$39,'17년특입'!$A$6:$A$39,총괄표!$A10) -> 0 | D10: =SUMIFS('17년일입'!L$6:L$100,'17년일입'!$A$6:$A$100,총괄표!$A10)+SUMIFS('17년특입'!L$6:L$39,'17년특입'!$A$6:$A$39,총괄표!$A10) -> 0 | E10: =D10-C10 -> 0 | F10: =SUMIFS('17년일출'!L$6:L$120,'17년일출'!$A$6:$A$120,총괄표!$A10)+SUMIFS('17년특출'!L$6:L$39,'17년특출'!$A$6:$A$39,총괄표!$A10) -> 0 | G10: =SUMIFS('17년일출'!M$6:M$120,'17년일출'!$A$6:$A$120,총괄표!$A10)+SUMIFS('17년특출'!M$6:M$39,'17년특출'!$A$6:$A$39,총괄표!$A10) -> 0 | H10: =G10-F10 -> 0 | I10: =B10+F10+G10 -> 0
A11: 안전행정위원회 | B11: =B34 -> 0 | C11: =SUMIFS('17년일입'!K$6:K$100,'17년일입'!$A$6:$A$100,총괄표!$A11)+SUMIFS('17년특입'!K$6:K$39,'17년특입'!$A$6:$A$39,총괄표!$A11) -> 0 | D11: =SUMIFS('17년일입'!L$6:L$100,'17년일입'!$A$6:$A$100,총괄표!$A11)+SUMIFS('17년특입'!L$6:L$39,'17년특입'!$A$6:$A$39,총괄표!$A11) -> 0 | E11: =D11-C11 -> 0 | F11: =SUMIFS('17년일출'!L$6:L$120,'17년일출'!$A$6:$A$120,총괄표!$A11)+SUMIFS('17년특출'!L$6:L$39,'17년특출'!$A$6:$A$39,총괄표!$A11) -> 0 | G11: =SUMIFS('17년일출'!M$6:M$120,'17년일출'!$A$6:$A$120,총괄표!$A11)+SUMIFS('17년특출'!M$6:M$39,'17년특출'!$A$6:$A$39,총괄표!$A11) -> 0 | H11: =G11-F11 -> 0 | I11: =B11+F11+G11 -> 0
A12: 문화체육관광위원회 | B12: =B35 -> 0 | C12: =SUMIFS('17년일입'!K$6:K$100,'17년일입'!$A$6:$A$100,총괄표!$A12)+SUMIFS('17년특입'!K$6:K$39,'17년특입'!$A$6:$A$39,총괄표!$A12) -> 0 | D12: =SUMIFS('17년일입'!L$6:L$100,'17년일입'!$A$6:$A$100,총괄표!$A12)+SUMIFS('17년특입'!L$6:L$39,'17년특입'!$A$6:$A$39,총괄표!$A12) -> 0 | E12: =D12-C12 -> 0 | F12: =SUMIFS('17년일출'!L$6:L$120,'17년일출'!$A$6:$A$120,총괄표!$A12)+SUMIFS('17년특출'!L$6:L$39,'17년특출'!$A$6:$A$39,총괄표!$A12) -> 0 | G12: =SUMIFS('17년일출'!M$6:M$120,'17년일출'!$A$6:$A$120,총괄표!$A12)+SUMIFS('17년특출'!M$6:M$39,'17년특출'!$A$6:$A$39,총괄표!$A12) -> 0 | H12: =G12-F12 -> 0 | I12: =B12+F12+G12 -> 0
A13: 농정해양위원회 | B13: =B36 -> 0 | C13: =SUMIFS('17년일입'!K$6:K$100,'17년일입'!$A$6:$A$100,총괄표!$A13)+SUMIFS('17년특입'!K$6:K$39,'17년특입'!$A$6:$A$39,총괄표!$A13) -> 0 | D13: =SUMIFS('17년일입'!L$6:L$100,'17년일입'!$A$6:$A$100,총괄표!$A13)+SUMIFS('17년특입'!L$6:L$39,'17년특입'!$A$6:$A$39,총괄표!$A13) -> 0 | E13: =D13-C13 -> 0 | F13: =SUMIFS('17년일출'!L$6:L$120,'17년일출'!$A$6:$A$120,총괄표!$A13)+SUMIFS('17년특출'!L$6:L$39,'17년특출'!$A$6:$A$39,총괄표!$A13) -> 0 | G13: =SUMIFS('17년일출'!M$6:M$120,'17년일출'!$A$6:$A$120,총괄표!$A13)+SUMIFS('17년특출'!M$6:M$39,'17년특출'!$A$6:$A$39,총괄표!$A13) -> 0 | H13: =G13-F13 -> 0 | I13: =B13+F13+G13 -> 0
A14: 보건복지위원회 | B14: =B37 -> 0 | C14: =SUMIFS('17년일입'!K$6:K$100,'17년일입'!$A$6:$A$100,총괄표!$A14)+SUMIFS('17년특입'!K$6:K$39,'17년특입'!$A$6:$A$39,총괄표!$A14) -> 0 | D14: =SUMIFS('17년일입'!L$6:L$100,'17년일입'!$A$6:$A$100,총괄표!$A14)+SUMIFS('17년특입'!L$6:L$39,'17년특입'!$A$6:$A$39,총괄표!$A14) -> 0 | E14: =D14-C14 -> 0 | F14: =SUMIFS('17년일출'!L$6:L$120,'17년일출'!$A$6:$A$120,총괄표!$A14)+SUMIFS('17년특출'!L$6:L$39,'17년특출'!$A$6:$A$39,총괄표!$A14) -> 0 | G14: =SUMIFS('17년일출'!M$6:M$120,'17년일출'!$A$6:$A$120,총괄표!$A14)+SUMIFS('17년특출'!M$6:M$39,'17년특출'!$A$6:$A$39,총괄표!$A14) -> 0 | H14: =G14-F14 -> 0 | I14: =B14+F14+G14 -> 0
A15: 건설교통위원회 | B15: =B38 -> 0 | C15: =SUMIFS('17년일입'!K$6:K$100,'17년일입'!$A$6:$A$100,총괄표!$A15)+SUMIFS('17년특입'!K$6:K$39,'17년특입'!$A$6:$A$39,총괄표!$A15) -> 0 | D15: =SUMIFS('17년일입'!L$6:L$100,'17년일입'!$A$6:$A$100,총괄표!$A15)+SUMIFS('17년특입'!L$6:L$39,'17년특입'!$A$6:$A$39,총괄표!$A15) -> 0 | E15: =D15-C15 -> 0 | F15: =SUMIFS('17년일출'!L$6:L$120,'17년일출'!$A$6:$A$120,총괄표!$A15)+SUMIFS('17년특출'!L$6:L$39,'17년특출'!$A$6:$A$39,총괄표!$A15) -> 0 | G15: =SUMIFS('17년일출'!M$6:M$120,'17년일출'!$A$6:$A$120,총괄표!$A15)+SUMIFS('17년특출'!M$6:M$39,'17년특출'!$A$6:$A$39,총괄표!$A15) -> 0 | H15: =G15-F15 -> 0 | I15: =B15+F15+G15 -> 0
A16: 도시환경위원회 | B16: =B39 -> 0 | C16: =SUMIFS('17년일입'!K$6:K$100,'17년일입'!$A$6:$A$100,총괄표!$A16)+SUMIFS('17년특입'!K$6:K$39,'17년특입'!$A$6:$A$39,총괄표!$A16) -> 0 | D16: =SUMIFS('17년일입'!L$6:L$100,'17년일입'!$A$6:$A$100,총괄표!$A16)+SUMIFS('17년특입'!L$6:L$39,'17년특입'!$A$6:$A$39,총괄표!$A16) -> 0 | E16: =D16-C16 -> 0 | F16: =SUMIFS('17년일출'!L$6:L$120,'17년일출'!$A$6:$A$120,총괄표!$A16)+SUMIFS('17년특출'!L$6:L$39,'17년특출'!$A$6:$A$39,총괄표!$A16) -> 0 | G16: =SUMIFS('17년일출'!M$6:M$120,'17년일출'!$A$6:$A$120,총괄표!$A16)+SUMIFS('17년특출'!M$6:M$39,'17년특출'!$A$6:$A$39,총괄표!$A16) -> 0 | H16: =G16-F16 -> 0 | I16: =B16+F16+G16 -> 0
A17: 여상가족교육협력위원회 | B17: =B40 -> 0 | C17: =SUMIFS('17년일입'!K$6:K$100,'17년일입'!$A$6:$A$100,총괄표!$A17)+SUMIFS('17년특입'!K$6:K$39,'17년특입'!$A$6:$A$39,총괄표!$A17) -> 0 | D17: =SUMIFS('17년일입'!L$6:L$100,'17년일입'!$A$6:$A$100,총괄표!$A17)+SUMIFS('17년특입'!L$6:L$39,'17년특입'!$A$6:$A$39,총괄표!$A17) -> 0 | E17: =D17-C17 -> 0 | F17: =SUMIFS('17년일출'!L$6:L$120,'17년일출'!$A$6:$A$120,총괄표!$A17)+SUMIFS('17년특출'!L$6:L$39,'17년특출'!$A$6:$A$39,총괄표!$A17) -> 0 | G17: =SUMIFS('17년일출'!M$6:M$120,'17년일출'!$A$6:$A$120,총괄표!$A17)+SUMIFS('17년특출'!M$6:M$39,'17년특출'!$A$6:$A$39,총괄표!$A17) -> 0 | H17: =G17-F17 -> 0 | I17: =B17+F17+G17 -> 0
A19: □ 회계별 예산 총 규모
I20: (단위 : 천원)
A21: 구 분 | B21: 집행부제출(안) | C21: 세입예산(안) | F21: 세출예산(안) | I21: 수정예산(안) | K21: 세입기준
C22: 감 액 | D22: 증 액 | E22: 증감액 | F22: 감 액 | G22: 증 액 | H22: 증감액 | K22: 수정예산(안) | L22: 세출기준-세입기준
A23: 합 계 | B23: =SUM(B24:B25) -> 0 | C23: =SUM(C24:C25) -> 0 | D23: =SUM(D24:D25) -> 0 | E23: =SUM(E24:E25) -> 0 | F23: =SUM(F24:F25) -> 0 | G23: =SUM(G24:G25) -> 0 | H23: =SUM(H24:H25) -> 0 | I23: =SUM(I24:I25) -> 0 | K23: =SUM(K24:K25) -> 0 | L23: =I23-K23 -> 0
A24: 일반회계 | B24: =D30 -> 0 | C24: ='17년일입'!K6 -> 0 | D24: ='17년일입'!L6 -> 0 | E24: =D24-C24 -> 0 | F24: ='17년일출'!L6 -> 0 | G24: ='17년일출'!M6 -> 0 | H24: =G24-F24 -> 0 | I24: =B24+F24+G24 -> 0 | K24: =B24+C24+D24 -> 0 | L24: =I24-K24 -> 0
A25: 특별회계 | B25: =F30+G30 -> 0 | C25: ='17년특입'!K6 -> 0 | D25: ='17년특입'!L6 -> 0 | E25: =D25-C25 -> 0 | F25: ='17년특출'!L6 -> 0 | G25: ='17년특출'!M6 -> 0 | H25: =G25-F25 -> 0 | I25: =B25+F25+G25 -> 0 | K25: =B25+C25+D25 -> 0 | L25: =I25-K25 -> 0
A28: ※ 회계별, 위원회별 집행부제출안(상임위에서 작성)
A29: 위원회명 | B29: 합계 | C29: 일반+기타 | D29: 일반회계 | E29: 기타특별회계 | F29: 공기업특별회계
A30: 합계 | B30: =SUM(B31:B40) -> 0 | C30: =SUM(C31:C40) -> 0 | D30: =SUM(D31:D40) -> 0 | E30: =SUM(E31:E40) -> 0 | F30: =SUM(F31:F40) -> 0
A31: 의회운영위원회 | B31: =SUM(D31:G31) -> 0 | C31: =D31+F31 -> 0
A32: 기획재정위원회 | B32: =SUM(D32:G32) -> 0 | C32: =D32+F32 -> 0
A33: 경제과학기술위원회 | B33: =SUM(D33:G33) -> 0 | C33: =D33+F33 -> 0
A34: 안전행정위원회 | B34: =SUM(D34:G34) -> 0 | C34: =D34+F34 -> 0
A35: 문화체육관광위원회 | B35: =SUM(D35:G35) -> 0 | C35: =D35+F35 -> 0
A36: 농정해양위원회 | B36: =SUM(D36:G36) -> 0 | C36: =D36+F36 -> 0
A37: 보건복지위원회 | B37: =SUM(D37:G37) -> 0 | C37: =D37+F37 -> 0
A38: 건설교통위원회 | B38: =SUM(D38:G38) -> 0 | C38: =D38+F38 -> 0
A39: 도시환경위원회 | B39: =SUM(D39:G39) -> 0 | C39: =D39+F39 -> 0
A40: 여상가족교육협력위원회 | B40: =SUM(D40:G40) -> 0 | C40: =D40+F40 -> 0
A42: 예비비

Sheet 17년일입
A1: 2017년도 경기도 일반회계 세입 예산 조정(안)
A2: □ 세입예산 | V2: 세입=세출 | AA2: 세입=세출
H3: =COUNTA(H7:H100) -> 0 | I3: =COUNTA(I7:I100) -> 0 | K3: =COUNTA(K7:K100) -> 0 | L3: =COUNTA(L7:L100) -> 0 | Q3: (단위 : 천원) | V3: =IF(V6='17년일출'!W6,"OK","@@") -> @@ | X3: =IF(COUNTIF(X6:X100,"검토")>0,"@@","OK") -> OK | AA3: =IF(AA6='17년일출'!AB6,"OK","@@") -> OK | AC3: =IF(COUNTIF(AC6:AC100,"검토")>0,"@@","OK") -> OK
A4: 위원회명 | B4: 실국명 | C4: 부서명 | D4: 편성 구분 | E4: 예산안 페이지 | F4: 세부사업명 및 부기명 | G4: 예산안 (가) | H4: 상임위 예산안 조정액(나) | J4: 상임위 조정 예산안 (다=가+나) | K4: 예결위 예산안 조정액(라) | M4: 예결위 조정 예산안 (마=가+라) | N4: 동의 대상 | O4: 상임위 변경사유 (심의 참고자료) | P4: 비고 (상임위 부대의견) | Q4: 비고 (부대의견) | S4: 국도비 등 여부 | U4: 재원 | V4: 상임위 재원별 증감액 | Z4: 재원 | AA4: 예결위 재원별 증감액 | AE4: 세입번호 | AG4: 실국부서 코드 | AI4: 추가 내시 등 | AK4: 상임위 세입 검증 | AO4: 예결위 세입 검증
H5: 감액 | I5: 증액 | K5: 감액 | L5: 증액 | V5: 국비 등 | W5: 도비 | X5: 검증 | AA5: 국비 등 | AB5: 도비 | AC5: 검증 | AK5: 국비 증감액 | AL5: 건수 | AM5: 검증 | AO5: 국비 증감액 | AP5: 건수 | AQ5: 검증
A6: 합 계 | G6: =SUBTOTAL(9,G7:G100) -> 0 | H6: =SUBTOTAL(9,H7:H100) -> 0 | I6: =SUBTOTAL(9,I7:I100) -> 0 | J6: =SUBTOTAL(9,J7:J100) -> 0 | K6: =SUBTOTAL(9,K7:K100) -> 0 | L6: =SUBTOTAL(9,L7:L100) -> 0 | M6: =SUBTOTAL(9,M7:M100) -> 0 | V6: =SUBTOTAL(9,V7:V100) -> 0 | W6: =SUBTOTAL(9,W7:W100) -> 0 | X6: =IF(SUM($H6:$I6)=SUM($V6:$W6),"OK","검토") -> OK | AA6: =SUBTOTAL(9,AA7:AA100) -> 0 | AB6: =SUBTOTAL(9,AB7:AB100) -> 0 | AC6: =IF(SUM($H6:$I6)=SUM($V6:$W6),"OK","검토") -> OK | AK6: =SUBTOTAL(9,AK7:AK100) -> 0 | AL6: =SUBTOTAL(9,AL7:AL100) -> 0 | AM6: =IF(COUNTIF(AM7:AM100,"@@")>0,"@@","OK") -> OK | AO6: =SUBTOTAL(9,AO7:AO100) -> 0 | AP6: =SUBTOTAL(9,AP7:AP100) -> 0 | AQ6: =IF(COUNTIF(AQ7:AQ100,"@@")>0,"@@","OK") -> OK
A7: =IFERROR(VLOOKUP($C7,구분표!$A$2:$C$313,2,FALSE),"") | B7: =IFERROR(VLOOKUP($C7,구분표!$A$2:$C$313,3,FALSE),"") | D7: 본예산 | J7: =SUM(G7:I7) -> 0 | M7: =SUM(G7,K7,L7) -> 0 | N7: =IF(AND((J7=0),(M7>0)),"O",IF(AND((H7<0),(J7-M7<0)),"O","X")) -> X | X7: =IF(SUM($H7:$I7)=SUM($V7:$W7),"OK","검토") -> OK | AA7: =IF($U7<>"도비",IF($S7="국도비","직접입력",SUM($K7:$L7)),) -> 0 | AB7: =IF($U7="도비",SUM(K7:L7),IF($S7="국도비","직접입력",SUM(K7:L7)-AA7)) -> 0 | AC7: =IF(SUM(K7:L7)=SUM(AA7:AB7),"OK","검토") -> OK | AE7: =IF(AG7="","",IF(U7="도비","세입없음",CONCATENATE(AG7,"-",COUNTIF($AG$7:AG7,AG7)))) | AG7: {=IF(C7="","",INDEX(구분표!$I$2:$I$313, MATCH(1,(구분표!$E$2:$E$313='17년일입'!B7)*(구분표!$F$2:$F$313='17년일입'!C7)*(구분표!$G$2:$G$313='17년일입'!A7),0)))} | AK7: =IF(AE7="",0,SUMIFS('17년일출'!$W$6:$W$120,'17년일출'!$AF$6:$AF$120,'17년일입'!$AE7)) -> 0 | AL7: =IF(AE7="","",COUNTIFS('17년일출'!$AF$6:$AF$120,'17년일입'!AE7)) | AM7: =IF(V7=AK7,"OK","@@") -> OK | AO7: =IF(AE7="",0,SUMIFS('17년일출'!$AB$6:$AB$120,'17년일출'!$AF$6:$AF$120,'17년일입'!$AE7)) -> 0 | AP7: =IF(AE7="","",COUNTIFS('17년일출'!$AF$6:$AF$120,AE7)) | AQ7: =IF(AA7=AO7,"OK","@@") -> OK
A8: =IFERROR(VLOOKUP($C8,구분표!$A$2:$C$313,2,FALSE),"") | B8: =IFERROR(VLOOKUP($C8,구분표!$A$2:$C$313,3,FALSE),"") | D8: 신규 | J8: =SUM(G8:I8) -> 0 | M8: =SUM(G8,K8,L8) -> 0 | N8: =IF(AND((J8=0),(M8>0)),"O",IF(AND((H8<0),(J8-M8<0)),"O","X")) -> X | V8: =IF($U8<>"도비",IF($S8="국도비","직접입력",SUM($H8:$I8)),) -> 0 | W8: =IF($U8="도비",SUM($H8:$I8),IF($S8="국도비","직접입력",SUM($H8:$I8)-$V8)) -> 0 | X8: =IF(SUM($H8:$I8)=SUM($V8:$W8),"OK","검토") -> OK | AA8: =IF($U8<>"도비",IF($S8="국도비","직접입력",SUM($K8:$L8)),) -> 0 | AB8: =IF($U8="도비",SUM(K8:L8),IF($S8="국도비","직접입력",SUM(K8:L8)-AA8)) -> 0 | AC8: =IF(SUM(K8:L8)=SUM(AA8:AB8),"OK","검토") -> OK | AE8: =IF(AG8="","",IF(U8="도비","세입없음",CONCATENATE(AG8,"-",COUNTIF($AG$7:AG8,AG8)))) | AG8: {=IF(C8="","",INDEX(구분표!$I$2:$I$313, MATCH(1,(구분표!$E$2:$E$313='17년일입'!B8)*(구분표!$F$2:$F$313='17년일입'!C8)*(구분표!$G$2:$G$313='17년일입'!A8),0)))} | AK8: =IF(AE8="",0,SUMIFS('17년일출'!$W$6:$W$120,'17년일출'!$AF$6:$AF$120,'17년일입'!$AE8)) -> 0 | AL8: =IF(AE8="","",COUNTIFS('17년일출'!$AF$6:$AF$120,'17년일입'!AE8)) | AM8: =IF(V8=AK8,"OK","@@") -> OK | AO8: =IF(AE8="",0,SUMIFS('17년일출'!$AB$6:$AB$120,'17년일출'!$AF$6:$AF$120,'17년일입'!$AE8)) -> 0 | AP8: =IF(AE8="","",COUNTIFS('17년일출'!$AF$6:$AF$120,AE8)) | AQ8: =IF(AA8=AO8,"OK","@@") -> OK
A9: =IFERROR(VLOOKUP($C9,구분표!$A$2:$C$313,2,FALSE),"") | B9: =IFERROR(VLOOKUP($C9,구분표!$A$2:$C$313,3,FALSE),"") | J9: =SUM(G9:I9) -> 0 | M9: =SUM(G9,K9,L9) -> 0 | N9: =IF(AND((J9=0),(M9>0)),"O",IF(AND((H9<0),(J9-M9<0)),"O","X")) -> X | V9: =IF($U9<>"도비",IF($S9="국도비","직접입력",SUM($H9:$I9)),) -> 0 | W9: =IF($U9="도비",SUM($H9:$I9),IF($S9="국도비","직접입력",SUM($H9:$I9)-$V9)) -> 0 | X9: =IF(SUM($H9:$I9)=SUM($V9:$W9),"OK","검토") -> OK | AA9: =IF($U9<>"도비",IF($S9="국도비","직접입력",SUM($K9:$L9)),) -> 0 | AB9: =IF($U9="도비",SUM(K9:L9),IF($S9="국도비","직접입력",SUM(K9:L9)-AA9)) -> 0 | AC9: =IF(SUM(K9:L9)=SUM(AA9:AB9),"OK","검토") -> OK | AE9: =IF(AG9="","",IF(U9="도비","세입없음",CONCATENATE(AG9,"-",COUNTIF($AG$7:AG9,AG9)))) | AG9: {=IF(C9="","",INDEX(구분표!$I$2:$I$313, MATCH(1,(구분표!$E$2:$E$313='17년일입'!B9)*(구분표!$F$2:$F$313='17년일입'!C9)*(구분표!$G$2:$G$313='17년일입'!A9),0)))} | AK9: =IF(AE9="",0,SUMIFS('17년일출'!$W$6:$W$120,'17년일출'!$AF$6:$AF$120,'17년일입'!$AE9)) -> 0 | AL9: =IF(AE9="","",COUNTIFS('17년일출'!$AF$6:$AF$120,'17년일입'!AE9)) | AM9: =IF(V9=AK9,"OK","@@") -> OK | AO9: =IF(AE9="",0,SUMIFS('17년일출'!$AB$6:$AB$120,'17년일출'!$AF$6:$AF$120,'17년일입'!$AE9)) -> 0 | AP9: =IF(AE9="","",COUNTIFS('17년일출'!$AF$6:$AF$120,AE9)) | AQ9: =IF(AA9=AO9,"OK","@@") -> OK
A10: =IFERROR(VLOOKUP($C10,구분표!$A$2:$C$313,2,FALSE),"") | B10: =IFERROR(VLOOKUP($C10,구분표!$A$2:$C$313,3,FALSE),"") | J10: =SUM(G10:I10) -> 0 | M10: =SUM(G10,K10,L10) -> 0 | N10: =IF(AND((J10=0),(M10>0)),"O",IF(AND((H10<0),(J10-M10<0)),"O","X")) -> X | V10: =IF($U10<>"도비",IF($S10="국도비","직접입력",SUM($H10:$I10)),) -> 0 | W10: =IF($U10="도비",SUM($H10:$I10),IF($S10="국도비","직접입력",SUM($H10:$I10)-$V10)) -> 0 | X10: =IF(SUM($H10:$I10)=SUM($V10:$W10),"OK","검토") -> OK | AA10: =IF($U10<>"도비",IF($S10="국도비","직접입력",SUM($K10:$L10)),) -> 0 | AB10: =IF($U10="도비",SUM(K10:L10),IF($S10="국도비","직접입력",SUM(K10:L10)-AA10)) -> 0 | AC10: =IF(SUM(K10:L10)=SUM(AA10:AB10),"OK","검토") -> OK | AE10: =IF(AG10="","",IF(U10="도비","세입없음",CONCATENATE(AG10,"-",COUNTIF($AG$7:AG10,AG10)))) | AG10: {=IF(C10="","",INDEX(구분표!$I$2:$I$313, MATCH(1,(구분표!$E$2:$E$313='17년일입'!B10)*(구분표!$F$2:$F$313='17년일입'!C10)*(구분표!$G$2:$G$313='17년일입'!A10),0)))} | AK10: =IF(AE10="",0,SUMIFS('17년일출'!$W$6:$W$120,'17년일출'!$AF$6:$AF$120,'17년일입'!$AE10)) -> 0 | AL10: =IF(AE10="","",COUNTIFS('17년일출'!$AF$6:$AF$120,'17년일입'!AE10)) | AM10: =IF(V10=AK10,"OK","@@") -> OK | AO10: =IF(AE10="",0,SUMIFS('17년일출'!$AB$6:$AB$120,'17년일출'!$AF$6:$AF$120,'17년일입'!$AE10)) -> 0 | AP10: =IF(AE10="","",COUNTIFS('17년일출'!$AF$6:$AF$120,AE10)) | AQ10: =IF(AA10=AO10,"OK","@@") -> OK
A11: =IFERROR(VLOOKUP($C11,구분표!$A$2:$C$313,2,FALSE),"") | B11: =IFERROR(VLOOKUP($C11,구분표!$A$2:$C$313,3,FALSE),"") | J11: =SUM(G11:I11) -> 0 | M11: =SUM(G11,K11,L11) -> 0 | N11: =IF(AND((J11=0),(M11>0)),"O",IF(AND((H11<0),(J11-M11<0)),"O","X")) -> X | V11: =IF($U11<>"도비",IF($S11="국도비","직접입력",SUM($H11:$I11)),) -> 0 | W11: =IF($U11="도비",SUM($H11:$I11),IF($S11="국도비","직접입력",SUM($H11:$I11)-$V11)) -> 0 | X11: =IF(SUM($H11:$I11)=SUM($V11:$W11),"OK","검토") -> OK | AA11: =IF($U11<>"도비",IF($S11="국도비","직접입력",SUM($K11:$L11)),) -> 0 | AB11: =IF($U11="도비",SUM(K11:L11),IF($S11="국도비","직접입력",SUM(K11:L11)-AA11)) -> 0 | AC11: =IF(SUM(K11:L11)=SUM(AA11:AB11),"OK","검토") -> OK | AE11: =IF(AG11="","",IF(U11="도비","세입없음",CONCATENATE(AG11,"-",COUNTIF($AG$7:AG11,AG11)))) | AG11: {=IF(C11="","",INDEX(구분표!$I$2:$I$313, MATCH(1,(구분표!$E$2:$E$313='17년일입'!B11)*(구분표!$F$2:$F$313='17년일입'!C11)*(구분표!$G$2:$G$313='17년일입'!A11),0)))} | AK11: =IF(AE11="",0,SUMIFS('17년일출'!$W$6:$W$120,'17년일출'!$AF$6:$AF$120,'17년일입'!$AE11)) -> 0 | AL11: =IF(AE11="","",COUNTIFS('17년일출'!$AF$6:$AF$120,'17년일입'!AE11)) | AM11: =IF(V11=AK11,"OK","@@") -> OK | AO11: =IF(AE11="",0,SUMIFS('17년일출'!$AB$6:$AB$120,'17년일출'!$AF$6:$AF$120,'17년일입'!$AE11)) -> 0 | AP11: =IF(AE11="","",COUNTIFS('17년일출'!$AF$6:$AF$120,AE11)) | AQ11: =IF(AA11=AO11,"OK","@@") -> OK
A12: =IFERROR(VLOOKUP($C12,구분표!$A$2:$C$313,2,FALSE),"") | B12: =IFERROR(VLOOKUP($C12,구분표!$A$2:$C$313,3,FALSE),"") | J12: =SUM(G12:I12) -> 0 | M12: =SUM(G12,K12,L12) -> 0 | N12: =IF(AND((J12=0),(M12>0)),"O",IF(AND((H12<0),(J12-M12<0)),"O","X")) -> X | V12: =IF($U12<>"도비",IF($S12="국도비","직접입력",SUM($H12:$I12)),) -> 0 | W12: =IF($U12="도비",SUM($H12:$I12),IF($S12="국도비","직접입력",SUM($H12:$I12)-$V12)) -> 0 | X12: =IF(SUM($H12:$I12)=SUM($V12:$W12),"OK","검토") -> OK | AA12: =IF($U12<>"도비",IF($S12="국도비","직접입력",SUM($K12:$L12)),) -> 0 | AB12: =IF($U12="도비",SUM(K12:L12),IF($S12="국도비","직접입력",SUM(K12:L12)-AA12)) -> 0 | AC12: =IF(SUM(K12:L12)=SUM(AA12:AB12),"OK","검토") -> OK | AE12: =IF(AG12="","",IF(U12="도비","세입없음",CONCATENATE(AG12,"-",COUNTIF($AG$7:AG12,AG12)))) | AG12: {=IF(C12="","",INDEX(구분표!$I$2:$I$313, MATCH(1,(구분표!$E$2:$E$313='17년일입'!B12)*(구분표!$F$2:$F$313='17년일입'!C12)*(구분표!$G$2:$G$313='17년일입'!A12),0)))} | AK12: =IF(AE12="",0,SUMIFS('17년일출'!$W$6:$W$120,'17년일출'!$AF$6:$AF$120,'17년일입'!$AE12)) -> 0 | AL12: =IF(AE12="","",COUNTIFS('17년일출'!$AF$6:$AF$120,'17년일입'!AE12)) | AM12: =IF(V12=AK12,"OK","@@") -> OK | AO12: =IF(AE12="",0,SUMIFS('17년일출'!$AB$6:$AB$120,'17년일출'!$AF$6:$AF$120,'17년일입'!$AE12)) -> 0 | AP12: =IF(AE12="","",COUNTIFS('17년일출'!$AF$6:$AF$120,AE12)) | AQ12: =IF(AA12=AO12,"OK","@@") -> OK
A13: =IFERROR(VLOOKUP($C13,구분표!$A$2:$C$313,2,FALSE),"") | B13: =IFERROR(VLOOKUP($C13,구분표!$A$2:$C$313,3,FALSE),"") | J13: =SUM(G13:I13) -> 0 | M13: =SUM(G13,K13,L13) -> 0 | N13: =IF(AND((J13=0),(M13>0)),"O",IF(AND((H13<0),(J13-M13<0)),"O","X")) -> X | V13: =IF($U13<>"도비",IF($S13="국도비","직접입력",SUM($H13:$I13)),) -> 0 | W13: =IF($U13="도비",SUM($H13:$I13),IF($S13="국도비","직접입력",SUM($H13:$I13)-$V13)) -> 0 | X13: =IF(SUM($H13:$I13)=SUM($V13:$W13),"OK","검토") -> OK | AA13: =IF($U13<>"도비",IF($S13="국도비","직접입력",SUM($K13:$L13)),) -> 0 | AB13: =IF($U13="도비",SUM(K13:L13),IF($S13="국도비","직접입력",SUM(K13:L13)-AA13)) -> 0 | AC13: =IF(SUM(K13:L13)=SUM(AA13:AB13),"OK","검토") -> OK | AE13: =IF(AG13="","",IF(U13="도비","세입없음",CONCATENATE(AG13,"-",COUNTIF($AG$7:AG13,AG13)))) | AG13: {=IF(C13="","",INDEX(구분표!$I$2:$I$313, MATCH(1,(구분표!$E$2:$E$313='17년일입'!B13)*(구분표!$F$2:$F$313='17년일입'!C13)*(구분표!$G$2:$G$313='17년일입'!A13),0)))} | AK13: =IF(AE13="",0,SUMIFS('17년일출'!$W$6:$W$120,'17년일출'!$AF$6:$AF$120,'17년일입'!$AE13)) -> 0 | AL13: =IF(AE13="","",COUNTIFS('17년일출'!$AF$6:$AF$120,'17년일입'!AE13)) | AM13: =IF(V13=AK13,"OK","@@") -> OK | AO13: =IF(AE13="",0,SUMIFS('17년일출'!$AB$6:$AB$120,'17년일출'!$AF$6:$AF$120,'17년일입'!$AE13)) -> 0 | AP13: =IF(AE13="","",COUNTIFS('17년일출'!$AF$6:$AF$120,AE13)) | AQ13: =IF(AA13=AO13,"OK","@@") -> OK
A14: =IFERROR(VLOOKUP($C14,구분표!$A$2:$C$313,2,FALSE),"") | B14: =IFERROR(VLOOKUP($C14,구분표!$A$2:$C$313,3,FALSE),"") | J14: =SUM(G14:I14) -> 0 | M14: =SUM(G14,K14,L14) -> 0 | N14: =IF(AND((J14=0),(M14>0)),"O",IF(AND((H14<0),(J14-M14<0)),"O","X")) -> X | V14: =IF($U14<>"도비",IF($S14="국도비","직접입력",SUM($H14:$I14)),) -> 0 | W14: =IF($U14="도비",SUM($H14:$I14),IF($S14="국도비","직접입력",SUM($H14:$I14)-$V14)) -> 0 | X14: =IF(SUM($H14:$I14)=SUM($V14:$W14),"OK","검토") -> OK | AA14: =IF($U14<>"도비",IF($S14="국도비","직접입력",SUM($K14:$L14)),) -> 0 | AB14: =IF($U14="도비",SUM(K14:L14),IF($S14="국도비","직접입력",SUM(K14:L14)-AA14)) -> 0 | AC14: =IF(SUM(K14:L14)=SUM(AA14:AB14),"OK","검토") -> OK | AE14: =IF(AG14="","",IF(U14="도비","세입없음",CONCATENATE(AG14,"-",COUNTIF($AG$7:AG14,AG14)))) | AG14: {=IF(C14="","",INDEX(구분표!$I$2:$I$313, MATCH(1,(구분표!$E$2:$E$313='17년일입'!B14)*(구분표!$F$2:$F$313='17년일입'!C14)*(구분표!$G$2:$G$313='17년일입'!A14),0)))} | AK14: =IF(AE14="",0,SUMIFS('17년일출'!$W$6:$W$120,'17년일출'!$AF$6:$AF$120,'17년일입'!$AE14)) -> 0 | AL14: =IF(AE14="","",COUNTIFS('17년일출'!$AF$6:$AF$120,'17년일입'!AE14)) | AM14: =IF(V14=AK14,"OK","@@") -> OK | AO14: =IF(AE14="",0,SUMIFS('17년일출'!$AB$6:$AB$120,'17년일출'!$AF$6:$AF$120,'17년일입'!$AE14)) -> 0 | AP14: =IF(AE14="","",COUNTIFS('17년일출'!$AF$6:$AF$120,AE14)) | AQ14: =IF(AA14=AO14,"OK","@@") -> OK
A15: =IFERROR(VLOOKUP($C15,구분표!$A$2:$C$313,2,FALSE),"") | B15: =IFERROR(VLOOKUP($C15,구분표!$A$2:$C$313,3,FALSE),"") | J15: =SUM(G15:I15) -> 0 | M15: =SUM(G15,K15,L15) -> 0 | N15: =IF(AND((J15=0),(M15>0)),"O",IF(AND((H15<0),(J15-M15<0)),"O","X")) -> X | V15: =IF($U15<>"도비",IF($S15="국도비","직접입력",SUM($H15:$I15)),) -> 0 | W15: =IF($U15="도비",SUM($H15:$I15),IF($S15="국도비","직접입력",SUM($H15:$I15)-$V15)) -> 0 | X15: =IF(SUM($H15:$I15)=SUM($V15:$W15),"OK","검토") -> OK | AA15: =IF($U15<>"도비",IF($S15="국도비","직접입력",SUM($K15:$L15)),) -> 0 | AB15: =IF($U15="도비",SUM(K15:L15),IF($S15="국도비","직접입력",SUM(K15:L15)-AA15)) -> 0 | AC15: =IF(SUM(K15:L15)=SUM(AA15:AB15),"OK","검토") -> OK | AE15: =IF(AG15="","",IF(U15="도비","세입없음",CONCATENATE(AG15,"-",COUNTIF($AG$7:AG15,AG15)))) | AG15: {=IF(C15="","",INDEX(구분표!$I$2:$I$313, MATCH(1,(구분표!$E$2:$E$313='17년일입'!B15)*(구분표!$F$2:$F$313='17년일입'!C15)*(구분표!$G$2:$G$313='17년일입'!A15),0)))} | AK15: =IF(AE15="",0,SUMIFS('17년일출'!$W$6:$W$120,'17년일출'!$AF$6:$AF$120,'17년일입'!$AE15)) -> 0 | AL15: =IF(AE15="","",COUNTIFS('17년일출'!$AF$6:$AF$120,'17년일입'!AE15)) | AM15: =IF(V15=AK15,"OK","@@") -> OK | AO15: =IF(AE15="",0,SUMIFS('17년일출'!$AB$6:$AB$120,'17년일출'!$AF$6:$AF$120,'17년일입'!$AE15)) -> 0 | AP15: =IF(AE15="","",COUNTIFS('17년일출'!$AF$6:$AF$120,AE15)) | AQ15: =IF(AA15=AO15,"OK","@@") -> OK
A16: =IFERROR(VLOOKUP($C16,구분표!$A$2:$C$313,2,FALSE),"") | B16: =IFERROR(VLOOKUP($C16,구분표!$A$2:$C$313,3,FALSE),"") | J16: =SUM(G16:I16) -> 0 | M16: =SUM(G16,K16,L16) -> 0 | N16: =IF(AND((J16=0),(M16>0)),"O",IF(AND((H16<0),(J16-M16<0)),"O","X")) -> X | V16: =IF($U16<>"도비",IF($S16="국도비","직접입력",SUM($H16:$I16)),) -> 0 | W16: =IF($U16="도비",SUM($H16:$I16),IF($S16="국도비","직접입력",SUM($H16:$I16)-$V16)) -> 0 | X16: =IF(SUM($H16:$I16)=SUM($V16:$W16),"OK","검토") -> OK | AA16: =IF($U16<>"도비",IF($S16="국도비","직접입력",SUM($K16:$L16)),) -> 0 | AB16: =IF($U16="도비",SUM(K16:L16),IF($S16="국도비","직접입력",SUM(K16:L16)-AA16)) -> 0 | AC16: =IF(SUM(K16:L16)=SUM(AA16:AB16),"OK","검토") -> OK | AE16: =IF(AG16="","",IF(U16="도비","세입없음",CONCATENATE(AG16,"-",COUNTIF($AG$7:AG16,AG16)))) | AG16: {=IF(C16="","",INDEX(구분표!$I$2:$I$313, MATCH(1,(구분표!$E$2:$E$313='17년일입'!B16)*(구분표!$F$2:$F$313='17년일입'!C16)*(구분표!$G$2:$G$313='17년일입'!A16),0)))} | AK16: =IF(AE16="",0,SUMIFS('17년일출'!$W$6:$W$120,'17년일출'!$AF$6:$AF$120,'17년일입'!$AE16)) -> 0 | AL16: =IF(AE16="","",COUNTIFS('17년일출'!$AF$6:$AF$120,'17년일입'!AE16)) | AM16: =IF(V16=AK16,"OK","@@") -> OK | AO16: =IF(AE16="",0,SUMIFS('17년일출'!$AB$6:$AB$120,'17년일출'!$AF$6:$AF$120,'17년일입'!$AE16)) -> 0 | AP16: =IF(AE16="","",COUNTIFS('17년일출'!$AF$6:$AF$120,AE16)) | AQ16: =IF(AA16=AO16,"OK","@@") -> OK
A17: =IFERROR(VLOOKUP($C17,구분표!$A$2:$C$313,2,FALSE),"") | B17: =IFERROR(VLOOKUP($C17,구분표!$A$2:$C$313,3,FALSE),"") | J17: =SUM(G17:I17) -> 0 | M17: =SUM(G17,K17,L17) -> 0 | N17: =IF(AND((J17=0),(M17>0)),"O",IF(AND((H17<0),(J17-M17<0)),"O","X")) -> X | V17: =IF($U17<>"도비",IF($S17="국도비","직접입력",SUM($H17:$I17)),) -> 0 | W17: =IF($U17="도비",SUM($H17:$I17),IF($S17="국도비","직접입력",SUM($H17:$I17)-$V17)) -> 0 | X17: =IF(SUM($H17:$I17)=SUM($V17:$W17),"OK","검토") -> OK | AA17: =IF($U17<>"도비",IF($S17="국도비","직접입력",SUM($K17:$L17)),) -> 0 | AB17: =IF($U17="도비",SUM(K17:L17),IF($S17="국도비","직접입력",SUM(K17:L17)-AA17)) -> 0 | AC17: =IF(SUM(K17:L17)=SUM(AA17:AB17),"OK","검토") -> OK | AE17: =IF(AG17="","",IF(U17="도비","세입없음",CONCATENATE(AG17,"-",COUNTIF($AG$7:AG17,AG17)))) | AG17: {=IF(C17="","",INDEX(구분표!$I$2:$I$313, MATCH(1,(구분표!$E$2:$E$313='17년일입'!B17)*(구분표!$F$2:$F$313='17년일입'!C17)*(구분표!$G$2:$G$313='17년일입'!A17),0)))} | AK17: =IF(AE17="",0,SUMIFS('17년일출'!$W$6:$W$120,'17년일출'!$AF$6:$AF$120,'17년일입'!$AE17)) -> 0 | AL17: =IF(AE17="","",COUNTIFS('17년일출'!$AF$6:$AF$120,'17년일입'!AE17)) | AM17: =IF(V17=AK17,"OK","@@") -> OK | AO17: =IF(AE17="",0,SUMIFS('17년일출'!$AB$6:$AB$120,'17년일출'!$AF$6:$AF$120,'17년일입'!$AE17)) -> 0 | AP17: =IF(AE17="","",COUNTIFS('17년일출'!$AF$6:$AF$120,AE17)) | AQ17: =IF(AA17=AO17,"OK","@@") -> OK
A18: =IFERROR(VLOOKUP($C18,구분표!$A$2:$C$313,2,FALSE),"") | B18: =IFERROR(VLOOKUP($C18,구분표!$A$2:$C$313,3,FALSE),"") | J18: =SUM(G18:I18) -> 0 | M18: =SUM(G18,K18,L18) -> 0 | N18: =IF(AND((J18=0),(M18>0)),"O",IF(AND((H18<0),(J18-M18<0)),"O","X")) -> X | V18: =IF($U18<>"도비",IF($S18="국도비","직접입력",SUM($H18:$I18)),) -> 0 | W18: =IF($U18="도비",SUM($H18:$I18),IF($S18="국도비","직접입력",SUM($H18:$I18)-$V18)) -> 0 | X18: =IF(SUM($H18:$I18)=SUM($V18:$W18),"OK","검토") -> OK | AA18: =IF($U18<>"도비",IF($S18="국도비","직접입력",SUM($K18:$L18)),) -> 0 | AB18: =IF($U18="도비",SUM(K18:L18),IF($S18="국도비","직접입력",SUM(K18:L18)-AA18)) -> 0 | AC18: =IF(SUM(K18:L18)=SUM(AA18:AB18),"OK","검토") -> OK | AE18: =IF(AG18="","",IF(U18="도비","세입없음",CONCATENATE(AG18,"-",COUNTIF($AG$7:AG18,AG18)))) | AG18: {=IF(C18="","",INDEX(구분표!$I$2:$I$313, MATCH(1,(구분표!$E$2:$E$313='17년일입'!B18)*(구분표!$F$2:$F$313='17년일입'!C18)*(구분표!$G$2:$G$313='17년일입'!A18),0)))} | AK18: =IF(AE18="",0,SUMIFS('17년일출'!$W$6:$W$120,'17년일출'!$AF$6:$AF$120,'17년일입'!$AE18)) -> 0 | AL18: =IF(AE18="","",COUNTIFS('17년일출'!$AF$6:$AF$120,'17년일입'!AE18)) | AM18: =IF(V18=AK18,"OK","@@") -> OK | AO18: =IF(AE18="",0,SUMIFS('17년일출'!$AB$6:$AB$120,'17년일출'!$AF$6:$AF$120,'17년일입'!$AE18)) -> 0 | AP18: =IF(AE18="","",COUNTIFS('17년일출'!$AF$6:$AF$120,AE18)) | AQ18: =IF(AA18=AO18,"OK","@@") -> OK
A19: =IFERROR(VLOOKUP($C19,구분표!$A$2:$C$313,2,FALSE),"") | B19: =IFERROR(VLOOKUP($C19,구분표!$A$2:$C$313,3,FALSE),"") | J19: =SUM(G19:I19) -> 0 | M19: =SUM(G19,K19,L19) -> 0 | N19: =IF(AND((J19=0),(M19>0)),"O",IF(AND((H19<0),(J19-M19<0)),"O","X")) -> X | V19: =IF($U19<>"도비",IF($S19="국도비","직접입력",SUM($H19:$I19)),) -> 0 | W19: =IF($U19="도비",SUM($H19:$I19),IF($S19="국도비","직접입력",SUM($H19:$I19)-$V19)) -> 0 | X19: =IF(SUM($H19:$I19)=SUM($V19:$W19),"OK","검토") -> OK | AA19: =IF($U19<>"도비",IF($S19="국도비","직접입력",SUM($K19:$L19)),) -> 0 | AB19: =IF($U19="도비",SUM(K19:L19),IF($S19="국도비","직접입력",SUM(K19:L19)-AA19)) -> 0 | AC19: =IF(SUM(K19:L19)=SUM(AA19:AB19),"OK","검토") -> OK | AE19: =IF(AG19="","",IF(U19="도비","세입없음",CONCATENATE(AG19,"-",COUNTIF($AG$7:AG19,AG19)))) | AG19: {=IF(C19="","",INDEX(구분표!$I$2:$I$313, MATCH(1,(구분표!$E$2:$E$313='17년일입'!B19)*(구분표!$F$2:$F$313='17년일입'!C19)*(구분표!$G$2:$G$313='17년일입'!A19),0)))} | AK19: =IF(AE19="",0,SUMIFS('17년일출'!$W$6:$W$120,'17년일출'!$AF$6:$AF$120,'17년일입'!$AE19)) -> 0 | AL19: =IF(AE19="","",COUNTIFS('17년일출'!$AF$6:$AF$120,'17년일입'!AE19)) | AM19: =IF(V19=AK19,"OK","@@") -> OK | AO19: =IF(AE19="",0,SUMIFS('17년일출'!$AB$6:$AB$120,'17년일출'!$AF$6:$AF$120,'17년일입'!$AE19)) -> 0 | AP19: =IF(AE19="","",COUNTIFS('17년일출'!$AF$6:$AF$120,AE19)) | AQ19: =IF(AA19=AO19,"OK","@@") -> OK
A20: =IFERROR(VLOOKUP($C20,구분표!$A$2:$C$313,2,FALSE),"") | B20: =IFERROR(VLOOKUP($C20,구분표!$A$2:$C$313,3,FALSE),"") | J20: =SUM(G20:I20) -> 0 | M20: =SUM(G20,K20,L20) -> 0 | N20: =IF(AND((J20=0),(M20>0)),"O",IF(AND((H20<0),(J20-M20<0)),"O","X")) -> X | V20: =IF($U20<>"도비",IF($S20="국도비","직접입력",SUM($H20:$I20)),) -> 0 | W20: =IF($U20="도비",SUM($H20:$I20),IF($S20="국도비","직접입력",SUM($H20:$I20)-$V20)) -> 0 | X20: =IF(SUM($H20:$I20)=SUM($V20:$W20),"OK","검토") -> OK | AA20: =IF($U20<>"도비",IF($S20="국도비","직접입력",SUM($K20:$L20)),) -> 0 | AB20: =IF($U20="도비",SUM(K20:L20),IF($S20="국도비","직접입력",SUM(K20:L20)-AA20)) -> 0 | AC20: =IF(SUM(K20:L20)=SUM(AA20:AB20),"OK","검토") -> OK | AE20: =IF(AG20="","",IF(U20="도비","세입없음",CONCATENATE(AG20,"-",COUNTIF($AG$7:AG20,AG20)))) | AG20: {=IF(C20="","",INDEX(구분표!$I$2:$I$313, MATCH(1,(구분표!$E$2:$E$313='17년일입'!B20)*(구분표!$F$2:$F$313='17년일입'!C20)*(구분표!$G$2:$G$313='17년일입'!A20),0)))} | AK20: =IF(AE20="",0,SUMIFS('17년일출'!$W$6:$W$120,'17년일출'!$AF$6:$AF$120,'17년일입'!$AE20)) -> 0 | AL20: =IF(AE20="","",COUNTIFS('17년일출'!$AF$6:$AF$120,'17년일입'!AE20)) | AM20: =IF(V20=AK20,"OK","@@") -> OK | AO20: =IF(AE20="",0,SUMIFS('17년일출'!$AB$6:$AB$120,'17년일출'!$AF$6:$AF$120,'17년일입'!$AE20)) -> 0 | AP20: =IF(AE20="","",COUNTIFS('17년일출'!$AF$6:$AF$120,AE20)) | AQ20: =IF(AA20=AO20,"OK","@@") -> OK
... A100: =IFERROR(VLOOKUP($C100,구분표!$A$2:$C$313,2,FALSE),"") | B100: =IFERROR(VLOOKUP($C100,구분표!$A$2:$C$313,3,FALSE),"") | J100: =SUM(G100:I100) -> 0 | M100: =SUM(G100,K100,L100) -> 0 | N100: =IF(AND((J100=0),(M100>0)),"O",IF(AND((H100<0),(J100-M100<0)),"O","X")) -> X | V100: =IF($U100<>"도비",IF($S100="국도비","직접입력",SUM($H100:$I100)),) -> 0 | W100: =IF($U100="도비",SUM($H100:$I100),IF($S100="국도비","직접입력",SUM($H100:$I100)-$V100)) -> 0 | X100: =IF(SUM($H100:$I100)=SUM($V100:$W100),"OK","검토") -> OK | AA100: =IF($U100<>"도비",IF($S100="국도비","직접입력",SUM($K100:$L100)),) -> 0 | AB100: =IF($U100="도비",SUM(K100:L100),IF($S100="국도비","직접입력",SUM(K100:L100)-AA100)) -> 0 | AC100: =IF(SUM(K100:L100)=SUM(AA100:AB100),"OK","검토") -> OK | AE100: =IF(AG100="","",IF(U100="도비","세입없음",CONCATENATE(AG100,"-",COUNTIF($AG$7:AG100,AG100)))) | AG100: {=IF(C100="","",INDEX(구분표!$I$2:$I$313, MATCH(1,(구분표!$E$2:$E$313='17년일입'!B100)*(구분표!$F$2:$F$313='17년일입'!C100)*(구분표!$G$2:$G$313='17년일입'!A100),0)))} | AK100: =IF(AE100="",0,SUMIFS('17년일출'!$W$6:$W$120,'17년일출'!$AF$6:$AF$120,'17년일입'!$AE100)) -> 0 | AL100: =IF(AE100="","",COUNTIFS('17년일출'!$AF$6:$AF$120,'17년일입'!AE100)) | AM100: =IF(V100=AK100,"OK","@@") -> OK | AO100: =IF(AE100="",0,SUMIFS('17년일출'!$AB$6:$AB$120,'17년일출'!$AF$6:$AF$120,'17년일입'!$AE100)) -> 0 | AP100: =IF(AE100="","",COUNTIFS('17년일출'!$AF$6:$AF$120,AE100)) | AQ100: =IF(AA100=AO100,"OK","@@") -> OK

Sheet 17년일출
A1: 2017년도 경기도 일반회계 세출 예산 조정(안)
A2: □ 세출예산 | W2: 세입=세출 | AB2: 세입=세출
K3: (단위 : 천원) | L3: =COUNTA(L7:L120)-10 -> -1 | M3: =COUNTA(M7:M120)-10 -> -1 | R3: (단위 : 천원) | W3: =IF(W6='17년일입'!V6,"OK","@@") -> @@ | Y3: =IF(COUNTIF(Y6:Y120,"검토")>0,"@@","OK") -> OK | AB3: =IF(AB6='17년일입'!AA6,"OK","@@") -> OK | AD3: =IF(COUNTIF(AD6:AD120,"검토")>0,"@@","OK") -> OK
A4: 위원회명 | B4: 실국명 | C4: 부서명 | D4: 편성 구분 | E4: 연정 구분 | F4: 예산안 페이지 | G4: 세부사업명 및 부기명 | H4: 예산안 (가) | I4: 상임위 예산안 조정액(나) | K4: 상임위 조정 예산안 (다=가+나) | L4: 예결위 예산안 조정액(라) | N4: 예결위 조정 예산안 (마=가+라) | O4: 동의 대상 | P4: 상임위 변경사유 (심의 참고자료) | Q4: 비고 (상임위 부대의견) | R4: 비고 (부대의견) | T4: 국도비 등 여부 | V4: 재원 | W4: 상임위 재원별 증감액 | AA4: 재원 | AB4: 예결위 재원별 증감액 | AF4: 세입번호 | AH4: 동일 세입 건수 | AI4: 세출 번호 검증 | AK4: 실국부서 코드 | AM4: 추가 내시 등
I5: 감액 | J5: 증액 | L5: 감액 | M5: 증액 | W5: 국비 등 | X5: 도비 | Y5: 검증 | AB5: 국비 등 | AC5: 도비 | AD5: 검증
A6: 합 계 | H6: =SUBTOTAL(9,H7:H120)/2 -> 212431700 | I6: =SUBTOTAL(9,I7:I120)/2 -> -10380000 | J6: =SUBTOTAL(9,J7:J120)/2 -> 4724000 | K6: =SUBTOTAL(9,K7:K120)/2 -> 206775700 | L6: =SUBTOTAL(9,L7:L120)/2 -> 0 | M6: =SUBTOTAL(9,M7:M120)/2 -> 0 | N6: =SUBTOTAL(9,N7:N120)/2 -> 212431700 | W6: =SUBTOTAL(9,W7:W120) -> -5656000 | X6: =SUBTOTAL(9,X7:X120) -> 0 | Y6: =IF(SUM($I6:$J6)=SUM($W6:$X6),"OK","검토") -> OK | AB6: =SUBTOTAL(9,AB7:AB120) -> 0 | AC6: =SUBTOTAL(9,AC7:AC120) -> 0 | AD6: =IF(SUM($I6:$J6)=SUM($W6:$X6),"OK","검토") -> OK
A7: (기획재정위원회) | H7: =SUM(H8:H32) -> 212431700 | I7: =SUM(I8:I32) -> -10380000 | J7: =SUM(J8:J32) -> 4724000 | K7: =SUM(K8:K32) -> 206775700 | L7: =SUM(L8:L32) -> 0 | M7: =SUM(M8:M32) -> 0 | N7: =SUM(N8:N32) -> 212431700 | AF7: =IF(V7="","",IF(V7="도비","세입없음","직접입력"))
A8: =IFERROR(VLOOKUP($C8,구분표!$A$2:$C$313,2,FALSE),"") -> 기획재정위원회 | B8: 기획조정실 | C8: 미래전략담당관 | F8: 75 | G8: 경기연구원 출연(자체/직접) 경기연구원 지원 | H8: 12905000 | J8: 1000000 | K8: =H8+I8+J8 -> 13905000 | N8: =H8+L8+M8 -> 12905000 | O8: =IF(AND((K8=0),(N8>0)),"O",IF(AND((I8<0),(K8-N8<0)),"O","X")) -> X | P8: 연구과제 | W8: =IF($V8<>"도비",IF($T8="국도비","직접입력",SUM($I8:$J8)),) -> 1000000 | X8: =IF($V8="도비",SUM($I8:$J8),IF($T8="국도비","직접입력",SUM($I8:$J8)-$W8)) -> 0 | Y8: =IF(SUM($I8:$J8)=SUM($W8:$X8),"OK","검토") -> OK | AB8: =IF($V8<>"도비",IF($T8="국도비","직접입력",SUM($L8:$M8)),) -> 0 | AC8: =IF($V8="도비",SUM(L8:M8),IF($T8="국도비","직접입력",SUM(L8:M8)-AB8)) -> 0 | AD8: =IF(SUM(L8:M8)=SUM(AB8:AC8),"OK","검토") -> OK | AF8: =IF(V8="","",IF(V8="도비","세입없음","직접입력")) | AH8: =IF(AF8="","",COUNTIF($AF$7:$AF$120,AF8)) | AI8: =IF(V8="","",IF(AND(V8="도비",AF8="세입없음"),"OK",IF(AND(V8<>"도비",AF8<>""),"OK","@@"))) | AK8: {=IF(C8="","",INDEX(구분표!$I$2:$I$313, MATCH(1,(구분표!$E$2:$E$313='17년일출'!B8)*(구분표!$F$2:$F$313='17년일출'!C8)*(구분표!$G$2:$G$313='17년일출'!A8),0)))} -> 0118
A9: =IFERROR(VLOOKUP($C9,구분표!$A$2:$C$313,2,FALSE),"") -> 기획재정위원회 | B9: 기획조정실 | C9: 미래전략담당관 | F9: 76 | G9: 미래전략발굴(자체/직접) 경기정명천년 기념사업홍보 | H9: 1400000 | I9: -700000 | K9: =H9+I9+J9 -> 700000 | N9: =H9+L9+M9 -> 1400000 | O9: =IF(AND((K9=0),(N9>0)),"O",IF(AND((I9<0),(K9-N9<0)),"O","X")) -> O | W9: =IF($V9<>"도비",IF($T9="국도비","직접입력",SUM($I9:$J9)),) -> -700000 | X9: =IF($V9="도비",SUM($I9:$J9),IF($T9="국도비","직접입력",SUM($I9:$J9)-$W9)) -> 0 | Y9: =IF(SUM($I9:$J9)=SUM($W9:$X9),"OK","검토") -> OK | AB9: =IF($V9<>"도비",IF($T9="국도비","직접입력",SUM($L9:$M9)),) -> 0 | AC9: =IF($V9="도비",SUM(L9:M9),IF($T9="국도비","직접입력",SUM(L9:M9)-AB9)) -> 0 | AD9: =IF(SUM(L9:M9)=SUM(AB9:AC9),"OK","검토") -> OK | AF9: =IF(V9="","",IF(V9="도비","세입없음","직접입력")) | AH9: =IF(AF9="","",COUNTIF($AF$7:$AF$120,AF9)) | AI9: =IF(V9="","",IF(AND(V9="도비",AF9="세입없음"),"OK",IF(AND(V9<>"도비",AF9<>""),"OK","@@"))) | AK9: {=IF(C9="","",INDEX(구분표!$I$2:$I$313, MATCH(1,(구분표!$E$2:$E$313='17년일출'!B9)*(구분표!$F$2:$F$313='17년일출'!C9)*(구분표!$G$2:$G$313='17년일출'!A9),0)))} -> 0118
A10: =IFERROR(VLOOKUP($C10,구분표!$A$2:$C$313,2,FALSE),"") -> 기획재정위원회 | B10: 기획조정실 | C10: 예산담당관 | F10: 82 | G10: 지역상생발전기금출연금(자체/직접) 지역상생발전기금 출연금 | H10: 192452400 | I10: -9100000 | K10: =H10+I10+J10 -> 183352400 | N10: =H10+L10+M10 -> 192452400 | O10: =IF(AND((K10=0),(N10>0)),"O",IF(AND((I10<0),(K10-N10<0)),"O","X")) -> O | W10: =IF($V10<>"도비",IF($T10="국도비","직접입력",SUM($I10:$J10)),) -> -9100000 | X10: =IF($V10="도비",SUM($I10:$J10),IF($T10="국도비","직접입력",SUM($I10:$J10)-$W10)) -> 0 | Y10: =IF(SUM($I10:$J10)=SUM($W10:$X10),"OK","검토") -> OK | AB10: =IF($V10<>"도비",IF($T10="국도비","직접입력",SUM($L10:$M10)),) -> 0 | AC10: =IF($V10="도비",SUM(L10:M10),IF($T10="국도비","직접입력",SUM(L10:M10)-AB10)) -> 0 | AD10: =IF(SUM(L10:M10)=SUM(AB10:AC10),"OK","검토") -> OK | AF10: =IF(V10="","",IF(V10="도비","세입없음","직접입력")) | AH10: =IF(AF10="","",COUNTIF($AF$7:$AF$120,AF10)) | AI10: =IF(V10="","",IF(AND(V10="도비",AF10="세입없음"),"OK",IF(AND(V10<>"도비",AF10<>""),"OK","@@"))) | AK10: {=IF(C10="","",INDEX(구분표!$I$2:$I$313, MATCH(1,(구분표!$E$2:$E$313='17년일출'!B10)*(구분표!$F$2:$F$313='17년일출'!C10)*(구분표!$G$2:$G$313='17년일출'!A10),0)))} -> 0119
A11: =IFERROR(VLOOKUP($C11,구분표!$A$2:$C$313,2,FALSE),"") -> 기획재정위원회 | B11: 균형발전기획실 | C11: 기획예산담당관 | F11: 신규 | G11: 어린이박물관 시설개선 (고양5억, 동두천5억) | J11: 1000000 | K11: =H11+I11+J11 -> 1000000 | N11: =H11+L11+M11 -> 0 | O11: =IF(AND((K11=0),(N11>0)),"O",IF(AND((I11<0),(K11-N11<0)),"O","X")) -> X | P11: 북부 박물관 시설 | W11: =IF($V11<>"도비",IF($T11="국도비","직접입력",SUM($I11:$J11)),) -> 1000000 | X11: =IF($V11="도비",SUM($I11:$J11),IF($T11="국도비","직접입력",SUM($I11:$J11)-$W11)) -> 0 | Y11: =IF(SUM($I11:$J11)=SUM($W11:$X11),"OK","검토") -> OK | AB11: =IF($V11<>"도비",IF($T11="국도비","직접입력",SUM($L11:$M11)),) -> 0 | AC11: =IF($V11="도비",SUM(L11:M11),IF($T11="국도비","직접입력",SUM(L11:M11)-AB11)) -> 0 | AD11: =IF(SUM(L11:M11)=SUM(AB11:AC11),"OK","검토") -> OK | AF11: =IF(V11="","",IF(V11="도비","세입없음","직접입력")) | AH11: =IF(AF11="","",COUNTIF($AF$7:$AF$120,AF11)) | AI11: =IF(V11="","",IF(AND(V11="도비",AF11="세입없음"),"OK",IF(AND(V11<>"도비",AF11<>""),"OK","@@"))) | AK11: {=IF(C11="","",INDEX(구분표!$I$2:$I$313, MATCH(1,(구분표!$E$2:$E$313='17년일출'!B11)*(구분표!$F$2:$F$313='17년일출'!C11)*(구분표!$G$2:$G$313='17년일출'!A11),0)))} -> 0127
A12: =IFERROR(VLOOKUP($C12,구분표!$A$2:$C$313,2,FALSE),"") -> 기획재정위원회 | B12: =IFERROR(VLOOKUP($C12,구분표!$A$2:$C$313,3,FALSE),"") -> 균형발전기획실 | C12: 기획예산담당관 | F12: 113 | G12: 도정시책 기획홍보 | H12: 1026300 | J12: 100000 | K12: =H12+I12+J12 -> 1126300 | N12: =H12+L12+M12 -> 1026300 | O12: =IF(AND((K12=0),(N12>0)),"O",IF(AND((I12<0),(K12-N12<0)),"O","X")) -> X | W12: =IF($V12<>"도비",IF($T12="국도비","직접입력",SUM($I12:$J12)),) -> 100000 | X12: =IF($V12="도비",SUM($I12:$J12),IF($T12="국도비","직접입력",SUM($I12:$J12)-$W12)) -> 0 | Y12: =IF(SUM($I12:$J12)=SUM($W12:$X12),"OK","검토") -> OK | AB12: =IF($V12<>"도비",IF($T12="국도비","직접입력",SUM($L12:$M12)),) -> 0 | AC12: =IF($V12="도비",SUM(L12:M12),IF($T12="국도비","직접입력",SUM(L12:M12)-AB12)) -> 0 | AD12: =IF(SUM(L12:M12)=SUM(AB12:AC12),"OK","검토") -> OK | AF12: =IF(V12="","",IF(V12="도비","세입없음","직접입력")) | AH12: =IF(AF12="","",COUNTIF($AF$7:$AF$120,AF12)) | AI12: =IF(V12="","",IF(AND(V12="도비",AF12="세입없음"),"OK",IF(AND(V12<>"도비",AF12<>""),"OK","@@"))) | AK12: {=IF(C12="","",INDEX(구분표!$I$2:$I$313, MATCH(1,(구분표!$E$2:$E$313='17년일출'!B12)*(구분표!$F$2:$F$313='17년일출'!C12)*(구분표!$G$2:$G$313='17년일출'!A12),0)))} -> 0127
A13: =IFERROR(VLOOKUP($C13,구분표!$A$2:$C$313,2,FALSE),"") -> 기획재정위원회 | B13: =IFERROR(VLOOKUP($C13,구분표!$A$2:$C$313,3,FALSE),"") -> 균형발전기획실 | C13: DMZ정책담당관 | F13: 128 | G13: DMZ생태관광지원센터 운영관리 지원(자체/직접) DMZ생태관광지원센터 운영관리 지원 | H13: 70000 | I13: -70000 | K13: =H13+I13+J13 -> 0 | N13: =H13+L13+M13 -> 70000 | O13: =IF(AND((K13=0),(N13>0)),"O",IF(AND((I13<0),(K13-N13<0)),"O","X")) -> O | W13: =IF($V13<>"도비",IF($T13="국도비","직접입력",SUM($I13:$J13)),) -> -70000 | X13: =IF($V13="도비",SUM($I13:$J13),IF($T13="국도비","직접입력",SUM($I13:$J13)-$W13)) -> 0 | Y13: =IF(SUM($I13:$J13)=SUM($W13:$X13),"OK","검토") -> OK | AB13: =IF($V13<>"도비",IF($T13="국도비","직접입력",SUM($L13:$M13)),) -> 0 | AC13: =IF($V13="도비",SUM(L13:M13),IF($T13="국도비","직접입력",SUM(L13:M13)-AB13)) -> 0 | AD13: =IF(SUM(L13:M13)=SUM(AB13:AC13),"OK","검토") -> OK | AF13: =IF(V13="","",IF(V13="도비","세입없음","직접입력")) | AH13: =IF(AF13="","",COUNTIF($AF$7:$AF$120,AF13)) | AI13: =IF(V13="","",IF(AND(V13="도비",AF13="세입없음"),"OK",IF(AND(V13<>"도비",AF13<>""),"OK","@@"))) | AK13: {=IF(C13="","",INDEX(구분표!$I$2:$I$313, MATCH(1,(구분표!$E$2:$E$313='17년일출'!B13)*(구분표!$F$2:$F$313='17년일출'!C13)*(구분표!$G$2:$G$313='17년일출'!A13),0)))} -> 0130
A14: =IFERROR(VLOOKUP($C14,구분표!$A$2:$C$313,2,FALSE),"") -> 기획재정위원회 | B14: =IFERROR(VLOOKUP($C14,구분표!$A$2:$C$313,3,FALSE),"") -> 균형발전기획실 | C14: DMZ정책담당관 | F14: 125 | G14: DMZ 미술대회(민간경상보조) | H14: 60000 | I14: -60000 | K14: =H14+I14+J14 -> 0 | N14: =H14+L14+M14 -> 60000 | O14: =IF(AND((K14=0),(N14>0)),"O",IF(AND((I14<0),(K14-N14<0)),"O","X")) -> O | W14: =IF($V14<>"도비",IF($T14="국도비","직접입력",SUM($I14:$J14)),) -> -60000 | X14: =IF($V14="도비",SUM($I14:$J14),IF($T14="국도비","직접입력",SUM($I14:$J14)-$W14)) -> 0 | Y14: =IF(SUM($I14:$J14)=SUM($W14:$X14),"OK","검토") -> OK | AB14: =IF($V14<>"도비",IF($T14="국도비","직접입력",SUM($L14:$M14)),) -> 0 | AC14: =IF($V14="도비",SUM(L14:M14),IF($T14="국도비","직접입력",SUM(L14:M14)-AB14)) -> 0 | AD14: =IF(SUM(L14:M14)=SUM(AB14:AC14),"OK","검토") -> OK | AF14: =IF(V14="","",IF(V14="도비","세입없음","직접입력")) | AH14: =IF(AF14="","",COUNTIF($AF$7:$AF$120,AF14)) | AI14: =IF(V14="","",IF(AND(V14="도비",AF14="세입없음"),"OK",IF(AND(V14<>"도비",AF14<>""),"OK","@@"))) | AK14: {=IF(C14="","",INDEX(구분표!$I$2:$I$313, MATCH(1,(구분표!$E$2:$E$313='17년일출'!B14)*(구분표!$F$2:$F$313='17년일출'!C14)*(구분표!$G$2:$G$313='17년일출'!A14),0)))} -> 0130
A15: =IFERROR(VLOOKUP($C15,구분표!$A$2:$C$313,2,FALSE),"") -> 기획재정위원회 | B15: =IFERROR(VLOOKUP($C15,구분표!$A$2:$C$313,3,FALSE),"") -> 균형발전기획실 | C15: DMZ정책담당관 | F15: 125 | G15: DMZ 청소년 탐험대(공기관등에 대한 대행사업비) -> (부기변경) DMZ 청소년 탐험 미술대회 | H15: 80000 | J15: 60000 | K15: =H15+I15+J15 -> 140000 | N15: =H15+L15+M15 -> 80000 | O15: =IF(AND((K15=0),(N15>0)),"O",IF(AND((I15<0),(K15-N15<0)),"O","X")) -> X | W15: =IF($V15<>"도비",IF($T15="국도비","직접입력",SUM($I15:$J15)),) -> 60000 | X15: =IF($V15="도비",SUM($I15:$J15),IF($T15="국도비","직접입력",SUM($I15:$J15)-$W15)) -> 0 | Y15: =IF(SUM($I15:$J15)=SUM($W15:$X15),"OK","검토") -> OK | AB15: =IF($V15<>"도비",IF($T15="국도비","직접입력",SUM($L15:$M15)),) -> 0 | AC15: =IF($V15="도비",SUM(L15:M15),IF($T15="국도비","직접입력",SUM(L15:M15)-AB15)) -> 0 | AD15: =IF(SUM(L15:M15)=SUM(AB15:AC15),"OK","검토") -> OK | AF15: =IF(V15="","",IF(V15="도비","세입없음","직접입력")) | AH15: =IF(AF15="","",COUNTIF($AF$7:$AF$120,AF15)) | AI15: =IF(V15="","",IF(AND(V15="도비",AF15="세입없음"),"OK",IF(AND(V15<>"도비",AF15<>""),"OK","@@"))) | AK15: {=IF(C15="","",INDEX(구분표!$I$2:$I$313, MATCH(1,(구분표!$E$2:$E$313='17년일출'!B15)*(구분표!$F$2:$F$313='17년일출'!C15)*(구분표!$G$2:$G$313='17년일출'!A15),0)))} -> 0130
A16: =IFERROR(VLOOKUP($C16,구분표!$A$2:$C$313,2,FALSE),"") -> 기획재정위원회 | B16: =IFERROR(VLOOKUP($C16,구분표!$A$2:$C$313,3,FALSE),"") -> 균형발전기획실 | C16: DMZ정책담당관 | F16: 125 | G16: DMZ 평화가족 한마당(공기관등에 대한 대행사업비) ->(부기변경) DMZ 평화가족 한마당 및 홍보 | H16: 150000 | J16: 150000 | K16: =H16+I16+J16 -> 300000 | N16: =H16+L16+M16 -> 150000 | O16: =IF(AND((K16=0),(N16>0)),"O",IF(AND((I16<0),(K16-N16<0)),"O","X")) -> X | W16: =IF($V16<>"도비",IF($T16="국도비","직접입력",SUM($I16:$J16)),) -> 150000 | X16: =IF($V16="도비",SUM($I16:$J16),IF($T16="국도비","직접입력",SUM($I16:$J16)-$W16)) -> 0 | Y16: =IF(SUM($I16:$J16)=SUM($W16:$X16),"OK","검토") -> OK | AB16: =IF($V16<>"도비",IF($T16="국도비","직접입력",SUM($L16:$M16)),) -> 0 | AC16: =IF($V16="도비",SUM(L16:M16),IF($T16="국도비","직접입력",SUM(L16:M16)-AB16)) -> 0 | AD16: =IF(SUM(L16:M16)=SUM(AB16:AC16),"OK","검토") -> OK | AF16: =IF(V16="","",IF(V16="도비","세입없음","직접입력")) | AH16: =IF(AF16="","",COUNTIF($AF$7:$AF$120,AF16)) | AI16: =IF(V16="","",IF(AND(V16="도비",AF16="세입없음"),"OK",IF(AND(V16<>"도비",AF16<>""),"OK","@@"))) | AK16: {=IF(C16="","",INDEX(구분표!$I$2:$I$313, MATCH(1,(구분표!$E$2:$E$313='17년일출'!B16)*(구분표!$F$2:$F$313='17년일출'!C16)*(구분표!$G$2:$G$313='17년일출'!A16),0)))} -> 0130
A17: =IFERROR(VLOOKUP($C17,구분표!$A$2:$C$313,2,FALSE),"") -> 기획재정위원회 | B17: =IFERROR(VLOOKUP($C17,구분표!$A$2:$C$313,3,FALSE),"") -> 균형발전기획실 | C17: DMZ정책담당관 | F17: 126 | G17: 평화누리길 탐방프로젝트 | H17: 150000 | I17: -150000 | K17: =H17+I17+J17 -> 0 | N17: =H17+L17+M17 -> 150000 | O17: =IF(AND((K17=0),(N17>0)),"O",IF(AND((I17<0),(K17-N17<0)),"O","X")) -> O | W17: =IF($V17<>"도비",IF($T17="국도비","직접입력",SUM($I17:$J17)),) -> -150000 | X17: =IF($V17="도비",SUM($I17:$J17),IF($T17="국도비","직접입력",SUM($I17:$J17)-$W17)) -> 0 | Y17: =IF(SUM($I17:$J17)=SUM($W17:$X17),"OK","검토") -> OK | AB17: =IF($V17<>"도비",IF($T17="국도비","직접입력",SUM($L17:$M17)),) -> 0 | AC17: =IF($V17="도비",SUM(L17:M17),IF($T17="국도비","직접입력",SUM(L17:M17)-AB17)) -> 0 | AD17: =IF(SUM(L17:M17)=SUM(AB17:AC17),"OK","검토") -> OK | AF17: =IF(V17="","",IF(V17="도비","세입없음","직접입력")) | AH17: =IF(AF17="","",COUNTIF($AF$7:$AF$120,AF17)) | AI17: =IF(V17="","",IF(AND(V17="도비",AF17="세입없음"),"OK",IF(AND(V17<>"도비",AF17<>""),"OK","@@"))) | AK17: {=IF(C17="","",INDEX(구분표!$I$2:$I$313, MATCH(1,(구분표!$E$2:$E$313='17년일출'!B17)*(구분표!$F$2:$F$313='17년일출'!C17)*(구분표!$G$2:$G$313='17년일출'!A17),0)))} -> 0130
A18: =IFERROR(VLOOKUP($C18,구분표!$A$2:$C$313,2,FALSE),"") -> 기획재정위원회 | B18: =IFERROR(VLOOKUP($C18,구분표!$A$2:$C$313,3,FALSE),"") -> 균형발전기획실 | C18: 군관협력담당관 | F18: 131 | G18: 한미 협력사업(자체/직접) 주한미군 한미협력사업 | H18: 120000 | J18: 50000 | K18: =H18+I18+J18 -> 170000 | N18: =H18+L18+M18 -> 120000 | O18: =IF(AND((K18=0),(N18>0)),"O",IF(AND((I18<0),(K18-N18<0)),"O","X")) -> X | W18: =IF($V18<>"도비",IF($T18="국도비","직접입력",SUM($I18:$J18)),) -> 50000 | X18: =IF($V18="도비",SUM($I18:$J18),IF($T18="국도비","직접입력",SUM($I18:$J18)-$W18)) -> 0 | Y18: =IF(SUM($I18:$J18)=SUM($W18:$X18),"OK","검토") -> OK | AB18: =IF($V18<>"도비",IF($T18="국도비","직접입력",SUM($L18:$M18)),) -> 0 | AC18: =IF($V18="도비",SUM(L18:M18),IF($T18="국도비","직접입력",SUM(L18:M18)-AB18)) -> 0 | AD18: =IF(SUM(L18:M18)=SUM(AB18:AC18),"OK","검토") -> OK | AF18: =IF(V18="","",IF(V18="도비","세입없음","직접입력")) | AH18: =IF(AF18="","",COUNTIF($AF$7:$AF$120,AF18)) | AI18: =IF(V18="","",IF(AND(V18="도비",AF18="세입없음"),"OK",IF(AND(V18<>"도비",AF18<>""),"OK","@@"))) | AK18: {=IF(C18="","",INDEX(구분표!$I$2:$I$313, MATCH(1,(구분표!$E$2:$E$313='17년일출'!B18)*(구분표!$F$2:$F$313='17년일출'!C18)*(구분표!$G$2:$G$313='17년일출'!A18),0)))} -> 0131
A19: 기획재정위원회 | B19: 균형발전기획실 | C19: 통일기반담당관 | F19: 120 | G19: 남북평화의 종 건립지원(자체/지원) 남북평화의 종 건립지원 | H19: 300000 | I19: -300000 | K19: =H19+I19+J19 -> 0 | N19: =H19+L19+M19 -> 300000 | O19: =IF(AND((K19=0),(N19>0)),"O",IF(AND((I19<0),(K19-N19<0)),"O","X")) -> O | W19: =IF($V19<>"도비",IF($T19="국도비","직접입력",SUM($I19:$J19)),) -> -300000 | X19: =IF($V19="도비",SUM($I19:$J19),IF($T19="국도비","직접입력",SUM($I19:$J19)-$W19)) -> 0 | Y19: =IF(SUM($I19:$J19)=SUM($W19:$X19),"OK","검토") -> OK | AB19: =IF($V19<>"도비",IF($T19="국도비","직접입력",SUM($L19:$M19)),) -> 0 | AC19: =IF($V19="도비",SUM(L19:M19),IF($T19="국도비","직접입력",SUM(L19:M19)-AB19)) -> 0 | AD19: =IF(SUM(L19:M19)=SUM(AB19:AC19),"OK","검토") -> OK | AF19: =IF(V19="","",IF(V19="도비","세입없음","직접입력")) | AH19: =IF(AF19="","",COUNTIF($AF$7:$AF$120,AF19)) | AI19: =IF(V19="","",IF(AND(V19="도비",AF19="세입없음"),"OK",IF(AND(V19<>"도비",AF19<>""),"OK","@@"))) | AK19: {=IF(C19="","",INDEX(구분표!$I$2:$I$313, MATCH(1,(구분표!$E$2:$E$313='17년일출'!B19)*(구분표!$F$2:$F$313='17년일출'!C19)*(구분표!$G$2:$G$313='17년일출'!A19),0)))} -> #N/A
A20: 기획재정위원회 | B20: 균형발전기획실 | C20: 통일기반담당관 | F20: 신규 | G20: 여성평화 학술토론 및 걷기 행사 | J20: 50000 | K20: =H20+I20+J20 -> 50000 | N20: =H20+L20+M20 -> 0 | O20: =IF(AND((K20=0),(N20>0)),"O",IF(AND((I20<0),(K20-N20<0)),"O","X")) -> X | W20: =IF($V20<>"도비",IF($T20="국도비","직접입력",SUM($I20:$J20)),) -> 50000 | X20: =IF($V20="도비",SUM($I20:$J20),IF($T20="국도비","직접입력",SUM($I20:$J20)-$W20)) -> 0 | Y20: =IF(SUM($I20:$J20)=SUM($W20:$X20),"OK","검토") -> OK | AB20: =IF($V20<>"도비",IF($T20="국도비","직접입력",SUM($L20:$M20)),) -> 0 | AC20: =IF($V20="도비",SUM(L20:M20),IF($T20="국도비","직접입력",SUM(L20:M20)-AB20)) -> 0 | AD20: =IF(SUM(L20:M20)=SUM(AB20:AC20),"OK","검토") -> OK | AF20: =IF(V20="","",IF(V20="도비","세입없음","직접입력")) | AH20: =IF(AF20="","",COUNTIF($AF$7:$AF$120,AF20)) | AI20: =IF(V20="","",IF(AND(V20="도비",AF20="세입없음"),"OK",IF(AND(V20<>"도비",AF20<>""),"OK","@@"))) | AK20: {=IF(C20="","",INDEX(구분표!$I$2:$I$313, MATCH(1,(구분표!$E$2:$E$313='17년일출'!B20)*(구분표!$F$2:$F$313='17년일출'!C20)*(구분표!$G$2:$G$313='17년일출'!A20),0)))} -> #N/A
A21: 기획재정위원회 | B21: 균형발전기획실 | C21: 통일기반담당관 | F21: 121 | G21: 2017년 굿모닝 경기 통일 한마당 | H21: 100000 | J21: 50000 | K21: =H21+I21+J21 -> 150000 | N21: =H21+L21+M21 -> 100000 | O21: =IF(AND((K21=0),(N21>0)),"O",IF(AND((I21<0),(K21-N21<0)),"O","X")) -> X | W21: =IF($V21<>"도비",IF($T21="국도비","직접입력",SUM($I21:$J21)),) -> 50000 | X21: =IF($V21="도비",SUM($I21:$J21),IF($T21="국도비","직접입력",SUM($I21:$J21)-$W21)) -> 0 | Y21: =IF(SUM($I21:$J21)=SUM($W21:$X21),"OK","검토") -> OK | AB21: =IF($V21<>"도비",IF($T21="국도비","직접입력",SUM($L21:$M21)),) -> 0 | AC21: =IF($V21="도비",SUM(L21:M21),IF($T21="국도비","직접입력",SUM(L21:M21)-AB21)) -> 0 | AD21: =IF(SUM(L21:M21)=SUM(AB21:AC21),"OK","검토") -> OK | AF21: =IF(V21="","",IF(V21="도비","세입없음","직접입력")) | AH21: =IF(AF21="","",COUNTIF($AF$7:$AF$120,AF21)) | AI21: =IF(V21="","",IF(AND(V21="도비",AF21="세입없음"),"OK",IF(AND(V21<>"도비",AF21<>""),"OK","@@"))) | AK21: {=IF(C21="","",INDEX(구분표!$I$2:$I$313, MATCH(1,(구분표!$E$2:$E$313='17년일출'!B21)*(구분표!$F$2:$F$313='17년일출'!C21)*(구분표!$G$2:$G$313='17년일출'!A21),0)))} -> #N/A
A22: =IFERROR(VLOOKUP($C22,구분표!$A$2:$C$313,2,FALSE),"") -> 기획재정위원회 | B22: =IFERROR(VLOOKUP($C22,구분표!$A$2:$C$313,3,FALSE),"") -> 균형발전기획실 | C22: 군관협력담당관 | F22: 131 | G22: 한미친선교류협력(자체/지원) 한미친선교류협력 | H22: 840000 | J22: 200000 | K22: =H22+I22+J22 -> 1040000 | N22: =H22+L22+M22 -> 840000 | O22: =IF(AND((K22=0),(N22>0)),"O",IF(AND((I22<0),(K22-N22<0)),"O","X")) -> X | W22: =IF($V22<>"도비",IF($T22="국도비","직접입력",SUM($I22:$J22)),) -> 200000 | X22: =IF($V22="도비",SUM($I22:$J22),IF($T22="국도비","직접입력",SUM($I22:$J22)-$W22)) -> 0 | Y22: =IF(SUM($I22:$J22)=SUM($W22:$X22),"OK","검토") -> OK | AB22: =IF($V22<>"도비",IF($T22="국도비","직접입력",SUM($L22:$M22)),) -> 0 | AC22: =IF($V22="도비",SUM(L22:M22),IF($T22="국도비","직접입력",SUM(L22:M22)-AB22)) -> 0 | AD22: =IF(SUM(L22:M22)=SUM(AB22:AC22),"OK","검토") -> OK | AF22: =IF(V22="","",IF(V22="도비","세입없음","직접입력")) | AH22: =IF(AF22="","",COUNTIF($AF$7:$AF$120,AF22)) | AI22: =IF(V22="","",IF(AND(V22="도비",AF22="세입없음"),"OK",IF(AND(V22<>"도비",AF22<>""),"OK","@@"))) | AK22: {=IF(C22="","",INDEX(구분표!$I$2:$I$313, MATCH(1,(구분표!$E$2:$E$313='17년일출'!B22)*(구분표!$F$2:$F$313='17년일출'!C22)*(구분표!$G$2:$G$313='17년일출'!A22),0)))} -> 0131
A23: =IFERROR(VLOOKUP($C23,구분표!$A$2:$C$313,2,FALSE),"") -> 기획재정위원회 | B23: 감사관 | C23: 감사총괄담당관 | F23: 신규 | G23: 자체감사 운영 및 중앙부처 감사지원(자체직접) 청렴도향상 유공공무원 국외연수 | H23: 0 | J23: 30000 | K23: =H23+I23+J23 -> 30000 | N23: =H23+L23+M23 -> 0 | O23: =IF(AND((K23=0),(N23>0)),"O",IF(AND((I23<0),(K23-N23<0)),"O","X")) -> X | W23: =IF($V23<>"도비",IF($T23="국도비","직접입력",SUM($I23:$J23)),) -> 30000 | X23: =IF($V23="도비",SUM($I23:$J23),IF($T23="국도비","직접입력",SUM($I23:$J23)-$W23)) -> 0 | Y23: =IF(SUM($I23:$J23)=SUM($W23:$X23),"OK","검토") -> OK | AB23: =IF($V23<>"도비",IF($T23="국도비","직접입력",SUM($L23:$M23)),) -> 0 | AC23: =IF($V23="도비",SUM(L23:M23),IF($T23="국도비","직접입력",SUM(L23:M23)-AB23)) -> 0 | AD23: =IF(SUM(L23:M23)=SUM(AB23:AC23),"OK","검토") -> OK | AF23: =IF(V23="","",IF(V23="도비","세입없음","직접입력")) | AH23: =IF(AF23="","",COUNTIF($AF$7:$AF$120,AF23)) | AI23: =IF(V23="","",IF(AND(V23="도비",AF23="세입없음"),"OK",IF(AND(V23<>"도비",AF23<>""),"OK","@@"))) | AK23: {=IF(C23="","",INDEX(구분표!$I$2:$I$313, MATCH(1,(구분표!$E$2:$E$313='17년일출'!B23)*(구분표!$F$2:$F$313='17년일출'!C23)*(구분표!$G$2:$G$313='17년일출'!A23),0)))} -> 0113
A24: =IFERROR(VLOOKUP($C24,구분표!$A$2:$C$313,2,FALSE),"") -> 기획재정위원회 | B24: =IFERROR(VLOOKUP($C24,구분표!$A$2:$C$313,3,FALSE),"") -> 따복공동체지원단 | C24: 따복공동체지원단 | F24: 137 | G24: 따복공동체 청년 등 특화사업 발굴(자체/직접) - 청년 따복공동체 프로젝트 추진 | H24: 150000 | J24: 150000 | K24: =H24+I24+J24 -> 300000 | N24: =H24+L24+M24 -> 150000 | O24: =IF(AND((K24=0),(N24>0)),"O",IF(AND((I24<0),(K24-N24<0)),"O","X")) -> X | W24: =IF($V24<>"도비",IF($T24="국도비","직접입력",SUM($I24:$J24)),) -> 150000 | X24: =IF($V24="도비",SUM($I24:$J24),IF($T24="국도비","직접입력",SUM($I24:$J24)-$W24)) -> 0 | Y24: =IF(SUM($I24:$J24)=SUM($W24:$X24),"OK","검토") -> OK | AB24: =IF($V24<>"도비",IF($T24="국도비","직접입력",SUM($L24:$M24)),) -> 0 | AC24: =IF($V24="도비",SUM(L24:M24),IF($T24="국도비","직접입력",SUM(L24:M24)-AB24)) -> 0 | AD24: =IF(SUM(L24:M24)=SUM(AB24:AC24),"OK","검토") -> OK | AF24: =IF(V24="","",IF(V24="도비","세입없음","직접입력")) | AH24: =IF(AF24="","",COUNTIF($AF$7:$AF$120,AF24)) | AI24: =IF(V24="","",IF(AND(V24="도비",AF24="세입없음"),"OK",IF(AND(V24<>"도비",AF24<>""),"OK","@@"))) | AK24: {=IF(C24="","",INDEX(구분표!$I$2:$I$313, MATCH(1,(구분표!$E$2:$E$313='17년일출'!B24)*(구분표!$F$2:$F$313='17년일출'!C24)*(구분표!$G$2:$G$313='17년일출'!A24),0)))} -> 0132
A25: =IFERROR(VLOOKUP($C25,구분표!$A$2:$C$313,2,FALSE),"") -> 기획재정위원회 | B25: =IFERROR(VLOOKUP($C25,구분표!$A$2:$C$313,3,FALSE),"") -> 따복공동체지원단 | C25: 따복공동체지원단 | F25: 138 | G25: 따복공동체 지원센터 운영(자체/직접) - 지원센터사업비 | H25: 2248000 | J25: 879000 | K25: =H25+I25+J25 -> 3127000 | N25: =H25+L25+M25 -> 2248000 | O25: =IF(AND((K25=0),(N25>0)),"O",IF(AND((I25<0),(K25-N25<0)),"O","X")) -> X | W25: =IF($V25<>"도비",IF($T25="국도비","직접입력",SUM($I25:$J25)),) -> 879000 | X25: =IF($V25="도비",SUM($I25:$J25),IF($T25="국도비","직접입력",SUM($I25:$J25)-$W25)) -> 0 | Y25: =IF(SUM($I25:$J25)=SUM($W25:$X25),"OK","검토") -> OK | AB25: =IF($V25<>"도비",IF($T25="국도비","직접입력",SUM($L25:$M25)),) -> 0 | AC25: =IF($V25="도비",SUM(L25:M25),IF($T25="국도비","직접입력",SUM(L25:M25)-AB25)) -> 0 | AD25: =IF(SUM(L25:M25)=SUM(AB25:AC25),"OK","검토") -> OK | AF25: =IF(V25="","",IF(V25="도비","세입없음","직접입력")) | AH25: =IF(AF25="","",COUNTIF($AF$7:$AF$120,AF25)) | AI25: =IF(V25="","",IF(AND(V25="도비",AF25="세입없음"),"OK",IF(AND(V25<>"도비",AF25<>""),"OK","@@"))) | AK25: {=IF(C25="","",INDEX(구분표!$I$2:$I$313, MATCH(1,(구분표!$E$2:$E$313='17년일출'!B25)*(구분표!$F$2:$F$313='17년일출'!C25)*(구분표!$G$2:$G$313='17년일출'!A25),0)))} -> 0132
A26: =IFERROR(VLOOKUP($C26,구분표!$A$2:$C$313,2,FALSE),"") -> 기획재정위원회 | B26: =IFERROR(VLOOKUP($C26,구분표!$A$2:$C$313,3,FALSE),"") -> 따복공동체지원단 | C26: 따복공동체지원단 | F26: 138 | G26: 따복공동체 주민제안 공모사업(자체/지원) - 따복공동체 공간조성 지원사업 | H26: 380000 | J26: 220000 | K26: =H26+I26+J26 -> 600000 | N26: =H26+L26+M26 -> 380000 | O26: =IF(AND((K26=0),(N26>0)),"O",IF(AND((I26<0),(K26-N26<0)),"O","X")) -> X | W26: =IF($V26<>"도비",IF($T26="국도비","직접입력",SUM($I26:$J26)),) -> 220000 | X26: =IF($V26="도비",SUM($I26:$J26),IF($T26="국도비","직접입력",SUM($I26:$J26)-$W26)) -> 0 | Y26: =IF(SUM($I26:$J26)=SUM($W26:$X26),"OK","검토") -> OK | AB26: =IF($V26<>"도비",IF($T26="국도비","직접입력",SUM($L26:$M26)),) -> 0 | AC26: =IF($V26="도비",SUM(L26:M26),IF($T26="국도비","직접입력",SUM(L26:M26)-AB26)) -> 0 | AD26: =IF(SUM(L26:M26)=SUM(AB26:AC26),"OK","검토") -> OK | AF26: =IF(V26="","",IF(V26="도비","세입없음","직접입력")) | AH26: =IF(AF26="","",COUNTIF($AF$7:$AF$120,AF26)) | AI26: =IF(V26="","",IF(AND(V26="도비",AF26="세입없음"),"OK",IF(AND(V26<>"도비",AF26<>""),"OK","@@"))) | AK26: {=IF(C26="","",INDEX(구분표!$I$2:$I$313, MATCH(1,(구분표!$E$2:$E$313='17년일출'!B26)*(구분표!$F$2:$F$313='17년일출'!C26)*(구분표!$G$2:$G$313='17년일출'!A26),0)))} -> 0132
A27: =IFERROR(VLOOKUP($C27,구분표!$A$2:$C$313,2,FALSE),"") -> 기획재정위원회 | B27: =IFERROR(VLOOKUP($C27,구분표!$A$2:$C$313,3,FALSE),"") -> 따복공동체지원단 | C27: 따복공동체지원단 | F27: 신규 | G27: 따복공동체 사랑방 조성지원(자체/지원) - 공동체 공간 조성 | H27: 0 | J27: 600000 | K27: =H27+I27+J27 -> 600000 | N27: =H27+L27+M27 -> 0 | O27: =IF(AND((K27=0),(N27>0)),"O",IF(AND((I27<0),(K27-N27<0)),"O","X")) -> X | W27: =IF($V27<>"도비",IF($T27="국도비","직접입력",SUM($I27:$J27)),) -> 600000 | X27: =IF($V27="도비",SUM($I27:$J27),IF($T27="국도비","직접입력",SUM($I27:$J27)-$W27)) -> 0 | Y27: =IF(SUM($I27:$J27)=SUM($W27:$X27),"OK","검토") -> OK | AB27: =IF($V27<>"도비",IF($T27="국도비","직접입력",SUM($L27:$M27)),) -> 0 | AC27: =IF($V27="도비",SUM(L27:M27),IF($T27="국도비","직접입력",SUM(L27:M27)-AB27)) -> 0 | AD27: =IF(SUM(L27:M27)=SUM(AB27:AC27),"OK","검토") -> OK | AF27: =IF(V27="","",IF(V27="도비","세입없음","직접입력")) | AH27: =IF(AF27="","",COUNTIF($AF$7:$AF$120,AF27)) | AI27: =IF(V27="","",IF(AND(V27="도비",AF27="세입없음"),"OK",IF(AND(V27<>"도비",AF27<>""),"OK","@@"))) | AK27: {=IF(C27="","",INDEX(구분표!$I$2:$I$313, MATCH(1,(구분표!$E$2:$E$313='17년일출'!B27)*(구분표!$F$2:$F$313='17년일출'!C27)*(구분표!$G$2:$G$313='17년일출'!A27),0)))} -> 0132
A28: =IFERROR(VLOOKUP($C28,구분표!$A$2:$C$313,2,FALSE),"") -> 기획재정위원회 | B28: =IFERROR(VLOOKUP($C28,구분표!$A$2:$C$313,3,FALSE),"") -> 따복공동체지원단 | C28: 따복공동체지원단 | F28: 신규 | G28: 따복 토크 콘서트 | J28: 185000 | K28: =H28+I28+J28 -> 185000 | N28: =H28+L28+M28 -> 0 | O28: =IF(AND((K28=0),(N28>0)),"O",IF(AND((I28<0),(K28-N28<0)),"O","X")) -> X | W28: =IF($V28<>"도비",IF($T28="국도비","직접입력",SUM($I28:$J28)),) -> 185000 | X28: =IF($V28="도비",SUM($I28:$J28),IF($T28="국도비","직접입력",SUM($I28:$J28)-$W28)) -> 0 | Y28: =IF(SUM($I28:$J28)=SUM($W28:$X28),"OK","검토") -> OK | AB28: =IF($V28<>"도비",IF($T28="국도비","직접입력",SUM($L28:$M28)),) -> 0 | AC28: =IF($V28="도비",SUM(L28:M28),IF($T28="국도비","직접입력",SUM(L28:M28)-AB28)) -> 0 | AD28: =IF(SUM(L28:M28)=SUM(AB28:AC28),"OK","검토") -> OK | AF28: =IF(V28="","",IF(V28="도비","세입없음","직접입력")) | AH28: =IF(AF28="","",COUNTIF($AF$7:$AF$120,AF28)) | AI28: =IF(V28="","",IF(AND(V28="도비",AF28="세입없음"),"OK",IF(AND(V28<>"도비",AF28<>""),"OK","@@"))) | AK28: {=IF(C28="","",INDEX(구분표!$I$2:$I$313, MATCH(1,(구분표!$E$2:$E$313='17년일출'!B28)*(구분표!$F$2:$F$313='17년일출'!C28)*(구분표!$G$2:$G$313='17년일출'!A28),0)))} -> 0132
