Workbook

Sheet 구분표
A2: 실과명 조정 | B2: 위원회명 조정 | C2: 실국명 조정 | E2: 실국명 | F2: 실과명 | G2: 위원회명 | H2: 정렬순서 | I2: 정렬코드
A3: 공보담당관 | B3: 의회운영위원회 | C3: 의회사무처 | E3: 의회사무처 | F3: 공보담당관 | G3: 의회운영위원회 | H3: 1 | I3: 0101
A4: 총무담당관 | B4: 의회운영위원회 | C4: 의회사무처 | E4: 의회사무처 | F4: 총무담당관 | G4: 의회운영위원회 | H4: 2 | I4: 0102
A5: 의정담당관 | B5: 의회운영위원회 | C5: 의회사무처 | E5: 의회사무처 | F5: 의정담당관 | G5: 의회운영위원회 | H5: 3 | I5: 0103
A6: 입법정책담당관 | B6: 의회운영위원회 | C6: 의회사무처 | E6: 의회사무처 | F6: 입법정책담당관 | G6: 의회운영위원회 | H6: 4 | I6: 0104
A7: 예산정책담당관 | B7: 의회운영위원회 | C7: 의회사무처 | E7: 의회사무처 | F7: 예산정책담당관 | G7: 의회운영위원회 | H7: 5 | I7: 0105
A8: 언론협력담당관 | B8: 의회운영위원회 | C8: 대변인 | E8: 대변인 | F8: 언론협력담당관 | G8: 의회운영위원회 | H8: 6 | I8: 0106
A9: 보도기획담당관 | B9: 의회운영위원회 | C9: 대변인 | E9: 대변인 | F9: 보도기획담당관 | G9: 의회운영위원회 | H9: 7 | I9: 0107
A10: 홍보미디어담당관 | B10: 의회운영위원회 | C10: 소통기획관 | E10: 소통기획관 | F10: 홍보미디어담당관 | G10: 의회운영위원회 | H10: 8 | I10: 0108
A11: 홍보콘텐츠담당관 | B11: 의회운영위원회 | C11: 소통기획관 | E11: 소통기획관 | F11: 홍보콘텐츠담당관 | G11: 의회운영위원회 | H11: 9 | I11: 0109
A12: 연정협력과 | B12: 의회운영위원회 | C12: 연정협력국 | E12: 연정협력국 | F12: 연정협력과 | G12: 의회운영위원회 | H12: 10 | I12: 0110
A13: 대외협력과 | B13: 의회운영위원회 | C13: 연정협력국 | E13: 연정협력국 | F13: 대외협력과 | G13: 의회운영위원회 | H13: 11 | I13: 0111
... A215: 도서관정책과 | B215: 여성가족교육협력위원회 | C215: 교육협력국 | E215: 교육협력국 | F215: 도서관정책과 | G215: 여성가족교육협력위원회 | H215: 213 | I215: 0313

Sheet 예결표지(세로)
A5: 2015년도 제2회 일반회계 및 특별회계 추가경정 세입·세출 예산안
A7: 예결위 계수조정 결과
A20: 예산결산특별위원회

Sheet 예결표지(가로)
A3: 2015년도 제2회 일반회계 및 특별회계 추가경정 세입·세출 예산안
A5: 예결위 계수조정 결과
A14: 예산결산특별위원회

Sheet 표지
A4: 예결위 계수조정 결과
B6: - 2016년도 제4회 일반회계 및 특별회계 추가경정 세입·세출 예산안
A12: 예산결산특별위원회

Sheet 검증
A1: 제4회 추경 일반회계 검증 | H1: 4추 예비비 | J1: 조정액 | K1: =IFERROR(INDEX(#REF!,MATCH("*예비비*",#REF!,0)),0) -> 0 | L1: 조정잔액 | M1: =I1+K1 -> 0
M2: (단위 : 천원)
A3: 구분 | B3: 상 임 위 | H3: 구분 | I3: 예 결 위
B4: 세입 | C4: 검증 | D4: 세출 | E4: 검증 | F4: 차액 | I4: 세입 | J4: 검증 | K4: 세출 | L4: 검증 | M4: 차액
A5: 전체 총계 | B5: =SUM(B6:B13)/2 -> #REF! | C5: =IF(B5=SUM(#REF!),"OK","@@") -> #REF! | D5: =SUM(D6:D13)/2 -> #REF! | E5: =IF(D5=SUM(#REF!),"OK","@@") -> #REF! | H5: 전체 총계 | I5: =SUM(I6:I13)/2 -> #REF! | J5: =IF(I5=SUM(#REF!),"OK","@@") -> #REF! | K5: =SUM(K6:K13)/2 -> #REF! | L5: =IF(K5=SUM(#REF!),"OK","@@") -> #REF!
A6: 자체 계 | B6: =SUM(B7:B8) -> #REF! | C6: =IF(B6=#REF!,"OK","@@") -> #REF! | D6: =SUM(D7:D8) -> #REF! | E6: =IF(D6=#REF!,"OK","@@") -> #REF! | H6: 자체 계 | I6: =SUM(I7:I8) -> #REF! | J6: =IF(I6=#REF!,"OK","@@") -> #REF! | K6: =SUM(K7:K8) -> #REF! | L6: =IF(K6=#REF!,"OK","@@") -> #REF!
A7: 자체 도비 | B7: =SUMIFS(#REF!,#REF!,"도비") -> #REF! | D7: =SUMIFS(#REF!,#REF!,"도비") -> #REF! | H7: 자체 도비 | I7: =SUMIFS(#REF!,#REF!,"국비") -> #REF! | K7: =SUMIFS(#REF!,#REF!,"도비") -> #REF!
A8: 의존 매칭 도비 | B8: =SUMIFS(#REF!,#REF!,"국비")+SUMIFS(#REF!,#REF!,"지특")+SUMIFS(#REF!,#REF!,"기금")+SUMIFS(#REF!,#REF!,"특교") -> #REF! | D8: =SUMIFS(#REF!,#REF!,"국비")+SUMIFS(#REF!,#REF!,"지특")+SUMIFS(#REF!,#REF!,"기금")+SUMIFS(#REF!,#REF!,"특교") -> #REF! | H8: 의존 매칭 도비 | I8: =SUMIFS(#REF!,#REF!,"국비")+SUMIFS(#REF!,#REF!,"지특")+SUMIFS(#REF!,#REF!,"기금")+SUMIFS(#REF!,#REF!,"특교") -> #REF! | K8: =SUMIFS(#REF!,#REF!,"국비")+SUMIFS(#REF!,#REF!,"지특")+SUMIFS(#REF!,#REF!,"기금")+SUMIFS(#REF!,#REF!,"특교") -> #REF!
A9: 의존 계 | B9: =SUM(B10:B13) -> #REF! | C9: =IF(B9=#REF!,"OK","@@") -> #REF! | D9: =SUM(D10:D13) -> #REF! | E9: =IF(D9=#REF!,"OK","@@") -> #REF! | F9: =SUM(F10:F13) -> #REF! | H9: 의존 계 | I9: =SUM(I10:I13) -> #REF! | J9: =IF(I9=#REF!,"OK","@@") -> #REF! | K9: =SUM(K10:K13) -> #REF! | L9: =IF(K9=#REF!,"OK","@@") -> #REF! | M9: =SUM(M10:M13) -> #REF!
A10: 국비 | B10: =SUMIFS(#REF!,#REF!,검증!A10) -> #REF! | D10: =SUMIFS(#REF!,#REF!,검증!A10) -> #REF! | F10: =D10-B10 -> #REF! | H10: 국비 | I10: =SUMIFS(#REF!,#REF!,검증!H10) -> #REF! | K10: =SUMIFS(#REF!,#REF!,검증!H10) -> #REF! | M10: =K10-I10 -> #REF!
A11: 지특 | B11: =SUMIFS(#REF!,#REF!,검증!A11) -> #REF! | D11: =SUMIFS(#REF!,#REF!,검증!A11) -> #REF! | F11: =D11-B11 -> #REF! | H11: 지특 | I11: =SUMIFS(#REF!,#REF!,검증!H11) -> #REF! | K11: =SUMIFS(#REF!,#REF!,검증!H11) -> #REF! | M11: =K11-I11 -> #REF!
A12: 기금 | B12: =SUMIFS(#REF!,#REF!,검증!A12) -> #REF! | D12: =SUMIFS(#REF!,#REF!,검증!A12) -> #REF! | F12: =D12-B12 -> #REF! | H12: 기금 | I12: =SUMIFS(#REF!,#REF!,검증!H12) -> #REF! | K12: =SUMIFS(#REF!,#REF!,검증!H12) -> #REF! | M12: =K12-I12 -> #REF!
A13: 특교 | B13: =SUMIFS(#REF!,#REF!,검증!A13) -> #REF! | D13: =SUMIFS(#REF!,#REF!,검증!A13) -> #REF! | F13: =D13-B13 -> #REF! | H13: 특교 | I13: =SUMIFS(#REF!,#REF!,검증!H13) -> #REF! | K13: =SUMIFS(#REF!,#REF!,검증!H13) -> #REF! | M13: =K13-I13 -> #REF!

Sheet 총괄표
A1: 2016년도 제4회 추경 일반 및 특별회계 세입·세출 예산안(전체예산총괄)
A3: □ 총 괄 | C3: 세입예산 증감 | D3: =SUM(C7:D7) -> 0 | F3: 세출예산증감 | G3: =SUM(F7:G7) -> 0
F4: ※ 예비비 증감 | I4: (단위 : 천원)
A5: 구 분 | B5: 집행부제출(안) | C5: 세입예산(안) | F5: 세출예산(안) | I5: 수정예산(안) | K5: ※ 예산안 증감현황
C6: 감 액 | D6: 증 액 | E6: 증감액 | F6: 감 액 | G6: 증 액 | H6: 증감액 | K6: 구 분 | L6: 세입 | M6: 세출 | N6: 예비비 | O6: 비고(???)
A7: 합 계 | B7: =SUM(B8:B17) -> 4036670238 | C7: =SUM(C8:C17) -> 0 | D7: =SUM(D8:D17) -> 0 | E7: =SUM(E8:E17) -> 0 | F7: =SUM(F8:F17) -> 0 | G7: =SUM(G8:G17) -> 0 | H7: =SUM(H8:H17) -> 0 | I7: =SUM(I8:I17) -> 4036670238 | K7: 합 계 | L7: =SUM(L8:L9) -> 0 | M7: =SUM(M8:M9) -> 0 | N7: =L7-M7 -> 0
A8: 의회운영위원회 | B8: =B31 -> 0 | C8: =SUMIFS('[1]4추일입'!$N$6:$N$100,'[1]4추일입'!$A$6:$A$100,총괄표!$A8)+SUMIFS('[1]4추특입'!$N$6:$N$80,'[1]4추특입'!$A$6:$A$80,총괄표!$A8) -> 0 | D8: =SUMIFS('[1]4추일입'!$O$6:$O$100,'[1]4추일입'!$A$6:$A$100,총괄표!$A8)+SUMIFS('[1]4추특입'!$O$6:$O$80,'[1]4추특입'!$A$6:$A$80,총괄표!$A8) -> 0 | E8: =D8-C8 -> 0 | F8: =SUMIFS('[1]4추일출'!N$6:N$66,'[1]4추일출'!$A$6:$A$66,총괄표!$A8)+SUMIFS('[1]4추특출'!N$6:N$100,'[1]4추특출'!$A$6:$A$100,총괄표!$A8) -> 0 | G8: =SUMIFS('[1]4추일출'!O$6:O$66,'[1]4추일출'!$A$6:$A$66,총괄표!$A8)+SUMIFS('[1]4추특출'!O$6:O$100,'[1]4추특출'!$A$6:$A$100,총괄표!$A8) -> 0 | H8: =G8-F8 -> 0 | I8: =B8+F8+G8 -> 0 | K8: 일반회계 | L8: =SUM(C24:D24) -> 0 | M8: =SUM(F24:G24) -> 0 | N8: =L8-M8 -> 0 | O8: 예비비 증감 - 감액, + 증액에 입력
A9: 기획재정위원회 | B9: =B32 -> 4036670238 | C9: =SUMIFS('[1]4추일입'!$N$6:$N$100,'[1]4추일입'!$A$6:$A$100,총괄표!$A9)+SUMIFS('[1]4추특입'!$N$6:$N$80,'[1]4추특입'!$A$6:$A$80,총괄표!$A9) -> 0 | D9: =SUMIFS('[1]4추일입'!$O$6:$O$100,'[1]4추일입'!$A$6:$A$100,총괄표!$A9)+SUMIFS('[1]4추특입'!$O$6:$O$80,'[1]4추특입'!$A$6:$A$80,총괄표!$A9) -> 0 | E9: =D9-C9 -> 0 | F9: =SUMIFS('[1]4추일출'!N$6:N$66,'[1]4추일출'!$A$6:$A$66,총괄표!$A9)+SUMIFS('[1]4추특출'!N$6:N$100,'[1]4추특출'!$A$6:$A$100,총괄표!$A9) -> 0 | G9: =SUMIFS('[1]4추일출'!O$6:O$66,'[1]4추일출'!$A$6:$A$66,총괄표!$A9)+SUMIFS('[1]4추특출'!O$6:O$100,'[1]4추특출'!$A$6:$A$100,총괄표!$A9) -> 0 | H9: =G9-F9 -> 0 | I9: =B9+F9+G9 -> 4036670238 | K9: 특별회계 | L9: =SUM(C25:D25) -> 0 | M9: =SUM(F25:G25) -> 0 | N9: =L9-M9 -> 0
A10: 경제과학기술위원회 | B10: =B33 -> 0 | C10: =SUMIFS('[1]4추일입'!$N$6:$N$100,'[1]4추일입'!$A$6:$A$100,총괄표!$A10)+SUMIFS('[1]4추특입'!$N$6:$N$80,'[1]4추특입'!$A$6:$A$80,총괄표!$A10) -> 0 | D10: =SUMIFS('[1]4추일입'!$O$6:$O$100,'[1]4추일입'!$A$6:$A$100,총괄표!$A10)+SUMIFS('[1]4추특입'!$O$6:$O$80,'[1]4추특입'!$A$6:$A$80,총괄표!$A10) -> 0 | E10: =D10-C10 -> 0 | F10: =SUMIFS('[1]4추일출'!N$6:N$66,'[1]4추일출'!$A$6:$A$66,총괄표!$A10)+SUMIFS('[1]4추특출'!N$6:N$100,'[1]4추특출'!$A$6:$A$100,총괄표!$A10) -> 0 | G10: =SUMIFS('[1]4추일출'!O$6:O$66,'[1]4추일출'!$A$6:$A$66,총괄표!$A10)+SUMIFS('[1]4추특출'!O$6:O$100,'[1]4추특출'!$A$6:$A$100,총괄표!$A10) -> 0 | H10: =G10-F10 -> 0 | I10: =B10+F10+G10 -> 0
A11: 안전행정위원회 | B11: =B34 -> 0 | C11: =SUMIFS('[1]4추일입'!$N$6:$N$100,'[1]4추일입'!$A$6:$A$100,총괄표!$A11)+SUMIFS('[1]4추특입'!$N$6:$N$80,'[1]4추특입'!$A$6:$A$80,총괄표!$A11) -> 0 | D11: =SUMIFS('[1]4추일입'!$O$6:$O$100,'[1]4추일입'!$A$6:$A$100,총괄표!$A11)+SUMIFS('[1]4추특입'!$O$6:$O$80,'[1]4추특입'!$A$6:$A$80,총괄표!$A11) -> 0 | E11: =D11-C11 -> 0 | F11: =SUMIFS('[1]4추일출'!N$6:N$66,'[1]4추일출'!$A$6:$A$66,총괄표!$A11)+SUMIFS('[1]4추특출'!N$6:N$100,'[1]4추특출'!$A$6:$A$100,총괄표!$A11) -> 0 | G11: =SUMIFS('[1]4추일출'!O$6:O$66,'[1]4추일출'!$A$6:$A$66,총괄표!$A11)+SUMIFS('[1]4추특출'!O$6:O$100,'[1]4추특출'!$A$6:$A$100,총괄표!$A11) -> 0 | H11: =G11-F11 -> 0 | I11: =B11+F11+G11 -> 0
A12: 문화체육관광위원회 | B12: =B35 -> 0 | C12: =SUMIFS('[1]4추일입'!$N$6:$N$100,'[1]4추일입'!$A$6:$A$100,총괄표!$A12)+SUMIFS('[1]4추특입'!$N$6:$N$80,'[1]4추특입'!$A$6:$A$80,총괄표!$A12) -> 0 | D12: =SUMIFS('[1]4추일입'!$O$6:$O$100,'[1]4추일입'!$A$6:$A$100,총괄표!$A12)+SUMIFS('[1]4추특입'!$O$6:$O$80,'[1]4추특입'!$A$6:$A$80,총괄표!$A12) -> 0 | E12: =D12-C12 -> 0 | F12: =SUMIFS('[1]4추일출'!N$6:N$66,'[1]4추일출'!$A$6:$A$66,총괄표!$A12)+SUMIFS('[1]4추특출'!N$6:N$100,'[1]4추특출'!$A$6:$A$100,총괄표!$A12) -> 0 | G12: =SUMIFS('[1]4추일출'!O$6:O$66,'[1]4추일출'!$A$6:$A$66,총괄표!$A12)+SUMIFS('[1]4추특출'!O$6:O$100,'[1]4추특출'!$A$6:$A$100,총괄표!$A12) -> 0 | H12: =G12-F12 -> 0 | I12: =B12+F12+G12 -> 0
A13: 농정해양위원회 | B13: =B36 -> 0 | C13: =SUMIFS('[1]4추일입'!$N$6:$N$100,'[1]4추일입'!$A$6:$A$100,총괄표!$A13)+SUMIFS('[1]4추특입'!$N$6:$N$80,'[1]4추특입'!$A$6:$A$80,총괄표!$A13) -> 0 | D13: =SUMIFS('[1]4추일입'!$O$6:$O$100,'[1]4추일입'!$A$6:$A$100,총괄표!$A13)+SUMIFS('[1]4추특입'!$O$6:$O$80,'[1]4추특입'!$A$6:$A$80,총괄표!$A13) -> 0 | E13: =D13-C13 -> 0 | F13: =SUMIFS('[1]4추일출'!N$6:N$66,'[1]4추일출'!$A$6:$A$66,총괄표!$A13)+SUMIFS('[1]4추특출'!N$6:N$100,'[1]4추특출'!$A$6:$A$100,총괄표!$A13) -> 0 | G13: =SUMIFS('[1]4추일출'!O$6:O$66,'[1]4추일출'!$A$6:$A$66,총괄표!$A13)+SUMIFS('[1]4추특출'!O$6:O$100,'[1]4추특출'!$A$6:$A$100,총괄표!$A13) -> 0 | H13: =G13-F13 -> 0 | I13: =B13+F13+G13 -> 0
A14: 보건복지위원회 | B14: =B37 -> 0 | C14: =SUMIFS('[1]4추일입'!$N$6:$N$100,'[1]4추일입'!$A$6:$A$100,총괄표!$A14)+SUMIFS('[1]4추특입'!$N$6:$N$80,'[1]4추특입'!$A$6:$A$80,총괄표!$A14) -> 0 | D14: =SUMIFS('[1]4추일입'!$O$6:$O$100,'[1]4추일입'!$A$6:$A$100,총괄표!$A14)+SUMIFS('[1]4추특입'!$O$6:$O$80,'[1]4추특입'!$A$6:$A$80,총괄표!$A14) -> 0 | E14: =D14-C14 -> 0 | F14: =SUMIFS('[1]4추일출'!N$6:N$66,'[1]4추일출'!$A$6:$A$66,총괄표!$A14)+SUMIFS('[1]4추특출'!N$6:N$100,'[1]4추특출'!$A$6:$A$100,총괄표!$A14) -> 0 | G14: =SUMIFS('[1]4추일출'!O$6:O$66,'[1]4추일출'!$A$6:$A$66,총괄표!$A14)+SUMIFS('[1]4추특출'!O$6:O$100,'[1]4추특출'!$A$6:$A$100,총괄표!$A14) -> 0 | H14: =G14-F14 -> 0 | I14: =B14+F14+G14 -> 0
A15: 건설교통위원회 | B15: =B38 -> 0 | C15: =SUMIFS('[1]4추일입'!$N$6:$N$100,'[1]4추일입'!$A$6:$A$100,총괄표!$A15)+SUMIFS('[1]4추특입'!$N$6:$N$80,'[1]4추특입'!$A$6:$A$80,총괄표!$A15) -> 0 | D15: =SUMIFS('[1]4추일입'!$O$6:$O$100,'[1]4추일입'!$A$6:$A$100,총괄표!$A15)+SUMIFS('[1]4추특입'!$O$6:$O$80,'[1]4추특입'!$A$6:$A$80,총괄표!$A15) -> 0 | E15: =D15-C15 -> 0 | F15: =SUMIFS('[1]4추일출'!N$6:N$66,'[1]4추일출'!$A$6:$A$66,총괄표!$A15)+SUMIFS('[1]4추특출'!N$6:N$100,'[1]4추특출'!$A$6:$A$100,총괄표!$A15) -> 0 | G15: =SUMIFS('[1]4추일출'!O$6:O$66,'[1]4추일출'!$A$6:$A$66,총괄표!$A15)+SUMIFS('[1]4추특출'!O$6:O$100,'[1]4추특출'!$A$6:$A$100,총괄표!$A15) -> 0 | H15: =G15-F15 -> 0 | I15: =B15+F15+G15 -> 0
A16: 도시환경위원회 | B16: =B39 -> 0 | C16: =SUMIFS('[1]4추일입'!$N$6:$N$100,'[1]4추일입'!$A$6:$A$100,총괄표!$A16)+SUMIFS('[1]4추특입'!$N$6:$N$80,'[1]4추특입'!$A$6:$A$80,총괄표!$A16) -> 0 | D16: =SUMIFS('[1]4추일입'!$O$6:$O$100,'[1]4추일입'!$A$6:$A$100,총괄표!$A16)+SUMIFS('[1]4추특입'!$O$6:$O$80,'[1]4추특입'!$A$6:$A$80,총괄표!$A16) -> 0 | E16: =D16-C16 -> 0 | F16: =SUMIFS('[1]4추일출'!N$6:N$66,'[1]4추일출'!$A$6:$A$66,총괄표!$A16)+SUMIFS('[1]4추특출'!N$6:N$100,'[1]4추특출'!$A$6:$A$100,총괄표!$A16) -> 0 | G16: =SUMIFS('[1]4추일출'!O$6:O$66,'[1]4추일출'!$A$6:$A$66,총괄표!$A16)+SUMIFS('[1]4추특출'!O$6:O$100,'[1]4추특출'!$A$6:$A$100,총괄표!$A16) -> 0 | H16: =G16-F16 -> 0 | I16: =B16+F16+G16 -> 0
A17: 여상가족교육협력위원회 | B17: =B40 -> 0 | C17: =SUMIFS('[1]4추일입'!$N$6:$N$100,'[1]4추일입'!$A$6:$A$100,총괄표!$A17)+SUMIFS('[1]4추특입'!$N$6:$N$80,'[1]4추특입'!$A$6:$A$80,총괄표!$A17) -> 0 | D17: =SUMIFS('[1]4추일입'!$O$6:$O$100,'[1]4추일입'!$A$6:$A$100,총괄표!$A17)+SUMIFS('[1]4추특입'!$O$6:$O$80,'[1]4추특입'!$A$6:$A$80,총괄표!$A17) -> 0 | E17: =D17-C17 -> 0 | F17: =SUMIFS('[1]4추일출'!N$6:N$66,'[1]4추일출'!$A$6:$A$66,총괄표!$A17)+SUMIFS('[1]4추특출'!N$6:N$100,'[1]4추특출'!$A$6:$A$100,총괄표!$A17) -> 0 | G17: =SUMIFS('[1]4추일출'!O$6:O$66,'[1]4추일출'!$A$6:$A$66,총괄표!$A17)+SUMIFS('[1]4추특출'!O$6:O$100,'[1]4추특출'!$A$6:$A$100,총괄표!$A17) -> 0 | H17: =G17-F17 -> 0 | I17: =B17+F17+G17 -> 0
A19: □ 회계별 예산 총 규모
I20: (단위 : 천원)
A21: 구 분 | B21: 집행부제출(안) | C21: 세입예산(안) | F21: 세출예산(안) | I21: 수정예산(안) | K21: 세입기준
C22: 감 액 | D22: 증 액 | E22: 증감액 | F22: 감 액 | G22: 증 액 | H22: 증감액 | K22: 수정예산(안) | L22: 세출기준-세입기준
A23: 합 계 | B23: =SUM(B24:B25) -> 4036670238 | C23: =SUM(C24:C25) -> 0 | D23: =SUM(D24:D25) -> 0 | E23: =SUM(E24:E25) -> 0 | F23: =SUM(F24:F25) -> 0 | G23: =SUM(G24:G25) -> 0 | H23: =SUM(H24:H25) -> 0 | I23: =SUM(I24:I25) -> 4036670238 | K23: =SUM(K24:K25) -> 4036670238 | L23: =I23-K23 -> 0
A24: 일반회계 | B24: =D30 -> 3988783251 | C24: ='[1]4추일입'!N6 -> 0 | D24: ='[1]4추일입'!O6 -> 0 | E24: =D24-C24 -> 0 | F24: ='[1]4추일출'!N6 -> 0 | G24: ='[1]4추일출'!O6 -> 0 | H24: =G24-F24 -> 0 | I24: =B24+F24+G24 -> 3988783251 | K24: =B24+C24+D24 -> 3988783251 | L24: =I24-K24 -> 0
A25: 특별회계 | B25: =E30+F30 -> 47886987 | C25: ='[1]4추특입'!N6 -> 0 | D25: ='[1]4추특입'!O6 -> 0 | E25: =D25-C25 -> 0 | F25: ='[1]4추특출'!N6 -> 0 | G25: ='[1]4추특출'!O6 -> 0 | I25: =B25+F25+G25 -> 47886987 | K25: =B25+C25+D25 -> 47886987 | L25: =I25-K25 -> 0
A28: ※ 회계별, 위원회별 집행부제출안
A29: 위원회명 | B29: 합계 | C29: 일반+기타 | D29: 일반회계 | E29: 기타특별회계 | F29: 공기업특별회계
A30: 합계 | B30: =SUM(B31:B40) -> 4036670238 | C30: =SUM(C31:C40) -> 3988783251 | D30: =SUM(D31:D40) -> 3988783251 | E30: =SUM(E31:E40) -> 47886987 | F30: =SUM(F31:F40) -> 0
A31: 의회운영위원회 | B31: =SUM(D31:G31) -> 0 | C31: =D31+F31 -> 0
A32: 기획재정위원회 | B32: =SUM(D32:G32) -> 4036670238 | C32: =D32+F32 -> 3988783251 | D32: 3988783251 | E32: 47886987
A33: 경제과학기술위원회 | B33: =SUM(D33:G33) -> 0 | C33: =D33+F33 -> 0
A34: 안전행정위원회 | B34: =SUM(D34:G34) -> 0 | C34: =D34+F34 -> 0
A35: 문화체육관광위원회 | B35: =SUM(D35:G35) -> 0 | C35: =D35+F35 -> 0
A36: 농정해양위원회 | B36: =SUM(D36:G36) -> 0 | C36: =D36+F36 -> 0
A37: 보건복지위원회 | B37: =SUM(D37:G37) -> 0 | C37: =D37+F37 -> 0
A38: 건설교통위원회 | B38: =SUM(D38:G38) -> 0 | C38: =D38+F38 -> 0
A39: 도시환경위원회 | B39: =SUM(D39:G39) -> 0 | C39: =D39+F39 -> 0
A40: 여상가족교육협력위원회 | B40: =SUM(D40:G40) -> 0 | C40: =D40+F40 -> 0
A42: 예비비

Sheet 명시이월(일반회계)
A2: 2016년 4회추경 명시이월 사업조서(일반회계)
K4: (단위:천원)
A5: 구 분 | D5: 예 산 과 목 | H5: 명시이월내용 | I5: 예산액 | J5: 2016년이월액 | K5: 사유
A6: 연번 | B6: 소관실국 | C6: 소관위원회 | D6: 정책사업 | E6: 단위사업 | F6: 세부사업 | G6: 편성목 (통계목)
A7: 1 | B7: 의회사무처 | C7: 의회운영위원회 | D7: 북부지역 개발 (균형발전담당관) | E7: 접경지역 기반시설 확충 | F7: 특수상황지역개발사업(지특/지원) | G7: 자치단체등자본이전 (자치단체자본보조) | H7: 특수상황지역개발사업 시군 지원사업 | I7: 28498000 | J7: 2054000 | K7: ○ 국비 미교부에 따른 자금없는 이월 예정 - 국비 교부 예상시기 : '16.12월 중순 - 소관부처 : 행정자치부 - 예산편성 : '16 당초
A8: 2 | B8: 의회사무처 | C8: 의회운영위원회 | D8: DMZ일원의 합리적 보전과 이용 | E8: DMZ인프라구축 | F8: 도라전망대 이전신축 사업 (지특/지원) | G8: 자치단체등자본이전 (자치단체자본보조) | H8: 도라전망대 이전신축 | I8: 1000000 | J8: 0 | K8: ○ 당초 익년도 자금교부를 예상하였으나, 국비 자금 교부('16.10.28) 및 집행('16.11.11)에 따라 명시이월 제외요청

Sheet 명시이월(특별회계)
A2: 2016년 4회추경 명시이월 사업조서(특별회계)
K4: (단위:천원)
A5: 구 분 | D5: 예 산 과 목 | H5: 명시이월내용 | I5: 예산액 | J5: 2016년이월액 | K5: 사유
A6: 연번 | B6: 소관실국 | C6: 소관위원회 | D6: 정책사업 | E6: 단위사업 | F6: 세부사업 | G6: 편성목 (통계목)
A7: 1 | B7: 의회사무처 | C7: 의회운영위원회 | D7: 지역균형개발 (균형발전담당관) | E7: 지역균형발전사업 추진 (지역균형발전특별회계) | F7: 지역균형발전사업 육성 (자체/지원) | G7: 자치단체등자본이전 (자치단체자본보조) | H7: 지역균형발전사업 지원 | I7: 45322987 | J7: 15677252 | K7: ○ 사업기간 : '15.1 ~ '19.12(5년) ○ 계속사업으로 사업추진중 - 예산편성 : '15 당초
