Workbook

Sheet 구분표
A2: 실과명 조정 | B2: 위원회명 조정 | C2: 실국명 조정 | E2: 실국명 | F2: 실과명 | G2: 위원회명 | H2: 정렬순서 | I2: 정렬코드
A3: 공보담당관 | B3: 의회운영위원회 | C3: 의회사무처 | E3: 의회사무처 | F3: 공보담당관 | G3: 의회운영위원회 | H3: 1 | I3: 0101
A4: 총무담당관 | B4: 의회운영위원회 | C4: 의회사무처 | E4: 의회사무처 | F4: 총무담당관 | G4: 의회운영위원회 | H4: 2 | I4: 0102
A5: 의정담당관 | B5: 의회운영위원회 | C5: 의회사무처 | E5: 의회사무처 | F5: 의정담당관 | G5: 의회운영위원회 | H5: 3 | I5: 0103
A6: 입법정책담당관 | B6: 의회운영위원회 | C6: 의회사무처 | E6: 의회사무처 | F6: 입법정책담당관 | G6: 의회운영위원회 | H6: 4 | I6: 0104
A7: 예산정책담당관 | B7: 의회운영위원회 | C7: 의회사무처 | E7: 의회사무처 | F7: 예산정책담당관 | G7: 의회운영위원회 | H7: 5 | I7: 0105
A8: 언론협력담당관 | B8: 의회운영위원회 | C8: 대변인 | E8: 대변인 | F8: 언론협력담당관 | G8: 의회운영위원회 | H8: 6 | I8: 0106
A9: 보도기획담당관 | B9: 의회운영위원회 | C9: 대변인 | E9: 대변인 | F9: 보도기획담당관 | G9: 의회운영위원회 | H9: 7 | I9: 0107
A10: 홍보미디어담당관 | B10: 의회운영위원회 | C10: 소통기획관 | E10: 소통기획관 | F10: 홍보미디어담당관 | G10: 의회운영위원회 | H10: 8 | I10: 0108
A11: 홍보콘텐츠담당관 | B11: 의회운영위원회 | C11: 소통기획관 | E11: 소통기획관 | F11: 홍보콘텐츠담당관 | G11: 의회운영위원회 | H11: 9 | I11: 0109
A12: 연정협력과 | B12: 의회운영위원회 | C12: 연정협력국 | E12: 연정협력국 | F12: 연정협력과 | G12: 의회운영위원회 | H12: 10 | I12: 0110
A13: 대외협력과 | B13: 의회운영위원회 | C13: 연정협력국 | E13: 연정협력국 | F13: 대외협력과 | G13: 의회운영위원회 | H13: 11 | I13: 0111
... A215: 도서관정책과 | B215: 여성가족교육협력위원회 | C215: 교육협력국 | E215: 교육협력국 | F215: 도서관정책과 | G215: 여성가족교육협력위원회 | H215: 213 | I215: 0313

Sheet 예결표지(세로)
A5: 2015년도 제2회 일반회계 및 특별회계 추가경정 세입·세출 예산안
A7: 예결위 계수조정 결과
A20: 예산결산특별위원회

Sheet 예결표지(가로)
A3: 2015년도 제2회 일반회계 및 특별회계 추가경정 세입·세출 예산안
A5: 예결위 계수조정 결과
A14: 예산결산특별위원회

Sheet 표지
A4: 예결위 예산안 조정 결과
A6: - 2016년도 제4회 추가경정 예산안
A12: 예산결산특별위원회

Sheet 검증
A1: 제4회 추경 일반회계 검증 | H1: 4추 예비비 | J1: 조정액 | K1: =IFERROR(INDEX('4추일출'!#REF!,MATCH("*예비비*",'4추일출'!G6:G125,0)),0) -> 0 | L1: 조정잔액 | M1: =I1+K1 -> 0
M2: (단위 : 천원)
A3: 구분 | B3: 상 임 위 | H3: 구분 | I3: 예 결 위
B4: 세입 | C4: 검증 | D4: 세출 | E4: 검증 | F4: 차액 | I4: 세입 | J4: 검증 | K4: 세출 | L4: 검증 | M4: 차액
A5: 전체 총계 | B5: =SUM(B6:B13)/2 -> #REF! | C5: =IF(B5=SUM('4추일입'!K6:L6),"OK","@@") -> #REF! | D5: =SUM(D6:D13)/2 -> #REF! | E5: =IF(D5=SUM('4추일출'!K6:L6),"OK","@@") -> #REF! | H5: 전체 총계 | I5: =SUM(I6:I13)/2 -> #REF! | J5: =IF(I5=SUM('4추일입'!N6:O6),"OK","@@") -> #REF! | K5: =SUM(K6:K13)/2 -> #REF! | L5: =IF(K5=SUM('4추일출'!N6:O6),"OK","@@") -> #REF!
A6: 자체 계 | B6: =SUM(B7:B8) -> #REF! | C6: =IF(B6='4추일입'!#REF!,"OK","@@") -> #REF! | D6: =SUM(D7:D8) -> #REF! | E6: =IF(D6='4추일출'!#REF!,"OK","@@") -> #REF! | H6: 자체 계 | I6: =SUM(I7:I8) -> #REF! | J6: =IF(I6='4추일입'!#REF!,"OK","@@") -> #REF! | K6: =SUM(K7:K8) -> #REF! | L6: =IF(K6='4추일출'!#REF!,"OK","@@") -> #REF!
A7: 자체 도비 | B7: =SUMIFS('4추일입'!#REF!,'4추일입'!#REF!,"도비") -> #REF! | D7: =SUMIFS('4추일출'!#REF!,'4추일출'!#REF!,"도비") -> #REF! | H7: 자체 도비 | I7: =SUMIFS('4추일입'!#REF!,'4추일입'!#REF!,"국비") -> #REF! | K7: =SUMIFS('4추일출'!#REF!,'4추일출'!#REF!,"도비") -> #REF!
A8: 의존 매칭 도비 | B8: =SUMIFS('4추일입'!#REF!,'4추일입'!#REF!,"국비")+SUMIFS('4추일입'!#REF!,'4추일입'!#REF!,"지특")+SUMIFS('4추일입'!#REF!,'4추일입'!#REF!,"기금")+SUMIFS('4추일입'!#REF!,'4추일입'!#REF!,"특교") -> #REF! | D8: =SUMIFS('4추일출'!#REF!,'4추일출'!#REF!,"국비")+SUMIFS('4추일출'!#REF!,'4추일출'!#REF!,"지특")+SUMIFS('4추일출'!#REF!,'4추일출'!#REF!,"기금")+SUMIFS('4추일출'!#REF!,'4추일출'!#REF!,"특교") -> #REF! | H8: 의존 매칭 도비 | I8: =SUMIFS('4추일입'!#REF!,'4추일입'!#REF!,"국비")+SUMIFS('4추일입'!#REF!,'4추일입'!#REF!,"지특")+SUMIFS('4추일입'!#REF!,'4추일입'!#REF!,"기금")+SUMIFS('4추일입'!#REF!,'4추일입'!#REF!,"특교") -> #REF! | K8: =SUMIFS('4추일출'!#REF!,'4추일출'!#REF!,"국비")+SUMIFS('4추일출'!#REF!,'4추일출'!#REF!,"지특")+SUMIFS('4추일출'!#REF!,'4추일출'!#REF!,"기금")+SUMIFS('4추일출'!#REF!,'4추일출'!#REF!,"특교") -> #REF!
A9: 의존 계 | B9: =SUM(B10:B13) -> #REF! | C9: =IF(B9='4추일입'!#REF!,"OK","@@") -> #REF! | D9: =SUM(D10:D13) -> #REF! | E9: =IF(D9='4추일출'!#REF!,"OK","@@") -> #REF! | F9: =SUM(F10:F13) -> #REF! | H9: 의존 계 | I9: =SUM(I10:I13) -> #REF! | J9: =IF(I9='4추일입'!#REF!,"OK","@@") -> #REF! | K9: =SUM(K10:K13) -> #REF! | L9: =IF(K9='4추일출'!#REF!,"OK","@@") -> #REF! | M9: =SUM(M10:M13) -> #REF!
A10: 국비 | B10: =SUMIFS('4추일입'!#REF!,'4추일입'!#REF!,검증!A10) -> #REF! | D10: =SUMIFS('4추일출'!#REF!,'4추일출'!#REF!,검증!A10) -> #REF! | F10: =D10-B10 -> #REF! | H10: 국비 | I10: =SUMIFS('4추일입'!#REF!,'4추일입'!#REF!,검증!H10) -> #REF! | K10: =SUMIFS('4추일출'!#REF!,'4추일출'!#REF!,검증!H10) -> #REF! | M10: =K10-I10 -> #REF!
A11: 지특 | B11: =SUMIFS('4추일입'!#REF!,'4추일입'!#REF!,검증!A11) -> #REF! | D11: =SUMIFS('4추일출'!#REF!,'4추일출'!#REF!,검증!A11) -> #REF! | F11: =D11-B11 -> #REF! | H11: 지특 | I11: =SUMIFS('4추일입'!#REF!,'4추일입'!#REF!,검증!H11) -> #REF! | K11: =SUMIFS('4추일출'!#REF!,'4추일출'!#REF!,검증!H11) -> #REF! | M11: =K11-I11 -> #REF!
A12: 기금 | B12: =SUMIFS('4추일입'!#REF!,'4추일입'!#REF!,검증!A12) -> #REF! | D12: =SUMIFS('4추일출'!#REF!,'4추일출'!#REF!,검증!A12) -> #REF! | F12: =D12-B12 -> #REF! | H12: 기금 | I12: =SUMIFS('4추일입'!#REF!,'4추일입'!#REF!,검증!H12) -> #REF! | K12: =SUMIFS('4추일출'!#REF!,'4추일출'!#REF!,검증!H12) -> #REF! | M12: =K12-I12 -> #REF!
A13: 특교 | B13: =SUMIFS('4추일입'!#REF!,'4추일입'!#REF!,검증!A13) -> #REF! | D13: =SUMIFS('4추일출'!#REF!,'4추일출'!#REF!,검증!A13) -> #REF! | F13: =D13-B13 -> #REF! | H13: 특교 | I13: =SUMIFS('4추일입'!#REF!,'4추일입'!#REF!,검증!H13) -> #REF! | K13: =SUMIFS('4추일출'!#REF!,'4추일출'!#REF!,검증!H13) -> #REF! | M13: =K13-I13 -> #REF!

Sheet 총괄표
A1: 2016년도 제4회 추경 일반 및 특별회계 세입·세출 예산안(전체예산총괄)
A3: □ 총 괄 | C3: 세입예산 증감 | D3: =SUM(C7:D7) -> 116730656 | F3: 세출예산증감 | G3: =SUM(F7:G7) -> 116730656
F4: ※ 예비비 증감 | I4: (단위 : 천원)
A5: 구 분 | B5: 집행부제출(안) | C5: 세입예산(안) | F5: 세출예산(안) | I5: 수정예산(안)
C6: 감 액 | D6: 증 액 | E6: 증감액 | F6: 감 액 | G6: 증 액 | H6: 증감액
A7: 합 계 | B7: =SUM(B8:B17) -> 22621598828 | C7: =SUM(C8:C17) -> -15419779 | D7: =SUM(D8:D17) -> 132150435 | E7: =SUM(E8:E17) -> 116730656 | F7: =SUM(F8:F17) -> -39586852 | G7: =SUM(G8:G17) -> 156317508 | H7: =SUM(H8:H17) -> 116730656 | I7: =SUM(I8:I17) -> 22738329484
A8: 의회운영위원회 | B8: =B31 -> 57771315 | C8: =SUMIFS('4추일입'!$N$6:$N$111,'4추일입'!$A$6:$A$111,총괄표!$A8)+SUMIFS('4추특입'!$M$6:$M$80,'4추특입'!$A$6:$A$80,총괄표!$A8) -> 0 | D8: =SUMIFS('4추일입'!$O$6:$O$111,'4추일입'!$A$6:$A$111,총괄표!$A8)+SUMIFS('4추특입'!$N$6:$N$80,'4추특입'!$A$6:$A$80,총괄표!$A8) -> 0 | E8: =D8+C8 -> 0 | F8: =SUMIFS('4추일출'!N$6:N$125,'4추일출'!$A$6:$A$125,총괄표!$A8)+SUMIFS('4추특출'!M$6:M$100,'4추특출'!$A$6:$A$100,총괄표!$A8) -> -28370 | G8: =SUMIFS('4추일출'!O$6:O$125,'4추일출'!$A$6:$A$125,총괄표!$A8)+SUMIFS('4추특출'!N$6:N$100,'4추특출'!$A$6:$A$100,총괄표!$A8) -> 45000 | H8: =G8+F8 -> 16630 | I8: =B8+F8+G8 -> 57787945
A9: 기획재정위원회 | B9: =B32 -> 7184665015 | C9: =SUMIFS('4추일입'!$N$6:$N$111,'4추일입'!$A$6:$A$111,총괄표!$A9)+SUMIFS('4추특입'!$M$6:$M$80,'4추특입'!$A$6:$A$80,총괄표!$A9) -> 0 | D9: =SUMIFS('4추일입'!$O$6:$O$111,'4추일입'!$A$6:$A$111,총괄표!$A9)+SUMIFS('4추특입'!$N$6:$N$80,'4추특입'!$A$6:$A$80,총괄표!$A9) -> 0 | E9: =D9+C9 -> 0 | F9: =SUMIFS('4추일출'!N$6:N$125,'4추일출'!$A$6:$A$125,총괄표!$A9)+SUMIFS('4추특출'!M$6:M$100,'4추특출'!$A$6:$A$100,총괄표!$A9) -> -21021791 | G9: =SUMIFS('4추일출'!O$6:O$125,'4추일출'!$A$6:$A$125,총괄표!$A9)+SUMIFS('4추특출'!N$6:N$100,'4추특출'!$A$6:$A$100,총괄표!$A9) -> 0 | H9: =G9+F9 -> -21021791 | I9: =B9+F9+G9 -> 7163643224
A10: 경제과학기술위원회 | B10: =B33 -> 535393714 | C10: =SUMIFS('4추일입'!$N$6:$N$111,'4추일입'!$A$6:$A$111,총괄표!$A10)+SUMIFS('4추특입'!$M$6:$M$80,'4추특입'!$A$6:$A$80,총괄표!$A10) -> 0 | D10: =SUMIFS('4추일입'!$O$6:$O$111,'4추일입'!$A$6:$A$111,총괄표!$A10)+SUMIFS('4추특입'!$N$6:$N$80,'4추특입'!$A$6:$A$80,총괄표!$A10) -> 24764 | E10: =D10+C10 -> 24764 | F10: =SUMIFS('4추일출'!N$6:N$125,'4추일출'!$A$6:$A$125,총괄표!$A10)+SUMIFS('4추특출'!M$6:M$100,'4추특출'!$A$6:$A$100,총괄표!$A10) -> -2000 | G10: =SUMIFS('4추일출'!O$6:O$125,'4추일출'!$A$6:$A$125,총괄표!$A10)+SUMIFS('4추특출'!N$6:N$100,'4추특출'!$A$6:$A$100,총괄표!$A10) -> 24764 | H10: =G10+F10 -> 22764 | I10: =B10+F10+G10 -> 535416478
A11: 안전행정위원회 | B11: =B34 -> 1516667763 | C11: =SUMIFS('4추일입'!$N$6:$N$111,'4추일입'!$A$6:$A$111,총괄표!$A11)+SUMIFS('4추특입'!$M$6:$M$80,'4추특입'!$A$6:$A$80,총괄표!$A11) -> 0 | D11: =SUMIFS('4추일입'!$O$6:$O$111,'4추일입'!$A$6:$A$111,총괄표!$A11)+SUMIFS('4추특입'!$N$6:$N$80,'4추특입'!$A$6:$A$80,총괄표!$A11) -> 80789420 | E11: =D11+C11 -> 80789420 | F11: =SUMIFS('4추일출'!N$6:N$125,'4추일출'!$A$6:$A$125,총괄표!$A11)+SUMIFS('4추특출'!M$6:M$100,'4추특출'!$A$6:$A$100,총괄표!$A11) -> -5000 | G11: =SUMIFS('4추일출'!O$6:O$125,'4추일출'!$A$6:$A$125,총괄표!$A11)+SUMIFS('4추특출'!N$6:N$100,'4추특출'!$A$6:$A$100,총괄표!$A11) -> 2030000 | H11: =G11+F11 -> 2025000 | I11: =B11+F11+G11 -> 1518692763
A12: 문화체육관광위원회 | B12: =B35 -> 479807787 | C12: =SUMIFS('4추일입'!$N$6:$N$111,'4추일입'!$A$6:$A$111,총괄표!$A12)+SUMIFS('4추특입'!$M$6:$M$80,'4추특입'!$A$6:$A$80,총괄표!$A12) -> 0 | D12: =SUMIFS('4추일입'!$O$6:$O$111,'4추일입'!$A$6:$A$111,총괄표!$A12)+SUMIFS('4추특입'!$N$6:$N$80,'4추특입'!$A$6:$A$80,총괄표!$A12) -> 4700000 | E12: =D12+C12 -> 4700000 | F12: =SUMIFS('4추일출'!N$6:N$125,'4추일출'!$A$6:$A$125,총괄표!$A12)+SUMIFS('4추특출'!M$6:M$100,'4추특출'!$A$6:$A$100,총괄표!$A12) -> -1500 | G12: =SUMIFS('4추일출'!O$6:O$125,'4추일출'!$A$6:$A$125,총괄표!$A12)+SUMIFS('4추특출'!N$6:N$100,'4추특출'!$A$6:$A$100,총괄표!$A12) -> 4700000 | H12: =G12+F12 -> 4698500 | I12: =B12+F12+G12 -> 484506287
A13: 농정해양위원회 | B13: =B36 -> 545260012 | C13: =SUMIFS('4추일입'!$N$6:$N$111,'4추일입'!$A$6:$A$111,총괄표!$A13)+SUMIFS('4추특입'!$M$6:$M$80,'4추특입'!$A$6:$A$80,총괄표!$A13) -> -1095523 | D13: =SUMIFS('4추일입'!$O$6:$O$111,'4추일입'!$A$6:$A$111,총괄표!$A13)+SUMIFS('4추특입'!$N$6:$N$80,'4추특입'!$A$6:$A$80,총괄표!$A13) -> 23628458 | E13: =D13+C13 -> 22532935 | F13: =SUMIFS('4추일출'!N$6:N$125,'4추일출'!$A$6:$A$125,총괄표!$A13)+SUMIFS('4추특출'!M$6:M$100,'4추특출'!$A$6:$A$100,총괄표!$A13) -> -1097023 | G13: =SUMIFS('4추일출'!O$6:O$125,'4추일출'!$A$6:$A$125,총괄표!$A13)+SUMIFS('4추특출'!N$6:N$100,'4추특출'!$A$6:$A$100,총괄표!$A13) -> 23741578 | H13: =G13+F13 -> 22644555 | I13: =B13+F13+G13 -> 567904567
A14: 보건복지위원회 | B14: =B37 -> 4117565569 | C14: =SUMIFS('4추일입'!$N$6:$N$111,'4추일입'!$A$6:$A$111,총괄표!$A14)+SUMIFS('4추특입'!$M$6:$M$80,'4추특입'!$A$6:$A$80,총괄표!$A14) -> -4017120 | D14: =SUMIFS('4추일입'!$O$6:$O$111,'4추일입'!$A$6:$A$111,총괄표!$A14)+SUMIFS('4추특입'!$N$6:$N$80,'4추특입'!$A$6:$A$80,총괄표!$A14) -> 3215200 | E14: =D14+C14 -> -801920 | F14: =SUMIFS('4추일출'!N$6:N$125,'4추일출'!$A$6:$A$125,총괄표!$A14)+SUMIFS('4추특출'!M$6:M$100,'4추특출'!$A$6:$A$100,총괄표!$A14) -> -4208912 | G14: =SUMIFS('4추일출'!O$6:O$125,'4추일출'!$A$6:$A$125,총괄표!$A14)+SUMIFS('4추특출'!N$6:N$100,'4추특출'!$A$6:$A$100,총괄표!$A14) -> 3568961 | H14: =G14+F14 -> -639951 | I14: =B14+F14+G14 -> 4116925618
A15: 건설교통위원회 | B15: =B38 -> 1576032461 | C15: =SUMIFS('4추일입'!$N$6:$N$111,'4추일입'!$A$6:$A$111,총괄표!$A15)+SUMIFS('4추특입'!$M$6:$M$80,'4추특입'!$A$6:$A$80,총괄표!$A15) -> 0 | D15: =SUMIFS('4추일입'!$O$6:$O$111,'4추일입'!$A$6:$A$111,총괄표!$A15)+SUMIFS('4추특입'!$N$6:$N$80,'4추특입'!$A$6:$A$80,총괄표!$A15) -> 1520931 | E15: =D15+C15 -> 1520931 | F15: =SUMIFS('4추일출'!N$6:N$125,'4추일출'!$A$6:$A$125,총괄표!$A15)+SUMIFS('4추특출'!M$6:M$100,'4추특출'!$A$6:$A$100,총괄표!$A15) -> -500 | G15: =SUMIFS('4추일출'!O$6:O$125,'4추일출'!$A$6:$A$125,총괄표!$A15)+SUMIFS('4추특출'!N$6:N$100,'4추특출'!$A$6:$A$100,총괄표!$A15) -> 2008187 | H15: =G15+F15 -> 2007687 | I15: =B15+F15+G15 -> 1578040148
A16: 도시환경위원회 | B16: =B39 -> 1031362537 | C16: =SUMIFS('4추일입'!$N$6:$N$111,'4추일입'!$A$6:$A$111,총괄표!$A16)+SUMIFS('4추특입'!$M$6:$M$80,'4추특입'!$A$6:$A$80,총괄표!$A16) -> -187000 | D16: =SUMIFS('4추일입'!$O$6:$O$111,'4추일입'!$A$6:$A$111,총괄표!$A16)+SUMIFS('4추특입'!$N$6:$N$80,'4추특입'!$A$6:$A$80,총괄표!$A16) -> 5941082 | E16: =D16+C16 -> 5754082 | F16: =SUMIFS('4추일출'!N$6:N$125,'4추일출'!$A$6:$A$125,총괄표!$A16)+SUMIFS('4추특출'!M$6:M$100,'4추특출'!$A$6:$A$100,총괄표!$A16) -> -285000 | G16: =SUMIFS('4추일출'!O$6:O$125,'4추일출'!$A$6:$A$125,총괄표!$A16)+SUMIFS('4추특출'!N$6:N$100,'4추특출'!$A$6:$A$100,총괄표!$A16) -> 6075500 | H16: =G16+F16 -> 5790500 | I16: =B16+F16+G16 -> 1037153037
A17: 여성가족교육협력위원회 | B17: =B40 -> 5577072655 | C17: =SUMIFS('4추일입'!$N$6:$N$111,'4추일입'!$A$6:$A$111,총괄표!$A17)+SUMIFS('4추특입'!$M$6:$M$80,'4추특입'!$A$6:$A$80,총괄표!$A17) -> -10120136 | D17: =SUMIFS('4추일입'!$O$6:$O$111,'4추일입'!$A$6:$A$111,총괄표!$A17)+SUMIFS('4추특입'!$N$6:$N$80,'4추특입'!$A$6:$A$80,총괄표!$A17) -> 12330580 | E17: =D17+C17 -> 2210444 | F17: =SUMIFS('4추일출'!N$6:N$125,'4추일출'!$A$6:$A$125,총괄표!$A17)+SUMIFS('4추특출'!M$6:M$100,'4추특출'!$A$6:$A$100,총괄표!$A17) -> -12936756 | G17: =SUMIFS('4추일출'!O$6:O$125,'4추일출'!$A$6:$A$125,총괄표!$A17)+SUMIFS('4추특출'!N$6:N$100,'4추특출'!$A$6:$A$100,총괄표!$A17) -> 114123518 | H17: =G17+F17 -> 101186762 | I17: =B17+F17+G17 -> 5678259417
A19: □ 회계별 예산 총 규모
I20: (단위 : 천원)
A21: 구 분 | B21: 집행부제출(안) | C21: 세입예산(안) | F21: 세출예산(안) | I21: 수정예산(안)
C22: 감 액 | D22: 증 액 | E22: 증감액 | F22: 감 액 | G22: 증 액 | H22: 증감액
A23: 합 계 | B23: =SUM(B24:B25) -> 22621598828 | C23: =SUM(C24:C25) -> -15419779 | D23: =SUM(D24:D25) -> 132150435 | E23: =SUM(E24:E25) -> 116730656 | F23: =SUM(F24:F25) -> -39586852 | G23: =SUM(G24:G25) -> 156317508 | H23: =SUM(H24:H25) -> 116730656 | I23: =SUM(I24:I25) -> 22738329484
A24: 일반회계 | B24: =D30 -> 17863248422 | C24: ='4추일입'!N6 -> -15419779 | D24: ='4추일입'!O6 -> 132150435 | E24: =D24+C24 -> 116730656 | F24: ='4추일출'!N6 -> -39586852 | G24: ='4추일출'!O6 -> 156317508 | H24: =G24+F24 -> 116730656 | I24: =B24+F24+G24 -> 17979979078
A25: 특별회계 | B25: =F30+E30 -> 4758350406 | C25: ='4추특입'!M6 -> 0 | D25: ='4추특입'!N6 -> 0 | E25: =D25+C25 -> 0 | F25: ='4추특출'!M6 -> 0 | G25: ='4추특출'!N6 -> 0 | H25: =G25+F25 -> 0 | I25: =B25+F25+G25 -> 4758350406
A28: ※ 회계별, 위원회별 집행부제출안
A29: 위원회명 | B29: 합계 | C29: 일반+기타 | D29: 일반회계 | E29: 기타특별회계 | F29: 공기업특별회계
A30: 합계 | B30: =SUM(B31:B40) -> 22621598828 | C30: =SUM(C31:C40) -> 21175289550 | D30: =SUM(D31:D40) -> 17863248422 | E30: =SUM(E31:E40) -> 1446309278 | F30: =SUM(F31:F40) -> 3312041128
A31: 의회운영위원회 | B31: =SUM(D31:G31) -> 57771315 | C31: =D31+F31 -> 57771315 | D31: 57771315
A32: 기획재정위원회 | B32: =SUM(D32:G32) -> 7184665015 | C32: =D32+F32 -> 7136778028 | D32: 4203606309 | E32: 47886987 | F32: 2933171719
A33: 경제과학기술위원회 | B33: =SUM(D33:G33) -> 535393714 | C33: =D33+F33 -> 535393714 | D33: 312102463 | F33: 223291251
A34: 안전행정위원회 | B34: =SUM(D34:G34) -> 1516667763 | C34: =D34+F34 -> 1516667763 | D34: 1516667763
A35: 문화체육관광위원회 | B35: =SUM(D35:G35) -> 479807787 | C35: =D35+F35 -> 479807787 | D35: 343729629 | F35: 136078158
A36: 농정해양위원회 | B36: =SUM(D36:G36) -> 545260012 | C36: =D36+F36 -> 545260012 | D36: 545260012
A37: 보건복지위원회 | B37: =SUM(D37:G37) -> 4117565569 | C37: =D37+F37 -> 3161633007 | D37: 3161633007 | E37: 955932562
A38: 건설교통위원회 | B38: =SUM(D38:G38) -> 1576032461 | C38: =D38+F38 -> 1459243534 | D38: 1459243534 | E38: =116579000+209927 -> 116788927
A39: 도시환경위원회 | B39: =SUM(D39:G39) -> 1031362537 | C39: =D39+F39 -> 1011687635 | D39: 992187635 | E39: =14864425+4810477 -> 19674902 | F39: 19500000
A40: 여상가족교육협력위원회 | B40: =SUM(D40:G40) -> 5577072655 | C40: =D40+F40 -> 5271046755 | D40: 5271046755 | E40: 306025900
A42: 예비비

Sheet 4추일입
A1: 2016년도 제4회 추경 경기도 일반회계 세입 예산 조정(안)
A2: □ 세입예산
K3: =COUNTA(K7:K111) -> 12 | L3: =COUNTA(L7:L111) -> 25 | N3: =COUNTA(N7:N111) -> 17 | O3: =COUNTA(O7:O111) -> 36 | Q3: (단위 : 천원)
A4: 위원회명 | B4: 실국명 | C4: 부서명 | D4: 편성 구분 | E4: 예산안 페이지 | F4: 사업설명서 페이지 | G4: 사업명 | H4: 제4회 추경 예산안 (가) | I4: 기정액 (나) | J4: 제4회 추경 증감액 (다=가-나) | K4: 상임위 제4회 추경 예산안 조정액(라) | M4: 상임위 수정 예산안 (마=가+라) | N4: 예결위 제4회 추경 예산안 조정액(라) | P4: 예결위 수정 예산안 (마=가+라) | Q4: 비고 (부대의견)
K5: 감액 | L5: 증액 | N5: 감액 | O5: 증액
A6: 합 계 | H6: =SUBTOTAL(9,H7:H111) -> 3921208563 | I6: =SUBTOTAL(9,I7:I111) -> 3918193300 | J6: =SUBTOTAL(9,J7:J111) -> 3015263 | K6: =SUBTOTAL(9,K7:K111) -> -10173643 | L6: =SUBTOTAL(9,L7:L111) -> 28287211 | M6: =SUBTOTAL(9,M7:M111) -> 3939322131 | N6: =SUBTOTAL(9,N7:N111) -> -15419779 | O6: =SUBTOTAL(9,O7:O111) -> 132150435 | P6: =SUBTOTAL(9,P7:P111) -> 4037939219
A7: =IFERROR(VLOOKUP($C7,구분표!$A$2:$C$313,2,FALSE),"") -> 경제과학기술위원회 | B7: =IFERROR(VLOOKUP($C7,구분표!$A$2:$C$313,3,FALSE),"") -> 경제실 | C7: 에너지과 | D7: 신규 | G7: 국비 - 베란다형태양광 보급지원 사업 | H7: 0 | I7: 0 | J7: =IF(D7="","",H7-I7) -> 0 | L7: 24764 | M7: =H7+K7+L7 -> 24764 | O7: 24764 | P7: =H7+N7+O7 -> 24764 | Q7: 국비 변경 내시
A8: =IFERROR(VLOOKUP($C8,구분표!$A$2:$C$313,2,FALSE),"") -> 안전행정위원회 | B8: =IFERROR(VLOOKUP($C8,구분표!$A$2:$C$313,3,FALSE),"") -> 자치행정국 | C8: 세정과 | D8: 3회추경 | E8: 45 | G8: 지방교육세 - 지방교육세 | H8: 1623700000 | I8: 1623700000 | J8: =IF(D8="","",H8-I8) -> 0 | K8: 0 | L8: 0 | M8: =H8+K8+L8 -> 1623700000 | O8: 78744182 | P8: =H8+N8+O8 -> 1702444182
A9: =IFERROR(VLOOKUP($C9,구분표!$A$2:$C$313,2,FALSE),"") -> 안전행정위원회 | B9: =IFERROR(VLOOKUP($C9,구분표!$A$2:$C$313,3,FALSE),"") -> 자치행정국 | C9: 인사과 | D9: 신규 | G9: 기금 - 시험관리비(성립전) | J9: =IF(D9="","",H9-I9) -> 0 | L9: 30000 | M9: =H9+K9+L9 -> 30000 | O9: 30000 | P9: =H9+N9+O9 -> 30000 | Q9: 국비 변경 내시
A10: =IFERROR(VLOOKUP($C10,구분표!$A$2:$C$313,2,FALSE),"") -> 안전행정위원회 | B10: =IFERROR(VLOOKUP($C10,구분표!$A$2:$C$313,3,FALSE),"") -> 균형발전기획실 | C10: 행정관리담당관 | D10: 신규 | G10: 특별교부세 - 북부청사 스마트오피스 추진 | J10: =IF(D10="","",H10-I10) -> 0 | L10: 2000000 | M10: =H10+K10+L10 -> 2000000 | O10: 2000000 | P10: =H10+N10+O10 -> 2000000 | Q10: 국비 변경 내시
A11: =IFERROR(VLOOKUP($C11,구분표!$A$2:$C$313,2,FALSE),"") -> 안전행정위원회 | B11: =IFERROR(VLOOKUP($C11,구분표!$A$2:$C$313,3,FALSE),"") -> 재난안전본부 | C11: 재난대책과 | D11: 신규 | G11: 기타이자수입 - 재난대책과 도비이자 반납금 | H11: 3929 | I11: 3929 | J11: =IF(D11="","",H11-I11) -> 0 | L11: 15238 | M11: =H11+K11+L11 -> 19167 | O11: 15238 | P11: =H11+N11+O11 -> 19167
A12: =IFERROR(VLOOKUP($C12,구분표!$A$2:$C$313,2,FALSE),"") -> 문화체육관광위원회 | B12: =IFERROR(VLOOKUP($C12,구분표!$A$2:$C$313,3,FALSE),"") -> 문화체육관광국 | C12: 체육과 | D12: 4회추경 | E12: 360 | F12: 16 | G12: 기금 - 국민체육센터 건립 지원 | H12: 7200000 | I12: 5900000 | J12: =IF(D12="","",H12-I12) -> 1300000 | L12: 1700000 | M12: =H12+K12+L12 -> 8900000 | O12: 1700000 | P12: =H12+N12+O12 -> 8900000 | Q12: 국비 변경 내시
A13: =IFERROR(VLOOKUP($C13,[1]구분표!$A$2:$C$313,2,FALSE),"") -> 문화체육관광위원회 | B13: =IFERROR(VLOOKUP($C13,[1]구분표!$A$2:$C$313,3,FALSE),"") -> 문화체육관광국 | C13: 체육과 | D13: 신규 | G13: 기금 - 복합문화체육센터 건립 | J13: =IF(D13="","",H13-I13) -> 0 | M13: =H13+K13+L13 -> 0 | O13: 3000000 | P13: =H13+N13+O13 -> 3000000 | Q13: 국비 변경 내시
A14: =IFERROR(VLOOKUP($C14,구분표!$A$2:$C$313,2,FALSE),"") -> 농정해양위원회 | B14: =IFERROR(VLOOKUP($C14,구분표!$A$2:$C$313,3,FALSE),"") -> 농정해양국 | C14: 친환경농업과 | D14: 본예산 | G14: 국고보조금 - 쌀소득보전고정직불 | H14: 71622960 | I14: 71622960 | J14: =IF(D14="","",H14-I14) -> 0 | K14: -250500 | M14: =H14+K14+L14 -> 71372460 | N14: -250500 | P14: =H14+N14+O14 -> 71372460 | Q14: 국비 변경 내시
A15: =IFERROR(VLOOKUP($C15,구분표!$A$2:$C$313,2,FALSE),"") -> 농정해양위원회 | B15: =IFERROR(VLOOKUP($C15,구분표!$A$2:$C$313,3,FALSE),"") -> 농정해양국 | C15: 친환경농업과 | D15: 3회추경 | G15: 국고보조금 - 밭농업직불제 | H15: 8894660 | I15: 8894660 | J15: =IF(D15="","",H15-I15) -> 0 | K15: -100419 | M15: =H15+K15+L15 -> 8794241 | N15: -100419 | P15: =H15+N15+O15 -> 8794241 | Q15: 국비 변경 내시
A16: =IFERROR(VLOOKUP($C16,구분표!$A$2:$C$313,2,FALSE),"") -> 농정해양위원회 | B16: =IFERROR(VLOOKUP($C16,구분표!$A$2:$C$313,3,FALSE),"") -> 농정해양국 | C16: 친환경농업과 | D16: 본예산 | G16: 국고보조금 - 조건불리지역직접지불 | H16: 341000 | I16: 341000 | J16: =IF(D16="","",H16-I16) -> 0 | K16: -81604 | M16: =H16+K16+L16 -> 259396 | N16: -81604 | P16: =H16+N16+O16 -> 259396 | Q16: 국비 변경 내시
A17: =IFERROR(VLOOKUP($C17,구분표!$A$2:$C$313,2,FALSE),"") -> 농정해양위원회 | B17: =IFERROR(VLOOKUP($C17,구분표!$A$2:$C$313,3,FALSE),"") -> 농정해양국 | C17: 친환경농업과 | D17: 신규 | G17: 기금 - FTA피해보전직불제 | J17: =IF(D17="","",H17-I17) -> 0 | L17: 4239709 | M17: =H17+K17+L17 -> 4239709 | O17: 4239709 | P17: =H17+N17+O17 -> 4239709 | Q17: 국비 변경 내시
A18: =IFERROR(VLOOKUP($C18,구분표!$A$2:$C$313,2,FALSE),"") -> 농정해양위원회 | B18: =IFERROR(VLOOKUP($C18,구분표!$A$2:$C$313,3,FALSE),"") -> 농정해양국 | C18: 친환경농업과 | D18: 신규 | G18: 기금 - FTA폐업지원제 | J18: =IF(D18="","",H18-I18) -> 0 | L18: 13300143 | M18: =H18+K18+L18 -> 13300143 | O18: 13300143 | P18: =H18+N18+O18 -> 13300143 | Q18: 국비 변경 내시
A19: =IFERROR(VLOOKUP($C19,구분표!$A$2:$C$313,2,FALSE),"") -> 농정해양위원회 | B19: =IFERROR(VLOOKUP($C19,구분표!$A$2:$C$313,3,FALSE),"") -> 농정해양국 | C19: 친환경농업과 | D19: 신규 | G19: 그외수입 -2016년 농산시책 추진 시상금 | J19: =IF(D19="","",H19-I19) -> 0 | M19: =H19+K19+L19 -> 0 | O19: 6000 | P19: =H19+N19+O19 -> 6000 | Q19: 국비 변경 내시
A20: =IFERROR(VLOOKUP($C20,구분표!$A$2:$C$313,2,FALSE),"") -> 농정해양위원회 | B20: =IFERROR(VLOOKUP($C20,구분표!$A$2:$C$313,3,FALSE),"") -> 축산산림국 | C20: 축산진흥센터 | D20: 신규 | G20: 기금 - 말산업전문인력양성기관지원 | J20: =IF(D20="","",H20-I20) -> 0 | L20: 300000 | M20: =H20+K20+L20 -> 300000 | O20: 300000 | P20: =H20+N20+O20 -> 300000 | Q20: 국비 변경 내시
A21: =IFERROR(VLOOKUP($C21,구분표!$A$2:$C$313,2,FALSE),"") -> 농정해양위원회 | B21: =IFERROR(VLOOKUP($C21,구분표!$A$2:$C$313,3,FALSE),"") -> 축산산림국 | C21: 동물방역위생과 | D21: 본예산 | E21: 70 | G21: 국고보조금 - 살처분 보상금 지원 | H21: 10240000 | I21: 10240000 | J21: =IF(D21="","",H21-I21) -> 0 | K21: -5537000 | M21: =H21+K21+L21 -> 4703000 | N21: 0 | P21: =H21+N21+O21 -> 10240000 | Q21: 국비 변경 내시
A22: =IFERROR(VLOOKUP($C22,구분표!$A$2:$C$313,2,FALSE),"") -> 농정해양위원회 | B22: =IFERROR(VLOOKUP($C22,구분표!$A$2:$C$313,3,FALSE),"") -> 축산산림국 | C22: 동물방역위생과 | D22: 신규 | G22: 과징금 - 동물방역위생과 과징금 수입 | J22: =IF(D22="","",H22-I22) -> 0 | L22: 143880 | M22: =H22+K22+L22 -> 143880 | O22: 143880 | P22: =H22+N22+O22 -> 143880
A23: =IFERROR(VLOOKUP($C23,구분표!$A$2:$C$313,2,FALSE),"") -> 농정해양위원회 | B23: =IFERROR(VLOOKUP($C23,구분표!$A$2:$C$313,3,FALSE),"") -> 축산산림국 | C23: 동물방역위생과 | D23: 신규 | G23: 과태료 - 동물방역위생과 과태료 수입 | J23: =IF(D23="","",H23-I23) -> 0 | L23: 43000 | M23: =H23+K23+L23 -> 43000 | O23: 43000 | P23: =H23+N23+O23 -> 43000
A24: =IFERROR(VLOOKUP($C24,구분표!$A$2:$C$313,2,FALSE),"") -> 농정해양위원회 | B24: =IFERROR(VLOOKUP($C24,구분표!$A$2:$C$313,3,FALSE),"") -> 축산산림국 | C24: 동물방역위생과 | D24: 신규 | G24: 국고보조금 - 시도가축방역사업 | H24: 15180953 | I24: 15180953 | J24: =IF(D24="","",H24-I24) -> 0 | L24: 127000 | M24: =H24+K24+L24 -> 15307953 | O24: 127000 | P24: =H24+N24+O24 -> 15307953 | Q24: 국비 변경 내시
A25: =IFERROR(VLOOKUP($C25,구분표!$A$2:$C$313,2,FALSE),"") -> 농정해양위원회 | B25: =IFERROR(VLOOKUP($C25,구분표!$A$2:$C$313,3,FALSE),"") -> 축산산림국 | C25: 축산정책과 | D25: 본예산 | E25: 81 | G25: 기금 - 학교우유급식지원사업 | H25: 6931304 | I25: 6931304 | J25: =IF(D25="","",H25-I25) -> 0 | L25: 113726 | M25: =H25+K25+L25 -> 7045030 | O25: 113726 | P25: =H25+N25+O25 -> 7045030 | Q25: 국비 변경 내시
A26: =IFERROR(VLOOKUP($C26,[1]구분표!$A$2:$C$313,2,FALSE),"") -> 농정해양위원회 | B26: =IFERROR(VLOOKUP($C26,[1]구분표!$A$2:$C$313,3,FALSE),"") -> 축산산림국 | C26: 동물방역위생과 | D26: 신규 | G26: 특별교부세 - AI 방역대책비(성립전) | J26: =IF(D26="","",H26-I26) -> 0 | M26: =H26+K26+L26 -> 0 | O26: 900000 | P26: =H26+N26+O26 -> 900000 | Q26: 국비 변경 내시
A27: 농정해양위원회 | B27: 농정해양국 | C27: 친환경농업과 | D27: 본예산 | G27: 국고보조금 - 친환경농업직접지불 | H27: 1446000 | I27: 1446000 | J27: =IF(D27="","",H27-I27) -> 0 | K27: 0 | L27: 0 | M27: =H27+K27+L27 -> 1446000 | N27: -663000 | P27: =H27+N27+O27 -> 783000 | Q27: 국비 변경 내시
A28: =IFERROR(VLOOKUP($C28,[1]구분표!$A$2:$C$313,2,FALSE),"") -> 농정해양위원회 | B28: =IFERROR(VLOOKUP($C28,[1]구분표!$A$2:$C$313,3,FALSE),"") -> 축산산림국 | C28: 축산정책과 | D28: 4회추경 | E28: 389 | F28: 6 | G28: 기금 - 가축분뇨처리사업 | H28: 2685250 | I28: 2769250 | J28: =IF(D28="","",H28-I28) -> -84000 | M28: =H28+K28+L28 -> 2685250 | O28: 4455000 | P28: =H28+N28+O28 -> 7140250 | Q28: 국비 변경 내시
A29: =IFERROR(VLOOKUP($C29,구분표!$A$2:$C$313,2,FALSE),"") -> 보건복지위원회 | B29: =IFERROR(VLOOKUP($C29,구분표!$A$2:$C$313,3,FALSE),"") -> 보건복지국 | C29: 복지정책과 | D29: 본예산 | G29: 국고보조금 - 정부양곡할인지원 사업 | H29: 12966000 | I29: 12966000 | J29: =IF(D29="","",H29-I29) -> 0 | K29: -2507000 | M29: =H29+K29+L29 -> 10459000 | N29: -2507000 | P29: =H29+N29+O29 -> 10459000 | Q29: 국비 변경 내시
A30: =IFERROR(VLOOKUP($C30,구분표!$A$2:$C$313,2,FALSE),"") -> 보건복지위원회 | B30: =IFERROR(VLOOKUP($C30,구분표!$A$2:$C$313,3,FALSE),"") -> 보건복지국 | C30: 복지정책과 | D30: 3회추경 | G30: 국고보조금 - 노숙인 등 복지지원 | H30: 3023861 | I30: 3023861 | J30: =IF(D30="","",H30-I30) -> 0 | K30: -34510 | M30: =H30+K30+L30 -> 2989351 | N30: -34510 | P30: =H30+N30+O30 -> 2989351 | Q30: 국비 변경 내시
A31: =IFERROR(VLOOKUP($C31,구분표!$A$2:$C$313,2,FALSE),"") -> 보건복지위원회 | B31: =IFERROR(VLOOKUP($C31,구분표!$A$2:$C$313,3,FALSE),"") -> 보건복지국 | C31: 사회적일자리과 | D31: 4회추경 | E31: 407 | F31: 15 | G31: 국고보조금 - 자활지원 | H31: 41095217 | I31: 41089617 | J31: =IF(D31="","",H31-I31) -> 5600 | K31: -1399991 | M31: =H31+K31+L31 -> 39695226 | N31: -1399991 | P31: =H31+N31+O31 -> 39695226 | Q31: 국비 변경 내시
A32: =IFERROR(VLOOKUP($C32,구분표!$A$2:$C$313,2,FALSE),"") -> 보건복지위원회 | B32: =IFERROR(VLOOKUP($C32,구분표!$A$2:$C$313,3,FALSE),"") -> 보건복지국 | C32: 노인복지과 | D32: 3회추경 | G32: 국고보조금 - 노인돌봄서비스 | H32: 20856273 | I32: 20856273 | J32: =IF(D32="","",H32-I32) -> 0 | K32: -74808 | M32: =H32+K32+L32 -> 20781465 | N32: -74808 | P32: =H32+N32+O32 -> 20781465 | Q32: 국비 변경 내시
A33: =IFERROR(VLOOKUP($C33,구분표!$A$2:$C$313,2,FALSE),"") -> 보건복지위원회 | B33: =IFERROR(VLOOKUP($C33,구분표!$A$2:$C$313,3,FALSE),"") -> 보건복지국 | C33: 노인복지과 | D33: 4회추경 | E33: 407 | F33: 18 | G33: 국고보조금 - 노인생활시설 기능보강 | H33: 918565 | I33: 759869 | J33: =IF(D33="","",H33-I33) -> 158696 | K33: -811 | M33: =H33+K33+L33 -> 917754 | N33: -811 | P33: =H33+N33+O33 -> 917754 | Q33: 국비 변경 내시
A34: =IFERROR(VLOOKUP($C34,구분표!$A$2:$C$313,2,FALSE),"") -> 보건복지위원회 | B34: =IFERROR(VLOOKUP($C34,구분표!$A$2:$C$313,3,FALSE),"") -> 보건복지국 | C34: 건강증진과 | D34: 본예산 | G34: 국고보조금 - 구강건강관리 | H34: 910200 | I34: 910200 | J34: =IF(D34="","",H34-I34) -> 0 | L34: 7000 | M34: =H34+K34+L34 -> 917200 | O34: 7000 | P34: =H34+N34+O34 -> 917200 | Q34: 국비 변경 내시
A35: =IFERROR(VLOOKUP($C35,[1]구분표!$A$2:$C$313,2,FALSE),"") -> 보건복지위원회 | B35: =IFERROR(VLOOKUP($C35,[1]구분표!$A$2:$C$313,3,FALSE),"") -> 보건복지국 | C35: 식품안전과 | D35: 신규 | G35: 국고보조금 - HACCP 인증 지원(컨설팅비용) | J35: =IF(D35="","",H35-I35) -> 0 | M35: =H35+K35+L35 -> 0 | O35: 3200 | P35: =H35+N35+O35 -> 3200 | Q35: 국비 변경 내시
A36: =IFERROR(VLOOKUP($C36,구분표!$A$2:$C$313,2,FALSE),"") -> 보건복지위원회 | B36: =IFERROR(VLOOKUP($C36,구분표!$A$2:$C$313,3,FALSE),"") -> 보건복지국 | C36: 복지정책과 | D36: 3회추경 | G36: 국고보조금 - 생계급여 | H36: 549613000 | I36: 549613000 | J36: =IF(D36="","",H36-I36) -> 0 | M36: =H36+K36+L36 -> 549613000 | N36: 0 | O36: 2928000 | P36: =H36+N36+O36 -> 552541000 | Q36: 국비 변경 내시
A37: =IFERROR(VLOOKUP($C37,구분표!$A$2:$C$313,2,FALSE),"") -> 보건복지위원회 | B37: =IFERROR(VLOOKUP($C37,구분표!$A$2:$C$313,3,FALSE),"") -> 보건복지국 | C37: 복지정책과 | D37: 3회추경 | G37: 국고보조금 - 해산장제급여 | H37: 3816000 | I37: 3816000 | J37: =IF(D37="","",H37-I37) -> 0 | M37: =H37+K37+L37 -> 3816000 | N37: 0 | O37: 219000 | P37: =H37+N37+O37 -> 4035000 | Q37: 국비 변경 내시
A38: =IFERROR(VLOOKUP($C38,구분표!$A$2:$C$313,2,FALSE),"") -> 보건복지위원회 | B38: =IFERROR(VLOOKUP($C38,구분표!$A$2:$C$313,3,FALSE),"") -> 보건복지국 | C38: 복지정책과 | D38: 신규 | G38: 그외수입 - 보건복지부 지역사회복지사업 평가 포상금 | J38: =IF(D38="","",H38-I38) -> 0 | M38: =H38+K38+L38 -> 0 | O38: 58000 | P38: =H38+N38+O38 -> 58000 | Q38: 국비 변경 내시
A39: =IFERROR(VLOOKUP($C39,구분표!$A$2:$C$313,2,FALSE),"") -> 건설교통위원회 | B39: =IFERROR(VLOOKUP($C39,구분표!$A$2:$C$313,3,FALSE),"") -> 교통국 | C39: 교통정책과 | D39: 4회추경 | E39: 457 | F39: 6 | G39: 그외수입 - 교통정책과 그외수입 | H39: 98761 | I39: 0 | J39: =IF(D39="","",H39-I39) -> 98761 | L39: 20931 | M39: =H39+K39+L39 -> 119692 | O39: 20931 | P39: =H39+N39+O39 -> 119692
A40: =IFERROR(VLOOKUP($C40,구분표!$A$2:$C$313,2,FALSE),"") -> 건설교통위원회 | B40: =IFERROR(VLOOKUP($C40,구분표!$A$2:$C$313,3,FALSE),"") -> 건설국 | C40: 건설안전과 | D40: 신규 | G40: 특별교부세 - 홍죽산업단지 진입도로 개선사업 | J40: =IF(D40="","",H40-I40) -> 0 | L40: 1000000 | M40: =H40+K40+L40 -> 1000000 | O40: 1000000 | P40: =H40+N40+O40 -> 1000000 | Q40: 국비 변경 내시
...

Sheet 4추일출
A1: 2016년도 제4회 추경 경기도 일반회계 세출 예산 조정(안)
A2: □ 세출예산
K3: =COUNTA(K7:K125)-10 -> 25 | L3: =COUNTA(L7:L125)-10 -> 36 | N3: =COUNTA(N7:N125)-10 -> 43 | O3: =COUNTA(O7:O125)-10 -> 57 | Q3: (단위 : 천원)
A4: 위원회명 | B4: 실국명 | C4: 부서명 | D4: 편성 구분 | E4: 예산안 페이지 | F4: 사업설명서 페이지 | G4: 세부사업명 및 부기명 | H4: 제4회 추경 예산안 (가) | I4: 기정액 (나) | J4: 제4회 추경 증감액 (다=가-나) | K4: 상임위 제4회 추경 예산안 조정액(라) | M4: 상임위 수정 예산안 (마=가+라) | N4: 예결위 제4회 추경 예산안 조정액(라) | P4: 예결위 수정 예산안 (마=가+라) | Q4: 비고 (부대의견)
K5: 감액 | L5: 증액 | N5: 감액 | O5: 증액
A6: 합 계 | H6: =SUBTOTAL(9,H7:H125)/2 -> 5083647574 | I6: =SUBTOTAL(9,I7:I125)/2 -> 5075418700 | J6: =SUBTOTAL(9,J7:J125)/2 -> 8253638 | K6: =SUBTOTAL(9,K7:K125)/2 -> -11150560 | L6: =SUBTOTAL(9,L7:L125)/2 -> 28317602 | M6: =SUBTOTAL(9,M7:M125)/2 -> 5100814616 | N6: =SUBTOTAL(9,N7:N125)/2 -> -39586852 | O6: =SUBTOTAL(9,O7:O125)/2 -> 156317508 | P6: =SUBTOTAL(9,P7:P125)/2 -> 5200378230
A7: (의회운영위원회) | H7: =SUM(H8:H12) -> 532100 | I7: =SUM(I8:I12) -> 523730 | J7: =SUM(J8:J12) -> 8370 | K7: =SUM(K8:K12) -> 0 | L7: =SUM(L8:L12) -> 5000 | M7: =SUM(M8:M12) -> 537100 | N7: =SUM(N8:N12) -> -28370 | O7: =SUM(O8:O12) -> 45000 | P7: =SUM(P8:P12) -> 548730
A8: =IFERROR(VLOOKUP($C8,구분표!$A$2:$C$313,2,FALSE),"") -> 의회운영위원회 | B8: =IFERROR(VLOOKUP($C8,구분표!$A$2:$C$313,3,FALSE),"") -> 의회사무처 | C8: 총무담당관 | D8: 3회추경 | G8: 의정지원 기준경비(자체/직접) - 국내여비(의정업무수행) (의원국내여비) | H8: 158000 | I8: 158000 | J8: 0 | L8: 5000 | M8: =H8+K8+L8 -> 163000 | O8: 5000 | P8: =H8+N8+O8 -> 163000
A9: =IFERROR(VLOOKUP($C9,구분표!$A$2:$C$313,2,FALSE),"") -> 의회운영위원회 | B9: =IFERROR(VLOOKUP($C9,구분표!$A$2:$C$313,3,FALSE),"") -> 의회사무처 | C9: 총무담당관 | D9: 4회추경 | E9: 279 | F9: 13 | G9: 의정활동 지원 (자체/직접) - 의정활동 지원인력 | H9: 74400 | I9: 66030 | J9: =IF(D9="","",H9-I9) -> 8370 | K9: 0 | L9: 0 | M9: =H9+K9+L9 -> 74400 | N9: -8370 | P9: =H9+N9+O9 -> 66030
A10: =IFERROR(VLOOKUP($C10,구분표!$A$2:$C$313,2,FALSE),"") -> 의회운영위원회 | B10: =IFERROR(VLOOKUP($C10,구분표!$A$2:$C$313,3,FALSE),"") -> 의회사무처 | C10: 총무담당관 | D10: 본예산 | G10: 일반운영비 - 대형승합구입 | H10: 270000 | I10: 270000 | J10: =IF(D10="","",H10-I10) -> 0 | K10: 0 | L10: 0 | M10: =H10+K10+L10 -> 270000 | N10: -20000 | P10: =H10+N10+O10 -> 250000
A11: =IFERROR(VLOOKUP($C11,구분표!$A$2:$C$313,2,FALSE),"") -> 의회운영위원회 | B11: =IFERROR(VLOOKUP($C11,구분표!$A$2:$C$313,3,FALSE),"") -> 의회사무처 | C11: 총무담당관 | D11: 본예산 | G11: 일반운영비 - 소형화물구입 | H11: 0 | I11: 0 | J11: =IF(D11="","",H11-I11) -> 0 | K11: 0 | L11: 0 | M11: =H11+K11+L11 -> 0 | O11: 20000 | P11: =H11+N11+O11 -> 20000
A12: =IFERROR(VLOOKUP($C12,구분표!$A$2:$C$313,2,FALSE),"") -> 의회운영위원회 | B12: =IFERROR(VLOOKUP($C12,구분표!$A$2:$C$313,3,FALSE),"") -> 의회사무처 | C12: 총무담당관 | D12: 본예산 | G12: 의회운영 - 의정지원업무추진(203-03 시책업무추진비) | H12: 29700 | I12: 29700 | J12: =IF(D12="","",H12-I12) -> 0 | K12: 0 | L12: 0 | M12: =H12+K12+L12 -> 29700 | O12: 20000 | P12: =H12+N12+O12 -> 49700
A13: (기획재정위원회) | H13: =SUM(H14:H19) -> 105573741 | I13: =SUM(I14:I19) -> 100458044 | J13: =SUM(J14:J19) -> 5115697 | K13: =SUM(K14:K19) -> 0 | L13: =SUM(L14:L19) -> 0 | M13: =SUM(M14:M19) -> 105573741 | N13: =SUM(N14:N19) -> -21021791 | O13: =SUM(O14:O19) -> 0 | P13: =SUM(P14:P19) -> 84551950
A14: 기획재정위원회 | B14: 기획조정실 | C14: 예산담당관 | D14: 3회추경 | E14: 93 | G14: 내부유보금 (내부유보금) | H14: 18800000 | I14: 18800000 | J14: =IF(D14="","",H14-I14) -> 0 | K14: 0 | L14: 0 | M14: =H14+K14+L14 -> 18800000 | N14: -18800000 | P14: =H14+N14+O14 -> 0
A15: 기획재정위원회 | B15: 기획조정실 | C15: 기획담당관 | D15: 4회추경 | G15: 도정운영 활성화 추진(자체/직접) - 도정중점시책 활성화(203-03 시책업무추진비) | H15: 45000 | I15: 45000 | M15: =H15+K15+L15 -> 45000 | N15: -500 | P15: =H15+N15+O15 -> 44500
A16: =IFERROR(VLOOKUP($C16,구분표!$A$2:$C$313,2,FALSE),"") -> 기획재정위원회 | B16: =IFERROR(VLOOKUP($C16,구분표!$A$2:$C$313,3,FALSE),"") -> 기획조정실 | C16: 기획담당관 | D16: 4회추경 | G16: 도정 역점시책 전략적 도민 인식 제고(자체/직접) - 도정 역점시책 업무추진(203-03 시책업무추진비) | H16: 45000 | I16: 45000 | J16: =IF(D16="","",H16-I16) -> 0 | M16: =H16+K16+L16 -> 45000 | N16: -500 | P16: =H16+N16+O16 -> 44500
A17: =IFERROR(VLOOKUP($C17,구분표!$A$2:$C$313,2,FALSE),"") -> 기획재정위원회 | B17: =IFERROR(VLOOKUP($C17,구분표!$A$2:$C$313,3,FALSE),"") -> 기획조정실 | C17: 규제개혁추진단 | D17: 4회추경 | G17: 지방 및 중앙 규제의 합리적 개선 추진(자체/직접) - 수도권 규제개선 및 규제합리화 추진(203-03 시책업무추진비) | H17: 27000 | I17: 27000 | J17: =IF(D17="","",H17-I17) -> 0 | M17: =H17+K17+L17 -> 27000 | N17: -2500 | P17: =H17+N17+O17 -> 24500
A18: =IFERROR(VLOOKUP($C18,구분표!$A$2:$C$313,2,FALSE),"") -> 기획재정위원회 | B18: =IFERROR(VLOOKUP($C18,구분표!$A$2:$C$313,3,FALSE),"") -> 기획조정실 | C18: 예산담당관 | D18: 4회추경 | G18: 예비비 - 일반예비비 | H18: 86656741 | I18: 81541044 | J18: =IF(D18="","",H18-I18) -> 5115697 | M18: =H18+K18+L18 -> 86656741 | N18: -2218291 | P18: =H18+N18+O18 -> 84438450
A19: =IFERROR(VLOOKUP($C19,구분표!$A$2:$C$313,2,FALSE),"") | B19: =IFERROR(VLOOKUP($C19,구분표!$A$2:$C$313,3,FALSE),"") | J19: =IF(D19="","",H19-I19) | M19: =H19+K19+L19 -> 0 | P19: =H19+N19+O19 -> 0
A20: (경제과학기술위원회) | H20: =SUM(H21:H25) -> 150633 | I20: =SUM(I21:I25) -> 72000 | J20: =SUM(J21:J25) -> 103397 | K20: =SUM(K21:K25) -> 0 | L20: =SUM(L21:L25) -> 24764 | M20: =SUM(M21:M25) -> 175397 | N20: =SUM(N21:N25) -> -2000 | O20: =SUM(O21:O25) -> 24764 | P20: =SUM(P21:P25) -> 173397
A21: =IFERROR(VLOOKUP($C21,구분표!$A$2:$C$313,2,FALSE),"") -> 경제과학기술위원회 | B21: =IFERROR(VLOOKUP($C21,구분표!$A$2:$C$313,3,FALSE),"") -> 경제실 | C21: 에너지과 | D21: 신규 | G21: 베란다형태양광 보급지원 사업(국비/직접) -베란다형태양광보급지원사업 (통계목:공기관자본적대행사업비) | J21: 24764 | L21: 24764 | M21: =H21+K21+L21 -> 24764 | O21: 24764 | P21: =H21+N21+O21 -> 24764 | Q21: 국비 변경 내시
A22: =IFERROR(VLOOKUP($C22,구분표!$A$2:$C$313,2,FALSE),"") -> 경제과학기술위원회 | B22: =IFERROR(VLOOKUP($C22,구분표!$A$2:$C$313,3,FALSE),"") -> 경제실 | C22: 기업지원과 | D22: 4회추경 | E22: 322 | G22: 중소기업 판로지원을 위한 공유적 시장경제 오픈플렛폼 홍보(자체/직접) - 중소기업 판로지원을 위한 공유적 시장경제 오픈플렛폼 홍보(공기관등에대한경상적대행사업비) | H22: 78633 | I22: 0 | J22: =IF(D22="","",H22-I22) -> 78633 | M22: =H22+K22+L22 -> 78633 | N22: 0 | P22: =H22+N22+O22 -> 78633
A23: =IFERROR(VLOOKUP($C23,구분표!$A$2:$C$313,2,FALSE),"") -> 경제과학기술위원회 | B23: =IFERROR(VLOOKUP($C23,구분표!$A$2:$C$313,3,FALSE),"") -> 경제실 | C23: 일자리정책과 | D23: 4회추경 | G23: 고용정책추진(자체/직접) - 일자리대책 업무추진(203-03 시책업무추진비) | H23: 27000 | I23: 27000 | J23: =IF(D23="","",H23-I23) -> 0 | M23: =H23+K23+L23 -> 27000 | N23: -500 | P23: =H23+N23+O23 -> 26500
A24: =IFERROR(VLOOKUP($C24,구분표!$A$2:$C$313,2,FALSE),"") -> 경제과학기술위원회 | B24: =IFERROR(VLOOKUP($C24,구분표!$A$2:$C$313,3,FALSE),"") -> 경제실 | C24: 외교정책과 | D24: 4회추경 | G24: 국제교류증진(자체/직접) - 국제교류 및 통상협력 업무추진(203-03 시책업무추진비) | H24: 45000 | I24: 45000 | J24: =IF(D24="","",H24-I24) -> 0 | M24: =H24+K24+L24 -> 45000 | N24: -1500 | P24: =H24+N24+O24 -> 43500
A25: =IFERROR(VLOOKUP($C25,구분표!$A$2:$C$313,2,FALSE),"") | B25: =IFERROR(VLOOKUP($C25,구분표!$A$2:$C$313,3,FALSE),"") | J25: =IF(D25="","",H25-I25) | M25: =H25+K25+L25 -> 0 | P25: =H25+N25+O25 -> 0
A26: (안전행정위원회) | H26: =SUM(H27:H31) -> 100000 | I26: =SUM(I27:I31) -> 100000 | J26: =SUM(J27:J31) -> 0 | K26: =SUM(K27:K31) -> 0 | L26: =SUM(L27:L31) -> 2030000 | M26: =SUM(M27:M31) -> 2130000 | N26: =SUM(N27:N31) -> -5000 | O26: =SUM(O27:O31) -> 2030000 | P26: =SUM(P27:P31) -> 2125000
A27: =IFERROR(VLOOKUP($C27,구분표!$A$2:$C$313,2,FALSE),"") -> 안전행정위원회 | B27: =IFERROR(VLOOKUP($C27,구분표!$A$2:$C$313,3,FALSE),"") -> 자치행정국 | C27: 인사과 | D27: 신규 | G27: 공정한 시험업무 추진(기금/직접) - 시험관리비(성립전)(사무관리비) | J27: =IF(D27="","",H27-I27) -> 0 | L27: 30000 | M27: =H27+K27+L27 -> 30000 | O27: 30000 | P27: =H27+N27+O27 -> 30000 | Q27: 국비 변경 내시
A28: =IFERROR(VLOOKUP($C28,구분표!$A$2:$C$313,2,FALSE),"") -> 안전행정위원회 | B28: =IFERROR(VLOOKUP($C28,구분표!$A$2:$C$313,3,FALSE),"") -> 균형발전기획실 | C28: 행정관리담당관 | D28: 신규 | G28: 북부청사 스마트오피스 추진(교부세/직접) - 북부청사 스마트오피스 추진(시설비) | J28: =IF(D28="","",H28-I28) -> 0 | L28: 2000000 | M28: =H28+K28+L28 -> 2000000 | O28: 2000000 | P28: =H28+N28+O28 -> 2000000 | Q28: 국비 변경 내시
A29: =IFERROR(VLOOKUP($C29,구분표!$A$2:$C$313,2,FALSE),"") -> 안전행정위원회 | B29: =IFERROR(VLOOKUP($C29,구분표!$A$2:$C$313,3,FALSE),"") -> 균형발전기획실 | C29: 행정관리담당관 | D29: 4회추경 | G29: 행정수행 지원(자체/직접) - 북부지역 종합시책추진(203-03 시책업무추진비) | H29: 100000 | I29: 100000 | J29: =IF(D29="","",H29-I29) -> 0 | M29: =H29+K29+L29 -> 100000 | N29: -5000 | P29: =H29+N29+O29 -> 95000
A30: =IFERROR(VLOOKUP($C30,구분표!$A$2:$C$313,2,FALSE),"") | B30: =IFERROR(VLOOKUP($C30,구분표!$A$2:$C$313,3,FALSE),"") | J30: =IF(D30="","",H30-I30) | M30: =H30+K30+L30 -> 0 | P30: =H30+N30+O30 -> 0
A31: =IFERROR(VLOOKUP($C31,구분표!$A$2:$C$313,2,FALSE),"") | B31: =IFERROR(VLOOKUP($C31,구분표!$A$2:$C$313,3,FALSE),"") | J31: =IF(D31="","",H31-I31) | M31: =H31+K31+L31 -> 0 | P31: =H31+N31+O31 -> 0
A32: (문화체육관광위원회) | H32: =SUM(H33:H38) -> 8630000 | I32: =SUM(I33:I38) -> 7930000 | J32: =SUM(J33:J38) -> 700000 | K32: =SUM(K33:K38) -> 0 | L32: =SUM(L33:L38) -> 1700000 | M32: =SUM(M33:M38) -> 10330000 | N32: =SUM(N33:N38) -> -1500 | O32: =SUM(O33:O38) -> 4700000 | P32: =SUM(P33:P38) -> 13328500
A33: =IFERROR(VLOOKUP($C33,구분표!$A$2:$C$313,2,FALSE),"") -> 문화체육관광위원회 | B33: =IFERROR(VLOOKUP($C33,구분표!$A$2:$C$313,3,FALSE),"") -> 문화체육관광국 | C33: 체육과 | D33: 4회추경 | E33: 366 | F33: 66 | G33: 국민체육센터 건립 지원(기금/지원) - 국민체육센터 건립(자치단체자본보조) | H33: 7200000 | I33: 5900000 | J33: =IF(D33="","",H33-I33) -> 1300000 | L33: 1700000 | M33: =H33+K33+L33 -> 8900000 | O33: 1700000 | P33: =H33+N33+O33 -> 8900000 | Q33: 국비 변경 내시
A34: =IFERROR(VLOOKUP($C34,[1]구분표!$A$2:$C$313,2,FALSE),"") -> 문화체육관광위원회 | B34: =IFERROR(VLOOKUP($C34,[1]구분표!$A$2:$C$313,3,FALSE),"") -> 문화체육관광국 | C34: 체육과 | D34: 신규 | G34: 복합문화체육센터 건립(기금/지원) - 오산 복합문화체육센터 건립(자치단체자본보조) | J34: =IF(D34="","",H34-I34) -> 0 | M34: =H34+K34+L34 -> 0 | O34: 3000000 | P34: =H34+N34+O34 -> 3000000 | Q34: 국비 변경 내시
A35: =IFERROR(VLOOKUP($C35,구분표!$A$2:$C$313,2,FALSE),"") -> 문화체육관광위원회 | B35: =IFERROR(VLOOKUP($C35,구분표!$A$2:$C$313,3,FALSE),"") -> 문화체육관광국 | C35: 종무과 | D35: 4회추경 | E35: 365 | G35: 수원사 명상센터 건립지원(기금/지원) - 수원사 명상산터 건립지원 | H35: 1300000 | I35: 2000000 | J35: =IF(D35="","",H35-I35) -> -700000 | M35: =H35+K35+L35 -> 1300000 | P35: =H35+N35+O35 -> 1300000
A36: =IFERROR(VLOOKUP($C36,구분표!$A$2:$C$313,2,FALSE),"") -> 문화체육관광위원회 | B36: =IFERROR(VLOOKUP($C36,구분표!$A$2:$C$313,3,FALSE),"") -> 문화체육관광국 | C36: 문화정책과 | D36: 4회추경 | E36: 363 | G36: 노후된 공립박물관 안전 및 관람환경개선사업 추진(자체/직접) - 노후된 공립박물관 안전 및 관람환경개선사업 추진(공기관등에대한자본적대행사업비) | H36: 100000 | I36: 0 | J36: =IF(D36="","",H36-I36) -> 100000 | M36: =H36+K36+L36 -> 100000 | P36: =H36+N36+O36 -> 100000
A37: =IFERROR(VLOOKUP($C37,구분표!$A$2:$C$313,2,FALSE),"") -> 문화체육관광위원회 | B37: =IFERROR(VLOOKUP($C37,구분표!$A$2:$C$313,3,FALSE),"") -> 문화체육관광국 | C37: 체육과 | D37: 4회추경 | G37: 생활체육 활성화(자체/직접) - 체육진흥대책 추진(203-03 시책업무추진비) | H37: 30000 | I37: 30000 | J37: =IF(D37="","",H37-I37) -> 0 | M37: =H37+K37+L37 -> 30000 | N37: -1500 | P37: =H37+N37+O37 -> 28500
A38: =IFERROR(VLOOKUP($C38,구분표!$A$2:$C$313,2,FALSE),"") | B38: =IFERROR(VLOOKUP($C38,구분표!$A$2:$C$313,3,FALSE),"") | J38: =IF(D38="","",H38-I38) | M38: =H38+K38+L38 -> 0 | P38: =H38+N38+O38 -> 0
A39: (농정해양위원회) | H39: =SUM(H40:H57) -> 103561305 | I39: =SUM(I40:I57) -> 103645305 | J39: =SUM(J40:J57) -> -84000 | K39: =SUM(K40:K57) -> -6661648 | L39: =SUM(L40:L57) -> 18080578 | M39: =SUM(M40:M57) -> 114980235 | N39: =SUM(N40:N57) -> -1097023 | O39: =SUM(O40:O57) -> 23741578 | P39: =SUM(P40:P57) -> 126205860
A40: =IFERROR(VLOOKUP($C40,구분표!$A$2:$C$313,2,FALSE),"") -> 농정해양위원회 | B40: =IFERROR(VLOOKUP($C40,구분표!$A$2:$C$313,3,FALSE),"") -> 농정해양국 | C40: 친환경농업과 | D40: 본예산 | G40: 쌀소득등보전직불제(국비/지원) - 쌀소득등보전직불제(자치단체경상보조) | H40: 71622960 | I40: 71622960 | J40: =IF(D40="","",H40-I40) -> 0 | K40: -250500 | M40: =H40+K40+L40 -> 71372460 | N40: -250500 | P40: =H40+N40+O40 -> 71372460 | Q40: 국비 변경 내시
...

Sheet 4추특입
A1: 2016년도 제4회 추경 경기도 기타특별회계 세입 예산 조정(안)
A2: □ 세입예산
J3: =COUNTA(J7:J30) -> 0 | K3: =COUNTA(K7:K30) -> 0 | M3: =COUNTA(M7:M30) -> 0 | N3: =COUNTA(N7:N30) -> 0
A4: 위원회명 | B4: 실국명 | C4: 부서명 | D4: 편성 구분 | E4: 예산안 페이지 | F4: 사업명 | G4: 제4회 추경 예산안 (가) | H4: 기정액 (나) | I4: 제4회 추경 증감액 (다=가-나) | J4: 상임위 제4회 추경 예산안 조정액(라) | L4: 상임위 수정 예산안 (마=가+라) | M4: 예결위 제4회 추경 예산안 조정액(라) | O4: 예결위 수정 예산안 (마=가+라)
J5: 감액 | K5: 증액 | M5: 감액 | N5: 증액
A6: 합 계 | G6: =SUBTOTAL(9,G7:G30) -> 0 | H6: =SUBTOTAL(9,H7:H30) -> 0 | I6: =SUBTOTAL(9,I7:I30) -> 0 | J6: =SUBTOTAL(9,J7:J30) -> 0 | K6: =SUBTOTAL(9,K7:K30) -> 0 | L6: =SUBTOTAL(9,L7:L30) -> 0 | M6: =SUBTOTAL(9,M7:M30) -> 0 | N6: =SUBTOTAL(9,N7:N30) -> 0 | O6: =SUBTOTAL(9,O7:O30) -> 0
A7: =IFERROR(VLOOKUP($C7,구분표!$A$2:$C$313,2,FALSE),"") | B7: =IFERROR(VLOOKUP($C7,구분표!$A$2:$C$313,3,FALSE),"") | I7: =IF(D7="","",G7-H7) | L7: =G7+J7+K7 -> 0 | O7: =G7+M7+N7 -> 0
A8: =IFERROR(VLOOKUP($C8,구분표!$A$2:$C$313,2,FALSE),"") | B8: =IFERROR(VLOOKUP($C8,구분표!$A$2:$C$313,3,FALSE),"") | I8: =IF(D8="","",G8-H8) | L8: =G8+J8+K8 -> 0 | O8: =G8+M8+N8 -> 0
A9: =IFERROR(VLOOKUP($C9,구분표!$A$2:$C$313,2,FALSE),"") | B9: =IFERROR(VLOOKUP($C9,구분표!$A$2:$C$313,3,FALSE),"") | I9: =IF(D9="","",G9-H9) | L9: =G9+J9+K9 -> 0 | O9: =G9+M9+N9 -> 0
A10: =IFERROR(VLOOKUP($C10,구분표!$A$2:$C$313,2,FALSE),"") | B10: =IFERROR(VLOOKUP($C10,구분표!$A$2:$C$313,3,FALSE),"") | I10: =IF(D10="","",G10-H10) | L10: =G10+J10+K10 -> 0 | O10: =G10+M10+N10 -> 0
A11: =IFERROR(VLOOKUP($C11,구분표!$A$2:$C$313,2,FALSE),"") | B11: =IFERROR(VLOOKUP($C11,구분표!$A$2:$C$313,3,FALSE),"") | I11: =IF(D11="","",G11-H11) | L11: =G11+J11+K11 -> 0 | O11: =G11+M11+N11 -> 0
A12: =IFERROR(VLOOKUP($C12,구분표!$A$2:$C$313,2,FALSE),"") | B12: =IFERROR(VLOOKUP($C12,구분표!$A$2:$C$313,3,FALSE),"") | I12: =IF(D12="","",G12-H12) | L12: =G12+J12+K12 -> 0 | O12: =G12+M12+N12 -> 0
A13: =IFERROR(VLOOKUP($C13,구분표!$A$2:$C$313,2,FALSE),"") | B13: =IFERROR(VLOOKUP($C13,구분표!$A$2:$C$313,3,FALSE),"") | I13: =IF(D13="","",G13-H13) | L13: =G13+J13+K13 -> 0 | O13: =G13+M13+N13 -> 0
A14: =IFERROR(VLOOKUP($C14,구분표!$A$2:$C$313,2,FALSE),"") | B14: =IFERROR(VLOOKUP($C14,구분표!$A$2:$C$313,3,FALSE),"") | I14: =IF(D14="","",G14-H14) | L14: =G14+J14+K14 -> 0 | O14: =G14+M14+N14 -> 0
A15: =IFERROR(VLOOKUP($C15,구분표!$A$2:$C$313,2,FALSE),"") | B15: =IFERROR(VLOOKUP($C15,구분표!$A$2:$C$313,3,FALSE),"") | I15: =IF(D15="","",G15-H15) | L15: =G15+J15+K15 -> 0 | O15: =G15+M15+N15 -> 0
A16: =IFERROR(VLOOKUP($C16,구분표!$A$2:$C$313,2,FALSE),"") | B16: =IFERROR(VLOOKUP($C16,구분표!$A$2:$C$313,3,FALSE),"") | I16: =IF(D16="","",G16-H16) | L16: =G16+J16+K16 -> 0 | O16: =G16+M16+N16 -> 0
A17: =IFERROR(VLOOKUP($C17,구분표!$A$2:$C$313,2,FALSE),"") | B17: =IFERROR(VLOOKUP($C17,구분표!$A$2:$C$313,3,FALSE),"") | I17: =IF(D17="","",G17-H17) | L17: =G17+J17+K17 -> 0 | O17: =G17+M17+N17 -> 0
A18: =IFERROR(VLOOKUP($C18,구분표!$A$2:$C$313,2,FALSE),"") | B18: =IFERROR(VLOOKUP($C18,구분표!$A$2:$C$313,3,FALSE),"") | I18: =IF(D18="","",G18-H18) | L18: =G18+J18+K18 -> 0 | O18: =G18+M18+N18 -> 0
... A30: =IFERROR(VLOOKUP($C30,구분표!$A$2:$C$313,2,FALSE),"") | B30: =IFERROR(VLOOKUP($C30,구분표!$A$2:$C$313,3,FALSE),"") | I30: =IF(D30="","",G30-H30) | L30: =G30+J30+K30 -> 0 | O30: =G30+M30+N30 -> 0

Sheet 4추특출
A1: 2016년도 제4회 추경 경기도 기타특별회계 세출 예산 조정(안)
A2: □ 세출예산
J3: =COUNTA(J7:J40)-3 -> 0 | K3: =COUNTA(K7:K40)-3 -> 0 | M3: =COUNTA(M7:M40)-3 -> 0 | N3: =COUNTA(N7:N40)-3 -> 0
A4: 위원회명 | B4: 실국명 | C4: 부서명 | D4: 편성 구분 | E4: 예산안 페이지 | F4: 세부사업명 및 부기명 | G4: 제4회 추경 예산안 (가) | H4: 기정액 (나) | I4: 제4회 추경 증감액 (다=가-나) | J4: 상임위 제4회 추경 예산안 조정액(라) | L4: 상임위 수정 예산안 (마=가+라) | M4: 예결위 제4회 추경 예산안 조정액(라) | O4: 예결위 수정 예산안 (마=가+라)
J5: 감액 | K5: 증액 | M5: 감액 | N5: 증액
A6: 합 계 | G6: =SUBTOTAL(9,G7:G40)/2 -> 0 | H6: =SUBTOTAL(9,H7:H40)/2 -> 0 | I6: =SUBTOTAL(9,I7:I40)/2 -> 0 | J6: =SUBTOTAL(9,J7:J40)/2 -> 0 | K6: =SUBTOTAL(9,K7:K40)/2 -> 0 | L6: =SUBTOTAL(9,L7:L40)/2 -> 0 | M6: =SUBTOTAL(9,M7:M40)/2 -> 0 | N6: =SUBTOTAL(9,N7:N40)/2 -> 0 | O6: =SUBTOTAL(9,O7:O40)/2 -> 0
A7: ( 특별회계) | G7: =SUM(G8:G14) -> 0 | H7: =SUM(H8:H14) -> 0 | I7: =SUM(I8:I14) -> 0 | J7: =SUM(J8:J14) -> 0 | K7: =SUM(K8:K14) -> 0 | L7: =SUM(L8:L14) -> 0 | M7: =SUM(M8:M14) -> 0 | N7: =SUM(N8:N14) -> 0 | O7: =SUM(O8:O14) -> 0
A8: =IFERROR(VLOOKUP($C8,구분표!$A$2:$C$313,2,FALSE),"") | B8: =IFERROR(VLOOKUP($C8,구분표!$A$2:$C$313,3,FALSE),"") | I8: =IF(D8="","",G8-H8) | L8: =G8+J8+K8 -> 0 | O8: =G8+M8+N8 -> 0
A9: =IFERROR(VLOOKUP($C9,구분표!$A$2:$C$313,2,FALSE),"") | B9: =IFERROR(VLOOKUP($C9,구분표!$A$2:$C$313,3,FALSE),"") | I9: =IF(D9="","",G9-H9) | L9: =G9+J9+K9 -> 0 | O9: =G9+M9+N9 -> 0
A10: =IFERROR(VLOOKUP($C10,구분표!$A$2:$C$313,2,FALSE),"") | B10: =IFERROR(VLOOKUP($C10,구분표!$A$2:$C$313,3,FALSE),"") | I10: =IF(D10="","",G10-H10) | L10: =G10+J10+K10 -> 0 | O10: =G10+M10+N10 -> 0
A11: =IFERROR(VLOOKUP($C11,구분표!$A$2:$C$313,2,FALSE),"") | B11: =IFERROR(VLOOKUP($C11,구분표!$A$2:$C$313,3,FALSE),"") | I11: =IF(D11="","",G11-H11) | L11: =G11+J11+K11 -> 0 | O11: =G11+M11+N11 -> 0
A12: =IFERROR(VLOOKUP($C12,구분표!$A$2:$C$313,2,FALSE),"") | B12: =IFERROR(VLOOKUP($C12,구분표!$A$2:$C$313,3,FALSE),"") | I12: =IF(D12="","",G12-H12) | L12: =G12+J12+K12 -> 0 | O12: =G12+M12+N12 -> 0
A13: =IFERROR(VLOOKUP($C13,구분표!$A$2:$C$313,2,FALSE),"") | B13: =IFERROR(VLOOKUP($C13,구분표!$A$2:$C$313,3,FALSE),"") | I13: =IF(D13="","",G13-H13) | L13: =G13+J13+K13 -> 0 | O13: =G13+M13+N13 -> 0
A14: =IFERROR(VLOOKUP($C14,구분표!$A$2:$C$313,2,FALSE),"") | B14: =IFERROR(VLOOKUP($C14,구분표!$A$2:$C$313,3,FALSE),"") | I14: =IF(D14="","",G14-H14) | L14: =G14+J14+K14 -> 0 | O14: =G14+M14+N14 -> 0
A15: ( 특별회계) | G15: =SUM(G16:G22) -> 0 | H15: =SUM(H16:H22) -> 0 | I15: =SUM(I16:I22) -> 0 | J15: =SUM(J16:J22) -> 0 | K15: =SUM(K16:K22) -> 0 | L15: =SUM(L16:L22) -> 0 | M15: =SUM(M16:M22) -> 0 | N15: =SUM(N16:N22) -> 0 | O15: =SUM(O16:O22) -> 0
A16: =IFERROR(VLOOKUP($C16,구분표!$A$2:$C$313,2,FALSE),"") | B16: =IFERROR(VLOOKUP($C16,구분표!$A$2:$C$313,3,FALSE),"") | I16: =IF(D16="","",G16-H16) | L16: =G16+J16+K16 -> 0 | O16: =G16+M16+N16 -> 0
A17: =IFERROR(VLOOKUP($C17,구분표!$A$2:$C$313,2,FALSE),"") | B17: =IFERROR(VLOOKUP($C17,구분표!$A$2:$C$313,3,FALSE),"") | I17: =IF(D17="","",G17-H17) | L17: =G17+J17+K17 -> 0 | O17: =G17+M17+N17 -> 0
A18: =IFERROR(VLOOKUP($C18,구분표!$A$2:$C$313,2,FALSE),"") | B18: =IFERROR(VLOOKUP($C18,구분표!$A$2:$C$313,3,FALSE),"") | I18: =IF(D18="","",G18-H18) | L18: =G18+J18+K18 -> 0 | O18: =G18+M18+N18 -> 0
A19: =IFERROR(VLOOKUP($C19,구분표!$A$2:$C$313,2,FALSE),"") | B19: =IFERROR(VLOOKUP($C19,구분표!$A$2:$C$313,3,FALSE),"") | I19: =IF(D19="","",G19-H19) | L19: =G19+J19+K19 -> 0 | O19: =G19+M19+N19 -> 0
A20: =IFERROR(VLOOKUP($C20,구분표!$A$2:$C$313,2,FALSE),"") | B20: =IFERROR(VLOOKUP($C20,구분표!$A$2:$C$313,3,FALSE),"") | I20: =IF(D20="","",G20-H20) | L20: =G20+J20+K20 -> 0 | O20: =G20+M20+N20 -> 0
A21: =IFERROR(VLOOKUP($C21,구분표!$A$2:$C$313,2,FALSE),"") | B21: =IFERROR(VLOOKUP($C21,구분표!$A$2:$C$313,3,FALSE),"") | I21: =IF(D21="","",G21-H21) | L21: =G21+J21+K21 -> 0 | O21: =G21+M21+N21 -> 0
A22: =IFERROR(VLOOKUP($C22,구분표!$A$2:$C$313,2,FALSE),"") | B22: =IFERROR(VLOOKUP($C22,구분표!$A$2:$C$313,3,FALSE),"") | I22: =IF(D22="","",G22-H22) | L22: =G22+J22+K22 -> 0 | O22: =G22+M22+N22 -> 0
A23: ( 특별회계) | G23: =SUM(G24:G40) -> 0 | H23: =SUM(H24:H40) -> 0 | I23: =SUM(I24:I40) -> 0 | J23: =SUM(J24:J40) -> 0 | K23: =SUM(K24:K40) -> 0 | L23: =SUM(L24:L40) -> 0 | M23: =SUM(M24:M40) -> 0 | N23: =SUM(N24:N40) -> 0 | O23: =SUM(O24:O40) -> 0
A24: =IFERROR(VLOOKUP($C24,구분표!$A$2:$C$313,2,FALSE),"") | B24: =IFERROR(VLOOKUP($C24,구분표!$A$2:$C$313,3,FALSE),"") | I24: =IF(D24="","",G24-H24) | L24: =G24+J24+K24 -> 0 | O24: =G24+M24+N24 -> 0
A25: =IFERROR(VLOOKUP($C25,구분표!$A$2:$C$313,2,FALSE),"") | B25: =IFERROR(VLOOKUP($C25,구분표!$A$2:$C$313,3,FALSE),"") | I25: =IF(D25="","",G25-H25) | L25: =G25+J25+K25 -> 0 | O25: =G25+M25+N25 -> 0
A26: =IFERROR(VLOOKUP($C26,구분표!$A$2:$C$313,2,FALSE),"") | B26: =IFERROR(VLOOKUP($C26,구분표!$A$2:$C$313,3,FALSE),"") | I26: =IF(D26="","",G26-H26) | L26: =G26+J26+K26 -> 0 | O26: =G26+M26+N26 -> 0
A27: =IFERROR(VLOOKUP($C27,구분표!$A$2:$C$313,2,FALSE),"") | B27: =IFERROR(VLOOKUP($C27,구분표!$A$2:$C$313,3,FALSE),"") | I27: =IF(D27="","",G27-H27) | L27: =G27+J27+K27 -> 0 | O27: =G27+M27+N27 -> 0
A28: =IFERROR(VLOOKUP($C28,구분표!$A$2:$C$313,2,FALSE),"") | B28: =IFERROR(VLOOKUP($C28,구분표!$A$2:$C$313,3,FALSE),"") | I28: =IF(D28="","",G28-H28) | L28: =G28+J28+K28 -> 0 | O28: =G28+M28+N28 -> 0
A29: =IFERROR(VLOOKUP($C29,구분표!$A$2:$C$313,2,FALSE),"") | B29: =IFERROR(VLOOKUP($C29,구분표!$A$2:$C$313,3,FALSE),"") | I29: =IF(D29="","",G29-H29) | L29: =G29+J29+K29 -> 0 | O29: =G29+M29+N29 -> 0
A30: =IFERROR(VLOOKUP($C30,구분표!$A$2:$C$313,2,FALSE),"") | B30: =IFERROR(VLOOKUP($C30,구분표!$A$2:$C$313,3,FALSE),"") | I30: =IF(D30="","",G30-H30) | L30: =G30+J30+K30 -> 0 | O30: =G30+M30+N30 -> 0
A31: =IFERROR(VLOOKUP($C31,구분표!$A$2:$C$313,2,FALSE),"") | B31: =IFERROR(VLOOKUP($C31,구분표!$A$2:$C$313,3,FALSE),"") | I31: =IF(D31="","",G31-H31) | L31: =G31+J31+K31 -> 0 | O31: =G31+M31+N31 -> 0
A32: =IFERROR(VLOOKUP($C32,구분표!$A$2:$C$313,2,FALSE),"") | B32: =IFERROR(VLOOKUP($C32,구분표!$A$2:$C$313,3,FALSE),"") | I32: =IF(D32="","",G32-H32) | L32: =G32+J32+K32 -> 0 | O32: =G32+M32+N32 -> 0
A33: =IFERROR(VLOOKUP($C33,구분표!$A$2:$C$313,2,FALSE),"") | B33: =IFERROR(VLOOKUP($C33,구분표!$A$2:$C$313,3,FALSE),"") | I33: =IF(D33="","",G33-H33) | L33: =G33+J33+K33 -> 0 | O33: =G33+M33+N33 -> 0
A34: =IFERROR(VLOOKUP($C34,구분표!$A$2:$C$313,2,FALSE),"") | B34: =IFERROR(VLOOKUP($C34,구분표!$A$2:$C$313,3,FALSE),"") | I34: =IF(D34="","",G34-H34) | L34: =G34+J34+K34 -> 0 | O34: =G34+M34+N34 -> 0
A35: =IFERROR(VLOOKUP($C35,구분표!$A$2:$C$313,2,FALSE),"") | B35: =IFERROR(VLOOKUP($C35,구분표!$A$2:$C$313,3,FALSE),"") | I35: =IF(D35="","",G35-H35) | L35: =G35+J35+K35 -> 0 | O35: =G35+M35+N35 -> 0
... A40: =IFERROR(VLOOKUP($C40,구분표!$A$2:$C$313,2,FALSE),"") | B40: =IFERROR(VLOOKUP($C40,구분표!$A$2:$C$313,3,FALSE),"") | I40: =IF(D40="","",G40-H40) | L40: =G40+J40+K40 -> 0 | O40: =G40+M40+N40 -> 0

Sheet 명시이월(일반회계)
A2: 2016년 4회추경 명시이월 사업조서(일반회계)
K4: (단위:천원)
A5: 구 분 | D5: 예 산 과 목 | H5: 명시이월내용 | I5: 예산액 | J5: 2016년이월액 | K5: 사유
A6: 연번 | B6: 소관실국 | C6: 소관위원회 | D6: 정책사업 | E6: 단위사업 | F6: 세부사업 | G6: 편성목 (통계목)
A7: 1 | B7: 균형발전기획실 | C7: 기획재정위원회 | D7: 북부지역 개발 (균형발전담당관) | E7: 접경지역 기반시설 확충 | F7: 특수상황지역 개발사업(지특/지원) | G7: 자치단체등자본이전 (자치단체자본보조) | H7: 특수상황지역 개발사업 시군 지원사업 | I7: 28498000 | J7: 2054000 | K7: 이월액 변경
A8: 2 | B8: 균형발전기획실 | C8: 기획재정위원회 | D8: DMZ일원의 합리적 보전과 이용 (DMZ정책담당관) | E8: DMZ인프라구축 | F8: 도라전망대 이전신축 사업 (지특/지원) | G8: 자치단체등자본이전 (자치단체자본보조) | H8: 도라전망대 이전신축 | I8: 1000000 | J8: 0 | K8: 명시이월삭제
A9: 3 | B9: 재난안전본부 | C9: 안전행정위원회 | D9: 안전관리활동 (안전교육훈련담당관) | E9: 안전관리 활동강화 | F9: 재난안전 체험교육시설 확충 (소방안전/직접) | G9: 자산취득비 (자산및물품취득비) | H9: 이동안전체험차량 구입 | I9: 500000 | J9: 500000 | K9: 명시이월추가
A10: 4 | B10: 재난안전본부 | C10: 안전행정위원회 | D10: 안전관리활동 (안전교육훈련담당관) | E10: 안전관리 활동강화 | F10: 학교안전도우미 양성 운영(자체/직접) | G10: 일반운영비 (기타보상금) | H10: 학교 야외체험학습 학교 안전도우미 운영 기타보상금 이월 | I10: 288000 | J10: 140000 | K10: 이월액 변경
A11: 5 | B11: 재난안전본부 | C11: 안전행정위원회 | D11: 긴급구조 및 민방위 역량강화 (특수대응단) | E11: 신속한 재난대응 태세 구축 | F11: 구조구급장비 보강(소방안전/직접) | G11: 자산취득비 (자산및물품취득비) | H11: 구조장비 보강 | I11: 124000 | J11: 124000 | K11: 명시이월추가
A12: 6 | B12: 재난안전본부 | C12: 안전행정위원회 | D12: 신바람 나는 직장 분위기 조성 (포천소방서) | E12: 근무환경개선 | F12: 소규모시설물 개보수(자체/직접) | G12: 시설비및부대비 (시설비) | H12: 구,소흘119안전센터 생활관 전환공사 | I12: 300000 | J12: 300000 | K12: 명시이월추가
A13: 7 | B13: 균형발전기획실 | C13: 안전행정위원회 | D13: 행정서비스 제공 (행정관리담당관) | E13: 청사유지관리 운영 | F13: 북부청사 스마트오피스 추진(교부세/직접) | G13: 시설비 및 부대비 (시설비) | H13: 북부청사 스마트오피스 추진 | I13: 2000000 | J13: 2000000 | K13: 명시이월추가
A14: 8 | B14: 소방학교 | C14: 안전행정위원회 | D14: 소방공무원 정예화 및 전문성 강화 (소방학교) | E14: 교육훈련 효율적 행정지원 | F14: 청사관리(자체/직접) | G14: 시설비 및 부대비 (시설비) | H14: 후생관(식당) 환경개선 사업 | I14: 250000 | J14: 250000 | K14: 명시이월삭제
A15: 9 | B15: 소방학교 | C15: 안전행정위원회 | D15: 소방공무원 정예화 및 전문성 강화 (소방학교) | E15: 교육훈련 효율적 행정지원 | F15: 청사관리(자체/직접) | G15: 시설비 및 부대비 (자산및물품취득비) | H15: 후생관(식당) 환경개선 사업 | I15: 50000 | J15: 50000 | K15: 명시이월삭제
A16: 10 | B16: 문화체육관광국 | C16: 문화체육관광위원회 | D16: 문화예술진흥 (문화정책과) | E16: 문화기반시설 확충 | F16: 문화예술인 기념시설 조성 (지특/지원) | G16: 자치단체등자본이전 (자치단체자본보조) | H16: 문화예술인 기념시설 조성사업 지원 | I16: 1000000 | J16: 1000000 | K16: 명시이월 추가
A17: 11 | B17: 축산산림국 | C17: 농정해양위원회 | D17: 가축질병청정화 (동물방역위생과) | E17: 주요가축전염병예방 | F17: 시도가축방역사업(국비/직접) | G17: 재료비 (재료비) | H17: 꿀벌질병예방 및 구제역· AI 등 방역을 위한 방역물품 구입비 | I17: 127000 | J17: 127000 | K17: 명시이월추가
A18: 12 | B18: 축산산림국 | C18: 농정해양위원회 | D18: 축산위생연구 (동물위생시험소) | E18: 가축방역 | F18: 축산위생업무지원(자체/직접) | G18: 시설비및부대비 (시설비) | H18: 장애인 편의시설 공사 및 저온저장고 설치공사 | I18: 203000 | J18: 186118 | K18: 명시이월내용, 예산액, 이월액 변경
... A36: 30 | B36: 경제실 | C36: 경제과학기술위원회 | D36: 공정경제활성화 (공정경제과) | E36: 소상공인사업 지원 | F36: 전통시장 시설현대화 지원 (지특/지원) | G36: 자치단체등자본이전 (자치단체자본보조) | H36: 전통시장 시설현대화 | I36: 5029000 | J36: 2309275 | K36: 명시이월 추가
A37: 추가 | B37: 균형발전기획실 | C37: 기획재정위원회 | D37: 경기북부 정보인프라 구축 (기획예산담당관) | E37: 안정적인 정보통신 서비스 제공 | F37: 북부청사 전산장비 유지관리(자체/직접) | G37: 일반운영비 (사무관리비) | H37: 북부청사 행정전산장비 유지관리비(12월분) | I37: 44156 | J37: 3266 | K37: 명시이월 통계목 수정 (당초 : 공공운영비 → 변경 : 사무관리비) (예산안 244p)
A38: 추가 | B38: 축산산림국 | C38: 농정해양위원회 | D38: 축산 경쟁력 강화 (축산정책과) | E38: 아름다운축산환경 조성 | F38: 가축분뇨 처리시설 지원(기금/지원) | G38: 자치단체등자본이전 (자치단체자본보조) | H38: 가축분뇨 처리시설 지원 시군지원 사업비 이월(이천시청 추경 종료) | I38: 6540250 | J38: 4455000 | K38: 명시이월추가
A39: 추가 | B39: 의회사무처 | C39: 의회운영위원회 | D39: 공감소통 의정홍보 (공보담당관) | E39: 의정홍보 지원 | F39: 도민소통 의정홍보(자체/직접) | G39: 시설비및부대비 (시설비) | H39: 사료관 이전설치 | I39: 45000 | J39: 45000 | K39: ○ 의원 의견수렴등 검토과정에서 사업비 축소 등 변동 사항이 있고, 정례회(2016.11.1.~12.16.) 의정활동을 고려하여 비회기 기간(2016.12.17.~2017. 1월) 중 공사를 추진으로 사업기간 부족 - 사업기간 : 2016. 12월 ~ 2017. 1월 - 예산편성 : 45,000천원 * '16 당초133,634천원(의장단회의 조정/ 4회 추경 감액 88,634천원)
A40: 추가 | B40: 의회사무처 | C40: 의회운영위원회 | D40: 입법활동정책기능강화 (입법정책담당관) | E40: 입법활동지원 | F40: 의원 입법활동 연구용역 | G40: 연구개발비 (연구용역비) | H40: 경기도의회 정책개발 연구용역 | I40: 380000 | J40: 89300 | K40: ○ 사업기간 : '16. 7 ~ '17. 2 ○ 용역건수 : 지방분권형 개헌에 따른 지방의회의 권환과 역할 등 5건 ○ 예산편성 : '16년 당초 ○ 하반기에 착수된 용역 5건의 절대 용역기간 부족(3개월) 으로 연도 내 용역 완료 불가
A41: 추가 | B41: 축산산림국 | C41: 농정해양위원회 | D41: 축산위생연구 (동물위생시험소) | E41: 가축방역 | F41: 바이오 연구기반 조성(자치/직접) | G41: 재료비 (재료비) | H41: 미생물 정밀 동정 | I41: 925000 | J41: 100000 | K41: 예산액 변경(통계목 예산액)
A42: 추가 | B42: 축산산림국 | C42: 농정해양위원회 | D42: 축산위생연구 (동물위생시험소) | E42: 가축방역 | F42: 바이오 연구기반 조성(자치/직접) | G42: 연구개발비 (시험연구비) | H42: 연구사업 지원 | I42: 130907 | J42: 100000 | K42: 예산액 변경(통계목 예산액)
A43: 추가 | B43: 교육협력국 | C43: 여성가족교육협력위원회 | D43: 도서관 및 독서문화 진흥 (도서관정책과) | E43: 도서관 확충 및 운영활성화 | F43: 민자사업정부지급금(BTL)(지특/지원) | G43: 자치단체등자본이전 (자치단체자본보조) | H43: 국비 미교부에 따른 이월 | I43: 275200 | J43: 137600 | K43: 명시이월추가
A44: 추가 | B44: 균형발전기획실 | C44: 기획재정위원회 | D44: DMZ일원의 합리적 보전과 이용 (DMZ정책담당관) | E44: DMZ인프라구축 | F44: 임진각 평화누리 통합개발 추진 (자체/직접) | G44: 시설비및부대비 (시설비) | H44: 임진각 평화누리 관광지 확대기반 조성 | I44: 1432200 | J44: 734966 | K44: 이월액 변경
A45: 추가 | B45: 수자원본부 | C45: 도시환경위원회 | D45: 깨끗하고 안전한 물 환경 개선 (상하수과) | E45: 상하수관리 | F45: 경기도 상수도현황판 및 현황지도 제작보완(자체/직접) | G45: 시설비및부대비 (시설비) | H45: 경기도 상수도현황판 및 현황지도 제작보완 용역 | I45: 20000 | J45: 20000 | K45: ○ 사업기간 : '16.12 ~ '17.3 - 집행시기 미도래 - 예산편성 : '16 당초
A46: 추가 | B46: 농업기술원 | C46: 농정해양위원회 | D46: 농촌지도 인프라 구축 지원 (지도정책과) | E46: 농촌지도기반 지원 | F46: 지역농촌지도사업활성화지원(지특/지원) | G46: 자치단체등자본이전 (자치단체자본보조) | H46: 농촌지도기반시설 | I46: 1051000 | J46: 222000 | K46: ○ 국비미교부 * 예산편성시기 : 당초
A47: 추가 | B47: 농정해양국 | C47: 농정해양위원회 | D47: 환황해권 중심 해양항만 개발 (해양항만정책과) | E47: 해양항만활성화 | F47: 경기만 해역 재생 연구용역(자체/직접) | G47: 자치단체등 이전 (공기관등에대한경상적대행사업비) | H47: 경기만 해역 재생 연구용역 | I47: 300000 | J47: 300000 | K47: 4회추경 편성사업으로 집행시기 미도래
A48: 추가 | B48: 의회사무처 | C48: 의회운영위원회 | D48: 사람중심, 민생중심 의회 (총무담당관) | E48: 기본경비 | F48: 자산취득비 | G48: 자산취득비 (자산및물품취득비) | H48: 공용차량(소형화물) | I48: 20000 | J48: 20000 | K48: ○ 사업기간 부족('16.12 ~ '17.3) - 소형화물차량 인수기간 등 필요(2개월) - 나라장터 계약가능 기간(매년 2월 ~ 11월)
... A50: 추가 | B50: 환경국 | C50: 도시환경위원회 | D50: 폐기물 처리 및 자원재활용 (자원순환과) | E50: 취약지역 환경개선 | F50: 생활폐기물 관리시스템 구축 시범시업(자체/직접) | G50: 일반운영비 (사무관리비) | H50: 생활폐기물 관리시스템 구축 전문가 간담회 및 홍보 등 | I50: 50000 | J50: 50000 | K50: ○ 사업기간 : '16.12 ~ '17.12 - 예산편성 : '16년 4회 추경

Sheet 명시이월(특별회계)
A2: 2016년 4회추경 명시이월 사업조서(특별회계)
K4: (단위:천원)
A5: 구 분 | D5: 예 산 과 목 | H5: 명시이월내용 | I5: 예산액 | J5: 2016년이월액 | K5: 사유
A6: 연번 | B6: 소관실국 | C6: 소관위원회 | D6: 정책사업 | E6: 단위사업 | F6: 세부사업 | G6: 편성목 (통계목)
A7: 1 | B7: 의회사무처 | C7: 의회운영위원회 | D7: 지역균형개발 (균형발전담당관) | E7: 지역균형발전사업 추진 (지역균형발전특별회계) | F7: 지역균형발전사업 육성 (자체/지원) | G7: 자치단체등자본이전 (자치단체자본보조) | H7: 지역균형발전사업 지원 | I7: 45322987 | J7: 15677252 | K7: 이월액 변경

Sheet 계속비조서
A1: 2016년도 4회추경 계속비 사업 조서
A2: * 작성대상 : 2016년 계속비 총사업비(노란색 셀)의 증감이 있는경우(기존 편성된 계속비 집행액 변경은 작성대상 아님) 혹은 2016년 신규로 계속비 사업 들어가는 경우
A3: * 2014년도 이전 집행액과 집행잔액 : 2015년 12.31일 기준 집행액 작성
A4: * 2015년도 집행액과 집행잔액 : 2016년 10.10일 기준 집행액 작성(2015년 이전 예산을 2016년에 집행시 2015년도 집행액에 작성)
M5: (단위:천원)
A6: 사 업 명 | B6: 예산과목 (통계목) | C6: 총사업비 | D6: 전전년도(2014) 이전 | G6: 전년도(2015) | J6: 2016 | K6: 2017 | L6: 2018 이후 | M6: 비 고
D7: 예산액 | E7: 집 행 액 | F7: 집행잔액 | G7: 예산액 | H7: 집행액 | I7: 집행잔액
A8: 합계(11건)
A27: ○ 사 업 명 | B27: (당초=A)
A28: · 위 치 :
A30: · 사업량 :
B31: (변경=B)
A32: · 기 간 :
A34: (소관실국-소관과)
B35: (증감=B-A)
A36: ○ 사 업 명 | B36: (당초=A)
A37: · 위 치 :
A39: · 사업량 :
B40: (변경=B)
A41: · 기 간 :
A43: (소관실국-소관과)
B44: (증감=B-A)
A45: ○ 사 업 명 | B45: (당초=A)
A46: · 위 치 :
A48: · 사업량 :
B49: (변경=B)
A50: · 기 간 :
A52: (소관실국-소관과)
B53: (증감=B-A)
A54: ○ 사 업 명 | B54: (당초=A)
A55: · 위 치 :
A57: · 사업량 :
B58: (변경=B)
A59: · 기 간 :
A61: (소관실국-소관과)
B62: (증감=B-A)
A63: ○ 사 업 명 | B63: (당초=A)
A64: · 위 치 :
A66: · 사업량 :
B67: (변경=B)
...
