Workbook

Sheet 구분표
A2: 실과명 조정 | B2: 위원회명 조정 | C2: 실국명 조정 | E2: 실국명 | F2: 실과명 | G2: 위원회명 | H2: 정렬순서 | I2: 정렬코드
A3: 공보담당관 | B3: 의회운영위원회 | C3: 의회사무처 | E3: 의회사무처 | F3: 공보담당관 | G3: 의회운영위원회 | H3: 1 | I3: 0101
A4: 총무담당관 | B4: 의회운영위원회 | C4: 의회사무처 | E4: 의회사무처 | F4: 총무담당관 | G4: 의회운영위원회 | H4: 2 | I4: 0102
A5: 의정담당관 | B5: 의회운영위원회 | C5: 의회사무처 | E5: 의회사무처 | F5: 의정담당관 | G5: 의회운영위원회 | H5: 3 | I5: 0103
A6: 입법정책담당관 | B6: 의회운영위원회 | C6: 의회사무처 | E6: 의회사무처 | F6: 입법정책담당관 | G6: 의회운영위원회 | H6: 4 | I6: 0104
A7: 예산정책담당관 | B7: 의회운영위원회 | C7: 의회사무처 | E7: 의회사무처 | F7: 예산정책담당관 | G7: 의회운영위원회 | H7: 5 | I7: 0105
A8: 언론협력담당관 | B8: 의회운영위원회 | C8: 대변인 | E8: 대변인 | F8: 언론협력담당관 | G8: 의회운영위원회 | H8: 6 | I8: 0106
A9: 보도기획담당관 | B9: 의회운영위원회 | C9: 대변인 | E9: 대변인 | F9: 보도기획담당관 | G9: 의회운영위원회 | H9: 7 | I9: 0107
A10: 홍보미디어담당관 | B10: 의회운영위원회 | C10: 소통기획관 | E10: 소통기획관 | F10: 홍보미디어담당관 | G10: 의회운영위원회 | H10: 8 | I10: 0108
A11: 홍보콘텐츠담당관 | B11: 의회운영위원회 | C11: 소통기획관 | E11: 소통기획관 | F11: 홍보콘텐츠담당관 | G11: 의회운영위원회 | H11: 9 | I11: 0109
A12: 연정협력과 | B12: 의회운영위원회 | C12: 연정협력국 | E12: 연정협력국 | F12: 연정협력과 | G12: 의회운영위원회 | H12: 10 | I12: 0110
A13: 대외협력과 | B13: 의회운영위원회 | C13: 연정협력국 | E13: 연정협력국 | F13: 대외협력과 | G13: 의회운영위원회 | H13: 11 | I13: 0111
... A215: 도서관정책과 | B215: 여성가족교육협력위원회 | C215: 교육협력국 | E215: 교육협력국 | F215: 도서관정책과 | G215: 여성가족교육협력위원회 | H215: 213 | I215: 0313

Sheet 예결표지(세로)
A5: 2015년도 제2회 일반회계 및 특별회계 추가경정 세입·세출 예산안
A7: 예결위 계수조정 결과
A20: 예산결산특별위원회

Sheet 예결표지(가로)
A3: 2015년도 제2회 일반회계 및 특별회계 추가경정 세입·세출 예산안
A5: 예결위 계수조정 결과
A14: 예산결산특별위원회

Sheet 표지
A6: 예결위 예산안 조정 결과
B8: - 2017년도 일반회계 및 기타특별회계 예산안, 기금운용계획안
A18: 예산결산특별위원회

Sheet 검증
A1: 제4회 추경 일반회계 검증 | H1: 4추 예비비 | J1: 조정액 | K1: =IFERROR(INDEX('17년일출'!AB6:AB925,MATCH("*예비비*",'17년일출'!I6:I925,0)),0) -> -15702412 | L1: 조정잔액 | M1: =I1+K1 -> -15702412
M2: (단위 : 천원)
A3: 구분 | B3: 상 임 위 | H3: 구분 | I3: 예 결 위
B4: 세입 | C4: 검증 | D4: 세출 | E4: 검증 | F4: 차액 | I4: 세입 | J4: 검증 | K4: 세출 | L4: 검증 | M4: 차액
A5: 전체 총계 | B5: =SUM(B6:B13)/2 -> 229821 | C5: =IF(B5=SUM('17년일입'!I6:J6),"OK","@@") -> @@ | D5: =SUM(D6:D13)/2 -> 55116949 | E5: =IF(D5=SUM('17년일출'!K6:L6),"OK","@@") -> @@ | H5: 전체 총계 | I5: =SUM(I6:I13)/2 -> 0 | J5: =IF(I5=SUM('17년일입'!L6:M6),"OK","@@") -> @@ | K5: =SUM(K6:K13)/2 -> 42680031 | L5: =IF(K5=SUM('17년일출'!N6:O6),"OK","@@") -> @@
A6: 자체 계 | B6: =SUM(B7:B8) -> 229821 | C6: =IF(B6='17년일입'!V6,"OK","@@") -> OK | D6: =SUM(D7:D8) -> 50079588 | E6: =IF(D6='17년일출'!W6,"OK","@@") -> OK | H6: 자체 계 | I6: =SUM(I7:I8) -> 0 | J6: =IF(I6='17년일입'!AA6,"OK","@@") -> @@ | K6: =SUM(K7:K8) -> 34729821 | L6: =IF(K6='17년일출'!AB6,"OK","@@") -> OK
A7: 자체 도비 | B7: =SUMIFS('17년일입'!V6:V107,'17년일입'!T6:T107,"도비") -> 229821 | D7: =SUMIFS('17년일출'!$W$6:$W$925,'17년일출'!$U$6:$U$925,"도비") -> 45042227 | H7: 자체 도비 | I7: =SUMIFS('17년일입'!AA6:AA107,'17년일입'!Y6:Y107,"국비") -> 0 | K7: =SUMIFS('17년일출'!$AB$6:$AB$925,'17년일출'!$Z$6:$Z$925,"도비") -> 26779611
A8: 의존 매칭 도비 | B8: =SUMIFS('17년일입'!V6:V107,'17년일입'!T6:T107,"국비")+SUMIFS('17년일입'!V6:V107,'17년일입'!T6:T107,"지특")+SUMIFS('17년일입'!V6:V107,'17년일입'!T6:T107,"기금")+SUMIFS('17년일입'!V6:V107,'17년일입'!T6:T107,"특교") -> 0 | D8: =SUMIFS('17년일출'!$W$6:$W$925,'17년일출'!$U$6:$U$925,"국비")+SUMIFS('17년일출'!$W$6:$W$925,'17년일출'!$U$6:$U$925,"지특")+SUMIFS('17년일출'!$W$6:$W$925,'17년일출'!$U$6:$U$925,"기금")+SUMIFS('17년일출'!$W$6:$W$925,'17년일출'!$U$6:$U$925,"특교") -> 5037361 | H8: 의존 매칭 도비 | I8: =SUMIFS('17년일입'!AA6:AA107,'17년일입'!Y6:Y107,"국비")+SUMIFS('17년일입'!AA6:AA107,'17년일입'!Y6:Y107,"지특")+SUMIFS('17년일입'!AA6:AA107,'17년일입'!Y6:Y107,"기금")+SUMIFS('17년일입'!AA6:AA107,'17년일입'!Y6:Y107,"특교") -> 0 | K8: =SUMIFS('17년일출'!$AB$6:$AB$925,'17년일출'!$Z$6:$Z$925,"국비")+SUMIFS('17년일출'!$AB$6:$AB$925,'17년일출'!$Z$6:$Z$925,"지특")+SUMIFS('17년일출'!$AB$6:$AB$925,'17년일출'!$Z$6:$Z$925,"기금")+SUMIFS('17년일출'!$AB$6:$AB$925,'17년일출'!$Z$6:$Z$925,"특교") -> 7950210
A9: 의존 계 | B9: =SUM(B10:B13) -> 0 | C9: =IF(B9='17년일입'!U6,"OK","@@") -> @@ | D9: =SUM(D10:D13) -> 5037361 | E9: =IF(D9='17년일출'!V6,"OK","@@") -> @@ | F9: =SUM(F10:F13) -> 5037361 | H9: 의존 계 | I9: =SUM(I10:I13) -> 0 | J9: =IF(I9='17년일입'!U6,"OK","@@") -> @@ | K9: =SUM(K10:K13) -> 7950210 | L9: =IF(K9='17년일출'!AA6,"OK","@@") -> @@ | M9: =SUM(M10:M13) -> 7950210
A10: 국비 | B10: =SUMIFS('17년일입'!$V$6:$V$107,'17년일입'!$T$6:$T$107,검증!A10) -> 0 | D10: =SUMIFS('17년일출'!$W$6:$W$925,'17년일출'!$U$6:$U$925,검증!A10) -> 269592 | F10: =D10-B10 -> 269592 | H10: 국비 | I10: =SUMIFS('17년일입'!$AA$6:$AA$107,'17년일입'!$Y$6:$Y$107,검증!H10) -> 0 | K10: =SUMIFS('17년일출'!$AB$6:$AB$925,'17년일출'!$Z$6:$Z$925,검증!H10) -> 4172553 | M10: =K10-I10 -> 4172553
A11: 지특 | B11: =SUMIFS('17년일입'!$V$6:$V$107,'17년일입'!$T$6:$T$107,검증!A11) -> 0 | D11: =SUMIFS('17년일출'!$W$6:$W$925,'17년일출'!$U$6:$U$925,검증!A11) -> 3200000 | F11: =D11-B11 -> 3200000 | H11: 지특 | I11: =SUMIFS('17년일입'!$AA$6:$AA$107,'17년일입'!$Y$6:$Y$107,검증!H11) -> 0 | K11: =SUMIFS('17년일출'!$AB$6:$AB$925,'17년일출'!$Z$6:$Z$925,검증!H11) -> 2201000 | M11: =K11-I11 -> 2201000
A12: 기금 | B12: =SUMIFS('17년일입'!$V$6:$V$107,'17년일입'!$T$6:$T$107,검증!A12) -> 0 | D12: =SUMIFS('17년일출'!$W$6:$W$925,'17년일출'!$U$6:$U$925,검증!A12) -> 1567769 | F12: =D12-B12 -> 1567769 | H12: 기금 | I12: =SUMIFS('17년일입'!$AA$6:$AA$107,'17년일입'!$Y$6:$Y$107,검증!H12) -> 0 | K12: =SUMIFS('17년일출'!$AB$6:$AB$925,'17년일출'!$Z$6:$Z$925,검증!H12) -> 1576657 | M12: =K12-I12 -> 1576657
A13: 특교 | B13: =SUMIFS('17년일입'!$V$6:$V$107,'17년일입'!$T$6:$T$107,검증!A13) -> 0 | D13: =SUMIFS('17년일출'!$W$6:$W$925,'17년일출'!$U$6:$U$925,검증!A13) -> 0 | F13: =D13-B13 -> 0 | H13: 특교 | I13: =SUMIFS('17년일입'!$AA$6:$AA$107,'17년일입'!$Y$6:$Y$107,검증!H13) -> 0 | K13: =SUMIFS('17년일출'!$AB$6:$AB$925,'17년일출'!$Z$6:$Z$925,검증!H13) -> 0 | M13: =K13-I13 -> 0

Sheet 총괄표
A1: 2017년도 일반 및 특별회계 세입·세출 예산안(전체예산총괄)
A3: □ 총 괄 | C3: 세입예산 증감 | D3: =SUM(C7:D7) -> 76118159 | F3: 세출예산증감 | G3: =SUM(F7:G7) -> 76118159
F4: ※ 예비비 증감 | I4: (단위 : 천원)
A5: 구 분 | B5: 집행부제출(안) | C5: 세입예산(안) | F5: 세출예산(안) | I5: 수정예산(안) | K5: ※ 예산안 증감현황
C6: 감 액 | D6: 증 액 | E6: 증감액 | F6: 감 액 | G6: 증 액 | H6: 증감액 | K6: 구 분 | L6: 세입 | M6: 세출 | N6: 예비비 | O6: 비고(???)
A7: 합 계 | B7: =SUM(B8:B17) -> 19594151914 | C7: =SUM(C8:C17) -> -30606193 | D7: =SUM(D8:D17) -> 106724352 | E7: =SUM(E8:E17) -> 76118159 | F7: =SUM(F8:F17) -> -465701779 | G7: =SUM(G8:G17) -> 541819938 | H7: =SUM(H8:H17) -> 76118159 | I7: =SUM(I8:I17) -> 19670270073 | K7: 합 계 | L7: =SUM(L8:L9) -> 76118159 | M7: =SUM(M8:M9) -> 76118159 | N7: =L7-M7 -> 0
A8: 의회운영위원회 | B8: =B31 -> 62112318 | C8: =SUMIFS('17년일입'!L$6:L$107,'17년일입'!$A$6:$A$107,총괄표!$A8)+SUMIFS('17년특입'!L$6:L$16,'17년특입'!$A$6:$A$16,총괄표!$A8) -> 0 | D8: =SUMIFS('17년일입'!M$6:M$107,'17년일입'!$A$6:$A$107,총괄표!$A8)+SUMIFS('17년특입'!M$6:M$16,'17년특입'!$A$6:$A$16,총괄표!$A8) -> 0 | E8: =D8+C8 -> 0 | F8: =SUMIFS('17년일출'!N$6:N$925,'17년일출'!$B$6:$B$925,총괄표!$A8)+SUMIFS('17년특출'!M$6:M$123,'17년특출'!$A$6:$A$123,총괄표!$A8) -> -1533825 | G8: =SUMIFS('17년일출'!O$6:O$925,'17년일출'!$B$6:$B$925,총괄표!$A8)+SUMIFS('17년특출'!N$6:N$123,'17년특출'!$A$6:$A$123,총괄표!$A8) -> 1743503 | H8: =G8+F8 -> 209678 | I8: =B8+F8+G8 -> 62321996 | K8: 일반회계 | L8: =SUM(C24:D24) -> 62124564 | M8: =SUM(F24:G24) -> 62124564 | N8: =L8-M8 -> 0 | O8: 예비비 증감 - 감액, + 증액에 입력
A9: 기획재정위원회 | B9: =B32 -> 3673354850 | C9: =SUMIFS('17년일입'!L$6:L$107,'17년일입'!$A$6:$A$107,총괄표!$A9)+SUMIFS('17년특입'!L$6:L$16,'17년특입'!$A$6:$A$16,총괄표!$A9) -> -5000 | D9: =SUMIFS('17년일입'!M$6:M$107,'17년일입'!$A$6:$A$107,총괄표!$A9)+SUMIFS('17년특입'!M$6:M$16,'17년특입'!$A$6:$A$16,총괄표!$A9) -> 0 | E9: =D9+C9 -> -5000 | F9: =SUMIFS('17년일출'!N$6:N$925,'17년일출'!$B$6:$B$925,총괄표!$A9)+SUMIFS('17년특출'!M$6:M$123,'17년특출'!$A$6:$A$123,총괄표!$A9) -> -16479812 | G9: =SUMIFS('17년일출'!O$6:O$925,'17년일출'!$B$6:$B$925,총괄표!$A9)+SUMIFS('17년특출'!N$6:N$123,'17년특출'!$A$6:$A$123,총괄표!$A9) -> 21860000 | H9: =G9+F9 -> 5380188 | I9: =B9+F9+G9 -> 3678735038 | K9: 특별회계 | L9: =SUM(C25:D25) -> 13993595 | M9: =SUM(F25:G25) -> 13993595 | N9: =L9-M9 -> 0
A10: 경제과학기술위원회 | B10: =B33 -> 531075895 | C10: =SUMIFS('17년일입'!L$6:L$107,'17년일입'!$A$6:$A$107,총괄표!$A10)+SUMIFS('17년특입'!L$6:L$16,'17년특입'!$A$6:$A$16,총괄표!$A10) -> 0 | D10: =SUMIFS('17년일입'!M$6:M$107,'17년일입'!$A$6:$A$107,총괄표!$A10)+SUMIFS('17년특입'!M$6:M$16,'17년특입'!$A$6:$A$16,총괄표!$A10) -> 1624686 | E10: =D10+C10 -> 1624686 | F10: =SUMIFS('17년일출'!N$6:N$925,'17년일출'!$B$6:$B$925,총괄표!$A10)+SUMIFS('17년특출'!M$6:M$123,'17년특출'!$A$6:$A$123,총괄표!$A10) -> -17961965 | G10: =SUMIFS('17년일출'!O$6:O$925,'17년일출'!$B$6:$B$925,총괄표!$A10)+SUMIFS('17년특출'!N$6:N$123,'17년특출'!$A$6:$A$123,총괄표!$A10) -> 19529686 | H10: =G10+F10 -> 1567721 | I10: =B10+F10+G10 -> 532643616
A11: 안전행정위원회 | B11: =B34 -> 2641290086 | C11: =SUMIFS('17년일입'!L$6:L$107,'17년일입'!$A$6:$A$107,총괄표!$A11)+SUMIFS('17년특입'!L$6:L$16,'17년특입'!$A$6:$A$16,총괄표!$A11) -> -25000 | D11: =SUMIFS('17년일입'!M$6:M$107,'17년일입'!$A$6:$A$107,총괄표!$A11)+SUMIFS('17년특입'!M$6:M$16,'17년특입'!$A$6:$A$16,총괄표!$A11) -> 31055000 | E11: =D11+C11 -> 31030000 | F11: =SUMIFS('17년일출'!N$6:N$925,'17년일출'!$B$6:$B$925,총괄표!$A11)+SUMIFS('17년특출'!M$6:M$123,'17년특출'!$A$6:$A$123,총괄표!$A11) -> -319834948 | G11: =SUMIFS('17년일출'!O$6:O$925,'17년일출'!$B$6:$B$925,총괄표!$A11)+SUMIFS('17년특출'!N$6:N$123,'17년특출'!$A$6:$A$123,총괄표!$A11) -> 308310198 | H11: =G11+F11 -> -11524750 | I11: =B11+F11+G11 -> 2629765336
A12: 문화체육관광위원회 | B12: =B35 -> 445335304 | C12: =SUMIFS('17년일입'!L$6:L$107,'17년일입'!$A$6:$A$107,총괄표!$A12)+SUMIFS('17년특입'!L$6:L$16,'17년특입'!$A$6:$A$16,총괄표!$A12) -> -159500 | D12: =SUMIFS('17년일입'!M$6:M$107,'17년일입'!$A$6:$A$107,총괄표!$A12)+SUMIFS('17년특입'!M$6:M$16,'17년특입'!$A$6:$A$16,총괄표!$A12) -> 187190 | E12: =D12+C12 -> 27690 | F12: =SUMIFS('17년일출'!N$6:N$925,'17년일출'!$B$6:$B$925,총괄표!$A12)+SUMIFS('17년특출'!M$6:M$123,'17년특출'!$A$6:$A$123,총괄표!$A12) -> -14181700 | G12: =SUMIFS('17년일출'!O$6:O$925,'17년일출'!$B$6:$B$925,총괄표!$A12)+SUMIFS('17년특출'!N$6:N$123,'17년특출'!$A$6:$A$123,총괄표!$A12) -> 23658835 | H12: =G12+F12 -> 9477135 | I12: =B12+F12+G12 -> 454812439
A13: 농정해양위원회 | B13: =B36 -> 558747860 | C13: =SUMIFS('17년일입'!L$6:L$107,'17년일입'!$A$6:$A$107,총괄표!$A13)+SUMIFS('17년특입'!L$6:L$16,'17년특입'!$A$6:$A$16,총괄표!$A13) -> -2361190 | D13: =SUMIFS('17년일입'!M$6:M$107,'17년일입'!$A$6:$A$107,총괄표!$A13)+SUMIFS('17년특입'!M$6:M$16,'17년특입'!$A$6:$A$16,총괄표!$A13) -> 5815001 | E13: =D13+C13 -> 3453811 | F13: =SUMIFS('17년일출'!N$6:N$925,'17년일출'!$B$6:$B$925,총괄표!$A13)+SUMIFS('17년특출'!M$6:M$123,'17년특출'!$A$6:$A$123,총괄표!$A13) -> -15820671 | G13: =SUMIFS('17년일출'!O$6:O$925,'17년일출'!$B$6:$B$925,총괄표!$A13)+SUMIFS('17년특출'!N$6:N$123,'17년특출'!$A$6:$A$123,총괄표!$A13) -> 20546355 | H13: =G13+F13 -> 4725684 | I13: =B13+F13+G13 -> 563473544
A14: 보건복지위원회 | B14: =B37 -> 4266022077 | C14: =SUMIFS('17년일입'!L$6:L$107,'17년일입'!$A$6:$A$107,총괄표!$A14)+SUMIFS('17년특입'!L$6:L$16,'17년특입'!$A$6:$A$16,총괄표!$A14) -> -2488024 | D14: =SUMIFS('17년일입'!M$6:M$107,'17년일입'!$A$6:$A$107,총괄표!$A14)+SUMIFS('17년특입'!M$6:M$16,'17년특입'!$A$6:$A$16,총괄표!$A14) -> 39305040 | E14: =D14+C14 -> 36817016 | F14: =SUMIFS('17년일출'!N$6:N$925,'17년일출'!$B$6:$B$925,총괄표!$A14)+SUMIFS('17년특출'!M$6:M$123,'17년특출'!$A$6:$A$123,총괄표!$A14) -> -14904410 | G14: =SUMIFS('17년일출'!O$6:O$925,'17년일출'!$B$6:$B$925,총괄표!$A14)+SUMIFS('17년특출'!N$6:N$123,'17년특출'!$A$6:$A$123,총괄표!$A14) -> 60953724 | H14: =G14+F14 -> 46049314 | I14: =B14+F14+G14 -> 4312071391
A15: 건설교통위원회 | B15: =B38 -> 1370751885 | C15: =SUMIFS('17년일입'!L$6:L$107,'17년일입'!$A$6:$A$107,총괄표!$A15)+SUMIFS('17년특입'!L$6:L$16,'17년특입'!$A$6:$A$16,총괄표!$A15) -> 0 | D15: =SUMIFS('17년일입'!M$6:M$107,'17년일입'!$A$6:$A$107,총괄표!$A15)+SUMIFS('17년특입'!M$6:M$16,'17년특입'!$A$6:$A$16,총괄표!$A15) -> 3680000 | E15: =D15+C15 -> 3680000 | F15: =SUMIFS('17년일출'!N$6:N$925,'17년일출'!$B$6:$B$925,총괄표!$A15)+SUMIFS('17년특출'!M$6:M$123,'17년특출'!$A$6:$A$123,총괄표!$A15) -> -28099800 | G15: =SUMIFS('17년일출'!O$6:O$925,'17년일출'!$B$6:$B$925,총괄표!$A15)+SUMIFS('17년특출'!N$6:N$123,'17년특출'!$A$6:$A$123,총괄표!$A15) -> 37881000 | H15: =G15+F15 -> 9781200 | I15: =B15+F15+G15 -> 1380533085
A16: 도시환경위원회 | B16: =B39 -> 1013909638 | C16: =SUMIFS('17년일입'!L$6:L$107,'17년일입'!$A$6:$A$107,총괄표!$A16)+SUMIFS('17년특입'!L$6:L$16,'17년특입'!$A$6:$A$16,총괄표!$A16) -> -1202311 | D16: =SUMIFS('17년일입'!M$6:M$107,'17년일입'!$A$6:$A$107,총괄표!$A16)+SUMIFS('17년특입'!M$6:M$16,'17년특입'!$A$6:$A$16,총괄표!$A16) -> 0 | E16: =D16+C16 -> -1202311 | F16: =SUMIFS('17년일출'!N$6:N$925,'17년일출'!$B$6:$B$925,총괄표!$A16)+SUMIFS('17년특출'!M$6:M$123,'17년특출'!$A$6:$A$123,총괄표!$A16) -> -7026011 | G16: =SUMIFS('17년일출'!O$6:O$925,'17년일출'!$B$6:$B$925,총괄표!$A16)+SUMIFS('17년특출'!N$6:N$123,'17년특출'!$A$6:$A$123,총괄표!$A16) -> 7131000 | H16: =G16+F16 -> 104989 | I16: =B16+F16+G16 -> 1014014627
A17: 여성가족교육협력위원회 | B17: =B40 -> 5031552001 | C17: =SUMIFS('17년일입'!L$6:L$107,'17년일입'!$A$6:$A$107,총괄표!$A17)+SUMIFS('17년특입'!L$6:L$16,'17년특입'!$A$6:$A$16,총괄표!$A17) -> -24365168 | D17: =SUMIFS('17년일입'!M$6:M$107,'17년일입'!$A$6:$A$107,총괄표!$A17)+SUMIFS('17년특입'!M$6:M$16,'17년특입'!$A$6:$A$16,총괄표!$A17) -> 25057435 | E17: =D17+C17 -> 692267 | F17: =SUMIFS('17년일출'!N$6:N$925,'17년일출'!$B$6:$B$925,총괄표!$A17)+SUMIFS('17년특출'!M$6:M$123,'17년특출'!$A$6:$A$123,총괄표!$A17) -> -29858637 | G17: =SUMIFS('17년일출'!O$6:O$925,'17년일출'!$B$6:$B$925,총괄표!$A17)+SUMIFS('17년특출'!N$6:N$123,'17년특출'!$A$6:$A$123,총괄표!$A17) -> 40205637 | H17: =G17+F17 -> 10347000 | I17: =B17+F17+G17 -> 5041899001
A19: □ 회계별 예산 총 규모
I20: (단위 : 천원)
A21: 구 분 | B21: 집행부제출(안) | C21: 세입예산(안) | F21: 세출예산(안) | I21: 수정예산(안) | K21: 세입기준
C22: 감 액 | D22: 증 액 | E22: 증감액 | F22: 감 액 | G22: 증 액 | H22: 증감액 | K22: 수정예산(안) | L22: 세출기준-세입기준
A23: 합 계 | B23: =SUM(B24:B25) -> 19594151914 | C23: =SUM(C24:C25) -> -30606193 | D23: =SUM(D24:D25) -> 106724352 | E23: =SUM(E24:E25) -> 76118159 | F23: =SUM(F24:F25) -> -465701779 | G23: =SUM(G24:G25) -> 541819938 | H23: =SUM(H24:H25) -> 76118159 | I23: =SUM(I24:I25) -> 19670270073 | K23: =SUM(K24:K25) -> 19670270073 | L23: =I23-K23 -> 0
A24: 일반회계 | B24: =D30 -> 16913644406 | C24: ='17년일입'!L6 -> -30581193 | D24: ='17년일입'!M6 -> 92705757 | E24: =D24+C24 -> 62124564 | F24: ='17년일출'!N6 -> -156618923 | G24: ='17년일출'!O6 -> 218743487 | H24: =G24+F24 -> 62124564 | I24: =B24+F24+G24 -> 16975768970 | K24: =B24+C24+D24 -> 16975768970 | L24: =I24-K24 -> 0
A25: 특별회계 | B25: =E30+F30 -> 2680507508 | C25: ='17년특입'!L6 -> -25000 | D25: ='17년특입'!M6 -> 14018595 | E25: =D25+C25 -> 13993595 | F25: ='17년특출'!M6 -> -309082856 | G25: ='17년특출'!N6 -> 323076451 | H25: =G25+F25 -> 13993595 | I25: =B25+F25+G25 -> 2694501103 | K25: =B25+C25+D25 -> 2694501103 | L25: =I25-K25 -> 0
A28: ※ 회계별, 위원회별 집행부제출안(상임위에서 작성)
A29: 위원회명 | B29: 합계 | C29: 일반+기타 | D29: 일반회계 | E29: 기타특별회계 | F29: 공기업특별회계
A30: 합계 | B30: =SUM(B31:B40) -> 19594151914 | C30: =SUM(C31:C40) -> 17278110280 | D30: =SUM(D31:D40) -> 16913644406 | E30: =SUM(E31:E40) -> 2316041634 | F30: =SUM(F31:F40) -> 364465874
A31: 의회운영위원회 | B31: =SUM(D31:G31) -> 62112318 | C31: =D31+F31 -> 62112318 | D31: 62112318
A32: 기획재정위원회 | B32: =SUM(D32:G32) -> 3673354850 | C32: =D32+F32 -> 3621944850 | D32: 3621944850 | E32: 51410000
A33: 경제과학기술위원회 | B33: =SUM(D33:G33) -> 531075895 | C33: =D33+F33 -> 531075895 | D33: 311459051 | F33: 219616844
A34: 안전행정위원회 | B34: =SUM(D34:G34) -> 2641290086 | C34: =D34+F34 -> 1496383748 | D34: 1496383748 | E34: 1144906338
A35: 문화체육관광위원회 | B35: =SUM(D35:G35) -> 445335304 | C35: =D35+F35 -> 445335304 | D35: 319486274 | F35: 125849030
A36: 농정해양위원회 | B36: =SUM(D36:G36) -> 558747860 | C36: =D36+F36 -> 558747860 | D36: 558747860
A37: 보건복지위원회 | B37: =SUM(D37:G37) -> 4266022077 | C37: =D37+F37 -> 3324744279 | D37: 3324744279 | E37: 941277798
A38: 건설교통위원회 | B38: =SUM(D38:G38) -> 1370751885 | C38: =D38+F38 -> 1249182545 | D38: 1249182545 | E38: 121569340
A39: 도시환경위원회 | B39: =SUM(D39:G39) -> 1013909638 | C39: =D39+F39 -> 992531480 | D39: 973531480 | E39: 21378158 | F39: 19000000
A40: 여성가족교육협력위원회 | B40: =SUM(D40:G40) -> 5031552001 | C40: =D40+F40 -> 4996052001 | D40: =2025251432+722845262+2247955307 -> 4996052001 | E40: 35500000
A42: 예비비

Sheet 17년일입
A1: 2017년도 경기도 일반회계 세입 예산 조정(안)
A2: □ 세입예산 | N2: =N6-H6 -> 62124564 | U2: 세입=세출 | Z2: 세입=세출
P3: (단위 : 천원) | U3: =IF(U6='17년일출'!V6,"OK","@@") -> OK | W3: =IF(COUNTIF(W6:W107,"검토")>0,"@@","OK") -> OK | Z3: =IF(Z6='17년일출'!AA6,"OK","@@") -> OK | AA3: =L6+M6-Z6-AA6 -> 0 | AB3: =IF(COUNTIF(AB6:AB107,"검토")>0,"@@","OK") -> OK
A4: 위원회명 | B4: 실국명 | C4: 부서명 | D4: 편성 구분 | E4: 예산안 페이지 | F4: 사업설명서페이지 | G4: 목명 및 부기명 | H4: 예산안 (가) | I4: 상임위 예산안 조정액(나) | K4: 상임위 조정 예산안 (다=가+나) | L4: 예결위 예산안 조정액(라) | N4: 예결위 조정 예산안 (마=가+라) | O4: 동의 대상 | P4: 비고 (부대의견) | R4: 국도비 등 여부 | T4: 재원 | U4: 상임위 재원별 증감액 | Y4: 재원 | Z4: 예결위 재원별 증감액 | AD4: 세입번호 | AF4: 실국부서 코드 | AH4: 추가 내시 등 | AJ4: 상임위 세입 검증 | AN4: 예결위 세입 검증
I5: 감액 | J5: 증액 | L5: 감액 | M5: 증액 | U5: 국비 등 | V5: 도비 | W5: 검증 | Z5: 국비 등 | AA5: 도비 | AB5: 검증 | AJ5: 국비 증감액 | AK5: 건수 | AL5: 검증 | AN5: 국비 증감액 | AO5: 건수 | AP5: 검증
A6: 합 계 | H6: =SUBTOTAL(9,H7:H107) -> 1271951530 | I6: =SUBTOTAL(9,I7:I107) -> -5846418 | J6: =SUBTOTAL(9,J7:J107) -> 12242894 | K6: =SUBTOTAL(9,K7:K107) -> 1278348006 | L6: =SUBTOTAL(9,L7:L107) -> -30581193 | M6: =SUBTOTAL(9,M7:M107) -> 92705757 | N6: =SUBTOTAL(9,N7:N107) -> 1334076094 | U6: =SUBTOTAL(9,U7:U107) -> 6166655 | V6: =SUBTOTAL(9,V7:V107) -> 229821 | W6: =IF(SUM($I6:$J6)=SUM($U6:$V6),"OK","검토") -> OK | Z6: =SUBTOTAL(9,Z7:Z107) -> 27394743 | AA6: =SUBTOTAL(9,AA7:AA107) -> 34729821 | AB6: =IF(SUM($I6:$J6)=SUM($U6:$V6),"OK","검토") -> OK | AJ6: =SUBTOTAL(9,AJ7:AJ107) -> 6166655 | AK6: =SUBTOTAL(9,AK7:AK107) -> 1605 | AL6: =IF(COUNTIF(AL7:AL107,"@@")>0,"@@","OK") -> @@ | AN6: =SUBTOTAL(9,AN7:AN107) -> 27394743 | AO6: =SUBTOTAL(9,AO7:AO107) -> 1605 | AP6: =IF(COUNTIF(AP7:AP107,"@@")>0,"@@","OK") -> @@
A7: =IFERROR(VLOOKUP($C7,구분표!$A$2:$C$313,2,FALSE),"") -> 경제과학기술위원회 | B7: =IFERROR(VLOOKUP($C7,구분표!$A$2:$C$313,3,FALSE),"") -> 경제실 | C7: 에너지과 | D7: 신규 | F7: 17 | G7: 국고보조금 - 베란다형태양광 보급지원사업 | J7: 298686 | K7: =SUM(H7:J7) -> 298686 | M7: 298686 | N7: =SUM(H7,L7,M7) -> 298686 | O7: =IF(AND((K7=0),(N7>0)),"O",IF(AND((I7<0),(K7-N7<0)),"O","X")) -> X | P7: 국비내시 | R7: 국도비 | T7: 국비 | U7: 298686 | V7: 0 | W7: =IF(SUM($I7:$J7)=SUM($U7:$V7),"OK","검토") -> OK | Y7: 국비 | Z7: 298686 | AA7: 0 | AB7: =IF(SUM(L7:M7)=SUM(Z7:AA7),"OK","검토") -> OK | AD7: =IF(AF7="","",IF(T7="도비","세입없음",CONCATENATE(AF7,"-",COUNTIF($AF$7:AF7,AF7)))) -> 0139-1 | AF7: {=IF(C7="","",INDEX(구분표!$I$2:$I$313, MATCH(1,(구분표!$E$2:$E$313='17년일입'!B7)*(구분표!$F$2:$F$313='17년일입'!C7)*(구분표!$G$2:$G$313='17년일입'!A7),0)))} -> 0139 | AJ7: =IF(AD7="",0,SUMIFS('17년일출'!$V$6:$V$925,'17년일출'!$AE$6:$AE$925,'17년일입'!$AD7)) -> 298686 | AK7: =IF(AD7="","",COUNTIFS('17년일출'!$AE$6:$AE$925,'17년일입'!AD7)) -> 2 | AL7: =IF(U7=AJ7,"OK","@@") -> OK | AN7: =IF(AD7="",0,SUMIFS('17년일출'!$AA$6:$AA$925,'17년일출'!$AE$6:$AE$925,'17년일입'!$AD7)) -> 298686 | AO7: =IF(AD7="","",COUNTIFS('17년일출'!$AE$6:$AE$925,AD7)) -> 2 | AP7: =IF(Z7=AN7,"OK","@@") -> OK
A8: 경제과학기술위원회 | B8: =IFERROR(VLOOKUP($C8,구분표!$A$2:$C$313,3,FALSE),"") -> 따복공동체지원단 | C8: 따복공동체지원단 | D8: 본예산 | E8: 229 | F8: 7 | G8: 국고보조금 - 사회개발비 등 사회적기업 육성 | H8: 1794000 | J8: 325000 | K8: =SUM(H8:J8) -> 2119000 | M8: 325000 | N8: =SUM(H8,L8,M8) -> 2119000 | O8: =IF(AND((K8=0),(N8>0)),"O",IF(AND((I8<0),(K8-N8<0)),"O","X")) -> X | P8: 국비내시 | R8: 국도비 | T8: 국비 | U8: 325000 | V8: 0 | W8: =IF(SUM($I8:$J8)=SUM($U8:$V8),"OK","검토") -> OK | Y8: 국비 | Z8: 325000 | AA8: 0 | AB8: =IF(SUM(L8:M8)=SUM(Z8:AA8),"OK","검토") -> OK | AD8: =IF(AF8="","",IF(T8="도비","세입없음",CONCATENATE(AF8,"-",COUNTIF($AF$7:AF8,AF8)))) -> 0149-1 | AF8: {=IF(C8="","",INDEX(구분표!$I$2:$I$313, MATCH(1,(구분표!$E$2:$E$313='17년일입'!B8)*(구분표!$F$2:$F$313='17년일입'!C8)*(구분표!$G$2:$G$313='17년일입'!A8),0)))} -> 0149 | AJ8: =IF(AD8="",0,SUMIFS('17년일출'!$V$6:$V$925,'17년일출'!$AE$6:$AE$925,'17년일입'!$AD8)) -> 325000 | AK8: =IF(AD8="","",COUNTIFS('17년일출'!$AE$6:$AE$925,'17년일입'!AD8)) -> 2 | AL8: =IF(U8=AJ8,"OK","@@") -> OK | AN8: =IF(AD8="",0,SUMIFS('17년일출'!$AA$6:$AA$925,'17년일출'!$AE$6:$AE$925,'17년일입'!$AD8)) -> 325000 | AO8: =IF(AD8="","",COUNTIFS('17년일출'!$AE$6:$AE$925,AD8)) -> 2 | AP8: =IF(Z8=AN8,"OK","@@") -> OK
A9: =IFERROR(VLOOKUP($C9,구분표!$A$2:$C$313,2,FALSE),"") -> 안전행정위원회 | B9: =IFERROR(VLOOKUP($C9,구분표!$A$2:$C$313,3,FALSE),"") -> 자치행정국 | C9: 총무과 | D9: 신규 | G9: 기타사용료 - 굿모닝하우스 게스트하우스 숙박료 수입 | H9: 0 | J9: 55000 | K9: =SUM(H9:J9) -> 55000 | M9: 55000 | N9: =SUM(H9,L9,M9) -> 55000 | O9: =IF(AND((K9=0),(N9>0)),"O",IF(AND((I9<0),(K9-N9<0)),"O","X")) -> X | R9: 도비 | T9: 도비 | U9: 0 | V9: 55000 | W9: =IF(SUM($I9:$J9)=SUM($U9:$V9),"OK","검토") -> OK | Y9: 도비 | Z9: 0 | AA9: 55000 | AB9: =IF(SUM(L9:M9)=SUM(Z9:AA9),"OK","검토") -> OK | AF9: {=IF(C9="","",INDEX(구분표!$I$2:$I$313, MATCH(1,(구분표!$E$2:$E$313='17년일입'!B9)*(구분표!$F$2:$F$313='17년일입'!C9)*(구분표!$G$2:$G$313='17년일입'!A9),0)))} -> 0150 | AJ9: =IF(AD9="",0,SUMIFS('17년일출'!$V$6:$V$925,'17년일출'!$AE$6:$AE$925,'17년일입'!$AD9)) -> 0 | AK9: =IF(AD9="","",COUNTIFS('17년일출'!$AE$6:$AE$925,'17년일입'!AD9)) | AL9: =IF(U9=AJ9,"OK","@@") -> OK | AN9: =IF(AD9="",0,SUMIFS('17년일출'!$AA$6:$AA$925,'17년일출'!$AE$6:$AE$925,'17년일입'!$AD9)) -> 0 | AO9: =IF(AD9="","",COUNTIFS('17년일출'!$AE$6:$AE$925,AD9)) | AP9: =IF(Z9=AN9,"OK","@@") -> OK
A10: =IFERROR(VLOOKUP($C10,구분표!$A$2:$C$313,2,FALSE),"") -> 문화체육관광위원회 | B10: =IFERROR(VLOOKUP($C10,구분표!$A$2:$C$313,3,FALSE),"") -> 문화체육관광국 | C10: 문화유산과 | D10: 본예산 | E10: 557 | F10: - | G10: 국고보조금 - 세계유산 활용 및 홍보사업(남한산성) | H10: 100000 | I10: -100000 | K10: =SUM(H10:J10) -> 0 | L10: -100000 | N10: =SUM(H10,L10,M10) -> 0 | O10: =IF(AND((K10=0),(N10>0)),"O",IF(AND((I10<0),(K10-N10<0)),"O","X")) -> X | P10: 부서신설 예산이체 | R10: 국도비 | T10: 국비 | U10: -100000 | V10: 0 | W10: =IF(SUM($I10:$J10)=SUM($U10:$V10),"OK","검토") -> OK | Y10: 국비 | Z10: -100000 | AA10: 0 | AB10: =IF(SUM(L10:M10)=SUM(Z10:AA10),"OK","검토") -> OK | AD10: =IF(AF10="","",IF(T10="도비","세입없음",CONCATENATE(AF10,"-",COUNTIF($AF$7:AF10,AF10)))) -> 0215-1 | AF10: {=IF(C10="","",INDEX(구분표!$I$2:$I$313, MATCH(1,(구분표!$E$2:$E$313='17년일입'!B10)*(구분표!$F$2:$F$313='17년일입'!C10)*(구분표!$G$2:$G$313='17년일입'!A10),0)))} -> 0215 | AJ10: =IF(AD10="",0,SUMIFS('17년일출'!$V$6:$V$925,'17년일출'!$AE$6:$AE$925,'17년일입'!$AD10)) -> 0 | AK10: =IF(AD10="","",COUNTIFS('17년일출'!$AE$6:$AE$925,'17년일입'!AD10)) -> 0 | AL10: =IF(U10=AJ10,"OK","@@") -> @@ | AN10: =IF(AD10="",0,SUMIFS('17년일출'!$AA$6:$AA$925,'17년일출'!$AE$6:$AE$925,'17년일입'!$AD10)) -> 0 | AO10: =IF(AD10="","",COUNTIFS('17년일출'!$AE$6:$AE$925,AD10)) -> 0 | AP10: =IF(Z10=AN10,"OK","@@") -> @@
A11: =IFERROR(VLOOKUP($C11,구분표!$A$2:$C$313,2,FALSE),"") -> 문화체육관광위원회 | B11: =IFERROR(VLOOKUP($C11,구분표!$A$2:$C$313,3,FALSE),"") -> 문화체육관광국 | C11: 남한산성세계유산센터 | D11: 본예산 | E11: 557 | F11: - | G11: 국고보조금 - 세계유산 활용 및 홍보사업(남한산성) | J11: 100000 | K11: =SUM(H11:J11) -> 100000 | M11: 100000 | N11: =SUM(H11,L11,M11) -> 100000 | O11: =IF(AND((K11=0),(N11>0)),"O",IF(AND((I11<0),(K11-N11<0)),"O","X")) -> X | P11: 부서신설 예산이체 | R11: 국도비 | T11: 국비 | U11: 100000 | V11: 0 | W11: =IF(SUM($I11:$J11)=SUM($U11:$V11),"OK","검토") -> OK | Y11: 국비 | Z11: 100000 | AA11: 0 | AB11: =IF(SUM(L11:M11)=SUM(Z11:AA11),"OK","검토") -> OK | AD11: =IF(AF11="","",IF(T11="도비","세입없음",CONCATENATE(AF11,"-",COUNTIF($AF$7:AF11,AF11)))) -> 0219-1 | AF11: {=IF(C11="","",INDEX(구분표!$I$2:$I$313, MATCH(1,(구분표!$E$2:$E$313='17년일입'!B11)*(구분표!$F$2:$F$313='17년일입'!C11)*(구분표!$G$2:$G$313='17년일입'!A11),0)))} -> 0219 | AJ11: =IF(AD11="",0,SUMIFS('17년일출'!$V$6:$V$925,'17년일출'!$AE$6:$AE$925,'17년일입'!$AD11)) -> 0 | AK11: =IF(AD11="","",COUNTIFS('17년일출'!$AE$6:$AE$925,'17년일입'!AD11)) -> 0 | AL11: =IF(U11=AJ11,"OK","@@") -> @@ | AN11: =IF(AD11="",0,SUMIFS('17년일출'!$AA$6:$AA$925,'17년일출'!$AE$6:$AE$925,'17년일입'!$AD11)) -> 0 | AO11: =IF(AD11="","",COUNTIFS('17년일출'!$AE$6:$AE$925,AD11)) -> 0 | AP11: =IF(Z11=AN11,"OK","@@") -> @@
A12: =IFERROR(VLOOKUP($C12,구분표!$A$2:$C$313,2,FALSE),"") -> 문화체육관광위원회 | B12: =IFERROR(VLOOKUP($C12,구분표!$A$2:$C$313,3,FALSE),"") -> 문화체육관광국 | C12: 문화유산과 | D12: 본예산 | E12: 557 | F12: 56 | G12: 기금 - 문화재 방지시설 유지관리 지원 | H12: 170884 | I12: -24500 | K12: =SUM(H12:J12) -> 146384 | L12: -24500 | N12: =SUM(H12,L12,M12) -> 146384 | O12: =IF(AND((K12=0),(N12>0)),"O",IF(AND((I12<0),(K12-N12<0)),"O","X")) -> X | P12: 부서신설 예산이체 | R12: 국도비 | T12: 기금 | U12: -24500 | V12: 0 | W12: =IF(SUM($I12:$J12)=SUM($U12:$V12),"OK","검토") -> OK | Y12: 기금 | Z12: -24500 | AA12: 0 | AB12: =IF(SUM(L12:M12)=SUM(Z12:AA12),"OK","검토") -> OK | AD12: =IF(AF12="","",IF(T12="도비","세입없음",CONCATENATE(AF12,"-",COUNTIF($AF$7:AF12,AF12)))) -> 0215-2 | AF12: {=IF(C12="","",INDEX(구분표!$I$2:$I$313, MATCH(1,(구분표!$E$2:$E$313='17년일입'!B12)*(구분표!$F$2:$F$313='17년일입'!C12)*(구분표!$G$2:$G$313='17년일입'!A12),0)))} -> 0215 | AJ12: =IF(AD12="",0,SUMIFS('17년일출'!$V$6:$V$925,'17년일출'!$AE$6:$AE$925,'17년일입'!$AD12)) -> 0 | AK12: =IF(AD12="","",COUNTIFS('17년일출'!$AE$6:$AE$925,'17년일입'!AD12)) -> 0 | AL12: =IF(U12=AJ12,"OK","@@") -> @@ | AN12: =IF(AD12="",0,SUMIFS('17년일출'!$AA$6:$AA$925,'17년일출'!$AE$6:$AE$925,'17년일입'!$AD12)) -> 0 | AO12: =IF(AD12="","",COUNTIFS('17년일출'!$AE$6:$AE$925,AD12)) -> 0 | AP12: =IF(Z12=AN12,"OK","@@") -> @@
A13: =IFERROR(VLOOKUP($C13,구분표!$A$2:$C$313,2,FALSE),"") -> 문화체육관광위원회 | B13: =IFERROR(VLOOKUP($C13,구분표!$A$2:$C$313,3,FALSE),"") -> 문화체육관광국 | C13: 남한산성세계유산센터 | D13: 본예산 | E13: 557 | F13: 56 | G13: 기금 - 문화재 방지시설 유지관리 지원 | J13: 24500 | K13: =SUM(H13:J13) -> 24500 | M13: 24500 | N13: =SUM(H13,L13,M13) -> 24500 | O13: =IF(AND((K13=0),(N13>0)),"O",IF(AND((I13<0),(K13-N13<0)),"O","X")) -> X | P13: 부서신설 예산이체 | R13: 국도비 | T13: 기금 | U13: 24500 | V13: 0 | W13: =IF(SUM($I13:$J13)=SUM($U13:$V13),"OK","검토") -> OK | Y13: 기금 | Z13: 24500 | AA13: 0 | AB13: =IF(SUM(L13:M13)=SUM(Z13:AA13),"OK","검토") -> OK | AD13: =IF(AF13="","",IF(T13="도비","세입없음",CONCATENATE(AF13,"-",COUNTIF($AF$7:AF13,AF13)))) -> 0219-2 | AF13: {=IF(C13="","",INDEX(구분표!$I$2:$I$313, MATCH(1,(구분표!$E$2:$E$313='17년일입'!B13)*(구분표!$F$2:$F$313='17년일입'!C13)*(구분표!$G$2:$G$313='17년일입'!A13),0)))} -> 0219 | AJ13: =IF(AD13="",0,SUMIFS('17년일출'!$V$6:$V$925,'17년일출'!$AE$6:$AE$925,'17년일입'!$AD13)) -> 0 | AK13: =IF(AD13="","",COUNTIFS('17년일출'!$AE$6:$AE$925,'17년일입'!AD13)) -> 3 | AL13: =IF(U13=AJ13,"OK","@@") -> @@ | AN13: =IF(AD13="",0,SUMIFS('17년일출'!$AA$6:$AA$925,'17년일출'!$AE$6:$AE$925,'17년일입'!$AD13)) -> 0 | AO13: =IF(AD13="","",COUNTIFS('17년일출'!$AE$6:$AE$925,AD13)) -> 3 | AP13: =IF(Z13=AN13,"OK","@@") -> @@
A14: =IFERROR(VLOOKUP($C14,구분표!$A$2:$C$313,2,FALSE),"") -> 문화체육관광위원회 | B14: =IFERROR(VLOOKUP($C14,구분표!$A$2:$C$313,3,FALSE),"") -> 문화체육관광국 | C14: 관광과 | D14: 본예산 | E14: 558 | F14: 73 | G14: 기금 - 문화관광해설사 육성 | H14: 600000 | I14: -35000 | K14: =SUM(H14:J14) -> 565000 | L14: -35000 | N14: =SUM(H14,L14,M14) -> 565000 | O14: =IF(AND((K14=0),(N14>0)),"O",IF(AND((I14<0),(K14-N14<0)),"O","X")) -> X | P14: 국비내시 | R14: 국도비 | T14: 기금 | U14: -35000 | V14: 0 | W14: =IF(SUM($I14:$J14)=SUM($U14:$V14),"OK","검토") -> OK | Y14: 기금 | Z14: -35000 | AA14: 0 | AB14: =IF(SUM(L14:M14)=SUM(Z14:AA14),"OK","검토") -> OK | AD14: =IF(AF14="","",IF(T14="도비","세입없음",CONCATENATE(AF14,"-",COUNTIF($AF$7:AF14,AF14)))) -> 0217-1 | AF14: {=IF(C14="","",INDEX(구분표!$I$2:$I$313, MATCH(1,(구분표!$E$2:$E$313='17년일입'!B14)*(구분표!$F$2:$F$313='17년일입'!C14)*(구분표!$G$2:$G$313='17년일입'!A14),0)))} -> 0217 | AJ14: =IF(AD14="",0,SUMIFS('17년일출'!$V$6:$V$925,'17년일출'!$AE$6:$AE$925,'17년일입'!$AD14)) -> -35000 | AK14: =IF(AD14="","",COUNTIFS('17년일출'!$AE$6:$AE$925,'17년일입'!AD14)) -> 1 | AL14: =IF(U14=AJ14,"OK","@@") -> OK | AN14: =IF(AD14="",0,SUMIFS('17년일출'!$AA$6:$AA$925,'17년일출'!$AE$6:$AE$925,'17년일입'!$AD14)) -> -35000 | AO14: =IF(AD14="","",COUNTIFS('17년일출'!$AE$6:$AE$925,AD14)) -> 1 | AP14: =IF(Z14=AN14,"OK","@@") -> OK
A15: =IFERROR(VLOOKUP($C15,구분표!$A$2:$C$313,2,FALSE),"") -> 농정해양위원회 | B15: =IFERROR(VLOOKUP($C15,구분표!$A$2:$C$313,3,FALSE),"") -> 농정해양국 | C15: 농업정책과 | D15: 본예산 | E15: 611 | F15: 4 | G15: 국고보조금 - 농촌재능나눔 활성화 지원(자치단체) | H15: 50000 | I15: -25000 | K15: =SUM(H15:J15) -> 25000 | L15: -25000 | N15: =SUM(H15,L15,M15) -> 25000 | O15: =IF(AND((K15=0),(N15>0)),"O",IF(AND((I15<0),(K15-N15<0)),"O","X")) -> X | P15: 국비내시 | R15: 국도비 | T15: 국비 | U15: -25000 | V15: 0 | W15: =IF(SUM($I15:$J15)=SUM($U15:$V15),"OK","검토") -> OK | Y15: 국비 | Z15: -25000 | AA15: 0 | AB15: =IF(SUM(L15:M15)=SUM(Z15:AA15),"OK","검토") -> OK | AD15: =IF(AF15="","",IF(T15="도비","세입없음",CONCATENATE(AF15,"-",COUNTIF($AF$7:AF15,AF15)))) -> 0220-1 | AF15: {=IF(C15="","",INDEX(구분표!$I$2:$I$313, MATCH(1,(구분표!$E$2:$E$313='17년일입'!B15)*(구분표!$F$2:$F$313='17년일입'!C15)*(구분표!$G$2:$G$313='17년일입'!A15),0)))} -> 0220 | AJ15: =IF(AD15="",0,SUMIFS('17년일출'!$V$6:$V$925,'17년일출'!$AE$6:$AE$925,'17년일입'!$AD15)) -> -25000 | AK15: =IF(AD15="","",COUNTIFS('17년일출'!$AE$6:$AE$925,'17년일입'!AD15)) -> 1 | AL15: =IF(U15=AJ15,"OK","@@") -> OK | AN15: =IF(AD15="",0,SUMIFS('17년일출'!$AA$6:$AA$925,'17년일출'!$AE$6:$AE$925,'17년일입'!$AD15)) -> -25000 | AO15: =IF(AD15="","",COUNTIFS('17년일출'!$AE$6:$AE$925,AD15)) -> 1 | AP15: =IF(Z15=AN15,"OK","@@") -> OK
A16: =IFERROR(VLOOKUP($C16,구분표!$A$2:$C$313,2,FALSE),"") -> 농정해양위원회 | B16: =IFERROR(VLOOKUP($C16,구분표!$A$2:$C$313,3,FALSE),"") -> 농정해양국 | C16: 친환경농업과 | D16: 본예산 | E16: 614 | F16: 11 | G16: 기금 - 과수생산시설현대화 지원 | H16: 510000 | I16: -41000 | K16: =SUM(H16:J16) -> 469000 | L16: -41000 | N16: =SUM(H16,L16,M16) -> 469000 | O16: =IF(AND((K16=0),(N16>0)),"O",IF(AND((I16<0),(K16-N16<0)),"O","X")) -> X | P16: 국비내시 | R16: 국도비 | T16: 기금 | U16: -41000 | V16: 0 | W16: =IF(SUM($I16:$J16)=SUM($U16:$V16),"OK","검토") -> OK | Y16: 기금 | Z16: -41000 | AA16: 0 | AB16: =IF(SUM(L16:M16)=SUM(Z16:AA16),"OK","검토") -> OK | AD16: =IF(AF16="","",IF(T16="도비","세입없음",CONCATENATE(AF16,"-",COUNTIF($AF$7:AF16,AF16)))) -> 0223-1 | AF16: {=IF(C16="","",INDEX(구분표!$I$2:$I$313, MATCH(1,(구분표!$E$2:$E$313='17년일입'!B16)*(구분표!$F$2:$F$313='17년일입'!C16)*(구분표!$G$2:$G$313='17년일입'!A16),0)))} -> 0223 | AJ16: =IF(AD16="",0,SUMIFS('17년일출'!$V$6:$V$925,'17년일출'!$AE$6:$AE$925,'17년일입'!$AD16)) -> -41000 | AK16: =IF(AD16="","",COUNTIFS('17년일출'!$AE$6:$AE$925,'17년일입'!AD16)) -> 1 | AL16: =IF(U16=AJ16,"OK","@@") -> OK | AN16: =IF(AD16="",0,SUMIFS('17년일출'!$AA$6:$AA$925,'17년일출'!$AE$6:$AE$925,'17년일입'!$AD16)) -> -41000 | AO16: =IF(AD16="","",COUNTIFS('17년일출'!$AE$6:$AE$925,AD16)) -> 1 | AP16: =IF(Z16=AN16,"OK","@@") -> OK
A17: =IFERROR(VLOOKUP($C17,구분표!$A$2:$C$313,2,FALSE),"") -> 농정해양위원회 | B17: =IFERROR(VLOOKUP($C17,구분표!$A$2:$C$313,3,FALSE),"") -> 농정해양국 | C17: 친환경농업과 | D17: 본예산 | E17: 614 | F17: 11 | G17: 기금 - 과수ICT분야 시설보조 | H17: 14000 | I17: -2000 | K17: =SUM(H17:J17) -> 12000 | L17: -2000 | N17: =SUM(H17,L17,M17) -> 12000 | O17: =IF(AND((K17=0),(N17>0)),"O",IF(AND((I17<0),(K17-N17<0)),"O","X")) -> X | P17: 국비내시 | R17: 국도비 | T17: 기금 | U17: -2000 | V17: 0 | W17: =IF(SUM($I17:$J17)=SUM($U17:$V17),"OK","검토") -> OK | Y17: 기금 | Z17: -2000 | AA17: 0 | AB17: =IF(SUM(L17:M17)=SUM(Z17:AA17),"OK","검토") -> OK | AD17: =IF(AF17="","",IF(T17="도비","세입없음",CONCATENATE(AF17,"-",COUNTIF($AF$7:AF17,AF17)))) -> 0223-2 | AF17: {=IF(C17="","",INDEX(구분표!$I$2:$I$313, MATCH(1,(구분표!$E$2:$E$313='17년일입'!B17)*(구분표!$F$2:$F$313='17년일입'!C17)*(구분표!$G$2:$G$313='17년일입'!A17),0)))} -> 0223 | AJ17: =IF(AD17="",0,SUMIFS('17년일출'!$V$6:$V$925,'17년일출'!$AE$6:$AE$925,'17년일입'!$AD17)) -> -2000 | AK17: =IF(AD17="","",COUNTIFS('17년일출'!$AE$6:$AE$925,'17년일입'!AD17)) -> 1 | AL17: =IF(U17=AJ17,"OK","@@") -> OK | AN17: =IF(AD17="",0,SUMIFS('17년일출'!$AA$6:$AA$925,'17년일출'!$AE$6:$AE$925,'17년일입'!$AD17)) -> -2000 | AO17: =IF(AD17="","",COUNTIFS('17년일출'!$AE$6:$AE$925,AD17)) -> 1 | AP17: =IF(Z17=AN17,"OK","@@") -> OK
A18: =IFERROR(VLOOKUP($C18,구분표!$A$2:$C$313,2,FALSE),"") -> 농정해양위원회 | B18: =IFERROR(VLOOKUP($C18,구분표!$A$2:$C$313,3,FALSE),"") -> 농정해양국 | C18: 친환경농업과 | D18: 신규 | G18: 기금 - FTA폐업지원제 | J18: 1811994 | K18: =SUM(H18:J18) -> 1811994 | M18: 1811994 | N18: =SUM(H18,L18,M18) -> 1811994 | O18: =IF(AND((K18=0),(N18>0)),"O",IF(AND((I18<0),(K18-N18<0)),"O","X")) -> X | P18: 국비내시 | R18: 국도비 | T18: 기금 | U18: 1811994 | V18: 0 | W18: =IF(SUM($I18:$J18)=SUM($U18:$V18),"OK","검토") -> OK | Y18: 기금 | Z18: 1811994 | AA18: 0 | AB18: =IF(SUM(L18:M18)=SUM(Z18:AA18),"OK","검토") -> OK | AD18: =IF(AF18="","",IF(T18="도비","세입없음",CONCATENATE(AF18,"-",COUNTIF($AF$7:AF18,AF18)))) -> 0223-3 | AF18: {=IF(C18="","",INDEX(구분표!$I$2:$I$313, MATCH(1,(구분표!$E$2:$E$313='17년일입'!B18)*(구분표!$F$2:$F$313='17년일입'!C18)*(구분표!$G$2:$G$313='17년일입'!A18),0)))} -> 0223 | AJ18: =IF(AD18="",0,SUMIFS('17년일출'!$V$6:$V$925,'17년일출'!$AE$6:$AE$925,'17년일입'!$AD18)) -> 1811994 | AK18: =IF(AD18="","",COUNTIFS('17년일출'!$AE$6:$AE$925,'17년일입'!AD18)) -> 1 | AL18: =IF(U18=AJ18,"OK","@@") -> OK | AN18: =IF(AD18="",0,SUMIFS('17년일출'!$AA$6:$AA$925,'17년일출'!$AE$6:$AE$925,'17년일입'!$AD18)) -> 1811994 | AO18: =IF(AD18="","",COUNTIFS('17년일출'!$AE$6:$AE$925,AD18)) -> 1 | AP18: =IF(Z18=AN18,"OK","@@") -> OK
A19: =IFERROR(VLOOKUP($C19,구분표!$A$2:$C$313,2,FALSE),"") -> 농정해양위원회 | B19: =IFERROR(VLOOKUP($C19,구분표!$A$2:$C$313,3,FALSE),"") -> 농정해양국 | C19: 수산과 | D19: 본예산 | E19: 614 | F19: 12 | G19: 국고보조금 - 어촌체험마을 사무장채용지원사업 | H19: 72000 | I19: -36000 | K19: =SUM(H19:J19) -> 36000 | L19: -36000 | N19: =SUM(H19,L19,M19) -> 36000 | O19: =IF(AND((K19=0),(N19>0)),"O",IF(AND((I19<0),(K19-N19<0)),"O","X")) -> X | P19: 국비내시 | R19: 국도비 | T19: 국비 | U19: -36000 | V19: 0 | W19: =IF(SUM($I19:$J19)=SUM($U19:$V19),"OK","검토") -> OK | Y19: 국비 | Z19: -36000 | AA19: 0 | AB19: =IF(SUM(L19:M19)=SUM(Z19:AA19),"OK","검토") -> OK | AD19: =IF(AF19="","",IF(T19="도비","세입없음",CONCATENATE(AF19,"-",COUNTIF($AF$7:AF19,AF19)))) -> 0224-1 | AF19: {=IF(C19="","",INDEX(구분표!$I$2:$I$313, MATCH(1,(구분표!$E$2:$E$313='17년일입'!B19)*(구분표!$F$2:$F$313='17년일입'!C19)*(구분표!$G$2:$G$313='17년일입'!A19),0)))} -> 0224 | AJ19: =IF(AD19="",0,SUMIFS('17년일출'!$V$6:$V$925,'17년일출'!$AE$6:$AE$925,'17년일입'!$AD19)) -> -36000 | AK19: =IF(AD19="","",COUNTIFS('17년일출'!$AE$6:$AE$925,'17년일입'!AD19)) -> 1 | AL19: =IF(U19=AJ19,"OK","@@") -> OK | AN19: =IF(AD19="",0,SUMIFS('17년일출'!$AA$6:$AA$925,'17년일출'!$AE$6:$AE$925,'17년일입'!$AD19)) -> -36000 | AO19: =IF(AD19="","",COUNTIFS('17년일출'!$AE$6:$AE$925,AD19)) -> 1 | AP19: =IF(Z19=AN19,"OK","@@") -> OK
A20: =IFERROR(VLOOKUP($C20,구분표!$A$2:$C$313,2,FALSE),"") -> 농정해양위원회 | B20: =IFERROR(VLOOKUP($C20,구분표!$A$2:$C$313,3,FALSE),"") -> 농정해양국 | C20: 수산과 | D20: 본예산 | E20: 615 | F20: 12 | G20: 국고보조금 - 이동수리소 운영 | H20: 35000 | I20: -5000 | K20: =SUM(H20:J20) -> 30000 | L20: -5000 | N20: =SUM(H20,L20,M20) -> 30000 | O20: =IF(AND((K20=0),(N20>0)),"O",IF(AND((I20<0),(K20-N20<0)),"O","X")) -> X | P20: 국비내시 | R20: 국도비 | T20: 국비 | U20: -5000 | V20: 0 | W20: =IF(SUM($I20:$J20)=SUM($U20:$V20),"OK","검토") -> OK | Y20: 국비 | Z20: -5000 | AA20: 0 | AB20: =IF(SUM(L20:M20)=SUM(Z20:AA20),"OK","검토") -> OK | AD20: =IF(AF20="","",IF(T20="도비","세입없음",CONCATENATE(AF20,"-",COUNTIF($AF$7:AF20,AF20)))) -> 0224-2 | AF20: {=IF(C20="","",INDEX(구분표!$I$2:$I$313, MATCH(1,(구분표!$E$2:$E$313='17년일입'!B20)*(구분표!$F$2:$F$313='17년일입'!C20)*(구분표!$G$2:$G$313='17년일입'!A20),0)))} -> 0224 | AJ20: =IF(AD20="",0,SUMIFS('17년일출'!$V$6:$V$925,'17년일출'!$AE$6:$AE$925,'17년일입'!$AD20)) -> -5000 | AK20: =IF(AD20="","",COUNTIFS('17년일출'!$AE$6:$AE$925,'17년일입'!AD20)) -> 1 | AL20: =IF(U20=AJ20,"OK","@@") -> OK | AN20: =IF(AD20="",0,SUMIFS('17년일출'!$AA$6:$AA$925,'17년일출'!$AE$6:$AE$925,'17년일입'!$AD20)) -> -5000 | AO20: =IF(AD20="","",COUNTIFS('17년일출'!$AE$6:$AE$925,AD20)) -> 1 | AP20: =IF(Z20=AN20,"OK","@@") -> OK
A21: =IFERROR(VLOOKUP($C21,구분표!$A$2:$C$313,2,FALSE),"") -> 농정해양위원회 | B21: =IFERROR(VLOOKUP($C21,구분표!$A$2:$C$313,3,FALSE),"") -> 농정해양국 | C21: 수산과 | D21: 본예산 | E21: 615 | F21: 12 | G21: 국고보조금 - 연구교습어장 | H21: 35000 | I21: -7000 | K21: =SUM(H21:J21) -> 28000 | L21: -7000 | N21: =SUM(H21,L21,M21) -> 28000 | O21: =IF(AND((K21=0),(N21>0)),"O",IF(AND((I21<0),(K21-N21<0)),"O","X")) -> X | P21: 국비내시 | R21: 국도비 | T21: 국비 | U21: -7000 | V21: 0 | W21: =IF(SUM($I21:$J21)=SUM($U21:$V21),"OK","검토") -> OK | Y21: 국비 | Z21: -7000 | AA21: 0 | AB21: =IF(SUM(L21:M21)=SUM(Z21:AA21),"OK","검토") -> OK | AD21: =IF(AF21="","",IF(T21="도비","세입없음",CONCATENATE(AF21,"-",COUNTIF($AF$7:AF21,AF21)))) -> 0224-3 | AF21: {=IF(C21="","",INDEX(구분표!$I$2:$I$313, MATCH(1,(구분표!$E$2:$E$313='17년일입'!B21)*(구분표!$F$2:$F$313='17년일입'!C21)*(구분표!$G$2:$G$313='17년일입'!A21),0)))} -> 0224 | AJ21: =IF(AD21="",0,SUMIFS('17년일출'!$V$6:$V$925,'17년일출'!$AE$6:$AE$925,'17년일입'!$AD21)) -> -7000 | AK21: =IF(AD21="","",COUNTIFS('17년일출'!$AE$6:$AE$925,'17년일입'!AD21)) -> 2 | AL21: =IF(U21=AJ21,"OK","@@") -> OK | AN21: =IF(AD21="",0,SUMIFS('17년일출'!$AA$6:$AA$925,'17년일출'!$AE$6:$AE$925,'17년일입'!$AD21)) -> -7000 | AO21: =IF(AD21="","",COUNTIFS('17년일출'!$AE$6:$AE$925,AD21)) -> 2 | AP21: =IF(Z21=AN21,"OK","@@") -> OK
A22: =IFERROR(VLOOKUP($C22,구분표!$A$2:$C$313,2,FALSE),"") -> 농정해양위원회 | B22: =IFERROR(VLOOKUP($C22,구분표!$A$2:$C$313,3,FALSE),"") -> 농정해양국 | C22: 농업정책과 | D22: 본예산 | E22: 611 | F22: 4 | G22: 국고보조금 - 지역단위 6차산업 활성화 지원 | H22: 700000 | J22: 90000 | K22: =SUM(H22:J22) -> 790000 | M22: 90000 | N22: =SUM(H22,L22,M22) -> 790000 | O22: =IF(AND((K22=0),(N22>0)),"O",IF(AND((I22<0),(K22-N22<0)),"O","X")) -> X | P22: 국비내시 | R22: 국도비 | T22: 국비 | U22: 90000 | V22: 0 | W22: =IF(SUM($I22:$J22)=SUM($U22:$V22),"OK","검토") -> OK | Y22: 국비 | Z22: 90000 | AA22: 0 | AB22: =IF(SUM(L22:M22)=SUM(Z22:AA22),"OK","검토") -> OK | AD22: =IF(AF22="","",IF(T22="도비","세입없음",CONCATENATE(AF22,"-",COUNTIF($AF$7:AF22,AF22)))) -> 0220-2 | AF22: {=IF(C22="","",INDEX(구분표!$I$2:$I$313, MATCH(1,(구분표!$E$2:$E$313='17년일입'!B22)*(구분표!$F$2:$F$313='17년일입'!C22)*(구분표!$G$2:$G$313='17년일입'!A22),0)))} -> 0220 | AJ22: =IF(AD22="",0,SUMIFS('17년일출'!$V$6:$V$925,'17년일출'!$AE$6:$AE$925,'17년일입'!$AD22)) -> 90000 | AK22: =IF(AD22="","",COUNTIFS('17년일출'!$AE$6:$AE$925,'17년일입'!AD22)) -> 2 | AL22: =IF(U22=AJ22,"OK","@@") -> OK | AN22: =IF(AD22="",0,SUMIFS('17년일출'!$AA$6:$AA$925,'17년일출'!$AE$6:$AE$925,'17년일입'!$AD22)) -> 90000 | AO22: =IF(AD22="","",COUNTIFS('17년일출'!$AE$6:$AE$925,AD22)) -> 2 | AP22: =IF(Z22=AN22,"OK","@@") -> OK
A23: =IFERROR(VLOOKUP($C23,구분표!$A$2:$C$313,2,FALSE),"") -> 농정해양위원회 | B23: =IFERROR(VLOOKUP($C23,구분표!$A$2:$C$313,3,FALSE),"") -> 축산산림국 | C23: 축산정책과 | D23: 본예산 | E23: 681 | G23: 기금 - 가축분뇨액비살포비지원 | H23: 600000 | J23: 80000 | K23: =SUM(H23:J23) -> 680000 | M23: 80000 | N23: =SUM(H23,L23,M23) -> 680000 | O23: =IF(AND((K23=0),(N23>0)),"O",IF(AND((I23<0),(K23-N23<0)),"O","X")) -> X | P23: 국비내시 | R23: 국도비 | T23: 기금 | U23: 80000 | V23: 0 | W23: =IF(SUM($I23:$J23)=SUM($U23:$V23),"OK","검토") -> OK | Y23: 기금 | Z23: 80000 | AA23: 0 | AB23: =IF(SUM(L23:M23)=SUM(Z23:AA23),"OK","검토") -> OK | AD23: =IF(AF23="","",IF(T23="도비","세입없음",CONCATENATE(AF23,"-",COUNTIF($AF$7:AF23,AF23)))) -> 0227-1 | AF23: {=IF(C23="","",INDEX(구분표!$I$2:$I$313, MATCH(1,(구분표!$E$2:$E$313='17년일입'!B23)*(구분표!$F$2:$F$313='17년일입'!C23)*(구분표!$G$2:$G$313='17년일입'!A23),0)))} -> 0227 | AJ23: =IF(AD23="",0,SUMIFS('17년일출'!$V$6:$V$925,'17년일출'!$AE$6:$AE$925,'17년일입'!$AD23)) -> 80000 | AK23: =IF(AD23="","",COUNTIFS('17년일출'!$AE$6:$AE$925,'17년일입'!AD23)) -> 1 | AL23: =IF(U23=AJ23,"OK","@@") -> OK | AN23: =IF(AD23="",0,SUMIFS('17년일출'!$AA$6:$AA$925,'17년일출'!$AE$6:$AE$925,'17년일입'!$AD23)) -> 80000 | AO23: =IF(AD23="","",COUNTIFS('17년일출'!$AE$6:$AE$925,AD23)) -> 1 | AP23: =IF(Z23=AN23,"OK","@@") -> OK
A24: =IFERROR(VLOOKUP($C24,구분표!$A$2:$C$313,2,FALSE),"") -> 농정해양위원회 | B24: =IFERROR(VLOOKUP($C24,구분표!$A$2:$C$313,3,FALSE),"") -> 축산산림국 | C24: 축산정책과 | D24: 본예산 | E24: 681 | G24: 기금 - 가축분뇨퇴액비화지원 | H24: 667450 | I24: -67450 | K24: =SUM(H24:J24) -> 600000 | L24: -67450 | N24: =SUM(H24,L24,M24) -> 600000 | O24: =IF(AND((K24=0),(N24>0)),"O",IF(AND((I24<0),(K24-N24<0)),"O","X")) -> X | P24: 국비내시 | R24: 국도비 | T24: 기금 | U24: -67450 | V24: 0 | W24: =IF(SUM($I24:$J24)=SUM($U24:$V24),"OK","검토") -> OK | Y24: 기금 | Z24: -67450 | AA24: 0 | AB24: =IF(SUM(L24:M24)=SUM(Z24:AA24),"OK","검토") -> OK | AD24: =IF(AF24="","",IF(T24="도비","세입없음",CONCATENATE(AF24,"-",COUNTIF($AF$7:AF24,AF24)))) -> 0227-2 | AF24: {=IF(C24="","",INDEX(구분표!$I$2:$I$313, MATCH(1,(구분표!$E$2:$E$313='17년일입'!B24)*(구분표!$F$2:$F$313='17년일입'!C24)*(구분표!$G$2:$G$313='17년일입'!A24),0)))} -> 0227 | AJ24: =IF(AD24="",0,SUMIFS('17년일출'!$V$6:$V$925,'17년일출'!$AE$6:$AE$925,'17년일입'!$AD24)) -> -67450 | AK24: =IF(AD24="","",COUNTIFS('17년일출'!$AE$6:$AE$925,'17년일입'!AD24)) -> 1 | AL24: =IF(U24=AJ24,"OK","@@") -> OK | AN24: =IF(AD24="",0,SUMIFS('17년일출'!$AA$6:$AA$925,'17년일출'!$AE$6:$AE$925,'17년일입'!$AD24)) -> -67450 | AO24: =IF(AD24="","",COUNTIFS('17년일출'!$AE$6:$AE$925,AD24)) -> 1 | AP24: =IF(Z24=AN24,"OK","@@") -> OK
A25: =IFERROR(VLOOKUP($C25,구분표!$A$2:$C$313,2,FALSE),"") -> 농정해양위원회 | B25: =IFERROR(VLOOKUP($C25,구분표!$A$2:$C$313,3,FALSE),"") -> 축산산림국 | C25: 축산정책과 | D25: 본예산 | E25: 681 | G25: 기금 - 가축분뇨정화개보수지원 | H25: 494000 | I25: -294000 | K25: =SUM(H25:J25) -> 200000 | L25: -294000 | N25: =SUM(H25,L25,M25) -> 200000 | O25: =IF(AND((K25=0),(N25>0)),"O",IF(AND((I25<0),(K25-N25<0)),"O","X")) -> X | P25: 국비내시 | R25: 국도비 | T25: 기금 | U25: -294000 | V25: 0 | W25: =IF(SUM($I25:$J25)=SUM($U25:$V25),"OK","검토") -> OK | Y25: 기금 | Z25: -294000 | AA25: 0 | AB25: =IF(SUM(L25:M25)=SUM(Z25:AA25),"OK","검토") -> OK | AD25: =IF(AF25="","",IF(T25="도비","세입없음",CONCATENATE(AF25,"-",COUNTIF($AF$7:AF25,AF25)))) -> 0227-3 | AF25: {=IF(C25="","",INDEX(구분표!$I$2:$I$313, MATCH(1,(구분표!$E$2:$E$313='17년일입'!B25)*(구분표!$F$2:$F$313='17년일입'!C25)*(구분표!$G$2:$G$313='17년일입'!A25),0)))} -> 0227 | AJ25: =IF(AD25="",0,SUMIFS('17년일출'!$V$6:$V$925,'17년일출'!$AE$6:$AE$925,'17년일입'!$AD25)) -> -294000 | AK25: =IF(AD25="","",COUNTIFS('17년일출'!$AE$6:$AE$925,'17년일입'!AD25)) -> 1 | AL25: =IF(U25=AJ25,"OK","@@") -> OK | AN25: =IF(AD25="",0,SUMIFS('17년일출'!$AA$6:$AA$925,'17년일출'!$AE$6:$AE$925,'17년일입'!$AD25)) -> -294000 | AO25: =IF(AD25="","",COUNTIFS('17년일출'!$AE$6:$AE$925,AD25)) -> 1 | AP25: =IF(Z25=AN25,"OK","@@") -> OK
A26: =IFERROR(VLOOKUP($C26,구분표!$A$2:$C$313,2,FALSE),"") -> 농정해양위원회 | B26: =IFERROR(VLOOKUP($C26,구분표!$A$2:$C$313,3,FALSE),"") -> 축산산림국 | C26: 축산정책과 | D26: 본예산 | E26: 681 | G26: 기금 - 공동자원화퇴액비시설장비지원 | H26: 36000 | I26: -36000 | K26: =SUM(H26:J26) -> 0 | L26: -36000 | N26: =SUM(H26,L26,M26) -> 0 | O26: =IF(AND((K26=0),(N26>0)),"O",IF(AND((I26<0),(K26-N26<0)),"O","X")) -> X | P26: 국비내시 | R26: 국도비 | T26: 기금 | U26: -36000 | V26: 0 | W26: =IF(SUM($I26:$J26)=SUM($U26:$V26),"OK","검토") -> OK | Y26: 기금 | Z26: -36000 | AA26: 0 | AB26: =IF(SUM(L26:M26)=SUM(Z26:AA26),"OK","검토") -> OK | AD26: =IF(AF26="","",IF(T26="도비","세입없음",CONCATENATE(AF26,"-",COUNTIF($AF$7:AF26,AF26)))) -> 0227-4 | AF26: {=IF(C26="","",INDEX(구분표!$I$2:$I$313, MATCH(1,(구분표!$E$2:$E$313='17년일입'!B26)*(구분표!$F$2:$F$313='17년일입'!C26)*(구분표!$G$2:$G$313='17년일입'!A26),0)))} -> 0227 | AJ26: =IF(AD26="",0,SUMIFS('17년일출'!$V$6:$V$925,'17년일출'!$AE$6:$AE$925,'17년일입'!$AD26)) -> -36000 | AK26: =IF(AD26="","",COUNTIFS('17년일출'!$AE$6:$AE$925,'17년일입'!AD26)) -> 1 | AL26: =IF(U26=AJ26,"OK","@@") -> OK | AN26: =IF(AD26="",0,SUMIFS('17년일출'!$AA$6:$AA$925,'17년일출'!$AE$6:$AE$925,'17년일입'!$AD26)) -> -36000 | AO26: =IF(AD26="","",COUNTIFS('17년일출'!$AE$6:$AE$925,AD26)) -> 1 | AP26: =IF(Z26=AN26,"OK","@@") -> OK
A27: =IFERROR(VLOOKUP($C27,구분표!$A$2:$C$313,2,FALSE),"") -> 농정해양위원회 | B27: =IFERROR(VLOOKUP($C27,구분표!$A$2:$C$313,3,FALSE),"") -> 축산산림국 | C27: 축산정책과 | D27: 본예산 | E27: 681 | G27: 기금 - 액비저장조지원 | H27: 669800 | I27: -468800 | K27: =SUM(H27:J27) -> 201000 | L27: -468800 | N27: =SUM(H27,L27,M27) -> 201000 | O27: =IF(AND((K27=0),(N27>0)),"O",IF(AND((I27<0),(K27-N27<0)),"O","X")) -> X | P27: 국비내시 | R27: 국도비 | T27: 기금 | U27: -468800 | V27: 0 | W27: =IF(SUM($I27:$J27)=SUM($U27:$V27),"OK","검토") -> OK | Y27: 기금 | Z27: -468800 | AA27: 0 | AB27: =IF(SUM(L27:M27)=SUM(Z27:AA27),"OK","검토") -> OK | AD27: =IF(AF27="","",IF(T27="도비","세입없음",CONCATENATE(AF27,"-",COUNTIF($AF$7:AF27,AF27)))) -> 0227-5 | AF27: {=IF(C27="","",INDEX(구분표!$I$2:$I$313, MATCH(1,(구분표!$E$2:$E$313='17년일입'!B27)*(구분표!$F$2:$F$313='17년일입'!C27)*(구분표!$G$2:$G$313='17년일입'!A27),0)))} -> 0227 | AJ27: =IF(AD27="",0,SUMIFS('17년일출'!$V$6:$V$925,'17년일출'!$AE$6:$AE$925,'17년일입'!$AD27)) -> -468800 | AK27: =IF(AD27="","",COUNTIFS('17년일출'!$AE$6:$AE$925,'17년일입'!AD27)) -> 1 | AL27: =IF(U27=AJ27,"OK","@@") -> OK | AN27: =IF(AD27="",0,SUMIFS('17년일출'!$AA$6:$AA$925,'17년일출'!$AE$6:$AE$925,'17년일입'!$AD27)) -> -468800 | AO27: =IF(AD27="","",COUNTIFS('17년일출'!$AE$6:$AE$925,AD27)) -> 1 | AP27: =IF(Z27=AN27,"OK","@@") -> OK
A28: =IFERROR(VLOOKUP($C28,구분표!$A$2:$C$313,2,FALSE),"") -> 농정해양위원회 | B28: =IFERROR(VLOOKUP($C28,구분표!$A$2:$C$313,3,FALSE),"") -> 축산산림국 | C28: 축산정책과 | D28: 본예산 | E28: 681 | G28: 기금 - 가축분뇨부숙도판정기지원 | H28: 42000 | I28: -15000 | K28: =SUM(H28:J28) -> 27000 | L28: -15000 | N28: =SUM(H28,L28,M28) -> 27000 | O28: =IF(AND((K28=0),(N28>0)),"O",IF(AND((I28<0),(K28-N28<0)),"O","X")) -> X | P28: 국비내시 | R28: 국도비 | T28: 기금 | U28: -15000 | V28: 0 | W28: =IF(SUM($I28:$J28)=SUM($U28:$V28),"OK","검토") -> OK | Y28: 기금 | Z28: -15000 | AA28: 0 | AB28: =IF(SUM(L28:M28)=SUM(Z28:AA28),"OK","검토") -> OK | AD28: =IF(AF28="","",IF(T28="도비","세입없음",CONCATENATE(AF28,"-",COUNTIF($AF$7:AF28,AF28)))) -> 0227-6 | AF28: {=IF(C28="","",INDEX(구분표!$I$2:$I$313, MATCH(1,(구분표!$E$2:$E$313='17년일입'!B28)*(구분표!$F$2:$F$313='17년일입'!C28)*(구분표!$G$2:$G$313='17년일입'!A28),0)))} -> 0227 | AJ28: =IF(AD28="",0,SUMIFS('17년일출'!$V$6:$V$925,'17년일출'!$AE$6:$AE$925,'17년일입'!$AD28)) -> -15000 | AK28: =IF(AD28="","",COUNTIFS('17년일출'!$AE$6:$AE$925,'17년일입'!AD28)) -> 1 | AL28: =IF(U28=AJ28,"OK","@@") -> OK | AN28: =IF(AD28="",0,SUMIFS('17년일출'!$AA$6:$AA$925,'17년일출'!$AE$6:$AE$925,'17년일입'!$AD28)) -> -15000 | AO28: =IF(AD28="","",COUNTIFS('17년일출'!$AE$6:$AE$925,AD28)) -> 1 | AP28: =IF(Z28=AN28,"OK","@@") -> OK
A29: =IFERROR(VLOOKUP($C29,구분표!$A$2:$C$313,2,FALSE),"") -> 농정해양위원회 | B29: =IFERROR(VLOOKUP($C29,구분표!$A$2:$C$313,3,FALSE),"") -> 축산산림국 | C29: 축산정책과 | D29: 신규 | G29: 기금 - 정착촌가축분뇨처리시설장비지원 | J29: 65000 | K29: =SUM(H29:J29) -> 65000 | M29: 65000 | N29: =SUM(H29,L29,M29) -> 65000 | O29: =IF(AND((K29=0),(N29>0)),"O",IF(AND((I29<0),(K29-N29<0)),"O","X")) -> X | P29: 국비내시 | R29: 국도비 | T29: 기금 | U29: 65000 | V29: 0 | W29: =IF(SUM($I29:$J29)=SUM($U29:$V29),"OK","검토") -> OK | Y29: 기금 | Z29: 65000 | AA29: 0 | AB29: =IF(SUM(L29:M29)=SUM(Z29:AA29),"OK","검토") -> OK | AD29: =IF(AF29="","",IF(T29="도비","세입없음",CONCATENATE(AF29,"-",COUNTIF($AF$7:AF29,AF29)))) -> 0227-7 | AF29: {=IF(C29="","",INDEX(구분표!$I$2:$I$313, MATCH(1,(구분표!$E$2:$E$313='17년일입'!B29)*(구분표!$F$2:$F$313='17년일입'!C29)*(구분표!$G$2:$G$313='17년일입'!A29),0)))} -> 0227 | AJ29: =IF(AD29="",0,SUMIFS('17년일출'!$V$6:$V$925,'17년일출'!$AE$6:$AE$925,'17년일입'!$AD29)) -> 65000 | AK29: =IF(AD29="","",COUNTIFS('17년일출'!$AE$6:$AE$925,'17년일입'!AD29)) -> 1 | AL29: =IF(U29=AJ29,"OK","@@") -> OK | AN29: =IF(AD29="",0,SUMIFS('17년일출'!$AA$6:$AA$925,'17년일출'!$AE$6:$AE$925,'17년일입'!$AD29)) -> 65000 | AO29: =IF(AD29="","",COUNTIFS('17년일출'!$AE$6:$AE$925,AD29)) -> 1 | AP29: =IF(Z29=AN29,"OK","@@") -> OK
A30: =IFERROR(VLOOKUP($C30,구분표!$A$2:$C$313,2,FALSE),"") -> 농정해양위원회 | B30: =IFERROR(VLOOKUP($C30,구분표!$A$2:$C$313,3,FALSE),"") -> 축산산림국 | C30: 축산정책과 | D30: 본예산 | E30: 681 | G30: 기금 - 전문단지조성용기계장비구입지원 | H30: 66000 | I30: -6000 | K30: =SUM(H30:J30) -> 60000 | L30: -6000 | N30: =SUM(H30,L30,M30) -> 60000 | O30: =IF(AND((K30=0),(N30>0)),"O",IF(AND((I30<0),(K30-N30<0)),"O","X")) -> X | P30: 국비내시 | R30: 국도비 | T30: 기금 | U30: -6000 | V30: 0 | W30: =IF(SUM($I30:$J30)=SUM($U30:$V30),"OK","검토") -> OK | Y30: 기금 | Z30: -6000 | AA30: 0 | AB30: =IF(SUM(L30:M30)=SUM(Z30:AA30),"OK","검토") -> OK | AD30: =IF(AF30="","",IF(T30="도비","세입없음",CONCATENATE(AF30,"-",COUNTIF($AF$7:AF30,AF30)))) -> 0227-8 | AF30: {=IF(C30="","",INDEX(구분표!$I$2:$I$313, MATCH(1,(구분표!$E$2:$E$313='17년일입'!B30)*(구분표!$F$2:$F$313='17년일입'!C30)*(구분표!$G$2:$G$313='17년일입'!A30),0)))} -> 0227 | AJ30: =IF(AD30="",0,SUMIFS('17년일출'!$V$6:$V$925,'17년일출'!$AE$6:$AE$925,'17년일입'!$AD30)) -> -6000 | AK30: =IF(AD30="","",COUNTIFS('17년일출'!$AE$6:$AE$925,'17년일입'!AD30)) -> 1 | AL30: =IF(U30=AJ30,"OK","@@") -> OK | AN30: =IF(AD30="",0,SUMIFS('17년일출'!$AA$6:$AA$925,'17년일출'!$AE$6:$AE$925,'17년일입'!$AD30)) -> -6000 | AO30: =IF(AD30="","",COUNTIFS('17년일출'!$AE$6:$AE$925,AD30)) -> 1 | AP30: =IF(Z30=AN30,"OK","@@") -> OK
A31: =IFERROR(VLOOKUP($C31,구분표!$A$2:$C$313,2,FALSE),"") -> 농정해양위원회 | B31: =IFERROR(VLOOKUP($C31,구분표!$A$2:$C$313,3,FALSE),"") -> 축산산림국 | C31: 축산정책과 | D31: 본예산 | E31: 681 | G31: 기금 - 전문단지조성용사일리지제조지원 | H31: 248500 | I31: -98500 | K31: =SUM(H31:J31) -> 150000 | L31: -98500 | N31: =SUM(H31,L31,M31) -> 150000 | O31: =IF(AND((K31=0),(N31>0)),"O",IF(AND((I31<0),(K31-N31<0)),"O","X")) -> X | P31: 국비내시 | R31: 국도비 | T31: 기금 | U31: -98500 | V31: 0 | W31: =IF(SUM($I31:$J31)=SUM($U31:$V31),"OK","검토") -> OK | Y31: 기금 | Z31: -98500 | AA31: 0 | AB31: =IF(SUM(L31:M31)=SUM(Z31:AA31),"OK","검토") -> OK | AD31: =IF(AF31="","",IF(T31="도비","세입없음",CONCATENATE(AF31,"-",COUNTIF($AF$7:AF31,AF31)))) -> 0227-9 | AF31: {=IF(C31="","",INDEX(구분표!$I$2:$I$313, MATCH(1,(구분표!$E$2:$E$313='17년일입'!B31)*(구분표!$F$2:$F$313='17년일입'!C31)*(구분표!$G$2:$G$313='17년일입'!A31),0)))} -> 0227 | AJ31: =IF(AD31="",0,SUMIFS('17년일출'!$V$6:$V$925,'17년일출'!$AE$6:$AE$925,'17년일입'!$AD31)) -> -98500 | AK31: =IF(AD31="","",COUNTIFS('17년일출'!$AE$6:$AE$925,'17년일입'!AD31)) -> 1 | AL31: =IF(U31=AJ31,"OK","@@") -> OK | AN31: =IF(AD31="",0,SUMIFS('17년일출'!$AA$6:$AA$925,'17년일출'!$AE$6:$AE$925,'17년일입'!$AD31)) -> -98500 | AO31: =IF(AD31="","",COUNTIFS('17년일출'!$AE$6:$AE$925,AD31)) -> 1 | AP31: =IF(Z31=AN31,"OK","@@") -> OK
A32: =IFERROR(VLOOKUP($C32,구분표!$A$2:$C$313,2,FALSE),"") -> 농정해양위원회 | B32: =IFERROR(VLOOKUP($C32,구분표!$A$2:$C$313,3,FALSE),"") -> 축산산림국 | C32: 축산정책과 | D32: 본예산 | E32: 681 | G32: 기금 - 전문단지조성용종자구입지원 | H32: 22000 | J32: 2000 | K32: =SUM(H32:J32) -> 24000 | M32: 2000 | N32: =SUM(H32,L32,M32) -> 24000 | O32: =IF(AND((K32=0),(N32>0)),"O",IF(AND((I32<0),(K32-N32<0)),"O","X")) -> X | P32: 국비내시 | R32: 국도비 | T32: 기금 | U32: 2000 | V32: 0 | W32: =IF(SUM($I32:$J32)=SUM($U32:$V32),"OK","검토") -> OK | Y32: 기금 | Z32: 2000 | AA32: 0 | AB32: =IF(SUM(L32:M32)=SUM(Z32:AA32),"OK","검토") -> OK | AD32: =IF(AF32="","",IF(T32="도비","세입없음",CONCATENATE(AF32,"-",COUNTIF($AF$7:AF32,AF32)))) -> 0227-10 | AF32: {=IF(C32="","",INDEX(구분표!$I$2:$I$313, MATCH(1,(구분표!$E$2:$E$313='17년일입'!B32)*(구분표!$F$2:$F$313='17년일입'!C32)*(구분표!$G$2:$G$313='17년일입'!A32),0)))} -> 0227 | AJ32: =IF(AD32="",0,SUMIFS('17년일출'!$V$6:$V$925,'17년일출'!$AE$6:$AE$925,'17년일입'!$AD32)) -> 2000 | AK32: =IF(AD32="","",COUNTIFS('17년일출'!$AE$6:$AE$925,'17년일입'!AD32)) -> 1 | AL32: =IF(U32=AJ32,"OK","@@") -> OK | AN32: =IF(AD32="",0,SUMIFS('17년일출'!$AA$6:$AA$925,'17년일출'!$AE$6:$AE$925,'17년일입'!$AD32)) -> 2000 | AO32: =IF(AD32="","",COUNTIFS('17년일출'!$AE$6:$AE$925,AD32)) -> 1 | AP32: =IF(Z32=AN32,"OK","@@") -> OK
A33: =IFERROR(VLOOKUP($C33,구분표!$A$2:$C$313,2,FALSE),"") -> 농정해양위원회 | B33: =IFERROR(VLOOKUP($C33,구분표!$A$2:$C$313,3,FALSE),"") -> 축산산림국 | C33: 축산정책과 | D33: 본예산 | E33: 681 | G33: 기금 - 조사료생산용기계장비구입지원 | H33: 120000 | J33: 45000 | K33: =SUM(H33:J33) -> 165000 | M33: 45000 | N33: =SUM(H33,L33,M33) -> 165000 | O33: =IF(AND((K33=0),(N33>0)),"O",IF(AND((I33<0),(K33-N33<0)),"O","X")) -> X | P33: 국비내시 | R33: 국도비 | T33: 기금 | U33: 45000 | V33: 0 | W33: =IF(SUM($I33:$J33)=SUM($U33:$V33),"OK","검토") -> OK | Y33: 기금 | Z33: 45000 | AA33: 0 | AB33: =IF(SUM(L33:M33)=SUM(Z33:AA33),"OK","검토") -> OK | AD33: =IF(AF33="","",IF(T33="도비","세입없음",CONCATENATE(AF33,"-",COUNTIF($AF$7:AF33,AF33)))) -> 0227-11 | AF33: {=IF(C33="","",INDEX(구분표!$I$2:$I$313, MATCH(1,(구분표!$E$2:$E$313='17년일입'!B33)*(구분표!$F$2:$F$313='17년일입'!C33)*(구분표!$G$2:$G$313='17년일입'!A33),0)))} -> 0227 | AJ33: =IF(AD33="",0,SUMIFS('17년일출'!$V$6:$V$925,'17년일출'!$AE$6:$AE$925,'17년일입'!$AD33)) -> 45000 | AK33: =IF(AD33="","",COUNTIFS('17년일출'!$AE$6:$AE$925,'17년일입'!AD33)) -> 1 | AL33: =IF(U33=AJ33,"OK","@@") -> OK | AN33: =IF(AD33="",0,SUMIFS('17년일출'!$AA$6:$AA$925,'17년일출'!$AE$6:$AE$925,'17년일입'!$AD33)) -> 45000 | AO33: =IF(AD33="","",COUNTIFS('17년일출'!$AE$6:$AE$925,AD33)) -> 1 | AP33: =IF(Z33=AN33,"OK","@@") -> OK
A34: =IFERROR(VLOOKUP($C34,구분표!$A$2:$C$313,2,FALSE),"") -> 농정해양위원회 | B34: =IFERROR(VLOOKUP($C34,구분표!$A$2:$C$313,3,FALSE),"") -> 축산산림국 | C34: 축산정책과 | D34: 본예산 | E34: 681 | G34: 기금 - 조사료생산용사일리지제조지원 | H34: 2216208 | J34: 283792 | K34: =SUM(H34:J34) -> 2500000 | M34: 283792 | N34: =SUM(H34,L34,M34) -> 2500000 | O34: =IF(AND((K34=0),(N34>0)),"O",IF(AND((I34<0),(K34-N34<0)),"O","X")) -> X | P34: 국비내시 | R34: 국도비 | T34: 기금 | U34: 283792 | V34: 0 | W34: =IF(SUM($I34:$J34)=SUM($U34:$V34),"OK","검토") -> OK | Y34: 기금 | Z34: 283792 | AA34: 0 | AB34: =IF(SUM(L34:M34)=SUM(Z34:AA34),"OK","검토") -> OK | AD34: =IF(AF34="","",IF(T34="도비","세입없음",CONCATENATE(AF34,"-",COUNTIF($AF$7:AF34,AF34)))) -> 0227-12 | AF34: {=IF(C34="","",INDEX(구분표!$I$2:$I$313, MATCH(1,(구분표!$E$2:$E$313='17년일입'!B34)*(구분표!$F$2:$F$313='17년일입'!C34)*(구분표!$G$2:$G$313='17년일입'!A34),0)))} -> 0227 | AJ34: =IF(AD34="",0,SUMIFS('17년일출'!$V$6:$V$925,'17년일출'!$AE$6:$AE$925,'17년일입'!$AD34)) -> 283792 | AK34: =IF(AD34="","",COUNTIFS('17년일출'!$AE$6:$AE$925,'17년일입'!AD34)) -> 1 | AL34: =IF(U34=AJ34,"OK","@@") -> OK | AN34: =IF(AD34="",0,SUMIFS('17년일출'!$AA$6:$AA$925,'17년일출'!$AE$6:$AE$925,'17년일입'!$AD34)) -> 283792 | AO34: =IF(AD34="","",COUNTIFS('17년일출'!$AE$6:$AE$925,AD34)) -> 1 | AP34: =IF(Z34=AN34,"OK","@@") -> OK
A35: =IFERROR(VLOOKUP($C35,구분표!$A$2:$C$313,2,FALSE),"") -> 농정해양위원회 | B35: =IFERROR(VLOOKUP($C35,구분표!$A$2:$C$313,3,FALSE),"") -> 축산산림국 | C35: 축산정책과 | D35: 본예산 | E35: 681 | G35: 기금 - 조사료생산용종자구입지원 | H35: 620900 | J35: 39100 | K35: =SUM(H35:J35) -> 660000 | M35: 39100 | N35: =SUM(H35,L35,M35) -> 660000 | O35: =IF(AND((K35=0),(N35>0)),"O",IF(AND((I35<0),(K35-N35<0)),"O","X")) -> X | P35: 국비내시 | R35: 국도비 | T35: 기금 | U35: 39100 | V35: 0 | W35: =IF(SUM($I35:$J35)=SUM($U35:$V35),"OK","검토") -> OK | Y35: 기금 | Z35: 39100 | AA35: 0 | AB35: =IF(SUM(L35:M35)=SUM(Z35:AA35),"OK","검토") -> OK | AD35: =IF(AF35="","",IF(T35="도비","세입없음",CONCATENATE(AF35,"-",COUNTIF($AF$7:AF35,AF35)))) -> 0227-13 | AF35: {=IF(C35="","",INDEX(구분표!$I$2:$I$313, MATCH(1,(구분표!$E$2:$E$313='17년일입'!B35)*(구분표!$F$2:$F$313='17년일입'!C35)*(구분표!$G$2:$G$313='17년일입'!A35),0)))} -> 0227 | AJ35: =IF(AD35="",0,SUMIFS('17년일출'!$V$6:$V$925,'17년일출'!$AE$6:$AE$925,'17년일입'!$AD35)) -> 39100 | AK35: =IF(AD35="","",COUNTIFS('17년일출'!$AE$6:$AE$925,'17년일입'!AD35)) -> 1 | AL35: =IF(U35=AJ35,"OK","@@") -> OK | AN35: =IF(AD35="",0,SUMIFS('17년일출'!$AA$6:$AA$925,'17년일출'!$AE$6:$AE$925,'17년일입'!$AD35)) -> 39100 | AO35: =IF(AD35="","",COUNTIFS('17년일출'!$AE$6:$AE$925,AD35)) -> 1 | AP35: =IF(Z35=AN35,"OK","@@") -> OK
A36: =IFERROR(VLOOKUP($C36,구분표!$A$2:$C$313,2,FALSE),"") -> 농정해양위원회 | B36: =IFERROR(VLOOKUP($C36,구분표!$A$2:$C$313,3,FALSE),"") -> 축산산림국 | C36: 축산정책과 | D36: 본예산 | E36: 681 | G36: 기금 - 조사료생산용볏짚처리비지원 | H36: 647100 | I36: -647100 | K36: =SUM(H36:J36) -> 0 | L36: -647100 | N36: =SUM(H36,L36,M36) -> 0 | O36: =IF(AND((K36=0),(N36>0)),"O",IF(AND((I36<0),(K36-N36<0)),"O","X")) -> X | P36: 국비내시 | R36: 국도비 | T36: 기금 | U36: -647100 | V36: 0 | W36: =IF(SUM($I36:$J36)=SUM($U36:$V36),"OK","검토") -> OK | Y36: 기금 | Z36: -647100 | AA36: 0 | AB36: =IF(SUM(L36:M36)=SUM(Z36:AA36),"OK","검토") -> OK | AD36: =IF(AF36="","",IF(T36="도비","세입없음",CONCATENATE(AF36,"-",COUNTIF($AF$7:AF36,AF36)))) -> 0227-14 | AF36: {=IF(C36="","",INDEX(구분표!$I$2:$I$313, MATCH(1,(구분표!$E$2:$E$313='17년일입'!B36)*(구분표!$F$2:$F$313='17년일입'!C36)*(구분표!$G$2:$G$313='17년일입'!A36),0)))} -> 0227 | AJ36: =IF(AD36="",0,SUMIFS('17년일출'!$V$6:$V$925,'17년일출'!$AE$6:$AE$925,'17년일입'!$AD36)) -> -647100 | AK36: =IF(AD36="","",COUNTIFS('17년일출'!$AE$6:$AE$925,'17년일입'!AD36)) -> 1 | AL36: =IF(U36=AJ36,"OK","@@") -> OK | AN36: =IF(AD36="",0,SUMIFS('17년일출'!$AA$6:$AA$925,'17년일출'!$AE$6:$AE$925,'17년일입'!$AD36)) -> -647100 | AO36: =IF(AD36="","",COUNTIFS('17년일출'!$AE$6:$AE$925,AD36)) -> 1 | AP36: =IF(Z36=AN36,"OK","@@") -> OK
A37: =IFERROR(VLOOKUP($C37,구분표!$A$2:$C$313,2,FALSE),"") -> 농정해양위원회 | B37: =IFERROR(VLOOKUP($C37,구분표!$A$2:$C$313,3,FALSE),"") -> 축산산림국 | C37: 축산정책과 | D37: 본예산 | E37: 681 | G37: 기금 - 조사료가공유통시설지원 | H37: 74000 | I37: -11000 | K37: =SUM(H37:J37) -> 63000 | L37: -11000 | N37: =SUM(H37,L37,M37) -> 63000 | O37: =IF(AND((K37=0),(N37>0)),"O",IF(AND((I37<0),(K37-N37<0)),"O","X")) -> X | P37: 국비내시 | R37: 국도비 | T37: 기금 | U37: -11000 | V37: 0 | W37: =IF(SUM($I37:$J37)=SUM($U37:$V37),"OK","검토") -> OK | Y37: 기금 | Z37: -11000 | AA37: 0 | AB37: =IF(SUM(L37:M37)=SUM(Z37:AA37),"OK","검토") -> OK | AD37: =IF(AF37="","",IF(T37="도비","세입없음",CONCATENATE(AF37,"-",COUNTIF($AF$7:AF37,AF37)))) -> 0227-15 | AF37: {=IF(C37="","",INDEX(구분표!$I$2:$I$313, MATCH(1,(구분표!$E$2:$E$313='17년일입'!B37)*(구분표!$F$2:$F$313='17년일입'!C37)*(구분표!$G$2:$G$313='17년일입'!A37),0)))} -> 0227 | AJ37: =IF(AD37="",0,SUMIFS('17년일출'!$V$6:$V$925,'17년일출'!$AE$6:$AE$925,'17년일입'!$AD37)) -> -11000 | AK37: =IF(AD37="","",COUNTIFS('17년일출'!$AE$6:$AE$925,'17년일입'!AD37)) -> 1 | AL37: =IF(U37=AJ37,"OK","@@") -> OK | AN37: =IF(AD37="",0,SUMIFS('17년일출'!$AA$6:$AA$925,'17년일출'!$AE$6:$AE$925,'17년일입'!$AD37)) -> -11000 | AO37: =IF(AD37="","",COUNTIFS('17년일출'!$AE$6:$AE$925,AD37)) -> 1 | AP37: =IF(Z37=AN37,"OK","@@") -> OK
A38: =IFERROR(VLOOKUP($C38,구분표!$A$2:$C$313,2,FALSE),"") -> 농정해양위원회 | B38: =IFERROR(VLOOKUP($C38,구분표!$A$2:$C$313,3,FALSE),"") -> 축산산림국 | C38: 축산정책과 | D38: 본예산 | E38: 681 | G38: 기금 - 조사료품질관리지원 | H38: 91900 | I38: -62640 | K38: =SUM(H38:J38) -> 29260 | L38: -62640 | N38: =SUM(H38,L38,M38) -> 29260 | O38: =IF(AND((K38=0),(N38>0)),"O",IF(AND((I38<0),(K38-N38<0)),"O","X")) -> X | P38: 국비내시 | R38: 국도비 | T38: 기금 | U38: -62640 | V38: 0 | W38: =IF(SUM($I38:$J38)=SUM($U38:$V38),"OK","검토") -> OK | Y38: 기금 | Z38: -62640 | AA38: 0 | AB38: =IF(SUM(L38:M38)=SUM(Z38:AA38),"OK","검토") -> OK | AD38: =IF(AF38="","",IF(T38="도비","세입없음",CONCATENATE(AF38,"-",COUNTIF($AF$7:AF38,AF38)))) -> 0227-16 | AF38: {=IF(C38="","",INDEX(구분표!$I$2:$I$313, MATCH(1,(구분표!$E$2:$E$313='17년일입'!B38)*(구분표!$F$2:$F$313='17년일입'!C38)*(구분표!$G$2:$G$313='17년일입'!A38),0)))} -> 0227 | AJ38: =IF(AD38="",0,SUMIFS('17년일출'!$V$6:$V$925,'17년일출'!$AE$6:$AE$925,'17년일입'!$AD38)) -> -62640 | AK38: =IF(AD38="","",COUNTIFS('17년일출'!$AE$6:$AE$925,'17년일입'!AD38)) -> 1 | AL38: =IF(U38=AJ38,"OK","@@") -> OK | AN38: =IF(AD38="",0,SUMIFS('17년일출'!$AA$6:$AA$925,'17년일출'!$AE$6:$AE$925,'17년일입'!$AD38)) -> -62640 | AO38: =IF(AD38="","",COUNTIFS('17년일출'!$AE$6:$AE$925,AD38)) -> 1 | AP38: =IF(Z38=AN38,"OK","@@") -> OK
A39: =IFERROR(VLOOKUP($C39,구분표!$A$2:$C$313,2,FALSE),"") -> 농정해양위원회 | B39: =IFERROR(VLOOKUP($C39,구분표!$A$2:$C$313,3,FALSE),"") -> 축산산림국 | C39: 동물방역위생과 | D39: 본예산 | E39: 682 | G39: 기금 - 축산물위생검사기관 운영비 지원 | H39: 328000 | J39: 40000 | K39: =SUM(H39:J39) -> 368000 | M39: 40000 | N39: =SUM(H39,L39,M39) -> 368000 | O39: =IF(AND((K39=0),(N39>0)),"O",IF(AND((I39<0),(K39-N39<0)),"O","X")) -> X | P39: 국비내시 | R39: 국도비 | T39: 기금 | U39: 40000 | W39: =IF(SUM($I39:$J39)=SUM($U39:$V39),"OK","검토") -> OK | Y39: 기금 | Z39: 40000 | AB39: =IF(SUM(L39:M39)=SUM(Z39:AA39),"OK","검토") -> OK | AD39: =IF(AF39="","",IF(T39="도비","세입없음",CONCATENATE(AF39,"-",COUNTIF($AF$7:AF39,AF39)))) -> 0228-1 | AF39: {=IF(C39="","",INDEX(구분표!$I$2:$I$313, MATCH(1,(구분표!$E$2:$E$313='17년일입'!B39)*(구분표!$F$2:$F$313='17년일입'!C39)*(구분표!$G$2:$G$313='17년일입'!A39),0)))} -> 0228 | AJ39: =IF(AD39="",0,SUMIFS('17년일출'!$V$6:$V$925,'17년일출'!$AE$6:$AE$925,'17년일입'!$AD39)) -> 40000 | AK39: =IF(AD39="","",COUNTIFS('17년일출'!$AE$6:$AE$925,'17년일입'!AD39)) -> 1 | AL39: =IF(U39=AJ39,"OK","@@") -> OK | AN39: =IF(AD39="",0,SUMIFS('17년일출'!$AA$6:$AA$925,'17년일출'!$AE$6:$AE$925,'17년일입'!$AD39)) -> 40000 | AO39: =IF(AD39="","",COUNTIFS('17년일출'!$AE$6:$AE$925,AD39)) -> 1 | AP39: =IF(Z39=AN39,"OK","@@") -> OK
A40: =IFERROR(VLOOKUP($C40,구분표!$A$2:$C$313,2,FALSE),"") -> 농정해양위원회 | B40: =IFERROR(VLOOKUP($C40,구분표!$A$2:$C$313,3,FALSE),"") -> 축산산림국 | C40: 산림과 | D40: 신규 | G40: 국고보조금 - 산림작물생산단지 | J40: 466624 | K40: =SUM(H40:J40) -> 466624 | M40: 466624 | N40: =SUM(H40,L40,M40) -> 466624 | O40: =IF(AND((K40=0),(N40>0)),"O",IF(AND((I40<0),(K40-N40<0)),"O","X")) -> X | P40: 국비내시 | R40: 국도비 | T40: 국비 | U40: 466624 | V40: 0 | W40: =IF(SUM($I40:$J40)=SUM($U40:$V40),"OK","검토") -> OK | Y40: 국비 | Z40: 466624 | AA40: 0 | AB40: =IF(SUM(L40:M40)=SUM(Z40:AA40),"OK","검토") -> OK | AD40: =IF(AF40="","",IF(T40="도비","세입없음",CONCATENATE(AF40,"-",COUNTIF($AF$7:AF40,AF40)))) -> 0229-1 | AF40: {=IF(C40="","",INDEX(구분표!$I$2:$I$313, MATCH(1,(구분표!$E$2:$E$313='17년일입'!B40)*(구분표!$F$2:$F$313='17년일입'!C40)*(구분표!$G$2:$G$313='17년일입'!A40),0)))} -> 0229 | AJ40: =IF(AD40="",0,SUMIFS('17년일출'!$V$6:$V$925,'17년일출'!$AE$6:$AE$925,'17년일입'!$AD40)) -> 466624 | AK40: =IF(AD40="","",COUNTIFS('17년일출'!$AE$6:$AE$925,'17년일입'!AD40)) -> 1 | AL40: =IF(U40=AJ40,"OK","@@") -> OK | AN40: =IF(AD40="",0,SUMIFS('17년일출'!$AA$6:$AA$925,'17년일출'!$AE$6:$AE$925,'17년일입'!$AD40)) -> 466624 | AO40: =IF(AD40="","",COUNTIFS('17년일출'!$AE$6:$AE$925,AD40)) -> 1 | AP40: =IF(Z40=AN40,"OK","@@") -> OK
A41: =IFERROR(VLOOKUP($C41,구분표!$A$2:$C$313,2,FALSE),"") -> 농정해양위원회 | B41: =IFERROR(VLOOKUP($C41,구분표!$A$2:$C$313,3,FALSE),"") -> 축산산림국 | C41: 산림과 | D41: 신규 | G41: 국고보조금 - 산림복합경영단지 | J41: 572580 | K41: =SUM(H41:J41) -> 572580 | M41: 572580 | N41: =SUM(H41,L41,M41) -> 572580 | O41: =IF(AND((K41=0),(N41>0)),"O",IF(AND((I41<0),(K41-N41<0)),"O","X")) -> X | P41: 국비내시 | R41: 국도비 | T41: 국비 | U41: 572580 | V41: 0 | W41: =IF(SUM($I41:$J41)=SUM($U41:$V41),"OK","검토") -> OK | Y41: 국비 | Z41: 572580 | AA41: 0 | AB41: =IF(SUM(L41:M41)=SUM(Z41:AA41),"OK","검토") -> OK | AD41: =IF(AF41="","",IF(T41="도비","세입없음",CONCATENATE(AF41,"-",COUNTIF($AF$7:AF41,AF41)))) -> 0229-2 | AF41: {=IF(C41="","",INDEX(구분표!$I$2:$I$313, MATCH(1,(구분표!$E$2:$E$313='17년일입'!B41)*(구분표!$F$2:$F$313='17년일입'!C41)*(구분표!$G$2:$G$313='17년일입'!A41),0)))} -> 0229 | AJ41: =IF(AD41="",0,SUMIFS('17년일출'!$V$6:$V$925,'17년일출'!$AE$6:$AE$925,'17년일입'!$AD41)) -> 572580 | AK41: =IF(AD41="","",COUNTIFS('17년일출'!$AE$6:$AE$925,'17년일입'!AD41)) -> 1 | AL41: =IF(U41=AJ41,"OK","@@") -> OK | AN41: =IF(AD41="",0,SUMIFS('17년일출'!$AA$6:$AA$925,'17년일출'!$AE$6:$AE$925,'17년일입'!$AD41)) -> 572580 | AO41: =IF(AD41="","",COUNTIFS('17년일출'!$AE$6:$AE$925,AD41)) -> 1 | AP41: =IF(Z41=AN41,"OK","@@") -> OK
A42: =IFERROR(VLOOKUP($C42,구분표!$A$2:$C$313,2,FALSE),"") -> 농정해양위원회 | B42: =IFERROR(VLOOKUP($C42,구분표!$A$2:$C$313,3,FALSE),"") -> 축산산림국 | C42: 축산진흥센터 | D42: 본예산 | E42: 688 | G42: 기금 - 한우젖소개량 자본지원(자치단체) | H42: 158889 | J42: 111 | K42: =SUM(H42:J42) -> 159000 | M42: 111 | N42: =SUM(H42,L42,M42) -> 159000 | O42: =IF(AND((K42=0),(N42>0)),"O",IF(AND((I42<0),(K42-N42<0)),"O","X")) -> X | P42: 국비내시 | R42: 국도비 | T42: 기금 | U42: 111 | V42: 0 | W42: =IF(SUM($I42:$J42)=SUM($U42:$V42),"OK","검토") -> OK | Y42: 기금 | Z42: 111 | AA42: 0 | AB42: =IF(SUM(L42:M42)=SUM(Z42:AA42),"OK","검토") -> OK | AD42: =IF(AF42="","",IF(T42="도비","세입없음",CONCATENATE(AF42,"-",COUNTIF($AF$7:AF42,AF42)))) -> 0233-1 | AF42: {=IF(C42="","",INDEX(구분표!$I$2:$I$313, MATCH(1,(구분표!$E$2:$E$313='17년일입'!B42)*(구분표!$F$2:$F$313='17년일입'!C42)*(구분표!$G$2:$G$313='17년일입'!A42),0)))} -> 0233 | AJ42: =IF(AD42="",0,SUMIFS('17년일출'!$V$6:$V$925,'17년일출'!$AE$6:$AE$925,'17년일입'!$AD42)) -> 111 | AK42: =IF(AD42="","",COUNTIFS('17년일출'!$AE$6:$AE$925,'17년일입'!AD42)) -> 3 | AL42: =IF(U42=AJ42,"OK","@@") -> OK | AN42: =IF(AD42="",0,SUMIFS('17년일출'!$AA$6:$AA$925,'17년일출'!$AE$6:$AE$925,'17년일입'!$AD42)) -> 111 | AO42: =IF(AD42="","",COUNTIFS('17년일출'!$AE$6:$AE$925,AD42)) -> 3 | AP42: =IF(Z42=AN42,"OK","@@") -> OK
A43: =IFERROR(VLOOKUP($C43,구분표!$A$2:$C$313,2,FALSE),"") -> 농정해양위원회 | B43: =IFERROR(VLOOKUP($C43,구분표!$A$2:$C$313,3,FALSE),"") -> 농업기술원 | C43: 행정지원과 | D43: 신규 | G43: 국고보조금 - 스마트 팜 권역별 현장지원센터 지원사업 | J43: 75000 | K43: =SUM(H43:J43) -> 75000 | M43: 75000 | N43: =SUM(H43,L43,M43) -> 75000 | O43: =IF(AND((K43=0),(N43>0)),"O",IF(AND((I43<0),(K43-N43<0)),"O","X")) -> X | P43: 국비내시 | R43: 국도비 | T43: 국비 | U43: 75000 | V43: 0 | W43: =IF(SUM($I43:$J43)=SUM($U43:$V43),"OK","검토") -> OK | Y43: 국비 | Z43: 75000 | AA43: 0 | AB43: =IF(SUM(L43:M43)=SUM(Z43:AA43),"OK","검토") -> OK | AD43: =IF(AF43="","",IF(T43="도비","세입없음",CONCATENATE(AF43,"-",COUNTIF($AF$7:AF43,AF43)))) -> 0234-1 | AF43: {=IF(C43="","",INDEX(구분표!$I$2:$I$313, MATCH(1,(구분표!$E$2:$E$313='17년일입'!B43)*(구분표!$F$2:$F$313='17년일입'!C43)*(구분표!$G$2:$G$313='17년일입'!A43),0)))} -> 0234 | AJ43: =IF(AD43="",0,SUMIFS('17년일출'!$V$6:$V$925,'17년일출'!$AE$6:$AE$925,'17년일입'!$AD43)) -> 75000 | AK43: =IF(AD43="","",COUNTIFS('17년일출'!$AE$6:$AE$925,'17년일입'!AD43)) -> 8 | AL43: =IF(U43=AJ43,"OK","@@") -> OK | AN43: =IF(AD43="",0,SUMIFS('17년일출'!$AA$6:$AA$925,'17년일출'!$AE$6:$AE$925,'17년일입'!$AD43)) -> 75000 | AO43: =IF(AD43="","",COUNTIFS('17년일출'!$AE$6:$AE$925,AD43)) -> 8 | AP43: =IF(Z43=AN43,"OK","@@") -> OK
A44: =IFERROR(VLOOKUP($C44,구분표!$A$2:$C$313,2,FALSE),"") -> 농정해양위원회 | B44: =IFERROR(VLOOKUP($C44,구분표!$A$2:$C$313,3,FALSE),"") -> 농업기술원 | C44: 행정지원과 | D44: 본예산 | E44: 787 | F44: 14 | G44: 국고보조금 - 지역전략작목산학연협력 | H44: 683700 | I44: -33700 | J44: 0 | K44: =SUM(H44:J44) -> 650000 | L44: -33700 | M44: 0 | N44: =SUM(H44,L44,M44) -> 650000 | O44: =IF(AND((K44=0),(N44>0)),"O",IF(AND((I44<0),(K44-N44<0)),"O","X")) -> X | P44: 예산 입력 오류 | R44: 국도비 | T44: 국비 | U44: -33700 | V44: 0 | W44: =IF(SUM($I44:$J44)=SUM($U44:$V44),"OK","검토") -> OK | Y44: 국비 | Z44: -33700 | AA44: 0 | AB44: =IF(SUM(L44:M44)=SUM(Z44:AA44),"OK","검토") -> OK | AD44: =IF(AF44="","",IF(T44="도비","세입없음",CONCATENATE(AF44,"-",COUNTIF($AF$7:AF44,AF44)))) -> 0234-2 | AF44: {=IF(C44="","",INDEX(구분표!$I$2:$I$313, MATCH(1,(구분표!$E$2:$E$313='17년일입'!B44)*(구분표!$F$2:$F$313='17년일입'!C44)*(구분표!$G$2:$G$313='17년일입'!A44),0)))} -> 0234 | AJ44: =IF(AD44="",0,SUMIFS('17년일출'!$V$6:$V$925,'17년일출'!$AE$6:$AE$925,'17년일입'!$AD44)) -> -5500 | AK44: =IF(AD44="","",COUNTIFS('17년일출'!$AE$6:$AE$925,'17년일입'!AD44)) -> 3 | AL44: =IF(U44=AJ44,"OK","@@") -> @@ | AN44: =IF(AD44="",0,SUMIFS('17년일출'!$AA$6:$AA$925,'17년일출'!$AE$6:$AE$925,'17년일입'!$AD44)) -> -5500 | AO44: =IF(AD44="","",COUNTIFS('17년일출'!$AE$6:$AE$925,AD44)) -> 3 | AP44: =IF(Z44=AN44,"OK","@@") -> @@
A45: =IFERROR(VLOOKUP($C45,구분표!$A$2:$C$313,2,FALSE),"") -> 농정해양위원회 | B45: =IFERROR(VLOOKUP($C45,구분표!$A$2:$C$313,3,FALSE),"") -> 농업기술원 | C45: 행정지원과 | D45: 본예산 | E45: 787 | F45: 14 | G45: 국고보조금 - 지역특화작목기술개발 | H45: 656800 | J45: 28200 | K45: =SUM(H45:J45) -> 685000 | M45: 28200 | N45: =SUM(H45,L45,M45) -> 685000 | O45: =IF(AND((K45=0),(N45>0)),"O",IF(AND((I45<0),(K45-N45<0)),"O","X")) -> X | P45: 예산 입력 오류 | R45: 국도비 | T45: 국비 | U45: 28200 | V45: 0 | W45: =IF(SUM($I45:$J45)=SUM($U45:$V45),"OK","검토") -> OK | Y45: 국비 | Z45: 28200 | AA45: 0 | AB45: =IF(SUM(L45:M45)=SUM(Z45:AA45),"OK","검토") -> OK | AD45: =IF(AF45="","",IF(T45="도비","세입없음",CONCATENATE(AF45,"-",COUNTIF($AF$7:AF45,AF45)))) -> 0234-3 | AF45: {=IF(C45="","",INDEX(구분표!$I$2:$I$313, MATCH(1,(구분표!$E$2:$E$313='17년일입'!B45)*(구분표!$F$2:$F$313='17년일입'!C45)*(구분표!$G$2:$G$313='17년일입'!A45),0)))} -> 0234 | AJ45: =IF(AD45="",0,SUMIFS('17년일출'!$V$6:$V$925,'17년일출'!$AE$6:$AE$925,'17년일입'!$AD45)) -> 0 | AK45: =IF(AD45="","",COUNTIFS('17년일출'!$AE$6:$AE$925,'17년일입'!AD45)) -> 0 | AL45: =IF(U45=AJ45,"OK","@@") -> @@ | AN45: =IF(AD45="",0,SUMIFS('17년일출'!$AA$6:$AA$925,'17년일출'!$AE$6:$AE$925,'17년일입'!$AD45)) -> 0 | AO45: =IF(AD45="","",COUNTIFS('17년일출'!$AE$6:$AE$925,AD45)) -> 0 | AP45: =IF(Z45=AN45,"OK","@@") -> @@
A46: =IFERROR(VLOOKUP($C46,구분표!$A$2:$C$313,2,FALSE),"") -> 보건복지위원회 | B46: =IFERROR(VLOOKUP($C46,구분표!$A$2:$C$313,3,FALSE),"") -> 보건복지국 | C46: 사회적일자리과 | D46: 본예산 | E46: 875 | F46: 32 | G46: 국고보조금 - 노인일자리 및 사회활동지원 확대(지자체보조) | H46: 44600175 | J46: 7120225 | K46: =SUM(H46:J46) -> 51720400 | M46: 7120225 | N46: =SUM(H46,L46,M46) -> 51720400 | O46: =IF(AND((K46=0),(N46>0)),"O",IF(AND((I46<0),(K46-N46<0)),"O","X")) -> X | P46: 국비내시 | R46: 국도비 | T46: 국비 | U46: 7120225 | V46: 0 | W46: =IF(SUM($I46:$J46)=SUM($U46:$V46),"OK","검토") -> OK | Y46: 국비 | Z46: 7120225 | AA46: 0 | AB46: =IF(SUM(L46:M46)=SUM(Z46:AA46),"OK","검토") -> OK | AD46: =IF(AF46="","",IF(T46="도비","세입없음",CONCATENATE(AF46,"-",COUNTIF($AF$7:AF46,AF46)))) -> 0245-1 | AF46: {=IF(C46="","",INDEX(구분표!$I$2:$I$313, MATCH(1,(구분표!$E$2:$E$313='17년일입'!B46)*(구분표!$F$2:$F$313='17년일입'!C46)*(구분표!$G$2:$G$313='17년일입'!A46),0)))} -> 0245 | AJ46: =IF(AD46="",0,SUMIFS('17년일출'!$V$6:$V$925,'17년일출'!$AE$6:$AE$925,'17년일입'!$AD46)) -> 7120225 | AK46: =IF(AD46="","",COUNTIFS('17년일출'!$AE$6:$AE$925,'17년일입'!AD46)) -> 6 | AL46: =IF(U46=AJ46,"OK","@@") -> OK | AN46: =IF(AD46="",0,SUMIFS('17년일출'!$AA$6:$AA$925,'17년일출'!$AE$6:$AE$925,'17년일입'!$AD46)) -> 7120225 | AO46: =IF(AD46="","",COUNTIFS('17년일출'!$AE$6:$AE$925,AD46)) -> 6 | AP46: =IF(Z46=AN46,"OK","@@") -> OK
A47: =IFERROR(VLOOKUP($C47,구분표!$A$2:$C$313,2,FALSE),"") -> 보건복지위원회 | B47: =IFERROR(VLOOKUP($C47,구분표!$A$2:$C$313,3,FALSE),"") -> 보건복지국 | C47: 보건정책과 | D47: 본예산 | E47: 878 | F47: 13 | G47: 국고보조금 - 농어촌보건소 등 이전신축 | H47: 2341463 | I47: -1159790 | K47: =SUM(H47:J47) -> 1181673 | L47: -1029790 | N47: =SUM(H47,L47,M47) -> 1311673 | O47: =IF(AND((K47=0),(N47>0)),"O",IF(AND((I47<0),(K47-N47<0)),"O","X")) -> O | P47: 국비내시 | R47: 국도비 | T47: 국비 | U47: -1159790 | V47: 0 | W47: =IF(SUM($I47:$J47)=SUM($U47:$V47),"OK","검토") -> OK | Y47: 국비 | Z47: -1029790 | AA47: 0 | AB47: =IF(SUM(L47:M47)=SUM(Z47:AA47),"OK","검토") -> OK | AD47: =IF(AF47="","",IF(T47="도비","세입없음",CONCATENATE(AF47,"-",COUNTIF($AF$7:AF47,AF47)))) -> 0248-1 | AF47: {=IF(C47="","",INDEX(구분표!$I$2:$I$313, MATCH(1,(구분표!$E$2:$E$313='17년일입'!B47)*(구분표!$F$2:$F$313='17년일입'!C47)*(구분표!$G$2:$G$313='17년일입'!A47),0)))} -> 0248 | AJ47: =IF(AD47="",0,SUMIFS('17년일출'!$V$6:$V$925,'17년일출'!$AE$6:$AE$925,'17년일입'!$AD47)) -> -1159790 | AK47: =IF(AD47="","",COUNTIFS('17년일출'!$AE$6:$AE$925,'17년일입'!AD47)) -> 1 | AL47: =IF(U47=AJ47,"OK","@@") -> OK | AN47: =IF(AD47="",0,SUMIFS('17년일출'!$AA$6:$AA$925,'17년일출'!$AE$6:$AE$925,'17년일입'!$AD47)) -> -1029790 | AO47: =IF(AD47="","",COUNTIFS('17년일출'!$AE$6:$AE$925,AD47)) -> 1 | AP47: =IF(Z47=AN47,"OK","@@") -> OK
A48: =IFERROR(VLOOKUP($C48,구분표!$A$2:$C$313,2,FALSE),"") -> 보건복지위원회 | B48: =IFERROR(VLOOKUP($C48,구분표!$A$2:$C$313,3,FALSE),"") -> 보건복지국 | C48: 보건정책과 | D48: 본예산 | E48: 878 | F48: 22 | G48: 기금 - 건강생활지원센터 시설.장비 확충 | H48: 69000 | I48: -69000 | K48: =SUM(H48:J48) -> 0 | L48: -69000 | N48: =SUM(H48,L48,M48) -> 0 | O48: =IF(AND((K48=0),(N48>0)),"O",IF(AND((I48<0),(K48-N48<0)),"O","X")) -> X | P48: 국비내시 | R48: 국도비 | T48: 기금 | U48: -69000 | V48: 0 | W48: =IF(SUM($I48:$J48)=SUM($U48:$V48),"OK","검토") -> OK | Y48: 기금 | Z48: -69000 | AA48: 0 | AB48: =IF(SUM(L48:M48)=SUM(Z48:AA48),"OK","검토") -> OK | AD48: =IF(AF48="","",IF(T48="도비","세입없음",CONCATENATE(AF48,"-",COUNTIF($AF$7:AF48,AF48)))) -> 0248-2 | AF48: {=IF(C48="","",INDEX(구분표!$I$2:$I$313, MATCH(1,(구분표!$E$2:$E$313='17년일입'!B48)*(구분표!$F$2:$F$313='17년일입'!C48)*(구분표!$G$2:$G$313='17년일입'!A48),0)))} -> 0248 | AJ48: =IF(AD48="",0,SUMIFS('17년일출'!$V$6:$V$925,'17년일출'!$AE$6:$AE$925,'17년일입'!$AD48)) -> -69000 | AK48: =IF(AD48="","",COUNTIFS('17년일출'!$AE$6:$AE$925,'17년일입'!AD48)) -> 1 | AL48: =IF(U48=AJ48,"OK","@@") -> OK | AN48: =IF(AD48="",0,SUMIFS('17년일출'!$AA$6:$AA$925,'17년일출'!$AE$6:$AE$925,'17년일입'!$AD48)) -> -69000 | AO48: =IF(AD48="","",COUNTIFS('17년일출'!$AE$6:$AE$925,AD48)) -> 1 | AP48: =IF(Z48=AN48,"OK","@@") -> OK
A49: =IFERROR(VLOOKUP($C49,구분표!$A$2:$C$313,2,FALSE),"") -> 보건복지위원회 | B49: =IFERROR(VLOOKUP($C49,구분표!$A$2:$C$313,3,FALSE),"") -> 보건복지국 | C49: 건강증진과 | D49: 본예산 | E49: 879 | F49: 50 | G49: 국고보조금 - 지방의료원 기능보강사업 | H49: 9152000 | I49: -1375000 | K49: =SUM(H49:J49) -> 7777000 | L49: -1375000 | N49: =SUM(H49,L49,M49) -> 7777000 | O49: =IF(AND((K49=0),(N49>0)),"O",IF(AND((I49<0),(K49-N49<0)),"O","X")) -> X | P49: 국비내시 | R49: 국도비 | T49: 국비 | U49: -1375000 | V49: 0 | W49: =IF(SUM($I49:$J49)=SUM($U49:$V49),"OK","검토") -> OK | Y49: 국비 | Z49: -1375000 | AA49: 0 | AB49: =IF(SUM(L49:M49)=SUM(Z49:AA49),"OK","검토") -> OK | AD49: =IF(AF49="","",IF(T49="도비","세입없음",CONCATENATE(AF49,"-",COUNTIF($AF$7:AF49,AF49)))) -> 0250-1 | AF49: {=IF(C49="","",INDEX(구분표!$I$2:$I$313, MATCH(1,(구분표!$E$2:$E$313='17년일입'!B49)*(구분표!$F$2:$F$313='17년일입'!C49)*(구분표!$G$2:$G$313='17년일입'!A49),0)))} -> 0250 | AJ49: =IF(AD49="",0,SUMIFS('17년일출'!$V$6:$V$925,'17년일출'!$AE$6:$AE$925,'17년일입'!$AD49)) -> -1375000 | AK49: =IF(AD49="","",COUNTIFS('17년일출'!$AE$6:$AE$925,'17년일입'!AD49)) -> 1 | AL49: =IF(U49=AJ49,"OK","@@") -> OK | AN49: =IF(AD49="",0,SUMIFS('17년일출'!$AA$6:$AA$925,'17년일출'!$AE$6:$AE$925,'17년일입'!$AD49)) -> -1375000 | AO49: =IF(AD49="","",COUNTIFS('17년일출'!$AE$6:$AE$925,AD49)) -> 1 | AP49: =IF(Z49=AN49,"OK","@@") -> OK
A50: =IFERROR(VLOOKUP($C50,구분표!$A$2:$C$313,2,FALSE),"") -> 건설교통위원회 | B50: =IFERROR(VLOOKUP($C50,구분표!$A$2:$C$313,3,FALSE),"") -> 철도국 | C50: 광역도시철도과 | D50: 신규 | G50: 일반부담금 - 경기도 도시철도망 구축 추진(일반부담금, LH) | J50: 180000 | K50: =SUM(H50:J50) -> 180000 | M50: 180000 | N50: =SUM(H50,L50,M50) -> 180000 | O50: =IF(AND((K50=0),(N50>0)),"O",IF(AND((I50<0),(K50-N50<0)),"O","X")) -> X | R50: 도비 | T50: 도비 | U50: 0 | V50: 180000 | W50: =IF(SUM($I50:$J50)=SUM($U50:$V50),"OK","검토") -> OK | Y50: 도비 | Z50: 0 | AA50: 180000 | AB50: =IF(SUM(L50:M50)=SUM(Z50:AA50),"OK","검토") -> OK | AD50: 0259-1 | AF50: {=IF(C50="","",INDEX(구분표!$I$2:$I$313, MATCH(1,(구분표!$E$2:$E$313='17년일입'!B50)*(구분표!$F$2:$F$313='17년일입'!C50)*(구분표!$G$2:$G$313='17년일입'!A50),0)))} -> 0259 | AJ50: =IF(AD50="",0,SUMIFS('17년일출'!$V$6:$V$925,'17년일출'!$AE$6:$AE$925,'17년일입'!$AD50)) -> 0 | AK50: =IF(AD50="","",COUNTIFS('17년일출'!$AE$6:$AE$925,'17년일입'!AD50)) -> 0 | AL50: =IF(U50=AJ50,"OK","@@") -> OK | AN50: =IF(AD50="",0,SUMIFS('17년일출'!$AA$6:$AA$925,'17년일출'!$AE$6:$AE$925,'17년일입'!$AD50)) -> 0 | AO50: =IF(AD50="","",COUNTIFS('17년일출'!$AE$6:$AE$925,AD50)) -> 0 | AP50: =IF(Z50=AN50,"OK","@@") -> OK
A51: =IFERROR(VLOOKUP($C51,구분표!$A$2:$C$313,2,FALSE),"") -> 도시환경위원회 | B51: =IFERROR(VLOOKUP($C51,구분표!$A$2:$C$313,3,FALSE),"") -> 도시주택실 | C51: 지역정책과 | D51: 본예산 | E51: 1163 | F51: 4 | G51: 국고보조금 - 개발제한구역 주민지원사업 | H51: 22165327 | I51: -1200000 | K51: =SUM(H51:J51) -> 20965327 | L51: -1200000 | N51: =SUM(H51,L51,M51) -> 20965327 | O51: =IF(AND((K51=0),(N51>0)),"O",IF(AND((I51<0),(K51-N51<0)),"O","X")) -> X | P51: 국비내시 | R51: 국도비 | T51: 국비 | U51: -1200000 | V51: 0 | W51: =IF(SUM($I51:$J51)=SUM($U51:$V51),"OK","검토") -> OK | Y51: 국비 | Z51: -1200000 | AA51: 0 | AB51: =IF(SUM(L51:M51)=SUM(Z51:AA51),"OK","검토") -> OK | AD51: =IF(AF51="","",IF(T51="도비","세입없음",CONCATENATE(AF51,"-",COUNTIF($AF$7:AF51,AF51)))) -> 0275-1 | AF51: {=IF(C51="","",INDEX(구분표!$I$2:$I$313, MATCH(1,(구분표!$E$2:$E$313='17년일입'!B51)*(구분표!$F$2:$F$313='17년일입'!C51)*(구분표!$G$2:$G$313='17년일입'!A51),0)))} -> 0275 | AJ51: =IF(AD51="",0,SUMIFS('17년일출'!$V$6:$V$925,'17년일출'!$AE$6:$AE$925,'17년일입'!$AD51)) -> -1200000 | AK51: =IF(AD51="","",COUNTIFS('17년일출'!$AE$6:$AE$925,'17년일입'!AD51)) -> 1 | AL51: =IF(U51=AJ51,"OK","@@") -> OK | AN51: =IF(AD51="",0,SUMIFS('17년일출'!$AA$6:$AA$925,'17년일출'!$AE$6:$AE$925,'17년일입'!$AD51)) -> -1200000 | AO51: =IF(AD51="","",COUNTIFS('17년일출'!$AE$6:$AE$925,AD51)) -> 1 | AP51: =IF(Z51=AN51,"OK","@@") -> OK
A52: =IFERROR(VLOOKUP($C52,구분표!$A$2:$C$313,2,FALSE),"") -> 도시환경위원회 | B52: =IFERROR(VLOOKUP($C52,구분표!$A$2:$C$313,3,FALSE),"") -> 도시주택실 | C52: 토지정보과 | D52: 본예산 | E52: 1165 | F52: 21 | G52: 국고보조금 - 지적관리 | H52: 63757 | I52: -2311 | K52: =SUM(H52:J52) -> 61446 | L52: -2311 | N52: =SUM(H52,L52,M52) -> 61446 | O52: =IF(AND((K52=0),(N52>0)),"O",IF(AND((I52<0),(K52-N52<0)),"O","X")) -> X | P52: 국비내시 | R52: 국도비 | T52: 국비 | U52: -2311 | V52: 0 | W52: =IF(SUM($I52:$J52)=SUM($U52:$V52),"OK","검토") -> OK | Y52: 국비 | Z52: -2311 | AA52: 0 | AB52: =IF(SUM(L52:M52)=SUM(Z52:AA52),"OK","검토") -> OK | AD52: =IF(AF52="","",IF(T52="도비","세입없음",CONCATENATE(AF52,"-",COUNTIF($AF$7:AF52,AF52)))) -> 0281-1 | AF52: {=IF(C52="","",INDEX(구분표!$I$2:$I$313, MATCH(1,(구분표!$E$2:$E$313='17년일입'!B52)*(구분표!$F$2:$F$313='17년일입'!C52)*(구분표!$G$2:$G$313='17년일입'!A52),0)))} -> 0281 | AJ52: =IF(AD52="",0,SUMIFS('17년일출'!$V$6:$V$925,'17년일출'!$AE$6:$AE$925,'17년일입'!$AD52)) -> -2311 | AK52: =IF(AD52="","",COUNTIFS('17년일출'!$AE$6:$AE$925,'17년일입'!AD52)) -> 2 | AL52: =IF(U52=AJ52,"OK","@@") -> OK | AN52: =IF(AD52="",0,SUMIFS('17년일출'!$AA$6:$AA$925,'17년일출'!$AE$6:$AE$925,'17년일입'!$AD52)) -> -2311 | AO52: =IF(AD52="","",COUNTIFS('17년일출'!$AE$6:$AE$925,AD52)) -> 2 | AP52: =IF(Z52=AN52,"OK","@@") -> OK
A53: =IFERROR(VLOOKUP($C53,구분표!$A$2:$C$313,2,FALSE),"") -> 도시환경위원회 | B53: =IFERROR(VLOOKUP($C53,구분표!$A$2:$C$313,3,FALSE),"") -> 축산산림국 | C53: 공원녹지과 | D53: 본예산 | E53: 1239 | F53: 3 | G53: 기금 - 산림환경기능증진 자금지원 (기존: 복지시설 나눔숲 조성) | H53: 768000 | K53: =SUM(H53:J53) -> 768000 | N53: =SUM(H53,L53,M53) -> 768000 | O53: =IF(AND((K53=0),(N53>0)),"O",IF(AND((I53<0),(K53-N53<0)),"O","X")) -> X | P53: 부기명 변경 | R53: 국도비 | T53: 기금 | U53: 0 | V53: 0 | W53: =IF(SUM($I53:$J53)=SUM($U53:$V53),"OK","검토") -> OK | Y53: 기금 | Z53: 0 | AA53: 0 | AB53: =IF(SUM(L53:M53)=SUM(Z53:AA53),"OK","검토") -> OK | AD53: =IF(AF53="","",IF(T53="도비","세입없음",CONCATENATE(AF53,"-",COUNTIF($AF$7:AF53,AF53)))) -> 0292-1 | AF53: {=IF(C53="","",INDEX(구분표!$I$2:$I$313, MATCH(1,(구분표!$E$2:$E$313='17년일입'!B53)*(구분표!$F$2:$F$313='17년일입'!C53)*(구분표!$G$2:$G$313='17년일입'!A53),0)))} -> 0292 | AJ53: =IF(AD53="",0,SUMIFS('17년일출'!$V$6:$V$925,'17년일출'!$AE$6:$AE$925,'17년일입'!$AD53)) -> 0 | AK53: =IF(AD53="","",COUNTIFS('17년일출'!$AE$6:$AE$925,'17년일입'!AD53)) -> 0 | AL53: =IF(U53=AJ53,"OK","@@") -> OK | AN53: =IF(AD53="",0,SUMIFS('17년일출'!$AA$6:$AA$925,'17년일출'!$AE$6:$AE$925,'17년일입'!$AD53)) -> 0 | AO53: =IF(AD53="","",COUNTIFS('17년일출'!$AE$6:$AE$925,AD53)) -> 0 | AP53: =IF(Z53=AN53,"OK","@@") -> OK
A54: =IFERROR(VLOOKUP($C54,구분표!$A$2:$C$313,2,FALSE),"") -> 여성가족교육협력위원회 | B54: =IFERROR(VLOOKUP($C54,구분표!$A$2:$C$313,3,FALSE),"") -> 여성가족국 | C54: 아동청소년과 | D54: 본예산 | E54: 1314 | F54: 19 | G54: 국고보조금 - 지방청소년활동진흥센터 기능강화 | H54: 183600 | J54: 1950 | K54: =SUM(H54:J54) -> 185550 | M54: 1950 | N54: =SUM(H54,L54,M54) -> 185550 | O54: =IF(AND((K54=0),(N54>0)),"O",IF(AND((I54<0),(K54-N54<0)),"O","X")) -> X | P54: 국비내시 | R54: 국도비 | T54: 국비 | U54: 1950 | V54: 0 | W54: =IF(SUM($I54:$J54)=SUM($U54:$V54),"OK","검토") -> OK | Y54: 국비 | Z54: 1950 | AA54: 0 | AB54: =IF(SUM(L54:M54)=SUM(Z54:AA54),"OK","검토") -> OK | AD54: =IF(AF54="","",IF(T54="도비","세입없음",CONCATENATE(AF54,"-",COUNTIF($AF$7:AF54,AF54)))) -> 0303-1 | AF54: {=IF(C54="","",INDEX(구분표!$I$2:$I$313, MATCH(1,(구분표!$E$2:$E$313='17년일입'!B54)*(구분표!$F$2:$F$313='17년일입'!C54)*(구분표!$G$2:$G$313='17년일입'!A54),0)))} -> 0303 | AJ54: =IF(AD54="",0,SUMIFS('17년일출'!$V$6:$V$925,'17년일출'!$AE$6:$AE$925,'17년일입'!$AD54)) -> 1950 | AK54: =IF(AD54="","",COUNTIFS('17년일출'!$AE$6:$AE$925,'17년일입'!AD54)) -> 1 | AL54: =IF(U54=AJ54,"OK","@@") -> OK | AN54: =IF(AD54="",0,SUMIFS('17년일출'!$AA$6:$AA$925,'17년일출'!$AE$6:$AE$925,'17년일입'!$AD54)) -> 1950 | AO54: =IF(AD54="","",COUNTIFS('17년일출'!$AE$6:$AE$925,AD54)) -> 1 | AP54: =IF(Z54=AN54,"OK","@@") -> OK
A55: =IFERROR(VLOOKUP($C55,구분표!$A$2:$C$313,2,FALSE),"") -> 여성가족교육협력위원회 | B55: =IFERROR(VLOOKUP($C55,구분표!$A$2:$C$313,3,FALSE),"") -> 여성가족국 | C55: 아동청소년과 | D55: 본예산 | E55: 1314 | F55: 19 | G55: 국고보조금 - 지역아동센터 운영비 지원 | H55: 23078407 | J55: 527855 | K55: =SUM(H55:J55) -> 23606262 | M55: 527855 | N55: =SUM(H55,L55,M55) -> 23606262 | O55: =IF(AND((K55=0),(N55>0)),"O",IF(AND((I55<0),(K55-N55<0)),"O","X")) -> X | P55: 국비내시 | R55: 국도비 | T55: 국비 | U55: 527855 | V55: 0 | W55: =IF(SUM($I55:$J55)=SUM($U55:$V55),"OK","검토") -> OK | Y55: 국비 | Z55: 527855 | AA55: 0 | AB55: =IF(SUM(L55:M55)=SUM(Z55:AA55),"OK","검토") -> OK | AD55: =IF(AF55="","",IF(T55="도비","세입없음",CONCATENATE(AF55,"-",COUNTIF($AF$7:AF55,AF55)))) -> 0303-2 | AF55: {=IF(C55="","",INDEX(구분표!$I$2:$I$313, MATCH(1,(구분표!$E$2:$E$313='17년일입'!B55)*(구분표!$F$2:$F$313='17년일입'!C55)*(구분표!$G$2:$G$313='17년일입'!A55),0)))} -> 0303 | AJ55: =IF(AD55="",0,SUMIFS('17년일출'!$V$6:$V$925,'17년일출'!$AE$6:$AE$925,'17년일입'!$AD55)) -> 527855 | AK55: =IF(AD55="","",COUNTIFS('17년일출'!$AE$6:$AE$925,'17년일입'!AD55)) -> 2 | AL55: =IF(U55=AJ55,"OK","@@") -> OK | AN55: =IF(AD55="",0,SUMIFS('17년일출'!$AA$6:$AA$925,'17년일출'!$AE$6:$AE$925,'17년일입'!$AD55)) -> 527855 | AO55: =IF(AD55="","",COUNTIFS('17년일출'!$AE$6:$AE$925,AD55)) -> 2 | AP55: =IF(Z55=AN55,"OK","@@") -> OK
A56: =IFERROR(VLOOKUP($C56,구분표!$A$2:$C$313,2,FALSE),"") -> 여성가족교육협력위원회 | B56: =IFERROR(VLOOKUP($C56,구분표!$A$2:$C$313,3,FALSE),"") -> 여성가족국 | C56: 아동청소년과 | D56: 본예산 | E56: 1314 | F56: 19 | G56: 국고보조금 - 평가 및 평가단운영(지역아동센터 평가지원) | H56: 69000 | J56: 10277 | K56: =SUM(H56:J56) -> 79277 | M56: 10277 | N56: =SUM(H56,L56,M56) -> 79277 | O56: =IF(AND((K56=0),(N56>0)),"O",IF(AND((I56<0),(K56-N56<0)),"O","X")) -> X | P56: 국비내시 | R56: 국도비 | T56: 국비 | U56: 10277 | V56: 0 | W56: =IF(SUM($I56:$J56)=SUM($U56:$V56),"OK","검토") -> OK | Y56: 국비 | Z56: 10277 | AA56: 0 | AB56: =IF(SUM(L56:M56)=SUM(Z56:AA56),"OK","검토") -> OK | AD56: =IF(AF56="","",IF(T56="도비","세입없음",CONCATENATE(AF56,"-",COUNTIF($AF$7:AF56,AF56)))) -> 0303-3 | AF56: {=IF(C56="","",INDEX(구분표!$I$2:$I$313, MATCH(1,(구분표!$E$2:$E$313='17년일입'!B56)*(구분표!$F$2:$F$313='17년일입'!C56)*(구분표!$G$2:$G$313='17년일입'!A56),0)))} -> 0303 | AJ56: =IF(AD56="",0,SUMIFS('17년일출'!$V$6:$V$925,'17년일출'!$AE$6:$AE$925,'17년일입'!$AD56)) -> 10277 | AK56: =IF(AD56="","",COUNTIFS('17년일출'!$AE$6:$AE$925,'17년일입'!AD56)) -> 1 | AL56: =IF(U56=AJ56,"OK","@@") -> OK | AN56: =IF(AD56="",0,SUMIFS('17년일출'!$AA$6:$AA$925,'17년일출'!$AE$6:$AE$925,'17년일입'!$AD56)) -> 10277 | AO56: =IF(AD56="","",COUNTIFS('17년일출'!$AE$6:$AE$925,AD56)) -> 1 | AP56: =IF(Z56=AN56,"OK","@@") -> OK
A57: =IFERROR(VLOOKUP($C57,구분표!$A$2:$C$313,2,FALSE),"") -> 여성가족교육협력위원회 | B57: =IFERROR(VLOOKUP($C57,구분표!$A$2:$C$313,3,FALSE),"") -> 여성가족국 | C57: 아동청소년과 | D57: 본예산 | E57: 1314 | F57: 19 | G57: 국고보조금 - 아동복지교사파견 | H57: 4340408 | I57: -19448 | K57: =SUM(H57:J57) -> 4320960 | L57: -19448 | N57: =SUM(H57,L57,M57) -> 4320960 | O57: =IF(AND((K57=0),(N57>0)),"O",IF(AND((I57<0),(K57-N57<0)),"O","X")) -> X | P57: 국비내시 | R57: 국도비 | T57: 국비 | U57: -19448 | V57: 0 | W57: =IF(SUM($I57:$J57)=SUM($U57:$V57),"OK","검토") -> OK | Y57: 국비 | Z57: -19448 | AA57: 0 | AB57: =IF(SUM(L57:M57)=SUM(Z57:AA57),"OK","검토") -> OK | AD57: =IF(AF57="","",IF(T57="도비","세입없음",CONCATENATE(AF57,"-",COUNTIF($AF$7:AF57,AF57)))) -> 0303-4 | AF57: {=IF(C57="","",INDEX(구분표!$I$2:$I$313, MATCH(1,(구분표!$E$2:$E$313='17년일입'!B57)*(구분표!$F$2:$F$313='17년일입'!C57)*(구분표!$G$2:$G$313='17년일입'!A57),0)))} -> 0303 | AJ57: =IF(AD57="",0,SUMIFS('17년일출'!$V$6:$V$925,'17년일출'!$AE$6:$AE$925,'17년일입'!$AD57)) -> -19448 | AK57: =IF(AD57="","",COUNTIFS('17년일출'!$AE$6:$AE$925,'17년일입'!AD57)) -> 1 | AL57: =IF(U57=AJ57,"OK","@@") -> OK | AN57: =IF(AD57="",0,SUMIFS('17년일출'!$AA$6:$AA$925,'17년일출'!$AE$6:$AE$925,'17년일입'!$AD57)) -> -19448 | AO57: =IF(AD57="","",COUNTIFS('17년일출'!$AE$6:$AE$925,AD57)) -> 1 | AP57: =IF(Z57=AN57,"OK","@@") -> OK
A58: =IFERROR(VLOOKUP($C58,구분표!$A$2:$C$313,2,FALSE),"") -> 여성가족교육협력위원회 | B58: =IFERROR(VLOOKUP($C58,구분표!$A$2:$C$313,3,FALSE),"") -> 교육협력국 | C58: 교육정책과 | D58: 본예산 | E58: 8 | F58: 1433 | G58: 자치단체간부담금 - 도-시군,공공기관e-러닝 교육 부담금 | H58: 771080 | I58: -5179 | K58: =SUM(H58:J58) -> 765901 | L58: -5179 | N58: =SUM(H58,L58,M58) -> 765901 | O58: =IF(AND((K58=0),(N58>0)),"O",IF(AND((I58<0),(K58-N58<0)),"O","X")) -> X | R58: 도비 | T58: 도비 | U58: =IF($T58<>"도비",IF($R58="국도비","직접입력",SUM($I58:$J58)),) -> 0 | V58: =IF($T58="도비",SUM($I58:$J58),IF($R58="국도비","직접입력",SUM($I58:$J58)-$U58)) -> -5179 | W58: =IF(SUM($I58:$J58)=SUM($U58:$V58),"OK","검토") -> OK | Y58: 도비 | Z58: 0 | AA58: -5179 | AB58: =IF(SUM(L58:M58)=SUM(Z58:AA58),"OK","검토") -> OK | AF58: {=IF(C58="","",INDEX(구분표!$I$2:$I$313, MATCH(1,(구분표!$E$2:$E$313='17년일입'!B58)*(구분표!$F$2:$F$313='17년일입'!C58)*(구분표!$G$2:$G$313='17년일입'!A58),0)))} -> 0311 | AJ58: =IF(AD58="",0,SUMIFS('17년일출'!$V$6:$V$925,'17년일출'!$AE$6:$AE$925,'17년일입'!$AD58)) -> 0 | AK58: =IF(AD58="","",COUNTIFS('17년일출'!$AE$6:$AE$925,'17년일입'!AD58)) | AL58: =IF(U58=AJ58,"OK","@@") -> OK | AN58: =IF(AD58="",0,SUMIFS('17년일출'!$AA$6:$AA$925,'17년일출'!$AE$6:$AE$925,'17년일입'!$AD58)) -> 0 | AO58: =IF(AD58="","",COUNTIFS('17년일출'!$AE$6:$AE$925,AD58)) | AP58: =IF(Z58=AN58,"OK","@@") -> OK
A59: =IFERROR(VLOOKUP($C59,구분표!$A$2:$C$313,2,FALSE),"") -> 농정해양위원회 | B59: =IFERROR(VLOOKUP($C59,구분표!$A$2:$C$313,3,FALSE),"") -> 농정해양국 | C59: 농식품유통과 | D59: 신규 | G59: 기금 - 식품소재 및 반가공 산업육성(자치단체) | H59: 0 | K59: =SUM(H59:J59) -> 0 | M59: 210000 | N59: =SUM(H59,L59,M59) -> 210000 | O59: =IF(AND((K59=0),(N59>0)),"O",IF(AND((I59<0),(K59-N59<0)),"O","X")) -> O | P59: 국비 내시 | R59: 국도비 | T59: 기금 | W59: =IF(SUM($I59:$J59)=SUM($U59:$V59),"OK","검토") -> OK | Y59: 기금 | Z59: 210000 | AA59: 0 | AB59: =IF(SUM(L59:M59)=SUM(Z59:AA59),"OK","검토") -> OK | AD59: =IF(AF59="","",IF(T59="도비","세입없음",CONCATENATE(AF59,"-",COUNTIF($AF$7:AF59,AF59)))) -> 0222-1 | AF59: {=IF(C59="","",INDEX(구분표!$I$2:$I$313, MATCH(1,(구분표!$E$2:$E$313='17년일입'!B59)*(구분표!$F$2:$F$313='17년일입'!C59)*(구분표!$G$2:$G$313='17년일입'!A59),0)))} -> 0222 | AJ59: =IF(AD59="",0,SUMIFS('17년일출'!$V$6:$V$925,'17년일출'!$AE$6:$AE$925,'17년일입'!$AD59)) -> 0 | AK59: =IF(AD59="","",COUNTIFS('17년일출'!$AE$6:$AE$925,'17년일입'!AD59)) -> 1 | AL59: =IF(U59=AJ59,"OK","@@") -> OK | AN59: =IF(AD59="",0,SUMIFS('17년일출'!$AA$6:$AA$925,'17년일출'!$AE$6:$AE$925,'17년일입'!$AD59)) -> 210000 | AO59: =IF(AD59="","",COUNTIFS('17년일출'!$AE$6:$AE$925,AD59)) -> 1 | AP59: =IF(Z59=AN59,"OK","@@") -> OK
A60: =IFERROR(VLOOKUP($C60,구분표!$A$2:$C$313,2,FALSE),"") -> 농정해양위원회 | B60: =IFERROR(VLOOKUP($C60,구분표!$A$2:$C$313,3,FALSE),"") -> 농정해양국 | C60: 농식품유통과 | D60: 신규 | G60: 국고보조금 - 수출유망품목 공동마케팅지원 | H60: 0 | K60: =SUM(H60:J60) -> 0 | M60: 160000 | N60: =SUM(H60,L60,M60) -> 160000 | O60: =IF(AND((K60=0),(N60>0)),"O",IF(AND((I60<0),(K60-N60<0)),"O","X")) -> O | P60: 국비 내시 | R60: 국도비 | T60: 국비 | W60: =IF(SUM($I60:$J60)=SUM($U60:$V60),"OK","검토") -> OK | Y60: 국비 | Z60: 160000 | AA60: 0 | AB60: =IF(SUM(L60:M60)=SUM(Z60:AA60),"OK","검토") -> OK | AD60: =IF(AF60="","",IF(T60="도비","세입없음",CONCATENATE(AF60,"-",COUNTIF($AF$7:AF60,AF60)))) -> 0222-2 | AF60: {=IF(C60="","",INDEX(구분표!$I$2:$I$313, MATCH(1,(구분표!$E$2:$E$313='17년일입'!B60)*(구분표!$F$2:$F$313='17년일입'!C60)*(구분표!$G$2:$G$313='17년일입'!A60),0)))} -> 0222 | AJ60: =IF(AD60="",0,SUMIFS('17년일출'!$V$6:$V$925,'17년일출'!$AE$6:$AE$925,'17년일입'!$AD60)) -> 0 | AK60: =IF(AD60="","",COUNTIFS('17년일출'!$AE$6:$AE$925,'17년일입'!AD60)) -> 1 | AL60: =IF(U60=AJ60,"OK","@@") -> OK | AN60: =IF(AD60="",0,SUMIFS('17년일출'!$AA$6:$AA$925,'17년일출'!$AE$6:$AE$925,'17년일입'!$AD60)) -> 160000 | AO60: =IF(AD60="","",COUNTIFS('17년일출'!$AE$6:$AE$925,AD60)) -> 1 | AP60: =IF(Z60=AN60,"OK","@@") -> OK
A61: =IFERROR(VLOOKUP($C61,구분표!$A$2:$C$313,2,FALSE),"") -> 농정해양위원회 | B61: =IFERROR(VLOOKUP($C61,구분표!$A$2:$C$313,3,FALSE),"") -> 농정해양국 | C61: 친환경농업과 | D61: 본예산 | E61: 613 | F61: 11 | G61: 국고보조금 - 들녘경영체 교육컨설팅 지원 | H61: 45000 | K61: =SUM(H61:J61) -> 45000 | L61: -5000 | N61: =SUM(H61,L61,M61) -> 40000 | O61: =IF(AND((K61=0),(N61>0)),"O",IF(AND((I61<0),(K61-N61<0)),"O","X")) -> X | P61: 국비 내시 | R61: 국도비 | T61: 국비 | W61: =IF(SUM($I61:$J61)=SUM($U61:$V61),"OK","검토") -> OK | Y61: 국비 | Z61: -5000 | AA61: 0 | AB61: =IF(SUM(L61:M61)=SUM(Z61:AA61),"OK","검토") -> OK | AD61: =IF(AF61="","",IF(T61="도비","세입없음",CONCATENATE(AF61,"-",COUNTIF($AF$7:AF61,AF61)))) -> 0223-4 | AF61: {=IF(C61="","",INDEX(구분표!$I$2:$I$313, MATCH(1,(구분표!$E$2:$E$313='17년일입'!B61)*(구분표!$F$2:$F$313='17년일입'!C61)*(구분표!$G$2:$G$313='17년일입'!A61),0)))} -> 0223 | AJ61: =IF(AD61="",0,SUMIFS('17년일출'!$V$6:$V$925,'17년일출'!$AE$6:$AE$925,'17년일입'!$AD61)) -> 0 | AK61: =IF(AD61="","",COUNTIFS('17년일출'!$AE$6:$AE$925,'17년일입'!AD61)) -> 1 | AL61: =IF(U61=AJ61,"OK","@@") -> OK | AN61: =IF(AD61="",0,SUMIFS('17년일출'!$AA$6:$AA$925,'17년일출'!$AE$6:$AE$925,'17년일입'!$AD61)) -> -5000 | AO61: =IF(AD61="","",COUNTIFS('17년일출'!$AE$6:$AE$925,AD61)) -> 1 | AP61: =IF(Z61=AN61,"OK","@@") -> OK
A62: =IFERROR(VLOOKUP($C62,구분표!$A$2:$C$313,2,FALSE),"") -> 농정해양위원회 | B62: =IFERROR(VLOOKUP($C62,구분표!$A$2:$C$313,3,FALSE),"") -> 농정해양국 | C62: 친환경농업과 | D62: 본예산 | E62: 613 | F62: 11 | G62: 기금 - 친환경퇴비생산시설현대화 지원 | H62: 217800 | K62: =SUM(H62:J62) -> 217800 | M62: 83600 | N62: =SUM(H62,L62,M62) -> 301400 | O62: =IF(AND((K62=0),(N62>0)),"O",IF(AND((I62<0),(K62-N62<0)),"O","X")) -> X | P62: 국비 내시 | R62: 국도비 | T62: 기금 | W62: =IF(SUM($I62:$J62)=SUM($U62:$V62),"OK","검토") -> OK | Y62: 기금 | Z62: 83600 | AA62: 0 | AB62: =IF(SUM(L62:M62)=SUM(Z62:AA62),"OK","검토") -> OK | AD62: =IF(AF62="","",IF(T62="도비","세입없음",CONCATENATE(AF62,"-",COUNTIF($AF$7:AF62,AF62)))) -> 0223-5 | AF62: {=IF(C62="","",INDEX(구분표!$I$2:$I$313, MATCH(1,(구분표!$E$2:$E$313='17년일입'!B62)*(구분표!$F$2:$F$313='17년일입'!C62)*(구분표!$G$2:$G$313='17년일입'!A62),0)))} -> 0223 | AJ62: =IF(AD62="",0,SUMIFS('17년일출'!$V$6:$V$925,'17년일출'!$AE$6:$AE$925,'17년일입'!$AD62)) -> 0 | AK62: =IF(AD62="","",COUNTIFS('17년일출'!$AE$6:$AE$925,'17년일입'!AD62)) -> 1 | AL62: =IF(U62=AJ62,"OK","@@") -> OK | AN62: =IF(AD62="",0,SUMIFS('17년일출'!$AA$6:$AA$925,'17년일출'!$AE$6:$AE$925,'17년일입'!$AD62)) -> 83600 | AO62: =IF(AD62="","",COUNTIFS('17년일출'!$AE$6:$AE$925,AD62)) -> 1 | AP62: =IF(Z62=AN62,"OK","@@") -> OK
A63: =IFERROR(VLOOKUP($C63,구분표!$A$2:$C$313,2,FALSE),"") -> 여성가족교육협력위원회 | B63: =IFERROR(VLOOKUP($C63,구분표!$A$2:$C$313,3,FALSE),"") -> 여성가족국 | C63: 보육정책과 | D63: 본예산 | E63: 1313 | F63: 16 | G63: 국고보조금 - 어린이집 환경개선 | H63: 821262 | K63: =SUM(H63:J63) -> 821262 | L63: -43000 | M63: 0 | N63: =SUM(H63,L63,M63) -> 778262 | O63: =IF(AND((K63=0),(N63>0)),"O",IF(AND((I63<0),(K63-N63<0)),"O","X")) -> X | P63: 세부사업명 추가 및 변경(국비사업 구조화) | R63: 국도비 | T63: 국비 | W63: =IF(SUM($I63:$J63)=SUM($U63:$V63),"OK","검토") -> OK | Y63: 국비 | Z63: -43000 | AA63: 0 | AB63: =IF(SUM(L63:M63)=SUM(Z63:AA63),"OK","검토") -> OK | AD63: =IF(AF63="","",IF(T63="도비","세입없음",CONCATENATE(AF63,"-",COUNTIF($AF$7:AF63,AF63)))) -> 0302-1 | AF63: {=IF(C63="","",INDEX(구분표!$I$2:$I$313, MATCH(1,(구분표!$E$2:$E$313='17년일입'!B63)*(구분표!$F$2:$F$313='17년일입'!C63)*(구분표!$G$2:$G$313='17년일입'!A63),0)))} -> 0302 | AJ63: =IF(AD63="",0,SUMIFS('17년일출'!$V$6:$V$925,'17년일출'!$AE$6:$AE$925,'17년일입'!$AD63)) -> 0 | AK63: =IF(AD63="","",COUNTIFS('17년일출'!$AE$6:$AE$925,'17년일입'!AD63)) -> 2 | AL63: =IF(U63=AJ63,"OK","@@") -> OK | AN63: =IF(AD63="",0,SUMIFS('17년일출'!$AA$6:$AA$925,'17년일출'!$AE$6:$AE$925,'17년일입'!$AD63)) -> -43000 | AO63: =IF(AD63="","",COUNTIFS('17년일출'!$AE$6:$AE$925,AD63)) -> 2 | AP63: =IF(Z63=AN63,"OK","@@") -> OK
A64: =IFERROR(VLOOKUP($C64,구분표!$A$2:$C$313,2,FALSE),"") -> 여성가족교육협력위원회 | B64: =IFERROR(VLOOKUP($C64,구분표!$A$2:$C$313,3,FALSE),"") -> 여성가족국 | C64: 보육정책과 | D64: 신규 | G64: 국고보조금 - 장애아시설 환경개선 | H64: 0 | K64: =SUM(H64:J64) -> 0 | M64: 43000 | N64: =SUM(H64,L64,M64) -> 43000 | O64: =IF(AND((K64=0),(N64>0)),"O",IF(AND((I64<0),(K64-N64<0)),"O","X")) -> O | P64: 세부사업명 추가 및 변경(국비사업 구조화) | R64: 국도비 | T64: 국비 | W64: =IF(SUM($I64:$J64)=SUM($U64:$V64),"OK","검토") -> OK | Y64: 국비 | Z64: 43000 | AA64: 0 | AB64: =IF(SUM(L64:M64)=SUM(Z64:AA64),"OK","검토") -> OK | AD64: =IF(AF64="","",IF(T64="도비","세입없음",CONCATENATE(AF64,"-",COUNTIF($AF$7:AF64,AF64)))) -> 0302-2 | AF64: {=IF(C64="","",INDEX(구분표!$I$2:$I$313, MATCH(1,(구분표!$E$2:$E$313='17년일입'!B64)*(구분표!$F$2:$F$313='17년일입'!C64)*(구분표!$G$2:$G$313='17년일입'!A64),0)))} -> 0302 | AJ64: =IF(AD64="",0,SUMIFS('17년일출'!$V$6:$V$925,'17년일출'!$AE$6:$AE$925,'17년일입'!$AD64)) -> 0 | AK64: =IF(AD64="","",COUNTIFS('17년일출'!$AE$6:$AE$925,'17년일입'!AD64)) -> 2 | AL64: =IF(U64=AJ64,"OK","@@") -> OK | AN64: =IF(AD64="",0,SUMIFS('17년일출'!$AA$6:$AA$925,'17년일출'!$AE$6:$AE$925,'17년일입'!$AD64)) -> 43000 | AO64: =IF(AD64="","",COUNTIFS('17년일출'!$AE$6:$AE$925,AD64)) -> 2 | AP64: =IF(Z64=AN64,"OK","@@") -> OK
A65: =IFERROR(VLOOKUP($C65,구분표!$A$2:$C$313,2,FALSE),"") -> 여성가족교육협력위원회 | B65: =IFERROR(VLOOKUP($C65,구분표!$A$2:$C$313,3,FALSE),"") -> 여성가족국 | C65: 아동청소년과 | D65: 본예산 | G65: 기금 - 청소년지도사배치지원 | H65: 732480 | K65: =SUM(H65:J65) -> 732480 | M65: 24600 | N65: =SUM(H65,L65,M65) -> 757080 | O65: =IF(AND((K65=0),(N65>0)),"O",IF(AND((I65<0),(K65-N65<0)),"O","X")) -> X | P65: 국비 내시 | R65: 국도비 | T65: 기금 | W65: =IF(SUM($I65:$J65)=SUM($U65:$V65),"OK","검토") -> OK | Y65: 기금 | Z65: 24600 | AA65: 0 | AB65: =IF(SUM(L65:M65)=SUM(Z65:AA65),"OK","검토") -> OK | AD65: =IF(AF65="","",IF(T65="도비","세입없음",CONCATENATE(AF65,"-",COUNTIF($AF$7:AF65,AF65)))) -> 0303-5 | AF65: {=IF(C65="","",INDEX(구분표!$I$2:$I$313, MATCH(1,(구분표!$E$2:$E$313='17년일입'!B65)*(구분표!$F$2:$F$313='17년일입'!C65)*(구분표!$G$2:$G$313='17년일입'!A65),0)))} -> 0303 | AJ65: =IF(AD65="",0,SUMIFS('17년일출'!$V$6:$V$925,'17년일출'!$AE$6:$AE$925,'17년일입'!$AD65)) -> 0 | AK65: =IF(AD65="","",COUNTIFS('17년일출'!$AE$6:$AE$925,'17년일입'!AD65)) -> 2 | AL65: =IF(U65=AJ65,"OK","@@") -> OK | AN65: =IF(AD65="",0,SUMIFS('17년일출'!$AA$6:$AA$925,'17년일출'!$AE$6:$AE$925,'17년일입'!$AD65)) -> 24600 | AO65: =IF(AD65="","",COUNTIFS('17년일출'!$AE$6:$AE$925,AD65)) -> 2 | AP65: =IF(Z65=AN65,"OK","@@") -> OK
A66: =IFERROR(VLOOKUP($C66,구분표!$A$2:$C$313,2,FALSE),"") -> 여성가족교육협력위원회 | B66: =IFERROR(VLOOKUP($C66,구분표!$A$2:$C$313,3,FALSE),"") -> 여성가족국 | C66: 아동청소년과 | D66: 본예산 | G66: 기금 - 학교 밖 청소년 지원 | H66: 2599758 | K66: =SUM(H66:J66) -> 2599758 | M66: 118342 | N66: =SUM(H66,L66,M66) -> 2718100 | O66: =IF(AND((K66=0),(N66>0)),"O",IF(AND((I66<0),(K66-N66<0)),"O","X")) -> X | P66: 국비 내시 | R66: 국도비 | T66: 기금 | W66: =IF(SUM($I66:$J66)=SUM($U66:$V66),"OK","검토") -> OK | Y66: 기금 | Z66: 118342 | AA66: 0 | AB66: =IF(SUM(L66:M66)=SUM(Z66:AA66),"OK","검토") -> OK | AD66: =IF(AF66="","",IF(T66="도비","세입없음",CONCATENATE(AF66,"-",COUNTIF($AF$7:AF66,AF66)))) -> 0303-6 | AF66: {=IF(C66="","",INDEX(구분표!$I$2:$I$313, MATCH(1,(구분표!$E$2:$E$313='17년일입'!B66)*(구분표!$F$2:$F$313='17년일입'!C66)*(구분표!$G$2:$G$313='17년일입'!A66),0)))} -> 0303 | AJ66: =IF(AD66="",0,SUMIFS('17년일출'!$V$6:$V$925,'17년일출'!$AE$6:$AE$925,'17년일입'!$AD66)) -> 0 | AK66: =IF(AD66="","",COUNTIFS('17년일출'!$AE$6:$AE$925,'17년일입'!AD66)) -> 1 | AL66: =IF(U66=AJ66,"OK","@@") -> OK | AN66: =IF(AD66="",0,SUMIFS('17년일출'!$AA$6:$AA$925,'17년일출'!$AE$6:$AE$925,'17년일입'!$AD66)) -> 118342 | AO66: =IF(AD66="","",COUNTIFS('17년일출'!$AE$6:$AE$925,AD66)) -> 1 | AP66: =IF(Z66=AN66,"OK","@@") -> OK
A67: =IFERROR(VLOOKUP($C67,구분표!$A$2:$C$313,2,FALSE),"") -> 여성가족교육협력위원회 | B67: =IFERROR(VLOOKUP($C67,구분표!$A$2:$C$313,3,FALSE),"") -> 여성가족국 | C67: 다문화가족과 | D67: 본예산 | E67: 1315 | F67: 21 | G67: 기금 - 폭력피해이주여성보호시설 안전보강 | H67: 7700 | K67: =SUM(H67:J67) -> 7700 | M67: 3101 | N67: =SUM(H67,L67,M67) -> 10801 | O67: =IF(AND((K67=0),(N67>0)),"O",IF(AND((I67<0),(K67-N67<0)),"O","X")) -> X | P67: 국비 내시 | R67: 국도비 | T67: 기금 | W67: =IF(SUM($I67:$J67)=SUM($U67:$V67),"OK","검토") -> OK | Y67: 기금 | Z67: 3101 | AA67: 0 | AB67: =IF(SUM(L67:M67)=SUM(Z67:AA67),"OK","검토") -> OK | AD67: =IF(AF67="","",IF(T67="도비","세입없음",CONCATENATE(AF67,"-",COUNTIF($AF$7:AF67,AF67)))) -> 0304-1 | AF67: {=IF(C67="","",INDEX(구분표!$I$2:$I$313, MATCH(1,(구분표!$E$2:$E$313='17년일입'!B67)*(구분표!$F$2:$F$313='17년일입'!C67)*(구분표!$G$2:$G$313='17년일입'!A67),0)))} -> 0304 | AJ67: =IF(AD67="",0,SUMIFS('17년일출'!$V$6:$V$925,'17년일출'!$AE$6:$AE$925,'17년일입'!$AD67)) -> 0 | AK67: =IF(AD67="","",COUNTIFS('17년일출'!$AE$6:$AE$925,'17년일입'!AD67)) -> 1 | AL67: =IF(U67=AJ67,"OK","@@") -> OK | AN67: =IF(AD67="",0,SUMIFS('17년일출'!$AA$6:$AA$925,'17년일출'!$AE$6:$AE$925,'17년일입'!$AD67)) -> 3101 | AO67: =IF(AD67="","",COUNTIFS('17년일출'!$AE$6:$AE$925,AD67)) -> 1 | AP67: =IF(Z67=AN67,"OK","@@") -> OK
A68: =IFERROR(VLOOKUP($C68,구분표!$A$2:$C$313,2,FALSE),"") -> 여성가족교육협력위원회 | B68: =IFERROR(VLOOKUP($C68,구분표!$A$2:$C$313,3,FALSE),"") -> 여성가족국 | C68: 여성권익가족과 | D68: 본예산 | E68: 1312 | F68: 15 | G68: 기금 - 아동양육비 지원(저소득 한부모가족) | H68: 22830336 | K68: =SUM(H68:J68) -> 22830336 | L68: -22830336 | N68: =SUM(H68,L68,M68) -> 0 | O68: =IF(AND((K68=0),(N68>0)),"O",IF(AND((I68<0),(K68-N68<0)),"O","X")) -> X | P68: 세부사업명 추가 및 변경(국비사업 구조화) | R68: 국도비 | T68: 기금 | W68: =IF(SUM($I68:$J68)=SUM($U68:$V68),"OK","검토") -> OK | Y68: 기금 | Z68: -22830336 | AA68: 0 | AB68: =IF(SUM(L68:M68)=SUM(Z68:AA68),"OK","검토") -> OK | AD68: =IF(AF68="","",IF(T68="도비","세입없음",CONCATENATE(AF68,"-",COUNTIF($AF$7:AF68,AF68)))) -> 0301-1 | AF68: {=IF(C68="","",INDEX(구분표!$I$2:$I$313, MATCH(1,(구분표!$E$2:$E$313='17년일입'!B68)*(구분표!$F$2:$F$313='17년일입'!C68)*(구분표!$G$2:$G$313='17년일입'!A68),0)))} -> 0301 | AJ68: =IF(AD68="",0,SUMIFS('17년일출'!$V$6:$V$925,'17년일출'!$AE$6:$AE$925,'17년일입'!$AD68)) -> 0 | AK68: =IF(AD68="","",COUNTIFS('17년일출'!$AE$6:$AE$925,'17년일입'!AD68)) -> 2 | AL68: =IF(U68=AJ68,"OK","@@") -> OK | AN68: =IF(AD68="",0,SUMIFS('17년일출'!$AA$6:$AA$925,'17년일출'!$AE$6:$AE$925,'17년일입'!$AD68)) -> -22830336 | AO68: =IF(AD68="","",COUNTIFS('17년일출'!$AE$6:$AE$925,AD68)) -> 2 | AP68: =IF(Z68=AN68,"OK","@@") -> OK
A69: =IFERROR(VLOOKUP($C69,구분표!$A$2:$C$313,2,FALSE),"") -> 여성가족교육협력위원회 | B69: =IFERROR(VLOOKUP($C69,구분표!$A$2:$C$313,3,FALSE),"") -> 여성가족국 | C69: 여성권익가족과 | D69: 본예산 | E69: 1312 | F69: 15 | G69: 기금 - 추가 아동양육비 지원(저소득 한부모가족) | H69: 435360 | K69: =SUM(H69:J69) -> 435360 | L69: -435360 | N69: =SUM(H69,L69,M69) -> 0 | O69: =IF(AND((K69=0),(N69>0)),"O",IF(AND((I69<0),(K69-N69<0)),"O","X")) -> X | P69: 세부사업명 추가 및 변경(국비사업 구조화) | R69: 국도비 | T69: 기금 | W69: =IF(SUM($I69:$J69)=SUM($U69:$V69),"OK","검토") -> OK | Y69: 기금 | Z69: -435360 | AA69: 0 | AB69: =IF(SUM(L69:M69)=SUM(Z69:AA69),"OK","검토") -> OK | AD69: =IF(AF69="","",IF(T69="도비","세입없음",CONCATENATE(AF69,"-",COUNTIF($AF$7:AF69,AF69)))) -> 0301-2 | AF69: {=IF(C69="","",INDEX(구분표!$I$2:$I$313, MATCH(1,(구분표!$E$2:$E$313='17년일입'!B69)*(구분표!$F$2:$F$313='17년일입'!C69)*(구분표!$G$2:$G$313='17년일입'!A69),0)))} -> 0301 | AJ69: =IF(AD69="",0,SUMIFS('17년일출'!$V$6:$V$925,'17년일출'!$AE$6:$AE$925,'17년일입'!$AD69)) -> 0 | AK69: =IF(AD69="","",COUNTIFS('17년일출'!$AE$6:$AE$925,'17년일입'!AD69)) -> 2 | AL69: =IF(U69=AJ69,"OK","@@") -> OK | AN69: =IF(AD69="",0,SUMIFS('17년일출'!$AA$6:$AA$925,'17년일출'!$AE$6:$AE$925,'17년일입'!$AD69)) -> -435360 | AO69: =IF(AD69="","",COUNTIFS('17년일출'!$AE$6:$AE$925,AD69)) -> 2 | AP69: =IF(Z69=AN69,"OK","@@") -> OK
A70: =IFERROR(VLOOKUP($C70,구분표!$A$2:$C$313,2,FALSE),"") -> 여성가족교육협력위원회 | B70: =IFERROR(VLOOKUP($C70,구분표!$A$2:$C$313,3,FALSE),"") -> 여성가족국 | C70: 여성권익가족과 | D70: 본예산 | E70: 1312 | F70: 15 | G70: 기금 - 아동양육비(중고생 학용품비) 지원(저소득 한부모가족) | H70: 482760 | K70: =SUM(H70:J70) -> 482760 | L70: -482760 | N70: =SUM(H70,L70,M70) -> 0 | O70: =IF(AND((K70=0),(N70>0)),"O",IF(AND((I70<0),(K70-N70<0)),"O","X")) -> X | P70: 세부사업명 추가 및 변경(국비사업 구조화) | R70: 국도비 | T70: 기금 | W70: =IF(SUM($I70:$J70)=SUM($U70:$V70),"OK","검토") -> OK | Y70: 기금 | Z70: -482760 | AA70: 0 | AB70: =IF(SUM(L70:M70)=SUM(Z70:AA70),"OK","검토") -> OK | AD70: =IF(AF70="","",IF(T70="도비","세입없음",CONCATENATE(AF70,"-",COUNTIF($AF$7:AF70,AF70)))) -> 0301-3 | AF70: {=IF(C70="","",INDEX(구분표!$I$2:$I$313, MATCH(1,(구분표!$E$2:$E$313='17년일입'!B70)*(구분표!$F$2:$F$313='17년일입'!C70)*(구분표!$G$2:$G$313='17년일입'!A70),0)))} -> 0301 | AJ70: =IF(AD70="",0,SUMIFS('17년일출'!$V$6:$V$925,'17년일출'!$AE$6:$AE$925,'17년일입'!$AD70)) -> 0 | AK70: =IF(AD70="","",COUNTIFS('17년일출'!$AE$6:$AE$925,'17년일입'!AD70)) -> 2 | AL70: =IF(U70=AJ70,"OK","@@") -> OK | AN70: =IF(AD70="",0,SUMIFS('17년일출'!$AA$6:$AA$925,'17년일출'!$AE$6:$AE$925,'17년일입'!$AD70)) -> -482760 | AO70: =IF(AD70="","",COUNTIFS('17년일출'!$AE$6:$AE$925,AD70)) -> 2 | AP70: =IF(Z70=AN70,"OK","@@") -> OK
A71: =IFERROR(VLOOKUP($C71,구분표!$A$2:$C$313,2,FALSE),"") -> 여성가족교육협력위원회 | B71: =IFERROR(VLOOKUP($C71,구분표!$A$2:$C$313,3,FALSE),"") -> 여성가족국 | C71: 여성권익가족과 | D71: 본예산 | E71: 1312 | F71: 15 | G71: 기금 - 생활보조금 지원(저소득 한부모가족) | H71: 68544 | K71: =SUM(H71:J71) -> 68544 | L71: -68544 | N71: =SUM(H71,L71,M71) -> 0 | O71: =IF(AND((K71=0),(N71>0)),"O",IF(AND((I71<0),(K71-N71<0)),"O","X")) -> X | P71: 세부사업명 추가 및 변경(국비사업 구조화) | R71: 국도비 | T71: 기금 | W71: =IF(SUM($I71:$J71)=SUM($U71:$V71),"OK","검토") -> OK | Y71: 기금 | Z71: -68544 | AA71: 0 | AB71: =IF(SUM(L71:M71)=SUM(Z71:AA71),"OK","검토") -> OK | AD71: =IF(AF71="","",IF(T71="도비","세입없음",CONCATENATE(AF71,"-",COUNTIF($AF$7:AF71,AF71)))) -> 0301-4 | AF71: {=IF(C71="","",INDEX(구분표!$I$2:$I$313, MATCH(1,(구분표!$E$2:$E$313='17년일입'!B71)*(구분표!$F$2:$F$313='17년일입'!C71)*(구분표!$G$2:$G$313='17년일입'!A71),0)))} -> 0301 | AJ71: =IF(AD71="",0,SUMIFS('17년일출'!$V$6:$V$925,'17년일출'!$AE$6:$AE$925,'17년일입'!$AD71)) -> 0 | AK71: =IF(AD71="","",COUNTIFS('17년일출'!$AE$6:$AE$925,'17년일입'!AD71)) -> 2 | AL71: =IF(U71=AJ71,"OK","@@") -> OK | AN71: =IF(AD71="",0,SUMIFS('17년일출'!$AA$6:$AA$925,'17년일출'!$AE$6:$AE$925,'17년일입'!$AD71)) -> -68544 | AO71: =IF(AD71="","",COUNTIFS('17년일출'!$AE$6:$AE$925,AD71)) -> 2 | AP71: =IF(Z71=AN71,"OK","@@") -> OK
A72: =IFERROR(VLOOKUP($C72,구분표!$A$2:$C$313,2,FALSE),"") -> 여성가족교육협력위원회 | B72: =IFERROR(VLOOKUP($C72,구분표!$A$2:$C$313,3,FALSE),"") -> 여성가족국 | C72: 여성권익가족과 | D72: 신규 | G72: 기금 - 저소득 한부모가족 지원 | H72: 0 | K72: =SUM(H72:J72) -> 0 | M72: 23817000 | N72: =SUM(H72,L72,M72) -> 23817000 | O72: =IF(AND((K72=0),(N72>0)),"O",IF(AND((I72<0),(K72-N72<0)),"O","X")) -> O | P72: 세부사업명 추가 및 변경(국비사업 구조화) | R72: 국도비 | T72: 기금 | W72: =IF(SUM($I72:$J72)=SUM($U72:$V72),"OK","검토") -> OK | Y72: 기금 | Z72: 23817000 | AA72: 0 | AB72: =IF(SUM(L72:M72)=SUM(Z72:AA72),"OK","검토") -> OK | AD72: =IF(AF72="","",IF(T72="도비","세입없음",CONCATENATE(AF72,"-",COUNTIF($AF$7:AF72,AF72)))) -> 0301-5 | AF72: {=IF(C72="","",INDEX(구분표!$I$2:$I$313, MATCH(1,(구분표!$E$2:$E$313='17년일입'!B72)*(구분표!$F$2:$F$313='17년일입'!C72)*(구분표!$G$2:$G$313='17년일입'!A72),0)))} -> 0301 | AJ72: =IF(AD72="",0,SUMIFS('17년일출'!$V$6:$V$925,'17년일출'!$AE$6:$AE$925,'17년일입'!$AD72)) -> 0 | AK72: =IF(AD72="","",COUNTIFS('17년일출'!$AE$6:$AE$925,'17년일입'!AD72)) -> 2 | AL72: =IF(U72=AJ72,"OK","@@") -> OK | AN72: =IF(AD72="",0,SUMIFS('17년일출'!$AA$6:$AA$925,'17년일출'!$AE$6:$AE$925,'17년일입'!$AD72)) -> 23817000 | AO72: =IF(AD72="","",COUNTIFS('17년일출'!$AE$6:$AE$925,AD72)) -> 2 | AP72: =IF(Z72=AN72,"OK","@@") -> OK
A73: =IFERROR(VLOOKUP($C73,구분표!$A$2:$C$313,2,FALSE),"") -> 여성가족교육협력위원회 | B73: =IFERROR(VLOOKUP($C73,구분표!$A$2:$C$313,3,FALSE),"") -> 여성가족국 | C73: 여성권익가족과 | D73: 본예산 | E73: 1312 | F73: 15 | G73: 기금 - 아동양육비 지원(청소년 한부모) | H73: 366296 | K73: =SUM(H73:J73) -> 366296 | L73: -366296 | N73: =SUM(H73,L73,M73) -> 0 | O73: =IF(AND((K73=0),(N73>0)),"O",IF(AND((I73<0),(K73-N73<0)),"O","X")) -> X | P73: 세부사업명 추가 및 변경(국비사업 구조화) | R73: 국도비 | T73: 기금 | W73: =IF(SUM($I73:$J73)=SUM($U73:$V73),"OK","검토") -> OK | Y73: 기금 | Z73: -366296 | AA73: 0 | AB73: =IF(SUM(L73:M73)=SUM(Z73:AA73),"OK","검토") -> OK | AD73: =IF(AF73="","",IF(T73="도비","세입없음",CONCATENATE(AF73,"-",COUNTIF($AF$7:AF73,AF73)))) -> 0301-6 | AF73: {=IF(C73="","",INDEX(구분표!$I$2:$I$313, MATCH(1,(구분표!$E$2:$E$313='17년일입'!B73)*(구분표!$F$2:$F$313='17년일입'!C73)*(구분표!$G$2:$G$313='17년일입'!A73),0)))} -> 0301 | AJ73: =IF(AD73="",0,SUMIFS('17년일출'!$V$6:$V$925,'17년일출'!$AE$6:$AE$925,'17년일입'!$AD73)) -> 0 | AK73: =IF(AD73="","",COUNTIFS('17년일출'!$AE$6:$AE$925,'17년일입'!AD73)) -> 2 | AL73: =IF(U73=AJ73,"OK","@@") -> OK | AN73: =IF(AD73="",0,SUMIFS('17년일출'!$AA$6:$AA$925,'17년일출'!$AE$6:$AE$925,'17년일입'!$AD73)) -> -366296 | AO73: =IF(AD73="","",COUNTIFS('17년일출'!$AE$6:$AE$925,AD73)) -> 2 | AP73: =IF(Z73=AN73,"OK","@@") -> OK
A74: =IFERROR(VLOOKUP($C74,구분표!$A$2:$C$313,2,FALSE),"") -> 여성가족교육협력위원회 | B74: =IFERROR(VLOOKUP($C74,구분표!$A$2:$C$313,3,FALSE),"") -> 여성가족국 | C74: 여성권익가족과 | D74: 본예산 | E74: 1312 | F74: 15 | G74: 기금 - 검정고시 학습비 지원(청소년 한부모) | H74: 51744 | K74: =SUM(H74:J74) -> 51744 | L74: -51744 | N74: =SUM(H74,L74,M74) -> 0 | O74: =IF(AND((K74=0),(N74>0)),"O",IF(AND((I74<0),(K74-N74<0)),"O","X")) -> X | P74: 세부사업명 추가 및 변경(국비사업 구조화) | R74: 국도비 | T74: 기금 | W74: =IF(SUM($I74:$J74)=SUM($U74:$V74),"OK","검토") -> OK | Y74: 기금 | Z74: -51744 | AA74: 0 | AB74: =IF(SUM(L74:M74)=SUM(Z74:AA74),"OK","검토") -> OK | AD74: =IF(AF74="","",IF(T74="도비","세입없음",CONCATENATE(AF74,"-",COUNTIF($AF$7:AF74,AF74)))) -> 0301-7 | AF74: {=IF(C74="","",INDEX(구분표!$I$2:$I$313, MATCH(1,(구분표!$E$2:$E$313='17년일입'!B74)*(구분표!$F$2:$F$313='17년일입'!C74)*(구분표!$G$2:$G$313='17년일입'!A74),0)))} -> 0301 | AJ74: =IF(AD74="",0,SUMIFS('17년일출'!$V$6:$V$925,'17년일출'!$AE$6:$AE$925,'17년일입'!$AD74)) -> 0 | AK74: =IF(AD74="","",COUNTIFS('17년일출'!$AE$6:$AE$925,'17년일입'!AD74)) -> 2 | AL74: =IF(U74=AJ74,"OK","@@") -> OK | AN74: =IF(AD74="",0,SUMIFS('17년일출'!$AA$6:$AA$925,'17년일출'!$AE$6:$AE$925,'17년일입'!$AD74)) -> -51744 | AO74: =IF(AD74="","",COUNTIFS('17년일출'!$AE$6:$AE$925,AD74)) -> 2 | AP74: =IF(Z74=AN74,"OK","@@") -> OK
A75: =IFERROR(VLOOKUP($C75,구분표!$A$2:$C$313,2,FALSE),"") -> 여성가족교육협력위원회 | B75: =IFERROR(VLOOKUP($C75,구분표!$A$2:$C$313,3,FALSE),"") -> 여성가족국 | C75: 여성권익가족과 | D75: 본예산 | E75: 1312 | F75: 15 | G75: 기금 - 자립촉진수당 지원(청소년 한부모) | H75: 24960 | K75: =SUM(H75:J75) -> 24960 | L75: -24960 | N75: =SUM(H75,L75,M75) -> 0 | O75: =IF(AND((K75=0),(N75>0)),"O",IF(AND((I75<0),(K75-N75<0)),"O","X")) -> X | P75: 세부사업명 추가 및 변경(국비사업 구조화) | R75: 국도비 | T75: 기금 | W75: =IF(SUM($I75:$J75)=SUM($U75:$V75),"OK","검토") -> OK | Y75: 기금 | Z75: -24960 | AA75: 0 | AB75: =IF(SUM(L75:M75)=SUM(Z75:AA75),"OK","검토") -> OK | AD75: =IF(AF75="","",IF(T75="도비","세입없음",CONCATENATE(AF75,"-",COUNTIF($AF$7:AF75,AF75)))) -> 0301-8 | AF75: {=IF(C75="","",INDEX(구분표!$I$2:$I$313, MATCH(1,(구분표!$E$2:$E$313='17년일입'!B75)*(구분표!$F$2:$F$313='17년일입'!C75)*(구분표!$G$2:$G$313='17년일입'!A75),0)))} -> 0301 | AJ75: =IF(AD75="",0,SUMIFS('17년일출'!$V$6:$V$925,'17년일출'!$AE$6:$AE$925,'17년일입'!$AD75)) -> 0 | AK75: =IF(AD75="","",COUNTIFS('17년일출'!$AE$6:$AE$925,'17년일입'!AD75)) -> 2 | AL75: =IF(U75=AJ75,"OK","@@") -> OK | AN75: =IF(AD75="",0,SUMIFS('17년일출'!$AA$6:$AA$925,'17년일출'!$AE$6:$AE$925,'17년일입'!$AD75)) -> -24960 | AO75: =IF(AD75="","",COUNTIFS('17년일출'!$AE$6:$AE$925,AD75)) -> 2 | AP75: =IF(Z75=AN75,"OK","@@") -> OK
A76: =IFERROR(VLOOKUP($C76,구분표!$A$2:$C$313,2,FALSE),"") -> 여성가족교육협력위원회 | B76: =IFERROR(VLOOKUP($C76,구분표!$A$2:$C$313,3,FALSE),"") -> 여성가족국 | C76: 여성권익가족과 | D76: 신규 | G76: 기금 - 청소년 한부모 자립지원 | H76: 0 | K76: =SUM(H76:J76) -> 0 | M76: 443000 | N76: =SUM(H76,L76,M76) -> 443000 | O76: =IF(AND((K76=0),(N76>0)),"O",IF(AND((I76<0),(K76-N76<0)),"O","X")) -> O | P76: 세부사업명 추가 및 변경(국비사업 구조화) | R76: 국도비 | T76: 기금 | W76: =IF(SUM($I76:$J76)=SUM($U76:$V76),"OK","검토") -> OK | Y76: 기금 | Z76: 443000 | AA76: 0 | AB76: =IF(SUM(L76:M76)=SUM(Z76:AA76),"OK","검토") -> OK | AD76: =IF(AF76="","",IF(T76="도비","세입없음",CONCATENATE(AF76,"-",COUNTIF($AF$7:AF76,AF76)))) -> 0301-9 | AF76: {=IF(C76="","",INDEX(구분표!$I$2:$I$313, MATCH(1,(구분표!$E$2:$E$313='17년일입'!B76)*(구분표!$F$2:$F$313='17년일입'!C76)*(구분표!$G$2:$G$313='17년일입'!A76),0)))} -> 0301 | AJ76: =IF(AD76="",0,SUMIFS('17년일출'!$V$6:$V$925,'17년일출'!$AE$6:$AE$925,'17년일입'!$AD76)) -> 0 | AK76: =IF(AD76="","",COUNTIFS('17년일출'!$AE$6:$AE$925,'17년일입'!AD76)) -> 2 | AL76: =IF(U76=AJ76,"OK","@@") -> OK | AN76: =IF(AD76="",0,SUMIFS('17년일출'!$AA$6:$AA$925,'17년일출'!$AE$6:$AE$925,'17년일입'!$AD76)) -> 443000 | AO76: =IF(AD76="","",COUNTIFS('17년일출'!$AE$6:$AE$925,AD76)) -> 2 | AP76: =IF(Z76=AN76,"OK","@@") -> OK
A77: =IFERROR(VLOOKUP($C77,구분표!$A$2:$C$313,2,FALSE),"") -> 경제과학기술위원회 | B77: =IFERROR(VLOOKUP($C77,구분표!$A$2:$C$313,3,FALSE),"") -> 황해경제자유구역청 | C77: 개발과 | D77: 본예산 | E77: 217 | F77: 4 | G77: 지역발전특별회계보조금 - 포승지구 간선도로 | H77: 1003000 | K77: =SUM(H77:J77) -> 1003000 | M77: 501000 | N77: =SUM(H77,L77,M77) -> 1504000 | O77: =IF(AND((K77=0),(N77>0)),"O",IF(AND((I77<0),(K77-N77<0)),"O","X")) -> X | P77: 국비 내시 | R77: 국도비 | T77: 지특 | W77: =IF(SUM($I77:$J77)=SUM($U77:$V77),"OK","검토") -> OK | Y77: 지특 | Z77: 501000 | AA77: 0 | AB77: =IF(SUM(L77:M77)=SUM(Z77:AA77),"OK","검토") -> OK | AD77: =IF(AF77="","",IF(T77="도비","세입없음",CONCATENATE(AF77,"-",COUNTIF($AF$7:AF77,AF77)))) -> 0147-1 | AF77: {=IF(C77="","",INDEX(구분표!$I$2:$I$313, MATCH(1,(구분표!$E$2:$E$313='17년일입'!B77)*(구분표!$F$2:$F$313='17년일입'!C77)*(구분표!$G$2:$G$313='17년일입'!A77),0)))} -> 0147 | AJ77: =IF(AD77="",0,SUMIFS('17년일출'!$V$6:$V$925,'17년일출'!$AE$6:$AE$925,'17년일입'!$AD77)) -> 0 | AK77: =IF(AD77="","",COUNTIFS('17년일출'!$AE$6:$AE$925,'17년일입'!AD77)) -> 1 | AL77: =IF(U77=AJ77,"OK","@@") -> OK | AN77: =IF(AD77="",0,SUMIFS('17년일출'!$AA$6:$AA$925,'17년일출'!$AE$6:$AE$925,'17년일입'!$AD77)) -> 501000 | AO77: =IF(AD77="","",COUNTIFS('17년일출'!$AE$6:$AE$925,AD77)) -> 1 | AP77: =IF(Z77=AN77,"OK","@@") -> OK
A78: =IFERROR(VLOOKUP($C78,구분표!$A$2:$C$313,2,FALSE),"") -> 경제과학기술위원회 | B78: =IFERROR(VLOOKUP($C78,구분표!$A$2:$C$313,3,FALSE),"") -> 황해경제자유구역청 | C78: 개발과 | D78: 신규 | G78: 지역발전특별회계보조금 - 포승지구 진입도로 | H78: 0 | K78: =SUM(H78:J78) -> 0 | M78: 500000 | N78: =SUM(H78,L78,M78) -> 500000 | O78: =IF(AND((K78=0),(N78>0)),"O",IF(AND((I78<0),(K78-N78<0)),"O","X")) -> O | P78: 국비 내시 | R78: 국도비 | T78: 지특 | W78: =IF(SUM($I78:$J78)=SUM($U78:$V78),"OK","검토") -> OK | Y78: 지특 | Z78: 500000 | AA78: 0 | AB78: =IF(SUM(L78:M78)=SUM(Z78:AA78),"OK","검토") -> OK | AD78: =IF(AF78="","",IF(T78="도비","세입없음",CONCATENATE(AF78,"-",COUNTIF($AF$7:AF78,AF78)))) -> 0147-2 | AF78: {=IF(C78="","",INDEX(구분표!$I$2:$I$313, MATCH(1,(구분표!$E$2:$E$313='17년일입'!B78)*(구분표!$F$2:$F$313='17년일입'!C78)*(구분표!$G$2:$G$313='17년일입'!A78),0)))} -> 0147 | AJ78: =IF(AD78="",0,SUMIFS('17년일출'!$V$6:$V$925,'17년일출'!$AE$6:$AE$925,'17년일입'!$AD78)) -> 0 | AK78: =IF(AD78="","",COUNTIFS('17년일출'!$AE$6:$AE$925,'17년일입'!AD78)) -> 1 | AL78: =IF(U78=AJ78,"OK","@@") -> OK | AN78: =IF(AD78="",0,SUMIFS('17년일출'!$AA$6:$AA$925,'17년일출'!$AE$6:$AE$925,'17년일입'!$AD78)) -> 500000 | AO78: =IF(AD78="","",COUNTIFS('17년일출'!$AE$6:$AE$925,AD78)) -> 1 | AP78: =IF(Z78=AN78,"OK","@@") -> OK
A79: =IFERROR(VLOOKUP($C79,구분표!$A$2:$C$313,2,FALSE),"") -> 농정해양위원회 | B79: =IFERROR(VLOOKUP($C79,구분표!$A$2:$C$313,3,FALSE),"") -> 축산산림국 | C79: 축산정책과 | D79: 본예산 | E79: 681 | F79: 13 | G79: 기금 - 축산분야 ICT 융복합지원(자치단체) | H79: 1200000 | K79: =SUM(H79:J79) -> 1200000 | M79: 1300000 | N79: =SUM(H79,L79,M79) -> 2500000 | O79: =IF(AND((K79=0),(N79>0)),"O",IF(AND((I79<0),(K79-N79<0)),"O","X")) -> X | P79: 국비 내시 | R79: 국도비 | T79: 기금 | W79: =IF(SUM($I79:$J79)=SUM($U79:$V79),"OK","검토") -> OK | Y79: 기금 | Z79: 1300000 | AA79: 0 | AB79: =IF(SUM(L79:M79)=SUM(Z79:AA79),"OK","검토") -> OK | AD79: =IF(AF79="","",IF(T79="도비","세입없음",CONCATENATE(AF79,"-",COUNTIF($AF$7:AF79,AF79)))) -> 0227-17 | AF79: {=IF(C79="","",INDEX(구분표!$I$2:$I$313, MATCH(1,(구분표!$E$2:$E$313='17년일입'!B79)*(구분표!$F$2:$F$313='17년일입'!C79)*(구분표!$G$2:$G$313='17년일입'!A79),0)))} -> 0227 | AJ79: =IF(AD79="",0,SUMIFS('17년일출'!$V$6:$V$925,'17년일출'!$AE$6:$AE$925,'17년일입'!$AD79)) -> 0 | AK79: =IF(AD79="","",COUNTIFS('17년일출'!$AE$6:$AE$925,'17년일입'!AD79)) -> 1 | AL79: =IF(U79=AJ79,"OK","@@") -> OK | AN79: =IF(AD79="",0,SUMIFS('17년일출'!$AA$6:$AA$925,'17년일출'!$AE$6:$AE$925,'17년일입'!$AD79)) -> 1300000 | AO79: =IF(AD79="","",COUNTIFS('17년일출'!$AE$6:$AE$925,AD79)) -> 1 | AP79: =IF(Z79=AN79,"OK","@@") -> OK
A80: =IFERROR(VLOOKUP($C80,구분표!$A$2:$C$313,2,FALSE),"") -> 보건복지위원회 | B80: =IFERROR(VLOOKUP($C80,구분표!$A$2:$C$313,3,FALSE),"") -> 보건복지국 | C80: 복지정책과 | D80: 본예산 | E80: 875 | F80: 18 | G80: 국고보조금 - 양곡할인 | H80: 8628000 | K80: =SUM(H80:J80) -> 8628000 | M80: 3766000 | N80: =SUM(H80,L80,M80) -> 12394000 | O80: =IF(AND((K80=0),(N80>0)),"O",IF(AND((I80<0),(K80-N80<0)),"O","X")) -> X | P80: 국비 내시 | R80: 국도비 | T80: 국비 | W80: =IF(SUM($I80:$J80)=SUM($U80:$V80),"OK","검토") -> OK | Y80: 국비 | Z80: 3766000 | AA80: 0 | AB80: =IF(SUM(L80:M80)=SUM(Z80:AA80),"OK","검토") -> OK | AD80: =IF(AF80="","",IF(T80="도비","세입없음",CONCATENATE(AF80,"-",COUNTIF($AF$7:AF80,AF80)))) -> 0244-1 | AF80: {=IF(C80="","",INDEX(구분표!$I$2:$I$313, MATCH(1,(구분표!$E$2:$E$313='17년일입'!B80)*(구분표!$F$2:$F$313='17년일입'!C80)*(구분표!$G$2:$G$313='17년일입'!A80),0)))} -> 0244 | AJ80: =IF(AD80="",0,SUMIFS('17년일출'!$V$6:$V$925,'17년일출'!$AE$6:$AE$925,'17년일입'!$AD80)) -> 0 | AK80: =IF(AD80="","",COUNTIFS('17년일출'!$AE$6:$AE$925,'17년일입'!AD80)) -> 4 | AL80: =IF(U80=AJ80,"OK","@@") -> OK | AN80: =IF(AD80="",0,SUMIFS('17년일출'!$AA$6:$AA$925,'17년일출'!$AE$6:$AE$925,'17년일입'!$AD80)) -> 3766000 | AO80: =IF(AD80="","",COUNTIFS('17년일출'!$AE$6:$AE$925,AD80)) -> 4 | AP80: =IF(Z80=AN80,"OK","@@") -> OK
A81: =IFERROR(VLOOKUP($C81,구분표!$A$2:$C$313,2,FALSE),"") -> 보건복지위원회 | B81: =IFERROR(VLOOKUP($C81,구분표!$A$2:$C$313,3,FALSE),"") -> 보건복지국 | C81: 사회적일자리과 | D81: 본예산 | E81: 875 | F81: 34 | G81: 국고보조금 - 장애인일자리지원(일반형일자리) | H81: 5733887 | K81: =SUM(H81:J81) -> 5733887 | M81: 2679655 | N81: =SUM(H81,L81,M81) -> 8413542 | O81: =IF(AND((K81=0),(N81>0)),"O",IF(AND((I81<0),(K81-N81<0)),"O","X")) -> X | P81: 국비 내시 | R81: 국도비 | T81: 국비 | W81: =IF(SUM($I81:$J81)=SUM($U81:$V81),"OK","검토") -> OK | Y81: 국비 | Z81: 2679655 | AA81: 0 | AB81: =IF(SUM(L81:M81)=SUM(Z81:AA81),"OK","검토") -> OK | AD81: =IF(AF81="","",IF(T81="도비","세입없음",CONCATENATE(AF81,"-",COUNTIF($AF$7:AF81,AF81)))) -> 0245-2 | AF81: {=IF(C81="","",INDEX(구분표!$I$2:$I$313, MATCH(1,(구분표!$E$2:$E$313='17년일입'!B81)*(구분표!$F$2:$F$313='17년일입'!C81)*(구분표!$G$2:$G$313='17년일입'!A81),0)))} -> 0245 | AJ81: =IF(AD81="",0,SUMIFS('17년일출'!$V$6:$V$925,'17년일출'!$AE$6:$AE$925,'17년일입'!$AD81)) -> 0 | AK81: =IF(AD81="","",COUNTIFS('17년일출'!$AE$6:$AE$925,'17년일입'!AD81)) -> 2 | AL81: =IF(U81=AJ81,"OK","@@") -> OK | AN81: =IF(AD81="",0,SUMIFS('17년일출'!$AA$6:$AA$925,'17년일출'!$AE$6:$AE$925,'17년일입'!$AD81)) -> 2679655 | AO81: =IF(AD81="","",COUNTIFS('17년일출'!$AE$6:$AE$925,AD81)) -> 2 | AP81: =IF(Z81=AN81,"OK","@@") -> OK
A82: =IFERROR(VLOOKUP($C82,구분표!$A$2:$C$313,2,FALSE),"") -> 보건복지위원회 | B82: =IFERROR(VLOOKUP($C82,구분표!$A$2:$C$313,3,FALSE),"") -> 보건복지국 | C82: 건강증진과 | D82: 본예산 | E82: 879 | F82: 52 | G82: 국고보조금 - 정신요양시설, 사회복귀시설 기능보강 | H82: 324735 | K82: =SUM(H82:J82) -> 324735 | M82: 8431 | N82: =SUM(H82,L82,M82) -> 333166 | O82: =IF(AND((K82=0),(N82>0)),"O",IF(AND((I82<0),(K82-N82<0)),"O","X")) -> X | P82: 국비 내시 | R82: 국도비 | T82: 국비 | W82: =IF(SUM($I82:$J82)=SUM($U82:$V82),"OK","검토") -> OK | Y82: 국비 | Z82: 8431 | AA82: 0 | AB82: =IF(SUM(L82:M82)=SUM(Z82:AA82),"OK","검토") -> OK | AD82: =IF(AF82="","",IF(T82="도비","세입없음",CONCATENATE(AF82,"-",COUNTIF($AF$7:AF82,AF82)))) -> 0250-2 | AF82: {=IF(C82="","",INDEX(구분표!$I$2:$I$313, MATCH(1,(구분표!$E$2:$E$313='17년일입'!B82)*(구분표!$F$2:$F$313='17년일입'!C82)*(구분표!$G$2:$G$313='17년일입'!A82),0)))} -> 0250 | AJ82: =IF(AD82="",0,SUMIFS('17년일출'!$V$6:$V$925,'17년일출'!$AE$6:$AE$925,'17년일입'!$AD82)) -> 0 | AK82: =IF(AD82="","",COUNTIFS('17년일출'!$AE$6:$AE$925,'17년일입'!AD82)) -> 1 | AL82: =IF(U82=AJ82,"OK","@@") -> OK | AN82: =IF(AD82="",0,SUMIFS('17년일출'!$AA$6:$AA$925,'17년일출'!$AE$6:$AE$925,'17년일입'!$AD82)) -> 8431 | AO82: =IF(AD82="","",COUNTIFS('17년일출'!$AE$6:$AE$925,AD82)) -> 1 | AP82: =IF(Z82=AN82,"OK","@@") -> OK
A83: =IFERROR(VLOOKUP($C83,구분표!$A$2:$C$313,2,FALSE),"") -> 보건복지위원회 | B83: =IFERROR(VLOOKUP($C83,구분표!$A$2:$C$313,3,FALSE),"") -> 보건복지국 | C83: 장애인복지과 | D83: 본예산 | E83: 877 | F83: 60 | G83: 국고보조금 - 장애수당(기초) 지급 | H83: 11834993 | K83: =SUM(H83:J83) -> 11834993 | M83: 723587 | N83: =SUM(H83,L83,M83) -> 12558580 | O83: =IF(AND((K83=0),(N83>0)),"O",IF(AND((I83<0),(K83-N83<0)),"O","X")) -> X | P83: 국비 내시 | R83: 국도비 | T83: 국비 | W83: =IF(SUM($I83:$J83)=SUM($U83:$V83),"OK","검토") -> OK | Y83: 국비 | Z83: 723587 | AB83: =IF(SUM(L83:M83)=SUM(Z83:AA83),"OK","검토") -> OK | AD83: =IF(AF83="","",IF(T83="도비","세입없음",CONCATENATE(AF83,"-",COUNTIF($AF$7:AF83,AF83)))) -> 0247-1 | AF83: {=IF(C83="","",INDEX(구분표!$I$2:$I$313, MATCH(1,(구분표!$E$2:$E$313='17년일입'!B83)*(구분표!$F$2:$F$313='17년일입'!C83)*(구분표!$G$2:$G$313='17년일입'!A83),0)))} -> 0247 | AJ83: =IF(AD83="",0,SUMIFS('17년일출'!$V$6:$V$925,'17년일출'!$AE$6:$AE$925,'17년일입'!$AD83)) -> 0 | AK83: =IF(AD83="","",COUNTIFS('17년일출'!$AE$6:$AE$925,'17년일입'!AD83)) -> 2 | AL83: =IF(U83=AJ83,"OK","@@") -> OK | AN83: =IF(AD83="",0,SUMIFS('17년일출'!$AA$6:$AA$925,'17년일출'!$AE$6:$AE$925,'17년일입'!$AD83)) -> 723587 | AO83: =IF(AD83="","",COUNTIFS('17년일출'!$AE$6:$AE$925,AD83)) -> 2 | AP83: =IF(Z83=AN83,"OK","@@") -> OK
A84: =IFERROR(VLOOKUP($C84,구분표!$A$2:$C$313,2,FALSE),"") -> 보건복지위원회 | B84: =IFERROR(VLOOKUP($C84,구분표!$A$2:$C$313,3,FALSE),"") -> 보건복지국 | C84: 장애인복지과 | D84: 본예산 | E84: 877 | F84: 62 | G84: 국고보조금 - 장애인연금 급여 지급 | H84: 104004000 | K84: =SUM(H84:J84) -> 104004000 | M84: 260000 | N84: =SUM(H84,L84,M84) -> 104264000 | O84: =IF(AND((K84=0),(N84>0)),"O",IF(AND((I84<0),(K84-N84<0)),"O","X")) -> X | P84: 국비 내시 | R84: 국도비 | T84: 국비 | W84: =IF(SUM($I84:$J84)=SUM($U84:$V84),"OK","검토") -> OK | Y84: 국비 | Z84: 260000 | AB84: =IF(SUM(L84:M84)=SUM(Z84:AA84),"OK","검토") -> OK | AD84: =IF(AF84="","",IF(T84="도비","세입없음",CONCATENATE(AF84,"-",COUNTIF($AF$7:AF84,AF84)))) -> 0247-2 | AF84: {=IF(C84="","",INDEX(구분표!$I$2:$I$313, MATCH(1,(구분표!$E$2:$E$313='17년일입'!B84)*(구분표!$F$2:$F$313='17년일입'!C84)*(구분표!$G$2:$G$313='17년일입'!A84),0)))} -> 0247 | AJ84: =IF(AD84="",0,SUMIFS('17년일출'!$V$6:$V$925,'17년일출'!$AE$6:$AE$925,'17년일입'!$AD84)) -> 0 | AK84: =IF(AD84="","",COUNTIFS('17년일출'!$AE$6:$AE$925,'17년일입'!AD84)) -> 2 | AL84: =IF(U84=AJ84,"OK","@@") -> OK | AN84: =IF(AD84="",0,SUMIFS('17년일출'!$AA$6:$AA$925,'17년일출'!$AE$6:$AE$925,'17년일입'!$AD84)) -> 260000 | AO84: =IF(AD84="","",COUNTIFS('17년일출'!$AE$6:$AE$925,AD84)) -> 2 | AP84: =IF(Z84=AN84,"OK","@@") -> OK
A85: =IFERROR(VLOOKUP($C85,구분표!$A$2:$C$313,2,FALSE),"") -> 보건복지위원회 | B85: =IFERROR(VLOOKUP($C85,구분표!$A$2:$C$313,3,FALSE),"") -> 보건복지국 | C85: 장애인복지과 | D85: 본예산 | E85: 877 | F85: 63 | G85: 국고보조금 - 장애인의료비 지원 | H85: 3257000 | K85: =SUM(H85:J85) -> 3257000 | M85: 916973 | N85: =SUM(H85,L85,M85) -> 4173973 | O85: =IF(AND((K85=0),(N85>0)),"O",IF(AND((I85<0),(K85-N85<0)),"O","X")) -> X | P85: 국비 내시 | R85: 국도비 | T85: 국비 | W85: =IF(SUM($I85:$J85)=SUM($U85:$V85),"OK","검토") -> OK | Y85: 국비 | Z85: 916973 | AB85: =IF(SUM(L85:M85)=SUM(Z85:AA85),"OK","검토") -> OK | AD85: =IF(AF85="","",IF(T85="도비","세입없음",CONCATENATE(AF85,"-",COUNTIF($AF$7:AF85,AF85)))) -> 0247-3 | AF85: {=IF(C85="","",INDEX(구분표!$I$2:$I$313, MATCH(1,(구분표!$E$2:$E$313='17년일입'!B85)*(구분표!$F$2:$F$313='17년일입'!C85)*(구분표!$G$2:$G$313='17년일입'!A85),0)))} -> 0247 | AJ85: =IF(AD85="",0,SUMIFS('17년일출'!$V$6:$V$925,'17년일출'!$AE$6:$AE$925,'17년일입'!$AD85)) -> 0 | AK85: =IF(AD85="","",COUNTIFS('17년일출'!$AE$6:$AE$925,'17년일입'!AD85)) -> 2 | AL85: =IF(U85=AJ85,"OK","@@") -> OK | AN85: =IF(AD85="",0,SUMIFS('17년일출'!$AA$6:$AA$925,'17년일출'!$AE$6:$AE$925,'17년일입'!$AD85)) -> 916973 | AO85: =IF(AD85="","",COUNTIFS('17년일출'!$AE$6:$AE$925,AD85)) -> 2 | AP85: =IF(Z85=AN85,"OK","@@") -> OK
A86: =IFERROR(VLOOKUP($C86,구분표!$A$2:$C$313,2,FALSE),"") -> 여성가족교육협력위원회 | B86: =IFERROR(VLOOKUP($C86,구분표!$A$2:$C$313,3,FALSE),"") -> 여성가족국 | C86: 아동청소년과 | D86: 본예산 | E86: 1314 | F86: 19 | G86: 기금 - 청소년성문화센터 운영 | H86: 641430 | K86: =SUM(H86:J86) -> 641430 | M86: 23310 | N86: =SUM(H86,L86,M86) -> 664740 | O86: =IF(AND((K86=0),(N86>0)),"O",IF(AND((I86<0),(K86-N86<0)),"O","X")) -> X | P86: 국비 내시 | R86: 국도비 | T86: 기금 | W86: =IF(SUM($I86:$J86)=SUM($U86:$V86),"OK","검토") -> OK | Y86: 기금 | Z86: 23310 | AA86: 0 | AB86: =IF(SUM(L86:M86)=SUM(Z86:AA86),"OK","검토") -> OK | AD86: =IF(AF86="","",IF(T86="도비","세입없음",CONCATENATE(AF86,"-",COUNTIF($AF$7:AF86,AF86)))) -> 0303-7 | AF86: {=IF(C86="","",INDEX(구분표!$I$2:$I$313, MATCH(1,(구분표!$E$2:$E$313='17년일입'!B86)*(구분표!$F$2:$F$313='17년일입'!C86)*(구분표!$G$2:$G$313='17년일입'!A86),0)))} -> 0303 | AJ86: =IF(AD86="",0,SUMIFS('17년일출'!$V$6:$V$925,'17년일출'!$AE$6:$AE$925,'17년일입'!$AD86)) -> 0 | AK86: =IF(AD86="","",COUNTIFS('17년일출'!$AE$6:$AE$925,'17년일입'!AD86)) -> 9 | AL86: =IF(U86=AJ86,"OK","@@") -> OK | AN86: =IF(AD86="",0,SUMIFS('17년일출'!$AA$6:$AA$925,'17년일출'!$AE$6:$AE$925,'17년일입'!$AD86)) -> 23310 | AO86: =IF(AD86="","",COUNTIFS('17년일출'!$AE$6:$AE$925,AD86)) -> 9 | AP86: =IF(Z86=AN86,"OK","@@") -> OK
A87: =IFERROR(VLOOKUP($C87,구분표!$A$2:$C$313,2,FALSE),"") -> 농정해양위원회 | B87: =IFERROR(VLOOKUP($C87,구분표!$A$2:$C$313,3,FALSE),"") -> 농업기술원 | C87: 행정지원과 | D87: 본예산 | E87: 785 | F87: 14 | G87: 국고보조금 - 농업 신기술 시범 | H87: 4572500 | K87: =SUM(H87:J87) -> 4572500 | M87: 250000 | N87: =SUM(H87,L87,M87) -> 4822500 | O87: =IF(AND((K87=0),(N87>0)),"O",IF(AND((I87<0),(K87-N87<0)),"O","X")) -> X | P87: 국비 내시 | R87: 국도비 | T87: 국비 | W87: =IF(SUM($I87:$J87)=SUM($U87:$V87),"OK","검토") -> OK | Y87: 국비 | Z87: 250000 | AB87: =IF(SUM(L87:M87)=SUM(Z87:AA87),"OK","검토") -> OK | AD87: =IF(AF87="","",IF(T87="도비","세입없음",CONCATENATE(AF87,"-",COUNTIF($AF$7:AF87,AF87)))) -> 0234-4 | AF87: {=IF(C87="","",INDEX(구분표!$I$2:$I$313, MATCH(1,(구분표!$E$2:$E$313='17년일입'!B87)*(구분표!$F$2:$F$313='17년일입'!C87)*(구분표!$G$2:$G$313='17년일입'!A87),0)))} -> 0234 | AJ87: =IF(AD87="",0,SUMIFS('17년일출'!$V$6:$V$925,'17년일출'!$AE$6:$AE$925,'17년일입'!$AD87)) -> 0 | AK87: =IF(AD87="","",COUNTIFS('17년일출'!$AE$6:$AE$925,'17년일입'!AD87)) -> 1 | AL87: =IF(U87=AJ87,"OK","@@") -> OK | AN87: =IF(AD87="",0,SUMIFS('17년일출'!$AA$6:$AA$925,'17년일출'!$AE$6:$AE$925,'17년일입'!$AD87)) -> 250000 | AO87: =IF(AD87="","",COUNTIFS('17년일출'!$AE$6:$AE$925,AD87)) -> 1 | AP87: =IF(Z87=AN87,"OK","@@") -> OK
A88: =IFERROR(VLOOKUP($C88,구분표!$A$2:$C$313,2,FALSE),"") -> 농정해양위원회 | B88: =IFERROR(VLOOKUP($C88,구분표!$A$2:$C$313,3,FALSE),"") -> 농업기술원 | C88: 행정지원과 | D88: 본예산 | E88: 786 | F88: 14 | G88: 국고보조금 - 농업기술원, 농업기술센터 과학영농 실증포 운영 지원 | H88: 400000 | K88: =SUM(H88:J88) -> 400000 | M88: 200000 | N88: =SUM(H88,L88,M88) -> 600000 | O88: =IF(AND((K88=0),(N88>0)),"O",IF(AND((I88<0),(K88-N88<0)),"O","X")) -> X | P88: 국비 내시 | R88: 국도비 | T88: 국비 | W88: =IF(SUM($I88:$J88)=SUM($U88:$V88),"OK","검토") -> OK | Y88: 국비 | Z88: 200000 | AB88: =IF(SUM(L88:M88)=SUM(Z88:AA88),"OK","검토") -> OK | AD88: =IF(AF88="","",IF(T88="도비","세입없음",CONCATENATE(AF88,"-",COUNTIF($AF$7:AF88,AF88)))) -> 0234-5 | AF88: {=IF(C88="","",INDEX(구분표!$I$2:$I$313, MATCH(1,(구분표!$E$2:$E$313='17년일입'!B88)*(구분표!$F$2:$F$313='17년일입'!C88)*(구분표!$G$2:$G$313='17년일입'!A88),0)))} -> 0234 | AJ88: =IF(AD88="",0,SUMIFS('17년일출'!$V$6:$V$925,'17년일출'!$AE$6:$AE$925,'17년일입'!$AD88)) -> 0 | AK88: =IF(AD88="","",COUNTIFS('17년일출'!$AE$6:$AE$925,'17년일입'!AD88)) -> 1 | AL88: =IF(U88=AJ88,"OK","@@") -> OK | AN88: =IF(AD88="",0,SUMIFS('17년일출'!$AA$6:$AA$925,'17년일출'!$AE$6:$AE$925,'17년일입'!$AD88)) -> 200000 | AO88: =IF(AD88="","",COUNTIFS('17년일출'!$AE$6:$AE$925,AD88)) -> 1 | AP88: =IF(Z88=AN88,"OK","@@") -> OK
A89: =IFERROR(VLOOKUP($C89,구분표!$A$2:$C$313,2,FALSE),"") -> 농정해양위원회 | B89: =IFERROR(VLOOKUP($C89,구분표!$A$2:$C$313,3,FALSE),"") -> 농업기술원 | C89: 행정지원과 | D89: 본예산 | E89: 786 | F89: 14 | G89: 국고보조금 - 농업기계 안전교육 지원 | H89: 105000 | K89: =SUM(H89:J89) -> 105000 | M89: 1000 | N89: =SUM(H89,L89,M89) -> 106000 | O89: =IF(AND((K89=0),(N89>0)),"O",IF(AND((I89<0),(K89-N89<0)),"O","X")) -> X | P89: 국비 내시 | R89: 국도비 | T89: 국비 | W89: =IF(SUM($I89:$J89)=SUM($U89:$V89),"OK","검토") -> OK | Y89: 국비 | Z89: 1000 | AB89: =IF(SUM(L89:M89)=SUM(Z89:AA89),"OK","검토") -> OK | AD89: =IF(AF89="","",IF(T89="도비","세입없음",CONCATENATE(AF89,"-",COUNTIF($AF$7:AF89,AF89)))) -> 0234-6 | AF89: {=IF(C89="","",INDEX(구분표!$I$2:$I$313, MATCH(1,(구분표!$E$2:$E$313='17년일입'!B89)*(구분표!$F$2:$F$313='17년일입'!C89)*(구분표!$G$2:$G$313='17년일입'!A89),0)))} -> 0234 | AJ89: =IF(AD89="",0,SUMIFS('17년일출'!$V$6:$V$925,'17년일출'!$AE$6:$AE$925,'17년일입'!$AD89)) -> 0 | AK89: =IF(AD89="","",COUNTIFS('17년일출'!$AE$6:$AE$925,'17년일입'!AD89)) -> 1 | AL89: =IF(U89=AJ89,"OK","@@") -> OK | AN89: =IF(AD89="",0,SUMIFS('17년일출'!$AA$6:$AA$925,'17년일출'!$AE$6:$AE$925,'17년일입'!$AD89)) -> 1000 | AO89: =IF(AD89="","",COUNTIFS('17년일출'!$AE$6:$AE$925,AD89)) -> 1 | AP89: =IF(Z89=AN89,"OK","@@") -> OK
A90: =IFERROR(VLOOKUP($C90,구분표!$A$2:$C$313,2,FALSE),"") -> 농정해양위원회 | B90: =IFERROR(VLOOKUP($C90,구분표!$A$2:$C$313,3,FALSE),"") -> 농업기술원 | C90: 행정지원과 | D90: 본예산 | E90: 786 | F90: 14 | G90: 국고보조금 - 교육용 농업기계 지원 | H90: 251000 | K90: =SUM(H90:J90) -> 251000 | M90: 11000 | N90: =SUM(H90,L90,M90) -> 262000 | O90: =IF(AND((K90=0),(N90>0)),"O",IF(AND((I90<0),(K90-N90<0)),"O","X")) -> X | P90: 국비 내시 | R90: 국도비 | T90: 국비 | W90: =IF(SUM($I90:$J90)=SUM($U90:$V90),"OK","검토") -> OK | Y90: 국비 | Z90: 11000 | AB90: =IF(SUM(L90:M90)=SUM(Z90:AA90),"OK","검토") -> OK | AD90: =IF(AF90="","",IF(T90="도비","세입없음",CONCATENATE(AF90,"-",COUNTIF($AF$7:AF90,AF90)))) -> 0234-7 | AF90: {=IF(C90="","",INDEX(구분표!$I$2:$I$313, MATCH(1,(구분표!$E$2:$E$313='17년일입'!B90)*(구분표!$F$2:$F$313='17년일입'!C90)*(구분표!$G$2:$G$313='17년일입'!A90),0)))} -> 0234 | AJ90: =IF(AD90="",0,SUMIFS('17년일출'!$V$6:$V$925,'17년일출'!$AE$6:$AE$925,'17년일입'!$AD90)) -> 0 | AK90: =IF(AD90="","",COUNTIFS('17년일출'!$AE$6:$AE$925,'17년일입'!AD90)) -> 1 | AL90: =IF(U90=AJ90,"OK","@@") -> OK | AN90: =IF(AD90="",0,SUMIFS('17년일출'!$AA$6:$AA$925,'17년일출'!$AE$6:$AE$925,'17년일입'!$AD90)) -> 11000 | AO90: =IF(AD90="","",COUNTIFS('17년일출'!$AE$6:$AE$925,AD90)) -> 1 | AP90: =IF(Z90=AN90,"OK","@@") -> OK
A91: =IFERROR(VLOOKUP($C91,구분표!$A$2:$C$313,2,FALSE),"") -> 문화체육관광위원회 | B91: =IFERROR(VLOOKUP($C91,구분표!$A$2:$C$313,3,FALSE),"") -> 문화체육관광국 | C91: 종무과 | D91: 본예산 | E91: 555 | G91: 국고보조금 - 전통사찰 방재시스템 유지보수 | H91: 129000 | K91: =SUM(H91:J91) -> 129000 | M91: 62690 | N91: =SUM(H91,L91,M91) -> 191690 | O91: =IF(AND((K91=0),(N91>0)),"O",IF(AND((I91<0),(K91-N91<0)),"O","X")) -> X | P91: 국비 내시 | R91: 국도비 | T91: 국비 | W91: =IF(SUM($I91:$J91)=SUM($U91:$V91),"OK","검토") -> OK | Y91: 국비 | Z91: 62690 | AB91: =IF(SUM(L91:M91)=SUM(Z91:AA91),"OK","검토") -> OK | AD91: =IF(AF91="","",IF(T91="도비","세입없음",CONCATENATE(AF91,"-",COUNTIF($AF$7:AF91,AF91)))) -> 0213-1 | AF91: {=IF(C91="","",INDEX(구분표!$I$2:$I$313, MATCH(1,(구분표!$E$2:$E$313='17년일입'!B91)*(구분표!$F$2:$F$313='17년일입'!C91)*(구분표!$G$2:$G$313='17년일입'!A91),0)))} -> 0213 | AJ91: =IF(AD91="",0,SUMIFS('17년일출'!$V$6:$V$925,'17년일출'!$AE$6:$AE$925,'17년일입'!$AD91)) -> 0 | AK91: =IF(AD91="","",COUNTIFS('17년일출'!$AE$6:$AE$925,'17년일입'!AD91)) -> 1 | AL91: =IF(U91=AJ91,"OK","@@") -> OK | AN91: =IF(AD91="",0,SUMIFS('17년일출'!$AA$6:$AA$925,'17년일출'!$AE$6:$AE$925,'17년일입'!$AD91)) -> 62690 | AO91: =IF(AD91="","",COUNTIFS('17년일출'!$AE$6:$AE$925,AD91)) -> 1 | AP91: =IF(Z91=AN91,"OK","@@") -> OK
A92: =IFERROR(VLOOKUP($C92,구분표!$A$2:$C$313,2,FALSE),"") -> 여성가족교육협력위원회 | B92: =IFERROR(VLOOKUP($C92,구분표!$A$2:$C$313,3,FALSE),"") -> 여성가족국 | C92: 여성권익가족과 | D92: 본예산 | E92: 1311 | F92: 15 | G92: 국고보조금 - 장애아동청소년 성 인권교육 시도시범운영 | H92: 25000 | K92: =SUM(H92:J92) -> 25000 | M92: 25000 | N92: =SUM(H92,L92,M92) -> 50000 | O92: =IF(AND((K92=0),(N92>0)),"O",IF(AND((I92<0),(K92-N92<0)),"O","X")) -> X | P92: 국비 내시 | R92: 국도비 | T92: 국비 | W92: =IF(SUM($I92:$J92)=SUM($U92:$V92),"OK","검토") -> OK | Y92: 국비 | Z92: 25000 | AB92: =IF(SUM(L92:M92)=SUM(Z92:AA92),"OK","검토") -> OK | AD92: =IF(AF92="","",IF(T92="도비","세입없음",CONCATENATE(AF92,"-",COUNTIF($AF$7:AF92,AF92)))) -> 0301-10 | AF92: {=IF(C92="","",INDEX(구분표!$I$2:$I$313, MATCH(1,(구분표!$E$2:$E$313='17년일입'!B92)*(구분표!$F$2:$F$313='17년일입'!C92)*(구분표!$G$2:$G$313='17년일입'!A92),0)))} -> 0301 | AJ92: =IF(AD92="",0,SUMIFS('17년일출'!$V$6:$V$925,'17년일출'!$AE$6:$AE$925,'17년일입'!$AD92)) -> 0 | AK92: =IF(AD92="","",COUNTIFS('17년일출'!$AE$6:$AE$925,'17년일입'!AD92)) -> 2 | AL92: =IF(U92=AJ92,"OK","@@") -> OK | AN92: =IF(AD92="",0,SUMIFS('17년일출'!$AA$6:$AA$925,'17년일출'!$AE$6:$AE$925,'17년일입'!$AD92)) -> 25000 | AO92: =IF(AD92="","",COUNTIFS('17년일출'!$AE$6:$AE$925,AD92)) -> 2 | AP92: =IF(Z92=AN92,"OK","@@") -> OK
A93: =IFERROR(VLOOKUP($C93,구분표!$A$2:$C$313,2,FALSE),"") -> 여성가족교육협력위원회 | B93: =IFERROR(VLOOKUP($C93,구분표!$A$2:$C$313,3,FALSE),"") -> 여성가족국 | C93: 보육정책과 | D93: 신규 | G93: 국고보조금 - 시간제 제공기관 인프라 구축 지원 | K93: =SUM(H93:J93) -> 0 | M93: 20000 | N93: =SUM(H93,L93,M93) -> 20000 | O93: =IF(AND((K93=0),(N93>0)),"O",IF(AND((I93<0),(K93-N93<0)),"O","X")) -> O | P93: 국비 내시 | R93: 국도비 | T93: 국비 | W93: =IF(SUM($I93:$J93)=SUM($U93:$V93),"OK","검토") -> OK | Y93: 국비 | Z93: 20000 | AA93: 0 | AB93: =IF(SUM(L93:M93)=SUM(Z93:AA93),"OK","검토") -> OK | AD93: =IF(AF93="","",IF(T93="도비","세입없음",CONCATENATE(AF93,"-",COUNTIF($AF$7:AF93,AF93)))) -> 0302-3 | AF93: {=IF(C93="","",INDEX(구분표!$I$2:$I$313, MATCH(1,(구분표!$E$2:$E$313='17년일입'!B93)*(구분표!$F$2:$F$313='17년일입'!C93)*(구분표!$G$2:$G$313='17년일입'!A93),0)))} -> 0302 | AJ93: =IF(AD93="",0,SUMIFS('17년일출'!$V$6:$V$925,'17년일출'!$AE$6:$AE$925,'17년일입'!$AD93)) -> 0 | AK93: =IF(AD93="","",COUNTIFS('17년일출'!$AE$6:$AE$925,'17년일입'!AD93)) -> 1 | AL93: =IF(U93=AJ93,"OK","@@") -> OK | AN93: =IF(AD93="",0,SUMIFS('17년일출'!$AA$6:$AA$925,'17년일출'!$AE$6:$AE$925,'17년일입'!$AD93)) -> 20000 | AO93: =IF(AD93="","",COUNTIFS('17년일출'!$AE$6:$AE$925,AD93)) -> 1 | AP93: =IF(Z93=AN93,"OK","@@") -> OK
A94: =IFERROR(VLOOKUP($C94,구분표!$A$2:$C$313,2,FALSE),"") -> 농정해양위원회 | B94: =IFERROR(VLOOKUP($C94,구분표!$A$2:$C$313,3,FALSE),"") -> 농정해양국 | C94: 친환경농업과 | D94: 본예산 | E94: 613 | F94: 11 | G94: 국고보조금 - 국가지방관리방조제 | H94: 2500000 | K94: =SUM(H94:J94) -> 2500000 | L94: -500000 | N94: =SUM(H94,L94,M94) -> 2000000 | O94: =IF(AND((K94=0),(N94>0)),"O",IF(AND((I94<0),(K94-N94<0)),"O","X")) -> X | P94: 국비 내시 | R94: 국도비 | T94: 국비 | W94: =IF(SUM($I94:$J94)=SUM($U94:$V94),"OK","검토") -> OK | Y94: 국비 | Z94: -500000 | AB94: =IF(SUM(L94:M94)=SUM(Z94:AA94),"OK","검토") -> OK | AD94: =IF(AF94="","",IF(T94="도비","세입없음",CONCATENATE(AF94,"-",COUNTIF($AF$7:AF94,AF94)))) -> 0223-6 | AF94: {=IF(C94="","",INDEX(구분표!$I$2:$I$313, MATCH(1,(구분표!$E$2:$E$313='17년일입'!B94)*(구분표!$F$2:$F$313='17년일입'!C94)*(구분표!$G$2:$G$313='17년일입'!A94),0)))} -> 0223 | AJ94: =IF(AD94="",0,SUMIFS('17년일출'!$V$6:$V$925,'17년일출'!$AE$6:$AE$925,'17년일입'!$AD94)) -> 0 | AK94: =IF(AD94="","",COUNTIFS('17년일출'!$AE$6:$AE$925,'17년일입'!AD94)) -> 1 | AL94: =IF(U94=AJ94,"OK","@@") -> OK | AN94: =IF(AD94="",0,SUMIFS('17년일출'!$AA$6:$AA$925,'17년일출'!$AE$6:$AE$925,'17년일입'!$AD94)) -> -500000 | AO94: =IF(AD94="","",COUNTIFS('17년일출'!$AE$6:$AE$925,AD94)) -> 1 | AP94: =IF(Z94=AN94,"OK","@@") -> OK
A95: =IFERROR(VLOOKUP($C95,구분표!$A$2:$C$313,2,FALSE),"") -> 보건복지위원회 | B95: =IFERROR(VLOOKUP($C95,구분표!$A$2:$C$313,3,FALSE),"") -> 보건복지국 | C95: 복지정책과 | D95: 본예산 | E95: 875 | F95: 15 | G95: 국고보조금 - 생계급여 | H95: 587123000 | K95: =SUM(H95:J95) -> 587123000 | M95: 9811574 | N95: =SUM(H95,L95,M95) -> 596934574 | O95: =IF(AND((K95=0),(N95>0)),"O",IF(AND((I95<0),(K95-N95<0)),"O","X")) -> X | P95: 국비 내시 | R95: 국도비 | T95: 국비 | W95: =IF(SUM($I95:$J95)=SUM($U95:$V95),"OK","검토") -> OK | Y95: 국비 | Z95: 9811574 | AA95: 0 | AB95: =IF(SUM(L95:M95)=SUM(Z95:AA95),"OK","검토") -> OK | AD95: =IF(AF95="","",IF(T95="도비","세입없음",CONCATENATE(AF95,"-",COUNTIF($AF$7:AF95,AF95)))) -> 0244-2 | AF95: {=IF(C95="","",INDEX(구분표!$I$2:$I$313, MATCH(1,(구분표!$E$2:$E$313='17년일입'!B95)*(구분표!$F$2:$F$313='17년일입'!C95)*(구분표!$G$2:$G$313='17년일입'!A95),0)))} -> 0244 | AJ95: =IF(AD95="",0,SUMIFS('17년일출'!$V$6:$V$925,'17년일출'!$AE$6:$AE$925,'17년일입'!$AD95)) -> 0 | AK95: =IF(AD95="","",COUNTIFS('17년일출'!$AE$6:$AE$925,'17년일입'!AD95)) -> 4 | AL95: =IF(U95=AJ95,"OK","@@") -> OK | AN95: =IF(AD95="",0,SUMIFS('17년일출'!$AA$6:$AA$925,'17년일출'!$AE$6:$AE$925,'17년일입'!$AD95)) -> 9811574 | AO95: =IF(AD95="","",COUNTIFS('17년일출'!$AE$6:$AE$925,AD95)) -> 4 | AP95: =IF(Z95=AN95,"OK","@@") -> OK
A96: =IFERROR(VLOOKUP($C96,구분표!$A$2:$C$313,2,FALSE),"") -> 보건복지위원회 | B96: =IFERROR(VLOOKUP($C96,구분표!$A$2:$C$313,3,FALSE),"") -> 보건복지국 | C96: 복지정책과 | D96: 본예산 | E96: 875 | F96: 17 | G96: 국고보조금 - 해산장제급여 | H96: 4054000 | K96: =SUM(H96:J96) -> 4054000 | L96: -14234 | N96: =SUM(H96,L96,M96) -> 4039766 | O96: =IF(AND((K96=0),(N96>0)),"O",IF(AND((I96<0),(K96-N96<0)),"O","X")) -> X | P96: 국비 내시 | R96: 국도비 | T96: 국비 | W96: =IF(SUM($I96:$J96)=SUM($U96:$V96),"OK","검토") -> OK | Y96: 국비 | Z96: -14234 | AA96: 0 | AB96: =IF(SUM(L96:M96)=SUM(Z96:AA96),"OK","검토") -> OK | AD96: =IF(AF96="","",IF(T96="도비","세입없음",CONCATENATE(AF96,"-",COUNTIF($AF$7:AF96,AF96)))) -> 0244-3 | AF96: {=IF(C96="","",INDEX(구분표!$I$2:$I$313, MATCH(1,(구분표!$E$2:$E$313='17년일입'!B96)*(구분표!$F$2:$F$313='17년일입'!C96)*(구분표!$G$2:$G$313='17년일입'!A96),0)))} -> 0244 | AJ96: =IF(AD96="",0,SUMIFS('17년일출'!$V$6:$V$925,'17년일출'!$AE$6:$AE$925,'17년일입'!$AD96)) -> 0 | AK96: =IF(AD96="","",COUNTIFS('17년일출'!$AE$6:$AE$925,'17년일입'!AD96)) -> 2 | AL96: =IF(U96=AJ96,"OK","@@") -> OK | AN96: =IF(AD96="",0,SUMIFS('17년일출'!$AA$6:$AA$925,'17년일출'!$AE$6:$AE$925,'17년일입'!$AD96)) -> -14234 | AO96: =IF(AD96="","",COUNTIFS('17년일출'!$AE$6:$AE$925,AD96)) -> 2 | AP96: =IF(Z96=AN96,"OK","@@") -> OK
A97: =IFERROR(VLOOKUP($C97,구분표!$A$2:$C$313,2,FALSE),"") -> 여성가족교육협력위원회 | B97: =IFERROR(VLOOKUP($C97,구분표!$A$2:$C$313,3,FALSE),"") -> 여성가족국 | C97: 여성권익가족과 | D97: 본예산 | E97: 1311 | F97: 15 | G97: 국고보조금 - 찾아가는 부모교육 | H97: 70990 | K97: =SUM(H97:J97) -> 70990 | L97: -37541 | N97: =SUM(H97,L97,M97) -> 33449 | O97: =IF(AND((K97=0),(N97>0)),"O",IF(AND((I97<0),(K97-N97<0)),"O","X")) -> X | P97: 국비 내시 | R97: 국도비 | T97: 국비 | W97: =IF(SUM($I97:$J97)=SUM($U97:$V97),"OK","검토") -> OK | Y97: 국비 | Z97: -37541 | AA97: 0 | AB97: =IF(SUM(L97:M97)=SUM(Z97:AA97),"OK","검토") -> OK | AD97: =IF(AF97="","",IF(T97="도비","세입없음",CONCATENATE(AF97,"-",COUNTIF($AF$7:AF97,AF97)))) -> 0301-11 | AF97: {=IF(C97="","",INDEX(구분표!$I$2:$I$313, MATCH(1,(구분표!$E$2:$E$313='17년일입'!B97)*(구분표!$F$2:$F$313='17년일입'!C97)*(구분표!$G$2:$G$313='17년일입'!A97),0)))} -> 0301 | AJ97: =IF(AD97="",0,SUMIFS('17년일출'!$V$6:$V$925,'17년일출'!$AE$6:$AE$925,'17년일입'!$AD97)) -> 0 | AK97: =IF(AD97="","",COUNTIFS('17년일출'!$AE$6:$AE$925,'17년일입'!AD97)) -> 2 | AL97: =IF(U97=AJ97,"OK","@@") -> OK | AN97: =IF(AD97="",0,SUMIFS('17년일출'!$AA$6:$AA$925,'17년일출'!$AE$6:$AE$925,'17년일입'!$AD97)) -> -37541 | AO97: =IF(AD97="","",COUNTIFS('17년일출'!$AE$6:$AE$925,AD97)) -> 2 | AP97: =IF(Z97=AN97,"OK","@@") -> OK
A98: =IFERROR(VLOOKUP($C98,구분표!$A$2:$C$313,2,FALSE),"") -> 기획재정위원회 | B98: =IFERROR(VLOOKUP($C98,구분표!$A$2:$C$313,3,FALSE),"") -> 균형발전기획실 | C98: 통일기반조성담당관 | D98: 본예산 | G98: 국고보조금 - 북한이탈주민 지역적응센터 운영 | H98: 1072800 | K98: =SUM(H98:J98) -> 1072800 | L98: -5000 | N98: =SUM(H98,L98,M98) -> 1067800 | O98: =IF(AND((K98=0),(N98>0)),"O",IF(AND((I98<0),(K98-N98<0)),"O","X")) -> X | P98: 국비 내시 | R98: 국도비 | T98: 국비 | W98: =IF(SUM($I98:$J98)=SUM($U98:$V98),"OK","검토") -> OK | Y98: 국비 | Z98: -5000 | AA98: 0 | AB98: =IF(SUM(L98:M98)=SUM(Z98:AA98),"OK","검토") -> OK | AD98: =IF(AF98="","",IF(T98="도비","세입없음",CONCATENATE(AF98,"-",COUNTIF($AF$7:AF98,AF98)))) -> 0129-1 | AF98: {=IF(C98="","",INDEX(구분표!$I$2:$I$313, MATCH(1,(구분표!$E$2:$E$313='17년일입'!B98)*(구분표!$F$2:$F$313='17년일입'!C98)*(구분표!$G$2:$G$313='17년일입'!A98),0)))} -> 0129 | AJ98: =IF(AD98="",0,SUMIFS('17년일출'!$V$6:$V$925,'17년일출'!$AE$6:$AE$925,'17년일입'!$AD98)) -> 0 | AK98: =IF(AD98="","",COUNTIFS('17년일출'!$AE$6:$AE$925,'17년일입'!AD98)) -> 1 | AL98: =IF(U98=AJ98,"OK","@@") -> OK | AN98: =IF(AD98="",0,SUMIFS('17년일출'!$AA$6:$AA$925,'17년일출'!$AE$6:$AE$925,'17년일입'!$AD98)) -> -5000 | AO98: =IF(AD98="","",COUNTIFS('17년일출'!$AE$6:$AE$925,AD98)) -> 1 | AP98: =IF(Z98=AN98,"OK","@@") -> OK
A99: =IFERROR(VLOOKUP($C99,구분표!$A$2:$C$313,2,FALSE),"") -> 건설교통위원회 | B99: =IFERROR(VLOOKUP($C99,구분표!$A$2:$C$313,3,FALSE),"") -> 교통국 | C99: 버스정책과 | D99: 본예산 | E99: 1071 | G99: 자치단체간부담금 - 시내버스 재정지원 | H99: 46210847 | K99: =SUM(H99:J99) -> 46210847 | M99: 3500000 | N99: =SUM(H99,L99,M99) -> 49710847 | O99: =IF(AND((K99=0),(N99>0)),"O",IF(AND((I99<0),(K99-N99<0)),"O","X")) -> X | R99: 도비 | T99: 도비 | U99: =IF($T99<>"도비",IF($R99="국도비","직접입력",SUM($I99:$J99)),) -> 0 | V99: =IF($T99="도비",SUM($I99:$J99),IF($R99="국도비","직접입력",SUM($I99:$J99)-$U99)) -> 0 | W99: =IF(SUM($I99:$J99)=SUM($U99:$V99),"OK","검토") -> OK | Y99: 도비 | Z99: =IF($T99<>"도비",IF($R99="국도비","직접입력",SUM($L99:$M99)),) -> 0 | AA99: =IF($T99="도비",SUM(L99:M99),IF($R99="국도비","직접입력",SUM(L99:M99)-Z99)) -> 3500000 | AB99: =IF(SUM(L99:M99)=SUM(Z99:AA99),"OK","검토") -> OK | AD99: =IF(AF99="","",IF(T99="도비","세입없음",CONCATENATE(AF99,"-",COUNTIF($AF$7:AF99,AF99)))) -> 세입없음 | AF99: {=IF(C99="","",INDEX(구분표!$I$2:$I$313, MATCH(1,(구분표!$E$2:$E$313='17년일입'!B99)*(구분표!$F$2:$F$313='17년일입'!C99)*(구분표!$G$2:$G$313='17년일입'!A99),0)))} -> 0262 | AJ99: =IF(AD99="",0,SUMIFS('17년일출'!$V$6:$V$925,'17년일출'!$AE$6:$AE$925,'17년일입'!$AD99)) -> 0 | AK99: =IF(AD99="","",COUNTIFS('17년일출'!$AE$6:$AE$925,'17년일입'!AD99)) -> 732 | AL99: =IF(U99=AJ99,"OK","@@") -> OK | AN99: =IF(AD99="",0,SUMIFS('17년일출'!$AA$6:$AA$925,'17년일출'!$AE$6:$AE$925,'17년일입'!$AD99)) -> 0 | AO99: =IF(AD99="","",COUNTIFS('17년일출'!$AE$6:$AE$925,AD99)) -> 732 | AP99: =IF(Z99=AN99,"OK","@@") -> OK
A100: =IFERROR(VLOOKUP($C100,구분표!$A$2:$C$313,2,FALSE),"") -> 안전행정위원회 | B100: =IFERROR(VLOOKUP($C100,구분표!$A$2:$C$313,3,FALSE),"") -> 자치행정국 | C100: 세정과 | D100: 본예산 | F100: 243 | G100: 순세계잉여금 - 순세계잉여금 | H100: 340000000 | K100: =SUM(H100:J100) -> 340000000 | M100: 31000000 | N100: =SUM(H100,L100,M100) -> 371000000 | O100: =IF(AND((K100=0),(N100>0)),"O",IF(AND((I100<0),(K100-N100<0)),"O","X")) -> X | R100: 도비 | T100: 도비 | U100: =IF($T100<>"도비",IF($R100="국도비","직접입력",SUM($I100:$J100)),) -> 0 | V100: =IF($T100="도비",SUM($I100:$J100),IF($R100="국도비","직접입력",SUM($I100:$J100)-$U100)) -> 0 | W100: =IF(SUM($I100:$J100)=SUM($U100:$V100),"OK","검토") -> OK | Y100: 도비 | Z100: =IF($T100<>"도비",IF($R100="국도비","직접입력",SUM($L100:$M100)),) -> 0 | AA100: =IF($T100="도비",SUM(L100:M100),IF($R100="국도비","직접입력",SUM(L100:M100)-Z100)) -> 31000000 | AB100: =IF(SUM(L100:M100)=SUM(Z100:AA100),"OK","검토") -> OK | AD100: =IF(AF100="","",IF(T100="도비","세입없음",CONCATENATE(AF100,"-",COUNTIF($AF$7:AF100,AF100)))) -> 세입없음 | AF100: {=IF(C100="","",INDEX(구분표!$I$2:$I$313, MATCH(1,(구분표!$E$2:$E$313='17년일입'!B100)*(구분표!$F$2:$F$313='17년일입'!C100)*(구분표!$G$2:$G$313='17년일입'!A100),0)))} -> 0154 | AJ100: =IF(AD100="",0,SUMIFS('17년일출'!$V$6:$V$925,'17년일출'!$AE$6:$AE$925,'17년일입'!$AD100)) -> 0 | AK100: =IF(AD100="","",COUNTIFS('17년일출'!$AE$6:$AE$925,'17년일입'!AD100)) -> 732 | AL100: =IF(U100=AJ100,"OK","@@") -> OK | AN100: =IF(AD100="",0,SUMIFS('17년일출'!$AA$6:$AA$925,'17년일출'!$AE$6:$AE$925,'17년일입'!$AD100)) -> 0 | AO100: =IF(AD100="","",COUNTIFS('17년일출'!$AE$6:$AE$925,AD100)) -> 732 | AP100: =IF(Z100=AN100,"OK","@@") -> OK
...

Sheet 17년일출
B1: 2017년도 경기도 일반회계 세출 예산 조정(안)
B2: □ 세출예산 | O2: =P2-'17년일입'!N2 -> 0 | P2: =P6-J6 -> 62124564 | V2: 세입=세출 | AA2: 세입=세출
J3: =SUM(J7:J1057)/2 -> 2080937180 | K3: =SUM(K7:K1057)/2 -> -105288304 | L3: =SUM(L7:L1057)/2 -> 161534547 | M3: =SUM(M7:M1057)/2 -> 2137191423 | N3: =SUM(N7:N1057)/2 -> -156618923 | O3: =SUM(O7:O1057)/2 -> 218743487 | P3: =SUM(P7:P1057)/2 -> 2143061744 | R3: (단위 : 천원) | V3: =IF(V6='17년일입'!U6,"OK","@@") -> OK | W3: =K6+L6-V6-W6 -> 0 | X3: =IF(COUNTIF(X6:X925,"검토")>0,"@@","OK") -> OK | AA3: =IF(AA6='17년일입'!Z6,"OK","@@") -> OK | AB3: =N6+O6-AA6-AB6 -> 0 | AC3: =IF(COUNTIF(AC6:AC925,"검토")>0,"@@","OK") -> OK
A4: 번호 | B4: 위원회명 | C4: 실국명 | D4: 부서명 | E4: 편성 구분 | F4: 연정 구분 | G4: 예산안 페이지 | H4: 사업설명서페이지 | I4: 세부사업명 및 부기명 | J4: 예산안 (가) | K4: 상임위 예산안 조정액(나) | M4: 상임위 조정 예산안 (다=가+나) | N4: 예결위 예산안 조정액(라) | P4: 예결위 조정 예산안 (마=가+라) | Q4: 동의 대상 | R4: 비고 (예결위 부대의견) | S4: 국도비 등 여부 | U4: 재원 | V4: 상임위 재원별 증감액 | Z4: 재원 | AA4: 예결위 재원별 증감액 | AE4: 세입번호 | AG4: 동일 세입 건수 | AH4: 세출 번호 검증 | AJ4: 실국부서 코드 | AL4: 추가 내시 등
K5: 감액 | L5: 증액 | N5: 감액 | O5: 증액 | V5: 국비 등 | W5: 도비 | X5: 검증 | AA5: 국비 등 | AB5: 도비 | AC5: 검증
B6: 합 계 | J6: =SUBTOTAL(9,J7:J925) -> 2080937180 | K6: =SUBTOTAL(9,K7:K925) -> -105288304 | L6: =SUBTOTAL(9,L7:L925) -> 161534547 | M6: =SUBTOTAL(9,M7:M925) -> 2137191423 | N6: =SUBTOTAL(9,N7:N925) -> -156618923 | O6: =SUBTOTAL(9,O7:O925) -> 218743487 | P6: =SUBTOTAL(9,P7:P925) -> 2143061744 | V6: =SUBTOTAL(9,V7:V925) -> 6166655 | W6: =SUBTOTAL(9,W7:W925) -> 50079588 | X6: =IF(SUM($K6:$L6)=SUM($V6:$W6),"OK","검토") -> OK | AA6: =SUBTOTAL(9,AA7:AA925) -> 27394743 | AB6: =SUBTOTAL(9,AB7:AB925) -> 34729821 | AC6: =IF(SUM(N6:O6)=SUM(AA6:AB6),"OK","검토") -> OK
B7: (의회운영위원회) | J7: =SUBTOTAL(9,J8:J96) -> 23966017 | K7: =SUBTOTAL(9,K8:K96) -> -3169045 | L7: =SUBTOTAL(9,L8:L96) -> 1768704 | M7: =SUBTOTAL(9,M8:M96) -> 22565676 | N7: =SUBTOTAL(9,N8:N96) -> -1533825 | O7: =SUBTOTAL(9,O8:O96) -> 1743503 | P7: =SUBTOTAL(9,P8:P96) -> 24175695
A8: 1 | B8: =IFERROR(VLOOKUP($D8,구분표!$A$2:$C$313,2,FALSE),"") -> 의회운영위원회 | C8: =IFERROR(VLOOKUP($D8,구분표!$A$2:$C$313,3,FALSE),"") -> 의회사무처 | D8: 공보담당관 | E8: 본예산 | G8: 9 | H8: 16 | I8: 도민소통 의정홍보(자체/직접) - 홍보안내도우미 운영 | J8: 15820 | L8: 4000 | M8: =J8+K8+L8 -> 19820 | O8: 4000 | P8: =J8+N8+O8 -> 19820 | Q8: =IF(AND((M8=0),(P8>0)),"O",IF(AND((K8<0),(M8-P8<0)),"O","X")) -> X | S8: 도비 | U8: 도비 | V8: 0 | W8: 4000 | X8: =IF(SUM($K8:$L8)=SUM($V8:$W8),"OK","검토") -> OK | Z8: 도비 | AA8: =IF($U8<>"도비",IF($S8="국도비","직접입력",SUM($N8:$O8)),) -> 0 | AB8: =IF($U8="도비",SUM(N8:O8),IF($S8="국도비","직접입력",SUM(N8:O8)-AA8)) -> 4000 | AC8: =IF(SUM(N8:O8)=SUM(AA8:AB8),"OK","검토") -> OK | AE8: =IF(U8="","",IF(U8="도비","세입없음","직접입력")) -> 세입없음 | AG8: =IF(AE8="","",COUNTIF($AE$7:$AE$925,AE8)) -> 732 | AH8: =IF(U8="","",IF(AND(U8="도비",AE8="세입없음"),"OK",IF(AND(U8<>"도비",AE8<>""),"OK","@@"))) -> OK | AJ8: {=IF(D8="","",INDEX(구분표!$I$2:$I$313, MATCH(1,(구분표!$E$2:$E$313='17년일출'!C8)*(구분표!$F$2:$F$313='17년일출'!D8)*(구분표!$G$2:$G$313='17년일출'!B8),0)))} -> 0101
A9: 2 | B9: =IFERROR(VLOOKUP($D9,구분표!$A$2:$C$313,2,FALSE),"") -> 의회운영위원회 | C9: =IFERROR(VLOOKUP($D9,구분표!$A$2:$C$313,3,FALSE),"") -> 의회사무처 | D9: 공보담당관 | E9: 본예산 | G9: 9 | H9: 19 | I9: 의회도서관 운영(자체/직접) - 의회도서관 운영관리 | J9: 20000 | L9: 10000 | M9: =J9+K9+L9 -> 30000 | O9: 10000 | P9: =J9+N9+O9 -> 30000 | Q9: =IF(AND((M9=0),(P9>0)),"O",IF(AND((K9<0),(M9-P9<0)),"O","X")) -> X | S9: 도비 | U9: 도비 | V9: 0 | W9: 10000 | X9: =IF(SUM($K9:$L9)=SUM($V9:$W9),"OK","검토") -> OK | Z9: 도비 | AA9: =IF($U9<>"도비",IF($S9="국도비","직접입력",SUM($N9:$O9)),) -> 0 | AB9: =IF($U9="도비",SUM(N9:O9),IF($S9="국도비","직접입력",SUM(N9:O9)-AA9)) -> 10000 | AC9: =IF(SUM(N9:O9)=SUM(AA9:AB9),"OK","검토") -> OK | AE9: =IF(U9="","",IF(U9="도비","세입없음","직접입력")) -> 세입없음 | AG9: =IF(AE9="","",COUNTIF($AE$7:$AE$925,AE9)) -> 732 | AH9: =IF(U9="","",IF(AND(U9="도비",AE9="세입없음"),"OK",IF(AND(U9<>"도비",AE9<>""),"OK","@@"))) -> OK | AJ9: {=IF(D9="","",INDEX(구분표!$I$2:$I$313, MATCH(1,(구분표!$E$2:$E$313='17년일출'!C9)*(구분표!$F$2:$F$313='17년일출'!D9)*(구분표!$G$2:$G$313='17년일출'!B9),0)))} -> 0101
A10: 3 | B10: =IFERROR(VLOOKUP($D10,구분표!$A$2:$C$313,2,FALSE),"") -> 의회운영위원회 | C10: =IFERROR(VLOOKUP($D10,구분표!$A$2:$C$313,3,FALSE),"") -> 의회사무처 | D10: 공보담당관 | E10: 본예산 | G10: 9 | H10: 19 | I10: 의회도서관 운영(자체/직접) - 의회도서관 도서 구입 | J10: 30000 | L10: 20000 | M10: =J10+K10+L10 -> 50000 | O10: 20000 | P10: =J10+N10+O10 -> 50000 | Q10: =IF(AND((M10=0),(P10>0)),"O",IF(AND((K10<0),(M10-P10<0)),"O","X")) -> X | S10: 도비 | U10: 도비 | V10: 0 | W10: 20000 | X10: =IF(SUM($K10:$L10)=SUM($V10:$W10),"OK","검토") -> OK | Z10: 도비 | AA10: =IF($U10<>"도비",IF($S10="국도비","직접입력",SUM($N10:$O10)),) -> 0 | AB10: =IF($U10="도비",SUM(N10:O10),IF($S10="국도비","직접입력",SUM(N10:O10)-AA10)) -> 20000 | AC10: =IF(SUM(N10:O10)=SUM(AA10:AB10),"OK","검토") -> OK | AE10: =IF(U10="","",IF(U10="도비","세입없음","직접입력")) -> 세입없음 | AG10: =IF(AE10="","",COUNTIF($AE$7:$AE$925,AE10)) -> 732 | AH10: =IF(U10="","",IF(AND(U10="도비",AE10="세입없음"),"OK",IF(AND(U10<>"도비",AE10<>""),"OK","@@"))) -> OK | AJ10: {=IF(D10="","",INDEX(구분표!$I$2:$I$313, MATCH(1,(구분표!$E$2:$E$313='17년일출'!C10)*(구분표!$F$2:$F$313='17년일출'!D10)*(구분표!$G$2:$G$313='17년일출'!B10),0)))} -> 0101
A11: 4 | B11: =IFERROR(VLOOKUP($D11,구분표!$A$2:$C$313,2,FALSE),"") -> 의회운영위원회 | C11: =IFERROR(VLOOKUP($D11,구분표!$A$2:$C$313,3,FALSE),"") -> 의회사무처 | D11: 공보담당관 | E11: 본예산 | G11: 10 | H11: 23 | I11: 영상 및 언론매체 홍보(자체/직접) - 의정현안 시책홍보 | J11: 3138247 | K11: -250000 | M11: =J11+K11+L11 -> 2888247 | N11: -21120 | P11: =J11+N11+O11 -> 3117127 | Q11: =IF(AND((M11=0),(P11>0)),"O",IF(AND((K11<0),(M11-P11<0)),"O","X")) -> O | S11: 도비 | U11: 도비 | V11: 0 | W11: -250000 | X11: =IF(SUM($K11:$L11)=SUM($V11:$W11),"OK","검토") -> OK | Z11: 도비 | AA11: =IF($U11<>"도비",IF($S11="국도비","직접입력",SUM($N11:$O11)),) -> 0 | AB11: =IF($U11="도비",SUM(N11:O11),IF($S11="국도비","직접입력",SUM(N11:O11)-AA11)) -> -21120 | AC11: =IF(SUM(N11:O11)=SUM(AA11:AB11),"OK","검토") -> OK | AE11: =IF(U11="","",IF(U11="도비","세입없음","직접입력")) -> 세입없음 | AG11: =IF(AE11="","",COUNTIF($AE$7:$AE$925,AE11)) -> 732 | AH11: =IF(U11="","",IF(AND(U11="도비",AE11="세입없음"),"OK",IF(AND(U11<>"도비",AE11<>""),"OK","@@"))) -> OK | AJ11: {=IF(D11="","",INDEX(구분표!$I$2:$I$313, MATCH(1,(구분표!$E$2:$E$313='17년일출'!C11)*(구분표!$F$2:$F$313='17년일출'!D11)*(구분표!$G$2:$G$313='17년일출'!B11),0)))} -> 0101
A12: 5 | B12: =IFERROR(VLOOKUP($D12,구분표!$A$2:$C$313,2,FALSE),"") -> 의회운영위원회 | C12: =IFERROR(VLOOKUP($D12,구분표!$A$2:$C$313,3,FALSE),"") -> 의회사무처 | D12: 공보담당관 | E12: 신규 | H12: 2 | I12: 영상 및 언론매체 홍보(자체/직접) - 지역송출 의정홍보 | L12: 20000 | M12: =J12+K12+L12 -> 20000 | O12: 20000 | P12: =J12+N12+O12 -> 20000 | Q12: =IF(AND((M12=0),(P12>0)),"O",IF(AND((K12<0),(M12-P12<0)),"O","X")) -> X | S12: 도비 | U12: 도비 | V12: 0 | W12: 20000 | X12: =IF(SUM($K12:$L12)=SUM($V12:$W12),"OK","검토") -> OK | Z12: 도비 | AA12: =IF($U12<>"도비",IF($S12="국도비","직접입력",SUM($N12:$O12)),) -> 0 | AB12: =IF($U12="도비",SUM(N12:O12),IF($S12="국도비","직접입력",SUM(N12:O12)-AA12)) -> 20000 | AC12: =IF(SUM(N12:O12)=SUM(AA12:AB12),"OK","검토") -> OK | AE12: =IF(U12="","",IF(U12="도비","세입없음","직접입력")) -> 세입없음 | AG12: =IF(AE12="","",COUNTIF($AE$7:$AE$925,AE12)) -> 732 | AH12: =IF(U12="","",IF(AND(U12="도비",AE12="세입없음"),"OK",IF(AND(U12<>"도비",AE12<>""),"OK","@@"))) -> OK | AJ12: {=IF(D12="","",INDEX(구분표!$I$2:$I$313, MATCH(1,(구분표!$E$2:$E$313='17년일출'!C12)*(구분표!$F$2:$F$313='17년일출'!D12)*(구분표!$G$2:$G$313='17년일출'!B12),0)))} -> 0101
A13: 6 | B13: =IFERROR(VLOOKUP($D13,구분표!$A$2:$C$313,2,FALSE),"") -> 의회운영위원회 | C13: =IFERROR(VLOOKUP($D13,구분표!$A$2:$C$313,3,FALSE),"") -> 의회사무처 | D13: 공보담당관 | E13: 신규 | H13: 3 | I13: 미디어홍보(자체/직접) - 상임위 간행물 제작 및 발행 | L13: 414000 | M13: =J13+K13+L13 -> 414000 | P13: =J13+N13+O13 -> 0 | Q13: =IF(AND((M13=0),(P13>0)),"O",IF(AND((K13<0),(M13-P13<0)),"O","X")) -> X | S13: 도비 | U13: 도비 | V13: 0 | W13: 414000 | X13: =IF(SUM($K13:$L13)=SUM($V13:$W13),"OK","검토") -> OK | Z13: 도비 | AA13: =IF($U13<>"도비",IF($S13="국도비","직접입력",SUM($N13:$O13)),) -> 0 | AB13: =IF($U13="도비",SUM(N13:O13),IF($S13="국도비","직접입력",SUM(N13:O13)-AA13)) -> 0 | AC13: =IF(SUM(N13:O13)=SUM(AA13:AB13),"OK","검토") -> OK | AE13: =IF(U13="","",IF(U13="도비","세입없음","직접입력")) -> 세입없음 | AG13: =IF(AE13="","",COUNTIF($AE$7:$AE$925,AE13)) -> 732 | AH13: =IF(U13="","",IF(AND(U13="도비",AE13="세입없음"),"OK",IF(AND(U13<>"도비",AE13<>""),"OK","@@"))) -> OK | AJ13: {=IF(D13="","",INDEX(구분표!$I$2:$I$313, MATCH(1,(구분표!$E$2:$E$313='17년일출'!C13)*(구분표!$F$2:$F$313='17년일출'!D13)*(구분표!$G$2:$G$313='17년일출'!B13),0)))} -> 0101
A14: 7 | B14: =IFERROR(VLOOKUP($D14,구분표!$A$2:$C$313,2,FALSE),"") -> 의회운영위원회 | C14: =IFERROR(VLOOKUP($D14,구분표!$A$2:$C$313,3,FALSE),"") -> 의회사무처 | D14: 총무담당관 | E14: 본예산 | G14: 12 | H14: 46 | I14: 의회운영(자체/직접) - 해외의회 운영사례연구 | J14: 25000 | L14: 35000 | M14: =J14+K14+L14 -> 60000 | O14: 35000 | P14: =J14+N14+O14 -> 60000 | Q14: =IF(AND((M14=0),(P14>0)),"O",IF(AND((K14<0),(M14-P14<0)),"O","X")) -> X | S14: 도비 | U14: 도비 | V14: 0 | W14: 35000 | X14: =IF(SUM($K14:$L14)=SUM($V14:$W14),"OK","검토") -> OK | Z14: 도비 | AA14: =IF($U14<>"도비",IF($S14="국도비","직접입력",SUM($N14:$O14)),) -> 0 | AB14: =IF($U14="도비",SUM(N14:O14),IF($S14="국도비","직접입력",SUM(N14:O14)-AA14)) -> 35000 | AC14: =IF(SUM(N14:O14)=SUM(AA14:AB14),"OK","검토") -> OK | AE14: =IF(U14="","",IF(U14="도비","세입없음","직접입력")) -> 세입없음 | AG14: =IF(AE14="","",COUNTIF($AE$7:$AE$925,AE14)) -> 732 | AH14: =IF(U14="","",IF(AND(U14="도비",AE14="세입없음"),"OK",IF(AND(U14<>"도비",AE14<>""),"OK","@@"))) -> OK | AJ14: {=IF(D14="","",INDEX(구분표!$I$2:$I$313, MATCH(1,(구분표!$E$2:$E$313='17년일출'!C14)*(구분표!$F$2:$F$313='17년일출'!D14)*(구분표!$G$2:$G$313='17년일출'!B14),0)))} -> 0102
A15: 8 | B15: =IFERROR(VLOOKUP($D15,구분표!$A$2:$C$313,2,FALSE),"") -> 의회운영위원회 | C15: =IFERROR(VLOOKUP($D15,구분표!$A$2:$C$313,3,FALSE),"") -> 의회사무처 | D15: 총무담당관 | E15: 본예산 | G15: 12 | H15: 46 | I15: 의회운영(자체/직접) - 의회운영 및 예산 관련 비교연수 | J15: 25000 | L15: 35000 | M15: =J15+K15+L15 -> 60000 | O15: 35000 | P15: =J15+N15+O15 -> 60000 | Q15: =IF(AND((M15=0),(P15>0)),"O",IF(AND((K15<0),(M15-P15<0)),"O","X")) -> X | S15: 도비 | U15: 도비 | V15: 0 | W15: 35000 | X15: =IF(SUM($K15:$L15)=SUM($V15:$W15),"OK","검토") -> OK | Z15: 도비 | AA15: =IF($U15<>"도비",IF($S15="국도비","직접입력",SUM($N15:$O15)),) -> 0 | AB15: =IF($U15="도비",SUM(N15:O15),IF($S15="국도비","직접입력",SUM(N15:O15)-AA15)) -> 35000 | AC15: =IF(SUM(N15:O15)=SUM(AA15:AB15),"OK","검토") -> OK | AE15: =IF(U15="","",IF(U15="도비","세입없음","직접입력")) -> 세입없음 | AG15: =IF(AE15="","",COUNTIF($AE$7:$AE$925,AE15)) -> 732 | AH15: =IF(U15="","",IF(AND(U15="도비",AE15="세입없음"),"OK",IF(AND(U15<>"도비",AE15<>""),"OK","@@"))) -> OK | AJ15: {=IF(D15="","",INDEX(구분표!$I$2:$I$313, MATCH(1,(구분표!$E$2:$E$313='17년일출'!C15)*(구분표!$F$2:$F$313='17년일출'!D15)*(구분표!$G$2:$G$313='17년일출'!B15),0)))} -> 0102
A16: 9 | B16: =IFERROR(VLOOKUP($D16,구분표!$A$2:$C$313,2,FALSE),"") -> 의회운영위원회 | C16: =IFERROR(VLOOKUP($D16,구분표!$A$2:$C$313,3,FALSE),"") -> 의회사무처 | D16: 총무담당관 | E16: 본예산 | G16: 13 | H16: 53 | I16: 국내외 교류사업 추진(자체/직접) - 의원 국외활동 수행여비 | J16: 160000 | L16: 112000 | M16: =J16+K16+L16 -> 272000 | O16: 112000 | P16: =J16+N16+O16 -> 272000 | Q16: =IF(AND((M16=0),(P16>0)),"O",IF(AND((K16<0),(M16-P16<0)),"O","X")) -> X | S16: 도비 | U16: 도비 | V16: 0 | W16: 112000 | X16: =IF(SUM($K16:$L16)=SUM($V16:$W16),"OK","검토") -> OK | Z16: 도비 | AA16: =IF($U16<>"도비",IF($S16="국도비","직접입력",SUM($N16:$O16)),) -> 0 | AB16: =IF($U16="도비",SUM(N16:O16),IF($S16="국도비","직접입력",SUM(N16:O16)-AA16)) -> 112000 | AC16: =IF(SUM(N16:O16)=SUM(AA16:AB16),"OK","검토") -> OK | AE16: =IF(U16="","",IF(U16="도비","세입없음","직접입력")) -> 세입없음 | AG16: =IF(AE16="","",COUNTIF($AE$7:$AE$925,AE16)) -> 732 | AH16: =IF(U16="","",IF(AND(U16="도비",AE16="세입없음"),"OK",IF(AND(U16<>"도비",AE16<>""),"OK","@@"))) -> OK | AJ16: {=IF(D16="","",INDEX(구분표!$I$2:$I$313, MATCH(1,(구분표!$E$2:$E$313='17년일출'!C16)*(구분표!$F$2:$F$313='17년일출'!D16)*(구분표!$G$2:$G$313='17년일출'!B16),0)))} -> 0102
A17: 10 | B17: =IFERROR(VLOOKUP($D17,구분표!$A$2:$C$313,2,FALSE),"") -> 의회운영위원회 | C17: =IFERROR(VLOOKUP($D17,구분표!$A$2:$C$313,3,FALSE),"") -> 의회사무처 | D17: 총무담당관 | E17: 본예산 | G17: 13 | H17: 60 | I17: 국제외빈 방문행사 지원(자체/직접) - 국제외빈 방문행사 | J17: 3600 | L17: 46400 | M17: =J17+K17+L17 -> 50000 | P17: =J17+N17+O17 -> 3600 | Q17: =IF(AND((M17=0),(P17>0)),"O",IF(AND((K17<0),(M17-P17<0)),"O","X")) -> X | S17: 도비 | U17: 도비 | V17: 0 | W17: 46400 | X17: =IF(SUM($K17:$L17)=SUM($V17:$W17),"OK","검토") -> OK | Z17: 도비 | AA17: =IF($U17<>"도비",IF($S17="국도비","직접입력",SUM($N17:$O17)),) -> 0 | AB17: =IF($U17="도비",SUM(N17:O17),IF($S17="국도비","직접입력",SUM(N17:O17)-AA17)) -> 0 | AC17: =IF(SUM(N17:O17)=SUM(AA17:AB17),"OK","검토") -> OK | AE17: =IF(U17="","",IF(U17="도비","세입없음","직접입력")) -> 세입없음 | AG17: =IF(AE17="","",COUNTIF($AE$7:$AE$925,AE17)) -> 732 | AH17: =IF(U17="","",IF(AND(U17="도비",AE17="세입없음"),"OK",IF(AND(U17<>"도비",AE17<>""),"OK","@@"))) -> OK | AJ17: {=IF(D17="","",INDEX(구분표!$I$2:$I$313, MATCH(1,(구분표!$E$2:$E$313='17년일출'!C17)*(구분표!$F$2:$F$313='17년일출'!D17)*(구분표!$G$2:$G$313='17년일출'!B17),0)))} -> 0102
A18: 11 | B18: =IFERROR(VLOOKUP($D18,구분표!$A$2:$C$313,2,FALSE),"") -> 의회운영위원회 | C18: =IFERROR(VLOOKUP($D18,구분표!$A$2:$C$313,3,FALSE),"") -> 의회사무처 | D18: 총무담당관 | E18: 본예산 | G18: 14 | H18: 64 | I18: 청사시설 유지관리(자체/직접) -지하주차장 보수공사 | J18: 400000 | K18: -400000 | M18: =J18+K18+L18 -> 0 | N18: -100000 | P18: =J18+N18+O18 -> 300000 | Q18: =IF(AND((M18=0),(P18>0)),"O",IF(AND((K18<0),(M18-P18<0)),"O","X")) -> O | S18: 도비 | U18: 도비 | V18: 0 | W18: -400000 | X18: =IF(SUM($K18:$L18)=SUM($V18:$W18),"OK","검토") -> OK | Z18: 도비 | AA18: =IF($U18<>"도비",IF($S18="국도비","직접입력",SUM($N18:$O18)),) -> 0 | AB18: =IF($U18="도비",SUM(N18:O18),IF($S18="국도비","직접입력",SUM(N18:O18)-AA18)) -> -100000 | AC18: =IF(SUM(N18:O18)=SUM(AA18:AB18),"OK","검토") -> OK | AE18: =IF(U18="","",IF(U18="도비","세입없음","직접입력")) -> 세입없음 | AG18: =IF(AE18="","",COUNTIF($AE$7:$AE$925,AE18)) -> 732 | AH18: =IF(U18="","",IF(AND(U18="도비",AE18="세입없음"),"OK",IF(AND(U18<>"도비",AE18<>""),"OK","@@"))) -> OK | AJ18: {=IF(D18="","",INDEX(구분표!$I$2:$I$313, MATCH(1,(구분표!$E$2:$E$313='17년일출'!C18)*(구분표!$F$2:$F$313='17년일출'!D18)*(구분표!$G$2:$G$313='17년일출'!B18),0)))} -> 0102
A19: 12 | B19: =IFERROR(VLOOKUP($D19,구분표!$A$2:$C$313,2,FALSE),"") -> 의회운영위원회 | C19: =IFERROR(VLOOKUP($D19,구분표!$A$2:$C$313,3,FALSE),"") -> 의회사무처 | D19: 총무담당관 | E19: 본예산 | G19: 14 | H19: 68 | I19: 의정지원능력 강화(자체/직접) - 소통과 나눔행사 | J19: 20000 | L19: 30000 | M19: =J19+K19+L19 -> 50000 | O19: 30000 | P19: =J19+N19+O19 -> 50000 | Q19: =IF(AND((M19=0),(P19>0)),"O",IF(AND((K19<0),(M19-P19<0)),"O","X")) -> X | R19: 부기명 변경 (소통과 나눔행사->소통교육 및 김장담기 교육나눔행사) | S19: 도비 | U19: 도비 | V19: 0 | W19: 30000 | X19: =IF(SUM($K19:$L19)=SUM($V19:$W19),"OK","검토") -> OK | Z19: 도비 | AA19: =IF($U19<>"도비",IF($S19="국도비","직접입력",SUM($N19:$O19)),) -> 0 | AB19: =IF($U19="도비",SUM(N19:O19),IF($S19="국도비","직접입력",SUM(N19:O19)-AA19)) -> 30000 | AC19: =IF(SUM(N19:O19)=SUM(AA19:AB19),"OK","검토") -> OK | AE19: =IF(U19="","",IF(U19="도비","세입없음","직접입력")) -> 세입없음 | AG19: =IF(AE19="","",COUNTIF($AE$7:$AE$925,AE19)) -> 732 | AH19: =IF(U19="","",IF(AND(U19="도비",AE19="세입없음"),"OK",IF(AND(U19<>"도비",AE19<>""),"OK","@@"))) -> OK | AJ19: {=IF(D19="","",INDEX(구분표!$I$2:$I$313, MATCH(1,(구분표!$E$2:$E$313='17년일출'!C19)*(구분표!$F$2:$F$313='17년일출'!D19)*(구분표!$G$2:$G$313='17년일출'!B19),0)))} -> 0102
A20: 13 | B20: =IFERROR(VLOOKUP($D20,구분표!$A$2:$C$313,2,FALSE),"") -> 의회운영위원회 | C20: =IFERROR(VLOOKUP($D20,구분표!$A$2:$C$313,3,FALSE),"") -> 의회사무처 | D20: 총무담당관 | E20: 본예산 | G20: 14 | H20: 75 | I20: 사회복지시설 지원(자체/직접) - 사회복지시설 위문 | J20: 62000 | L20: 58000 | M20: =J20+K20+L20 -> 120000 | P20: =J20+N20+O20 -> 62000 | Q20: =IF(AND((M20=0),(P20>0)),"O",IF(AND((K20<0),(M20-P20<0)),"O","X")) -> X | R20: 복지시설 위문은 의원 3명이상 방문시 집행 | S20: 도비 | U20: 도비 | V20: 0 | W20: 58000 | X20: =IF(SUM($K20:$L20)=SUM($V20:$W20),"OK","검토") -> OK | Z20: 도비 | AA20: =IF($U20<>"도비",IF($S20="국도비","직접입력",SUM($N20:$O20)),) -> 0 | AB20: =IF($U20="도비",SUM(N20:O20),IF($S20="국도비","직접입력",SUM(N20:O20)-AA20)) -> 0 | AC20: =IF(SUM(N20:O20)=SUM(AA20:AB20),"OK","검토") -> OK | AE20: =IF(U20="","",IF(U20="도비","세입없음","직접입력")) -> 세입없음 | AG20: =IF(AE20="","",COUNTIF($AE$7:$AE$925,AE20)) -> 732 | AH20: =IF(U20="","",IF(AND(U20="도비",AE20="세입없음"),"OK",IF(AND(U20<>"도비",AE20<>""),"OK","@@"))) -> OK | AJ20: {=IF(D20="","",INDEX(구분표!$I$2:$I$313, MATCH(1,(구분표!$E$2:$E$313='17년일출'!C20)*(구분표!$F$2:$F$313='17년일출'!D20)*(구분표!$G$2:$G$313='17년일출'!B20),0)))} -> 0102
A21: 14 | B21: =IFERROR(VLOOKUP($D21,구분표!$A$2:$C$313,2,FALSE),"") -> 의회운영위원회 | C21: =IFERROR(VLOOKUP($D21,구분표!$A$2:$C$313,3,FALSE),"") -> 의회사무처 | D21: 총무담당관 | E21: 본예산 | G21: 15 | H21: 78 | I21: 의정지원 기준경비(자체/직접) - 국내여비 | J21: 158000 | L21: 226048 | M21: =J21+K21+L21 -> 384048 | O21: 226048 | P21: =J21+N21+O21 -> 384048 | Q21: =IF(AND((M21=0),(P21>0)),"O",IF(AND((K21<0),(M21-P21<0)),"O","X")) -> X | S21: 도비 | U21: 도비 | V21: 0 | W21: 226048 | X21: =IF(SUM($K21:$L21)=SUM($V21:$W21),"OK","검토") -> OK | Z21: 도비 | AA21: =IF($U21<>"도비",IF($S21="국도비","직접입력",SUM($N21:$O21)),) -> 0 | AB21: =IF($U21="도비",SUM(N21:O21),IF($S21="국도비","직접입력",SUM(N21:O21)-AA21)) -> 226048 | AC21: =IF(SUM(N21:O21)=SUM(AA21:AB21),"OK","검토") -> OK | AE21: =IF(U21="","",IF(U21="도비","세입없음","직접입력")) -> 세입없음 | AG21: =IF(AE21="","",COUNTIF($AE$7:$AE$925,AE21)) -> 732 | AH21: =IF(U21="","",IF(AND(U21="도비",AE21="세입없음"),"OK",IF(AND(U21<>"도비",AE21<>""),"OK","@@"))) -> OK | AJ21: {=IF(D21="","",INDEX(구분표!$I$2:$I$313, MATCH(1,(구분표!$E$2:$E$313='17년일출'!C21)*(구분표!$F$2:$F$313='17년일출'!D21)*(구분표!$G$2:$G$313='17년일출'!B21),0)))} -> 0102
A22: 15 | B22: =IFERROR(VLOOKUP($D22,구분표!$A$2:$C$313,2,FALSE),"") -> 의회운영위원회 | C22: =IFERROR(VLOOKUP($D22,구분표!$A$2:$C$313,3,FALSE),"") -> 의회사무처 | D22: 총무담당관 | E22: 본예산 | G22: 15 | H22: 78 | I22: 의정지원 기준경비(자체/직접) - 전국시도의장협의회분담금 | J22: 102787 | L22: 10000 | M22: =J22+K22+L22 -> 112787 | O22: 10000 | P22: =J22+N22+O22 -> 112787 | Q22: =IF(AND((M22=0),(P22>0)),"O",IF(AND((K22<0),(M22-P22<0)),"O","X")) -> X | S22: 도비 | U22: 도비 | V22: 0 | W22: 10000 | X22: =IF(SUM($K22:$L22)=SUM($V22:$W22),"OK","검토") -> OK | Z22: 도비 | AA22: =IF($U22<>"도비",IF($S22="국도비","직접입력",SUM($N22:$O22)),) -> 0 | AB22: =IF($U22="도비",SUM(N22:O22),IF($S22="국도비","직접입력",SUM(N22:O22)-AA22)) -> 10000 | AC22: =IF(SUM(N22:O22)=SUM(AA22:AB22),"OK","검토") -> OK | AE22: =IF(U22="","",IF(U22="도비","세입없음","직접입력")) -> 세입없음 | AG22: =IF(AE22="","",COUNTIF($AE$7:$AE$925,AE22)) -> 732 | AH22: =IF(U22="","",IF(AND(U22="도비",AE22="세입없음"),"OK",IF(AND(U22<>"도비",AE22<>""),"OK","@@"))) -> OK | AJ22: {=IF(D22="","",INDEX(구분표!$I$2:$I$313, MATCH(1,(구분표!$E$2:$E$313='17년일출'!C22)*(구분표!$F$2:$F$313='17년일출'!D22)*(구분표!$G$2:$G$313='17년일출'!B22),0)))} -> 0102
A23: 16 | B23: =IFERROR(VLOOKUP($D23,구분표!$A$2:$C$313,2,FALSE),"") -> 의회운영위원회 | C23: =IFERROR(VLOOKUP($D23,구분표!$A$2:$C$313,3,FALSE),"") -> 의회사무처 | D23: 총무담당관 | E23: 본예산 | G23: 15 | H23: 82 | I23: 의원 의정역량 강화 지원(자체/직접) - 의정활동지원인력 | J23: 52181 | L23: 12756 | M23: =J23+K23+L23 -> 64937 | O23: 12756 | P23: =J23+N23+O23 -> 64937 | Q23: =IF(AND((M23=0),(P23>0)),"O",IF(AND((K23<0),(M23-P23<0)),"O","X")) -> X | S23: 도비 | U23: 도비 | V23: 0 | W23: 12756 | X23: =IF(SUM($K23:$L23)=SUM($V23:$W23),"OK","검토") -> OK | Z23: 도비 | AA23: =IF($U23<>"도비",IF($S23="국도비","직접입력",SUM($N23:$O23)),) -> 0 | AB23: =IF($U23="도비",SUM(N23:O23),IF($S23="국도비","직접입력",SUM(N23:O23)-AA23)) -> 12756 | AC23: =IF(SUM(N23:O23)=SUM(AA23:AB23),"OK","검토") -> OK | AE23: =IF(U23="","",IF(U23="도비","세입없음","직접입력")) -> 세입없음 | AG23: =IF(AE23="","",COUNTIF($AE$7:$AE$925,AE23)) -> 732 | AH23: =IF(U23="","",IF(AND(U23="도비",AE23="세입없음"),"OK",IF(AND(U23<>"도비",AE23<>""),"OK","@@"))) -> OK | AJ23: {=IF(D23="","",INDEX(구분표!$I$2:$I$313, MATCH(1,(구분표!$E$2:$E$313='17년일출'!C23)*(구분표!$F$2:$F$313='17년일출'!D23)*(구분표!$G$2:$G$313='17년일출'!B23),0)))} -> 0102
A24: 17 | B24: =IFERROR(VLOOKUP($D24,구분표!$A$2:$C$313,2,FALSE),"") -> 의회운영위원회 | C24: =IFERROR(VLOOKUP($D24,구분표!$A$2:$C$313,3,FALSE),"") -> 의회사무처 | D24: 총무담당관 | E24: 본예산 | G24: 16 | H24: 85 | I24: 의원 체육의 날 행사(자체/직접) - 도민한마음체육대회(기존 : 의원 체육의 날) | J24: 18000 | L24: 82000 | M24: =J24+K24+L24 -> 100000 | O24: 32000 | P24: =J24+N24+O24 -> 50000 | Q24: =IF(AND((M24=0),(P24>0)),"O",IF(AND((K24<0),(M24-P24<0)),"O","X")) -> X | S24: 도비 | U24: 도비 | V24: 0 | W24: 82000 | X24: =IF(SUM($K24:$L24)=SUM($V24:$W24),"OK","검토") -> OK | Z24: 도비 | AA24: =IF($U24<>"도비",IF($S24="국도비","직접입력",SUM($N24:$O24)),) -> 0 | AB24: =IF($U24="도비",SUM(N24:O24),IF($S24="국도비","직접입력",SUM(N24:O24)-AA24)) -> 32000 | AC24: =IF(SUM(N24:O24)=SUM(AA24:AB24),"OK","검토") -> OK | AE24: =IF(U24="","",IF(U24="도비","세입없음","직접입력")) -> 세입없음 | AG24: =IF(AE24="","",COUNTIF($AE$7:$AE$925,AE24)) -> 732 | AH24: =IF(U24="","",IF(AND(U24="도비",AE24="세입없음"),"OK",IF(AND(U24<>"도비",AE24<>""),"OK","@@"))) -> OK | AJ24: {=IF(D24="","",INDEX(구분표!$I$2:$I$313, MATCH(1,(구분표!$E$2:$E$313='17년일출'!C24)*(구분표!$F$2:$F$313='17년일출'!D24)*(구분표!$G$2:$G$313='17년일출'!B24),0)))} -> 0102
A25: 18 | B25: =IFERROR(VLOOKUP($D25,구분표!$A$2:$C$313,2,FALSE),"") -> 의회운영위원회 | C25: =IFERROR(VLOOKUP($D25,구분표!$A$2:$C$313,3,FALSE),"") -> 의회사무처 | D25: 총무담당관 | E25: 본예산 | G25: 16 | H25: 88 | I25: 의원 정책활동 지원(자체/직접) - 각종 세미나 등 지원 | J25: 177000 | L25: 123000 | M25: =J25+K25+L25 -> 300000 | O25: 123000 | P25: =J25+N25+O25 -> 300000 | Q25: =IF(AND((M25=0),(P25>0)),"O",IF(AND((K25<0),(M25-P25<0)),"O","X")) -> X | S25: 도비 | U25: 도비 | V25: 0 | W25: 123000 | X25: =IF(SUM($K25:$L25)=SUM($V25:$W25),"OK","검토") -> OK | Z25: 도비 | AA25: =IF($U25<>"도비",IF($S25="국도비","직접입력",SUM($N25:$O25)),) -> 0 | AB25: =IF($U25="도비",SUM(N25:O25),IF($S25="국도비","직접입력",SUM(N25:O25)-AA25)) -> 123000 | AC25: =IF(SUM(N25:O25)=SUM(AA25:AB25),"OK","검토") -> OK | AE25: =IF(U25="","",IF(U25="도비","세입없음","직접입력")) -> 세입없음 | AG25: =IF(AE25="","",COUNTIF($AE$7:$AE$925,AE25)) -> 732 | AH25: =IF(U25="","",IF(AND(U25="도비",AE25="세입없음"),"OK",IF(AND(U25<>"도비",AE25<>""),"OK","@@"))) -> OK | AJ25: {=IF(D25="","",INDEX(구분표!$I$2:$I$313, MATCH(1,(구분표!$E$2:$E$313='17년일출'!C25)*(구분표!$F$2:$F$313='17년일출'!D25)*(구분표!$G$2:$G$313='17년일출'!B25),0)))} -> 0102
A26: 19 | B26: =IFERROR(VLOOKUP($D26,구분표!$A$2:$C$313,2,FALSE),"") -> 의회운영위원회 | C26: =IFERROR(VLOOKUP($D26,구분표!$A$2:$C$313,3,FALSE),"") -> 의회사무처 | D26: 총무담당관 | E26: 본예산 | G26: 20 | H26: 94 | I26: 자산취득비 - 냉난방기 | J26: 2000 | L26: 3000 | M26: =J26+K26+L26 -> 5000 | O26: 3000 | P26: =J26+N26+O26 -> 5000 | Q26: =IF(AND((M26=0),(P26>0)),"O",IF(AND((K26<0),(M26-P26<0)),"O","X")) -> X | S26: 도비 | U26: 도비 | V26: 0 | W26: 3000 | X26: =IF(SUM($K26:$L26)=SUM($V26:$W26),"OK","검토") -> OK | Z26: 도비 | AA26: =IF($U26<>"도비",IF($S26="국도비","직접입력",SUM($N26:$O26)),) -> 0 | AB26: =IF($U26="도비",SUM(N26:O26),IF($S26="국도비","직접입력",SUM(N26:O26)-AA26)) -> 3000 | AC26: =IF(SUM(N26:O26)=SUM(AA26:AB26),"OK","검토") -> OK | AE26: =IF(U26="","",IF(U26="도비","세입없음","직접입력")) -> 세입없음 | AG26: =IF(AE26="","",COUNTIF($AE$7:$AE$925,AE26)) -> 732 | AH26: =IF(U26="","",IF(AND(U26="도비",AE26="세입없음"),"OK",IF(AND(U26<>"도비",AE26<>""),"OK","@@"))) -> OK | AJ26: {=IF(D26="","",INDEX(구분표!$I$2:$I$313, MATCH(1,(구분표!$E$2:$E$313='17년일출'!C26)*(구분표!$F$2:$F$313='17년일출'!D26)*(구분표!$G$2:$G$313='17년일출'!B26),0)))} -> 0102
A27: 20 | B27: =IFERROR(VLOOKUP($D27,구분표!$A$2:$C$313,2,FALSE),"") -> 의회운영위원회 | C27: =IFERROR(VLOOKUP($D27,구분표!$A$2:$C$313,3,FALSE),"") -> 의회사무처 | D27: 의정담당관 | E27: 본예산 | G27: 21 | H27: 101 | I27: 청소년 의회교실 운영 지원(자체/직접) - 청소년 의회교실 운영 | J27: 36000 | L27: 36000 | M27: =J27+K27+L27 -> 72000 | O27: 36000 | P27: =J27+N27+O27 -> 72000 | Q27: =IF(AND((M27=0),(P27>0)),"O",IF(AND((K27<0),(M27-P27<0)),"O","X")) -> X | S27: 도비 | U27: 도비 | V27: 0 | W27: 36000 | X27: =IF(SUM($K27:$L27)=SUM($V27:$W27),"OK","검토") -> OK | Z27: 도비 | AA27: =IF($U27<>"도비",IF($S27="국도비","직접입력",SUM($N27:$O27)),) -> 0 | AB27: =IF($U27="도비",SUM(N27:O27),IF($S27="국도비","직접입력",SUM(N27:O27)-AA27)) -> 36000 | AC27: =IF(SUM(N27:O27)=SUM(AA27:AB27),"OK","검토") -> OK | AE27: =IF(U27="","",IF(U27="도비","세입없음","직접입력")) -> 세입없음 | AG27: =IF(AE27="","",COUNTIF($AE$7:$AE$925,AE27)) -> 732 | AH27: =IF(U27="","",IF(AND(U27="도비",AE27="세입없음"),"OK",IF(AND(U27<>"도비",AE27<>""),"OK","@@"))) -> OK | AJ27: {=IF(D27="","",INDEX(구분표!$I$2:$I$313, MATCH(1,(구분표!$E$2:$E$313='17년일출'!C27)*(구분표!$F$2:$F$313='17년일출'!D27)*(구분표!$G$2:$G$313='17년일출'!B27),0)))} -> 0103
A28: 21 | B28: =IFERROR(VLOOKUP($D28,구분표!$A$2:$C$313,2,FALSE),"") -> 의회운영위원회 | C28: =IFERROR(VLOOKUP($D28,구분표!$A$2:$C$313,3,FALSE),"") -> 의회사무처 | D28: 의정담당관 | E28: 본예산 | G28: 21 | H28: 101 | I28: 청소년 의회교실 운영 지원(자체/직접) - 청소년 의회교실 운영 | J28: 19000 | L28: 19000 | M28: =J28+K28+L28 -> 38000 | O28: 19000 | P28: =J28+N28+O28 -> 38000 | Q28: =IF(AND((M28=0),(P28>0)),"O",IF(AND((K28<0),(M28-P28<0)),"O","X")) -> X | S28: 도비 | U28: 도비 | V28: 0 | W28: 19000 | X28: =IF(SUM($K28:$L28)=SUM($V28:$W28),"OK","검토") -> OK | Z28: 도비 | AA28: =IF($U28<>"도비",IF($S28="국도비","직접입력",SUM($N28:$O28)),) -> 0 | AB28: =IF($U28="도비",SUM(N28:O28),IF($S28="국도비","직접입력",SUM(N28:O28)-AA28)) -> 19000 | AC28: =IF(SUM(N28:O28)=SUM(AA28:AB28),"OK","검토") -> OK | AE28: =IF(U28="","",IF(U28="도비","세입없음","직접입력")) -> 세입없음 | AG28: =IF(AE28="","",COUNTIF($AE$7:$AE$925,AE28)) -> 732 | AH28: =IF(U28="","",IF(AND(U28="도비",AE28="세입없음"),"OK",IF(AND(U28<>"도비",AE28<>""),"OK","@@"))) -> OK | AJ28: {=IF(D28="","",INDEX(구분표!$I$2:$I$313, MATCH(1,(구분표!$E$2:$E$313='17년일출'!C28)*(구분표!$F$2:$F$313='17년일출'!D28)*(구분표!$G$2:$G$313='17년일출'!B28),0)))} -> 0103
A29: 22 | B29: =IFERROR(VLOOKUP($D29,구분표!$A$2:$C$313,2,FALSE),"") -> 의회운영위원회 | C29: =IFERROR(VLOOKUP($D29,구분표!$A$2:$C$313,3,FALSE),"") -> 의회사무처 | D29: 의정담당관 | E29: 본예산 | G29: 21 | H29: 104 | I29: 행정사무감사 및 조사지원(자체/직접) - 행정사무감사 및 조사 사무보조자 위촉수당 | J29: 6000 | L29: 30000 | M29: =J29+K29+L29 -> 36000 | O29: 30000 | P29: =J29+N29+O29 -> 36000 | Q29: =IF(AND((M29=0),(P29>0)),"O",IF(AND((K29<0),(M29-P29<0)),"O","X")) -> X | S29: 도비 | U29: 도비 | V29: 0 | W29: 30000 | X29: =IF(SUM($K29:$L29)=SUM($V29:$W29),"OK","검토") -> OK | Z29: 도비 | AA29: =IF($U29<>"도비",IF($S29="국도비","직접입력",SUM($N29:$O29)),) -> 0 | AB29: =IF($U29="도비",SUM(N29:O29),IF($S29="국도비","직접입력",SUM(N29:O29)-AA29)) -> 30000 | AC29: =IF(SUM(N29:O29)=SUM(AA29:AB29),"OK","검토") -> OK | AE29: =IF(U29="","",IF(U29="도비","세입없음","직접입력")) -> 세입없음 | AG29: =IF(AE29="","",COUNTIF($AE$7:$AE$925,AE29)) -> 732 | AH29: =IF(U29="","",IF(AND(U29="도비",AE29="세입없음"),"OK",IF(AND(U29<>"도비",AE29<>""),"OK","@@"))) -> OK | AJ29: {=IF(D29="","",INDEX(구분표!$I$2:$I$313, MATCH(1,(구분표!$E$2:$E$313='17년일출'!C29)*(구분표!$F$2:$F$313='17년일출'!D29)*(구분표!$G$2:$G$313='17년일출'!B29),0)))} -> 0103
A30: 23 | B30: =IFERROR(VLOOKUP($D30,구분표!$A$2:$C$313,2,FALSE),"") -> 의회운영위원회 | C30: =IFERROR(VLOOKUP($D30,구분표!$A$2:$C$313,3,FALSE),"") -> 의회사무처 | D30: 의정담당관 | E30: 본예산 | G30: 21 | H30: 104 | I30: 행정사무감사 및 조사지원(자체/직접) - 행정사무감사 및 조사 사무보조자 여비 | J30: 500 | L30: 7500 | M30: =J30+K30+L30 -> 8000 | O30: 7500 | P30: =J30+N30+O30 -> 8000 | Q30: =IF(AND((M30=0),(P30>0)),"O",IF(AND((K30<0),(M30-P30<0)),"O","X")) -> X | S30: 도비 | U30: 도비 | V30: 0 | W30: 7500 | X30: =IF(SUM($K30:$L30)=SUM($V30:$W30),"OK","검토") -> OK | Z30: 도비 | AA30: =IF($U30<>"도비",IF($S30="국도비","직접입력",SUM($N30:$O30)),) -> 0 | AB30: =IF($U30="도비",SUM(N30:O30),IF($S30="국도비","직접입력",SUM(N30:O30)-AA30)) -> 7500 | AC30: =IF(SUM(N30:O30)=SUM(AA30:AB30),"OK","검토") -> OK | AE30: =IF(U30="","",IF(U30="도비","세입없음","직접입력")) -> 세입없음 | AG30: =IF(AE30="","",COUNTIF($AE$7:$AE$925,AE30)) -> 732 | AH30: =IF(U30="","",IF(AND(U30="도비",AE30="세입없음"),"OK",IF(AND(U30<>"도비",AE30<>""),"OK","@@"))) -> OK | AJ30: {=IF(D30="","",INDEX(구분표!$I$2:$I$313, MATCH(1,(구분표!$E$2:$E$313='17년일출'!C30)*(구분표!$F$2:$F$313='17년일출'!D30)*(구분표!$G$2:$G$313='17년일출'!B30),0)))} -> 0103
A31: 24 | B31: =IFERROR(VLOOKUP($D31,구분표!$A$2:$C$313,2,FALSE),"") -> 의회운영위원회 | C31: =IFERROR(VLOOKUP($D31,구분표!$A$2:$C$313,3,FALSE),"") -> 의회사무처 | D31: 입법정책담당관 | E31: 신규 | H31: 4 | I31: 입법정책위원회 운영(자체/직접) - 국제입법정책심포지움 | L31: 30000 | M31: =J31+K31+L31 -> 30000 | P31: =J31+N31+O31 -> 0 | Q31: =IF(AND((M31=0),(P31>0)),"O",IF(AND((K31<0),(M31-P31<0)),"O","X")) -> X | S31: 도비 | U31: 도비 | V31: 0 | W31: 30000 | X31: =IF(SUM($K31:$L31)=SUM($V31:$W31),"OK","검토") -> OK | Z31: 도비 | AA31: =IF($U31<>"도비",IF($S31="국도비","직접입력",SUM($N31:$O31)),) -> 0 | AB31: =IF($U31="도비",SUM(N31:O31),IF($S31="국도비","직접입력",SUM(N31:O31)-AA31)) -> 0 | AC31: =IF(SUM(N31:O31)=SUM(AA31:AB31),"OK","검토") -> OK | AE31: =IF(U31="","",IF(U31="도비","세입없음","직접입력")) -> 세입없음 | AG31: =IF(AE31="","",COUNTIF($AE$7:$AE$925,AE31)) -> 732 | AH31: =IF(U31="","",IF(AND(U31="도비",AE31="세입없음"),"OK",IF(AND(U31<>"도비",AE31<>""),"OK","@@"))) -> OK | AJ31: {=IF(D31="","",INDEX(구분표!$I$2:$I$313, MATCH(1,(구분표!$E$2:$E$313='17년일출'!C31)*(구분표!$F$2:$F$313='17년일출'!D31)*(구분표!$G$2:$G$313='17년일출'!B31),0)))} -> 0104
A32: 25 | B32: =IFERROR(VLOOKUP($D32,구분표!$A$2:$C$313,2,FALSE),"") -> 의회운영위원회 | C32: =IFERROR(VLOOKUP($D32,구분표!$A$2:$C$313,3,FALSE),"") -> 의회사무처 | D32: 입법정책담당관 | E32: 신규 | H32: 5 | I32: 입법정책위원회 운영(자체/직접) - 입법정책 선진사례 해외연수 | L32: 20000 | M32: =J32+K32+L32 -> 20000 | P32: =J32+N32+O32 -> 0 | Q32: =IF(AND((M32=0),(P32>0)),"O",IF(AND((K32<0),(M32-P32<0)),"O","X")) -> X | S32: 도비 | U32: 도비 | V32: 0 | W32: 20000 | X32: =IF(SUM($K32:$L32)=SUM($V32:$W32),"OK","검토") -> OK | Z32: 도비 | AA32: =IF($U32<>"도비",IF($S32="국도비","직접입력",SUM($N32:$O32)),) -> 0 | AB32: =IF($U32="도비",SUM(N32:O32),IF($S32="국도비","직접입력",SUM(N32:O32)-AA32)) -> 0 | AC32: =IF(SUM(N32:O32)=SUM(AA32:AB32),"OK","검토") -> OK | AE32: =IF(U32="","",IF(U32="도비","세입없음","직접입력")) -> 세입없음 | AG32: =IF(AE32="","",COUNTIF($AE$7:$AE$925,AE32)) -> 732 | AH32: =IF(U32="","",IF(AND(U32="도비",AE32="세입없음"),"OK",IF(AND(U32<>"도비",AE32<>""),"OK","@@"))) -> OK | AJ32: {=IF(D32="","",INDEX(구분표!$I$2:$I$313, MATCH(1,(구분표!$E$2:$E$313='17년일출'!C32)*(구분표!$F$2:$F$313='17년일출'!D32)*(구분표!$G$2:$G$313='17년일출'!B32),0)))} -> 0104
A33: 26 | B33: =IFERROR(VLOOKUP($D33,구분표!$A$2:$C$313,2,FALSE),"") -> 의회운영위원회 | C33: =IFERROR(VLOOKUP($D33,구분표!$A$2:$C$313,3,FALSE),"") -> 의회사무처 | D33: 입법정책담당관 | E33: 본예산 | F33: 연정 | G33: 23 | H33: 131 | I33: 의원 입법활동 연구용역(자체/직접) - 경기도의회 정책개발 연구용역 | J33: 880000 | K33: -120000 | M33: =J33+K33+L33 -> 760000 | P33: =J33+N33+O33 -> 880000 | Q33: =IF(AND((M33=0),(P33>0)),"O",IF(AND((K33<0),(M33-P33<0)),"O","X")) -> O | S33: 도비 | U33: 도비 | V33: 0 | W33: -120000 | X33: =IF(SUM($K33:$L33)=SUM($V33:$W33),"OK","검토") -> OK | Z33: 도비 | AA33: =IF($U33<>"도비",IF($S33="국도비","직접입력",SUM($N33:$O33)),) -> 0 | AB33: =IF($U33="도비",SUM(N33:O33),IF($S33="국도비","직접입력",SUM(N33:O33)-AA33)) -> 0 | AC33: =IF(SUM(N33:O33)=SUM(AA33:AB33),"OK","검토") -> OK | AE33: =IF(U33="","",IF(U33="도비","세입없음","직접입력")) -> 세입없음 | AG33: =IF(AE33="","",COUNTIF($AE$7:$AE$925,AE33)) -> 732 | AH33: =IF(U33="","",IF(AND(U33="도비",AE33="세입없음"),"OK",IF(AND(U33<>"도비",AE33<>""),"OK","@@"))) -> OK | AJ33: {=IF(D33="","",INDEX(구분표!$I$2:$I$313, MATCH(1,(구분표!$E$2:$E$313='17년일출'!C33)*(구분표!$F$2:$F$313='17년일출'!D33)*(구분표!$G$2:$G$313='17년일출'!B33),0)))} -> 0104
A34: 27 | B34: =IFERROR(VLOOKUP($D34,구분표!$A$2:$C$313,2,FALSE),"") -> 의회운영위원회 | C34: =IFERROR(VLOOKUP($D34,구분표!$A$2:$C$313,3,FALSE),"") -> 의회사무처 | D34: 입법정책담당관 | E34: 본예산 | F34: 연정 | G34: 23 | H34: 131 | I34: 의원 입법활동 연구용역(자체/직접) - 의원연구단체별 정책연구용역 | J34: 400000 | M34: =J34+K34+L34 -> 400000 | P34: =J34+N34+O34 -> 400000 | Q34: =IF(AND((M34=0),(P34>0)),"O",IF(AND((K34<0),(M34-P34<0)),"O","X")) -> X | S34: 도비 | U34: 도비 | V34: =IF($U34<>"도비",IF($S34="국도비","직접입력",SUM($K34:$L34)),) -> 0 | W34: =IF($U34="도비",SUM($K34:$L34),IF($S34="국도비","직접입력",SUM($K34:$L34)-$V34)) -> 0 | X34: =IF(SUM($K34:$L34)=SUM($V34:$W34),"OK","검토") -> OK | Z34: 도비 | AA34: =IF($U34<>"도비",IF($S34="국도비","직접입력",SUM($N34:$O34)),) -> 0 | AB34: =IF($U34="도비",SUM(N34:O34),IF($S34="국도비","직접입력",SUM(N34:O34)-AA34)) -> 0 | AC34: =IF(SUM(N34:O34)=SUM(AA34:AB34),"OK","검토") -> OK | AE34: =IF(U34="","",IF(U34="도비","세입없음","직접입력")) -> 세입없음 | AG34: =IF(AE34="","",COUNTIF($AE$7:$AE$925,AE34)) -> 732 | AH34: =IF(U34="","",IF(AND(U34="도비",AE34="세입없음"),"OK",IF(AND(U34<>"도비",AE34<>""),"OK","@@"))) -> OK | AJ34: {=IF(D34="","",INDEX(구분표!$I$2:$I$313, MATCH(1,(구분표!$E$2:$E$313='17년일출'!C34)*(구분표!$F$2:$F$313='17년일출'!D34)*(구분표!$G$2:$G$313='17년일출'!B34),0)))} -> 0104
A35: 28 | B35: =IFERROR(VLOOKUP($D35,구분표!$A$2:$C$313,2,FALSE),"") -> 의회운영위원회 | C35: =IFERROR(VLOOKUP($D35,구분표!$A$2:$C$313,3,FALSE),"") -> 의회사무처 | D35: 예산정책담당관 | E35: 신규 | H35: 6 | I35: 예산분석(자체/직접) - 2018년 예산안 분석 | L35: 20000 | M35: =J35+K35+L35 -> 20000 | O35: 7200 | P35: =J35+N35+O35 -> 7200 | Q35: =IF(AND((M35=0),(P35>0)),"O",IF(AND((K35<0),(M35-P35<0)),"O","X")) -> X | S35: 도비 | U35: 도비 | V35: 0 | W35: 20000 | X35: =IF(SUM($K35:$L35)=SUM($V35:$W35),"OK","검토") -> OK | Z35: 도비 | AA35: =IF($U35<>"도비",IF($S35="국도비","직접입력",SUM($N35:$O35)),) -> 0 | AB35: =IF($U35="도비",SUM(N35:O35),IF($S35="국도비","직접입력",SUM(N35:O35)-AA35)) -> 7200 | AC35: =IF(SUM(N35:O35)=SUM(AA35:AB35),"OK","검토") -> OK | AE35: =IF(U35="","",IF(U35="도비","세입없음","직접입력")) -> 세입없음 | AG35: =IF(AE35="","",COUNTIF($AE$7:$AE$925,AE35)) -> 732 | AH35: =IF(U35="","",IF(AND(U35="도비",AE35="세입없음"),"OK",IF(AND(U35<>"도비",AE35<>""),"OK","@@"))) -> OK | AJ35: {=IF(D35="","",INDEX(구분표!$I$2:$I$313, MATCH(1,(구분표!$E$2:$E$313='17년일출'!C35)*(구분표!$F$2:$F$313='17년일출'!D35)*(구분표!$G$2:$G$313='17년일출'!B35),0)))} -> 0105
A36: 29 | B36: =IFERROR(VLOOKUP($D36,구분표!$A$2:$C$313,2,FALSE),"") -> 의회운영위원회 | C36: =IFERROR(VLOOKUP($D36,구분표!$A$2:$C$313,3,FALSE),"") -> 의회사무처 | D36: 예산정책담당관 | E36: 신규 | H36: 7 | I36: 국제예산정책심포지움(자체/직접) - 국제예산정책심포지움 | L36: 30000 | M36: =J36+K36+L36 -> 30000 | P36: =J36+N36+O36 -> 0 | Q36: =IF(AND((M36=0),(P36>0)),"O",IF(AND((K36<0),(M36-P36<0)),"O","X")) -> X | S36: 도비 | U36: 도비 | V36: 0 | W36: 30000 | X36: =IF(SUM($K36:$L36)=SUM($V36:$W36),"OK","검토") -> OK | Z36: 도비 | AA36: =IF($U36<>"도비",IF($S36="국도비","직접입력",SUM($N36:$O36)),) -> 0 | AB36: =IF($U36="도비",SUM(N36:O36),IF($S36="국도비","직접입력",SUM(N36:O36)-AA36)) -> 0 | AC36: =IF(SUM(N36:O36)=SUM(AA36:AB36),"OK","검토") -> OK | AE36: =IF(U36="","",IF(U36="도비","세입없음","직접입력")) -> 세입없음 | AG36: =IF(AE36="","",COUNTIF($AE$7:$AE$925,AE36)) -> 732 | AH36: =IF(U36="","",IF(AND(U36="도비",AE36="세입없음"),"OK",IF(AND(U36<>"도비",AE36<>""),"OK","@@"))) -> OK | AJ36: {=IF(D36="","",INDEX(구분표!$I$2:$I$313, MATCH(1,(구분표!$E$2:$E$313='17년일출'!C36)*(구분표!$F$2:$F$313='17년일출'!D36)*(구분표!$G$2:$G$313='17년일출'!B36),0)))} -> 0105
A37: 30 | B37: =IFERROR(VLOOKUP($D37,구분표!$A$2:$C$313,2,FALSE),"") -> 의회운영위원회 | C37: =IFERROR(VLOOKUP($D37,구분표!$A$2:$C$313,3,FALSE),"") -> 의회사무처 | D37: 예산정책담당관 | E37: 신규 | H37: 8 | I37: 예산정책 선진사례 해외연수(자체/직접) -예산정책 선진사례 해외연수 | L37: 20000 | M37: =J37+K37+L37 -> 20000 | P37: =J37+N37+O37 -> 0 | Q37: =IF(AND((M37=0),(P37>0)),"O",IF(AND((K37<0),(M37-P37<0)),"O","X")) -> X | S37: 도비 | U37: 도비 | V37: 0 | W37: 20000 | X37: =IF(SUM($K37:$L37)=SUM($V37:$W37),"OK","검토") -> OK | Z37: 도비 | AA37: =IF($U37<>"도비",IF($S37="국도비","직접입력",SUM($N37:$O37)),) -> 0 | AB37: =IF($U37="도비",SUM(N37:O37),IF($S37="국도비","직접입력",SUM(N37:O37)-AA37)) -> 0 | AC37: =IF(SUM(N37:O37)=SUM(AA37:AB37),"OK","검토") -> OK | AE37: =IF(U37="","",IF(U37="도비","세입없음","직접입력")) -> 세입없음 | AG37: =IF(AE37="","",COUNTIF($AE$7:$AE$925,AE37)) -> 732 | AH37: =IF(U37="","",IF(AND(U37="도비",AE37="세입없음"),"OK",IF(AND(U37<>"도비",AE37<>""),"OK","@@"))) -> OK | AJ37: {=IF(D37="","",INDEX(구분표!$I$2:$I$313, MATCH(1,(구분표!$E$2:$E$313='17년일출'!C37)*(구분표!$F$2:$F$313='17년일출'!D37)*(구분표!$G$2:$G$313='17년일출'!B37),0)))} -> 0105
A38: 31 | B38: =IFERROR(VLOOKUP($D38,구분표!$A$2:$C$313,2,FALSE),"") -> 의회운영위원회 | C38: =IFERROR(VLOOKUP($D38,구분표!$A$2:$C$313,3,FALSE),"") -> 의회사무처 | D38: 예산정책담당관 | E38: 신규 | H38: 9 | I38: 예산정책 활동지원(자체/직접) - 예산정책 연찬회 개최 | L38: 5000 | M38: =J38+K38+L38 -> 5000 | O38: 5000 | P38: =J38+N38+O38 -> 5000 | Q38: =IF(AND((M38=0),(P38>0)),"O",IF(AND((K38<0),(M38-P38<0)),"O","X")) -> X | S38: 도비 | U38: 도비 | V38: 0 | W38: 5000 | X38: =IF(SUM($K38:$L38)=SUM($V38:$W38),"OK","검토") -> OK | Z38: 도비 | AA38: =IF($U38<>"도비",IF($S38="국도비","직접입력",SUM($N38:$O38)),) -> 0 | AB38: =IF($U38="도비",SUM(N38:O38),IF($S38="국도비","직접입력",SUM(N38:O38)-AA38)) -> 5000 | AC38: =IF(SUM(N38:O38)=SUM(AA38:AB38),"OK","검토") -> OK | AE38: =IF(U38="","",IF(U38="도비","세입없음","직접입력")) -> 세입없음 | AG38: =IF(AE38="","",COUNTIF($AE$7:$AE$925,AE38)) -> 732 | AH38: =IF(U38="","",IF(AND(U38="도비",AE38="세입없음"),"OK",IF(AND(U38<>"도비",AE38<>""),"OK","@@"))) -> OK | AJ38: {=IF(D38="","",INDEX(구분표!$I$2:$I$313, MATCH(1,(구분표!$E$2:$E$313='17년일출'!C38)*(구분표!$F$2:$F$313='17년일출'!D38)*(구분표!$G$2:$G$313='17년일출'!B38),0)))} -> 0105
A39: 32 | B39: =IFERROR(VLOOKUP($D39,구분표!$A$2:$C$313,2,FALSE),"") -> 의회운영위원회 | C39: =IFERROR(VLOOKUP($D39,구분표!$A$2:$C$313,3,FALSE),"") -> 의회사무처 | D39: 입법정책담당관 | E39: 신규 | I39: 입법정책위원회 참석수당 | J39: 0 | M39: =J39+K39+L39 -> 0 | O39: 9000 | P39: =J39+N39+O39 -> 9000 | Q39: =IF(AND((M39=0),(P39>0)),"O",IF(AND((K39<0),(M39-P39<0)),"O","X")) -> O | S39: 도비 | U39: 도비 | V39: =IF($U39<>"도비",IF($S39="국도비","직접입력",SUM($K39:$L39)),) -> 0 | W39: =IF($U39="도비",SUM($K39:$L39),IF($S39="국도비","직접입력",SUM($K39:$L39)-$V39)) -> 0 | X39: =IF(SUM($K39:$L39)=SUM($V39:$W39),"OK","검토") -> OK | Z39: 도비 | AA39: =IF($U39<>"도비",IF($S39="국도비","직접입력",SUM($N39:$O39)),) -> 0 | AB39: =IF($U39="도비",SUM(N39:O39),IF($S39="국도비","직접입력",SUM(N39:O39)-AA39)) -> 9000 | AC39: =IF(SUM(N39:O39)=SUM(AA39:AB39),"OK","검토") -> OK | AE39: =IF(U39="","",IF(U39="도비","세입없음","직접입력")) -> 세입없음 | AG39: =IF(AE39="","",COUNTIF($AE$7:$AE$925,AE39)) -> 732 | AH39: =IF(U39="","",IF(AND(U39="도비",AE39="세입없음"),"OK",IF(AND(U39<>"도비",AE39<>""),"OK","@@"))) -> OK | AJ39: {=IF(D39="","",INDEX(구분표!$I$2:$I$313, MATCH(1,(구분표!$E$2:$E$313='17년일출'!C39)*(구분표!$F$2:$F$313='17년일출'!D39)*(구분표!$G$2:$G$313='17년일출'!B39),0)))} -> 0104
A40: 33 | B40: =IFERROR(VLOOKUP($D40,구분표!$A$2:$C$313,2,FALSE),"") -> 의회운영위원회 | C40: =IFERROR(VLOOKUP($D40,구분표!$A$2:$C$313,3,FALSE),"") -> 의회사무처 | D40: 입법정책담당관 | E40: 신규 | I40: 입법정책위원회 민간보상 | J40: 0 | M40: =J40+K40+L40 -> 0 | O40: 3000 | P40: =J40+N40+O40 -> 3000 | Q40: =IF(AND((M40=0),(P40>0)),"O",IF(AND((K40<0),(M40-P40<0)),"O","X")) -> O | S40: 도비 | U40: 도비 | V40: =IF($U40<>"도비",IF($S40="국도비","직접입력",SUM($K40:$L40)),) -> 0 | W40: =IF($U40="도비",SUM($K40:$L40),IF($S40="국도비","직접입력",SUM($K40:$L40)-$V40)) -> 0 | X40: =IF(SUM($K40:$L40)=SUM($V40:$W40),"OK","검토") -> OK | Z40: 도비 | AA40: =IF($U40<>"도비",IF($S40="국도비","직접입력",SUM($N40:$O40)),) -> 0 | AB40: =IF($U40="도비",SUM(N40:O40),IF($S40="국도비","직접입력",SUM(N40:O40)-AA40)) -> 3000 | AC40: =IF(SUM(N40:O40)=SUM(AA40:AB40),"OK","검토") -> OK | AE40: =IF(U40="","",IF(U40="도비","세입없음","직접입력")) -> 세입없음 | AG40: =IF(AE40="","",COUNTIF($AE$7:$AE$925,AE40)) -> 732 | AH40: =IF(U40="","",IF(AND(U40="도비",AE40="세입없음"),"OK",IF(AND(U40<>"도비",AE40<>""),"OK","@@"))) -> OK | AJ40: {=IF(D40="","",INDEX(구분표!$I$2:$I$313, MATCH(1,(구분표!$E$2:$E$313='17년일출'!C40)*(구분표!$F$2:$F$313='17년일출'!D40)*(구분표!$G$2:$G$313='17년일출'!B40),0)))} -> 0104
A41: 34 | B41: =IFERROR(VLOOKUP($D41,구분표!$A$2:$C$313,2,FALSE),"") -> 의회운영위원회 | C41: =IFERROR(VLOOKUP($D41,구분표!$A$2:$C$313,3,FALSE),"") -> 의회사무처 | D41: 공보담당관 | E41: 본예산 | G41: 10 | I41: 미디어홍보(자체/직접) - 의회 정기간행물 제작 및 발행 | J41: 741270 | M41: =J41+K41+L41 -> 741270 | O41: 102000 | P41: =J41+N41+O41 -> 843270 | Q41: =IF(AND((M41=0),(P41>0)),"O",IF(AND((K41<0),(M41-P41<0)),"O","X")) -> X | S41: 도비 | U41: 도비 | V41: =IF($U41<>"도비",IF($S41="국도비","직접입력",SUM($K41:$L41)),) -> 0 | W41: =IF($U41="도비",SUM($K41:$L41),IF($S41="국도비","직접입력",SUM($K41:$L41)-$V41)) -> 0 | X41: =IF(SUM($K41:$L41)=SUM($V41:$W41),"OK","검토") -> OK | Z41: 도비 | AA41: =IF($U41<>"도비",IF($S41="국도비","직접입력",SUM($N41:$O41)),) -> 0 | AB41: =IF($U41="도비",SUM(N41:O41),IF($S41="국도비","직접입력",SUM(N41:O41)-AA41)) -> 102000 | AC41: =IF(SUM(N41:O41)=SUM(AA41:AB41),"OK","검토") -> OK | AE41: =IF(U41="","",IF(U41="도비","세입없음","직접입력")) -> 세입없음 | AG41: =IF(AE41="","",COUNTIF($AE$7:$AE$925,AE41)) -> 732 | AH41: =IF(U41="","",IF(AND(U41="도비",AE41="세입없음"),"OK",IF(AND(U41<>"도비",AE41<>""),"OK","@@"))) -> OK | AJ41: {=IF(D41="","",INDEX(구분표!$I$2:$I$313, MATCH(1,(구분표!$E$2:$E$313='17년일출'!C41)*(구분표!$F$2:$F$313='17년일출'!D41)*(구분표!$G$2:$G$313='17년일출'!B41),0)))} -> 0101
A42: 35 | B42: =IFERROR(VLOOKUP($D42,구분표!$A$2:$C$313,2,FALSE),"") -> 의회운영위원회 | C42: =IFERROR(VLOOKUP($D42,구분표!$A$2:$C$313,3,FALSE),"") -> 의회사무처 | D42: 공보담당관 | E42: 본예산 | G42: 10 | I42: 미디어홍보(자체/직접) - 간행물 우편요금 | J42: 413560 | M42: =J42+K42+L42 -> 413560 | O42: 56840 | P42: =J42+N42+O42 -> 470400 | Q42: =IF(AND((M42=0),(P42>0)),"O",IF(AND((K42<0),(M42-P42<0)),"O","X")) -> X | S42: 도비 | U42: 도비 | V42: =IF($U42<>"도비",IF($S42="국도비","직접입력",SUM($K42:$L42)),) -> 0 | W42: =IF($U42="도비",SUM($K42:$L42),IF($S42="국도비","직접입력",SUM($K42:$L42)-$V42)) -> 0 | X42: =IF(SUM($K42:$L42)=SUM($V42:$W42),"OK","검토") -> OK | Z42: 도비 | AA42: =IF($U42<>"도비",IF($S42="국도비","직접입력",SUM($N42:$O42)),) -> 0 | AB42: =IF($U42="도비",SUM(N42:O42),IF($S42="국도비","직접입력",SUM(N42:O42)-AA42)) -> 56840 | AC42: =IF(SUM(N42:O42)=SUM(AA42:AB42),"OK","검토") -> OK | AE42: =IF(U42="","",IF(U42="도비","세입없음","직접입력")) -> 세입없음 | AG42: =IF(AE42="","",COUNTIF($AE$7:$AE$925,AE42)) -> 732 | AH42: =IF(U42="","",IF(AND(U42="도비",AE42="세입없음"),"OK",IF(AND(U42<>"도비",AE42<>""),"OK","@@"))) -> OK | AJ42: {=IF(D42="","",INDEX(구분표!$I$2:$I$313, MATCH(1,(구분표!$E$2:$E$313='17년일출'!C42)*(구분표!$F$2:$F$313='17년일출'!D42)*(구분표!$G$2:$G$313='17년일출'!B42),0)))} -> 0101
A43: 36 | B43: =IFERROR(VLOOKUP($D43,구분표!$A$2:$C$313,2,FALSE),"") -> 의회운영위원회 | C43: =IFERROR(VLOOKUP($D43,구분표!$A$2:$C$313,3,FALSE),"") -> 의회사무처 | D43: 공보담당관 | E43: 본예산 | G43: 10 | I43: 영상 및 언론매체 홍보(자체/직접) - 신문스크랩 사용료 | J43: 35000 | M43: =J43+K43+L43 -> 35000 | O43: 21120 | P43: =J43+N43+O43 -> 56120 | Q43: =IF(AND((M43=0),(P43>0)),"O",IF(AND((K43<0),(M43-P43<0)),"O","X")) -> X | S43: 도비 | U43: 도비 | V43: =IF($U43<>"도비",IF($S43="국도비","직접입력",SUM($K43:$L43)),) -> 0 | W43: =IF($U43="도비",SUM($K43:$L43),IF($S43="국도비","직접입력",SUM($K43:$L43)-$V43)) -> 0 | X43: =IF(SUM($K43:$L43)=SUM($V43:$W43),"OK","검토") -> OK | Z43: 도비 | AA43: =IF($U43<>"도비",IF($S43="국도비","직접입력",SUM($N43:$O43)),) -> 0 | AB43: =IF($U43="도비",SUM(N43:O43),IF($S43="국도비","직접입력",SUM(N43:O43)-AA43)) -> 21120 | AC43: =IF(SUM(N43:O43)=SUM(AA43:AB43),"OK","검토") -> OK | AE43: =IF(U43="","",IF(U43="도비","세입없음","직접입력")) -> 세입없음 | AG43: =IF(AE43="","",COUNTIF($AE$7:$AE$925,AE43)) -> 732 | AH43: =IF(U43="","",IF(AND(U43="도비",AE43="세입없음"),"OK",IF(AND(U43<>"도비",AE43<>""),"OK","@@"))) -> OK | AJ43: {=IF(D43="","",INDEX(구분표!$I$2:$I$313, MATCH(1,(구분표!$E$2:$E$313='17년일출'!C43)*(구분표!$F$2:$F$313='17년일출'!D43)*(구분표!$G$2:$G$313='17년일출'!B43),0)))} -> 0101
A44: 37 | B44: =IFERROR(VLOOKUP($D44,구분표!$A$2:$C$313,2,FALSE),"") -> 의회운영위원회 | C44: =IFERROR(VLOOKUP($D44,구분표!$A$2:$C$313,3,FALSE),"") -> 의회사무처 | D44: 공보담당관 | E44: 신규 | G44: 10 | I44: 미디어홍보(자체/직접) - 간행물편찬위원회 업무추진비 | J44: 0 | M44: =J44+K44+L44 -> 0 | O44: 2000 | P44: =J44+N44+O44 -> 2000 | Q44: =IF(AND((M44=0),(P44>0)),"O",IF(AND((K44<0),(M44-P44<0)),"O","X")) -> O | S44: 도비 | U44: 도비 | V44: =IF($U44<>"도비",IF($S44="국도비","직접입력",SUM($K44:$L44)),) -> 0 | W44: =IF($U44="도비",SUM($K44:$L44),IF($S44="국도비","직접입력",SUM($K44:$L44)-$V44)) -> 0 | X44: =IF(SUM($K44:$L44)=SUM($V44:$W44),"OK","검토") -> OK | Z44: 도비 | AA44: =IF($U44<>"도비",IF($S44="국도비","직접입력",SUM($N44:$O44)),) -> 0 | AB44: =IF($U44="도비",SUM(N44:O44),IF($S44="국도비","직접입력",SUM(N44:O44)-AA44)) -> 2000 | AC44: =IF(SUM(N44:O44)=SUM(AA44:AB44),"OK","검토") -> OK | AE44: =IF(U44="","",IF(U44="도비","세입없음","직접입력")) -> 세입없음 | AG44: =IF(AE44="","",COUNTIF($AE$7:$AE$925,AE44)) -> 732 | AH44: =IF(U44="","",IF(AND(U44="도비",AE44="세입없음"),"OK",IF(AND(U44<>"도비",AE44<>""),"OK","@@"))) -> OK | AJ44: {=IF(D44="","",INDEX(구분표!$I$2:$I$313, MATCH(1,(구분표!$E$2:$E$313='17년일출'!C44)*(구분표!$F$2:$F$313='17년일출'!D44)*(구분표!$G$2:$G$313='17년일출'!B44),0)))} -> 0101
A45: 38 | B45: =IFERROR(VLOOKUP($D45,구분표!$A$2:$C$313,2,FALSE),"") -> 의회운영위원회 | C45: =IFERROR(VLOOKUP($D45,구분표!$A$2:$C$313,3,FALSE),"") -> 의회사무처 | D45: 공보담당관 | E45: 신규 | I45: 의정정보화 추진(자체/직접) - 정보화위원회 업무추진 | J45: 0 | M45: =J45+K45+L45 -> 0 | O45: 2000 | P45: =J45+N45+O45 -> 2000 | Q45: =IF(AND((M45=0),(P45>0)),"O",IF(AND((K45<0),(M45-P45<0)),"O","X")) -> O | S45: 도비 | U45: 도비 | V45: =IF($U45<>"도비",IF($S45="국도비","직접입력",SUM($K45:$L45)),) -> 0 | W45: =IF($U45="도비",SUM($K45:$L45),IF($S45="국도비","직접입력",SUM($K45:$L45)-$V45)) -> 0 | X45: =IF(SUM($K45:$L45)=SUM($V45:$W45),"OK","검토") -> OK | Z45: 도비 | AA45: =IF($U45<>"도비",IF($S45="국도비","직접입력",SUM($N45:$O45)),) -> 0 | AB45: =IF($U45="도비",SUM(N45:O45),IF($S45="국도비","직접입력",SUM(N45:O45)-AA45)) -> 2000 | AC45: =IF(SUM(N45:O45)=SUM(AA45:AB45),"OK","검토") -> OK | AE45: =IF(U45="","",IF(U45="도비","세입없음","직접입력")) -> 세입없음 | AG45: =IF(AE45="","",COUNTIF($AE$7:$AE$925,AE45)) -> 732 | AH45: =IF(U45="","",IF(AND(U45="도비",AE45="세입없음"),"OK",IF(AND(U45<>"도비",AE45<>""),"OK","@@"))) -> OK | AJ45: {=IF(D45="","",INDEX(구분표!$I$2:$I$313, MATCH(1,(구분표!$E$2:$E$313='17년일출'!C45)*(구분표!$F$2:$F$313='17년일출'!D45)*(구분표!$G$2:$G$313='17년일출'!B45),0)))} -> 0101
A46: 39 | B46: =IFERROR(VLOOKUP($D46,구분표!$A$2:$C$313,2,FALSE),"") -> 의회운영위원회 | C46: =IFERROR(VLOOKUP($D46,구분표!$A$2:$C$313,3,FALSE),"") -> 의회사무처 | D46: 총무담당관 | E46: 본예산 | G46: 17 | I46: 인력운영비(총괄) - 기타직보수 | J46: 1286329 | M46: =J46+K46+L46 -> 1286329 | O46: 144639 | P46: =J46+N46+O46 -> 1430968 | Q46: =IF(AND((M46=0),(P46>0)),"O",IF(AND((K46<0),(M46-P46<0)),"O","X")) -> X | R46: 국제교류전문요원 | S46: 도비 | U46: 도비 | V46: =IF($U46<>"도비",IF($S46="국도비","직접입력",SUM($K46:$L46)),) -> 0 | W46: =IF($U46="도비",SUM($K46:$L46),IF($S46="국도비","직접입력",SUM($K46:$L46)-$V46)) -> 0 | X46: =IF(SUM($K46:$L46)=SUM($V46:$W46),"OK","검토") -> OK | Z46: 도비 | AA46: =IF($U46<>"도비",IF($S46="국도비","직접입력",SUM($N46:$O46)),) -> 0 | AB46: =IF($U46="도비",SUM(N46:O46),IF($S46="국도비","직접입력",SUM(N46:O46)-AA46)) -> 144639 | AC46: =IF(SUM(N46:O46)=SUM(AA46:AB46),"OK","검토") -> OK | AE46: =IF(U46="","",IF(U46="도비","세입없음","직접입력")) -> 세입없음 | AG46: =IF(AE46="","",COUNTIF($AE$7:$AE$925,AE46)) -> 732 | AH46: =IF(U46="","",IF(AND(U46="도비",AE46="세입없음"),"OK",IF(AND(U46<>"도비",AE46<>""),"OK","@@"))) -> OK | AJ46: {=IF(D46="","",INDEX(구분표!$I$2:$I$313, MATCH(1,(구분표!$E$2:$E$313='17년일출'!C46)*(구분표!$F$2:$F$313='17년일출'!D46)*(구분표!$G$2:$G$313='17년일출'!B46),0)))} -> 0102
A47: 40 | B47: =IFERROR(VLOOKUP($D47,구분표!$A$2:$C$313,2,FALSE),"") -> 의회운영위원회 | C47: =IFERROR(VLOOKUP($D47,구분표!$A$2:$C$313,3,FALSE),"") -> 의회사무처 | D47: 총무담당관 | E47: 본예산 | G47: 19 | I47: 일반운영비 - 기관운영기본경비(전문위원실) | J47: 118170 | M47: =J47+K47+L47 -> 118170 | O47: 100000 | P47: =J47+N47+O47 -> 218170 | Q47: =IF(AND((M47=0),(P47>0)),"O",IF(AND((K47<0),(M47-P47<0)),"O","X")) -> X | S47: 도비 | U47: 도비 | V47: =IF($U47<>"도비",IF($S47="국도비","직접입력",SUM($K47:$L47)),) -> 0 | W47: =IF($U47="도비",SUM($K47:$L47),IF($S47="국도비","직접입력",SUM($K47:$L47)-$V47)) -> 0 | X47: =IF(SUM($K47:$L47)=SUM($V47:$W47),"OK","검토") -> OK | Z47: 도비 | AA47: =IF($U47<>"도비",IF($S47="국도비","직접입력",SUM($N47:$O47)),) -> 0 | AB47: =IF($U47="도비",SUM(N47:O47),IF($S47="국도비","직접입력",SUM(N47:O47)-AA47)) -> 100000 | AC47: =IF(SUM(N47:O47)=SUM(AA47:AB47),"OK","검토") -> OK | AE47: =IF(U47="","",IF(U47="도비","세입없음","직접입력")) -> 세입없음 | AG47: =IF(AE47="","",COUNTIF($AE$7:$AE$925,AE47)) -> 732 | AH47: =IF(U47="","",IF(AND(U47="도비",AE47="세입없음"),"OK",IF(AND(U47<>"도비",AE47<>""),"OK","@@"))) -> OK | AJ47: {=IF(D47="","",INDEX(구분표!$I$2:$I$313, MATCH(1,(구분표!$E$2:$E$313='17년일출'!C47)*(구분표!$F$2:$F$313='17년일출'!D47)*(구분표!$G$2:$G$313='17년일출'!B47),0)))} -> 0102
A48: 41 | B48: =IFERROR(VLOOKUP($D48,구분표!$A$2:$C$313,2,FALSE),"") -> 의회운영위원회 | C48: =IFERROR(VLOOKUP($D48,구분표!$A$2:$C$313,3,FALSE),"") -> 의회사무처 | D48: 총무담당관 | E48: 본예산 | G48: 12 | I48: 의회운영(자체/직접) - 의정지원업무 추진 | J48: 29700 | M48: =J48+K48+L48 -> 29700 | O48: 24000 | P48: =J48+N48+O48 -> 53700 | Q48: =IF(AND((M48=0),(P48>0)),"O",IF(AND((K48<0),(M48-P48<0)),"O","X")) -> X | S48: 도비 | U48: 도비 | V48: =IF($U48<>"도비",IF($S48="국도비","직접입력",SUM($K48:$L48)),) -> 0 | W48: =IF($U48="도비",SUM($K48:$L48),IF($S48="국도비","직접입력",SUM($K48:$L48)-$V48)) -> 0 | X48: =IF(SUM($K48:$L48)=SUM($V48:$W48),"OK","검토") -> OK | Z48: 도비 | AA48: =IF($U48<>"도비",IF($S48="국도비","직접입력",SUM($N48:$O48)),) -> 0 | AB48: =IF($U48="도비",SUM(N48:O48),IF($S48="국도비","직접입력",SUM(N48:O48)-AA48)) -> 24000 | AC48: =IF(SUM(N48:O48)=SUM(AA48:AB48),"OK","검토") -> OK | AE48: =IF(U48="","",IF(U48="도비","세입없음","직접입력")) -> 세입없음 | AG48: =IF(AE48="","",COUNTIF($AE$7:$AE$925,AE48)) -> 732 | AH48: =IF(U48="","",IF(AND(U48="도비",AE48="세입없음"),"OK",IF(AND(U48<>"도비",AE48<>""),"OK","@@"))) -> OK | AJ48: {=IF(D48="","",INDEX(구분표!$I$2:$I$313, MATCH(1,(구분표!$E$2:$E$313='17년일출'!C48)*(구분표!$F$2:$F$313='17년일출'!D48)*(구분표!$G$2:$G$313='17년일출'!B48),0)))} -> 0102
A49: 42 | B49: =IFERROR(VLOOKUP($D49,구분표!$A$2:$C$313,2,FALSE),"") -> 의회운영위원회 | C49: =IFERROR(VLOOKUP($D49,구분표!$A$2:$C$313,3,FALSE),"") -> 의회사무처 | D49: 총무담당관 | E49: 신규 | I49: 의회운영(자체/직접) - 연정지원업무 추진 | J49: 0 | M49: =J49+K49+L49 -> 0 | O49: 16000 | P49: =J49+N49+O49 -> 16000 | Q49: =IF(AND((M49=0),(P49>0)),"O",IF(AND((K49<0),(M49-P49<0)),"O","X")) -> O | S49: 도비 | U49: 도비 | V49: =IF($U49<>"도비",IF($S49="국도비","직접입력",SUM($K49:$L49)),) -> 0 | W49: =IF($U49="도비",SUM($K49:$L49),IF($S49="국도비","직접입력",SUM($K49:$L49)-$V49)) -> 0 | X49: =IF(SUM($K49:$L49)=SUM($V49:$W49),"OK","검토") -> OK | Z49: 도비 | AA49: =IF($U49<>"도비",IF($S49="국도비","직접입력",SUM($N49:$O49)),) -> 0 | AB49: =IF($U49="도비",SUM(N49:O49),IF($S49="국도비","직접입력",SUM(N49:O49)-AA49)) -> 16000 | AC49: =IF(SUM(N49:O49)=SUM(AA49:AB49),"OK","검토") -> OK | AE49: =IF(U49="","",IF(U49="도비","세입없음","직접입력")) -> 세입없음 | AG49: =IF(AE49="","",COUNTIF($AE$7:$AE$925,AE49)) -> 732 | AH49: =IF(U49="","",IF(AND(U49="도비",AE49="세입없음"),"OK",IF(AND(U49<>"도비",AE49<>""),"OK","@@"))) -> OK | AJ49: {=IF(D49="","",INDEX(구분표!$I$2:$I$313, MATCH(1,(구분표!$E$2:$E$313='17년일출'!C49)*(구분표!$F$2:$F$313='17년일출'!D49)*(구분표!$G$2:$G$313='17년일출'!B49),0)))} -> 0102
A50: 43 | B50: =IFERROR(VLOOKUP($D50,구분표!$A$2:$C$313,2,FALSE),"") -> 의회운영위원회 | C50: =IFERROR(VLOOKUP($D50,구분표!$A$2:$C$313,3,FALSE),"") -> 의회사무처 | D50: 의정담당관 | E50: 신규 | I50: 의정모니터링(자체/직접) - 의정모니터링 | J50: 0 | M50: =J50+K50+L50 -> 0 | O50: 75000 | P50: =J50+N50+O50 -> 75000 | Q50: =IF(AND((M50=0),(P50>0)),"O",IF(AND((K50<0),(M50-P50<0)),"O","X")) -> O | S50: 도비 | U50: 도비 | V50: =IF($U50<>"도비",IF($S50="국도비","직접입력",SUM($K50:$L50)),) -> 0 | W50: =IF($U50="도비",SUM($K50:$L50),IF($S50="국도비","직접입력",SUM($K50:$L50)-$V50)) -> 0 | X50: =IF(SUM($K50:$L50)=SUM($V50:$W50),"OK","검토") -> OK | Z50: 도비 | AA50: =IF($U50<>"도비",IF($S50="국도비","직접입력",SUM($N50:$O50)),) -> 0 | AB50: =IF($U50="도비",SUM(N50:O50),IF($S50="국도비","직접입력",SUM(N50:O50)-AA50)) -> 75000 | AC50: =IF(SUM(N50:O50)=SUM(AA50:AB50),"OK","검토") -> OK | AE50: =IF(U50="","",IF(U50="도비","세입없음","직접입력")) -> 세입없음 | AG50: =IF(AE50="","",COUNTIF($AE$7:$AE$925,AE50)) -> 732 | AH50: =IF(U50="","",IF(AND(U50="도비",AE50="세입없음"),"OK",IF(AND(U50<>"도비",AE50<>""),"OK","@@"))) -> OK | AJ50: {=IF(D50="","",INDEX(구분표!$I$2:$I$313, MATCH(1,(구분표!$E$2:$E$313='17년일출'!C50)*(구분표!$F$2:$F$313='17년일출'!D50)*(구분표!$G$2:$G$313='17년일출'!B50),0)))} -> 0103
A51: 44 | B51: =IFERROR(VLOOKUP($D51,구분표!$A$2:$C$313,2,FALSE),"") -> 의회운영위원회 | C51: =IFERROR(VLOOKUP($D51,구분표!$A$2:$C$313,3,FALSE),"") -> 의회사무처 | D51: 입법정책담당관 | E51: 본예산 | G51: 23 | I51: 입법운영 지원(자체/직접) - 입법법률고문수당 | J51: 24000 | M51: =J51+K51+L51 -> 24000 | O51: 6000 | P51: =J51+N51+O51 -> 30000 | Q51: =IF(AND((M51=0),(P51>0)),"O",IF(AND((K51<0),(M51-P51<0)),"O","X")) -> X | S51: 도비 | U51: 도비 | V51: =IF($U51<>"도비",IF($S51="국도비","직접입력",SUM($K51:$L51)),) -> 0 | W51: =IF($U51="도비",SUM($K51:$L51),IF($S51="국도비","직접입력",SUM($K51:$L51)-$V51)) -> 0 | X51: =IF(SUM($K51:$L51)=SUM($V51:$W51),"OK","검토") -> OK | Z51: 도비 | AA51: =IF($U51<>"도비",IF($S51="국도비","직접입력",SUM($N51:$O51)),) -> 0 | AB51: =IF($U51="도비",SUM(N51:O51),IF($S51="국도비","직접입력",SUM(N51:O51)-AA51)) -> 6000 | AC51: =IF(SUM(N51:O51)=SUM(AA51:AB51),"OK","검토") -> OK | AE51: =IF(U51="","",IF(U51="도비","세입없음","직접입력")) -> 세입없음 | AG51: =IF(AE51="","",COUNTIF($AE$7:$AE$925,AE51)) -> 732 | AH51: =IF(U51="","",IF(AND(U51="도비",AE51="세입없음"),"OK",IF(AND(U51<>"도비",AE51<>""),"OK","@@"))) -> OK | AJ51: {=IF(D51="","",INDEX(구분표!$I$2:$I$313, MATCH(1,(구분표!$E$2:$E$313='17년일출'!C51)*(구분표!$F$2:$F$313='17년일출'!D51)*(구분표!$G$2:$G$313='17년일출'!B51),0)))} -> 0104
A52: 45 | B52: =IFERROR(VLOOKUP($D52,구분표!$A$2:$C$313,2,FALSE),"") -> 의회운영위원회 | C52: =IFERROR(VLOOKUP($D52,구분표!$A$2:$C$313,3,FALSE),"") -> 의회사무처 | D52: 입법정책담당관 | E52: 신규 | I52: 의원연구활동 지원 심의위원회 운영(자체/직접) - 의원연구활동 지원 심의위원회 운영 수당 | J52: 0 | M52: =J52+K52+L52 -> 0 | O52: 8400 | P52: =J52+N52+O52 -> 8400 | Q52: =IF(AND((M52=0),(P52>0)),"O",IF(AND((K52<0),(M52-P52<0)),"O","X")) -> O | S52: 도비 | U52: 도비 | V52: =IF($U52<>"도비",IF($S52="국도비","직접입력",SUM($K52:$L52)),) -> 0 | W52: =IF($U52="도비",SUM($K52:$L52),IF($S52="국도비","직접입력",SUM($K52:$L52)-$V52)) -> 0 | X52: =IF(SUM($K52:$L52)=SUM($V52:$W52),"OK","검토") -> OK | Z52: 도비 | AA52: =IF($U52<>"도비",IF($S52="국도비","직접입력",SUM($N52:$O52)),) -> 0 | AB52: =IF($U52="도비",SUM(N52:O52),IF($S52="국도비","직접입력",SUM(N52:O52)-AA52)) -> 8400 | AC52: =IF(SUM(N52:O52)=SUM(AA52:AB52),"OK","검토") -> OK | AE52: =IF(U52="","",IF(U52="도비","세입없음","직접입력")) -> 세입없음 | AG52: =IF(AE52="","",COUNTIF($AE$7:$AE$925,AE52)) -> 732 | AH52: =IF(U52="","",IF(AND(U52="도비",AE52="세입없음"),"OK",IF(AND(U52<>"도비",AE52<>""),"OK","@@"))) -> OK | AJ52: {=IF(D52="","",INDEX(구분표!$I$2:$I$313, MATCH(1,(구분표!$E$2:$E$313='17년일출'!C52)*(구분표!$F$2:$F$313='17년일출'!D52)*(구분표!$G$2:$G$313='17년일출'!B52),0)))} -> 0104
A53: 46 | B53: =IFERROR(VLOOKUP($D53,구분표!$A$2:$C$313,2,FALSE),"") -> 의회운영위원회 | C53: =IFERROR(VLOOKUP($D53,구분표!$A$2:$C$313,3,FALSE),"") -> 의회사무처 | D53: 입법정책담당관 | E53: 신규 | I53: 입법정책위원회 운영(자체/직접) - 입법정책위원회 업무추진 | J53: 0 | M53: =J53+K53+L53 -> 0 | O53: 2000 | P53: =J53+N53+O53 -> 2000 | Q53: =IF(AND((M53=0),(P53>0)),"O",IF(AND((K53<0),(M53-P53<0)),"O","X")) -> O | S53: 도비 | U53: 도비 | V53: =IF($U53<>"도비",IF($S53="국도비","직접입력",SUM($K53:$L53)),) -> 0 | W53: =IF($U53="도비",SUM($K53:$L53),IF($S53="국도비","직접입력",SUM($K53:$L53)-$V53)) -> 0 | X53: =IF(SUM($K53:$L53)=SUM($V53:$W53),"OK","검토") -> OK | Z53: 도비 | AA53: =IF($U53<>"도비",IF($S53="국도비","직접입력",SUM($N53:$O53)),) -> 0 | AB53: =IF($U53="도비",SUM(N53:O53),IF($S53="국도비","직접입력",SUM(N53:O53)-AA53)) -> 2000 | AC53: =IF(SUM(N53:O53)=SUM(AA53:AB53),"OK","검토") -> OK | AE53: =IF(U53="","",IF(U53="도비","세입없음","직접입력")) -> 세입없음 | AG53: =IF(AE53="","",COUNTIF($AE$7:$AE$925,AE53)) -> 732 | AH53: =IF(U53="","",IF(AND(U53="도비",AE53="세입없음"),"OK",IF(AND(U53<>"도비",AE53<>""),"OK","@@"))) -> OK | AJ53: {=IF(D53="","",INDEX(구분표!$I$2:$I$313, MATCH(1,(구분표!$E$2:$E$313='17년일출'!C53)*(구분표!$F$2:$F$313='17년일출'!D53)*(구분표!$G$2:$G$313='17년일출'!B53),0)))} -> 0104
A54: 47 | B54: =IFERROR(VLOOKUP($D54,구분표!$A$2:$C$313,2,FALSE),"") -> 의회운영위원회 | C54: =IFERROR(VLOOKUP($D54,구분표!$A$2:$C$313,3,FALSE),"") -> 의회사무처 | D54: 예산정책담당관 | E54: 신규 | I54: 예산정책 활동지원(자체/직접) - 예산정책위원회 업무추진 | J54: 0 | M54: =J54+K54+L54 -> 0 | O54: 2000 | P54: =J54+N54+O54 -> 2000 | Q54: =IF(AND((M54=0),(P54>0)),"O",IF(AND((K54<0),(M54-P54<0)),"O","X")) -> O | S54: 도비 | U54: 도비 | V54: =IF($U54<>"도비",IF($S54="국도비","직접입력",SUM($K54:$L54)),) -> 0 | W54: =IF($U54="도비",SUM($K54:$L54),IF($S54="국도비","직접입력",SUM($K54:$L54)-$V54)) -> 0 | X54: =IF(SUM($K54:$L54)=SUM($V54:$W54),"OK","검토") -> OK | Z54: 도비 | AA54: =IF($U54<>"도비",IF($S54="국도비","직접입력",SUM($N54:$O54)),) -> 0 | AB54: =IF($U54="도비",SUM(N54:O54),IF($S54="국도비","직접입력",SUM(N54:O54)-AA54)) -> 2000 | AC54: =IF(SUM(N54:O54)=SUM(AA54:AB54),"OK","검토") -> OK | AE54: =IF(U54="","",IF(U54="도비","세입없음","직접입력")) -> 세입없음 | AG54: =IF(AE54="","",COUNTIF($AE$7:$AE$925,AE54)) -> 732 | AH54: =IF(U54="","",IF(AND(U54="도비",AE54="세입없음"),"OK",IF(AND(U54<>"도비",AE54<>""),"OK","@@"))) -> OK | AJ54: {=IF(D54="","",INDEX(구분표!$I$2:$I$313, MATCH(1,(구분표!$E$2:$E$313='17년일출'!C54)*(구분표!$F$2:$F$313='17년일출'!D54)*(구분표!$G$2:$G$313='17년일출'!B54),0)))} -> 0105
A55: 48 | B55: =IFERROR(VLOOKUP($D55,구분표!$A$2:$C$313,2,FALSE),"") -> 의회운영위원회 | C55: =IFERROR(VLOOKUP($D55,구분표!$A$2:$C$313,3,FALSE),"") -> 의회사무처 | D55: 총무담당관 | E55: 신규 | I55: 의회운영(자체/직접) - 의정정책 국제심포지움 | J55: 0 | M55: =J55+K55+L55 -> 0 | O55: 40000 | P55: =J55+N55+O55 -> 40000 | Q55: =IF(AND((M55=0),(P55>0)),"O",IF(AND((K55<0),(M55-P55<0)),"O","X")) -> O | S55: 도비 | U55: 도비 | V55: =IF($U55<>"도비",IF($S55="국도비","직접입력",SUM($K55:$L55)),) -> 0 | W55: =IF($U55="도비",SUM($K55:$L55),IF($S55="국도비","직접입력",SUM($K55:$L55)-$V55)) -> 0 | X55: =IF(SUM($K55:$L55)=SUM($V55:$W55),"OK","검토") -> OK | Z55: 도비 | AA55: =IF($U55<>"도비",IF($S55="국도비","직접입력",SUM($N55:$O55)),) -> 0 | AB55: =IF($U55="도비",SUM(N55:O55),IF($S55="국도비","직접입력",SUM(N55:O55)-AA55)) -> 40000 | AC55: =IF(SUM(N55:O55)=SUM(AA55:AB55),"OK","검토") -> OK | AE55: =IF(U55="","",IF(U55="도비","세입없음","직접입력")) -> 세입없음 | AG55: =IF(AE55="","",COUNTIF($AE$7:$AE$925,AE55)) -> 732 | AH55: =IF(U55="","",IF(AND(U55="도비",AE55="세입없음"),"OK",IF(AND(U55<>"도비",AE55<>""),"OK","@@"))) -> OK | AJ55: {=IF(D55="","",INDEX(구분표!$I$2:$I$313, MATCH(1,(구분표!$E$2:$E$313='17년일출'!C55)*(구분표!$F$2:$F$313='17년일출'!D55)*(구분표!$G$2:$G$313='17년일출'!B55),0)))} -> 0102
A56: 49 | B56: =IFERROR(VLOOKUP($D56,구분표!$A$2:$C$313,2,FALSE),"") -> 의회운영위원회 | C56: =IFERROR(VLOOKUP($D56,구분표!$A$2:$C$313,3,FALSE),"") -> 의회사무처 | D56: 총무담당관 | E56: 신규 | I56: 의회운영(자체/직접) - 의정정책 신진사례 해외연수(민간인국외여비) | J56: 0 | M56: =J56+K56+L56 -> 0 | P56: =J56+N56+O56 -> 0 | Q56: =IF(AND((M56=0),(P56>0)),"O",IF(AND((K56<0),(M56-P56<0)),"O","X")) -> X | S56: 도비 | U56: 도비 | V56: =IF($U56<>"도비",IF($S56="국도비","직접입력",SUM($K56:$L56)),) -> 0 | W56: =IF($U56="도비",SUM($K56:$L56),IF($S56="국도비","직접입력",SUM($K56:$L56)-$V56)) -> 0 | X56: =IF(SUM($K56:$L56)=SUM($V56:$W56),"OK","검토") -> OK | Z56: 도비 | AA56: =IF($U56<>"도비",IF($S56="국도비","직접입력",SUM($N56:$O56)),) -> 0 | AB56: =IF($U56="도비",SUM(N56:O56),IF($S56="국도비","직접입력",SUM(N56:O56)-AA56)) -> 0 | AC56: =IF(SUM(N56:O56)=SUM(AA56:AB56),"OK","검토") -> OK | AE56: =IF(U56="","",IF(U56="도비","세입없음","직접입력")) -> 세입없음 | AG56: =IF(AE56="","",COUNTIF($AE$7:$AE$925,AE56)) -> 732 | AH56: =IF(U56="","",IF(AND(U56="도비",AE56="세입없음"),"OK",IF(AND(U56<>"도비",AE56<>""),"OK","@@"))) -> OK | AJ56: {=IF(D56="","",INDEX(구분표!$I$2:$I$313, MATCH(1,(구분표!$E$2:$E$313='17년일출'!C56)*(구분표!$F$2:$F$313='17년일출'!D56)*(구분표!$G$2:$G$313='17년일출'!B56),0)))} -> 0102
A57: 49 | B57: =IFERROR(VLOOKUP($D57,구분표!$A$2:$C$313,2,FALSE),"") -> 의회운영위원회 | C57: =IFERROR(VLOOKUP($D57,구분표!$A$2:$C$313,3,FALSE),"") -> 의회사무처 | D57: 총무담당관 | E57: 본예산 | G57: 15 | I57: 의정지원 기준경비(자체/직접) - 의장단 및 의원 | J57: 320000 | M57: =J57+K57+L57 -> 320000 | P57: =J57+N57+O57 -> 320000 | Q57: =IF(AND((M57=0),(P57>0)),"O",IF(AND((K57<0),(M57-P57<0)),"O","X")) -> X | R57: 총액기준 전체 의원에게 균등 집행 | S57: 도비 | U57: 도비 | V57: =IF($U57<>"도비",IF($S57="국도비","직접입력",SUM($K57:$L57)),) -> 0 | W57: =IF($U57="도비",SUM($K57:$L57),IF($S57="국도비","직접입력",SUM($K57:$L57)-$V57)) -> 0 | X57: =IF(SUM($K57:$L57)=SUM($V57:$W57),"OK","검토") -> OK | Z57: 도비 | AA57: =IF($U57<>"도비",IF($S57="국도비","직접입력",SUM($N57:$O57)),) -> 0 | AB57: =IF($U57="도비",SUM(N57:O57),IF($S57="국도비","직접입력",SUM(N57:O57)-AA57)) -> 0 | AC57: =IF(SUM(N57:O57)=SUM(AA57:AB57),"OK","검토") -> OK | AE57: =IF(U57="","",IF(U57="도비","세입없음","직접입력")) -> 세입없음 | AG57: =IF(AE57="","",COUNTIF($AE$7:$AE$925,AE57)) -> 732 | AH57: =IF(U57="","",IF(AND(U57="도비",AE57="세입없음"),"OK",IF(AND(U57<>"도비",AE57<>""),"OK","@@"))) -> OK | AJ57: {=IF(D57="","",INDEX(구분표!$I$2:$I$313, MATCH(1,(구분표!$E$2:$E$313='17년일출'!C57)*(구분표!$F$2:$F$313='17년일출'!D57)*(구분표!$G$2:$G$313='17년일출'!B57),0)))} -> 0102
A58: 49 | B58: =IFERROR(VLOOKUP($D58,구분표!$A$2:$C$313,2,FALSE),"") -> 의회운영위원회 | C58: =IFERROR(VLOOKUP($D58,구분표!$A$2:$C$313,3,FALSE),"") -> 의회사무처 | D58: 총무담당관 | E58: 본예산 | G58: 15 | I58: 의정지원 기준경비(자체/직접) - 국제행사 참여 | J58: 96000 | M58: =J58+K58+L58 -> 96000 | P58: =J58+N58+O58 -> 96000 | Q58: =IF(AND((M58=0),(P58>0)),"O",IF(AND((K58<0),(M58-P58<0)),"O","X")) -> X | R58: 총액기준 전체 의원에게 균등 집행 | S58: 도비 | U58: 도비 | V58: =IF($U58<>"도비",IF($S58="국도비","직접입력",SUM($K58:$L58)),) -> 0 | W58: =IF($U58="도비",SUM($K58:$L58),IF($S58="국도비","직접입력",SUM($K58:$L58)-$V58)) -> 0 | X58: =IF(SUM($K58:$L58)=SUM($V58:$W58),"OK","검토") -> OK | Z58: 도비 | AA58: =IF($U58<>"도비",IF($S58="국도비","직접입력",SUM($N58:$O58)),) -> 0 | AB58: =IF($U58="도비",SUM(N58:O58),IF($S58="국도비","직접입력",SUM(N58:O58)-AA58)) -> 0 | AC58: =IF(SUM(N58:O58)=SUM(AA58:AB58),"OK","검토") -> OK | AE58: =IF(U58="","",IF(U58="도비","세입없음","직접입력")) -> 세입없음 | AG58: =IF(AE58="","",COUNTIF($AE$7:$AE$925,AE58)) -> 732 | AH58: =IF(U58="","",IF(AND(U58="도비",AE58="세입없음"),"OK",IF(AND(U58<>"도비",AE58<>""),"OK","@@"))) -> OK | AJ58: {=IF(D58="","",INDEX(구분표!$I$2:$I$313, MATCH(1,(구분표!$E$2:$E$313='17년일출'!C58)*(구분표!$F$2:$F$313='17년일출'!D58)*(구분표!$G$2:$G$313='17년일출'!B58),0)))} -> 0102
A59: 50 | B59: =IFERROR(VLOOKUP($D59,구분표!$A$2:$C$313,2,FALSE),"") -> 의회운영위원회 | C59: =IFERROR(VLOOKUP($D59,구분표!$A$2:$C$313,3,FALSE),"") -> 대변인 | D59: 언론협력담당관 | E59: 본예산 | G59: 30 | H59: 12 | I59: 케이블TV를 이용한 홍보(자체/직접) - 케이블TV를 이용한 홍보 | J59: 900000 | K59: -100000 | M59: =J59+K59+L59 -> 800000 | P59: =J59+N59+O59 -> 900000 | Q59: =IF(AND((M59=0),(P59>0)),"O",IF(AND((K59<0),(M59-P59<0)),"O","X")) -> O | S59: 도비 | U59: 도비 | V59: 0 | W59: -100000 | X59: =IF(SUM($K59:$L59)=SUM($V59:$W59),"OK","검토") -> OK | Z59: 도비 | AA59: =IF($U59<>"도비",IF($S59="국도비","직접입력",SUM($N59:$O59)),) -> 0 | AB59: =IF($U59="도비",SUM(N59:O59),IF($S59="국도비","직접입력",SUM(N59:O59)-AA59)) -> 0 | AC59: =IF(SUM(N59:O59)=SUM(AA59:AB59),"OK","검토") -> OK | AE59: =IF(U59="","",IF(U59="도비","세입없음","직접입력")) -> 세입없음 | AG59: =IF(AE59="","",COUNTIF($AE$7:$AE$925,AE59)) -> 732 | AH59: =IF(U59="","",IF(AND(U59="도비",AE59="세입없음"),"OK",IF(AND(U59<>"도비",AE59<>""),"OK","@@"))) -> OK | AJ59: {=IF(D59="","",INDEX(구분표!$I$2:$I$313, MATCH(1,(구분표!$E$2:$E$313='17년일출'!C59)*(구분표!$F$2:$F$313='17년일출'!D59)*(구분표!$G$2:$G$313='17년일출'!B59),0)))} -> 0106
A60: 51 | B60: =IFERROR(VLOOKUP($D60,구분표!$A$2:$C$313,2,FALSE),"") -> 의회운영위원회 | C60: =IFERROR(VLOOKUP($D60,구분표!$A$2:$C$313,3,FALSE),"") -> 대변인 | D60: 언론협력담당관 | E60: 본예산 | G60: 30 | H60: 4 | I60: 신문을 통한 홍보(자체/직접) - 언론공익광고 | J60: 2400475 | K60: -350000 | M60: =J60+K60+L60 -> 2050475 | P60: =J60+N60+O60 -> 2400475 | Q60: =IF(AND((M60=0),(P60>0)),"O",IF(AND((K60<0),(M60-P60<0)),"O","X")) -> O | S60: 도비 | U60: 도비 | V60: 0 | W60: -350000 | X60: =IF(SUM($K60:$L60)=SUM($V60:$W60),"OK","검토") -> OK | Z60: 도비 | AA60: =IF($U60<>"도비",IF($S60="국도비","직접입력",SUM($N60:$O60)),) -> 0 | AB60: =IF($U60="도비",SUM(N60:O60),IF($S60="국도비","직접입력",SUM(N60:O60)-AA60)) -> 0 | AC60: =IF(SUM(N60:O60)=SUM(AA60:AB60),"OK","검토") -> OK | AE60: =IF(U60="","",IF(U60="도비","세입없음","직접입력")) -> 세입없음 | AG60: =IF(AE60="","",COUNTIF($AE$7:$AE$925,AE60)) -> 732 | AH60: =IF(U60="","",IF(AND(U60="도비",AE60="세입없음"),"OK",IF(AND(U60<>"도비",AE60<>""),"OK","@@"))) -> OK | AJ60: {=IF(D60="","",INDEX(구분표!$I$2:$I$313, MATCH(1,(구분표!$E$2:$E$313='17년일출'!C60)*(구분표!$F$2:$F$313='17년일출'!D60)*(구분표!$G$2:$G$313='17년일출'!B60),0)))} -> 0106
A61: 52 | B61: =IFERROR(VLOOKUP($D61,구분표!$A$2:$C$313,2,FALSE),"") -> 의회운영위원회 | C61: =IFERROR(VLOOKUP($D61,구분표!$A$2:$C$313,3,FALSE),"") -> 대변인 | D61: 언론협력담당관 | E61: 본예산 | G61: 30 | H61: 7 | I61: 방송을 이용한 홍보(자체/직접) - 방송을 이용한 홍보 | J61: 1900000 | K61: -300000 | M61: =J61+K61+L61 -> 1600000 | P61: =J61+N61+O61 -> 1900000 | Q61: =IF(AND((M61=0),(P61>0)),"O",IF(AND((K61<0),(M61-P61<0)),"O","X")) -> O | S61: 도비 | U61: 도비 | V61: 0 | W61: -300000 | X61: =IF(SUM($K61:$L61)=SUM($V61:$W61),"OK","검토") -> OK | Z61: 도비 | AA61: =IF($U61<>"도비",IF($S61="국도비","직접입력",SUM($N61:$O61)),) -> 0 | AB61: =IF($U61="도비",SUM(N61:O61),IF($S61="국도비","직접입력",SUM(N61:O61)-AA61)) -> 0 | AC61: =IF(SUM(N61:O61)=SUM(AA61:AB61),"OK","검토") -> OK | AE61: =IF(U61="","",IF(U61="도비","세입없음","직접입력")) -> 세입없음 | AG61: =IF(AE61="","",COUNTIF($AE$7:$AE$925,AE61)) -> 732 | AH61: =IF(U61="","",IF(AND(U61="도비",AE61="세입없음"),"OK",IF(AND(U61<>"도비",AE61<>""),"OK","@@"))) -> OK | AJ61: {=IF(D61="","",INDEX(구분표!$I$2:$I$313, MATCH(1,(구분표!$E$2:$E$313='17년일출'!C61)*(구분표!$F$2:$F$313='17년일출'!D61)*(구분표!$G$2:$G$313='17년일출'!B61),0)))} -> 0106
A62: 53 | B62: =IFERROR(VLOOKUP($D62,구분표!$A$2:$C$313,2,FALSE),"") -> 의회운영위원회 | C62: =IFERROR(VLOOKUP($D62,구분표!$A$2:$C$313,3,FALSE),"") -> 대변인 | D62: 언론협력담당관 | E62: 본예산 | G62: 30 | H62: 9 | I62: 인터넷언론을 이용한 홍보(자체/직접) - 인터넷 언론을 이용한 홍보 | J62: 1038000 | K62: -100000 | M62: =J62+K62+L62 -> 938000 | P62: =J62+N62+O62 -> 1038000 | Q62: =IF(AND((M62=0),(P62>0)),"O",IF(AND((K62<0),(M62-P62<0)),"O","X")) -> O | S62: 도비 | U62: 도비 | V62: 0 | W62: -100000 | X62: =IF(SUM($K62:$L62)=SUM($V62:$W62),"OK","검토") -> OK | Z62: 도비 | AA62: =IF($U62<>"도비",IF($S62="국도비","직접입력",SUM($N62:$O62)),) -> 0 | AB62: =IF($U62="도비",SUM(N62:O62),IF($S62="국도비","직접입력",SUM(N62:O62)-AA62)) -> 0 | AC62: =IF(SUM(N62:O62)=SUM(AA62:AB62),"OK","검토") -> OK | AE62: =IF(U62="","",IF(U62="도비","세입없음","직접입력")) -> 세입없음 | AG62: =IF(AE62="","",COUNTIF($AE$7:$AE$925,AE62)) -> 732 | AH62: =IF(U62="","",IF(AND(U62="도비",AE62="세입없음"),"OK",IF(AND(U62<>"도비",AE62<>""),"OK","@@"))) -> OK | AJ62: {=IF(D62="","",INDEX(구분표!$I$2:$I$313, MATCH(1,(구분표!$E$2:$E$313='17년일출'!C62)*(구분표!$F$2:$F$313='17년일출'!D62)*(구분표!$G$2:$G$313='17년일출'!B62),0)))} -> 0106
A63: 54 | B63: =IFERROR(VLOOKUP($D63,구분표!$A$2:$C$313,2,FALSE),"") -> 의회운영위원회 | C63: =IFERROR(VLOOKUP($D63,구분표!$A$2:$C$313,3,FALSE),"") -> 대변인 | D63: 언론협력담당관 | E63: 본예산 | G63: 31 | H63: 23 | I63: 여론수렴강화(자체/직접) - 통신 구독료 | J63: 400000 | L63: 220000 | M63: =J63+K63+L63 -> 620000 | O63: 250000 | P63: =J63+N63+O63 -> 650000 | Q63: =IF(AND((M63=0),(P63>0)),"O",IF(AND((K63<0),(M63-P63<0)),"O","X")) -> X | S63: 도비 | U63: 도비 | V63: 0 | W63: 220000 | X63: =IF(SUM($K63:$L63)=SUM($V63:$W63),"OK","검토") -> OK | Z63: 도비 | AA63: =IF($U63<>"도비",IF($S63="국도비","직접입력",SUM($N63:$O63)),) -> 0 | AB63: =IF($U63="도비",SUM(N63:O63),IF($S63="국도비","직접입력",SUM(N63:O63)-AA63)) -> 250000 | AC63: =IF(SUM(N63:O63)=SUM(AA63:AB63),"OK","검토") -> OK | AE63: =IF(U63="","",IF(U63="도비","세입없음","직접입력")) -> 세입없음 | AG63: =IF(AE63="","",COUNTIF($AE$7:$AE$925,AE63)) -> 732 | AH63: =IF(U63="","",IF(AND(U63="도비",AE63="세입없음"),"OK",IF(AND(U63<>"도비",AE63<>""),"OK","@@"))) -> OK | AJ63: {=IF(D63="","",INDEX(구분표!$I$2:$I$313, MATCH(1,(구분표!$E$2:$E$313='17년일출'!C63)*(구분표!$F$2:$F$313='17년일출'!D63)*(구분표!$G$2:$G$313='17년일출'!B63),0)))} -> 0106
