Workbook

Sheet 구분표
A2: 실과명 조정 | B2: 위원회명 조정 | C2: 실국명 조정 | E2: 실국명 | F2: 실과명 | G2: 위원회명 | H2: 정렬순서 | I2: 정렬코드
A3: 공보담당관 | B3: 의회운영위원회 | C3: 의회사무처 | E3: 의회사무처 | F3: 공보담당관 | G3: 의회운영위원회 | H3: 1 | I3: 0101
A4: 총무담당관 | B4: 의회운영위원회 | C4: 의회사무처 | E4: 의회사무처 | F4: 총무담당관 | G4: 의회운영위원회 | H4: 2 | I4: 0102
A5: 의정담당관 | B5: 의회운영위원회 | C5: 의회사무처 | E5: 의회사무처 | F5: 의정담당관 | G5: 의회운영위원회 | H5: 3 | I5: 0103
A6: 입법정책담당관 | B6: 의회운영위원회 | C6: 의회사무처 | E6: 의회사무처 | F6: 입법정책담당관 | G6: 의회운영위원회 | H6: 4 | I6: 0104
A7: 예산정책담당관 | B7: 의회운영위원회 | C7: 의회사무처 | E7: 의회사무처 | F7: 예산정책담당관 | G7: 의회운영위원회 | H7: 5 | I7: 0105
A8: 언론협력담당관 | B8: 의회운영위원회 | C8: 대변인 | E8: 대변인 | F8: 언론협력담당관 | G8: 의회운영위원회 | H8: 6 | I8: 0106
A9: 보도기획담당관 | B9: 의회운영위원회 | C9: 대변인 | E9: 대변인 | F9: 보도기획담당관 | G9: 의회운영위원회 | H9: 7 | I9: 0107
A10: 홍보미디어담당관 | B10: 의회운영위원회 | C10: 소통기획관 | E10: 소통기획관 | F10: 홍보미디어담당관 | G10: 의회운영위원회 | H10: 8 | I10: 0108
A11: 홍보콘텐츠담당관 | B11: 의회운영위원회 | C11: 소통기획관 | E11: 소통기획관 | F11: 홍보콘텐츠담당관 | G11: 의회운영위원회 | H11: 9 | I11: 0109
A12: 연정협력과 | B12: 의회운영위원회 | C12: 연정협력국 | E12: 연정협력국 | F12: 연정협력과 | G12: 의회운영위원회 | H12: 10 | I12: 0110
A13: 대외협력과 | B13: 의회운영위원회 | C13: 연정협력국 | E13: 연정협력국 | F13: 대외협력과 | G13: 의회운영위원회 | H13: 11 | I13: 0111
... A215: 도서관정책과 | B215: 여성가족교육협력위원회 | C215: 교육협력국 | E215: 교육협력국 | F215: 도서관정책과 | G215: 여성가족교육협력위원회 | H215: 213 | I215: 0313

Sheet 예결표지(세로)
A5: 2015년도 제2회 일반회계 및 특별회계 추가경정 세입·세출 예산안
A7: 예결위 계수조정 결과
A20: 예산결산특별위원회

Sheet 예결표지(가로)
A3: 2015년도 제2회 일반회계 및 특별회계 추가경정 세입·세출 예산안
A5: 예결위 계수조정 결과
A14: 예산결산특별위원회

Sheet 표지
A6: 예결위 예산안 조정 결과
B8: - 2017년도 일반회계 및 기타특별회계 예산안, 기금운용계획안
A18: 예산결산특별위원회

Sheet 검증
A1: 제4회 추경 일반회계 검증 | H1: 4추 예비비 | J1: 조정액 | K1: =IFERROR(INDEX('17년일출'!AB6:AB925,MATCH("*예비비*",'17년일출'!I6:I925,0)),0) -> -15702412 | L1: 조정잔액 | M1: =I1+K1 -> -15702412
M2: (단위 : 천원)
A3: 구분 | B3: 상 임 위 | H3: 구분 | I3: 예 결 위
B4: 세입 | C4: 검증 | D4: 세출 | E4: 검증 | F4: 차액 | I4: 세입 | J4: 검증 | K4: 세출 | L4: 검증 | M4: 차액
A5: 전체 총계 | B5: =SUM(B6:B13)/2 -> 229821 | C5: =IF(B5=SUM('17년일입'!I6:J6),"OK","@@") -> @@ | D5: =SUM(D6:D13)/2 -> 55116949 | E5: =IF(D5=SUM('17년일출'!K6:L6),"OK","@@") -> @@ | H5: 전체 총계 | I5: =SUM(I6:I13)/2 -> 0 | J5: =IF(I5=SUM('17년일입'!L6:M6),"OK","@@") -> @@ | K5: =SUM(K6:K13)/2 -> 42680031 | L5: =IF(K5=SUM('17년일출'!N6:O6),"OK","@@") -> @@
A6: 자체 계 | B6: =SUM(B7:B8) -> 229821 | C6: =IF(B6='17년일입'!V6,"OK","@@") -> OK | D6: =SUM(D7:D8) -> 50079588 | E6: =IF(D6='17년일출'!W6,"OK","@@") -> OK | H6: 자체 계 | I6: =SUM(I7:I8) -> 0 | J6: =IF(I6='17년일입'!AA6,"OK","@@") -> @@ | K6: =SUM(K7:K8) -> 34729821 | L6: =IF(K6='17년일출'!AB6,"OK","@@") -> OK
A7: 자체 도비 | B7: =SUMIFS('17년일입'!V6:V107,'17년일입'!T6:T107,"도비") -> 229821 | D7: =SUMIFS('17년일출'!$W$6:$W$925,'17년일출'!$U$6:$U$925,"도비") -> 45042227 | H7: 자체 도비 | I7: =SUMIFS('17년일입'!AA6:AA107,'17년일입'!Y6:Y107,"국비") -> 0 | K7: =SUMIFS('17년일출'!$AB$6:$AB$925,'17년일출'!$Z$6:$Z$925,"도비") -> 26779611
A8: 의존 매칭 도비 | B8: =SUMIFS('17년일입'!V6:V107,'17년일입'!T6:T107,"국비")+SUMIFS('17년일입'!V6:V107,'17년일입'!T6:T107,"지특")+SUMIFS('17년일입'!V6:V107,'17년일입'!T6:T107,"기금")+SUMIFS('17년일입'!V6:V107,'17년일입'!T6:T107,"특교") -> 0 | D8: =SUMIFS('17년일출'!$W$6:$W$925,'17년일출'!$U$6:$U$925,"국비")+SUMIFS('17년일출'!$W$6:$W$925,'17년일출'!$U$6:$U$925,"지특")+SUMIFS('17년일출'!$W$6:$W$925,'17년일출'!$U$6:$U$925,"기금")+SUMIFS('17년일출'!$W$6:$W$925,'17년일출'!$U$6:$U$925,"특교") -> 5037361 | H8: 의존 매칭 도비 | I8: =SUMIFS('17년일입'!AA6:AA107,'17년일입'!Y6:Y107,"국비")+SUMIFS('17년일입'!AA6:AA107,'17년일입'!Y6:Y107,"지특")+SUMIFS('17년일입'!AA6:AA107,'17년일입'!Y6:Y107,"기금")+SUMIFS('17년일입'!AA6:AA107,'17년일입'!Y6:Y107,"특교") -> 0 | K8: =SUMIFS('17년일출'!$AB$6:$AB$925,'17년일출'!$Z$6:$Z$925,"국비")+SUMIFS('17년일출'!$AB$6:$AB$925,'17년일출'!$Z$6:$Z$925,"지특")+SUMIFS('17년일출'!$AB$6:$AB$925,'17년일출'!$Z$6:$Z$925,"기금")+SUMIFS('17년일출'!$AB$6:$AB$925,'17년일출'!$Z$6:$Z$925,"특교") -> 7950210
A9: 의존 계 | B9: =SUM(B10:B13) -> 0 | C9: =IF(B9='17년일입'!U6,"OK","@@") -> @@ | D9: =SUM(D10:D13) -> 5037361 | E9: =IF(D9='17년일출'!V6,"OK","@@") -> @@ | F9: =SUM(F10:F13) -> 5037361 | H9: 의존 계 | I9: =SUM(I10:I13) -> 0 | J9: =IF(I9='17년일입'!U6,"OK","@@") -> @@ | K9: =SUM(K10:K13) -> 7950210 | L9: =IF(K9='17년일출'!AA6,"OK","@@") -> @@ | M9: =SUM(M10:M13) -> 7950210
A10: 국비 | B10: =SUMIFS('17년일입'!$V$6:$V$107,'17년일입'!$T$6:$T$107,검증!A10) -> 0 | D10: =SUMIFS('17년일출'!$W$6:$W$925,'17년일출'!$U$6:$U$925,검증!A10) -> 269592 | F10: =D10-B10 -> 269592 | H10: 국비 | I10: =SUMIFS('17년일입'!$AA$6:$AA$107,'17년일입'!$Y$6:$Y$107,검증!H10) -> 0 | K10: =SUMIFS('17년일출'!$AB$6:$AB$925,'17년일출'!$Z$6:$Z$925,검증!H10) -> 4172553 | M10: =K10-I10 -> 4172553
A11: 지특 | B11: =SUMIFS('17년일입'!$V$6:$V$107,'17년일입'!$T$6:$T$107,검증!A11) -> 0 | D11: =SUMIFS('17년일출'!$W$6:$W$925,'17년일출'!$U$6:$U$925,검증!A11) -> 3200000 | F11: =D11-B11 -> 3200000 | H11: 지특 | I11: =SUMIFS('17년일입'!$AA$6:$AA$107,'17년일입'!$Y$6:$Y$107,검증!H11) -> 0 | K11: =SUMIFS('17년일출'!$AB$6:$AB$925,'17년일출'!$Z$6:$Z$925,검증!H11) -> 2201000 | M11: =K11-I11 -> 2201000
A12: 기금 | B12: =SUMIFS('17년일입'!$V$6:$V$107,'17년일입'!$T$6:$T$107,검증!A12) -> 0 | D12: =SUMIFS('17년일출'!$W$6:$W$925,'17년일출'!$U$6:$U$925,검증!A12) -> 1567769 | F12: =D12-B12 -> 1567769 | H12: 기금 | I12: =SUMIFS('17년일입'!$AA$6:$AA$107,'17년일입'!$Y$6:$Y$107,검증!H12) -> 0 | K12: =SUMIFS('17년일출'!$AB$6:$AB$925,'17년일출'!$Z$6:$Z$925,검증!H12) -> 1576657 | M12: =K12-I12 -> 1576657
A13: 특교 | B13: =SUMIFS('17년일입'!$V$6:$V$107,'17년일입'!$T$6:$T$107,검증!A13) -> 0 | D13: =SUMIFS('17년일출'!$W$6:$W$925,'17년일출'!$U$6:$U$925,검증!A13) -> 0 | F13: =D13-B13 -> 0 | H13: 특교 | I13: =SUMIFS('17년일입'!$AA$6:$AA$107,'17년일입'!$Y$6:$Y$107,검증!H13) -> 0 | K13: =SUMIFS('17년일출'!$AB$6:$AB$925,'17년일출'!$Z$6:$Z$925,검증!H13) -> 0 | M13: =K13-I13 -> 0

Sheet 총괄표
A1: 2017년도 일반 및 특별회계 세입·세출 예산안(전체예산총괄)
A3: □ 총 괄 | C3: 세입예산 증감 | D3: =SUM(C7:D7) -> 76118159 | F3: 세출예산증감 | G3: =SUM(F7:G7) -> 76118159
F4: ※ 예비비 증감 | I4: (단위 : 천원)
A5: 구 분 | B5: 집행부제출(안) | C5: 세입예산(안) | F5: 세출예산(안) | I5: 수정예산(안) | K5: ※ 예산안 증감현황
C6: 감 액 | D6: 증 액 | E6: 증감액 | F6: 감 액 | G6: 증 액 | H6: 증감액 | K6: 구 분 | L6: 세입 | M6: 세출 | N6: 예비비 | O6: 비고(???)
A7: 합 계 | B7: =SUM(B8:B17) -> 19594151914 | C7: =SUM(C8:C17) -> -30606193 | D7: =SUM(D8:D17) -> 106724352 | E7: =SUM(E8:E17) -> 76118159 | F7: =SUM(F8:F17) -> -465701779 | G7: =SUM(G8:G17) -> 541819938 | H7: =SUM(H8:H17) -> 76118159 | I7: =SUM(I8:I17) -> 19670270073 | K7: 합 계 | L7: =SUM(L8:L9) -> 76118159 | M7: =SUM(M8:M9) -> 76118159 | N7: =L7-M7 -> 0
A8: 의회운영위원회 | B8: =B31 -> 62112318 | C8: =SUMIFS('17년일입'!L$6:L$107,'17년일입'!$A$6:$A$107,총괄표!$A8)+SUMIFS('17년특입'!L$6:L$16,'17년특입'!$A$6:$A$16,총괄표!$A8) -> 0 | D8: =SUMIFS('17년일입'!M$6:M$107,'17년일입'!$A$6:$A$107,총괄표!$A8)+SUMIFS('17년특입'!M$6:M$16,'17년특입'!$A$6:$A$16,총괄표!$A8) -> 0 | E8: =D8+C8 -> 0 | F8: =SUMIFS('17년일출'!N$6:N$925,'17년일출'!$B$6:$B$925,총괄표!$A8)+SUMIFS('17년특출'!M$6:M$123,'17년특출'!$A$6:$A$123,총괄표!$A8) -> -1533825 | G8: =SUMIFS('17년일출'!O$6:O$925,'17년일출'!$B$6:$B$925,총괄표!$A8)+SUMIFS('17년특출'!N$6:N$123,'17년특출'!$A$6:$A$123,총괄표!$A8) -> 1743503 | H8: =G8+F8 -> 209678 | I8: =B8+F8+G8 -> 62321996 | K8: 일반회계 | L8: =SUM(C24:D24) -> 62124564 | M8: =SUM(F24:G24) -> 62124564 | N8: =L8-M8 -> 0 | O8: 예비비 증감 - 감액, + 증액에 입력
A9: 기획재정위원회 | B9: =B32 -> 3673354850 | C9: =SUMIFS('17년일입'!L$6:L$107,'17년일입'!$A$6:$A$107,총괄표!$A9)+SUMIFS('17년특입'!L$6:L$16,'17년특입'!$A$6:$A$16,총괄표!$A9) -> -5000 | D9: =SUMIFS('17년일입'!M$6:M$107,'17년일입'!$A$6:$A$107,총괄표!$A9)+SUMIFS('17년특입'!M$6:M$16,'17년특입'!$A$6:$A$16,총괄표!$A9) -> 0 | E9: =D9+C9 -> -5000 | F9: =SUMIFS('17년일출'!N$6:N$925,'17년일출'!$B$6:$B$925,총괄표!$A9)+SUMIFS('17년특출'!M$6:M$123,'17년특출'!$A$6:$A$123,총괄표!$A9) -> -16479812 | G9: =SUMIFS('17년일출'!O$6:O$925,'17년일출'!$B$6:$B$925,총괄표!$A9)+SUMIFS('17년특출'!N$6:N$123,'17년특출'!$A$6:$A$123,총괄표!$A9) -> 21860000 | H9: =G9+F9 -> 5380188 | I9: =B9+F9+G9 -> 3678735038 | K9: 특별회계 | L9: =SUM(C25:D25) -> 13993595 | M9: =SUM(F25:G25) -> 13993595 | N9: =L9-M9 -> 0
A10: 경제과학기술위원회 | B10: =B33 -> 531075895 | C10: =SUMIFS('17년일입'!L$6:L$107,'17년일입'!$A$6:$A$107,총괄표!$A10)+SUMIFS('17년특입'!L$6:L$16,'17년특입'!$A$6:$A$16,총괄표!$A10) -> 0 | D10: =SUMIFS('17년일입'!M$6:M$107,'17년일입'!$A$6:$A$107,총괄표!$A10)+SUMIFS('17년특입'!M$6:M$16,'17년특입'!$A$6:$A$16,총괄표!$A10) -> 1624686 | E10: =D10+C10 -> 1624686 | F10: =SUMIFS('17년일출'!N$6:N$925,'17년일출'!$B$6:$B$925,총괄표!$A10)+SUMIFS('17년특출'!M$6:M$123,'17년특출'!$A$6:$A$123,총괄표!$A10) -> -17961965 | G10: =SUMIFS('17년일출'!O$6:O$925,'17년일출'!$B$6:$B$925,총괄표!$A10)+SUMIFS('17년특출'!N$6:N$123,'17년특출'!$A$6:$A$123,총괄표!$A10) -> 19529686 | H10: =G10+F10 -> 1567721 | I10: =B10+F10+G10 -> 532643616
A11: 안전행정위원회 | B11: =B34 -> 2641290086 | C11: =SUMIFS('17년일입'!L$6:L$107,'17년일입'!$A$6:$A$107,총괄표!$A11)+SUMIFS('17년특입'!L$6:L$16,'17년특입'!$A$6:$A$16,총괄표!$A11) -> -25000 | D11: =SUMIFS('17년일입'!M$6:M$107,'17년일입'!$A$6:$A$107,총괄표!$A11)+SUMIFS('17년특입'!M$6:M$16,'17년특입'!$A$6:$A$16,총괄표!$A11) -> 31055000 | E11: =D11+C11 -> 31030000 | F11: =SUMIFS('17년일출'!N$6:N$925,'17년일출'!$B$6:$B$925,총괄표!$A11)+SUMIFS('17년특출'!M$6:M$123,'17년특출'!$A$6:$A$123,총괄표!$A11) -> -319834948 | G11: =SUMIFS('17년일출'!O$6:O$925,'17년일출'!$B$6:$B$925,총괄표!$A11)+SUMIFS('17년특출'!N$6:N$123,'17년특출'!$A$6:$A$123,총괄표!$A11) -> 308310198 | H11: =G11+F11 -> -11524750 | I11: =B11+F11+G11 -> 2629765336
A12: 문화체육관광위원회 | B12: =B35 -> 445335304 | C12: =SUMIFS('17년일입'!L$6:L$107,'17년일입'!$A$6:$A$107,총괄표!$A12)+SUMIFS('17년특입'!L$6:L$16,'17년특입'!$A$6:$A$16,총괄표!$A12) -> -159500 | D12: =SUMIFS('17년일입'!M$6:M$107,'17년일입'!$A$6:$A$107,총괄표!$A12)+SUMIFS('17년특입'!M$6:M$16,'17년특입'!$A$6:$A$16,총괄표!$A12) -> 187190 | E12: =D12+C12 -> 27690 | F12: =SUMIFS('17년일출'!N$6:N$925,'17년일출'!$B$6:$B$925,총괄표!$A12)+SUMIFS('17년특출'!M$6:M$123,'17년특출'!$A$6:$A$123,총괄표!$A12) -> -14181700 | G12: =SUMIFS('17년일출'!O$6:O$925,'17년일출'!$B$6:$B$925,총괄표!$A12)+SUMIFS('17년특출'!N$6:N$123,'17년특출'!$A$6:$A$123,총괄표!$A12) -> 23658835 | H12: =G12+F12 -> 9477135 | I12: =B12+F12+G12 -> 454812439
A13: 농정해양위원회 | B13: =B36 -> 558747860 | C13: =SUMIFS('17년일입'!L$6:L$107,'17년일입'!$A$6:$A$107,총괄표!$A13)+SUMIFS('17년특입'!L$6:L$16,'17년특입'!$A$6:$A$16,총괄표!$A13) -> -2361190 | D13: =SUMIFS('17년일입'!M$6:M$107,'17년일입'!$A$6:$A$107,총괄표!$A13)+SUMIFS('17년특입'!M$6:M$16,'17년특입'!$A$6:$A$16,총괄표!$A13) -> 5815001 | E13: =D13+C13 -> 3453811 | F13: =SUMIFS('17년일출'!N$6:N$925,'17년일출'!$B$6:$B$925,총괄표!$A13)+SUMIFS('17년특출'!M$6:M$123,'17년특출'!$A$6:$A$123,총괄표!$A13) -> -15820671 | G13: =SUMIFS('17년일출'!O$6:O$925,'17년일출'!$B$6:$B$925,총괄표!$A13)+SUMIFS('17년특출'!N$6:N$123,'17년특출'!$A$6:$A$123,총괄표!$A13) -> 20546355 | H13: =G13+F13 -> 4725684 | I13: =B13+F13+G13 -> 563473544
A14: 보건복지위원회 | B14: =B37 -> 4266022077 | C14: =SUMIFS('17년일입'!L$6:L$107,'17년일입'!$A$6:$A$107,총괄표!$A14)+SUMIFS('17년특입'!L$6:L$16,'17년특입'!$A$6:$A$16,총괄표!$A14) -> -2488024 | D14: =SUMIFS('17년일입'!M$6:M$107,'17년일입'!$A$6:$A$107,총괄표!$A14)+SUMIFS('17년특입'!M$6:M$16,'17년특입'!$A$6:$A$16,총괄표!$A14) -> 39305040 | E14: =D14+C14 -> 36817016 | F14: =SUMIFS('17년일출'!N$6:N$925,'17년일출'!$B$6:$B$925,총괄표!$A14)+SUMIFS('17년특출'!M$6:M$123,'17년특출'!$A$6:$A$123,총괄표!$A14) -> -14904410 | G14: =SUMIFS('17년일출'!O$6:O$925,'17년일출'!$B$6:$B$925,총괄표!$A14)+SUMIFS('17년특출'!N$6:N$123,'17년특출'!$A$6:$A$123,총괄표!$A14) -> 60953724 | H14: =G14+F14 -> 46049314 | I14: =B14+F14+G14 -> 4312071391
A15: 건설교통위원회 | B15: =B38 -> 1370751885 | C15: =SUMIFS('17년일입'!L$6:L$107,'17년일입'!$A$6:$A$107,총괄표!$A15)+SUMIFS('17년특입'!L$6:L$16,'17년특입'!$A$6:$A$16,총괄표!$A15) -> 0 | D15: =SUMIFS('17년일입'!M$6:M$107,'17년일입'!$A$6:$A$107,총괄표!$A15)+SUMIFS('17년특입'!M$6:M$16,'17년특입'!$A$6:$A$16,총괄표!$A15) -> 3680000 | E15: =D15+C15 -> 3680000 | F15: =SUMIFS('17년일출'!N$6:N$925,'17년일출'!$B$6:$B$925,총괄표!$A15)+SUMIFS('17년특출'!M$6:M$123,'17년특출'!$A$6:$A$123,총괄표!$A15) -> -28099800 | G15: =SUMIFS('17년일출'!O$6:O$925,'17년일출'!$B$6:$B$925,총괄표!$A15)+SUMIFS('17년특출'!N$6:N$123,'17년특출'!$A$6:$A$123,총괄표!$A15) -> 37881000 | H15: =G15+F15 -> 9781200 | I15: =B15+F15+G15 -> 1380533085
A16: 도시환경위원회 | B16: =B39 -> 1013909638 | C16: =SUMIFS('17년일입'!L$6:L$107,'17년일입'!$A$6:$A$107,총괄표!$A16)+SUMIFS('17년특입'!L$6:L$16,'17년특입'!$A$6:$A$16,총괄표!$A16) -> -1202311 | D16: =SUMIFS('17년일입'!M$6:M$107,'17년일입'!$A$6:$A$107,총괄표!$A16)+SUMIFS('17년특입'!M$6:M$16,'17년특입'!$A$6:$A$16,총괄표!$A16) -> 0 | E16: =D16+C16 -> -1202311 | F16: =SUMIFS('17년일출'!N$6:N$925,'17년일출'!$B$6:$B$925,총괄표!$A16)+SUMIFS('17년특출'!M$6:M$123,'17년특출'!$A$6:$A$123,총괄표!$A16) -> -7026011 | G16: =SUMIFS('17년일출'!O$6:O$925,'17년일출'!$B$6:$B$925,총괄표!$A16)+SUMIFS('17년특출'!N$6:N$123,'17년특출'!$A$6:$A$123,총괄표!$A16) -> 7131000 | H16: =G16+F16 -> 104989 | I16: =B16+F16+G16 -> 1014014627
A17: 여성가족교육협력위원회 | B17: =B40 -> 5031552001 | C17: =SUMIFS('17년일입'!L$6:L$107,'17년일입'!$A$6:$A$107,총괄표!$A17)+SUMIFS('17년특입'!L$6:L$16,'17년특입'!$A$6:$A$16,총괄표!$A17) -> -24365168 | D17: =SUMIFS('17년일입'!M$6:M$107,'17년일입'!$A$6:$A$107,총괄표!$A17)+SUMIFS('17년특입'!M$6:M$16,'17년특입'!$A$6:$A$16,총괄표!$A17) -> 25057435 | E17: =D17+C17 -> 692267 | F17: =SUMIFS('17년일출'!N$6:N$925,'17년일출'!$B$6:$B$925,총괄표!$A17)+SUMIFS('17년특출'!M$6:M$123,'17년특출'!$A$6:$A$123,총괄표!$A17) -> -29858637 | G17: =SUMIFS('17년일출'!O$6:O$925,'17년일출'!$B$6:$B$925,총괄표!$A17)+SUMIFS('17년특출'!N$6:N$123,'17년특출'!$A$6:$A$123,총괄표!$A17) -> 40205637 | H17: =G17+F17 -> 10347000 | I17: =B17+F17+G17 -> 5041899001
A19: □ 회계별 예산 총 규모
I20: (단위 : 천원)
A21: 구 분 | B21: 집행부제출(안) | C21: 세입예산(안) | F21: 세출예산(안) | I21: 수정예산(안) | K21: 세입기준
C22: 감 액 | D22: 증 액 | E22: 증감액 | F22: 감 액 | G22: 증 액 | H22: 증감액 | K22: 수정예산(안) | L22: 세출기준-세입기준
A23: 합 계 | B23: =SUM(B24:B25) -> 19594151914 | C23: =SUM(C24:C25) -> -30606193 | D23: =SUM(D24:D25) -> 106724352 | E23: =SUM(E24:E25) -> 76118159 | F23: =SUM(F24:F25) -> -465701779 | G23: =SUM(G24:G25) -> 541819938 | H23: =SUM(H24:H25) -> 76118159 | I23: =SUM(I24:I25) -> 19670270073 | K23: =SUM(K24:K25) -> 19670270073 | L23: =I23-K23 -> 0
A24: 일반회계 | B24: =D30 -> 16913644406 | C24: ='17년일입'!L6 -> -30581193 | D24: ='17년일입'!M6 -> 92705757 | E24: =D24+C24 -> 62124564 | F24: ='17년일출'!N6 -> -156618923 | G24: ='17년일출'!O6 -> 218743487 | H24: =G24+F24 -> 62124564 | I24: =B24+F24+G24 -> 16975768970 | K24: =B24+C24+D24 -> 16975768970 | L24: =I24-K24 -> 0
A25: 특별회계 | B25: =E30+F30 -> 2680507508 | C25: ='17년특입'!L6 -> -25000 | D25: ='17년특입'!M6 -> 14018595 | E25: =D25+C25 -> 13993595 | F25: ='17년특출'!M6 -> -309082856 | G25: ='17년특출'!N6 -> 323076451 | H25: =G25+F25 -> 13993595 | I25: =B25+F25+G25 -> 2694501103 | K25: =B25+C25+D25 -> 2694501103 | L25: =I25-K25 -> 0
A28: ※ 회계별, 위원회별 집행부제출안(상임위에서 작성)
A29: 위원회명 | B29: 합계 | C29: 일반+기타 | D29: 일반회계 | E29: 기타특별회계 | F29: 공기업특별회계
A30: 합계 | B30: =SUM(B31:B40) -> 19594151914 | C30: =SUM(C31:C40) -> 17278110280 | D30: =SUM(D31:D40) -> 16913644406 | E30: =SUM(E31:E40) -> 2316041634 | F30: =SUM(F31:F40) -> 364465874
A31: 의회운영위원회 | B31: =SUM(D31:G31) -> 62112318 | C31: =D31+F31 -> 62112318 | D31: 62112318
A32: 기획재정위원회 | B32: =SUM(D32:G32) -> 3673354850 | C32: =D32+F32 -> 3621944850 | D32: 3621944850 | E32: 51410000
A33: 경제과학기술위원회 | B33: =SUM(D33:G33) -> 531075895 | C33: =D33+F33 -> 531075895 | D33: 311459051 | F33: 219616844
A34: 안전행정위원회 | B34: =SUM(D34:G34) -> 2641290086 | C34: =D34+F34 -> 1496383748 | D34: 1496383748 | E34: 1144906338
A35: 문화체육관광위원회 | B35: =SUM(D35:G35) -> 445335304 | C35: =D35+F35 -> 445335304 | D35: 319486274 | F35: 125849030
A36: 농정해양위원회 | B36: =SUM(D36:G36) -> 558747860 | C36: =D36+F36 -> 558747860 | D36: 558747860
A37: 보건복지위원회 | B37: =SUM(D37:G37) -> 4266022077 | C37: =D37+F37 -> 3324744279 | D37: 3324744279 | E37: 941277798
A38: 건설교통위원회 | B38: =SUM(D38:G38) -> 1370751885 | C38: =D38+F38 -> 1249182545 | D38: 1249182545 | E38: 121569340
A39: 도시환경위원회 | B39: =SUM(D39:G39) -> 1013909638 | C39: =D39+F39 -> 992531480 | D39: 973531480 | E39: 21378158 | F39: 19000000
A40: 여성가족교육협력위원회 | B40: =SUM(D40:G40) -> 5031552001 | C40: =D40+F40 -> 4996052001 | D40: =2025251432+722845262+2247955307 -> 4996052001 | E40: 35500000
A42: 예비비

Sheet 17년일입
A1: 2017년도 경기도 일반회계 세입 예산 조정(안)
A2: □ 세입예산 | N2: =N6-H6 -> 62124564 | U2: 세입=세출 | Z2: 세입=세출
P3: (단위 : 천원) | U3: =IF(U6='17년일출'!V6,"OK","@@") -> OK | W3: =IF(COUNTIF(W6:W107,"검토")>0,"@@","OK") -> OK | Z3: =IF(Z6='17년일출'!AA6,"OK","@@") -> OK | AA3: =L6+M6-Z6-AA6 -> 0 | AB3: =IF(COUNTIF(AB6:AB107,"검토")>0,"@@","OK") -> OK
A4: 위원회명 | B4: 실국명 | C4: 부서명 | D4: 편성 구분 | E4: 예산안 페이지 | F4: 사업설명서페이지 | G4: 목명 및 부기명 | H4: 예산안 (가) | I4: 상임위 예산안 조정액(나) | K4: 상임위 조정 예산안 (다=가+나) | L4: 예결위 예산안 조정액(라) | N4: 예결위 조정 예산안 (마=가+라) | O4: 동의 대상 | P4: 비고 (부대의견) | R4: 국도비 등 여부 | T4: 재원 | U4: 상임위 재원별 증감액 | Y4: 재원 | Z4: 예결위 재원별 증감액 | AD4: 세입번호 | AF4: 실국부서 코드 | AH4: 추가 내시 등 | AJ4: 상임위 세입 검증 | AN4: 예결위 세입 검증
I5: 감액 | J5: 증액 | L5: 감액 | M5: 증액 | U5: 국비 등 | V5: 도비 | W5: 검증 | Z5: 국비 등 | AA5: 도비 | AB5: 검증 | AJ5: 국비 증감액 | AK5: 건수 | AL5: 검증 | AN5: 국비 증감액 | AO5: 건수 | AP5: 검증
A6: 합 계 | H6: =SUBTOTAL(9,H7:H107) -> 1271951530 | I6: =SUBTOTAL(9,I7:I107) -> -5846418 | J6: =SUBTOTAL(9,J7:J107) -> 12242894 | K6: =SUBTOTAL(9,K7:K107) -> 1278348006 | L6: =SUBTOTAL(9,L7:L107) -> -30581193 | M6: =SUBTOTAL(9,M7:M107) -> 92705757 | N6: =SUBTOTAL(9,N7:N107) -> 1334076094 | U6: =SUBTOTAL(9,U7:U107) -> 6166655 | V6: =SUBTOTAL(9,V7:V107) -> 229821 | W6: =IF(SUM($I6:$J6)=SUM($U6:$V6),"OK","검토") -> OK | Z6: =SUBTOTAL(9,Z7:Z107) -> 27394743 | AA6: =SUBTOTAL(9,AA7:AA107) -> 34729821 | AB6: =IF(SUM($I6:$J6)=SUM($U6:$V6),"OK","검토") -> OK | AJ6: =SUBTOTAL(9,AJ7:AJ107) -> 6166655 | AK6: =SUBTOTAL(9,AK7:AK107) -> 1605 | AL6: =IF(COUNTIF(AL7:AL107,"@@")>0,"@@","OK") -> @@ | AN6: =SUBTOTAL(9,AN7:AN107) -> 27394743 | AO6: =SUBTOTAL(9,AO7:AO107) -> 1605 | AP6: =IF(COUNTIF(AP7:AP107,"@@")>0,"@@","OK") -> @@
A7: =IFERROR(VLOOKUP($C7,구분표!$A$2:$C$313,2,FALSE),"") -> 경제과학기술위원회 | B7: =IFERROR(VLOOKUP($C7,구분표!$A$2:$C$313,3,FALSE),"") -> 경제실 | C7: 에너지과 | D7: 신규 | F7: 17 | G7: 국고보조금 - 베란다형태양광 보급지원사업 | J7: 298686 | K7: =SUM(H7:J7) -> 298686 | M7: 298686 | N7: =SUM(H7,L7,M7) -> 298686 | O7: =IF(AND((K7=0),(N7>0)),"O",IF(AND((I7<0),(K7-N7<0)),"O","X")) -> X | P7: 국비내시 | R7: 국도비 | T7: 국비 | U7: 298686 | V7: 0 | W7: =IF(SUM($I7:$J7)=SUM($U7:$V7),"OK","검토") -> OK | Y7: 국비 | Z7: 298686 | AA7: 0 | AB7: =IF(SUM(L7:M7)=SUM(Z7:AA7),"OK","검토") -> OK | AD7: =IF(AF7="","",IF(T7="도비","세입없음",CONCATENATE(AF7,"-",COUNTIF($AF$7:AF7,AF7)))) -> 0139-1 | AF7: {=IF(C7="","",INDEX(구분표!$I$2:$I$313, MATCH(1,(구분표!$E$2:$E$313='17년일입'!B7)*(구분표!$F$2:$F$313='17년일입'!C7)*(구분표!$G$2:$G$313='17년일입'!A7),0)))} -> 0139 | AJ7: =IF(AD7="",0,SUMIFS('17년일출'!$V$6:$V$925,'17년일출'!$AE$6:$AE$925,'17년일입'!$AD7)) -> 298686 | AK7: =IF(AD7="","",COUNTIFS('17년일출'!$AE$6:$AE$925,'17년일입'!AD7)) -> 2 | AL7: =IF(U7=AJ7,"OK","@@") -> OK | AN7: =IF(AD7="",0,SUMIFS('17년일출'!$AA$6:$AA$925,'17년일출'!$AE$6:$AE$925,'17년일입'!$AD7)) -> 298686 | AO7: =IF(AD7="","",COUNTIFS('17년일출'!$AE$6:$AE$925,AD7)) -> 2 | AP7: =IF(Z7=AN7,"OK","@@") -> OK
A8: 경제과학기술위원회 | B8: =IFERROR(VLOOKUP($C8,구분표!$A$2:$C$313,3,FALSE),"") -> 따복공동체지원단 | C8: 따복공동체지원단 | D8: 본예산 | E8: 229 | F8: 7 | G8: 국고보조금 - 사회개발비 등 사회적기업 육성 | H8: 1794000 | J8: 325000 | K8: =SUM(H8:J8) -> 2119000 | M8: 325000 | N8: =SUM(H8,L8,M8) -> 2119000 | O8: =IF(AND((K8=0),(N8>0)),"O",IF(AND((I8<0),(K8-N8<0)),"O","X")) -> X | P8: 국비내시 | R8: 국도비 | T8: 국비 | U8: 325000 | V8: 0 | W8: =IF(SUM($I8:$J8)=SUM($U8:$V8),"OK","검토") -> OK | Y8: 국비 | Z8: 325000 | AA8: 0 | AB8: =IF(SUM(L8:M8)=SUM(Z8:AA8),"OK","검토") -> OK | AD8: =IF(AF8="","",IF(T8="도비","세입없음",CONCATENATE(AF8,"-",COUNTIF($AF$7:AF8,AF8)))) -> 0149-1 | AF8: {=IF(C8="","",INDEX(구분표!$I$2:$I$313, MATCH(1,(구분표!$E$2:$E$313='17년일입'!B8)*(구분표!$F$2:$F$313='17년일입'!C8)*(구분표!$G$2:$G$313='17년일입'!A8),0)))} -> 0149 | AJ8: =IF(AD8="",0,SUMIFS('17년일출'!$V$6:$V$925,'17년일출'!$AE$6:$AE$925,'17년일입'!$AD8)) -> 325000 | AK8: =IF(AD8="","",COUNTIFS('17년일출'!$AE$6:$AE$925,'17년일입'!AD8)) -> 2 | AL8: =IF(U8=AJ8,"OK","@@") -> OK | AN8: =IF(AD8="",0,SUMIFS('17년일출'!$AA$6:$AA$925,'17년일출'!$AE$6:$AE$925,'17년일입'!$AD8)) -> 325000 | AO8: =IF(AD8="","",COUNTIFS('17년일출'!$AE$6:$AE$925,AD8)) -> 2 | AP8: =IF(Z8=AN8,"OK","@@") -> OK
A9: =IFERROR(VLOOKUP($C9,구분표!$A$2:$C$313,2,FALSE),"") -> 안전행정위원회 | B9: =IFERROR(VLOOKUP($C9,구분표!$A$2:$C$313,3,FALSE),"") -> 자치행정국 | C9: 총무과 | D9: 신규 | G9: 기타사용료 - 굿모닝하우스 게스트하우스 숙박료 수입 | H9: 0 | J9: 55000 | K9: =SUM(H9:J9) -> 55000 | M9: 55000 | N9: =SUM(H9,L9,M9) -> 55000 | O9: =IF(AND((K9=0),(N9>0)),"O",IF(AND((I9<0),(K9-N9<0)),"O","X")) -> X | R9: 도비 | T9: 도비 | U9: 0 | V9: 55000 | W9: =IF(SUM($I9:$J9)=SUM($U9:$V9),"OK","검토") -> OK | Y9: 도비 | Z9: 0 | AA9: 55000 | AB9: =IF(SUM(L9:M9)=SUM(Z9:AA9),"OK","검토") -> OK | AF9: {=IF(C9="","",INDEX(구분표!$I$2:$I$313, MATCH(1,(구분표!$E$2:$E$313='17년일입'!B9)*(구분표!$F$2:$F$313='17년일입'!C9)*(구분표!$G$2:$G$313='17년일입'!A9),0)))} -> 0150 | AJ9: =IF(AD9="",0,SUMIFS('17년일출'!$V$6:$V$925,'17년일출'!$AE$6:$AE$925,'17년일입'!$AD9)) -> 0 | AK9: =IF(AD9="","",COUNTIFS('17년일출'!$AE$6:$AE$925,'17년일입'!AD9)) | AL9: =IF(U9=AJ9,"OK","@@") -> OK | AN9: =IF(AD9="",0,SUMIFS('17년일출'!$AA$6:$AA$925,'17년일출'!$AE$6:$AE$925,'17년일입'!$AD9)) -> 0 | AO9: =IF(AD9="","",COUNTIFS('17년일출'!$AE$6:$AE$925,AD9)) | AP9: =IF(Z9=AN9,"OK","@@") -> OK
A10: =IFERROR(VLOOKUP($C10,구분표!$A$2:$C$313,2,FALSE),"") -> 문화체육관광위원회 | B10: =IFERROR(VLOOKUP($C10,구분표!$A$2:$C$313,3,FALSE),"") -> 문화체육관광국 | C10: 문화유산과 | D10: 본예산 | E10: 557 | F10: - | G10: 국고보조금 - 세계유산 활용 및 홍보사업(남한산성) | H10: 100000 | I10: -100000 | K10: =SUM(H10:J10) -> 0 | L10: -100000 | N10: =SUM(H10,L10,M10) -> 0 | O10: =IF(AND((K10=0),(N10>0)),"O",IF(AND((I10<0),(K10-N10<0)),"O","X")) -> X | P10: 부서신설 예산이체 | R10: 국도비 | T10: 국비 | U10: -100000 | V10: 0 | W10: =IF(SUM($I10:$J10)=SUM($U10:$V10),"OK","검토") -> OK | Y10: 국비 | Z10: -100000 | AA10: 0 | AB10: =IF(SUM(L10:M10)=SUM(Z10:AA10),"OK","검토") -> OK | AD10: =IF(AF10="","",IF(T10="도비","세입없음",CONCATENATE(AF10,"-",COUNTIF($AF$7:AF10,AF10)))) -> 0215-1 | AF10: {=IF(C10="","",INDEX(구분표!$I$2:$I$313, MATCH(1,(구분표!$E$2:$E$313='17년일입'!B10)*(구분표!$F$2:$F$313='17년일입'!C10)*(구분표!$G$2:$G$313='17년일입'!A10),0)))} -> 0215 | AJ10: =IF(AD10="",0,SUMIFS('17년일출'!$V$6:$V$925,'17년일출'!$AE$6:$AE$925,'17년일입'!$AD10)) -> 0 | AK10: =IF(AD10="","",COUNTIFS('17년일출'!$AE$6:$AE$925,'17년일입'!AD10)) -> 0 | AL10: =IF(U10=AJ10,"OK","@@") -> @@ | AN10: =IF(AD10="",0,SUMIFS('17년일출'!$AA$6:$AA$925,'17년일출'!$AE$6:$AE$925,'17년일입'!$AD10)) -> 0 | AO10: =IF(AD10="","",COUNTIFS('17년일출'!$AE$6:$AE$925,AD10)) -> 0 | AP10: =IF(Z10=AN10,"OK","@@") -> @@
A11: =IFERROR(VLOOKUP($C11,구분표!$A$2:$C$313,2,FALSE),"") -> 문화체육관광위원회 | B11: =IFERROR(VLOOKUP($C11,구분표!$A$2:$C$313,3,FALSE),"") -> 문화체육관광국 | C11: 남한산성세계유산센터 | D11: 본예산 | E11: 557 | F11: - | G11: 국고보조금 - 세계유산 활용 및 홍보사업(남한산성) | J11: 100000 | K11: =SUM(H11:J11) -> 100000 | M11: 100000 | N11: =SUM(H11,L11,M11) -> 100000 | O11: =IF(AND((K11=0),(N11>0)),"O",IF(AND((I11<0),(K11-N11<0)),"O","X")) -> X | P11: 부서신설 예산이체 | R11: 국도비 | T11: 국비 | U11: 100000 | V11: 0 | W11: =IF(SUM($I11:$J11)=SUM($U11:$V11),"OK","검토") -> OK | Y11: 국비 | Z11: 100000 | AA11: 0 | AB11: =IF(SUM(L11:M11)=SUM(Z11:AA11),"OK","검토") -> OK | AD11: =IF(AF11="","",IF(T11="도비","세입없음",CONCATENATE(AF11,"-",COUNTIF($AF$7:AF11,AF11)))) -> 0219-1 | AF11: {=IF(C11="","",INDEX(구분표!$I$2:$I$313, MATCH(1,(구분표!$E$2:$E$313='17년일입'!B11)*(구분표!$F$2:$F$313='17년일입'!C11)*(구분표!$G$2:$G$313='17년일입'!A11),0)))} -> 0219 | AJ11: =IF(AD11="",0,SUMIFS('17년일출'!$V$6:$V$925,'17년일출'!$AE$6:$AE$925,'17년일입'!$AD11)) -> 0 | AK11: =IF(AD11="","",COUNTIFS('17년일출'!$AE$6:$AE$925,'17년일입'!AD11)) -> 0 | AL11: =IF(U11=AJ11,"OK","@@") -> @@ | AN11: =IF(AD11="",0,SUMIFS('17년일출'!$AA$6:$AA$925,'17년일출'!$AE$6:$AE$925,'17년일입'!$AD11)) -> 0 | AO11: =IF(AD11="","",COUNTIFS('17년일출'!$AE$6:$AE$925,AD11)) -> 0 | AP11: =IF(Z11=AN11,"OK","@@") -> @@
A12: =IFERROR(VLOOKUP($C12,구분표!$A$2:$C$313,2,FALSE),"") -> 문화체육관광위원회 | B12: =IFERROR(VLOOKUP($C12,구분표!$A$2:$C$313,3,FALSE),"") -> 문화체육관광국 | C12: 문화유산과 | D12: 본예산 | E12: 557 | F12: 56 | G12: 기금 - 문화재 방지시설 유지관리 지원 | H12: 170884 | I12: -24500 | K12: =SUM(H12:J12) -> 146384 | L12: -24500 | N12: =SUM(H12,L12,M12) -> 146384 | O12: =IF(AND((K12=0),(N12>0)),"O",IF(AND((I12<0),(K12-N12<0)),"O","X")) -> X | P12: 부서신설 예산이체 | R12: 국도비 | T12: 기금 | U12: -24500 | V12: 0 | W12: =IF(SUM($I12:$J12)=SUM($U12:$V12),"OK","검토") -> OK | Y12: 기금 | Z12: -24500 | AA12: 0 | AB12: =IF(SUM(L12:M12)=SUM(Z12:AA12),"OK","검토") -> OK | AD12: =IF(AF12="","",IF(T12="도비","세입없음",CONCATENATE(AF12,"-",COUNTIF($AF$7:AF12,AF12)))) -> 0215-2 | AF12: {=IF(C12="","",INDEX(구분표!$I$2:$I$313, MATCH(1,(구분표!$E$2:$E$313='17년일입'!B12)*(구분표!$F$2:$F$313='17년일입'!C12)*(구분표!$G$2:$G$313='17년일입'!A12),0)))} -> 0215 | AJ12: =IF(AD12="",0,SUMIFS('17년일출'!$V$6:$V$925,'17년일출'!$AE$6:$AE$925,'17년일입'!$AD12)) -> 0 | AK12: =IF(AD12="","",COUNTIFS('17년일출'!$AE$6:$AE$925,'17년일입'!AD12)) -> 0 | AL12: =IF(U12=AJ12,"OK","@@") -> @@ | AN12: =IF(AD12="",0,SUMIFS('17년일출'!$AA$6:$AA$925,'17년일출'!$AE$6:$AE$925,'17년일입'!$AD12)) -> 0 | AO12: =IF(AD12="","",COUNTIFS('17년일출'!$AE$6:$AE$925,AD12)) -> 0 | AP12: =IF(Z12=AN12,"OK","@@") -> @@
A13: =IFERROR(VLOOKUP($C13,구분표!$A$2:$C$313,2,FALSE),"") -> 문화체육관광위원회 | B13: =IFERROR(VLOOKUP($C13,구분표!$A$2:$C$313,3,FALSE),"") -> 문화체육관광국 | C13: 남한산성세계유산센터 | D13: 본예산 | E13: 557 | F13: 56 | G13: 기금 - 문화재 방지시설 유지관리 지원 | J13: 24500 | K13: =SUM(H13:J13) -> 24500 | M13: 24500 | N13: =SUM(H13,L13,M13) -> 24500 | O13: =IF(AND((K13=0),(N13>0)),"O",IF(AND((I13<0),(K13-N13<0)),"O","X")) -> X | P13: 부서신설 예산이체 | R13: 국도비 | T13: 기금 | U13: 24500 | V13: 0 | W13: =IF(SUM($I13:$J13)=SUM($U13:$V13),"OK","검토") -> OK | Y13: 기금 | Z13: 24500 | AA13: 0 | AB13: =IF(SUM(L13:M13)=SUM(Z13:AA13),"OK","검토") -> OK | AD13: =IF(AF13="","",IF(T13="도비","세입없음",CONCATENATE(AF13,"-",COUNTIF($AF$7:AF13,AF13)))) -> 0219-2 | AF13: {=IF(C13="","",INDEX(구분표!$I$2:$I$313, MATCH(1,(구분표!$E$2:$E$313='17년일입'!B13)*(구분표!$F$2:$F$313='17년일입'!C13)*(구분표!$G$2:$G$313='17년일입'!A13),0)))} -> 0219 | AJ13: =IF(AD13="",0,SUMIFS('17년일출'!$V$6:$V$925,'17년일출'!$AE$6:$AE$925,'17년일입'!$AD13)) -> 0 | AK13: =IF(AD13="","",COUNTIFS('17년일출'!$AE$6:$AE$925,'17년일입'!AD13)) -> 3 | AL13: =IF(U13=AJ13,"OK","@@") -> @@ | AN13: =IF(AD13="",0,SUMIFS('17년일출'!$AA$6:$AA$925,'17년일출'!$AE$6:$AE$925,'17년일입'!$AD13)) -> 0 | AO13: =IF(AD13="","",COUNTIFS('17년일출'!$AE$6:$AE$925,AD13)) -> 3 | AP13: =IF(Z13=AN13,"OK","@@") -> @@
A14: =IFERROR(VLOOKUP($C14,구분표!$A$2:$C$313,2,FALSE),"") -> 문화체육관광위원회 | B14: =IFERROR(VLOOKUP($C14,구분표!$A$2:$C$313,3,FALSE),"") -> 문화체육관광국 | C14: 관광과 | D14: 본예산 | E14: 558 | F14: 73 | G14: 기금 - 문화관광해설사 육성 | H14: 600000 | I14: -35000 | K14: =SUM(H14:J14) -> 565000 | L14: -35000 | N14: =SUM(H14,L14,M14) -> 565000 | O14: =IF(AND((K14=0),(N14>0)),"O",IF(AND((I14<0),(K14-N14<0)),"O","X")) -> X | P14: 국비내시 | R14: 국도비 | T14: 기금 | U14: -35000 | V14: 0 | W14: =IF(SUM($I14:$J14)=SUM($U14:$V14),"OK","검토") -> OK | Y14: 기금 | Z14: -35000 | AA14: 0 | AB14: =IF(SUM(L14:M14)=SUM(Z14:AA14),"OK","검토") -> OK | AD14: =IF(AF14="","",IF(T14="도비","세입없음",CONCATENATE(AF14,"-",COUNTIF($AF$7:AF14,AF14)))) -> 0217-1 | AF14: {=IF(C14="","",INDEX(구분표!$I$2:$I$313, MATCH(1,(구분표!$E$2:$E$313='17년일입'!B14)*(구분표!$F$2:$F$313='17년일입'!C14)*(구분표!$G$2:$G$313='17년일입'!A14),0)))} -> 0217 | AJ14: =IF(AD14="",0,SUMIFS('17년일출'!$V$6:$V$925,'17년일출'!$AE$6:$AE$925,'17년일입'!$AD14)) -> -35000 | AK14: =IF(AD14="","",COUNTIFS('17년일출'!$AE$6:$AE$925,'17년일입'!AD14)) -> 1 | AL14: =IF(U14=AJ14,"OK","@@") -> OK | AN14: =IF(AD14="",0,SUMIFS('17년일출'!$AA$6:$AA$925,'17년일출'!$AE$6:$AE$925,'17년일입'!$AD14)) -> -35000 | AO14: =IF(AD14="","",COUNTIFS('17년일출'!$AE$6:$AE$925,AD14)) -> 1 | AP14: =IF(Z14=AN14,"OK","@@") -> OK
A15: =IFERROR(VLOOKUP($C15,구분표!$A$2:$C$313,2,FALSE),"") -> 농정해양위원회 | B15: =IFERROR(VLOOKUP($C15,구분표!$A$2:$C$313,3,FALSE),"") -> 농정해양국 | C15: 농업정책과 | D15: 본예산 | E15: 611 | F15: 4 | G15: 국고보조금 - 농촌재능나눔 활성화 지원(자치단체) | H15: 50000 | I15: -25000 | K15: =SUM(H15:J15) -> 25000 | L15: -25000 | N15: =SUM(H15,L15,M15) -> 25000 | O15: =IF(AND((K15=0),(N15>0)),"O",IF(AND((I15<0),(K15-N15<0)),"O","X")) -> X | P15: 국비내시 | R15: 국도비 | T15: 국비 | U15: -25000 | V15: 0 | W15: =IF(SUM($I15:$J15)=SUM($U15:$V15),"OK","검토") -> OK | Y15: 국비 | Z15: -25000 | AA15: 0 | AB15: =IF(SUM(L15:M15)=SUM(Z15:AA15),"OK","검토") -> OK | AD15: =IF(AF15="","",IF(T15="도비","세입없음",CONCATENATE(AF15,"-",COUNTIF($AF$7:AF15,AF15)))) -> 0220-1 | AF15: {=IF(C15="","",INDEX(구분표!$I$2:$I$313, MATCH(1,(구분표!$E$2:$E$313='17년일입'!B15)*(구분표!$F$2:$F$313='17년일입'!C15)*(구분표!$G$2:$G$313='17년일입'!A15),0)))} -> 0220 | AJ15: =IF(AD15="",0,SUMIFS('17년일출'!$V$6:$V$925,'17년일출'!$AE$6:$AE$925,'17년일입'!$AD15)) -> -25000 | AK15: =IF(AD15="","",COUNTIFS('17년일출'!$AE$6:$AE$925,'17년일입'!AD15)) -> 1 | AL15: =IF(U15=AJ15,"OK","@@") -> OK | AN15: =IF(AD15="",0,SUMIFS('17년일출'!$AA$6:$AA$925,'17년일출'!$AE$6:$AE$925,'17년일입'!$AD15)) -> -25000 | AO15: =IF(AD15="","",COUNTIFS('17년일출'!$AE$6:$AE$925,AD15)) -> 1 | AP15: =IF(Z15=AN15,"OK","@@") -> OK
A16: =IFERROR(VLOOKUP($C16,구분표!$A$2:$C$313,2,FALSE),"") -> 농정해양위원회 | B16: =IFERROR(VLOOKUP($C16,구분표!$A$2:$C$313,3,FALSE),"") -> 농정해양국 | C16: 친환경농업과 | D16: 본예산 | E16: 614 | F16: 11 | G16: 기금 - 과수생산시설현대화 지원 | H16: 510000 | I16: -41000 | K16: =SUM(H16:J16) -> 469000 | L16: -41000 | N16: =SUM(H16,L16,M16) -> 469000 | O16: =IF(AND((K16=0),(N16>0)),"O",IF(AND((I16<0),(K16-N16<0)),"O","X")) -> X | P16: 국비내시 | R16: 국도비 | T16: 기금 | U16: -41000 | V16: 0 | W16: =IF(SUM($I16:$J16)=SUM($U16:$V16),"OK","검토") -> OK | Y16: 기금 | Z16: -41000 | AA16: 0 | AB16: =IF(SUM(L16:M16)=SUM(Z16:AA16),"OK","검토") -> OK | AD16: =IF(AF16="","",IF(T16="도비","세입없음",CONCATENATE(AF16,"-",COUNTIF($AF$7:AF16,AF16)))) -> 0223-1 | AF16: {=IF(C16="","",INDEX(구분표!$I$2:$I$313, MATCH(1,(구분표!$E$2:$E$313='17년일입'!B16)*(구분표!$F$2:$F$313='17년일입'!C16)*(구분표!$G$2:$G$313='17년일입'!A16),0)))} -> 0223 | AJ16: =IF(AD16="",0,SUMIFS('17년일출'!$V$6:$V$925,'17년일출'!$AE$6:$AE$925,'17년일입'!$AD16)) -> -41000 | AK16: =IF(AD16="","",COUNTIFS('17년일출'!$AE$6:$AE$925,'17년일입'!AD16)) -> 1 | AL16: =IF(U16=AJ16,"OK","@@") -> OK | AN16: =IF(AD16="",0,SUMIFS('17년일출'!$AA$6:$AA$925,'17년일출'!$AE$6:$AE$925,'17년일입'!$AD16)) -> -41000 | AO16: =IF(AD16="","",COUNTIFS('17년일출'!$AE$6:$AE$925,AD16)) -> 1 | AP16: =IF(Z16=AN16,"OK","@@") -> OK
A17: =IFERROR(VLOOKUP($C17,구분표!$A$2:$C$313,2,FALSE),"") -> 농정해양위원회 | B17: =IFERROR(VLOOKUP($C17,구분표!$A$2:$C$313,3,FALSE),"") -> 농정해양국 | C17: 친환경농업과 | D17: 본예산 | E17: 614 | F17: 11 | G17: 기금 - 과수ICT분야 시설보조 | H17: 14000 | I17: -2000 | K17: =SUM(H17:J17) -> 12000 | L17: -2000 | N17: =SUM(H17,L17,M17) -> 12000 | O17: =IF(AND((K17=0),(N17>0)),"O",IF(AND((I17<0),(K17-N17<0)),"O","X")) -> X | P17: 국비내시 | R17: 국도비 | T17: 기금 | U17: -2000 | V17: 0 | W17: =IF(SUM($I17:$J17)=SUM($U17:$V17),"OK","검토") -> OK | Y17: 기금 | Z17: -2000 | AA17: 0 | AB17: =IF(SUM(L17:M17)=SUM(Z17:AA17),"OK","검토") -> OK | AD17: =IF(AF17="","",IF(T17="도비","세입없음",CONCATENATE(AF17,"-",COUNTIF($AF$7:AF17,AF17)))) -> 0223-2 | AF17: {=IF(C17="","",INDEX(구분표!$I$2:$I$313, MATCH(1,(구분표!$E$2:$E$313='17년일입'!B17)*(구분표!$F$2:$F$313='17년일입'!C17)*(구분표!$G$2:$G$313='17년일입'!A17),0)))} -> 0223 | AJ17: =IF(AD17="",0,SUMIFS('17년일출'!$V$6:$V$925,'17년일출'!$AE$6:$AE$925,'17년일입'!$AD17)) -> -2000 | AK17: =IF(AD17="","",COUNTIFS('17년일출'!$AE$6:$AE$925,'17년일입'!AD17)) -> 1 | AL17: =IF(U17=AJ17,"OK","@@") -> OK | AN17: =IF(AD17="",0,SUMIFS('17년일출'!$AA$6:$AA$925,'17년일출'!$AE$6:$AE$925,'17년일입'!$AD17)) -> -2000 | AO17: =IF(AD17="","",COUNTIFS('17년일출'!$AE$6:$AE$925,AD17)) -> 1 | AP17: =IF(Z17=AN17,"OK","@@") -> OK
A18: =IFERROR(VLOOKUP($C18,구분표!$A$2:$C$313,2,FALSE),"") -> 농정해양위원회 | B18: =IFERROR(VLOOKUP($C18,구분표!$A$2:$C$313,3,FALSE),"") -> 농정해양국 | C18: 친환경농업과 | D18: 신규 | G18: 기금 - FTA폐업지원제 | J18: 1811994 | K18: =SUM(H18:J18) -> 1811994 | M18: 1811994 | N18: =SUM(H18,L18,M18) -> 1811994 | O18: =IF(AND((K18=0),(N18>0)),"O",IF(AND((I18<0),(K18-N18<0)),"O","X")) -> X | P18: 국비내시 | R18: 국도비 | T18: 기금 | U18: 1811994 | V18: 0 | W18: =IF(SUM($I18:$J18)=SUM($U18:$V18),"OK","검토") -> OK | Y18: 기금 | Z18: 1811994 | AA18: 0 | AB18: =IF(SUM(L18:M18)=SUM(Z18:AA18),"OK","검토") -> OK | AD18: =IF(AF18="","",IF(T18="도비","세입없음",CONCATENATE(AF18,"-",COUNTIF($AF$7:AF18,AF18)))) -> 0223-3 | AF18: {=IF(C18="","",INDEX(구분표!$I$2:$I$313, MATCH(1,(구분표!$E$2:$E$313='17년일입'!B18)*(구분표!$F$2:$F$313='17년일입'!C18)*(구분표!$G$2:$G$313='17년일입'!A18),0)))} -> 0223 | AJ18: =IF(AD18="",0,SUMIFS('17년일출'!$V$6:$V$925,'17년일출'!$AE$6:$AE$925,'17년일입'!$AD18)) -> 1811994 | AK18: =IF(AD18="","",COUNTIFS('17년일출'!$AE$6:$AE$925,'17년일입'!AD18)) -> 1 | AL18: =IF(U18=AJ18,"OK","@@") -> OK | AN18: =IF(AD18="",0,SUMIFS('17년일출'!$AA$6:$AA$925,'17년일출'!$AE$6:$AE$925,'17년일입'!$AD18)) -> 1811994 | AO18: =IF(AD18="","",COUNTIFS('17년일출'!$AE$6:$AE$925,AD18)) -> 1 | AP18: =IF(Z18=AN18,"OK","@@") -> OK
A19: =IFERROR(VLOOKUP($C19,구분표!$A$2:$C$313,2,FALSE),"") -> 농정해양위원회 | B19: =IFERROR(VLOOKUP($C19,구분표!$A$2:$C$313,3,FALSE),"") -> 농정해양국 | C19: 수산과 | D19: 본예산 | E19: 614 | F19: 12 | G19: 국고보조금 - 어촌체험마을 사무장채용지원사업 | H19: 72000 | I19: -36000 | K19: =SUM(H19:J19) -> 36000 | L19: -36000 | N19: =SUM(H19,L19,M19) -> 36000 | O19: =IF(AND((K19=0),(N19>0)),"O",IF(AND((I19<0),(K19-N19<0)),"O","X")) -> X | P19: 국비내시 | R19: 국도비 | T19: 국비 | U19: -36000 | V19: 0 | W19: =IF(SUM($I19:$J19)=SUM($U19:$V19),"OK","검토") -> OK | Y19: 국비 | Z19: -36000 | AA19: 0 | AB19: =IF(SUM(L19:M19)=SUM(Z19:AA19),"OK","검토") -> OK | AD19: =IF(AF19="","",IF(T19="도비","세입없음",CONCATENATE(AF19,"-",COUNTIF($AF$7:AF19,AF19)))) -> 0224-1 | AF19: {=IF(C19="","",INDEX(구분표!$I$2:$I$313, MATCH(1,(구분표!$E$2:$E$313='17년일입'!B19)*(구분표!$F$2:$F$313='17년일입'!C19)*(구분표!$G$2:$G$313='17년일입'!A19),0)))} -> 0224 | AJ19: =IF(AD19="",0,SUMIFS('17년일출'!$V$6:$V$925,'17년일출'!$AE$6:$AE$925,'17년일입'!$AD19)) -> -36000 | AK19: =IF(AD19="","",COUNTIFS('17년일출'!$AE$6:$AE$925,'17년일입'!AD19)) -> 1 | AL19: =IF(U19=AJ19,"OK","@@") -> OK | AN19: =IF(AD19="",0,SUMIFS('17년일출'!$AA$6:$AA$925,'17년일출'!$AE$6:$AE$925,'17년일입'!$AD19)) -> -36000 | AO19: =IF(AD19="","",COUNTIFS('17년일출'!$AE$6:$AE$925,AD19)) -> 1 | AP19: =IF(Z19=AN19,"OK","@@") -> OK
A20: =IFERROR(VLOOKUP($C20,구분표!$A$2:$C$313,2,FALSE),"") -> 농정해양위원회 | B20: =IFERROR(VLOOKUP($C20,구분표!$A$2:$C$313,3,FALSE),"") -> 농정해양국 | C20: 수산과 | D20: 본예산 | E20: 615 | F20: 12 | G20: 국고보조금 - 이동수리소 운영 | H20: 35000 | I20: -5000 | K20: =SUM(H20:J20) -> 30000 | L20: -5000 | N20: =SUM(H20,L20,M20) -> 30000 | O20: =IF(AND((K20=0),(N20>0)),"O",IF(AND((I20<0),(K20-N20<0)),"O","X")) -> X | P20: 국비내시 | R20: 국도비 | T20: 국비 | U20: -5000 | V20: 0 | W20: =IF(SUM($I20:$J20)=SUM($U20:$V20),"OK","검토") -> OK | Y20: 국비 | Z20: -5000 | AA20: 0 | AB20: =IF(SUM(L20:M20)=SUM(Z20:AA20),"OK","검토") -> OK | AD20: =IF(AF20="","",IF(T20="도비","세입없음",CONCATENATE(AF20,"-",COUNTIF($AF$7:AF20,AF20)))) -> 0224-2 | AF20: {=IF(C20="","",INDEX(구분표!$I$2:$I$313, MATCH(1,(구분표!$E$2:$E$313='17년일입'!B20)*(구분표!$F$2:$F$313='17년일입'!C20)*(구분표!$G$2:$G$313='17년일입'!A20),0)))} -> 0224 | AJ20: =IF(AD20="",0,SUMIFS('17년일출'!$V$6:$V$925,'17년일출'!$AE$6:$AE$925,'17년일입'!$AD20)) -> -5000 | AK20: =IF(AD20="","",COUNTIFS('17년일출'!$AE$6:$AE$925,'17년일입'!AD20)) -> 1 | AL20: =IF(U20=AJ20,"OK","@@") -> OK | AN20: =IF(AD20="",0,SUMIFS('17년일출'!$AA$6:$AA$925,'17년일출'!$AE$6:$AE$925,'17년일입'!$AD20)) -> -5000 | AO20: =IF(AD20="","",COUNTIFS('17년일출'!$AE$6:$AE$925,AD20)) -> 1 | AP20: =IF(Z20=AN20,"OK","@@") -> OK
A21: =IFERROR(VLOOKUP($C21,구분표!$A$2:$C$313,2,FALSE),"") -> 농정해양위원회 | B21: =IFERROR(VLOOKUP($C21,구분표!$A$2:$C$313,3,FALSE),"") -> 농정해양국 | C21: 수산과 | D21: 본예산 | E21: 615 | F21: 12 | G21: 국고보조금 - 연구교습어장 | H21: 35000 | I21: -7000 | K21: =SUM(H21:J21) -> 28000 | L21: -7000 | N21: =SUM(H21,L21,M21) -> 28000 | O21: =IF(AND((K21=0),(N21>0)),"O",IF(AND((I21<0),(K21-N21<0)),"O","X")) -> X | P21: 국비내시 | R21: 국도비 | T21: 국비 | U21: -7000 | V21: 0 | W21: =IF(SUM($I21:$J21)=SUM($U21:$V21),"OK","검토") -> OK | Y21: 국비 | Z21: -7000 | AA21: 0 | AB21: =IF(SUM(L21:M21)=SUM(Z21:AA21),"OK","검토") -> OK | AD21: =IF(AF21="","",IF(T21="도비","세입없음",CONCATENATE(AF21,"-",COUNTIF($AF$7:AF21,AF21)))) -> 0224-3 | AF21: {=IF(C21="","",INDEX(구분표!$I$2:$I$313, MATCH(1,(구분표!$E$2:$E$313='17년일입'!B21)*(구분표!$F$2:$F$313='17년일입'!C21)*(구분표!$G$2:$G$313='17년일입'!A21),0)))} -> 0224 | AJ21: =IF(AD21="",0,SUMIFS('17년일출'!$V$6:$V$925,'17년일출'!$AE$6:$AE$925,'17년일입'!$AD21)) -> -7000 | AK21: =IF(AD21="","",COUNTIFS('17년일출'!$AE$6:$AE$925,'17년일입'!AD21)) -> 2 | AL21: =IF(U21=AJ21,"OK","@@") -> OK | AN21: =IF(AD21="",0,SUMIFS('17년일출'!$AA$6:$AA$925,'17년일출'!$AE$6:$AE$925,'17년일입'!$AD21)) -> -7000 | AO21: =IF(AD21="","",COUNTIFS('17년일출'!$AE$6:$AE$925,AD21)) -> 2 | AP21: =IF(Z21=AN21,"OK","@@") -> OK
A22: =IFERROR(VLOOKUP($C22,구분표!$A$2:$C$313,2,FALSE),"") -> 농정해양위원회 | B22: =IFERROR(VLOOKUP($C22,구분표!$A$2:$C$313,3,FALSE),"") -> 농정해양국 | C22: 농업정책과 | D22: 본예산 | E22: 611 | F22: 4 | G22: 국고보조금 - 지역단위 6차산업 활성화 지원 | H22: 700000 | J22: 90000 | K22: =SUM(H22:J22) -> 790000 | M22: 90000 | N22: =SUM(H22,L22,M22) -> 790000 | O22: =IF(AND((K22=0),(N22>0)),"O",IF(AND((I22<0),(K22-N22<0)),"O","X")) -> X | P22: 국비내시 | R22: 국도비 | T22: 국비 | U22: 90000 | V22: 0 | W22: =IF(SUM($I22:$J22)=SUM($U22:$V22),"OK","검토") -> OK | Y22: 국비 | Z22: 90000 | AA22: 0 | AB22: =IF(SUM(L22:M22)=SUM(Z22:AA22),"OK","검토") -> OK | AD22: =IF(AF22="","",IF(T22="도비","세입없음",CONCATENATE(AF22,"-",COUNTIF($AF$7:AF22,AF22)))) -> 0220-2 | AF22: {=IF(C22="","",INDEX(구분표!$I$2:$I$313, MATCH(1,(구분표!$E$2:$E$313='17년일입'!B22)*(구분표!$F$2:$F$313='17년일입'!C22)*(구분표!$G$2:$G$313='17년일입'!A22),0)))} -> 0220 | AJ22: =IF(AD22="",0,SUMIFS('17년일출'!$V$6:$V$925,'17년일출'!$AE$6:$AE$925,'17년일입'!$AD22)) -> 90000 | AK22: =IF(AD22="","",COUNTIFS('17년일출'!$AE$6:$AE$925,'17년일입'!AD22)) -> 2 | AL22: =IF(U22=AJ22,"OK","@@") -> OK | AN22: =IF(AD22="",0,SUMIFS('17년일출'!$AA$6:$AA$925,'17년일출'!$AE$6:$AE$925,'17년일입'!$AD22)) -> 90000 | AO22: =IF(AD22="","",COUNTIFS('17년일출'!$AE$6:$AE$925,AD22)) -> 2 | AP22: =IF(Z22=AN22,"OK","@@") -> OK
A23: =IFERROR(VLOOKUP($C23,구분표!$A$2:$C$313,2,FALSE),"") -> 농정해양위원회 | B23: =IFERROR(VLOOKUP($C23,구분표!$A$2:$C$313,3,FALSE),"") -> 축산산림국 | C23: 축산정책과 | D23: 본예산 | E23: 681 | G23: 기금 - 가축분뇨액비살포비지원 | H23: 600000 | J23: 80000 | K23: =SUM(H23:J23) -> 680000 | M23: 80000 | N23: =SUM(H23,L23,M23) -> 680000 | O23: =IF(AND((K23=0),(N23>0)),"O",IF(AND((I23<0),(K23-N23<0)),"O","X")) -> X | P23: 국비내시 | R23: 국도비 | T23: 기금 | U23: 80000 | V23: 0 | W23: =IF(SUM($I23:$J23)=SUM($U23:$V23),"OK","검토") -> OK | Y23: 기금 | Z23: 80000 | AA23: 0 | AB23: =IF(SUM(L23:M23)=SUM(Z23:AA23),"OK","검토") -> OK | AD23: =IF(AF23="","",IF(T23="도비","세입없음",CONCATENATE(AF23,"-",COUNTIF($AF$7:AF23,AF23)))) -> 0227-1 | AF23: {=IF(C23="","",INDEX(구분표!$I$2:$I$313, MATCH(1,(구분표!$E$2:$E$313='17년일입'!B23)*(구분표!$F$2:$F$313='17년일입'!C23)*(구분표!$G$2:$G$313='17년일입'!A23),0)))} -> 0227 | AJ23: =IF(AD23="",0,SUMIFS('17년일출'!$V$6:$V$925,'17년일출'!$AE$6:$AE$925,'17년일입'!$AD23)) -> 80000 | AK23: =IF(AD23="","",COUNTIFS('17년일출'!$AE$6:$AE$925,'17년일입'!AD23)) -> 1 | AL23: =IF(U23=AJ23,"OK","@@") -> OK | AN23: =IF(AD23="",0,SUMIFS('17년일출'!$AA$6:$AA$925,'17년일출'!$AE$6:$AE$925,'17년일입'!$AD23)) -> 80000 | AO23: =IF(AD23="","",COUNTIFS('17년일출'!$AE$6:$AE$925,AD23)) -> 1 | AP23: =IF(Z23=AN23,"OK","@@") -> OK
A24: =IFERROR(VLOOKUP($C24,구분표!$A$2:$C$313,2,FALSE),"") -> 농정해양위원회 | B24: =IFERROR(VLOOKUP($C24,구분표!$A$2:$C$313,3,FALSE),"") -> 축산산림국 | C24: 축산정책과 | D24: 본예산 | E24: 681 | G24: 기금 - 가축분뇨퇴액비화지원 | H24: 667450 | I24: -67450 | K24: =SUM(H24:J24) -> 600000 | L24: -67450 | N24: =SUM(H24,L24,M24) -> 600000 | O24: =IF(AND((K24=0),(N24>0)),"O",IF(AND((I24<0),(K24-N24<0)),"O","X")) -> X | P24: 국비내시 | R24: 국도비 | T24: 기금 | U24: -67450 | V24: 0 | W24: =IF(SUM($I24:$J24)=SUM($U24:$V24),"OK","검토") -> OK | Y24: 기금 | Z24: -67450 | AA24: 0 | AB24: =IF(SUM(L24:M24)=SUM(Z24:AA24),"OK","검토") -> OK | AD24: =IF(AF24="","",IF(T24="도비","세입없음",CONCATENATE(AF24,"-",COUNTIF($AF$7:AF24,AF24)))) -> 0227-2 | AF24: {=IF(C24="","",INDEX(구분표!$I$2:$I$313, MATCH(1,(구분표!$E$2:$E$313='17년일입'!B24)*(구분표!$F$2:$F$313='17년일입'!C24)*(구분표!$G$2:$G$313='17년일입'!A24),0)))} -> 0227 | AJ24: =IF(AD24="",0,SUMIFS('17년일출'!$V$6:$V$925,'17년일출'!$AE$6:$AE$925,'17년일입'!$AD24)) -> -67450 | AK24: =IF(AD24="","",COUNTIFS('17년일출'!$AE$6:$AE$925,'17년일입'!AD24)) -> 1 | AL24: =IF(U24=AJ24,"OK","@@") -> OK | AN24: =IF(AD24="",0,SUMIFS('17년일출'!$AA$6:$AA$925,'17년일출'!$AE$6:$AE$925,'17년일입'!$AD24)) -> -67450 | AO24: =IF(AD24="","",COUNTIFS('17년일출'!$AE$6:$AE$925,AD24)) -> 1 | AP24: =IF(Z24=AN24,"OK","@@") -> OK
A25: =IFERROR(VLOOKUP($C25,구분표!$A$2:$C$313,2,FALSE),"") -> 농정해양위원회 | B25: =IFERROR(VLOOKUP($C25,구분표!$A$2:$C$313,3,FALSE),"") -> 축산산림국 | C25: 축산정책과 | D25: 본예산 | E25: 681 | G25: 기금 - 가축분뇨정화개보수지원 | H25: 494000 | I25: -294000 | K25: =SUM(H25:J25) -> 200000 | L25: -294000 | N25: =SUM(H25,L25,M25) -> 200000 | O25: =IF(AND((K25=0),(N25>0)),"O",IF(AND((I25<0),(K25-N25<0)),"O","X")) -> X | P25: 국비내시 | R25: 국도비 | T25: 기금 | U25: -294000 | V25: 0 | W25: =IF(SUM($I25:$J25)=SUM($U25:$V25),"OK","검토") -> OK | Y25: 기금 | Z25: -294000 | AA25: 0 | AB25: =IF(SUM(L25:M25)=SUM(Z25:AA25),"OK","검토") -> OK | AD25: =IF(AF25="","",IF(T25="도비","세입없음",CONCATENATE(AF25,"-",COUNTIF($AF$7:AF25,AF25)))) -> 0227-3 | AF25: {=IF(C25="","",INDEX(구분표!$I$2:$I$313, MATCH(1,(구분표!$E$2:$E$313='17년일입'!B25)*(구분표!$F$2:$F$313='17년일입'!C25)*(구분표!$G$2:$G$313='17년일입'!A25),0)))} -> 0227 | AJ25: =IF(AD25="",0,SUMIFS('17년일출'!$V$6:$V$925,'17년일출'!$AE$6:$AE$925,'17년일입'!$AD25)) -> -294000 | AK25: =IF(AD25="","",COUNTIFS('17년일출'!$AE$6:$AE$925,'17년일입'!AD25)) -> 1 | AL25: =IF(U25=AJ25,"OK","@@") -> OK | AN25: =IF(AD25="",0,SUMIFS('17년일출'!$AA$6:$AA$925,'17년일출'!$AE$6:$AE$925,'17년일입'!$AD25)) -> -294000 | AO25: =IF(AD25="","",COUNTIFS('17년일출'!$AE$6:$AE$925,AD25)) -> 1 | AP25: =IF(Z25=AN25,"OK","@@") -> OK
A26: =IFERROR(VLOOKUP($C26,구분표!$A$2:$C$313,2,FALSE),"") -> 농정해양위원회 | B26: =IFERROR(VLOOKUP($C26,구분표!$A$2:$C$313,3,FALSE),"") -> 축산산림국 | C26: 축산정책과 | D26: 본예산 | E26: 681 | G26: 기금 - 공동자원화퇴액비시설장비지원 | H26: 36000 | I26: -36000 | K26: =SUM(H26:J26) -> 0 | L26: -36000 | N26: =SUM(H26,L26,M26) -> 0 | O26: =IF(AND((K26=0),(N26>0)),"O",IF(AND((I26<0),(K26-N26<0)),"O","X")) -> X | P26: 국비내시 | R26: 국도비 | T26: 기금 | U26: -36000 | V26: 0 | W26: =IF(SUM($I26:$J26)=SUM($U26:$V26),"OK","검토") -> OK | Y26: 기금 | Z26: -36000 | AA26: 0 | AB26: =IF(SUM(L26:M26)=SUM(Z26:AA26),"OK","검토") -> OK | AD26: =IF(AF26="","",IF(T26="도비","세입없음",CONCATENATE(AF26,"-",COUNTIF($AF$7:AF26,AF26)))) -> 0227-4 | AF26: {=IF(C26="","",INDEX(구분표!$I$2:$I$313, MATCH(1,(구분표!$E$2:$E$313='17년일입'!B26)*(구분표!$F$2:$F$313='17년일입'!C26)*(구분표!$G$2:$G$313='17년일입'!A26),0)))} -> 0227 | AJ26: =IF(AD26="",0,SUMIFS('17년일출'!$V$6:$V$925,'17년일출'!$AE$6:$AE$925,'17년일입'!$AD26)) -> -36000 | AK26: =IF(AD26="","",COUNTIFS('17년일출'!$AE$6:$AE$925,'17년일입'!AD26)) -> 1 | AL26: =IF(U26=AJ26,"OK","@@") -> OK | AN26: =IF(AD26="",0,SUMIFS('17년일출'!$AA$6:$AA$925,'17년일출'!$AE$6:$AE$925,'17년일입'!$AD26)) -> -36000 | AO26: =IF(AD26="","",COUNTIFS('17년일출'!$AE$6:$AE$925,AD26)) -> 1 | AP26: =IF(Z26=AN26,"OK","@@") -> OK
A27: =IFERROR(VLOOKUP($C27,구분표!$A$2:$C$313,2,FALSE),"") -> 농정해양위원회 | B27: =IFERROR(VLOOKUP($C27,구분표!$A$2:$C$313,3,FALSE),"") -> 축산산림국 | C27: 축산정책과 | D27: 본예산 | E27: 681 | G27: 기금 - 액비저장조지원 | H27: 669800 | I27: -468800 | K27: =SUM(H27:J27) -> 201000 | L27: -468800 | N27: =SUM(H27,L27,M27) -> 201000 | O27: =IF(AND((K27=0),(N27>0)),"O",IF(AND((I27<0),(K27-N27<0)),"O","X")) -> X | P27: 국비내시 | R27: 국도비 | T27: 기금 | U27: -468800 | V27: 0 | W27: =IF(SUM($I27:$J27)=SUM($U27:$V27),"OK","검토") -> OK | Y27: 기금 | Z27: -468800 | AA27: 0 | AB27: =IF(SUM(L27:M27)=SUM(Z27:AA27),"OK","검토") -> OK | AD27: =IF(AF27="","",IF(T27="도비","세입없음",CONCATENATE(AF27,"-",COUNTIF($AF$7:AF27,AF27)))) -> 0227-5 | AF27: {=IF(C27="","",INDEX(구분표!$I$2:$I$313, MATCH(1,(구분표!$E$2:$E$313='17년일입'!B27)*(구분표!$F$2:$F$313='17년일입'!C27)*(구분표!$G$2:$G$313='17년일입'!A27),0)))} -> 0227 | AJ27: =IF(AD27="",0,SUMIFS('17년일출'!$V$6:$V$925,'17년일출'!$AE$6:$AE$925,'17년일입'!$AD27)) -> -468800 | AK27: =IF(AD27="","",COUNTIFS('17년일출'!$AE$6:$AE$925,'17년일입'!AD27)) -> 1 | AL27: =IF(U27=AJ27,"OK","@@") -> OK | AN27: =IF(AD27="",0,SUMIFS('17년일출'!$AA$6:$AA$925,'17년일출'!$AE$6:$AE$925,'17년일입'!$AD27)) -> -468800 | AO27: =IF(AD27="","",COUNTIFS('17년일출'!$AE$6:$AE$925,AD27)) -> 1 | AP27: =IF(Z27=AN27,"OK","@@") -> OK
A28: =IFERROR(VLOOKUP($C28,구분표!$A$2:$C$313,2,FALSE),"") -> 농정해양위원회 | B28: =IFERROR(VLOOKUP($C28,구분표!$A$2:$C$313,3,FALSE),"") -> 축산산림국 | C28: 축산정책과 | D28: 본예산 | E28: 681 | G28: 기금 - 가축분뇨부숙도판정기지원 | H28: 42000 | I28: -15000 | K28: =SUM(H28:J28) -> 27000 | L28: -15000 | N28: =SUM(H28,L28,M28) -> 27000 | O28: =IF(AND((K28=0),(N28>0)),"O",IF(AND((I28<0),(K28-N28<0)),"O","X")) -> X | P28: 국비내시 | R28: 국도비 | T28: 기금 | U28: -15000 | V28: 0 | W28: =IF(SUM($I28:$J28)=SUM($U28:$V28),"OK","검토") -> OK | Y28: 기금 | Z28: -15000 | AA28: 0 | AB28: =IF(SUM(L28:M28)=SUM(Z28:AA28),"OK","검토") -> OK | AD28: =IF(AF28="","",IF(T28="도비","세입없음",CONCATENATE(AF28,"-",COUNTIF($AF$7:AF28,AF28)))) -> 0227-6 | AF28: {=IF(C28="","",INDEX(구분표!$I$2:$I$313, MATCH(1,(구분표!$E$2:$E$313='17년일입'!B28)*(구분표!$F$2:$F$313='17년일입'!C28)*(구분표!$G$2:$G$313='17년일입'!A28),0)))} -> 0227 | AJ28: =IF(AD28="",0,SUMIFS('17년일출'!$V$6:$V$925,'17년일출'!$AE$6:$AE$925,'17년일입'!$AD28)) -> -15000 | AK28: =IF(AD28="","",COUNTIFS('17년일출'!$AE$6:$AE$925,'17년일입'!AD28)) -> 1 | AL28: =IF(U28=AJ28,"OK","@@") -> OK | AN28: =IF(AD28="",0,SUMIFS('17년일출'!$AA$6:$AA$925,'17년일출'!$AE$6:$AE$925,'17년일입'!$AD28)) -> -15000 | AO28: =IF(AD28="","",COUNTIFS('17년일출'!$AE$6:$AE$925,AD28)) -> 1 | AP28: =IF(Z28=AN28,"OK","@@") -> OK
A29: =IFERROR(VLOOKUP($C29,구분표!$A$2:$C$313,2,FALSE),"") -> 농정해양위원회 | B29: =IFERROR(VLOOKUP($C29,구분표!$A$2:$C$313,3,FALSE),"") -> 축산산림국 | C29: 축산정책과 | D29: 신규 | G29: 기금 - 정착촌가축분뇨처리시설장비지원 | J29: 65000 | K29: =SUM(H29:J29) -> 65000 | M29: 65000 | N29: =SUM(H29,L29,M29) -> 65000 | O29: =IF(AND((K29=0),(N29>0)),"O",IF(AND((I29<0),(K29-N29<0)),"O","X")) -> X | P29: 국비내시 | R29: 국도비 | T29: 기금 | U29: 65000 | V29: 0 | W29: =IF(SUM($I29:$J29)=SUM($U29:$V29),"OK","검토") -> OK | Y29: 기금 | Z29: 65000 | AA29: 0 | AB29: =IF(SUM(L29:M29)=SUM(Z29:AA29),"OK","검토") -> OK | AD29: =IF(AF29="","",IF(T29="도비","세입없음",CONCATENATE(AF29,"-",COUNTIF($AF$7:AF29,AF29)))) -> 0227-7 | AF29: {=IF(C29="","",INDEX(구분표!$I$2:$I$313, MATCH(1,(구분표!$E$2:$E$313='17년일입'!B29)*(구분표!$F$2:$F$313='17년일입'!C29)*(구분표!$G$2:$G$313='17년일입'!A29),0)))} -> 0227 | AJ29: =IF(AD29="",0,SUMIFS('17년일출'!$V$6:$V$925,'17년일출'!$AE$6:$AE$925,'17년일입'!$AD29)) -> 65000 | AK29: =IF(AD29="","",COUNTIFS('17년일출'!$AE$6:$AE$925,'17년일입'!AD29)) -> 1 | AL29: =IF(U29=AJ29,"OK","@@") -> OK | AN29: =IF(AD29="",0,SUMIFS('17년일출'!$AA$6:$AA$925,'17년일출'!$AE$6:$AE$925,'17년일입'!$AD29)) -> 65000 | AO29: =IF(AD29="","",COUNTIFS('17년일출'!$AE$6:$AE$925,AD29)) -> 1 | AP29: =IF(Z29=AN29,"OK","@@") -> OK
A30: =IFERROR(VLOOKUP($C30,구분표!$A$2:$C$313,2,FALSE),"") -> 농정해양위원회 | B30: =IFERROR(VLOOKUP($C30,구분표!$A$2:$C$313,3,FALSE),"") -> 축산산림국 | C30: 축산정책과 | D30: 본예산 | E30: 681 | G30: 기금 - 전문단지조성용기계장비구입지원 | H30: 66000 | I30: -6000 | K30: =SUM(H30:J30) -> 60000 | L30: -6000 | N30: =SUM(H30,L30,M30) -> 60000 | O30: =IF(AND((K30=0),(N30>0)),"O",IF(AND((I30<0),(K30-N30<0)),"O","X")) -> X | P30: 국비내시 | R30: 국도비 | T30: 기금 | U30: -6000 | V30: 0 | W30: =IF(SUM($I30:$J30)=SUM($U30:$V30),"OK","검토") -> OK | Y30: 기금 | Z30: -6000 | AA30: 0 | AB30: =IF(SUM(L30:M30)=SUM(Z30:AA30),"OK","검토") -> OK | AD30: =IF(AF30="","",IF(T30="도비","세입없음",CONCATENATE(AF30,"-",COUNTIF($AF$7:AF30,AF30)))) -> 0227-8 | AF30: {=IF(C30="","",INDEX(구분표!$I$2:$I$313, MATCH(1,(구분표!$E$2:$E$313='17년일입'!B30)*(구분표!$F$2:$F$313='17년일입'!C30)*(구분표!$G$2:$G$313='17년일입'!A30),0)))} -> 0227 | AJ30: =IF(AD30="",0,SUMIFS('17년일출'!$V$6:$V$925,'17년일출'!$AE$6:$AE$925,'17년일입'!$AD30)) -> -6000 | AK30: =IF(AD30="","",COUNTIFS('17년일출'!$AE$6:$AE$925,'17년일입'!AD30)) -> 1 | AL30: =IF(U30=AJ30,"OK","@@") -> OK | AN30: =IF(AD30="",0,SUMIFS('17년일출'!$AA$6:$AA$925,'17년일출'!$AE$6:$AE$925,'17년일입'!$AD30)) -> -6000 | AO30: =IF(AD30="","",COUNTIFS('17년일출'!$AE$6:$AE$925,AD30)) -> 1 | AP30: =IF(Z30=AN30,"OK","@@") -> OK
A31: =IFERROR(VLOOKUP($C31,구분표!$A$2:$C$313,2,FALSE),"") -> 농정해양위원회 | B31: =IFERROR(VLOOKUP($C31,구분표!$A$2:$C$313,3,FALSE),"") -> 축산산림국 | C31: 축산정책과 | D31: 본예산 | E31: 681 | G31: 기금 - 전문단지조성용사일리지제조지원 | H31: 248500 | I31: -98500 | K31: =SUM(H31:J31) -> 150000 | L31: -98500 | N31: =SUM(H31,L31,M31) -> 150000 | O31: =IF(AND((K31=0),(N31>0)),"O",IF(AND((I31<0),(K31-N31<0)),"O","X")) -> X | P31: 국비내시 | R31: 국도비 | T31: 기금 | U31: -98500 | V31: 0 | W31: =IF(SUM($I31:$J31)=SUM($U31:$V31),"OK","검토") -> OK | Y31: 기금 | Z31: -98500 | AA31: 0 | AB31: =IF(SUM(L31:M31)=SUM(Z31:AA31),"OK","검토") -> OK | AD31: =IF(AF31="","",IF(T31="도비","세입없음",CONCATENATE(AF31,"-",COUNTIF($AF$7:AF31,AF31)))) -> 0227-9 | AF31: {=IF(C31="","",INDEX(구분표!$I$2:$I$313, MATCH(1,(구분표!$E$2:$E$313='17년일입'!B31)*(구분표!$F$2:$F$313='17년일입'!C31)*(구분표!$G$2:$G$313='17년일입'!A31),0)))} -> 0227 | AJ31: =IF(AD31="",0,SUMIFS('17년일출'!$V$6:$V$925,'17년일출'!$AE$6:$AE$925,'17년일입'!$AD31)) -> -98500 | AK31: =IF(AD31="","",COUNTIFS('17년일출'!$AE$6:$AE$925,'17년일입'!AD31)) -> 1 | AL31: =IF(U31=AJ31,"OK","@@") -> OK | AN31: =IF(AD31="",0,SUMIFS('17년일출'!$AA$6:$AA$925,'17년일출'!$AE$6:$AE$925,'17년일입'!$AD31)) -> -98500 | AO31: =IF(AD31="","",COUNTIFS('17년일출'!$AE$6:$AE$925,AD31)) -> 1 | AP31: =IF(Z31=AN31,"OK","@@") -> OK
A32: =IFERROR(VLOOKUP($C32,구분표!$A$2:$C$313,2,FALSE),"") -> 농정해양위원회 | B32: =IFERROR(VLOOKUP($C32,구분표!$A$2:$C$313,3,FALSE),"") -> 축산산림국 | C32: 축산정책과 | D32: 본예산 | E32: 681 | G32: 기금 - 전문단지조성용종자구입지원 | H32: 22000 | J32: 2000 | K32: =SUM(H32:J32) -> 24000 | M32: 2000 | N32: =SUM(H32,L32,M32) -> 24000 | O32: =IF(AND((K32=0),(N32>0)),"O",IF(AND((I32<0),(K32-N32<0)),"O","X")) -> X | P32: 국비내시 | R32: 국도비 | T32: 기금 | U32: 2000 | V32: 0 | W32: =IF(SUM($I32:$J32)=SUM($U32:$V32),"OK","검토") -> OK | Y32: 기금 | Z32: 2000 | AA32: 0 | AB32: =IF(SUM(L32:M32)=SUM(Z32:AA32),"OK","검토") -> OK | AD32: =IF(AF32="","",IF(T32="도비","세입없음",CONCATENATE(AF32,"-",COUNTIF($AF$7:AF32,AF32)))) -> 0227-10 | AF32: {=IF(C32="","",INDEX(구분표!$I$2:$I$313, MATCH(1,(구분표!$E$2:$E$313='17년일입'!B32)*(구분표!$F$2:$F$313='17년일입'!C32)*(구분표!$G$2:$G$313='17년일입'!A32),0)))} -> 0227 | AJ32: =IF(AD32="",0,SUMIFS('17년일출'!$V$6:$V$925,'17년일출'!$AE$6:$AE$925,'17년일입'!$AD32)) -> 2000 | AK32: =IF(AD32="","",COUNTIFS('17년일출'!$AE$6:$AE$925,'17년일입'!AD32)) -> 1 | AL32: =IF(U32=AJ32,"OK","@@") -> OK | AN32: =IF(AD32="",0,SUMIFS('17년일출'!$AA$6:$AA$925,'17년일출'!$AE$6:$AE$925,'17년일입'!$AD32)) -> 2000 | AO32: =IF(AD32="","",COUNTIFS('17년일출'!$AE$6:$AE$925,AD32)) -> 1 | AP32: =IF(Z32=AN32,"OK","@@") -> OK
A33: =IFERROR(VLOOKUP($C33,구분표!$A$2:$C$313,2,FALSE),"") -> 농정해양위원회 | B33: =IFERROR(VLOOKUP($C33,구분표!$A$2:$C$313,3,FALSE),"") -> 축산산림국 | C33: 축산정책과 | D33: 본예산 | E33: 681 | G33: 기금 - 조사료생산용기계장비구입지원 | H33: 120000 | J33: 45000 | K33: =SUM(H33:J33) -> 165000 | M33: 45000 | N33: =SUM(H33,L33,M33) -> 165000 | O33: =IF(AND((K33=0),(N33>0)),"O",IF(AND((I33<0),(K33-N33<0)),"O","X")) -> X | P33: 국비내시 | R33: 국도비 | T33: 기금 | U33: 45000 | V33: 0 | W33: =IF(SUM($I33:$J33)=SUM($U33:$V33),"OK","검토") -> OK | Y33: 기금 | Z33: 45000 | AA33: 0 | AB33: =IF(SUM(L33:M33)=SUM(Z33:AA33),"OK","검토") -> OK | AD33: =IF(AF33="","",IF(T33="도비","세입없음",CONCATENATE(AF33,"-",COUNTIF($AF$7:AF33,AF33)))) -> 0227-11 | AF33: {=IF(C33="","",INDEX(구분표!$I$2:$I$313, MATCH(1,(구분표!$E$2:$E$313='17년일입'!B33)*(구분표!$F$2:$F$313='17년일입'!C33)*(구분표!$G$2:$G$313='17년일입'!A33),0)))} -> 0227 | AJ33: =IF(AD33="",0,SUMIFS('17년일출'!$V$6:$V$925,'17년일출'!$AE$6:$AE$925,'17년일입'!$AD33)) -> 45000 | AK33: =IF(AD33="","",COUNTIFS('17년일출'!$AE$6:$AE$925,'17년일입'!AD33)) -> 1 | AL33: =IF(U33=AJ33,"OK","@@") -> OK | AN33: =IF(AD33="",0,SUMIFS('17년일출'!$AA$6:$AA$925,'17년일출'!$AE$6:$AE$925,'17년일입'!$AD33)) -> 45000 | AO33: =IF(AD33="","",COUNTIFS('17년일출'!$AE$6:$AE$925,AD33)) -> 1 | AP33: =IF(Z33=AN33,"OK","@@") -> OK
A34: =IFERROR(VLOOKUP($C34,구분표!$A$2:$C$313,2,FALSE),"") -> 농정해양위원회 | B34: =IFERROR(VLOOKUP($C34,구분표!$A$2:$C$313,3,FALSE),"") -> 축산산림국 | C34: 축산정책과 | D34: 본예산 | E34: 681 | G34: 기금 - 조사료생산용사일리지제조지원 | H34: 2216208 | J34: 283792 | K34: =SUM(H34:J34) -> 2500000 | M34: 283792 | N34: =SUM(H34,L34,M34) -> 2500000 | O34: =IF(AND((K34=0),(N34>0)),"O",IF(AND((I34<0),(K34-N34<0)),"O","X")) -> X | P34: 국비내시 | R34: 국도비 | T34: 기금 | U34: 283792 | V34: 0 | W34: =IF(SUM($I34:$J34)=SUM($U34:$V34),"OK","검토") -> OK | Y34: 기금 | Z34: 283792 | AA34: 0 | AB34: =IF(SUM(L34:M34)=SUM(Z34:AA34),"OK","검토") -> OK | AD34: =IF(AF34="","",IF(T34="도비","세입없음",CONCATENATE(AF34,"-",COUNTIF($AF$7:AF34,AF34)))) -> 0227-12 | AF34: {=IF(C34="","",INDEX(구분표!$I$2:$I$313, MATCH(1,(구분표!$E$2:$E$313='17년일입'!B34)*(구분표!$F$2:$F$313='17년일입'!C34)*(구분표!$G$2:$G$313='17년일입'!A34),0)))} -> 0227 | AJ34: =IF(AD34="",0,SUMIFS('17년일출'!$V$6:$V$925,'17년일출'!$AE$6:$AE$925,'17년일입'!$AD34)) -> 283792 | AK34: =IF(AD34="","",COUNTIFS('17년일출'!$AE$6:$AE$925,'17년일입'!AD34)) -> 1 | AL34: =IF(U34=AJ34,"OK","@@") -> OK | AN34: =IF(AD34="",0,SUMIFS('17년일출'!$AA$6:$AA$925,'17년일출'!$AE$6:$AE$925,'17년일입'!$AD34)) -> 283792 | AO34: =IF(AD34="","",COUNTIFS('17년일출'!$AE$6:$AE$925,AD34)) -> 1 | AP34: =IF(Z34=AN34,"OK","@@") -> OK
A35: =IFERROR(VLOOKUP($C35,구분표!$A$2:$C$313,2,FALSE),"") -> 농정해양위원회 | B35: =IFERROR(VLOOKUP($C35,구분표!$A$2:$C$313,3,FALSE),"") -> 축산산림국 | C35: 축산정책과 | D35: 본예산 | E35: 681 | G35: 기금 - 조사료생산용종자구입지원 | H35: 620900 | J35: 39100 | K35: =SUM(H35:J35) -> 660000 | M35: 39100 | N35: =SUM(H35,L35,M35) -> 660000 | O35: =IF(AND((K35=0),(N35>0)),"O",IF(AND((I35<0),(K35-N35<0)),"O","X")) -> X | P35: 국비내시 | R35: 국도비 | T35: 기금 | U35: 39100 | V35: 0 | W35: =IF(SUM($I35:$J35)=SUM($U35:$V35),"OK","검토") -> OK | Y35: 기금 | Z35: 39100 | AA35: 0 | AB35: =IF(SUM(L35:M35)=SUM(Z35:AA35),"OK","검토") -> OK | AD35: =IF(AF35="","",IF(T35="도비","세입없음",CONCATENATE(AF35,"-",COUNTIF($AF$7:AF35,AF35)))) -> 0227-13 | AF35: {=IF(C35="","",INDEX(구분표!$I$2:$I$313, MATCH(1,(구분표!$E$2:$E$313='17년일입'!B35)*(구분표!$F$2:$F$313='17년일입'!C35)*(구분표!$G$2:$G$313='17년일입'!A35),0)))} -> 0227 | AJ35: =IF(AD35="",0,SUMIFS('17년일출'!$V$6:$V$925,'17년일출'!$AE$6:$AE$925,'17년일입'!$AD35)) -> 39100 | AK35: =IF(AD35="","",COUNTIFS('17년일출'!$AE$6:$AE$925,'17년일입'!AD35)) -> 1 | AL35: =IF(U35=AJ35,"OK","@@") -> OK | AN35: =IF(AD35="",0,SUMIFS('17년일출'!$AA$6:$AA$925,'17년일출'!$AE$6:$AE$925,'17년일입'!$AD35)) -> 39100 | AO35: =IF(AD35="","",COUNTIFS('17년일출'!$AE$6:$AE$925,AD35)) -> 1 | AP35: =IF(Z35=AN35,"OK","@@") -> OK
A36: =IFERROR(VLOOKUP($C36,구분표!$A$2:$C$313,2,FALSE),"") -> 농정해양위원회 | B36: =IFERROR(VLOOKUP($C36,구분표!$A$2:$C$313,3,FALSE),"") -> 축산산림국 | C36: 축산정책과 | D36: 본예산 | E36: 681 | G36: 기금 - 조사료생산용볏짚처리비지원 | H36: 647100 | I36: -647100 | K36: =SUM(H36:J36) -> 0 | L36: -647100 | N36: =SUM(H36,L36,M36) -> 0 | O36: =IF(AND((K36=0),(N36>0)),"O",IF(AND((I36<0),(K36-N36<0)),"O","X")) -> X | P36: 국비내시 | R36: 국도비 | T36: 기금 | U36: -647100 | V36: 0 | W36: =IF(SUM($I36:$J36)=SUM($U36:$V36),"OK","검토") -> OK | Y36: 기금 | Z36: -647100 | AA36: 0 | AB36: =IF(SUM(L36:M36)=SUM(Z36:AA36),"OK","검토") -> OK | AD36: =IF(AF36="","",IF(T36="도비","세입없음",CONCATENATE(AF36,"-",COUNTIF($AF$7:AF36,AF36)))) -> 0227-14 | AF36: {=IF(C36="","",INDEX(구분표!$I$2:$I$313, MATCH(1,(구분표!$E$2:$E$313='17년일입'!B36)*(구분표!$F$2:$F$313='17년일입'!C36)*(구분표!$G$2:$G$313='17년일입'!A36),0)))} -> 0227 | AJ36: =IF(AD36="",0,SUMIFS('17년일출'!$V$6:$V$925,'17년일출'!$AE$6:$AE$925,'17년일입'!$AD36)) -> -647100 | AK36: =IF(AD36="","",COUNTIFS('17년일출'!$AE$6:$AE$925,'17년일입'!AD36)) -> 1 | AL36: =IF(U36=AJ36,"OK","@@") -> OK | AN36: =IF(AD36="",0,SUMIFS('17년일출'!$AA$6:$AA$925,'17년일출'!$AE$6:$AE$925,'17년일입'!$AD36)) -> -647100 | AO36: =IF(AD36="","",COUNTIFS('17년일출'!$AE$6:$AE$925,AD36)) -> 1 | AP36: =IF(Z36=AN36,"OK","@@") -> OK
A37: =IFERROR(VLOOKUP($C37,구분표!$A$2:$C$313,2,FALSE),"") -> 농정해양위원회 | B37: =IFERROR(VLOOKUP($C37,구분표!$A$2:$C$313,3,FALSE),"") -> 축산산림국 | C37: 축산정책과 | D37: 본예산 | E37: 681 | G37: 기금 - 조사료가공유통시설지원 | H37: 74000 | I37: -11000 | K37: =SUM(H37:J37) -> 63000 | L37: -11000 | N37: =SUM(H37,L37,M37) -> 63000 | O37: =IF(AND((K37=0),(N37>0)),"O",IF(AND((I37<0),(K37-N37<0)),"O","X")) -> X | P37: 국비내시 | R37: 국도비 | T37: 기금 | U37: -11000 | V37: 0 | W37: =IF(SUM($I37:$J37)=SUM($U37:$V37),"OK","검토") -> OK | Y37: 기금 | Z37: -11000 | AA37: 0 | AB37: =IF(SUM(L37:M37)=SUM(Z37:AA37),"OK","검토") -> OK | AD37: =IF(AF37="","",IF(T37="도비","세입없음",CONCATENATE(AF37,"-",COUNTIF($AF$7:AF37,AF37)))) -> 0227-15 | AF37: {=IF(C37="","",INDEX(구분표!$I$2:$I$313, MATCH(1,(구분표!$E$2:$E$313='17년일입'!B37)*(구분표!$F$2:$F$313='17년일입'!C37)*(구분표!$G$2:$G$313='17년일입'!A37),0)))} -> 0227 | AJ37: =IF(AD37="",0,SUMIFS('17년일출'!$V$6:$V$925,'17년일출'!$AE$6:$AE$925,'17년일입'!$AD37)) -> -11000 | AK37: =IF(AD37="","",COUNTIFS('17년일출'!$AE$6:$AE$925,'17년일입'!AD37)) -> 1 | AL37: =IF(U37=AJ37,"OK","@@") -> OK | AN37: =IF(AD37="",0,SUMIFS('17년일출'!$AA$6:$AA$925,'17년일출'!$AE$6:$AE$925,'17년일입'!$AD37)) -> -11000 | AO37: =IF(AD37="","",COUNTIFS('17년일출'!$AE$6:$AE$925,AD37)) -> 1 | AP37: =IF(Z37=AN37,"OK","@@") -> OK
A38: =IFERROR(VLOOKUP($C38,구분표!$A$2:$C$313,2,FALSE),"") -> 농정해양위원회 | B38: =IFERROR(VLOOKUP($C38,구분표!$A$2:$C$313,3,FALSE),"") -> 축산산림국 | C38: 축산정책과 | D38: 본예산 | E38: 681 | G38: 기금 - 조사료품질관리지원 | H38: 91900 | I38: -62640 | K38: =SUM(H38:J38) -> 29260 | L38: -62640 | N38: =SUM(H38,L38,M38) -> 29260 | O38: =IF(AND((K38=0),(N38>0)),"O",IF(AND((I38<0),(K38-N38<0)),"O","X")) -> X | P38: 국비내시 | R38: 국도비 | T38: 기금 | U38: -62640 | V38: 0 | W38: =IF(SUM($I38:$J38)=SUM($U38:$V38),"OK","검토") -> OK | Y38: 기금 | Z38: -62640 | AA38: 0 | AB38: =IF(SUM(L38:M38)=SUM(Z38:AA38),"OK","검토") -> OK | AD38: =IF(AF38="","",IF(T38="도비","세입없음",CONCATENATE(AF38,"-",COUNTIF($AF$7:AF38,AF38)))) -> 0227-16 | AF38: {=IF(C38="","",INDEX(구분표!$I$2:$I$313, MATCH(1,(구분표!$E$2:$E$313='17년일입'!B38)*(구분표!$F$2:$F$313='17년일입'!C38)*(구분표!$G$2:$G$313='17년일입'!A38),0)))} -> 0227 | AJ38: =IF(AD38="",0,SUMIFS('17년일출'!$V$6:$V$925,'17년일출'!$AE$6:$AE$925,'17년일입'!$AD38)) -> -62640 | AK38: =IF(AD38="","",COUNTIFS('17년일출'!$AE$6:$AE$925,'17년일입'!AD38)) -> 1 | AL38: =IF(U38=AJ38,"OK","@@") -> OK | AN38: =IF(AD38="",0,SUMIFS('17년일출'!$AA$6:$AA$925,'17년일출'!$AE$6:$AE$925,'17년일입'!$AD38)) -> -62640 | AO38: =IF(AD38="","",COUNTIFS('17년일출'!$AE$6:$AE$925,AD38)) -> 1 | AP38: =IF(Z38=AN38,"OK","@@") -> OK
A39: =IFERROR(VLOOKUP($C39,구분표!$A$2:$C$313,2,FALSE),"") -> 농정해양위원회 | B39: =IFERROR(VLOOKUP($C39,구분표!$A$2:$C$313,3,FALSE),"") -> 축산산림국 | C39: 동물방역위생과 | D39: 본예산 | E39: 682 | G39: 기금 - 축산물위생검사기관 운영비 지원 | H39: 328000 | J39: 40000 | K39: =SUM(H39:J39) -> 368000 | M39: 40000 | N39: =SUM(H39,L39,M39) -> 368000 | O39: =IF(AND((K39=0),(N39>0)),"O",IF(AND((I39<0),(K39-N39<0)),"O","X")) -> X | P39: 국비내시 | R39: 국도비 | T39: 기금 | U39: 40000 | W39: =IF(SUM($I39:$J39)=SUM($U39:$V39),"OK","검토") -> OK | Y39: 기금 | Z39: 40000 | AB39: =IF(SUM(L39:M39)=SUM(Z39:AA39),"OK","검토") -> OK | AD39: =IF(AF39="","",IF(T39="도비","세입없음",CONCATENATE(AF39,"-",COUNTIF($AF$7:AF39,AF39)))) -> 0228-1 | AF39: {=IF(C39="","",INDEX(구분표!$I$2:$I$313, MATCH(1,(구분표!$E$2:$E$313='17년일입'!B39)*(구분표!$F$2:$F$313='17년일입'!C39)*(구분표!$G$2:$G$313='17년일입'!A39),0)))} -> 0228 | AJ39: =IF(AD39="",0,SUMIFS('17년일출'!$V$6:$V$925,'17년일출'!$AE$6:$AE$925,'17년일입'!$AD39)) -> 40000 | AK39: =IF(AD39="","",COUNTIFS('17년일출'!$AE$6:$AE$925,'17년일입'!AD39)) -> 1 | AL39: =IF(U39=AJ39,"OK","@@") -> OK | AN39: =IF(AD39="",0,SUMIFS('17년일출'!$AA$6:$AA$925,'17년일출'!$AE$6:$AE$925,'17년일입'!$AD39)) -> 40000 | AO39: =IF(AD39="","",COUNTIFS('17년일출'!$AE$6:$AE$925,AD39)) -> 1 | AP39: =IF(Z39=AN39,"OK","@@") -> OK
A40: =IFERROR(VLOOKUP($C40,구분표!$A$2:$C$313,2,FALSE),"") -> 농정해양위원회 | B40: =IFERROR(VLOOKUP($C40,구분표!$A$2:$C$313,3,FALSE),"") -> 축산산림국 | C40: 산림과 | D40: 신규 | G40: 국고보조금 - 산림작물생산단지 | J40: 466624 | K40: =SUM(H40:J40) -> 466624 | M40: 466624 | N40: =SUM(H40,L40,M40) -> 466624 | O40: =IF(AND((K40=0),(N40>0)),"O",IF(AND((I40<0),(K40-N40<0)),"O","X")) -> X | P40: 국비내시 | R40: 국도비 | T40: 국비 | U40: 466624 | V40: 0 | W40: =IF(SUM($I40:$J40)=SUM($U40:$V40),"OK","검토") -> OK | Y40: 국비 | Z40: 466624 | AA40: 0 | AB40: =IF(SUM(L40:M40)=SUM(Z40:AA40),"OK","검토") -> OK | AD40: =IF(AF40="","",IF(T40="도비","세입없음",CONCATENATE(AF40,"-",COUNTIF($AF$7:AF40,AF40)))) -> 0229-1 | AF40: {=IF(C40="","",INDEX(구분표!$I$2:$I$313, MATCH(1,(구분표!$E$2:$E$313='17년일입'!B40)*(구분표!$F$2:$F$313='17년일입'!C40)*(구분표!$G$2:$G$313='17년일입'!A40),0)))} -> 0229 | AJ40: =IF(AD40="",0,SUMIFS('17년일출'!$V$6:$V$925,'17년일출'!$AE$6:$AE$925,'17년일입'!$AD40)) -> 466624 | AK40: =IF(AD40="","",COUNTIFS('17년일출'!$AE$6:$AE$925,'17년일입'!AD40)) -> 1 | AL40: =IF(U40=AJ40,"OK","@@") -> OK | AN40: =IF(AD40="",0,SUMIFS('17년일출'!$AA$6:$AA$925,'17년일출'!$AE$6:$AE$925,'17년일입'!$AD40)) -> 466624 | AO40: =IF(AD40="","",COUNTIFS('17년일출'!$AE$6:$AE$925,AD40)) -> 1 | AP40: =IF(Z40=AN40,"OK","@@") -> OK
...

Sheet 17년일출
B1: 2017년도 경기도 일반회계 세출 예산 조정(안)
B2: □ 세출예산 | O2: =P2-'17년일입'!N2 -> 0 | P2: =P6-J6 -> 62124564 | V2: 세입=세출 | AA2: 세입=세출
J3: =SUM(J7:J1057)/2 -> 2080937180 | K3: =SUM(K7:K1057)/2 -> -105288304 | L3: =SUM(L7:L1057)/2 -> 161534547 | M3: =SUM(M7:M1057)/2 -> 2137191423 | N3: =SUM(N7:N1057)/2 -> -156618923 | O3: =SUM(O7:O1057)/2 -> 218743487 | P3: =SUM(P7:P1057)/2 -> 2143061744 | R3: (단위 : 천원) | V3: =IF(V6='17년일입'!U6,"OK","@@") -> OK | W3: =K6+L6-V6-W6 -> 0 | X3: =IF(COUNTIF(X6:X925,"검토")>0,"@@","OK") -> OK | AA3: =IF(AA6='17년일입'!Z6,"OK","@@") -> OK | AB3: =N6+O6-AA6-AB6 -> 0 | AC3: =IF(COUNTIF(AC6:AC925,"검토")>0,"@@","OK") -> OK
