Workbook

Sheet 구분표
A2: 실과명 조정 | B2: 위원회명 조정 | C2: 실국명 조정 | E2: 실국명 | F2: 실과명 | G2: 위원회명 | H2: 정렬순서 | I2: 정렬코드
A3: 공보담당관 | B3: 의회운영위원회 | C3: 의회사무처 | E3: 의회사무처 | F3: 공보담당관 | G3: 의회운영위원회 | H3: 1 | I3: 0101
A4: 총무담당관 | B4: 의회운영위원회 | C4: 의회사무처 | E4: 의회사무처 | F4: 총무담당관 | G4: 의회운영위원회 | H4: 2 | I4: 0102
A5: 의정담당관 | B5: 의회운영위원회 | C5: 의회사무처 | E5: 의회사무처 | F5: 의정담당관 | G5: 의회운영위원회 | H5: 3 | I5: 0103
A6: 입법정책담당관 | B6: 의회운영위원회 | C6: 의회사무처 | E6: 의회사무처 | F6: 입법정책담당관 | G6: 의회운영위원회 | H6: 4 | I6: 0104
A7: 예산정책담당관 | B7: 의회운영위원회 | C7: 의회사무처 | E7: 의회사무처 | F7: 예산정책담당관 | G7: 의회운영위원회 | H7: 5 | I7: 0105
A8: 언론협력담당관 | B8: 의회운영위원회 | C8: 대변인 | E8: 대변인 | F8: 언론협력담당관 | G8: 의회운영위원회 | H8: 6 | I8: 0106
A9: 보도기획담당관 | B9: 의회운영위원회 | C9: 대변인 | E9: 대변인 | F9: 보도기획담당관 | G9: 의회운영위원회 | H9: 7 | I9: 0107
A10: 홍보미디어담당관 | B10: 의회운영위원회 | C10: 소통기획관 | E10: 소통기획관 | F10: 홍보미디어담당관 | G10: 의회운영위원회 | H10: 8 | I10: 0108
A11: 홍보콘텐츠담당관 | B11: 의회운영위원회 | C11: 소통기획관 | E11: 소통기획관 | F11: 홍보콘텐츠담당관 | G11: 의회운영위원회 | H11: 9 | I11: 0109
A12: 연정협력과 | B12: 의회운영위원회 | C12: 연정협력국 | E12: 연정협력국 | F12: 연정협력과 | G12: 의회운영위원회 | H12: 10 | I12: 0110
A13: 대외협력과 | B13: 의회운영위원회 | C13: 연정협력국 | E13: 연정협력국 | F13: 대외협력과 | G13: 의회운영위원회 | H13: 11 | I13: 0111
... A215: 도서관정책과 | B215: 여성가족교육협력위원회 | C215: 교육협력국 | E215: 교육협력국 | F215: 도서관정책과 | G215: 여성가족교육협력위원회 | H215: 213 | I215: 0313

Sheet 예결표지(세로)
A5: 2015년도 제2회 일반회계 및 특별회계 추가경정 세입·세출 예산안
A7: 예결위 계수조정 결과
A20: 예산결산특별위원회

Sheet 예결표지(가로)
A3: 2015년도 제2회 일반회계 및 특별회계 추가경정 세입·세출 예산안
A5: 예결위 계수조정 결과
A14: 예산결산특별위원회

Sheet 검증
A1: 제4회 추경 일반회계 검증 | H1: 4추 예비비 | J1: 조정액 | K1: =IFERROR(INDEX('4추일출'!AE6:AE16,MATCH("*예비비*",'4추일출'!G6:G16,0)),0) -> 0 | L1: 조정잔액 | M1: =I1+K1 -> 0
M2: (단위 : 천원)
A3: 구분 | B3: 상 임 위 | H3: 구분 | I3: 예 결 위
B4: 세입 | C4: 검증 | D4: 세출 | E4: 검증 | F4: 차액 | I4: 세입 | J4: 검증 | K4: 세출 | L4: 검증 | M4: 차액
A5: 전체 총계 | B5: =SUM(B6:B13)/2 -> 186880 | C5: =IF(B5=SUM('4추일입'!K6:L6),"OK","@@") -> @@ | D5: =SUM(D6:D13)/2 -> -1384250 | E5: =IF(D5=SUM('4추일출'!#REF!),"OK","@@") -> #REF! | H5: 전체 총계 | I5: =SUM(I6:I13)/2 -> 0 | J5: =IF(I5=SUM('4추일입'!N6:O6),"OK","@@") -> OK | K5: =SUM(K6:K13)/2 -> 0 | L5: =IF(K5=SUM('4추일출'!#REF!),"OK","@@") -> #REF!
A6: 자체 계 | B6: =SUM(B7:B8) -> 186880 | C6: =IF(B6='4추일입'!Z6,"OK","@@") -> OK | D6: =SUM(D7:D8) -> -692125 | E6: =IF(D6='4추일출'!#REF!,"OK","@@") -> #REF! | H6: 자체 계 | I6: =SUM(I7:I8) -> 0 | J6: =IF(I6='4추일입'!AE6,"OK","@@") -> OK | K6: =SUM(K7:K8) -> 0 | L6: =IF(K6='4추일출'!#REF!,"OK","@@") -> #REF!
A7: 자체 도비 | B7: =SUMIFS('4추일입'!Z6:Z17,'4추일입'!X6:X17,"도비") -> 186880 | D7: =SUMIFS('4추일출'!$Z$6:$Z$16,'4추일출'!$X$6:$X$16,"도비") -> 0 | H7: 자체 도비 | I7: =SUMIFS('4추일입'!AE6:AE17,'4추일입'!AC6:AC17,"국비") -> 0 | K7: =SUMIFS('4추일출'!$AE$6:$AE$16,'4추일출'!$AC$6:$AC$16,"도비") -> 0
A8: 의존 매칭 도비 | B8: =SUMIFS('4추일입'!Z6:Z17,'4추일입'!X6:X17,"국비")+SUMIFS('4추일입'!Z6:Z17,'4추일입'!X6:X17,"지특")+SUMIFS('4추일입'!Z6:Z17,'4추일입'!X6:X17,"기금")+SUMIFS('4추일입'!Z6:Z17,'4추일입'!X6:X17,"특교") -> 0 | D8: =SUMIFS('4추일출'!$Z$6:$Z$16,'4추일출'!$X$6:$X$16,"국비")+SUMIFS('4추일출'!$Z$6:$Z$16,'4추일출'!$X$6:$X$16,"지특")+SUMIFS('4추일출'!$Z$6:$Z$16,'4추일출'!$X$6:$X$16,"기금")+SUMIFS('4추일출'!$Z$6:$Z$16,'4추일출'!$X$6:$X$16,"특교") -> -692125 | H8: 의존 매칭 도비 | I8: =SUMIFS('4추일입'!AE6:AE17,'4추일입'!AC6:AC17,"국비")+SUMIFS('4추일입'!AE6:AE17,'4추일입'!AC6:AC17,"지특")+SUMIFS('4추일입'!AE6:AE17,'4추일입'!AC6:AC17,"기금")+SUMIFS('4추일입'!AE6:AE17,'4추일입'!AC6:AC17,"특교") -> 0 | K8: =SUMIFS('4추일출'!$AE$6:$AE$16,'4추일출'!$AC$6:$AC$16,"국비")+SUMIFS('4추일출'!$AE$6:$AE$16,'4추일출'!$AC$6:$AC$16,"지특")+SUMIFS('4추일출'!$AE$6:$AE$16,'4추일출'!$AC$6:$AC$16,"기금")+SUMIFS('4추일출'!$AE$6:$AE$16,'4추일출'!$AC$6:$AC$16,"특교") -> 0
A9: 의존 계 | B9: =SUM(B10:B13) -> 0 | C9: =IF(B9='4추일입'!Y6,"OK","@@") -> @@ | D9: =SUM(D10:D13) -> -692125 | E9: =IF(D9='4추일출'!#REF!,"OK","@@") -> #REF! | F9: =SUM(F10:F13) -> -692125 | H9: 의존 계 | I9: =SUM(I10:I13) -> 0 | J9: =IF(I9='4추일입'!Y6,"OK","@@") -> @@ | K9: =SUM(K10:K13) -> 0 | L9: =IF(K9='4추일출'!#REF!,"OK","@@") -> #REF! | M9: =SUM(M10:M13) -> 0
A10: 국비 | B10: =SUMIFS('4추일입'!$Z$6:$Z$17,'4추일입'!$X$6:$X$17,검증!A10) -> 0 | D10: =SUMIFS('4추일출'!$Z$6:$Z$16,'4추일출'!$X$6:$X$16,검증!A10) -> -692125 | F10: =D10-B10 -> -692125 | H10: 국비 | I10: =SUMIFS('4추일입'!$AE$6:$AE$17,'4추일입'!$AC$6:$AC$17,검증!H10) -> 0 | K10: =SUMIFS('4추일출'!$AE$6:$AE$16,'4추일출'!$AC$6:$AC$16,검증!H10) -> 0 | M10: =K10-I10 -> 0
A11: 지특 | B11: =SUMIFS('4추일입'!$Z$6:$Z$17,'4추일입'!$X$6:$X$17,검증!A11) -> 0 | D11: =SUMIFS('4추일출'!$Z$6:$Z$16,'4추일출'!$X$6:$X$16,검증!A11) -> 0 | F11: =D11-B11 -> 0 | H11: 지특 | I11: =SUMIFS('4추일입'!$AE$6:$AE$17,'4추일입'!$AC$6:$AC$17,검증!H11) -> 0 | K11: =SUMIFS('4추일출'!$AE$6:$AE$16,'4추일출'!$AC$6:$AC$16,검증!H11) -> 0 | M11: =K11-I11 -> 0
A12: 기금 | B12: =SUMIFS('4추일입'!$Z$6:$Z$17,'4추일입'!$X$6:$X$17,검증!A12) -> 0 | D12: =SUMIFS('4추일출'!$Z$6:$Z$16,'4추일출'!$X$6:$X$16,검증!A12) -> 0 | F12: =D12-B12 -> 0 | H12: 기금 | I12: =SUMIFS('4추일입'!$AE$6:$AE$17,'4추일입'!$AC$6:$AC$17,검증!H12) -> 0 | K12: =SUMIFS('4추일출'!$AE$6:$AE$16,'4추일출'!$AC$6:$AC$16,검증!H12) -> 0 | M12: =K12-I12 -> 0
A13: 특교 | B13: =SUMIFS('4추일입'!$Z$6:$Z$17,'4추일입'!$X$6:$X$17,검증!A13) -> 0 | D13: =SUMIFS('4추일출'!$Z$6:$Z$16,'4추일출'!$X$6:$X$16,검증!A13) -> 0 | F13: =D13-B13 -> 0 | H13: 특교 | I13: =SUMIFS('4추일입'!$AE$6:$AE$17,'4추일입'!$AC$6:$AC$17,검증!H13) -> 0 | K13: =SUMIFS('4추일출'!$AE$6:$AE$16,'4추일출'!$AC$6:$AC$16,검증!H13) -> 0 | M13: =K13-I13 -> 0

Sheet 표지
A4: 계수조정 결과
B6: - 2016년도 제4회 일반회계 및 특별회계 추가경정 세입·세출 예산안
A12: 농정해양위원회회

Sheet 총괄표
A1: 2016년도 제4회 추경 일반 및 특별회계 세입·세출 예산안(전체예산총괄)
A3: □ 총 괄 | C3: 세입예산 증감 | D3: =SUM(C7:D7) -> 0 | F3: 세출예산증감 | G3: =SUM(F7:G7) -> 0
F4: ※ 예비비 증감 | I4: (단위 : 천원)
A5: 구 분 | B5: 집행부제출(안) | C5: 세입예산(안) | F5: 세출예산(안) | I5: 수정예산(안) | K5: ※ 예산안 증감현황
C6: 감 액 | D6: 증 액 | E6: 증감액 | F6: 감 액 | G6: 증 액 | H6: 증감액 | K6: 구 분 | L6: 세입 | M6: 세출 | N6: 예비비 | O6: 비고(???)
A7: 합 계 | B7: =SUM(B8:B17) -> 545260012 | C7: =SUM(C8:C17) -> 0 | D7: =SUM(D8:D17) -> 0 | E7: =SUM(E8:E17) -> 0 | F7: =SUM(F8:F17) -> 0 | G7: =SUM(G8:G17) -> 0 | H7: =SUM(H8:H17) -> 0 | I7: =SUM(I8:I17) -> 545260012 | K7: 합 계 | L7: =SUM(L8:L9) -> 0 | M7: =SUM(M8:M9) -> 0 | N7: =L7-M7 -> 0
A8: 의회운영위원회 | B8: =B31 -> 0 | C8: =SUMIFS('[1]4추일입'!$N$6:$N$100,'[1]4추일입'!$A$6:$A$100,[1]총괄표!$A8)+SUMIFS('[1]4추특입'!$N$6:$N$80,'[1]4추특입'!$A$6:$A$80,[1]총괄표!$A8) -> 0 | D8: =SUMIFS('[1]4추일입'!$O$6:$O$100,'[1]4추일입'!$A$6:$A$100,[1]총괄표!$A8)+SUMIFS('[1]4추특입'!$O$6:$O$80,'[1]4추특입'!$A$6:$A$80,[1]총괄표!$A8) -> 0 | E8: =D8-C8 -> 0 | F8: =SUMIFS('[1]4추일출'!N$6:N$66,'[1]4추일출'!$A$6:$A$66,[1]총괄표!$A8)+SUMIFS('[1]4추특출'!N$6:N$100,'[1]4추특출'!$A$6:$A$100,[1]총괄표!$A8) -> 0 | G8: =SUMIFS('[1]4추일출'!O$6:O$66,'[1]4추일출'!$A$6:$A$66,[1]총괄표!$A8)+SUMIFS('[1]4추특출'!O$6:O$100,'[1]4추특출'!$A$6:$A$100,[1]총괄표!$A8) -> 0 | H8: =G8-F8 -> 0 | I8: =B8+F8+G8 -> 0 | K8: 일반회계 | L8: =SUM(C24:D24) -> 0 | M8: =SUM(F24:G24) -> 0 | N8: =L8-M8 -> 0 | O8: 예비비 증감 - 감액, + 증액에 입력
A9: 기획재정위원회 | B9: =B32 -> 0 | C9: =SUMIFS('[1]4추일입'!$N$6:$N$100,'[1]4추일입'!$A$6:$A$100,[1]총괄표!$A9)+SUMIFS('[1]4추특입'!$N$6:$N$80,'[1]4추특입'!$A$6:$A$80,[1]총괄표!$A9) -> 0 | D9: =SUMIFS('[1]4추일입'!$O$6:$O$100,'[1]4추일입'!$A$6:$A$100,[1]총괄표!$A9)+SUMIFS('[1]4추특입'!$O$6:$O$80,'[1]4추특입'!$A$6:$A$80,[1]총괄표!$A9) -> 0 | E9: =D9-C9 -> 0 | F9: =SUMIFS('[1]4추일출'!N$6:N$66,'[1]4추일출'!$A$6:$A$66,[1]총괄표!$A9)+SUMIFS('[1]4추특출'!N$6:N$100,'[1]4추특출'!$A$6:$A$100,[1]총괄표!$A9) -> 0 | G9: =SUMIFS('[1]4추일출'!O$6:O$66,'[1]4추일출'!$A$6:$A$66,[1]총괄표!$A9)+SUMIFS('[1]4추특출'!O$6:O$100,'[1]4추특출'!$A$6:$A$100,[1]총괄표!$A9) -> 0 | H9: =G9-F9 -> 0 | I9: =B9+F9+G9 -> 0 | K9: 특별회계 | L9: =SUM(C25:D25) -> 0 | M9: =SUM(F25:G25) -> 0 | N9: =L9-M9 -> 0
A10: 경제과학기술위원회 | B10: =B33 -> 0 | C10: =SUMIFS('[1]4추일입'!$N$6:$N$100,'[1]4추일입'!$A$6:$A$100,[1]총괄표!$A10)+SUMIFS('[1]4추특입'!$N$6:$N$80,'[1]4추특입'!$A$6:$A$80,[1]총괄표!$A10) -> 0 | D10: =SUMIFS('[1]4추일입'!$O$6:$O$100,'[1]4추일입'!$A$6:$A$100,[1]총괄표!$A10)+SUMIFS('[1]4추특입'!$O$6:$O$80,'[1]4추특입'!$A$6:$A$80,[1]총괄표!$A10) -> 0 | E10: =D10-C10 -> 0 | F10: =SUMIFS('[1]4추일출'!N$6:N$66,'[1]4추일출'!$A$6:$A$66,[1]총괄표!$A10)+SUMIFS('[1]4추특출'!N$6:N$100,'[1]4추특출'!$A$6:$A$100,[1]총괄표!$A10) -> 0 | G10: =SUMIFS('[1]4추일출'!O$6:O$66,'[1]4추일출'!$A$6:$A$66,[1]총괄표!$A10)+SUMIFS('[1]4추특출'!O$6:O$100,'[1]4추특출'!$A$6:$A$100,[1]총괄표!$A10) -> 0 | H10: =G10-F10 -> 0 | I10: =B10+F10+G10 -> 0
A11: 안전행정위원회 | B11: =B34 -> 0 | C11: =SUMIFS('[1]4추일입'!$N$6:$N$100,'[1]4추일입'!$A$6:$A$100,[1]총괄표!$A11)+SUMIFS('[1]4추특입'!$N$6:$N$80,'[1]4추특입'!$A$6:$A$80,[1]총괄표!$A11) -> 0 | D11: =SUMIFS('[1]4추일입'!$O$6:$O$100,'[1]4추일입'!$A$6:$A$100,[1]총괄표!$A11)+SUMIFS('[1]4추특입'!$O$6:$O$80,'[1]4추특입'!$A$6:$A$80,[1]총괄표!$A11) -> 0 | E11: =D11-C11 -> 0 | F11: =SUMIFS('[1]4추일출'!N$6:N$66,'[1]4추일출'!$A$6:$A$66,[1]총괄표!$A11)+SUMIFS('[1]4추특출'!N$6:N$100,'[1]4추특출'!$A$6:$A$100,[1]총괄표!$A11) -> 0 | G11: =SUMIFS('[1]4추일출'!O$6:O$66,'[1]4추일출'!$A$6:$A$66,[1]총괄표!$A11)+SUMIFS('[1]4추특출'!O$6:O$100,'[1]4추특출'!$A$6:$A$100,[1]총괄표!$A11) -> 0 | H11: =G11-F11 -> 0 | I11: =B11+F11+G11 -> 0
A12: 문화체육관광위원회 | B12: =B35 -> 0 | C12: =SUMIFS('[1]4추일입'!$N$6:$N$100,'[1]4추일입'!$A$6:$A$100,[1]총괄표!$A12)+SUMIFS('[1]4추특입'!$N$6:$N$80,'[1]4추특입'!$A$6:$A$80,[1]총괄표!$A12) -> 0 | D12: =SUMIFS('[1]4추일입'!$O$6:$O$100,'[1]4추일입'!$A$6:$A$100,[1]총괄표!$A12)+SUMIFS('[1]4추특입'!$O$6:$O$80,'[1]4추특입'!$A$6:$A$80,[1]총괄표!$A12) -> 0 | E12: =D12-C12 -> 0 | F12: =SUMIFS('[1]4추일출'!N$6:N$66,'[1]4추일출'!$A$6:$A$66,[1]총괄표!$A12)+SUMIFS('[1]4추특출'!N$6:N$100,'[1]4추특출'!$A$6:$A$100,[1]총괄표!$A12) -> 0 | G12: =SUMIFS('[1]4추일출'!O$6:O$66,'[1]4추일출'!$A$6:$A$66,[1]총괄표!$A12)+SUMIFS('[1]4추특출'!O$6:O$100,'[1]4추특출'!$A$6:$A$100,[1]총괄표!$A12) -> 0 | H12: =G12-F12 -> 0 | I12: =B12+F12+G12 -> 0
A13: 농정해양위원회 | B13: =B36 -> 545260012 | C13: =SUMIFS('[1]4추일입'!$N$6:$N$100,'[1]4추일입'!$A$6:$A$100,[1]총괄표!$A13)+SUMIFS('[1]4추특입'!$N$6:$N$80,'[1]4추특입'!$A$6:$A$80,[1]총괄표!$A13) -> 0 | D13: =SUMIFS('[1]4추일입'!$O$6:$O$100,'[1]4추일입'!$A$6:$A$100,[1]총괄표!$A13)+SUMIFS('[1]4추특입'!$O$6:$O$80,'[1]4추특입'!$A$6:$A$80,[1]총괄표!$A13) -> 0 | E13: =D13-C13 -> 0 | F13: =SUMIFS('[1]4추일출'!N$6:N$66,'[1]4추일출'!$A$6:$A$66,[1]총괄표!$A13)+SUMIFS('[1]4추특출'!N$6:N$100,'[1]4추특출'!$A$6:$A$100,[1]총괄표!$A13) -> 0 | G13: =SUMIFS('[1]4추일출'!O$6:O$66,'[1]4추일출'!$A$6:$A$66,[1]총괄표!$A13)+SUMIFS('[1]4추특출'!O$6:O$100,'[1]4추특출'!$A$6:$A$100,[1]총괄표!$A13) -> 0 | H13: =G13-F13 -> 0 | I13: =B13+F13+G13 -> 545260012
A14: 보건복지위원회 | B14: =B37 -> 0 | C14: =SUMIFS('[1]4추일입'!$N$6:$N$100,'[1]4추일입'!$A$6:$A$100,[1]총괄표!$A14)+SUMIFS('[1]4추특입'!$N$6:$N$80,'[1]4추특입'!$A$6:$A$80,[1]총괄표!$A14) -> 0 | D14: =SUMIFS('[1]4추일입'!$O$6:$O$100,'[1]4추일입'!$A$6:$A$100,[1]총괄표!$A14)+SUMIFS('[1]4추특입'!$O$6:$O$80,'[1]4추특입'!$A$6:$A$80,[1]총괄표!$A14) -> 0 | E14: =D14-C14 -> 0 | F14: =SUMIFS('[1]4추일출'!N$6:N$66,'[1]4추일출'!$A$6:$A$66,[1]총괄표!$A14)+SUMIFS('[1]4추특출'!N$6:N$100,'[1]4추특출'!$A$6:$A$100,[1]총괄표!$A14) -> 0 | G14: =SUMIFS('[1]4추일출'!O$6:O$66,'[1]4추일출'!$A$6:$A$66,[1]총괄표!$A14)+SUMIFS('[1]4추특출'!O$6:O$100,'[1]4추특출'!$A$6:$A$100,[1]총괄표!$A14) -> 0 | H14: =G14-F14 -> 0 | I14: =B14+F14+G14 -> 0
A15: 건설교통위원회 | B15: =B38 -> 0 | C15: =SUMIFS('[1]4추일입'!$N$6:$N$100,'[1]4추일입'!$A$6:$A$100,[1]총괄표!$A15)+SUMIFS('[1]4추특입'!$N$6:$N$80,'[1]4추특입'!$A$6:$A$80,[1]총괄표!$A15) -> 0 | D15: =SUMIFS('[1]4추일입'!$O$6:$O$100,'[1]4추일입'!$A$6:$A$100,[1]총괄표!$A15)+SUMIFS('[1]4추특입'!$O$6:$O$80,'[1]4추특입'!$A$6:$A$80,[1]총괄표!$A15) -> 0 | E15: =D15-C15 -> 0 | F15: =SUMIFS('[1]4추일출'!N$6:N$66,'[1]4추일출'!$A$6:$A$66,[1]총괄표!$A15)+SUMIFS('[1]4추특출'!N$6:N$100,'[1]4추특출'!$A$6:$A$100,[1]총괄표!$A15) -> 0 | G15: =SUMIFS('[1]4추일출'!O$6:O$66,'[1]4추일출'!$A$6:$A$66,[1]총괄표!$A15)+SUMIFS('[1]4추특출'!O$6:O$100,'[1]4추특출'!$A$6:$A$100,[1]총괄표!$A15) -> 0 | H15: =G15-F15 -> 0 | I15: =B15+F15+G15 -> 0
A16: 도시환경위원회 | B16: =B39 -> 0 | C16: =SUMIFS('[1]4추일입'!$N$6:$N$100,'[1]4추일입'!$A$6:$A$100,[1]총괄표!$A16)+SUMIFS('[1]4추특입'!$N$6:$N$80,'[1]4추특입'!$A$6:$A$80,[1]총괄표!$A16) -> 0 | D16: =SUMIFS('[1]4추일입'!$O$6:$O$100,'[1]4추일입'!$A$6:$A$100,[1]총괄표!$A16)+SUMIFS('[1]4추특입'!$O$6:$O$80,'[1]4추특입'!$A$6:$A$80,[1]총괄표!$A16) -> 0 | E16: =D16-C16 -> 0 | F16: =SUMIFS('[1]4추일출'!N$6:N$66,'[1]4추일출'!$A$6:$A$66,[1]총괄표!$A16)+SUMIFS('[1]4추특출'!N$6:N$100,'[1]4추특출'!$A$6:$A$100,[1]총괄표!$A16) -> 0 | G16: =SUMIFS('[1]4추일출'!O$6:O$66,'[1]4추일출'!$A$6:$A$66,[1]총괄표!$A16)+SUMIFS('[1]4추특출'!O$6:O$100,'[1]4추특출'!$A$6:$A$100,[1]총괄표!$A16) -> 0 | H16: =G16-F16 -> 0 | I16: =B16+F16+G16 -> 0
A17: 여상가족교육협력위원회 | B17: =B40 -> 0 | C17: =SUMIFS('[1]4추일입'!$N$6:$N$100,'[1]4추일입'!$A$6:$A$100,[1]총괄표!$A17)+SUMIFS('[1]4추특입'!$N$6:$N$80,'[1]4추특입'!$A$6:$A$80,[1]총괄표!$A17) -> 0 | D17: =SUMIFS('[1]4추일입'!$O$6:$O$100,'[1]4추일입'!$A$6:$A$100,[1]총괄표!$A17)+SUMIFS('[1]4추특입'!$O$6:$O$80,'[1]4추특입'!$A$6:$A$80,[1]총괄표!$A17) -> 0 | E17: =D17-C17 -> 0 | F17: =SUMIFS('[1]4추일출'!N$6:N$66,'[1]4추일출'!$A$6:$A$66,[1]총괄표!$A17)+SUMIFS('[1]4추특출'!N$6:N$100,'[1]4추특출'!$A$6:$A$100,[1]총괄표!$A17) -> 0 | G17: =SUMIFS('[1]4추일출'!O$6:O$66,'[1]4추일출'!$A$6:$A$66,[1]총괄표!$A17)+SUMIFS('[1]4추특출'!O$6:O$100,'[1]4추특출'!$A$6:$A$100,[1]총괄표!$A17) -> 0 | H17: =G17-F17 -> 0 | I17: =B17+F17+G17 -> 0
A19: □ 회계별 예산 총 규모
I20: (단위 : 천원)
A21: 구 분 | B21: 집행부제출(안) | C21: 세입예산(안) | F21: 세출예산(안) | I21: 수정예산(안) | K21: 세입기준
C22: 감 액 | D22: 증 액 | E22: 증감액 | F22: 감 액 | G22: 증 액 | H22: 증감액 | K22: 수정예산(안) | L22: 세출기준-세입기준
A23: 합 계 | B23: =SUM(B24:B25) -> 545260012 | C23: =SUM(C24:C25) -> 0 | D23: =SUM(D24:D25) -> 0 | E23: =SUM(E24:E25) -> 0 | F23: =SUM(F24:F25) -> 0 | G23: =SUM(G24:G25) -> 0 | H23: =SUM(H24:H25) -> 0 | I23: =SUM(I24:I25) -> 545260012 | K23: =SUM(K24:K25) -> 545260012 | L23: =I23-K23 -> 0
A24: 일반회계 | B24: =D30 -> 545260012 | C24: ='[1]4추일입'!N6 -> 0 | D24: ='[1]4추일입'!O6 -> 0 | E24: =D24-C24 -> 0 | F24: ='[1]4추일출'!N6 -> 0 | G24: ='[1]4추일출'!O6 -> 0 | H24: =G24-F24 -> 0 | I24: =B24+F24+G24 -> 545260012 | K24: =B24+C24+D24 -> 545260012 | L24: =I24-K24 -> 0
A25: 특별회계 | B25: =F30+G30 -> 0 | C25: ='[1]4추특입'!N6 -> 0 | D25: ='[1]4추특입'!O6 -> 0 | E25: =D25-C25 -> 0 | F25: ='[1]4추특출'!N6 -> 0 | G25: ='[1]4추특출'!O6 -> 0 | I25: =B25+F25+G25 -> 0 | K25: =B25+C25+D25 -> 0 | L25: =I25-K25 -> 0
A28: ※ 회계별, 위원회별 집행부제출안
A29: 위원회명 | B29: 합계 | C29: 일반+기타 | D29: 일반회계 | E29: 기타특별회계 | F29: 공기업특별회계
A30: 합계 | B30: =SUM(B31:B40) -> 545260012 | C30: =SUM(C31:C40) -> 545260012 | D30: =SUM(D31:D40) -> 545260012 | E30: =SUM(E31:E40) -> 0 | F30: =SUM(F31:F40) -> 0
A31: 의회운영위원회 | B31: =SUM(D31:G31) -> 0 | C31: =D31+F31 -> 0
A32: 기획재정위원회 | B32: =SUM(D32:G32) -> 0 | C32: =D32+F32 -> 0
A33: 경제과학기술위원회 | B33: =SUM(D33:G33) -> 0 | C33: =D33+F33 -> 0
A34: 안전행정위원회 | B34: =SUM(D34:G34) -> 0 | C34: =D34+F34 -> 0
A35: 문화체육관광위원회 | B35: =SUM(D35:G35) -> 0 | C35: =D35+F35 -> 0
A36: 농정해양위원회 | B36: =SUM(D36:G36) -> 545260012 | C36: =D36+F36 -> 545260012 | D36: 545260012
A37: 보건복지위원회 | B37: =SUM(D37:G37) -> 0 | C37: =D37+F37 -> 0
A38: 건설교통위원회 | B38: =SUM(D38:G38) -> 0 | C38: =D38+F38 -> 0
A39: 도시환경위원회 | B39: =SUM(D39:G39) -> 0 | C39: =D39+F39 -> 0
A40: 여상가족교육협력위원회 | B40: =SUM(D40:G40) -> 0 | C40: =D40+F40 -> 0
A42: 예비비

Sheet 4추일입
A1: 2016년도 제4회 추경 경기도 일반회계 세입 예산 조정(안)
A2: □ 세입예산 | Y2: 세입=세출 | AD2: 세입=세출
K3: =COUNTA(K12:K17) -> 1 | L3: =COUNTA(L12:L17) -> 5 | N3: =COUNTA(N12:N17) -> 0 | O3: =COUNTA(O12:O17) -> 0 | T3: (단위 : 천원) | Y3: =IF(Y6='4추일출'!#REF!,"OK","@@") -> #REF! | AA3: =IF(COUNTIF(AA6:AA17,"검토")>0,"@@","OK") -> @@ | AD3: =IF(AD6='4추일출'!#REF!,"OK","@@") -> #REF! | AF3: =IF(COUNTIF(AF6:AF17,"검토")>0,"@@","OK") -> @@
A4: 위원회명 | B4: 실국명 | C4: 부서명 | D4: 편성 구분 | E4: 예산안 페이지 | F4: 사업설명서페이지 | G4: 사업명 | H4: 제4회 추경 예산안 (가) | I4: 기정액 (나) | J4: 제4회 추경 증감액 (다=가-나) | K4: 상임위 제4회 추경 예산안 조정액(라) | M4: 상임위 수정 예산안 (마=가+라) | N4: 예결위 제4회 추경 예산안 조정액(라) | P4: 예결위 수정 예산안 (마=가+라) | Q4: 동의 대상 | R4: 상임위 변경사유 (심의 참고자료) | S4: 비고 (상임위 부대의견) | T4: 비고 (부대의견) | V4: 국도비 등 여부 | X4: 재원 | Y4: 상임위 재원별 증감액 | AC4: 재원 | AD4: 예결위 재원별 증감액 | AH4: 세입번호 | AJ4: 실국부서 코드 | AL4: 추가 내시 등 | AN4: 상임위 세입 검증 | AR4: 예결위 세입 검증
K5: 감액 | L5: 증액 | N5: 감액 | O5: 증액 | Y5: 국비 등 | Z5: 도비 | AA5: 검증 | AD5: 국비 등 | AE5: 도비 | AF5: 검증 | AN5: 국비 증감액 | AO5: 건수 | AP5: 검증 | AR5: 국비 증감액 | AS5: 건수 | AT5: 검증
A6: 합 계 | H6: =SUM(H7:H17) -> 113904008 | I6: =SUM(I7:I17) -> 113904008 | J6: =SUM(J7:J17) -> 0 | K6: =SUM(K7:K17) -> -5969523 | L6: =SUM(L7:L17) -> 18267458 | M6: =SUM(M7:M17) -> 126201943 | N6: =SUBTOTAL(9,N12:N17) -> 0 | O6: =SUBTOTAL(9,O12:O17) -> 0 | P6: =SUBTOTAL(9,P12:P17) -> 33045388 | Y6: =SUBTOTAL(9,Y12:Y17) -> -4996274 | Z6: =SUBTOTAL(9,Z12:Z17) -> 186880 | AA6: =IF(SUM($K6:$L6)=SUM($Y6:$Z6),"OK","검토") -> 검토 | AD6: =SUBTOTAL(9,AD12:AD17) -> 0 | AE6: =SUBTOTAL(9,AE12:AE17) -> 0 | AF6: =IF(SUM($K6:$L6)=SUM($Y6:$Z6),"OK","검토") -> 검토 | AN6: =SUBTOTAL(9,AN12:AN17) -> -4996274 | AO6: =SUBTOTAL(9,AO12:AO17) -> 5 | AP6: =IF(COUNTIF(AP12:AP17,"@@")>0,"@@","OK") -> OK | AR6: =SUBTOTAL(9,AR12:AR17) -> 0 | AS6: =SUBTOTAL(9,AS12:AS17) -> 5 | AT6: =IF(COUNTIF(AT12:AT17,"@@")>0,"@@","OK") -> @@
A7: 농정해양위원회 | B7: 농정해양국 | C7: 친환경농업과 | D7: 4회추경 | G7: 쌀소득보전고정직불 | H7: 71622960 | I7: 71622960 | J7: =IF(D7="","",H7-I7) -> 0 | K7: -250500 | M7: =H7+K7+L7 -> 71372460 | P7: =H7+N7+O7 -> 71622960 | Q7: =IF(AND((M7=0),(P7>0)),"O",IF(AND((K7<0),(M7-P7<0)),"O","X")) -> O | R7: 국비변경내시/농림축산식품부 농가소득안정추진단-2991(2016.11.2) | V7: 국도비 | X7: 국비 | Y7: -250500 | Z7: 0 | AA7: =IF(SUM($K7:$L7)=SUM($Y7:$Z7),"OK","검토") -> OK | AD7: =IF($X7<>"도비",IF($V7="국도비","직접입력",SUM($N7:$O7)),) -> 직접입력 | AE7: =IF($X7="도비",SUM(N7:O7),IF($V7="국도비","직접입력",SUM(N7:O7)-AD7)) -> 직접입력 | AF7: =IF(SUM(N7:O7)=SUM(AD7:AE7),"OK","검토") -> OK | AH7: =IF(AJ7="","",IF(X7="도비","세입없음",CONCATENATE(AJ7,"-",COUNTIF($AJ$7:AJ7,AJ7)))) -> 0223-1 | AJ7: {=IF(C7="","",INDEX([2]구분표!$I$2:$I$313, MATCH(1,([2]구분표!$E$2:$E$313='[2]4추일입'!B7)*([2]구분표!$F$2:$F$313='[2]4추일입'!C7)*([2]구분표!$G$2:$G$313='[2]4추일입'!A7),0)))} -> 0223 | AN7: -250000 | AO7: =IF(AH7="","",COUNTIFS('4추일출'!$AH$6:$AH$16,'4추일입'!AH7)) -> 1 | AP7: =IF(Y7=AN7,"OK","@@") -> @@ | AR7: =IF(AH7="",0,SUMIFS('[2]4추일출'!$AC$6:$AC$66,'[2]4추일출'!$AG$6:$AG$66,'[2]4추일입'!$AG7)) -> #VALUE! | AS7: =IF(AH7="","",COUNTIFS('[2]4추일출'!$AG$6:$AG$66,AH7)) -> #VALUE! | AT7: =IF(AD7=AR7,"OK","@@") -> #VALUE!
A8: 농정해양위원회 | B8: 농정해양국 | C8: 친환경농업과 | D8: 4회추경 | G8: 밭농업직불제 | H8: 8894660 | I8: 8894660 | J8: =IF(D8="","",H8-I8) -> 0 | K8: -100419 | M8: =H8+K8+L8 -> 8794241 | P8: =H8+N8+O8 -> 8894660 | Q8: =IF(AND((M8=0),(P8>0)),"O",IF(AND((K8<0),(M8-P8<0)),"O","X")) -> O | R8: 국비변경내시/농림축산식품부 농가소득안정추진단-3123(2016.11.10) | V8: 국도비 | X8: 국비 | Y8: -100419 | Z8: 0 | AA8: =IF(SUM($K8:$L8)=SUM($Y8:$Z8),"OK","검토") -> OK | AD8: =IF($X8<>"도비",IF($V8="국도비","직접입력",SUM($N8:$O8)),) -> 직접입력 | AE8: =IF($X8="도비",SUM(N8:O8),IF($V8="국도비","직접입력",SUM(N8:O8)-AD8)) -> 직접입력 | AF8: =IF(SUM(N8:O8)=SUM(AD8:AE8),"OK","검토") -> OK | AH8: =IF(AJ8="","",IF(X8="도비","세입없음",CONCATENATE(AJ8,"-",COUNTIF($AJ$7:AJ8,AJ8)))) -> 0223-2 | AJ8: {=IF(C8="","",INDEX([2]구분표!$I$2:$I$313, MATCH(1,([2]구분표!$E$2:$E$313='[2]4추일입'!B8)*([2]구분표!$F$2:$F$313='[2]4추일입'!C8)*([2]구분표!$G$2:$G$313='[2]4추일입'!A8),0)))} -> 0223 | AN8: -100419 | AO8: =IF(AH8="","",COUNTIFS('4추일출'!$AH$6:$AH$16,'4추일입'!AH8)) -> 1 | AP8: =IF(Y8=AN8,"OK","@@") -> OK | AR8: =IF(AH8="",0,SUMIFS('[2]4추일출'!$AC$6:$AC$66,'[2]4추일출'!$AG$6:$AG$66,'[2]4추일입'!$AG8)) -> #VALUE! | AS8: =IF(AH8="","",COUNTIFS('[2]4추일출'!$AG$6:$AG$66,AH8)) -> #VALUE! | AT8: =IF(AD8=AR8,"OK","@@") -> #VALUE!
A9: 농정해양위원회 | B9: 농정해양국 | C9: 친환경농업과 | D9: 4회추경 | G9: 조건불리지역직접지불 | H9: 341000 | I9: 341000 | J9: =IF(D9="","",H9-I9) -> 0 | K9: -81604 | M9: =H9+K9+L9 -> 259396 | P9: =H9+N9+O9 -> 341000 | Q9: =IF(AND((M9=0),(P9>0)),"O",IF(AND((K9<0),(M9-P9<0)),"O","X")) -> O | R9: 국비변경내시/농림축산식품부 농가소득안정추진단-3123(2016.11.10) | V9: 국도비 | X9: 국비 | Y9: -81604 | Z9: 0 | AA9: =IF(SUM($K9:$L9)=SUM($Y9:$Z9),"OK","검토") -> OK | AD9: =IF($X9<>"도비",IF($V9="국도비","직접입력",SUM($N9:$O9)),) -> 직접입력 | AE9: =IF($X9="도비",SUM(N9:O9),IF($V9="국도비","직접입력",SUM(N9:O9)-AD9)) -> 직접입력 | AF9: =IF(SUM(N9:O9)=SUM(AD9:AE9),"OK","검토") -> OK | AH9: =IF(AJ9="","",IF(X9="도비","세입없음",CONCATENATE(AJ9,"-",COUNTIF($AJ$7:AJ9,AJ9)))) -> 0223-3 | AJ9: {=IF(C9="","",INDEX([2]구분표!$I$2:$I$313, MATCH(1,([2]구분표!$E$2:$E$313='[2]4추일입'!B9)*([2]구분표!$F$2:$F$313='[2]4추일입'!C9)*([2]구분표!$G$2:$G$313='[2]4추일입'!A9),0)))} -> 0223 | AN9: -81604 | AO9: =IF(AH9="","",COUNTIFS('4추일출'!$AH$6:$AH$16,'4추일입'!AH9)) -> 1 | AP9: =IF(Y9=AN9,"OK","@@") -> OK | AR9: =IF(AH9="",0,SUMIFS('[2]4추일출'!$AC$6:$AC$66,'[2]4추일출'!$AG$6:$AG$66,'[2]4추일입'!$AG9)) -> #VALUE! | AS9: =IF(AH9="","",COUNTIFS('[2]4추일출'!$AG$6:$AG$66,AH9)) -> #VALUE! | AT9: =IF(AD9=AR9,"OK","@@") -> #VALUE!
A10: 농정해양위원회 | B10: 농정해양국 | C10: 친환경농업과 | D10: 4회추경 | G10: FTA피해보전직불제 | H10: 0 | I10: 0 | J10: =IF(D10="","",H10-I10) -> 0 | L10: 4239709 | M10: =H10+K10+L10 -> 4239709 | P10: =H10+N10+O10 -> 0 | Q10: =IF(AND((M10=0),(P10>0)),"O",IF(AND((K10<0),(M10-P10<0)),"O","X")) -> X | R10: 국비변경내시/농림축산식품부 원예경영과-4874(2016.11.11) | V10: 국도비 | X10: 기금 | Y10: 4239709 | Z10: 0 | AA10: =IF(SUM($K10:$L10)=SUM($Y10:$Z10),"OK","검토") -> OK | AD10: =IF($X10<>"도비",IF($V10="국도비","직접입력",SUM($N10:$O10)),) -> 직접입력 | AE10: =IF($X10="도비",SUM(N10:O10),IF($V10="국도비","직접입력",SUM(N10:O10)-AD10)) -> 직접입력 | AF10: =IF(SUM(N10:O10)=SUM(AD10:AE10),"OK","검토") -> OK | AH10: =IF(AJ10="","",IF(X10="도비","세입없음",CONCATENATE(AJ10,"-",COUNTIF($AJ$7:AJ10,AJ10)))) -> 0223-4 | AJ10: {=IF(C10="","",INDEX([2]구분표!$I$2:$I$313, MATCH(1,([2]구분표!$E$2:$E$313='[2]4추일입'!B10)*([2]구분표!$F$2:$F$313='[2]4추일입'!C10)*([2]구분표!$G$2:$G$313='[2]4추일입'!A10),0)))} -> 0223 | AN10: 4239709 | AO10: =IF(AH10="","",COUNTIFS('4추일출'!$AH$6:$AH$16,'4추일입'!AH10)) -> 1 | AP10: =IF(Y10=AN10,"OK","@@") -> OK | AR10: =IF(AH10="",0,SUMIFS('[2]4추일출'!$AC$6:$AC$66,'[2]4추일출'!$AG$6:$AG$66,'[2]4추일입'!$AG10)) -> #VALUE! | AS10: =IF(AH10="","",COUNTIFS('[2]4추일출'!$AG$6:$AG$66,AH10)) -> #VALUE! | AT10: =IF(AD10=AR10,"OK","@@") -> #VALUE!
A11: 농정해양위원회 | B11: 농정해양국 | C11: 친환경농업과 | D11: 4회추경 | G11: FTA폐업지원제 | H11: 0 | I11: 0 | J11: =IF(D11="","",H11-I11) -> 0 | L11: 13300143 | M11: =H11+K11+L11 -> 13300143 | P11: =H11+N11+O11 -> 0 | Q11: =IF(AND((M11=0),(P11>0)),"O",IF(AND((K11<0),(M11-P11<0)),"O","X")) -> X | R11: 국비변경내시/농림축산식품부 원예경영과-4874(2016.11.11) | V11: 국도비 | X11: 기금 | Y11: 13300143 | Z11: 0 | AA11: =IF(SUM($K11:$L11)=SUM($Y11:$Z11),"OK","검토") -> OK | AD11: =IF($X11<>"도비",IF($V11="국도비","직접입력",SUM($N11:$O11)),) -> 직접입력 | AE11: =IF($X11="도비",SUM(N11:O11),IF($V11="국도비","직접입력",SUM(N11:O11)-AD11)) -> 직접입력 | AF11: =IF(SUM(N11:O11)=SUM(AD11:AE11),"OK","검토") -> OK | AH11: =IF(AJ11="","",IF(X11="도비","세입없음",CONCATENATE(AJ11,"-",COUNTIF($AJ$7:AJ11,AJ11)))) -> 0223-5 | AJ11: {=IF(C11="","",INDEX([2]구분표!$I$2:$I$313, MATCH(1,([2]구분표!$E$2:$E$313='[2]4추일입'!B11)*([2]구분표!$F$2:$F$313='[2]4추일입'!C11)*([2]구분표!$G$2:$G$313='[2]4추일입'!A11),0)))} -> 0223 | AN11: 13300143 | AO11: =IF(AH11="","",COUNTIFS('4추일출'!$AH$6:$AH$16,'4추일입'!AH11)) -> 1 | AP11: =IF(Y11=AN11,"OK","@@") -> OK | AR11: =IF(AH11="",0,SUMIFS('[2]4추일출'!$AC$6:$AC$66,'[2]4추일출'!$AG$6:$AG$66,'[2]4추일입'!$AG11)) -> #VALUE! | AS11: =IF(AH11="","",COUNTIFS('[2]4추일출'!$AG$6:$AG$66,AH11)) -> #VALUE! | AT11: =IF(AD11=AR11,"OK","@@") -> #VALUE!
A12: =IFERROR(VLOOKUP($C12,구분표!$A$2:$C$313,2,FALSE),"") -> 농정해양위원회 | B12: =IFERROR(VLOOKUP($C12,구분표!$A$2:$C$313,3,FALSE),"") -> 축산산림국 | C12: 축산진흥센터 | D12: 신규 | G12: 기금 - 말산업전문인력양성기관지원 | H12: 0 | I12: 0 | J12: =IF(D12="","",H12-I12) -> 0 | L12: 300000 | M12: =H12+K12+L12 -> 300000 | P12: =H12+N12+O12 -> 0 | Q12: =IF(AND((M12=0),(P12>0)),"O",IF(AND((K12<0),(M12-P12<0)),"O","X")) -> X | R12: 국고내시/농림축산식품부 친환경축산팀 -4656('16.11.4) | V12: 국도비 | X12: 기금 | Y12: 300000 | Z12: 0 | AA12: =IF(SUM($K12:$L12)=SUM($Y12:$Z12),"OK","검토") -> OK | AD12: =IF($X12<>"도비",IF($V12="국도비","직접입력",SUM($N12:$O12)),) -> 직접입력 | AE12: =IF($X12="도비",SUM(N12:O12),IF($V12="국도비","직접입력",SUM(N12:O12)-AD12)) -> 직접입력 | AF12: =IF(SUM(N12:O12)=SUM(AD12:AE12),"OK","검토") -> OK | AH12: =IF(AJ12="","",IF(X12="도비","세입없음",CONCATENATE(AJ12,"-",COUNTIF($AJ$12:AJ12,AJ12)))) -> 0233-1 | AJ12: {=IF(C12="","",INDEX(구분표!$I$2:$I$313, MATCH(1,(구분표!$E$2:$E$313='4추일입'!B12)*(구분표!$F$2:$F$313='4추일입'!C12)*(구분표!$G$2:$G$313='4추일입'!A12),0)))} -> 0233 | AN12: 300000 | AO12: =IF(AH12="","",COUNTIFS('4추일출'!$AH$6:$AH$16,'4추일입'!AH12)) -> 0 | AP12: =IF(Y12=AN12,"OK","@@") -> OK | AR12: =IF(AH12="",0,SUMIFS('4추일출'!$AD$6:$AD$16,'4추일출'!$AH$6:$AH$16,'4추일입'!$AH12)) -> 0 | AS12: =IF(AH12="","",COUNTIFS('4추일출'!$AH$6:$AH$16,AH12)) -> 0 | AT12: =IF(AD12=AR12,"OK","@@") -> @@
A13: =IFERROR(VLOOKUP($C13,[3]구분표!$A$2:$C$313,2,FALSE),"") -> 농정해양위원회 | B13: =IFERROR(VLOOKUP($C13,[3]구분표!$A$2:$C$313,3,FALSE),"") -> 축산산림국 | C13: 동물방역위생과 | D13: 본예산 | G13: 국고보조금 - 살처분 보상금 지원 | H13: 10240000 | I13: 10240000 | J13: =IF(D13="","",H13-I13) -> 0 | K13: -5537000 | M13: =H13+K13+L13 -> 4703000 | P13: =H13+N13+O13 -> 10240000 | Q13: =IF(AND((M13=0),(P13>0)),"O",IF(AND((K13<0),(M13-P13<0)),"O","X")) -> O | R13: 국비변경내시 농림축산식품부 방역총괄과-6477(2016.10.18) | V13: 국도비 | X13: 기금 | Y13: -5537000 | Z13: 0 | AA13: =IF(SUM($K13:$L13)=SUM($Y13:$Z13),"OK","검토") -> OK | AD13: =IF($X13<>"도비",IF($V13="국도비","직접입력",SUM($N13:$O13)),) -> 직접입력 | AE13: =IF($X13="도비",SUM(N13:O13),IF($V13="국도비","직접입력",SUM(N13:O13)-AD13)) -> 직접입력 | AF13: =IF(SUM(N13:O13)=SUM(AD13:AE13),"OK","검토") -> OK | AH13: =IF(AJ13="","",IF(X13="도비","세입없음",CONCATENATE(AJ13,"-",COUNTIF($AJ$12:AJ13,AJ13)))) -> 0228-1 | AJ13: {=IF(C13="","",INDEX(구분표!$I$2:$I$313, MATCH(1,(구분표!$E$2:$E$313='4추일입'!B13)*(구분표!$F$2:$F$313='4추일입'!C13)*(구분표!$G$2:$G$313='4추일입'!A13),0)))} -> 0228 | AN13: -5537000 | AO13: =IF(AH13="","",COUNTIFS('4추일출'!$AH$6:$AH$16,'4추일입'!AH13)) -> 1 | AP13: =IF(Y13=AN13,"OK","@@") -> OK | AR13: =IF(AH13="",0,SUMIFS('4추일출'!$AD$6:$AD$16,'4추일출'!$AH$6:$AH$16,'4추일입'!$AH13)) -> 0 | AS13: =IF(AH13="","",COUNTIFS('4추일출'!$AH$6:$AH$16,AH13)) -> 1 | AT13: =IF(AD13=AR13,"OK","@@") -> @@
A14: =IFERROR(VLOOKUP($C14,[3]구분표!$A$2:$C$313,2,FALSE),"") -> 농정해양위원회 | B14: =IFERROR(VLOOKUP($C14,[3]구분표!$A$2:$C$313,3,FALSE),"") -> 축산산림국 | C14: 동물방역위생과 | D14: 신규 | G14: 과징금 - 동물방역위생과 과징금 수입 | H14: 0 | I14: 0 | J14: =IF(D14="","",H14-I14) -> 0 | L14: 143880 | M14: =H14+K14+L14 -> 143880 | P14: =H14+N14+O14 -> 0 | Q14: =IF(AND((M14=0),(P14>0)),"O",IF(AND((K14<0),(M14-P14<0)),"O","X")) -> X | R14: 2016년 축산물 위생관리법 위반 과징금 수입 세입조치 | V14: 도비 | X14: 도비 | Y14: =IF($X14<>"도비",IF($V14="국도비","직접입력",SUM($K14:$L14)),) -> 0 | Z14: =IF($X14="도비",SUM($K14:$L14),IF($V14="국도비","직접입력",SUM($K14:$L14)-$Y14)) -> 143880 | AA14: =IF(SUM($K14:$L14)=SUM($Y14:$Z14),"OK","검토") -> OK | AD14: =IF($X14<>"도비",IF($V14="국도비","직접입력",SUM($N14:$O14)),) -> 0 | AE14: =IF($X14="도비",SUM(N14:O14),IF($V14="국도비","직접입력",SUM(N14:O14)-AD14)) -> 0 | AF14: =IF(SUM(N14:O14)=SUM(AD14:AE14),"OK","검토") -> OK | AH14: =IF(AJ14="","",IF(X14="도비","세입없음",CONCATENATE(AJ14,"-",COUNTIF($AJ$12:AJ14,AJ14)))) -> 세입없음 | AJ14: {=IF(C14="","",INDEX(구분표!$I$2:$I$313, MATCH(1,(구분표!$E$2:$E$313='4추일입'!B14)*(구분표!$F$2:$F$313='4추일입'!C14)*(구분표!$G$2:$G$313='4추일입'!A14),0)))} -> 0228 | AN14: =IF(AH14="",0,SUMIFS('4추일출'!$Y$6:$Y$16,'4추일출'!$AH$6:$AH$16,'4추일입'!$AH14)) -> 0 | AO14: =IF(AH14="","",COUNTIFS('4추일출'!$AH$6:$AH$16,'4추일입'!AH14)) -> 0 | AP14: =IF(Y14=AN14,"OK","@@") -> OK | AR14: =IF(AH14="",0,SUMIFS('4추일출'!$AD$6:$AD$16,'4추일출'!$AH$6:$AH$16,'4추일입'!$AH14)) -> 0 | AS14: =IF(AH14="","",COUNTIFS('4추일출'!$AH$6:$AH$16,AH14)) -> 0 | AT14: =IF(AD14=AR14,"OK","@@") -> OK
A15: =IFERROR(VLOOKUP($C15,[3]구분표!$A$2:$C$313,2,FALSE),"") -> 농정해양위원회 | B15: =IFERROR(VLOOKUP($C15,[3]구분표!$A$2:$C$313,3,FALSE),"") -> 축산산림국 | C15: 동물방역위생과 | D15: 신규 | G15: 과태료 - 동물방역위생과 과태료 수입 | H15: 0 | I15: 0 | J15: =IF(D15="","",H15-I15) -> 0 | L15: 43000 | M15: =H15+K15+L15 -> 43000 | P15: =H15+N15+O15 -> 0 | Q15: =IF(AND((M15=0),(P15>0)),"O",IF(AND((K15<0),(M15-P15<0)),"O","X")) -> X | R15: 2016년 축산물 위생관리법 위반 과태료 수입 세입조치 | V15: 도비 | X15: 도비 | Y15: =IF($X15<>"도비",IF($V15="국도비","직접입력",SUM($K15:$L15)),) -> 0 | Z15: =IF($X15="도비",SUM($K15:$L15),IF($V15="국도비","직접입력",SUM($K15:$L15)-$Y15)) -> 43000 | AA15: =IF(SUM($K15:$L15)=SUM($Y15:$Z15),"OK","검토") -> OK | AD15: =IF($X15<>"도비",IF($V15="국도비","직접입력",SUM($N15:$O15)),) -> 0 | AE15: =IF($X15="도비",SUM(N15:O15),IF($V15="국도비","직접입력",SUM(N15:O15)-AD15)) -> 0 | AF15: =IF(SUM(N15:O15)=SUM(AD15:AE15),"OK","검토") -> OK | AH15: =IF(AJ15="","",IF(X15="도비","세입없음",CONCATENATE(AJ15,"-",COUNTIF($AJ$12:AJ15,AJ15)))) -> 세입없음 | AJ15: {=IF(C15="","",INDEX(구분표!$I$2:$I$313, MATCH(1,(구분표!$E$2:$E$313='4추일입'!B15)*(구분표!$F$2:$F$313='4추일입'!C15)*(구분표!$G$2:$G$313='4추일입'!A15),0)))} -> 0228 | AN15: =IF(AH15="",0,SUMIFS('4추일출'!$Y$6:$Y$16,'4추일출'!$AH$6:$AH$16,'4추일입'!$AH15)) -> 0 | AO15: =IF(AH15="","",COUNTIFS('4추일출'!$AH$6:$AH$16,'4추일입'!AH15)) -> 0 | AP15: =IF(Y15=AN15,"OK","@@") -> OK | AR15: =IF(AH15="",0,SUMIFS('4추일출'!$AD$6:$AD$16,'4추일출'!$AH$6:$AH$16,'4추일입'!$AH15)) -> 0 | AS15: =IF(AH15="","",COUNTIFS('4추일출'!$AH$6:$AH$16,AH15)) -> 0 | AT15: =IF(AD15=AR15,"OK","@@") -> OK
A16: =IFERROR(VLOOKUP($C16,구분표!$A$2:$C$313,2,FALSE),"") -> 농정해양위원회 | B16: =IFERROR(VLOOKUP($C16,구분표!$A$2:$C$313,3,FALSE),"") -> 축산산림국 | C16: 동물방역위생과 | D16: 신규 | G16: 국고보조금 - 시도가축방역사업 | H16: 15180953 | I16: 15180953 | J16: =IF(D16="","",H16-I16) -> 0 | L16: 127000 | M16: =H16+K16+L16 -> 15307953 | P16: =H16+N16+O16 -> 15180953 | Q16: =IF(AND((M16=0),(P16>0)),"O",IF(AND((K16<0),(M16-P16<0)),"O","X")) -> X | R16: 국비 추가교부 농림축산식품부 방역총괄과-6982('16.11.15) | V16: 국도비 | X16: 국비 | Y16: 127000 | Z16: 0 | AA16: =IF(SUM($K16:$L16)=SUM($Y16:$Z16),"OK","검토") -> OK | AD16: =IF($X16<>"도비",IF($V16="국도비","직접입력",SUM($N16:$O16)),) -> 직접입력 | AE16: =IF($X16="도비",SUM(N16:O16),IF($V16="국도비","직접입력",SUM(N16:O16)-AD16)) -> 직접입력 | AF16: =IF(SUM(N16:O16)=SUM(AD16:AE16),"OK","검토") -> OK | AH16: =IF(AJ16="","",IF(X16="도비","세입없음",CONCATENATE(AJ16,"-",COUNTIF($AJ$12:AJ16,AJ16)))) -> 0228-4 | AJ16: {=IF(C16="","",INDEX(구분표!$I$2:$I$313, MATCH(1,(구분표!$E$2:$E$313='4추일입'!B16)*(구분표!$F$2:$F$313='4추일입'!C16)*(구분표!$G$2:$G$313='4추일입'!A16),0)))} -> 0228 | AN16: =IF(AH16="",0,SUMIFS('4추일출'!$Y$6:$Y$16,'4추일출'!$AH$6:$AH$16,'4추일입'!$AH16)) -> 127000 | AO16: =IF(AH16="","",COUNTIFS('4추일출'!$AH$6:$AH$16,'4추일입'!AH16)) -> 2 | AP16: =IF(Y16=AN16,"OK","@@") -> OK | AR16: =IF(AH16="",0,SUMIFS('4추일출'!$AD$6:$AD$16,'4추일출'!$AH$6:$AH$16,'4추일입'!$AH16)) -> 0 | AS16: =IF(AH16="","",COUNTIFS('4추일출'!$AH$6:$AH$16,AH16)) -> 2 | AT16: =IF(AD16=AR16,"OK","@@") -> @@
A17: 농정해양위원회 | B17: 축산산림국 | C17: 축산정책과 | D17: 본예산 | G17: 기금 - 학교우유급식지원사업 | H17: 7624435 | I17: 7624435 | J17: =IF(D17="","",H17-I17) -> 0 | L17: 113726 | M17: =H17+K17+L17 -> 7738161 | P17: =H17+N17+O17 -> 7624435 | Q17: =IF(AND((M17=0),(P17>0)),"O",IF(AND((K17<0),(M17-P17<0)),"O","X")) -> X | R17: 국비변경내시 농림축산식품부 축산경영과-4294(2016.11.1) | V17: 국도비 | X17: 국비 | Y17: 113726 | Z17: 0 | AA17: =IF(SUM($K17:$L17)=SUM($Y17:$Z17),"OK","검토") -> OK | AD17: =IF($X17<>"도비",IF($V17="국도비","직접입력",SUM($N17:$O17)),) -> 직접입력 | AE17: =IF($X17="도비",SUM(N17:O17),IF($V17="국도비","직접입력",SUM(N17:O17)-AD17)) -> 직접입력 | AF17: =IF(SUM(N17:O17)=SUM(AD17:AE17),"OK","검토") -> OK | AH17: =IF(AJ17="","",IF(X17="도비","세입없음",CONCATENATE(AJ17,"-",COUNTIF($AJ$12:AJ17,AJ17)))) -> 0227-1 | AJ17: {=IF(C17="","",INDEX(구분표!$I$2:$I$313, MATCH(1,(구분표!$E$2:$E$313='4추일입'!B17)*(구분표!$F$2:$F$313='4추일입'!C17)*(구분표!$G$2:$G$313='4추일입'!A17),0)))} -> 0227 | AN17: 113726 | AO17: =IF(AH17="","",COUNTIFS('4추일출'!$AH$6:$AH$16,'4추일입'!AH17)) -> 2 | AP17: =IF(Y17=AN17,"OK","@@") -> OK | AR17: =IF(AH17="",0,SUMIFS('4추일출'!$AD$6:$AD$16,'4추일출'!$AH$6:$AH$16,'4추일입'!$AH17)) -> 0 | AS17: =IF(AH17="","",COUNTIFS('4추일출'!$AH$6:$AH$16,AH17)) -> 2 | AT17: =IF(AD17=AR17,"OK","@@") -> @@

Sheet 4추일출
A1: 2016년도 제4회 추경 경기도 일반회계 세출 예산 조정(안)
A2: □ 세출예산 | Y2: 세입=세출 | AD2: 세입=세출
K3: =COUNTA(K6:K16)-10 -> -4 | L3: =COUNTA(L6:L16)-10 -> -2 | N3: =COUNTA(N6:N16)-10 -> -9 | O3: =COUNTA(O6:O16)-10 -> -9 | T3: (단위 : 천원) | Y3: =IF(#REF!='4추일입'!Y6,"OK","@@") -> #REF! | AA3: =IF(COUNTIF(AA6:AA16,"검토")>0,"@@","OK") -> OK | AD3: =IF(#REF!='4추일입'!AD6,"OK","@@") -> #REF! | AF3: =IF(COUNTIF(AF6:AF16,"검토")>0,"@@","OK") -> OK
A4: 위원회명 | B4: 실국명 | C4: 부서명 | D4: 편성 구분 | E4: 예산안 페이지 | F4: 사업설명서페이지 | G4: 세부사업명 및 부기명 | H4: 제4회 추경 예산안 (가) | I4: 기정액 (나) | J4: 제4회 추경 증감액 (다=가-나) | K4: 상임위 제4회 추경 예산안 조정액(라) | M4: 상임위 수정 예산안 (마=가+라) | N4: 예결위 제4회 추경 예산안 조정액(라) | P4: 예결위 수정 예산안 (마=가+라) | Q4: 동의 대상 | R4: 상임위 변경사유 (심의 참고자료) | S4: 비고 (상임위 부대의견) | T4: 비고 (부대의견) | V4: 국도비 등 여부 | X4: 재원 | Y4: 상임위 재원별 증감액 | AC4: 재원 | AD4: 예결위 재원별 증감액 | AH4: 세입번호 | AJ4: 동일 세입 건수 | AK4: 세출 번호 검증 | AM4: 실국부서 코드 | AO4: 추가 내시 등
K5: 감액 | L5: 증액 | N5: 감액 | O5: 증액 | Y5: 국비 등 | Z5: 도비 | AA5: 검증 | AD5: 국비 등 | AE5: 도비 | AF5: 검증
A6: (농정해양위원회) | H6: =SUM(H7:H16) -> 100003055 | I6: =SUM(I7:I16) -> 100003055 | J6: =SUM(J7:J16) -> 0 | K6: =SUM(K7:K16) -> -6661648 | L6: =SUM(L7:L16) -> 18080578 | M6: =SUM(M7:M16) -> 111421985 | N6: =SUM(N12:N16) -> 0 | O6: =SUM(O12:O16) -> 0 | P6: =SUM(P12:P16) -> 19144435 | AH6: =IF(X6="","",IF(X6="도비","세입없음","직접입력"))
A7: 농정해양위원회 | B7: 농정해양국 | C7: 친환경농업과 | D7: 4회추경 | G7: 쌀소득등보전직불제(국비/지원) - 쌀소득등보전직불제 | H7: 71622960 | I7: 71622960 | J7: 0 | K7: -250500 | M7: =H7+K7+L7 -> 71372460 | P7: =H7+N7+O7 -> 71622960 | Q7: =IF(AND((M7=0),(P7>0)),"O",IF(AND((K7<0),(M7-P7<0)),"O","X")) -> O | R7: 국비변경내시/농림축산식품부 농가소득안정추진단-2991(2016.11.2) | V7: 국도비 | X7: 국비 | Y7: -250500 | Z7: 0 | AA7: =IF(SUM($K7:$L7)=SUM($Y7:$Z7),"OK","검토") -> OK | AD7: =IF($X7<>"도비",IF($V7="국도비","직접입력",SUM($N7:$O7)),) -> 직접입력 | AE7: =IF($X7="도비",SUM(N7:O7),IF($V7="국도비","직접입력",SUM(N7:O7)-AD7)) -> 직접입력 | AF7: =IF(SUM(N7:O7)=SUM(AD7:AE7),"OK","검토") -> OK | AH7: 0223-1 | AJ7: =IF(AH7="","",COUNTIF($AH$6:$AH$65,AH7)) -> 1 | AK7: =IF(X7="","",IF(AND(X7="도비",AH7="세입없음"),"OK",IF(AND(X7<>"도비",AH7<>""),"OK","@@"))) -> OK | AM7: {=IF(C7="","",INDEX(구분표!$I$2:$I$313, MATCH(1,(구분표!$E$2:$E$313='4추일출'!B7)*(구분표!$F$2:$F$313='4추일출'!C7)*(구분표!$G$2:$G$313='4추일출'!A7),0)))} -> 0223
A8: 농정해양위원회 | B8: 농정해양국 | C8: 친환경농업과 | D8: 4회추경 | G8: 밭농업직불제(국비/지원) - 밭농업직불제 | H8: 8894660 | I8: 8894660 | J8: =IF(D8="","",H8-I8) -> 0 | K8: -100419 | M8: =H8+K8+L8 -> 8794241 | P8: =H8+N8+O8 -> 8894660 | Q8: =IF(AND((M8=0),(P8>0)),"O",IF(AND((K8<0),(M8-P8<0)),"O","X")) -> O | R8: 국비변경내시/농림축산식품부 농가소득안정추진단-3123(2016.11.10) | V8: 국도비 | X8: 국비 | Y8: -100419 | Z8: 0 | AA8: =IF(SUM($K8:$L8)=SUM($Y8:$Z8),"OK","검토") -> OK | AD8: =IF($X8<>"도비",IF($V8="국도비","직접입력",SUM($N8:$O8)),) -> 직접입력 | AE8: =IF($X8="도비",SUM(N8:O8),IF($V8="국도비","직접입력",SUM(N8:O8)-AD8)) -> 직접입력 | AF8: =IF(SUM(N8:O8)=SUM(AD8:AE8),"OK","검토") -> OK | AH8: 0223-2 | AJ8: =IF(AH8="","",COUNTIF($AH$6:$AH$65,AH8)) -> 1 | AK8: =IF(X8="","",IF(AND(X8="도비",AH8="세입없음"),"OK",IF(AND(X8<>"도비",AH8<>""),"OK","@@"))) -> OK | AM8: {=IF(C8="","",INDEX(구분표!$I$2:$I$313, MATCH(1,(구분표!$E$2:$E$313='4추일출'!B8)*(구분표!$F$2:$F$313='4추일출'!C8)*(구분표!$G$2:$G$313='4추일출'!A8),0)))} -> 0223
A9: 농정해양위원회 | B9: 농정해양국 | C9: 친환경농업과 | D9: 4회추경 | G9: 조건불리지역직접지불(국비/지원) - 조건불리지역직접지불 | H9: 341000 | I9: 341000 | J9: =IF(D9="","",H9-I9) -> 0 | K9: -81604 | M9: =H9+K9+L9 -> 259396 | P9: =H9+N9+O9 -> 341000 | Q9: =IF(AND((M9=0),(P9>0)),"O",IF(AND((K9<0),(M9-P9<0)),"O","X")) -> O | R9: 국비변경내시/농림축산식품부 농가소득안정추진단-3123(2016.11.10) | V9: 국도비 | X9: 국비 | Y9: -81604 | Z9: 0 | AA9: =IF(SUM($K9:$L9)=SUM($Y9:$Z9),"OK","검토") -> OK | AD9: =IF($X9<>"도비",IF($V9="국도비","직접입력",SUM($N9:$O9)),) -> 직접입력 | AE9: =IF($X9="도비",SUM(N9:O9),IF($V9="국도비","직접입력",SUM(N9:O9)-AD9)) -> 직접입력 | AF9: =IF(SUM(N9:O9)=SUM(AD9:AE9),"OK","검토") -> OK | AH9: 0223-3 | AJ9: =IF(AH9="","",COUNTIF($AH$6:$AH$65,AH9)) -> 1 | AK9: =IF(X9="","",IF(AND(X9="도비",AH9="세입없음"),"OK",IF(AND(X9<>"도비",AH9<>""),"OK","@@"))) -> OK | AM9: {=IF(C9="","",INDEX(구분표!$I$2:$I$313, MATCH(1,(구분표!$E$2:$E$313='4추일출'!B9)*(구분표!$F$2:$F$313='4추일출'!C9)*(구분표!$G$2:$G$313='4추일출'!A9),0)))} -> 0223
A10: 농정해양위원회 | B10: 농정해양국 | C10: 친환경농업과 | D10: 4회추경 | G10: FTA피해보전직불제(기금/지원) - (자치단체경상보조) FTA피해보전직불제 | H10: 0 | I10: 0 | J10: =IF(D10="","",H10-I10) -> 0 | L10: 4239709 | M10: =H10+K10+L10 -> 4239709 | P10: =H10+N10+O10 -> 0 | Q10: =IF(AND((M10=0),(P10>0)),"O",IF(AND((K10<0),(M10-P10<0)),"O","X")) -> X | R10: 국비변경내시/농림축산식품부 원예경영과-4874(2016.11.11) | V10: 국도비 | X10: 기금 | Y10: 4239709 | Z10: 0 | AA10: =IF(SUM($K10:$L10)=SUM($Y10:$Z10),"OK","검토") -> OK | AD10: =IF($X10<>"도비",IF($V10="국도비","직접입력",SUM($N10:$O10)),) -> 직접입력 | AE10: =IF($X10="도비",SUM(N10:O10),IF($V10="국도비","직접입력",SUM(N10:O10)-AD10)) -> 직접입력 | AF10: =IF(SUM(N10:O10)=SUM(AD10:AE10),"OK","검토") -> OK | AH10: 0223-4 | AJ10: =IF(AH10="","",COUNTIF($AH$6:$AH$65,AH10)) -> 1 | AK10: =IF(X10="","",IF(AND(X10="도비",AH10="세입없음"),"OK",IF(AND(X10<>"도비",AH10<>""),"OK","@@"))) -> OK | AM10: {=IF(C10="","",INDEX(구분표!$I$2:$I$313, MATCH(1,(구분표!$E$2:$E$313='4추일출'!B10)*(구분표!$F$2:$F$313='4추일출'!C10)*(구분표!$G$2:$G$313='4추일출'!A10),0)))} -> 0223
A11: 농정해양위원회 | B11: 농정해양국 | C11: 친환경농업과 | D11: 4회추경 | G11: FTA폐업지원제(기금/지원) - (자치단체경상보조) FTA폐업지원제 | H11: 0 | I11: 0 | J11: =IF(D11="","",H11-I11) -> 0 | L11: 13300143 | M11: =H11+K11+L11 -> 13300143 | P11: =H11+N11+O11 -> 0 | Q11: =IF(AND((M11=0),(P11>0)),"O",IF(AND((K11<0),(M11-P11<0)),"O","X")) -> X | R11: 국비변경내시/농림축산식품부 원예경영과-4874(2016.11.11) | V11: 국도비 | X11: 기금 | Y11: 13300143 | Z11: 0 | AA11: =IF(SUM($K11:$L11)=SUM($Y11:$Z11),"OK","검토") -> OK | AD11: =IF($X11<>"도비",IF($V11="국도비","직접입력",SUM($N11:$O11)),) -> 직접입력 | AE11: =IF($X11="도비",SUM(N11:O11),IF($V11="국도비","직접입력",SUM(N11:O11)-AD11)) -> 직접입력 | AF11: =IF(SUM(N11:O11)=SUM(AD11:AE11),"OK","검토") -> OK | AH11: 0223-5 | AJ11: =IF(AH11="","",COUNTIF($AH$6:$AH$65,AH11)) -> 1 | AK11: =IF(X11="","",IF(AND(X11="도비",AH11="세입없음"),"OK",IF(AND(X11<>"도비",AH11<>""),"OK","@@"))) -> OK | AM11: {=IF(C11="","",INDEX(구분표!$I$2:$I$313, MATCH(1,(구분표!$E$2:$E$313='4추일출'!B11)*(구분표!$F$2:$F$313='4추일출'!C11)*(구분표!$G$2:$G$313='4추일출'!A11),0)))} -> 0223
A12: =IFERROR(VLOOKUP($C12,구분표!$A$2:$C$313,2,FALSE),"") -> 농정해양위원회 | B12: =IFERROR(VLOOKUP($C12,구분표!$A$2:$C$313,3,FALSE),"") -> 축산산림국 | C12: 축산진흥센터 | D12: 신규 | G12: 말산업전문인력양성기관지원(기금/지원) - 말산업전문인력양성기관지원( 자치단체자본보조) | H12: 0 | I12: 0 | J12: =IF(D12="","",H12-I12) -> 0 | K12: 0 | L12: 300000 | M12: =H12+K12+L12 -> 300000 | P12: =H12+N12+O12 -> 0 | Q12: =IF(AND((M12=0),(P12>0)),"O",IF(AND((K12<0),(M12-P12<0)),"O","X")) -> X | R12: 국고내시/농림축산식품부 친환경축산팀-4656('16.11.4) | V12: 국도비 | X12: 기금 | Y12: 300000 | Z12: 0 | AA12: =IF(SUM($K12:$L12)=SUM($Y12:$Z12),"OK","검토") -> OK | AD12: =IF($X12<>"도비",IF($V12="국도비","직접입력",SUM($N12:$O12)),) -> 직접입력 | AE12: =IF($X12="도비",SUM(N12:O12),IF($V12="국도비","직접입력",SUM(N12:O12)-AD12)) -> 직접입력 | AF12: =IF(SUM(N12:O12)=SUM(AD12:AE12),"OK","검토") -> OK | AH12: 0227-1 | AJ12: =IF(AH12="","",COUNTIF($AH$6:$AH$16,AH12)) -> 2 | AK12: =IF(X12="","",IF(AND(X12="도비",AH12="세입없음"),"OK",IF(AND(X12<>"도비",AH12<>""),"OK","@@"))) -> OK | AM12: {=IF(C12="","",INDEX(구분표!$I$2:$I$313, MATCH(1,(구분표!$E$2:$E$313='4추일출'!B12)*(구분표!$F$2:$F$313='4추일출'!C12)*(구분표!$G$2:$G$313='4추일출'!A12),0)))} -> 0233
A13: =IFERROR(VLOOKUP($C13,[3]구분표!$A$2:$C$313,2,FALSE),"") -> 농정해양위원회 | B13: =IFERROR(VLOOKUP($C13,[3]구분표!$A$2:$C$313,3,FALSE),"") -> 축산산림국 | C13: 동물방역위생과 | D13: 본예산 | E13: 702 | G13: 살처분보상금지원사업(국비/지원) - 살처분보상금 지원(자치단체경상보조) | H13: 11520000 | I13: 11520000 | J13: =IF(D13="","",H13-I13) -> 0 | K13: -6229125 | L13: 0 | M13: =H13+K13+L13 -> 5290875 | P13: =H13+N13+O13 -> 11520000 | Q13: =IF(AND((M13=0),(P13>0)),"O",IF(AND((K13<0),(M13-P13<0)),"O","X")) -> O | R13: 국비변경내시 농림축산식품부 방역총괄과-6477(2016.10.18) | V13: 국도비 | X13: 국비 | Y13: -5537000 | Z13: -692125 | AA13: =IF(SUM($K13:$L13)=SUM($Y13:$Z13),"OK","검토") -> OK | AD13: =IF($X13<>"도비",IF($V13="국도비","직접입력",SUM($N13:$O13)),) -> 직접입력 | AE13: =IF($X13="도비",SUM(N13:O13),IF($V13="국도비","직접입력",SUM(N13:O13)-AD13)) -> 직접입력 | AF13: =IF(SUM(N13:O13)=SUM(AD13:AE13),"OK","검토") -> OK | AH13: 0228-1 | AJ13: =IF(AH13="","",COUNTIF($AH$6:$AH$16,AH13)) -> 1 | AK13: =IF(X13="","",IF(AND(X13="도비",AH13="세입없음"),"OK",IF(AND(X13<>"도비",AH13<>""),"OK","@@"))) -> OK | AM13: {=IF(C13="","",INDEX(구분표!$I$2:$I$313, MATCH(1,(구분표!$E$2:$E$313='4추일출'!B13)*(구분표!$F$2:$F$313='4추일출'!C13)*(구분표!$G$2:$G$313='4추일출'!A13),0)))} -> 0228
A14: =IFERROR(VLOOKUP($C14,[3]구분표!$A$2:$C$313,2,FALSE),"") -> 농정해양위원회 | B14: =IFERROR(VLOOKUP($C14,[3]구분표!$A$2:$C$313,3,FALSE),"") -> 축산산림국 | C14: 동물방역위생과 | D14: 신규 | G14: 시도가축방역사업(국비/직접) - 꿀벌질병예방(재료비) | H14: 0 | I14: 0 | J14: 0 | L14: 27000 | M14: =H14+K14+L14 -> 27000 | P14: =H14+N14+O14 -> 0 | Q14: =IF(AND((M14=0),(P14>0)),"O",IF(AND((K14<0),(M14-P14<0)),"O","X")) -> X | R14: 국비 추가교부 농림축산식품부 방역총괄과-6982('16.11.15) | V14: 국도비 | X14: 국비 | Y14: 27000 | Z14: 0 | AA14: =IF(SUM($K14:$L14)=SUM($Y14:$Z14),"OK","검토") -> OK | AD14: =IF($X14<>"도비",IF($V14="국도비","직접입력",SUM($N14:$O14)),) -> 직접입력 | AE14: =IF($X14="도비",SUM(N14:O14),IF($V14="국도비","직접입력",SUM(N14:O14)-AD14)) -> 직접입력 | AF14: =IF(SUM(N14:O14)=SUM(AD14:AE14),"OK","검토") -> OK | AH14: 0228-4 | AJ14: =IF(AH14="","",COUNTIF($AH$6:$AH$16,AH14)) -> 2 | AK14: =IF(X14="","",IF(AND(X14="도비",AH14="세입없음"),"OK",IF(AND(X14<>"도비",AH14<>""),"OK","@@"))) -> OK | AM14: {=IF(C14="","",INDEX(구분표!$I$2:$I$313, MATCH(1,(구분표!$E$2:$E$313='4추일출'!B14)*(구분표!$F$2:$F$313='4추일출'!C14)*(구분표!$G$2:$G$313='4추일출'!A14),0)))} -> 0228
A15: =IFERROR(VLOOKUP($C15,[3]구분표!$A$2:$C$313,2,FALSE),"") -> 농정해양위원회 | B15: =IFERROR(VLOOKUP($C15,[3]구분표!$A$2:$C$313,3,FALSE),"") -> 축산산림국 | C15: 동물방역위생과 | D15: 신규 | G15: 시도가축방역사업(국비/직접) - 구제역 AI 등 방역비(재료비) | H15: 0 | I15: 0 | J15: 0 | L15: 100000 | M15: =H15+K15+L15 -> 100000 | P15: =H15+N15+O15 -> 0 | Q15: =IF(AND((M15=0),(P15>0)),"O",IF(AND((K15<0),(M15-P15<0)),"O","X")) -> X | R15: 국비 추가교부 농림축산식품부 방역총괄과-6982('16.11.15) | V15: 국도비 | X15: 국비 | Y15: 100000 | Z15: 0 | AA15: =IF(SUM($K15:$L15)=SUM($Y15:$Z15),"OK","검토") -> OK | AD15: =IF($X15<>"도비",IF($V15="국도비","직접입력",SUM($N15:$O15)),) -> 직접입력 | AE15: =IF($X15="도비",SUM(N15:O15),IF($V15="국도비","직접입력",SUM(N15:O15)-AD15)) -> 직접입력 | AF15: =IF(SUM(N15:O15)=SUM(AD15:AE15),"OK","검토") -> OK | AH15: 0228-4 | AJ15: =IF(AH15="","",COUNTIF($AH$6:$AH$16,AH15)) -> 2 | AK15: =IF(X15="","",IF(AND(X15="도비",AH15="세입없음"),"OK",IF(AND(X15<>"도비",AH15<>""),"OK","@@"))) -> OK | AM15: {=IF(C15="","",INDEX(구분표!$I$2:$I$313, MATCH(1,(구분표!$E$2:$E$313='4추일출'!B15)*(구분표!$F$2:$F$313='4추일출'!C15)*(구분표!$G$2:$G$313='4추일출'!A15),0)))} -> 0228
A16: 농정해양위원회 | B16: 축산산림국 | C16: 축산정책과 | D16: 본예산 | E16: 696 | G16: 학교우유급식지원(기금.지원) - 학교우유급식 지원(자치단체경상보조) | H16: 7624435 | I16: 7624435 | J16: =IF(D16="","",H16-I16) -> 0 | L16: 113726 | M16: =H16+K16+L16 -> 7738161 | P16: =H16+N16+O16 -> 7624435 | Q16: =IF(AND((M16=0),(P16>0)),"O",IF(AND((K16<0),(M16-P16<0)),"O","X")) -> X | R16: 국비변경내시 농림축산식품부 축산경영과-4294(2016.11.1) | V16: 국도비 | X16: 기금 | Y16: 113726 | Z16: 0 | AA16: =IF(SUM($K16:$L16)=SUM($Y16:$Z16),"OK","검토") -> OK | AD16: =IF($X16<>"도비",IF($V16="국도비","직접입력",SUM($N16:$O16)),) -> 직접입력 | AE16: =IF($X16="도비",SUM(N16:O16),IF($V16="국도비","직접입력",SUM(N16:O16)-AD16)) -> 직접입력 | AF16: =IF(SUM(N16:O16)=SUM(AD16:AE16),"OK","검토") -> OK | AH16: 0227-1 | AJ16: =IF(AH16="","",COUNTIF($AH$6:$AH$16,AH16)) -> 2 | AK16: =IF(X16="","",IF(AND(X16="도비",AH16="세입없음"),"OK",IF(AND(X16<>"도비",AH16<>""),"OK","@@"))) -> OK | AM16: {=IF(C16="","",INDEX(구분표!$I$2:$I$313, MATCH(1,(구분표!$E$2:$E$313='4추일출'!B16)*(구분표!$F$2:$F$313='4추일출'!C16)*(구분표!$G$2:$G$313='4추일출'!A16),0)))} -> 0227

Sheet 명시이월(일반회계)
A2: 2016년 4회추경 명시이월 사업조서(일반회계)
K4: (단위:천원)
A5: 구 분 | D5: 예 산 과 목 | H5: 명시이월내용 | I5: 예산액 | J5: 2016년이월액 | K5: 사유
A6: 연번 | B6: 소관실국 | C6: 소관위원회 | D6: 정책사업 | E6: 단위사업 | F6: 세부사업 | G6: 편성목 (통계목)
A7: 1 | B7: 축산산림국 | C7: 농정해양위원회 | D7: 가축질병청정화 | E7: 주요가축전염병예방 | F7: 시도가축방역사업(국비/직접) | G7: 재료비 (재료비) | H7: 꿀벌질병예방 및 구제역· AI 등 방역을 위한 방역물품 구입비 | I7: 127000 | J7: 127000 | K7: 사업기간 부족(`17년 상반기 집행 예정) - 예산편성 :'16 4회추경('16.12.16) ※ 농식품부 예산 추가교부결정 '16.11.15
A8: 2 | B8: 축산산림국 | C8: 농정해양위원회 | D8: 축산위생연구 | E8: 가축방역 | F8: 축산위생업무지원(자체/직접) | G8: 시설비및부대비 (시설비) | H8: 저온저장고 설치공사 | I8: 60000 | J8: 53018 | K8: 사업기간 부족 - 행정절차 지연에 따른 공기부족
A9: 3 | B9: 축산산림국 | C9: 농정해양위원회 | D9: 축산위생연구 | E9: 가축방역 | F9: 축산위생업무지원(자체/직접) | G9: 시설비및부대비 (감리비) | H9: 저온저장고 설치공사 | I9: 7000 | J9: 7000 | K9: 사업기간 부족 - 행정절차 지연에 따른 공기부족
A10: 4 | B10: 축산산림국 | C10: 농정해양위원회 | D10: 축산위생연구 | E10: 가축방역 | F10: 바이오 연구기반 조성(자치/직접) | G10: 시설비및부대비 (시설비) | H10: 유용미생물 분말화 시설 설치 | I10: 275000 | J10: 168007 | K10: 사업기간 부족 - 행정절차 지연에 따른 공기부족
A11: 5 | B11: 축산산림국 | C11: 농정해양위원회 | D11: 축산위생연구 | E11: 가축방역 | F11: 바이오 연구기반 조성(자치/직접) | G11: 시설비및부대비 (감리비) | H11: 유용미생물 분말화 시설 설치 | I11: 7000 | J11: 7000 | K11: 사업기간 부족 - 행정절차 지연에 따른 공기부족
A12: 6 | B12: 축산산림국 | C12: 농정해양위원회 | D12: 축산위생연구 | E12: 가축방역 | F12: 바이오 연구기반 조성(자치/직접) | G12: 자산취득비 (자산및물품취득비) | H12: 동결건조기 등 6종 구입(유용미생물 분말화 시설 설치와 병행) | I12: 700000 | J12: 294797 | K12: 사업기간 부족 - 분말생산시설 시설 설치 지연
