Workbook

Sheet 구분표
A2: 실과명 조정 | B2: 위원회명 조정 | C2: 실국명 조정 | E2: 실국명 | F2: 실과명 | G2: 위원회명 | H2: 정렬순서 | I2: 정렬코드
A3: 공보담당관 | B3: 의회운영위원회 | C3: 의회사무처 | E3: 의회사무처 | F3: 공보담당관 | G3: 의회운영위원회 | H3: 1 | I3: 0101
A4: 총무담당관 | B4: 의회운영위원회 | C4: 의회사무처 | E4: 의회사무처 | F4: 총무담당관 | G4: 의회운영위원회 | H4: 2 | I4: 0102
A5: 의정담당관 | B5: 의회운영위원회 | C5: 의회사무처 | E5: 의회사무처 | F5: 의정담당관 | G5: 의회운영위원회 | H5: 3 | I5: 0103
A6: 입법정책담당관 | B6: 의회운영위원회 | C6: 의회사무처 | E6: 의회사무처 | F6: 입법정책담당관 | G6: 의회운영위원회 | H6: 4 | I6: 0104
A7: 예산정책담당관 | B7: 의회운영위원회 | C7: 의회사무처 | E7: 의회사무처 | F7: 예산정책담당관 | G7: 의회운영위원회 | H7: 5 | I7: 0105
A8: 언론협력담당관 | B8: 의회운영위원회 | C8: 대변인 | E8: 대변인 | F8: 언론협력담당관 | G8: 의회운영위원회 | H8: 6 | I8: 0106
A9: 보도기획담당관 | B9: 의회운영위원회 | C9: 대변인 | E9: 대변인 | F9: 보도기획담당관 | G9: 의회운영위원회 | H9: 7 | I9: 0107
A10: 홍보미디어담당관 | B10: 의회운영위원회 | C10: 소통기획관 | E10: 소통기획관 | F10: 홍보미디어담당관 | G10: 의회운영위원회 | H10: 8 | I10: 0108
A11: 홍보콘텐츠담당관 | B11: 의회운영위원회 | C11: 소통기획관 | E11: 소통기획관 | F11: 홍보콘텐츠담당관 | G11: 의회운영위원회 | H11: 9 | I11: 0109
A12: 연정협력과 | B12: 의회운영위원회 | C12: 연정협력국 | E12: 연정협력국 | F12: 연정협력과 | G12: 의회운영위원회 | H12: 10 | I12: 0110
A13: 대외협력과 | B13: 의회운영위원회 | C13: 연정협력국 | E13: 연정협력국 | F13: 대외협력과 | G13: 의회운영위원회 | H13: 11 | I13: 0111
... A215: 도서관정책과 | B215: 여성가족교육협력위원회 | C215: 교육협력국 | E215: 교육협력국 | F215: 도서관정책과 | G215: 여성가족교육협력위원회 | H215: 213 | I215: 0313

Sheet 예결표지(세로)
A5: 2015년도 제2회 일반회계 및 특별회계 추가경정 세입·세출 예산안
A7: 예결위 계수조정 결과
A20: 예산결산특별위원회

Sheet 예결표지(가로)
A3: 2015년도 제2회 일반회계 및 특별회계 추가경정 세입·세출 예산안
A5: 예결위 계수조정 결과
A14: 예산결산특별위원회

Sheet 검증
A1: 제4회 추경 일반회계 검증 | H1: 4추 예비비 | J1: 조정액 | K1: =IFERROR(INDEX('17년일출'!AD6:AD92,MATCH("*예비비*",'17년일출'!H6:H92,0)),0) -> 0 | L1: 조정잔액 | M1: =I1+K1 -> 0
M2: (단위 : 천원)
A3: 구분 | B3: 상 임 위 | H3: 구분 | I3: 예 결 위
B4: 세입 | C4: 검증 | D4: 세출 | E4: 검증 | F4: 차액 | I4: 세입 | J4: 검증 | K4: 세출 | L4: 검증 | M4: 차액
A5: 전체 총계 | B5: =SUM(B6:B13)/2 -> 0 | C5: =IF(B5=SUM('17년일입'!I6:J6),"OK","@@") -> @@ | D5: =SUM(D6:D13)/2 -> 6978972 | E5: =IF(D5=SUM('17년일출'!#REF!),"OK","@@") -> #REF! | H5: 전체 총계 | I5: =SUM(I6:I13)/2 -> 0 | J5: =IF(I5=SUM('17년일입'!L6:M6),"OK","@@") -> OK | K5: =SUM(K6:K13)/2 -> 0 | L5: =IF(K5=SUM('17년일출'!#REF!),"OK","@@") -> #REF!
A6: 자체 계 | B6: =SUM(B7:B8) -> 0 | C6: =IF(B6='17년일입'!X6,"OK","@@") -> OK | D6: =SUM(D7:D8) -> 6837342 | E6: =IF(D6='17년일출'!#REF!,"OK","@@") -> #REF! | H6: 자체 계 | I6: =SUM(I7:I8) -> 0 | J6: =IF(I6='17년일입'!AC6,"OK","@@") -> OK | K6: =SUM(K7:K8) -> 0 | L6: =IF(K6='17년일출'!#REF!,"OK","@@") -> #REF!
A7: 자체 도비 | B7: =SUMIFS('17년일입'!X6:X37,'17년일입'!V6:V37,"도비") -> 0 | D7: =SUMIFS('17년일출'!$Y$6:$Y$92,'17년일출'!$W$6:$W$92,"도비") -> 6695712 | H7: 자체 도비 | I7: =SUMIFS('17년일입'!AC6:AC37,'17년일입'!AA6:AA37,"국비") -> 0 | K7: =SUMIFS('17년일출'!$AD$6:$AD$92,'17년일출'!$AB$6:$AB$92,"도비") -> 0
A8: 의존 매칭 도비 | B8: =SUMIFS('17년일입'!X6:X37,'17년일입'!V6:V37,"국비")+SUMIFS('17년일입'!X6:X37,'17년일입'!V6:V37,"지특")+SUMIFS('17년일입'!X6:X37,'17년일입'!V6:V37,"기금")+SUMIFS('17년일입'!X6:X37,'17년일입'!V6:V37,"특교") -> 0 | D8: =SUMIFS('17년일출'!$Y$6:$Y$92,'17년일출'!$W$6:$W$92,"국비")+SUMIFS('17년일출'!$Y$6:$Y$92,'17년일출'!$W$6:$W$92,"지특")+SUMIFS('17년일출'!$Y$6:$Y$92,'17년일출'!$W$6:$W$92,"기금")+SUMIFS('17년일출'!$Y$6:$Y$92,'17년일출'!$W$6:$W$92,"특교") -> 141630 | H8: 의존 매칭 도비 | I8: =SUMIFS('17년일입'!AC6:AC37,'17년일입'!AA6:AA37,"국비")+SUMIFS('17년일입'!AC6:AC37,'17년일입'!AA6:AA37,"지특")+SUMIFS('17년일입'!AC6:AC37,'17년일입'!AA6:AA37,"기금")+SUMIFS('17년일입'!AC6:AC37,'17년일입'!AA6:AA37,"특교") -> 0 | K8: =SUMIFS('17년일출'!$AD$6:$AD$92,'17년일출'!$AB$6:$AB$92,"국비")+SUMIFS('17년일출'!$AD$6:$AD$92,'17년일출'!$AB$6:$AB$92,"지특")+SUMIFS('17년일출'!$AD$6:$AD$92,'17년일출'!$AB$6:$AB$92,"기금")+SUMIFS('17년일출'!$AD$6:$AD$92,'17년일출'!$AB$6:$AB$92,"특교") -> 0
A9: 의존 계 | B9: =SUM(B10:B13) -> 0 | C9: =IF(B9='17년일입'!W6,"OK","@@") -> @@ | D9: =SUM(D10:D13) -> 141630 | E9: =IF(D9='17년일출'!#REF!,"OK","@@") -> #REF! | F9: =SUM(F10:F13) -> 141630 | H9: 의존 계 | I9: =SUM(I10:I13) -> 0 | J9: =IF(I9='17년일입'!W6,"OK","@@") -> @@ | K9: =SUM(K10:K13) -> 0 | L9: =IF(K9='17년일출'!#REF!,"OK","@@") -> #REF! | M9: =SUM(M10:M13) -> 0
A10: 국비 | B10: =SUMIFS('17년일입'!$X$6:$X$37,'17년일입'!$V$6:$V$37,검증!A10) -> 0 | D10: =SUMIFS('17년일출'!$Y$6:$Y$92,'17년일출'!$W$6:$W$92,검증!A10) -> 361337 | F10: =D10-B10 -> 361337 | H10: 국비 | I10: =SUMIFS('17년일입'!$AC$6:$AC$37,'17년일입'!$AA$6:$AA$37,검증!H10) -> 0 | K10: =SUMIFS('17년일출'!$AD$6:$AD$92,'17년일출'!$AB$6:$AB$92,검증!H10) -> 0 | M10: =K10-I10 -> 0
A11: 지특 | B11: =SUMIFS('17년일입'!$X$6:$X$37,'17년일입'!$V$6:$V$37,검증!A11) -> 0 | D11: =SUMIFS('17년일출'!$Y$6:$Y$92,'17년일출'!$W$6:$W$92,검증!A11) -> 0 | F11: =D11-B11 -> 0 | H11: 지특 | I11: =SUMIFS('17년일입'!$AC$6:$AC$37,'17년일입'!$AA$6:$AA$37,검증!H11) -> 0 | K11: =SUMIFS('17년일출'!$AD$6:$AD$92,'17년일출'!$AB$6:$AB$92,검증!H11) -> 0 | M11: =K11-I11 -> 0
A12: 기금 | B12: =SUMIFS('17년일입'!$X$6:$X$37,'17년일입'!$V$6:$V$37,검증!A12) -> 0 | D12: =SUMIFS('17년일출'!$Y$6:$Y$92,'17년일출'!$W$6:$W$92,검증!A12) -> -219707 | F12: =D12-B12 -> -219707 | H12: 기금 | I12: =SUMIFS('17년일입'!$AC$6:$AC$37,'17년일입'!$AA$6:$AA$37,검증!H12) -> 0 | K12: =SUMIFS('17년일출'!$AD$6:$AD$92,'17년일출'!$AB$6:$AB$92,검증!H12) -> 0 | M12: =K12-I12 -> 0
A13: 특교 | B13: =SUMIFS('17년일입'!$X$6:$X$37,'17년일입'!$V$6:$V$37,검증!A13) -> 0 | D13: =SUMIFS('17년일출'!$Y$6:$Y$92,'17년일출'!$W$6:$W$92,검증!A13) -> 0 | F13: =D13-B13 -> 0 | H13: 특교 | I13: =SUMIFS('17년일입'!$AC$6:$AC$37,'17년일입'!$AA$6:$AA$37,검증!H13) -> 0 | K13: =SUMIFS('17년일출'!$AD$6:$AD$92,'17년일출'!$AB$6:$AB$92,검증!H13) -> 0 | M13: =K13-I13 -> 0

Sheet 표지
A4: 계수조정 결과
B6: - 2017년도 일반회계 및 기타특별회계 예산안, 기금운용계획안
A12: 농정해양위원회

Sheet 총괄표
A1: 2017년도 일반 및 특별회계 세입·세출 예산안(전체예산총괄)
A3: □ 총 괄 | C3: 세입예산 증감 | D3: =SUM(C7:D7) -> 0 | F3: 세출예산증감 | G3: =SUM(F7:G7) -> 0
F4: ※ 예비비 증감 | I4: (단위 : 천원)
A5: 구 분 | B5: 집행부제출(안) | C5: 세입예산(안) | F5: 세출예산(안) | I5: 수정예산(안) | K5: ※ 예산안 증감현황
C6: 감 액 | D6: 증 액 | E6: 증감액 | F6: 감 액 | G6: 증 액 | H6: 증감액 | K6: 구 분 | L6: 세입 | M6: 세출 | N6: 예비비 | O6: 비고(???)
A7: 합 계 | B7: =SUM(B8:B17) -> 558747860 | C7: =SUM(C8:C17) -> 0 | D7: =SUM(D8:D17) -> 0 | E7: =SUM(E8:E17) -> 0 | F7: =SUM(F8:F17) -> 0 | G7: =SUM(G8:G17) -> 0 | H7: =SUM(H8:H17) -> 0 | I7: =SUM(I8:I17) -> 558747860 | K7: 합 계 | L7: =SUM(L8:L9) -> 0 | M7: =SUM(M8:M9) -> 0 | N7: =L7-M7 -> 0
A8: 의회운영위원회 | B8: =B31 -> 0 | C8: =SUMIFS('[1]17년일입'!L$6:L$100,'[1]17년일입'!$A$6:$A$100,[1]총괄표!$A8)+SUMIFS('[1]17년특입'!L$6:L$39,'[1]17년특입'!$A$6:$A$39,[1]총괄표!$A8) -> 0 | D8: =SUMIFS('[1]17년일입'!M$6:M$100,'[1]17년일입'!$A$6:$A$100,[1]총괄표!$A8)+SUMIFS('[1]17년특입'!M$6:M$39,'[1]17년특입'!$A$6:$A$39,[1]총괄표!$A8) -> 0 | E8: =D8-C8 -> 0 | F8: =SUMIFS('[1]17년일출'!M$6:M$116,'[1]17년일출'!$A$6:$A$116,[1]총괄표!$A8)+SUMIFS('[1]17년특출'!M$6:M$39,'[1]17년특출'!$A$6:$A$39,[1]총괄표!$A8) -> 0 | G8: =SUMIFS('[1]17년일출'!N$6:N$116,'[1]17년일출'!$A$6:$A$116,[1]총괄표!$A8)+SUMIFS('[1]17년특출'!N$6:N$39,'[1]17년특출'!$A$6:$A$39,[1]총괄표!$A8) -> 0 | H8: =G8-F8 -> 0 | I8: =B8+F8+G8 -> 0 | K8: 일반회계 | L8: =SUM(C24:D24) -> 0 | M8: =SUM(F24:G24) -> 0 | N8: =L8-M8 -> 0 | O8: 예비비 증감 - 감액, + 증액에 입력
A9: 기획재정위원회 | B9: =B32 -> 0 | C9: =SUMIFS('[1]17년일입'!L$6:L$100,'[1]17년일입'!$A$6:$A$100,[1]총괄표!$A9)+SUMIFS('[1]17년특입'!L$6:L$39,'[1]17년특입'!$A$6:$A$39,[1]총괄표!$A9) -> 0 | D9: =SUMIFS('[1]17년일입'!M$6:M$100,'[1]17년일입'!$A$6:$A$100,[1]총괄표!$A9)+SUMIFS('[1]17년특입'!M$6:M$39,'[1]17년특입'!$A$6:$A$39,[1]총괄표!$A9) -> 0 | E9: =D9-C9 -> 0 | F9: =SUMIFS('[1]17년일출'!M$6:M$116,'[1]17년일출'!$A$6:$A$116,[1]총괄표!$A9)+SUMIFS('[1]17년특출'!M$6:M$39,'[1]17년특출'!$A$6:$A$39,[1]총괄표!$A9) -> 0 | G9: =SUMIFS('[1]17년일출'!N$6:N$116,'[1]17년일출'!$A$6:$A$116,[1]총괄표!$A9)+SUMIFS('[1]17년특출'!N$6:N$39,'[1]17년특출'!$A$6:$A$39,[1]총괄표!$A9) -> 0 | H9: =G9-F9 -> 0 | I9: =B9+F9+G9 -> 0 | K9: 특별회계 | L9: =SUM(C25:D25) -> 0 | M9: =SUM(F25:G25) -> 0 | N9: =L9-M9 -> 0
A10: 경제과학기술위원회 | B10: =B33 -> 0 | C10: =SUMIFS('[1]17년일입'!L$6:L$100,'[1]17년일입'!$A$6:$A$100,[1]총괄표!$A10)+SUMIFS('[1]17년특입'!L$6:L$39,'[1]17년특입'!$A$6:$A$39,[1]총괄표!$A10) -> 0 | D10: =SUMIFS('[1]17년일입'!M$6:M$100,'[1]17년일입'!$A$6:$A$100,[1]총괄표!$A10)+SUMIFS('[1]17년특입'!M$6:M$39,'[1]17년특입'!$A$6:$A$39,[1]총괄표!$A10) -> 0 | E10: =D10-C10 -> 0 | F10: =SUMIFS('[1]17년일출'!M$6:M$116,'[1]17년일출'!$A$6:$A$116,[1]총괄표!$A10)+SUMIFS('[1]17년특출'!M$6:M$39,'[1]17년특출'!$A$6:$A$39,[1]총괄표!$A10) -> 0 | G10: =SUMIFS('[1]17년일출'!N$6:N$116,'[1]17년일출'!$A$6:$A$116,[1]총괄표!$A10)+SUMIFS('[1]17년특출'!N$6:N$39,'[1]17년특출'!$A$6:$A$39,[1]총괄표!$A10) -> 0 | H10: =G10-F10 -> 0 | I10: =B10+F10+G10 -> 0
A11: 안전행정위원회 | B11: =B34 -> 0 | C11: =SUMIFS('[1]17년일입'!L$6:L$100,'[1]17년일입'!$A$6:$A$100,[1]총괄표!$A11)+SUMIFS('[1]17년특입'!L$6:L$39,'[1]17년특입'!$A$6:$A$39,[1]총괄표!$A11) -> 0 | D11: =SUMIFS('[1]17년일입'!M$6:M$100,'[1]17년일입'!$A$6:$A$100,[1]총괄표!$A11)+SUMIFS('[1]17년특입'!M$6:M$39,'[1]17년특입'!$A$6:$A$39,[1]총괄표!$A11) -> 0 | E11: =D11-C11 -> 0 | F11: =SUMIFS('[1]17년일출'!M$6:M$116,'[1]17년일출'!$A$6:$A$116,[1]총괄표!$A11)+SUMIFS('[1]17년특출'!M$6:M$39,'[1]17년특출'!$A$6:$A$39,[1]총괄표!$A11) -> 0 | G11: =SUMIFS('[1]17년일출'!N$6:N$116,'[1]17년일출'!$A$6:$A$116,[1]총괄표!$A11)+SUMIFS('[1]17년특출'!N$6:N$39,'[1]17년특출'!$A$6:$A$39,[1]총괄표!$A11) -> 0 | H11: =G11-F11 -> 0 | I11: =B11+F11+G11 -> 0
A12: 문화체육관광위원회 | B12: =B35 -> 0 | C12: =SUMIFS('[1]17년일입'!L$6:L$100,'[1]17년일입'!$A$6:$A$100,[1]총괄표!$A12)+SUMIFS('[1]17년특입'!L$6:L$39,'[1]17년특입'!$A$6:$A$39,[1]총괄표!$A12) -> 0 | D12: =SUMIFS('[1]17년일입'!M$6:M$100,'[1]17년일입'!$A$6:$A$100,[1]총괄표!$A12)+SUMIFS('[1]17년특입'!M$6:M$39,'[1]17년특입'!$A$6:$A$39,[1]총괄표!$A12) -> 0 | E12: =D12-C12 -> 0 | F12: =SUMIFS('[1]17년일출'!M$6:M$116,'[1]17년일출'!$A$6:$A$116,[1]총괄표!$A12)+SUMIFS('[1]17년특출'!M$6:M$39,'[1]17년특출'!$A$6:$A$39,[1]총괄표!$A12) -> 0 | G12: =SUMIFS('[1]17년일출'!N$6:N$116,'[1]17년일출'!$A$6:$A$116,[1]총괄표!$A12)+SUMIFS('[1]17년특출'!N$6:N$39,'[1]17년특출'!$A$6:$A$39,[1]총괄표!$A12) -> 0 | H12: =G12-F12 -> 0 | I12: =B12+F12+G12 -> 0
A13: 농정해양위원회 | B13: =B36 -> 558747860 | C13: =SUMIFS('[1]17년일입'!L$6:L$100,'[1]17년일입'!$A$6:$A$100,[1]총괄표!$A13)+SUMIFS('[1]17년특입'!L$6:L$39,'[1]17년특입'!$A$6:$A$39,[1]총괄표!$A13) -> 0 | D13: =SUMIFS('[1]17년일입'!M$6:M$100,'[1]17년일입'!$A$6:$A$100,[1]총괄표!$A13)+SUMIFS('[1]17년특입'!M$6:M$39,'[1]17년특입'!$A$6:$A$39,[1]총괄표!$A13) -> 0 | E13: =D13-C13 -> 0 | F13: =SUMIFS('[1]17년일출'!M$6:M$116,'[1]17년일출'!$A$6:$A$116,[1]총괄표!$A13)+SUMIFS('[1]17년특출'!M$6:M$39,'[1]17년특출'!$A$6:$A$39,[1]총괄표!$A13) -> 0 | G13: =SUMIFS('[1]17년일출'!N$6:N$116,'[1]17년일출'!$A$6:$A$116,[1]총괄표!$A13)+SUMIFS('[1]17년특출'!N$6:N$39,'[1]17년특출'!$A$6:$A$39,[1]총괄표!$A13) -> 0 | H13: =G13-F13 -> 0 | I13: =B13+F13+G13 -> 558747860
A14: 보건복지위원회 | B14: =B37 -> 0 | C14: =SUMIFS('[1]17년일입'!L$6:L$100,'[1]17년일입'!$A$6:$A$100,[1]총괄표!$A14)+SUMIFS('[1]17년특입'!L$6:L$39,'[1]17년특입'!$A$6:$A$39,[1]총괄표!$A14) -> 0 | D14: =SUMIFS('[1]17년일입'!M$6:M$100,'[1]17년일입'!$A$6:$A$100,[1]총괄표!$A14)+SUMIFS('[1]17년특입'!M$6:M$39,'[1]17년특입'!$A$6:$A$39,[1]총괄표!$A14) -> 0 | E14: =D14-C14 -> 0 | F14: =SUMIFS('[1]17년일출'!M$6:M$116,'[1]17년일출'!$A$6:$A$116,[1]총괄표!$A14)+SUMIFS('[1]17년특출'!M$6:M$39,'[1]17년특출'!$A$6:$A$39,[1]총괄표!$A14) -> 0 | G14: =SUMIFS('[1]17년일출'!N$6:N$116,'[1]17년일출'!$A$6:$A$116,[1]총괄표!$A14)+SUMIFS('[1]17년특출'!N$6:N$39,'[1]17년특출'!$A$6:$A$39,[1]총괄표!$A14) -> 0 | H14: =G14-F14 -> 0 | I14: =B14+F14+G14 -> 0
A15: 건설교통위원회 | B15: =B38 -> 0 | C15: =SUMIFS('[1]17년일입'!L$6:L$100,'[1]17년일입'!$A$6:$A$100,[1]총괄표!$A15)+SUMIFS('[1]17년특입'!L$6:L$39,'[1]17년특입'!$A$6:$A$39,[1]총괄표!$A15) -> 0 | D15: =SUMIFS('[1]17년일입'!M$6:M$100,'[1]17년일입'!$A$6:$A$100,[1]총괄표!$A15)+SUMIFS('[1]17년특입'!M$6:M$39,'[1]17년특입'!$A$6:$A$39,[1]총괄표!$A15) -> 0 | E15: =D15-C15 -> 0 | F15: =SUMIFS('[1]17년일출'!M$6:M$116,'[1]17년일출'!$A$6:$A$116,[1]총괄표!$A15)+SUMIFS('[1]17년특출'!M$6:M$39,'[1]17년특출'!$A$6:$A$39,[1]총괄표!$A15) -> 0 | G15: =SUMIFS('[1]17년일출'!N$6:N$116,'[1]17년일출'!$A$6:$A$116,[1]총괄표!$A15)+SUMIFS('[1]17년특출'!N$6:N$39,'[1]17년특출'!$A$6:$A$39,[1]총괄표!$A15) -> 0 | H15: =G15-F15 -> 0 | I15: =B15+F15+G15 -> 0
A16: 도시환경위원회 | B16: =B39 -> 0 | C16: =SUMIFS('[1]17년일입'!L$6:L$100,'[1]17년일입'!$A$6:$A$100,[1]총괄표!$A16)+SUMIFS('[1]17년특입'!L$6:L$39,'[1]17년특입'!$A$6:$A$39,[1]총괄표!$A16) -> 0 | D16: =SUMIFS('[1]17년일입'!M$6:M$100,'[1]17년일입'!$A$6:$A$100,[1]총괄표!$A16)+SUMIFS('[1]17년특입'!M$6:M$39,'[1]17년특입'!$A$6:$A$39,[1]총괄표!$A16) -> 0 | E16: =D16-C16 -> 0 | F16: =SUMIFS('[1]17년일출'!M$6:M$116,'[1]17년일출'!$A$6:$A$116,[1]총괄표!$A16)+SUMIFS('[1]17년특출'!M$6:M$39,'[1]17년특출'!$A$6:$A$39,[1]총괄표!$A16) -> 0 | G16: =SUMIFS('[1]17년일출'!N$6:N$116,'[1]17년일출'!$A$6:$A$116,[1]총괄표!$A16)+SUMIFS('[1]17년특출'!N$6:N$39,'[1]17년특출'!$A$6:$A$39,[1]총괄표!$A16) -> 0 | H16: =G16-F16 -> 0 | I16: =B16+F16+G16 -> 0
A17: 여상가족교육협력위원회 | B17: =B40 -> 0 | C17: =SUMIFS('[1]17년일입'!L$6:L$100,'[1]17년일입'!$A$6:$A$100,[1]총괄표!$A17)+SUMIFS('[1]17년특입'!L$6:L$39,'[1]17년특입'!$A$6:$A$39,[1]총괄표!$A17) -> 0 | D17: =SUMIFS('[1]17년일입'!M$6:M$100,'[1]17년일입'!$A$6:$A$100,[1]총괄표!$A17)+SUMIFS('[1]17년특입'!M$6:M$39,'[1]17년특입'!$A$6:$A$39,[1]총괄표!$A17) -> 0 | E17: =D17-C17 -> 0 | F17: =SUMIFS('[1]17년일출'!M$6:M$116,'[1]17년일출'!$A$6:$A$116,[1]총괄표!$A17)+SUMIFS('[1]17년특출'!M$6:M$39,'[1]17년특출'!$A$6:$A$39,[1]총괄표!$A17) -> 0 | G17: =SUMIFS('[1]17년일출'!N$6:N$116,'[1]17년일출'!$A$6:$A$116,[1]총괄표!$A17)+SUMIFS('[1]17년특출'!N$6:N$39,'[1]17년특출'!$A$6:$A$39,[1]총괄표!$A17) -> 0 | H17: =G17-F17 -> 0 | I17: =B17+F17+G17 -> 0
A19: □ 회계별 예산 총 규모
I20: (단위 : 천원)
A21: 구 분 | B21: 집행부제출(안) | C21: 세입예산(안) | F21: 세출예산(안) | I21: 수정예산(안) | K21: 세입기준
C22: 감 액 | D22: 증 액 | E22: 증감액 | F22: 감 액 | G22: 증 액 | H22: 증감액 | K22: 수정예산(안) | L22: 세출기준-세입기준
A23: 합 계 | B23: =SUM(B24:B25) -> 558747860 | C23: =SUM(C24:C25) -> 0 | D23: =SUM(D24:D25) -> 0 | E23: =SUM(E24:E25) -> 0 | F23: =SUM(F24:F25) -> 0 | G23: =SUM(G24:G25) -> 0 | H23: =SUM(H24:H25) -> 0 | I23: =SUM(I24:I25) -> 558747860 | K23: =SUM(K24:K25) -> 558747860 | L23: =I23-K23 -> 0
A24: 일반회계 | B24: =D30 -> 558747860 | C24: ='[1]17년일입'!L6 -> 0 | D24: ='[1]17년일입'!M6 -> 0 | E24: =D24-C24 -> 0 | F24: ='[1]17년일출'!M6 -> 0 | G24: ='[1]17년일출'!N6 -> 0 | H24: =G24-F24 -> 0 | I24: =B24+F24+G24 -> 558747860 | K24: =B24+C24+D24 -> 558747860 | L24: =I24-K24 -> 0
A25: 특별회계 | B25: =F30+G30 -> 0 | C25: ='[1]17년특입'!L6 -> 0 | D25: ='[1]17년특입'!M6 -> 0 | E25: =D25-C25 -> 0 | F25: ='[1]17년특출'!M6 -> 0 | G25: ='[1]17년특출'!N6 -> 0 | H25: =G25-F25 -> 0 | I25: =B25+F25+G25 -> 0 | K25: =B25+C25+D25 -> 0 | L25: =I25-K25 -> 0
A28: ※ 회계별, 위원회별 집행부제출안(상임위에서 작성)
A29: 위원회명 | B29: 합계 | C29: 일반+기타 | D29: 일반회계 | E29: 기타특별회계 | F29: 공기업특별회계
A30: 합계 | B30: =SUM(B31:B40) -> 558747860 | C30: =SUM(C31:C40) -> 558747860 | D30: =SUM(D31:D40) -> 558747860 | E30: =SUM(E31:E40) -> 0 | F30: =SUM(F31:F40) -> 0
A31: 의회운영위원회 | B31: =SUM(D31:G31) -> 0 | C31: =D31+F31 -> 0
A32: 기획재정위원회 | B32: =SUM(D32:G32) -> 0 | C32: =D32+F32 -> 0
A33: 경제과학기술위원회 | B33: =SUM(D33:G33) -> 0 | C33: =D33+F33 -> 0
A34: 안전행정위원회 | B34: =SUM(D34:G34) -> 0 | C34: =D34+F34 -> 0
A35: 문화체육관광위원회 | B35: =SUM(D35:G35) -> 0 | C35: =D35+F35 -> 0
A36: 농정해양위원회 | B36: =SUM(D36:G36) -> 558747860 | C36: =D36+F36 -> 558747860 | D36: 558747860
A37: 보건복지위원회 | B37: =SUM(D37:G37) -> 0 | C37: =D37+F37 -> 0
A38: 건설교통위원회 | B38: =SUM(D38:G38) -> 0 | C38: =D38+F38 -> 0
A39: 도시환경위원회 | B39: =SUM(D39:G39) -> 0 | C39: =D39+F39 -> 0
A40: 여상가족교육협력위원회 | B40: =SUM(D40:G40) -> 0 | C40: =D40+F40 -> 0
A42: 예비비

Sheet 17년일입
A1: 2017년도 경기도 일반회계 세입 예산 조정(안)
A2: □ 세입예산 | W2: 세입=세출 | AB2: 세입=세출
I3: =COUNTA(I15:I37) -> 11 | J3: =COUNTA(J15:J37) -> 13 | L3: =COUNTA(L15:L37) -> 3 | M3: =COUNTA(M15:M37) -> 0 | P3: =I6+J6 -> 1743211 | R3: (단위 : 천원) | W3: =IF(W6='17년일출'!#REF!,"OK","@@") -> #REF! | Y3: =IF(COUNTIF(Y6:Y37,"검토")>0,"@@","OK") -> @@ | AB3: =IF(AB6='17년일출'!#REF!,"OK","@@") -> #REF! | AD3: =IF(COUNTIF(AD6:AD37,"검토")>0,"@@","OK") -> @@
A4: 위원회명 | B4: 실국명 | C4: 부서명 | D4: 편성 구분 | E4: 예산안 페이지 | F4: 사업설명서페이지 | G4: 사업명 | H4: 예산안 (가) | I4: 상임위 예산안 조정액(나) | K4: 상임위 조정 예산안 (다=가+나) | L4: 예결위 예산안 조정액(라) | N4: 예결위 조정 예산안 (마=가+라) | O4: 동의 대상 | P4: 상임위 변경사유 (심의 참고자료) | Q4: 비고 (상임위 부대의견) | R4: 비고 (부대의견) | T4: 국도비 등 여부 | V4: 재원 | W4: 상임위 재원별 증감액 | AA4: 재원 | AB4: 예결위 재원별 증감액 | AF4: 세입번호 | AH4: 실국부서 코드 | AJ4: 추가 내시 등 | AL4: 상임위 세입 검증 | AP4: 예결위 세입 검증
I5: 감액 | J5: 증액 | L5: 감액 | M5: 증액 | W5: 국비 등 | X5: 도비 | Y5: 검증 | AB5: 국비 등 | AC5: 도비 | AD5: 검증 | AL5: 국비 증감액 | AM5: 건수 | AN5: 검증 | AP5: 국비 증감액 | AQ5: 건수 | AR5: 검증
A6: 합 계 | H6: =SUM(H7:H37) -> 9859247 | I6: =SUM(I7:I37) -> -1856190 | J6: =SUM(J7:J37) -> 3599401 | K6: =SUM(K7:K37) -> 11602458 | L6: =SUBTOTAL(9,L15:L37) -> 0 | M6: =SUBTOTAL(9,M15:M37) -> 0 | N6: =SUBTOTAL(9,N15:N37) -> 8443247 | W6: =SUBTOTAL(9,W15:W37) -> -42783 | X6: =SUBTOTAL(9,X15:X37) -> 0 | Y6: =IF(SUM($I6:$J6)=SUM($W6:$X6),"OK","검토") -> 검토 | AB6: =SUBTOTAL(9,AB15:AB37) -> 0 | AC6: =SUBTOTAL(9,AC15:AC37) -> 0 | AD6: =IF(SUM($I6:$J6)=SUM($W6:$X6),"OK","검토") -> 검토 | AL6: =SUBTOTAL(9,AL15:AL37) -> -42783 | AM6: =SUBTOTAL(9,AM15:AM37) -> 23 | AN6: =IF(COUNTIF(AN15:AN37,"@@")>0,"@@","OK") -> OK | AP6: =SUBTOTAL(9,AP15:AP37) -> 0 | AQ6: =SUBTOTAL(9,AQ15:AQ37) -> 23 | AR6: =IF(COUNTIF(AR15:AR37,"@@")>0,"@@","OK") -> @@
A7: 농정해양위원회 | B7: 농정해양국 | C7: 농업정책과 | D7: 본예산 | E7: 611 | F7: 4 | G7: 국고보조금 - 농촌재능나눔 활성화 지원(자치단체) | H7: 50000 | I7: -25000 | K7: =SUM(H7:J7) -> 25000 | N7: =SUM(H7,L7,M7) -> 50000 | O7: =IF(AND((K7=0),(N7>0)),"O",IF(AND((I7<0),(K7-N7<0)),"O","X")) -> O | P7: 국비변경내시 /농림축산식품부 농촌정책과-3546(2016.11.2) | T7: 국도비 | V7: 국비 | W7: -25000 | X7: 0 | Y7: =IF(SUM($I7:$J7)=SUM($W7:$X7),"OK","검토") -> OK | AB7: =IF($V7<>"도비",IF($T7="국도비","직접입력",SUM($L7:$M7)),) -> 직접입력 | AC7: =IF($V7="도비",SUM(L7:M7),IF($T7="국도비","직접입력",SUM(L7:M7)-AB7)) -> 직접입력 | AD7: =IF(SUM(L7:M7)=SUM(AB7:AC7),"OK","검토") -> OK | AF7: =IF(AH7="","",IF(V7="도비","세입없음",CONCATENATE(AH7,"-",COUNTIF($AH$7:AH7,AH7)))) -> 0220-1 | AH7: {=IF(C7="","",INDEX(구분표!$I$2:$I$313, MATCH(1,(구분표!$E$2:$E$313='17년일입'!B7)*(구분표!$F$2:$F$313='17년일입'!C7)*(구분표!$G$2:$G$313='17년일입'!A7),0)))} -> 0220 | AL7: =IF(AF7="",0,SUMIFS('17년일출'!$X$6:$X$92,'17년일출'!$AG$6:$AG$92,'17년일입'!$AF7)) -> -25000 | AM7: =IF(AF7="","",COUNTIFS('17년일출'!$AG$6:$AG$92,'17년일입'!AF7)) -> 1 | AN7: =IF(W7=AL7,"OK","@@") -> OK | AP7: =IF(AF7="",0,SUMIFS('[2]17년일출'!$AA$6:$AA$116,'[2]17년일출'!$AE$6:$AE$116,'[2]17년일입'!$AE30)) -> #VALUE! | AQ7: =IF(AF7="","",COUNTIFS('[2]17년일출'!$AE$6:$AE$116,AF7)) -> #VALUE! | AR7: =IF(AB7=AP7,"OK","@@") -> #VALUE!
A8: 농정해양위원회 | B8: 농정해양국 | C8: 친환경농업과 | D8: 본예산 | E8: 614 | F8: 11 | G8: 기금 - 과수생산시설현대화 지원 | H8: 510000 | I8: -41000 | K8: =SUM(H8:J8) -> 469000 | N8: =SUM(H8,L8,M8) -> 510000 | O8: =IF(AND((K8=0),(N8>0)),"O",IF(AND((I8<0),(K8-N8<0)),"O","X")) -> O | P8: 국비변경내시/농림축산식품부 원예경영과-4659(2016.10.31) | T8: 국도비 | V8: 기금 | W8: -41000 | X8: 0 | Y8: =IF(SUM($I8:$J8)=SUM($W8:$X8),"OK","검토") -> OK | AB8: =IF($V8<>"도비",IF($T8="국도비","직접입력",SUM($L8:$M8)),) -> 직접입력 | AC8: =IF($V8="도비",SUM(L8:M8),IF($T8="국도비","직접입력",SUM(L8:M8)-AB8)) -> 직접입력 | AD8: =IF(SUM(L8:M8)=SUM(AB8:AC8),"OK","검토") -> OK | AF8: =IF(AH8="","",IF(V8="도비","세입없음",CONCATENATE(AH8,"-",COUNTIF($AH$7:AH8,AH8)))) -> 0223-1 | AH8: {=IF(C8="","",INDEX(구분표!$I$2:$I$313, MATCH(1,(구분표!$E$2:$E$313='17년일입'!B8)*(구분표!$F$2:$F$313='17년일입'!C8)*(구분표!$G$2:$G$313='17년일입'!A8),0)))} -> 0223 | AL8: =IF(AF8="",0,SUMIFS('17년일출'!$X$6:$X$92,'17년일출'!$AG$6:$AG$92,'17년일입'!$AF8)) -> -41000 | AM8: =IF(AF8="","",COUNTIFS('17년일출'!$AG$6:$AG$92,'17년일입'!AF8)) -> 1 | AN8: =IF(W8=AL8,"OK","@@") -> OK | AP8: =IF(AF8="",0,SUMIFS('[2]17년일출'!$AA$6:$AA$116,'[2]17년일출'!$AE$6:$AE$116,'[2]17년일입'!$AE31)) -> #VALUE! | AQ8: =IF(AF8="","",COUNTIFS('[2]17년일출'!$AE$6:$AE$116,AF8)) -> #VALUE! | AR8: =IF(AB8=AP8,"OK","@@") -> #VALUE!
A9: 농정해양위원회 | B9: 농정해양국 | C9: 친환경농업과 | D9: 본예산 | E9: 614 | F9: 11 | G9: 기금 - 과수ICT분야 시설보조 | H9: 14000 | I9: -2000 | K9: =SUM(H9:J9) -> 12000 | N9: =SUM(H9,L9,M9) -> 14000 | O9: =IF(AND((K9=0),(N9>0)),"O",IF(AND((I9<0),(K9-N9<0)),"O","X")) -> O | P9: 국비변경내시/농림축산식품부 원예경영과-4659(2016.10.31) | T9: 국도비 | V9: 기금 | W9: -2000 | X9: 0 | Y9: =IF(SUM($I9:$J9)=SUM($W9:$X9),"OK","검토") -> OK | AB9: =IF($V9<>"도비",IF($T9="국도비","직접입력",SUM($L9:$M9)),) -> 직접입력 | AC9: =IF($V9="도비",SUM(L9:M9),IF($T9="국도비","직접입력",SUM(L9:M9)-AB9)) -> 직접입력 | AD9: =IF(SUM(L9:M9)=SUM(AB9:AC9),"OK","검토") -> OK | AF9: =IF(AH9="","",IF(V9="도비","세입없음",CONCATENATE(AH9,"-",COUNTIF($AH$7:AH9,AH9)))) -> 0223-2 | AH9: {=IF(C9="","",INDEX(구분표!$I$2:$I$313, MATCH(1,(구분표!$E$2:$E$313='17년일입'!B9)*(구분표!$F$2:$F$313='17년일입'!C9)*(구분표!$G$2:$G$313='17년일입'!A9),0)))} -> 0223 | AL9: =IF(AF9="",0,SUMIFS('17년일출'!$X$6:$X$92,'17년일출'!$AG$6:$AG$92,'17년일입'!$AF9)) -> -2000 | AM9: =IF(AF9="","",COUNTIFS('17년일출'!$AG$6:$AG$92,'17년일입'!AF9)) -> 1 | AN9: =IF(W9=AL9,"OK","@@") -> OK | AP9: =IF(AF9="",0,SUMIFS('[2]17년일출'!$AA$6:$AA$116,'[2]17년일출'!$AE$6:$AE$116,'[2]17년일입'!$AE32)) -> #VALUE! | AQ9: =IF(AF9="","",COUNTIFS('[2]17년일출'!$AE$6:$AE$116,AF9)) -> #VALUE! | AR9: =IF(AB9=AP9,"OK","@@") -> #VALUE!
A10: 농정해양위원회 | B10: 농정해양국 | C10: 친환경농업과 | D10: 신규 | G10: 기금 - FTA폐업지원제 | J10: 1811994 | K10: =SUM(H10:J10) -> 1811994 | N10: =SUM(H10,L10,M10) -> 0 | O10: =IF(AND((K10=0),(N10>0)),"O",IF(AND((I10<0),(K10-N10<0)),"O","X")) -> X | P10: 국비변경내시/농림축산식품부 원예경영과-4856(2016.11.11) | T10: 국도비 | V10: 기금 | W10: 1811994 | X10: 0 | Y10: =IF(SUM($I10:$J10)=SUM($W10:$X10),"OK","검토") -> OK | AB10: =IF($V10<>"도비",IF($T10="국도비","직접입력",SUM($L10:$M10)),) -> 직접입력 | AC10: =IF($V10="도비",SUM(L10:M10),IF($T10="국도비","직접입력",SUM(L10:M10)-AB10)) -> 직접입력 | AD10: =IF(SUM(L10:M10)=SUM(AB10:AC10),"OK","검토") -> OK | AF10: =IF(AH10="","",IF(V10="도비","세입없음",CONCATENATE(AH10,"-",COUNTIF($AH$7:AH10,AH10)))) -> 0223-3 | AH10: {=IF(C10="","",INDEX(구분표!$I$2:$I$313, MATCH(1,(구분표!$E$2:$E$313='17년일입'!B10)*(구분표!$F$2:$F$313='17년일입'!C10)*(구분표!$G$2:$G$313='17년일입'!A10),0)))} -> 0223 | AL10: =IF(AF10="",0,SUMIFS('17년일출'!$X$6:$X$92,'17년일출'!$AG$6:$AG$92,'17년일입'!$AF10)) -> 1811994 | AM10: =IF(AF10="","",COUNTIFS('17년일출'!$AG$6:$AG$92,'17년일입'!AF10)) -> 1 | AN10: =IF(W10=AL10,"OK","@@") -> OK | AP10: =IF(AF10="",0,SUMIFS('[2]17년일출'!$AA$6:$AA$116,'[2]17년일출'!$AE$6:$AE$116,'[2]17년일입'!$AE33)) -> #VALUE! | AQ10: =IF(AF10="","",COUNTIFS('[2]17년일출'!$AE$6:$AE$116,AF10)) -> #VALUE! | AR10: =IF(AB10=AP10,"OK","@@") -> #VALUE!
A11: 농정해양위원회 | B11: 농정해양국 | C11: 수산과 | D11: 본예산 | E11: 614 | F11: 12 | G11: 국고보조금 - 어촌체험마을 사무장채용지원사업 | H11: 72000 | I11: -36000 | K11: =SUM(H11:J11) -> 36000 | N11: =SUM(H11,L11,M11) -> 72000 | O11: =IF(AND((K11=0),(N11>0)),"O",IF(AND((I11<0),(K11-N11<0)),"O","X")) -> O | P11: 국비변경내시해양수산부 어촌어항과-4489(2016.11.11) | T11: 국도비 | V11: 국비 | W11: -36000 | X11: 0 | Y11: =IF(SUM($I11:$J11)=SUM($W11:$X11),"OK","검토") -> OK | AB11: =IF($V11<>"도비",IF($T11="국도비","직접입력",SUM($L11:$M11)),) -> 직접입력 | AC11: =IF($V11="도비",SUM(L11:M11),IF($T11="국도비","직접입력",SUM(L11:M11)-AB11)) -> 직접입력 | AD11: =IF(SUM(L11:M11)=SUM(AB11:AC11),"OK","검토") -> OK | AF11: =IF(AH11="","",IF(V11="도비","세입없음",CONCATENATE(AH11,"-",COUNTIF($AH$7:AH11,AH11)))) -> 0224-1 | AH11: {=IF(C11="","",INDEX(구분표!$I$2:$I$313, MATCH(1,(구분표!$E$2:$E$313='17년일입'!B11)*(구분표!$F$2:$F$313='17년일입'!C11)*(구분표!$G$2:$G$313='17년일입'!A11),0)))} -> 0224 | AL11: =IF(AF11="",0,SUMIFS('17년일출'!$X$6:$X$92,'17년일출'!$AG$6:$AG$92,'17년일입'!$AF11)) -> -36000 | AM11: =IF(AF11="","",COUNTIFS('17년일출'!$AG$6:$AG$92,'17년일입'!AF11)) -> 1 | AN11: =IF(W11=AL11,"OK","@@") -> OK | AP11: =IF(AF11="",0,SUMIFS('[2]17년일출'!$AA$6:$AA$116,'[2]17년일출'!$AE$6:$AE$116,'[2]17년일입'!$AE34)) -> #VALUE! | AQ11: =IF(AF11="","",COUNTIFS('[2]17년일출'!$AE$6:$AE$116,AF11)) -> #VALUE! | AR11: =IF(AB11=AP11,"OK","@@") -> #VALUE!
A12: 농정해양위원회 | B12: 농정해양국 | C12: 수산과 | D12: 본예산 | E12: 615 | F12: 12 | G12: 국고보조금 - 이동수리소 운영 | H12: 35000 | I12: -5000 | K12: =SUM(H12:J12) -> 30000 | N12: =SUM(H12,L12,M12) -> 35000 | O12: =IF(AND((K12=0),(N12>0)),"O",IF(AND((I12<0),(K12-N12<0)),"O","X")) -> O | P12: 국비변경내시/해양수산부 소득복지과-5039(16.11.2) | T12: 국도비 | V12: 국비 | W12: -5000 | X12: 0 | Y12: =IF(SUM($I12:$J12)=SUM($W12:$X12),"OK","검토") -> OK | AB12: =IF($V12<>"도비",IF($T12="국도비","직접입력",SUM($L12:$M12)),) -> 직접입력 | AC12: =IF($V12="도비",SUM(L12:M12),IF($T12="국도비","직접입력",SUM(L12:M12)-AB12)) -> 직접입력 | AD12: =IF(SUM(L12:M12)=SUM(AB12:AC12),"OK","검토") -> OK | AF12: =IF(AH12="","",IF(V12="도비","세입없음",CONCATENATE(AH12,"-",COUNTIF($AH$7:AH12,AH12)))) -> 0224-2 | AH12: {=IF(C12="","",INDEX(구분표!$I$2:$I$313, MATCH(1,(구분표!$E$2:$E$313='17년일입'!B12)*(구분표!$F$2:$F$313='17년일입'!C12)*(구분표!$G$2:$G$313='17년일입'!A12),0)))} -> 0224 | AL12: =IF(AF12="",0,SUMIFS('17년일출'!$X$6:$X$92,'17년일출'!$AG$6:$AG$92,'17년일입'!$AF12)) -> -5000 | AM12: =IF(AF12="","",COUNTIFS('17년일출'!$AG$6:$AG$92,'17년일입'!AF12)) -> 1 | AN12: =IF(W12=AL12,"OK","@@") -> OK | AP12: =IF(AF12="",0,SUMIFS('[2]17년일출'!$AA$6:$AA$116,'[2]17년일출'!$AE$6:$AE$116,'[2]17년일입'!$AE35)) -> #VALUE! | AQ12: =IF(AF12="","",COUNTIFS('[2]17년일출'!$AE$6:$AE$116,AF12)) -> #VALUE! | AR12: =IF(AB12=AP12,"OK","@@") -> #VALUE!
A13: 농정해양위원회 | B13: 농정해양국 | C13: 수산과 | D13: 본예산 | E13: 615 | F13: 12 | G13: 국고보조금 - 연구교습어장 | H13: 35000 | I13: -7000 | K13: =SUM(H13:J13) -> 28000 | N13: =SUM(H13,L13,M13) -> 35000 | O13: =IF(AND((K13=0),(N13>0)),"O",IF(AND((I13<0),(K13-N13<0)),"O","X")) -> O | P13: 국비변경내시/해양수산부 소득복지과-4870(2016.10.24) | T13: 국도비 | V13: 국비 | W13: -7000 | X13: 0 | Y13: =IF(SUM($I13:$J13)=SUM($W13:$X13),"OK","검토") -> OK | AB13: =IF($V13<>"도비",IF($T13="국도비","직접입력",SUM($L13:$M13)),) -> 직접입력 | AC13: =IF($V13="도비",SUM(L13:M13),IF($T13="국도비","직접입력",SUM(L13:M13)-AB13)) -> 직접입력 | AD13: =IF(SUM(L13:M13)=SUM(AB13:AC13),"OK","검토") -> OK | AF13: =IF(AH13="","",IF(V13="도비","세입없음",CONCATENATE(AH13,"-",COUNTIF($AH$7:AH13,AH13)))) -> 0224-3 | AH13: {=IF(C13="","",INDEX(구분표!$I$2:$I$313, MATCH(1,(구분표!$E$2:$E$313='17년일입'!B13)*(구분표!$F$2:$F$313='17년일입'!C13)*(구분표!$G$2:$G$313='17년일입'!A13),0)))} -> 0224 | AL13: =IF(AF13="",0,SUMIFS('17년일출'!$X$6:$X$92,'17년일출'!$AG$6:$AG$92,'17년일입'!$AF13)) -> -7000 | AM13: =IF(AF13="","",COUNTIFS('17년일출'!$AG$6:$AG$92,'17년일입'!AF13)) -> 2 | AN13: =IF(W13=AL13,"OK","@@") -> OK | AP13: =IF(AF13="",0,SUMIFS('[2]17년일출'!$AA$6:$AA$116,'[2]17년일출'!$AE$6:$AE$116,'[2]17년일입'!$AE36)) -> #VALUE! | AQ13: =IF(AF13="","",COUNTIFS('[2]17년일출'!$AE$6:$AE$116,AF13)) -> #VALUE! | AR13: =IF(AB13=AP13,"OK","@@") -> #VALUE!
A14: 농정해양위원회 | B14: 농정해양국 | C14: 농업정책과 | D14: 본예산 | E14: 611 | F14: 4 | G14: 국고보조금 - 지역단위 6차산업 활성화 지원 | H14: 700000 | J14: 90000 | K14: =SUM(H14:J14) -> 790000 | N14: =SUM(H14,L14,M14) -> 700000 | O14: =IF(AND((K14=0),(N14>0)),"O",IF(AND((I14<0),(K14-N14<0)),"O","X")) -> X | P14: 국비변경내시/농림축산식품부 농촌산업과-4447(2016.11.17) | T14: 국도비 | V14: 국비 | W14: 90000 | X14: 0 | Y14: =IF(SUM($I14:$J14)=SUM($W14:$X14),"OK","검토") -> OK | AB14: =IF($V14<>"도비",IF($T14="국도비","직접입력",SUM($L14:$M14)),) -> 직접입력 | AC14: =IF($V14="도비",SUM(L14:M14),IF($T14="국도비","직접입력",SUM(L14:M14)-AB14)) -> 직접입력 | AD14: =IF(SUM(L14:M14)=SUM(AB14:AC14),"OK","검토") -> OK | AF14: =IF(AH14="","",IF(V14="도비","세입없음",CONCATENATE(AH14,"-",COUNTIF($AH$7:AH14,AH14)))) -> 0220-2 | AH14: {=IF(C14="","",INDEX(구분표!$I$2:$I$313, MATCH(1,(구분표!$E$2:$E$313='17년일입'!B14)*(구분표!$F$2:$F$313='17년일입'!C14)*(구분표!$G$2:$G$313='17년일입'!A14),0)))} -> 0220 | AL14: =IF(AF14="",0,SUMIFS('17년일출'!$X$6:$X$92,'17년일출'!$AG$6:$AG$92,'17년일입'!$AF14)) -> 90000 | AM14: =IF(AF14="","",COUNTIFS('17년일출'!$AG$6:$AG$92,'17년일입'!AF14)) -> 2 | AN14: =IF(W14=AL14,"OK","@@") -> OK | AP14: =IF(AF14="",0,SUMIFS('[2]17년일출'!$AA$6:$AA$116,'[2]17년일출'!$AE$6:$AE$116,'[2]17년일입'!$AE37)) -> #VALUE! | AQ14: =IF(AF14="","",COUNTIFS('[2]17년일출'!$AE$6:$AE$116,AF14)) -> #VALUE! | AR14: =IF(AB14=AP14,"OK","@@") -> #VALUE!
A15: =IFERROR(VLOOKUP($C15,구분표!$A$2:$C$313,2,FALSE),"") -> 농정해양위원회 | B15: =IFERROR(VLOOKUP($C15,구분표!$A$2:$C$313,3,FALSE),"") -> 축산산림국 | C15: 축산정책과 | D15: 본예산 | E15: 681 | G15: 기금 -가축분뇨액비살포비지원 | H15: 600000 | J15: 80000 | K15: =SUM(H15:J15) -> 680000 | N15: =SUM(H15,L15,M15) -> 600000 | O15: =IF(AND((K15=0),(N15>0)),"O",IF(AND((I15<0),(K15-N15<0)),"O","X")) -> X | P15: 국비변경내시/농림축산식품부 친환경축산팀-4656('16.11.4) | T15: 국도비 | V15: 기금 | W15: 80000 | X15: 0 | Y15: =IF(SUM($I15:$J15)=SUM($W15:$X15),"OK","검토") -> OK | AB15: =IF($V15<>"도비",IF($T15="국도비","직접입력",SUM($L15:$M15)),) -> 직접입력 | AC15: =IF($V15="도비",SUM(L15:M15),IF($T15="국도비","직접입력",SUM(L15:M15)-AB15)) -> 직접입력 | AD15: =IF(SUM(L15:M15)=SUM(AB15:AC15),"OK","검토") -> OK | AF15: =IF(AH15="","",IF(V15="도비","세입없음",CONCATENATE(AH15,"-",COUNTIF($AH$15:AH15,AH15)))) -> 0227-1 | AH15: {=IF(C15="","",INDEX(구분표!$I$2:$I$313, MATCH(1,(구분표!$E$2:$E$313='17년일입'!B15)*(구분표!$F$2:$F$313='17년일입'!C15)*(구분표!$G$2:$G$313='17년일입'!A15),0)))} -> 0227 | AL15: =IF(AF15="",0,SUMIFS('17년일출'!$X$6:$X$92,'17년일출'!$AG$6:$AG$92,'17년일입'!$AF15)) -> 80000 | AM15: =IF(AF15="","",COUNTIFS('17년일출'!$AG$6:$AG$92,'17년일입'!AF15)) -> 1 | AN15: =IF(W15=AL15,"OK","@@") -> OK | AP15: =IF(AF15="",0,SUMIFS('17년일출'!$AC$6:$AC$92,'17년일출'!$AG$6:$AG$92,'17년일입'!$AF15)) -> 0 | AQ15: =IF(AF15="","",COUNTIFS('17년일출'!$AG$6:$AG$92,AF15)) -> 1 | AR15: =IF(AB15=AP15,"OK","@@") -> @@
A16: =IFERROR(VLOOKUP($C16,구분표!$A$2:$C$313,2,FALSE),"") -> 농정해양위원회 | B16: =IFERROR(VLOOKUP($C16,구분표!$A$2:$C$313,3,FALSE),"") -> 축산산림국 | C16: 축산정책과 | D16: 본예산 | E16: 681 | G16: 기금 -가축분뇨퇴액비화지원 | H16: 667450 | I16: -67450 | K16: =SUM(H16:J16) -> 600000 | N16: =SUM(H16,L16,M16) -> 667450 | O16: =IF(AND((K16=0),(N16>0)),"O",IF(AND((I16<0),(K16-N16<0)),"O","X")) -> O | P16: 국비변경내시/농림축산식품부 친환경축산팀-4656('16.11.4) | T16: 국도비 | V16: 기금 | W16: -67450 | X16: 0 | Y16: =IF(SUM($I16:$J16)=SUM($W16:$X16),"OK","검토") -> OK | AB16: =IF($V16<>"도비",IF($T16="국도비","직접입력",SUM($L16:$M16)),) -> 직접입력 | AC16: =IF($V16="도비",SUM(L16:M16),IF($T16="국도비","직접입력",SUM(L16:M16)-AB16)) -> 직접입력 | AD16: =IF(SUM(L16:M16)=SUM(AB16:AC16),"OK","검토") -> OK | AF16: =IF(AH16="","",IF(V16="도비","세입없음",CONCATENATE(AH16,"-",COUNTIF($AH$15:AH16,AH16)))) -> 0227-2 | AH16: {=IF(C16="","",INDEX(구분표!$I$2:$I$313, MATCH(1,(구분표!$E$2:$E$313='17년일입'!B16)*(구분표!$F$2:$F$313='17년일입'!C16)*(구분표!$G$2:$G$313='17년일입'!A16),0)))} -> 0227 | AL16: =IF(AF16="",0,SUMIFS('17년일출'!$X$6:$X$92,'17년일출'!$AG$6:$AG$92,'17년일입'!$AF16)) -> -67450 | AM16: =IF(AF16="","",COUNTIFS('17년일출'!$AG$6:$AG$92,'17년일입'!AF16)) -> 1 | AN16: =IF(W16=AL16,"OK","@@") -> OK | AP16: =IF(AF16="",0,SUMIFS('17년일출'!$AC$6:$AC$92,'17년일출'!$AG$6:$AG$92,'17년일입'!$AF16)) -> 0 | AQ16: =IF(AF16="","",COUNTIFS('17년일출'!$AG$6:$AG$92,AF16)) -> 1 | AR16: =IF(AB16=AP16,"OK","@@") -> @@
A17: =IFERROR(VLOOKUP($C17,구분표!$A$2:$C$313,2,FALSE),"") -> 농정해양위원회 | B17: =IFERROR(VLOOKUP($C17,구분표!$A$2:$C$313,3,FALSE),"") -> 축산산림국 | C17: 축산정책과 | D17: 본예산 | E17: 681 | G17: 기금 -가축분뇨정화개보수지원 | H17: 494000 | I17: -294000 | K17: =SUM(H17:J17) -> 200000 | N17: =SUM(H17,L17,M17) -> 494000 | O17: =IF(AND((K17=0),(N17>0)),"O",IF(AND((I17<0),(K17-N17<0)),"O","X")) -> O | P17: 국비변경내시/농림축산식품부 친환경축산팀-4656('16.11.4) | T17: 국도비 | V17: 기금 | W17: -294000 | X17: 0 | Y17: =IF(SUM($I17:$J17)=SUM($W17:$X17),"OK","검토") -> OK | AB17: =IF($V17<>"도비",IF($T17="국도비","직접입력",SUM($L17:$M17)),) -> 직접입력 | AC17: =IF($V17="도비",SUM(L17:M17),IF($T17="국도비","직접입력",SUM(L17:M17)-AB17)) -> 직접입력 | AD17: =IF(SUM(L17:M17)=SUM(AB17:AC17),"OK","검토") -> OK | AF17: =IF(AH17="","",IF(V17="도비","세입없음",CONCATENATE(AH17,"-",COUNTIF($AH$15:AH17,AH17)))) -> 0227-3 | AH17: {=IF(C17="","",INDEX(구분표!$I$2:$I$313, MATCH(1,(구분표!$E$2:$E$313='17년일입'!B17)*(구분표!$F$2:$F$313='17년일입'!C17)*(구분표!$G$2:$G$313='17년일입'!A17),0)))} -> 0227 | AL17: =IF(AF17="",0,SUMIFS('17년일출'!$X$6:$X$92,'17년일출'!$AG$6:$AG$92,'17년일입'!$AF17)) -> -294000 | AM17: =IF(AF17="","",COUNTIFS('17년일출'!$AG$6:$AG$92,'17년일입'!AF17)) -> 1 | AN17: =IF(W17=AL17,"OK","@@") -> OK | AP17: =IF(AF17="",0,SUMIFS('17년일출'!$AC$6:$AC$92,'17년일출'!$AG$6:$AG$92,'17년일입'!$AF17)) -> 0 | AQ17: =IF(AF17="","",COUNTIFS('17년일출'!$AG$6:$AG$92,AF17)) -> 1 | AR17: =IF(AB17=AP17,"OK","@@") -> @@
A18: =IFERROR(VLOOKUP($C18,구분표!$A$2:$C$313,2,FALSE),"") -> 농정해양위원회 | B18: =IFERROR(VLOOKUP($C18,구분표!$A$2:$C$313,3,FALSE),"") -> 축산산림국 | C18: 축산정책과 | D18: 본예산 | E18: 681 | G18: 기금 -공동자원화퇴액비시설장비지원 | H18: 36000 | I18: -36000 | K18: =SUM(H18:J18) -> 0 | N18: =SUM(H18,L18,M18) -> 36000 | O18: =IF(AND((K18=0),(N18>0)),"O",IF(AND((I18<0),(K18-N18<0)),"O","X")) -> O | P18: 국비변경내시/농림축산식품부 친환경축산팀-4656('16.11.4) | T18: 국도비 | V18: 기금 | W18: -36000 | X18: 0 | Y18: =IF(SUM($I18:$J18)=SUM($W18:$X18),"OK","검토") -> OK | AB18: =IF($V18<>"도비",IF($T18="국도비","직접입력",SUM($L18:$M18)),) -> 직접입력 | AC18: =IF($V18="도비",SUM(L18:M18),IF($T18="국도비","직접입력",SUM(L18:M18)-AB18)) -> 직접입력 | AD18: =IF(SUM(L18:M18)=SUM(AB18:AC18),"OK","검토") -> OK | AF18: =IF(AH18="","",IF(V18="도비","세입없음",CONCATENATE(AH18,"-",COUNTIF($AH$15:AH18,AH18)))) -> 0227-4 | AH18: {=IF(C18="","",INDEX(구분표!$I$2:$I$313, MATCH(1,(구분표!$E$2:$E$313='17년일입'!B18)*(구분표!$F$2:$F$313='17년일입'!C18)*(구분표!$G$2:$G$313='17년일입'!A18),0)))} -> 0227 | AL18: =IF(AF18="",0,SUMIFS('17년일출'!$X$6:$X$92,'17년일출'!$AG$6:$AG$92,'17년일입'!$AF18)) -> -36000 | AM18: =IF(AF18="","",COUNTIFS('17년일출'!$AG$6:$AG$92,'17년일입'!AF18)) -> 1 | AN18: =IF(W18=AL18,"OK","@@") -> OK | AP18: =IF(AF18="",0,SUMIFS('17년일출'!$AC$6:$AC$92,'17년일출'!$AG$6:$AG$92,'17년일입'!$AF18)) -> 0 | AQ18: =IF(AF18="","",COUNTIFS('17년일출'!$AG$6:$AG$92,AF18)) -> 1 | AR18: =IF(AB18=AP18,"OK","@@") -> @@
A19: =IFERROR(VLOOKUP($C19,구분표!$A$2:$C$313,2,FALSE),"") -> 농정해양위원회 | B19: =IFERROR(VLOOKUP($C19,구분표!$A$2:$C$313,3,FALSE),"") -> 축산산림국 | C19: 축산정책과 | D19: 본예산 | E19: 681 | G19: 기금 -액비저장조지원 | H19: 669800 | I19: -468800 | K19: =SUM(H19:J19) -> 201000 | N19: =SUM(H19,L19,M19) -> 669800 | O19: =IF(AND((K19=0),(N19>0)),"O",IF(AND((I19<0),(K19-N19<0)),"O","X")) -> O | P19: 국비변경내시/농림축산식품부 친환경축산팀-4656('16.11.4) | T19: 국도비 | V19: 기금 | W19: -468800 | X19: 0 | Y19: =IF(SUM($I19:$J19)=SUM($W19:$X19),"OK","검토") -> OK | AB19: =IF($V19<>"도비",IF($T19="국도비","직접입력",SUM($L19:$M19)),) -> 직접입력 | AC19: =IF($V19="도비",SUM(L19:M19),IF($T19="국도비","직접입력",SUM(L19:M19)-AB19)) -> 직접입력 | AD19: =IF(SUM(L19:M19)=SUM(AB19:AC19),"OK","검토") -> OK | AF19: =IF(AH19="","",IF(V19="도비","세입없음",CONCATENATE(AH19,"-",COUNTIF($AH$15:AH19,AH19)))) -> 0227-5 | AH19: {=IF(C19="","",INDEX(구분표!$I$2:$I$313, MATCH(1,(구분표!$E$2:$E$313='17년일입'!B19)*(구분표!$F$2:$F$313='17년일입'!C19)*(구분표!$G$2:$G$313='17년일입'!A19),0)))} -> 0227 | AL19: =IF(AF19="",0,SUMIFS('17년일출'!$X$6:$X$92,'17년일출'!$AG$6:$AG$92,'17년일입'!$AF19)) -> -468800 | AM19: =IF(AF19="","",COUNTIFS('17년일출'!$AG$6:$AG$92,'17년일입'!AF19)) -> 1 | AN19: =IF(W19=AL19,"OK","@@") -> OK | AP19: =IF(AF19="",0,SUMIFS('17년일출'!$AC$6:$AC$92,'17년일출'!$AG$6:$AG$92,'17년일입'!$AF19)) -> 0 | AQ19: =IF(AF19="","",COUNTIFS('17년일출'!$AG$6:$AG$92,AF19)) -> 1 | AR19: =IF(AB19=AP19,"OK","@@") -> @@
A20: =IFERROR(VLOOKUP($C20,구분표!$A$2:$C$313,2,FALSE),"") -> 농정해양위원회 | B20: =IFERROR(VLOOKUP($C20,구분표!$A$2:$C$313,3,FALSE),"") -> 축산산림국 | C20: 축산정책과 | D20: 본예산 | E20: 681 | G20: 기금 -가축분뇨부숙도판정기지원 | H20: 42000 | I20: -15000 | K20: =SUM(H20:J20) -> 27000 | N20: =SUM(H20,L20,M20) -> 42000 | O20: =IF(AND((K20=0),(N20>0)),"O",IF(AND((I20<0),(K20-N20<0)),"O","X")) -> O | P20: 국비변경내시/농림축산식품부 친환경축산팀-4656('16.11.4) | T20: 국도비 | V20: 기금 | W20: -15000 | X20: 0 | Y20: =IF(SUM($I20:$J20)=SUM($W20:$X20),"OK","검토") -> OK | AB20: =IF($V20<>"도비",IF($T20="국도비","직접입력",SUM($L20:$M20)),) -> 직접입력 | AC20: =IF($V20="도비",SUM(L20:M20),IF($T20="국도비","직접입력",SUM(L20:M20)-AB20)) -> 직접입력 | AD20: =IF(SUM(L20:M20)=SUM(AB20:AC20),"OK","검토") -> OK | AF20: =IF(AH20="","",IF(V20="도비","세입없음",CONCATENATE(AH20,"-",COUNTIF($AH$15:AH20,AH20)))) -> 0227-6 | AH20: {=IF(C20="","",INDEX(구분표!$I$2:$I$313, MATCH(1,(구분표!$E$2:$E$313='17년일입'!B20)*(구분표!$F$2:$F$313='17년일입'!C20)*(구분표!$G$2:$G$313='17년일입'!A20),0)))} -> 0227 | AL20: =IF(AF20="",0,SUMIFS('17년일출'!$X$6:$X$92,'17년일출'!$AG$6:$AG$92,'17년일입'!$AF20)) -> -15000 | AM20: =IF(AF20="","",COUNTIFS('17년일출'!$AG$6:$AG$92,'17년일입'!AF20)) -> 1 | AN20: =IF(W20=AL20,"OK","@@") -> OK | AP20: =IF(AF20="",0,SUMIFS('17년일출'!$AC$6:$AC$92,'17년일출'!$AG$6:$AG$92,'17년일입'!$AF20)) -> 0 | AQ20: =IF(AF20="","",COUNTIFS('17년일출'!$AG$6:$AG$92,AF20)) -> 1 | AR20: =IF(AB20=AP20,"OK","@@") -> @@
A21: =IFERROR(VLOOKUP($C21,구분표!$A$2:$C$313,2,FALSE),"") -> 농정해양위원회 | B21: =IFERROR(VLOOKUP($C21,구분표!$A$2:$C$313,3,FALSE),"") -> 축산산림국 | C21: 축산정책과 | D21: 신규 | G21: 기금 -정착촌가축분뇨처리시설장비지원 | J21: 65000 | K21: =SUM(H21:J21) -> 65000 | N21: =SUM(H21,L21,M21) -> 0 | O21: =IF(AND((K21=0),(N21>0)),"O",IF(AND((I21<0),(K21-N21<0)),"O","X")) -> X | P21: 국비변경내시/농림축산식품부 친환경축산팀-4656('16.11.4) | T21: 국도비 | V21: 기금 | W21: 65000 | X21: 0 | Y21: =IF(SUM($I21:$J21)=SUM($W21:$X21),"OK","검토") -> OK | AB21: =IF($V21<>"도비",IF($T21="국도비","직접입력",SUM($L21:$M21)),) -> 직접입력 | AC21: =IF($V21="도비",SUM(L21:M21),IF($T21="국도비","직접입력",SUM(L21:M21)-AB21)) -> 직접입력 | AD21: =IF(SUM(L21:M21)=SUM(AB21:AC21),"OK","검토") -> OK | AF21: =IF(AH21="","",IF(V21="도비","세입없음",CONCATENATE(AH21,"-",COUNTIF($AH$15:AH21,AH21)))) -> 0227-7 | AH21: {=IF(C21="","",INDEX(구분표!$I$2:$I$313, MATCH(1,(구분표!$E$2:$E$313='17년일입'!B21)*(구분표!$F$2:$F$313='17년일입'!C21)*(구분표!$G$2:$G$313='17년일입'!A21),0)))} -> 0227 | AL21: =IF(AF21="",0,SUMIFS('17년일출'!$X$6:$X$92,'17년일출'!$AG$6:$AG$92,'17년일입'!$AF21)) -> 65000 | AM21: =IF(AF21="","",COUNTIFS('17년일출'!$AG$6:$AG$92,'17년일입'!AF21)) -> 1 | AN21: =IF(W21=AL21,"OK","@@") -> OK | AP21: =IF(AF21="",0,SUMIFS('17년일출'!$AC$6:$AC$92,'17년일출'!$AG$6:$AG$92,'17년일입'!$AF21)) -> 0 | AQ21: =IF(AF21="","",COUNTIFS('17년일출'!$AG$6:$AG$92,AF21)) -> 1 | AR21: =IF(AB21=AP21,"OK","@@") -> @@
A22: =IFERROR(VLOOKUP($C22,구분표!$A$2:$C$313,2,FALSE),"") -> 농정해양위원회 | B22: =IFERROR(VLOOKUP($C22,구분표!$A$2:$C$313,3,FALSE),"") -> 축산산림국 | C22: 축산정책과 | D22: 본예산 | E22: 681 | G22: 기금 -전문단지조성용기계장비구입지원 | H22: 66000 | I22: -6000 | K22: =SUM(H22:J22) -> 60000 | N22: =SUM(H22,L22,M22) -> 66000 | O22: =IF(AND((K22=0),(N22>0)),"O",IF(AND((I22<0),(K22-N22<0)),"O","X")) -> O | P22: 국비변경내시/농림축산식품부 친환경축산팀-4594('16.11.2) | T22: 국도비 | V22: 기금 | W22: -6000 | X22: 0 | Y22: =IF(SUM($I22:$J22)=SUM($W22:$X22),"OK","검토") -> OK | AB22: =IF($V22<>"도비",IF($T22="국도비","직접입력",SUM($L22:$M22)),) -> 직접입력 | AC22: =IF($V22="도비",SUM(L22:M22),IF($T22="국도비","직접입력",SUM(L22:M22)-AB22)) -> 직접입력 | AD22: =IF(SUM(L22:M22)=SUM(AB22:AC22),"OK","검토") -> OK | AF22: =IF(AH22="","",IF(V22="도비","세입없음",CONCATENATE(AH22,"-",COUNTIF($AH$15:AH22,AH22)))) -> 0227-8 | AH22: {=IF(C22="","",INDEX(구분표!$I$2:$I$313, MATCH(1,(구분표!$E$2:$E$313='17년일입'!B22)*(구분표!$F$2:$F$313='17년일입'!C22)*(구분표!$G$2:$G$313='17년일입'!A22),0)))} -> 0227 | AL22: =IF(AF22="",0,SUMIFS('17년일출'!$X$6:$X$92,'17년일출'!$AG$6:$AG$92,'17년일입'!$AF22)) -> -6000 | AM22: =IF(AF22="","",COUNTIFS('17년일출'!$AG$6:$AG$92,'17년일입'!AF22)) -> 1 | AN22: =IF(W22=AL22,"OK","@@") -> OK | AP22: =IF(AF22="",0,SUMIFS('17년일출'!$AC$6:$AC$92,'17년일출'!$AG$6:$AG$92,'17년일입'!$AF22)) -> 0 | AQ22: =IF(AF22="","",COUNTIFS('17년일출'!$AG$6:$AG$92,AF22)) -> 1 | AR22: =IF(AB22=AP22,"OK","@@") -> @@
A23: =IFERROR(VLOOKUP($C23,구분표!$A$2:$C$313,2,FALSE),"") -> 농정해양위원회 | B23: =IFERROR(VLOOKUP($C23,구분표!$A$2:$C$313,3,FALSE),"") -> 축산산림국 | C23: 축산정책과 | D23: 본예산 | E23: 681 | G23: 기금 -전문단지조성용사일리지제조지원 | H23: 248500 | I23: -98500 | K23: =SUM(H23:J23) -> 150000 | N23: =SUM(H23,L23,M23) -> 248500 | O23: =IF(AND((K23=0),(N23>0)),"O",IF(AND((I23<0),(K23-N23<0)),"O","X")) -> O | P23: 국비변경내시/농림축산식품부 친환경축산팀-4594('16.11.2) | T23: 국도비 | V23: 기금 | W23: -98500 | X23: 0 | Y23: =IF(SUM($I23:$J23)=SUM($W23:$X23),"OK","검토") -> OK | AB23: =IF($V23<>"도비",IF($T23="국도비","직접입력",SUM($L23:$M23)),) -> 직접입력 | AC23: =IF($V23="도비",SUM(L23:M23),IF($T23="국도비","직접입력",SUM(L23:M23)-AB23)) -> 직접입력 | AD23: =IF(SUM(L23:M23)=SUM(AB23:AC23),"OK","검토") -> OK | AF23: =IF(AH23="","",IF(V23="도비","세입없음",CONCATENATE(AH23,"-",COUNTIF($AH$15:AH23,AH23)))) -> 0227-9 | AH23: {=IF(C23="","",INDEX(구분표!$I$2:$I$313, MATCH(1,(구분표!$E$2:$E$313='17년일입'!B23)*(구분표!$F$2:$F$313='17년일입'!C23)*(구분표!$G$2:$G$313='17년일입'!A23),0)))} -> 0227 | AL23: =IF(AF23="",0,SUMIFS('17년일출'!$X$6:$X$92,'17년일출'!$AG$6:$AG$92,'17년일입'!$AF23)) -> -98500 | AM23: =IF(AF23="","",COUNTIFS('17년일출'!$AG$6:$AG$92,'17년일입'!AF23)) -> 1 | AN23: =IF(W23=AL23,"OK","@@") -> OK | AP23: =IF(AF23="",0,SUMIFS('17년일출'!$AC$6:$AC$92,'17년일출'!$AG$6:$AG$92,'17년일입'!$AF23)) -> 0 | AQ23: =IF(AF23="","",COUNTIFS('17년일출'!$AG$6:$AG$92,AF23)) -> 1 | AR23: =IF(AB23=AP23,"OK","@@") -> @@
A24: =IFERROR(VLOOKUP($C24,구분표!$A$2:$C$313,2,FALSE),"") -> 농정해양위원회 | B24: =IFERROR(VLOOKUP($C24,구분표!$A$2:$C$313,3,FALSE),"") -> 축산산림국 | C24: 축산정책과 | D24: 본예산 | E24: 681 | G24: 기금 -전문단지조성용종자구입지원 | H24: 22000 | J24: 2000 | K24: =SUM(H24:J24) -> 24000 | N24: =SUM(H24,L24,M24) -> 22000 | O24: =IF(AND((K24=0),(N24>0)),"O",IF(AND((I24<0),(K24-N24<0)),"O","X")) -> X | P24: 국비변경내시/농림축산식품부 친환경축산팀-4594('16.11.2) | T24: 국도비 | V24: 기금 | W24: 2000 | X24: 0 | Y24: =IF(SUM($I24:$J24)=SUM($W24:$X24),"OK","검토") -> OK | AB24: =IF($V24<>"도비",IF($T24="국도비","직접입력",SUM($L24:$M24)),) -> 직접입력 | AC24: =IF($V24="도비",SUM(L24:M24),IF($T24="국도비","직접입력",SUM(L24:M24)-AB24)) -> 직접입력 | AD24: =IF(SUM(L24:M24)=SUM(AB24:AC24),"OK","검토") -> OK | AF24: =IF(AH24="","",IF(V24="도비","세입없음",CONCATENATE(AH24,"-",COUNTIF($AH$15:AH24,AH24)))) -> 0227-10 | AH24: {=IF(C24="","",INDEX(구분표!$I$2:$I$313, MATCH(1,(구분표!$E$2:$E$313='17년일입'!B24)*(구분표!$F$2:$F$313='17년일입'!C24)*(구분표!$G$2:$G$313='17년일입'!A24),0)))} -> 0227 | AL24: =IF(AF24="",0,SUMIFS('17년일출'!$X$6:$X$92,'17년일출'!$AG$6:$AG$92,'17년일입'!$AF24)) -> 2000 | AM24: =IF(AF24="","",COUNTIFS('17년일출'!$AG$6:$AG$92,'17년일입'!AF24)) -> 1 | AN24: =IF(W24=AL24,"OK","@@") -> OK | AP24: =IF(AF24="",0,SUMIFS('17년일출'!$AC$6:$AC$92,'17년일출'!$AG$6:$AG$92,'17년일입'!$AF24)) -> 0 | AQ24: =IF(AF24="","",COUNTIFS('17년일출'!$AG$6:$AG$92,AF24)) -> 1 | AR24: =IF(AB24=AP24,"OK","@@") -> @@
A25: =IFERROR(VLOOKUP($C25,구분표!$A$2:$C$313,2,FALSE),"") -> 농정해양위원회 | B25: =IFERROR(VLOOKUP($C25,구분표!$A$2:$C$313,3,FALSE),"") -> 축산산림국 | C25: 축산정책과 | D25: 본예산 | E25: 681 | G25: 기금 -조사료생산용기계장비구입지원 | H25: 120000 | J25: 45000 | K25: =SUM(H25:J25) -> 165000 | N25: =SUM(H25,L25,M25) -> 120000 | O25: =IF(AND((K25=0),(N25>0)),"O",IF(AND((I25<0),(K25-N25<0)),"O","X")) -> X | P25: 국비변경내시/농림축산식품부 친환경축산팀-4594('16.11.2) | T25: 국도비 | V25: 기금 | W25: 45000 | X25: 0 | Y25: =IF(SUM($I25:$J25)=SUM($W25:$X25),"OK","검토") -> OK | AB25: =IF($V25<>"도비",IF($T25="국도비","직접입력",SUM($L25:$M25)),) -> 직접입력 | AC25: =IF($V25="도비",SUM(L25:M25),IF($T25="국도비","직접입력",SUM(L25:M25)-AB25)) -> 직접입력 | AD25: =IF(SUM(L25:M25)=SUM(AB25:AC25),"OK","검토") -> OK | AF25: =IF(AH25="","",IF(V25="도비","세입없음",CONCATENATE(AH25,"-",COUNTIF($AH$15:AH25,AH25)))) -> 0227-11 | AH25: {=IF(C25="","",INDEX(구분표!$I$2:$I$313, MATCH(1,(구분표!$E$2:$E$313='17년일입'!B25)*(구분표!$F$2:$F$313='17년일입'!C25)*(구분표!$G$2:$G$313='17년일입'!A25),0)))} -> 0227 | AL25: =IF(AF25="",0,SUMIFS('17년일출'!$X$6:$X$92,'17년일출'!$AG$6:$AG$92,'17년일입'!$AF25)) -> 45000 | AM25: =IF(AF25="","",COUNTIFS('17년일출'!$AG$6:$AG$92,'17년일입'!AF25)) -> 1 | AN25: =IF(W25=AL25,"OK","@@") -> OK | AP25: =IF(AF25="",0,SUMIFS('17년일출'!$AC$6:$AC$92,'17년일출'!$AG$6:$AG$92,'17년일입'!$AF25)) -> 0 | AQ25: =IF(AF25="","",COUNTIFS('17년일출'!$AG$6:$AG$92,AF25)) -> 1 | AR25: =IF(AB25=AP25,"OK","@@") -> @@
A26: =IFERROR(VLOOKUP($C26,구분표!$A$2:$C$313,2,FALSE),"") -> 농정해양위원회 | B26: =IFERROR(VLOOKUP($C26,구분표!$A$2:$C$313,3,FALSE),"") -> 축산산림국 | C26: 축산정책과 | D26: 본예산 | E26: 681 | G26: 기금 -조사료생산용사일리지제조지원 | H26: 2216208 | J26: 283792 | K26: =SUM(H26:J26) -> 2500000 | N26: =SUM(H26,L26,M26) -> 2216208 | O26: =IF(AND((K26=0),(N26>0)),"O",IF(AND((I26<0),(K26-N26<0)),"O","X")) -> X | P26: 국비변경내시/농림축산식품부 친환경축산팀-4594('16.11.2) | T26: 국도비 | V26: 기금 | W26: 283792 | X26: 0 | Y26: =IF(SUM($I26:$J26)=SUM($W26:$X26),"OK","검토") -> OK | AB26: =IF($V26<>"도비",IF($T26="국도비","직접입력",SUM($L26:$M26)),) -> 직접입력 | AC26: =IF($V26="도비",SUM(L26:M26),IF($T26="국도비","직접입력",SUM(L26:M26)-AB26)) -> 직접입력 | AD26: =IF(SUM(L26:M26)=SUM(AB26:AC26),"OK","검토") -> OK | AF26: =IF(AH26="","",IF(V26="도비","세입없음",CONCATENATE(AH26,"-",COUNTIF($AH$15:AH26,AH26)))) -> 0227-12 | AH26: {=IF(C26="","",INDEX(구분표!$I$2:$I$313, MATCH(1,(구분표!$E$2:$E$313='17년일입'!B26)*(구분표!$F$2:$F$313='17년일입'!C26)*(구분표!$G$2:$G$313='17년일입'!A26),0)))} -> 0227 | AL26: =IF(AF26="",0,SUMIFS('17년일출'!$X$6:$X$92,'17년일출'!$AG$6:$AG$92,'17년일입'!$AF26)) -> 283792 | AM26: =IF(AF26="","",COUNTIFS('17년일출'!$AG$6:$AG$92,'17년일입'!AF26)) -> 1 | AN26: =IF(W26=AL26,"OK","@@") -> OK | AP26: =IF(AF26="",0,SUMIFS('17년일출'!$AC$6:$AC$92,'17년일출'!$AG$6:$AG$92,'17년일입'!$AF26)) -> 0 | AQ26: =IF(AF26="","",COUNTIFS('17년일출'!$AG$6:$AG$92,AF26)) -> 1 | AR26: =IF(AB26=AP26,"OK","@@") -> @@
A27: =IFERROR(VLOOKUP($C27,구분표!$A$2:$C$313,2,FALSE),"") -> 농정해양위원회 | B27: =IFERROR(VLOOKUP($C27,구분표!$A$2:$C$313,3,FALSE),"") -> 축산산림국 | C27: 축산정책과 | D27: 본예산 | E27: 681 | G27: 기금 -조사료생산용종자구입지원 | H27: 620900 | J27: 39100 | K27: =SUM(H27:J27) -> 660000 | N27: =SUM(H27,L27,M27) -> 620900 | O27: =IF(AND((K27=0),(N27>0)),"O",IF(AND((I27<0),(K27-N27<0)),"O","X")) -> X | P27: 국비변경내시/농림축산식품부 친환경축산팀-4594('16.11.2) | T27: 국도비 | V27: 기금 | W27: 39100 | X27: 0 | Y27: =IF(SUM($I27:$J27)=SUM($W27:$X27),"OK","검토") -> OK | AB27: =IF($V27<>"도비",IF($T27="국도비","직접입력",SUM($L27:$M27)),) -> 직접입력 | AC27: =IF($V27="도비",SUM(L27:M27),IF($T27="국도비","직접입력",SUM(L27:M27)-AB27)) -> 직접입력 | AD27: =IF(SUM(L27:M27)=SUM(AB27:AC27),"OK","검토") -> OK | AF27: =IF(AH27="","",IF(V27="도비","세입없음",CONCATENATE(AH27,"-",COUNTIF($AH$15:AH27,AH27)))) -> 0227-13 | AH27: {=IF(C27="","",INDEX(구분표!$I$2:$I$313, MATCH(1,(구분표!$E$2:$E$313='17년일입'!B27)*(구분표!$F$2:$F$313='17년일입'!C27)*(구분표!$G$2:$G$313='17년일입'!A27),0)))} -> 0227 | AL27: =IF(AF27="",0,SUMIFS('17년일출'!$X$6:$X$92,'17년일출'!$AG$6:$AG$92,'17년일입'!$AF27)) -> 39100 | AM27: =IF(AF27="","",COUNTIFS('17년일출'!$AG$6:$AG$92,'17년일입'!AF27)) -> 1 | AN27: =IF(W27=AL27,"OK","@@") -> OK | AP27: =IF(AF27="",0,SUMIFS('17년일출'!$AC$6:$AC$92,'17년일출'!$AG$6:$AG$92,'17년일입'!$AF27)) -> 0 | AQ27: =IF(AF27="","",COUNTIFS('17년일출'!$AG$6:$AG$92,AF27)) -> 1 | AR27: =IF(AB27=AP27,"OK","@@") -> @@
A28: =IFERROR(VLOOKUP($C28,구분표!$A$2:$C$313,2,FALSE),"") -> 농정해양위원회 | B28: =IFERROR(VLOOKUP($C28,구분표!$A$2:$C$313,3,FALSE),"") -> 축산산림국 | C28: 축산정책과 | D28: 본예산 | E28: 681 | G28: 기금 -조사료생산용볏짚처리비지원 | H28: 647100 | I28: -647100 | K28: =SUM(H28:J28) -> 0 | N28: =SUM(H28,L28,M28) -> 647100 | O28: =IF(AND((K28=0),(N28>0)),"O",IF(AND((I28<0),(K28-N28<0)),"O","X")) -> O | P28: 국비변경내시/농림축산식품부 친환경축산팀-4594('16.11.2) | T28: 국도비 | V28: 기금 | W28: -647100 | X28: 0 | Y28: =IF(SUM($I28:$J28)=SUM($W28:$X28),"OK","검토") -> OK | AB28: =IF($V28<>"도비",IF($T28="국도비","직접입력",SUM($L28:$M28)),) -> 직접입력 | AC28: =IF($V28="도비",SUM(L28:M28),IF($T28="국도비","직접입력",SUM(L28:M28)-AB28)) -> 직접입력 | AD28: =IF(SUM(L28:M28)=SUM(AB28:AC28),"OK","검토") -> OK | AF28: =IF(AH28="","",IF(V28="도비","세입없음",CONCATENATE(AH28,"-",COUNTIF($AH$15:AH28,AH28)))) -> 0227-14 | AH28: {=IF(C28="","",INDEX(구분표!$I$2:$I$313, MATCH(1,(구분표!$E$2:$E$313='17년일입'!B28)*(구분표!$F$2:$F$313='17년일입'!C28)*(구분표!$G$2:$G$313='17년일입'!A28),0)))} -> 0227 | AL28: =IF(AF28="",0,SUMIFS('17년일출'!$X$6:$X$92,'17년일출'!$AG$6:$AG$92,'17년일입'!$AF28)) -> -647100 | AM28: =IF(AF28="","",COUNTIFS('17년일출'!$AG$6:$AG$92,'17년일입'!AF28)) -> 1 | AN28: =IF(W28=AL28,"OK","@@") -> OK | AP28: =IF(AF28="",0,SUMIFS('17년일출'!$AC$6:$AC$92,'17년일출'!$AG$6:$AG$92,'17년일입'!$AF28)) -> 0 | AQ28: =IF(AF28="","",COUNTIFS('17년일출'!$AG$6:$AG$92,AF28)) -> 1 | AR28: =IF(AB28=AP28,"OK","@@") -> @@
A29: =IFERROR(VLOOKUP($C29,구분표!$A$2:$C$313,2,FALSE),"") -> 농정해양위원회 | B29: =IFERROR(VLOOKUP($C29,구분표!$A$2:$C$313,3,FALSE),"") -> 축산산림국 | C29: 축산정책과 | D29: 본예산 | E29: 681 | G29: 기금 -조사료가공유통시설지원 | H29: 74000 | I29: -11000 | K29: =SUM(H29:J29) -> 63000 | N29: =SUM(H29,L29,M29) -> 74000 | O29: =IF(AND((K29=0),(N29>0)),"O",IF(AND((I29<0),(K29-N29<0)),"O","X")) -> O | P29: 국비변경내시/농림축산식품부 친환경축산팀-4594('16.11.2) | T29: 국도비 | V29: 기금 | W29: -11000 | X29: 0 | Y29: =IF(SUM($I29:$J29)=SUM($W29:$X29),"OK","검토") -> OK | AB29: =IF($V29<>"도비",IF($T29="국도비","직접입력",SUM($L29:$M29)),) -> 직접입력 | AC29: =IF($V29="도비",SUM(L29:M29),IF($T29="국도비","직접입력",SUM(L29:M29)-AB29)) -> 직접입력 | AD29: =IF(SUM(L29:M29)=SUM(AB29:AC29),"OK","검토") -> OK | AF29: =IF(AH29="","",IF(V29="도비","세입없음",CONCATENATE(AH29,"-",COUNTIF($AH$15:AH29,AH29)))) -> 0227-15 | AH29: {=IF(C29="","",INDEX(구분표!$I$2:$I$313, MATCH(1,(구분표!$E$2:$E$313='17년일입'!B29)*(구분표!$F$2:$F$313='17년일입'!C29)*(구분표!$G$2:$G$313='17년일입'!A29),0)))} -> 0227 | AL29: =IF(AF29="",0,SUMIFS('17년일출'!$X$6:$X$92,'17년일출'!$AG$6:$AG$92,'17년일입'!$AF29)) -> -11000 | AM29: =IF(AF29="","",COUNTIFS('17년일출'!$AG$6:$AG$92,'17년일입'!AF29)) -> 1 | AN29: =IF(W29=AL29,"OK","@@") -> OK | AP29: =IF(AF29="",0,SUMIFS('17년일출'!$AC$6:$AC$92,'17년일출'!$AG$6:$AG$92,'17년일입'!$AF29)) -> 0 | AQ29: =IF(AF29="","",COUNTIFS('17년일출'!$AG$6:$AG$92,AF29)) -> 1 | AR29: =IF(AB29=AP29,"OK","@@") -> @@
A30: =IFERROR(VLOOKUP($C30,구분표!$A$2:$C$313,2,FALSE),"") -> 농정해양위원회 | B30: =IFERROR(VLOOKUP($C30,구분표!$A$2:$C$313,3,FALSE),"") -> 축산산림국 | C30: 축산정책과 | D30: 본예산 | E30: 681 | G30: 기금 -조사료품질관리지원 | H30: 91900 | I30: -62640 | K30: =SUM(H30:J30) -> 29260 | N30: =SUM(H30,L30,M30) -> 91900 | O30: =IF(AND((K30=0),(N30>0)),"O",IF(AND((I30<0),(K30-N30<0)),"O","X")) -> O | P30: 국비변경내시/농림축산식품부 친환경축산팀-4594('16.11.2) | T30: 국도비 | V30: 기금 | W30: -62640 | X30: 0 | Y30: =IF(SUM($I30:$J30)=SUM($W30:$X30),"OK","검토") -> OK | AB30: =IF($V30<>"도비",IF($T30="국도비","직접입력",SUM($L30:$M30)),) -> 직접입력 | AC30: =IF($V30="도비",SUM(L30:M30),IF($T30="국도비","직접입력",SUM(L30:M30)-AB30)) -> 직접입력 | AD30: =IF(SUM(L30:M30)=SUM(AB30:AC30),"OK","검토") -> OK | AF30: =IF(AH30="","",IF(V30="도비","세입없음",CONCATENATE(AH30,"-",COUNTIF($AH$15:AH30,AH30)))) -> 0227-16 | AH30: {=IF(C30="","",INDEX(구분표!$I$2:$I$313, MATCH(1,(구분표!$E$2:$E$313='17년일입'!B30)*(구분표!$F$2:$F$313='17년일입'!C30)*(구분표!$G$2:$G$313='17년일입'!A30),0)))} -> 0227 | AL30: =IF(AF30="",0,SUMIFS('17년일출'!$X$6:$X$92,'17년일출'!$AG$6:$AG$92,'17년일입'!$AF30)) -> -62640 | AM30: =IF(AF30="","",COUNTIFS('17년일출'!$AG$6:$AG$92,'17년일입'!AF30)) -> 1 | AN30: =IF(W30=AL30,"OK","@@") -> OK | AP30: =IF(AF30="",0,SUMIFS('17년일출'!$AC$6:$AC$92,'17년일출'!$AG$6:$AG$92,'17년일입'!$AF30)) -> 0 | AQ30: =IF(AF30="","",COUNTIFS('17년일출'!$AG$6:$AG$92,AF30)) -> 1 | AR30: =IF(AB30=AP30,"OK","@@") -> @@
A31: =IFERROR(VLOOKUP($C31,[3]구분표!$A$2:$C$313,2,FALSE),"") -> 농정해양위원회 | B31: =IFERROR(VLOOKUP($C31,[3]구분표!$A$2:$C$313,3,FALSE),"") -> 축산산림국 | C31: 동물방역위생과 | D31: 본예산 | E31: 682 | G31: 기금 -축산물위생검사기관 운영비 지원 | H31: 328000 | J31: 40000 | K31: =SUM(H31:J31) -> 368000 | N31: =SUM(H31,L31,M31) -> 328000 | O31: =IF(AND((K31=0),(N31>0)),"O",IF(AND((I31<0),(K31-N31<0)),"O","X")) -> X | P31: 국비변경내시 농림축산식품부방역관리과-6979호,(’16.10.21) | T31: 국도비 | V31: 기금 | W31: 40000 | Y31: =IF(SUM($I31:$J31)=SUM($W31:$X31),"OK","검토") -> OK | AB31: =IF($V31<>"도비",IF($T31="국도비","직접입력",SUM($L31:$M31)),) -> 직접입력 | AC31: =IF($V31="도비",SUM(L31:M31),IF($T31="국도비","직접입력",SUM(L31:M31)-AB31)) -> 직접입력 | AD31: =IF(SUM(L31:M31)=SUM(AB31:AC31),"OK","검토") -> OK | AF31: =IF(AH31="","",IF(V31="도비","세입없음",CONCATENATE(AH31,"-",COUNTIF($AH$15:AH31,AH31)))) -> 228-1 | AH31: 228 | AL31: 40000 | AM31: =IF(AF31="","",COUNTIFS('17년일출'!$AG$6:$AG$92,'17년일입'!AF31)) -> 0 | AN31: =IF(W31=AL31,"OK","@@") -> OK | AP31: =IF(AF31="",0,SUMIFS('17년일출'!$AC$6:$AC$92,'17년일출'!$AG$6:$AG$92,'17년일입'!$AF31)) -> 0 | AQ31: =IF(AF31="","",COUNTIFS('17년일출'!$AG$6:$AG$92,AF31)) -> 0 | AR31: =IF(AB31=AP31,"OK","@@") -> @@
A32: 농정해양위원회 | B32: 축산산림국 | C32: 산림과 | D32: 신규 | G32: 국고보조금 -산림작물생산단지 | J32: 466624 | K32: =SUM(H32:J32) -> 466624 | N32: =SUM(H32,L32,M32) -> 0 | P32: 국비변경내시 (산림청 사유림경영소득과-4361(2016.10.27.호)) | T32: 국도비 | V32: 국비 | W32: 466624 | X32: 0 | Y32: =IF(SUM($I32:$J32)=SUM($W32:$X32),"OK","검토") -> OK | AB32: =IF($V32<>"도비",IF($T32="국도비","직접입력",SUM($L32:$M32)),) -> 직접입력 | AC32: =IF($V32="도비",SUM(L32:M32),IF($T32="국도비","직접입력",SUM(L32:M32)-AB32)) -> 직접입력 | AD32: =IF(SUM(L32:M32)=SUM(AB32:AC32),"OK","검토") -> OK | AF32: =IF(AH32="","",IF(V32="도비","세입없음",CONCATENATE(AH32,"-",COUNTIF($AH$15:AH32,AH32)))) -> 0229-1 | AH32: {=IF(C32="","",INDEX(구분표!$I$2:$I$313, MATCH(1,(구분표!$E$2:$E$313='17년일입'!B32)*(구분표!$F$2:$F$313='17년일입'!C32)*(구분표!$G$2:$G$313='17년일입'!A32),0)))} -> 0229 | AL32: =IF(AF32="",0,SUMIFS('17년일출'!$X$6:$X$92,'17년일출'!$AG$6:$AG$92,'17년일입'!$AF32)) -> 466624 | AM32: =IF(AF32="","",COUNTIFS('17년일출'!$AG$6:$AG$92,'17년일입'!AF32)) -> 1 | AN32: =IF(W32=AL32,"OK","@@") -> OK | AP32: =IF(AF32="",0,SUMIFS('17년일출'!$AC$6:$AC$92,'17년일출'!$AG$6:$AG$92,'17년일입'!$AF32)) -> 0 | AQ32: =IF(AF32="","",COUNTIFS('17년일출'!$AG$6:$AG$92,AF32)) -> 1 | AR32: =IF(AB32=AP32,"OK","@@") -> @@
A33: 농정해양위원회 | B33: 축산산림국 | C33: 산림과 | D33: 신규 | G33: 국고보조금 -산림복합경영단지 | J33: 572580 | K33: =SUM(H33:J33) -> 572580 | N33: =SUM(H33,L33,M33) -> 0 | O33: =IF(AND((K33=0),(N33>0)),"O",IF(AND((I33<0),(K33-N33<0)),"O","X")) -> X | P33: 국비변경내시 (산림청 사유림경영소득과-4361(2016.10.27.호)) | T33: 국도비 | V33: 국비 | W33: 572580 | X33: 0 | Y33: =IF(SUM($I33:$J33)=SUM($W33:$X33),"OK","검토") -> OK | AB33: =IF($V33<>"도비",IF($T33="국도비","직접입력",SUM($L33:$M33)),) -> 직접입력 | AC33: =IF($V33="도비",SUM(L33:M33),IF($T33="국도비","직접입력",SUM(L33:M33)-AB33)) -> 직접입력 | AD33: =IF(SUM(L33:M33)=SUM(AB33:AC33),"OK","검토") -> OK | AF33: =IF(AH33="","",IF(V33="도비","세입없음",CONCATENATE(AH33,"-",COUNTIF($AH$15:AH33,AH33)))) -> 0229-2 | AH33: {=IF(C33="","",INDEX(구분표!$I$2:$I$313, MATCH(1,(구분표!$E$2:$E$313='17년일입'!B33)*(구분표!$F$2:$F$313='17년일입'!C33)*(구분표!$G$2:$G$313='17년일입'!A33),0)))} -> 0229 | AL33: =IF(AF33="",0,SUMIFS('17년일출'!$X$6:$X$92,'17년일출'!$AG$6:$AG$92,'17년일입'!$AF33)) -> 572580 | AM33: =IF(AF33="","",COUNTIFS('17년일출'!$AG$6:$AG$92,'17년일입'!AF33)) -> 1 | AN33: =IF(W33=AL33,"OK","@@") -> OK | AP33: =IF(AF33="",0,SUMIFS('17년일출'!$AC$6:$AC$92,'17년일출'!$AG$6:$AG$92,'17년일입'!$AF33)) -> 0 | AQ33: =IF(AF33="","",COUNTIFS('17년일출'!$AG$6:$AG$92,AF33)) -> 1 | AR33: =IF(AB33=AP33,"OK","@@") -> @@
A34: 농정해양위원회 | B34: 축산산림국 | C34: 축산진흥센터 | D34: 본예산 | E34: 688 | G34: 기금 - 한우젖소개량 자본지원(자치단체) | H34: 158889 | J34: 111 | K34: =SUM(H34:J34) -> 159000 | N34: =SUM(H34,L34,M34) -> 158889 | O34: =IF(AND((K34=0),(N34>0)),"O",IF(AND((I34<0),(K34-N34<0)),"O","X")) -> X | P34: 국비변경내시 (농림축산식품부 축산경영과-4267(2016.11.1)호 | T34: 국도비 | V34: 기금 | W34: 111 | X34: 0 | Y34: =IF(SUM($I34:$J34)=SUM($W34:$X34),"OK","검토") -> OK | AB34: =IF($V34<>"도비",IF($T34="국도비","직접입력",SUM($L34:$M34)),) -> 직접입력 | AC34: =IF($V34="도비",SUM(L34:M34),IF($T34="국도비","직접입력",SUM(L34:M34)-AB34)) -> 직접입력 | AD34: =IF(SUM(L34:M34)=SUM(AB34:AC34),"OK","검토") -> OK | AF34: =IF(AH34="","",IF(V34="도비","세입없음",CONCATENATE(AH34,"-",COUNTIF($AH$15:AH34,AH34)))) -> 0233-1 | AH34: {=IF(C34="","",INDEX(구분표!$I$2:$I$313, MATCH(1,(구분표!$E$2:$E$313='17년일입'!B34)*(구분표!$F$2:$F$313='17년일입'!C34)*(구분표!$G$2:$G$313='17년일입'!A34),0)))} -> 0233 | AL34: =IF(AF34="",0,SUMIFS('17년일출'!$X$6:$X$92,'17년일출'!$AG$6:$AG$92,'17년일입'!$AF34)) -> 111 | AM34: =IF(AF34="","",COUNTIFS('17년일출'!$AG$6:$AG$92,'17년일입'!AF34)) -> 3 | AN34: =IF(W34=AL34,"OK","@@") -> OK | AP34: =IF(AF34="",0,SUMIFS('17년일출'!$AC$6:$AC$92,'17년일출'!$AG$6:$AG$92,'17년일입'!$AF34)) -> 0 | AQ34: =IF(AF34="","",COUNTIFS('17년일출'!$AG$6:$AG$92,AF34)) -> 3 | AR34: =IF(AB34=AP34,"OK","@@") -> @@
A35: 농정해양위원회 | B35: 농업기술원 | C35: 행정지원과 | D35: 신규 | G35: 국고보조금 - 스마트 팜 권역별 현장지원센터 지원사업 | J35: 75000 | K35: 75000 | L35: 국비 신규 가내시 (농림축산식품부 창조농식품정책과-3015호, ’16.10.25) | N35: =SUM(H35,L35,M35) -> 0 | O35: =IF(AND((K35=0),(N35>0)),"O",IF(AND((I35<0),(K35-N35<0)),"O","X")) -> X | P35: 국비 신규 가내시 (농림축산식품부 창조농식품정책과-3015호, ’16.10.25) | T35: 국도비 | V35: 국비 | W35: 75000 | X35: 0 | Y35: =IF(SUM($I35:$J35)=SUM($W35:$X35),"OK","검토") -> OK | AB35: =IF($V35<>"도비",IF($T35="국도비","직접입력",SUM($L35:$M35)),) -> 직접입력 | AC35: =IF($V35="도비",SUM(L35:M35),IF($T35="국도비","직접입력",SUM(L35:M35)-AB35)) -> 직접입력 | AD35: =IF(SUM(L35:M35)=SUM(AB35:AC35),"OK","검토") -> OK | AF35: =IF(AH35="","",IF(V35="도비","세입없음",CONCATENATE(AH35,"-",COUNTIF($AH$15:AH35,AH35)))) -> 0234-1 | AH35: {=IF(C35="","",INDEX(구분표!$I$2:$I$313, MATCH(1,(구분표!$E$2:$E$313='17년일입'!B35)*(구분표!$F$2:$F$313='17년일입'!C35)*(구분표!$G$2:$G$313='17년일입'!A35),0)))} -> 0234 | AL35: 75000 | AM35: =IF(AF35="","",COUNTIFS('17년일출'!$AG$6:$AG$92,'17년일입'!AF35)) -> 2 | AN35: =IF(W35=AL35,"OK","@@") -> OK | AP35: =IF(AF35="",0,SUMIFS('17년일출'!$AC$6:$AC$92,'17년일출'!$AG$6:$AG$92,'17년일입'!$AF35)) -> 0 | AQ35: =IF(AF35="","",COUNTIFS('17년일출'!$AG$6:$AG$92,AF35)) -> 2 | AR35: =IF(AB35=AP35,"OK","@@") -> @@
A36: 농정해양위원회 | B36: 농업기술원 | C36: 행정지원과 | D36: 본예산 | E36: 787 | F36: 14 | G36: 국고보조금 - 지역전략작목산학연협력 | H36: 683700 | I36: -33700 | J36: 0 | K36: 650000 | L36: 예산 입력 오류 | N36: =SUM(H36,L36,M36) -> 683700 | O36: =IF(AND((K36=0),(N36>0)),"O",IF(AND((I36<0),(K36-N36<0)),"O","X")) -> O | P36: 예산 입력 오류 | T36: 국도비 | V36: 국비 | W36: -33700 | X36: 0 | Y36: =IF(SUM($I36:$J36)=SUM($W36:$X36),"OK","검토") -> OK | AB36: =IF($V36<>"도비",IF($T36="국도비","직접입력",SUM($L36:$M36)),) -> 직접입력 | AC36: =IF($V36="도비",SUM(L36:M36),IF($T36="국도비","직접입력",SUM(L36:M36)-AB36)) -> 직접입력 | AD36: =IF(SUM(L36:M36)=SUM(AB36:AC36),"OK","검토") -> OK | AF36: =IF(AH36="","",IF(V36="도비","세입없음",CONCATENATE(AH36,"-",COUNTIF($AH$15:AH36,AH36)))) -> 0234-2 | AH36: {=IF(C36="","",INDEX(구분표!$I$2:$I$313, MATCH(1,(구분표!$E$2:$E$313='17년일입'!B36)*(구분표!$F$2:$F$313='17년일입'!C36)*(구분표!$G$2:$G$313='17년일입'!A36),0)))} -> 0234 | AL36: -33700 | AM36: =IF(AF36="","",COUNTIFS('17년일출'!$AG$6:$AG$92,'17년일입'!AF36)) -> 0 | AN36: =IF(W36=AL36,"OK","@@") -> OK | AP36: =IF(AF36="",0,SUMIFS('17년일출'!$AC$6:$AC$92,'17년일출'!$AG$6:$AG$92,'17년일입'!$AF36)) -> 0 | AQ36: =IF(AF36="","",COUNTIFS('17년일출'!$AG$6:$AG$92,AF36)) -> 0 | AR36: =IF(AB36=AP36,"OK","@@") -> @@
A37: 농정해양위원회 | B37: 농업기술원 | C37: 행정지원과 | D37: 본예산 | E37: 787 | F37: 14 | G37: 국고보조금 - 지역특화작목기술개발 | H37: 656800 | J37: 28200 | K37: 685000 | L37: 예산 입력 오류 | N37: =SUM(H37,L37,M37) -> 656800 | O37: =IF(AND((K37=0),(N37>0)),"O",IF(AND((I37<0),(K37-N37<0)),"O","X")) -> X | P37: 예산 입력 오류 | T37: 국도비 | V37: 국비 | W37: 28200 | X37: 0 | Y37: =IF(SUM($I37:$J37)=SUM($W37:$X37),"OK","검토") -> OK | AB37: =IF($V37<>"도비",IF($T37="국도비","직접입력",SUM($L37:$M37)),) -> 직접입력 | AC37: =IF($V37="도비",SUM(L37:M37),IF($T37="국도비","직접입력",SUM(L37:M37)-AB37)) -> 직접입력 | AD37: =IF(SUM(L37:M37)=SUM(AB37:AC37),"OK","검토") -> OK | AF37: =IF(AH37="","",IF(V37="도비","세입없음",CONCATENATE(AH37,"-",COUNTIF($AH$15:AH37,AH37)))) -> 0234-3 | AH37: {=IF(C37="","",INDEX(구분표!$I$2:$I$313, MATCH(1,(구분표!$E$2:$E$313='17년일입'!B37)*(구분표!$F$2:$F$313='17년일입'!C37)*(구분표!$G$2:$G$313='17년일입'!A37),0)))} -> 0234 | AL37: 28200 | AM37: =IF(AF37="","",COUNTIFS('17년일출'!$AG$6:$AG$92,'17년일입'!AF37)) -> 0 | AN37: =IF(W37=AL37,"OK","@@") -> OK | AP37: =IF(AF37="",0,SUMIFS('17년일출'!$AC$6:$AC$92,'17년일출'!$AG$6:$AG$92,'17년일입'!$AF37)) -> 0 | AQ37: =IF(AF37="","",COUNTIFS('17년일출'!$AG$6:$AG$92,AF37)) -> 0 | AR37: =IF(AB37=AP37,"OK","@@") -> @@

Sheet 17년일출
A1: 2017년도 경기도 일반회계 세출 예산 조정(안)
A2: □ 세출예산 | X2: 세입=세출 | AC2: 세입=세출
M3: =COUNTA(M6:M92)-10 -> -9 | N3: =COUNTA(N6:N92)-10 -> -9 | S3: (단위 : 천원) | X3: =IF(#REF!='17년일입'!W6,"OK","@@") -> #REF! | Z3: =IF(COUNTIF(Z6:Z92,"검토")>0,"@@","OK") -> OK | AC3: =IF(#REF!='17년일입'!AB6,"OK","@@") -> #REF! | AE3: =IF(COUNTIF(AE6:AE92,"검토")>0,"@@","OK") -> OK
A4: 위원회명 | B4: 실국명 | C4: 부서명 | D4: 편성 구분 | E4: 연정 구분 | F4: 예산안 페이지 | G4: 사업설명서페이지 | H4: 사업명 | I4: 예산안 (가) | J4: 상임위 예산안 조정액(나) | L4: 상임위 조정 예산안 (다=가+나) | M4: 예결위 예산안 조정액(라) | O4: 예결위 조정 예산안 (마=가+라) | P4: 동의 대상 | Q4: 상임위 변경사유 (심의 참고자료) | R4: 비고 (상임위 부대의견) | S4: 비고 (부대의견) | U4: 국도비 등 여부 | W4: 재원 | X4: 상임위 재원별 증감액 | AB4: 재원 | AC4: 예결위 재원별 증감액 | AG4: 세입번호 | AI4: 동일 세입 건수 | AJ4: 세출 번호 검증 | AL4: 실국부서 코드 | AN4: 추가 내시 등
J5: 감액 | K5: 증액 | M5: 감액 | N5: 증액 | X5: 국비 등 | Y5: 도비 | Z5: 검증 | AC5: 국비 등 | AD5: 도비 | AE5: 검증
A6: (농정해양위원회) | I6: =SUM(I7:I102) -> 32882791 | J6: =SUM(J7:J102) -> -10094202 | K6: =SUM(K7:K102) -> 18734755 | L6: =SUM(L7:L102) -> 41523344 | M6: =SUM(M67:M83) -> 0 | N6: =SUM(N67:N83) -> 0 | O6: =SUM(O67:O83) -> 2204908 | AG6: =IF(W6="","",IF(W6="도비","세입없음","직접입력"))
A7: =IFERROR(VLOOKUP($C7,[4]구분표!$A$2:$C$313,2,FALSE),"") -> 농정해양위원회 | B7: =IFERROR(VLOOKUP($C7,[4]구분표!$A$2:$C$313,3,FALSE),"") -> 농정해양국 | C7: 농업정책과 | D7: 신규 | E7: 일반 | F7: 618 | H7: 전문농업인육성(자체/직접) -여성농업인육성(민간행사사업보조) | K7: 50000 | L7: =I7+J7+K7 -> 50000 | O7: =I7+M7+N7 -> 0 | P7: =IF(AND((L7=0),(O7>0)),"O",IF(AND((J7<0),(L7-O7<0)),"O","X")) -> X | Q7: 여성농업인 지원확대 필요 | U7: 도비 | W7: 도비 | Y7: 50000 | Z7: =IF(SUM($J7:$K7)=SUM($X7:$Y7),"OK","검토") -> OK | AC7: =IF($W7<>"도비",IF($U7="국도비","직접입력",SUM($M7:$N7)),) -> 0 | AD7: =IF($W7="도비",SUM(M7:N7),IF($U7="국도비","직접입력",SUM(M7:N7)-AC7)) -> 0 | AE7: =IF(SUM(M7:N7)=SUM(AC7:AD7),"OK","검토") -> OK | AG7: =IF(W7="","",IF(W7="도비","세입없음","직접입력")) -> 세입없음 | AI7: =IF(AG7="","",COUNTIF($AG$6:$AG$166,AG7)) -> 56 | AJ7: =IF(W7="","",IF(AND(W7="도비",AG7="세입없음"),"OK",IF(AND(W7<>"도비",AG7<>""),"OK","@@"))) -> OK | AL7: {=IF(C7="","",INDEX(구분표!$I$2:$I$313, MATCH(1,(구분표!$E$2:$E$313='17년일출'!B7)*(구분표!$F$2:$F$313='17년일출'!C7)*(구분표!$G$2:$G$313='17년일출'!A7),0)))} -> 0220
A8: =IFERROR(VLOOKUP($C8,[4]구분표!$A$2:$C$313,2,FALSE),"") -> 농정해양위원회 | B8: =IFERROR(VLOOKUP($C8,[4]구분표!$A$2:$C$313,3,FALSE),"") -> 농정해양국 | C8: 농업정책과 | D8: 본예산 | E8: 일반 | F8: 619 | G8: 70 | H8: 지역농업발전(자체/직접) -NEXT 경기농정 우수사업 홍보 | I8: 100000 | K8: 100000 | L8: =I8+J8+K8 -> 200000 | U8: 도비 | W8: 도비 | Y8: 100000 | Z8: =IF(SUM($J8:$K8)=SUM($X8:$Y8),"OK","검토") -> OK | AC8: =IF($W8<>"도비",IF($U8="국도비","직접입력",SUM($M8:$N8)),) -> 0 | AD8: =IF($W8="도비",SUM(M8:N8),IF($U8="국도비","직접입력",SUM(M8:N8)-AC8)) -> 0 | AE8: =IF(SUM(M8:N8)=SUM(AC8:AD8),"OK","검토") -> OK | AG8: =IF(W8="","",IF(W8="도비","세입없음","직접입력")) -> 세입없음 | AI8: =IF(AG8="","",COUNTIF($AG$6:$AG$166,AG8)) -> 56 | AJ8: =IF(W8="","",IF(AND(W8="도비",AG8="세입없음"),"OK",IF(AND(W8<>"도비",AG8<>""),"OK","@@"))) -> OK | AL8: {=IF(C8="","",INDEX(구분표!$I$2:$I$313, MATCH(1,(구분표!$E$2:$E$313='17년일출'!B8)*(구분표!$F$2:$F$313='17년일출'!C8)*(구분표!$G$2:$G$313='17년일출'!A8),0)))} -> 0220
A9: =IFERROR(VLOOKUP($C9,[4]구분표!$A$2:$C$313,2,FALSE),"") -> 농정해양위원회 | B9: =IFERROR(VLOOKUP($C9,[4]구분표!$A$2:$C$313,3,FALSE),"") -> 농정해양국 | C9: 농업정책과 | D9: 본예산 | E9: 일반 | F9: 620 | G9: 79 | H9: 농업소식 및 정보제공(자체/지원) -농업소식 및 정보제공 | I9: 284425 | K9: 15581 | L9: =I9+J9+K9 -> 300006 | Q9: 농업인에게 최신 영농기술 등 정보제공 확대필요 | U9: 도비 | W9: 도비 | Y9: 15581 | Z9: =IF(SUM($J9:$K9)=SUM($X9:$Y9),"OK","검토") -> OK | AC9: =IF($W9<>"도비",IF($U9="국도비","직접입력",SUM($M9:$N9)),) -> 0 | AD9: =IF($W9="도비",SUM(M9:N9),IF($U9="국도비","직접입력",SUM(M9:N9)-AC9)) -> 0 | AE9: =IF(SUM(M9:N9)=SUM(AC9:AD9),"OK","검토") -> OK | AG9: =IF(W9="","",IF(W9="도비","세입없음","직접입력")) -> 세입없음 | AI9: =IF(AG9="","",COUNTIF($AG$6:$AG$166,AG9)) -> 56 | AJ9: =IF(W9="","",IF(AND(W9="도비",AG9="세입없음"),"OK",IF(AND(W9<>"도비",AG9<>""),"OK","@@"))) -> OK | AL9: {=IF(C9="","",INDEX(구분표!$I$2:$I$313, MATCH(1,(구분표!$E$2:$E$313='17년일출'!B9)*(구분표!$F$2:$F$313='17년일출'!C9)*(구분표!$G$2:$G$313='17년일출'!A9),0)))} -> 0220
A10: =IFERROR(VLOOKUP($C10,[4]구분표!$A$2:$C$313,2,FALSE),"") -> 농정해양위원회 | B10: =IFERROR(VLOOKUP($C10,[4]구분표!$A$2:$C$313,3,FALSE),"") -> 농정해양국 | C10: 농업정책과 | D10: 본예산 | E10: 연정 | F10: 626 | G10: 185 | H10: 따복미래농장만들기(자체/지원) -따복미래농장만들기 | I10: 5000000 | J10: -2000000 | L10: =I10+J10+K10 -> 3000000 | O10: =I10+M10+N10 -> 5000000 | Q10: 도로 등 기반시설 공사비 삭감 | U10: 도비 | W10: 도비 | Y10: -2000000 | Z10: =IF(SUM($J10:$K10)=SUM($X10:$Y10),"OK","검토") -> OK | AC10: =IF($W10<>"도비",IF($U10="국도비","직접입력",SUM($M10:$N10)),) -> 0 | AD10: =IF($W10="도비",SUM(M10:N10),IF($U10="국도비","직접입력",SUM(M10:N10)-AC10)) -> 0 | AE10: =IF(SUM(M10:N10)=SUM(AC10:AD10),"OK","검토") -> OK | AG10: =IF(W10="","",IF(W10="도비","세입없음","직접입력")) -> 세입없음 | AI10: =IF(AG10="","",COUNTIF($AG$6:$AG$166,AG10)) -> 56 | AJ10: =IF(W10="","",IF(AND(W10="도비",AG10="세입없음"),"OK",IF(AND(W10<>"도비",AG10<>""),"OK","@@"))) -> OK | AL10: {=IF(C10="","",INDEX(구분표!$I$2:$I$313, MATCH(1,(구분표!$E$2:$E$313='17년일출'!B10)*(구분표!$F$2:$F$313='17년일출'!C10)*(구분표!$G$2:$G$313='17년일출'!A10),0)))} -> 0220
A11: =IFERROR(VLOOKUP($C11,[4]구분표!$A$2:$C$313,2,FALSE),"") -> 농정해양위원회 | B11: =IFERROR(VLOOKUP($C11,[4]구분표!$A$2:$C$313,3,FALSE),"") -> 농정해양국 | C11: 해양항만정책과 | D11: 본예산 | E11: 일반 | F11: 627 | G11: 204 | H11: 평택항 홍보마케팅 (자체/직접) -평택항 홍보마케팅 | I11: 300000 | K11: 100000 | L11: =I11+J11+K11 -> 400000 | U11: 도비 | W11: 도비 | Y11: 100000 | Z11: =IF(SUM($J11:$K11)=SUM($X11:$Y11),"OK","검토") -> OK | AC11: =IF($W11<>"도비",IF($U11="국도비","직접입력",SUM($M11:$N11)),) -> 0 | AD11: =IF($W11="도비",SUM(M11:N11),IF($U11="국도비","직접입력",SUM(M11:N11)-AC11)) -> 0 | AE11: =IF(SUM(M11:N11)=SUM(AC11:AD11),"OK","검토") -> OK | AG11: =IF(W11="","",IF(W11="도비","세입없음","직접입력")) -> 세입없음 | AI11: =IF(AG11="","",COUNTIF($AG$6:$AG$166,AG11)) -> 56 | AJ11: =IF(W11="","",IF(AND(W11="도비",AG11="세입없음"),"OK",IF(AND(W11<>"도비",AG11<>""),"OK","@@"))) -> OK | AL11: {=IF(C11="","",INDEX(구분표!$I$2:$I$313, MATCH(1,(구분표!$E$2:$E$313='17년일출'!B11)*(구분표!$F$2:$F$313='17년일출'!C11)*(구분표!$G$2:$G$313='17년일출'!A11),0)))} -> 0221
A12: =IFERROR(VLOOKUP($C12,[4]구분표!$A$2:$C$313,2,FALSE),"") -> 농정해양위원회 | B12: =IFERROR(VLOOKUP($C12,[4]구분표!$A$2:$C$313,3,FALSE),"") -> 농정해양국 | C12: 농식품유통과 | D12: 본예산 | E12: 일반 | F12: 631 | G12: 250 | H12: 기업-농UP 상생사업 활성화(자체/직접) -기업-농UP 상생사업 활성화 | I12: 50000 | K12: 50000 | L12: =I12+J12+K12 -> 100000 | O12: =I12+M12+N12 -> 50000 | P12: =IF(AND((L12=0),(O12>0)),"O",IF(AND((J12<0),(L12-O12<0)),"O","X")) -> X | Q12: 경기미 소비촉진을 위해 필요 | U12: 도비 | W12: 도비 | Y12: 50000 | Z12: =IF(SUM($J12:$K12)=SUM($X12:$Y12),"OK","검토") -> OK | AC12: =IF($W12<>"도비",IF($U12="국도비","직접입력",SUM($M12:$N12)),) -> 0 | AD12: =IF($W12="도비",SUM(M12:N12),IF($U12="국도비","직접입력",SUM(M12:N12)-AC12)) -> 0 | AE12: =IF(SUM(M12:N12)=SUM(AC12:AD12),"OK","검토") -> OK | AG12: =IF(W12="","",IF(W12="도비","세입없음","직접입력")) -> 세입없음 | AI12: =IF(AG12="","",COUNTIF($AG$6:$AG$166,AG12)) -> 56 | AJ12: =IF(W12="","",IF(AND(W12="도비",AG12="세입없음"),"OK",IF(AND(W12<>"도비",AG12<>""),"OK","@@"))) -> OK | AL12: {=IF(C12="","",INDEX(구분표!$I$2:$I$313, MATCH(1,(구분표!$E$2:$E$313='17년일출'!B12)*(구분표!$F$2:$F$313='17년일출'!C12)*(구분표!$G$2:$G$313='17년일출'!A12),0)))} -> 0222
A13: =IFERROR(VLOOKUP($C13,[4]구분표!$A$2:$C$313,2,FALSE),"") -> 농정해양위원회 | B13: =IFERROR(VLOOKUP($C13,[4]구분표!$A$2:$C$313,3,FALSE),"") -> 농정해양국 | C13: 농식품유통과 | D13: 본예산 | E13: 일반 | F13: 631 | G13: 247 | H13: 경기전통주 경쟁력 강화(자체/지원) -경기전통주 경쟁력 강화 | I13: 200000 | J13: -70000 | L13: =I13+J13+K13 -> 130000 | O13: =I13+M13+N13 -> 200000 | Q13: 집행율 고려 불용예상액 삭감 | U13: 도비 | W13: 도비 | Y13: -70000 | Z13: =IF(SUM($J13:$K13)=SUM($X13:$Y13),"OK","검토") -> OK | AC13: =IF($W13<>"도비",IF($U13="국도비","직접입력",SUM($M13:$N13)),) -> 0 | AD13: =IF($W13="도비",SUM(M13:N13),IF($U13="국도비","직접입력",SUM(M13:N13)-AC13)) -> 0 | AE13: =IF(SUM(M13:N13)=SUM(AC13:AD13),"OK","검토") -> OK | AG13: =IF(W13="","",IF(W13="도비","세입없음","직접입력")) -> 세입없음 | AI13: =IF(AG13="","",COUNTIF($AG$6:$AG$166,AG13)) -> 56 | AJ13: =IF(W13="","",IF(AND(W13="도비",AG13="세입없음"),"OK",IF(AND(W13<>"도비",AG13<>""),"OK","@@"))) -> OK | AL13: {=IF(C13="","",INDEX(구분표!$I$2:$I$313, MATCH(1,(구분표!$E$2:$E$313='17년일출'!B13)*(구분표!$F$2:$F$313='17년일출'!C13)*(구분표!$G$2:$G$313='17년일출'!A13),0)))} -> 0222
A14: =IFERROR(VLOOKUP($C14,[4]구분표!$A$2:$C$313,2,FALSE),"") -> 농정해양위원회 | B14: =IFERROR(VLOOKUP($C14,[4]구분표!$A$2:$C$313,3,FALSE),"") -> 농정해양국 | C14: 농식품유통과 | D14: 본예산 | E14: 일반 | F14: 633 | G14: 287 | H14: 공영도매시장현대화비용지원(기금/지원) -수원 농수산물도매시장 시설현대화 사업 | I14: 4507000 | K14: 1420000 | L14: =I14+J14+K14 -> 5927000 | O14: =I14+M14+N14 -> 4507000 | Q14: 기금사업에 대한 도비매칭비 금액 | U14: 국도비 | W14: 도비 | Y14: 1420000 | Z14: =IF(SUM($J14:$K14)=SUM($X14:$Y14),"OK","검토") -> OK | AC14: =IF($W14<>"도비",IF($U14="국도비","직접입력",SUM($M14:$N14)),) -> 0 | AD14: =IF($W14="도비",SUM(M14:N14),IF($U14="국도비","직접입력",SUM(M14:N14)-AC14)) -> 0 | AE14: =IF(SUM(M14:N14)=SUM(AC14:AD14),"OK","검토") -> OK | AG14: =IF(W14="","",IF(W14="도비","세입없음","직접입력")) -> 세입없음 | AI14: =IF(AG14="","",COUNTIF($AG$6:$AG$166,AG14)) -> 56 | AJ14: =IF(W14="","",IF(AND(W14="도비",AG14="세입없음"),"OK",IF(AND(W14<>"도비",AG14<>""),"OK","@@"))) -> OK | AL14: {=IF(C14="","",INDEX(구분표!$I$2:$I$313, MATCH(1,(구분표!$E$2:$E$313='17년일출'!B14)*(구분표!$F$2:$F$313='17년일출'!C14)*(구분표!$G$2:$G$313='17년일출'!A14),0)))} -> 0222
A15: =IFERROR(VLOOKUP($C15,[4]구분표!$A$2:$C$313,2,FALSE),"") -> 농정해양위원회 | B15: =IFERROR(VLOOKUP($C15,[4]구분표!$A$2:$C$313,3,FALSE),"") -> 농정해양국 | C15: 농식품유통과 | D15: 본예산 | E15: 연정 | F15: 634 | G15: 305 | H15: 경기우수농특산물 판매활성화(자체/직접) -경기우수농특산물 판매활성화 | I15: 1850000 | K15: 50000 | L15: =I15+J15+K15 -> 1900000 | O15: =I15+M15+N15 -> 1850000 | U15: 도비 | W15: 도비 | Y15: 50000 | Z15: =IF(SUM($J15:$K15)=SUM($X15:$Y15),"OK","검토") -> OK | AC15: =IF($W15<>"도비",IF($U15="국도비","직접입력",SUM($M15:$N15)),) -> 0 | AD15: =IF($W15="도비",SUM(M15:N15),IF($U15="국도비","직접입력",SUM(M15:N15)-AC15)) -> 0 | AE15: =IF(SUM(M15:N15)=SUM(AC15:AD15),"OK","검토") -> OK | AG15: =IF(W15="","",IF(W15="도비","세입없음","직접입력")) -> 세입없음 | AI15: =IF(AG15="","",COUNTIF($AG$6:$AG$166,AG15)) -> 56 | AJ15: =IF(W15="","",IF(AND(W15="도비",AG15="세입없음"),"OK",IF(AND(W15<>"도비",AG15<>""),"OK","@@"))) -> OK | AL15: {=IF(C15="","",INDEX(구분표!$I$2:$I$313, MATCH(1,(구분표!$E$2:$E$313='17년일출'!B15)*(구분표!$F$2:$F$313='17년일출'!C15)*(구분표!$G$2:$G$313='17년일출'!A15),0)))} -> 0222
A16: =IFERROR(VLOOKUP($C16,[4]구분표!$A$2:$C$313,2,FALSE),"") -> 농정해양위원회 | B16: =IFERROR(VLOOKUP($C16,[4]구분표!$A$2:$C$313,3,FALSE),"") -> 농정해양국 | C16: 친환경농업과 | D16: 본예산 | E16: 일반 | F16: 638 | G16: 364 | H16: 경기미 생산지원(자체/직접) -경기미우수단지농기계공급 | I16: 140000 | K16: 580000 | L16: =I16+J16+K16 -> 720000 | O16: =I16+M16+N16 -> 140000 | P16: =IF(AND((L16=0),(O16>0)),"O",IF(AND((J16<0),(L16-O16<0)),"O","X")) -> X | Q16: 일손부족해소 및 노동력 절감에 기여 | U16: 도비 | W16: 도비 | Y16: 580000 | Z16: =IF(SUM($J16:$K16)=SUM($X16:$Y16),"OK","검토") -> OK | AC16: =IF($W16<>"도비",IF($U16="국도비","직접입력",SUM($M16:$N16)),) -> 0 | AD16: =IF($W16="도비",SUM(M16:N16),IF($U16="국도비","직접입력",SUM(M16:N16)-AC16)) -> 0 | AE16: =IF(SUM(M16:N16)=SUM(AC16:AD16),"OK","검토") -> OK | AG16: =IF(W16="","",IF(W16="도비","세입없음","직접입력")) -> 세입없음 | AI16: =IF(AG16="","",COUNTIF($AG$6:$AG$166,AG16)) -> 56 | AJ16: =IF(W16="","",IF(AND(W16="도비",AG16="세입없음"),"OK",IF(AND(W16<>"도비",AG16<>""),"OK","@@"))) -> OK | AL16: {=IF(C16="","",INDEX(구분표!$I$2:$I$313, MATCH(1,(구분표!$E$2:$E$313='17년일출'!B16)*(구분표!$F$2:$F$313='17년일출'!C16)*(구분표!$G$2:$G$313='17년일출'!A16),0)))} -> 0223
A17: =IFERROR(VLOOKUP($C17,[4]구분표!$A$2:$C$313,2,FALSE),"") -> 농정해양위원회 | B17: =IFERROR(VLOOKUP($C17,[4]구분표!$A$2:$C$313,3,FALSE),"") -> 농정해양국 | C17: 친환경농업과 | D17: 본예산 | E17: 연정 | F17: 641 | G17: 415 | H17: 여성·노약자 농업용관리기 등 지원(자체/지원) -여성·노약자 농업용관리기 등 지원 | I17: 1200000 | K17: 300000 | L17: =I17+J17+K17 -> 1500000 | O17: =I17+M17+N17 -> 1200000 | P17: =IF(AND((L17=0),(O17>0)),"O",IF(AND((J17<0),(L17-O17<0)),"O","X")) -> X | Q17: 일손부족해소 및 노동력 절감에 기여 | U17: 도비 | W17: 도비 | Y17: 300000 | Z17: =IF(SUM($J17:$K17)=SUM($X17:$Y17),"OK","검토") -> OK | AC17: =IF($W17<>"도비",IF($U17="국도비","직접입력",SUM($M17:$N17)),) -> 0 | AD17: =IF($W17="도비",SUM(M17:N17),IF($U17="국도비","직접입력",SUM(M17:N17)-AC17)) -> 0 | AE17: =IF(SUM(M17:N17)=SUM(AC17:AD17),"OK","검토") -> OK | AG17: =IF(W17="","",IF(W17="도비","세입없음","직접입력")) -> 세입없음 | AI17: =IF(AG17="","",COUNTIF($AG$6:$AG$166,AG17)) -> 56 | AJ17: =IF(W17="","",IF(AND(W17="도비",AG17="세입없음"),"OK",IF(AND(W17<>"도비",AG17<>""),"OK","@@"))) -> OK | AL17: {=IF(C17="","",INDEX(구분표!$I$2:$I$313, MATCH(1,(구분표!$E$2:$E$313='17년일출'!B17)*(구분표!$F$2:$F$313='17년일출'!C17)*(구분표!$G$2:$G$313='17년일출'!A17),0)))} -> 0223
A18: =IFERROR(VLOOKUP($C18,[4]구분표!$A$2:$C$313,2,FALSE),"") -> 농정해양위원회 | B18: =IFERROR(VLOOKUP($C18,[4]구분표!$A$2:$C$313,3,FALSE),"") -> 농정해양국 | C18: 친환경농업과 | D18: 본예산 | E18: 일반 | F18: 642 | G18: 427 | H18: 농업인안전재해보험(자체/지원) -농업인안전재해보험 | I18: 180000 | K18: 200000 | L18: =I18+J18+K18 -> 380000 | O18: =I18+M18+N18 -> 180000 | P18: =IF(AND((L18=0),(O18>0)),"O",IF(AND((J18<0),(L18-O18<0)),"O","X")) -> X | Q18: 농기계 사고 및 신체상해 보상으로 안정적 영농수행 | U18: 도비 | W18: 도비 | Y18: 200000 | Z18: =IF(SUM($J18:$K18)=SUM($X18:$Y18),"OK","검토") -> OK | AC18: =IF($W18<>"도비",IF($U18="국도비","직접입력",SUM($M18:$N18)),) -> 0 | AD18: =IF($W18="도비",SUM(M18:N18),IF($U18="국도비","직접입력",SUM(M18:N18)-AC18)) -> 0 | AE18: =IF(SUM(M18:N18)=SUM(AC18:AD18),"OK","검토") -> OK | AG18: =IF(W18="","",IF(W18="도비","세입없음","직접입력")) -> 세입없음 | AI18: =IF(AG18="","",COUNTIF($AG$6:$AG$166,AG18)) -> 56 | AJ18: =IF(W18="","",IF(AND(W18="도비",AG18="세입없음"),"OK",IF(AND(W18<>"도비",AG18<>""),"OK","@@"))) -> OK | AL18: {=IF(C18="","",INDEX(구분표!$I$2:$I$313, MATCH(1,(구분표!$E$2:$E$313='17년일출'!B18)*(구분표!$F$2:$F$313='17년일출'!C18)*(구분표!$G$2:$G$313='17년일출'!A18),0)))} -> 0223
A19: =IFERROR(VLOOKUP($C19,[4]구분표!$A$2:$C$313,2,FALSE),"") -> 농정해양위원회 | B19: =IFERROR(VLOOKUP($C19,[4]구분표!$A$2:$C$313,3,FALSE),"") -> 농정해양국 | C19: 친환경농업과 | D19: 본예산 | E19: 일반 | F19: 649 | G19: 556 | H19: 영농 한해 특별대책지원(자체/지원) -영농 대비 한해특별대책 지원 | I19: 950000 | K19: 3050000 | L19: =I19+J19+K19 -> 4000000 | O19: =I19+M19+N19 -> 950000 | P19: =IF(AND((L19=0),(O19>0)),"O",IF(AND((J19<0),(L19-O19<0)),"O","X")) -> X | Q19: 이상기후 및 가뭄대비 용수확보 필요 | U19: 도비 | W19: 도비 | Y19: 3050000 | Z19: =IF(SUM($J19:$K19)=SUM($X19:$Y19),"OK","검토") -> OK | AC19: =IF($W19<>"도비",IF($U19="국도비","직접입력",SUM($M19:$N19)),) -> 0 | AD19: =IF($W19="도비",SUM(M19:N19),IF($U19="국도비","직접입력",SUM(M19:N19)-AC19)) -> 0 | AE19: =IF(SUM(M19:N19)=SUM(AC19:AD19),"OK","검토") -> OK | AG19: =IF(W19="","",IF(W19="도비","세입없음","직접입력")) -> 세입없음 | AI19: =IF(AG19="","",COUNTIF($AG$6:$AG$166,AG19)) -> 56 | AJ19: =IF(W19="","",IF(AND(W19="도비",AG19="세입없음"),"OK",IF(AND(W19<>"도비",AG19<>""),"OK","@@"))) -> OK | AL19: {=IF(C19="","",INDEX(구분표!$I$2:$I$313, MATCH(1,(구분표!$E$2:$E$313='17년일출'!B19)*(구분표!$F$2:$F$313='17년일출'!C19)*(구분표!$G$2:$G$313='17년일출'!A19),0)))} -> 0223
A20: =IFERROR(VLOOKUP($C20,[4]구분표!$A$2:$C$313,2,FALSE),"") -> 농정해양위원회 | B20: =IFERROR(VLOOKUP($C20,[4]구분표!$A$2:$C$313,3,FALSE),"") -> 농정해양국 | C20: 해양수산자원연구소 | D20: 본예산 | E20: 일반 | F20: 660 | G20: 694 | H20: 시험연구개발(자체/직접) -시험연구개발운영비 | I20: 25000 | K20: 20000 | L20: =I20+J20+K20 -> 45000 | O20: =I20+M20+N20 -> 25000 | P20: =IF(AND((L20=0),(O20>0)),"O",IF(AND((J20<0),(L20-O20<0)),"O","X")) -> X | Q20: 양식어업 애로사항 해결을 위한 연구개발운영비 등 | U20: 도비 | W20: 도비 | Y20: 20000 | Z20: =IF(SUM($J20:$K20)=SUM($X20:$Y20),"OK","검토") -> OK | AC20: =IF($W20<>"도비",IF($U20="국도비","직접입력",SUM($M20:$N20)),) -> 0 | AD20: =IF($W20="도비",SUM(M20:N20),IF($U20="국도비","직접입력",SUM(M20:N20)-AC20)) -> 0 | AE20: =IF(SUM(M20:N20)=SUM(AC20:AD20),"OK","검토") -> OK | AG20: =IF(W20="","",IF(W20="도비","세입없음","직접입력")) -> 세입없음 | AI20: =IF(AG20="","",COUNTIF($AG$6:$AG$166,AG20)) -> 56 | AJ20: =IF(W20="","",IF(AND(W20="도비",AG20="세입없음"),"OK",IF(AND(W20<>"도비",AG20<>""),"OK","@@"))) -> OK | AL20: {=IF(C20="","",INDEX(구분표!$I$2:$I$313, MATCH(1,(구분표!$E$2:$E$313='17년일출'!B20)*(구분표!$F$2:$F$313='17년일출'!C20)*(구분표!$G$2:$G$313='17년일출'!A20),0)))} -> 0225
A21: =IFERROR(VLOOKUP($C21,[4]구분표!$A$2:$C$313,2,FALSE),"") -> 농정해양위원회 | B21: =IFERROR(VLOOKUP($C21,[4]구분표!$A$2:$C$313,3,FALSE),"") -> 농정해양국 | C21: 해양수산자원연구소 | D21: 본예산 | E21: 일반 | F21: 660 | G21: 694 | H21: 시험연구개발(자체/직접) -시험연구장비 및 시설유지보수 | I21: 25000 | K21: 21725 | L21: =I21+J21+K21 -> 46725 | O21: =I21+M21+N21 -> 25000 | Q21: 양식어업 애로사항 해결을 위한 연구개발운영비 등 | U21: 도비 | W21: 도비 | Y21: 21725 | Z21: =IF(SUM($J21:$K21)=SUM($X21:$Y21),"OK","검토") -> OK | AC21: =IF($W21<>"도비",IF($U21="국도비","직접입력",SUM($M21:$N21)),) -> 0 | AD21: =IF($W21="도비",SUM(M21:N21),IF($U21="국도비","직접입력",SUM(M21:N21)-AC21)) -> 0 | AE21: =IF(SUM(M21:N21)=SUM(AC21:AD21),"OK","검토") -> OK | AG21: =IF(W21="","",IF(W21="도비","세입없음","직접입력")) -> 세입없음 | AI21: =IF(AG21="","",COUNTIF($AG$6:$AG$166,AG21)) -> 56 | AJ21: =IF(W21="","",IF(AND(W21="도비",AG21="세입없음"),"OK",IF(AND(W21<>"도비",AG21<>""),"OK","@@"))) -> OK | AL21: {=IF(C21="","",INDEX(구분표!$I$2:$I$313, MATCH(1,(구분표!$E$2:$E$313='17년일출'!B21)*(구분표!$F$2:$F$313='17년일출'!C21)*(구분표!$G$2:$G$313='17년일출'!A21),0)))} -> 0225
A22: =IFERROR(VLOOKUP($C22,[4]구분표!$A$2:$C$313,2,FALSE),"") -> 농정해양위원회 | B22: =IFERROR(VLOOKUP($C22,[4]구분표!$A$2:$C$313,3,FALSE),"") -> 농정해양국 | C22: 해양수산자원연구소 | D22: 본예산 | E22: 일반 | F22: 660 | G22: 694 | H22: 시험연구개발(자체/직접) -시험연구개발 시험연구비 | I22: 55000 | K22: 20000 | L22: =I22+J22+K22 -> 75000 | O22: =I22+M22+N22 -> 55000 | Q22: 양식어업 애로사항 해결을 위한 연구개발운영비 등 | U22: 도비 | W22: 도비 | Y22: 20000 | Z22: =IF(SUM($J22:$K22)=SUM($X22:$Y22),"OK","검토") -> OK | AC22: =IF($W22<>"도비",IF($U22="국도비","직접입력",SUM($M22:$N22)),) -> 0 | AD22: =IF($W22="도비",SUM(M22:N22),IF($U22="국도비","직접입력",SUM(M22:N22)-AC22)) -> 0 | AE22: =IF(SUM(M22:N22)=SUM(AC22:AD22),"OK","검토") -> OK | AG22: =IF(W22="","",IF(W22="도비","세입없음","직접입력")) -> 세입없음 | AI22: =IF(AG22="","",COUNTIF($AG$6:$AG$166,AG22)) -> 56 | AJ22: =IF(W22="","",IF(AND(W22="도비",AG22="세입없음"),"OK",IF(AND(W22<>"도비",AG22<>""),"OK","@@"))) -> OK | AL22: {=IF(C22="","",INDEX(구분표!$I$2:$I$313, MATCH(1,(구분표!$E$2:$E$313='17년일출'!B22)*(구분표!$F$2:$F$313='17년일출'!C22)*(구분표!$G$2:$G$313='17년일출'!A22),0)))} -> 0225
A23: =IFERROR(VLOOKUP($C23,[4]구분표!$A$2:$C$313,2,FALSE),"") -> 농정해양위원회 | B23: =IFERROR(VLOOKUP($C23,[4]구분표!$A$2:$C$313,3,FALSE),"") -> 농정해양국 | C23: 해양수산자원연구소 | D23: 신규 | E23: 일반 | F23: 660 | G23: 694 | H23: 시험연구개발(자체/직접) -시험연구사업 장비구입 | K23: 315000 | L23: =I23+J23+K23 -> 315000 | O23: =I23+M23+N23 -> 0 | Q23: 양식어업 애로사항 해결을 위한 연구개발운영비 등 | U23: 도비 | W23: 도비 | Y23: 315000 | Z23: =IF(SUM($J23:$K23)=SUM($X23:$Y23),"OK","검토") -> OK | AC23: =IF($W23<>"도비",IF($U23="국도비","직접입력",SUM($M23:$N23)),) -> 0 | AD23: =IF($W23="도비",SUM(M23:N23),IF($U23="국도비","직접입력",SUM(M23:N23)-AC23)) -> 0 | AE23: =IF(SUM(M23:N23)=SUM(AC23:AD23),"OK","검토") -> OK | AG23: =IF(W23="","",IF(W23="도비","세입없음","직접입력")) -> 세입없음 | AI23: =IF(AG23="","",COUNTIF($AG$6:$AG$166,AG23)) -> 56 | AJ23: =IF(W23="","",IF(AND(W23="도비",AG23="세입없음"),"OK",IF(AND(W23<>"도비",AG23<>""),"OK","@@"))) -> OK | AL23: {=IF(C23="","",INDEX(구분표!$I$2:$I$313, MATCH(1,(구분표!$E$2:$E$313='17년일출'!B23)*(구분표!$F$2:$F$313='17년일출'!C23)*(구분표!$G$2:$G$313='17년일출'!A23),0)))} -> 0225
A24: =IFERROR(VLOOKUP($C24,[4]구분표!$A$2:$C$313,2,FALSE),"") -> 농정해양위원회 | B24: =IFERROR(VLOOKUP($C24,[4]구분표!$A$2:$C$313,3,FALSE),"") -> 농정해양국 | C24: 해양수산자원연구소 | D24: 신규 | E24: 일반 | F24: 660 | G24: 694 | H24: 시험연구개발(자체/직접) -시험연구사업 보조인부임 | K24: 23275 | L24: =I24+J24+K24 -> 23275 | O24: =I24+M24+N24 -> 0 | Q24: 양식어업 애로사항 해결을 위한 연구개발운영비 등 | U24: 도비 | W24: 도비 | Y24: 23275 | Z24: =IF(SUM($J24:$K24)=SUM($X24:$Y24),"OK","검토") -> OK | AC24: =IF($W24<>"도비",IF($U24="국도비","직접입력",SUM($M24:$N24)),) -> 0 | AD24: =IF($W24="도비",SUM(M24:N24),IF($U24="국도비","직접입력",SUM(M24:N24)-AC24)) -> 0 | AE24: =IF(SUM(M24:N24)=SUM(AC24:AD24),"OK","검토") -> OK | AG24: =IF(W24="","",IF(W24="도비","세입없음","직접입력")) -> 세입없음 | AI24: =IF(AG24="","",COUNTIF($AG$6:$AG$166,AG24)) -> 56 | AJ24: =IF(W24="","",IF(AND(W24="도비",AG24="세입없음"),"OK",IF(AND(W24<>"도비",AG24<>""),"OK","@@"))) -> OK | AL24: {=IF(C24="","",INDEX(구분표!$I$2:$I$313, MATCH(1,(구분표!$E$2:$E$313='17년일출'!B24)*(구분표!$F$2:$F$313='17년일출'!C24)*(구분표!$G$2:$G$313='17년일출'!A24),0)))} -> 0225
A25: =IFERROR(VLOOKUP($C25,[4]구분표!$A$2:$C$313,2,FALSE),"") -> 농정해양위원회 | B25: =IFERROR(VLOOKUP($C25,[4]구분표!$A$2:$C$313,3,FALSE),"") -> 농정해양국 | C25: 수산과 | D25: 신규 | E25: 일반 | H25: 지역특화 양식시설 지원사업(자체/지원) -지역특화 양식시설 지원(자치단체자본보조) | K25: 80000 | L25: =I25+J25+K25 -> 80000 | O25: =I25+M25+N25 -> 0 | U25: 도비 | W25: 도비 | Y25: 80000 | Z25: =IF(SUM($J25:$K25)=SUM($X25:$Y25),"OK","검토") -> OK | AC25: =IF($W25<>"도비",IF($U25="국도비","직접입력",SUM($M25:$N25)),) -> 0 | AD25: =IF($W25="도비",SUM(M25:N25),IF($U25="국도비","직접입력",SUM(M25:N25)-AC25)) -> 0 | AE25: =IF(SUM(M25:N25)=SUM(AC25:AD25),"OK","검토") -> OK | AG25: =IF(W25="","",IF(W25="도비","세입없음","직접입력")) -> 세입없음 | AI25: =IF(AG25="","",COUNTIF($AG$6:$AG$166,AG25)) -> 56 | AJ25: =IF(W25="","",IF(AND(W25="도비",AG25="세입없음"),"OK",IF(AND(W25<>"도비",AG25<>""),"OK","@@"))) -> OK | AL25: {=IF(C25="","",INDEX(구분표!$I$2:$I$313, MATCH(1,(구분표!$E$2:$E$313='17년일출'!B25)*(구분표!$F$2:$F$313='17년일출'!C25)*(구분표!$G$2:$G$313='17년일출'!A25),0)))} -> 0224
A26: =IFERROR(VLOOKUP($C26,[4]구분표!$A$2:$C$313,2,FALSE),"") -> 농정해양위원회 | B26: =IFERROR(VLOOKUP($C26,[4]구분표!$A$2:$C$313,3,FALSE),"") -> 농정해양국 | C26: 농식품유통과 | D26: 신규 | E26: 일반 | H26: G마크 전용관 활성화 지원(자체/직접) -G마크 전용관 활성화 지원(공기관등에대한경상적대행사업비) | K26: 100000 | L26: =I26+J26+K26 -> 100000 | U26: 도비 | W26: 도비 | Y26: 100000 | Z26: =IF(SUM($J26:$K26)=SUM($X26:$Y26),"OK","검토") -> OK | AC26: =IF($W26<>"도비",IF($U26="국도비","직접입력",SUM($M26:$N26)),) -> 0 | AD26: =IF($W26="도비",SUM(M26:N26),IF($U26="국도비","직접입력",SUM(M26:N26)-AC26)) -> 0 | AE26: =IF(SUM(M26:N26)=SUM(AC26:AD26),"OK","검토") -> OK | AG26: =IF(W26="","",IF(W26="도비","세입없음","직접입력")) -> 세입없음 | AI26: =IF(AG26="","",COUNTIF($AG$6:$AG$166,AG26)) -> 56 | AJ26: =IF(W26="","",IF(AND(W26="도비",AG26="세입없음"),"OK",IF(AND(W26<>"도비",AG26<>""),"OK","@@"))) -> OK | AL26: {=IF(C26="","",INDEX(구분표!$I$2:$I$313, MATCH(1,(구분표!$E$2:$E$313='17년일출'!B26)*(구분표!$F$2:$F$313='17년일출'!C26)*(구분표!$G$2:$G$313='17년일출'!A26),0)))} -> 0222
A27: =IFERROR(VLOOKUP($C27,[4]구분표!$A$2:$C$313,2,FALSE),"") -> 농정해양위원회 | B27: =IFERROR(VLOOKUP($C27,[4]구분표!$A$2:$C$313,3,FALSE),"") -> 농정해양국 | C27: 수산과 | D27: 본예산 | E27: 일반 | F27: 656 | G27: 637 | H27: 해면 수산자원조성(자체/지원) -해면 수산자원조성 | I27: 218000 | K27: 200000 | L27: =I27+J27+K27 -> 418000 | Q27: 수산자원 증강을 위해 수산종자 방류 확대 필요 | U27: 도비 | W27: 도비 | Y27: 200000 | Z27: =IF(SUM($J27:$K27)=SUM($X27:$Y27),"OK","검토") -> OK | AC27: =IF($W27<>"도비",IF($U27="국도비","직접입력",SUM($M27:$N27)),) -> 0 | AD27: =IF($W27="도비",SUM(M27:N27),IF($U27="국도비","직접입력",SUM(M27:N27)-AC27)) -> 0 | AE27: =IF(SUM(M27:N27)=SUM(AC27:AD27),"OK","검토") -> OK | AG27: =IF(W27="","",IF(W27="도비","세입없음","직접입력")) -> 세입없음 | AI27: =IF(AG27="","",COUNTIF($AG$6:$AG$166,AG27)) -> 56 | AJ27: =IF(W27="","",IF(AND(W27="도비",AG27="세입없음"),"OK",IF(AND(W27<>"도비",AG27<>""),"OK","@@"))) -> OK | AL27: {=IF(C27="","",INDEX(구분표!$I$2:$I$313, MATCH(1,(구분표!$E$2:$E$313='17년일출'!B27)*(구분표!$F$2:$F$313='17년일출'!C27)*(구분표!$G$2:$G$313='17년일출'!A27),0)))} -> 0224
A28: =IFERROR(VLOOKUP($C28,[4]구분표!$A$2:$C$313,2,FALSE),"") -> 농정해양위원회 | B28: =IFERROR(VLOOKUP($C28,[4]구분표!$A$2:$C$313,3,FALSE),"") -> 농정해양국 | C28: 농식품유통과 | D28: 신규 | E28: 일반 | H28: 경기로컬푸드농축산물 대축제(자체/직접) -경기로컬푸드농축산물 대축제(민간행사사업보조) | K28: 100000 | L28: =I28+J28+K28 -> 100000 | U28: 도비 | W28: 도비 | Y28: 100000 | Z28: =IF(SUM($J28:$K28)=SUM($X28:$Y28),"OK","검토") -> OK | AC28: =IF($W28<>"도비",IF($U28="국도비","직접입력",SUM($M28:$N28)),) -> 0 | AD28: =IF($W28="도비",SUM(M28:N28),IF($U28="국도비","직접입력",SUM(M28:N28)-AC28)) -> 0 | AE28: =IF(SUM(M28:N28)=SUM(AC28:AD28),"OK","검토") -> OK | AG28: =IF(W28="","",IF(W28="도비","세입없음","직접입력")) -> 세입없음 | AI28: =IF(AG28="","",COUNTIF($AG$6:$AG$166,AG28)) -> 56 | AJ28: =IF(W28="","",IF(AND(W28="도비",AG28="세입없음"),"OK",IF(AND(W28<>"도비",AG28<>""),"OK","@@"))) -> OK | AL28: {=IF(C28="","",INDEX(구분표!$I$2:$I$313, MATCH(1,(구분표!$E$2:$E$313='17년일출'!B28)*(구분표!$F$2:$F$313='17년일출'!C28)*(구분표!$G$2:$G$313='17년일출'!A28),0)))} -> 0222
A29: =IFERROR(VLOOKUP($C29,[4]구분표!$A$2:$C$313,2,FALSE),"") -> 농정해양위원회 | B29: =IFERROR(VLOOKUP($C29,[4]구분표!$A$2:$C$313,3,FALSE),"") -> 농정해양국 | C29: 친환경농업과 | D29: 신규 | E29: 일반 | H29: 쌀 안정화 특화단지 인센티브 지원(자체/지원) -쌀 안정화 특화단지 인센티브 지원(자치단체경상보조) | K29: 1000000 | L29: =I29+J29+K29 -> 1000000 | Q29: 타작물 재배활성화를 통한 쌀 수급 및 쌀값안정 도모 | U29: 도비 | W29: 도비 | Y29: 1000000 | Z29: =IF(SUM($J29:$K29)=SUM($X29:$Y29),"OK","검토") -> OK | AC29: =IF($W29<>"도비",IF($U29="국도비","직접입력",SUM($M29:$N29)),) -> 0 | AD29: =IF($W29="도비",SUM(M29:N29),IF($U29="국도비","직접입력",SUM(M29:N29)-AC29)) -> 0 | AE29: =IF(SUM(M29:N29)=SUM(AC29:AD29),"OK","검토") -> OK | AG29: =IF(W29="","",IF(W29="도비","세입없음","직접입력")) -> 세입없음 | AI29: =IF(AG29="","",COUNTIF($AG$6:$AG$166,AG29)) -> 56 | AJ29: =IF(W29="","",IF(AND(W29="도비",AG29="세입없음"),"OK",IF(AND(W29<>"도비",AG29<>""),"OK","@@"))) -> OK | AL29: {=IF(C29="","",INDEX(구분표!$I$2:$I$313, MATCH(1,(구분표!$E$2:$E$313='17년일출'!B29)*(구분표!$F$2:$F$313='17년일출'!C29)*(구분표!$G$2:$G$313='17년일출'!A29),0)))} -> 0223
A30: =IFERROR(VLOOKUP($C30,[4]구분표!$A$2:$C$313,2,FALSE),"") -> 농정해양위원회 | B30: =IFERROR(VLOOKUP($C30,[4]구분표!$A$2:$C$313,3,FALSE),"") -> 축산산림국 | C30: 축산정책과 | D30: 본예산 | E30: 일반 | F30: 693 | G30: 59 | H30: 축산환경 개선사업(자체/지원) -축산환경개선사업 | I30: 600000 | K30: 1400000 | L30: =I30+J30+K30 -> 2000000 | O30: =I30+M30+N30 -> 600000 | P30: =IF(AND((L30=0),(O30>0)),"O",IF(AND((J30<0),(L30-O30<0)),"O","X")) -> X | Q30: 가축분뇨로 인한 해충 및 축산악취 저감을 위해 증액필요 | U30: 도비 | W30: 도비 | Y30: 1400000 | Z30: =IF(SUM($J30:$K30)=SUM($X30:$Y30),"OK","검토") -> OK | AC30: =IF($W30<>"도비",IF($U30="국도비","직접입력",SUM($M30:$N30)),) -> 0 | AD30: =IF($W30="도비",SUM(M30:N30),IF($U30="국도비","직접입력",SUM(M30:N30)-AC30)) -> 0 | AE30: =IF(SUM(M30:N30)=SUM(AC30:AD30),"OK","검토") -> OK | AG30: =IF(W30="","",IF(W30="도비","세입없음","직접입력")) -> 세입없음 | AI30: =IF(AG30="","",COUNTIF($AG$6:$AG$166,AG30)) -> 56 | AJ30: =IF(W30="","",IF(AND(W30="도비",AG30="세입없음"),"OK",IF(AND(W30<>"도비",AG30<>""),"OK","@@"))) -> OK | AL30: {=IF(C30="","",INDEX(구분표!$I$2:$I$313, MATCH(1,(구분표!$E$2:$E$313='17년일출'!B30)*(구분표!$F$2:$F$313='17년일출'!C30)*(구분표!$G$2:$G$313='17년일출'!A30),0)))} -> 0227
A31: =IFERROR(VLOOKUP($C31,[4]구분표!$A$2:$C$313,2,FALSE),"") -> 농정해양위원회 | B31: =IFERROR(VLOOKUP($C31,[4]구분표!$A$2:$C$313,3,FALSE),"") -> 축산산림국 | C31: 축산정책과 | D31: 본예산 | E31: 일반 | F31: 694 | G31: 88 | H31: 축산업 경쟁력 향상(자체/지원) -양돈경쟁력 강화 | I31: 200000 | K31: 100000 | L31: =I31+J31+K31 -> 300000 | O31: =I31+M31+N31 -> 200000 | P31: =IF(AND((L31=0),(O31>0)),"O",IF(AND((J31<0),(L31-O31<0)),"O","X")) -> X | Q31: 양돈농가 자돈폐사율 및 질병감소를 위해 증액필요 | U31: 도비 | W31: 도비 | Y31: 100000 | Z31: =IF(SUM($J31:$K31)=SUM($X31:$Y31),"OK","검토") -> OK | AC31: =IF($W31<>"도비",IF($U31="국도비","직접입력",SUM($M31:$N31)),) -> 0 | AD31: =IF($W31="도비",SUM(M31:N31),IF($U31="국도비","직접입력",SUM(M31:N31)-AC31)) -> 0 | AE31: =IF(SUM(M31:N31)=SUM(AC31:AD31),"OK","검토") -> OK | AG31: =IF(W31="","",IF(W31="도비","세입없음","직접입력")) -> 세입없음 | AI31: =IF(AG31="","",COUNTIF($AG$6:$AG$166,AG31)) -> 56 | AJ31: =IF(W31="","",IF(AND(W31="도비",AG31="세입없음"),"OK",IF(AND(W31<>"도비",AG31<>""),"OK","@@"))) -> OK | AL31: {=IF(C31="","",INDEX(구분표!$I$2:$I$313, MATCH(1,(구분표!$E$2:$E$313='17년일출'!B31)*(구분표!$F$2:$F$313='17년일출'!C31)*(구분표!$G$2:$G$313='17년일출'!A31),0)))} -> 0227
A32: =IFERROR(VLOOKUP($C32,[4]구분표!$A$2:$C$313,2,FALSE),"") -> 농정해양위원회 | B32: =IFERROR(VLOOKUP($C32,[4]구분표!$A$2:$C$313,3,FALSE),"") -> 축산산림국 | C32: 축산정책과 | D32: 본예산 | E32: 일반 | F32: 694 | G32: 76 | H32: 축산업 경쟁력 향상(자체/지원) -가축재해보험 가입지원 | I32: 825000 | K32: 200000 | L32: =I32+J32+K32 -> 1025000 | O32: =I32+M32+N32 -> 825000 | Q32: 자연재해(폭염 등)에 의한 가축피해 발생증가 | U32: 도비 | W32: 도비 | Y32: 200000 | Z32: =IF(SUM($J32:$K32)=SUM($X32:$Y32),"OK","검토") -> OK | AC32: =IF($W32<>"도비",IF($U32="국도비","직접입력",SUM($M32:$N32)),) -> 0 | AD32: =IF($W32="도비",SUM(M32:N32),IF($U32="국도비","직접입력",SUM(M32:N32)-AC32)) -> 0 | AE32: =IF(SUM(M32:N32)=SUM(AC32:AD32),"OK","검토") -> OK | AG32: =IF(W32="","",IF(W32="도비","세입없음","직접입력")) -> 세입없음 | AI32: =IF(AG32="","",COUNTIF($AG$6:$AG$166,AG32)) -> 56 | AJ32: =IF(W32="","",IF(AND(W32="도비",AG32="세입없음"),"OK",IF(AND(W32<>"도비",AG32<>""),"OK","@@"))) -> OK | AL32: {=IF(C32="","",INDEX(구분표!$I$2:$I$313, MATCH(1,(구분표!$E$2:$E$313='17년일출'!B32)*(구분표!$F$2:$F$313='17년일출'!C32)*(구분표!$G$2:$G$313='17년일출'!A32),0)))} -> 0227
A33: =IFERROR(VLOOKUP($C33,[4]구분표!$A$2:$C$313,2,FALSE),"") -> 농정해양위원회 | B33: =IFERROR(VLOOKUP($C33,[4]구분표!$A$2:$C$313,3,FALSE),"") -> 축산산림국 | C33: 동물방역위생과 | D33: 본예산 | E33: 일반 | F33: 700 | G33: 152 | H33: 공수의사 활동수당(자체/지원) -공수의사 활동수당 | I33: 237600 | K33: 15000 | L33: =I33+J33+K33 -> 252600 | O33: =I33+M33+N33 -> 237600 | Q33: 공수의사 56명 방역활동 수당 지원 | U33: 도비 | W33: 도비 | Y33: 15000 | Z33: =IF(SUM($J33:$K33)=SUM($X33:$Y33),"OK","검토") -> OK | AC33: =IF($W33<>"도비",IF($U33="국도비","직접입력",SUM($M33:$N33)),) -> 0 | AD33: =IF($W33="도비",SUM(M33:N33),IF($U33="국도비","직접입력",SUM(M33:N33)-AC33)) -> 0 | AE33: =IF(SUM(M33:N33)=SUM(AC33:AD33),"OK","검토") -> OK | AG33: =IF(W33="","",IF(W33="도비","세입없음","직접입력")) -> 세입없음 | AI33: =IF(AG33="","",COUNTIF($AG$6:$AG$166,AG33)) -> 56 | AJ33: =IF(W33="","",IF(AND(W33="도비",AG33="세입없음"),"OK",IF(AND(W33<>"도비",AG33<>""),"OK","@@"))) -> OK | AL33: {=IF(C33="","",INDEX(구분표!$I$2:$I$313, MATCH(1,(구분표!$E$2:$E$313='17년일출'!B33)*(구분표!$F$2:$F$313='17년일출'!C33)*(구분표!$G$2:$G$313='17년일출'!A33),0)))} -> 0228
A34: =IFERROR(VLOOKUP($C34,[4]구분표!$A$2:$C$313,2,FALSE),"") -> 농정해양위원회 | B34: =IFERROR(VLOOKUP($C34,[4]구분표!$A$2:$C$313,3,FALSE),"") -> 축산산림국 | C34: 동물방역위생과 | D34: 본예산 | E34: 연정 | F34: 705 | G34: 198 | H34: 반려동물 테마파크 진입로 개설 지원(자체/지원) -반려동물 테마파크 진입로 개설 지원 | I34: 5800000 | J34: -5800000 | L34: =I34+J34+K34 -> 0 | O34: =I34+M34+N34 -> 5800000 | P34: =IF(AND((L34=0),(O34>0)),"O",IF(AND((J34<0),(L34-O34<0)),"O","X")) -> O | Q34: 도로사업으로 농정위 소관이 아님 | U34: 도비 | W34: 도비 | Y34: -5800000 | Z34: =IF(SUM($J34:$K34)=SUM($X34:$Y34),"OK","검토") -> OK | AC34: =IF($W34<>"도비",IF($U34="국도비","직접입력",SUM($M34:$N34)),) -> 0 | AD34: =IF($W34="도비",SUM(M34:N34),IF($U34="국도비","직접입력",SUM(M34:N34)-AC34)) -> 0 | AE34: =IF(SUM(M34:N34)=SUM(AC34:AD34),"OK","검토") -> OK | AG34: =IF(W34="","",IF(W34="도비","세입없음","직접입력")) -> 세입없음 | AI34: =IF(AG34="","",COUNTIF($AG$6:$AG$166,AG34)) -> 56 | AJ34: =IF(W34="","",IF(AND(W34="도비",AG34="세입없음"),"OK",IF(AND(W34<>"도비",AG34<>""),"OK","@@"))) -> OK | AL34: {=IF(C34="","",INDEX(구분표!$I$2:$I$313, MATCH(1,(구분표!$E$2:$E$313='17년일출'!B34)*(구분표!$F$2:$F$313='17년일출'!C34)*(구분표!$G$2:$G$313='17년일출'!A34),0)))} -> 0228
A35: =IFERROR(VLOOKUP($C35,[4]구분표!$A$2:$C$313,2,FALSE),"") -> 농정해양위원회 | B35: =IFERROR(VLOOKUP($C35,[4]구분표!$A$2:$C$313,3,FALSE),"") -> 축산산림국 | C35: 북부동물위생시험소 | D35: 본예산 | E35: 일반 | F35: 742 | G35: 463 | H35: 가축전염병 근절기반 조성(자체/직접) -재해,구제역 등 방역 재료비 | I35: 13000 | K35: 50000 | L35: =I35+J35+K35 -> 63000 | O35: =I35+M35+N35 -> 13000 | Q35: 구제역, AI 간이키트, 긴급방역 소독약품 증액필요 | U35: 도비 | W35: 도비 | Y35: 50000 | Z35: =IF(SUM($J35:$K35)=SUM($X35:$Y35),"OK","검토") -> OK | AC35: =IF($W35<>"도비",IF($U35="국도비","직접입력",SUM($M35:$N35)),) -> 0 | AD35: =IF($W35="도비",SUM(M35:N35),IF($U35="국도비","직접입력",SUM(M35:N35)-AC35)) -> 0 | AE35: =IF(SUM(M35:N35)=SUM(AC35:AD35),"OK","검토") -> OK | AG35: =IF(W35="","",IF(W35="도비","세입없음","직접입력")) -> 세입없음 | AI35: =IF(AG35="","",COUNTIF($AG$6:$AG$166,AG35)) -> 56 | AJ35: =IF(W35="","",IF(AND(W35="도비",AG35="세입없음"),"OK",IF(AND(W35<>"도비",AG35<>""),"OK","@@"))) -> OK | AL35: {=IF(C35="","",INDEX(구분표!$I$2:$I$313, MATCH(1,(구분표!$E$2:$E$313='17년일출'!B35)*(구분표!$F$2:$F$313='17년일출'!C35)*(구분표!$G$2:$G$313='17년일출'!A35),0)))} -> 0231
A36: =IFERROR(VLOOKUP($C36,[4]구분표!$A$2:$C$313,2,FALSE),"") -> 농정해양위원회 | B36: =IFERROR(VLOOKUP($C36,[4]구분표!$A$2:$C$313,3,FALSE),"") -> 축산산림국 | C36: 산림환경연구소 | D36: 신규 | E36: 일반 | H36: 도유재산 철거(자체/직접) -도유재산 철거 | K36: 90000 | L36: =I36+J36+K36 -> 90000 | O36: =I36+M36+N36 -> 0 | P36: =IF(AND((L36=0),(O36>0)),"O",IF(AND((J36<0),(L36-O36<0)),"O","X")) -> X | Q36: 사유지 경계침범에 따른 도유재산 철거비 | U36: 도비 | W36: 도비 | Y36: 90000 | Z36: =IF(SUM($J36:$K36)=SUM($X36:$Y36),"OK","검토") -> OK | AC36: =IF($W36<>"도비",IF($U36="국도비","직접입력",SUM($M36:$N36)),) -> 0 | AD36: =IF($W36="도비",SUM(M36:N36),IF($U36="국도비","직접입력",SUM(M36:N36)-AC36)) -> 0 | AE36: =IF(SUM(M36:N36)=SUM(AC36:AD36),"OK","검토") -> OK | AG36: =IF(W36="","",IF(W36="도비","세입없음","직접입력")) -> 세입없음 | AI36: =IF(AG36="","",COUNTIF($AG$6:$AG$166,AG36)) -> 56 | AJ36: =IF(W36="","",IF(AND(W36="도비",AG36="세입없음"),"OK",IF(AND(W36<>"도비",AG36<>""),"OK","@@"))) -> OK | AL36: {=IF(C36="","",INDEX(구분표!$I$2:$I$313, MATCH(1,(구분표!$E$2:$E$313='17년일출'!B36)*(구분표!$F$2:$F$313='17년일출'!C36)*(구분표!$G$2:$G$313='17년일출'!A36),0)))} -> 0232
A37: =IFERROR(VLOOKUP($C37,[4]구분표!$A$2:$C$313,2,FALSE),"") -> 농정해양위원회 | B37: =IFERROR(VLOOKUP($C37,[4]구분표!$A$2:$C$313,3,FALSE),"") -> 축산산림국 | C37: 산림환경연구소 | D37: 신규 | E37: 일반 | H37: 지역소득개발연구(자체/직접) -지역소득개발연구 | K37: 155000 | L37: =I37+J37+K37 -> 155000 | O37: =I37+M37+N37 -> 0 | P37: =IF(AND((L37=0),(O37>0)),"O",IF(AND((J37<0),(L37-O37<0)),"O","X")) -> X | Q37: 잣 부산물 및 피해목 활용화 연구필요 | U37: 도비 | W37: 도비 | Y37: 155000 | Z37: =IF(SUM($J37:$K37)=SUM($X37:$Y37),"OK","검토") -> OK | AC37: =IF($W37<>"도비",IF($U37="국도비","직접입력",SUM($M37:$N37)),) -> 0 | AD37: =IF($W37="도비",SUM(M37:N37),IF($U37="국도비","직접입력",SUM(M37:N37)-AC37)) -> 0 | AE37: =IF(SUM(M37:N37)=SUM(AC37:AD37),"OK","검토") -> OK | AG37: =IF(W37="","",IF(W37="도비","세입없음","직접입력")) -> 세입없음 | AI37: =IF(AG37="","",COUNTIF($AG$6:$AG$166,AG37)) -> 56 | AJ37: =IF(W37="","",IF(AND(W37="도비",AG37="세입없음"),"OK",IF(AND(W37<>"도비",AG37<>""),"OK","@@"))) -> OK | AL37: {=IF(C37="","",INDEX(구분표!$I$2:$I$313, MATCH(1,(구분표!$E$2:$E$313='17년일출'!B37)*(구분표!$F$2:$F$313='17년일출'!C37)*(구분표!$G$2:$G$313='17년일출'!A37),0)))} -> 0232
A38: =IFERROR(VLOOKUP($C38,[4]구분표!$A$2:$C$313,2,FALSE),"") -> 농정해양위원회 | B38: =IFERROR(VLOOKUP($C38,[4]구분표!$A$2:$C$313,3,FALSE),"") -> 축산산림국 | C38: 동물위생시험소 | D38: 신규 | E38: 일반 | H38: 가축전염병 근절기반 조성(자체/직접) -가축전염병 근절 관련 출장여비 | K38: 72000 | L38: =I38+J38+K38 -> 72000 | O38: =I38+M38+N38 -> 0 | P38: =IF(AND((L38=0),(O38>0)),"O",IF(AND((J38<0),(L38-O38<0)),"O","X")) -> X | Q38: 매년 발생하는 구제역,AI에 따른 출장여비(기본여비 부족) | U38: 도비 | W38: 도비 | Y38: 72000 | Z38: =IF(SUM($J38:$K38)=SUM($X38:$Y38),"OK","검토") -> OK | AC38: =IF($W38<>"도비",IF($U38="국도비","직접입력",SUM($M38:$N38)),) -> 0 | AD38: =IF($W38="도비",SUM(M38:N38),IF($U38="국도비","직접입력",SUM(M38:N38)-AC38)) -> 0 | AE38: =IF(SUM(M38:N38)=SUM(AC38:AD38),"OK","검토") -> OK | AG38: =IF(W38="","",IF(W38="도비","세입없음","직접입력")) -> 세입없음 | AI38: =IF(AG38="","",COUNTIF($AG$6:$AG$166,AG38)) -> 56 | AJ38: =IF(W38="","",IF(AND(W38="도비",AG38="세입없음"),"OK",IF(AND(W38<>"도비",AG38<>""),"OK","@@"))) -> OK | AL38: {=IF(C38="","",INDEX(구분표!$I$2:$I$313, MATCH(1,(구분표!$E$2:$E$313='17년일출'!B38)*(구분표!$F$2:$F$313='17년일출'!C38)*(구분표!$G$2:$G$313='17년일출'!A38),0)))} -> 0230
A39: =IFERROR(VLOOKUP($C39,[4]구분표!$A$2:$C$313,2,FALSE),"") -> 농정해양위원회 | B39: =IFERROR(VLOOKUP($C39,[4]구분표!$A$2:$C$313,3,FALSE),"") -> 축산산림국 | C39: 산림과 | D39: 신규 | E39: 일반 | H39: 유아숲 체험원 조성(자체/지원) -유아숲 체험원 조성 | K39: 700000 | L39: =I39+J39+K39 -> 700000 | Q39: 숲을 이용한 유아들의 전인적 성정확대 | U39: 도비 | W39: 도비 | Y39: 700000 | Z39: =IF(SUM($J39:$K39)=SUM($X39:$Y39),"OK","검토") -> OK | AC39: =IF($W39<>"도비",IF($U39="국도비","직접입력",SUM($M39:$N39)),) -> 0 | AD39: =IF($W39="도비",SUM(M39:N39),IF($U39="국도비","직접입력",SUM(M39:N39)-AC39)) -> 0 | AE39: =IF(SUM(M39:N39)=SUM(AC39:AD39),"OK","검토") -> OK | AG39: =IF(W39="","",IF(W39="도비","세입없음","직접입력")) -> 세입없음 | AI39: =IF(AG39="","",COUNTIF($AG$6:$AG$166,AG39)) -> 56 | AJ39: =IF(W39="","",IF(AND(W39="도비",AG39="세입없음"),"OK",IF(AND(W39<>"도비",AG39<>""),"OK","@@"))) -> OK | AL39: {=IF(C39="","",INDEX(구분표!$I$2:$I$313, MATCH(1,(구분표!$E$2:$E$313='17년일출'!B39)*(구분표!$F$2:$F$313='17년일출'!C39)*(구분표!$G$2:$G$313='17년일출'!A39),0)))} -> 0229
A40: =IFERROR(VLOOKUP($C40,[4]구분표!$A$2:$C$313,2,FALSE),"") -> 농정해양위원회 | B40: =IFERROR(VLOOKUP($C40,[4]구분표!$A$2:$C$313,3,FALSE),"") -> 축산산림국 | C40: 산림과 | D40: 신규 | E40: 일반 | H40: 단절등산로 연결사업(자체/지원) -단절등산로 연결사업 | K40: 2500000 | L40: =I40+J40+K40 -> 2500000 | O40: =I40+M40+N40 -> 0 | Q40: 고속도로 등에 의해 단절된 등산로 연결 | R40: 한남정맥 석성산~할미산성 단절등산로 연결사업(10억) | U40: 도비 | W40: 도비 | Y40: 2500000 | Z40: =IF(SUM($J40:$K40)=SUM($X40:$Y40),"OK","검토") -> OK | AC40: =IF($W40<>"도비",IF($U40="국도비","직접입력",SUM($M40:$N40)),) -> 0 | AD40: =IF($W40="도비",SUM(M40:N40),IF($U40="국도비","직접입력",SUM(M40:N40)-AC40)) -> 0 | AE40: =IF(SUM(M40:N40)=SUM(AC40:AD40),"OK","검토") -> OK | AG40: =IF(W40="","",IF(W40="도비","세입없음","직접입력")) -> 세입없음 | AI40: =IF(AG40="","",COUNTIF($AG$6:$AG$166,AG40)) -> 56 | AJ40: =IF(W40="","",IF(AND(W40="도비",AG40="세입없음"),"OK",IF(AND(W40<>"도비",AG40<>""),"OK","@@"))) -> OK | AL40: {=IF(C40="","",INDEX(구분표!$I$2:$I$313, MATCH(1,(구분표!$E$2:$E$313='17년일출'!B40)*(구분표!$F$2:$F$313='17년일출'!C40)*(구분표!$G$2:$G$313='17년일출'!A40),0)))} -> 0229
A41: =IFERROR(VLOOKUP($C41,[4]구분표!$A$2:$C$313,2,FALSE),"") -> 농정해양위원회 | B41: =IFERROR(VLOOKUP($C41,[4]구분표!$A$2:$C$313,3,FALSE),"") -> 농업기술원 | C41: 행정지원과 | D41: 본예산 | E41: 일반 | F41: 790 | G41: 30 | H41: 농업연구 활성화를 위한 근무환경개선(자체/직접) -버섯연구소, 소득자원연구소 관리사 리모델링 공사 등 | I41: 100000 | K41: 100000 | L41: =I41+J41+K41 -> 200000 | O41: =I41+M41+N41 -> 100000 | P41: =IF(AND((L41=0),(O41>0)),"O",IF(AND((J41<0),(L41-O41<0)),"O","X")) -> X | Q41: 버섯연구소 관리사 안전진단결과(11.11) 위험 e등급(발코니 처짐) | U41: 도비 | W41: 도비 | Y41: 100000 | Z41: =IF(SUM($J41:$K41)=SUM($X41:$Y41),"OK","검토") -> OK | AC41: =IF($W41<>"도비",IF($U41="국도비","직접입력",SUM($M41:$N41)),) -> 0 | AD41: =IF($W41="도비",SUM(M41:N41),IF($U41="국도비","직접입력",SUM(M41:N41)-AC41)) -> 0 | AE41: =IF(SUM(M41:N41)=SUM(AC41:AD41),"OK","검토") -> OK | AG41: =IF(W41="","",IF(W41="도비","세입없음","직접입력")) -> 세입없음 | AI41: =IF(AG41="","",COUNTIF($AG$6:$AG$166,AG41)) -> 56 | AJ41: =IF(W41="","",IF(AND(W41="도비",AG41="세입없음"),"OK",IF(AND(W41<>"도비",AG41<>""),"OK","@@"))) -> OK | AL41: {=IF(C41="","",INDEX(구분표!$I$2:$I$313, MATCH(1,(구분표!$E$2:$E$313='17년일출'!B41)*(구분표!$F$2:$F$313='17년일출'!C41)*(구분표!$G$2:$G$313='17년일출'!A41),0)))} -> 0234
A42: =IFERROR(VLOOKUP($C42,[4]구분표!$A$2:$C$313,2,FALSE),"") -> 농정해양위원회 | B42: =IFERROR(VLOOKUP($C42,[4]구분표!$A$2:$C$313,3,FALSE),"") -> 농업기술원 | C42: 환경농업연구과 | D42: 본예산 | E42: 일반 | F42: 810 | G42: 187 | H42: 유용미생물개발 및 이용연구(자체/직접) -기간제근로자등 보수 | I42: 23531 | K42: 23531 | L42: =I42+J42+K42 -> 47062 | O42: =I42+M42+N42 -> 23531 | Q42: 11.1 유기농업팀 신설에 따른 유용미생물 연구강화로 연구비 증액 | U42: 도비 | W42: 도비 | Y42: 23531 | Z42: =IF(SUM($J42:$K42)=SUM($X42:$Y42),"OK","검토") -> OK | AC42: =IF($W42<>"도비",IF($U42="국도비","직접입력",SUM($M42:$N42)),) -> 0 | AD42: =IF($W42="도비",SUM(M42:N42),IF($U42="국도비","직접입력",SUM(M42:N42)-AC42)) -> 0 | AE42: =IF(SUM(M42:N42)=SUM(AC42:AD42),"OK","검토") -> OK | AG42: =IF(W42="","",IF(W42="도비","세입없음","직접입력")) -> 세입없음 | AI42: =IF(AG42="","",COUNTIF($AG$6:$AG$166,AG42)) -> 56 | AJ42: =IF(W42="","",IF(AND(W42="도비",AG42="세입없음"),"OK",IF(AND(W42<>"도비",AG42<>""),"OK","@@"))) -> OK | AL42: {=IF(C42="","",INDEX(구분표!$I$2:$I$313, MATCH(1,(구분표!$E$2:$E$313='17년일출'!B42)*(구분표!$F$2:$F$313='17년일출'!C42)*(구분표!$G$2:$G$313='17년일출'!A42),0)))} -> 0237
A43: =IFERROR(VLOOKUP($C43,[4]구분표!$A$2:$C$313,2,FALSE),"") -> 농정해양위원회 | B43: =IFERROR(VLOOKUP($C43,[4]구분표!$A$2:$C$313,3,FALSE),"") -> 농업기술원 | C43: 환경농업연구과 | D43: 본예산 | E43: 일반 | F43: 810 | G43: 187 | H43: 유용미생물개발 및 이용연구(자체/직접) -시험연구비 | I43: 69900 | K43: 45000 | L43: =I43+J43+K43 -> 114900 | O43: =I43+M43+N43 -> 69900 | Q43: 11.1 유기농업팀 신설에 따른 유용미생물 연구강화로 연구비 증액 | U43: 도비 | W43: 도비 | Y43: 45000 | Z43: =IF(SUM($J43:$K43)=SUM($X43:$Y43),"OK","검토") -> OK | AC43: =IF($W43<>"도비",IF($U43="국도비","직접입력",SUM($M43:$N43)),) -> 0 | AD43: =IF($W43="도비",SUM(M43:N43),IF($U43="국도비","직접입력",SUM(M43:N43)-AC43)) -> 0 | AE43: =IF(SUM(M43:N43)=SUM(AC43:AD43),"OK","검토") -> OK | AG43: =IF(W43="","",IF(W43="도비","세입없음","직접입력")) -> 세입없음 | AI43: =IF(AG43="","",COUNTIF($AG$6:$AG$166,AG43)) -> 56 | AJ43: =IF(W43="","",IF(AND(W43="도비",AG43="세입없음"),"OK",IF(AND(W43<>"도비",AG43<>""),"OK","@@"))) -> OK | AL43: {=IF(C43="","",INDEX(구분표!$I$2:$I$313, MATCH(1,(구분표!$E$2:$E$313='17년일출'!B43)*(구분표!$F$2:$F$313='17년일출'!C43)*(구분표!$G$2:$G$313='17년일출'!A43),0)))} -> 0237
A44: =IFERROR(VLOOKUP($C44,[4]구분표!$A$2:$C$313,2,FALSE),"") -> 농정해양위원회 | B44: =IFERROR(VLOOKUP($C44,[4]구분표!$A$2:$C$313,3,FALSE),"") -> 농업기술원 | C44: 기술보급과 | D44: 신규 | E44: 일반 | F44: 835 | G44: 401 | H44: 경기 명품쌀 생산 새기술보급 및 수출단지 조성(자체/지원) -벼 직파재배 생산기술 시범 | K44: 120000 | L44: =I44+J44+K44 -> 120000 | O44: =I44+M44+N44 -> 0 | P44: =IF(AND((L44=0),(O44>0)),"O",IF(AND((J44<0),(L44-O44<0)),"O","X")) -> X | Q44: 직파기술 확대를 위해 필요한 예산 | U44: 도비 | W44: 도비 | Y44: 120000 | Z44: =IF(SUM($J44:$K44)=SUM($X44:$Y44),"OK","검토") -> OK | AC44: =IF($W44<>"도비",IF($U44="국도비","직접입력",SUM($M44:$N44)),) -> 0 | AD44: =IF($W44="도비",SUM(M44:N44),IF($U44="국도비","직접입력",SUM(M44:N44)-AC44)) -> 0 | AE44: =IF(SUM(M44:N44)=SUM(AC44:AD44),"OK","검토") -> OK | AG44: =IF(W44="","",IF(W44="도비","세입없음","직접입력")) -> 세입없음 | AI44: =IF(AG44="","",COUNTIF($AG$6:$AG$166,AG44)) -> 56 | AJ44: =IF(W44="","",IF(AND(W44="도비",AG44="세입없음"),"OK",IF(AND(W44<>"도비",AG44<>""),"OK","@@"))) -> OK | AL44: {=IF(C44="","",INDEX(구분표!$I$2:$I$313, MATCH(1,(구분표!$E$2:$E$313='17년일출'!B44)*(구분표!$F$2:$F$313='17년일출'!C44)*(구분표!$G$2:$G$313='17년일출'!A44),0)))} -> 0239
A45: =IFERROR(VLOOKUP($C45,[4]구분표!$A$2:$C$313,2,FALSE),"") -> 농정해양위원회 | B45: =IFERROR(VLOOKUP($C45,[4]구분표!$A$2:$C$313,3,FALSE),"") -> 농업기술원 | C45: 기술보급과 | D45: 본예산 | E45: 일반 | F45: 837 | G45: 421 | H45: 유용미생물 이용 새기술보급(자체/지원) -고농도 미생물 배양기 확대 보급 | I45: 36000 | K45: 252000 | L45: =I45+J45+K45 -> 288000 | O45: =I45+M45+N45 -> 36000 | P45: =IF(AND((L45=0),(O45>0)),"O",IF(AND((J45<0),(L45-O45<0)),"O","X")) -> X | U45: 도비 | W45: 도비 | Y45: 252000 | Z45: =IF(SUM($J45:$K45)=SUM($X45:$Y45),"OK","검토") -> OK | AC45: =IF($W45<>"도비",IF($U45="국도비","직접입력",SUM($M45:$N45)),) -> 0 | AD45: =IF($W45="도비",SUM(M45:N45),IF($U45="국도비","직접입력",SUM(M45:N45)-AC45)) -> 0 | AE45: =IF(SUM(M45:N45)=SUM(AC45:AD45),"OK","검토") -> OK | AG45: =IF(W45="","",IF(W45="도비","세입없음","직접입력")) -> 세입없음 | AI45: =IF(AG45="","",COUNTIF($AG$6:$AG$166,AG45)) -> 56 | AJ45: =IF(W45="","",IF(AND(W45="도비",AG45="세입없음"),"OK",IF(AND(W45<>"도비",AG45<>""),"OK","@@"))) -> OK | AL45: {=IF(C45="","",INDEX(구분표!$I$2:$I$313, MATCH(1,(구분표!$E$2:$E$313='17년일출'!B45)*(구분표!$F$2:$F$313='17년일출'!C45)*(구분표!$G$2:$G$313='17년일출'!A45),0)))} -> 0239
A46: =IFERROR(VLOOKUP($C46,[4]구분표!$A$2:$C$313,2,FALSE),"") -> 농정해양위원회 | B46: =IFERROR(VLOOKUP($C46,[4]구분표!$A$2:$C$313,3,FALSE),"") -> 농업기술원 | C46: 기술보급과 | D46: 본예산 | E46: 일반 | F46: 836 | G46: 413 | H46: 원예 새기술보급(자체/지원) -저면관수베드 등 시설개선 분화생산기술 시범 | I46: 12000 | K46: 108000 | L46: =I46+J46+K46 -> 120000 | O46: =I46+M46+N46 -> 12000 | P46: =IF(AND((L46=0),(O46>0)),"O",IF(AND((J46<0),(L46-O46<0)),"O","X")) -> X | U46: 도비 | W46: 도비 | Y46: 108000 | Z46: =IF(SUM($J46:$K46)=SUM($X46:$Y46),"OK","검토") -> OK | AC46: =IF($W46<>"도비",IF($U46="국도비","직접입력",SUM($M46:$N46)),) -> 0 | AD46: =IF($W46="도비",SUM(M46:N46),IF($U46="국도비","직접입력",SUM(M46:N46)-AC46)) -> 0 | AE46: =IF(SUM(M46:N46)=SUM(AC46:AD46),"OK","검토") -> OK | AG46: =IF(W46="","",IF(W46="도비","세입없음","직접입력")) -> 세입없음 | AI46: =IF(AG46="","",COUNTIF($AG$6:$AG$166,AG46)) -> 56 | AJ46: =IF(W46="","",IF(AND(W46="도비",AG46="세입없음"),"OK",IF(AND(W46<>"도비",AG46<>""),"OK","@@"))) -> OK | AL46: {=IF(C46="","",INDEX(구분표!$I$2:$I$313, MATCH(1,(구분표!$E$2:$E$313='17년일출'!B46)*(구분표!$F$2:$F$313='17년일출'!C46)*(구분표!$G$2:$G$313='17년일출'!A46),0)))} -> 0239
A47: =IFERROR(VLOOKUP($C47,[4]구분표!$A$2:$C$313,2,FALSE),"") -> 농정해양위원회 | B47: =IFERROR(VLOOKUP($C47,[4]구분표!$A$2:$C$313,3,FALSE),"") -> 농업기술원 | C47: 기술보급과 | D47: 본예산 | E47: 일반 | F47: 836 | G47: 421 | H47: 유용미생물 이용 새기술보급(자체/지원) -미생물 생산 운영 지원 | I47: 162000 | K47: 378000 | L47: =I47+J47+K47 -> 540000 | O47: =I47+M47+N47 -> 162000 | P47: =IF(AND((L47=0),(O47>0)),"O",IF(AND((J47<0),(L47-O47<0)),"O","X")) -> X | U47: 도비 | W47: 도비 | Y47: 378000 | Z47: =IF(SUM($J47:$K47)=SUM($X47:$Y47),"OK","검토") -> OK | AC47: =IF($W47<>"도비",IF($U47="국도비","직접입력",SUM($M47:$N47)),) -> 0 | AD47: =IF($W47="도비",SUM(M47:N47),IF($U47="국도비","직접입력",SUM(M47:N47)-AC47)) -> 0 | AE47: =IF(SUM(M47:N47)=SUM(AC47:AD47),"OK","검토") -> OK | AG47: =IF(W47="","",IF(W47="도비","세입없음","직접입력")) -> 세입없음 | AI47: =IF(AG47="","",COUNTIF($AG$6:$AG$166,AG47)) -> 56 | AJ47: =IF(W47="","",IF(AND(W47="도비",AG47="세입없음"),"OK",IF(AND(W47<>"도비",AG47<>""),"OK","@@"))) -> OK | AL47: {=IF(C47="","",INDEX(구분표!$I$2:$I$313, MATCH(1,(구분표!$E$2:$E$313='17년일출'!B47)*(구분표!$F$2:$F$313='17년일출'!C47)*(구분표!$G$2:$G$313='17년일출'!A47),0)))} -> 0239
A48: =IFERROR(VLOOKUP($C48,[4]구분표!$A$2:$C$313,2,FALSE),"") -> 농정해양위원회 | B48: =IFERROR(VLOOKUP($C48,[4]구분표!$A$2:$C$313,3,FALSE),"") -> 농업기술원 | C48: 기술보급과 | D48: 본예산 | E48: 일반 | F48: 837 | G48: 424 | H48: 축산 새기술보급(자체/지원) - 국내육성 꿀벌 신품종 보급 시범 | I48: 36000 | K48: 24000 | L48: =I48+J48+K48 -> 60000 | O48: =I48+M48+N48 -> 36000 | U48: 도비 | W48: 도비 | Y48: 24000 | Z48: =IF(SUM($J48:$K48)=SUM($X48:$Y48),"OK","검토") -> OK | AC48: =IF($W48<>"도비",IF($U48="국도비","직접입력",SUM($M48:$N48)),) -> 0 | AD48: =IF($W48="도비",SUM(M48:N48),IF($U48="국도비","직접입력",SUM(M48:N48)-AC48)) -> 0 | AE48: =IF(SUM(M48:N48)=SUM(AC48:AD48),"OK","검토") -> OK | AG48: =IF(W48="","",IF(W48="도비","세입없음","직접입력")) -> 세입없음 | AI48: =IF(AG48="","",COUNTIF($AG$6:$AG$166,AG48)) -> 56 | AJ48: =IF(W48="","",IF(AND(W48="도비",AG48="세입없음"),"OK",IF(AND(W48<>"도비",AG48<>""),"OK","@@"))) -> OK | AL48: {=IF(C48="","",INDEX(구분표!$I$2:$I$313, MATCH(1,(구분표!$E$2:$E$313='17년일출'!B48)*(구분표!$F$2:$F$313='17년일출'!C48)*(구분표!$G$2:$G$313='17년일출'!A48),0)))} -> 0239
A49: =IFERROR(VLOOKUP($C49,[4]구분표!$A$2:$C$313,2,FALSE),"") -> 농정해양위원회 | B49: =IFERROR(VLOOKUP($C49,[4]구분표!$A$2:$C$313,3,FALSE),"") -> 농업기술원 | C49: 기술보급과 | D49: 본예산 | E49: 일반 | F49: 837 | G49: 424 | H49: 축산 새기술보급(자체/지원) - 천연 항생물질 이용 가축질병예방 시범 | I49: 36000 | K49: 24000 | L49: =I49+J49+K49 -> 60000 | O49: =I49+M49+N49 -> 36000 | U49: 도비 | W49: 도비 | Y49: 24000 | Z49: =IF(SUM($J49:$K49)=SUM($X49:$Y49),"OK","검토") -> OK | AC49: =IF($W49<>"도비",IF($U49="국도비","직접입력",SUM($M49:$N49)),) -> 0 | AD49: =IF($W49="도비",SUM(M49:N49),IF($U49="국도비","직접입력",SUM(M49:N49)-AC49)) -> 0 | AE49: =IF(SUM(M49:N49)=SUM(AC49:AD49),"OK","검토") -> OK | AG49: =IF(W49="","",IF(W49="도비","세입없음","직접입력")) -> 세입없음 | AI49: =IF(AG49="","",COUNTIF($AG$6:$AG$166,AG49)) -> 56 | AJ49: =IF(W49="","",IF(AND(W49="도비",AG49="세입없음"),"OK",IF(AND(W49<>"도비",AG49<>""),"OK","@@"))) -> OK | AL49: {=IF(C49="","",INDEX(구분표!$I$2:$I$313, MATCH(1,(구분표!$E$2:$E$313='17년일출'!B49)*(구분표!$F$2:$F$313='17년일출'!C49)*(구분표!$G$2:$G$313='17년일출'!A49),0)))} -> 0239
A50: =IFERROR(VLOOKUP($C50,[4]구분표!$A$2:$C$313,2,FALSE),"") -> 농정해양위원회 | B50: =IFERROR(VLOOKUP($C50,[4]구분표!$A$2:$C$313,3,FALSE),"") -> 농업기술원 | C50: 농촌자원과 | D50: 본예산 | E50: 일반 | F50: 843 | G50: 485 | H50: 농식품활용 소득창출 지원(자체/지원) -농산물가공 창업지원 | I50: 30000 | K50: 30000 | L50: =I50+J50+K50 -> 60000 | O50: =I50+M50+N50 -> 30000 | P50: =IF(AND((L50=0),(O50>0)),"O",IF(AND((J50<0),(L50-O50<0)),"O","X")) -> X | U50: 도비 | W50: 도비 | Y50: 30000 | Z50: =IF(SUM($J50:$K50)=SUM($X50:$Y50),"OK","검토") -> OK | AC50: =IF($W50<>"도비",IF($U50="국도비","직접입력",SUM($M50:$N50)),) -> 0 | AD50: =IF($W50="도비",SUM(M50:N50),IF($U50="국도비","직접입력",SUM(M50:N50)-AC50)) -> 0 | AE50: =IF(SUM(M50:N50)=SUM(AC50:AD50),"OK","검토") -> OK | AG50: =IF(W50="","",IF(W50="도비","세입없음","직접입력")) -> 세입없음 | AI50: =IF(AG50="","",COUNTIF($AG$6:$AG$166,AG50)) -> 56 | AJ50: =IF(W50="","",IF(AND(W50="도비",AG50="세입없음"),"OK",IF(AND(W50<>"도비",AG50<>""),"OK","@@"))) -> OK | AL50: {=IF(C50="","",INDEX(구분표!$I$2:$I$313, MATCH(1,(구분표!$E$2:$E$313='17년일출'!B50)*(구분표!$F$2:$F$313='17년일출'!C50)*(구분표!$G$2:$G$313='17년일출'!A50),0)))} -> 0240
A51: =IFERROR(VLOOKUP($C51,[4]구분표!$A$2:$C$313,2,FALSE),"") -> 농정해양위원회 | B51: =IFERROR(VLOOKUP($C51,[4]구분표!$A$2:$C$313,3,FALSE),"") -> 농업기술원 | C51: 지도정책과 | D51: 본예산 | E51: 일반 | F51: 826 | G51: 307 | H51: 4-H육성 지원(자체/지원) -젊은농부 영농기술 시범 | I51: 45000 | K51: 60000 | L51: =I51+J51+K51 -> 105000 | O51: =I51+M51+N51 -> 45000 | P51: =IF(AND((L51=0),(O51>0)),"O",IF(AND((J51<0),(L51-O51<0)),"O","X")) -> X | U51: 도비 | W51: 도비 | Y51: 60000 | Z51: =IF(SUM($J51:$K51)=SUM($X51:$Y51),"OK","검토") -> OK | AC51: =IF($W51<>"도비",IF($U51="국도비","직접입력",SUM($M51:$N51)),) -> 0 | AD51: =IF($W51="도비",SUM(M51:N51),IF($U51="국도비","직접입력",SUM(M51:N51)-AC51)) -> 0 | AE51: =IF(SUM(M51:N51)=SUM(AC51:AD51),"OK","검토") -> OK | AG51: =IF(W51="","",IF(W51="도비","세입없음","직접입력")) -> 세입없음 | AI51: =IF(AG51="","",COUNTIF($AG$6:$AG$166,AG51)) -> 56 | AJ51: =IF(W51="","",IF(AND(W51="도비",AG51="세입없음"),"OK",IF(AND(W51<>"도비",AG51<>""),"OK","@@"))) -> OK | AL51: {=IF(C51="","",INDEX(구분표!$I$2:$I$313, MATCH(1,(구분표!$E$2:$E$313='17년일출'!B51)*(구분표!$F$2:$F$313='17년일출'!C51)*(구분표!$G$2:$G$313='17년일출'!A51),0)))} -> 0238
A52: =IFERROR(VLOOKUP($C52,[4]구분표!$A$2:$C$313,2,FALSE),"") -> 농정해양위원회 | B52: =IFERROR(VLOOKUP($C52,[4]구분표!$A$2:$C$313,3,FALSE),"") -> 농업기술원 | C52: 농촌자원과 | D52: 본예산 | E52: 일반 | F52: 844 | G52: 488 | H52: 농촌생활 활력화(자체/지원) -농촌마을 공동농장 조성지원 | I52: 230000 | K52: 170000 | L52: =I52+J52+K52 -> 400000 | O52: =I52+M52+N52 -> 230000 | P52: =IF(AND((L52=0),(O52>0)),"O",IF(AND((J52<0),(L52-O52<0)),"O","X")) -> X | U52: 도비 | W52: 도비 | Y52: 170000 | Z52: =IF(SUM($J52:$K52)=SUM($X52:$Y52),"OK","검토") -> OK | AC52: =IF($W52<>"도비",IF($U52="국도비","직접입력",SUM($M52:$N52)),) -> 0 | AD52: =IF($W52="도비",SUM(M52:N52),IF($U52="국도비","직접입력",SUM(M52:N52)-AC52)) -> 0 | AE52: =IF(SUM(M52:N52)=SUM(AC52:AD52),"OK","검토") -> OK | AG52: =IF(W52="","",IF(W52="도비","세입없음","직접입력")) -> 세입없음 | AI52: =IF(AG52="","",COUNTIF($AG$6:$AG$166,AG52)) -> 56 | AJ52: =IF(W52="","",IF(AND(W52="도비",AG52="세입없음"),"OK",IF(AND(W52<>"도비",AG52<>""),"OK","@@"))) -> OK | AL52: {=IF(C52="","",INDEX(구분표!$I$2:$I$313, MATCH(1,(구분표!$E$2:$E$313='17년일출'!B52)*(구분표!$F$2:$F$313='17년일출'!C52)*(구분표!$G$2:$G$313='17년일출'!A52),0)))} -> 0240
A53: =IFERROR(VLOOKUP($C53,[4]구분표!$A$2:$C$313,2,FALSE),"") -> 농정해양위원회 | B53: =IFERROR(VLOOKUP($C53,[4]구분표!$A$2:$C$313,3,FALSE),"") -> 농업기술원 | C53: 환경농업연구과 | D53: 신규 | E53: 일반 | H53: 병해충 신속 대응을 위한 종합식물병원 설치 운영(자체/직접) -기본급,휴일수당,간식비 | K53: 36600 | L53: =I53+J53+K53 -> 36600 | O53: =I53+M53+N53 -> 0 | P53: =IF(AND((L53=0),(O53>0)),"O",IF(AND((J53<0),(L53-O53<0)),"O","X")) -> X | Q53: 기후변화에 따른 새로운 돌발병해충 민원증가 및 대응 연구 연구비 증가 | U53: 도비 | W53: 도비 | Y53: 36600 | Z53: =IF(SUM($J53:$K53)=SUM($X53:$Y53),"OK","검토") -> OK | AC53: =IF($W53<>"도비",IF($U53="국도비","직접입력",SUM($M53:$N53)),) -> 0 | AD53: =IF($W53="도비",SUM(M53:N53),IF($U53="국도비","직접입력",SUM(M53:N53)-AC53)) -> 0 | AE53: =IF(SUM(M53:N53)=SUM(AC53:AD53),"OK","검토") -> OK | AG53: =IF(W53="","",IF(W53="도비","세입없음","직접입력")) -> 세입없음 | AI53: =IF(AG53="","",COUNTIF($AG$6:$AG$166,AG53)) -> 56 | AJ53: =IF(W53="","",IF(AND(W53="도비",AG53="세입없음"),"OK",IF(AND(W53<>"도비",AG53<>""),"OK","@@"))) -> OK | AL53: {=IF(C53="","",INDEX(구분표!$I$2:$I$313, MATCH(1,(구분표!$E$2:$E$313='17년일출'!B53)*(구분표!$F$2:$F$313='17년일출'!C53)*(구분표!$G$2:$G$313='17년일출'!A53),0)))} -> 0237
A54: =IFERROR(VLOOKUP($C54,[4]구분표!$A$2:$C$313,2,FALSE),"") -> 농정해양위원회 | B54: =IFERROR(VLOOKUP($C54,[4]구분표!$A$2:$C$313,3,FALSE),"") -> 농업기술원 | C54: 환경농업연구과 | D54: 신규 | E54: 일반 | H54: 병해충 신속 대응을 위한 종합식물병원 설치 운영(자체/직접) -병해충 신속대응 연구시설 및 장비유지관리 | K54: 10000 | L54: =I54+J54+K54 -> 10000 | O54: =I54+M54+N54 -> 0 | Q54: 기후변화에 따른 새로운 돌발병해충 민원증가 및 대응 연구 연구비 증가 | U54: 도비 | W54: 도비 | Y54: 10000 | Z54: =IF(SUM($J54:$K54)=SUM($X54:$Y54),"OK","검토") -> OK | AC54: =IF($W54<>"도비",IF($U54="국도비","직접입력",SUM($M54:$N54)),) -> 0 | AD54: =IF($W54="도비",SUM(M54:N54),IF($U54="국도비","직접입력",SUM(M54:N54)-AC54)) -> 0 | AE54: =IF(SUM(M54:N54)=SUM(AC54:AD54),"OK","검토") -> OK | AG54: =IF(W54="","",IF(W54="도비","세입없음","직접입력")) -> 세입없음 | AI54: =IF(AG54="","",COUNTIF($AG$6:$AG$166,AG54)) -> 56 | AJ54: =IF(W54="","",IF(AND(W54="도비",AG54="세입없음"),"OK",IF(AND(W54<>"도비",AG54<>""),"OK","@@"))) -> OK | AL54: {=IF(C54="","",INDEX(구분표!$I$2:$I$313, MATCH(1,(구분표!$E$2:$E$313='17년일출'!B54)*(구분표!$F$2:$F$313='17년일출'!C54)*(구분표!$G$2:$G$313='17년일출'!A54),0)))} -> 0237
A55: =IFERROR(VLOOKUP($C55,[4]구분표!$A$2:$C$313,2,FALSE),"") -> 농정해양위원회 | B55: =IFERROR(VLOOKUP($C55,[4]구분표!$A$2:$C$313,3,FALSE),"") -> 농업기술원 | C55: 환경농업연구과 | D55: 신규 | E55: 일반 | H55: 병해충 신속 대응을 위한 종합식물병원 설치 운영(자체/직접) -병해충 신속 대응 연구 시험재료 | K55: 30000 | L55: =I55+J55+K55 -> 30000 | O55: =I55+M55+N55 -> 0 | Q55: 기후변화에 따른 새로운 돌발병해충 민원증가 및 대응 연구 연구비 증가 | U55: 도비 | W55: 도비 | Y55: 30000 | Z55: =IF(SUM($J55:$K55)=SUM($X55:$Y55),"OK","검토") -> OK | AC55: =IF($W55<>"도비",IF($U55="국도비","직접입력",SUM($M55:$N55)),) -> 0 | AD55: =IF($W55="도비",SUM(M55:N55),IF($U55="국도비","직접입력",SUM(M55:N55)-AC55)) -> 0 | AE55: =IF(SUM(M55:N55)=SUM(AC55:AD55),"OK","검토") -> OK | AG55: =IF(W55="","",IF(W55="도비","세입없음","직접입력")) -> 세입없음 | AI55: =IF(AG55="","",COUNTIF($AG$6:$AG$166,AG55)) -> 56 | AJ55: =IF(W55="","",IF(AND(W55="도비",AG55="세입없음"),"OK",IF(AND(W55<>"도비",AG55<>""),"OK","@@"))) -> OK | AL55: {=IF(C55="","",INDEX(구분표!$I$2:$I$313, MATCH(1,(구분표!$E$2:$E$313='17년일출'!B55)*(구분표!$F$2:$F$313='17년일출'!C55)*(구분표!$G$2:$G$313='17년일출'!A55),0)))} -> 0237
A56: =IFERROR(VLOOKUP($C56,[4]구분표!$A$2:$C$313,2,FALSE),"") -> 농정해양위원회 | B56: =IFERROR(VLOOKUP($C56,[4]구분표!$A$2:$C$313,3,FALSE),"") -> 농업기술원 | C56: 환경농업연구과 | D56: 신규 | E56: 일반 | H56: 병해충 신속 대응을 위한 종합식물병원 설치 운영(자체/직접) -병해충 신속 종합식물병원 설치 공사 | K56: 73400 | L56: =I56+J56+K56 -> 73400 | O56: =I56+M56+N56 -> 0 | Q56: 기후변화에 따른 새로운 돌발병해충 민원증가 및 대응 연구 연구비 증가 | U56: 도비 | W56: 도비 | Y56: 73400 | Z56: =IF(SUM($J56:$K56)=SUM($X56:$Y56),"OK","검토") -> OK | AC56: =IF($W56<>"도비",IF($U56="국도비","직접입력",SUM($M56:$N56)),) -> 0 | AD56: =IF($W56="도비",SUM(M56:N56),IF($U56="국도비","직접입력",SUM(M56:N56)-AC56)) -> 0 | AE56: =IF(SUM(M56:N56)=SUM(AC56:AD56),"OK","검토") -> OK | AG56: =IF(W56="","",IF(W56="도비","세입없음","직접입력")) -> 세입없음 | AI56: =IF(AG56="","",COUNTIF($AG$6:$AG$166,AG56)) -> 56 | AJ56: =IF(W56="","",IF(AND(W56="도비",AG56="세입없음"),"OK",IF(AND(W56<>"도비",AG56<>""),"OK","@@"))) -> OK | AL56: {=IF(C56="","",INDEX(구분표!$I$2:$I$313, MATCH(1,(구분표!$E$2:$E$313='17년일출'!B56)*(구분표!$F$2:$F$313='17년일출'!C56)*(구분표!$G$2:$G$313='17년일출'!A56),0)))} -> 0237
A57: =IFERROR(VLOOKUP($C57,[4]구분표!$A$2:$C$313,2,FALSE),"") -> 농정해양위원회 | B57: =IFERROR(VLOOKUP($C57,[4]구분표!$A$2:$C$313,3,FALSE),"") -> 농정해양국 | C57: 농업정책과 | D57: 본예산 | E57: 일반 | F57: 618 | G57: 55 | H57: 농촌재능나눔 활성화 지원(자치단체)(국비/지원) - 지자체 농촌재능나눔 활동지원사업(자치단체경상보조금) | I57: 50000 | J57: -25000 | L57: =I57+J57+K57 -> 25000 | O57: =I57+M57+N57 -> 50000 | P57: =IF(AND((L57=0),(O57>0)),"O",IF(AND((J57<0),(L57-O57<0)),"O","X")) -> O | Q57: 국비변경내시/농림축산식품부 식품산업진흥과-3169(2016.11.10) | U57: 국도비 | W57: 국비 | X57: -25000 | Y57: 0 | Z57: =IF(SUM($J57:$K57)=SUM($X57:$Y57),"OK","검토") -> OK | AC57: =IF($W57<>"도비",IF($U57="국도비","직접입력",SUM($M57:$N57)),) -> 직접입력 | AD57: =IF($W57="도비",SUM(M57:N57),IF($U57="국도비","직접입력",SUM(M57:N57)-AC57)) -> 직접입력 | AE57: =IF(SUM(M57:N57)=SUM(AC57:AD57),"OK","검토") -> OK | AG57: 0220-1 | AI57: =IF(AG57="","",COUNTIF($AG$6:$AG$166,AG57)) -> 1 | AJ57: =IF(W57="","",IF(AND(W57="도비",AG57="세입없음"),"OK",IF(AND(W57<>"도비",AG57<>""),"OK","@@"))) -> OK | AL57: {=IF(C57="","",INDEX(구분표!$I$2:$I$313, MATCH(1,(구분표!$E$2:$E$313='17년일출'!B57)*(구분표!$F$2:$F$313='17년일출'!C57)*(구분표!$G$2:$G$313='17년일출'!A57),0)))} -> 0220
A58: =IFERROR(VLOOKUP($C58,[4]구분표!$A$2:$C$313,2,FALSE),"") -> 농정해양위원회 | B58: =IFERROR(VLOOKUP($C58,[4]구분표!$A$2:$C$313,3,FALSE),"") -> 농정해양국 | C58: 친환경농업과 | D58: 본예산 | E58: 일반 | F58: 647 | G58: 514 | H58: 과수생산시설현대화 지원(기금/지원) - 과수생산시설현대화 지원(자치단체자본보조) | I58: 510000 | J58: -41000 | L58: =I58+J58+K58 -> 469000 | O58: =I58+M58+N58 -> 510000 | P58: =IF(AND((L58=0),(O58>0)),"O",IF(AND((J58<0),(L58-O58<0)),"O","X")) -> O | Q58: 국비변경내시/농림축산식품부 원예경영과-4659(2016.10.31) | U58: 국도비 | W58: 기금 | X58: -41000 | Y58: 0 | Z58: =IF(SUM($J58:$K58)=SUM($X58:$Y58),"OK","검토") -> OK | AC58: =IF($W58<>"도비",IF($U58="국도비","직접입력",SUM($M58:$N58)),) -> 직접입력 | AD58: =IF($W58="도비",SUM(M58:N58),IF($U58="국도비","직접입력",SUM(M58:N58)-AC58)) -> 직접입력 | AE58: =IF(SUM(M58:N58)=SUM(AC58:AD58),"OK","검토") -> OK | AG58: 0223-1 | AI58: =IF(AG58="","",COUNTIF($AG$6:$AG$166,AG58)) -> 1 | AJ58: =IF(W58="","",IF(AND(W58="도비",AG58="세입없음"),"OK",IF(AND(W58<>"도비",AG58<>""),"OK","@@"))) -> OK | AL58: {=IF(C58="","",INDEX(구분표!$I$2:$I$313, MATCH(1,(구분표!$E$2:$E$313='17년일출'!B58)*(구분표!$F$2:$F$313='17년일출'!C58)*(구분표!$G$2:$G$313='17년일출'!A58),0)))} -> 0223
A59: =IFERROR(VLOOKUP($C59,[4]구분표!$A$2:$C$313,2,FALSE),"") -> 농정해양위원회 | B59: =IFERROR(VLOOKUP($C59,[4]구분표!$A$2:$C$313,3,FALSE),"") -> 농정해양국 | C59: 친환경농업과 | D59: 본예산 | E59: 일반 | F59: 647 | G59: 517 | H59: 과수ICT분야 시설보조(기금/지원) - 과수ICT분야 시설보조(자치단체자본보조) | I59: 14000 | J59: -2000 | L59: =I59+J59+K59 -> 12000 | O59: =I59+M59+N59 -> 14000 | P59: =IF(AND((L59=0),(O59>0)),"O",IF(AND((J59<0),(L59-O59<0)),"O","X")) -> O | Q59: 국비변경내시/농림축산식품부 원예경영과-4659(2016.10.31) | U59: 국도비 | W59: 기금 | X59: -2000 | Y59: 0 | Z59: =IF(SUM($J59:$K59)=SUM($X59:$Y59),"OK","검토") -> OK | AC59: =IF($W59<>"도비",IF($U59="국도비","직접입력",SUM($M59:$N59)),) -> 직접입력 | AD59: =IF($W59="도비",SUM(M59:N59),IF($U59="국도비","직접입력",SUM(M59:N59)-AC59)) -> 직접입력 | AE59: =IF(SUM(M59:N59)=SUM(AC59:AD59),"OK","검토") -> OK | AG59: 0223-2 | AI59: =IF(AG59="","",COUNTIF($AG$6:$AG$166,AG59)) -> 1 | AJ59: =IF(W59="","",IF(AND(W59="도비",AG59="세입없음"),"OK",IF(AND(W59<>"도비",AG59<>""),"OK","@@"))) -> OK | AL59: {=IF(C59="","",INDEX(구분표!$I$2:$I$313, MATCH(1,(구분표!$E$2:$E$313='17년일출'!B59)*(구분표!$F$2:$F$313='17년일출'!C59)*(구분표!$G$2:$G$313='17년일출'!A59),0)))} -> 0223
A60: =IFERROR(VLOOKUP($C60,[4]구분표!$A$2:$C$313,2,FALSE),"") -> 농정해양위원회 | B60: =IFERROR(VLOOKUP($C60,[4]구분표!$A$2:$C$313,3,FALSE),"") -> 농정해양국 | C60: 친환경농업과 | D60: 신규 | E60: 일반 | H60: FTA폐업지원제(기금/지원) -FTA폐업지원제(자치단체경상보조금) | K60: 1811994 | L60: =I60+J60+K60 -> 1811994 | O60: =I60+M60+N60 -> 0 | P60: =IF(AND((L60=0),(O60>0)),"O",IF(AND((J60<0),(L60-O60<0)),"O","X")) -> X | Q60: 국비변경내시/농림축산식품부 원예경영과-4856(2016.11.11) | U60: 국도비 | W60: 기금 | X60: 1811994 | Y60: 0 | Z60: =IF(SUM($J60:$K60)=SUM($X60:$Y60),"OK","검토") -> OK | AC60: =IF($W60<>"도비",IF($U60="국도비","직접입력",SUM($M60:$N60)),) -> 직접입력 | AD60: =IF($W60="도비",SUM(M60:N60),IF($U60="국도비","직접입력",SUM(M60:N60)-AC60)) -> 직접입력 | AE60: =IF(SUM(M60:N60)=SUM(AC60:AD60),"OK","검토") -> OK | AG60: 0223-3 | AI60: =IF(AG60="","",COUNTIF($AG$6:$AG$166,AG60)) -> 1 | AJ60: =IF(W60="","",IF(AND(W60="도비",AG60="세입없음"),"OK",IF(AND(W60<>"도비",AG60<>""),"OK","@@"))) -> OK | AL60: {=IF(C60="","",INDEX(구분표!$I$2:$I$313, MATCH(1,(구분표!$E$2:$E$313='17년일출'!B60)*(구분표!$F$2:$F$313='17년일출'!C60)*(구분표!$G$2:$G$313='17년일출'!A60),0)))} -> 0223
A61: =IFERROR(VLOOKUP($C61,[4]구분표!$A$2:$C$313,2,FALSE),"") -> 농정해양위원회 | B61: =IFERROR(VLOOKUP($C61,[4]구분표!$A$2:$C$313,3,FALSE),"") -> 농정해양국 | C61: 수산과 | D61: 본예산 | E61: 일반 | F61: 651 | G61: 576 | H61: 어촌체험마을 사무장채용지원사업(국비/지원) -어촌체험마을 사무장채용지원(자치단체경상보조금) | I61: 72000 | J61: -36000 | L61: =I61+J61+K61 -> 36000 | O61: =I61+M61+N61 -> 72000 | P61: =IF(AND((L61=0),(O61>0)),"O",IF(AND((J61<0),(L61-O61<0)),"O","X")) -> O | Q61: 국비변경내시/해양수산부 어촌어항과-4489(2016.11.11) | U61: 국도비 | W61: 국비 | X61: -36000 | Y61: 0 | Z61: =IF(SUM($J61:$K61)=SUM($X61:$Y61),"OK","검토") -> OK | AC61: =IF($W61<>"도비",IF($U61="국도비","직접입력",SUM($M61:$N61)),) -> 직접입력 | AD61: =IF($W61="도비",SUM(M61:N61),IF($U61="국도비","직접입력",SUM(M61:N61)-AC61)) -> 직접입력 | AE61: =IF(SUM(M61:N61)=SUM(AC61:AD61),"OK","검토") -> OK | AG61: 0224-1 | AI61: =IF(AG61="","",COUNTIF($AG$6:$AG$166,AG61)) -> 1 | AJ61: =IF(W61="","",IF(AND(W61="도비",AG61="세입없음"),"OK",IF(AND(W61<>"도비",AG61<>""),"OK","@@"))) -> OK | AL61: {=IF(C61="","",INDEX(구분표!$I$2:$I$313, MATCH(1,(구분표!$E$2:$E$313='17년일출'!B61)*(구분표!$F$2:$F$313='17년일출'!C61)*(구분표!$G$2:$G$313='17년일출'!A61),0)))} -> 0224
A62: =IFERROR(VLOOKUP($C62,[4]구분표!$A$2:$C$313,2,FALSE),"") -> 농정해양위원회 | B62: =IFERROR(VLOOKUP($C62,[4]구분표!$A$2:$C$313,3,FALSE),"") -> 농정해양국 | C62: 해양수산자원연구소 | D62: 본예산 | E62: 일반 | F62: 666 | G62: 752 | H62: 이동수리소 운영(국비/직접) -어업용기자재 이동수리소 운영(민간경상사업보조) | I62: 70000 | J62: -10000 | L62: =I62+J62+K62 -> 60000 | O62: =I62+M62+N62 -> 70000 | P62: =IF(AND((L62=0),(O62>0)),"O",IF(AND((J62<0),(L62-O62<0)),"O","X")) -> O | Q62: 국비변경내시/해양수산부 소득복지과-5039(2016.11.2) | U62: 국도비 | W62: 국비 | X62: -5000 | Y62: -5000 | Z62: =IF(SUM($J62:$K62)=SUM($X62:$Y62),"OK","검토") -> OK | AC62: =IF($W62<>"도비",IF($U62="국도비","직접입력",SUM($M62:$N62)),) -> 직접입력 | AD62: =IF($W62="도비",SUM(M62:N62),IF($U62="국도비","직접입력",SUM(M62:N62)-AC62)) -> 직접입력 | AE62: =IF(SUM(M62:N62)=SUM(AC62:AD62),"OK","검토") -> OK | AG62: 0224-2 | AI62: =IF(AG62="","",COUNTIF($AG$6:$AG$166,AG62)) -> 1 | AJ62: =IF(W62="","",IF(AND(W62="도비",AG62="세입없음"),"OK",IF(AND(W62<>"도비",AG62<>""),"OK","@@"))) -> OK | AL62: {=IF(C62="","",INDEX(구분표!$I$2:$I$313, MATCH(1,(구분표!$E$2:$E$313='17년일출'!B62)*(구분표!$F$2:$F$313='17년일출'!C62)*(구분표!$G$2:$G$313='17년일출'!A62),0)))} -> 0225
A63: =IFERROR(VLOOKUP($C63,[4]구분표!$A$2:$C$313,2,FALSE),"") -> 농정해양위원회 | B63: =IFERROR(VLOOKUP($C63,[4]구분표!$A$2:$C$313,3,FALSE),"") -> 농정해양국 | C63: 해양수산자원연구소 | D63: 본예산 | E63: 일반 | F63: 666 | G63: 740 | H63: 연구교습어장(국비/직접) -연구교습어장 시험연구보조인건비(기간제근로자등보수) | I63: 1266 | J63: -1266 | L63: =I63+J63+K63 -> 0 | O63: =I63+M63+N63 -> 1266 | P63: =IF(AND((L63=0),(O63>0)),"O",IF(AND((J63<0),(L63-O63<0)),"O","X")) -> O | Q63: 국비변경내시/해양수산부 소득복지과-4870(2016.10.24) | U63: 국도비 | W63: 국비 | X63: -700 | Y63: -566 | Z63: =IF(SUM($J63:$K63)=SUM($X63:$Y63),"OK","검토") -> OK | AC63: =IF($W63<>"도비",IF($U63="국도비","직접입력",SUM($M63:$N63)),) -> 직접입력 | AD63: =IF($W63="도비",SUM(M63:N63),IF($U63="국도비","직접입력",SUM(M63:N63)-AC63)) -> 직접입력 | AE63: =IF(SUM(M63:N63)=SUM(AC63:AD63),"OK","검토") -> OK | AG63: 0224-3 | AI63: =IF(AG63="","",COUNTIF($AG$6:$AG$166,AG63)) -> 2 | AJ63: =IF(W63="","",IF(AND(W63="도비",AG63="세입없음"),"OK",IF(AND(W63<>"도비",AG63<>""),"OK","@@"))) -> OK | AL63: {=IF(C63="","",INDEX(구분표!$I$2:$I$313, MATCH(1,(구분표!$E$2:$E$313='17년일출'!B63)*(구분표!$F$2:$F$313='17년일출'!C63)*(구분표!$G$2:$G$313='17년일출'!A63),0)))} -> 0225
A64: =IFERROR(VLOOKUP($C64,[4]구분표!$A$2:$C$313,2,FALSE),"") -> 농정해양위원회 | B64: =IFERROR(VLOOKUP($C64,[4]구분표!$A$2:$C$313,3,FALSE),"") -> 농정해양국 | C64: 해양수산자원연구소 | D64: 본예산 | E64: 일반 | F64: 666 | G64: 740 | H64: 연구교습어장(국비/직접) -연구교습어장 시험연구비(시험연구비) | I64: 36000 | J64: -9000 | L64: =I64+J64+K64 -> 27000 | O64: =I64+M64+N64 -> 36000 | P64: =IF(AND((L64=0),(O64>0)),"O",IF(AND((J64<0),(L64-O64<0)),"O","X")) -> O | Q64: 국비변경내시/해양수산부 소득복지과-4870(2016.10.24) | U64: 국도비 | W64: 국비 | X64: -6300 | Y64: -2700 | Z64: =IF(SUM($J64:$K64)=SUM($X64:$Y64),"OK","검토") -> OK | AC64: =IF($W64<>"도비",IF($U64="국도비","직접입력",SUM($M64:$N64)),) -> 직접입력 | AD64: =IF($W64="도비",SUM(M64:N64),IF($U64="국도비","직접입력",SUM(M64:N64)-AC64)) -> 직접입력 | AE64: =IF(SUM(M64:N64)=SUM(AC64:AD64),"OK","검토") -> OK | AG64: 0224-3 | AI64: =IF(AG64="","",COUNTIF($AG$6:$AG$166,AG64)) -> 2 | AJ64: =IF(W64="","",IF(AND(W64="도비",AG64="세입없음"),"OK",IF(AND(W64<>"도비",AG64<>""),"OK","@@"))) -> OK | AL64: {=IF(C64="","",INDEX(구분표!$I$2:$I$313, MATCH(1,(구분표!$E$2:$E$313='17년일출'!B64)*(구분표!$F$2:$F$313='17년일출'!C64)*(구분표!$G$2:$G$313='17년일출'!A64),0)))} -> 0225
A65: =IFERROR(VLOOKUP($C65,[4]구분표!$A$2:$C$313,2,FALSE),"") -> 농정해양위원회 | B65: =IFERROR(VLOOKUP($C65,[4]구분표!$A$2:$C$313,3,FALSE),"") -> 농정해양국 | C65: 농업정책과 | D65: 본예산 | E65: 일반 | F65: 624 | G65: 146 | H65: 지역단위 6차산업 활성화 지원(국비/직접) - 6차산업화 지원프로그램 운영지원(공기관등에대한경상적대행사업비) | I65: 1250000 | J65: -120000 | L65: =I65+J65+K65 -> 1130000 | O65: =I65+M65+N65 -> 1250000 | P65: =IF(AND((L65=0),(O65>0)),"O",IF(AND((J65<0),(L65-O65<0)),"O","X")) -> O | Q65: 국비변경내시/농림축산식품부 농촌산업과-4447(2016.11.17) | U65: 국도비 | W65: 국비 | X65: -60000 | Y65: -60000 | Z65: =IF(SUM($J65:$K65)=SUM($X65:$Y65),"OK","검토") -> OK | AC65: =IF($W65<>"도비",IF($U65="국도비","직접입력",SUM($M65:$N65)),) -> 직접입력 | AD65: =IF($W65="도비",SUM(M65:N65),IF($U65="국도비","직접입력",SUM(M65:N65)-AC65)) -> 직접입력 | AE65: =IF(SUM(M65:N65)=SUM(AC65:AD65),"OK","검토") -> OK | AG65: 0220-2 | AI65: =IF(AG65="","",COUNTIF($AG$6:$AG$166,AG65)) -> 2 | AJ65: =IF(W65="","",IF(AND(W65="도비",AG65="세입없음"),"OK",IF(AND(W65<>"도비",AG65<>""),"OK","@@"))) -> OK | AL65: {=IF(C65="","",INDEX(구분표!$I$2:$I$313, MATCH(1,(구분표!$E$2:$E$313='17년일출'!B65)*(구분표!$F$2:$F$313='17년일출'!C65)*(구분표!$G$2:$G$313='17년일출'!A65),0)))} -> 0220
A66: =IFERROR(VLOOKUP($C66,[4]구분표!$A$2:$C$313,2,FALSE),"") -> 농정해양위원회 | B66: =IFERROR(VLOOKUP($C66,[4]구분표!$A$2:$C$313,3,FALSE),"") -> 농정해양국 | C66: 농업정책과 | D66: 본예산 | E66: 일반 | F66: 624 | G66: 149 | H66: 지역단위 6차산업 활성화 지원(국비/지원) -지역컨소시엄 사업(자치단체경상보조금) | I66: 75000 | K66: 150000 | L66: =I66+J66+K66 -> 225000 | O66: =I66+M66+N66 -> 75000 | P66: =IF(AND((L66=0),(O66>0)),"O",IF(AND((J66<0),(L66-O66<0)),"O","X")) -> X | Q66: 국비변경내시/농림축산식품부 농촌산업과-4447(2016.11.17) | U66: 국도비 | W66: 국비 | X66: 150000 | Y66: 0 | Z66: =IF(SUM($J66:$K66)=SUM($X66:$Y66),"OK","검토") -> OK | AC66: =IF($W66<>"도비",IF($U66="국도비","직접입력",SUM($M66:$N66)),) -> 직접입력 | AD66: =IF($W66="도비",SUM(M66:N66),IF($U66="국도비","직접입력",SUM(M66:N66)-AC66)) -> 직접입력 | AE66: =IF(SUM(M66:N66)=SUM(AC66:AD66),"OK","검토") -> OK | AG66: 0220-2 | AI66: =IF(AG66="","",COUNTIF($AG$6:$AG$166,AG66)) -> 2 | AJ66: =IF(W66="","",IF(AND(W66="도비",AG66="세입없음"),"OK",IF(AND(W66<>"도비",AG66<>""),"OK","@@"))) -> OK | AL66: {=IF(C66="","",INDEX(구분표!$I$2:$I$313, MATCH(1,(구분표!$E$2:$E$313='17년일출'!B66)*(구분표!$F$2:$F$313='17년일출'!C66)*(구분표!$G$2:$G$313='17년일출'!A66),0)))} -> 0220
A67: =IFERROR(VLOOKUP($C67,[4]구분표!$A$2:$C$313,2,FALSE),"") -> 농정해양위원회 | B67: =IFERROR(VLOOKUP($C67,[4]구분표!$A$2:$C$313,3,FALSE),"") -> 축산산림국 | C67: 축산정책과 | D67: 본예산 | E67: 일반 | F67: 690 | G67: 39 | H67: 가축분뇨액비살포비지원(기금/지원) -가축분뇨액비살포 지원(자치단체경상보조금) | I67: 690000 | K67: 92000 | L67: =I67+J67+K67 -> 782000 | O67: =I67+M67+N67 -> 690000 | P67: =IF(AND((L67=0),(O67>0)),"O",IF(AND((J67<0),(L67-O67<0)),"O","X")) -> X | Q67: 국비변경내시/농림축산식품부 친환경축산팀-4656('16.11.4) | U67: 국도비 | W67: 기금 | X67: 80000 | Y67: 12000 | Z67: =IF(SUM($J67:$K67)=SUM($X67:$Y67),"OK","검토") -> OK | AC67: =IF($W67<>"도비",IF($U67="국도비","직접입력",SUM($M67:$N67)),) -> 직접입력 | AD67: =IF($W67="도비",SUM(M67:N67),IF($U67="국도비","직접입력",SUM(M67:N67)-AC67)) -> 직접입력 | AE67: =IF(SUM(M67:N67)=SUM(AC67:AD67),"OK","검토") -> OK | AG67: 0227-1 | AI67: =IF(AG67="","",COUNTIF($AG$6:$AG$92,AG67)) -> 1 | AJ67: =IF(W67="","",IF(AND(W67="도비",AG67="세입없음"),"OK",IF(AND(W67<>"도비",AG67<>""),"OK","@@"))) -> OK | AL67: {=IF(C67="","",INDEX(구분표!$I$2:$I$313, MATCH(1,(구분표!$E$2:$E$313='17년일출'!B67)*(구분표!$F$2:$F$313='17년일출'!C67)*(구분표!$G$2:$G$313='17년일출'!A67),0)))} -> 0227
A68: =IFERROR(VLOOKUP($C68,[4]구분표!$A$2:$C$313,2,FALSE),"") -> 농정해양위원회 | B68: =IFERROR(VLOOKUP($C68,[4]구분표!$A$2:$C$313,3,FALSE),"") -> 축산산림국 | C68: 축산정책과 | D68: 본예산 | E68: 일반 | F68: 691 | G68: 41 | H68: 가축분뇨퇴액비화지원(기금/지원) -가축분뇨 퇴액비화 지원(자치단체자본보조) | I68: 767568 | J68: -77568 | L68: =I68+J68+K68 -> 690000 | O68: =I68+M68+N68 -> 767568 | P68: =IF(AND((L68=0),(O68>0)),"O",IF(AND((J68<0),(L68-O68<0)),"O","X")) -> O | Q68: 국비변경내시/농림축산식품부 친환경축산팀-4656('16.11.4) | U68: 국도비 | W68: 기금 | X68: -67450 | Y68: -10118 | Z68: =IF(SUM($J68:$K68)=SUM($X68:$Y68),"OK","검토") -> OK | AC68: =IF($W68<>"도비",IF($U68="국도비","직접입력",SUM($M68:$N68)),) -> 직접입력 | AD68: =IF($W68="도비",SUM(M68:N68),IF($U68="국도비","직접입력",SUM(M68:N68)-AC68)) -> 직접입력 | AE68: =IF(SUM(M68:N68)=SUM(AC68:AD68),"OK","검토") -> OK | AG68: 0227-2 | AI68: =IF(AG68="","",COUNTIF($AG$6:$AG$92,AG68)) -> 1 | AJ68: =IF(W68="","",IF(AND(W68="도비",AG68="세입없음"),"OK",IF(AND(W68<>"도비",AG68<>""),"OK","@@"))) -> OK | AL68: {=IF(C68="","",INDEX(구분표!$I$2:$I$313, MATCH(1,(구분표!$E$2:$E$313='17년일출'!B68)*(구분표!$F$2:$F$313='17년일출'!C68)*(구분표!$G$2:$G$313='17년일출'!A68),0)))} -> 0227
A69: =IFERROR(VLOOKUP($C69,[4]구분표!$A$2:$C$313,2,FALSE),"") -> 농정해양위원회 | B69: =IFERROR(VLOOKUP($C69,[4]구분표!$A$2:$C$313,3,FALSE),"") -> 축산산림국 | C69: 축산정책과 | D69: 본예산 | E69: 일반 | F69: 691 | G69: 43 | H69: 가축분뇨정화개보수지원(기금/지원) -가축분뇨 정화개보수 지원(자치단체자본보조) | I69: 568100 | J69: -338100 | L69: =I69+J69+K69 -> 230000 | O69: =I69+M69+N69 -> 568100 | P69: =IF(AND((L69=0),(O69>0)),"O",IF(AND((J69<0),(L69-O69<0)),"O","X")) -> O | Q69: 국비변경내시/농림축산식품부 친환경축산팀-4656('16.11.4) | U69: 국도비 | W69: 기금 | X69: -294000 | Y69: -44100 | Z69: =IF(SUM($J69:$K69)=SUM($X69:$Y69),"OK","검토") -> OK | AC69: =IF($W69<>"도비",IF($U69="국도비","직접입력",SUM($M69:$N69)),) -> 직접입력 | AD69: =IF($W69="도비",SUM(M69:N69),IF($U69="국도비","직접입력",SUM(M69:N69)-AC69)) -> 직접입력 | AE69: =IF(SUM(M69:N69)=SUM(AC69:AD69),"OK","검토") -> OK | AG69: 0227-3 | AI69: =IF(AG69="","",COUNTIF($AG$6:$AG$92,AG69)) -> 1 | AJ69: =IF(W69="","",IF(AND(W69="도비",AG69="세입없음"),"OK",IF(AND(W69<>"도비",AG69<>""),"OK","@@"))) -> OK | AL69: {=IF(C69="","",INDEX(구분표!$I$2:$I$313, MATCH(1,(구분표!$E$2:$E$313='17년일출'!B69)*(구분표!$F$2:$F$313='17년일출'!C69)*(구분표!$G$2:$G$313='17년일출'!A69),0)))} -> 0227
A70: =IFERROR(VLOOKUP($C70,[4]구분표!$A$2:$C$313,2,FALSE),"") -> 농정해양위원회 | B70: =IFERROR(VLOOKUP($C70,[4]구분표!$A$2:$C$313,3,FALSE),"") -> 축산산림국 | C70: 축산정책과 | D70: 본예산 | E70: 일반 | F70: 691 | G70: 45 | H70: 공동자원화퇴액비시설장비지원(기금/지원) -공동자원화 퇴액비 시설장비 지원(자치단체자본보조) | I70: 41400 | J70: -41400 | L70: =I70+J70+K70 -> 0 | Q70: 국비변경내시/농림축산식품부 친환경축산팀-4656('16.11.4) | U70: 국도비 | W70: 기금 | X70: -36000 | Y70: -5400 | Z70: =IF(SUM($J70:$K70)=SUM($X70:$Y70),"OK","검토") -> OK | AC70: =IF($W70<>"도비",IF($U70="국도비","직접입력",SUM($M70:$N70)),) -> 직접입력 | AD70: =IF($W70="도비",SUM(M70:N70),IF($U70="국도비","직접입력",SUM(M70:N70)-AC70)) -> 직접입력 | AE70: =IF(SUM(M70:N70)=SUM(AC70:AD70),"OK","검토") -> OK | AG70: 0227-4 | AI70: =IF(AG70="","",COUNTIF($AG$6:$AG$92,AG70)) -> 1 | AJ70: =IF(W70="","",IF(AND(W70="도비",AG70="세입없음"),"OK",IF(AND(W70<>"도비",AG70<>""),"OK","@@"))) -> OK | AL70: {=IF(C70="","",INDEX(구분표!$I$2:$I$313, MATCH(1,(구분표!$E$2:$E$313='17년일출'!B70)*(구분표!$F$2:$F$313='17년일출'!C70)*(구분표!$G$2:$G$313='17년일출'!A70),0)))} -> 0227
A71: =IFERROR(VLOOKUP($C71,[4]구분표!$A$2:$C$313,2,FALSE),"") -> 농정해양위원회 | B71: =IFERROR(VLOOKUP($C71,[4]구분표!$A$2:$C$313,3,FALSE),"") -> 축산산림국 | C71: 축산정책과 | D71: 본예산 | E71: 일반 | F71: 692 | G71: 49 | H71: 액비저장조지원(기금/지원) -액비저장조 지원(자치단체자본보조) | I71: 920975 | J71: -644600 | L71: =I71+J71+K71 -> 276375 | Q71: 국비변경내시/농림축산식품부 친환경축산팀-4656('16.11.4) | U71: 국도비 | W71: 기금 | X71: -468800 | Y71: -175800 | Z71: =IF(SUM($J71:$K71)=SUM($X71:$Y71),"OK","검토") -> OK | AC71: =IF($W71<>"도비",IF($U71="국도비","직접입력",SUM($M71:$N71)),) -> 직접입력 | AD71: =IF($W71="도비",SUM(M71:N71),IF($U71="국도비","직접입력",SUM(M71:N71)-AC71)) -> 직접입력 | AE71: =IF(SUM(M71:N71)=SUM(AC71:AD71),"OK","검토") -> OK | AG71: 0227-5 | AI71: =IF(AG71="","",COUNTIF($AG$6:$AG$92,AG71)) -> 1 | AJ71: =IF(W71="","",IF(AND(W71="도비",AG71="세입없음"),"OK",IF(AND(W71<>"도비",AG71<>""),"OK","@@"))) -> OK | AL71: {=IF(C71="","",INDEX(구분표!$I$2:$I$313, MATCH(1,(구분표!$E$2:$E$313='17년일출'!B71)*(구분표!$F$2:$F$313='17년일출'!C71)*(구분표!$G$2:$G$313='17년일출'!A71),0)))} -> 0227
A72: =IFERROR(VLOOKUP($C72,[4]구분표!$A$2:$C$313,2,FALSE),"") -> 농정해양위원회 | B72: =IFERROR(VLOOKUP($C72,[4]구분표!$A$2:$C$313,3,FALSE),"") -> 축산산림국 | C72: 축산정책과 | D72: 본예산 | E72: 일반 | F72: 692 | G72: 53 | H72: 가축분뇨부숙도판정기지원(기금/지원) -가축분뇨 부숙도판정기 지원(자치단체자본보조) | I72: 48300 | J72: -17250 | L72: =I72+J72+K72 -> 31050 | Q72: 국비변경내시/농림축산식품부 친환경축산팀-4656('16.11.4) | U72: 국도비 | W72: 기금 | X72: -15000 | Y72: -2250 | Z72: =IF(SUM($J72:$K72)=SUM($X72:$Y72),"OK","검토") -> OK | AC72: =IF($W72<>"도비",IF($U72="국도비","직접입력",SUM($M72:$N72)),) -> 직접입력 | AD72: =IF($W72="도비",SUM(M72:N72),IF($U72="국도비","직접입력",SUM(M72:N72)-AC72)) -> 직접입력 | AE72: =IF(SUM(M72:N72)=SUM(AC72:AD72),"OK","검토") -> OK | AG72: 0227-6 | AI72: =IF(AG72="","",COUNTIF($AG$6:$AG$92,AG72)) -> 1 | AJ72: =IF(W72="","",IF(AND(W72="도비",AG72="세입없음"),"OK",IF(AND(W72<>"도비",AG72<>""),"OK","@@"))) -> OK | AL72: {=IF(C72="","",INDEX(구분표!$I$2:$I$313, MATCH(1,(구분표!$E$2:$E$313='17년일출'!B72)*(구분표!$F$2:$F$313='17년일출'!C72)*(구분표!$G$2:$G$313='17년일출'!A72),0)))} -> 0227
A73: =IFERROR(VLOOKUP($C73,[4]구분표!$A$2:$C$313,2,FALSE),"") -> 농정해양위원회 | B73: =IFERROR(VLOOKUP($C73,[4]구분표!$A$2:$C$313,3,FALSE),"") -> 축산산림국 | C73: 축산정책과 | D73: 신규 | E73: 일반 | H73: 정착촌가축분뇨처리시설장비지원(기금/지원) -정착촌 가축분뇨처리 시설장비 지원(자치단체자본보조) | K73: 70850 | L73: =I73+J73+K73 -> 70850 | Q73: 국비변경내시/농림축산식품부 친환경축산팀-4656('16.11.4) | U73: 국도비 | W73: 기금 | X73: 65000 | Y73: 5850 | Z73: =IF(SUM($J73:$K73)=SUM($X73:$Y73),"OK","검토") -> OK | AC73: =IF($W73<>"도비",IF($U73="국도비","직접입력",SUM($M73:$N73)),) -> 직접입력 | AD73: =IF($W73="도비",SUM(M73:N73),IF($U73="국도비","직접입력",SUM(M73:N73)-AC73)) -> 직접입력 | AE73: =IF(SUM(M73:N73)=SUM(AC73:AD73),"OK","검토") -> OK | AG73: 0227-7 | AI73: =IF(AG73="","",COUNTIF($AG$6:$AG$92,AG73)) -> 1 | AJ73: =IF(W73="","",IF(AND(W73="도비",AG73="세입없음"),"OK",IF(AND(W73<>"도비",AG73<>""),"OK","@@"))) -> OK | AL73: {=IF(C73="","",INDEX(구분표!$I$2:$I$313, MATCH(1,(구분표!$E$2:$E$313='17년일출'!B73)*(구분표!$F$2:$F$313='17년일출'!C73)*(구분표!$G$2:$G$313='17년일출'!A73),0)))} -> 0227
A74: =IFERROR(VLOOKUP($C74,[4]구분표!$A$2:$C$313,2,FALSE),"") -> 농정해양위원회 | B74: =IFERROR(VLOOKUP($C74,[4]구분표!$A$2:$C$313,3,FALSE),"") -> 축산산림국 | C74: 축산정책과 | D74: 본예산 | E74: 일반 | F74: 695 | G74: 101 | H74: 전문단지조성용기계장비구입지원(기금/지원) -전문단지조성용 기계장비구입 지원(자치단체자본보조) | I74: 66000 | J74: -6000 | L74: =I74+J74+K74 -> 60000 | Q74: 국비변경내시/농림축산식품부 친환경축산팀-4594('16.11.2) | U74: 국도비 | W74: 기금 | X74: -6000 | Y74: 0 | Z74: =IF(SUM($J74:$K74)=SUM($X74:$Y74),"OK","검토") -> OK | AC74: =IF($W74<>"도비",IF($U74="국도비","직접입력",SUM($M74:$N74)),) -> 직접입력 | AD74: =IF($W74="도비",SUM(M74:N74),IF($U74="국도비","직접입력",SUM(M74:N74)-AC74)) -> 직접입력 | AE74: =IF(SUM(M74:N74)=SUM(AC74:AD74),"OK","검토") -> OK | AG74: 0227-8 | AI74: =IF(AG74="","",COUNTIF($AG$6:$AG$92,AG74)) -> 1 | AJ74: =IF(W74="","",IF(AND(W74="도비",AG74="세입없음"),"OK",IF(AND(W74<>"도비",AG74<>""),"OK","@@"))) -> OK | AL74: {=IF(C74="","",INDEX(구분표!$I$2:$I$313, MATCH(1,(구분표!$E$2:$E$313='17년일출'!B74)*(구분표!$F$2:$F$313='17년일출'!C74)*(구분표!$G$2:$G$313='17년일출'!A74),0)))} -> 0227
A75: =IFERROR(VLOOKUP($C75,[4]구분표!$A$2:$C$313,2,FALSE),"") -> 농정해양위원회 | B75: =IFERROR(VLOOKUP($C75,[4]구분표!$A$2:$C$313,3,FALSE),"") -> 축산산림국 | C75: 축산정책과 | D75: 본예산 | E75: 일반 | F75: 695 | G75: 104 | H75: 전문단지조성용사일리지제조지원(기금/지원) -전문단지조성용 사일리지제조 지원(자치단체자본보조) | I75: 248500 | J75: -98500 | L75: =I75+J75+K75 -> 150000 | Q75: 국비변경내시/농림축산식품부 친환경축산팀-4594('16.11.2) | U75: 국도비 | W75: 기금 | X75: -98500 | Y75: 0 | Z75: =IF(SUM($J75:$K75)=SUM($X75:$Y75),"OK","검토") -> OK | AC75: =IF($W75<>"도비",IF($U75="국도비","직접입력",SUM($M75:$N75)),) -> 직접입력 | AD75: =IF($W75="도비",SUM(M75:N75),IF($U75="국도비","직접입력",SUM(M75:N75)-AC75)) -> 직접입력 | AE75: =IF(SUM(M75:N75)=SUM(AC75:AD75),"OK","검토") -> OK | AG75: 0227-9 | AI75: =IF(AG75="","",COUNTIF($AG$6:$AG$92,AG75)) -> 1 | AJ75: =IF(W75="","",IF(AND(W75="도비",AG75="세입없음"),"OK",IF(AND(W75<>"도비",AG75<>""),"OK","@@"))) -> OK | AL75: {=IF(C75="","",INDEX(구분표!$I$2:$I$313, MATCH(1,(구분표!$E$2:$E$313='17년일출'!B75)*(구분표!$F$2:$F$313='17년일출'!C75)*(구분표!$G$2:$G$313='17년일출'!A75),0)))} -> 0227
A76: =IFERROR(VLOOKUP($C76,[4]구분표!$A$2:$C$313,2,FALSE),"") -> 농정해양위원회 | B76: =IFERROR(VLOOKUP($C76,[4]구분표!$A$2:$C$313,3,FALSE),"") -> 축산산림국 | C76: 축산정책과 | D76: 본예산 | E76: 일반 | F76: 695 | G76: 107 | H76: 전문단지조성용종자구입지원(기금/지원) -전문단지조성용 종자구입 지원(자치단체자본보조) | I76: 22000 | K76: 2000 | L76: =I76+J76+K76 -> 24000 | O76: =I76+M76+N76 -> 22000 | P76: =IF(AND((L76=0),(O76>0)),"O",IF(AND((J76<0),(L76-O76<0)),"O","X")) -> X | Q76: 국비변경내시/농림축산식품부 친환경축산팀-4594('16.11.2) | U76: 국도비 | W76: 기금 | X76: 2000 | Y76: 0 | Z76: =IF(SUM($J76:$K76)=SUM($X76:$Y76),"OK","검토") -> OK | AC76: =IF($W76<>"도비",IF($U76="국도비","직접입력",SUM($M76:$N76)),) -> 직접입력 | AD76: =IF($W76="도비",SUM(M76:N76),IF($U76="국도비","직접입력",SUM(M76:N76)-AC76)) -> 직접입력 | AE76: =IF(SUM(M76:N76)=SUM(AC76:AD76),"OK","검토") -> OK | AG76: 0227-10 | AI76: =IF(AG76="","",COUNTIF($AG$6:$AG$92,AG76)) -> 1 | AJ76: =IF(W76="","",IF(AND(W76="도비",AG76="세입없음"),"OK",IF(AND(W76<>"도비",AG76<>""),"OK","@@"))) -> OK | AL76: {=IF(C76="","",INDEX(구분표!$I$2:$I$313, MATCH(1,(구분표!$E$2:$E$313='17년일출'!B76)*(구분표!$F$2:$F$313='17년일출'!C76)*(구분표!$G$2:$G$313='17년일출'!A76),0)))} -> 0227
A77: =IFERROR(VLOOKUP($C77,[4]구분표!$A$2:$C$313,2,FALSE),"") -> 농정해양위원회 | B77: =IFERROR(VLOOKUP($C77,[4]구분표!$A$2:$C$313,3,FALSE),"") -> 축산산림국 | C77: 축산정책과 | D77: 본예산 | E77: 일반 | F77: 695 | G77: 110 | H77: 조사료생산용기계장비구입지원(기금/지원) -조사료생산용 기계장비구입 지원(자치단체자본보조) | I77: 120000 | K77: 45000 | L77: =I77+J77+K77 -> 165000 | Q77: 국비변경내시/농림축산식품부 친환경축산팀-4594('16.11.2) | U77: 국도비 | W77: 기금 | X77: 45000 | Y77: 0 | Z77: =IF(SUM($J77:$K77)=SUM($X77:$Y77),"OK","검토") -> OK | AC77: =IF($W77<>"도비",IF($U77="국도비","직접입력",SUM($M77:$N77)),) -> 직접입력 | AD77: =IF($W77="도비",SUM(M77:N77),IF($U77="국도비","직접입력",SUM(M77:N77)-AC77)) -> 직접입력 | AE77: =IF(SUM(M77:N77)=SUM(AC77:AD77),"OK","검토") -> OK | AG77: 0227-11 | AI77: =IF(AG77="","",COUNTIF($AG$6:$AG$92,AG77)) -> 1 | AJ77: =IF(W77="","",IF(AND(W77="도비",AG77="세입없음"),"OK",IF(AND(W77<>"도비",AG77<>""),"OK","@@"))) -> OK | AL77: {=IF(C77="","",INDEX(구분표!$I$2:$I$313, MATCH(1,(구분표!$E$2:$E$313='17년일출'!B77)*(구분표!$F$2:$F$313='17년일출'!C77)*(구분표!$G$2:$G$313='17년일출'!A77),0)))} -> 0227
A78: =IFERROR(VLOOKUP($C78,[4]구분표!$A$2:$C$313,2,FALSE),"") -> 농정해양위원회 | B78: =IFERROR(VLOOKUP($C78,[4]구분표!$A$2:$C$313,3,FALSE),"") -> 축산산림국 | C78: 축산정책과 | D78: 본예산 | E78: 일반 | F78: 696 | G78: 113 | H78: 조사료생산용사일리지제조지원(기금/지원) -조사료생산용 사일리지제조 지원(자치단체자본보조) | I78: 2216208 | K78: 283792 | L78: =I78+J78+K78 -> 2500000 | Q78: 국비변경내시/농림축산식품부 친환경축산팀-4594('16.11.2) | U78: 국도비 | W78: 기금 | X78: 283792 | Y78: 0 | Z78: =IF(SUM($J78:$K78)=SUM($X78:$Y78),"OK","검토") -> OK | AC78: =IF($W78<>"도비",IF($U78="국도비","직접입력",SUM($M78:$N78)),) -> 직접입력 | AD78: =IF($W78="도비",SUM(M78:N78),IF($U78="국도비","직접입력",SUM(M78:N78)-AC78)) -> 직접입력 | AE78: =IF(SUM(M78:N78)=SUM(AC78:AD78),"OK","검토") -> OK | AG78: 0227-12 | AI78: =IF(AG78="","",COUNTIF($AG$6:$AG$92,AG78)) -> 1 | AJ78: =IF(W78="","",IF(AND(W78="도비",AG78="세입없음"),"OK",IF(AND(W78<>"도비",AG78<>""),"OK","@@"))) -> OK | AL78: {=IF(C78="","",INDEX(구분표!$I$2:$I$313, MATCH(1,(구분표!$E$2:$E$313='17년일출'!B78)*(구분표!$F$2:$F$313='17년일출'!C78)*(구분표!$G$2:$G$313='17년일출'!A78),0)))} -> 0227
A79: =IFERROR(VLOOKUP($C79,[4]구분표!$A$2:$C$313,2,FALSE),"") -> 농정해양위원회 | B79: =IFERROR(VLOOKUP($C79,[4]구분표!$A$2:$C$313,3,FALSE),"") -> 축산산림국 | C79: 축산정책과 | D79: 본예산 | E79: 일반 | F79: 696 | G79: 116 | H79: 조사료생산용종자구입지원(기금/지원) -조사료생산용 종자구입 지원(자치단체자본보조) | I79: 620900 | K79: 39100 | L79: =I79+J79+K79 -> 660000 | Q79: 국비변경내시/농림축산식품부 친환경축산팀-4594('16.11.2) | U79: 국도비 | W79: 기금 | X79: 39100 | Y79: 0 | Z79: =IF(SUM($J79:$K79)=SUM($X79:$Y79),"OK","검토") -> OK | AC79: =IF($W79<>"도비",IF($U79="국도비","직접입력",SUM($M79:$N79)),) -> 직접입력 | AD79: =IF($W79="도비",SUM(M79:N79),IF($U79="국도비","직접입력",SUM(M79:N79)-AC79)) -> 직접입력 | AE79: =IF(SUM(M79:N79)=SUM(AC79:AD79),"OK","검토") -> OK | AG79: 0227-13 | AI79: =IF(AG79="","",COUNTIF($AG$6:$AG$92,AG79)) -> 1 | AJ79: =IF(W79="","",IF(AND(W79="도비",AG79="세입없음"),"OK",IF(AND(W79<>"도비",AG79<>""),"OK","@@"))) -> OK | AL79: {=IF(C79="","",INDEX(구분표!$I$2:$I$313, MATCH(1,(구분표!$E$2:$E$313='17년일출'!B79)*(구분표!$F$2:$F$313='17년일출'!C79)*(구분표!$G$2:$G$313='17년일출'!A79),0)))} -> 0227
A80: =IFERROR(VLOOKUP($C80,[4]구분표!$A$2:$C$313,2,FALSE),"") -> 농정해양위원회 | B80: =IFERROR(VLOOKUP($C80,[4]구분표!$A$2:$C$313,3,FALSE),"") -> 축산산림국 | C80: 축산정책과 | D80: 본예산 | E80: 일반 | F80: 696 | G80: 119 | H80: 조사료생산용볏짚처리비지원(기금/지원) -조사료생산용 볏짚처리비 지원(자치단체자본보조) | I80: 647100 | J80: -647100 | L80: =I80+J80+K80 -> 0 | Q80: 국비변경내시/농림축산식품부 친환경축산팀-4594('16.11.2) | U80: 국도비 | W80: 기금 | X80: -647100 | Y80: 0 | Z80: =IF(SUM($J80:$K80)=SUM($X80:$Y80),"OK","검토") -> OK | AC80: =IF($W80<>"도비",IF($U80="국도비","직접입력",SUM($M80:$N80)),) -> 직접입력 | AD80: =IF($W80="도비",SUM(M80:N80),IF($U80="국도비","직접입력",SUM(M80:N80)-AC80)) -> 직접입력 | AE80: =IF(SUM(M80:N80)=SUM(AC80:AD80),"OK","검토") -> OK | AG80: 0227-14 | AI80: =IF(AG80="","",COUNTIF($AG$6:$AG$92,AG80)) -> 1 | AJ80: =IF(W80="","",IF(AND(W80="도비",AG80="세입없음"),"OK",IF(AND(W80<>"도비",AG80<>""),"OK","@@"))) -> OK | AL80: {=IF(C80="","",INDEX(구분표!$I$2:$I$313, MATCH(1,(구분표!$E$2:$E$313='17년일출'!B80)*(구분표!$F$2:$F$313='17년일출'!C80)*(구분표!$G$2:$G$313='17년일출'!A80),0)))} -> 0227
A81: =IFERROR(VLOOKUP($C81,[4]구분표!$A$2:$C$313,2,FALSE),"") -> 농정해양위원회 | B81: =IFERROR(VLOOKUP($C81,[4]구분표!$A$2:$C$313,3,FALSE),"") -> 축산산림국 | C81: 축산정책과 | D81: 본예산 | E81: 일반 | F81: 696 | G81: 122 | H81: 조사료가공유통시설지원(기금/지원) -조사료 가공유통시설 지원(자치단체자본보조) | I81: 74000 | J81: -11000 | L81: =I81+J81+K81 -> 63000 | O81: =I81+M81+N81 -> 74000 | P81: =IF(AND((L81=0),(O81>0)),"O",IF(AND((J81<0),(L81-O81<0)),"O","X")) -> O | Q81: 국비변경내시/농림축산식품부 친환경축산팀-4594('16.11.2) | U81: 국도비 | W81: 기금 | X81: -11000 | Y81: 0 | Z81: =IF(SUM($J81:$K81)=SUM($X81:$Y81),"OK","검토") -> OK | AC81: =IF($W81<>"도비",IF($U81="국도비","직접입력",SUM($M81:$N81)),) -> 직접입력 | AD81: =IF($W81="도비",SUM(M81:N81),IF($U81="국도비","직접입력",SUM(M81:N81)-AC81)) -> 직접입력 | AE81: =IF(SUM(M81:N81)=SUM(AC81:AD81),"OK","검토") -> OK | AG81: 0227-15 | AI81: =IF(AG81="","",COUNTIF($AG$6:$AG$92,AG81)) -> 1 | AJ81: =IF(W81="","",IF(AND(W81="도비",AG81="세입없음"),"OK",IF(AND(W81<>"도비",AG81<>""),"OK","@@"))) -> OK | AL81: {=IF(C81="","",INDEX(구분표!$I$2:$I$313, MATCH(1,(구분표!$E$2:$E$313='17년일출'!B81)*(구분표!$F$2:$F$313='17년일출'!C81)*(구분표!$G$2:$G$313='17년일출'!A81),0)))} -> 0227
A82: =IFERROR(VLOOKUP($C82,[4]구분표!$A$2:$C$313,2,FALSE),"") -> 농정해양위원회 | B82: =IFERROR(VLOOKUP($C82,[4]구분표!$A$2:$C$313,3,FALSE),"") -> 축산산림국 | C82: 축산정책과 | D82: 본예산 | E82: 일반 | F82: 696 | G82: 125 | H82: 조사료품질관리지원(기금/지원) -조사료 품질관리 지원(자치단체자본보조) | I82: 83240 | J82: -62640 | L82: =I82+J82+K82 -> 20600 | O82: =I82+M82+N82 -> 83240 | P82: =IF(AND((L82=0),(O82>0)),"O",IF(AND((J82<0),(L82-O82<0)),"O","X")) -> O | Q82: 국비변경내시/농림축산식품부 친환경축산팀-4594('16.11.2) | U82: 국도비 | W82: 기금 | X82: -62640 | Y82: 0 | Z82: =IF(SUM($J82:$K82)=SUM($X82:$Y82),"OK","검토") -> OK | AC82: =IF($W82<>"도비",IF($U82="국도비","직접입력",SUM($M82:$N82)),) -> 직접입력 | AD82: =IF($W82="도비",SUM(M82:N82),IF($U82="국도비","직접입력",SUM(M82:N82)-AC82)) -> 직접입력 | AE82: =IF(SUM(M82:N82)=SUM(AC82:AD82),"OK","검토") -> OK | AG82: 0227-16 | AI82: =IF(AG82="","",COUNTIF($AG$6:$AG$92,AG82)) -> 1 | AJ82: =IF(W82="","",IF(AND(W82="도비",AG82="세입없음"),"OK",IF(AND(W82<>"도비",AG82<>""),"OK","@@"))) -> OK | AL82: {=IF(C82="","",INDEX(구분표!$I$2:$I$313, MATCH(1,(구분표!$E$2:$E$313='17년일출'!B82)*(구분표!$F$2:$F$313='17년일출'!C82)*(구분표!$G$2:$G$313='17년일출'!A82),0)))} -> 0227
A83: =IFERROR(VLOOKUP($C83,[4]구분표!$A$2:$C$313,2,FALSE),"") -> 농정해양위원회 | B83: =IFERROR(VLOOKUP($C83,[4]구분표!$A$2:$C$313,3,FALSE),"") -> 축산산림국 | C83: 동물방역위생과 | D83: 신규 | E83: 일반 | H83: 공익신고 보상금 상환(자체/직접) -공익신고 보상금 상환(기타보상금) | K83: 3600 | L83: =I83+J83+K83 -> 3600 | O83: =I83+M83+N83 -> 0 | P83: =IF(AND((L83=0),(O83>0)),"O",IF(AND((J83<0),(L83-O83<0)),"O","X")) -> X | Q83: 공익신고 보상금 상환금 납입통보(의안번호 제2016-764호) 국민권익위원회 공익보호지원과-6139 (2016.11.14) | U83: 도비 | W83: 도비 | X83: =IF($W83<>"도비",IF($U83="국도비","직접입력",SUM($J83:$K83)),) -> 0 | Y83: =IF($W83="도비",SUM($J83:$K83),IF($U83="국도비","직접입력",SUM($J83:$K83)-$X83)) -> 3600 | Z83: =IF(SUM($J83:$K83)=SUM($X83:$Y83),"OK","검토") -> OK | AC83: =IF($W83<>"도비",IF($U83="국도비","직접입력",SUM($M83:$N83)),) -> 0 | AD83: =IF($W83="도비",SUM(M83:N83),IF($U83="국도비","직접입력",SUM(M83:N83)-AC83)) -> 0 | AE83: =IF(SUM(M83:N83)=SUM(AC83:AD83),"OK","검토") -> OK | AG83: =IF(W83="","",IF(W83="도비","세입없음","직접입력")) -> 세입없음 | AI83: =IF(AG83="","",COUNTIF($AG$6:$AG$92,AG83)) -> 52 | AJ83: =IF(W83="","",IF(AND(W83="도비",AG83="세입없음"),"OK",IF(AND(W83<>"도비",AG83<>""),"OK","@@"))) -> OK | AL83: {=IF(C83="","",INDEX(구분표!$I$2:$I$313, MATCH(1,(구분표!$E$2:$E$313='17년일출'!B83)*(구분표!$F$2:$F$313='17년일출'!C83)*(구분표!$G$2:$G$313='17년일출'!A83),0)))} -> 0228
A84: =IFERROR(VLOOKUP($C84,[4]구분표!$A$2:$C$313,2,FALSE),"") -> 농정해양위원회 | B84: =IFERROR(VLOOKUP($C84,[4]구분표!$A$2:$C$313,3,FALSE),"") -> 축산산림국 | C84: 산림과 | D84: 신규 | E84: 일반 | H84: 산림작물생산단지(국비/지원) -산림작물생산단지(자치단체자본보조) | K84: 594936 | L84: =I84+J84+K84 -> 594936 | O84: =I84+M84+N84 -> 0 | P84: =IF(AND((L84=0),(O84>0)),"O",IF(AND((J84<0),(L84-O84<0)),"O","X")) -> X | Q84: 국비변경내시 (산림청 사유림경영소득과-4361(2016.10.27.호)) | U84: 국도비 | W84: 국비 | X84: 466624 | Y84: 128312 | Z84: =IF(SUM($J84:$K84)=SUM($X84:$Y84),"OK","검토") -> OK | AC84: =IF($W84<>"도비",IF($U84="국도비","직접입력",SUM($M84:$N84)),) -> 직접입력 | AD84: =IF($W84="도비",SUM(M84:N84),IF($U84="국도비","직접입력",SUM(M84:N84)-AC84)) -> 직접입력 | AE84: =IF(SUM(M84:N84)=SUM(AC84:AD84),"OK","검토") -> OK | AG84: 0229-1 | AI84: =IF(AG84="","",COUNTIF($AG$6:$AG$92,AG84)) -> 1 | AJ84: =IF(W84="","",IF(AND(W84="도비",AG84="세입없음"),"OK",IF(AND(W84<>"도비",AG84<>""),"OK","@@"))) -> OK | AL84: {=IF(C84="","",INDEX(구분표!$I$2:$I$313, MATCH(1,(구분표!$E$2:$E$313='17년일출'!B84)*(구분표!$F$2:$F$313='17년일출'!C84)*(구분표!$G$2:$G$313='17년일출'!A84),0)))} -> 0229
A85: =IFERROR(VLOOKUP($C85,[4]구분표!$A$2:$C$313,2,FALSE),"") -> 농정해양위원회 | B85: =IFERROR(VLOOKUP($C85,[4]구분표!$A$2:$C$313,3,FALSE),"") -> 축산산림국 | C85: 산림과 | D85: 신규 | E85: 일반 | H85: 산림복합경영단지(국비/지원) -산림복합경영단지(자치단체자본보조) | K85: 858871 | L85: =I85+J85+K85 -> 858871 | O85: =I85+M85+N85 -> 0 | P85: =IF(AND((L85=0),(O85>0)),"O",IF(AND((J85<0),(L85-O85<0)),"O","X")) -> X | Q85: 국비변경내시 (산림청 사유림경영소득과-4361(2016.10.27.호)) | U85: 국도비 | W85: 국비 | X85: 572580 | Y85: 286291 | Z85: =IF(SUM($J85:$K85)=SUM($X85:$Y85),"OK","검토") -> OK | AC85: =IF($W85<>"도비",IF($U85="국도비","직접입력",SUM($M85:$N85)),) -> 직접입력 | AD85: =IF($W85="도비",SUM(M85:N85),IF($U85="국도비","직접입력",SUM(M85:N85)-AC85)) -> 직접입력 | AE85: =IF(SUM(M85:N85)=SUM(AC85:AD85),"OK","검토") -> OK | AG85: 0229-2 | AI85: =IF(AG85="","",COUNTIF($AG$6:$AG$92,AG85)) -> 1 | AJ85: =IF(W85="","",IF(AND(W85="도비",AG85="세입없음"),"OK",IF(AND(W85<>"도비",AG85<>""),"OK","@@"))) -> OK | AL85: {=IF(C85="","",INDEX(구분표!$I$2:$I$313, MATCH(1,(구분표!$E$2:$E$313='17년일출'!B85)*(구분표!$F$2:$F$313='17년일출'!C85)*(구분표!$G$2:$G$313='17년일출'!A85),0)))} -> 0229
A86: =IFERROR(VLOOKUP($C86,[4]구분표!$A$2:$C$313,2,FALSE),"") -> 농정해양위원회 | B86: =IFERROR(VLOOKUP($C86,[4]구분표!$A$2:$C$313,3,FALSE),"") -> 축산산림국 | C86: 동물위생시험소 | D86: 본예산 | E86: 일반 | F86: 740 | G86: 453 | H86: 업무추진비 - 동물위생시험소(본소 등 2팀) 9,600,000원 동물위생시험소(동부지소 등 3팀) 7,200,000원 | I86: 16800 | L86: =I86+J86+K86 -> 16800 | O86: =I86+M86+N86 -> 16800 | P86: =IF(AND((L86=0),(O86>0)),"O",IF(AND((J86<0),(L86-O86<0)),"O","X")) -> X | Q86: 부기명 변경 | U86: 도비 | W86: 도비 | Z86: =IF(SUM($J86:$K86)=SUM($X86:$Y86),"OK","검토") -> OK | AG86: 세입없음 | AI86: =IF(AG86="","",COUNTIF($AG$6:$AG$92,AG86)) -> 52 | AJ86: =IF(W86="","",IF(AND(W86="도비",AG86="세입없음"),"OK",IF(AND(W86<>"도비",AG86<>""),"OK","@@"))) -> OK
A87: =IFERROR(VLOOKUP($C87,[4]구분표!$A$2:$C$313,2,FALSE),"") -> 농정해양위원회 | B87: =IFERROR(VLOOKUP($C87,[4]구분표!$A$2:$C$313,3,FALSE),"") -> 축산산림국 | C87: 북부동물위생시험소 | D87: 본예산 | E87: 일반 | F87: 745 | G87: 474 | H87: 축산물위생검사기관 운영비 지원(기금/직접) - 원료축산물 검사재료비(재료비) | I87: 45000 | K87: 40000 | L87: =I87+J87+K87 -> 85000 | O87: =I87+M87+N87 -> 45000 | P87: =IF(AND((L87=0),(O87>0)),"O",IF(AND((J87<0),(L87-O87<0)),"O","X")) -> X | Q87: 국비변경내시 (농림축산식품부 방역관리과-6979(2016.10.21.호)) | U87: 국도비 | W87: 기금 | X87: 40000 | Y87: 0 | Z87: =IF(SUM($J87:$K87)=SUM($X87:$Y87),"OK","검토") -> OK | AC87: =IF($W87<>"도비",IF($U87="국도비","직접입력",SUM($M87:$N87)),) -> 직접입력 | AD87: =IF($W87="도비",SUM(M87:N87),IF($U87="국도비","직접입력",SUM(M87:N87)-AC87)) -> 직접입력 | AE87: =IF(SUM(M87:N87)=SUM(AC87:AD87),"OK","검토") -> OK | AG87: 0228-1 | AI87: =IF(AG87="","",COUNTIF($AG$6:$AG$92,AG87)) -> 1 | AJ87: =IF(W87="","",IF(AND(W87="도비",AG87="세입없음"),"OK",IF(AND(W87<>"도비",AG87<>""),"OK","@@"))) -> OK | AL87: {=IF(C87="","",INDEX(구분표!$I$2:$I$313, MATCH(1,(구분표!$E$2:$E$313='17년일출'!B87)*(구분표!$F$2:$F$313='17년일출'!C87)*(구분표!$G$2:$G$313='17년일출'!A87),0)))} -> 0231
A88: =IFERROR(VLOOKUP($C88,[4]구분표!$A$2:$C$313,2,FALSE),"") -> 농정해양위원회 | B88: =IFERROR(VLOOKUP($C88,[4]구분표!$A$2:$C$313,3,FALSE),"") -> 축산산림국 | C88: 축산진흥센터 | D88: 신규 | E88: 일반 | F88: 0 | H88: 한우젖소개량 경상지원(자치단체)(기금/직접) - 수정란 생산 재료비(재료비) | K88: 26500 | L88: =I88+J88+K88 -> 26500 | O88: =I88+M88+N88 -> 0 | P88: =IF(AND((L88=0),(O88>0)),"O",IF(AND((J88<0),(L88-O88<0)),"O","X")) -> X | Q88: 국비변경내시 (농림축산식품부 축산경영과-4267(2016.11.1)호 | U88: 국도비 | W88: 기금 | X88: 13250 | Y88: 13250 | Z88: =IF(SUM($J88:$K88)=SUM($X88:$Y88),"OK","검토") -> OK | AC88: =IF($W88<>"도비",IF($U88="국도비","직접입력",SUM($M88:$N88)),) -> 직접입력 | AD88: =IF($W88="도비",SUM(M88:N88),IF($U88="국도비","직접입력",SUM(M88:N88)-AC88)) -> 직접입력 | AE88: =IF(SUM(M88:N88)=SUM(AC88:AD88),"OK","검토") -> OK | AG88: 0233-1 | AI88: =IF(AG88="","",COUNTIF($AG$6:$AG$92,AG88)) -> 3 | AJ88: =IF(W88="","",IF(AND(W88="도비",AG88="세입없음"),"OK",IF(AND(W88<>"도비",AG88<>""),"OK","@@"))) -> OK | AL88: {=IF(C88="","",INDEX(구분표!$I$2:$I$313, MATCH(1,(구분표!$E$2:$E$313='17년일출'!B88)*(구분표!$F$2:$F$313='17년일출'!C88)*(구분표!$G$2:$G$313='17년일출'!A88),0)))} -> 0233
A89: =IFERROR(VLOOKUP($C89,[4]구분표!$A$2:$C$313,2,FALSE),"") -> 농정해양위원회 | B89: =IFERROR(VLOOKUP($C89,[4]구분표!$A$2:$C$313,3,FALSE),"") -> 축산산림국 | C89: 축산진흥센터 | D89: 본예산 | E89: 일반 | F89: 777 | G89: 640 | H89: 한우젖소개량 자본지원(자치단체)(기금/직접) - 실험대 및 책상(자산및물품취득비) | I89: 4300 | J89: -300 | L89: =I89+J89+K89 -> 4000 | O89: =I89+M89+N89 -> 4300 | P89: =IF(AND((L89=0),(O89>0)),"O",IF(AND((J89<0),(L89-O89<0)),"O","X")) -> O | Q89: 국비변경내시 (농림축산식품부 축산경영과-4267(2016.11.1)호 | U89: 국도비 | W89: 기금 | X89: -150 | Y89: -150 | Z89: =IF(SUM($J89:$K89)=SUM($X89:$Y89),"OK","검토") -> OK | AC89: =IF($W89<>"도비",IF($U89="국도비","직접입력",SUM($M89:$N89)),) -> 직접입력 | AD89: =IF($W89="도비",SUM(M89:N89),IF($U89="국도비","직접입력",SUM(M89:N89)-AC89)) -> 직접입력 | AE89: =IF(SUM(M89:N89)=SUM(AC89:AD89),"OK","검토") -> OK | AG89: 0233-1 | AI89: =IF(AG89="","",COUNTIF($AG$6:$AG$92,AG89)) -> 3 | AJ89: =IF(W89="","",IF(AND(W89="도비",AG89="세입없음"),"OK",IF(AND(W89<>"도비",AG89<>""),"OK","@@"))) -> OK | AL89: {=IF(C89="","",INDEX(구분표!$I$2:$I$313, MATCH(1,(구분표!$E$2:$E$313='17년일출'!B89)*(구분표!$F$2:$F$313='17년일출'!C89)*(구분표!$G$2:$G$313='17년일출'!A89),0)))} -> 0233
A90: =IFERROR(VLOOKUP($C90,[4]구분표!$A$2:$C$313,2,FALSE),"") -> 농정해양위원회 | B90: =IFERROR(VLOOKUP($C90,[4]구분표!$A$2:$C$313,3,FALSE),"") -> 축산산림국 | C90: 축산진흥센터 | D90: 본예산 | E90: 일반 | F90: 777 | G90: 640 | H90: 한우젖소개량 자본지원(자치단체)(기금/직접) - 종축구입(시험연구비) | I90: 25978 | J90: -25978 | L90: =I90+J90+K90 -> 0 | O90: =I90+M90+N90 -> 25978 | P90: =IF(AND((L90=0),(O90>0)),"O",IF(AND((J90<0),(L90-O90<0)),"O","X")) -> O | Q90: 국비변경내시 (농림축산식품부 축산경영과-4267(2016.11.1)호 | U90: 국도비 | W90: 기금 | X90: -12989 | Y90: -12989 | Z90: =IF(SUM($J90:$K90)=SUM($X90:$Y90),"OK","검토") -> OK | AC90: =IF($W90<>"도비",IF($U90="국도비","직접입력",SUM($M90:$N90)),) -> 직접입력 | AD90: =IF($W90="도비",SUM(M90:N90),IF($U90="국도비","직접입력",SUM(M90:N90)-AC90)) -> 직접입력 | AE90: =IF(SUM(M90:N90)=SUM(AC90:AD90),"OK","검토") -> OK | AG90: 0233-1 | AI90: =IF(AG90="","",COUNTIF($AG$6:$AG$92,AG90)) -> 3 | AJ90: =IF(W90="","",IF(AND(W90="도비",AG90="세입없음"),"OK",IF(AND(W90<>"도비",AG90<>""),"OK","@@"))) -> OK | AL90: {=IF(C90="","",INDEX(구분표!$I$2:$I$313, MATCH(1,(구분표!$E$2:$E$313='17년일출'!B90)*(구분표!$F$2:$F$313='17년일출'!C90)*(구분표!$G$2:$G$313='17년일출'!A90),0)))} -> 0233
A91: =IFERROR(VLOOKUP($C91,[4]구분표!$A$2:$C$313,2,FALSE),"") -> 농정해양위원회 | B91: =IFERROR(VLOOKUP($C91,[4]구분표!$A$2:$C$313,3,FALSE),"") -> 농업기술원 | C91: 작물연구과 | D91: 신규 | E91: 일반 | H91: 스마트 팜 권역별 현장지원센터 지원사업(국비/직접) -인건비(기간제근로자등보수) | K91: 20000 | L91: =I91+J91+K91 -> 20000 | O91: =I91+M91+N91 -> 0 | P91: =IF(AND((L91=0),(O91>0)),"O",IF(AND((J91<0),(L91-O91<0)),"O","X")) -> X | Q91: 국비 신규 가내시 (농림축산식품부 창조농식품정책과-3015호, ’16.10.25) | U91: 국도비 | W91: 국비 | X91: 10000 | Y91: 10000 | Z91: =IF(SUM($J91:$K91)=SUM($X91:$Y91),"OK","검토") -> OK | AC91: =IF($W91<>"도비",IF($U91="국도비","직접입력",SUM($M91:$N91)),) -> 직접입력 | AD91: =IF($W91="도비",SUM(M91:N91),IF($U91="국도비","직접입력",SUM(M91:N91)-AC91)) -> 직접입력 | AE91: =IF(SUM(M91:N91)=SUM(AC91:AD91),"OK","검토") -> OK | AG91: 0234-1 | AI91: =IF(AG91="","",COUNTIF($AG$6:$AG$127,AG91)) -> 8 | AJ91: =IF(W91="","",IF(AND(W91="도비",AG91="세입없음"),"OK",IF(AND(W91<>"도비",AG91<>""),"OK","@@"))) -> OK | AL91: {=IF(C91="","",INDEX(구분표!$I$2:$I$313, MATCH(1,(구분표!$E$2:$E$313='17년일출'!B91)*(구분표!$F$2:$F$313='17년일출'!C91)*(구분표!$G$2:$G$313='17년일출'!A91),0)))} -> 0235
A92: =IFERROR(VLOOKUP($C92,[4]구분표!$A$2:$C$313,2,FALSE),"") -> 농정해양위원회 | B92: =IFERROR(VLOOKUP($C92,[4]구분표!$A$2:$C$313,3,FALSE),"") -> 농업기술원 | C92: 작물연구과 | D92: 신규 | E92: 일반 | H92: 스마트 팜 권역별 현장지원센터 지원사업(국비/직접) -일반운영비(스마트팜 일반운영비) | K92: 10000 | L92: =I92+J92+K92 -> 10000 | Q92: 국비 신규 가내시 (농림축산식품부 창조농식품정책과-3015호, ’16.10.25) | U92: 국도비 | W92: 국비 | X92: 5000 | Y92: 5000 | Z92: =IF(SUM($J92:$K92)=SUM($X92:$Y92),"OK","검토") -> OK | AG92: 0234-1 | AI92: =IF(AG92="","",COUNTIF($AG$6:$AG$127,AG92)) -> 8 | AJ92: =IF(W92="","",IF(AND(W92="도비",AG92="세입없음"),"OK",IF(AND(W92<>"도비",AG92<>""),"OK","@@"))) -> OK | AL92: {=IF(C92="","",INDEX(구분표!$I$2:$I$313, MATCH(1,(구분표!$E$2:$E$313='17년일출'!B92)*(구분표!$F$2:$F$313='17년일출'!C92)*(구분표!$G$2:$G$313='17년일출'!A92),0)))} -> 0235
A93: =IFERROR(VLOOKUP($C93,[4]구분표!$A$2:$C$313,2,FALSE),"") -> 농정해양위원회 | B93: =IFERROR(VLOOKUP($C93,[4]구분표!$A$2:$C$313,3,FALSE),"") -> 농업기술원 | C93: 작물연구과 | D93: 신규 | E93: 일반 | H93: 스마트 팜 권역별 현장지원센터 지원사업(국비/직접) -일반운영비(스마트 농가 컨설팅비) | K93: 40000 | L93: =I93+J93+K93 -> 40000 | Q93: 국비 신규 가내시 (농림축산식품부 창조농식품정책과-3015호, ’16.10.25) | U93: 국도비 | W93: 국비 | X93: 20000 | Y93: 20000 | Z93: =IF(SUM($J93:$K93)=SUM($X93:$Y93),"OK","검토") -> OK | AG93: 0234-1 | AI93: =IF(AG93="","",COUNTIF($AG$6:$AG$127,AG93)) -> 8 | AJ93: =IF(W93="","",IF(AND(W93="도비",AG93="세입없음"),"OK",IF(AND(W93<>"도비",AG93<>""),"OK","@@"))) -> OK | AL93: {=IF(C93="","",INDEX(구분표!$I$2:$I$313, MATCH(1,(구분표!$E$2:$E$313='17년일출'!B93)*(구분표!$F$2:$F$313='17년일출'!C93)*(구분표!$G$2:$G$313='17년일출'!A93),0)))} -> 0235
A94: =IFERROR(VLOOKUP($C94,[4]구분표!$A$2:$C$313,2,FALSE),"") -> 농정해양위원회 | B94: =IFERROR(VLOOKUP($C94,[4]구분표!$A$2:$C$313,3,FALSE),"") -> 농업기술원 | C94: 작물연구과 | D94: 신규 | E94: 일반 | H94: 스마트 팜 권역별 현장지원센터 지원사업(국비/직접) -일반운영비(스마트팜 현장실습 전문교육) | K94: 10000 | L94: =I94+J94+K94 -> 10000 | Q94: 국비 신규 가내시 (농림축산식품부 창조농식품정책과-3015호, ’16.10.25) | U94: 국도비 | W94: 국비 | X94: 5000 | Y94: 5000 | Z94: =IF(SUM($J94:$K94)=SUM($X94:$Y94),"OK","검토") -> OK | AG94: 0234-1 | AI94: =IF(AG94="","",COUNTIF($AG$6:$AG$127,AG94)) -> 8 | AJ94: =IF(W94="","",IF(AND(W94="도비",AG94="세입없음"),"OK",IF(AND(W94<>"도비",AG94<>""),"OK","@@"))) -> OK | AL94: {=IF(C94="","",INDEX(구분표!$I$2:$I$313, MATCH(1,(구분표!$E$2:$E$313='17년일출'!B94)*(구분표!$F$2:$F$313='17년일출'!C94)*(구분표!$G$2:$G$313='17년일출'!A94),0)))} -> 0235
A95: =IFERROR(VLOOKUP($C95,[4]구분표!$A$2:$C$313,2,FALSE),"") -> 농정해양위원회 | B95: =IFERROR(VLOOKUP($C95,[4]구분표!$A$2:$C$313,3,FALSE),"") -> 농업기술원 | C95: 작물연구과 | D95: 신규 | E95: 일반 | H95: 스마트 팜 권역별 현장지원센터 지원사업(국비/직접) -일반운영비(스마트팜 기술 및 정책 교육) | K95: 18000 | L95: =I95+J95+K95 -> 18000 | Q95: 국비 신규 가내시 (농림축산식품부 창조농식품정책과-3015호, ’16.10.25) | U95: 국도비 | W95: 국비 | X95: 9000 | Y95: 9000 | Z95: =IF(SUM($J95:$K95)=SUM($X95:$Y95),"OK","검토") -> OK | AG95: 0234-1 | AI95: =IF(AG95="","",COUNTIF($AG$6:$AG$127,AG95)) -> 8 | AJ95: =IF(W95="","",IF(AND(W95="도비",AG95="세입없음"),"OK",IF(AND(W95<>"도비",AG95<>""),"OK","@@"))) -> OK | AL95: {=IF(C95="","",INDEX(구분표!$I$2:$I$313, MATCH(1,(구분표!$E$2:$E$313='17년일출'!B95)*(구분표!$F$2:$F$313='17년일출'!C95)*(구분표!$G$2:$G$313='17년일출'!A95),0)))} -> 0235
A96: =IFERROR(VLOOKUP($C96,[4]구분표!$A$2:$C$313,2,FALSE),"") -> 농정해양위원회 | B96: =IFERROR(VLOOKUP($C96,[4]구분표!$A$2:$C$313,3,FALSE),"") -> 농업기술원 | C96: 작물연구과 | D96: 신규 | E96: 일반 | H96: 스마트 팜 권역별 현장지원센터 지원사업(국비/직접) -여비(현장지원센터 사업추진 여비) | K96: 10000 | L96: =I96+J96+K96 -> 10000 | Q96: 국비 신규 가내시 (농림축산식품부 창조농식품정책과-3015호, ’16.10.25) | U96: 국도비 | W96: 국비 | X96: 5000 | Y96: 5000 | Z96: =IF(SUM($J96:$K96)=SUM($X96:$Y96),"OK","검토") -> OK | AG96: 0234-1 | AI96: =IF(AG96="","",COUNTIF($AG$6:$AG$127,AG96)) -> 8 | AJ96: =IF(W96="","",IF(AND(W96="도비",AG96="세입없음"),"OK",IF(AND(W96<>"도비",AG96<>""),"OK","@@"))) -> OK | AL96: {=IF(C96="","",INDEX(구분표!$I$2:$I$313, MATCH(1,(구분표!$E$2:$E$313='17년일출'!B96)*(구분표!$F$2:$F$313='17년일출'!C96)*(구분표!$G$2:$G$313='17년일출'!A96),0)))} -> 0235
A97: =IFERROR(VLOOKUP($C97,[4]구분표!$A$2:$C$313,2,FALSE),"") -> 농정해양위원회 | B97: =IFERROR(VLOOKUP($C97,[4]구분표!$A$2:$C$313,3,FALSE),"") -> 농업기술원 | C97: 작물연구과 | D97: 신규 | E97: 일반 | H97: 스마트 팜 권역별 현장지원센터 지원사업(국비/직접) -연구개발비(최적생육 환경관리 시험연구비) | K97: 40000 | L97: =I97+J97+K97 -> 40000 | Q97: 국비 신규 가내시 (농림축산식품부 창조농식품정책과-3015호, ’16.10.25) | U97: 국도비 | W97: 국비 | X97: 20000 | Y97: 20000 | Z97: =IF(SUM($J97:$K97)=SUM($X97:$Y97),"OK","검토") -> OK | AG97: 0234-1 | AI97: =IF(AG97="","",COUNTIF($AG$6:$AG$127,AG97)) -> 8 | AJ97: =IF(W97="","",IF(AND(W97="도비",AG97="세입없음"),"OK",IF(AND(W97<>"도비",AG97<>""),"OK","@@"))) -> OK | AL97: {=IF(C97="","",INDEX(구분표!$I$2:$I$313, MATCH(1,(구분표!$E$2:$E$313='17년일출'!B97)*(구분표!$F$2:$F$313='17년일출'!C97)*(구분표!$G$2:$G$313='17년일출'!A97),0)))} -> 0235
A98: =IFERROR(VLOOKUP($C98,[4]구분표!$A$2:$C$313,2,FALSE),"") -> 농정해양위원회 | B98: =IFERROR(VLOOKUP($C98,[4]구분표!$A$2:$C$313,3,FALSE),"") -> 농업기술원 | C98: 작물연구과 | D98: 신규 | E98: 일반 | H98: 스마트 팜 권역별 현장지원센터 지원사업(국비/직접) -일반보상금(스마트팜 교육생 식비) | K98: 2000 | L98: =I98+J98+K98 -> 2000 | Q98: 국비 신규 가내시 (농림축산식품부 창조농식품정책과-3015호, ’16.10.25) | U98: 국도비 | W98: 국비 | X98: 1000 | Y98: 1000 | Z98: =IF(SUM($J98:$K98)=SUM($X98:$Y98),"OK","검토") -> OK | AG98: 0234-1 | AI98: =IF(AG98="","",COUNTIF($AG$6:$AG$127,AG98)) -> 8 | AJ98: =IF(W98="","",IF(AND(W98="도비",AG98="세입없음"),"OK",IF(AND(W98<>"도비",AG98<>""),"OK","@@"))) -> OK | AL98: {=IF(C98="","",INDEX(구분표!$I$2:$I$313, MATCH(1,(구분표!$E$2:$E$313='17년일출'!B98)*(구분표!$F$2:$F$313='17년일출'!C98)*(구분표!$G$2:$G$313='17년일출'!A98),0)))} -> 0235
A99: =IFERROR(VLOOKUP($C99,[4]구분표!$A$2:$C$313,2,FALSE),"") -> 농정해양위원회 | B99: =IFERROR(VLOOKUP($C99,[4]구분표!$A$2:$C$313,3,FALSE),"") -> 농업기술원 | C99: 작물연구과 | D99: 본예산 | E99: 일반 | F99: 792 | G99: 51 | H99: 지역전략작목산학연협력(지특/직접) -국내여비 지역특화작목기술개발 | I99: 22200 | J99: -5000 | L99: =I99+J99+K99 -> 17200 | O99: =I99+M99+N99 -> 22200 | P99: =IF(AND((L99=0),(O99>0)),"O",IF(AND((J99<0),(L99-O99<0)),"O","X")) -> O | Q99: 예산 입력 오류 | U99: 국도비 | W99: 국비 | X99: -5000 | Y99: 0 | Z99: =IF(SUM($J99:$K99)=SUM($X99:$Y99),"OK","검토") -> OK | AC99: =IF($W99<>"도비",IF($U99="국도비","직접입력",SUM($M99:$N99)),) -> 직접입력 | AD99: =IF($W99="도비",SUM(M99:N99),IF($U99="국도비","직접입력",SUM(M99:N99)-AC99)) -> 직접입력 | AE99: =IF(SUM(M99:N99)=SUM(AC99:AD99),"OK","검토") -> OK | AG99: 세입없음 | AI99: =IF(AG99="","",COUNTIF($AG$6:$AG$127,AG99)) -> 56 | AJ99: =IF(W99="","",IF(AND(W99="도비",AG99="세입없음"),"OK",IF(AND(W99<>"도비",AG99<>""),"OK","@@"))) -> OK | AL99: {=IF(C99="","",INDEX(구분표!$I$2:$I$313, MATCH(1,(구분표!$E$2:$E$313='17년일출'!B99)*(구분표!$F$2:$F$313='17년일출'!C99)*(구분표!$G$2:$G$313='17년일출'!A99),0)))} -> 0235
A100: =IFERROR(VLOOKUP($C100,[4]구분표!$A$2:$C$313,2,FALSE),"") -> 농정해양위원회 | B100: =IFERROR(VLOOKUP($C100,[4]구분표!$A$2:$C$313,3,FALSE),"") -> 농업기술원 | C100: 작물연구과 | D100: 본예산 | E100: 일반 | F100: 792 | G100: 51 | H100: 지역전략작목산학연협력(지특/직접) -국외여비 지역특화작목기술개발 | I100: 11500 | J100: -500 | L100: =I100+J100+K100 -> 11000 | O100: =I100+M100+N100 -> 11500 | P100: =IF(AND((L100=0),(O100>0)),"O",IF(AND((J100<0),(L100-O100<0)),"O","X")) -> O | Q100: 예산 입력 오류 | U100: 국도비 | W100: 국비 | X100: -500 | Y100: 0 | Z100: =IF(SUM($J100:$K100)=SUM($X100:$Y100),"OK","검토") -> OK | AC100: =IF($W100<>"도비",IF($U100="국도비","직접입력",SUM($M100:$N100)),) -> 직접입력 | AD100: =IF($W100="도비",SUM(M100:N100),IF($U100="국도비","직접입력",SUM(M100:N100)-AC100)) -> 직접입력 | AE100: =IF(SUM(M100:N100)=SUM(AC100:AD100),"OK","검토") -> OK | AG100: 세입없음 | AI100: =IF(AG100="","",COUNTIF($AG$6:$AG$127,AG100)) -> 56 | AJ100: =IF(W100="","",IF(AND(W100="도비",AG100="세입없음"),"OK",IF(AND(W100<>"도비",AG100<>""),"OK","@@"))) -> OK | AL100: {=IF(C100="","",INDEX(구분표!$I$2:$I$313, MATCH(1,(구분표!$E$2:$E$313='17년일출'!B100)*(구분표!$F$2:$F$313='17년일출'!C100)*(구분표!$G$2:$G$313='17년일출'!A100),0)))} -> 0235
...

Sheet 17년 계속비
B1: 2017년도 본예산 계속비 사업 조서
N2: (단위:천원)
B4: 사 업 명 | C4: 예산과목 (통계목) | D4: 총사업비 | E4: 전전년도(2015) 이전 | H4: 전년도(2016) | K4: 2017 | L4: 2018 | M4: 2019 이후 | N4: 비 고
E5: 예산액 | F5: 집 행 액 | G5: 집행잔액 | H5: 예산액 | I5: 집행액 | J5: 집행잔액
A6: 문화관광국 | B6: ○ 제부 마리나항 건설 | C6: (당초=A) | D6: 59297000 | E6: 19260000 | F6: 19260000 | G6: 0 | H6: 10000000 | I6: 10000000 | J6: 0 | K6: 30037000
A7: 문화정책과 | B7: · 위 치 : 화성시 서신면 제부리 | C7: 시설비 | D7: 56667000 | E7: 17930000 | F7: 17930000 | G7: 0 | H7: 9280000 | I7: 9280000 | J7: 0 | K7: 29457000
B8: · 사업량 : 마리나항 조성 | C8: 감리비 | D8: 2500000 | E8: 1250000 | F8: 1250000 | G8: 0 | H8: 700000 | I8: 700000 | J8: 0 | K8: 550000
B9: 계류시설300척,매립38천㎡ | C9: 시설부대비 | D9: 130000 | E9: 80000 | F9: 80000 | G9: 0 | H9: 20000 | I9: 20000 | J9: 0 | K9: 30000
B10: · 기 간 : 2013 ~ 2018 | C10: (변경=B)
C11: 시설비
C12: 감리비
C13: 시설부대비
C14: (증감=B-A)
