Workbook

Sheet 구분표
A2: 실과명 조정 | B2: 위원회명 조정 | C2: 실국명 조정 | E2: 실국명 | F2: 실과명 | G2: 위원회명 | H2: 정렬순서 | I2: 정렬코드
A3: 공보담당관 | B3: 의회운영위원회 | C3: 의회사무처 | E3: 의회사무처 | F3: 공보담당관 | G3: 의회운영위원회 | H3: 1 | I3: 0101
A4: 총무담당관 | B4: 의회운영위원회 | C4: 의회사무처 | E4: 의회사무처 | F4: 총무담당관 | G4: 의회운영위원회 | H4: 2 | I4: 0102
A5: 의정담당관 | B5: 의회운영위원회 | C5: 의회사무처 | E5: 의회사무처 | F5: 의정담당관 | G5: 의회운영위원회 | H5: 3 | I5: 0103
A6: 입법정책담당관 | B6: 의회운영위원회 | C6: 의회사무처 | E6: 의회사무처 | F6: 입법정책담당관 | G6: 의회운영위원회 | H6: 4 | I6: 0104
A7: 예산정책담당관 | B7: 의회운영위원회 | C7: 의회사무처 | E7: 의회사무처 | F7: 예산정책담당관 | G7: 의회운영위원회 | H7: 5 | I7: 0105
A8: 언론협력담당관 | B8: 의회운영위원회 | C8: 대변인 | E8: 대변인 | F8: 언론협력담당관 | G8: 의회운영위원회 | H8: 6 | I8: 0106
A9: 보도기획담당관 | B9: 의회운영위원회 | C9: 대변인 | E9: 대변인 | F9: 보도기획담당관 | G9: 의회운영위원회 | H9: 7 | I9: 0107
A10: 홍보미디어담당관 | B10: 의회운영위원회 | C10: 소통기획관 | E10: 소통기획관 | F10: 홍보미디어담당관 | G10: 의회운영위원회 | H10: 8 | I10: 0108
A11: 홍보콘텐츠담당관 | B11: 의회운영위원회 | C11: 소통기획관 | E11: 소통기획관 | F11: 홍보콘텐츠담당관 | G11: 의회운영위원회 | H11: 9 | I11: 0109
A12: 연정협력과 | B12: 의회운영위원회 | C12: 연정협력국 | E12: 연정협력국 | F12: 연정협력과 | G12: 의회운영위원회 | H12: 10 | I12: 0110
A13: 대외협력과 | B13: 의회운영위원회 | C13: 연정협력국 | E13: 연정협력국 | F13: 대외협력과 | G13: 의회운영위원회 | H13: 11 | I13: 0111
... A215: 도서관정책과 | B215: 여성가족교육협력위원회 | C215: 교육협력국 | E215: 교육협력국 | F215: 도서관정책과 | G215: 여성가족교육협력위원회 | H215: 213 | I215: 0313

Sheet 예결표지(세로)
A5: 2015년도 제2회 일반회계 및 특별회계 추가경정 세입·세출 예산안
A7: 예결위 계수조정 결과
A20: 예산결산특별위원회

Sheet 예결표지(가로)
A3: 2015년도 제2회 일반회계 및 특별회계 추가경정 세입·세출 예산안
A5: 예결위 계수조정 결과
A14: 예산결산특별위원회

Sheet 검증
A1: 제4회 추경 일반회계 검증 | H1: 4추 예비비 | J1: 조정액 | K1: =IFERROR(INDEX('17년일출'!AD6:AD92,MATCH("*예비비*",'17년일출'!H6:H92,0)),0) -> 0 | L1: 조정잔액 | M1: =I1+K1 -> 0
M2: (단위 : 천원)
A3: 구분 | B3: 상 임 위 | H3: 구분 | I3: 예 결 위
B4: 세입 | C4: 검증 | D4: 세출 | E4: 검증 | F4: 차액 | I4: 세입 | J4: 검증 | K4: 세출 | L4: 검증 | M4: 차액
A5: 전체 총계 | B5: =SUM(B6:B13)/2 -> 0 | C5: =IF(B5=SUM('17년일입'!I6:J6),"OK","@@") -> @@ | D5: =SUM(D6:D13)/2 -> 6978972 | E5: =IF(D5=SUM('17년일출'!#REF!),"OK","@@") -> #REF! | H5: 전체 총계 | I5: =SUM(I6:I13)/2 -> 0 | J5: =IF(I5=SUM('17년일입'!L6:M6),"OK","@@") -> OK | K5: =SUM(K6:K13)/2 -> 0 | L5: =IF(K5=SUM('17년일출'!#REF!),"OK","@@") -> #REF!
A6: 자체 계 | B6: =SUM(B7:B8) -> 0 | C6: =IF(B6='17년일입'!X6,"OK","@@") -> OK | D6: =SUM(D7:D8) -> 6837342 | E6: =IF(D6='17년일출'!#REF!,"OK","@@") -> #REF! | H6: 자체 계 | I6: =SUM(I7:I8) -> 0 | J6: =IF(I6='17년일입'!AC6,"OK","@@") -> OK | K6: =SUM(K7:K8) -> 0 | L6: =IF(K6='17년일출'!#REF!,"OK","@@") -> #REF!
A7: 자체 도비 | B7: =SUMIFS('17년일입'!X6:X37,'17년일입'!V6:V37,"도비") -> 0 | D7: =SUMIFS('17년일출'!$Y$6:$Y$92,'17년일출'!$W$6:$W$92,"도비") -> 6695712 | H7: 자체 도비 | I7: =SUMIFS('17년일입'!AC6:AC37,'17년일입'!AA6:AA37,"국비") -> 0 | K7: =SUMIFS('17년일출'!$AD$6:$AD$92,'17년일출'!$AB$6:$AB$92,"도비") -> 0
A8: 의존 매칭 도비 | B8: =SUMIFS('17년일입'!X6:X37,'17년일입'!V6:V37,"국비")+SUMIFS('17년일입'!X6:X37,'17년일입'!V6:V37,"지특")+SUMIFS('17년일입'!X6:X37,'17년일입'!V6:V37,"기금")+SUMIFS('17년일입'!X6:X37,'17년일입'!V6:V37,"특교") -> 0 | D8: =SUMIFS('17년일출'!$Y$6:$Y$92,'17년일출'!$W$6:$W$92,"국비")+SUMIFS('17년일출'!$Y$6:$Y$92,'17년일출'!$W$6:$W$92,"지특")+SUMIFS('17년일출'!$Y$6:$Y$92,'17년일출'!$W$6:$W$92,"기금")+SUMIFS('17년일출'!$Y$6:$Y$92,'17년일출'!$W$6:$W$92,"특교") -> 141630 | H8: 의존 매칭 도비 | I8: =SUMIFS('17년일입'!AC6:AC37,'17년일입'!AA6:AA37,"국비")+SUMIFS('17년일입'!AC6:AC37,'17년일입'!AA6:AA37,"지특")+SUMIFS('17년일입'!AC6:AC37,'17년일입'!AA6:AA37,"기금")+SUMIFS('17년일입'!AC6:AC37,'17년일입'!AA6:AA37,"특교") -> 0 | K8: =SUMIFS('17년일출'!$AD$6:$AD$92,'17년일출'!$AB$6:$AB$92,"국비")+SUMIFS('17년일출'!$AD$6:$AD$92,'17년일출'!$AB$6:$AB$92,"지특")+SUMIFS('17년일출'!$AD$6:$AD$92,'17년일출'!$AB$6:$AB$92,"기금")+SUMIFS('17년일출'!$AD$6:$AD$92,'17년일출'!$AB$6:$AB$92,"특교") -> 0
A9: 의존 계 | B9: =SUM(B10:B13) -> 0 | C9: =IF(B9='17년일입'!W6,"OK","@@") -> @@ | D9: =SUM(D10:D13) -> 141630 | E9: =IF(D9='17년일출'!#REF!,"OK","@@") -> #REF! | F9: =SUM(F10:F13) -> 141630 | H9: 의존 계 | I9: =SUM(I10:I13) -> 0 | J9: =IF(I9='17년일입'!W6,"OK","@@") -> @@ | K9: =SUM(K10:K13) -> 0 | L9: =IF(K9='17년일출'!#REF!,"OK","@@") -> #REF! | M9: =SUM(M10:M13) -> 0
A10: 국비 | B10: =SUMIFS('17년일입'!$X$6:$X$37,'17년일입'!$V$6:$V$37,검증!A10) -> 0 | D10: =SUMIFS('17년일출'!$Y$6:$Y$92,'17년일출'!$W$6:$W$92,검증!A10) -> 361337 | F10: =D10-B10 -> 361337 | H10: 국비 | I10: =SUMIFS('17년일입'!$AC$6:$AC$37,'17년일입'!$AA$6:$AA$37,검증!H10) -> 0 | K10: =SUMIFS('17년일출'!$AD$6:$AD$92,'17년일출'!$AB$6:$AB$92,검증!H10) -> 0 | M10: =K10-I10 -> 0
A11: 지특 | B11: =SUMIFS('17년일입'!$X$6:$X$37,'17년일입'!$V$6:$V$37,검증!A11) -> 0 | D11: =SUMIFS('17년일출'!$Y$6:$Y$92,'17년일출'!$W$6:$W$92,검증!A11) -> 0 | F11: =D11-B11 -> 0 | H11: 지특 | I11: =SUMIFS('17년일입'!$AC$6:$AC$37,'17년일입'!$AA$6:$AA$37,검증!H11) -> 0 | K11: =SUMIFS('17년일출'!$AD$6:$AD$92,'17년일출'!$AB$6:$AB$92,검증!H11) -> 0 | M11: =K11-I11 -> 0
A12: 기금 | B12: =SUMIFS('17년일입'!$X$6:$X$37,'17년일입'!$V$6:$V$37,검증!A12) -> 0 | D12: =SUMIFS('17년일출'!$Y$6:$Y$92,'17년일출'!$W$6:$W$92,검증!A12) -> -219707 | F12: =D12-B12 -> -219707 | H12: 기금 | I12: =SUMIFS('17년일입'!$AC$6:$AC$37,'17년일입'!$AA$6:$AA$37,검증!H12) -> 0 | K12: =SUMIFS('17년일출'!$AD$6:$AD$92,'17년일출'!$AB$6:$AB$92,검증!H12) -> 0 | M12: =K12-I12 -> 0
A13: 특교 | B13: =SUMIFS('17년일입'!$X$6:$X$37,'17년일입'!$V$6:$V$37,검증!A13) -> 0 | D13: =SUMIFS('17년일출'!$Y$6:$Y$92,'17년일출'!$W$6:$W$92,검증!A13) -> 0 | F13: =D13-B13 -> 0 | H13: 특교 | I13: =SUMIFS('17년일입'!$AC$6:$AC$37,'17년일입'!$AA$6:$AA$37,검증!H13) -> 0 | K13: =SUMIFS('17년일출'!$AD$6:$AD$92,'17년일출'!$AB$6:$AB$92,검증!H13) -> 0 | M13: =K13-I13 -> 0

Sheet 표지
A4: 계수조정 결과
B6: - 2017년도 일반회계 및 기타특별회계 예산안, 기금운용계획안
A12: 농정해양위원회

Sheet 총괄표
A1: 2017년도 일반 및 특별회계 세입·세출 예산안(전체예산총괄)
A3: □ 총 괄 | C3: 세입예산 증감 | D3: =SUM(C7:D7) -> 0 | F3: 세출예산증감 | G3: =SUM(F7:G7) -> 0
F4: ※ 예비비 증감 | I4: (단위 : 천원)
A5: 구 분 | B5: 집행부제출(안) | C5: 세입예산(안) | F5: 세출예산(안) | I5: 수정예산(안) | K5: ※ 예산안 증감현황
C6: 감 액 | D6: 증 액 | E6: 증감액 | F6: 감 액 | G6: 증 액 | H6: 증감액 | K6: 구 분 | L6: 세입 | M6: 세출 | N6: 예비비 | O6: 비고(???)
A7: 합 계 | B7: =SUM(B8:B17) -> 558747860 | C7: =SUM(C8:C17) -> 0 | D7: =SUM(D8:D17) -> 0 | E7: =SUM(E8:E17) -> 0 | F7: =SUM(F8:F17) -> 0 | G7: =SUM(G8:G17) -> 0 | H7: =SUM(H8:H17) -> 0 | I7: =SUM(I8:I17) -> 558747860 | K7: 합 계 | L7: =SUM(L8:L9) -> 0 | M7: =SUM(M8:M9) -> 0 | N7: =L7-M7 -> 0
A8: 의회운영위원회 | B8: =B31 -> 0 | C8: =SUMIFS('[1]17년일입'!L$6:L$100,'[1]17년일입'!$A$6:$A$100,[1]총괄표!$A8)+SUMIFS('[1]17년특입'!L$6:L$39,'[1]17년특입'!$A$6:$A$39,[1]총괄표!$A8) -> 0 | D8: =SUMIFS('[1]17년일입'!M$6:M$100,'[1]17년일입'!$A$6:$A$100,[1]총괄표!$A8)+SUMIFS('[1]17년특입'!M$6:M$39,'[1]17년특입'!$A$6:$A$39,[1]총괄표!$A8) -> 0 | E8: =D8-C8 -> 0 | F8: =SUMIFS('[1]17년일출'!M$6:M$116,'[1]17년일출'!$A$6:$A$116,[1]총괄표!$A8)+SUMIFS('[1]17년특출'!M$6:M$39,'[1]17년특출'!$A$6:$A$39,[1]총괄표!$A8) -> 0 | G8: =SUMIFS('[1]17년일출'!N$6:N$116,'[1]17년일출'!$A$6:$A$116,[1]총괄표!$A8)+SUMIFS('[1]17년특출'!N$6:N$39,'[1]17년특출'!$A$6:$A$39,[1]총괄표!$A8) -> 0 | H8: =G8-F8 -> 0 | I8: =B8+F8+G8 -> 0 | K8: 일반회계 | L8: =SUM(C24:D24) -> 0 | M8: =SUM(F24:G24) -> 0 | N8: =L8-M8 -> 0 | O8: 예비비 증감 - 감액, + 증액에 입력
A9: 기획재정위원회 | B9: =B32 -> 0 | C9: =SUMIFS('[1]17년일입'!L$6:L$100,'[1]17년일입'!$A$6:$A$100,[1]총괄표!$A9)+SUMIFS('[1]17년특입'!L$6:L$39,'[1]17년특입'!$A$6:$A$39,[1]총괄표!$A9) -> 0 | D9: =SUMIFS('[1]17년일입'!M$6:M$100,'[1]17년일입'!$A$6:$A$100,[1]총괄표!$A9)+SUMIFS('[1]17년특입'!M$6:M$39,'[1]17년특입'!$A$6:$A$39,[1]총괄표!$A9) -> 0 | E9: =D9-C9 -> 0 | F9: =SUMIFS('[1]17년일출'!M$6:M$116,'[1]17년일출'!$A$6:$A$116,[1]총괄표!$A9)+SUMIFS('[1]17년특출'!M$6:M$39,'[1]17년특출'!$A$6:$A$39,[1]총괄표!$A9) -> 0 | G9: =SUMIFS('[1]17년일출'!N$6:N$116,'[1]17년일출'!$A$6:$A$116,[1]총괄표!$A9)+SUMIFS('[1]17년특출'!N$6:N$39,'[1]17년특출'!$A$6:$A$39,[1]총괄표!$A9) -> 0 | H9: =G9-F9 -> 0 | I9: =B9+F9+G9 -> 0 | K9: 특별회계 | L9: =SUM(C25:D25) -> 0 | M9: =SUM(F25:G25) -> 0 | N9: =L9-M9 -> 0
A10: 경제과학기술위원회 | B10: =B33 -> 0 | C10: =SUMIFS('[1]17년일입'!L$6:L$100,'[1]17년일입'!$A$6:$A$100,[1]총괄표!$A10)+SUMIFS('[1]17년특입'!L$6:L$39,'[1]17년특입'!$A$6:$A$39,[1]총괄표!$A10) -> 0 | D10: =SUMIFS('[1]17년일입'!M$6:M$100,'[1]17년일입'!$A$6:$A$100,[1]총괄표!$A10)+SUMIFS('[1]17년특입'!M$6:M$39,'[1]17년특입'!$A$6:$A$39,[1]총괄표!$A10) -> 0 | E10: =D10-C10 -> 0 | F10: =SUMIFS('[1]17년일출'!M$6:M$116,'[1]17년일출'!$A$6:$A$116,[1]총괄표!$A10)+SUMIFS('[1]17년특출'!M$6:M$39,'[1]17년특출'!$A$6:$A$39,[1]총괄표!$A10) -> 0 | G10: =SUMIFS('[1]17년일출'!N$6:N$116,'[1]17년일출'!$A$6:$A$116,[1]총괄표!$A10)+SUMIFS('[1]17년특출'!N$6:N$39,'[1]17년특출'!$A$6:$A$39,[1]총괄표!$A10) -> 0 | H10: =G10-F10 -> 0 | I10: =B10+F10+G10 -> 0
A11: 안전행정위원회 | B11: =B34 -> 0 | C11: =SUMIFS('[1]17년일입'!L$6:L$100,'[1]17년일입'!$A$6:$A$100,[1]총괄표!$A11)+SUMIFS('[1]17년특입'!L$6:L$39,'[1]17년특입'!$A$6:$A$39,[1]총괄표!$A11) -> 0 | D11: =SUMIFS('[1]17년일입'!M$6:M$100,'[1]17년일입'!$A$6:$A$100,[1]총괄표!$A11)+SUMIFS('[1]17년특입'!M$6:M$39,'[1]17년특입'!$A$6:$A$39,[1]총괄표!$A11) -> 0 | E11: =D11-C11 -> 0 | F11: =SUMIFS('[1]17년일출'!M$6:M$116,'[1]17년일출'!$A$6:$A$116,[1]총괄표!$A11)+SUMIFS('[1]17년특출'!M$6:M$39,'[1]17년특출'!$A$6:$A$39,[1]총괄표!$A11) -> 0 | G11: =SUMIFS('[1]17년일출'!N$6:N$116,'[1]17년일출'!$A$6:$A$116,[1]총괄표!$A11)+SUMIFS('[1]17년특출'!N$6:N$39,'[1]17년특출'!$A$6:$A$39,[1]총괄표!$A11) -> 0 | H11: =G11-F11 -> 0 | I11: =B11+F11+G11 -> 0
A12: 문화체육관광위원회 | B12: =B35 -> 0 | C12: =SUMIFS('[1]17년일입'!L$6:L$100,'[1]17년일입'!$A$6:$A$100,[1]총괄표!$A12)+SUMIFS('[1]17년특입'!L$6:L$39,'[1]17년특입'!$A$6:$A$39,[1]총괄표!$A12) -> 0 | D12: =SUMIFS('[1]17년일입'!M$6:M$100,'[1]17년일입'!$A$6:$A$100,[1]총괄표!$A12)+SUMIFS('[1]17년특입'!M$6:M$39,'[1]17년특입'!$A$6:$A$39,[1]총괄표!$A12) -> 0 | E12: =D12-C12 -> 0 | F12: =SUMIFS('[1]17년일출'!M$6:M$116,'[1]17년일출'!$A$6:$A$116,[1]총괄표!$A12)+SUMIFS('[1]17년특출'!M$6:M$39,'[1]17년특출'!$A$6:$A$39,[1]총괄표!$A12) -> 0 | G12: =SUMIFS('[1]17년일출'!N$6:N$116,'[1]17년일출'!$A$6:$A$116,[1]총괄표!$A12)+SUMIFS('[1]17년특출'!N$6:N$39,'[1]17년특출'!$A$6:$A$39,[1]총괄표!$A12) -> 0 | H12: =G12-F12 -> 0 | I12: =B12+F12+G12 -> 0
A13: 농정해양위원회 | B13: =B36 -> 558747860 | C13: =SUMIFS('[1]17년일입'!L$6:L$100,'[1]17년일입'!$A$6:$A$100,[1]총괄표!$A13)+SUMIFS('[1]17년특입'!L$6:L$39,'[1]17년특입'!$A$6:$A$39,[1]총괄표!$A13) -> 0 | D13: =SUMIFS('[1]17년일입'!M$6:M$100,'[1]17년일입'!$A$6:$A$100,[1]총괄표!$A13)+SUMIFS('[1]17년특입'!M$6:M$39,'[1]17년특입'!$A$6:$A$39,[1]총괄표!$A13) -> 0 | E13: =D13-C13 -> 0 | F13: =SUMIFS('[1]17년일출'!M$6:M$116,'[1]17년일출'!$A$6:$A$116,[1]총괄표!$A13)+SUMIFS('[1]17년특출'!M$6:M$39,'[1]17년특출'!$A$6:$A$39,[1]총괄표!$A13) -> 0 | G13: =SUMIFS('[1]17년일출'!N$6:N$116,'[1]17년일출'!$A$6:$A$116,[1]총괄표!$A13)+SUMIFS('[1]17년특출'!N$6:N$39,'[1]17년특출'!$A$6:$A$39,[1]총괄표!$A13) -> 0 | H13: =G13-F13 -> 0 | I13: =B13+F13+G13 -> 558747860
A14: 보건복지위원회 | B14: =B37 -> 0 | C14: =SUMIFS('[1]17년일입'!L$6:L$100,'[1]17년일입'!$A$6:$A$100,[1]총괄표!$A14)+SUMIFS('[1]17년특입'!L$6:L$39,'[1]17년특입'!$A$6:$A$39,[1]총괄표!$A14) -> 0 | D14: =SUMIFS('[1]17년일입'!M$6:M$100,'[1]17년일입'!$A$6:$A$100,[1]총괄표!$A14)+SUMIFS('[1]17년특입'!M$6:M$39,'[1]17년특입'!$A$6:$A$39,[1]총괄표!$A14) -> 0 | E14: =D14-C14 -> 0 | F14: =SUMIFS('[1]17년일출'!M$6:M$116,'[1]17년일출'!$A$6:$A$116,[1]총괄표!$A14)+SUMIFS('[1]17년특출'!M$6:M$39,'[1]17년특출'!$A$6:$A$39,[1]총괄표!$A14) -> 0 | G14: =SUMIFS('[1]17년일출'!N$6:N$116,'[1]17년일출'!$A$6:$A$116,[1]총괄표!$A14)+SUMIFS('[1]17년특출'!N$6:N$39,'[1]17년특출'!$A$6:$A$39,[1]총괄표!$A14) -> 0 | H14: =G14-F14 -> 0 | I14: =B14+F14+G14 -> 0
A15: 건설교통위원회 | B15: =B38 -> 0 | C15: =SUMIFS('[1]17년일입'!L$6:L$100,'[1]17년일입'!$A$6:$A$100,[1]총괄표!$A15)+SUMIFS('[1]17년특입'!L$6:L$39,'[1]17년특입'!$A$6:$A$39,[1]총괄표!$A15) -> 0 | D15: =SUMIFS('[1]17년일입'!M$6:M$100,'[1]17년일입'!$A$6:$A$100,[1]총괄표!$A15)+SUMIFS('[1]17년특입'!M$6:M$39,'[1]17년특입'!$A$6:$A$39,[1]총괄표!$A15) -> 0 | E15: =D15-C15 -> 0 | F15: =SUMIFS('[1]17년일출'!M$6:M$116,'[1]17년일출'!$A$6:$A$116,[1]총괄표!$A15)+SUMIFS('[1]17년특출'!M$6:M$39,'[1]17년특출'!$A$6:$A$39,[1]총괄표!$A15) -> 0 | G15: =SUMIFS('[1]17년일출'!N$6:N$116,'[1]17년일출'!$A$6:$A$116,[1]총괄표!$A15)+SUMIFS('[1]17년특출'!N$6:N$39,'[1]17년특출'!$A$6:$A$39,[1]총괄표!$A15) -> 0 | H15: =G15-F15 -> 0 | I15: =B15+F15+G15 -> 0
A16: 도시환경위원회 | B16: =B39 -> 0 | C16: =SUMIFS('[1]17년일입'!L$6:L$100,'[1]17년일입'!$A$6:$A$100,[1]총괄표!$A16)+SUMIFS('[1]17년특입'!L$6:L$39,'[1]17년특입'!$A$6:$A$39,[1]총괄표!$A16) -> 0 | D16: =SUMIFS('[1]17년일입'!M$6:M$100,'[1]17년일입'!$A$6:$A$100,[1]총괄표!$A16)+SUMIFS('[1]17년특입'!M$6:M$39,'[1]17년특입'!$A$6:$A$39,[1]총괄표!$A16) -> 0 | E16: =D16-C16 -> 0 | F16: =SUMIFS('[1]17년일출'!M$6:M$116,'[1]17년일출'!$A$6:$A$116,[1]총괄표!$A16)+SUMIFS('[1]17년특출'!M$6:M$39,'[1]17년특출'!$A$6:$A$39,[1]총괄표!$A16) -> 0 | G16: =SUMIFS('[1]17년일출'!N$6:N$116,'[1]17년일출'!$A$6:$A$116,[1]총괄표!$A16)+SUMIFS('[1]17년특출'!N$6:N$39,'[1]17년특출'!$A$6:$A$39,[1]총괄표!$A16) -> 0 | H16: =G16-F16 -> 0 | I16: =B16+F16+G16 -> 0
A17: 여상가족교육협력위원회 | B17: =B40 -> 0 | C17: =SUMIFS('[1]17년일입'!L$6:L$100,'[1]17년일입'!$A$6:$A$100,[1]총괄표!$A17)+SUMIFS('[1]17년특입'!L$6:L$39,'[1]17년특입'!$A$6:$A$39,[1]총괄표!$A17) -> 0 | D17: =SUMIFS('[1]17년일입'!M$6:M$100,'[1]17년일입'!$A$6:$A$100,[1]총괄표!$A17)+SUMIFS('[1]17년특입'!M$6:M$39,'[1]17년특입'!$A$6:$A$39,[1]총괄표!$A17) -> 0 | E17: =D17-C17 -> 0 | F17: =SUMIFS('[1]17년일출'!M$6:M$116,'[1]17년일출'!$A$6:$A$116,[1]총괄표!$A17)+SUMIFS('[1]17년특출'!M$6:M$39,'[1]17년특출'!$A$6:$A$39,[1]총괄표!$A17) -> 0 | G17: =SUMIFS('[1]17년일출'!N$6:N$116,'[1]17년일출'!$A$6:$A$116,[1]총괄표!$A17)+SUMIFS('[1]17년특출'!N$6:N$39,'[1]17년특출'!$A$6:$A$39,[1]총괄표!$A17) -> 0 | H17: =G17-F17 -> 0 | I17: =B17+F17+G17 -> 0
A19: □ 회계별 예산 총 규모
I20: (단위 : 천원)
A21: 구 분 | B21: 집행부제출(안) | C21: 세입예산(안) | F21: 세출예산(안) | I21: 수정예산(안) | K21: 세입기준
C22: 감 액 | D22: 증 액 | E22: 증감액 | F22: 감 액 | G22: 증 액 | H22: 증감액 | K22: 수정예산(안) | L22: 세출기준-세입기준
A23: 합 계 | B23: =SUM(B24:B25) -> 558747860 | C23: =SUM(C24:C25) -> 0 | D23: =SUM(D24:D25) -> 0 | E23: =SUM(E24:E25) -> 0 | F23: =SUM(F24:F25) -> 0 | G23: =SUM(G24:G25) -> 0 | H23: =SUM(H24:H25) -> 0 | I23: =SUM(I24:I25) -> 558747860 | K23: =SUM(K24:K25) -> 558747860 | L23: =I23-K23 -> 0
A24: 일반회계 | B24: =D30 -> 558747860 | C24: ='[1]17년일입'!L6 -> 0 | D24: ='[1]17년일입'!M6 -> 0 | E24: =D24-C24 -> 0 | F24: ='[1]17년일출'!M6 -> 0 | G24: ='[1]17년일출'!N6 -> 0 | H24: =G24-F24 -> 0 | I24: =B24+F24+G24 -> 558747860 | K24: =B24+C24+D24 -> 558747860 | L24: =I24-K24 -> 0
A25: 특별회계 | B25: =F30+G30 -> 0 | C25: ='[1]17년특입'!L6 -> 0 | D25: ='[1]17년특입'!M6 -> 0 | E25: =D25-C25 -> 0 | F25: ='[1]17년특출'!M6 -> 0 | G25: ='[1]17년특출'!N6 -> 0 | H25: =G25-F25 -> 0 | I25: =B25+F25+G25 -> 0 | K25: =B25+C25+D25 -> 0 | L25: =I25-K25 -> 0
A28: ※ 회계별, 위원회별 집행부제출안(상임위에서 작성)
A29: 위원회명 | B29: 합계 | C29: 일반+기타 | D29: 일반회계 | E29: 기타특별회계 | F29: 공기업특별회계
A30: 합계 | B30: =SUM(B31:B40) -> 558747860 | C30: =SUM(C31:C40) -> 558747860 | D30: =SUM(D31:D40) -> 558747860 | E30: =SUM(E31:E40) -> 0 | F30: =SUM(F31:F40) -> 0
A31: 의회운영위원회 | B31: =SUM(D31:G31) -> 0 | C31: =D31+F31 -> 0
A32: 기획재정위원회 | B32: =SUM(D32:G32) -> 0 | C32: =D32+F32 -> 0
A33: 경제과학기술위원회 | B33: =SUM(D33:G33) -> 0 | C33: =D33+F33 -> 0
A34: 안전행정위원회 | B34: =SUM(D34:G34) -> 0 | C34: =D34+F34 -> 0
A35: 문화체육관광위원회 | B35: =SUM(D35:G35) -> 0 | C35: =D35+F35 -> 0
A36: 농정해양위원회 | B36: =SUM(D36:G36) -> 558747860 | C36: =D36+F36 -> 558747860 | D36: 558747860
A37: 보건복지위원회 | B37: =SUM(D37:G37) -> 0 | C37: =D37+F37 -> 0
A38: 건설교통위원회 | B38: =SUM(D38:G38) -> 0 | C38: =D38+F38 -> 0
A39: 도시환경위원회 | B39: =SUM(D39:G39) -> 0 | C39: =D39+F39 -> 0
A40: 여상가족교육협력위원회 | B40: =SUM(D40:G40) -> 0 | C40: =D40+F40 -> 0
A42: 예비비

Sheet 17년일입
A1: 2017년도 경기도 일반회계 세입 예산 조정(안)
A2: □ 세입예산 | W2: 세입=세출 | AB2: 세입=세출
I3: =COUNTA(I15:I37) -> 11 | J3: =COUNTA(J15:J37) -> 13 | L3: =COUNTA(L15:L37) -> 3 | M3: =COUNTA(M15:M37) -> 0 | P3: =I6+J6 -> 1743211 | R3: (단위 : 천원) | W3: =IF(W6='17년일출'!#REF!,"OK","@@") -> #REF! | Y3: =IF(COUNTIF(Y6:Y37,"검토")>0,"@@","OK") -> @@ | AB3: =IF(AB6='17년일출'!#REF!,"OK","@@") -> #REF! | AD3: =IF(COUNTIF(AD6:AD37,"검토")>0,"@@","OK") -> @@
A4: 위원회명 | B4: 실국명 | C4: 부서명 | D4: 편성 구분 | E4: 예산안 페이지 | F4: 사업설명서페이지 | G4: 사업명 | H4: 예산안 (가) | I4: 상임위 예산안 조정액(나) | K4: 상임위 조정 예산안 (다=가+나) | L4: 예결위 예산안 조정액(라) | N4: 예결위 조정 예산안 (마=가+라) | O4: 동의 대상 | P4: 상임위 변경사유 (심의 참고자료) | Q4: 비고 (상임위 부대의견) | R4: 비고 (부대의견) | T4: 국도비 등 여부 | V4: 재원 | W4: 상임위 재원별 증감액 | AA4: 재원 | AB4: 예결위 재원별 증감액 | AF4: 세입번호 | AH4: 실국부서 코드 | AJ4: 추가 내시 등 | AL4: 상임위 세입 검증 | AP4: 예결위 세입 검증
I5: 감액 | J5: 증액 | L5: 감액 | M5: 증액 | W5: 국비 등 | X5: 도비 | Y5: 검증 | AB5: 국비 등 | AC5: 도비 | AD5: 검증 | AL5: 국비 증감액 | AM5: 건수 | AN5: 검증 | AP5: 국비 증감액 | AQ5: 건수 | AR5: 검증
A6: 합 계 | H6: =SUM(H7:H37) -> 9859247 | I6: =SUM(I7:I37) -> -1856190 | J6: =SUM(J7:J37) -> 3599401 | K6: =SUM(K7:K37) -> 11602458 | L6: =SUBTOTAL(9,L15:L37) -> 0 | M6: =SUBTOTAL(9,M15:M37) -> 0 | N6: =SUBTOTAL(9,N15:N37) -> 8443247 | W6: =SUBTOTAL(9,W15:W37) -> -42783 | X6: =SUBTOTAL(9,X15:X37) -> 0 | Y6: =IF(SUM($I6:$J6)=SUM($W6:$X6),"OK","검토") -> 검토 | AB6: =SUBTOTAL(9,AB15:AB37) -> 0 | AC6: =SUBTOTAL(9,AC15:AC37) -> 0 | AD6: =IF(SUM($I6:$J6)=SUM($W6:$X6),"OK","검토") -> 검토 | AL6: =SUBTOTAL(9,AL15:AL37) -> -42783 | AM6: =SUBTOTAL(9,AM15:AM37) -> 23 | AN6: =IF(COUNTIF(AN15:AN37,"@@")>0,"@@","OK") -> OK | AP6: =SUBTOTAL(9,AP15:AP37) -> 0 | AQ6: =SUBTOTAL(9,AQ15:AQ37) -> 23 | AR6: =IF(COUNTIF(AR15:AR37,"@@")>0,"@@","OK") -> @@
A7: 농정해양위원회 | B7: 농정해양국 | C7: 농업정책과 | D7: 본예산 | E7: 611 | F7: 4 | G7: 국고보조금 - 농촌재능나눔 활성화 지원(자치단체) | H7: 50000 | I7: -25000 | K7: =SUM(H7:J7) -> 25000 | N7: =SUM(H7,L7,M7) -> 50000 | O7: =IF(AND((K7=0),(N7>0)),"O",IF(AND((I7<0),(K7-N7<0)),"O","X")) -> O | P7: 국비변경내시 /농림축산식품부 농촌정책과-3546(2016.11.2) | T7: 국도비 | V7: 국비 | W7: -25000 | X7: 0 | Y7: =IF(SUM($I7:$J7)=SUM($W7:$X7),"OK","검토") -> OK | AB7: =IF($V7<>"도비",IF($T7="국도비","직접입력",SUM($L7:$M7)),) -> 직접입력 | AC7: =IF($V7="도비",SUM(L7:M7),IF($T7="국도비","직접입력",SUM(L7:M7)-AB7)) -> 직접입력 | AD7: =IF(SUM(L7:M7)=SUM(AB7:AC7),"OK","검토") -> OK | AF7: =IF(AH7="","",IF(V7="도비","세입없음",CONCATENATE(AH7,"-",COUNTIF($AH$7:AH7,AH7)))) -> 0220-1 | AH7: {=IF(C7="","",INDEX(구분표!$I$2:$I$313, MATCH(1,(구분표!$E$2:$E$313='17년일입'!B7)*(구분표!$F$2:$F$313='17년일입'!C7)*(구분표!$G$2:$G$313='17년일입'!A7),0)))} -> 0220 | AL7: =IF(AF7="",0,SUMIFS('17년일출'!$X$6:$X$92,'17년일출'!$AG$6:$AG$92,'17년일입'!$AF7)) -> -25000 | AM7: =IF(AF7="","",COUNTIFS('17년일출'!$AG$6:$AG$92,'17년일입'!AF7)) -> 1 | AN7: =IF(W7=AL7,"OK","@@") -> OK | AP7: =IF(AF7="",0,SUMIFS('[2]17년일출'!$AA$6:$AA$116,'[2]17년일출'!$AE$6:$AE$116,'[2]17년일입'!$AE30)) -> #VALUE! | AQ7: =IF(AF7="","",COUNTIFS('[2]17년일출'!$AE$6:$AE$116,AF7)) -> #VALUE! | AR7: =IF(AB7=AP7,"OK","@@") -> #VALUE!
A8: 농정해양위원회 | B8: 농정해양국 | C8: 친환경농업과 | D8: 본예산 | E8: 614 | F8: 11 | G8: 기금 - 과수생산시설현대화 지원 | H8: 510000 | I8: -41000 | K8: =SUM(H8:J8) -> 469000 | N8: =SUM(H8,L8,M8) -> 510000 | O8: =IF(AND((K8=0),(N8>0)),"O",IF(AND((I8<0),(K8-N8<0)),"O","X")) -> O | P8: 국비변경내시/농림축산식품부 원예경영과-4659(2016.10.31) | T8: 국도비 | V8: 기금 | W8: -41000 | X8: 0 | Y8: =IF(SUM($I8:$J8)=SUM($W8:$X8),"OK","검토") -> OK | AB8: =IF($V8<>"도비",IF($T8="국도비","직접입력",SUM($L8:$M8)),) -> 직접입력 | AC8: =IF($V8="도비",SUM(L8:M8),IF($T8="국도비","직접입력",SUM(L8:M8)-AB8)) -> 직접입력 | AD8: =IF(SUM(L8:M8)=SUM(AB8:AC8),"OK","검토") -> OK | AF8: =IF(AH8="","",IF(V8="도비","세입없음",CONCATENATE(AH8,"-",COUNTIF($AH$7:AH8,AH8)))) -> 0223-1 | AH8: {=IF(C8="","",INDEX(구분표!$I$2:$I$313, MATCH(1,(구분표!$E$2:$E$313='17년일입'!B8)*(구분표!$F$2:$F$313='17년일입'!C8)*(구분표!$G$2:$G$313='17년일입'!A8),0)))} -> 0223 | AL8: =IF(AF8="",0,SUMIFS('17년일출'!$X$6:$X$92,'17년일출'!$AG$6:$AG$92,'17년일입'!$AF8)) -> -41000 | AM8: =IF(AF8="","",COUNTIFS('17년일출'!$AG$6:$AG$92,'17년일입'!AF8)) -> 1 | AN8: =IF(W8=AL8,"OK","@@") -> OK | AP8: =IF(AF8="",0,SUMIFS('[2]17년일출'!$AA$6:$AA$116,'[2]17년일출'!$AE$6:$AE$116,'[2]17년일입'!$AE31)) -> #VALUE! | AQ8: =IF(AF8="","",COUNTIFS('[2]17년일출'!$AE$6:$AE$116,AF8)) -> #VALUE! | AR8: =IF(AB8=AP8,"OK","@@") -> #VALUE!
A9: 농정해양위원회 | B9: 농정해양국 | C9: 친환경농업과 | D9: 본예산 | E9: 614 | F9: 11 | G9: 기금 - 과수ICT분야 시설보조 | H9: 14000 | I9: -2000 | K9: =SUM(H9:J9) -> 12000 | N9: =SUM(H9,L9,M9) -> 14000 | O9: =IF(AND((K9=0),(N9>0)),"O",IF(AND((I9<0),(K9-N9<0)),"O","X")) -> O | P9: 국비변경내시/농림축산식품부 원예경영과-4659(2016.10.31) | T9: 국도비 | V9: 기금 | W9: -2000 | X9: 0 | Y9: =IF(SUM($I9:$J9)=SUM($W9:$X9),"OK","검토") -> OK | AB9: =IF($V9<>"도비",IF($T9="국도비","직접입력",SUM($L9:$M9)),) -> 직접입력 | AC9: =IF($V9="도비",SUM(L9:M9),IF($T9="국도비","직접입력",SUM(L9:M9)-AB9)) -> 직접입력 | AD9: =IF(SUM(L9:M9)=SUM(AB9:AC9),"OK","검토") -> OK | AF9: =IF(AH9="","",IF(V9="도비","세입없음",CONCATENATE(AH9,"-",COUNTIF($AH$7:AH9,AH9)))) -> 0223-2 | AH9: {=IF(C9="","",INDEX(구분표!$I$2:$I$313, MATCH(1,(구분표!$E$2:$E$313='17년일입'!B9)*(구분표!$F$2:$F$313='17년일입'!C9)*(구분표!$G$2:$G$313='17년일입'!A9),0)))} -> 0223 | AL9: =IF(AF9="",0,SUMIFS('17년일출'!$X$6:$X$92,'17년일출'!$AG$6:$AG$92,'17년일입'!$AF9)) -> -2000 | AM9: =IF(AF9="","",COUNTIFS('17년일출'!$AG$6:$AG$92,'17년일입'!AF9)) -> 1 | AN9: =IF(W9=AL9,"OK","@@") -> OK | AP9: =IF(AF9="",0,SUMIFS('[2]17년일출'!$AA$6:$AA$116,'[2]17년일출'!$AE$6:$AE$116,'[2]17년일입'!$AE32)) -> #VALUE! | AQ9: =IF(AF9="","",COUNTIFS('[2]17년일출'!$AE$6:$AE$116,AF9)) -> #VALUE! | AR9: =IF(AB9=AP9,"OK","@@") -> #VALUE!
A10: 농정해양위원회 | B10: 농정해양국 | C10: 친환경농업과 | D10: 신규 | G10: 기금 - FTA폐업지원제 | J10: 1811994 | K10: =SUM(H10:J10) -> 1811994 | N10: =SUM(H10,L10,M10) -> 0 | O10: =IF(AND((K10=0),(N10>0)),"O",IF(AND((I10<0),(K10-N10<0)),"O","X")) -> X | P10: 국비변경내시/농림축산식품부 원예경영과-4856(2016.11.11) | T10: 국도비 | V10: 기금 | W10: 1811994 | X10: 0 | Y10: =IF(SUM($I10:$J10)=SUM($W10:$X10),"OK","검토") -> OK | AB10: =IF($V10<>"도비",IF($T10="국도비","직접입력",SUM($L10:$M10)),) -> 직접입력 | AC10: =IF($V10="도비",SUM(L10:M10),IF($T10="국도비","직접입력",SUM(L10:M10)-AB10)) -> 직접입력 | AD10: =IF(SUM(L10:M10)=SUM(AB10:AC10),"OK","검토") -> OK | AF10: =IF(AH10="","",IF(V10="도비","세입없음",CONCATENATE(AH10,"-",COUNTIF($AH$7:AH10,AH10)))) -> 0223-3 | AH10: {=IF(C10="","",INDEX(구분표!$I$2:$I$313, MATCH(1,(구분표!$E$2:$E$313='17년일입'!B10)*(구분표!$F$2:$F$313='17년일입'!C10)*(구분표!$G$2:$G$313='17년일입'!A10),0)))} -> 0223 | AL10: =IF(AF10="",0,SUMIFS('17년일출'!$X$6:$X$92,'17년일출'!$AG$6:$AG$92,'17년일입'!$AF10)) -> 1811994 | AM10: =IF(AF10="","",COUNTIFS('17년일출'!$AG$6:$AG$92,'17년일입'!AF10)) -> 1 | AN10: =IF(W10=AL10,"OK","@@") -> OK | AP10: =IF(AF10="",0,SUMIFS('[2]17년일출'!$AA$6:$AA$116,'[2]17년일출'!$AE$6:$AE$116,'[2]17년일입'!$AE33)) -> #VALUE! | AQ10: =IF(AF10="","",COUNTIFS('[2]17년일출'!$AE$6:$AE$116,AF10)) -> #VALUE! | AR10: =IF(AB10=AP10,"OK","@@") -> #VALUE!
A11: 농정해양위원회 | B11: 농정해양국 | C11: 수산과 | D11: 본예산 | E11: 614 | F11: 12 | G11: 국고보조금 - 어촌체험마을 사무장채용지원사업 | H11: 72000 | I11: -36000 | K11: =SUM(H11:J11) -> 36000 | N11: =SUM(H11,L11,M11) -> 72000 | O11: =IF(AND((K11=0),(N11>0)),"O",IF(AND((I11<0),(K11-N11<0)),"O","X")) -> O | P11: 국비변경내시해양수산부 어촌어항과-4489(2016.11.11) | T11: 국도비 | V11: 국비 | W11: -36000 | X11: 0 | Y11: =IF(SUM($I11:$J11)=SUM($W11:$X11),"OK","검토") -> OK | AB11: =IF($V11<>"도비",IF($T11="국도비","직접입력",SUM($L11:$M11)),) -> 직접입력 | AC11: =IF($V11="도비",SUM(L11:M11),IF($T11="국도비","직접입력",SUM(L11:M11)-AB11)) -> 직접입력 | AD11: =IF(SUM(L11:M11)=SUM(AB11:AC11),"OK","검토") -> OK | AF11: =IF(AH11="","",IF(V11="도비","세입없음",CONCATENATE(AH11,"-",COUNTIF($AH$7:AH11,AH11)))) -> 0224-1 | AH11: {=IF(C11="","",INDEX(구분표!$I$2:$I$313, MATCH(1,(구분표!$E$2:$E$313='17년일입'!B11)*(구분표!$F$2:$F$313='17년일입'!C11)*(구분표!$G$2:$G$313='17년일입'!A11),0)))} -> 0224 | AL11: =IF(AF11="",0,SUMIFS('17년일출'!$X$6:$X$92,'17년일출'!$AG$6:$AG$92,'17년일입'!$AF11)) -> -36000 | AM11: =IF(AF11="","",COUNTIFS('17년일출'!$AG$6:$AG$92,'17년일입'!AF11)) -> 1 | AN11: =IF(W11=AL11,"OK","@@") -> OK | AP11: =IF(AF11="",0,SUMIFS('[2]17년일출'!$AA$6:$AA$116,'[2]17년일출'!$AE$6:$AE$116,'[2]17년일입'!$AE34)) -> #VALUE! | AQ11: =IF(AF11="","",COUNTIFS('[2]17년일출'!$AE$6:$AE$116,AF11)) -> #VALUE! | AR11: =IF(AB11=AP11,"OK","@@") -> #VALUE!
A12: 농정해양위원회 | B12: 농정해양국 | C12: 수산과 | D12: 본예산 | E12: 615 | F12: 12 | G12: 국고보조금 - 이동수리소 운영 | H12: 35000 | I12: -5000 | K12: =SUM(H12:J12) -> 30000 | N12: =SUM(H12,L12,M12) -> 35000 | O12: =IF(AND((K12=0),(N12>0)),"O",IF(AND((I12<0),(K12-N12<0)),"O","X")) -> O | P12: 국비변경내시/해양수산부 소득복지과-5039(16.11.2) | T12: 국도비 | V12: 국비 | W12: -5000 | X12: 0 | Y12: =IF(SUM($I12:$J12)=SUM($W12:$X12),"OK","검토") -> OK | AB12: =IF($V12<>"도비",IF($T12="국도비","직접입력",SUM($L12:$M12)),) -> 직접입력 | AC12: =IF($V12="도비",SUM(L12:M12),IF($T12="국도비","직접입력",SUM(L12:M12)-AB12)) -> 직접입력 | AD12: =IF(SUM(L12:M12)=SUM(AB12:AC12),"OK","검토") -> OK | AF12: =IF(AH12="","",IF(V12="도비","세입없음",CONCATENATE(AH12,"-",COUNTIF($AH$7:AH12,AH12)))) -> 0224-2 | AH12: {=IF(C12="","",INDEX(구분표!$I$2:$I$313, MATCH(1,(구분표!$E$2:$E$313='17년일입'!B12)*(구분표!$F$2:$F$313='17년일입'!C12)*(구분표!$G$2:$G$313='17년일입'!A12),0)))} -> 0224 | AL12: =IF(AF12="",0,SUMIFS('17년일출'!$X$6:$X$92,'17년일출'!$AG$6:$AG$92,'17년일입'!$AF12)) -> -5000 | AM12: =IF(AF12="","",COUNTIFS('17년일출'!$AG$6:$AG$92,'17년일입'!AF12)) -> 1 | AN12: =IF(W12=AL12,"OK","@@") -> OK | AP12: =IF(AF12="",0,SUMIFS('[2]17년일출'!$AA$6:$AA$116,'[2]17년일출'!$AE$6:$AE$116,'[2]17년일입'!$AE35)) -> #VALUE! | AQ12: =IF(AF12="","",COUNTIFS('[2]17년일출'!$AE$6:$AE$116,AF12)) -> #VALUE! | AR12: =IF(AB12=AP12,"OK","@@") -> #VALUE!
A13: 농정해양위원회 | B13: 농정해양국 | C13: 수산과 | D13: 본예산 | E13: 615 | F13: 12 | G13: 국고보조금 - 연구교습어장 | H13: 35000 | I13: -7000 | K13: =SUM(H13:J13) -> 28000 | N13: =SUM(H13,L13,M13) -> 35000 | O13: =IF(AND((K13=0),(N13>0)),"O",IF(AND((I13<0),(K13-N13<0)),"O","X")) -> O | P13: 국비변경내시/해양수산부 소득복지과-4870(2016.10.24) | T13: 국도비 | V13: 국비 | W13: -7000 | X13: 0 | Y13: =IF(SUM($I13:$J13)=SUM($W13:$X13),"OK","검토") -> OK | AB13: =IF($V13<>"도비",IF($T13="국도비","직접입력",SUM($L13:$M13)),) -> 직접입력 | AC13: =IF($V13="도비",SUM(L13:M13),IF($T13="국도비","직접입력",SUM(L13:M13)-AB13)) -> 직접입력 | AD13: =IF(SUM(L13:M13)=SUM(AB13:AC13),"OK","검토") -> OK | AF13: =IF(AH13="","",IF(V13="도비","세입없음",CONCATENATE(AH13,"-",COUNTIF($AH$7:AH13,AH13)))) -> 0224-3 | AH13: {=IF(C13="","",INDEX(구분표!$I$2:$I$313, MATCH(1,(구분표!$E$2:$E$313='17년일입'!B13)*(구분표!$F$2:$F$313='17년일입'!C13)*(구분표!$G$2:$G$313='17년일입'!A13),0)))} -> 0224 | AL13: =IF(AF13="",0,SUMIFS('17년일출'!$X$6:$X$92,'17년일출'!$AG$6:$AG$92,'17년일입'!$AF13)) -> -7000 | AM13: =IF(AF13="","",COUNTIFS('17년일출'!$AG$6:$AG$92,'17년일입'!AF13)) -> 2 | AN13: =IF(W13=AL13,"OK","@@") -> OK | AP13: =IF(AF13="",0,SUMIFS('[2]17년일출'!$AA$6:$AA$116,'[2]17년일출'!$AE$6:$AE$116,'[2]17년일입'!$AE36)) -> #VALUE! | AQ13: =IF(AF13="","",COUNTIFS('[2]17년일출'!$AE$6:$AE$116,AF13)) -> #VALUE! | AR13: =IF(AB13=AP13,"OK","@@") -> #VALUE!
A14: 농정해양위원회 | B14: 농정해양국 | C14: 농업정책과 | D14: 본예산 | E14: 611 | F14: 4 | G14: 국고보조금 - 지역단위 6차산업 활성화 지원 | H14: 700000 | J14: 90000 | K14: =SUM(H14:J14) -> 790000 | N14: =SUM(H14,L14,M14) -> 700000 | O14: =IF(AND((K14=0),(N14>0)),"O",IF(AND((I14<0),(K14-N14<0)),"O","X")) -> X | P14: 국비변경내시/농림축산식품부 농촌산업과-4447(2016.11.17) | T14: 국도비 | V14: 국비 | W14: 90000 | X14: 0 | Y14: =IF(SUM($I14:$J14)=SUM($W14:$X14),"OK","검토") -> OK | AB14: =IF($V14<>"도비",IF($T14="국도비","직접입력",SUM($L14:$M14)),) -> 직접입력 | AC14: =IF($V14="도비",SUM(L14:M14),IF($T14="국도비","직접입력",SUM(L14:M14)-AB14)) -> 직접입력 | AD14: =IF(SUM(L14:M14)=SUM(AB14:AC14),"OK","검토") -> OK | AF14: =IF(AH14="","",IF(V14="도비","세입없음",CONCATENATE(AH14,"-",COUNTIF($AH$7:AH14,AH14)))) -> 0220-2 | AH14: {=IF(C14="","",INDEX(구분표!$I$2:$I$313, MATCH(1,(구분표!$E$2:$E$313='17년일입'!B14)*(구분표!$F$2:$F$313='17년일입'!C14)*(구분표!$G$2:$G$313='17년일입'!A14),0)))} -> 0220 | AL14: =IF(AF14="",0,SUMIFS('17년일출'!$X$6:$X$92,'17년일출'!$AG$6:$AG$92,'17년일입'!$AF14)) -> 90000 | AM14: =IF(AF14="","",COUNTIFS('17년일출'!$AG$6:$AG$92,'17년일입'!AF14)) -> 2 | AN14: =IF(W14=AL14,"OK","@@") -> OK | AP14: =IF(AF14="",0,SUMIFS('[2]17년일출'!$AA$6:$AA$116,'[2]17년일출'!$AE$6:$AE$116,'[2]17년일입'!$AE37)) -> #VALUE! | AQ14: =IF(AF14="","",COUNTIFS('[2]17년일출'!$AE$6:$AE$116,AF14)) -> #VALUE! | AR14: =IF(AB14=AP14,"OK","@@") -> #VALUE!
A15: =IFERROR(VLOOKUP($C15,구분표!$A$2:$C$313,2,FALSE),"") -> 농정해양위원회 | B15: =IFERROR(VLOOKUP($C15,구분표!$A$2:$C$313,3,FALSE),"") -> 축산산림국 | C15: 축산정책과 | D15: 본예산 | E15: 681 | G15: 기금 -가축분뇨액비살포비지원 | H15: 600000 | J15: 80000 | K15: =SUM(H15:J15) -> 680000 | N15: =SUM(H15,L15,M15) -> 600000 | O15: =IF(AND((K15=0),(N15>0)),"O",IF(AND((I15<0),(K15-N15<0)),"O","X")) -> X | P15: 국비변경내시/농림축산식품부 친환경축산팀-4656('16.11.4) | T15: 국도비 | V15: 기금 | W15: 80000 | X15: 0 | Y15: =IF(SUM($I15:$J15)=SUM($W15:$X15),"OK","검토") -> OK | AB15: =IF($V15<>"도비",IF($T15="국도비","직접입력",SUM($L15:$M15)),) -> 직접입력 | AC15: =IF($V15="도비",SUM(L15:M15),IF($T15="국도비","직접입력",SUM(L15:M15)-AB15)) -> 직접입력 | AD15: =IF(SUM(L15:M15)=SUM(AB15:AC15),"OK","검토") -> OK | AF15: =IF(AH15="","",IF(V15="도비","세입없음",CONCATENATE(AH15,"-",COUNTIF($AH$15:AH15,AH15)))) -> 0227-1 | AH15: {=IF(C15="","",INDEX(구분표!$I$2:$I$313, MATCH(1,(구분표!$E$2:$E$313='17년일입'!B15)*(구분표!$F$2:$F$313='17년일입'!C15)*(구분표!$G$2:$G$313='17년일입'!A15),0)))} -> 0227 | AL15: =IF(AF15="",0,SUMIFS('17년일출'!$X$6:$X$92,'17년일출'!$AG$6:$AG$92,'17년일입'!$AF15)) -> 80000 | AM15: =IF(AF15="","",COUNTIFS('17년일출'!$AG$6:$AG$92,'17년일입'!AF15)) -> 1 | AN15: =IF(W15=AL15,"OK","@@") -> OK | AP15: =IF(AF15="",0,SUMIFS('17년일출'!$AC$6:$AC$92,'17년일출'!$AG$6:$AG$92,'17년일입'!$AF15)) -> 0 | AQ15: =IF(AF15="","",COUNTIFS('17년일출'!$AG$6:$AG$92,AF15)) -> 1 | AR15: =IF(AB15=AP15,"OK","@@") -> @@
A16: =IFERROR(VLOOKUP($C16,구분표!$A$2:$C$313,2,FALSE),"") -> 농정해양위원회 | B16: =IFERROR(VLOOKUP($C16,구분표!$A$2:$C$313,3,FALSE),"") -> 축산산림국 | C16: 축산정책과 | D16: 본예산 | E16: 681 | G16: 기금 -가축분뇨퇴액비화지원 | H16: 667450 | I16: -67450 | K16: =SUM(H16:J16) -> 600000 | N16: =SUM(H16,L16,M16) -> 667450 | O16: =IF(AND((K16=0),(N16>0)),"O",IF(AND((I16<0),(K16-N16<0)),"O","X")) -> O | P16: 국비변경내시/농림축산식품부 친환경축산팀-4656('16.11.4) | T16: 국도비 | V16: 기금 | W16: -67450 | X16: 0 | Y16: =IF(SUM($I16:$J16)=SUM($W16:$X16),"OK","검토") -> OK | AB16: =IF($V16<>"도비",IF($T16="국도비","직접입력",SUM($L16:$M16)),) -> 직접입력 | AC16: =IF($V16="도비",SUM(L16:M16),IF($T16="국도비","직접입력",SUM(L16:M16)-AB16)) -> 직접입력 | AD16: =IF(SUM(L16:M16)=SUM(AB16:AC16),"OK","검토") -> OK | AF16: =IF(AH16="","",IF(V16="도비","세입없음",CONCATENATE(AH16,"-",COUNTIF($AH$15:AH16,AH16)))) -> 0227-2 | AH16: {=IF(C16="","",INDEX(구분표!$I$2:$I$313, MATCH(1,(구분표!$E$2:$E$313='17년일입'!B16)*(구분표!$F$2:$F$313='17년일입'!C16)*(구분표!$G$2:$G$313='17년일입'!A16),0)))} -> 0227 | AL16: =IF(AF16="",0,SUMIFS('17년일출'!$X$6:$X$92,'17년일출'!$AG$6:$AG$92,'17년일입'!$AF16)) -> -67450 | AM16: =IF(AF16="","",COUNTIFS('17년일출'!$AG$6:$AG$92,'17년일입'!AF16)) -> 1 | AN16: =IF(W16=AL16,"OK","@@") -> OK | AP16: =IF(AF16="",0,SUMIFS('17년일출'!$AC$6:$AC$92,'17년일출'!$AG$6:$AG$92,'17년일입'!$AF16)) -> 0 | AQ16: =IF(AF16="","",COUNTIFS('17년일출'!$AG$6:$AG$92,AF16)) -> 1 | AR16: =IF(AB16=AP16,"OK","@@") -> @@
A17: =IFERROR(VLOOKUP($C17,구분표!$A$2:$C$313,2,FALSE),"") -> 농정해양위원회 | B17: =IFERROR(VLOOKUP($C17,구분표!$A$2:$C$313,3,FALSE),"") -> 축산산림국 | C17: 축산정책과 | D17: 본예산 | E17: 681 | G17: 기금 -가축분뇨정화개보수지원 | H17: 494000 | I17: -294000 | K17: =SUM(H17:J17) -> 200000 | N17: =SUM(H17,L17,M17) -> 494000 | O17: =IF(AND((K17=0),(N17>0)),"O",IF(AND((I17<0),(K17-N17<0)),"O","X")) -> O | P17: 국비변경내시/농림축산식품부 친환경축산팀-4656('16.11.4) | T17: 국도비 | V17: 기금 | W17: -294000 | X17: 0 | Y17: =IF(SUM($I17:$J17)=SUM($W17:$X17),"OK","검토") -> OK | AB17: =IF($V17<>"도비",IF($T17="국도비","직접입력",SUM($L17:$M17)),) -> 직접입력 | AC17: =IF($V17="도비",SUM(L17:M17),IF($T17="국도비","직접입력",SUM(L17:M17)-AB17)) -> 직접입력 | AD17: =IF(SUM(L17:M17)=SUM(AB17:AC17),"OK","검토") -> OK | AF17: =IF(AH17="","",IF(V17="도비","세입없음",CONCATENATE(AH17,"-",COUNTIF($AH$15:AH17,AH17)))) -> 0227-3 | AH17: {=IF(C17="","",INDEX(구분표!$I$2:$I$313, MATCH(1,(구분표!$E$2:$E$313='17년일입'!B17)*(구분표!$F$2:$F$313='17년일입'!C17)*(구분표!$G$2:$G$313='17년일입'!A17),0)))} -> 0227 | AL17: =IF(AF17="",0,SUMIFS('17년일출'!$X$6:$X$92,'17년일출'!$AG$6:$AG$92,'17년일입'!$AF17)) -> -294000 | AM17: =IF(AF17="","",COUNTIFS('17년일출'!$AG$6:$AG$92,'17년일입'!AF17)) -> 1 | AN17: =IF(W17=AL17,"OK","@@") -> OK | AP17: =IF(AF17="",0,SUMIFS('17년일출'!$AC$6:$AC$92,'17년일출'!$AG$6:$AG$92,'17년일입'!$AF17)) -> 0 | AQ17: =IF(AF17="","",COUNTIFS('17년일출'!$AG$6:$AG$92,AF17)) -> 1 | AR17: =IF(AB17=AP17,"OK","@@") -> @@
A18: =IFERROR(VLOOKUP($C18,구분표!$A$2:$C$313,2,FALSE),"") -> 농정해양위원회 | B18: =IFERROR(VLOOKUP($C18,구분표!$A$2:$C$313,3,FALSE),"") -> 축산산림국 | C18: 축산정책과 | D18: 본예산 | E18: 681 | G18: 기금 -공동자원화퇴액비시설장비지원 | H18: 36000 | I18: -36000 | K18: =SUM(H18:J18) -> 0 | N18: =SUM(H18,L18,M18) -> 36000 | O18: =IF(AND((K18=0),(N18>0)),"O",IF(AND((I18<0),(K18-N18<0)),"O","X")) -> O | P18: 국비변경내시/농림축산식품부 친환경축산팀-4656('16.11.4) | T18: 국도비 | V18: 기금 | W18: -36000 | X18: 0 | Y18: =IF(SUM($I18:$J18)=SUM($W18:$X18),"OK","검토") -> OK | AB18: =IF($V18<>"도비",IF($T18="국도비","직접입력",SUM($L18:$M18)),) -> 직접입력 | AC18: =IF($V18="도비",SUM(L18:M18),IF($T18="국도비","직접입력",SUM(L18:M18)-AB18)) -> 직접입력 | AD18: =IF(SUM(L18:M18)=SUM(AB18:AC18),"OK","검토") -> OK | AF18: =IF(AH18="","",IF(V18="도비","세입없음",CONCATENATE(AH18,"-",COUNTIF($AH$15:AH18,AH18)))) -> 0227-4 | AH18: {=IF(C18="","",INDEX(구분표!$I$2:$I$313, MATCH(1,(구분표!$E$2:$E$313='17년일입'!B18)*(구분표!$F$2:$F$313='17년일입'!C18)*(구분표!$G$2:$G$313='17년일입'!A18),0)))} -> 0227 | AL18: =IF(AF18="",0,SUMIFS('17년일출'!$X$6:$X$92,'17년일출'!$AG$6:$AG$92,'17년일입'!$AF18)) -> -36000 | AM18: =IF(AF18="","",COUNTIFS('17년일출'!$AG$6:$AG$92,'17년일입'!AF18)) -> 1 | AN18: =IF(W18=AL18,"OK","@@") -> OK | AP18: =IF(AF18="",0,SUMIFS('17년일출'!$AC$6:$AC$92,'17년일출'!$AG$6:$AG$92,'17년일입'!$AF18)) -> 0 | AQ18: =IF(AF18="","",COUNTIFS('17년일출'!$AG$6:$AG$92,AF18)) -> 1 | AR18: =IF(AB18=AP18,"OK","@@") -> @@
A19: =IFERROR(VLOOKUP($C19,구분표!$A$2:$C$313,2,FALSE),"") -> 농정해양위원회 | B19: =IFERROR(VLOOKUP($C19,구분표!$A$2:$C$313,3,FALSE),"") -> 축산산림국 | C19: 축산정책과 | D19: 본예산 | E19: 681 | G19: 기금 -액비저장조지원 | H19: 669800 | I19: -468800 | K19: =SUM(H19:J19) -> 201000 | N19: =SUM(H19,L19,M19) -> 669800 | O19: =IF(AND((K19=0),(N19>0)),"O",IF(AND((I19<0),(K19-N19<0)),"O","X")) -> O | P19: 국비변경내시/농림축산식품부 친환경축산팀-4656('16.11.4) | T19: 국도비 | V19: 기금 | W19: -468800 | X19: 0 | Y19: =IF(SUM($I19:$J19)=SUM($W19:$X19),"OK","검토") -> OK | AB19: =IF($V19<>"도비",IF($T19="국도비","직접입력",SUM($L19:$M19)),) -> 직접입력 | AC19: =IF($V19="도비",SUM(L19:M19),IF($T19="국도비","직접입력",SUM(L19:M19)-AB19)) -> 직접입력 | AD19: =IF(SUM(L19:M19)=SUM(AB19:AC19),"OK","검토") -> OK | AF19: =IF(AH19="","",IF(V19="도비","세입없음",CONCATENATE(AH19,"-",COUNTIF($AH$15:AH19,AH19)))) -> 0227-5 | AH19: {=IF(C19="","",INDEX(구분표!$I$2:$I$313, MATCH(1,(구분표!$E$2:$E$313='17년일입'!B19)*(구분표!$F$2:$F$313='17년일입'!C19)*(구분표!$G$2:$G$313='17년일입'!A19),0)))} -> 0227 | AL19: =IF(AF19="",0,SUMIFS('17년일출'!$X$6:$X$92,'17년일출'!$AG$6:$AG$92,'17년일입'!$AF19)) -> -468800 | AM19: =IF(AF19="","",COUNTIFS('17년일출'!$AG$6:$AG$92,'17년일입'!AF19)) -> 1 | AN19: =IF(W19=AL19,"OK","@@") -> OK | AP19: =IF(AF19="",0,SUMIFS('17년일출'!$AC$6:$AC$92,'17년일출'!$AG$6:$AG$92,'17년일입'!$AF19)) -> 0 | AQ19: =IF(AF19="","",COUNTIFS('17년일출'!$AG$6:$AG$92,AF19)) -> 1 | AR19: =IF(AB19=AP19,"OK","@@") -> @@
A20: =IFERROR(VLOOKUP($C20,구분표!$A$2:$C$313,2,FALSE),"") -> 농정해양위원회 | B20: =IFERROR(VLOOKUP($C20,구분표!$A$2:$C$313,3,FALSE),"") -> 축산산림국 | C20: 축산정책과 | D20: 본예산 | E20: 681 | G20: 기금 -가축분뇨부숙도판정기지원 | H20: 42000 | I20: -15000 | K20: =SUM(H20:J20) -> 27000 | N20: =SUM(H20,L20,M20) -> 42000 | O20: =IF(AND((K20=0),(N20>0)),"O",IF(AND((I20<0),(K20-N20<0)),"O","X")) -> O | P20: 국비변경내시/농림축산식품부 친환경축산팀-4656('16.11.4) | T20: 국도비 | V20: 기금 | W20: -15000 | X20: 0 | Y20: =IF(SUM($I20:$J20)=SUM($W20:$X20),"OK","검토") -> OK | AB20: =IF($V20<>"도비",IF($T20="국도비","직접입력",SUM($L20:$M20)),) -> 직접입력 | AC20: =IF($V20="도비",SUM(L20:M20),IF($T20="국도비","직접입력",SUM(L20:M20)-AB20)) -> 직접입력 | AD20: =IF(SUM(L20:M20)=SUM(AB20:AC20),"OK","검토") -> OK | AF20: =IF(AH20="","",IF(V20="도비","세입없음",CONCATENATE(AH20,"-",COUNTIF($AH$15:AH20,AH20)))) -> 0227-6 | AH20: {=IF(C20="","",INDEX(구분표!$I$2:$I$313, MATCH(1,(구분표!$E$2:$E$313='17년일입'!B20)*(구분표!$F$2:$F$313='17년일입'!C20)*(구분표!$G$2:$G$313='17년일입'!A20),0)))} -> 0227 | AL20: =IF(AF20="",0,SUMIFS('17년일출'!$X$6:$X$92,'17년일출'!$AG$6:$AG$92,'17년일입'!$AF20)) -> -15000 | AM20: =IF(AF20="","",COUNTIFS('17년일출'!$AG$6:$AG$92,'17년일입'!AF20)) -> 1 | AN20: =IF(W20=AL20,"OK","@@") -> OK | AP20: =IF(AF20="",0,SUMIFS('17년일출'!$AC$6:$AC$92,'17년일출'!$AG$6:$AG$92,'17년일입'!$AF20)) -> 0 | AQ20: =IF(AF20="","",COUNTIFS('17년일출'!$AG$6:$AG$92,AF20)) -> 1 | AR20: =IF(AB20=AP20,"OK","@@") -> @@
A21: =IFERROR(VLOOKUP($C21,구분표!$A$2:$C$313,2,FALSE),"") -> 농정해양위원회 | B21: =IFERROR(VLOOKUP($C21,구분표!$A$2:$C$313,3,FALSE),"") -> 축산산림국 | C21: 축산정책과 | D21: 신규 | G21: 기금 -정착촌가축분뇨처리시설장비지원 | J21: 65000 | K21: =SUM(H21:J21) -> 65000 | N21: =SUM(H21,L21,M21) -> 0 | O21: =IF(AND((K21=0),(N21>0)),"O",IF(AND((I21<0),(K21-N21<0)),"O","X")) -> X | P21: 국비변경내시/농림축산식품부 친환경축산팀-4656('16.11.4) | T21: 국도비 | V21: 기금 | W21: 65000 | X21: 0 | Y21: =IF(SUM($I21:$J21)=SUM($W21:$X21),"OK","검토") -> OK | AB21: =IF($V21<>"도비",IF($T21="국도비","직접입력",SUM($L21:$M21)),) -> 직접입력 | AC21: =IF($V21="도비",SUM(L21:M21),IF($T21="국도비","직접입력",SUM(L21:M21)-AB21)) -> 직접입력 | AD21: =IF(SUM(L21:M21)=SUM(AB21:AC21),"OK","검토") -> OK | AF21: =IF(AH21="","",IF(V21="도비","세입없음",CONCATENATE(AH21,"-",COUNTIF($AH$15:AH21,AH21)))) -> 0227-7 | AH21: {=IF(C21="","",INDEX(구분표!$I$2:$I$313, MATCH(1,(구분표!$E$2:$E$313='17년일입'!B21)*(구분표!$F$2:$F$313='17년일입'!C21)*(구분표!$G$2:$G$313='17년일입'!A21),0)))} -> 0227 | AL21: =IF(AF21="",0,SUMIFS('17년일출'!$X$6:$X$92,'17년일출'!$AG$6:$AG$92,'17년일입'!$AF21)) -> 65000 | AM21: =IF(AF21="","",COUNTIFS('17년일출'!$AG$6:$AG$92,'17년일입'!AF21)) -> 1 | AN21: =IF(W21=AL21,"OK","@@") -> OK | AP21: =IF(AF21="",0,SUMIFS('17년일출'!$AC$6:$AC$92,'17년일출'!$AG$6:$AG$92,'17년일입'!$AF21)) -> 0 | AQ21: =IF(AF21="","",COUNTIFS('17년일출'!$AG$6:$AG$92,AF21)) -> 1 | AR21: =IF(AB21=AP21,"OK","@@") -> @@
A22: =IFERROR(VLOOKUP($C22,구분표!$A$2:$C$313,2,FALSE),"") -> 농정해양위원회 | B22: =IFERROR(VLOOKUP($C22,구분표!$A$2:$C$313,3,FALSE),"") -> 축산산림국 | C22: 축산정책과 | D22: 본예산 | E22: 681 | G22: 기금 -전문단지조성용기계장비구입지원 | H22: 66000 | I22: -6000 | K22: =SUM(H22:J22) -> 60000 | N22: =SUM(H22,L22,M22) -> 66000 | O22: =IF(AND((K22=0),(N22>0)),"O",IF(AND((I22<0),(K22-N22<0)),"O","X")) -> O | P22: 국비변경내시/농림축산식품부 친환경축산팀-4594('16.11.2) | T22: 국도비 | V22: 기금 | W22: -6000 | X22: 0 | Y22: =IF(SUM($I22:$J22)=SUM($W22:$X22),"OK","검토") -> OK | AB22: =IF($V22<>"도비",IF($T22="국도비","직접입력",SUM($L22:$M22)),) -> 직접입력 | AC22: =IF($V22="도비",SUM(L22:M22),IF($T22="국도비","직접입력",SUM(L22:M22)-AB22)) -> 직접입력 | AD22: =IF(SUM(L22:M22)=SUM(AB22:AC22),"OK","검토") -> OK | AF22: =IF(AH22="","",IF(V22="도비","세입없음",CONCATENATE(AH22,"-",COUNTIF($AH$15:AH22,AH22)))) -> 0227-8 | AH22: {=IF(C22="","",INDEX(구분표!$I$2:$I$313, MATCH(1,(구분표!$E$2:$E$313='17년일입'!B22)*(구분표!$F$2:$F$313='17년일입'!C22)*(구분표!$G$2:$G$313='17년일입'!A22),0)))} -> 0227 | AL22: =IF(AF22="",0,SUMIFS('17년일출'!$X$6:$X$92,'17년일출'!$AG$6:$AG$92,'17년일입'!$AF22)) -> -6000 | AM22: =IF(AF22="","",COUNTIFS('17년일출'!$AG$6:$AG$92,'17년일입'!AF22)) -> 1 | AN22: =IF(W22=AL22,"OK","@@") -> OK | AP22: =IF(AF22="",0,SUMIFS('17년일출'!$AC$6:$AC$92,'17년일출'!$AG$6:$AG$92,'17년일입'!$AF22)) -> 0 | AQ22: =IF(AF22="","",COUNTIFS('17년일출'!$AG$6:$AG$92,AF22)) -> 1 | AR22: =IF(AB22=AP22,"OK","@@") -> @@
A23: =IFERROR(VLOOKUP($C23,구분표!$A$2:$C$313,2,FALSE),"") -> 농정해양위원회 | B23: =IFERROR(VLOOKUP($C23,구분표!$A$2:$C$313,3,FALSE),"") -> 축산산림국 | C23: 축산정책과 | D23: 본예산 | E23: 681 | G23: 기금 -전문단지조성용사일리지제조지원 | H23: 248500 | I23: -98500 | K23: =SUM(H23:J23) -> 150000 | N23: =SUM(H23,L23,M23) -> 248500 | O23: =IF(AND((K23=0),(N23>0)),"O",IF(AND((I23<0),(K23-N23<0)),"O","X")) -> O | P23: 국비변경내시/농림축산식품부 친환경축산팀-4594('16.11.2) | T23: 국도비 | V23: 기금 | W23: -98500 | X23: 0 | Y23: =IF(SUM($I23:$J23)=SUM($W23:$X23),"OK","검토") -> OK | AB23: =IF($V23<>"도비",IF($T23="국도비","직접입력",SUM($L23:$M23)),) -> 직접입력 | AC23: =IF($V23="도비",SUM(L23:M23),IF($T23="국도비","직접입력",SUM(L23:M23)-AB23)) -> 직접입력 | AD23: =IF(SUM(L23:M23)=SUM(AB23:AC23),"OK","검토") -> OK | AF23: =IF(AH23="","",IF(V23="도비","세입없음",CONCATENATE(AH23,"-",COUNTIF($AH$15:AH23,AH23)))) -> 0227-9 | AH23: {=IF(C23="","",INDEX(구분표!$I$2:$I$313, MATCH(1,(구분표!$E$2:$E$313='17년일입'!B23)*(구분표!$F$2:$F$313='17년일입'!C23)*(구분표!$G$2:$G$313='17년일입'!A23),0)))} -> 0227 | AL23: =IF(AF23="",0,SUMIFS('17년일출'!$X$6:$X$92,'17년일출'!$AG$6:$AG$92,'17년일입'!$AF23)) -> -98500 | AM23: =IF(AF23="","",COUNTIFS('17년일출'!$AG$6:$AG$92,'17년일입'!AF23)) -> 1 | AN23: =IF(W23=AL23,"OK","@@") -> OK | AP23: =IF(AF23="",0,SUMIFS('17년일출'!$AC$6:$AC$92,'17년일출'!$AG$6:$AG$92,'17년일입'!$AF23)) -> 0 | AQ23: =IF(AF23="","",COUNTIFS('17년일출'!$AG$6:$AG$92,AF23)) -> 1 | AR23: =IF(AB23=AP23,"OK","@@") -> @@
A24: =IFERROR(VLOOKUP($C24,구분표!$A$2:$C$313,2,FALSE),"") -> 농정해양위원회 | B24: =IFERROR(VLOOKUP($C24,구분표!$A$2:$C$313,3,FALSE),"") -> 축산산림국 | C24: 축산정책과 | D24: 본예산 | E24: 681 | G24: 기금 -전문단지조성용종자구입지원 | H24: 22000 | J24: 2000 | K24: =SUM(H24:J24) -> 24000 | N24: =SUM(H24,L24,M24) -> 22000 | O24: =IF(AND((K24=0),(N24>0)),"O",IF(AND((I24<0),(K24-N24<0)),"O","X")) -> X | P24: 국비변경내시/농림축산식품부 친환경축산팀-4594('16.11.2) | T24: 국도비 | V24: 기금 | W24: 2000 | X24: 0 | Y24: =IF(SUM($I24:$J24)=SUM($W24:$X24),"OK","검토") -> OK | AB24: =IF($V24<>"도비",IF($T24="국도비","직접입력",SUM($L24:$M24)),) -> 직접입력 | AC24: =IF($V24="도비",SUM(L24:M24),IF($T24="국도비","직접입력",SUM(L24:M24)-AB24)) -> 직접입력 | AD24: =IF(SUM(L24:M24)=SUM(AB24:AC24),"OK","검토") -> OK | AF24: =IF(AH24="","",IF(V24="도비","세입없음",CONCATENATE(AH24,"-",COUNTIF($AH$15:AH24,AH24)))) -> 0227-10 | AH24: {=IF(C24="","",INDEX(구분표!$I$2:$I$313, MATCH(1,(구분표!$E$2:$E$313='17년일입'!B24)*(구분표!$F$2:$F$313='17년일입'!C24)*(구분표!$G$2:$G$313='17년일입'!A24),0)))} -> 0227 | AL24: =IF(AF24="",0,SUMIFS('17년일출'!$X$6:$X$92,'17년일출'!$AG$6:$AG$92,'17년일입'!$AF24)) -> 2000 | AM24: =IF(AF24="","",COUNTIFS('17년일출'!$AG$6:$AG$92,'17년일입'!AF24)) -> 1 | AN24: =IF(W24=AL24,"OK","@@") -> OK | AP24: =IF(AF24="",0,SUMIFS('17년일출'!$AC$6:$AC$92,'17년일출'!$AG$6:$AG$92,'17년일입'!$AF24)) -> 0 | AQ24: =IF(AF24="","",COUNTIFS('17년일출'!$AG$6:$AG$92,AF24)) -> 1 | AR24: =IF(AB24=AP24,"OK","@@") -> @@
A25: =IFERROR(VLOOKUP($C25,구분표!$A$2:$C$313,2,FALSE),"") -> 농정해양위원회 | B25: =IFERROR(VLOOKUP($C25,구분표!$A$2:$C$313,3,FALSE),"") -> 축산산림국 | C25: 축산정책과 | D25: 본예산 | E25: 681 | G25: 기금 -조사료생산용기계장비구입지원 | H25: 120000 | J25: 45000 | K25: =SUM(H25:J25) -> 165000 | N25: =SUM(H25,L25,M25) -> 120000 | O25: =IF(AND((K25=0),(N25>0)),"O",IF(AND((I25<0),(K25-N25<0)),"O","X")) -> X | P25: 국비변경내시/농림축산식품부 친환경축산팀-4594('16.11.2) | T25: 국도비 | V25: 기금 | W25: 45000 | X25: 0 | Y25: =IF(SUM($I25:$J25)=SUM($W25:$X25),"OK","검토") -> OK | AB25: =IF($V25<>"도비",IF($T25="국도비","직접입력",SUM($L25:$M25)),) -> 직접입력 | AC25: =IF($V25="도비",SUM(L25:M25),IF($T25="국도비","직접입력",SUM(L25:M25)-AB25)) -> 직접입력 | AD25: =IF(SUM(L25:M25)=SUM(AB25:AC25),"OK","검토") -> OK | AF25: =IF(AH25="","",IF(V25="도비","세입없음",CONCATENATE(AH25,"-",COUNTIF($AH$15:AH25,AH25)))) -> 0227-11 | AH25: {=IF(C25="","",INDEX(구분표!$I$2:$I$313, MATCH(1,(구분표!$E$2:$E$313='17년일입'!B25)*(구분표!$F$2:$F$313='17년일입'!C25)*(구분표!$G$2:$G$313='17년일입'!A25),0)))} -> 0227 | AL25: =IF(AF25="",0,SUMIFS('17년일출'!$X$6:$X$92,'17년일출'!$AG$6:$AG$92,'17년일입'!$AF25)) -> 45000 | AM25: =IF(AF25="","",COUNTIFS('17년일출'!$AG$6:$AG$92,'17년일입'!AF25)) -> 1 | AN25: =IF(W25=AL25,"OK","@@") -> OK | AP25: =IF(AF25="",0,SUMIFS('17년일출'!$AC$6:$AC$92,'17년일출'!$AG$6:$AG$92,'17년일입'!$AF25)) -> 0 | AQ25: =IF(AF25="","",COUNTIFS('17년일출'!$AG$6:$AG$92,AF25)) -> 1 | AR25: =IF(AB25=AP25,"OK","@@") -> @@
A26: =IFERROR(VLOOKUP($C26,구분표!$A$2:$C$313,2,FALSE),"") -> 농정해양위원회 | B26: =IFERROR(VLOOKUP($C26,구분표!$A$2:$C$313,3,FALSE),"") -> 축산산림국 | C26: 축산정책과 | D26: 본예산 | E26: 681 | G26: 기금 -조사료생산용사일리지제조지원 | H26: 2216208 | J26: 283792 | K26: =SUM(H26:J26) -> 2500000 | N26: =SUM(H26,L26,M26) -> 2216208 | O26: =IF(AND((K26=0),(N26>0)),"O",IF(AND((I26<0),(K26-N26<0)),"O","X")) -> X | P26: 국비변경내시/농림축산식품부 친환경축산팀-4594('16.11.2) | T26: 국도비 | V26: 기금 | W26: 283792 | X26: 0 | Y26: =IF(SUM($I26:$J26)=SUM($W26:$X26),"OK","검토") -> OK | AB26: =IF($V26<>"도비",IF($T26="국도비","직접입력",SUM($L26:$M26)),) -> 직접입력 | AC26: =IF($V26="도비",SUM(L26:M26),IF($T26="국도비","직접입력",SUM(L26:M26)-AB26)) -> 직접입력 | AD26: =IF(SUM(L26:M26)=SUM(AB26:AC26),"OK","검토") -> OK | AF26: =IF(AH26="","",IF(V26="도비","세입없음",CONCATENATE(AH26,"-",COUNTIF($AH$15:AH26,AH26)))) -> 0227-12 | AH26: {=IF(C26="","",INDEX(구분표!$I$2:$I$313, MATCH(1,(구분표!$E$2:$E$313='17년일입'!B26)*(구분표!$F$2:$F$313='17년일입'!C26)*(구분표!$G$2:$G$313='17년일입'!A26),0)))} -> 0227 | AL26: =IF(AF26="",0,SUMIFS('17년일출'!$X$6:$X$92,'17년일출'!$AG$6:$AG$92,'17년일입'!$AF26)) -> 283792 | AM26: =IF(AF26="","",COUNTIFS('17년일출'!$AG$6:$AG$92,'17년일입'!AF26)) -> 1 | AN26: =IF(W26=AL26,"OK","@@") -> OK | AP26: =IF(AF26="",0,SUMIFS('17년일출'!$AC$6:$AC$92,'17년일출'!$AG$6:$AG$92,'17년일입'!$AF26)) -> 0 | AQ26: =IF(AF26="","",COUNTIFS('17년일출'!$AG$6:$AG$92,AF26)) -> 1 | AR26: =IF(AB26=AP26,"OK","@@") -> @@
A27: =IFERROR(VLOOKUP($C27,구분표!$A$2:$C$313,2,FALSE),"") -> 농정해양위원회 | B27: =IFERROR(VLOOKUP($C27,구분표!$A$2:$C$313,3,FALSE),"") -> 축산산림국 | C27: 축산정책과 | D27: 본예산 | E27: 681 | G27: 기금 -조사료생산용종자구입지원 | H27: 620900 | J27: 39100 | K27: =SUM(H27:J27) -> 660000 | N27: =SUM(H27,L27,M27) -> 620900 | O27: =IF(AND((K27=0),(N27>0)),"O",IF(AND((I27<0),(K27-N27<0)),"O","X")) -> X | P27: 국비변경내시/농림축산식품부 친환경축산팀-4594('16.11.2) | T27: 국도비 | V27: 기금 | W27: 39100 | X27: 0 | Y27: =IF(SUM($I27:$J27)=SUM($W27:$X27),"OK","검토") -> OK | AB27: =IF($V27<>"도비",IF($T27="국도비","직접입력",SUM($L27:$M27)),) -> 직접입력 | AC27: =IF($V27="도비",SUM(L27:M27),IF($T27="국도비","직접입력",SUM(L27:M27)-AB27)) -> 직접입력 | AD27: =IF(SUM(L27:M27)=SUM(AB27:AC27),"OK","검토") -> OK | AF27: =IF(AH27="","",IF(V27="도비","세입없음",CONCATENATE(AH27,"-",COUNTIF($AH$15:AH27,AH27)))) -> 0227-13 | AH27: {=IF(C27="","",INDEX(구분표!$I$2:$I$313, MATCH(1,(구분표!$E$2:$E$313='17년일입'!B27)*(구분표!$F$2:$F$313='17년일입'!C27)*(구분표!$G$2:$G$313='17년일입'!A27),0)))} -> 0227 | AL27: =IF(AF27="",0,SUMIFS('17년일출'!$X$6:$X$92,'17년일출'!$AG$6:$AG$92,'17년일입'!$AF27)) -> 39100 | AM27: =IF(AF27="","",COUNTIFS('17년일출'!$AG$6:$AG$92,'17년일입'!AF27)) -> 1 | AN27: =IF(W27=AL27,"OK","@@") -> OK | AP27: =IF(AF27="",0,SUMIFS('17년일출'!$AC$6:$AC$92,'17년일출'!$AG$6:$AG$92,'17년일입'!$AF27)) -> 0 | AQ27: =IF(AF27="","",COUNTIFS('17년일출'!$AG$6:$AG$92,AF27)) -> 1 | AR27: =IF(AB27=AP27,"OK","@@") -> @@
A28: =IFERROR(VLOOKUP($C28,구분표!$A$2:$C$313,2,FALSE),"") -> 농정해양위원회 | B28: =IFERROR(VLOOKUP($C28,구분표!$A$2:$C$313,3,FALSE),"") -> 축산산림국 | C28: 축산정책과 | D28: 본예산 | E28: 681 | G28: 기금 -조사료생산용볏짚처리비지원 | H28: 647100 | I28: -647100 | K28: =SUM(H28:J28) -> 0 | N28: =SUM(H28,L28,M28) -> 647100 | O28: =IF(AND((K28=0),(N28>0)),"O",IF(AND((I28<0),(K28-N28<0)),"O","X")) -> O | P28: 국비변경내시/농림축산식품부 친환경축산팀-4594('16.11.2) | T28: 국도비 | V28: 기금 | W28: -647100 | X28: 0 | Y28: =IF(SUM($I28:$J28)=SUM($W28:$X28),"OK","검토") -> OK | AB28: =IF($V28<>"도비",IF($T28="국도비","직접입력",SUM($L28:$M28)),) -> 직접입력 | AC28: =IF($V28="도비",SUM(L28:M28),IF($T28="국도비","직접입력",SUM(L28:M28)-AB28)) -> 직접입력 | AD28: =IF(SUM(L28:M28)=SUM(AB28:AC28),"OK","검토") -> OK | AF28: =IF(AH28="","",IF(V28="도비","세입없음",CONCATENATE(AH28,"-",COUNTIF($AH$15:AH28,AH28)))) -> 0227-14 | AH28: {=IF(C28="","",INDEX(구분표!$I$2:$I$313, MATCH(1,(구분표!$E$2:$E$313='17년일입'!B28)*(구분표!$F$2:$F$313='17년일입'!C28)*(구분표!$G$2:$G$313='17년일입'!A28),0)))} -> 0227 | AL28: =IF(AF28="",0,SUMIFS('17년일출'!$X$6:$X$92,'17년일출'!$AG$6:$AG$92,'17년일입'!$AF28)) -> -647100 | AM28: =IF(AF28="","",COUNTIFS('17년일출'!$AG$6:$AG$92,'17년일입'!AF28)) -> 1 | AN28: =IF(W28=AL28,"OK","@@") -> OK | AP28: =IF(AF28="",0,SUMIFS('17년일출'!$AC$6:$AC$92,'17년일출'!$AG$6:$AG$92,'17년일입'!$AF28)) -> 0 | AQ28: =IF(AF28="","",COUNTIFS('17년일출'!$AG$6:$AG$92,AF28)) -> 1 | AR28: =IF(AB28=AP28,"OK","@@") -> @@
A29: =IFERROR(VLOOKUP($C29,구분표!$A$2:$C$313,2,FALSE),"") -> 농정해양위원회 | B29: =IFERROR(VLOOKUP($C29,구분표!$A$2:$C$313,3,FALSE),"") -> 축산산림국 | C29: 축산정책과 | D29: 본예산 | E29: 681 | G29: 기금 -조사료가공유통시설지원 | H29: 74000 | I29: -11000 | K29: =SUM(H29:J29) -> 63000 | N29: =SUM(H29,L29,M29) -> 74000 | O29: =IF(AND((K29=0),(N29>0)),"O",IF(AND((I29<0),(K29-N29<0)),"O","X")) -> O | P29: 국비변경내시/농림축산식품부 친환경축산팀-4594('16.11.2) | T29: 국도비 | V29: 기금 | W29: -11000 | X29: 0 | Y29: =IF(SUM($I29:$J29)=SUM($W29:$X29),"OK","검토") -> OK | AB29: =IF($V29<>"도비",IF($T29="국도비","직접입력",SUM($L29:$M29)),) -> 직접입력 | AC29: =IF($V29="도비",SUM(L29:M29),IF($T29="국도비","직접입력",SUM(L29:M29)-AB29)) -> 직접입력 | AD29: =IF(SUM(L29:M29)=SUM(AB29:AC29),"OK","검토") -> OK | AF29: =IF(AH29="","",IF(V29="도비","세입없음",CONCATENATE(AH29,"-",COUNTIF($AH$15:AH29,AH29)))) -> 0227-15 | AH29: {=IF(C29="","",INDEX(구분표!$I$2:$I$313, MATCH(1,(구분표!$E$2:$E$313='17년일입'!B29)*(구분표!$F$2:$F$313='17년일입'!C29)*(구분표!$G$2:$G$313='17년일입'!A29),0)))} -> 0227 | AL29: =IF(AF29="",0,SUMIFS('17년일출'!$X$6:$X$92,'17년일출'!$AG$6:$AG$92,'17년일입'!$AF29)) -> -11000 | AM29: =IF(AF29="","",COUNTIFS('17년일출'!$AG$6:$AG$92,'17년일입'!AF29)) -> 1 | AN29: =IF(W29=AL29,"OK","@@") -> OK | AP29: =IF(AF29="",0,SUMIFS('17년일출'!$AC$6:$AC$92,'17년일출'!$AG$6:$AG$92,'17년일입'!$AF29)) -> 0 | AQ29: =IF(AF29="","",COUNTIFS('17년일출'!$AG$6:$AG$92,AF29)) -> 1 | AR29: =IF(AB29=AP29,"OK","@@") -> @@
A30: =IFERROR(VLOOKUP($C30,구분표!$A$2:$C$313,2,FALSE),"") -> 농정해양위원회 | B30: =IFERROR(VLOOKUP($C30,구분표!$A$2:$C$313,3,FALSE),"") -> 축산산림국 | C30: 축산정책과 | D30: 본예산 | E30: 681 | G30: 기금 -조사료품질관리지원 | H30: 91900 | I30: -62640 | K30: =SUM(H30:J30) -> 29260 | N30: =SUM(H30,L30,M30) -> 91900 | O30: =IF(AND((K30=0),(N30>0)),"O",IF(AND((I30<0),(K30-N30<0)),"O","X")) -> O | P30: 국비변경내시/농림축산식품부 친환경축산팀-4594('16.11.2) | T30: 국도비 | V30: 기금 | W30: -62640 | X30: 0 | Y30: =IF(SUM($I30:$J30)=SUM($W30:$X30),"OK","검토") -> OK | AB30: =IF($V30<>"도비",IF($T30="국도비","직접입력",SUM($L30:$M30)),) -> 직접입력 | AC30: =IF($V30="도비",SUM(L30:M30),IF($T30="국도비","직접입력",SUM(L30:M30)-AB30)) -> 직접입력 | AD30: =IF(SUM(L30:M30)=SUM(AB30:AC30),"OK","검토") -> OK | AF30: =IF(AH30="","",IF(V30="도비","세입없음",CONCATENATE(AH30,"-",COUNTIF($AH$15:AH30,AH30)))) -> 0227-16 | AH30: {=IF(C30="","",INDEX(구분표!$I$2:$I$313, MATCH(1,(구분표!$E$2:$E$313='17년일입'!B30)*(구분표!$F$2:$F$313='17년일입'!C30)*(구분표!$G$2:$G$313='17년일입'!A30),0)))} -> 0227 | AL30: =IF(AF30="",0,SUMIFS('17년일출'!$X$6:$X$92,'17년일출'!$AG$6:$AG$92,'17년일입'!$AF30)) -> -62640 | AM30: =IF(AF30="","",COUNTIFS('17년일출'!$AG$6:$AG$92,'17년일입'!AF30)) -> 1 | AN30: =IF(W30=AL30,"OK","@@") -> OK | AP30: =IF(AF30="",0,SUMIFS('17년일출'!$AC$6:$AC$92,'17년일출'!$AG$6:$AG$92,'17년일입'!$AF30)) -> 0 | AQ30: =IF(AF30="","",COUNTIFS('17년일출'!$AG$6:$AG$92,AF30)) -> 1 | AR30: =IF(AB30=AP30,"OK","@@") -> @@
A31: =IFERROR(VLOOKUP($C31,[3]구분표!$A$2:$C$313,2,FALSE),"") -> 농정해양위원회 | B31: =IFERROR(VLOOKUP($C31,[3]구분표!$A$2:$C$313,3,FALSE),"") -> 축산산림국 | C31: 동물방역위생과 | D31: 본예산 | E31: 682 | G31: 기금 -축산물위생검사기관 운영비 지원 | H31: 328000 | J31: 40000 | K31: =SUM(H31:J31) -> 368000 | N31: =SUM(H31,L31,M31) -> 328000 | O31: =IF(AND((K31=0),(N31>0)),"O",IF(AND((I31<0),(K31-N31<0)),"O","X")) -> X | P31: 국비변경내시 농림축산식품부방역관리과-6979호,(’16.10.21) | T31: 국도비 | V31: 기금 | W31: 40000 | Y31: =IF(SUM($I31:$J31)=SUM($W31:$X31),"OK","검토") -> OK | AB31: =IF($V31<>"도비",IF($T31="국도비","직접입력",SUM($L31:$M31)),) -> 직접입력 | AC31: =IF($V31="도비",SUM(L31:M31),IF($T31="국도비","직접입력",SUM(L31:M31)-AB31)) -> 직접입력 | AD31: =IF(SUM(L31:M31)=SUM(AB31:AC31),"OK","검토") -> OK | AF31: =IF(AH31="","",IF(V31="도비","세입없음",CONCATENATE(AH31,"-",COUNTIF($AH$15:AH31,AH31)))) -> 228-1 | AH31: 228 | AL31: 40000 | AM31: =IF(AF31="","",COUNTIFS('17년일출'!$AG$6:$AG$92,'17년일입'!AF31)) -> 0 | AN31: =IF(W31=AL31,"OK","@@") -> OK | AP31: =IF(AF31="",0,SUMIFS('17년일출'!$AC$6:$AC$92,'17년일출'!$AG$6:$AG$92,'17년일입'!$AF31)) -> 0 | AQ31: =IF(AF31="","",COUNTIFS('17년일출'!$AG$6:$AG$92,AF31)) -> 0 | AR31: =IF(AB31=AP31,"OK","@@") -> @@
A32: 농정해양위원회 | B32: 축산산림국 | C32: 산림과 | D32: 신규 | G32: 국고보조금 -산림작물생산단지 | J32: 466624 | K32: =SUM(H32:J32) -> 466624 | N32: =SUM(H32,L32,M32) -> 0 | P32: 국비변경내시 (산림청 사유림경영소득과-4361(2016.10.27.호)) | T32: 국도비 | V32: 국비 | W32: 466624 | X32: 0 | Y32: =IF(SUM($I32:$J32)=SUM($W32:$X32),"OK","검토") -> OK | AB32: =IF($V32<>"도비",IF($T32="국도비","직접입력",SUM($L32:$M32)),) -> 직접입력 | AC32: =IF($V32="도비",SUM(L32:M32),IF($T32="국도비","직접입력",SUM(L32:M32)-AB32)) -> 직접입력 | AD32: =IF(SUM(L32:M32)=SUM(AB32:AC32),"OK","검토") -> OK | AF32: =IF(AH32="","",IF(V32="도비","세입없음",CONCATENATE(AH32,"-",COUNTIF($AH$15:AH32,AH32)))) -> 0229-1 | AH32: {=IF(C32="","",INDEX(구분표!$I$2:$I$313, MATCH(1,(구분표!$E$2:$E$313='17년일입'!B32)*(구분표!$F$2:$F$313='17년일입'!C32)*(구분표!$G$2:$G$313='17년일입'!A32),0)))} -> 0229 | AL32: =IF(AF32="",0,SUMIFS('17년일출'!$X$6:$X$92,'17년일출'!$AG$6:$AG$92,'17년일입'!$AF32)) -> 466624 | AM32: =IF(AF32="","",COUNTIFS('17년일출'!$AG$6:$AG$92,'17년일입'!AF32)) -> 1 | AN32: =IF(W32=AL32,"OK","@@") -> OK | AP32: =IF(AF32="",0,SUMIFS('17년일출'!$AC$6:$AC$92,'17년일출'!$AG$6:$AG$92,'17년일입'!$AF32)) -> 0 | AQ32: =IF(AF32="","",COUNTIFS('17년일출'!$AG$6:$AG$92,AF32)) -> 1 | AR32: =IF(AB32=AP32,"OK","@@") -> @@
A33: 농정해양위원회 | B33: 축산산림국 | C33: 산림과 | D33: 신규 | G33: 국고보조금 -산림복합경영단지 | J33: 572580 | K33: =SUM(H33:J33) -> 572580 | N33: =SUM(H33,L33,M33) -> 0 | O33: =IF(AND((K33=0),(N33>0)),"O",IF(AND((I33<0),(K33-N33<0)),"O","X")) -> X | P33: 국비변경내시 (산림청 사유림경영소득과-4361(2016.10.27.호)) | T33: 국도비 | V33: 국비 | W33: 572580 | X33: 0 | Y33: =IF(SUM($I33:$J33)=SUM($W33:$X33),"OK","검토") -> OK | AB33: =IF($V33<>"도비",IF($T33="국도비","직접입력",SUM($L33:$M33)),) -> 직접입력 | AC33: =IF($V33="도비",SUM(L33:M33),IF($T33="국도비","직접입력",SUM(L33:M33)-AB33)) -> 직접입력 | AD33: =IF(SUM(L33:M33)=SUM(AB33:AC33),"OK","검토") -> OK | AF33: =IF(AH33="","",IF(V33="도비","세입없음",CONCATENATE(AH33,"-",COUNTIF($AH$15:AH33,AH33)))) -> 0229-2 | AH33: {=IF(C33="","",INDEX(구분표!$I$2:$I$313, MATCH(1,(구분표!$E$2:$E$313='17년일입'!B33)*(구분표!$F$2:$F$313='17년일입'!C33)*(구분표!$G$2:$G$313='17년일입'!A33),0)))} -> 0229 | AL33: =IF(AF33="",0,SUMIFS('17년일출'!$X$6:$X$92,'17년일출'!$AG$6:$AG$92,'17년일입'!$AF33)) -> 572580 | AM33: =IF(AF33="","",COUNTIFS('17년일출'!$AG$6:$AG$92,'17년일입'!AF33)) -> 1 | AN33: =IF(W33=AL33,"OK","@@") -> OK | AP33: =IF(AF33="",0,SUMIFS('17년일출'!$AC$6:$AC$92,'17년일출'!$AG$6:$AG$92,'17년일입'!$AF33)) -> 0 | AQ33: =IF(AF33="","",COUNTIFS('17년일출'!$AG$6:$AG$92,AF33)) -> 1 | AR33: =IF(AB33=AP33,"OK","@@") -> @@
A34: 농정해양위원회 | B34: 축산산림국 | C34: 축산진흥센터 | D34: 본예산 | E34: 688 | G34: 기금 - 한우젖소개량 자본지원(자치단체) | H34: 158889 | J34: 111 | K34: =SUM(H34:J34) -> 159000 | N34: =SUM(H34,L34,M34) -> 158889 | O34: =IF(AND((K34=0),(N34>0)),"O",IF(AND((I34<0),(K34-N34<0)),"O","X")) -> X | P34: 국비변경내시 (농림축산식품부 축산경영과-4267(2016.11.1)호 | T34: 국도비 | V34: 기금 | W34: 111 | X34: 0 | Y34: =IF(SUM($I34:$J34)=SUM($W34:$X34),"OK","검토") -> OK | AB34: =IF($V34<>"도비",IF($T34="국도비","직접입력",SUM($L34:$M34)),) -> 직접입력 | AC34: =IF($V34="도비",SUM(L34:M34),IF($T34="국도비","직접입력",SUM(L34:M34)-AB34)) -> 직접입력 | AD34: =IF(SUM(L34:M34)=SUM(AB34:AC34),"OK","검토") -> OK | AF34: =IF(AH34="","",IF(V34="도비","세입없음",CONCATENATE(AH34,"-",COUNTIF($AH$15:AH34,AH34)))) -> 0233-1 | AH34: {=IF(C34="","",INDEX(구분표!$I$2:$I$313, MATCH(1,(구분표!$E$2:$E$313='17년일입'!B34)*(구분표!$F$2:$F$313='17년일입'!C34)*(구분표!$G$2:$G$313='17년일입'!A34),0)))} -> 0233 | AL34: =IF(AF34="",0,SUMIFS('17년일출'!$X$6:$X$92,'17년일출'!$AG$6:$AG$92,'17년일입'!$AF34)) -> 111 | AM34: =IF(AF34="","",COUNTIFS('17년일출'!$AG$6:$AG$92,'17년일입'!AF34)) -> 3 | AN34: =IF(W34=AL34,"OK","@@") -> OK | AP34: =IF(AF34="",0,SUMIFS('17년일출'!$AC$6:$AC$92,'17년일출'!$AG$6:$AG$92,'17년일입'!$AF34)) -> 0 | AQ34: =IF(AF34="","",COUNTIFS('17년일출'!$AG$6:$AG$92,AF34)) -> 3 | AR34: =IF(AB34=AP34,"OK","@@") -> @@
A35: 농정해양위원회 | B35: 농업기술원 | C35: 행정지원과 | D35: 신규 | G35: 국고보조금 - 스마트 팜 권역별 현장지원센터 지원사업 | J35: 75000 | K35: 75000 | L35: 국비 신규 가내시 (농림축산식품부 창조농식품정책과-3015호, ’16.10.25) | N35: =SUM(H35,L35,M35) -> 0 | O35: =IF(AND((K35=0),(N35>0)),"O",IF(AND((I35<0),(K35-N35<0)),"O","X")) -> X | P35: 국비 신규 가내시 (농림축산식품부 창조농식품정책과-3015호, ’16.10.25) | T35: 국도비 | V35: 국비 | W35: 75000 | X35: 0 | Y35: =IF(SUM($I35:$J35)=SUM($W35:$X35),"OK","검토") -> OK | AB35: =IF($V35<>"도비",IF($T35="국도비","직접입력",SUM($L35:$M35)),) -> 직접입력 | AC35: =IF($V35="도비",SUM(L35:M35),IF($T35="국도비","직접입력",SUM(L35:M35)-AB35)) -> 직접입력 | AD35: =IF(SUM(L35:M35)=SUM(AB35:AC35),"OK","검토") -> OK | AF35: =IF(AH35="","",IF(V35="도비","세입없음",CONCATENATE(AH35,"-",COUNTIF($AH$15:AH35,AH35)))) -> 0234-1 | AH35: {=IF(C35="","",INDEX(구분표!$I$2:$I$313, MATCH(1,(구분표!$E$2:$E$313='17년일입'!B35)*(구분표!$F$2:$F$313='17년일입'!C35)*(구분표!$G$2:$G$313='17년일입'!A35),0)))} -> 0234 | AL35: 75000 | AM35: =IF(AF35="","",COUNTIFS('17년일출'!$AG$6:$AG$92,'17년일입'!AF35)) -> 2 | AN35: =IF(W35=AL35,"OK","@@") -> OK | AP35: =IF(AF35="",0,SUMIFS('17년일출'!$AC$6:$AC$92,'17년일출'!$AG$6:$AG$92,'17년일입'!$AF35)) -> 0 | AQ35: =IF(AF35="","",COUNTIFS('17년일출'!$AG$6:$AG$92,AF35)) -> 2 | AR35: =IF(AB35=AP35,"OK","@@") -> @@
A36: 농정해양위원회 | B36: 농업기술원 | C36: 행정지원과 | D36: 본예산 | E36: 787 | F36: 14 | G36: 국고보조금 - 지역전략작목산학연협력 | H36: 683700 | I36: -33700 | J36: 0 | K36: 650000 | L36: 예산 입력 오류 | N36: =SUM(H36,L36,M36) -> 683700 | O36: =IF(AND((K36=0),(N36>0)),"O",IF(AND((I36<0),(K36-N36<0)),"O","X")) -> O | P36: 예산 입력 오류 | T36: 국도비 | V36: 국비 | W36: -33700 | X36: 0 | Y36: =IF(SUM($I36:$J36)=SUM($W36:$X36),"OK","검토") -> OK | AB36: =IF($V36<>"도비",IF($T36="국도비","직접입력",SUM($L36:$M36)),) -> 직접입력 | AC36: =IF($V36="도비",SUM(L36:M36),IF($T36="국도비","직접입력",SUM(L36:M36)-AB36)) -> 직접입력 | AD36: =IF(SUM(L36:M36)=SUM(AB36:AC36),"OK","검토") -> OK | AF36: =IF(AH36="","",IF(V36="도비","세입없음",CONCATENATE(AH36,"-",COUNTIF($AH$15:AH36,AH36)))) -> 0234-2 | AH36: {=IF(C36="","",INDEX(구분표!$I$2:$I$313, MATCH(1,(구분표!$E$2:$E$313='17년일입'!B36)*(구분표!$F$2:$F$313='17년일입'!C36)*(구분표!$G$2:$G$313='17년일입'!A36),0)))} -> 0234 | AL36: -33700 | AM36: =IF(AF36="","",COUNTIFS('17년일출'!$AG$6:$AG$92,'17년일입'!AF36)) -> 0 | AN36: =IF(W36=AL36,"OK","@@") -> OK | AP36: =IF(AF36="",0,SUMIFS('17년일출'!$AC$6:$AC$92,'17년일출'!$AG$6:$AG$92,'17년일입'!$AF36)) -> 0 | AQ36: =IF(AF36="","",COUNTIFS('17년일출'!$AG$6:$AG$92,AF36)) -> 0 | AR36: =IF(AB36=AP36,"OK","@@") -> @@
A37: 농정해양위원회 | B37: 농업기술원 | C37: 행정지원과 | D37: 본예산 | E37: 787 | F37: 14 | G37: 국고보조금 - 지역특화작목기술개발 | H37: 656800 | J37: 28200 | K37: 685000 | L37: 예산 입력 오류 | N37: =SUM(H37,L37,M37) -> 656800 | O37: =IF(AND((K37=0),(N37>0)),"O",IF(AND((I37<0),(K37-N37<0)),"O","X")) -> X | P37: 예산 입력 오류 | T37: 국도비 | V37: 국비 | W37: 28200 | X37: 0 | Y37: =IF(SUM($I37:$J37)=SUM($W37:$X37),"OK","검토") -> OK | AB37: =IF($V37<>"도비",IF($T37="국도비","직접입력",SUM($L37:$M37)),) -> 직접입력 | AC37: =IF($V37="도비",SUM(L37:M37),IF($T37="국도비","직접입력",SUM(L37:M37)-AB37)) -> 직접입력 | AD37: =IF(SUM(L37:M37)=SUM(AB37:AC37),"OK","검토") -> OK | AF37: =IF(AH37="","",IF(V37="도비","세입없음",CONCATENATE(AH37,"-",COUNTIF($AH$15:AH37,AH37)))) -> 0234-3 | AH37: {=IF(C37="","",INDEX(구분표!$I$2:$I$313, MATCH(1,(구분표!$E$2:$E$313='17년일입'!B37)*(구분표!$F$2:$F$313='17년일입'!C37)*(구분표!$G$2:$G$313='17년일입'!A37),0)))} -> 0234 | AL37: 28200 | AM37: =IF(AF37="","",COUNTIFS('17년일출'!$AG$6:$AG$92,'17년일입'!AF37)) -> 0 | AN37: =IF(W37=AL37,"OK","@@") -> OK | AP37: =IF(AF37="",0,SUMIFS('17년일출'!$AC$6:$AC$92,'17년일출'!$AG$6:$AG$92,'17년일입'!$AF37)) -> 0 | AQ37: =IF(AF37="","",COUNTIFS('17년일출'!$AG$6:$AG$92,AF37)) -> 0 | AR37: =IF(AB37=AP37,"OK","@@") -> @@

Sheet 17년일출
A1: 2017년도 경기도 일반회계 세출 예산 조정(안)
A2: □ 세출예산 | X2: 세입=세출 | AC2: 세입=세출
M3: =COUNTA(M6:M92)-10 -> -9 | N3: =COUNTA(N6:N92)-10 -> -9 | S3: (단위 : 천원) | X3: =IF(#REF!='17년일입'!W6,"OK","@@") -> #REF! | Z3: =IF(COUNTIF(Z6:Z92,"검토")>0,"@@","OK") -> OK | AC3: =IF(#REF!='17년일입'!AB6,"OK","@@") -> #REF! | AE3: =IF(COUNTIF(AE6:AE92,"검토")>0,"@@","OK") -> OK
A4: 위원회명 | B4: 실국명 | C4: 부서명 | D4: 편성 구분 | E4: 연정 구분 | F4: 예산안 페이지 | G4: 사업설명서페이지 | H4: 사업명 | I4: 예산안 (가) | J4: 상임위 예산안 조정액(나) | L4: 상임위 조정 예산안 (다=가+나) | M4: 예결위 예산안 조정액(라) | O4: 예결위 조정 예산안 (마=가+라) | P4: 동의 대상 | Q4: 상임위 변경사유 (심의 참고자료) | R4: 비고 (상임위 부대의견) | S4: 비고 (부대의견) | U4: 국도비 등 여부 | W4: 재원 | X4: 상임위 재원별 증감액 | AB4: 재원 | AC4: 예결위 재원별 증감액 | AG4: 세입번호 | AI4: 동일 세입 건수 | AJ4: 세출 번호 검증 | AL4: 실국부서 코드 | AN4: 추가 내시 등
J5: 감액 | K5: 증액 | M5: 감액 | N5: 증액 | X5: 국비 등 | Y5: 도비 | Z5: 검증 | AC5: 국비 등 | AD5: 도비 | AE5: 검증
A6: (농정해양위원회) | I6: =SUM(I7:I102) -> 32882791 | J6: =SUM(J7:J102) -> -10094202 | K6: =SUM(K7:K102) -> 18734755 | L6: =SUM(L7:L102) -> 41523344 | M6: =SUM(M67:M83) -> 0 | N6: =SUM(N67:N83) -> 0 | O6: =SUM(O67:O83) -> 2204908 | AG6: =IF(W6="","",IF(W6="도비","세입없음","직접입력"))
A7: =IFERROR(VLOOKUP($C7,[4]구분표!$A$2:$C$313,2,FALSE),"") -> 농정해양위원회 | B7: =IFERROR(VLOOKUP($C7,[4]구분표!$A$2:$C$313,3,FALSE),"") -> 농정해양국 | C7: 농업정책과 | D7: 신규 | E7: 일반 | F7: 618 | H7: 전문농업인육성(자체/직접) -여성농업인육성(민간행사사업보조) | K7: 50000 | L7: =I7+J7+K7 -> 50000 | O7: =I7+M7+N7 -> 0 | P7: =IF(AND((L7=0),(O7>0)),"O",IF(AND((J7<0),(L7-O7<0)),"O","X")) -> X | Q7: 여성농업인 지원확대 필요 | U7: 도비 | W7: 도비 | Y7: 50000 | Z7: =IF(SUM($J7:$K7)=SUM($X7:$Y7),"OK","검토") -> OK | AC7: =IF($W7<>"도비",IF($U7="국도비","직접입력",SUM($M7:$N7)),) -> 0 | AD7: =IF($W7="도비",SUM(M7:N7),IF($U7="국도비","직접입력",SUM(M7:N7)-AC7)) -> 0 | AE7: =IF(SUM(M7:N7)=SUM(AC7:AD7),"OK","검토") -> OK | AG7: =IF(W7="","",IF(W7="도비","세입없음","직접입력")) -> 세입없음 | AI7: =IF(AG7="","",COUNTIF($AG$6:$AG$166,AG7)) -> 56 | AJ7: =IF(W7="","",IF(AND(W7="도비",AG7="세입없음"),"OK",IF(AND(W7<>"도비",AG7<>""),"OK","@@"))) -> OK | AL7: {=IF(C7="","",INDEX(구분표!$I$2:$I$313, MATCH(1,(구분표!$E$2:$E$313='17년일출'!B7)*(구분표!$F$2:$F$313='17년일출'!C7)*(구분표!$G$2:$G$313='17년일출'!A7),0)))} -> 0220
