Workbook

Sheet 구분표
A2: 실과명 조정 | B2: 위원회명 조정 | C2: 실국명 조정 | E2: 실국명 | F2: 실과명 | G2: 위원회명 | H2: 정렬순서 | I2: 정렬코드
A3: 공보담당관 | B3: 의회운영위원회 | C3: 의회사무처 | E3: 의회사무처 | F3: 공보담당관 | G3: 의회운영위원회 | H3: 1 | I3: 0101
A4: 총무담당관 | B4: 의회운영위원회 | C4: 의회사무처 | E4: 의회사무처 | F4: 총무담당관 | G4: 의회운영위원회 | H4: 2 | I4: 0102
A5: 의정담당관 | B5: 의회운영위원회 | C5: 의회사무처 | E5: 의회사무처 | F5: 의정담당관 | G5: 의회운영위원회 | H5: 3 | I5: 0103
A6: 입법정책담당관 | B6: 의회운영위원회 | C6: 의회사무처 | E6: 의회사무처 | F6: 입법정책담당관 | G6: 의회운영위원회 | H6: 4 | I6: 0104
A7: 예산정책담당관 | B7: 의회운영위원회 | C7: 의회사무처 | E7: 의회사무처 | F7: 예산정책담당관 | G7: 의회운영위원회 | H7: 5 | I7: 0105
A8: 언론협력담당관 | B8: 의회운영위원회 | C8: 대변인 | E8: 대변인 | F8: 언론협력담당관 | G8: 의회운영위원회 | H8: 6 | I8: 0106
A9: 보도기획담당관 | B9: 의회운영위원회 | C9: 대변인 | E9: 대변인 | F9: 보도기획담당관 | G9: 의회운영위원회 | H9: 7 | I9: 0107
A10: 홍보미디어담당관 | B10: 의회운영위원회 | C10: 소통기획관 | E10: 소통기획관 | F10: 홍보미디어담당관 | G10: 의회운영위원회 | H10: 8 | I10: 0108
A11: 홍보콘텐츠담당관 | B11: 의회운영위원회 | C11: 소통기획관 | E11: 소통기획관 | F11: 홍보콘텐츠담당관 | G11: 의회운영위원회 | H11: 9 | I11: 0109
A12: 연정협력과 | B12: 의회운영위원회 | C12: 연정협력국 | E12: 연정협력국 | F12: 연정협력과 | G12: 의회운영위원회 | H12: 10 | I12: 0110
A13: 대외협력과 | B13: 의회운영위원회 | C13: 연정협력국 | E13: 연정협력국 | F13: 대외협력과 | G13: 의회운영위원회 | H13: 11 | I13: 0111
... A215: 도서관정책과 | B215: 여성가족교육협력위원회 | C215: 교육협력국 | E215: 교육협력국 | F215: 도서관정책과 | G215: 여성가족교육협력위원회 | H215: 213 | I215: 0313

Sheet 예결표지(세로)
A5: 2015년도 제2회 일반회계 및 특별회계 추가경정 세입·세출 예산안
A7: 예결위 계수조정 결과
A20: 예산결산특별위원회

Sheet 예결표지(가로)
A3: 2015년도 제2회 일반회계 및 특별회계 추가경정 세입·세출 예산안
A5: 예결위 계수조정 결과
A14: 예산결산특별위원회

Sheet 표지
A4: 예결위 계수조정 결과
B6: - 2017년도 일반회계 및 기타특별회계 예산안, 기금운용계획안
A12: 예산결산특별위원회

Sheet 검증
A1: 제4회 추경 일반회계 검증 | H1: 4추 예비비 | J1: 조정액 | K1: =IFERROR(INDEX('17년일출'!AD6:AD223,MATCH("*예비비*",'17년일출'!H6:H223,0)),0) -> 0 | L1: 조정잔액 | M1: =I1+K1 -> 0
M2: (단위 : 천원)
A3: 구분 | B3: 상 임 위 | H3: 구분 | I3: 예 결 위
B4: 세입 | C4: 검증 | D4: 세출 | E4: 검증 | F4: 차액 | I4: 세입 | J4: 검증 | K4: 세출 | L4: 검증 | M4: 차액
A5: 전체 총계 | B5: =SUM(B6:B13)/2 -> 0 | C5: =IF(B5=SUM('17년일입'!I6:J6),"OK","@@") -> @@ | D5: =SUM(D6:D13)/2 -> 2085038 | E5: =IF(D5=SUM('17년일출'!J6:K6),"OK","@@") -> @@ | H5: 전체 총계 | I5: =SUM(I6:I13)/2 -> 0 | J5: =IF(I5=SUM('17년일입'!L6:M6),"OK","@@") -> OK | K5: =SUM(K6:K13)/2 -> 0 | L5: =IF(K5=SUM('17년일출'!M6:N6),"OK","@@") -> OK
A6: 자체 계 | B6: =SUM(B7:B8) -> 0 | C6: =IF(B6='17년일입'!X6,"OK","@@") -> OK | D6: =SUM(D7:D8) -> 2061680 | E6: =IF(D6='17년일출'!Y6,"OK","@@") -> OK | H6: 자체 계 | I6: =SUM(I7:I8) -> 0 | J6: =IF(I6='17년일입'!AC6,"OK","@@") -> OK | K6: =SUM(K7:K8) -> 0 | L6: =IF(K6='17년일출'!AD6,"OK","@@") -> OK
A7: 자체 도비 | B7: =SUMIFS('17년일입'!X6:X100,'17년일입'!V6:V100,"도비") -> 0 | D7: =SUMIFS('17년일출'!$Y$6:$Y$223,'17년일출'!$W$6:$W$223,"도비") -> 2038322 | H7: 자체 도비 | I7: =SUMIFS('17년일입'!AC6:AC100,'17년일입'!AA6:AA100,"국비") -> 0 | K7: =SUMIFS('17년일출'!$AD$6:$AD$223,'17년일출'!$AB$6:$AB$223,"도비") -> 0
A8: 의존 매칭 도비 | B8: =SUMIFS('17년일입'!X6:X100,'17년일입'!V6:V100,"국비")+SUMIFS('17년일입'!X6:X100,'17년일입'!V6:V100,"지특")+SUMIFS('17년일입'!X6:X100,'17년일입'!V6:V100,"기금")+SUMIFS('17년일입'!X6:X100,'17년일입'!V6:V100,"특교") -> 0 | D8: =SUMIFS('17년일출'!$Y$6:$Y$223,'17년일출'!$W$6:$W$223,"국비")+SUMIFS('17년일출'!$Y$6:$Y$223,'17년일출'!$W$6:$W$223,"지특")+SUMIFS('17년일출'!$Y$6:$Y$223,'17년일출'!$W$6:$W$223,"기금")+SUMIFS('17년일출'!$Y$6:$Y$223,'17년일출'!$W$6:$W$223,"특교") -> 23358 | H8: 의존 매칭 도비 | I8: =SUMIFS('17년일입'!AC6:AC100,'17년일입'!AA6:AA100,"국비")+SUMIFS('17년일입'!AC6:AC100,'17년일입'!AA6:AA100,"지특")+SUMIFS('17년일입'!AC6:AC100,'17년일입'!AA6:AA100,"기금")+SUMIFS('17년일입'!AC6:AC100,'17년일입'!AA6:AA100,"특교") -> 0 | K8: =SUMIFS('17년일출'!$AD$6:$AD$223,'17년일출'!$AB$6:$AB$223,"국비")+SUMIFS('17년일출'!$AD$6:$AD$223,'17년일출'!$AB$6:$AB$223,"지특")+SUMIFS('17년일출'!$AD$6:$AD$223,'17년일출'!$AB$6:$AB$223,"기금")+SUMIFS('17년일출'!$AD$6:$AD$223,'17년일출'!$AB$6:$AB$223,"특교") -> 0
A9: 의존 계 | B9: =SUM(B10:B13) -> 0 | C9: =IF(B9='17년일입'!W6,"OK","@@") -> @@ | D9: =SUM(D10:D13) -> 23358 | E9: =IF(D9='17년일출'!X6,"OK","@@") -> @@ | F9: =SUM(F10:F13) -> 23358 | H9: 의존 계 | I9: =SUM(I10:I13) -> 0 | J9: =IF(I9='17년일입'!W6,"OK","@@") -> @@ | K9: =SUM(K10:K13) -> 0 | L9: =IF(K9='17년일출'!AC6,"OK","@@") -> OK | M9: =SUM(M10:M13) -> 0
A10: 국비 | B10: =SUMIFS('17년일입'!$X$6:$X$100,'17년일입'!$V$6:$V$100,검증!A10) -> 0 | D10: =SUMIFS('17년일출'!$Y$6:$Y$223,'17년일출'!$W$6:$W$223,검증!A10) -> -237769 | F10: =D10-B10 -> -237769 | H10: 국비 | I10: =SUMIFS('17년일입'!$AC$6:$AC$100,'17년일입'!$AA$6:$AA$100,검증!H10) -> 0 | K10: =SUMIFS('17년일출'!$AD$6:$AD$223,'17년일출'!$AB$6:$AB$223,검증!H10) -> 0 | M10: =K10-I10 -> 0
A11: 지특 | B11: =SUMIFS('17년일입'!$X$6:$X$100,'17년일입'!$V$6:$V$100,검증!A11) -> 0 | D11: =SUMIFS('17년일출'!$Y$6:$Y$223,'17년일출'!$W$6:$W$223,검증!A11) -> 0 | F11: =D11-B11 -> 0 | H11: 지특 | I11: =SUMIFS('17년일입'!$AC$6:$AC$100,'17년일입'!$AA$6:$AA$100,검증!H11) -> 0 | K11: =SUMIFS('17년일출'!$AD$6:$AD$223,'17년일출'!$AB$6:$AB$223,검증!H11) -> 0 | M11: =K11-I11 -> 0
A12: 기금 | B12: =SUMIFS('17년일입'!$X$6:$X$100,'17년일입'!$V$6:$V$100,검증!A12) -> 0 | D12: =SUMIFS('17년일출'!$Y$6:$Y$223,'17년일출'!$W$6:$W$223,검증!A12) -> 261127 | F12: =D12-B12 -> 261127 | H12: 기금 | I12: =SUMIFS('17년일입'!$AC$6:$AC$100,'17년일입'!$AA$6:$AA$100,검증!H12) -> 0 | K12: =SUMIFS('17년일출'!$AD$6:$AD$223,'17년일출'!$AB$6:$AB$223,검증!H12) -> 0 | M12: =K12-I12 -> 0
A13: 특교 | B13: =SUMIFS('17년일입'!$X$6:$X$100,'17년일입'!$V$6:$V$100,검증!A13) -> 0 | D13: =SUMIFS('17년일출'!$Y$6:$Y$223,'17년일출'!$W$6:$W$223,검증!A13) -> 0 | F13: =D13-B13 -> 0 | H13: 특교 | I13: =SUMIFS('17년일입'!$AC$6:$AC$100,'17년일입'!$AA$6:$AA$100,검증!H13) -> 0 | K13: =SUMIFS('17년일출'!$AD$6:$AD$223,'17년일출'!$AB$6:$AB$223,검증!H13) -> 0 | M13: =K13-I13 -> 0

Sheet 총괄표
A1: 2017년도 일반 및 특별회계 세입·세출 예산안(전체예산총괄)
A3: □ 총 괄 | C3: 세입예산 증감 | D3: =SUM(C7:D7) -> 0 | F3: 세출예산증감 | G3: =SUM(F7:G7) -> 0
F4: ※ 예비비 증감 | I4: (단위 : 천원)
A5: 구 분 | B5: 집행부제출(안) | C5: 세입예산(안) | F5: 세출예산(안) | I5: 수정예산(안) | K5: ※ 예산안 증감현황
C6: 감 액 | D6: 증 액 | E6: 증감액 | F6: 감 액 | G6: 증 액 | H6: 증감액 | K6: 구 분 | L6: 세입 | M6: 세출 | N6: 예비비 | O6: 비고(???)
A7: 합 계 | B7: =SUM(B8:B17) -> 4266022077 | C7: =SUM(C8:C17) -> 0 | D7: =SUM(D8:D17) -> 0 | E7: =SUM(E8:E17) -> 0 | F7: =SUM(F8:F17) -> 0 | G7: =SUM(G8:G17) -> 0 | H7: =SUM(H8:H17) -> 0 | I7: =SUM(I8:I17) -> 4266022077 | K7: 합 계 | L7: =SUM(L8:L9) -> 0 | M7: =SUM(M8:M9) -> 0 | N7: =L7-M7 -> 0
A8: 의회운영위원회 | B8: =B31 -> 0 | C8: =SUMIFS('17년일입'!L$6:L$100,'17년일입'!$A$6:$A$100,총괄표!$A8)+SUMIFS('17년특입'!K$6:K$39,'17년특입'!$A$6:$A$39,총괄표!$A8) -> 0 | D8: =SUMIFS('17년일입'!M$6:M$100,'17년일입'!$A$6:$A$100,총괄표!$A8)+SUMIFS('17년특입'!L$6:L$39,'17년특입'!$A$6:$A$39,총괄표!$A8) -> 0 | E8: =D8-C8 -> 0 | F8: =SUMIFS('17년일출'!M$6:M$223,'17년일출'!$A$6:$A$223,총괄표!$A8)+SUMIFS('17년특출'!K$6:K$39,'17년특출'!$A$6:$A$39,총괄표!$A8) -> 0 | G8: =SUMIFS('17년일출'!N$6:N$223,'17년일출'!$A$6:$A$223,총괄표!$A8)+SUMIFS('17년특출'!L$6:L$39,'17년특출'!$A$6:$A$39,총괄표!$A8) -> 0 | H8: =G8-F8 -> 0 | I8: =B8+F8+G8 -> 0 | K8: 일반회계 | L8: =SUM(C24:D24) -> 0 | M8: =SUM(F24:G24) -> 0 | N8: =L8-M8 -> 0 | O8: 예비비 증감 - 감액, + 증액에 입력
A9: 기획재정위원회 | B9: =B32 -> 0 | C9: =SUMIFS('17년일입'!L$6:L$100,'17년일입'!$A$6:$A$100,총괄표!$A9)+SUMIFS('17년특입'!K$6:K$39,'17년특입'!$A$6:$A$39,총괄표!$A9) -> 0 | D9: =SUMIFS('17년일입'!M$6:M$100,'17년일입'!$A$6:$A$100,총괄표!$A9)+SUMIFS('17년특입'!L$6:L$39,'17년특입'!$A$6:$A$39,총괄표!$A9) -> 0 | E9: =D9-C9 -> 0 | F9: =SUMIFS('17년일출'!M$6:M$223,'17년일출'!$A$6:$A$223,총괄표!$A9)+SUMIFS('17년특출'!K$6:K$39,'17년특출'!$A$6:$A$39,총괄표!$A9) -> 0 | G9: =SUMIFS('17년일출'!N$6:N$223,'17년일출'!$A$6:$A$223,총괄표!$A9)+SUMIFS('17년특출'!L$6:L$39,'17년특출'!$A$6:$A$39,총괄표!$A9) -> 0 | H9: =G9-F9 -> 0 | I9: =B9+F9+G9 -> 0 | K9: 특별회계 | L9: =SUM(C25:D25) -> 0 | M9: =SUM(F25:G25) -> 0 | N9: =L9-M9 -> 0
A10: 경제과학기술위원회 | B10: =B33 -> 0 | C10: =SUMIFS('17년일입'!L$6:L$100,'17년일입'!$A$6:$A$100,총괄표!$A10)+SUMIFS('17년특입'!K$6:K$39,'17년특입'!$A$6:$A$39,총괄표!$A10) -> 0 | D10: =SUMIFS('17년일입'!M$6:M$100,'17년일입'!$A$6:$A$100,총괄표!$A10)+SUMIFS('17년특입'!L$6:L$39,'17년특입'!$A$6:$A$39,총괄표!$A10) -> 0 | E10: =D10-C10 -> 0 | F10: =SUMIFS('17년일출'!M$6:M$223,'17년일출'!$A$6:$A$223,총괄표!$A10)+SUMIFS('17년특출'!K$6:K$39,'17년특출'!$A$6:$A$39,총괄표!$A10) -> 0 | G10: =SUMIFS('17년일출'!N$6:N$223,'17년일출'!$A$6:$A$223,총괄표!$A10)+SUMIFS('17년특출'!L$6:L$39,'17년특출'!$A$6:$A$39,총괄표!$A10) -> 0 | H10: =G10-F10 -> 0 | I10: =B10+F10+G10 -> 0
A11: 안전행정위원회 | B11: =B34 -> 0 | C11: =SUMIFS('17년일입'!L$6:L$100,'17년일입'!$A$6:$A$100,총괄표!$A11)+SUMIFS('17년특입'!K$6:K$39,'17년특입'!$A$6:$A$39,총괄표!$A11) -> 0 | D11: =SUMIFS('17년일입'!M$6:M$100,'17년일입'!$A$6:$A$100,총괄표!$A11)+SUMIFS('17년특입'!L$6:L$39,'17년특입'!$A$6:$A$39,총괄표!$A11) -> 0 | E11: =D11-C11 -> 0 | F11: =SUMIFS('17년일출'!M$6:M$223,'17년일출'!$A$6:$A$223,총괄표!$A11)+SUMIFS('17년특출'!K$6:K$39,'17년특출'!$A$6:$A$39,총괄표!$A11) -> 0 | G11: =SUMIFS('17년일출'!N$6:N$223,'17년일출'!$A$6:$A$223,총괄표!$A11)+SUMIFS('17년특출'!L$6:L$39,'17년특출'!$A$6:$A$39,총괄표!$A11) -> 0 | H11: =G11-F11 -> 0 | I11: =B11+F11+G11 -> 0
A12: 문화체육관광위원회 | B12: =B35 -> 0 | C12: =SUMIFS('17년일입'!L$6:L$100,'17년일입'!$A$6:$A$100,총괄표!$A12)+SUMIFS('17년특입'!K$6:K$39,'17년특입'!$A$6:$A$39,총괄표!$A12) -> 0 | D12: =SUMIFS('17년일입'!M$6:M$100,'17년일입'!$A$6:$A$100,총괄표!$A12)+SUMIFS('17년특입'!L$6:L$39,'17년특입'!$A$6:$A$39,총괄표!$A12) -> 0 | E12: =D12-C12 -> 0 | F12: =SUMIFS('17년일출'!M$6:M$223,'17년일출'!$A$6:$A$223,총괄표!$A12)+SUMIFS('17년특출'!K$6:K$39,'17년특출'!$A$6:$A$39,총괄표!$A12) -> 0 | G12: =SUMIFS('17년일출'!N$6:N$223,'17년일출'!$A$6:$A$223,총괄표!$A12)+SUMIFS('17년특출'!L$6:L$39,'17년특출'!$A$6:$A$39,총괄표!$A12) -> 0 | H12: =G12-F12 -> 0 | I12: =B12+F12+G12 -> 0
A13: 농정해양위원회 | B13: =B36 -> 0 | C13: =SUMIFS('17년일입'!L$6:L$100,'17년일입'!$A$6:$A$100,총괄표!$A13)+SUMIFS('17년특입'!K$6:K$39,'17년특입'!$A$6:$A$39,총괄표!$A13) -> 0 | D13: =SUMIFS('17년일입'!M$6:M$100,'17년일입'!$A$6:$A$100,총괄표!$A13)+SUMIFS('17년특입'!L$6:L$39,'17년특입'!$A$6:$A$39,총괄표!$A13) -> 0 | E13: =D13-C13 -> 0 | F13: =SUMIFS('17년일출'!M$6:M$223,'17년일출'!$A$6:$A$223,총괄표!$A13)+SUMIFS('17년특출'!K$6:K$39,'17년특출'!$A$6:$A$39,총괄표!$A13) -> 0 | G13: =SUMIFS('17년일출'!N$6:N$223,'17년일출'!$A$6:$A$223,총괄표!$A13)+SUMIFS('17년특출'!L$6:L$39,'17년특출'!$A$6:$A$39,총괄표!$A13) -> 0 | H13: =G13-F13 -> 0 | I13: =B13+F13+G13 -> 0
A14: 보건복지위원회 | B14: =B37 -> 4266022077 | C14: =SUMIFS('17년일입'!L$6:L$100,'17년일입'!$A$6:$A$100,총괄표!$A14)+SUMIFS('17년특입'!K$6:K$39,'17년특입'!$A$6:$A$39,총괄표!$A14) -> 0 | D14: =SUMIFS('17년일입'!M$6:M$100,'17년일입'!$A$6:$A$100,총괄표!$A14)+SUMIFS('17년특입'!L$6:L$39,'17년특입'!$A$6:$A$39,총괄표!$A14) -> 0 | E14: =D14-C14 -> 0 | F14: =SUMIFS('17년일출'!M$6:M$223,'17년일출'!$A$6:$A$223,총괄표!$A14)+SUMIFS('17년특출'!K$6:K$39,'17년특출'!$A$6:$A$39,총괄표!$A14) -> 0 | G14: =SUMIFS('17년일출'!N$6:N$223,'17년일출'!$A$6:$A$223,총괄표!$A14)+SUMIFS('17년특출'!L$6:L$39,'17년특출'!$A$6:$A$39,총괄표!$A14) -> 0 | H14: =G14-F14 -> 0 | I14: =B14+F14+G14 -> 4266022077
A15: 건설교통위원회 | B15: =B38 -> 0 | C15: =SUMIFS('17년일입'!L$6:L$100,'17년일입'!$A$6:$A$100,총괄표!$A15)+SUMIFS('17년특입'!K$6:K$39,'17년특입'!$A$6:$A$39,총괄표!$A15) -> 0 | D15: =SUMIFS('17년일입'!M$6:M$100,'17년일입'!$A$6:$A$100,총괄표!$A15)+SUMIFS('17년특입'!L$6:L$39,'17년특입'!$A$6:$A$39,총괄표!$A15) -> 0 | E15: =D15-C15 -> 0 | F15: =SUMIFS('17년일출'!M$6:M$223,'17년일출'!$A$6:$A$223,총괄표!$A15)+SUMIFS('17년특출'!K$6:K$39,'17년특출'!$A$6:$A$39,총괄표!$A15) -> 0 | G15: =SUMIFS('17년일출'!N$6:N$223,'17년일출'!$A$6:$A$223,총괄표!$A15)+SUMIFS('17년특출'!L$6:L$39,'17년특출'!$A$6:$A$39,총괄표!$A15) -> 0 | H15: =G15-F15 -> 0 | I15: =B15+F15+G15 -> 0
A16: 도시환경위원회 | B16: =B39 -> 0 | C16: =SUMIFS('17년일입'!L$6:L$100,'17년일입'!$A$6:$A$100,총괄표!$A16)+SUMIFS('17년특입'!K$6:K$39,'17년특입'!$A$6:$A$39,총괄표!$A16) -> 0 | D16: =SUMIFS('17년일입'!M$6:M$100,'17년일입'!$A$6:$A$100,총괄표!$A16)+SUMIFS('17년특입'!L$6:L$39,'17년특입'!$A$6:$A$39,총괄표!$A16) -> 0 | E16: =D16-C16 -> 0 | F16: =SUMIFS('17년일출'!M$6:M$223,'17년일출'!$A$6:$A$223,총괄표!$A16)+SUMIFS('17년특출'!K$6:K$39,'17년특출'!$A$6:$A$39,총괄표!$A16) -> 0 | G16: =SUMIFS('17년일출'!N$6:N$223,'17년일출'!$A$6:$A$223,총괄표!$A16)+SUMIFS('17년특출'!L$6:L$39,'17년특출'!$A$6:$A$39,총괄표!$A16) -> 0 | H16: =G16-F16 -> 0 | I16: =B16+F16+G16 -> 0
A17: 여상가족교육협력위원회 | B17: =B40 -> 0 | C17: =SUMIFS('17년일입'!L$6:L$100,'17년일입'!$A$6:$A$100,총괄표!$A17)+SUMIFS('17년특입'!K$6:K$39,'17년특입'!$A$6:$A$39,총괄표!$A17) -> 0 | D17: =SUMIFS('17년일입'!M$6:M$100,'17년일입'!$A$6:$A$100,총괄표!$A17)+SUMIFS('17년특입'!L$6:L$39,'17년특입'!$A$6:$A$39,총괄표!$A17) -> 0 | E17: =D17-C17 -> 0 | F17: =SUMIFS('17년일출'!M$6:M$223,'17년일출'!$A$6:$A$223,총괄표!$A17)+SUMIFS('17년특출'!K$6:K$39,'17년특출'!$A$6:$A$39,총괄표!$A17) -> 0 | G17: =SUMIFS('17년일출'!N$6:N$223,'17년일출'!$A$6:$A$223,총괄표!$A17)+SUMIFS('17년특출'!L$6:L$39,'17년특출'!$A$6:$A$39,총괄표!$A17) -> 0 | H17: =G17-F17 -> 0 | I17: =B17+F17+G17 -> 0
A19: □ 회계별 예산 총 규모
I20: (단위 : 천원)
A21: 구 분 | B21: 집행부제출(안) | C21: 세입예산(안) | F21: 세출예산(안) | I21: 수정예산(안) | K21: 세입기준
C22: 감 액 | D22: 증 액 | E22: 증감액 | F22: 감 액 | G22: 증 액 | H22: 증감액 | K22: 수정예산(안) | L22: 세출기준-세입기준
A23: 합 계 | B23: =SUM(B24:B25) -> 3324744279 | C23: =SUM(C24:C25) -> 0 | D23: =SUM(D24:D25) -> 0 | E23: =SUM(E24:E25) -> 0 | F23: =SUM(F24:F25) -> 0 | G23: =SUM(G24:G25) -> 0 | H23: =SUM(H24:H25) -> 0 | I23: =SUM(I24:I25) -> 3324744279 | K23: =SUM(K24:K25) -> 3324744279 | L23: =I23-K23 -> 0
A24: 일반회계 | B24: =D30 -> 3324744279 | C24: ='17년일입'!L6 -> 0 | D24: ='17년일입'!M6 -> 0 | E24: =D24-C24 -> 0 | F24: ='17년일출'!M6 -> 0 | G24: ='17년일출'!N6 -> 0 | H24: =G24-F24 -> 0 | I24: =B24+F24+G24 -> 3324744279 | K24: =B24+C24+D24 -> 3324744279 | L24: =I24-K24 -> 0
A25: 특별회계 | B25: =F30+G30 -> 0 | C25: ='17년특입'!K6 -> 0 | D25: ='17년특입'!L6 -> 0 | E25: =D25-C25 -> 0 | F25: ='17년특출'!K6 -> 0 | G25: ='17년특출'!L6 -> 0 | H25: =G25-F25 -> 0 | I25: =B25+F25+G25 -> 0 | K25: =B25+C25+D25 -> 0 | L25: =I25-K25 -> 0
A28: ※ 회계별, 위원회별 집행부제출안
A29: 위원회명 | B29: 합계 | C29: 일반+기타 | D29: 일반회계 | E29: 기타특별회계 | F29: 공기업특별회계
A30: 합계 | B30: =SUM(B31:B40) -> 4266022077 | C30: =SUM(C31:C40) -> 3324744279 | D30: =SUM(D31:D40) -> 3324744279 | E30: =SUM(E31:E40) -> 941277798 | F30: =SUM(F31:F40) -> 0
A31: 의회운영위원회 | B31: =SUM(D31:G31) -> 0 | C31: =D31+F31 -> 0
A32: 기획재정위원회 | B32: =SUM(D32:G32) -> 0 | C32: =D32+F32 -> 0
A33: 경제과학기술위원회 | B33: =SUM(D33:G33) -> 0 | C33: =D33+F33 -> 0
A34: 안전행정위원회 | B34: =SUM(D34:G34) -> 0 | C34: =D34+F34 -> 0
A35: 문화체육관광위원회 | B35: =SUM(D35:G35) -> 0 | C35: =D35+F35 -> 0
A36: 농정해양위원회 | B36: =SUM(D36:G36) -> 0 | C36: =D36+F36 -> 0
A37: 보건복지위원회 | B37: =SUM(D37:G37) -> 4266022077 | C37: =D37+F37 -> 3324744279 | D37: 3324744279 | E37: 941277798
A38: 건설교통위원회 | B38: =SUM(D38:G38) -> 0 | C38: =D38+F38 -> 0
A39: 도시환경위원회 | B39: =SUM(D39:G39) -> 0 | C39: =D39+F39 -> 0
A40: 여상가족교육협력위원회 | B40: =SUM(D40:G40) -> 0 | C40: =D40+F40 -> 0
A42: 예비비

Sheet 17년일입
A1: 2017년도 경기도 일반회계 세입 예산 조정(안)
A2: □ 세입예산 | W2: 세입=세출 | AB2: 세입=세출
I3: =COUNTA(I7:I100) -> 3 | J3: =COUNTA(J7:J100) -> 1 | L3: =COUNTA(L7:L100) -> 0 | M3: =COUNTA(M7:M100) -> 0 | R3: (단위 : 천원) | W3: =IF(W6='17년일출'!X6,"OK","@@") -> OK | Y3: =IF(COUNTIF(Y6:Y100,"검토")>0,"@@","OK") -> OK | AB3: =IF(AB6='17년일출'!AC6,"OK","@@") -> OK | AD3: =IF(COUNTIF(AD6:AD100,"검토")>0,"@@","OK") -> OK
A4: 위원회명 | B4: 실국명 | C4: 부서명 | D4: 편성 구분 | E4: 예산안 페이지 | F4: 사업설명서페이지 | G4: 사업명 | H4: 예산안 (가) | I4: 상임위 예산안 조정액(나) | K4: 상임위 조정 예산안 (다=가+나) | L4: 예결위 예산안 조정액(라) | N4: 예결위 조정 예산안 (마=가+라) | O4: 동의 대상 | P4: 상임위 변경사유 (심의 참고자료) | Q4: 비고 (상임위 부대의견) | R4: 비고 (부대의견) | T4: 국도비 등 여부 | V4: 재원 | W4: 상임위 재원별 증감액 | AA4: 재원 | AB4: 예결위 재원별 증감액 | AF4: 세입번호 | AH4: 실국부서 코드 | AJ4: 추가 내시 등 | AL4: 상임위 세입 검증 | AP4: 예결위 세입 검증
I5: 감액 | J5: 증액 | L5: 감액 | M5: 증액 | W5: 국비 등 | X5: 도비 | Y5: 검증 | AB5: 국비 등 | AC5: 도비 | AD5: 검증 | AL5: 국비 증감액 | AM5: 건수 | AN5: 검증 | AP5: 국비 증감액 | AQ5: 건수 | AR5: 검증
A6: 합 계 | H6: =SUBTOTAL(9,H7:H100) -> 56162638 | I6: =SUBTOTAL(9,I7:I100) -> -2603790 | J6: =SUBTOTAL(9,J7:J100) -> 7120225 | K6: =SUBTOTAL(9,K7:K100) -> 60679073 | L6: =SUBTOTAL(9,L7:L100) -> 0 | M6: =SUBTOTAL(9,M7:M100) -> 0 | N6: =SUBTOTAL(9,N7:N100) -> 56162638 | W6: =SUBTOTAL(9,W7:W100) -> 4516435 | X6: =SUBTOTAL(9,X7:X100) -> 0 | Y6: =IF(SUM($I6:$J6)=SUM($W6:$X6),"OK","검토") -> OK | AB6: =SUBTOTAL(9,AB7:AB100) -> 0 | AC6: =SUBTOTAL(9,AC7:AC100) -> 0 | AD6: =IF(SUM($I6:$J6)=SUM($W6:$X6),"OK","검토") -> OK | AL6: =SUBTOTAL(9,AL7:AL100) -> 4516435 | AM6: =SUBTOTAL(9,AM7:AM100) -> 9 | AN6: =IF(COUNTIF(AN7:AN100,"@@")>0,"@@","OK") -> OK | AP6: =SUBTOTAL(9,AP7:AP100) -> 0 | AQ6: =SUBTOTAL(9,AQ7:AQ100) -> 9 | AR6: =IF(COUNTIF(AR7:AR100,"@@")>0,"@@","OK") -> @@
A7: =IFERROR(VLOOKUP($C7,구분표!$A$2:$C$313,2,FALSE),"") -> 보건복지위원회 | B7: =IFERROR(VLOOKUP($C7,구분표!$A$2:$C$313,3,FALSE),"") -> 보건복지국 | C7: 사회적일자리과 | D7: 본예산 | E7: 875 | F7: 32 | G7: 노인일자리 및 사회활동지원 확대(지자체보조) | H7: 44600175 | J7: 7120225 | K7: =SUM(H7:J7) -> 51720400 | N7: =SUM(H7,L7,M7) -> 44600175 | O7: =IF(AND((K7=0),(N7>0)),"O",IF(AND((I7<0),(K7-N7<0)),"O","X")) -> X | P7: 국비변경내시 | Q7: 보건복지부 노인지원과 -6443(2016.11.7.)호 | T7: 국도비 | V7: 국비 | W7: 7120225 | X7: 0 | Y7: =IF(SUM($I7:$J7)=SUM($W7:$X7),"OK","검토") -> OK | AB7: =IF($V7<>"도비",IF($T7="국도비","직접입력",SUM($L7:$M7)),) -> 직접입력 | AC7: =IF($V7="도비",SUM(L7:M7),IF($T7="국도비","직접입력",SUM(L7:M7)-AB7)) -> 직접입력 | AD7: =IF(SUM(L7:M7)=SUM(AB7:AC7),"OK","검토") -> OK | AF7: =IF(AH7="","",IF(V7="도비","세입없음",CONCATENATE(AH7,"-",COUNTIF($AH$7:AH7,AH7)))) -> 0245-1 | AH7: {=IF(C7="","",INDEX(구분표!$I$2:$I$313, MATCH(1,(구분표!$E$2:$E$313='17년일입'!B7)*(구분표!$F$2:$F$313='17년일입'!C7)*(구분표!$G$2:$G$313='17년일입'!A7),0)))} -> 0245 | AL7: =IF(AF7="",0,SUMIFS('17년일출'!$X$6:$X$223,'17년일출'!$AG$6:$AG$223,'17년일입'!$AF7)) -> 7120225 | AM7: =IF(AF7="","",COUNTIFS('17년일출'!$AG$6:$AG$223,'17년일입'!AF7)) -> 6 | AN7: =IF(W7=AL7,"OK","@@") -> OK | AP7: =IF(AF7="",0,SUMIFS('17년일출'!$AC$6:$AC$223,'17년일출'!$AG$6:$AG$223,'17년일입'!$AF7)) -> 0 | AQ7: =IF(AF7="","",COUNTIFS('17년일출'!$AG$6:$AG$223,AF7)) -> 6 | AR7: =IF(AB7=AP7,"OK","@@") -> @@
A8: =IFERROR(VLOOKUP($C8,구분표!$A$2:$C$313,2,FALSE),"") -> 보건복지위원회 | B8: =IFERROR(VLOOKUP($C8,구분표!$A$2:$C$313,3,FALSE),"") -> 보건복지국 | C8: 보건정책과 | D8: 본예산 | E8: 878 | F8: 13 | G8: 농어촌보건소 등 이전신축 | H8: 2341463 | I8: -1159790 | K8: =SUM(H8:J8) -> 1181673 | N8: =SUM(H8,L8,M8) -> 2341463 | O8: =IF(AND((K8=0),(N8>0)),"O",IF(AND((I8<0),(K8-N8<0)),"O","X")) -> O | P8: 국비변경내시 | Q8: 보건복지부 건강정책과 -8370(2016.11.9.)호 | T8: 국도비 | V8: 국비 | W8: -1159790 | X8: 0 | Y8: =IF(SUM($I8:$J8)=SUM($W8:$X8),"OK","검토") -> OK | AB8: =IF($V8<>"도비",IF($T8="국도비","직접입력",SUM($L8:$M8)),) -> 직접입력 | AC8: =IF($V8="도비",SUM(L8:M8),IF($T8="국도비","직접입력",SUM(L8:M8)-AB8)) -> 직접입력 | AD8: =IF(SUM(L8:M8)=SUM(AB8:AC8),"OK","검토") -> OK | AF8: =IF(AH8="","",IF(V8="도비","세입없음",CONCATENATE(AH8,"-",COUNTIF($AH$7:AH8,AH8)))) -> 0248-1 | AH8: {=IF(C8="","",INDEX(구분표!$I$2:$I$313, MATCH(1,(구분표!$E$2:$E$313='17년일입'!B8)*(구분표!$F$2:$F$313='17년일입'!C8)*(구분표!$G$2:$G$313='17년일입'!A8),0)))} -> 0248 | AL8: =IF(AF8="",0,SUMIFS('17년일출'!$X$6:$X$223,'17년일출'!$AG$6:$AG$223,'17년일입'!$AF8)) -> -1159790 | AM8: =IF(AF8="","",COUNTIFS('17년일출'!$AG$6:$AG$223,'17년일입'!AF8)) -> 1 | AN8: =IF(W8=AL8,"OK","@@") -> OK | AP8: =IF(AF8="",0,SUMIFS('17년일출'!$AC$6:$AC$223,'17년일출'!$AG$6:$AG$223,'17년일입'!$AF8)) -> 0 | AQ8: =IF(AF8="","",COUNTIFS('17년일출'!$AG$6:$AG$223,AF8)) -> 1 | AR8: =IF(AB8=AP8,"OK","@@") -> @@
A9: =IFERROR(VLOOKUP($C9,구분표!$A$2:$C$313,2,FALSE),"") -> 보건복지위원회 | B9: =IFERROR(VLOOKUP($C9,구분표!$A$2:$C$313,3,FALSE),"") -> 보건복지국 | C9: 보건정책과 | D9: 본예산 | E9: 878 | F9: 22 | G9: 건강생활지원센터 시설.장비 확충 | H9: 69000 | I9: -69000 | K9: =SUM(H9:J9) -> 0 | N9: =SUM(H9,L9,M9) -> 69000 | O9: =IF(AND((K9=0),(N9>0)),"O",IF(AND((I9<0),(K9-N9<0)),"O","X")) -> O | P9: 공모결과 미선정 | Q9: 보건복지부 건강정책과 -8371(2016.11.9.)호 | T9: 국도비 | V9: 기금 | W9: -69000 | X9: 0 | Y9: =IF(SUM($I9:$J9)=SUM($W9:$X9),"OK","검토") -> OK | AB9: =IF($V9<>"도비",IF($T9="국도비","직접입력",SUM($L9:$M9)),) -> 직접입력 | AC9: =IF($V9="도비",SUM(L9:M9),IF($T9="국도비","직접입력",SUM(L9:M9)-AB9)) -> 직접입력 | AD9: =IF(SUM(L9:M9)=SUM(AB9:AC9),"OK","검토") -> OK | AF9: =IF(AH9="","",IF(V9="도비","세입없음",CONCATENATE(AH9,"-",COUNTIF($AH$7:AH9,AH9)))) -> 0248-2 | AH9: {=IF(C9="","",INDEX(구분표!$I$2:$I$313, MATCH(1,(구분표!$E$2:$E$313='17년일입'!B9)*(구분표!$F$2:$F$313='17년일입'!C9)*(구분표!$G$2:$G$313='17년일입'!A9),0)))} -> 0248 | AL9: =IF(AF9="",0,SUMIFS('17년일출'!$X$6:$X$223,'17년일출'!$AG$6:$AG$223,'17년일입'!$AF9)) -> -69000 | AM9: =IF(AF9="","",COUNTIFS('17년일출'!$AG$6:$AG$223,'17년일입'!AF9)) -> 1 | AN9: =IF(W9=AL9,"OK","@@") -> OK | AP9: =IF(AF9="",0,SUMIFS('17년일출'!$AC$6:$AC$223,'17년일출'!$AG$6:$AG$223,'17년일입'!$AF9)) -> 0 | AQ9: =IF(AF9="","",COUNTIFS('17년일출'!$AG$6:$AG$223,AF9)) -> 1 | AR9: =IF(AB9=AP9,"OK","@@") -> @@
A10: =IFERROR(VLOOKUP($C10,구분표!$A$2:$C$313,2,FALSE),"") -> 보건복지위원회 | B10: =IFERROR(VLOOKUP($C10,구분표!$A$2:$C$313,3,FALSE),"") -> 보건복지국 | C10: 건강증진과 | D10: 본예산 | E10: 879 | F10: 50 | G10: 지방의료원 기능보강사업 | H10: 9152000 | I10: -1375000 | K10: =SUM(H10:J10) -> 7777000 | N10: =SUM(H10,L10,M10) -> 9152000 | O10: =IF(AND((K10=0),(N10>0)),"O",IF(AND((I10<0),(K10-N10<0)),"O","X")) -> O | P10: 국비변경내시 | Q10: 보건복지부 공공의료과 -7551(2016.11.7.)호 | T10: 국도비 | V10: 국비 | W10: -1375000 | X10: 0 | Y10: =IF(SUM($I10:$J10)=SUM($W10:$X10),"OK","검토") -> OK | AB10: =IF($V10<>"도비",IF($T10="국도비","직접입력",SUM($L10:$M10)),) -> 직접입력 | AC10: =IF($V10="도비",SUM(L10:M10),IF($T10="국도비","직접입력",SUM(L10:M10)-AB10)) -> 직접입력 | AD10: =IF(SUM(L10:M10)=SUM(AB10:AC10),"OK","검토") -> OK | AF10: =IF(AH10="","",IF(V10="도비","세입없음",CONCATENATE(AH10,"-",COUNTIF($AH$7:AH10,AH10)))) -> 0250-1 | AH10: {=IF(C10="","",INDEX(구분표!$I$2:$I$313, MATCH(1,(구분표!$E$2:$E$313='17년일입'!B10)*(구분표!$F$2:$F$313='17년일입'!C10)*(구분표!$G$2:$G$313='17년일입'!A10),0)))} -> 0250 | AL10: =IF(AF10="",0,SUMIFS('17년일출'!$X$6:$X$223,'17년일출'!$AG$6:$AG$223,'17년일입'!$AF10)) -> -1375000 | AM10: =IF(AF10="","",COUNTIFS('17년일출'!$AG$6:$AG$223,'17년일입'!AF10)) -> 1 | AN10: =IF(W10=AL10,"OK","@@") -> OK | AP10: =IF(AF10="",0,SUMIFS('17년일출'!$AC$6:$AC$223,'17년일출'!$AG$6:$AG$223,'17년일입'!$AF10)) -> 0 | AQ10: =IF(AF10="","",COUNTIFS('17년일출'!$AG$6:$AG$223,AF10)) -> 1 | AR10: =IF(AB10=AP10,"OK","@@") -> @@
A11: =IFERROR(VLOOKUP($C11,구분표!$A$2:$C$313,2,FALSE),"") | B11: =IFERROR(VLOOKUP($C11,구분표!$A$2:$C$313,3,FALSE),"") | K11: =SUM(H11:J11) -> 0 | N11: =SUM(H11,L11,M11) -> 0 | O11: =IF(AND((K11=0),(N11>0)),"O",IF(AND((I11<0),(K11-N11<0)),"O","X")) -> X | W11: =IF($V11<>"도비",IF($T11="국도비","직접입력",SUM($I11:$J11)),) -> 0 | X11: =IF($V11="도비",SUM($I11:$J11),IF($T11="국도비","직접입력",SUM($I11:$J11)-$W11)) -> 0 | Y11: =IF(SUM($I11:$J11)=SUM($W11:$X11),"OK","검토") -> OK | AB11: =IF($V11<>"도비",IF($T11="국도비","직접입력",SUM($L11:$M11)),) -> 0 | AC11: =IF($V11="도비",SUM(L11:M11),IF($T11="국도비","직접입력",SUM(L11:M11)-AB11)) -> 0 | AD11: =IF(SUM(L11:M11)=SUM(AB11:AC11),"OK","검토") -> OK | AF11: =IF(AH11="","",IF(V11="도비","세입없음",CONCATENATE(AH11,"-",COUNTIF($AH$7:AH11,AH11)))) | AH11: {=IF(C11="","",INDEX(구분표!$I$2:$I$313, MATCH(1,(구분표!$E$2:$E$313='17년일입'!B11)*(구분표!$F$2:$F$313='17년일입'!C11)*(구분표!$G$2:$G$313='17년일입'!A11),0)))} | AL11: =IF(AF11="",0,SUMIFS('17년일출'!$X$6:$X$223,'17년일출'!$AG$6:$AG$223,'17년일입'!$AF11)) -> 0 | AM11: =IF(AF11="","",COUNTIFS('17년일출'!$AG$6:$AG$223,'17년일입'!AF11)) | AN11: =IF(W11=AL11,"OK","@@") -> OK | AP11: =IF(AF11="",0,SUMIFS('17년일출'!$AC$6:$AC$223,'17년일출'!$AG$6:$AG$223,'17년일입'!$AF11)) -> 0 | AQ11: =IF(AF11="","",COUNTIFS('17년일출'!$AG$6:$AG$223,AF11)) | AR11: =IF(AB11=AP11,"OK","@@") -> OK
A12: =IFERROR(VLOOKUP($C12,구분표!$A$2:$C$313,2,FALSE),"") | B12: =IFERROR(VLOOKUP($C12,구분표!$A$2:$C$313,3,FALSE),"") | K12: =SUM(H12:J12) -> 0 | N12: =SUM(H12,L12,M12) -> 0 | O12: =IF(AND((K12=0),(N12>0)),"O",IF(AND((I12<0),(K12-N12<0)),"O","X")) -> X | W12: =IF($V12<>"도비",IF($T12="국도비","직접입력",SUM($I12:$J12)),) -> 0 | X12: =IF($V12="도비",SUM($I12:$J12),IF($T12="국도비","직접입력",SUM($I12:$J12)-$W12)) -> 0 | Y12: =IF(SUM($I12:$J12)=SUM($W12:$X12),"OK","검토") -> OK | AB12: =IF($V12<>"도비",IF($T12="국도비","직접입력",SUM($L12:$M12)),) -> 0 | AC12: =IF($V12="도비",SUM(L12:M12),IF($T12="국도비","직접입력",SUM(L12:M12)-AB12)) -> 0 | AD12: =IF(SUM(L12:M12)=SUM(AB12:AC12),"OK","검토") -> OK | AF12: =IF(AH12="","",IF(V12="도비","세입없음",CONCATENATE(AH12,"-",COUNTIF($AH$7:AH12,AH12)))) | AH12: {=IF(C12="","",INDEX(구분표!$I$2:$I$313, MATCH(1,(구분표!$E$2:$E$313='17년일입'!B12)*(구분표!$F$2:$F$313='17년일입'!C12)*(구분표!$G$2:$G$313='17년일입'!A12),0)))} | AL12: =IF(AF12="",0,SUMIFS('17년일출'!$X$6:$X$223,'17년일출'!$AG$6:$AG$223,'17년일입'!$AF12)) -> 0 | AM12: =IF(AF12="","",COUNTIFS('17년일출'!$AG$6:$AG$223,'17년일입'!AF12)) | AN12: =IF(W12=AL12,"OK","@@") -> OK | AP12: =IF(AF12="",0,SUMIFS('17년일출'!$AC$6:$AC$223,'17년일출'!$AG$6:$AG$223,'17년일입'!$AF12)) -> 0 | AQ12: =IF(AF12="","",COUNTIFS('17년일출'!$AG$6:$AG$223,AF12)) | AR12: =IF(AB12=AP12,"OK","@@") -> OK
A13: =IFERROR(VLOOKUP($C13,구분표!$A$2:$C$313,2,FALSE),"") | B13: =IFERROR(VLOOKUP($C13,구분표!$A$2:$C$313,3,FALSE),"") | K13: =SUM(H13:J13) -> 0 | N13: =SUM(H13,L13,M13) -> 0 | O13: =IF(AND((K13=0),(N13>0)),"O",IF(AND((I13<0),(K13-N13<0)),"O","X")) -> X | W13: =IF($V13<>"도비",IF($T13="국도비","직접입력",SUM($I13:$J13)),) -> 0 | X13: =IF($V13="도비",SUM($I13:$J13),IF($T13="국도비","직접입력",SUM($I13:$J13)-$W13)) -> 0 | Y13: =IF(SUM($I13:$J13)=SUM($W13:$X13),"OK","검토") -> OK | AB13: =IF($V13<>"도비",IF($T13="국도비","직접입력",SUM($L13:$M13)),) -> 0 | AC13: =IF($V13="도비",SUM(L13:M13),IF($T13="국도비","직접입력",SUM(L13:M13)-AB13)) -> 0 | AD13: =IF(SUM(L13:M13)=SUM(AB13:AC13),"OK","검토") -> OK | AF13: =IF(AH13="","",IF(V13="도비","세입없음",CONCATENATE(AH13,"-",COUNTIF($AH$7:AH13,AH13)))) | AH13: {=IF(C13="","",INDEX(구분표!$I$2:$I$313, MATCH(1,(구분표!$E$2:$E$313='17년일입'!B13)*(구분표!$F$2:$F$313='17년일입'!C13)*(구분표!$G$2:$G$313='17년일입'!A13),0)))} | AL13: =IF(AF13="",0,SUMIFS('17년일출'!$X$6:$X$223,'17년일출'!$AG$6:$AG$223,'17년일입'!$AF13)) -> 0 | AM13: =IF(AF13="","",COUNTIFS('17년일출'!$AG$6:$AG$223,'17년일입'!AF13)) | AN13: =IF(W13=AL13,"OK","@@") -> OK | AP13: =IF(AF13="",0,SUMIFS('17년일출'!$AC$6:$AC$223,'17년일출'!$AG$6:$AG$223,'17년일입'!$AF13)) -> 0 | AQ13: =IF(AF13="","",COUNTIFS('17년일출'!$AG$6:$AG$223,AF13)) | AR13: =IF(AB13=AP13,"OK","@@") -> OK
A14: =IFERROR(VLOOKUP($C14,구분표!$A$2:$C$313,2,FALSE),"") | B14: =IFERROR(VLOOKUP($C14,구분표!$A$2:$C$313,3,FALSE),"") | K14: =SUM(H14:J14) -> 0 | N14: =SUM(H14,L14,M14) -> 0 | O14: =IF(AND((K14=0),(N14>0)),"O",IF(AND((I14<0),(K14-N14<0)),"O","X")) -> X | W14: =IF($V14<>"도비",IF($T14="국도비","직접입력",SUM($I14:$J14)),) -> 0 | X14: =IF($V14="도비",SUM($I14:$J14),IF($T14="국도비","직접입력",SUM($I14:$J14)-$W14)) -> 0 | Y14: =IF(SUM($I14:$J14)=SUM($W14:$X14),"OK","검토") -> OK | AB14: =IF($V14<>"도비",IF($T14="국도비","직접입력",SUM($L14:$M14)),) -> 0 | AC14: =IF($V14="도비",SUM(L14:M14),IF($T14="국도비","직접입력",SUM(L14:M14)-AB14)) -> 0 | AD14: =IF(SUM(L14:M14)=SUM(AB14:AC14),"OK","검토") -> OK | AF14: =IF(AH14="","",IF(V14="도비","세입없음",CONCATENATE(AH14,"-",COUNTIF($AH$7:AH14,AH14)))) | AH14: {=IF(C14="","",INDEX(구분표!$I$2:$I$313, MATCH(1,(구분표!$E$2:$E$313='17년일입'!B14)*(구분표!$F$2:$F$313='17년일입'!C14)*(구분표!$G$2:$G$313='17년일입'!A14),0)))} | AL14: =IF(AF14="",0,SUMIFS('17년일출'!$X$6:$X$223,'17년일출'!$AG$6:$AG$223,'17년일입'!$AF14)) -> 0 | AM14: =IF(AF14="","",COUNTIFS('17년일출'!$AG$6:$AG$223,'17년일입'!AF14)) | AN14: =IF(W14=AL14,"OK","@@") -> OK | AP14: =IF(AF14="",0,SUMIFS('17년일출'!$AC$6:$AC$223,'17년일출'!$AG$6:$AG$223,'17년일입'!$AF14)) -> 0 | AQ14: =IF(AF14="","",COUNTIFS('17년일출'!$AG$6:$AG$223,AF14)) | AR14: =IF(AB14=AP14,"OK","@@") -> OK
A15: =IFERROR(VLOOKUP($C15,구분표!$A$2:$C$313,2,FALSE),"") | B15: =IFERROR(VLOOKUP($C15,구분표!$A$2:$C$313,3,FALSE),"") | K15: =SUM(H15:J15) -> 0 | N15: =SUM(H15,L15,M15) -> 0 | O15: =IF(AND((K15=0),(N15>0)),"O",IF(AND((I15<0),(K15-N15<0)),"O","X")) -> X | W15: =IF($V15<>"도비",IF($T15="국도비","직접입력",SUM($I15:$J15)),) -> 0 | X15: =IF($V15="도비",SUM($I15:$J15),IF($T15="국도비","직접입력",SUM($I15:$J15)-$W15)) -> 0 | Y15: =IF(SUM($I15:$J15)=SUM($W15:$X15),"OK","검토") -> OK | AB15: =IF($V15<>"도비",IF($T15="국도비","직접입력",SUM($L15:$M15)),) -> 0 | AC15: =IF($V15="도비",SUM(L15:M15),IF($T15="국도비","직접입력",SUM(L15:M15)-AB15)) -> 0 | AD15: =IF(SUM(L15:M15)=SUM(AB15:AC15),"OK","검토") -> OK | AF15: =IF(AH15="","",IF(V15="도비","세입없음",CONCATENATE(AH15,"-",COUNTIF($AH$7:AH15,AH15)))) | AH15: {=IF(C15="","",INDEX(구분표!$I$2:$I$313, MATCH(1,(구분표!$E$2:$E$313='17년일입'!B15)*(구분표!$F$2:$F$313='17년일입'!C15)*(구분표!$G$2:$G$313='17년일입'!A15),0)))} | AL15: =IF(AF15="",0,SUMIFS('17년일출'!$X$6:$X$223,'17년일출'!$AG$6:$AG$223,'17년일입'!$AF15)) -> 0 | AM15: =IF(AF15="","",COUNTIFS('17년일출'!$AG$6:$AG$223,'17년일입'!AF15)) | AN15: =IF(W15=AL15,"OK","@@") -> OK | AP15: =IF(AF15="",0,SUMIFS('17년일출'!$AC$6:$AC$223,'17년일출'!$AG$6:$AG$223,'17년일입'!$AF15)) -> 0 | AQ15: =IF(AF15="","",COUNTIFS('17년일출'!$AG$6:$AG$223,AF15)) | AR15: =IF(AB15=AP15,"OK","@@") -> OK
A16: =IFERROR(VLOOKUP($C16,구분표!$A$2:$C$313,2,FALSE),"") | B16: =IFERROR(VLOOKUP($C16,구분표!$A$2:$C$313,3,FALSE),"") | K16: =SUM(H16:J16) -> 0 | N16: =SUM(H16,L16,M16) -> 0 | O16: =IF(AND((K16=0),(N16>0)),"O",IF(AND((I16<0),(K16-N16<0)),"O","X")) -> X | W16: =IF($V16<>"도비",IF($T16="국도비","직접입력",SUM($I16:$J16)),) -> 0 | X16: =IF($V16="도비",SUM($I16:$J16),IF($T16="국도비","직접입력",SUM($I16:$J16)-$W16)) -> 0 | Y16: =IF(SUM($I16:$J16)=SUM($W16:$X16),"OK","검토") -> OK | AB16: =IF($V16<>"도비",IF($T16="국도비","직접입력",SUM($L16:$M16)),) -> 0 | AC16: =IF($V16="도비",SUM(L16:M16),IF($T16="국도비","직접입력",SUM(L16:M16)-AB16)) -> 0 | AD16: =IF(SUM(L16:M16)=SUM(AB16:AC16),"OK","검토") -> OK | AF16: =IF(AH16="","",IF(V16="도비","세입없음",CONCATENATE(AH16,"-",COUNTIF($AH$7:AH16,AH16)))) | AH16: {=IF(C16="","",INDEX(구분표!$I$2:$I$313, MATCH(1,(구분표!$E$2:$E$313='17년일입'!B16)*(구분표!$F$2:$F$313='17년일입'!C16)*(구분표!$G$2:$G$313='17년일입'!A16),0)))} | AL16: =IF(AF16="",0,SUMIFS('17년일출'!$X$6:$X$223,'17년일출'!$AG$6:$AG$223,'17년일입'!$AF16)) -> 0 | AM16: =IF(AF16="","",COUNTIFS('17년일출'!$AG$6:$AG$223,'17년일입'!AF16)) | AN16: =IF(W16=AL16,"OK","@@") -> OK | AP16: =IF(AF16="",0,SUMIFS('17년일출'!$AC$6:$AC$223,'17년일출'!$AG$6:$AG$223,'17년일입'!$AF16)) -> 0 | AQ16: =IF(AF16="","",COUNTIFS('17년일출'!$AG$6:$AG$223,AF16)) | AR16: =IF(AB16=AP16,"OK","@@") -> OK
A17: =IFERROR(VLOOKUP($C17,구분표!$A$2:$C$313,2,FALSE),"") | B17: =IFERROR(VLOOKUP($C17,구분표!$A$2:$C$313,3,FALSE),"") | K17: =SUM(H17:J17) -> 0 | N17: =SUM(H17,L17,M17) -> 0 | O17: =IF(AND((K17=0),(N17>0)),"O",IF(AND((I17<0),(K17-N17<0)),"O","X")) -> X | W17: =IF($V17<>"도비",IF($T17="국도비","직접입력",SUM($I17:$J17)),) -> 0 | X17: =IF($V17="도비",SUM($I17:$J17),IF($T17="국도비","직접입력",SUM($I17:$J17)-$W17)) -> 0 | Y17: =IF(SUM($I17:$J17)=SUM($W17:$X17),"OK","검토") -> OK | AB17: =IF($V17<>"도비",IF($T17="국도비","직접입력",SUM($L17:$M17)),) -> 0 | AC17: =IF($V17="도비",SUM(L17:M17),IF($T17="국도비","직접입력",SUM(L17:M17)-AB17)) -> 0 | AD17: =IF(SUM(L17:M17)=SUM(AB17:AC17),"OK","검토") -> OK | AF17: =IF(AH17="","",IF(V17="도비","세입없음",CONCATENATE(AH17,"-",COUNTIF($AH$7:AH17,AH17)))) | AH17: {=IF(C17="","",INDEX(구분표!$I$2:$I$313, MATCH(1,(구분표!$E$2:$E$313='17년일입'!B17)*(구분표!$F$2:$F$313='17년일입'!C17)*(구분표!$G$2:$G$313='17년일입'!A17),0)))} | AL17: =IF(AF17="",0,SUMIFS('17년일출'!$X$6:$X$223,'17년일출'!$AG$6:$AG$223,'17년일입'!$AF17)) -> 0 | AM17: =IF(AF17="","",COUNTIFS('17년일출'!$AG$6:$AG$223,'17년일입'!AF17)) | AN17: =IF(W17=AL17,"OK","@@") -> OK | AP17: =IF(AF17="",0,SUMIFS('17년일출'!$AC$6:$AC$223,'17년일출'!$AG$6:$AG$223,'17년일입'!$AF17)) -> 0 | AQ17: =IF(AF17="","",COUNTIFS('17년일출'!$AG$6:$AG$223,AF17)) | AR17: =IF(AB17=AP17,"OK","@@") -> OK
A18: =IFERROR(VLOOKUP($C18,구분표!$A$2:$C$313,2,FALSE),"") | B18: =IFERROR(VLOOKUP($C18,구분표!$A$2:$C$313,3,FALSE),"") | K18: =SUM(H18:J18) -> 0 | N18: =SUM(H18,L18,M18) -> 0 | O18: =IF(AND((K18=0),(N18>0)),"O",IF(AND((I18<0),(K18-N18<0)),"O","X")) -> X | W18: =IF($V18<>"도비",IF($T18="국도비","직접입력",SUM($I18:$J18)),) -> 0 | X18: =IF($V18="도비",SUM($I18:$J18),IF($T18="국도비","직접입력",SUM($I18:$J18)-$W18)) -> 0 | Y18: =IF(SUM($I18:$J18)=SUM($W18:$X18),"OK","검토") -> OK | AB18: =IF($V18<>"도비",IF($T18="국도비","직접입력",SUM($L18:$M18)),) -> 0 | AC18: =IF($V18="도비",SUM(L18:M18),IF($T18="국도비","직접입력",SUM(L18:M18)-AB18)) -> 0 | AD18: =IF(SUM(L18:M18)=SUM(AB18:AC18),"OK","검토") -> OK | AF18: =IF(AH18="","",IF(V18="도비","세입없음",CONCATENATE(AH18,"-",COUNTIF($AH$7:AH18,AH18)))) | AH18: {=IF(C18="","",INDEX(구분표!$I$2:$I$313, MATCH(1,(구분표!$E$2:$E$313='17년일입'!B18)*(구분표!$F$2:$F$313='17년일입'!C18)*(구분표!$G$2:$G$313='17년일입'!A18),0)))} | AL18: =IF(AF18="",0,SUMIFS('17년일출'!$X$6:$X$223,'17년일출'!$AG$6:$AG$223,'17년일입'!$AF18)) -> 0 | AM18: =IF(AF18="","",COUNTIFS('17년일출'!$AG$6:$AG$223,'17년일입'!AF18)) | AN18: =IF(W18=AL18,"OK","@@") -> OK | AP18: =IF(AF18="",0,SUMIFS('17년일출'!$AC$6:$AC$223,'17년일출'!$AG$6:$AG$223,'17년일입'!$AF18)) -> 0 | AQ18: =IF(AF18="","",COUNTIFS('17년일출'!$AG$6:$AG$223,AF18)) | AR18: =IF(AB18=AP18,"OK","@@") -> OK
A19: =IFERROR(VLOOKUP($C19,구분표!$A$2:$C$313,2,FALSE),"") | B19: =IFERROR(VLOOKUP($C19,구분표!$A$2:$C$313,3,FALSE),"") | K19: =SUM(H19:J19) -> 0 | N19: =SUM(H19,L19,M19) -> 0 | O19: =IF(AND((K19=0),(N19>0)),"O",IF(AND((I19<0),(K19-N19<0)),"O","X")) -> X | W19: =IF($V19<>"도비",IF($T19="국도비","직접입력",SUM($I19:$J19)),) -> 0 | X19: =IF($V19="도비",SUM($I19:$J19),IF($T19="국도비","직접입력",SUM($I19:$J19)-$W19)) -> 0 | Y19: =IF(SUM($I19:$J19)=SUM($W19:$X19),"OK","검토") -> OK | AB19: =IF($V19<>"도비",IF($T19="국도비","직접입력",SUM($L19:$M19)),) -> 0 | AC19: =IF($V19="도비",SUM(L19:M19),IF($T19="국도비","직접입력",SUM(L19:M19)-AB19)) -> 0 | AD19: =IF(SUM(L19:M19)=SUM(AB19:AC19),"OK","검토") -> OK | AF19: =IF(AH19="","",IF(V19="도비","세입없음",CONCATENATE(AH19,"-",COUNTIF($AH$7:AH19,AH19)))) | AH19: {=IF(C19="","",INDEX(구분표!$I$2:$I$313, MATCH(1,(구분표!$E$2:$E$313='17년일입'!B19)*(구분표!$F$2:$F$313='17년일입'!C19)*(구분표!$G$2:$G$313='17년일입'!A19),0)))} | AL19: =IF(AF19="",0,SUMIFS('17년일출'!$X$6:$X$223,'17년일출'!$AG$6:$AG$223,'17년일입'!$AF19)) -> 0 | AM19: =IF(AF19="","",COUNTIFS('17년일출'!$AG$6:$AG$223,'17년일입'!AF19)) | AN19: =IF(W19=AL19,"OK","@@") -> OK | AP19: =IF(AF19="",0,SUMIFS('17년일출'!$AC$6:$AC$223,'17년일출'!$AG$6:$AG$223,'17년일입'!$AF19)) -> 0 | AQ19: =IF(AF19="","",COUNTIFS('17년일출'!$AG$6:$AG$223,AF19)) | AR19: =IF(AB19=AP19,"OK","@@") -> OK
A20: =IFERROR(VLOOKUP($C20,구분표!$A$2:$C$313,2,FALSE),"") | B20: =IFERROR(VLOOKUP($C20,구분표!$A$2:$C$313,3,FALSE),"") | K20: =SUM(H20:J20) -> 0 | N20: =SUM(H20,L20,M20) -> 0 | O20: =IF(AND((K20=0),(N20>0)),"O",IF(AND((I20<0),(K20-N20<0)),"O","X")) -> X | W20: =IF($V20<>"도비",IF($T20="국도비","직접입력",SUM($I20:$J20)),) -> 0 | X20: =IF($V20="도비",SUM($I20:$J20),IF($T20="국도비","직접입력",SUM($I20:$J20)-$W20)) -> 0 | Y20: =IF(SUM($I20:$J20)=SUM($W20:$X20),"OK","검토") -> OK | AB20: =IF($V20<>"도비",IF($T20="국도비","직접입력",SUM($L20:$M20)),) -> 0 | AC20: =IF($V20="도비",SUM(L20:M20),IF($T20="국도비","직접입력",SUM(L20:M20)-AB20)) -> 0 | AD20: =IF(SUM(L20:M20)=SUM(AB20:AC20),"OK","검토") -> OK | AF20: =IF(AH20="","",IF(V20="도비","세입없음",CONCATENATE(AH20,"-",COUNTIF($AH$7:AH20,AH20)))) | AH20: {=IF(C20="","",INDEX(구분표!$I$2:$I$313, MATCH(1,(구분표!$E$2:$E$313='17년일입'!B20)*(구분표!$F$2:$F$313='17년일입'!C20)*(구분표!$G$2:$G$313='17년일입'!A20),0)))} | AL20: =IF(AF20="",0,SUMIFS('17년일출'!$X$6:$X$223,'17년일출'!$AG$6:$AG$223,'17년일입'!$AF20)) -> 0 | AM20: =IF(AF20="","",COUNTIFS('17년일출'!$AG$6:$AG$223,'17년일입'!AF20)) | AN20: =IF(W20=AL20,"OK","@@") -> OK | AP20: =IF(AF20="",0,SUMIFS('17년일출'!$AC$6:$AC$223,'17년일출'!$AG$6:$AG$223,'17년일입'!$AF20)) -> 0 | AQ20: =IF(AF20="","",COUNTIFS('17년일출'!$AG$6:$AG$223,AF20)) | AR20: =IF(AB20=AP20,"OK","@@") -> OK
A21: =IFERROR(VLOOKUP($C21,구분표!$A$2:$C$313,2,FALSE),"") | B21: =IFERROR(VLOOKUP($C21,구분표!$A$2:$C$313,3,FALSE),"") | K21: =SUM(H21:J21) -> 0 | N21: =SUM(H21,L21,M21) -> 0 | O21: =IF(AND((K21=0),(N21>0)),"O",IF(AND((I21<0),(K21-N21<0)),"O","X")) -> X | W21: =IF($V21<>"도비",IF($T21="국도비","직접입력",SUM($I21:$J21)),) -> 0 | X21: =IF($V21="도비",SUM($I21:$J21),IF($T21="국도비","직접입력",SUM($I21:$J21)-$W21)) -> 0 | Y21: =IF(SUM($I21:$J21)=SUM($W21:$X21),"OK","검토") -> OK | AB21: =IF($V21<>"도비",IF($T21="국도비","직접입력",SUM($L21:$M21)),) -> 0 | AC21: =IF($V21="도비",SUM(L21:M21),IF($T21="국도비","직접입력",SUM(L21:M21)-AB21)) -> 0 | AD21: =IF(SUM(L21:M21)=SUM(AB21:AC21),"OK","검토") -> OK | AF21: =IF(AH21="","",IF(V21="도비","세입없음",CONCATENATE(AH21,"-",COUNTIF($AH$7:AH21,AH21)))) | AH21: {=IF(C21="","",INDEX(구분표!$I$2:$I$313, MATCH(1,(구분표!$E$2:$E$313='17년일입'!B21)*(구분표!$F$2:$F$313='17년일입'!C21)*(구분표!$G$2:$G$313='17년일입'!A21),0)))} | AL21: =IF(AF21="",0,SUMIFS('17년일출'!$X$6:$X$223,'17년일출'!$AG$6:$AG$223,'17년일입'!$AF21)) -> 0 | AM21: =IF(AF21="","",COUNTIFS('17년일출'!$AG$6:$AG$223,'17년일입'!AF21)) | AN21: =IF(W21=AL21,"OK","@@") -> OK | AP21: =IF(AF21="",0,SUMIFS('17년일출'!$AC$6:$AC$223,'17년일출'!$AG$6:$AG$223,'17년일입'!$AF21)) -> 0 | AQ21: =IF(AF21="","",COUNTIFS('17년일출'!$AG$6:$AG$223,AF21)) | AR21: =IF(AB21=AP21,"OK","@@") -> OK
A22: =IFERROR(VLOOKUP($C22,구분표!$A$2:$C$313,2,FALSE),"") | B22: =IFERROR(VLOOKUP($C22,구분표!$A$2:$C$313,3,FALSE),"") | K22: =SUM(H22:J22) -> 0 | N22: =SUM(H22,L22,M22) -> 0 | O22: =IF(AND((K22=0),(N22>0)),"O",IF(AND((I22<0),(K22-N22<0)),"O","X")) -> X | W22: =IF($V22<>"도비",IF($T22="국도비","직접입력",SUM($I22:$J22)),) -> 0 | X22: =IF($V22="도비",SUM($I22:$J22),IF($T22="국도비","직접입력",SUM($I22:$J22)-$W22)) -> 0 | Y22: =IF(SUM($I22:$J22)=SUM($W22:$X22),"OK","검토") -> OK | AB22: =IF($V22<>"도비",IF($T22="국도비","직접입력",SUM($L22:$M22)),) -> 0 | AC22: =IF($V22="도비",SUM(L22:M22),IF($T22="국도비","직접입력",SUM(L22:M22)-AB22)) -> 0 | AD22: =IF(SUM(L22:M22)=SUM(AB22:AC22),"OK","검토") -> OK | AF22: =IF(AH22="","",IF(V22="도비","세입없음",CONCATENATE(AH22,"-",COUNTIF($AH$7:AH22,AH22)))) | AH22: {=IF(C22="","",INDEX(구분표!$I$2:$I$313, MATCH(1,(구분표!$E$2:$E$313='17년일입'!B22)*(구분표!$F$2:$F$313='17년일입'!C22)*(구분표!$G$2:$G$313='17년일입'!A22),0)))} | AL22: =IF(AF22="",0,SUMIFS('17년일출'!$X$6:$X$223,'17년일출'!$AG$6:$AG$223,'17년일입'!$AF22)) -> 0 | AM22: =IF(AF22="","",COUNTIFS('17년일출'!$AG$6:$AG$223,'17년일입'!AF22)) | AN22: =IF(W22=AL22,"OK","@@") -> OK | AP22: =IF(AF22="",0,SUMIFS('17년일출'!$AC$6:$AC$223,'17년일출'!$AG$6:$AG$223,'17년일입'!$AF22)) -> 0 | AQ22: =IF(AF22="","",COUNTIFS('17년일출'!$AG$6:$AG$223,AF22)) | AR22: =IF(AB22=AP22,"OK","@@") -> OK
... A100: =IFERROR(VLOOKUP($C100,구분표!$A$2:$C$313,2,FALSE),"") | B100: =IFERROR(VLOOKUP($C100,구분표!$A$2:$C$313,3,FALSE),"") | K100: =SUM(H100:J100) -> 0 | N100: =SUM(H100,L100,M100) -> 0 | O100: =IF(AND((K100=0),(N100>0)),"O",IF(AND((I100<0),(K100-N100<0)),"O","X")) -> X | W100: =IF($V100<>"도비",IF($T100="국도비","직접입력",SUM($I100:$J100)),) -> 0 | X100: =IF($V100="도비",SUM($I100:$J100),IF($T100="국도비","직접입력",SUM($I100:$J100)-$W100)) -> 0 | Y100: =IF(SUM($I100:$J100)=SUM($W100:$X100),"OK","검토") -> OK | AB100: =IF($V100<>"도비",IF($T100="국도비","직접입력",SUM($L100:$M100)),) -> 0 | AC100: =IF($V100="도비",SUM(L100:M100),IF($T100="국도비","직접입력",SUM(L100:M100)-AB100)) -> 0 | AD100: =IF(SUM(L100:M100)=SUM(AB100:AC100),"OK","검토") -> OK | AF100: =IF(AH100="","",IF(V100="도비","세입없음",CONCATENATE(AH100,"-",COUNTIF($AH$7:AH100,AH100)))) | AH100: {=IF(C100="","",INDEX(구분표!$I$2:$I$313, MATCH(1,(구분표!$E$2:$E$313='17년일입'!B100)*(구분표!$F$2:$F$313='17년일입'!C100)*(구분표!$G$2:$G$313='17년일입'!A100),0)))} | AL100: =IF(AF100="",0,SUMIFS('17년일출'!$X$6:$X$223,'17년일출'!$AG$6:$AG$223,'17년일입'!$AF100)) -> 0 | AM100: =IF(AF100="","",COUNTIFS('17년일출'!$AG$6:$AG$223,'17년일입'!AF100)) | AN100: =IF(W100=AL100,"OK","@@") -> OK | AP100: =IF(AF100="",0,SUMIFS('17년일출'!$AC$6:$AC$223,'17년일출'!$AG$6:$AG$223,'17년일입'!$AF100)) -> 0 | AQ100: =IF(AF100="","",COUNTIFS('17년일출'!$AG$6:$AG$223,AF100)) | AR100: =IF(AB100=AP100,"OK","@@") -> OK

Sheet 17년일출
A1: 2017년도 경기도 일반회계 세출 예산 조정(안)
A2: □ 세출예산 | X2: 세입=세출 | AC2: 세입=세출
J3: =COUNTA(J7:J223)-10 -> 19 | K3: =COUNTA(K7:K223)-10 -> 32 | M3: =COUNTA(M7:M223)-10 -> 1 | N3: =COUNTA(N7:N223)-10 -> 1 | S3: (단위 : 천원) | X3: =IF(X6='17년일입'!W6,"OK","@@") -> OK | Z3: =IF(COUNTIF(Z6:Z223,"검토")>0,"@@","OK") -> OK | AC3: =IF(AC6='17년일입'!AB6,"OK","@@") -> OK | AE3: =IF(COUNTIF(AE6:AE223,"검토")>0,"@@","OK") -> OK
A4: 위원회명 | B4: 실국명 | C4: 부서명 | D4: 편성 구분 | E4: 연정 구분 | F4: 예산안 페이지 | G4: 사업설명서페이지 | H4: 사업명 | I4: 예산안 (가) | J4: 상임위 예산안 조정액(나) | L4: 상임위 조정 예산안 (다=가+나) | M4: 예결위 예산안 조정액(라) | O4: 예결위 조정 예산안 (마=가+라) | P4: 동의 대상 | Q4: 상임위 변경사유 (심의 참고자료) | R4: 비고 (상임위 부대의견) | S4: 비고 (부대의견) | U4: 국도비 등 여부 | W4: 재원 | X4: 상임위 재원별 증감액 | AB4: 재원 | AC4: 예결위 재원별 증감액 | AG4: 세입번호 | AI4: 동일 세입 건수 | AJ4: 세출 번호 검증 | AL4: 실국부서 코드 | AN4: 추가 내시 등
J5: 감액 | K5: 증액 | M5: 감액 | N5: 증액 | X5: 국비 등 | Y5: 도비 | Z5: 검증 | AC5: 국비 등 | AD5: 도비 | AE5: 검증
A6: 합 계 | I6: =SUBTOTAL(9,I7:I223)/2 -> 103927956 | J6: =SUBTOTAL(9,J7:J223)/2 -> -13582625 | K6: =SUBTOTAL(9,K7:K223)/2 -> 20160740 | L6: =SUBTOTAL(9,L7:L223)/2 -> 110506071 | M6: =SUBTOTAL(9,M7:M223)/2 -> 0 | N6: =SUBTOTAL(9,N7:N223)/2 -> 0 | O6: =SUBTOTAL(9,O7:O223)/2 -> 98723579 | X6: =SUBTOTAL(9,X7:X223) -> 4516435 | Y6: =SUBTOTAL(9,Y7:Y223) -> 2061680 | Z6: =IF(SUM($J6:$K6)=SUM($X6:$Y6),"OK","검토") -> OK | AC6: =SUBTOTAL(9,AC7:AC223) -> 0 | AD6: =SUBTOTAL(9,AD7:AD223) -> 0 | AE6: =IF(SUM($J6:$K6)=SUM($X6:$Y6),"OK","검토") -> OK
A7: (의회운영위원회) | I7: =SUM(I8:I17) -> 0 | J7: =SUM(J8:J17) -> 0 | K7: =SUM(K8:K17) -> 0 | L7: =SUM(L8:L17) -> 0 | M7: =SUM(M8:M17) -> 0 | N7: =SUM(N8:N17) -> 0 | O7: =SUM(O8:O17) -> 0
A8: =IFERROR(VLOOKUP($C8,구분표!$A$2:$C$313,2,FALSE),"") | B8: =IFERROR(VLOOKUP($C8,구분표!$A$2:$C$313,3,FALSE),"") | D8: 본예산 | L8: =I8+J8+K8 -> 0 | O8: =I8+M8+N8 -> 0 | P8: =IF(AND((L8=0),(O8>0)),"O",IF(AND((J8<0),(L8-O8<0)),"O","X")) -> X | X8: 0 | Y8: 0 | Z8: =IF(SUM($J8:$K8)=SUM($X8:$Y8),"OK","검토") -> OK | AC8: =IF($W8<>"도비",IF($U8="국도비","직접입력",SUM($M8:$N8)),) -> 0 | AD8: =IF($W8="도비",SUM(M8:N8),IF($U8="국도비","직접입력",SUM(M8:N8)-AC8)) -> 0 | AE8: =IF(SUM(M8:N8)=SUM(AC8:AD8),"OK","검토") -> OK | AJ8: =IF(W8="","",IF(AND(W8="도비",AG8="세입없음"),"OK",IF(AND(W8<>"도비",AG8<>""),"OK","@@"))) | AL8: {=IF(C8="","",INDEX(구분표!$I$2:$I$313, MATCH(1,(구분표!$E$2:$E$313='17년일출'!B8)*(구분표!$F$2:$F$313='17년일출'!C8)*(구분표!$G$2:$G$313='17년일출'!A8),0)))}
A9: =IFERROR(VLOOKUP($C9,구분표!$A$2:$C$313,2,FALSE),"") | B9: =IFERROR(VLOOKUP($C9,구분표!$A$2:$C$313,3,FALSE),"") | D9: 신규 | L9: =I9+J9+K9 -> 0 | O9: =I9+M9+N9 -> 0 | P9: =IF(AND((L9=0),(O9>0)),"O",IF(AND((J9<0),(L9-O9<0)),"O","X")) -> X | X9: =IF($W9<>"도비",IF($U9="국도비","직접입력",SUM($J9:$K9)),) -> 0 | Y9: =IF($W9="도비",SUM($J9:$K9),IF($U9="국도비","직접입력",SUM($J9:$K9)-$X9)) -> 0 | Z9: =IF(SUM($J9:$K9)=SUM($X9:$Y9),"OK","검토") -> OK | AC9: =IF($W9<>"도비",IF($U9="국도비","직접입력",SUM($M9:$N9)),) -> 0 | AD9: =IF($W9="도비",SUM(M9:N9),IF($U9="국도비","직접입력",SUM(M9:N9)-AC9)) -> 0 | AE9: =IF(SUM(M9:N9)=SUM(AC9:AD9),"OK","검토") -> OK | AG9: =IF(W9="","",IF(W9="도비","세입없음","직접입력")) | AI9: =IF(AG9="","",COUNTIF($AG$7:$AG$223,AG9)) | AJ9: =IF(W9="","",IF(AND(W9="도비",AG9="세입없음"),"OK",IF(AND(W9<>"도비",AG9<>""),"OK","@@"))) | AL9: {=IF(C9="","",INDEX(구분표!$I$2:$I$313, MATCH(1,(구분표!$E$2:$E$313='17년일출'!B9)*(구분표!$F$2:$F$313='17년일출'!C9)*(구분표!$G$2:$G$313='17년일출'!A9),0)))}
A10: =IFERROR(VLOOKUP($C10,구분표!$A$2:$C$313,2,FALSE),"") | B10: =IFERROR(VLOOKUP($C10,구분표!$A$2:$C$313,3,FALSE),"") | L10: =I10+J10+K10 -> 0 | O10: =I10+M10+N10 -> 0 | P10: =IF(AND((L10=0),(O10>0)),"O",IF(AND((J10<0),(L10-O10<0)),"O","X")) -> X | X10: =IF($W10<>"도비",IF($U10="국도비","직접입력",SUM($J10:$K10)),) -> 0 | Y10: =IF($W10="도비",SUM($J10:$K10),IF($U10="국도비","직접입력",SUM($J10:$K10)-$X10)) -> 0 | Z10: =IF(SUM($J10:$K10)=SUM($X10:$Y10),"OK","검토") -> OK | AC10: =IF($W10<>"도비",IF($U10="국도비","직접입력",SUM($M10:$N10)),) -> 0 | AD10: =IF($W10="도비",SUM(M10:N10),IF($U10="국도비","직접입력",SUM(M10:N10)-AC10)) -> 0 | AE10: =IF(SUM(M10:N10)=SUM(AC10:AD10),"OK","검토") -> OK | AG10: =IF(W10="","",IF(W10="도비","세입없음","직접입력")) | AI10: =IF(AG10="","",COUNTIF($AG$7:$AG$223,AG10)) | AJ10: =IF(W10="","",IF(AND(W10="도비",AG10="세입없음"),"OK",IF(AND(W10<>"도비",AG10<>""),"OK","@@"))) | AL10: {=IF(C10="","",INDEX(구분표!$I$2:$I$313, MATCH(1,(구분표!$E$2:$E$313='17년일출'!B10)*(구분표!$F$2:$F$313='17년일출'!C10)*(구분표!$G$2:$G$313='17년일출'!A10),0)))}
A11: =IFERROR(VLOOKUP($C11,구분표!$A$2:$C$313,2,FALSE),"") | B11: =IFERROR(VLOOKUP($C11,구분표!$A$2:$C$313,3,FALSE),"") | L11: =I11+J11+K11 -> 0 | O11: =I11+M11+N11 -> 0 | P11: =IF(AND((L11=0),(O11>0)),"O",IF(AND((J11<0),(L11-O11<0)),"O","X")) -> X | X11: =IF($W11<>"도비",IF($U11="국도비","직접입력",SUM($J11:$K11)),) -> 0 | Y11: =IF($W11="도비",SUM($J11:$K11),IF($U11="국도비","직접입력",SUM($J11:$K11)-$X11)) -> 0 | Z11: =IF(SUM($J11:$K11)=SUM($X11:$Y11),"OK","검토") -> OK | AC11: =IF($W11<>"도비",IF($U11="국도비","직접입력",SUM($M11:$N11)),) -> 0 | AD11: =IF($W11="도비",SUM(M11:N11),IF($U11="국도비","직접입력",SUM(M11:N11)-AC11)) -> 0 | AE11: =IF(SUM(M11:N11)=SUM(AC11:AD11),"OK","검토") -> OK | AG11: =IF(W11="","",IF(W11="도비","세입없음","직접입력")) | AI11: =IF(AG11="","",COUNTIF($AG$7:$AG$223,AG11)) | AJ11: =IF(W11="","",IF(AND(W11="도비",AG11="세입없음"),"OK",IF(AND(W11<>"도비",AG11<>""),"OK","@@"))) | AL11: {=IF(C11="","",INDEX(구분표!$I$2:$I$313, MATCH(1,(구분표!$E$2:$E$313='17년일출'!B11)*(구분표!$F$2:$F$313='17년일출'!C11)*(구분표!$G$2:$G$313='17년일출'!A11),0)))}
A12: =IFERROR(VLOOKUP($C12,구분표!$A$2:$C$313,2,FALSE),"") | B12: =IFERROR(VLOOKUP($C12,구분표!$A$2:$C$313,3,FALSE),"") | L12: =I12+J12+K12 -> 0 | O12: =I12+M12+N12 -> 0 | P12: =IF(AND((L12=0),(O12>0)),"O",IF(AND((J12<0),(L12-O12<0)),"O","X")) -> X | X12: =IF($W12<>"도비",IF($U12="국도비","직접입력",SUM($J12:$K12)),) -> 0 | Y12: =IF($W12="도비",SUM($J12:$K12),IF($U12="국도비","직접입력",SUM($J12:$K12)-$X12)) -> 0 | Z12: =IF(SUM($J12:$K12)=SUM($X12:$Y12),"OK","검토") -> OK | AC12: =IF($W12<>"도비",IF($U12="국도비","직접입력",SUM($M12:$N12)),) -> 0 | AD12: =IF($W12="도비",SUM(M12:N12),IF($U12="국도비","직접입력",SUM(M12:N12)-AC12)) -> 0 | AE12: =IF(SUM(M12:N12)=SUM(AC12:AD12),"OK","검토") -> OK | AG12: =IF(W12="","",IF(W12="도비","세입없음","직접입력")) | AI12: =IF(AG12="","",COUNTIF($AG$7:$AG$223,AG12)) | AJ12: =IF(W12="","",IF(AND(W12="도비",AG12="세입없음"),"OK",IF(AND(W12<>"도비",AG12<>""),"OK","@@"))) | AL12: {=IF(C12="","",INDEX(구분표!$I$2:$I$313, MATCH(1,(구분표!$E$2:$E$313='17년일출'!B12)*(구분표!$F$2:$F$313='17년일출'!C12)*(구분표!$G$2:$G$313='17년일출'!A12),0)))}
A13: =IFERROR(VLOOKUP($C13,구분표!$A$2:$C$313,2,FALSE),"") | B13: =IFERROR(VLOOKUP($C13,구분표!$A$2:$C$313,3,FALSE),"") | L13: =I13+J13+K13 -> 0 | O13: =I13+M13+N13 -> 0 | P13: =IF(AND((L13=0),(O13>0)),"O",IF(AND((J13<0),(L13-O13<0)),"O","X")) -> X | X13: =IF($W13<>"도비",IF($U13="국도비","직접입력",SUM($J13:$K13)),) -> 0 | Y13: =IF($W13="도비",SUM($J13:$K13),IF($U13="국도비","직접입력",SUM($J13:$K13)-$X13)) -> 0 | Z13: =IF(SUM($J13:$K13)=SUM($X13:$Y13),"OK","검토") -> OK | AC13: =IF($W13<>"도비",IF($U13="국도비","직접입력",SUM($M13:$N13)),) -> 0 | AD13: =IF($W13="도비",SUM(M13:N13),IF($U13="국도비","직접입력",SUM(M13:N13)-AC13)) -> 0 | AE13: =IF(SUM(M13:N13)=SUM(AC13:AD13),"OK","검토") -> OK | AG13: =IF(W13="","",IF(W13="도비","세입없음","직접입력")) | AI13: =IF(AG13="","",COUNTIF($AG$7:$AG$223,AG13)) | AJ13: =IF(W13="","",IF(AND(W13="도비",AG13="세입없음"),"OK",IF(AND(W13<>"도비",AG13<>""),"OK","@@"))) | AL13: {=IF(C13="","",INDEX(구분표!$I$2:$I$313, MATCH(1,(구분표!$E$2:$E$313='17년일출'!B13)*(구분표!$F$2:$F$313='17년일출'!C13)*(구분표!$G$2:$G$313='17년일출'!A13),0)))}
A14: =IFERROR(VLOOKUP($C14,구분표!$A$2:$C$313,2,FALSE),"") | B14: =IFERROR(VLOOKUP($C14,구분표!$A$2:$C$313,3,FALSE),"") | L14: =I14+J14+K14 -> 0 | O14: =I14+M14+N14 -> 0 | P14: =IF(AND((L14=0),(O14>0)),"O",IF(AND((J14<0),(L14-O14<0)),"O","X")) -> X | X14: =IF($W14<>"도비",IF($U14="국도비","직접입력",SUM($J14:$K14)),) -> 0 | Y14: =IF($W14="도비",SUM($J14:$K14),IF($U14="국도비","직접입력",SUM($J14:$K14)-$X14)) -> 0 | Z14: =IF(SUM($J14:$K14)=SUM($X14:$Y14),"OK","검토") -> OK | AC14: =IF($W14<>"도비",IF($U14="국도비","직접입력",SUM($M14:$N14)),) -> 0 | AD14: =IF($W14="도비",SUM(M14:N14),IF($U14="국도비","직접입력",SUM(M14:N14)-AC14)) -> 0 | AE14: =IF(SUM(M14:N14)=SUM(AC14:AD14),"OK","검토") -> OK | AG14: =IF(W14="","",IF(W14="도비","세입없음","직접입력")) | AI14: =IF(AG14="","",COUNTIF($AG$7:$AG$223,AG14)) | AJ14: =IF(W14="","",IF(AND(W14="도비",AG14="세입없음"),"OK",IF(AND(W14<>"도비",AG14<>""),"OK","@@"))) | AL14: {=IF(C14="","",INDEX(구분표!$I$2:$I$313, MATCH(1,(구분표!$E$2:$E$313='17년일출'!B14)*(구분표!$F$2:$F$313='17년일출'!C14)*(구분표!$G$2:$G$313='17년일출'!A14),0)))}
A15: =IFERROR(VLOOKUP($C15,구분표!$A$2:$C$313,2,FALSE),"") | B15: =IFERROR(VLOOKUP($C15,구분표!$A$2:$C$313,3,FALSE),"") | L15: =I15+J15+K15 -> 0 | O15: =I15+M15+N15 -> 0 | P15: =IF(AND((L15=0),(O15>0)),"O",IF(AND((J15<0),(L15-O15<0)),"O","X")) -> X | X15: =IF($W15<>"도비",IF($U15="국도비","직접입력",SUM($J15:$K15)),) -> 0 | Y15: =IF($W15="도비",SUM($J15:$K15),IF($U15="국도비","직접입력",SUM($J15:$K15)-$X15)) -> 0 | Z15: =IF(SUM($J15:$K15)=SUM($X15:$Y15),"OK","검토") -> OK | AC15: =IF($W15<>"도비",IF($U15="국도비","직접입력",SUM($M15:$N15)),) -> 0 | AD15: =IF($W15="도비",SUM(M15:N15),IF($U15="국도비","직접입력",SUM(M15:N15)-AC15)) -> 0 | AE15: =IF(SUM(M15:N15)=SUM(AC15:AD15),"OK","검토") -> OK | AG15: =IF(W15="","",IF(W15="도비","세입없음","직접입력")) | AI15: =IF(AG15="","",COUNTIF($AG$7:$AG$223,AG15)) | AJ15: =IF(W15="","",IF(AND(W15="도비",AG15="세입없음"),"OK",IF(AND(W15<>"도비",AG15<>""),"OK","@@"))) | AL15: {=IF(C15="","",INDEX(구분표!$I$2:$I$313, MATCH(1,(구분표!$E$2:$E$313='17년일출'!B15)*(구분표!$F$2:$F$313='17년일출'!C15)*(구분표!$G$2:$G$313='17년일출'!A15),0)))}
A16: =IFERROR(VLOOKUP($C16,구분표!$A$2:$C$313,2,FALSE),"") | B16: =IFERROR(VLOOKUP($C16,구분표!$A$2:$C$313,3,FALSE),"") | L16: =I16+J16+K16 -> 0 | O16: =I16+M16+N16 -> 0 | P16: =IF(AND((L16=0),(O16>0)),"O",IF(AND((J16<0),(L16-O16<0)),"O","X")) -> X | X16: =IF($W16<>"도비",IF($U16="국도비","직접입력",SUM($J16:$K16)),) -> 0 | Y16: =IF($W16="도비",SUM($J16:$K16),IF($U16="국도비","직접입력",SUM($J16:$K16)-$X16)) -> 0 | Z16: =IF(SUM($J16:$K16)=SUM($X16:$Y16),"OK","검토") -> OK | AC16: =IF($W16<>"도비",IF($U16="국도비","직접입력",SUM($M16:$N16)),) -> 0 | AD16: =IF($W16="도비",SUM(M16:N16),IF($U16="국도비","직접입력",SUM(M16:N16)-AC16)) -> 0 | AE16: =IF(SUM(M16:N16)=SUM(AC16:AD16),"OK","검토") -> OK | AG16: =IF(W16="","",IF(W16="도비","세입없음","직접입력")) | AI16: =IF(AG16="","",COUNTIF($AG$7:$AG$223,AG16)) | AJ16: =IF(W16="","",IF(AND(W16="도비",AG16="세입없음"),"OK",IF(AND(W16<>"도비",AG16<>""),"OK","@@"))) | AL16: {=IF(C16="","",INDEX(구분표!$I$2:$I$313, MATCH(1,(구분표!$E$2:$E$313='17년일출'!B16)*(구분표!$F$2:$F$313='17년일출'!C16)*(구분표!$G$2:$G$313='17년일출'!A16),0)))}
A17: =IFERROR(VLOOKUP($C17,구분표!$A$2:$C$313,2,FALSE),"") | B17: =IFERROR(VLOOKUP($C17,구분표!$A$2:$C$313,3,FALSE),"") | L17: =I17+J17+K17 -> 0 | O17: =I17+M17+N17 -> 0 | P17: =IF(AND((L17=0),(O17>0)),"O",IF(AND((J17<0),(L17-O17<0)),"O","X")) -> X | X17: =IF($W17<>"도비",IF($U17="국도비","직접입력",SUM($J17:$K17)),) -> 0 | Y17: =IF($W17="도비",SUM($J17:$K17),IF($U17="국도비","직접입력",SUM($J17:$K17)-$X17)) -> 0 | Z17: =IF(SUM($J17:$K17)=SUM($X17:$Y17),"OK","검토") -> OK | AC17: =IF($W17<>"도비",IF($U17="국도비","직접입력",SUM($M17:$N17)),) -> 0 | AD17: =IF($W17="도비",SUM(M17:N17),IF($U17="국도비","직접입력",SUM(M17:N17)-AC17)) -> 0 | AE17: =IF(SUM(M17:N17)=SUM(AC17:AD17),"OK","검토") -> OK | AG17: =IF(W17="","",IF(W17="도비","세입없음","직접입력")) | AI17: =IF(AG17="","",COUNTIF($AG$7:$AG$223,AG17)) | AJ17: =IF(W17="","",IF(AND(W17="도비",AG17="세입없음"),"OK",IF(AND(W17<>"도비",AG17<>""),"OK","@@"))) | AL17: {=IF(C17="","",INDEX(구분표!$I$2:$I$313, MATCH(1,(구분표!$E$2:$E$313='17년일출'!B17)*(구분표!$F$2:$F$313='17년일출'!C17)*(구분표!$G$2:$G$313='17년일출'!A17),0)))}
A18: (기획재정위원회) | I18: =SUM(I19:I28) -> 0 | J18: =SUM(J19:J28) -> 0 | K18: =SUM(K19:K28) -> 0 | L18: =SUM(L19:L28) -> 0 | M18: =SUM(M19:M28) -> 0 | N18: =SUM(N19:N28) -> 0 | O18: =SUM(O19:O28) -> 0 | AG18: =IF(W18="","",IF(W18="도비","세입없음","직접입력"))
A19: =IFERROR(VLOOKUP($C19,구분표!$A$2:$C$313,2,FALSE),"") | B19: =IFERROR(VLOOKUP($C19,구분표!$A$2:$C$313,3,FALSE),"") | L19: =I19+J19+K19 -> 0 | O19: =I19+M19+N19 -> 0 | P19: =IF(AND((L19=0),(O19>0)),"O",IF(AND((J19<0),(L19-O19<0)),"O","X")) -> X | X19: =IF($W19<>"도비",IF($U19="국도비","직접입력",SUM($J19:$K19)),) -> 0 | Y19: =IF($W19="도비",SUM($J19:$K19),IF($U19="국도비","직접입력",SUM($J19:$K19)-$X19)) -> 0 | Z19: =IF(SUM($J19:$K19)=SUM($X19:$Y19),"OK","검토") -> OK | AC19: =IF($W19<>"도비",IF($U19="국도비","직접입력",SUM($M19:$N19)),) -> 0 | AD19: =IF($W19="도비",SUM(M19:N19),IF($U19="국도비","직접입력",SUM(M19:N19)-AC19)) -> 0 | AE19: =IF(SUM(M19:N19)=SUM(AC19:AD19),"OK","검토") -> OK | AG19: =IF(W19="","",IF(W19="도비","세입없음","직접입력")) | AI19: =IF(AG19="","",COUNTIF($AG$7:$AG$223,AG19)) | AJ19: =IF(W19="","",IF(AND(W19="도비",AG19="세입없음"),"OK",IF(AND(W19<>"도비",AG19<>""),"OK","@@"))) | AL19: {=IF(C19="","",INDEX(구분표!$I$2:$I$313, MATCH(1,(구분표!$E$2:$E$313='17년일출'!B19)*(구분표!$F$2:$F$313='17년일출'!C19)*(구분표!$G$2:$G$313='17년일출'!A19),0)))}
A20: =IFERROR(VLOOKUP($C20,구분표!$A$2:$C$313,2,FALSE),"") | B20: =IFERROR(VLOOKUP($C20,구분표!$A$2:$C$313,3,FALSE),"") | L20: =I20+J20+K20 -> 0 | O20: =I20+M20+N20 -> 0 | P20: =IF(AND((L20=0),(O20>0)),"O",IF(AND((J20<0),(L20-O20<0)),"O","X")) -> X | X20: =IF($W20<>"도비",IF($U20="국도비","직접입력",SUM($J20:$K20)),) -> 0 | Y20: =IF($W20="도비",SUM($J20:$K20),IF($U20="국도비","직접입력",SUM($J20:$K20)-$X20)) -> 0 | Z20: =IF(SUM($J20:$K20)=SUM($X20:$Y20),"OK","검토") -> OK | AC20: =IF($W20<>"도비",IF($U20="국도비","직접입력",SUM($M20:$N20)),) -> 0 | AD20: =IF($W20="도비",SUM(M20:N20),IF($U20="국도비","직접입력",SUM(M20:N20)-AC20)) -> 0 | AE20: =IF(SUM(M20:N20)=SUM(AC20:AD20),"OK","검토") -> OK | AG20: =IF(W20="","",IF(W20="도비","세입없음","직접입력")) | AI20: =IF(AG20="","",COUNTIF($AG$7:$AG$223,AG20)) | AJ20: =IF(W20="","",IF(AND(W20="도비",AG20="세입없음"),"OK",IF(AND(W20<>"도비",AG20<>""),"OK","@@"))) | AL20: {=IF(C20="","",INDEX(구분표!$I$2:$I$313, MATCH(1,(구분표!$E$2:$E$313='17년일출'!B20)*(구분표!$F$2:$F$313='17년일출'!C20)*(구분표!$G$2:$G$313='17년일출'!A20),0)))}
A21: =IFERROR(VLOOKUP($C21,구분표!$A$2:$C$313,2,FALSE),"") | B21: =IFERROR(VLOOKUP($C21,구분표!$A$2:$C$313,3,FALSE),"") | L21: =I21+J21+K21 -> 0 | O21: =I21+M21+N21 -> 0 | P21: =IF(AND((L21=0),(O21>0)),"O",IF(AND((J21<0),(L21-O21<0)),"O","X")) -> X | X21: =IF($W21<>"도비",IF($U21="국도비","직접입력",SUM($J21:$K21)),) -> 0 | Y21: =IF($W21="도비",SUM($J21:$K21),IF($U21="국도비","직접입력",SUM($J21:$K21)-$X21)) -> 0 | Z21: =IF(SUM($J21:$K21)=SUM($X21:$Y21),"OK","검토") -> OK | AC21: =IF($W21<>"도비",IF($U21="국도비","직접입력",SUM($M21:$N21)),) -> 0 | AD21: =IF($W21="도비",SUM(M21:N21),IF($U21="국도비","직접입력",SUM(M21:N21)-AC21)) -> 0 | AE21: =IF(SUM(M21:N21)=SUM(AC21:AD21),"OK","검토") -> OK | AG21: =IF(W21="","",IF(W21="도비","세입없음","직접입력")) | AI21: =IF(AG21="","",COUNTIF($AG$7:$AG$223,AG21)) | AJ21: =IF(W21="","",IF(AND(W21="도비",AG21="세입없음"),"OK",IF(AND(W21<>"도비",AG21<>""),"OK","@@"))) | AL21: {=IF(C21="","",INDEX(구분표!$I$2:$I$313, MATCH(1,(구분표!$E$2:$E$313='17년일출'!B21)*(구분표!$F$2:$F$313='17년일출'!C21)*(구분표!$G$2:$G$313='17년일출'!A21),0)))}
A22: =IFERROR(VLOOKUP($C22,구분표!$A$2:$C$313,2,FALSE),"") | B22: =IFERROR(VLOOKUP($C22,구분표!$A$2:$C$313,3,FALSE),"") | L22: =I22+J22+K22 -> 0 | O22: =I22+M22+N22 -> 0 | P22: =IF(AND((L22=0),(O22>0)),"O",IF(AND((J22<0),(L22-O22<0)),"O","X")) -> X | X22: =IF($W22<>"도비",IF($U22="국도비","직접입력",SUM($J22:$K22)),) -> 0 | Y22: =IF($W22="도비",SUM($J22:$K22),IF($U22="국도비","직접입력",SUM($J22:$K22)-$X22)) -> 0 | Z22: =IF(SUM($J22:$K22)=SUM($X22:$Y22),"OK","검토") -> OK | AC22: =IF($W22<>"도비",IF($U22="국도비","직접입력",SUM($M22:$N22)),) -> 0 | AD22: =IF($W22="도비",SUM(M22:N22),IF($U22="국도비","직접입력",SUM(M22:N22)-AC22)) -> 0 | AE22: =IF(SUM(M22:N22)=SUM(AC22:AD22),"OK","검토") -> OK | AG22: =IF(W22="","",IF(W22="도비","세입없음","직접입력")) | AI22: =IF(AG22="","",COUNTIF($AG$7:$AG$223,AG22)) | AJ22: =IF(W22="","",IF(AND(W22="도비",AG22="세입없음"),"OK",IF(AND(W22<>"도비",AG22<>""),"OK","@@"))) | AL22: {=IF(C22="","",INDEX(구분표!$I$2:$I$313, MATCH(1,(구분표!$E$2:$E$313='17년일출'!B22)*(구분표!$F$2:$F$313='17년일출'!C22)*(구분표!$G$2:$G$313='17년일출'!A22),0)))}
A23: =IFERROR(VLOOKUP($C23,구분표!$A$2:$C$313,2,FALSE),"") | B23: =IFERROR(VLOOKUP($C23,구분표!$A$2:$C$313,3,FALSE),"") | L23: =I23+J23+K23 -> 0 | O23: =I23+M23+N23 -> 0 | P23: =IF(AND((L23=0),(O23>0)),"O",IF(AND((J23<0),(L23-O23<0)),"O","X")) -> X | X23: =IF($W23<>"도비",IF($U23="국도비","직접입력",SUM($J23:$K23)),) -> 0 | Y23: =IF($W23="도비",SUM($J23:$K23),IF($U23="국도비","직접입력",SUM($J23:$K23)-$X23)) -> 0 | Z23: =IF(SUM($J23:$K23)=SUM($X23:$Y23),"OK","검토") -> OK | AC23: =IF($W23<>"도비",IF($U23="국도비","직접입력",SUM($M23:$N23)),) -> 0 | AD23: =IF($W23="도비",SUM(M23:N23),IF($U23="국도비","직접입력",SUM(M23:N23)-AC23)) -> 0 | AE23: =IF(SUM(M23:N23)=SUM(AC23:AD23),"OK","검토") -> OK | AG23: =IF(W23="","",IF(W23="도비","세입없음","직접입력")) | AI23: =IF(AG23="","",COUNTIF($AG$7:$AG$223,AG23)) | AJ23: =IF(W23="","",IF(AND(W23="도비",AG23="세입없음"),"OK",IF(AND(W23<>"도비",AG23<>""),"OK","@@"))) | AL23: {=IF(C23="","",INDEX(구분표!$I$2:$I$313, MATCH(1,(구분표!$E$2:$E$313='17년일출'!B23)*(구분표!$F$2:$F$313='17년일출'!C23)*(구분표!$G$2:$G$313='17년일출'!A23),0)))}
A24: =IFERROR(VLOOKUP($C24,구분표!$A$2:$C$313,2,FALSE),"") | B24: =IFERROR(VLOOKUP($C24,구분표!$A$2:$C$313,3,FALSE),"") | L24: =I24+J24+K24 -> 0 | O24: =I24+M24+N24 -> 0 | P24: =IF(AND((L24=0),(O24>0)),"O",IF(AND((J24<0),(L24-O24<0)),"O","X")) -> X | X24: =IF($W24<>"도비",IF($U24="국도비","직접입력",SUM($J24:$K24)),) -> 0 | Y24: =IF($W24="도비",SUM($J24:$K24),IF($U24="국도비","직접입력",SUM($J24:$K24)-$X24)) -> 0 | Z24: =IF(SUM($J24:$K24)=SUM($X24:$Y24),"OK","검토") -> OK | AC24: =IF($W24<>"도비",IF($U24="국도비","직접입력",SUM($M24:$N24)),) -> 0 | AD24: =IF($W24="도비",SUM(M24:N24),IF($U24="국도비","직접입력",SUM(M24:N24)-AC24)) -> 0 | AE24: =IF(SUM(M24:N24)=SUM(AC24:AD24),"OK","검토") -> OK | AG24: =IF(W24="","",IF(W24="도비","세입없음","직접입력")) | AI24: =IF(AG24="","",COUNTIF($AG$7:$AG$223,AG24)) | AJ24: =IF(W24="","",IF(AND(W24="도비",AG24="세입없음"),"OK",IF(AND(W24<>"도비",AG24<>""),"OK","@@"))) | AL24: {=IF(C24="","",INDEX(구분표!$I$2:$I$313, MATCH(1,(구분표!$E$2:$E$313='17년일출'!B24)*(구분표!$F$2:$F$313='17년일출'!C24)*(구분표!$G$2:$G$313='17년일출'!A24),0)))}
A25: =IFERROR(VLOOKUP($C25,구분표!$A$2:$C$313,2,FALSE),"") | B25: =IFERROR(VLOOKUP($C25,구분표!$A$2:$C$313,3,FALSE),"") | L25: =I25+J25+K25 -> 0 | O25: =I25+M25+N25 -> 0 | P25: =IF(AND((L25=0),(O25>0)),"O",IF(AND((J25<0),(L25-O25<0)),"O","X")) -> X | X25: =IF($W25<>"도비",IF($U25="국도비","직접입력",SUM($J25:$K25)),) -> 0 | Y25: =IF($W25="도비",SUM($J25:$K25),IF($U25="국도비","직접입력",SUM($J25:$K25)-$X25)) -> 0 | Z25: =IF(SUM($J25:$K25)=SUM($X25:$Y25),"OK","검토") -> OK | AC25: =IF($W25<>"도비",IF($U25="국도비","직접입력",SUM($M25:$N25)),) -> 0 | AD25: =IF($W25="도비",SUM(M25:N25),IF($U25="국도비","직접입력",SUM(M25:N25)-AC25)) -> 0 | AE25: =IF(SUM(M25:N25)=SUM(AC25:AD25),"OK","검토") -> OK | AG25: =IF(W25="","",IF(W25="도비","세입없음","직접입력")) | AI25: =IF(AG25="","",COUNTIF($AG$7:$AG$223,AG25)) | AJ25: =IF(W25="","",IF(AND(W25="도비",AG25="세입없음"),"OK",IF(AND(W25<>"도비",AG25<>""),"OK","@@"))) | AL25: {=IF(C25="","",INDEX(구분표!$I$2:$I$313, MATCH(1,(구분표!$E$2:$E$313='17년일출'!B25)*(구분표!$F$2:$F$313='17년일출'!C25)*(구분표!$G$2:$G$313='17년일출'!A25),0)))}
A26: =IFERROR(VLOOKUP($C26,구분표!$A$2:$C$313,2,FALSE),"") | B26: =IFERROR(VLOOKUP($C26,구분표!$A$2:$C$313,3,FALSE),"") | L26: =I26+J26+K26 -> 0 | O26: =I26+M26+N26 -> 0 | P26: =IF(AND((L26=0),(O26>0)),"O",IF(AND((J26<0),(L26-O26<0)),"O","X")) -> X | X26: =IF($W26<>"도비",IF($U26="국도비","직접입력",SUM($J26:$K26)),) -> 0 | Y26: =IF($W26="도비",SUM($J26:$K26),IF($U26="국도비","직접입력",SUM($J26:$K26)-$X26)) -> 0 | Z26: =IF(SUM($J26:$K26)=SUM($X26:$Y26),"OK","검토") -> OK | AC26: =IF($W26<>"도비",IF($U26="국도비","직접입력",SUM($M26:$N26)),) -> 0 | AD26: =IF($W26="도비",SUM(M26:N26),IF($U26="국도비","직접입력",SUM(M26:N26)-AC26)) -> 0 | AE26: =IF(SUM(M26:N26)=SUM(AC26:AD26),"OK","검토") -> OK | AG26: =IF(W26="","",IF(W26="도비","세입없음","직접입력")) | AI26: =IF(AG26="","",COUNTIF($AG$7:$AG$223,AG26)) | AJ26: =IF(W26="","",IF(AND(W26="도비",AG26="세입없음"),"OK",IF(AND(W26<>"도비",AG26<>""),"OK","@@"))) | AL26: {=IF(C26="","",INDEX(구분표!$I$2:$I$313, MATCH(1,(구분표!$E$2:$E$313='17년일출'!B26)*(구분표!$F$2:$F$313='17년일출'!C26)*(구분표!$G$2:$G$313='17년일출'!A26),0)))}
A27: =IFERROR(VLOOKUP($C27,구분표!$A$2:$C$313,2,FALSE),"") | B27: =IFERROR(VLOOKUP($C27,구분표!$A$2:$C$313,3,FALSE),"") | L27: =I27+J27+K27 -> 0 | O27: =I27+M27+N27 -> 0 | P27: =IF(AND((L27=0),(O27>0)),"O",IF(AND((J27<0),(L27-O27<0)),"O","X")) -> X | X27: =IF($W27<>"도비",IF($U27="국도비","직접입력",SUM($J27:$K27)),) -> 0 | Y27: =IF($W27="도비",SUM($J27:$K27),IF($U27="국도비","직접입력",SUM($J27:$K27)-$X27)) -> 0 | Z27: =IF(SUM($J27:$K27)=SUM($X27:$Y27),"OK","검토") -> OK | AC27: =IF($W27<>"도비",IF($U27="국도비","직접입력",SUM($M27:$N27)),) -> 0 | AD27: =IF($W27="도비",SUM(M27:N27),IF($U27="국도비","직접입력",SUM(M27:N27)-AC27)) -> 0 | AE27: =IF(SUM(M27:N27)=SUM(AC27:AD27),"OK","검토") -> OK | AG27: =IF(W27="","",IF(W27="도비","세입없음","직접입력")) | AI27: =IF(AG27="","",COUNTIF($AG$7:$AG$223,AG27)) | AJ27: =IF(W27="","",IF(AND(W27="도비",AG27="세입없음"),"OK",IF(AND(W27<>"도비",AG27<>""),"OK","@@"))) | AL27: {=IF(C27="","",INDEX(구분표!$I$2:$I$313, MATCH(1,(구분표!$E$2:$E$313='17년일출'!B27)*(구분표!$F$2:$F$313='17년일출'!C27)*(구분표!$G$2:$G$313='17년일출'!A27),0)))}
A28: =IFERROR(VLOOKUP($C28,구분표!$A$2:$C$313,2,FALSE),"") | B28: =IFERROR(VLOOKUP($C28,구분표!$A$2:$C$313,3,FALSE),"") | L28: =I28+J28+K28 -> 0 | O28: =I28+M28+N28 -> 0 | P28: =IF(AND((L28=0),(O28>0)),"O",IF(AND((J28<0),(L28-O28<0)),"O","X")) -> X | X28: =IF($W28<>"도비",IF($U28="국도비","직접입력",SUM($J28:$K28)),) -> 0 | Y28: =IF($W28="도비",SUM($J28:$K28),IF($U28="국도비","직접입력",SUM($J28:$K28)-$X28)) -> 0 | Z28: =IF(SUM($J28:$K28)=SUM($X28:$Y28),"OK","검토") -> OK | AC28: =IF($W28<>"도비",IF($U28="국도비","직접입력",SUM($M28:$N28)),) -> 0 | AD28: =IF($W28="도비",SUM(M28:N28),IF($U28="국도비","직접입력",SUM(M28:N28)-AC28)) -> 0 | AE28: =IF(SUM(M28:N28)=SUM(AC28:AD28),"OK","검토") -> OK | AG28: =IF(W28="","",IF(W28="도비","세입없음","직접입력")) | AI28: =IF(AG28="","",COUNTIF($AG$7:$AG$223,AG28)) | AJ28: =IF(W28="","",IF(AND(W28="도비",AG28="세입없음"),"OK",IF(AND(W28<>"도비",AG28<>""),"OK","@@"))) | AL28: {=IF(C28="","",INDEX(구분표!$I$2:$I$313, MATCH(1,(구분표!$E$2:$E$313='17년일출'!B28)*(구분표!$F$2:$F$313='17년일출'!C28)*(구분표!$G$2:$G$313='17년일출'!A28),0)))}
A29: (경제과학기술위원회) | I29: =SUM(I30:I39) -> 0 | J29: =SUM(J30:J39) -> 0 | K29: =SUM(K30:K39) -> 0 | L29: =SUM(L30:L39) -> 0 | M29: =SUM(M30:M39) -> 0 | N29: =SUM(N30:N39) -> 0 | O29: =SUM(O30:O39) -> 0 | AG29: =IF(W29="","",IF(W29="도비","세입없음","직접입력"))
