Workbook

Sheet 구분표
A2: 실과명 조정 | B2: 위원회명 조정 | C2: 실국명 조정 | E2: 실국명 | F2: 실과명 | G2: 위원회명 | H2: 정렬순서 | I2: 정렬코드
A3: 공보담당관 | B3: 의회운영위원회 | C3: 의회사무처 | E3: 의회사무처 | F3: 공보담당관 | G3: 의회운영위원회 | H3: 1 | I3: 0101
A4: 총무담당관 | B4: 의회운영위원회 | C4: 의회사무처 | E4: 의회사무처 | F4: 총무담당관 | G4: 의회운영위원회 | H4: 2 | I4: 0102
A5: 의정담당관 | B5: 의회운영위원회 | C5: 의회사무처 | E5: 의회사무처 | F5: 의정담당관 | G5: 의회운영위원회 | H5: 3 | I5: 0103
A6: 입법정책담당관 | B6: 의회운영위원회 | C6: 의회사무처 | E6: 의회사무처 | F6: 입법정책담당관 | G6: 의회운영위원회 | H6: 4 | I6: 0104
A7: 예산정책담당관 | B7: 의회운영위원회 | C7: 의회사무처 | E7: 의회사무처 | F7: 예산정책담당관 | G7: 의회운영위원회 | H7: 5 | I7: 0105
A8: 언론협력담당관 | B8: 의회운영위원회 | C8: 대변인 | E8: 대변인 | F8: 언론협력담당관 | G8: 의회운영위원회 | H8: 6 | I8: 0106
A9: 보도기획담당관 | B9: 의회운영위원회 | C9: 대변인 | E9: 대변인 | F9: 보도기획담당관 | G9: 의회운영위원회 | H9: 7 | I9: 0107
A10: 홍보미디어담당관 | B10: 의회운영위원회 | C10: 소통기획관 | E10: 소통기획관 | F10: 홍보미디어담당관 | G10: 의회운영위원회 | H10: 8 | I10: 0108
A11: 홍보콘텐츠담당관 | B11: 의회운영위원회 | C11: 소통기획관 | E11: 소통기획관 | F11: 홍보콘텐츠담당관 | G11: 의회운영위원회 | H11: 9 | I11: 0109
A12: 연정협력과 | B12: 의회운영위원회 | C12: 연정협력국 | E12: 연정협력국 | F12: 연정협력과 | G12: 의회운영위원회 | H12: 10 | I12: 0110
A13: 대외협력과 | B13: 의회운영위원회 | C13: 연정협력국 | E13: 연정협력국 | F13: 대외협력과 | G13: 의회운영위원회 | H13: 11 | I13: 0111
... A215: 도서관정책과 | B215: 여성가족교육협력위원회 | C215: 교육협력국 | E215: 교육협력국 | F215: 도서관정책과 | G215: 여성가족교육협력위원회 | H215: 213 | I215: 0313

Sheet 예결표지(세로)
A5: 2015년도 제2회 일반회계 및 특별회계 추가경정 세입·세출 예산안
A7: 예결위 계수조정 결과
A20: 예산결산특별위원회

Sheet 예결표지(가로)
A3: 2015년도 제2회 일반회계 및 특별회계 추가경정 세입·세출 예산안
A5: 예결위 계수조정 결과
A14: 예산결산특별위원회

Sheet 표지
A4: 예결위 계수조정 결과
B6: - 2017년도 일반회계 및 기타특별회계 예산안, 기금운용계획안
A12: 예산결산특별위원회

Sheet 검증
A1: 제4회 추경 일반회계 검증 | H1: 4추 예비비 | J1: 조정액 | K1: =IFERROR(INDEX('17년일출'!AD6:AD223,MATCH("*예비비*",'17년일출'!H6:H223,0)),0) -> 0 | L1: 조정잔액 | M1: =I1+K1 -> 0
M2: (단위 : 천원)
A3: 구분 | B3: 상 임 위 | H3: 구분 | I3: 예 결 위
B4: 세입 | C4: 검증 | D4: 세출 | E4: 검증 | F4: 차액 | I4: 세입 | J4: 검증 | K4: 세출 | L4: 검증 | M4: 차액
A5: 전체 총계 | B5: =SUM(B6:B13)/2 -> 0 | C5: =IF(B5=SUM('17년일입'!I6:J6),"OK","@@") -> @@ | D5: =SUM(D6:D13)/2 -> 2085038 | E5: =IF(D5=SUM('17년일출'!J6:K6),"OK","@@") -> @@ | H5: 전체 총계 | I5: =SUM(I6:I13)/2 -> 0 | J5: =IF(I5=SUM('17년일입'!L6:M6),"OK","@@") -> OK | K5: =SUM(K6:K13)/2 -> 0 | L5: =IF(K5=SUM('17년일출'!M6:N6),"OK","@@") -> OK
A6: 자체 계 | B6: =SUM(B7:B8) -> 0 | C6: =IF(B6='17년일입'!X6,"OK","@@") -> OK | D6: =SUM(D7:D8) -> 2061680 | E6: =IF(D6='17년일출'!Y6,"OK","@@") -> OK | H6: 자체 계 | I6: =SUM(I7:I8) -> 0 | J6: =IF(I6='17년일입'!AC6,"OK","@@") -> OK | K6: =SUM(K7:K8) -> 0 | L6: =IF(K6='17년일출'!AD6,"OK","@@") -> OK
A7: 자체 도비 | B7: =SUMIFS('17년일입'!X6:X100,'17년일입'!V6:V100,"도비") -> 0 | D7: =SUMIFS('17년일출'!$Y$6:$Y$223,'17년일출'!$W$6:$W$223,"도비") -> 2038322 | H7: 자체 도비 | I7: =SUMIFS('17년일입'!AC6:AC100,'17년일입'!AA6:AA100,"국비") -> 0 | K7: =SUMIFS('17년일출'!$AD$6:$AD$223,'17년일출'!$AB$6:$AB$223,"도비") -> 0
A8: 의존 매칭 도비 | B8: =SUMIFS('17년일입'!X6:X100,'17년일입'!V6:V100,"국비")+SUMIFS('17년일입'!X6:X100,'17년일입'!V6:V100,"지특")+SUMIFS('17년일입'!X6:X100,'17년일입'!V6:V100,"기금")+SUMIFS('17년일입'!X6:X100,'17년일입'!V6:V100,"특교") -> 0 | D8: =SUMIFS('17년일출'!$Y$6:$Y$223,'17년일출'!$W$6:$W$223,"국비")+SUMIFS('17년일출'!$Y$6:$Y$223,'17년일출'!$W$6:$W$223,"지특")+SUMIFS('17년일출'!$Y$6:$Y$223,'17년일출'!$W$6:$W$223,"기금")+SUMIFS('17년일출'!$Y$6:$Y$223,'17년일출'!$W$6:$W$223,"특교") -> 23358 | H8: 의존 매칭 도비 | I8: =SUMIFS('17년일입'!AC6:AC100,'17년일입'!AA6:AA100,"국비")+SUMIFS('17년일입'!AC6:AC100,'17년일입'!AA6:AA100,"지특")+SUMIFS('17년일입'!AC6:AC100,'17년일입'!AA6:AA100,"기금")+SUMIFS('17년일입'!AC6:AC100,'17년일입'!AA6:AA100,"특교") -> 0 | K8: =SUMIFS('17년일출'!$AD$6:$AD$223,'17년일출'!$AB$6:$AB$223,"국비")+SUMIFS('17년일출'!$AD$6:$AD$223,'17년일출'!$AB$6:$AB$223,"지특")+SUMIFS('17년일출'!$AD$6:$AD$223,'17년일출'!$AB$6:$AB$223,"기금")+SUMIFS('17년일출'!$AD$6:$AD$223,'17년일출'!$AB$6:$AB$223,"특교") -> 0
A9: 의존 계 | B9: =SUM(B10:B13) -> 0 | C9: =IF(B9='17년일입'!W6,"OK","@@") -> @@ | D9: =SUM(D10:D13) -> 23358 | E9: =IF(D9='17년일출'!X6,"OK","@@") -> @@ | F9: =SUM(F10:F13) -> 23358 | H9: 의존 계 | I9: =SUM(I10:I13) -> 0 | J9: =IF(I9='17년일입'!W6,"OK","@@") -> @@ | K9: =SUM(K10:K13) -> 0 | L9: =IF(K9='17년일출'!AC6,"OK","@@") -> OK | M9: =SUM(M10:M13) -> 0
A10: 국비 | B10: =SUMIFS('17년일입'!$X$6:$X$100,'17년일입'!$V$6:$V$100,검증!A10) -> 0 | D10: =SUMIFS('17년일출'!$Y$6:$Y$223,'17년일출'!$W$6:$W$223,검증!A10) -> -237769 | F10: =D10-B10 -> -237769 | H10: 국비 | I10: =SUMIFS('17년일입'!$AC$6:$AC$100,'17년일입'!$AA$6:$AA$100,검증!H10) -> 0 | K10: =SUMIFS('17년일출'!$AD$6:$AD$223,'17년일출'!$AB$6:$AB$223,검증!H10) -> 0 | M10: =K10-I10 -> 0
A11: 지특 | B11: =SUMIFS('17년일입'!$X$6:$X$100,'17년일입'!$V$6:$V$100,검증!A11) -> 0 | D11: =SUMIFS('17년일출'!$Y$6:$Y$223,'17년일출'!$W$6:$W$223,검증!A11) -> 0 | F11: =D11-B11 -> 0 | H11: 지특 | I11: =SUMIFS('17년일입'!$AC$6:$AC$100,'17년일입'!$AA$6:$AA$100,검증!H11) -> 0 | K11: =SUMIFS('17년일출'!$AD$6:$AD$223,'17년일출'!$AB$6:$AB$223,검증!H11) -> 0 | M11: =K11-I11 -> 0
A12: 기금 | B12: =SUMIFS('17년일입'!$X$6:$X$100,'17년일입'!$V$6:$V$100,검증!A12) -> 0 | D12: =SUMIFS('17년일출'!$Y$6:$Y$223,'17년일출'!$W$6:$W$223,검증!A12) -> 261127 | F12: =D12-B12 -> 261127 | H12: 기금 | I12: =SUMIFS('17년일입'!$AC$6:$AC$100,'17년일입'!$AA$6:$AA$100,검증!H12) -> 0 | K12: =SUMIFS('17년일출'!$AD$6:$AD$223,'17년일출'!$AB$6:$AB$223,검증!H12) -> 0 | M12: =K12-I12 -> 0
A13: 특교 | B13: =SUMIFS('17년일입'!$X$6:$X$100,'17년일입'!$V$6:$V$100,검증!A13) -> 0 | D13: =SUMIFS('17년일출'!$Y$6:$Y$223,'17년일출'!$W$6:$W$223,검증!A13) -> 0 | F13: =D13-B13 -> 0 | H13: 특교 | I13: =SUMIFS('17년일입'!$AC$6:$AC$100,'17년일입'!$AA$6:$AA$100,검증!H13) -> 0 | K13: =SUMIFS('17년일출'!$AD$6:$AD$223,'17년일출'!$AB$6:$AB$223,검증!H13) -> 0 | M13: =K13-I13 -> 0

Sheet 총괄표
A1: 2017년도 일반 및 특별회계 세입·세출 예산안(전체예산총괄)
A3: □ 총 괄 | C3: 세입예산 증감 | D3: =SUM(C7:D7) -> 0 | F3: 세출예산증감 | G3: =SUM(F7:G7) -> 0
F4: ※ 예비비 증감 | I4: (단위 : 천원)
A5: 구 분 | B5: 집행부제출(안) | C5: 세입예산(안) | F5: 세출예산(안) | I5: 수정예산(안) | K5: ※ 예산안 증감현황
C6: 감 액 | D6: 증 액 | E6: 증감액 | F6: 감 액 | G6: 증 액 | H6: 증감액 | K6: 구 분 | L6: 세입 | M6: 세출 | N6: 예비비 | O6: 비고(???)
A7: 합 계 | B7: =SUM(B8:B17) -> 4266022077 | C7: =SUM(C8:C17) -> 0 | D7: =SUM(D8:D17) -> 0 | E7: =SUM(E8:E17) -> 0 | F7: =SUM(F8:F17) -> 0 | G7: =SUM(G8:G17) -> 0 | H7: =SUM(H8:H17) -> 0 | I7: =SUM(I8:I17) -> 4266022077 | K7: 합 계 | L7: =SUM(L8:L9) -> 0 | M7: =SUM(M8:M9) -> 0 | N7: =L7-M7 -> 0
A8: 의회운영위원회 | B8: =B31 -> 0 | C8: =SUMIFS('17년일입'!L$6:L$100,'17년일입'!$A$6:$A$100,총괄표!$A8)+SUMIFS('17년특입'!K$6:K$39,'17년특입'!$A$6:$A$39,총괄표!$A8) -> 0 | D8: =SUMIFS('17년일입'!M$6:M$100,'17년일입'!$A$6:$A$100,총괄표!$A8)+SUMIFS('17년특입'!L$6:L$39,'17년특입'!$A$6:$A$39,총괄표!$A8) -> 0 | E8: =D8-C8 -> 0 | F8: =SUMIFS('17년일출'!M$6:M$223,'17년일출'!$A$6:$A$223,총괄표!$A8)+SUMIFS('17년특출'!K$6:K$39,'17년특출'!$A$6:$A$39,총괄표!$A8) -> 0 | G8: =SUMIFS('17년일출'!N$6:N$223,'17년일출'!$A$6:$A$223,총괄표!$A8)+SUMIFS('17년특출'!L$6:L$39,'17년특출'!$A$6:$A$39,총괄표!$A8) -> 0 | H8: =G8-F8 -> 0 | I8: =B8+F8+G8 -> 0 | K8: 일반회계 | L8: =SUM(C24:D24) -> 0 | M8: =SUM(F24:G24) -> 0 | N8: =L8-M8 -> 0 | O8: 예비비 증감 - 감액, + 증액에 입력
A9: 기획재정위원회 | B9: =B32 -> 0 | C9: =SUMIFS('17년일입'!L$6:L$100,'17년일입'!$A$6:$A$100,총괄표!$A9)+SUMIFS('17년특입'!K$6:K$39,'17년특입'!$A$6:$A$39,총괄표!$A9) -> 0 | D9: =SUMIFS('17년일입'!M$6:M$100,'17년일입'!$A$6:$A$100,총괄표!$A9)+SUMIFS('17년특입'!L$6:L$39,'17년특입'!$A$6:$A$39,총괄표!$A9) -> 0 | E9: =D9-C9 -> 0 | F9: =SUMIFS('17년일출'!M$6:M$223,'17년일출'!$A$6:$A$223,총괄표!$A9)+SUMIFS('17년특출'!K$6:K$39,'17년특출'!$A$6:$A$39,총괄표!$A9) -> 0 | G9: =SUMIFS('17년일출'!N$6:N$223,'17년일출'!$A$6:$A$223,총괄표!$A9)+SUMIFS('17년특출'!L$6:L$39,'17년특출'!$A$6:$A$39,총괄표!$A9) -> 0 | H9: =G9-F9 -> 0 | I9: =B9+F9+G9 -> 0 | K9: 특별회계 | L9: =SUM(C25:D25) -> 0 | M9: =SUM(F25:G25) -> 0 | N9: =L9-M9 -> 0
A10: 경제과학기술위원회 | B10: =B33 -> 0 | C10: =SUMIFS('17년일입'!L$6:L$100,'17년일입'!$A$6:$A$100,총괄표!$A10)+SUMIFS('17년특입'!K$6:K$39,'17년특입'!$A$6:$A$39,총괄표!$A10) -> 0 | D10: =SUMIFS('17년일입'!M$6:M$100,'17년일입'!$A$6:$A$100,총괄표!$A10)+SUMIFS('17년특입'!L$6:L$39,'17년특입'!$A$6:$A$39,총괄표!$A10) -> 0 | E10: =D10-C10 -> 0 | F10: =SUMIFS('17년일출'!M$6:M$223,'17년일출'!$A$6:$A$223,총괄표!$A10)+SUMIFS('17년특출'!K$6:K$39,'17년특출'!$A$6:$A$39,총괄표!$A10) -> 0 | G10: =SUMIFS('17년일출'!N$6:N$223,'17년일출'!$A$6:$A$223,총괄표!$A10)+SUMIFS('17년특출'!L$6:L$39,'17년특출'!$A$6:$A$39,총괄표!$A10) -> 0 | H10: =G10-F10 -> 0 | I10: =B10+F10+G10 -> 0
A11: 안전행정위원회 | B11: =B34 -> 0 | C11: =SUMIFS('17년일입'!L$6:L$100,'17년일입'!$A$6:$A$100,총괄표!$A11)+SUMIFS('17년특입'!K$6:K$39,'17년특입'!$A$6:$A$39,총괄표!$A11) -> 0 | D11: =SUMIFS('17년일입'!M$6:M$100,'17년일입'!$A$6:$A$100,총괄표!$A11)+SUMIFS('17년특입'!L$6:L$39,'17년특입'!$A$6:$A$39,총괄표!$A11) -> 0 | E11: =D11-C11 -> 0 | F11: =SUMIFS('17년일출'!M$6:M$223,'17년일출'!$A$6:$A$223,총괄표!$A11)+SUMIFS('17년특출'!K$6:K$39,'17년특출'!$A$6:$A$39,총괄표!$A11) -> 0 | G11: =SUMIFS('17년일출'!N$6:N$223,'17년일출'!$A$6:$A$223,총괄표!$A11)+SUMIFS('17년특출'!L$6:L$39,'17년특출'!$A$6:$A$39,총괄표!$A11) -> 0 | H11: =G11-F11 -> 0 | I11: =B11+F11+G11 -> 0
A12: 문화체육관광위원회 | B12: =B35 -> 0 | C12: =SUMIFS('17년일입'!L$6:L$100,'17년일입'!$A$6:$A$100,총괄표!$A12)+SUMIFS('17년특입'!K$6:K$39,'17년특입'!$A$6:$A$39,총괄표!$A12) -> 0 | D12: =SUMIFS('17년일입'!M$6:M$100,'17년일입'!$A$6:$A$100,총괄표!$A12)+SUMIFS('17년특입'!L$6:L$39,'17년특입'!$A$6:$A$39,총괄표!$A12) -> 0 | E12: =D12-C12 -> 0 | F12: =SUMIFS('17년일출'!M$6:M$223,'17년일출'!$A$6:$A$223,총괄표!$A12)+SUMIFS('17년특출'!K$6:K$39,'17년특출'!$A$6:$A$39,총괄표!$A12) -> 0 | G12: =SUMIFS('17년일출'!N$6:N$223,'17년일출'!$A$6:$A$223,총괄표!$A12)+SUMIFS('17년특출'!L$6:L$39,'17년특출'!$A$6:$A$39,총괄표!$A12) -> 0 | H12: =G12-F12 -> 0 | I12: =B12+F12+G12 -> 0
A13: 농정해양위원회 | B13: =B36 -> 0 | C13: =SUMIFS('17년일입'!L$6:L$100,'17년일입'!$A$6:$A$100,총괄표!$A13)+SUMIFS('17년특입'!K$6:K$39,'17년특입'!$A$6:$A$39,총괄표!$A13) -> 0 | D13: =SUMIFS('17년일입'!M$6:M$100,'17년일입'!$A$6:$A$100,총괄표!$A13)+SUMIFS('17년특입'!L$6:L$39,'17년특입'!$A$6:$A$39,총괄표!$A13) -> 0 | E13: =D13-C13 -> 0 | F13: =SUMIFS('17년일출'!M$6:M$223,'17년일출'!$A$6:$A$223,총괄표!$A13)+SUMIFS('17년특출'!K$6:K$39,'17년특출'!$A$6:$A$39,총괄표!$A13) -> 0 | G13: =SUMIFS('17년일출'!N$6:N$223,'17년일출'!$A$6:$A$223,총괄표!$A13)+SUMIFS('17년특출'!L$6:L$39,'17년특출'!$A$6:$A$39,총괄표!$A13) -> 0 | H13: =G13-F13 -> 0 | I13: =B13+F13+G13 -> 0
A14: 보건복지위원회 | B14: =B37 -> 4266022077 | C14: =SUMIFS('17년일입'!L$6:L$100,'17년일입'!$A$6:$A$100,총괄표!$A14)+SUMIFS('17년특입'!K$6:K$39,'17년특입'!$A$6:$A$39,총괄표!$A14) -> 0 | D14: =SUMIFS('17년일입'!M$6:M$100,'17년일입'!$A$6:$A$100,총괄표!$A14)+SUMIFS('17년특입'!L$6:L$39,'17년특입'!$A$6:$A$39,총괄표!$A14) -> 0 | E14: =D14-C14 -> 0 | F14: =SUMIFS('17년일출'!M$6:M$223,'17년일출'!$A$6:$A$223,총괄표!$A14)+SUMIFS('17년특출'!K$6:K$39,'17년특출'!$A$6:$A$39,총괄표!$A14) -> 0 | G14: =SUMIFS('17년일출'!N$6:N$223,'17년일출'!$A$6:$A$223,총괄표!$A14)+SUMIFS('17년특출'!L$6:L$39,'17년특출'!$A$6:$A$39,총괄표!$A14) -> 0 | H14: =G14-F14 -> 0 | I14: =B14+F14+G14 -> 4266022077
A15: 건설교통위원회 | B15: =B38 -> 0 | C15: =SUMIFS('17년일입'!L$6:L$100,'17년일입'!$A$6:$A$100,총괄표!$A15)+SUMIFS('17년특입'!K$6:K$39,'17년특입'!$A$6:$A$39,총괄표!$A15) -> 0 | D15: =SUMIFS('17년일입'!M$6:M$100,'17년일입'!$A$6:$A$100,총괄표!$A15)+SUMIFS('17년특입'!L$6:L$39,'17년특입'!$A$6:$A$39,총괄표!$A15) -> 0 | E15: =D15-C15 -> 0 | F15: =SUMIFS('17년일출'!M$6:M$223,'17년일출'!$A$6:$A$223,총괄표!$A15)+SUMIFS('17년특출'!K$6:K$39,'17년특출'!$A$6:$A$39,총괄표!$A15) -> 0 | G15: =SUMIFS('17년일출'!N$6:N$223,'17년일출'!$A$6:$A$223,총괄표!$A15)+SUMIFS('17년특출'!L$6:L$39,'17년특출'!$A$6:$A$39,총괄표!$A15) -> 0 | H15: =G15-F15 -> 0 | I15: =B15+F15+G15 -> 0
A16: 도시환경위원회 | B16: =B39 -> 0 | C16: =SUMIFS('17년일입'!L$6:L$100,'17년일입'!$A$6:$A$100,총괄표!$A16)+SUMIFS('17년특입'!K$6:K$39,'17년특입'!$A$6:$A$39,총괄표!$A16) -> 0 | D16: =SUMIFS('17년일입'!M$6:M$100,'17년일입'!$A$6:$A$100,총괄표!$A16)+SUMIFS('17년특입'!L$6:L$39,'17년특입'!$A$6:$A$39,총괄표!$A16) -> 0 | E16: =D16-C16 -> 0 | F16: =SUMIFS('17년일출'!M$6:M$223,'17년일출'!$A$6:$A$223,총괄표!$A16)+SUMIFS('17년특출'!K$6:K$39,'17년특출'!$A$6:$A$39,총괄표!$A16) -> 0 | G16: =SUMIFS('17년일출'!N$6:N$223,'17년일출'!$A$6:$A$223,총괄표!$A16)+SUMIFS('17년특출'!L$6:L$39,'17년특출'!$A$6:$A$39,총괄표!$A16) -> 0 | H16: =G16-F16 -> 0 | I16: =B16+F16+G16 -> 0
A17: 여상가족교육협력위원회 | B17: =B40 -> 0 | C17: =SUMIFS('17년일입'!L$6:L$100,'17년일입'!$A$6:$A$100,총괄표!$A17)+SUMIFS('17년특입'!K$6:K$39,'17년특입'!$A$6:$A$39,총괄표!$A17) -> 0 | D17: =SUMIFS('17년일입'!M$6:M$100,'17년일입'!$A$6:$A$100,총괄표!$A17)+SUMIFS('17년특입'!L$6:L$39,'17년특입'!$A$6:$A$39,총괄표!$A17) -> 0 | E17: =D17-C17 -> 0 | F17: =SUMIFS('17년일출'!M$6:M$223,'17년일출'!$A$6:$A$223,총괄표!$A17)+SUMIFS('17년특출'!K$6:K$39,'17년특출'!$A$6:$A$39,총괄표!$A17) -> 0 | G17: =SUMIFS('17년일출'!N$6:N$223,'17년일출'!$A$6:$A$223,총괄표!$A17)+SUMIFS('17년특출'!L$6:L$39,'17년특출'!$A$6:$A$39,총괄표!$A17) -> 0 | H17: =G17-F17 -> 0 | I17: =B17+F17+G17 -> 0
A19: □ 회계별 예산 총 규모
I20: (단위 : 천원)
A21: 구 분 | B21: 집행부제출(안) | C21: 세입예산(안) | F21: 세출예산(안) | I21: 수정예산(안) | K21: 세입기준
C22: 감 액 | D22: 증 액 | E22: 증감액 | F22: 감 액 | G22: 증 액 | H22: 증감액 | K22: 수정예산(안) | L22: 세출기준-세입기준
A23: 합 계 | B23: =SUM(B24:B25) -> 3324744279 | C23: =SUM(C24:C25) -> 0 | D23: =SUM(D24:D25) -> 0 | E23: =SUM(E24:E25) -> 0 | F23: =SUM(F24:F25) -> 0 | G23: =SUM(G24:G25) -> 0 | H23: =SUM(H24:H25) -> 0 | I23: =SUM(I24:I25) -> 3324744279 | K23: =SUM(K24:K25) -> 3324744279 | L23: =I23-K23 -> 0
A24: 일반회계 | B24: =D30 -> 3324744279 | C24: ='17년일입'!L6 -> 0 | D24: ='17년일입'!M6 -> 0 | E24: =D24-C24 -> 0 | F24: ='17년일출'!M6 -> 0 | G24: ='17년일출'!N6 -> 0 | H24: =G24-F24 -> 0 | I24: =B24+F24+G24 -> 3324744279 | K24: =B24+C24+D24 -> 3324744279 | L24: =I24-K24 -> 0
A25: 특별회계 | B25: =F30+G30 -> 0 | C25: ='17년특입'!K6 -> 0 | D25: ='17년특입'!L6 -> 0 | E25: =D25-C25 -> 0 | F25: ='17년특출'!K6 -> 0 | G25: ='17년특출'!L6 -> 0 | H25: =G25-F25 -> 0 | I25: =B25+F25+G25 -> 0 | K25: =B25+C25+D25 -> 0 | L25: =I25-K25 -> 0
A28: ※ 회계별, 위원회별 집행부제출안
A29: 위원회명 | B29: 합계 | C29: 일반+기타 | D29: 일반회계 | E29: 기타특별회계 | F29: 공기업특별회계
A30: 합계 | B30: =SUM(B31:B40) -> 4266022077 | C30: =SUM(C31:C40) -> 3324744279 | D30: =SUM(D31:D40) -> 3324744279 | E30: =SUM(E31:E40) -> 941277798 | F30: =SUM(F31:F40) -> 0
A31: 의회운영위원회 | B31: =SUM(D31:G31) -> 0 | C31: =D31+F31 -> 0
A32: 기획재정위원회 | B32: =SUM(D32:G32) -> 0 | C32: =D32+F32 -> 0
A33: 경제과학기술위원회 | B33: =SUM(D33:G33) -> 0 | C33: =D33+F33 -> 0
A34: 안전행정위원회 | B34: =SUM(D34:G34) -> 0 | C34: =D34+F34 -> 0
A35: 문화체육관광위원회 | B35: =SUM(D35:G35) -> 0 | C35: =D35+F35 -> 0
A36: 농정해양위원회 | B36: =SUM(D36:G36) -> 0 | C36: =D36+F36 -> 0
A37: 보건복지위원회 | B37: =SUM(D37:G37) -> 4266022077 | C37: =D37+F37 -> 3324744279 | D37: 3324744279 | E37: 941277798
A38: 건설교통위원회 | B38: =SUM(D38:G38) -> 0 | C38: =D38+F38 -> 0
A39: 도시환경위원회 | B39: =SUM(D39:G39) -> 0 | C39: =D39+F39 -> 0
A40: 여상가족교육협력위원회 | B40: =SUM(D40:G40) -> 0 | C40: =D40+F40 -> 0
A42: 예비비

Sheet 17년일입
A1: 2017년도 경기도 일반회계 세입 예산 조정(안)
A2: □ 세입예산 | W2: 세입=세출 | AB2: 세입=세출
I3: =COUNTA(I7:I100) -> 3 | J3: =COUNTA(J7:J100) -> 1 | L3: =COUNTA(L7:L100) -> 0 | M3: =COUNTA(M7:M100) -> 0 | R3: (단위 : 천원) | W3: =IF(W6='17년일출'!X6,"OK","@@") -> OK | Y3: =IF(COUNTIF(Y6:Y100,"검토")>0,"@@","OK") -> OK | AB3: =IF(AB6='17년일출'!AC6,"OK","@@") -> OK | AD3: =IF(COUNTIF(AD6:AD100,"검토")>0,"@@","OK") -> OK
A4: 위원회명 | B4: 실국명 | C4: 부서명 | D4: 편성 구분 | E4: 예산안 페이지 | F4: 사업설명서페이지 | G4: 사업명 | H4: 예산안 (가) | I4: 상임위 예산안 조정액(나) | K4: 상임위 조정 예산안 (다=가+나) | L4: 예결위 예산안 조정액(라) | N4: 예결위 조정 예산안 (마=가+라) | O4: 동의 대상 | P4: 상임위 변경사유 (심의 참고자료) | Q4: 비고 (상임위 부대의견) | R4: 비고 (부대의견) | T4: 국도비 등 여부 | V4: 재원 | W4: 상임위 재원별 증감액 | AA4: 재원 | AB4: 예결위 재원별 증감액 | AF4: 세입번호 | AH4: 실국부서 코드 | AJ4: 추가 내시 등 | AL4: 상임위 세입 검증 | AP4: 예결위 세입 검증
I5: 감액 | J5: 증액 | L5: 감액 | M5: 증액 | W5: 국비 등 | X5: 도비 | Y5: 검증 | AB5: 국비 등 | AC5: 도비 | AD5: 검증 | AL5: 국비 증감액 | AM5: 건수 | AN5: 검증 | AP5: 국비 증감액 | AQ5: 건수 | AR5: 검증
A6: 합 계 | H6: =SUBTOTAL(9,H7:H100) -> 56162638 | I6: =SUBTOTAL(9,I7:I100) -> -2603790 | J6: =SUBTOTAL(9,J7:J100) -> 7120225 | K6: =SUBTOTAL(9,K7:K100) -> 60679073 | L6: =SUBTOTAL(9,L7:L100) -> 0 | M6: =SUBTOTAL(9,M7:M100) -> 0 | N6: =SUBTOTAL(9,N7:N100) -> 56162638 | W6: =SUBTOTAL(9,W7:W100) -> 4516435 | X6: =SUBTOTAL(9,X7:X100) -> 0 | Y6: =IF(SUM($I6:$J6)=SUM($W6:$X6),"OK","검토") -> OK | AB6: =SUBTOTAL(9,AB7:AB100) -> 0 | AC6: =SUBTOTAL(9,AC7:AC100) -> 0 | AD6: =IF(SUM($I6:$J6)=SUM($W6:$X6),"OK","검토") -> OK | AL6: =SUBTOTAL(9,AL7:AL100) -> 4516435 | AM6: =SUBTOTAL(9,AM7:AM100) -> 9 | AN6: =IF(COUNTIF(AN7:AN100,"@@")>0,"@@","OK") -> OK | AP6: =SUBTOTAL(9,AP7:AP100) -> 0 | AQ6: =SUBTOTAL(9,AQ7:AQ100) -> 9 | AR6: =IF(COUNTIF(AR7:AR100,"@@")>0,"@@","OK") -> @@
A7: =IFERROR(VLOOKUP($C7,구분표!$A$2:$C$313,2,FALSE),"") -> 보건복지위원회 | B7: =IFERROR(VLOOKUP($C7,구분표!$A$2:$C$313,3,FALSE),"") -> 보건복지국 | C7: 사회적일자리과 | D7: 본예산 | E7: 875 | F7: 32 | G7: 노인일자리 및 사회활동지원 확대(지자체보조) | H7: 44600175 | J7: 7120225 | K7: =SUM(H7:J7) -> 51720400 | N7: =SUM(H7,L7,M7) -> 44600175 | O7: =IF(AND((K7=0),(N7>0)),"O",IF(AND((I7<0),(K7-N7<0)),"O","X")) -> X | P7: 국비변경내시 | Q7: 보건복지부 노인지원과 -6443(2016.11.7.)호 | T7: 국도비 | V7: 국비 | W7: 7120225 | X7: 0 | Y7: =IF(SUM($I7:$J7)=SUM($W7:$X7),"OK","검토") -> OK | AB7: =IF($V7<>"도비",IF($T7="국도비","직접입력",SUM($L7:$M7)),) -> 직접입력 | AC7: =IF($V7="도비",SUM(L7:M7),IF($T7="국도비","직접입력",SUM(L7:M7)-AB7)) -> 직접입력 | AD7: =IF(SUM(L7:M7)=SUM(AB7:AC7),"OK","검토") -> OK | AF7: =IF(AH7="","",IF(V7="도비","세입없음",CONCATENATE(AH7,"-",COUNTIF($AH$7:AH7,AH7)))) -> 0245-1 | AH7: {=IF(C7="","",INDEX(구분표!$I$2:$I$313, MATCH(1,(구분표!$E$2:$E$313='17년일입'!B7)*(구분표!$F$2:$F$313='17년일입'!C7)*(구분표!$G$2:$G$313='17년일입'!A7),0)))} -> 0245 | AL7: =IF(AF7="",0,SUMIFS('17년일출'!$X$6:$X$223,'17년일출'!$AG$6:$AG$223,'17년일입'!$AF7)) -> 7120225 | AM7: =IF(AF7="","",COUNTIFS('17년일출'!$AG$6:$AG$223,'17년일입'!AF7)) -> 6 | AN7: =IF(W7=AL7,"OK","@@") -> OK | AP7: =IF(AF7="",0,SUMIFS('17년일출'!$AC$6:$AC$223,'17년일출'!$AG$6:$AG$223,'17년일입'!$AF7)) -> 0 | AQ7: =IF(AF7="","",COUNTIFS('17년일출'!$AG$6:$AG$223,AF7)) -> 6 | AR7: =IF(AB7=AP7,"OK","@@") -> @@
A8: =IFERROR(VLOOKUP($C8,구분표!$A$2:$C$313,2,FALSE),"") -> 보건복지위원회 | B8: =IFERROR(VLOOKUP($C8,구분표!$A$2:$C$313,3,FALSE),"") -> 보건복지국 | C8: 보건정책과 | D8: 본예산 | E8: 878 | F8: 13 | G8: 농어촌보건소 등 이전신축 | H8: 2341463 | I8: -1159790 | K8: =SUM(H8:J8) -> 1181673 | N8: =SUM(H8,L8,M8) -> 2341463 | O8: =IF(AND((K8=0),(N8>0)),"O",IF(AND((I8<0),(K8-N8<0)),"O","X")) -> O | P8: 국비변경내시 | Q8: 보건복지부 건강정책과 -8370(2016.11.9.)호 | T8: 국도비 | V8: 국비 | W8: -1159790 | X8: 0 | Y8: =IF(SUM($I8:$J8)=SUM($W8:$X8),"OK","검토") -> OK | AB8: =IF($V8<>"도비",IF($T8="국도비","직접입력",SUM($L8:$M8)),) -> 직접입력 | AC8: =IF($V8="도비",SUM(L8:M8),IF($T8="국도비","직접입력",SUM(L8:M8)-AB8)) -> 직접입력 | AD8: =IF(SUM(L8:M8)=SUM(AB8:AC8),"OK","검토") -> OK | AF8: =IF(AH8="","",IF(V8="도비","세입없음",CONCATENATE(AH8,"-",COUNTIF($AH$7:AH8,AH8)))) -> 0248-1 | AH8: {=IF(C8="","",INDEX(구분표!$I$2:$I$313, MATCH(1,(구분표!$E$2:$E$313='17년일입'!B8)*(구분표!$F$2:$F$313='17년일입'!C8)*(구분표!$G$2:$G$313='17년일입'!A8),0)))} -> 0248 | AL8: =IF(AF8="",0,SUMIFS('17년일출'!$X$6:$X$223,'17년일출'!$AG$6:$AG$223,'17년일입'!$AF8)) -> -1159790 | AM8: =IF(AF8="","",COUNTIFS('17년일출'!$AG$6:$AG$223,'17년일입'!AF8)) -> 1 | AN8: =IF(W8=AL8,"OK","@@") -> OK | AP8: =IF(AF8="",0,SUMIFS('17년일출'!$AC$6:$AC$223,'17년일출'!$AG$6:$AG$223,'17년일입'!$AF8)) -> 0 | AQ8: =IF(AF8="","",COUNTIFS('17년일출'!$AG$6:$AG$223,AF8)) -> 1 | AR8: =IF(AB8=AP8,"OK","@@") -> @@
A9: =IFERROR(VLOOKUP($C9,구분표!$A$2:$C$313,2,FALSE),"") -> 보건복지위원회 | B9: =IFERROR(VLOOKUP($C9,구분표!$A$2:$C$313,3,FALSE),"") -> 보건복지국 | C9: 보건정책과 | D9: 본예산 | E9: 878 | F9: 22 | G9: 건강생활지원센터 시설.장비 확충 | H9: 69000 | I9: -69000 | K9: =SUM(H9:J9) -> 0 | N9: =SUM(H9,L9,M9) -> 69000 | O9: =IF(AND((K9=0),(N9>0)),"O",IF(AND((I9<0),(K9-N9<0)),"O","X")) -> O | P9: 공모결과 미선정 | Q9: 보건복지부 건강정책과 -8371(2016.11.9.)호 | T9: 국도비 | V9: 기금 | W9: -69000 | X9: 0 | Y9: =IF(SUM($I9:$J9)=SUM($W9:$X9),"OK","검토") -> OK | AB9: =IF($V9<>"도비",IF($T9="국도비","직접입력",SUM($L9:$M9)),) -> 직접입력 | AC9: =IF($V9="도비",SUM(L9:M9),IF($T9="국도비","직접입력",SUM(L9:M9)-AB9)) -> 직접입력 | AD9: =IF(SUM(L9:M9)=SUM(AB9:AC9),"OK","검토") -> OK | AF9: =IF(AH9="","",IF(V9="도비","세입없음",CONCATENATE(AH9,"-",COUNTIF($AH$7:AH9,AH9)))) -> 0248-2 | AH9: {=IF(C9="","",INDEX(구분표!$I$2:$I$313, MATCH(1,(구분표!$E$2:$E$313='17년일입'!B9)*(구분표!$F$2:$F$313='17년일입'!C9)*(구분표!$G$2:$G$313='17년일입'!A9),0)))} -> 0248 | AL9: =IF(AF9="",0,SUMIFS('17년일출'!$X$6:$X$223,'17년일출'!$AG$6:$AG$223,'17년일입'!$AF9)) -> -69000 | AM9: =IF(AF9="","",COUNTIFS('17년일출'!$AG$6:$AG$223,'17년일입'!AF9)) -> 1 | AN9: =IF(W9=AL9,"OK","@@") -> OK | AP9: =IF(AF9="",0,SUMIFS('17년일출'!$AC$6:$AC$223,'17년일출'!$AG$6:$AG$223,'17년일입'!$AF9)) -> 0 | AQ9: =IF(AF9="","",COUNTIFS('17년일출'!$AG$6:$AG$223,AF9)) -> 1 | AR9: =IF(AB9=AP9,"OK","@@") -> @@
A10: =IFERROR(VLOOKUP($C10,구분표!$A$2:$C$313,2,FALSE),"") -> 보건복지위원회 | B10: =IFERROR(VLOOKUP($C10,구분표!$A$2:$C$313,3,FALSE),"") -> 보건복지국 | C10: 건강증진과 | D10: 본예산 | E10: 879 | F10: 50 | G10: 지방의료원 기능보강사업 | H10: 9152000 | I10: -1375000 | K10: =SUM(H10:J10) -> 7777000 | N10: =SUM(H10,L10,M10) -> 9152000 | O10: =IF(AND((K10=0),(N10>0)),"O",IF(AND((I10<0),(K10-N10<0)),"O","X")) -> O | P10: 국비변경내시 | Q10: 보건복지부 공공의료과 -7551(2016.11.7.)호 | T10: 국도비 | V10: 국비 | W10: -1375000 | X10: 0 | Y10: =IF(SUM($I10:$J10)=SUM($W10:$X10),"OK","검토") -> OK | AB10: =IF($V10<>"도비",IF($T10="국도비","직접입력",SUM($L10:$M10)),) -> 직접입력 | AC10: =IF($V10="도비",SUM(L10:M10),IF($T10="국도비","직접입력",SUM(L10:M10)-AB10)) -> 직접입력 | AD10: =IF(SUM(L10:M10)=SUM(AB10:AC10),"OK","검토") -> OK | AF10: =IF(AH10="","",IF(V10="도비","세입없음",CONCATENATE(AH10,"-",COUNTIF($AH$7:AH10,AH10)))) -> 0250-1 | AH10: {=IF(C10="","",INDEX(구분표!$I$2:$I$313, MATCH(1,(구분표!$E$2:$E$313='17년일입'!B10)*(구분표!$F$2:$F$313='17년일입'!C10)*(구분표!$G$2:$G$313='17년일입'!A10),0)))} -> 0250 | AL10: =IF(AF10="",0,SUMIFS('17년일출'!$X$6:$X$223,'17년일출'!$AG$6:$AG$223,'17년일입'!$AF10)) -> -1375000 | AM10: =IF(AF10="","",COUNTIFS('17년일출'!$AG$6:$AG$223,'17년일입'!AF10)) -> 1 | AN10: =IF(W10=AL10,"OK","@@") -> OK | AP10: =IF(AF10="",0,SUMIFS('17년일출'!$AC$6:$AC$223,'17년일출'!$AG$6:$AG$223,'17년일입'!$AF10)) -> 0 | AQ10: =IF(AF10="","",COUNTIFS('17년일출'!$AG$6:$AG$223,AF10)) -> 1 | AR10: =IF(AB10=AP10,"OK","@@") -> @@
A11: =IFERROR(VLOOKUP($C11,구분표!$A$2:$C$313,2,FALSE),"") | B11: =IFERROR(VLOOKUP($C11,구분표!$A$2:$C$313,3,FALSE),"") | K11: =SUM(H11:J11) -> 0 | N11: =SUM(H11,L11,M11) -> 0 | O11: =IF(AND((K11=0),(N11>0)),"O",IF(AND((I11<0),(K11-N11<0)),"O","X")) -> X | W11: =IF($V11<>"도비",IF($T11="국도비","직접입력",SUM($I11:$J11)),) -> 0 | X11: =IF($V11="도비",SUM($I11:$J11),IF($T11="국도비","직접입력",SUM($I11:$J11)-$W11)) -> 0 | Y11: =IF(SUM($I11:$J11)=SUM($W11:$X11),"OK","검토") -> OK | AB11: =IF($V11<>"도비",IF($T11="국도비","직접입력",SUM($L11:$M11)),) -> 0 | AC11: =IF($V11="도비",SUM(L11:M11),IF($T11="국도비","직접입력",SUM(L11:M11)-AB11)) -> 0 | AD11: =IF(SUM(L11:M11)=SUM(AB11:AC11),"OK","검토") -> OK | AF11: =IF(AH11="","",IF(V11="도비","세입없음",CONCATENATE(AH11,"-",COUNTIF($AH$7:AH11,AH11)))) | AH11: {=IF(C11="","",INDEX(구분표!$I$2:$I$313, MATCH(1,(구분표!$E$2:$E$313='17년일입'!B11)*(구분표!$F$2:$F$313='17년일입'!C11)*(구분표!$G$2:$G$313='17년일입'!A11),0)))} | AL11: =IF(AF11="",0,SUMIFS('17년일출'!$X$6:$X$223,'17년일출'!$AG$6:$AG$223,'17년일입'!$AF11)) -> 0 | AM11: =IF(AF11="","",COUNTIFS('17년일출'!$AG$6:$AG$223,'17년일입'!AF11)) | AN11: =IF(W11=AL11,"OK","@@") -> OK | AP11: =IF(AF11="",0,SUMIFS('17년일출'!$AC$6:$AC$223,'17년일출'!$AG$6:$AG$223,'17년일입'!$AF11)) -> 0 | AQ11: =IF(AF11="","",COUNTIFS('17년일출'!$AG$6:$AG$223,AF11)) | AR11: =IF(AB11=AP11,"OK","@@") -> OK
A12: =IFERROR(VLOOKUP($C12,구분표!$A$2:$C$313,2,FALSE),"") | B12: =IFERROR(VLOOKUP($C12,구분표!$A$2:$C$313,3,FALSE),"") | K12: =SUM(H12:J12) -> 0 | N12: =SUM(H12,L12,M12) -> 0 | O12: =IF(AND((K12=0),(N12>0)),"O",IF(AND((I12<0),(K12-N12<0)),"O","X")) -> X | W12: =IF($V12<>"도비",IF($T12="국도비","직접입력",SUM($I12:$J12)),) -> 0 | X12: =IF($V12="도비",SUM($I12:$J12),IF($T12="국도비","직접입력",SUM($I12:$J12)-$W12)) -> 0 | Y12: =IF(SUM($I12:$J12)=SUM($W12:$X12),"OK","검토") -> OK | AB12: =IF($V12<>"도비",IF($T12="국도비","직접입력",SUM($L12:$M12)),) -> 0 | AC12: =IF($V12="도비",SUM(L12:M12),IF($T12="국도비","직접입력",SUM(L12:M12)-AB12)) -> 0 | AD12: =IF(SUM(L12:M12)=SUM(AB12:AC12),"OK","검토") -> OK | AF12: =IF(AH12="","",IF(V12="도비","세입없음",CONCATENATE(AH12,"-",COUNTIF($AH$7:AH12,AH12)))) | AH12: {=IF(C12="","",INDEX(구분표!$I$2:$I$313, MATCH(1,(구분표!$E$2:$E$313='17년일입'!B12)*(구분표!$F$2:$F$313='17년일입'!C12)*(구분표!$G$2:$G$313='17년일입'!A12),0)))} | AL12: =IF(AF12="",0,SUMIFS('17년일출'!$X$6:$X$223,'17년일출'!$AG$6:$AG$223,'17년일입'!$AF12)) -> 0 | AM12: =IF(AF12="","",COUNTIFS('17년일출'!$AG$6:$AG$223,'17년일입'!AF12)) | AN12: =IF(W12=AL12,"OK","@@") -> OK | AP12: =IF(AF12="",0,SUMIFS('17년일출'!$AC$6:$AC$223,'17년일출'!$AG$6:$AG$223,'17년일입'!$AF12)) -> 0 | AQ12: =IF(AF12="","",COUNTIFS('17년일출'!$AG$6:$AG$223,AF12)) | AR12: =IF(AB12=AP12,"OK","@@") -> OK
A13: =IFERROR(VLOOKUP($C13,구분표!$A$2:$C$313,2,FALSE),"") | B13: =IFERROR(VLOOKUP($C13,구분표!$A$2:$C$313,3,FALSE),"") | K13: =SUM(H13:J13) -> 0 | N13: =SUM(H13,L13,M13) -> 0 | O13: =IF(AND((K13=0),(N13>0)),"O",IF(AND((I13<0),(K13-N13<0)),"O","X")) -> X | W13: =IF($V13<>"도비",IF($T13="국도비","직접입력",SUM($I13:$J13)),) -> 0 | X13: =IF($V13="도비",SUM($I13:$J13),IF($T13="국도비","직접입력",SUM($I13:$J13)-$W13)) -> 0 | Y13: =IF(SUM($I13:$J13)=SUM($W13:$X13),"OK","검토") -> OK | AB13: =IF($V13<>"도비",IF($T13="국도비","직접입력",SUM($L13:$M13)),) -> 0 | AC13: =IF($V13="도비",SUM(L13:M13),IF($T13="국도비","직접입력",SUM(L13:M13)-AB13)) -> 0 | AD13: =IF(SUM(L13:M13)=SUM(AB13:AC13),"OK","검토") -> OK | AF13: =IF(AH13="","",IF(V13="도비","세입없음",CONCATENATE(AH13,"-",COUNTIF($AH$7:AH13,AH13)))) | AH13: {=IF(C13="","",INDEX(구분표!$I$2:$I$313, MATCH(1,(구분표!$E$2:$E$313='17년일입'!B13)*(구분표!$F$2:$F$313='17년일입'!C13)*(구분표!$G$2:$G$313='17년일입'!A13),0)))} | AL13: =IF(AF13="",0,SUMIFS('17년일출'!$X$6:$X$223,'17년일출'!$AG$6:$AG$223,'17년일입'!$AF13)) -> 0 | AM13: =IF(AF13="","",COUNTIFS('17년일출'!$AG$6:$AG$223,'17년일입'!AF13)) | AN13: =IF(W13=AL13,"OK","@@") -> OK | AP13: =IF(AF13="",0,SUMIFS('17년일출'!$AC$6:$AC$223,'17년일출'!$AG$6:$AG$223,'17년일입'!$AF13)) -> 0 | AQ13: =IF(AF13="","",COUNTIFS('17년일출'!$AG$6:$AG$223,AF13)) | AR13: =IF(AB13=AP13,"OK","@@") -> OK
A14: =IFERROR(VLOOKUP($C14,구분표!$A$2:$C$313,2,FALSE),"") | B14: =IFERROR(VLOOKUP($C14,구분표!$A$2:$C$313,3,FALSE),"") | K14: =SUM(H14:J14) -> 0 | N14: =SUM(H14,L14,M14) -> 0 | O14: =IF(AND((K14=0),(N14>0)),"O",IF(AND((I14<0),(K14-N14<0)),"O","X")) -> X | W14: =IF($V14<>"도비",IF($T14="국도비","직접입력",SUM($I14:$J14)),) -> 0 | X14: =IF($V14="도비",SUM($I14:$J14),IF($T14="국도비","직접입력",SUM($I14:$J14)-$W14)) -> 0 | Y14: =IF(SUM($I14:$J14)=SUM($W14:$X14),"OK","검토") -> OK | AB14: =IF($V14<>"도비",IF($T14="국도비","직접입력",SUM($L14:$M14)),) -> 0 | AC14: =IF($V14="도비",SUM(L14:M14),IF($T14="국도비","직접입력",SUM(L14:M14)-AB14)) -> 0 | AD14: =IF(SUM(L14:M14)=SUM(AB14:AC14),"OK","검토") -> OK | AF14: =IF(AH14="","",IF(V14="도비","세입없음",CONCATENATE(AH14,"-",COUNTIF($AH$7:AH14,AH14)))) | AH14: {=IF(C14="","",INDEX(구분표!$I$2:$I$313, MATCH(1,(구분표!$E$2:$E$313='17년일입'!B14)*(구분표!$F$2:$F$313='17년일입'!C14)*(구분표!$G$2:$G$313='17년일입'!A14),0)))} | AL14: =IF(AF14="",0,SUMIFS('17년일출'!$X$6:$X$223,'17년일출'!$AG$6:$AG$223,'17년일입'!$AF14)) -> 0 | AM14: =IF(AF14="","",COUNTIFS('17년일출'!$AG$6:$AG$223,'17년일입'!AF14)) | AN14: =IF(W14=AL14,"OK","@@") -> OK | AP14: =IF(AF14="",0,SUMIFS('17년일출'!$AC$6:$AC$223,'17년일출'!$AG$6:$AG$223,'17년일입'!$AF14)) -> 0 | AQ14: =IF(AF14="","",COUNTIFS('17년일출'!$AG$6:$AG$223,AF14)) | AR14: =IF(AB14=AP14,"OK","@@") -> OK
A15: =IFERROR(VLOOKUP($C15,구분표!$A$2:$C$313,2,FALSE),"") | B15: =IFERROR(VLOOKUP($C15,구분표!$A$2:$C$313,3,FALSE),"") | K15: =SUM(H15:J15) -> 0 | N15: =SUM(H15,L15,M15) -> 0 | O15: =IF(AND((K15=0),(N15>0)),"O",IF(AND((I15<0),(K15-N15<0)),"O","X")) -> X | W15: =IF($V15<>"도비",IF($T15="국도비","직접입력",SUM($I15:$J15)),) -> 0 | X15: =IF($V15="도비",SUM($I15:$J15),IF($T15="국도비","직접입력",SUM($I15:$J15)-$W15)) -> 0 | Y15: =IF(SUM($I15:$J15)=SUM($W15:$X15),"OK","검토") -> OK | AB15: =IF($V15<>"도비",IF($T15="국도비","직접입력",SUM($L15:$M15)),) -> 0 | AC15: =IF($V15="도비",SUM(L15:M15),IF($T15="국도비","직접입력",SUM(L15:M15)-AB15)) -> 0 | AD15: =IF(SUM(L15:M15)=SUM(AB15:AC15),"OK","검토") -> OK | AF15: =IF(AH15="","",IF(V15="도비","세입없음",CONCATENATE(AH15,"-",COUNTIF($AH$7:AH15,AH15)))) | AH15: {=IF(C15="","",INDEX(구분표!$I$2:$I$313, MATCH(1,(구분표!$E$2:$E$313='17년일입'!B15)*(구분표!$F$2:$F$313='17년일입'!C15)*(구분표!$G$2:$G$313='17년일입'!A15),0)))} | AL15: =IF(AF15="",0,SUMIFS('17년일출'!$X$6:$X$223,'17년일출'!$AG$6:$AG$223,'17년일입'!$AF15)) -> 0 | AM15: =IF(AF15="","",COUNTIFS('17년일출'!$AG$6:$AG$223,'17년일입'!AF15)) | AN15: =IF(W15=AL15,"OK","@@") -> OK | AP15: =IF(AF15="",0,SUMIFS('17년일출'!$AC$6:$AC$223,'17년일출'!$AG$6:$AG$223,'17년일입'!$AF15)) -> 0 | AQ15: =IF(AF15="","",COUNTIFS('17년일출'!$AG$6:$AG$223,AF15)) | AR15: =IF(AB15=AP15,"OK","@@") -> OK
A16: =IFERROR(VLOOKUP($C16,구분표!$A$2:$C$313,2,FALSE),"") | B16: =IFERROR(VLOOKUP($C16,구분표!$A$2:$C$313,3,FALSE),"") | K16: =SUM(H16:J16) -> 0 | N16: =SUM(H16,L16,M16) -> 0 | O16: =IF(AND((K16=0),(N16>0)),"O",IF(AND((I16<0),(K16-N16<0)),"O","X")) -> X | W16: =IF($V16<>"도비",IF($T16="국도비","직접입력",SUM($I16:$J16)),) -> 0 | X16: =IF($V16="도비",SUM($I16:$J16),IF($T16="국도비","직접입력",SUM($I16:$J16)-$W16)) -> 0 | Y16: =IF(SUM($I16:$J16)=SUM($W16:$X16),"OK","검토") -> OK | AB16: =IF($V16<>"도비",IF($T16="국도비","직접입력",SUM($L16:$M16)),) -> 0 | AC16: =IF($V16="도비",SUM(L16:M16),IF($T16="국도비","직접입력",SUM(L16:M16)-AB16)) -> 0 | AD16: =IF(SUM(L16:M16)=SUM(AB16:AC16),"OK","검토") -> OK | AF16: =IF(AH16="","",IF(V16="도비","세입없음",CONCATENATE(AH16,"-",COUNTIF($AH$7:AH16,AH16)))) | AH16: {=IF(C16="","",INDEX(구분표!$I$2:$I$313, MATCH(1,(구분표!$E$2:$E$313='17년일입'!B16)*(구분표!$F$2:$F$313='17년일입'!C16)*(구분표!$G$2:$G$313='17년일입'!A16),0)))} | AL16: =IF(AF16="",0,SUMIFS('17년일출'!$X$6:$X$223,'17년일출'!$AG$6:$AG$223,'17년일입'!$AF16)) -> 0 | AM16: =IF(AF16="","",COUNTIFS('17년일출'!$AG$6:$AG$223,'17년일입'!AF16)) | AN16: =IF(W16=AL16,"OK","@@") -> OK | AP16: =IF(AF16="",0,SUMIFS('17년일출'!$AC$6:$AC$223,'17년일출'!$AG$6:$AG$223,'17년일입'!$AF16)) -> 0 | AQ16: =IF(AF16="","",COUNTIFS('17년일출'!$AG$6:$AG$223,AF16)) | AR16: =IF(AB16=AP16,"OK","@@") -> OK
A17: =IFERROR(VLOOKUP($C17,구분표!$A$2:$C$313,2,FALSE),"") | B17: =IFERROR(VLOOKUP($C17,구분표!$A$2:$C$313,3,FALSE),"") | K17: =SUM(H17:J17) -> 0 | N17: =SUM(H17,L17,M17) -> 0 | O17: =IF(AND((K17=0),(N17>0)),"O",IF(AND((I17<0),(K17-N17<0)),"O","X")) -> X | W17: =IF($V17<>"도비",IF($T17="국도비","직접입력",SUM($I17:$J17)),) -> 0 | X17: =IF($V17="도비",SUM($I17:$J17),IF($T17="국도비","직접입력",SUM($I17:$J17)-$W17)) -> 0 | Y17: =IF(SUM($I17:$J17)=SUM($W17:$X17),"OK","검토") -> OK | AB17: =IF($V17<>"도비",IF($T17="국도비","직접입력",SUM($L17:$M17)),) -> 0 | AC17: =IF($V17="도비",SUM(L17:M17),IF($T17="국도비","직접입력",SUM(L17:M17)-AB17)) -> 0 | AD17: =IF(SUM(L17:M17)=SUM(AB17:AC17),"OK","검토") -> OK | AF17: =IF(AH17="","",IF(V17="도비","세입없음",CONCATENATE(AH17,"-",COUNTIF($AH$7:AH17,AH17)))) | AH17: {=IF(C17="","",INDEX(구분표!$I$2:$I$313, MATCH(1,(구분표!$E$2:$E$313='17년일입'!B17)*(구분표!$F$2:$F$313='17년일입'!C17)*(구분표!$G$2:$G$313='17년일입'!A17),0)))} | AL17: =IF(AF17="",0,SUMIFS('17년일출'!$X$6:$X$223,'17년일출'!$AG$6:$AG$223,'17년일입'!$AF17)) -> 0 | AM17: =IF(AF17="","",COUNTIFS('17년일출'!$AG$6:$AG$223,'17년일입'!AF17)) | AN17: =IF(W17=AL17,"OK","@@") -> OK | AP17: =IF(AF17="",0,SUMIFS('17년일출'!$AC$6:$AC$223,'17년일출'!$AG$6:$AG$223,'17년일입'!$AF17)) -> 0 | AQ17: =IF(AF17="","",COUNTIFS('17년일출'!$AG$6:$AG$223,AF17)) | AR17: =IF(AB17=AP17,"OK","@@") -> OK
A18: =IFERROR(VLOOKUP($C18,구분표!$A$2:$C$313,2,FALSE),"") | B18: =IFERROR(VLOOKUP($C18,구분표!$A$2:$C$313,3,FALSE),"") | K18: =SUM(H18:J18) -> 0 | N18: =SUM(H18,L18,M18) -> 0 | O18: =IF(AND((K18=0),(N18>0)),"O",IF(AND((I18<0),(K18-N18<0)),"O","X")) -> X | W18: =IF($V18<>"도비",IF($T18="국도비","직접입력",SUM($I18:$J18)),) -> 0 | X18: =IF($V18="도비",SUM($I18:$J18),IF($T18="국도비","직접입력",SUM($I18:$J18)-$W18)) -> 0 | Y18: =IF(SUM($I18:$J18)=SUM($W18:$X18),"OK","검토") -> OK | AB18: =IF($V18<>"도비",IF($T18="국도비","직접입력",SUM($L18:$M18)),) -> 0 | AC18: =IF($V18="도비",SUM(L18:M18),IF($T18="국도비","직접입력",SUM(L18:M18)-AB18)) -> 0 | AD18: =IF(SUM(L18:M18)=SUM(AB18:AC18),"OK","검토") -> OK | AF18: =IF(AH18="","",IF(V18="도비","세입없음",CONCATENATE(AH18,"-",COUNTIF($AH$7:AH18,AH18)))) | AH18: {=IF(C18="","",INDEX(구분표!$I$2:$I$313, MATCH(1,(구분표!$E$2:$E$313='17년일입'!B18)*(구분표!$F$2:$F$313='17년일입'!C18)*(구분표!$G$2:$G$313='17년일입'!A18),0)))} | AL18: =IF(AF18="",0,SUMIFS('17년일출'!$X$6:$X$223,'17년일출'!$AG$6:$AG$223,'17년일입'!$AF18)) -> 0 | AM18: =IF(AF18="","",COUNTIFS('17년일출'!$AG$6:$AG$223,'17년일입'!AF18)) | AN18: =IF(W18=AL18,"OK","@@") -> OK | AP18: =IF(AF18="",0,SUMIFS('17년일출'!$AC$6:$AC$223,'17년일출'!$AG$6:$AG$223,'17년일입'!$AF18)) -> 0 | AQ18: =IF(AF18="","",COUNTIFS('17년일출'!$AG$6:$AG$223,AF18)) | AR18: =IF(AB18=AP18,"OK","@@") -> OK
A19: =IFERROR(VLOOKUP($C19,구분표!$A$2:$C$313,2,FALSE),"") | B19: =IFERROR(VLOOKUP($C19,구분표!$A$2:$C$313,3,FALSE),"") | K19: =SUM(H19:J19) -> 0 | N19: =SUM(H19,L19,M19) -> 0 | O19: =IF(AND((K19=0),(N19>0)),"O",IF(AND((I19<0),(K19-N19<0)),"O","X")) -> X | W19: =IF($V19<>"도비",IF($T19="국도비","직접입력",SUM($I19:$J19)),) -> 0 | X19: =IF($V19="도비",SUM($I19:$J19),IF($T19="국도비","직접입력",SUM($I19:$J19)-$W19)) -> 0 | Y19: =IF(SUM($I19:$J19)=SUM($W19:$X19),"OK","검토") -> OK | AB19: =IF($V19<>"도비",IF($T19="국도비","직접입력",SUM($L19:$M19)),) -> 0 | AC19: =IF($V19="도비",SUM(L19:M19),IF($T19="국도비","직접입력",SUM(L19:M19)-AB19)) -> 0 | AD19: =IF(SUM(L19:M19)=SUM(AB19:AC19),"OK","검토") -> OK | AF19: =IF(AH19="","",IF(V19="도비","세입없음",CONCATENATE(AH19,"-",COUNTIF($AH$7:AH19,AH19)))) | AH19: {=IF(C19="","",INDEX(구분표!$I$2:$I$313, MATCH(1,(구분표!$E$2:$E$313='17년일입'!B19)*(구분표!$F$2:$F$313='17년일입'!C19)*(구분표!$G$2:$G$313='17년일입'!A19),0)))} | AL19: =IF(AF19="",0,SUMIFS('17년일출'!$X$6:$X$223,'17년일출'!$AG$6:$AG$223,'17년일입'!$AF19)) -> 0 | AM19: =IF(AF19="","",COUNTIFS('17년일출'!$AG$6:$AG$223,'17년일입'!AF19)) | AN19: =IF(W19=AL19,"OK","@@") -> OK | AP19: =IF(AF19="",0,SUMIFS('17년일출'!$AC$6:$AC$223,'17년일출'!$AG$6:$AG$223,'17년일입'!$AF19)) -> 0 | AQ19: =IF(AF19="","",COUNTIFS('17년일출'!$AG$6:$AG$223,AF19)) | AR19: =IF(AB19=AP19,"OK","@@") -> OK
A20: =IFERROR(VLOOKUP($C20,구분표!$A$2:$C$313,2,FALSE),"") | B20: =IFERROR(VLOOKUP($C20,구분표!$A$2:$C$313,3,FALSE),"") | K20: =SUM(H20:J20) -> 0 | N20: =SUM(H20,L20,M20) -> 0 | O20: =IF(AND((K20=0),(N20>0)),"O",IF(AND((I20<0),(K20-N20<0)),"O","X")) -> X | W20: =IF($V20<>"도비",IF($T20="국도비","직접입력",SUM($I20:$J20)),) -> 0 | X20: =IF($V20="도비",SUM($I20:$J20),IF($T20="국도비","직접입력",SUM($I20:$J20)-$W20)) -> 0 | Y20: =IF(SUM($I20:$J20)=SUM($W20:$X20),"OK","검토") -> OK | AB20: =IF($V20<>"도비",IF($T20="국도비","직접입력",SUM($L20:$M20)),) -> 0 | AC20: =IF($V20="도비",SUM(L20:M20),IF($T20="국도비","직접입력",SUM(L20:M20)-AB20)) -> 0 | AD20: =IF(SUM(L20:M20)=SUM(AB20:AC20),"OK","검토") -> OK | AF20: =IF(AH20="","",IF(V20="도비","세입없음",CONCATENATE(AH20,"-",COUNTIF($AH$7:AH20,AH20)))) | AH20: {=IF(C20="","",INDEX(구분표!$I$2:$I$313, MATCH(1,(구분표!$E$2:$E$313='17년일입'!B20)*(구분표!$F$2:$F$313='17년일입'!C20)*(구분표!$G$2:$G$313='17년일입'!A20),0)))} | AL20: =IF(AF20="",0,SUMIFS('17년일출'!$X$6:$X$223,'17년일출'!$AG$6:$AG$223,'17년일입'!$AF20)) -> 0 | AM20: =IF(AF20="","",COUNTIFS('17년일출'!$AG$6:$AG$223,'17년일입'!AF20)) | AN20: =IF(W20=AL20,"OK","@@") -> OK | AP20: =IF(AF20="",0,SUMIFS('17년일출'!$AC$6:$AC$223,'17년일출'!$AG$6:$AG$223,'17년일입'!$AF20)) -> 0 | AQ20: =IF(AF20="","",COUNTIFS('17년일출'!$AG$6:$AG$223,AF20)) | AR20: =IF(AB20=AP20,"OK","@@") -> OK
A21: =IFERROR(VLOOKUP($C21,구분표!$A$2:$C$313,2,FALSE),"") | B21: =IFERROR(VLOOKUP($C21,구분표!$A$2:$C$313,3,FALSE),"") | K21: =SUM(H21:J21) -> 0 | N21: =SUM(H21,L21,M21) -> 0 | O21: =IF(AND((K21=0),(N21>0)),"O",IF(AND((I21<0),(K21-N21<0)),"O","X")) -> X | W21: =IF($V21<>"도비",IF($T21="국도비","직접입력",SUM($I21:$J21)),) -> 0 | X21: =IF($V21="도비",SUM($I21:$J21),IF($T21="국도비","직접입력",SUM($I21:$J21)-$W21)) -> 0 | Y21: =IF(SUM($I21:$J21)=SUM($W21:$X21),"OK","검토") -> OK | AB21: =IF($V21<>"도비",IF($T21="국도비","직접입력",SUM($L21:$M21)),) -> 0 | AC21: =IF($V21="도비",SUM(L21:M21),IF($T21="국도비","직접입력",SUM(L21:M21)-AB21)) -> 0 | AD21: =IF(SUM(L21:M21)=SUM(AB21:AC21),"OK","검토") -> OK | AF21: =IF(AH21="","",IF(V21="도비","세입없음",CONCATENATE(AH21,"-",COUNTIF($AH$7:AH21,AH21)))) | AH21: {=IF(C21="","",INDEX(구분표!$I$2:$I$313, MATCH(1,(구분표!$E$2:$E$313='17년일입'!B21)*(구분표!$F$2:$F$313='17년일입'!C21)*(구분표!$G$2:$G$313='17년일입'!A21),0)))} | AL21: =IF(AF21="",0,SUMIFS('17년일출'!$X$6:$X$223,'17년일출'!$AG$6:$AG$223,'17년일입'!$AF21)) -> 0 | AM21: =IF(AF21="","",COUNTIFS('17년일출'!$AG$6:$AG$223,'17년일입'!AF21)) | AN21: =IF(W21=AL21,"OK","@@") -> OK | AP21: =IF(AF21="",0,SUMIFS('17년일출'!$AC$6:$AC$223,'17년일출'!$AG$6:$AG$223,'17년일입'!$AF21)) -> 0 | AQ21: =IF(AF21="","",COUNTIFS('17년일출'!$AG$6:$AG$223,AF21)) | AR21: =IF(AB21=AP21,"OK","@@") -> OK
A22: =IFERROR(VLOOKUP($C22,구분표!$A$2:$C$313,2,FALSE),"") | B22: =IFERROR(VLOOKUP($C22,구분표!$A$2:$C$313,3,FALSE),"") | K22: =SUM(H22:J22) -> 0 | N22: =SUM(H22,L22,M22) -> 0 | O22: =IF(AND((K22=0),(N22>0)),"O",IF(AND((I22<0),(K22-N22<0)),"O","X")) -> X | W22: =IF($V22<>"도비",IF($T22="국도비","직접입력",SUM($I22:$J22)),) -> 0 | X22: =IF($V22="도비",SUM($I22:$J22),IF($T22="국도비","직접입력",SUM($I22:$J22)-$W22)) -> 0 | Y22: =IF(SUM($I22:$J22)=SUM($W22:$X22),"OK","검토") -> OK | AB22: =IF($V22<>"도비",IF($T22="국도비","직접입력",SUM($L22:$M22)),) -> 0 | AC22: =IF($V22="도비",SUM(L22:M22),IF($T22="국도비","직접입력",SUM(L22:M22)-AB22)) -> 0 | AD22: =IF(SUM(L22:M22)=SUM(AB22:AC22),"OK","검토") -> OK | AF22: =IF(AH22="","",IF(V22="도비","세입없음",CONCATENATE(AH22,"-",COUNTIF($AH$7:AH22,AH22)))) | AH22: {=IF(C22="","",INDEX(구분표!$I$2:$I$313, MATCH(1,(구분표!$E$2:$E$313='17년일입'!B22)*(구분표!$F$2:$F$313='17년일입'!C22)*(구분표!$G$2:$G$313='17년일입'!A22),0)))} | AL22: =IF(AF22="",0,SUMIFS('17년일출'!$X$6:$X$223,'17년일출'!$AG$6:$AG$223,'17년일입'!$AF22)) -> 0 | AM22: =IF(AF22="","",COUNTIFS('17년일출'!$AG$6:$AG$223,'17년일입'!AF22)) | AN22: =IF(W22=AL22,"OK","@@") -> OK | AP22: =IF(AF22="",0,SUMIFS('17년일출'!$AC$6:$AC$223,'17년일출'!$AG$6:$AG$223,'17년일입'!$AF22)) -> 0 | AQ22: =IF(AF22="","",COUNTIFS('17년일출'!$AG$6:$AG$223,AF22)) | AR22: =IF(AB22=AP22,"OK","@@") -> OK
... A100: =IFERROR(VLOOKUP($C100,구분표!$A$2:$C$313,2,FALSE),"") | B100: =IFERROR(VLOOKUP($C100,구분표!$A$2:$C$313,3,FALSE),"") | K100: =SUM(H100:J100) -> 0 | N100: =SUM(H100,L100,M100) -> 0 | O100: =IF(AND((K100=0),(N100>0)),"O",IF(AND((I100<0),(K100-N100<0)),"O","X")) -> X | W100: =IF($V100<>"도비",IF($T100="국도비","직접입력",SUM($I100:$J100)),) -> 0 | X100: =IF($V100="도비",SUM($I100:$J100),IF($T100="국도비","직접입력",SUM($I100:$J100)-$W100)) -> 0 | Y100: =IF(SUM($I100:$J100)=SUM($W100:$X100),"OK","검토") -> OK | AB100: =IF($V100<>"도비",IF($T100="국도비","직접입력",SUM($L100:$M100)),) -> 0 | AC100: =IF($V100="도비",SUM(L100:M100),IF($T100="국도비","직접입력",SUM(L100:M100)-AB100)) -> 0 | AD100: =IF(SUM(L100:M100)=SUM(AB100:AC100),"OK","검토") -> OK | AF100: =IF(AH100="","",IF(V100="도비","세입없음",CONCATENATE(AH100,"-",COUNTIF($AH$7:AH100,AH100)))) | AH100: {=IF(C100="","",INDEX(구분표!$I$2:$I$313, MATCH(1,(구분표!$E$2:$E$313='17년일입'!B100)*(구분표!$F$2:$F$313='17년일입'!C100)*(구분표!$G$2:$G$313='17년일입'!A100),0)))} | AL100: =IF(AF100="",0,SUMIFS('17년일출'!$X$6:$X$223,'17년일출'!$AG$6:$AG$223,'17년일입'!$AF100)) -> 0 | AM100: =IF(AF100="","",COUNTIFS('17년일출'!$AG$6:$AG$223,'17년일입'!AF100)) | AN100: =IF(W100=AL100,"OK","@@") -> OK | AP100: =IF(AF100="",0,SUMIFS('17년일출'!$AC$6:$AC$223,'17년일출'!$AG$6:$AG$223,'17년일입'!$AF100)) -> 0 | AQ100: =IF(AF100="","",COUNTIFS('17년일출'!$AG$6:$AG$223,AF100)) | AR100: =IF(AB100=AP100,"OK","@@") -> OK

Sheet 17년일출
A1: 2017년도 경기도 일반회계 세출 예산 조정(안)
A2: □ 세출예산 | X2: 세입=세출 | AC2: 세입=세출
J3: =COUNTA(J7:J223)-10 -> 19 | K3: =COUNTA(K7:K223)-10 -> 32 | M3: =COUNTA(M7:M223)-10 -> 1 | N3: =COUNTA(N7:N223)-10 -> 1 | S3: (단위 : 천원) | X3: =IF(X6='17년일입'!W6,"OK","@@") -> OK | Z3: =IF(COUNTIF(Z6:Z223,"검토")>0,"@@","OK") -> OK | AC3: =IF(AC6='17년일입'!AB6,"OK","@@") -> OK | AE3: =IF(COUNTIF(AE6:AE223,"검토")>0,"@@","OK") -> OK
A4: 위원회명 | B4: 실국명 | C4: 부서명 | D4: 편성 구분 | E4: 연정 구분 | F4: 예산안 페이지 | G4: 사업설명서페이지 | H4: 사업명 | I4: 예산안 (가) | J4: 상임위 예산안 조정액(나) | L4: 상임위 조정 예산안 (다=가+나) | M4: 예결위 예산안 조정액(라) | O4: 예결위 조정 예산안 (마=가+라) | P4: 동의 대상 | Q4: 상임위 변경사유 (심의 참고자료) | R4: 비고 (상임위 부대의견) | S4: 비고 (부대의견) | U4: 국도비 등 여부 | W4: 재원 | X4: 상임위 재원별 증감액 | AB4: 재원 | AC4: 예결위 재원별 증감액 | AG4: 세입번호 | AI4: 동일 세입 건수 | AJ4: 세출 번호 검증 | AL4: 실국부서 코드 | AN4: 추가 내시 등
J5: 감액 | K5: 증액 | M5: 감액 | N5: 증액 | X5: 국비 등 | Y5: 도비 | Z5: 검증 | AC5: 국비 등 | AD5: 도비 | AE5: 검증
A6: 합 계 | I6: =SUBTOTAL(9,I7:I223)/2 -> 103927956 | J6: =SUBTOTAL(9,J7:J223)/2 -> -13582625 | K6: =SUBTOTAL(9,K7:K223)/2 -> 20160740 | L6: =SUBTOTAL(9,L7:L223)/2 -> 110506071 | M6: =SUBTOTAL(9,M7:M223)/2 -> 0 | N6: =SUBTOTAL(9,N7:N223)/2 -> 0 | O6: =SUBTOTAL(9,O7:O223)/2 -> 98723579 | X6: =SUBTOTAL(9,X7:X223) -> 4516435 | Y6: =SUBTOTAL(9,Y7:Y223) -> 2061680 | Z6: =IF(SUM($J6:$K6)=SUM($X6:$Y6),"OK","검토") -> OK | AC6: =SUBTOTAL(9,AC7:AC223) -> 0 | AD6: =SUBTOTAL(9,AD7:AD223) -> 0 | AE6: =IF(SUM($J6:$K6)=SUM($X6:$Y6),"OK","검토") -> OK
A7: (의회운영위원회) | I7: =SUM(I8:I17) -> 0 | J7: =SUM(J8:J17) -> 0 | K7: =SUM(K8:K17) -> 0 | L7: =SUM(L8:L17) -> 0 | M7: =SUM(M8:M17) -> 0 | N7: =SUM(N8:N17) -> 0 | O7: =SUM(O8:O17) -> 0
A8: =IFERROR(VLOOKUP($C8,구분표!$A$2:$C$313,2,FALSE),"") | B8: =IFERROR(VLOOKUP($C8,구분표!$A$2:$C$313,3,FALSE),"") | D8: 본예산 | L8: =I8+J8+K8 -> 0 | O8: =I8+M8+N8 -> 0 | P8: =IF(AND((L8=0),(O8>0)),"O",IF(AND((J8<0),(L8-O8<0)),"O","X")) -> X | X8: 0 | Y8: 0 | Z8: =IF(SUM($J8:$K8)=SUM($X8:$Y8),"OK","검토") -> OK | AC8: =IF($W8<>"도비",IF($U8="국도비","직접입력",SUM($M8:$N8)),) -> 0 | AD8: =IF($W8="도비",SUM(M8:N8),IF($U8="국도비","직접입력",SUM(M8:N8)-AC8)) -> 0 | AE8: =IF(SUM(M8:N8)=SUM(AC8:AD8),"OK","검토") -> OK | AJ8: =IF(W8="","",IF(AND(W8="도비",AG8="세입없음"),"OK",IF(AND(W8<>"도비",AG8<>""),"OK","@@"))) | AL8: {=IF(C8="","",INDEX(구분표!$I$2:$I$313, MATCH(1,(구분표!$E$2:$E$313='17년일출'!B8)*(구분표!$F$2:$F$313='17년일출'!C8)*(구분표!$G$2:$G$313='17년일출'!A8),0)))}
A9: =IFERROR(VLOOKUP($C9,구분표!$A$2:$C$313,2,FALSE),"") | B9: =IFERROR(VLOOKUP($C9,구분표!$A$2:$C$313,3,FALSE),"") | D9: 신규 | L9: =I9+J9+K9 -> 0 | O9: =I9+M9+N9 -> 0 | P9: =IF(AND((L9=0),(O9>0)),"O",IF(AND((J9<0),(L9-O9<0)),"O","X")) -> X | X9: =IF($W9<>"도비",IF($U9="국도비","직접입력",SUM($J9:$K9)),) -> 0 | Y9: =IF($W9="도비",SUM($J9:$K9),IF($U9="국도비","직접입력",SUM($J9:$K9)-$X9)) -> 0 | Z9: =IF(SUM($J9:$K9)=SUM($X9:$Y9),"OK","검토") -> OK | AC9: =IF($W9<>"도비",IF($U9="국도비","직접입력",SUM($M9:$N9)),) -> 0 | AD9: =IF($W9="도비",SUM(M9:N9),IF($U9="국도비","직접입력",SUM(M9:N9)-AC9)) -> 0 | AE9: =IF(SUM(M9:N9)=SUM(AC9:AD9),"OK","검토") -> OK | AG9: =IF(W9="","",IF(W9="도비","세입없음","직접입력")) | AI9: =IF(AG9="","",COUNTIF($AG$7:$AG$223,AG9)) | AJ9: =IF(W9="","",IF(AND(W9="도비",AG9="세입없음"),"OK",IF(AND(W9<>"도비",AG9<>""),"OK","@@"))) | AL9: {=IF(C9="","",INDEX(구분표!$I$2:$I$313, MATCH(1,(구분표!$E$2:$E$313='17년일출'!B9)*(구분표!$F$2:$F$313='17년일출'!C9)*(구분표!$G$2:$G$313='17년일출'!A9),0)))}
A10: =IFERROR(VLOOKUP($C10,구분표!$A$2:$C$313,2,FALSE),"") | B10: =IFERROR(VLOOKUP($C10,구분표!$A$2:$C$313,3,FALSE),"") | L10: =I10+J10+K10 -> 0 | O10: =I10+M10+N10 -> 0 | P10: =IF(AND((L10=0),(O10>0)),"O",IF(AND((J10<0),(L10-O10<0)),"O","X")) -> X | X10: =IF($W10<>"도비",IF($U10="국도비","직접입력",SUM($J10:$K10)),) -> 0 | Y10: =IF($W10="도비",SUM($J10:$K10),IF($U10="국도비","직접입력",SUM($J10:$K10)-$X10)) -> 0 | Z10: =IF(SUM($J10:$K10)=SUM($X10:$Y10),"OK","검토") -> OK | AC10: =IF($W10<>"도비",IF($U10="국도비","직접입력",SUM($M10:$N10)),) -> 0 | AD10: =IF($W10="도비",SUM(M10:N10),IF($U10="국도비","직접입력",SUM(M10:N10)-AC10)) -> 0 | AE10: =IF(SUM(M10:N10)=SUM(AC10:AD10),"OK","검토") -> OK | AG10: =IF(W10="","",IF(W10="도비","세입없음","직접입력")) | AI10: =IF(AG10="","",COUNTIF($AG$7:$AG$223,AG10)) | AJ10: =IF(W10="","",IF(AND(W10="도비",AG10="세입없음"),"OK",IF(AND(W10<>"도비",AG10<>""),"OK","@@"))) | AL10: {=IF(C10="","",INDEX(구분표!$I$2:$I$313, MATCH(1,(구분표!$E$2:$E$313='17년일출'!B10)*(구분표!$F$2:$F$313='17년일출'!C10)*(구분표!$G$2:$G$313='17년일출'!A10),0)))}
A11: =IFERROR(VLOOKUP($C11,구분표!$A$2:$C$313,2,FALSE),"") | B11: =IFERROR(VLOOKUP($C11,구분표!$A$2:$C$313,3,FALSE),"") | L11: =I11+J11+K11 -> 0 | O11: =I11+M11+N11 -> 0 | P11: =IF(AND((L11=0),(O11>0)),"O",IF(AND((J11<0),(L11-O11<0)),"O","X")) -> X | X11: =IF($W11<>"도비",IF($U11="국도비","직접입력",SUM($J11:$K11)),) -> 0 | Y11: =IF($W11="도비",SUM($J11:$K11),IF($U11="국도비","직접입력",SUM($J11:$K11)-$X11)) -> 0 | Z11: =IF(SUM($J11:$K11)=SUM($X11:$Y11),"OK","검토") -> OK | AC11: =IF($W11<>"도비",IF($U11="국도비","직접입력",SUM($M11:$N11)),) -> 0 | AD11: =IF($W11="도비",SUM(M11:N11),IF($U11="국도비","직접입력",SUM(M11:N11)-AC11)) -> 0 | AE11: =IF(SUM(M11:N11)=SUM(AC11:AD11),"OK","검토") -> OK | AG11: =IF(W11="","",IF(W11="도비","세입없음","직접입력")) | AI11: =IF(AG11="","",COUNTIF($AG$7:$AG$223,AG11)) | AJ11: =IF(W11="","",IF(AND(W11="도비",AG11="세입없음"),"OK",IF(AND(W11<>"도비",AG11<>""),"OK","@@"))) | AL11: {=IF(C11="","",INDEX(구분표!$I$2:$I$313, MATCH(1,(구분표!$E$2:$E$313='17년일출'!B11)*(구분표!$F$2:$F$313='17년일출'!C11)*(구분표!$G$2:$G$313='17년일출'!A11),0)))}
A12: =IFERROR(VLOOKUP($C12,구분표!$A$2:$C$313,2,FALSE),"") | B12: =IFERROR(VLOOKUP($C12,구분표!$A$2:$C$313,3,FALSE),"") | L12: =I12+J12+K12 -> 0 | O12: =I12+M12+N12 -> 0 | P12: =IF(AND((L12=0),(O12>0)),"O",IF(AND((J12<0),(L12-O12<0)),"O","X")) -> X | X12: =IF($W12<>"도비",IF($U12="국도비","직접입력",SUM($J12:$K12)),) -> 0 | Y12: =IF($W12="도비",SUM($J12:$K12),IF($U12="국도비","직접입력",SUM($J12:$K12)-$X12)) -> 0 | Z12: =IF(SUM($J12:$K12)=SUM($X12:$Y12),"OK","검토") -> OK | AC12: =IF($W12<>"도비",IF($U12="국도비","직접입력",SUM($M12:$N12)),) -> 0 | AD12: =IF($W12="도비",SUM(M12:N12),IF($U12="국도비","직접입력",SUM(M12:N12)-AC12)) -> 0 | AE12: =IF(SUM(M12:N12)=SUM(AC12:AD12),"OK","검토") -> OK | AG12: =IF(W12="","",IF(W12="도비","세입없음","직접입력")) | AI12: =IF(AG12="","",COUNTIF($AG$7:$AG$223,AG12)) | AJ12: =IF(W12="","",IF(AND(W12="도비",AG12="세입없음"),"OK",IF(AND(W12<>"도비",AG12<>""),"OK","@@"))) | AL12: {=IF(C12="","",INDEX(구분표!$I$2:$I$313, MATCH(1,(구분표!$E$2:$E$313='17년일출'!B12)*(구분표!$F$2:$F$313='17년일출'!C12)*(구분표!$G$2:$G$313='17년일출'!A12),0)))}
A13: =IFERROR(VLOOKUP($C13,구분표!$A$2:$C$313,2,FALSE),"") | B13: =IFERROR(VLOOKUP($C13,구분표!$A$2:$C$313,3,FALSE),"") | L13: =I13+J13+K13 -> 0 | O13: =I13+M13+N13 -> 0 | P13: =IF(AND((L13=0),(O13>0)),"O",IF(AND((J13<0),(L13-O13<0)),"O","X")) -> X | X13: =IF($W13<>"도비",IF($U13="국도비","직접입력",SUM($J13:$K13)),) -> 0 | Y13: =IF($W13="도비",SUM($J13:$K13),IF($U13="국도비","직접입력",SUM($J13:$K13)-$X13)) -> 0 | Z13: =IF(SUM($J13:$K13)=SUM($X13:$Y13),"OK","검토") -> OK | AC13: =IF($W13<>"도비",IF($U13="국도비","직접입력",SUM($M13:$N13)),) -> 0 | AD13: =IF($W13="도비",SUM(M13:N13),IF($U13="국도비","직접입력",SUM(M13:N13)-AC13)) -> 0 | AE13: =IF(SUM(M13:N13)=SUM(AC13:AD13),"OK","검토") -> OK | AG13: =IF(W13="","",IF(W13="도비","세입없음","직접입력")) | AI13: =IF(AG13="","",COUNTIF($AG$7:$AG$223,AG13)) | AJ13: =IF(W13="","",IF(AND(W13="도비",AG13="세입없음"),"OK",IF(AND(W13<>"도비",AG13<>""),"OK","@@"))) | AL13: {=IF(C13="","",INDEX(구분표!$I$2:$I$313, MATCH(1,(구분표!$E$2:$E$313='17년일출'!B13)*(구분표!$F$2:$F$313='17년일출'!C13)*(구분표!$G$2:$G$313='17년일출'!A13),0)))}
A14: =IFERROR(VLOOKUP($C14,구분표!$A$2:$C$313,2,FALSE),"") | B14: =IFERROR(VLOOKUP($C14,구분표!$A$2:$C$313,3,FALSE),"") | L14: =I14+J14+K14 -> 0 | O14: =I14+M14+N14 -> 0 | P14: =IF(AND((L14=0),(O14>0)),"O",IF(AND((J14<0),(L14-O14<0)),"O","X")) -> X | X14: =IF($W14<>"도비",IF($U14="국도비","직접입력",SUM($J14:$K14)),) -> 0 | Y14: =IF($W14="도비",SUM($J14:$K14),IF($U14="국도비","직접입력",SUM($J14:$K14)-$X14)) -> 0 | Z14: =IF(SUM($J14:$K14)=SUM($X14:$Y14),"OK","검토") -> OK | AC14: =IF($W14<>"도비",IF($U14="국도비","직접입력",SUM($M14:$N14)),) -> 0 | AD14: =IF($W14="도비",SUM(M14:N14),IF($U14="국도비","직접입력",SUM(M14:N14)-AC14)) -> 0 | AE14: =IF(SUM(M14:N14)=SUM(AC14:AD14),"OK","검토") -> OK | AG14: =IF(W14="","",IF(W14="도비","세입없음","직접입력")) | AI14: =IF(AG14="","",COUNTIF($AG$7:$AG$223,AG14)) | AJ14: =IF(W14="","",IF(AND(W14="도비",AG14="세입없음"),"OK",IF(AND(W14<>"도비",AG14<>""),"OK","@@"))) | AL14: {=IF(C14="","",INDEX(구분표!$I$2:$I$313, MATCH(1,(구분표!$E$2:$E$313='17년일출'!B14)*(구분표!$F$2:$F$313='17년일출'!C14)*(구분표!$G$2:$G$313='17년일출'!A14),0)))}
A15: =IFERROR(VLOOKUP($C15,구분표!$A$2:$C$313,2,FALSE),"") | B15: =IFERROR(VLOOKUP($C15,구분표!$A$2:$C$313,3,FALSE),"") | L15: =I15+J15+K15 -> 0 | O15: =I15+M15+N15 -> 0 | P15: =IF(AND((L15=0),(O15>0)),"O",IF(AND((J15<0),(L15-O15<0)),"O","X")) -> X | X15: =IF($W15<>"도비",IF($U15="국도비","직접입력",SUM($J15:$K15)),) -> 0 | Y15: =IF($W15="도비",SUM($J15:$K15),IF($U15="국도비","직접입력",SUM($J15:$K15)-$X15)) -> 0 | Z15: =IF(SUM($J15:$K15)=SUM($X15:$Y15),"OK","검토") -> OK | AC15: =IF($W15<>"도비",IF($U15="국도비","직접입력",SUM($M15:$N15)),) -> 0 | AD15: =IF($W15="도비",SUM(M15:N15),IF($U15="국도비","직접입력",SUM(M15:N15)-AC15)) -> 0 | AE15: =IF(SUM(M15:N15)=SUM(AC15:AD15),"OK","검토") -> OK | AG15: =IF(W15="","",IF(W15="도비","세입없음","직접입력")) | AI15: =IF(AG15="","",COUNTIF($AG$7:$AG$223,AG15)) | AJ15: =IF(W15="","",IF(AND(W15="도비",AG15="세입없음"),"OK",IF(AND(W15<>"도비",AG15<>""),"OK","@@"))) | AL15: {=IF(C15="","",INDEX(구분표!$I$2:$I$313, MATCH(1,(구분표!$E$2:$E$313='17년일출'!B15)*(구분표!$F$2:$F$313='17년일출'!C15)*(구분표!$G$2:$G$313='17년일출'!A15),0)))}
A16: =IFERROR(VLOOKUP($C16,구분표!$A$2:$C$313,2,FALSE),"") | B16: =IFERROR(VLOOKUP($C16,구분표!$A$2:$C$313,3,FALSE),"") | L16: =I16+J16+K16 -> 0 | O16: =I16+M16+N16 -> 0 | P16: =IF(AND((L16=0),(O16>0)),"O",IF(AND((J16<0),(L16-O16<0)),"O","X")) -> X | X16: =IF($W16<>"도비",IF($U16="국도비","직접입력",SUM($J16:$K16)),) -> 0 | Y16: =IF($W16="도비",SUM($J16:$K16),IF($U16="국도비","직접입력",SUM($J16:$K16)-$X16)) -> 0 | Z16: =IF(SUM($J16:$K16)=SUM($X16:$Y16),"OK","검토") -> OK | AC16: =IF($W16<>"도비",IF($U16="국도비","직접입력",SUM($M16:$N16)),) -> 0 | AD16: =IF($W16="도비",SUM(M16:N16),IF($U16="국도비","직접입력",SUM(M16:N16)-AC16)) -> 0 | AE16: =IF(SUM(M16:N16)=SUM(AC16:AD16),"OK","검토") -> OK | AG16: =IF(W16="","",IF(W16="도비","세입없음","직접입력")) | AI16: =IF(AG16="","",COUNTIF($AG$7:$AG$223,AG16)) | AJ16: =IF(W16="","",IF(AND(W16="도비",AG16="세입없음"),"OK",IF(AND(W16<>"도비",AG16<>""),"OK","@@"))) | AL16: {=IF(C16="","",INDEX(구분표!$I$2:$I$313, MATCH(1,(구분표!$E$2:$E$313='17년일출'!B16)*(구분표!$F$2:$F$313='17년일출'!C16)*(구분표!$G$2:$G$313='17년일출'!A16),0)))}
A17: =IFERROR(VLOOKUP($C17,구분표!$A$2:$C$313,2,FALSE),"") | B17: =IFERROR(VLOOKUP($C17,구분표!$A$2:$C$313,3,FALSE),"") | L17: =I17+J17+K17 -> 0 | O17: =I17+M17+N17 -> 0 | P17: =IF(AND((L17=0),(O17>0)),"O",IF(AND((J17<0),(L17-O17<0)),"O","X")) -> X | X17: =IF($W17<>"도비",IF($U17="국도비","직접입력",SUM($J17:$K17)),) -> 0 | Y17: =IF($W17="도비",SUM($J17:$K17),IF($U17="국도비","직접입력",SUM($J17:$K17)-$X17)) -> 0 | Z17: =IF(SUM($J17:$K17)=SUM($X17:$Y17),"OK","검토") -> OK | AC17: =IF($W17<>"도비",IF($U17="국도비","직접입력",SUM($M17:$N17)),) -> 0 | AD17: =IF($W17="도비",SUM(M17:N17),IF($U17="국도비","직접입력",SUM(M17:N17)-AC17)) -> 0 | AE17: =IF(SUM(M17:N17)=SUM(AC17:AD17),"OK","검토") -> OK | AG17: =IF(W17="","",IF(W17="도비","세입없음","직접입력")) | AI17: =IF(AG17="","",COUNTIF($AG$7:$AG$223,AG17)) | AJ17: =IF(W17="","",IF(AND(W17="도비",AG17="세입없음"),"OK",IF(AND(W17<>"도비",AG17<>""),"OK","@@"))) | AL17: {=IF(C17="","",INDEX(구분표!$I$2:$I$313, MATCH(1,(구분표!$E$2:$E$313='17년일출'!B17)*(구분표!$F$2:$F$313='17년일출'!C17)*(구분표!$G$2:$G$313='17년일출'!A17),0)))}
A18: (기획재정위원회) | I18: =SUM(I19:I28) -> 0 | J18: =SUM(J19:J28) -> 0 | K18: =SUM(K19:K28) -> 0 | L18: =SUM(L19:L28) -> 0 | M18: =SUM(M19:M28) -> 0 | N18: =SUM(N19:N28) -> 0 | O18: =SUM(O19:O28) -> 0 | AG18: =IF(W18="","",IF(W18="도비","세입없음","직접입력"))
A19: =IFERROR(VLOOKUP($C19,구분표!$A$2:$C$313,2,FALSE),"") | B19: =IFERROR(VLOOKUP($C19,구분표!$A$2:$C$313,3,FALSE),"") | L19: =I19+J19+K19 -> 0 | O19: =I19+M19+N19 -> 0 | P19: =IF(AND((L19=0),(O19>0)),"O",IF(AND((J19<0),(L19-O19<0)),"O","X")) -> X | X19: =IF($W19<>"도비",IF($U19="국도비","직접입력",SUM($J19:$K19)),) -> 0 | Y19: =IF($W19="도비",SUM($J19:$K19),IF($U19="국도비","직접입력",SUM($J19:$K19)-$X19)) -> 0 | Z19: =IF(SUM($J19:$K19)=SUM($X19:$Y19),"OK","검토") -> OK | AC19: =IF($W19<>"도비",IF($U19="국도비","직접입력",SUM($M19:$N19)),) -> 0 | AD19: =IF($W19="도비",SUM(M19:N19),IF($U19="국도비","직접입력",SUM(M19:N19)-AC19)) -> 0 | AE19: =IF(SUM(M19:N19)=SUM(AC19:AD19),"OK","검토") -> OK | AG19: =IF(W19="","",IF(W19="도비","세입없음","직접입력")) | AI19: =IF(AG19="","",COUNTIF($AG$7:$AG$223,AG19)) | AJ19: =IF(W19="","",IF(AND(W19="도비",AG19="세입없음"),"OK",IF(AND(W19<>"도비",AG19<>""),"OK","@@"))) | AL19: {=IF(C19="","",INDEX(구분표!$I$2:$I$313, MATCH(1,(구분표!$E$2:$E$313='17년일출'!B19)*(구분표!$F$2:$F$313='17년일출'!C19)*(구분표!$G$2:$G$313='17년일출'!A19),0)))}
A20: =IFERROR(VLOOKUP($C20,구분표!$A$2:$C$313,2,FALSE),"") | B20: =IFERROR(VLOOKUP($C20,구분표!$A$2:$C$313,3,FALSE),"") | L20: =I20+J20+K20 -> 0 | O20: =I20+M20+N20 -> 0 | P20: =IF(AND((L20=0),(O20>0)),"O",IF(AND((J20<0),(L20-O20<0)),"O","X")) -> X | X20: =IF($W20<>"도비",IF($U20="국도비","직접입력",SUM($J20:$K20)),) -> 0 | Y20: =IF($W20="도비",SUM($J20:$K20),IF($U20="국도비","직접입력",SUM($J20:$K20)-$X20)) -> 0 | Z20: =IF(SUM($J20:$K20)=SUM($X20:$Y20),"OK","검토") -> OK | AC20: =IF($W20<>"도비",IF($U20="국도비","직접입력",SUM($M20:$N20)),) -> 0 | AD20: =IF($W20="도비",SUM(M20:N20),IF($U20="국도비","직접입력",SUM(M20:N20)-AC20)) -> 0 | AE20: =IF(SUM(M20:N20)=SUM(AC20:AD20),"OK","검토") -> OK | AG20: =IF(W20="","",IF(W20="도비","세입없음","직접입력")) | AI20: =IF(AG20="","",COUNTIF($AG$7:$AG$223,AG20)) | AJ20: =IF(W20="","",IF(AND(W20="도비",AG20="세입없음"),"OK",IF(AND(W20<>"도비",AG20<>""),"OK","@@"))) | AL20: {=IF(C20="","",INDEX(구분표!$I$2:$I$313, MATCH(1,(구분표!$E$2:$E$313='17년일출'!B20)*(구분표!$F$2:$F$313='17년일출'!C20)*(구분표!$G$2:$G$313='17년일출'!A20),0)))}
A21: =IFERROR(VLOOKUP($C21,구분표!$A$2:$C$313,2,FALSE),"") | B21: =IFERROR(VLOOKUP($C21,구분표!$A$2:$C$313,3,FALSE),"") | L21: =I21+J21+K21 -> 0 | O21: =I21+M21+N21 -> 0 | P21: =IF(AND((L21=0),(O21>0)),"O",IF(AND((J21<0),(L21-O21<0)),"O","X")) -> X | X21: =IF($W21<>"도비",IF($U21="국도비","직접입력",SUM($J21:$K21)),) -> 0 | Y21: =IF($W21="도비",SUM($J21:$K21),IF($U21="국도비","직접입력",SUM($J21:$K21)-$X21)) -> 0 | Z21: =IF(SUM($J21:$K21)=SUM($X21:$Y21),"OK","검토") -> OK | AC21: =IF($W21<>"도비",IF($U21="국도비","직접입력",SUM($M21:$N21)),) -> 0 | AD21: =IF($W21="도비",SUM(M21:N21),IF($U21="국도비","직접입력",SUM(M21:N21)-AC21)) -> 0 | AE21: =IF(SUM(M21:N21)=SUM(AC21:AD21),"OK","검토") -> OK | AG21: =IF(W21="","",IF(W21="도비","세입없음","직접입력")) | AI21: =IF(AG21="","",COUNTIF($AG$7:$AG$223,AG21)) | AJ21: =IF(W21="","",IF(AND(W21="도비",AG21="세입없음"),"OK",IF(AND(W21<>"도비",AG21<>""),"OK","@@"))) | AL21: {=IF(C21="","",INDEX(구분표!$I$2:$I$313, MATCH(1,(구분표!$E$2:$E$313='17년일출'!B21)*(구분표!$F$2:$F$313='17년일출'!C21)*(구분표!$G$2:$G$313='17년일출'!A21),0)))}
A22: =IFERROR(VLOOKUP($C22,구분표!$A$2:$C$313,2,FALSE),"") | B22: =IFERROR(VLOOKUP($C22,구분표!$A$2:$C$313,3,FALSE),"") | L22: =I22+J22+K22 -> 0 | O22: =I22+M22+N22 -> 0 | P22: =IF(AND((L22=0),(O22>0)),"O",IF(AND((J22<0),(L22-O22<0)),"O","X")) -> X | X22: =IF($W22<>"도비",IF($U22="국도비","직접입력",SUM($J22:$K22)),) -> 0 | Y22: =IF($W22="도비",SUM($J22:$K22),IF($U22="국도비","직접입력",SUM($J22:$K22)-$X22)) -> 0 | Z22: =IF(SUM($J22:$K22)=SUM($X22:$Y22),"OK","검토") -> OK | AC22: =IF($W22<>"도비",IF($U22="국도비","직접입력",SUM($M22:$N22)),) -> 0 | AD22: =IF($W22="도비",SUM(M22:N22),IF($U22="국도비","직접입력",SUM(M22:N22)-AC22)) -> 0 | AE22: =IF(SUM(M22:N22)=SUM(AC22:AD22),"OK","검토") -> OK | AG22: =IF(W22="","",IF(W22="도비","세입없음","직접입력")) | AI22: =IF(AG22="","",COUNTIF($AG$7:$AG$223,AG22)) | AJ22: =IF(W22="","",IF(AND(W22="도비",AG22="세입없음"),"OK",IF(AND(W22<>"도비",AG22<>""),"OK","@@"))) | AL22: {=IF(C22="","",INDEX(구분표!$I$2:$I$313, MATCH(1,(구분표!$E$2:$E$313='17년일출'!B22)*(구분표!$F$2:$F$313='17년일출'!C22)*(구분표!$G$2:$G$313='17년일출'!A22),0)))}
A23: =IFERROR(VLOOKUP($C23,구분표!$A$2:$C$313,2,FALSE),"") | B23: =IFERROR(VLOOKUP($C23,구분표!$A$2:$C$313,3,FALSE),"") | L23: =I23+J23+K23 -> 0 | O23: =I23+M23+N23 -> 0 | P23: =IF(AND((L23=0),(O23>0)),"O",IF(AND((J23<0),(L23-O23<0)),"O","X")) -> X | X23: =IF($W23<>"도비",IF($U23="국도비","직접입력",SUM($J23:$K23)),) -> 0 | Y23: =IF($W23="도비",SUM($J23:$K23),IF($U23="국도비","직접입력",SUM($J23:$K23)-$X23)) -> 0 | Z23: =IF(SUM($J23:$K23)=SUM($X23:$Y23),"OK","검토") -> OK | AC23: =IF($W23<>"도비",IF($U23="국도비","직접입력",SUM($M23:$N23)),) -> 0 | AD23: =IF($W23="도비",SUM(M23:N23),IF($U23="국도비","직접입력",SUM(M23:N23)-AC23)) -> 0 | AE23: =IF(SUM(M23:N23)=SUM(AC23:AD23),"OK","검토") -> OK | AG23: =IF(W23="","",IF(W23="도비","세입없음","직접입력")) | AI23: =IF(AG23="","",COUNTIF($AG$7:$AG$223,AG23)) | AJ23: =IF(W23="","",IF(AND(W23="도비",AG23="세입없음"),"OK",IF(AND(W23<>"도비",AG23<>""),"OK","@@"))) | AL23: {=IF(C23="","",INDEX(구분표!$I$2:$I$313, MATCH(1,(구분표!$E$2:$E$313='17년일출'!B23)*(구분표!$F$2:$F$313='17년일출'!C23)*(구분표!$G$2:$G$313='17년일출'!A23),0)))}
A24: =IFERROR(VLOOKUP($C24,구분표!$A$2:$C$313,2,FALSE),"") | B24: =IFERROR(VLOOKUP($C24,구분표!$A$2:$C$313,3,FALSE),"") | L24: =I24+J24+K24 -> 0 | O24: =I24+M24+N24 -> 0 | P24: =IF(AND((L24=0),(O24>0)),"O",IF(AND((J24<0),(L24-O24<0)),"O","X")) -> X | X24: =IF($W24<>"도비",IF($U24="국도비","직접입력",SUM($J24:$K24)),) -> 0 | Y24: =IF($W24="도비",SUM($J24:$K24),IF($U24="국도비","직접입력",SUM($J24:$K24)-$X24)) -> 0 | Z24: =IF(SUM($J24:$K24)=SUM($X24:$Y24),"OK","검토") -> OK | AC24: =IF($W24<>"도비",IF($U24="국도비","직접입력",SUM($M24:$N24)),) -> 0 | AD24: =IF($W24="도비",SUM(M24:N24),IF($U24="국도비","직접입력",SUM(M24:N24)-AC24)) -> 0 | AE24: =IF(SUM(M24:N24)=SUM(AC24:AD24),"OK","검토") -> OK | AG24: =IF(W24="","",IF(W24="도비","세입없음","직접입력")) | AI24: =IF(AG24="","",COUNTIF($AG$7:$AG$223,AG24)) | AJ24: =IF(W24="","",IF(AND(W24="도비",AG24="세입없음"),"OK",IF(AND(W24<>"도비",AG24<>""),"OK","@@"))) | AL24: {=IF(C24="","",INDEX(구분표!$I$2:$I$313, MATCH(1,(구분표!$E$2:$E$313='17년일출'!B24)*(구분표!$F$2:$F$313='17년일출'!C24)*(구분표!$G$2:$G$313='17년일출'!A24),0)))}
A25: =IFERROR(VLOOKUP($C25,구분표!$A$2:$C$313,2,FALSE),"") | B25: =IFERROR(VLOOKUP($C25,구분표!$A$2:$C$313,3,FALSE),"") | L25: =I25+J25+K25 -> 0 | O25: =I25+M25+N25 -> 0 | P25: =IF(AND((L25=0),(O25>0)),"O",IF(AND((J25<0),(L25-O25<0)),"O","X")) -> X | X25: =IF($W25<>"도비",IF($U25="국도비","직접입력",SUM($J25:$K25)),) -> 0 | Y25: =IF($W25="도비",SUM($J25:$K25),IF($U25="국도비","직접입력",SUM($J25:$K25)-$X25)) -> 0 | Z25: =IF(SUM($J25:$K25)=SUM($X25:$Y25),"OK","검토") -> OK | AC25: =IF($W25<>"도비",IF($U25="국도비","직접입력",SUM($M25:$N25)),) -> 0 | AD25: =IF($W25="도비",SUM(M25:N25),IF($U25="국도비","직접입력",SUM(M25:N25)-AC25)) -> 0 | AE25: =IF(SUM(M25:N25)=SUM(AC25:AD25),"OK","검토") -> OK | AG25: =IF(W25="","",IF(W25="도비","세입없음","직접입력")) | AI25: =IF(AG25="","",COUNTIF($AG$7:$AG$223,AG25)) | AJ25: =IF(W25="","",IF(AND(W25="도비",AG25="세입없음"),"OK",IF(AND(W25<>"도비",AG25<>""),"OK","@@"))) | AL25: {=IF(C25="","",INDEX(구분표!$I$2:$I$313, MATCH(1,(구분표!$E$2:$E$313='17년일출'!B25)*(구분표!$F$2:$F$313='17년일출'!C25)*(구분표!$G$2:$G$313='17년일출'!A25),0)))}
A26: =IFERROR(VLOOKUP($C26,구분표!$A$2:$C$313,2,FALSE),"") | B26: =IFERROR(VLOOKUP($C26,구분표!$A$2:$C$313,3,FALSE),"") | L26: =I26+J26+K26 -> 0 | O26: =I26+M26+N26 -> 0 | P26: =IF(AND((L26=0),(O26>0)),"O",IF(AND((J26<0),(L26-O26<0)),"O","X")) -> X | X26: =IF($W26<>"도비",IF($U26="국도비","직접입력",SUM($J26:$K26)),) -> 0 | Y26: =IF($W26="도비",SUM($J26:$K26),IF($U26="국도비","직접입력",SUM($J26:$K26)-$X26)) -> 0 | Z26: =IF(SUM($J26:$K26)=SUM($X26:$Y26),"OK","검토") -> OK | AC26: =IF($W26<>"도비",IF($U26="국도비","직접입력",SUM($M26:$N26)),) -> 0 | AD26: =IF($W26="도비",SUM(M26:N26),IF($U26="국도비","직접입력",SUM(M26:N26)-AC26)) -> 0 | AE26: =IF(SUM(M26:N26)=SUM(AC26:AD26),"OK","검토") -> OK | AG26: =IF(W26="","",IF(W26="도비","세입없음","직접입력")) | AI26: =IF(AG26="","",COUNTIF($AG$7:$AG$223,AG26)) | AJ26: =IF(W26="","",IF(AND(W26="도비",AG26="세입없음"),"OK",IF(AND(W26<>"도비",AG26<>""),"OK","@@"))) | AL26: {=IF(C26="","",INDEX(구분표!$I$2:$I$313, MATCH(1,(구분표!$E$2:$E$313='17년일출'!B26)*(구분표!$F$2:$F$313='17년일출'!C26)*(구분표!$G$2:$G$313='17년일출'!A26),0)))}
A27: =IFERROR(VLOOKUP($C27,구분표!$A$2:$C$313,2,FALSE),"") | B27: =IFERROR(VLOOKUP($C27,구분표!$A$2:$C$313,3,FALSE),"") | L27: =I27+J27+K27 -> 0 | O27: =I27+M27+N27 -> 0 | P27: =IF(AND((L27=0),(O27>0)),"O",IF(AND((J27<0),(L27-O27<0)),"O","X")) -> X | X27: =IF($W27<>"도비",IF($U27="국도비","직접입력",SUM($J27:$K27)),) -> 0 | Y27: =IF($W27="도비",SUM($J27:$K27),IF($U27="국도비","직접입력",SUM($J27:$K27)-$X27)) -> 0 | Z27: =IF(SUM($J27:$K27)=SUM($X27:$Y27),"OK","검토") -> OK | AC27: =IF($W27<>"도비",IF($U27="국도비","직접입력",SUM($M27:$N27)),) -> 0 | AD27: =IF($W27="도비",SUM(M27:N27),IF($U27="국도비","직접입력",SUM(M27:N27)-AC27)) -> 0 | AE27: =IF(SUM(M27:N27)=SUM(AC27:AD27),"OK","검토") -> OK | AG27: =IF(W27="","",IF(W27="도비","세입없음","직접입력")) | AI27: =IF(AG27="","",COUNTIF($AG$7:$AG$223,AG27)) | AJ27: =IF(W27="","",IF(AND(W27="도비",AG27="세입없음"),"OK",IF(AND(W27<>"도비",AG27<>""),"OK","@@"))) | AL27: {=IF(C27="","",INDEX(구분표!$I$2:$I$313, MATCH(1,(구분표!$E$2:$E$313='17년일출'!B27)*(구분표!$F$2:$F$313='17년일출'!C27)*(구분표!$G$2:$G$313='17년일출'!A27),0)))}
A28: =IFERROR(VLOOKUP($C28,구분표!$A$2:$C$313,2,FALSE),"") | B28: =IFERROR(VLOOKUP($C28,구분표!$A$2:$C$313,3,FALSE),"") | L28: =I28+J28+K28 -> 0 | O28: =I28+M28+N28 -> 0 | P28: =IF(AND((L28=0),(O28>0)),"O",IF(AND((J28<0),(L28-O28<0)),"O","X")) -> X | X28: =IF($W28<>"도비",IF($U28="국도비","직접입력",SUM($J28:$K28)),) -> 0 | Y28: =IF($W28="도비",SUM($J28:$K28),IF($U28="국도비","직접입력",SUM($J28:$K28)-$X28)) -> 0 | Z28: =IF(SUM($J28:$K28)=SUM($X28:$Y28),"OK","검토") -> OK | AC28: =IF($W28<>"도비",IF($U28="국도비","직접입력",SUM($M28:$N28)),) -> 0 | AD28: =IF($W28="도비",SUM(M28:N28),IF($U28="국도비","직접입력",SUM(M28:N28)-AC28)) -> 0 | AE28: =IF(SUM(M28:N28)=SUM(AC28:AD28),"OK","검토") -> OK | AG28: =IF(W28="","",IF(W28="도비","세입없음","직접입력")) | AI28: =IF(AG28="","",COUNTIF($AG$7:$AG$223,AG28)) | AJ28: =IF(W28="","",IF(AND(W28="도비",AG28="세입없음"),"OK",IF(AND(W28<>"도비",AG28<>""),"OK","@@"))) | AL28: {=IF(C28="","",INDEX(구분표!$I$2:$I$313, MATCH(1,(구분표!$E$2:$E$313='17년일출'!B28)*(구분표!$F$2:$F$313='17년일출'!C28)*(구분표!$G$2:$G$313='17년일출'!A28),0)))}
A29: (경제과학기술위원회) | I29: =SUM(I30:I39) -> 0 | J29: =SUM(J30:J39) -> 0 | K29: =SUM(K30:K39) -> 0 | L29: =SUM(L30:L39) -> 0 | M29: =SUM(M30:M39) -> 0 | N29: =SUM(N30:N39) -> 0 | O29: =SUM(O30:O39) -> 0 | AG29: =IF(W29="","",IF(W29="도비","세입없음","직접입력"))
A30: =IFERROR(VLOOKUP($C30,구분표!$A$2:$C$313,2,FALSE),"") | B30: =IFERROR(VLOOKUP($C30,구분표!$A$2:$C$313,3,FALSE),"") | L30: =I30+J30+K30 -> 0 | O30: =I30+M30+N30 -> 0 | P30: =IF(AND((L30=0),(O30>0)),"O",IF(AND((J30<0),(L30-O30<0)),"O","X")) -> X | X30: =IF($W30<>"도비",IF($U30="국도비","직접입력",SUM($J30:$K30)),) -> 0 | Y30: =IF($W30="도비",SUM($J30:$K30),IF($U30="국도비","직접입력",SUM($J30:$K30)-$X30)) -> 0 | Z30: =IF(SUM($J30:$K30)=SUM($X30:$Y30),"OK","검토") -> OK | AC30: =IF($W30<>"도비",IF($U30="국도비","직접입력",SUM($M30:$N30)),) -> 0 | AD30: =IF($W30="도비",SUM(M30:N30),IF($U30="국도비","직접입력",SUM(M30:N30)-AC30)) -> 0 | AE30: =IF(SUM(M30:N30)=SUM(AC30:AD30),"OK","검토") -> OK | AG30: =IF(W30="","",IF(W30="도비","세입없음","직접입력")) | AI30: =IF(AG30="","",COUNTIF($AG$7:$AG$223,AG30)) | AJ30: =IF(W30="","",IF(AND(W30="도비",AG30="세입없음"),"OK",IF(AND(W30<>"도비",AG30<>""),"OK","@@"))) | AL30: {=IF(C30="","",INDEX(구분표!$I$2:$I$313, MATCH(1,(구분표!$E$2:$E$313='17년일출'!B30)*(구분표!$F$2:$F$313='17년일출'!C30)*(구분표!$G$2:$G$313='17년일출'!A30),0)))}
A31: =IFERROR(VLOOKUP($C31,구분표!$A$2:$C$313,2,FALSE),"") | B31: =IFERROR(VLOOKUP($C31,구분표!$A$2:$C$313,3,FALSE),"") | L31: =I31+J31+K31 -> 0 | O31: =I31+M31+N31 -> 0 | P31: =IF(AND((L31=0),(O31>0)),"O",IF(AND((J31<0),(L31-O31<0)),"O","X")) -> X | X31: =IF($W31<>"도비",IF($U31="국도비","직접입력",SUM($J31:$K31)),) -> 0 | Y31: =IF($W31="도비",SUM($J31:$K31),IF($U31="국도비","직접입력",SUM($J31:$K31)-$X31)) -> 0 | Z31: =IF(SUM($J31:$K31)=SUM($X31:$Y31),"OK","검토") -> OK | AC31: =IF($W31<>"도비",IF($U31="국도비","직접입력",SUM($M31:$N31)),) -> 0 | AD31: =IF($W31="도비",SUM(M31:N31),IF($U31="국도비","직접입력",SUM(M31:N31)-AC31)) -> 0 | AE31: =IF(SUM(M31:N31)=SUM(AC31:AD31),"OK","검토") -> OK | AG31: =IF(W31="","",IF(W31="도비","세입없음","직접입력")) | AI31: =IF(AG31="","",COUNTIF($AG$7:$AG$223,AG31)) | AJ31: =IF(W31="","",IF(AND(W31="도비",AG31="세입없음"),"OK",IF(AND(W31<>"도비",AG31<>""),"OK","@@"))) | AL31: {=IF(C31="","",INDEX(구분표!$I$2:$I$313, MATCH(1,(구분표!$E$2:$E$313='17년일출'!B31)*(구분표!$F$2:$F$313='17년일출'!C31)*(구분표!$G$2:$G$313='17년일출'!A31),0)))}
A32: =IFERROR(VLOOKUP($C32,구분표!$A$2:$C$313,2,FALSE),"") | B32: =IFERROR(VLOOKUP($C32,구분표!$A$2:$C$313,3,FALSE),"") | L32: =I32+J32+K32 -> 0 | O32: =I32+M32+N32 -> 0 | P32: =IF(AND((L32=0),(O32>0)),"O",IF(AND((J32<0),(L32-O32<0)),"O","X")) -> X | X32: =IF($W32<>"도비",IF($U32="국도비","직접입력",SUM($J32:$K32)),) -> 0 | Y32: =IF($W32="도비",SUM($J32:$K32),IF($U32="국도비","직접입력",SUM($J32:$K32)-$X32)) -> 0 | Z32: =IF(SUM($J32:$K32)=SUM($X32:$Y32),"OK","검토") -> OK | AC32: =IF($W32<>"도비",IF($U32="국도비","직접입력",SUM($M32:$N32)),) -> 0 | AD32: =IF($W32="도비",SUM(M32:N32),IF($U32="국도비","직접입력",SUM(M32:N32)-AC32)) -> 0 | AE32: =IF(SUM(M32:N32)=SUM(AC32:AD32),"OK","검토") -> OK | AG32: =IF(W32="","",IF(W32="도비","세입없음","직접입력")) | AI32: =IF(AG32="","",COUNTIF($AG$7:$AG$223,AG32)) | AJ32: =IF(W32="","",IF(AND(W32="도비",AG32="세입없음"),"OK",IF(AND(W32<>"도비",AG32<>""),"OK","@@"))) | AL32: {=IF(C32="","",INDEX(구분표!$I$2:$I$313, MATCH(1,(구분표!$E$2:$E$313='17년일출'!B32)*(구분표!$F$2:$F$313='17년일출'!C32)*(구분표!$G$2:$G$313='17년일출'!A32),0)))}
A33: =IFERROR(VLOOKUP($C33,구분표!$A$2:$C$313,2,FALSE),"") | B33: =IFERROR(VLOOKUP($C33,구분표!$A$2:$C$313,3,FALSE),"") | L33: =I33+J33+K33 -> 0 | O33: =I33+M33+N33 -> 0 | P33: =IF(AND((L33=0),(O33>0)),"O",IF(AND((J33<0),(L33-O33<0)),"O","X")) -> X | X33: =IF($W33<>"도비",IF($U33="국도비","직접입력",SUM($J33:$K33)),) -> 0 | Y33: =IF($W33="도비",SUM($J33:$K33),IF($U33="국도비","직접입력",SUM($J33:$K33)-$X33)) -> 0 | Z33: =IF(SUM($J33:$K33)=SUM($X33:$Y33),"OK","검토") -> OK | AC33: =IF($W33<>"도비",IF($U33="국도비","직접입력",SUM($M33:$N33)),) -> 0 | AD33: =IF($W33="도비",SUM(M33:N33),IF($U33="국도비","직접입력",SUM(M33:N33)-AC33)) -> 0 | AE33: =IF(SUM(M33:N33)=SUM(AC33:AD33),"OK","검토") -> OK | AG33: =IF(W33="","",IF(W33="도비","세입없음","직접입력")) | AI33: =IF(AG33="","",COUNTIF($AG$7:$AG$223,AG33)) | AJ33: =IF(W33="","",IF(AND(W33="도비",AG33="세입없음"),"OK",IF(AND(W33<>"도비",AG33<>""),"OK","@@"))) | AL33: {=IF(C33="","",INDEX(구분표!$I$2:$I$313, MATCH(1,(구분표!$E$2:$E$313='17년일출'!B33)*(구분표!$F$2:$F$313='17년일출'!C33)*(구분표!$G$2:$G$313='17년일출'!A33),0)))}
A34: =IFERROR(VLOOKUP($C34,구분표!$A$2:$C$313,2,FALSE),"") | B34: =IFERROR(VLOOKUP($C34,구분표!$A$2:$C$313,3,FALSE),"") | L34: =I34+J34+K34 -> 0 | O34: =I34+M34+N34 -> 0 | P34: =IF(AND((L34=0),(O34>0)),"O",IF(AND((J34<0),(L34-O34<0)),"O","X")) -> X | X34: =IF($W34<>"도비",IF($U34="국도비","직접입력",SUM($J34:$K34)),) -> 0 | Y34: =IF($W34="도비",SUM($J34:$K34),IF($U34="국도비","직접입력",SUM($J34:$K34)-$X34)) -> 0 | Z34: =IF(SUM($J34:$K34)=SUM($X34:$Y34),"OK","검토") -> OK | AC34: =IF($W34<>"도비",IF($U34="국도비","직접입력",SUM($M34:$N34)),) -> 0 | AD34: =IF($W34="도비",SUM(M34:N34),IF($U34="국도비","직접입력",SUM(M34:N34)-AC34)) -> 0 | AE34: =IF(SUM(M34:N34)=SUM(AC34:AD34),"OK","검토") -> OK | AG34: =IF(W34="","",IF(W34="도비","세입없음","직접입력")) | AI34: =IF(AG34="","",COUNTIF($AG$7:$AG$223,AG34)) | AJ34: =IF(W34="","",IF(AND(W34="도비",AG34="세입없음"),"OK",IF(AND(W34<>"도비",AG34<>""),"OK","@@"))) | AL34: {=IF(C34="","",INDEX(구분표!$I$2:$I$313, MATCH(1,(구분표!$E$2:$E$313='17년일출'!B34)*(구분표!$F$2:$F$313='17년일출'!C34)*(구분표!$G$2:$G$313='17년일출'!A34),0)))}
A35: =IFERROR(VLOOKUP($C35,구분표!$A$2:$C$313,2,FALSE),"") | B35: =IFERROR(VLOOKUP($C35,구분표!$A$2:$C$313,3,FALSE),"") | L35: =I35+J35+K35 -> 0 | O35: =I35+M35+N35 -> 0 | P35: =IF(AND((L35=0),(O35>0)),"O",IF(AND((J35<0),(L35-O35<0)),"O","X")) -> X | X35: =IF($W35<>"도비",IF($U35="국도비","직접입력",SUM($J35:$K35)),) -> 0 | Y35: =IF($W35="도비",SUM($J35:$K35),IF($U35="국도비","직접입력",SUM($J35:$K35)-$X35)) -> 0 | Z35: =IF(SUM($J35:$K35)=SUM($X35:$Y35),"OK","검토") -> OK | AC35: =IF($W35<>"도비",IF($U35="국도비","직접입력",SUM($M35:$N35)),) -> 0 | AD35: =IF($W35="도비",SUM(M35:N35),IF($U35="국도비","직접입력",SUM(M35:N35)-AC35)) -> 0 | AE35: =IF(SUM(M35:N35)=SUM(AC35:AD35),"OK","검토") -> OK | AG35: =IF(W35="","",IF(W35="도비","세입없음","직접입력")) | AI35: =IF(AG35="","",COUNTIF($AG$7:$AG$223,AG35)) | AJ35: =IF(W35="","",IF(AND(W35="도비",AG35="세입없음"),"OK",IF(AND(W35<>"도비",AG35<>""),"OK","@@"))) | AL35: {=IF(C35="","",INDEX(구분표!$I$2:$I$313, MATCH(1,(구분표!$E$2:$E$313='17년일출'!B35)*(구분표!$F$2:$F$313='17년일출'!C35)*(구분표!$G$2:$G$313='17년일출'!A35),0)))}
A36: =IFERROR(VLOOKUP($C36,구분표!$A$2:$C$313,2,FALSE),"") | B36: =IFERROR(VLOOKUP($C36,구분표!$A$2:$C$313,3,FALSE),"") | L36: =I36+J36+K36 -> 0 | O36: =I36+M36+N36 -> 0 | P36: =IF(AND((L36=0),(O36>0)),"O",IF(AND((J36<0),(L36-O36<0)),"O","X")) -> X | X36: =IF($W36<>"도비",IF($U36="국도비","직접입력",SUM($J36:$K36)),) -> 0 | Y36: =IF($W36="도비",SUM($J36:$K36),IF($U36="국도비","직접입력",SUM($J36:$K36)-$X36)) -> 0 | Z36: =IF(SUM($J36:$K36)=SUM($X36:$Y36),"OK","검토") -> OK | AC36: =IF($W36<>"도비",IF($U36="국도비","직접입력",SUM($M36:$N36)),) -> 0 | AD36: =IF($W36="도비",SUM(M36:N36),IF($U36="국도비","직접입력",SUM(M36:N36)-AC36)) -> 0 | AE36: =IF(SUM(M36:N36)=SUM(AC36:AD36),"OK","검토") -> OK | AG36: =IF(W36="","",IF(W36="도비","세입없음","직접입력")) | AI36: =IF(AG36="","",COUNTIF($AG$7:$AG$223,AG36)) | AJ36: =IF(W36="","",IF(AND(W36="도비",AG36="세입없음"),"OK",IF(AND(W36<>"도비",AG36<>""),"OK","@@"))) | AL36: {=IF(C36="","",INDEX(구분표!$I$2:$I$313, MATCH(1,(구분표!$E$2:$E$313='17년일출'!B36)*(구분표!$F$2:$F$313='17년일출'!C36)*(구분표!$G$2:$G$313='17년일출'!A36),0)))}
A37: =IFERROR(VLOOKUP($C37,구분표!$A$2:$C$313,2,FALSE),"") | B37: =IFERROR(VLOOKUP($C37,구분표!$A$2:$C$313,3,FALSE),"") | L37: =I37+J37+K37 -> 0 | O37: =I37+M37+N37 -> 0 | P37: =IF(AND((L37=0),(O37>0)),"O",IF(AND((J37<0),(L37-O37<0)),"O","X")) -> X | X37: =IF($W37<>"도비",IF($U37="국도비","직접입력",SUM($J37:$K37)),) -> 0 | Y37: =IF($W37="도비",SUM($J37:$K37),IF($U37="국도비","직접입력",SUM($J37:$K37)-$X37)) -> 0 | Z37: =IF(SUM($J37:$K37)=SUM($X37:$Y37),"OK","검토") -> OK | AC37: =IF($W37<>"도비",IF($U37="국도비","직접입력",SUM($M37:$N37)),) -> 0 | AD37: =IF($W37="도비",SUM(M37:N37),IF($U37="국도비","직접입력",SUM(M37:N37)-AC37)) -> 0 | AE37: =IF(SUM(M37:N37)=SUM(AC37:AD37),"OK","검토") -> OK | AG37: =IF(W37="","",IF(W37="도비","세입없음","직접입력")) | AI37: =IF(AG37="","",COUNTIF($AG$7:$AG$223,AG37)) | AJ37: =IF(W37="","",IF(AND(W37="도비",AG37="세입없음"),"OK",IF(AND(W37<>"도비",AG37<>""),"OK","@@"))) | AL37: {=IF(C37="","",INDEX(구분표!$I$2:$I$313, MATCH(1,(구분표!$E$2:$E$313='17년일출'!B37)*(구분표!$F$2:$F$313='17년일출'!C37)*(구분표!$G$2:$G$313='17년일출'!A37),0)))}
A38: =IFERROR(VLOOKUP($C38,구분표!$A$2:$C$313,2,FALSE),"") | B38: =IFERROR(VLOOKUP($C38,구분표!$A$2:$C$313,3,FALSE),"") | L38: =I38+J38+K38 -> 0 | O38: =I38+M38+N38 -> 0 | P38: =IF(AND((L38=0),(O38>0)),"O",IF(AND((J38<0),(L38-O38<0)),"O","X")) -> X | X38: =IF($W38<>"도비",IF($U38="국도비","직접입력",SUM($J38:$K38)),) -> 0 | Y38: =IF($W38="도비",SUM($J38:$K38),IF($U38="국도비","직접입력",SUM($J38:$K38)-$X38)) -> 0 | Z38: =IF(SUM($J38:$K38)=SUM($X38:$Y38),"OK","검토") -> OK | AC38: =IF($W38<>"도비",IF($U38="국도비","직접입력",SUM($M38:$N38)),) -> 0 | AD38: =IF($W38="도비",SUM(M38:N38),IF($U38="국도비","직접입력",SUM(M38:N38)-AC38)) -> 0 | AE38: =IF(SUM(M38:N38)=SUM(AC38:AD38),"OK","검토") -> OK | AG38: =IF(W38="","",IF(W38="도비","세입없음","직접입력")) | AI38: =IF(AG38="","",COUNTIF($AG$7:$AG$223,AG38)) | AJ38: =IF(W38="","",IF(AND(W38="도비",AG38="세입없음"),"OK",IF(AND(W38<>"도비",AG38<>""),"OK","@@"))) | AL38: {=IF(C38="","",INDEX(구분표!$I$2:$I$313, MATCH(1,(구분표!$E$2:$E$313='17년일출'!B38)*(구분표!$F$2:$F$313='17년일출'!C38)*(구분표!$G$2:$G$313='17년일출'!A38),0)))}
A39: =IFERROR(VLOOKUP($C39,구분표!$A$2:$C$313,2,FALSE),"") | B39: =IFERROR(VLOOKUP($C39,구분표!$A$2:$C$313,3,FALSE),"") | L39: =I39+J39+K39 -> 0 | O39: =I39+M39+N39 -> 0 | P39: =IF(AND((L39=0),(O39>0)),"O",IF(AND((J39<0),(L39-O39<0)),"O","X")) -> X | X39: =IF($W39<>"도비",IF($U39="국도비","직접입력",SUM($J39:$K39)),) -> 0 | Y39: =IF($W39="도비",SUM($J39:$K39),IF($U39="국도비","직접입력",SUM($J39:$K39)-$X39)) -> 0 | Z39: =IF(SUM($J39:$K39)=SUM($X39:$Y39),"OK","검토") -> OK | AC39: =IF($W39<>"도비",IF($U39="국도비","직접입력",SUM($M39:$N39)),) -> 0 | AD39: =IF($W39="도비",SUM(M39:N39),IF($U39="국도비","직접입력",SUM(M39:N39)-AC39)) -> 0 | AE39: =IF(SUM(M39:N39)=SUM(AC39:AD39),"OK","검토") -> OK | AG39: =IF(W39="","",IF(W39="도비","세입없음","직접입력")) | AI39: =IF(AG39="","",COUNTIF($AG$7:$AG$223,AG39)) | AJ39: =IF(W39="","",IF(AND(W39="도비",AG39="세입없음"),"OK",IF(AND(W39<>"도비",AG39<>""),"OK","@@"))) | AL39: {=IF(C39="","",INDEX(구분표!$I$2:$I$313, MATCH(1,(구분표!$E$2:$E$313='17년일출'!B39)*(구분표!$F$2:$F$313='17년일출'!C39)*(구분표!$G$2:$G$313='17년일출'!A39),0)))}
A40: (안전행정위원회) | I40: =SUM(I41:I50) -> 0 | J40: =SUM(J41:J50) -> 0 | K40: =SUM(K41:K50) -> 0 | L40: =SUM(L41:L50) -> 0 | M40: =SUM(M41:M50) -> 0 | N40: =SUM(N41:N50) -> 0 | O40: =SUM(O41:O50) -> 0 | AG40: =IF(W40="","",IF(W40="도비","세입없음","직접입력"))
A41: =IFERROR(VLOOKUP($C41,구분표!$A$2:$C$313,2,FALSE),"") | B41: =IFERROR(VLOOKUP($C41,구분표!$A$2:$C$313,3,FALSE),"") | L41: =I41+J41+K41 -> 0 | O41: =I41+M41+N41 -> 0 | P41: =IF(AND((L41=0),(O41>0)),"O",IF(AND((J41<0),(L41-O41<0)),"O","X")) -> X | X41: =IF($W41<>"도비",IF($U41="국도비","직접입력",SUM($J41:$K41)),) -> 0 | Y41: =IF($W41="도비",SUM($J41:$K41),IF($U41="국도비","직접입력",SUM($J41:$K41)-$X41)) -> 0 | Z41: =IF(SUM($J41:$K41)=SUM($X41:$Y41),"OK","검토") -> OK | AC41: =IF($W41<>"도비",IF($U41="국도비","직접입력",SUM($M41:$N41)),) -> 0 | AD41: =IF($W41="도비",SUM(M41:N41),IF($U41="국도비","직접입력",SUM(M41:N41)-AC41)) -> 0 | AE41: =IF(SUM(M41:N41)=SUM(AC41:AD41),"OK","검토") -> OK | AG41: =IF(W41="","",IF(W41="도비","세입없음","직접입력")) | AI41: =IF(AG41="","",COUNTIF($AG$7:$AG$223,AG41)) | AJ41: =IF(W41="","",IF(AND(W41="도비",AG41="세입없음"),"OK",IF(AND(W41<>"도비",AG41<>""),"OK","@@"))) | AL41: {=IF(C41="","",INDEX(구분표!$I$2:$I$313, MATCH(1,(구분표!$E$2:$E$313='17년일출'!B41)*(구분표!$F$2:$F$313='17년일출'!C41)*(구분표!$G$2:$G$313='17년일출'!A41),0)))}
A42: =IFERROR(VLOOKUP($C42,구분표!$A$2:$C$313,2,FALSE),"") | B42: =IFERROR(VLOOKUP($C42,구분표!$A$2:$C$313,3,FALSE),"") | L42: =I42+J42+K42 -> 0 | O42: =I42+M42+N42 -> 0 | P42: =IF(AND((L42=0),(O42>0)),"O",IF(AND((J42<0),(L42-O42<0)),"O","X")) -> X | X42: =IF($W42<>"도비",IF($U42="국도비","직접입력",SUM($J42:$K42)),) -> 0 | Y42: =IF($W42="도비",SUM($J42:$K42),IF($U42="국도비","직접입력",SUM($J42:$K42)-$X42)) -> 0 | Z42: =IF(SUM($J42:$K42)=SUM($X42:$Y42),"OK","검토") -> OK | AC42: =IF($W42<>"도비",IF($U42="국도비","직접입력",SUM($M42:$N42)),) -> 0 | AD42: =IF($W42="도비",SUM(M42:N42),IF($U42="국도비","직접입력",SUM(M42:N42)-AC42)) -> 0 | AE42: =IF(SUM(M42:N42)=SUM(AC42:AD42),"OK","검토") -> OK | AG42: =IF(W42="","",IF(W42="도비","세입없음","직접입력")) | AI42: =IF(AG42="","",COUNTIF($AG$7:$AG$223,AG42)) | AJ42: =IF(W42="","",IF(AND(W42="도비",AG42="세입없음"),"OK",IF(AND(W42<>"도비",AG42<>""),"OK","@@"))) | AL42: {=IF(C42="","",INDEX(구분표!$I$2:$I$313, MATCH(1,(구분표!$E$2:$E$313='17년일출'!B42)*(구분표!$F$2:$F$313='17년일출'!C42)*(구분표!$G$2:$G$313='17년일출'!A42),0)))}
A43: =IFERROR(VLOOKUP($C43,구분표!$A$2:$C$313,2,FALSE),"") | B43: =IFERROR(VLOOKUP($C43,구분표!$A$2:$C$313,3,FALSE),"") | L43: =I43+J43+K43 -> 0 | O43: =I43+M43+N43 -> 0 | P43: =IF(AND((L43=0),(O43>0)),"O",IF(AND((J43<0),(L43-O43<0)),"O","X")) -> X | X43: =IF($W43<>"도비",IF($U43="국도비","직접입력",SUM($J43:$K43)),) -> 0 | Y43: =IF($W43="도비",SUM($J43:$K43),IF($U43="국도비","직접입력",SUM($J43:$K43)-$X43)) -> 0 | Z43: =IF(SUM($J43:$K43)=SUM($X43:$Y43),"OK","검토") -> OK | AC43: =IF($W43<>"도비",IF($U43="국도비","직접입력",SUM($M43:$N43)),) -> 0 | AD43: =IF($W43="도비",SUM(M43:N43),IF($U43="국도비","직접입력",SUM(M43:N43)-AC43)) -> 0 | AE43: =IF(SUM(M43:N43)=SUM(AC43:AD43),"OK","검토") -> OK | AG43: =IF(W43="","",IF(W43="도비","세입없음","직접입력")) | AI43: =IF(AG43="","",COUNTIF($AG$7:$AG$223,AG43)) | AJ43: =IF(W43="","",IF(AND(W43="도비",AG43="세입없음"),"OK",IF(AND(W43<>"도비",AG43<>""),"OK","@@"))) | AL43: {=IF(C43="","",INDEX(구분표!$I$2:$I$313, MATCH(1,(구분표!$E$2:$E$313='17년일출'!B43)*(구분표!$F$2:$F$313='17년일출'!C43)*(구분표!$G$2:$G$313='17년일출'!A43),0)))}
A44: =IFERROR(VLOOKUP($C44,구분표!$A$2:$C$313,2,FALSE),"") | B44: =IFERROR(VLOOKUP($C44,구분표!$A$2:$C$313,3,FALSE),"") | L44: =I44+J44+K44 -> 0 | O44: =I44+M44+N44 -> 0 | P44: =IF(AND((L44=0),(O44>0)),"O",IF(AND((J44<0),(L44-O44<0)),"O","X")) -> X | X44: =IF($W44<>"도비",IF($U44="국도비","직접입력",SUM($J44:$K44)),) -> 0 | Y44: =IF($W44="도비",SUM($J44:$K44),IF($U44="국도비","직접입력",SUM($J44:$K44)-$X44)) -> 0 | Z44: =IF(SUM($J44:$K44)=SUM($X44:$Y44),"OK","검토") -> OK | AC44: =IF($W44<>"도비",IF($U44="국도비","직접입력",SUM($M44:$N44)),) -> 0 | AD44: =IF($W44="도비",SUM(M44:N44),IF($U44="국도비","직접입력",SUM(M44:N44)-AC44)) -> 0 | AE44: =IF(SUM(M44:N44)=SUM(AC44:AD44),"OK","검토") -> OK | AG44: =IF(W44="","",IF(W44="도비","세입없음","직접입력")) | AI44: =IF(AG44="","",COUNTIF($AG$7:$AG$223,AG44)) | AJ44: =IF(W44="","",IF(AND(W44="도비",AG44="세입없음"),"OK",IF(AND(W44<>"도비",AG44<>""),"OK","@@"))) | AL44: {=IF(C44="","",INDEX(구분표!$I$2:$I$313, MATCH(1,(구분표!$E$2:$E$313='17년일출'!B44)*(구분표!$F$2:$F$313='17년일출'!C44)*(구분표!$G$2:$G$313='17년일출'!A44),0)))}
A45: =IFERROR(VLOOKUP($C45,구분표!$A$2:$C$313,2,FALSE),"") | B45: =IFERROR(VLOOKUP($C45,구분표!$A$2:$C$313,3,FALSE),"") | L45: =I45+J45+K45 -> 0 | O45: =I45+M45+N45 -> 0 | P45: =IF(AND((L45=0),(O45>0)),"O",IF(AND((J45<0),(L45-O45<0)),"O","X")) -> X | X45: =IF($W45<>"도비",IF($U45="국도비","직접입력",SUM($J45:$K45)),) -> 0 | Y45: =IF($W45="도비",SUM($J45:$K45),IF($U45="국도비","직접입력",SUM($J45:$K45)-$X45)) -> 0 | Z45: =IF(SUM($J45:$K45)=SUM($X45:$Y45),"OK","검토") -> OK | AC45: =IF($W45<>"도비",IF($U45="국도비","직접입력",SUM($M45:$N45)),) -> 0 | AD45: =IF($W45="도비",SUM(M45:N45),IF($U45="국도비","직접입력",SUM(M45:N45)-AC45)) -> 0 | AE45: =IF(SUM(M45:N45)=SUM(AC45:AD45),"OK","검토") -> OK | AG45: =IF(W45="","",IF(W45="도비","세입없음","직접입력")) | AI45: =IF(AG45="","",COUNTIF($AG$7:$AG$223,AG45)) | AJ45: =IF(W45="","",IF(AND(W45="도비",AG45="세입없음"),"OK",IF(AND(W45<>"도비",AG45<>""),"OK","@@"))) | AL45: {=IF(C45="","",INDEX(구분표!$I$2:$I$313, MATCH(1,(구분표!$E$2:$E$313='17년일출'!B45)*(구분표!$F$2:$F$313='17년일출'!C45)*(구분표!$G$2:$G$313='17년일출'!A45),0)))}
A46: =IFERROR(VLOOKUP($C46,구분표!$A$2:$C$313,2,FALSE),"") | B46: =IFERROR(VLOOKUP($C46,구분표!$A$2:$C$313,3,FALSE),"") | L46: =I46+J46+K46 -> 0 | O46: =I46+M46+N46 -> 0 | P46: =IF(AND((L46=0),(O46>0)),"O",IF(AND((J46<0),(L46-O46<0)),"O","X")) -> X | X46: =IF($W46<>"도비",IF($U46="국도비","직접입력",SUM($J46:$K46)),) -> 0 | Y46: =IF($W46="도비",SUM($J46:$K46),IF($U46="국도비","직접입력",SUM($J46:$K46)-$X46)) -> 0 | Z46: =IF(SUM($J46:$K46)=SUM($X46:$Y46),"OK","검토") -> OK | AC46: =IF($W46<>"도비",IF($U46="국도비","직접입력",SUM($M46:$N46)),) -> 0 | AD46: =IF($W46="도비",SUM(M46:N46),IF($U46="국도비","직접입력",SUM(M46:N46)-AC46)) -> 0 | AE46: =IF(SUM(M46:N46)=SUM(AC46:AD46),"OK","검토") -> OK | AG46: =IF(W46="","",IF(W46="도비","세입없음","직접입력")) | AI46: =IF(AG46="","",COUNTIF($AG$7:$AG$223,AG46)) | AJ46: =IF(W46="","",IF(AND(W46="도비",AG46="세입없음"),"OK",IF(AND(W46<>"도비",AG46<>""),"OK","@@"))) | AL46: {=IF(C46="","",INDEX(구분표!$I$2:$I$313, MATCH(1,(구분표!$E$2:$E$313='17년일출'!B46)*(구분표!$F$2:$F$313='17년일출'!C46)*(구분표!$G$2:$G$313='17년일출'!A46),0)))}
A47: =IFERROR(VLOOKUP($C47,구분표!$A$2:$C$313,2,FALSE),"") | B47: =IFERROR(VLOOKUP($C47,구분표!$A$2:$C$313,3,FALSE),"") | L47: =I47+J47+K47 -> 0 | O47: =I47+M47+N47 -> 0 | P47: =IF(AND((L47=0),(O47>0)),"O",IF(AND((J47<0),(L47-O47<0)),"O","X")) -> X | X47: =IF($W47<>"도비",IF($U47="국도비","직접입력",SUM($J47:$K47)),) -> 0 | Y47: =IF($W47="도비",SUM($J47:$K47),IF($U47="국도비","직접입력",SUM($J47:$K47)-$X47)) -> 0 | Z47: =IF(SUM($J47:$K47)=SUM($X47:$Y47),"OK","검토") -> OK | AC47: =IF($W47<>"도비",IF($U47="국도비","직접입력",SUM($M47:$N47)),) -> 0 | AD47: =IF($W47="도비",SUM(M47:N47),IF($U47="국도비","직접입력",SUM(M47:N47)-AC47)) -> 0 | AE47: =IF(SUM(M47:N47)=SUM(AC47:AD47),"OK","검토") -> OK | AG47: =IF(W47="","",IF(W47="도비","세입없음","직접입력")) | AI47: =IF(AG47="","",COUNTIF($AG$7:$AG$223,AG47)) | AJ47: =IF(W47="","",IF(AND(W47="도비",AG47="세입없음"),"OK",IF(AND(W47<>"도비",AG47<>""),"OK","@@"))) | AL47: {=IF(C47="","",INDEX(구분표!$I$2:$I$313, MATCH(1,(구분표!$E$2:$E$313='17년일출'!B47)*(구분표!$F$2:$F$313='17년일출'!C47)*(구분표!$G$2:$G$313='17년일출'!A47),0)))}
A48: =IFERROR(VLOOKUP($C48,구분표!$A$2:$C$313,2,FALSE),"") | B48: =IFERROR(VLOOKUP($C48,구분표!$A$2:$C$313,3,FALSE),"") | L48: =I48+J48+K48 -> 0 | O48: =I48+M48+N48 -> 0 | P48: =IF(AND((L48=0),(O48>0)),"O",IF(AND((J48<0),(L48-O48<0)),"O","X")) -> X | X48: =IF($W48<>"도비",IF($U48="국도비","직접입력",SUM($J48:$K48)),) -> 0 | Y48: =IF($W48="도비",SUM($J48:$K48),IF($U48="국도비","직접입력",SUM($J48:$K48)-$X48)) -> 0 | Z48: =IF(SUM($J48:$K48)=SUM($X48:$Y48),"OK","검토") -> OK | AC48: =IF($W48<>"도비",IF($U48="국도비","직접입력",SUM($M48:$N48)),) -> 0 | AD48: =IF($W48="도비",SUM(M48:N48),IF($U48="국도비","직접입력",SUM(M48:N48)-AC48)) -> 0 | AE48: =IF(SUM(M48:N48)=SUM(AC48:AD48),"OK","검토") -> OK | AG48: =IF(W48="","",IF(W48="도비","세입없음","직접입력")) | AI48: =IF(AG48="","",COUNTIF($AG$7:$AG$223,AG48)) | AJ48: =IF(W48="","",IF(AND(W48="도비",AG48="세입없음"),"OK",IF(AND(W48<>"도비",AG48<>""),"OK","@@"))) | AL48: {=IF(C48="","",INDEX(구분표!$I$2:$I$313, MATCH(1,(구분표!$E$2:$E$313='17년일출'!B48)*(구분표!$F$2:$F$313='17년일출'!C48)*(구분표!$G$2:$G$313='17년일출'!A48),0)))}
A49: =IFERROR(VLOOKUP($C49,구분표!$A$2:$C$313,2,FALSE),"") | B49: =IFERROR(VLOOKUP($C49,구분표!$A$2:$C$313,3,FALSE),"") | L49: =I49+J49+K49 -> 0 | O49: =I49+M49+N49 -> 0 | P49: =IF(AND((L49=0),(O49>0)),"O",IF(AND((J49<0),(L49-O49<0)),"O","X")) -> X | X49: =IF($W49<>"도비",IF($U49="국도비","직접입력",SUM($J49:$K49)),) -> 0 | Y49: =IF($W49="도비",SUM($J49:$K49),IF($U49="국도비","직접입력",SUM($J49:$K49)-$X49)) -> 0 | Z49: =IF(SUM($J49:$K49)=SUM($X49:$Y49),"OK","검토") -> OK | AC49: =IF($W49<>"도비",IF($U49="국도비","직접입력",SUM($M49:$N49)),) -> 0 | AD49: =IF($W49="도비",SUM(M49:N49),IF($U49="국도비","직접입력",SUM(M49:N49)-AC49)) -> 0 | AE49: =IF(SUM(M49:N49)=SUM(AC49:AD49),"OK","검토") -> OK | AG49: =IF(W49="","",IF(W49="도비","세입없음","직접입력")) | AI49: =IF(AG49="","",COUNTIF($AG$7:$AG$223,AG49)) | AJ49: =IF(W49="","",IF(AND(W49="도비",AG49="세입없음"),"OK",IF(AND(W49<>"도비",AG49<>""),"OK","@@"))) | AL49: {=IF(C49="","",INDEX(구분표!$I$2:$I$313, MATCH(1,(구분표!$E$2:$E$313='17년일출'!B49)*(구분표!$F$2:$F$313='17년일출'!C49)*(구분표!$G$2:$G$313='17년일출'!A49),0)))}
A50: =IFERROR(VLOOKUP($C50,구분표!$A$2:$C$313,2,FALSE),"") | B50: =IFERROR(VLOOKUP($C50,구분표!$A$2:$C$313,3,FALSE),"") | L50: =I50+J50+K50 -> 0 | O50: =I50+M50+N50 -> 0 | P50: =IF(AND((L50=0),(O50>0)),"O",IF(AND((J50<0),(L50-O50<0)),"O","X")) -> X | X50: =IF($W50<>"도비",IF($U50="국도비","직접입력",SUM($J50:$K50)),) -> 0 | Y50: =IF($W50="도비",SUM($J50:$K50),IF($U50="국도비","직접입력",SUM($J50:$K50)-$X50)) -> 0 | Z50: =IF(SUM($J50:$K50)=SUM($X50:$Y50),"OK","검토") -> OK | AC50: =IF($W50<>"도비",IF($U50="국도비","직접입력",SUM($M50:$N50)),) -> 0 | AD50: =IF($W50="도비",SUM(M50:N50),IF($U50="국도비","직접입력",SUM(M50:N50)-AC50)) -> 0 | AE50: =IF(SUM(M50:N50)=SUM(AC50:AD50),"OK","검토") -> OK | AG50: =IF(W50="","",IF(W50="도비","세입없음","직접입력")) | AI50: =IF(AG50="","",COUNTIF($AG$7:$AG$223,AG50)) | AJ50: =IF(W50="","",IF(AND(W50="도비",AG50="세입없음"),"OK",IF(AND(W50<>"도비",AG50<>""),"OK","@@"))) | AL50: {=IF(C50="","",INDEX(구분표!$I$2:$I$313, MATCH(1,(구분표!$E$2:$E$313='17년일출'!B50)*(구분표!$F$2:$F$313='17년일출'!C50)*(구분표!$G$2:$G$313='17년일출'!A50),0)))}
A51: (문화체육관광위원회) | I51: =SUM(I52:I61) -> 0 | J51: =SUM(J52:J61) -> 0 | K51: =SUM(K52:K61) -> 0 | L51: =SUM(L52:L61) -> 0 | M51: =SUM(M52:M61) -> 0 | N51: =SUM(N52:N61) -> 0 | O51: =SUM(O52:O61) -> 0 | AG51: =IF(W51="","",IF(W51="도비","세입없음","직접입력"))
A52: =IFERROR(VLOOKUP($C52,구분표!$A$2:$C$313,2,FALSE),"") | B52: =IFERROR(VLOOKUP($C52,구분표!$A$2:$C$313,3,FALSE),"") | L52: =I52+J52+K52 -> 0 | O52: =I52+M52+N52 -> 0 | P52: =IF(AND((L52=0),(O52>0)),"O",IF(AND((J52<0),(L52-O52<0)),"O","X")) -> X | X52: =IF($W52<>"도비",IF($U52="국도비","직접입력",SUM($J52:$K52)),) -> 0 | Y52: =IF($W52="도비",SUM($J52:$K52),IF($U52="국도비","직접입력",SUM($J52:$K52)-$X52)) -> 0 | Z52: =IF(SUM($J52:$K52)=SUM($X52:$Y52),"OK","검토") -> OK | AC52: =IF($W52<>"도비",IF($U52="국도비","직접입력",SUM($M52:$N52)),) -> 0 | AD52: =IF($W52="도비",SUM(M52:N52),IF($U52="국도비","직접입력",SUM(M52:N52)-AC52)) -> 0 | AE52: =IF(SUM(M52:N52)=SUM(AC52:AD52),"OK","검토") -> OK | AG52: =IF(W52="","",IF(W52="도비","세입없음","직접입력")) | AI52: =IF(AG52="","",COUNTIF($AG$7:$AG$223,AG52)) | AJ52: =IF(W52="","",IF(AND(W52="도비",AG52="세입없음"),"OK",IF(AND(W52<>"도비",AG52<>""),"OK","@@"))) | AL52: {=IF(C52="","",INDEX(구분표!$I$2:$I$313, MATCH(1,(구분표!$E$2:$E$313='17년일출'!B52)*(구분표!$F$2:$F$313='17년일출'!C52)*(구분표!$G$2:$G$313='17년일출'!A52),0)))}
A53: =IFERROR(VLOOKUP($C53,구분표!$A$2:$C$313,2,FALSE),"") | B53: =IFERROR(VLOOKUP($C53,구분표!$A$2:$C$313,3,FALSE),"") | L53: =I53+J53+K53 -> 0 | O53: =I53+M53+N53 -> 0 | P53: =IF(AND((L53=0),(O53>0)),"O",IF(AND((J53<0),(L53-O53<0)),"O","X")) -> X | X53: =IF($W53<>"도비",IF($U53="국도비","직접입력",SUM($J53:$K53)),) -> 0 | Y53: =IF($W53="도비",SUM($J53:$K53),IF($U53="국도비","직접입력",SUM($J53:$K53)-$X53)) -> 0 | Z53: =IF(SUM($J53:$K53)=SUM($X53:$Y53),"OK","검토") -> OK | AC53: =IF($W53<>"도비",IF($U53="국도비","직접입력",SUM($M53:$N53)),) -> 0 | AD53: =IF($W53="도비",SUM(M53:N53),IF($U53="국도비","직접입력",SUM(M53:N53)-AC53)) -> 0 | AE53: =IF(SUM(M53:N53)=SUM(AC53:AD53),"OK","검토") -> OK | AG53: =IF(W53="","",IF(W53="도비","세입없음","직접입력")) | AI53: =IF(AG53="","",COUNTIF($AG$7:$AG$223,AG53)) | AJ53: =IF(W53="","",IF(AND(W53="도비",AG53="세입없음"),"OK",IF(AND(W53<>"도비",AG53<>""),"OK","@@"))) | AL53: {=IF(C53="","",INDEX(구분표!$I$2:$I$313, MATCH(1,(구분표!$E$2:$E$313='17년일출'!B53)*(구분표!$F$2:$F$313='17년일출'!C53)*(구분표!$G$2:$G$313='17년일출'!A53),0)))}
A54: =IFERROR(VLOOKUP($C54,구분표!$A$2:$C$313,2,FALSE),"") | B54: =IFERROR(VLOOKUP($C54,구분표!$A$2:$C$313,3,FALSE),"") | L54: =I54+J54+K54 -> 0 | O54: =I54+M54+N54 -> 0 | P54: =IF(AND((L54=0),(O54>0)),"O",IF(AND((J54<0),(L54-O54<0)),"O","X")) -> X | X54: =IF($W54<>"도비",IF($U54="국도비","직접입력",SUM($J54:$K54)),) -> 0 | Y54: =IF($W54="도비",SUM($J54:$K54),IF($U54="국도비","직접입력",SUM($J54:$K54)-$X54)) -> 0 | Z54: =IF(SUM($J54:$K54)=SUM($X54:$Y54),"OK","검토") -> OK | AC54: =IF($W54<>"도비",IF($U54="국도비","직접입력",SUM($M54:$N54)),) -> 0 | AD54: =IF($W54="도비",SUM(M54:N54),IF($U54="국도비","직접입력",SUM(M54:N54)-AC54)) -> 0 | AE54: =IF(SUM(M54:N54)=SUM(AC54:AD54),"OK","검토") -> OK | AG54: =IF(W54="","",IF(W54="도비","세입없음","직접입력")) | AI54: =IF(AG54="","",COUNTIF($AG$7:$AG$223,AG54)) | AJ54: =IF(W54="","",IF(AND(W54="도비",AG54="세입없음"),"OK",IF(AND(W54<>"도비",AG54<>""),"OK","@@"))) | AL54: {=IF(C54="","",INDEX(구분표!$I$2:$I$313, MATCH(1,(구분표!$E$2:$E$313='17년일출'!B54)*(구분표!$F$2:$F$313='17년일출'!C54)*(구분표!$G$2:$G$313='17년일출'!A54),0)))}
A55: =IFERROR(VLOOKUP($C55,구분표!$A$2:$C$313,2,FALSE),"") | B55: =IFERROR(VLOOKUP($C55,구분표!$A$2:$C$313,3,FALSE),"") | L55: =I55+J55+K55 -> 0 | O55: =I55+M55+N55 -> 0 | P55: =IF(AND((L55=0),(O55>0)),"O",IF(AND((J55<0),(L55-O55<0)),"O","X")) -> X | X55: =IF($W55<>"도비",IF($U55="국도비","직접입력",SUM($J55:$K55)),) -> 0 | Y55: =IF($W55="도비",SUM($J55:$K55),IF($U55="국도비","직접입력",SUM($J55:$K55)-$X55)) -> 0 | Z55: =IF(SUM($J55:$K55)=SUM($X55:$Y55),"OK","검토") -> OK | AC55: =IF($W55<>"도비",IF($U55="국도비","직접입력",SUM($M55:$N55)),) -> 0 | AD55: =IF($W55="도비",SUM(M55:N55),IF($U55="국도비","직접입력",SUM(M55:N55)-AC55)) -> 0 | AE55: =IF(SUM(M55:N55)=SUM(AC55:AD55),"OK","검토") -> OK | AG55: =IF(W55="","",IF(W55="도비","세입없음","직접입력")) | AI55: =IF(AG55="","",COUNTIF($AG$7:$AG$223,AG55)) | AJ55: =IF(W55="","",IF(AND(W55="도비",AG55="세입없음"),"OK",IF(AND(W55<>"도비",AG55<>""),"OK","@@"))) | AL55: {=IF(C55="","",INDEX(구분표!$I$2:$I$313, MATCH(1,(구분표!$E$2:$E$313='17년일출'!B55)*(구분표!$F$2:$F$313='17년일출'!C55)*(구분표!$G$2:$G$313='17년일출'!A55),0)))}
A56: =IFERROR(VLOOKUP($C56,구분표!$A$2:$C$313,2,FALSE),"") | B56: =IFERROR(VLOOKUP($C56,구분표!$A$2:$C$313,3,FALSE),"") | L56: =I56+J56+K56 -> 0 | O56: =I56+M56+N56 -> 0 | P56: =IF(AND((L56=0),(O56>0)),"O",IF(AND((J56<0),(L56-O56<0)),"O","X")) -> X | X56: =IF($W56<>"도비",IF($U56="국도비","직접입력",SUM($J56:$K56)),) -> 0 | Y56: =IF($W56="도비",SUM($J56:$K56),IF($U56="국도비","직접입력",SUM($J56:$K56)-$X56)) -> 0 | Z56: =IF(SUM($J56:$K56)=SUM($X56:$Y56),"OK","검토") -> OK | AC56: =IF($W56<>"도비",IF($U56="국도비","직접입력",SUM($M56:$N56)),) -> 0 | AD56: =IF($W56="도비",SUM(M56:N56),IF($U56="국도비","직접입력",SUM(M56:N56)-AC56)) -> 0 | AE56: =IF(SUM(M56:N56)=SUM(AC56:AD56),"OK","검토") -> OK | AG56: =IF(W56="","",IF(W56="도비","세입없음","직접입력")) | AI56: =IF(AG56="","",COUNTIF($AG$7:$AG$223,AG56)) | AJ56: =IF(W56="","",IF(AND(W56="도비",AG56="세입없음"),"OK",IF(AND(W56<>"도비",AG56<>""),"OK","@@"))) | AL56: {=IF(C56="","",INDEX(구분표!$I$2:$I$313, MATCH(1,(구분표!$E$2:$E$313='17년일출'!B56)*(구분표!$F$2:$F$313='17년일출'!C56)*(구분표!$G$2:$G$313='17년일출'!A56),0)))}
A57: =IFERROR(VLOOKUP($C57,구분표!$A$2:$C$313,2,FALSE),"") | B57: =IFERROR(VLOOKUP($C57,구분표!$A$2:$C$313,3,FALSE),"") | L57: =I57+J57+K57 -> 0 | O57: =I57+M57+N57 -> 0 | P57: =IF(AND((L57=0),(O57>0)),"O",IF(AND((J57<0),(L57-O57<0)),"O","X")) -> X | X57: =IF($W57<>"도비",IF($U57="국도비","직접입력",SUM($J57:$K57)),) -> 0 | Y57: =IF($W57="도비",SUM($J57:$K57),IF($U57="국도비","직접입력",SUM($J57:$K57)-$X57)) -> 0 | Z57: =IF(SUM($J57:$K57)=SUM($X57:$Y57),"OK","검토") -> OK | AC57: =IF($W57<>"도비",IF($U57="국도비","직접입력",SUM($M57:$N57)),) -> 0 | AD57: =IF($W57="도비",SUM(M57:N57),IF($U57="국도비","직접입력",SUM(M57:N57)-AC57)) -> 0 | AE57: =IF(SUM(M57:N57)=SUM(AC57:AD57),"OK","검토") -> OK | AG57: =IF(W57="","",IF(W57="도비","세입없음","직접입력")) | AI57: =IF(AG57="","",COUNTIF($AG$7:$AG$223,AG57)) | AJ57: =IF(W57="","",IF(AND(W57="도비",AG57="세입없음"),"OK",IF(AND(W57<>"도비",AG57<>""),"OK","@@"))) | AL57: {=IF(C57="","",INDEX(구분표!$I$2:$I$313, MATCH(1,(구분표!$E$2:$E$313='17년일출'!B57)*(구분표!$F$2:$F$313='17년일출'!C57)*(구분표!$G$2:$G$313='17년일출'!A57),0)))}
A58: =IFERROR(VLOOKUP($C58,구분표!$A$2:$C$313,2,FALSE),"") | B58: =IFERROR(VLOOKUP($C58,구분표!$A$2:$C$313,3,FALSE),"") | L58: =I58+J58+K58 -> 0 | O58: =I58+M58+N58 -> 0 | P58: =IF(AND((L58=0),(O58>0)),"O",IF(AND((J58<0),(L58-O58<0)),"O","X")) -> X | X58: =IF($W58<>"도비",IF($U58="국도비","직접입력",SUM($J58:$K58)),) -> 0 | Y58: =IF($W58="도비",SUM($J58:$K58),IF($U58="국도비","직접입력",SUM($J58:$K58)-$X58)) -> 0 | Z58: =IF(SUM($J58:$K58)=SUM($X58:$Y58),"OK","검토") -> OK | AC58: =IF($W58<>"도비",IF($U58="국도비","직접입력",SUM($M58:$N58)),) -> 0 | AD58: =IF($W58="도비",SUM(M58:N58),IF($U58="국도비","직접입력",SUM(M58:N58)-AC58)) -> 0 | AE58: =IF(SUM(M58:N58)=SUM(AC58:AD58),"OK","검토") -> OK | AG58: =IF(W58="","",IF(W58="도비","세입없음","직접입력")) | AI58: =IF(AG58="","",COUNTIF($AG$7:$AG$223,AG58)) | AJ58: =IF(W58="","",IF(AND(W58="도비",AG58="세입없음"),"OK",IF(AND(W58<>"도비",AG58<>""),"OK","@@"))) | AL58: {=IF(C58="","",INDEX(구분표!$I$2:$I$313, MATCH(1,(구분표!$E$2:$E$313='17년일출'!B58)*(구분표!$F$2:$F$313='17년일출'!C58)*(구분표!$G$2:$G$313='17년일출'!A58),0)))}
A59: =IFERROR(VLOOKUP($C59,구분표!$A$2:$C$313,2,FALSE),"") | B59: =IFERROR(VLOOKUP($C59,구분표!$A$2:$C$313,3,FALSE),"") | L59: =I59+J59+K59 -> 0 | O59: =I59+M59+N59 -> 0 | P59: =IF(AND((L59=0),(O59>0)),"O",IF(AND((J59<0),(L59-O59<0)),"O","X")) -> X | X59: =IF($W59<>"도비",IF($U59="국도비","직접입력",SUM($J59:$K59)),) -> 0 | Y59: =IF($W59="도비",SUM($J59:$K59),IF($U59="국도비","직접입력",SUM($J59:$K59)-$X59)) -> 0 | Z59: =IF(SUM($J59:$K59)=SUM($X59:$Y59),"OK","검토") -> OK | AC59: =IF($W59<>"도비",IF($U59="국도비","직접입력",SUM($M59:$N59)),) -> 0 | AD59: =IF($W59="도비",SUM(M59:N59),IF($U59="국도비","직접입력",SUM(M59:N59)-AC59)) -> 0 | AE59: =IF(SUM(M59:N59)=SUM(AC59:AD59),"OK","검토") -> OK | AG59: =IF(W59="","",IF(W59="도비","세입없음","직접입력")) | AI59: =IF(AG59="","",COUNTIF($AG$7:$AG$223,AG59)) | AJ59: =IF(W59="","",IF(AND(W59="도비",AG59="세입없음"),"OK",IF(AND(W59<>"도비",AG59<>""),"OK","@@"))) | AL59: {=IF(C59="","",INDEX(구분표!$I$2:$I$313, MATCH(1,(구분표!$E$2:$E$313='17년일출'!B59)*(구분표!$F$2:$F$313='17년일출'!C59)*(구분표!$G$2:$G$313='17년일출'!A59),0)))}
A60: =IFERROR(VLOOKUP($C60,구분표!$A$2:$C$313,2,FALSE),"") | B60: =IFERROR(VLOOKUP($C60,구분표!$A$2:$C$313,3,FALSE),"") | L60: =I60+J60+K60 -> 0 | O60: =I60+M60+N60 -> 0 | P60: =IF(AND((L60=0),(O60>0)),"O",IF(AND((J60<0),(L60-O60<0)),"O","X")) -> X | X60: =IF($W60<>"도비",IF($U60="국도비","직접입력",SUM($J60:$K60)),) -> 0 | Y60: =IF($W60="도비",SUM($J60:$K60),IF($U60="국도비","직접입력",SUM($J60:$K60)-$X60)) -> 0 | Z60: =IF(SUM($J60:$K60)=SUM($X60:$Y60),"OK","검토") -> OK | AC60: =IF($W60<>"도비",IF($U60="국도비","직접입력",SUM($M60:$N60)),) -> 0 | AD60: =IF($W60="도비",SUM(M60:N60),IF($U60="국도비","직접입력",SUM(M60:N60)-AC60)) -> 0 | AE60: =IF(SUM(M60:N60)=SUM(AC60:AD60),"OK","검토") -> OK | AG60: =IF(W60="","",IF(W60="도비","세입없음","직접입력")) | AI60: =IF(AG60="","",COUNTIF($AG$7:$AG$223,AG60)) | AJ60: =IF(W60="","",IF(AND(W60="도비",AG60="세입없음"),"OK",IF(AND(W60<>"도비",AG60<>""),"OK","@@"))) | AL60: {=IF(C60="","",INDEX(구분표!$I$2:$I$313, MATCH(1,(구분표!$E$2:$E$313='17년일출'!B60)*(구분표!$F$2:$F$313='17년일출'!C60)*(구분표!$G$2:$G$313='17년일출'!A60),0)))}
A61: =IFERROR(VLOOKUP($C61,구분표!$A$2:$C$313,2,FALSE),"") | B61: =IFERROR(VLOOKUP($C61,구분표!$A$2:$C$313,3,FALSE),"") | L61: =I61+J61+K61 -> 0 | O61: =I61+M61+N61 -> 0 | P61: =IF(AND((L61=0),(O61>0)),"O",IF(AND((J61<0),(L61-O61<0)),"O","X")) -> X | X61: =IF($W61<>"도비",IF($U61="국도비","직접입력",SUM($J61:$K61)),) -> 0 | Y61: =IF($W61="도비",SUM($J61:$K61),IF($U61="국도비","직접입력",SUM($J61:$K61)-$X61)) -> 0 | Z61: =IF(SUM($J61:$K61)=SUM($X61:$Y61),"OK","검토") -> OK | AC61: =IF($W61<>"도비",IF($U61="국도비","직접입력",SUM($M61:$N61)),) -> 0 | AD61: =IF($W61="도비",SUM(M61:N61),IF($U61="국도비","직접입력",SUM(M61:N61)-AC61)) -> 0 | AE61: =IF(SUM(M61:N61)=SUM(AC61:AD61),"OK","검토") -> OK | AG61: =IF(W61="","",IF(W61="도비","세입없음","직접입력")) | AI61: =IF(AG61="","",COUNTIF($AG$7:$AG$223,AG61)) | AJ61: =IF(W61="","",IF(AND(W61="도비",AG61="세입없음"),"OK",IF(AND(W61<>"도비",AG61<>""),"OK","@@"))) | AL61: {=IF(C61="","",INDEX(구분표!$I$2:$I$313, MATCH(1,(구분표!$E$2:$E$313='17년일출'!B61)*(구분표!$F$2:$F$313='17년일출'!C61)*(구분표!$G$2:$G$313='17년일출'!A61),0)))}
A62: (농정해양위원회) | I62: =SUM(I63:I72) -> 0 | J62: =SUM(J63:J72) -> 0 | K62: =SUM(K63:K72) -> 0 | L62: =SUM(L63:L72) -> 0 | M62: =SUM(M63:M72) -> 0 | N62: =SUM(N63:N72) -> 0 | O62: =SUM(O63:O72) -> 0 | AG62: =IF(W62="","",IF(W62="도비","세입없음","직접입력"))
A63: =IFERROR(VLOOKUP($C63,구분표!$A$2:$C$313,2,FALSE),"") | B63: =IFERROR(VLOOKUP($C63,구분표!$A$2:$C$313,3,FALSE),"") | L63: =I63+J63+K63 -> 0 | O63: =I63+M63+N63 -> 0 | P63: =IF(AND((L63=0),(O63>0)),"O",IF(AND((J63<0),(L63-O63<0)),"O","X")) -> X | X63: =IF($W63<>"도비",IF($U63="국도비","직접입력",SUM($J63:$K63)),) -> 0 | Y63: =IF($W63="도비",SUM($J63:$K63),IF($U63="국도비","직접입력",SUM($J63:$K63)-$X63)) -> 0 | Z63: =IF(SUM($J63:$K63)=SUM($X63:$Y63),"OK","검토") -> OK | AC63: =IF($W63<>"도비",IF($U63="국도비","직접입력",SUM($M63:$N63)),) -> 0 | AD63: =IF($W63="도비",SUM(M63:N63),IF($U63="국도비","직접입력",SUM(M63:N63)-AC63)) -> 0 | AE63: =IF(SUM(M63:N63)=SUM(AC63:AD63),"OK","검토") -> OK | AG63: =IF(W63="","",IF(W63="도비","세입없음","직접입력")) | AI63: =IF(AG63="","",COUNTIF($AG$7:$AG$223,AG63)) | AJ63: =IF(W63="","",IF(AND(W63="도비",AG63="세입없음"),"OK",IF(AND(W63<>"도비",AG63<>""),"OK","@@"))) | AL63: {=IF(C63="","",INDEX(구분표!$I$2:$I$313, MATCH(1,(구분표!$E$2:$E$313='17년일출'!B63)*(구분표!$F$2:$F$313='17년일출'!C63)*(구분표!$G$2:$G$313='17년일출'!A63),0)))}
A64: =IFERROR(VLOOKUP($C64,구분표!$A$2:$C$313,2,FALSE),"") | B64: =IFERROR(VLOOKUP($C64,구분표!$A$2:$C$313,3,FALSE),"") | L64: =I64+J64+K64 -> 0 | O64: =I64+M64+N64 -> 0 | P64: =IF(AND((L64=0),(O64>0)),"O",IF(AND((J64<0),(L64-O64<0)),"O","X")) -> X | X64: =IF($W64<>"도비",IF($U64="국도비","직접입력",SUM($J64:$K64)),) -> 0 | Y64: =IF($W64="도비",SUM($J64:$K64),IF($U64="국도비","직접입력",SUM($J64:$K64)-$X64)) -> 0 | Z64: =IF(SUM($J64:$K64)=SUM($X64:$Y64),"OK","검토") -> OK | AC64: =IF($W64<>"도비",IF($U64="국도비","직접입력",SUM($M64:$N64)),) -> 0 | AD64: =IF($W64="도비",SUM(M64:N64),IF($U64="국도비","직접입력",SUM(M64:N64)-AC64)) -> 0 | AE64: =IF(SUM(M64:N64)=SUM(AC64:AD64),"OK","검토") -> OK | AG64: =IF(W64="","",IF(W64="도비","세입없음","직접입력")) | AI64: =IF(AG64="","",COUNTIF($AG$7:$AG$223,AG64)) | AJ64: =IF(W64="","",IF(AND(W64="도비",AG64="세입없음"),"OK",IF(AND(W64<>"도비",AG64<>""),"OK","@@"))) | AL64: {=IF(C64="","",INDEX(구분표!$I$2:$I$313, MATCH(1,(구분표!$E$2:$E$313='17년일출'!B64)*(구분표!$F$2:$F$313='17년일출'!C64)*(구분표!$G$2:$G$313='17년일출'!A64),0)))}
A65: =IFERROR(VLOOKUP($C65,구분표!$A$2:$C$313,2,FALSE),"") | B65: =IFERROR(VLOOKUP($C65,구분표!$A$2:$C$313,3,FALSE),"") | L65: =I65+J65+K65 -> 0 | O65: =I65+M65+N65 -> 0 | P65: =IF(AND((L65=0),(O65>0)),"O",IF(AND((J65<0),(L65-O65<0)),"O","X")) -> X | X65: =IF($W65<>"도비",IF($U65="국도비","직접입력",SUM($J65:$K65)),) -> 0 | Y65: =IF($W65="도비",SUM($J65:$K65),IF($U65="국도비","직접입력",SUM($J65:$K65)-$X65)) -> 0 | Z65: =IF(SUM($J65:$K65)=SUM($X65:$Y65),"OK","검토") -> OK | AC65: =IF($W65<>"도비",IF($U65="국도비","직접입력",SUM($M65:$N65)),) -> 0 | AD65: =IF($W65="도비",SUM(M65:N65),IF($U65="국도비","직접입력",SUM(M65:N65)-AC65)) -> 0 | AE65: =IF(SUM(M65:N65)=SUM(AC65:AD65),"OK","검토") -> OK | AG65: =IF(W65="","",IF(W65="도비","세입없음","직접입력")) | AI65: =IF(AG65="","",COUNTIF($AG$7:$AG$223,AG65)) | AJ65: =IF(W65="","",IF(AND(W65="도비",AG65="세입없음"),"OK",IF(AND(W65<>"도비",AG65<>""),"OK","@@"))) | AL65: {=IF(C65="","",INDEX(구분표!$I$2:$I$313, MATCH(1,(구분표!$E$2:$E$313='17년일출'!B65)*(구분표!$F$2:$F$313='17년일출'!C65)*(구분표!$G$2:$G$313='17년일출'!A65),0)))}
A66: =IFERROR(VLOOKUP($C66,구분표!$A$2:$C$313,2,FALSE),"") | B66: =IFERROR(VLOOKUP($C66,구분표!$A$2:$C$313,3,FALSE),"") | L66: =I66+J66+K66 -> 0 | O66: =I66+M66+N66 -> 0 | P66: =IF(AND((L66=0),(O66>0)),"O",IF(AND((J66<0),(L66-O66<0)),"O","X")) -> X | X66: =IF($W66<>"도비",IF($U66="국도비","직접입력",SUM($J66:$K66)),) -> 0 | Y66: =IF($W66="도비",SUM($J66:$K66),IF($U66="국도비","직접입력",SUM($J66:$K66)-$X66)) -> 0 | Z66: =IF(SUM($J66:$K66)=SUM($X66:$Y66),"OK","검토") -> OK | AC66: =IF($W66<>"도비",IF($U66="국도비","직접입력",SUM($M66:$N66)),) -> 0 | AD66: =IF($W66="도비",SUM(M66:N66),IF($U66="국도비","직접입력",SUM(M66:N66)-AC66)) -> 0 | AE66: =IF(SUM(M66:N66)=SUM(AC66:AD66),"OK","검토") -> OK | AG66: =IF(W66="","",IF(W66="도비","세입없음","직접입력")) | AI66: =IF(AG66="","",COUNTIF($AG$7:$AG$223,AG66)) | AJ66: =IF(W66="","",IF(AND(W66="도비",AG66="세입없음"),"OK",IF(AND(W66<>"도비",AG66<>""),"OK","@@"))) | AL66: {=IF(C66="","",INDEX(구분표!$I$2:$I$313, MATCH(1,(구분표!$E$2:$E$313='17년일출'!B66)*(구분표!$F$2:$F$313='17년일출'!C66)*(구분표!$G$2:$G$313='17년일출'!A66),0)))}
A67: =IFERROR(VLOOKUP($C67,구분표!$A$2:$C$313,2,FALSE),"") | B67: =IFERROR(VLOOKUP($C67,구분표!$A$2:$C$313,3,FALSE),"") | L67: =I67+J67+K67 -> 0 | O67: =I67+M67+N67 -> 0 | P67: =IF(AND((L67=0),(O67>0)),"O",IF(AND((J67<0),(L67-O67<0)),"O","X")) -> X | X67: =IF($W67<>"도비",IF($U67="국도비","직접입력",SUM($J67:$K67)),) -> 0 | Y67: =IF($W67="도비",SUM($J67:$K67),IF($U67="국도비","직접입력",SUM($J67:$K67)-$X67)) -> 0 | Z67: =IF(SUM($J67:$K67)=SUM($X67:$Y67),"OK","검토") -> OK | AC67: =IF($W67<>"도비",IF($U67="국도비","직접입력",SUM($M67:$N67)),) -> 0 | AD67: =IF($W67="도비",SUM(M67:N67),IF($U67="국도비","직접입력",SUM(M67:N67)-AC67)) -> 0 | AE67: =IF(SUM(M67:N67)=SUM(AC67:AD67),"OK","검토") -> OK | AG67: =IF(W67="","",IF(W67="도비","세입없음","직접입력")) | AI67: =IF(AG67="","",COUNTIF($AG$7:$AG$223,AG67)) | AJ67: =IF(W67="","",IF(AND(W67="도비",AG67="세입없음"),"OK",IF(AND(W67<>"도비",AG67<>""),"OK","@@"))) | AL67: {=IF(C67="","",INDEX(구분표!$I$2:$I$313, MATCH(1,(구분표!$E$2:$E$313='17년일출'!B67)*(구분표!$F$2:$F$313='17년일출'!C67)*(구분표!$G$2:$G$313='17년일출'!A67),0)))}
A68: =IFERROR(VLOOKUP($C68,구분표!$A$2:$C$313,2,FALSE),"") | B68: =IFERROR(VLOOKUP($C68,구분표!$A$2:$C$313,3,FALSE),"") | L68: =I68+J68+K68 -> 0 | O68: =I68+M68+N68 -> 0 | P68: =IF(AND((L68=0),(O68>0)),"O",IF(AND((J68<0),(L68-O68<0)),"O","X")) -> X | X68: =IF($W68<>"도비",IF($U68="국도비","직접입력",SUM($J68:$K68)),) -> 0 | Y68: =IF($W68="도비",SUM($J68:$K68),IF($U68="국도비","직접입력",SUM($J68:$K68)-$X68)) -> 0 | Z68: =IF(SUM($J68:$K68)=SUM($X68:$Y68),"OK","검토") -> OK | AC68: =IF($W68<>"도비",IF($U68="국도비","직접입력",SUM($M68:$N68)),) -> 0 | AD68: =IF($W68="도비",SUM(M68:N68),IF($U68="국도비","직접입력",SUM(M68:N68)-AC68)) -> 0 | AE68: =IF(SUM(M68:N68)=SUM(AC68:AD68),"OK","검토") -> OK | AG68: =IF(W68="","",IF(W68="도비","세입없음","직접입력")) | AI68: =IF(AG68="","",COUNTIF($AG$7:$AG$223,AG68)) | AJ68: =IF(W68="","",IF(AND(W68="도비",AG68="세입없음"),"OK",IF(AND(W68<>"도비",AG68<>""),"OK","@@"))) | AL68: {=IF(C68="","",INDEX(구분표!$I$2:$I$313, MATCH(1,(구분표!$E$2:$E$313='17년일출'!B68)*(구분표!$F$2:$F$313='17년일출'!C68)*(구분표!$G$2:$G$313='17년일출'!A68),0)))}
A69: =IFERROR(VLOOKUP($C69,구분표!$A$2:$C$313,2,FALSE),"") | B69: =IFERROR(VLOOKUP($C69,구분표!$A$2:$C$313,3,FALSE),"") | L69: =I69+J69+K69 -> 0 | O69: =I69+M69+N69 -> 0 | P69: =IF(AND((L69=0),(O69>0)),"O",IF(AND((J69<0),(L69-O69<0)),"O","X")) -> X | X69: =IF($W69<>"도비",IF($U69="국도비","직접입력",SUM($J69:$K69)),) -> 0 | Y69: =IF($W69="도비",SUM($J69:$K69),IF($U69="국도비","직접입력",SUM($J69:$K69)-$X69)) -> 0 | Z69: =IF(SUM($J69:$K69)=SUM($X69:$Y69),"OK","검토") -> OK | AC69: =IF($W69<>"도비",IF($U69="국도비","직접입력",SUM($M69:$N69)),) -> 0 | AD69: =IF($W69="도비",SUM(M69:N69),IF($U69="국도비","직접입력",SUM(M69:N69)-AC69)) -> 0 | AE69: =IF(SUM(M69:N69)=SUM(AC69:AD69),"OK","검토") -> OK | AG69: =IF(W69="","",IF(W69="도비","세입없음","직접입력")) | AI69: =IF(AG69="","",COUNTIF($AG$7:$AG$223,AG69)) | AJ69: =IF(W69="","",IF(AND(W69="도비",AG69="세입없음"),"OK",IF(AND(W69<>"도비",AG69<>""),"OK","@@"))) | AL69: {=IF(C69="","",INDEX(구분표!$I$2:$I$313, MATCH(1,(구분표!$E$2:$E$313='17년일출'!B69)*(구분표!$F$2:$F$313='17년일출'!C69)*(구분표!$G$2:$G$313='17년일출'!A69),0)))}
A70: =IFERROR(VLOOKUP($C70,구분표!$A$2:$C$313,2,FALSE),"") | B70: =IFERROR(VLOOKUP($C70,구분표!$A$2:$C$313,3,FALSE),"") | L70: =I70+J70+K70 -> 0 | O70: =I70+M70+N70 -> 0 | P70: =IF(AND((L70=0),(O70>0)),"O",IF(AND((J70<0),(L70-O70<0)),"O","X")) -> X | X70: =IF($W70<>"도비",IF($U70="국도비","직접입력",SUM($J70:$K70)),) -> 0 | Y70: =IF($W70="도비",SUM($J70:$K70),IF($U70="국도비","직접입력",SUM($J70:$K70)-$X70)) -> 0 | Z70: =IF(SUM($J70:$K70)=SUM($X70:$Y70),"OK","검토") -> OK | AC70: =IF($W70<>"도비",IF($U70="국도비","직접입력",SUM($M70:$N70)),) -> 0 | AD70: =IF($W70="도비",SUM(M70:N70),IF($U70="국도비","직접입력",SUM(M70:N70)-AC70)) -> 0 | AE70: =IF(SUM(M70:N70)=SUM(AC70:AD70),"OK","검토") -> OK | AG70: =IF(W70="","",IF(W70="도비","세입없음","직접입력")) | AI70: =IF(AG70="","",COUNTIF($AG$7:$AG$223,AG70)) | AJ70: =IF(W70="","",IF(AND(W70="도비",AG70="세입없음"),"OK",IF(AND(W70<>"도비",AG70<>""),"OK","@@"))) | AL70: {=IF(C70="","",INDEX(구분표!$I$2:$I$313, MATCH(1,(구분표!$E$2:$E$313='17년일출'!B70)*(구분표!$F$2:$F$313='17년일출'!C70)*(구분표!$G$2:$G$313='17년일출'!A70),0)))}
A71: =IFERROR(VLOOKUP($C71,구분표!$A$2:$C$313,2,FALSE),"") | B71: =IFERROR(VLOOKUP($C71,구분표!$A$2:$C$313,3,FALSE),"") | L71: =I71+J71+K71 -> 0 | O71: =I71+M71+N71 -> 0 | P71: =IF(AND((L71=0),(O71>0)),"O",IF(AND((J71<0),(L71-O71<0)),"O","X")) -> X | X71: =IF($W71<>"도비",IF($U71="국도비","직접입력",SUM($J71:$K71)),) -> 0 | Y71: =IF($W71="도비",SUM($J71:$K71),IF($U71="국도비","직접입력",SUM($J71:$K71)-$X71)) -> 0 | Z71: =IF(SUM($J71:$K71)=SUM($X71:$Y71),"OK","검토") -> OK | AC71: =IF($W71<>"도비",IF($U71="국도비","직접입력",SUM($M71:$N71)),) -> 0 | AD71: =IF($W71="도비",SUM(M71:N71),IF($U71="국도비","직접입력",SUM(M71:N71)-AC71)) -> 0 | AE71: =IF(SUM(M71:N71)=SUM(AC71:AD71),"OK","검토") -> OK | AG71: =IF(W71="","",IF(W71="도비","세입없음","직접입력")) | AI71: =IF(AG71="","",COUNTIF($AG$7:$AG$223,AG71)) | AJ71: =IF(W71="","",IF(AND(W71="도비",AG71="세입없음"),"OK",IF(AND(W71<>"도비",AG71<>""),"OK","@@"))) | AL71: {=IF(C71="","",INDEX(구분표!$I$2:$I$313, MATCH(1,(구분표!$E$2:$E$313='17년일출'!B71)*(구분표!$F$2:$F$313='17년일출'!C71)*(구분표!$G$2:$G$313='17년일출'!A71),0)))}
A72: =IFERROR(VLOOKUP($C72,구분표!$A$2:$C$313,2,FALSE),"") | B72: =IFERROR(VLOOKUP($C72,구분표!$A$2:$C$313,3,FALSE),"") | L72: =I72+J72+K72 -> 0 | O72: =I72+M72+N72 -> 0 | P72: =IF(AND((L72=0),(O72>0)),"O",IF(AND((J72<0),(L72-O72<0)),"O","X")) -> X | X72: =IF($W72<>"도비",IF($U72="국도비","직접입력",SUM($J72:$K72)),) -> 0 | Y72: =IF($W72="도비",SUM($J72:$K72),IF($U72="국도비","직접입력",SUM($J72:$K72)-$X72)) -> 0 | Z72: =IF(SUM($J72:$K72)=SUM($X72:$Y72),"OK","검토") -> OK | AC72: =IF($W72<>"도비",IF($U72="국도비","직접입력",SUM($M72:$N72)),) -> 0 | AD72: =IF($W72="도비",SUM(M72:N72),IF($U72="국도비","직접입력",SUM(M72:N72)-AC72)) -> 0 | AE72: =IF(SUM(M72:N72)=SUM(AC72:AD72),"OK","검토") -> OK | AG72: =IF(W72="","",IF(W72="도비","세입없음","직접입력")) | AI72: =IF(AG72="","",COUNTIF($AG$7:$AG$223,AG72)) | AJ72: =IF(W72="","",IF(AND(W72="도비",AG72="세입없음"),"OK",IF(AND(W72<>"도비",AG72<>""),"OK","@@"))) | AL72: {=IF(C72="","",INDEX(구분표!$I$2:$I$313, MATCH(1,(구분표!$E$2:$E$313='17년일출'!B72)*(구분표!$F$2:$F$313='17년일출'!C72)*(구분표!$G$2:$G$313='17년일출'!A72),0)))}
A73: (보건복지위원회) | I73: =SUM(I74:I190) -> 103927956 | J73: =SUM(J74:J190) -> -13582625 | K73: =SUM(K74:K190) -> 20160740 | L73: =SUM(L74:L190) -> 110506071 | M73: =SUM(M74:M190) -> 0 | N73: =SUM(N74:N190) -> 0 | O73: =SUM(O74:O190) -> 98723579 | AG73: =IF(W73="","",IF(W73="도비","세입없음","직접입력"))
A74: =IFERROR(VLOOKUP($C74,구분표!$A$2:$C$313,2,FALSE),"") -> 보건복지위원회 | B74: =IFERROR(VLOOKUP($C74,구분표!$A$2:$C$313,3,FALSE),"") -> 보건복지국 | C74: 사회적일자리과 | D74: 본예산 | E74: 일반 | F74: 897 | G74: 336 | H74: 근로능력있는수급자의탈수급지원(희망키움통장Ⅱ)(국비/직접) - 희망키움통장Ⅱ | I74: 14285470 | K74: 360718 | L74: =I74+J74+K74 -> 14646188 | O74: =I74+M74+N74 -> 14285470 | P74: =IF(AND((L74=0),(O74>0)),"O",IF(AND((J74<0),(L74-O74<0)),"O","X")) -> X | R74: 보건복지부 자립지원과 -6408(2016.;9.25.)호 | U74: 국도비 | W74: 국비 | X74: 0 | Y74: 360718 | Z74: =IF(SUM($J74:$K74)=SUM($X74:$Y74),"OK","검토") -> OK | AC74: =IF($W74<>"도비",IF($U74="국도비","직접입력",SUM($M74:$N74)),) -> 직접입력 | AD74: =IF($W74="도비",SUM(M74:N74),IF($U74="국도비","직접입력",SUM(M74:N74)-AC74)) -> 직접입력 | AE74: =IF(SUM(M74:N74)=SUM(AC74:AD74),"OK","검토") -> OK | AG74: 세입없음 | AI74: =IF(AG74="","",COUNTIF($AG$7:$AG$223,AG74)) -> 41 | AJ74: =IF(W74="","",IF(AND(W74="도비",AG74="세입없음"),"OK",IF(AND(W74<>"도비",AG74<>""),"OK","@@"))) -> OK | AL74: {=IF(C74="","",INDEX(구분표!$I$2:$I$313, MATCH(1,(구분표!$E$2:$E$313='17년일출'!B74)*(구분표!$F$2:$F$313='17년일출'!C74)*(구분표!$G$2:$G$313='17년일출'!A74),0)))} -> 0245
A75: =IFERROR(VLOOKUP($C75,구분표!$A$2:$C$313,2,FALSE),"") -> 보건복지위원회 | B75: =IFERROR(VLOOKUP($C75,구분표!$A$2:$C$313,3,FALSE),"") -> 보건복지국 | C75: 사회적일자리과 | D75: 본예산 | E75: 일반 | F75: 899 | G75: 366 | H75: 노인일자리 및 사회활동지원 확대(지자체보조)(국비/지원) - 노인일자리 및 사회활동지원 | I75: 34266027 | K75: 5358788 | L75: =I75+J75+K75 -> 39624815 | O75: =I75+M75+N75 -> 34266027 | P75: =IF(AND((L75=0),(O75>0)),"O",IF(AND((J75<0),(L75-O75<0)),"O","X")) -> X | R75: 보건복지부 노인지원과 -6443(2016.11.7.)호 | U75: 국도비 | W75: 국비 | X75: 4659815 | Y75: 698973 | Z75: =IF(SUM($J75:$K75)=SUM($X75:$Y75),"OK","검토") -> OK | AC75: =IF($W75<>"도비",IF($U75="국도비","직접입력",SUM($M75:$N75)),) -> 직접입력 | AD75: =IF($W75="도비",SUM(M75:N75),IF($U75="국도비","직접입력",SUM(M75:N75)-AC75)) -> 직접입력 | AE75: =IF(SUM(M75:N75)=SUM(AC75:AD75),"OK","검토") -> OK | AG75: 0245-1 | AI75: =IF(AG75="","",COUNTIF($AG$7:$AG$223,AG75)) -> 6 | AJ75: =IF(W75="","",IF(AND(W75="도비",AG75="세입없음"),"OK",IF(AND(W75<>"도비",AG75<>""),"OK","@@"))) -> OK | AL75: {=IF(C75="","",INDEX(구분표!$I$2:$I$313, MATCH(1,(구분표!$E$2:$E$313='17년일출'!B75)*(구분표!$F$2:$F$313='17년일출'!C75)*(구분표!$G$2:$G$313='17년일출'!A75),0)))} -> 0245
A76: =IFERROR(VLOOKUP($C76,구분표!$A$2:$C$313,2,FALSE),"") -> 보건복지위원회 | B76: =IFERROR(VLOOKUP($C76,구분표!$A$2:$C$313,3,FALSE),"") -> 보건복지국 | C76: 사회적일자리과 | D76: 본예산 | E76: 일반 | F76: 899 | G76: 366 | H76: 노인일자리 및 사회활동지원 확대(지자체보조)(국비/지원) - 수행기관 전담인력 인건비 | I76: 1658972 | K76: 403439 | L76: =I76+J76+K76 -> 2062411 | O76: =I76+M76+N76 -> 1658972 | P76: =IF(AND((L76=0),(O76>0)),"O",IF(AND((J76<0),(L76-O76<0)),"O","X")) -> X | R76: 보건복지부 노인지원과 -6443(2016.11.7.)호 | U76: 국도비 | W76: 국비 | X76: 350817 | Y76: 52622 | Z76: =IF(SUM($J76:$K76)=SUM($X76:$Y76),"OK","검토") -> OK | AC76: =IF($W76<>"도비",IF($U76="국도비","직접입력",SUM($M76:$N76)),) -> 직접입력 | AD76: =IF($W76="도비",SUM(M76:N76),IF($U76="국도비","직접입력",SUM(M76:N76)-AC76)) -> 직접입력 | AE76: =IF(SUM(M76:N76)=SUM(AC76:AD76),"OK","검토") -> OK | AG76: 0245-1 | AI76: =IF(AG76="","",COUNTIF($AG$7:$AG$223,AG76)) -> 6 | AJ76: =IF(W76="","",IF(AND(W76="도비",AG76="세입없음"),"OK",IF(AND(W76<>"도비",AG76<>""),"OK","@@"))) -> OK | AL76: {=IF(C76="","",INDEX(구분표!$I$2:$I$313, MATCH(1,(구분표!$E$2:$E$313='17년일출'!B76)*(구분표!$F$2:$F$313='17년일출'!C76)*(구분표!$G$2:$G$313='17년일출'!A76),0)))} -> 0245
A77: =IFERROR(VLOOKUP($C77,구분표!$A$2:$C$313,2,FALSE),"") -> 보건복지위원회 | B77: =IFERROR(VLOOKUP($C77,구분표!$A$2:$C$313,3,FALSE),"") -> 보건복지국 | C77: 사회적일자리과 | D77: 본예산 | E77: 일반 | F77: 899 | G77: 366 | H77: 노인일자리 및 사회활동지원 확대(지자체보조)(국비/지원) - 시장형수행기관 인센티브지원 | I77: 154935 | J77: -154935 | L77: =I77+J77+K77 -> 0 | O77: =I77+M77+N77 -> 154935 | P77: =IF(AND((L77=0),(O77>0)),"O",IF(AND((J77<0),(L77-O77<0)),"O","X")) -> O | R77: 보건복지부 노인지원과 -6443(2016.11.7.)호 | U77: 국도비 | W77: 국비 | X77: -134726 | Y77: -20209 | Z77: =IF(SUM($J77:$K77)=SUM($X77:$Y77),"OK","검토") -> OK | AC77: =IF($W77<>"도비",IF($U77="국도비","직접입력",SUM($M77:$N77)),) -> 직접입력 | AD77: =IF($W77="도비",SUM(M77:N77),IF($U77="국도비","직접입력",SUM(M77:N77)-AC77)) -> 직접입력 | AE77: =IF(SUM(M77:N77)=SUM(AC77:AD77),"OK","검토") -> OK | AG77: 0245-1 | AI77: =IF(AG77="","",COUNTIF($AG$7:$AG$223,AG77)) -> 6 | AJ77: =IF(W77="","",IF(AND(W77="도비",AG77="세입없음"),"OK",IF(AND(W77<>"도비",AG77<>""),"OK","@@"))) -> OK | AL77: {=IF(C77="","",INDEX(구분표!$I$2:$I$313, MATCH(1,(구분표!$E$2:$E$313='17년일출'!B77)*(구분표!$F$2:$F$313='17년일출'!C77)*(구분표!$G$2:$G$313='17년일출'!A77),0)))} -> 0245
A78: =IFERROR(VLOOKUP($C78,구분표!$A$2:$C$313,2,FALSE),"") -> 보건복지위원회 | B78: =IFERROR(VLOOKUP($C78,구분표!$A$2:$C$313,3,FALSE),"") -> 보건복지국 | C78: 사회적일자리과 | D78: 본예산 | E78: 일반 | F78: 903 | G78: 411 | H78: 노인일자리 및 사회활동 지원 확대(지자체보조)(인건비) (국비/직접) - 노인 사회활동 지원 전담인력 인건비 | I78: 32796 | J78: -1149 | L78: =I78+J78+K78 -> 31647 | O78: =I78+M78+N78 -> 32796 | P78: =IF(AND((L78=0),(O78>0)),"O",IF(AND((J78<0),(L78-O78<0)),"O","X")) -> O | R78: 보건복지부 노인지원과 -6443(2016.11.7.)호 | U78: 국도비 | W78: 국비 | X78: 366 | Y78: -1515 | Z78: =IF(SUM($J78:$K78)=SUM($X78:$Y78),"OK","검토") -> OK | AC78: =IF($W78<>"도비",IF($U78="국도비","직접입력",SUM($M78:$N78)),) -> 직접입력 | AD78: =IF($W78="도비",SUM(M78:N78),IF($U78="국도비","직접입력",SUM(M78:N78)-AC78)) -> 직접입력 | AE78: =IF(SUM(M78:N78)=SUM(AC78:AD78),"OK","검토") -> OK | AG78: 0245-1 | AI78: =IF(AG78="","",COUNTIF($AG$7:$AG$223,AG78)) -> 6 | AJ78: =IF(W78="","",IF(AND(W78="도비",AG78="세입없음"),"OK",IF(AND(W78<>"도비",AG78<>""),"OK","@@"))) -> OK | AL78: {=IF(C78="","",INDEX(구분표!$I$2:$I$313, MATCH(1,(구분표!$E$2:$E$313='17년일출'!B78)*(구분표!$F$2:$F$313='17년일출'!C78)*(구분표!$G$2:$G$313='17년일출'!A78),0)))} -> 0245
A79: =IFERROR(VLOOKUP($C79,구분표!$A$2:$C$313,2,FALSE),"") -> 보건복지위원회 | B79: =IFERROR(VLOOKUP($C79,구분표!$A$2:$C$313,3,FALSE),"") -> 복지여성실 | C79: 사회복지담당관 | D79: 본예산 | E79: 일반 | F79: 978 | G79: 93 | H79: 노인일자리 및 사회활동지원 확대(지자체보조)(국비/지원) - 노인일자리 및 사회활동지원 | I79: 14488338 | K79: 2417506 | L79: =I79+J79+K79 -> 16905844 | O79: =I79+M79+N79 -> 14488338 | P79: =IF(AND((L79=0),(O79>0)),"O",IF(AND((J79<0),(L79-O79<0)),"O","X")) -> X | R79: 보건복지부 노인지원과 -6443(2016.11.7.)호 | U79: 국도비 | W79: 국비 | X79: 2102179 | Y79: 315327 | Z79: =IF(SUM($J79:$K79)=SUM($X79:$Y79),"OK","검토") -> OK | AC79: =IF($W79<>"도비",IF($U79="국도비","직접입력",SUM($M79:$N79)),) -> 직접입력 | AD79: =IF($W79="도비",SUM(M79:N79),IF($U79="국도비","직접입력",SUM(M79:N79)-AC79)) -> 직접입력 | AE79: =IF(SUM(M79:N79)=SUM(AC79:AD79),"OK","검토") -> OK | AG79: 0245-1 | AI79: =IF(AG79="","",COUNTIF($AG$7:$AG$223,AG79)) -> 6 | AJ79: =IF(W79="","",IF(AND(W79="도비",AG79="세입없음"),"OK",IF(AND(W79<>"도비",AG79<>""),"OK","@@"))) -> OK | AL79: {=IF(C79="","",INDEX(구분표!$I$2:$I$313, MATCH(1,(구분표!$E$2:$E$313='17년일출'!B79)*(구분표!$F$2:$F$313='17년일출'!C79)*(구분표!$G$2:$G$313='17년일출'!A79),0)))} -> 0252
A80: =IFERROR(VLOOKUP($C80,구분표!$A$2:$C$313,2,FALSE),"") -> 보건복지위원회 | B80: =IFERROR(VLOOKUP($C80,구분표!$A$2:$C$313,3,FALSE),"") -> 복지여성실 | C80: 사회복지담당관 | D80: 본예산 | E80: 일반 | F80: 978 | G80: 93 | H80: 노인일자리 및 사회활동지원 확대(지자체보조)(국비/지원) - 수행기관 전담인력 인건비 | I80: 709848 | K80: 163040 | L80: =I80+J80+K80 -> 872888 | O80: =I80+M80+N80 -> 709848 | P80: =IF(AND((L80=0),(O80>0)),"O",IF(AND((J80<0),(L80-O80<0)),"O","X")) -> X | R80: 보건복지부 노인지원과 -6443(2016.11.7.)호 | U80: 국도비 | W80: 국비 | X80: 141774 | Y80: 21266 | Z80: =IF(SUM($J80:$K80)=SUM($X80:$Y80),"OK","검토") -> OK | AC80: =IF($W80<>"도비",IF($U80="국도비","직접입력",SUM($M80:$N80)),) -> 직접입력 | AD80: =IF($W80="도비",SUM(M80:N80),IF($U80="국도비","직접입력",SUM(M80:N80)-AC80)) -> 직접입력 | AE80: =IF(SUM(M80:N80)=SUM(AC80:AD80),"OK","검토") -> OK | AG80: 0245-1 | AI80: =IF(AG80="","",COUNTIF($AG$7:$AG$223,AG80)) -> 6 | AJ80: =IF(W80="","",IF(AND(W80="도비",AG80="세입없음"),"OK",IF(AND(W80<>"도비",AG80<>""),"OK","@@"))) -> OK | AL80: {=IF(C80="","",INDEX(구분표!$I$2:$I$313, MATCH(1,(구분표!$E$2:$E$313='17년일출'!B80)*(구분표!$F$2:$F$313='17년일출'!C80)*(구분표!$G$2:$G$313='17년일출'!A80),0)))} -> 0252
A81: =IFERROR(VLOOKUP($C81,구분표!$A$2:$C$313,2,FALSE),"") -> 보건복지위원회 | B81: =IFERROR(VLOOKUP($C81,구분표!$A$2:$C$313,3,FALSE),"") -> 보건복지국 | C81: 보건정책과 | D81: 본예산 | E81: 일반 | F81: 930 | G81: 95 | H81: 농어촌보건소 등 이전신축(국비/지원) - 농어촌의료서비스개선사업 | I81: 2926829 | J81: -1449741 | L81: =I81+J81+K81 -> 1477088 | O81: =I81+M81+N81 -> 2926829 | R81: 보건복지부 건강정책과 -8370(2016.11.9.)호 | U81: 국도비 | W81: 국비 | X81: -1159790 | Y81: -289951 | Z81: =IF(SUM($J81:$K81)=SUM($X81:$Y81),"OK","검토") -> OK | AC81: =IF($W81<>"도비",IF($U81="국도비","직접입력",SUM($M81:$N81)),) -> 직접입력 | AD81: =IF($W81="도비",SUM(M81:N81),IF($U81="국도비","직접입력",SUM(M81:N81)-AC81)) -> 직접입력 | AE81: =IF(SUM(M81:N81)=SUM(AC81:AD81),"OK","검토") -> OK | AG81: 0248-1 | AI81: =IF(AG81="","",COUNTIF($AG$7:$AG$223,AG81)) -> 1 | AJ81: =IF(W81="","",IF(AND(W81="도비",AG81="세입없음"),"OK",IF(AND(W81<>"도비",AG81<>""),"OK","@@"))) -> OK | AL81: {=IF(C81="","",INDEX(구분표!$I$2:$I$313, MATCH(1,(구분표!$E$2:$E$313='17년일출'!B81)*(구분표!$F$2:$F$313='17년일출'!C81)*(구분표!$G$2:$G$313='17년일출'!A81),0)))} -> 0248
A82: =IFERROR(VLOOKUP($C82,구분표!$A$2:$C$313,2,FALSE),"") -> 보건복지위원회 | B82: =IFERROR(VLOOKUP($C82,구분표!$A$2:$C$313,3,FALSE),"") -> 보건복지국 | C82: 보건정책과 | D82: 본예산 | E82: 일반 | F82: 930 | G82: 98 | H82: 건강생활지원센터 시설.장비 확충(기금/지원) - 건강생활지원센터 확충사업 | I82: 69000 | J82: -69000 | L82: =I82+J82+K82 -> 0 | O82: =I82+M82+N82 -> 69000 | R82: 보건복지부 건강정책과 -8371(2016.11.9.)호 | U82: 국도비 | W82: 기금 | X82: -69000 | Y82: 0 | Z82: =IF(SUM($J82:$K82)=SUM($X82:$Y82),"OK","검토") -> OK | AC82: =IF($W82<>"도비",IF($U82="국도비","직접입력",SUM($M82:$N82)),) -> 직접입력 | AD82: =IF($W82="도비",SUM(M82:N82),IF($U82="국도비","직접입력",SUM(M82:N82)-AC82)) -> 직접입력 | AE82: =IF(SUM(M82:N82)=SUM(AC82:AD82),"OK","검토") -> OK | AG82: 0248-2 | AI82: =IF(AG82="","",COUNTIF($AG$7:$AG$223,AG82)) -> 1 | AJ82: =IF(W82="","",IF(AND(W82="도비",AG82="세입없음"),"OK",IF(AND(W82<>"도비",AG82<>""),"OK","@@"))) -> OK | AL82: {=IF(C82="","",INDEX(구분표!$I$2:$I$313, MATCH(1,(구분표!$E$2:$E$313='17년일출'!B82)*(구분표!$F$2:$F$313='17년일출'!C82)*(구분표!$G$2:$G$313='17년일출'!A82),0)))} -> 0248
A83: =IFERROR(VLOOKUP($C83,구분표!$A$2:$C$313,2,FALSE),"") -> 보건복지위원회 | B83: =IFERROR(VLOOKUP($C83,구분표!$A$2:$C$313,3,FALSE),"") -> 보건복지국 | C83: 건강증진과 | D83: 본예산 | E83: 일반 | F83: 954 | G83: 376 | H83: 지방의료원 기능보강사업(경기도의료원 노후장비보강) (국비/직접 - 경기도의료원 노후 장비보강 | I83: 5476000 | J83: -2750000 | L83: =I83+J83+K83 -> 2726000 | O83: =I83+M83+N83 -> 5476000 | R83: 보건복지부 공공의료과 -7551(2016.11.7.)호 | U83: 국도비 | W83: 국비 | X83: -1375000 | Y83: -1375000 | Z83: =IF(SUM($J83:$K83)=SUM($X83:$Y83),"OK","검토") -> OK | AC83: =IF($W83<>"도비",IF($U83="국도비","직접입력",SUM($M83:$N83)),) -> 직접입력 | AD83: =IF($W83="도비",SUM(M83:N83),IF($U83="국도비","직접입력",SUM(M83:N83)-AC83)) -> 직접입력 | AE83: =IF(SUM(M83:N83)=SUM(AC83:AD83),"OK","검토") -> OK | AG83: 0250-1 | AI83: =IF(AG83="","",COUNTIF($AG$7:$AG$223,AG83)) -> 1 | AJ83: =IF(W83="","",IF(AND(W83="도비",AG83="세입없음"),"OK",IF(AND(W83<>"도비",AG83<>""),"OK","@@"))) -> OK | AL83: {=IF(C83="","",INDEX(구분표!$I$2:$I$313, MATCH(1,(구분표!$E$2:$E$313='17년일출'!B83)*(구분표!$F$2:$F$313='17년일출'!C83)*(구분표!$G$2:$G$313='17년일출'!A83),0)))} -> 0250
A84: =IFERROR(VLOOKUP($C84,구분표!$A$2:$C$313,2,FALSE),"") -> 보건복지위원회 | B84: =IFERROR(VLOOKUP($C84,구분표!$A$2:$C$313,3,FALSE),"") -> 보건복지국 | C84: 복지정책과 | D84: 본예산 | E84: 일반 | F84: 884 | G84: 104 | H84: 더하기 프로젝트(자체/지원) - 더하기 프로젝트 | I84: 500000 | J84: -500000 | L84: =I84+J84+K84 -> 0 | Q84: 노인교통봉사대와 중복 | U84: 도비 | W84: 도비 | Y84: -500000 | Z84: =IF(SUM($J84:$K84)=SUM($X84:$Y84),"OK","검토") -> OK | AC84: =IF($W84<>"도비",IF($U84="국도비","직접입력",SUM($M84:$N84)),) -> 0 | AD84: =IF($W84="도비",SUM(M84:N84),IF($U84="국도비","직접입력",SUM(M84:N84)-AC84)) -> 0 | AE84: =IF(SUM(M84:N84)=SUM(AC84:AD84),"OK","검토") -> OK | AG84: 세입없음 | AI84: =IF(AG84="","",COUNTIF($AG$7:$AG$223,AG84)) -> 41 | AJ84: =IF(W84="","",IF(AND(W84="도비",AG84="세입없음"),"OK",IF(AND(W84<>"도비",AG84<>""),"OK","@@"))) -> OK | AL84: {=IF(C84="","",INDEX(구분표!$I$2:$I$313, MATCH(1,(구분표!$E$2:$E$313='17년일출'!B84)*(구분표!$F$2:$F$313='17년일출'!C84)*(구분표!$G$2:$G$313='17년일출'!A84),0)))} -> 0244
A85: =IFERROR(VLOOKUP($C85,구분표!$A$2:$C$313,2,FALSE),"") -> 보건복지위원회 | B85: =IFERROR(VLOOKUP($C85,구분표!$A$2:$C$313,3,FALSE),"") -> 보건복지국 | C85: 복지정책과 | D85: 본예산 | E85: 일반 | F85: 887 | G85: 167 | H85: 읍면동 지역사회보장협의체 활성화 지원(자체/지원) - 읍면동 지역사회보장협의체 할성화 지원 | I85: 225000 | L85: =I85+J85+K85 -> 225000 | R85: 사업명세서 사업명 오타 수정 - 보장의체 -> 보장협의체 | U85: 도비 | W85: 도비 | Z85: =IF(SUM($J85:$K85)=SUM($X85:$Y85),"OK","검토") -> OK | AG85: 세입없음 | AI85: =IF(AG85="","",COUNTIF($AG$7:$AG$223,AG85)) -> 41 | AJ85: =IF(W85="","",IF(AND(W85="도비",AG85="세입없음"),"OK",IF(AND(W85<>"도비",AG85<>""),"OK","@@"))) -> OK | AL85: {=IF(C85="","",INDEX(구분표!$I$2:$I$313, MATCH(1,(구분표!$E$2:$E$313='17년일출'!B85)*(구분표!$F$2:$F$313='17년일출'!C85)*(구분표!$G$2:$G$313='17년일출'!A85),0)))} -> 0244
A86: =IFERROR(VLOOKUP($C86,구분표!$A$2:$C$313,2,FALSE),"") -> 보건복지위원회 | B86: =IFERROR(VLOOKUP($C86,구분표!$A$2:$C$313,3,FALSE),"") -> 보건복지국 | C86: 복지정책과 | D86: 본예산 | E86: 일반 | F86: 891 | G86: 234 | H86: 전국 사회복지사 체육대회 지원(자체/직접) - 전국 사회복지사 체육대회 지원 | I86: 135000 | J86: -35000 | L86: =I86+J86+K86 -> 100000 | U86: 도비 | W86: 도비 | Y86: -35000 | Z86: =IF(SUM($J86:$K86)=SUM($X86:$Y86),"OK","검토") -> OK | AG86: 세입없음 | AI86: =IF(AG86="","",COUNTIF($AG$7:$AG$223,AG86)) -> 41 | AJ86: =IF(W86="","",IF(AND(W86="도비",AG86="세입없음"),"OK",IF(AND(W86<>"도비",AG86<>""),"OK","@@"))) -> OK | AL86: {=IF(C86="","",INDEX(구분표!$I$2:$I$313, MATCH(1,(구분표!$E$2:$E$313='17년일출'!B86)*(구분표!$F$2:$F$313='17년일출'!C86)*(구분표!$G$2:$G$313='17년일출'!A86),0)))} -> 0244
A87: =IFERROR(VLOOKUP($C87,구분표!$A$2:$C$313,2,FALSE),"") -> 보건복지위원회 | B87: =IFERROR(VLOOKUP($C87,구분표!$A$2:$C$313,3,FALSE),"") -> 보건복지국 | C87: 복지정책과 | D87: 본예산 | E87: 일반 | F87: 893 | G87: 290 | H87: 사회성과보상사업 운영지원(자체/직접) - 보상사업 실무단 운영 | I87: 30000 | J87: -15000 | L87: =I87+J87+K87 -> 15000 | U87: 도비 | W87: 도비 | Y87: -15000 | Z87: =IF(SUM($J87:$K87)=SUM($X87:$Y87),"OK","검토") -> OK | AG87: 세입없음 | AI87: =IF(AG87="","",COUNTIF($AG$7:$AG$223,AG87)) -> 41 | AJ87: =IF(W87="","",IF(AND(W87="도비",AG87="세입없음"),"OK",IF(AND(W87<>"도비",AG87<>""),"OK","@@"))) -> OK | AL87: {=IF(C87="","",INDEX(구분표!$I$2:$I$313, MATCH(1,(구분표!$E$2:$E$313='17년일출'!B87)*(구분표!$F$2:$F$313='17년일출'!C87)*(구분표!$G$2:$G$313='17년일출'!A87),0)))} -> 0244
A88: =IFERROR(VLOOKUP($C88,구분표!$A$2:$C$313,2,FALSE),"") -> 보건복지위원회 | B88: =IFERROR(VLOOKUP($C88,구분표!$A$2:$C$313,3,FALSE),"") -> 보건복지국 | C88: 복지정책과 | D88: 본예산 | E88: 일반 | F88: 893 | G88: 281 | H88: 광역푸드뱅크지원(자체/직접) - 도 푸드뱅크 운영지원 | I88: 70000 | K88: 50000 | L88: =I88+J88+K88 -> 120000 | Q88: 인력증원 1명, 운영비 등 | U88: 도비 | W88: 도비 | Y88: 50000 | Z88: =IF(SUM($J88:$K88)=SUM($X88:$Y88),"OK","검토") -> OK | AG88: 세입없음 | AI88: =IF(AG88="","",COUNTIF($AG$7:$AG$223,AG88)) -> 41 | AJ88: =IF(W88="","",IF(AND(W88="도비",AG88="세입없음"),"OK",IF(AND(W88<>"도비",AG88<>""),"OK","@@"))) -> OK | AL88: {=IF(C88="","",INDEX(구분표!$I$2:$I$313, MATCH(1,(구분표!$E$2:$E$313='17년일출'!B88)*(구분표!$F$2:$F$313='17년일출'!C88)*(구분표!$G$2:$G$313='17년일출'!A88),0)))} -> 0244
A89: =IFERROR(VLOOKUP($C89,구분표!$A$2:$C$313,2,FALSE),"") -> 보건복지위원회 | B89: =IFERROR(VLOOKUP($C89,구분표!$A$2:$C$313,3,FALSE),"") -> 보건복지국 | C89: 사회적일자리과 | D89: 본예산 | E89: 연정 | F89: 898 | G89: 355 | H89: 일하는 청년통장Ⅰ 운영(자체/직접) - 일하는 청년통장 운영 | I89: 700000 | J89: -100000 | L89: =I89+J89+K89 -> 600000 | O89: =I89+M89+N89 -> 700000 | P89: =IF(AND((L89=0),(O89>0)),"O",IF(AND((J89<0),(L89-O89<0)),"O","X")) -> O | U89: 도비 | W89: 도비 | Y89: -100000 | Z89: =IF(SUM($J89:$K89)=SUM($X89:$Y89),"OK","검토") -> OK | AC89: =IF($W89<>"도비",IF($U89="국도비","직접입력",SUM($M89:$N89)),) -> 0 | AD89: =IF($W89="도비",SUM(M89:N89),IF($U89="국도비","직접입력",SUM(M89:N89)-AC89)) -> 0 | AE89: =IF(SUM(M89:N89)=SUM(AC89:AD89),"OK","검토") -> OK | AG89: 세입없음 | AI89: =IF(AG89="","",COUNTIF($AG$7:$AG$223,AG89)) -> 41 | AJ89: =IF(W89="","",IF(AND(W89="도비",AG89="세입없음"),"OK",IF(AND(W89<>"도비",AG89<>""),"OK","@@"))) -> OK | AL89: {=IF(C89="","",INDEX(구분표!$I$2:$I$313, MATCH(1,(구분표!$E$2:$E$313='17년일출'!B89)*(구분표!$F$2:$F$313='17년일출'!C89)*(구분표!$G$2:$G$313='17년일출'!A89),0)))} -> 0245
A90: =IFERROR(VLOOKUP($C90,구분표!$A$2:$C$313,2,FALSE),"") -> 보건복지위원회 | B90: =IFERROR(VLOOKUP($C90,구분표!$A$2:$C$313,3,FALSE),"") -> 보건복지국 | C90: 사회적일자리과 | D90: 본예산 | E90: 일반 | F90: 898 | G90: 359 | H90: 일하는 청년통장Ⅱ 운영(자체/직접) - 일하는 청년통장Ⅱ 운영 | I90: 14256000 | J90: -6778000 | L90: =I90+J90+K90 -> 7478000 | O90: =I90+M90+N90 -> 14256000 | P90: =IF(AND((L90=0),(O90>0)),"O",IF(AND((J90<0),(L90-O90<0)),"O","X")) -> O | Q90: 단계적으로 운영 | U90: 도비 | W90: 도비 | Y90: -6778000 | Z90: =IF(SUM($J90:$K90)=SUM($X90:$Y90),"OK","검토") -> OK | AC90: =IF($W90<>"도비",IF($U90="국도비","직접입력",SUM($M90:$N90)),) -> 0 | AD90: =IF($W90="도비",SUM(M90:N90),IF($U90="국도비","직접입력",SUM(M90:N90)-AC90)) -> 0 | AE90: =IF(SUM(M90:N90)=SUM(AC90:AD90),"OK","검토") -> OK | AG90: 세입없음 | AI90: =IF(AG90="","",COUNTIF($AG$7:$AG$223,AG90)) -> 41 | AJ90: =IF(W90="","",IF(AND(W90="도비",AG90="세입없음"),"OK",IF(AND(W90<>"도비",AG90<>""),"OK","@@"))) -> OK | AL90: {=IF(C90="","",INDEX(구분표!$I$2:$I$313, MATCH(1,(구분표!$E$2:$E$313='17년일출'!B90)*(구분표!$F$2:$F$313='17년일출'!C90)*(구분표!$G$2:$G$313='17년일출'!A90),0)))} -> 0245
A91: =IFERROR(VLOOKUP($C91,구분표!$A$2:$C$313,2,FALSE),"") -> 보건복지위원회 | B91: =IFERROR(VLOOKUP($C91,구분표!$A$2:$C$313,3,FALSE),"") -> 보건복지국 | C91: 노인복지과 | D91: 본예산 | E91: 일반 | F91: 904 | G91: 419 | H91: 대한노인회 경기도연합회 지원(자체/직접) - 대한노인회 경기도연합회 지원 | I91: 667500 | J91: -150000 | L91: =I91+J91+K91 -> 517500 | O91: =I91+M91+N91 -> 667500 | P91: =IF(AND((L91=0),(O91>0)),"O",IF(AND((J91<0),(L91-O91<0)),"O","X")) -> O | U91: 도비 | W91: 도비 | Y91: -150000 | Z91: =IF(SUM($J91:$K91)=SUM($X91:$Y91),"OK","검토") -> OK | AC91: =IF($W91<>"도비",IF($U91="국도비","직접입력",SUM($M91:$N91)),) -> 0 | AD91: =IF($W91="도비",SUM(M91:N91),IF($U91="국도비","직접입력",SUM(M91:N91)-AC91)) -> 0 | AE91: =IF(SUM(M91:N91)=SUM(AC91:AD91),"OK","검토") -> OK | AG91: 세입없음 | AI91: =IF(AG91="","",COUNTIF($AG$7:$AG$223,AG91)) -> 41 | AJ91: =IF(W91="","",IF(AND(W91="도비",AG91="세입없음"),"OK",IF(AND(W91<>"도비",AG91<>""),"OK","@@"))) -> OK | AL91: {=IF(C91="","",INDEX(구분표!$I$2:$I$313, MATCH(1,(구분표!$E$2:$E$313='17년일출'!B91)*(구분표!$F$2:$F$313='17년일출'!C91)*(구분표!$G$2:$G$313='17년일출'!A91),0)))} -> 0246
A92: =IFERROR(VLOOKUP($C92,구분표!$A$2:$C$313,2,FALSE),"") -> 보건복지위원회 | B92: =IFERROR(VLOOKUP($C92,구분표!$A$2:$C$313,3,FALSE),"") -> 보건복지국 | C92: 장애인복지과 | D92: 본예산 | E92: 일반 | F92: 921 | G92: 700 | H92: 교통장애인 재활교육 및 정보교류 한마당(자체/직접) - 교통장애인 재활교육 및 정보교류 한마당 | I92: 20000 | J92: -20000 | L92: =I92+J92+K92 -> 0 | O92: =I92+M92+N92 -> 20000 | P92: =IF(AND((L92=0),(O92>0)),"O",IF(AND((J92<0),(L92-O92<0)),"O","X")) -> O | U92: 도비 | W92: 도비 | Y92: -20000 | Z92: =IF(SUM($J92:$K92)=SUM($X92:$Y92),"OK","검토") -> OK | AC92: =IF($W92<>"도비",IF($U92="국도비","직접입력",SUM($M92:$N92)),) -> 0 | AD92: =IF($W92="도비",SUM(M92:N92),IF($U92="국도비","직접입력",SUM(M92:N92)-AC92)) -> 0 | AE92: =IF(SUM(M92:N92)=SUM(AC92:AD92),"OK","검토") -> OK | AG92: 세입없음 | AI92: =IF(AG92="","",COUNTIF($AG$7:$AG$223,AG92)) -> 41 | AJ92: =IF(W92="","",IF(AND(W92="도비",AG92="세입없음"),"OK",IF(AND(W92<>"도비",AG92<>""),"OK","@@"))) -> OK | AL92: {=IF(C92="","",INDEX(구분표!$I$2:$I$313, MATCH(1,(구분표!$E$2:$E$313='17년일출'!B92)*(구분표!$F$2:$F$313='17년일출'!C92)*(구분표!$G$2:$G$313='17년일출'!A92),0)))} -> 0247
A93: =IFERROR(VLOOKUP($C93,구분표!$A$2:$C$313,2,FALSE),"") -> 보건복지위원회 | B93: =IFERROR(VLOOKUP($C93,구분표!$A$2:$C$313,3,FALSE),"") -> 보건복지국 | C93: 장애인복지과 | D93: 본예산 | E93: 일반 | F93: 922 | G93: 718 | H93: 장애인단체 육성 및 지원(자체/직접) - 장애인 방송영상 제작교육 | I93: 30803 | K93: 20000 | L93: =I93+J93+K93 -> 50803 | O93: =I93+M93+N93 -> 30803 | P93: =IF(AND((L93=0),(O93>0)),"O",IF(AND((J93<0),(L93-O93<0)),"O","X")) -> X | Q93: 2016년 수준으로 복귀 | U93: 도비 | W93: 도비 | Y93: 20000 | Z93: =IF(SUM($J93:$K93)=SUM($X93:$Y93),"OK","검토") -> OK | AC93: =IF($W93<>"도비",IF($U93="국도비","직접입력",SUM($M93:$N93)),) -> 0 | AD93: =IF($W93="도비",SUM(M93:N93),IF($U93="국도비","직접입력",SUM(M93:N93)-AC93)) -> 0 | AE93: =IF(SUM(M93:N93)=SUM(AC93:AD93),"OK","검토") -> OK | AG93: 세입없음 | AI93: =IF(AG93="","",COUNTIF($AG$7:$AG$223,AG93)) -> 41 | AJ93: =IF(W93="","",IF(AND(W93="도비",AG93="세입없음"),"OK",IF(AND(W93<>"도비",AG93<>""),"OK","@@"))) -> OK | AL93: {=IF(C93="","",INDEX(구분표!$I$2:$I$313, MATCH(1,(구분표!$E$2:$E$313='17년일출'!B93)*(구분표!$F$2:$F$313='17년일출'!C93)*(구분표!$G$2:$G$313='17년일출'!A93),0)))} -> 0247
A94: =IFERROR(VLOOKUP($C94,구분표!$A$2:$C$313,2,FALSE),"") -> 보건복지위원회 | B94: =IFERROR(VLOOKUP($C94,구분표!$A$2:$C$313,3,FALSE),"") -> 보건복지국 | C94: 장애인복지과 | D94: 본예산 | E94: 일반 | F94: 922 | G94: 718 | H94: 장애인단체 육성 및 지원(자체/직접) - 점자 및 소리소식지 제작・운영 지원 | I94: 87950 | K94: 35811 | L94: =I94+J94+K94 -> 123761 | O94: =I94+M94+N94 -> 87950 | P94: =IF(AND((L94=0),(O94>0)),"O",IF(AND((J94<0),(L94-O94<0)),"O","X")) -> X | Q94: 2016년 수준으로 복귀 | U94: 도비 | W94: 도비 | Y94: 35811 | Z94: =IF(SUM($J94:$K94)=SUM($X94:$Y94),"OK","검토") -> OK | AC94: =IF($W94<>"도비",IF($U94="국도비","직접입력",SUM($M94:$N94)),) -> 0 | AD94: =IF($W94="도비",SUM(M94:N94),IF($U94="국도비","직접입력",SUM(M94:N94)-AC94)) -> 0 | AE94: =IF(SUM(M94:N94)=SUM(AC94:AD94),"OK","검토") -> OK | AG94: 세입없음 | AI94: =IF(AG94="","",COUNTIF($AG$7:$AG$223,AG94)) -> 41 | AJ94: =IF(W94="","",IF(AND(W94="도비",AG94="세입없음"),"OK",IF(AND(W94<>"도비",AG94<>""),"OK","@@"))) -> OK | AL94: {=IF(C94="","",INDEX(구분표!$I$2:$I$313, MATCH(1,(구분표!$E$2:$E$313='17년일출'!B94)*(구분표!$F$2:$F$313='17년일출'!C94)*(구분표!$G$2:$G$313='17년일출'!A94),0)))} -> 0247
A95: =IFERROR(VLOOKUP($C95,구분표!$A$2:$C$313,2,FALSE),"") -> 보건복지위원회 | B95: =IFERROR(VLOOKUP($C95,구분표!$A$2:$C$313,3,FALSE),"") -> 보건복지국 | C95: 장애인복지과 | D95: 본예산 | E95: 일반 | F95: 925 | G95: 756 | H95: 장애인복지시설 운영 지원(자체/지원) - 개인운영 장애인거주시설 지원 | I95: 554400 | K95: 140680 | L95: =I95+J95+K95 -> 695080 | O95: =I95+M95+N95 -> 554400 | Q95: 2016년 수준으로 복귀 남부 : 140,680천원 | U95: 도비 | W95: 도비 | Y95: 140680 | Z95: =IF(SUM($J95:$K95)=SUM($X95:$Y95),"OK","검토") -> OK | AC95: =IF($W95<>"도비",IF($U95="국도비","직접입력",SUM($M95:$N95)),) -> 0 | AD95: =IF($W95="도비",SUM(M95:N95),IF($U95="국도비","직접입력",SUM(M95:N95)-AC95)) -> 0 | AE95: =IF(SUM(M95:N95)=SUM(AC95:AD95),"OK","검토") -> OK | AG95: 세입없음 | AI95: =IF(AG95="","",COUNTIF($AG$7:$AG$223,AG95)) -> 41 | AJ95: =IF(W95="","",IF(AND(W95="도비",AG95="세입없음"),"OK",IF(AND(W95<>"도비",AG95<>""),"OK","@@"))) -> OK | AL95: {=IF(C95="","",INDEX(구분표!$I$2:$I$313, MATCH(1,(구분표!$E$2:$E$313='17년일출'!B95)*(구분표!$F$2:$F$313='17년일출'!C95)*(구분표!$G$2:$G$313='17년일출'!A95),0)))} -> 0247
A96: =IFERROR(VLOOKUP($C96,구분표!$A$2:$C$313,2,FALSE),"") -> 보건복지위원회 | B96: =IFERROR(VLOOKUP($C96,구분표!$A$2:$C$313,3,FALSE),"") -> 복지여성실 | C96: 사회복지담당관 | D96: 본예산 | E96: 일반 | F96: 993 | G96: 319 | H96: 장애인복지시설 운영 지원(자체/지원) - 개인운영 장애인거주시설 지원 | I96: 593637 | K96: 345003 | L96: =I96+J96+K96 -> 938640 | O96: =I96+M96+N96 -> 593637 | Q96: 2016년 수준으로 복귀 북부 : 345,003천원 | U96: 도비 | W96: 도비 | Y96: 345003 | Z96: =IF(SUM($J96:$K96)=SUM($X96:$Y96),"OK","검토") -> OK | AC96: =IF($W96<>"도비",IF($U96="국도비","직접입력",SUM($M96:$N96)),) -> 0 | AD96: =IF($W96="도비",SUM(M96:N96),IF($U96="국도비","직접입력",SUM(M96:N96)-AC96)) -> 0 | AE96: =IF(SUM(M96:N96)=SUM(AC96:AD96),"OK","검토") -> OK | AG96: 세입없음 | AI96: =IF(AG96="","",COUNTIF($AG$7:$AG$223,AG96)) -> 41 | AJ96: =IF(W96="","",IF(AND(W96="도비",AG96="세입없음"),"OK",IF(AND(W96<>"도비",AG96<>""),"OK","@@"))) -> OK | AL96: {=IF(C96="","",INDEX(구분표!$I$2:$I$313, MATCH(1,(구분표!$E$2:$E$313='17년일출'!B96)*(구분표!$F$2:$F$313='17년일출'!C96)*(구분표!$G$2:$G$313='17년일출'!A96),0)))} -> 0252
A97: =IFERROR(VLOOKUP($C97,구분표!$A$2:$C$313,2,FALSE),"") -> 보건복지위원회 | B97: =IFERROR(VLOOKUP($C97,구분표!$A$2:$C$313,3,FALSE),"") -> 보건복지국 | C97: 장애인복지과 | D97: 본예산 | E97: 일반 | F97: 925 | G97: 756 | H97: 장애인복지시설 운영 지원(자체/지원) - 장애인주간보호시설 운영 | I97: 800000 | K97: 50000 | L97: =I97+J97+K97 -> 850000 | O97: =I97+M97+N97 -> 800000 | Q97: 지원확대(6개월 이상 운영한곳) | U97: 도비 | W97: 도비 | Y97: 50000 | Z97: =IF(SUM($J97:$K97)=SUM($X97:$Y97),"OK","검토") -> OK | AC97: =IF($W97<>"도비",IF($U97="국도비","직접입력",SUM($M97:$N97)),) -> 0 | AD97: =IF($W97="도비",SUM(M97:N97),IF($U97="국도비","직접입력",SUM(M97:N97)-AC97)) -> 0 | AE97: =IF(SUM(M97:N97)=SUM(AC97:AD97),"OK","검토") -> OK | AG97: 세입없음 | AI97: =IF(AG97="","",COUNTIF($AG$7:$AG$223,AG97)) -> 41 | AJ97: =IF(W97="","",IF(AND(W97="도비",AG97="세입없음"),"OK",IF(AND(W97<>"도비",AG97<>""),"OK","@@"))) -> OK | AL97: {=IF(C97="","",INDEX(구분표!$I$2:$I$313, MATCH(1,(구분표!$E$2:$E$313='17년일출'!B97)*(구분표!$F$2:$F$313='17년일출'!C97)*(구분표!$G$2:$G$313='17년일출'!A97),0)))} -> 0247
A98: =IFERROR(VLOOKUP($C98,구분표!$A$2:$C$313,2,FALSE),"") -> 보건복지위원회 | B98: =IFERROR(VLOOKUP($C98,구분표!$A$2:$C$313,3,FALSE),"") -> 보건복지국 | C98: 장애인복지과 | D98: 본예산 | E98: 일반 | F98: 926 | G98: 776 | H98: 장애인거주시설 자율지도단 운영(자체/직접) - 장애인거주시설 자율지도단 운영 | I98: 100000 | J98: -100000 | L98: =I98+J98+K98 -> 0 | O98: =I98+M98+N98 -> 100000 | Q98: 장애인 인권지원센터와 중복사업 | U98: 도비 | W98: 도비 | Y98: -100000 | Z98: =IF(SUM($J98:$K98)=SUM($X98:$Y98),"OK","검토") -> OK | AC98: =IF($W98<>"도비",IF($U98="국도비","직접입력",SUM($M98:$N98)),) -> 0 | AD98: =IF($W98="도비",SUM(M98:N98),IF($U98="국도비","직접입력",SUM(M98:N98)-AC98)) -> 0 | AE98: =IF(SUM(M98:N98)=SUM(AC98:AD98),"OK","검토") -> OK | AG98: 세입없음 | AI98: =IF(AG98="","",COUNTIF($AG$7:$AG$223,AG98)) -> 41 | AJ98: =IF(W98="","",IF(AND(W98="도비",AG98="세입없음"),"OK",IF(AND(W98<>"도비",AG98<>""),"OK","@@"))) -> OK | AL98: {=IF(C98="","",INDEX(구분표!$I$2:$I$313, MATCH(1,(구분표!$E$2:$E$313='17년일출'!B98)*(구분표!$F$2:$F$313='17년일출'!C98)*(구분표!$G$2:$G$313='17년일출'!A98),0)))} -> 0247
A99: =IFERROR(VLOOKUP($C99,구분표!$A$2:$C$313,2,FALSE),"") -> 보건복지위원회 | B99: =IFERROR(VLOOKUP($C99,구분표!$A$2:$C$313,3,FALSE),"") -> 보건복지국 | C99: 보건정책과 | D99: 본예산 | E99: 일반 | F99: 932 | G99: 122 | H99: 경기도 공공심야약국 운영(자체/직접) - 경기도 공공심야약국 운영 | I99: 100000 | K99: 107000 | L99: =I99+J99+K99 -> 207000 | Q99: 2016년 수준, 홍보비 조정 | U99: 도비 | W99: 도비 | Y99: 107000 | Z99: =IF(SUM($J99:$K99)=SUM($X99:$Y99),"OK","검토") -> OK | AG99: 세입없음 | AI99: =IF(AG99="","",COUNTIF($AG$7:$AG$223,AG99)) -> 41 | AJ99: =IF(W99="","",IF(AND(W99="도비",AG99="세입없음"),"OK",IF(AND(W99<>"도비",AG99<>""),"OK","@@"))) -> OK | AL99: {=IF(C99="","",INDEX(구분표!$I$2:$I$313, MATCH(1,(구분표!$E$2:$E$313='17년일출'!B99)*(구분표!$F$2:$F$313='17년일출'!C99)*(구분표!$G$2:$G$313='17년일출'!A99),0)))} -> 0248
A100: =IFERROR(VLOOKUP($C100,구분표!$A$2:$C$313,2,FALSE),"") -> 보건복지위원회 | B100: =IFERROR(VLOOKUP($C100,구분표!$A$2:$C$313,3,FALSE),"") -> 보건복지국 | C100: 보건정책과 | D100: 본예산 | E100: 일반 | F100: 934 | G100: 155 | H100: 중증외상센터 추진단 운영(자체/직접) - 증증외상환자 예방가능 사망률 관리시스템 구축 | I100: 30000 | J100: -30000 | L100: =I100+J100+K100 -> 0 | U100: 도비 | W100: 도비 | Y100: -30000 | Z100: =IF(SUM($J100:$K100)=SUM($X100:$Y100),"OK","검토") -> OK | AG100: 세입없음 | AI100: =IF(AG100="","",COUNTIF($AG$7:$AG$223,AG100)) -> 41 | AJ100: =IF(W100="","",IF(AND(W100="도비",AG100="세입없음"),"OK",IF(AND(W100<>"도비",AG100<>""),"OK","@@"))) -> OK | AL100: {=IF(C100="","",INDEX(구분표!$I$2:$I$313, MATCH(1,(구분표!$E$2:$E$313='17년일출'!B100)*(구분표!$F$2:$F$313='17년일출'!C100)*(구분표!$G$2:$G$313='17년일출'!A100),0)))} -> 0248
...

Sheet 17년특입
A1: 2017년도 경기도 특별회계 세입 예산 조정(안)
A2: □ 세입예산 | V2: 세입=세출 | AA2: 세입=세출
Q3: (단위 : 천원) | V3: =IF(V6='17년일출'!X6,"OK","@@") -> @@ | X3: =IF(COUNTIF(X6:X39,"검토")>0,"@@","OK") -> OK | AA3: =IF(AA6='17년일출'!AC6,"OK","@@") -> OK | AC3: =IF(COUNTIF(AC6:AC39,"검토")>0,"@@","OK") -> OK
A4: 위원회명 | B4: 실국명 | C4: 부서명 | D4: 편성 구분 | E4: 예산안 페이지 | F4: 사업명 | G4: 예산안 (가) | H4: 상임위 예산안 조정액(나) | J4: 상임위 조정 예산안 (다=가+나) | K4: 예결위 예산안 조정액(라) | M4: 예결위 조정 예산안 (마=가+라) | N4: 동의 대상 | O4: 상임위 변경사유 (심의 참고자료) | P4: 비고 (상임위 부대의견) | Q4: 비고 (부대의견) | S4: 국도비 등 여부 | U4: 재원 | V4: 상임위 재원별 증감액 | Z4: 재원 | AA4: 예결위 재원별 증감액 | AE4: 세입번호 | AG4: 실국부서 코드 | AI4: 추가 내시 등 | AK4: 상임위 세입 검증 | AO4: 예결위 세입 검증
H5: 감액 | I5: 증액 | K5: 감액 | L5: 증액 | V5: 국비 등 | W5: 도비 | X5: 검증 | AA5: 국비 등 | AB5: 도비 | AC5: 검증 | AK5: 국비 증감액 | AL5: 건수 | AM5: 검증 | AO5: 국비 증감액 | AP5: 건수 | AQ5: 검증
A6: 합 계 | G6: =SUBTOTAL(9,G7:G39)/2 -> 0 | H6: =SUBTOTAL(9,H7:H39)/2 -> 0 | I6: =SUBTOTAL(9,I7:I39)/2 -> 0 | J6: =SUBTOTAL(9,J7:J39)/2 -> 0 | K6: =SUBTOTAL(9,K7:K39)/2 -> 0 | L6: =SUBTOTAL(9,L7:L39)/2 -> 0 | M6: =SUBTOTAL(9,M7:M39)/2 -> 0 | N6: =SUBTOTAL(9,N7:N39)/2 -> 0 | Q6: =SUBTOTAL(9,Q7:Q39)/2 -> 0 | V6: =SUBTOTAL(9,V7:V39) -> 0 | W6: =SUBTOTAL(9,W7:W39) -> 0 | X6: =IF(SUM($H6:$I6)=SUM($V6:$W6),"OK","검토") -> OK | AA6: =SUBTOTAL(9,AA7:AA39) -> 0 | AB6: =SUBTOTAL(9,AB7:AB39) -> 0 | AC6: =IF(SUM($H6:$I6)=SUM($V6:$W6),"OK","검토") -> OK | AK6: =SUBTOTAL(9,AK7:AK39) -> 0 | AL6: =SUBTOTAL(9,AL7:AL39) -> 0 | AM6: =IF(COUNTIF(AM7:AM39,"@@")>0,"@@","OK") -> OK | AO6: =SUBTOTAL(9,AO7:AO39) -> 0 | AP6: =SUBTOTAL(9,AP7:AP39) -> 0 | AQ6: =IF(COUNTIF(AQ7:AQ39,"@@")>0,"@@","OK") -> OK
A7: ( 특별회계) | G7: =SUM(G8:G17) -> 0 | H7: =SUM(H8:H17) -> 0 | I7: =SUM(I8:I17) -> 0 | J7: =SUM(J8:J17) -> 0 | K7: =SUM(K8:K17) -> 0 | L7: =SUM(L8:L17) -> 0 | M7: =SUM(M8:M17) -> 0 | V7: =IF($U7<>"도비",IF($S7="국도비","직접입력",SUM($H7:$I7)),) -> 0 | W7: =IF($U7="도비",SUM($H7:$I7),IF($S7="국도비","직접입력",SUM($H7:$I7)-$V7)) -> 0 | X7: =IF(SUM($H7:$I7)=SUM($V7:$W7),"OK","검토") -> OK | AA7: =IF($U7<>"도비",IF($S7="국도비","직접입력",SUM($K7:$L7)),) -> 0 | AB7: =IF($U7="도비",SUM(K7:L7),IF($S7="국도비","직접입력",SUM(K7:L7)-AA7)) -> 0 | AC7: =IF(SUM(K7:L7)=SUM(AA7:AB7),"OK","검토") -> OK | AE7: =IF(AG7="","",IF(U7="도비","세입없음",CONCATENATE(AG7,"-",COUNTIF($AG$7:AG7,AG7)))) | AG7: {=IF(C7="","",INDEX(구분표!$I$2:$I$313, MATCH(1,(구분표!$E$2:$E$313='17년특입'!B7)*(구분표!$F$2:$F$313='17년특입'!C7)*(구분표!$G$2:$G$313='17년특입'!A7),0)))} | AK7: =IF(AE7="",0,SUMIFS('17년일출'!$X$6:$X$223,'17년일출'!$AG$6:$AG$223,'17년특입'!$AE7)) -> 0 | AL7: =IF(AE7="","",COUNTIFS('17년일출'!$AG$6:$AG$223,'17년특입'!AE7)) | AM7: =IF(V7=AK7,"OK","@@") -> OK | AO7: =IF(AE7="",0,SUMIFS('17년일출'!$AC$6:$AC$223,'17년일출'!$AG$6:$AG$223,'17년특입'!$AE7)) -> 0 | AP7: =IF(AE7="","",COUNTIFS('17년일출'!$AG$6:$AG$223,AE7)) | AQ7: =IF(AA7=AO7,"OK","@@") -> OK
A8: =IFERROR(VLOOKUP($C8,구분표!$A$2:$C$313,2,FALSE),"") | B8: =IFERROR(VLOOKUP($C8,구분표!$A$2:$C$313,3,FALSE),"") | D8: 본예산 | J8: =SUM(G8:I8) -> 0 | M8: =SUM(G8,K8,L8) -> 0 | N8: =IF(AND((J8=0),(M8>0)),"O",IF(AND((H8<0),(J8-M8<0)),"O","X")) -> X | V8: =IF($U8<>"도비",IF($S8="국도비","직접입력",SUM($H8:$I8)),) -> 0 | W8: =IF($U8="도비",SUM($H8:$I8),IF($S8="국도비","직접입력",SUM($H8:$I8)-$V8)) -> 0 | X8: =IF(SUM($H8:$I8)=SUM($V8:$W8),"OK","검토") -> OK | AA8: =IF($U8<>"도비",IF($S8="국도비","직접입력",SUM($K8:$L8)),) -> 0 | AB8: =IF($U8="도비",SUM(K8:L8),IF($S8="국도비","직접입력",SUM(K8:L8)-AA8)) -> 0 | AC8: =IF(SUM(K8:L8)=SUM(AA8:AB8),"OK","검토") -> OK | AE8: =IF(AG8="","",IF(U8="도비","세입없음",CONCATENATE(AG8,"-",COUNTIF($AG$7:AG8,AG8)))) | AG8: {=IF(C8="","",INDEX(구분표!$I$2:$I$313, MATCH(1,(구분표!$E$2:$E$313='17년특입'!B8)*(구분표!$F$2:$F$313='17년특입'!C8)*(구분표!$G$2:$G$313='17년특입'!A8),0)))} | AK8: =IF(AE8="",0,SUMIFS('17년일출'!$X$6:$X$223,'17년일출'!$AG$6:$AG$223,'17년특입'!$AE8)) -> 0 | AL8: =IF(AE8="","",COUNTIFS('17년일출'!$AG$6:$AG$223,'17년특입'!AE8)) | AM8: =IF(V8=AK8,"OK","@@") -> OK | AO8: =IF(AE8="",0,SUMIFS('17년일출'!$AC$6:$AC$223,'17년일출'!$AG$6:$AG$223,'17년특입'!$AE8)) -> 0 | AP8: =IF(AE8="","",COUNTIFS('17년일출'!$AG$6:$AG$223,AE8)) | AQ8: =IF(AA8=AO8,"OK","@@") -> OK
A9: =IFERROR(VLOOKUP($C9,구분표!$A$2:$C$313,2,FALSE),"") | B9: =IFERROR(VLOOKUP($C9,구분표!$A$2:$C$313,3,FALSE),"") | D9: 신규 | J9: =SUM(G9:I9) -> 0 | M9: =SUM(G9,K9,L9) -> 0 | N9: =IF(AND((J9=0),(M9>0)),"O",IF(AND((H9<0),(J9-M9<0)),"O","X")) -> X | V9: =IF($U9<>"도비",IF($S9="국도비","직접입력",SUM($H9:$I9)),) -> 0 | W9: =IF($U9="도비",SUM($H9:$I9),IF($S9="국도비","직접입력",SUM($H9:$I9)-$V9)) -> 0 | X9: =IF(SUM($H9:$I9)=SUM($V9:$W9),"OK","검토") -> OK | AA9: =IF($U9<>"도비",IF($S9="국도비","직접입력",SUM($K9:$L9)),) -> 0 | AB9: =IF($U9="도비",SUM(K9:L9),IF($S9="국도비","직접입력",SUM(K9:L9)-AA9)) -> 0 | AC9: =IF(SUM(K9:L9)=SUM(AA9:AB9),"OK","검토") -> OK | AE9: =IF(AG9="","",IF(U9="도비","세입없음",CONCATENATE(AG9,"-",COUNTIF($AG$7:AG9,AG9)))) | AG9: {=IF(C9="","",INDEX(구분표!$I$2:$I$313, MATCH(1,(구분표!$E$2:$E$313='17년특입'!B9)*(구분표!$F$2:$F$313='17년특입'!C9)*(구분표!$G$2:$G$313='17년특입'!A9),0)))} | AK9: =IF(AE9="",0,SUMIFS('17년일출'!$X$6:$X$223,'17년일출'!$AG$6:$AG$223,'17년특입'!$AE9)) -> 0 | AL9: =IF(AE9="","",COUNTIFS('17년일출'!$AG$6:$AG$223,'17년특입'!AE9)) | AM9: =IF(V9=AK9,"OK","@@") -> OK | AO9: =IF(AE9="",0,SUMIFS('17년일출'!$AC$6:$AC$223,'17년일출'!$AG$6:$AG$223,'17년특입'!$AE9)) -> 0 | AP9: =IF(AE9="","",COUNTIFS('17년일출'!$AG$6:$AG$223,AE9)) | AQ9: =IF(AA9=AO9,"OK","@@") -> OK
A10: =IFERROR(VLOOKUP($C10,구분표!$A$2:$C$313,2,FALSE),"") | B10: =IFERROR(VLOOKUP($C10,구분표!$A$2:$C$313,3,FALSE),"") | J10: =SUM(G10:I10) -> 0 | M10: =SUM(G10,K10,L10) -> 0 | N10: =IF(AND((J10=0),(M10>0)),"O",IF(AND((H10<0),(J10-M10<0)),"O","X")) -> X | V10: =IF($U10<>"도비",IF($S10="국도비","직접입력",SUM($H10:$I10)),) -> 0 | W10: =IF($U10="도비",SUM($H10:$I10),IF($S10="국도비","직접입력",SUM($H10:$I10)-$V10)) -> 0 | X10: =IF(SUM($H10:$I10)=SUM($V10:$W10),"OK","검토") -> OK | AA10: =IF($U10<>"도비",IF($S10="국도비","직접입력",SUM($K10:$L10)),) -> 0 | AB10: =IF($U10="도비",SUM(K10:L10),IF($S10="국도비","직접입력",SUM(K10:L10)-AA10)) -> 0 | AC10: =IF(SUM(K10:L10)=SUM(AA10:AB10),"OK","검토") -> OK | AE10: =IF(AG10="","",IF(U10="도비","세입없음",CONCATENATE(AG10,"-",COUNTIF($AG$7:AG10,AG10)))) | AG10: {=IF(C10="","",INDEX(구분표!$I$2:$I$313, MATCH(1,(구분표!$E$2:$E$313='17년특입'!B10)*(구분표!$F$2:$F$313='17년특입'!C10)*(구분표!$G$2:$G$313='17년특입'!A10),0)))} | AK10: =IF(AE10="",0,SUMIFS('17년일출'!$X$6:$X$223,'17년일출'!$AG$6:$AG$223,'17년특입'!$AE10)) -> 0 | AL10: =IF(AE10="","",COUNTIFS('17년일출'!$AG$6:$AG$223,'17년특입'!AE10)) | AM10: =IF(V10=AK10,"OK","@@") -> OK | AO10: =IF(AE10="",0,SUMIFS('17년일출'!$AC$6:$AC$223,'17년일출'!$AG$6:$AG$223,'17년특입'!$AE10)) -> 0 | AP10: =IF(AE10="","",COUNTIFS('17년일출'!$AG$6:$AG$223,AE10)) | AQ10: =IF(AA10=AO10,"OK","@@") -> OK
A11: =IFERROR(VLOOKUP($C11,구분표!$A$2:$C$313,2,FALSE),"") | B11: =IFERROR(VLOOKUP($C11,구분표!$A$2:$C$313,3,FALSE),"") | J11: =SUM(G11:I11) -> 0 | M11: =SUM(G11,K11,L11) -> 0 | N11: =IF(AND((J11=0),(M11>0)),"O",IF(AND((H11<0),(J11-M11<0)),"O","X")) -> X | V11: =IF($U11<>"도비",IF($S11="국도비","직접입력",SUM($H11:$I11)),) -> 0 | W11: =IF($U11="도비",SUM($H11:$I11),IF($S11="국도비","직접입력",SUM($H11:$I11)-$V11)) -> 0 | X11: =IF(SUM($H11:$I11)=SUM($V11:$W11),"OK","검토") -> OK | AA11: =IF($U11<>"도비",IF($S11="국도비","직접입력",SUM($K11:$L11)),) -> 0 | AB11: =IF($U11="도비",SUM(K11:L11),IF($S11="국도비","직접입력",SUM(K11:L11)-AA11)) -> 0 | AC11: =IF(SUM(K11:L11)=SUM(AA11:AB11),"OK","검토") -> OK | AE11: =IF(AG11="","",IF(U11="도비","세입없음",CONCATENATE(AG11,"-",COUNTIF($AG$7:AG11,AG11)))) | AG11: {=IF(C11="","",INDEX(구분표!$I$2:$I$313, MATCH(1,(구분표!$E$2:$E$313='17년특입'!B11)*(구분표!$F$2:$F$313='17년특입'!C11)*(구분표!$G$2:$G$313='17년특입'!A11),0)))} | AK11: =IF(AE11="",0,SUMIFS('17년일출'!$X$6:$X$223,'17년일출'!$AG$6:$AG$223,'17년특입'!$AE11)) -> 0 | AL11: =IF(AE11="","",COUNTIFS('17년일출'!$AG$6:$AG$223,'17년특입'!AE11)) | AM11: =IF(V11=AK11,"OK","@@") -> OK | AO11: =IF(AE11="",0,SUMIFS('17년일출'!$AC$6:$AC$223,'17년일출'!$AG$6:$AG$223,'17년특입'!$AE11)) -> 0 | AP11: =IF(AE11="","",COUNTIFS('17년일출'!$AG$6:$AG$223,AE11)) | AQ11: =IF(AA11=AO11,"OK","@@") -> OK
A12: =IFERROR(VLOOKUP($C12,구분표!$A$2:$C$313,2,FALSE),"") | B12: =IFERROR(VLOOKUP($C12,구분표!$A$2:$C$313,3,FALSE),"") | J12: =SUM(G12:I12) -> 0 | M12: =SUM(G12,K12,L12) -> 0 | N12: =IF(AND((J12=0),(M12>0)),"O",IF(AND((H12<0),(J12-M12<0)),"O","X")) -> X | V12: =IF($U12<>"도비",IF($S12="국도비","직접입력",SUM($H12:$I12)),) -> 0 | W12: =IF($U12="도비",SUM($H12:$I12),IF($S12="국도비","직접입력",SUM($H12:$I12)-$V12)) -> 0 | X12: =IF(SUM($H12:$I12)=SUM($V12:$W12),"OK","검토") -> OK | AA12: =IF($U12<>"도비",IF($S12="국도비","직접입력",SUM($K12:$L12)),) -> 0 | AB12: =IF($U12="도비",SUM(K12:L12),IF($S12="국도비","직접입력",SUM(K12:L12)-AA12)) -> 0 | AC12: =IF(SUM(K12:L12)=SUM(AA12:AB12),"OK","검토") -> OK | AE12: =IF(AG12="","",IF(U12="도비","세입없음",CONCATENATE(AG12,"-",COUNTIF($AG$7:AG12,AG12)))) | AG12: {=IF(C12="","",INDEX(구분표!$I$2:$I$313, MATCH(1,(구분표!$E$2:$E$313='17년특입'!B12)*(구분표!$F$2:$F$313='17년특입'!C12)*(구분표!$G$2:$G$313='17년특입'!A12),0)))} | AK12: =IF(AE12="",0,SUMIFS('17년일출'!$X$6:$X$223,'17년일출'!$AG$6:$AG$223,'17년특입'!$AE12)) -> 0 | AL12: =IF(AE12="","",COUNTIFS('17년일출'!$AG$6:$AG$223,'17년특입'!AE12)) | AM12: =IF(V12=AK12,"OK","@@") -> OK | AO12: =IF(AE12="",0,SUMIFS('17년일출'!$AC$6:$AC$223,'17년일출'!$AG$6:$AG$223,'17년특입'!$AE12)) -> 0 | AP12: =IF(AE12="","",COUNTIFS('17년일출'!$AG$6:$AG$223,AE12)) | AQ12: =IF(AA12=AO12,"OK","@@") -> OK
A13: =IFERROR(VLOOKUP($C13,구분표!$A$2:$C$313,2,FALSE),"") | B13: =IFERROR(VLOOKUP($C13,구분표!$A$2:$C$313,3,FALSE),"") | J13: =SUM(G13:I13) -> 0 | M13: =SUM(G13,K13,L13) -> 0 | N13: =IF(AND((J13=0),(M13>0)),"O",IF(AND((H13<0),(J13-M13<0)),"O","X")) -> X | V13: =IF($U13<>"도비",IF($S13="국도비","직접입력",SUM($H13:$I13)),) -> 0 | W13: =IF($U13="도비",SUM($H13:$I13),IF($S13="국도비","직접입력",SUM($H13:$I13)-$V13)) -> 0 | X13: =IF(SUM($H13:$I13)=SUM($V13:$W13),"OK","검토") -> OK | AA13: =IF($U13<>"도비",IF($S13="국도비","직접입력",SUM($K13:$L13)),) -> 0 | AB13: =IF($U13="도비",SUM(K13:L13),IF($S13="국도비","직접입력",SUM(K13:L13)-AA13)) -> 0 | AC13: =IF(SUM(K13:L13)=SUM(AA13:AB13),"OK","검토") -> OK | AE13: =IF(AG13="","",IF(U13="도비","세입없음",CONCATENATE(AG13,"-",COUNTIF($AG$7:AG13,AG13)))) | AG13: {=IF(C13="","",INDEX(구분표!$I$2:$I$313, MATCH(1,(구분표!$E$2:$E$313='17년특입'!B13)*(구분표!$F$2:$F$313='17년특입'!C13)*(구분표!$G$2:$G$313='17년특입'!A13),0)))} | AK13: =IF(AE13="",0,SUMIFS('17년일출'!$X$6:$X$223,'17년일출'!$AG$6:$AG$223,'17년특입'!$AE13)) -> 0 | AL13: =IF(AE13="","",COUNTIFS('17년일출'!$AG$6:$AG$223,'17년특입'!AE13)) | AM13: =IF(V13=AK13,"OK","@@") -> OK | AO13: =IF(AE13="",0,SUMIFS('17년일출'!$AC$6:$AC$223,'17년일출'!$AG$6:$AG$223,'17년특입'!$AE13)) -> 0 | AP13: =IF(AE13="","",COUNTIFS('17년일출'!$AG$6:$AG$223,AE13)) | AQ13: =IF(AA13=AO13,"OK","@@") -> OK
A14: =IFERROR(VLOOKUP($C14,구분표!$A$2:$C$313,2,FALSE),"") | B14: =IFERROR(VLOOKUP($C14,구분표!$A$2:$C$313,3,FALSE),"") | J14: =SUM(G14:I14) -> 0 | M14: =SUM(G14,K14,L14) -> 0 | N14: =IF(AND((J14=0),(M14>0)),"O",IF(AND((H14<0),(J14-M14<0)),"O","X")) -> X | V14: =IF($U14<>"도비",IF($S14="국도비","직접입력",SUM($H14:$I14)),) -> 0 | W14: =IF($U14="도비",SUM($H14:$I14),IF($S14="국도비","직접입력",SUM($H14:$I14)-$V14)) -> 0 | X14: =IF(SUM($H14:$I14)=SUM($V14:$W14),"OK","검토") -> OK | AA14: =IF($U14<>"도비",IF($S14="국도비","직접입력",SUM($K14:$L14)),) -> 0 | AB14: =IF($U14="도비",SUM(K14:L14),IF($S14="국도비","직접입력",SUM(K14:L14)-AA14)) -> 0 | AC14: =IF(SUM(K14:L14)=SUM(AA14:AB14),"OK","검토") -> OK | AE14: =IF(AG14="","",IF(U14="도비","세입없음",CONCATENATE(AG14,"-",COUNTIF($AG$7:AG14,AG14)))) | AG14: {=IF(C14="","",INDEX(구분표!$I$2:$I$313, MATCH(1,(구분표!$E$2:$E$313='17년특입'!B14)*(구분표!$F$2:$F$313='17년특입'!C14)*(구분표!$G$2:$G$313='17년특입'!A14),0)))} | AK14: =IF(AE14="",0,SUMIFS('17년일출'!$X$6:$X$223,'17년일출'!$AG$6:$AG$223,'17년특입'!$AE14)) -> 0 | AL14: =IF(AE14="","",COUNTIFS('17년일출'!$AG$6:$AG$223,'17년특입'!AE14)) | AM14: =IF(V14=AK14,"OK","@@") -> OK | AO14: =IF(AE14="",0,SUMIFS('17년일출'!$AC$6:$AC$223,'17년일출'!$AG$6:$AG$223,'17년특입'!$AE14)) -> 0 | AP14: =IF(AE14="","",COUNTIFS('17년일출'!$AG$6:$AG$223,AE14)) | AQ14: =IF(AA14=AO14,"OK","@@") -> OK
A15: =IFERROR(VLOOKUP($C15,구분표!$A$2:$C$313,2,FALSE),"") | B15: =IFERROR(VLOOKUP($C15,구분표!$A$2:$C$313,3,FALSE),"") | J15: =SUM(G15:I15) -> 0 | M15: =SUM(G15,K15,L15) -> 0 | N15: =IF(AND((J15=0),(M15>0)),"O",IF(AND((H15<0),(J15-M15<0)),"O","X")) -> X | V15: =IF($U15<>"도비",IF($S15="국도비","직접입력",SUM($H15:$I15)),) -> 0 | W15: =IF($U15="도비",SUM($H15:$I15),IF($S15="국도비","직접입력",SUM($H15:$I15)-$V15)) -> 0 | X15: =IF(SUM($H15:$I15)=SUM($V15:$W15),"OK","검토") -> OK | AA15: =IF($U15<>"도비",IF($S15="국도비","직접입력",SUM($K15:$L15)),) -> 0 | AB15: =IF($U15="도비",SUM(K15:L15),IF($S15="국도비","직접입력",SUM(K15:L15)-AA15)) -> 0 | AC15: =IF(SUM(K15:L15)=SUM(AA15:AB15),"OK","검토") -> OK | AE15: =IF(AG15="","",IF(U15="도비","세입없음",CONCATENATE(AG15,"-",COUNTIF($AG$7:AG15,AG15)))) | AG15: {=IF(C15="","",INDEX(구분표!$I$2:$I$313, MATCH(1,(구분표!$E$2:$E$313='17년특입'!B15)*(구분표!$F$2:$F$313='17년특입'!C15)*(구분표!$G$2:$G$313='17년특입'!A15),0)))} | AK15: =IF(AE15="",0,SUMIFS('17년일출'!$X$6:$X$223,'17년일출'!$AG$6:$AG$223,'17년특입'!$AE15)) -> 0 | AL15: =IF(AE15="","",COUNTIFS('17년일출'!$AG$6:$AG$223,'17년특입'!AE15)) | AM15: =IF(V15=AK15,"OK","@@") -> OK | AO15: =IF(AE15="",0,SUMIFS('17년일출'!$AC$6:$AC$223,'17년일출'!$AG$6:$AG$223,'17년특입'!$AE15)) -> 0 | AP15: =IF(AE15="","",COUNTIFS('17년일출'!$AG$6:$AG$223,AE15)) | AQ15: =IF(AA15=AO15,"OK","@@") -> OK
A16: =IFERROR(VLOOKUP($C16,구분표!$A$2:$C$313,2,FALSE),"") | B16: =IFERROR(VLOOKUP($C16,구분표!$A$2:$C$313,3,FALSE),"") | J16: =SUM(G16:I16) -> 0 | M16: =SUM(G16,K16,L16) -> 0 | N16: =IF(AND((J16=0),(M16>0)),"O",IF(AND((H16<0),(J16-M16<0)),"O","X")) -> X | V16: =IF($U16<>"도비",IF($S16="국도비","직접입력",SUM($H16:$I16)),) -> 0 | W16: =IF($U16="도비",SUM($H16:$I16),IF($S16="국도비","직접입력",SUM($H16:$I16)-$V16)) -> 0 | X16: =IF(SUM($H16:$I16)=SUM($V16:$W16),"OK","검토") -> OK | AA16: =IF($U16<>"도비",IF($S16="국도비","직접입력",SUM($K16:$L16)),) -> 0 | AB16: =IF($U16="도비",SUM(K16:L16),IF($S16="국도비","직접입력",SUM(K16:L16)-AA16)) -> 0 | AC16: =IF(SUM(K16:L16)=SUM(AA16:AB16),"OK","검토") -> OK | AE16: =IF(AG16="","",IF(U16="도비","세입없음",CONCATENATE(AG16,"-",COUNTIF($AG$7:AG16,AG16)))) | AG16: {=IF(C16="","",INDEX(구분표!$I$2:$I$313, MATCH(1,(구분표!$E$2:$E$313='17년특입'!B16)*(구분표!$F$2:$F$313='17년특입'!C16)*(구분표!$G$2:$G$313='17년특입'!A16),0)))} | AK16: =IF(AE16="",0,SUMIFS('17년일출'!$X$6:$X$223,'17년일출'!$AG$6:$AG$223,'17년특입'!$AE16)) -> 0 | AL16: =IF(AE16="","",COUNTIFS('17년일출'!$AG$6:$AG$223,'17년특입'!AE16)) | AM16: =IF(V16=AK16,"OK","@@") -> OK | AO16: =IF(AE16="",0,SUMIFS('17년일출'!$AC$6:$AC$223,'17년일출'!$AG$6:$AG$223,'17년특입'!$AE16)) -> 0 | AP16: =IF(AE16="","",COUNTIFS('17년일출'!$AG$6:$AG$223,AE16)) | AQ16: =IF(AA16=AO16,"OK","@@") -> OK
A17: =IFERROR(VLOOKUP($C17,구분표!$A$2:$C$313,2,FALSE),"") | B17: =IFERROR(VLOOKUP($C17,구분표!$A$2:$C$313,3,FALSE),"") | J17: =SUM(G17:I17) -> 0 | M17: =SUM(G17,K17,L17) -> 0 | N17: =IF(AND((J17=0),(M17>0)),"O",IF(AND((H17<0),(J17-M17<0)),"O","X")) -> X | V17: =IF($U17<>"도비",IF($S17="국도비","직접입력",SUM($H17:$I17)),) -> 0 | W17: =IF($U17="도비",SUM($H17:$I17),IF($S17="국도비","직접입력",SUM($H17:$I17)-$V17)) -> 0 | X17: =IF(SUM($H17:$I17)=SUM($V17:$W17),"OK","검토") -> OK | AA17: =IF($U17<>"도비",IF($S17="국도비","직접입력",SUM($K17:$L17)),) -> 0 | AB17: =IF($U17="도비",SUM(K17:L17),IF($S17="국도비","직접입력",SUM(K17:L17)-AA17)) -> 0 | AC17: =IF(SUM(K17:L17)=SUM(AA17:AB17),"OK","검토") -> OK | AE17: =IF(AG17="","",IF(U17="도비","세입없음",CONCATENATE(AG17,"-",COUNTIF($AG$7:AG17,AG17)))) | AG17: {=IF(C17="","",INDEX(구분표!$I$2:$I$313, MATCH(1,(구분표!$E$2:$E$313='17년특입'!B17)*(구분표!$F$2:$F$313='17년특입'!C17)*(구분표!$G$2:$G$313='17년특입'!A17),0)))} | AK17: =IF(AE17="",0,SUMIFS('17년일출'!$X$6:$X$223,'17년일출'!$AG$6:$AG$223,'17년특입'!$AE17)) -> 0 | AL17: =IF(AE17="","",COUNTIFS('17년일출'!$AG$6:$AG$223,'17년특입'!AE17)) | AM17: =IF(V17=AK17,"OK","@@") -> OK | AO17: =IF(AE17="",0,SUMIFS('17년일출'!$AC$6:$AC$223,'17년일출'!$AG$6:$AG$223,'17년특입'!$AE17)) -> 0 | AP17: =IF(AE17="","",COUNTIFS('17년일출'!$AG$6:$AG$223,AE17)) | AQ17: =IF(AA17=AO17,"OK","@@") -> OK
A18: ( 특별회계) | G18: =SUM(G19:G28) -> 0 | H18: =SUM(H19:H28) -> 0 | I18: =SUM(I19:I28) -> 0 | J18: =SUM(J19:J28) -> 0 | K18: =SUM(K19:K28) -> 0 | L18: =SUM(L19:L28) -> 0 | M18: =SUM(M19:M28) -> 0 | V18: =IF($U18<>"도비",IF($S18="국도비","직접입력",SUM($H18:$I18)),) -> 0 | W18: =IF($U18="도비",SUM($H18:$I18),IF($S18="국도비","직접입력",SUM($H18:$I18)-$V18)) -> 0 | X18: =IF(SUM($H18:$I18)=SUM($V18:$W18),"OK","검토") -> OK | AA18: =IF($U18<>"도비",IF($S18="국도비","직접입력",SUM($K18:$L18)),) -> 0 | AB18: =IF($U18="도비",SUM(K18:L18),IF($S18="국도비","직접입력",SUM(K18:L18)-AA18)) -> 0 | AC18: =IF(SUM(K18:L18)=SUM(AA18:AB18),"OK","검토") -> OK | AE18: =IF(AG18="","",IF(U18="도비","세입없음",CONCATENATE(AG18,"-",COUNTIF($AG$7:AG18,AG18)))) | AG18: {=IF(C18="","",INDEX(구분표!$I$2:$I$313, MATCH(1,(구분표!$E$2:$E$313='17년특입'!B18)*(구분표!$F$2:$F$313='17년특입'!C18)*(구분표!$G$2:$G$313='17년특입'!A18),0)))} | AK18: =IF(AE18="",0,SUMIFS('17년일출'!$X$6:$X$223,'17년일출'!$AG$6:$AG$223,'17년특입'!$AE18)) -> 0 | AL18: =IF(AE18="","",COUNTIFS('17년일출'!$AG$6:$AG$223,'17년특입'!AE18)) | AM18: =IF(V18=AK18,"OK","@@") -> OK | AO18: =IF(AE18="",0,SUMIFS('17년일출'!$AC$6:$AC$223,'17년일출'!$AG$6:$AG$223,'17년특입'!$AE18)) -> 0 | AP18: =IF(AE18="","",COUNTIFS('17년일출'!$AG$6:$AG$223,AE18)) | AQ18: =IF(AA18=AO18,"OK","@@") -> OK
A19: =IFERROR(VLOOKUP($C19,구분표!$A$2:$C$313,2,FALSE),"") | B19: =IFERROR(VLOOKUP($C19,구분표!$A$2:$C$313,3,FALSE),"") | J19: =SUM(G19:I19) -> 0 | M19: =SUM(G19,K19,L19) -> 0 | N19: =IF(AND((J19=0),(M19>0)),"O",IF(AND((H19<0),(J19-M19<0)),"O","X")) -> X | V19: =IF($U19<>"도비",IF($S19="국도비","직접입력",SUM($H19:$I19)),) -> 0 | W19: =IF($U19="도비",SUM($H19:$I19),IF($S19="국도비","직접입력",SUM($H19:$I19)-$V19)) -> 0 | X19: =IF(SUM($H19:$I19)=SUM($V19:$W19),"OK","검토") -> OK | AA19: =IF($U19<>"도비",IF($S19="국도비","직접입력",SUM($K19:$L19)),) -> 0 | AB19: =IF($U19="도비",SUM(K19:L19),IF($S19="국도비","직접입력",SUM(K19:L19)-AA19)) -> 0 | AC19: =IF(SUM(K19:L19)=SUM(AA19:AB19),"OK","검토") -> OK | AE19: =IF(AG19="","",IF(U19="도비","세입없음",CONCATENATE(AG19,"-",COUNTIF($AG$7:AG19,AG19)))) | AG19: {=IF(C19="","",INDEX(구분표!$I$2:$I$313, MATCH(1,(구분표!$E$2:$E$313='17년특입'!B19)*(구분표!$F$2:$F$313='17년특입'!C19)*(구분표!$G$2:$G$313='17년특입'!A19),0)))} | AK19: =IF(AE19="",0,SUMIFS('17년일출'!$X$6:$X$223,'17년일출'!$AG$6:$AG$223,'17년특입'!$AE19)) -> 0 | AL19: =IF(AE19="","",COUNTIFS('17년일출'!$AG$6:$AG$223,'17년특입'!AE19)) | AM19: =IF(V19=AK19,"OK","@@") -> OK | AO19: =IF(AE19="",0,SUMIFS('17년일출'!$AC$6:$AC$223,'17년일출'!$AG$6:$AG$223,'17년특입'!$AE19)) -> 0 | AP19: =IF(AE19="","",COUNTIFS('17년일출'!$AG$6:$AG$223,AE19)) | AQ19: =IF(AA19=AO19,"OK","@@") -> OK
A20: =IFERROR(VLOOKUP($C20,구분표!$A$2:$C$313,2,FALSE),"") | B20: =IFERROR(VLOOKUP($C20,구분표!$A$2:$C$313,3,FALSE),"") | J20: =SUM(G20:I20) -> 0 | M20: =SUM(G20,K20,L20) -> 0 | N20: =IF(AND((J20=0),(M20>0)),"O",IF(AND((H20<0),(J20-M20<0)),"O","X")) -> X | V20: =IF($U20<>"도비",IF($S20="국도비","직접입력",SUM($H20:$I20)),) -> 0 | W20: =IF($U20="도비",SUM($H20:$I20),IF($S20="국도비","직접입력",SUM($H20:$I20)-$V20)) -> 0 | X20: =IF(SUM($H20:$I20)=SUM($V20:$W20),"OK","검토") -> OK | AA20: =IF($U20<>"도비",IF($S20="국도비","직접입력",SUM($K20:$L20)),) -> 0 | AB20: =IF($U20="도비",SUM(K20:L20),IF($S20="국도비","직접입력",SUM(K20:L20)-AA20)) -> 0 | AC20: =IF(SUM(K20:L20)=SUM(AA20:AB20),"OK","검토") -> OK | AE20: =IF(AG20="","",IF(U20="도비","세입없음",CONCATENATE(AG20,"-",COUNTIF($AG$7:AG20,AG20)))) | AG20: {=IF(C20="","",INDEX(구분표!$I$2:$I$313, MATCH(1,(구분표!$E$2:$E$313='17년특입'!B20)*(구분표!$F$2:$F$313='17년특입'!C20)*(구분표!$G$2:$G$313='17년특입'!A20),0)))} | AK20: =IF(AE20="",0,SUMIFS('17년일출'!$X$6:$X$223,'17년일출'!$AG$6:$AG$223,'17년특입'!$AE20)) -> 0 | AL20: =IF(AE20="","",COUNTIFS('17년일출'!$AG$6:$AG$223,'17년특입'!AE20)) | AM20: =IF(V20=AK20,"OK","@@") -> OK | AO20: =IF(AE20="",0,SUMIFS('17년일출'!$AC$6:$AC$223,'17년일출'!$AG$6:$AG$223,'17년특입'!$AE20)) -> 0 | AP20: =IF(AE20="","",COUNTIFS('17년일출'!$AG$6:$AG$223,AE20)) | AQ20: =IF(AA20=AO20,"OK","@@") -> OK
A21: =IFERROR(VLOOKUP($C21,구분표!$A$2:$C$313,2,FALSE),"") | B21: =IFERROR(VLOOKUP($C21,구분표!$A$2:$C$313,3,FALSE),"") | J21: =SUM(G21:I21) -> 0 | M21: =SUM(G21,K21,L21) -> 0 | N21: =IF(AND((J21=0),(M21>0)),"O",IF(AND((H21<0),(J21-M21<0)),"O","X")) -> X | V21: =IF($U21<>"도비",IF($S21="국도비","직접입력",SUM($H21:$I21)),) -> 0 | W21: =IF($U21="도비",SUM($H21:$I21),IF($S21="국도비","직접입력",SUM($H21:$I21)-$V21)) -> 0 | X21: =IF(SUM($H21:$I21)=SUM($V21:$W21),"OK","검토") -> OK | AA21: =IF($U21<>"도비",IF($S21="국도비","직접입력",SUM($K21:$L21)),) -> 0 | AB21: =IF($U21="도비",SUM(K21:L21),IF($S21="국도비","직접입력",SUM(K21:L21)-AA21)) -> 0 | AC21: =IF(SUM(K21:L21)=SUM(AA21:AB21),"OK","검토") -> OK | AE21: =IF(AG21="","",IF(U21="도비","세입없음",CONCATENATE(AG21,"-",COUNTIF($AG$7:AG21,AG21)))) | AG21: {=IF(C21="","",INDEX(구분표!$I$2:$I$313, MATCH(1,(구분표!$E$2:$E$313='17년특입'!B21)*(구분표!$F$2:$F$313='17년특입'!C21)*(구분표!$G$2:$G$313='17년특입'!A21),0)))} | AK21: =IF(AE21="",0,SUMIFS('17년일출'!$X$6:$X$223,'17년일출'!$AG$6:$AG$223,'17년특입'!$AE21)) -> 0 | AL21: =IF(AE21="","",COUNTIFS('17년일출'!$AG$6:$AG$223,'17년특입'!AE21)) | AM21: =IF(V21=AK21,"OK","@@") -> OK | AO21: =IF(AE21="",0,SUMIFS('17년일출'!$AC$6:$AC$223,'17년일출'!$AG$6:$AG$223,'17년특입'!$AE21)) -> 0 | AP21: =IF(AE21="","",COUNTIFS('17년일출'!$AG$6:$AG$223,AE21)) | AQ21: =IF(AA21=AO21,"OK","@@") -> OK
A22: =IFERROR(VLOOKUP($C22,구분표!$A$2:$C$313,2,FALSE),"") | B22: =IFERROR(VLOOKUP($C22,구분표!$A$2:$C$313,3,FALSE),"") | J22: =SUM(G22:I22) -> 0 | M22: =SUM(G22,K22,L22) -> 0 | N22: =IF(AND((J22=0),(M22>0)),"O",IF(AND((H22<0),(J22-M22<0)),"O","X")) -> X | V22: =IF($U22<>"도비",IF($S22="국도비","직접입력",SUM($H22:$I22)),) -> 0 | W22: =IF($U22="도비",SUM($H22:$I22),IF($S22="국도비","직접입력",SUM($H22:$I22)-$V22)) -> 0 | X22: =IF(SUM($H22:$I22)=SUM($V22:$W22),"OK","검토") -> OK | AA22: =IF($U22<>"도비",IF($S22="국도비","직접입력",SUM($K22:$L22)),) -> 0 | AB22: =IF($U22="도비",SUM(K22:L22),IF($S22="국도비","직접입력",SUM(K22:L22)-AA22)) -> 0 | AC22: =IF(SUM(K22:L22)=SUM(AA22:AB22),"OK","검토") -> OK | AE22: =IF(AG22="","",IF(U22="도비","세입없음",CONCATENATE(AG22,"-",COUNTIF($AG$7:AG22,AG22)))) | AG22: {=IF(C22="","",INDEX(구분표!$I$2:$I$313, MATCH(1,(구분표!$E$2:$E$313='17년특입'!B22)*(구분표!$F$2:$F$313='17년특입'!C22)*(구분표!$G$2:$G$313='17년특입'!A22),0)))} | AK22: =IF(AE22="",0,SUMIFS('17년일출'!$X$6:$X$223,'17년일출'!$AG$6:$AG$223,'17년특입'!$AE22)) -> 0 | AL22: =IF(AE22="","",COUNTIFS('17년일출'!$AG$6:$AG$223,'17년특입'!AE22)) | AM22: =IF(V22=AK22,"OK","@@") -> OK | AO22: =IF(AE22="",0,SUMIFS('17년일출'!$AC$6:$AC$223,'17년일출'!$AG$6:$AG$223,'17년특입'!$AE22)) -> 0 | AP22: =IF(AE22="","",COUNTIFS('17년일출'!$AG$6:$AG$223,AE22)) | AQ22: =IF(AA22=AO22,"OK","@@") -> OK
A23: =IFERROR(VLOOKUP($C23,구분표!$A$2:$C$313,2,FALSE),"") | B23: =IFERROR(VLOOKUP($C23,구분표!$A$2:$C$313,3,FALSE),"") | J23: =SUM(G23:I23) -> 0 | M23: =SUM(G23,K23,L23) -> 0 | N23: =IF(AND((J23=0),(M23>0)),"O",IF(AND((H23<0),(J23-M23<0)),"O","X")) -> X | V23: =IF($U23<>"도비",IF($S23="국도비","직접입력",SUM($H23:$I23)),) -> 0 | W23: =IF($U23="도비",SUM($H23:$I23),IF($S23="국도비","직접입력",SUM($H23:$I23)-$V23)) -> 0 | X23: =IF(SUM($H23:$I23)=SUM($V23:$W23),"OK","검토") -> OK | AA23: =IF($U23<>"도비",IF($S23="국도비","직접입력",SUM($K23:$L23)),) -> 0 | AB23: =IF($U23="도비",SUM(K23:L23),IF($S23="국도비","직접입력",SUM(K23:L23)-AA23)) -> 0 | AC23: =IF(SUM(K23:L23)=SUM(AA23:AB23),"OK","검토") -> OK | AE23: =IF(AG23="","",IF(U23="도비","세입없음",CONCATENATE(AG23,"-",COUNTIF($AG$7:AG23,AG23)))) | AG23: {=IF(C23="","",INDEX(구분표!$I$2:$I$313, MATCH(1,(구분표!$E$2:$E$313='17년특입'!B23)*(구분표!$F$2:$F$313='17년특입'!C23)*(구분표!$G$2:$G$313='17년특입'!A23),0)))} | AK23: =IF(AE23="",0,SUMIFS('17년일출'!$X$6:$X$223,'17년일출'!$AG$6:$AG$223,'17년특입'!$AE23)) -> 0 | AL23: =IF(AE23="","",COUNTIFS('17년일출'!$AG$6:$AG$223,'17년특입'!AE23)) | AM23: =IF(V23=AK23,"OK","@@") -> OK | AO23: =IF(AE23="",0,SUMIFS('17년일출'!$AC$6:$AC$223,'17년일출'!$AG$6:$AG$223,'17년특입'!$AE23)) -> 0 | AP23: =IF(AE23="","",COUNTIFS('17년일출'!$AG$6:$AG$223,AE23)) | AQ23: =IF(AA23=AO23,"OK","@@") -> OK
A24: =IFERROR(VLOOKUP($C24,구분표!$A$2:$C$313,2,FALSE),"") | B24: =IFERROR(VLOOKUP($C24,구분표!$A$2:$C$313,3,FALSE),"") | J24: =SUM(G24:I24) -> 0 | M24: =SUM(G24,K24,L24) -> 0 | N24: =IF(AND((J24=0),(M24>0)),"O",IF(AND((H24<0),(J24-M24<0)),"O","X")) -> X | V24: =IF($U24<>"도비",IF($S24="국도비","직접입력",SUM($H24:$I24)),) -> 0 | W24: =IF($U24="도비",SUM($H24:$I24),IF($S24="국도비","직접입력",SUM($H24:$I24)-$V24)) -> 0 | X24: =IF(SUM($H24:$I24)=SUM($V24:$W24),"OK","검토") -> OK | AA24: =IF($U24<>"도비",IF($S24="국도비","직접입력",SUM($K24:$L24)),) -> 0 | AB24: =IF($U24="도비",SUM(K24:L24),IF($S24="국도비","직접입력",SUM(K24:L24)-AA24)) -> 0 | AC24: =IF(SUM(K24:L24)=SUM(AA24:AB24),"OK","검토") -> OK | AE24: =IF(AG24="","",IF(U24="도비","세입없음",CONCATENATE(AG24,"-",COUNTIF($AG$7:AG24,AG24)))) | AG24: {=IF(C24="","",INDEX(구분표!$I$2:$I$313, MATCH(1,(구분표!$E$2:$E$313='17년특입'!B24)*(구분표!$F$2:$F$313='17년특입'!C24)*(구분표!$G$2:$G$313='17년특입'!A24),0)))} | AK24: =IF(AE24="",0,SUMIFS('17년일출'!$X$6:$X$223,'17년일출'!$AG$6:$AG$223,'17년특입'!$AE24)) -> 0 | AL24: =IF(AE24="","",COUNTIFS('17년일출'!$AG$6:$AG$223,'17년특입'!AE24)) | AM24: =IF(V24=AK24,"OK","@@") -> OK | AO24: =IF(AE24="",0,SUMIFS('17년일출'!$AC$6:$AC$223,'17년일출'!$AG$6:$AG$223,'17년특입'!$AE24)) -> 0 | AP24: =IF(AE24="","",COUNTIFS('17년일출'!$AG$6:$AG$223,AE24)) | AQ24: =IF(AA24=AO24,"OK","@@") -> OK
A25: =IFERROR(VLOOKUP($C25,구분표!$A$2:$C$313,2,FALSE),"") | B25: =IFERROR(VLOOKUP($C25,구분표!$A$2:$C$313,3,FALSE),"") | J25: =SUM(G25:I25) -> 0 | M25: =SUM(G25,K25,L25) -> 0 | N25: =IF(AND((J25=0),(M25>0)),"O",IF(AND((H25<0),(J25-M25<0)),"O","X")) -> X | V25: =IF($U25<>"도비",IF($S25="국도비","직접입력",SUM($H25:$I25)),) -> 0 | W25: =IF($U25="도비",SUM($H25:$I25),IF($S25="국도비","직접입력",SUM($H25:$I25)-$V25)) -> 0 | X25: =IF(SUM($H25:$I25)=SUM($V25:$W25),"OK","검토") -> OK | AA25: =IF($U25<>"도비",IF($S25="국도비","직접입력",SUM($K25:$L25)),) -> 0 | AB25: =IF($U25="도비",SUM(K25:L25),IF($S25="국도비","직접입력",SUM(K25:L25)-AA25)) -> 0 | AC25: =IF(SUM(K25:L25)=SUM(AA25:AB25),"OK","검토") -> OK | AE25: =IF(AG25="","",IF(U25="도비","세입없음",CONCATENATE(AG25,"-",COUNTIF($AG$7:AG25,AG25)))) | AG25: {=IF(C25="","",INDEX(구분표!$I$2:$I$313, MATCH(1,(구분표!$E$2:$E$313='17년특입'!B25)*(구분표!$F$2:$F$313='17년특입'!C25)*(구분표!$G$2:$G$313='17년특입'!A25),0)))} | AK25: =IF(AE25="",0,SUMIFS('17년일출'!$X$6:$X$223,'17년일출'!$AG$6:$AG$223,'17년특입'!$AE25)) -> 0 | AL25: =IF(AE25="","",COUNTIFS('17년일출'!$AG$6:$AG$223,'17년특입'!AE25)) | AM25: =IF(V25=AK25,"OK","@@") -> OK | AO25: =IF(AE25="",0,SUMIFS('17년일출'!$AC$6:$AC$223,'17년일출'!$AG$6:$AG$223,'17년특입'!$AE25)) -> 0 | AP25: =IF(AE25="","",COUNTIFS('17년일출'!$AG$6:$AG$223,AE25)) | AQ25: =IF(AA25=AO25,"OK","@@") -> OK
A26: =IFERROR(VLOOKUP($C26,구분표!$A$2:$C$313,2,FALSE),"") | B26: =IFERROR(VLOOKUP($C26,구분표!$A$2:$C$313,3,FALSE),"") | J26: =SUM(G26:I26) -> 0 | M26: =SUM(G26,K26,L26) -> 0 | N26: =IF(AND((J26=0),(M26>0)),"O",IF(AND((H26<0),(J26-M26<0)),"O","X")) -> X | V26: =IF($U26<>"도비",IF($S26="국도비","직접입력",SUM($H26:$I26)),) -> 0 | W26: =IF($U26="도비",SUM($H26:$I26),IF($S26="국도비","직접입력",SUM($H26:$I26)-$V26)) -> 0 | X26: =IF(SUM($H26:$I26)=SUM($V26:$W26),"OK","검토") -> OK | AA26: =IF($U26<>"도비",IF($S26="국도비","직접입력",SUM($K26:$L26)),) -> 0 | AB26: =IF($U26="도비",SUM(K26:L26),IF($S26="국도비","직접입력",SUM(K26:L26)-AA26)) -> 0 | AC26: =IF(SUM(K26:L26)=SUM(AA26:AB26),"OK","검토") -> OK | AE26: =IF(AG26="","",IF(U26="도비","세입없음",CONCATENATE(AG26,"-",COUNTIF($AG$7:AG26,AG26)))) | AG26: {=IF(C26="","",INDEX(구분표!$I$2:$I$313, MATCH(1,(구분표!$E$2:$E$313='17년특입'!B26)*(구분표!$F$2:$F$313='17년특입'!C26)*(구분표!$G$2:$G$313='17년특입'!A26),0)))} | AK26: =IF(AE26="",0,SUMIFS('17년일출'!$X$6:$X$223,'17년일출'!$AG$6:$AG$223,'17년특입'!$AE26)) -> 0 | AL26: =IF(AE26="","",COUNTIFS('17년일출'!$AG$6:$AG$223,'17년특입'!AE26)) | AM26: =IF(V26=AK26,"OK","@@") -> OK | AO26: =IF(AE26="",0,SUMIFS('17년일출'!$AC$6:$AC$223,'17년일출'!$AG$6:$AG$223,'17년특입'!$AE26)) -> 0 | AP26: =IF(AE26="","",COUNTIFS('17년일출'!$AG$6:$AG$223,AE26)) | AQ26: =IF(AA26=AO26,"OK","@@") -> OK
A27: =IFERROR(VLOOKUP($C27,구분표!$A$2:$C$313,2,FALSE),"") | B27: =IFERROR(VLOOKUP($C27,구분표!$A$2:$C$313,3,FALSE),"") | J27: =SUM(G27:I27) -> 0 | M27: =SUM(G27,K27,L27) -> 0 | N27: =IF(AND((J27=0),(M27>0)),"O",IF(AND((H27<0),(J27-M27<0)),"O","X")) -> X | V27: =IF($U27<>"도비",IF($S27="국도비","직접입력",SUM($H27:$I27)),) -> 0 | W27: =IF($U27="도비",SUM($H27:$I27),IF($S27="국도비","직접입력",SUM($H27:$I27)-$V27)) -> 0 | X27: =IF(SUM($H27:$I27)=SUM($V27:$W27),"OK","검토") -> OK | AA27: =IF($U27<>"도비",IF($S27="국도비","직접입력",SUM($K27:$L27)),) -> 0 | AB27: =IF($U27="도비",SUM(K27:L27),IF($S27="국도비","직접입력",SUM(K27:L27)-AA27)) -> 0 | AC27: =IF(SUM(K27:L27)=SUM(AA27:AB27),"OK","검토") -> OK | AE27: =IF(AG27="","",IF(U27="도비","세입없음",CONCATENATE(AG27,"-",COUNTIF($AG$7:AG27,AG27)))) | AG27: {=IF(C27="","",INDEX(구분표!$I$2:$I$313, MATCH(1,(구분표!$E$2:$E$313='17년특입'!B27)*(구분표!$F$2:$F$313='17년특입'!C27)*(구분표!$G$2:$G$313='17년특입'!A27),0)))} | AK27: =IF(AE27="",0,SUMIFS('17년일출'!$X$6:$X$223,'17년일출'!$AG$6:$AG$223,'17년특입'!$AE27)) -> 0 | AL27: =IF(AE27="","",COUNTIFS('17년일출'!$AG$6:$AG$223,'17년특입'!AE27)) | AM27: =IF(V27=AK27,"OK","@@") -> OK | AO27: =IF(AE27="",0,SUMIFS('17년일출'!$AC$6:$AC$223,'17년일출'!$AG$6:$AG$223,'17년특입'!$AE27)) -> 0 | AP27: =IF(AE27="","",COUNTIFS('17년일출'!$AG$6:$AG$223,AE27)) | AQ27: =IF(AA27=AO27,"OK","@@") -> OK
A28: =IFERROR(VLOOKUP($C28,구분표!$A$2:$C$313,2,FALSE),"") | B28: =IFERROR(VLOOKUP($C28,구분표!$A$2:$C$313,3,FALSE),"") | J28: =SUM(G28:I28) -> 0 | M28: =SUM(G28,K28,L28) -> 0 | N28: =IF(AND((J28=0),(M28>0)),"O",IF(AND((H28<0),(J28-M28<0)),"O","X")) -> X | V28: =IF($U28<>"도비",IF($S28="국도비","직접입력",SUM($H28:$I28)),) -> 0 | W28: =IF($U28="도비",SUM($H28:$I28),IF($S28="국도비","직접입력",SUM($H28:$I28)-$V28)) -> 0 | X28: =IF(SUM($H28:$I28)=SUM($V28:$W28),"OK","검토") -> OK | AA28: =IF($U28<>"도비",IF($S28="국도비","직접입력",SUM($K28:$L28)),) -> 0 | AB28: =IF($U28="도비",SUM(K28:L28),IF($S28="국도비","직접입력",SUM(K28:L28)-AA28)) -> 0 | AC28: =IF(SUM(K28:L28)=SUM(AA28:AB28),"OK","검토") -> OK | AE28: =IF(AG28="","",IF(U28="도비","세입없음",CONCATENATE(AG28,"-",COUNTIF($AG$7:AG28,AG28)))) | AG28: {=IF(C28="","",INDEX(구분표!$I$2:$I$313, MATCH(1,(구분표!$E$2:$E$313='17년특입'!B28)*(구분표!$F$2:$F$313='17년특입'!C28)*(구분표!$G$2:$G$313='17년특입'!A28),0)))} | AK28: =IF(AE28="",0,SUMIFS('17년일출'!$X$6:$X$223,'17년일출'!$AG$6:$AG$223,'17년특입'!$AE28)) -> 0 | AL28: =IF(AE28="","",COUNTIFS('17년일출'!$AG$6:$AG$223,'17년특입'!AE28)) | AM28: =IF(V28=AK28,"OK","@@") -> OK | AO28: =IF(AE28="",0,SUMIFS('17년일출'!$AC$6:$AC$223,'17년일출'!$AG$6:$AG$223,'17년특입'!$AE28)) -> 0 | AP28: =IF(AE28="","",COUNTIFS('17년일출'!$AG$6:$AG$223,AE28)) | AQ28: =IF(AA28=AO28,"OK","@@") -> OK
A29: ( 특별회계) | G29: =SUM(G30:G39) -> 0 | H29: =SUM(H30:H39) -> 0 | I29: =SUM(I30:I39) -> 0 | J29: =SUM(J30:J39) -> 0 | K29: =SUM(K30:K39) -> 0 | L29: =SUM(L30:L39) -> 0 | M29: =SUM(M30:M39) -> 0 | V29: =IF($U29<>"도비",IF($S29="국도비","직접입력",SUM($H29:$I29)),) -> 0 | W29: =IF($U29="도비",SUM($H29:$I29),IF($S29="국도비","직접입력",SUM($H29:$I29)-$V29)) -> 0 | X29: =IF(SUM($H29:$I29)=SUM($V29:$W29),"OK","검토") -> OK | AA29: =IF($U29<>"도비",IF($S29="국도비","직접입력",SUM($K29:$L29)),) -> 0 | AB29: =IF($U29="도비",SUM(K29:L29),IF($S29="국도비","직접입력",SUM(K29:L29)-AA29)) -> 0 | AC29: =IF(SUM(K29:L29)=SUM(AA29:AB29),"OK","검토") -> OK | AE29: =IF(AG29="","",IF(U29="도비","세입없음",CONCATENATE(AG29,"-",COUNTIF($AG$7:AG29,AG29)))) | AG29: {=IF(C29="","",INDEX(구분표!$I$2:$I$313, MATCH(1,(구분표!$E$2:$E$313='17년특입'!B29)*(구분표!$F$2:$F$313='17년특입'!C29)*(구분표!$G$2:$G$313='17년특입'!A29),0)))} | AK29: =IF(AE29="",0,SUMIFS('17년일출'!$X$6:$X$223,'17년일출'!$AG$6:$AG$223,'17년특입'!$AE29)) -> 0 | AL29: =IF(AE29="","",COUNTIFS('17년일출'!$AG$6:$AG$223,'17년특입'!AE29)) | AM29: =IF(V29=AK29,"OK","@@") -> OK | AO29: =IF(AE29="",0,SUMIFS('17년일출'!$AC$6:$AC$223,'17년일출'!$AG$6:$AG$223,'17년특입'!$AE29)) -> 0 | AP29: =IF(AE29="","",COUNTIFS('17년일출'!$AG$6:$AG$223,AE29)) | AQ29: =IF(AA29=AO29,"OK","@@") -> OK
A30: =IFERROR(VLOOKUP($C30,구분표!$A$2:$C$313,2,FALSE),"") | B30: =IFERROR(VLOOKUP($C30,구분표!$A$2:$C$313,3,FALSE),"") | J30: =SUM(G30:I30) -> 0 | M30: =SUM(G30,K30,L30) -> 0 | N30: =IF(AND((J30=0),(M30>0)),"O",IF(AND((H30<0),(J30-M30<0)),"O","X")) -> X | V30: =IF($U30<>"도비",IF($S30="국도비","직접입력",SUM($H30:$I30)),) -> 0 | W30: =IF($U30="도비",SUM($H30:$I30),IF($S30="국도비","직접입력",SUM($H30:$I30)-$V30)) -> 0 | X30: =IF(SUM($H30:$I30)=SUM($V30:$W30),"OK","검토") -> OK | AA30: =IF($U30<>"도비",IF($S30="국도비","직접입력",SUM($K30:$L30)),) -> 0 | AB30: =IF($U30="도비",SUM(K30:L30),IF($S30="국도비","직접입력",SUM(K30:L30)-AA30)) -> 0 | AC30: =IF(SUM(K30:L30)=SUM(AA30:AB30),"OK","검토") -> OK | AE30: =IF(AG30="","",IF(U30="도비","세입없음",CONCATENATE(AG30,"-",COUNTIF($AG$7:AG30,AG30)))) | AG30: {=IF(C30="","",INDEX(구분표!$I$2:$I$313, MATCH(1,(구분표!$E$2:$E$313='17년특입'!B30)*(구분표!$F$2:$F$313='17년특입'!C30)*(구분표!$G$2:$G$313='17년특입'!A30),0)))} | AK30: =IF(AE30="",0,SUMIFS('17년일출'!$X$6:$X$223,'17년일출'!$AG$6:$AG$223,'17년특입'!$AE30)) -> 0 | AL30: =IF(AE30="","",COUNTIFS('17년일출'!$AG$6:$AG$223,'17년특입'!AE30)) | AM30: =IF(V30=AK30,"OK","@@") -> OK | AO30: =IF(AE30="",0,SUMIFS('17년일출'!$AC$6:$AC$223,'17년일출'!$AG$6:$AG$223,'17년특입'!$AE30)) -> 0 | AP30: =IF(AE30="","",COUNTIFS('17년일출'!$AG$6:$AG$223,AE30)) | AQ30: =IF(AA30=AO30,"OK","@@") -> OK
A31: =IFERROR(VLOOKUP($C31,구분표!$A$2:$C$313,2,FALSE),"") | B31: =IFERROR(VLOOKUP($C31,구분표!$A$2:$C$313,3,FALSE),"") | J31: =SUM(G31:I31) -> 0 | M31: =SUM(G31,K31,L31) -> 0 | N31: =IF(AND((J31=0),(M31>0)),"O",IF(AND((H31<0),(J31-M31<0)),"O","X")) -> X | V31: =IF($U31<>"도비",IF($S31="국도비","직접입력",SUM($H31:$I31)),) -> 0 | W31: =IF($U31="도비",SUM($H31:$I31),IF($S31="국도비","직접입력",SUM($H31:$I31)-$V31)) -> 0 | X31: =IF(SUM($H31:$I31)=SUM($V31:$W31),"OK","검토") -> OK | AA31: =IF($U31<>"도비",IF($S31="국도비","직접입력",SUM($K31:$L31)),) -> 0 | AB31: =IF($U31="도비",SUM(K31:L31),IF($S31="국도비","직접입력",SUM(K31:L31)-AA31)) -> 0 | AC31: =IF(SUM(K31:L31)=SUM(AA31:AB31),"OK","검토") -> OK | AE31: =IF(AG31="","",IF(U31="도비","세입없음",CONCATENATE(AG31,"-",COUNTIF($AG$7:AG31,AG31)))) | AG31: {=IF(C31="","",INDEX(구분표!$I$2:$I$313, MATCH(1,(구분표!$E$2:$E$313='17년특입'!B31)*(구분표!$F$2:$F$313='17년특입'!C31)*(구분표!$G$2:$G$313='17년특입'!A31),0)))} | AK31: =IF(AE31="",0,SUMIFS('17년일출'!$X$6:$X$223,'17년일출'!$AG$6:$AG$223,'17년특입'!$AE31)) -> 0 | AL31: =IF(AE31="","",COUNTIFS('17년일출'!$AG$6:$AG$223,'17년특입'!AE31)) | AM31: =IF(V31=AK31,"OK","@@") -> OK | AO31: =IF(AE31="",0,SUMIFS('17년일출'!$AC$6:$AC$223,'17년일출'!$AG$6:$AG$223,'17년특입'!$AE31)) -> 0 | AP31: =IF(AE31="","",COUNTIFS('17년일출'!$AG$6:$AG$223,AE31)) | AQ31: =IF(AA31=AO31,"OK","@@") -> OK
A32: =IFERROR(VLOOKUP($C32,구분표!$A$2:$C$313,2,FALSE),"") | B32: =IFERROR(VLOOKUP($C32,구분표!$A$2:$C$313,3,FALSE),"") | J32: =SUM(G32:I32) -> 0 | M32: =SUM(G32,K32,L32) -> 0 | N32: =IF(AND((J32=0),(M32>0)),"O",IF(AND((H32<0),(J32-M32<0)),"O","X")) -> X | V32: =IF($U32<>"도비",IF($S32="국도비","직접입력",SUM($H32:$I32)),) -> 0 | W32: =IF($U32="도비",SUM($H32:$I32),IF($S32="국도비","직접입력",SUM($H32:$I32)-$V32)) -> 0 | X32: =IF(SUM($H32:$I32)=SUM($V32:$W32),"OK","검토") -> OK | AA32: =IF($U32<>"도비",IF($S32="국도비","직접입력",SUM($K32:$L32)),) -> 0 | AB32: =IF($U32="도비",SUM(K32:L32),IF($S32="국도비","직접입력",SUM(K32:L32)-AA32)) -> 0 | AC32: =IF(SUM(K32:L32)=SUM(AA32:AB32),"OK","검토") -> OK | AE32: =IF(AG32="","",IF(U32="도비","세입없음",CONCATENATE(AG32,"-",COUNTIF($AG$7:AG32,AG32)))) | AG32: {=IF(C32="","",INDEX(구분표!$I$2:$I$313, MATCH(1,(구분표!$E$2:$E$313='17년특입'!B32)*(구분표!$F$2:$F$313='17년특입'!C32)*(구분표!$G$2:$G$313='17년특입'!A32),0)))} | AK32: =IF(AE32="",0,SUMIFS('17년일출'!$X$6:$X$223,'17년일출'!$AG$6:$AG$223,'17년특입'!$AE32)) -> 0 | AL32: =IF(AE32="","",COUNTIFS('17년일출'!$AG$6:$AG$223,'17년특입'!AE32)) | AM32: =IF(V32=AK32,"OK","@@") -> OK | AO32: =IF(AE32="",0,SUMIFS('17년일출'!$AC$6:$AC$223,'17년일출'!$AG$6:$AG$223,'17년특입'!$AE32)) -> 0 | AP32: =IF(AE32="","",COUNTIFS('17년일출'!$AG$6:$AG$223,AE32)) | AQ32: =IF(AA32=AO32,"OK","@@") -> OK
A33: =IFERROR(VLOOKUP($C33,구분표!$A$2:$C$313,2,FALSE),"") | B33: =IFERROR(VLOOKUP($C33,구분표!$A$2:$C$313,3,FALSE),"") | J33: =SUM(G33:I33) -> 0 | M33: =SUM(G33,K33,L33) -> 0 | N33: =IF(AND((J33=0),(M33>0)),"O",IF(AND((H33<0),(J33-M33<0)),"O","X")) -> X | V33: =IF($U33<>"도비",IF($S33="국도비","직접입력",SUM($H33:$I33)),) -> 0 | W33: =IF($U33="도비",SUM($H33:$I33),IF($S33="국도비","직접입력",SUM($H33:$I33)-$V33)) -> 0 | X33: =IF(SUM($H33:$I33)=SUM($V33:$W33),"OK","검토") -> OK | AA33: =IF($U33<>"도비",IF($S33="국도비","직접입력",SUM($K33:$L33)),) -> 0 | AB33: =IF($U33="도비",SUM(K33:L33),IF($S33="국도비","직접입력",SUM(K33:L33)-AA33)) -> 0 | AC33: =IF(SUM(K33:L33)=SUM(AA33:AB33),"OK","검토") -> OK | AE33: =IF(AG33="","",IF(U33="도비","세입없음",CONCATENATE(AG33,"-",COUNTIF($AG$7:AG33,AG33)))) | AG33: {=IF(C33="","",INDEX(구분표!$I$2:$I$313, MATCH(1,(구분표!$E$2:$E$313='17년특입'!B33)*(구분표!$F$2:$F$313='17년특입'!C33)*(구분표!$G$2:$G$313='17년특입'!A33),0)))} | AK33: =IF(AE33="",0,SUMIFS('17년일출'!$X$6:$X$223,'17년일출'!$AG$6:$AG$223,'17년특입'!$AE33)) -> 0 | AL33: =IF(AE33="","",COUNTIFS('17년일출'!$AG$6:$AG$223,'17년특입'!AE33)) | AM33: =IF(V33=AK33,"OK","@@") -> OK | AO33: =IF(AE33="",0,SUMIFS('17년일출'!$AC$6:$AC$223,'17년일출'!$AG$6:$AG$223,'17년특입'!$AE33)) -> 0 | AP33: =IF(AE33="","",COUNTIFS('17년일출'!$AG$6:$AG$223,AE33)) | AQ33: =IF(AA33=AO33,"OK","@@") -> OK
A34: =IFERROR(VLOOKUP($C34,구분표!$A$2:$C$313,2,FALSE),"") | B34: =IFERROR(VLOOKUP($C34,구분표!$A$2:$C$313,3,FALSE),"") | J34: =SUM(G34:I34) -> 0 | M34: =SUM(G34,K34,L34) -> 0 | N34: =IF(AND((J34=0),(M34>0)),"O",IF(AND((H34<0),(J34-M34<0)),"O","X")) -> X | V34: =IF($U34<>"도비",IF($S34="국도비","직접입력",SUM($H34:$I34)),) -> 0 | W34: =IF($U34="도비",SUM($H34:$I34),IF($S34="국도비","직접입력",SUM($H34:$I34)-$V34)) -> 0 | X34: =IF(SUM($H34:$I34)=SUM($V34:$W34),"OK","검토") -> OK | AA34: =IF($U34<>"도비",IF($S34="국도비","직접입력",SUM($K34:$L34)),) -> 0 | AB34: =IF($U34="도비",SUM(K34:L34),IF($S34="국도비","직접입력",SUM(K34:L34)-AA34)) -> 0 | AC34: =IF(SUM(K34:L34)=SUM(AA34:AB34),"OK","검토") -> OK | AE34: =IF(AG34="","",IF(U34="도비","세입없음",CONCATENATE(AG34,"-",COUNTIF($AG$7:AG34,AG34)))) | AG34: {=IF(C34="","",INDEX(구분표!$I$2:$I$313, MATCH(1,(구분표!$E$2:$E$313='17년특입'!B34)*(구분표!$F$2:$F$313='17년특입'!C34)*(구분표!$G$2:$G$313='17년특입'!A34),0)))} | AK34: =IF(AE34="",0,SUMIFS('17년일출'!$X$6:$X$223,'17년일출'!$AG$6:$AG$223,'17년특입'!$AE34)) -> 0 | AL34: =IF(AE34="","",COUNTIFS('17년일출'!$AG$6:$AG$223,'17년특입'!AE34)) | AM34: =IF(V34=AK34,"OK","@@") -> OK | AO34: =IF(AE34="",0,SUMIFS('17년일출'!$AC$6:$AC$223,'17년일출'!$AG$6:$AG$223,'17년특입'!$AE34)) -> 0 | AP34: =IF(AE34="","",COUNTIFS('17년일출'!$AG$6:$AG$223,AE34)) | AQ34: =IF(AA34=AO34,"OK","@@") -> OK
A35: =IFERROR(VLOOKUP($C35,구분표!$A$2:$C$313,2,FALSE),"") | B35: =IFERROR(VLOOKUP($C35,구분표!$A$2:$C$313,3,FALSE),"") | J35: =SUM(G35:I35) -> 0 | M35: =SUM(G35,K35,L35) -> 0 | N35: =IF(AND((J35=0),(M35>0)),"O",IF(AND((H35<0),(J35-M35<0)),"O","X")) -> X | V35: =IF($U35<>"도비",IF($S35="국도비","직접입력",SUM($H35:$I35)),) -> 0 | W35: =IF($U35="도비",SUM($H35:$I35),IF($S35="국도비","직접입력",SUM($H35:$I35)-$V35)) -> 0 | X35: =IF(SUM($H35:$I35)=SUM($V35:$W35),"OK","검토") -> OK | AA35: =IF($U35<>"도비",IF($S35="국도비","직접입력",SUM($K35:$L35)),) -> 0 | AB35: =IF($U35="도비",SUM(K35:L35),IF($S35="국도비","직접입력",SUM(K35:L35)-AA35)) -> 0 | AC35: =IF(SUM(K35:L35)=SUM(AA35:AB35),"OK","검토") -> OK | AE35: =IF(AG35="","",IF(U35="도비","세입없음",CONCATENATE(AG35,"-",COUNTIF($AG$7:AG35,AG35)))) | AG35: {=IF(C35="","",INDEX(구분표!$I$2:$I$313, MATCH(1,(구분표!$E$2:$E$313='17년특입'!B35)*(구분표!$F$2:$F$313='17년특입'!C35)*(구분표!$G$2:$G$313='17년특입'!A35),0)))} | AK35: =IF(AE35="",0,SUMIFS('17년일출'!$X$6:$X$223,'17년일출'!$AG$6:$AG$223,'17년특입'!$AE35)) -> 0 | AL35: =IF(AE35="","",COUNTIFS('17년일출'!$AG$6:$AG$223,'17년특입'!AE35)) | AM35: =IF(V35=AK35,"OK","@@") -> OK | AO35: =IF(AE35="",0,SUMIFS('17년일출'!$AC$6:$AC$223,'17년일출'!$AG$6:$AG$223,'17년특입'!$AE35)) -> 0 | AP35: =IF(AE35="","",COUNTIFS('17년일출'!$AG$6:$AG$223,AE35)) | AQ35: =IF(AA35=AO35,"OK","@@") -> OK
A36: =IFERROR(VLOOKUP($C36,구분표!$A$2:$C$313,2,FALSE),"") | B36: =IFERROR(VLOOKUP($C36,구분표!$A$2:$C$313,3,FALSE),"") | J36: =SUM(G36:I36) -> 0 | M36: =SUM(G36,K36,L36) -> 0 | N36: =IF(AND((J36=0),(M36>0)),"O",IF(AND((H36<0),(J36-M36<0)),"O","X")) -> X | V36: =IF($U36<>"도비",IF($S36="국도비","직접입력",SUM($H36:$I36)),) -> 0 | W36: =IF($U36="도비",SUM($H36:$I36),IF($S36="국도비","직접입력",SUM($H36:$I36)-$V36)) -> 0 | X36: =IF(SUM($H36:$I36)=SUM($V36:$W36),"OK","검토") -> OK | AA36: =IF($U36<>"도비",IF($S36="국도비","직접입력",SUM($K36:$L36)),) -> 0 | AB36: =IF($U36="도비",SUM(K36:L36),IF($S36="국도비","직접입력",SUM(K36:L36)-AA36)) -> 0 | AC36: =IF(SUM(K36:L36)=SUM(AA36:AB36),"OK","검토") -> OK | AE36: =IF(AG36="","",IF(U36="도비","세입없음",CONCATENATE(AG36,"-",COUNTIF($AG$7:AG36,AG36)))) | AG36: {=IF(C36="","",INDEX(구분표!$I$2:$I$313, MATCH(1,(구분표!$E$2:$E$313='17년특입'!B36)*(구분표!$F$2:$F$313='17년특입'!C36)*(구분표!$G$2:$G$313='17년특입'!A36),0)))} | AK36: =IF(AE36="",0,SUMIFS('17년일출'!$X$6:$X$223,'17년일출'!$AG$6:$AG$223,'17년특입'!$AE36)) -> 0 | AL36: =IF(AE36="","",COUNTIFS('17년일출'!$AG$6:$AG$223,'17년특입'!AE36)) | AM36: =IF(V36=AK36,"OK","@@") -> OK | AO36: =IF(AE36="",0,SUMIFS('17년일출'!$AC$6:$AC$223,'17년일출'!$AG$6:$AG$223,'17년특입'!$AE36)) -> 0 | AP36: =IF(AE36="","",COUNTIFS('17년일출'!$AG$6:$AG$223,AE36)) | AQ36: =IF(AA36=AO36,"OK","@@") -> OK
A37: =IFERROR(VLOOKUP($C37,구분표!$A$2:$C$313,2,FALSE),"") | B37: =IFERROR(VLOOKUP($C37,구분표!$A$2:$C$313,3,FALSE),"") | J37: =SUM(G37:I37) -> 0 | M37: =SUM(G37,K37,L37) -> 0 | N37: =IF(AND((J37=0),(M37>0)),"O",IF(AND((H37<0),(J37-M37<0)),"O","X")) -> X | V37: =IF($U37<>"도비",IF($S37="국도비","직접입력",SUM($H37:$I37)),) -> 0 | W37: =IF($U37="도비",SUM($H37:$I37),IF($S37="국도비","직접입력",SUM($H37:$I37)-$V37)) -> 0 | X37: =IF(SUM($H37:$I37)=SUM($V37:$W37),"OK","검토") -> OK | AA37: =IF($U37<>"도비",IF($S37="국도비","직접입력",SUM($K37:$L37)),) -> 0 | AB37: =IF($U37="도비",SUM(K37:L37),IF($S37="국도비","직접입력",SUM(K37:L37)-AA37)) -> 0 | AC37: =IF(SUM(K37:L37)=SUM(AA37:AB37),"OK","검토") -> OK | AE37: =IF(AG37="","",IF(U37="도비","세입없음",CONCATENATE(AG37,"-",COUNTIF($AG$7:AG37,AG37)))) | AG37: {=IF(C37="","",INDEX(구분표!$I$2:$I$313, MATCH(1,(구분표!$E$2:$E$313='17년특입'!B37)*(구분표!$F$2:$F$313='17년특입'!C37)*(구분표!$G$2:$G$313='17년특입'!A37),0)))} | AK37: =IF(AE37="",0,SUMIFS('17년일출'!$X$6:$X$223,'17년일출'!$AG$6:$AG$223,'17년특입'!$AE37)) -> 0 | AL37: =IF(AE37="","",COUNTIFS('17년일출'!$AG$6:$AG$223,'17년특입'!AE37)) | AM37: =IF(V37=AK37,"OK","@@") -> OK | AO37: =IF(AE37="",0,SUMIFS('17년일출'!$AC$6:$AC$223,'17년일출'!$AG$6:$AG$223,'17년특입'!$AE37)) -> 0 | AP37: =IF(AE37="","",COUNTIFS('17년일출'!$AG$6:$AG$223,AE37)) | AQ37: =IF(AA37=AO37,"OK","@@") -> OK
A38: =IFERROR(VLOOKUP($C38,구분표!$A$2:$C$313,2,FALSE),"") | B38: =IFERROR(VLOOKUP($C38,구분표!$A$2:$C$313,3,FALSE),"") | J38: =SUM(G38:I38) -> 0 | M38: =SUM(G38,K38,L38) -> 0 | N38: =IF(AND((J38=0),(M38>0)),"O",IF(AND((H38<0),(J38-M38<0)),"O","X")) -> X | V38: =IF($U38<>"도비",IF($S38="국도비","직접입력",SUM($H38:$I38)),) -> 0 | W38: =IF($U38="도비",SUM($H38:$I38),IF($S38="국도비","직접입력",SUM($H38:$I38)-$V38)) -> 0 | X38: =IF(SUM($H38:$I38)=SUM($V38:$W38),"OK","검토") -> OK | AA38: =IF($U38<>"도비",IF($S38="국도비","직접입력",SUM($K38:$L38)),) -> 0 | AB38: =IF($U38="도비",SUM(K38:L38),IF($S38="국도비","직접입력",SUM(K38:L38)-AA38)) -> 0 | AC38: =IF(SUM(K38:L38)=SUM(AA38:AB38),"OK","검토") -> OK | AE38: =IF(AG38="","",IF(U38="도비","세입없음",CONCATENATE(AG38,"-",COUNTIF($AG$7:AG38,AG38)))) | AG38: {=IF(C38="","",INDEX(구분표!$I$2:$I$313, MATCH(1,(구분표!$E$2:$E$313='17년특입'!B38)*(구분표!$F$2:$F$313='17년특입'!C38)*(구분표!$G$2:$G$313='17년특입'!A38),0)))} | AK38: =IF(AE38="",0,SUMIFS('17년일출'!$X$6:$X$223,'17년일출'!$AG$6:$AG$223,'17년특입'!$AE38)) -> 0 | AL38: =IF(AE38="","",COUNTIFS('17년일출'!$AG$6:$AG$223,'17년특입'!AE38)) | AM38: =IF(V38=AK38,"OK","@@") -> OK | AO38: =IF(AE38="",0,SUMIFS('17년일출'!$AC$6:$AC$223,'17년일출'!$AG$6:$AG$223,'17년특입'!$AE38)) -> 0 | AP38: =IF(AE38="","",COUNTIFS('17년일출'!$AG$6:$AG$223,AE38)) | AQ38: =IF(AA38=AO38,"OK","@@") -> OK
A39: =IFERROR(VLOOKUP($C39,구분표!$A$2:$C$313,2,FALSE),"") | B39: =IFERROR(VLOOKUP($C39,구분표!$A$2:$C$313,3,FALSE),"") | J39: =SUM(G39:I39) -> 0 | M39: =SUM(G39,K39,L39) -> 0 | N39: =IF(AND((J39=0),(M39>0)),"O",IF(AND((H39<0),(J39-M39<0)),"O","X")) -> X | V39: =IF($U39<>"도비",IF($S39="국도비","직접입력",SUM($H39:$I39)),) -> 0 | W39: =IF($U39="도비",SUM($H39:$I39),IF($S39="국도비","직접입력",SUM($H39:$I39)-$V39)) -> 0 | X39: =IF(SUM($H39:$I39)=SUM($V39:$W39),"OK","검토") -> OK | AA39: =IF($U39<>"도비",IF($S39="국도비","직접입력",SUM($K39:$L39)),) -> 0 | AB39: =IF($U39="도비",SUM(K39:L39),IF($S39="국도비","직접입력",SUM(K39:L39)-AA39)) -> 0 | AC39: =IF(SUM(K39:L39)=SUM(AA39:AB39),"OK","검토") -> OK | AE39: =IF(AG39="","",IF(U39="도비","세입없음",CONCATENATE(AG39,"-",COUNTIF($AG$7:AG39,AG39)))) | AG39: {=IF(C39="","",INDEX(구분표!$I$2:$I$313, MATCH(1,(구분표!$E$2:$E$313='17년특입'!B39)*(구분표!$F$2:$F$313='17년특입'!C39)*(구분표!$G$2:$G$313='17년특입'!A39),0)))} | AK39: =IF(AE39="",0,SUMIFS('17년일출'!$X$6:$X$223,'17년일출'!$AG$6:$AG$223,'17년특입'!$AE39)) -> 0 | AL39: =IF(AE39="","",COUNTIFS('17년일출'!$AG$6:$AG$223,'17년특입'!AE39)) | AM39: =IF(V39=AK39,"OK","@@") -> OK | AO39: =IF(AE39="",0,SUMIFS('17년일출'!$AC$6:$AC$223,'17년일출'!$AG$6:$AG$223,'17년특입'!$AE39)) -> 0 | AP39: =IF(AE39="","",COUNTIFS('17년일출'!$AG$6:$AG$223,AE39)) | AQ39: =IF(AA39=AO39,"OK","@@") -> OK

Sheet 17년특출
A1: 2017년도 경기도 특별회계 세출 예산 조정(안)
A2: □ 세출예산 | V2: 세입=세출 | AA2: 세입=세출
Q3: (단위 : 천원) | V3: =IF(V6='17년일입'!W6,"OK","@@") -> @@ | X3: =IF(COUNTIF(X6:X39,"검토")>0,"@@","OK") -> OK | AA3: =IF(AA6='17년일입'!AB6,"OK","@@") -> OK | AC3: =IF(COUNTIF(AC6:AC39,"검토")>0,"@@","OK") -> OK
A4: 위원회명 | B4: 실국명 | C4: 부서명 | D4: 편성 구분 | E4: 예산안 페이지 | F4: 사업명 | G4: 예산안 (가) | H4: 상임위 예산안 조정액(나) | J4: 상임위 조정 예산안 (다=가+나) | K4: 예결위 예산안 조정액(라) | M4: 예결위 조정 예산안 (마=가+라) | N4: 동의 대상 | O4: 상임위 변경사유 (심의 참고자료) | P4: 비고 (상임위 부대의견) | Q4: 비고 (부대의견) | S4: 국도비 등 여부 | U4: 재원 | V4: 상임위 재원별 증감액 | Z4: 재원 | AA4: 예결위 재원별 증감액 | AE4: 세입번호 | AG4: 동일 세입 건수 | AH4: 세출 번호 검증 | AJ4: 실국부서 코드 | AL4: 추가 내시 등
H5: 감액 | I5: 증액 | K5: 감액 | L5: 증액 | V5: 국비 등 | W5: 도비 | X5: 검증 | AA5: 국비 등 | AB5: 도비 | AC5: 검증
A6: 합 계 | G6: =SUBTOTAL(9,G7:G39)/2 -> 0 | H6: =SUBTOTAL(9,H7:H39)/2 -> 0 | I6: =SUBTOTAL(9,I7:I39)/2 -> 0 | J6: =SUBTOTAL(9,J7:J39)/2 -> 0 | K6: =SUBTOTAL(9,K7:K39)/2 -> 0 | L6: =SUBTOTAL(9,L7:L39)/2 -> 0 | M6: =SUBTOTAL(9,M7:M39)/2 -> 0 | V6: =SUBTOTAL(9,V7:V39) -> 0 | W6: =SUBTOTAL(9,W7:W39) -> 0 | X6: =IF(SUM($H6:$I6)=SUM($V6:$W6),"OK","검토") -> OK | AA6: =SUBTOTAL(9,AA7:AA39) -> 0 | AB6: =SUBTOTAL(9,AB7:AB39) -> 0 | AC6: =IF(SUM($H6:$I6)=SUM($V6:$W6),"OK","검토") -> OK
A7: ( 특별회계) | G7: =SUM(G8:G17) -> 0 | H7: =SUM(H8:H17) -> 0 | I7: =SUM(I8:I17) -> 0 | J7: =SUM(J8:J17) -> 0 | K7: =SUM(K8:K17) -> 0 | L7: =SUM(L8:L17) -> 0 | M7: =SUM(M8:M17) -> 0
A8: =IFERROR(VLOOKUP($C8,구분표!$A$2:$C$313,2,FALSE),"") | B8: =IFERROR(VLOOKUP($C8,구분표!$A$2:$C$313,3,FALSE),"") | D8: 본예산 | J8: =G8+H8+I8 -> 0 | M8: =G8+K8+L8 -> 0 | N8: =IF(AND((J8=0),(M8>0)),"O",IF(AND((H8<0),(J8-M8<0)),"O","X")) -> X | V8: =IF($U8<>"도비",IF($S8="국도비","직접입력",SUM($H8:$I8)),) -> 0 | W8: =IF($U8="도비",SUM($H8:$I8),IF($S8="국도비","직접입력",SUM($H8:$I8)-$V8)) -> 0 | X8: =IF(SUM($H8:$I8)=SUM($V8:$W8),"OK","검토") -> OK | AA8: =IF($U8<>"도비",IF($S8="국도비","직접입력",SUM($K8:$L8)),) -> 0 | AB8: =IF($U8="도비",SUM(K8:L8),IF($S8="국도비","직접입력",SUM(K8:L8)-AA8)) -> 0 | AC8: =IF(SUM(K8:L8)=SUM(AA8:AB8),"OK","검토") -> OK | AE8: =IF(U8="","",IF(U8="도비","세입없음","직접입력")) | AG8: =IF(AE8="","",COUNTIF($AE$7:$AE$39,AE8)) | AH8: =IF(U8="","",IF(AND(U8="도비",AE8="세입없음"),"OK",IF(AND(U8<>"도비",AE8<>""),"OK","@@"))) | AJ8: {=IF(C8="","",INDEX(구분표!$I$2:$I$313, MATCH(1,(구분표!$E$2:$E$313='17년특출'!B8)*(구분표!$F$2:$F$313='17년특출'!C8)*(구분표!$G$2:$G$313='17년특출'!A8),0)))}
A9: =IFERROR(VLOOKUP($C9,구분표!$A$2:$C$313,2,FALSE),"") | B9: =IFERROR(VLOOKUP($C9,구분표!$A$2:$C$313,3,FALSE),"") | D9: 신규 | J9: =G9+H9+I9 -> 0 | M9: =G9+K9+L9 -> 0 | N9: =IF(AND((J9=0),(M9>0)),"O",IF(AND((H9<0),(J9-M9<0)),"O","X")) -> X | V9: =IF($U9<>"도비",IF($S9="국도비","직접입력",SUM($H9:$I9)),) -> 0 | W9: =IF($U9="도비",SUM($H9:$I9),IF($S9="국도비","직접입력",SUM($H9:$I9)-$V9)) -> 0 | X9: =IF(SUM($H9:$I9)=SUM($V9:$W9),"OK","검토") -> OK | AA9: =IF($U9<>"도비",IF($S9="국도비","직접입력",SUM($K9:$L9)),) -> 0 | AB9: =IF($U9="도비",SUM(K9:L9),IF($S9="국도비","직접입력",SUM(K9:L9)-AA9)) -> 0 | AC9: =IF(SUM(K9:L9)=SUM(AA9:AB9),"OK","검토") -> OK | AE9: =IF(U9="","",IF(U9="도비","세입없음","직접입력")) | AG9: =IF(AE9="","",COUNTIF($AE$7:$AE$39,AE9)) | AH9: =IF(U9="","",IF(AND(U9="도비",AE9="세입없음"),"OK",IF(AND(U9<>"도비",AE9<>""),"OK","@@"))) | AJ9: {=IF(C9="","",INDEX(구분표!$I$2:$I$313, MATCH(1,(구분표!$E$2:$E$313='17년특출'!B9)*(구분표!$F$2:$F$313='17년특출'!C9)*(구분표!$G$2:$G$313='17년특출'!A9),0)))}
A10: =IFERROR(VLOOKUP($C10,구분표!$A$2:$C$313,2,FALSE),"") | B10: =IFERROR(VLOOKUP($C10,구분표!$A$2:$C$313,3,FALSE),"") | J10: =G10+H10+I10 -> 0 | M10: =G10+K10+L10 -> 0 | N10: =IF(AND((J10=0),(M10>0)),"O",IF(AND((H10<0),(J10-M10<0)),"O","X")) -> X | V10: =IF($U10<>"도비",IF($S10="국도비","직접입력",SUM($H10:$I10)),) -> 0 | W10: =IF($U10="도비",SUM($H10:$I10),IF($S10="국도비","직접입력",SUM($H10:$I10)-$V10)) -> 0 | X10: =IF(SUM($H10:$I10)=SUM($V10:$W10),"OK","검토") -> OK | AA10: =IF($U10<>"도비",IF($S10="국도비","직접입력",SUM($K10:$L10)),) -> 0 | AB10: =IF($U10="도비",SUM(K10:L10),IF($S10="국도비","직접입력",SUM(K10:L10)-AA10)) -> 0 | AC10: =IF(SUM(K10:L10)=SUM(AA10:AB10),"OK","검토") -> OK | AE10: =IF(U10="","",IF(U10="도비","세입없음","직접입력")) | AG10: =IF(AE10="","",COUNTIF($AE$7:$AE$39,AE10)) | AH10: =IF(U10="","",IF(AND(U10="도비",AE10="세입없음"),"OK",IF(AND(U10<>"도비",AE10<>""),"OK","@@"))) | AJ10: {=IF(C10="","",INDEX(구분표!$I$2:$I$313, MATCH(1,(구분표!$E$2:$E$313='17년특출'!B10)*(구분표!$F$2:$F$313='17년특출'!C10)*(구분표!$G$2:$G$313='17년특출'!A10),0)))}
A11: =IFERROR(VLOOKUP($C11,구분표!$A$2:$C$313,2,FALSE),"") | B11: =IFERROR(VLOOKUP($C11,구분표!$A$2:$C$313,3,FALSE),"") | J11: =G11+H11+I11 -> 0 | M11: =G11+K11+L11 -> 0 | N11: =IF(AND((J11=0),(M11>0)),"O",IF(AND((H11<0),(J11-M11<0)),"O","X")) -> X | V11: =IF($U11<>"도비",IF($S11="국도비","직접입력",SUM($H11:$I11)),) -> 0 | W11: =IF($U11="도비",SUM($H11:$I11),IF($S11="국도비","직접입력",SUM($H11:$I11)-$V11)) -> 0 | X11: =IF(SUM($H11:$I11)=SUM($V11:$W11),"OK","검토") -> OK | AA11: =IF($U11<>"도비",IF($S11="국도비","직접입력",SUM($K11:$L11)),) -> 0 | AB11: =IF($U11="도비",SUM(K11:L11),IF($S11="국도비","직접입력",SUM(K11:L11)-AA11)) -> 0 | AC11: =IF(SUM(K11:L11)=SUM(AA11:AB11),"OK","검토") -> OK | AE11: =IF(U11="","",IF(U11="도비","세입없음","직접입력")) | AG11: =IF(AE11="","",COUNTIF($AE$7:$AE$39,AE11)) | AH11: =IF(U11="","",IF(AND(U11="도비",AE11="세입없음"),"OK",IF(AND(U11<>"도비",AE11<>""),"OK","@@"))) | AJ11: {=IF(C11="","",INDEX(구분표!$I$2:$I$313, MATCH(1,(구분표!$E$2:$E$313='17년특출'!B11)*(구분표!$F$2:$F$313='17년특출'!C11)*(구분표!$G$2:$G$313='17년특출'!A11),0)))}
A12: =IFERROR(VLOOKUP($C12,구분표!$A$2:$C$313,2,FALSE),"") | B12: =IFERROR(VLOOKUP($C12,구분표!$A$2:$C$313,3,FALSE),"") | J12: =G12+H12+I12 -> 0 | M12: =G12+K12+L12 -> 0 | N12: =IF(AND((J12=0),(M12>0)),"O",IF(AND((H12<0),(J12-M12<0)),"O","X")) -> X | V12: =IF($U12<>"도비",IF($S12="국도비","직접입력",SUM($H12:$I12)),) -> 0 | W12: =IF($U12="도비",SUM($H12:$I12),IF($S12="국도비","직접입력",SUM($H12:$I12)-$V12)) -> 0 | X12: =IF(SUM($H12:$I12)=SUM($V12:$W12),"OK","검토") -> OK | AA12: =IF($U12<>"도비",IF($S12="국도비","직접입력",SUM($K12:$L12)),) -> 0 | AB12: =IF($U12="도비",SUM(K12:L12),IF($S12="국도비","직접입력",SUM(K12:L12)-AA12)) -> 0 | AC12: =IF(SUM(K12:L12)=SUM(AA12:AB12),"OK","검토") -> OK | AE12: =IF(U12="","",IF(U12="도비","세입없음","직접입력")) | AG12: =IF(AE12="","",COUNTIF($AE$7:$AE$39,AE12)) | AH12: =IF(U12="","",IF(AND(U12="도비",AE12="세입없음"),"OK",IF(AND(U12<>"도비",AE12<>""),"OK","@@"))) | AJ12: {=IF(C12="","",INDEX(구분표!$I$2:$I$313, MATCH(1,(구분표!$E$2:$E$313='17년특출'!B12)*(구분표!$F$2:$F$313='17년특출'!C12)*(구분표!$G$2:$G$313='17년특출'!A12),0)))}
A13: =IFERROR(VLOOKUP($C13,구분표!$A$2:$C$313,2,FALSE),"") | B13: =IFERROR(VLOOKUP($C13,구분표!$A$2:$C$313,3,FALSE),"") | J13: =G13+H13+I13 -> 0 | M13: =G13+K13+L13 -> 0 | N13: =IF(AND((J13=0),(M13>0)),"O",IF(AND((H13<0),(J13-M13<0)),"O","X")) -> X | V13: =IF($U13<>"도비",IF($S13="국도비","직접입력",SUM($H13:$I13)),) -> 0 | W13: =IF($U13="도비",SUM($H13:$I13),IF($S13="국도비","직접입력",SUM($H13:$I13)-$V13)) -> 0 | X13: =IF(SUM($H13:$I13)=SUM($V13:$W13),"OK","검토") -> OK | AA13: =IF($U13<>"도비",IF($S13="국도비","직접입력",SUM($K13:$L13)),) -> 0 | AB13: =IF($U13="도비",SUM(K13:L13),IF($S13="국도비","직접입력",SUM(K13:L13)-AA13)) -> 0 | AC13: =IF(SUM(K13:L13)=SUM(AA13:AB13),"OK","검토") -> OK | AE13: =IF(U13="","",IF(U13="도비","세입없음","직접입력")) | AG13: =IF(AE13="","",COUNTIF($AE$7:$AE$39,AE13)) | AH13: =IF(U13="","",IF(AND(U13="도비",AE13="세입없음"),"OK",IF(AND(U13<>"도비",AE13<>""),"OK","@@"))) | AJ13: {=IF(C13="","",INDEX(구분표!$I$2:$I$313, MATCH(1,(구분표!$E$2:$E$313='17년특출'!B13)*(구분표!$F$2:$F$313='17년특출'!C13)*(구분표!$G$2:$G$313='17년특출'!A13),0)))}
A14: =IFERROR(VLOOKUP($C14,구분표!$A$2:$C$313,2,FALSE),"") | B14: =IFERROR(VLOOKUP($C14,구분표!$A$2:$C$313,3,FALSE),"") | J14: =G14+H14+I14 -> 0 | M14: =G14+K14+L14 -> 0 | N14: =IF(AND((J14=0),(M14>0)),"O",IF(AND((H14<0),(J14-M14<0)),"O","X")) -> X | V14: =IF($U14<>"도비",IF($S14="국도비","직접입력",SUM($H14:$I14)),) -> 0 | W14: =IF($U14="도비",SUM($H14:$I14),IF($S14="국도비","직접입력",SUM($H14:$I14)-$V14)) -> 0 | X14: =IF(SUM($H14:$I14)=SUM($V14:$W14),"OK","검토") -> OK | AA14: =IF($U14<>"도비",IF($S14="국도비","직접입력",SUM($K14:$L14)),) -> 0 | AB14: =IF($U14="도비",SUM(K14:L14),IF($S14="국도비","직접입력",SUM(K14:L14)-AA14)) -> 0 | AC14: =IF(SUM(K14:L14)=SUM(AA14:AB14),"OK","검토") -> OK | AE14: =IF(U14="","",IF(U14="도비","세입없음","직접입력")) | AG14: =IF(AE14="","",COUNTIF($AE$7:$AE$39,AE14)) | AH14: =IF(U14="","",IF(AND(U14="도비",AE14="세입없음"),"OK",IF(AND(U14<>"도비",AE14<>""),"OK","@@"))) | AJ14: {=IF(C14="","",INDEX(구분표!$I$2:$I$313, MATCH(1,(구분표!$E$2:$E$313='17년특출'!B14)*(구분표!$F$2:$F$313='17년특출'!C14)*(구분표!$G$2:$G$313='17년특출'!A14),0)))}
A15: =IFERROR(VLOOKUP($C15,구분표!$A$2:$C$313,2,FALSE),"") | B15: =IFERROR(VLOOKUP($C15,구분표!$A$2:$C$313,3,FALSE),"") | J15: =G15+H15+I15 -> 0 | M15: =G15+K15+L15 -> 0 | N15: =IF(AND((J15=0),(M15>0)),"O",IF(AND((H15<0),(J15-M15<0)),"O","X")) -> X | V15: =IF($U15<>"도비",IF($S15="국도비","직접입력",SUM($H15:$I15)),) -> 0 | W15: =IF($U15="도비",SUM($H15:$I15),IF($S15="국도비","직접입력",SUM($H15:$I15)-$V15)) -> 0 | X15: =IF(SUM($H15:$I15)=SUM($V15:$W15),"OK","검토") -> OK | AA15: =IF($U15<>"도비",IF($S15="국도비","직접입력",SUM($K15:$L15)),) -> 0 | AB15: =IF($U15="도비",SUM(K15:L15),IF($S15="국도비","직접입력",SUM(K15:L15)-AA15)) -> 0 | AC15: =IF(SUM(K15:L15)=SUM(AA15:AB15),"OK","검토") -> OK | AE15: =IF(U15="","",IF(U15="도비","세입없음","직접입력")) | AG15: =IF(AE15="","",COUNTIF($AE$7:$AE$39,AE15)) | AH15: =IF(U15="","",IF(AND(U15="도비",AE15="세입없음"),"OK",IF(AND(U15<>"도비",AE15<>""),"OK","@@"))) | AJ15: {=IF(C15="","",INDEX(구분표!$I$2:$I$313, MATCH(1,(구분표!$E$2:$E$313='17년특출'!B15)*(구분표!$F$2:$F$313='17년특출'!C15)*(구분표!$G$2:$G$313='17년특출'!A15),0)))}
A16: =IFERROR(VLOOKUP($C16,구분표!$A$2:$C$313,2,FALSE),"") | B16: =IFERROR(VLOOKUP($C16,구분표!$A$2:$C$313,3,FALSE),"") | J16: =G16+H16+I16 -> 0 | M16: =G16+K16+L16 -> 0 | N16: =IF(AND((J16=0),(M16>0)),"O",IF(AND((H16<0),(J16-M16<0)),"O","X")) -> X | V16: =IF($U16<>"도비",IF($S16="국도비","직접입력",SUM($H16:$I16)),) -> 0 | W16: =IF($U16="도비",SUM($H16:$I16),IF($S16="국도비","직접입력",SUM($H16:$I16)-$V16)) -> 0 | X16: =IF(SUM($H16:$I16)=SUM($V16:$W16),"OK","검토") -> OK | AA16: =IF($U16<>"도비",IF($S16="국도비","직접입력",SUM($K16:$L16)),) -> 0 | AB16: =IF($U16="도비",SUM(K16:L16),IF($S16="국도비","직접입력",SUM(K16:L16)-AA16)) -> 0 | AC16: =IF(SUM(K16:L16)=SUM(AA16:AB16),"OK","검토") -> OK | AE16: =IF(U16="","",IF(U16="도비","세입없음","직접입력")) | AG16: =IF(AE16="","",COUNTIF($AE$7:$AE$39,AE16)) | AH16: =IF(U16="","",IF(AND(U16="도비",AE16="세입없음"),"OK",IF(AND(U16<>"도비",AE16<>""),"OK","@@"))) | AJ16: {=IF(C16="","",INDEX(구분표!$I$2:$I$313, MATCH(1,(구분표!$E$2:$E$313='17년특출'!B16)*(구분표!$F$2:$F$313='17년특출'!C16)*(구분표!$G$2:$G$313='17년특출'!A16),0)))}
A17: =IFERROR(VLOOKUP($C17,구분표!$A$2:$C$313,2,FALSE),"") | B17: =IFERROR(VLOOKUP($C17,구분표!$A$2:$C$313,3,FALSE),"") | J17: =G17+H17+I17 -> 0 | M17: =G17+K17+L17 -> 0 | N17: =IF(AND((J17=0),(M17>0)),"O",IF(AND((H17<0),(J17-M17<0)),"O","X")) -> X | V17: =IF($U17<>"도비",IF($S17="국도비","직접입력",SUM($H17:$I17)),) -> 0 | W17: =IF($U17="도비",SUM($H17:$I17),IF($S17="국도비","직접입력",SUM($H17:$I17)-$V17)) -> 0 | X17: =IF(SUM($H17:$I17)=SUM($V17:$W17),"OK","검토") -> OK | AA17: =IF($U17<>"도비",IF($S17="국도비","직접입력",SUM($K17:$L17)),) -> 0 | AB17: =IF($U17="도비",SUM(K17:L17),IF($S17="국도비","직접입력",SUM(K17:L17)-AA17)) -> 0 | AC17: =IF(SUM(K17:L17)=SUM(AA17:AB17),"OK","검토") -> OK | AE17: =IF(U17="","",IF(U17="도비","세입없음","직접입력")) | AG17: =IF(AE17="","",COUNTIF($AE$7:$AE$39,AE17)) | AH17: =IF(U17="","",IF(AND(U17="도비",AE17="세입없음"),"OK",IF(AND(U17<>"도비",AE17<>""),"OK","@@"))) | AJ17: {=IF(C17="","",INDEX(구분표!$I$2:$I$313, MATCH(1,(구분표!$E$2:$E$313='17년특출'!B17)*(구분표!$F$2:$F$313='17년특출'!C17)*(구분표!$G$2:$G$313='17년특출'!A17),0)))}
A18: ( 특별회계) | G18: =SUM(G19:G28) -> 0 | H18: =SUM(H19:H28) -> 0 | I18: =SUM(I19:I28) -> 0 | J18: =SUM(J19:J28) -> 0 | K18: =SUM(K19:K28) -> 0 | L18: =SUM(L19:L28) -> 0 | M18: =SUM(M19:M28) -> 0 | AE18: =IF(U18="","",IF(U18="도비","세입없음","직접입력"))
A19: =IFERROR(VLOOKUP($C19,구분표!$A$2:$C$313,2,FALSE),"") | B19: =IFERROR(VLOOKUP($C19,구분표!$A$2:$C$313,3,FALSE),"") | J19: =G19+H19+I19 -> 0 | M19: =G19+K19+L19 -> 0 | N19: =IF(AND((J19=0),(M19>0)),"O",IF(AND((H19<0),(J19-M19<0)),"O","X")) -> X | V19: =IF($U19<>"도비",IF($S19="국도비","직접입력",SUM($H19:$I19)),) -> 0 | W19: =IF($U19="도비",SUM($H19:$I19),IF($S19="국도비","직접입력",SUM($H19:$I19)-$V19)) -> 0 | X19: =IF(SUM($H19:$I19)=SUM($V19:$W19),"OK","검토") -> OK | AA19: =IF($U19<>"도비",IF($S19="국도비","직접입력",SUM($K19:$L19)),) -> 0 | AB19: =IF($U19="도비",SUM(K19:L19),IF($S19="국도비","직접입력",SUM(K19:L19)-AA19)) -> 0 | AC19: =IF(SUM(K19:L19)=SUM(AA19:AB19),"OK","검토") -> OK | AE19: =IF(U19="","",IF(U19="도비","세입없음","직접입력")) | AG19: =IF(AE19="","",COUNTIF($AE$7:$AE$39,AE19)) | AH19: =IF(U19="","",IF(AND(U19="도비",AE19="세입없음"),"OK",IF(AND(U19<>"도비",AE19<>""),"OK","@@"))) | AJ19: {=IF(C19="","",INDEX(구분표!$I$2:$I$313, MATCH(1,(구분표!$E$2:$E$313='17년특출'!B19)*(구분표!$F$2:$F$313='17년특출'!C19)*(구분표!$G$2:$G$313='17년특출'!A19),0)))}
A20: =IFERROR(VLOOKUP($C20,구분표!$A$2:$C$313,2,FALSE),"") | B20: =IFERROR(VLOOKUP($C20,구분표!$A$2:$C$313,3,FALSE),"") | J20: =G20+H20+I20 -> 0 | M20: =G20+K20+L20 -> 0 | N20: =IF(AND((J20=0),(M20>0)),"O",IF(AND((H20<0),(J20-M20<0)),"O","X")) -> X | V20: =IF($U20<>"도비",IF($S20="국도비","직접입력",SUM($H20:$I20)),) -> 0 | W20: =IF($U20="도비",SUM($H20:$I20),IF($S20="국도비","직접입력",SUM($H20:$I20)-$V20)) -> 0 | X20: =IF(SUM($H20:$I20)=SUM($V20:$W20),"OK","검토") -> OK | AA20: =IF($U20<>"도비",IF($S20="국도비","직접입력",SUM($K20:$L20)),) -> 0 | AB20: =IF($U20="도비",SUM(K20:L20),IF($S20="국도비","직접입력",SUM(K20:L20)-AA20)) -> 0 | AC20: =IF(SUM(K20:L20)=SUM(AA20:AB20),"OK","검토") -> OK | AE20: =IF(U20="","",IF(U20="도비","세입없음","직접입력")) | AG20: =IF(AE20="","",COUNTIF($AE$7:$AE$39,AE20)) | AH20: =IF(U20="","",IF(AND(U20="도비",AE20="세입없음"),"OK",IF(AND(U20<>"도비",AE20<>""),"OK","@@"))) | AJ20: {=IF(C20="","",INDEX(구분표!$I$2:$I$313, MATCH(1,(구분표!$E$2:$E$313='17년특출'!B20)*(구분표!$F$2:$F$313='17년특출'!C20)*(구분표!$G$2:$G$313='17년특출'!A20),0)))}
A21: =IFERROR(VLOOKUP($C21,구분표!$A$2:$C$313,2,FALSE),"") | B21: =IFERROR(VLOOKUP($C21,구분표!$A$2:$C$313,3,FALSE),"") | J21: =G21+H21+I21 -> 0 | M21: =G21+K21+L21 -> 0 | N21: =IF(AND((J21=0),(M21>0)),"O",IF(AND((H21<0),(J21-M21<0)),"O","X")) -> X | V21: =IF($U21<>"도비",IF($S21="국도비","직접입력",SUM($H21:$I21)),) -> 0 | W21: =IF($U21="도비",SUM($H21:$I21),IF($S21="국도비","직접입력",SUM($H21:$I21)-$V21)) -> 0 | X21: =IF(SUM($H21:$I21)=SUM($V21:$W21),"OK","검토") -> OK | AA21: =IF($U21<>"도비",IF($S21="국도비","직접입력",SUM($K21:$L21)),) -> 0 | AB21: =IF($U21="도비",SUM(K21:L21),IF($S21="국도비","직접입력",SUM(K21:L21)-AA21)) -> 0 | AC21: =IF(SUM(K21:L21)=SUM(AA21:AB21),"OK","검토") -> OK | AE21: =IF(U21="","",IF(U21="도비","세입없음","직접입력")) | AG21: =IF(AE21="","",COUNTIF($AE$7:$AE$39,AE21)) | AH21: =IF(U21="","",IF(AND(U21="도비",AE21="세입없음"),"OK",IF(AND(U21<>"도비",AE21<>""),"OK","@@"))) | AJ21: {=IF(C21="","",INDEX(구분표!$I$2:$I$313, MATCH(1,(구분표!$E$2:$E$313='17년특출'!B21)*(구분표!$F$2:$F$313='17년특출'!C21)*(구분표!$G$2:$G$313='17년특출'!A21),0)))}
A22: =IFERROR(VLOOKUP($C22,구분표!$A$2:$C$313,2,FALSE),"") | B22: =IFERROR(VLOOKUP($C22,구분표!$A$2:$C$313,3,FALSE),"") | J22: =G22+H22+I22 -> 0 | M22: =G22+K22+L22 -> 0 | N22: =IF(AND((J22=0),(M22>0)),"O",IF(AND((H22<0),(J22-M22<0)),"O","X")) -> X | V22: =IF($U22<>"도비",IF($S22="국도비","직접입력",SUM($H22:$I22)),) -> 0 | W22: =IF($U22="도비",SUM($H22:$I22),IF($S22="국도비","직접입력",SUM($H22:$I22)-$V22)) -> 0 | X22: =IF(SUM($H22:$I22)=SUM($V22:$W22),"OK","검토") -> OK | AA22: =IF($U22<>"도비",IF($S22="국도비","직접입력",SUM($K22:$L22)),) -> 0 | AB22: =IF($U22="도비",SUM(K22:L22),IF($S22="국도비","직접입력",SUM(K22:L22)-AA22)) -> 0 | AC22: =IF(SUM(K22:L22)=SUM(AA22:AB22),"OK","검토") -> OK | AE22: =IF(U22="","",IF(U22="도비","세입없음","직접입력")) | AG22: =IF(AE22="","",COUNTIF($AE$7:$AE$39,AE22)) | AH22: =IF(U22="","",IF(AND(U22="도비",AE22="세입없음"),"OK",IF(AND(U22<>"도비",AE22<>""),"OK","@@"))) | AJ22: {=IF(C22="","",INDEX(구분표!$I$2:$I$313, MATCH(1,(구분표!$E$2:$E$313='17년특출'!B22)*(구분표!$F$2:$F$313='17년특출'!C22)*(구분표!$G$2:$G$313='17년특출'!A22),0)))}
A23: =IFERROR(VLOOKUP($C23,구분표!$A$2:$C$313,2,FALSE),"") | B23: =IFERROR(VLOOKUP($C23,구분표!$A$2:$C$313,3,FALSE),"") | J23: =G23+H23+I23 -> 0 | M23: =G23+K23+L23 -> 0 | N23: =IF(AND((J23=0),(M23>0)),"O",IF(AND((H23<0),(J23-M23<0)),"O","X")) -> X | V23: =IF($U23<>"도비",IF($S23="국도비","직접입력",SUM($H23:$I23)),) -> 0 | W23: =IF($U23="도비",SUM($H23:$I23),IF($S23="국도비","직접입력",SUM($H23:$I23)-$V23)) -> 0 | X23: =IF(SUM($H23:$I23)=SUM($V23:$W23),"OK","검토") -> OK | AA23: =IF($U23<>"도비",IF($S23="국도비","직접입력",SUM($K23:$L23)),) -> 0 | AB23: =IF($U23="도비",SUM(K23:L23),IF($S23="국도비","직접입력",SUM(K23:L23)-AA23)) -> 0 | AC23: =IF(SUM(K23:L23)=SUM(AA23:AB23),"OK","검토") -> OK | AE23: =IF(U23="","",IF(U23="도비","세입없음","직접입력")) | AG23: =IF(AE23="","",COUNTIF($AE$7:$AE$39,AE23)) | AH23: =IF(U23="","",IF(AND(U23="도비",AE23="세입없음"),"OK",IF(AND(U23<>"도비",AE23<>""),"OK","@@"))) | AJ23: {=IF(C23="","",INDEX(구분표!$I$2:$I$313, MATCH(1,(구분표!$E$2:$E$313='17년특출'!B23)*(구분표!$F$2:$F$313='17년특출'!C23)*(구분표!$G$2:$G$313='17년특출'!A23),0)))}
A24: =IFERROR(VLOOKUP($C24,구분표!$A$2:$C$313,2,FALSE),"") | B24: =IFERROR(VLOOKUP($C24,구분표!$A$2:$C$313,3,FALSE),"") | J24: =G24+H24+I24 -> 0 | M24: =G24+K24+L24 -> 0 | N24: =IF(AND((J24=0),(M24>0)),"O",IF(AND((H24<0),(J24-M24<0)),"O","X")) -> X | V24: =IF($U24<>"도비",IF($S24="국도비","직접입력",SUM($H24:$I24)),) -> 0 | W24: =IF($U24="도비",SUM($H24:$I24),IF($S24="국도비","직접입력",SUM($H24:$I24)-$V24)) -> 0 | X24: =IF(SUM($H24:$I24)=SUM($V24:$W24),"OK","검토") -> OK | AA24: =IF($U24<>"도비",IF($S24="국도비","직접입력",SUM($K24:$L24)),) -> 0 | AB24: =IF($U24="도비",SUM(K24:L24),IF($S24="국도비","직접입력",SUM(K24:L24)-AA24)) -> 0 | AC24: =IF(SUM(K24:L24)=SUM(AA24:AB24),"OK","검토") -> OK | AE24: =IF(U24="","",IF(U24="도비","세입없음","직접입력")) | AG24: =IF(AE24="","",COUNTIF($AE$7:$AE$39,AE24)) | AH24: =IF(U24="","",IF(AND(U24="도비",AE24="세입없음"),"OK",IF(AND(U24<>"도비",AE24<>""),"OK","@@"))) | AJ24: {=IF(C24="","",INDEX(구분표!$I$2:$I$313, MATCH(1,(구분표!$E$2:$E$313='17년특출'!B24)*(구분표!$F$2:$F$313='17년특출'!C24)*(구분표!$G$2:$G$313='17년특출'!A24),0)))}
A25: =IFERROR(VLOOKUP($C25,구분표!$A$2:$C$313,2,FALSE),"") | B25: =IFERROR(VLOOKUP($C25,구분표!$A$2:$C$313,3,FALSE),"") | J25: =G25+H25+I25 -> 0 | M25: =G25+K25+L25 -> 0 | N25: =IF(AND((J25=0),(M25>0)),"O",IF(AND((H25<0),(J25-M25<0)),"O","X")) -> X | V25: =IF($U25<>"도비",IF($S25="국도비","직접입력",SUM($H25:$I25)),) -> 0 | W25: =IF($U25="도비",SUM($H25:$I25),IF($S25="국도비","직접입력",SUM($H25:$I25)-$V25)) -> 0 | X25: =IF(SUM($H25:$I25)=SUM($V25:$W25),"OK","검토") -> OK | AA25: =IF($U25<>"도비",IF($S25="국도비","직접입력",SUM($K25:$L25)),) -> 0 | AB25: =IF($U25="도비",SUM(K25:L25),IF($S25="국도비","직접입력",SUM(K25:L25)-AA25)) -> 0 | AC25: =IF(SUM(K25:L25)=SUM(AA25:AB25),"OK","검토") -> OK | AE25: =IF(U25="","",IF(U25="도비","세입없음","직접입력")) | AG25: =IF(AE25="","",COUNTIF($AE$7:$AE$39,AE25)) | AH25: =IF(U25="","",IF(AND(U25="도비",AE25="세입없음"),"OK",IF(AND(U25<>"도비",AE25<>""),"OK","@@"))) | AJ25: {=IF(C25="","",INDEX(구분표!$I$2:$I$313, MATCH(1,(구분표!$E$2:$E$313='17년특출'!B25)*(구분표!$F$2:$F$313='17년특출'!C25)*(구분표!$G$2:$G$313='17년특출'!A25),0)))}
A26: =IFERROR(VLOOKUP($C26,구분표!$A$2:$C$313,2,FALSE),"") | B26: =IFERROR(VLOOKUP($C26,구분표!$A$2:$C$313,3,FALSE),"") | J26: =G26+H26+I26 -> 0 | M26: =G26+K26+L26 -> 0 | N26: =IF(AND((J26=0),(M26>0)),"O",IF(AND((H26<0),(J26-M26<0)),"O","X")) -> X | V26: =IF($U26<>"도비",IF($S26="국도비","직접입력",SUM($H26:$I26)),) -> 0 | W26: =IF($U26="도비",SUM($H26:$I26),IF($S26="국도비","직접입력",SUM($H26:$I26)-$V26)) -> 0 | X26: =IF(SUM($H26:$I26)=SUM($V26:$W26),"OK","검토") -> OK | AA26: =IF($U26<>"도비",IF($S26="국도비","직접입력",SUM($K26:$L26)),) -> 0 | AB26: =IF($U26="도비",SUM(K26:L26),IF($S26="국도비","직접입력",SUM(K26:L26)-AA26)) -> 0 | AC26: =IF(SUM(K26:L26)=SUM(AA26:AB26),"OK","검토") -> OK | AE26: =IF(U26="","",IF(U26="도비","세입없음","직접입력")) | AG26: =IF(AE26="","",COUNTIF($AE$7:$AE$39,AE26)) | AH26: =IF(U26="","",IF(AND(U26="도비",AE26="세입없음"),"OK",IF(AND(U26<>"도비",AE26<>""),"OK","@@"))) | AJ26: {=IF(C26="","",INDEX(구분표!$I$2:$I$313, MATCH(1,(구분표!$E$2:$E$313='17년특출'!B26)*(구분표!$F$2:$F$313='17년특출'!C26)*(구분표!$G$2:$G$313='17년특출'!A26),0)))}
A27: =IFERROR(VLOOKUP($C27,구분표!$A$2:$C$313,2,FALSE),"") | B27: =IFERROR(VLOOKUP($C27,구분표!$A$2:$C$313,3,FALSE),"") | J27: =G27+H27+I27 -> 0 | M27: =G27+K27+L27 -> 0 | N27: =IF(AND((J27=0),(M27>0)),"O",IF(AND((H27<0),(J27-M27<0)),"O","X")) -> X | V27: =IF($U27<>"도비",IF($S27="국도비","직접입력",SUM($H27:$I27)),) -> 0 | W27: =IF($U27="도비",SUM($H27:$I27),IF($S27="국도비","직접입력",SUM($H27:$I27)-$V27)) -> 0 | X27: =IF(SUM($H27:$I27)=SUM($V27:$W27),"OK","검토") -> OK | AA27: =IF($U27<>"도비",IF($S27="국도비","직접입력",SUM($K27:$L27)),) -> 0 | AB27: =IF($U27="도비",SUM(K27:L27),IF($S27="국도비","직접입력",SUM(K27:L27)-AA27)) -> 0 | AC27: =IF(SUM(K27:L27)=SUM(AA27:AB27),"OK","검토") -> OK | AE27: =IF(U27="","",IF(U27="도비","세입없음","직접입력")) | AG27: =IF(AE27="","",COUNTIF($AE$7:$AE$39,AE27)) | AH27: =IF(U27="","",IF(AND(U27="도비",AE27="세입없음"),"OK",IF(AND(U27<>"도비",AE27<>""),"OK","@@"))) | AJ27: {=IF(C27="","",INDEX(구분표!$I$2:$I$313, MATCH(1,(구분표!$E$2:$E$313='17년특출'!B27)*(구분표!$F$2:$F$313='17년특출'!C27)*(구분표!$G$2:$G$313='17년특출'!A27),0)))}
A28: =IFERROR(VLOOKUP($C28,구분표!$A$2:$C$313,2,FALSE),"") | B28: =IFERROR(VLOOKUP($C28,구분표!$A$2:$C$313,3,FALSE),"") | J28: =G28+H28+I28 -> 0 | M28: =G28+K28+L28 -> 0 | N28: =IF(AND((J28=0),(M28>0)),"O",IF(AND((H28<0),(J28-M28<0)),"O","X")) -> X | V28: =IF($U28<>"도비",IF($S28="국도비","직접입력",SUM($H28:$I28)),) -> 0 | W28: =IF($U28="도비",SUM($H28:$I28),IF($S28="국도비","직접입력",SUM($H28:$I28)-$V28)) -> 0 | X28: =IF(SUM($H28:$I28)=SUM($V28:$W28),"OK","검토") -> OK | AA28: =IF($U28<>"도비",IF($S28="국도비","직접입력",SUM($K28:$L28)),) -> 0 | AB28: =IF($U28="도비",SUM(K28:L28),IF($S28="국도비","직접입력",SUM(K28:L28)-AA28)) -> 0 | AC28: =IF(SUM(K28:L28)=SUM(AA28:AB28),"OK","검토") -> OK | AE28: =IF(U28="","",IF(U28="도비","세입없음","직접입력")) | AG28: =IF(AE28="","",COUNTIF($AE$7:$AE$39,AE28)) | AH28: =IF(U28="","",IF(AND(U28="도비",AE28="세입없음"),"OK",IF(AND(U28<>"도비",AE28<>""),"OK","@@"))) | AJ28: {=IF(C28="","",INDEX(구분표!$I$2:$I$313, MATCH(1,(구분표!$E$2:$E$313='17년특출'!B28)*(구분표!$F$2:$F$313='17년특출'!C28)*(구분표!$G$2:$G$313='17년특출'!A28),0)))}
A29: ( 특별회계) | G29: =SUM(G30:G39) -> 0 | H29: =SUM(H30:H39) -> 0 | I29: =SUM(I30:I39) -> 0 | J29: =SUM(J30:J39) -> 0 | K29: =SUM(K30:K39) -> 0 | L29: =SUM(L30:L39) -> 0 | M29: =SUM(M30:M39) -> 0 | AE29: =IF(U29="","",IF(U29="도비","세입없음","직접입력"))
A30: =IFERROR(VLOOKUP($C30,구분표!$A$2:$C$313,2,FALSE),"") | B30: =IFERROR(VLOOKUP($C30,구분표!$A$2:$C$313,3,FALSE),"") | J30: =G30+H30+I30 -> 0 | M30: =G30+K30+L30 -> 0 | N30: =IF(AND((J30=0),(M30>0)),"O",IF(AND((H30<0),(J30-M30<0)),"O","X")) -> X | V30: =IF($U30<>"도비",IF($S30="국도비","직접입력",SUM($H30:$I30)),) -> 0 | W30: =IF($U30="도비",SUM($H30:$I30),IF($S30="국도비","직접입력",SUM($H30:$I30)-$V30)) -> 0 | X30: =IF(SUM($H30:$I30)=SUM($V30:$W30),"OK","검토") -> OK | AA30: =IF($U30<>"도비",IF($S30="국도비","직접입력",SUM($K30:$L30)),) -> 0 | AB30: =IF($U30="도비",SUM(K30:L30),IF($S30="국도비","직접입력",SUM(K30:L30)-AA30)) -> 0 | AC30: =IF(SUM(K30:L30)=SUM(AA30:AB30),"OK","검토") -> OK | AE30: =IF(U30="","",IF(U30="도비","세입없음","직접입력")) | AG30: =IF(AE30="","",COUNTIF($AE$7:$AE$39,AE30)) | AH30: =IF(U30="","",IF(AND(U30="도비",AE30="세입없음"),"OK",IF(AND(U30<>"도비",AE30<>""),"OK","@@"))) | AJ30: {=IF(C30="","",INDEX(구분표!$I$2:$I$313, MATCH(1,(구분표!$E$2:$E$313='17년특출'!B30)*(구분표!$F$2:$F$313='17년특출'!C30)*(구분표!$G$2:$G$313='17년특출'!A30),0)))}
A31: =IFERROR(VLOOKUP($C31,구분표!$A$2:$C$313,2,FALSE),"") | B31: =IFERROR(VLOOKUP($C31,구분표!$A$2:$C$313,3,FALSE),"") | J31: =G31+H31+I31 -> 0 | M31: =G31+K31+L31 -> 0 | N31: =IF(AND((J31=0),(M31>0)),"O",IF(AND((H31<0),(J31-M31<0)),"O","X")) -> X | V31: =IF($U31<>"도비",IF($S31="국도비","직접입력",SUM($H31:$I31)),) -> 0 | W31: =IF($U31="도비",SUM($H31:$I31),IF($S31="국도비","직접입력",SUM($H31:$I31)-$V31)) -> 0 | X31: =IF(SUM($H31:$I31)=SUM($V31:$W31),"OK","검토") -> OK | AA31: =IF($U31<>"도비",IF($S31="국도비","직접입력",SUM($K31:$L31)),) -> 0 | AB31: =IF($U31="도비",SUM(K31:L31),IF($S31="국도비","직접입력",SUM(K31:L31)-AA31)) -> 0 | AC31: =IF(SUM(K31:L31)=SUM(AA31:AB31),"OK","검토") -> OK | AE31: =IF(U31="","",IF(U31="도비","세입없음","직접입력")) | AG31: =IF(AE31="","",COUNTIF($AE$7:$AE$39,AE31)) | AH31: =IF(U31="","",IF(AND(U31="도비",AE31="세입없음"),"OK",IF(AND(U31<>"도비",AE31<>""),"OK","@@"))) | AJ31: {=IF(C31="","",INDEX(구분표!$I$2:$I$313, MATCH(1,(구분표!$E$2:$E$313='17년특출'!B31)*(구분표!$F$2:$F$313='17년특출'!C31)*(구분표!$G$2:$G$313='17년특출'!A31),0)))}
A32: =IFERROR(VLOOKUP($C32,구분표!$A$2:$C$313,2,FALSE),"") | B32: =IFERROR(VLOOKUP($C32,구분표!$A$2:$C$313,3,FALSE),"") | J32: =G32+H32+I32 -> 0 | M32: =G32+K32+L32 -> 0 | N32: =IF(AND((J32=0),(M32>0)),"O",IF(AND((H32<0),(J32-M32<0)),"O","X")) -> X | V32: =IF($U32<>"도비",IF($S32="국도비","직접입력",SUM($H32:$I32)),) -> 0 | W32: =IF($U32="도비",SUM($H32:$I32),IF($S32="국도비","직접입력",SUM($H32:$I32)-$V32)) -> 0 | X32: =IF(SUM($H32:$I32)=SUM($V32:$W32),"OK","검토") -> OK | AA32: =IF($U32<>"도비",IF($S32="국도비","직접입력",SUM($K32:$L32)),) -> 0 | AB32: =IF($U32="도비",SUM(K32:L32),IF($S32="국도비","직접입력",SUM(K32:L32)-AA32)) -> 0 | AC32: =IF(SUM(K32:L32)=SUM(AA32:AB32),"OK","검토") -> OK | AE32: =IF(U32="","",IF(U32="도비","세입없음","직접입력")) | AG32: =IF(AE32="","",COUNTIF($AE$7:$AE$39,AE32)) | AH32: =IF(U32="","",IF(AND(U32="도비",AE32="세입없음"),"OK",IF(AND(U32<>"도비",AE32<>""),"OK","@@"))) | AJ32: {=IF(C32="","",INDEX(구분표!$I$2:$I$313, MATCH(1,(구분표!$E$2:$E$313='17년특출'!B32)*(구분표!$F$2:$F$313='17년특출'!C32)*(구분표!$G$2:$G$313='17년특출'!A32),0)))}
A33: =IFERROR(VLOOKUP($C33,구분표!$A$2:$C$313,2,FALSE),"") | B33: =IFERROR(VLOOKUP($C33,구분표!$A$2:$C$313,3,FALSE),"") | J33: =G33+H33+I33 -> 0 | M33: =G33+K33+L33 -> 0 | N33: =IF(AND((J33=0),(M33>0)),"O",IF(AND((H33<0),(J33-M33<0)),"O","X")) -> X | V33: =IF($U33<>"도비",IF($S33="국도비","직접입력",SUM($H33:$I33)),) -> 0 | W33: =IF($U33="도비",SUM($H33:$I33),IF($S33="국도비","직접입력",SUM($H33:$I33)-$V33)) -> 0 | X33: =IF(SUM($H33:$I33)=SUM($V33:$W33),"OK","검토") -> OK | AA33: =IF($U33<>"도비",IF($S33="국도비","직접입력",SUM($K33:$L33)),) -> 0 | AB33: =IF($U33="도비",SUM(K33:L33),IF($S33="국도비","직접입력",SUM(K33:L33)-AA33)) -> 0 | AC33: =IF(SUM(K33:L33)=SUM(AA33:AB33),"OK","검토") -> OK | AE33: =IF(U33="","",IF(U33="도비","세입없음","직접입력")) | AG33: =IF(AE33="","",COUNTIF($AE$7:$AE$39,AE33)) | AH33: =IF(U33="","",IF(AND(U33="도비",AE33="세입없음"),"OK",IF(AND(U33<>"도비",AE33<>""),"OK","@@"))) | AJ33: {=IF(C33="","",INDEX(구분표!$I$2:$I$313, MATCH(1,(구분표!$E$2:$E$313='17년특출'!B33)*(구분표!$F$2:$F$313='17년특출'!C33)*(구분표!$G$2:$G$313='17년특출'!A33),0)))}
A34: =IFERROR(VLOOKUP($C34,구분표!$A$2:$C$313,2,FALSE),"") | B34: =IFERROR(VLOOKUP($C34,구분표!$A$2:$C$313,3,FALSE),"") | J34: =G34+H34+I34 -> 0 | M34: =G34+K34+L34 -> 0 | N34: =IF(AND((J34=0),(M34>0)),"O",IF(AND((H34<0),(J34-M34<0)),"O","X")) -> X | V34: =IF($U34<>"도비",IF($S34="국도비","직접입력",SUM($H34:$I34)),) -> 0 | W34: =IF($U34="도비",SUM($H34:$I34),IF($S34="국도비","직접입력",SUM($H34:$I34)-$V34)) -> 0 | X34: =IF(SUM($H34:$I34)=SUM($V34:$W34),"OK","검토") -> OK | AA34: =IF($U34<>"도비",IF($S34="국도비","직접입력",SUM($K34:$L34)),) -> 0 | AB34: =IF($U34="도비",SUM(K34:L34),IF($S34="국도비","직접입력",SUM(K34:L34)-AA34)) -> 0 | AC34: =IF(SUM(K34:L34)=SUM(AA34:AB34),"OK","검토") -> OK | AE34: =IF(U34="","",IF(U34="도비","세입없음","직접입력")) | AG34: =IF(AE34="","",COUNTIF($AE$7:$AE$39,AE34)) | AH34: =IF(U34="","",IF(AND(U34="도비",AE34="세입없음"),"OK",IF(AND(U34<>"도비",AE34<>""),"OK","@@"))) | AJ34: {=IF(C34="","",INDEX(구분표!$I$2:$I$313, MATCH(1,(구분표!$E$2:$E$313='17년특출'!B34)*(구분표!$F$2:$F$313='17년특출'!C34)*(구분표!$G$2:$G$313='17년특출'!A34),0)))}
A35: =IFERROR(VLOOKUP($C35,구분표!$A$2:$C$313,2,FALSE),"") | B35: =IFERROR(VLOOKUP($C35,구분표!$A$2:$C$313,3,FALSE),"") | J35: =G35+H35+I35 -> 0 | M35: =G35+K35+L35 -> 0 | N35: =IF(AND((J35=0),(M35>0)),"O",IF(AND((H35<0),(J35-M35<0)),"O","X")) -> X | V35: =IF($U35<>"도비",IF($S35="국도비","직접입력",SUM($H35:$I35)),) -> 0 | W35: =IF($U35="도비",SUM($H35:$I35),IF($S35="국도비","직접입력",SUM($H35:$I35)-$V35)) -> 0 | X35: =IF(SUM($H35:$I35)=SUM($V35:$W35),"OK","검토") -> OK | AA35: =IF($U35<>"도비",IF($S35="국도비","직접입력",SUM($K35:$L35)),) -> 0 | AB35: =IF($U35="도비",SUM(K35:L35),IF($S35="국도비","직접입력",SUM(K35:L35)-AA35)) -> 0 | AC35: =IF(SUM(K35:L35)=SUM(AA35:AB35),"OK","검토") -> OK | AE35: =IF(U35="","",IF(U35="도비","세입없음","직접입력")) | AG35: =IF(AE35="","",COUNTIF($AE$7:$AE$39,AE35)) | AH35: =IF(U35="","",IF(AND(U35="도비",AE35="세입없음"),"OK",IF(AND(U35<>"도비",AE35<>""),"OK","@@"))) | AJ35: {=IF(C35="","",INDEX(구분표!$I$2:$I$313, MATCH(1,(구분표!$E$2:$E$313='17년특출'!B35)*(구분표!$F$2:$F$313='17년특출'!C35)*(구분표!$G$2:$G$313='17년특출'!A35),0)))}
