Workbook

Sheet 구분표
A2: 실과명 | B2: 위원회명 | C2: 실국명 | E2: 실국명 | F2: 실과명 | G2: 위원회명 | H2: 정렬순서 | I2: 정렬코드
A3: 총무담당관 | B3: 의회운영위원회 | C3: 의회사무처 | E3: 의회사무처 | F3: 총무담당관 | G3: 의회운영위원회 | H3: 1 | I3: 50101
A4: 공보담당관 | B4: 의회운영위원회 | C4: 의회사무처 | E4: 의회사무처 | F4: 공보담당관 | G4: 의회운영위원회 | H4: 2 | I4: 50102
A5: 의사담당관 | B5: 의회운영위원회 | C5: 의회사무처 | E5: 의회사무처 | F5: 의사담당관 | G5: 의회운영위원회 | H5: 3 | I5: 50103
A6: 입법정책담당관 | B6: 의회운영위원회 | C6: 의회사무처 | E6: 의회사무처 | F6: 입법정책담당관 | G6: 의회운영위원회 | H6: 4 | I6: 50104
A7: 예산정책담당관 | B7: 의회운영위원회 | C7: 의회사무처 | E7: 의회사무처 | F7: 예산정책담당관 | G7: 의회운영위원회 | H7: 5 | I7: 50105
A8: 언론협력담당관 | B8: 의회운영위원회 | C8: 대변인 | E8: 대변인 | F8: 언론협력담당관 | G8: 의회운영위원회 | H8: 6 | I8: 10101
A9: 보도기획담당관 | B9: 의회운영위원회 | C9: 대변인 | E9: 대변인 | F9: 보도기획담당관 | G9: 의회운영위원회 | H9: 7 | I9: 10102
A10: 홍보미디어담당관 | B10: 의회운영위원회 | C10: 소통기획관 | E10: 소통기획관 | F10: 홍보미디어담당관 | G10: 의회운영위원회 | H10: 8 | I10: 10201
A11: 홍보콘텐츠담당관 | B11: 의회운영위원회 | C11: 소통기획관 | E11: 소통기획관 | F11: 홍보콘텐츠담당관 | G11: 의회운영위원회 | H11: 9 | I11: 10202
A12: 연정협력과 | B12: 의회운영위원회 | C12: 연정협력국 | E12: 연정협력국 | F12: 연정협력과 | G12: 의회운영위원회 | H12: 10 | I12: 30101
A13: 대외협력과 | B13: 의회운영위원회 | C13: 연정협력국 | E13: 연정협력국 | F13: 대외협력과 | G13: 의회운영위원회 | H13: 11 | I13: 30102
A14: 서울사무소 | B14: 의회운영위원회 | C14: 연정협력국 | E14: 연정협력국 | F14: 서울사무소 | G14: 의회운영위원회 | H14: 12 | I14: 30103
... A214: 보육청소년담당관 | B214: 여성가족교육협력위원회 | C214: 복지여성실 | E214: 복지여성실 | F214: 보육청소년담당관 | G214: 여성가족교육협력위원회 | H214: 212 | I214: 11201

Sheet 예결표지(세로)
A5: 2017년도 제1회 일반회계 및 특별회계 추가경정 세입·세출 예산안
A7: 예결위 계수조정 결과
A20: 예산결산특별위원회

Sheet 예결표지(가로)
A3: 2017년도 제1회 일반회계 및 특별회계 추가경정 세입·세출 예산안
A5: 예결위 계수조정 결과
A14: 예산결산특별위원회

Sheet 표지
A6: 예결위 계수조정 결과
B8: - 2017년도 제1회 일반회계 및 기타특별회계 추가경정 예산안, 기금운용계획안
A18: 예산결산특별위원회

Sheet 검증
A1: 제4회 추경 일반회계 검증 | H1: 4추 예비비 | J1: 조정액 | K1: =IFERROR(INDEX('1추일출'!AF6:AF18,MATCH("*예비비*",'1추일출'!I6:I18,0)),0) -> 0 | L1: 조정잔액 | M1: =I1+K1 -> 0
M2: (단위 : 천원)
A3: 구분 | B3: 상 임 위 | H3: 구분 | I3: 예 결 위
B4: 세입 | C4: 검증 | D4: 세출 | E4: 검증 | F4: 차액 | I4: 세입 | J4: 검증 | K4: 세출 | L4: 검증 | M4: 차액
A5: 전체 총계 | B5: =SUM(B6:B13)/2 -> 0 | C5: =IF(B5=SUM('1추일입'!K6:L6),"OK","@@") -> @@ | D5: =SUM(D6:D13)/2 -> 0 | E5: =IF(D5=SUM('1추일출'!#REF!),"OK","@@") -> #REF! | H5: 전체 총계 | I5: =SUM(I6:I13)/2 -> 0 | J5: =IF(I5=SUM('1추일입'!N6:O6),"OK","@@") -> OK | K5: =SUM(K6:K13)/2 -> 0 | L5: =IF(K5=SUM('1추일출'!#REF!),"OK","@@") -> #REF!
A6: 자체 계 | B6: =SUM(B7:B8) -> 0 | C6: =IF(B6='1추일입'!Y6,"OK","@@") -> OK | D6: =SUM(D7:D8) -> 0 | E6: =IF(D6='1추일출'!#REF!,"OK","@@") -> #REF! | H6: 자체 계 | I6: =SUM(I7:I8) -> 0 | J6: =IF(I6='1추일입'!AD6,"OK","@@") -> OK | K6: =SUM(K7:K8) -> 0 | L6: =IF(K6='1추일출'!#REF!,"OK","@@") -> #REF!
A7: 자체 도비 | B7: =SUMIFS('1추일입'!Y6:Y72,'1추일입'!W6:W72,"도비") -> 0 | D7: =SUMIFS('1추일출'!$AA$6:$AA$18,'1추일출'!$Y$6:$Y$18,"도비") -> 0 | H7: 자체 도비 | I7: =SUMIFS('1추일입'!AD6:AD72,'1추일입'!AB6:AB72,"국비") -> 0 | K7: =SUMIFS('1추일출'!$AF$6:$AF$18,'1추일출'!$AD$6:$AD$18,"도비") -> 0
A8: 의존 매칭 도비 | B8: =SUMIFS('1추일입'!Y6:Y72,'1추일입'!W6:W72,"국비")+SUMIFS('1추일입'!Y6:Y72,'1추일입'!W6:W72,"지특")+SUMIFS('1추일입'!Y6:Y72,'1추일입'!W6:W72,"기금")+SUMIFS('1추일입'!Y6:Y72,'1추일입'!W6:W72,"특교") -> 0 | D8: =SUMIFS('1추일출'!$AA$6:$AA$18,'1추일출'!$Y$6:$Y$18,"국비")+SUMIFS('1추일출'!$AA$6:$AA$18,'1추일출'!$Y$6:$Y$18,"지특")+SUMIFS('1추일출'!$AA$6:$AA$18,'1추일출'!$Y$6:$Y$18,"기금")+SUMIFS('1추일출'!$AA$6:$AA$18,'1추일출'!$Y$6:$Y$18,"특교") -> 0 | H8: 의존 매칭 도비 | I8: =SUMIFS('1추일입'!AD6:AD72,'1추일입'!AB6:AB72,"국비")+SUMIFS('1추일입'!AD6:AD72,'1추일입'!AB6:AB72,"지특")+SUMIFS('1추일입'!AD6:AD72,'1추일입'!AB6:AB72,"기금")+SUMIFS('1추일입'!AD6:AD72,'1추일입'!AB6:AB72,"특교") -> 0 | K8: =SUMIFS('1추일출'!$AF$6:$AF$18,'1추일출'!$AD$6:$AD$18,"국비")+SUMIFS('1추일출'!$AF$6:$AF$18,'1추일출'!$AD$6:$AD$18,"지특")+SUMIFS('1추일출'!$AF$6:$AF$18,'1추일출'!$AD$6:$AD$18,"기금")+SUMIFS('1추일출'!$AF$6:$AF$18,'1추일출'!$AD$6:$AD$18,"특교") -> 0
A9: 의존 계 | B9: =SUM(B10:B13) -> 0 | C9: =IF(B9='1추일입'!X6,"OK","@@") -> @@ | D9: =SUM(D10:D13) -> 0 | E9: =IF(D9='1추일출'!#REF!,"OK","@@") -> #REF! | F9: =SUM(F10:F13) -> 0 | H9: 의존 계 | I9: =SUM(I10:I13) -> 0 | J9: =IF(I9='1추일입'!X6,"OK","@@") -> @@ | K9: =SUM(K10:K13) -> 0 | L9: =IF(K9='1추일출'!#REF!,"OK","@@") -> #REF! | M9: =SUM(M10:M13) -> 0
A10: 국비 | B10: =SUMIFS('1추일입'!$Y$6:$Y$72,'1추일입'!$W$6:$W$72,검증!A10) -> 0 | D10: =SUMIFS('1추일출'!$AA$6:$AA$18,'1추일출'!$Y$6:$Y$18,검증!A10) -> 0 | F10: =D10-B10 -> 0 | H10: 국비 | I10: =SUMIFS('1추일입'!$AD$6:$AD$72,'1추일입'!$AB$6:$AB$72,검증!H10) -> 0 | K10: =SUMIFS('1추일출'!$AF$6:$AF$18,'1추일출'!$AD$6:$AD$18,검증!H10) -> 0 | M10: =K10-I10 -> 0
A11: 지특 | B11: =SUMIFS('1추일입'!$Y$6:$Y$72,'1추일입'!$W$6:$W$72,검증!A11) -> 0 | D11: =SUMIFS('1추일출'!$AA$6:$AA$18,'1추일출'!$Y$6:$Y$18,검증!A11) -> 0 | F11: =D11-B11 -> 0 | H11: 지특 | I11: =SUMIFS('1추일입'!$AD$6:$AD$72,'1추일입'!$AB$6:$AB$72,검증!H11) -> 0 | K11: =SUMIFS('1추일출'!$AF$6:$AF$18,'1추일출'!$AD$6:$AD$18,검증!H11) -> 0 | M11: =K11-I11 -> 0
A12: 기금 | B12: =SUMIFS('1추일입'!$Y$6:$Y$72,'1추일입'!$W$6:$W$72,검증!A12) -> 0 | D12: =SUMIFS('1추일출'!$AA$6:$AA$18,'1추일출'!$Y$6:$Y$18,검증!A12) -> 0 | F12: =D12-B12 -> 0 | H12: 기금 | I12: =SUMIFS('1추일입'!$AD$6:$AD$72,'1추일입'!$AB$6:$AB$72,검증!H12) -> 0 | K12: =SUMIFS('1추일출'!$AF$6:$AF$18,'1추일출'!$AD$6:$AD$18,검증!H12) -> 0 | M12: =K12-I12 -> 0
A13: 특교 | B13: =SUMIFS('1추일입'!$Y$6:$Y$72,'1추일입'!$W$6:$W$72,검증!A13) -> 0 | D13: =SUMIFS('1추일출'!$AA$6:$AA$18,'1추일출'!$Y$6:$Y$18,검증!A13) -> 0 | F13: =D13-B13 -> 0 | H13: 특교 | I13: =SUMIFS('1추일입'!$AD$6:$AD$72,'1추일입'!$AB$6:$AB$72,검증!H13) -> 0 | K13: =SUMIFS('1추일출'!$AF$6:$AF$18,'1추일출'!$AD$6:$AD$18,검증!H13) -> 0 | M13: =K13-I13 -> 0

Sheet 총괄표
A1: 2017년도 제1회 일반 및 특별회계 추가경정 세입·세출 예산안(전체예산총괄)
A3: □ 총 괄 | C3: 세입예산 증감 | D3: =SUM(C7:D7) -> 0 | F3: 세출예산증감 | G3: =SUM(F7:G7) -> 0
F4: ※ 예비비 증감 | I4: (단위 : 천원)
A5: 구 분 | B5: 집행부제출(안) | C5: 세입예산(안) | F5: 세출예산(안) | I5: 수정예산(안) | K5: ※ 예산안 증감현황
C6: 감 액 | D6: 증 액 | E6: 증감액 | F6: 감 액 | G6: 증 액 | H6: 증감액 | K6: 구 분 | L6: 세입 | M6: 세출 | N6: 예비비 | O6: 비고(???)
A7: 합 계 | B7: =SUM(B8:B17) -> 0 | C7: =SUM(C8:C17) -> 0 | D7: =SUM(D8:D17) -> 0 | E7: =SUM(E8:E17) -> 0 | F7: =SUM(F8:F17) -> 0 | G7: =SUM(G8:G17) -> 0 | H7: =SUM(H8:H17) -> 0 | I7: =SUM(I8:I17) -> 0 | K7: 합 계 | L7: =SUM(L8:L9) -> 0 | M7: =SUM(M8:M9) -> #REF! | N7: =L7-M7 -> #REF!
A8: 의회운영위원회 | B8: =B31 -> 0 | C8: =SUMIFS('1추일입'!N$6:N$72,'1추일입'!$A$6:$A$72,총괄표!$A8)+SUMIFS('1추특입'!N$6:N$16,'1추특입'!$A$6:$A$16,총괄표!$A8) -> 0 | D8: =SUMIFS('1추일입'!O$6:O$72,'1추일입'!$A$6:$A$72,총괄표!$A8)+SUMIFS('1추특입'!O$6:O$16,'1추특입'!$A$6:$A$16,총괄표!$A8) -> 0 | E8: =D8+C8 -> 0 | F8: =SUMIFS('1추일출'!P$6:P$18,'1추일출'!$B$6:$B$18,총괄표!$A8)+SUMIFS('1추특출'!O$6:O$22,'1추특출'!$A$6:$A$22,총괄표!$A8) -> 0 | G8: =SUMIFS('1추일출'!Q$6:Q$18,'1추일출'!$B$6:$B$18,총괄표!$A8)+SUMIFS('1추특출'!P$6:P$22,'1추특출'!$A$6:$A$22,총괄표!$A8) -> 0 | H8: =G8+F8 -> 0 | I8: =B8+F8+G8 -> 0 | K8: 일반회계 | L8: =SUM(C24:D24) -> 0 | M8: =SUM(F24:G24) -> #REF! | N8: =L8-M8 -> #REF! | O8: 예비비 증감 - 감액, + 증액에 입력
A9: 기획재정위원회 | B9: =B32 -> 0 | C9: =SUMIFS('1추일입'!N$6:N$72,'1추일입'!$A$6:$A$72,총괄표!$A9)+SUMIFS('1추특입'!N$6:N$16,'1추특입'!$A$6:$A$16,총괄표!$A9) -> 0 | D9: =SUMIFS('1추일입'!O$6:O$72,'1추일입'!$A$6:$A$72,총괄표!$A9)+SUMIFS('1추특입'!O$6:O$16,'1추특입'!$A$6:$A$16,총괄표!$A9) -> 0 | E9: =D9+C9 -> 0 | F9: =SUMIFS('1추일출'!P$6:P$18,'1추일출'!$B$6:$B$18,총괄표!$A9)+SUMIFS('1추특출'!O$6:O$22,'1추특출'!$A$6:$A$22,총괄표!$A9) -> 0 | G9: =SUMIFS('1추일출'!Q$6:Q$18,'1추일출'!$B$6:$B$18,총괄표!$A9)+SUMIFS('1추특출'!P$6:P$22,'1추특출'!$A$6:$A$22,총괄표!$A9) -> 0 | H9: =G9+F9 -> 0 | I9: =B9+F9+G9 -> 0 | K9: 특별회계 | L9: =SUM(C25:D25) -> 0 | M9: =SUM(F25:G25) -> 0 | N9: =L9-M9 -> 0
A10: 경제과학기술위원회 | B10: =B33 -> 0 | C10: =SUMIFS('1추일입'!N$6:N$72,'1추일입'!$A$6:$A$72,총괄표!$A10)+SUMIFS('1추특입'!N$6:N$16,'1추특입'!$A$6:$A$16,총괄표!$A10) -> 0 | D10: =SUMIFS('1추일입'!O$6:O$72,'1추일입'!$A$6:$A$72,총괄표!$A10)+SUMIFS('1추특입'!O$6:O$16,'1추특입'!$A$6:$A$16,총괄표!$A10) -> 0 | E10: =D10+C10 -> 0 | F10: =SUMIFS('1추일출'!P$6:P$18,'1추일출'!$B$6:$B$18,총괄표!$A10)+SUMIFS('1추특출'!O$6:O$22,'1추특출'!$A$6:$A$22,총괄표!$A10) -> 0 | G10: =SUMIFS('1추일출'!Q$6:Q$18,'1추일출'!$B$6:$B$18,총괄표!$A10)+SUMIFS('1추특출'!P$6:P$22,'1추특출'!$A$6:$A$22,총괄표!$A10) -> 0 | H10: =G10+F10 -> 0 | I10: =B10+F10+G10 -> 0
A11: 안전행정위원회 | B11: =B34 -> 0 | C11: =SUMIFS('1추일입'!N$6:N$72,'1추일입'!$A$6:$A$72,총괄표!$A11)+SUMIFS('1추특입'!N$6:N$16,'1추특입'!$A$6:$A$16,총괄표!$A11) -> 0 | D11: =SUMIFS('1추일입'!O$6:O$72,'1추일입'!$A$6:$A$72,총괄표!$A11)+SUMIFS('1추특입'!O$6:O$16,'1추특입'!$A$6:$A$16,총괄표!$A11) -> 0 | E11: =D11+C11 -> 0 | F11: =SUMIFS('1추일출'!P$6:P$18,'1추일출'!$B$6:$B$18,총괄표!$A11)+SUMIFS('1추특출'!O$6:O$22,'1추특출'!$A$6:$A$22,총괄표!$A11) -> 0 | G11: =SUMIFS('1추일출'!Q$6:Q$18,'1추일출'!$B$6:$B$18,총괄표!$A11)+SUMIFS('1추특출'!P$6:P$22,'1추특출'!$A$6:$A$22,총괄표!$A11) -> 0 | H11: =G11+F11 -> 0 | I11: =B11+F11+G11 -> 0
A12: 문화체육관광위원회 | B12: =B35 -> 0 | C12: =SUMIFS('1추일입'!N$6:N$72,'1추일입'!$A$6:$A$72,총괄표!$A12)+SUMIFS('1추특입'!N$6:N$16,'1추특입'!$A$6:$A$16,총괄표!$A12) -> 0 | D12: =SUMIFS('1추일입'!O$6:O$72,'1추일입'!$A$6:$A$72,총괄표!$A12)+SUMIFS('1추특입'!O$6:O$16,'1추특입'!$A$6:$A$16,총괄표!$A12) -> 0 | E12: =D12+C12 -> 0 | F12: =SUMIFS('1추일출'!P$6:P$18,'1추일출'!$B$6:$B$18,총괄표!$A12)+SUMIFS('1추특출'!O$6:O$22,'1추특출'!$A$6:$A$22,총괄표!$A12) -> 0 | G12: =SUMIFS('1추일출'!Q$6:Q$18,'1추일출'!$B$6:$B$18,총괄표!$A12)+SUMIFS('1추특출'!P$6:P$22,'1추특출'!$A$6:$A$22,총괄표!$A12) -> 0 | H12: =G12+F12 -> 0 | I12: =B12+F12+G12 -> 0
A13: 농정해양위원회 | B13: =B36 -> 0 | C13: =SUMIFS('1추일입'!N$6:N$72,'1추일입'!$A$6:$A$72,총괄표!$A13)+SUMIFS('1추특입'!N$6:N$16,'1추특입'!$A$6:$A$16,총괄표!$A13) -> 0 | D13: =SUMIFS('1추일입'!O$6:O$72,'1추일입'!$A$6:$A$72,총괄표!$A13)+SUMIFS('1추특입'!O$6:O$16,'1추특입'!$A$6:$A$16,총괄표!$A13) -> 0 | E13: =D13+C13 -> 0 | F13: =SUMIFS('1추일출'!P$6:P$18,'1추일출'!$B$6:$B$18,총괄표!$A13)+SUMIFS('1추특출'!O$6:O$22,'1추특출'!$A$6:$A$22,총괄표!$A13) -> 0 | G13: =SUMIFS('1추일출'!Q$6:Q$18,'1추일출'!$B$6:$B$18,총괄표!$A13)+SUMIFS('1추특출'!P$6:P$22,'1추특출'!$A$6:$A$22,총괄표!$A13) -> 0 | H13: =G13+F13 -> 0 | I13: =B13+F13+G13 -> 0
A14: 보건복지위원회 | B14: =B37 -> 0 | C14: =SUMIFS('1추일입'!N$6:N$72,'1추일입'!$A$6:$A$72,총괄표!$A14)+SUMIFS('1추특입'!N$6:N$16,'1추특입'!$A$6:$A$16,총괄표!$A14) -> 0 | D14: =SUMIFS('1추일입'!O$6:O$72,'1추일입'!$A$6:$A$72,총괄표!$A14)+SUMIFS('1추특입'!O$6:O$16,'1추특입'!$A$6:$A$16,총괄표!$A14) -> 0 | E14: =D14+C14 -> 0 | F14: =SUMIFS('1추일출'!P$6:P$18,'1추일출'!$B$6:$B$18,총괄표!$A14)+SUMIFS('1추특출'!O$6:O$22,'1추특출'!$A$6:$A$22,총괄표!$A14) -> 0 | G14: =SUMIFS('1추일출'!Q$6:Q$18,'1추일출'!$B$6:$B$18,총괄표!$A14)+SUMIFS('1추특출'!P$6:P$22,'1추특출'!$A$6:$A$22,총괄표!$A14) -> 0 | H14: =G14+F14 -> 0 | I14: =B14+F14+G14 -> 0
A15: 건설교통위원회 | B15: =B38 -> 0 | C15: =SUMIFS('1추일입'!N$6:N$72,'1추일입'!$A$6:$A$72,총괄표!$A15)+SUMIFS('1추특입'!N$6:N$16,'1추특입'!$A$6:$A$16,총괄표!$A15) -> 0 | D15: =SUMIFS('1추일입'!O$6:O$72,'1추일입'!$A$6:$A$72,총괄표!$A15)+SUMIFS('1추특입'!O$6:O$16,'1추특입'!$A$6:$A$16,총괄표!$A15) -> 0 | E15: =D15+C15 -> 0 | F15: =SUMIFS('1추일출'!P$6:P$18,'1추일출'!$B$6:$B$18,총괄표!$A15)+SUMIFS('1추특출'!O$6:O$22,'1추특출'!$A$6:$A$22,총괄표!$A15) -> 0 | G15: =SUMIFS('1추일출'!Q$6:Q$18,'1추일출'!$B$6:$B$18,총괄표!$A15)+SUMIFS('1추특출'!P$6:P$22,'1추특출'!$A$6:$A$22,총괄표!$A15) -> 0 | H15: =G15+F15 -> 0 | I15: =B15+F15+G15 -> 0
A16: 도시환경위원회 | B16: =B39 -> 0 | C16: =SUMIFS('1추일입'!N$6:N$72,'1추일입'!$A$6:$A$72,총괄표!$A16)+SUMIFS('1추특입'!N$6:N$16,'1추특입'!$A$6:$A$16,총괄표!$A16) -> 0 | D16: =SUMIFS('1추일입'!O$6:O$72,'1추일입'!$A$6:$A$72,총괄표!$A16)+SUMIFS('1추특입'!O$6:O$16,'1추특입'!$A$6:$A$16,총괄표!$A16) -> 0 | E16: =D16+C16 -> 0 | F16: =SUMIFS('1추일출'!P$6:P$18,'1추일출'!$B$6:$B$18,총괄표!$A16)+SUMIFS('1추특출'!O$6:O$22,'1추특출'!$A$6:$A$22,총괄표!$A16) -> 0 | G16: =SUMIFS('1추일출'!Q$6:Q$18,'1추일출'!$B$6:$B$18,총괄표!$A16)+SUMIFS('1추특출'!P$6:P$22,'1추특출'!$A$6:$A$22,총괄표!$A16) -> 0 | H16: =G16+F16 -> 0 | I16: =B16+F16+G16 -> 0
A17: 여성가족교육협력위원회 | B17: =B40 -> 0 | C17: =SUMIFS('1추일입'!N$6:N$72,'1추일입'!$A$6:$A$72,총괄표!$A17)+SUMIFS('1추특입'!N$6:N$16,'1추특입'!$A$6:$A$16,총괄표!$A17) -> 0 | D17: =SUMIFS('1추일입'!O$6:O$72,'1추일입'!$A$6:$A$72,총괄표!$A17)+SUMIFS('1추특입'!O$6:O$16,'1추특입'!$A$6:$A$16,총괄표!$A17) -> 0 | E17: =D17+C17 -> 0 | F17: =SUMIFS('1추일출'!P$6:P$18,'1추일출'!$B$6:$B$18,총괄표!$A17)+SUMIFS('1추특출'!O$6:O$22,'1추특출'!$A$6:$A$22,총괄표!$A17) -> 0 | G17: =SUMIFS('1추일출'!Q$6:Q$18,'1추일출'!$B$6:$B$18,총괄표!$A17)+SUMIFS('1추특출'!P$6:P$22,'1추특출'!$A$6:$A$22,총괄표!$A17) -> 0 | H17: =G17+F17 -> 0 | I17: =B17+F17+G17 -> 0
A19: □ 회계별 예산 총 규모
I20: (단위 : 천원)
A21: 구 분 | B21: 집행부제출(안) | C21: 세입예산(안) | F21: 세출예산(안) | I21: 수정예산(안) | K21: 세입기준
C22: 감 액 | D22: 증 액 | E22: 증감액 | F22: 감 액 | G22: 증 액 | H22: 증감액 | K22: 수정예산(안) | L22: 세출기준-세입기준
A23: 합 계 | B23: =SUM(B24:B25) -> 0 | C23: =SUM(C24:C25) -> 0 | D23: =SUM(D24:D25) -> 0 | E23: =SUM(E24:E25) -> 0 | F23: =SUM(F24:F25) -> #REF! | G23: =SUM(G24:G25) -> #REF! | H23: =SUM(H24:H25) -> #REF! | I23: =SUM(I24:I25) -> #REF! | K23: =SUM(K24:K25) -> 0 | L23: =I23-K23 -> #REF!
A24: 일반회계 | B24: =D30 -> 0 | C24: ='1추일입'!N6 -> 0 | D24: ='1추일입'!O6 -> 0 | E24: =D24+C24 -> 0 | F24: ='1추일출'!#REF! -> #REF! | G24: ='1추일출'!#REF! -> #REF! | H24: =G24+F24 -> #REF! | I24: =B24+F24+G24 -> #REF! | K24: =B24+C24+D24 -> 0 | L24: =I24-K24 -> #REF!
A25: 특별회계 | B25: =E30+F30 -> 0 | C25: ='1추특입'!N6 -> 0 | D25: ='1추특입'!O6 -> 0 | E25: =D25+C25 -> 0 | F25: ='1추특출'!O6 -> 0 | G25: ='1추특출'!P6 -> 0 | H25: =G25+F25 -> 0 | I25: =B25+F25+G25 -> 0 | K25: =B25+C25+D25 -> 0 | L25: =I25-K25 -> 0
A28: ※ 회계별, 위원회별 집행부제출안(상임위에서 작성)
A29: 위원회명 | B29: 합계 | C29: 일반+기타 | D29: 일반회계 | E29: 기타특별회계 | F29: 공기업특별회계
A30: 합계 | B30: =SUM(B31:B40) -> 0 | C30: =SUM(C31:C40) -> 0 | D30: =SUM(D31:D40) -> 0 | E30: =SUM(E31:E40) -> 0 | F30: =SUM(F31:F40) -> 0
A31: 의회운영위원회 | B31: =SUM(D31:G31) -> 0 | C31: =D31+E31 -> 0
A32: 기획재정위원회 | B32: =SUM(D32:G32) -> 0 | C32: =D32+E32 -> 0
A33: 경제과학기술위원회 | B33: =SUM(D33:G33) -> 0 | C33: =D33+E33 -> 0
A34: 안전행정위원회 | B34: =SUM(D34:G34) -> 0 | C34: =D34+E34 -> 0
A35: 문화체육관광위원회 | B35: =SUM(D35:G35) -> 0 | C35: =D35+E35 -> 0
A36: 농정해양위원회 | B36: =SUM(D36:G36) -> 0 | C36: =D36+E36 -> 0
A37: 보건복지위원회 | B37: =SUM(D37:G37) -> 0 | C37: =D37+E37 -> 0
A38: 건설교통위원회 | B38: =SUM(D38:G38) -> 0 | C38: =D38+E38 -> 0
A39: 도시환경위원회 | B39: =SUM(D39:G39) -> 0 | C39: =D39+E39 -> 0
A40: 여성가족교육협력위원회 | B40: =SUM(D40:G40) -> 0 | C40: =D40+E40 -> 0
A42: 예비비

Sheet 1추일입
A1: 2017년도 제1회 추가경정 경기도 일반회계 세입 예산 조정(안)
A2: □ 세입예산 | P2: =P6-J6 -> 0 | X2: 세입=세출 | AC2: 세입=세출
T3: (단위 : 천원) | X3: =IF(X6='1추일출'!#REF!,"OK","@@") -> #REF! | Z3: =IF(COUNTIF(Z6:Z72,"검토")>0,"@@","OK") -> OK | AC3: =IF(AC6='1추일출'!#REF!,"OK","@@") -> #REF! | AD3: =N6+O6-AC6-AD6 -> 0 | AE3: =IF(COUNTIF(AE6:AE72,"검토")>0,"@@","OK") -> OK
A4: 위원회명 | B4: 실국명 | C4: 부서명 | D4: 편성 구분 | E4: 예산안 페이지 | F4: 사업설명서페이지 | G4: 목명 및 부기명 | H4: 제1회 추경 예산안 (가) | I4: 기정액 (나) | J4: 제1회 추경 증감액 (다=가-나) | K4: 상임위 예산안 조정액(라) | M4: 상임위 조정 예산안 (마=다+라) | N4: 예결위 예산안 조정액(사) | P4: 예결위 조정 예산안 (아=다+사) | Q4: 동의 대상 | R4: 상임위 변경사유 (심의 참고자료) | S4: 비고 (상임위 부대의견) | T4: 비고 (부대의견) | U4: 국도비 등 여부 | W4: 재원 | X4: 상임위 재원별 증감액 | AB4: 재원 | AC4: 예결위 재원별 증감액 | AG4: 세입번호 | AI4: 실국부서 코드 | AK4: 추가 내시 등 | AM4: 상임위 세입 검증 | AQ4: 예결위 세입 검증
K5: 감액 | L5: 증액 | N5: 감액 | O5: 증액 | X5: 국비 등 | Y5: 도비 | Z5: 검증 | AC5: 국비 등 | AD5: 도비 | AE5: 검증 | AM5: 국비 증감액 | AN5: 건수 | AO5: 검증 | AQ5: 국비 증감액 | AR5: 건수 | AS5: 검증
A6: 합 계 | H6: =SUBTOTAL(9,H7:H72) -> 0 | I6: =SUBTOTAL(9,I7:I72) -> 0 | J6: =SUBTOTAL(9,J7:J72) -> 0 | K6: =SUBTOTAL(9,K7:K72) -> 0 | L6: =SUBTOTAL(9,L7:L72) -> 200 | M6: =SUBTOTAL(9,M7:M72) -> 200 | N6: =SUBTOTAL(9,N7:N72) -> 0 | O6: =SUBTOTAL(9,O7:O72) -> 0 | P6: =SUBTOTAL(9,P7:P72) -> 0 | X6: =SUBTOTAL(9,X7:X72) -> 200 | Y6: =SUBTOTAL(9,Y7:Y72) -> 0 | Z6: =IF(SUM($K6:$L6)=SUM($X6:$Y6),"OK","검토") -> OK | AC6: =SUBTOTAL(9,AC7:AC72) -> 0 | AD6: =SUBTOTAL(9,AD7:AD72) -> 0 | AE6: =IF(SUM($K6:$L6)=SUM($X6:$Y6),"OK","검토") -> OK | AM6: =SUBTOTAL(9,AM7:AM72) -> 0 | AN6: =SUBTOTAL(9,AN7:AN72) -> 0 | AO6: =IF(COUNTIF(AO7:AO72,"@@")>0,"@@","OK") -> @@ | AQ6: =SUBTOTAL(9,AQ7:AQ72) -> 0 | AR6: =SUBTOTAL(9,AR7:AR72) -> 0 | AS6: =IF(COUNTIF(AS7:AS72,"@@")>0,"@@","OK") -> OK
J7: =IF(D7="","",H7-I7) | M7: =SUM(J7:L7) -> 0 | P7: =SUM(J7,N7,O7) -> 0 | Q7: =IF(AND((M7=0),(P7>0)),"O",IF(AND((K7<0),(M7-P7<0)),"O","X")) -> X | X7: =IF($W7<>"도비",IF($U7="국도비","직접입력",SUM($K7:$L7)),) -> 0 | Y7: =IF($W7="도비",SUM($K7:$L7),IF($U7="국도비","직접입력",SUM($K7:$L7)-$X7)) -> 0 | Z7: =IF(SUM($K7:$L7)=SUM($X7:$Y7),"OK","검토") -> OK | AC7: =IF($W7<>"도비",IF($U7="국도비","직접입력",SUM($N7:$O7)),) -> 0 | AD7: =IF($W7="도비",SUM(N7:O7),IF($U7="국도비","직접입력",SUM(N7:O7)-AC7)) -> 0 | AE7: =IF(SUM(N7:O7)=SUM(AC7:AD7),"OK","검토") -> OK | AG7: =IF(AI7="","",IF(W7="도비","세입없음",CONCATENATE(AI7,"-",COUNTIF($AI$7:AI7,AI7)))) | AI7: {=IF(C7="","",INDEX(구분표!$I$2:$I$311, MATCH(1,(구분표!$E$2:$E$311='1추일입'!B7)*(구분표!$F$2:$F$311='1추일입'!C7)*(구분표!$G$2:$G$311='1추일입'!A7),0)))} | AM7: =IF(AG7="",0,SUMIFS('1추일출'!$Z$6:$Z$18,'1추일출'!$AI$6:$AI$18,'1추일입'!$AG7)) -> 0 | AN7: =IF(AG7="","",COUNTIFS('1추일출'!$AI$6:$AI$18,'1추일입'!AG7)) | AO7: =IF(X7=AM7,"OK","@@") -> OK | AQ7: =IF(AG7="",0,SUMIFS('1추일출'!$AE$6:$AE$18,'1추일출'!$AI$6:$AI$18,'1추일입'!$AG7)) -> 0 | AR7: =IF(AG7="","",COUNTIFS('1추일출'!$AI$6:$AI$18,AG7)) | AS7: =IF(AC7=AQ7,"OK","@@") -> OK
G8: 0 | J8: =IF(D8="","",H8-I8) | L8: 200 | M8: =SUM(J8:L8) -> 200 | P8: =SUM(J8,N8,O8) -> 0 | Q8: =IF(AND((M8=0),(P8>0)),"O",IF(AND((K8<0),(M8-P8<0)),"O","X")) -> X | X8: =IF($W8<>"도비",IF($U8="국도비","직접입력",SUM($K8:$L8)),) -> 200 | Y8: =IF($W8="도비",SUM($K8:$L8),IF($U8="국도비","직접입력",SUM($K8:$L8)-$X8)) -> 0 | Z8: =IF(SUM($K8:$L8)=SUM($X8:$Y8),"OK","검토") -> OK | AC8: =IF($W8<>"도비",IF($U8="국도비","직접입력",SUM($N8:$O8)),) -> 0 | AD8: =IF($W8="도비",SUM(N8:O8),IF($U8="국도비","직접입력",SUM(N8:O8)-AC8)) -> 0 | AE8: =IF(SUM(N8:O8)=SUM(AC8:AD8),"OK","검토") -> OK | AG8: =IF(AI8="","",IF(W8="도비","세입없음",CONCATENATE(AI8,"-",COUNTIF($AI$7:AI8,AI8)))) | AI8: {=IF(C8="","",INDEX(구분표!$I$2:$I$311, MATCH(1,(구분표!$E$2:$E$311='1추일입'!B8)*(구분표!$F$2:$F$311='1추일입'!C8)*(구분표!$G$2:$G$311='1추일입'!A8),0)))} | AM8: =IF(AG8="",0,SUMIFS('1추일출'!$Z$6:$Z$18,'1추일출'!$AI$6:$AI$18,'1추일입'!$AG8)) -> 0 | AN8: =IF(AG8="","",COUNTIFS('1추일출'!$AI$6:$AI$18,'1추일입'!AG8)) | AO8: =IF(X8=AM8,"OK","@@") -> @@ | AQ8: =IF(AG8="",0,SUMIFS('1추일출'!$AE$6:$AE$18,'1추일출'!$AI$6:$AI$18,'1추일입'!$AG8)) -> 0 | AR8: =IF(AG8="","",COUNTIFS('1추일출'!$AI$6:$AI$18,AG8)) | AS8: =IF(AC8=AQ8,"OK","@@") -> OK
J9: =IF(D9="","",H9-I9) | M9: =SUM(J9:L9) -> 0 | P9: =SUM(J9,N9,O9) -> 0 | Q9: =IF(AND((M9=0),(P9>0)),"O",IF(AND((K9<0),(M9-P9<0)),"O","X")) -> X | X9: =IF($W9<>"도비",IF($U9="국도비","직접입력",SUM($K9:$L9)),) -> 0 | Y9: =IF($W9="도비",SUM($K9:$L9),IF($U9="국도비","직접입력",SUM($K9:$L9)-$X9)) -> 0 | Z9: =IF(SUM($K9:$L9)=SUM($X9:$Y9),"OK","검토") -> OK | AC9: =IF($W9<>"도비",IF($U9="국도비","직접입력",SUM($N9:$O9)),) -> 0 | AD9: =IF($W9="도비",SUM(N9:O9),IF($U9="국도비","직접입력",SUM(N9:O9)-AC9)) -> 0 | AE9: =IF(SUM(N9:O9)=SUM(AC9:AD9),"OK","검토") -> OK | AG9: =IF(AI9="","",IF(W9="도비","세입없음",CONCATENATE(AI9,"-",COUNTIF($AI$7:AI9,AI9)))) | AI9: {=IF(C9="","",INDEX(구분표!$I$2:$I$311, MATCH(1,(구분표!$E$2:$E$311='1추일입'!B9)*(구분표!$F$2:$F$311='1추일입'!C9)*(구분표!$G$2:$G$311='1추일입'!A9),0)))} | AM9: =IF(AG9="",0,SUMIFS('1추일출'!$Z$6:$Z$18,'1추일출'!$AI$6:$AI$18,'1추일입'!$AG9)) -> 0 | AN9: =IF(AG9="","",COUNTIFS('1추일출'!$AI$6:$AI$18,'1추일입'!AG9)) | AO9: =IF(X9=AM9,"OK","@@") -> OK | AQ9: =IF(AG9="",0,SUMIFS('1추일출'!$AE$6:$AE$18,'1추일출'!$AI$6:$AI$18,'1추일입'!$AG9)) -> 0 | AR9: =IF(AG9="","",COUNTIFS('1추일출'!$AI$6:$AI$18,AG9)) | AS9: =IF(AC9=AQ9,"OK","@@") -> OK
J10: =IF(D10="","",H10-I10) | M10: =SUM(J10:L10) -> 0 | P10: =SUM(J10,N10,O10) -> 0 | Q10: =IF(AND((M10=0),(P10>0)),"O",IF(AND((K10<0),(M10-P10<0)),"O","X")) -> X | X10: =IF($W10<>"도비",IF($U10="국도비","직접입력",SUM($K10:$L10)),) -> 0 | Y10: =IF($W10="도비",SUM($K10:$L10),IF($U10="국도비","직접입력",SUM($K10:$L10)-$X10)) -> 0 | Z10: =IF(SUM($K10:$L10)=SUM($X10:$Y10),"OK","검토") -> OK | AC10: =IF($W10<>"도비",IF($U10="국도비","직접입력",SUM($N10:$O10)),) -> 0 | AD10: =IF($W10="도비",SUM(N10:O10),IF($U10="국도비","직접입력",SUM(N10:O10)-AC10)) -> 0 | AE10: =IF(SUM(N10:O10)=SUM(AC10:AD10),"OK","검토") -> OK | AG10: =IF(AI10="","",IF(W10="도비","세입없음",CONCATENATE(AI10,"-",COUNTIF($AI$7:AI10,AI10)))) | AI10: {=IF(C10="","",INDEX(구분표!$I$2:$I$311, MATCH(1,(구분표!$E$2:$E$311='1추일입'!B10)*(구분표!$F$2:$F$311='1추일입'!C10)*(구분표!$G$2:$G$311='1추일입'!A10),0)))} | AM10: =IF(AG10="",0,SUMIFS('1추일출'!$Z$6:$Z$18,'1추일출'!$AI$6:$AI$18,'1추일입'!$AG10)) -> 0 | AN10: =IF(AG10="","",COUNTIFS('1추일출'!$AI$6:$AI$18,'1추일입'!AG10)) | AO10: =IF(X10=AM10,"OK","@@") -> OK | AQ10: =IF(AG10="",0,SUMIFS('1추일출'!$AE$6:$AE$18,'1추일출'!$AI$6:$AI$18,'1추일입'!$AG10)) -> 0 | AR10: =IF(AG10="","",COUNTIFS('1추일출'!$AI$6:$AI$18,AG10)) | AS10: =IF(AC10=AQ10,"OK","@@") -> OK
J11: =IF(D11="","",H11-I11) | M11: =SUM(J11:L11) -> 0 | P11: =SUM(J11,N11,O11) -> 0 | Q11: =IF(AND((M11=0),(P11>0)),"O",IF(AND((K11<0),(M11-P11<0)),"O","X")) -> X | X11: =IF($W11<>"도비",IF($U11="국도비","직접입력",SUM($K11:$L11)),) -> 0 | Y11: =IF($W11="도비",SUM($K11:$L11),IF($U11="국도비","직접입력",SUM($K11:$L11)-$X11)) -> 0 | Z11: =IF(SUM($K11:$L11)=SUM($X11:$Y11),"OK","검토") -> OK | AC11: =IF($W11<>"도비",IF($U11="국도비","직접입력",SUM($N11:$O11)),) -> 0 | AD11: =IF($W11="도비",SUM(N11:O11),IF($U11="국도비","직접입력",SUM(N11:O11)-AC11)) -> 0 | AE11: =IF(SUM(N11:O11)=SUM(AC11:AD11),"OK","검토") -> OK | AG11: =IF(AI11="","",IF(W11="도비","세입없음",CONCATENATE(AI11,"-",COUNTIF($AI$7:AI11,AI11)))) | AI11: {=IF(C11="","",INDEX(구분표!$I$2:$I$311, MATCH(1,(구분표!$E$2:$E$311='1추일입'!B11)*(구분표!$F$2:$F$311='1추일입'!C11)*(구분표!$G$2:$G$311='1추일입'!A11),0)))} | AM11: =IF(AG11="",0,SUMIFS('1추일출'!$Z$6:$Z$18,'1추일출'!$AI$6:$AI$18,'1추일입'!$AG11)) -> 0 | AN11: =IF(AG11="","",COUNTIFS('1추일출'!$AI$6:$AI$18,'1추일입'!AG11)) | AO11: =IF(X11=AM11,"OK","@@") -> OK | AQ11: =IF(AG11="",0,SUMIFS('1추일출'!$AE$6:$AE$18,'1추일출'!$AI$6:$AI$18,'1추일입'!$AG11)) -> 0 | AR11: =IF(AG11="","",COUNTIFS('1추일출'!$AI$6:$AI$18,AG11)) | AS11: =IF(AC11=AQ11,"OK","@@") -> OK
J12: =IF(D12="","",H12-I12) | M12: =SUM(J12:L12) -> 0 | P12: =SUM(J12,N12,O12) -> 0 | Q12: =IF(AND((M12=0),(P12>0)),"O",IF(AND((K12<0),(M12-P12<0)),"O","X")) -> X | X12: =IF($W12<>"도비",IF($U12="국도비","직접입력",SUM($K12:$L12)),) -> 0 | Y12: =IF($W12="도비",SUM($K12:$L12),IF($U12="국도비","직접입력",SUM($K12:$L12)-$X12)) -> 0 | Z12: =IF(SUM($K12:$L12)=SUM($X12:$Y12),"OK","검토") -> OK | AC12: =IF($W12<>"도비",IF($U12="국도비","직접입력",SUM($N12:$O12)),) -> 0 | AD12: =IF($W12="도비",SUM(N12:O12),IF($U12="국도비","직접입력",SUM(N12:O12)-AC12)) -> 0 | AE12: =IF(SUM(N12:O12)=SUM(AC12:AD12),"OK","검토") -> OK | AG12: =IF(AI12="","",IF(W12="도비","세입없음",CONCATENATE(AI12,"-",COUNTIF($AI$7:AI12,AI12)))) | AI12: {=IF(C12="","",INDEX(구분표!$I$2:$I$311, MATCH(1,(구분표!$E$2:$E$311='1추일입'!B12)*(구분표!$F$2:$F$311='1추일입'!C12)*(구분표!$G$2:$G$311='1추일입'!A12),0)))} | AM12: =IF(AG12="",0,SUMIFS('1추일출'!$Z$6:$Z$18,'1추일출'!$AI$6:$AI$18,'1추일입'!$AG12)) -> 0 | AN12: =IF(AG12="","",COUNTIFS('1추일출'!$AI$6:$AI$18,'1추일입'!AG12)) | AO12: =IF(X12=AM12,"OK","@@") -> OK | AQ12: =IF(AG12="",0,SUMIFS('1추일출'!$AE$6:$AE$18,'1추일출'!$AI$6:$AI$18,'1추일입'!$AG12)) -> 0 | AR12: =IF(AG12="","",COUNTIFS('1추일출'!$AI$6:$AI$18,AG12)) | AS12: =IF(AC12=AQ12,"OK","@@") -> OK
J13: =IF(D13="","",H13-I13) | M13: =SUM(J13:L13) -> 0 | P13: =SUM(J13,N13,O13) -> 0 | Q13: =IF(AND((M13=0),(P13>0)),"O",IF(AND((K13<0),(M13-P13<0)),"O","X")) -> X | X13: =IF($W13<>"도비",IF($U13="국도비","직접입력",SUM($K13:$L13)),) -> 0 | Y13: =IF($W13="도비",SUM($K13:$L13),IF($U13="국도비","직접입력",SUM($K13:$L13)-$X13)) -> 0 | Z13: =IF(SUM($K13:$L13)=SUM($X13:$Y13),"OK","검토") -> OK | AC13: =IF($W13<>"도비",IF($U13="국도비","직접입력",SUM($N13:$O13)),) -> 0 | AD13: =IF($W13="도비",SUM(N13:O13),IF($U13="국도비","직접입력",SUM(N13:O13)-AC13)) -> 0 | AE13: =IF(SUM(N13:O13)=SUM(AC13:AD13),"OK","검토") -> OK | AG13: =IF(AI13="","",IF(W13="도비","세입없음",CONCATENATE(AI13,"-",COUNTIF($AI$7:AI13,AI13)))) | AI13: {=IF(C13="","",INDEX(구분표!$I$2:$I$311, MATCH(1,(구분표!$E$2:$E$311='1추일입'!B13)*(구분표!$F$2:$F$311='1추일입'!C13)*(구분표!$G$2:$G$311='1추일입'!A13),0)))} | AM13: =IF(AG13="",0,SUMIFS('1추일출'!$Z$6:$Z$18,'1추일출'!$AI$6:$AI$18,'1추일입'!$AG13)) -> 0 | AN13: =IF(AG13="","",COUNTIFS('1추일출'!$AI$6:$AI$18,'1추일입'!AG13)) | AO13: =IF(X13=AM13,"OK","@@") -> OK | AQ13: =IF(AG13="",0,SUMIFS('1추일출'!$AE$6:$AE$18,'1추일출'!$AI$6:$AI$18,'1추일입'!$AG13)) -> 0 | AR13: =IF(AG13="","",COUNTIFS('1추일출'!$AI$6:$AI$18,AG13)) | AS13: =IF(AC13=AQ13,"OK","@@") -> OK
J14: =IF(D14="","",H14-I14) | M14: =SUM(J14:L14) -> 0 | P14: =SUM(J14,N14,O14) -> 0 | Q14: =IF(AND((M14=0),(P14>0)),"O",IF(AND((K14<0),(M14-P14<0)),"O","X")) -> X | X14: =IF($W14<>"도비",IF($U14="국도비","직접입력",SUM($K14:$L14)),) -> 0 | Y14: =IF($W14="도비",SUM($K14:$L14),IF($U14="국도비","직접입력",SUM($K14:$L14)-$X14)) -> 0 | Z14: =IF(SUM($K14:$L14)=SUM($X14:$Y14),"OK","검토") -> OK | AC14: =IF($W14<>"도비",IF($U14="국도비","직접입력",SUM($N14:$O14)),) -> 0 | AD14: =IF($W14="도비",SUM(N14:O14),IF($U14="국도비","직접입력",SUM(N14:O14)-AC14)) -> 0 | AE14: =IF(SUM(N14:O14)=SUM(AC14:AD14),"OK","검토") -> OK | AG14: =IF(AI14="","",IF(W14="도비","세입없음",CONCATENATE(AI14,"-",COUNTIF($AI$7:AI14,AI14)))) | AI14: {=IF(C14="","",INDEX(구분표!$I$2:$I$311, MATCH(1,(구분표!$E$2:$E$311='1추일입'!B14)*(구분표!$F$2:$F$311='1추일입'!C14)*(구분표!$G$2:$G$311='1추일입'!A14),0)))} | AM14: =IF(AG14="",0,SUMIFS('1추일출'!$Z$6:$Z$18,'1추일출'!$AI$6:$AI$18,'1추일입'!$AG14)) -> 0 | AN14: =IF(AG14="","",COUNTIFS('1추일출'!$AI$6:$AI$18,'1추일입'!AG14)) | AO14: =IF(X14=AM14,"OK","@@") -> OK | AQ14: =IF(AG14="",0,SUMIFS('1추일출'!$AE$6:$AE$18,'1추일출'!$AI$6:$AI$18,'1추일입'!$AG14)) -> 0 | AR14: =IF(AG14="","",COUNTIFS('1추일출'!$AI$6:$AI$18,AG14)) | AS14: =IF(AC14=AQ14,"OK","@@") -> OK
J15: =IF(D15="","",H15-I15) | M15: =SUM(J15:L15) -> 0 | P15: =SUM(J15,N15,O15) -> 0 | Q15: =IF(AND((M15=0),(P15>0)),"O",IF(AND((K15<0),(M15-P15<0)),"O","X")) -> X | X15: =IF($W15<>"도비",IF($U15="국도비","직접입력",SUM($K15:$L15)),) -> 0 | Y15: =IF($W15="도비",SUM($K15:$L15),IF($U15="국도비","직접입력",SUM($K15:$L15)-$X15)) -> 0 | Z15: =IF(SUM($K15:$L15)=SUM($X15:$Y15),"OK","검토") -> OK | AC15: =IF($W15<>"도비",IF($U15="국도비","직접입력",SUM($N15:$O15)),) -> 0 | AD15: =IF($W15="도비",SUM(N15:O15),IF($U15="국도비","직접입력",SUM(N15:O15)-AC15)) -> 0 | AE15: =IF(SUM(N15:O15)=SUM(AC15:AD15),"OK","검토") -> OK | AG15: =IF(AI15="","",IF(W15="도비","세입없음",CONCATENATE(AI15,"-",COUNTIF($AI$7:AI15,AI15)))) | AI15: {=IF(C15="","",INDEX(구분표!$I$2:$I$311, MATCH(1,(구분표!$E$2:$E$311='1추일입'!B15)*(구분표!$F$2:$F$311='1추일입'!C15)*(구분표!$G$2:$G$311='1추일입'!A15),0)))} | AM15: =IF(AG15="",0,SUMIFS('1추일출'!$Z$6:$Z$18,'1추일출'!$AI$6:$AI$18,'1추일입'!$AG15)) -> 0 | AN15: =IF(AG15="","",COUNTIFS('1추일출'!$AI$6:$AI$18,'1추일입'!AG15)) | AO15: =IF(X15=AM15,"OK","@@") -> OK | AQ15: =IF(AG15="",0,SUMIFS('1추일출'!$AE$6:$AE$18,'1추일출'!$AI$6:$AI$18,'1추일입'!$AG15)) -> 0 | AR15: =IF(AG15="","",COUNTIFS('1추일출'!$AI$6:$AI$18,AG15)) | AS15: =IF(AC15=AQ15,"OK","@@") -> OK
J16: =IF(D16="","",H16-I16) | M16: =SUM(J16:L16) -> 0 | P16: =SUM(J16,N16,O16) -> 0 | Q16: =IF(AND((M16=0),(P16>0)),"O",IF(AND((K16<0),(M16-P16<0)),"O","X")) -> X | X16: =IF($W16<>"도비",IF($U16="국도비","직접입력",SUM($K16:$L16)),) -> 0 | Y16: =IF($W16="도비",SUM($K16:$L16),IF($U16="국도비","직접입력",SUM($K16:$L16)-$X16)) -> 0 | Z16: =IF(SUM($K16:$L16)=SUM($X16:$Y16),"OK","검토") -> OK | AC16: =IF($W16<>"도비",IF($U16="국도비","직접입력",SUM($N16:$O16)),) -> 0 | AD16: =IF($W16="도비",SUM(N16:O16),IF($U16="국도비","직접입력",SUM(N16:O16)-AC16)) -> 0 | AE16: =IF(SUM(N16:O16)=SUM(AC16:AD16),"OK","검토") -> OK | AG16: =IF(AI16="","",IF(W16="도비","세입없음",CONCATENATE(AI16,"-",COUNTIF($AI$7:AI16,AI16)))) | AI16: {=IF(C16="","",INDEX(구분표!$I$2:$I$311, MATCH(1,(구분표!$E$2:$E$311='1추일입'!B16)*(구분표!$F$2:$F$311='1추일입'!C16)*(구분표!$G$2:$G$311='1추일입'!A16),0)))} | AM16: =IF(AG16="",0,SUMIFS('1추일출'!$Z$6:$Z$18,'1추일출'!$AI$6:$AI$18,'1추일입'!$AG16)) -> 0 | AN16: =IF(AG16="","",COUNTIFS('1추일출'!$AI$6:$AI$18,'1추일입'!AG16)) | AO16: =IF(X16=AM16,"OK","@@") -> OK | AQ16: =IF(AG16="",0,SUMIFS('1추일출'!$AE$6:$AE$18,'1추일출'!$AI$6:$AI$18,'1추일입'!$AG16)) -> 0 | AR16: =IF(AG16="","",COUNTIFS('1추일출'!$AI$6:$AI$18,AG16)) | AS16: =IF(AC16=AQ16,"OK","@@") -> OK
J17: =IF(D17="","",H17-I17) | M17: =SUM(J17:L17) -> 0 | P17: =SUM(J17,N17,O17) -> 0 | Q17: =IF(AND((M17=0),(P17>0)),"O",IF(AND((K17<0),(M17-P17<0)),"O","X")) -> X | X17: =IF($W17<>"도비",IF($U17="국도비","직접입력",SUM($K17:$L17)),) -> 0 | Y17: =IF($W17="도비",SUM($K17:$L17),IF($U17="국도비","직접입력",SUM($K17:$L17)-$X17)) -> 0 | Z17: =IF(SUM($K17:$L17)=SUM($X17:$Y17),"OK","검토") -> OK | AC17: =IF($W17<>"도비",IF($U17="국도비","직접입력",SUM($N17:$O17)),) -> 0 | AD17: =IF($W17="도비",SUM(N17:O17),IF($U17="국도비","직접입력",SUM(N17:O17)-AC17)) -> 0 | AE17: =IF(SUM(N17:O17)=SUM(AC17:AD17),"OK","검토") -> OK | AG17: =IF(AI17="","",IF(W17="도비","세입없음",CONCATENATE(AI17,"-",COUNTIF($AI$7:AI17,AI17)))) | AI17: {=IF(C17="","",INDEX(구분표!$I$2:$I$311, MATCH(1,(구분표!$E$2:$E$311='1추일입'!B17)*(구분표!$F$2:$F$311='1추일입'!C17)*(구분표!$G$2:$G$311='1추일입'!A17),0)))} | AM17: =IF(AG17="",0,SUMIFS('1추일출'!$Z$6:$Z$18,'1추일출'!$AI$6:$AI$18,'1추일입'!$AG17)) -> 0 | AN17: =IF(AG17="","",COUNTIFS('1추일출'!$AI$6:$AI$18,'1추일입'!AG17)) | AO17: =IF(X17=AM17,"OK","@@") -> OK | AQ17: =IF(AG17="",0,SUMIFS('1추일출'!$AE$6:$AE$18,'1추일출'!$AI$6:$AI$18,'1추일입'!$AG17)) -> 0 | AR17: =IF(AG17="","",COUNTIFS('1추일출'!$AI$6:$AI$18,AG17)) | AS17: =IF(AC17=AQ17,"OK","@@") -> OK
J18: =IF(D18="","",H18-I18) | M18: =SUM(J18:L18) -> 0 | P18: =SUM(J18,N18,O18) -> 0 | Q18: =IF(AND((M18=0),(P18>0)),"O",IF(AND((K18<0),(M18-P18<0)),"O","X")) -> X | X18: =IF($W18<>"도비",IF($U18="국도비","직접입력",SUM($K18:$L18)),) -> 0 | Y18: =IF($W18="도비",SUM($K18:$L18),IF($U18="국도비","직접입력",SUM($K18:$L18)-$X18)) -> 0 | Z18: =IF(SUM($K18:$L18)=SUM($X18:$Y18),"OK","검토") -> OK | AC18: =IF($W18<>"도비",IF($U18="국도비","직접입력",SUM($N18:$O18)),) -> 0 | AD18: =IF($W18="도비",SUM(N18:O18),IF($U18="국도비","직접입력",SUM(N18:O18)-AC18)) -> 0 | AE18: =IF(SUM(N18:O18)=SUM(AC18:AD18),"OK","검토") -> OK | AG18: =IF(AI18="","",IF(W18="도비","세입없음",CONCATENATE(AI18,"-",COUNTIF($AI$7:AI18,AI18)))) | AI18: {=IF(C18="","",INDEX(구분표!$I$2:$I$311, MATCH(1,(구분표!$E$2:$E$311='1추일입'!B18)*(구분표!$F$2:$F$311='1추일입'!C18)*(구분표!$G$2:$G$311='1추일입'!A18),0)))} | AM18: =IF(AG18="",0,SUMIFS('1추일출'!$Z$6:$Z$18,'1추일출'!$AI$6:$AI$18,'1추일입'!$AG18)) -> 0 | AN18: =IF(AG18="","",COUNTIFS('1추일출'!$AI$6:$AI$18,'1추일입'!AG18)) | AO18: =IF(X18=AM18,"OK","@@") -> OK | AQ18: =IF(AG18="",0,SUMIFS('1추일출'!$AE$6:$AE$18,'1추일출'!$AI$6:$AI$18,'1추일입'!$AG18)) -> 0 | AR18: =IF(AG18="","",COUNTIFS('1추일출'!$AI$6:$AI$18,AG18)) | AS18: =IF(AC18=AQ18,"OK","@@") -> OK
J19: =IF(D19="","",H19-I19) | M19: =SUM(J19:L19) -> 0 | P19: =SUM(J19,N19,O19) -> 0 | Q19: =IF(AND((M19=0),(P19>0)),"O",IF(AND((K19<0),(M19-P19<0)),"O","X")) -> X | X19: =IF($W19<>"도비",IF($U19="국도비","직접입력",SUM($K19:$L19)),) -> 0 | Y19: =IF($W19="도비",SUM($K19:$L19),IF($U19="국도비","직접입력",SUM($K19:$L19)-$X19)) -> 0 | Z19: =IF(SUM($K19:$L19)=SUM($X19:$Y19),"OK","검토") -> OK | AC19: =IF($W19<>"도비",IF($U19="국도비","직접입력",SUM($N19:$O19)),) -> 0 | AD19: =IF($W19="도비",SUM(N19:O19),IF($U19="국도비","직접입력",SUM(N19:O19)-AC19)) -> 0 | AE19: =IF(SUM(N19:O19)=SUM(AC19:AD19),"OK","검토") -> OK | AG19: =IF(AI19="","",IF(W19="도비","세입없음",CONCATENATE(AI19,"-",COUNTIF($AI$7:AI19,AI19)))) | AI19: {=IF(C19="","",INDEX(구분표!$I$2:$I$311, MATCH(1,(구분표!$E$2:$E$311='1추일입'!B19)*(구분표!$F$2:$F$311='1추일입'!C19)*(구분표!$G$2:$G$311='1추일입'!A19),0)))} | AM19: =IF(AG19="",0,SUMIFS('1추일출'!$Z$6:$Z$18,'1추일출'!$AI$6:$AI$18,'1추일입'!$AG19)) -> 0 | AN19: =IF(AG19="","",COUNTIFS('1추일출'!$AI$6:$AI$18,'1추일입'!AG19)) | AO19: =IF(X19=AM19,"OK","@@") -> OK | AQ19: =IF(AG19="",0,SUMIFS('1추일출'!$AE$6:$AE$18,'1추일출'!$AI$6:$AI$18,'1추일입'!$AG19)) -> 0 | AR19: =IF(AG19="","",COUNTIFS('1추일출'!$AI$6:$AI$18,AG19)) | AS19: =IF(AC19=AQ19,"OK","@@") -> OK
J20: =IF(D20="","",H20-I20) | M20: =SUM(J20:L20) -> 0 | P20: =SUM(J20,N20,O20) -> 0 | Q20: =IF(AND((M20=0),(P20>0)),"O",IF(AND((K20<0),(M20-P20<0)),"O","X")) -> X | X20: =IF($W20<>"도비",IF($U20="국도비","직접입력",SUM($K20:$L20)),) -> 0 | Y20: =IF($W20="도비",SUM($K20:$L20),IF($U20="국도비","직접입력",SUM($K20:$L20)-$X20)) -> 0 | Z20: =IF(SUM($K20:$L20)=SUM($X20:$Y20),"OK","검토") -> OK | AC20: =IF($W20<>"도비",IF($U20="국도비","직접입력",SUM($N20:$O20)),) -> 0 | AD20: =IF($W20="도비",SUM(N20:O20),IF($U20="국도비","직접입력",SUM(N20:O20)-AC20)) -> 0 | AE20: =IF(SUM(N20:O20)=SUM(AC20:AD20),"OK","검토") -> OK | AG20: =IF(AI20="","",IF(W20="도비","세입없음",CONCATENATE(AI20,"-",COUNTIF($AI$7:AI20,AI20)))) | AI20: {=IF(C20="","",INDEX(구분표!$I$2:$I$311, MATCH(1,(구분표!$E$2:$E$311='1추일입'!B20)*(구분표!$F$2:$F$311='1추일입'!C20)*(구분표!$G$2:$G$311='1추일입'!A20),0)))} | AM20: =IF(AG20="",0,SUMIFS('1추일출'!$Z$6:$Z$18,'1추일출'!$AI$6:$AI$18,'1추일입'!$AG20)) -> 0 | AN20: =IF(AG20="","",COUNTIFS('1추일출'!$AI$6:$AI$18,'1추일입'!AG20)) | AO20: =IF(X20=AM20,"OK","@@") -> OK | AQ20: =IF(AG20="",0,SUMIFS('1추일출'!$AE$6:$AE$18,'1추일출'!$AI$6:$AI$18,'1추일입'!$AG20)) -> 0 | AR20: =IF(AG20="","",COUNTIFS('1추일출'!$AI$6:$AI$18,AG20)) | AS20: =IF(AC20=AQ20,"OK","@@") -> OK
... J72: =IF(D72="","",H72-I72) | M72: =SUM(J72:L72) -> 0 | P72: =SUM(J72,N72,O72) -> 0 | Q72: =IF(AND((M72=0),(P72>0)),"O",IF(AND((K72<0),(M72-P72<0)),"O","X")) -> X | X72: =IF($W72<>"도비",IF($U72="국도비","직접입력",SUM($K72:$L72)),) -> 0 | Y72: =IF($W72="도비",SUM($K72:$L72),IF($U72="국도비","직접입력",SUM($K72:$L72)-$X72)) -> 0 | Z72: =IF(SUM($K72:$L72)=SUM($X72:$Y72),"OK","검토") -> OK | AC72: =IF($W72<>"도비",IF($U72="국도비","직접입력",SUM($N72:$O72)),) -> 0 | AD72: =IF($W72="도비",SUM(N72:O72),IF($U72="국도비","직접입력",SUM(N72:O72)-AC72)) -> 0 | AE72: =IF(SUM(N72:O72)=SUM(AC72:AD72),"OK","검토") -> OK | AG72: =IF(AI72="","",IF(W72="도비","세입없음",CONCATENATE(AI72,"-",COUNTIF($AI$7:AI72,AI72)))) | AI72: {=IF(C72="","",INDEX(구분표!$I$2:$I$311, MATCH(1,(구분표!$E$2:$E$311='1추일입'!B72)*(구분표!$F$2:$F$311='1추일입'!C72)*(구분표!$G$2:$G$311='1추일입'!A72),0)))} | AM72: =IF(AG72="",0,SUMIFS('1추일출'!$Z$6:$Z$18,'1추일출'!$AI$6:$AI$18,'1추일입'!$AG72)) -> 0 | AN72: =IF(AG72="","",COUNTIFS('1추일출'!$AI$6:$AI$18,'1추일입'!AG72)) | AO72: =IF(X72=AM72,"OK","@@") -> OK | AQ72: =IF(AG72="",0,SUMIFS('1추일출'!$AE$6:$AE$18,'1추일출'!$AI$6:$AI$18,'1추일입'!$AG72)) -> 0 | AR72: =IF(AG72="","",COUNTIFS('1추일출'!$AI$6:$AI$18,AG72)) | AS72: =IF(AC72=AQ72,"OK","@@") -> OK

Sheet 1추일출
B1: 2017년도 제1회 추가경정 경기도 일반회계 세출 예산 조정(안)
B2: □ 세출예산 | Q2: =R2-'1추일입'!P2 -> #REF! | R2: =#REF!-#REF! -> #REF! | Z2: 세입=세출 | AE2: 세입=세출
L3: =SUM(L6:L150)/2 -> 5270176 | M3: =SUM(M6:M150)/2 -> -330000 | N3: =SUM(N6:N150)/2 -> 2685001 | O3: =SUM(O6:O150)/2 -> 7625177 | P3: =SUM(P6:P150)/2 -> 0 | Q3: =SUM(Q6:Q150)/2 -> 0 | R3: =SUM(R6:R150)/2 -> 5270176 | V3: (단위 : 천원) | Z3: =IF(#REF!='1추일입'!X6,"OK","@@") -> #REF! | AA3: =#REF!+#REF!-#REF!-#REF! -> #REF! | AB3: =IF(COUNTIF(AB6:AB18,"검토")>0,"@@","OK") -> OK | AE3: =IF(#REF!='1추일입'!AC6,"OK","@@") -> #REF! | AF3: =#REF!+#REF!-#REF!-#REF! -> #REF! | AG3: =IF(COUNTIF(AG6:AG18,"검토")>0,"@@","OK") -> OK
A4: 번호 | B4: 위원회명 | C4: 실국명 | D4: 부서명 | E4: 편성 구분 | F4: 연정 구분 | G4: 예산안 페이지 | H4: 사업설명서페이지 | I4: 세부사업명 및 부기명 | J4: 제1회 추경 예산안 (가) | K4: 기정액 (나) | L4: 제1회 추경 증감액 (다=가-나) | M4: 상임위 예산안 조정액(라) | O4: 상임위 조정 예산안 (마=다+라) | P4: 예결위 예산안 조정액(사) | R4: 예결위 조정 예산안 (아=다+사) | S4: 동의 대상 | T4: 상임위 변경사유 (심의 참고자료) | U4: 비고 (상임위 부대의견) | V4: 비고 (부대의견) | W4: 국도비 등 여부 | Y4: 재원 | Z4: 상임위 재원별 증감액 | AD4: 재원 | AE4: 예결위 재원별 증감액 | AI4: 세입번호 | AK4: 동일 세입 건수 | AL4: 세출 번호 검증 | AN4: 실국부서 코드 | AP4: 추가 내시 등
M5: 감액 | N5: 증액 | P5: 감액 | Q5: 증액 | Z5: 국비 등 | AA5: 도비 | AB5: 검증 | AE5: 국비 등 | AF5: 도비 | AG5: 검증
B6: (문화체육관광위원회) | J6: =SUBTOTAL(9,J7:J18) -> 95025176 | K6: =SUBTOTAL(9,K7:K18) -> 89755000 | L6: =SUBTOTAL(9,L7:L18) -> 5270176 | M6: =SUBTOTAL(9,M7:M18) -> -330000 | N6: =SUBTOTAL(9,N7:N18) -> 2685001 | O6: =SUBTOTAL(9,O7:O18) -> 7625177 | P6: =SUBTOTAL(9,P7:P18) -> 0 | Q6: =SUBTOTAL(9,Q7:Q18) -> 0 | R6: =SUBTOTAL(9,R7:R18) -> 5270176 | Z6: =IF($Y6<>"도비",IF($W6="국도비","직접입력",SUM($M6:$N6)),) -> 2355001 | AA6: =IF($Y6="도비",SUM($M6:$N6),IF($W6="국도비","직접입력",SUM($M6:$N6)-$Z6)) -> 0 | AB6: =IF(SUM($M6:$N6)=SUM($Z6:$AA6),"OK","검토") -> OK | AE6: =IF($Y6<>"도비",IF($W6="국도비","직접입력",SUM($P6:$Q6)),) -> 0 | AF6: =IF($Y6="도비",SUM(P6:Q6),IF($W6="국도비","직접입력",SUM(P6:Q6)-AE6)) -> 0 | AG6: =IF(SUM(P6:Q6)=SUM(AE6:AF6),"OK","검토") -> OK | AI6: =IF(Y6="","",IF(Y6="도비","세입없음","직접입력")) | AK6: =IF(AI6="","",COUNTIF($AI$6:$AI$18,AI6)) | AL6: =IF(Y6="","",IF(AND(Y6="도비",AI6="세입없음"),"OK",IF(AND(Y6<>"도비",AI6<>""),"OK","@@"))) | AN6: {=IF(D6="","",INDEX(구분표!$I$2:$I$311, MATCH(1,(구분표!$E$2:$E$311='1추일출'!C6)*(구분표!$F$2:$F$311='1추일출'!D6)*(구분표!$G$2:$G$311='1추일출'!B6),0)))}
A7: 1 | B7: 문화체육관광 위원회 | C7: 문화체육 관광국 | D7: 문화정책과 | E7: 1회추경 | F7: 일반 | G7: 441 | H7: 55 | I7: 경기도 문화의전당 운영(자체/직접) - 경기도 문화의 전당 운영 | J7: 29957000 | K7: 28507000 | L7: =J7-K7 -> 1450000 | M7: -280000 | N7: 200000 | O7: =L7+M7+N7 -> 1370000 | R7: =L7+P7+Q7 -> 1450000 | S7: =IF(AND((O7=0),(R7>0)),"O",IF(AND((M7<0),(O7-R7<0)),"O","X")) -> O | U7: * 베토벤 뮤지컬 콘서트(2억8천감) * 예술단공통사업비(1억5천증) * 나눔음악회(5천증) | Z7: =IF($Y7<>"도비",IF($W7="국도비","직접입력",SUM($M7:$N7)),) -> -80000 | AA7: =IF($Y7="도비",SUM($M7:$N7),IF($W7="국도비","직접입력",SUM($M7:$N7)-$Z7)) -> 0 | AB7: =IF(SUM($M7:$N7)=SUM($Z7:$AA7),"OK","검토") -> OK | AE7: =IF($Y7<>"도비",IF($W7="국도비","직접입력",SUM($P7:$Q7)),) -> 0 | AF7: =IF($Y7="도비",SUM(P7:Q7),IF($W7="국도비","직접입력",SUM(P7:Q7)-AE7)) -> 0 | AG7: =IF(SUM(P7:Q7)=SUM(AE7:AF7),"OK","검토") -> OK | AI7: =IF(Y7="","",IF(Y7="도비","세입없음","직접입력")) | AK7: =IF(AI7="","",COUNTIF($AI$6:$AI$18,AI7)) | AL7: =IF(Y7="","",IF(AND(Y7="도비",AI7="세입없음"),"OK",IF(AND(Y7<>"도비",AI7<>""),"OK","@@"))) | AN7: {=IF(D7="","",INDEX(구분표!$I$2:$I$311, MATCH(1,(구분표!$E$2:$E$311='1추일출'!C7)*(구분표!$F$2:$F$311='1추일출'!D7)*(구분표!$G$2:$G$311='1추일출'!B7),0)))} -> #N/A
A8: 2 | B8: 문화체육관광 위원회 | C8: 문화체육 관광국 | D8: 문화정책과 | E8: 1회추경 | F8: 일반 | G8: 442 | H8: 73 | I8: 경기문화재단 운영(자체/직접) - 경기문화재단 운영 | J8: 39177000 | K8: 38527000 | L8: =J8-K8 -> 650000 | N8: 960000 | O8: =L8+M8+N8 -> 1610000 | R8: =L8+P8+Q8 -> 650000 | S8: =IF(AND((O8=0),(R8>0)),"O",IF(AND((M8<0),(O8-R8<0)),"O","X")) -> X | U8: * 한국-유럽 미술전시회(3천증) * 경기북부 생활문화플랫폼 조성 및 운영(2억증) * 2017 피스로드(2억증) * 시민참여형 창작뮤지컬(1억증) * 지역문화예술활성화(4억3천증)
A9: 3 | B9: 문화체육관광 위원회 | C9: 문화체육 관광국 | D9: 콘텐츠산업과 | E9: 1회추경 | F9: 일반 | G9: 450 | H9: 203 | I9: 경기콘텐츠진흥원 운영(자체/직접) - 경기콘텐츠진흥원 운영 | J9: 12347000 | K9: 10293000 | L9: =J9-K9 -> 2054000 | N9: 100000 | O9: =L9+M9+N9 -> 2154000 | R9: =L9+P9+Q9 -> 2054000 | S9: =IF(AND((O9=0),(R9>0)),"O",IF(AND((M9<0),(O9-R9<0)),"O","X")) -> X | U9: * 안양국제청소년 영화제(1억증)
A10: 4 | B10: 문화체육관광 위원회 | C10: 문화체육 관광국 | D10: 관광과 | E10: 1회추경 | F10: 일반 | G10: 453 | H10: 240 | I10: 경기관광공사 운영(자체/직접) - 경기관광공사 운영 | J10: 13438000 | K10: 12378000 | L10: =J10-K10 -> 1060000 | M10: -50000 | N10: 300000 | O10: =L10+M10+N10 -> 1310000 | R10: =L10+P10+Q10 -> 1060000 | S10: =IF(AND((O10=0),(R10>0)),"O",IF(AND((M10<0),(O10-R10<0)),"O","X")) -> X | U10: * 세계유산 경기도일주여행(2천증) * 관광공사 홍보비(8천증) * 지역축제경쟁력 강화(5천감) * 경기도 생태관광 거점지역 육성(2억증)
A11: 5 | B11: 문화체육관광 위원회 | C11: 문화체육 관광국 | D11: 관광과 | E11: 1회추경 | F11: 일반 | G11: 453 | H11: 249 | I11: 수도권 5개시도 관광진흥 공동사업(자체/직접) - 수도권 5개시도 관광진흥 공동사업 | J11: 106176 | K11: 50000 | L11: =J11-K11 -> 56176 | N11: 1 | O11: =L11+M11+N11 -> 56177 | R11: =L11+P11+Q11 -> 56176 | S11: =IF(AND((O11=0),(R11>0)),"O",IF(AND((M11<0),(O11-R11<0)),"O","X")) -> X | U11: * 정산액 입력오류에 따른 금액 반영
A12: 6 | B12: 문화체육관광 위원회 | C12: 문화체육 관광국 | D12: 체육과 | E12: 신규 | F12: 일반 | I12: 체육 활성화(자체/직접) - 세계챔피언십 한국대회 | L12: =J12-K12 -> 0 | N12: 50000 | O12: =L12+M12+N12 -> 50000 | R12: =L12+P12+Q12 -> 0 | S12: =IF(AND((O12=0),(R12>0)),"O",IF(AND((M12<0),(O12-R12<0)),"O","X")) -> X
A13: 7 | B13: 문화체육관광 위원회 | C13: 문화체육 관광국 | D13: 문화유산과 | E13: 신규 | F13: 일반 | I13: 행주산성 학술 및 시굴조사(자체/지원) - 행주산성 학술 및 시굴조사 | L13: =J13-K13 -> 0 | N13: 100000 | O13: =L13+M13+N13 -> 100000 | R13: =L13+P13+Q13 -> 0 | S13: =IF(AND((O13=0),(R13>0)),"O",IF(AND((M13<0),(O13-R13<0)),"O","X")) -> X
A14: 8 | B14: 문화체육관광 위원회 | C14: 문화체육 관광국 | D14: 문화정책과 | E14: 본예산 | F14: 일반 | I14: 도 단위 예술단체 문예진흥(자체/직접) - 도 단위 예술단체 문예진흥 | L14: =J14-K14 -> 0 | N14: 500000 | O14: =L14+M14+N14 -> 500000 | R14: =L14+P14+Q14 -> 0 | S14: =IF(AND((O14=0),(R14>0)),"O",IF(AND((M14<0),(O14-R14<0)),"O","X")) -> X
A15: 9 | B15: 문화체육관광 위원회 | C15: 문화체육 관광국 | D15: 체육과 | E15: 신규 | F15: 일반 | I15: KT-wiz 운영지원 및 소통강화(자체/직접) - KT-wiz 운영지원 및 소통강화 | L15: =J15-K15 -> 0 | N15: 25000 | O15: =L15+M15+N15 -> 25000 | R15: =L15+P15+Q15 -> 0 | S15: =IF(AND((O15=0),(R15>0)),"O",IF(AND((M15<0),(O15-R15<0)),"O","X")) -> X
A16: 10 | B16: 문화체육관광 위원회 | C16: 문화체육 관광국 | D16: 문화유산과 | E16: 신규 | F16: 일반 | I16: 기천서원 강당 건립(자체/지원) - 기천서원 강당 건립 | L16: =J16-K16 -> 0 | N16: 100000 | O16: =L16+M16+N16 -> 100000 | R16: =L16+P16+Q16 -> 0 | S16: =IF(AND((O16=0),(R16>0)),"O",IF(AND((M16<0),(O16-R16<0)),"O","X")) -> X
A17: 11 | B17: 문화체육관광 위원회 | C17: 문화체육 관광국 | D17: 체육과 | E17: 본예산 | F17: 일반 | I17: 체육 활성화(자체/직접) - 체육진흥 | L17: =J17-K17 -> 0 | N17: 300000 | O17: =L17+M17+N17 -> 300000 | R17: =L17+P17+Q17 -> 0 | S17: =IF(AND((O17=0),(R17>0)),"O",IF(AND((M17<0),(O17-R17<0)),"O","X")) -> X
A18: 12 | B18: 문화체육관광 위원회 | C18: 문화체육 관광국 | D18: 체육과 | E18: 본예산 | F18: 일반 | I18: 지방체육시설 지원(자체/지원) - 체육시설 개보수 지원 | L18: =J18-K18 -> 0 | N18: 50000 | O18: =L18+M18+N18 -> 50000 | R18: =L18+P18+Q18 -> 0 | S18: =IF(AND((O18=0),(R18>0)),"O",IF(AND((M18<0),(O18-R18<0)),"O","X")) -> X

Sheet 1추특입
A1: 2017년도 제1회 추가경정 경기도 특별회계 세입 예산 조정(안)
A2: □ 세입예산 | X2: 세입=세출 | AC2: 세입=세출
P3: =P6-J6 -> 0 | T3: (단위 : 천원) | X3: =IF(X6='1추특출'!Y6,"OK","@@") -> OK | Y3: =IF(Y6='1추특출'!Z6,"OK","@@") -> OK | Z3: =IF(COUNTIF(Z6:Z16,"검토")>0,"@@","OK") -> OK | AC3: =IF(AC6='1추특출'!AD6,"OK","@@") -> OK | AE3: =IF(COUNTIF(AE6:AE16,"검토")>0,"@@","OK") -> OK
A4: 위원회명 | B4: 실국명 | C4: 부서명 | D4: 편성 구분 | E4: 예산안 페이지 | F4: 사업설명서페이지 | G4: 목명 및 부기명 | H4: 제1회 추경 예산안 (가) | I4: 기정액 (나) | J4: 제1회 추경 증감액 (다=가-나) | K4: 상임위 예산안 조정액(라) | M4: 상임위 조정 예산안 (마=다+라) | N4: 예결위 예산안 조정액(사) | P4: 예결위 조정 예산안 (아=다+사) | Q4: 동의 대상 | R4: 상임위 변경사유 (심의 참고자료) | S4: 비고 (상임위 부대의견) | T4: 비고 (부대의견) | U4: 국도비 등 여부 | W4: 재원 | X4: 상임위 재원별 증감액 | AB4: 재원 | AC4: 예결위 재원별 증감액 | AG4: 세입번호 | AI4: 실국부서 코드 | AK4: 추가 내시 등 | AM4: 상임위 세입 검증 | AQ4: 예결위 세입 검증
K5: 감액 | L5: 증액 | N5: 감액 | O5: 증액 | X5: 국비 등 | Y5: 도비 | Z5: 검증 | AC5: 국비 등 | AD5: 도비 | AE5: 검증 | AM5: 국비 증감액 | AN5: 건수 | AO5: 검증 | AQ5: 국비 증감액 | AR5: 건수 | AS5: 검증
A6: 합 계 | H6: =SUBTOTAL(9,H7:H16) -> 0 | I6: =SUBTOTAL(9,I7:I16) -> 0 | J6: =SUBTOTAL(9,J7:J16) -> 0 | K6: =SUBTOTAL(9,K7:K16) -> 0 | L6: =SUBTOTAL(9,L7:L16) -> 0 | M6: =SUBTOTAL(9,M7:M16) -> 0 | N6: =SUBTOTAL(9,N7:N16) -> 0 | O6: =SUBTOTAL(9,O7:O16) -> 0 | P6: =SUBTOTAL(9,P7:P16) -> 0 | T6: =SUBTOTAL(9,T7:T16)/2 -> 0 | X6: =SUBTOTAL(9,X7:X16) -> 0 | Y6: =SUBTOTAL(9,Y7:Y16) -> 0 | Z6: =IF(SUM($K6:$L6)=SUM($X6:$Y6),"OK","검토") -> OK | AC6: =SUBTOTAL(9,AC7:AC16) -> 0 | AD6: =SUBTOTAL(9,AD7:AD16) -> 0 | AE6: =IF(SUM($K6:$L6)=SUM($X6:$Y6),"OK","검토") -> OK | AM6: =SUBTOTAL(9,AM7:AM16) -> 0 | AN6: =SUBTOTAL(9,AN7:AN16) -> 0 | AO6: =IF(COUNTIF(AO7:AO16,"@@")>0,"@@","OK") -> OK | AQ6: =SUBTOTAL(9,AQ7:AQ16) -> 0 | AR6: =SUBTOTAL(9,AR7:AR16) -> 0 | AS6: =IF(COUNTIF(AS7:AS16,"@@")>0,"@@","OK") -> OK
A7: ( 특별회계) | H7: =SUBTOTAL(9,H8:H10) -> 0 | I7: =SUBTOTAL(9,I8:I10) -> 0 | J7: =SUBTOTAL(9,J8:J10) -> 0 | K7: =SUBTOTAL(9,K8:K10) -> 0 | L7: =SUBTOTAL(9,L8:L10) -> 0 | M7: =SUBTOTAL(9,M8:M10) -> 0 | N7: =SUBTOTAL(9,N8:N10) -> 0 | O7: =SUBTOTAL(9,O8:O10) -> 0 | P7: =SUBTOTAL(9,P8:P10) -> 0
J8: =IF(D8="","",H8-I8) | M8: =SUM(J8:L8) -> 0 | P8: =SUM(J8,N8,O8) -> 0 | Q8: =IF(AND((M8=0),(P8>0)),"O",IF(AND((K8<0),(M8-P8<0)),"O","X")) -> X | X8: =IF($W8<>"도비",IF($U8="국도비","직접입력",SUM($K8:$L8)),) -> 0 | Y8: =IF($W8="도비",SUM($K8:$L8),IF($U8="국도비","직접입력",SUM($K8:$L8)-$X8)) -> 0 | Z8: =IF(SUM($K8:$L8)=SUM($X8:$Y8),"OK","검토") -> OK | AC8: =IF($W8<>"도비",IF($U8="국도비","직접입력",SUM($N8:$O8)),) -> 0 | AD8: =IF($W8="도비",SUM(N8:O8),IF($U8="국도비","직접입력",SUM(N8:O8)-AC8)) -> 0 | AE8: =IF(SUM(N8:O8)=SUM(AC8:AD8),"OK","검토") -> OK | AG8: =IF(AI8="","",IF(W8="도비","세입없음",CONCATENATE(AI8,"-",COUNTIF($AI$7:AI8,AI8)))) | AI8: {=IF(C8="","",INDEX(구분표!$I$2:$I$311, MATCH(1,(구분표!$E$2:$E$311='1추특입'!B8)*(구분표!$F$2:$F$311='1추특입'!C8)*(구분표!$G$2:$G$311='1추특입'!A8),0)))} | AM8: =IF(AG8="",0,SUMIFS('1추특출'!$Y$6:$Y$550,'1추특출'!$AH$6:$AH$550,'1추특입'!$AG8)) -> 0 | AN8: =IF(AG8="","",COUNTIFS('1추특출'!$AH$6:$AH$550,'1추특입'!AG8)) | AO8: =IF(X8=AM8,"OK","@@") -> OK | AQ8: =IF(AG8="",0,SUMIFS('1추일출'!$AE$6:$AE$18,'1추일출'!$AI$6:$AI$18,'1추특입'!$AG8)) -> 0 | AR8: =IF(AG8="","",COUNTIFS('1추일출'!$AI$6:$AI$18,AG8)) | AS8: =IF(AC8=AQ8,"OK","@@") -> OK
J9: =IF(D9="","",H9-I9) | M9: =SUM(J9:L9) -> 0 | P9: =SUM(J9,N9,O9) -> 0 | Q9: =IF(AND((M9=0),(P9>0)),"O",IF(AND((K9<0),(M9-P9<0)),"O","X")) -> X | X9: =IF($W9<>"도비",IF($U9="국도비","직접입력",SUM($K9:$L9)),) -> 0 | Y9: =IF($W9="도비",SUM($K9:$L9),IF($U9="국도비","직접입력",SUM($K9:$L9)-$X9)) -> 0 | Z9: =IF(SUM($K9:$L9)=SUM($X9:$Y9),"OK","검토") -> OK | AC9: =IF($W9<>"도비",IF($U9="국도비","직접입력",SUM($N9:$O9)),) -> 0 | AD9: =IF($W9="도비",SUM(N9:O9),IF($U9="국도비","직접입력",SUM(N9:O9)-AC9)) -> 0 | AE9: =IF(SUM(N9:O9)=SUM(AC9:AD9),"OK","검토") -> OK | AG9: =IF(AI9="","",IF(W9="도비","세입없음",CONCATENATE(AI9,"-",COUNTIF($AI$7:AI9,AI9)))) | AI9: {=IF(C9="","",INDEX(구분표!$I$2:$I$311, MATCH(1,(구분표!$E$2:$E$311='1추특입'!B9)*(구분표!$F$2:$F$311='1추특입'!C9)*(구분표!$G$2:$G$311='1추특입'!A9),0)))} | AM9: =IF(AG9="",0,SUMIFS('1추특출'!$Y$6:$Y$550,'1추특출'!$AH$6:$AH$550,'1추특입'!$AG9)) -> 0 | AN9: =IF(AG9="","",COUNTIFS('1추특출'!$AH$6:$AH$550,'1추특입'!AG9)) | AO9: =IF(X9=AM9,"OK","@@") -> OK | AQ9: =IF(AG9="",0,SUMIFS('1추일출'!$AE$6:$AE$18,'1추일출'!$AI$6:$AI$18,'1추특입'!$AG9)) -> 0 | AR9: =IF(AG9="","",COUNTIFS('1추일출'!$AI$6:$AI$18,AG9)) | AS9: =IF(AC9=AQ9,"OK","@@") -> OK
A10: =IFERROR(VLOOKUP($C10,구분표!$A$2:$C$311,2,FALSE),"") | B10: =IFERROR(VLOOKUP($C10,구분표!$A$2:$C$311,3,FALSE),"") | J10: =IF(D10="","",H10-I10) | M10: =SUM(J10:L10) -> 0 | P10: =SUM(J10,N10,O10) -> 0 | Q10: =IF(AND((M10=0),(P10>0)),"O",IF(AND((K10<0),(M10-P10<0)),"O","X")) -> X | X10: =IF($W10<>"도비",IF($U10="국도비","직접입력",SUM($K10:$L10)),) -> 0 | Y10: =IF($W10="도비",SUM($K10:$L10),IF($U10="국도비","직접입력",SUM($K10:$L10)-$X10)) -> 0 | Z10: =IF(SUM($K10:$L10)=SUM($X10:$Y10),"OK","검토") -> OK | AC10: =IF($W10<>"도비",IF($U10="국도비","직접입력",SUM($N10:$O10)),) -> 0 | AD10: =IF($W10="도비",SUM(N10:O10),IF($U10="국도비","직접입력",SUM(N10:O10)-AC10)) -> 0 | AE10: =IF(SUM(N10:O10)=SUM(AC10:AD10),"OK","검토") -> OK | AG10: =IF(AI10="","",IF(W10="도비","세입없음",CONCATENATE(AI10,"-",COUNTIF($AI$7:AI10,AI10)))) | AI10: {=IF(C10="","",INDEX(구분표!$I$2:$I$311, MATCH(1,(구분표!$E$2:$E$311='1추특입'!B10)*(구분표!$F$2:$F$311='1추특입'!C10)*(구분표!$G$2:$G$311='1추특입'!A10),0)))} | AM10: =IF(AG10="",0,SUMIFS('1추특출'!$Y$6:$Y$550,'1추특출'!$AH$6:$AH$550,'1추특입'!$AG10)) -> 0 | AN10: =IF(AG10="","",COUNTIFS('1추특출'!$AH$6:$AH$550,'1추특입'!AG10)) | AO10: =IF(X10=AM10,"OK","@@") -> OK | AQ10: =IF(AG10="",0,SUMIFS('1추일출'!$AE$6:$AE$18,'1추일출'!$AI$6:$AI$18,'1추특입'!$AG10)) -> 0 | AR10: =IF(AG10="","",COUNTIFS('1추일출'!$AI$6:$AI$18,AG10)) | AS10: =IF(AC10=AQ10,"OK","@@") -> OK
A11: ( 특별회계) | H11: =SUBTOTAL(9,H12:H14) -> 0 | I11: =SUBTOTAL(9,I12:I14) -> 0 | J11: =SUBTOTAL(9,J12:J14) -> 0 | K11: =SUBTOTAL(9,K12:K16) -> 0 | L11: =SUBTOTAL(9,L12:L16) -> 0 | M11: =SUBTOTAL(9,M12:M16) -> 0 | N11: =SUBTOTAL(9,N12:N16) -> 0 | O11: =SUBTOTAL(9,O12:O16) -> 0 | P11: =SUBTOTAL(9,P12:P16) -> 0
J12: =IF(D12="","",H12-I12) | M12: =SUM(J12:L12) -> 0 | P12: =SUM(J12,N12,O12) -> 0 | Q12: =IF(AND((M12=0),(P12>0)),"O",IF(AND((K12<0),(M12-P12<0)),"O","X")) -> X | X12: =IF($W12<>"도비",IF($U12="국도비","직접입력",SUM($K12:$L12)),) -> 0 | Y12: =IF($W12="도비",SUM($K12:$L12),IF($U12="국도비","직접입력",SUM($K12:$L12)-$X12)) -> 0 | Z12: =IF(SUM($K12:$L12)=SUM($X12:$Y12),"OK","검토") -> OK | AC12: =IF($W12<>"도비",IF($U12="국도비","직접입력",SUM($N12:$O12)),) -> 0 | AD12: =IF($W12="도비",SUM(N12:O12),IF($U12="국도비","직접입력",SUM(N12:O12)-AC12)) -> 0 | AE12: =IF(SUM(N12:O12)=SUM(AC12:AD12),"OK","검토") -> OK | AG12: =IF(AI12="","",IF(W12="도비","세입없음",CONCATENATE(AI12,"-",COUNTIF($AI$7:AI12,AI12)))) | AI12: {=IF(C12="","",INDEX(구분표!$I$2:$I$311, MATCH(1,(구분표!$E$2:$E$311='1추특입'!B12)*(구분표!$F$2:$F$311='1추특입'!C12)*(구분표!$G$2:$G$311='1추특입'!A12),0)))} | AM12: =IF(AG12="",0,SUMIFS('1추특출'!$Y$6:$Y$550,'1추특출'!$AH$6:$AH$550,'1추특입'!$AG12)) -> 0 | AN12: =IF(AG12="","",COUNTIFS('1추특출'!$AH$6:$AH$550,'1추특입'!AG12)) | AO12: =IF(X12=AM12,"OK","@@") -> OK | AQ12: =IF(AG12="",0,SUMIFS('1추일출'!$AE$6:$AE$18,'1추일출'!$AI$6:$AI$18,'1추특입'!$AG12)) -> 0 | AR12: =IF(AG12="","",COUNTIFS('1추일출'!$AI$6:$AI$18,AG12)) | AS12: =IF(AC12=AQ12,"OK","@@") -> OK
J13: =IF(D13="","",H13-I13) | M13: =SUM(J13:L13) -> 0 | P13: =SUM(J13,N13,O13) -> 0 | Q13: =IF(AND((M13=0),(P13>0)),"O",IF(AND((K13<0),(M13-P13<0)),"O","X")) -> X | X13: =IF($W13<>"도비",IF($U13="국도비","직접입력",SUM($K13:$L13)),) -> 0 | Y13: =IF($W13="도비",SUM($K13:$L13),IF($U13="국도비","직접입력",SUM($K13:$L13)-$X13)) -> 0 | Z13: =IF(SUM($K13:$L13)=SUM($X13:$Y13),"OK","검토") -> OK | AC13: =IF($W13<>"도비",IF($U13="국도비","직접입력",SUM($N13:$O13)),) -> 0 | AD13: =IF($W13="도비",SUM(N13:O13),IF($U13="국도비","직접입력",SUM(N13:O13)-AC13)) -> 0 | AE13: =IF(SUM(N13:O13)=SUM(AC13:AD13),"OK","검토") -> OK | AG13: =IF(AI13="","",IF(W13="도비","세입없음",CONCATENATE(AI13,"-",COUNTIF($AI$7:AI13,AI13)))) | AI13: {=IF(C13="","",INDEX(구분표!$I$2:$I$311, MATCH(1,(구분표!$E$2:$E$311='1추특입'!B13)*(구분표!$F$2:$F$311='1추특입'!C13)*(구분표!$G$2:$G$311='1추특입'!A13),0)))} | AM13: =IF(AG13="",0,SUMIFS('1추특출'!$Y$6:$Y$550,'1추특출'!$AH$6:$AH$550,'1추특입'!$AG13)) -> 0 | AN13: =IF(AG13="","",COUNTIFS('1추특출'!$AH$6:$AH$550,'1추특입'!AG13)) | AO13: =IF(X13=AM13,"OK","@@") -> OK | AQ13: =IF(AG13="",0,SUMIFS('1추일출'!$AE$6:$AE$18,'1추일출'!$AI$6:$AI$18,'1추특입'!$AG13)) -> 0 | AR13: =IF(AG13="","",COUNTIFS('1추일출'!$AI$6:$AI$18,AG13)) | AS13: =IF(AC13=AQ13,"OK","@@") -> OK
J14: =IF(D14="","",H14-I14) | M14: =SUM(J14:L14) -> 0 | P14: =SUM(J14,N14,O14) -> 0 | Q14: =IF(AND((M14=0),(P14>0)),"O",IF(AND((K14<0),(M14-P14<0)),"O","X")) -> X | X14: =IF($W14<>"도비",IF($U14="국도비","직접입력",SUM($K14:$L14)),) -> 0 | Y14: =IF($W14="도비",SUM($K14:$L14),IF($U14="국도비","직접입력",SUM($K14:$L14)-$X14)) -> 0 | Z14: =IF(SUM($K14:$L14)=SUM($X14:$Y14),"OK","검토") -> OK | AC14: =IF($W14<>"도비",IF($U14="국도비","직접입력",SUM($N14:$O14)),) -> 0 | AD14: =IF($W14="도비",SUM(N14:O14),IF($U14="국도비","직접입력",SUM(N14:O14)-AC14)) -> 0 | AE14: =IF(SUM(N14:O14)=SUM(AC14:AD14),"OK","검토") -> OK | AG14: =IF(AI14="","",IF(W14="도비","세입없음",CONCATENATE(AI14,"-",COUNTIF($AI$7:AI14,AI14)))) | AI14: {=IF(C14="","",INDEX(구분표!$I$2:$I$311, MATCH(1,(구분표!$E$2:$E$311='1추특입'!B14)*(구분표!$F$2:$F$311='1추특입'!C14)*(구분표!$G$2:$G$311='1추특입'!A14),0)))} | AM14: =IF(AG14="",0,SUMIFS('1추특출'!$Y$6:$Y$550,'1추특출'!$AH$6:$AH$550,'1추특입'!$AG14)) -> 0 | AN14: =IF(AG14="","",COUNTIFS('1추특출'!$AH$6:$AH$550,'1추특입'!AG14)) | AO14: =IF(X14=AM14,"OK","@@") -> OK | AQ14: =IF(AG14="",0,SUMIFS('1추일출'!$AE$6:$AE$18,'1추일출'!$AI$6:$AI$18,'1추특입'!$AG14)) -> 0 | AR14: =IF(AG14="","",COUNTIFS('1추일출'!$AI$6:$AI$18,AG14)) | AS14: =IF(AC14=AQ14,"OK","@@") -> OK
J15: =IF(D15="","",H15-I15) | M15: =SUM(J15:L15) -> 0 | P15: =SUM(J15,N15,O15) -> 0 | Q15: =IF(AND((M15=0),(P15>0)),"O",IF(AND((K15<0),(M15-P15<0)),"O","X")) -> X | X15: =IF($W15<>"도비",IF($U15="국도비","직접입력",SUM($K15:$L15)),) -> 0 | Y15: =IF($W15="도비",SUM($K15:$L15),IF($U15="국도비","직접입력",SUM($K15:$L15)-$X15)) -> 0 | Z15: =IF(SUM($K15:$L15)=SUM($X15:$Y15),"OK","검토") -> OK | AC15: =IF($W15<>"도비",IF($U15="국도비","직접입력",SUM($N15:$O15)),) -> 0 | AD15: =IF($W15="도비",SUM(N15:O15),IF($U15="국도비","직접입력",SUM(N15:O15)-AC15)) -> 0 | AE15: =IF(SUM(N15:O15)=SUM(AC15:AD15),"OK","검토") -> OK | AG15: =IF(AI15="","",IF(W15="도비","세입없음",CONCATENATE(AI15,"-",COUNTIF($AI$7:AI15,AI15)))) | AI15: {=IF(C15="","",INDEX(구분표!$I$2:$I$311, MATCH(1,(구분표!$E$2:$E$311='1추특입'!B15)*(구분표!$F$2:$F$311='1추특입'!C15)*(구분표!$G$2:$G$311='1추특입'!A15),0)))} | AM15: =IF(AG15="",0,SUMIFS('1추특출'!$Y$6:$Y$550,'1추특출'!$AH$6:$AH$550,'1추특입'!$AG15)) -> 0 | AN15: =IF(AG15="","",COUNTIFS('1추특출'!$AH$6:$AH$550,'1추특입'!AG15)) | AO15: =IF(X15=AM15,"OK","@@") -> OK | AQ15: =IF(AG15="",0,SUMIFS('1추일출'!$AE$6:$AE$18,'1추일출'!$AI$6:$AI$18,'1추특입'!$AG15)) -> 0 | AR15: =IF(AG15="","",COUNTIFS('1추일출'!$AI$6:$AI$18,AG15)) | AS15: =IF(AC15=AQ15,"OK","@@") -> OK
A16: =IFERROR(VLOOKUP($C16,구분표!$A$2:$C$311,2,FALSE),"") | B16: =IFERROR(VLOOKUP($C16,구분표!$A$2:$C$311,3,FALSE),"") | J16: =IF(D16="","",H16-I16) | M16: =SUM(J16:L16) -> 0 | P16: =SUM(J16,N16,O16) -> 0 | Q16: =IF(AND((M16=0),(P16>0)),"O",IF(AND((K16<0),(M16-P16<0)),"O","X")) -> X | X16: =IF($W16<>"도비",IF($U16="국도비","직접입력",SUM($K16:$L16)),) -> 0 | Y16: =IF($W16="도비",SUM($K16:$L16),IF($U16="국도비","직접입력",SUM($K16:$L16)-$X16)) -> 0 | Z16: =IF(SUM($K16:$L16)=SUM($X16:$Y16),"OK","검토") -> OK | AC16: =IF($W16<>"도비",IF($U16="국도비","직접입력",SUM($N16:$O16)),) -> 0 | AD16: =IF($W16="도비",SUM(N16:O16),IF($U16="국도비","직접입력",SUM(N16:O16)-AC16)) -> 0 | AE16: =IF(SUM(N16:O16)=SUM(AC16:AD16),"OK","검토") -> OK | AG16: =IF(AI16="","",IF(W16="도비","세입없음",CONCATENATE(AI16,"-",COUNTIF($AI$7:AI16,AI16)))) | AI16: {=IF(C16="","",INDEX(구분표!$I$2:$I$311, MATCH(1,(구분표!$E$2:$E$311='1추특입'!B16)*(구분표!$F$2:$F$311='1추특입'!C16)*(구분표!$G$2:$G$311='1추특입'!A16),0)))} | AM16: =IF(AG16="",0,SUMIFS('1추특출'!$Y$6:$Y$550,'1추특출'!$AH$6:$AH$550,'1추특입'!$AG16)) -> 0 | AN16: =IF(AG16="","",COUNTIFS('1추특출'!$AH$6:$AH$550,'1추특입'!AG16)) | AO16: =IF(X16=AM16,"OK","@@") -> OK | AQ16: =IF(AG16="",0,SUMIFS('1추일출'!$AE$6:$AE$18,'1추일출'!$AI$6:$AI$18,'1추특입'!$AG16)) -> 0 | AR16: =IF(AG16="","",COUNTIFS('1추일출'!$AI$6:$AI$18,AG16)) | AS16: =IF(AC16=AQ16,"OK","@@") -> OK

Sheet 1추특출
A1: 2017년도 제1회 추가경정 경기도 특별회계 세출 예산 조정(안)
A2: □ 세출예산 | P2: =Q2-'1추특입'!P3 -> 0 | Q2: =Q6-K6 -> 0 | Y2: 세입=세출 | AD2: 세입=세출
K3: =SUM(K7:K906)/2 -> 0 | L3: =SUM(L7:L906)/2 -> 0 | M3: =SUM(M7:M906)/2 -> 0 | N3: =SUM(N7:N906)/2 -> 0 | O3: =SUM(O7:O906)/2 -> 0 | P3: =SUM(P7:P906)/2 -> 0 | Q3: =SUM(Q7:Q906)/2 -> 0 | U3: (단위 : 천원) | Y3: =IF(Y6='1추특입'!X6,"OK","@@") -> OK | AA3: =IF(COUNTIF(AA6:AA22,"검토")>0,"@@","OK") -> OK | AD3: =IF(AD6='1추특입'!AC6,"OK","@@") -> OK | AE3: =O6+P6-AD6-AE6 -> 0 | AF3: =IF(COUNTIF(AF6:AF22,"검토")>0,"@@","OK") -> OK
A4: 위원회명 | B4: 실국명 | C4: 부서명 | D4: 편성 구분 | E4: 연정 구분 | F4: 예산안 페이지 | G4: 사업설명서페이지 | H4: 세부사업명 및 부기명 | I4: 제1회 추경 예산안 (가) | J4: 기정액 (나) | K4: 제1회 추경 증감액 (다=가-나) | L4: 상임위 예산안 조정액(라) | N4: 상임위 조정 예산안 (마=다+라) | O4: 예결위 예산안 조정액(사) | Q4: 예결위 조정 예산안 (아=다+사) | R4: 동의 대상 | S4: 상임위 변경사유 (심의 참고자료) | T4: 비고 (상임위 부대의견) | U4: 비고 (부대의견) | V4: 국도비 등 여부 | X4: 재원 | Y4: 상임위 재원별 증감액 | AC4: 재원 | AD4: 예결위 재원별 증감액 | AH4: 세입번호 | AJ4: 동일 세입 건수 | AK4: 세출 번호 검증 | AM4: 실국부서 코드 | AO4: 추가 내시 등
L5: 감액 | M5: 증액 | O5: 감액 | P5: 증액 | Y5: 국비 등 | Z5: 도비 | AA5: 검증 | AD5: 국비 등 | AE5: 도비 | AF5: 검증
A6: 합 계 | I6: =SUBTOTAL(9,I7:I22) -> 0 | J6: =SUBTOTAL(9,J7:J22) -> 0 | K6: =SUBTOTAL(9,K7:K22) -> 0 | L6: =SUBTOTAL(9,L7:L22) -> 0 | M6: =SUBTOTAL(9,M7:M22) -> 0 | N6: =SUBTOTAL(9,N7:N22) -> 0 | O6: =SUBTOTAL(9,O7:O22) -> 0 | P6: =SUBTOTAL(9,P7:P22) -> 0 | Q6: =SUBTOTAL(9,Q7:Q22) -> 0 | Y6: =SUBTOTAL(9,Y7:Y22) -> 0 | Z6: =SUBTOTAL(9,Z7:Z22) -> 0 | AA6: =IF(SUM($L6:$M6)=SUM($Y6:$Z6),"OK","검토") -> OK | AD6: =SUBTOTAL(9,AD7:AD22) -> 0 | AE6: =SUBTOTAL(9,AE7:AE22) -> 0 | AF6: =IF(SUM($L6:$M6)=SUM($Y6:$Z6),"OK","검토") -> OK
A7: ( 특별회계) | I7: =SUBTOTAL(9,I8:I12) -> 0 | J7: =SUBTOTAL(9,J8:J12) -> 0 | K7: =SUBTOTAL(9,K8:K12) -> 0 | L7: =SUBTOTAL(9,L8:L12) -> 0 | M7: =SUBTOTAL(9,M8:M12) -> 0 | N7: =SUBTOTAL(9,N8:N12) -> 0 | O7: =SUBTOTAL(9,O8:O12) -> 0 | P7: =SUBTOTAL(9,P8:P12) -> 0 | Q7: =SUBTOTAL(9,Q8:Q12) -> 0
K8: =I8-J8 -> 0 | N8: =K8+L8+M8 -> 0 | Q8: =K8+O8+P8 -> 0 | R8: =IF(AND((N8=0),(Q8>0)),"O",IF(AND((L8<0),(N8-Q8<0)),"O","X")) -> X | Y8: =IF($X8<>"도비",IF($V8="국도비","직접입력",SUM($L8:$M8)),) -> 0 | Z8: =IF($X8="도비",SUM($L8:$M8),IF($V8="국도비","직접입력",SUM($L8:$M8)-$Y8)) -> 0 | AA8: =IF(SUM($L8:$M8)=SUM($Y8:$Z8),"OK","검토") -> OK | AD8: =IF($X8<>"도비",IF($V8="국도비","직접입력",SUM($O8:$P8)),) -> 0 | AE8: =IF($X8="도비",SUM(O8:P8),IF($V8="국도비","직접입력",SUM(O8:P8)-AD8)) -> 0 | AF8: =IF(SUM(O8:P8)=SUM(AD8:AE8),"OK","검토") -> OK | AH8: =IF(X8="","",IF(X8="도비","세입없음","직접입력")) | AJ8: =IF(AH8="","",COUNTIF($AH$7:$AH$22,AH8)) | AK8: =IF(X8="","",IF(AND(X8="도비",AH8="세입없음"),"OK",IF(AND(X8<>"도비",AH8<>""),"OK","@@"))) | AM8: {=IF(C8="","",INDEX(구분표!$I$2:$I$311, MATCH(1,(구분표!$E$2:$E$311='1추특출'!B8)*(구분표!$F$2:$F$311='1추특출'!C8)*(구분표!$G$2:$G$311='1추특출'!A8),0)))}
K9: =I9-J9 -> 0 | N9: =K9+L9+M9 -> 0 | Q9: =K9+O9+P9 -> 0 | R9: =IF(AND((N9=0),(Q9>0)),"O",IF(AND((L9<0),(N9-Q9<0)),"O","X")) -> X | Y9: =IF($X9<>"도비",IF($V9="국도비","직접입력",SUM($L9:$M9)),) -> 0 | Z9: =IF($X9="도비",SUM($L9:$M9),IF($V9="국도비","직접입력",SUM($L9:$M9)-$Y9)) -> 0 | AA9: =IF(SUM($L9:$M9)=SUM($Y9:$Z9),"OK","검토") -> OK | AD9: =IF($X9<>"도비",IF($V9="국도비","직접입력",SUM($O9:$P9)),) -> 0 | AE9: =IF($X9="도비",SUM(O9:P9),IF($V9="국도비","직접입력",SUM(O9:P9)-AD9)) -> 0 | AF9: =IF(SUM(O9:P9)=SUM(AD9:AE9),"OK","검토") -> OK | AH9: =IF(X9="","",IF(X9="도비","세입없음","직접입력")) | AJ9: =IF(AH9="","",COUNTIF($AH$7:$AH$22,AH9)) | AK9: =IF(X9="","",IF(AND(X9="도비",AH9="세입없음"),"OK",IF(AND(X9<>"도비",AH9<>""),"OK","@@"))) | AM9: {=IF(C9="","",INDEX(구분표!$I$2:$I$311, MATCH(1,(구분표!$E$2:$E$311='1추특출'!B9)*(구분표!$F$2:$F$311='1추특출'!C9)*(구분표!$G$2:$G$311='1추특출'!A9),0)))}
K10: =I10-J10 -> 0 | N10: =K10+L10+M10 -> 0 | Q10: =K10+O10+P10 -> 0 | R10: =IF(AND((N10=0),(Q10>0)),"O",IF(AND((L10<0),(N10-Q10<0)),"O","X")) -> X | Y10: =IF($X10<>"도비",IF($V10="국도비","직접입력",SUM($L10:$M10)),) -> 0 | Z10: =IF($X10="도비",SUM($L10:$M10),IF($V10="국도비","직접입력",SUM($L10:$M10)-$Y10)) -> 0 | AA10: =IF(SUM($L10:$M10)=SUM($Y10:$Z10),"OK","검토") -> OK | AD10: =IF($X10<>"도비",IF($V10="국도비","직접입력",SUM($O10:$P10)),) -> 0 | AE10: =IF($X10="도비",SUM(O10:P10),IF($V10="국도비","직접입력",SUM(O10:P10)-AD10)) -> 0 | AF10: =IF(SUM(O10:P10)=SUM(AD10:AE10),"OK","검토") -> OK | AH10: =IF(X10="","",IF(X10="도비","세입없음","직접입력")) | AJ10: =IF(AH10="","",COUNTIF($AH$7:$AH$22,AH10)) | AK10: =IF(X10="","",IF(AND(X10="도비",AH10="세입없음"),"OK",IF(AND(X10<>"도비",AH10<>""),"OK","@@"))) | AM10: {=IF(C10="","",INDEX(구분표!$I$2:$I$311, MATCH(1,(구분표!$E$2:$E$311='1추특출'!B10)*(구분표!$F$2:$F$311='1추특출'!C10)*(구분표!$G$2:$G$311='1추특출'!A10),0)))}
K11: =I11-J11 -> 0 | N11: =K11+L11+M11 -> 0 | Q11: =K11+O11+P11 -> 0 | R11: =IF(AND((N11=0),(Q11>0)),"O",IF(AND((L11<0),(N11-Q11<0)),"O","X")) -> X | Y11: =IF($X11<>"도비",IF($V11="국도비","직접입력",SUM($L11:$M11)),) -> 0 | Z11: =IF($X11="도비",SUM($L11:$M11),IF($V11="국도비","직접입력",SUM($L11:$M11)-$Y11)) -> 0 | AA11: =IF(SUM($L11:$M11)=SUM($Y11:$Z11),"OK","검토") -> OK | AD11: =IF($X11<>"도비",IF($V11="국도비","직접입력",SUM($O11:$P11)),) -> 0 | AE11: =IF($X11="도비",SUM(O11:P11),IF($V11="국도비","직접입력",SUM(O11:P11)-AD11)) -> 0 | AF11: =IF(SUM(O11:P11)=SUM(AD11:AE11),"OK","검토") -> OK | AH11: =IF(X11="","",IF(X11="도비","세입없음","직접입력")) | AJ11: =IF(AH11="","",COUNTIF($AH$7:$AH$22,AH11)) | AK11: =IF(X11="","",IF(AND(X11="도비",AH11="세입없음"),"OK",IF(AND(X11<>"도비",AH11<>""),"OK","@@"))) | AM11: {=IF(C11="","",INDEX(구분표!$I$2:$I$311, MATCH(1,(구분표!$E$2:$E$311='1추특출'!B11)*(구분표!$F$2:$F$311='1추특출'!C11)*(구분표!$G$2:$G$311='1추특출'!A11),0)))}
A12: =IFERROR(VLOOKUP($C12,구분표!$A$2:$C$311,2,FALSE),"") | B12: =IFERROR(VLOOKUP($C12,구분표!$A$2:$C$311,3,FALSE),"") | K12: =I12-J12 -> 0 | N12: =K12+L12+M12 -> 0 | Q12: =K12+O12+P12 -> 0 | R12: =IF(AND((N12=0),(Q12>0)),"O",IF(AND((L12<0),(N12-Q12<0)),"O","X")) -> X | Y12: =IF($X12<>"도비",IF($V12="국도비","직접입력",SUM($L12:$M12)),) -> 0 | Z12: =IF($X12="도비",SUM($L12:$M12),IF($V12="국도비","직접입력",SUM($L12:$M12)-$Y12)) -> 0 | AA12: =IF(SUM($L12:$M12)=SUM($Y12:$Z12),"OK","검토") -> OK | AD12: =IF($X12<>"도비",IF($V12="국도비","직접입력",SUM($O12:$P12)),) -> 0 | AE12: =IF($X12="도비",SUM(O12:P12),IF($V12="국도비","직접입력",SUM(O12:P12)-AD12)) -> 0 | AF12: =IF(SUM(O12:P12)=SUM(AD12:AE12),"OK","검토") -> OK | AH12: =IF(X12="","",IF(X12="도비","세입없음","직접입력")) | AJ12: =IF(AH12="","",COUNTIF($AH$7:$AH$22,AH12)) | AK12: =IF(X12="","",IF(AND(X12="도비",AH12="세입없음"),"OK",IF(AND(X12<>"도비",AH12<>""),"OK","@@"))) | AM12: {=IF(C12="","",INDEX(구분표!$I$2:$I$311, MATCH(1,(구분표!$E$2:$E$311='1추특출'!B12)*(구분표!$F$2:$F$311='1추특출'!C12)*(구분표!$G$2:$G$311='1추특출'!A12),0)))}
A13: ( 특별회계) | I13: =SUBTOTAL(9,I14:I18) -> 0 | J13: =SUBTOTAL(9,J14:J18) -> 0 | K13: =SUBTOTAL(9,K14:K18) -> 0 | L13: =SUBTOTAL(9,L14:L18) -> 0 | M13: =SUBTOTAL(9,M14:M18) -> 0 | N13: =SUBTOTAL(9,N14:N18) -> 0 | O13: =SUBTOTAL(9,O14:O18) -> 0 | P13: =SUBTOTAL(9,P14:P18) -> 0 | Q13: =SUBTOTAL(9,Q14:Q18) -> 0 | AH13: =IF(X13="","",IF(X13="도비","세입없음","직접입력"))
K14: =I14-J14 -> 0 | N14: =K14+L14+M14 -> 0 | Q14: =K14+O14+P14 -> 0 | R14: =IF(AND((N14=0),(Q14>0)),"O",IF(AND((L14<0),(N14-Q14<0)),"O","X")) -> X | Y14: =IF($X14<>"도비",IF($V14="국도비","직접입력",SUM($L14:$M14)),) -> 0 | Z14: =IF($X14="도비",SUM($L14:$M14),IF($V14="국도비","직접입력",SUM($L14:$M14)-$Y14)) -> 0 | AA14: =IF(SUM($L14:$M14)=SUM($Y14:$Z14),"OK","검토") -> OK | AD14: =IF($X14<>"도비",IF($V14="국도비","직접입력",SUM($O14:$P14)),) -> 0 | AE14: =IF($X14="도비",SUM(O14:P14),IF($V14="국도비","직접입력",SUM(O14:P14)-AD14)) -> 0 | AF14: =IF(SUM(O14:P14)=SUM(AD14:AE14),"OK","검토") -> OK | AH14: =IF(X14="","",IF(X14="도비","세입없음","직접입력")) | AJ14: =IF(AH14="","",COUNTIF($AH$7:$AH$22,AH14)) | AK14: =IF(X14="","",IF(AND(X14="도비",AH14="세입없음"),"OK",IF(AND(X14<>"도비",AH14<>""),"OK","@@"))) | AM14: {=IF(C14="","",INDEX(구분표!$I$2:$I$311, MATCH(1,(구분표!$E$2:$E$311='1추특출'!B14)*(구분표!$F$2:$F$311='1추특출'!C14)*(구분표!$G$2:$G$311='1추특출'!A14),0)))}
