Workbook

Sheet 구분표
A2: 실과명 | B2: 위원회명 | C2: 실국명 | E2: 실국명 | F2: 실과명 | G2: 위원회명 | H2: 정렬순서 | I2: 정렬코드
A3: 총무담당관 | B3: 의회운영위원회 | C3: 의회사무처 | E3: 의회사무처 | F3: 총무담당관 | G3: 의회운영위원회 | H3: 1 | I3: 50101
A4: 공보담당관 | B4: 의회운영위원회 | C4: 의회사무처 | E4: 의회사무처 | F4: 공보담당관 | G4: 의회운영위원회 | H4: 2 | I4: 50102
A5: 의사담당관 | B5: 의회운영위원회 | C5: 의회사무처 | E5: 의회사무처 | F5: 의사담당관 | G5: 의회운영위원회 | H5: 3 | I5: 50103
A6: 입법정책담당관 | B6: 의회운영위원회 | C6: 의회사무처 | E6: 의회사무처 | F6: 입법정책담당관 | G6: 의회운영위원회 | H6: 4 | I6: 50104
A7: 예산정책담당관 | B7: 의회운영위원회 | C7: 의회사무처 | E7: 의회사무처 | F7: 예산정책담당관 | G7: 의회운영위원회 | H7: 5 | I7: 50105
A8: 언론협력담당관 | B8: 의회운영위원회 | C8: 대변인 | E8: 대변인 | F8: 언론협력담당관 | G8: 의회운영위원회 | H8: 6 | I8: 10101
A9: 보도기획담당관 | B9: 의회운영위원회 | C9: 대변인 | E9: 대변인 | F9: 보도기획담당관 | G9: 의회운영위원회 | H9: 7 | I9: 10102
A10: 홍보미디어담당관 | B10: 의회운영위원회 | C10: 소통기획관 | E10: 소통기획관 | F10: 홍보미디어담당관 | G10: 의회운영위원회 | H10: 8 | I10: 10201
A11: 홍보콘텐츠담당관 | B11: 의회운영위원회 | C11: 소통기획관 | E11: 소통기획관 | F11: 홍보콘텐츠담당관 | G11: 의회운영위원회 | H11: 9 | I11: 10202
A12: 연정협력과 | B12: 의회운영위원회 | C12: 연정협력국 | E12: 연정협력국 | F12: 연정협력과 | G12: 의회운영위원회 | H12: 10 | I12: 30101
A13: 대외협력과 | B13: 의회운영위원회 | C13: 연정협력국 | E13: 연정협력국 | F13: 대외협력과 | G13: 의회운영위원회 | H13: 11 | I13: 30102
A14: 서울사무소 | B14: 의회운영위원회 | C14: 연정협력국 | E14: 연정협력국 | F14: 서울사무소 | G14: 의회운영위원회 | H14: 12 | I14: 30103
... A214: 보육청소년담당관 | B214: 여성가족교육협력위원회 | C214: 복지여성실 | E214: 복지여성실 | F214: 보육청소년담당관 | G214: 여성가족교육협력위원회 | H214: 212 | I214: 11201

Sheet 예결표지(세로)
A5: 2017년도 제1회 일반회계 및 특별회계 추가경정 세입·세출 예산안
A7: 예결위 계수조정 결과
A20: 예산결산특별위원회

Sheet 예결표지(가로)
A3: 2017년도 제1회 일반회계 및 특별회계 추가경정 세입·세출 예산안
A5: 예결위 계수조정 결과
A14: 예산결산특별위원회

Sheet 검증
A1: 제4회 추경 일반회계 검증 | H1: 4추 예비비 | J1: 조정액 | K1: =IFERROR(INDEX(#REF!,MATCH("*예비비*",#REF!,0)),0) -> 0 | L1: 조정잔액 | M1: =I1+K1 -> 0
M2: (단위 : 천원)
A3: 구분 | B3: 상 임 위 | H3: 구분 | I3: 예 결 위
B4: 세입 | C4: 검증 | D4: 세출 | E4: 검증 | F4: 차액 | I4: 세입 | J4: 검증 | K4: 세출 | L4: 검증 | M4: 차액
A5: 전체 총계 | B5: =SUM(B6:B13)/2 -> #REF! | C5: =IF(B5=SUM(#REF!),"OK","@@") -> #REF! | D5: =SUM(D6:D13)/2 -> #REF! | E5: =IF(D5=SUM(#REF!),"OK","@@") -> #REF! | H5: 전체 총계 | I5: =SUM(I6:I13)/2 -> #REF! | J5: =IF(I5=SUM(#REF!),"OK","@@") -> #REF! | K5: =SUM(K6:K13)/2 -> #REF! | L5: =IF(K5=SUM(#REF!),"OK","@@") -> #REF!
A6: 자체 계 | B6: =SUM(B7:B8) -> #REF! | C6: =IF(B6=#REF!,"OK","@@") -> #REF! | D6: =SUM(D7:D8) -> #REF! | E6: =IF(D6=#REF!,"OK","@@") -> #REF! | H6: 자체 계 | I6: =SUM(I7:I8) -> #REF! | J6: =IF(I6=#REF!,"OK","@@") -> #REF! | K6: =SUM(K7:K8) -> #REF! | L6: =IF(K6=#REF!,"OK","@@") -> #REF!
A7: 자체 도비 | B7: =SUMIFS(#REF!,#REF!,"도비") -> #REF! | D7: =SUMIFS(#REF!,#REF!,"도비") -> #REF! | H7: 자체 도비 | I7: =SUMIFS(#REF!,#REF!,"국비") -> #REF! | K7: =SUMIFS(#REF!,#REF!,"도비") -> #REF!
A8: 의존 매칭 도비 | B8: =SUMIFS(#REF!,#REF!,"국비")+SUMIFS(#REF!,#REF!,"지특")+SUMIFS(#REF!,#REF!,"기금")+SUMIFS(#REF!,#REF!,"특교") -> #REF! | D8: =SUMIFS(#REF!,#REF!,"국비")+SUMIFS(#REF!,#REF!,"지특")+SUMIFS(#REF!,#REF!,"기금")+SUMIFS(#REF!,#REF!,"특교") -> #REF! | H8: 의존 매칭 도비 | I8: =SUMIFS(#REF!,#REF!,"국비")+SUMIFS(#REF!,#REF!,"지특")+SUMIFS(#REF!,#REF!,"기금")+SUMIFS(#REF!,#REF!,"특교") -> #REF! | K8: =SUMIFS(#REF!,#REF!,"국비")+SUMIFS(#REF!,#REF!,"지특")+SUMIFS(#REF!,#REF!,"기금")+SUMIFS(#REF!,#REF!,"특교") -> #REF!
A9: 의존 계 | B9: =SUM(B10:B13) -> #REF! | C9: =IF(B9=#REF!,"OK","@@") -> #REF! | D9: =SUM(D10:D13) -> #REF! | E9: =IF(D9=#REF!,"OK","@@") -> #REF! | F9: =SUM(F10:F13) -> #REF! | H9: 의존 계 | I9: =SUM(I10:I13) -> #REF! | J9: =IF(I9=#REF!,"OK","@@") -> #REF! | K9: =SUM(K10:K13) -> #REF! | L9: =IF(K9=#REF!,"OK","@@") -> #REF! | M9: =SUM(M10:M13) -> #REF!
A10: 국비 | B10: =SUMIFS(#REF!,#REF!,검증!A10) -> #REF! | D10: =SUMIFS(#REF!,#REF!,검증!A10) -> #REF! | F10: =D10-B10 -> #REF! | H10: 국비 | I10: =SUMIFS(#REF!,#REF!,검증!H10) -> #REF! | K10: =SUMIFS(#REF!,#REF!,검증!H10) -> #REF! | M10: =K10-I10 -> #REF!
A11: 지특 | B11: =SUMIFS(#REF!,#REF!,검증!A11) -> #REF! | D11: =SUMIFS(#REF!,#REF!,검증!A11) -> #REF! | F11: =D11-B11 -> #REF! | H11: 지특 | I11: =SUMIFS(#REF!,#REF!,검증!H11) -> #REF! | K11: =SUMIFS(#REF!,#REF!,검증!H11) -> #REF! | M11: =K11-I11 -> #REF!
A12: 기금 | B12: =SUMIFS(#REF!,#REF!,검증!A12) -> #REF! | D12: =SUMIFS(#REF!,#REF!,검증!A12) -> #REF! | F12: =D12-B12 -> #REF! | H12: 기금 | I12: =SUMIFS(#REF!,#REF!,검증!H12) -> #REF! | K12: =SUMIFS(#REF!,#REF!,검증!H12) -> #REF! | M12: =K12-I12 -> #REF!
A13: 특교 | B13: =SUMIFS(#REF!,#REF!,검증!A13) -> #REF! | D13: =SUMIFS(#REF!,#REF!,검증!A13) -> #REF! | F13: =D13-B13 -> #REF! | H13: 특교 | I13: =SUMIFS(#REF!,#REF!,검증!H13) -> #REF! | K13: =SUMIFS(#REF!,#REF!,검증!H13) -> #REF! | M13: =K13-I13 -> #REF!

Sheet 1추일출 
B1: 2017년도 제1회 추가경정 경기도 일반회계 세출 예산 조정(안)
B2: □ 세출예산 | Q2: =R2-'[1]1추일입'!P2 -> 0 | R2: =R6-L6 -> 0 | Z2: 세입=세출 | AE2: 세입=세출
L3: =SUM(L7:L248)/2 -> 200000 | M3: =SUM(M7:M248)/2 -> 0 | N3: =SUM(N7:N248)/2 -> 745000 | O3: =SUM(O7:O248)/2 -> 945000 | P3: =SUM(P7:P248)/2 -> 0 | Q3: =SUM(Q7:Q248)/2 -> 0 | R3: =SUM(R7:R248)/2 -> 200000 | V3: (단위 : 천원) | Z3: =IF(Z6='[1]1추일입'!X6,"OK","@@") -> @@ | AA3: =M6+N6-Z6-AA6 -> 0 | AB3: =IF(COUNTIF(AB6:AB116,"검토")>0,"@@","OK") -> OK | AE3: =IF(AE6='[1]1추일입'!AC6,"OK","@@") -> OK | AF3: =P6+Q6-AE6-AF6 -> 0 | AG3: =IF(COUNTIF(AG6:AG116,"검토")>0,"@@","OK") -> OK
A4: 번호 | B4: 위원회명 | C4: 실국명 | D4: 부서명 | E4: 편성 구분 | F4: 연정 구분 | G4: 예산안 페이지 | H4: 사업설명서페이지 | I4: 세부사업명 및 부기명 | J4: 제1회 추경 예산안 (가) | K4: 기정액 (나) | L4: 제1회 추경 증감액 (다=가-나) | M4: 상임위 예산안 조정액(라) | O4: 상임위 조정 예산안 (마=다+라) | P4: 예결위 예산안 조정액(사) | R4: 예결위 조정 예산안 (아=다+사) | S4: 동의 대상 | T4: 상임위 변경사유 (심의 참고자료) | U4: 비고 (상임위 부대의견) | V4: 비고 (부대의견) | W4: 국도비 등 여부 | Y4: 재원 | Z4: 상임위 재원별 증감액 | AD4: 재원 | AE4: 예결위 재원별 증감액 | AI4: 세입번호 | AK4: 동일 세입 건수 | AL4: 세출 번호 검증 | AN4: 실국부서 코드 | AP4: 추가 내시 등
M5: 감액 | N5: 증액 | P5: 감액 | Q5: 증액 | Z5: 국비 등 | AA5: 도비 | AB5: 검증 | AE5: 국비 등 | AF5: 도비 | AG5: 검증
B6: 합 계 | J6: =SUBTOTAL(9,J7:J116) -> 4986500 | K6: =SUBTOTAL(9,K7:K116) -> 4786500 | L6: =SUBTOTAL(9,L7:L116) -> 200000 | M6: =SUBTOTAL(9,M7:M116) -> 0 | N6: =SUBTOTAL(9,N7:N116) -> 745000 | O6: =SUBTOTAL(9,O7:O116) -> 945000 | P6: =SUBTOTAL(9,P7:P116) -> 0 | Q6: =SUBTOTAL(9,Q7:Q116) -> 0 | R6: =SUBTOTAL(9,R7:R116) -> 200000 | Z6: =SUBTOTAL(9,Z7:Z116) -> 745000 | AA6: =SUBTOTAL(9,AA7:AA116) -> 0 | AB6: =IF(SUM($M6:$N6)=SUM($Z6:$AA6),"OK","검토") -> OK | AE6: =SUBTOTAL(9,AE7:AE116) -> 0 | AF6: =SUBTOTAL(9,AF7:AF116) -> 0 | AG6: =IF(SUM(P6:Q6)=SUM(AE6:AF6),"OK","검토") -> OK
B7: (의회운영위원회) | J7: =SUBTOTAL(9,J8:J17) -> 0 | K7: =SUBTOTAL(9,K8:K17) -> 0 | L7: =SUBTOTAL(9,L8:L17) -> 0 | M7: =SUBTOTAL(9,M8:M17) -> 0 | N7: =SUBTOTAL(9,N8:N17) -> 0 | O7: =SUBTOTAL(9,O8:O17) -> 0 | P7: =SUBTOTAL(9,P8:P17) -> 0 | Q7: =SUBTOTAL(9,Q8:Q17) -> 0 | R7: =SUBTOTAL(9,R8:R17) -> 0 | Z7: =IF($Y7<>"도비",IF($W7="국도비","직접입력",SUM($M7:$N7)),) -> 0 | AA7: =IF($Y7="도비",SUM($M7:$N7),IF($W7="국도비","직접입력",SUM($M7:$N7)-$Z7)) -> 0 | AB7: =IF(SUM($M7:$N7)=SUM($Z7:$AA7),"OK","검토") -> OK | AE7: =IF($Y7<>"도비",IF($W7="국도비","직접입력",SUM($P7:$Q7)),) -> 0 | AF7: =IF($Y7="도비",SUM(P7:Q7),IF($W7="국도비","직접입력",SUM(P7:Q7)-AE7)) -> 0 | AG7: =IF(SUM(P7:Q7)=SUM(AE7:AF7),"OK","검토") -> OK | AI7: =IF(Y7="","",IF(Y7="도비","세입없음","직접입력")) | AK7: =IF(AI7="","",COUNTIF($AI$7:$AI$116,AI7)) | AL7: =IF(Y7="","",IF(AND(Y7="도비",AI7="세입없음"),"OK",IF(AND(Y7<>"도비",AI7<>""),"OK","@@"))) | AN7: {=IF(D7="","",INDEX([1]구분표!$I$2:$I$311, MATCH(1,([1]구분표!$E$2:$E$311='1추일출 '!C7)*([1]구분표!$F$2:$F$311='1추일출 '!D7)*([1]구분표!$G$2:$G$311='1추일출 '!B7),0)))}
A8: 1 | L8: =J8-K8 -> 0 | O8: =L8+M8+N8 -> 0 | R8: =L8+P8+Q8 -> 0 | S8: =IF(AND((O8=0),(R8>0)),"O",IF(AND((M8<0),(O8-R8<0)),"O","X")) -> X | Z8: =IF($Y8<>"도비",IF($W8="국도비","직접입력",SUM($M8:$N8)),) -> 0 | AA8: =IF($Y8="도비",SUM($M8:$N8),IF($W8="국도비","직접입력",SUM($M8:$N8)-$Z8)) -> 0 | AB8: =IF(SUM($M8:$N8)=SUM($Z8:$AA8),"OK","검토") -> OK | AE8: =IF($Y8<>"도비",IF($W8="국도비","직접입력",SUM($P8:$Q8)),) -> 0 | AF8: =IF($Y8="도비",SUM(P8:Q8),IF($W8="국도비","직접입력",SUM(P8:Q8)-AE8)) -> 0 | AG8: =IF(SUM(P8:Q8)=SUM(AE8:AF8),"OK","검토") -> OK | AI8: =IF(Y8="","",IF(Y8="도비","세입없음","직접입력")) | AK8: =IF(AI8="","",COUNTIF($AI$7:$AI$116,AI8)) | AL8: =IF(Y8="","",IF(AND(Y8="도비",AI8="세입없음"),"OK",IF(AND(Y8<>"도비",AI8<>""),"OK","@@"))) | AN8: {=IF(D8="","",INDEX([1]구분표!$I$2:$I$311, MATCH(1,([1]구분표!$E$2:$E$311='1추일출 '!C8)*([1]구분표!$F$2:$F$311='1추일출 '!D8)*([1]구분표!$G$2:$G$311='1추일출 '!B8),0)))}
A9: =IF(A8="",A7+1,A8+1) -> 2 | L9: =J9-K9 -> 0 | O9: =L9+M9+N9 -> 0 | R9: =L9+P9+Q9 -> 0 | S9: =IF(AND((O9=0),(R9>0)),"O",IF(AND((M9<0),(O9-R9<0)),"O","X")) -> X | Z9: =IF($Y9<>"도비",IF($W9="국도비","직접입력",SUM($M9:$N9)),) -> 0 | AA9: =IF($Y9="도비",SUM($M9:$N9),IF($W9="국도비","직접입력",SUM($M9:$N9)-$Z9)) -> 0 | AB9: =IF(SUM($M9:$N9)=SUM($Z9:$AA9),"OK","검토") -> OK | AE9: =IF($Y9<>"도비",IF($W9="국도비","직접입력",SUM($P9:$Q9)),) -> 0 | AF9: =IF($Y9="도비",SUM(P9:Q9),IF($W9="국도비","직접입력",SUM(P9:Q9)-AE9)) -> 0 | AG9: =IF(SUM(P9:Q9)=SUM(AE9:AF9),"OK","검토") -> OK | AI9: =IF(Y9="","",IF(Y9="도비","세입없음","직접입력")) | AK9: =IF(AI9="","",COUNTIF($AI$7:$AI$116,AI9)) | AL9: =IF(Y9="","",IF(AND(Y9="도비",AI9="세입없음"),"OK",IF(AND(Y9<>"도비",AI9<>""),"OK","@@"))) | AN9: {=IF(D9="","",INDEX([1]구분표!$I$2:$I$311, MATCH(1,([1]구분표!$E$2:$E$311='1추일출 '!C9)*([1]구분표!$F$2:$F$311='1추일출 '!D9)*([1]구분표!$G$2:$G$311='1추일출 '!B9),0)))}
A10: =IF(A9="",A8+1,A9+1) -> 3 | L10: =J10-K10 -> 0 | O10: =L10+M10+N10 -> 0 | R10: =L10+P10+Q10 -> 0 | S10: =IF(AND((O10=0),(R10>0)),"O",IF(AND((M10<0),(O10-R10<0)),"O","X")) -> X | Z10: =IF($Y10<>"도비",IF($W10="국도비","직접입력",SUM($M10:$N10)),) -> 0 | AA10: =IF($Y10="도비",SUM($M10:$N10),IF($W10="국도비","직접입력",SUM($M10:$N10)-$Z10)) -> 0 | AB10: =IF(SUM($M10:$N10)=SUM($Z10:$AA10),"OK","검토") -> OK | AE10: =IF($Y10<>"도비",IF($W10="국도비","직접입력",SUM($P10:$Q10)),) -> 0 | AF10: =IF($Y10="도비",SUM(P10:Q10),IF($W10="국도비","직접입력",SUM(P10:Q10)-AE10)) -> 0 | AG10: =IF(SUM(P10:Q10)=SUM(AE10:AF10),"OK","검토") -> OK | AI10: =IF(Y10="","",IF(Y10="도비","세입없음","직접입력")) | AK10: =IF(AI10="","",COUNTIF($AI$7:$AI$116,AI10)) | AL10: =IF(Y10="","",IF(AND(Y10="도비",AI10="세입없음"),"OK",IF(AND(Y10<>"도비",AI10<>""),"OK","@@"))) | AN10: {=IF(D10="","",INDEX([1]구분표!$I$2:$I$311, MATCH(1,([1]구분표!$E$2:$E$311='1추일출 '!C10)*([1]구분표!$F$2:$F$311='1추일출 '!D10)*([1]구분표!$G$2:$G$311='1추일출 '!B10),0)))}
A11: =IF(A10="",A9+1,A10+1) -> 4 | L11: =J11-K11 -> 0 | O11: =L11+M11+N11 -> 0 | R11: =L11+P11+Q11 -> 0 | S11: =IF(AND((O11=0),(R11>0)),"O",IF(AND((M11<0),(O11-R11<0)),"O","X")) -> X | Z11: =IF($Y11<>"도비",IF($W11="국도비","직접입력",SUM($M11:$N11)),) -> 0 | AA11: =IF($Y11="도비",SUM($M11:$N11),IF($W11="국도비","직접입력",SUM($M11:$N11)-$Z11)) -> 0 | AB11: =IF(SUM($M11:$N11)=SUM($Z11:$AA11),"OK","검토") -> OK | AE11: =IF($Y11<>"도비",IF($W11="국도비","직접입력",SUM($P11:$Q11)),) -> 0 | AF11: =IF($Y11="도비",SUM(P11:Q11),IF($W11="국도비","직접입력",SUM(P11:Q11)-AE11)) -> 0 | AG11: =IF(SUM(P11:Q11)=SUM(AE11:AF11),"OK","검토") -> OK | AI11: =IF(Y11="","",IF(Y11="도비","세입없음","직접입력")) | AK11: =IF(AI11="","",COUNTIF($AI$7:$AI$116,AI11)) | AL11: =IF(Y11="","",IF(AND(Y11="도비",AI11="세입없음"),"OK",IF(AND(Y11<>"도비",AI11<>""),"OK","@@"))) | AN11: {=IF(D11="","",INDEX([1]구분표!$I$2:$I$311, MATCH(1,([1]구분표!$E$2:$E$311='1추일출 '!C11)*([1]구분표!$F$2:$F$311='1추일출 '!D11)*([1]구분표!$G$2:$G$311='1추일출 '!B11),0)))}
A12: =IF(A11="",A10+1,A11+1) -> 5 | L12: =J12-K12 -> 0 | O12: =L12+M12+N12 -> 0 | R12: =L12+P12+Q12 -> 0 | S12: =IF(AND((O12=0),(R12>0)),"O",IF(AND((M12<0),(O12-R12<0)),"O","X")) -> X | Z12: =IF($Y12<>"도비",IF($W12="국도비","직접입력",SUM($M12:$N12)),) -> 0 | AA12: =IF($Y12="도비",SUM($M12:$N12),IF($W12="국도비","직접입력",SUM($M12:$N12)-$Z12)) -> 0 | AB12: =IF(SUM($M12:$N12)=SUM($Z12:$AA12),"OK","검토") -> OK | AE12: =IF($Y12<>"도비",IF($W12="국도비","직접입력",SUM($P12:$Q12)),) -> 0 | AF12: =IF($Y12="도비",SUM(P12:Q12),IF($W12="국도비","직접입력",SUM(P12:Q12)-AE12)) -> 0 | AG12: =IF(SUM(P12:Q12)=SUM(AE12:AF12),"OK","검토") -> OK | AI12: =IF(Y12="","",IF(Y12="도비","세입없음","직접입력")) | AK12: =IF(AI12="","",COUNTIF($AI$7:$AI$116,AI12)) | AL12: =IF(Y12="","",IF(AND(Y12="도비",AI12="세입없음"),"OK",IF(AND(Y12<>"도비",AI12<>""),"OK","@@"))) | AN12: {=IF(D12="","",INDEX([1]구분표!$I$2:$I$311, MATCH(1,([1]구분표!$E$2:$E$311='1추일출 '!C12)*([1]구분표!$F$2:$F$311='1추일출 '!D12)*([1]구분표!$G$2:$G$311='1추일출 '!B12),0)))}
A13: =IF(A12="",A11+1,A12+1) -> 6 | L13: =J13-K13 -> 0 | O13: =L13+M13+N13 -> 0 | R13: =L13+P13+Q13 -> 0 | S13: =IF(AND((O13=0),(R13>0)),"O",IF(AND((M13<0),(O13-R13<0)),"O","X")) -> X | Z13: =IF($Y13<>"도비",IF($W13="국도비","직접입력",SUM($M13:$N13)),) -> 0 | AA13: =IF($Y13="도비",SUM($M13:$N13),IF($W13="국도비","직접입력",SUM($M13:$N13)-$Z13)) -> 0 | AB13: =IF(SUM($M13:$N13)=SUM($Z13:$AA13),"OK","검토") -> OK | AE13: =IF($Y13<>"도비",IF($W13="국도비","직접입력",SUM($P13:$Q13)),) -> 0 | AF13: =IF($Y13="도비",SUM(P13:Q13),IF($W13="국도비","직접입력",SUM(P13:Q13)-AE13)) -> 0 | AG13: =IF(SUM(P13:Q13)=SUM(AE13:AF13),"OK","검토") -> OK | AI13: =IF(Y13="","",IF(Y13="도비","세입없음","직접입력")) | AK13: =IF(AI13="","",COUNTIF($AI$7:$AI$116,AI13)) | AL13: =IF(Y13="","",IF(AND(Y13="도비",AI13="세입없음"),"OK",IF(AND(Y13<>"도비",AI13<>""),"OK","@@"))) | AN13: {=IF(D13="","",INDEX([1]구분표!$I$2:$I$311, MATCH(1,([1]구분표!$E$2:$E$311='1추일출 '!C13)*([1]구분표!$F$2:$F$311='1추일출 '!D13)*([1]구분표!$G$2:$G$311='1추일출 '!B13),0)))}
A14: =IF(A13="",A12+1,A13+1) -> 7 | L14: =J14-K14 -> 0 | O14: =L14+M14+N14 -> 0 | R14: =L14+P14+Q14 -> 0 | S14: =IF(AND((O14=0),(R14>0)),"O",IF(AND((M14<0),(O14-R14<0)),"O","X")) -> X | Z14: =IF($Y14<>"도비",IF($W14="국도비","직접입력",SUM($M14:$N14)),) -> 0 | AA14: =IF($Y14="도비",SUM($M14:$N14),IF($W14="국도비","직접입력",SUM($M14:$N14)-$Z14)) -> 0 | AB14: =IF(SUM($M14:$N14)=SUM($Z14:$AA14),"OK","검토") -> OK | AE14: =IF($Y14<>"도비",IF($W14="국도비","직접입력",SUM($P14:$Q14)),) -> 0 | AF14: =IF($Y14="도비",SUM(P14:Q14),IF($W14="국도비","직접입력",SUM(P14:Q14)-AE14)) -> 0 | AG14: =IF(SUM(P14:Q14)=SUM(AE14:AF14),"OK","검토") -> OK | AI14: =IF(Y14="","",IF(Y14="도비","세입없음","직접입력")) | AK14: =IF(AI14="","",COUNTIF($AI$7:$AI$116,AI14)) | AL14: =IF(Y14="","",IF(AND(Y14="도비",AI14="세입없음"),"OK",IF(AND(Y14<>"도비",AI14<>""),"OK","@@"))) | AN14: {=IF(D14="","",INDEX([1]구분표!$I$2:$I$311, MATCH(1,([1]구분표!$E$2:$E$311='1추일출 '!C14)*([1]구분표!$F$2:$F$311='1추일출 '!D14)*([1]구분표!$G$2:$G$311='1추일출 '!B14),0)))}
A15: =IF(A14="",A13+1,A14+1) -> 8 | L15: =J15-K15 -> 0 | O15: =L15+M15+N15 -> 0 | R15: =L15+P15+Q15 -> 0 | S15: =IF(AND((O15=0),(R15>0)),"O",IF(AND((M15<0),(O15-R15<0)),"O","X")) -> X | Z15: =IF($Y15<>"도비",IF($W15="국도비","직접입력",SUM($M15:$N15)),) -> 0 | AA15: =IF($Y15="도비",SUM($M15:$N15),IF($W15="국도비","직접입력",SUM($M15:$N15)-$Z15)) -> 0 | AB15: =IF(SUM($M15:$N15)=SUM($Z15:$AA15),"OK","검토") -> OK | AE15: =IF($Y15<>"도비",IF($W15="국도비","직접입력",SUM($P15:$Q15)),) -> 0 | AF15: =IF($Y15="도비",SUM(P15:Q15),IF($W15="국도비","직접입력",SUM(P15:Q15)-AE15)) -> 0 | AG15: =IF(SUM(P15:Q15)=SUM(AE15:AF15),"OK","검토") -> OK | AI15: =IF(Y15="","",IF(Y15="도비","세입없음","직접입력")) | AK15: =IF(AI15="","",COUNTIF($AI$7:$AI$116,AI15)) | AL15: =IF(Y15="","",IF(AND(Y15="도비",AI15="세입없음"),"OK",IF(AND(Y15<>"도비",AI15<>""),"OK","@@"))) | AN15: {=IF(D15="","",INDEX([1]구분표!$I$2:$I$311, MATCH(1,([1]구분표!$E$2:$E$311='1추일출 '!C15)*([1]구분표!$F$2:$F$311='1추일출 '!D15)*([1]구분표!$G$2:$G$311='1추일출 '!B15),0)))}
A16: =IF(A15="",A14+1,A15+1) -> 9 | L16: =J16-K16 -> 0 | O16: =L16+M16+N16 -> 0 | R16: =L16+P16+Q16 -> 0 | S16: =IF(AND((O16=0),(R16>0)),"O",IF(AND((M16<0),(O16-R16<0)),"O","X")) -> X | Z16: =IF($Y16<>"도비",IF($W16="국도비","직접입력",SUM($M16:$N16)),) -> 0 | AA16: =IF($Y16="도비",SUM($M16:$N16),IF($W16="국도비","직접입력",SUM($M16:$N16)-$Z16)) -> 0 | AB16: =IF(SUM($M16:$N16)=SUM($Z16:$AA16),"OK","검토") -> OK | AE16: =IF($Y16<>"도비",IF($W16="국도비","직접입력",SUM($P16:$Q16)),) -> 0 | AF16: =IF($Y16="도비",SUM(P16:Q16),IF($W16="국도비","직접입력",SUM(P16:Q16)-AE16)) -> 0 | AG16: =IF(SUM(P16:Q16)=SUM(AE16:AF16),"OK","검토") -> OK | AI16: =IF(Y16="","",IF(Y16="도비","세입없음","직접입력")) | AK16: =IF(AI16="","",COUNTIF($AI$7:$AI$116,AI16)) | AL16: =IF(Y16="","",IF(AND(Y16="도비",AI16="세입없음"),"OK",IF(AND(Y16<>"도비",AI16<>""),"OK","@@"))) | AN16: {=IF(D16="","",INDEX([1]구분표!$I$2:$I$311, MATCH(1,([1]구분표!$E$2:$E$311='1추일출 '!C16)*([1]구분표!$F$2:$F$311='1추일출 '!D16)*([1]구분표!$G$2:$G$311='1추일출 '!B16),0)))}
A17: =IF(A16="",A15+1,A16+1) -> 10 | L17: =J17-K17 -> 0 | O17: =L17+M17+N17 -> 0 | R17: =L17+P17+Q17 -> 0 | S17: =IF(AND((O17=0),(R17>0)),"O",IF(AND((M17<0),(O17-R17<0)),"O","X")) -> X | Z17: =IF($Y17<>"도비",IF($W17="국도비","직접입력",SUM($M17:$N17)),) -> 0 | AA17: =IF($Y17="도비",SUM($M17:$N17),IF($W17="국도비","직접입력",SUM($M17:$N17)-$Z17)) -> 0 | AB17: =IF(SUM($M17:$N17)=SUM($Z17:$AA17),"OK","검토") -> OK | AE17: =IF($Y17<>"도비",IF($W17="국도비","직접입력",SUM($P17:$Q17)),) -> 0 | AF17: =IF($Y17="도비",SUM(P17:Q17),IF($W17="국도비","직접입력",SUM(P17:Q17)-AE17)) -> 0 | AG17: =IF(SUM(P17:Q17)=SUM(AE17:AF17),"OK","검토") -> OK | AI17: =IF(Y17="","",IF(Y17="도비","세입없음","직접입력")) | AK17: =IF(AI17="","",COUNTIF($AI$7:$AI$116,AI17)) | AL17: =IF(Y17="","",IF(AND(Y17="도비",AI17="세입없음"),"OK",IF(AND(Y17<>"도비",AI17<>""),"OK","@@"))) | AN17: {=IF(D17="","",INDEX([1]구분표!$I$2:$I$311, MATCH(1,([1]구분표!$E$2:$E$311='1추일출 '!C17)*([1]구분표!$F$2:$F$311='1추일출 '!D17)*([1]구분표!$G$2:$G$311='1추일출 '!B17),0)))}
B18: (기획재정위원회) | J18: =SUBTOTAL(9,J19:J28) -> 0 | K18: =SUBTOTAL(9,K19:K28) -> 0 | L18: =SUBTOTAL(9,L19:L28) -> 0 | M18: =SUBTOTAL(9,M19:M28) -> 0 | N18: =SUBTOTAL(9,N19:N28) -> 0 | O18: =SUBTOTAL(9,O19:O28) -> 0 | P18: =SUBTOTAL(9,P19:P28) -> 0 | Q18: =SUBTOTAL(9,Q19:Q28) -> 0 | R18: =SUBTOTAL(9,R19:R28) -> 0 | Z18: =IF($Y18<>"도비",IF($W18="국도비","직접입력",SUM($M18:$N18)),) -> 0 | AA18: =IF($Y18="도비",SUM($M18:$N18),IF($W18="국도비","직접입력",SUM($M18:$N18)-$Z18)) -> 0 | AB18: =IF(SUM($M18:$N18)=SUM($Z18:$AA18),"OK","검토") -> OK | AE18: =IF($Y18<>"도비",IF($W18="국도비","직접입력",SUM($P18:$Q18)),) -> 0 | AF18: =IF($Y18="도비",SUM(P18:Q18),IF($W18="국도비","직접입력",SUM(P18:Q18)-AE18)) -> 0 | AG18: =IF(SUM(P18:Q18)=SUM(AE18:AF18),"OK","검토") -> OK | AI18: =IF(Y18="","",IF(Y18="도비","세입없음","직접입력")) | AK18: =IF(AI18="","",COUNTIF($AI$7:$AI$116,AI18)) | AL18: =IF(Y18="","",IF(AND(Y18="도비",AI18="세입없음"),"OK",IF(AND(Y18<>"도비",AI18<>""),"OK","@@"))) | AN18: {=IF(D18="","",INDEX([1]구분표!$I$2:$I$311, MATCH(1,([1]구분표!$E$2:$E$311='1추일출 '!C18)*([1]구분표!$F$2:$F$311='1추일출 '!D18)*([1]구분표!$G$2:$G$311='1추일출 '!B18),0)))}
A19: =IF(A18="",A17+1,A18+1) -> 11 | L19: =J19-K19 -> 0 | O19: =L19+M19+N19 -> 0 | R19: =L19+P19+Q19 -> 0 | S19: =IF(AND((O19=0),(R19>0)),"O",IF(AND((M19<0),(O19-R19<0)),"O","X")) -> X | Z19: =IF($Y19<>"도비",IF($W19="국도비","직접입력",SUM($M19:$N19)),) -> 0 | AA19: =IF($Y19="도비",SUM($M19:$N19),IF($W19="국도비","직접입력",SUM($M19:$N19)-$Z19)) -> 0 | AB19: =IF(SUM($M19:$N19)=SUM($Z19:$AA19),"OK","검토") -> OK | AE19: =IF($Y19<>"도비",IF($W19="국도비","직접입력",SUM($P19:$Q19)),) -> 0 | AF19: =IF($Y19="도비",SUM(P19:Q19),IF($W19="국도비","직접입력",SUM(P19:Q19)-AE19)) -> 0 | AG19: =IF(SUM(P19:Q19)=SUM(AE19:AF19),"OK","검토") -> OK | AI19: =IF(Y19="","",IF(Y19="도비","세입없음","직접입력")) | AK19: =IF(AI19="","",COUNTIF($AI$7:$AI$116,AI19)) | AL19: =IF(Y19="","",IF(AND(Y19="도비",AI19="세입없음"),"OK",IF(AND(Y19<>"도비",AI19<>""),"OK","@@"))) | AN19: {=IF(D19="","",INDEX([1]구분표!$I$2:$I$311, MATCH(1,([1]구분표!$E$2:$E$311='1추일출 '!C19)*([1]구분표!$F$2:$F$311='1추일출 '!D19)*([1]구분표!$G$2:$G$311='1추일출 '!B19),0)))}
A20: =IF(A19="",A18+1,A19+1) -> 12 | L20: =J20-K20 -> 0 | O20: =L20+M20+N20 -> 0 | R20: =L20+P20+Q20 -> 0 | S20: =IF(AND((O20=0),(R20>0)),"O",IF(AND((M20<0),(O20-R20<0)),"O","X")) -> X | Z20: =IF($Y20<>"도비",IF($W20="국도비","직접입력",SUM($M20:$N20)),) -> 0 | AA20: =IF($Y20="도비",SUM($M20:$N20),IF($W20="국도비","직접입력",SUM($M20:$N20)-$Z20)) -> 0 | AB20: =IF(SUM($M20:$N20)=SUM($Z20:$AA20),"OK","검토") -> OK | AE20: =IF($Y20<>"도비",IF($W20="국도비","직접입력",SUM($P20:$Q20)),) -> 0 | AF20: =IF($Y20="도비",SUM(P20:Q20),IF($W20="국도비","직접입력",SUM(P20:Q20)-AE20)) -> 0 | AG20: =IF(SUM(P20:Q20)=SUM(AE20:AF20),"OK","검토") -> OK | AI20: =IF(Y20="","",IF(Y20="도비","세입없음","직접입력")) | AK20: =IF(AI20="","",COUNTIF($AI$7:$AI$116,AI20)) | AL20: =IF(Y20="","",IF(AND(Y20="도비",AI20="세입없음"),"OK",IF(AND(Y20<>"도비",AI20<>""),"OK","@@"))) | AN20: {=IF(D20="","",INDEX([1]구분표!$I$2:$I$311, MATCH(1,([1]구분표!$E$2:$E$311='1추일출 '!C20)*([1]구분표!$F$2:$F$311='1추일출 '!D20)*([1]구분표!$G$2:$G$311='1추일출 '!B20),0)))}
A21: =IF(A20="",A19+1,A20+1) -> 13 | L21: =J21-K21 -> 0 | O21: =L21+M21+N21 -> 0 | R21: =L21+P21+Q21 -> 0 | S21: =IF(AND((O21=0),(R21>0)),"O",IF(AND((M21<0),(O21-R21<0)),"O","X")) -> X | Z21: =IF($Y21<>"도비",IF($W21="국도비","직접입력",SUM($M21:$N21)),) -> 0 | AA21: =IF($Y21="도비",SUM($M21:$N21),IF($W21="국도비","직접입력",SUM($M21:$N21)-$Z21)) -> 0 | AB21: =IF(SUM($M21:$N21)=SUM($Z21:$AA21),"OK","검토") -> OK | AE21: =IF($Y21<>"도비",IF($W21="국도비","직접입력",SUM($P21:$Q21)),) -> 0 | AF21: =IF($Y21="도비",SUM(P21:Q21),IF($W21="국도비","직접입력",SUM(P21:Q21)-AE21)) -> 0 | AG21: =IF(SUM(P21:Q21)=SUM(AE21:AF21),"OK","검토") -> OK | AI21: =IF(Y21="","",IF(Y21="도비","세입없음","직접입력")) | AK21: =IF(AI21="","",COUNTIF($AI$7:$AI$116,AI21)) | AL21: =IF(Y21="","",IF(AND(Y21="도비",AI21="세입없음"),"OK",IF(AND(Y21<>"도비",AI21<>""),"OK","@@"))) | AN21: {=IF(D21="","",INDEX([1]구분표!$I$2:$I$311, MATCH(1,([1]구분표!$E$2:$E$311='1추일출 '!C21)*([1]구분표!$F$2:$F$311='1추일출 '!D21)*([1]구분표!$G$2:$G$311='1추일출 '!B21),0)))}
A22: =IF(A21="",A20+1,A21+1) -> 14 | L22: =J22-K22 -> 0 | O22: =L22+M22+N22 -> 0 | R22: =L22+P22+Q22 -> 0 | S22: =IF(AND((O22=0),(R22>0)),"O",IF(AND((M22<0),(O22-R22<0)),"O","X")) -> X | Z22: =IF($Y22<>"도비",IF($W22="국도비","직접입력",SUM($M22:$N22)),) -> 0 | AA22: =IF($Y22="도비",SUM($M22:$N22),IF($W22="국도비","직접입력",SUM($M22:$N22)-$Z22)) -> 0 | AB22: =IF(SUM($M22:$N22)=SUM($Z22:$AA22),"OK","검토") -> OK | AE22: =IF($Y22<>"도비",IF($W22="국도비","직접입력",SUM($P22:$Q22)),) -> 0 | AF22: =IF($Y22="도비",SUM(P22:Q22),IF($W22="국도비","직접입력",SUM(P22:Q22)-AE22)) -> 0 | AG22: =IF(SUM(P22:Q22)=SUM(AE22:AF22),"OK","검토") -> OK | AI22: =IF(Y22="","",IF(Y22="도비","세입없음","직접입력")) | AK22: =IF(AI22="","",COUNTIF($AI$7:$AI$116,AI22)) | AL22: =IF(Y22="","",IF(AND(Y22="도비",AI22="세입없음"),"OK",IF(AND(Y22<>"도비",AI22<>""),"OK","@@"))) | AN22: {=IF(D22="","",INDEX([1]구분표!$I$2:$I$311, MATCH(1,([1]구분표!$E$2:$E$311='1추일출 '!C22)*([1]구분표!$F$2:$F$311='1추일출 '!D22)*([1]구분표!$G$2:$G$311='1추일출 '!B22),0)))}
A23: =IF(A22="",A21+1,A22+1) -> 15 | L23: =J23-K23 -> 0 | O23: =L23+M23+N23 -> 0 | R23: =L23+P23+Q23 -> 0 | S23: =IF(AND((O23=0),(R23>0)),"O",IF(AND((M23<0),(O23-R23<0)),"O","X")) -> X | Z23: =IF($Y23<>"도비",IF($W23="국도비","직접입력",SUM($M23:$N23)),) -> 0 | AA23: =IF($Y23="도비",SUM($M23:$N23),IF($W23="국도비","직접입력",SUM($M23:$N23)-$Z23)) -> 0 | AB23: =IF(SUM($M23:$N23)=SUM($Z23:$AA23),"OK","검토") -> OK | AE23: =IF($Y23<>"도비",IF($W23="국도비","직접입력",SUM($P23:$Q23)),) -> 0 | AF23: =IF($Y23="도비",SUM(P23:Q23),IF($W23="국도비","직접입력",SUM(P23:Q23)-AE23)) -> 0 | AG23: =IF(SUM(P23:Q23)=SUM(AE23:AF23),"OK","검토") -> OK | AI23: =IF(Y23="","",IF(Y23="도비","세입없음","직접입력")) | AK23: =IF(AI23="","",COUNTIF($AI$7:$AI$116,AI23)) | AL23: =IF(Y23="","",IF(AND(Y23="도비",AI23="세입없음"),"OK",IF(AND(Y23<>"도비",AI23<>""),"OK","@@"))) | AN23: {=IF(D23="","",INDEX([1]구분표!$I$2:$I$311, MATCH(1,([1]구분표!$E$2:$E$311='1추일출 '!C23)*([1]구분표!$F$2:$F$311='1추일출 '!D23)*([1]구분표!$G$2:$G$311='1추일출 '!B23),0)))}
A24: =IF(A23="",A22+1,A23+1) -> 16 | L24: =J24-K24 -> 0 | O24: =L24+M24+N24 -> 0 | R24: =L24+P24+Q24 -> 0 | S24: =IF(AND((O24=0),(R24>0)),"O",IF(AND((M24<0),(O24-R24<0)),"O","X")) -> X | Z24: =IF($Y24<>"도비",IF($W24="국도비","직접입력",SUM($M24:$N24)),) -> 0 | AA24: =IF($Y24="도비",SUM($M24:$N24),IF($W24="국도비","직접입력",SUM($M24:$N24)-$Z24)) -> 0 | AB24: =IF(SUM($M24:$N24)=SUM($Z24:$AA24),"OK","검토") -> OK | AE24: =IF($Y24<>"도비",IF($W24="국도비","직접입력",SUM($P24:$Q24)),) -> 0 | AF24: =IF($Y24="도비",SUM(P24:Q24),IF($W24="국도비","직접입력",SUM(P24:Q24)-AE24)) -> 0 | AG24: =IF(SUM(P24:Q24)=SUM(AE24:AF24),"OK","검토") -> OK | AI24: =IF(Y24="","",IF(Y24="도비","세입없음","직접입력")) | AK24: =IF(AI24="","",COUNTIF($AI$7:$AI$116,AI24)) | AL24: =IF(Y24="","",IF(AND(Y24="도비",AI24="세입없음"),"OK",IF(AND(Y24<>"도비",AI24<>""),"OK","@@"))) | AN24: {=IF(D24="","",INDEX([1]구분표!$I$2:$I$311, MATCH(1,([1]구분표!$E$2:$E$311='1추일출 '!C24)*([1]구분표!$F$2:$F$311='1추일출 '!D24)*([1]구분표!$G$2:$G$311='1추일출 '!B24),0)))}
A25: =IF(A24="",A23+1,A24+1) -> 17 | L25: =J25-K25 -> 0 | O25: =L25+M25+N25 -> 0 | R25: =L25+P25+Q25 -> 0 | S25: =IF(AND((O25=0),(R25>0)),"O",IF(AND((M25<0),(O25-R25<0)),"O","X")) -> X | Z25: =IF($Y25<>"도비",IF($W25="국도비","직접입력",SUM($M25:$N25)),) -> 0 | AA25: =IF($Y25="도비",SUM($M25:$N25),IF($W25="국도비","직접입력",SUM($M25:$N25)-$Z25)) -> 0 | AB25: =IF(SUM($M25:$N25)=SUM($Z25:$AA25),"OK","검토") -> OK | AE25: =IF($Y25<>"도비",IF($W25="국도비","직접입력",SUM($P25:$Q25)),) -> 0 | AF25: =IF($Y25="도비",SUM(P25:Q25),IF($W25="국도비","직접입력",SUM(P25:Q25)-AE25)) -> 0 | AG25: =IF(SUM(P25:Q25)=SUM(AE25:AF25),"OK","검토") -> OK | AI25: =IF(Y25="","",IF(Y25="도비","세입없음","직접입력")) | AK25: =IF(AI25="","",COUNTIF($AI$7:$AI$116,AI25)) | AL25: =IF(Y25="","",IF(AND(Y25="도비",AI25="세입없음"),"OK",IF(AND(Y25<>"도비",AI25<>""),"OK","@@"))) | AN25: {=IF(D25="","",INDEX([1]구분표!$I$2:$I$311, MATCH(1,([1]구분표!$E$2:$E$311='1추일출 '!C25)*([1]구분표!$F$2:$F$311='1추일출 '!D25)*([1]구분표!$G$2:$G$311='1추일출 '!B25),0)))}
A26: =IF(A25="",A24+1,A25+1) -> 18 | L26: =J26-K26 -> 0 | O26: =L26+M26+N26 -> 0 | R26: =L26+P26+Q26 -> 0 | S26: =IF(AND((O26=0),(R26>0)),"O",IF(AND((M26<0),(O26-R26<0)),"O","X")) -> X | Z26: =IF($Y26<>"도비",IF($W26="국도비","직접입력",SUM($M26:$N26)),) -> 0 | AA26: =IF($Y26="도비",SUM($M26:$N26),IF($W26="국도비","직접입력",SUM($M26:$N26)-$Z26)) -> 0 | AB26: =IF(SUM($M26:$N26)=SUM($Z26:$AA26),"OK","검토") -> OK | AE26: =IF($Y26<>"도비",IF($W26="국도비","직접입력",SUM($P26:$Q26)),) -> 0 | AF26: =IF($Y26="도비",SUM(P26:Q26),IF($W26="국도비","직접입력",SUM(P26:Q26)-AE26)) -> 0 | AG26: =IF(SUM(P26:Q26)=SUM(AE26:AF26),"OK","검토") -> OK | AI26: =IF(Y26="","",IF(Y26="도비","세입없음","직접입력")) | AK26: =IF(AI26="","",COUNTIF($AI$7:$AI$116,AI26)) | AL26: =IF(Y26="","",IF(AND(Y26="도비",AI26="세입없음"),"OK",IF(AND(Y26<>"도비",AI26<>""),"OK","@@"))) | AN26: {=IF(D26="","",INDEX([1]구분표!$I$2:$I$311, MATCH(1,([1]구분표!$E$2:$E$311='1추일출 '!C26)*([1]구분표!$F$2:$F$311='1추일출 '!D26)*([1]구분표!$G$2:$G$311='1추일출 '!B26),0)))}
A27: =IF(A26="",A25+1,A26+1) -> 19 | L27: =J27-K27 -> 0 | O27: =L27+M27+N27 -> 0 | R27: =L27+P27+Q27 -> 0 | S27: =IF(AND((O27=0),(R27>0)),"O",IF(AND((M27<0),(O27-R27<0)),"O","X")) -> X | Z27: =IF($Y27<>"도비",IF($W27="국도비","직접입력",SUM($M27:$N27)),) -> 0 | AA27: =IF($Y27="도비",SUM($M27:$N27),IF($W27="국도비","직접입력",SUM($M27:$N27)-$Z27)) -> 0 | AB27: =IF(SUM($M27:$N27)=SUM($Z27:$AA27),"OK","검토") -> OK | AE27: =IF($Y27<>"도비",IF($W27="국도비","직접입력",SUM($P27:$Q27)),) -> 0 | AF27: =IF($Y27="도비",SUM(P27:Q27),IF($W27="국도비","직접입력",SUM(P27:Q27)-AE27)) -> 0 | AG27: =IF(SUM(P27:Q27)=SUM(AE27:AF27),"OK","검토") -> OK | AI27: =IF(Y27="","",IF(Y27="도비","세입없음","직접입력")) | AK27: =IF(AI27="","",COUNTIF($AI$7:$AI$116,AI27)) | AL27: =IF(Y27="","",IF(AND(Y27="도비",AI27="세입없음"),"OK",IF(AND(Y27<>"도비",AI27<>""),"OK","@@"))) | AN27: {=IF(D27="","",INDEX([1]구분표!$I$2:$I$311, MATCH(1,([1]구분표!$E$2:$E$311='1추일출 '!C27)*([1]구분표!$F$2:$F$311='1추일출 '!D27)*([1]구분표!$G$2:$G$311='1추일출 '!B27),0)))}
A28: =IF(A27="",A26+1,A27+1) -> 20 | L28: =J28-K28 -> 0 | O28: =L28+M28+N28 -> 0 | R28: =L28+P28+Q28 -> 0 | S28: =IF(AND((O28=0),(R28>0)),"O",IF(AND((M28<0),(O28-R28<0)),"O","X")) -> X | Z28: =IF($Y28<>"도비",IF($W28="국도비","직접입력",SUM($M28:$N28)),) -> 0 | AA28: =IF($Y28="도비",SUM($M28:$N28),IF($W28="국도비","직접입력",SUM($M28:$N28)-$Z28)) -> 0 | AB28: =IF(SUM($M28:$N28)=SUM($Z28:$AA28),"OK","검토") -> OK | AE28: =IF($Y28<>"도비",IF($W28="국도비","직접입력",SUM($P28:$Q28)),) -> 0 | AF28: =IF($Y28="도비",SUM(P28:Q28),IF($W28="국도비","직접입력",SUM(P28:Q28)-AE28)) -> 0 | AG28: =IF(SUM(P28:Q28)=SUM(AE28:AF28),"OK","검토") -> OK | AI28: =IF(Y28="","",IF(Y28="도비","세입없음","직접입력")) | AK28: =IF(AI28="","",COUNTIF($AI$7:$AI$116,AI28)) | AL28: =IF(Y28="","",IF(AND(Y28="도비",AI28="세입없음"),"OK",IF(AND(Y28<>"도비",AI28<>""),"OK","@@"))) | AN28: {=IF(D28="","",INDEX([1]구분표!$I$2:$I$311, MATCH(1,([1]구분표!$E$2:$E$311='1추일출 '!C28)*([1]구분표!$F$2:$F$311='1추일출 '!D28)*([1]구분표!$G$2:$G$311='1추일출 '!B28),0)))}
B29: (경제과학기술위원회) | J29: =SUBTOTAL(9,J30:J39) -> 0 | K29: =SUBTOTAL(9,K30:K39) -> 0 | L29: =SUBTOTAL(9,L30:L39) -> 0 | M29: =SUBTOTAL(9,M30:M39) -> 0 | N29: =SUBTOTAL(9,N30:N39) -> 0 | O29: =SUBTOTAL(9,O30:O39) -> 0 | P29: =SUBTOTAL(9,P30:P39) -> 0 | Q29: =SUBTOTAL(9,Q30:Q39) -> 0 | R29: =SUBTOTAL(9,R30:R39) -> 0 | Z29: =IF($Y29<>"도비",IF($W29="국도비","직접입력",SUM($M29:$N29)),) -> 0 | AA29: =IF($Y29="도비",SUM($M29:$N29),IF($W29="국도비","직접입력",SUM($M29:$N29)-$Z29)) -> 0 | AB29: =IF(SUM($M29:$N29)=SUM($Z29:$AA29),"OK","검토") -> OK | AE29: =IF($Y29<>"도비",IF($W29="국도비","직접입력",SUM($P29:$Q29)),) -> 0 | AF29: =IF($Y29="도비",SUM(P29:Q29),IF($W29="국도비","직접입력",SUM(P29:Q29)-AE29)) -> 0 | AG29: =IF(SUM(P29:Q29)=SUM(AE29:AF29),"OK","검토") -> OK | AI29: =IF(Y29="","",IF(Y29="도비","세입없음","직접입력")) | AK29: =IF(AI29="","",COUNTIF($AI$7:$AI$116,AI29)) | AL29: =IF(Y29="","",IF(AND(Y29="도비",AI29="세입없음"),"OK",IF(AND(Y29<>"도비",AI29<>""),"OK","@@"))) | AN29: {=IF(D29="","",INDEX([1]구분표!$I$2:$I$311, MATCH(1,([1]구분표!$E$2:$E$311='1추일출 '!C29)*([1]구분표!$F$2:$F$311='1추일출 '!D29)*([1]구분표!$G$2:$G$311='1추일출 '!B29),0)))}
A30: =IF(A29="",A28+1,A29+1) -> 21 | L30: =J30-K30 -> 0 | O30: =L30+M30+N30 -> 0 | R30: =L30+P30+Q30 -> 0 | S30: =IF(AND((O30=0),(R30>0)),"O",IF(AND((M30<0),(O30-R30<0)),"O","X")) -> X | Z30: =IF($Y30<>"도비",IF($W30="국도비","직접입력",SUM($M30:$N30)),) -> 0 | AA30: =IF($Y30="도비",SUM($M30:$N30),IF($W30="국도비","직접입력",SUM($M30:$N30)-$Z30)) -> 0 | AB30: =IF(SUM($M30:$N30)=SUM($Z30:$AA30),"OK","검토") -> OK | AE30: =IF($Y30<>"도비",IF($W30="국도비","직접입력",SUM($P30:$Q30)),) -> 0 | AF30: =IF($Y30="도비",SUM(P30:Q30),IF($W30="국도비","직접입력",SUM(P30:Q30)-AE30)) -> 0 | AG30: =IF(SUM(P30:Q30)=SUM(AE30:AF30),"OK","검토") -> OK | AI30: =IF(Y30="","",IF(Y30="도비","세입없음","직접입력")) | AK30: =IF(AI30="","",COUNTIF($AI$7:$AI$116,AI30)) | AL30: =IF(Y30="","",IF(AND(Y30="도비",AI30="세입없음"),"OK",IF(AND(Y30<>"도비",AI30<>""),"OK","@@"))) | AN30: {=IF(D30="","",INDEX([1]구분표!$I$2:$I$311, MATCH(1,([1]구분표!$E$2:$E$311='1추일출 '!C30)*([1]구분표!$F$2:$F$311='1추일출 '!D30)*([1]구분표!$G$2:$G$311='1추일출 '!B30),0)))}
A31: =IF(A30="",A29+1,A30+1) -> 22 | L31: =J31-K31 -> 0 | O31: =L31+M31+N31 -> 0 | R31: =L31+P31+Q31 -> 0 | S31: =IF(AND((O31=0),(R31>0)),"O",IF(AND((M31<0),(O31-R31<0)),"O","X")) -> X | Z31: =IF($Y31<>"도비",IF($W31="국도비","직접입력",SUM($M31:$N31)),) -> 0 | AA31: =IF($Y31="도비",SUM($M31:$N31),IF($W31="국도비","직접입력",SUM($M31:$N31)-$Z31)) -> 0 | AB31: =IF(SUM($M31:$N31)=SUM($Z31:$AA31),"OK","검토") -> OK | AE31: =IF($Y31<>"도비",IF($W31="국도비","직접입력",SUM($P31:$Q31)),) -> 0 | AF31: =IF($Y31="도비",SUM(P31:Q31),IF($W31="국도비","직접입력",SUM(P31:Q31)-AE31)) -> 0 | AG31: =IF(SUM(P31:Q31)=SUM(AE31:AF31),"OK","검토") -> OK | AI31: =IF(Y31="","",IF(Y31="도비","세입없음","직접입력")) | AK31: =IF(AI31="","",COUNTIF($AI$7:$AI$116,AI31)) | AL31: =IF(Y31="","",IF(AND(Y31="도비",AI31="세입없음"),"OK",IF(AND(Y31<>"도비",AI31<>""),"OK","@@"))) | AN31: {=IF(D31="","",INDEX([1]구분표!$I$2:$I$311, MATCH(1,([1]구분표!$E$2:$E$311='1추일출 '!C31)*([1]구분표!$F$2:$F$311='1추일출 '!D31)*([1]구분표!$G$2:$G$311='1추일출 '!B31),0)))}
A32: =IF(A31="",A30+1,A31+1) -> 23 | L32: =J32-K32 -> 0 | O32: =L32+M32+N32 -> 0 | R32: =L32+P32+Q32 -> 0 | S32: =IF(AND((O32=0),(R32>0)),"O",IF(AND((M32<0),(O32-R32<0)),"O","X")) -> X | Z32: =IF($Y32<>"도비",IF($W32="국도비","직접입력",SUM($M32:$N32)),) -> 0 | AA32: =IF($Y32="도비",SUM($M32:$N32),IF($W32="국도비","직접입력",SUM($M32:$N32)-$Z32)) -> 0 | AB32: =IF(SUM($M32:$N32)=SUM($Z32:$AA32),"OK","검토") -> OK | AE32: =IF($Y32<>"도비",IF($W32="국도비","직접입력",SUM($P32:$Q32)),) -> 0 | AF32: =IF($Y32="도비",SUM(P32:Q32),IF($W32="국도비","직접입력",SUM(P32:Q32)-AE32)) -> 0 | AG32: =IF(SUM(P32:Q32)=SUM(AE32:AF32),"OK","검토") -> OK | AI32: =IF(Y32="","",IF(Y32="도비","세입없음","직접입력")) | AK32: =IF(AI32="","",COUNTIF($AI$7:$AI$116,AI32)) | AL32: =IF(Y32="","",IF(AND(Y32="도비",AI32="세입없음"),"OK",IF(AND(Y32<>"도비",AI32<>""),"OK","@@"))) | AN32: {=IF(D32="","",INDEX([1]구분표!$I$2:$I$311, MATCH(1,([1]구분표!$E$2:$E$311='1추일출 '!C32)*([1]구분표!$F$2:$F$311='1추일출 '!D32)*([1]구분표!$G$2:$G$311='1추일출 '!B32),0)))}
A33: =IF(A32="",A31+1,A32+1) -> 24 | L33: =J33-K33 -> 0 | O33: =L33+M33+N33 -> 0 | R33: =L33+P33+Q33 -> 0 | S33: =IF(AND((O33=0),(R33>0)),"O",IF(AND((M33<0),(O33-R33<0)),"O","X")) -> X | Z33: =IF($Y33<>"도비",IF($W33="국도비","직접입력",SUM($M33:$N33)),) -> 0 | AA33: =IF($Y33="도비",SUM($M33:$N33),IF($W33="국도비","직접입력",SUM($M33:$N33)-$Z33)) -> 0 | AB33: =IF(SUM($M33:$N33)=SUM($Z33:$AA33),"OK","검토") -> OK | AE33: =IF($Y33<>"도비",IF($W33="국도비","직접입력",SUM($P33:$Q33)),) -> 0 | AF33: =IF($Y33="도비",SUM(P33:Q33),IF($W33="국도비","직접입력",SUM(P33:Q33)-AE33)) -> 0 | AG33: =IF(SUM(P33:Q33)=SUM(AE33:AF33),"OK","검토") -> OK | AI33: =IF(Y33="","",IF(Y33="도비","세입없음","직접입력")) | AK33: =IF(AI33="","",COUNTIF($AI$7:$AI$116,AI33)) | AL33: =IF(Y33="","",IF(AND(Y33="도비",AI33="세입없음"),"OK",IF(AND(Y33<>"도비",AI33<>""),"OK","@@"))) | AN33: {=IF(D33="","",INDEX([1]구분표!$I$2:$I$311, MATCH(1,([1]구분표!$E$2:$E$311='1추일출 '!C33)*([1]구분표!$F$2:$F$311='1추일출 '!D33)*([1]구분표!$G$2:$G$311='1추일출 '!B33),0)))}
A34: =IF(A33="",A32+1,A33+1) -> 25 | L34: =J34-K34 -> 0 | O34: =L34+M34+N34 -> 0 | R34: =L34+P34+Q34 -> 0 | S34: =IF(AND((O34=0),(R34>0)),"O",IF(AND((M34<0),(O34-R34<0)),"O","X")) -> X | Z34: =IF($Y34<>"도비",IF($W34="국도비","직접입력",SUM($M34:$N34)),) -> 0 | AA34: =IF($Y34="도비",SUM($M34:$N34),IF($W34="국도비","직접입력",SUM($M34:$N34)-$Z34)) -> 0 | AB34: =IF(SUM($M34:$N34)=SUM($Z34:$AA34),"OK","검토") -> OK | AE34: =IF($Y34<>"도비",IF($W34="국도비","직접입력",SUM($P34:$Q34)),) -> 0 | AF34: =IF($Y34="도비",SUM(P34:Q34),IF($W34="국도비","직접입력",SUM(P34:Q34)-AE34)) -> 0 | AG34: =IF(SUM(P34:Q34)=SUM(AE34:AF34),"OK","검토") -> OK | AI34: =IF(Y34="","",IF(Y34="도비","세입없음","직접입력")) | AK34: =IF(AI34="","",COUNTIF($AI$7:$AI$116,AI34)) | AL34: =IF(Y34="","",IF(AND(Y34="도비",AI34="세입없음"),"OK",IF(AND(Y34<>"도비",AI34<>""),"OK","@@"))) | AN34: {=IF(D34="","",INDEX([1]구분표!$I$2:$I$311, MATCH(1,([1]구분표!$E$2:$E$311='1추일출 '!C34)*([1]구분표!$F$2:$F$311='1추일출 '!D34)*([1]구분표!$G$2:$G$311='1추일출 '!B34),0)))}
A35: =IF(A34="",A33+1,A34+1) -> 26 | L35: =J35-K35 -> 0 | O35: =L35+M35+N35 -> 0 | R35: =L35+P35+Q35 -> 0 | S35: =IF(AND((O35=0),(R35>0)),"O",IF(AND((M35<0),(O35-R35<0)),"O","X")) -> X | Z35: =IF($Y35<>"도비",IF($W35="국도비","직접입력",SUM($M35:$N35)),) -> 0 | AA35: =IF($Y35="도비",SUM($M35:$N35),IF($W35="국도비","직접입력",SUM($M35:$N35)-$Z35)) -> 0 | AB35: =IF(SUM($M35:$N35)=SUM($Z35:$AA35),"OK","검토") -> OK | AE35: =IF($Y35<>"도비",IF($W35="국도비","직접입력",SUM($P35:$Q35)),) -> 0 | AF35: =IF($Y35="도비",SUM(P35:Q35),IF($W35="국도비","직접입력",SUM(P35:Q35)-AE35)) -> 0 | AG35: =IF(SUM(P35:Q35)=SUM(AE35:AF35),"OK","검토") -> OK | AI35: =IF(Y35="","",IF(Y35="도비","세입없음","직접입력")) | AK35: =IF(AI35="","",COUNTIF($AI$7:$AI$116,AI35)) | AL35: =IF(Y35="","",IF(AND(Y35="도비",AI35="세입없음"),"OK",IF(AND(Y35<>"도비",AI35<>""),"OK","@@"))) | AN35: {=IF(D35="","",INDEX([1]구분표!$I$2:$I$311, MATCH(1,([1]구분표!$E$2:$E$311='1추일출 '!C35)*([1]구분표!$F$2:$F$311='1추일출 '!D35)*([1]구분표!$G$2:$G$311='1추일출 '!B35),0)))}
A36: =IF(A35="",A34+1,A35+1) -> 27 | L36: =J36-K36 -> 0 | O36: =L36+M36+N36 -> 0 | R36: =L36+P36+Q36 -> 0 | S36: =IF(AND((O36=0),(R36>0)),"O",IF(AND((M36<0),(O36-R36<0)),"O","X")) -> X | Z36: =IF($Y36<>"도비",IF($W36="국도비","직접입력",SUM($M36:$N36)),) -> 0 | AA36: =IF($Y36="도비",SUM($M36:$N36),IF($W36="국도비","직접입력",SUM($M36:$N36)-$Z36)) -> 0 | AB36: =IF(SUM($M36:$N36)=SUM($Z36:$AA36),"OK","검토") -> OK | AE36: =IF($Y36<>"도비",IF($W36="국도비","직접입력",SUM($P36:$Q36)),) -> 0 | AF36: =IF($Y36="도비",SUM(P36:Q36),IF($W36="국도비","직접입력",SUM(P36:Q36)-AE36)) -> 0 | AG36: =IF(SUM(P36:Q36)=SUM(AE36:AF36),"OK","검토") -> OK | AI36: =IF(Y36="","",IF(Y36="도비","세입없음","직접입력")) | AK36: =IF(AI36="","",COUNTIF($AI$7:$AI$116,AI36)) | AL36: =IF(Y36="","",IF(AND(Y36="도비",AI36="세입없음"),"OK",IF(AND(Y36<>"도비",AI36<>""),"OK","@@"))) | AN36: {=IF(D36="","",INDEX([1]구분표!$I$2:$I$311, MATCH(1,([1]구분표!$E$2:$E$311='1추일출 '!C36)*([1]구분표!$F$2:$F$311='1추일출 '!D36)*([1]구분표!$G$2:$G$311='1추일출 '!B36),0)))}
A37: =IF(A36="",A35+1,A36+1) -> 28 | L37: =J37-K37 -> 0 | O37: =L37+M37+N37 -> 0 | R37: =L37+P37+Q37 -> 0 | S37: =IF(AND((O37=0),(R37>0)),"O",IF(AND((M37<0),(O37-R37<0)),"O","X")) -> X | Z37: =IF($Y37<>"도비",IF($W37="국도비","직접입력",SUM($M37:$N37)),) -> 0 | AA37: =IF($Y37="도비",SUM($M37:$N37),IF($W37="국도비","직접입력",SUM($M37:$N37)-$Z37)) -> 0 | AB37: =IF(SUM($M37:$N37)=SUM($Z37:$AA37),"OK","검토") -> OK | AE37: =IF($Y37<>"도비",IF($W37="국도비","직접입력",SUM($P37:$Q37)),) -> 0 | AF37: =IF($Y37="도비",SUM(P37:Q37),IF($W37="국도비","직접입력",SUM(P37:Q37)-AE37)) -> 0 | AG37: =IF(SUM(P37:Q37)=SUM(AE37:AF37),"OK","검토") -> OK | AI37: =IF(Y37="","",IF(Y37="도비","세입없음","직접입력")) | AK37: =IF(AI37="","",COUNTIF($AI$7:$AI$116,AI37)) | AL37: =IF(Y37="","",IF(AND(Y37="도비",AI37="세입없음"),"OK",IF(AND(Y37<>"도비",AI37<>""),"OK","@@"))) | AN37: {=IF(D37="","",INDEX([1]구분표!$I$2:$I$311, MATCH(1,([1]구분표!$E$2:$E$311='1추일출 '!C37)*([1]구분표!$F$2:$F$311='1추일출 '!D37)*([1]구분표!$G$2:$G$311='1추일출 '!B37),0)))}
A38: =IF(A37="",A36+1,A37+1) -> 29 | L38: =J38-K38 -> 0 | O38: =L38+M38+N38 -> 0 | R38: =L38+P38+Q38 -> 0 | S38: =IF(AND((O38=0),(R38>0)),"O",IF(AND((M38<0),(O38-R38<0)),"O","X")) -> X | Z38: =IF($Y38<>"도비",IF($W38="국도비","직접입력",SUM($M38:$N38)),) -> 0 | AA38: =IF($Y38="도비",SUM($M38:$N38),IF($W38="국도비","직접입력",SUM($M38:$N38)-$Z38)) -> 0 | AB38: =IF(SUM($M38:$N38)=SUM($Z38:$AA38),"OK","검토") -> OK | AE38: =IF($Y38<>"도비",IF($W38="국도비","직접입력",SUM($P38:$Q38)),) -> 0 | AF38: =IF($Y38="도비",SUM(P38:Q38),IF($W38="국도비","직접입력",SUM(P38:Q38)-AE38)) -> 0 | AG38: =IF(SUM(P38:Q38)=SUM(AE38:AF38),"OK","검토") -> OK | AI38: =IF(Y38="","",IF(Y38="도비","세입없음","직접입력")) | AK38: =IF(AI38="","",COUNTIF($AI$7:$AI$116,AI38)) | AL38: =IF(Y38="","",IF(AND(Y38="도비",AI38="세입없음"),"OK",IF(AND(Y38<>"도비",AI38<>""),"OK","@@"))) | AN38: {=IF(D38="","",INDEX([1]구분표!$I$2:$I$311, MATCH(1,([1]구분표!$E$2:$E$311='1추일출 '!C38)*([1]구분표!$F$2:$F$311='1추일출 '!D38)*([1]구분표!$G$2:$G$311='1추일출 '!B38),0)))}
A39: =IF(A38="",A37+1,A38+1) -> 30 | L39: =J39-K39 -> 0 | O39: =L39+M39+N39 -> 0 | R39: =L39+P39+Q39 -> 0 | S39: =IF(AND((O39=0),(R39>0)),"O",IF(AND((M39<0),(O39-R39<0)),"O","X")) -> X | Z39: =IF($Y39<>"도비",IF($W39="국도비","직접입력",SUM($M39:$N39)),) -> 0 | AA39: =IF($Y39="도비",SUM($M39:$N39),IF($W39="국도비","직접입력",SUM($M39:$N39)-$Z39)) -> 0 | AB39: =IF(SUM($M39:$N39)=SUM($Z39:$AA39),"OK","검토") -> OK | AE39: =IF($Y39<>"도비",IF($W39="국도비","직접입력",SUM($P39:$Q39)),) -> 0 | AF39: =IF($Y39="도비",SUM(P39:Q39),IF($W39="국도비","직접입력",SUM(P39:Q39)-AE39)) -> 0 | AG39: =IF(SUM(P39:Q39)=SUM(AE39:AF39),"OK","검토") -> OK | AI39: =IF(Y39="","",IF(Y39="도비","세입없음","직접입력")) | AK39: =IF(AI39="","",COUNTIF($AI$7:$AI$116,AI39)) | AL39: =IF(Y39="","",IF(AND(Y39="도비",AI39="세입없음"),"OK",IF(AND(Y39<>"도비",AI39<>""),"OK","@@"))) | AN39: {=IF(D39="","",INDEX([1]구분표!$I$2:$I$311, MATCH(1,([1]구분표!$E$2:$E$311='1추일출 '!C39)*([1]구분표!$F$2:$F$311='1추일출 '!D39)*([1]구분표!$G$2:$G$311='1추일출 '!B39),0)))}
B40: (안전행정위원회) | J40: =SUBTOTAL(9,J41:J50) -> 4986500 | K40: =SUBTOTAL(9,K41:K50) -> 4786500 | L40: =SUBTOTAL(9,L41:L50) -> 200000 | M40: =SUBTOTAL(9,M41:M50) -> 0 | N40: =SUBTOTAL(9,N41:N50) -> 745000 | O40: =SUBTOTAL(9,O41:O50) -> 945000 | P40: =SUBTOTAL(9,P41:P50) -> 0 | Q40: =SUBTOTAL(9,Q41:Q50) -> 0 | R40: =SUBTOTAL(9,R41:R50) -> 200000 | Z40: =IF($Y40<>"도비",IF($W40="국도비","직접입력",SUM($M40:$N40)),) -> 745000 | AA40: =IF($Y40="도비",SUM($M40:$N40),IF($W40="국도비","직접입력",SUM($M40:$N40)-$Z40)) -> 0 | AB40: =IF(SUM($M40:$N40)=SUM($Z40:$AA40),"OK","검토") -> OK | AE40: =IF($Y40<>"도비",IF($W40="국도비","직접입력",SUM($P40:$Q40)),) -> 0 | AF40: =IF($Y40="도비",SUM(P40:Q40),IF($W40="국도비","직접입력",SUM(P40:Q40)-AE40)) -> 0 | AG40: =IF(SUM(P40:Q40)=SUM(AE40:AF40),"OK","검토") -> OK | AI40: =IF(Y40="","",IF(Y40="도비","세입없음","직접입력")) | AK40: =IF(AI40="","",COUNTIF($AI$7:$AI$116,AI40)) | AL40: =IF(Y40="","",IF(AND(Y40="도비",AI40="세입없음"),"OK",IF(AND(Y40<>"도비",AI40<>""),"OK","@@"))) | AN40: {=IF(D40="","",INDEX([1]구분표!$I$2:$I$311, MATCH(1,([1]구분표!$E$2:$E$311='1추일출 '!C40)*([1]구분표!$F$2:$F$311='1추일출 '!D40)*([1]구분표!$G$2:$G$311='1추일출 '!B40),0)))}
...

Sheet 1추특출
A1: 2017년도 제1회 추가경정 경기도 특별회계 세출 예산 조정(안)
A2: □ 세출예산 | P2: =Q2-#REF! -> #REF! | Q2: =Q6-K6 -> 0 | Y2: 세입=세출 | AD2: 세입=세출
K3: =SUM(K7:K944)/2 -> -510089 | L3: =SUM(L7:L944)/2 -> -1418787 | M3: =SUM(M7:M944)/2 -> 1418787 | N3: =SUM(N7:N944)/2 -> -510089 | O3: =SUM(O7:O944)/2 -> 0 | P3: =SUM(P7:P944)/2 -> 0 | Q3: =SUM(Q7:Q944)/2 -> -510089 | U3: (단위 : 천원) | Y3: =IF(Y6=#REF!,"OK","@@") -> #REF! | AA3: =IF(COUNTIF(AA6:AA60,"검토")>0,"@@","OK") -> OK | AD3: =IF(AD6=#REF!,"OK","@@") -> #REF! | AE3: =O6+P6-AD6-AE6 -> 0 | AF3: =IF(COUNTIF(AF6:AF60,"검토")>0,"@@","OK") -> OK
A4: 위원회명 | B4: 실국명 | C4: 부서명 | D4: 편성 구분 | E4: 연정 구분 | F4: 예산안 페이지 | G4: 사업설명서페이지 | H4: 세부사업명 및 부기명 | I4: 제1회 추경 예산안 (가) | J4: 기정액 (나) | K4: 제1회 추경 증감액 (다=가-나) | L4: 상임위 예산안 조정액(라) | N4: 상임위 조정 예산안 (마=다+라) | O4: 예결위 예산안 조정액(사) | Q4: 예결위 조정 예산안 (아=다+사) | R4: 동의 대상 | S4: 상임위 변경사유 (심의 참고자료) | T4: 비고 (상임위 부대의견) | U4: 비고 (부대의견) | V4: 국도비 등 여부 | X4: 재원 | Y4: 상임위 재원별 증감액 | AC4: 재원 | AD4: 예결위 재원별 증감액 | AH4: 세입번호 | AJ4: 동일 세입 건수 | AK4: 세출 번호 검증 | AM4: 실국부서 코드 | AO4: 추가 내시 등
L5: 감액 | M5: 증액 | O5: 감액 | P5: 증액 | Y5: 국비 등 | Z5: 도비 | AA5: 검증 | AD5: 국비 등 | AE5: 도비 | AF5: 검증
A6: 합 계 | I6: =SUBTOTAL(9,I7:I60) -> 5347100 | J6: =SUBTOTAL(9,J7:J60) -> 6395798 | K6: =SUBTOTAL(9,K7:K60) -> -1048698 | L6: =SUBTOTAL(9,L7:L60) -> -2837574 | M6: =SUBTOTAL(9,M7:M60) -> 2837574 | N6: =SUBTOTAL(9,N7:N60) -> -1048698 | O6: =SUBTOTAL(9,O7:O60) -> 0 | P6: =SUBTOTAL(9,P7:P60) -> 0 | Q6: =SUBTOTAL(9,Q7:Q60) -> -1048698 | Y6: =SUBTOTAL(9,Y7:Y60) -> 0 | Z6: =SUBTOTAL(9,Z7:Z60) -> 0 | AA6: =IF(SUM($L6:$M6)=SUM($Y6:$Z6),"OK","검토") -> OK | AD6: =SUBTOTAL(9,AD7:AD60) -> 0 | AE6: =SUBTOTAL(9,AE7:AE60) -> 0 | AF6: =IF(SUM($L6:$M6)=SUM($Y6:$Z6),"OK","검토") -> OK
A7: (소방안전특별회계) | I7: =SUBTOTAL(9,I55:I60) -> 34520 | J7: =SUBTOTAL(9,J55:J60) -> 6000 | K7: =SUBTOTAL(9,K55:K60) -> 28520 | L7: =SUBTOTAL(9,L55:L60) -> 0 | M7: =SUBTOTAL(9,M55:M60) -> 0 | N7: =SUBTOTAL(9,N55:N60) -> 28520 | O7: =SUBTOTAL(9,O55:O60) -> 0 | P7: =SUBTOTAL(9,P55:P60) -> 0 | Q7: =SUBTOTAL(9,Q55:Q60) -> 28520
A8: 안전행정위원회 | B8: 재난안전본부 | C8: 소방행정과 | D8: 1회추경 | E8: 일반 | F8: 378 | G8: 53 | H8: 기관공통경비의효율적지원(자체/직접) -기관공통 사무관리비 | I8: 150000 | J8: 100000 | K8: =I8-J8 -> 50000 | M8: 150000 | N8: =K8+L8+M8 -> 200000 | Q8: =K8+O8+P8 -> 50000 | R8: =IF(AND((N8=0),(Q8>0)),"O",IF(AND((L8<0),(N8-Q8<0)),"O","X")) -> X | Y8: =IF($X8<>"도비",IF($V8="국도비","직접입력",SUM($L8:$M8)),) -> 150000 | Z8: =IF($X8="도비",SUM($L8:$M8),IF($V8="국도비","직접입력",SUM($L8:$M8)-$Y8)) -> 0 | AA8: =IF(SUM($L8:$M8)=SUM($Y8:$Z8),"OK","검토") -> OK | AD8: =IF($X8<>"도비",IF($V8="국도비","직접입력",SUM($O8:$P8)),) -> 0 | AE8: =IF($X8="도비",SUM(O8:P8),IF($V8="국도비","직접입력",SUM(O8:P8)-AD8)) -> 0 | AF8: =IF(SUM(O8:P8)=SUM(AD8:AE8),"OK","검토") -> OK | AH8: =IF(X8="","",IF(X8="도비","세입없음","직접입력")) | AJ8: =IF(AH8="","",COUNTIF($AH$7:$AH$60,AH8)) | AK8: =IF(X8="","",IF(AND(X8="도비",AH8="세입없음"),"OK",IF(AND(X8<>"도비",AH8<>""),"OK","@@"))) | AM8: {=IF(C8="","",INDEX(구분표!$I$2:$I$311, MATCH(1,(구분표!$E$2:$E$311='1추특출'!B8)*(구분표!$F$2:$F$311='1추특출'!C8)*(구분표!$G$2:$G$311='1추특출'!A8),0)))} -> 40101
A9: 안전행정위원회 | B9: 재난안전본부 | C9: 소방행정과 | D9: 1회추경 | E9: 일반 | F9: 378 | G9: 53 | H9: 기관공통경비의효율적지원(자체/직접) -기관공통 자산취득비 | I9: 530000 | J9: 100000 | K9: =I9-J9 -> 430000 | L9: -330000 | N9: =K9+L9+M9 -> 100000 | Q9: =K9+O9+P9 -> 430000 | R9: =IF(AND((N9=0),(Q9>0)),"O",IF(AND((L9<0),(N9-Q9<0)),"O","X")) -> O | Y9: =IF($X9<>"도비",IF($V9="국도비","직접입력",SUM($L9:$M9)),) -> -330000 | Z9: =IF($X9="도비",SUM($L9:$M9),IF($V9="국도비","직접입력",SUM($L9:$M9)-$Y9)) -> 0 | AA9: =IF(SUM($L9:$M9)=SUM($Y9:$Z9),"OK","검토") -> OK | AD9: =IF($X9<>"도비",IF($V9="국도비","직접입력",SUM($O9:$P9)),) -> 0 | AE9: =IF($X9="도비",SUM(O9:P9),IF($V9="국도비","직접입력",SUM(O9:P9)-AD9)) -> 0 | AF9: =IF(SUM(O9:P9)=SUM(AD9:AE9),"OK","검토") -> OK | AH9: =IF(X9="","",IF(X9="도비","세입없음","직접입력")) | AJ9: =IF(AH9="","",COUNTIF($AH$7:$AH$60,AH9)) | AK9: =IF(X9="","",IF(AND(X9="도비",AH9="세입없음"),"OK",IF(AND(X9<>"도비",AH9<>""),"OK","@@"))) | AM9: {=IF(C9="","",INDEX(구분표!$I$2:$I$311, MATCH(1,(구분표!$E$2:$E$311='1추특출'!B9)*(구분표!$F$2:$F$311='1추특출'!C9)*(구분표!$G$2:$G$311='1추특출'!A9),0)))} -> 40101
A10: 안전행정위원회 | B10: 재난안전본부 | C10: 소방행정과 | D10: 1회추경 | E10: 일반 | F10: 378 | G10: 53 | H10: 기관공통경비의효율적지원(자체/직접) -기관공통 재료비 | I10: 200000 | J10: 0 | K10: =I10-J10 -> 200000 | L10: -200000 | N10: =K10+L10+M10 -> 0 | Q10: =K10+O10+P10 -> 200000 | R10: =IF(AND((N10=0),(Q10>0)),"O",IF(AND((L10<0),(N10-Q10<0)),"O","X")) -> O | Y10: =IF($X10<>"도비",IF($V10="국도비","직접입력",SUM($L10:$M10)),) -> -200000 | Z10: =IF($X10="도비",SUM($L10:$M10),IF($V10="국도비","직접입력",SUM($L10:$M10)-$Y10)) -> 0 | AA10: =IF(SUM($L10:$M10)=SUM($Y10:$Z10),"OK","검토") -> OK | AD10: =IF($X10<>"도비",IF($V10="국도비","직접입력",SUM($O10:$P10)),) -> 0 | AE10: =IF($X10="도비",SUM(O10:P10),IF($V10="국도비","직접입력",SUM(O10:P10)-AD10)) -> 0 | AF10: =IF(SUM(O10:P10)=SUM(AD10:AE10),"OK","검토") -> OK | AH10: =IF(X10="","",IF(X10="도비","세입없음","직접입력")) | AJ10: =IF(AH10="","",COUNTIF($AH$7:$AH$60,AH10)) | AK10: =IF(X10="","",IF(AND(X10="도비",AH10="세입없음"),"OK",IF(AND(X10<>"도비",AH10<>""),"OK","@@"))) | AM10: {=IF(C10="","",INDEX(구분표!$I$2:$I$311, MATCH(1,(구분표!$E$2:$E$311='1추특출'!B10)*(구분표!$F$2:$F$311='1추특출'!C10)*(구분표!$G$2:$G$311='1추특출'!A10),0)))} -> 40101
A11: 안전행정위원회 | B11: 재난안전본부 | C11: 소방행정과 | D11: 1회추경 | E11: 일반 | F11: 379 | G11: 58 | H11: 예비비(자체/직접) -내부유보금 | I11: 0 | J11: 4023498 | K11: =I11-J11 -> -4023498 | M11: 622000 | N11: =K11+L11+M11 -> -3401498 | Q11: =K11+O11+P11 -> -4023498 | R11: =IF(AND((N11=0),(Q11>0)),"O",IF(AND((L11<0),(N11-Q11<0)),"O","X")) -> X | Y11: =IF($X11<>"도비",IF($V11="국도비","직접입력",SUM($L11:$M11)),) -> 622000 | Z11: =IF($X11="도비",SUM($L11:$M11),IF($V11="국도비","직접입력",SUM($L11:$M11)-$Y11)) -> 0 | AA11: =IF(SUM($L11:$M11)=SUM($Y11:$Z11),"OK","검토") -> OK | AD11: =IF($X11<>"도비",IF($V11="국도비","직접입력",SUM($O11:$P11)),) -> 0 | AE11: =IF($X11="도비",SUM(O11:P11),IF($V11="국도비","직접입력",SUM(O11:P11)-AD11)) -> 0 | AF11: =IF(SUM(O11:P11)=SUM(AD11:AE11),"OK","검토") -> OK | AH11: =IF(X11="","",IF(X11="도비","세입없음","직접입력")) | AJ11: =IF(AH11="","",COUNTIF($AH$7:$AH$60,AH11)) | AK11: =IF(X11="","",IF(AND(X11="도비",AH11="세입없음"),"OK",IF(AND(X11<>"도비",AH11<>""),"OK","@@"))) | AM11: {=IF(C11="","",INDEX(구분표!$I$2:$I$311, MATCH(1,(구분표!$E$2:$E$311='1추특출'!B11)*(구분표!$F$2:$F$311='1추특출'!C11)*(구분표!$G$2:$G$311='1추특출'!A11),0)))} -> 40101
A12: 안전행정위원회 | B12: 재난안전본부 | C12: 대응구조구급과 | D12: 신규 | E12: 일반 | H12: 의용소방대활성화(자체/직접) -의소대 피복비 | I12: 0 | J12: 0 | K12: =I12-J12 -> 0 | L12: 0 | M12: 20000 | N12: =K12+L12+M12 -> 20000 | Q12: =K12+O12+P12 -> 0 | R12: =IF(AND((N12=0),(Q12>0)),"O",IF(AND((L12<0),(N12-Q12<0)),"O","X")) -> X | Y12: =IF($X12<>"도비",IF($V12="국도비","직접입력",SUM($L12:$M12)),) -> 20000 | Z12: =IF($X12="도비",SUM($L12:$M12),IF($V12="국도비","직접입력",SUM($L12:$M12)-$Y12)) -> 0 | AA12: =IF(SUM($L12:$M12)=SUM($Y12:$Z12),"OK","검토") -> OK | AD12: =IF($X12<>"도비",IF($V12="국도비","직접입력",SUM($O12:$P12)),) -> 0 | AE12: =IF($X12="도비",SUM(O12:P12),IF($V12="국도비","직접입력",SUM(O12:P12)-AD12)) -> 0 | AF12: =IF(SUM(O12:P12)=SUM(AD12:AE12),"OK","검토") -> OK | AH12: =IF(X12="","",IF(X12="도비","세입없음","직접입력")) | AJ12: =IF(AH12="","",COUNTIF($AH$7:$AH$60,AH12)) | AK12: =IF(X12="","",IF(AND(X12="도비",AH12="세입없음"),"OK",IF(AND(X12<>"도비",AH12<>""),"OK","@@"))) | AM12: {=IF(C12="","",INDEX(구분표!$I$2:$I$311, MATCH(1,(구분표!$E$2:$E$311='1추특출'!B12)*(구분표!$F$2:$F$311='1추특출'!C12)*(구분표!$G$2:$G$311='1추특출'!A12),0)))} -> 40103
A13: 안전행정위원회 | B13: 재난안전본부 | C13: 대응구조구급과 | D13: 신규 | E13: 일반 | H13: 의용소방대활성화(자체/직접) -의소대 직무교육 | I13: 0 | J13: 0 | K13: =I13-J13 -> 0 | L13: 0 | M13: 200000 | N13: =K13+L13+M13 -> 200000 | Q13: =K13+O13+P13 -> 0 | R13: =IF(AND((N13=0),(Q13>0)),"O",IF(AND((L13<0),(N13-Q13<0)),"O","X")) -> X | U13: 의용소방대지원경비 | Y13: =IF($X13<>"도비",IF($V13="국도비","직접입력",SUM($L13:$M13)),) -> 200000 | Z13: =IF($X13="도비",SUM($L13:$M13),IF($V13="국도비","직접입력",SUM($L13:$M13)-$Y13)) -> 0 | AA13: =IF(SUM($L13:$M13)=SUM($Y13:$Z13),"OK","검토") -> OK | AD13: =IF($X13<>"도비",IF($V13="국도비","직접입력",SUM($O13:$P13)),) -> 0 | AE13: =IF($X13="도비",SUM(O13:P13),IF($V13="국도비","직접입력",SUM(O13:P13)-AD13)) -> 0 | AF13: =IF(SUM(O13:P13)=SUM(AD13:AE13),"OK","검토") -> OK | AH13: =IF(X13="","",IF(X13="도비","세입없음","직접입력")) | AJ13: =IF(AH13="","",COUNTIF($AH$7:$AH$60,AH13)) | AK13: =IF(X13="","",IF(AND(X13="도비",AH13="세입없음"),"OK",IF(AND(X13<>"도비",AH13<>""),"OK","@@"))) | AM13: {=IF(C13="","",INDEX(구분표!$I$2:$I$311, MATCH(1,(구분표!$E$2:$E$311='1추특출'!B13)*(구분표!$F$2:$F$311='1추특출'!C13)*(구분표!$G$2:$G$311='1추특출'!A13),0)))} -> 40103
A14: =IFERROR(VLOOKUP($C14,[2]구분표!$A$2:$C$313,2,FALSE),"") -> 안전행정위원회 | B14: =IFERROR(VLOOKUP($C14,[2]구분표!$A$2:$C$313,3,FALSE),"") -> 재난안전본부 | C14: 안전교육훈련담당관 | D14: 1회추경 | E14: 일반 | F14: 383 | G14: 88 | H14: 재난안전교육운영(자체/직접) -취약계층안전교육전문강사양성및운영 | I14: 258000 | J14: 0 | K14: =I14-J14 -> 258000 | L14: -150000 | N14: =K14+L14+M14 -> 108000 | Q14: =K14+O14+P14 -> 258000 | R14: =IF(AND((N14=0),(Q14>0)),"O",IF(AND((L14<0),(N14-Q14<0)),"O","X")) -> O | Y14: =IF($X14<>"도비",IF($V14="국도비","직접입력",SUM($L14:$M14)),) -> -150000 | Z14: =IF($X14="도비",SUM($L14:$M14),IF($V14="국도비","직접입력",SUM($L14:$M14)-$Y14)) -> 0 | AA14: =IF(SUM($L14:$M14)=SUM($Y14:$Z14),"OK","검토") -> OK | AD14: =IF($X14<>"도비",IF($V14="국도비","직접입력",SUM($O14:$P14)),) -> 0 | AE14: =IF($X14="도비",SUM(O14:P14),IF($V14="국도비","직접입력",SUM(O14:P14)-AD14)) -> 0 | AF14: =IF(SUM(O14:P14)=SUM(AD14:AE14),"OK","검토") -> OK | AH14: =IF(X14="","",IF(X14="도비","세입없음","직접입력")) | AJ14: =IF(AH14="","",COUNTIF($AH$7:$AH$60,AH14)) | AK14: =IF(X14="","",IF(AND(X14="도비",AH14="세입없음"),"OK",IF(AND(X14<>"도비",AH14<>""),"OK","@@"))) | AM14: {=IF(C14="","",INDEX(구분표!$I$2:$I$311, MATCH(1,(구분표!$E$2:$E$311='1추특출'!B14)*(구분표!$F$2:$F$311='1추특출'!C14)*(구분표!$G$2:$G$311='1추특출'!A14),0)))} -> 40105
A15: 안전행정위원회 | B15: 재난안전본부 | C15: 회계장비담당관 | D15: 신규 | E15: 일반 | H15: 비영리민간단체 공익사업 지원(자체/직접) -불용소방차 지원사업 | I15: 0 | J15: 0 | K15: =I15-J15 -> 0 | L15: 0 | M15: 38000 | N15: =K15+L15+M15 -> 38000 | Q15: =K15+O15+P15 -> 0 | R15: =IF(AND((N15=0),(Q15>0)),"O",IF(AND((L15<0),(N15-Q15<0)),"O","X")) -> X | U15: 민간경상보조 30,000천원 국외업무여비 8,000천원 | Y15: =IF($X15<>"도비",IF($V15="국도비","직접입력",SUM($L15:$M15)),) -> 38000 | Z15: =IF($X15="도비",SUM($L15:$M15),IF($V15="국도비","직접입력",SUM($L15:$M15)-$Y15)) -> 0 | AA15: =IF(SUM($L15:$M15)=SUM($Y15:$Z15),"OK","검토") -> OK | AD15: =IF($X15<>"도비",IF($V15="국도비","직접입력",SUM($O15:$P15)),) -> 0 | AE15: =IF($X15="도비",SUM(O15:P15),IF($V15="국도비","직접입력",SUM(O15:P15)-AD15)) -> 0 | AF15: =IF(SUM(O15:P15)=SUM(AD15:AE15),"OK","검토") -> OK | AH15: =IF(X15="","",IF(X15="도비","세입없음","직접입력")) | AJ15: =IF(AH15="","",COUNTIF($AH$7:$AH$60,AH15)) | AK15: =IF(X15="","",IF(AND(X15="도비",AH15="세입없음"),"OK",IF(AND(X15<>"도비",AH15<>""),"OK","@@"))) | AM15: {=IF(C15="","",INDEX(구분표!$I$2:$I$311, MATCH(1,(구분표!$E$2:$E$311='1추특출'!B15)*(구분표!$F$2:$F$311='1추특출'!C15)*(구분표!$G$2:$G$311='1추특출'!A15),0)))} -> 40107
A16: =IFERROR(VLOOKUP($C16,[2]구분표!$A$2:$C$313,2,FALSE),"") -> 안전행정위원회 | B16: =IFERROR(VLOOKUP($C16,[2]구분표!$A$2:$C$313,3,FALSE),"") -> 재난안전본부 | C16: 안전기획과 | D16: 1회추경 | E16: 일반 | F16: 389 | G16: 139 | H16: 안전산업 클러스터 스타트업캠퍼스 구축 사업(자체/지원) -스타트업 캠퍼스 설계 | I16: 250000 | J16: 0 | K16: =I16-J16 -> 250000 | L16: -250000 | N16: =K16+L16+M16 -> 0 | Q16: =K16+O16+P16 -> 250000 | R16: =IF(AND((N16=0),(Q16>0)),"O",IF(AND((L16<0),(N16-Q16<0)),"O","X")) -> O | Y16: =IF($X16<>"도비",IF($V16="국도비","직접입력",SUM($L16:$M16)),) -> -250000 | Z16: =IF($X16="도비",SUM($L16:$M16),IF($V16="국도비","직접입력",SUM($L16:$M16)-$Y16)) -> 0 | AA16: =IF(SUM($L16:$M16)=SUM($Y16:$Z16),"OK","검토") -> OK | AD16: =IF($X16<>"도비",IF($V16="국도비","직접입력",SUM($O16:$P16)),) -> 0 | AE16: =IF($X16="도비",SUM(O16:P16),IF($V16="국도비","직접입력",SUM(O16:P16)-AD16)) -> 0 | AF16: =IF(SUM(O16:P16)=SUM(AD16:AE16),"OK","검토") -> OK | AH16: =IF(X16="","",IF(X16="도비","세입없음","직접입력")) | AJ16: =IF(AH16="","",COUNTIF($AH$7:$AH$60,AH16)) | AK16: =IF(X16="","",IF(AND(X16="도비",AH16="세입없음"),"OK",IF(AND(X16<>"도비",AH16<>""),"OK","@@"))) | AM16: {=IF(C16="","",INDEX(구분표!$I$2:$I$311, MATCH(1,(구분표!$E$2:$E$311='1추특출'!B16)*(구분표!$F$2:$F$311='1추특출'!C16)*(구분표!$G$2:$G$311='1추특출'!A16),0)))} -> 40109
A17: =IFERROR(VLOOKUP($C17,[2]구분표!$A$2:$C$313,2,FALSE),"") -> 안전행정위원회 | B17: =IFERROR(VLOOKUP($C17,[2]구분표!$A$2:$C$313,3,FALSE),"") -> 재난안전본부 | C17: 화성소방서 | D17: 1회추경 | E17: 일반 | F17: 409 | G17: 191 | H17: 소규모시설개보수(자체/직접) -팔탄지역대개보수 | I17: 582800 | J17: 0 | K17: =I17-J17 -> 582800 | L17: -350000 | N17: =K17+L17+M17 -> 232800 | Q17: =K17+O17+P17 -> 582800 | R17: =IF(AND((N17=0),(Q17>0)),"O",IF(AND((L17<0),(N17-Q17<0)),"O","X")) -> O | Y17: =IF($X17<>"도비",IF($V17="국도비","직접입력",SUM($L17:$M17)),) -> -350000 | Z17: =IF($X17="도비",SUM($L17:$M17),IF($V17="국도비","직접입력",SUM($L17:$M17)-$Y17)) -> 0 | AA17: =IF(SUM($L17:$M17)=SUM($Y17:$Z17),"OK","검토") -> OK | AD17: =IF($X17<>"도비",IF($V17="국도비","직접입력",SUM($O17:$P17)),) -> 0 | AE17: =IF($X17="도비",SUM(O17:P17),IF($V17="국도비","직접입력",SUM(O17:P17)-AD17)) -> 0 | AF17: =IF(SUM(O17:P17)=SUM(AD17:AE17),"OK","검토") -> OK | AH17: =IF(X17="","",IF(X17="도비","세입없음","직접입력")) | AJ17: =IF(AH17="","",COUNTIF($AH$7:$AH$60,AH17)) | AK17: =IF(X17="","",IF(AND(X17="도비",AH17="세입없음"),"OK",IF(AND(X17<>"도비",AH17<>""),"OK","@@"))) | AM17: {=IF(C17="","",INDEX(구분표!$I$2:$I$311, MATCH(1,(구분표!$E$2:$E$311='1추특출'!B17)*(구분표!$F$2:$F$311='1추특출'!C17)*(구분표!$G$2:$G$311='1추특출'!A17),0)))} -> 40417
A18: =IFERROR(VLOOKUP($C18,[2]구분표!$A$2:$C$313,2,FALSE),"") -> 안전행정위원회 | B18: =IFERROR(VLOOKUP($C18,[2]구분표!$A$2:$C$313,3,FALSE),"") -> 재난안전본부 | C18: 화성소방서 | D18: 신규 | E18: 일반 | H18: 소방관서신축및이전(자체/직접) -제2동탄119안전센터신축 | I18: 0 | J18: 0 | K18: =I18-J18 -> 0 | M18: 350000 | N18: =K18+L18+M18 -> 350000 | Q18: =K18+O18+P18 -> 0 | R18: =IF(AND((N18=0),(Q18>0)),"O",IF(AND((L18<0),(N18-Q18<0)),"O","X")) -> X | U18: 시설비 | Y18: =IF($X18<>"도비",IF($V18="국도비","직접입력",SUM($L18:$M18)),) -> 350000 | Z18: =IF($X18="도비",SUM($L18:$M18),IF($V18="국도비","직접입력",SUM($L18:$M18)-$Y18)) -> 0 | AA18: =IF(SUM($L18:$M18)=SUM($Y18:$Z18),"OK","검토") -> OK | AD18: =IF($X18<>"도비",IF($V18="국도비","직접입력",SUM($O18:$P18)),) -> 0 | AE18: =IF($X18="도비",SUM(O18:P18),IF($V18="국도비","직접입력",SUM(O18:P18)-AD18)) -> 0 | AF18: =IF(SUM(O18:P18)=SUM(AD18:AE18),"OK","검토") -> OK | AH18: =IF(X18="","",IF(X18="도비","세입없음","직접입력")) | AJ18: =IF(AH18="","",COUNTIF($AH$7:$AH$60,AH18)) | AK18: =IF(X18="","",IF(AND(X18="도비",AH18="세입없음"),"OK",IF(AND(X18<>"도비",AH18<>""),"OK","@@"))) | AM18: {=IF(C18="","",INDEX(구분표!$I$2:$I$311, MATCH(1,(구분표!$E$2:$E$311='1추특출'!B18)*(구분표!$F$2:$F$311='1추특출'!C18)*(구분표!$G$2:$G$311='1추특출'!A18),0)))} -> 40417
A19: =IFERROR(VLOOKUP($C19,[2]구분표!$A$2:$C$313,2,FALSE),"") -> 안전행정위원회 | B19: =IFERROR(VLOOKUP($C19,[2]구분표!$A$2:$C$313,3,FALSE),"") -> 재난안전본부 | C19: 교수운영과 | D19: 1회추경 | E19: 일반 | F19: 396 | G19: 183 | H19: 교육환경기반조성(자체/직접) -소방훈련탑리모델링 | I19: 1000000 | J19: 0 | K19: =I19-J19 -> 1000000 | L19: -410000 | N19: =K19+L19+M19 -> 590000 | Q19: =K19+O19+P19 -> 1000000 | R19: =IF(AND((N19=0),(Q19>0)),"O",IF(AND((L19<0),(N19-Q19<0)),"O","X")) -> O | U19: 시설비 | Y19: =IF($X19<>"도비",IF($V19="국도비","직접입력",SUM($L19:$M19)),) -> -410000 | Z19: =IF($X19="도비",SUM($L19:$M19),IF($V19="국도비","직접입력",SUM($L19:$M19)-$Y19)) -> 0 | AA19: =IF(SUM($L19:$M19)=SUM($Y19:$Z19),"OK","검토") -> OK | AD19: =IF($X19<>"도비",IF($V19="국도비","직접입력",SUM($O19:$P19)),) -> 0 | AE19: =IF($X19="도비",SUM(O19:P19),IF($V19="국도비","직접입력",SUM(O19:P19)-AD19)) -> 0 | AF19: =IF(SUM(O19:P19)=SUM(AD19:AE19),"OK","검토") -> OK | AH19: =IF(X19="","",IF(X19="도비","세입없음","직접입력")) | AJ19: =IF(AH19="","",COUNTIF($AH$7:$AH$60,AH19)) | AK19: =IF(X19="","",IF(AND(X19="도비",AH19="세입없음"),"OK",IF(AND(X19<>"도비",AH19<>""),"OK","@@"))) | AM19: {=IF(C19="","",INDEX(구분표!$I$2:$I$311, MATCH(1,(구분표!$E$2:$E$311='1추특출'!B19)*(구분표!$F$2:$F$311='1추특출'!C19)*(구분표!$G$2:$G$311='1추특출'!A19),0)))} -> 40303
A20: =IFERROR(VLOOKUP($C20,[2]구분표!$A$2:$C$313,2,FALSE),"") -> 안전행정위원회 | B20: =IFERROR(VLOOKUP($C20,[2]구분표!$A$2:$C$313,3,FALSE),"") -> 재난안전본부 | C20: 수원소방서 | D20: 신규 | E20: 일반 | H20: 소방안전교육 -소방안전교육물품구매(자산취득비) | I20: 0 | J20: 0 | K20: =I20-J20 -> 0 | M20: 150000 | N20: =K20+L20+M20 -> 150000 | Q20: =K20+O20+P20 -> 0 | R20: =IF(AND((N20=0),(Q20>0)),"O",IF(AND((L20<0),(N20-Q20<0)),"O","X")) -> X | Y20: =IF($X20<>"도비",IF($V20="국도비","직접입력",SUM($L20:$M20)),) -> 150000 | Z20: =IF($X20="도비",SUM($L20:$M20),IF($V20="국도비","직접입력",SUM($L20:$M20)-$Y20)) -> 0 | AA20: =IF(SUM($L20:$M20)=SUM($Y20:$Z20),"OK","검토") -> OK | AD20: =IF($X20<>"도비",IF($V20="국도비","직접입력",SUM($O20:$P20)),) -> 0 | AE20: =IF($X20="도비",SUM(O20:P20),IF($V20="국도비","직접입력",SUM(O20:P20)-AD20)) -> 0 | AF20: =IF(SUM(O20:P20)=SUM(AD20:AE20),"OK","검토") -> OK | AH20: =IF(X20="","",IF(X20="도비","세입없음","직접입력")) | AJ20: =IF(AH20="","",COUNTIF($AH$7:$AH$60,AH20)) | AK20: =IF(X20="","",IF(AND(X20="도비",AH20="세입없음"),"OK",IF(AND(X20<>"도비",AH20<>""),"OK","@@"))) | AM20: {=IF(C20="","",INDEX(구분표!$I$2:$I$311, MATCH(1,(구분표!$E$2:$E$311='1추특출'!B20)*(구분표!$F$2:$F$311='1추특출'!C20)*(구분표!$G$2:$G$311='1추특출'!A20),0)))} -> 40401
A21: =IFERROR(VLOOKUP($C21,[2]구분표!$A$2:$C$313,2,FALSE),"") -> 안전행정위원회 | B21: =IFERROR(VLOOKUP($C21,[2]구분표!$A$2:$C$313,3,FALSE),"") -> 재난안전본부 | C21: 수원소방서 | D21: 신규 | E21: 일반 | H21: 소방관서 증축(자체/직접) -본서체력단련실개선공사 | I21: 0 | J21: 0 | K21: =I21-J21 -> 0 | M21: 120000 | N21: =K21+L21+M21 -> 120000 | Q21: =K21+O21+P21 -> 0 | R21: =IF(AND((N21=0),(Q21>0)),"O",IF(AND((L21<0),(N21-Q21<0)),"O","X")) -> X | U21: 자산및물품취득비 70,000 시설비 50,000 | Y21: =IF($X21<>"도비",IF($V21="국도비","직접입력",SUM($L21:$M21)),) -> 120000 | Z21: =IF($X21="도비",SUM($L21:$M21),IF($V21="국도비","직접입력",SUM($L21:$M21)-$Y21)) -> 0 | AA21: =IF(SUM($L21:$M21)=SUM($Y21:$Z21),"OK","검토") -> OK | AD21: =IF($X21<>"도비",IF($V21="국도비","직접입력",SUM($O21:$P21)),) -> 0 | AE21: =IF($X21="도비",SUM(O21:P21),IF($V21="국도비","직접입력",SUM(O21:P21)-AD21)) -> 0 | AF21: =IF(SUM(O21:P21)=SUM(AD21:AE21),"OK","검토") -> OK | AH21: =IF(X21="","",IF(X21="도비","세입없음","직접입력")) | AJ21: =IF(AH21="","",COUNTIF($AH$7:$AH$60,AH21)) | AK21: =IF(X21="","",IF(AND(X21="도비",AH21="세입없음"),"OK",IF(AND(X21<>"도비",AH21<>""),"OK","@@"))) | AM21: {=IF(C21="","",INDEX(구분표!$I$2:$I$311, MATCH(1,(구분표!$E$2:$E$311='1추특출'!B21)*(구분표!$F$2:$F$311='1추특출'!C21)*(구분표!$G$2:$G$311='1추특출'!A21),0)))} -> 40401
A22: =IFERROR(VLOOKUP($C22,[2]구분표!$A$2:$C$313,2,FALSE),"") -> 안전행정위원회 | B22: =IFERROR(VLOOKUP($C22,[2]구분표!$A$2:$C$313,3,FALSE),"") -> 재난안전본부 | C22: 용인소방서 | D22: 신규 | E22: 일반 | H22: 소규모시설개보수(자체/직접) -본서민원실신축 | I22: 0 | J22: 0 | K22: =I22-J22 -> 0 | M22: 40000 | N22: =K22+L22+M22 -> 40000 | Q22: =K22+O22+P22 -> 0 | R22: =IF(AND((N22=0),(Q22>0)),"O",IF(AND((L22<0),(N22-Q22<0)),"O","X")) -> X | U22: 자산및물품취득비 | Y22: =IF($X22<>"도비",IF($V22="국도비","직접입력",SUM($L22:$M22)),) -> 40000 | Z22: =IF($X22="도비",SUM($L22:$M22),IF($V22="국도비","직접입력",SUM($L22:$M22)-$Y22)) -> 0 | AA22: =IF(SUM($L22:$M22)=SUM($Y22:$Z22),"OK","검토") -> OK | AD22: =IF($X22<>"도비",IF($V22="국도비","직접입력",SUM($O22:$P22)),) -> 0 | AE22: =IF($X22="도비",SUM(O22:P22),IF($V22="국도비","직접입력",SUM(O22:P22)-AD22)) -> 0 | AF22: =IF(SUM(O22:P22)=SUM(AD22:AE22),"OK","검토") -> OK | AH22: =IF(X22="","",IF(X22="도비","세입없음","직접입력")) | AJ22: =IF(AH22="","",COUNTIF($AH$7:$AH$60,AH22)) | AK22: =IF(X22="","",IF(AND(X22="도비",AH22="세입없음"),"OK",IF(AND(X22<>"도비",AH22<>""),"OK","@@"))) | AM22: {=IF(C22="","",INDEX(구분표!$I$2:$I$311, MATCH(1,(구분표!$E$2:$E$311='1추특출'!B22)*(구분표!$F$2:$F$311='1추특출'!C22)*(구분표!$G$2:$G$311='1추특출'!A22),0)))} -> 40409
A23: =IFERROR(VLOOKUP($C23,[2]구분표!$A$2:$C$313,2,FALSE),"") -> 안전행정위원회 | B23: =IFERROR(VLOOKUP($C23,[2]구분표!$A$2:$C$313,3,FALSE),"") -> 재난안전본부 | C23: 소방행정과 | D23: 신규 | E23: 일반 | H23: 기관공통운영경비의효율적지원(자체/직접) -소방공통 노후청사 개보수 | I23: 0 | J23: 0 | K23: =I23-J23 -> 0 | M23: 1106421 | N23: =K23+L23+M23 -> 1106421 | Q23: =K23+O23+P23 -> 0 | R23: =IF(AND((N23=0),(Q23>0)),"O",IF(AND((L23<0),(N23-Q23<0)),"O","X")) -> X | S23: 부서변경 (회계장비담당관->소방행정과) | Y23: =IF($X23<>"도비",IF($V23="국도비","직접입력",SUM($L23:$M23)),) -> 1106421 | Z23: =IF($X23="도비",SUM($L23:$M23),IF($V23="국도비","직접입력",SUM($L23:$M23)-$Y23)) -> 0 | AA23: =IF(SUM($L23:$M23)=SUM($Y23:$Z23),"OK","검토") -> OK | AD23: =IF($X23<>"도비",IF($V23="국도비","직접입력",SUM($O23:$P23)),) -> 0 | AE23: =IF($X23="도비",SUM(O23:P23),IF($V23="국도비","직접입력",SUM(O23:P23)-AD23)) -> 0 | AF23: =IF(SUM(O23:P23)=SUM(AD23:AE23),"OK","검토") -> OK | AH23: =IF(X23="","",IF(X23="도비","세입없음","직접입력")) | AJ23: =IF(AH23="","",COUNTIF($AH$7:$AH$60,AH23)) | AK23: =IF(X23="","",IF(AND(X23="도비",AH23="세입없음"),"OK",IF(AND(X23<>"도비",AH23<>""),"OK","@@"))) | AM23: {=IF(C23="","",INDEX(구분표!$I$2:$I$311, MATCH(1,(구분표!$E$2:$E$311='1추특출'!B23)*(구분표!$F$2:$F$311='1추특출'!C23)*(구분표!$G$2:$G$311='1추특출'!A23),0)))} -> 40101
