Workbook

Sheet 구분표
A2: 실과명 | B2: 위원회명 | C2: 실국명 | E2: 실국명 | F2: 실과명 | G2: 위원회명 | H2: 정렬순서 | I2: 정렬코드
A3: 총무담당관 | B3: 의회운영위원회 | C3: 의회사무처 | E3: 의회사무처 | F3: 총무담당관 | G3: 의회운영위원회 | H3: 1 | I3: 50101
A4: 공보담당관 | B4: 의회운영위원회 | C4: 의회사무처 | E4: 의회사무처 | F4: 공보담당관 | G4: 의회운영위원회 | H4: 2 | I4: 50102
A5: 의사담당관 | B5: 의회운영위원회 | C5: 의회사무처 | E5: 의회사무처 | F5: 의사담당관 | G5: 의회운영위원회 | H5: 3 | I5: 50103
A6: 입법정책담당관 | B6: 의회운영위원회 | C6: 의회사무처 | E6: 의회사무처 | F6: 입법정책담당관 | G6: 의회운영위원회 | H6: 4 | I6: 50104
A7: 예산정책담당관 | B7: 의회운영위원회 | C7: 의회사무처 | E7: 의회사무처 | F7: 예산정책담당관 | G7: 의회운영위원회 | H7: 5 | I7: 50105
A8: 언론협력담당관 | B8: 의회운영위원회 | C8: 대변인 | E8: 대변인 | F8: 언론협력담당관 | G8: 의회운영위원회 | H8: 6 | I8: 10101
A9: 보도기획담당관 | B9: 의회운영위원회 | C9: 대변인 | E9: 대변인 | F9: 보도기획담당관 | G9: 의회운영위원회 | H9: 7 | I9: 10102
A10: 홍보미디어담당관 | B10: 의회운영위원회 | C10: 소통기획관 | E10: 소통기획관 | F10: 홍보미디어담당관 | G10: 의회운영위원회 | H10: 8 | I10: 10201
A11: 홍보콘텐츠담당관 | B11: 의회운영위원회 | C11: 소통기획관 | E11: 소통기획관 | F11: 홍보콘텐츠담당관 | G11: 의회운영위원회 | H11: 9 | I11: 10202
A12: 연정협력과 | B12: 의회운영위원회 | C12: 연정협력국 | E12: 연정협력국 | F12: 연정협력과 | G12: 의회운영위원회 | H12: 10 | I12: 30101
A13: 대외협력과 | B13: 의회운영위원회 | C13: 연정협력국 | E13: 연정협력국 | F13: 대외협력과 | G13: 의회운영위원회 | H13: 11 | I13: 30102
A14: 서울사무소 | B14: 의회운영위원회 | C14: 연정협력국 | E14: 연정협력국 | F14: 서울사무소 | G14: 의회운영위원회 | H14: 12 | I14: 30103
... A214: 보육청소년담당관 | B214: 여성가족교육협력위원회 | C214: 복지여성실 | E214: 복지여성실 | F214: 보육청소년담당관 | G214: 여성가족교육협력위원회 | H214: 212 | I214: 11201

Sheet 예결표지(세로)
A5: 2017년도 제1회 일반회계 및 특별회계 추가경정 세입·세출 예산안
A7: 예결위 계수조정 결과
A20: 예산결산특별위원회

Sheet 예결표지(가로)
A3: 2017년도 제1회 일반회계 및 특별회계 추가경정 세입·세출 예산안
A5: 예결위 계수조정 결과
A14: 예산결산특별위원회

Sheet 검증
A1: 제4회 추경 일반회계 검증 | H1: 4추 예비비 | J1: 조정액 | K1: =IFERROR(INDEX(#REF!,MATCH("*예비비*",#REF!,0)),0) -> 0 | L1: 조정잔액 | M1: =I1+K1 -> 0
M2: (단위 : 천원)
A3: 구분 | B3: 상 임 위 | H3: 구분 | I3: 예 결 위
B4: 세입 | C4: 검증 | D4: 세출 | E4: 검증 | F4: 차액 | I4: 세입 | J4: 검증 | K4: 세출 | L4: 검증 | M4: 차액
A5: 전체 총계 | B5: =SUM(B6:B13)/2 -> #REF! | C5: =IF(B5=SUM(#REF!),"OK","@@") -> #REF! | D5: =SUM(D6:D13)/2 -> #REF! | E5: =IF(D5=SUM(#REF!),"OK","@@") -> #REF! | H5: 전체 총계 | I5: =SUM(I6:I13)/2 -> #REF! | J5: =IF(I5=SUM(#REF!),"OK","@@") -> #REF! | K5: =SUM(K6:K13)/2 -> #REF! | L5: =IF(K5=SUM(#REF!),"OK","@@") -> #REF!
A6: 자체 계 | B6: =SUM(B7:B8) -> #REF! | C6: =IF(B6=#REF!,"OK","@@") -> #REF! | D6: =SUM(D7:D8) -> #REF! | E6: =IF(D6=#REF!,"OK","@@") -> #REF! | H6: 자체 계 | I6: =SUM(I7:I8) -> #REF! | J6: =IF(I6=#REF!,"OK","@@") -> #REF! | K6: =SUM(K7:K8) -> #REF! | L6: =IF(K6=#REF!,"OK","@@") -> #REF!
A7: 자체 도비 | B7: =SUMIFS(#REF!,#REF!,"도비") -> #REF! | D7: =SUMIFS(#REF!,#REF!,"도비") -> #REF! | H7: 자체 도비 | I7: =SUMIFS(#REF!,#REF!,"국비") -> #REF! | K7: =SUMIFS(#REF!,#REF!,"도비") -> #REF!
A8: 의존 매칭 도비 | B8: =SUMIFS(#REF!,#REF!,"국비")+SUMIFS(#REF!,#REF!,"지특")+SUMIFS(#REF!,#REF!,"기금")+SUMIFS(#REF!,#REF!,"특교") -> #REF! | D8: =SUMIFS(#REF!,#REF!,"국비")+SUMIFS(#REF!,#REF!,"지특")+SUMIFS(#REF!,#REF!,"기금")+SUMIFS(#REF!,#REF!,"특교") -> #REF! | H8: 의존 매칭 도비 | I8: =SUMIFS(#REF!,#REF!,"국비")+SUMIFS(#REF!,#REF!,"지특")+SUMIFS(#REF!,#REF!,"기금")+SUMIFS(#REF!,#REF!,"특교") -> #REF! | K8: =SUMIFS(#REF!,#REF!,"국비")+SUMIFS(#REF!,#REF!,"지특")+SUMIFS(#REF!,#REF!,"기금")+SUMIFS(#REF!,#REF!,"특교") -> #REF!
A9: 의존 계 | B9: =SUM(B10:B13) -> #REF! | C9: =IF(B9=#REF!,"OK","@@") -> #REF! | D9: =SUM(D10:D13) -> #REF! | E9: =IF(D9=#REF!,"OK","@@") -> #REF! | F9: =SUM(F10:F13) -> #REF! | H9: 의존 계 | I9: =SUM(I10:I13) -> #REF! | J9: =IF(I9=#REF!,"OK","@@") -> #REF! | K9: =SUM(K10:K13) -> #REF! | L9: =IF(K9=#REF!,"OK","@@") -> #REF! | M9: =SUM(M10:M13) -> #REF!
A10: 국비 | B10: =SUMIFS(#REF!,#REF!,검증!A10) -> #REF! | D10: =SUMIFS(#REF!,#REF!,검증!A10) -> #REF! | F10: =D10-B10 -> #REF! | H10: 국비 | I10: =SUMIFS(#REF!,#REF!,검증!H10) -> #REF! | K10: =SUMIFS(#REF!,#REF!,검증!H10) -> #REF! | M10: =K10-I10 -> #REF!
A11: 지특 | B11: =SUMIFS(#REF!,#REF!,검증!A11) -> #REF! | D11: =SUMIFS(#REF!,#REF!,검증!A11) -> #REF! | F11: =D11-B11 -> #REF! | H11: 지특 | I11: =SUMIFS(#REF!,#REF!,검증!H11) -> #REF! | K11: =SUMIFS(#REF!,#REF!,검증!H11) -> #REF! | M11: =K11-I11 -> #REF!
A12: 기금 | B12: =SUMIFS(#REF!,#REF!,검증!A12) -> #REF! | D12: =SUMIFS(#REF!,#REF!,검증!A12) -> #REF! | F12: =D12-B12 -> #REF! | H12: 기금 | I12: =SUMIFS(#REF!,#REF!,검증!H12) -> #REF! | K12: =SUMIFS(#REF!,#REF!,검증!H12) -> #REF! | M12: =K12-I12 -> #REF!
A13: 특교 | B13: =SUMIFS(#REF!,#REF!,검증!A13) -> #REF! | D13: =SUMIFS(#REF!,#REF!,검증!A13) -> #REF! | F13: =D13-B13 -> #REF! | H13: 특교 | I13: =SUMIFS(#REF!,#REF!,검증!H13) -> #REF! | K13: =SUMIFS(#REF!,#REF!,검증!H13) -> #REF! | M13: =K13-I13 -> #REF!

Sheet 1추일출 
B1: 2017년도 제1회 추가경정 경기도 일반회계 세출 예산 조정(안)
B2: □ 세출예산 | Q2: =R2-'[1]1추일입'!P2 -> 0 | R2: =R6-L6 -> 0 | Z2: 세입=세출 | AE2: 세입=세출
L3: =SUM(L7:L248)/2 -> 200000 | M3: =SUM(M7:M248)/2 -> 0 | N3: =SUM(N7:N248)/2 -> 745000 | O3: =SUM(O7:O248)/2 -> 945000 | P3: =SUM(P7:P248)/2 -> 0 | Q3: =SUM(Q7:Q248)/2 -> 0 | R3: =SUM(R7:R248)/2 -> 200000 | V3: (단위 : 천원) | Z3: =IF(Z6='[1]1추일입'!X6,"OK","@@") -> @@ | AA3: =M6+N6-Z6-AA6 -> 0 | AB3: =IF(COUNTIF(AB6:AB116,"검토")>0,"@@","OK") -> OK | AE3: =IF(AE6='[1]1추일입'!AC6,"OK","@@") -> OK | AF3: =P6+Q6-AE6-AF6 -> 0 | AG3: =IF(COUNTIF(AG6:AG116,"검토")>0,"@@","OK") -> OK
A4: 번호 | B4: 위원회명 | C4: 실국명 | D4: 부서명 | E4: 편성 구분 | F4: 연정 구분 | G4: 예산안 페이지 | H4: 사업설명서페이지 | I4: 세부사업명 및 부기명 | J4: 제1회 추경 예산안 (가) | K4: 기정액 (나) | L4: 제1회 추경 증감액 (다=가-나) | M4: 상임위 예산안 조정액(라) | O4: 상임위 조정 예산안 (마=다+라) | P4: 예결위 예산안 조정액(사) | R4: 예결위 조정 예산안 (아=다+사) | S4: 동의 대상 | T4: 상임위 변경사유 (심의 참고자료) | U4: 비고 (상임위 부대의견) | V4: 비고 (부대의견) | W4: 국도비 등 여부 | Y4: 재원 | Z4: 상임위 재원별 증감액 | AD4: 재원 | AE4: 예결위 재원별 증감액 | AI4: 세입번호 | AK4: 동일 세입 건수 | AL4: 세출 번호 검증 | AN4: 실국부서 코드 | AP4: 추가 내시 등
M5: 감액 | N5: 증액 | P5: 감액 | Q5: 증액 | Z5: 국비 등 | AA5: 도비 | AB5: 검증 | AE5: 국비 등 | AF5: 도비 | AG5: 검증
B6: 합 계 | J6: =SUBTOTAL(9,J7:J116) -> 4986500 | K6: =SUBTOTAL(9,K7:K116) -> 4786500 | L6: =SUBTOTAL(9,L7:L116) -> 200000 | M6: =SUBTOTAL(9,M7:M116) -> 0 | N6: =SUBTOTAL(9,N7:N116) -> 745000 | O6: =SUBTOTAL(9,O7:O116) -> 945000 | P6: =SUBTOTAL(9,P7:P116) -> 0 | Q6: =SUBTOTAL(9,Q7:Q116) -> 0 | R6: =SUBTOTAL(9,R7:R116) -> 200000 | Z6: =SUBTOTAL(9,Z7:Z116) -> 745000 | AA6: =SUBTOTAL(9,AA7:AA116) -> 0 | AB6: =IF(SUM($M6:$N6)=SUM($Z6:$AA6),"OK","검토") -> OK | AE6: =SUBTOTAL(9,AE7:AE116) -> 0 | AF6: =SUBTOTAL(9,AF7:AF116) -> 0 | AG6: =IF(SUM(P6:Q6)=SUM(AE6:AF6),"OK","검토") -> OK
B7: (의회운영위원회) | J7: =SUBTOTAL(9,J8:J17) -> 0 | K7: =SUBTOTAL(9,K8:K17) -> 0 | L7: =SUBTOTAL(9,L8:L17) -> 0 | M7: =SUBTOTAL(9,M8:M17) -> 0 | N7: =SUBTOTAL(9,N8:N17) -> 0 | O7: =SUBTOTAL(9,O8:O17) -> 0 | P7: =SUBTOTAL(9,P8:P17) -> 0 | Q7: =SUBTOTAL(9,Q8:Q17) -> 0 | R7: =SUBTOTAL(9,R8:R17) -> 0 | Z7: =IF($Y7<>"도비",IF($W7="국도비","직접입력",SUM($M7:$N7)),) -> 0 | AA7: =IF($Y7="도비",SUM($M7:$N7),IF($W7="국도비","직접입력",SUM($M7:$N7)-$Z7)) -> 0 | AB7: =IF(SUM($M7:$N7)=SUM($Z7:$AA7),"OK","검토") -> OK | AE7: =IF($Y7<>"도비",IF($W7="국도비","직접입력",SUM($P7:$Q7)),) -> 0 | AF7: =IF($Y7="도비",SUM(P7:Q7),IF($W7="국도비","직접입력",SUM(P7:Q7)-AE7)) -> 0 | AG7: =IF(SUM(P7:Q7)=SUM(AE7:AF7),"OK","검토") -> OK | AI7: =IF(Y7="","",IF(Y7="도비","세입없음","직접입력")) | AK7: =IF(AI7="","",COUNTIF($AI$7:$AI$116,AI7)) | AL7: =IF(Y7="","",IF(AND(Y7="도비",AI7="세입없음"),"OK",IF(AND(Y7<>"도비",AI7<>""),"OK","@@"))) | AN7: {=IF(D7="","",INDEX([1]구분표!$I$2:$I$311, MATCH(1,([1]구분표!$E$2:$E$311='1추일출 '!C7)*([1]구분표!$F$2:$F$311='1추일출 '!D7)*([1]구분표!$G$2:$G$311='1추일출 '!B7),0)))}
A8: 1 | L8: =J8-K8 -> 0 | O8: =L8+M8+N8 -> 0 | R8: =L8+P8+Q8 -> 0 | S8: =IF(AND((O8=0),(R8>0)),"O",IF(AND((M8<0),(O8-R8<0)),"O","X")) -> X | Z8: =IF($Y8<>"도비",IF($W8="국도비","직접입력",SUM($M8:$N8)),) -> 0 | AA8: =IF($Y8="도비",SUM($M8:$N8),IF($W8="국도비","직접입력",SUM($M8:$N8)-$Z8)) -> 0 | AB8: =IF(SUM($M8:$N8)=SUM($Z8:$AA8),"OK","검토") -> OK | AE8: =IF($Y8<>"도비",IF($W8="국도비","직접입력",SUM($P8:$Q8)),) -> 0 | AF8: =IF($Y8="도비",SUM(P8:Q8),IF($W8="국도비","직접입력",SUM(P8:Q8)-AE8)) -> 0 | AG8: =IF(SUM(P8:Q8)=SUM(AE8:AF8),"OK","검토") -> OK | AI8: =IF(Y8="","",IF(Y8="도비","세입없음","직접입력")) | AK8: =IF(AI8="","",COUNTIF($AI$7:$AI$116,AI8)) | AL8: =IF(Y8="","",IF(AND(Y8="도비",AI8="세입없음"),"OK",IF(AND(Y8<>"도비",AI8<>""),"OK","@@"))) | AN8: {=IF(D8="","",INDEX([1]구분표!$I$2:$I$311, MATCH(1,([1]구분표!$E$2:$E$311='1추일출 '!C8)*([1]구분표!$F$2:$F$311='1추일출 '!D8)*([1]구분표!$G$2:$G$311='1추일출 '!B8),0)))}
A9: =IF(A8="",A7+1,A8+1) -> 2 | L9: =J9-K9 -> 0 | O9: =L9+M9+N9 -> 0 | R9: =L9+P9+Q9 -> 0 | S9: =IF(AND((O9=0),(R9>0)),"O",IF(AND((M9<0),(O9-R9<0)),"O","X")) -> X | Z9: =IF($Y9<>"도비",IF($W9="국도비","직접입력",SUM($M9:$N9)),) -> 0 | AA9: =IF($Y9="도비",SUM($M9:$N9),IF($W9="국도비","직접입력",SUM($M9:$N9)-$Z9)) -> 0 | AB9: =IF(SUM($M9:$N9)=SUM($Z9:$AA9),"OK","검토") -> OK | AE9: =IF($Y9<>"도비",IF($W9="국도비","직접입력",SUM($P9:$Q9)),) -> 0 | AF9: =IF($Y9="도비",SUM(P9:Q9),IF($W9="국도비","직접입력",SUM(P9:Q9)-AE9)) -> 0 | AG9: =IF(SUM(P9:Q9)=SUM(AE9:AF9),"OK","검토") -> OK | AI9: =IF(Y9="","",IF(Y9="도비","세입없음","직접입력")) | AK9: =IF(AI9="","",COUNTIF($AI$7:$AI$116,AI9)) | AL9: =IF(Y9="","",IF(AND(Y9="도비",AI9="세입없음"),"OK",IF(AND(Y9<>"도비",AI9<>""),"OK","@@"))) | AN9: {=IF(D9="","",INDEX([1]구분표!$I$2:$I$311, MATCH(1,([1]구분표!$E$2:$E$311='1추일출 '!C9)*([1]구분표!$F$2:$F$311='1추일출 '!D9)*([1]구분표!$G$2:$G$311='1추일출 '!B9),0)))}
A10: =IF(A9="",A8+1,A9+1) -> 3 | L10: =J10-K10 -> 0 | O10: =L10+M10+N10 -> 0 | R10: =L10+P10+Q10 -> 0 | S10: =IF(AND((O10=0),(R10>0)),"O",IF(AND((M10<0),(O10-R10<0)),"O","X")) -> X | Z10: =IF($Y10<>"도비",IF($W10="국도비","직접입력",SUM($M10:$N10)),) -> 0 | AA10: =IF($Y10="도비",SUM($M10:$N10),IF($W10="국도비","직접입력",SUM($M10:$N10)-$Z10)) -> 0 | AB10: =IF(SUM($M10:$N10)=SUM($Z10:$AA10),"OK","검토") -> OK | AE10: =IF($Y10<>"도비",IF($W10="국도비","직접입력",SUM($P10:$Q10)),) -> 0 | AF10: =IF($Y10="도비",SUM(P10:Q10),IF($W10="국도비","직접입력",SUM(P10:Q10)-AE10)) -> 0 | AG10: =IF(SUM(P10:Q10)=SUM(AE10:AF10),"OK","검토") -> OK | AI10: =IF(Y10="","",IF(Y10="도비","세입없음","직접입력")) | AK10: =IF(AI10="","",COUNTIF($AI$7:$AI$116,AI10)) | AL10: =IF(Y10="","",IF(AND(Y10="도비",AI10="세입없음"),"OK",IF(AND(Y10<>"도비",AI10<>""),"OK","@@"))) | AN10: {=IF(D10="","",INDEX([1]구분표!$I$2:$I$311, MATCH(1,([1]구분표!$E$2:$E$311='1추일출 '!C10)*([1]구분표!$F$2:$F$311='1추일출 '!D10)*([1]구분표!$G$2:$G$311='1추일출 '!B10),0)))}
A11: =IF(A10="",A9+1,A10+1) -> 4 | L11: =J11-K11 -> 0 | O11: =L11+M11+N11 -> 0 | R11: =L11+P11+Q11 -> 0 | S11: =IF(AND((O11=0),(R11>0)),"O",IF(AND((M11<0),(O11-R11<0)),"O","X")) -> X | Z11: =IF($Y11<>"도비",IF($W11="국도비","직접입력",SUM($M11:$N11)),) -> 0 | AA11: =IF($Y11="도비",SUM($M11:$N11),IF($W11="국도비","직접입력",SUM($M11:$N11)-$Z11)) -> 0 | AB11: =IF(SUM($M11:$N11)=SUM($Z11:$AA11),"OK","검토") -> OK | AE11: =IF($Y11<>"도비",IF($W11="국도비","직접입력",SUM($P11:$Q11)),) -> 0 | AF11: =IF($Y11="도비",SUM(P11:Q11),IF($W11="국도비","직접입력",SUM(P11:Q11)-AE11)) -> 0 | AG11: =IF(SUM(P11:Q11)=SUM(AE11:AF11),"OK","검토") -> OK | AI11: =IF(Y11="","",IF(Y11="도비","세입없음","직접입력")) | AK11: =IF(AI11="","",COUNTIF($AI$7:$AI$116,AI11)) | AL11: =IF(Y11="","",IF(AND(Y11="도비",AI11="세입없음"),"OK",IF(AND(Y11<>"도비",AI11<>""),"OK","@@"))) | AN11: {=IF(D11="","",INDEX([1]구분표!$I$2:$I$311, MATCH(1,([1]구분표!$E$2:$E$311='1추일출 '!C11)*([1]구분표!$F$2:$F$311='1추일출 '!D11)*([1]구분표!$G$2:$G$311='1추일출 '!B11),0)))}
A12: =IF(A11="",A10+1,A11+1) -> 5 | L12: =J12-K12 -> 0 | O12: =L12+M12+N12 -> 0 | R12: =L12+P12+Q12 -> 0 | S12: =IF(AND((O12=0),(R12>0)),"O",IF(AND((M12<0),(O12-R12<0)),"O","X")) -> X | Z12: =IF($Y12<>"도비",IF($W12="국도비","직접입력",SUM($M12:$N12)),) -> 0 | AA12: =IF($Y12="도비",SUM($M12:$N12),IF($W12="국도비","직접입력",SUM($M12:$N12)-$Z12)) -> 0 | AB12: =IF(SUM($M12:$N12)=SUM($Z12:$AA12),"OK","검토") -> OK | AE12: =IF($Y12<>"도비",IF($W12="국도비","직접입력",SUM($P12:$Q12)),) -> 0 | AF12: =IF($Y12="도비",SUM(P12:Q12),IF($W12="국도비","직접입력",SUM(P12:Q12)-AE12)) -> 0 | AG12: =IF(SUM(P12:Q12)=SUM(AE12:AF12),"OK","검토") -> OK | AI12: =IF(Y12="","",IF(Y12="도비","세입없음","직접입력")) | AK12: =IF(AI12="","",COUNTIF($AI$7:$AI$116,AI12)) | AL12: =IF(Y12="","",IF(AND(Y12="도비",AI12="세입없음"),"OK",IF(AND(Y12<>"도비",AI12<>""),"OK","@@"))) | AN12: {=IF(D12="","",INDEX([1]구분표!$I$2:$I$311, MATCH(1,([1]구분표!$E$2:$E$311='1추일출 '!C12)*([1]구분표!$F$2:$F$311='1추일출 '!D12)*([1]구분표!$G$2:$G$311='1추일출 '!B12),0)))}
A13: =IF(A12="",A11+1,A12+1) -> 6 | L13: =J13-K13 -> 0 | O13: =L13+M13+N13 -> 0 | R13: =L13+P13+Q13 -> 0 | S13: =IF(AND((O13=0),(R13>0)),"O",IF(AND((M13<0),(O13-R13<0)),"O","X")) -> X | Z13: =IF($Y13<>"도비",IF($W13="국도비","직접입력",SUM($M13:$N13)),) -> 0 | AA13: =IF($Y13="도비",SUM($M13:$N13),IF($W13="국도비","직접입력",SUM($M13:$N13)-$Z13)) -> 0 | AB13: =IF(SUM($M13:$N13)=SUM($Z13:$AA13),"OK","검토") -> OK | AE13: =IF($Y13<>"도비",IF($W13="국도비","직접입력",SUM($P13:$Q13)),) -> 0 | AF13: =IF($Y13="도비",SUM(P13:Q13),IF($W13="국도비","직접입력",SUM(P13:Q13)-AE13)) -> 0 | AG13: =IF(SUM(P13:Q13)=SUM(AE13:AF13),"OK","검토") -> OK | AI13: =IF(Y13="","",IF(Y13="도비","세입없음","직접입력")) | AK13: =IF(AI13="","",COUNTIF($AI$7:$AI$116,AI13)) | AL13: =IF(Y13="","",IF(AND(Y13="도비",AI13="세입없음"),"OK",IF(AND(Y13<>"도비",AI13<>""),"OK","@@"))) | AN13: {=IF(D13="","",INDEX([1]구분표!$I$2:$I$311, MATCH(1,([1]구분표!$E$2:$E$311='1추일출 '!C13)*([1]구분표!$F$2:$F$311='1추일출 '!D13)*([1]구분표!$G$2:$G$311='1추일출 '!B13),0)))}
A14: =IF(A13="",A12+1,A13+1) -> 7 | L14: =J14-K14 -> 0 | O14: =L14+M14+N14 -> 0 | R14: =L14+P14+Q14 -> 0 | S14: =IF(AND((O14=0),(R14>0)),"O",IF(AND((M14<0),(O14-R14<0)),"O","X")) -> X | Z14: =IF($Y14<>"도비",IF($W14="국도비","직접입력",SUM($M14:$N14)),) -> 0 | AA14: =IF($Y14="도비",SUM($M14:$N14),IF($W14="국도비","직접입력",SUM($M14:$N14)-$Z14)) -> 0 | AB14: =IF(SUM($M14:$N14)=SUM($Z14:$AA14),"OK","검토") -> OK | AE14: =IF($Y14<>"도비",IF($W14="국도비","직접입력",SUM($P14:$Q14)),) -> 0 | AF14: =IF($Y14="도비",SUM(P14:Q14),IF($W14="국도비","직접입력",SUM(P14:Q14)-AE14)) -> 0 | AG14: =IF(SUM(P14:Q14)=SUM(AE14:AF14),"OK","검토") -> OK | AI14: =IF(Y14="","",IF(Y14="도비","세입없음","직접입력")) | AK14: =IF(AI14="","",COUNTIF($AI$7:$AI$116,AI14)) | AL14: =IF(Y14="","",IF(AND(Y14="도비",AI14="세입없음"),"OK",IF(AND(Y14<>"도비",AI14<>""),"OK","@@"))) | AN14: {=IF(D14="","",INDEX([1]구분표!$I$2:$I$311, MATCH(1,([1]구분표!$E$2:$E$311='1추일출 '!C14)*([1]구분표!$F$2:$F$311='1추일출 '!D14)*([1]구분표!$G$2:$G$311='1추일출 '!B14),0)))}
A15: =IF(A14="",A13+1,A14+1) -> 8 | L15: =J15-K15 -> 0 | O15: =L15+M15+N15 -> 0 | R15: =L15+P15+Q15 -> 0 | S15: =IF(AND((O15=0),(R15>0)),"O",IF(AND((M15<0),(O15-R15<0)),"O","X")) -> X | Z15: =IF($Y15<>"도비",IF($W15="국도비","직접입력",SUM($M15:$N15)),) -> 0 | AA15: =IF($Y15="도비",SUM($M15:$N15),IF($W15="국도비","직접입력",SUM($M15:$N15)-$Z15)) -> 0 | AB15: =IF(SUM($M15:$N15)=SUM($Z15:$AA15),"OK","검토") -> OK | AE15: =IF($Y15<>"도비",IF($W15="국도비","직접입력",SUM($P15:$Q15)),) -> 0 | AF15: =IF($Y15="도비",SUM(P15:Q15),IF($W15="국도비","직접입력",SUM(P15:Q15)-AE15)) -> 0 | AG15: =IF(SUM(P15:Q15)=SUM(AE15:AF15),"OK","검토") -> OK | AI15: =IF(Y15="","",IF(Y15="도비","세입없음","직접입력")) | AK15: =IF(AI15="","",COUNTIF($AI$7:$AI$116,AI15)) | AL15: =IF(Y15="","",IF(AND(Y15="도비",AI15="세입없음"),"OK",IF(AND(Y15<>"도비",AI15<>""),"OK","@@"))) | AN15: {=IF(D15="","",INDEX([1]구분표!$I$2:$I$311, MATCH(1,([1]구분표!$E$2:$E$311='1추일출 '!C15)*([1]구분표!$F$2:$F$311='1추일출 '!D15)*([1]구분표!$G$2:$G$311='1추일출 '!B15),0)))}
A16: =IF(A15="",A14+1,A15+1) -> 9 | L16: =J16-K16 -> 0 | O16: =L16+M16+N16 -> 0 | R16: =L16+P16+Q16 -> 0 | S16: =IF(AND((O16=0),(R16>0)),"O",IF(AND((M16<0),(O16-R16<0)),"O","X")) -> X | Z16: =IF($Y16<>"도비",IF($W16="국도비","직접입력",SUM($M16:$N16)),) -> 0 | AA16: =IF($Y16="도비",SUM($M16:$N16),IF($W16="국도비","직접입력",SUM($M16:$N16)-$Z16)) -> 0 | AB16: =IF(SUM($M16:$N16)=SUM($Z16:$AA16),"OK","검토") -> OK | AE16: =IF($Y16<>"도비",IF($W16="국도비","직접입력",SUM($P16:$Q16)),) -> 0 | AF16: =IF($Y16="도비",SUM(P16:Q16),IF($W16="국도비","직접입력",SUM(P16:Q16)-AE16)) -> 0 | AG16: =IF(SUM(P16:Q16)=SUM(AE16:AF16),"OK","검토") -> OK | AI16: =IF(Y16="","",IF(Y16="도비","세입없음","직접입력")) | AK16: =IF(AI16="","",COUNTIF($AI$7:$AI$116,AI16)) | AL16: =IF(Y16="","",IF(AND(Y16="도비",AI16="세입없음"),"OK",IF(AND(Y16<>"도비",AI16<>""),"OK","@@"))) | AN16: {=IF(D16="","",INDEX([1]구분표!$I$2:$I$311, MATCH(1,([1]구분표!$E$2:$E$311='1추일출 '!C16)*([1]구분표!$F$2:$F$311='1추일출 '!D16)*([1]구분표!$G$2:$G$311='1추일출 '!B16),0)))}
A17: =IF(A16="",A15+1,A16+1) -> 10 | L17: =J17-K17 -> 0 | O17: =L17+M17+N17 -> 0 | R17: =L17+P17+Q17 -> 0 | S17: =IF(AND((O17=0),(R17>0)),"O",IF(AND((M17<0),(O17-R17<0)),"O","X")) -> X | Z17: =IF($Y17<>"도비",IF($W17="국도비","직접입력",SUM($M17:$N17)),) -> 0 | AA17: =IF($Y17="도비",SUM($M17:$N17),IF($W17="국도비","직접입력",SUM($M17:$N17)-$Z17)) -> 0 | AB17: =IF(SUM($M17:$N17)=SUM($Z17:$AA17),"OK","검토") -> OK | AE17: =IF($Y17<>"도비",IF($W17="국도비","직접입력",SUM($P17:$Q17)),) -> 0 | AF17: =IF($Y17="도비",SUM(P17:Q17),IF($W17="국도비","직접입력",SUM(P17:Q17)-AE17)) -> 0 | AG17: =IF(SUM(P17:Q17)=SUM(AE17:AF17),"OK","검토") -> OK | AI17: =IF(Y17="","",IF(Y17="도비","세입없음","직접입력")) | AK17: =IF(AI17="","",COUNTIF($AI$7:$AI$116,AI17)) | AL17: =IF(Y17="","",IF(AND(Y17="도비",AI17="세입없음"),"OK",IF(AND(Y17<>"도비",AI17<>""),"OK","@@"))) | AN17: {=IF(D17="","",INDEX([1]구분표!$I$2:$I$311, MATCH(1,([1]구분표!$E$2:$E$311='1추일출 '!C17)*([1]구분표!$F$2:$F$311='1추일출 '!D17)*([1]구분표!$G$2:$G$311='1추일출 '!B17),0)))}
B18: (기획재정위원회) | J18: =SUBTOTAL(9,J19:J28) -> 0 | K18: =SUBTOTAL(9,K19:K28) -> 0 | L18: =SUBTOTAL(9,L19:L28) -> 0 | M18: =SUBTOTAL(9,M19:M28) -> 0 | N18: =SUBTOTAL(9,N19:N28) -> 0 | O18: =SUBTOTAL(9,O19:O28) -> 0 | P18: =SUBTOTAL(9,P19:P28) -> 0 | Q18: =SUBTOTAL(9,Q19:Q28) -> 0 | R18: =SUBTOTAL(9,R19:R28) -> 0 | Z18: =IF($Y18<>"도비",IF($W18="국도비","직접입력",SUM($M18:$N18)),) -> 0 | AA18: =IF($Y18="도비",SUM($M18:$N18),IF($W18="국도비","직접입력",SUM($M18:$N18)-$Z18)) -> 0 | AB18: =IF(SUM($M18:$N18)=SUM($Z18:$AA18),"OK","검토") -> OK | AE18: =IF($Y18<>"도비",IF($W18="국도비","직접입력",SUM($P18:$Q18)),) -> 0 | AF18: =IF($Y18="도비",SUM(P18:Q18),IF($W18="국도비","직접입력",SUM(P18:Q18)-AE18)) -> 0 | AG18: =IF(SUM(P18:Q18)=SUM(AE18:AF18),"OK","검토") -> OK | AI18: =IF(Y18="","",IF(Y18="도비","세입없음","직접입력")) | AK18: =IF(AI18="","",COUNTIF($AI$7:$AI$116,AI18)) | AL18: =IF(Y18="","",IF(AND(Y18="도비",AI18="세입없음"),"OK",IF(AND(Y18<>"도비",AI18<>""),"OK","@@"))) | AN18: {=IF(D18="","",INDEX([1]구분표!$I$2:$I$311, MATCH(1,([1]구분표!$E$2:$E$311='1추일출 '!C18)*([1]구분표!$F$2:$F$311='1추일출 '!D18)*([1]구분표!$G$2:$G$311='1추일출 '!B18),0)))}
A19: =IF(A18="",A17+1,A18+1) -> 11 | L19: =J19-K19 -> 0 | O19: =L19+M19+N19 -> 0 | R19: =L19+P19+Q19 -> 0 | S19: =IF(AND((O19=0),(R19>0)),"O",IF(AND((M19<0),(O19-R19<0)),"O","X")) -> X | Z19: =IF($Y19<>"도비",IF($W19="국도비","직접입력",SUM($M19:$N19)),) -> 0 | AA19: =IF($Y19="도비",SUM($M19:$N19),IF($W19="국도비","직접입력",SUM($M19:$N19)-$Z19)) -> 0 | AB19: =IF(SUM($M19:$N19)=SUM($Z19:$AA19),"OK","검토") -> OK | AE19: =IF($Y19<>"도비",IF($W19="국도비","직접입력",SUM($P19:$Q19)),) -> 0 | AF19: =IF($Y19="도비",SUM(P19:Q19),IF($W19="국도비","직접입력",SUM(P19:Q19)-AE19)) -> 0 | AG19: =IF(SUM(P19:Q19)=SUM(AE19:AF19),"OK","검토") -> OK | AI19: =IF(Y19="","",IF(Y19="도비","세입없음","직접입력")) | AK19: =IF(AI19="","",COUNTIF($AI$7:$AI$116,AI19)) | AL19: =IF(Y19="","",IF(AND(Y19="도비",AI19="세입없음"),"OK",IF(AND(Y19<>"도비",AI19<>""),"OK","@@"))) | AN19: {=IF(D19="","",INDEX([1]구분표!$I$2:$I$311, MATCH(1,([1]구분표!$E$2:$E$311='1추일출 '!C19)*([1]구분표!$F$2:$F$311='1추일출 '!D19)*([1]구분표!$G$2:$G$311='1추일출 '!B19),0)))}
A20: =IF(A19="",A18+1,A19+1) -> 12 | L20: =J20-K20 -> 0 | O20: =L20+M20+N20 -> 0 | R20: =L20+P20+Q20 -> 0 | S20: =IF(AND((O20=0),(R20>0)),"O",IF(AND((M20<0),(O20-R20<0)),"O","X")) -> X | Z20: =IF($Y20<>"도비",IF($W20="국도비","직접입력",SUM($M20:$N20)),) -> 0 | AA20: =IF($Y20="도비",SUM($M20:$N20),IF($W20="국도비","직접입력",SUM($M20:$N20)-$Z20)) -> 0 | AB20: =IF(SUM($M20:$N20)=SUM($Z20:$AA20),"OK","검토") -> OK | AE20: =IF($Y20<>"도비",IF($W20="국도비","직접입력",SUM($P20:$Q20)),) -> 0 | AF20: =IF($Y20="도비",SUM(P20:Q20),IF($W20="국도비","직접입력",SUM(P20:Q20)-AE20)) -> 0 | AG20: =IF(SUM(P20:Q20)=SUM(AE20:AF20),"OK","검토") -> OK | AI20: =IF(Y20="","",IF(Y20="도비","세입없음","직접입력")) | AK20: =IF(AI20="","",COUNTIF($AI$7:$AI$116,AI20)) | AL20: =IF(Y20="","",IF(AND(Y20="도비",AI20="세입없음"),"OK",IF(AND(Y20<>"도비",AI20<>""),"OK","@@"))) | AN20: {=IF(D20="","",INDEX([1]구분표!$I$2:$I$311, MATCH(1,([1]구분표!$E$2:$E$311='1추일출 '!C20)*([1]구분표!$F$2:$F$311='1추일출 '!D20)*([1]구분표!$G$2:$G$311='1추일출 '!B20),0)))}
A21: =IF(A20="",A19+1,A20+1) -> 13 | L21: =J21-K21 -> 0 | O21: =L21+M21+N21 -> 0 | R21: =L21+P21+Q21 -> 0 | S21: =IF(AND((O21=0),(R21>0)),"O",IF(AND((M21<0),(O21-R21<0)),"O","X")) -> X | Z21: =IF($Y21<>"도비",IF($W21="국도비","직접입력",SUM($M21:$N21)),) -> 0 | AA21: =IF($Y21="도비",SUM($M21:$N21),IF($W21="국도비","직접입력",SUM($M21:$N21)-$Z21)) -> 0 | AB21: =IF(SUM($M21:$N21)=SUM($Z21:$AA21),"OK","검토") -> OK | AE21: =IF($Y21<>"도비",IF($W21="국도비","직접입력",SUM($P21:$Q21)),) -> 0 | AF21: =IF($Y21="도비",SUM(P21:Q21),IF($W21="국도비","직접입력",SUM(P21:Q21)-AE21)) -> 0 | AG21: =IF(SUM(P21:Q21)=SUM(AE21:AF21),"OK","검토") -> OK | AI21: =IF(Y21="","",IF(Y21="도비","세입없음","직접입력")) | AK21: =IF(AI21="","",COUNTIF($AI$7:$AI$116,AI21)) | AL21: =IF(Y21="","",IF(AND(Y21="도비",AI21="세입없음"),"OK",IF(AND(Y21<>"도비",AI21<>""),"OK","@@"))) | AN21: {=IF(D21="","",INDEX([1]구분표!$I$2:$I$311, MATCH(1,([1]구분표!$E$2:$E$311='1추일출 '!C21)*([1]구분표!$F$2:$F$311='1추일출 '!D21)*([1]구분표!$G$2:$G$311='1추일출 '!B21),0)))}
A22: =IF(A21="",A20+1,A21+1) -> 14 | L22: =J22-K22 -> 0 | O22: =L22+M22+N22 -> 0 | R22: =L22+P22+Q22 -> 0 | S22: =IF(AND((O22=0),(R22>0)),"O",IF(AND((M22<0),(O22-R22<0)),"O","X")) -> X | Z22: =IF($Y22<>"도비",IF($W22="국도비","직접입력",SUM($M22:$N22)),) -> 0 | AA22: =IF($Y22="도비",SUM($M22:$N22),IF($W22="국도비","직접입력",SUM($M22:$N22)-$Z22)) -> 0 | AB22: =IF(SUM($M22:$N22)=SUM($Z22:$AA22),"OK","검토") -> OK | AE22: =IF($Y22<>"도비",IF($W22="국도비","직접입력",SUM($P22:$Q22)),) -> 0 | AF22: =IF($Y22="도비",SUM(P22:Q22),IF($W22="국도비","직접입력",SUM(P22:Q22)-AE22)) -> 0 | AG22: =IF(SUM(P22:Q22)=SUM(AE22:AF22),"OK","검토") -> OK | AI22: =IF(Y22="","",IF(Y22="도비","세입없음","직접입력")) | AK22: =IF(AI22="","",COUNTIF($AI$7:$AI$116,AI22)) | AL22: =IF(Y22="","",IF(AND(Y22="도비",AI22="세입없음"),"OK",IF(AND(Y22<>"도비",AI22<>""),"OK","@@"))) | AN22: {=IF(D22="","",INDEX([1]구분표!$I$2:$I$311, MATCH(1,([1]구분표!$E$2:$E$311='1추일출 '!C22)*([1]구분표!$F$2:$F$311='1추일출 '!D22)*([1]구분표!$G$2:$G$311='1추일출 '!B22),0)))}
A23: =IF(A22="",A21+1,A22+1) -> 15 | L23: =J23-K23 -> 0 | O23: =L23+M23+N23 -> 0 | R23: =L23+P23+Q23 -> 0 | S23: =IF(AND((O23=0),(R23>0)),"O",IF(AND((M23<0),(O23-R23<0)),"O","X")) -> X | Z23: =IF($Y23<>"도비",IF($W23="국도비","직접입력",SUM($M23:$N23)),) -> 0 | AA23: =IF($Y23="도비",SUM($M23:$N23),IF($W23="국도비","직접입력",SUM($M23:$N23)-$Z23)) -> 0 | AB23: =IF(SUM($M23:$N23)=SUM($Z23:$AA23),"OK","검토") -> OK | AE23: =IF($Y23<>"도비",IF($W23="국도비","직접입력",SUM($P23:$Q23)),) -> 0 | AF23: =IF($Y23="도비",SUM(P23:Q23),IF($W23="국도비","직접입력",SUM(P23:Q23)-AE23)) -> 0 | AG23: =IF(SUM(P23:Q23)=SUM(AE23:AF23),"OK","검토") -> OK | AI23: =IF(Y23="","",IF(Y23="도비","세입없음","직접입력")) | AK23: =IF(AI23="","",COUNTIF($AI$7:$AI$116,AI23)) | AL23: =IF(Y23="","",IF(AND(Y23="도비",AI23="세입없음"),"OK",IF(AND(Y23<>"도비",AI23<>""),"OK","@@"))) | AN23: {=IF(D23="","",INDEX([1]구분표!$I$2:$I$311, MATCH(1,([1]구분표!$E$2:$E$311='1추일출 '!C23)*([1]구분표!$F$2:$F$311='1추일출 '!D23)*([1]구분표!$G$2:$G$311='1추일출 '!B23),0)))}
A24: =IF(A23="",A22+1,A23+1) -> 16 | L24: =J24-K24 -> 0 | O24: =L24+M24+N24 -> 0 | R24: =L24+P24+Q24 -> 0 | S24: =IF(AND((O24=0),(R24>0)),"O",IF(AND((M24<0),(O24-R24<0)),"O","X")) -> X | Z24: =IF($Y24<>"도비",IF($W24="국도비","직접입력",SUM($M24:$N24)),) -> 0 | AA24: =IF($Y24="도비",SUM($M24:$N24),IF($W24="국도비","직접입력",SUM($M24:$N24)-$Z24)) -> 0 | AB24: =IF(SUM($M24:$N24)=SUM($Z24:$AA24),"OK","검토") -> OK | AE24: =IF($Y24<>"도비",IF($W24="국도비","직접입력",SUM($P24:$Q24)),) -> 0 | AF24: =IF($Y24="도비",SUM(P24:Q24),IF($W24="국도비","직접입력",SUM(P24:Q24)-AE24)) -> 0 | AG24: =IF(SUM(P24:Q24)=SUM(AE24:AF24),"OK","검토") -> OK | AI24: =IF(Y24="","",IF(Y24="도비","세입없음","직접입력")) | AK24: =IF(AI24="","",COUNTIF($AI$7:$AI$116,AI24)) | AL24: =IF(Y24="","",IF(AND(Y24="도비",AI24="세입없음"),"OK",IF(AND(Y24<>"도비",AI24<>""),"OK","@@"))) | AN24: {=IF(D24="","",INDEX([1]구분표!$I$2:$I$311, MATCH(1,([1]구분표!$E$2:$E$311='1추일출 '!C24)*([1]구분표!$F$2:$F$311='1추일출 '!D24)*([1]구분표!$G$2:$G$311='1추일출 '!B24),0)))}
A25: =IF(A24="",A23+1,A24+1) -> 17 | L25: =J25-K25 -> 0 | O25: =L25+M25+N25 -> 0 | R25: =L25+P25+Q25 -> 0 | S25: =IF(AND((O25=0),(R25>0)),"O",IF(AND((M25<0),(O25-R25<0)),"O","X")) -> X | Z25: =IF($Y25<>"도비",IF($W25="국도비","직접입력",SUM($M25:$N25)),) -> 0 | AA25: =IF($Y25="도비",SUM($M25:$N25),IF($W25="국도비","직접입력",SUM($M25:$N25)-$Z25)) -> 0 | AB25: =IF(SUM($M25:$N25)=SUM($Z25:$AA25),"OK","검토") -> OK | AE25: =IF($Y25<>"도비",IF($W25="국도비","직접입력",SUM($P25:$Q25)),) -> 0 | AF25: =IF($Y25="도비",SUM(P25:Q25),IF($W25="국도비","직접입력",SUM(P25:Q25)-AE25)) -> 0 | AG25: =IF(SUM(P25:Q25)=SUM(AE25:AF25),"OK","검토") -> OK | AI25: =IF(Y25="","",IF(Y25="도비","세입없음","직접입력")) | AK25: =IF(AI25="","",COUNTIF($AI$7:$AI$116,AI25)) | AL25: =IF(Y25="","",IF(AND(Y25="도비",AI25="세입없음"),"OK",IF(AND(Y25<>"도비",AI25<>""),"OK","@@"))) | AN25: {=IF(D25="","",INDEX([1]구분표!$I$2:$I$311, MATCH(1,([1]구분표!$E$2:$E$311='1추일출 '!C25)*([1]구분표!$F$2:$F$311='1추일출 '!D25)*([1]구분표!$G$2:$G$311='1추일출 '!B25),0)))}
A26: =IF(A25="",A24+1,A25+1) -> 18 | L26: =J26-K26 -> 0 | O26: =L26+M26+N26 -> 0 | R26: =L26+P26+Q26 -> 0 | S26: =IF(AND((O26=0),(R26>0)),"O",IF(AND((M26<0),(O26-R26<0)),"O","X")) -> X | Z26: =IF($Y26<>"도비",IF($W26="국도비","직접입력",SUM($M26:$N26)),) -> 0 | AA26: =IF($Y26="도비",SUM($M26:$N26),IF($W26="국도비","직접입력",SUM($M26:$N26)-$Z26)) -> 0 | AB26: =IF(SUM($M26:$N26)=SUM($Z26:$AA26),"OK","검토") -> OK | AE26: =IF($Y26<>"도비",IF($W26="국도비","직접입력",SUM($P26:$Q26)),) -> 0 | AF26: =IF($Y26="도비",SUM(P26:Q26),IF($W26="국도비","직접입력",SUM(P26:Q26)-AE26)) -> 0 | AG26: =IF(SUM(P26:Q26)=SUM(AE26:AF26),"OK","검토") -> OK | AI26: =IF(Y26="","",IF(Y26="도비","세입없음","직접입력")) | AK26: =IF(AI26="","",COUNTIF($AI$7:$AI$116,AI26)) | AL26: =IF(Y26="","",IF(AND(Y26="도비",AI26="세입없음"),"OK",IF(AND(Y26<>"도비",AI26<>""),"OK","@@"))) | AN26: {=IF(D26="","",INDEX([1]구분표!$I$2:$I$311, MATCH(1,([1]구분표!$E$2:$E$311='1추일출 '!C26)*([1]구분표!$F$2:$F$311='1추일출 '!D26)*([1]구분표!$G$2:$G$311='1추일출 '!B26),0)))}
A27: =IF(A26="",A25+1,A26+1) -> 19 | L27: =J27-K27 -> 0 | O27: =L27+M27+N27 -> 0 | R27: =L27+P27+Q27 -> 0 | S27: =IF(AND((O27=0),(R27>0)),"O",IF(AND((M27<0),(O27-R27<0)),"O","X")) -> X | Z27: =IF($Y27<>"도비",IF($W27="국도비","직접입력",SUM($M27:$N27)),) -> 0 | AA27: =IF($Y27="도비",SUM($M27:$N27),IF($W27="국도비","직접입력",SUM($M27:$N27)-$Z27)) -> 0 | AB27: =IF(SUM($M27:$N27)=SUM($Z27:$AA27),"OK","검토") -> OK | AE27: =IF($Y27<>"도비",IF($W27="국도비","직접입력",SUM($P27:$Q27)),) -> 0 | AF27: =IF($Y27="도비",SUM(P27:Q27),IF($W27="국도비","직접입력",SUM(P27:Q27)-AE27)) -> 0 | AG27: =IF(SUM(P27:Q27)=SUM(AE27:AF27),"OK","검토") -> OK | AI27: =IF(Y27="","",IF(Y27="도비","세입없음","직접입력")) | AK27: =IF(AI27="","",COUNTIF($AI$7:$AI$116,AI27)) | AL27: =IF(Y27="","",IF(AND(Y27="도비",AI27="세입없음"),"OK",IF(AND(Y27<>"도비",AI27<>""),"OK","@@"))) | AN27: {=IF(D27="","",INDEX([1]구분표!$I$2:$I$311, MATCH(1,([1]구분표!$E$2:$E$311='1추일출 '!C27)*([1]구분표!$F$2:$F$311='1추일출 '!D27)*([1]구분표!$G$2:$G$311='1추일출 '!B27),0)))}
A28: =IF(A27="",A26+1,A27+1) -> 20 | L28: =J28-K28 -> 0 | O28: =L28+M28+N28 -> 0 | R28: =L28+P28+Q28 -> 0 | S28: =IF(AND((O28=0),(R28>0)),"O",IF(AND((M28<0),(O28-R28<0)),"O","X")) -> X | Z28: =IF($Y28<>"도비",IF($W28="국도비","직접입력",SUM($M28:$N28)),) -> 0 | AA28: =IF($Y28="도비",SUM($M28:$N28),IF($W28="국도비","직접입력",SUM($M28:$N28)-$Z28)) -> 0 | AB28: =IF(SUM($M28:$N28)=SUM($Z28:$AA28),"OK","검토") -> OK | AE28: =IF($Y28<>"도비",IF($W28="국도비","직접입력",SUM($P28:$Q28)),) -> 0 | AF28: =IF($Y28="도비",SUM(P28:Q28),IF($W28="국도비","직접입력",SUM(P28:Q28)-AE28)) -> 0 | AG28: =IF(SUM(P28:Q28)=SUM(AE28:AF28),"OK","검토") -> OK | AI28: =IF(Y28="","",IF(Y28="도비","세입없음","직접입력")) | AK28: =IF(AI28="","",COUNTIF($AI$7:$AI$116,AI28)) | AL28: =IF(Y28="","",IF(AND(Y28="도비",AI28="세입없음"),"OK",IF(AND(Y28<>"도비",AI28<>""),"OK","@@"))) | AN28: {=IF(D28="","",INDEX([1]구분표!$I$2:$I$311, MATCH(1,([1]구분표!$E$2:$E$311='1추일출 '!C28)*([1]구분표!$F$2:$F$311='1추일출 '!D28)*([1]구분표!$G$2:$G$311='1추일출 '!B28),0)))}
B29: (경제과학기술위원회) | J29: =SUBTOTAL(9,J30:J39) -> 0 | K29: =SUBTOTAL(9,K30:K39) -> 0 | L29: =SUBTOTAL(9,L30:L39) -> 0 | M29: =SUBTOTAL(9,M30:M39) -> 0 | N29: =SUBTOTAL(9,N30:N39) -> 0 | O29: =SUBTOTAL(9,O30:O39) -> 0 | P29: =SUBTOTAL(9,P30:P39) -> 0 | Q29: =SUBTOTAL(9,Q30:Q39) -> 0 | R29: =SUBTOTAL(9,R30:R39) -> 0 | Z29: =IF($Y29<>"도비",IF($W29="국도비","직접입력",SUM($M29:$N29)),) -> 0 | AA29: =IF($Y29="도비",SUM($M29:$N29),IF($W29="국도비","직접입력",SUM($M29:$N29)-$Z29)) -> 0 | AB29: =IF(SUM($M29:$N29)=SUM($Z29:$AA29),"OK","검토") -> OK | AE29: =IF($Y29<>"도비",IF($W29="국도비","직접입력",SUM($P29:$Q29)),) -> 0 | AF29: =IF($Y29="도비",SUM(P29:Q29),IF($W29="국도비","직접입력",SUM(P29:Q29)-AE29)) -> 0 | AG29: =IF(SUM(P29:Q29)=SUM(AE29:AF29),"OK","검토") -> OK | AI29: =IF(Y29="","",IF(Y29="도비","세입없음","직접입력")) | AK29: =IF(AI29="","",COUNTIF($AI$7:$AI$116,AI29)) | AL29: =IF(Y29="","",IF(AND(Y29="도비",AI29="세입없음"),"OK",IF(AND(Y29<>"도비",AI29<>""),"OK","@@"))) | AN29: {=IF(D29="","",INDEX([1]구분표!$I$2:$I$311, MATCH(1,([1]구분표!$E$2:$E$311='1추일출 '!C29)*([1]구분표!$F$2:$F$311='1추일출 '!D29)*([1]구분표!$G$2:$G$311='1추일출 '!B29),0)))}
A30: =IF(A29="",A28+1,A29+1) -> 21 | L30: =J30-K30 -> 0 | O30: =L30+M30+N30 -> 0 | R30: =L30+P30+Q30 -> 0 | S30: =IF(AND((O30=0),(R30>0)),"O",IF(AND((M30<0),(O30-R30<0)),"O","X")) -> X | Z30: =IF($Y30<>"도비",IF($W30="국도비","직접입력",SUM($M30:$N30)),) -> 0 | AA30: =IF($Y30="도비",SUM($M30:$N30),IF($W30="국도비","직접입력",SUM($M30:$N30)-$Z30)) -> 0 | AB30: =IF(SUM($M30:$N30)=SUM($Z30:$AA30),"OK","검토") -> OK | AE30: =IF($Y30<>"도비",IF($W30="국도비","직접입력",SUM($P30:$Q30)),) -> 0 | AF30: =IF($Y30="도비",SUM(P30:Q30),IF($W30="국도비","직접입력",SUM(P30:Q30)-AE30)) -> 0 | AG30: =IF(SUM(P30:Q30)=SUM(AE30:AF30),"OK","검토") -> OK | AI30: =IF(Y30="","",IF(Y30="도비","세입없음","직접입력")) | AK30: =IF(AI30="","",COUNTIF($AI$7:$AI$116,AI30)) | AL30: =IF(Y30="","",IF(AND(Y30="도비",AI30="세입없음"),"OK",IF(AND(Y30<>"도비",AI30<>""),"OK","@@"))) | AN30: {=IF(D30="","",INDEX([1]구분표!$I$2:$I$311, MATCH(1,([1]구분표!$E$2:$E$311='1추일출 '!C30)*([1]구분표!$F$2:$F$311='1추일출 '!D30)*([1]구분표!$G$2:$G$311='1추일출 '!B30),0)))}
A31: =IF(A30="",A29+1,A30+1) -> 22 | L31: =J31-K31 -> 0 | O31: =L31+M31+N31 -> 0 | R31: =L31+P31+Q31 -> 0 | S31: =IF(AND((O31=0),(R31>0)),"O",IF(AND((M31<0),(O31-R31<0)),"O","X")) -> X | Z31: =IF($Y31<>"도비",IF($W31="국도비","직접입력",SUM($M31:$N31)),) -> 0 | AA31: =IF($Y31="도비",SUM($M31:$N31),IF($W31="국도비","직접입력",SUM($M31:$N31)-$Z31)) -> 0 | AB31: =IF(SUM($M31:$N31)=SUM($Z31:$AA31),"OK","검토") -> OK | AE31: =IF($Y31<>"도비",IF($W31="국도비","직접입력",SUM($P31:$Q31)),) -> 0 | AF31: =IF($Y31="도비",SUM(P31:Q31),IF($W31="국도비","직접입력",SUM(P31:Q31)-AE31)) -> 0 | AG31: =IF(SUM(P31:Q31)=SUM(AE31:AF31),"OK","검토") -> OK | AI31: =IF(Y31="","",IF(Y31="도비","세입없음","직접입력")) | AK31: =IF(AI31="","",COUNTIF($AI$7:$AI$116,AI31)) | AL31: =IF(Y31="","",IF(AND(Y31="도비",AI31="세입없음"),"OK",IF(AND(Y31<>"도비",AI31<>""),"OK","@@"))) | AN31: {=IF(D31="","",INDEX([1]구분표!$I$2:$I$311, MATCH(1,([1]구분표!$E$2:$E$311='1추일출 '!C31)*([1]구분표!$F$2:$F$311='1추일출 '!D31)*([1]구분표!$G$2:$G$311='1추일출 '!B31),0)))}
A32: =IF(A31="",A30+1,A31+1) -> 23 | L32: =J32-K32 -> 0 | O32: =L32+M32+N32 -> 0 | R32: =L32+P32+Q32 -> 0 | S32: =IF(AND((O32=0),(R32>0)),"O",IF(AND((M32<0),(O32-R32<0)),"O","X")) -> X | Z32: =IF($Y32<>"도비",IF($W32="국도비","직접입력",SUM($M32:$N32)),) -> 0 | AA32: =IF($Y32="도비",SUM($M32:$N32),IF($W32="국도비","직접입력",SUM($M32:$N32)-$Z32)) -> 0 | AB32: =IF(SUM($M32:$N32)=SUM($Z32:$AA32),"OK","검토") -> OK | AE32: =IF($Y32<>"도비",IF($W32="국도비","직접입력",SUM($P32:$Q32)),) -> 0 | AF32: =IF($Y32="도비",SUM(P32:Q32),IF($W32="국도비","직접입력",SUM(P32:Q32)-AE32)) -> 0 | AG32: =IF(SUM(P32:Q32)=SUM(AE32:AF32),"OK","검토") -> OK | AI32: =IF(Y32="","",IF(Y32="도비","세입없음","직접입력")) | AK32: =IF(AI32="","",COUNTIF($AI$7:$AI$116,AI32)) | AL32: =IF(Y32="","",IF(AND(Y32="도비",AI32="세입없음"),"OK",IF(AND(Y32<>"도비",AI32<>""),"OK","@@"))) | AN32: {=IF(D32="","",INDEX([1]구분표!$I$2:$I$311, MATCH(1,([1]구분표!$E$2:$E$311='1추일출 '!C32)*([1]구분표!$F$2:$F$311='1추일출 '!D32)*([1]구분표!$G$2:$G$311='1추일출 '!B32),0)))}
A33: =IF(A32="",A31+1,A32+1) -> 24 | L33: =J33-K33 -> 0 | O33: =L33+M33+N33 -> 0 | R33: =L33+P33+Q33 -> 0 | S33: =IF(AND((O33=0),(R33>0)),"O",IF(AND((M33<0),(O33-R33<0)),"O","X")) -> X | Z33: =IF($Y33<>"도비",IF($W33="국도비","직접입력",SUM($M33:$N33)),) -> 0 | AA33: =IF($Y33="도비",SUM($M33:$N33),IF($W33="국도비","직접입력",SUM($M33:$N33)-$Z33)) -> 0 | AB33: =IF(SUM($M33:$N33)=SUM($Z33:$AA33),"OK","검토") -> OK | AE33: =IF($Y33<>"도비",IF($W33="국도비","직접입력",SUM($P33:$Q33)),) -> 0 | AF33: =IF($Y33="도비",SUM(P33:Q33),IF($W33="국도비","직접입력",SUM(P33:Q33)-AE33)) -> 0 | AG33: =IF(SUM(P33:Q33)=SUM(AE33:AF33),"OK","검토") -> OK | AI33: =IF(Y33="","",IF(Y33="도비","세입없음","직접입력")) | AK33: =IF(AI33="","",COUNTIF($AI$7:$AI$116,AI33)) | AL33: =IF(Y33="","",IF(AND(Y33="도비",AI33="세입없음"),"OK",IF(AND(Y33<>"도비",AI33<>""),"OK","@@"))) | AN33: {=IF(D33="","",INDEX([1]구분표!$I$2:$I$311, MATCH(1,([1]구분표!$E$2:$E$311='1추일출 '!C33)*([1]구분표!$F$2:$F$311='1추일출 '!D33)*([1]구분표!$G$2:$G$311='1추일출 '!B33),0)))}
A34: =IF(A33="",A32+1,A33+1) -> 25 | L34: =J34-K34 -> 0 | O34: =L34+M34+N34 -> 0 | R34: =L34+P34+Q34 -> 0 | S34: =IF(AND((O34=0),(R34>0)),"O",IF(AND((M34<0),(O34-R34<0)),"O","X")) -> X | Z34: =IF($Y34<>"도비",IF($W34="국도비","직접입력",SUM($M34:$N34)),) -> 0 | AA34: =IF($Y34="도비",SUM($M34:$N34),IF($W34="국도비","직접입력",SUM($M34:$N34)-$Z34)) -> 0 | AB34: =IF(SUM($M34:$N34)=SUM($Z34:$AA34),"OK","검토") -> OK | AE34: =IF($Y34<>"도비",IF($W34="국도비","직접입력",SUM($P34:$Q34)),) -> 0 | AF34: =IF($Y34="도비",SUM(P34:Q34),IF($W34="국도비","직접입력",SUM(P34:Q34)-AE34)) -> 0 | AG34: =IF(SUM(P34:Q34)=SUM(AE34:AF34),"OK","검토") -> OK | AI34: =IF(Y34="","",IF(Y34="도비","세입없음","직접입력")) | AK34: =IF(AI34="","",COUNTIF($AI$7:$AI$116,AI34)) | AL34: =IF(Y34="","",IF(AND(Y34="도비",AI34="세입없음"),"OK",IF(AND(Y34<>"도비",AI34<>""),"OK","@@"))) | AN34: {=IF(D34="","",INDEX([1]구분표!$I$2:$I$311, MATCH(1,([1]구분표!$E$2:$E$311='1추일출 '!C34)*([1]구분표!$F$2:$F$311='1추일출 '!D34)*([1]구분표!$G$2:$G$311='1추일출 '!B34),0)))}
A35: =IF(A34="",A33+1,A34+1) -> 26 | L35: =J35-K35 -> 0 | O35: =L35+M35+N35 -> 0 | R35: =L35+P35+Q35 -> 0 | S35: =IF(AND((O35=0),(R35>0)),"O",IF(AND((M35<0),(O35-R35<0)),"O","X")) -> X | Z35: =IF($Y35<>"도비",IF($W35="국도비","직접입력",SUM($M35:$N35)),) -> 0 | AA35: =IF($Y35="도비",SUM($M35:$N35),IF($W35="국도비","직접입력",SUM($M35:$N35)-$Z35)) -> 0 | AB35: =IF(SUM($M35:$N35)=SUM($Z35:$AA35),"OK","검토") -> OK | AE35: =IF($Y35<>"도비",IF($W35="국도비","직접입력",SUM($P35:$Q35)),) -> 0 | AF35: =IF($Y35="도비",SUM(P35:Q35),IF($W35="국도비","직접입력",SUM(P35:Q35)-AE35)) -> 0 | AG35: =IF(SUM(P35:Q35)=SUM(AE35:AF35),"OK","검토") -> OK | AI35: =IF(Y35="","",IF(Y35="도비","세입없음","직접입력")) | AK35: =IF(AI35="","",COUNTIF($AI$7:$AI$116,AI35)) | AL35: =IF(Y35="","",IF(AND(Y35="도비",AI35="세입없음"),"OK",IF(AND(Y35<>"도비",AI35<>""),"OK","@@"))) | AN35: {=IF(D35="","",INDEX([1]구분표!$I$2:$I$311, MATCH(1,([1]구분표!$E$2:$E$311='1추일출 '!C35)*([1]구분표!$F$2:$F$311='1추일출 '!D35)*([1]구분표!$G$2:$G$311='1추일출 '!B35),0)))}
A36: =IF(A35="",A34+1,A35+1) -> 27 | L36: =J36-K36 -> 0 | O36: =L36+M36+N36 -> 0 | R36: =L36+P36+Q36 -> 0 | S36: =IF(AND((O36=0),(R36>0)),"O",IF(AND((M36<0),(O36-R36<0)),"O","X")) -> X | Z36: =IF($Y36<>"도비",IF($W36="국도비","직접입력",SUM($M36:$N36)),) -> 0 | AA36: =IF($Y36="도비",SUM($M36:$N36),IF($W36="국도비","직접입력",SUM($M36:$N36)-$Z36)) -> 0 | AB36: =IF(SUM($M36:$N36)=SUM($Z36:$AA36),"OK","검토") -> OK | AE36: =IF($Y36<>"도비",IF($W36="국도비","직접입력",SUM($P36:$Q36)),) -> 0 | AF36: =IF($Y36="도비",SUM(P36:Q36),IF($W36="국도비","직접입력",SUM(P36:Q36)-AE36)) -> 0 | AG36: =IF(SUM(P36:Q36)=SUM(AE36:AF36),"OK","검토") -> OK | AI36: =IF(Y36="","",IF(Y36="도비","세입없음","직접입력")) | AK36: =IF(AI36="","",COUNTIF($AI$7:$AI$116,AI36)) | AL36: =IF(Y36="","",IF(AND(Y36="도비",AI36="세입없음"),"OK",IF(AND(Y36<>"도비",AI36<>""),"OK","@@"))) | AN36: {=IF(D36="","",INDEX([1]구분표!$I$2:$I$311, MATCH(1,([1]구분표!$E$2:$E$311='1추일출 '!C36)*([1]구분표!$F$2:$F$311='1추일출 '!D36)*([1]구분표!$G$2:$G$311='1추일출 '!B36),0)))}
A37: =IF(A36="",A35+1,A36+1) -> 28 | L37: =J37-K37 -> 0 | O37: =L37+M37+N37 -> 0 | R37: =L37+P37+Q37 -> 0 | S37: =IF(AND((O37=0),(R37>0)),"O",IF(AND((M37<0),(O37-R37<0)),"O","X")) -> X | Z37: =IF($Y37<>"도비",IF($W37="국도비","직접입력",SUM($M37:$N37)),) -> 0 | AA37: =IF($Y37="도비",SUM($M37:$N37),IF($W37="국도비","직접입력",SUM($M37:$N37)-$Z37)) -> 0 | AB37: =IF(SUM($M37:$N37)=SUM($Z37:$AA37),"OK","검토") -> OK | AE37: =IF($Y37<>"도비",IF($W37="국도비","직접입력",SUM($P37:$Q37)),) -> 0 | AF37: =IF($Y37="도비",SUM(P37:Q37),IF($W37="국도비","직접입력",SUM(P37:Q37)-AE37)) -> 0 | AG37: =IF(SUM(P37:Q37)=SUM(AE37:AF37),"OK","검토") -> OK | AI37: =IF(Y37="","",IF(Y37="도비","세입없음","직접입력")) | AK37: =IF(AI37="","",COUNTIF($AI$7:$AI$116,AI37)) | AL37: =IF(Y37="","",IF(AND(Y37="도비",AI37="세입없음"),"OK",IF(AND(Y37<>"도비",AI37<>""),"OK","@@"))) | AN37: {=IF(D37="","",INDEX([1]구분표!$I$2:$I$311, MATCH(1,([1]구분표!$E$2:$E$311='1추일출 '!C37)*([1]구분표!$F$2:$F$311='1추일출 '!D37)*([1]구분표!$G$2:$G$311='1추일출 '!B37),0)))}
A38: =IF(A37="",A36+1,A37+1) -> 29 | L38: =J38-K38 -> 0 | O38: =L38+M38+N38 -> 0 | R38: =L38+P38+Q38 -> 0 | S38: =IF(AND((O38=0),(R38>0)),"O",IF(AND((M38<0),(O38-R38<0)),"O","X")) -> X | Z38: =IF($Y38<>"도비",IF($W38="국도비","직접입력",SUM($M38:$N38)),) -> 0 | AA38: =IF($Y38="도비",SUM($M38:$N38),IF($W38="국도비","직접입력",SUM($M38:$N38)-$Z38)) -> 0 | AB38: =IF(SUM($M38:$N38)=SUM($Z38:$AA38),"OK","검토") -> OK | AE38: =IF($Y38<>"도비",IF($W38="국도비","직접입력",SUM($P38:$Q38)),) -> 0 | AF38: =IF($Y38="도비",SUM(P38:Q38),IF($W38="국도비","직접입력",SUM(P38:Q38)-AE38)) -> 0 | AG38: =IF(SUM(P38:Q38)=SUM(AE38:AF38),"OK","검토") -> OK | AI38: =IF(Y38="","",IF(Y38="도비","세입없음","직접입력")) | AK38: =IF(AI38="","",COUNTIF($AI$7:$AI$116,AI38)) | AL38: =IF(Y38="","",IF(AND(Y38="도비",AI38="세입없음"),"OK",IF(AND(Y38<>"도비",AI38<>""),"OK","@@"))) | AN38: {=IF(D38="","",INDEX([1]구분표!$I$2:$I$311, MATCH(1,([1]구분표!$E$2:$E$311='1추일출 '!C38)*([1]구분표!$F$2:$F$311='1추일출 '!D38)*([1]구분표!$G$2:$G$311='1추일출 '!B38),0)))}
A39: =IF(A38="",A37+1,A38+1) -> 30 | L39: =J39-K39 -> 0 | O39: =L39+M39+N39 -> 0 | R39: =L39+P39+Q39 -> 0 | S39: =IF(AND((O39=0),(R39>0)),"O",IF(AND((M39<0),(O39-R39<0)),"O","X")) -> X | Z39: =IF($Y39<>"도비",IF($W39="국도비","직접입력",SUM($M39:$N39)),) -> 0 | AA39: =IF($Y39="도비",SUM($M39:$N39),IF($W39="국도비","직접입력",SUM($M39:$N39)-$Z39)) -> 0 | AB39: =IF(SUM($M39:$N39)=SUM($Z39:$AA39),"OK","검토") -> OK | AE39: =IF($Y39<>"도비",IF($W39="국도비","직접입력",SUM($P39:$Q39)),) -> 0 | AF39: =IF($Y39="도비",SUM(P39:Q39),IF($W39="국도비","직접입력",SUM(P39:Q39)-AE39)) -> 0 | AG39: =IF(SUM(P39:Q39)=SUM(AE39:AF39),"OK","검토") -> OK | AI39: =IF(Y39="","",IF(Y39="도비","세입없음","직접입력")) | AK39: =IF(AI39="","",COUNTIF($AI$7:$AI$116,AI39)) | AL39: =IF(Y39="","",IF(AND(Y39="도비",AI39="세입없음"),"OK",IF(AND(Y39<>"도비",AI39<>""),"OK","@@"))) | AN39: {=IF(D39="","",INDEX([1]구분표!$I$2:$I$311, MATCH(1,([1]구분표!$E$2:$E$311='1추일출 '!C39)*([1]구분표!$F$2:$F$311='1추일출 '!D39)*([1]구분표!$G$2:$G$311='1추일출 '!B39),0)))}
B40: (안전행정위원회) | J40: =SUBTOTAL(9,J41:J50) -> 4986500 | K40: =SUBTOTAL(9,K41:K50) -> 4786500 | L40: =SUBTOTAL(9,L41:L50) -> 200000 | M40: =SUBTOTAL(9,M41:M50) -> 0 | N40: =SUBTOTAL(9,N41:N50) -> 745000 | O40: =SUBTOTAL(9,O41:O50) -> 945000 | P40: =SUBTOTAL(9,P41:P50) -> 0 | Q40: =SUBTOTAL(9,Q41:Q50) -> 0 | R40: =SUBTOTAL(9,R41:R50) -> 200000 | Z40: =IF($Y40<>"도비",IF($W40="국도비","직접입력",SUM($M40:$N40)),) -> 745000 | AA40: =IF($Y40="도비",SUM($M40:$N40),IF($W40="국도비","직접입력",SUM($M40:$N40)-$Z40)) -> 0 | AB40: =IF(SUM($M40:$N40)=SUM($Z40:$AA40),"OK","검토") -> OK | AE40: =IF($Y40<>"도비",IF($W40="국도비","직접입력",SUM($P40:$Q40)),) -> 0 | AF40: =IF($Y40="도비",SUM(P40:Q40),IF($W40="국도비","직접입력",SUM(P40:Q40)-AE40)) -> 0 | AG40: =IF(SUM(P40:Q40)=SUM(AE40:AF40),"OK","검토") -> OK | AI40: =IF(Y40="","",IF(Y40="도비","세입없음","직접입력")) | AK40: =IF(AI40="","",COUNTIF($AI$7:$AI$116,AI40)) | AL40: =IF(Y40="","",IF(AND(Y40="도비",AI40="세입없음"),"OK",IF(AND(Y40<>"도비",AI40<>""),"OK","@@"))) | AN40: {=IF(D40="","",INDEX([1]구분표!$I$2:$I$311, MATCH(1,([1]구분표!$E$2:$E$311='1추일출 '!C40)*([1]구분표!$F$2:$F$311='1추일출 '!D40)*([1]구분표!$G$2:$G$311='1추일출 '!B40),0)))}
B41: 안전행정위원회 | C41: 자치행정국 | D41: 자치행정과 | E41: 본예산 | F41: 일반 | I41: 민간단체 공익활동 지원(자체/직접) - 비영리민간단체 공익사업 지원 | J41: 1150000 | K41: 1150000 | L41: =J41-K41 -> 0 | N41: 100000 | O41: =L41+M41+N41 -> 100000 | R41: =L41+P41+Q41 -> 0 | S41: =IF(AND((O41=0),(R41>0)),"O",IF(AND((M41<0),(O41-R41<0)),"O","X")) -> X | Z41: =IF($Y41<>"도비",IF($W41="국도비","직접입력",SUM($M41:$N41)),) -> 100000 | AA41: =IF($Y41="도비",SUM($M41:$N41),IF($W41="국도비","직접입력",SUM($M41:$N41)-$Z41)) -> 0 | AB41: =IF(SUM($M41:$N41)=SUM($Z41:$AA41),"OK","검토") -> OK | AE41: =IF($Y41<>"도비",IF($W41="국도비","직접입력",SUM($P41:$Q41)),) -> 0 | AF41: =IF($Y41="도비",SUM(P41:Q41),IF($W41="국도비","직접입력",SUM(P41:Q41)-AE41)) -> 0 | AG41: =IF(SUM(P41:Q41)=SUM(AE41:AF41),"OK","검토") -> OK | AI41: =IF(Y41="","",IF(Y41="도비","세입없음","직접입력")) | AK41: =IF(AI41="","",COUNTIF($AI$7:$AI$116,AI41)) | AL41: =IF(Y41="","",IF(AND(Y41="도비",AI41="세입없음"),"OK",IF(AND(Y41<>"도비",AI41<>""),"OK","@@"))) | AN41: {=IF(D41="","",INDEX([1]구분표!$I$2:$I$311, MATCH(1,([1]구분표!$E$2:$E$311='1추일출 '!C41)*([1]구분표!$F$2:$F$311='1추일출 '!D41)*([1]구분표!$G$2:$G$311='1추일출 '!B41),0)))} -> 10602
B42: 안전행정위원회 | C42: 자치행정국 | D42: 자치행정과 | E42: 본예산 | F42: 일반 | I42: 민간단체 공익활동 지원(자체/직접) - 제2새마을운동 활성화 연찬회 | J42: 22500 | K42: 22500 | L42: =J42-K42 -> 0 | N42: 10000 | O42: =L42+M42+N42 -> 10000 | R42: =L42+P42+Q42 -> 0 | S42: =IF(AND((O42=0),(R42>0)),"O",IF(AND((M42<0),(O42-R42<0)),"O","X")) -> X | Z42: =IF($Y42<>"도비",IF($W42="국도비","직접입력",SUM($M42:$N42)),) -> 10000 | AA42: =IF($Y42="도비",SUM($M42:$N42),IF($W42="국도비","직접입력",SUM($M42:$N42)-$Z42)) -> 0 | AB42: =IF(SUM($M42:$N42)=SUM($Z42:$AA42),"OK","검토") -> OK | AE42: =IF($Y42<>"도비",IF($W42="국도비","직접입력",SUM($P42:$Q42)),) -> 0 | AF42: =IF($Y42="도비",SUM(P42:Q42),IF($W42="국도비","직접입력",SUM(P42:Q42)-AE42)) -> 0 | AG42: =IF(SUM(P42:Q42)=SUM(AE42:AF42),"OK","검토") -> OK | AI42: =IF(Y42="","",IF(Y42="도비","세입없음","직접입력")) | AK42: =IF(AI42="","",COUNTIF($AI$7:$AI$116,AI42)) | AL42: =IF(Y42="","",IF(AND(Y42="도비",AI42="세입없음"),"OK",IF(AND(Y42<>"도비",AI42<>""),"OK","@@"))) | AN42: {=IF(D42="","",INDEX([1]구분표!$I$2:$I$311, MATCH(1,([1]구분표!$E$2:$E$311='1추일출 '!C42)*([1]구분표!$F$2:$F$311='1추일출 '!D42)*([1]구분표!$G$2:$G$311='1추일출 '!B42),0)))} -> 10602
B43: 안전행정위원회 | C43: 자치행정국 | D43: 자치행정과 | E43: 본예산 | F43: 일반 | I43: 민간단체 공익활동 지원(자체/직접) - 새마을회관 개보수 및 기능보강 | J43: 125000 | K43: 125000 | L43: =J43-K43 -> 0 | N43: 375000 | O43: =L43+M43+N43 -> 375000 | R43: =L43+P43+Q43 -> 0 | S43: =IF(AND((O43=0),(R43>0)),"O",IF(AND((M43<0),(O43-R43<0)),"O","X")) -> X | Z43: =IF($Y43<>"도비",IF($W43="국도비","직접입력",SUM($M43:$N43)),) -> 375000 | AA43: =IF($Y43="도비",SUM($M43:$N43),IF($W43="국도비","직접입력",SUM($M43:$N43)-$Z43)) -> 0 | AB43: =IF(SUM($M43:$N43)=SUM($Z43:$AA43),"OK","검토") -> OK | AE43: =IF($Y43<>"도비",IF($W43="국도비","직접입력",SUM($P43:$Q43)),) -> 0 | AF43: =IF($Y43="도비",SUM(P43:Q43),IF($W43="국도비","직접입력",SUM(P43:Q43)-AE43)) -> 0 | AG43: =IF(SUM(P43:Q43)=SUM(AE43:AF43),"OK","검토") -> OK | AI43: =IF(Y43="","",IF(Y43="도비","세입없음","직접입력")) | AK43: =IF(AI43="","",COUNTIF($AI$7:$AI$116,AI43)) | AL43: =IF(Y43="","",IF(AND(Y43="도비",AI43="세입없음"),"OK",IF(AND(Y43<>"도비",AI43<>""),"OK","@@"))) | AN43: {=IF(D43="","",INDEX([1]구분표!$I$2:$I$311, MATCH(1,([1]구분표!$E$2:$E$311='1추일출 '!C43)*([1]구분표!$F$2:$F$311='1추일출 '!D43)*([1]구분표!$G$2:$G$311='1추일출 '!B43),0)))} -> 10602
B44: 안전행정위원회 | C44: 자치행정국 | D44: 자치행정과 | E44: 1회추경 | F44: 일반 | G44: 337 | H44: 37 | I44: 자원봉사 활성화 기반구축(자체/직접) - 경기도자원봉사센터 지원 | J44: 3689000 | K44: 3489000 | L44: =J44-K44 -> 200000 | N44: 260000 | O44: =L44+M44+N44 -> 460000 | R44: =L44+P44+Q44 -> 200000 | S44: =IF(AND((O44=0),(R44>0)),"O",IF(AND((M44<0),(O44-R44<0)),"O","X")) -> X | Z44: =IF($Y44<>"도비",IF($W44="국도비","직접입력",SUM($M44:$N44)),) -> 260000 | AA44: =IF($Y44="도비",SUM($M44:$N44),IF($W44="국도비","직접입력",SUM($M44:$N44)-$Z44)) -> 0 | AB44: =IF(SUM($M44:$N44)=SUM($Z44:$AA44),"OK","검토") -> OK | AE44: =IF($Y44<>"도비",IF($W44="국도비","직접입력",SUM($P44:$Q44)),) -> 0 | AF44: =IF($Y44="도비",SUM(P44:Q44),IF($W44="국도비","직접입력",SUM(P44:Q44)-AE44)) -> 0 | AG44: =IF(SUM(P44:Q44)=SUM(AE44:AF44),"OK","검토") -> OK | AI44: =IF(Y44="","",IF(Y44="도비","세입없음","직접입력")) | AK44: =IF(AI44="","",COUNTIF($AI$7:$AI$116,AI44)) | AL44: =IF(Y44="","",IF(AND(Y44="도비",AI44="세입없음"),"OK",IF(AND(Y44<>"도비",AI44<>""),"OK","@@"))) | AN44: {=IF(D44="","",INDEX([1]구분표!$I$2:$I$311, MATCH(1,([1]구분표!$E$2:$E$311='1추일출 '!C44)*([1]구분표!$F$2:$F$311='1추일출 '!D44)*([1]구분표!$G$2:$G$311='1추일출 '!B44),0)))} -> 10602
A45: =IF(A44="",A43+1,A44+1) -> 1 | L45: =J45-K45 -> 0 | O45: =L45+M45+N45 -> 0 | R45: =L45+P45+Q45 -> 0 | S45: =IF(AND((O45=0),(R45>0)),"O",IF(AND((M45<0),(O45-R45<0)),"O","X")) -> X | Z45: =IF($Y45<>"도비",IF($W45="국도비","직접입력",SUM($M45:$N45)),) -> 0 | AA45: =IF($Y45="도비",SUM($M45:$N45),IF($W45="국도비","직접입력",SUM($M45:$N45)-$Z45)) -> 0 | AB45: =IF(SUM($M45:$N45)=SUM($Z45:$AA45),"OK","검토") -> OK | AE45: =IF($Y45<>"도비",IF($W45="국도비","직접입력",SUM($P45:$Q45)),) -> 0 | AF45: =IF($Y45="도비",SUM(P45:Q45),IF($W45="국도비","직접입력",SUM(P45:Q45)-AE45)) -> 0 | AG45: =IF(SUM(P45:Q45)=SUM(AE45:AF45),"OK","검토") -> OK | AI45: =IF(Y45="","",IF(Y45="도비","세입없음","직접입력")) | AK45: =IF(AI45="","",COUNTIF($AI$7:$AI$116,AI45)) | AL45: =IF(Y45="","",IF(AND(Y45="도비",AI45="세입없음"),"OK",IF(AND(Y45<>"도비",AI45<>""),"OK","@@"))) | AN45: {=IF(D45="","",INDEX([1]구분표!$I$2:$I$311, MATCH(1,([1]구분표!$E$2:$E$311='1추일출 '!C45)*([1]구분표!$F$2:$F$311='1추일출 '!D45)*([1]구분표!$G$2:$G$311='1추일출 '!B45),0)))}
A46: =IF(A45="",A44+1,A45+1) -> 2 | L46: =J46-K46 -> 0 | O46: =L46+M46+N46 -> 0 | R46: =L46+P46+Q46 -> 0 | S46: =IF(AND((O46=0),(R46>0)),"O",IF(AND((M46<0),(O46-R46<0)),"O","X")) -> X | Z46: =IF($Y46<>"도비",IF($W46="국도비","직접입력",SUM($M46:$N46)),) -> 0 | AA46: =IF($Y46="도비",SUM($M46:$N46),IF($W46="국도비","직접입력",SUM($M46:$N46)-$Z46)) -> 0 | AB46: =IF(SUM($M46:$N46)=SUM($Z46:$AA46),"OK","검토") -> OK | AE46: =IF($Y46<>"도비",IF($W46="국도비","직접입력",SUM($P46:$Q46)),) -> 0 | AF46: =IF($Y46="도비",SUM(P46:Q46),IF($W46="국도비","직접입력",SUM(P46:Q46)-AE46)) -> 0 | AG46: =IF(SUM(P46:Q46)=SUM(AE46:AF46),"OK","검토") -> OK | AI46: =IF(Y46="","",IF(Y46="도비","세입없음","직접입력")) | AK46: =IF(AI46="","",COUNTIF($AI$7:$AI$116,AI46)) | AL46: =IF(Y46="","",IF(AND(Y46="도비",AI46="세입없음"),"OK",IF(AND(Y46<>"도비",AI46<>""),"OK","@@"))) | AN46: {=IF(D46="","",INDEX([1]구분표!$I$2:$I$311, MATCH(1,([1]구분표!$E$2:$E$311='1추일출 '!C46)*([1]구분표!$F$2:$F$311='1추일출 '!D46)*([1]구분표!$G$2:$G$311='1추일출 '!B46),0)))}
A47: =IF(A46="",A45+1,A46+1) -> 3 | L47: =J47-K47 -> 0 | O47: =L47+M47+N47 -> 0 | R47: =L47+P47+Q47 -> 0 | S47: =IF(AND((O47=0),(R47>0)),"O",IF(AND((M47<0),(O47-R47<0)),"O","X")) -> X | Z47: =IF($Y47<>"도비",IF($W47="국도비","직접입력",SUM($M47:$N47)),) -> 0 | AA47: =IF($Y47="도비",SUM($M47:$N47),IF($W47="국도비","직접입력",SUM($M47:$N47)-$Z47)) -> 0 | AB47: =IF(SUM($M47:$N47)=SUM($Z47:$AA47),"OK","검토") -> OK | AE47: =IF($Y47<>"도비",IF($W47="국도비","직접입력",SUM($P47:$Q47)),) -> 0 | AF47: =IF($Y47="도비",SUM(P47:Q47),IF($W47="국도비","직접입력",SUM(P47:Q47)-AE47)) -> 0 | AG47: =IF(SUM(P47:Q47)=SUM(AE47:AF47),"OK","검토") -> OK | AI47: =IF(Y47="","",IF(Y47="도비","세입없음","직접입력")) | AK47: =IF(AI47="","",COUNTIF($AI$7:$AI$116,AI47)) | AL47: =IF(Y47="","",IF(AND(Y47="도비",AI47="세입없음"),"OK",IF(AND(Y47<>"도비",AI47<>""),"OK","@@"))) | AN47: {=IF(D47="","",INDEX([1]구분표!$I$2:$I$311, MATCH(1,([1]구분표!$E$2:$E$311='1추일출 '!C47)*([1]구분표!$F$2:$F$311='1추일출 '!D47)*([1]구분표!$G$2:$G$311='1추일출 '!B47),0)))}
A48: =IF(A47="",A46+1,A47+1) -> 4 | L48: =J48-K48 -> 0 | O48: =L48+M48+N48 -> 0 | R48: =L48+P48+Q48 -> 0 | S48: =IF(AND((O48=0),(R48>0)),"O",IF(AND((M48<0),(O48-R48<0)),"O","X")) -> X | Z48: =IF($Y48<>"도비",IF($W48="국도비","직접입력",SUM($M48:$N48)),) -> 0 | AA48: =IF($Y48="도비",SUM($M48:$N48),IF($W48="국도비","직접입력",SUM($M48:$N48)-$Z48)) -> 0 | AB48: =IF(SUM($M48:$N48)=SUM($Z48:$AA48),"OK","검토") -> OK | AE48: =IF($Y48<>"도비",IF($W48="국도비","직접입력",SUM($P48:$Q48)),) -> 0 | AF48: =IF($Y48="도비",SUM(P48:Q48),IF($W48="국도비","직접입력",SUM(P48:Q48)-AE48)) -> 0 | AG48: =IF(SUM(P48:Q48)=SUM(AE48:AF48),"OK","검토") -> OK | AI48: =IF(Y48="","",IF(Y48="도비","세입없음","직접입력")) | AK48: =IF(AI48="","",COUNTIF($AI$7:$AI$116,AI48)) | AL48: =IF(Y48="","",IF(AND(Y48="도비",AI48="세입없음"),"OK",IF(AND(Y48<>"도비",AI48<>""),"OK","@@"))) | AN48: {=IF(D48="","",INDEX([1]구분표!$I$2:$I$311, MATCH(1,([1]구분표!$E$2:$E$311='1추일출 '!C48)*([1]구분표!$F$2:$F$311='1추일출 '!D48)*([1]구분표!$G$2:$G$311='1추일출 '!B48),0)))}
A49: =IF(A48="",A47+1,A48+1) -> 5 | L49: =J49-K49 -> 0 | O49: =L49+M49+N49 -> 0 | R49: =L49+P49+Q49 -> 0 | S49: =IF(AND((O49=0),(R49>0)),"O",IF(AND((M49<0),(O49-R49<0)),"O","X")) -> X | Z49: =IF($Y49<>"도비",IF($W49="국도비","직접입력",SUM($M49:$N49)),) -> 0 | AA49: =IF($Y49="도비",SUM($M49:$N49),IF($W49="국도비","직접입력",SUM($M49:$N49)-$Z49)) -> 0 | AB49: =IF(SUM($M49:$N49)=SUM($Z49:$AA49),"OK","검토") -> OK | AE49: =IF($Y49<>"도비",IF($W49="국도비","직접입력",SUM($P49:$Q49)),) -> 0 | AF49: =IF($Y49="도비",SUM(P49:Q49),IF($W49="국도비","직접입력",SUM(P49:Q49)-AE49)) -> 0 | AG49: =IF(SUM(P49:Q49)=SUM(AE49:AF49),"OK","검토") -> OK | AI49: =IF(Y49="","",IF(Y49="도비","세입없음","직접입력")) | AK49: =IF(AI49="","",COUNTIF($AI$7:$AI$116,AI49)) | AL49: =IF(Y49="","",IF(AND(Y49="도비",AI49="세입없음"),"OK",IF(AND(Y49<>"도비",AI49<>""),"OK","@@"))) | AN49: {=IF(D49="","",INDEX([1]구분표!$I$2:$I$311, MATCH(1,([1]구분표!$E$2:$E$311='1추일출 '!C49)*([1]구분표!$F$2:$F$311='1추일출 '!D49)*([1]구분표!$G$2:$G$311='1추일출 '!B49),0)))}
A50: =IF(A49="",A48+1,A49+1) -> 6 | L50: =J50-K50 -> 0 | O50: =L50+M50+N50 -> 0 | R50: =L50+P50+Q50 -> 0 | S50: =IF(AND((O50=0),(R50>0)),"O",IF(AND((M50<0),(O50-R50<0)),"O","X")) -> X | Z50: =IF($Y50<>"도비",IF($W50="국도비","직접입력",SUM($M50:$N50)),) -> 0 | AA50: =IF($Y50="도비",SUM($M50:$N50),IF($W50="국도비","직접입력",SUM($M50:$N50)-$Z50)) -> 0 | AB50: =IF(SUM($M50:$N50)=SUM($Z50:$AA50),"OK","검토") -> OK | AE50: =IF($Y50<>"도비",IF($W50="국도비","직접입력",SUM($P50:$Q50)),) -> 0 | AF50: =IF($Y50="도비",SUM(P50:Q50),IF($W50="국도비","직접입력",SUM(P50:Q50)-AE50)) -> 0 | AG50: =IF(SUM(P50:Q50)=SUM(AE50:AF50),"OK","검토") -> OK | AI50: =IF(Y50="","",IF(Y50="도비","세입없음","직접입력")) | AK50: =IF(AI50="","",COUNTIF($AI$7:$AI$116,AI50)) | AL50: =IF(Y50="","",IF(AND(Y50="도비",AI50="세입없음"),"OK",IF(AND(Y50<>"도비",AI50<>""),"OK","@@"))) | AN50: {=IF(D50="","",INDEX([1]구분표!$I$2:$I$311, MATCH(1,([1]구분표!$E$2:$E$311='1추일출 '!C50)*([1]구분표!$F$2:$F$311='1추일출 '!D50)*([1]구분표!$G$2:$G$311='1추일출 '!B50),0)))}
B51: (문화체육관광위원회) | J51: =SUBTOTAL(9,J52:J61) -> 0 | K51: =SUBTOTAL(9,K52:K61) -> 0 | L51: =SUBTOTAL(9,L52:L61) -> 0 | M51: =SUBTOTAL(9,M52:M61) -> 0 | N51: =SUBTOTAL(9,N52:N61) -> 0 | O51: =SUBTOTAL(9,O52:O61) -> 0 | P51: =SUBTOTAL(9,P52:P61) -> 0 | Q51: =SUBTOTAL(9,Q52:Q61) -> 0 | R51: =SUBTOTAL(9,R52:R61) -> 0 | Z51: =IF($Y51<>"도비",IF($W51="국도비","직접입력",SUM($M51:$N51)),) -> 0 | AA51: =IF($Y51="도비",SUM($M51:$N51),IF($W51="국도비","직접입력",SUM($M51:$N51)-$Z51)) -> 0 | AB51: =IF(SUM($M51:$N51)=SUM($Z51:$AA51),"OK","검토") -> OK | AE51: =IF($Y51<>"도비",IF($W51="국도비","직접입력",SUM($P51:$Q51)),) -> 0 | AF51: =IF($Y51="도비",SUM(P51:Q51),IF($W51="국도비","직접입력",SUM(P51:Q51)-AE51)) -> 0 | AG51: =IF(SUM(P51:Q51)=SUM(AE51:AF51),"OK","검토") -> OK | AI51: =IF(Y51="","",IF(Y51="도비","세입없음","직접입력")) | AK51: =IF(AI51="","",COUNTIF($AI$7:$AI$116,AI51)) | AL51: =IF(Y51="","",IF(AND(Y51="도비",AI51="세입없음"),"OK",IF(AND(Y51<>"도비",AI51<>""),"OK","@@"))) | AN51: {=IF(D51="","",INDEX([1]구분표!$I$2:$I$311, MATCH(1,([1]구분표!$E$2:$E$311='1추일출 '!C51)*([1]구분표!$F$2:$F$311='1추일출 '!D51)*([1]구분표!$G$2:$G$311='1추일출 '!B51),0)))}
A52: =IF(A51="",A50+1,A51+1) -> 7 | L52: =J52-K52 -> 0 | O52: =L52+M52+N52 -> 0 | R52: =L52+P52+Q52 -> 0 | S52: =IF(AND((O52=0),(R52>0)),"O",IF(AND((M52<0),(O52-R52<0)),"O","X")) -> X | Z52: =IF($Y52<>"도비",IF($W52="국도비","직접입력",SUM($M52:$N52)),) -> 0 | AA52: =IF($Y52="도비",SUM($M52:$N52),IF($W52="국도비","직접입력",SUM($M52:$N52)-$Z52)) -> 0 | AB52: =IF(SUM($M52:$N52)=SUM($Z52:$AA52),"OK","검토") -> OK | AE52: =IF($Y52<>"도비",IF($W52="국도비","직접입력",SUM($P52:$Q52)),) -> 0 | AF52: =IF($Y52="도비",SUM(P52:Q52),IF($W52="국도비","직접입력",SUM(P52:Q52)-AE52)) -> 0 | AG52: =IF(SUM(P52:Q52)=SUM(AE52:AF52),"OK","검토") -> OK | AI52: =IF(Y52="","",IF(Y52="도비","세입없음","직접입력")) | AK52: =IF(AI52="","",COUNTIF($AI$7:$AI$116,AI52)) | AL52: =IF(Y52="","",IF(AND(Y52="도비",AI52="세입없음"),"OK",IF(AND(Y52<>"도비",AI52<>""),"OK","@@"))) | AN52: {=IF(D52="","",INDEX([1]구분표!$I$2:$I$311, MATCH(1,([1]구분표!$E$2:$E$311='1추일출 '!C52)*([1]구분표!$F$2:$F$311='1추일출 '!D52)*([1]구분표!$G$2:$G$311='1추일출 '!B52),0)))}
A53: =IF(A52="",A51+1,A52+1) -> 8 | L53: =J53-K53 -> 0 | O53: =L53+M53+N53 -> 0 | R53: =L53+P53+Q53 -> 0 | S53: =IF(AND((O53=0),(R53>0)),"O",IF(AND((M53<0),(O53-R53<0)),"O","X")) -> X | Z53: =IF($Y53<>"도비",IF($W53="국도비","직접입력",SUM($M53:$N53)),) -> 0 | AA53: =IF($Y53="도비",SUM($M53:$N53),IF($W53="국도비","직접입력",SUM($M53:$N53)-$Z53)) -> 0 | AB53: =IF(SUM($M53:$N53)=SUM($Z53:$AA53),"OK","검토") -> OK | AE53: =IF($Y53<>"도비",IF($W53="국도비","직접입력",SUM($P53:$Q53)),) -> 0 | AF53: =IF($Y53="도비",SUM(P53:Q53),IF($W53="국도비","직접입력",SUM(P53:Q53)-AE53)) -> 0 | AG53: =IF(SUM(P53:Q53)=SUM(AE53:AF53),"OK","검토") -> OK | AI53: =IF(Y53="","",IF(Y53="도비","세입없음","직접입력")) | AK53: =IF(AI53="","",COUNTIF($AI$7:$AI$116,AI53)) | AL53: =IF(Y53="","",IF(AND(Y53="도비",AI53="세입없음"),"OK",IF(AND(Y53<>"도비",AI53<>""),"OK","@@"))) | AN53: {=IF(D53="","",INDEX([1]구분표!$I$2:$I$311, MATCH(1,([1]구분표!$E$2:$E$311='1추일출 '!C53)*([1]구분표!$F$2:$F$311='1추일출 '!D53)*([1]구분표!$G$2:$G$311='1추일출 '!B53),0)))}
A54: =IF(A53="",A52+1,A53+1) -> 9 | L54: =J54-K54 -> 0 | O54: =L54+M54+N54 -> 0 | R54: =L54+P54+Q54 -> 0 | S54: =IF(AND((O54=0),(R54>0)),"O",IF(AND((M54<0),(O54-R54<0)),"O","X")) -> X | Z54: =IF($Y54<>"도비",IF($W54="국도비","직접입력",SUM($M54:$N54)),) -> 0 | AA54: =IF($Y54="도비",SUM($M54:$N54),IF($W54="국도비","직접입력",SUM($M54:$N54)-$Z54)) -> 0 | AB54: =IF(SUM($M54:$N54)=SUM($Z54:$AA54),"OK","검토") -> OK | AE54: =IF($Y54<>"도비",IF($W54="국도비","직접입력",SUM($P54:$Q54)),) -> 0 | AF54: =IF($Y54="도비",SUM(P54:Q54),IF($W54="국도비","직접입력",SUM(P54:Q54)-AE54)) -> 0 | AG54: =IF(SUM(P54:Q54)=SUM(AE54:AF54),"OK","검토") -> OK | AI54: =IF(Y54="","",IF(Y54="도비","세입없음","직접입력")) | AK54: =IF(AI54="","",COUNTIF($AI$7:$AI$116,AI54)) | AL54: =IF(Y54="","",IF(AND(Y54="도비",AI54="세입없음"),"OK",IF(AND(Y54<>"도비",AI54<>""),"OK","@@"))) | AN54: {=IF(D54="","",INDEX([1]구분표!$I$2:$I$311, MATCH(1,([1]구분표!$E$2:$E$311='1추일출 '!C54)*([1]구분표!$F$2:$F$311='1추일출 '!D54)*([1]구분표!$G$2:$G$311='1추일출 '!B54),0)))}
A55: =IF(A54="",A53+1,A54+1) -> 10 | L55: =J55-K55 -> 0 | O55: =L55+M55+N55 -> 0 | R55: =L55+P55+Q55 -> 0 | S55: =IF(AND((O55=0),(R55>0)),"O",IF(AND((M55<0),(O55-R55<0)),"O","X")) -> X | Z55: =IF($Y55<>"도비",IF($W55="국도비","직접입력",SUM($M55:$N55)),) -> 0 | AA55: =IF($Y55="도비",SUM($M55:$N55),IF($W55="국도비","직접입력",SUM($M55:$N55)-$Z55)) -> 0 | AB55: =IF(SUM($M55:$N55)=SUM($Z55:$AA55),"OK","검토") -> OK | AE55: =IF($Y55<>"도비",IF($W55="국도비","직접입력",SUM($P55:$Q55)),) -> 0 | AF55: =IF($Y55="도비",SUM(P55:Q55),IF($W55="국도비","직접입력",SUM(P55:Q55)-AE55)) -> 0 | AG55: =IF(SUM(P55:Q55)=SUM(AE55:AF55),"OK","검토") -> OK | AI55: =IF(Y55="","",IF(Y55="도비","세입없음","직접입력")) | AK55: =IF(AI55="","",COUNTIF($AI$7:$AI$116,AI55)) | AL55: =IF(Y55="","",IF(AND(Y55="도비",AI55="세입없음"),"OK",IF(AND(Y55<>"도비",AI55<>""),"OK","@@"))) | AN55: {=IF(D55="","",INDEX([1]구분표!$I$2:$I$311, MATCH(1,([1]구분표!$E$2:$E$311='1추일출 '!C55)*([1]구분표!$F$2:$F$311='1추일출 '!D55)*([1]구분표!$G$2:$G$311='1추일출 '!B55),0)))}
A56: =IF(A55="",A54+1,A55+1) -> 11 | L56: =J56-K56 -> 0 | O56: =L56+M56+N56 -> 0 | R56: =L56+P56+Q56 -> 0 | S56: =IF(AND((O56=0),(R56>0)),"O",IF(AND((M56<0),(O56-R56<0)),"O","X")) -> X | Z56: =IF($Y56<>"도비",IF($W56="국도비","직접입력",SUM($M56:$N56)),) -> 0 | AA56: =IF($Y56="도비",SUM($M56:$N56),IF($W56="국도비","직접입력",SUM($M56:$N56)-$Z56)) -> 0 | AB56: =IF(SUM($M56:$N56)=SUM($Z56:$AA56),"OK","검토") -> OK | AE56: =IF($Y56<>"도비",IF($W56="국도비","직접입력",SUM($P56:$Q56)),) -> 0 | AF56: =IF($Y56="도비",SUM(P56:Q56),IF($W56="국도비","직접입력",SUM(P56:Q56)-AE56)) -> 0 | AG56: =IF(SUM(P56:Q56)=SUM(AE56:AF56),"OK","검토") -> OK | AI56: =IF(Y56="","",IF(Y56="도비","세입없음","직접입력")) | AK56: =IF(AI56="","",COUNTIF($AI$7:$AI$116,AI56)) | AL56: =IF(Y56="","",IF(AND(Y56="도비",AI56="세입없음"),"OK",IF(AND(Y56<>"도비",AI56<>""),"OK","@@"))) | AN56: {=IF(D56="","",INDEX([1]구분표!$I$2:$I$311, MATCH(1,([1]구분표!$E$2:$E$311='1추일출 '!C56)*([1]구분표!$F$2:$F$311='1추일출 '!D56)*([1]구분표!$G$2:$G$311='1추일출 '!B56),0)))}
A57: =IF(A56="",A55+1,A56+1) -> 12 | L57: =J57-K57 -> 0 | O57: =L57+M57+N57 -> 0 | R57: =L57+P57+Q57 -> 0 | S57: =IF(AND((O57=0),(R57>0)),"O",IF(AND((M57<0),(O57-R57<0)),"O","X")) -> X | Z57: =IF($Y57<>"도비",IF($W57="국도비","직접입력",SUM($M57:$N57)),) -> 0 | AA57: =IF($Y57="도비",SUM($M57:$N57),IF($W57="국도비","직접입력",SUM($M57:$N57)-$Z57)) -> 0 | AB57: =IF(SUM($M57:$N57)=SUM($Z57:$AA57),"OK","검토") -> OK | AE57: =IF($Y57<>"도비",IF($W57="국도비","직접입력",SUM($P57:$Q57)),) -> 0 | AF57: =IF($Y57="도비",SUM(P57:Q57),IF($W57="국도비","직접입력",SUM(P57:Q57)-AE57)) -> 0 | AG57: =IF(SUM(P57:Q57)=SUM(AE57:AF57),"OK","검토") -> OK | AI57: =IF(Y57="","",IF(Y57="도비","세입없음","직접입력")) | AK57: =IF(AI57="","",COUNTIF($AI$7:$AI$116,AI57)) | AL57: =IF(Y57="","",IF(AND(Y57="도비",AI57="세입없음"),"OK",IF(AND(Y57<>"도비",AI57<>""),"OK","@@"))) | AN57: {=IF(D57="","",INDEX([1]구분표!$I$2:$I$311, MATCH(1,([1]구분표!$E$2:$E$311='1추일출 '!C57)*([1]구분표!$F$2:$F$311='1추일출 '!D57)*([1]구분표!$G$2:$G$311='1추일출 '!B57),0)))}
A58: =IF(A57="",A56+1,A57+1) -> 13 | L58: =J58-K58 -> 0 | O58: =L58+M58+N58 -> 0 | R58: =L58+P58+Q58 -> 0 | S58: =IF(AND((O58=0),(R58>0)),"O",IF(AND((M58<0),(O58-R58<0)),"O","X")) -> X | Z58: =IF($Y58<>"도비",IF($W58="국도비","직접입력",SUM($M58:$N58)),) -> 0 | AA58: =IF($Y58="도비",SUM($M58:$N58),IF($W58="국도비","직접입력",SUM($M58:$N58)-$Z58)) -> 0 | AB58: =IF(SUM($M58:$N58)=SUM($Z58:$AA58),"OK","검토") -> OK | AE58: =IF($Y58<>"도비",IF($W58="국도비","직접입력",SUM($P58:$Q58)),) -> 0 | AF58: =IF($Y58="도비",SUM(P58:Q58),IF($W58="국도비","직접입력",SUM(P58:Q58)-AE58)) -> 0 | AG58: =IF(SUM(P58:Q58)=SUM(AE58:AF58),"OK","검토") -> OK | AI58: =IF(Y58="","",IF(Y58="도비","세입없음","직접입력")) | AK58: =IF(AI58="","",COUNTIF($AI$7:$AI$116,AI58)) | AL58: =IF(Y58="","",IF(AND(Y58="도비",AI58="세입없음"),"OK",IF(AND(Y58<>"도비",AI58<>""),"OK","@@"))) | AN58: {=IF(D58="","",INDEX([1]구분표!$I$2:$I$311, MATCH(1,([1]구분표!$E$2:$E$311='1추일출 '!C58)*([1]구분표!$F$2:$F$311='1추일출 '!D58)*([1]구분표!$G$2:$G$311='1추일출 '!B58),0)))}
A59: =IF(A58="",A57+1,A58+1) -> 14 | L59: =J59-K59 -> 0 | O59: =L59+M59+N59 -> 0 | R59: =L59+P59+Q59 -> 0 | S59: =IF(AND((O59=0),(R59>0)),"O",IF(AND((M59<0),(O59-R59<0)),"O","X")) -> X | Z59: =IF($Y59<>"도비",IF($W59="국도비","직접입력",SUM($M59:$N59)),) -> 0 | AA59: =IF($Y59="도비",SUM($M59:$N59),IF($W59="국도비","직접입력",SUM($M59:$N59)-$Z59)) -> 0 | AB59: =IF(SUM($M59:$N59)=SUM($Z59:$AA59),"OK","검토") -> OK | AE59: =IF($Y59<>"도비",IF($W59="국도비","직접입력",SUM($P59:$Q59)),) -> 0 | AF59: =IF($Y59="도비",SUM(P59:Q59),IF($W59="국도비","직접입력",SUM(P59:Q59)-AE59)) -> 0 | AG59: =IF(SUM(P59:Q59)=SUM(AE59:AF59),"OK","검토") -> OK | AI59: =IF(Y59="","",IF(Y59="도비","세입없음","직접입력")) | AK59: =IF(AI59="","",COUNTIF($AI$7:$AI$116,AI59)) | AL59: =IF(Y59="","",IF(AND(Y59="도비",AI59="세입없음"),"OK",IF(AND(Y59<>"도비",AI59<>""),"OK","@@"))) | AN59: {=IF(D59="","",INDEX([1]구분표!$I$2:$I$311, MATCH(1,([1]구분표!$E$2:$E$311='1추일출 '!C59)*([1]구분표!$F$2:$F$311='1추일출 '!D59)*([1]구분표!$G$2:$G$311='1추일출 '!B59),0)))}
A60: =IF(A59="",A58+1,A59+1) -> 15 | L60: =J60-K60 -> 0 | O60: =L60+M60+N60 -> 0 | R60: =L60+P60+Q60 -> 0 | S60: =IF(AND((O60=0),(R60>0)),"O",IF(AND((M60<0),(O60-R60<0)),"O","X")) -> X | Z60: =IF($Y60<>"도비",IF($W60="국도비","직접입력",SUM($M60:$N60)),) -> 0 | AA60: =IF($Y60="도비",SUM($M60:$N60),IF($W60="국도비","직접입력",SUM($M60:$N60)-$Z60)) -> 0 | AB60: =IF(SUM($M60:$N60)=SUM($Z60:$AA60),"OK","검토") -> OK | AE60: =IF($Y60<>"도비",IF($W60="국도비","직접입력",SUM($P60:$Q60)),) -> 0 | AF60: =IF($Y60="도비",SUM(P60:Q60),IF($W60="국도비","직접입력",SUM(P60:Q60)-AE60)) -> 0 | AG60: =IF(SUM(P60:Q60)=SUM(AE60:AF60),"OK","검토") -> OK | AI60: =IF(Y60="","",IF(Y60="도비","세입없음","직접입력")) | AK60: =IF(AI60="","",COUNTIF($AI$7:$AI$116,AI60)) | AL60: =IF(Y60="","",IF(AND(Y60="도비",AI60="세입없음"),"OK",IF(AND(Y60<>"도비",AI60<>""),"OK","@@"))) | AN60: {=IF(D60="","",INDEX([1]구분표!$I$2:$I$311, MATCH(1,([1]구분표!$E$2:$E$311='1추일출 '!C60)*([1]구분표!$F$2:$F$311='1추일출 '!D60)*([1]구분표!$G$2:$G$311='1추일출 '!B60),0)))}
A61: =IF(A60="",A59+1,A60+1) -> 16 | L61: =J61-K61 -> 0 | O61: =L61+M61+N61 -> 0 | R61: =L61+P61+Q61 -> 0 | S61: =IF(AND((O61=0),(R61>0)),"O",IF(AND((M61<0),(O61-R61<0)),"O","X")) -> X | Z61: =IF($Y61<>"도비",IF($W61="국도비","직접입력",SUM($M61:$N61)),) -> 0 | AA61: =IF($Y61="도비",SUM($M61:$N61),IF($W61="국도비","직접입력",SUM($M61:$N61)-$Z61)) -> 0 | AB61: =IF(SUM($M61:$N61)=SUM($Z61:$AA61),"OK","검토") -> OK | AE61: =IF($Y61<>"도비",IF($W61="국도비","직접입력",SUM($P61:$Q61)),) -> 0 | AF61: =IF($Y61="도비",SUM(P61:Q61),IF($W61="국도비","직접입력",SUM(P61:Q61)-AE61)) -> 0 | AG61: =IF(SUM(P61:Q61)=SUM(AE61:AF61),"OK","검토") -> OK | AI61: =IF(Y61="","",IF(Y61="도비","세입없음","직접입력")) | AK61: =IF(AI61="","",COUNTIF($AI$7:$AI$116,AI61)) | AL61: =IF(Y61="","",IF(AND(Y61="도비",AI61="세입없음"),"OK",IF(AND(Y61<>"도비",AI61<>""),"OK","@@"))) | AN61: {=IF(D61="","",INDEX([1]구분표!$I$2:$I$311, MATCH(1,([1]구분표!$E$2:$E$311='1추일출 '!C61)*([1]구분표!$F$2:$F$311='1추일출 '!D61)*([1]구분표!$G$2:$G$311='1추일출 '!B61),0)))}
B62: (농정해양위원회) | J62: =SUBTOTAL(9,J63:J72) -> 0 | K62: =SUBTOTAL(9,K63:K72) -> 0 | L62: =SUBTOTAL(9,L63:L72) -> 0 | M62: =SUBTOTAL(9,M63:M72) -> 0 | N62: =SUBTOTAL(9,N63:N72) -> 0 | O62: =SUBTOTAL(9,O63:O72) -> 0 | P62: =SUBTOTAL(9,P63:P72) -> 0 | Q62: =SUBTOTAL(9,Q63:Q72) -> 0 | R62: =SUBTOTAL(9,R63:R72) -> 0 | Z62: =IF($Y62<>"도비",IF($W62="국도비","직접입력",SUM($M62:$N62)),) -> 0 | AA62: =IF($Y62="도비",SUM($M62:$N62),IF($W62="국도비","직접입력",SUM($M62:$N62)-$Z62)) -> 0 | AB62: =IF(SUM($M62:$N62)=SUM($Z62:$AA62),"OK","검토") -> OK | AE62: =IF($Y62<>"도비",IF($W62="국도비","직접입력",SUM($P62:$Q62)),) -> 0 | AF62: =IF($Y62="도비",SUM(P62:Q62),IF($W62="국도비","직접입력",SUM(P62:Q62)-AE62)) -> 0 | AG62: =IF(SUM(P62:Q62)=SUM(AE62:AF62),"OK","검토") -> OK | AI62: =IF(Y62="","",IF(Y62="도비","세입없음","직접입력")) | AK62: =IF(AI62="","",COUNTIF($AI$7:$AI$116,AI62)) | AL62: =IF(Y62="","",IF(AND(Y62="도비",AI62="세입없음"),"OK",IF(AND(Y62<>"도비",AI62<>""),"OK","@@"))) | AN62: {=IF(D62="","",INDEX([1]구분표!$I$2:$I$311, MATCH(1,([1]구분표!$E$2:$E$311='1추일출 '!C62)*([1]구분표!$F$2:$F$311='1추일출 '!D62)*([1]구분표!$G$2:$G$311='1추일출 '!B62),0)))}
A63: =IF(A62="",A61+1,A62+1) -> 17 | L63: =J63-K63 -> 0 | O63: =L63+M63+N63 -> 0 | R63: =L63+P63+Q63 -> 0 | S63: =IF(AND((O63=0),(R63>0)),"O",IF(AND((M63<0),(O63-R63<0)),"O","X")) -> X | Z63: =IF($Y63<>"도비",IF($W63="국도비","직접입력",SUM($M63:$N63)),) -> 0 | AA63: =IF($Y63="도비",SUM($M63:$N63),IF($W63="국도비","직접입력",SUM($M63:$N63)-$Z63)) -> 0 | AB63: =IF(SUM($M63:$N63)=SUM($Z63:$AA63),"OK","검토") -> OK | AE63: =IF($Y63<>"도비",IF($W63="국도비","직접입력",SUM($P63:$Q63)),) -> 0 | AF63: =IF($Y63="도비",SUM(P63:Q63),IF($W63="국도비","직접입력",SUM(P63:Q63)-AE63)) -> 0 | AG63: =IF(SUM(P63:Q63)=SUM(AE63:AF63),"OK","검토") -> OK | AI63: =IF(Y63="","",IF(Y63="도비","세입없음","직접입력")) | AK63: =IF(AI63="","",COUNTIF($AI$7:$AI$116,AI63)) | AL63: =IF(Y63="","",IF(AND(Y63="도비",AI63="세입없음"),"OK",IF(AND(Y63<>"도비",AI63<>""),"OK","@@"))) | AN63: {=IF(D63="","",INDEX([1]구분표!$I$2:$I$311, MATCH(1,([1]구분표!$E$2:$E$311='1추일출 '!C63)*([1]구분표!$F$2:$F$311='1추일출 '!D63)*([1]구분표!$G$2:$G$311='1추일출 '!B63),0)))}
A64: =IF(A63="",A62+1,A63+1) -> 18 | L64: =J64-K64 -> 0 | O64: =L64+M64+N64 -> 0 | R64: =L64+P64+Q64 -> 0 | S64: =IF(AND((O64=0),(R64>0)),"O",IF(AND((M64<0),(O64-R64<0)),"O","X")) -> X | Z64: =IF($Y64<>"도비",IF($W64="국도비","직접입력",SUM($M64:$N64)),) -> 0 | AA64: =IF($Y64="도비",SUM($M64:$N64),IF($W64="국도비","직접입력",SUM($M64:$N64)-$Z64)) -> 0 | AB64: =IF(SUM($M64:$N64)=SUM($Z64:$AA64),"OK","검토") -> OK | AE64: =IF($Y64<>"도비",IF($W64="국도비","직접입력",SUM($P64:$Q64)),) -> 0 | AF64: =IF($Y64="도비",SUM(P64:Q64),IF($W64="국도비","직접입력",SUM(P64:Q64)-AE64)) -> 0 | AG64: =IF(SUM(P64:Q64)=SUM(AE64:AF64),"OK","검토") -> OK | AI64: =IF(Y64="","",IF(Y64="도비","세입없음","직접입력")) | AK64: =IF(AI64="","",COUNTIF($AI$7:$AI$116,AI64)) | AL64: =IF(Y64="","",IF(AND(Y64="도비",AI64="세입없음"),"OK",IF(AND(Y64<>"도비",AI64<>""),"OK","@@"))) | AN64: {=IF(D64="","",INDEX([1]구분표!$I$2:$I$311, MATCH(1,([1]구분표!$E$2:$E$311='1추일출 '!C64)*([1]구분표!$F$2:$F$311='1추일출 '!D64)*([1]구분표!$G$2:$G$311='1추일출 '!B64),0)))}
A65: =IF(A64="",A63+1,A64+1) -> 19 | L65: =J65-K65 -> 0 | O65: =L65+M65+N65 -> 0 | R65: =L65+P65+Q65 -> 0 | S65: =IF(AND((O65=0),(R65>0)),"O",IF(AND((M65<0),(O65-R65<0)),"O","X")) -> X | Z65: =IF($Y65<>"도비",IF($W65="국도비","직접입력",SUM($M65:$N65)),) -> 0 | AA65: =IF($Y65="도비",SUM($M65:$N65),IF($W65="국도비","직접입력",SUM($M65:$N65)-$Z65)) -> 0 | AB65: =IF(SUM($M65:$N65)=SUM($Z65:$AA65),"OK","검토") -> OK | AE65: =IF($Y65<>"도비",IF($W65="국도비","직접입력",SUM($P65:$Q65)),) -> 0 | AF65: =IF($Y65="도비",SUM(P65:Q65),IF($W65="국도비","직접입력",SUM(P65:Q65)-AE65)) -> 0 | AG65: =IF(SUM(P65:Q65)=SUM(AE65:AF65),"OK","검토") -> OK | AI65: =IF(Y65="","",IF(Y65="도비","세입없음","직접입력")) | AK65: =IF(AI65="","",COUNTIF($AI$7:$AI$116,AI65)) | AL65: =IF(Y65="","",IF(AND(Y65="도비",AI65="세입없음"),"OK",IF(AND(Y65<>"도비",AI65<>""),"OK","@@"))) | AN65: {=IF(D65="","",INDEX([1]구분표!$I$2:$I$311, MATCH(1,([1]구분표!$E$2:$E$311='1추일출 '!C65)*([1]구분표!$F$2:$F$311='1추일출 '!D65)*([1]구분표!$G$2:$G$311='1추일출 '!B65),0)))}
A66: =IF(A65="",A64+1,A65+1) -> 20 | L66: =J66-K66 -> 0 | O66: =L66+M66+N66 -> 0 | R66: =L66+P66+Q66 -> 0 | S66: =IF(AND((O66=0),(R66>0)),"O",IF(AND((M66<0),(O66-R66<0)),"O","X")) -> X | Z66: =IF($Y66<>"도비",IF($W66="국도비","직접입력",SUM($M66:$N66)),) -> 0 | AA66: =IF($Y66="도비",SUM($M66:$N66),IF($W66="국도비","직접입력",SUM($M66:$N66)-$Z66)) -> 0 | AB66: =IF(SUM($M66:$N66)=SUM($Z66:$AA66),"OK","검토") -> OK | AE66: =IF($Y66<>"도비",IF($W66="국도비","직접입력",SUM($P66:$Q66)),) -> 0 | AF66: =IF($Y66="도비",SUM(P66:Q66),IF($W66="국도비","직접입력",SUM(P66:Q66)-AE66)) -> 0 | AG66: =IF(SUM(P66:Q66)=SUM(AE66:AF66),"OK","검토") -> OK | AI66: =IF(Y66="","",IF(Y66="도비","세입없음","직접입력")) | AK66: =IF(AI66="","",COUNTIF($AI$7:$AI$116,AI66)) | AL66: =IF(Y66="","",IF(AND(Y66="도비",AI66="세입없음"),"OK",IF(AND(Y66<>"도비",AI66<>""),"OK","@@"))) | AN66: {=IF(D66="","",INDEX([1]구분표!$I$2:$I$311, MATCH(1,([1]구분표!$E$2:$E$311='1추일출 '!C66)*([1]구분표!$F$2:$F$311='1추일출 '!D66)*([1]구분표!$G$2:$G$311='1추일출 '!B66),0)))}
A67: =IF(A66="",A65+1,A66+1) -> 21 | L67: =J67-K67 -> 0 | O67: =L67+M67+N67 -> 0 | R67: =L67+P67+Q67 -> 0 | S67: =IF(AND((O67=0),(R67>0)),"O",IF(AND((M67<0),(O67-R67<0)),"O","X")) -> X | Z67: =IF($Y67<>"도비",IF($W67="국도비","직접입력",SUM($M67:$N67)),) -> 0 | AA67: =IF($Y67="도비",SUM($M67:$N67),IF($W67="국도비","직접입력",SUM($M67:$N67)-$Z67)) -> 0 | AB67: =IF(SUM($M67:$N67)=SUM($Z67:$AA67),"OK","검토") -> OK | AE67: =IF($Y67<>"도비",IF($W67="국도비","직접입력",SUM($P67:$Q67)),) -> 0 | AF67: =IF($Y67="도비",SUM(P67:Q67),IF($W67="국도비","직접입력",SUM(P67:Q67)-AE67)) -> 0 | AG67: =IF(SUM(P67:Q67)=SUM(AE67:AF67),"OK","검토") -> OK | AI67: =IF(Y67="","",IF(Y67="도비","세입없음","직접입력")) | AK67: =IF(AI67="","",COUNTIF($AI$7:$AI$116,AI67)) | AL67: =IF(Y67="","",IF(AND(Y67="도비",AI67="세입없음"),"OK",IF(AND(Y67<>"도비",AI67<>""),"OK","@@"))) | AN67: {=IF(D67="","",INDEX([1]구분표!$I$2:$I$311, MATCH(1,([1]구분표!$E$2:$E$311='1추일출 '!C67)*([1]구분표!$F$2:$F$311='1추일출 '!D67)*([1]구분표!$G$2:$G$311='1추일출 '!B67),0)))}
A68: =IF(A67="",A66+1,A67+1) -> 22 | L68: =J68-K68 -> 0 | O68: =L68+M68+N68 -> 0 | R68: =L68+P68+Q68 -> 0 | S68: =IF(AND((O68=0),(R68>0)),"O",IF(AND((M68<0),(O68-R68<0)),"O","X")) -> X | Z68: =IF($Y68<>"도비",IF($W68="국도비","직접입력",SUM($M68:$N68)),) -> 0 | AA68: =IF($Y68="도비",SUM($M68:$N68),IF($W68="국도비","직접입력",SUM($M68:$N68)-$Z68)) -> 0 | AB68: =IF(SUM($M68:$N68)=SUM($Z68:$AA68),"OK","검토") -> OK | AE68: =IF($Y68<>"도비",IF($W68="국도비","직접입력",SUM($P68:$Q68)),) -> 0 | AF68: =IF($Y68="도비",SUM(P68:Q68),IF($W68="국도비","직접입력",SUM(P68:Q68)-AE68)) -> 0 | AG68: =IF(SUM(P68:Q68)=SUM(AE68:AF68),"OK","검토") -> OK | AI68: =IF(Y68="","",IF(Y68="도비","세입없음","직접입력")) | AK68: =IF(AI68="","",COUNTIF($AI$7:$AI$116,AI68)) | AL68: =IF(Y68="","",IF(AND(Y68="도비",AI68="세입없음"),"OK",IF(AND(Y68<>"도비",AI68<>""),"OK","@@"))) | AN68: {=IF(D68="","",INDEX([1]구분표!$I$2:$I$311, MATCH(1,([1]구분표!$E$2:$E$311='1추일출 '!C68)*([1]구분표!$F$2:$F$311='1추일출 '!D68)*([1]구분표!$G$2:$G$311='1추일출 '!B68),0)))}
A69: =IF(A68="",A67+1,A68+1) -> 23 | L69: =J69-K69 -> 0 | O69: =L69+M69+N69 -> 0 | R69: =L69+P69+Q69 -> 0 | S69: =IF(AND((O69=0),(R69>0)),"O",IF(AND((M69<0),(O69-R69<0)),"O","X")) -> X | Z69: =IF($Y69<>"도비",IF($W69="국도비","직접입력",SUM($M69:$N69)),) -> 0 | AA69: =IF($Y69="도비",SUM($M69:$N69),IF($W69="국도비","직접입력",SUM($M69:$N69)-$Z69)) -> 0 | AB69: =IF(SUM($M69:$N69)=SUM($Z69:$AA69),"OK","검토") -> OK | AE69: =IF($Y69<>"도비",IF($W69="국도비","직접입력",SUM($P69:$Q69)),) -> 0 | AF69: =IF($Y69="도비",SUM(P69:Q69),IF($W69="국도비","직접입력",SUM(P69:Q69)-AE69)) -> 0 | AG69: =IF(SUM(P69:Q69)=SUM(AE69:AF69),"OK","검토") -> OK | AI69: =IF(Y69="","",IF(Y69="도비","세입없음","직접입력")) | AK69: =IF(AI69="","",COUNTIF($AI$7:$AI$116,AI69)) | AL69: =IF(Y69="","",IF(AND(Y69="도비",AI69="세입없음"),"OK",IF(AND(Y69<>"도비",AI69<>""),"OK","@@"))) | AN69: {=IF(D69="","",INDEX([1]구분표!$I$2:$I$311, MATCH(1,([1]구분표!$E$2:$E$311='1추일출 '!C69)*([1]구분표!$F$2:$F$311='1추일출 '!D69)*([1]구분표!$G$2:$G$311='1추일출 '!B69),0)))}
A70: =IF(A69="",A68+1,A69+1) -> 24 | L70: =J70-K70 -> 0 | O70: =L70+M70+N70 -> 0 | R70: =L70+P70+Q70 -> 0 | S70: =IF(AND((O70=0),(R70>0)),"O",IF(AND((M70<0),(O70-R70<0)),"O","X")) -> X | Z70: =IF($Y70<>"도비",IF($W70="국도비","직접입력",SUM($M70:$N70)),) -> 0 | AA70: =IF($Y70="도비",SUM($M70:$N70),IF($W70="국도비","직접입력",SUM($M70:$N70)-$Z70)) -> 0 | AB70: =IF(SUM($M70:$N70)=SUM($Z70:$AA70),"OK","검토") -> OK | AE70: =IF($Y70<>"도비",IF($W70="국도비","직접입력",SUM($P70:$Q70)),) -> 0 | AF70: =IF($Y70="도비",SUM(P70:Q70),IF($W70="국도비","직접입력",SUM(P70:Q70)-AE70)) -> 0 | AG70: =IF(SUM(P70:Q70)=SUM(AE70:AF70),"OK","검토") -> OK | AI70: =IF(Y70="","",IF(Y70="도비","세입없음","직접입력")) | AK70: =IF(AI70="","",COUNTIF($AI$7:$AI$116,AI70)) | AL70: =IF(Y70="","",IF(AND(Y70="도비",AI70="세입없음"),"OK",IF(AND(Y70<>"도비",AI70<>""),"OK","@@"))) | AN70: {=IF(D70="","",INDEX([1]구분표!$I$2:$I$311, MATCH(1,([1]구분표!$E$2:$E$311='1추일출 '!C70)*([1]구분표!$F$2:$F$311='1추일출 '!D70)*([1]구분표!$G$2:$G$311='1추일출 '!B70),0)))}
A71: =IF(A70="",A69+1,A70+1) -> 25 | L71: =J71-K71 -> 0 | O71: =L71+M71+N71 -> 0 | R71: =L71+P71+Q71 -> 0 | S71: =IF(AND((O71=0),(R71>0)),"O",IF(AND((M71<0),(O71-R71<0)),"O","X")) -> X | Z71: =IF($Y71<>"도비",IF($W71="국도비","직접입력",SUM($M71:$N71)),) -> 0 | AA71: =IF($Y71="도비",SUM($M71:$N71),IF($W71="국도비","직접입력",SUM($M71:$N71)-$Z71)) -> 0 | AB71: =IF(SUM($M71:$N71)=SUM($Z71:$AA71),"OK","검토") -> OK | AE71: =IF($Y71<>"도비",IF($W71="국도비","직접입력",SUM($P71:$Q71)),) -> 0 | AF71: =IF($Y71="도비",SUM(P71:Q71),IF($W71="국도비","직접입력",SUM(P71:Q71)-AE71)) -> 0 | AG71: =IF(SUM(P71:Q71)=SUM(AE71:AF71),"OK","검토") -> OK | AI71: =IF(Y71="","",IF(Y71="도비","세입없음","직접입력")) | AK71: =IF(AI71="","",COUNTIF($AI$7:$AI$116,AI71)) | AL71: =IF(Y71="","",IF(AND(Y71="도비",AI71="세입없음"),"OK",IF(AND(Y71<>"도비",AI71<>""),"OK","@@"))) | AN71: {=IF(D71="","",INDEX([1]구분표!$I$2:$I$311, MATCH(1,([1]구분표!$E$2:$E$311='1추일출 '!C71)*([1]구분표!$F$2:$F$311='1추일출 '!D71)*([1]구분표!$G$2:$G$311='1추일출 '!B71),0)))}
A72: =IF(A71="",A70+1,A71+1) -> 26 | L72: =J72-K72 -> 0 | O72: =L72+M72+N72 -> 0 | R72: =L72+P72+Q72 -> 0 | S72: =IF(AND((O72=0),(R72>0)),"O",IF(AND((M72<0),(O72-R72<0)),"O","X")) -> X | Z72: =IF($Y72<>"도비",IF($W72="국도비","직접입력",SUM($M72:$N72)),) -> 0 | AA72: =IF($Y72="도비",SUM($M72:$N72),IF($W72="국도비","직접입력",SUM($M72:$N72)-$Z72)) -> 0 | AB72: =IF(SUM($M72:$N72)=SUM($Z72:$AA72),"OK","검토") -> OK | AE72: =IF($Y72<>"도비",IF($W72="국도비","직접입력",SUM($P72:$Q72)),) -> 0 | AF72: =IF($Y72="도비",SUM(P72:Q72),IF($W72="국도비","직접입력",SUM(P72:Q72)-AE72)) -> 0 | AG72: =IF(SUM(P72:Q72)=SUM(AE72:AF72),"OK","검토") -> OK | AI72: =IF(Y72="","",IF(Y72="도비","세입없음","직접입력")) | AK72: =IF(AI72="","",COUNTIF($AI$7:$AI$116,AI72)) | AL72: =IF(Y72="","",IF(AND(Y72="도비",AI72="세입없음"),"OK",IF(AND(Y72<>"도비",AI72<>""),"OK","@@"))) | AN72: {=IF(D72="","",INDEX([1]구분표!$I$2:$I$311, MATCH(1,([1]구분표!$E$2:$E$311='1추일출 '!C72)*([1]구분표!$F$2:$F$311='1추일출 '!D72)*([1]구분표!$G$2:$G$311='1추일출 '!B72),0)))}
B73: (보건복지위원회) | J73: =SUBTOTAL(9,J74:J82) -> 0 | K73: =SUBTOTAL(9,K74:K82) -> 0 | L73: =SUBTOTAL(9,L74:L82) -> 0 | M73: =SUBTOTAL(9,M74:M82) -> 0 | N73: =SUBTOTAL(9,N74:N82) -> 0 | O73: =SUBTOTAL(9,O74:O83) -> 0 | P73: =SUBTOTAL(9,P74:P82) -> 0 | Q73: =SUBTOTAL(9,Q74:Q82) -> 0 | R73: =SUBTOTAL(9,R74:R83) -> 0 | Z73: =IF($Y73<>"도비",IF($W73="국도비","직접입력",SUM($M73:$N73)),) -> 0 | AA73: =IF($Y73="도비",SUM($M73:$N73),IF($W73="국도비","직접입력",SUM($M73:$N73)-$Z73)) -> 0 | AB73: =IF(SUM($M73:$N73)=SUM($Z73:$AA73),"OK","검토") -> OK | AE73: =IF($Y73<>"도비",IF($W73="국도비","직접입력",SUM($P73:$Q73)),) -> 0 | AF73: =IF($Y73="도비",SUM(P73:Q73),IF($W73="국도비","직접입력",SUM(P73:Q73)-AE73)) -> 0 | AG73: =IF(SUM(P73:Q73)=SUM(AE73:AF73),"OK","검토") -> OK | AI73: =IF(Y73="","",IF(Y73="도비","세입없음","직접입력")) | AK73: =IF(AI73="","",COUNTIF($AI$7:$AI$116,AI73)) | AL73: =IF(Y73="","",IF(AND(Y73="도비",AI73="세입없음"),"OK",IF(AND(Y73<>"도비",AI73<>""),"OK","@@"))) | AN73: {=IF(D73="","",INDEX([1]구분표!$I$2:$I$311, MATCH(1,([1]구분표!$E$2:$E$311='1추일출 '!C73)*([1]구분표!$F$2:$F$311='1추일출 '!D73)*([1]구분표!$G$2:$G$311='1추일출 '!B73),0)))}
A74: =IF(A73="",A72+1,A73+1) -> 27 | L74: =J74-K74 -> 0 | O74: =L74+M74+N74 -> 0 | R74: =L74+P74+Q74 -> 0 | S74: =IF(AND((O74=0),(R74>0)),"O",IF(AND((M74<0),(O74-R74<0)),"O","X")) -> X | Z74: =IF($Y74<>"도비",IF($W74="국도비","직접입력",SUM($M74:$N74)),) -> 0 | AA74: =IF($Y74="도비",SUM($M74:$N74),IF($W74="국도비","직접입력",SUM($M74:$N74)-$Z74)) -> 0 | AB74: =IF(SUM($M74:$N74)=SUM($Z74:$AA74),"OK","검토") -> OK | AE74: =IF($Y74<>"도비",IF($W74="국도비","직접입력",SUM($P74:$Q74)),) -> 0 | AF74: =IF($Y74="도비",SUM(P74:Q74),IF($W74="국도비","직접입력",SUM(P74:Q74)-AE74)) -> 0 | AG74: =IF(SUM(P74:Q74)=SUM(AE74:AF74),"OK","검토") -> OK | AI74: =IF(Y74="","",IF(Y74="도비","세입없음","직접입력")) | AK74: =IF(AI74="","",COUNTIF($AI$7:$AI$116,AI74)) | AL74: =IF(Y74="","",IF(AND(Y74="도비",AI74="세입없음"),"OK",IF(AND(Y74<>"도비",AI74<>""),"OK","@@"))) | AN74: {=IF(D74="","",INDEX([1]구분표!$I$2:$I$311, MATCH(1,([1]구분표!$E$2:$E$311='1추일출 '!C74)*([1]구분표!$F$2:$F$311='1추일출 '!D74)*([1]구분표!$G$2:$G$311='1추일출 '!B74),0)))}
A75: =IF(A74="",A73+1,A74+1) -> 28 | L75: =J75-K75 -> 0 | O75: =L75+M75+N75 -> 0 | R75: =L75+P75+Q75 -> 0 | S75: =IF(AND((O75=0),(R75>0)),"O",IF(AND((M75<0),(O75-R75<0)),"O","X")) -> X | Z75: =IF($Y75<>"도비",IF($W75="국도비","직접입력",SUM($M75:$N75)),) -> 0 | AA75: =IF($Y75="도비",SUM($M75:$N75),IF($W75="국도비","직접입력",SUM($M75:$N75)-$Z75)) -> 0 | AB75: =IF(SUM($M75:$N75)=SUM($Z75:$AA75),"OK","검토") -> OK | AE75: =IF($Y75<>"도비",IF($W75="국도비","직접입력",SUM($P75:$Q75)),) -> 0 | AF75: =IF($Y75="도비",SUM(P75:Q75),IF($W75="국도비","직접입력",SUM(P75:Q75)-AE75)) -> 0 | AG75: =IF(SUM(P75:Q75)=SUM(AE75:AF75),"OK","검토") -> OK | AI75: =IF(Y75="","",IF(Y75="도비","세입없음","직접입력")) | AK75: =IF(AI75="","",COUNTIF($AI$7:$AI$116,AI75)) | AL75: =IF(Y75="","",IF(AND(Y75="도비",AI75="세입없음"),"OK",IF(AND(Y75<>"도비",AI75<>""),"OK","@@"))) | AN75: {=IF(D75="","",INDEX([1]구분표!$I$2:$I$311, MATCH(1,([1]구분표!$E$2:$E$311='1추일출 '!C75)*([1]구분표!$F$2:$F$311='1추일출 '!D75)*([1]구분표!$G$2:$G$311='1추일출 '!B75),0)))}
A76: =IF(A75="",A74+1,A75+1) -> 29 | L76: =J76-K76 -> 0 | O76: =L76+M76+N76 -> 0 | R76: =L76+P76+Q76 -> 0 | S76: =IF(AND((O76=0),(R76>0)),"O",IF(AND((M76<0),(O76-R76<0)),"O","X")) -> X | Z76: =IF($Y76<>"도비",IF($W76="국도비","직접입력",SUM($M76:$N76)),) -> 0 | AA76: =IF($Y76="도비",SUM($M76:$N76),IF($W76="국도비","직접입력",SUM($M76:$N76)-$Z76)) -> 0 | AB76: =IF(SUM($M76:$N76)=SUM($Z76:$AA76),"OK","검토") -> OK | AE76: =IF($Y76<>"도비",IF($W76="국도비","직접입력",SUM($P76:$Q76)),) -> 0 | AF76: =IF($Y76="도비",SUM(P76:Q76),IF($W76="국도비","직접입력",SUM(P76:Q76)-AE76)) -> 0 | AG76: =IF(SUM(P76:Q76)=SUM(AE76:AF76),"OK","검토") -> OK | AI76: =IF(Y76="","",IF(Y76="도비","세입없음","직접입력")) | AK76: =IF(AI76="","",COUNTIF($AI$7:$AI$116,AI76)) | AL76: =IF(Y76="","",IF(AND(Y76="도비",AI76="세입없음"),"OK",IF(AND(Y76<>"도비",AI76<>""),"OK","@@"))) | AN76: {=IF(D76="","",INDEX([1]구분표!$I$2:$I$311, MATCH(1,([1]구분표!$E$2:$E$311='1추일출 '!C76)*([1]구분표!$F$2:$F$311='1추일출 '!D76)*([1]구분표!$G$2:$G$311='1추일출 '!B76),0)))}
A77: =IF(A76="",A75+1,A76+1) -> 30 | L77: =J77-K77 -> 0 | O77: =L77+M77+N77 -> 0 | R77: =L77+P77+Q77 -> 0 | S77: =IF(AND((O77=0),(R77>0)),"O",IF(AND((M77<0),(O77-R77<0)),"O","X")) -> X | Z77: =IF($Y77<>"도비",IF($W77="국도비","직접입력",SUM($M77:$N77)),) -> 0 | AA77: =IF($Y77="도비",SUM($M77:$N77),IF($W77="국도비","직접입력",SUM($M77:$N77)-$Z77)) -> 0 | AB77: =IF(SUM($M77:$N77)=SUM($Z77:$AA77),"OK","검토") -> OK | AE77: =IF($Y77<>"도비",IF($W77="국도비","직접입력",SUM($P77:$Q77)),) -> 0 | AF77: =IF($Y77="도비",SUM(P77:Q77),IF($W77="국도비","직접입력",SUM(P77:Q77)-AE77)) -> 0 | AG77: =IF(SUM(P77:Q77)=SUM(AE77:AF77),"OK","검토") -> OK | AI77: =IF(Y77="","",IF(Y77="도비","세입없음","직접입력")) | AK77: =IF(AI77="","",COUNTIF($AI$7:$AI$116,AI77)) | AL77: =IF(Y77="","",IF(AND(Y77="도비",AI77="세입없음"),"OK",IF(AND(Y77<>"도비",AI77<>""),"OK","@@"))) | AN77: {=IF(D77="","",INDEX([1]구분표!$I$2:$I$311, MATCH(1,([1]구분표!$E$2:$E$311='1추일출 '!C77)*([1]구분표!$F$2:$F$311='1추일출 '!D77)*([1]구분표!$G$2:$G$311='1추일출 '!B77),0)))}
A78: =IF(A77="",A76+1,A77+1) -> 31 | L78: =J78-K78 -> 0 | O78: =L78+M78+N78 -> 0 | R78: =L78+P78+Q78 -> 0 | S78: =IF(AND((O78=0),(R78>0)),"O",IF(AND((M78<0),(O78-R78<0)),"O","X")) -> X | Z78: =IF($Y78<>"도비",IF($W78="국도비","직접입력",SUM($M78:$N78)),) -> 0 | AA78: =IF($Y78="도비",SUM($M78:$N78),IF($W78="국도비","직접입력",SUM($M78:$N78)-$Z78)) -> 0 | AB78: =IF(SUM($M78:$N78)=SUM($Z78:$AA78),"OK","검토") -> OK | AE78: =IF($Y78<>"도비",IF($W78="국도비","직접입력",SUM($P78:$Q78)),) -> 0 | AF78: =IF($Y78="도비",SUM(P78:Q78),IF($W78="국도비","직접입력",SUM(P78:Q78)-AE78)) -> 0 | AG78: =IF(SUM(P78:Q78)=SUM(AE78:AF78),"OK","검토") -> OK | AI78: =IF(Y78="","",IF(Y78="도비","세입없음","직접입력")) | AK78: =IF(AI78="","",COUNTIF($AI$7:$AI$116,AI78)) | AL78: =IF(Y78="","",IF(AND(Y78="도비",AI78="세입없음"),"OK",IF(AND(Y78<>"도비",AI78<>""),"OK","@@"))) | AN78: {=IF(D78="","",INDEX([1]구분표!$I$2:$I$311, MATCH(1,([1]구분표!$E$2:$E$311='1추일출 '!C78)*([1]구분표!$F$2:$F$311='1추일출 '!D78)*([1]구분표!$G$2:$G$311='1추일출 '!B78),0)))}
A79: =IF(A78="",A77+1,A78+1) -> 32 | L79: =J79-K79 -> 0 | O79: =L79+M79+N79 -> 0 | R79: =L79+P79+Q79 -> 0 | S79: =IF(AND((O79=0),(R79>0)),"O",IF(AND((M79<0),(O79-R79<0)),"O","X")) -> X | Z79: =IF($Y79<>"도비",IF($W79="국도비","직접입력",SUM($M79:$N79)),) -> 0 | AA79: =IF($Y79="도비",SUM($M79:$N79),IF($W79="국도비","직접입력",SUM($M79:$N79)-$Z79)) -> 0 | AB79: =IF(SUM($M79:$N79)=SUM($Z79:$AA79),"OK","검토") -> OK | AE79: =IF($Y79<>"도비",IF($W79="국도비","직접입력",SUM($P79:$Q79)),) -> 0 | AF79: =IF($Y79="도비",SUM(P79:Q79),IF($W79="국도비","직접입력",SUM(P79:Q79)-AE79)) -> 0 | AG79: =IF(SUM(P79:Q79)=SUM(AE79:AF79),"OK","검토") -> OK | AI79: =IF(Y79="","",IF(Y79="도비","세입없음","직접입력")) | AK79: =IF(AI79="","",COUNTIF($AI$7:$AI$116,AI79)) | AL79: =IF(Y79="","",IF(AND(Y79="도비",AI79="세입없음"),"OK",IF(AND(Y79<>"도비",AI79<>""),"OK","@@"))) | AN79: {=IF(D79="","",INDEX([1]구분표!$I$2:$I$311, MATCH(1,([1]구분표!$E$2:$E$311='1추일출 '!C79)*([1]구분표!$F$2:$F$311='1추일출 '!D79)*([1]구분표!$G$2:$G$311='1추일출 '!B79),0)))}
A80: =IF(A79="",A78+1,A79+1) -> 33 | L80: =J80-K80 -> 0 | O80: =L80+M80+N80 -> 0 | R80: =L80+P80+Q80 -> 0 | S80: =IF(AND((O80=0),(R80>0)),"O",IF(AND((M80<0),(O80-R80<0)),"O","X")) -> X | Z80: =IF($Y80<>"도비",IF($W80="국도비","직접입력",SUM($M80:$N80)),) -> 0 | AA80: =IF($Y80="도비",SUM($M80:$N80),IF($W80="국도비","직접입력",SUM($M80:$N80)-$Z80)) -> 0 | AB80: =IF(SUM($M80:$N80)=SUM($Z80:$AA80),"OK","검토") -> OK | AE80: =IF($Y80<>"도비",IF($W80="국도비","직접입력",SUM($P80:$Q80)),) -> 0 | AF80: =IF($Y80="도비",SUM(P80:Q80),IF($W80="국도비","직접입력",SUM(P80:Q80)-AE80)) -> 0 | AG80: =IF(SUM(P80:Q80)=SUM(AE80:AF80),"OK","검토") -> OK | AI80: =IF(Y80="","",IF(Y80="도비","세입없음","직접입력")) | AK80: =IF(AI80="","",COUNTIF($AI$7:$AI$116,AI80)) | AL80: =IF(Y80="","",IF(AND(Y80="도비",AI80="세입없음"),"OK",IF(AND(Y80<>"도비",AI80<>""),"OK","@@"))) | AN80: {=IF(D80="","",INDEX([1]구분표!$I$2:$I$311, MATCH(1,([1]구분표!$E$2:$E$311='1추일출 '!C80)*([1]구분표!$F$2:$F$311='1추일출 '!D80)*([1]구분표!$G$2:$G$311='1추일출 '!B80),0)))}
A81: =IF(A80="",A79+1,A80+1) -> 34 | L81: =J81-K81 -> 0 | O81: =L81+M81+N81 -> 0 | R81: =L81+P81+Q81 -> 0 | S81: =IF(AND((O81=0),(R81>0)),"O",IF(AND((M81<0),(O81-R81<0)),"O","X")) -> X | Z81: =IF($Y81<>"도비",IF($W81="국도비","직접입력",SUM($M81:$N81)),) -> 0 | AA81: =IF($Y81="도비",SUM($M81:$N81),IF($W81="국도비","직접입력",SUM($M81:$N81)-$Z81)) -> 0 | AB81: =IF(SUM($M81:$N81)=SUM($Z81:$AA81),"OK","검토") -> OK | AE81: =IF($Y81<>"도비",IF($W81="국도비","직접입력",SUM($P81:$Q81)),) -> 0 | AF81: =IF($Y81="도비",SUM(P81:Q81),IF($W81="국도비","직접입력",SUM(P81:Q81)-AE81)) -> 0 | AG81: =IF(SUM(P81:Q81)=SUM(AE81:AF81),"OK","검토") -> OK | AI81: =IF(Y81="","",IF(Y81="도비","세입없음","직접입력")) | AK81: =IF(AI81="","",COUNTIF($AI$7:$AI$116,AI81)) | AL81: =IF(Y81="","",IF(AND(Y81="도비",AI81="세입없음"),"OK",IF(AND(Y81<>"도비",AI81<>""),"OK","@@"))) | AN81: {=IF(D81="","",INDEX([1]구분표!$I$2:$I$311, MATCH(1,([1]구분표!$E$2:$E$311='1추일출 '!C81)*([1]구분표!$F$2:$F$311='1추일출 '!D81)*([1]구분표!$G$2:$G$311='1추일출 '!B81),0)))}
A82: =IF(A81="",A80+1,A81+1) -> 35 | L82: =J82-K82 -> 0 | O82: =L82+M82+N82 -> 0 | R82: =L82+P82+Q82 -> 0 | S82: =IF(AND((O82=0),(R82>0)),"O",IF(AND((M82<0),(O82-R82<0)),"O","X")) -> X | Z82: =IF($Y82<>"도비",IF($W82="국도비","직접입력",SUM($M82:$N82)),) -> 0 | AA82: =IF($Y82="도비",SUM($M82:$N82),IF($W82="국도비","직접입력",SUM($M82:$N82)-$Z82)) -> 0 | AB82: =IF(SUM($M82:$N82)=SUM($Z82:$AA82),"OK","검토") -> OK | AE82: =IF($Y82<>"도비",IF($W82="국도비","직접입력",SUM($P82:$Q82)),) -> 0 | AF82: =IF($Y82="도비",SUM(P82:Q82),IF($W82="국도비","직접입력",SUM(P82:Q82)-AE82)) -> 0 | AG82: =IF(SUM(P82:Q82)=SUM(AE82:AF82),"OK","검토") -> OK | AI82: =IF(Y82="","",IF(Y82="도비","세입없음","직접입력")) | AK82: =IF(AI82="","",COUNTIF($AI$7:$AI$116,AI82)) | AL82: =IF(Y82="","",IF(AND(Y82="도비",AI82="세입없음"),"OK",IF(AND(Y82<>"도비",AI82<>""),"OK","@@"))) | AN82: {=IF(D82="","",INDEX([1]구분표!$I$2:$I$311, MATCH(1,([1]구분표!$E$2:$E$311='1추일출 '!C82)*([1]구분표!$F$2:$F$311='1추일출 '!D82)*([1]구분표!$G$2:$G$311='1추일출 '!B82),0)))}
B83: (건설교통위원회) | J83: =SUBTOTAL(9,J84:J93) -> 0 | K83: =SUBTOTAL(9,K84:K93) -> 0 | L83: =SUBTOTAL(9,L84:L93) -> 0 | M83: =SUBTOTAL(9,M84:M93) -> 0 | N83: =SUBTOTAL(9,N84:N93) -> 0 | O83: =SUBTOTAL(9,O84:O93) -> 0 | P83: =SUBTOTAL(9,P84:P93) -> 0 | Q83: =SUBTOTAL(9,Q84:Q93) -> 0 | R83: =SUBTOTAL(9,R84:R93) -> 0 | Z83: =IF($Y83<>"도비",IF($W83="국도비","직접입력",SUM($M83:$N83)),) -> 0 | AA83: =IF($Y83="도비",SUM($M83:$N83),IF($W83="국도비","직접입력",SUM($M83:$N83)-$Z83)) -> 0 | AB83: =IF(SUM($M83:$N83)=SUM($Z83:$AA83),"OK","검토") -> OK | AE83: =IF($Y83<>"도비",IF($W83="국도비","직접입력",SUM($P83:$Q83)),) -> 0 | AF83: =IF($Y83="도비",SUM(P83:Q83),IF($W83="국도비","직접입력",SUM(P83:Q83)-AE83)) -> 0 | AG83: =IF(SUM(P83:Q83)=SUM(AE83:AF83),"OK","검토") -> OK | AI83: =IF(Y83="","",IF(Y83="도비","세입없음","직접입력")) | AK83: =IF(AI83="","",COUNTIF($AI$7:$AI$116,AI83)) | AL83: =IF(Y83="","",IF(AND(Y83="도비",AI83="세입없음"),"OK",IF(AND(Y83<>"도비",AI83<>""),"OK","@@"))) | AN83: {=IF(D83="","",INDEX([1]구분표!$I$2:$I$311, MATCH(1,([1]구분표!$E$2:$E$311='1추일출 '!C83)*([1]구분표!$F$2:$F$311='1추일출 '!D83)*([1]구분표!$G$2:$G$311='1추일출 '!B83),0)))}
A84: =IF(A83="",A82+1,A83+1) -> 36 | L84: =J84-K84 -> 0 | O84: =L84+M84+N84 -> 0 | R84: =L84+P84+Q84 -> 0 | S84: =IF(AND((O84=0),(R84>0)),"O",IF(AND((M84<0),(O84-R84<0)),"O","X")) -> X | Z84: =IF($Y84<>"도비",IF($W84="국도비","직접입력",SUM($M84:$N84)),) -> 0 | AA84: =IF($Y84="도비",SUM($M84:$N84),IF($W84="국도비","직접입력",SUM($M84:$N84)-$Z84)) -> 0 | AB84: =IF(SUM($M84:$N84)=SUM($Z84:$AA84),"OK","검토") -> OK | AE84: =IF($Y84<>"도비",IF($W84="국도비","직접입력",SUM($P84:$Q84)),) -> 0 | AF84: =IF($Y84="도비",SUM(P84:Q84),IF($W84="국도비","직접입력",SUM(P84:Q84)-AE84)) -> 0 | AG84: =IF(SUM(P84:Q84)=SUM(AE84:AF84),"OK","검토") -> OK | AI84: =IF(Y84="","",IF(Y84="도비","세입없음","직접입력")) | AK84: =IF(AI84="","",COUNTIF($AI$7:$AI$116,AI84)) | AL84: =IF(Y84="","",IF(AND(Y84="도비",AI84="세입없음"),"OK",IF(AND(Y84<>"도비",AI84<>""),"OK","@@"))) | AN84: {=IF(D84="","",INDEX([1]구분표!$I$2:$I$311, MATCH(1,([1]구분표!$E$2:$E$311='1추일출 '!C84)*([1]구분표!$F$2:$F$311='1추일출 '!D84)*([1]구분표!$G$2:$G$311='1추일출 '!B84),0)))} | AQ84: 용도지정(0259-1)
A85: =IF(A84="",A83+1,A84+1) -> 37 | L85: =J85-K85 -> 0 | O85: =L85+M85+N85 -> 0 | R85: =L85+P85+Q85 -> 0 | S85: =IF(AND((O85=0),(R85>0)),"O",IF(AND((M85<0),(O85-R85<0)),"O","X")) -> X | Z85: =IF($Y85<>"도비",IF($W85="국도비","직접입력",SUM($M85:$N85)),) -> 0 | AA85: =IF($Y85="도비",SUM($M85:$N85),IF($W85="국도비","직접입력",SUM($M85:$N85)-$Z85)) -> 0 | AB85: =IF(SUM($M85:$N85)=SUM($Z85:$AA85),"OK","검토") -> OK | AE85: =IF($Y85<>"도비",IF($W85="국도비","직접입력",SUM($P85:$Q85)),) -> 0 | AF85: =IF($Y85="도비",SUM(P85:Q85),IF($W85="국도비","직접입력",SUM(P85:Q85)-AE85)) -> 0 | AG85: =IF(SUM(P85:Q85)=SUM(AE85:AF85),"OK","검토") -> OK | AI85: =IF(Y85="","",IF(Y85="도비","세입없음","직접입력")) | AK85: =IF(AI85="","",COUNTIF($AI$7:$AI$116,AI85)) | AL85: =IF(Y85="","",IF(AND(Y85="도비",AI85="세입없음"),"OK",IF(AND(Y85<>"도비",AI85<>""),"OK","@@"))) | AN85: {=IF(D85="","",INDEX([1]구분표!$I$2:$I$311, MATCH(1,([1]구분표!$E$2:$E$311='1추일출 '!C85)*([1]구분표!$F$2:$F$311='1추일출 '!D85)*([1]구분표!$G$2:$G$311='1추일출 '!B85),0)))}
A86: =IF(A85="",A84+1,A85+1) -> 38 | L86: =J86-K86 -> 0 | O86: =L86+M86+N86 -> 0 | R86: =L86+P86+Q86 -> 0 | S86: =IF(AND((O86=0),(R86>0)),"O",IF(AND((M86<0),(O86-R86<0)),"O","X")) -> X | Z86: =IF($Y86<>"도비",IF($W86="국도비","직접입력",SUM($M86:$N86)),) -> 0 | AA86: =IF($Y86="도비",SUM($M86:$N86),IF($W86="국도비","직접입력",SUM($M86:$N86)-$Z86)) -> 0 | AB86: =IF(SUM($M86:$N86)=SUM($Z86:$AA86),"OK","검토") -> OK | AE86: =IF($Y86<>"도비",IF($W86="국도비","직접입력",SUM($P86:$Q86)),) -> 0 | AF86: =IF($Y86="도비",SUM(P86:Q86),IF($W86="국도비","직접입력",SUM(P86:Q86)-AE86)) -> 0 | AG86: =IF(SUM(P86:Q86)=SUM(AE86:AF86),"OK","검토") -> OK | AI86: =IF(Y86="","",IF(Y86="도비","세입없음","직접입력")) | AK86: =IF(AI86="","",COUNTIF($AI$7:$AI$116,AI86)) | AL86: =IF(Y86="","",IF(AND(Y86="도비",AI86="세입없음"),"OK",IF(AND(Y86<>"도비",AI86<>""),"OK","@@"))) | AN86: {=IF(D86="","",INDEX([1]구분표!$I$2:$I$311, MATCH(1,([1]구분표!$E$2:$E$311='1추일출 '!C86)*([1]구분표!$F$2:$F$311='1추일출 '!D86)*([1]구분표!$G$2:$G$311='1추일출 '!B86),0)))}
A87: =IF(A86="",A85+1,A86+1) -> 39 | L87: =J87-K87 -> 0 | O87: =L87+M87+N87 -> 0 | R87: =L87+P87+Q87 -> 0 | S87: =IF(AND((O87=0),(R87>0)),"O",IF(AND((M87<0),(O87-R87<0)),"O","X")) -> X | Z87: =IF($Y87<>"도비",IF($W87="국도비","직접입력",SUM($M87:$N87)),) -> 0 | AA87: =IF($Y87="도비",SUM($M87:$N87),IF($W87="국도비","직접입력",SUM($M87:$N87)-$Z87)) -> 0 | AB87: =IF(SUM($M87:$N87)=SUM($Z87:$AA87),"OK","검토") -> OK | AE87: =IF($Y87<>"도비",IF($W87="국도비","직접입력",SUM($P87:$Q87)),) -> 0 | AF87: =IF($Y87="도비",SUM(P87:Q87),IF($W87="국도비","직접입력",SUM(P87:Q87)-AE87)) -> 0 | AG87: =IF(SUM(P87:Q87)=SUM(AE87:AF87),"OK","검토") -> OK | AI87: =IF(Y87="","",IF(Y87="도비","세입없음","직접입력")) | AK87: =IF(AI87="","",COUNTIF($AI$7:$AI$116,AI87)) | AL87: =IF(Y87="","",IF(AND(Y87="도비",AI87="세입없음"),"OK",IF(AND(Y87<>"도비",AI87<>""),"OK","@@"))) | AN87: {=IF(D87="","",INDEX([1]구분표!$I$2:$I$311, MATCH(1,([1]구분표!$E$2:$E$311='1추일출 '!C87)*([1]구분표!$F$2:$F$311='1추일출 '!D87)*([1]구분표!$G$2:$G$311='1추일출 '!B87),0)))}
A88: =IF(A87="",A86+1,A87+1) -> 40 | L88: =J88-K88 -> 0 | O88: =L88+M88+N88 -> 0 | R88: =L88+P88+Q88 -> 0 | S88: =IF(AND((O88=0),(R88>0)),"O",IF(AND((M88<0),(O88-R88<0)),"O","X")) -> X | Z88: =IF($Y88<>"도비",IF($W88="국도비","직접입력",SUM($M88:$N88)),) -> 0 | AA88: =IF($Y88="도비",SUM($M88:$N88),IF($W88="국도비","직접입력",SUM($M88:$N88)-$Z88)) -> 0 | AB88: =IF(SUM($M88:$N88)=SUM($Z88:$AA88),"OK","검토") -> OK | AE88: =IF($Y88<>"도비",IF($W88="국도비","직접입력",SUM($P88:$Q88)),) -> 0 | AF88: =IF($Y88="도비",SUM(P88:Q88),IF($W88="국도비","직접입력",SUM(P88:Q88)-AE88)) -> 0 | AG88: =IF(SUM(P88:Q88)=SUM(AE88:AF88),"OK","검토") -> OK | AI88: =IF(Y88="","",IF(Y88="도비","세입없음","직접입력")) | AK88: =IF(AI88="","",COUNTIF($AI$7:$AI$116,AI88)) | AL88: =IF(Y88="","",IF(AND(Y88="도비",AI88="세입없음"),"OK",IF(AND(Y88<>"도비",AI88<>""),"OK","@@"))) | AN88: {=IF(D88="","",INDEX([1]구분표!$I$2:$I$311, MATCH(1,([1]구분표!$E$2:$E$311='1추일출 '!C88)*([1]구분표!$F$2:$F$311='1추일출 '!D88)*([1]구분표!$G$2:$G$311='1추일출 '!B88),0)))}
A89: =IF(A88="",A87+1,A88+1) -> 41 | L89: =J89-K89 -> 0 | O89: =L89+M89+N89 -> 0 | R89: =L89+P89+Q89 -> 0 | S89: =IF(AND((O89=0),(R89>0)),"O",IF(AND((M89<0),(O89-R89<0)),"O","X")) -> X | Z89: =IF($Y89<>"도비",IF($W89="국도비","직접입력",SUM($M89:$N89)),) -> 0 | AA89: =IF($Y89="도비",SUM($M89:$N89),IF($W89="국도비","직접입력",SUM($M89:$N89)-$Z89)) -> 0 | AB89: =IF(SUM($M89:$N89)=SUM($Z89:$AA89),"OK","검토") -> OK | AE89: =IF($Y89<>"도비",IF($W89="국도비","직접입력",SUM($P89:$Q89)),) -> 0 | AF89: =IF($Y89="도비",SUM(P89:Q89),IF($W89="국도비","직접입력",SUM(P89:Q89)-AE89)) -> 0 | AG89: =IF(SUM(P89:Q89)=SUM(AE89:AF89),"OK","검토") -> OK | AI89: =IF(Y89="","",IF(Y89="도비","세입없음","직접입력")) | AK89: =IF(AI89="","",COUNTIF($AI$7:$AI$116,AI89)) | AL89: =IF(Y89="","",IF(AND(Y89="도비",AI89="세입없음"),"OK",IF(AND(Y89<>"도비",AI89<>""),"OK","@@"))) | AN89: {=IF(D89="","",INDEX([1]구분표!$I$2:$I$311, MATCH(1,([1]구분표!$E$2:$E$311='1추일출 '!C89)*([1]구분표!$F$2:$F$311='1추일출 '!D89)*([1]구분표!$G$2:$G$311='1추일출 '!B89),0)))}
A90: =IF(A89="",A88+1,A89+1) -> 42 | L90: =J90-K90 -> 0 | O90: =L90+M90+N90 -> 0 | R90: =L90+P90+Q90 -> 0 | S90: =IF(AND((O90=0),(R90>0)),"O",IF(AND((M90<0),(O90-R90<0)),"O","X")) -> X | Z90: =IF($Y90<>"도비",IF($W90="국도비","직접입력",SUM($M90:$N90)),) -> 0 | AA90: =IF($Y90="도비",SUM($M90:$N90),IF($W90="국도비","직접입력",SUM($M90:$N90)-$Z90)) -> 0 | AB90: =IF(SUM($M90:$N90)=SUM($Z90:$AA90),"OK","검토") -> OK | AE90: =IF($Y90<>"도비",IF($W90="국도비","직접입력",SUM($P90:$Q90)),) -> 0 | AF90: =IF($Y90="도비",SUM(P90:Q90),IF($W90="국도비","직접입력",SUM(P90:Q90)-AE90)) -> 0 | AG90: =IF(SUM(P90:Q90)=SUM(AE90:AF90),"OK","검토") -> OK | AI90: =IF(Y90="","",IF(Y90="도비","세입없음","직접입력")) | AK90: =IF(AI90="","",COUNTIF($AI$7:$AI$116,AI90)) | AL90: =IF(Y90="","",IF(AND(Y90="도비",AI90="세입없음"),"OK",IF(AND(Y90<>"도비",AI90<>""),"OK","@@"))) | AN90: {=IF(D90="","",INDEX([1]구분표!$I$2:$I$311, MATCH(1,([1]구분표!$E$2:$E$311='1추일출 '!C90)*([1]구분표!$F$2:$F$311='1추일출 '!D90)*([1]구분표!$G$2:$G$311='1추일출 '!B90),0)))}
A91: =IF(A90="",A89+1,A90+1) -> 43 | L91: =J91-K91 -> 0 | O91: =L91+M91+N91 -> 0 | R91: =L91+P91+Q91 -> 0 | S91: =IF(AND((O91=0),(R91>0)),"O",IF(AND((M91<0),(O91-R91<0)),"O","X")) -> X | Z91: =IF($Y91<>"도비",IF($W91="국도비","직접입력",SUM($M91:$N91)),) -> 0 | AA91: =IF($Y91="도비",SUM($M91:$N91),IF($W91="국도비","직접입력",SUM($M91:$N91)-$Z91)) -> 0 | AB91: =IF(SUM($M91:$N91)=SUM($Z91:$AA91),"OK","검토") -> OK | AE91: =IF($Y91<>"도비",IF($W91="국도비","직접입력",SUM($P91:$Q91)),) -> 0 | AF91: =IF($Y91="도비",SUM(P91:Q91),IF($W91="국도비","직접입력",SUM(P91:Q91)-AE91)) -> 0 | AG91: =IF(SUM(P91:Q91)=SUM(AE91:AF91),"OK","검토") -> OK | AI91: =IF(Y91="","",IF(Y91="도비","세입없음","직접입력")) | AK91: =IF(AI91="","",COUNTIF($AI$7:$AI$116,AI91)) | AL91: =IF(Y91="","",IF(AND(Y91="도비",AI91="세입없음"),"OK",IF(AND(Y91<>"도비",AI91<>""),"OK","@@"))) | AN91: {=IF(D91="","",INDEX([1]구분표!$I$2:$I$311, MATCH(1,([1]구분표!$E$2:$E$311='1추일출 '!C91)*([1]구분표!$F$2:$F$311='1추일출 '!D91)*([1]구분표!$G$2:$G$311='1추일출 '!B91),0)))}
A92: =IF(A91="",A90+1,A91+1) -> 44 | L92: =J92-K92 -> 0 | O92: =L92+M92+N92 -> 0 | R92: =L92+P92+Q92 -> 0 | S92: =IF(AND((O92=0),(R92>0)),"O",IF(AND((M92<0),(O92-R92<0)),"O","X")) -> X | Z92: =IF($Y92<>"도비",IF($W92="국도비","직접입력",SUM($M92:$N92)),) -> 0 | AA92: =IF($Y92="도비",SUM($M92:$N92),IF($W92="국도비","직접입력",SUM($M92:$N92)-$Z92)) -> 0 | AB92: =IF(SUM($M92:$N92)=SUM($Z92:$AA92),"OK","검토") -> OK | AE92: =IF($Y92<>"도비",IF($W92="국도비","직접입력",SUM($P92:$Q92)),) -> 0 | AF92: =IF($Y92="도비",SUM(P92:Q92),IF($W92="국도비","직접입력",SUM(P92:Q92)-AE92)) -> 0 | AG92: =IF(SUM(P92:Q92)=SUM(AE92:AF92),"OK","검토") -> OK | AI92: =IF(Y92="","",IF(Y92="도비","세입없음","직접입력")) | AK92: =IF(AI92="","",COUNTIF($AI$7:$AI$116,AI92)) | AL92: =IF(Y92="","",IF(AND(Y92="도비",AI92="세입없음"),"OK",IF(AND(Y92<>"도비",AI92<>""),"OK","@@"))) | AN92: {=IF(D92="","",INDEX([1]구분표!$I$2:$I$311, MATCH(1,([1]구분표!$E$2:$E$311='1추일출 '!C92)*([1]구분표!$F$2:$F$311='1추일출 '!D92)*([1]구분표!$G$2:$G$311='1추일출 '!B92),0)))}
A93: =IF(A92="",A91+1,A92+1) -> 45 | L93: =J93-K93 -> 0 | O93: =L93+M93+N93 -> 0 | R93: =L93+P93+Q93 -> 0 | S93: =IF(AND((O93=0),(R93>0)),"O",IF(AND((M93<0),(O93-R93<0)),"O","X")) -> X | Z93: =IF($Y93<>"도비",IF($W93="국도비","직접입력",SUM($M93:$N93)),) -> 0 | AA93: =IF($Y93="도비",SUM($M93:$N93),IF($W93="국도비","직접입력",SUM($M93:$N93)-$Z93)) -> 0 | AB93: =IF(SUM($M93:$N93)=SUM($Z93:$AA93),"OK","검토") -> OK | AE93: =IF($Y93<>"도비",IF($W93="국도비","직접입력",SUM($P93:$Q93)),) -> 0 | AF93: =IF($Y93="도비",SUM(P93:Q93),IF($W93="국도비","직접입력",SUM(P93:Q93)-AE93)) -> 0 | AG93: =IF(SUM(P93:Q93)=SUM(AE93:AF93),"OK","검토") -> OK | AI93: =IF(Y93="","",IF(Y93="도비","세입없음","직접입력")) | AK93: =IF(AI93="","",COUNTIF($AI$7:$AI$116,AI93)) | AL93: =IF(Y93="","",IF(AND(Y93="도비",AI93="세입없음"),"OK",IF(AND(Y93<>"도비",AI93<>""),"OK","@@"))) | AN93: {=IF(D93="","",INDEX([1]구분표!$I$2:$I$311, MATCH(1,([1]구분표!$E$2:$E$311='1추일출 '!C93)*([1]구분표!$F$2:$F$311='1추일출 '!D93)*([1]구분표!$G$2:$G$311='1추일출 '!B93),0)))}
B94: (도시환경위원회) | J94: =SUBTOTAL(9,J95:J104) -> 0 | K94: =SUBTOTAL(9,K95:K104) -> 0 | L94: =SUBTOTAL(9,L95:L104) -> 0 | M94: =SUBTOTAL(9,M95:M104) -> 0 | N94: =SUBTOTAL(9,N95:N104) -> 0 | O94: =SUBTOTAL(9,O95:O104) -> 0 | P94: =SUBTOTAL(9,P95:P104) -> 0 | Q94: =SUBTOTAL(9,Q95:Q104) -> 0 | R94: =SUBTOTAL(9,R95:R104) -> 0 | Z94: =IF($Y94<>"도비",IF($W94="국도비","직접입력",SUM($M94:$N94)),) -> 0 | AA94: =IF($Y94="도비",SUM($M94:$N94),IF($W94="국도비","직접입력",SUM($M94:$N94)-$Z94)) -> 0 | AB94: =IF(SUM($M94:$N94)=SUM($Z94:$AA94),"OK","검토") -> OK | AE94: =IF($Y94<>"도비",IF($W94="국도비","직접입력",SUM($P94:$Q94)),) -> 0 | AF94: =IF($Y94="도비",SUM(P94:Q94),IF($W94="국도비","직접입력",SUM(P94:Q94)-AE94)) -> 0 | AG94: =IF(SUM(P94:Q94)=SUM(AE94:AF94),"OK","검토") -> OK | AI94: =IF(Y94="","",IF(Y94="도비","세입없음","직접입력")) | AK94: =IF(AI94="","",COUNTIF($AI$7:$AI$116,AI94)) | AL94: =IF(Y94="","",IF(AND(Y94="도비",AI94="세입없음"),"OK",IF(AND(Y94<>"도비",AI94<>""),"OK","@@"))) | AN94: {=IF(D94="","",INDEX([1]구분표!$I$2:$I$311, MATCH(1,([1]구분표!$E$2:$E$311='1추일출 '!C94)*([1]구분표!$F$2:$F$311='1추일출 '!D94)*([1]구분표!$G$2:$G$311='1추일출 '!B94),0)))}
A95: =IF(A94="",A93+1,A94+1) -> 46 | L95: =J95-K95 -> 0 | O95: =L95+M95+N95 -> 0 | R95: =L95+P95+Q95 -> 0 | S95: =IF(AND((O95=0),(R95>0)),"O",IF(AND((M95<0),(O95-R95<0)),"O","X")) -> X | Z95: =IF($Y95<>"도비",IF($W95="국도비","직접입력",SUM($M95:$N95)),) -> 0 | AA95: =IF($Y95="도비",SUM($M95:$N95),IF($W95="국도비","직접입력",SUM($M95:$N95)-$Z95)) -> 0 | AB95: =IF(SUM($M95:$N95)=SUM($Z95:$AA95),"OK","검토") -> OK | AE95: =IF($Y95<>"도비",IF($W95="국도비","직접입력",SUM($P95:$Q95)),) -> 0 | AF95: =IF($Y95="도비",SUM(P95:Q95),IF($W95="국도비","직접입력",SUM(P95:Q95)-AE95)) -> 0 | AG95: =IF(SUM(P95:Q95)=SUM(AE95:AF95),"OK","검토") -> OK | AI95: =IF(Y95="","",IF(Y95="도비","세입없음","직접입력")) | AK95: =IF(AI95="","",COUNTIF($AI$7:$AI$116,AI95)) | AL95: =IF(Y95="","",IF(AND(Y95="도비",AI95="세입없음"),"OK",IF(AND(Y95<>"도비",AI95<>""),"OK","@@"))) | AN95: {=IF(D95="","",INDEX([1]구분표!$I$2:$I$311, MATCH(1,([1]구분표!$E$2:$E$311='1추일출 '!C95)*([1]구분표!$F$2:$F$311='1추일출 '!D95)*([1]구분표!$G$2:$G$311='1추일출 '!B95),0)))}
A96: =IF(A95="",A94+1,A95+1) -> 47 | L96: =J96-K96 -> 0 | O96: =L96+M96+N96 -> 0 | R96: =L96+P96+Q96 -> 0 | S96: =IF(AND((O96=0),(R96>0)),"O",IF(AND((M96<0),(O96-R96<0)),"O","X")) -> X | Z96: =IF($Y96<>"도비",IF($W96="국도비","직접입력",SUM($M96:$N96)),) -> 0 | AA96: =IF($Y96="도비",SUM($M96:$N96),IF($W96="국도비","직접입력",SUM($M96:$N96)-$Z96)) -> 0 | AB96: =IF(SUM($M96:$N96)=SUM($Z96:$AA96),"OK","검토") -> OK | AE96: =IF($Y96<>"도비",IF($W96="국도비","직접입력",SUM($P96:$Q96)),) -> 0 | AF96: =IF($Y96="도비",SUM(P96:Q96),IF($W96="국도비","직접입력",SUM(P96:Q96)-AE96)) -> 0 | AG96: =IF(SUM(P96:Q96)=SUM(AE96:AF96),"OK","검토") -> OK | AI96: =IF(Y96="","",IF(Y96="도비","세입없음","직접입력")) | AK96: =IF(AI96="","",COUNTIF($AI$7:$AI$116,AI96)) | AL96: =IF(Y96="","",IF(AND(Y96="도비",AI96="세입없음"),"OK",IF(AND(Y96<>"도비",AI96<>""),"OK","@@"))) | AN96: {=IF(D96="","",INDEX([1]구분표!$I$2:$I$311, MATCH(1,([1]구분표!$E$2:$E$311='1추일출 '!C96)*([1]구분표!$F$2:$F$311='1추일출 '!D96)*([1]구분표!$G$2:$G$311='1추일출 '!B96),0)))}
A97: =IF(A96="",A95+1,A96+1) -> 48 | L97: =J97-K97 -> 0 | O97: =L97+M97+N97 -> 0 | R97: =L97+P97+Q97 -> 0 | S97: =IF(AND((O97=0),(R97>0)),"O",IF(AND((M97<0),(O97-R97<0)),"O","X")) -> X | Z97: =IF($Y97<>"도비",IF($W97="국도비","직접입력",SUM($M97:$N97)),) -> 0 | AA97: =IF($Y97="도비",SUM($M97:$N97),IF($W97="국도비","직접입력",SUM($M97:$N97)-$Z97)) -> 0 | AB97: =IF(SUM($M97:$N97)=SUM($Z97:$AA97),"OK","검토") -> OK | AE97: =IF($Y97<>"도비",IF($W97="국도비","직접입력",SUM($P97:$Q97)),) -> 0 | AF97: =IF($Y97="도비",SUM(P97:Q97),IF($W97="국도비","직접입력",SUM(P97:Q97)-AE97)) -> 0 | AG97: =IF(SUM(P97:Q97)=SUM(AE97:AF97),"OK","검토") -> OK | AI97: =IF(Y97="","",IF(Y97="도비","세입없음","직접입력")) | AK97: =IF(AI97="","",COUNTIF($AI$7:$AI$116,AI97)) | AL97: =IF(Y97="","",IF(AND(Y97="도비",AI97="세입없음"),"OK",IF(AND(Y97<>"도비",AI97<>""),"OK","@@"))) | AN97: {=IF(D97="","",INDEX([1]구분표!$I$2:$I$311, MATCH(1,([1]구분표!$E$2:$E$311='1추일출 '!C97)*([1]구분표!$F$2:$F$311='1추일출 '!D97)*([1]구분표!$G$2:$G$311='1추일출 '!B97),0)))}
A98: =IF(A97="",A96+1,A97+1) -> 49 | L98: =J98-K98 -> 0 | O98: =L98+M98+N98 -> 0 | R98: =L98+P98+Q98 -> 0 | S98: =IF(AND((O98=0),(R98>0)),"O",IF(AND((M98<0),(O98-R98<0)),"O","X")) -> X | Z98: =IF($Y98<>"도비",IF($W98="국도비","직접입력",SUM($M98:$N98)),) -> 0 | AA98: =IF($Y98="도비",SUM($M98:$N98),IF($W98="국도비","직접입력",SUM($M98:$N98)-$Z98)) -> 0 | AB98: =IF(SUM($M98:$N98)=SUM($Z98:$AA98),"OK","검토") -> OK | AE98: =IF($Y98<>"도비",IF($W98="국도비","직접입력",SUM($P98:$Q98)),) -> 0 | AF98: =IF($Y98="도비",SUM(P98:Q98),IF($W98="국도비","직접입력",SUM(P98:Q98)-AE98)) -> 0 | AG98: =IF(SUM(P98:Q98)=SUM(AE98:AF98),"OK","검토") -> OK | AI98: =IF(Y98="","",IF(Y98="도비","세입없음","직접입력")) | AK98: =IF(AI98="","",COUNTIF($AI$7:$AI$116,AI98)) | AL98: =IF(Y98="","",IF(AND(Y98="도비",AI98="세입없음"),"OK",IF(AND(Y98<>"도비",AI98<>""),"OK","@@"))) | AN98: {=IF(D98="","",INDEX([1]구분표!$I$2:$I$311, MATCH(1,([1]구분표!$E$2:$E$311='1추일출 '!C98)*([1]구분표!$F$2:$F$311='1추일출 '!D98)*([1]구분표!$G$2:$G$311='1추일출 '!B98),0)))}
A99: =IF(A98="",A97+1,A98+1) -> 50 | L99: =J99-K99 -> 0 | O99: =L99+M99+N99 -> 0 | R99: =L99+P99+Q99 -> 0 | S99: =IF(AND((O99=0),(R99>0)),"O",IF(AND((M99<0),(O99-R99<0)),"O","X")) -> X | Z99: =IF($Y99<>"도비",IF($W99="국도비","직접입력",SUM($M99:$N99)),) -> 0 | AA99: =IF($Y99="도비",SUM($M99:$N99),IF($W99="국도비","직접입력",SUM($M99:$N99)-$Z99)) -> 0 | AB99: =IF(SUM($M99:$N99)=SUM($Z99:$AA99),"OK","검토") -> OK | AE99: =IF($Y99<>"도비",IF($W99="국도비","직접입력",SUM($P99:$Q99)),) -> 0 | AF99: =IF($Y99="도비",SUM(P99:Q99),IF($W99="국도비","직접입력",SUM(P99:Q99)-AE99)) -> 0 | AG99: =IF(SUM(P99:Q99)=SUM(AE99:AF99),"OK","검토") -> OK | AI99: =IF(Y99="","",IF(Y99="도비","세입없음","직접입력")) | AK99: =IF(AI99="","",COUNTIF($AI$7:$AI$116,AI99)) | AL99: =IF(Y99="","",IF(AND(Y99="도비",AI99="세입없음"),"OK",IF(AND(Y99<>"도비",AI99<>""),"OK","@@"))) | AN99: {=IF(D99="","",INDEX([1]구분표!$I$2:$I$311, MATCH(1,([1]구분표!$E$2:$E$311='1추일출 '!C99)*([1]구분표!$F$2:$F$311='1추일출 '!D99)*([1]구분표!$G$2:$G$311='1추일출 '!B99),0)))}
A100: =IF(A99="",A98+1,A99+1) -> 51 | L100: =J100-K100 -> 0 | O100: =L100+M100+N100 -> 0 | R100: =L100+P100+Q100 -> 0 | S100: =IF(AND((O100=0),(R100>0)),"O",IF(AND((M100<0),(O100-R100<0)),"O","X")) -> X | Z100: =IF($Y100<>"도비",IF($W100="국도비","직접입력",SUM($M100:$N100)),) -> 0 | AA100: =IF($Y100="도비",SUM($M100:$N100),IF($W100="국도비","직접입력",SUM($M100:$N100)-$Z100)) -> 0 | AB100: =IF(SUM($M100:$N100)=SUM($Z100:$AA100),"OK","검토") -> OK | AE100: =IF($Y100<>"도비",IF($W100="국도비","직접입력",SUM($P100:$Q100)),) -> 0 | AF100: =IF($Y100="도비",SUM(P100:Q100),IF($W100="국도비","직접입력",SUM(P100:Q100)-AE100)) -> 0 | AG100: =IF(SUM(P100:Q100)=SUM(AE100:AF100),"OK","검토") -> OK | AI100: =IF(Y100="","",IF(Y100="도비","세입없음","직접입력")) | AK100: =IF(AI100="","",COUNTIF($AI$7:$AI$116,AI100)) | AL100: =IF(Y100="","",IF(AND(Y100="도비",AI100="세입없음"),"OK",IF(AND(Y100<>"도비",AI100<>""),"OK","@@"))) | AN100: {=IF(D100="","",INDEX([1]구분표!$I$2:$I$311, MATCH(1,([1]구분표!$E$2:$E$311='1추일출 '!C100)*([1]구분표!$F$2:$F$311='1추일출 '!D100)*([1]구분표!$G$2:$G$311='1추일출 '!B100),0)))}
...

Sheet 1추특출
A1: 2017년도 제1회 추가경정 경기도 특별회계 세출 예산 조정(안)
A2: □ 세출예산 | P2: =Q2-#REF! -> #REF! | Q2: =Q6-K6 -> 0 | Y2: 세입=세출 | AD2: 세입=세출
K3: =SUM(K7:K944)/2 -> -510089 | L3: =SUM(L7:L944)/2 -> -1418787 | M3: =SUM(M7:M944)/2 -> 1418787 | N3: =SUM(N7:N944)/2 -> -510089 | O3: =SUM(O7:O944)/2 -> 0 | P3: =SUM(P7:P944)/2 -> 0 | Q3: =SUM(Q7:Q944)/2 -> -510089 | U3: (단위 : 천원) | Y3: =IF(Y6=#REF!,"OK","@@") -> #REF! | AA3: =IF(COUNTIF(AA6:AA60,"검토")>0,"@@","OK") -> OK | AD3: =IF(AD6=#REF!,"OK","@@") -> #REF! | AE3: =O6+P6-AD6-AE6 -> 0 | AF3: =IF(COUNTIF(AF6:AF60,"검토")>0,"@@","OK") -> OK
A4: 위원회명 | B4: 실국명 | C4: 부서명 | D4: 편성 구분 | E4: 연정 구분 | F4: 예산안 페이지 | G4: 사업설명서페이지 | H4: 세부사업명 및 부기명 | I4: 제1회 추경 예산안 (가) | J4: 기정액 (나) | K4: 제1회 추경 증감액 (다=가-나) | L4: 상임위 예산안 조정액(라) | N4: 상임위 조정 예산안 (마=다+라) | O4: 예결위 예산안 조정액(사) | Q4: 예결위 조정 예산안 (아=다+사) | R4: 동의 대상 | S4: 상임위 변경사유 (심의 참고자료) | T4: 비고 (상임위 부대의견) | U4: 비고 (부대의견) | V4: 국도비 등 여부 | X4: 재원 | Y4: 상임위 재원별 증감액 | AC4: 재원 | AD4: 예결위 재원별 증감액 | AH4: 세입번호 | AJ4: 동일 세입 건수 | AK4: 세출 번호 검증 | AM4: 실국부서 코드 | AO4: 추가 내시 등
L5: 감액 | M5: 증액 | O5: 감액 | P5: 증액 | Y5: 국비 등 | Z5: 도비 | AA5: 검증 | AD5: 국비 등 | AE5: 도비 | AF5: 검증
A6: 합 계 | I6: =SUBTOTAL(9,I7:I60) -> 5347100 | J6: =SUBTOTAL(9,J7:J60) -> 6395798 | K6: =SUBTOTAL(9,K7:K60) -> -1048698 | L6: =SUBTOTAL(9,L7:L60) -> -2837574 | M6: =SUBTOTAL(9,M7:M60) -> 2837574 | N6: =SUBTOTAL(9,N7:N60) -> -1048698 | O6: =SUBTOTAL(9,O7:O60) -> 0 | P6: =SUBTOTAL(9,P7:P60) -> 0 | Q6: =SUBTOTAL(9,Q7:Q60) -> -1048698 | Y6: =SUBTOTAL(9,Y7:Y60) -> 0 | Z6: =SUBTOTAL(9,Z7:Z60) -> 0 | AA6: =IF(SUM($L6:$M6)=SUM($Y6:$Z6),"OK","검토") -> OK | AD6: =SUBTOTAL(9,AD7:AD60) -> 0 | AE6: =SUBTOTAL(9,AE7:AE60) -> 0 | AF6: =IF(SUM($L6:$M6)=SUM($Y6:$Z6),"OK","검토") -> OK
A7: (소방안전특별회계) | I7: =SUBTOTAL(9,I55:I60) -> 34520 | J7: =SUBTOTAL(9,J55:J60) -> 6000 | K7: =SUBTOTAL(9,K55:K60) -> 28520 | L7: =SUBTOTAL(9,L55:L60) -> 0 | M7: =SUBTOTAL(9,M55:M60) -> 0 | N7: =SUBTOTAL(9,N55:N60) -> 28520 | O7: =SUBTOTAL(9,O55:O60) -> 0 | P7: =SUBTOTAL(9,P55:P60) -> 0 | Q7: =SUBTOTAL(9,Q55:Q60) -> 28520
A8: 안전행정위원회 | B8: 재난안전본부 | C8: 소방행정과 | D8: 1회추경 | E8: 일반 | F8: 378 | G8: 53 | H8: 기관공통경비의효율적지원(자체/직접) -기관공통 사무관리비 | I8: 150000 | J8: 100000 | K8: =I8-J8 -> 50000 | M8: 150000 | N8: =K8+L8+M8 -> 200000 | Q8: =K8+O8+P8 -> 50000 | R8: =IF(AND((N8=0),(Q8>0)),"O",IF(AND((L8<0),(N8-Q8<0)),"O","X")) -> X | Y8: =IF($X8<>"도비",IF($V8="국도비","직접입력",SUM($L8:$M8)),) -> 150000 | Z8: =IF($X8="도비",SUM($L8:$M8),IF($V8="국도비","직접입력",SUM($L8:$M8)-$Y8)) -> 0 | AA8: =IF(SUM($L8:$M8)=SUM($Y8:$Z8),"OK","검토") -> OK | AD8: =IF($X8<>"도비",IF($V8="국도비","직접입력",SUM($O8:$P8)),) -> 0 | AE8: =IF($X8="도비",SUM(O8:P8),IF($V8="국도비","직접입력",SUM(O8:P8)-AD8)) -> 0 | AF8: =IF(SUM(O8:P8)=SUM(AD8:AE8),"OK","검토") -> OK | AH8: =IF(X8="","",IF(X8="도비","세입없음","직접입력")) | AJ8: =IF(AH8="","",COUNTIF($AH$7:$AH$60,AH8)) | AK8: =IF(X8="","",IF(AND(X8="도비",AH8="세입없음"),"OK",IF(AND(X8<>"도비",AH8<>""),"OK","@@"))) | AM8: {=IF(C8="","",INDEX(구분표!$I$2:$I$311, MATCH(1,(구분표!$E$2:$E$311='1추특출'!B8)*(구분표!$F$2:$F$311='1추특출'!C8)*(구분표!$G$2:$G$311='1추특출'!A8),0)))} -> 40101
A9: 안전행정위원회 | B9: 재난안전본부 | C9: 소방행정과 | D9: 1회추경 | E9: 일반 | F9: 378 | G9: 53 | H9: 기관공통경비의효율적지원(자체/직접) -기관공통 자산취득비 | I9: 530000 | J9: 100000 | K9: =I9-J9 -> 430000 | L9: -330000 | N9: =K9+L9+M9 -> 100000 | Q9: =K9+O9+P9 -> 430000 | R9: =IF(AND((N9=0),(Q9>0)),"O",IF(AND((L9<0),(N9-Q9<0)),"O","X")) -> O | Y9: =IF($X9<>"도비",IF($V9="국도비","직접입력",SUM($L9:$M9)),) -> -330000 | Z9: =IF($X9="도비",SUM($L9:$M9),IF($V9="국도비","직접입력",SUM($L9:$M9)-$Y9)) -> 0 | AA9: =IF(SUM($L9:$M9)=SUM($Y9:$Z9),"OK","검토") -> OK | AD9: =IF($X9<>"도비",IF($V9="국도비","직접입력",SUM($O9:$P9)),) -> 0 | AE9: =IF($X9="도비",SUM(O9:P9),IF($V9="국도비","직접입력",SUM(O9:P9)-AD9)) -> 0 | AF9: =IF(SUM(O9:P9)=SUM(AD9:AE9),"OK","검토") -> OK | AH9: =IF(X9="","",IF(X9="도비","세입없음","직접입력")) | AJ9: =IF(AH9="","",COUNTIF($AH$7:$AH$60,AH9)) | AK9: =IF(X9="","",IF(AND(X9="도비",AH9="세입없음"),"OK",IF(AND(X9<>"도비",AH9<>""),"OK","@@"))) | AM9: {=IF(C9="","",INDEX(구분표!$I$2:$I$311, MATCH(1,(구분표!$E$2:$E$311='1추특출'!B9)*(구분표!$F$2:$F$311='1추특출'!C9)*(구분표!$G$2:$G$311='1추특출'!A9),0)))} -> 40101
A10: 안전행정위원회 | B10: 재난안전본부 | C10: 소방행정과 | D10: 1회추경 | E10: 일반 | F10: 378 | G10: 53 | H10: 기관공통경비의효율적지원(자체/직접) -기관공통 재료비 | I10: 200000 | J10: 0 | K10: =I10-J10 -> 200000 | L10: -200000 | N10: =K10+L10+M10 -> 0 | Q10: =K10+O10+P10 -> 200000 | R10: =IF(AND((N10=0),(Q10>0)),"O",IF(AND((L10<0),(N10-Q10<0)),"O","X")) -> O | Y10: =IF($X10<>"도비",IF($V10="국도비","직접입력",SUM($L10:$M10)),) -> -200000 | Z10: =IF($X10="도비",SUM($L10:$M10),IF($V10="국도비","직접입력",SUM($L10:$M10)-$Y10)) -> 0 | AA10: =IF(SUM($L10:$M10)=SUM($Y10:$Z10),"OK","검토") -> OK | AD10: =IF($X10<>"도비",IF($V10="국도비","직접입력",SUM($O10:$P10)),) -> 0 | AE10: =IF($X10="도비",SUM(O10:P10),IF($V10="국도비","직접입력",SUM(O10:P10)-AD10)) -> 0 | AF10: =IF(SUM(O10:P10)=SUM(AD10:AE10),"OK","검토") -> OK | AH10: =IF(X10="","",IF(X10="도비","세입없음","직접입력")) | AJ10: =IF(AH10="","",COUNTIF($AH$7:$AH$60,AH10)) | AK10: =IF(X10="","",IF(AND(X10="도비",AH10="세입없음"),"OK",IF(AND(X10<>"도비",AH10<>""),"OK","@@"))) | AM10: {=IF(C10="","",INDEX(구분표!$I$2:$I$311, MATCH(1,(구분표!$E$2:$E$311='1추특출'!B10)*(구분표!$F$2:$F$311='1추특출'!C10)*(구분표!$G$2:$G$311='1추특출'!A10),0)))} -> 40101
A11: 안전행정위원회 | B11: 재난안전본부 | C11: 소방행정과 | D11: 1회추경 | E11: 일반 | F11: 379 | G11: 58 | H11: 예비비(자체/직접) -내부유보금 | I11: 0 | J11: 4023498 | K11: =I11-J11 -> -4023498 | M11: 622000 | N11: =K11+L11+M11 -> -3401498 | Q11: =K11+O11+P11 -> -4023498 | R11: =IF(AND((N11=0),(Q11>0)),"O",IF(AND((L11<0),(N11-Q11<0)),"O","X")) -> X | Y11: =IF($X11<>"도비",IF($V11="국도비","직접입력",SUM($L11:$M11)),) -> 622000 | Z11: =IF($X11="도비",SUM($L11:$M11),IF($V11="국도비","직접입력",SUM($L11:$M11)-$Y11)) -> 0 | AA11: =IF(SUM($L11:$M11)=SUM($Y11:$Z11),"OK","검토") -> OK | AD11: =IF($X11<>"도비",IF($V11="국도비","직접입력",SUM($O11:$P11)),) -> 0 | AE11: =IF($X11="도비",SUM(O11:P11),IF($V11="국도비","직접입력",SUM(O11:P11)-AD11)) -> 0 | AF11: =IF(SUM(O11:P11)=SUM(AD11:AE11),"OK","검토") -> OK | AH11: =IF(X11="","",IF(X11="도비","세입없음","직접입력")) | AJ11: =IF(AH11="","",COUNTIF($AH$7:$AH$60,AH11)) | AK11: =IF(X11="","",IF(AND(X11="도비",AH11="세입없음"),"OK",IF(AND(X11<>"도비",AH11<>""),"OK","@@"))) | AM11: {=IF(C11="","",INDEX(구분표!$I$2:$I$311, MATCH(1,(구분표!$E$2:$E$311='1추특출'!B11)*(구분표!$F$2:$F$311='1추특출'!C11)*(구분표!$G$2:$G$311='1추특출'!A11),0)))} -> 40101
A12: 안전행정위원회 | B12: 재난안전본부 | C12: 대응구조구급과 | D12: 신규 | E12: 일반 | H12: 의용소방대활성화(자체/직접) -의소대 피복비 | I12: 0 | J12: 0 | K12: =I12-J12 -> 0 | L12: 0 | M12: 20000 | N12: =K12+L12+M12 -> 20000 | Q12: =K12+O12+P12 -> 0 | R12: =IF(AND((N12=0),(Q12>0)),"O",IF(AND((L12<0),(N12-Q12<0)),"O","X")) -> X | Y12: =IF($X12<>"도비",IF($V12="국도비","직접입력",SUM($L12:$M12)),) -> 20000 | Z12: =IF($X12="도비",SUM($L12:$M12),IF($V12="국도비","직접입력",SUM($L12:$M12)-$Y12)) -> 0 | AA12: =IF(SUM($L12:$M12)=SUM($Y12:$Z12),"OK","검토") -> OK | AD12: =IF($X12<>"도비",IF($V12="국도비","직접입력",SUM($O12:$P12)),) -> 0 | AE12: =IF($X12="도비",SUM(O12:P12),IF($V12="국도비","직접입력",SUM(O12:P12)-AD12)) -> 0 | AF12: =IF(SUM(O12:P12)=SUM(AD12:AE12),"OK","검토") -> OK | AH12: =IF(X12="","",IF(X12="도비","세입없음","직접입력")) | AJ12: =IF(AH12="","",COUNTIF($AH$7:$AH$60,AH12)) | AK12: =IF(X12="","",IF(AND(X12="도비",AH12="세입없음"),"OK",IF(AND(X12<>"도비",AH12<>""),"OK","@@"))) | AM12: {=IF(C12="","",INDEX(구분표!$I$2:$I$311, MATCH(1,(구분표!$E$2:$E$311='1추특출'!B12)*(구분표!$F$2:$F$311='1추특출'!C12)*(구분표!$G$2:$G$311='1추특출'!A12),0)))} -> 40103
A13: 안전행정위원회 | B13: 재난안전본부 | C13: 대응구조구급과 | D13: 신규 | E13: 일반 | H13: 의용소방대활성화(자체/직접) -의소대 직무교육 | I13: 0 | J13: 0 | K13: =I13-J13 -> 0 | L13: 0 | M13: 200000 | N13: =K13+L13+M13 -> 200000 | Q13: =K13+O13+P13 -> 0 | R13: =IF(AND((N13=0),(Q13>0)),"O",IF(AND((L13<0),(N13-Q13<0)),"O","X")) -> X | U13: 의용소방대지원경비 | Y13: =IF($X13<>"도비",IF($V13="국도비","직접입력",SUM($L13:$M13)),) -> 200000 | Z13: =IF($X13="도비",SUM($L13:$M13),IF($V13="국도비","직접입력",SUM($L13:$M13)-$Y13)) -> 0 | AA13: =IF(SUM($L13:$M13)=SUM($Y13:$Z13),"OK","검토") -> OK | AD13: =IF($X13<>"도비",IF($V13="국도비","직접입력",SUM($O13:$P13)),) -> 0 | AE13: =IF($X13="도비",SUM(O13:P13),IF($V13="국도비","직접입력",SUM(O13:P13)-AD13)) -> 0 | AF13: =IF(SUM(O13:P13)=SUM(AD13:AE13),"OK","검토") -> OK | AH13: =IF(X13="","",IF(X13="도비","세입없음","직접입력")) | AJ13: =IF(AH13="","",COUNTIF($AH$7:$AH$60,AH13)) | AK13: =IF(X13="","",IF(AND(X13="도비",AH13="세입없음"),"OK",IF(AND(X13<>"도비",AH13<>""),"OK","@@"))) | AM13: {=IF(C13="","",INDEX(구분표!$I$2:$I$311, MATCH(1,(구분표!$E$2:$E$311='1추특출'!B13)*(구분표!$F$2:$F$311='1추특출'!C13)*(구분표!$G$2:$G$311='1추특출'!A13),0)))} -> 40103
A14: =IFERROR(VLOOKUP($C14,[2]구분표!$A$2:$C$313,2,FALSE),"") -> 안전행정위원회 | B14: =IFERROR(VLOOKUP($C14,[2]구분표!$A$2:$C$313,3,FALSE),"") -> 재난안전본부 | C14: 안전교육훈련담당관 | D14: 1회추경 | E14: 일반 | F14: 383 | G14: 88 | H14: 재난안전교육운영(자체/직접) -취약계층안전교육전문강사양성및운영 | I14: 258000 | J14: 0 | K14: =I14-J14 -> 258000 | L14: -150000 | N14: =K14+L14+M14 -> 108000 | Q14: =K14+O14+P14 -> 258000 | R14: =IF(AND((N14=0),(Q14>0)),"O",IF(AND((L14<0),(N14-Q14<0)),"O","X")) -> O | Y14: =IF($X14<>"도비",IF($V14="국도비","직접입력",SUM($L14:$M14)),) -> -150000 | Z14: =IF($X14="도비",SUM($L14:$M14),IF($V14="국도비","직접입력",SUM($L14:$M14)-$Y14)) -> 0 | AA14: =IF(SUM($L14:$M14)=SUM($Y14:$Z14),"OK","검토") -> OK | AD14: =IF($X14<>"도비",IF($V14="국도비","직접입력",SUM($O14:$P14)),) -> 0 | AE14: =IF($X14="도비",SUM(O14:P14),IF($V14="국도비","직접입력",SUM(O14:P14)-AD14)) -> 0 | AF14: =IF(SUM(O14:P14)=SUM(AD14:AE14),"OK","검토") -> OK | AH14: =IF(X14="","",IF(X14="도비","세입없음","직접입력")) | AJ14: =IF(AH14="","",COUNTIF($AH$7:$AH$60,AH14)) | AK14: =IF(X14="","",IF(AND(X14="도비",AH14="세입없음"),"OK",IF(AND(X14<>"도비",AH14<>""),"OK","@@"))) | AM14: {=IF(C14="","",INDEX(구분표!$I$2:$I$311, MATCH(1,(구분표!$E$2:$E$311='1추특출'!B14)*(구분표!$F$2:$F$311='1추특출'!C14)*(구분표!$G$2:$G$311='1추특출'!A14),0)))} -> 40105
A15: 안전행정위원회 | B15: 재난안전본부 | C15: 회계장비담당관 | D15: 신규 | E15: 일반 | H15: 비영리민간단체 공익사업 지원(자체/직접) -불용소방차 지원사업 | I15: 0 | J15: 0 | K15: =I15-J15 -> 0 | L15: 0 | M15: 38000 | N15: =K15+L15+M15 -> 38000 | Q15: =K15+O15+P15 -> 0 | R15: =IF(AND((N15=0),(Q15>0)),"O",IF(AND((L15<0),(N15-Q15<0)),"O","X")) -> X | U15: 민간경상보조 30,000천원 국외업무여비 8,000천원 | Y15: =IF($X15<>"도비",IF($V15="국도비","직접입력",SUM($L15:$M15)),) -> 38000 | Z15: =IF($X15="도비",SUM($L15:$M15),IF($V15="국도비","직접입력",SUM($L15:$M15)-$Y15)) -> 0 | AA15: =IF(SUM($L15:$M15)=SUM($Y15:$Z15),"OK","검토") -> OK | AD15: =IF($X15<>"도비",IF($V15="국도비","직접입력",SUM($O15:$P15)),) -> 0 | AE15: =IF($X15="도비",SUM(O15:P15),IF($V15="국도비","직접입력",SUM(O15:P15)-AD15)) -> 0 | AF15: =IF(SUM(O15:P15)=SUM(AD15:AE15),"OK","검토") -> OK | AH15: =IF(X15="","",IF(X15="도비","세입없음","직접입력")) | AJ15: =IF(AH15="","",COUNTIF($AH$7:$AH$60,AH15)) | AK15: =IF(X15="","",IF(AND(X15="도비",AH15="세입없음"),"OK",IF(AND(X15<>"도비",AH15<>""),"OK","@@"))) | AM15: {=IF(C15="","",INDEX(구분표!$I$2:$I$311, MATCH(1,(구분표!$E$2:$E$311='1추특출'!B15)*(구분표!$F$2:$F$311='1추특출'!C15)*(구분표!$G$2:$G$311='1추특출'!A15),0)))} -> 40107
A16: =IFERROR(VLOOKUP($C16,[2]구분표!$A$2:$C$313,2,FALSE),"") -> 안전행정위원회 | B16: =IFERROR(VLOOKUP($C16,[2]구분표!$A$2:$C$313,3,FALSE),"") -> 재난안전본부 | C16: 안전기획과 | D16: 1회추경 | E16: 일반 | F16: 389 | G16: 139 | H16: 안전산업 클러스터 스타트업캠퍼스 구축 사업(자체/지원) -스타트업 캠퍼스 설계 | I16: 250000 | J16: 0 | K16: =I16-J16 -> 250000 | L16: -250000 | N16: =K16+L16+M16 -> 0 | Q16: =K16+O16+P16 -> 250000 | R16: =IF(AND((N16=0),(Q16>0)),"O",IF(AND((L16<0),(N16-Q16<0)),"O","X")) -> O | Y16: =IF($X16<>"도비",IF($V16="국도비","직접입력",SUM($L16:$M16)),) -> -250000 | Z16: =IF($X16="도비",SUM($L16:$M16),IF($V16="국도비","직접입력",SUM($L16:$M16)-$Y16)) -> 0 | AA16: =IF(SUM($L16:$M16)=SUM($Y16:$Z16),"OK","검토") -> OK | AD16: =IF($X16<>"도비",IF($V16="국도비","직접입력",SUM($O16:$P16)),) -> 0 | AE16: =IF($X16="도비",SUM(O16:P16),IF($V16="국도비","직접입력",SUM(O16:P16)-AD16)) -> 0 | AF16: =IF(SUM(O16:P16)=SUM(AD16:AE16),"OK","검토") -> OK | AH16: =IF(X16="","",IF(X16="도비","세입없음","직접입력")) | AJ16: =IF(AH16="","",COUNTIF($AH$7:$AH$60,AH16)) | AK16: =IF(X16="","",IF(AND(X16="도비",AH16="세입없음"),"OK",IF(AND(X16<>"도비",AH16<>""),"OK","@@"))) | AM16: {=IF(C16="","",INDEX(구분표!$I$2:$I$311, MATCH(1,(구분표!$E$2:$E$311='1추특출'!B16)*(구분표!$F$2:$F$311='1추특출'!C16)*(구분표!$G$2:$G$311='1추특출'!A16),0)))} -> 40109
A17: =IFERROR(VLOOKUP($C17,[2]구분표!$A$2:$C$313,2,FALSE),"") -> 안전행정위원회 | B17: =IFERROR(VLOOKUP($C17,[2]구분표!$A$2:$C$313,3,FALSE),"") -> 재난안전본부 | C17: 화성소방서 | D17: 1회추경 | E17: 일반 | F17: 409 | G17: 191 | H17: 소규모시설개보수(자체/직접) -팔탄지역대개보수 | I17: 582800 | J17: 0 | K17: =I17-J17 -> 582800 | L17: -350000 | N17: =K17+L17+M17 -> 232800 | Q17: =K17+O17+P17 -> 582800 | R17: =IF(AND((N17=0),(Q17>0)),"O",IF(AND((L17<0),(N17-Q17<0)),"O","X")) -> O | Y17: =IF($X17<>"도비",IF($V17="국도비","직접입력",SUM($L17:$M17)),) -> -350000 | Z17: =IF($X17="도비",SUM($L17:$M17),IF($V17="국도비","직접입력",SUM($L17:$M17)-$Y17)) -> 0 | AA17: =IF(SUM($L17:$M17)=SUM($Y17:$Z17),"OK","검토") -> OK | AD17: =IF($X17<>"도비",IF($V17="국도비","직접입력",SUM($O17:$P17)),) -> 0 | AE17: =IF($X17="도비",SUM(O17:P17),IF($V17="국도비","직접입력",SUM(O17:P17)-AD17)) -> 0 | AF17: =IF(SUM(O17:P17)=SUM(AD17:AE17),"OK","검토") -> OK | AH17: =IF(X17="","",IF(X17="도비","세입없음","직접입력")) | AJ17: =IF(AH17="","",COUNTIF($AH$7:$AH$60,AH17)) | AK17: =IF(X17="","",IF(AND(X17="도비",AH17="세입없음"),"OK",IF(AND(X17<>"도비",AH17<>""),"OK","@@"))) | AM17: {=IF(C17="","",INDEX(구분표!$I$2:$I$311, MATCH(1,(구분표!$E$2:$E$311='1추특출'!B17)*(구분표!$F$2:$F$311='1추특출'!C17)*(구분표!$G$2:$G$311='1추특출'!A17),0)))} -> 40417
A18: =IFERROR(VLOOKUP($C18,[2]구분표!$A$2:$C$313,2,FALSE),"") -> 안전행정위원회 | B18: =IFERROR(VLOOKUP($C18,[2]구분표!$A$2:$C$313,3,FALSE),"") -> 재난안전본부 | C18: 화성소방서 | D18: 신규 | E18: 일반 | H18: 소방관서신축및이전(자체/직접) -제2동탄119안전센터신축 | I18: 0 | J18: 0 | K18: =I18-J18 -> 0 | M18: 350000 | N18: =K18+L18+M18 -> 350000 | Q18: =K18+O18+P18 -> 0 | R18: =IF(AND((N18=0),(Q18>0)),"O",IF(AND((L18<0),(N18-Q18<0)),"O","X")) -> X | U18: 시설비 | Y18: =IF($X18<>"도비",IF($V18="국도비","직접입력",SUM($L18:$M18)),) -> 350000 | Z18: =IF($X18="도비",SUM($L18:$M18),IF($V18="국도비","직접입력",SUM($L18:$M18)-$Y18)) -> 0 | AA18: =IF(SUM($L18:$M18)=SUM($Y18:$Z18),"OK","검토") -> OK | AD18: =IF($X18<>"도비",IF($V18="국도비","직접입력",SUM($O18:$P18)),) -> 0 | AE18: =IF($X18="도비",SUM(O18:P18),IF($V18="국도비","직접입력",SUM(O18:P18)-AD18)) -> 0 | AF18: =IF(SUM(O18:P18)=SUM(AD18:AE18),"OK","검토") -> OK | AH18: =IF(X18="","",IF(X18="도비","세입없음","직접입력")) | AJ18: =IF(AH18="","",COUNTIF($AH$7:$AH$60,AH18)) | AK18: =IF(X18="","",IF(AND(X18="도비",AH18="세입없음"),"OK",IF(AND(X18<>"도비",AH18<>""),"OK","@@"))) | AM18: {=IF(C18="","",INDEX(구분표!$I$2:$I$311, MATCH(1,(구분표!$E$2:$E$311='1추특출'!B18)*(구분표!$F$2:$F$311='1추특출'!C18)*(구분표!$G$2:$G$311='1추특출'!A18),0)))} -> 40417
A19: =IFERROR(VLOOKUP($C19,[2]구분표!$A$2:$C$313,2,FALSE),"") -> 안전행정위원회 | B19: =IFERROR(VLOOKUP($C19,[2]구분표!$A$2:$C$313,3,FALSE),"") -> 재난안전본부 | C19: 교수운영과 | D19: 1회추경 | E19: 일반 | F19: 396 | G19: 183 | H19: 교육환경기반조성(자체/직접) -소방훈련탑리모델링 | I19: 1000000 | J19: 0 | K19: =I19-J19 -> 1000000 | L19: -410000 | N19: =K19+L19+M19 -> 590000 | Q19: =K19+O19+P19 -> 1000000 | R19: =IF(AND((N19=0),(Q19>0)),"O",IF(AND((L19<0),(N19-Q19<0)),"O","X")) -> O | U19: 시설비 | Y19: =IF($X19<>"도비",IF($V19="국도비","직접입력",SUM($L19:$M19)),) -> -410000 | Z19: =IF($X19="도비",SUM($L19:$M19),IF($V19="국도비","직접입력",SUM($L19:$M19)-$Y19)) -> 0 | AA19: =IF(SUM($L19:$M19)=SUM($Y19:$Z19),"OK","검토") -> OK | AD19: =IF($X19<>"도비",IF($V19="국도비","직접입력",SUM($O19:$P19)),) -> 0 | AE19: =IF($X19="도비",SUM(O19:P19),IF($V19="국도비","직접입력",SUM(O19:P19)-AD19)) -> 0 | AF19: =IF(SUM(O19:P19)=SUM(AD19:AE19),"OK","검토") -> OK | AH19: =IF(X19="","",IF(X19="도비","세입없음","직접입력")) | AJ19: =IF(AH19="","",COUNTIF($AH$7:$AH$60,AH19)) | AK19: =IF(X19="","",IF(AND(X19="도비",AH19="세입없음"),"OK",IF(AND(X19<>"도비",AH19<>""),"OK","@@"))) | AM19: {=IF(C19="","",INDEX(구분표!$I$2:$I$311, MATCH(1,(구분표!$E$2:$E$311='1추특출'!B19)*(구분표!$F$2:$F$311='1추특출'!C19)*(구분표!$G$2:$G$311='1추특출'!A19),0)))} -> 40303
A20: =IFERROR(VLOOKUP($C20,[2]구분표!$A$2:$C$313,2,FALSE),"") -> 안전행정위원회 | B20: =IFERROR(VLOOKUP($C20,[2]구분표!$A$2:$C$313,3,FALSE),"") -> 재난안전본부 | C20: 수원소방서 | D20: 신규 | E20: 일반 | H20: 소방안전교육 -소방안전교육물품구매(자산취득비) | I20: 0 | J20: 0 | K20: =I20-J20 -> 0 | M20: 150000 | N20: =K20+L20+M20 -> 150000 | Q20: =K20+O20+P20 -> 0 | R20: =IF(AND((N20=0),(Q20>0)),"O",IF(AND((L20<0),(N20-Q20<0)),"O","X")) -> X | Y20: =IF($X20<>"도비",IF($V20="국도비","직접입력",SUM($L20:$M20)),) -> 150000 | Z20: =IF($X20="도비",SUM($L20:$M20),IF($V20="국도비","직접입력",SUM($L20:$M20)-$Y20)) -> 0 | AA20: =IF(SUM($L20:$M20)=SUM($Y20:$Z20),"OK","검토") -> OK | AD20: =IF($X20<>"도비",IF($V20="국도비","직접입력",SUM($O20:$P20)),) -> 0 | AE20: =IF($X20="도비",SUM(O20:P20),IF($V20="국도비","직접입력",SUM(O20:P20)-AD20)) -> 0 | AF20: =IF(SUM(O20:P20)=SUM(AD20:AE20),"OK","검토") -> OK | AH20: =IF(X20="","",IF(X20="도비","세입없음","직접입력")) | AJ20: =IF(AH20="","",COUNTIF($AH$7:$AH$60,AH20)) | AK20: =IF(X20="","",IF(AND(X20="도비",AH20="세입없음"),"OK",IF(AND(X20<>"도비",AH20<>""),"OK","@@"))) | AM20: {=IF(C20="","",INDEX(구분표!$I$2:$I$311, MATCH(1,(구분표!$E$2:$E$311='1추특출'!B20)*(구분표!$F$2:$F$311='1추특출'!C20)*(구분표!$G$2:$G$311='1추특출'!A20),0)))} -> 40401
A21: =IFERROR(VLOOKUP($C21,[2]구분표!$A$2:$C$313,2,FALSE),"") -> 안전행정위원회 | B21: =IFERROR(VLOOKUP($C21,[2]구분표!$A$2:$C$313,3,FALSE),"") -> 재난안전본부 | C21: 수원소방서 | D21: 신규 | E21: 일반 | H21: 소방관서 증축(자체/직접) -본서체력단련실개선공사 | I21: 0 | J21: 0 | K21: =I21-J21 -> 0 | M21: 120000 | N21: =K21+L21+M21 -> 120000 | Q21: =K21+O21+P21 -> 0 | R21: =IF(AND((N21=0),(Q21>0)),"O",IF(AND((L21<0),(N21-Q21<0)),"O","X")) -> X | U21: 자산및물품취득비 70,000 시설비 50,000 | Y21: =IF($X21<>"도비",IF($V21="국도비","직접입력",SUM($L21:$M21)),) -> 120000 | Z21: =IF($X21="도비",SUM($L21:$M21),IF($V21="국도비","직접입력",SUM($L21:$M21)-$Y21)) -> 0 | AA21: =IF(SUM($L21:$M21)=SUM($Y21:$Z21),"OK","검토") -> OK | AD21: =IF($X21<>"도비",IF($V21="국도비","직접입력",SUM($O21:$P21)),) -> 0 | AE21: =IF($X21="도비",SUM(O21:P21),IF($V21="국도비","직접입력",SUM(O21:P21)-AD21)) -> 0 | AF21: =IF(SUM(O21:P21)=SUM(AD21:AE21),"OK","검토") -> OK | AH21: =IF(X21="","",IF(X21="도비","세입없음","직접입력")) | AJ21: =IF(AH21="","",COUNTIF($AH$7:$AH$60,AH21)) | AK21: =IF(X21="","",IF(AND(X21="도비",AH21="세입없음"),"OK",IF(AND(X21<>"도비",AH21<>""),"OK","@@"))) | AM21: {=IF(C21="","",INDEX(구분표!$I$2:$I$311, MATCH(1,(구분표!$E$2:$E$311='1추특출'!B21)*(구분표!$F$2:$F$311='1추특출'!C21)*(구분표!$G$2:$G$311='1추특출'!A21),0)))} -> 40401
A22: =IFERROR(VLOOKUP($C22,[2]구분표!$A$2:$C$313,2,FALSE),"") -> 안전행정위원회 | B22: =IFERROR(VLOOKUP($C22,[2]구분표!$A$2:$C$313,3,FALSE),"") -> 재난안전본부 | C22: 용인소방서 | D22: 신규 | E22: 일반 | H22: 소규모시설개보수(자체/직접) -본서민원실신축 | I22: 0 | J22: 0 | K22: =I22-J22 -> 0 | M22: 40000 | N22: =K22+L22+M22 -> 40000 | Q22: =K22+O22+P22 -> 0 | R22: =IF(AND((N22=0),(Q22>0)),"O",IF(AND((L22<0),(N22-Q22<0)),"O","X")) -> X | U22: 자산및물품취득비 | Y22: =IF($X22<>"도비",IF($V22="국도비","직접입력",SUM($L22:$M22)),) -> 40000 | Z22: =IF($X22="도비",SUM($L22:$M22),IF($V22="국도비","직접입력",SUM($L22:$M22)-$Y22)) -> 0 | AA22: =IF(SUM($L22:$M22)=SUM($Y22:$Z22),"OK","검토") -> OK | AD22: =IF($X22<>"도비",IF($V22="국도비","직접입력",SUM($O22:$P22)),) -> 0 | AE22: =IF($X22="도비",SUM(O22:P22),IF($V22="국도비","직접입력",SUM(O22:P22)-AD22)) -> 0 | AF22: =IF(SUM(O22:P22)=SUM(AD22:AE22),"OK","검토") -> OK | AH22: =IF(X22="","",IF(X22="도비","세입없음","직접입력")) | AJ22: =IF(AH22="","",COUNTIF($AH$7:$AH$60,AH22)) | AK22: =IF(X22="","",IF(AND(X22="도비",AH22="세입없음"),"OK",IF(AND(X22<>"도비",AH22<>""),"OK","@@"))) | AM22: {=IF(C22="","",INDEX(구분표!$I$2:$I$311, MATCH(1,(구분표!$E$2:$E$311='1추특출'!B22)*(구분표!$F$2:$F$311='1추특출'!C22)*(구분표!$G$2:$G$311='1추특출'!A22),0)))} -> 40409
A23: =IFERROR(VLOOKUP($C23,[2]구분표!$A$2:$C$313,2,FALSE),"") -> 안전행정위원회 | B23: =IFERROR(VLOOKUP($C23,[2]구분표!$A$2:$C$313,3,FALSE),"") -> 재난안전본부 | C23: 소방행정과 | D23: 신규 | E23: 일반 | H23: 기관공통운영경비의효율적지원(자체/직접) -소방공통 노후청사 개보수 | I23: 0 | J23: 0 | K23: =I23-J23 -> 0 | M23: 1106421 | N23: =K23+L23+M23 -> 1106421 | Q23: =K23+O23+P23 -> 0 | R23: =IF(AND((N23=0),(Q23>0)),"O",IF(AND((L23<0),(N23-Q23<0)),"O","X")) -> X | S23: 부서변경 (회계장비담당관->소방행정과) | Y23: =IF($X23<>"도비",IF($V23="국도비","직접입력",SUM($L23:$M23)),) -> 1106421 | Z23: =IF($X23="도비",SUM($L23:$M23),IF($V23="국도비","직접입력",SUM($L23:$M23)-$Y23)) -> 0 | AA23: =IF(SUM($L23:$M23)=SUM($Y23:$Z23),"OK","검토") -> OK | AD23: =IF($X23<>"도비",IF($V23="국도비","직접입력",SUM($O23:$P23)),) -> 0 | AE23: =IF($X23="도비",SUM(O23:P23),IF($V23="국도비","직접입력",SUM(O23:P23)-AD23)) -> 0 | AF23: =IF(SUM(O23:P23)=SUM(AD23:AE23),"OK","검토") -> OK | AH23: =IF(X23="","",IF(X23="도비","세입없음","직접입력")) | AJ23: =IF(AH23="","",COUNTIF($AH$7:$AH$60,AH23)) | AK23: =IF(X23="","",IF(AND(X23="도비",AH23="세입없음"),"OK",IF(AND(X23<>"도비",AH23<>""),"OK","@@"))) | AM23: {=IF(C23="","",INDEX(구분표!$I$2:$I$311, MATCH(1,(구분표!$E$2:$E$311='1추특출'!B23)*(구분표!$F$2:$F$311='1추특출'!C23)*(구분표!$G$2:$G$311='1추특출'!A23),0)))} -> 40101
A24: =IFERROR(VLOOKUP($C24,[2]구분표!$A$2:$C$313,2,FALSE),"") -> 안전행정위원회 | B24: =IFERROR(VLOOKUP($C24,[2]구분표!$A$2:$C$313,3,FALSE),"") -> 재난안전본부 | C24: 소방행정과 | D24: 신규 | E24: 일반 | H24: 자산취득비 -재난안전본부구내식당물품구입 | I24: 0 | J24: 0 | K24: =I24-J24 -> 0 | M24: 41153 | N24: =K24+L24+M24 -> 41153 | Q24: =K24+O24+P24 -> 0 | R24: =IF(AND((N24=0),(Q24>0)),"O",IF(AND((L24<0),(N24-Q24<0)),"O","X")) -> X | S24: 부서변경 (회계장비담당관->소방행정과) | Y24: =IF($X24<>"도비",IF($V24="국도비","직접입력",SUM($L24:$M24)),) -> 41153 | Z24: =IF($X24="도비",SUM($L24:$M24),IF($V24="국도비","직접입력",SUM($L24:$M24)-$Y24)) -> 0 | AA24: =IF(SUM($L24:$M24)=SUM($Y24:$Z24),"OK","검토") -> OK | AD24: =IF($X24<>"도비",IF($V24="국도비","직접입력",SUM($O24:$P24)),) -> 0 | AE24: =IF($X24="도비",SUM(O24:P24),IF($V24="국도비","직접입력",SUM(O24:P24)-AD24)) -> 0 | AF24: =IF(SUM(O24:P24)=SUM(AD24:AE24),"OK","검토") -> OK | AH24: =IF(X24="","",IF(X24="도비","세입없음","직접입력")) | AJ24: =IF(AH24="","",COUNTIF($AH$7:$AH$60,AH24)) | AK24: =IF(X24="","",IF(AND(X24="도비",AH24="세입없음"),"OK",IF(AND(X24<>"도비",AH24<>""),"OK","@@"))) | AM24: {=IF(C24="","",INDEX(구분표!$I$2:$I$311, MATCH(1,(구분표!$E$2:$E$311='1추특출'!B24)*(구분표!$F$2:$F$311='1추특출'!C24)*(구분표!$G$2:$G$311='1추특출'!A24),0)))} -> 40101
A25: 안전행정위원회 | B25: 재난안전본부 | C25: 회계장비담당관 | D25: 본예산 | E25: 일반 | H25: 소방청사관리(자체/직접) -소방공통 노후청사 개보수 | I25: 2092488 | J25: 2092488 | K25: =I25-J25 -> 0 | L25: -1106421 | N25: =K25+L25+M25 -> -1106421 | Q25: =K25+O25+P25 -> 0 | R25: =IF(AND((N25=0),(Q25>0)),"O",IF(AND((L25<0),(N25-Q25<0)),"O","X")) -> O | S25: 부서변경 (회계장비담당관->소방행정과) | Y25: =IF($X25<>"도비",IF($V25="국도비","직접입력",SUM($L25:$M25)),) -> -1106421 | Z25: =IF($X25="도비",SUM($L25:$M25),IF($V25="국도비","직접입력",SUM($L25:$M25)-$Y25)) -> 0 | AA25: =IF(SUM($L25:$M25)=SUM($Y25:$Z25),"OK","검토") -> OK | AD25: =IF($X25<>"도비",IF($V25="국도비","직접입력",SUM($O25:$P25)),) -> 0 | AE25: =IF($X25="도비",SUM(O25:P25),IF($V25="국도비","직접입력",SUM(O25:P25)-AD25)) -> 0 | AF25: =IF(SUM(O25:P25)=SUM(AD25:AE25),"OK","검토") -> OK | AH25: =IF(X25="","",IF(X25="도비","세입없음","직접입력")) | AJ25: =IF(AH25="","",COUNTIF($AH$7:$AH$60,AH25)) | AK25: =IF(X25="","",IF(AND(X25="도비",AH25="세입없음"),"OK",IF(AND(X25<>"도비",AH25<>""),"OK","@@"))) | AM25: {=IF(C25="","",INDEX(구분표!$I$2:$I$311, MATCH(1,(구분표!$E$2:$E$311='1추특출'!B25)*(구분표!$F$2:$F$311='1추특출'!C25)*(구분표!$G$2:$G$311='1추특출'!A25),0)))} -> 40107
A26: 안전행정위원회 | B26: 재난안전본부 | C26: 회계장비담당관 | D26: 본예산 | E26: 일반 | H26: 소방청사관리(자체/직접) -재난안전본부 구내식당 물품구입 | I26: 45812 | J26: 45812 | K26: =I26-J26 -> 0 | L26: -41153 | N26: =K26+L26+M26 -> -41153 | Q26: =K26+O26+P26 -> 0 | R26: =IF(AND((N26=0),(Q26>0)),"O",IF(AND((L26<0),(N26-Q26<0)),"O","X")) -> O | S26: 부서변경 (회계장비담당관->소방행정과) | Y26: =IF($X26<>"도비",IF($V26="국도비","직접입력",SUM($L26:$M26)),) -> -41153 | Z26: =IF($X26="도비",SUM($L26:$M26),IF($V26="국도비","직접입력",SUM($L26:$M26)-$Y26)) -> 0 | AA26: =IF(SUM($L26:$M26)=SUM($Y26:$Z26),"OK","검토") -> OK | AD26: =IF($X26<>"도비",IF($V26="국도비","직접입력",SUM($O26:$P26)),) -> 0 | AE26: =IF($X26="도비",SUM(O26:P26),IF($V26="국도비","직접입력",SUM(O26:P26)-AD26)) -> 0 | AF26: =IF(SUM(O26:P26)=SUM(AD26:AE26),"OK","검토") -> OK | AH26: =IF(X26="","",IF(X26="도비","세입없음","직접입력")) | AJ26: =IF(AH26="","",COUNTIF($AH$7:$AH$60,AH26)) | AK26: =IF(X26="","",IF(AND(X26="도비",AH26="세입없음"),"OK",IF(AND(X26<>"도비",AH26<>""),"OK","@@"))) | AM26: {=IF(C26="","",INDEX(구분표!$I$2:$I$311, MATCH(1,(구분표!$E$2:$E$311='1추특출'!B26)*(구분표!$F$2:$F$311='1추특출'!C26)*(구분표!$G$2:$G$311='1추특출'!A26),0)))} -> 40107
A27: 안전행정위원회 | B27: 재난안전본부 | C27: 수원소방서 | D27: 1회추경 | E27: 일반 | F27: 397 | G27: 198 | H27: 긴급구조 종합훈련(자체/직접) -긴급구조종합훈련 소요물품 | I27: 14580 | J27: 1000 | K27: =I27-J27 -> 13580 | N27: =K27+L27+M27 -> 13580 | Q27: =K27+O27+P27 -> 13580 | R27: =IF(AND((N27=0),(Q27>0)),"O",IF(AND((L27<0),(N27-Q27<0)),"O","X")) -> X | S27: 통계목 변경 (재료비->사무관리비) | Y27: =IF($X27<>"도비",IF($V27="국도비","직접입력",SUM($L27:$M27)),) -> 0 | Z27: =IF($X27="도비",SUM($L27:$M27),IF($V27="국도비","직접입력",SUM($L27:$M27)-$Y27)) -> 0 | AA27: =IF(SUM($L27:$M27)=SUM($Y27:$Z27),"OK","검토") -> OK | AD27: =IF($X27<>"도비",IF($V27="국도비","직접입력",SUM($O27:$P27)),) -> 0 | AE27: =IF($X27="도비",SUM(O27:P27),IF($V27="국도비","직접입력",SUM(O27:P27)-AD27)) -> 0 | AF27: =IF(SUM(O27:P27)=SUM(AD27:AE27),"OK","검토") -> OK | AH27: =IF(X27="","",IF(X27="도비","세입없음","직접입력")) | AJ27: =IF(AH27="","",COUNTIF($AH$7:$AH$60,AH27)) | AK27: =IF(X27="","",IF(AND(X27="도비",AH27="세입없음"),"OK",IF(AND(X27<>"도비",AH27<>""),"OK","@@"))) | AM27: {=IF(C27="","",INDEX(구분표!$I$2:$I$311, MATCH(1,(구분표!$E$2:$E$311='1추특출'!B27)*(구분표!$F$2:$F$311='1추특출'!C27)*(구분표!$G$2:$G$311='1추특출'!A27),0)))} -> 40401
A28: 안전행정위원회 | B28: 재난안전본부 | C28: 성남소방서 | D28: 1회추경 | E28: 일반 | F28: 398 | G28: 198 | H28: 긴급구조 종합훈련(자체/직접) -긴급구조종합훈련 소요물품 | I28: 6850 | J28: 1000 | K28: =I28-J28 -> 5850 | N28: =K28+L28+M28 -> 5850 | Q28: =K28+O28+P28 -> 5850 | R28: =IF(AND((N28=0),(Q28>0)),"O",IF(AND((L28<0),(N28-Q28<0)),"O","X")) -> X | S28: 통계목 변경 (재료비->사무관리비) | Y28: =IF($X28<>"도비",IF($V28="국도비","직접입력",SUM($L28:$M28)),) -> 0 | Z28: =IF($X28="도비",SUM($L28:$M28),IF($V28="국도비","직접입력",SUM($L28:$M28)-$Y28)) -> 0 | AA28: =IF(SUM($L28:$M28)=SUM($Y28:$Z28),"OK","검토") -> OK | AD28: =IF($X28<>"도비",IF($V28="국도비","직접입력",SUM($O28:$P28)),) -> 0 | AE28: =IF($X28="도비",SUM(O28:P28),IF($V28="국도비","직접입력",SUM(O28:P28)-AD28)) -> 0 | AF28: =IF(SUM(O28:P28)=SUM(AD28:AE28),"OK","검토") -> OK | AH28: =IF(X28="","",IF(X28="도비","세입없음","직접입력")) | AJ28: =IF(AH28="","",COUNTIF($AH$7:$AH$60,AH28)) | AK28: =IF(X28="","",IF(AND(X28="도비",AH28="세입없음"),"OK",IF(AND(X28<>"도비",AH28<>""),"OK","@@"))) | AM28: {=IF(C28="","",INDEX(구분표!$I$2:$I$311, MATCH(1,(구분표!$E$2:$E$311='1추특출'!B28)*(구분표!$F$2:$F$311='1추특출'!C28)*(구분표!$G$2:$G$311='1추특출'!A28),0)))} -> 40402
A29: 안전행정위원회 | B29: 재난안전본부 | C29: 분당소방서 | D29: 1회추경 | E29: 일반 | F29: 399 | G29: 198 | H29: 긴급구조 종합훈련(자체/직접) -긴급구조종합훈련 소요물품 | I29: 6600 | J29: 1000 | K29: =I29-J29 -> 5600 | N29: =K29+L29+M29 -> 5600 | Q29: =K29+O29+P29 -> 5600 | R29: =IF(AND((N29=0),(Q29>0)),"O",IF(AND((L29<0),(N29-Q29<0)),"O","X")) -> X | S29: 통계목 변경 (재료비->사무관리비) | Y29: =IF($X29<>"도비",IF($V29="국도비","직접입력",SUM($L29:$M29)),) -> 0 | Z29: =IF($X29="도비",SUM($L29:$M29),IF($V29="국도비","직접입력",SUM($L29:$M29)-$Y29)) -> 0 | AA29: =IF(SUM($L29:$M29)=SUM($Y29:$Z29),"OK","검토") -> OK | AD29: =IF($X29<>"도비",IF($V29="국도비","직접입력",SUM($O29:$P29)),) -> 0 | AE29: =IF($X29="도비",SUM(O29:P29),IF($V29="국도비","직접입력",SUM(O29:P29)-AD29)) -> 0 | AF29: =IF(SUM(O29:P29)=SUM(AD29:AE29),"OK","검토") -> OK | AH29: =IF(X29="","",IF(X29="도비","세입없음","직접입력")) | AJ29: =IF(AH29="","",COUNTIF($AH$7:$AH$60,AH29)) | AK29: =IF(X29="","",IF(AND(X29="도비",AH29="세입없음"),"OK",IF(AND(X29<>"도비",AH29<>""),"OK","@@"))) | AM29: {=IF(C29="","",INDEX(구분표!$I$2:$I$311, MATCH(1,(구분표!$E$2:$E$311='1추특출'!B29)*(구분표!$F$2:$F$311='1추특출'!C29)*(구분표!$G$2:$G$311='1추특출'!A29),0)))} -> 40403
A30: 안전행정위원회 | B30: 재난안전본부 | C30: 부천소방서 | D30: 1회추경 | E30: 일반 | F30: 400 | G30: 198 | H30: 긴급구조 종합훈련(자체/직접) -긴급구조종합훈련 소요물품 | I30: 9880 | J30: 1000 | K30: =I30-J30 -> 8880 | N30: =K30+L30+M30 -> 8880 | Q30: =K30+O30+P30 -> 8880 | R30: =IF(AND((N30=0),(Q30>0)),"O",IF(AND((L30<0),(N30-Q30<0)),"O","X")) -> X | S30: 통계목 변경 (재료비->사무관리비) | Y30: =IF($X30<>"도비",IF($V30="국도비","직접입력",SUM($L30:$M30)),) -> 0 | Z30: =IF($X30="도비",SUM($L30:$M30),IF($V30="국도비","직접입력",SUM($L30:$M30)-$Y30)) -> 0 | AA30: =IF(SUM($L30:$M30)=SUM($Y30:$Z30),"OK","검토") -> OK | AD30: =IF($X30<>"도비",IF($V30="국도비","직접입력",SUM($O30:$P30)),) -> 0 | AE30: =IF($X30="도비",SUM(O30:P30),IF($V30="국도비","직접입력",SUM(O30:P30)-AD30)) -> 0 | AF30: =IF(SUM(O30:P30)=SUM(AD30:AE30),"OK","검토") -> OK | AH30: =IF(X30="","",IF(X30="도비","세입없음","직접입력")) | AJ30: =IF(AH30="","",COUNTIF($AH$7:$AH$60,AH30)) | AK30: =IF(X30="","",IF(AND(X30="도비",AH30="세입없음"),"OK",IF(AND(X30<>"도비",AH30<>""),"OK","@@"))) | AM30: {=IF(C30="","",INDEX(구분표!$I$2:$I$311, MATCH(1,(구분표!$E$2:$E$311='1추특출'!B30)*(구분표!$F$2:$F$311='1추특출'!C30)*(구분표!$G$2:$G$311='1추특출'!A30),0)))} -> 40406
A31: =IFERROR(VLOOKUP($C31,구분표!$A$2:$C$311,2,FALSE),"") -> 안전행정위원회 | B31: =IFERROR(VLOOKUP($C31,구분표!$A$2:$C$311,3,FALSE),"") -> 재난안전본부 | C31: 안양소방서 | D31: 1회추경 | E31: 일반 | F31: 401 | G31: 198 | H31: 긴급구조 종합훈련(자체/직접) -긴급구조종합훈련 소요물품 | I31: 7210 | J31: 1000 | K31: =I31-J31 -> 6210 | N31: =K31+L31+M31 -> 6210 | Q31: =K31+O31+P31 -> 6210 | R31: =IF(AND((N31=0),(Q31>0)),"O",IF(AND((L31<0),(N31-Q31<0)),"O","X")) -> X | S31: 통계목 변경 (재료비->사무관리비) | Y31: =IF($X31<>"도비",IF($V31="국도비","직접입력",SUM($L31:$M31)),) -> 0 | Z31: =IF($X31="도비",SUM($L31:$M31),IF($V31="국도비","직접입력",SUM($L31:$M31)-$Y31)) -> 0 | AA31: =IF(SUM($L31:$M31)=SUM($Y31:$Z31),"OK","검토") -> OK | AD31: =IF($X31<>"도비",IF($V31="국도비","직접입력",SUM($O31:$P31)),) -> 0 | AE31: =IF($X31="도비",SUM(O31:P31),IF($V31="국도비","직접입력",SUM(O31:P31)-AD31)) -> 0 | AF31: =IF(SUM(O31:P31)=SUM(AD31:AE31),"OK","검토") -> OK | AH31: =IF(X31="","",IF(X31="도비","세입없음","직접입력")) | AJ31: =IF(AH31="","",COUNTIF($AH$7:$AH$60,AH31)) | AK31: =IF(X31="","",IF(AND(X31="도비",AH31="세입없음"),"OK",IF(AND(X31<>"도비",AH31<>""),"OK","@@"))) | AM31: {=IF(C31="","",INDEX(구분표!$I$2:$I$311, MATCH(1,(구분표!$E$2:$E$311='1추특출'!B31)*(구분표!$F$2:$F$311='1추특출'!C31)*(구분표!$G$2:$G$311='1추특출'!A31),0)))} -> 40407
A32: 안전행정위원회 | B32: 재난안전본부 | C32: 안산소방서 | D32: 1회추경 | E32: 일반 | F32: 402 | G32: 198 | H32: 긴급구조 종합훈련(자체/직접) -긴급구조종합훈련 소요물품 | I32: 10170 | J32: 1000 | K32: =I32-J32 -> 9170 | N32: =K32+L32+M32 -> 9170 | Q32: =K32+O32+P32 -> 9170 | R32: =IF(AND((N32=0),(Q32>0)),"O",IF(AND((L32<0),(N32-Q32<0)),"O","X")) -> X | S32: 통계목 변경 (재료비->사무관리비) | Y32: =IF($X32<>"도비",IF($V32="국도비","직접입력",SUM($L32:$M32)),) -> 0 | Z32: =IF($X32="도비",SUM($L32:$M32),IF($V32="국도비","직접입력",SUM($L32:$M32)-$Y32)) -> 0 | AA32: =IF(SUM($L32:$M32)=SUM($Y32:$Z32),"OK","검토") -> OK | AD32: =IF($X32<>"도비",IF($V32="국도비","직접입력",SUM($O32:$P32)),) -> 0 | AE32: =IF($X32="도비",SUM(O32:P32),IF($V32="국도비","직접입력",SUM(O32:P32)-AD32)) -> 0 | AF32: =IF(SUM(O32:P32)=SUM(AD32:AE32),"OK","검토") -> OK | AH32: =IF(X32="","",IF(X32="도비","세입없음","직접입력")) | AJ32: =IF(AH32="","",COUNTIF($AH$7:$AH$60,AH32)) | AK32: =IF(X32="","",IF(AND(X32="도비",AH32="세입없음"),"OK",IF(AND(X32<>"도비",AH32<>""),"OK","@@"))) | AM32: {=IF(C32="","",INDEX(구분표!$I$2:$I$311, MATCH(1,(구분표!$E$2:$E$311='1추특출'!B32)*(구분표!$F$2:$F$311='1추특출'!C32)*(구분표!$G$2:$G$311='1추특출'!A32),0)))} -> 40408
A33: 안전행정위원회 | B33: 재난안전본부 | C33: 용인소방서 | D33: 1회추경 | E33: 일반 | F33: 403 | G33: 198 | H33: 긴급구조 종합훈련(자체/직접) -긴급구조종합훈련 소요물품 | I33: 11540 | J33: 1000 | K33: =I33-J33 -> 10540 | N33: =K33+L33+M33 -> 10540 | Q33: =K33+O33+P33 -> 10540 | R33: =IF(AND((N33=0),(Q33>0)),"O",IF(AND((L33<0),(N33-Q33<0)),"O","X")) -> X | S33: 통계목 변경 (재료비->사무관리비) | Y33: =IF($X33<>"도비",IF($V33="국도비","직접입력",SUM($L33:$M33)),) -> 0 | Z33: =IF($X33="도비",SUM($L33:$M33),IF($V33="국도비","직접입력",SUM($L33:$M33)-$Y33)) -> 0 | AA33: =IF(SUM($L33:$M33)=SUM($Y33:$Z33),"OK","검토") -> OK | AD33: =IF($X33<>"도비",IF($V33="국도비","직접입력",SUM($O33:$P33)),) -> 0 | AE33: =IF($X33="도비",SUM(O33:P33),IF($V33="국도비","직접입력",SUM(O33:P33)-AD33)) -> 0 | AF33: =IF(SUM(O33:P33)=SUM(AD33:AE33),"OK","검토") -> OK | AH33: =IF(X33="","",IF(X33="도비","세입없음","직접입력")) | AJ33: =IF(AH33="","",COUNTIF($AH$7:$AH$60,AH33)) | AK33: =IF(X33="","",IF(AND(X33="도비",AH33="세입없음"),"OK",IF(AND(X33<>"도비",AH33<>""),"OK","@@"))) | AM33: {=IF(C33="","",INDEX(구분표!$I$2:$I$311, MATCH(1,(구분표!$E$2:$E$311='1추특출'!B33)*(구분표!$F$2:$F$311='1추특출'!C33)*(구분표!$G$2:$G$311='1추특출'!A33),0)))} -> 40409
A34: 안전행정위원회 | B34: 재난안전본부 | C34: 평택소방서 | D34: 1회추경 | E34: 일반 | F34: 404 | G34: 198 | H34: 긴급구조 종합훈련(자체/직접) -긴급구조종합훈련 소요물품 | I34: 6310 | J34: 1000 | K34: =I34-J34 -> 5310 | N34: =K34+L34+M34 -> 5310 | Q34: =K34+O34+P34 -> 5310 | R34: =IF(AND((N34=0),(Q34>0)),"O",IF(AND((L34<0),(N34-Q34<0)),"O","X")) -> X | S34: 통계목 변경 (재료비->사무관리비) | Y34: =IF($X34<>"도비",IF($V34="국도비","직접입력",SUM($L34:$M34)),) -> 0 | Z34: =IF($X34="도비",SUM($L34:$M34),IF($V34="국도비","직접입력",SUM($L34:$M34)-$Y34)) -> 0 | AA34: =IF(SUM($L34:$M34)=SUM($Y34:$Z34),"OK","검토") -> OK | AD34: =IF($X34<>"도비",IF($V34="국도비","직접입력",SUM($O34:$P34)),) -> 0 | AE34: =IF($X34="도비",SUM(O34:P34),IF($V34="국도비","직접입력",SUM(O34:P34)-AD34)) -> 0 | AF34: =IF(SUM(O34:P34)=SUM(AD34:AE34),"OK","검토") -> OK | AH34: =IF(X34="","",IF(X34="도비","세입없음","직접입력")) | AJ34: =IF(AH34="","",COUNTIF($AH$7:$AH$60,AH34)) | AK34: =IF(X34="","",IF(AND(X34="도비",AH34="세입없음"),"OK",IF(AND(X34<>"도비",AH34<>""),"OK","@@"))) | AM34: {=IF(C34="","",INDEX(구분표!$I$2:$I$311, MATCH(1,(구분표!$E$2:$E$311='1추특출'!B34)*(구분표!$F$2:$F$311='1추특출'!C34)*(구분표!$G$2:$G$311='1추특출'!A34),0)))} -> 40412
A35: 안전행정위원회 | B35: 재난안전본부 | C35: 송탄소방서 | D35: 1회추경 | E35: 일반 | F35: 405 | G35: 198 | H35: 긴급구조 종합훈련(자체/직접) -긴급구조종합훈련 소요물품 | I35: 6710 | J35: 1000 | K35: =I35-J35 -> 5710 | N35: =K35+L35+M35 -> 5710 | Q35: =K35+O35+P35 -> 5710 | R35: =IF(AND((N35=0),(Q35>0)),"O",IF(AND((L35<0),(N35-Q35<0)),"O","X")) -> X | S35: 통계목 변경 (재료비->사무관리비) | Y35: =IF($X35<>"도비",IF($V35="국도비","직접입력",SUM($L35:$M35)),) -> 0 | Z35: =IF($X35="도비",SUM($L35:$M35),IF($V35="국도비","직접입력",SUM($L35:$M35)-$Y35)) -> 0 | AA35: =IF(SUM($L35:$M35)=SUM($Y35:$Z35),"OK","검토") -> OK | AD35: =IF($X35<>"도비",IF($V35="국도비","직접입력",SUM($O35:$P35)),) -> 0 | AE35: =IF($X35="도비",SUM(O35:P35),IF($V35="국도비","직접입력",SUM(O35:P35)-AD35)) -> 0 | AF35: =IF(SUM(O35:P35)=SUM(AD35:AE35),"OK","검토") -> OK | AH35: =IF(X35="","",IF(X35="도비","세입없음","직접입력")) | AJ35: =IF(AH35="","",COUNTIF($AH$7:$AH$60,AH35)) | AK35: =IF(X35="","",IF(AND(X35="도비",AH35="세입없음"),"OK",IF(AND(X35<>"도비",AH35<>""),"OK","@@"))) | AM35: {=IF(C35="","",INDEX(구분표!$I$2:$I$311, MATCH(1,(구분표!$E$2:$E$311='1추특출'!B35)*(구분표!$F$2:$F$311='1추특출'!C35)*(구분표!$G$2:$G$311='1추특출'!A35),0)))} -> 40413
A36: 안전행정위원회 | B36: 재난안전본부 | C36: 광명소방서 | D36: 1회추경 | E36: 일반 | F36: 406 | G36: 198 | H36: 긴급구조 종합훈련(자체/직접) -긴급구조종합훈련 소요물품 | I36: 5800 | J36: 1000 | K36: =I36-J36 -> 4800 | N36: =K36+L36+M36 -> 4800 | Q36: =K36+O36+P36 -> 4800 | R36: =IF(AND((N36=0),(Q36>0)),"O",IF(AND((L36<0),(N36-Q36<0)),"O","X")) -> X | S36: 통계목 변경 (재료비->사무관리비) | Y36: =IF($X36<>"도비",IF($V36="국도비","직접입력",SUM($L36:$M36)),) -> 0 | Z36: =IF($X36="도비",SUM($L36:$M36),IF($V36="국도비","직접입력",SUM($L36:$M36)-$Y36)) -> 0 | AA36: =IF(SUM($L36:$M36)=SUM($Y36:$Z36),"OK","검토") -> OK | AD36: =IF($X36<>"도비",IF($V36="국도비","직접입력",SUM($O36:$P36)),) -> 0 | AE36: =IF($X36="도비",SUM(O36:P36),IF($V36="국도비","직접입력",SUM(O36:P36)-AD36)) -> 0 | AF36: =IF(SUM(O36:P36)=SUM(AD36:AE36),"OK","검토") -> OK | AH36: =IF(X36="","",IF(X36="도비","세입없음","직접입력")) | AJ36: =IF(AH36="","",COUNTIF($AH$7:$AH$60,AH36)) | AK36: =IF(X36="","",IF(AND(X36="도비",AH36="세입없음"),"OK",IF(AND(X36<>"도비",AH36<>""),"OK","@@"))) | AM36: {=IF(C36="","",INDEX(구분표!$I$2:$I$311, MATCH(1,(구분표!$E$2:$E$311='1추특출'!B36)*(구분표!$F$2:$F$311='1추특출'!C36)*(구분표!$G$2:$G$311='1추특출'!A36),0)))} -> 40414
A37: 안전행정위원회 | B37: 재난안전본부 | C37: 시흥소방서 | D37: 1회추경 | E37: 일반 | F37: 407 | G37: 198 | H37: 긴급구조 종합훈련(자체/직접) -긴급구조종합훈련 소요물품 | I37: 6420 | J37: 1000 | K37: =I37-J37 -> 5420 | N37: =K37+L37+M37 -> 5420 | Q37: =K37+O37+P37 -> 5420 | R37: =IF(AND((N37=0),(Q37>0)),"O",IF(AND((L37<0),(N37-Q37<0)),"O","X")) -> X | S37: 통계목 변경 (재료비->사무관리비) | Y37: =IF($X37<>"도비",IF($V37="국도비","직접입력",SUM($L37:$M37)),) -> 0 | Z37: =IF($X37="도비",SUM($L37:$M37),IF($V37="국도비","직접입력",SUM($L37:$M37)-$Y37)) -> 0 | AA37: =IF(SUM($L37:$M37)=SUM($Y37:$Z37),"OK","검토") -> OK | AD37: =IF($X37<>"도비",IF($V37="국도비","직접입력",SUM($O37:$P37)),) -> 0 | AE37: =IF($X37="도비",SUM(O37:P37),IF($V37="국도비","직접입력",SUM(O37:P37)-AD37)) -> 0 | AF37: =IF(SUM(O37:P37)=SUM(AD37:AE37),"OK","검토") -> OK | AH37: =IF(X37="","",IF(X37="도비","세입없음","직접입력")) | AJ37: =IF(AH37="","",COUNTIF($AH$7:$AH$60,AH37)) | AK37: =IF(X37="","",IF(AND(X37="도비",AH37="세입없음"),"OK",IF(AND(X37<>"도비",AH37<>""),"OK","@@"))) | AM37: {=IF(C37="","",INDEX(구분표!$I$2:$I$311, MATCH(1,(구분표!$E$2:$E$311='1추특출'!B37)*(구분표!$F$2:$F$311='1추특출'!C37)*(구분표!$G$2:$G$311='1추특출'!A37),0)))} -> 40415
A38: 안전행정위원회 | B38: 재난안전본부 | C38: 군포소방서 | D38: 1회추경 | E38: 일반 | F38: 408 | G38: 198 | H38: 긴급구조 종합훈련(자체/직접) -긴급구조종합훈련 소요물품 | I38: 4790 | J38: 1000 | K38: =I38-J38 -> 3790 | N38: =K38+L38+M38 -> 3790 | Q38: =K38+O38+P38 -> 3790 | R38: =IF(AND((N38=0),(Q38>0)),"O",IF(AND((L38<0),(N38-Q38<0)),"O","X")) -> X | S38: 통계목 변경 (재료비->사무관리비) | Y38: =IF($X38<>"도비",IF($V38="국도비","직접입력",SUM($L38:$M38)),) -> 0 | Z38: =IF($X38="도비",SUM($L38:$M38),IF($V38="국도비","직접입력",SUM($L38:$M38)-$Y38)) -> 0 | AA38: =IF(SUM($L38:$M38)=SUM($Y38:$Z38),"OK","검토") -> OK | AD38: =IF($X38<>"도비",IF($V38="국도비","직접입력",SUM($O38:$P38)),) -> 0 | AE38: =IF($X38="도비",SUM(O38:P38),IF($V38="국도비","직접입력",SUM(O38:P38)-AD38)) -> 0 | AF38: =IF(SUM(O38:P38)=SUM(AD38:AE38),"OK","검토") -> OK | AH38: =IF(X38="","",IF(X38="도비","세입없음","직접입력")) | AJ38: =IF(AH38="","",COUNTIF($AH$7:$AH$60,AH38)) | AK38: =IF(X38="","",IF(AND(X38="도비",AH38="세입없음"),"OK",IF(AND(X38<>"도비",AH38<>""),"OK","@@"))) | AM38: {=IF(C38="","",INDEX(구분표!$I$2:$I$311, MATCH(1,(구분표!$E$2:$E$311='1추특출'!B38)*(구분표!$F$2:$F$311='1추특출'!C38)*(구분표!$G$2:$G$311='1추특출'!A38),0)))} -> 40416
A39: 안전행정위원회 | B39: 재난안전본부 | C39: 화성소방서 | D39: 1회추경 | E39: 일반 | F39: 409 | G39: 198 | H39: 긴급구조 종합훈련(자체/직접) -긴급구조종합훈련 소요물품 | I39: 10100 | J39: 1000 | K39: =I39-J39 -> 9100 | N39: =K39+L39+M39 -> 9100 | Q39: =K39+O39+P39 -> 9100 | R39: =IF(AND((N39=0),(Q39>0)),"O",IF(AND((L39<0),(N39-Q39<0)),"O","X")) -> X | S39: 통계목 변경 (재료비->사무관리비) | Y39: =IF($X39<>"도비",IF($V39="국도비","직접입력",SUM($L39:$M39)),) -> 0 | Z39: =IF($X39="도비",SUM($L39:$M39),IF($V39="국도비","직접입력",SUM($L39:$M39)-$Y39)) -> 0 | AA39: =IF(SUM($L39:$M39)=SUM($Y39:$Z39),"OK","검토") -> OK | AD39: =IF($X39<>"도비",IF($V39="국도비","직접입력",SUM($O39:$P39)),) -> 0 | AE39: =IF($X39="도비",SUM(O39:P39),IF($V39="국도비","직접입력",SUM(O39:P39)-AD39)) -> 0 | AF39: =IF(SUM(O39:P39)=SUM(AD39:AE39),"OK","검토") -> OK | AH39: =IF(X39="","",IF(X39="도비","세입없음","직접입력")) | AJ39: =IF(AH39="","",COUNTIF($AH$7:$AH$60,AH39)) | AK39: =IF(X39="","",IF(AND(X39="도비",AH39="세입없음"),"OK",IF(AND(X39<>"도비",AH39<>""),"OK","@@"))) | AM39: {=IF(C39="","",INDEX(구분표!$I$2:$I$311, MATCH(1,(구분표!$E$2:$E$311='1추특출'!B39)*(구분표!$F$2:$F$311='1추특출'!C39)*(구분표!$G$2:$G$311='1추특출'!A39),0)))} -> 40417
A40: =IFERROR(VLOOKUP($C40,구분표!$A$2:$C$311,2,FALSE),"") -> 안전행정위원회 | B40: =IFERROR(VLOOKUP($C40,구분표!$A$2:$C$311,3,FALSE),"") -> 재난안전본부 | C40: 이천소방서 | D40: 1회추경 | E40: 일반 | F40: 410 | G40: 198 | H40: 긴급구조 종합훈련(자체/직접) -긴급구조종합훈련 소요물품 | I40: 6170 | J40: 1000 | K40: =I40-J40 -> 5170 | N40: =K40+L40+M40 -> 5170 | Q40: =K40+O40+P40 -> 5170 | R40: =IF(AND((N40=0),(Q40>0)),"O",IF(AND((L40<0),(N40-Q40<0)),"O","X")) -> X | S40: 통계목 변경 (재료비->사무관리비) | Y40: =IF($X40<>"도비",IF($V40="국도비","직접입력",SUM($L40:$M40)),) -> 0 | Z40: =IF($X40="도비",SUM($L40:$M40),IF($V40="국도비","직접입력",SUM($L40:$M40)-$Y40)) -> 0 | AA40: =IF(SUM($L40:$M40)=SUM($Y40:$Z40),"OK","검토") -> OK | AD40: =IF($X40<>"도비",IF($V40="국도비","직접입력",SUM($O40:$P40)),) -> 0 | AE40: =IF($X40="도비",SUM(O40:P40),IF($V40="국도비","직접입력",SUM(O40:P40)-AD40)) -> 0 | AF40: =IF(SUM(O40:P40)=SUM(AD40:AE40),"OK","검토") -> OK | AH40: =IF(X40="","",IF(X40="도비","세입없음","직접입력")) | AJ40: =IF(AH40="","",COUNTIF($AH$7:$AH$60,AH40)) | AK40: =IF(X40="","",IF(AND(X40="도비",AH40="세입없음"),"OK",IF(AND(X40<>"도비",AH40<>""),"OK","@@"))) | AM40: {=IF(C40="","",INDEX(구분표!$I$2:$I$311, MATCH(1,(구분표!$E$2:$E$311='1추특출'!B40)*(구분표!$F$2:$F$311='1추특출'!C40)*(구분표!$G$2:$G$311='1추특출'!A40),0)))} -> 40419
A41: 안전행정위원회 | B41: 재난안전본부 | C41: 김포소방서 | D41: 1회추경 | E41: 일반 | F41: 411 | G41: 198 | H41: 긴급구조 종합훈련(자체/직접) -긴급구조종합훈련 소요물품 | I41: 7250 | J41: 1000 | K41: =I41-J41 -> 6250 | N41: =K41+L41+M41 -> 6250 | Q41: =K41+O41+P41 -> 6250 | R41: =IF(AND((N41=0),(Q41>0)),"O",IF(AND((L41<0),(N41-Q41<0)),"O","X")) -> X | S41: 통계목 변경 (재료비->사무관리비) | Y41: =IF($X41<>"도비",IF($V41="국도비","직접입력",SUM($L41:$M41)),) -> 0 | Z41: =IF($X41="도비",SUM($L41:$M41),IF($V41="국도비","직접입력",SUM($L41:$M41)-$Y41)) -> 0 | AA41: =IF(SUM($L41:$M41)=SUM($Y41:$Z41),"OK","검토") -> OK | AD41: =IF($X41<>"도비",IF($V41="국도비","직접입력",SUM($O41:$P41)),) -> 0 | AE41: =IF($X41="도비",SUM(O41:P41),IF($V41="국도비","직접입력",SUM(O41:P41)-AD41)) -> 0 | AF41: =IF(SUM(O41:P41)=SUM(AD41:AE41),"OK","검토") -> OK | AH41: =IF(X41="","",IF(X41="도비","세입없음","직접입력")) | AJ41: =IF(AH41="","",COUNTIF($AH$7:$AH$60,AH41)) | AK41: =IF(X41="","",IF(AND(X41="도비",AH41="세입없음"),"OK",IF(AND(X41<>"도비",AH41<>""),"OK","@@"))) | AM41: {=IF(C41="","",INDEX(구분표!$I$2:$I$311, MATCH(1,(구분표!$E$2:$E$311='1추특출'!B41)*(구분표!$F$2:$F$311='1추특출'!C41)*(구분표!$G$2:$G$311='1추특출'!A41),0)))} -> 40421
A42: 안전행정위원회 | B42: 재난안전본부 | C42: 광주소방서 | D42: 1회추경 | E42: 일반 | F42: 412 | G42: 198 | H42: 긴급구조 종합훈련(자체/직접) -긴급구조종합훈련 소요물품 | I42: 7500 | J42: 1000 | K42: =I42-J42 -> 6500 | N42: =K42+L42+M42 -> 6500 | Q42: =K42+O42+P42 -> 6500 | R42: =IF(AND((N42=0),(Q42>0)),"O",IF(AND((L42<0),(N42-Q42<0)),"O","X")) -> X | S42: 통계목 변경 (재료비->사무관리비) | Y42: =IF($X42<>"도비",IF($V42="국도비","직접입력",SUM($L42:$M42)),) -> 0 | Z42: =IF($X42="도비",SUM($L42:$M42),IF($V42="국도비","직접입력",SUM($L42:$M42)-$Y42)) -> 0 | AA42: =IF(SUM($L42:$M42)=SUM($Y42:$Z42),"OK","검토") -> OK | AD42: =IF($X42<>"도비",IF($V42="국도비","직접입력",SUM($O42:$P42)),) -> 0 | AE42: =IF($X42="도비",SUM(O42:P42),IF($V42="국도비","직접입력",SUM(O42:P42)-AD42)) -> 0 | AF42: =IF(SUM(O42:P42)=SUM(AD42:AE42),"OK","검토") -> OK | AH42: =IF(X42="","",IF(X42="도비","세입없음","직접입력")) | AJ42: =IF(AH42="","",COUNTIF($AH$7:$AH$60,AH42)) | AK42: =IF(X42="","",IF(AND(X42="도비",AH42="세입없음"),"OK",IF(AND(X42<>"도비",AH42<>""),"OK","@@"))) | AM42: {=IF(C42="","",INDEX(구분표!$I$2:$I$311, MATCH(1,(구분표!$E$2:$E$311='1추특출'!B42)*(구분표!$F$2:$F$311='1추특출'!C42)*(구분표!$G$2:$G$311='1추특출'!A42),0)))} -> 40423
A43: 안전행정위원회 | B43: 재난안전본부 | C43: 안성소방서 | D43: 1회추경 | E43: 일반 | F43: 413 | G43: 198 | H43: 긴급구조 종합훈련(자체/직접) -긴급구조종합훈련 소요물품 | I43: 6710 | J43: 1000 | K43: =I43-J43 -> 5710 | N43: =K43+L43+M43 -> 5710 | Q43: =K43+O43+P43 -> 5710 | R43: =IF(AND((N43=0),(Q43>0)),"O",IF(AND((L43<0),(N43-Q43<0)),"O","X")) -> X | S43: 통계목 변경 (재료비->사무관리비) | Y43: =IF($X43<>"도비",IF($V43="국도비","직접입력",SUM($L43:$M43)),) -> 0 | Z43: =IF($X43="도비",SUM($L43:$M43),IF($V43="국도비","직접입력",SUM($L43:$M43)-$Y43)) -> 0 | AA43: =IF(SUM($L43:$M43)=SUM($Y43:$Z43),"OK","검토") -> OK | AD43: =IF($X43<>"도비",IF($V43="국도비","직접입력",SUM($O43:$P43)),) -> 0 | AE43: =IF($X43="도비",SUM(O43:P43),IF($V43="국도비","직접입력",SUM(O43:P43)-AD43)) -> 0 | AF43: =IF(SUM(O43:P43)=SUM(AD43:AE43),"OK","검토") -> OK | AH43: =IF(X43="","",IF(X43="도비","세입없음","직접입력")) | AJ43: =IF(AH43="","",COUNTIF($AH$7:$AH$60,AH43)) | AK43: =IF(X43="","",IF(AND(X43="도비",AH43="세입없음"),"OK",IF(AND(X43<>"도비",AH43<>""),"OK","@@"))) | AM43: {=IF(C43="","",INDEX(구분표!$I$2:$I$311, MATCH(1,(구분표!$E$2:$E$311='1추특출'!B43)*(구분표!$F$2:$F$311='1추특출'!C43)*(구분표!$G$2:$G$311='1추특출'!A43),0)))} -> 40424
A44: 안전행정위원회 | B44: 재난안전본부 | C44: 하남소방서 | D44: 1회추경 | E44: 일반 | F44: 414 | G44: 198 | H44: 긴급구조 종합훈련(자체/직접) -긴급구조종합훈련 소요물품 | I44: 4830 | J44: 1000 | K44: =I44-J44 -> 3830 | N44: =K44+L44+M44 -> 3830 | Q44: =K44+O44+P44 -> 3830 | R44: =IF(AND((N44=0),(Q44>0)),"O",IF(AND((L44<0),(N44-Q44<0)),"O","X")) -> X | S44: 통계목 변경 (재료비->사무관리비) | Y44: =IF($X44<>"도비",IF($V44="국도비","직접입력",SUM($L44:$M44)),) -> 0 | Z44: =IF($X44="도비",SUM($L44:$M44),IF($V44="국도비","직접입력",SUM($L44:$M44)-$Y44)) -> 0 | AA44: =IF(SUM($L44:$M44)=SUM($Y44:$Z44),"OK","검토") -> OK | AD44: =IF($X44<>"도비",IF($V44="국도비","직접입력",SUM($O44:$P44)),) -> 0 | AE44: =IF($X44="도비",SUM(O44:P44),IF($V44="국도비","직접입력",SUM(O44:P44)-AD44)) -> 0 | AF44: =IF(SUM(O44:P44)=SUM(AD44:AE44),"OK","검토") -> OK | AH44: =IF(X44="","",IF(X44="도비","세입없음","직접입력")) | AJ44: =IF(AH44="","",COUNTIF($AH$7:$AH$60,AH44)) | AK44: =IF(X44="","",IF(AND(X44="도비",AH44="세입없음"),"OK",IF(AND(X44<>"도비",AH44<>""),"OK","@@"))) | AM44: {=IF(C44="","",INDEX(구분표!$I$2:$I$311, MATCH(1,(구분표!$E$2:$E$311='1추특출'!B44)*(구분표!$F$2:$F$311='1추특출'!C44)*(구분표!$G$2:$G$311='1추특출'!A44),0)))} -> 40425
A45: 안전행정위원회 | B45: 재난안전본부 | C45: 의왕소방서 | D45: 1회추경 | E45: 일반 | F45: 415 | G45: 198 | H45: 긴급구조 종합훈련(자체/직접) -긴급구조종합훈련 소요물품 | I45: 4900 | J45: 1000 | K45: =I45-J45 -> 3900 | N45: =K45+L45+M45 -> 3900 | Q45: =K45+O45+P45 -> 3900 | R45: =IF(AND((N45=0),(Q45>0)),"O",IF(AND((L45<0),(N45-Q45<0)),"O","X")) -> X | S45: 통계목 변경 (재료비->사무관리비) | Y45: =IF($X45<>"도비",IF($V45="국도비","직접입력",SUM($L45:$M45)),) -> 0 | Z45: =IF($X45="도비",SUM($L45:$M45),IF($V45="국도비","직접입력",SUM($L45:$M45)-$Y45)) -> 0 | AA45: =IF(SUM($L45:$M45)=SUM($Y45:$Z45),"OK","검토") -> OK | AD45: =IF($X45<>"도비",IF($V45="국도비","직접입력",SUM($O45:$P45)),) -> 0 | AE45: =IF($X45="도비",SUM(O45:P45),IF($V45="국도비","직접입력",SUM(O45:P45)-AD45)) -> 0 | AF45: =IF(SUM(O45:P45)=SUM(AD45:AE45),"OK","검토") -> OK | AH45: =IF(X45="","",IF(X45="도비","세입없음","직접입력")) | AJ45: =IF(AH45="","",COUNTIF($AH$7:$AH$60,AH45)) | AK45: =IF(X45="","",IF(AND(X45="도비",AH45="세입없음"),"OK",IF(AND(X45<>"도비",AH45<>""),"OK","@@"))) | AM45: {=IF(C45="","",INDEX(구분표!$I$2:$I$311, MATCH(1,(구분표!$E$2:$E$311='1추특출'!B45)*(구분표!$F$2:$F$311='1추특출'!C45)*(구분표!$G$2:$G$311='1추특출'!A45),0)))} -> 40426
A46: 안전행정위원회 | B46: 재난안전본부 | C46: 오산소방서 | D46: 1회추경 | E46: 일반 | F46: 416 | G46: 198 | H46: 긴급구조 종합훈련(자체/직접) -긴급구조종합훈련 소요물품 | I46: 4360 | J46: 1000 | K46: =I46-J46 -> 3360 | N46: =K46+L46+M46 -> 3360 | Q46: =K46+O46+P46 -> 3360 | R46: =IF(AND((N46=0),(Q46>0)),"O",IF(AND((L46<0),(N46-Q46<0)),"O","X")) -> X | S46: 통계목 변경 (재료비->사무관리비) | Y46: =IF($X46<>"도비",IF($V46="국도비","직접입력",SUM($L46:$M46)),) -> 0 | Z46: =IF($X46="도비",SUM($L46:$M46),IF($V46="국도비","직접입력",SUM($L46:$M46)-$Y46)) -> 0 | AA46: =IF(SUM($L46:$M46)=SUM($Y46:$Z46),"OK","검토") -> OK | AD46: =IF($X46<>"도비",IF($V46="국도비","직접입력",SUM($O46:$P46)),) -> 0 | AE46: =IF($X46="도비",SUM(O46:P46),IF($V46="국도비","직접입력",SUM(O46:P46)-AD46)) -> 0 | AF46: =IF(SUM(O46:P46)=SUM(AD46:AE46),"OK","검토") -> OK | AH46: =IF(X46="","",IF(X46="도비","세입없음","직접입력")) | AJ46: =IF(AH46="","",COUNTIF($AH$7:$AH$60,AH46)) | AK46: =IF(X46="","",IF(AND(X46="도비",AH46="세입없음"),"OK",IF(AND(X46<>"도비",AH46<>""),"OK","@@"))) | AM46: {=IF(C46="","",INDEX(구분표!$I$2:$I$311, MATCH(1,(구분표!$E$2:$E$311='1추특출'!B46)*(구분표!$F$2:$F$311='1추특출'!C46)*(구분표!$G$2:$G$311='1추특출'!A46),0)))} -> 40428
A47: 안전행정위원회 | B47: 재난안전본부 | C47: 여주소방서 | D47: 1회추경 | E47: 일반 | F47: 417 | G47: 198 | H47: 긴급구조 종합훈련(자체/직접) -긴급구조종합훈련 소요물품 | I47: 5700 | J47: 1000 | K47: =I47-J47 -> 4700 | N47: =K47+L47+M47 -> 4700 | Q47: =K47+O47+P47 -> 4700 | R47: =IF(AND((N47=0),(Q47>0)),"O",IF(AND((L47<0),(N47-Q47<0)),"O","X")) -> X | S47: 통계목 변경 (재료비->사무관리비) | Y47: =IF($X47<>"도비",IF($V47="국도비","직접입력",SUM($L47:$M47)),) -> 0 | Z47: =IF($X47="도비",SUM($L47:$M47),IF($V47="국도비","직접입력",SUM($L47:$M47)-$Y47)) -> 0 | AA47: =IF(SUM($L47:$M47)=SUM($Y47:$Z47),"OK","검토") -> OK | AD47: =IF($X47<>"도비",IF($V47="국도비","직접입력",SUM($O47:$P47)),) -> 0 | AE47: =IF($X47="도비",SUM(O47:P47),IF($V47="국도비","직접입력",SUM(O47:P47)-AD47)) -> 0 | AF47: =IF(SUM(O47:P47)=SUM(AD47:AE47),"OK","검토") -> OK | AH47: =IF(X47="","",IF(X47="도비","세입없음","직접입력")) | AJ47: =IF(AH47="","",COUNTIF($AH$7:$AH$60,AH47)) | AK47: =IF(X47="","",IF(AND(X47="도비",AH47="세입없음"),"OK",IF(AND(X47<>"도비",AH47<>""),"OK","@@"))) | AM47: {=IF(C47="","",INDEX(구분표!$I$2:$I$311, MATCH(1,(구분표!$E$2:$E$311='1추특출'!B47)*(구분표!$F$2:$F$311='1추특출'!C47)*(구분표!$G$2:$G$311='1추특출'!A47),0)))} -> 40429
A48: 안전행정위원회 | B48: 재난안전본부 | C48: 양평소방서 | D48: 1회추경 | E48: 일반 | F48: 418 | G48: 198 | H48: 긴급구조 종합훈련(자체/직접) -긴급구조종합훈련 소요물품 | I48: 6490 | J48: 1000 | K48: =I48-J48 -> 5490 | N48: =K48+L48+M48 -> 5490 | Q48: =K48+O48+P48 -> 5490 | R48: =IF(AND((N48=0),(Q48>0)),"O",IF(AND((L48<0),(N48-Q48<0)),"O","X")) -> X | S48: 통계목 변경 (재료비->사무관리비) | Y48: =IF($X48<>"도비",IF($V48="국도비","직접입력",SUM($L48:$M48)),) -> 0 | Z48: =IF($X48="도비",SUM($L48:$M48),IF($V48="국도비","직접입력",SUM($L48:$M48)-$Y48)) -> 0 | AA48: =IF(SUM($L48:$M48)=SUM($Y48:$Z48),"OK","검토") -> OK | AD48: =IF($X48<>"도비",IF($V48="국도비","직접입력",SUM($O48:$P48)),) -> 0 | AE48: =IF($X48="도비",SUM(O48:P48),IF($V48="국도비","직접입력",SUM(O48:P48)-AD48)) -> 0 | AF48: =IF(SUM(O48:P48)=SUM(AD48:AE48),"OK","검토") -> OK | AH48: =IF(X48="","",IF(X48="도비","세입없음","직접입력")) | AJ48: =IF(AH48="","",COUNTIF($AH$7:$AH$60,AH48)) | AK48: =IF(X48="","",IF(AND(X48="도비",AH48="세입없음"),"OK",IF(AND(X48<>"도비",AH48<>""),"OK","@@"))) | AM48: {=IF(C48="","",INDEX(구분표!$I$2:$I$311, MATCH(1,(구분표!$E$2:$E$311='1추특출'!B48)*(구분표!$F$2:$F$311='1추특출'!C48)*(구분표!$G$2:$G$311='1추특출'!A48),0)))} -> 40430
A49: =IFERROR(VLOOKUP($C49,구분표!$A$2:$C$311,2,FALSE),"") -> 안전행정위원회 | B49: =IFERROR(VLOOKUP($C49,구분표!$A$2:$C$311,3,FALSE),"") -> 재난안전본부 | C49: 과천소방서 | D49: 1회추경 | E49: 일반 | F49: 419 | G49: 198 | H49: 긴급구조 종합훈련(자체/직접) -긴급구조종합훈련 소요물품 | I49: 3890 | J49: 1000 | K49: =I49-J49 -> 2890 | N49: =K49+L49+M49 -> 2890 | Q49: =K49+O49+P49 -> 2890 | R49: =IF(AND((N49=0),(Q49>0)),"O",IF(AND((L49<0),(N49-Q49<0)),"O","X")) -> X | S49: 통계목 변경 (재료비->사무관리비) | Y49: =IF($X49<>"도비",IF($V49="국도비","직접입력",SUM($L49:$M49)),) -> 0 | Z49: =IF($X49="도비",SUM($L49:$M49),IF($V49="국도비","직접입력",SUM($L49:$M49)-$Y49)) -> 0 | AA49: =IF(SUM($L49:$M49)=SUM($Y49:$Z49),"OK","검토") -> OK | AD49: =IF($X49<>"도비",IF($V49="국도비","직접입력",SUM($O49:$P49)),) -> 0 | AE49: =IF($X49="도비",SUM(O49:P49),IF($V49="국도비","직접입력",SUM(O49:P49)-AD49)) -> 0 | AF49: =IF(SUM(O49:P49)=SUM(AD49:AE49),"OK","검토") -> OK | AH49: =IF(X49="","",IF(X49="도비","세입없음","직접입력")) | AJ49: =IF(AH49="","",COUNTIF($AH$7:$AH$60,AH49)) | AK49: =IF(X49="","",IF(AND(X49="도비",AH49="세입없음"),"OK",IF(AND(X49<>"도비",AH49<>""),"OK","@@"))) | AM49: {=IF(C49="","",INDEX(구분표!$I$2:$I$311, MATCH(1,(구분표!$E$2:$E$311='1추특출'!B49)*(구분표!$F$2:$F$311='1추특출'!C49)*(구분표!$G$2:$G$311='1추특출'!A49),0)))} -> 40432
A50: 안전행정위원회 | B50: 재난안전본부 | C50: 고양소방서 | D50: 1회추경 | E50: 일반 | F50: 420 | G50: 198 | H50: 긴급구조 종합훈련(자체/직접) -긴급구조종합훈련 소요물품 | I50: 6670 | J50: 1000 | K50: =I50-J50 -> 5670 | N50: =K50+L50+M50 -> 5670 | Q50: =K50+O50+P50 -> 5670 | R50: =IF(AND((N50=0),(Q50>0)),"O",IF(AND((L50<0),(N50-Q50<0)),"O","X")) -> X | S50: 통계목 변경 (재료비->사무관리비) | Y50: =IF($X50<>"도비",IF($V50="국도비","직접입력",SUM($L50:$M50)),) -> 0 | Z50: =IF($X50="도비",SUM($L50:$M50),IF($V50="국도비","직접입력",SUM($L50:$M50)-$Y50)) -> 0 | AA50: =IF(SUM($L50:$M50)=SUM($Y50:$Z50),"OK","검토") -> OK | AD50: =IF($X50<>"도비",IF($V50="국도비","직접입력",SUM($O50:$P50)),) -> 0 | AE50: =IF($X50="도비",SUM(O50:P50),IF($V50="국도비","직접입력",SUM(O50:P50)-AD50)) -> 0 | AF50: =IF(SUM(O50:P50)=SUM(AD50:AE50),"OK","검토") -> OK | AH50: =IF(X50="","",IF(X50="도비","세입없음","직접입력")) | AJ50: =IF(AH50="","",COUNTIF($AH$7:$AH$60,AH50)) | AK50: =IF(X50="","",IF(AND(X50="도비",AH50="세입없음"),"OK",IF(AND(X50<>"도비",AH50<>""),"OK","@@"))) | AM50: {=IF(C50="","",INDEX(구분표!$I$2:$I$311, MATCH(1,(구분표!$E$2:$E$311='1추특출'!B50)*(구분표!$F$2:$F$311='1추특출'!C50)*(구분표!$G$2:$G$311='1추특출'!A50),0)))} -> 40404
A51: 안전행정위원회 | B51: 재난안전본부 | C51: 일산소방서 | D51: 1회추경 | E51: 일반 | F51: 421 | G51: 198 | H51: 긴급구조 종합훈련(자체/직접) -긴급구조종합훈련 소요물품 | I51: 7030 | J51: 1000 | K51: =I51-J51 -> 6030 | N51: =K51+L51+M51 -> 6030 | Q51: =K51+O51+P51 -> 6030 | R51: =IF(AND((N51=0),(Q51>0)),"O",IF(AND((L51<0),(N51-Q51<0)),"O","X")) -> X | S51: 통계목 변경 (재료비->사무관리비) | Y51: =IF($X51<>"도비",IF($V51="국도비","직접입력",SUM($L51:$M51)),) -> 0 | Z51: =IF($X51="도비",SUM($L51:$M51),IF($V51="국도비","직접입력",SUM($L51:$M51)-$Y51)) -> 0 | AA51: =IF(SUM($L51:$M51)=SUM($Y51:$Z51),"OK","검토") -> OK | AD51: =IF($X51<>"도비",IF($V51="국도비","직접입력",SUM($O51:$P51)),) -> 0 | AE51: =IF($X51="도비",SUM(O51:P51),IF($V51="국도비","직접입력",SUM(O51:P51)-AD51)) -> 0 | AF51: =IF(SUM(O51:P51)=SUM(AD51:AE51),"OK","검토") -> OK | AH51: =IF(X51="","",IF(X51="도비","세입없음","직접입력")) | AJ51: =IF(AH51="","",COUNTIF($AH$7:$AH$60,AH51)) | AK51: =IF(X51="","",IF(AND(X51="도비",AH51="세입없음"),"OK",IF(AND(X51<>"도비",AH51<>""),"OK","@@"))) | AM51: {=IF(C51="","",INDEX(구분표!$I$2:$I$311, MATCH(1,(구분표!$E$2:$E$311='1추특출'!B51)*(구분표!$F$2:$F$311='1추특출'!C51)*(구분표!$G$2:$G$311='1추특출'!A51),0)))} -> 40405
A52: 안전행정위원회 | B52: 재난안전본부 | C52: 의정부소방서 | D52: 1회추경 | E52: 일반 | F52: 422 | G52: 198 | H52: 긴급구조 종합훈련(자체/직접) -긴급구조종합훈련 소요물품 | I52: 6670 | J52: 1000 | K52: =I52-J52 -> 5670 | N52: =K52+L52+M52 -> 5670 | Q52: =K52+O52+P52 -> 5670 | R52: =IF(AND((N52=0),(Q52>0)),"O",IF(AND((L52<0),(N52-Q52<0)),"O","X")) -> X | S52: 통계목 변경 (재료비->사무관리비) | Y52: =IF($X52<>"도비",IF($V52="국도비","직접입력",SUM($L52:$M52)),) -> 0 | Z52: =IF($X52="도비",SUM($L52:$M52),IF($V52="국도비","직접입력",SUM($L52:$M52)-$Y52)) -> 0 | AA52: =IF(SUM($L52:$M52)=SUM($Y52:$Z52),"OK","검토") -> OK | AD52: =IF($X52<>"도비",IF($V52="국도비","직접입력",SUM($O52:$P52)),) -> 0 | AE52: =IF($X52="도비",SUM(O52:P52),IF($V52="국도비","직접입력",SUM(O52:P52)-AD52)) -> 0 | AF52: =IF(SUM(O52:P52)=SUM(AD52:AE52),"OK","검토") -> OK | AH52: =IF(X52="","",IF(X52="도비","세입없음","직접입력")) | AJ52: =IF(AH52="","",COUNTIF($AH$7:$AH$60,AH52)) | AK52: =IF(X52="","",IF(AND(X52="도비",AH52="세입없음"),"OK",IF(AND(X52<>"도비",AH52<>""),"OK","@@"))) | AM52: {=IF(C52="","",INDEX(구분표!$I$2:$I$311, MATCH(1,(구분표!$E$2:$E$311='1추특출'!B52)*(구분표!$F$2:$F$311='1추특출'!C52)*(구분표!$G$2:$G$311='1추특출'!A52),0)))} -> 40410
A53: 안전행정위원회 | B53: 재난안전본부 | C53: 남양주소방서 | D53: 1회추경 | E53: 일반 | F53: 423 | G53: 198 | H53: 긴급구조 종합훈련(자체/직접) -긴급구조종합훈련 소요물품 | I53: 9230 | J53: 1000 | K53: =I53-J53 -> 8230 | N53: =K53+L53+M53 -> 8230 | Q53: =K53+O53+P53 -> 8230 | R53: =IF(AND((N53=0),(Q53>0)),"O",IF(AND((L53<0),(N53-Q53<0)),"O","X")) -> X | S53: 통계목 변경 (재료비->사무관리비) | Y53: =IF($X53<>"도비",IF($V53="국도비","직접입력",SUM($L53:$M53)),) -> 0 | Z53: =IF($X53="도비",SUM($L53:$M53),IF($V53="국도비","직접입력",SUM($L53:$M53)-$Y53)) -> 0 | AA53: =IF(SUM($L53:$M53)=SUM($Y53:$Z53),"OK","검토") -> OK | AD53: =IF($X53<>"도비",IF($V53="국도비","직접입력",SUM($O53:$P53)),) -> 0 | AE53: =IF($X53="도비",SUM(O53:P53),IF($V53="국도비","직접입력",SUM(O53:P53)-AD53)) -> 0 | AF53: =IF(SUM(O53:P53)=SUM(AD53:AE53),"OK","검토") -> OK | AH53: =IF(X53="","",IF(X53="도비","세입없음","직접입력")) | AJ53: =IF(AH53="","",COUNTIF($AH$7:$AH$60,AH53)) | AK53: =IF(X53="","",IF(AND(X53="도비",AH53="세입없음"),"OK",IF(AND(X53<>"도비",AH53<>""),"OK","@@"))) | AM53: {=IF(C53="","",INDEX(구분표!$I$2:$I$311, MATCH(1,(구분표!$E$2:$E$311='1추특출'!B53)*(구분표!$F$2:$F$311='1추특출'!C53)*(구분표!$G$2:$G$311='1추특출'!A53),0)))} -> 40411
A54: =IFERROR(VLOOKUP($C54,구분표!$A$2:$C$311,2,FALSE),"") -> 안전행정위원회 | B54: =IFERROR(VLOOKUP($C54,구분표!$A$2:$C$311,3,FALSE),"") -> 재난안전본부 | C54: 파주소방서 | D54: 1회추경 | E54: 일반 | F54: 424 | G54: 198 | H54: 긴급구조 종합훈련(자체/직접) -긴급구조종합훈련 소요물품 | I54: 9120 | J54: 1000 | K54: =I54-J54 -> 8120 | N54: =K54+L54+M54 -> 8120 | Q54: =K54+O54+P54 -> 8120 | R54: =IF(AND((N54=0),(Q54>0)),"O",IF(AND((L54<0),(N54-Q54<0)),"O","X")) -> X | S54: 통계목 변경 (재료비->사무관리비) | Y54: =IF($X54<>"도비",IF($V54="국도비","직접입력",SUM($L54:$M54)),) -> 0 | Z54: =IF($X54="도비",SUM($L54:$M54),IF($V54="국도비","직접입력",SUM($L54:$M54)-$Y54)) -> 0 | AA54: =IF(SUM($L54:$M54)=SUM($Y54:$Z54),"OK","검토") -> OK | AD54: =IF($X54<>"도비",IF($V54="국도비","직접입력",SUM($O54:$P54)),) -> 0 | AE54: =IF($X54="도비",SUM(O54:P54),IF($V54="국도비","직접입력",SUM(O54:P54)-AD54)) -> 0 | AF54: =IF(SUM(O54:P54)=SUM(AD54:AE54),"OK","검토") -> OK | AH54: =IF(X54="","",IF(X54="도비","세입없음","직접입력")) | AJ54: =IF(AH54="","",COUNTIF($AH$7:$AH$60,AH54)) | AK54: =IF(X54="","",IF(AND(X54="도비",AH54="세입없음"),"OK",IF(AND(X54<>"도비",AH54<>""),"OK","@@"))) | AM54: {=IF(C54="","",INDEX(구분표!$I$2:$I$311, MATCH(1,(구분표!$E$2:$E$311='1추특출'!B54)*(구분표!$F$2:$F$311='1추특출'!C54)*(구분표!$G$2:$G$311='1추특출'!A54),0)))} -> 40418
A55: 안전행정위원회 | B55: 재난안전본부 | C55: 구리소방서 | D55: 1회추경 | E55: 일반 | F55: 425 | G55: 198 | H55: 긴급구조 종합훈련(자체/직접) -긴급구조종합훈련 소요물품 | I55: 4690 | J55: 1000 | K55: =I55-J55 -> 3690 | N55: =K55+L55+M55 -> 3690 | Q55: =K55+O55+P55 -> 3690 | R55: =IF(AND((N55=0),(Q55>0)),"O",IF(AND((L55<0),(N55-Q55<0)),"O","X")) -> X | S55: 통계목 변경 (재료비->사무관리비) | Y55: =IF($X55<>"도비",IF($V55="국도비","직접입력",SUM($L55:$M55)),) -> 0 | Z55: =IF($X55="도비",SUM($L55:$M55),IF($V55="국도비","직접입력",SUM($L55:$M55)-$Y55)) -> 0 | AA55: =IF(SUM($L55:$M55)=SUM($Y55:$Z55),"OK","검토") -> OK | AD55: =IF($X55<>"도비",IF($V55="국도비","직접입력",SUM($O55:$P55)),) -> 0 | AE55: =IF($X55="도비",SUM(O55:P55),IF($V55="국도비","직접입력",SUM(O55:P55)-AD55)) -> 0 | AF55: =IF(SUM(O55:P55)=SUM(AD55:AE55),"OK","검토") -> OK | AH55: =IF(X55="","",IF(X55="도비","세입없음","직접입력")) | AJ55: =IF(AH55="","",COUNTIF($AH$7:$AH$60,AH55)) | AK55: =IF(X55="","",IF(AND(X55="도비",AH55="세입없음"),"OK",IF(AND(X55<>"도비",AH55<>""),"OK","@@"))) | AM55: {=IF(C55="","",INDEX(구분표!$I$2:$I$311, MATCH(1,(구분표!$E$2:$E$311='1추특출'!B55)*(구분표!$F$2:$F$311='1추특출'!C55)*(구분표!$G$2:$G$311='1추특출'!A55),0)))} -> 40420
A56: 안전행정위원회 | B56: 재난안전본부 | C56: 포천소방서 | D56: 1회추경 | E56: 일반 | F56: 426 | G56: 198 | H56: 긴급구조 종합훈련(자체/직접) -긴급구조종합훈련 소요물품 | I56: 8370 | J56: 1000 | K56: =I56-J56 -> 7370 | N56: =K56+L56+M56 -> 7370 | Q56: =K56+O56+P56 -> 7370 | R56: =IF(AND((N56=0),(Q56>0)),"O",IF(AND((L56<0),(N56-Q56<0)),"O","X")) -> X | S56: 통계목 변경 (재료비->사무관리비) | Y56: =IF($X56<>"도비",IF($V56="국도비","직접입력",SUM($L56:$M56)),) -> 0 | Z56: =IF($X56="도비",SUM($L56:$M56),IF($V56="국도비","직접입력",SUM($L56:$M56)-$Y56)) -> 0 | AA56: =IF(SUM($L56:$M56)=SUM($Y56:$Z56),"OK","검토") -> OK | AD56: =IF($X56<>"도비",IF($V56="국도비","직접입력",SUM($O56:$P56)),) -> 0 | AE56: =IF($X56="도비",SUM(O56:P56),IF($V56="국도비","직접입력",SUM(O56:P56)-AD56)) -> 0 | AF56: =IF(SUM(O56:P56)=SUM(AD56:AE56),"OK","검토") -> OK | AH56: =IF(X56="","",IF(X56="도비","세입없음","직접입력")) | AJ56: =IF(AH56="","",COUNTIF($AH$7:$AH$60,AH56)) | AK56: =IF(X56="","",IF(AND(X56="도비",AH56="세입없음"),"OK",IF(AND(X56<>"도비",AH56<>""),"OK","@@"))) | AM56: {=IF(C56="","",INDEX(구분표!$I$2:$I$311, MATCH(1,(구분표!$E$2:$E$311='1추특출'!B56)*(구분표!$F$2:$F$311='1추특출'!C56)*(구분표!$G$2:$G$311='1추특출'!A56),0)))} -> 40422
A57: 안전행정위원회 | B57: 재난안전본부 | C57: 양주소방서 | D57: 1회추경 | E57: 일반 | F57: 427 | G57: 198 | H57: 긴급구조 종합훈련(자체/직접) -긴급구조종합훈련 소요물품 | I57: 6530 | J57: 1000 | K57: =I57-J57 -> 5530 | N57: =K57+L57+M57 -> 5530 | Q57: =K57+O57+P57 -> 5530 | R57: =IF(AND((N57=0),(Q57>0)),"O",IF(AND((L57<0),(N57-Q57<0)),"O","X")) -> X | S57: 통계목 변경 (재료비->사무관리비) | Y57: =IF($X57<>"도비",IF($V57="국도비","직접입력",SUM($L57:$M57)),) -> 0 | Z57: =IF($X57="도비",SUM($L57:$M57),IF($V57="국도비","직접입력",SUM($L57:$M57)-$Y57)) -> 0 | AA57: =IF(SUM($L57:$M57)=SUM($Y57:$Z57),"OK","검토") -> OK | AD57: =IF($X57<>"도비",IF($V57="국도비","직접입력",SUM($O57:$P57)),) -> 0 | AE57: =IF($X57="도비",SUM(O57:P57),IF($V57="국도비","직접입력",SUM(O57:P57)-AD57)) -> 0 | AF57: =IF(SUM(O57:P57)=SUM(AD57:AE57),"OK","검토") -> OK | AH57: =IF(X57="","",IF(X57="도비","세입없음","직접입력")) | AJ57: =IF(AH57="","",COUNTIF($AH$7:$AH$60,AH57)) | AK57: =IF(X57="","",IF(AND(X57="도비",AH57="세입없음"),"OK",IF(AND(X57<>"도비",AH57<>""),"OK","@@"))) | AM57: {=IF(C57="","",INDEX(구분표!$I$2:$I$311, MATCH(1,(구분표!$E$2:$E$311='1추특출'!B57)*(구분표!$F$2:$F$311='1추특출'!C57)*(구분표!$G$2:$G$311='1추특출'!A57),0)))} -> 40427
A58: 안전행정위원회 | B58: 재난안전본부 | C58: 동두천소방서 | D58: 1회추경 | E58: 일반 | F58: 428 | G58: 198 | H58: 긴급구조 종합훈련(자체/직접) -긴급구조종합훈련 소요물품 | I58: 4220 | J58: 1000 | K58: =I58-J58 -> 3220 | N58: =K58+L58+M58 -> 3220 | Q58: =K58+O58+P58 -> 3220 | R58: =IF(AND((N58=0),(Q58>0)),"O",IF(AND((L58<0),(N58-Q58<0)),"O","X")) -> X | S58: 통계목 변경 (재료비->사무관리비) | Y58: =IF($X58<>"도비",IF($V58="국도비","직접입력",SUM($L58:$M58)),) -> 0 | Z58: =IF($X58="도비",SUM($L58:$M58),IF($V58="국도비","직접입력",SUM($L58:$M58)-$Y58)) -> 0 | AA58: =IF(SUM($L58:$M58)=SUM($Y58:$Z58),"OK","검토") -> OK | AD58: =IF($X58<>"도비",IF($V58="국도비","직접입력",SUM($O58:$P58)),) -> 0 | AE58: =IF($X58="도비",SUM(O58:P58),IF($V58="국도비","직접입력",SUM(O58:P58)-AD58)) -> 0 | AF58: =IF(SUM(O58:P58)=SUM(AD58:AE58),"OK","검토") -> OK | AH58: =IF(X58="","",IF(X58="도비","세입없음","직접입력")) | AJ58: =IF(AH58="","",COUNTIF($AH$7:$AH$60,AH58)) | AK58: =IF(X58="","",IF(AND(X58="도비",AH58="세입없음"),"OK",IF(AND(X58<>"도비",AH58<>""),"OK","@@"))) | AM58: {=IF(C58="","",INDEX(구분표!$I$2:$I$311, MATCH(1,(구분표!$E$2:$E$311='1추특출'!B58)*(구분표!$F$2:$F$311='1추특출'!C58)*(구분표!$G$2:$G$311='1추특출'!A58),0)))} -> 40431
A59: =IFERROR(VLOOKUP($C59,구분표!$A$2:$C$311,2,FALSE),"") -> 안전행정위원회 | B59: =IFERROR(VLOOKUP($C59,구분표!$A$2:$C$311,3,FALSE),"") -> 재난안전본부 | C59: 가평소방서 | D59: 1회추경 | E59: 일반 | F59: 429 | G59: 198 | H59: 긴급구조 종합훈련(자체/직접) -긴급구조종합훈련 소요물품 | I59: 5340 | J59: 1000 | K59: =I59-J59 -> 4340 | N59: =K59+L59+M59 -> 4340 | Q59: =K59+O59+P59 -> 4340 | R59: =IF(AND((N59=0),(Q59>0)),"O",IF(AND((L59<0),(N59-Q59<0)),"O","X")) -> X | S59: 통계목 변경 (재료비->사무관리비) | Y59: =IF($X59<>"도비",IF($V59="국도비","직접입력",SUM($L59:$M59)),) -> 0 | Z59: =IF($X59="도비",SUM($L59:$M59),IF($V59="국도비","직접입력",SUM($L59:$M59)-$Y59)) -> 0 | AA59: =IF(SUM($L59:$M59)=SUM($Y59:$Z59),"OK","검토") -> OK | AD59: =IF($X59<>"도비",IF($V59="국도비","직접입력",SUM($O59:$P59)),) -> 0 | AE59: =IF($X59="도비",SUM(O59:P59),IF($V59="국도비","직접입력",SUM(O59:P59)-AD59)) -> 0 | AF59: =IF(SUM(O59:P59)=SUM(AD59:AE59),"OK","검토") -> OK | AH59: =IF(X59="","",IF(X59="도비","세입없음","직접입력")) | AJ59: =IF(AH59="","",COUNTIF($AH$7:$AH$60,AH59)) | AK59: =IF(X59="","",IF(AND(X59="도비",AH59="세입없음"),"OK",IF(AND(X59<>"도비",AH59<>""),"OK","@@"))) | AM59: {=IF(C59="","",INDEX(구분표!$I$2:$I$311, MATCH(1,(구분표!$E$2:$E$311='1추특출'!B59)*(구분표!$F$2:$F$311='1추특출'!C59)*(구분표!$G$2:$G$311='1추특출'!A59),0)))} -> 40433
A60: =IFERROR(VLOOKUP($C60,구분표!$A$2:$C$311,2,FALSE),"") -> 안전행정위원회 | B60: =IFERROR(VLOOKUP($C60,구분표!$A$2:$C$311,3,FALSE),"") -> 재난안전본부 | C60: 연천소방서 | D60: 1회추경 | E60: 일반 | F60: 430 | G60: 198 | H60: 긴급구조 종합훈련(자체/직접) -긴급구조종합훈련 소요물품 | I60: 5370 | J60: 1000 | K60: =I60-J60 -> 4370 | N60: =K60+L60+M60 -> 4370 | Q60: =K60+O60+P60 -> 4370 | R60: =IF(AND((N60=0),(Q60>0)),"O",IF(AND((L60<0),(N60-Q60<0)),"O","X")) -> X | S60: 통계목 변경 (재료비->사무관리비) | Y60: =IF($X60<>"도비",IF($V60="국도비","직접입력",SUM($L60:$M60)),) -> 0 | Z60: =IF($X60="도비",SUM($L60:$M60),IF($V60="국도비","직접입력",SUM($L60:$M60)-$Y60)) -> 0 | AA60: =IF(SUM($L60:$M60)=SUM($Y60:$Z60),"OK","검토") -> OK | AD60: =IF($X60<>"도비",IF($V60="국도비","직접입력",SUM($O60:$P60)),) -> 0 | AE60: =IF($X60="도비",SUM(O60:P60),IF($V60="국도비","직접입력",SUM(O60:P60)-AD60)) -> 0 | AF60: =IF(SUM(O60:P60)=SUM(AD60:AE60),"OK","검토") -> OK | AH60: =IF(X60="","",IF(X60="도비","세입없음","직접입력")) | AJ60: =IF(AH60="","",COUNTIF($AH$7:$AH$60,AH60)) | AK60: =IF(X60="","",IF(AND(X60="도비",AH60="세입없음"),"OK",IF(AND(X60<>"도비",AH60<>""),"OK","@@"))) | AM60: {=IF(C60="","",INDEX(구분표!$I$2:$I$311, MATCH(1,(구분표!$E$2:$E$311='1추특출'!B60)*(구분표!$F$2:$F$311='1추특출'!C60)*(구분표!$G$2:$G$311='1추특출'!A60),0)))} -> 40434
