Workbook

Sheet 구분표
A2: 실과명 | B2: 위원회명 | C2: 실국명 | E2: 실국명 | F2: 실과명 | G2: 위원회명 | H2: 정렬순서 | I2: 정렬코드
A3: 총무담당관 | B3: 의회운영위원회 | C3: 의회사무처 | E3: 의회사무처 | F3: 총무담당관 | G3: 의회운영위원회 | H3: 1 | I3: 50101
A4: 공보담당관 | B4: 의회운영위원회 | C4: 의회사무처 | E4: 의회사무처 | F4: 공보담당관 | G4: 의회운영위원회 | H4: 2 | I4: 50102
A5: 의사담당관 | B5: 의회운영위원회 | C5: 의회사무처 | E5: 의회사무처 | F5: 의사담당관 | G5: 의회운영위원회 | H5: 3 | I5: 50103
A6: 입법정책담당관 | B6: 의회운영위원회 | C6: 의회사무처 | E6: 의회사무처 | F6: 입법정책담당관 | G6: 의회운영위원회 | H6: 4 | I6: 50104
A7: 예산정책담당관 | B7: 의회운영위원회 | C7: 의회사무처 | E7: 의회사무처 | F7: 예산정책담당관 | G7: 의회운영위원회 | H7: 5 | I7: 50105
A8: 언론협력담당관 | B8: 의회운영위원회 | C8: 대변인 | E8: 대변인 | F8: 언론협력담당관 | G8: 의회운영위원회 | H8: 6 | I8: 10101
A9: 보도기획담당관 | B9: 의회운영위원회 | C9: 대변인 | E9: 대변인 | F9: 보도기획담당관 | G9: 의회운영위원회 | H9: 7 | I9: 10102
A10: 홍보미디어담당관 | B10: 의회운영위원회 | C10: 소통기획관 | E10: 소통기획관 | F10: 홍보미디어담당관 | G10: 의회운영위원회 | H10: 8 | I10: 10201
A11: 홍보콘텐츠담당관 | B11: 의회운영위원회 | C11: 소통기획관 | E11: 소통기획관 | F11: 홍보콘텐츠담당관 | G11: 의회운영위원회 | H11: 9 | I11: 10202
A12: 연정협력과 | B12: 의회운영위원회 | C12: 연정협력국 | E12: 연정협력국 | F12: 연정협력과 | G12: 의회운영위원회 | H12: 10 | I12: 30101
A13: 대외협력과 | B13: 의회운영위원회 | C13: 연정협력국 | E13: 연정협력국 | F13: 대외협력과 | G13: 의회운영위원회 | H13: 11 | I13: 30102
A14: 서울사무소 | B14: 의회운영위원회 | C14: 연정협력국 | E14: 연정협력국 | F14: 서울사무소 | G14: 의회운영위원회 | H14: 12 | I14: 30103
... A214: 보육청소년담당관 | B214: 여성가족교육협력위원회 | C214: 복지여성실 | E214: 복지여성실 | F214: 보육청소년담당관 | G214: 여성가족교육협력위원회 | H214: 212 | I214: 11201

Sheet 예결표지(세로)
A5: 2017년도 제1회 일반회계 및 특별회계 추가경정 세입·세출 예산안
A7: 예결위 계수조정 결과
A20: 예산결산특별위원회

Sheet 예결표지(가로)
A3: 2017년도 제1회 일반회계 및 특별회계 추가경정 세입·세출 예산안
A5: 예결위 계수조정 결과
A14: 예산결산특별위원회

Sheet 표지
A6: 예결위 계수조정 결과
A7: (2017. . 일 현재 최종)
C9: - 2017년도 제2회 경기도 추가경정 예산안
C10: - 2017년도 제2회 경기도 기금운용계획 변경안
A18: 예산결산특별위원회

Sheet 검증
A1: 제4회 추경 일반회계 검증 | H1: 4추 예비비 | J1: 조정액 | K1: =IFERROR(INDEX('2추일출'!AF6:AF238,MATCH("*예비비*",'2추일출'!I6:I238,0)),0) -> 0 | L1: 조정잔액 | M1: =I1+K1 -> 0
M2: (단위 : 천원)
A3: 구분 | B3: 상 임 위 | H3: 구분 | I3: 예 결 위
B4: 세입 | C4: 검증 | D4: 세출 | E4: 검증 | F4: 차액 | I4: 세입 | J4: 검증 | K4: 세출 | L4: 검증 | M4: 차액
A5: 전체 총계 | B5: =SUM(B6:B13)/2 -> 0 | C5: =IF(B5=SUM('2추일입'!K6:L6),"OK","@@") -> OK | D5: =SUM(D6:D13)/2 -> -234500 | E5: =IF(D5=SUM('2추일출'!M6:N6),"OK","@@") -> OK | H5: 전체 총계 | I5: =SUM(I6:I13)/2 -> 0 | J5: =IF(I5=SUM('2추일입'!N6:O6),"OK","@@") -> OK | K5: =SUM(K6:K13)/2 -> 0 | L5: =IF(K5=SUM('2추일출'!P6:Q6),"OK","@@") -> OK
A6: 자체 계 | B6: =SUM(B7:B8) -> 0 | C6: =IF(B6='2추일입'!Y6,"OK","@@") -> OK | D6: =SUM(D7:D8) -> -234500 | E6: =IF(D6='2추일출'!AA6,"OK","@@") -> OK | H6: 자체 계 | I6: =SUM(I7:I8) -> 0 | J6: =IF(I6='2추일입'!AD6,"OK","@@") -> OK | K6: =SUM(K7:K8) -> 0 | L6: =IF(K6='2추일출'!AF6,"OK","@@") -> OK
A7: 자체 도비 | B7: =SUMIFS('2추일입'!Y6:Y72,'2추일입'!W6:W72,"도비") -> 0 | D7: =SUMIFS('2추일출'!$AA$6:$AA$238,'2추일출'!$Y$6:$Y$238,"도비") -> -234500 | H7: 자체 도비 | I7: =SUMIFS('2추일입'!AD6:AD72,'2추일입'!AB6:AB72,"국비") -> 0 | K7: =SUMIFS('2추일출'!$AF$6:$AF$238,'2추일출'!$AD$6:$AD$238,"도비") -> 0
A8: 의존 매칭 도비 | B8: =SUMIFS('2추일입'!Y6:Y72,'2추일입'!W6:W72,"국비")+SUMIFS('2추일입'!Y6:Y72,'2추일입'!W6:W72,"지특")+SUMIFS('2추일입'!Y6:Y72,'2추일입'!W6:W72,"기금")+SUMIFS('2추일입'!Y6:Y72,'2추일입'!W6:W72,"특교") -> 0 | D8: =SUMIFS('2추일출'!$AA$6:$AA$238,'2추일출'!$Y$6:$Y$238,"국비")+SUMIFS('2추일출'!$AA$6:$AA$238,'2추일출'!$Y$6:$Y$238,"지특")+SUMIFS('2추일출'!$AA$6:$AA$238,'2추일출'!$Y$6:$Y$238,"기금")+SUMIFS('2추일출'!$AA$6:$AA$238,'2추일출'!$Y$6:$Y$238,"특교") -> 0 | H8: 의존 매칭 도비 | I8: =SUMIFS('2추일입'!AD6:AD72,'2추일입'!AB6:AB72,"국비")+SUMIFS('2추일입'!AD6:AD72,'2추일입'!AB6:AB72,"지특")+SUMIFS('2추일입'!AD6:AD72,'2추일입'!AB6:AB72,"기금")+SUMIFS('2추일입'!AD6:AD72,'2추일입'!AB6:AB72,"특교") -> 0 | K8: =SUMIFS('2추일출'!$AF$6:$AF$238,'2추일출'!$AD$6:$AD$238,"국비")+SUMIFS('2추일출'!$AF$6:$AF$238,'2추일출'!$AD$6:$AD$238,"지특")+SUMIFS('2추일출'!$AF$6:$AF$238,'2추일출'!$AD$6:$AD$238,"기금")+SUMIFS('2추일출'!$AF$6:$AF$238,'2추일출'!$AD$6:$AD$238,"특교") -> 0
A9: 의존 계 | B9: =SUM(B10:B13) -> 0 | C9: =IF(B9='2추일입'!X6,"OK","@@") -> OK | D9: =SUM(D10:D13) -> 0 | E9: =IF(D9='2추일출'!Z6,"OK","@@") -> OK | F9: =SUM(F10:F13) -> 0 | H9: 의존 계 | I9: =SUM(I10:I13) -> 0 | J9: =IF(I9='2추일입'!X6,"OK","@@") -> OK | K9: =SUM(K10:K13) -> 0 | L9: =IF(K9='2추일출'!AE6,"OK","@@") -> OK | M9: =SUM(M10:M13) -> 0
A10: 국비 | B10: =SUMIFS('2추일입'!$Y$6:$Y$72,'2추일입'!$W$6:$W$72,검증!A10) -> 0 | D10: =SUMIFS('2추일출'!$AA$6:$AA$238,'2추일출'!$Y$6:$Y$238,검증!A10) -> 0 | F10: =D10-B10 -> 0 | H10: 국비 | I10: =SUMIFS('2추일입'!$AD$6:$AD$72,'2추일입'!$AB$6:$AB$72,검증!H10) -> 0 | K10: =SUMIFS('2추일출'!$AF$6:$AF$238,'2추일출'!$AD$6:$AD$238,검증!H10) -> 0 | M10: =K10-I10 -> 0
A11: 지특 | B11: =SUMIFS('2추일입'!$Y$6:$Y$72,'2추일입'!$W$6:$W$72,검증!A11) -> 0 | D11: =SUMIFS('2추일출'!$AA$6:$AA$238,'2추일출'!$Y$6:$Y$238,검증!A11) -> 0 | F11: =D11-B11 -> 0 | H11: 지특 | I11: =SUMIFS('2추일입'!$AD$6:$AD$72,'2추일입'!$AB$6:$AB$72,검증!H11) -> 0 | K11: =SUMIFS('2추일출'!$AF$6:$AF$238,'2추일출'!$AD$6:$AD$238,검증!H11) -> 0 | M11: =K11-I11 -> 0
A12: 기금 | B12: =SUMIFS('2추일입'!$Y$6:$Y$72,'2추일입'!$W$6:$W$72,검증!A12) -> 0 | D12: =SUMIFS('2추일출'!$AA$6:$AA$238,'2추일출'!$Y$6:$Y$238,검증!A12) -> 0 | F12: =D12-B12 -> 0 | H12: 기금 | I12: =SUMIFS('2추일입'!$AD$6:$AD$72,'2추일입'!$AB$6:$AB$72,검증!H12) -> 0 | K12: =SUMIFS('2추일출'!$AF$6:$AF$238,'2추일출'!$AD$6:$AD$238,검증!H12) -> 0 | M12: =K12-I12 -> 0
A13: 특교 | B13: =SUMIFS('2추일입'!$Y$6:$Y$72,'2추일입'!$W$6:$W$72,검증!A13) -> 0 | D13: =SUMIFS('2추일출'!$AA$6:$AA$238,'2추일출'!$Y$6:$Y$238,검증!A13) -> 0 | F13: =D13-B13 -> 0 | H13: 특교 | I13: =SUMIFS('2추일입'!$AD$6:$AD$72,'2추일입'!$AB$6:$AB$72,검증!H13) -> 0 | K13: =SUMIFS('2추일출'!$AF$6:$AF$238,'2추일출'!$AD$6:$AD$238,검증!H13) -> 0 | M13: =K13-I13 -> 0

Sheet 총괄표
A3: □ 총 괄 | C3: 세입예산 증감 | D3: =SUM(C7:D7) -> 0 | F3: 세출예산증감 | G3: =SUM(F7:G7) -> 0
F4: ※ 예비비 증감 | G4: =N7 -> 0 | I4: (단위 : 천원)
A5: 구 분 | B5: 집행부제출(안) | C5: 세입예산(안) | F5: 세출예산(안) | I5: 수정예산(안) | K5: ※ 예산안 증감현황
C6: 감 액 | D6: 증 액 | E6: 증감액 | F6: 감 액 | G6: 증 액 | H6: 증감액 | K6: 구 분 | L6: 세입 | M6: 세출 | N6: 예비비 | O6: 비고(???)
A7: 합 계 | B7: =SUM(B8:B17) -> 0 | C7: =SUM(C8:C17) -> 0 | D7: =SUM(D8:D17) -> 0 | E7: =SUM(E8:E17) -> 0 | F7: =SUM(F8:F17) -> 0 | G7: =SUM(G8:G17) -> 0 | H7: =SUM(H8:H17) -> 0 | I7: =SUM(I8:I17) -> 0 | K7: 합 계 | L7: =SUM(L8:L9) -> 0 | M7: =SUM(M8:M9) -> 0 | N7: =L7-M7 -> 0
A8: 의회운영위원회 | B8: =B31 -> 0 | C8: =SUMIFS('2추일입'!N$6:N$72,'2추일입'!$A$6:$A$72,총괄표!$A8)+SUMIFS('2추특입'!N$6:N$16,'2추특입'!$A$6:$A$16,총괄표!$A8) -> 0 | D8: =SUMIFS('2추일입'!O$6:O$72,'2추일입'!$A$6:$A$72,총괄표!$A8)+SUMIFS('2추특입'!O$6:O$16,'2추특입'!$A$6:$A$16,총괄표!$A8) -> 0 | E8: =D8+C8 -> 0 | F8: =SUMIFS('2추일출'!P$6:P$238,'2추일출'!$B$6:$B$238,총괄표!$A8)+SUMIFS('2추특출'!P$6:P$80,'2추특출'!$B$6:$B$80,총괄표!$A8) -> 0 | G8: =SUMIFS('2추일출'!Q$6:Q$238,'2추일출'!$B$6:$B$238,총괄표!$A8)+SUMIFS('2추특출'!Q$6:Q$80,'2추특출'!$B$6:$B$80,총괄표!$A8) -> 0 | H8: =G8+F8 -> 0 | I8: =B8+F8+G8 -> 0 | K8: 일반회계 | L8: =SUM(C24:D24) -> 0 | M8: =SUM(F24:G24) -> 0 | N8: =L8-M8 -> 0 | O8: 예비비 증감 - 감액, + 증액에 입력
A9: 기획재정위원회 | B9: =B32 -> 0 | C9: =SUMIFS('2추일입'!N$6:N$72,'2추일입'!$A$6:$A$72,총괄표!$A9)+SUMIFS('2추특입'!N$6:N$16,'2추특입'!$A$6:$A$16,총괄표!$A9) -> 0 | D9: =SUMIFS('2추일입'!O$6:O$72,'2추일입'!$A$6:$A$72,총괄표!$A9)+SUMIFS('2추특입'!O$6:O$16,'2추특입'!$A$6:$A$16,총괄표!$A9) -> 0 | E9: =D9+C9 -> 0 | F9: =SUMIFS('2추일출'!P$6:P$238,'2추일출'!$B$6:$B$238,총괄표!$A9)+SUMIFS('2추특출'!P$6:P$80,'2추특출'!$B$6:$B$80,총괄표!$A9) -> 0 | G9: =SUMIFS('2추일출'!Q$6:Q$238,'2추일출'!$B$6:$B$238,총괄표!$A9)+SUMIFS('2추특출'!Q$6:Q$80,'2추특출'!$B$6:$B$80,총괄표!$A9) -> 0 | H9: =G9+F9 -> 0 | I9: =B9+F9+G9 -> 0 | K9: 특별회계 | L9: =SUM(C25:D25) -> 0 | M9: =SUM(F25:G25) -> 0 | N9: =L9-M9 -> 0
A10: 경제과학기술위원회 | B10: =B33 -> 0 | C10: =SUMIFS('2추일입'!N$6:N$72,'2추일입'!$A$6:$A$72,총괄표!$A10)+SUMIFS('2추특입'!N$6:N$16,'2추특입'!$A$6:$A$16,총괄표!$A10) -> 0 | D10: =SUMIFS('2추일입'!O$6:O$72,'2추일입'!$A$6:$A$72,총괄표!$A10)+SUMIFS('2추특입'!O$6:O$16,'2추특입'!$A$6:$A$16,총괄표!$A10) -> 0 | E10: =D10+C10 -> 0 | F10: =SUMIFS('2추일출'!P$6:P$238,'2추일출'!$B$6:$B$238,총괄표!$A10)+SUMIFS('2추특출'!P$6:P$80,'2추특출'!$B$6:$B$80,총괄표!$A10) -> 0 | G10: =SUMIFS('2추일출'!Q$6:Q$238,'2추일출'!$B$6:$B$238,총괄표!$A10)+SUMIFS('2추특출'!Q$6:Q$80,'2추특출'!$B$6:$B$80,총괄표!$A10) -> 0 | H10: =G10+F10 -> 0 | I10: =B10+F10+G10 -> 0 | N10: -16031352 | O10: (예비비 계수 조종용)
A11: 안전행정위원회 | B11: =B34 -> 0 | C11: =SUMIFS('2추일입'!N$6:N$72,'2추일입'!$A$6:$A$72,총괄표!$A11)+SUMIFS('2추특입'!N$6:N$16,'2추특입'!$A$6:$A$16,총괄표!$A11) -> 0 | D11: =SUMIFS('2추일입'!O$6:O$72,'2추일입'!$A$6:$A$72,총괄표!$A11)+SUMIFS('2추특입'!O$6:O$16,'2추특입'!$A$6:$A$16,총괄표!$A11) -> 0 | E11: =D11+C11 -> 0 | F11: =SUMIFS('2추일출'!P$6:P$238,'2추일출'!$B$6:$B$238,총괄표!$A11)+SUMIFS('2추특출'!P$6:P$80,'2추특출'!$B$6:$B$80,총괄표!$A11) -> 0 | G11: =SUMIFS('2추일출'!Q$6:Q$238,'2추일출'!$B$6:$B$238,총괄표!$A11)+SUMIFS('2추특출'!Q$6:Q$80,'2추특출'!$B$6:$B$80,총괄표!$A11) -> 0 | H11: =G11+F11 -> 0 | I11: =B11+F11+G11 -> 0
A12: 문화체육관광위원회 | B12: =B35 -> 0 | C12: =SUMIFS('2추일입'!N$6:N$72,'2추일입'!$A$6:$A$72,총괄표!$A12)+SUMIFS('2추특입'!N$6:N$16,'2추특입'!$A$6:$A$16,총괄표!$A12) -> 0 | D12: =SUMIFS('2추일입'!O$6:O$72,'2추일입'!$A$6:$A$72,총괄표!$A12)+SUMIFS('2추특입'!O$6:O$16,'2추특입'!$A$6:$A$16,총괄표!$A12) -> 0 | E12: =D12+C12 -> 0 | F12: =SUMIFS('2추일출'!P$6:P$238,'2추일출'!$B$6:$B$238,총괄표!$A12)+SUMIFS('2추특출'!P$6:P$80,'2추특출'!$B$6:$B$80,총괄표!$A12) -> 0 | G12: =SUMIFS('2추일출'!Q$6:Q$238,'2추일출'!$B$6:$B$238,총괄표!$A12)+SUMIFS('2추특출'!Q$6:Q$80,'2추특출'!$B$6:$B$80,총괄표!$A12) -> 0 | H12: =G12+F12 -> 0 | I12: =B12+F12+G12 -> 0
A13: 농정해양위원회 | B13: =B36 -> 0 | C13: =SUMIFS('2추일입'!N$6:N$72,'2추일입'!$A$6:$A$72,총괄표!$A13)+SUMIFS('2추특입'!N$6:N$16,'2추특입'!$A$6:$A$16,총괄표!$A13) -> 0 | D13: =SUMIFS('2추일입'!O$6:O$72,'2추일입'!$A$6:$A$72,총괄표!$A13)+SUMIFS('2추특입'!O$6:O$16,'2추특입'!$A$6:$A$16,총괄표!$A13) -> 0 | E13: =D13+C13 -> 0 | F13: =SUMIFS('2추일출'!P$6:P$238,'2추일출'!$B$6:$B$238,총괄표!$A13)+SUMIFS('2추특출'!P$6:P$80,'2추특출'!$B$6:$B$80,총괄표!$A13) -> 0 | G13: =SUMIFS('2추일출'!Q$6:Q$238,'2추일출'!$B$6:$B$238,총괄표!$A13)+SUMIFS('2추특출'!Q$6:Q$80,'2추특출'!$B$6:$B$80,총괄표!$A13) -> 0 | H13: =G13+F13 -> 0 | I13: =B13+F13+G13 -> 0
A14: 보건복지위원회 | B14: =B37 -> 0 | C14: =SUMIFS('2추일입'!N$6:N$72,'2추일입'!$A$6:$A$72,총괄표!$A14)+SUMIFS('2추특입'!N$6:N$16,'2추특입'!$A$6:$A$16,총괄표!$A14) -> 0 | D14: =SUMIFS('2추일입'!O$6:O$72,'2추일입'!$A$6:$A$72,총괄표!$A14)+SUMIFS('2추특입'!O$6:O$16,'2추특입'!$A$6:$A$16,총괄표!$A14) -> 0 | E14: =D14+C14 -> 0 | F14: =SUMIFS('2추일출'!P$6:P$238,'2추일출'!$B$6:$B$238,총괄표!$A14)+SUMIFS('2추특출'!P$6:P$80,'2추특출'!$B$6:$B$80,총괄표!$A14) -> 0 | G14: =SUMIFS('2추일출'!Q$6:Q$238,'2추일출'!$B$6:$B$238,총괄표!$A14)+SUMIFS('2추특출'!Q$6:Q$80,'2추특출'!$B$6:$B$80,총괄표!$A14) -> 0 | H14: =G14+F14 -> 0 | I14: =B14+F14+G14 -> 0
A15: 건설교통위원회 | B15: =B38 -> 0 | C15: =SUMIFS('2추일입'!N$6:N$72,'2추일입'!$A$6:$A$72,총괄표!$A15)+SUMIFS('2추특입'!N$6:N$16,'2추특입'!$A$6:$A$16,총괄표!$A15) -> 0 | D15: =SUMIFS('2추일입'!O$6:O$72,'2추일입'!$A$6:$A$72,총괄표!$A15)+SUMIFS('2추특입'!O$6:O$16,'2추특입'!$A$6:$A$16,총괄표!$A15) -> 0 | E15: =D15+C15 -> 0 | F15: =SUMIFS('2추일출'!P$6:P$238,'2추일출'!$B$6:$B$238,총괄표!$A15)+SUMIFS('2추특출'!P$6:P$80,'2추특출'!$B$6:$B$80,총괄표!$A15) -> 0 | G15: =SUMIFS('2추일출'!Q$6:Q$238,'2추일출'!$B$6:$B$238,총괄표!$A15)+SUMIFS('2추특출'!Q$6:Q$80,'2추특출'!$B$6:$B$80,총괄표!$A15) -> 0 | H15: =G15+F15 -> 0 | I15: =B15+F15+G15 -> 0
A16: 도시환경위원회 | B16: =B39 -> 0 | C16: =SUMIFS('2추일입'!N$6:N$72,'2추일입'!$A$6:$A$72,총괄표!$A16)+SUMIFS('2추특입'!N$6:N$16,'2추특입'!$A$6:$A$16,총괄표!$A16) -> 0 | D16: =SUMIFS('2추일입'!O$6:O$72,'2추일입'!$A$6:$A$72,총괄표!$A16)+SUMIFS('2추특입'!O$6:O$16,'2추특입'!$A$6:$A$16,총괄표!$A16) -> 0 | E16: =D16+C16 -> 0 | F16: =SUMIFS('2추일출'!P$6:P$238,'2추일출'!$B$6:$B$238,총괄표!$A16)+SUMIFS('2추특출'!P$6:P$80,'2추특출'!$B$6:$B$80,총괄표!$A16) -> 0 | G16: =SUMIFS('2추일출'!Q$6:Q$238,'2추일출'!$B$6:$B$238,총괄표!$A16)+SUMIFS('2추특출'!Q$6:Q$80,'2추특출'!$B$6:$B$80,총괄표!$A16) -> 0 | H16: =G16+F16 -> 0 | I16: =B16+F16+G16 -> 0
A17: 여성가족교육협력위원회 | B17: =B40 -> 0 | C17: =SUMIFS('2추일입'!N$6:N$72,'2추일입'!$A$6:$A$72,총괄표!$A17)+SUMIFS('2추특입'!N$6:N$16,'2추특입'!$A$6:$A$16,총괄표!$A17) -> 0 | D17: =SUMIFS('2추일입'!O$6:O$72,'2추일입'!$A$6:$A$72,총괄표!$A17)+SUMIFS('2추특입'!O$6:O$16,'2추특입'!$A$6:$A$16,총괄표!$A17) -> 0 | E17: =D17+C17 -> 0 | F17: =SUMIFS('2추일출'!P$6:P$238,'2추일출'!$B$6:$B$238,총괄표!$A17)+SUMIFS('2추특출'!P$6:P$80,'2추특출'!$B$6:$B$80,총괄표!$A17) -> 0 | G17: =SUMIFS('2추일출'!Q$6:Q$238,'2추일출'!$B$6:$B$238,총괄표!$A17)+SUMIFS('2추특출'!Q$6:Q$80,'2추특출'!$B$6:$B$80,총괄표!$A17) -> 0 | H17: =G17+F17 -> 0 | I17: =B17+F17+G17 -> 0
A19: □ 회계별 예산 총 규모
I20: (단위 : 천원)
A21: 구 분 | B21: 집행부제출(안) | C21: 세입예산(안) | F21: 세출예산(안) | I21: 수정예산(안) | K21: 세입기준
C22: 감 액 | D22: 증 액 | E22: 증감액 | F22: 감 액 | G22: 증 액 | H22: 증감액 | K22: 수정예산(안) | L22: 세출기준-세입기준
A23: 합 계 | B23: =SUM(B24:B25) -> 0 | C23: =SUM(C24:C25) -> 0 | D23: =SUM(D24:D25) -> 0 | E23: =SUM(E24:E25) -> 0 | F23: =SUM(F24:F25) -> 0 | G23: =SUM(G24:G25) -> 0 | H23: =SUM(H24:H25) -> 0 | I23: =SUM(I24:I25) -> 0 | K23: =SUM(K24:K25) -> 0 | L23: =I23-K23 -> 0
A24: 일반회계 | B24: =D30 -> 0 | C24: ='2추일입'!N6 -> 0 | D24: ='2추일입'!O6 -> 0 | E24: =D24+C24 -> 0 | F24: ='2추일출'!P6 -> 0 | G24: ='2추일출'!Q6 -> 0 | H24: =G24+F24 -> 0 | I24: =B24+F24+G24 -> 0 | K24: =B24+C24+D24 -> 0 | L24: =I24-K24 -> 0
A25: 특별회계 | B25: =E30+F30 -> 0 | C25: ='2추특입'!N6 -> 0 | D25: ='2추특입'!O6 -> 0 | E25: =D25+C25 -> 0 | F25: ='2추특출'!P6 -> 0 | G25: ='2추특출'!Q6 -> 0 | H25: =G25+F25 -> 0 | I25: =B25+F25+G25 -> 0 | K25: =B25+C25+D25 -> 0 | L25: =I25-K25 -> 0
A28: ※ 회계별, 위원회별 집행부제출안(상임위에서 작성)
A29: 위원회명 | B29: 합계 | C29: 일반+기타 | D29: 일반회계 | E29: 기타특별회계 | F29: 공기업특별회계
A30: 합계 | B30: =SUM(B31:B40) -> 0 | C30: =SUM(C31:C40) -> 0 | D30: =SUM(D31:D40) -> 0 | E30: =SUM(E31:E40) -> 0 | F30: =SUM(F31:F40) -> 0
A31: 의회운영위원회 | B31: =SUM(D31:G31) -> 0 | C31: =D31+E31 -> 0
A32: 기획재정위원회 | B32: =SUM(D32:G32) -> 0 | C32: =D32+E32 -> 0
A33: 경제과학기술위원회 | B33: =SUM(D33:G33) -> 0 | C33: =D33+E33 -> 0
A34: 안전행정위원회 | B34: =SUM(D34:G34) -> 0 | C34: =D34+E34 -> 0
A35: 문화체육관광위원회 | B35: =SUM(D35:G35) -> 0 | C35: =D35+E35 -> 0
A36: 농정해양위원회 | B36: =SUM(D36:G36) -> 0 | C36: =D36+E36 -> 0
A37: 보건복지위원회 | B37: =SUM(D37:G37) -> 0 | C37: =D37+E37 -> 0
A38: 건설교통위원회 | B38: =SUM(D38:G38) -> 0 | C38: =D38+E38 -> 0
A39: 도시환경위원회 | B39: =SUM(D39:G39) -> 0 | C39: =D39+E39 -> 0
A40: 여성가족교육협력위원회 | B40: =SUM(D40:G40) -> 0 | C40: =D40+E40 -> 0
A42: 예비비

Sheet 2추일입
A1: 2017년도 제2회 추가경정 경기도 일반회계 세입 예산 조정(안)
A2: □ 세입예산 | P2: =P6-J6 -> 0 | X2: 세입=세출 | AC2: 세입=세출
T3: (단위 : 천원) | X3: =IF(X6='2추일출'!Z6,"OK","@@") -> OK | Z3: =IF(COUNTIF(Z6:Z72,"검토")>0,"@@","OK") -> OK | AC3: =IF(AC6='2추일출'!AE6,"OK","@@") -> OK | AD3: =N6+O6-AC6-AD6 -> 0 | AE3: =IF(COUNTIF(AE6:AE72,"검토")>0,"@@","OK") -> OK
A4: 위원회명 | B4: 실국명 | C4: 부서명 | D4: 편성 구분 | E4: 예산안 페이지 | F4: 사업설명서페이지 | G4: 목명 및 부기명 | H4: 제2회 추경 예산안 (가) | I4: 기정액 (나) | J4: 제2회 추경 증감액 (다=가-나) | K4: 상임위 예산안 조정액(라) | M4: 상임위 조정 예산안 (마=가+라) | N4: 예결위 예산안 조정액(사) | P4: 예결위 조정 예산안 (아=가+사) | Q4: 동의 대상 | R4: 상임위 변경사유 (심의 참고자료) | S4: 비고 (상임위 부대의견) | T4: 비고 (예결위 부대의견) | U4: 국도비 등 여부 | W4: 재원 | X4: 상임위 재원별 증감액 | AB4: 재원 | AC4: 예결위 재원별 증감액 | AG4: 세입번호 | AI4: 실국부서 코드 | AK4: 추가 내시 등 | AM4: 상임위 세입 검증 | AQ4: 예결위 세입 검증
K5: 감액 | L5: 증액 | N5: 감액 | O5: 증액 | X5: 국비 등 | Y5: 도비 | Z5: 검증 | AC5: 국비 등 | AD5: 도비 | AE5: 검증 | AM5: 국비 증감액 | AN5: 건수 | AO5: 검증 | AQ5: 국비 증감액 | AR5: 건수 | AS5: 검증
A6: 합 계 | H6: =SUBTOTAL(9,H7:H72) -> 0 | I6: =SUBTOTAL(9,I7:I72) -> 0 | J6: =SUBTOTAL(9,J7:J72) -> 0 | K6: =SUBTOTAL(9,K7:K72) -> 0 | L6: =SUBTOTAL(9,L7:L72) -> 0 | M6: =SUBTOTAL(9,M7:M72) -> 0 | N6: =SUBTOTAL(9,N7:N72) -> 0 | O6: =SUBTOTAL(9,O7:O72) -> 0 | P6: =SUBTOTAL(9,P7:P72) -> 0 | X6: =SUBTOTAL(9,X7:X72) -> 0 | Y6: =SUBTOTAL(9,Y7:Y72) -> 0 | Z6: =IF(SUM($K6:$L6)=SUM($X6:$Y6),"OK","검토") -> OK | AC6: =SUBTOTAL(9,AC7:AC72) -> 0 | AD6: =SUBTOTAL(9,AD7:AD72) -> 0 | AE6: =IF(SUM($K6:$L6)=SUM($X6:$Y6),"OK","검토") -> OK | AM6: =SUBTOTAL(9,AM7:AM72) -> 0 | AN6: =SUBTOTAL(9,AN7:AN72) -> 0 | AO6: =IF(COUNTIF(AO7:AO72,"@@")>0,"@@","OK") -> OK | AQ6: =SUBTOTAL(9,AQ7:AQ72) -> 0 | AR6: =SUBTOTAL(9,AR7:AR72) -> 0 | AS6: =IF(COUNTIF(AS7:AS72,"@@")>0,"@@","OK") -> OK
B7: =IF(C7="","",VLOOKUP(C7,구분표!$A$3:$C$214,3,)) | J7: =IF(D7="","",H7-I7) | M7: =H7+K7+L7 -> 0 | P7: =H7+N7+O7 -> 0 | Q7: =IF(AND((M7=0),(P7>0)),"O",IF(AND((K7<0),(M7-P7<0)),"O","X")) -> X | X7: =IF($W7<>"도비",IF($U7="국도비","직접입력",SUM($K7:$L7)),) -> 0 | Y7: =IF($W7="도비",SUM($K7:$L7),IF($U7="국도비","직접입력",SUM($K7:$L7)-$X7)) -> 0 | Z7: =IF(SUM($K7:$L7)=SUM($X7:$Y7),"OK","검토") -> OK | AC7: =IF($W7<>"도비",IF($U7="국도비","직접입력",SUM($N7:$O7)),) -> 0 | AD7: =IF($W7="도비",SUM(N7:O7),IF($U7="국도비","직접입력",SUM(N7:O7)-AC7)) -> 0 | AE7: =IF(SUM(N7:O7)=SUM(AC7:AD7),"OK","검토") -> OK | AG7: =IF(AI7="","",IF(W7="도비","세입없음",CONCATENATE(AI7,"-",COUNTIF($AI$7:AI7,AI7)))) | AI7: {=IF(C7="","",INDEX(구분표!$I$2:$I$311, MATCH(1,(구분표!$E$2:$E$311='2추일입'!B7)*(구분표!$F$2:$F$311='2추일입'!C7)*(구분표!$G$2:$G$311='2추일입'!A7),0)))} | AM7: =IF(AG7="",0,SUMIFS('2추일출'!$Z$6:$Z$238,'2추일출'!$AI$6:$AI$238,'2추일입'!$AG7)) -> 0 | AN7: =IF(AG7="","",COUNTIFS('2추일출'!$AI$6:$AI$238,'2추일입'!AG7)) | AO7: =IF(X7=AM7,"OK","@@") -> OK | AQ7: =IF(AG7="",0,SUMIFS('2추일출'!$AE$6:$AE$238,'2추일출'!$AI$6:$AI$238,'2추일입'!$AG7)) -> 0 | AR7: =IF(AG7="","",COUNTIFS('2추일출'!$AI$6:$AI$238,AG7)) | AS7: =IF(AC7=AQ7,"OK","@@") -> OK
B8: =IF(C8="","",VLOOKUP(C8,구분표!$A$3:$C$214,3,)) | J8: =IF(D8="","",H8-I8) | M8: =H8+K8+L8 -> 0 | P8: =H8+N8+O8 -> 0 | Q8: =IF(AND((M8=0),(P8>0)),"O",IF(AND((K8<0),(M8-P8<0)),"O","X")) -> X | X8: =IF($W8<>"도비",IF($U8="국도비","직접입력",SUM($K8:$L8)),) -> 0 | Y8: =IF($W8="도비",SUM($K8:$L8),IF($U8="국도비","직접입력",SUM($K8:$L8)-$X8)) -> 0 | Z8: =IF(SUM($K8:$L8)=SUM($X8:$Y8),"OK","검토") -> OK | AC8: =IF($W8<>"도비",IF($U8="국도비","직접입력",SUM($N8:$O8)),) -> 0 | AD8: =IF($W8="도비",SUM(N8:O8),IF($U8="국도비","직접입력",SUM(N8:O8)-AC8)) -> 0 | AE8: =IF(SUM(N8:O8)=SUM(AC8:AD8),"OK","검토") -> OK | AG8: =IF(AI8="","",IF(W8="도비","세입없음",CONCATENATE(AI8,"-",COUNTIF($AI$7:AI8,AI8)))) | AI8: {=IF(C8="","",INDEX(구분표!$I$2:$I$311, MATCH(1,(구분표!$E$2:$E$311='2추일입'!B8)*(구분표!$F$2:$F$311='2추일입'!C8)*(구분표!$G$2:$G$311='2추일입'!A8),0)))} | AM8: =IF(AG8="",0,SUMIFS('2추일출'!$Z$6:$Z$238,'2추일출'!$AI$6:$AI$238,'2추일입'!$AG8)) -> 0 | AN8: =IF(AG8="","",COUNTIFS('2추일출'!$AI$6:$AI$238,'2추일입'!AG8)) | AO8: =IF(X8=AM8,"OK","@@") -> OK | AQ8: =IF(AG8="",0,SUMIFS('2추일출'!$AE$6:$AE$238,'2추일출'!$AI$6:$AI$238,'2추일입'!$AG8)) -> 0 | AR8: =IF(AG8="","",COUNTIFS('2추일출'!$AI$6:$AI$238,AG8)) | AS8: =IF(AC8=AQ8,"OK","@@") -> OK
B9: =IF(C9="","",VLOOKUP(C9,구분표!$A$3:$C$214,3,)) | J9: =IF(D9="","",H9-I9) | M9: =H9+K9+L9 -> 0 | P9: =H9+N9+O9 -> 0 | Q9: =IF(AND((M9=0),(P9>0)),"O",IF(AND((K9<0),(M9-P9<0)),"O","X")) -> X | X9: =IF($W9<>"도비",IF($U9="국도비","직접입력",SUM($K9:$L9)),) -> 0 | Y9: =IF($W9="도비",SUM($K9:$L9),IF($U9="국도비","직접입력",SUM($K9:$L9)-$X9)) -> 0 | Z9: =IF(SUM($K9:$L9)=SUM($X9:$Y9),"OK","검토") -> OK | AC9: =IF($W9<>"도비",IF($U9="국도비","직접입력",SUM($N9:$O9)),) -> 0 | AD9: =IF($W9="도비",SUM(N9:O9),IF($U9="국도비","직접입력",SUM(N9:O9)-AC9)) -> 0 | AE9: =IF(SUM(N9:O9)=SUM(AC9:AD9),"OK","검토") -> OK | AG9: =IF(AI9="","",IF(W9="도비","세입없음",CONCATENATE(AI9,"-",COUNTIF($AI$7:AI9,AI9)))) | AI9: {=IF(C9="","",INDEX(구분표!$I$2:$I$311, MATCH(1,(구분표!$E$2:$E$311='2추일입'!B9)*(구분표!$F$2:$F$311='2추일입'!C9)*(구분표!$G$2:$G$311='2추일입'!A9),0)))} | AM9: =IF(AG9="",0,SUMIFS('2추일출'!$Z$6:$Z$238,'2추일출'!$AI$6:$AI$238,'2추일입'!$AG9)) -> 0 | AN9: =IF(AG9="","",COUNTIFS('2추일출'!$AI$6:$AI$238,'2추일입'!AG9)) | AO9: =IF(X9=AM9,"OK","@@") -> OK | AQ9: =IF(AG9="",0,SUMIFS('2추일출'!$AE$6:$AE$238,'2추일출'!$AI$6:$AI$238,'2추일입'!$AG9)) -> 0 | AR9: =IF(AG9="","",COUNTIFS('2추일출'!$AI$6:$AI$238,AG9)) | AS9: =IF(AC9=AQ9,"OK","@@") -> OK
B10: =IF(C10="","",VLOOKUP(C10,구분표!$A$3:$C$214,3,)) | J10: =IF(D10="","",H10-I10) | M10: =H10+K10+L10 -> 0 | P10: =H10+N10+O10 -> 0 | Q10: =IF(AND((M10=0),(P10>0)),"O",IF(AND((K10<0),(M10-P10<0)),"O","X")) -> X | X10: =IF($W10<>"도비",IF($U10="국도비","직접입력",SUM($K10:$L10)),) -> 0 | Y10: =IF($W10="도비",SUM($K10:$L10),IF($U10="국도비","직접입력",SUM($K10:$L10)-$X10)) -> 0 | Z10: =IF(SUM($K10:$L10)=SUM($X10:$Y10),"OK","검토") -> OK | AC10: =IF($W10<>"도비",IF($U10="국도비","직접입력",SUM($N10:$O10)),) -> 0 | AD10: =IF($W10="도비",SUM(N10:O10),IF($U10="국도비","직접입력",SUM(N10:O10)-AC10)) -> 0 | AE10: =IF(SUM(N10:O10)=SUM(AC10:AD10),"OK","검토") -> OK | AG10: =IF(AI10="","",IF(W10="도비","세입없음",CONCATENATE(AI10,"-",COUNTIF($AI$7:AI10,AI10)))) | AI10: {=IF(C10="","",INDEX(구분표!$I$2:$I$311, MATCH(1,(구분표!$E$2:$E$311='2추일입'!B10)*(구분표!$F$2:$F$311='2추일입'!C10)*(구분표!$G$2:$G$311='2추일입'!A10),0)))} | AM10: =IF(AG10="",0,SUMIFS('2추일출'!$Z$6:$Z$238,'2추일출'!$AI$6:$AI$238,'2추일입'!$AG10)) -> 0 | AN10: =IF(AG10="","",COUNTIFS('2추일출'!$AI$6:$AI$238,'2추일입'!AG10)) | AO10: =IF(X10=AM10,"OK","@@") -> OK | AQ10: =IF(AG10="",0,SUMIFS('2추일출'!$AE$6:$AE$238,'2추일출'!$AI$6:$AI$238,'2추일입'!$AG10)) -> 0 | AR10: =IF(AG10="","",COUNTIFS('2추일출'!$AI$6:$AI$238,AG10)) | AS10: =IF(AC10=AQ10,"OK","@@") -> OK
B11: =IF(C11="","",VLOOKUP(C11,구분표!$A$3:$C$214,3,)) | J11: =IF(D11="","",H11-I11) | M11: =H11+K11+L11 -> 0 | P11: =H11+N11+O11 -> 0 | Q11: =IF(AND((M11=0),(P11>0)),"O",IF(AND((K11<0),(M11-P11<0)),"O","X")) -> X | X11: =IF($W11<>"도비",IF($U11="국도비","직접입력",SUM($K11:$L11)),) -> 0 | Y11: =IF($W11="도비",SUM($K11:$L11),IF($U11="국도비","직접입력",SUM($K11:$L11)-$X11)) -> 0 | Z11: =IF(SUM($K11:$L11)=SUM($X11:$Y11),"OK","검토") -> OK | AC11: =IF($W11<>"도비",IF($U11="국도비","직접입력",SUM($N11:$O11)),) -> 0 | AD11: =IF($W11="도비",SUM(N11:O11),IF($U11="국도비","직접입력",SUM(N11:O11)-AC11)) -> 0 | AE11: =IF(SUM(N11:O11)=SUM(AC11:AD11),"OK","검토") -> OK | AG11: =IF(AI11="","",IF(W11="도비","세입없음",CONCATENATE(AI11,"-",COUNTIF($AI$7:AI11,AI11)))) | AI11: {=IF(C11="","",INDEX(구분표!$I$2:$I$311, MATCH(1,(구분표!$E$2:$E$311='2추일입'!B11)*(구분표!$F$2:$F$311='2추일입'!C11)*(구분표!$G$2:$G$311='2추일입'!A11),0)))} | AM11: =IF(AG11="",0,SUMIFS('2추일출'!$Z$6:$Z$238,'2추일출'!$AI$6:$AI$238,'2추일입'!$AG11)) -> 0 | AN11: =IF(AG11="","",COUNTIFS('2추일출'!$AI$6:$AI$238,'2추일입'!AG11)) | AO11: =IF(X11=AM11,"OK","@@") -> OK | AQ11: =IF(AG11="",0,SUMIFS('2추일출'!$AE$6:$AE$238,'2추일출'!$AI$6:$AI$238,'2추일입'!$AG11)) -> 0 | AR11: =IF(AG11="","",COUNTIFS('2추일출'!$AI$6:$AI$238,AG11)) | AS11: =IF(AC11=AQ11,"OK","@@") -> OK
B12: =IF(C12="","",VLOOKUP(C12,구분표!$A$3:$C$214,3,)) | J12: =IF(D12="","",H12-I12) | M12: =H12+K12+L12 -> 0 | P12: =H12+N12+O12 -> 0 | Q12: =IF(AND((M12=0),(P12>0)),"O",IF(AND((K12<0),(M12-P12<0)),"O","X")) -> X | X12: =IF($W12<>"도비",IF($U12="국도비","직접입력",SUM($K12:$L12)),) -> 0 | Y12: =IF($W12="도비",SUM($K12:$L12),IF($U12="국도비","직접입력",SUM($K12:$L12)-$X12)) -> 0 | Z12: =IF(SUM($K12:$L12)=SUM($X12:$Y12),"OK","검토") -> OK | AC12: =IF($W12<>"도비",IF($U12="국도비","직접입력",SUM($N12:$O12)),) -> 0 | AD12: =IF($W12="도비",SUM(N12:O12),IF($U12="국도비","직접입력",SUM(N12:O12)-AC12)) -> 0 | AE12: =IF(SUM(N12:O12)=SUM(AC12:AD12),"OK","검토") -> OK | AG12: =IF(AI12="","",IF(W12="도비","세입없음",CONCATENATE(AI12,"-",COUNTIF($AI$7:AI12,AI12)))) | AI12: {=IF(C12="","",INDEX(구분표!$I$2:$I$311, MATCH(1,(구분표!$E$2:$E$311='2추일입'!B12)*(구분표!$F$2:$F$311='2추일입'!C12)*(구분표!$G$2:$G$311='2추일입'!A12),0)))} | AM12: =IF(AG12="",0,SUMIFS('2추일출'!$Z$6:$Z$238,'2추일출'!$AI$6:$AI$238,'2추일입'!$AG12)) -> 0 | AN12: =IF(AG12="","",COUNTIFS('2추일출'!$AI$6:$AI$238,'2추일입'!AG12)) | AO12: =IF(X12=AM12,"OK","@@") -> OK | AQ12: =IF(AG12="",0,SUMIFS('2추일출'!$AE$6:$AE$238,'2추일출'!$AI$6:$AI$238,'2추일입'!$AG12)) -> 0 | AR12: =IF(AG12="","",COUNTIFS('2추일출'!$AI$6:$AI$238,AG12)) | AS12: =IF(AC12=AQ12,"OK","@@") -> OK
B13: =IF(C13="","",VLOOKUP(C13,구분표!$A$3:$C$214,3,)) | J13: =IF(D13="","",H13-I13) | M13: =H13+K13+L13 -> 0 | P13: =H13+N13+O13 -> 0 | Q13: =IF(AND((M13=0),(P13>0)),"O",IF(AND((K13<0),(M13-P13<0)),"O","X")) -> X | X13: =IF($W13<>"도비",IF($U13="국도비","직접입력",SUM($K13:$L13)),) -> 0 | Y13: =IF($W13="도비",SUM($K13:$L13),IF($U13="국도비","직접입력",SUM($K13:$L13)-$X13)) -> 0 | Z13: =IF(SUM($K13:$L13)=SUM($X13:$Y13),"OK","검토") -> OK | AC13: =IF($W13<>"도비",IF($U13="국도비","직접입력",SUM($N13:$O13)),) -> 0 | AD13: =IF($W13="도비",SUM(N13:O13),IF($U13="국도비","직접입력",SUM(N13:O13)-AC13)) -> 0 | AE13: =IF(SUM(N13:O13)=SUM(AC13:AD13),"OK","검토") -> OK | AG13: =IF(AI13="","",IF(W13="도비","세입없음",CONCATENATE(AI13,"-",COUNTIF($AI$7:AI13,AI13)))) | AI13: {=IF(C13="","",INDEX(구분표!$I$2:$I$311, MATCH(1,(구분표!$E$2:$E$311='2추일입'!B13)*(구분표!$F$2:$F$311='2추일입'!C13)*(구분표!$G$2:$G$311='2추일입'!A13),0)))} | AM13: =IF(AG13="",0,SUMIFS('2추일출'!$Z$6:$Z$238,'2추일출'!$AI$6:$AI$238,'2추일입'!$AG13)) -> 0 | AN13: =IF(AG13="","",COUNTIFS('2추일출'!$AI$6:$AI$238,'2추일입'!AG13)) | AO13: =IF(X13=AM13,"OK","@@") -> OK | AQ13: =IF(AG13="",0,SUMIFS('2추일출'!$AE$6:$AE$238,'2추일출'!$AI$6:$AI$238,'2추일입'!$AG13)) -> 0 | AR13: =IF(AG13="","",COUNTIFS('2추일출'!$AI$6:$AI$238,AG13)) | AS13: =IF(AC13=AQ13,"OK","@@") -> OK
B14: =IF(C14="","",VLOOKUP(C14,구분표!$A$3:$C$214,3,)) | J14: =IF(D14="","",H14-I14) | M14: =H14+K14+L14 -> 0 | P14: =H14+N14+O14 -> 0 | Q14: =IF(AND((M14=0),(P14>0)),"O",IF(AND((K14<0),(M14-P14<0)),"O","X")) -> X | X14: =IF($W14<>"도비",IF($U14="국도비","직접입력",SUM($K14:$L14)),) -> 0 | Y14: =IF($W14="도비",SUM($K14:$L14),IF($U14="국도비","직접입력",SUM($K14:$L14)-$X14)) -> 0 | Z14: =IF(SUM($K14:$L14)=SUM($X14:$Y14),"OK","검토") -> OK | AC14: =IF($W14<>"도비",IF($U14="국도비","직접입력",SUM($N14:$O14)),) -> 0 | AD14: =IF($W14="도비",SUM(N14:O14),IF($U14="국도비","직접입력",SUM(N14:O14)-AC14)) -> 0 | AE14: =IF(SUM(N14:O14)=SUM(AC14:AD14),"OK","검토") -> OK | AG14: =IF(AI14="","",IF(W14="도비","세입없음",CONCATENATE(AI14,"-",COUNTIF($AI$7:AI14,AI14)))) | AI14: {=IF(C14="","",INDEX(구분표!$I$2:$I$311, MATCH(1,(구분표!$E$2:$E$311='2추일입'!B14)*(구분표!$F$2:$F$311='2추일입'!C14)*(구분표!$G$2:$G$311='2추일입'!A14),0)))} | AM14: =IF(AG14="",0,SUMIFS('2추일출'!$Z$6:$Z$238,'2추일출'!$AI$6:$AI$238,'2추일입'!$AG14)) -> 0 | AN14: =IF(AG14="","",COUNTIFS('2추일출'!$AI$6:$AI$238,'2추일입'!AG14)) | AO14: =IF(X14=AM14,"OK","@@") -> OK | AQ14: =IF(AG14="",0,SUMIFS('2추일출'!$AE$6:$AE$238,'2추일출'!$AI$6:$AI$238,'2추일입'!$AG14)) -> 0 | AR14: =IF(AG14="","",COUNTIFS('2추일출'!$AI$6:$AI$238,AG14)) | AS14: =IF(AC14=AQ14,"OK","@@") -> OK
B15: =IF(C15="","",VLOOKUP(C15,구분표!$A$3:$C$214,3,)) | J15: =IF(D15="","",H15-I15) | M15: =H15+K15+L15 -> 0 | P15: =H15+N15+O15 -> 0 | Q15: =IF(AND((M15=0),(P15>0)),"O",IF(AND((K15<0),(M15-P15<0)),"O","X")) -> X | X15: =IF($W15<>"도비",IF($U15="국도비","직접입력",SUM($K15:$L15)),) -> 0 | Y15: =IF($W15="도비",SUM($K15:$L15),IF($U15="국도비","직접입력",SUM($K15:$L15)-$X15)) -> 0 | Z15: =IF(SUM($K15:$L15)=SUM($X15:$Y15),"OK","검토") -> OK | AC15: =IF($W15<>"도비",IF($U15="국도비","직접입력",SUM($N15:$O15)),) -> 0 | AD15: =IF($W15="도비",SUM(N15:O15),IF($U15="국도비","직접입력",SUM(N15:O15)-AC15)) -> 0 | AE15: =IF(SUM(N15:O15)=SUM(AC15:AD15),"OK","검토") -> OK | AG15: =IF(AI15="","",IF(W15="도비","세입없음",CONCATENATE(AI15,"-",COUNTIF($AI$7:AI15,AI15)))) | AI15: {=IF(C15="","",INDEX(구분표!$I$2:$I$311, MATCH(1,(구분표!$E$2:$E$311='2추일입'!B15)*(구분표!$F$2:$F$311='2추일입'!C15)*(구분표!$G$2:$G$311='2추일입'!A15),0)))} | AM15: =IF(AG15="",0,SUMIFS('2추일출'!$Z$6:$Z$238,'2추일출'!$AI$6:$AI$238,'2추일입'!$AG15)) -> 0 | AN15: =IF(AG15="","",COUNTIFS('2추일출'!$AI$6:$AI$238,'2추일입'!AG15)) | AO15: =IF(X15=AM15,"OK","@@") -> OK | AQ15: =IF(AG15="",0,SUMIFS('2추일출'!$AE$6:$AE$238,'2추일출'!$AI$6:$AI$238,'2추일입'!$AG15)) -> 0 | AR15: =IF(AG15="","",COUNTIFS('2추일출'!$AI$6:$AI$238,AG15)) | AS15: =IF(AC15=AQ15,"OK","@@") -> OK
B16: =IF(C16="","",VLOOKUP(C16,구분표!$A$3:$C$214,3,)) | J16: =IF(D16="","",H16-I16) | M16: =H16+K16+L16 -> 0 | P16: =H16+N16+O16 -> 0 | Q16: =IF(AND((M16=0),(P16>0)),"O",IF(AND((K16<0),(M16-P16<0)),"O","X")) -> X | X16: =IF($W16<>"도비",IF($U16="국도비","직접입력",SUM($K16:$L16)),) -> 0 | Y16: =IF($W16="도비",SUM($K16:$L16),IF($U16="국도비","직접입력",SUM($K16:$L16)-$X16)) -> 0 | Z16: =IF(SUM($K16:$L16)=SUM($X16:$Y16),"OK","검토") -> OK | AC16: =IF($W16<>"도비",IF($U16="국도비","직접입력",SUM($N16:$O16)),) -> 0 | AD16: =IF($W16="도비",SUM(N16:O16),IF($U16="국도비","직접입력",SUM(N16:O16)-AC16)) -> 0 | AE16: =IF(SUM(N16:O16)=SUM(AC16:AD16),"OK","검토") -> OK | AG16: =IF(AI16="","",IF(W16="도비","세입없음",CONCATENATE(AI16,"-",COUNTIF($AI$7:AI16,AI16)))) | AI16: {=IF(C16="","",INDEX(구분표!$I$2:$I$311, MATCH(1,(구분표!$E$2:$E$311='2추일입'!B16)*(구분표!$F$2:$F$311='2추일입'!C16)*(구분표!$G$2:$G$311='2추일입'!A16),0)))} | AM16: =IF(AG16="",0,SUMIFS('2추일출'!$Z$6:$Z$238,'2추일출'!$AI$6:$AI$238,'2추일입'!$AG16)) -> 0 | AN16: =IF(AG16="","",COUNTIFS('2추일출'!$AI$6:$AI$238,'2추일입'!AG16)) | AO16: =IF(X16=AM16,"OK","@@") -> OK | AQ16: =IF(AG16="",0,SUMIFS('2추일출'!$AE$6:$AE$238,'2추일출'!$AI$6:$AI$238,'2추일입'!$AG16)) -> 0 | AR16: =IF(AG16="","",COUNTIFS('2추일출'!$AI$6:$AI$238,AG16)) | AS16: =IF(AC16=AQ16,"OK","@@") -> OK
B17: =IF(C17="","",VLOOKUP(C17,구분표!$A$3:$C$214,3,)) | J17: =IF(D17="","",H17-I17) | M17: =H17+K17+L17 -> 0 | P17: =H17+N17+O17 -> 0 | Q17: =IF(AND((M17=0),(P17>0)),"O",IF(AND((K17<0),(M17-P17<0)),"O","X")) -> X | X17: =IF($W17<>"도비",IF($U17="국도비","직접입력",SUM($K17:$L17)),) -> 0 | Y17: =IF($W17="도비",SUM($K17:$L17),IF($U17="국도비","직접입력",SUM($K17:$L17)-$X17)) -> 0 | Z17: =IF(SUM($K17:$L17)=SUM($X17:$Y17),"OK","검토") -> OK | AC17: =IF($W17<>"도비",IF($U17="국도비","직접입력",SUM($N17:$O17)),) -> 0 | AD17: =IF($W17="도비",SUM(N17:O17),IF($U17="국도비","직접입력",SUM(N17:O17)-AC17)) -> 0 | AE17: =IF(SUM(N17:O17)=SUM(AC17:AD17),"OK","검토") -> OK | AG17: =IF(AI17="","",IF(W17="도비","세입없음",CONCATENATE(AI17,"-",COUNTIF($AI$7:AI17,AI17)))) | AI17: {=IF(C17="","",INDEX(구분표!$I$2:$I$311, MATCH(1,(구분표!$E$2:$E$311='2추일입'!B17)*(구분표!$F$2:$F$311='2추일입'!C17)*(구분표!$G$2:$G$311='2추일입'!A17),0)))} | AM17: =IF(AG17="",0,SUMIFS('2추일출'!$Z$6:$Z$238,'2추일출'!$AI$6:$AI$238,'2추일입'!$AG17)) -> 0 | AN17: =IF(AG17="","",COUNTIFS('2추일출'!$AI$6:$AI$238,'2추일입'!AG17)) | AO17: =IF(X17=AM17,"OK","@@") -> OK | AQ17: =IF(AG17="",0,SUMIFS('2추일출'!$AE$6:$AE$238,'2추일출'!$AI$6:$AI$238,'2추일입'!$AG17)) -> 0 | AR17: =IF(AG17="","",COUNTIFS('2추일출'!$AI$6:$AI$238,AG17)) | AS17: =IF(AC17=AQ17,"OK","@@") -> OK
B18: =IF(C18="","",VLOOKUP(C18,구분표!$A$3:$C$214,3,)) | J18: =IF(D18="","",H18-I18) | M18: =H18+K18+L18 -> 0 | P18: =H18+N18+O18 -> 0 | Q18: =IF(AND((M18=0),(P18>0)),"O",IF(AND((K18<0),(M18-P18<0)),"O","X")) -> X | X18: =IF($W18<>"도비",IF($U18="국도비","직접입력",SUM($K18:$L18)),) -> 0 | Y18: =IF($W18="도비",SUM($K18:$L18),IF($U18="국도비","직접입력",SUM($K18:$L18)-$X18)) -> 0 | Z18: =IF(SUM($K18:$L18)=SUM($X18:$Y18),"OK","검토") -> OK | AC18: =IF($W18<>"도비",IF($U18="국도비","직접입력",SUM($N18:$O18)),) -> 0 | AD18: =IF($W18="도비",SUM(N18:O18),IF($U18="국도비","직접입력",SUM(N18:O18)-AC18)) -> 0 | AE18: =IF(SUM(N18:O18)=SUM(AC18:AD18),"OK","검토") -> OK | AG18: =IF(AI18="","",IF(W18="도비","세입없음",CONCATENATE(AI18,"-",COUNTIF($AI$7:AI18,AI18)))) | AI18: {=IF(C18="","",INDEX(구분표!$I$2:$I$311, MATCH(1,(구분표!$E$2:$E$311='2추일입'!B18)*(구분표!$F$2:$F$311='2추일입'!C18)*(구분표!$G$2:$G$311='2추일입'!A18),0)))} | AM18: =IF(AG18="",0,SUMIFS('2추일출'!$Z$6:$Z$238,'2추일출'!$AI$6:$AI$238,'2추일입'!$AG18)) -> 0 | AN18: =IF(AG18="","",COUNTIFS('2추일출'!$AI$6:$AI$238,'2추일입'!AG18)) | AO18: =IF(X18=AM18,"OK","@@") -> OK | AQ18: =IF(AG18="",0,SUMIFS('2추일출'!$AE$6:$AE$238,'2추일출'!$AI$6:$AI$238,'2추일입'!$AG18)) -> 0 | AR18: =IF(AG18="","",COUNTIFS('2추일출'!$AI$6:$AI$238,AG18)) | AS18: =IF(AC18=AQ18,"OK","@@") -> OK
B19: =IF(C19="","",VLOOKUP(C19,구분표!$A$3:$C$214,3,)) | J19: =IF(D19="","",H19-I19) | M19: =H19+K19+L19 -> 0 | P19: =H19+N19+O19 -> 0 | Q19: =IF(AND((M19=0),(P19>0)),"O",IF(AND((K19<0),(M19-P19<0)),"O","X")) -> X | X19: =IF($W19<>"도비",IF($U19="국도비","직접입력",SUM($K19:$L19)),) -> 0 | Y19: =IF($W19="도비",SUM($K19:$L19),IF($U19="국도비","직접입력",SUM($K19:$L19)-$X19)) -> 0 | Z19: =IF(SUM($K19:$L19)=SUM($X19:$Y19),"OK","검토") -> OK | AC19: =IF($W19<>"도비",IF($U19="국도비","직접입력",SUM($N19:$O19)),) -> 0 | AD19: =IF($W19="도비",SUM(N19:O19),IF($U19="국도비","직접입력",SUM(N19:O19)-AC19)) -> 0 | AE19: =IF(SUM(N19:O19)=SUM(AC19:AD19),"OK","검토") -> OK | AG19: =IF(AI19="","",IF(W19="도비","세입없음",CONCATENATE(AI19,"-",COUNTIF($AI$7:AI19,AI19)))) | AI19: {=IF(C19="","",INDEX(구분표!$I$2:$I$311, MATCH(1,(구분표!$E$2:$E$311='2추일입'!B19)*(구분표!$F$2:$F$311='2추일입'!C19)*(구분표!$G$2:$G$311='2추일입'!A19),0)))} | AM19: =IF(AG19="",0,SUMIFS('2추일출'!$Z$6:$Z$238,'2추일출'!$AI$6:$AI$238,'2추일입'!$AG19)) -> 0 | AN19: =IF(AG19="","",COUNTIFS('2추일출'!$AI$6:$AI$238,'2추일입'!AG19)) | AO19: =IF(X19=AM19,"OK","@@") -> OK | AQ19: =IF(AG19="",0,SUMIFS('2추일출'!$AE$6:$AE$238,'2추일출'!$AI$6:$AI$238,'2추일입'!$AG19)) -> 0 | AR19: =IF(AG19="","",COUNTIFS('2추일출'!$AI$6:$AI$238,AG19)) | AS19: =IF(AC19=AQ19,"OK","@@") -> OK
J20: =IF(D20="","",H20-I20) | M20: =H20+K20+L20 -> 0 | P20: =H20+N20+O20 -> 0 | Q20: =IF(AND((M20=0),(P20>0)),"O",IF(AND((K20<0),(M20-P20<0)),"O","X")) -> X | X20: =IF($W20<>"도비",IF($U20="국도비","직접입력",SUM($K20:$L20)),) -> 0 | Y20: =IF($W20="도비",SUM($K20:$L20),IF($U20="국도비","직접입력",SUM($K20:$L20)-$X20)) -> 0 | Z20: =IF(SUM($K20:$L20)=SUM($X20:$Y20),"OK","검토") -> OK | AC20: =IF($W20<>"도비",IF($U20="국도비","직접입력",SUM($N20:$O20)),) -> 0 | AD20: =IF($W20="도비",SUM(N20:O20),IF($U20="국도비","직접입력",SUM(N20:O20)-AC20)) -> 0 | AE20: =IF(SUM(N20:O20)=SUM(AC20:AD20),"OK","검토") -> OK | AG20: =IF(AI20="","",IF(W20="도비","세입없음",CONCATENATE(AI20,"-",COUNTIF($AI$7:AI20,AI20)))) | AI20: {=IF(C20="","",INDEX(구분표!$I$2:$I$311, MATCH(1,(구분표!$E$2:$E$311='2추일입'!B20)*(구분표!$F$2:$F$311='2추일입'!C20)*(구분표!$G$2:$G$311='2추일입'!A20),0)))} | AM20: =IF(AG20="",0,SUMIFS('2추일출'!$Z$6:$Z$238,'2추일출'!$AI$6:$AI$238,'2추일입'!$AG20)) -> 0 | AN20: =IF(AG20="","",COUNTIFS('2추일출'!$AI$6:$AI$238,'2추일입'!AG20)) | AO20: =IF(X20=AM20,"OK","@@") -> OK | AQ20: =IF(AG20="",0,SUMIFS('2추일출'!$AE$6:$AE$238,'2추일출'!$AI$6:$AI$238,'2추일입'!$AG20)) -> 0 | AR20: =IF(AG20="","",COUNTIFS('2추일출'!$AI$6:$AI$238,AG20)) | AS20: =IF(AC20=AQ20,"OK","@@") -> OK
J21: =IF(D21="","",H21-I21) | M21: =H21+K21+L21 -> 0 | P21: =H21+N21+O21 -> 0 | Q21: =IF(AND((M21=0),(P21>0)),"O",IF(AND((K21<0),(M21-P21<0)),"O","X")) -> X | X21: =IF($W21<>"도비",IF($U21="국도비","직접입력",SUM($K21:$L21)),) -> 0 | Y21: =IF($W21="도비",SUM($K21:$L21),IF($U21="국도비","직접입력",SUM($K21:$L21)-$X21)) -> 0 | Z21: =IF(SUM($K21:$L21)=SUM($X21:$Y21),"OK","검토") -> OK | AC21: =IF($W21<>"도비",IF($U21="국도비","직접입력",SUM($N21:$O21)),) -> 0 | AD21: =IF($W21="도비",SUM(N21:O21),IF($U21="국도비","직접입력",SUM(N21:O21)-AC21)) -> 0 | AE21: =IF(SUM(N21:O21)=SUM(AC21:AD21),"OK","검토") -> OK | AG21: =IF(AI21="","",IF(W21="도비","세입없음",CONCATENATE(AI21,"-",COUNTIF($AI$7:AI21,AI21)))) | AI21: {=IF(C21="","",INDEX(구분표!$I$2:$I$311, MATCH(1,(구분표!$E$2:$E$311='2추일입'!B21)*(구분표!$F$2:$F$311='2추일입'!C21)*(구분표!$G$2:$G$311='2추일입'!A21),0)))} | AM21: =IF(AG21="",0,SUMIFS('2추일출'!$Z$6:$Z$238,'2추일출'!$AI$6:$AI$238,'2추일입'!$AG21)) -> 0 | AN21: =IF(AG21="","",COUNTIFS('2추일출'!$AI$6:$AI$238,'2추일입'!AG21)) | AO21: =IF(X21=AM21,"OK","@@") -> OK | AQ21: =IF(AG21="",0,SUMIFS('2추일출'!$AE$6:$AE$238,'2추일출'!$AI$6:$AI$238,'2추일입'!$AG21)) -> 0 | AR21: =IF(AG21="","",COUNTIFS('2추일출'!$AI$6:$AI$238,AG21)) | AS21: =IF(AC21=AQ21,"OK","@@") -> OK
J22: =IF(D22="","",H22-I22) | M22: =H22+K22+L22 -> 0 | P22: =H22+N22+O22 -> 0 | Q22: =IF(AND((M22=0),(P22>0)),"O",IF(AND((K22<0),(M22-P22<0)),"O","X")) -> X | X22: =IF($W22<>"도비",IF($U22="국도비","직접입력",SUM($K22:$L22)),) -> 0 | Y22: =IF($W22="도비",SUM($K22:$L22),IF($U22="국도비","직접입력",SUM($K22:$L22)-$X22)) -> 0 | Z22: =IF(SUM($K22:$L22)=SUM($X22:$Y22),"OK","검토") -> OK | AC22: =IF($W22<>"도비",IF($U22="국도비","직접입력",SUM($N22:$O22)),) -> 0 | AD22: =IF($W22="도비",SUM(N22:O22),IF($U22="국도비","직접입력",SUM(N22:O22)-AC22)) -> 0 | AE22: =IF(SUM(N22:O22)=SUM(AC22:AD22),"OK","검토") -> OK | AG22: =IF(AI22="","",IF(W22="도비","세입없음",CONCATENATE(AI22,"-",COUNTIF($AI$7:AI22,AI22)))) | AI22: {=IF(C22="","",INDEX(구분표!$I$2:$I$311, MATCH(1,(구분표!$E$2:$E$311='2추일입'!B22)*(구분표!$F$2:$F$311='2추일입'!C22)*(구분표!$G$2:$G$311='2추일입'!A22),0)))} | AM22: =IF(AG22="",0,SUMIFS('2추일출'!$Z$6:$Z$238,'2추일출'!$AI$6:$AI$238,'2추일입'!$AG22)) -> 0 | AN22: =IF(AG22="","",COUNTIFS('2추일출'!$AI$6:$AI$238,'2추일입'!AG22)) | AO22: =IF(X22=AM22,"OK","@@") -> OK | AQ22: =IF(AG22="",0,SUMIFS('2추일출'!$AE$6:$AE$238,'2추일출'!$AI$6:$AI$238,'2추일입'!$AG22)) -> 0 | AR22: =IF(AG22="","",COUNTIFS('2추일출'!$AI$6:$AI$238,AG22)) | AS22: =IF(AC22=AQ22,"OK","@@") -> OK
J23: =IF(D23="","",H23-I23) | M23: =H23+K23+L23 -> 0 | P23: =H23+N23+O23 -> 0 | Q23: =IF(AND((M23=0),(P23>0)),"O",IF(AND((K23<0),(M23-P23<0)),"O","X")) -> X | X23: =IF($W23<>"도비",IF($U23="국도비","직접입력",SUM($K23:$L23)),) -> 0 | Y23: =IF($W23="도비",SUM($K23:$L23),IF($U23="국도비","직접입력",SUM($K23:$L23)-$X23)) -> 0 | Z23: =IF(SUM($K23:$L23)=SUM($X23:$Y23),"OK","검토") -> OK | AC23: =IF($W23<>"도비",IF($U23="국도비","직접입력",SUM($N23:$O23)),) -> 0 | AD23: =IF($W23="도비",SUM(N23:O23),IF($U23="국도비","직접입력",SUM(N23:O23)-AC23)) -> 0 | AE23: =IF(SUM(N23:O23)=SUM(AC23:AD23),"OK","검토") -> OK | AG23: =IF(AI23="","",IF(W23="도비","세입없음",CONCATENATE(AI23,"-",COUNTIF($AI$7:AI23,AI23)))) | AI23: {=IF(C23="","",INDEX(구분표!$I$2:$I$311, MATCH(1,(구분표!$E$2:$E$311='2추일입'!B23)*(구분표!$F$2:$F$311='2추일입'!C23)*(구분표!$G$2:$G$311='2추일입'!A23),0)))} | AM23: =IF(AG23="",0,SUMIFS('2추일출'!$Z$6:$Z$238,'2추일출'!$AI$6:$AI$238,'2추일입'!$AG23)) -> 0 | AN23: =IF(AG23="","",COUNTIFS('2추일출'!$AI$6:$AI$238,'2추일입'!AG23)) | AO23: =IF(X23=AM23,"OK","@@") -> OK | AQ23: =IF(AG23="",0,SUMIFS('2추일출'!$AE$6:$AE$238,'2추일출'!$AI$6:$AI$238,'2추일입'!$AG23)) -> 0 | AR23: =IF(AG23="","",COUNTIFS('2추일출'!$AI$6:$AI$238,AG23)) | AS23: =IF(AC23=AQ23,"OK","@@") -> OK
J24: =IF(D24="","",H24-I24) | M24: =H24+K24+L24 -> 0 | P24: =H24+N24+O24 -> 0 | Q24: =IF(AND((M24=0),(P24>0)),"O",IF(AND((K24<0),(M24-P24<0)),"O","X")) -> X | X24: =IF($W24<>"도비",IF($U24="국도비","직접입력",SUM($K24:$L24)),) -> 0 | Y24: =IF($W24="도비",SUM($K24:$L24),IF($U24="국도비","직접입력",SUM($K24:$L24)-$X24)) -> 0 | Z24: =IF(SUM($K24:$L24)=SUM($X24:$Y24),"OK","검토") -> OK | AC24: =IF($W24<>"도비",IF($U24="국도비","직접입력",SUM($N24:$O24)),) -> 0 | AD24: =IF($W24="도비",SUM(N24:O24),IF($U24="국도비","직접입력",SUM(N24:O24)-AC24)) -> 0 | AE24: =IF(SUM(N24:O24)=SUM(AC24:AD24),"OK","검토") -> OK | AG24: =IF(AI24="","",IF(W24="도비","세입없음",CONCATENATE(AI24,"-",COUNTIF($AI$7:AI24,AI24)))) | AI24: {=IF(C24="","",INDEX(구분표!$I$2:$I$311, MATCH(1,(구분표!$E$2:$E$311='2추일입'!B24)*(구분표!$F$2:$F$311='2추일입'!C24)*(구분표!$G$2:$G$311='2추일입'!A24),0)))} | AM24: =IF(AG24="",0,SUMIFS('2추일출'!$Z$6:$Z$238,'2추일출'!$AI$6:$AI$238,'2추일입'!$AG24)) -> 0 | AN24: =IF(AG24="","",COUNTIFS('2추일출'!$AI$6:$AI$238,'2추일입'!AG24)) | AO24: =IF(X24=AM24,"OK","@@") -> OK | AQ24: =IF(AG24="",0,SUMIFS('2추일출'!$AE$6:$AE$238,'2추일출'!$AI$6:$AI$238,'2추일입'!$AG24)) -> 0 | AR24: =IF(AG24="","",COUNTIFS('2추일출'!$AI$6:$AI$238,AG24)) | AS24: =IF(AC24=AQ24,"OK","@@") -> OK
J25: =IF(D25="","",H25-I25) | M25: =H25+K25+L25 -> 0 | P25: =H25+N25+O25 -> 0 | Q25: =IF(AND((M25=0),(P25>0)),"O",IF(AND((K25<0),(M25-P25<0)),"O","X")) -> X | X25: =IF($W25<>"도비",IF($U25="국도비","직접입력",SUM($K25:$L25)),) -> 0 | Y25: =IF($W25="도비",SUM($K25:$L25),IF($U25="국도비","직접입력",SUM($K25:$L25)-$X25)) -> 0 | Z25: =IF(SUM($K25:$L25)=SUM($X25:$Y25),"OK","검토") -> OK | AC25: =IF($W25<>"도비",IF($U25="국도비","직접입력",SUM($N25:$O25)),) -> 0 | AD25: =IF($W25="도비",SUM(N25:O25),IF($U25="국도비","직접입력",SUM(N25:O25)-AC25)) -> 0 | AE25: =IF(SUM(N25:O25)=SUM(AC25:AD25),"OK","검토") -> OK | AG25: =IF(AI25="","",IF(W25="도비","세입없음",CONCATENATE(AI25,"-",COUNTIF($AI$7:AI25,AI25)))) | AI25: {=IF(C25="","",INDEX(구분표!$I$2:$I$311, MATCH(1,(구분표!$E$2:$E$311='2추일입'!B25)*(구분표!$F$2:$F$311='2추일입'!C25)*(구분표!$G$2:$G$311='2추일입'!A25),0)))} | AM25: =IF(AG25="",0,SUMIFS('2추일출'!$Z$6:$Z$238,'2추일출'!$AI$6:$AI$238,'2추일입'!$AG25)) -> 0 | AN25: =IF(AG25="","",COUNTIFS('2추일출'!$AI$6:$AI$238,'2추일입'!AG25)) | AO25: =IF(X25=AM25,"OK","@@") -> OK | AQ25: =IF(AG25="",0,SUMIFS('2추일출'!$AE$6:$AE$238,'2추일출'!$AI$6:$AI$238,'2추일입'!$AG25)) -> 0 | AR25: =IF(AG25="","",COUNTIFS('2추일출'!$AI$6:$AI$238,AG25)) | AS25: =IF(AC25=AQ25,"OK","@@") -> OK
J26: =IF(D26="","",H26-I26) | M26: =H26+K26+L26 -> 0 | P26: =H26+N26+O26 -> 0 | Q26: =IF(AND((M26=0),(P26>0)),"O",IF(AND((K26<0),(M26-P26<0)),"O","X")) -> X | X26: =IF($W26<>"도비",IF($U26="국도비","직접입력",SUM($K26:$L26)),) -> 0 | Y26: =IF($W26="도비",SUM($K26:$L26),IF($U26="국도비","직접입력",SUM($K26:$L26)-$X26)) -> 0 | Z26: =IF(SUM($K26:$L26)=SUM($X26:$Y26),"OK","검토") -> OK | AC26: =IF($W26<>"도비",IF($U26="국도비","직접입력",SUM($N26:$O26)),) -> 0 | AD26: =IF($W26="도비",SUM(N26:O26),IF($U26="국도비","직접입력",SUM(N26:O26)-AC26)) -> 0 | AE26: =IF(SUM(N26:O26)=SUM(AC26:AD26),"OK","검토") -> OK | AG26: =IF(AI26="","",IF(W26="도비","세입없음",CONCATENATE(AI26,"-",COUNTIF($AI$7:AI26,AI26)))) | AI26: {=IF(C26="","",INDEX(구분표!$I$2:$I$311, MATCH(1,(구분표!$E$2:$E$311='2추일입'!B26)*(구분표!$F$2:$F$311='2추일입'!C26)*(구분표!$G$2:$G$311='2추일입'!A26),0)))} | AM26: =IF(AG26="",0,SUMIFS('2추일출'!$Z$6:$Z$238,'2추일출'!$AI$6:$AI$238,'2추일입'!$AG26)) -> 0 | AN26: =IF(AG26="","",COUNTIFS('2추일출'!$AI$6:$AI$238,'2추일입'!AG26)) | AO26: =IF(X26=AM26,"OK","@@") -> OK | AQ26: =IF(AG26="",0,SUMIFS('2추일출'!$AE$6:$AE$238,'2추일출'!$AI$6:$AI$238,'2추일입'!$AG26)) -> 0 | AR26: =IF(AG26="","",COUNTIFS('2추일출'!$AI$6:$AI$238,AG26)) | AS26: =IF(AC26=AQ26,"OK","@@") -> OK
J27: =IF(D27="","",H27-I27) | M27: =H27+K27+L27 -> 0 | P27: =H27+N27+O27 -> 0 | Q27: =IF(AND((M27=0),(P27>0)),"O",IF(AND((K27<0),(M27-P27<0)),"O","X")) -> X | X27: =IF($W27<>"도비",IF($U27="국도비","직접입력",SUM($K27:$L27)),) -> 0 | Y27: =IF($W27="도비",SUM($K27:$L27),IF($U27="국도비","직접입력",SUM($K27:$L27)-$X27)) -> 0 | Z27: =IF(SUM($K27:$L27)=SUM($X27:$Y27),"OK","검토") -> OK | AC27: =IF($W27<>"도비",IF($U27="국도비","직접입력",SUM($N27:$O27)),) -> 0 | AD27: =IF($W27="도비",SUM(N27:O27),IF($U27="국도비","직접입력",SUM(N27:O27)-AC27)) -> 0 | AE27: =IF(SUM(N27:O27)=SUM(AC27:AD27),"OK","검토") -> OK | AG27: =IF(AI27="","",IF(W27="도비","세입없음",CONCATENATE(AI27,"-",COUNTIF($AI$7:AI27,AI27)))) | AI27: {=IF(C27="","",INDEX(구분표!$I$2:$I$311, MATCH(1,(구분표!$E$2:$E$311='2추일입'!B27)*(구분표!$F$2:$F$311='2추일입'!C27)*(구분표!$G$2:$G$311='2추일입'!A27),0)))} | AM27: =IF(AG27="",0,SUMIFS('2추일출'!$Z$6:$Z$238,'2추일출'!$AI$6:$AI$238,'2추일입'!$AG27)) -> 0 | AN27: =IF(AG27="","",COUNTIFS('2추일출'!$AI$6:$AI$238,'2추일입'!AG27)) | AO27: =IF(X27=AM27,"OK","@@") -> OK | AQ27: =IF(AG27="",0,SUMIFS('2추일출'!$AE$6:$AE$238,'2추일출'!$AI$6:$AI$238,'2추일입'!$AG27)) -> 0 | AR27: =IF(AG27="","",COUNTIFS('2추일출'!$AI$6:$AI$238,AG27)) | AS27: =IF(AC27=AQ27,"OK","@@") -> OK
J28: =IF(D28="","",H28-I28) | M28: =H28+K28+L28 -> 0 | P28: =H28+N28+O28 -> 0 | Q28: =IF(AND((M28=0),(P28>0)),"O",IF(AND((K28<0),(M28-P28<0)),"O","X")) -> X | X28: =IF($W28<>"도비",IF($U28="국도비","직접입력",SUM($K28:$L28)),) -> 0 | Y28: =IF($W28="도비",SUM($K28:$L28),IF($U28="국도비","직접입력",SUM($K28:$L28)-$X28)) -> 0 | Z28: =IF(SUM($K28:$L28)=SUM($X28:$Y28),"OK","검토") -> OK | AC28: =IF($W28<>"도비",IF($U28="국도비","직접입력",SUM($N28:$O28)),) -> 0 | AD28: =IF($W28="도비",SUM(N28:O28),IF($U28="국도비","직접입력",SUM(N28:O28)-AC28)) -> 0 | AE28: =IF(SUM(N28:O28)=SUM(AC28:AD28),"OK","검토") -> OK | AG28: =IF(AI28="","",IF(W28="도비","세입없음",CONCATENATE(AI28,"-",COUNTIF($AI$7:AI28,AI28)))) | AI28: {=IF(C28="","",INDEX(구분표!$I$2:$I$311, MATCH(1,(구분표!$E$2:$E$311='2추일입'!B28)*(구분표!$F$2:$F$311='2추일입'!C28)*(구분표!$G$2:$G$311='2추일입'!A28),0)))} | AM28: =IF(AG28="",0,SUMIFS('2추일출'!$Z$6:$Z$238,'2추일출'!$AI$6:$AI$238,'2추일입'!$AG28)) -> 0 | AN28: =IF(AG28="","",COUNTIFS('2추일출'!$AI$6:$AI$238,'2추일입'!AG28)) | AO28: =IF(X28=AM28,"OK","@@") -> OK | AQ28: =IF(AG28="",0,SUMIFS('2추일출'!$AE$6:$AE$238,'2추일출'!$AI$6:$AI$238,'2추일입'!$AG28)) -> 0 | AR28: =IF(AG28="","",COUNTIFS('2추일출'!$AI$6:$AI$238,AG28)) | AS28: =IF(AC28=AQ28,"OK","@@") -> OK
J29: =IF(D29="","",H29-I29) | M29: =H29+K29+L29 -> 0 | P29: =H29+N29+O29 -> 0 | Q29: =IF(AND((M29=0),(P29>0)),"O",IF(AND((K29<0),(M29-P29<0)),"O","X")) -> X | X29: =IF($W29<>"도비",IF($U29="국도비","직접입력",SUM($K29:$L29)),) -> 0 | Y29: =IF($W29="도비",SUM($K29:$L29),IF($U29="국도비","직접입력",SUM($K29:$L29)-$X29)) -> 0 | Z29: =IF(SUM($K29:$L29)=SUM($X29:$Y29),"OK","검토") -> OK | AC29: =IF($W29<>"도비",IF($U29="국도비","직접입력",SUM($N29:$O29)),) -> 0 | AD29: =IF($W29="도비",SUM(N29:O29),IF($U29="국도비","직접입력",SUM(N29:O29)-AC29)) -> 0 | AE29: =IF(SUM(N29:O29)=SUM(AC29:AD29),"OK","검토") -> OK | AG29: =IF(AI29="","",IF(W29="도비","세입없음",CONCATENATE(AI29,"-",COUNTIF($AI$7:AI29,AI29)))) | AI29: {=IF(C29="","",INDEX(구분표!$I$2:$I$311, MATCH(1,(구분표!$E$2:$E$311='2추일입'!B29)*(구분표!$F$2:$F$311='2추일입'!C29)*(구분표!$G$2:$G$311='2추일입'!A29),0)))} | AM29: =IF(AG29="",0,SUMIFS('2추일출'!$Z$6:$Z$238,'2추일출'!$AI$6:$AI$238,'2추일입'!$AG29)) -> 0 | AN29: =IF(AG29="","",COUNTIFS('2추일출'!$AI$6:$AI$238,'2추일입'!AG29)) | AO29: =IF(X29=AM29,"OK","@@") -> OK | AQ29: =IF(AG29="",0,SUMIFS('2추일출'!$AE$6:$AE$238,'2추일출'!$AI$6:$AI$238,'2추일입'!$AG29)) -> 0 | AR29: =IF(AG29="","",COUNTIFS('2추일출'!$AI$6:$AI$238,AG29)) | AS29: =IF(AC29=AQ29,"OK","@@") -> OK
J30: =IF(D30="","",H30-I30) | M30: =H30+K30+L30 -> 0 | P30: =H30+N30+O30 -> 0 | Q30: =IF(AND((M30=0),(P30>0)),"O",IF(AND((K30<0),(M30-P30<0)),"O","X")) -> X | X30: =IF($W30<>"도비",IF($U30="국도비","직접입력",SUM($K30:$L30)),) -> 0 | Y30: =IF($W30="도비",SUM($K30:$L30),IF($U30="국도비","직접입력",SUM($K30:$L30)-$X30)) -> 0 | Z30: =IF(SUM($K30:$L30)=SUM($X30:$Y30),"OK","검토") -> OK | AC30: =IF($W30<>"도비",IF($U30="국도비","직접입력",SUM($N30:$O30)),) -> 0 | AD30: =IF($W30="도비",SUM(N30:O30),IF($U30="국도비","직접입력",SUM(N30:O30)-AC30)) -> 0 | AE30: =IF(SUM(N30:O30)=SUM(AC30:AD30),"OK","검토") -> OK | AG30: =IF(AI30="","",IF(W30="도비","세입없음",CONCATENATE(AI30,"-",COUNTIF($AI$7:AI30,AI30)))) | AI30: {=IF(C30="","",INDEX(구분표!$I$2:$I$311, MATCH(1,(구분표!$E$2:$E$311='2추일입'!B30)*(구분표!$F$2:$F$311='2추일입'!C30)*(구분표!$G$2:$G$311='2추일입'!A30),0)))} | AM30: =IF(AG30="",0,SUMIFS('2추일출'!$Z$6:$Z$238,'2추일출'!$AI$6:$AI$238,'2추일입'!$AG30)) -> 0 | AN30: =IF(AG30="","",COUNTIFS('2추일출'!$AI$6:$AI$238,'2추일입'!AG30)) | AO30: =IF(X30=AM30,"OK","@@") -> OK | AQ30: =IF(AG30="",0,SUMIFS('2추일출'!$AE$6:$AE$238,'2추일출'!$AI$6:$AI$238,'2추일입'!$AG30)) -> 0 | AR30: =IF(AG30="","",COUNTIFS('2추일출'!$AI$6:$AI$238,AG30)) | AS30: =IF(AC30=AQ30,"OK","@@") -> OK
J31: =IF(D31="","",H31-I31) | M31: =H31+K31+L31 -> 0 | P31: =H31+N31+O31 -> 0 | Q31: =IF(AND((M31=0),(P31>0)),"O",IF(AND((K31<0),(M31-P31<0)),"O","X")) -> X | X31: =IF($W31<>"도비",IF($U31="국도비","직접입력",SUM($K31:$L31)),) -> 0 | Y31: =IF($W31="도비",SUM($K31:$L31),IF($U31="국도비","직접입력",SUM($K31:$L31)-$X31)) -> 0 | Z31: =IF(SUM($K31:$L31)=SUM($X31:$Y31),"OK","검토") -> OK | AC31: =IF($W31<>"도비",IF($U31="국도비","직접입력",SUM($N31:$O31)),) -> 0 | AD31: =IF($W31="도비",SUM(N31:O31),IF($U31="국도비","직접입력",SUM(N31:O31)-AC31)) -> 0 | AE31: =IF(SUM(N31:O31)=SUM(AC31:AD31),"OK","검토") -> OK | AG31: =IF(AI31="","",IF(W31="도비","세입없음",CONCATENATE(AI31,"-",COUNTIF($AI$7:AI31,AI31)))) | AI31: {=IF(C31="","",INDEX(구분표!$I$2:$I$311, MATCH(1,(구분표!$E$2:$E$311='2추일입'!B31)*(구분표!$F$2:$F$311='2추일입'!C31)*(구분표!$G$2:$G$311='2추일입'!A31),0)))} | AM31: =IF(AG31="",0,SUMIFS('2추일출'!$Z$6:$Z$238,'2추일출'!$AI$6:$AI$238,'2추일입'!$AG31)) -> 0 | AN31: =IF(AG31="","",COUNTIFS('2추일출'!$AI$6:$AI$238,'2추일입'!AG31)) | AO31: =IF(X31=AM31,"OK","@@") -> OK | AQ31: =IF(AG31="",0,SUMIFS('2추일출'!$AE$6:$AE$238,'2추일출'!$AI$6:$AI$238,'2추일입'!$AG31)) -> 0 | AR31: =IF(AG31="","",COUNTIFS('2추일출'!$AI$6:$AI$238,AG31)) | AS31: =IF(AC31=AQ31,"OK","@@") -> OK
... J72: =IF(D72="","",H72-I72) | M72: =H72+K72+L72 -> 0 | P72: =H72+N72+O72 -> 0 | Q72: =IF(AND((M72=0),(P72>0)),"O",IF(AND((K72<0),(M72-P72<0)),"O","X")) -> X | X72: =IF($W72<>"도비",IF($U72="국도비","직접입력",SUM($K72:$L72)),) -> 0 | Y72: =IF($W72="도비",SUM($K72:$L72),IF($U72="국도비","직접입력",SUM($K72:$L72)-$X72)) -> 0 | Z72: =IF(SUM($K72:$L72)=SUM($X72:$Y72),"OK","검토") -> OK | AC72: =IF($W72<>"도비",IF($U72="국도비","직접입력",SUM($N72:$O72)),) -> 0 | AD72: =IF($W72="도비",SUM(N72:O72),IF($U72="국도비","직접입력",SUM(N72:O72)-AC72)) -> 0 | AE72: =IF(SUM(N72:O72)=SUM(AC72:AD72),"OK","검토") -> OK | AG72: =IF(AI72="","",IF(W72="도비","세입없음",CONCATENATE(AI72,"-",COUNTIF($AI$7:AI72,AI72)))) | AI72: {=IF(C72="","",INDEX(구분표!$I$2:$I$311, MATCH(1,(구분표!$E$2:$E$311='2추일입'!B72)*(구분표!$F$2:$F$311='2추일입'!C72)*(구분표!$G$2:$G$311='2추일입'!A72),0)))} | AM72: =IF(AG72="",0,SUMIFS('2추일출'!$Z$6:$Z$238,'2추일출'!$AI$6:$AI$238,'2추일입'!$AG72)) -> 0 | AN72: =IF(AG72="","",COUNTIFS('2추일출'!$AI$6:$AI$238,'2추일입'!AG72)) | AO72: =IF(X72=AM72,"OK","@@") -> OK | AQ72: =IF(AG72="",0,SUMIFS('2추일출'!$AE$6:$AE$238,'2추일출'!$AI$6:$AI$238,'2추일입'!$AG72)) -> 0 | AR72: =IF(AG72="","",COUNTIFS('2추일출'!$AI$6:$AI$238,AG72)) | AS72: =IF(AC72=AQ72,"OK","@@") -> OK

Sheet 2추일출
B1: 2017년도 제2회 추가경정 경기도 일반회계 세출 예산 조정(안)
B2: □ 세출예산 | Q2: =R2-'2추일입'!P2 -> 0 | R2: =R6-L6 -> 0 | Z2: 세입=세출 | AE2: 세입=세출
L3: =SUM(L7:L370)/2 -> 334500 | M3: =SUM(M7:M370)/2 -> -334500 | N3: =SUM(N7:N370)/2 -> 100000 | O3: =SUM(O7:O370)/2 -> 100000 | P3: =SUM(P7:P370)/2 -> 0 | Q3: =SUM(Q7:Q370)/2 -> 0 | R3: =SUM(R7:R370)/2 -> 334500 | V3: (단위 : 천원) | Z3: =IF(Z6='2추일입'!X6,"OK","@@") -> OK | AA3: =M6+N6-Z6-AA6 -> 0 | AB3: =IF(COUNTIF(AB6:AB238,"검토")>0,"@@","OK") -> OK | AE3: =IF(AE6='2추일입'!AC6,"OK","@@") -> OK | AF3: =P6+Q6-AE6-AF6 -> 0 | AG3: =IF(COUNTIF(AG6:AG238,"검토")>0,"@@","OK") -> OK
A4: 번호 | B4: 위원회명 | C4: 실국명 | D4: 부서명 | E4: 편성 구분 | F4: 연정 구분 | G4: 예산안 페이지 | H4: 사업설명서페이지 | I4: 세부사업명 및 부기명 | J4: 제2회 추경 예산안 (가) | K4: 기정액 (나) | L4: 제2회 추경 증감액 (다=가-나) | M4: 상임위 예산안 조정액(라) | O4: 상임위 조정 예산안 (마=가+라) | P4: 예결위 예산안 조정액(사) | R4: 예결위 조정 예산안 (아=가+사) | S4: 동의 대상 | T4: 상임위 변경사유 (심의 참고자료) | U4: 비고 (상임위 부대의견) | V4: 비고 (예결위 부대의견) | W4: 국도비 등 여부 | Y4: 재원 | Z4: 상임위 재원별 증감액 | AD4: 재원 | AE4: 예결위 재원별 증감액 | AI4: 세입번호 | AK4: 동일 세입 건수 | AL4: 세출 번호 검증 | AN4: 실국부서 코드 | AP4: 추가 내시 등
M5: 감액 | N5: 증액 | P5: 감액 | Q5: 증액 | Z5: 국비 등 | AA5: 도비 | AB5: 검증 | AE5: 국비 등 | AF5: 도비 | AG5: 검증
B6: 합 계 | J6: =SUBTOTAL(9,J7:J238) -> 334500 | K6: =SUBTOTAL(9,K7:K238) -> 0 | L6: =SUBTOTAL(9,L7:L238) -> 334500 | M6: =SUBTOTAL(9,M7:M238) -> -334500 | N6: =SUBTOTAL(9,N7:N238) -> 100000 | O6: =SUBTOTAL(9,O7:O238) -> 100000 | P6: =SUBTOTAL(9,P7:P238) -> 0 | Q6: =SUBTOTAL(9,Q7:Q238) -> 0 | R6: =SUBTOTAL(9,R7:R238) -> 334500 | Z6: =SUBTOTAL(9,Z7:Z238) -> 0 | AA6: =SUBTOTAL(9,AA7:AA238) -> -234500 | AB6: =IF(SUM($M6:$N6)=SUM($Z6:$AA6),"OK","검토") -> OK | AE6: =SUBTOTAL(9,AE7:AE238) -> 0 | AF6: =SUBTOTAL(9,AF7:AF238) -> 0 | AG6: =IF(SUM(P6:Q6)=SUM(AE6:AF6),"OK","검토") -> OK
B7: (의회운영위원회) | J7: =SUBTOTAL(9,J8:J21) -> 0 | K7: =SUBTOTAL(9,K8:K21) -> 0 | L7: =SUBTOTAL(9,L8:L21) -> 0 | M7: =SUBTOTAL(9,M8:M21) -> 0 | N7: =SUBTOTAL(9,N8:N21) -> 0 | O7: =SUBTOTAL(9,O8:O21) -> 0 | P7: =SUBTOTAL(9,P8:P21) -> 0 | Q7: =SUBTOTAL(9,Q8:Q21) -> 0 | R7: =SUBTOTAL(9,R8:R21) -> 0
A8: 1 | B8: =IF(C8="","",MID($B$7,2,7)) | C8: =IF(D8="","",VLOOKUP(D8,구분표!$A$3:$C$215,3,)) | L8: =J8-K8 -> 0 | O8: =J8+M8+N8 -> 0 | R8: =J8+P8+Q8 -> 0 | S8: =IF(AND((O8=0),(R8>0)),"O",IF(AND((M8<0),(O8-R8<0)),"O","X")) -> X | Z8: =IF($Y8<>"도비",IF($W8="국도비","직접입력",SUM($M8:$N8)),) -> 0 | AA8: =IF($Y8="도비",SUM($M8:$N8),IF($W8="국도비","직접입력",SUM($M8:$N8)-$Z8)) -> 0 | AB8: =IF(SUM($M8:$N8)=SUM($Z8:$AA8),"OK","검토") -> OK | AE8: =IF($Y8<>"도비",IF($W8="국도비","직접입력",SUM($P8:$Q8)),) -> 0 | AF8: =IF($Y8="도비",SUM(P8:Q8),IF($W8="국도비","직접입력",SUM(P8:Q8)-AE8)) -> 0 | AG8: =IF(SUM(P8:Q8)=SUM(AE8:AF8),"OK","검토") -> OK | AK8: =IF(AI8="","",COUNTIF($AI$7:$AI$238,AI8)) | AL8: =IF(Y8="","",IF(AND(Y8="도비",AI8="세입없음"),"OK",IF(AND(Y8<>"도비",AI8<>""),"OK","@@"))) | AN8: {=IF(D8="","",INDEX(구분표!$I$2:$I$311, MATCH(1,(구분표!$E$2:$E$311='2추일출'!C8)*(구분표!$F$2:$F$311='2추일출'!D8)*(구분표!$G$2:$G$311='2추일출'!B8),0)))}
A9: =COUNTA($C$8:C9)-COUNTBLANK($C$8:C9) -> 0 | B9: =IF(C9="","",MID($B$7,2,7)) | C9: =IF(D9="","",VLOOKUP(D9,구분표!$A$3:$C$215,3,)) | L9: =J9-K9 -> 0 | O9: =J9+M9+N9 -> 0 | R9: =J9+P9+Q9 -> 0 | S9: =IF(AND((O9=0),(R9>0)),"O",IF(AND((M9<0),(O9-R9<0)),"O","X")) -> X | Z9: =IF($Y9<>"도비",IF($W9="국도비","직접입력",SUM($M9:$N9)),) -> 0 | AA9: =IF($Y9="도비",SUM($M9:$N9),IF($W9="국도비","직접입력",SUM($M9:$N9)-$Z9)) -> 0 | AB9: =IF(SUM($M9:$N9)=SUM($Z9:$AA9),"OK","검토") -> OK | AE9: =IF($Y9<>"도비",IF($W9="국도비","직접입력",SUM($P9:$Q9)),) -> 0 | AF9: =IF($Y9="도비",SUM(P9:Q9),IF($W9="국도비","직접입력",SUM(P9:Q9)-AE9)) -> 0 | AG9: =IF(SUM(P9:Q9)=SUM(AE9:AF9),"OK","검토") -> OK | AK9: =IF(AI9="","",COUNTIF($AI$7:$AI$238,AI9)) | AL9: =IF(Y9="","",IF(AND(Y9="도비",AI9="세입없음"),"OK",IF(AND(Y9<>"도비",AI9<>""),"OK","@@"))) | AN9: {=IF(D9="","",INDEX(구분표!$I$2:$I$311, MATCH(1,(구분표!$E$2:$E$311='2추일출'!C9)*(구분표!$F$2:$F$311='2추일출'!D9)*(구분표!$G$2:$G$311='2추일출'!B9),0)))}
A10: =COUNTA($C$8:C10)-COUNTBLANK($C$8:C10) -> 0 | B10: =IF(C10="","",MID($B$7,2,7)) | C10: =IF(D10="","",VLOOKUP(D10,구분표!$A$3:$C$215,3,)) | L10: =J10-K10 -> 0 | O10: =J10+M10+N10 -> 0 | R10: =J10+P10+Q10 -> 0 | S10: =IF(AND((O10=0),(R10>0)),"O",IF(AND((M10<0),(O10-R10<0)),"O","X")) -> X | Z10: =IF($Y10<>"도비",IF($W10="국도비","직접입력",SUM($M10:$N10)),) -> 0 | AA10: =IF($Y10="도비",SUM($M10:$N10),IF($W10="국도비","직접입력",SUM($M10:$N10)-$Z10)) -> 0 | AB10: =IF(SUM($M10:$N10)=SUM($Z10:$AA10),"OK","검토") -> OK | AE10: =IF($Y10<>"도비",IF($W10="국도비","직접입력",SUM($P10:$Q10)),) -> 0 | AF10: =IF($Y10="도비",SUM(P10:Q10),IF($W10="국도비","직접입력",SUM(P10:Q10)-AE10)) -> 0 | AG10: =IF(SUM(P10:Q10)=SUM(AE10:AF10),"OK","검토") -> OK | AK10: =IF(AI10="","",COUNTIF($AI$7:$AI$238,AI10)) | AL10: =IF(Y10="","",IF(AND(Y10="도비",AI10="세입없음"),"OK",IF(AND(Y10<>"도비",AI10<>""),"OK","@@"))) | AN10: {=IF(D10="","",INDEX(구분표!$I$2:$I$311, MATCH(1,(구분표!$E$2:$E$311='2추일출'!C10)*(구분표!$F$2:$F$311='2추일출'!D10)*(구분표!$G$2:$G$311='2추일출'!B10),0)))}
A11: =COUNTA($C$8:C11)-COUNTBLANK($C$8:C11) -> 0 | B11: =IF(C11="","",MID($B$7,2,7)) | C11: =IF(D11="","",VLOOKUP(D11,구분표!$A$3:$C$215,3,)) | L11: =J11-K11 -> 0 | O11: =J11+M11+N11 -> 0 | R11: =J11+P11+Q11 -> 0 | S11: =IF(AND((O11=0),(R11>0)),"O",IF(AND((M11<0),(O11-R11<0)),"O","X")) -> X | Z11: =IF($Y11<>"도비",IF($W11="국도비","직접입력",SUM($M11:$N11)),) -> 0 | AA11: =IF($Y11="도비",SUM($M11:$N11),IF($W11="국도비","직접입력",SUM($M11:$N11)-$Z11)) -> 0 | AB11: =IF(SUM($M11:$N11)=SUM($Z11:$AA11),"OK","검토") -> OK | AE11: =IF($Y11<>"도비",IF($W11="국도비","직접입력",SUM($P11:$Q11)),) -> 0 | AF11: =IF($Y11="도비",SUM(P11:Q11),IF($W11="국도비","직접입력",SUM(P11:Q11)-AE11)) -> 0 | AG11: =IF(SUM(P11:Q11)=SUM(AE11:AF11),"OK","검토") -> OK | AK11: =IF(AI11="","",COUNTIF($AI$7:$AI$238,AI11)) | AL11: =IF(Y11="","",IF(AND(Y11="도비",AI11="세입없음"),"OK",IF(AND(Y11<>"도비",AI11<>""),"OK","@@"))) | AN11: {=IF(D11="","",INDEX(구분표!$I$2:$I$311, MATCH(1,(구분표!$E$2:$E$311='2추일출'!C11)*(구분표!$F$2:$F$311='2추일출'!D11)*(구분표!$G$2:$G$311='2추일출'!B11),0)))}
A12: =COUNTA($C$8:C12)-COUNTBLANK($C$8:C12) -> 0 | B12: =IF(C12="","",MID($B$7,2,7)) | C12: =IF(D12="","",VLOOKUP(D12,구분표!$A$3:$C$215,3,)) | L12: =J12-K12 -> 0 | O12: =J12+M12+N12 -> 0 | R12: =J12+P12+Q12 -> 0 | S12: =IF(AND((O12=0),(R12>0)),"O",IF(AND((M12<0),(O12-R12<0)),"O","X")) -> X | Z12: =IF($Y12<>"도비",IF($W12="국도비","직접입력",SUM($M12:$N12)),) -> 0 | AA12: =IF($Y12="도비",SUM($M12:$N12),IF($W12="국도비","직접입력",SUM($M12:$N12)-$Z12)) -> 0 | AB12: =IF(SUM($M12:$N12)=SUM($Z12:$AA12),"OK","검토") -> OK | AE12: =IF($Y12<>"도비",IF($W12="국도비","직접입력",SUM($P12:$Q12)),) -> 0 | AF12: =IF($Y12="도비",SUM(P12:Q12),IF($W12="국도비","직접입력",SUM(P12:Q12)-AE12)) -> 0 | AG12: =IF(SUM(P12:Q12)=SUM(AE12:AF12),"OK","검토") -> OK | AK12: =IF(AI12="","",COUNTIF($AI$7:$AI$238,AI12)) | AL12: =IF(Y12="","",IF(AND(Y12="도비",AI12="세입없음"),"OK",IF(AND(Y12<>"도비",AI12<>""),"OK","@@"))) | AN12: {=IF(D12="","",INDEX(구분표!$I$2:$I$311, MATCH(1,(구분표!$E$2:$E$311='2추일출'!C12)*(구분표!$F$2:$F$311='2추일출'!D12)*(구분표!$G$2:$G$311='2추일출'!B12),0)))}
A13: =COUNTA($C$8:C13)-COUNTBLANK($C$8:C13) -> 0 | B13: =IF(C13="","",MID($B$7,2,7)) | C13: =IF(D13="","",VLOOKUP(D13,구분표!$A$3:$C$215,3,)) | L13: =J13-K13 -> 0 | O13: =J13+M13+N13 -> 0 | R13: =J13+P13+Q13 -> 0 | S13: =IF(AND((O13=0),(R13>0)),"O",IF(AND((M13<0),(O13-R13<0)),"O","X")) -> X | Z13: =IF($Y13<>"도비",IF($W13="국도비","직접입력",SUM($M13:$N13)),) -> 0 | AA13: =IF($Y13="도비",SUM($M13:$N13),IF($W13="국도비","직접입력",SUM($M13:$N13)-$Z13)) -> 0 | AB13: =IF(SUM($M13:$N13)=SUM($Z13:$AA13),"OK","검토") -> OK | AE13: =IF($Y13<>"도비",IF($W13="국도비","직접입력",SUM($P13:$Q13)),) -> 0 | AF13: =IF($Y13="도비",SUM(P13:Q13),IF($W13="국도비","직접입력",SUM(P13:Q13)-AE13)) -> 0 | AG13: =IF(SUM(P13:Q13)=SUM(AE13:AF13),"OK","검토") -> OK | AK13: =IF(AI13="","",COUNTIF($AI$7:$AI$238,AI13)) | AL13: =IF(Y13="","",IF(AND(Y13="도비",AI13="세입없음"),"OK",IF(AND(Y13<>"도비",AI13<>""),"OK","@@"))) | AN13: {=IF(D13="","",INDEX(구분표!$I$2:$I$311, MATCH(1,(구분표!$E$2:$E$311='2추일출'!C13)*(구분표!$F$2:$F$311='2추일출'!D13)*(구분표!$G$2:$G$311='2추일출'!B13),0)))}
A14: =COUNTA($C$8:C14)-COUNTBLANK($C$8:C14) -> 0 | B14: =IF(C14="","",MID($B$7,2,7)) | C14: =IF(D14="","",VLOOKUP(D14,구분표!$A$3:$C$215,3,)) | L14: =J14-K14 -> 0 | O14: =J14+M14+N14 -> 0 | R14: =J14+P14+Q14 -> 0 | S14: =IF(AND((O14=0),(R14>0)),"O",IF(AND((M14<0),(O14-R14<0)),"O","X")) -> X | Z14: =IF($Y14<>"도비",IF($W14="국도비","직접입력",SUM($M14:$N14)),) -> 0 | AA14: =IF($Y14="도비",SUM($M14:$N14),IF($W14="국도비","직접입력",SUM($M14:$N14)-$Z14)) -> 0 | AB14: =IF(SUM($M14:$N14)=SUM($Z14:$AA14),"OK","검토") -> OK | AE14: =IF($Y14<>"도비",IF($W14="국도비","직접입력",SUM($P14:$Q14)),) -> 0 | AF14: =IF($Y14="도비",SUM(P14:Q14),IF($W14="국도비","직접입력",SUM(P14:Q14)-AE14)) -> 0 | AG14: =IF(SUM(P14:Q14)=SUM(AE14:AF14),"OK","검토") -> OK | AK14: =IF(AI14="","",COUNTIF($AI$7:$AI$238,AI14)) | AL14: =IF(Y14="","",IF(AND(Y14="도비",AI14="세입없음"),"OK",IF(AND(Y14<>"도비",AI14<>""),"OK","@@"))) | AN14: {=IF(D14="","",INDEX(구분표!$I$2:$I$311, MATCH(1,(구분표!$E$2:$E$311='2추일출'!C14)*(구분표!$F$2:$F$311='2추일출'!D14)*(구분표!$G$2:$G$311='2추일출'!B14),0)))}
A15: =COUNTA($C$8:C15)-COUNTBLANK($C$8:C15) -> 0 | B15: =IF(C15="","",MID($B$7,2,7)) | C15: =IF(D15="","",VLOOKUP(D15,구분표!$A$3:$C$215,3,)) | L15: =J15-K15 -> 0 | O15: =J15+M15+N15 -> 0 | R15: =J15+P15+Q15 -> 0 | S15: =IF(AND((O15=0),(R15>0)),"O",IF(AND((M15<0),(O15-R15<0)),"O","X")) -> X | Z15: =IF($Y15<>"도비",IF($W15="국도비","직접입력",SUM($M15:$N15)),) -> 0 | AA15: =IF($Y15="도비",SUM($M15:$N15),IF($W15="국도비","직접입력",SUM($M15:$N15)-$Z15)) -> 0 | AB15: =IF(SUM($M15:$N15)=SUM($Z15:$AA15),"OK","검토") -> OK | AE15: =IF($Y15<>"도비",IF($W15="국도비","직접입력",SUM($P15:$Q15)),) -> 0 | AF15: =IF($Y15="도비",SUM(P15:Q15),IF($W15="국도비","직접입력",SUM(P15:Q15)-AE15)) -> 0 | AG15: =IF(SUM(P15:Q15)=SUM(AE15:AF15),"OK","검토") -> OK | AK15: =IF(AI15="","",COUNTIF($AI$7:$AI$238,AI15)) | AL15: =IF(Y15="","",IF(AND(Y15="도비",AI15="세입없음"),"OK",IF(AND(Y15<>"도비",AI15<>""),"OK","@@"))) | AN15: {=IF(D15="","",INDEX(구분표!$I$2:$I$311, MATCH(1,(구분표!$E$2:$E$311='2추일출'!C15)*(구분표!$F$2:$F$311='2추일출'!D15)*(구분표!$G$2:$G$311='2추일출'!B15),0)))}
A16: =COUNTA($C$8:C16)-COUNTBLANK($C$8:C16) -> 0 | B16: =IF(C16="","",MID($B$7,2,7)) | C16: =IF(D16="","",VLOOKUP(D16,구분표!$A$3:$C$215,3,)) | L16: =J16-K16 -> 0 | O16: =J16+M16+N16 -> 0 | R16: =J16+P16+Q16 -> 0 | S16: =IF(AND((O16=0),(R16>0)),"O",IF(AND((M16<0),(O16-R16<0)),"O","X")) -> X | Z16: =IF($Y16<>"도비",IF($W16="국도비","직접입력",SUM($M16:$N16)),) -> 0 | AA16: =IF($Y16="도비",SUM($M16:$N16),IF($W16="국도비","직접입력",SUM($M16:$N16)-$Z16)) -> 0 | AB16: =IF(SUM($M16:$N16)=SUM($Z16:$AA16),"OK","검토") -> OK | AE16: =IF($Y16<>"도비",IF($W16="국도비","직접입력",SUM($P16:$Q16)),) -> 0 | AF16: =IF($Y16="도비",SUM(P16:Q16),IF($W16="국도비","직접입력",SUM(P16:Q16)-AE16)) -> 0 | AG16: =IF(SUM(P16:Q16)=SUM(AE16:AF16),"OK","검토") -> OK | AK16: =IF(AI16="","",COUNTIF($AI$7:$AI$238,AI16)) | AL16: =IF(Y16="","",IF(AND(Y16="도비",AI16="세입없음"),"OK",IF(AND(Y16<>"도비",AI16<>""),"OK","@@"))) | AN16: {=IF(D16="","",INDEX(구분표!$I$2:$I$311, MATCH(1,(구분표!$E$2:$E$311='2추일출'!C16)*(구분표!$F$2:$F$311='2추일출'!D16)*(구분표!$G$2:$G$311='2추일출'!B16),0)))}
A17: =COUNTA($C$8:C17)-COUNTBLANK($C$8:C17) -> 0 | B17: =IF(C17="","",MID($B$7,2,7)) | C17: =IF(D17="","",VLOOKUP(D17,구분표!$A$3:$C$215,3,)) | L17: =J17-K17 -> 0 | O17: =J17+M17+N17 -> 0 | R17: =J17+P17+Q17 -> 0 | S17: =IF(AND((O17=0),(R17>0)),"O",IF(AND((M17<0),(O17-R17<0)),"O","X")) -> X | Z17: =IF($Y17<>"도비",IF($W17="국도비","직접입력",SUM($M17:$N17)),) -> 0 | AA17: =IF($Y17="도비",SUM($M17:$N17),IF($W17="국도비","직접입력",SUM($M17:$N17)-$Z17)) -> 0 | AB17: =IF(SUM($M17:$N17)=SUM($Z17:$AA17),"OK","검토") -> OK | AE17: =IF($Y17<>"도비",IF($W17="국도비","직접입력",SUM($P17:$Q17)),) -> 0 | AF17: =IF($Y17="도비",SUM(P17:Q17),IF($W17="국도비","직접입력",SUM(P17:Q17)-AE17)) -> 0 | AG17: =IF(SUM(P17:Q17)=SUM(AE17:AF17),"OK","검토") -> OK | AK17: =IF(AI17="","",COUNTIF($AI$7:$AI$238,AI17)) | AL17: =IF(Y17="","",IF(AND(Y17="도비",AI17="세입없음"),"OK",IF(AND(Y17<>"도비",AI17<>""),"OK","@@"))) | AN17: {=IF(D17="","",INDEX(구분표!$I$2:$I$311, MATCH(1,(구분표!$E$2:$E$311='2추일출'!C17)*(구분표!$F$2:$F$311='2추일출'!D17)*(구분표!$G$2:$G$311='2추일출'!B17),0)))}
A18: =COUNTA($C$8:C18)-COUNTBLANK($C$8:C18) -> 0 | B18: =IF(C18="","",MID($B$7,2,7)) | C18: =IF(D18="","",VLOOKUP(D18,구분표!$A$3:$C$215,3,)) | L18: =J18-K18 -> 0 | O18: =J18+M18+N18 -> 0 | R18: =J18+P18+Q18 -> 0 | S18: =IF(AND((O18=0),(R18>0)),"O",IF(AND((M18<0),(O18-R18<0)),"O","X")) -> X | Z18: =IF($Y18<>"도비",IF($W18="국도비","직접입력",SUM($M18:$N18)),) -> 0 | AA18: =IF($Y18="도비",SUM($M18:$N18),IF($W18="국도비","직접입력",SUM($M18:$N18)-$Z18)) -> 0 | AB18: =IF(SUM($M18:$N18)=SUM($Z18:$AA18),"OK","검토") -> OK | AE18: =IF($Y18<>"도비",IF($W18="국도비","직접입력",SUM($P18:$Q18)),) -> 0 | AF18: =IF($Y18="도비",SUM(P18:Q18),IF($W18="국도비","직접입력",SUM(P18:Q18)-AE18)) -> 0 | AG18: =IF(SUM(P18:Q18)=SUM(AE18:AF18),"OK","검토") -> OK | AK18: =IF(AI18="","",COUNTIF($AI$7:$AI$238,AI18)) | AL18: =IF(Y18="","",IF(AND(Y18="도비",AI18="세입없음"),"OK",IF(AND(Y18<>"도비",AI18<>""),"OK","@@"))) | AN18: {=IF(D18="","",INDEX(구분표!$I$2:$I$311, MATCH(1,(구분표!$E$2:$E$311='2추일출'!C18)*(구분표!$F$2:$F$311='2추일출'!D18)*(구분표!$G$2:$G$311='2추일출'!B18),0)))}
A19: =COUNTA($C$8:C19)-COUNTBLANK($C$8:C19) -> 0 | B19: =IF(C19="","",MID($B$7,2,7)) | C19: =IF(D19="","",VLOOKUP(D19,구분표!$A$3:$C$215,3,)) | L19: =J19-K19 -> 0 | O19: =J19+M19+N19 -> 0 | R19: =J19+P19+Q19 -> 0 | S19: =IF(AND((O19=0),(R19>0)),"O",IF(AND((M19<0),(O19-R19<0)),"O","X")) -> X | Z19: =IF($Y19<>"도비",IF($W19="국도비","직접입력",SUM($M19:$N19)),) -> 0 | AA19: =IF($Y19="도비",SUM($M19:$N19),IF($W19="국도비","직접입력",SUM($M19:$N19)-$Z19)) -> 0 | AB19: =IF(SUM($M19:$N19)=SUM($Z19:$AA19),"OK","검토") -> OK | AE19: =IF($Y19<>"도비",IF($W19="국도비","직접입력",SUM($P19:$Q19)),) -> 0 | AF19: =IF($Y19="도비",SUM(P19:Q19),IF($W19="국도비","직접입력",SUM(P19:Q19)-AE19)) -> 0 | AG19: =IF(SUM(P19:Q19)=SUM(AE19:AF19),"OK","검토") -> OK | AK19: =IF(AI19="","",COUNTIF($AI$7:$AI$238,AI19)) | AL19: =IF(Y19="","",IF(AND(Y19="도비",AI19="세입없음"),"OK",IF(AND(Y19<>"도비",AI19<>""),"OK","@@"))) | AN19: {=IF(D19="","",INDEX(구분표!$I$2:$I$311, MATCH(1,(구분표!$E$2:$E$311='2추일출'!C19)*(구분표!$F$2:$F$311='2추일출'!D19)*(구분표!$G$2:$G$311='2추일출'!B19),0)))}
A20: =COUNTA($C$8:C20)-COUNTBLANK($C$8:C20) -> 0 | B20: =IF(C20="","",MID($B$7,2,7)) | C20: =IF(D20="","",VLOOKUP(D20,구분표!$A$3:$C$215,3,)) | L20: =J20-K20 -> 0 | O20: =J20+M20+N20 -> 0 | R20: =J20+P20+Q20 -> 0 | S20: =IF(AND((O20=0),(R20>0)),"O",IF(AND((M20<0),(O20-R20<0)),"O","X")) -> X | Z20: =IF($Y20<>"도비",IF($W20="국도비","직접입력",SUM($M20:$N20)),) -> 0 | AA20: =IF($Y20="도비",SUM($M20:$N20),IF($W20="국도비","직접입력",SUM($M20:$N20)-$Z20)) -> 0 | AB20: =IF(SUM($M20:$N20)=SUM($Z20:$AA20),"OK","검토") -> OK | AE20: =IF($Y20<>"도비",IF($W20="국도비","직접입력",SUM($P20:$Q20)),) -> 0 | AF20: =IF($Y20="도비",SUM(P20:Q20),IF($W20="국도비","직접입력",SUM(P20:Q20)-AE20)) -> 0 | AG20: =IF(SUM(P20:Q20)=SUM(AE20:AF20),"OK","검토") -> OK | AK20: =IF(AI20="","",COUNTIF($AI$7:$AI$238,AI20)) | AL20: =IF(Y20="","",IF(AND(Y20="도비",AI20="세입없음"),"OK",IF(AND(Y20<>"도비",AI20<>""),"OK","@@"))) | AN20: {=IF(D20="","",INDEX(구분표!$I$2:$I$311, MATCH(1,(구분표!$E$2:$E$311='2추일출'!C20)*(구분표!$F$2:$F$311='2추일출'!D20)*(구분표!$G$2:$G$311='2추일출'!B20),0)))}
A21: =COUNTA($C$8:C21)-COUNTBLANK($C$8:C21) -> 0 | B21: =IF(C21="","",MID($B$7,2,7)) | C21: =IF(D21="","",VLOOKUP(D21,구분표!$A$3:$C$215,3,)) | L21: =J21-K21 -> 0 | O21: =J21+M21+N21 -> 0 | R21: =J21+P21+Q21 -> 0 | S21: =IF(AND((O21=0),(R21>0)),"O",IF(AND((M21<0),(O21-R21<0)),"O","X")) -> X | Z21: =IF($Y21<>"도비",IF($W21="국도비","직접입력",SUM($M21:$N21)),) -> 0 | AA21: =IF($Y21="도비",SUM($M21:$N21),IF($W21="국도비","직접입력",SUM($M21:$N21)-$Z21)) -> 0 | AB21: =IF(SUM($M21:$N21)=SUM($Z21:$AA21),"OK","검토") -> OK | AE21: =IF($Y21<>"도비",IF($W21="국도비","직접입력",SUM($P21:$Q21)),) -> 0 | AF21: =IF($Y21="도비",SUM(P21:Q21),IF($W21="국도비","직접입력",SUM(P21:Q21)-AE21)) -> 0 | AG21: =IF(SUM(P21:Q21)=SUM(AE21:AF21),"OK","검토") -> OK | AK21: =IF(AI21="","",COUNTIF($AI$7:$AI$238,AI21)) | AL21: =IF(Y21="","",IF(AND(Y21="도비",AI21="세입없음"),"OK",IF(AND(Y21<>"도비",AI21<>""),"OK","@@"))) | AN21: {=IF(D21="","",INDEX(구분표!$I$2:$I$311, MATCH(1,(구분표!$E$2:$E$311='2추일출'!C21)*(구분표!$F$2:$F$311='2추일출'!D21)*(구분표!$G$2:$G$311='2추일출'!B21),0)))}
B22: (기획재정위원회) | J22: =SUBTOTAL(9,J23:J41) -> 334500 | K22: =SUBTOTAL(9,K23:K41) -> 0 | L22: =SUBTOTAL(9,L23:L41) -> 334500 | M22: =SUBTOTAL(9,M23:M41) -> -334500 | N22: =SUBTOTAL(9,N23:N41) -> 100000 | O22: =SUBTOTAL(9,O23:O41) -> 100000 | P22: =SUBTOTAL(9,P23:P41) -> 0 | Q22: =SUBTOTAL(9,Q23:Q41) -> 0 | R22: =SUBTOTAL(9,R23:R41) -> 334500
A23: =COUNTA($C$8:C23)-COUNTBLANK($C$8:C23)+1 -> 1 | B23: 기획재정위원회 | C23: 균형발전기획실 | D23: 균형발전담당관 | E23: 2회추경 | F23: 일반 | G23: 283 | H23: 16 | I23: 지역균형발전사업 육성(자체/직접) - 경원선 셔틀열차 증편 운영비 지원 | J23: 194500 | K23: 0 | L23: =J23-K23 -> 194500 | M23: -194500 | O23: =J23+M23+N23 -> 0 | R23: =J23+P23+Q23 -> 194500 | S23: =IF(AND((O23=0),(R23>0)),"O",IF(AND((M23<0),(O23-R23<0)),"O","X")) -> O | T23: 코레일 증차계획에 따른 예산 전액 삭감 | W23: 도비 | Y23: 도비 | Z23: =IF($Y23<>"도비",IF($W23="국도비","직접입력",SUM($M23:$N23)),) -> 0 | AA23: =IF($Y23="도비",SUM($M23:$N23),IF($W23="국도비","직접입력",SUM($M23:$N23)-$Z23)) -> -194500 | AB23: =IF(SUM($M23:$N23)=SUM($Z23:$AA23),"OK","검토") -> OK | AE23: =IF($Y23<>"도비",IF($W23="국도비","직접입력",SUM($P23:$Q23)),) -> 0 | AF23: =IF($Y23="도비",SUM(P23:Q23),IF($W23="국도비","직접입력",SUM(P23:Q23)-AE23)) -> 0 | AG23: =IF(SUM(P23:Q23)=SUM(AE23:AF23),"OK","검토") -> OK | AK23: =IF(AI23="","",COUNTIF($AI$7:$AI$238,AI23)) | AL23: =IF(Y23="","",IF(AND(Y23="도비",AI23="세입없음"),"OK",IF(AND(Y23<>"도비",AI23<>""),"OK","@@"))) -> @@ | AN23: {=IF(D23="","",INDEX(구분표!$I$2:$I$311, MATCH(1,(구분표!$E$2:$E$311='2추일출'!C23)*(구분표!$F$2:$F$311='2추일출'!D23)*(구분표!$G$2:$G$311='2추일출'!B23),0)))} -> 20202
A24: =COUNTA($C$8:C24)-COUNTBLANK($C$8:C24)+1 -> 2 | B24: 기획재정위원회 | C24: 공유시장경제국 | D24: 따복공동체지원과 | E24: 2회추경 | F24: 일반 | G24: 291 | H24: 17 | I24: 따복공동체 성과측정 및 과제발굴 사례조사(자체/직접) - 기간제근로자 인건비 지원 | J24: 20000 | L24: =J24-K24 -> 20000 | M24: -20000 | O24: =J24+M24+N24 -> 0 | R24: =J24+P24+Q24 -> 20000 | S24: =IF(AND((O24=0),(R24>0)),"O",IF(AND((M24<0),(O24-R24<0)),"O","X")) -> O | T24: 성과측정 기간 미 도래 | W24: 도비 | Y24: 도비 | Z24: =IF($Y24<>"도비",IF($W24="국도비","직접입력",SUM($M24:$N24)),) -> 0 | AA24: =IF($Y24="도비",SUM($M24:$N24),IF($W24="국도비","직접입력",SUM($M24:$N24)-$Z24)) -> -20000 | AB24: =IF(SUM($M24:$N24)=SUM($Z24:$AA24),"OK","검토") -> OK | AE24: =IF($Y24<>"도비",IF($W24="국도비","직접입력",SUM($P24:$Q24)),) -> 0 | AF24: =IF($Y24="도비",SUM(P24:Q24),IF($W24="국도비","직접입력",SUM(P24:Q24)-AE24)) -> 0 | AG24: =IF(SUM(P24:Q24)=SUM(AE24:AF24),"OK","검토") -> OK | AK24: =IF(AI24="","",COUNTIF($AI$7:$AI$238,AI24)) | AL24: =IF(Y24="","",IF(AND(Y24="도비",AI24="세입없음"),"OK",IF(AND(Y24<>"도비",AI24<>""),"OK","@@"))) -> @@ | AN24: {=IF(D24="","",INDEX(구분표!$I$2:$I$311, MATCH(1,(구분표!$E$2:$E$311='2추일출'!C24)*(구분표!$F$2:$F$311='2추일출'!D24)*(구분표!$G$2:$G$311='2추일출'!B24),0)))} -> 30202
A25: =COUNTA($C$8:C25)-COUNTBLANK($C$8:C25)+1 -> 3 | B25: 기획재정위원회 | C25: 공유시장경제국 | D25: 따복공동체지원과 | E25: 2회추경 | F25: 일반 | G25: 291 | H25: 17 | I25: 따복공동체 성과측정 및 과제발굴 사례조사(자체/직접) - 사례조사 운영 등 | J25: 67500 | L25: =J25-K25 -> 67500 | M25: -67500 | O25: =J25+M25+N25 -> 0 | R25: =J25+P25+Q25 -> 67500 | S25: =IF(AND((O25=0),(R25>0)),"O",IF(AND((M25<0),(O25-R25<0)),"O","X")) -> O | T25: 성과측정 기간 미 도래 | W25: 도비 | Y25: 도비 | Z25: =IF($Y25<>"도비",IF($W25="국도비","직접입력",SUM($M25:$N25)),) -> 0 | AA25: =IF($Y25="도비",SUM($M25:$N25),IF($W25="국도비","직접입력",SUM($M25:$N25)-$Z25)) -> -67500 | AB25: =IF(SUM($M25:$N25)=SUM($Z25:$AA25),"OK","검토") -> OK | AE25: =IF($Y25<>"도비",IF($W25="국도비","직접입력",SUM($P25:$Q25)),) -> 0 | AF25: =IF($Y25="도비",SUM(P25:Q25),IF($W25="국도비","직접입력",SUM(P25:Q25)-AE25)) -> 0 | AG25: =IF(SUM(P25:Q25)=SUM(AE25:AF25),"OK","검토") -> OK | AK25: =IF(AI25="","",COUNTIF($AI$7:$AI$238,AI25)) | AL25: =IF(Y25="","",IF(AND(Y25="도비",AI25="세입없음"),"OK",IF(AND(Y25<>"도비",AI25<>""),"OK","@@"))) -> @@ | AN25: {=IF(D25="","",INDEX(구분표!$I$2:$I$311, MATCH(1,(구분표!$E$2:$E$311='2추일출'!C25)*(구분표!$F$2:$F$311='2추일출'!D25)*(구분표!$G$2:$G$311='2추일출'!B25),0)))} -> 30202
A26: =COUNTA($C$8:C26)-COUNTBLANK($C$8:C26)+1 -> 4 | B26: 기획재정위원회 | C26: 공유시장경제국 | D26: 따복공동체지원과 | E26: 2회추경 | F26: 일반 | G26: 291 | H26: 17 | I26: 따복공동체 성과측정 및 과제발굴 사례조사(자체/직접) - 성과측정 및 사례조사 수행여비 | J26: 2500 | L26: =J26-K26 -> 2500 | M26: -2500 | O26: =J26+M26+N26 -> 0 | R26: =J26+P26+Q26 -> 2500 | S26: =IF(AND((O26=0),(R26>0)),"O",IF(AND((M26<0),(O26-R26<0)),"O","X")) -> O | T26: 성과측정 기간 미 도래 | W26: 도비 | Y26: 도비 | Z26: =IF($Y26<>"도비",IF($W26="국도비","직접입력",SUM($M26:$N26)),) -> 0 | AA26: =IF($Y26="도비",SUM($M26:$N26),IF($W26="국도비","직접입력",SUM($M26:$N26)-$Z26)) -> -2500 | AB26: =IF(SUM($M26:$N26)=SUM($Z26:$AA26),"OK","검토") -> OK | AE26: =IF($Y26<>"도비",IF($W26="국도비","직접입력",SUM($P26:$Q26)),) -> 0 | AF26: =IF($Y26="도비",SUM(P26:Q26),IF($W26="국도비","직접입력",SUM(P26:Q26)-AE26)) -> 0 | AG26: =IF(SUM(P26:Q26)=SUM(AE26:AF26),"OK","검토") -> OK | AK26: =IF(AI26="","",COUNTIF($AI$7:$AI$238,AI26)) | AL26: =IF(Y26="","",IF(AND(Y26="도비",AI26="세입없음"),"OK",IF(AND(Y26<>"도비",AI26<>""),"OK","@@"))) -> @@ | AN26: {=IF(D26="","",INDEX(구분표!$I$2:$I$311, MATCH(1,(구분표!$E$2:$E$311='2추일출'!C26)*(구분표!$F$2:$F$311='2추일출'!D26)*(구분표!$G$2:$G$311='2추일출'!B26),0)))} -> 30202
A27: =COUNTA($C$8:C27)-COUNTBLANK($C$8:C27)+1 -> 5 | B27: 기획재정위원회 | C27: 공유시장경제국 | D27: 따복공동체지원과 | E27: 2회추경 | F27: 일반 | G27: 291 | H27: 17 | I27: 따복공동체 성과측정 및 과제발굴 사례조사(자체/직접) - 따복공동체 성과측정 및 과제발굴 연구용역 | J27: 50000 | L27: =J27-K27 -> 50000 | M27: -50000 | O27: =J27+M27+N27 -> 0 | R27: =J27+P27+Q27 -> 50000 | S27: =IF(AND((O27=0),(R27>0)),"O",IF(AND((M27<0),(O27-R27<0)),"O","X")) -> O | T27: 성과측정 기간 미 도래 | W27: 도비 | Y27: 도비 | Z27: =IF($Y27<>"도비",IF($W27="국도비","직접입력",SUM($M27:$N27)),) -> 0 | AA27: =IF($Y27="도비",SUM($M27:$N27),IF($W27="국도비","직접입력",SUM($M27:$N27)-$Z27)) -> -50000 | AB27: =IF(SUM($M27:$N27)=SUM($Z27:$AA27),"OK","검토") -> OK | AE27: =IF($Y27<>"도비",IF($W27="국도비","직접입력",SUM($P27:$Q27)),) -> 0 | AF27: =IF($Y27="도비",SUM(P27:Q27),IF($W27="국도비","직접입력",SUM(P27:Q27)-AE27)) -> 0 | AG27: =IF(SUM(P27:Q27)=SUM(AE27:AF27),"OK","검토") -> OK | AK27: =IF(AI27="","",COUNTIF($AI$7:$AI$238,AI27)) | AL27: =IF(Y27="","",IF(AND(Y27="도비",AI27="세입없음"),"OK",IF(AND(Y27<>"도비",AI27<>""),"OK","@@"))) -> @@ | AN27: {=IF(D27="","",INDEX(구분표!$I$2:$I$311, MATCH(1,(구분표!$E$2:$E$311='2추일출'!C27)*(구분표!$F$2:$F$311='2추일출'!D27)*(구분표!$G$2:$G$311='2추일출'!B27),0)))} -> 30202
A28: 6 | B28: 기획재정위원회 | C28: 균형발전기획실 | D28: DMZ정책담당관 | E28: 신규 | F28: 일반 | I28: DMZ 세계시민 나눔캠프(자체/직접) - DMZ 세계시민 나눔캠프 (공기관등에 대한 경상적 대행사업비) | L28: =J28-K28 -> 0 | N28: 100000 | O28: =J28+M28+N28 -> 100000 | R28: =J28+P28+Q28 -> 0 | S28: =IF(AND((O28=0),(R28>0)),"O",IF(AND((M28<0),(O28-R28<0)),"O","X")) -> X | T28: 신규사업 | W28: 도비 | Y28: 도비 | Z28: =IF($Y28<>"도비",IF($W28="국도비","직접입력",SUM($M28:$N28)),) -> 0 | AA28: =IF($Y28="도비",SUM($M28:$N28),IF($W28="국도비","직접입력",SUM($M28:$N28)-$Z28)) -> 100000 | AB28: =IF(SUM($M28:$N28)=SUM($Z28:$AA28),"OK","검토") -> OK | AE28: =IF($Y28<>"도비",IF($W28="국도비","직접입력",SUM($P28:$Q28)),) -> 0 | AF28: =IF($Y28="도비",SUM(P28:Q28),IF($W28="국도비","직접입력",SUM(P28:Q28)-AE28)) -> 0 | AG28: =IF(SUM(P28:Q28)=SUM(AE28:AF28),"OK","검토") -> OK | AK28: =IF(AI28="","",COUNTIF($AI$7:$AI$238,AI28)) | AL28: =IF(Y28="","",IF(AND(Y28="도비",AI28="세입없음"),"OK",IF(AND(Y28<>"도비",AI28<>""),"OK","@@"))) -> @@ | AN28: {=IF(D28="","",INDEX(구분표!$I$2:$I$311, MATCH(1,(구분표!$E$2:$E$311='2추일출'!C28)*(구분표!$F$2:$F$311='2추일출'!D28)*(구분표!$G$2:$G$311='2추일출'!B28),0)))} -> 20205
A29: =COUNTA($C$8:C29)-COUNTBLANK($C$8:C29)+1 -> 6 | B29: =IF(C29="","",MID($B$22,2,7)) | C29: =IF(D29="","",VLOOKUP(D29,구분표!$A$3:$C$215,3,)) | L29: =J29-K29 -> 0 | O29: =J29+M29+N29 -> 0 | R29: =J29+P29+Q29 -> 0 | S29: =IF(AND((O29=0),(R29>0)),"O",IF(AND((M29<0),(O29-R29<0)),"O","X")) -> X | Z29: =IF($Y29<>"도비",IF($W29="국도비","직접입력",SUM($M29:$N29)),) -> 0 | AA29: =IF($Y29="도비",SUM($M29:$N29),IF($W29="국도비","직접입력",SUM($M29:$N29)-$Z29)) -> 0 | AB29: =IF(SUM($M29:$N29)=SUM($Z29:$AA29),"OK","검토") -> OK | AE29: =IF($Y29<>"도비",IF($W29="국도비","직접입력",SUM($P29:$Q29)),) -> 0 | AF29: =IF($Y29="도비",SUM(P29:Q29),IF($W29="국도비","직접입력",SUM(P29:Q29)-AE29)) -> 0 | AG29: =IF(SUM(P29:Q29)=SUM(AE29:AF29),"OK","검토") -> OK | AK29: =IF(AI29="","",COUNTIF($AI$7:$AI$238,AI29)) | AL29: =IF(Y29="","",IF(AND(Y29="도비",AI29="세입없음"),"OK",IF(AND(Y29<>"도비",AI29<>""),"OK","@@"))) | AN29: {=IF(D29="","",INDEX(구분표!$I$2:$I$311, MATCH(1,(구분표!$E$2:$E$311='2추일출'!C29)*(구분표!$F$2:$F$311='2추일출'!D29)*(구분표!$G$2:$G$311='2추일출'!B29),0)))}
A30: =COUNTA($C$8:C30)-COUNTBLANK($C$8:C30)+1 -> 6 | B30: =IF(C30="","",MID($B$22,2,7)) | C30: =IF(D30="","",VLOOKUP(D30,구분표!$A$3:$C$215,3,)) | L30: =J30-K30 -> 0 | O30: =J30+M30+N30 -> 0 | R30: =J30+P30+Q30 -> 0 | S30: =IF(AND((O30=0),(R30>0)),"O",IF(AND((M30<0),(O30-R30<0)),"O","X")) -> X | Z30: =IF($Y30<>"도비",IF($W30="국도비","직접입력",SUM($M30:$N30)),) -> 0 | AA30: =IF($Y30="도비",SUM($M30:$N30),IF($W30="국도비","직접입력",SUM($M30:$N30)-$Z30)) -> 0 | AB30: =IF(SUM($M30:$N30)=SUM($Z30:$AA30),"OK","검토") -> OK | AE30: =IF($Y30<>"도비",IF($W30="국도비","직접입력",SUM($P30:$Q30)),) -> 0 | AF30: =IF($Y30="도비",SUM(P30:Q30),IF($W30="국도비","직접입력",SUM(P30:Q30)-AE30)) -> 0 | AG30: =IF(SUM(P30:Q30)=SUM(AE30:AF30),"OK","검토") -> OK | AK30: =IF(AI30="","",COUNTIF($AI$7:$AI$238,AI30)) | AL30: =IF(Y30="","",IF(AND(Y30="도비",AI30="세입없음"),"OK",IF(AND(Y30<>"도비",AI30<>""),"OK","@@"))) | AN30: {=IF(D30="","",INDEX(구분표!$I$2:$I$311, MATCH(1,(구분표!$E$2:$E$311='2추일출'!C30)*(구분표!$F$2:$F$311='2추일출'!D30)*(구분표!$G$2:$G$311='2추일출'!B30),0)))}
A31: =COUNTA($C$8:C31)-COUNTBLANK($C$8:C31)+1 -> 6 | B31: =IF(C31="","",MID($B$22,2,7)) | C31: =IF(D31="","",VLOOKUP(D31,구분표!$A$3:$C$215,3,)) | L31: =J31-K31 -> 0 | O31: =J31+M31+N31 -> 0 | R31: =J31+P31+Q31 -> 0 | S31: =IF(AND((O31=0),(R31>0)),"O",IF(AND((M31<0),(O31-R31<0)),"O","X")) -> X | Z31: =IF($Y31<>"도비",IF($W31="국도비","직접입력",SUM($M31:$N31)),) -> 0 | AA31: =IF($Y31="도비",SUM($M31:$N31),IF($W31="국도비","직접입력",SUM($M31:$N31)-$Z31)) -> 0 | AB31: =IF(SUM($M31:$N31)=SUM($Z31:$AA31),"OK","검토") -> OK | AE31: =IF($Y31<>"도비",IF($W31="국도비","직접입력",SUM($P31:$Q31)),) -> 0 | AF31: =IF($Y31="도비",SUM(P31:Q31),IF($W31="국도비","직접입력",SUM(P31:Q31)-AE31)) -> 0 | AG31: =IF(SUM(P31:Q31)=SUM(AE31:AF31),"OK","검토") -> OK | AK31: =IF(AI31="","",COUNTIF($AI$7:$AI$238,AI31)) | AL31: =IF(Y31="","",IF(AND(Y31="도비",AI31="세입없음"),"OK",IF(AND(Y31<>"도비",AI31<>""),"OK","@@"))) | AN31: {=IF(D31="","",INDEX(구분표!$I$2:$I$311, MATCH(1,(구분표!$E$2:$E$311='2추일출'!C31)*(구분표!$F$2:$F$311='2추일출'!D31)*(구분표!$G$2:$G$311='2추일출'!B31),0)))}
A32: =COUNTA($C$8:C32)-COUNTBLANK($C$8:C32)+1 -> 6 | B32: =IF(C32="","",MID($B$22,2,7)) | C32: =IF(D32="","",VLOOKUP(D32,구분표!$A$3:$C$215,3,)) | L32: =J32-K32 -> 0 | O32: =J32+M32+N32 -> 0 | R32: =J32+P32+Q32 -> 0 | S32: =IF(AND((O32=0),(R32>0)),"O",IF(AND((M32<0),(O32-R32<0)),"O","X")) -> X | Z32: =IF($Y32<>"도비",IF($W32="국도비","직접입력",SUM($M32:$N32)),) -> 0 | AA32: =IF($Y32="도비",SUM($M32:$N32),IF($W32="국도비","직접입력",SUM($M32:$N32)-$Z32)) -> 0 | AB32: =IF(SUM($M32:$N32)=SUM($Z32:$AA32),"OK","검토") -> OK | AE32: =IF($Y32<>"도비",IF($W32="국도비","직접입력",SUM($P32:$Q32)),) -> 0 | AF32: =IF($Y32="도비",SUM(P32:Q32),IF($W32="국도비","직접입력",SUM(P32:Q32)-AE32)) -> 0 | AG32: =IF(SUM(P32:Q32)=SUM(AE32:AF32),"OK","검토") -> OK | AK32: =IF(AI32="","",COUNTIF($AI$7:$AI$238,AI32)) | AL32: =IF(Y32="","",IF(AND(Y32="도비",AI32="세입없음"),"OK",IF(AND(Y32<>"도비",AI32<>""),"OK","@@"))) | AN32: {=IF(D32="","",INDEX(구분표!$I$2:$I$311, MATCH(1,(구분표!$E$2:$E$311='2추일출'!C32)*(구분표!$F$2:$F$311='2추일출'!D32)*(구분표!$G$2:$G$311='2추일출'!B32),0)))}
A33: =COUNTA($C$8:C33)-COUNTBLANK($C$8:C33)+1 -> 6 | B33: =IF(C33="","",MID($B$22,2,7)) | C33: =IF(D33="","",VLOOKUP(D33,구분표!$A$3:$C$215,3,)) | L33: =J33-K33 -> 0 | O33: =J33+M33+N33 -> 0 | R33: =J33+P33+Q33 -> 0 | S33: =IF(AND((O33=0),(R33>0)),"O",IF(AND((M33<0),(O33-R33<0)),"O","X")) -> X | Z33: =IF($Y33<>"도비",IF($W33="국도비","직접입력",SUM($M33:$N33)),) -> 0 | AA33: =IF($Y33="도비",SUM($M33:$N33),IF($W33="국도비","직접입력",SUM($M33:$N33)-$Z33)) -> 0 | AB33: =IF(SUM($M33:$N33)=SUM($Z33:$AA33),"OK","검토") -> OK | AE33: =IF($Y33<>"도비",IF($W33="국도비","직접입력",SUM($P33:$Q33)),) -> 0 | AF33: =IF($Y33="도비",SUM(P33:Q33),IF($W33="국도비","직접입력",SUM(P33:Q33)-AE33)) -> 0 | AG33: =IF(SUM(P33:Q33)=SUM(AE33:AF33),"OK","검토") -> OK | AK33: =IF(AI33="","",COUNTIF($AI$7:$AI$238,AI33)) | AL33: =IF(Y33="","",IF(AND(Y33="도비",AI33="세입없음"),"OK",IF(AND(Y33<>"도비",AI33<>""),"OK","@@"))) | AN33: {=IF(D33="","",INDEX(구분표!$I$2:$I$311, MATCH(1,(구분표!$E$2:$E$311='2추일출'!C33)*(구분표!$F$2:$F$311='2추일출'!D33)*(구분표!$G$2:$G$311='2추일출'!B33),0)))}
A34: =COUNTA($C$8:C34)-COUNTBLANK($C$8:C34)+1 -> 6 | B34: =IF(C34="","",MID($B$22,2,7)) | C34: =IF(D34="","",VLOOKUP(D34,구분표!$A$3:$C$215,3,)) | L34: =J34-K34 -> 0 | O34: =J34+M34+N34 -> 0 | R34: =J34+P34+Q34 -> 0 | S34: =IF(AND((O34=0),(R34>0)),"O",IF(AND((M34<0),(O34-R34<0)),"O","X")) -> X | Z34: =IF($Y34<>"도비",IF($W34="국도비","직접입력",SUM($M34:$N34)),) -> 0 | AA34: =IF($Y34="도비",SUM($M34:$N34),IF($W34="국도비","직접입력",SUM($M34:$N34)-$Z34)) -> 0 | AB34: =IF(SUM($M34:$N34)=SUM($Z34:$AA34),"OK","검토") -> OK | AE34: =IF($Y34<>"도비",IF($W34="국도비","직접입력",SUM($P34:$Q34)),) -> 0 | AF34: =IF($Y34="도비",SUM(P34:Q34),IF($W34="국도비","직접입력",SUM(P34:Q34)-AE34)) -> 0 | AG34: =IF(SUM(P34:Q34)=SUM(AE34:AF34),"OK","검토") -> OK | AK34: =IF(AI34="","",COUNTIF($AI$7:$AI$238,AI34)) | AL34: =IF(Y34="","",IF(AND(Y34="도비",AI34="세입없음"),"OK",IF(AND(Y34<>"도비",AI34<>""),"OK","@@"))) | AN34: {=IF(D34="","",INDEX(구분표!$I$2:$I$311, MATCH(1,(구분표!$E$2:$E$311='2추일출'!C34)*(구분표!$F$2:$F$311='2추일출'!D34)*(구분표!$G$2:$G$311='2추일출'!B34),0)))}
A35: =COUNTA($C$8:C35)-COUNTBLANK($C$8:C35)+1 -> 6 | B35: =IF(C35="","",MID($B$22,2,7)) | C35: =IF(D35="","",VLOOKUP(D35,구분표!$A$3:$C$215,3,)) | L35: =J35-K35 -> 0 | O35: =J35+M35+N35 -> 0 | R35: =J35+P35+Q35 -> 0 | S35: =IF(AND((O35=0),(R35>0)),"O",IF(AND((M35<0),(O35-R35<0)),"O","X")) -> X | Z35: =IF($Y35<>"도비",IF($W35="국도비","직접입력",SUM($M35:$N35)),) -> 0 | AA35: =IF($Y35="도비",SUM($M35:$N35),IF($W35="국도비","직접입력",SUM($M35:$N35)-$Z35)) -> 0 | AB35: =IF(SUM($M35:$N35)=SUM($Z35:$AA35),"OK","검토") -> OK | AE35: =IF($Y35<>"도비",IF($W35="국도비","직접입력",SUM($P35:$Q35)),) -> 0 | AF35: =IF($Y35="도비",SUM(P35:Q35),IF($W35="국도비","직접입력",SUM(P35:Q35)-AE35)) -> 0 | AG35: =IF(SUM(P35:Q35)=SUM(AE35:AF35),"OK","검토") -> OK | AK35: =IF(AI35="","",COUNTIF($AI$7:$AI$238,AI35)) | AL35: =IF(Y35="","",IF(AND(Y35="도비",AI35="세입없음"),"OK",IF(AND(Y35<>"도비",AI35<>""),"OK","@@"))) | AN35: {=IF(D35="","",INDEX(구분표!$I$2:$I$311, MATCH(1,(구분표!$E$2:$E$311='2추일출'!C35)*(구분표!$F$2:$F$311='2추일출'!D35)*(구분표!$G$2:$G$311='2추일출'!B35),0)))}
A36: =COUNTA($C$8:C36)-COUNTBLANK($C$8:C36)+1 -> 6 | B36: =IF(C36="","",MID($B$22,2,7)) | C36: =IF(D36="","",VLOOKUP(D36,구분표!$A$3:$C$215,3,)) | L36: =J36-K36 -> 0 | O36: =J36+M36+N36 -> 0 | R36: =J36+P36+Q36 -> 0 | S36: =IF(AND((O36=0),(R36>0)),"O",IF(AND((M36<0),(O36-R36<0)),"O","X")) -> X | Z36: =IF($Y36<>"도비",IF($W36="국도비","직접입력",SUM($M36:$N36)),) -> 0 | AA36: =IF($Y36="도비",SUM($M36:$N36),IF($W36="국도비","직접입력",SUM($M36:$N36)-$Z36)) -> 0 | AB36: =IF(SUM($M36:$N36)=SUM($Z36:$AA36),"OK","검토") -> OK | AE36: =IF($Y36<>"도비",IF($W36="국도비","직접입력",SUM($P36:$Q36)),) -> 0 | AF36: =IF($Y36="도비",SUM(P36:Q36),IF($W36="국도비","직접입력",SUM(P36:Q36)-AE36)) -> 0 | AG36: =IF(SUM(P36:Q36)=SUM(AE36:AF36),"OK","검토") -> OK | AK36: =IF(AI36="","",COUNTIF($AI$7:$AI$238,AI36)) | AL36: =IF(Y36="","",IF(AND(Y36="도비",AI36="세입없음"),"OK",IF(AND(Y36<>"도비",AI36<>""),"OK","@@"))) | AN36: {=IF(D36="","",INDEX(구분표!$I$2:$I$311, MATCH(1,(구분표!$E$2:$E$311='2추일출'!C36)*(구분표!$F$2:$F$311='2추일출'!D36)*(구분표!$G$2:$G$311='2추일출'!B36),0)))}
A37: =COUNTA($C$8:C37)-COUNTBLANK($C$8:C37)+1 -> 6 | B37: =IF(C37="","",MID($B$22,2,7)) | C37: =IF(D37="","",VLOOKUP(D37,구분표!$A$3:$C$215,3,)) | L37: =J37-K37 -> 0 | O37: =J37+M37+N37 -> 0 | R37: =J37+P37+Q37 -> 0 | S37: =IF(AND((O37=0),(R37>0)),"O",IF(AND((M37<0),(O37-R37<0)),"O","X")) -> X | Z37: =IF($Y37<>"도비",IF($W37="국도비","직접입력",SUM($M37:$N37)),) -> 0 | AA37: =IF($Y37="도비",SUM($M37:$N37),IF($W37="국도비","직접입력",SUM($M37:$N37)-$Z37)) -> 0 | AB37: =IF(SUM($M37:$N37)=SUM($Z37:$AA37),"OK","검토") -> OK | AE37: =IF($Y37<>"도비",IF($W37="국도비","직접입력",SUM($P37:$Q37)),) -> 0 | AF37: =IF($Y37="도비",SUM(P37:Q37),IF($W37="국도비","직접입력",SUM(P37:Q37)-AE37)) -> 0 | AG37: =IF(SUM(P37:Q37)=SUM(AE37:AF37),"OK","검토") -> OK | AK37: =IF(AI37="","",COUNTIF($AI$7:$AI$238,AI37)) | AL37: =IF(Y37="","",IF(AND(Y37="도비",AI37="세입없음"),"OK",IF(AND(Y37<>"도비",AI37<>""),"OK","@@"))) | AN37: {=IF(D37="","",INDEX(구분표!$I$2:$I$311, MATCH(1,(구분표!$E$2:$E$311='2추일출'!C37)*(구분표!$F$2:$F$311='2추일출'!D37)*(구분표!$G$2:$G$311='2추일출'!B37),0)))}
A38: =COUNTA($C$8:C38)-COUNTBLANK($C$8:C38)+1 -> 6 | B38: =IF(C38="","",MID($B$22,2,7)) | C38: =IF(D38="","",VLOOKUP(D38,구분표!$A$3:$C$215,3,)) | L38: =J38-K38 -> 0 | O38: =J38+M38+N38 -> 0 | R38: =J38+P38+Q38 -> 0 | S38: =IF(AND((O38=0),(R38>0)),"O",IF(AND((M38<0),(O38-R38<0)),"O","X")) -> X | Z38: =IF($Y38<>"도비",IF($W38="국도비","직접입력",SUM($M38:$N38)),) -> 0 | AA38: =IF($Y38="도비",SUM($M38:$N38),IF($W38="국도비","직접입력",SUM($M38:$N38)-$Z38)) -> 0 | AB38: =IF(SUM($M38:$N38)=SUM($Z38:$AA38),"OK","검토") -> OK | AE38: =IF($Y38<>"도비",IF($W38="국도비","직접입력",SUM($P38:$Q38)),) -> 0 | AF38: =IF($Y38="도비",SUM(P38:Q38),IF($W38="국도비","직접입력",SUM(P38:Q38)-AE38)) -> 0 | AG38: =IF(SUM(P38:Q38)=SUM(AE38:AF38),"OK","검토") -> OK | AK38: =IF(AI38="","",COUNTIF($AI$7:$AI$238,AI38)) | AL38: =IF(Y38="","",IF(AND(Y38="도비",AI38="세입없음"),"OK",IF(AND(Y38<>"도비",AI38<>""),"OK","@@"))) | AN38: {=IF(D38="","",INDEX(구분표!$I$2:$I$311, MATCH(1,(구분표!$E$2:$E$311='2추일출'!C38)*(구분표!$F$2:$F$311='2추일출'!D38)*(구분표!$G$2:$G$311='2추일출'!B38),0)))}
A39: =COUNTA($C$8:C39)-COUNTBLANK($C$8:C39)+1 -> 6 | B39: =IF(C39="","",MID($B$22,2,7)) | C39: =IF(D39="","",VLOOKUP(D39,구분표!$A$3:$C$215,3,)) | L39: =J39-K39 -> 0 | O39: =J39+M39+N39 -> 0 | R39: =J39+P39+Q39 -> 0 | S39: =IF(AND((O39=0),(R39>0)),"O",IF(AND((M39<0),(O39-R39<0)),"O","X")) -> X | Z39: =IF($Y39<>"도비",IF($W39="국도비","직접입력",SUM($M39:$N39)),) -> 0 | AA39: =IF($Y39="도비",SUM($M39:$N39),IF($W39="국도비","직접입력",SUM($M39:$N39)-$Z39)) -> 0 | AB39: =IF(SUM($M39:$N39)=SUM($Z39:$AA39),"OK","검토") -> OK | AE39: =IF($Y39<>"도비",IF($W39="국도비","직접입력",SUM($P39:$Q39)),) -> 0 | AF39: =IF($Y39="도비",SUM(P39:Q39),IF($W39="국도비","직접입력",SUM(P39:Q39)-AE39)) -> 0 | AG39: =IF(SUM(P39:Q39)=SUM(AE39:AF39),"OK","검토") -> OK | AK39: =IF(AI39="","",COUNTIF($AI$7:$AI$238,AI39)) | AL39: =IF(Y39="","",IF(AND(Y39="도비",AI39="세입없음"),"OK",IF(AND(Y39<>"도비",AI39<>""),"OK","@@"))) | AN39: {=IF(D39="","",INDEX(구분표!$I$2:$I$311, MATCH(1,(구분표!$E$2:$E$311='2추일출'!C39)*(구분표!$F$2:$F$311='2추일출'!D39)*(구분표!$G$2:$G$311='2추일출'!B39),0)))}
A40: =COUNTA($C$8:C40)-COUNTBLANK($C$8:C40)+1 -> 6 | B40: =IF(C40="","",MID($B$22,2,7)) | C40: =IF(D40="","",VLOOKUP(D40,구분표!$A$3:$C$215,3,)) | L40: =J40-K40 -> 0 | O40: =J40+M40+N40 -> 0 | R40: =J40+P40+Q40 -> 0 | S40: =IF(AND((O40=0),(R40>0)),"O",IF(AND((M40<0),(O40-R40<0)),"O","X")) -> X | Z40: =IF($Y40<>"도비",IF($W40="국도비","직접입력",SUM($M40:$N40)),) -> 0 | AA40: =IF($Y40="도비",SUM($M40:$N40),IF($W40="국도비","직접입력",SUM($M40:$N40)-$Z40)) -> 0 | AB40: =IF(SUM($M40:$N40)=SUM($Z40:$AA40),"OK","검토") -> OK | AE40: =IF($Y40<>"도비",IF($W40="국도비","직접입력",SUM($P40:$Q40)),) -> 0 | AF40: =IF($Y40="도비",SUM(P40:Q40),IF($W40="국도비","직접입력",SUM(P40:Q40)-AE40)) -> 0 | AG40: =IF(SUM(P40:Q40)=SUM(AE40:AF40),"OK","검토") -> OK | AK40: =IF(AI40="","",COUNTIF($AI$7:$AI$238,AI40)) | AL40: =IF(Y40="","",IF(AND(Y40="도비",AI40="세입없음"),"OK",IF(AND(Y40<>"도비",AI40<>""),"OK","@@"))) | AN40: {=IF(D40="","",INDEX(구분표!$I$2:$I$311, MATCH(1,(구분표!$E$2:$E$311='2추일출'!C40)*(구분표!$F$2:$F$311='2추일출'!D40)*(구분표!$G$2:$G$311='2추일출'!B40),0)))}
A41: =COUNTA($C$8:C41)-COUNTBLANK($C$8:C41)+1 -> 6 | B41: =IF(C41="","",MID($B$22,2,7)) | C41: =IF(D41="","",VLOOKUP(D41,구분표!$A$3:$C$215,3,)) | L41: =J41-K41 -> 0 | O41: =J41+M41+N41 -> 0 | R41: =J41+P41+Q41 -> 0 | S41: =IF(AND((O41=0),(R41>0)),"O",IF(AND((M41<0),(O41-R41<0)),"O","X")) -> X | Z41: =IF($Y41<>"도비",IF($W41="국도비","직접입력",SUM($M41:$N41)),) -> 0 | AA41: =IF($Y41="도비",SUM($M41:$N41),IF($W41="국도비","직접입력",SUM($M41:$N41)-$Z41)) -> 0 | AB41: =IF(SUM($M41:$N41)=SUM($Z41:$AA41),"OK","검토") -> OK | AE41: =IF($Y41<>"도비",IF($W41="국도비","직접입력",SUM($P41:$Q41)),) -> 0 | AF41: =IF($Y41="도비",SUM(P41:Q41),IF($W41="국도비","직접입력",SUM(P41:Q41)-AE41)) -> 0 | AG41: =IF(SUM(P41:Q41)=SUM(AE41:AF41),"OK","검토") -> OK | AK41: =IF(AI41="","",COUNTIF($AI$7:$AI$238,AI41)) | AL41: =IF(Y41="","",IF(AND(Y41="도비",AI41="세입없음"),"OK",IF(AND(Y41<>"도비",AI41<>""),"OK","@@"))) | AN41: {=IF(D41="","",INDEX(구분표!$I$2:$I$311, MATCH(1,(구분표!$E$2:$E$311='2추일출'!C41)*(구분표!$F$2:$F$311='2추일출'!D41)*(구분표!$G$2:$G$311='2추일출'!B41),0)))}
B42: (경제과학기술위원회) | J42: =SUBTOTAL(9,J43:J73) -> 0 | K42: =SUBTOTAL(9,K43:K73) -> 0 | L42: =SUBTOTAL(9,L43:L73) -> 0 | M42: =SUBTOTAL(9,M43:M73) -> 0 | N42: =SUBTOTAL(9,N43:N73) -> 0 | O42: =SUBTOTAL(9,O43:O73) -> 0 | P42: =SUBTOTAL(9,P43:P73) -> 0 | Q42: =SUBTOTAL(9,Q43:Q73) -> 0 | R42: =SUBTOTAL(9,R43:R73) -> 0
A43: =COUNTA($C$8:C43)-COUNTBLANK($C$8:C43)+2 -> 6 | B43: =IF(C43="","",MID($B$42,2,9)) | C43: =IF(D43="","",VLOOKUP(D43,구분표!$A$3:$C$215,3,)) | L43: =J43-K43 -> 0 | O43: =J43+M43+N43 -> 0 | R43: =J43+P43+Q43 -> 0 | S43: =IF(AND((O43=0),(R43>0)),"O",IF(AND((M43<0),(O43-R43<0)),"O","X")) -> X | Z43: =IF($Y43<>"도비",IF($W43="국도비","직접입력",SUM($M43:$N43)),) -> 0 | AA43: =IF($Y43="도비",SUM($M43:$N43),IF($W43="국도비","직접입력",SUM($M43:$N43)-$Z43)) -> 0 | AB43: =IF(SUM($M43:$N43)=SUM($Z43:$AA43),"OK","검토") -> OK | AE43: =IF($Y43<>"도비",IF($W43="국도비","직접입력",SUM($P43:$Q43)),) -> 0 | AF43: =IF($Y43="도비",SUM(P43:Q43),IF($W43="국도비","직접입력",SUM(P43:Q43)-AE43)) -> 0 | AG43: =IF(SUM(P43:Q43)=SUM(AE43:AF43),"OK","검토") -> OK | AK43: =IF(AI43="","",COUNTIF($AI$7:$AI$238,AI43)) | AL43: =IF(Y43="","",IF(AND(Y43="도비",AI43="세입없음"),"OK",IF(AND(Y43<>"도비",AI43<>""),"OK","@@"))) | AN43: {=IF(D43="","",INDEX(구분표!$I$2:$I$311, MATCH(1,(구분표!$E$2:$E$311='2추일출'!C43)*(구분표!$F$2:$F$311='2추일출'!D43)*(구분표!$G$2:$G$311='2추일출'!B43),0)))}
A44: =COUNTA($C$8:C44)-COUNTBLANK($C$8:C44)+2 -> 6 | B44: =IF(C44="","",MID($B$42,2,9)) | C44: =IF(D44="","",VLOOKUP(D44,구분표!$A$3:$C$215,3,)) | L44: =J44-K44 -> 0 | O44: =J44+M44+N44 -> 0 | R44: =J44+P44+Q44 -> 0 | S44: =IF(AND((O44=0),(R44>0)),"O",IF(AND((M44<0),(O44-R44<0)),"O","X")) -> X | Z44: =IF($Y44<>"도비",IF($W44="국도비","직접입력",SUM($M44:$N44)),) -> 0 | AA44: =IF($Y44="도비",SUM($M44:$N44),IF($W44="국도비","직접입력",SUM($M44:$N44)-$Z44)) -> 0 | AB44: =IF(SUM($M44:$N44)=SUM($Z44:$AA44),"OK","검토") -> OK | AE44: =IF($Y44<>"도비",IF($W44="국도비","직접입력",SUM($P44:$Q44)),) -> 0 | AF44: =IF($Y44="도비",SUM(P44:Q44),IF($W44="국도비","직접입력",SUM(P44:Q44)-AE44)) -> 0 | AG44: =IF(SUM(P44:Q44)=SUM(AE44:AF44),"OK","검토") -> OK | AK44: =IF(AI44="","",COUNTIF($AI$7:$AI$238,AI44)) | AL44: =IF(Y44="","",IF(AND(Y44="도비",AI44="세입없음"),"OK",IF(AND(Y44<>"도비",AI44<>""),"OK","@@")))
A45: =COUNTA($C$8:C45)-COUNTBLANK($C$8:C45)+2 -> 6 | B45: =IF(C45="","",MID($B$42,2,9)) | C45: =IF(D45="","",VLOOKUP(D45,구분표!$A$3:$C$215,3,)) | L45: =J45-K45 -> 0 | O45: =J45+M45+N45 -> 0 | R45: =J45+P45+Q45 -> 0 | S45: =IF(AND((O45=0),(R45>0)),"O",IF(AND((M45<0),(O45-R45<0)),"O","X")) -> X | Z45: =IF($Y45<>"도비",IF($W45="국도비","직접입력",SUM($M45:$N45)),) -> 0 | AA45: =IF($Y45="도비",SUM($M45:$N45),IF($W45="국도비","직접입력",SUM($M45:$N45)-$Z45)) -> 0 | AB45: =IF(SUM($M45:$N45)=SUM($Z45:$AA45),"OK","검토") -> OK | AE45: =IF($Y45<>"도비",IF($W45="국도비","직접입력",SUM($P45:$Q45)),) -> 0 | AF45: =IF($Y45="도비",SUM(P45:Q45),IF($W45="국도비","직접입력",SUM(P45:Q45)-AE45)) -> 0 | AG45: =IF(SUM(P45:Q45)=SUM(AE45:AF45),"OK","검토") -> OK | AK45: =IF(AI45="","",COUNTIF($AI$7:$AI$238,AI45)) | AL45: =IF(Y45="","",IF(AND(Y45="도비",AI45="세입없음"),"OK",IF(AND(Y45<>"도비",AI45<>""),"OK","@@")))
A46: =COUNTA($C$8:C46)-COUNTBLANK($C$8:C46)+2 -> 6 | B46: =IF(C46="","",MID($B$42,2,9)) | C46: =IF(D46="","",VLOOKUP(D46,구분표!$A$3:$C$215,3,)) | L46: =J46-K46 -> 0 | O46: =J46+M46+N46 -> 0 | R46: =J46+P46+Q46 -> 0 | S46: =IF(AND((O46=0),(R46>0)),"O",IF(AND((M46<0),(O46-R46<0)),"O","X")) -> X | Z46: =IF($Y46<>"도비",IF($W46="국도비","직접입력",SUM($M46:$N46)),) -> 0 | AA46: =IF($Y46="도비",SUM($M46:$N46),IF($W46="국도비","직접입력",SUM($M46:$N46)-$Z46)) -> 0 | AB46: =IF(SUM($M46:$N46)=SUM($Z46:$AA46),"OK","검토") -> OK | AE46: =IF($Y46<>"도비",IF($W46="국도비","직접입력",SUM($P46:$Q46)),) -> 0 | AF46: =IF($Y46="도비",SUM(P46:Q46),IF($W46="국도비","직접입력",SUM(P46:Q46)-AE46)) -> 0 | AG46: =IF(SUM(P46:Q46)=SUM(AE46:AF46),"OK","검토") -> OK | AK46: =IF(AI46="","",COUNTIF($AI$7:$AI$238,AI46)) | AL46: =IF(Y46="","",IF(AND(Y46="도비",AI46="세입없음"),"OK",IF(AND(Y46<>"도비",AI46<>""),"OK","@@")))
A47: =COUNTA($C$8:C47)-COUNTBLANK($C$8:C47)+2 -> 6 | B47: =IF(C47="","",MID($B$42,2,9)) | C47: =IF(D47="","",VLOOKUP(D47,구분표!$A$3:$C$215,3,)) | L47: =J47-K47 -> 0 | O47: =J47+M47+N47 -> 0 | R47: =J47+P47+Q47 -> 0 | S47: =IF(AND((O47=0),(R47>0)),"O",IF(AND((M47<0),(O47-R47<0)),"O","X")) -> X | Z47: =IF($Y47<>"도비",IF($W47="국도비","직접입력",SUM($M47:$N47)),) -> 0 | AA47: =IF($Y47="도비",SUM($M47:$N47),IF($W47="국도비","직접입력",SUM($M47:$N47)-$Z47)) -> 0 | AB47: =IF(SUM($M47:$N47)=SUM($Z47:$AA47),"OK","검토") -> OK | AE47: =IF($Y47<>"도비",IF($W47="국도비","직접입력",SUM($P47:$Q47)),) -> 0 | AF47: =IF($Y47="도비",SUM(P47:Q47),IF($W47="국도비","직접입력",SUM(P47:Q47)-AE47)) -> 0 | AG47: =IF(SUM(P47:Q47)=SUM(AE47:AF47),"OK","검토") -> OK | AK47: =IF(AI47="","",COUNTIF($AI$7:$AI$238,AI47)) | AL47: =IF(Y47="","",IF(AND(Y47="도비",AI47="세입없음"),"OK",IF(AND(Y47<>"도비",AI47<>""),"OK","@@")))
A48: =COUNTA($C$8:C48)-COUNTBLANK($C$8:C48)+2 -> 6 | B48: =IF(C48="","",MID($B$42,2,9)) | C48: =IF(D48="","",VLOOKUP(D48,구분표!$A$3:$C$215,3,)) | L48: =J48-K48 -> 0 | O48: =J48+M48+N48 -> 0 | R48: =J48+P48+Q48 -> 0 | S48: =IF(AND((O48=0),(R48>0)),"O",IF(AND((M48<0),(O48-R48<0)),"O","X")) -> X | Z48: =IF($Y48<>"도비",IF($W48="국도비","직접입력",SUM($M48:$N48)),) -> 0 | AA48: =IF($Y48="도비",SUM($M48:$N48),IF($W48="국도비","직접입력",SUM($M48:$N48)-$Z48)) -> 0 | AB48: =IF(SUM($M48:$N48)=SUM($Z48:$AA48),"OK","검토") -> OK | AE48: =IF($Y48<>"도비",IF($W48="국도비","직접입력",SUM($P48:$Q48)),) -> 0 | AF48: =IF($Y48="도비",SUM(P48:Q48),IF($W48="국도비","직접입력",SUM(P48:Q48)-AE48)) -> 0 | AG48: =IF(SUM(P48:Q48)=SUM(AE48:AF48),"OK","검토") -> OK | AK48: =IF(AI48="","",COUNTIF($AI$7:$AI$238,AI48)) | AL48: =IF(Y48="","",IF(AND(Y48="도비",AI48="세입없음"),"OK",IF(AND(Y48<>"도비",AI48<>""),"OK","@@")))
A49: =COUNTA($C$8:C49)-COUNTBLANK($C$8:C49)+2 -> 6 | B49: =IF(C49="","",MID($B$42,2,9)) | C49: =IF(D49="","",VLOOKUP(D49,구분표!$A$3:$C$215,3,)) | L49: =J49-K49 -> 0 | O49: =J49+M49+N49 -> 0 | R49: =J49+P49+Q49 -> 0 | S49: =IF(AND((O49=0),(R49>0)),"O",IF(AND((M49<0),(O49-R49<0)),"O","X")) -> X | Z49: =IF($Y49<>"도비",IF($W49="국도비","직접입력",SUM($M49:$N49)),) -> 0 | AA49: =IF($Y49="도비",SUM($M49:$N49),IF($W49="국도비","직접입력",SUM($M49:$N49)-$Z49)) -> 0 | AB49: =IF(SUM($M49:$N49)=SUM($Z49:$AA49),"OK","검토") -> OK | AE49: =IF($Y49<>"도비",IF($W49="국도비","직접입력",SUM($P49:$Q49)),) -> 0 | AF49: =IF($Y49="도비",SUM(P49:Q49),IF($W49="국도비","직접입력",SUM(P49:Q49)-AE49)) -> 0 | AG49: =IF(SUM(P49:Q49)=SUM(AE49:AF49),"OK","검토") -> OK | AK49: =IF(AI49="","",COUNTIF($AI$7:$AI$238,AI49)) | AL49: =IF(Y49="","",IF(AND(Y49="도비",AI49="세입없음"),"OK",IF(AND(Y49<>"도비",AI49<>""),"OK","@@")))
A50: =COUNTA($C$8:C50)-COUNTBLANK($C$8:C50)+2 -> 6 | B50: =IF(C50="","",MID($B$42,2,9)) | C50: =IF(D50="","",VLOOKUP(D50,구분표!$A$3:$C$215,3,)) | L50: =J50-K50 -> 0 | O50: =J50+M50+N50 -> 0 | R50: =J50+P50+Q50 -> 0 | S50: =IF(AND((O50=0),(R50>0)),"O",IF(AND((M50<0),(O50-R50<0)),"O","X")) -> X | Z50: =IF($Y50<>"도비",IF($W50="국도비","직접입력",SUM($M50:$N50)),) -> 0 | AA50: =IF($Y50="도비",SUM($M50:$N50),IF($W50="국도비","직접입력",SUM($M50:$N50)-$Z50)) -> 0 | AB50: =IF(SUM($M50:$N50)=SUM($Z50:$AA50),"OK","검토") -> OK | AE50: =IF($Y50<>"도비",IF($W50="국도비","직접입력",SUM($P50:$Q50)),) -> 0 | AF50: =IF($Y50="도비",SUM(P50:Q50),IF($W50="국도비","직접입력",SUM(P50:Q50)-AE50)) -> 0 | AG50: =IF(SUM(P50:Q50)=SUM(AE50:AF50),"OK","검토") -> OK | AK50: =IF(AI50="","",COUNTIF($AI$7:$AI$238,AI50)) | AL50: =IF(Y50="","",IF(AND(Y50="도비",AI50="세입없음"),"OK",IF(AND(Y50<>"도비",AI50<>""),"OK","@@"))) | AN50: {=IF(D50="","",INDEX(구분표!$I$2:$I$311, MATCH(1,(구분표!$E$2:$E$311='2추일출'!C50)*(구분표!$F$2:$F$311='2추일출'!D50)*(구분표!$G$2:$G$311='2추일출'!B50),0)))}
A51: =COUNTA($C$8:C51)-COUNTBLANK($C$8:C51)+2 -> 6 | B51: =IF(C51="","",MID($B$42,2,9)) | C51: =IF(D51="","",VLOOKUP(D51,구분표!$A$3:$C$215,3,)) | L51: =J51-K51 -> 0 | O51: =J51+M51+N51 -> 0 | R51: =J51+P51+Q51 -> 0 | S51: =IF(AND((O51=0),(R51>0)),"O",IF(AND((M51<0),(O51-R51<0)),"O","X")) -> X | Z51: =IF($Y51<>"도비",IF($W51="국도비","직접입력",SUM($M51:$N51)),) -> 0 | AA51: =IF($Y51="도비",SUM($M51:$N51),IF($W51="국도비","직접입력",SUM($M51:$N51)-$Z51)) -> 0 | AB51: =IF(SUM($M51:$N51)=SUM($Z51:$AA51),"OK","검토") -> OK | AE51: =IF($Y51<>"도비",IF($W51="국도비","직접입력",SUM($P51:$Q51)),) -> 0 | AF51: =IF($Y51="도비",SUM(P51:Q51),IF($W51="국도비","직접입력",SUM(P51:Q51)-AE51)) -> 0 | AG51: =IF(SUM(P51:Q51)=SUM(AE51:AF51),"OK","검토") -> OK | AK51: =IF(AI51="","",COUNTIF($AI$7:$AI$238,AI51)) | AL51: =IF(Y51="","",IF(AND(Y51="도비",AI51="세입없음"),"OK",IF(AND(Y51<>"도비",AI51<>""),"OK","@@"))) | AN51: {=IF(D51="","",INDEX(구분표!$I$2:$I$311, MATCH(1,(구분표!$E$2:$E$311='2추일출'!C51)*(구분표!$F$2:$F$311='2추일출'!D51)*(구분표!$G$2:$G$311='2추일출'!B51),0)))}
A52: =COUNTA($C$8:C52)-COUNTBLANK($C$8:C52)+2 -> 6 | B52: =IF(C52="","",MID($B$42,2,9)) | C52: =IF(D52="","",VLOOKUP(D52,구분표!$A$3:$C$215,3,)) | L52: =J52-K52 -> 0 | O52: =J52+M52+N52 -> 0 | R52: =J52+P52+Q52 -> 0 | S52: =IF(AND((O52=0),(R52>0)),"O",IF(AND((M52<0),(O52-R52<0)),"O","X")) -> X | Z52: =IF($Y52<>"도비",IF($W52="국도비","직접입력",SUM($M52:$N52)),) -> 0 | AA52: =IF($Y52="도비",SUM($M52:$N52),IF($W52="국도비","직접입력",SUM($M52:$N52)-$Z52)) -> 0 | AB52: =IF(SUM($M52:$N52)=SUM($Z52:$AA52),"OK","검토") -> OK | AE52: =IF($Y52<>"도비",IF($W52="국도비","직접입력",SUM($P52:$Q52)),) -> 0 | AF52: =IF($Y52="도비",SUM(P52:Q52),IF($W52="국도비","직접입력",SUM(P52:Q52)-AE52)) -> 0 | AG52: =IF(SUM(P52:Q52)=SUM(AE52:AF52),"OK","검토") -> OK | AK52: =IF(AI52="","",COUNTIF($AI$7:$AI$238,AI52)) | AL52: =IF(Y52="","",IF(AND(Y52="도비",AI52="세입없음"),"OK",IF(AND(Y52<>"도비",AI52<>""),"OK","@@"))) | AN52: {=IF(D52="","",INDEX(구분표!$I$2:$I$311, MATCH(1,(구분표!$E$2:$E$311='2추일출'!C52)*(구분표!$F$2:$F$311='2추일출'!D52)*(구분표!$G$2:$G$311='2추일출'!B52),0)))}
A53: =COUNTA($C$8:C53)-COUNTBLANK($C$8:C53)+2 -> 6 | B53: =IF(C53="","",MID($B$42,2,9)) | C53: =IF(D53="","",VLOOKUP(D53,구분표!$A$3:$C$215,3,)) | L53: =J53-K53 -> 0 | O53: =J53+M53+N53 -> 0 | R53: =J53+P53+Q53 -> 0 | S53: =IF(AND((O53=0),(R53>0)),"O",IF(AND((M53<0),(O53-R53<0)),"O","X")) -> X | Z53: =IF($Y53<>"도비",IF($W53="국도비","직접입력",SUM($M53:$N53)),) -> 0 | AA53: =IF($Y53="도비",SUM($M53:$N53),IF($W53="국도비","직접입력",SUM($M53:$N53)-$Z53)) -> 0 | AB53: =IF(SUM($M53:$N53)=SUM($Z53:$AA53),"OK","검토") -> OK | AE53: =IF($Y53<>"도비",IF($W53="국도비","직접입력",SUM($P53:$Q53)),) -> 0 | AF53: =IF($Y53="도비",SUM(P53:Q53),IF($W53="국도비","직접입력",SUM(P53:Q53)-AE53)) -> 0 | AG53: =IF(SUM(P53:Q53)=SUM(AE53:AF53),"OK","검토") -> OK | AK53: =IF(AI53="","",COUNTIF($AI$7:$AI$238,AI53)) | AL53: =IF(Y53="","",IF(AND(Y53="도비",AI53="세입없음"),"OK",IF(AND(Y53<>"도비",AI53<>""),"OK","@@"))) | AN53: {=IF(D53="","",INDEX(구분표!$I$2:$I$311, MATCH(1,(구분표!$E$2:$E$311='2추일출'!C53)*(구분표!$F$2:$F$311='2추일출'!D53)*(구분표!$G$2:$G$311='2추일출'!B53),0)))}
A54: =COUNTA($C$8:C54)-COUNTBLANK($C$8:C54)+2 -> 6 | B54: =IF(C54="","",MID($B$42,2,9)) | C54: =IF(D54="","",VLOOKUP(D54,구분표!$A$3:$C$215,3,)) | L54: =J54-K54 -> 0 | O54: =J54+M54+N54 -> 0 | R54: =J54+P54+Q54 -> 0 | S54: =IF(AND((O54=0),(R54>0)),"O",IF(AND((M54<0),(O54-R54<0)),"O","X")) -> X | Z54: =IF($Y54<>"도비",IF($W54="국도비","직접입력",SUM($M54:$N54)),) -> 0 | AA54: =IF($Y54="도비",SUM($M54:$N54),IF($W54="국도비","직접입력",SUM($M54:$N54)-$Z54)) -> 0 | AB54: =IF(SUM($M54:$N54)=SUM($Z54:$AA54),"OK","검토") -> OK | AE54: =IF($Y54<>"도비",IF($W54="국도비","직접입력",SUM($P54:$Q54)),) -> 0 | AF54: =IF($Y54="도비",SUM(P54:Q54),IF($W54="국도비","직접입력",SUM(P54:Q54)-AE54)) -> 0 | AG54: =IF(SUM(P54:Q54)=SUM(AE54:AF54),"OK","검토") -> OK | AK54: =IF(AI54="","",COUNTIF($AI$7:$AI$238,AI54)) | AL54: =IF(Y54="","",IF(AND(Y54="도비",AI54="세입없음"),"OK",IF(AND(Y54<>"도비",AI54<>""),"OK","@@"))) | AN54: {=IF(D54="","",INDEX(구분표!$I$2:$I$311, MATCH(1,(구분표!$E$2:$E$311='2추일출'!C54)*(구분표!$F$2:$F$311='2추일출'!D54)*(구분표!$G$2:$G$311='2추일출'!B54),0)))}
A55: =COUNTA($C$8:C55)-COUNTBLANK($C$8:C55)+2 -> 6 | B55: =IF(C55="","",MID($B$42,2,9)) | C55: =IF(D55="","",VLOOKUP(D55,구분표!$A$3:$C$215,3,)) | L55: =J55-K55 -> 0 | O55: =J55+M55+N55 -> 0 | R55: =J55+P55+Q55 -> 0 | S55: =IF(AND((O55=0),(R55>0)),"O",IF(AND((M55<0),(O55-R55<0)),"O","X")) -> X | Z55: =IF($Y55<>"도비",IF($W55="국도비","직접입력",SUM($M55:$N55)),) -> 0 | AA55: =IF($Y55="도비",SUM($M55:$N55),IF($W55="국도비","직접입력",SUM($M55:$N55)-$Z55)) -> 0 | AB55: =IF(SUM($M55:$N55)=SUM($Z55:$AA55),"OK","검토") -> OK | AE55: =IF($Y55<>"도비",IF($W55="국도비","직접입력",SUM($P55:$Q55)),) -> 0 | AF55: =IF($Y55="도비",SUM(P55:Q55),IF($W55="국도비","직접입력",SUM(P55:Q55)-AE55)) -> 0 | AG55: =IF(SUM(P55:Q55)=SUM(AE55:AF55),"OK","검토") -> OK | AK55: =IF(AI55="","",COUNTIF($AI$7:$AI$238,AI55)) | AL55: =IF(Y55="","",IF(AND(Y55="도비",AI55="세입없음"),"OK",IF(AND(Y55<>"도비",AI55<>""),"OK","@@"))) | AN55: {=IF(D55="","",INDEX(구분표!$I$2:$I$311, MATCH(1,(구분표!$E$2:$E$311='2추일출'!C55)*(구분표!$F$2:$F$311='2추일출'!D55)*(구분표!$G$2:$G$311='2추일출'!B55),0)))}
A56: =COUNTA($C$8:C56)-COUNTBLANK($C$8:C56)+2 -> 6 | B56: =IF(C56="","",MID($B$42,2,9)) | C56: =IF(D56="","",VLOOKUP(D56,구분표!$A$3:$C$215,3,)) | L56: =J56-K56 -> 0 | O56: =J56+M56+N56 -> 0 | R56: =J56+P56+Q56 -> 0 | S56: =IF(AND((O56=0),(R56>0)),"O",IF(AND((M56<0),(O56-R56<0)),"O","X")) -> X | Z56: =IF($Y56<>"도비",IF($W56="국도비","직접입력",SUM($M56:$N56)),) -> 0 | AA56: =IF($Y56="도비",SUM($M56:$N56),IF($W56="국도비","직접입력",SUM($M56:$N56)-$Z56)) -> 0 | AB56: =IF(SUM($M56:$N56)=SUM($Z56:$AA56),"OK","검토") -> OK | AE56: =IF($Y56<>"도비",IF($W56="국도비","직접입력",SUM($P56:$Q56)),) -> 0 | AF56: =IF($Y56="도비",SUM(P56:Q56),IF($W56="국도비","직접입력",SUM(P56:Q56)-AE56)) -> 0 | AG56: =IF(SUM(P56:Q56)=SUM(AE56:AF56),"OK","검토") -> OK | AK56: =IF(AI56="","",COUNTIF($AI$7:$AI$238,AI56)) | AL56: =IF(Y56="","",IF(AND(Y56="도비",AI56="세입없음"),"OK",IF(AND(Y56<>"도비",AI56<>""),"OK","@@"))) | AN56: {=IF(D56="","",INDEX(구분표!$I$2:$I$311, MATCH(1,(구분표!$E$2:$E$311='2추일출'!C56)*(구분표!$F$2:$F$311='2추일출'!D56)*(구분표!$G$2:$G$311='2추일출'!B56),0)))}
A57: =COUNTA($C$8:C57)-COUNTBLANK($C$8:C57)+2 -> 6 | B57: =IF(C57="","",MID($B$42,2,9)) | C57: =IF(D57="","",VLOOKUP(D57,구분표!$A$3:$C$215,3,)) | L57: =J57-K57 -> 0 | O57: =J57+M57+N57 -> 0 | R57: =J57+P57+Q57 -> 0 | S57: =IF(AND((O57=0),(R57>0)),"O",IF(AND((M57<0),(O57-R57<0)),"O","X")) -> X | Z57: =IF($Y57<>"도비",IF($W57="국도비","직접입력",SUM($M57:$N57)),) -> 0 | AA57: =IF($Y57="도비",SUM($M57:$N57),IF($W57="국도비","직접입력",SUM($M57:$N57)-$Z57)) -> 0 | AB57: =IF(SUM($M57:$N57)=SUM($Z57:$AA57),"OK","검토") -> OK | AE57: =IF($Y57<>"도비",IF($W57="국도비","직접입력",SUM($P57:$Q57)),) -> 0 | AF57: =IF($Y57="도비",SUM(P57:Q57),IF($W57="국도비","직접입력",SUM(P57:Q57)-AE57)) -> 0 | AG57: =IF(SUM(P57:Q57)=SUM(AE57:AF57),"OK","검토") -> OK | AK57: =IF(AI57="","",COUNTIF($AI$7:$AI$238,AI57)) | AL57: =IF(Y57="","",IF(AND(Y57="도비",AI57="세입없음"),"OK",IF(AND(Y57<>"도비",AI57<>""),"OK","@@"))) | AN57: {=IF(D57="","",INDEX(구분표!$I$2:$I$311, MATCH(1,(구분표!$E$2:$E$311='2추일출'!C57)*(구분표!$F$2:$F$311='2추일출'!D57)*(구분표!$G$2:$G$311='2추일출'!B57),0)))}
A58: =COUNTA($C$8:C58)-COUNTBLANK($C$8:C58)+2 -> 6 | B58: =IF(C58="","",MID($B$42,2,9)) | C58: =IF(D58="","",VLOOKUP(D58,구분표!$A$3:$C$215,3,)) | L58: =J58-K58 -> 0 | O58: =J58+M58+N58 -> 0 | R58: =J58+P58+Q58 -> 0 | S58: =IF(AND((O58=0),(R58>0)),"O",IF(AND((M58<0),(O58-R58<0)),"O","X")) -> X | Z58: =IF($Y58<>"도비",IF($W58="국도비","직접입력",SUM($M58:$N58)),) -> 0 | AA58: =IF($Y58="도비",SUM($M58:$N58),IF($W58="국도비","직접입력",SUM($M58:$N58)-$Z58)) -> 0 | AB58: =IF(SUM($M58:$N58)=SUM($Z58:$AA58),"OK","검토") -> OK | AE58: =IF($Y58<>"도비",IF($W58="국도비","직접입력",SUM($P58:$Q58)),) -> 0 | AF58: =IF($Y58="도비",SUM(P58:Q58),IF($W58="국도비","직접입력",SUM(P58:Q58)-AE58)) -> 0 | AG58: =IF(SUM(P58:Q58)=SUM(AE58:AF58),"OK","검토") -> OK | AK58: =IF(AI58="","",COUNTIF($AI$7:$AI$238,AI58)) | AL58: =IF(Y58="","",IF(AND(Y58="도비",AI58="세입없음"),"OK",IF(AND(Y58<>"도비",AI58<>""),"OK","@@"))) | AN58: {=IF(D58="","",INDEX(구분표!$I$2:$I$311, MATCH(1,(구분표!$E$2:$E$311='2추일출'!C58)*(구분표!$F$2:$F$311='2추일출'!D58)*(구분표!$G$2:$G$311='2추일출'!B58),0)))}
A59: =COUNTA($C$8:C59)-COUNTBLANK($C$8:C59)+2 -> 6 | B59: =IF(C59="","",MID($B$42,2,9)) | C59: =IF(D59="","",VLOOKUP(D59,구분표!$A$3:$C$215,3,)) | L59: =J59-K59 -> 0 | O59: =J59+M59+N59 -> 0 | R59: =J59+P59+Q59 -> 0 | S59: =IF(AND((O59=0),(R59>0)),"O",IF(AND((M59<0),(O59-R59<0)),"O","X")) -> X | Z59: =IF($Y59<>"도비",IF($W59="국도비","직접입력",SUM($M59:$N59)),) -> 0 | AA59: =IF($Y59="도비",SUM($M59:$N59),IF($W59="국도비","직접입력",SUM($M59:$N59)-$Z59)) -> 0 | AB59: =IF(SUM($M59:$N59)=SUM($Z59:$AA59),"OK","검토") -> OK | AE59: =IF($Y59<>"도비",IF($W59="국도비","직접입력",SUM($P59:$Q59)),) -> 0 | AF59: =IF($Y59="도비",SUM(P59:Q59),IF($W59="국도비","직접입력",SUM(P59:Q59)-AE59)) -> 0 | AG59: =IF(SUM(P59:Q59)=SUM(AE59:AF59),"OK","검토") -> OK | AK59: =IF(AI59="","",COUNTIF($AI$7:$AI$238,AI59)) | AL59: =IF(Y59="","",IF(AND(Y59="도비",AI59="세입없음"),"OK",IF(AND(Y59<>"도비",AI59<>""),"OK","@@"))) | AN59: {=IF(D59="","",INDEX(구분표!$I$2:$I$311, MATCH(1,(구분표!$E$2:$E$311='2추일출'!C59)*(구분표!$F$2:$F$311='2추일출'!D59)*(구분표!$G$2:$G$311='2추일출'!B59),0)))}
A60: =COUNTA($C$8:C60)-COUNTBLANK($C$8:C60)+2 -> 6 | B60: =IF(C60="","",MID($B$42,2,9)) | C60: =IF(D60="","",VLOOKUP(D60,구분표!$A$3:$C$215,3,)) | L60: =J60-K60 -> 0 | O60: =J60+M60+N60 -> 0 | R60: =J60+P60+Q60 -> 0 | S60: =IF(AND((O60=0),(R60>0)),"O",IF(AND((M60<0),(O60-R60<0)),"O","X")) -> X | Z60: =IF($Y60<>"도비",IF($W60="국도비","직접입력",SUM($M60:$N60)),) -> 0 | AA60: =IF($Y60="도비",SUM($M60:$N60),IF($W60="국도비","직접입력",SUM($M60:$N60)-$Z60)) -> 0 | AB60: =IF(SUM($M60:$N60)=SUM($Z60:$AA60),"OK","검토") -> OK | AE60: =IF($Y60<>"도비",IF($W60="국도비","직접입력",SUM($P60:$Q60)),) -> 0 | AF60: =IF($Y60="도비",SUM(P60:Q60),IF($W60="국도비","직접입력",SUM(P60:Q60)-AE60)) -> 0 | AG60: =IF(SUM(P60:Q60)=SUM(AE60:AF60),"OK","검토") -> OK | AK60: =IF(AI60="","",COUNTIF($AI$7:$AI$238,AI60)) | AL60: =IF(Y60="","",IF(AND(Y60="도비",AI60="세입없음"),"OK",IF(AND(Y60<>"도비",AI60<>""),"OK","@@"))) | AN60: {=IF(D60="","",INDEX(구분표!$I$2:$I$311, MATCH(1,(구분표!$E$2:$E$311='2추일출'!C60)*(구분표!$F$2:$F$311='2추일출'!D60)*(구분표!$G$2:$G$311='2추일출'!B60),0)))}
A61: =COUNTA($C$8:C61)-COUNTBLANK($C$8:C61)+2 -> 6 | B61: =IF(C61="","",MID($B$42,2,9)) | C61: =IF(D61="","",VLOOKUP(D61,구분표!$A$3:$C$215,3,)) | L61: =J61-K61 -> 0 | O61: =J61+M61+N61 -> 0 | R61: =J61+P61+Q61 -> 0 | S61: =IF(AND((O61=0),(R61>0)),"O",IF(AND((M61<0),(O61-R61<0)),"O","X")) -> X | Z61: =IF($Y61<>"도비",IF($W61="국도비","직접입력",SUM($M61:$N61)),) -> 0 | AA61: =IF($Y61="도비",SUM($M61:$N61),IF($W61="국도비","직접입력",SUM($M61:$N61)-$Z61)) -> 0 | AB61: =IF(SUM($M61:$N61)=SUM($Z61:$AA61),"OK","검토") -> OK | AE61: =IF($Y61<>"도비",IF($W61="국도비","직접입력",SUM($P61:$Q61)),) -> 0 | AF61: =IF($Y61="도비",SUM(P61:Q61),IF($W61="국도비","직접입력",SUM(P61:Q61)-AE61)) -> 0 | AG61: =IF(SUM(P61:Q61)=SUM(AE61:AF61),"OK","검토") -> OK | AK61: =IF(AI61="","",COUNTIF($AI$7:$AI$238,AI61)) | AL61: =IF(Y61="","",IF(AND(Y61="도비",AI61="세입없음"),"OK",IF(AND(Y61<>"도비",AI61<>""),"OK","@@"))) | AN61: {=IF(D61="","",INDEX(구분표!$I$2:$I$311, MATCH(1,(구분표!$E$2:$E$311='2추일출'!C61)*(구분표!$F$2:$F$311='2추일출'!D61)*(구분표!$G$2:$G$311='2추일출'!B61),0)))}
... A73: =COUNTA($C$8:C73)-COUNTBLANK($C$8:C73)+2 -> 6 | B73: =IF(C73="","",MID($B$42,2,9)) | C73: =IF(D73="","",VLOOKUP(D73,구분표!$A$3:$C$215,3,)) | L73: =J73-K73 -> 0 | O73: =J73+M73+N73 -> 0 | R73: =J73+P73+Q73 -> 0 | S73: =IF(AND((O73=0),(R73>0)),"O",IF(AND((M73<0),(O73-R73<0)),"O","X")) -> X | Z73: =IF($Y73<>"도비",IF($W73="국도비","직접입력",SUM($M73:$N73)),) -> 0 | AA73: =IF($Y73="도비",SUM($M73:$N73),IF($W73="국도비","직접입력",SUM($M73:$N73)-$Z73)) -> 0 | AB73: =IF(SUM($M73:$N73)=SUM($Z73:$AA73),"OK","검토") -> OK | AE73: =IF($Y73<>"도비",IF($W73="국도비","직접입력",SUM($P73:$Q73)),) -> 0 | AF73: =IF($Y73="도비",SUM(P73:Q73),IF($W73="국도비","직접입력",SUM(P73:Q73)-AE73)) -> 0 | AG73: =IF(SUM(P73:Q73)=SUM(AE73:AF73),"OK","검토") -> OK | AK73: =IF(AI73="","",COUNTIF($AI$7:$AI$238,AI73)) | AL73: =IF(Y73="","",IF(AND(Y73="도비",AI73="세입없음"),"OK",IF(AND(Y73<>"도비",AI73<>""),"OK","@@"))) | AN73: {=IF(D73="","",INDEX(구분표!$I$2:$I$311, MATCH(1,(구분표!$E$2:$E$311='2추일출'!C73)*(구분표!$F$2:$F$311='2추일출'!D73)*(구분표!$G$2:$G$311='2추일출'!B73),0)))}
B74: (안전행정위원회) | J74: =SUBTOTAL(9,J75:J85) -> 0 | K74: =SUBTOTAL(9,K75:K85) -> 0 | L74: =SUBTOTAL(9,L75:L85) -> 0 | M74: =SUBTOTAL(9,M75:M85) -> 0 | N74: =SUBTOTAL(9,N75:N85) -> 0 | O74: =SUBTOTAL(9,O75:O85) -> 0 | P74: =SUBTOTAL(9,P75:P85) -> 0 | Q74: =SUBTOTAL(9,Q75:Q85) -> 0 | R74: =SUBTOTAL(9,R75:R85) -> 0
A75: =COUNTA($C$8:C75)-COUNTBLANK($C$8:C75)+3 -> 6 | B75: =IF(C75="","",MID($B$74,2,7)) | C75: =IF(D75="","",VLOOKUP(D75,구분표!$A$3:$C$215,3,)) | L75: =J75-K75 -> 0 | O75: =J75+M75+N75 -> 0 | R75: =J75+P75+Q75 -> 0 | S75: =IF(AND((O75=0),(R75>0)),"O",IF(AND((M75<0),(O75-R75<0)),"O","X")) -> X | Z75: =IF($Y75<>"도비",IF($W75="국도비","직접입력",SUM($M75:$N75)),) -> 0 | AA75: =IF($Y75="도비",SUM($M75:$N75),IF($W75="국도비","직접입력",SUM($M75:$N75)-$Z75)) -> 0 | AB75: =IF(SUM($M75:$N75)=SUM($Z75:$AA75),"OK","검토") -> OK | AE75: =IF($Y75<>"도비",IF($W75="국도비","직접입력",SUM($P75:$Q75)),) -> 0 | AF75: =IF($Y75="도비",SUM(P75:Q75),IF($W75="국도비","직접입력",SUM(P75:Q75)-AE75)) -> 0 | AG75: =IF(SUM(P75:Q75)=SUM(AE75:AF75),"OK","검토") -> OK | AK75: =IF(AI75="","",COUNTIF($AI$7:$AI$238,AI75)) | AL75: =IF(Y75="","",IF(AND(Y75="도비",AI75="세입없음"),"OK",IF(AND(Y75<>"도비",AI75<>""),"OK","@@"))) | AN75: {=IF(D75="","",INDEX(구분표!$I$2:$I$311, MATCH(1,(구분표!$E$2:$E$311='2추일출'!C75)*(구분표!$F$2:$F$311='2추일출'!D75)*(구분표!$G$2:$G$311='2추일출'!B75),0)))}
A76: =COUNTA($C$8:C76)-COUNTBLANK($C$8:C76)+3 -> 6 | B76: =IF(C76="","",MID($B$74,2,7)) | C76: =IF(D76="","",VLOOKUP(D76,구분표!$A$3:$C$215,3,)) | L76: =J76-K76 -> 0 | O76: =J76+M76+N76 -> 0 | R76: =J76+P76+Q76 -> 0 | S76: =IF(AND((O76=0),(R76>0)),"O",IF(AND((M76<0),(O76-R76<0)),"O","X")) -> X | Z76: =IF($Y76<>"도비",IF($W76="국도비","직접입력",SUM($M76:$N76)),) -> 0 | AA76: =IF($Y76="도비",SUM($M76:$N76),IF($W76="국도비","직접입력",SUM($M76:$N76)-$Z76)) -> 0 | AB76: =IF(SUM($M76:$N76)=SUM($Z76:$AA76),"OK","검토") -> OK | AE76: =IF($Y76<>"도비",IF($W76="국도비","직접입력",SUM($P76:$Q76)),) -> 0 | AF76: =IF($Y76="도비",SUM(P76:Q76),IF($W76="국도비","직접입력",SUM(P76:Q76)-AE76)) -> 0 | AG76: =IF(SUM(P76:Q76)=SUM(AE76:AF76),"OK","검토") -> OK | AK76: =IF(AI76="","",COUNTIF($AI$7:$AI$238,AI76)) | AL76: =IF(Y76="","",IF(AND(Y76="도비",AI76="세입없음"),"OK",IF(AND(Y76<>"도비",AI76<>""),"OK","@@"))) | AN76: {=IF(D76="","",INDEX(구분표!$I$2:$I$311, MATCH(1,(구분표!$E$2:$E$311='2추일출'!C76)*(구분표!$F$2:$F$311='2추일출'!D76)*(구분표!$G$2:$G$311='2추일출'!B76),0)))}
A77: =COUNTA($C$8:C77)-COUNTBLANK($C$8:C77)+3 -> 6 | B77: =IF(C77="","",MID($B$74,2,7)) | C77: =IF(D77="","",VLOOKUP(D77,구분표!$A$3:$C$215,3,)) | L77: =J77-K77 -> 0 | O77: =J77+M77+N77 -> 0 | R77: =J77+P77+Q77 -> 0 | S77: =IF(AND((O77=0),(R77>0)),"O",IF(AND((M77<0),(O77-R77<0)),"O","X")) -> X | Z77: =IF($Y77<>"도비",IF($W77="국도비","직접입력",SUM($M77:$N77)),) -> 0 | AA77: =IF($Y77="도비",SUM($M77:$N77),IF($W77="국도비","직접입력",SUM($M77:$N77)-$Z77)) -> 0 | AB77: =IF(SUM($M77:$N77)=SUM($Z77:$AA77),"OK","검토") -> OK | AE77: =IF($Y77<>"도비",IF($W77="국도비","직접입력",SUM($P77:$Q77)),) -> 0 | AF77: =IF($Y77="도비",SUM(P77:Q77),IF($W77="국도비","직접입력",SUM(P77:Q77)-AE77)) -> 0 | AG77: =IF(SUM(P77:Q77)=SUM(AE77:AF77),"OK","검토") -> OK | AK77: =IF(AI77="","",COUNTIF($AI$7:$AI$238,AI77)) | AL77: =IF(Y77="","",IF(AND(Y77="도비",AI77="세입없음"),"OK",IF(AND(Y77<>"도비",AI77<>""),"OK","@@"))) | AN77: {=IF(D77="","",INDEX(구분표!$I$2:$I$311, MATCH(1,(구분표!$E$2:$E$311='2추일출'!C77)*(구분표!$F$2:$F$311='2추일출'!D77)*(구분표!$G$2:$G$311='2추일출'!B77),0)))}
A78: =COUNTA($C$8:C78)-COUNTBLANK($C$8:C78)+3 -> 6 | B78: =IF(C78="","",MID($B$74,2,7)) | C78: =IF(D78="","",VLOOKUP(D78,구분표!$A$3:$C$215,3,)) | L78: =J78-K78 -> 0 | O78: =J78+M78+N78 -> 0 | R78: =J78+P78+Q78 -> 0 | S78: =IF(AND((O78=0),(R78>0)),"O",IF(AND((M78<0),(O78-R78<0)),"O","X")) -> X | Z78: =IF($Y78<>"도비",IF($W78="국도비","직접입력",SUM($M78:$N78)),) -> 0 | AA78: =IF($Y78="도비",SUM($M78:$N78),IF($W78="국도비","직접입력",SUM($M78:$N78)-$Z78)) -> 0 | AB78: =IF(SUM($M78:$N78)=SUM($Z78:$AA78),"OK","검토") -> OK | AE78: =IF($Y78<>"도비",IF($W78="국도비","직접입력",SUM($P78:$Q78)),) -> 0 | AF78: =IF($Y78="도비",SUM(P78:Q78),IF($W78="국도비","직접입력",SUM(P78:Q78)-AE78)) -> 0 | AG78: =IF(SUM(P78:Q78)=SUM(AE78:AF78),"OK","검토") -> OK | AK78: =IF(AI78="","",COUNTIF($AI$7:$AI$238,AI78)) | AL78: =IF(Y78="","",IF(AND(Y78="도비",AI78="세입없음"),"OK",IF(AND(Y78<>"도비",AI78<>""),"OK","@@"))) | AN78: {=IF(D78="","",INDEX(구분표!$I$2:$I$311, MATCH(1,(구분표!$E$2:$E$311='2추일출'!C78)*(구분표!$F$2:$F$311='2추일출'!D78)*(구분표!$G$2:$G$311='2추일출'!B78),0)))}
A79: =COUNTA($C$8:C79)-COUNTBLANK($C$8:C79)+3 -> 6 | B79: =IF(C79="","",MID($B$74,2,7)) | C79: =IF(D79="","",VLOOKUP(D79,구분표!$A$3:$C$215,3,)) | L79: =J79-K79 -> 0 | O79: =J79+M79+N79 -> 0 | R79: =J79+P79+Q79 -> 0 | S79: =IF(AND((O79=0),(R79>0)),"O",IF(AND((M79<0),(O79-R79<0)),"O","X")) -> X | Z79: =IF($Y79<>"도비",IF($W79="국도비","직접입력",SUM($M79:$N79)),) -> 0 | AA79: =IF($Y79="도비",SUM($M79:$N79),IF($W79="국도비","직접입력",SUM($M79:$N79)-$Z79)) -> 0 | AB79: =IF(SUM($M79:$N79)=SUM($Z79:$AA79),"OK","검토") -> OK | AE79: =IF($Y79<>"도비",IF($W79="국도비","직접입력",SUM($P79:$Q79)),) -> 0 | AF79: =IF($Y79="도비",SUM(P79:Q79),IF($W79="국도비","직접입력",SUM(P79:Q79)-AE79)) -> 0 | AG79: =IF(SUM(P79:Q79)=SUM(AE79:AF79),"OK","검토") -> OK | AK79: =IF(AI79="","",COUNTIF($AI$7:$AI$238,AI79)) | AL79: =IF(Y79="","",IF(AND(Y79="도비",AI79="세입없음"),"OK",IF(AND(Y79<>"도비",AI79<>""),"OK","@@"))) | AN79: {=IF(D79="","",INDEX(구분표!$I$2:$I$311, MATCH(1,(구분표!$E$2:$E$311='2추일출'!C79)*(구분표!$F$2:$F$311='2추일출'!D79)*(구분표!$G$2:$G$311='2추일출'!B79),0)))}
A80: =COUNTA($C$8:C80)-COUNTBLANK($C$8:C80)+3 -> 6 | B80: =IF(C80="","",MID($B$74,2,7)) | C80: =IF(D80="","",VLOOKUP(D80,구분표!$A$3:$C$215,3,)) | L80: =J80-K80 -> 0 | O80: =J80+M80+N80 -> 0 | R80: =J80+P80+Q80 -> 0 | S80: =IF(AND((O80=0),(R80>0)),"O",IF(AND((M80<0),(O80-R80<0)),"O","X")) -> X | Z80: =IF($Y80<>"도비",IF($W80="국도비","직접입력",SUM($M80:$N80)),) -> 0 | AA80: =IF($Y80="도비",SUM($M80:$N80),IF($W80="국도비","직접입력",SUM($M80:$N80)-$Z80)) -> 0 | AB80: =IF(SUM($M80:$N80)=SUM($Z80:$AA80),"OK","검토") -> OK | AE80: =IF($Y80<>"도비",IF($W80="국도비","직접입력",SUM($P80:$Q80)),) -> 0 | AF80: =IF($Y80="도비",SUM(P80:Q80),IF($W80="국도비","직접입력",SUM(P80:Q80)-AE80)) -> 0 | AG80: =IF(SUM(P80:Q80)=SUM(AE80:AF80),"OK","검토") -> OK | AK80: =IF(AI80="","",COUNTIF($AI$7:$AI$238,AI80)) | AL80: =IF(Y80="","",IF(AND(Y80="도비",AI80="세입없음"),"OK",IF(AND(Y80<>"도비",AI80<>""),"OK","@@"))) | AN80: {=IF(D80="","",INDEX(구분표!$I$2:$I$311, MATCH(1,(구분표!$E$2:$E$311='2추일출'!C80)*(구분표!$F$2:$F$311='2추일출'!D80)*(구분표!$G$2:$G$311='2추일출'!B80),0)))}
A81: =COUNTA($C$8:C81)-COUNTBLANK($C$8:C81)+3 -> 6 | B81: =IF(C81="","",MID($B$74,2,7)) | C81: =IF(D81="","",VLOOKUP(D81,구분표!$A$3:$C$215,3,)) | L81: =J81-K81 -> 0 | O81: =J81+M81+N81 -> 0 | R81: =J81+P81+Q81 -> 0 | S81: =IF(AND((O81=0),(R81>0)),"O",IF(AND((M81<0),(O81-R81<0)),"O","X")) -> X | Z81: =IF($Y81<>"도비",IF($W81="국도비","직접입력",SUM($M81:$N81)),) -> 0 | AA81: =IF($Y81="도비",SUM($M81:$N81),IF($W81="국도비","직접입력",SUM($M81:$N81)-$Z81)) -> 0 | AB81: =IF(SUM($M81:$N81)=SUM($Z81:$AA81),"OK","검토") -> OK | AE81: =IF($Y81<>"도비",IF($W81="국도비","직접입력",SUM($P81:$Q81)),) -> 0 | AF81: =IF($Y81="도비",SUM(P81:Q81),IF($W81="국도비","직접입력",SUM(P81:Q81)-AE81)) -> 0 | AG81: =IF(SUM(P81:Q81)=SUM(AE81:AF81),"OK","검토") -> OK | AK81: =IF(AI81="","",COUNTIF($AI$7:$AI$238,AI81)) | AL81: =IF(Y81="","",IF(AND(Y81="도비",AI81="세입없음"),"OK",IF(AND(Y81<>"도비",AI81<>""),"OK","@@"))) | AN81: {=IF(D81="","",INDEX(구분표!$I$2:$I$311, MATCH(1,(구분표!$E$2:$E$311='2추일출'!C81)*(구분표!$F$2:$F$311='2추일출'!D81)*(구분표!$G$2:$G$311='2추일출'!B81),0)))}
A82: =COUNTA($C$8:C82)-COUNTBLANK($C$8:C82)+3 -> 6 | B82: =IF(C82="","",MID($B$74,2,7)) | C82: =IF(D82="","",VLOOKUP(D82,구분표!$A$3:$C$215,3,)) | L82: =J82-K82 -> 0 | O82: =J82+M82+N82 -> 0 | R82: =J82+P82+Q82 -> 0 | S82: =IF(AND((O82=0),(R82>0)),"O",IF(AND((M82<0),(O82-R82<0)),"O","X")) -> X | Z82: =IF($Y82<>"도비",IF($W82="국도비","직접입력",SUM($M82:$N82)),) -> 0 | AA82: =IF($Y82="도비",SUM($M82:$N82),IF($W82="국도비","직접입력",SUM($M82:$N82)-$Z82)) -> 0 | AB82: =IF(SUM($M82:$N82)=SUM($Z82:$AA82),"OK","검토") -> OK | AE82: =IF($Y82<>"도비",IF($W82="국도비","직접입력",SUM($P82:$Q82)),) -> 0 | AF82: =IF($Y82="도비",SUM(P82:Q82),IF($W82="국도비","직접입력",SUM(P82:Q82)-AE82)) -> 0 | AG82: =IF(SUM(P82:Q82)=SUM(AE82:AF82),"OK","검토") -> OK | AK82: =IF(AI82="","",COUNTIF($AI$7:$AI$238,AI82)) | AL82: =IF(Y82="","",IF(AND(Y82="도비",AI82="세입없음"),"OK",IF(AND(Y82<>"도비",AI82<>""),"OK","@@"))) | AN82: {=IF(D82="","",INDEX(구분표!$I$2:$I$311, MATCH(1,(구분표!$E$2:$E$311='2추일출'!C82)*(구분표!$F$2:$F$311='2추일출'!D82)*(구분표!$G$2:$G$311='2추일출'!B82),0)))}
A83: =COUNTA($C$8:C83)-COUNTBLANK($C$8:C83)+3 -> 6 | B83: =IF(C83="","",MID($B$74,2,7)) | C83: =IF(D83="","",VLOOKUP(D83,구분표!$A$3:$C$215,3,)) | L83: =J83-K83 -> 0 | O83: =J83+M83+N83 -> 0 | R83: =J83+P83+Q83 -> 0 | S83: =IF(AND((O83=0),(R83>0)),"O",IF(AND((M83<0),(O83-R83<0)),"O","X")) -> X | Z83: =IF($Y83<>"도비",IF($W83="국도비","직접입력",SUM($M83:$N83)),) -> 0 | AA83: =IF($Y83="도비",SUM($M83:$N83),IF($W83="국도비","직접입력",SUM($M83:$N83)-$Z83)) -> 0 | AB83: =IF(SUM($M83:$N83)=SUM($Z83:$AA83),"OK","검토") -> OK | AE83: =IF($Y83<>"도비",IF($W83="국도비","직접입력",SUM($P83:$Q83)),) -> 0 | AF83: =IF($Y83="도비",SUM(P83:Q83),IF($W83="국도비","직접입력",SUM(P83:Q83)-AE83)) -> 0 | AG83: =IF(SUM(P83:Q83)=SUM(AE83:AF83),"OK","검토") -> OK | AK83: =IF(AI83="","",COUNTIF($AI$7:$AI$238,AI83)) | AL83: =IF(Y83="","",IF(AND(Y83="도비",AI83="세입없음"),"OK",IF(AND(Y83<>"도비",AI83<>""),"OK","@@"))) | AN83: {=IF(D83="","",INDEX(구분표!$I$2:$I$311, MATCH(1,(구분표!$E$2:$E$311='2추일출'!C83)*(구분표!$F$2:$F$311='2추일출'!D83)*(구분표!$G$2:$G$311='2추일출'!B83),0)))}
A84: =COUNTA($C$8:C84)-COUNTBLANK($C$8:C84)+3 -> 6 | B84: =IF(C84="","",MID($B$74,2,7)) | C84: =IF(D84="","",VLOOKUP(D84,구분표!$A$3:$C$215,3,)) | L84: =J84-K84 -> 0 | O84: =J84+M84+N84 -> 0 | R84: =J84+P84+Q84 -> 0 | S84: =IF(AND((O84=0),(R84>0)),"O",IF(AND((M84<0),(O84-R84<0)),"O","X")) -> X | Z84: =IF($Y84<>"도비",IF($W84="국도비","직접입력",SUM($M84:$N84)),) -> 0 | AA84: =IF($Y84="도비",SUM($M84:$N84),IF($W84="국도비","직접입력",SUM($M84:$N84)-$Z84)) -> 0 | AB84: =IF(SUM($M84:$N84)=SUM($Z84:$AA84),"OK","검토") -> OK | AE84: =IF($Y84<>"도비",IF($W84="국도비","직접입력",SUM($P84:$Q84)),) -> 0 | AF84: =IF($Y84="도비",SUM(P84:Q84),IF($W84="국도비","직접입력",SUM(P84:Q84)-AE84)) -> 0 | AG84: =IF(SUM(P84:Q84)=SUM(AE84:AF84),"OK","검토") -> OK | AK84: =IF(AI84="","",COUNTIF($AI$7:$AI$238,AI84)) | AL84: =IF(Y84="","",IF(AND(Y84="도비",AI84="세입없음"),"OK",IF(AND(Y84<>"도비",AI84<>""),"OK","@@"))) | AN84: {=IF(D84="","",INDEX(구분표!$I$2:$I$311, MATCH(1,(구분표!$E$2:$E$311='2추일출'!C84)*(구분표!$F$2:$F$311='2추일출'!D84)*(구분표!$G$2:$G$311='2추일출'!B84),0)))}
A85: =COUNTA($C$8:C85)-COUNTBLANK($C$8:C85)+3 -> 6 | B85: =IF(C85="","",MID($B$74,2,7)) | C85: =IF(D85="","",VLOOKUP(D85,구분표!$A$3:$C$215,3,)) | L85: =J85-K85 -> 0 | O85: =J85+M85+N85 -> 0 | R85: =J85+P85+Q85 -> 0 | S85: =IF(AND((O85=0),(R85>0)),"O",IF(AND((M85<0),(O85-R85<0)),"O","X")) -> X | Z85: =IF($Y85<>"도비",IF($W85="국도비","직접입력",SUM($M85:$N85)),) -> 0 | AA85: =IF($Y85="도비",SUM($M85:$N85),IF($W85="국도비","직접입력",SUM($M85:$N85)-$Z85)) -> 0 | AB85: =IF(SUM($M85:$N85)=SUM($Z85:$AA85),"OK","검토") -> OK | AE85: =IF($Y85<>"도비",IF($W85="국도비","직접입력",SUM($P85:$Q85)),) -> 0 | AF85: =IF($Y85="도비",SUM(P85:Q85),IF($W85="국도비","직접입력",SUM(P85:Q85)-AE85)) -> 0 | AG85: =IF(SUM(P85:Q85)=SUM(AE85:AF85),"OK","검토") -> OK | AK85: =IF(AI85="","",COUNTIF($AI$7:$AI$238,AI85)) | AL85: =IF(Y85="","",IF(AND(Y85="도비",AI85="세입없음"),"OK",IF(AND(Y85<>"도비",AI85<>""),"OK","@@"))) | AN85: {=IF(D85="","",INDEX(구분표!$I$2:$I$311, MATCH(1,(구분표!$E$2:$E$311='2추일출'!C85)*(구분표!$F$2:$F$311='2추일출'!D85)*(구분표!$G$2:$G$311='2추일출'!B85),0)))}
B86: (문화체육관광위원회) | J86: =SUBTOTAL(9,J87:J109) -> 0 | K86: =SUBTOTAL(9,K87:K109) -> 0 | L86: =SUBTOTAL(9,L87:L109) -> 0 | M86: =SUBTOTAL(9,M87:M109) -> 0 | N86: =SUBTOTAL(9,N87:N109) -> 0 | O86: =SUBTOTAL(9,O87:O109) -> 0 | P86: =SUBTOTAL(9,P87:P109) -> 0 | Q86: =SUBTOTAL(9,Q87:Q109) -> 0 | R86: =SUBTOTAL(9,R87:R109) -> 0
A87: =COUNTA($C$8:C87)-COUNTBLANK($C$8:C87)+4 -> 6 | B87: =IF(C87="","",MID($B$86,2,9)) | C87: =IF(D87="","",VLOOKUP(D87,구분표!$A$3:$C$215,3,)) | L87: =J87-K87 -> 0 | O87: =J87+M87+N87 -> 0 | R87: =J87+P87+Q87 -> 0 | S87: =IF(AND((O87=0),(R87>0)),"O",IF(AND((M87<0),(O87-R87<0)),"O","X")) -> X | Z87: =IF($Y87<>"도비",IF($W87="국도비","직접입력",SUM($M87:$N87)),) -> 0 | AA87: =IF($Y87="도비",SUM($M87:$N87),IF($W87="국도비","직접입력",SUM($M87:$N87)-$Z87)) -> 0 | AB87: =IF(SUM($M87:$N87)=SUM($Z87:$AA87),"OK","검토") -> OK | AE87: =IF($Y87<>"도비",IF($W87="국도비","직접입력",SUM($P87:$Q87)),) -> 0 | AF87: =IF($Y87="도비",SUM(P87:Q87),IF($W87="국도비","직접입력",SUM(P87:Q87)-AE87)) -> 0 | AG87: =IF(SUM(P87:Q87)=SUM(AE87:AF87),"OK","검토") -> OK | AK87: =IF(AI87="","",COUNTIF($AI$7:$AI$238,AI87)) | AL87: =IF(Y87="","",IF(AND(Y87="도비",AI87="세입없음"),"OK",IF(AND(Y87<>"도비",AI87<>""),"OK","@@"))) | AN87: {=IF(D87="","",INDEX(구분표!$I$2:$I$311, MATCH(1,(구분표!$E$2:$E$311='2추일출'!C87)*(구분표!$F$2:$F$311='2추일출'!D87)*(구분표!$G$2:$G$311='2추일출'!B87),0)))}
A88: =COUNTA($C$8:C88)-COUNTBLANK($C$8:C88)+4 -> 6 | B88: =IF(C88="","",MID($B$86,2,9)) | C88: =IF(D88="","",VLOOKUP(D88,구분표!$A$3:$C$215,3,)) | L88: =J88-K88 -> 0 | O88: =J88+M88+N88 -> 0 | R88: =J88+P88+Q88 -> 0 | S88: =IF(AND((O88=0),(R88>0)),"O",IF(AND((M88<0),(O88-R88<0)),"O","X")) -> X | Z88: =IF($Y88<>"도비",IF($W88="국도비","직접입력",SUM($M88:$N88)),) -> 0 | AA88: =IF($Y88="도비",SUM($M88:$N88),IF($W88="국도비","직접입력",SUM($M88:$N88)-$Z88)) -> 0 | AB88: =IF(SUM($M88:$N88)=SUM($Z88:$AA88),"OK","검토") -> OK | AE88: =IF($Y88<>"도비",IF($W88="국도비","직접입력",SUM($P88:$Q88)),) -> 0 | AF88: =IF($Y88="도비",SUM(P88:Q88),IF($W88="국도비","직접입력",SUM(P88:Q88)-AE88)) -> 0 | AG88: =IF(SUM(P88:Q88)=SUM(AE88:AF88),"OK","검토") -> OK | AK88: =IF(AI88="","",COUNTIF($AI$7:$AI$238,AI88)) | AL88: =IF(Y88="","",IF(AND(Y88="도비",AI88="세입없음"),"OK",IF(AND(Y88<>"도비",AI88<>""),"OK","@@"))) | AN88: {=IF(D88="","",INDEX(구분표!$I$2:$I$311, MATCH(1,(구분표!$E$2:$E$311='2추일출'!C88)*(구분표!$F$2:$F$311='2추일출'!D88)*(구분표!$G$2:$G$311='2추일출'!B88),0)))}
A89: =COUNTA($C$8:C89)-COUNTBLANK($C$8:C89)+4 -> 6 | B89: =IF(C89="","",MID($B$86,2,9)) | C89: =IF(D89="","",VLOOKUP(D89,구분표!$A$3:$C$215,3,)) | L89: =J89-K89 -> 0 | O89: =J89+M89+N89 -> 0 | R89: =J89+P89+Q89 -> 0 | S89: =IF(AND((O89=0),(R89>0)),"O",IF(AND((M89<0),(O89-R89<0)),"O","X")) -> X | Z89: =IF($Y89<>"도비",IF($W89="국도비","직접입력",SUM($M89:$N89)),) -> 0 | AA89: =IF($Y89="도비",SUM($M89:$N89),IF($W89="국도비","직접입력",SUM($M89:$N89)-$Z89)) -> 0 | AB89: =IF(SUM($M89:$N89)=SUM($Z89:$AA89),"OK","검토") -> OK | AE89: =IF($Y89<>"도비",IF($W89="국도비","직접입력",SUM($P89:$Q89)),) -> 0 | AF89: =IF($Y89="도비",SUM(P89:Q89),IF($W89="국도비","직접입력",SUM(P89:Q89)-AE89)) -> 0 | AG89: =IF(SUM(P89:Q89)=SUM(AE89:AF89),"OK","검토") -> OK | AK89: =IF(AI89="","",COUNTIF($AI$7:$AI$238,AI89)) | AL89: =IF(Y89="","",IF(AND(Y89="도비",AI89="세입없음"),"OK",IF(AND(Y89<>"도비",AI89<>""),"OK","@@"))) | AN89: {=IF(D89="","",INDEX(구분표!$I$2:$I$311, MATCH(1,(구분표!$E$2:$E$311='2추일출'!C89)*(구분표!$F$2:$F$311='2추일출'!D89)*(구분표!$G$2:$G$311='2추일출'!B89),0)))}
A90: =COUNTA($C$8:C90)-COUNTBLANK($C$8:C90)+4 -> 6 | B90: =IF(C90="","",MID($B$86,2,9)) | C90: =IF(D90="","",VLOOKUP(D90,구분표!$A$3:$C$215,3,)) | L90: =J90-K90 -> 0 | O90: =J90+M90+N90 -> 0 | R90: =J90+P90+Q90 -> 0 | S90: =IF(AND((O90=0),(R90>0)),"O",IF(AND((M90<0),(O90-R90<0)),"O","X")) -> X | Z90: =IF($Y90<>"도비",IF($W90="국도비","직접입력",SUM($M90:$N90)),) -> 0 | AA90: =IF($Y90="도비",SUM($M90:$N90),IF($W90="국도비","직접입력",SUM($M90:$N90)-$Z90)) -> 0 | AB90: =IF(SUM($M90:$N90)=SUM($Z90:$AA90),"OK","검토") -> OK | AE90: =IF($Y90<>"도비",IF($W90="국도비","직접입력",SUM($P90:$Q90)),) -> 0 | AF90: =IF($Y90="도비",SUM(P90:Q90),IF($W90="국도비","직접입력",SUM(P90:Q90)-AE90)) -> 0 | AG90: =IF(SUM(P90:Q90)=SUM(AE90:AF90),"OK","검토") -> OK | AK90: =IF(AI90="","",COUNTIF($AI$7:$AI$238,AI90)) | AL90: =IF(Y90="","",IF(AND(Y90="도비",AI90="세입없음"),"OK",IF(AND(Y90<>"도비",AI90<>""),"OK","@@"))) | AN90: {=IF(D90="","",INDEX(구분표!$I$2:$I$311, MATCH(1,(구분표!$E$2:$E$311='2추일출'!C90)*(구분표!$F$2:$F$311='2추일출'!D90)*(구분표!$G$2:$G$311='2추일출'!B90),0)))}
A91: =COUNTA($C$8:C91)-COUNTBLANK($C$8:C91)+4 -> 6 | B91: =IF(C91="","",MID($B$86,2,9)) | C91: =IF(D91="","",VLOOKUP(D91,구분표!$A$3:$C$215,3,)) | L91: =J91-K91 -> 0 | O91: =J91+M91+N91 -> 0 | R91: =J91+P91+Q91 -> 0 | S91: =IF(AND((O91=0),(R91>0)),"O",IF(AND((M91<0),(O91-R91<0)),"O","X")) -> X | Z91: =IF($Y91<>"도비",IF($W91="국도비","직접입력",SUM($M91:$N91)),) -> 0 | AA91: =IF($Y91="도비",SUM($M91:$N91),IF($W91="국도비","직접입력",SUM($M91:$N91)-$Z91)) -> 0 | AB91: =IF(SUM($M91:$N91)=SUM($Z91:$AA91),"OK","검토") -> OK | AE91: =IF($Y91<>"도비",IF($W91="국도비","직접입력",SUM($P91:$Q91)),) -> 0 | AF91: =IF($Y91="도비",SUM(P91:Q91),IF($W91="국도비","직접입력",SUM(P91:Q91)-AE91)) -> 0 | AG91: =IF(SUM(P91:Q91)=SUM(AE91:AF91),"OK","검토") -> OK | AK91: =IF(AI91="","",COUNTIF($AI$7:$AI$238,AI91)) | AL91: =IF(Y91="","",IF(AND(Y91="도비",AI91="세입없음"),"OK",IF(AND(Y91<>"도비",AI91<>""),"OK","@@"))) | AN91: {=IF(D91="","",INDEX(구분표!$I$2:$I$311, MATCH(1,(구분표!$E$2:$E$311='2추일출'!C91)*(구분표!$F$2:$F$311='2추일출'!D91)*(구분표!$G$2:$G$311='2추일출'!B91),0)))}
A92: =COUNTA($C$8:C92)-COUNTBLANK($C$8:C92)+4 -> 6 | B92: =IF(C92="","",MID($B$86,2,9)) | C92: =IF(D92="","",VLOOKUP(D92,구분표!$A$3:$C$215,3,)) | L92: =J92-K92 -> 0 | O92: =J92+M92+N92 -> 0 | R92: =J92+P92+Q92 -> 0 | S92: =IF(AND((O92=0),(R92>0)),"O",IF(AND((M92<0),(O92-R92<0)),"O","X")) -> X | Z92: =IF($Y92<>"도비",IF($W92="국도비","직접입력",SUM($M92:$N92)),) -> 0 | AA92: =IF($Y92="도비",SUM($M92:$N92),IF($W92="국도비","직접입력",SUM($M92:$N92)-$Z92)) -> 0 | AB92: =IF(SUM($M92:$N92)=SUM($Z92:$AA92),"OK","검토") -> OK | AE92: =IF($Y92<>"도비",IF($W92="국도비","직접입력",SUM($P92:$Q92)),) -> 0 | AF92: =IF($Y92="도비",SUM(P92:Q92),IF($W92="국도비","직접입력",SUM(P92:Q92)-AE92)) -> 0 | AG92: =IF(SUM(P92:Q92)=SUM(AE92:AF92),"OK","검토") -> OK | AK92: =IF(AI92="","",COUNTIF($AI$7:$AI$238,AI92)) | AL92: =IF(Y92="","",IF(AND(Y92="도비",AI92="세입없음"),"OK",IF(AND(Y92<>"도비",AI92<>""),"OK","@@"))) | AN92: {=IF(D92="","",INDEX(구분표!$I$2:$I$311, MATCH(1,(구분표!$E$2:$E$311='2추일출'!C92)*(구분표!$F$2:$F$311='2추일출'!D92)*(구분표!$G$2:$G$311='2추일출'!B92),0)))}
A93: =COUNTA($C$8:C93)-COUNTBLANK($C$8:C93)+4 -> 6 | B93: =IF(C93="","",MID($B$86,2,9)) | C93: =IF(D93="","",VLOOKUP(D93,구분표!$A$3:$C$215,3,)) | L93: =J93-K93 -> 0 | O93: =J93+M93+N93 -> 0 | R93: =J93+P93+Q93 -> 0 | S93: =IF(AND((O93=0),(R93>0)),"O",IF(AND((M93<0),(O93-R93<0)),"O","X")) -> X | Z93: =IF($Y93<>"도비",IF($W93="국도비","직접입력",SUM($M93:$N93)),) -> 0 | AA93: =IF($Y93="도비",SUM($M93:$N93),IF($W93="국도비","직접입력",SUM($M93:$N93)-$Z93)) -> 0 | AB93: =IF(SUM($M93:$N93)=SUM($Z93:$AA93),"OK","검토") -> OK | AE93: =IF($Y93<>"도비",IF($W93="국도비","직접입력",SUM($P93:$Q93)),) -> 0 | AF93: =IF($Y93="도비",SUM(P93:Q93),IF($W93="국도비","직접입력",SUM(P93:Q93)-AE93)) -> 0 | AG93: =IF(SUM(P93:Q93)=SUM(AE93:AF93),"OK","검토") -> OK | AK93: =IF(AI93="","",COUNTIF($AI$7:$AI$238,AI93)) | AL93: =IF(Y93="","",IF(AND(Y93="도비",AI93="세입없음"),"OK",IF(AND(Y93<>"도비",AI93<>""),"OK","@@"))) | AN93: {=IF(D93="","",INDEX(구분표!$I$2:$I$311, MATCH(1,(구분표!$E$2:$E$311='2추일출'!C93)*(구분표!$F$2:$F$311='2추일출'!D93)*(구분표!$G$2:$G$311='2추일출'!B93),0)))}
A94: =COUNTA($C$8:C94)-COUNTBLANK($C$8:C94)+4 -> 6 | B94: =IF(C94="","",MID($B$86,2,9)) | C94: =IF(D94="","",VLOOKUP(D94,구분표!$A$3:$C$215,3,)) | L94: =J94-K94 -> 0 | O94: =J94+M94+N94 -> 0 | R94: =J94+P94+Q94 -> 0 | S94: =IF(AND((O94=0),(R94>0)),"O",IF(AND((M94<0),(O94-R94<0)),"O","X")) -> X | Z94: =IF($Y94<>"도비",IF($W94="국도비","직접입력",SUM($M94:$N94)),) -> 0 | AA94: =IF($Y94="도비",SUM($M94:$N94),IF($W94="국도비","직접입력",SUM($M94:$N94)-$Z94)) -> 0 | AB94: =IF(SUM($M94:$N94)=SUM($Z94:$AA94),"OK","검토") -> OK | AE94: =IF($Y94<>"도비",IF($W94="국도비","직접입력",SUM($P94:$Q94)),) -> 0 | AF94: =IF($Y94="도비",SUM(P94:Q94),IF($W94="국도비","직접입력",SUM(P94:Q94)-AE94)) -> 0 | AG94: =IF(SUM(P94:Q94)=SUM(AE94:AF94),"OK","검토") -> OK | AK94: =IF(AI94="","",COUNTIF($AI$7:$AI$238,AI94)) | AL94: =IF(Y94="","",IF(AND(Y94="도비",AI94="세입없음"),"OK",IF(AND(Y94<>"도비",AI94<>""),"OK","@@"))) | AN94: {=IF(D94="","",INDEX(구분표!$I$2:$I$311, MATCH(1,(구분표!$E$2:$E$311='2추일출'!C94)*(구분표!$F$2:$F$311='2추일출'!D94)*(구분표!$G$2:$G$311='2추일출'!B94),0)))}
A95: =COUNTA($C$8:C95)-COUNTBLANK($C$8:C95)+4 -> 6 | B95: =IF(C95="","",MID($B$86,2,9)) | C95: =IF(D95="","",VLOOKUP(D95,구분표!$A$3:$C$215,3,)) | L95: =J95-K95 -> 0 | O95: =J95+M95+N95 -> 0 | R95: =J95+P95+Q95 -> 0 | S95: =IF(AND((O95=0),(R95>0)),"O",IF(AND((M95<0),(O95-R95<0)),"O","X")) -> X | Z95: =IF($Y95<>"도비",IF($W95="국도비","직접입력",SUM($M95:$N95)),) -> 0 | AA95: =IF($Y95="도비",SUM($M95:$N95),IF($W95="국도비","직접입력",SUM($M95:$N95)-$Z95)) -> 0 | AB95: =IF(SUM($M95:$N95)=SUM($Z95:$AA95),"OK","검토") -> OK | AE95: =IF($Y95<>"도비",IF($W95="국도비","직접입력",SUM($P95:$Q95)),) -> 0 | AF95: =IF($Y95="도비",SUM(P95:Q95),IF($W95="국도비","직접입력",SUM(P95:Q95)-AE95)) -> 0 | AG95: =IF(SUM(P95:Q95)=SUM(AE95:AF95),"OK","검토") -> OK | AK95: =IF(AI95="","",COUNTIF($AI$7:$AI$238,AI95)) | AL95: =IF(Y95="","",IF(AND(Y95="도비",AI95="세입없음"),"OK",IF(AND(Y95<>"도비",AI95<>""),"OK","@@"))) | AN95: {=IF(D95="","",INDEX(구분표!$I$2:$I$311, MATCH(1,(구분표!$E$2:$E$311='2추일출'!C95)*(구분표!$F$2:$F$311='2추일출'!D95)*(구분표!$G$2:$G$311='2추일출'!B95),0)))}
A96: =COUNTA($C$8:C96)-COUNTBLANK($C$8:C96)+4 -> 6 | B96: =IF(C96="","",MID($B$86,2,9)) | C96: =IF(D96="","",VLOOKUP(D96,구분표!$A$3:$C$215,3,)) | L96: =J96-K96 -> 0 | O96: =J96+M96+N96 -> 0 | R96: =J96+P96+Q96 -> 0 | S96: =IF(AND((O96=0),(R96>0)),"O",IF(AND((M96<0),(O96-R96<0)),"O","X")) -> X | Z96: =IF($Y96<>"도비",IF($W96="국도비","직접입력",SUM($M96:$N96)),) -> 0 | AA96: =IF($Y96="도비",SUM($M96:$N96),IF($W96="국도비","직접입력",SUM($M96:$N96)-$Z96)) -> 0 | AB96: =IF(SUM($M96:$N96)=SUM($Z96:$AA96),"OK","검토") -> OK | AE96: =IF($Y96<>"도비",IF($W96="국도비","직접입력",SUM($P96:$Q96)),) -> 0 | AF96: =IF($Y96="도비",SUM(P96:Q96),IF($W96="국도비","직접입력",SUM(P96:Q96)-AE96)) -> 0 | AG96: =IF(SUM(P96:Q96)=SUM(AE96:AF96),"OK","검토") -> OK | AK96: =IF(AI96="","",COUNTIF($AI$7:$AI$238,AI96)) | AL96: =IF(Y96="","",IF(AND(Y96="도비",AI96="세입없음"),"OK",IF(AND(Y96<>"도비",AI96<>""),"OK","@@"))) | AN96: {=IF(D96="","",INDEX(구분표!$I$2:$I$311, MATCH(1,(구분표!$E$2:$E$311='2추일출'!C96)*(구분표!$F$2:$F$311='2추일출'!D96)*(구분표!$G$2:$G$311='2추일출'!B96),0)))}
A97: =COUNTA($C$8:C97)-COUNTBLANK($C$8:C97)+4 -> 6 | B97: =IF(C97="","",MID($B$86,2,9)) | C97: =IF(D97="","",VLOOKUP(D97,구분표!$A$3:$C$215,3,)) | L97: =J97-K97 -> 0 | O97: =J97+M97+N97 -> 0 | R97: =J97+P97+Q97 -> 0 | S97: =IF(AND((O97=0),(R97>0)),"O",IF(AND((M97<0),(O97-R97<0)),"O","X")) -> X | Z97: =IF($Y97<>"도비",IF($W97="국도비","직접입력",SUM($M97:$N97)),) -> 0 | AA97: =IF($Y97="도비",SUM($M97:$N97),IF($W97="국도비","직접입력",SUM($M97:$N97)-$Z97)) -> 0 | AB97: =IF(SUM($M97:$N97)=SUM($Z97:$AA97),"OK","검토") -> OK | AE97: =IF($Y97<>"도비",IF($W97="국도비","직접입력",SUM($P97:$Q97)),) -> 0 | AF97: =IF($Y97="도비",SUM(P97:Q97),IF($W97="국도비","직접입력",SUM(P97:Q97)-AE97)) -> 0 | AG97: =IF(SUM(P97:Q97)=SUM(AE97:AF97),"OK","검토") -> OK | AK97: =IF(AI97="","",COUNTIF($AI$7:$AI$238,AI97)) | AL97: =IF(Y97="","",IF(AND(Y97="도비",AI97="세입없음"),"OK",IF(AND(Y97<>"도비",AI97<>""),"OK","@@"))) | AN97: {=IF(D97="","",INDEX(구분표!$I$2:$I$311, MATCH(1,(구분표!$E$2:$E$311='2추일출'!C97)*(구분표!$F$2:$F$311='2추일출'!D97)*(구분표!$G$2:$G$311='2추일출'!B97),0)))}
A98: =COUNTA($C$8:C98)-COUNTBLANK($C$8:C98)+4 -> 6 | B98: =IF(C98="","",MID($B$86,2,9)) | C98: =IF(D98="","",VLOOKUP(D98,구분표!$A$3:$C$215,3,)) | L98: =J98-K98 -> 0 | O98: =J98+M98+N98 -> 0 | R98: =J98+P98+Q98 -> 0 | S98: =IF(AND((O98=0),(R98>0)),"O",IF(AND((M98<0),(O98-R98<0)),"O","X")) -> X | Z98: =IF($Y98<>"도비",IF($W98="국도비","직접입력",SUM($M98:$N98)),) -> 0 | AA98: =IF($Y98="도비",SUM($M98:$N98),IF($W98="국도비","직접입력",SUM($M98:$N98)-$Z98)) -> 0 | AB98: =IF(SUM($M98:$N98)=SUM($Z98:$AA98),"OK","검토") -> OK | AE98: =IF($Y98<>"도비",IF($W98="국도비","직접입력",SUM($P98:$Q98)),) -> 0 | AF98: =IF($Y98="도비",SUM(P98:Q98),IF($W98="국도비","직접입력",SUM(P98:Q98)-AE98)) -> 0 | AG98: =IF(SUM(P98:Q98)=SUM(AE98:AF98),"OK","검토") -> OK | AK98: =IF(AI98="","",COUNTIF($AI$7:$AI$238,AI98)) | AL98: =IF(Y98="","",IF(AND(Y98="도비",AI98="세입없음"),"OK",IF(AND(Y98<>"도비",AI98<>""),"OK","@@"))) | AN98: {=IF(D98="","",INDEX(구분표!$I$2:$I$311, MATCH(1,(구분표!$E$2:$E$311='2추일출'!C98)*(구분표!$F$2:$F$311='2추일출'!D98)*(구분표!$G$2:$G$311='2추일출'!B98),0)))}
... A109: =COUNTA($C$8:C109)-COUNTBLANK($C$8:C109)+4 -> 6 | B109: =IF(C109="","",MID($B$86,2,9)) | C109: =IF(D109="","",VLOOKUP(D109,구분표!$A$3:$C$215,3,)) | L109: =J109-K109 -> 0 | O109: =J109+M109+N109 -> 0 | R109: =J109+P109+Q109 -> 0 | S109: =IF(AND((O109=0),(R109>0)),"O",IF(AND((M109<0),(O109-R109<0)),"O","X")) -> X | Z109: =IF($Y109<>"도비",IF($W109="국도비","직접입력",SUM($M109:$N109)),) -> 0 | AA109: =IF($Y109="도비",SUM($M109:$N109),IF($W109="국도비","직접입력",SUM($M109:$N109)-$Z109)) -> 0 | AB109: =IF(SUM($M109:$N109)=SUM($Z109:$AA109),"OK","검토") -> OK | AE109: =IF($Y109<>"도비",IF($W109="국도비","직접입력",SUM($P109:$Q109)),) -> 0 | AF109: =IF($Y109="도비",SUM(P109:Q109),IF($W109="국도비","직접입력",SUM(P109:Q109)-AE109)) -> 0 | AG109: =IF(SUM(P109:Q109)=SUM(AE109:AF109),"OK","검토") -> OK | AK109: =IF(AI109="","",COUNTIF($AI$7:$AI$238,AI109)) | AL109: =IF(Y109="","",IF(AND(Y109="도비",AI109="세입없음"),"OK",IF(AND(Y109<>"도비",AI109<>""),"OK","@@"))) | AN109: {=IF(D109="","",INDEX(구분표!$I$2:$I$311, MATCH(1,(구분표!$E$2:$E$311='2추일출'!C109)*(구분표!$F$2:$F$311='2추일출'!D109)*(구분표!$G$2:$G$311='2추일출'!B109),0)))}
B110: (농정해양위원회) | J110: =SUBTOTAL(9,J111:J139) -> 0 | K110: =SUBTOTAL(9,K111:K139) -> 0 | L110: =SUBTOTAL(9,L111:L139) -> 0 | M110: =SUBTOTAL(9,M111:M139) -> 0 | N110: =SUBTOTAL(9,N111:N139) -> 0 | O110: =SUBTOTAL(9,O111:O139) -> 0 | P110: =SUBTOTAL(9,P111:P139) -> 0 | Q110: =SUBTOTAL(9,Q111:Q139) -> 0 | R110: =SUBTOTAL(9,R111:R139) -> 0
A111: =COUNTA($C$8:C111)-COUNTBLANK($C$8:C111)+5 -> 6 | B111: =IF(C111="","",MID($B$110,2,7)) | C111: =IF(D111="","",VLOOKUP(D111,구분표!$A$3:$C$215,3,)) | L111: =J111-K111 -> 0 | O111: =J111+M111+N111 -> 0 | R111: =J111+P111+Q111 -> 0 | S111: =IF(AND((O111=0),(R111>0)),"O",IF(AND((M111<0),(O111-R111<0)),"O","X")) -> X | Z111: =IF($Y111<>"도비",IF($W111="국도비","직접입력",SUM($M111:$N111)),) -> 0 | AA111: =IF($Y111="도비",SUM($M111:$N111),IF($W111="국도비","직접입력",SUM($M111:$N111)-$Z111)) -> 0 | AB111: =IF(SUM($M111:$N111)=SUM($Z111:$AA111),"OK","검토") -> OK | AE111: =IF($Y111<>"도비",IF($W111="국도비","직접입력",SUM($P111:$Q111)),) -> 0 | AF111: =IF($Y111="도비",SUM(P111:Q111),IF($W111="국도비","직접입력",SUM(P111:Q111)-AE111)) -> 0 | AG111: =IF(SUM(P111:Q111)=SUM(AE111:AF111),"OK","검토") -> OK | AK111: =IF(AI111="","",COUNTIF($AI$7:$AI$238,AI111)) | AL111: =IF(Y111="","",IF(AND(Y111="도비",AI111="세입없음"),"OK",IF(AND(Y111<>"도비",AI111<>""),"OK","@@"))) | AN111: {=IF(D111="","",INDEX(구분표!$I$2:$I$311, MATCH(1,(구분표!$E$2:$E$311='2추일출'!C111)*(구분표!$F$2:$F$311='2추일출'!D111)*(구분표!$G$2:$G$311='2추일출'!B111),0)))}
A112: =COUNTA($C$8:C112)-COUNTBLANK($C$8:C112)+5 -> 6 | B112: =IF(C112="","",MID($B$110,2,7)) | C112: =IF(D112="","",VLOOKUP(D112,구분표!$A$3:$C$215,3,)) | L112: =J112-K112 -> 0 | O112: =J112+M112+N112 -> 0 | R112: =J112+P112+Q112 -> 0 | S112: =IF(AND((O112=0),(R112>0)),"O",IF(AND((M112<0),(O112-R112<0)),"O","X")) -> X | Z112: =IF($Y112<>"도비",IF($W112="국도비","직접입력",SUM($M112:$N112)),) -> 0 | AA112: =IF($Y112="도비",SUM($M112:$N112),IF($W112="국도비","직접입력",SUM($M112:$N112)-$Z112)) -> 0 | AB112: =IF(SUM($M112:$N112)=SUM($Z112:$AA112),"OK","검토") -> OK | AE112: =IF($Y112<>"도비",IF($W112="국도비","직접입력",SUM($P112:$Q112)),) -> 0 | AF112: =IF($Y112="도비",SUM(P112:Q112),IF($W112="국도비","직접입력",SUM(P112:Q112)-AE112)) -> 0 | AG112: =IF(SUM(P112:Q112)=SUM(AE112:AF112),"OK","검토") -> OK | AK112: =IF(AI112="","",COUNTIF($AI$7:$AI$238,AI112)) | AL112: =IF(Y112="","",IF(AND(Y112="도비",AI112="세입없음"),"OK",IF(AND(Y112<>"도비",AI112<>""),"OK","@@"))) | AN112: {=IF(D112="","",INDEX(구분표!$I$2:$I$311, MATCH(1,(구분표!$E$2:$E$311='2추일출'!C112)*(구분표!$F$2:$F$311='2추일출'!D112)*(구분표!$G$2:$G$311='2추일출'!B112),0)))}
A113: =COUNTA($C$8:C113)-COUNTBLANK($C$8:C113)+5 -> 6 | B113: =IF(C113="","",MID($B$110,2,7)) | C113: =IF(D113="","",VLOOKUP(D113,구분표!$A$3:$C$215,3,)) | L113: =J113-K113 -> 0 | O113: =J113+M113+N113 -> 0 | R113: =J113+P113+Q113 -> 0 | S113: =IF(AND((O113=0),(R113>0)),"O",IF(AND((M113<0),(O113-R113<0)),"O","X")) -> X | Z113: =IF($Y113<>"도비",IF($W113="국도비","직접입력",SUM($M113:$N113)),) -> 0 | AA113: =IF($Y113="도비",SUM($M113:$N113),IF($W113="국도비","직접입력",SUM($M113:$N113)-$Z113)) -> 0 | AB113: =IF(SUM($M113:$N113)=SUM($Z113:$AA113),"OK","검토") -> OK | AE113: =IF($Y113<>"도비",IF($W113="국도비","직접입력",SUM($P113:$Q113)),) -> 0 | AF113: =IF($Y113="도비",SUM(P113:Q113),IF($W113="국도비","직접입력",SUM(P113:Q113)-AE113)) -> 0 | AG113: =IF(SUM(P113:Q113)=SUM(AE113:AF113),"OK","검토") -> OK | AK113: =IF(AI113="","",COUNTIF($AI$7:$AI$238,AI113)) | AL113: =IF(Y113="","",IF(AND(Y113="도비",AI113="세입없음"),"OK",IF(AND(Y113<>"도비",AI113<>""),"OK","@@"))) | AN113: {=IF(D113="","",INDEX(구분표!$I$2:$I$311, MATCH(1,(구분표!$E$2:$E$311='2추일출'!C113)*(구분표!$F$2:$F$311='2추일출'!D113)*(구분표!$G$2:$G$311='2추일출'!B113),0)))}
A114: =COUNTA($C$8:C114)-COUNTBLANK($C$8:C114)+5 -> 6 | B114: =IF(C114="","",MID($B$110,2,7)) | C114: =IF(D114="","",VLOOKUP(D114,구분표!$A$3:$C$215,3,)) | L114: =J114-K114 -> 0 | O114: =J114+M114+N114 -> 0 | R114: =J114+P114+Q114 -> 0 | S114: =IF(AND((O114=0),(R114>0)),"O",IF(AND((M114<0),(O114-R114<0)),"O","X")) -> X | Z114: =IF($Y114<>"도비",IF($W114="국도비","직접입력",SUM($M114:$N114)),) -> 0 | AA114: =IF($Y114="도비",SUM($M114:$N114),IF($W114="국도비","직접입력",SUM($M114:$N114)-$Z114)) -> 0 | AB114: =IF(SUM($M114:$N114)=SUM($Z114:$AA114),"OK","검토") -> OK | AE114: =IF($Y114<>"도비",IF($W114="국도비","직접입력",SUM($P114:$Q114)),) -> 0 | AF114: =IF($Y114="도비",SUM(P114:Q114),IF($W114="국도비","직접입력",SUM(P114:Q114)-AE114)) -> 0 | AG114: =IF(SUM(P114:Q114)=SUM(AE114:AF114),"OK","검토") -> OK | AK114: =IF(AI114="","",COUNTIF($AI$7:$AI$238,AI114)) | AL114: =IF(Y114="","",IF(AND(Y114="도비",AI114="세입없음"),"OK",IF(AND(Y114<>"도비",AI114<>""),"OK","@@"))) | AN114: {=IF(D114="","",INDEX(구분표!$I$2:$I$311, MATCH(1,(구분표!$E$2:$E$311='2추일출'!C114)*(구분표!$F$2:$F$311='2추일출'!D114)*(구분표!$G$2:$G$311='2추일출'!B114),0)))}
A115: =COUNTA($C$8:C115)-COUNTBLANK($C$8:C115)+5 -> 6 | B115: =IF(C115="","",MID($B$110,2,7)) | C115: =IF(D115="","",VLOOKUP(D115,구분표!$A$3:$C$215,3,)) | L115: =J115-K115 -> 0 | O115: =J115+M115+N115 -> 0 | R115: =J115+P115+Q115 -> 0 | S115: =IF(AND((O115=0),(R115>0)),"O",IF(AND((M115<0),(O115-R115<0)),"O","X")) -> X | Z115: =IF($Y115<>"도비",IF($W115="국도비","직접입력",SUM($M115:$N115)),) -> 0 | AA115: =IF($Y115="도비",SUM($M115:$N115),IF($W115="국도비","직접입력",SUM($M115:$N115)-$Z115)) -> 0 | AB115: =IF(SUM($M115:$N115)=SUM($Z115:$AA115),"OK","검토") -> OK | AE115: =IF($Y115<>"도비",IF($W115="국도비","직접입력",SUM($P115:$Q115)),) -> 0 | AF115: =IF($Y115="도비",SUM(P115:Q115),IF($W115="국도비","직접입력",SUM(P115:Q115)-AE115)) -> 0 | AG115: =IF(SUM(P115:Q115)=SUM(AE115:AF115),"OK","검토") -> OK | AK115: =IF(AI115="","",COUNTIF($AI$7:$AI$238,AI115)) | AL115: =IF(Y115="","",IF(AND(Y115="도비",AI115="세입없음"),"OK",IF(AND(Y115<>"도비",AI115<>""),"OK","@@"))) | AN115: {=IF(D115="","",INDEX(구분표!$I$2:$I$311, MATCH(1,(구분표!$E$2:$E$311='2추일출'!C115)*(구분표!$F$2:$F$311='2추일출'!D115)*(구분표!$G$2:$G$311='2추일출'!B115),0)))}
A116: =COUNTA($C$8:C116)-COUNTBLANK($C$8:C116)+5 -> 6 | B116: =IF(C116="","",MID($B$110,2,7)) | C116: =IF(D116="","",VLOOKUP(D116,구분표!$A$3:$C$215,3,)) | L116: =J116-K116 -> 0 | O116: =J116+M116+N116 -> 0 | R116: =J116+P116+Q116 -> 0 | S116: =IF(AND((O116=0),(R116>0)),"O",IF(AND((M116<0),(O116-R116<0)),"O","X")) -> X | Z116: =IF($Y116<>"도비",IF($W116="국도비","직접입력",SUM($M116:$N116)),) -> 0 | AA116: =IF($Y116="도비",SUM($M116:$N116),IF($W116="국도비","직접입력",SUM($M116:$N116)-$Z116)) -> 0 | AB116: =IF(SUM($M116:$N116)=SUM($Z116:$AA116),"OK","검토") -> OK | AE116: =IF($Y116<>"도비",IF($W116="국도비","직접입력",SUM($P116:$Q116)),) -> 0 | AF116: =IF($Y116="도비",SUM(P116:Q116),IF($W116="국도비","직접입력",SUM(P116:Q116)-AE116)) -> 0 | AG116: =IF(SUM(P116:Q116)=SUM(AE116:AF116),"OK","검토") -> OK | AK116: =IF(AI116="","",COUNTIF($AI$7:$AI$238,AI116)) | AL116: =IF(Y116="","",IF(AND(Y116="도비",AI116="세입없음"),"OK",IF(AND(Y116<>"도비",AI116<>""),"OK","@@"))) | AN116: {=IF(D116="","",INDEX(구분표!$I$2:$I$311, MATCH(1,(구분표!$E$2:$E$311='2추일출'!C116)*(구분표!$F$2:$F$311='2추일출'!D116)*(구분표!$G$2:$G$311='2추일출'!B116),0)))}
A117: =COUNTA($C$8:C117)-COUNTBLANK($C$8:C117)+5 -> 6 | B117: =IF(C117="","",MID($B$110,2,7)) | C117: =IF(D117="","",VLOOKUP(D117,구분표!$A$3:$C$215,3,)) | L117: =J117-K117 -> 0 | O117: =J117+M117+N117 -> 0 | R117: =J117+P117+Q117 -> 0 | S117: =IF(AND((O117=0),(R117>0)),"O",IF(AND((M117<0),(O117-R117<0)),"O","X")) -> X | Z117: =IF($Y117<>"도비",IF($W117="국도비","직접입력",SUM($M117:$N117)),) -> 0 | AA117: =IF($Y117="도비",SUM($M117:$N117),IF($W117="국도비","직접입력",SUM($M117:$N117)-$Z117)) -> 0 | AB117: =IF(SUM($M117:$N117)=SUM($Z117:$AA117),"OK","검토") -> OK | AE117: =IF($Y117<>"도비",IF($W117="국도비","직접입력",SUM($P117:$Q117)),) -> 0 | AF117: =IF($Y117="도비",SUM(P117:Q117),IF($W117="국도비","직접입력",SUM(P117:Q117)-AE117)) -> 0 | AG117: =IF(SUM(P117:Q117)=SUM(AE117:AF117),"OK","검토") -> OK | AK117: =IF(AI117="","",COUNTIF($AI$7:$AI$238,AI117)) | AL117: =IF(Y117="","",IF(AND(Y117="도비",AI117="세입없음"),"OK",IF(AND(Y117<>"도비",AI117<>""),"OK","@@"))) | AN117: {=IF(D117="","",INDEX(구분표!$I$2:$I$311, MATCH(1,(구분표!$E$2:$E$311='2추일출'!C117)*(구분표!$F$2:$F$311='2추일출'!D117)*(구분표!$G$2:$G$311='2추일출'!B117),0)))}
A118: =COUNTA($C$8:C118)-COUNTBLANK($C$8:C118)+5 -> 6 | B118: =IF(C118="","",MID($B$110,2,7)) | C118: =IF(D118="","",VLOOKUP(D118,구분표!$A$3:$C$215,3,)) | L118: =J118-K118 -> 0 | O118: =J118+M118+N118 -> 0 | R118: =J118+P118+Q118 -> 0 | S118: =IF(AND((O118=0),(R118>0)),"O",IF(AND((M118<0),(O118-R118<0)),"O","X")) -> X | Z118: =IF($Y118<>"도비",IF($W118="국도비","직접입력",SUM($M118:$N118)),) -> 0 | AA118: =IF($Y118="도비",SUM($M118:$N118),IF($W118="국도비","직접입력",SUM($M118:$N118)-$Z118)) -> 0 | AB118: =IF(SUM($M118:$N118)=SUM($Z118:$AA118),"OK","검토") -> OK | AE118: =IF($Y118<>"도비",IF($W118="국도비","직접입력",SUM($P118:$Q118)),) -> 0 | AF118: =IF($Y118="도비",SUM(P118:Q118),IF($W118="국도비","직접입력",SUM(P118:Q118)-AE118)) -> 0 | AG118: =IF(SUM(P118:Q118)=SUM(AE118:AF118),"OK","검토") -> OK | AK118: =IF(AI118="","",COUNTIF($AI$7:$AI$238,AI118)) | AL118: =IF(Y118="","",IF(AND(Y118="도비",AI118="세입없음"),"OK",IF(AND(Y118<>"도비",AI118<>""),"OK","@@"))) | AN118: {=IF(D118="","",INDEX(구분표!$I$2:$I$311, MATCH(1,(구분표!$E$2:$E$311='2추일출'!C118)*(구분표!$F$2:$F$311='2추일출'!D118)*(구분표!$G$2:$G$311='2추일출'!B118),0)))}
A119: =COUNTA($C$8:C119)-COUNTBLANK($C$8:C119)+5 -> 6 | B119: =IF(C119="","",MID($B$110,2,7)) | C119: =IF(D119="","",VLOOKUP(D119,구분표!$A$3:$C$215,3,)) | L119: =J119-K119 -> 0 | O119: =J119+M119+N119 -> 0 | R119: =J119+P119+Q119 -> 0 | S119: =IF(AND((O119=0),(R119>0)),"O",IF(AND((M119<0),(O119-R119<0)),"O","X")) -> X | Z119: =IF($Y119<>"도비",IF($W119="국도비","직접입력",SUM($M119:$N119)),) -> 0 | AA119: =IF($Y119="도비",SUM($M119:$N119),IF($W119="국도비","직접입력",SUM($M119:$N119)-$Z119)) -> 0 | AB119: =IF(SUM($M119:$N119)=SUM($Z119:$AA119),"OK","검토") -> OK | AE119: =IF($Y119<>"도비",IF($W119="국도비","직접입력",SUM($P119:$Q119)),) -> 0 | AF119: =IF($Y119="도비",SUM(P119:Q119),IF($W119="국도비","직접입력",SUM(P119:Q119)-AE119)) -> 0 | AG119: =IF(SUM(P119:Q119)=SUM(AE119:AF119),"OK","검토") -> OK | AK119: =IF(AI119="","",COUNTIF($AI$7:$AI$238,AI119)) | AL119: =IF(Y119="","",IF(AND(Y119="도비",AI119="세입없음"),"OK",IF(AND(Y119<>"도비",AI119<>""),"OK","@@"))) | AN119: {=IF(D119="","",INDEX(구분표!$I$2:$I$311, MATCH(1,(구분표!$E$2:$E$311='2추일출'!C119)*(구분표!$F$2:$F$311='2추일출'!D119)*(구분표!$G$2:$G$311='2추일출'!B119),0)))}
A120: =COUNTA($C$8:C120)-COUNTBLANK($C$8:C120)+5 -> 6 | B120: =IF(C120="","",MID($B$110,2,7)) | C120: =IF(D120="","",VLOOKUP(D120,구분표!$A$3:$C$215,3,)) | L120: =J120-K120 -> 0 | O120: =J120+M120+N120 -> 0 | R120: =J120+P120+Q120 -> 0 | S120: =IF(AND((O120=0),(R120>0)),"O",IF(AND((M120<0),(O120-R120<0)),"O","X")) -> X | Z120: =IF($Y120<>"도비",IF($W120="국도비","직접입력",SUM($M120:$N120)),) -> 0 | AA120: =IF($Y120="도비",SUM($M120:$N120),IF($W120="국도비","직접입력",SUM($M120:$N120)-$Z120)) -> 0 | AB120: =IF(SUM($M120:$N120)=SUM($Z120:$AA120),"OK","검토") -> OK | AE120: =IF($Y120<>"도비",IF($W120="국도비","직접입력",SUM($P120:$Q120)),) -> 0 | AF120: =IF($Y120="도비",SUM(P120:Q120),IF($W120="국도비","직접입력",SUM(P120:Q120)-AE120)) -> 0 | AG120: =IF(SUM(P120:Q120)=SUM(AE120:AF120),"OK","검토") -> OK | AK120: =IF(AI120="","",COUNTIF($AI$7:$AI$238,AI120)) | AL120: =IF(Y120="","",IF(AND(Y120="도비",AI120="세입없음"),"OK",IF(AND(Y120<>"도비",AI120<>""),"OK","@@"))) | AN120: {=IF(D120="","",INDEX(구분표!$I$2:$I$311, MATCH(1,(구분표!$E$2:$E$311='2추일출'!C120)*(구분표!$F$2:$F$311='2추일출'!D120)*(구분표!$G$2:$G$311='2추일출'!B120),0)))}
A121: =COUNTA($C$8:C121)-COUNTBLANK($C$8:C121)+5 -> 6 | B121: =IF(C121="","",MID($B$110,2,7)) | C121: =IF(D121="","",VLOOKUP(D121,구분표!$A$3:$C$215,3,)) | L121: =J121-K121 -> 0 | O121: =J121+M121+N121 -> 0 | R121: =J121+P121+Q121 -> 0 | S121: =IF(AND((O121=0),(R121>0)),"O",IF(AND((M121<0),(O121-R121<0)),"O","X")) -> X | Z121: =IF($Y121<>"도비",IF($W121="국도비","직접입력",SUM($M121:$N121)),) -> 0 | AA121: =IF($Y121="도비",SUM($M121:$N121),IF($W121="국도비","직접입력",SUM($M121:$N121)-$Z121)) -> 0 | AB121: =IF(SUM($M121:$N121)=SUM($Z121:$AA121),"OK","검토") -> OK | AE121: =IF($Y121<>"도비",IF($W121="국도비","직접입력",SUM($P121:$Q121)),) -> 0 | AF121: =IF($Y121="도비",SUM(P121:Q121),IF($W121="국도비","직접입력",SUM(P121:Q121)-AE121)) -> 0 | AG121: =IF(SUM(P121:Q121)=SUM(AE121:AF121),"OK","검토") -> OK | AK121: =IF(AI121="","",COUNTIF($AI$7:$AI$238,AI121)) | AL121: =IF(Y121="","",IF(AND(Y121="도비",AI121="세입없음"),"OK",IF(AND(Y121<>"도비",AI121<>""),"OK","@@"))) | AN121: {=IF(D121="","",INDEX(구분표!$I$2:$I$311, MATCH(1,(구분표!$E$2:$E$311='2추일출'!C121)*(구분표!$F$2:$F$311='2추일출'!D121)*(구분표!$G$2:$G$311='2추일출'!B121),0)))}
...

Sheet 2추특입
A1: 2017년도 제2회 추가경정 경기도 특별회계 세입 예산 조정(안)
A2: □ 세입예산 | X2: 세입=세출 | AC2: 세입=세출
P3: =P6-J6 -> 0 | T3: (단위 : 천원) | X3: =IF(X6='2추특출'!Z6,"OK","@@") -> OK | Y3: =IF(Y6='2추특출'!AA6,"OK","@@") -> OK | Z3: =IF(COUNTIF(Z6:Z16,"검토")>0,"@@","OK") -> OK | AC3: =IF(AC6='2추특출'!AE6,"OK","@@") -> OK | AE3: =IF(COUNTIF(AE6:AE16,"검토")>0,"@@","OK") -> OK
A4: 위원회명 | B4: 실국명 | C4: 부서명 | D4: 편성 구분 | E4: 예산안 페이지 | F4: 사업설명서페이지 | G4: 목명 및 부기명 | H4: 제2회 추경 예산안 (가) | I4: 기정액 (나) | J4: 제2회 추경 증감액 (다=가-나) | K4: 상임위 예산안 조정액(라) | M4: 상임위 조정 예산안 (마=가+라) | N4: 예결위 예산안 조정액(사) | P4: 예결위 조정 예산안 (아=가+사) | Q4: 동의 대상 | R4: 상임위 변경사유 (심의 참고자료) | S4: 비고 (상임위 부대의견) | T4: 비고 (예결위 부대의견) | U4: 국도비 등 여부 | W4: 재원 | X4: 상임위 재원별 증감액 | AB4: 재원 | AC4: 예결위 재원별 증감액 | AG4: 세입번호 | AI4: 실국부서 코드 | AK4: 추가 내시 등 | AM4: 상임위 세입 검증 | AQ4: 예결위 세입 검증
K5: 감액 | L5: 증액 | N5: 감액 | O5: 증액 | X5: 국비 등 | Y5: 도비 | Z5: 검증 | AC5: 국비 등 | AD5: 도비 | AE5: 검증 | AM5: 국비 증감액 | AN5: 건수 | AO5: 검증 | AQ5: 국비 증감액 | AR5: 건수 | AS5: 검증
A6: 합 계 | H6: =SUBTOTAL(9,H7:H16) -> 0 | I6: =SUBTOTAL(9,I7:I16) -> 0 | J6: =SUBTOTAL(9,J7:J16) -> 0 | K6: =SUBTOTAL(9,K7:K16) -> 0 | L6: =SUBTOTAL(9,L7:L16) -> 0 | M6: =SUBTOTAL(9,M7:M16) -> 0 | N6: =SUBTOTAL(9,N7:N16) -> 0 | O6: =SUBTOTAL(9,O7:O16) -> 0 | P6: =SUBTOTAL(9,P7:P16) -> 0 | T6: =SUBTOTAL(9,T7:T16)/2 -> 0 | X6: =SUBTOTAL(9,X7:X16) -> 0 | Y6: =SUBTOTAL(9,Y7:Y16) -> 0 | Z6: =IF(SUM($K6:$L6)=SUM($X6:$Y6),"OK","검토") -> OK | AC6: =SUBTOTAL(9,AC7:AC16) -> 0 | AD6: =SUBTOTAL(9,AD7:AD16) -> 0 | AE6: =IF(SUM($K6:$L6)=SUM($X6:$Y6),"OK","검토") -> OK | AM6: =SUBTOTAL(9,AM7:AM16) -> 0 | AN6: =SUBTOTAL(9,AN7:AN16) -> 0 | AO6: =IF(COUNTIF(AO7:AO16,"@@")>0,"@@","OK") -> OK | AQ6: =SUBTOTAL(9,AQ7:AQ16) -> 0 | AR6: =SUBTOTAL(9,AR7:AR16) -> 0 | AS6: =IF(COUNTIF(AS7:AS16,"@@")>0,"@@","OK") -> OK
A7: ( 특별회계) | H7: =SUBTOTAL(9,H8:H10) -> 0 | I7: =SUBTOTAL(9,I8:I10) -> 0 | J7: =SUBTOTAL(9,J8:J10) -> 0 | K7: =SUBTOTAL(9,K8:K10) -> 0 | L7: =SUBTOTAL(9,L8:L10) -> 0 | M7: =SUBTOTAL(9,M8:M10) -> 0 | N7: =SUBTOTAL(9,N8:N10) -> 0 | O7: =SUBTOTAL(9,O8:O10) -> 0 | P7: =SUBTOTAL(9,P8:P10) -> 0
J8: =IF(D8="","",H8-I8) | M8: =SUM(H8,K8,L8) -> 0 | P8: =SUM(H8,N8,O8) -> 0 | Q8: =IF(AND((M8=0),(P8>0)),"O",IF(AND((K8<0),(M8-P8<0)),"O","X")) -> X | X8: =IF($W8<>"도비",IF($U8="국도비","직접입력",SUM($K8:$L8)),) -> 0 | Y8: =IF($W8="도비",SUM($K8:$L8),IF($U8="국도비","직접입력",SUM($K8:$L8)-$X8)) -> 0 | Z8: =IF(SUM($K8:$L8)=SUM($X8:$Y8),"OK","검토") -> OK | AC8: =IF($W8<>"도비",IF($U8="국도비","직접입력",SUM($N8:$O8)),) -> 0 | AD8: =IF($W8="도비",SUM(N8:O8),IF($U8="국도비","직접입력",SUM(N8:O8)-AC8)) -> 0 | AE8: =IF(SUM(N8:O8)=SUM(AC8:AD8),"OK","검토") -> OK | AG8: =IF(AI8="","",IF(W8="도비","세입없음",CONCATENATE(AI8,"-",COUNTIF($AI$7:AI8,AI8)))) | AI8: {=IF(C8="","",INDEX(구분표!$I$2:$I$311, MATCH(1,(구분표!$E$2:$E$311='2추특입'!B8)*(구분표!$F$2:$F$311='2추특입'!C8)*(구분표!$G$2:$G$311='2추특입'!A8),0)))} | AM8: =IF(AG8="",0,SUMIFS('2추특출'!$Z$6:$Z$451,'2추특출'!$AI$6:$AI$451,'2추특입'!$AG8)) -> 0 | AN8: =IF(AG8="","",COUNTIFS('2추특출'!$AI$6:$AI$451,'2추특입'!AG8)) | AO8: =IF(X8=AM8,"OK","@@") -> OK | AQ8: =IF(AG8="",0,SUMIFS('2추특출'!$AE$6:$AE$231,'2추특출'!$AI$6:$AI$231,'2추특입'!$AG8)) -> 0 | AR8: =IF(AG8="","",COUNTIFS('2추특출'!$AI$6:$AI$231,AG8)) | AS8: =IF(AC8=AQ8,"OK","@@") -> OK
J9: =IF(D9="","",H9-I9) | M9: =SUM(H9,K9,L9) -> 0 | P9: =SUM(H9,N9,O9) -> 0 | Q9: =IF(AND((M9=0),(P9>0)),"O",IF(AND((K9<0),(M9-P9<0)),"O","X")) -> X | X9: =IF($W9<>"도비",IF($U9="국도비","직접입력",SUM($K9:$L9)),) -> 0 | Y9: =IF($W9="도비",SUM($K9:$L9),IF($U9="국도비","직접입력",SUM($K9:$L9)-$X9)) -> 0 | Z9: =IF(SUM($K9:$L9)=SUM($X9:$Y9),"OK","검토") -> OK | AC9: =IF($W9<>"도비",IF($U9="국도비","직접입력",SUM($N9:$O9)),) -> 0 | AD9: =IF($W9="도비",SUM(N9:O9),IF($U9="국도비","직접입력",SUM(N9:O9)-AC9)) -> 0 | AE9: =IF(SUM(N9:O9)=SUM(AC9:AD9),"OK","검토") -> OK | AG9: =IF(AI9="","",IF(W9="도비","세입없음",CONCATENATE(AI9,"-",COUNTIF($AI$7:AI9,AI9)))) | AI9: {=IF(C9="","",INDEX(구분표!$I$2:$I$311, MATCH(1,(구분표!$E$2:$E$311='2추특입'!B9)*(구분표!$F$2:$F$311='2추특입'!C9)*(구분표!$G$2:$G$311='2추특입'!A9),0)))} | AM9: =IF(AG9="",0,SUMIFS('2추특출'!$Z$6:$Z$451,'2추특출'!$AI$6:$AI$451,'2추특입'!$AG9)) -> 0 | AN9: =IF(AG9="","",COUNTIFS('2추특출'!$AI$6:$AI$451,'2추특입'!AG9)) | AO9: =IF(X9=AM9,"OK","@@") -> OK | AQ9: =IF(AG9="",0,SUMIFS('2추일출'!$AE$6:$AE$238,'2추일출'!$AI$6:$AI$238,'2추특입'!$AG9)) -> 0 | AR9: =IF(AG9="","",COUNTIFS('2추일출'!$AI$6:$AI$238,AG9)) | AS9: =IF(AC9=AQ9,"OK","@@") -> OK
A10: =IFERROR(VLOOKUP($C10,구분표!$A$2:$C$311,2,FALSE),"") | B10: =IFERROR(VLOOKUP($C10,구분표!$A$2:$C$311,3,FALSE),"") | J10: =IF(D10="","",H10-I10) | M10: =SUM(H10,K10,L10) -> 0 | P10: =SUM(H10,N10,O10) -> 0 | Q10: =IF(AND((M10=0),(P10>0)),"O",IF(AND((K10<0),(M10-P10<0)),"O","X")) -> X | X10: =IF($W10<>"도비",IF($U10="국도비","직접입력",SUM($K10:$L10)),) -> 0 | Y10: =IF($W10="도비",SUM($K10:$L10),IF($U10="국도비","직접입력",SUM($K10:$L10)-$X10)) -> 0 | Z10: =IF(SUM($K10:$L10)=SUM($X10:$Y10),"OK","검토") -> OK | AC10: =IF($W10<>"도비",IF($U10="국도비","직접입력",SUM($N10:$O10)),) -> 0 | AD10: =IF($W10="도비",SUM(N10:O10),IF($U10="국도비","직접입력",SUM(N10:O10)-AC10)) -> 0 | AE10: =IF(SUM(N10:O10)=SUM(AC10:AD10),"OK","검토") -> OK | AG10: =IF(AI10="","",IF(W10="도비","세입없음",CONCATENATE(AI10,"-",COUNTIF($AI$7:AI10,AI10)))) | AI10: {=IF(C10="","",INDEX(구분표!$I$2:$I$311, MATCH(1,(구분표!$E$2:$E$311='2추특입'!B10)*(구분표!$F$2:$F$311='2추특입'!C10)*(구분표!$G$2:$G$311='2추특입'!A10),0)))} | AM10: =IF(AG10="",0,SUMIFS('2추특출'!$Z$6:$Z$451,'2추특출'!$AI$6:$AI$451,'2추특입'!$AG10)) -> 0 | AN10: =IF(AG10="","",COUNTIFS('2추특출'!$AI$6:$AI$451,'2추특입'!AG10)) | AO10: =IF(X10=AM10,"OK","@@") -> OK | AQ10: =IF(AG10="",0,SUMIFS('2추일출'!$AE$6:$AE$238,'2추일출'!$AI$6:$AI$238,'2추특입'!$AG10)) -> 0 | AR10: =IF(AG10="","",COUNTIFS('2추일출'!$AI$6:$AI$238,AG10)) | AS10: =IF(AC10=AQ10,"OK","@@") -> OK
A11: ( 특별회계) | H11: =SUBTOTAL(9,H12:H14) -> 0 | I11: =SUBTOTAL(9,I12:I14) -> 0 | J11: =SUBTOTAL(9,J12:J14) -> 0 | K11: =SUBTOTAL(9,K12:K16) -> 0 | L11: =SUBTOTAL(9,L12:L16) -> 0 | M11: =SUBTOTAL(9,M12:M16) -> 0 | N11: =SUBTOTAL(9,N12:N16) -> 0 | O11: =SUBTOTAL(9,O12:O16) -> 0 | P11: =SUBTOTAL(9,P12:P16) -> 0
J12: =IF(D12="","",H12-I12) | M12: =SUM(H12,K12,L12) -> 0 | P12: =SUM(H12,N12,O12) -> 0 | Q12: =IF(AND((M12=0),(P12>0)),"O",IF(AND((K12<0),(M12-P12<0)),"O","X")) -> X | X12: =IF($W12<>"도비",IF($U12="국도비","직접입력",SUM($K12:$L12)),) -> 0 | Y12: =IF($W12="도비",SUM($K12:$L12),IF($U12="국도비","직접입력",SUM($K12:$L12)-$X12)) -> 0 | Z12: =IF(SUM($K12:$L12)=SUM($X12:$Y12),"OK","검토") -> OK | AC12: =IF($W12<>"도비",IF($U12="국도비","직접입력",SUM($N12:$O12)),) -> 0 | AD12: =IF($W12="도비",SUM(N12:O12),IF($U12="국도비","직접입력",SUM(N12:O12)-AC12)) -> 0 | AE12: =IF(SUM(N12:O12)=SUM(AC12:AD12),"OK","검토") -> OK | AG12: =IF(AI12="","",IF(W12="도비","세입없음",CONCATENATE(AI12,"-",COUNTIF($AI$7:AI12,AI12)))) | AI12: {=IF(C12="","",INDEX(구분표!$I$2:$I$311, MATCH(1,(구분표!$E$2:$E$311='2추특입'!B12)*(구분표!$F$2:$F$311='2추특입'!C12)*(구분표!$G$2:$G$311='2추특입'!A12),0)))} | AM12: =IF(AG12="",0,SUMIFS('2추특출'!$Z$6:$Z$451,'2추특출'!$AI$6:$AI$451,'2추특입'!$AG12)) -> 0 | AN12: =IF(AG12="","",COUNTIFS('2추특출'!$AI$6:$AI$451,'2추특입'!AG12)) | AO12: =IF(X12=AM12,"OK","@@") -> OK | AQ12: =IF(AG12="",0,SUMIFS('2추일출'!$AE$6:$AE$238,'2추일출'!$AI$6:$AI$238,'2추특입'!$AG12)) -> 0 | AR12: =IF(AG12="","",COUNTIFS('2추일출'!$AI$6:$AI$238,AG12)) | AS12: =IF(AC12=AQ12,"OK","@@") -> OK
J13: =IF(D13="","",H13-I13) | M13: =SUM(H13,K13,L13) -> 0 | P13: =SUM(H13,N13,O13) -> 0 | Q13: =IF(AND((M13=0),(P13>0)),"O",IF(AND((K13<0),(M13-P13<0)),"O","X")) -> X | X13: =IF($W13<>"도비",IF($U13="국도비","직접입력",SUM($K13:$L13)),) -> 0 | Y13: =IF($W13="도비",SUM($K13:$L13),IF($U13="국도비","직접입력",SUM($K13:$L13)-$X13)) -> 0 | Z13: =IF(SUM($K13:$L13)=SUM($X13:$Y13),"OK","검토") -> OK | AC13: =IF($W13<>"도비",IF($U13="국도비","직접입력",SUM($N13:$O13)),) -> 0 | AD13: =IF($W13="도비",SUM(N13:O13),IF($U13="국도비","직접입력",SUM(N13:O13)-AC13)) -> 0 | AE13: =IF(SUM(N13:O13)=SUM(AC13:AD13),"OK","검토") -> OK | AG13: =IF(AI13="","",IF(W13="도비","세입없음",CONCATENATE(AI13,"-",COUNTIF($AI$7:AI13,AI13)))) | AI13: {=IF(C13="","",INDEX(구분표!$I$2:$I$311, MATCH(1,(구분표!$E$2:$E$311='2추특입'!B13)*(구분표!$F$2:$F$311='2추특입'!C13)*(구분표!$G$2:$G$311='2추특입'!A13),0)))} | AM13: =IF(AG13="",0,SUMIFS('2추특출'!$Z$6:$Z$451,'2추특출'!$AI$6:$AI$451,'2추특입'!$AG13)) -> 0 | AN13: =IF(AG13="","",COUNTIFS('2추특출'!$AI$6:$AI$451,'2추특입'!AG13)) | AO13: =IF(X13=AM13,"OK","@@") -> OK | AQ13: =IF(AG13="",0,SUMIFS('2추일출'!$AE$6:$AE$238,'2추일출'!$AI$6:$AI$238,'2추특입'!$AG13)) -> 0 | AR13: =IF(AG13="","",COUNTIFS('2추일출'!$AI$6:$AI$238,AG13)) | AS13: =IF(AC13=AQ13,"OK","@@") -> OK
J14: =IF(D14="","",H14-I14) | M14: =SUM(H14,K14,L14) -> 0 | P14: =SUM(H14,N14,O14) -> 0 | Q14: =IF(AND((M14=0),(P14>0)),"O",IF(AND((K14<0),(M14-P14<0)),"O","X")) -> X | X14: =IF($W14<>"도비",IF($U14="국도비","직접입력",SUM($K14:$L14)),) -> 0 | Y14: =IF($W14="도비",SUM($K14:$L14),IF($U14="국도비","직접입력",SUM($K14:$L14)-$X14)) -> 0 | Z14: =IF(SUM($K14:$L14)=SUM($X14:$Y14),"OK","검토") -> OK | AC14: =IF($W14<>"도비",IF($U14="국도비","직접입력",SUM($N14:$O14)),) -> 0 | AD14: =IF($W14="도비",SUM(N14:O14),IF($U14="국도비","직접입력",SUM(N14:O14)-AC14)) -> 0 | AE14: =IF(SUM(N14:O14)=SUM(AC14:AD14),"OK","검토") -> OK | AG14: =IF(AI14="","",IF(W14="도비","세입없음",CONCATENATE(AI14,"-",COUNTIF($AI$7:AI14,AI14)))) | AI14: {=IF(C14="","",INDEX(구분표!$I$2:$I$311, MATCH(1,(구분표!$E$2:$E$311='2추특입'!B14)*(구분표!$F$2:$F$311='2추특입'!C14)*(구분표!$G$2:$G$311='2추특입'!A14),0)))} | AM14: =IF(AG14="",0,SUMIFS('2추특출'!$Z$6:$Z$451,'2추특출'!$AI$6:$AI$451,'2추특입'!$AG14)) -> 0 | AN14: =IF(AG14="","",COUNTIFS('2추특출'!$AI$6:$AI$451,'2추특입'!AG14)) | AO14: =IF(X14=AM14,"OK","@@") -> OK | AQ14: =IF(AG14="",0,SUMIFS('2추일출'!$AE$6:$AE$238,'2추일출'!$AI$6:$AI$238,'2추특입'!$AG14)) -> 0 | AR14: =IF(AG14="","",COUNTIFS('2추일출'!$AI$6:$AI$238,AG14)) | AS14: =IF(AC14=AQ14,"OK","@@") -> OK
J15: =IF(D15="","",H15-I15) | M15: =SUM(H15,K15,L15) -> 0 | P15: =SUM(H15,N15,O15) -> 0 | Q15: =IF(AND((M15=0),(P15>0)),"O",IF(AND((K15<0),(M15-P15<0)),"O","X")) -> X | X15: =IF($W15<>"도비",IF($U15="국도비","직접입력",SUM($K15:$L15)),) -> 0 | Y15: =IF($W15="도비",SUM($K15:$L15),IF($U15="국도비","직접입력",SUM($K15:$L15)-$X15)) -> 0 | Z15: =IF(SUM($K15:$L15)=SUM($X15:$Y15),"OK","검토") -> OK | AC15: =IF($W15<>"도비",IF($U15="국도비","직접입력",SUM($N15:$O15)),) -> 0 | AD15: =IF($W15="도비",SUM(N15:O15),IF($U15="국도비","직접입력",SUM(N15:O15)-AC15)) -> 0 | AE15: =IF(SUM(N15:O15)=SUM(AC15:AD15),"OK","검토") -> OK | AG15: =IF(AI15="","",IF(W15="도비","세입없음",CONCATENATE(AI15,"-",COUNTIF($AI$7:AI15,AI15)))) | AI15: {=IF(C15="","",INDEX(구분표!$I$2:$I$311, MATCH(1,(구분표!$E$2:$E$311='2추특입'!B15)*(구분표!$F$2:$F$311='2추특입'!C15)*(구분표!$G$2:$G$311='2추특입'!A15),0)))} | AM15: =IF(AG15="",0,SUMIFS('2추특출'!$Z$6:$Z$451,'2추특출'!$AI$6:$AI$451,'2추특입'!$AG15)) -> 0 | AN15: =IF(AG15="","",COUNTIFS('2추특출'!$AI$6:$AI$451,'2추특입'!AG15)) | AO15: =IF(X15=AM15,"OK","@@") -> OK | AQ15: =IF(AG15="",0,SUMIFS('2추일출'!$AE$6:$AE$238,'2추일출'!$AI$6:$AI$238,'2추특입'!$AG15)) -> 0 | AR15: =IF(AG15="","",COUNTIFS('2추일출'!$AI$6:$AI$238,AG15)) | AS15: =IF(AC15=AQ15,"OK","@@") -> OK
A16: =IFERROR(VLOOKUP($C16,구분표!$A$2:$C$311,2,FALSE),"") | B16: =IFERROR(VLOOKUP($C16,구분표!$A$2:$C$311,3,FALSE),"") | J16: =IF(D16="","",H16-I16) | M16: =SUM(H16,K16,L16) -> 0 | P16: =SUM(H16,N16,O16) -> 0 | Q16: =IF(AND((M16=0),(P16>0)),"O",IF(AND((K16<0),(M16-P16<0)),"O","X")) -> X | X16: =IF($W16<>"도비",IF($U16="국도비","직접입력",SUM($K16:$L16)),) -> 0 | Y16: =IF($W16="도비",SUM($K16:$L16),IF($U16="국도비","직접입력",SUM($K16:$L16)-$X16)) -> 0 | Z16: =IF(SUM($K16:$L16)=SUM($X16:$Y16),"OK","검토") -> OK | AC16: =IF($W16<>"도비",IF($U16="국도비","직접입력",SUM($N16:$O16)),) -> 0 | AD16: =IF($W16="도비",SUM(N16:O16),IF($U16="국도비","직접입력",SUM(N16:O16)-AC16)) -> 0 | AE16: =IF(SUM(N16:O16)=SUM(AC16:AD16),"OK","검토") -> OK | AG16: =IF(AI16="","",IF(W16="도비","세입없음",CONCATENATE(AI16,"-",COUNTIF($AI$7:AI16,AI16)))) | AI16: {=IF(C16="","",INDEX(구분표!$I$2:$I$311, MATCH(1,(구분표!$E$2:$E$311='2추특입'!B16)*(구분표!$F$2:$F$311='2추특입'!C16)*(구분표!$G$2:$G$311='2추특입'!A16),0)))} | AM16: =IF(AG16="",0,SUMIFS('2추특출'!$Z$6:$Z$451,'2추특출'!$AI$6:$AI$451,'2추특입'!$AG16)) -> 0 | AN16: =IF(AG16="","",COUNTIFS('2추특출'!$AI$6:$AI$451,'2추특입'!AG16)) | AO16: =IF(X16=AM16,"OK","@@") -> OK | AQ16: =IF(AG16="",0,SUMIFS('2추일출'!$AE$6:$AE$238,'2추일출'!$AI$6:$AI$238,'2추특입'!$AG16)) -> 0 | AR16: =IF(AG16="","",COUNTIFS('2추일출'!$AI$6:$AI$238,AG16)) | AS16: =IF(AC16=AQ16,"OK","@@") -> OK

Sheet 2추특출
B1: 2017년도 제2회 추가경정 경기도 특별회계 세출 예산 조정(안)
B2: □ 세출예산 | Q2: =R2-'2추특입'!P3 -> 0 | R2: =R6-L6 -> 0 | Z2: 세입=세출 | AE2: 세입=세출
L3: =SUM(L7:L807)/2 -> 0 | M3: =SUM(M7:M807)/2 -> 0 | N3: =SUM(N7:N807)/2 -> 0 | O3: =SUM(O7:O807)/2 -> 0 | P3: =SUM(P7:P807)/2 -> 0 | Q3: =SUM(Q7:Q807)/2 -> 0 | R3: =SUM(R7:R807)/2 -> 0 | V3: (단위 : 천원) | Z3: =IF(Z6='2추특입'!X6,"OK","@@") -> OK | AB3: =IF(COUNTIF(AB6:AB80,"검토")>0,"@@","OK") -> OK | AE3: =IF(AE6='2추특입'!AC6,"OK","@@") -> OK | AF3: =P6+Q6-AE6-AF6 -> 0 | AG3: =IF(COUNTIF(AG6:AG80,"검토")>0,"@@","OK") -> OK
A4: 번호 | B4: 위원회명 | C4: 실국명 | D4: 부서명 | E4: 편성 구분 | F4: 연정 구분 | G4: 예산안 페이지 | H4: 사업설명서페이지 | I4: 세부사업명 및 부기명 | J4: 제2회 추경 예산안 (가) | K4: 기정액 (나) | L4: 제2회 추경 증감액 (다=가-나) | M4: 상임위 예산안 조정액(라) | O4: 상임위 조정 예산안 (마=가+라) | P4: 예결위 예산안 조정액(사) | R4: 예결위 조정 예산안 (아=가+사) | S4: 동의 대상 | T4: 상임위 변경사유 (심의 참고자료) | U4: 비고 (상임위 부대의견) | V4: 비고 (예결위 부대의견) | W4: 국도비 등 여부 | Y4: 재원 | Z4: 상임위 재원별 증감액 | AD4: 재원 | AE4: 예결위 재원별 증감액 | AI4: 세입번호 | AK4: 동일 세입 건수 | AL4: 세출 번호 검증 | AN4: 실국부서 코드 | AP4: 추가 내시 등
M5: 감액 | N5: 증액 | P5: 감액 | Q5: 증액 | Z5: 국비 등 | AA5: 도비 | AB5: 검증 | AE5: 국비 등 | AF5: 도비 | AG5: 검증
B6: 합 계 | J6: =SUBTOTAL(9,J7:J80) -> 0 | K6: =SUBTOTAL(9,K7:K80) -> 0 | L6: =SUBTOTAL(9,L7:L80) -> 0 | M6: =SUBTOTAL(9,M7:M80) -> 0 | N6: =SUBTOTAL(9,N7:N80) -> 0 | O6: =SUBTOTAL(9,O7:O80) -> 0 | P6: =SUBTOTAL(9,P7:P80) -> 0 | Q6: =SUBTOTAL(9,Q7:Q80) -> 0 | R6: =SUBTOTAL(9,R7:R80) -> 0 | Z6: =SUBTOTAL(9,Z7:Z80) -> 0 | AA6: =SUBTOTAL(9,AA7:AA80) -> 0 | AB6: =IF(SUM($M6:$N6)=SUM($Z6:$AA6),"OK","검토") -> OK | AE6: =SUBTOTAL(9,AE7:AE80) -> 0 | AF6: =SUBTOTAL(9,AF7:AF80) -> 0 | AG6: =IF(SUM($M6:$N6)=SUM($Z6:$AA6),"OK","검토") -> OK
B7: ( 특별회계) | J7: =SUBTOTAL(9,J8:J70) -> 0 | K7: =SUBTOTAL(9,K8:K70) -> 0 | L7: =SUBTOTAL(9,L8:L70) -> 0 | M7: =SUBTOTAL(9,M8:M70) -> 0 | N7: =SUBTOTAL(9,N8:N70) -> 0 | O7: =SUBTOTAL(9,O8:O70) -> 0 | P7: =SUBTOTAL(9,P8:P70) -> 0 | Q7: =SUBTOTAL(9,Q8:Q70) -> 0 | R7: =SUBTOTAL(9,R8:R70) -> 0
A8: 1 | C8: =IF(D8="","",VLOOKUP(D8,구분표!$A$3:$C$215,3,)) | L8: =J8-K8 -> 0 | O8: =J8+M8+N8 -> 0 | R8: =J8+P8+Q8 -> 0 | S8: =IF(AND((O8=0),(R8>0)),"O",IF(AND((M8<0),(O8-R8<0)),"O","X")) -> X | Z8: =IF($Y8<>"도비",IF($W8="국도비","직접입력",SUM($M8:$N8)),) -> 0 | AA8: =IF($Y8="도비",SUM($M8:$N8),IF($W8="국도비","직접입력",SUM($M8:$N8)-$Z8)) -> 0 | AB8: =IF(SUM($M8:$N8)=SUM($Z8:$AA8),"OK","검토") -> OK | AE8: =IF($Y8<>"도비",IF($W8="국도비","직접입력",SUM($P8:$Q8)),) -> 0 | AF8: =IF($Y8="도비",SUM(P8:Q8),IF($W8="국도비","직접입력",SUM(P8:Q8)-AE8)) -> 0 | AG8: =IF(SUM(P8:Q8)=SUM(AE8:AF8),"OK","검토") -> OK | AI8: =IF(Y8="","",IF(Y8="도비","세입없음","직접입력")) | AK8: =IF(AI8="","",COUNTIF($AI$7:$AI$80,AI8)) | AL8: =IF(Y8="","",IF(AND(Y8="도비",AI8="세입없음"),"OK",IF(AND(Y8<>"도비",AI8<>""),"OK","@@"))) | AN8: {=IF(D8="","",INDEX(구분표!$I$2:$I$311, MATCH(1,(구분표!$E$2:$E$311='2추특출'!C8)*(구분표!$F$2:$F$311='2추특출'!D8)*(구분표!$G$2:$G$311='2추특출'!B8),0)))}
A9: =COUNTA($C$8:C9)-COUNTBLANK($C$8:C9) -> 0 | C9: =IF(D9="","",VLOOKUP(D9,구분표!$A$3:$C$215,3,)) | L9: =J9-K9 -> 0 | O9: =J9+M9+N9 -> 0 | R9: =J9+P9+Q9 -> 0 | S9: =IF(AND((O9=0),(R9>0)),"O",IF(AND((M9<0),(O9-R9<0)),"O","X")) -> X | Z9: =IF($Y9<>"도비",IF($W9="국도비","직접입력",SUM($M9:$N9)),) -> 0 | AA9: =IF($Y9="도비",SUM($M9:$N9),IF($W9="국도비","직접입력",SUM($M9:$N9)-$Z9)) -> 0 | AB9: =IF(SUM($M9:$N9)=SUM($Z9:$AA9),"OK","검토") -> OK | AE9: =IF($Y9<>"도비",IF($W9="국도비","직접입력",SUM($P9:$Q9)),) -> 0 | AF9: =IF($Y9="도비",SUM(P9:Q9),IF($W9="국도비","직접입력",SUM(P9:Q9)-AE9)) -> 0 | AG9: =IF(SUM(P9:Q9)=SUM(AE9:AF9),"OK","검토") -> OK | AI9: =IF(Y9="","",IF(Y9="도비","세입없음","직접입력")) | AK9: =IF(AI9="","",COUNTIF($AI$7:$AI$80,AI9)) | AL9: =IF(Y9="","",IF(AND(Y9="도비",AI9="세입없음"),"OK",IF(AND(Y9<>"도비",AI9<>""),"OK","@@"))) | AN9: {=IF(D9="","",INDEX(구분표!$I$2:$I$311, MATCH(1,(구분표!$E$2:$E$311='2추특출'!C9)*(구분표!$F$2:$F$311='2추특출'!D9)*(구분표!$G$2:$G$311='2추특출'!B9),0)))}
A10: =COUNTA($C$8:C10)-COUNTBLANK($C$8:C10) -> 0 | C10: =IF(D10="","",VLOOKUP(D10,구분표!$A$3:$C$215,3,)) | L10: =J10-K10 -> 0 | O10: =J10+M10+N10 -> 0 | R10: =J10+P10+Q10 -> 0 | S10: =IF(AND((O10=0),(R10>0)),"O",IF(AND((M10<0),(O10-R10<0)),"O","X")) -> X | Z10: =IF($Y10<>"도비",IF($W10="국도비","직접입력",SUM($M10:$N10)),) -> 0 | AA10: =IF($Y10="도비",SUM($M10:$N10),IF($W10="국도비","직접입력",SUM($M10:$N10)-$Z10)) -> 0 | AB10: =IF(SUM($M10:$N10)=SUM($Z10:$AA10),"OK","검토") -> OK | AE10: =IF($Y10<>"도비",IF($W10="국도비","직접입력",SUM($P10:$Q10)),) -> 0 | AF10: =IF($Y10="도비",SUM(P10:Q10),IF($W10="국도비","직접입력",SUM(P10:Q10)-AE10)) -> 0 | AG10: =IF(SUM(P10:Q10)=SUM(AE10:AF10),"OK","검토") -> OK | AI10: =IF(Y10="","",IF(Y10="도비","세입없음","직접입력")) | AK10: =IF(AI10="","",COUNTIF($AI$7:$AI$80,AI10)) | AL10: =IF(Y10="","",IF(AND(Y10="도비",AI10="세입없음"),"OK",IF(AND(Y10<>"도비",AI10<>""),"OK","@@"))) | AN10: {=IF(D10="","",INDEX(구분표!$I$2:$I$311, MATCH(1,(구분표!$E$2:$E$311='2추특출'!C10)*(구분표!$F$2:$F$311='2추특출'!D10)*(구분표!$G$2:$G$311='2추특출'!B10),0)))}
A11: =COUNTA($C$8:C11)-COUNTBLANK($C$8:C11) -> 0 | C11: =IF(D11="","",VLOOKUP(D11,구분표!$A$3:$C$215,3,)) | L11: =J11-K11 -> 0 | O11: =J11+M11+N11 -> 0 | R11: =J11+P11+Q11 -> 0 | S11: =IF(AND((O11=0),(R11>0)),"O",IF(AND((M11<0),(O11-R11<0)),"O","X")) -> X | Z11: =IF($Y11<>"도비",IF($W11="국도비","직접입력",SUM($M11:$N11)),) -> 0 | AA11: =IF($Y11="도비",SUM($M11:$N11),IF($W11="국도비","직접입력",SUM($M11:$N11)-$Z11)) -> 0 | AB11: =IF(SUM($M11:$N11)=SUM($Z11:$AA11),"OK","검토") -> OK | AE11: =IF($Y11<>"도비",IF($W11="국도비","직접입력",SUM($P11:$Q11)),) -> 0 | AF11: =IF($Y11="도비",SUM(P11:Q11),IF($W11="국도비","직접입력",SUM(P11:Q11)-AE11)) -> 0 | AG11: =IF(SUM(P11:Q11)=SUM(AE11:AF11),"OK","검토") -> OK | AI11: =IF(Y11="","",IF(Y11="도비","세입없음","직접입력")) | AK11: =IF(AI11="","",COUNTIF($AI$7:$AI$80,AI11)) | AL11: =IF(Y11="","",IF(AND(Y11="도비",AI11="세입없음"),"OK",IF(AND(Y11<>"도비",AI11<>""),"OK","@@"))) | AN11: {=IF(D11="","",INDEX(구분표!$I$2:$I$311, MATCH(1,(구분표!$E$2:$E$311='2추특출'!C11)*(구분표!$F$2:$F$311='2추특출'!D11)*(구분표!$G$2:$G$311='2추특출'!B11),0)))}
A12: =COUNTA($C$8:C12)-COUNTBLANK($C$8:C12) -> 0 | C12: =IF(D12="","",VLOOKUP(D12,구분표!$A$3:$C$215,3,)) | L12: =J12-K12 -> 0 | O12: =J12+M12+N12 -> 0 | R12: =J12+P12+Q12 -> 0 | S12: =IF(AND((O12=0),(R12>0)),"O",IF(AND((M12<0),(O12-R12<0)),"O","X")) -> X | Z12: =IF($Y12<>"도비",IF($W12="국도비","직접입력",SUM($M12:$N12)),) -> 0 | AA12: =IF($Y12="도비",SUM($M12:$N12),IF($W12="국도비","직접입력",SUM($M12:$N12)-$Z12)) -> 0 | AB12: =IF(SUM($M12:$N12)=SUM($Z12:$AA12),"OK","검토") -> OK | AE12: =IF($Y12<>"도비",IF($W12="국도비","직접입력",SUM($P12:$Q12)),) -> 0 | AF12: =IF($Y12="도비",SUM(P12:Q12),IF($W12="국도비","직접입력",SUM(P12:Q12)-AE12)) -> 0 | AG12: =IF(SUM(P12:Q12)=SUM(AE12:AF12),"OK","검토") -> OK | AI12: =IF(Y12="","",IF(Y12="도비","세입없음","직접입력")) | AK12: =IF(AI12="","",COUNTIF($AI$7:$AI$80,AI12)) | AL12: =IF(Y12="","",IF(AND(Y12="도비",AI12="세입없음"),"OK",IF(AND(Y12<>"도비",AI12<>""),"OK","@@"))) | AN12: {=IF(D12="","",INDEX(구분표!$I$2:$I$311, MATCH(1,(구분표!$E$2:$E$311='2추특출'!C12)*(구분표!$F$2:$F$311='2추특출'!D12)*(구분표!$G$2:$G$311='2추특출'!B12),0)))}
A13: =COUNTA($C$8:C13)-COUNTBLANK($C$8:C13) -> 0 | C13: =IF(D13="","",VLOOKUP(D13,구분표!$A$3:$C$215,3,)) | L13: =J13-K13 -> 0 | O13: =J13+M13+N13 -> 0 | R13: =J13+P13+Q13 -> 0 | S13: =IF(AND((O13=0),(R13>0)),"O",IF(AND((M13<0),(O13-R13<0)),"O","X")) -> X | Z13: =IF($Y13<>"도비",IF($W13="국도비","직접입력",SUM($M13:$N13)),) -> 0 | AA13: =IF($Y13="도비",SUM($M13:$N13),IF($W13="국도비","직접입력",SUM($M13:$N13)-$Z13)) -> 0 | AB13: =IF(SUM($M13:$N13)=SUM($Z13:$AA13),"OK","검토") -> OK | AE13: =IF($Y13<>"도비",IF($W13="국도비","직접입력",SUM($P13:$Q13)),) -> 0 | AF13: =IF($Y13="도비",SUM(P13:Q13),IF($W13="국도비","직접입력",SUM(P13:Q13)-AE13)) -> 0 | AG13: =IF(SUM(P13:Q13)=SUM(AE13:AF13),"OK","검토") -> OK | AI13: =IF(Y13="","",IF(Y13="도비","세입없음","직접입력")) | AK13: =IF(AI13="","",COUNTIF($AI$7:$AI$80,AI13)) | AL13: =IF(Y13="","",IF(AND(Y13="도비",AI13="세입없음"),"OK",IF(AND(Y13<>"도비",AI13<>""),"OK","@@"))) | AN13: {=IF(D13="","",INDEX(구분표!$I$2:$I$311, MATCH(1,(구분표!$E$2:$E$311='2추특출'!C13)*(구분표!$F$2:$F$311='2추특출'!D13)*(구분표!$G$2:$G$311='2추특출'!B13),0)))}
A14: =COUNTA($C$8:C14)-COUNTBLANK($C$8:C14) -> 0 | C14: =IF(D14="","",VLOOKUP(D14,구분표!$A$3:$C$215,3,)) | L14: =J14-K14 -> 0 | O14: =J14+M14+N14 -> 0 | R14: =J14+P14+Q14 -> 0 | S14: =IF(AND((O14=0),(R14>0)),"O",IF(AND((M14<0),(O14-R14<0)),"O","X")) -> X | Z14: =IF($Y14<>"도비",IF($W14="국도비","직접입력",SUM($M14:$N14)),) -> 0 | AA14: =IF($Y14="도비",SUM($M14:$N14),IF($W14="국도비","직접입력",SUM($M14:$N14)-$Z14)) -> 0 | AB14: =IF(SUM($M14:$N14)=SUM($Z14:$AA14),"OK","검토") -> OK | AE14: =IF($Y14<>"도비",IF($W14="국도비","직접입력",SUM($P14:$Q14)),) -> 0 | AF14: =IF($Y14="도비",SUM(P14:Q14),IF($W14="국도비","직접입력",SUM(P14:Q14)-AE14)) -> 0 | AG14: =IF(SUM(P14:Q14)=SUM(AE14:AF14),"OK","검토") -> OK | AI14: =IF(Y14="","",IF(Y14="도비","세입없음","직접입력")) | AK14: =IF(AI14="","",COUNTIF($AI$7:$AI$80,AI14)) | AL14: =IF(Y14="","",IF(AND(Y14="도비",AI14="세입없음"),"OK",IF(AND(Y14<>"도비",AI14<>""),"OK","@@"))) | AN14: {=IF(D14="","",INDEX(구분표!$I$2:$I$311, MATCH(1,(구분표!$E$2:$E$311='2추특출'!C14)*(구분표!$F$2:$F$311='2추특출'!D14)*(구분표!$G$2:$G$311='2추특출'!B14),0)))}
A15: =COUNTA($C$8:C15)-COUNTBLANK($C$8:C15) -> 0 | C15: =IF(D15="","",VLOOKUP(D15,구분표!$A$3:$C$215,3,)) | L15: =J15-K15 -> 0 | O15: =J15+M15+N15 -> 0 | R15: =J15+P15+Q15 -> 0 | S15: =IF(AND((O15=0),(R15>0)),"O",IF(AND((M15<0),(O15-R15<0)),"O","X")) -> X | Z15: =IF($Y15<>"도비",IF($W15="국도비","직접입력",SUM($M15:$N15)),) -> 0 | AA15: =IF($Y15="도비",SUM($M15:$N15),IF($W15="국도비","직접입력",SUM($M15:$N15)-$Z15)) -> 0 | AB15: =IF(SUM($M15:$N15)=SUM($Z15:$AA15),"OK","검토") -> OK | AE15: =IF($Y15<>"도비",IF($W15="국도비","직접입력",SUM($P15:$Q15)),) -> 0 | AF15: =IF($Y15="도비",SUM(P15:Q15),IF($W15="국도비","직접입력",SUM(P15:Q15)-AE15)) -> 0 | AG15: =IF(SUM(P15:Q15)=SUM(AE15:AF15),"OK","검토") -> OK | AI15: =IF(Y15="","",IF(Y15="도비","세입없음","직접입력")) | AK15: =IF(AI15="","",COUNTIF($AI$7:$AI$80,AI15)) | AL15: =IF(Y15="","",IF(AND(Y15="도비",AI15="세입없음"),"OK",IF(AND(Y15<>"도비",AI15<>""),"OK","@@"))) | AN15: {=IF(D15="","",INDEX(구분표!$I$2:$I$311, MATCH(1,(구분표!$E$2:$E$311='2추특출'!C15)*(구분표!$F$2:$F$311='2추특출'!D15)*(구분표!$G$2:$G$311='2추특출'!B15),0)))}
A16: =COUNTA($C$8:C16)-COUNTBLANK($C$8:C16) -> 0 | C16: =IF(D16="","",VLOOKUP(D16,구분표!$A$3:$C$215,3,)) | L16: =J16-K16 -> 0 | O16: =J16+M16+N16 -> 0 | R16: =J16+P16+Q16 -> 0 | S16: =IF(AND((O16=0),(R16>0)),"O",IF(AND((M16<0),(O16-R16<0)),"O","X")) -> X | Z16: =IF($Y16<>"도비",IF($W16="국도비","직접입력",SUM($M16:$N16)),) -> 0 | AA16: =IF($Y16="도비",SUM($M16:$N16),IF($W16="국도비","직접입력",SUM($M16:$N16)-$Z16)) -> 0 | AB16: =IF(SUM($M16:$N16)=SUM($Z16:$AA16),"OK","검토") -> OK | AE16: =IF($Y16<>"도비",IF($W16="국도비","직접입력",SUM($P16:$Q16)),) -> 0 | AF16: =IF($Y16="도비",SUM(P16:Q16),IF($W16="국도비","직접입력",SUM(P16:Q16)-AE16)) -> 0 | AG16: =IF(SUM(P16:Q16)=SUM(AE16:AF16),"OK","검토") -> OK | AI16: =IF(Y16="","",IF(Y16="도비","세입없음","직접입력")) | AK16: =IF(AI16="","",COUNTIF($AI$7:$AI$80,AI16)) | AL16: =IF(Y16="","",IF(AND(Y16="도비",AI16="세입없음"),"OK",IF(AND(Y16<>"도비",AI16<>""),"OK","@@"))) | AN16: {=IF(D16="","",INDEX(구분표!$I$2:$I$311, MATCH(1,(구분표!$E$2:$E$311='2추특출'!C16)*(구분표!$F$2:$F$311='2추특출'!D16)*(구분표!$G$2:$G$311='2추특출'!B16),0)))}
A17: =COUNTA($C$8:C17)-COUNTBLANK($C$8:C17) -> 0 | C17: =IF(D17="","",VLOOKUP(D17,구분표!$A$3:$C$215,3,)) | L17: =J17-K17 -> 0 | O17: =J17+M17+N17 -> 0 | R17: =J17+P17+Q17 -> 0 | S17: =IF(AND((O17=0),(R17>0)),"O",IF(AND((M17<0),(O17-R17<0)),"O","X")) -> X | Z17: =IF($Y17<>"도비",IF($W17="국도비","직접입력",SUM($M17:$N17)),) -> 0 | AA17: =IF($Y17="도비",SUM($M17:$N17),IF($W17="국도비","직접입력",SUM($M17:$N17)-$Z17)) -> 0 | AB17: =IF(SUM($M17:$N17)=SUM($Z17:$AA17),"OK","검토") -> OK | AE17: =IF($Y17<>"도비",IF($W17="국도비","직접입력",SUM($P17:$Q17)),) -> 0 | AF17: =IF($Y17="도비",SUM(P17:Q17),IF($W17="국도비","직접입력",SUM(P17:Q17)-AE17)) -> 0 | AG17: =IF(SUM(P17:Q17)=SUM(AE17:AF17),"OK","검토") -> OK | AI17: =IF(Y17="","",IF(Y17="도비","세입없음","직접입력")) | AK17: =IF(AI17="","",COUNTIF($AI$7:$AI$80,AI17)) | AL17: =IF(Y17="","",IF(AND(Y17="도비",AI17="세입없음"),"OK",IF(AND(Y17<>"도비",AI17<>""),"OK","@@"))) | AN17: {=IF(D17="","",INDEX(구분표!$I$2:$I$311, MATCH(1,(구분표!$E$2:$E$311='2추특출'!C17)*(구분표!$F$2:$F$311='2추특출'!D17)*(구분표!$G$2:$G$311='2추특출'!B17),0)))}
A18: =COUNTA($C$8:C18)-COUNTBLANK($C$8:C18) -> 0 | C18: =IF(D18="","",VLOOKUP(D18,구분표!$A$3:$C$215,3,)) | L18: =J18-K18 -> 0 | O18: =J18+M18+N18 -> 0 | R18: =J18+P18+Q18 -> 0 | S18: =IF(AND((O18=0),(R18>0)),"O",IF(AND((M18<0),(O18-R18<0)),"O","X")) -> X | Z18: =IF($Y18<>"도비",IF($W18="국도비","직접입력",SUM($M18:$N18)),) -> 0 | AA18: =IF($Y18="도비",SUM($M18:$N18),IF($W18="국도비","직접입력",SUM($M18:$N18)-$Z18)) -> 0 | AB18: =IF(SUM($M18:$N18)=SUM($Z18:$AA18),"OK","검토") -> OK | AE18: =IF($Y18<>"도비",IF($W18="국도비","직접입력",SUM($P18:$Q18)),) -> 0 | AF18: =IF($Y18="도비",SUM(P18:Q18),IF($W18="국도비","직접입력",SUM(P18:Q18)-AE18)) -> 0 | AG18: =IF(SUM(P18:Q18)=SUM(AE18:AF18),"OK","검토") -> OK | AI18: =IF(Y18="","",IF(Y18="도비","세입없음","직접입력")) | AK18: =IF(AI18="","",COUNTIF($AI$7:$AI$80,AI18)) | AL18: =IF(Y18="","",IF(AND(Y18="도비",AI18="세입없음"),"OK",IF(AND(Y18<>"도비",AI18<>""),"OK","@@"))) | AN18: {=IF(D18="","",INDEX(구분표!$I$2:$I$311, MATCH(1,(구분표!$E$2:$E$311='2추특출'!C18)*(구분표!$F$2:$F$311='2추특출'!D18)*(구분표!$G$2:$G$311='2추특출'!B18),0)))}
A19: =COUNTA($C$8:C19)-COUNTBLANK($C$8:C19) -> 0 | C19: =IF(D19="","",VLOOKUP(D19,구분표!$A$3:$C$215,3,)) | L19: =J19-K19 -> 0 | O19: =J19+M19+N19 -> 0 | R19: =J19+P19+Q19 -> 0 | S19: =IF(AND((O19=0),(R19>0)),"O",IF(AND((M19<0),(O19-R19<0)),"O","X")) -> X | Z19: =IF($Y19<>"도비",IF($W19="국도비","직접입력",SUM($M19:$N19)),) -> 0 | AA19: =IF($Y19="도비",SUM($M19:$N19),IF($W19="국도비","직접입력",SUM($M19:$N19)-$Z19)) -> 0 | AB19: =IF(SUM($M19:$N19)=SUM($Z19:$AA19),"OK","검토") -> OK | AE19: =IF($Y19<>"도비",IF($W19="국도비","직접입력",SUM($P19:$Q19)),) -> 0 | AF19: =IF($Y19="도비",SUM(P19:Q19),IF($W19="국도비","직접입력",SUM(P19:Q19)-AE19)) -> 0 | AG19: =IF(SUM(P19:Q19)=SUM(AE19:AF19),"OK","검토") -> OK | AI19: =IF(Y19="","",IF(Y19="도비","세입없음","직접입력")) | AK19: =IF(AI19="","",COUNTIF($AI$7:$AI$80,AI19)) | AL19: =IF(Y19="","",IF(AND(Y19="도비",AI19="세입없음"),"OK",IF(AND(Y19<>"도비",AI19<>""),"OK","@@"))) | AN19: {=IF(D19="","",INDEX(구분표!$I$2:$I$311, MATCH(1,(구분표!$E$2:$E$311='2추특출'!C19)*(구분표!$F$2:$F$311='2추특출'!D19)*(구분표!$G$2:$G$311='2추특출'!B19),0)))}
A20: =COUNTA($C$8:C20)-COUNTBLANK($C$8:C20) -> 0 | C20: =IF(D20="","",VLOOKUP(D20,구분표!$A$3:$C$215,3,)) | L20: =J20-K20 -> 0 | O20: =J20+M20+N20 -> 0 | R20: =J20+P20+Q20 -> 0 | S20: =IF(AND((O20=0),(R20>0)),"O",IF(AND((M20<0),(O20-R20<0)),"O","X")) -> X | Z20: =IF($Y20<>"도비",IF($W20="국도비","직접입력",SUM($M20:$N20)),) -> 0 | AA20: =IF($Y20="도비",SUM($M20:$N20),IF($W20="국도비","직접입력",SUM($M20:$N20)-$Z20)) -> 0 | AB20: =IF(SUM($M20:$N20)=SUM($Z20:$AA20),"OK","검토") -> OK | AE20: =IF($Y20<>"도비",IF($W20="국도비","직접입력",SUM($P20:$Q20)),) -> 0 | AF20: =IF($Y20="도비",SUM(P20:Q20),IF($W20="국도비","직접입력",SUM(P20:Q20)-AE20)) -> 0 | AG20: =IF(SUM(P20:Q20)=SUM(AE20:AF20),"OK","검토") -> OK | AI20: =IF(Y20="","",IF(Y20="도비","세입없음","직접입력")) | AK20: =IF(AI20="","",COUNTIF($AI$7:$AI$80,AI20)) | AL20: =IF(Y20="","",IF(AND(Y20="도비",AI20="세입없음"),"OK",IF(AND(Y20<>"도비",AI20<>""),"OK","@@"))) | AN20: {=IF(D20="","",INDEX(구분표!$I$2:$I$311, MATCH(1,(구분표!$E$2:$E$311='2추특출'!C20)*(구분표!$F$2:$F$311='2추특출'!D20)*(구분표!$G$2:$G$311='2추특출'!B20),0)))}
... A64: =COUNTA($C$8:C64)-COUNTBLANK($C$8:C64) -> 0 | C64: =IF(D64="","",VLOOKUP(D64,구분표!$A$3:$C$215,3,)) | L64: =J64-K64 -> 0 | O64: =J64+M64+N64 -> 0 | R64: =J64+P64+Q64 -> 0 | S64: =IF(AND((O64=0),(R64>0)),"O",IF(AND((M64<0),(O64-R64<0)),"O","X")) -> X | Z64: =IF($Y64<>"도비",IF($W64="국도비","직접입력",SUM($M64:$N64)),) -> 0 | AA64: =IF($Y64="도비",SUM($M64:$N64),IF($W64="국도비","직접입력",SUM($M64:$N64)-$Z64)) -> 0 | AB64: =IF(SUM($M64:$N64)=SUM($Z64:$AA64),"OK","검토") -> OK | AE64: =IF($Y64<>"도비",IF($W64="국도비","직접입력",SUM($P64:$Q64)),) -> 0 | AF64: =IF($Y64="도비",SUM(P64:Q64),IF($W64="국도비","직접입력",SUM(P64:Q64)-AE64)) -> 0 | AG64: =IF(SUM(P64:Q64)=SUM(AE64:AF64),"OK","검토") -> OK | AI64: =IF(Y64="","",IF(Y64="도비","세입없음","직접입력")) | AK64: =IF(AI64="","",COUNTIF($AI$7:$AI$80,AI64)) | AL64: =IF(Y64="","",IF(AND(Y64="도비",AI64="세입없음"),"OK",IF(AND(Y64<>"도비",AI64<>""),"OK","@@"))) | AN64: {=IF(D64="","",INDEX(구분표!$I$2:$I$311, MATCH(1,(구분표!$E$2:$E$311='2추특출'!C64)*(구분표!$F$2:$F$311='2추특출'!D64)*(구분표!$G$2:$G$311='2추특출'!B64),0)))}
A65: =COUNTA($C$8:C65)-COUNTBLANK($C$8:C65) -> -1 | L65: =J65-K65 -> 0 | O65: =J65+M65+N65 -> 0 | R65: =J65+P65+Q65 -> 0 | S65: =IF(AND((O65=0),(R65>0)),"O",IF(AND((M65<0),(O65-R65<0)),"O","X")) -> X | Z65: =IF($Y65<>"도비",IF($W65="국도비","직접입력",SUM($M65:$N65)),) -> 0 | AA65: =IF($Y65="도비",SUM($M65:$N65),IF($W65="국도비","직접입력",SUM($M65:$N65)-$Z65)) -> 0 | AB65: =IF(SUM($M65:$N65)=SUM($Z65:$AA65),"OK","검토") -> OK | AE65: =IF($Y65<>"도비",IF($W65="국도비","직접입력",SUM($P65:$Q65)),) -> 0 | AF65: =IF($Y65="도비",SUM(P65:Q65),IF($W65="국도비","직접입력",SUM(P65:Q65)-AE65)) -> 0 | AG65: =IF(SUM(P65:Q65)=SUM(AE65:AF65),"OK","검토") -> OK | AI65: =IF(Y65="","",IF(Y65="도비","세입없음","직접입력")) | AK65: =IF(AI65="","",COUNTIF($AI$7:$AI$80,AI65)) | AL65: =IF(Y65="","",IF(AND(Y65="도비",AI65="세입없음"),"OK",IF(AND(Y65<>"도비",AI65<>""),"OK","@@"))) | AN65: {=IF(D65="","",INDEX(구분표!$I$2:$I$311, MATCH(1,(구분표!$E$2:$E$311='2추특출'!C65)*(구분표!$F$2:$F$311='2추특출'!D65)*(구분표!$G$2:$G$311='2추특출'!B65),0)))}
A66: =COUNTA($C$8:C66)-COUNTBLANK($C$8:C66) -> -1 | C66: =IF(D66="","",VLOOKUP(D66,구분표!$A$3:$C$215,3,)) | L66: =J66-K66 -> 0 | O66: =J66+M66+N66 -> 0 | R66: =J66+P66+Q66 -> 0 | S66: =IF(AND((O66=0),(R66>0)),"O",IF(AND((M66<0),(O66-R66<0)),"O","X")) -> X | Z66: =IF($Y66<>"도비",IF($W66="국도비","직접입력",SUM($M66:$N66)),) -> 0 | AA66: =IF($Y66="도비",SUM($M66:$N66),IF($W66="국도비","직접입력",SUM($M66:$N66)-$Z66)) -> 0 | AB66: =IF(SUM($M66:$N66)=SUM($Z66:$AA66),"OK","검토") -> OK | AE66: =IF($Y66<>"도비",IF($W66="국도비","직접입력",SUM($P66:$Q66)),) -> 0 | AF66: =IF($Y66="도비",SUM(P66:Q66),IF($W66="국도비","직접입력",SUM(P66:Q66)-AE66)) -> 0 | AG66: =IF(SUM(P66:Q66)=SUM(AE66:AF66),"OK","검토") -> OK | AI66: =IF(Y66="","",IF(Y66="도비","세입없음","직접입력")) | AK66: =IF(AI66="","",COUNTIF($AI$7:$AI$80,AI66)) | AL66: =IF(Y66="","",IF(AND(Y66="도비",AI66="세입없음"),"OK",IF(AND(Y66<>"도비",AI66<>""),"OK","@@"))) | AN66: {=IF(D66="","",INDEX(구분표!$I$2:$I$311, MATCH(1,(구분표!$E$2:$E$311='2추특출'!C66)*(구분표!$F$2:$F$311='2추특출'!D66)*(구분표!$G$2:$G$311='2추특출'!B66),0)))}
A67: =COUNTA($C$8:C67)-COUNTBLANK($C$8:C67) -> -1 | C67: =IF(D67="","",VLOOKUP(D67,구분표!$A$3:$C$215,3,)) | L67: =J67-K67 -> 0 | O67: =J67+M67+N67 -> 0 | R67: =J67+P67+Q67 -> 0 | S67: =IF(AND((O67=0),(R67>0)),"O",IF(AND((M67<0),(O67-R67<0)),"O","X")) -> X | Z67: =IF($Y67<>"도비",IF($W67="국도비","직접입력",SUM($M67:$N67)),) -> 0 | AA67: =IF($Y67="도비",SUM($M67:$N67),IF($W67="국도비","직접입력",SUM($M67:$N67)-$Z67)) -> 0 | AB67: =IF(SUM($M67:$N67)=SUM($Z67:$AA67),"OK","검토") -> OK | AE67: =IF($Y67<>"도비",IF($W67="국도비","직접입력",SUM($P67:$Q67)),) -> 0 | AF67: =IF($Y67="도비",SUM(P67:Q67),IF($W67="국도비","직접입력",SUM(P67:Q67)-AE67)) -> 0 | AG67: =IF(SUM(P67:Q67)=SUM(AE67:AF67),"OK","검토") -> OK | AI67: =IF(Y67="","",IF(Y67="도비","세입없음","직접입력")) | AK67: =IF(AI67="","",COUNTIF($AI$7:$AI$80,AI67)) | AL67: =IF(Y67="","",IF(AND(Y67="도비",AI67="세입없음"),"OK",IF(AND(Y67<>"도비",AI67<>""),"OK","@@"))) | AN67: {=IF(D67="","",INDEX(구분표!$I$2:$I$311, MATCH(1,(구분표!$E$2:$E$311='2추특출'!C67)*(구분표!$F$2:$F$311='2추특출'!D67)*(구분표!$G$2:$G$311='2추특출'!B67),0)))}
A68: =COUNTA($C$8:C68)-COUNTBLANK($C$8:C68) -> -1 | C68: =IF(D68="","",VLOOKUP(D68,구분표!$A$3:$C$215,3,)) | L68: =J68-K68 -> 0 | O68: =J68+M68+N68 -> 0 | R68: =J68+P68+Q68 -> 0 | S68: =IF(AND((O68=0),(R68>0)),"O",IF(AND((M68<0),(O68-R68<0)),"O","X")) -> X | Z68: =IF($Y68<>"도비",IF($W68="국도비","직접입력",SUM($M68:$N68)),) -> 0 | AA68: =IF($Y68="도비",SUM($M68:$N68),IF($W68="국도비","직접입력",SUM($M68:$N68)-$Z68)) -> 0 | AB68: =IF(SUM($M68:$N68)=SUM($Z68:$AA68),"OK","검토") -> OK | AE68: =IF($Y68<>"도비",IF($W68="국도비","직접입력",SUM($P68:$Q68)),) -> 0 | AF68: =IF($Y68="도비",SUM(P68:Q68),IF($W68="국도비","직접입력",SUM(P68:Q68)-AE68)) -> 0 | AG68: =IF(SUM(P68:Q68)=SUM(AE68:AF68),"OK","검토") -> OK | AI68: =IF(Y68="","",IF(Y68="도비","세입없음","직접입력")) | AK68: =IF(AI68="","",COUNTIF($AI$7:$AI$80,AI68)) | AL68: =IF(Y68="","",IF(AND(Y68="도비",AI68="세입없음"),"OK",IF(AND(Y68<>"도비",AI68<>""),"OK","@@"))) | AN68: {=IF(D68="","",INDEX(구분표!$I$2:$I$311, MATCH(1,(구분표!$E$2:$E$311='2추특출'!C68)*(구분표!$F$2:$F$311='2추특출'!D68)*(구분표!$G$2:$G$311='2추특출'!B68),0)))}
A69: =COUNTA($C$8:C69)-COUNTBLANK($C$8:C69) -> -1 | C69: =IF(D69="","",VLOOKUP(D69,구분표!$A$3:$C$215,3,)) | L69: =J69-K69 -> 0 | O69: =J69+M69+N69 -> 0 | R69: =J69+P69+Q69 -> 0 | S69: =IF(AND((O69=0),(R69>0)),"O",IF(AND((M69<0),(O69-R69<0)),"O","X")) -> X | Z69: =IF($Y69<>"도비",IF($W69="국도비","직접입력",SUM($M69:$N69)),) -> 0 | AA69: =IF($Y69="도비",SUM($M69:$N69),IF($W69="국도비","직접입력",SUM($M69:$N69)-$Z69)) -> 0 | AB69: =IF(SUM($M69:$N69)=SUM($Z69:$AA69),"OK","검토") -> OK | AE69: =IF($Y69<>"도비",IF($W69="국도비","직접입력",SUM($P69:$Q69)),) -> 0 | AF69: =IF($Y69="도비",SUM(P69:Q69),IF($W69="국도비","직접입력",SUM(P69:Q69)-AE69)) -> 0 | AG69: =IF(SUM(P69:Q69)=SUM(AE69:AF69),"OK","검토") -> OK | AI69: =IF(Y69="","",IF(Y69="도비","세입없음","직접입력")) | AK69: =IF(AI69="","",COUNTIF($AI$7:$AI$80,AI69)) | AL69: =IF(Y69="","",IF(AND(Y69="도비",AI69="세입없음"),"OK",IF(AND(Y69<>"도비",AI69<>""),"OK","@@"))) | AN69: {=IF(D69="","",INDEX(구분표!$I$2:$I$311, MATCH(1,(구분표!$E$2:$E$311='2추특출'!C69)*(구분표!$F$2:$F$311='2추특출'!D69)*(구분표!$G$2:$G$311='2추특출'!B69),0)))}
A70: =COUNTA($C$8:C70)-COUNTBLANK($C$8:C70) -> -1 | C70: =IF(D70="","",VLOOKUP(D70,구분표!$A$3:$C$215,3,)) | L70: =J70-K70 -> 0 | O70: =J70+M70+N70 -> 0 | R70: =J70+P70+Q70 -> 0 | S70: =IF(AND((O70=0),(R70>0)),"O",IF(AND((M70<0),(O70-R70<0)),"O","X")) -> X | Z70: =IF($Y70<>"도비",IF($W70="국도비","직접입력",SUM($M70:$N70)),) -> 0 | AA70: =IF($Y70="도비",SUM($M70:$N70),IF($W70="국도비","직접입력",SUM($M70:$N70)-$Z70)) -> 0 | AB70: =IF(SUM($M70:$N70)=SUM($Z70:$AA70),"OK","검토") -> OK | AE70: =IF($Y70<>"도비",IF($W70="국도비","직접입력",SUM($P70:$Q70)),) -> 0 | AF70: =IF($Y70="도비",SUM(P70:Q70),IF($W70="국도비","직접입력",SUM(P70:Q70)-AE70)) -> 0 | AG70: =IF(SUM(P70:Q70)=SUM(AE70:AF70),"OK","검토") -> OK | AI70: =IF(Y70="","",IF(Y70="도비","세입없음","직접입력")) | AK70: =IF(AI70="","",COUNTIF($AI$7:$AI$80,AI70)) | AL70: =IF(Y70="","",IF(AND(Y70="도비",AI70="세입없음"),"OK",IF(AND(Y70<>"도비",AI70<>""),"OK","@@"))) | AN70: {=IF(D70="","",INDEX(구분표!$I$2:$I$311, MATCH(1,(구분표!$E$2:$E$311='2추특출'!C70)*(구분표!$F$2:$F$311='2추특출'!D70)*(구분표!$G$2:$G$311='2추특출'!B70),0)))}
B71: ( 특별회계) | J71: =SUBTOTAL(9,J72:J76) -> 0 | K71: =SUBTOTAL(9,K72:K76) -> 0 | L71: =SUBTOTAL(9,L72:L76) -> 0 | M71: =SUBTOTAL(9,M72:M76) -> 0 | N71: =SUBTOTAL(9,N72:N76) -> 0 | O71: =SUBTOTAL(9,O72:O76) -> 0 | P71: =SUBTOTAL(9,P72:P76) -> 0 | Q71: =SUBTOTAL(9,Q72:Q76) -> 0 | R71: =SUBTOTAL(9,R72:R76) -> 0 | AI71: =IF(Y71="","",IF(Y71="도비","세입없음","직접입력"))
A72: =COUNTA($C$8:C72)-COUNTBLANK($C$8:C72)+1 -> -1 | C72: =IF(D72="","",VLOOKUP(D72,구분표!$A$3:$C$215,3,)) | L72: =J72-K72 -> 0 | O72: =J72+M72+N72 -> 0 | R72: =J72+P72+Q72 -> 0 | S72: =IF(AND((O72=0),(R72>0)),"O",IF(AND((M72<0),(O72-R72<0)),"O","X")) -> X | Z72: =IF($Y72<>"도비",IF($W72="국도비","직접입력",SUM($M72:$N72)),) -> 0 | AA72: =IF($Y72="도비",SUM($M72:$N72),IF($W72="국도비","직접입력",SUM($M72:$N72)-$Z72)) -> 0 | AB72: =IF(SUM($M72:$N72)=SUM($Z72:$AA72),"OK","검토") -> OK | AE72: =IF($Y72<>"도비",IF($W72="국도비","직접입력",SUM($P72:$Q72)),) -> 0 | AF72: =IF($Y72="도비",SUM(P72:Q72),IF($W72="국도비","직접입력",SUM(P72:Q72)-AE72)) -> 0 | AG72: =IF(SUM(P72:Q72)=SUM(AE72:AF72),"OK","검토") -> OK | AI72: =IF(Y72="","",IF(Y72="도비","세입없음","직접입력")) | AK72: =IF(AI72="","",COUNTIF($AI$7:$AI$80,AI72)) | AL72: =IF(Y72="","",IF(AND(Y72="도비",AI72="세입없음"),"OK",IF(AND(Y72<>"도비",AI72<>""),"OK","@@"))) | AN72: {=IF(D72="","",INDEX(구분표!$I$2:$I$311, MATCH(1,(구분표!$E$2:$E$311='2추특출'!C72)*(구분표!$F$2:$F$311='2추특출'!D72)*(구분표!$G$2:$G$311='2추특출'!B72),0)))}
A73: =COUNTA($C$8:C73)-COUNTBLANK($C$8:C73)+1 -> -1 | C73: =IF(D73="","",VLOOKUP(D73,구분표!$A$3:$C$215,3,)) | L73: =J73-K73 -> 0 | O73: =J73+M73+N73 -> 0 | R73: =J73+P73+Q73 -> 0 | S73: =IF(AND((O73=0),(R73>0)),"O",IF(AND((M73<0),(O73-R73<0)),"O","X")) -> X | Z73: =IF($Y73<>"도비",IF($W73="국도비","직접입력",SUM($M73:$N73)),) -> 0 | AA73: =IF($Y73="도비",SUM($M73:$N73),IF($W73="국도비","직접입력",SUM($M73:$N73)-$Z73)) -> 0 | AB73: =IF(SUM($M73:$N73)=SUM($Z73:$AA73),"OK","검토") -> OK | AE73: =IF($Y73<>"도비",IF($W73="국도비","직접입력",SUM($P73:$Q73)),) -> 0 | AF73: =IF($Y73="도비",SUM(P73:Q73),IF($W73="국도비","직접입력",SUM(P73:Q73)-AE73)) -> 0 | AG73: =IF(SUM(P73:Q73)=SUM(AE73:AF73),"OK","검토") -> OK | AI73: =IF(Y73="","",IF(Y73="도비","세입없음","직접입력")) | AK73: =IF(AI73="","",COUNTIF($AI$7:$AI$80,AI73)) | AL73: =IF(Y73="","",IF(AND(Y73="도비",AI73="세입없음"),"OK",IF(AND(Y73<>"도비",AI73<>""),"OK","@@"))) | AN73: {=IF(D73="","",INDEX(구분표!$I$2:$I$311, MATCH(1,(구분표!$E$2:$E$311='2추특출'!C73)*(구분표!$F$2:$F$311='2추특출'!D73)*(구분표!$G$2:$G$311='2추특출'!B73),0)))}
A74: =COUNTA($C$8:C74)-COUNTBLANK($C$8:C74)+1 -> -1 | C74: =IF(D74="","",VLOOKUP(D74,구분표!$A$3:$C$215,3,)) | L74: =J74-K74 -> 0 | O74: =J74+M74+N74 -> 0 | R74: =J74+P74+Q74 -> 0 | S74: =IF(AND((O74=0),(R74>0)),"O",IF(AND((M74<0),(O74-R74<0)),"O","X")) -> X | Z74: =IF($Y74<>"도비",IF($W74="국도비","직접입력",SUM($M74:$N74)),) -> 0 | AA74: =IF($Y74="도비",SUM($M74:$N74),IF($W74="국도비","직접입력",SUM($M74:$N74)-$Z74)) -> 0 | AB74: =IF(SUM($M74:$N74)=SUM($Z74:$AA74),"OK","검토") -> OK | AE74: =IF($Y74<>"도비",IF($W74="국도비","직접입력",SUM($P74:$Q74)),) -> 0 | AF74: =IF($Y74="도비",SUM(P74:Q74),IF($W74="국도비","직접입력",SUM(P74:Q74)-AE74)) -> 0 | AG74: =IF(SUM(P74:Q74)=SUM(AE74:AF74),"OK","검토") -> OK | AI74: =IF(Y74="","",IF(Y74="도비","세입없음","직접입력")) | AK74: =IF(AI74="","",COUNTIF($AI$7:$AI$80,AI74)) | AL74: =IF(Y74="","",IF(AND(Y74="도비",AI74="세입없음"),"OK",IF(AND(Y74<>"도비",AI74<>""),"OK","@@"))) | AN74: {=IF(D74="","",INDEX(구분표!$I$2:$I$311, MATCH(1,(구분표!$E$2:$E$311='2추특출'!C74)*(구분표!$F$2:$F$311='2추특출'!D74)*(구분표!$G$2:$G$311='2추특출'!B74),0)))}
A75: =COUNTA($C$8:C75)-COUNTBLANK($C$8:C75)+1 -> -1 | C75: =IF(D75="","",VLOOKUP(D75,구분표!$A$3:$C$215,3,)) | L75: =J75-K75 -> 0 | O75: =J75+M75+N75 -> 0 | R75: =J75+P75+Q75 -> 0 | S75: =IF(AND((O75=0),(R75>0)),"O",IF(AND((M75<0),(O75-R75<0)),"O","X")) -> X | Z75: =IF($Y75<>"도비",IF($W75="국도비","직접입력",SUM($M75:$N75)),) -> 0 | AA75: =IF($Y75="도비",SUM($M75:$N75),IF($W75="국도비","직접입력",SUM($M75:$N75)-$Z75)) -> 0 | AB75: =IF(SUM($M75:$N75)=SUM($Z75:$AA75),"OK","검토") -> OK | AE75: =IF($Y75<>"도비",IF($W75="국도비","직접입력",SUM($P75:$Q75)),) -> 0 | AF75: =IF($Y75="도비",SUM(P75:Q75),IF($W75="국도비","직접입력",SUM(P75:Q75)-AE75)) -> 0 | AG75: =IF(SUM(P75:Q75)=SUM(AE75:AF75),"OK","검토") -> OK | AI75: =IF(Y75="","",IF(Y75="도비","세입없음","직접입력")) | AK75: =IF(AI75="","",COUNTIF($AI$7:$AI$80,AI75)) | AL75: =IF(Y75="","",IF(AND(Y75="도비",AI75="세입없음"),"OK",IF(AND(Y75<>"도비",AI75<>""),"OK","@@"))) | AN75: {=IF(D75="","",INDEX(구분표!$I$2:$I$311, MATCH(1,(구분표!$E$2:$E$311='2추특출'!C75)*(구분표!$F$2:$F$311='2추특출'!D75)*(구분표!$G$2:$G$311='2추특출'!B75),0)))}
A76: =COUNTA($C$8:C76)-COUNTBLANK($C$8:C76)+1 -> -1 | C76: =IF(D76="","",VLOOKUP(D76,구분표!$A$3:$C$215,3,)) | L76: =J76-K76 -> 0 | O76: =J76+M76+N76 -> 0 | R76: =J76+P76+Q76 -> 0 | S76: =IF(AND((O76=0),(R76>0)),"O",IF(AND((M76<0),(O76-R76<0)),"O","X")) -> X | Z76: =IF($Y76<>"도비",IF($W76="국도비","직접입력",SUM($M76:$N76)),) -> 0 | AA76: =IF($Y76="도비",SUM($M76:$N76),IF($W76="국도비","직접입력",SUM($M76:$N76)-$Z76)) -> 0 | AB76: =IF(SUM($M76:$N76)=SUM($Z76:$AA76),"OK","검토") -> OK | AE76: =IF($Y76<>"도비",IF($W76="국도비","직접입력",SUM($P76:$Q76)),) -> 0 | AF76: =IF($Y76="도비",SUM(P76:Q76),IF($W76="국도비","직접입력",SUM(P76:Q76)-AE76)) -> 0 | AG76: =IF(SUM(P76:Q76)=SUM(AE76:AF76),"OK","검토") -> OK | AI76: =IF(Y76="","",IF(Y76="도비","세입없음","직접입력")) | AK76: =IF(AI76="","",COUNTIF($AI$7:$AI$80,AI76)) | AL76: =IF(Y76="","",IF(AND(Y76="도비",AI76="세입없음"),"OK",IF(AND(Y76<>"도비",AI76<>""),"OK","@@"))) | AN76: {=IF(D76="","",INDEX(구분표!$I$2:$I$311, MATCH(1,(구분표!$E$2:$E$311='2추특출'!C76)*(구분표!$F$2:$F$311='2추특출'!D76)*(구분표!$G$2:$G$311='2추특출'!B76),0)))}
B77: ( 특별회계) | J77: =SUBTOTAL(9,J78:J80) -> 0 | K77: =SUBTOTAL(9,K78:K80) -> 0 | L77: =SUBTOTAL(9,L78:L80) -> 0 | M77: =SUBTOTAL(9,M78:M80) -> 0 | N77: =SUBTOTAL(9,N78:N80) -> 0 | O77: =SUBTOTAL(9,O78:O80) -> 0 | P77: =SUBTOTAL(9,P78:P80) -> 0 | Q77: =SUBTOTAL(9,Q78:Q80) -> 0 | R77: =SUBTOTAL(9,R78:R80) -> 0 | AI77: =IF(Y77="","",IF(Y77="도비","세입없음","직접입력"))
A78: =COUNTA($C$8:C78)-COUNTBLANK($C$8:C78)+2 -> -1 | C78: =IF(D78="","",VLOOKUP(D78,구분표!$A$3:$C$215,3,)) | L78: =J78-K78 -> 0 | O78: =J78+M78+N78 -> 0 | R78: =J78+P78+Q78 -> 0 | S78: =IF(AND((O78=0),(R78>0)),"O",IF(AND((M78<0),(O78-R78<0)),"O","X")) -> X | Z78: =IF($Y78<>"도비",IF($W78="국도비","직접입력",SUM($M78:$N78)),) -> 0 | AA78: =IF($Y78="도비",SUM($M78:$N78),IF($W78="국도비","직접입력",SUM($M78:$N78)-$Z78)) -> 0 | AB78: =IF(SUM($M78:$N78)=SUM($Z78:$AA78),"OK","검토") -> OK | AE78: =IF($Y78<>"도비",IF($W78="국도비","직접입력",SUM($P78:$Q78)),) -> 0 | AF78: =IF($Y78="도비",SUM(P78:Q78),IF($W78="국도비","직접입력",SUM(P78:Q78)-AE78)) -> 0 | AG78: =IF(SUM(P78:Q78)=SUM(AE78:AF78),"OK","검토") -> OK | AI78: =IF(Y78="","",IF(Y78="도비","세입없음","직접입력")) | AK78: =IF(AI78="","",COUNTIF($AI$7:$AI$80,AI78)) | AL78: =IF(Y78="","",IF(AND(Y78="도비",AI78="세입없음"),"OK",IF(AND(Y78<>"도비",AI78<>""),"OK","@@"))) | AN78: {=IF(D78="","",INDEX(구분표!$I$2:$I$311, MATCH(1,(구분표!$E$2:$E$311='2추특출'!C78)*(구분표!$F$2:$F$311='2추특출'!D78)*(구분표!$G$2:$G$311='2추특출'!B78),0)))}
A79: =COUNTA($C$8:C79)-COUNTBLANK($C$8:C79)+2 -> -1 | C79: =IF(D79="","",VLOOKUP(D79,구분표!$A$3:$C$215,3,)) | L79: =J79-K79 -> 0 | O79: =J79+M79+N79 -> 0 | R79: =J79+P79+Q79 -> 0 | S79: =IF(AND((O79=0),(R79>0)),"O",IF(AND((M79<0),(O79-R79<0)),"O","X")) -> X | Z79: =IF($Y79<>"도비",IF($W79="국도비","직접입력",SUM($M79:$N79)),) -> 0 | AA79: =IF($Y79="도비",SUM($M79:$N79),IF($W79="국도비","직접입력",SUM($M79:$N79)-$Z79)) -> 0 | AB79: =IF(SUM($M79:$N79)=SUM($Z79:$AA79),"OK","검토") -> OK | AE79: =IF($Y79<>"도비",IF($W79="국도비","직접입력",SUM($P79:$Q79)),) -> 0 | AF79: =IF($Y79="도비",SUM(P79:Q79),IF($W79="국도비","직접입력",SUM(P79:Q79)-AE79)) -> 0 | AG79: =IF(SUM(P79:Q79)=SUM(AE79:AF79),"OK","검토") -> OK | AI79: =IF(Y79="","",IF(Y79="도비","세입없음","직접입력")) | AK79: =IF(AI79="","",COUNTIF($AI$7:$AI$80,AI79)) | AL79: =IF(Y79="","",IF(AND(Y79="도비",AI79="세입없음"),"OK",IF(AND(Y79<>"도비",AI79<>""),"OK","@@"))) | AN79: {=IF(D79="","",INDEX(구분표!$I$2:$I$311, MATCH(1,(구분표!$E$2:$E$311='2추특출'!C79)*(구분표!$F$2:$F$311='2추특출'!D79)*(구분표!$G$2:$G$311='2추특출'!B79),0)))}
A80: =COUNTA($C$8:C80)-COUNTBLANK($C$8:C80)+2 -> -1 | C80: =IF(D80="","",VLOOKUP(D80,구분표!$A$3:$C$215,3,)) | L80: =J80-K80 -> 0 | O80: =J80+M80+N80 -> 0 | R80: =J80+P80+Q80 -> 0 | S80: =IF(AND((O80=0),(R80>0)),"O",IF(AND((M80<0),(O80-R80<0)),"O","X")) -> X | Z80: =IF($Y80<>"도비",IF($W80="국도비","직접입력",SUM($M80:$N80)),) -> 0 | AA80: =IF($Y80="도비",SUM($M80:$N80),IF($W80="국도비","직접입력",SUM($M80:$N80)-$Z80)) -> 0 | AB80: =IF(SUM($M80:$N80)=SUM($Z80:$AA80),"OK","검토") -> OK | AE80: =IF($Y80<>"도비",IF($W80="국도비","직접입력",SUM($P80:$Q80)),) -> 0 | AF80: =IF($Y80="도비",SUM(P80:Q80),IF($W80="국도비","직접입력",SUM(P80:Q80)-AE80)) -> 0 | AG80: =IF(SUM(P80:Q80)=SUM(AE80:AF80),"OK","검토") -> OK | AI80: =IF(Y80="","",IF(Y80="도비","세입없음","직접입력")) | AK80: =IF(AI80="","",COUNTIF($AI$7:$AI$80,AI80)) | AL80: =IF(Y80="","",IF(AND(Y80="도비",AI80="세입없음"),"OK",IF(AND(Y80<>"도비",AI80<>""),"OK","@@"))) | AN80: {=IF(D80="","",INDEX(구분표!$I$2:$I$311, MATCH(1,(구분표!$E$2:$E$311='2추특출'!C80)*(구분표!$F$2:$F$311='2추특출'!D80)*(구분표!$G$2:$G$311='2추특출'!B80),0)))}

Sheet 2추기금입
A1: 2017년도 제2회 경기도 기금운용계획 세입 예산 조정(안)
A2: □ 세입예산 | P2: =P6-J6 -> 0 | X2: 세입=세출 | AC2: 세입=세출
J3: =SUM(J7:J997)/2 -> 0 | K3: =SUM(K7:K997)/2 -> 0 | L3: =SUM(L7:L997)/2 -> 0 | M3: =SUM(M7:M997)/2 -> 0 | N3: =SUM(N7:N997)/2 -> 0 | O3: =SUM(O7:O997)/2 -> 0 | P3: =SUM(P7:P997)/2 -> 0 | T3: (단위 : 천원) | X3: =IF(X6='2추기금출'!X6,"OK","@@") -> OK | Y3: =IF(Y6='2추기금출'!Y6,"OK","@@") -> OK | Z3: =IF(COUNTIF(Z6:Z21,"검토")>0,"@@","OK") -> OK | AC3: =IF(AC6='2추기금출'!AC6,"OK","@@") -> OK | AD3: =N6+O6-AC6-AD6 -> 0 | AE3: =IF(COUNTIF(AE6:AE21,"검토")>0,"@@","OK") -> OK
A4: 위원회명 | B4: 실국명 | C4: 부서명 | D4: 편성 구분 | E4: 기금 계획안 페이지 | F4: 사업설명서페이지 | G4: 목명 및 부기명 | H4: 제2회 추경 예산안 (가) | I4: 기정액 (나) | J4: 제2회 추경 증감액 (다=가-나) | K4: 상임위 예산안 조정액(라) | M4: 상임위 조정 예산안 (마=가+라) | N4: 예결위 예산안 조정액(사) | P4: 예결위 조정 예산안 (아=가+사) | Q4: 동의 대상 | R4: 상임위 변경사유 (심의 참고자료) | S4: 비고 (상임위 부대의견) | T4: 비고 (부대의견) | U4: 국도비 등 여부 | W4: 재원 | X4: 상임위 재원별 증감액 | AB4: 재원 | AC4: 예결위 재원별 증감액 | AG4: 세입번호 | AI4: 실국부서 코드 | AK4: 추가 내시 등 | AM4: 상임위 세입 검증 | AQ4: 예결위 세입 검증
K5: 감액 | L5: 증액 | N5: 감액 | O5: 증액 | X5: 국비 등 | Y5: 도비 | Z5: 검증 | AC5: 국비 등 | AD5: 도비 | AE5: 검증 | AM5: 국비 증감액 | AN5: 건수 | AO5: 검증 | AQ5: 국비 증감액 | AR5: 건수 | AS5: 검증
A6: 합 계 | H6: =SUBTOTAL(9,H7:H21) -> 0 | I6: =SUBTOTAL(9,I7:I21) -> 0 | J6: =SUBTOTAL(9,J7:J21) -> 0 | K6: =SUBTOTAL(9,K7:K21) -> 0 | L6: =SUBTOTAL(9,L7:L21) -> 0 | M6: =SUBTOTAL(9,M7:M21) -> 0 | N6: =SUBTOTAL(9,N7:N21) -> 0 | O6: =SUBTOTAL(9,O7:O21) -> 0 | P6: =SUBTOTAL(9,P7:P21) -> 0 | Q6: =SUBTOTAL(9,Q7:Q21)/2 -> 0 | X6: =SUBTOTAL(9,X7:X21) -> 0 | Y6: =SUBTOTAL(9,Y7:Y21) -> 0 | Z6: =IF(SUM($K6:$L6)=SUM($X6:$Y6),"OK","검토") -> OK | AC6: =SUBTOTAL(9,AC7:AC21) -> 0 | AD6: =SUBTOTAL(9,AD7:AD21) -> 0 | AE6: =IF(SUM($K6:$L6)=SUM($X6:$Y6),"OK","검토") -> OK | AM6: =SUBTOTAL(9,AM7:AM21) -> 0 | AN6: =SUBTOTAL(9,AN7:AN21) -> 0 | AO6: =IF(COUNTIF(AO7:AO21,"@@")>0,"@@","OK") -> OK | AQ6: =SUBTOTAL(9,AQ7:AQ21) -> 0 | AR6: =SUBTOTAL(9,AR7:AR21) -> 0 | AS6: =IF(COUNTIF(AS7:AS21,"@@")>0,"@@","OK") -> OK
A7: ( 기금) | H7: =SUBTOTAL(9,H8:H9) -> 0 | I7: =SUBTOTAL(9,I8:I9) -> 0 | J7: =SUBTOTAL(9,J8:J9) -> 0 | K7: =SUBTOTAL(9,K8:K9) -> 0 | L7: =SUBTOTAL(9,L8:L9) -> 0 | M7: =SUBTOTAL(9,M8:M9) -> 0 | N7: =SUBTOTAL(9,N8:N9) -> 0 | O7: =SUBTOTAL(9,O8:O9) -> 0 | P7: =SUBTOTAL(9,P8:P9) -> 0 | AG7: =IF(AI7="","",IF(W7="도비","세입없음",CONCATENATE(AI7,"-",COUNTIF($AI$7:AI7,AI7)))) | AI7: {=IF(C7="","",INDEX(구분표!$I$2:$I$311, MATCH(1,(구분표!$E$2:$E$311='2추기금입'!B7)*(구분표!$F$2:$F$311='2추기금입'!C7)*(구분표!$G$2:$G$311='2추기금입'!A7),0)))} | AQ7: =IF(AG7="",0,SUMIFS('2추일출'!$AE$6:$AE$238,'2추일출'!$AI$6:$AI$238,'2추기금입'!$AG7)) -> 0 | AR7: =IF(AG7="","",COUNTIFS('2추일출'!$AI$6:$AI$238,AG7)) | AS7: =IF(AC7=AQ7,"OK","@@") -> OK
J8: =IF(D8="","",H8-I8) | M8: =H8+K8+L8 -> 0 | P8: =SUM(H8,N8,O8) -> 0 | Q8: =IF(AND((M8=0),(P8>0)),"O",IF(AND((K8<0),(M8-P8<0)),"O","X")) -> X | X8: =IF($W8<>"도비",IF($U8="국도비","직접입력",SUM($K8:$L8)),) -> 0 | Y8: =IF($W8="도비",SUM($K8:$L8),IF($U8="국도비","직접입력",SUM($K8:$L8)-$X8)) -> 0 | Z8: =IF(SUM($K8:$L8)=SUM($X8:$Y8),"OK","검토") -> OK | AC8: =IF($W8<>"도비",IF($U8="국도비","직접입력",SUM($N8:$O8)),) -> 0 | AD8: =IF($W8="도비",SUM(N8:O8),IF($U8="국도비","직접입력",SUM(N8:O8)-AC8)) -> 0 | AE8: =IF(SUM(N8:O8)=SUM(AC8:AD8),"OK","검토") -> OK | AG8: =IF(AI8="","",IF(W8="도비","세입없음",CONCATENATE(AI8,"-",COUNTIF($AI$7:AI8,AI8)))) | AI8: {=IF(C8="","",INDEX(구분표!$I$2:$I$311, MATCH(1,(구분표!$E$2:$E$311='2추기금입'!B8)*(구분표!$F$2:$F$311='2추기금입'!C8)*(구분표!$G$2:$G$311='2추기금입'!A8),0)))} | AM8: =IF(AG8="",0,SUMIFS('2추기금출'!$Y$6:$Y$634,'2추기금출'!$AH$6:$AH$634,'2추기금입'!$AG8)) -> 0 | AN8: =IF(AG8="","",COUNTIFS('2추기금출'!$AH$6:$AH$634,'2추기금입'!AG8)) | AO8: =IF(X8=AM8,"OK","@@") -> OK | AQ8: =IF(AG8="",0,SUMIFS('2추일출'!$AE$6:$AE$238,'2추일출'!$AI$6:$AI$238,'2추기금입'!$AG8)) -> 0 | AR8: =IF(AG8="","",COUNTIFS('2추일출'!$AI$6:$AI$238,AG8)) | AS8: =IF(AC8=AQ8,"OK","@@") -> OK
J9: =IF(D9="","",H9-I9) | M9: =H9+K9+L9 -> 0 | P9: =SUM(H9,N9,O9) -> 0 | Q9: =IF(AND((M9=0),(P9>0)),"O",IF(AND((K9<0),(M9-P9<0)),"O","X")) -> X | X9: =IF($W9<>"도비",IF($U9="국도비","직접입력",SUM($K9:$L9)),) -> 0 | Y9: =IF($W9="도비",SUM($K9:$L9),IF($U9="국도비","직접입력",SUM($K9:$L9)-$X9)) -> 0 | Z9: =IF(SUM($K9:$L9)=SUM($X9:$Y9),"OK","검토") -> OK | AC9: =IF($W9<>"도비",IF($U9="국도비","직접입력",SUM($N9:$O9)),) -> 0 | AD9: =IF($W9="도비",SUM(N9:O9),IF($U9="국도비","직접입력",SUM(N9:O9)-AC9)) -> 0 | AE9: =IF(SUM(N9:O9)=SUM(AC9:AD9),"OK","검토") -> OK | AG9: =IF(AI9="","",IF(W9="도비","세입없음",CONCATENATE(AI9,"-",COUNTIF($AI$7:AI9,AI9)))) | AI9: {=IF(C9="","",INDEX(구분표!$I$2:$I$311, MATCH(1,(구분표!$E$2:$E$311='2추기금입'!B9)*(구분표!$F$2:$F$311='2추기금입'!C9)*(구분표!$G$2:$G$311='2추기금입'!A9),0)))} | AM9: =IF(AG9="",0,SUMIFS('2추기금출'!$Y$6:$Y$634,'2추기금출'!$AH$6:$AH$634,'2추기금입'!$AG9)) -> 0 | AN9: =IF(AG9="","",COUNTIFS('2추일출'!$AI$6:$AI$238,'2추기금입'!AG9)) | AO9: =IF(X9=AM9,"OK","@@") -> OK | AQ9: =IF(AG9="",0,SUMIFS('2추일출'!$AE$6:$AE$238,'2추일출'!$AI$6:$AI$238,'2추기금입'!$AG9)) -> 0 | AR9: =IF(AG9="","",COUNTIFS('2추일출'!$AI$6:$AI$238,AG9)) | AS9: =IF(AC9=AQ9,"OK","@@") -> OK
A10: ( 기금) | H10: =SUBTOTAL(9,H11:H12) -> 0 | I10: =SUBTOTAL(9,I11:I12) -> 0 | J10: =SUBTOTAL(9,J11:J12) -> 0 | K10: =SUBTOTAL(9,K11:K12) -> 0 | L10: =SUBTOTAL(9,L11:L12) -> 0 | M10: =SUBTOTAL(9,M11:M12) -> 0 | N10: =SUBTOTAL(9,N11:N12) -> 0 | O10: =SUBTOTAL(9,O11:O12) -> 0 | P10: =SUBTOTAL(9,P11:P12) -> 0 | AG10: =IF(AI10="","",IF(W10="도비","세입없음",CONCATENATE(AI10,"-",COUNTIF($AI$7:AI10,AI10)))) | AI10: {=IF(C10="","",INDEX(구분표!$I$2:$I$311, MATCH(1,(구분표!$E$2:$E$311='2추기금입'!B10)*(구분표!$F$2:$F$311='2추기금입'!C10)*(구분표!$G$2:$G$311='2추기금입'!A10),0)))} | AQ10: =IF(AG10="",0,SUMIFS('2추일출'!$AE$6:$AE$238,'2추일출'!$AI$6:$AI$238,'2추기금입'!$AG10)) -> 0 | AR10: =IF(AG10="","",COUNTIFS('2추일출'!$AI$6:$AI$238,AG10)) | AS10: =IF(AC10=AQ10,"OK","@@") -> OK
J11: =IF(D11="","",H11-I11) | M11: =H11+K11+L11 -> 0 | P11: =SUM(H11,N11,O11) -> 0 | Q11: =IF(AND((M11=0),(P11>0)),"O",IF(AND((K11<0),(M11-P11<0)),"O","X")) -> X | X11: =IF($W11<>"도비",IF($U11="국도비","직접입력",SUM($K11:$L11)),) -> 0 | Y11: =IF($W11="도비",SUM($K11:$L11),IF($U11="국도비","직접입력",SUM($K11:$L11)-$X11)) -> 0 | Z11: =IF(SUM($K11:$L11)=SUM($X11:$Y11),"OK","검토") -> OK | AC11: =IF($W11<>"도비",IF($U11="국도비","직접입력",SUM($N11:$O11)),) -> 0 | AD11: =IF($W11="도비",SUM(N11:O11),IF($U11="국도비","직접입력",SUM(N11:O11)-AC11)) -> 0 | AE11: =IF(SUM(N11:O11)=SUM(AC11:AD11),"OK","검토") -> OK | AG11: =IF(AI11="","",IF(W11="도비","세입없음",CONCATENATE(AI11,"-",COUNTIF($AI$7:AI11,AI11)))) | AI11: {=IF(C11="","",INDEX(구분표!$I$2:$I$311, MATCH(1,(구분표!$E$2:$E$311='2추기금입'!B11)*(구분표!$F$2:$F$311='2추기금입'!C11)*(구분표!$G$2:$G$311='2추기금입'!A11),0)))} | AM11: =IF(AG11="",0,SUMIFS('2추기금출'!$Y$6:$Y$634,'2추기금출'!$AH$6:$AH$634,'2추기금입'!$AG11)) -> 0 | AN11: =IF(AG11="","",COUNTIFS('2추기금출'!$AH$6:$AH$634,'2추기금입'!AG11)) | AO11: =IF(X11=AM11,"OK","@@") -> OK | AQ11: =IF(AG11="",0,SUMIFS('2추일출'!$AE$6:$AE$238,'2추일출'!$AI$6:$AI$238,'2추기금입'!$AG11)) -> 0 | AR11: =IF(AG11="","",COUNTIFS('2추일출'!$AI$6:$AI$238,AG11)) | AS11: =IF(AC11=AQ11,"OK","@@") -> OK
J12: =IF(D12="","",H12-I12) | M12: =H12+K12+L12 -> 0 | P12: =SUM(H12,N12,O12) -> 0 | Q12: =IF(AND((M12=0),(P12>0)),"O",IF(AND((K12<0),(M12-P12<0)),"O","X")) -> X | X12: =IF($W12<>"도비",IF($U12="국도비","직접입력",SUM($K12:$L12)),) -> 0 | Y12: =IF($W12="도비",SUM($K12:$L12),IF($U12="국도비","직접입력",SUM($K12:$L12)-$X12)) -> 0 | Z12: =IF(SUM($K12:$L12)=SUM($X12:$Y12),"OK","검토") -> OK | AC12: =IF($W12<>"도비",IF($U12="국도비","직접입력",SUM($N12:$O12)),) -> 0 | AD12: =IF($W12="도비",SUM(N12:O12),IF($U12="국도비","직접입력",SUM(N12:O12)-AC12)) -> 0 | AE12: =IF(SUM(N12:O12)=SUM(AC12:AD12),"OK","검토") -> OK | AG12: =IF(AI12="","",IF(W12="도비","세입없음",CONCATENATE(AI12,"-",COUNTIF($AI$7:AI12,AI12)))) | AI12: {=IF(C12="","",INDEX(구분표!$I$2:$I$311, MATCH(1,(구분표!$E$2:$E$311='2추기금입'!B12)*(구분표!$F$2:$F$311='2추기금입'!C12)*(구분표!$G$2:$G$311='2추기금입'!A12),0)))} | AM12: =IF(AG12="",0,SUMIFS('2추기금출'!$Y$6:$Y$634,'2추기금출'!$AH$6:$AH$634,'2추기금입'!$AG12)) -> 0 | AN12: =IF(AG12="","",COUNTIFS('2추일출'!$AI$6:$AI$238,'2추기금입'!AG12)) | AO12: =IF(X12=AM12,"OK","@@") -> OK | AQ12: =IF(AG12="",0,SUMIFS('2추일출'!$AE$6:$AE$238,'2추일출'!$AI$6:$AI$238,'2추기금입'!$AG12)) -> 0 | AR12: =IF(AG12="","",COUNTIFS('2추일출'!$AI$6:$AI$238,AG12)) | AS12: =IF(AC12=AQ12,"OK","@@") -> OK
A13: ( 기금) | H13: =SUBTOTAL(9,H14:H15) -> 0 | I13: =SUBTOTAL(9,I14:I15) -> 0 | J13: =SUBTOTAL(9,J14:J15) -> 0 | K13: =SUBTOTAL(9,K14:K15) -> 0 | L13: =SUBTOTAL(9,L14:L15) -> 0 | M13: =SUBTOTAL(9,M14:M15) -> 0 | N13: =SUBTOTAL(9,N14:N15) -> 0 | O13: =SUBTOTAL(9,O14:O15) -> 0 | P13: =SUBTOTAL(9,P14:P15) -> 0 | AG13: =IF(AI13="","",IF(W13="도비","세입없음",CONCATENATE(AI13,"-",COUNTIF($AI$7:AI13,AI13)))) | AI13: {=IF(C13="","",INDEX(구분표!$I$2:$I$311, MATCH(1,(구분표!$E$2:$E$311='2추기금입'!B13)*(구분표!$F$2:$F$311='2추기금입'!C13)*(구분표!$G$2:$G$311='2추기금입'!A13),0)))} | AQ13: =IF(AG13="",0,SUMIFS('2추일출'!$AE$6:$AE$238,'2추일출'!$AI$6:$AI$238,'2추기금입'!$AG13)) -> 0 | AR13: =IF(AG13="","",COUNTIFS('2추일출'!$AI$6:$AI$238,AG13)) | AS13: =IF(AC13=AQ13,"OK","@@") -> OK
J14: =IF(D14="","",H14-I14) | M14: =H14+K14+L14 -> 0 | P14: =SUM(H14,N14,O14) -> 0 | Q14: =IF(AND((M14=0),(P14>0)),"O",IF(AND((K14<0),(M14-P14<0)),"O","X")) -> X | X14: =IF($W14<>"도비",IF($U14="국도비","직접입력",SUM($K14:$L14)),) -> 0 | Y14: =IF($W14="도비",SUM($K14:$L14),IF($U14="국도비","직접입력",SUM($K14:$L14)-$X14)) -> 0 | Z14: =IF(SUM($K14:$L14)=SUM($X14:$Y14),"OK","검토") -> OK | AC14: =IF($W14<>"도비",IF($U14="국도비","직접입력",SUM($N14:$O14)),) -> 0 | AD14: =IF($W14="도비",SUM(N14:O14),IF($U14="국도비","직접입력",SUM(N14:O14)-AC14)) -> 0 | AE14: =IF(SUM(N14:O14)=SUM(AC14:AD14),"OK","검토") -> OK | AG14: =IF(AI14="","",IF(W14="도비","세입없음",CONCATENATE(AI14,"-",COUNTIF($AI$7:AI14,AI14)))) | AI14: {=IF(C14="","",INDEX(구분표!$I$2:$I$311, MATCH(1,(구분표!$E$2:$E$311='2추기금입'!B14)*(구분표!$F$2:$F$311='2추기금입'!C14)*(구분표!$G$2:$G$311='2추기금입'!A14),0)))} | AM14: =IF(AG14="",0,SUMIFS('2추기금출'!$Y$6:$Y$634,'2추기금출'!$AH$6:$AH$634,'2추기금입'!$AG14)) -> 0 | AN14: =IF(AG14="","",COUNTIFS('2추기금출'!$AH$6:$AH$634,'2추기금입'!AG14)) | AO14: =IF(X14=AM14,"OK","@@") -> OK | AQ14: =IF(AG14="",0,SUMIFS('2추일출'!$AE$6:$AE$238,'2추일출'!$AI$6:$AI$238,'2추기금입'!$AG14)) -> 0 | AR14: =IF(AG14="","",COUNTIFS('2추일출'!$AI$6:$AI$238,AG14)) | AS14: =IF(AC14=AQ14,"OK","@@") -> OK
J15: =IF(D15="","",H15-I15) | M15: =H15+K15+L15 -> 0 | P15: =SUM(H15,N15,O15) -> 0 | Q15: =IF(AND((M15=0),(P15>0)),"O",IF(AND((K15<0),(M15-P15<0)),"O","X")) -> X | X15: =IF($W15<>"도비",IF($U15="국도비","직접입력",SUM($K15:$L15)),) -> 0 | Y15: =IF($W15="도비",SUM($K15:$L15),IF($U15="국도비","직접입력",SUM($K15:$L15)-$X15)) -> 0 | Z15: =IF(SUM($K15:$L15)=SUM($X15:$Y15),"OK","검토") -> OK | AC15: =IF($W15<>"도비",IF($U15="국도비","직접입력",SUM($N15:$O15)),) -> 0 | AD15: =IF($W15="도비",SUM(N15:O15),IF($U15="국도비","직접입력",SUM(N15:O15)-AC15)) -> 0 | AE15: =IF(SUM(N15:O15)=SUM(AC15:AD15),"OK","검토") -> OK | AG15: =IF(AI15="","",IF(W15="도비","세입없음",CONCATENATE(AI15,"-",COUNTIF($AI$7:AI15,AI15)))) | AI15: {=IF(C15="","",INDEX(구분표!$I$2:$I$311, MATCH(1,(구분표!$E$2:$E$311='2추기금입'!B15)*(구분표!$F$2:$F$311='2추기금입'!C15)*(구분표!$G$2:$G$311='2추기금입'!A15),0)))} | AM15: =IF(AG15="",0,SUMIFS('2추기금출'!$Y$6:$Y$634,'2추기금출'!$AH$6:$AH$634,'2추기금입'!$AG15)) -> 0 | AN15: =IF(AG15="","",COUNTIFS('2추일출'!$AI$6:$AI$238,'2추기금입'!AG15)) | AO15: =IF(X15=AM15,"OK","@@") -> OK | AQ15: =IF(AG15="",0,SUMIFS('2추일출'!$AE$6:$AE$238,'2추일출'!$AI$6:$AI$238,'2추기금입'!$AG15)) -> 0 | AR15: =IF(AG15="","",COUNTIFS('2추일출'!$AI$6:$AI$238,AG15)) | AS15: =IF(AC15=AQ15,"OK","@@") -> OK
A16: ( 기금) | H16: =SUBTOTAL(9,H17:H18) -> 0 | I16: =SUBTOTAL(9,I17:I18) -> 0 | J16: =SUBTOTAL(9,J17:J18) -> 0 | K16: =SUBTOTAL(9,K17:K18) -> 0 | L16: =SUBTOTAL(9,L17:L18) -> 0 | M16: =SUBTOTAL(9,M17:M18) -> 0 | N16: =SUBTOTAL(9,N17:N18) -> 0 | O16: =SUBTOTAL(9,O17:O18) -> 0 | P16: =SUBTOTAL(9,P17:P18) -> 0 | AG16: =IF(AI16="","",IF(W16="도비","세입없음",CONCATENATE(AI16,"-",COUNTIF($AI$7:AI16,AI16)))) | AI16: {=IF(C16="","",INDEX(구분표!$I$2:$I$311, MATCH(1,(구분표!$E$2:$E$311='2추기금입'!B16)*(구분표!$F$2:$F$311='2추기금입'!C16)*(구분표!$G$2:$G$311='2추기금입'!A16),0)))} | AQ16: =IF(AG16="",0,SUMIFS('2추일출'!$AE$6:$AE$238,'2추일출'!$AI$6:$AI$238,'2추기금입'!$AG16)) -> 0 | AR16: =IF(AG16="","",COUNTIFS('2추일출'!$AI$6:$AI$238,AG16)) | AS16: =IF(AC16=AQ16,"OK","@@") -> OK
J17: =IF(D17="","",H17-I17) | M17: =H17+K17+L17 -> 0 | P17: =SUM(H17,N17,O17) -> 0 | Q17: =IF(AND((M17=0),(P17>0)),"O",IF(AND((K17<0),(M17-P17<0)),"O","X")) -> X | X17: 0 | Y17: 0 | Z17: =IF(SUM($K17:$L17)=SUM($X17:$Y17),"OK","검토") -> OK | AC17: =IF($W17<>"도비",IF($U17="국도비","직접입력",SUM($N17:$O17)),) -> 0 | AD17: =IF($W17="도비",SUM(N17:O17),IF($U17="국도비","직접입력",SUM(N17:O17)-AC17)) -> 0 | AE17: =IF(SUM(N17:O17)=SUM(AC17:AD17),"OK","검토") -> OK | AG17: =IF(AI17="","",IF(W17="도비","세입없음",CONCATENATE(AI17,"-",COUNTIF($AI$7:AI17,AI17)))) | AI17: {=IF(C17="","",INDEX(구분표!$I$2:$I$311, MATCH(1,(구분표!$E$2:$E$311='2추기금입'!B17)*(구분표!$F$2:$F$311='2추기금입'!C17)*(구분표!$G$2:$G$311='2추기금입'!A17),0)))} | AM17: =IF(AG17="",0,SUMIFS('2추기금출'!$Y$6:$Y$634,'2추기금출'!$AH$6:$AH$634,'2추기금입'!$AG17)) -> 0 | AN17: =IF(AG17="","",COUNTIFS('2추기금출'!$AH$6:$AH$634,'2추기금입'!AG17)) | AO17: =IF(X17=AM17,"OK","@@") -> OK | AQ17: =IF(AG17="",0,SUMIFS('2추일출'!$AE$6:$AE$238,'2추일출'!$AI$6:$AI$238,'2추기금입'!$AG17)) -> 0 | AR17: =IF(AG17="","",COUNTIFS('2추일출'!$AI$6:$AI$238,AG17)) | AS17: =IF(AC17=AQ17,"OK","@@") -> OK
J18: =IF(D18="","",H18-I18) | M18: =H18+K18+L18 -> 0 | P18: =SUM(H18,N18,O18) -> 0 | Q18: =IF(AND((M18=0),(P18>0)),"O",IF(AND((K18<0),(M18-P18<0)),"O","X")) -> X | X18: =IF($W18<>"도비",IF($U18="국도비","직접입력",SUM($K18:$L18)),) -> 0 | Y18: =IF($W18="도비",SUM($K18:$L18),IF($U18="국도비","직접입력",SUM($K18:$L18)-$X18)) -> 0 | Z18: =IF(SUM($K18:$L18)=SUM($X18:$Y18),"OK","검토") -> OK | AC18: =IF($W18<>"도비",IF($U18="국도비","직접입력",SUM($N18:$O18)),) -> 0 | AD18: =IF($W18="도비",SUM(N18:O18),IF($U18="국도비","직접입력",SUM(N18:O18)-AC18)) -> 0 | AE18: =IF(SUM(N18:O18)=SUM(AC18:AD18),"OK","검토") -> OK | AG18: =IF(AI18="","",IF(W18="도비","세입없음",CONCATENATE(AI18,"-",COUNTIF($AI$7:AI18,AI18)))) | AI18: {=IF(C18="","",INDEX(구분표!$I$2:$I$311, MATCH(1,(구분표!$E$2:$E$311='2추기금입'!B18)*(구분표!$F$2:$F$311='2추기금입'!C18)*(구분표!$G$2:$G$311='2추기금입'!A18),0)))} | AM18: =IF(AG18="",0,SUMIFS('2추기금출'!$Y$6:$Y$634,'2추기금출'!$AH$6:$AH$634,'2추기금입'!$AG18)) -> 0 | AN18: =IF(AG18="","",COUNTIFS('2추일출'!$AI$6:$AI$238,'2추기금입'!AG18)) | AO18: =IF(X18=AM18,"OK","@@") -> OK | AQ18: =IF(AG18="",0,SUMIFS('2추일출'!$AE$6:$AE$238,'2추일출'!$AI$6:$AI$238,'2추기금입'!$AG18)) -> 0 | AR18: =IF(AG18="","",COUNTIFS('2추일출'!$AI$6:$AI$238,AG18)) | AS18: =IF(AC18=AQ18,"OK","@@") -> OK
A19: ( 기금) | H19: =SUBTOTAL(9,H20:H21) -> 0 | I19: =SUBTOTAL(9,I20:I21) -> 0 | J19: =SUBTOTAL(9,J20:J21) -> 0 | K19: =SUBTOTAL(9,K20:K21) -> 0 | L19: =SUBTOTAL(9,L20:L21) -> 0 | M19: =SUBTOTAL(9,M20:M21) -> 0 | N19: =SUBTOTAL(9,N20:N21) -> 0 | O19: =SUBTOTAL(9,O20:O21) -> 0 | P19: =SUBTOTAL(9,P20:P21) -> 0 | AG19: =IF(AI19="","",IF(W19="도비","세입없음",CONCATENATE(AI19,"-",COUNTIF($AI$7:AI19,AI19)))) | AI19: {=IF(C19="","",INDEX(구분표!$I$2:$I$311, MATCH(1,(구분표!$E$2:$E$311='2추기금입'!B19)*(구분표!$F$2:$F$311='2추기금입'!C19)*(구분표!$G$2:$G$311='2추기금입'!A19),0)))} | AQ19: =IF(AG19="",0,SUMIFS('2추일출'!$AE$6:$AE$238,'2추일출'!$AI$6:$AI$238,'2추기금입'!$AG19)) -> 0 | AR19: =IF(AG19="","",COUNTIFS('2추일출'!$AI$6:$AI$238,AG19)) | AS19: =IF(AC19=AQ19,"OK","@@") -> OK
J20: =IF(D20="","",H20-I20) | M20: =H20+K20+L20 -> 0 | P20: =SUM(H20,N20,O20) -> 0 | Q20: =IF(AND((M20=0),(P20>0)),"O",IF(AND((K20<0),(M20-P20<0)),"O","X")) -> X | X20: 0 | Y20: 0 | Z20: =IF(SUM($K20:$L20)=SUM($X20:$Y20),"OK","검토") -> OK | AC20: =IF($W20<>"도비",IF($U20="국도비","직접입력",SUM($N20:$O20)),) -> 0 | AD20: =IF($W20="도비",SUM(N20:O20),IF($U20="국도비","직접입력",SUM(N20:O20)-AC20)) -> 0 | AE20: =IF(SUM(N20:O20)=SUM(AC20:AD20),"OK","검토") -> OK | AG20: =IF(AI20="","",IF(W20="도비","세입없음",CONCATENATE(AI20,"-",COUNTIF($AI$7:AI20,AI20)))) | AI20: {=IF(C20="","",INDEX(구분표!$I$2:$I$311, MATCH(1,(구분표!$E$2:$E$311='2추기금입'!B20)*(구분표!$F$2:$F$311='2추기금입'!C20)*(구분표!$G$2:$G$311='2추기금입'!A20),0)))} | AM20: =IF(AG20="",0,SUMIFS('2추기금출'!$Y$6:$Y$634,'2추기금출'!$AH$6:$AH$634,'2추기금입'!$AG20)) -> 0 | AN20: =IF(AG20="","",COUNTIFS('2추기금출'!$AH$6:$AH$634,'2추기금입'!AG20)) | AO20: =IF(X20=AM20,"OK","@@") -> OK | AQ20: =IF(AG20="",0,SUMIFS('2추일출'!$AE$6:$AE$238,'2추일출'!$AI$6:$AI$238,'2추기금입'!$AG20)) -> 0 | AR20: =IF(AG20="","",COUNTIFS('2추일출'!$AI$6:$AI$238,AG20)) | AS20: =IF(AC20=AQ20,"OK","@@") -> OK
J21: =IF(D21="","",H21-I21) | M21: =H21+K21+L21 -> 0 | P21: =SUM(H21,N21,O21) -> 0 | Q21: =IF(AND((M21=0),(P21>0)),"O",IF(AND((K21<0),(M21-P21<0)),"O","X")) -> X | X21: =IF($W21<>"도비",IF($U21="국도비","직접입력",SUM($K21:$L21)),) -> 0 | Y21: =IF($W21="도비",SUM($K21:$L21),IF($U21="국도비","직접입력",SUM($K21:$L21)-$X21)) -> 0 | Z21: =IF(SUM($K21:$L21)=SUM($X21:$Y21),"OK","검토") -> OK | AC21: =IF($W21<>"도비",IF($U21="국도비","직접입력",SUM($N21:$O21)),) -> 0 | AD21: =IF($W21="도비",SUM(N21:O21),IF($U21="국도비","직접입력",SUM(N21:O21)-AC21)) -> 0 | AE21: =IF(SUM(N21:O21)=SUM(AC21:AD21),"OK","검토") -> OK | AG21: =IF(AI21="","",IF(W21="도비","세입없음",CONCATENATE(AI21,"-",COUNTIF($AI$7:AI21,AI21)))) | AI21: {=IF(C21="","",INDEX(구분표!$I$2:$I$311, MATCH(1,(구분표!$E$2:$E$311='2추기금입'!B21)*(구분표!$F$2:$F$311='2추기금입'!C21)*(구분표!$G$2:$G$311='2추기금입'!A21),0)))} | AM21: =IF(AG21="",0,SUMIFS('2추기금출'!$Y$6:$Y$634,'2추기금출'!$AH$6:$AH$634,'2추기금입'!$AG21)) -> 0 | AN21: =IF(AG21="","",COUNTIFS('2추일출'!$AI$6:$AI$238,'2추기금입'!AG21)) | AO21: =IF(X21=AM21,"OK","@@") -> OK | AQ21: =IF(AG21="",0,SUMIFS('2추일출'!$AE$6:$AE$238,'2추일출'!$AI$6:$AI$238,'2추기금입'!$AG21)) -> 0 | AR21: =IF(AG21="","",COUNTIFS('2추일출'!$AI$6:$AI$238,AG21)) | AS21: =IF(AC21=AQ21,"OK","@@") -> OK

Sheet 2추기금출
A1: 2017년도 제2회 경기도 기금운용계획 세출 예산 조정(안)
A2: □ 세출예산 | O2: =P2-'2추기금입'!P2 -> 0 | P2: =P6-J6 -> 0 | X2: 세입=세출 | AC2: 세입=세출
