Workbook

Sheet 구분표
A2: 실과명 | B2: 위원회명 | C2: 실국명 | E2: 실국명 | F2: 실과명 | G2: 위원회명 | H2: 정렬순서 | I2: 정렬코드
A3: 총무담당관 | B3: 의회운영위원회 | C3: 의회사무처 | E3: 의회사무처 | F3: 총무담당관 | G3: 의회운영위원회 | H3: 1 | I3: 50101
A4: 공보담당관 | B4: 의회운영위원회 | C4: 의회사무처 | E4: 의회사무처 | F4: 공보담당관 | G4: 의회운영위원회 | H4: 2 | I4: 50102
A5: 의사담당관 | B5: 의회운영위원회 | C5: 의회사무처 | E5: 의회사무처 | F5: 의사담당관 | G5: 의회운영위원회 | H5: 3 | I5: 50103
A6: 입법정책담당관 | B6: 의회운영위원회 | C6: 의회사무처 | E6: 의회사무처 | F6: 입법정책담당관 | G6: 의회운영위원회 | H6: 4 | I6: 50104
A7: 예산정책담당관 | B7: 의회운영위원회 | C7: 의회사무처 | E7: 의회사무처 | F7: 예산정책담당관 | G7: 의회운영위원회 | H7: 5 | I7: 50105
A8: 언론협력담당관 | B8: 의회운영위원회 | C8: 대변인 | E8: 대변인 | F8: 언론협력담당관 | G8: 의회운영위원회 | H8: 6 | I8: 10101
A9: 보도기획담당관 | B9: 의회운영위원회 | C9: 대변인 | E9: 대변인 | F9: 보도기획담당관 | G9: 의회운영위원회 | H9: 7 | I9: 10102
A10: 홍보미디어담당관 | B10: 의회운영위원회 | C10: 소통기획관 | E10: 소통기획관 | F10: 홍보미디어담당관 | G10: 의회운영위원회 | H10: 8 | I10: 10201
A11: 홍보콘텐츠담당관 | B11: 의회운영위원회 | C11: 소통기획관 | E11: 소통기획관 | F11: 홍보콘텐츠담당관 | G11: 의회운영위원회 | H11: 9 | I11: 10202
A12: 연정협력과 | B12: 의회운영위원회 | C12: 연정협력국 | E12: 연정협력국 | F12: 연정협력과 | G12: 의회운영위원회 | H12: 10 | I12: 30101
A13: 대외협력과 | B13: 의회운영위원회 | C13: 연정협력국 | E13: 연정협력국 | F13: 대외협력과 | G13: 의회운영위원회 | H13: 11 | I13: 30102
A14: 서울사무소 | B14: 의회운영위원회 | C14: 연정협력국 | E14: 연정협력국 | F14: 서울사무소 | G14: 의회운영위원회 | H14: 12 | I14: 30103
... A214: 보육청소년담당관 | B214: 여성가족교육협력위원회 | C214: 복지여성실 | E214: 복지여성실 | F214: 보육청소년담당관 | G214: 여성가족교육협력위원회 | H214: 212 | I214: 11201

Sheet 예결표지(세로)
A5: 2017년도 제1회 일반회계 및 특별회계 추가경정 세입·세출 예산안
A7: 예결위 계수조정 결과
A20: 예산결산특별위원회

Sheet 예결표지(가로)
A3: 2017년도 제1회 일반회계 및 특별회계 추가경정 세입·세출 예산안
A5: 예결위 계수조정 결과
A14: 예산결산특별위원회

Sheet 표지
A6: 예결위 계수조정 결과
A7: (2017. . 일 현재 최종)
C9: - 2017년도 제2회 경기도 추가경정 예산안
C10: - 2017년도 제2회 경기도 기금운용계획 변경안
A18: 예산결산특별위원회

Sheet 검증
A1: 제4회 추경 일반회계 검증 | H1: 4추 예비비 | J1: 조정액 | K1: =IFERROR(INDEX('2추일출'!AF6:AF59,MATCH("*예비비*",'2추일출'!I6:I59,0)),0) -> 0 | L1: 조정잔액 | M1: =I1+K1 -> 0
M2: (단위 : 천원)
A3: 구분 | B3: 상 임 위 | H3: 구분 | I3: 예 결 위
B4: 세입 | C4: 검증 | D4: 세출 | E4: 검증 | F4: 차액 | I4: 세입 | J4: 검증 | K4: 세출 | L4: 검증 | M4: 차액
A5: 전체 총계 | B5: =SUM(B6:B13)/2 -> 0 | C5: =IF(B5=SUM('2추일입'!K6:L6),"OK","@@") -> OK | D5: =SUM(D6:D13)/2 -> 0 | E5: =IF(D5=SUM('2추일출'!M6:N6),"OK","@@") -> @@ | H5: 전체 총계 | I5: =SUM(I6:I13)/2 -> 0 | J5: =IF(I5=SUM('2추일입'!N6:O6),"OK","@@") -> OK | K5: =SUM(K6:K13)/2 -> 0 | L5: =IF(K5=SUM('2추일출'!P6:Q6),"OK","@@") -> OK
A6: 자체 계 | B6: =SUM(B7:B8) -> 0 | C6: =IF(B6='2추일입'!Y6,"OK","@@") -> OK | D6: =SUM(D7:D8) -> 0 | E6: =IF(D6='2추일출'!AA6,"OK","@@") -> @@ | H6: 자체 계 | I6: =SUM(I7:I8) -> 0 | J6: =IF(I6='2추일입'!AD6,"OK","@@") -> OK | K6: =SUM(K7:K8) -> 0 | L6: =IF(K6='2추일출'!AF6,"OK","@@") -> OK
A7: 자체 도비 | B7: =SUMIFS('2추일입'!Y6:Y72,'2추일입'!W6:W72,"도비") -> 0 | D7: =SUMIFS('2추일출'!$AA$6:$AA$59,'2추일출'!$Y$6:$Y$59,"도비") -> 0 | H7: 자체 도비 | I7: =SUMIFS('2추일입'!AD6:AD72,'2추일입'!AB6:AB72,"국비") -> 0 | K7: =SUMIFS('2추일출'!$AF$6:$AF$59,'2추일출'!$AD$6:$AD$59,"도비") -> 0
A8: 의존 매칭 도비 | B8: =SUMIFS('2추일입'!Y6:Y72,'2추일입'!W6:W72,"국비")+SUMIFS('2추일입'!Y6:Y72,'2추일입'!W6:W72,"지특")+SUMIFS('2추일입'!Y6:Y72,'2추일입'!W6:W72,"기금")+SUMIFS('2추일입'!Y6:Y72,'2추일입'!W6:W72,"특교") -> 0 | D8: =SUMIFS('2추일출'!$AA$6:$AA$59,'2추일출'!$Y$6:$Y$59,"국비")+SUMIFS('2추일출'!$AA$6:$AA$59,'2추일출'!$Y$6:$Y$59,"지특")+SUMIFS('2추일출'!$AA$6:$AA$59,'2추일출'!$Y$6:$Y$59,"기금")+SUMIFS('2추일출'!$AA$6:$AA$59,'2추일출'!$Y$6:$Y$59,"특교") -> 0 | H8: 의존 매칭 도비 | I8: =SUMIFS('2추일입'!AD6:AD72,'2추일입'!AB6:AB72,"국비")+SUMIFS('2추일입'!AD6:AD72,'2추일입'!AB6:AB72,"지특")+SUMIFS('2추일입'!AD6:AD72,'2추일입'!AB6:AB72,"기금")+SUMIFS('2추일입'!AD6:AD72,'2추일입'!AB6:AB72,"특교") -> 0 | K8: =SUMIFS('2추일출'!$AF$6:$AF$59,'2추일출'!$AD$6:$AD$59,"국비")+SUMIFS('2추일출'!$AF$6:$AF$59,'2추일출'!$AD$6:$AD$59,"지특")+SUMIFS('2추일출'!$AF$6:$AF$59,'2추일출'!$AD$6:$AD$59,"기금")+SUMIFS('2추일출'!$AF$6:$AF$59,'2추일출'!$AD$6:$AD$59,"특교") -> 0
A9: 의존 계 | B9: =SUM(B10:B13) -> 0 | C9: =IF(B9='2추일입'!X6,"OK","@@") -> OK | D9: =SUM(D10:D13) -> 0 | E9: =IF(D9='2추일출'!Z6,"OK","@@") -> OK | F9: =SUM(F10:F13) -> 0 | H9: 의존 계 | I9: =SUM(I10:I13) -> 0 | J9: =IF(I9='2추일입'!X6,"OK","@@") -> OK | K9: =SUM(K10:K13) -> 0 | L9: =IF(K9='2추일출'!AE6,"OK","@@") -> OK | M9: =SUM(M10:M13) -> 0
A10: 국비 | B10: =SUMIFS('2추일입'!$Y$6:$Y$72,'2추일입'!$W$6:$W$72,검증!A10) -> 0 | D10: =SUMIFS('2추일출'!$AA$6:$AA$59,'2추일출'!$Y$6:$Y$59,검증!A10) -> 0 | F10: =D10-B10 -> 0 | H10: 국비 | I10: =SUMIFS('2추일입'!$AD$6:$AD$72,'2추일입'!$AB$6:$AB$72,검증!H10) -> 0 | K10: =SUMIFS('2추일출'!$AF$6:$AF$59,'2추일출'!$AD$6:$AD$59,검증!H10) -> 0 | M10: =K10-I10 -> 0
A11: 지특 | B11: =SUMIFS('2추일입'!$Y$6:$Y$72,'2추일입'!$W$6:$W$72,검증!A11) -> 0 | D11: =SUMIFS('2추일출'!$AA$6:$AA$59,'2추일출'!$Y$6:$Y$59,검증!A11) -> 0 | F11: =D11-B11 -> 0 | H11: 지특 | I11: =SUMIFS('2추일입'!$AD$6:$AD$72,'2추일입'!$AB$6:$AB$72,검증!H11) -> 0 | K11: =SUMIFS('2추일출'!$AF$6:$AF$59,'2추일출'!$AD$6:$AD$59,검증!H11) -> 0 | M11: =K11-I11 -> 0
A12: 기금 | B12: =SUMIFS('2추일입'!$Y$6:$Y$72,'2추일입'!$W$6:$W$72,검증!A12) -> 0 | D12: =SUMIFS('2추일출'!$AA$6:$AA$59,'2추일출'!$Y$6:$Y$59,검증!A12) -> 0 | F12: =D12-B12 -> 0 | H12: 기금 | I12: =SUMIFS('2추일입'!$AD$6:$AD$72,'2추일입'!$AB$6:$AB$72,검증!H12) -> 0 | K12: =SUMIFS('2추일출'!$AF$6:$AF$59,'2추일출'!$AD$6:$AD$59,검증!H12) -> 0 | M12: =K12-I12 -> 0
A13: 특교 | B13: =SUMIFS('2추일입'!$Y$6:$Y$72,'2추일입'!$W$6:$W$72,검증!A13) -> 0 | D13: =SUMIFS('2추일출'!$AA$6:$AA$59,'2추일출'!$Y$6:$Y$59,검증!A13) -> 0 | F13: =D13-B13 -> 0 | H13: 특교 | I13: =SUMIFS('2추일입'!$AD$6:$AD$72,'2추일입'!$AB$6:$AB$72,검증!H13) -> 0 | K13: =SUMIFS('2추일출'!$AF$6:$AF$59,'2추일출'!$AD$6:$AD$59,검증!H13) -> 0 | M13: =K13-I13 -> 0

Sheet 총괄표
A3: □ 총 괄 | C3: 세입예산 증감 | D3: =SUM(C7:D7) -> 0 | F3: 세출예산증감 | G3: =SUM(F7:G7) -> 0
F4: ※ 예비비 증감 | G4: =N7 -> 0 | I4: (단위 : 천원)
A5: 구 분 | B5: 집행부제출(안) | C5: 세입예산(안) | F5: 세출예산(안) | I5: 수정예산(안) | K5: ※ 예산안 증감현황
C6: 감 액 | D6: 증 액 | E6: 증감액 | F6: 감 액 | G6: 증 액 | H6: 증감액 | K6: 구 분 | L6: 세입 | M6: 세출 | N6: 예비비 | O6: 비고(???)
A7: 합 계 | B7: =SUM(B8:B17) -> 1157825092 | C7: =SUM(C8:C17) -> 0 | D7: =SUM(D8:D17) -> 0 | E7: =SUM(E8:E17) -> 0 | F7: =SUM(F8:F17) -> 0 | G7: =SUM(G8:G17) -> 0 | H7: =SUM(H8:H17) -> 0 | I7: =SUM(I8:I17) -> 1157825092 | K7: 합 계 | L7: =SUM(L8:L9) -> 0 | M7: =SUM(M8:M9) -> 0 | N7: =L7-M7 -> 0
A8: 의회운영위원회 | B8: =B31 -> 0 | C8: =SUMIFS('2추일입'!N$6:N$72,'2추일입'!$A$6:$A$72,총괄표!$A8)+SUMIFS('2추특입'!N$6:N$16,'2추특입'!$A$6:$A$16,총괄표!$A8) -> 0 | D8: =SUMIFS('2추일입'!O$6:O$72,'2추일입'!$A$6:$A$72,총괄표!$A8)+SUMIFS('2추특입'!O$6:O$16,'2추특입'!$A$6:$A$16,총괄표!$A8) -> 0 | E8: =D8+C8 -> 0 | F8: =SUMIFS('2추일출'!P$6:P$59,'2추일출'!$B$6:$B$59,총괄표!$A8)+SUMIFS('2추특출'!P$6:P$80,'2추특출'!$B$6:$B$80,총괄표!$A8) -> 0 | G8: =SUMIFS('2추일출'!Q$6:Q$59,'2추일출'!$B$6:$B$59,총괄표!$A8)+SUMIFS('2추특출'!Q$6:Q$80,'2추특출'!$B$6:$B$80,총괄표!$A8) -> 0 | H8: =G8+F8 -> 0 | I8: =B8+F8+G8 -> 0 | K8: 일반회계 | L8: =SUM(C24:D24) -> 0 | M8: =SUM(F24:G24) -> 0 | N8: =L8-M8 -> 0 | O8: 예비비 증감 - 감액, + 증액에 입력
A9: 기획재정위원회 | B9: =B32 -> 0 | C9: =SUMIFS('2추일입'!N$6:N$72,'2추일입'!$A$6:$A$72,총괄표!$A9)+SUMIFS('2추특입'!N$6:N$16,'2추특입'!$A$6:$A$16,총괄표!$A9) -> 0 | D9: =SUMIFS('2추일입'!O$6:O$72,'2추일입'!$A$6:$A$72,총괄표!$A9)+SUMIFS('2추특입'!O$6:O$16,'2추특입'!$A$6:$A$16,총괄표!$A9) -> 0 | E9: =D9+C9 -> 0 | F9: =SUMIFS('2추일출'!P$6:P$59,'2추일출'!$B$6:$B$59,총괄표!$A9)+SUMIFS('2추특출'!P$6:P$80,'2추특출'!$B$6:$B$80,총괄표!$A9) -> 0 | G9: =SUMIFS('2추일출'!Q$6:Q$59,'2추일출'!$B$6:$B$59,총괄표!$A9)+SUMIFS('2추특출'!Q$6:Q$80,'2추특출'!$B$6:$B$80,총괄표!$A9) -> 0 | H9: =G9+F9 -> 0 | I9: =B9+F9+G9 -> 0 | K9: 특별회계 | L9: =SUM(C25:D25) -> 0 | M9: =SUM(F25:G25) -> 0 | N9: =L9-M9 -> 0
A10: 경제과학기술위원회 | B10: =B33 -> 0 | C10: =SUMIFS('2추일입'!N$6:N$72,'2추일입'!$A$6:$A$72,총괄표!$A10)+SUMIFS('2추특입'!N$6:N$16,'2추특입'!$A$6:$A$16,총괄표!$A10) -> 0 | D10: =SUMIFS('2추일입'!O$6:O$72,'2추일입'!$A$6:$A$72,총괄표!$A10)+SUMIFS('2추특입'!O$6:O$16,'2추특입'!$A$6:$A$16,총괄표!$A10) -> 0 | E10: =D10+C10 -> 0 | F10: =SUMIFS('2추일출'!P$6:P$59,'2추일출'!$B$6:$B$59,총괄표!$A10)+SUMIFS('2추특출'!P$6:P$80,'2추특출'!$B$6:$B$80,총괄표!$A10) -> 0 | G10: =SUMIFS('2추일출'!Q$6:Q$59,'2추일출'!$B$6:$B$59,총괄표!$A10)+SUMIFS('2추특출'!Q$6:Q$80,'2추특출'!$B$6:$B$80,총괄표!$A10) -> 0 | H10: =G10+F10 -> 0 | I10: =B10+F10+G10 -> 0 | N10: -16031352 | O10: (예비비 계수 조종용)
A11: 안전행정위원회 | B11: =B34 -> 0 | C11: =SUMIFS('2추일입'!N$6:N$72,'2추일입'!$A$6:$A$72,총괄표!$A11)+SUMIFS('2추특입'!N$6:N$16,'2추특입'!$A$6:$A$16,총괄표!$A11) -> 0 | D11: =SUMIFS('2추일입'!O$6:O$72,'2추일입'!$A$6:$A$72,총괄표!$A11)+SUMIFS('2추특입'!O$6:O$16,'2추특입'!$A$6:$A$16,총괄표!$A11) -> 0 | E11: =D11+C11 -> 0 | F11: =SUMIFS('2추일출'!P$6:P$59,'2추일출'!$B$6:$B$59,총괄표!$A11)+SUMIFS('2추특출'!P$6:P$80,'2추특출'!$B$6:$B$80,총괄표!$A11) -> 0 | G11: =SUMIFS('2추일출'!Q$6:Q$59,'2추일출'!$B$6:$B$59,총괄표!$A11)+SUMIFS('2추특출'!Q$6:Q$80,'2추특출'!$B$6:$B$80,총괄표!$A11) -> 0 | H11: =G11+F11 -> 0 | I11: =B11+F11+G11 -> 0
A12: 문화체육관광위원회 | B12: =B35 -> 0 | C12: =SUMIFS('2추일입'!N$6:N$72,'2추일입'!$A$6:$A$72,총괄표!$A12)+SUMIFS('2추특입'!N$6:N$16,'2추특입'!$A$6:$A$16,총괄표!$A12) -> 0 | D12: =SUMIFS('2추일입'!O$6:O$72,'2추일입'!$A$6:$A$72,총괄표!$A12)+SUMIFS('2추특입'!O$6:O$16,'2추특입'!$A$6:$A$16,총괄표!$A12) -> 0 | E12: =D12+C12 -> 0 | F12: =SUMIFS('2추일출'!P$6:P$59,'2추일출'!$B$6:$B$59,총괄표!$A12)+SUMIFS('2추특출'!P$6:P$80,'2추특출'!$B$6:$B$80,총괄표!$A12) -> 0 | G12: =SUMIFS('2추일출'!Q$6:Q$59,'2추일출'!$B$6:$B$59,총괄표!$A12)+SUMIFS('2추특출'!Q$6:Q$80,'2추특출'!$B$6:$B$80,총괄표!$A12) -> 0 | H12: =G12+F12 -> 0 | I12: =B12+F12+G12 -> 0
A13: 농정해양위원회 | B13: =B36 -> 0 | C13: =SUMIFS('2추일입'!N$6:N$72,'2추일입'!$A$6:$A$72,총괄표!$A13)+SUMIFS('2추특입'!N$6:N$16,'2추특입'!$A$6:$A$16,총괄표!$A13) -> 0 | D13: =SUMIFS('2추일입'!O$6:O$72,'2추일입'!$A$6:$A$72,총괄표!$A13)+SUMIFS('2추특입'!O$6:O$16,'2추특입'!$A$6:$A$16,총괄표!$A13) -> 0 | E13: =D13+C13 -> 0 | F13: =SUMIFS('2추일출'!P$6:P$59,'2추일출'!$B$6:$B$59,총괄표!$A13)+SUMIFS('2추특출'!P$6:P$80,'2추특출'!$B$6:$B$80,총괄표!$A13) -> 0 | G13: =SUMIFS('2추일출'!Q$6:Q$59,'2추일출'!$B$6:$B$59,총괄표!$A13)+SUMIFS('2추특출'!Q$6:Q$80,'2추특출'!$B$6:$B$80,총괄표!$A13) -> 0 | H13: =G13+F13 -> 0 | I13: =B13+F13+G13 -> 0
A14: 보건복지위원회 | B14: =B37 -> 0 | C14: =SUMIFS('2추일입'!N$6:N$72,'2추일입'!$A$6:$A$72,총괄표!$A14)+SUMIFS('2추특입'!N$6:N$16,'2추특입'!$A$6:$A$16,총괄표!$A14) -> 0 | D14: =SUMIFS('2추일입'!O$6:O$72,'2추일입'!$A$6:$A$72,총괄표!$A14)+SUMIFS('2추특입'!O$6:O$16,'2추특입'!$A$6:$A$16,총괄표!$A14) -> 0 | E14: =D14+C14 -> 0 | F14: =SUMIFS('2추일출'!P$6:P$59,'2추일출'!$B$6:$B$59,총괄표!$A14)+SUMIFS('2추특출'!P$6:P$80,'2추특출'!$B$6:$B$80,총괄표!$A14) -> 0 | G14: =SUMIFS('2추일출'!Q$6:Q$59,'2추일출'!$B$6:$B$59,총괄표!$A14)+SUMIFS('2추특출'!Q$6:Q$80,'2추특출'!$B$6:$B$80,총괄표!$A14) -> 0 | H14: =G14+F14 -> 0 | I14: =B14+F14+G14 -> 0
A15: 건설교통위원회 | B15: =B38 -> 0 | C15: =SUMIFS('2추일입'!N$6:N$72,'2추일입'!$A$6:$A$72,총괄표!$A15)+SUMIFS('2추특입'!N$6:N$16,'2추특입'!$A$6:$A$16,총괄표!$A15) -> 0 | D15: =SUMIFS('2추일입'!O$6:O$72,'2추일입'!$A$6:$A$72,총괄표!$A15)+SUMIFS('2추특입'!O$6:O$16,'2추특입'!$A$6:$A$16,총괄표!$A15) -> 0 | E15: =D15+C15 -> 0 | F15: =SUMIFS('2추일출'!P$6:P$59,'2추일출'!$B$6:$B$59,총괄표!$A15)+SUMIFS('2추특출'!P$6:P$80,'2추특출'!$B$6:$B$80,총괄표!$A15) -> 0 | G15: =SUMIFS('2추일출'!Q$6:Q$59,'2추일출'!$B$6:$B$59,총괄표!$A15)+SUMIFS('2추특출'!Q$6:Q$80,'2추특출'!$B$6:$B$80,총괄표!$A15) -> 0 | H15: =G15+F15 -> 0 | I15: =B15+F15+G15 -> 0
A16: 도시환경위원회 | B16: =B39 -> 1157825092 | C16: =SUMIFS('2추일입'!N$6:N$72,'2추일입'!$A$6:$A$72,총괄표!$A16)+SUMIFS('2추특입'!N$6:N$16,'2추특입'!$A$6:$A$16,총괄표!$A16) -> 0 | D16: =SUMIFS('2추일입'!O$6:O$72,'2추일입'!$A$6:$A$72,총괄표!$A16)+SUMIFS('2추특입'!O$6:O$16,'2추특입'!$A$6:$A$16,총괄표!$A16) -> 0 | E16: =D16+C16 -> 0 | F16: =SUMIFS('2추일출'!P$6:P$59,'2추일출'!$B$6:$B$59,총괄표!$A16)+SUMIFS('2추특출'!P$6:P$80,'2추특출'!$B$6:$B$80,총괄표!$A16) -> 0 | G16: =SUMIFS('2추일출'!Q$6:Q$59,'2추일출'!$B$6:$B$59,총괄표!$A16)+SUMIFS('2추특출'!Q$6:Q$80,'2추특출'!$B$6:$B$80,총괄표!$A16) -> 0 | H16: =G16+F16 -> 0 | I16: =B16+F16+G16 -> 1157825092
A17: 여성가족교육협력위원회 | B17: =B40 -> 0 | C17: =SUMIFS('2추일입'!N$6:N$72,'2추일입'!$A$6:$A$72,총괄표!$A17)+SUMIFS('2추특입'!N$6:N$16,'2추특입'!$A$6:$A$16,총괄표!$A17) -> 0 | D17: =SUMIFS('2추일입'!O$6:O$72,'2추일입'!$A$6:$A$72,총괄표!$A17)+SUMIFS('2추특입'!O$6:O$16,'2추특입'!$A$6:$A$16,총괄표!$A17) -> 0 | E17: =D17+C17 -> 0 | F17: =SUMIFS('2추일출'!P$6:P$59,'2추일출'!$B$6:$B$59,총괄표!$A17)+SUMIFS('2추특출'!P$6:P$80,'2추특출'!$B$6:$B$80,총괄표!$A17) -> 0 | G17: =SUMIFS('2추일출'!Q$6:Q$59,'2추일출'!$B$6:$B$59,총괄표!$A17)+SUMIFS('2추특출'!Q$6:Q$80,'2추특출'!$B$6:$B$80,총괄표!$A17) -> 0 | H17: =G17+F17 -> 0 | I17: =B17+F17+G17 -> 0
A19: □ 회계별 예산 총 규모
I20: (단위 : 천원)
A21: 구 분 | B21: 집행부제출(안) | C21: 세입예산(안) | F21: 세출예산(안) | I21: 수정예산(안) | K21: 세입기준
C22: 감 액 | D22: 증 액 | E22: 증감액 | F22: 감 액 | G22: 증 액 | H22: 증감액 | K22: 수정예산(안) | L22: 세출기준-세입기준
A23: 합 계 | B23: =SUM(B24:B25) -> 1157825092 | C23: =SUM(C24:C25) -> 0 | D23: =SUM(D24:D25) -> 0 | E23: =SUM(E24:E25) -> 0 | F23: =SUM(F24:F25) -> 0 | G23: =SUM(G24:G25) -> 0 | H23: =SUM(H24:H25) -> 0 | I23: =SUM(I24:I25) -> 1157825092 | K23: =SUM(K24:K25) -> 1157825092 | L23: =I23-K23 -> 0
A24: 일반회계 | B24: =D30 -> 1116804279 | C24: ='2추일입'!N6 -> 0 | D24: ='2추일입'!O6 -> 0 | E24: =D24+C24 -> 0 | F24: ='2추일출'!P6 -> 0 | G24: ='2추일출'!Q6 -> 0 | H24: =G24+F24 -> 0 | I24: =B24+F24+G24 -> 1116804279 | K24: =B24+C24+D24 -> 1116804279 | L24: =I24-K24 -> 0
A25: 특별회계 | B25: =E30+F30 -> 41020813 | C25: ='2추특입'!N6 -> 0 | D25: ='2추특입'!O6 -> 0 | E25: =D25+C25 -> 0 | F25: ='2추특출'!P6 -> 0 | G25: ='2추특출'!Q6 -> 0 | H25: =G25+F25 -> 0 | I25: =B25+F25+G25 -> 41020813 | K25: =B25+C25+D25 -> 41020813 | L25: =I25-K25 -> 0
A28: ※ 회계별, 위원회별 집행부제출안(상임위에서 작성)
A29: 위원회명 | B29: 합계 | C29: 일반+기타 | D29: 일반회계 | E29: 기타특별회계 | F29: 공기업특별회계
A30: 합계 | B30: =SUM(B31:B40) -> 1157825092 | C30: =SUM(C31:C40) -> 1138877086 | D30: =SUM(D31:D40) -> 1116804279 | E30: =SUM(E31:E40) -> 22072807 | F30: =SUM(F31:F40) -> 18948006
A31: 의회운영위원회 | B31: =SUM(D31:G31) -> 0 | C31: =D31+E31 -> 0
A32: 기획재정위원회 | B32: =SUM(D32:G32) -> 0 | C32: =D32+E32 -> 0
A33: 경제과학기술위원회 | B33: =SUM(D33:G33) -> 0 | C33: =D33+E33 -> 0
A34: 안전행정위원회 | B34: =SUM(D34:G34) -> 0 | C34: =D34+E34 -> 0
A35: 문화체육관광위원회 | B35: =SUM(D35:G35) -> 0 | C35: =D35+E35 -> 0
A36: 농정해양위원회 | B36: =SUM(D36:G36) -> 0 | C36: =D36+E36 -> 0
A37: 보건복지위원회 | B37: =SUM(D37:G37) -> 0 | C37: =D37+E37 -> 0
A38: 건설교통위원회 | B38: =SUM(D38:G38) -> 0 | C38: =D38+E38 -> 0
A39: 도시환경위원회 | B39: =SUM(D39:G39) -> 1157825092 | C39: =D39+E39 -> 1138877086 | D39: 1116804279 | E39: 22072807 | F39: 18948006
A40: 여성가족교육협력위원회 | B40: =SUM(D40:G40) -> 0 | C40: =D40+E40 -> 0
A42: 예비비

Sheet 2추일입
A1: 2017년도 제2회 추가경정 경기도 일반회계 세입 예산 조정(안)
A2: □ 세입예산 | P2: =P6-J6 -> 0 | X2: 세입=세출 | AC2: 세입=세출
T3: (단위 : 천원) | X3: =IF(X6='2추일출'!Z6,"OK","@@") -> OK | Z3: =IF(COUNTIF(Z6:Z72,"검토")>0,"@@","OK") -> OK | AC3: =IF(AC6='2추일출'!AE6,"OK","@@") -> OK | AD3: =N6+O6-AC6-AD6 -> 0 | AE3: =IF(COUNTIF(AE6:AE72,"검토")>0,"@@","OK") -> OK
A4: 위원회명 | B4: 실국명 | C4: 부서명 | D4: 편성 구분 | E4: 예산안 페이지 | F4: 사업설명서페이지 | G4: 목명 및 부기명 | H4: 제2회 추경 예산안 (가) | I4: 기정액 (나) | J4: 제2회 추경 증감액 (다=가-나) | K4: 상임위 예산안 조정액(라) | M4: 상임위 조정 예산안 (마=가+라) | N4: 예결위 예산안 조정액(사) | P4: 예결위 조정 예산안 (아=가+사) | Q4: 동의 대상 | R4: 상임위 변경사유 (심의 참고자료) | S4: 비고 (상임위 부대의견) | T4: 비고 (예결위 부대의견) | U4: 국도비 등 여부 | W4: 재원 | X4: 상임위 재원별 증감액 | AB4: 재원 | AC4: 예결위 재원별 증감액 | AG4: 세입번호 | AI4: 실국부서 코드 | AK4: 추가 내시 등 | AM4: 상임위 세입 검증 | AQ4: 예결위 세입 검증
K5: 감액 | L5: 증액 | N5: 감액 | O5: 증액 | X5: 국비 등 | Y5: 도비 | Z5: 검증 | AC5: 국비 등 | AD5: 도비 | AE5: 검증 | AM5: 국비 증감액 | AN5: 건수 | AO5: 검증 | AQ5: 국비 증감액 | AR5: 건수 | AS5: 검증
A6: 합 계 | H6: =SUBTOTAL(9,H7:H72) -> 0 | I6: =SUBTOTAL(9,I7:I72) -> 0 | J6: =SUBTOTAL(9,J7:J72) -> 0 | K6: =SUBTOTAL(9,K7:K72) -> 0 | L6: =SUBTOTAL(9,L7:L72) -> 0 | M6: =SUBTOTAL(9,M7:M72) -> 0 | N6: =SUBTOTAL(9,N7:N72) -> 0 | O6: =SUBTOTAL(9,O7:O72) -> 0 | P6: =SUBTOTAL(9,P7:P72) -> 0 | X6: =SUBTOTAL(9,X7:X72) -> 0 | Y6: =SUBTOTAL(9,Y7:Y72) -> 0 | Z6: =IF(SUM($K6:$L6)=SUM($X6:$Y6),"OK","검토") -> OK | AC6: =SUBTOTAL(9,AC7:AC72) -> 0 | AD6: =SUBTOTAL(9,AD7:AD72) -> 0 | AE6: =IF(SUM($K6:$L6)=SUM($X6:$Y6),"OK","검토") -> OK | AM6: =SUBTOTAL(9,AM7:AM72) -> 0 | AN6: =SUBTOTAL(9,AN7:AN72) -> 0 | AO6: =IF(COUNTIF(AO7:AO72,"@@")>0,"@@","OK") -> OK | AQ6: =SUBTOTAL(9,AQ7:AQ72) -> 0 | AR6: =SUBTOTAL(9,AR7:AR72) -> 0 | AS6: =IF(COUNTIF(AS7:AS72,"@@")>0,"@@","OK") -> OK
B7: =IF(C7="","",VLOOKUP(C7,구분표!$A$3:$C$214,3,)) | J7: =IF(D7="","",H7-I7) | M7: =H7+K7+L7 -> 0 | P7: =H7+N7+O7 -> 0 | Q7: =IF(AND((M7=0),(P7>0)),"O",IF(AND((K7<0),(M7-P7<0)),"O","X")) -> X | X7: =IF($W7<>"도비",IF($U7="국도비","직접입력",SUM($K7:$L7)),) -> 0 | Y7: =IF($W7="도비",SUM($K7:$L7),IF($U7="국도비","직접입력",SUM($K7:$L7)-$X7)) -> 0 | Z7: =IF(SUM($K7:$L7)=SUM($X7:$Y7),"OK","검토") -> OK | AC7: =IF($W7<>"도비",IF($U7="국도비","직접입력",SUM($N7:$O7)),) -> 0 | AD7: =IF($W7="도비",SUM(N7:O7),IF($U7="국도비","직접입력",SUM(N7:O7)-AC7)) -> 0 | AE7: =IF(SUM(N7:O7)=SUM(AC7:AD7),"OK","검토") -> OK | AG7: =IF(AI7="","",IF(W7="도비","세입없음",CONCATENATE(AI7,"-",COUNTIF($AI$7:AI7,AI7)))) | AI7: {=IF(C7="","",INDEX(구분표!$I$2:$I$311, MATCH(1,(구분표!$E$2:$E$311='2추일입'!B7)*(구분표!$F$2:$F$311='2추일입'!C7)*(구분표!$G$2:$G$311='2추일입'!A7),0)))} | AM7: =IF(AG7="",0,SUMIFS('2추일출'!$Z$6:$Z$59,'2추일출'!$AI$6:$AI$59,'2추일입'!$AG7)) -> 0 | AN7: =IF(AG7="","",COUNTIFS('2추일출'!$AI$6:$AI$59,'2추일입'!AG7)) | AO7: =IF(X7=AM7,"OK","@@") -> OK | AQ7: =IF(AG7="",0,SUMIFS('2추일출'!$AE$6:$AE$59,'2추일출'!$AI$6:$AI$59,'2추일입'!$AG7)) -> 0 | AR7: =IF(AG7="","",COUNTIFS('2추일출'!$AI$6:$AI$59,AG7)) | AS7: =IF(AC7=AQ7,"OK","@@") -> OK
B8: =IF(C8="","",VLOOKUP(C8,구분표!$A$3:$C$214,3,)) | J8: =IF(D8="","",H8-I8) | M8: =H8+K8+L8 -> 0 | P8: =H8+N8+O8 -> 0 | Q8: =IF(AND((M8=0),(P8>0)),"O",IF(AND((K8<0),(M8-P8<0)),"O","X")) -> X | X8: =IF($W8<>"도비",IF($U8="국도비","직접입력",SUM($K8:$L8)),) -> 0 | Y8: =IF($W8="도비",SUM($K8:$L8),IF($U8="국도비","직접입력",SUM($K8:$L8)-$X8)) -> 0 | Z8: =IF(SUM($K8:$L8)=SUM($X8:$Y8),"OK","검토") -> OK | AC8: =IF($W8<>"도비",IF($U8="국도비","직접입력",SUM($N8:$O8)),) -> 0 | AD8: =IF($W8="도비",SUM(N8:O8),IF($U8="국도비","직접입력",SUM(N8:O8)-AC8)) -> 0 | AE8: =IF(SUM(N8:O8)=SUM(AC8:AD8),"OK","검토") -> OK | AG8: =IF(AI8="","",IF(W8="도비","세입없음",CONCATENATE(AI8,"-",COUNTIF($AI$7:AI8,AI8)))) | AI8: {=IF(C8="","",INDEX(구분표!$I$2:$I$311, MATCH(1,(구분표!$E$2:$E$311='2추일입'!B8)*(구분표!$F$2:$F$311='2추일입'!C8)*(구분표!$G$2:$G$311='2추일입'!A8),0)))} | AM8: =IF(AG8="",0,SUMIFS('2추일출'!$Z$6:$Z$59,'2추일출'!$AI$6:$AI$59,'2추일입'!$AG8)) -> 0 | AN8: =IF(AG8="","",COUNTIFS('2추일출'!$AI$6:$AI$59,'2추일입'!AG8)) | AO8: =IF(X8=AM8,"OK","@@") -> OK | AQ8: =IF(AG8="",0,SUMIFS('2추일출'!$AE$6:$AE$59,'2추일출'!$AI$6:$AI$59,'2추일입'!$AG8)) -> 0 | AR8: =IF(AG8="","",COUNTIFS('2추일출'!$AI$6:$AI$59,AG8)) | AS8: =IF(AC8=AQ8,"OK","@@") -> OK
B9: =IF(C9="","",VLOOKUP(C9,구분표!$A$3:$C$214,3,)) | J9: =IF(D9="","",H9-I9) | M9: =H9+K9+L9 -> 0 | P9: =H9+N9+O9 -> 0 | Q9: =IF(AND((M9=0),(P9>0)),"O",IF(AND((K9<0),(M9-P9<0)),"O","X")) -> X | X9: =IF($W9<>"도비",IF($U9="국도비","직접입력",SUM($K9:$L9)),) -> 0 | Y9: =IF($W9="도비",SUM($K9:$L9),IF($U9="국도비","직접입력",SUM($K9:$L9)-$X9)) -> 0 | Z9: =IF(SUM($K9:$L9)=SUM($X9:$Y9),"OK","검토") -> OK | AC9: =IF($W9<>"도비",IF($U9="국도비","직접입력",SUM($N9:$O9)),) -> 0 | AD9: =IF($W9="도비",SUM(N9:O9),IF($U9="국도비","직접입력",SUM(N9:O9)-AC9)) -> 0 | AE9: =IF(SUM(N9:O9)=SUM(AC9:AD9),"OK","검토") -> OK | AG9: =IF(AI9="","",IF(W9="도비","세입없음",CONCATENATE(AI9,"-",COUNTIF($AI$7:AI9,AI9)))) | AI9: {=IF(C9="","",INDEX(구분표!$I$2:$I$311, MATCH(1,(구분표!$E$2:$E$311='2추일입'!B9)*(구분표!$F$2:$F$311='2추일입'!C9)*(구분표!$G$2:$G$311='2추일입'!A9),0)))} | AM9: =IF(AG9="",0,SUMIFS('2추일출'!$Z$6:$Z$59,'2추일출'!$AI$6:$AI$59,'2추일입'!$AG9)) -> 0 | AN9: =IF(AG9="","",COUNTIFS('2추일출'!$AI$6:$AI$59,'2추일입'!AG9)) | AO9: =IF(X9=AM9,"OK","@@") -> OK | AQ9: =IF(AG9="",0,SUMIFS('2추일출'!$AE$6:$AE$59,'2추일출'!$AI$6:$AI$59,'2추일입'!$AG9)) -> 0 | AR9: =IF(AG9="","",COUNTIFS('2추일출'!$AI$6:$AI$59,AG9)) | AS9: =IF(AC9=AQ9,"OK","@@") -> OK
B10: =IF(C10="","",VLOOKUP(C10,구분표!$A$3:$C$214,3,)) | J10: =IF(D10="","",H10-I10) | M10: =H10+K10+L10 -> 0 | P10: =H10+N10+O10 -> 0 | Q10: =IF(AND((M10=0),(P10>0)),"O",IF(AND((K10<0),(M10-P10<0)),"O","X")) -> X | X10: =IF($W10<>"도비",IF($U10="국도비","직접입력",SUM($K10:$L10)),) -> 0 | Y10: =IF($W10="도비",SUM($K10:$L10),IF($U10="국도비","직접입력",SUM($K10:$L10)-$X10)) -> 0 | Z10: =IF(SUM($K10:$L10)=SUM($X10:$Y10),"OK","검토") -> OK | AC10: =IF($W10<>"도비",IF($U10="국도비","직접입력",SUM($N10:$O10)),) -> 0 | AD10: =IF($W10="도비",SUM(N10:O10),IF($U10="국도비","직접입력",SUM(N10:O10)-AC10)) -> 0 | AE10: =IF(SUM(N10:O10)=SUM(AC10:AD10),"OK","검토") -> OK | AG10: =IF(AI10="","",IF(W10="도비","세입없음",CONCATENATE(AI10,"-",COUNTIF($AI$7:AI10,AI10)))) | AI10: {=IF(C10="","",INDEX(구분표!$I$2:$I$311, MATCH(1,(구분표!$E$2:$E$311='2추일입'!B10)*(구분표!$F$2:$F$311='2추일입'!C10)*(구분표!$G$2:$G$311='2추일입'!A10),0)))} | AM10: =IF(AG10="",0,SUMIFS('2추일출'!$Z$6:$Z$59,'2추일출'!$AI$6:$AI$59,'2추일입'!$AG10)) -> 0 | AN10: =IF(AG10="","",COUNTIFS('2추일출'!$AI$6:$AI$59,'2추일입'!AG10)) | AO10: =IF(X10=AM10,"OK","@@") -> OK | AQ10: =IF(AG10="",0,SUMIFS('2추일출'!$AE$6:$AE$59,'2추일출'!$AI$6:$AI$59,'2추일입'!$AG10)) -> 0 | AR10: =IF(AG10="","",COUNTIFS('2추일출'!$AI$6:$AI$59,AG10)) | AS10: =IF(AC10=AQ10,"OK","@@") -> OK
B11: =IF(C11="","",VLOOKUP(C11,구분표!$A$3:$C$214,3,)) | J11: =IF(D11="","",H11-I11) | M11: =H11+K11+L11 -> 0 | P11: =H11+N11+O11 -> 0 | Q11: =IF(AND((M11=0),(P11>0)),"O",IF(AND((K11<0),(M11-P11<0)),"O","X")) -> X | X11: =IF($W11<>"도비",IF($U11="국도비","직접입력",SUM($K11:$L11)),) -> 0 | Y11: =IF($W11="도비",SUM($K11:$L11),IF($U11="국도비","직접입력",SUM($K11:$L11)-$X11)) -> 0 | Z11: =IF(SUM($K11:$L11)=SUM($X11:$Y11),"OK","검토") -> OK | AC11: =IF($W11<>"도비",IF($U11="국도비","직접입력",SUM($N11:$O11)),) -> 0 | AD11: =IF($W11="도비",SUM(N11:O11),IF($U11="국도비","직접입력",SUM(N11:O11)-AC11)) -> 0 | AE11: =IF(SUM(N11:O11)=SUM(AC11:AD11),"OK","검토") -> OK | AG11: =IF(AI11="","",IF(W11="도비","세입없음",CONCATENATE(AI11,"-",COUNTIF($AI$7:AI11,AI11)))) | AI11: {=IF(C11="","",INDEX(구분표!$I$2:$I$311, MATCH(1,(구분표!$E$2:$E$311='2추일입'!B11)*(구분표!$F$2:$F$311='2추일입'!C11)*(구분표!$G$2:$G$311='2추일입'!A11),0)))} | AM11: =IF(AG11="",0,SUMIFS('2추일출'!$Z$6:$Z$59,'2추일출'!$AI$6:$AI$59,'2추일입'!$AG11)) -> 0 | AN11: =IF(AG11="","",COUNTIFS('2추일출'!$AI$6:$AI$59,'2추일입'!AG11)) | AO11: =IF(X11=AM11,"OK","@@") -> OK | AQ11: =IF(AG11="",0,SUMIFS('2추일출'!$AE$6:$AE$59,'2추일출'!$AI$6:$AI$59,'2추일입'!$AG11)) -> 0 | AR11: =IF(AG11="","",COUNTIFS('2추일출'!$AI$6:$AI$59,AG11)) | AS11: =IF(AC11=AQ11,"OK","@@") -> OK
B12: =IF(C12="","",VLOOKUP(C12,구분표!$A$3:$C$214,3,)) | J12: =IF(D12="","",H12-I12) | M12: =H12+K12+L12 -> 0 | P12: =H12+N12+O12 -> 0 | Q12: =IF(AND((M12=0),(P12>0)),"O",IF(AND((K12<0),(M12-P12<0)),"O","X")) -> X | X12: =IF($W12<>"도비",IF($U12="국도비","직접입력",SUM($K12:$L12)),) -> 0 | Y12: =IF($W12="도비",SUM($K12:$L12),IF($U12="국도비","직접입력",SUM($K12:$L12)-$X12)) -> 0 | Z12: =IF(SUM($K12:$L12)=SUM($X12:$Y12),"OK","검토") -> OK | AC12: =IF($W12<>"도비",IF($U12="국도비","직접입력",SUM($N12:$O12)),) -> 0 | AD12: =IF($W12="도비",SUM(N12:O12),IF($U12="국도비","직접입력",SUM(N12:O12)-AC12)) -> 0 | AE12: =IF(SUM(N12:O12)=SUM(AC12:AD12),"OK","검토") -> OK | AG12: =IF(AI12="","",IF(W12="도비","세입없음",CONCATENATE(AI12,"-",COUNTIF($AI$7:AI12,AI12)))) | AI12: {=IF(C12="","",INDEX(구분표!$I$2:$I$311, MATCH(1,(구분표!$E$2:$E$311='2추일입'!B12)*(구분표!$F$2:$F$311='2추일입'!C12)*(구분표!$G$2:$G$311='2추일입'!A12),0)))} | AM12: =IF(AG12="",0,SUMIFS('2추일출'!$Z$6:$Z$59,'2추일출'!$AI$6:$AI$59,'2추일입'!$AG12)) -> 0 | AN12: =IF(AG12="","",COUNTIFS('2추일출'!$AI$6:$AI$59,'2추일입'!AG12)) | AO12: =IF(X12=AM12,"OK","@@") -> OK | AQ12: =IF(AG12="",0,SUMIFS('2추일출'!$AE$6:$AE$59,'2추일출'!$AI$6:$AI$59,'2추일입'!$AG12)) -> 0 | AR12: =IF(AG12="","",COUNTIFS('2추일출'!$AI$6:$AI$59,AG12)) | AS12: =IF(AC12=AQ12,"OK","@@") -> OK
B13: =IF(C13="","",VLOOKUP(C13,구분표!$A$3:$C$214,3,)) | J13: =IF(D13="","",H13-I13) | M13: =H13+K13+L13 -> 0 | P13: =H13+N13+O13 -> 0 | Q13: =IF(AND((M13=0),(P13>0)),"O",IF(AND((K13<0),(M13-P13<0)),"O","X")) -> X | X13: =IF($W13<>"도비",IF($U13="국도비","직접입력",SUM($K13:$L13)),) -> 0 | Y13: =IF($W13="도비",SUM($K13:$L13),IF($U13="국도비","직접입력",SUM($K13:$L13)-$X13)) -> 0 | Z13: =IF(SUM($K13:$L13)=SUM($X13:$Y13),"OK","검토") -> OK | AC13: =IF($W13<>"도비",IF($U13="국도비","직접입력",SUM($N13:$O13)),) -> 0 | AD13: =IF($W13="도비",SUM(N13:O13),IF($U13="국도비","직접입력",SUM(N13:O13)-AC13)) -> 0 | AE13: =IF(SUM(N13:O13)=SUM(AC13:AD13),"OK","검토") -> OK | AG13: =IF(AI13="","",IF(W13="도비","세입없음",CONCATENATE(AI13,"-",COUNTIF($AI$7:AI13,AI13)))) | AI13: {=IF(C13="","",INDEX(구분표!$I$2:$I$311, MATCH(1,(구분표!$E$2:$E$311='2추일입'!B13)*(구분표!$F$2:$F$311='2추일입'!C13)*(구분표!$G$2:$G$311='2추일입'!A13),0)))} | AM13: =IF(AG13="",0,SUMIFS('2추일출'!$Z$6:$Z$59,'2추일출'!$AI$6:$AI$59,'2추일입'!$AG13)) -> 0 | AN13: =IF(AG13="","",COUNTIFS('2추일출'!$AI$6:$AI$59,'2추일입'!AG13)) | AO13: =IF(X13=AM13,"OK","@@") -> OK | AQ13: =IF(AG13="",0,SUMIFS('2추일출'!$AE$6:$AE$59,'2추일출'!$AI$6:$AI$59,'2추일입'!$AG13)) -> 0 | AR13: =IF(AG13="","",COUNTIFS('2추일출'!$AI$6:$AI$59,AG13)) | AS13: =IF(AC13=AQ13,"OK","@@") -> OK
B14: =IF(C14="","",VLOOKUP(C14,구분표!$A$3:$C$214,3,)) | J14: =IF(D14="","",H14-I14) | M14: =H14+K14+L14 -> 0 | P14: =H14+N14+O14 -> 0 | Q14: =IF(AND((M14=0),(P14>0)),"O",IF(AND((K14<0),(M14-P14<0)),"O","X")) -> X | X14: =IF($W14<>"도비",IF($U14="국도비","직접입력",SUM($K14:$L14)),) -> 0 | Y14: =IF($W14="도비",SUM($K14:$L14),IF($U14="국도비","직접입력",SUM($K14:$L14)-$X14)) -> 0 | Z14: =IF(SUM($K14:$L14)=SUM($X14:$Y14),"OK","검토") -> OK | AC14: =IF($W14<>"도비",IF($U14="국도비","직접입력",SUM($N14:$O14)),) -> 0 | AD14: =IF($W14="도비",SUM(N14:O14),IF($U14="국도비","직접입력",SUM(N14:O14)-AC14)) -> 0 | AE14: =IF(SUM(N14:O14)=SUM(AC14:AD14),"OK","검토") -> OK | AG14: =IF(AI14="","",IF(W14="도비","세입없음",CONCATENATE(AI14,"-",COUNTIF($AI$7:AI14,AI14)))) | AI14: {=IF(C14="","",INDEX(구분표!$I$2:$I$311, MATCH(1,(구분표!$E$2:$E$311='2추일입'!B14)*(구분표!$F$2:$F$311='2추일입'!C14)*(구분표!$G$2:$G$311='2추일입'!A14),0)))} | AM14: =IF(AG14="",0,SUMIFS('2추일출'!$Z$6:$Z$59,'2추일출'!$AI$6:$AI$59,'2추일입'!$AG14)) -> 0 | AN14: =IF(AG14="","",COUNTIFS('2추일출'!$AI$6:$AI$59,'2추일입'!AG14)) | AO14: =IF(X14=AM14,"OK","@@") -> OK | AQ14: =IF(AG14="",0,SUMIFS('2추일출'!$AE$6:$AE$59,'2추일출'!$AI$6:$AI$59,'2추일입'!$AG14)) -> 0 | AR14: =IF(AG14="","",COUNTIFS('2추일출'!$AI$6:$AI$59,AG14)) | AS14: =IF(AC14=AQ14,"OK","@@") -> OK
B15: =IF(C15="","",VLOOKUP(C15,구분표!$A$3:$C$214,3,)) | J15: =IF(D15="","",H15-I15) | M15: =H15+K15+L15 -> 0 | P15: =H15+N15+O15 -> 0 | Q15: =IF(AND((M15=0),(P15>0)),"O",IF(AND((K15<0),(M15-P15<0)),"O","X")) -> X | X15: =IF($W15<>"도비",IF($U15="국도비","직접입력",SUM($K15:$L15)),) -> 0 | Y15: =IF($W15="도비",SUM($K15:$L15),IF($U15="국도비","직접입력",SUM($K15:$L15)-$X15)) -> 0 | Z15: =IF(SUM($K15:$L15)=SUM($X15:$Y15),"OK","검토") -> OK | AC15: =IF($W15<>"도비",IF($U15="국도비","직접입력",SUM($N15:$O15)),) -> 0 | AD15: =IF($W15="도비",SUM(N15:O15),IF($U15="국도비","직접입력",SUM(N15:O15)-AC15)) -> 0 | AE15: =IF(SUM(N15:O15)=SUM(AC15:AD15),"OK","검토") -> OK | AG15: =IF(AI15="","",IF(W15="도비","세입없음",CONCATENATE(AI15,"-",COUNTIF($AI$7:AI15,AI15)))) | AI15: {=IF(C15="","",INDEX(구분표!$I$2:$I$311, MATCH(1,(구분표!$E$2:$E$311='2추일입'!B15)*(구분표!$F$2:$F$311='2추일입'!C15)*(구분표!$G$2:$G$311='2추일입'!A15),0)))} | AM15: =IF(AG15="",0,SUMIFS('2추일출'!$Z$6:$Z$59,'2추일출'!$AI$6:$AI$59,'2추일입'!$AG15)) -> 0 | AN15: =IF(AG15="","",COUNTIFS('2추일출'!$AI$6:$AI$59,'2추일입'!AG15)) | AO15: =IF(X15=AM15,"OK","@@") -> OK | AQ15: =IF(AG15="",0,SUMIFS('2추일출'!$AE$6:$AE$59,'2추일출'!$AI$6:$AI$59,'2추일입'!$AG15)) -> 0 | AR15: =IF(AG15="","",COUNTIFS('2추일출'!$AI$6:$AI$59,AG15)) | AS15: =IF(AC15=AQ15,"OK","@@") -> OK
B16: =IF(C16="","",VLOOKUP(C16,구분표!$A$3:$C$214,3,)) | J16: =IF(D16="","",H16-I16) | M16: =H16+K16+L16 -> 0 | P16: =H16+N16+O16 -> 0 | Q16: =IF(AND((M16=0),(P16>0)),"O",IF(AND((K16<0),(M16-P16<0)),"O","X")) -> X | X16: =IF($W16<>"도비",IF($U16="국도비","직접입력",SUM($K16:$L16)),) -> 0 | Y16: =IF($W16="도비",SUM($K16:$L16),IF($U16="국도비","직접입력",SUM($K16:$L16)-$X16)) -> 0 | Z16: =IF(SUM($K16:$L16)=SUM($X16:$Y16),"OK","검토") -> OK | AC16: =IF($W16<>"도비",IF($U16="국도비","직접입력",SUM($N16:$O16)),) -> 0 | AD16: =IF($W16="도비",SUM(N16:O16),IF($U16="국도비","직접입력",SUM(N16:O16)-AC16)) -> 0 | AE16: =IF(SUM(N16:O16)=SUM(AC16:AD16),"OK","검토") -> OK | AG16: =IF(AI16="","",IF(W16="도비","세입없음",CONCATENATE(AI16,"-",COUNTIF($AI$7:AI16,AI16)))) | AI16: {=IF(C16="","",INDEX(구분표!$I$2:$I$311, MATCH(1,(구분표!$E$2:$E$311='2추일입'!B16)*(구분표!$F$2:$F$311='2추일입'!C16)*(구분표!$G$2:$G$311='2추일입'!A16),0)))} | AM16: =IF(AG16="",0,SUMIFS('2추일출'!$Z$6:$Z$59,'2추일출'!$AI$6:$AI$59,'2추일입'!$AG16)) -> 0 | AN16: =IF(AG16="","",COUNTIFS('2추일출'!$AI$6:$AI$59,'2추일입'!AG16)) | AO16: =IF(X16=AM16,"OK","@@") -> OK | AQ16: =IF(AG16="",0,SUMIFS('2추일출'!$AE$6:$AE$59,'2추일출'!$AI$6:$AI$59,'2추일입'!$AG16)) -> 0 | AR16: =IF(AG16="","",COUNTIFS('2추일출'!$AI$6:$AI$59,AG16)) | AS16: =IF(AC16=AQ16,"OK","@@") -> OK
B17: =IF(C17="","",VLOOKUP(C17,구분표!$A$3:$C$214,3,)) | J17: =IF(D17="","",H17-I17) | M17: =H17+K17+L17 -> 0 | P17: =H17+N17+O17 -> 0 | Q17: =IF(AND((M17=0),(P17>0)),"O",IF(AND((K17<0),(M17-P17<0)),"O","X")) -> X | X17: =IF($W17<>"도비",IF($U17="국도비","직접입력",SUM($K17:$L17)),) -> 0 | Y17: =IF($W17="도비",SUM($K17:$L17),IF($U17="국도비","직접입력",SUM($K17:$L17)-$X17)) -> 0 | Z17: =IF(SUM($K17:$L17)=SUM($X17:$Y17),"OK","검토") -> OK | AC17: =IF($W17<>"도비",IF($U17="국도비","직접입력",SUM($N17:$O17)),) -> 0 | AD17: =IF($W17="도비",SUM(N17:O17),IF($U17="국도비","직접입력",SUM(N17:O17)-AC17)) -> 0 | AE17: =IF(SUM(N17:O17)=SUM(AC17:AD17),"OK","검토") -> OK | AG17: =IF(AI17="","",IF(W17="도비","세입없음",CONCATENATE(AI17,"-",COUNTIF($AI$7:AI17,AI17)))) | AI17: {=IF(C17="","",INDEX(구분표!$I$2:$I$311, MATCH(1,(구분표!$E$2:$E$311='2추일입'!B17)*(구분표!$F$2:$F$311='2추일입'!C17)*(구분표!$G$2:$G$311='2추일입'!A17),0)))} | AM17: =IF(AG17="",0,SUMIFS('2추일출'!$Z$6:$Z$59,'2추일출'!$AI$6:$AI$59,'2추일입'!$AG17)) -> 0 | AN17: =IF(AG17="","",COUNTIFS('2추일출'!$AI$6:$AI$59,'2추일입'!AG17)) | AO17: =IF(X17=AM17,"OK","@@") -> OK | AQ17: =IF(AG17="",0,SUMIFS('2추일출'!$AE$6:$AE$59,'2추일출'!$AI$6:$AI$59,'2추일입'!$AG17)) -> 0 | AR17: =IF(AG17="","",COUNTIFS('2추일출'!$AI$6:$AI$59,AG17)) | AS17: =IF(AC17=AQ17,"OK","@@") -> OK
B18: =IF(C18="","",VLOOKUP(C18,구분표!$A$3:$C$214,3,)) | J18: =IF(D18="","",H18-I18) | M18: =H18+K18+L18 -> 0 | P18: =H18+N18+O18 -> 0 | Q18: =IF(AND((M18=0),(P18>0)),"O",IF(AND((K18<0),(M18-P18<0)),"O","X")) -> X | X18: =IF($W18<>"도비",IF($U18="국도비","직접입력",SUM($K18:$L18)),) -> 0 | Y18: =IF($W18="도비",SUM($K18:$L18),IF($U18="국도비","직접입력",SUM($K18:$L18)-$X18)) -> 0 | Z18: =IF(SUM($K18:$L18)=SUM($X18:$Y18),"OK","검토") -> OK | AC18: =IF($W18<>"도비",IF($U18="국도비","직접입력",SUM($N18:$O18)),) -> 0 | AD18: =IF($W18="도비",SUM(N18:O18),IF($U18="국도비","직접입력",SUM(N18:O18)-AC18)) -> 0 | AE18: =IF(SUM(N18:O18)=SUM(AC18:AD18),"OK","검토") -> OK | AG18: =IF(AI18="","",IF(W18="도비","세입없음",CONCATENATE(AI18,"-",COUNTIF($AI$7:AI18,AI18)))) | AI18: {=IF(C18="","",INDEX(구분표!$I$2:$I$311, MATCH(1,(구분표!$E$2:$E$311='2추일입'!B18)*(구분표!$F$2:$F$311='2추일입'!C18)*(구분표!$G$2:$G$311='2추일입'!A18),0)))} | AM18: =IF(AG18="",0,SUMIFS('2추일출'!$Z$6:$Z$59,'2추일출'!$AI$6:$AI$59,'2추일입'!$AG18)) -> 0 | AN18: =IF(AG18="","",COUNTIFS('2추일출'!$AI$6:$AI$59,'2추일입'!AG18)) | AO18: =IF(X18=AM18,"OK","@@") -> OK | AQ18: =IF(AG18="",0,SUMIFS('2추일출'!$AE$6:$AE$59,'2추일출'!$AI$6:$AI$59,'2추일입'!$AG18)) -> 0 | AR18: =IF(AG18="","",COUNTIFS('2추일출'!$AI$6:$AI$59,AG18)) | AS18: =IF(AC18=AQ18,"OK","@@") -> OK
B19: =IF(C19="","",VLOOKUP(C19,구분표!$A$3:$C$214,3,)) | J19: =IF(D19="","",H19-I19) | M19: =H19+K19+L19 -> 0 | P19: =H19+N19+O19 -> 0 | Q19: =IF(AND((M19=0),(P19>0)),"O",IF(AND((K19<0),(M19-P19<0)),"O","X")) -> X | X19: =IF($W19<>"도비",IF($U19="국도비","직접입력",SUM($K19:$L19)),) -> 0 | Y19: =IF($W19="도비",SUM($K19:$L19),IF($U19="국도비","직접입력",SUM($K19:$L19)-$X19)) -> 0 | Z19: =IF(SUM($K19:$L19)=SUM($X19:$Y19),"OK","검토") -> OK | AC19: =IF($W19<>"도비",IF($U19="국도비","직접입력",SUM($N19:$O19)),) -> 0 | AD19: =IF($W19="도비",SUM(N19:O19),IF($U19="국도비","직접입력",SUM(N19:O19)-AC19)) -> 0 | AE19: =IF(SUM(N19:O19)=SUM(AC19:AD19),"OK","검토") -> OK | AG19: =IF(AI19="","",IF(W19="도비","세입없음",CONCATENATE(AI19,"-",COUNTIF($AI$7:AI19,AI19)))) | AI19: {=IF(C19="","",INDEX(구분표!$I$2:$I$311, MATCH(1,(구분표!$E$2:$E$311='2추일입'!B19)*(구분표!$F$2:$F$311='2추일입'!C19)*(구분표!$G$2:$G$311='2추일입'!A19),0)))} | AM19: =IF(AG19="",0,SUMIFS('2추일출'!$Z$6:$Z$59,'2추일출'!$AI$6:$AI$59,'2추일입'!$AG19)) -> 0 | AN19: =IF(AG19="","",COUNTIFS('2추일출'!$AI$6:$AI$59,'2추일입'!AG19)) | AO19: =IF(X19=AM19,"OK","@@") -> OK | AQ19: =IF(AG19="",0,SUMIFS('2추일출'!$AE$6:$AE$59,'2추일출'!$AI$6:$AI$59,'2추일입'!$AG19)) -> 0 | AR19: =IF(AG19="","",COUNTIFS('2추일출'!$AI$6:$AI$59,AG19)) | AS19: =IF(AC19=AQ19,"OK","@@") -> OK
J20: =IF(D20="","",H20-I20) | M20: =H20+K20+L20 -> 0 | P20: =H20+N20+O20 -> 0 | Q20: =IF(AND((M20=0),(P20>0)),"O",IF(AND((K20<0),(M20-P20<0)),"O","X")) -> X | X20: =IF($W20<>"도비",IF($U20="국도비","직접입력",SUM($K20:$L20)),) -> 0 | Y20: =IF($W20="도비",SUM($K20:$L20),IF($U20="국도비","직접입력",SUM($K20:$L20)-$X20)) -> 0 | Z20: =IF(SUM($K20:$L20)=SUM($X20:$Y20),"OK","검토") -> OK | AC20: =IF($W20<>"도비",IF($U20="국도비","직접입력",SUM($N20:$O20)),) -> 0 | AD20: =IF($W20="도비",SUM(N20:O20),IF($U20="국도비","직접입력",SUM(N20:O20)-AC20)) -> 0 | AE20: =IF(SUM(N20:O20)=SUM(AC20:AD20),"OK","검토") -> OK | AG20: =IF(AI20="","",IF(W20="도비","세입없음",CONCATENATE(AI20,"-",COUNTIF($AI$7:AI20,AI20)))) | AI20: {=IF(C20="","",INDEX(구분표!$I$2:$I$311, MATCH(1,(구분표!$E$2:$E$311='2추일입'!B20)*(구분표!$F$2:$F$311='2추일입'!C20)*(구분표!$G$2:$G$311='2추일입'!A20),0)))} | AM20: =IF(AG20="",0,SUMIFS('2추일출'!$Z$6:$Z$59,'2추일출'!$AI$6:$AI$59,'2추일입'!$AG20)) -> 0 | AN20: =IF(AG20="","",COUNTIFS('2추일출'!$AI$6:$AI$59,'2추일입'!AG20)) | AO20: =IF(X20=AM20,"OK","@@") -> OK | AQ20: =IF(AG20="",0,SUMIFS('2추일출'!$AE$6:$AE$59,'2추일출'!$AI$6:$AI$59,'2추일입'!$AG20)) -> 0 | AR20: =IF(AG20="","",COUNTIFS('2추일출'!$AI$6:$AI$59,AG20)) | AS20: =IF(AC20=AQ20,"OK","@@") -> OK
J21: =IF(D21="","",H21-I21) | M21: =H21+K21+L21 -> 0 | P21: =H21+N21+O21 -> 0 | Q21: =IF(AND((M21=0),(P21>0)),"O",IF(AND((K21<0),(M21-P21<0)),"O","X")) -> X | X21: =IF($W21<>"도비",IF($U21="국도비","직접입력",SUM($K21:$L21)),) -> 0 | Y21: =IF($W21="도비",SUM($K21:$L21),IF($U21="국도비","직접입력",SUM($K21:$L21)-$X21)) -> 0 | Z21: =IF(SUM($K21:$L21)=SUM($X21:$Y21),"OK","검토") -> OK | AC21: =IF($W21<>"도비",IF($U21="국도비","직접입력",SUM($N21:$O21)),) -> 0 | AD21: =IF($W21="도비",SUM(N21:O21),IF($U21="국도비","직접입력",SUM(N21:O21)-AC21)) -> 0 | AE21: =IF(SUM(N21:O21)=SUM(AC21:AD21),"OK","검토") -> OK | AG21: =IF(AI21="","",IF(W21="도비","세입없음",CONCATENATE(AI21,"-",COUNTIF($AI$7:AI21,AI21)))) | AI21: {=IF(C21="","",INDEX(구분표!$I$2:$I$311, MATCH(1,(구분표!$E$2:$E$311='2추일입'!B21)*(구분표!$F$2:$F$311='2추일입'!C21)*(구분표!$G$2:$G$311='2추일입'!A21),0)))} | AM21: =IF(AG21="",0,SUMIFS('2추일출'!$Z$6:$Z$59,'2추일출'!$AI$6:$AI$59,'2추일입'!$AG21)) -> 0 | AN21: =IF(AG21="","",COUNTIFS('2추일출'!$AI$6:$AI$59,'2추일입'!AG21)) | AO21: =IF(X21=AM21,"OK","@@") -> OK | AQ21: =IF(AG21="",0,SUMIFS('2추일출'!$AE$6:$AE$59,'2추일출'!$AI$6:$AI$59,'2추일입'!$AG21)) -> 0 | AR21: =IF(AG21="","",COUNTIFS('2추일출'!$AI$6:$AI$59,AG21)) | AS21: =IF(AC21=AQ21,"OK","@@") -> OK
J22: =IF(D22="","",H22-I22) | M22: =H22+K22+L22 -> 0 | P22: =H22+N22+O22 -> 0 | Q22: =IF(AND((M22=0),(P22>0)),"O",IF(AND((K22<0),(M22-P22<0)),"O","X")) -> X | X22: =IF($W22<>"도비",IF($U22="국도비","직접입력",SUM($K22:$L22)),) -> 0 | Y22: =IF($W22="도비",SUM($K22:$L22),IF($U22="국도비","직접입력",SUM($K22:$L22)-$X22)) -> 0 | Z22: =IF(SUM($K22:$L22)=SUM($X22:$Y22),"OK","검토") -> OK | AC22: =IF($W22<>"도비",IF($U22="국도비","직접입력",SUM($N22:$O22)),) -> 0 | AD22: =IF($W22="도비",SUM(N22:O22),IF($U22="국도비","직접입력",SUM(N22:O22)-AC22)) -> 0 | AE22: =IF(SUM(N22:O22)=SUM(AC22:AD22),"OK","검토") -> OK | AG22: =IF(AI22="","",IF(W22="도비","세입없음",CONCATENATE(AI22,"-",COUNTIF($AI$7:AI22,AI22)))) | AI22: {=IF(C22="","",INDEX(구분표!$I$2:$I$311, MATCH(1,(구분표!$E$2:$E$311='2추일입'!B22)*(구분표!$F$2:$F$311='2추일입'!C22)*(구분표!$G$2:$G$311='2추일입'!A22),0)))} | AM22: =IF(AG22="",0,SUMIFS('2추일출'!$Z$6:$Z$59,'2추일출'!$AI$6:$AI$59,'2추일입'!$AG22)) -> 0 | AN22: =IF(AG22="","",COUNTIFS('2추일출'!$AI$6:$AI$59,'2추일입'!AG22)) | AO22: =IF(X22=AM22,"OK","@@") -> OK | AQ22: =IF(AG22="",0,SUMIFS('2추일출'!$AE$6:$AE$59,'2추일출'!$AI$6:$AI$59,'2추일입'!$AG22)) -> 0 | AR22: =IF(AG22="","",COUNTIFS('2추일출'!$AI$6:$AI$59,AG22)) | AS22: =IF(AC22=AQ22,"OK","@@") -> OK
J23: =IF(D23="","",H23-I23) | M23: =H23+K23+L23 -> 0 | P23: =H23+N23+O23 -> 0 | Q23: =IF(AND((M23=0),(P23>0)),"O",IF(AND((K23<0),(M23-P23<0)),"O","X")) -> X | X23: =IF($W23<>"도비",IF($U23="국도비","직접입력",SUM($K23:$L23)),) -> 0 | Y23: =IF($W23="도비",SUM($K23:$L23),IF($U23="국도비","직접입력",SUM($K23:$L23)-$X23)) -> 0 | Z23: =IF(SUM($K23:$L23)=SUM($X23:$Y23),"OK","검토") -> OK | AC23: =IF($W23<>"도비",IF($U23="국도비","직접입력",SUM($N23:$O23)),) -> 0 | AD23: =IF($W23="도비",SUM(N23:O23),IF($U23="국도비","직접입력",SUM(N23:O23)-AC23)) -> 0 | AE23: =IF(SUM(N23:O23)=SUM(AC23:AD23),"OK","검토") -> OK | AG23: =IF(AI23="","",IF(W23="도비","세입없음",CONCATENATE(AI23,"-",COUNTIF($AI$7:AI23,AI23)))) | AI23: {=IF(C23="","",INDEX(구분표!$I$2:$I$311, MATCH(1,(구분표!$E$2:$E$311='2추일입'!B23)*(구분표!$F$2:$F$311='2추일입'!C23)*(구분표!$G$2:$G$311='2추일입'!A23),0)))} | AM23: =IF(AG23="",0,SUMIFS('2추일출'!$Z$6:$Z$59,'2추일출'!$AI$6:$AI$59,'2추일입'!$AG23)) -> 0 | AN23: =IF(AG23="","",COUNTIFS('2추일출'!$AI$6:$AI$59,'2추일입'!AG23)) | AO23: =IF(X23=AM23,"OK","@@") -> OK | AQ23: =IF(AG23="",0,SUMIFS('2추일출'!$AE$6:$AE$59,'2추일출'!$AI$6:$AI$59,'2추일입'!$AG23)) -> 0 | AR23: =IF(AG23="","",COUNTIFS('2추일출'!$AI$6:$AI$59,AG23)) | AS23: =IF(AC23=AQ23,"OK","@@") -> OK
J24: =IF(D24="","",H24-I24) | M24: =H24+K24+L24 -> 0 | P24: =H24+N24+O24 -> 0 | Q24: =IF(AND((M24=0),(P24>0)),"O",IF(AND((K24<0),(M24-P24<0)),"O","X")) -> X | X24: =IF($W24<>"도비",IF($U24="국도비","직접입력",SUM($K24:$L24)),) -> 0 | Y24: =IF($W24="도비",SUM($K24:$L24),IF($U24="국도비","직접입력",SUM($K24:$L24)-$X24)) -> 0 | Z24: =IF(SUM($K24:$L24)=SUM($X24:$Y24),"OK","검토") -> OK | AC24: =IF($W24<>"도비",IF($U24="국도비","직접입력",SUM($N24:$O24)),) -> 0 | AD24: =IF($W24="도비",SUM(N24:O24),IF($U24="국도비","직접입력",SUM(N24:O24)-AC24)) -> 0 | AE24: =IF(SUM(N24:O24)=SUM(AC24:AD24),"OK","검토") -> OK | AG24: =IF(AI24="","",IF(W24="도비","세입없음",CONCATENATE(AI24,"-",COUNTIF($AI$7:AI24,AI24)))) | AI24: {=IF(C24="","",INDEX(구분표!$I$2:$I$311, MATCH(1,(구분표!$E$2:$E$311='2추일입'!B24)*(구분표!$F$2:$F$311='2추일입'!C24)*(구분표!$G$2:$G$311='2추일입'!A24),0)))} | AM24: =IF(AG24="",0,SUMIFS('2추일출'!$Z$6:$Z$59,'2추일출'!$AI$6:$AI$59,'2추일입'!$AG24)) -> 0 | AN24: =IF(AG24="","",COUNTIFS('2추일출'!$AI$6:$AI$59,'2추일입'!AG24)) | AO24: =IF(X24=AM24,"OK","@@") -> OK | AQ24: =IF(AG24="",0,SUMIFS('2추일출'!$AE$6:$AE$59,'2추일출'!$AI$6:$AI$59,'2추일입'!$AG24)) -> 0 | AR24: =IF(AG24="","",COUNTIFS('2추일출'!$AI$6:$AI$59,AG24)) | AS24: =IF(AC24=AQ24,"OK","@@") -> OK
J25: =IF(D25="","",H25-I25) | M25: =H25+K25+L25 -> 0 | P25: =H25+N25+O25 -> 0 | Q25: =IF(AND((M25=0),(P25>0)),"O",IF(AND((K25<0),(M25-P25<0)),"O","X")) -> X | X25: =IF($W25<>"도비",IF($U25="국도비","직접입력",SUM($K25:$L25)),) -> 0 | Y25: =IF($W25="도비",SUM($K25:$L25),IF($U25="국도비","직접입력",SUM($K25:$L25)-$X25)) -> 0 | Z25: =IF(SUM($K25:$L25)=SUM($X25:$Y25),"OK","검토") -> OK | AC25: =IF($W25<>"도비",IF($U25="국도비","직접입력",SUM($N25:$O25)),) -> 0 | AD25: =IF($W25="도비",SUM(N25:O25),IF($U25="국도비","직접입력",SUM(N25:O25)-AC25)) -> 0 | AE25: =IF(SUM(N25:O25)=SUM(AC25:AD25),"OK","검토") -> OK | AG25: =IF(AI25="","",IF(W25="도비","세입없음",CONCATENATE(AI25,"-",COUNTIF($AI$7:AI25,AI25)))) | AI25: {=IF(C25="","",INDEX(구분표!$I$2:$I$311, MATCH(1,(구분표!$E$2:$E$311='2추일입'!B25)*(구분표!$F$2:$F$311='2추일입'!C25)*(구분표!$G$2:$G$311='2추일입'!A25),0)))} | AM25: =IF(AG25="",0,SUMIFS('2추일출'!$Z$6:$Z$59,'2추일출'!$AI$6:$AI$59,'2추일입'!$AG25)) -> 0 | AN25: =IF(AG25="","",COUNTIFS('2추일출'!$AI$6:$AI$59,'2추일입'!AG25)) | AO25: =IF(X25=AM25,"OK","@@") -> OK | AQ25: =IF(AG25="",0,SUMIFS('2추일출'!$AE$6:$AE$59,'2추일출'!$AI$6:$AI$59,'2추일입'!$AG25)) -> 0 | AR25: =IF(AG25="","",COUNTIFS('2추일출'!$AI$6:$AI$59,AG25)) | AS25: =IF(AC25=AQ25,"OK","@@") -> OK
J26: =IF(D26="","",H26-I26) | M26: =H26+K26+L26 -> 0 | P26: =H26+N26+O26 -> 0 | Q26: =IF(AND((M26=0),(P26>0)),"O",IF(AND((K26<0),(M26-P26<0)),"O","X")) -> X | X26: =IF($W26<>"도비",IF($U26="국도비","직접입력",SUM($K26:$L26)),) -> 0 | Y26: =IF($W26="도비",SUM($K26:$L26),IF($U26="국도비","직접입력",SUM($K26:$L26)-$X26)) -> 0 | Z26: =IF(SUM($K26:$L26)=SUM($X26:$Y26),"OK","검토") -> OK | AC26: =IF($W26<>"도비",IF($U26="국도비","직접입력",SUM($N26:$O26)),) -> 0 | AD26: =IF($W26="도비",SUM(N26:O26),IF($U26="국도비","직접입력",SUM(N26:O26)-AC26)) -> 0 | AE26: =IF(SUM(N26:O26)=SUM(AC26:AD26),"OK","검토") -> OK | AG26: =IF(AI26="","",IF(W26="도비","세입없음",CONCATENATE(AI26,"-",COUNTIF($AI$7:AI26,AI26)))) | AI26: {=IF(C26="","",INDEX(구분표!$I$2:$I$311, MATCH(1,(구분표!$E$2:$E$311='2추일입'!B26)*(구분표!$F$2:$F$311='2추일입'!C26)*(구분표!$G$2:$G$311='2추일입'!A26),0)))} | AM26: =IF(AG26="",0,SUMIFS('2추일출'!$Z$6:$Z$59,'2추일출'!$AI$6:$AI$59,'2추일입'!$AG26)) -> 0 | AN26: =IF(AG26="","",COUNTIFS('2추일출'!$AI$6:$AI$59,'2추일입'!AG26)) | AO26: =IF(X26=AM26,"OK","@@") -> OK | AQ26: =IF(AG26="",0,SUMIFS('2추일출'!$AE$6:$AE$59,'2추일출'!$AI$6:$AI$59,'2추일입'!$AG26)) -> 0 | AR26: =IF(AG26="","",COUNTIFS('2추일출'!$AI$6:$AI$59,AG26)) | AS26: =IF(AC26=AQ26,"OK","@@") -> OK
J27: =IF(D27="","",H27-I27) | M27: =H27+K27+L27 -> 0 | P27: =H27+N27+O27 -> 0 | Q27: =IF(AND((M27=0),(P27>0)),"O",IF(AND((K27<0),(M27-P27<0)),"O","X")) -> X | X27: =IF($W27<>"도비",IF($U27="국도비","직접입력",SUM($K27:$L27)),) -> 0 | Y27: =IF($W27="도비",SUM($K27:$L27),IF($U27="국도비","직접입력",SUM($K27:$L27)-$X27)) -> 0 | Z27: =IF(SUM($K27:$L27)=SUM($X27:$Y27),"OK","검토") -> OK | AC27: =IF($W27<>"도비",IF($U27="국도비","직접입력",SUM($N27:$O27)),) -> 0 | AD27: =IF($W27="도비",SUM(N27:O27),IF($U27="국도비","직접입력",SUM(N27:O27)-AC27)) -> 0 | AE27: =IF(SUM(N27:O27)=SUM(AC27:AD27),"OK","검토") -> OK | AG27: =IF(AI27="","",IF(W27="도비","세입없음",CONCATENATE(AI27,"-",COUNTIF($AI$7:AI27,AI27)))) | AI27: {=IF(C27="","",INDEX(구분표!$I$2:$I$311, MATCH(1,(구분표!$E$2:$E$311='2추일입'!B27)*(구분표!$F$2:$F$311='2추일입'!C27)*(구분표!$G$2:$G$311='2추일입'!A27),0)))} | AM27: =IF(AG27="",0,SUMIFS('2추일출'!$Z$6:$Z$59,'2추일출'!$AI$6:$AI$59,'2추일입'!$AG27)) -> 0 | AN27: =IF(AG27="","",COUNTIFS('2추일출'!$AI$6:$AI$59,'2추일입'!AG27)) | AO27: =IF(X27=AM27,"OK","@@") -> OK | AQ27: =IF(AG27="",0,SUMIFS('2추일출'!$AE$6:$AE$59,'2추일출'!$AI$6:$AI$59,'2추일입'!$AG27)) -> 0 | AR27: =IF(AG27="","",COUNTIFS('2추일출'!$AI$6:$AI$59,AG27)) | AS27: =IF(AC27=AQ27,"OK","@@") -> OK
J28: =IF(D28="","",H28-I28) | M28: =H28+K28+L28 -> 0 | P28: =H28+N28+O28 -> 0 | Q28: =IF(AND((M28=0),(P28>0)),"O",IF(AND((K28<0),(M28-P28<0)),"O","X")) -> X | X28: =IF($W28<>"도비",IF($U28="국도비","직접입력",SUM($K28:$L28)),) -> 0 | Y28: =IF($W28="도비",SUM($K28:$L28),IF($U28="국도비","직접입력",SUM($K28:$L28)-$X28)) -> 0 | Z28: =IF(SUM($K28:$L28)=SUM($X28:$Y28),"OK","검토") -> OK | AC28: =IF($W28<>"도비",IF($U28="국도비","직접입력",SUM($N28:$O28)),) -> 0 | AD28: =IF($W28="도비",SUM(N28:O28),IF($U28="국도비","직접입력",SUM(N28:O28)-AC28)) -> 0 | AE28: =IF(SUM(N28:O28)=SUM(AC28:AD28),"OK","검토") -> OK | AG28: =IF(AI28="","",IF(W28="도비","세입없음",CONCATENATE(AI28,"-",COUNTIF($AI$7:AI28,AI28)))) | AI28: {=IF(C28="","",INDEX(구분표!$I$2:$I$311, MATCH(1,(구분표!$E$2:$E$311='2추일입'!B28)*(구분표!$F$2:$F$311='2추일입'!C28)*(구분표!$G$2:$G$311='2추일입'!A28),0)))} | AM28: =IF(AG28="",0,SUMIFS('2추일출'!$Z$6:$Z$59,'2추일출'!$AI$6:$AI$59,'2추일입'!$AG28)) -> 0 | AN28: =IF(AG28="","",COUNTIFS('2추일출'!$AI$6:$AI$59,'2추일입'!AG28)) | AO28: =IF(X28=AM28,"OK","@@") -> OK | AQ28: =IF(AG28="",0,SUMIFS('2추일출'!$AE$6:$AE$59,'2추일출'!$AI$6:$AI$59,'2추일입'!$AG28)) -> 0 | AR28: =IF(AG28="","",COUNTIFS('2추일출'!$AI$6:$AI$59,AG28)) | AS28: =IF(AC28=AQ28,"OK","@@") -> OK
J29: =IF(D29="","",H29-I29) | M29: =H29+K29+L29 -> 0 | P29: =H29+N29+O29 -> 0 | Q29: =IF(AND((M29=0),(P29>0)),"O",IF(AND((K29<0),(M29-P29<0)),"O","X")) -> X | X29: =IF($W29<>"도비",IF($U29="국도비","직접입력",SUM($K29:$L29)),) -> 0 | Y29: =IF($W29="도비",SUM($K29:$L29),IF($U29="국도비","직접입력",SUM($K29:$L29)-$X29)) -> 0 | Z29: =IF(SUM($K29:$L29)=SUM($X29:$Y29),"OK","검토") -> OK | AC29: =IF($W29<>"도비",IF($U29="국도비","직접입력",SUM($N29:$O29)),) -> 0 | AD29: =IF($W29="도비",SUM(N29:O29),IF($U29="국도비","직접입력",SUM(N29:O29)-AC29)) -> 0 | AE29: =IF(SUM(N29:O29)=SUM(AC29:AD29),"OK","검토") -> OK | AG29: =IF(AI29="","",IF(W29="도비","세입없음",CONCATENATE(AI29,"-",COUNTIF($AI$7:AI29,AI29)))) | AI29: {=IF(C29="","",INDEX(구분표!$I$2:$I$311, MATCH(1,(구분표!$E$2:$E$311='2추일입'!B29)*(구분표!$F$2:$F$311='2추일입'!C29)*(구분표!$G$2:$G$311='2추일입'!A29),0)))} | AM29: =IF(AG29="",0,SUMIFS('2추일출'!$Z$6:$Z$59,'2추일출'!$AI$6:$AI$59,'2추일입'!$AG29)) -> 0 | AN29: =IF(AG29="","",COUNTIFS('2추일출'!$AI$6:$AI$59,'2추일입'!AG29)) | AO29: =IF(X29=AM29,"OK","@@") -> OK | AQ29: =IF(AG29="",0,SUMIFS('2추일출'!$AE$6:$AE$59,'2추일출'!$AI$6:$AI$59,'2추일입'!$AG29)) -> 0 | AR29: =IF(AG29="","",COUNTIFS('2추일출'!$AI$6:$AI$59,AG29)) | AS29: =IF(AC29=AQ29,"OK","@@") -> OK
J30: =IF(D30="","",H30-I30) | M30: =H30+K30+L30 -> 0 | P30: =H30+N30+O30 -> 0 | Q30: =IF(AND((M30=0),(P30>0)),"O",IF(AND((K30<0),(M30-P30<0)),"O","X")) -> X | X30: =IF($W30<>"도비",IF($U30="국도비","직접입력",SUM($K30:$L30)),) -> 0 | Y30: =IF($W30="도비",SUM($K30:$L30),IF($U30="국도비","직접입력",SUM($K30:$L30)-$X30)) -> 0 | Z30: =IF(SUM($K30:$L30)=SUM($X30:$Y30),"OK","검토") -> OK | AC30: =IF($W30<>"도비",IF($U30="국도비","직접입력",SUM($N30:$O30)),) -> 0 | AD30: =IF($W30="도비",SUM(N30:O30),IF($U30="국도비","직접입력",SUM(N30:O30)-AC30)) -> 0 | AE30: =IF(SUM(N30:O30)=SUM(AC30:AD30),"OK","검토") -> OK | AG30: =IF(AI30="","",IF(W30="도비","세입없음",CONCATENATE(AI30,"-",COUNTIF($AI$7:AI30,AI30)))) | AI30: {=IF(C30="","",INDEX(구분표!$I$2:$I$311, MATCH(1,(구분표!$E$2:$E$311='2추일입'!B30)*(구분표!$F$2:$F$311='2추일입'!C30)*(구분표!$G$2:$G$311='2추일입'!A30),0)))} | AM30: =IF(AG30="",0,SUMIFS('2추일출'!$Z$6:$Z$59,'2추일출'!$AI$6:$AI$59,'2추일입'!$AG30)) -> 0 | AN30: =IF(AG30="","",COUNTIFS('2추일출'!$AI$6:$AI$59,'2추일입'!AG30)) | AO30: =IF(X30=AM30,"OK","@@") -> OK | AQ30: =IF(AG30="",0,SUMIFS('2추일출'!$AE$6:$AE$59,'2추일출'!$AI$6:$AI$59,'2추일입'!$AG30)) -> 0 | AR30: =IF(AG30="","",COUNTIFS('2추일출'!$AI$6:$AI$59,AG30)) | AS30: =IF(AC30=AQ30,"OK","@@") -> OK
J31: =IF(D31="","",H31-I31) | M31: =H31+K31+L31 -> 0 | P31: =H31+N31+O31 -> 0 | Q31: =IF(AND((M31=0),(P31>0)),"O",IF(AND((K31<0),(M31-P31<0)),"O","X")) -> X | X31: =IF($W31<>"도비",IF($U31="국도비","직접입력",SUM($K31:$L31)),) -> 0 | Y31: =IF($W31="도비",SUM($K31:$L31),IF($U31="국도비","직접입력",SUM($K31:$L31)-$X31)) -> 0 | Z31: =IF(SUM($K31:$L31)=SUM($X31:$Y31),"OK","검토") -> OK | AC31: =IF($W31<>"도비",IF($U31="국도비","직접입력",SUM($N31:$O31)),) -> 0 | AD31: =IF($W31="도비",SUM(N31:O31),IF($U31="국도비","직접입력",SUM(N31:O31)-AC31)) -> 0 | AE31: =IF(SUM(N31:O31)=SUM(AC31:AD31),"OK","검토") -> OK | AG31: =IF(AI31="","",IF(W31="도비","세입없음",CONCATENATE(AI31,"-",COUNTIF($AI$7:AI31,AI31)))) | AI31: {=IF(C31="","",INDEX(구분표!$I$2:$I$311, MATCH(1,(구분표!$E$2:$E$311='2추일입'!B31)*(구분표!$F$2:$F$311='2추일입'!C31)*(구분표!$G$2:$G$311='2추일입'!A31),0)))} | AM31: =IF(AG31="",0,SUMIFS('2추일출'!$Z$6:$Z$59,'2추일출'!$AI$6:$AI$59,'2추일입'!$AG31)) -> 0 | AN31: =IF(AG31="","",COUNTIFS('2추일출'!$AI$6:$AI$59,'2추일입'!AG31)) | AO31: =IF(X31=AM31,"OK","@@") -> OK | AQ31: =IF(AG31="",0,SUMIFS('2추일출'!$AE$6:$AE$59,'2추일출'!$AI$6:$AI$59,'2추일입'!$AG31)) -> 0 | AR31: =IF(AG31="","",COUNTIFS('2추일출'!$AI$6:$AI$59,AG31)) | AS31: =IF(AC31=AQ31,"OK","@@") -> OK
... J72: =IF(D72="","",H72-I72) | M72: =H72+K72+L72 -> 0 | P72: =H72+N72+O72 -> 0 | Q72: =IF(AND((M72=0),(P72>0)),"O",IF(AND((K72<0),(M72-P72<0)),"O","X")) -> X | X72: =IF($W72<>"도비",IF($U72="국도비","직접입력",SUM($K72:$L72)),) -> 0 | Y72: =IF($W72="도비",SUM($K72:$L72),IF($U72="국도비","직접입력",SUM($K72:$L72)-$X72)) -> 0 | Z72: =IF(SUM($K72:$L72)=SUM($X72:$Y72),"OK","검토") -> OK | AC72: =IF($W72<>"도비",IF($U72="국도비","직접입력",SUM($N72:$O72)),) -> 0 | AD72: =IF($W72="도비",SUM(N72:O72),IF($U72="국도비","직접입력",SUM(N72:O72)-AC72)) -> 0 | AE72: =IF(SUM(N72:O72)=SUM(AC72:AD72),"OK","검토") -> OK | AG72: =IF(AI72="","",IF(W72="도비","세입없음",CONCATENATE(AI72,"-",COUNTIF($AI$7:AI72,AI72)))) | AI72: {=IF(C72="","",INDEX(구분표!$I$2:$I$311, MATCH(1,(구분표!$E$2:$E$311='2추일입'!B72)*(구분표!$F$2:$F$311='2추일입'!C72)*(구분표!$G$2:$G$311='2추일입'!A72),0)))} | AM72: =IF(AG72="",0,SUMIFS('2추일출'!$Z$6:$Z$59,'2추일출'!$AI$6:$AI$59,'2추일입'!$AG72)) -> 0 | AN72: =IF(AG72="","",COUNTIFS('2추일출'!$AI$6:$AI$59,'2추일입'!AG72)) | AO72: =IF(X72=AM72,"OK","@@") -> OK | AQ72: =IF(AG72="",0,SUMIFS('2추일출'!$AE$6:$AE$59,'2추일출'!$AI$6:$AI$59,'2추일입'!$AG72)) -> 0 | AR72: =IF(AG72="","",COUNTIFS('2추일출'!$AI$6:$AI$59,AG72)) | AS72: =IF(AC72=AQ72,"OK","@@") -> OK

Sheet 2추일출
B1: 2017년도 제2회 추가경정 경기도 일반회계 세출 예산 조정(안)
B2: □ 세출예산 | Q2: =R2-'2추일입'!P2 -> 60000 | R2: =R6-L6 -> 60000 | Z2: 세입=세출 | AE2: 세입=세출
L3: =SUM(L7:L191)/2 -> -10000 | M3: =SUM(M7:M191)/2 -> 0 | N3: =SUM(N7:N191)/2 -> 11510000 | O3: =SUM(O7:O191)/2 -> 11560000 | P3: =SUM(P7:P191)/2 -> 0 | Q3: =SUM(Q7:Q191)/2 -> 0 | R3: =SUM(R7:R191)/2 -> 50000 | V3: (단위 : 천원) | Z3: =IF(Z6='2추일입'!X6,"OK","@@") -> OK | AA3: =M6+N6-Z6-AA6 -> 0 | AB3: =IF(COUNTIF(AB6:AB59,"검토")>0,"@@","OK") -> OK | AE3: =IF(AE6='2추일입'!AC6,"OK","@@") -> OK | AF3: =P6+Q6-AE6-AF6 -> 0 | AG3: =IF(COUNTIF(AG6:AG59,"검토")>0,"@@","OK") -> OK
A4: 번호 | B4: 위원회명 | C4: 실국명 | D4: 부서명 | E4: 편성 구분 | F4: 연정 구분 | G4: 예산안 페이지 | H4: 사업설명서페이지 | I4: 세부사업명 및 부기명 | J4: 제2회 추경 예산안 (가) | K4: 기정액 (나) | L4: 제2회 추경 증감액 (다=가-나) | M4: 상임위 예산안 조정액(라) | O4: 상임위 조정 예산안 (마=가+라) | P4: 예결위 예산안 조정액(사) | R4: 예결위 조정 예산안 (아=가+사) | S4: 동의 대상 | T4: 상임위 변경사유 (심의 참고자료) | U4: 비고 (상임위 부대의견) | V4: 비고 (예결위 부대의견) | W4: 국도비 등 여부 | Y4: 재원 | Z4: 상임위 재원별 증감액 | AD4: 재원 | AE4: 예결위 재원별 증감액 | AI4: 세입번호 | AK4: 동일 세입 건수 | AL4: 세출 번호 검증 | AN4: 실국부서 코드 | AP4: 추가 내시 등
M5: 감액 | N5: 증액 | P5: 감액 | Q5: 증액 | Z5: 국비 등 | AA5: 도비 | AB5: 검증 | AE5: 국비 등 | AF5: 도비 | AG5: 검증
B6: 합 계 | J6: =SUBTOTAL(9,J7:J59) -> 50000 | K6: =SUBTOTAL(9,K7:K59) -> 60000 | L6: =SUBTOTAL(9,L7:L59) -> -10000 | M6: =SUBTOTAL(9,M7:M59) -> 0 | N6: =SUBTOTAL(9,N7:N59) -> 11510000 | O6: =SUBTOTAL(9,O7:O59) -> 11560000 | P6: =SUBTOTAL(9,P7:P59) -> 0 | Q6: =SUBTOTAL(9,Q7:Q59) -> 0 | R6: =SUBTOTAL(9,R7:R59) -> 50000 | Z6: =SUBTOTAL(9,Z7:Z59) -> 0 | AA6: =SUBTOTAL(9,AA7:AA59) -> 11510000 | AB6: =IF(SUM($M6:$N6)=SUM($Z6:$AA6),"OK","검토") -> OK | AE6: =SUBTOTAL(9,AE7:AE59) -> 0 | AF6: =SUBTOTAL(9,AF7:AF59) -> 0 | AG6: =IF(SUM(P6:Q6)=SUM(AE6:AF6),"OK","검토") -> OK
B7: (도시환경위원회) | J7: =SUBTOTAL(9,J8:J29) -> 50000 | K7: =SUBTOTAL(9,K8:K29) -> 60000 | L7: =SUBTOTAL(9,L8:L29) -> -10000 | M7: =SUBTOTAL(9,M8:M29) -> 0 | N7: =SUBTOTAL(9,N8:N29) -> 11510000 | O7: =SUBTOTAL(9,O8:O29) -> 11560000 | P7: =SUBTOTAL(9,P8:P29) -> 0 | Q7: =SUBTOTAL(9,Q8:Q29) -> 0 | R7: =SUBTOTAL(9,R8:R29) -> 50000
A8: =COUNTA($C$7:C8)-COUNTBLANK($C$7:C8)+8 -> 8 | B8: 도시환경위원회 | C8: 도시주택실 | D8: 도시재생과 | E8: 신규 | F8: 연정 | I8: 도시재생특별회계 전출금 - 도시재생특별회계 전출금 | L8: =J8-K8 -> 0 | N8: 10000000 | O8: =J8+M8+N8 -> 10000000 | R8: =J8+P8+Q8 -> 0 | S8: =IF(AND((O8=0),(R8>0)),"O",IF(AND((M8<0),(O8-R8<0)),"O","X")) -> X | U8: 구도심 낙후지역 도시재생사업 지원 | Z8: 0 | AA8: =IF($Y8="도비",SUM($M8:$N8),IF($W8="국도비","직접입력",SUM($M8:$N8)-$Z8)) -> 10000000 | AB8: =IF(SUM($M8:$N8)=SUM($Z8:$AA8),"OK","검토") -> OK | AE8: =IF($Y8<>"도비",IF($W8="국도비","직접입력",SUM($P8:$Q8)),) -> 0 | AF8: =IF($Y8="도비",SUM(P8:Q8),IF($W8="국도비","직접입력",SUM(P8:Q8)-AE8)) -> 0 | AG8: =IF(SUM(P8:Q8)=SUM(AE8:AF8),"OK","검토") -> OK | AK8: =IF(AI8="","",COUNTIF($AI$7:$AI$59,AI8)) | AL8: =IF(Y8="","",IF(AND(Y8="도비",AI8="세입없음"),"OK",IF(AND(Y8<>"도비",AI8<>""),"OK","@@"))) | AN8: {=IF(D8="","",INDEX(구분표!$I$2:$I$311, MATCH(1,(구분표!$E$2:$E$311='2추일출'!C8)*(구분표!$F$2:$F$311='2추일출'!D8)*(구분표!$G$2:$G$311='2추일출'!B8),0)))} -> 10510
A9: =COUNTA($C$7:C9)-COUNTBLANK($C$7:C9)+8 -> 9 | B9: 도시환경위원회 | C9: 축산산림국 | D9: 공원녹지과 | E9: 신규 | F9: 연정 | I9: 경기아이누리놀이터 조성(자체/지원) - 경기아이누리놀이터 조성 | L9: =J9-K9 -> 0 | N9: 1500000 | O9: =J9+M9+N9 -> 1500000 | R9: =J9+P9+Q9 -> 0 | S9: =IF(AND((O9=0),(R9>0)),"O",IF(AND((M9<0),(O9-R9<0)),"O","X")) -> X | U9: 연정과제인 도시공원 등 생태숲 조성 | Z9: 0 | AA9: 1500000 | AB9: =IF(SUM($M9:$N9)=SUM($Z9:$AA9),"OK","검토") -> OK | AE9: =IF($Y9<>"도비",IF($W9="국도비","직접입력",SUM($P9:$Q9)),) -> 0 | AF9: =IF($Y9="도비",SUM(P9:Q9),IF($W9="국도비","직접입력",SUM(P9:Q9)-AE9)) -> 0 | AG9: =IF(SUM(P9:Q9)=SUM(AE9:AF9),"OK","검토") -> OK | AK9: =IF(AI9="","",COUNTIF($AI$7:$AI$59,AI9)) | AL9: =IF(Y9="","",IF(AND(Y9="도비",AI9="세입없음"),"OK",IF(AND(Y9<>"도비",AI9<>""),"OK","@@"))) | AN9: {=IF(D9="","",INDEX(구분표!$I$2:$I$311, MATCH(1,(구분표!$E$2:$E$311='2추일출'!C9)*(구분표!$F$2:$F$311='2추일출'!D9)*(구분표!$G$2:$G$311='2추일출'!B9),0)))} -> 20404
A10: =COUNTA($C$7:C10)-COUNTBLANK($C$7:C10)+8 -> 10 | B10: 도시환경위원회 | C10: 수자원본부 | D10: 수질정책과 | E10: 2회추경 | F10: 일반 | G10: 670 | H10: 30 | I10: 팔당지역관리(자체/직접) - 미래세대를 위한 물환경교육실시 | J10: 50000 | K10: 60000 | L10: =J10-K10 -> -10000 | N10: 10000 | O10: =J10+M10+N10 -> 60000 | R10: =J10+P10+Q10 -> 50000 | S10: =IF(AND((O10=0),(R10>0)),"O",IF(AND((M10<0),(O10-R10<0)),"O","X")) -> X | U10: 체계적이고 원활한 물환경교육을 위하여 반영 | Z10: 0 | AA10: 10000 | AB10: =IF(SUM($M10:$N10)=SUM($Z10:$AA10),"OK","검토") -> OK | AE10: =IF($Y10<>"도비",IF($W10="국도비","직접입력",SUM($P10:$Q10)),) -> 0 | AF10: =IF($Y10="도비",SUM(P10:Q10),IF($W10="국도비","직접입력",SUM(P10:Q10)-AE10)) -> 0 | AG10: =IF(SUM(P10:Q10)=SUM(AE10:AF10),"OK","검토") -> OK | AK10: =IF(AI10="","",COUNTIF($AI$7:$AI$59,AI10)) | AL10: =IF(Y10="","",IF(AND(Y10="도비",AI10="세입없음"),"OK",IF(AND(Y10<>"도비",AI10<>""),"OK","@@"))) | AN10: {=IF(D10="","",INDEX(구분표!$I$2:$I$311, MATCH(1,(구분표!$E$2:$E$311='2추일출'!C10)*(구분표!$F$2:$F$311='2추일출'!D10)*(구분표!$G$2:$G$311='2추일출'!B10),0)))} -> 50601
A11: =COUNTA($C$7:C11)-COUNTBLANK($C$7:C11)+8 -> 10 | B11: =IF(C11="","",MID($B$7,2,7)) | C11: =IF(D11="","",VLOOKUP(D11,구분표!$A$3:$C$215,3,)) | L11: =J11-K11 -> 0 | O11: =J11+M11+N11 -> 0 | R11: =J11+P11+Q11 -> 0 | S11: =IF(AND((O11=0),(R11>0)),"O",IF(AND((M11<0),(O11-R11<0)),"O","X")) -> X | Z11: =IF($Y11<>"도비",IF($W11="국도비","직접입력",SUM($M11:$N11)),) -> 0 | AA11: =IF($Y11="도비",SUM($M11:$N11),IF($W11="국도비","직접입력",SUM($M11:$N11)-$Z11)) -> 0 | AB11: =IF(SUM($M11:$N11)=SUM($Z11:$AA11),"OK","검토") -> OK | AE11: =IF($Y11<>"도비",IF($W11="국도비","직접입력",SUM($P11:$Q11)),) -> 0 | AF11: =IF($Y11="도비",SUM(P11:Q11),IF($W11="국도비","직접입력",SUM(P11:Q11)-AE11)) -> 0 | AG11: =IF(SUM(P11:Q11)=SUM(AE11:AF11),"OK","검토") -> OK | AK11: =IF(AI11="","",COUNTIF($AI$7:$AI$59,AI11)) | AL11: =IF(Y11="","",IF(AND(Y11="도비",AI11="세입없음"),"OK",IF(AND(Y11<>"도비",AI11<>""),"OK","@@"))) | AN11: {=IF(D11="","",INDEX(구분표!$I$2:$I$311, MATCH(1,(구분표!$E$2:$E$311='2추일출'!C11)*(구분표!$F$2:$F$311='2추일출'!D11)*(구분표!$G$2:$G$311='2추일출'!B11),0)))}
A12: =COUNTA($C$7:C12)-COUNTBLANK($C$7:C12)+8 -> 10 | B12: =IF(C12="","",MID($B$7,2,7)) | C12: =IF(D12="","",VLOOKUP(D12,구분표!$A$3:$C$215,3,)) | L12: =J12-K12 -> 0 | O12: =J12+M12+N12 -> 0 | R12: =J12+P12+Q12 -> 0 | S12: =IF(AND((O12=0),(R12>0)),"O",IF(AND((M12<0),(O12-R12<0)),"O","X")) -> X | Z12: =IF($Y12<>"도비",IF($W12="국도비","직접입력",SUM($M12:$N12)),) -> 0 | AA12: =IF($Y12="도비",SUM($M12:$N12),IF($W12="국도비","직접입력",SUM($M12:$N12)-$Z12)) -> 0 | AB12: =IF(SUM($M12:$N12)=SUM($Z12:$AA12),"OK","검토") -> OK | AE12: =IF($Y12<>"도비",IF($W12="국도비","직접입력",SUM($P12:$Q12)),) -> 0 | AF12: =IF($Y12="도비",SUM(P12:Q12),IF($W12="국도비","직접입력",SUM(P12:Q12)-AE12)) -> 0 | AG12: =IF(SUM(P12:Q12)=SUM(AE12:AF12),"OK","검토") -> OK | AK12: =IF(AI12="","",COUNTIF($AI$7:$AI$59,AI12)) | AL12: =IF(Y12="","",IF(AND(Y12="도비",AI12="세입없음"),"OK",IF(AND(Y12<>"도비",AI12<>""),"OK","@@"))) | AN12: {=IF(D12="","",INDEX(구분표!$I$2:$I$311, MATCH(1,(구분표!$E$2:$E$311='2추일출'!C12)*(구분표!$F$2:$F$311='2추일출'!D12)*(구분표!$G$2:$G$311='2추일출'!B12),0)))}
A13: =COUNTA($C$7:C13)-COUNTBLANK($C$7:C13)+8 -> 10 | B13: =IF(C13="","",MID($B$7,2,7)) | C13: =IF(D13="","",VLOOKUP(D13,구분표!$A$3:$C$215,3,)) | L13: =J13-K13 -> 0 | O13: =J13+M13+N13 -> 0 | R13: =J13+P13+Q13 -> 0 | S13: =IF(AND((O13=0),(R13>0)),"O",IF(AND((M13<0),(O13-R13<0)),"O","X")) -> X | Z13: =IF($Y13<>"도비",IF($W13="국도비","직접입력",SUM($M13:$N13)),) -> 0 | AA13: =IF($Y13="도비",SUM($M13:$N13),IF($W13="국도비","직접입력",SUM($M13:$N13)-$Z13)) -> 0 | AB13: =IF(SUM($M13:$N13)=SUM($Z13:$AA13),"OK","검토") -> OK | AE13: =IF($Y13<>"도비",IF($W13="국도비","직접입력",SUM($P13:$Q13)),) -> 0 | AF13: =IF($Y13="도비",SUM(P13:Q13),IF($W13="국도비","직접입력",SUM(P13:Q13)-AE13)) -> 0 | AG13: =IF(SUM(P13:Q13)=SUM(AE13:AF13),"OK","검토") -> OK | AK13: =IF(AI13="","",COUNTIF($AI$7:$AI$59,AI13)) | AL13: =IF(Y13="","",IF(AND(Y13="도비",AI13="세입없음"),"OK",IF(AND(Y13<>"도비",AI13<>""),"OK","@@"))) | AN13: {=IF(D13="","",INDEX(구분표!$I$2:$I$311, MATCH(1,(구분표!$E$2:$E$311='2추일출'!C13)*(구분표!$F$2:$F$311='2추일출'!D13)*(구분표!$G$2:$G$311='2추일출'!B13),0)))}
A14: =COUNTA($C$7:C14)-COUNTBLANK($C$7:C14)+8 -> 10 | B14: =IF(C14="","",MID($B$7,2,7)) | C14: =IF(D14="","",VLOOKUP(D14,구분표!$A$3:$C$215,3,)) | L14: =J14-K14 -> 0 | O14: =J14+M14+N14 -> 0 | R14: =J14+P14+Q14 -> 0 | S14: =IF(AND((O14=0),(R14>0)),"O",IF(AND((M14<0),(O14-R14<0)),"O","X")) -> X | Z14: =IF($Y14<>"도비",IF($W14="국도비","직접입력",SUM($M14:$N14)),) -> 0 | AA14: =IF($Y14="도비",SUM($M14:$N14),IF($W14="국도비","직접입력",SUM($M14:$N14)-$Z14)) -> 0 | AB14: =IF(SUM($M14:$N14)=SUM($Z14:$AA14),"OK","검토") -> OK | AE14: =IF($Y14<>"도비",IF($W14="국도비","직접입력",SUM($P14:$Q14)),) -> 0 | AF14: =IF($Y14="도비",SUM(P14:Q14),IF($W14="국도비","직접입력",SUM(P14:Q14)-AE14)) -> 0 | AG14: =IF(SUM(P14:Q14)=SUM(AE14:AF14),"OK","검토") -> OK | AK14: =IF(AI14="","",COUNTIF($AI$7:$AI$59,AI14)) | AL14: =IF(Y14="","",IF(AND(Y14="도비",AI14="세입없음"),"OK",IF(AND(Y14<>"도비",AI14<>""),"OK","@@"))) | AN14: {=IF(D14="","",INDEX(구분표!$I$2:$I$311, MATCH(1,(구분표!$E$2:$E$311='2추일출'!C14)*(구분표!$F$2:$F$311='2추일출'!D14)*(구분표!$G$2:$G$311='2추일출'!B14),0)))}
A15: =COUNTA($C$7:C15)-COUNTBLANK($C$7:C15)+8 -> 10 | B15: =IF(C15="","",MID($B$7,2,7)) | C15: =IF(D15="","",VLOOKUP(D15,구분표!$A$3:$C$215,3,)) | L15: =J15-K15 -> 0 | O15: =J15+M15+N15 -> 0 | R15: =J15+P15+Q15 -> 0 | S15: =IF(AND((O15=0),(R15>0)),"O",IF(AND((M15<0),(O15-R15<0)),"O","X")) -> X | Z15: =IF($Y15<>"도비",IF($W15="국도비","직접입력",SUM($M15:$N15)),) -> 0 | AA15: =IF($Y15="도비",SUM($M15:$N15),IF($W15="국도비","직접입력",SUM($M15:$N15)-$Z15)) -> 0 | AB15: =IF(SUM($M15:$N15)=SUM($Z15:$AA15),"OK","검토") -> OK | AE15: =IF($Y15<>"도비",IF($W15="국도비","직접입력",SUM($P15:$Q15)),) -> 0 | AF15: =IF($Y15="도비",SUM(P15:Q15),IF($W15="국도비","직접입력",SUM(P15:Q15)-AE15)) -> 0 | AG15: =IF(SUM(P15:Q15)=SUM(AE15:AF15),"OK","검토") -> OK | AK15: =IF(AI15="","",COUNTIF($AI$7:$AI$59,AI15)) | AL15: =IF(Y15="","",IF(AND(Y15="도비",AI15="세입없음"),"OK",IF(AND(Y15<>"도비",AI15<>""),"OK","@@"))) | AN15: {=IF(D15="","",INDEX(구분표!$I$2:$I$311, MATCH(1,(구분표!$E$2:$E$311='2추일출'!C15)*(구분표!$F$2:$F$311='2추일출'!D15)*(구분표!$G$2:$G$311='2추일출'!B15),0)))}
A16: =COUNTA($C$7:C16)-COUNTBLANK($C$7:C16)+8 -> 10 | B16: =IF(C16="","",MID($B$7,2,7)) | C16: =IF(D16="","",VLOOKUP(D16,구분표!$A$3:$C$215,3,)) | L16: =J16-K16 -> 0 | O16: =J16+M16+N16 -> 0 | R16: =J16+P16+Q16 -> 0 | S16: =IF(AND((O16=0),(R16>0)),"O",IF(AND((M16<0),(O16-R16<0)),"O","X")) -> X | Z16: =IF($Y16<>"도비",IF($W16="국도비","직접입력",SUM($M16:$N16)),) -> 0 | AA16: =IF($Y16="도비",SUM($M16:$N16),IF($W16="국도비","직접입력",SUM($M16:$N16)-$Z16)) -> 0 | AB16: =IF(SUM($M16:$N16)=SUM($Z16:$AA16),"OK","검토") -> OK | AE16: =IF($Y16<>"도비",IF($W16="국도비","직접입력",SUM($P16:$Q16)),) -> 0 | AF16: =IF($Y16="도비",SUM(P16:Q16),IF($W16="국도비","직접입력",SUM(P16:Q16)-AE16)) -> 0 | AG16: =IF(SUM(P16:Q16)=SUM(AE16:AF16),"OK","검토") -> OK | AK16: =IF(AI16="","",COUNTIF($AI$7:$AI$59,AI16)) | AL16: =IF(Y16="","",IF(AND(Y16="도비",AI16="세입없음"),"OK",IF(AND(Y16<>"도비",AI16<>""),"OK","@@"))) | AN16: {=IF(D16="","",INDEX(구분표!$I$2:$I$311, MATCH(1,(구분표!$E$2:$E$311='2추일출'!C16)*(구분표!$F$2:$F$311='2추일출'!D16)*(구분표!$G$2:$G$311='2추일출'!B16),0)))}
A17: =COUNTA($C$7:C17)-COUNTBLANK($C$7:C17)+8 -> 10 | B17: =IF(C17="","",MID($B$7,2,7)) | C17: =IF(D17="","",VLOOKUP(D17,구분표!$A$3:$C$215,3,)) | L17: =J17-K17 -> 0 | O17: =J17+M17+N17 -> 0 | R17: =J17+P17+Q17 -> 0 | S17: =IF(AND((O17=0),(R17>0)),"O",IF(AND((M17<0),(O17-R17<0)),"O","X")) -> X | Z17: =IF($Y17<>"도비",IF($W17="국도비","직접입력",SUM($M17:$N17)),) -> 0 | AA17: =IF($Y17="도비",SUM($M17:$N17),IF($W17="국도비","직접입력",SUM($M17:$N17)-$Z17)) -> 0 | AB17: =IF(SUM($M17:$N17)=SUM($Z17:$AA17),"OK","검토") -> OK | AE17: =IF($Y17<>"도비",IF($W17="국도비","직접입력",SUM($P17:$Q17)),) -> 0 | AF17: =IF($Y17="도비",SUM(P17:Q17),IF($W17="국도비","직접입력",SUM(P17:Q17)-AE17)) -> 0 | AG17: =IF(SUM(P17:Q17)=SUM(AE17:AF17),"OK","검토") -> OK | AK17: =IF(AI17="","",COUNTIF($AI$7:$AI$59,AI17)) | AL17: =IF(Y17="","",IF(AND(Y17="도비",AI17="세입없음"),"OK",IF(AND(Y17<>"도비",AI17<>""),"OK","@@"))) | AN17: {=IF(D17="","",INDEX(구분표!$I$2:$I$311, MATCH(1,(구분표!$E$2:$E$311='2추일출'!C17)*(구분표!$F$2:$F$311='2추일출'!D17)*(구분표!$G$2:$G$311='2추일출'!B17),0)))}
A18: =COUNTA($C$7:C18)-COUNTBLANK($C$7:C18)+8 -> 10 | B18: =IF(C18="","",MID($B$7,2,7)) | C18: =IF(D18="","",VLOOKUP(D18,구분표!$A$3:$C$215,3,)) | L18: =J18-K18 -> 0 | O18: =J18+M18+N18 -> 0 | R18: =J18+P18+Q18 -> 0 | S18: =IF(AND((O18=0),(R18>0)),"O",IF(AND((M18<0),(O18-R18<0)),"O","X")) -> X | Z18: =IF($Y18<>"도비",IF($W18="국도비","직접입력",SUM($M18:$N18)),) -> 0 | AA18: =IF($Y18="도비",SUM($M18:$N18),IF($W18="국도비","직접입력",SUM($M18:$N18)-$Z18)) -> 0 | AB18: =IF(SUM($M18:$N18)=SUM($Z18:$AA18),"OK","검토") -> OK | AE18: =IF($Y18<>"도비",IF($W18="국도비","직접입력",SUM($P18:$Q18)),) -> 0 | AF18: =IF($Y18="도비",SUM(P18:Q18),IF($W18="국도비","직접입력",SUM(P18:Q18)-AE18)) -> 0 | AG18: =IF(SUM(P18:Q18)=SUM(AE18:AF18),"OK","검토") -> OK | AK18: =IF(AI18="","",COUNTIF($AI$7:$AI$59,AI18)) | AL18: =IF(Y18="","",IF(AND(Y18="도비",AI18="세입없음"),"OK",IF(AND(Y18<>"도비",AI18<>""),"OK","@@"))) | AN18: {=IF(D18="","",INDEX(구분표!$I$2:$I$311, MATCH(1,(구분표!$E$2:$E$311='2추일출'!C18)*(구분표!$F$2:$F$311='2추일출'!D18)*(구분표!$G$2:$G$311='2추일출'!B18),0)))}
