Workbook

Sheet 구분표
A2: 실과명 | B2: 위원회명 | C2: 실국명 | E2: 실국명 | F2: 실과명 | G2: 위원회명 | H2: 정렬순서 | I2: 정렬코드
A3: 총무담당관 | B3: 의회운영위원회 | C3: 의회사무처 | E3: 의회사무처 | F3: 총무담당관 | G3: 의회운영위원회 | H3: 1 | I3: 50101
A4: 공보담당관 | B4: 의회운영위원회 | C4: 의회사무처 | E4: 의회사무처 | F4: 공보담당관 | G4: 의회운영위원회 | H4: 2 | I4: 50102
A5: 의사담당관 | B5: 의회운영위원회 | C5: 의회사무처 | E5: 의회사무처 | F5: 의사담당관 | G5: 의회운영위원회 | H5: 3 | I5: 50103
A6: 입법정책담당관 | B6: 의회운영위원회 | C6: 의회사무처 | E6: 의회사무처 | F6: 입법정책담당관 | G6: 의회운영위원회 | H6: 4 | I6: 50104
A7: 예산정책담당관 | B7: 의회운영위원회 | C7: 의회사무처 | E7: 의회사무처 | F7: 예산정책담당관 | G7: 의회운영위원회 | H7: 5 | I7: 50105
A8: 언론협력담당관 | B8: 의회운영위원회 | C8: 대변인 | E8: 대변인 | F8: 언론협력담당관 | G8: 의회운영위원회 | H8: 6 | I8: 10101
A9: 보도기획담당관 | B9: 의회운영위원회 | C9: 대변인 | E9: 대변인 | F9: 보도기획담당관 | G9: 의회운영위원회 | H9: 7 | I9: 10102
A10: 홍보미디어담당관 | B10: 의회운영위원회 | C10: 소통기획관 | E10: 소통기획관 | F10: 홍보미디어담당관 | G10: 의회운영위원회 | H10: 8 | I10: 10201
A11: 홍보콘텐츠담당관 | B11: 의회운영위원회 | C11: 소통기획관 | E11: 소통기획관 | F11: 홍보콘텐츠담당관 | G11: 의회운영위원회 | H11: 9 | I11: 10202
A12: 연정협력과 | B12: 의회운영위원회 | C12: 연정협력국 | E12: 연정협력국 | F12: 연정협력과 | G12: 의회운영위원회 | H12: 10 | I12: 30101
A13: 대외협력과 | B13: 의회운영위원회 | C13: 연정협력국 | E13: 연정협력국 | F13: 대외협력과 | G13: 의회운영위원회 | H13: 11 | I13: 30102
A14: 서울사무소 | B14: 의회운영위원회 | C14: 연정협력국 | E14: 연정협력국 | F14: 서울사무소 | G14: 의회운영위원회 | H14: 12 | I14: 30103
... A214: 보육청소년담당관 | B214: 여성가족교육협력위원회 | C214: 복지여성실 | E214: 복지여성실 | F214: 보육청소년담당관 | G214: 여성가족교육협력위원회 | H214: 212 | I214: 11201

Sheet 예결표지(세로)
A5: 2017년도 제1회 일반회계 및 특별회계 추가경정 세입·세출 예산안
A7: 예결위 계수조정 결과
A20: 예산결산특별위원회

Sheet 예결표지(가로)
A3: 2017년도 제1회 일반회계 및 특별회계 추가경정 세입·세출 예산안
A5: 예결위 계수조정 결과
A14: 예산결산특별위원회

Sheet 표지
A6: 예결위 계수조정 결과
A7: (2017. . 일 현재 최종)
C9: - 2017년도 제2회 경기도 추가경정 예산안
C10: - 2017년도 제2회 경기도 기금운용계획 변경안
A18: 예산결산특별위원회

Sheet 검증
A1: 제4회 추경 일반회계 검증 | H1: 4추 예비비 | J1: 조정액 | K1: =IFERROR(INDEX('2추일출'!AF6:AF59,MATCH("*예비비*",'2추일출'!I6:I59,0)),0) -> 0 | L1: 조정잔액 | M1: =I1+K1 -> 0
M2: (단위 : 천원)
A3: 구분 | B3: 상 임 위 | H3: 구분 | I3: 예 결 위
B4: 세입 | C4: 검증 | D4: 세출 | E4: 검증 | F4: 차액 | I4: 세입 | J4: 검증 | K4: 세출 | L4: 검증 | M4: 차액
A5: 전체 총계 | B5: =SUM(B6:B13)/2 -> 0 | C5: =IF(B5=SUM('2추일입'!K6:L6),"OK","@@") -> OK | D5: =SUM(D6:D13)/2 -> 0 | E5: =IF(D5=SUM('2추일출'!M6:N6),"OK","@@") -> @@ | H5: 전체 총계 | I5: =SUM(I6:I13)/2 -> 0 | J5: =IF(I5=SUM('2추일입'!N6:O6),"OK","@@") -> OK | K5: =SUM(K6:K13)/2 -> 0 | L5: =IF(K5=SUM('2추일출'!P6:Q6),"OK","@@") -> OK
A6: 자체 계 | B6: =SUM(B7:B8) -> 0 | C6: =IF(B6='2추일입'!Y6,"OK","@@") -> OK | D6: =SUM(D7:D8) -> 0 | E6: =IF(D6='2추일출'!AA6,"OK","@@") -> @@ | H6: 자체 계 | I6: =SUM(I7:I8) -> 0 | J6: =IF(I6='2추일입'!AD6,"OK","@@") -> OK | K6: =SUM(K7:K8) -> 0 | L6: =IF(K6='2추일출'!AF6,"OK","@@") -> OK
A7: 자체 도비 | B7: =SUMIFS('2추일입'!Y6:Y72,'2추일입'!W6:W72,"도비") -> 0 | D7: =SUMIFS('2추일출'!$AA$6:$AA$59,'2추일출'!$Y$6:$Y$59,"도비") -> 0 | H7: 자체 도비 | I7: =SUMIFS('2추일입'!AD6:AD72,'2추일입'!AB6:AB72,"국비") -> 0 | K7: =SUMIFS('2추일출'!$AF$6:$AF$59,'2추일출'!$AD$6:$AD$59,"도비") -> 0
A8: 의존 매칭 도비 | B8: =SUMIFS('2추일입'!Y6:Y72,'2추일입'!W6:W72,"국비")+SUMIFS('2추일입'!Y6:Y72,'2추일입'!W6:W72,"지특")+SUMIFS('2추일입'!Y6:Y72,'2추일입'!W6:W72,"기금")+SUMIFS('2추일입'!Y6:Y72,'2추일입'!W6:W72,"특교") -> 0 | D8: =SUMIFS('2추일출'!$AA$6:$AA$59,'2추일출'!$Y$6:$Y$59,"국비")+SUMIFS('2추일출'!$AA$6:$AA$59,'2추일출'!$Y$6:$Y$59,"지특")+SUMIFS('2추일출'!$AA$6:$AA$59,'2추일출'!$Y$6:$Y$59,"기금")+SUMIFS('2추일출'!$AA$6:$AA$59,'2추일출'!$Y$6:$Y$59,"특교") -> 0 | H8: 의존 매칭 도비 | I8: =SUMIFS('2추일입'!AD6:AD72,'2추일입'!AB6:AB72,"국비")+SUMIFS('2추일입'!AD6:AD72,'2추일입'!AB6:AB72,"지특")+SUMIFS('2추일입'!AD6:AD72,'2추일입'!AB6:AB72,"기금")+SUMIFS('2추일입'!AD6:AD72,'2추일입'!AB6:AB72,"특교") -> 0 | K8: =SUMIFS('2추일출'!$AF$6:$AF$59,'2추일출'!$AD$6:$AD$59,"국비")+SUMIFS('2추일출'!$AF$6:$AF$59,'2추일출'!$AD$6:$AD$59,"지특")+SUMIFS('2추일출'!$AF$6:$AF$59,'2추일출'!$AD$6:$AD$59,"기금")+SUMIFS('2추일출'!$AF$6:$AF$59,'2추일출'!$AD$6:$AD$59,"특교") -> 0
A9: 의존 계 | B9: =SUM(B10:B13) -> 0 | C9: =IF(B9='2추일입'!X6,"OK","@@") -> OK | D9: =SUM(D10:D13) -> 0 | E9: =IF(D9='2추일출'!Z6,"OK","@@") -> OK | F9: =SUM(F10:F13) -> 0 | H9: 의존 계 | I9: =SUM(I10:I13) -> 0 | J9: =IF(I9='2추일입'!X6,"OK","@@") -> OK | K9: =SUM(K10:K13) -> 0 | L9: =IF(K9='2추일출'!AE6,"OK","@@") -> OK | M9: =SUM(M10:M13) -> 0
A10: 국비 | B10: =SUMIFS('2추일입'!$Y$6:$Y$72,'2추일입'!$W$6:$W$72,검증!A10) -> 0 | D10: =SUMIFS('2추일출'!$AA$6:$AA$59,'2추일출'!$Y$6:$Y$59,검증!A10) -> 0 | F10: =D10-B10 -> 0 | H10: 국비 | I10: =SUMIFS('2추일입'!$AD$6:$AD$72,'2추일입'!$AB$6:$AB$72,검증!H10) -> 0 | K10: =SUMIFS('2추일출'!$AF$6:$AF$59,'2추일출'!$AD$6:$AD$59,검증!H10) -> 0 | M10: =K10-I10 -> 0
A11: 지특 | B11: =SUMIFS('2추일입'!$Y$6:$Y$72,'2추일입'!$W$6:$W$72,검증!A11) -> 0 | D11: =SUMIFS('2추일출'!$AA$6:$AA$59,'2추일출'!$Y$6:$Y$59,검증!A11) -> 0 | F11: =D11-B11 -> 0 | H11: 지특 | I11: =SUMIFS('2추일입'!$AD$6:$AD$72,'2추일입'!$AB$6:$AB$72,검증!H11) -> 0 | K11: =SUMIFS('2추일출'!$AF$6:$AF$59,'2추일출'!$AD$6:$AD$59,검증!H11) -> 0 | M11: =K11-I11 -> 0
A12: 기금 | B12: =SUMIFS('2추일입'!$Y$6:$Y$72,'2추일입'!$W$6:$W$72,검증!A12) -> 0 | D12: =SUMIFS('2추일출'!$AA$6:$AA$59,'2추일출'!$Y$6:$Y$59,검증!A12) -> 0 | F12: =D12-B12 -> 0 | H12: 기금 | I12: =SUMIFS('2추일입'!$AD$6:$AD$72,'2추일입'!$AB$6:$AB$72,검증!H12) -> 0 | K12: =SUMIFS('2추일출'!$AF$6:$AF$59,'2추일출'!$AD$6:$AD$59,검증!H12) -> 0 | M12: =K12-I12 -> 0
A13: 특교 | B13: =SUMIFS('2추일입'!$Y$6:$Y$72,'2추일입'!$W$6:$W$72,검증!A13) -> 0 | D13: =SUMIFS('2추일출'!$AA$6:$AA$59,'2추일출'!$Y$6:$Y$59,검증!A13) -> 0 | F13: =D13-B13 -> 0 | H13: 특교 | I13: =SUMIFS('2추일입'!$AD$6:$AD$72,'2추일입'!$AB$6:$AB$72,검증!H13) -> 0 | K13: =SUMIFS('2추일출'!$AF$6:$AF$59,'2추일출'!$AD$6:$AD$59,검증!H13) -> 0 | M13: =K13-I13 -> 0

Sheet 총괄표
A3: □ 총 괄 | C3: 세입예산 증감 | D3: =SUM(C7:D7) -> 0 | F3: 세출예산증감 | G3: =SUM(F7:G7) -> 0
F4: ※ 예비비 증감 | G4: =N7 -> 0 | I4: (단위 : 천원)
A5: 구 분 | B5: 집행부제출(안) | C5: 세입예산(안) | F5: 세출예산(안) | I5: 수정예산(안) | K5: ※ 예산안 증감현황
C6: 감 액 | D6: 증 액 | E6: 증감액 | F6: 감 액 | G6: 증 액 | H6: 증감액 | K6: 구 분 | L6: 세입 | M6: 세출 | N6: 예비비 | O6: 비고(???)
A7: 합 계 | B7: =SUM(B8:B17) -> 1157825092 | C7: =SUM(C8:C17) -> 0 | D7: =SUM(D8:D17) -> 0 | E7: =SUM(E8:E17) -> 0 | F7: =SUM(F8:F17) -> 0 | G7: =SUM(G8:G17) -> 0 | H7: =SUM(H8:H17) -> 0 | I7: =SUM(I8:I17) -> 1157825092 | K7: 합 계 | L7: =SUM(L8:L9) -> 0 | M7: =SUM(M8:M9) -> 0 | N7: =L7-M7 -> 0
A8: 의회운영위원회 | B8: =B31 -> 0 | C8: =SUMIFS('2추일입'!N$6:N$72,'2추일입'!$A$6:$A$72,총괄표!$A8)+SUMIFS('2추특입'!N$6:N$16,'2추특입'!$A$6:$A$16,총괄표!$A8) -> 0 | D8: =SUMIFS('2추일입'!O$6:O$72,'2추일입'!$A$6:$A$72,총괄표!$A8)+SUMIFS('2추특입'!O$6:O$16,'2추특입'!$A$6:$A$16,총괄표!$A8) -> 0 | E8: =D8+C8 -> 0 | F8: =SUMIFS('2추일출'!P$6:P$59,'2추일출'!$B$6:$B$59,총괄표!$A8)+SUMIFS('2추특출'!P$6:P$80,'2추특출'!$B$6:$B$80,총괄표!$A8) -> 0 | G8: =SUMIFS('2추일출'!Q$6:Q$59,'2추일출'!$B$6:$B$59,총괄표!$A8)+SUMIFS('2추특출'!Q$6:Q$80,'2추특출'!$B$6:$B$80,총괄표!$A8) -> 0 | H8: =G8+F8 -> 0 | I8: =B8+F8+G8 -> 0 | K8: 일반회계 | L8: =SUM(C24:D24) -> 0 | M8: =SUM(F24:G24) -> 0 | N8: =L8-M8 -> 0 | O8: 예비비 증감 - 감액, + 증액에 입력
A9: 기획재정위원회 | B9: =B32 -> 0 | C9: =SUMIFS('2추일입'!N$6:N$72,'2추일입'!$A$6:$A$72,총괄표!$A9)+SUMIFS('2추특입'!N$6:N$16,'2추특입'!$A$6:$A$16,총괄표!$A9) -> 0 | D9: =SUMIFS('2추일입'!O$6:O$72,'2추일입'!$A$6:$A$72,총괄표!$A9)+SUMIFS('2추특입'!O$6:O$16,'2추특입'!$A$6:$A$16,총괄표!$A9) -> 0 | E9: =D9+C9 -> 0 | F9: =SUMIFS('2추일출'!P$6:P$59,'2추일출'!$B$6:$B$59,총괄표!$A9)+SUMIFS('2추특출'!P$6:P$80,'2추특출'!$B$6:$B$80,총괄표!$A9) -> 0 | G9: =SUMIFS('2추일출'!Q$6:Q$59,'2추일출'!$B$6:$B$59,총괄표!$A9)+SUMIFS('2추특출'!Q$6:Q$80,'2추특출'!$B$6:$B$80,총괄표!$A9) -> 0 | H9: =G9+F9 -> 0 | I9: =B9+F9+G9 -> 0 | K9: 특별회계 | L9: =SUM(C25:D25) -> 0 | M9: =SUM(F25:G25) -> 0 | N9: =L9-M9 -> 0
A10: 경제과학기술위원회 | B10: =B33 -> 0 | C10: =SUMIFS('2추일입'!N$6:N$72,'2추일입'!$A$6:$A$72,총괄표!$A10)+SUMIFS('2추특입'!N$6:N$16,'2추특입'!$A$6:$A$16,총괄표!$A10) -> 0 | D10: =SUMIFS('2추일입'!O$6:O$72,'2추일입'!$A$6:$A$72,총괄표!$A10)+SUMIFS('2추특입'!O$6:O$16,'2추특입'!$A$6:$A$16,총괄표!$A10) -> 0 | E10: =D10+C10 -> 0 | F10: =SUMIFS('2추일출'!P$6:P$59,'2추일출'!$B$6:$B$59,총괄표!$A10)+SUMIFS('2추특출'!P$6:P$80,'2추특출'!$B$6:$B$80,총괄표!$A10) -> 0 | G10: =SUMIFS('2추일출'!Q$6:Q$59,'2추일출'!$B$6:$B$59,총괄표!$A10)+SUMIFS('2추특출'!Q$6:Q$80,'2추특출'!$B$6:$B$80,총괄표!$A10) -> 0 | H10: =G10+F10 -> 0 | I10: =B10+F10+G10 -> 0 | N10: -16031352 | O10: (예비비 계수 조종용)
A11: 안전행정위원회 | B11: =B34 -> 0 | C11: =SUMIFS('2추일입'!N$6:N$72,'2추일입'!$A$6:$A$72,총괄표!$A11)+SUMIFS('2추특입'!N$6:N$16,'2추특입'!$A$6:$A$16,총괄표!$A11) -> 0 | D11: =SUMIFS('2추일입'!O$6:O$72,'2추일입'!$A$6:$A$72,총괄표!$A11)+SUMIFS('2추특입'!O$6:O$16,'2추특입'!$A$6:$A$16,총괄표!$A11) -> 0 | E11: =D11+C11 -> 0 | F11: =SUMIFS('2추일출'!P$6:P$59,'2추일출'!$B$6:$B$59,총괄표!$A11)+SUMIFS('2추특출'!P$6:P$80,'2추특출'!$B$6:$B$80,총괄표!$A11) -> 0 | G11: =SUMIFS('2추일출'!Q$6:Q$59,'2추일출'!$B$6:$B$59,총괄표!$A11)+SUMIFS('2추특출'!Q$6:Q$80,'2추특출'!$B$6:$B$80,총괄표!$A11) -> 0 | H11: =G11+F11 -> 0 | I11: =B11+F11+G11 -> 0
A12: 문화체육관광위원회 | B12: =B35 -> 0 | C12: =SUMIFS('2추일입'!N$6:N$72,'2추일입'!$A$6:$A$72,총괄표!$A12)+SUMIFS('2추특입'!N$6:N$16,'2추특입'!$A$6:$A$16,총괄표!$A12) -> 0 | D12: =SUMIFS('2추일입'!O$6:O$72,'2추일입'!$A$6:$A$72,총괄표!$A12)+SUMIFS('2추특입'!O$6:O$16,'2추특입'!$A$6:$A$16,총괄표!$A12) -> 0 | E12: =D12+C12 -> 0 | F12: =SUMIFS('2추일출'!P$6:P$59,'2추일출'!$B$6:$B$59,총괄표!$A12)+SUMIFS('2추특출'!P$6:P$80,'2추특출'!$B$6:$B$80,총괄표!$A12) -> 0 | G12: =SUMIFS('2추일출'!Q$6:Q$59,'2추일출'!$B$6:$B$59,총괄표!$A12)+SUMIFS('2추특출'!Q$6:Q$80,'2추특출'!$B$6:$B$80,총괄표!$A12) -> 0 | H12: =G12+F12 -> 0 | I12: =B12+F12+G12 -> 0
A13: 농정해양위원회 | B13: =B36 -> 0 | C13: =SUMIFS('2추일입'!N$6:N$72,'2추일입'!$A$6:$A$72,총괄표!$A13)+SUMIFS('2추특입'!N$6:N$16,'2추특입'!$A$6:$A$16,총괄표!$A13) -> 0 | D13: =SUMIFS('2추일입'!O$6:O$72,'2추일입'!$A$6:$A$72,총괄표!$A13)+SUMIFS('2추특입'!O$6:O$16,'2추특입'!$A$6:$A$16,총괄표!$A13) -> 0 | E13: =D13+C13 -> 0 | F13: =SUMIFS('2추일출'!P$6:P$59,'2추일출'!$B$6:$B$59,총괄표!$A13)+SUMIFS('2추특출'!P$6:P$80,'2추특출'!$B$6:$B$80,총괄표!$A13) -> 0 | G13: =SUMIFS('2추일출'!Q$6:Q$59,'2추일출'!$B$6:$B$59,총괄표!$A13)+SUMIFS('2추특출'!Q$6:Q$80,'2추특출'!$B$6:$B$80,총괄표!$A13) -> 0 | H13: =G13+F13 -> 0 | I13: =B13+F13+G13 -> 0
A14: 보건복지위원회 | B14: =B37 -> 0 | C14: =SUMIFS('2추일입'!N$6:N$72,'2추일입'!$A$6:$A$72,총괄표!$A14)+SUMIFS('2추특입'!N$6:N$16,'2추특입'!$A$6:$A$16,총괄표!$A14) -> 0 | D14: =SUMIFS('2추일입'!O$6:O$72,'2추일입'!$A$6:$A$72,총괄표!$A14)+SUMIFS('2추특입'!O$6:O$16,'2추특입'!$A$6:$A$16,총괄표!$A14) -> 0 | E14: =D14+C14 -> 0 | F14: =SUMIFS('2추일출'!P$6:P$59,'2추일출'!$B$6:$B$59,총괄표!$A14)+SUMIFS('2추특출'!P$6:P$80,'2추특출'!$B$6:$B$80,총괄표!$A14) -> 0 | G14: =SUMIFS('2추일출'!Q$6:Q$59,'2추일출'!$B$6:$B$59,총괄표!$A14)+SUMIFS('2추특출'!Q$6:Q$80,'2추특출'!$B$6:$B$80,총괄표!$A14) -> 0 | H14: =G14+F14 -> 0 | I14: =B14+F14+G14 -> 0
A15: 건설교통위원회 | B15: =B38 -> 0 | C15: =SUMIFS('2추일입'!N$6:N$72,'2추일입'!$A$6:$A$72,총괄표!$A15)+SUMIFS('2추특입'!N$6:N$16,'2추특입'!$A$6:$A$16,총괄표!$A15) -> 0 | D15: =SUMIFS('2추일입'!O$6:O$72,'2추일입'!$A$6:$A$72,총괄표!$A15)+SUMIFS('2추특입'!O$6:O$16,'2추특입'!$A$6:$A$16,총괄표!$A15) -> 0 | E15: =D15+C15 -> 0 | F15: =SUMIFS('2추일출'!P$6:P$59,'2추일출'!$B$6:$B$59,총괄표!$A15)+SUMIFS('2추특출'!P$6:P$80,'2추특출'!$B$6:$B$80,총괄표!$A15) -> 0 | G15: =SUMIFS('2추일출'!Q$6:Q$59,'2추일출'!$B$6:$B$59,총괄표!$A15)+SUMIFS('2추특출'!Q$6:Q$80,'2추특출'!$B$6:$B$80,총괄표!$A15) -> 0 | H15: =G15+F15 -> 0 | I15: =B15+F15+G15 -> 0
A16: 도시환경위원회 | B16: =B39 -> 1157825092 | C16: =SUMIFS('2추일입'!N$6:N$72,'2추일입'!$A$6:$A$72,총괄표!$A16)+SUMIFS('2추특입'!N$6:N$16,'2추특입'!$A$6:$A$16,총괄표!$A16) -> 0 | D16: =SUMIFS('2추일입'!O$6:O$72,'2추일입'!$A$6:$A$72,총괄표!$A16)+SUMIFS('2추특입'!O$6:O$16,'2추특입'!$A$6:$A$16,총괄표!$A16) -> 0 | E16: =D16+C16 -> 0 | F16: =SUMIFS('2추일출'!P$6:P$59,'2추일출'!$B$6:$B$59,총괄표!$A16)+SUMIFS('2추특출'!P$6:P$80,'2추특출'!$B$6:$B$80,총괄표!$A16) -> 0 | G16: =SUMIFS('2추일출'!Q$6:Q$59,'2추일출'!$B$6:$B$59,총괄표!$A16)+SUMIFS('2추특출'!Q$6:Q$80,'2추특출'!$B$6:$B$80,총괄표!$A16) -> 0 | H16: =G16+F16 -> 0 | I16: =B16+F16+G16 -> 1157825092
A17: 여성가족교육협력위원회 | B17: =B40 -> 0 | C17: =SUMIFS('2추일입'!N$6:N$72,'2추일입'!$A$6:$A$72,총괄표!$A17)+SUMIFS('2추특입'!N$6:N$16,'2추특입'!$A$6:$A$16,총괄표!$A17) -> 0 | D17: =SUMIFS('2추일입'!O$6:O$72,'2추일입'!$A$6:$A$72,총괄표!$A17)+SUMIFS('2추특입'!O$6:O$16,'2추특입'!$A$6:$A$16,총괄표!$A17) -> 0 | E17: =D17+C17 -> 0 | F17: =SUMIFS('2추일출'!P$6:P$59,'2추일출'!$B$6:$B$59,총괄표!$A17)+SUMIFS('2추특출'!P$6:P$80,'2추특출'!$B$6:$B$80,총괄표!$A17) -> 0 | G17: =SUMIFS('2추일출'!Q$6:Q$59,'2추일출'!$B$6:$B$59,총괄표!$A17)+SUMIFS('2추특출'!Q$6:Q$80,'2추특출'!$B$6:$B$80,총괄표!$A17) -> 0 | H17: =G17+F17 -> 0 | I17: =B17+F17+G17 -> 0
A19: □ 회계별 예산 총 규모
I20: (단위 : 천원)
A21: 구 분 | B21: 집행부제출(안) | C21: 세입예산(안) | F21: 세출예산(안) | I21: 수정예산(안) | K21: 세입기준
C22: 감 액 | D22: 증 액 | E22: 증감액 | F22: 감 액 | G22: 증 액 | H22: 증감액 | K22: 수정예산(안) | L22: 세출기준-세입기준
A23: 합 계 | B23: =SUM(B24:B25) -> 1157825092 | C23: =SUM(C24:C25) -> 0 | D23: =SUM(D24:D25) -> 0 | E23: =SUM(E24:E25) -> 0 | F23: =SUM(F24:F25) -> 0 | G23: =SUM(G24:G25) -> 0 | H23: =SUM(H24:H25) -> 0 | I23: =SUM(I24:I25) -> 1157825092 | K23: =SUM(K24:K25) -> 1157825092 | L23: =I23-K23 -> 0
A24: 일반회계 | B24: =D30 -> 1116804279 | C24: ='2추일입'!N6 -> 0 | D24: ='2추일입'!O6 -> 0 | E24: =D24+C24 -> 0 | F24: ='2추일출'!P6 -> 0 | G24: ='2추일출'!Q6 -> 0 | H24: =G24+F24 -> 0 | I24: =B24+F24+G24 -> 1116804279 | K24: =B24+C24+D24 -> 1116804279 | L24: =I24-K24 -> 0
A25: 특별회계 | B25: =E30+F30 -> 41020813 | C25: ='2추특입'!N6 -> 0 | D25: ='2추특입'!O6 -> 0 | E25: =D25+C25 -> 0 | F25: ='2추특출'!P6 -> 0 | G25: ='2추특출'!Q6 -> 0 | H25: =G25+F25 -> 0 | I25: =B25+F25+G25 -> 41020813 | K25: =B25+C25+D25 -> 41020813 | L25: =I25-K25 -> 0
A28: ※ 회계별, 위원회별 집행부제출안(상임위에서 작성)
A29: 위원회명 | B29: 합계 | C29: 일반+기타 | D29: 일반회계 | E29: 기타특별회계 | F29: 공기업특별회계
A30: 합계 | B30: =SUM(B31:B40) -> 1157825092 | C30: =SUM(C31:C40) -> 1138877086 | D30: =SUM(D31:D40) -> 1116804279 | E30: =SUM(E31:E40) -> 22072807 | F30: =SUM(F31:F40) -> 18948006
A31: 의회운영위원회 | B31: =SUM(D31:G31) -> 0 | C31: =D31+E31 -> 0
A32: 기획재정위원회 | B32: =SUM(D32:G32) -> 0 | C32: =D32+E32 -> 0
A33: 경제과학기술위원회 | B33: =SUM(D33:G33) -> 0 | C33: =D33+E33 -> 0
A34: 안전행정위원회 | B34: =SUM(D34:G34) -> 0 | C34: =D34+E34 -> 0
A35: 문화체육관광위원회 | B35: =SUM(D35:G35) -> 0 | C35: =D35+E35 -> 0
A36: 농정해양위원회 | B36: =SUM(D36:G36) -> 0 | C36: =D36+E36 -> 0
A37: 보건복지위원회 | B37: =SUM(D37:G37) -> 0 | C37: =D37+E37 -> 0
A38: 건설교통위원회 | B38: =SUM(D38:G38) -> 0 | C38: =D38+E38 -> 0
A39: 도시환경위원회 | B39: =SUM(D39:G39) -> 1157825092 | C39: =D39+E39 -> 1138877086 | D39: 1116804279 | E39: 22072807 | F39: 18948006
A40: 여성가족교육협력위원회 | B40: =SUM(D40:G40) -> 0 | C40: =D40+E40 -> 0
A42: 예비비

Sheet 2추일입
A1: 2017년도 제2회 추가경정 경기도 일반회계 세입 예산 조정(안)
A2: □ 세입예산 | P2: =P6-J6 -> 0 | X2: 세입=세출 | AC2: 세입=세출
T3: (단위 : 천원) | X3: =IF(X6='2추일출'!Z6,"OK","@@") -> OK | Z3: =IF(COUNTIF(Z6:Z72,"검토")>0,"@@","OK") -> OK | AC3: =IF(AC6='2추일출'!AE6,"OK","@@") -> OK | AD3: =N6+O6-AC6-AD6 -> 0 | AE3: =IF(COUNTIF(AE6:AE72,"검토")>0,"@@","OK") -> OK
A4: 위원회명 | B4: 실국명 | C4: 부서명 | D4: 편성 구분 | E4: 예산안 페이지 | F4: 사업설명서페이지 | G4: 목명 및 부기명 | H4: 제2회 추경 예산안 (가) | I4: 기정액 (나) | J4: 제2회 추경 증감액 (다=가-나) | K4: 상임위 예산안 조정액(라) | M4: 상임위 조정 예산안 (마=가+라) | N4: 예결위 예산안 조정액(사) | P4: 예결위 조정 예산안 (아=가+사) | Q4: 동의 대상 | R4: 상임위 변경사유 (심의 참고자료) | S4: 비고 (상임위 부대의견) | T4: 비고 (예결위 부대의견) | U4: 국도비 등 여부 | W4: 재원 | X4: 상임위 재원별 증감액 | AB4: 재원 | AC4: 예결위 재원별 증감액 | AG4: 세입번호 | AI4: 실국부서 코드 | AK4: 추가 내시 등 | AM4: 상임위 세입 검증 | AQ4: 예결위 세입 검증
K5: 감액 | L5: 증액 | N5: 감액 | O5: 증액 | X5: 국비 등 | Y5: 도비 | Z5: 검증 | AC5: 국비 등 | AD5: 도비 | AE5: 검증 | AM5: 국비 증감액 | AN5: 건수 | AO5: 검증 | AQ5: 국비 증감액 | AR5: 건수 | AS5: 검증
A6: 합 계 | H6: =SUBTOTAL(9,H7:H72) -> 0 | I6: =SUBTOTAL(9,I7:I72) -> 0 | J6: =SUBTOTAL(9,J7:J72) -> 0 | K6: =SUBTOTAL(9,K7:K72) -> 0 | L6: =SUBTOTAL(9,L7:L72) -> 0 | M6: =SUBTOTAL(9,M7:M72) -> 0 | N6: =SUBTOTAL(9,N7:N72) -> 0 | O6: =SUBTOTAL(9,O7:O72) -> 0 | P6: =SUBTOTAL(9,P7:P72) -> 0 | X6: =SUBTOTAL(9,X7:X72) -> 0 | Y6: =SUBTOTAL(9,Y7:Y72) -> 0 | Z6: =IF(SUM($K6:$L6)=SUM($X6:$Y6),"OK","검토") -> OK | AC6: =SUBTOTAL(9,AC7:AC72) -> 0 | AD6: =SUBTOTAL(9,AD7:AD72) -> 0 | AE6: =IF(SUM($K6:$L6)=SUM($X6:$Y6),"OK","검토") -> OK | AM6: =SUBTOTAL(9,AM7:AM72) -> 0 | AN6: =SUBTOTAL(9,AN7:AN72) -> 0 | AO6: =IF(COUNTIF(AO7:AO72,"@@")>0,"@@","OK") -> OK | AQ6: =SUBTOTAL(9,AQ7:AQ72) -> 0 | AR6: =SUBTOTAL(9,AR7:AR72) -> 0 | AS6: =IF(COUNTIF(AS7:AS72,"@@")>0,"@@","OK") -> OK
B7: =IF(C7="","",VLOOKUP(C7,구분표!$A$3:$C$214,3,)) | J7: =IF(D7="","",H7-I7) | M7: =H7+K7+L7 -> 0 | P7: =H7+N7+O7 -> 0 | Q7: =IF(AND((M7=0),(P7>0)),"O",IF(AND((K7<0),(M7-P7<0)),"O","X")) -> X | X7: =IF($W7<>"도비",IF($U7="국도비","직접입력",SUM($K7:$L7)),) -> 0 | Y7: =IF($W7="도비",SUM($K7:$L7),IF($U7="국도비","직접입력",SUM($K7:$L7)-$X7)) -> 0 | Z7: =IF(SUM($K7:$L7)=SUM($X7:$Y7),"OK","검토") -> OK | AC7: =IF($W7<>"도비",IF($U7="국도비","직접입력",SUM($N7:$O7)),) -> 0 | AD7: =IF($W7="도비",SUM(N7:O7),IF($U7="국도비","직접입력",SUM(N7:O7)-AC7)) -> 0 | AE7: =IF(SUM(N7:O7)=SUM(AC7:AD7),"OK","검토") -> OK | AG7: =IF(AI7="","",IF(W7="도비","세입없음",CONCATENATE(AI7,"-",COUNTIF($AI$7:AI7,AI7)))) | AI7: {=IF(C7="","",INDEX(구분표!$I$2:$I$311, MATCH(1,(구분표!$E$2:$E$311='2추일입'!B7)*(구분표!$F$2:$F$311='2추일입'!C7)*(구분표!$G$2:$G$311='2추일입'!A7),0)))} | AM7: =IF(AG7="",0,SUMIFS('2추일출'!$Z$6:$Z$59,'2추일출'!$AI$6:$AI$59,'2추일입'!$AG7)) -> 0 | AN7: =IF(AG7="","",COUNTIFS('2추일출'!$AI$6:$AI$59,'2추일입'!AG7)) | AO7: =IF(X7=AM7,"OK","@@") -> OK | AQ7: =IF(AG7="",0,SUMIFS('2추일출'!$AE$6:$AE$59,'2추일출'!$AI$6:$AI$59,'2추일입'!$AG7)) -> 0 | AR7: =IF(AG7="","",COUNTIFS('2추일출'!$AI$6:$AI$59,AG7)) | AS7: =IF(AC7=AQ7,"OK","@@") -> OK
B8: =IF(C8="","",VLOOKUP(C8,구분표!$A$3:$C$214,3,)) | J8: =IF(D8="","",H8-I8) | M8: =H8+K8+L8 -> 0 | P8: =H8+N8+O8 -> 0 | Q8: =IF(AND((M8=0),(P8>0)),"O",IF(AND((K8<0),(M8-P8<0)),"O","X")) -> X | X8: =IF($W8<>"도비",IF($U8="국도비","직접입력",SUM($K8:$L8)),) -> 0 | Y8: =IF($W8="도비",SUM($K8:$L8),IF($U8="국도비","직접입력",SUM($K8:$L8)-$X8)) -> 0 | Z8: =IF(SUM($K8:$L8)=SUM($X8:$Y8),"OK","검토") -> OK | AC8: =IF($W8<>"도비",IF($U8="국도비","직접입력",SUM($N8:$O8)),) -> 0 | AD8: =IF($W8="도비",SUM(N8:O8),IF($U8="국도비","직접입력",SUM(N8:O8)-AC8)) -> 0 | AE8: =IF(SUM(N8:O8)=SUM(AC8:AD8),"OK","검토") -> OK | AG8: =IF(AI8="","",IF(W8="도비","세입없음",CONCATENATE(AI8,"-",COUNTIF($AI$7:AI8,AI8)))) | AI8: {=IF(C8="","",INDEX(구분표!$I$2:$I$311, MATCH(1,(구분표!$E$2:$E$311='2추일입'!B8)*(구분표!$F$2:$F$311='2추일입'!C8)*(구분표!$G$2:$G$311='2추일입'!A8),0)))} | AM8: =IF(AG8="",0,SUMIFS('2추일출'!$Z$6:$Z$59,'2추일출'!$AI$6:$AI$59,'2추일입'!$AG8)) -> 0 | AN8: =IF(AG8="","",COUNTIFS('2추일출'!$AI$6:$AI$59,'2추일입'!AG8)) | AO8: =IF(X8=AM8,"OK","@@") -> OK | AQ8: =IF(AG8="",0,SUMIFS('2추일출'!$AE$6:$AE$59,'2추일출'!$AI$6:$AI$59,'2추일입'!$AG8)) -> 0 | AR8: =IF(AG8="","",COUNTIFS('2추일출'!$AI$6:$AI$59,AG8)) | AS8: =IF(AC8=AQ8,"OK","@@") -> OK
B9: =IF(C9="","",VLOOKUP(C9,구분표!$A$3:$C$214,3,)) | J9: =IF(D9="","",H9-I9) | M9: =H9+K9+L9 -> 0 | P9: =H9+N9+O9 -> 0 | Q9: =IF(AND((M9=0),(P9>0)),"O",IF(AND((K9<0),(M9-P9<0)),"O","X")) -> X | X9: =IF($W9<>"도비",IF($U9="국도비","직접입력",SUM($K9:$L9)),) -> 0 | Y9: =IF($W9="도비",SUM($K9:$L9),IF($U9="국도비","직접입력",SUM($K9:$L9)-$X9)) -> 0 | Z9: =IF(SUM($K9:$L9)=SUM($X9:$Y9),"OK","검토") -> OK | AC9: =IF($W9<>"도비",IF($U9="국도비","직접입력",SUM($N9:$O9)),) -> 0 | AD9: =IF($W9="도비",SUM(N9:O9),IF($U9="국도비","직접입력",SUM(N9:O9)-AC9)) -> 0 | AE9: =IF(SUM(N9:O9)=SUM(AC9:AD9),"OK","검토") -> OK | AG9: =IF(AI9="","",IF(W9="도비","세입없음",CONCATENATE(AI9,"-",COUNTIF($AI$7:AI9,AI9)))) | AI9: {=IF(C9="","",INDEX(구분표!$I$2:$I$311, MATCH(1,(구분표!$E$2:$E$311='2추일입'!B9)*(구분표!$F$2:$F$311='2추일입'!C9)*(구분표!$G$2:$G$311='2추일입'!A9),0)))} | AM9: =IF(AG9="",0,SUMIFS('2추일출'!$Z$6:$Z$59,'2추일출'!$AI$6:$AI$59,'2추일입'!$AG9)) -> 0 | AN9: =IF(AG9="","",COUNTIFS('2추일출'!$AI$6:$AI$59,'2추일입'!AG9)) | AO9: =IF(X9=AM9,"OK","@@") -> OK | AQ9: =IF(AG9="",0,SUMIFS('2추일출'!$AE$6:$AE$59,'2추일출'!$AI$6:$AI$59,'2추일입'!$AG9)) -> 0 | AR9: =IF(AG9="","",COUNTIFS('2추일출'!$AI$6:$AI$59,AG9)) | AS9: =IF(AC9=AQ9,"OK","@@") -> OK
B10: =IF(C10="","",VLOOKUP(C10,구분표!$A$3:$C$214,3,)) | J10: =IF(D10="","",H10-I10) | M10: =H10+K10+L10 -> 0 | P10: =H10+N10+O10 -> 0 | Q10: =IF(AND((M10=0),(P10>0)),"O",IF(AND((K10<0),(M10-P10<0)),"O","X")) -> X | X10: =IF($W10<>"도비",IF($U10="국도비","직접입력",SUM($K10:$L10)),) -> 0 | Y10: =IF($W10="도비",SUM($K10:$L10),IF($U10="국도비","직접입력",SUM($K10:$L10)-$X10)) -> 0 | Z10: =IF(SUM($K10:$L10)=SUM($X10:$Y10),"OK","검토") -> OK | AC10: =IF($W10<>"도비",IF($U10="국도비","직접입력",SUM($N10:$O10)),) -> 0 | AD10: =IF($W10="도비",SUM(N10:O10),IF($U10="국도비","직접입력",SUM(N10:O10)-AC10)) -> 0 | AE10: =IF(SUM(N10:O10)=SUM(AC10:AD10),"OK","검토") -> OK | AG10: =IF(AI10="","",IF(W10="도비","세입없음",CONCATENATE(AI10,"-",COUNTIF($AI$7:AI10,AI10)))) | AI10: {=IF(C10="","",INDEX(구분표!$I$2:$I$311, MATCH(1,(구분표!$E$2:$E$311='2추일입'!B10)*(구분표!$F$2:$F$311='2추일입'!C10)*(구분표!$G$2:$G$311='2추일입'!A10),0)))} | AM10: =IF(AG10="",0,SUMIFS('2추일출'!$Z$6:$Z$59,'2추일출'!$AI$6:$AI$59,'2추일입'!$AG10)) -> 0 | AN10: =IF(AG10="","",COUNTIFS('2추일출'!$AI$6:$AI$59,'2추일입'!AG10)) | AO10: =IF(X10=AM10,"OK","@@") -> OK | AQ10: =IF(AG10="",0,SUMIFS('2추일출'!$AE$6:$AE$59,'2추일출'!$AI$6:$AI$59,'2추일입'!$AG10)) -> 0 | AR10: =IF(AG10="","",COUNTIFS('2추일출'!$AI$6:$AI$59,AG10)) | AS10: =IF(AC10=AQ10,"OK","@@") -> OK
B11: =IF(C11="","",VLOOKUP(C11,구분표!$A$3:$C$214,3,)) | J11: =IF(D11="","",H11-I11) | M11: =H11+K11+L11 -> 0 | P11: =H11+N11+O11 -> 0 | Q11: =IF(AND((M11=0),(P11>0)),"O",IF(AND((K11<0),(M11-P11<0)),"O","X")) -> X | X11: =IF($W11<>"도비",IF($U11="국도비","직접입력",SUM($K11:$L11)),) -> 0 | Y11: =IF($W11="도비",SUM($K11:$L11),IF($U11="국도비","직접입력",SUM($K11:$L11)-$X11)) -> 0 | Z11: =IF(SUM($K11:$L11)=SUM($X11:$Y11),"OK","검토") -> OK | AC11: =IF($W11<>"도비",IF($U11="국도비","직접입력",SUM($N11:$O11)),) -> 0 | AD11: =IF($W11="도비",SUM(N11:O11),IF($U11="국도비","직접입력",SUM(N11:O11)-AC11)) -> 0 | AE11: =IF(SUM(N11:O11)=SUM(AC11:AD11),"OK","검토") -> OK | AG11: =IF(AI11="","",IF(W11="도비","세입없음",CONCATENATE(AI11,"-",COUNTIF($AI$7:AI11,AI11)))) | AI11: {=IF(C11="","",INDEX(구분표!$I$2:$I$311, MATCH(1,(구분표!$E$2:$E$311='2추일입'!B11)*(구분표!$F$2:$F$311='2추일입'!C11)*(구분표!$G$2:$G$311='2추일입'!A11),0)))} | AM11: =IF(AG11="",0,SUMIFS('2추일출'!$Z$6:$Z$59,'2추일출'!$AI$6:$AI$59,'2추일입'!$AG11)) -> 0 | AN11: =IF(AG11="","",COUNTIFS('2추일출'!$AI$6:$AI$59,'2추일입'!AG11)) | AO11: =IF(X11=AM11,"OK","@@") -> OK | AQ11: =IF(AG11="",0,SUMIFS('2추일출'!$AE$6:$AE$59,'2추일출'!$AI$6:$AI$59,'2추일입'!$AG11)) -> 0 | AR11: =IF(AG11="","",COUNTIFS('2추일출'!$AI$6:$AI$59,AG11)) | AS11: =IF(AC11=AQ11,"OK","@@") -> OK
B12: =IF(C12="","",VLOOKUP(C12,구분표!$A$3:$C$214,3,)) | J12: =IF(D12="","",H12-I12) | M12: =H12+K12+L12 -> 0 | P12: =H12+N12+O12 -> 0 | Q12: =IF(AND((M12=0),(P12>0)),"O",IF(AND((K12<0),(M12-P12<0)),"O","X")) -> X | X12: =IF($W12<>"도비",IF($U12="국도비","직접입력",SUM($K12:$L12)),) -> 0 | Y12: =IF($W12="도비",SUM($K12:$L12),IF($U12="국도비","직접입력",SUM($K12:$L12)-$X12)) -> 0 | Z12: =IF(SUM($K12:$L12)=SUM($X12:$Y12),"OK","검토") -> OK | AC12: =IF($W12<>"도비",IF($U12="국도비","직접입력",SUM($N12:$O12)),) -> 0 | AD12: =IF($W12="도비",SUM(N12:O12),IF($U12="국도비","직접입력",SUM(N12:O12)-AC12)) -> 0 | AE12: =IF(SUM(N12:O12)=SUM(AC12:AD12),"OK","검토") -> OK | AG12: =IF(AI12="","",IF(W12="도비","세입없음",CONCATENATE(AI12,"-",COUNTIF($AI$7:AI12,AI12)))) | AI12: {=IF(C12="","",INDEX(구분표!$I$2:$I$311, MATCH(1,(구분표!$E$2:$E$311='2추일입'!B12)*(구분표!$F$2:$F$311='2추일입'!C12)*(구분표!$G$2:$G$311='2추일입'!A12),0)))} | AM12: =IF(AG12="",0,SUMIFS('2추일출'!$Z$6:$Z$59,'2추일출'!$AI$6:$AI$59,'2추일입'!$AG12)) -> 0 | AN12: =IF(AG12="","",COUNTIFS('2추일출'!$AI$6:$AI$59,'2추일입'!AG12)) | AO12: =IF(X12=AM12,"OK","@@") -> OK | AQ12: =IF(AG12="",0,SUMIFS('2추일출'!$AE$6:$AE$59,'2추일출'!$AI$6:$AI$59,'2추일입'!$AG12)) -> 0 | AR12: =IF(AG12="","",COUNTIFS('2추일출'!$AI$6:$AI$59,AG12)) | AS12: =IF(AC12=AQ12,"OK","@@") -> OK
B13: =IF(C13="","",VLOOKUP(C13,구분표!$A$3:$C$214,3,)) | J13: =IF(D13="","",H13-I13) | M13: =H13+K13+L13 -> 0 | P13: =H13+N13+O13 -> 0 | Q13: =IF(AND((M13=0),(P13>0)),"O",IF(AND((K13<0),(M13-P13<0)),"O","X")) -> X | X13: =IF($W13<>"도비",IF($U13="국도비","직접입력",SUM($K13:$L13)),) -> 0 | Y13: =IF($W13="도비",SUM($K13:$L13),IF($U13="국도비","직접입력",SUM($K13:$L13)-$X13)) -> 0 | Z13: =IF(SUM($K13:$L13)=SUM($X13:$Y13),"OK","검토") -> OK | AC13: =IF($W13<>"도비",IF($U13="국도비","직접입력",SUM($N13:$O13)),) -> 0 | AD13: =IF($W13="도비",SUM(N13:O13),IF($U13="국도비","직접입력",SUM(N13:O13)-AC13)) -> 0 | AE13: =IF(SUM(N13:O13)=SUM(AC13:AD13),"OK","검토") -> OK | AG13: =IF(AI13="","",IF(W13="도비","세입없음",CONCATENATE(AI13,"-",COUNTIF($AI$7:AI13,AI13)))) | AI13: {=IF(C13="","",INDEX(구분표!$I$2:$I$311, MATCH(1,(구분표!$E$2:$E$311='2추일입'!B13)*(구분표!$F$2:$F$311='2추일입'!C13)*(구분표!$G$2:$G$311='2추일입'!A13),0)))} | AM13: =IF(AG13="",0,SUMIFS('2추일출'!$Z$6:$Z$59,'2추일출'!$AI$6:$AI$59,'2추일입'!$AG13)) -> 0 | AN13: =IF(AG13="","",COUNTIFS('2추일출'!$AI$6:$AI$59,'2추일입'!AG13)) | AO13: =IF(X13=AM13,"OK","@@") -> OK | AQ13: =IF(AG13="",0,SUMIFS('2추일출'!$AE$6:$AE$59,'2추일출'!$AI$6:$AI$59,'2추일입'!$AG13)) -> 0 | AR13: =IF(AG13="","",COUNTIFS('2추일출'!$AI$6:$AI$59,AG13)) | AS13: =IF(AC13=AQ13,"OK","@@") -> OK
B14: =IF(C14="","",VLOOKUP(C14,구분표!$A$3:$C$214,3,)) | J14: =IF(D14="","",H14-I14) | M14: =H14+K14+L14 -> 0 | P14: =H14+N14+O14 -> 0 | Q14: =IF(AND((M14=0),(P14>0)),"O",IF(AND((K14<0),(M14-P14<0)),"O","X")) -> X | X14: =IF($W14<>"도비",IF($U14="국도비","직접입력",SUM($K14:$L14)),) -> 0 | Y14: =IF($W14="도비",SUM($K14:$L14),IF($U14="국도비","직접입력",SUM($K14:$L14)-$X14)) -> 0 | Z14: =IF(SUM($K14:$L14)=SUM($X14:$Y14),"OK","검토") -> OK | AC14: =IF($W14<>"도비",IF($U14="국도비","직접입력",SUM($N14:$O14)),) -> 0 | AD14: =IF($W14="도비",SUM(N14:O14),IF($U14="국도비","직접입력",SUM(N14:O14)-AC14)) -> 0 | AE14: =IF(SUM(N14:O14)=SUM(AC14:AD14),"OK","검토") -> OK | AG14: =IF(AI14="","",IF(W14="도비","세입없음",CONCATENATE(AI14,"-",COUNTIF($AI$7:AI14,AI14)))) | AI14: {=IF(C14="","",INDEX(구분표!$I$2:$I$311, MATCH(1,(구분표!$E$2:$E$311='2추일입'!B14)*(구분표!$F$2:$F$311='2추일입'!C14)*(구분표!$G$2:$G$311='2추일입'!A14),0)))} | AM14: =IF(AG14="",0,SUMIFS('2추일출'!$Z$6:$Z$59,'2추일출'!$AI$6:$AI$59,'2추일입'!$AG14)) -> 0 | AN14: =IF(AG14="","",COUNTIFS('2추일출'!$AI$6:$AI$59,'2추일입'!AG14)) | AO14: =IF(X14=AM14,"OK","@@") -> OK | AQ14: =IF(AG14="",0,SUMIFS('2추일출'!$AE$6:$AE$59,'2추일출'!$AI$6:$AI$59,'2추일입'!$AG14)) -> 0 | AR14: =IF(AG14="","",COUNTIFS('2추일출'!$AI$6:$AI$59,AG14)) | AS14: =IF(AC14=AQ14,"OK","@@") -> OK
B15: =IF(C15="","",VLOOKUP(C15,구분표!$A$3:$C$214,3,)) | J15: =IF(D15="","",H15-I15) | M15: =H15+K15+L15 -> 0 | P15: =H15+N15+O15 -> 0 | Q15: =IF(AND((M15=0),(P15>0)),"O",IF(AND((K15<0),(M15-P15<0)),"O","X")) -> X | X15: =IF($W15<>"도비",IF($U15="국도비","직접입력",SUM($K15:$L15)),) -> 0 | Y15: =IF($W15="도비",SUM($K15:$L15),IF($U15="국도비","직접입력",SUM($K15:$L15)-$X15)) -> 0 | Z15: =IF(SUM($K15:$L15)=SUM($X15:$Y15),"OK","검토") -> OK | AC15: =IF($W15<>"도비",IF($U15="국도비","직접입력",SUM($N15:$O15)),) -> 0 | AD15: =IF($W15="도비",SUM(N15:O15),IF($U15="국도비","직접입력",SUM(N15:O15)-AC15)) -> 0 | AE15: =IF(SUM(N15:O15)=SUM(AC15:AD15),"OK","검토") -> OK | AG15: =IF(AI15="","",IF(W15="도비","세입없음",CONCATENATE(AI15,"-",COUNTIF($AI$7:AI15,AI15)))) | AI15: {=IF(C15="","",INDEX(구분표!$I$2:$I$311, MATCH(1,(구분표!$E$2:$E$311='2추일입'!B15)*(구분표!$F$2:$F$311='2추일입'!C15)*(구분표!$G$2:$G$311='2추일입'!A15),0)))} | AM15: =IF(AG15="",0,SUMIFS('2추일출'!$Z$6:$Z$59,'2추일출'!$AI$6:$AI$59,'2추일입'!$AG15)) -> 0 | AN15: =IF(AG15="","",COUNTIFS('2추일출'!$AI$6:$AI$59,'2추일입'!AG15)) | AO15: =IF(X15=AM15,"OK","@@") -> OK | AQ15: =IF(AG15="",0,SUMIFS('2추일출'!$AE$6:$AE$59,'2추일출'!$AI$6:$AI$59,'2추일입'!$AG15)) -> 0 | AR15: =IF(AG15="","",COUNTIFS('2추일출'!$AI$6:$AI$59,AG15)) | AS15: =IF(AC15=AQ15,"OK","@@") -> OK
B16: =IF(C16="","",VLOOKUP(C16,구분표!$A$3:$C$214,3,)) | J16: =IF(D16="","",H16-I16) | M16: =H16+K16+L16 -> 0 | P16: =H16+N16+O16 -> 0 | Q16: =IF(AND((M16=0),(P16>0)),"O",IF(AND((K16<0),(M16-P16<0)),"O","X")) -> X | X16: =IF($W16<>"도비",IF($U16="국도비","직접입력",SUM($K16:$L16)),) -> 0 | Y16: =IF($W16="도비",SUM($K16:$L16),IF($U16="국도비","직접입력",SUM($K16:$L16)-$X16)) -> 0 | Z16: =IF(SUM($K16:$L16)=SUM($X16:$Y16),"OK","검토") -> OK | AC16: =IF($W16<>"도비",IF($U16="국도비","직접입력",SUM($N16:$O16)),) -> 0 | AD16: =IF($W16="도비",SUM(N16:O16),IF($U16="국도비","직접입력",SUM(N16:O16)-AC16)) -> 0 | AE16: =IF(SUM(N16:O16)=SUM(AC16:AD16),"OK","검토") -> OK | AG16: =IF(AI16="","",IF(W16="도비","세입없음",CONCATENATE(AI16,"-",COUNTIF($AI$7:AI16,AI16)))) | AI16: {=IF(C16="","",INDEX(구분표!$I$2:$I$311, MATCH(1,(구분표!$E$2:$E$311='2추일입'!B16)*(구분표!$F$2:$F$311='2추일입'!C16)*(구분표!$G$2:$G$311='2추일입'!A16),0)))} | AM16: =IF(AG16="",0,SUMIFS('2추일출'!$Z$6:$Z$59,'2추일출'!$AI$6:$AI$59,'2추일입'!$AG16)) -> 0 | AN16: =IF(AG16="","",COUNTIFS('2추일출'!$AI$6:$AI$59,'2추일입'!AG16)) | AO16: =IF(X16=AM16,"OK","@@") -> OK | AQ16: =IF(AG16="",0,SUMIFS('2추일출'!$AE$6:$AE$59,'2추일출'!$AI$6:$AI$59,'2추일입'!$AG16)) -> 0 | AR16: =IF(AG16="","",COUNTIFS('2추일출'!$AI$6:$AI$59,AG16)) | AS16: =IF(AC16=AQ16,"OK","@@") -> OK
B17: =IF(C17="","",VLOOKUP(C17,구분표!$A$3:$C$214,3,)) | J17: =IF(D17="","",H17-I17) | M17: =H17+K17+L17 -> 0 | P17: =H17+N17+O17 -> 0 | Q17: =IF(AND((M17=0),(P17>0)),"O",IF(AND((K17<0),(M17-P17<0)),"O","X")) -> X | X17: =IF($W17<>"도비",IF($U17="국도비","직접입력",SUM($K17:$L17)),) -> 0 | Y17: =IF($W17="도비",SUM($K17:$L17),IF($U17="국도비","직접입력",SUM($K17:$L17)-$X17)) -> 0 | Z17: =IF(SUM($K17:$L17)=SUM($X17:$Y17),"OK","검토") -> OK | AC17: =IF($W17<>"도비",IF($U17="국도비","직접입력",SUM($N17:$O17)),) -> 0 | AD17: =IF($W17="도비",SUM(N17:O17),IF($U17="국도비","직접입력",SUM(N17:O17)-AC17)) -> 0 | AE17: =IF(SUM(N17:O17)=SUM(AC17:AD17),"OK","검토") -> OK | AG17: =IF(AI17="","",IF(W17="도비","세입없음",CONCATENATE(AI17,"-",COUNTIF($AI$7:AI17,AI17)))) | AI17: {=IF(C17="","",INDEX(구분표!$I$2:$I$311, MATCH(1,(구분표!$E$2:$E$311='2추일입'!B17)*(구분표!$F$2:$F$311='2추일입'!C17)*(구분표!$G$2:$G$311='2추일입'!A17),0)))} | AM17: =IF(AG17="",0,SUMIFS('2추일출'!$Z$6:$Z$59,'2추일출'!$AI$6:$AI$59,'2추일입'!$AG17)) -> 0 | AN17: =IF(AG17="","",COUNTIFS('2추일출'!$AI$6:$AI$59,'2추일입'!AG17)) | AO17: =IF(X17=AM17,"OK","@@") -> OK | AQ17: =IF(AG17="",0,SUMIFS('2추일출'!$AE$6:$AE$59,'2추일출'!$AI$6:$AI$59,'2추일입'!$AG17)) -> 0 | AR17: =IF(AG17="","",COUNTIFS('2추일출'!$AI$6:$AI$59,AG17)) | AS17: =IF(AC17=AQ17,"OK","@@") -> OK
B18: =IF(C18="","",VLOOKUP(C18,구분표!$A$3:$C$214,3,)) | J18: =IF(D18="","",H18-I18) | M18: =H18+K18+L18 -> 0 | P18: =H18+N18+O18 -> 0 | Q18: =IF(AND((M18=0),(P18>0)),"O",IF(AND((K18<0),(M18-P18<0)),"O","X")) -> X | X18: =IF($W18<>"도비",IF($U18="국도비","직접입력",SUM($K18:$L18)),) -> 0 | Y18: =IF($W18="도비",SUM($K18:$L18),IF($U18="국도비","직접입력",SUM($K18:$L18)-$X18)) -> 0 | Z18: =IF(SUM($K18:$L18)=SUM($X18:$Y18),"OK","검토") -> OK | AC18: =IF($W18<>"도비",IF($U18="국도비","직접입력",SUM($N18:$O18)),) -> 0 | AD18: =IF($W18="도비",SUM(N18:O18),IF($U18="국도비","직접입력",SUM(N18:O18)-AC18)) -> 0 | AE18: =IF(SUM(N18:O18)=SUM(AC18:AD18),"OK","검토") -> OK | AG18: =IF(AI18="","",IF(W18="도비","세입없음",CONCATENATE(AI18,"-",COUNTIF($AI$7:AI18,AI18)))) | AI18: {=IF(C18="","",INDEX(구분표!$I$2:$I$311, MATCH(1,(구분표!$E$2:$E$311='2추일입'!B18)*(구분표!$F$2:$F$311='2추일입'!C18)*(구분표!$G$2:$G$311='2추일입'!A18),0)))} | AM18: =IF(AG18="",0,SUMIFS('2추일출'!$Z$6:$Z$59,'2추일출'!$AI$6:$AI$59,'2추일입'!$AG18)) -> 0 | AN18: =IF(AG18="","",COUNTIFS('2추일출'!$AI$6:$AI$59,'2추일입'!AG18)) | AO18: =IF(X18=AM18,"OK","@@") -> OK | AQ18: =IF(AG18="",0,SUMIFS('2추일출'!$AE$6:$AE$59,'2추일출'!$AI$6:$AI$59,'2추일입'!$AG18)) -> 0 | AR18: =IF(AG18="","",COUNTIFS('2추일출'!$AI$6:$AI$59,AG18)) | AS18: =IF(AC18=AQ18,"OK","@@") -> OK
B19: =IF(C19="","",VLOOKUP(C19,구분표!$A$3:$C$214,3,)) | J19: =IF(D19="","",H19-I19) | M19: =H19+K19+L19 -> 0 | P19: =H19+N19+O19 -> 0 | Q19: =IF(AND((M19=0),(P19>0)),"O",IF(AND((K19<0),(M19-P19<0)),"O","X")) -> X | X19: =IF($W19<>"도비",IF($U19="국도비","직접입력",SUM($K19:$L19)),) -> 0 | Y19: =IF($W19="도비",SUM($K19:$L19),IF($U19="국도비","직접입력",SUM($K19:$L19)-$X19)) -> 0 | Z19: =IF(SUM($K19:$L19)=SUM($X19:$Y19),"OK","검토") -> OK | AC19: =IF($W19<>"도비",IF($U19="국도비","직접입력",SUM($N19:$O19)),) -> 0 | AD19: =IF($W19="도비",SUM(N19:O19),IF($U19="국도비","직접입력",SUM(N19:O19)-AC19)) -> 0 | AE19: =IF(SUM(N19:O19)=SUM(AC19:AD19),"OK","검토") -> OK | AG19: =IF(AI19="","",IF(W19="도비","세입없음",CONCATENATE(AI19,"-",COUNTIF($AI$7:AI19,AI19)))) | AI19: {=IF(C19="","",INDEX(구분표!$I$2:$I$311, MATCH(1,(구분표!$E$2:$E$311='2추일입'!B19)*(구분표!$F$2:$F$311='2추일입'!C19)*(구분표!$G$2:$G$311='2추일입'!A19),0)))} | AM19: =IF(AG19="",0,SUMIFS('2추일출'!$Z$6:$Z$59,'2추일출'!$AI$6:$AI$59,'2추일입'!$AG19)) -> 0 | AN19: =IF(AG19="","",COUNTIFS('2추일출'!$AI$6:$AI$59,'2추일입'!AG19)) | AO19: =IF(X19=AM19,"OK","@@") -> OK | AQ19: =IF(AG19="",0,SUMIFS('2추일출'!$AE$6:$AE$59,'2추일출'!$AI$6:$AI$59,'2추일입'!$AG19)) -> 0 | AR19: =IF(AG19="","",COUNTIFS('2추일출'!$AI$6:$AI$59,AG19)) | AS19: =IF(AC19=AQ19,"OK","@@") -> OK
J20: =IF(D20="","",H20-I20) | M20: =H20+K20+L20 -> 0 | P20: =H20+N20+O20 -> 0 | Q20: =IF(AND((M20=0),(P20>0)),"O",IF(AND((K20<0),(M20-P20<0)),"O","X")) -> X | X20: =IF($W20<>"도비",IF($U20="국도비","직접입력",SUM($K20:$L20)),) -> 0 | Y20: =IF($W20="도비",SUM($K20:$L20),IF($U20="국도비","직접입력",SUM($K20:$L20)-$X20)) -> 0 | Z20: =IF(SUM($K20:$L20)=SUM($X20:$Y20),"OK","검토") -> OK | AC20: =IF($W20<>"도비",IF($U20="국도비","직접입력",SUM($N20:$O20)),) -> 0 | AD20: =IF($W20="도비",SUM(N20:O20),IF($U20="국도비","직접입력",SUM(N20:O20)-AC20)) -> 0 | AE20: =IF(SUM(N20:O20)=SUM(AC20:AD20),"OK","검토") -> OK | AG20: =IF(AI20="","",IF(W20="도비","세입없음",CONCATENATE(AI20,"-",COUNTIF($AI$7:AI20,AI20)))) | AI20: {=IF(C20="","",INDEX(구분표!$I$2:$I$311, MATCH(1,(구분표!$E$2:$E$311='2추일입'!B20)*(구분표!$F$2:$F$311='2추일입'!C20)*(구분표!$G$2:$G$311='2추일입'!A20),0)))} | AM20: =IF(AG20="",0,SUMIFS('2추일출'!$Z$6:$Z$59,'2추일출'!$AI$6:$AI$59,'2추일입'!$AG20)) -> 0 | AN20: =IF(AG20="","",COUNTIFS('2추일출'!$AI$6:$AI$59,'2추일입'!AG20)) | AO20: =IF(X20=AM20,"OK","@@") -> OK | AQ20: =IF(AG20="",0,SUMIFS('2추일출'!$AE$6:$AE$59,'2추일출'!$AI$6:$AI$59,'2추일입'!$AG20)) -> 0 | AR20: =IF(AG20="","",COUNTIFS('2추일출'!$AI$6:$AI$59,AG20)) | AS20: =IF(AC20=AQ20,"OK","@@") -> OK
J21: =IF(D21="","",H21-I21) | M21: =H21+K21+L21 -> 0 | P21: =H21+N21+O21 -> 0 | Q21: =IF(AND((M21=0),(P21>0)),"O",IF(AND((K21<0),(M21-P21<0)),"O","X")) -> X | X21: =IF($W21<>"도비",IF($U21="국도비","직접입력",SUM($K21:$L21)),) -> 0 | Y21: =IF($W21="도비",SUM($K21:$L21),IF($U21="국도비","직접입력",SUM($K21:$L21)-$X21)) -> 0 | Z21: =IF(SUM($K21:$L21)=SUM($X21:$Y21),"OK","검토") -> OK | AC21: =IF($W21<>"도비",IF($U21="국도비","직접입력",SUM($N21:$O21)),) -> 0 | AD21: =IF($W21="도비",SUM(N21:O21),IF($U21="국도비","직접입력",SUM(N21:O21)-AC21)) -> 0 | AE21: =IF(SUM(N21:O21)=SUM(AC21:AD21),"OK","검토") -> OK | AG21: =IF(AI21="","",IF(W21="도비","세입없음",CONCATENATE(AI21,"-",COUNTIF($AI$7:AI21,AI21)))) | AI21: {=IF(C21="","",INDEX(구분표!$I$2:$I$311, MATCH(1,(구분표!$E$2:$E$311='2추일입'!B21)*(구분표!$F$2:$F$311='2추일입'!C21)*(구분표!$G$2:$G$311='2추일입'!A21),0)))} | AM21: =IF(AG21="",0,SUMIFS('2추일출'!$Z$6:$Z$59,'2추일출'!$AI$6:$AI$59,'2추일입'!$AG21)) -> 0 | AN21: =IF(AG21="","",COUNTIFS('2추일출'!$AI$6:$AI$59,'2추일입'!AG21)) | AO21: =IF(X21=AM21,"OK","@@") -> OK | AQ21: =IF(AG21="",0,SUMIFS('2추일출'!$AE$6:$AE$59,'2추일출'!$AI$6:$AI$59,'2추일입'!$AG21)) -> 0 | AR21: =IF(AG21="","",COUNTIFS('2추일출'!$AI$6:$AI$59,AG21)) | AS21: =IF(AC21=AQ21,"OK","@@") -> OK
J22: =IF(D22="","",H22-I22) | M22: =H22+K22+L22 -> 0 | P22: =H22+N22+O22 -> 0 | Q22: =IF(AND((M22=0),(P22>0)),"O",IF(AND((K22<0),(M22-P22<0)),"O","X")) -> X | X22: =IF($W22<>"도비",IF($U22="국도비","직접입력",SUM($K22:$L22)),) -> 0 | Y22: =IF($W22="도비",SUM($K22:$L22),IF($U22="국도비","직접입력",SUM($K22:$L22)-$X22)) -> 0 | Z22: =IF(SUM($K22:$L22)=SUM($X22:$Y22),"OK","검토") -> OK | AC22: =IF($W22<>"도비",IF($U22="국도비","직접입력",SUM($N22:$O22)),) -> 0 | AD22: =IF($W22="도비",SUM(N22:O22),IF($U22="국도비","직접입력",SUM(N22:O22)-AC22)) -> 0 | AE22: =IF(SUM(N22:O22)=SUM(AC22:AD22),"OK","검토") -> OK | AG22: =IF(AI22="","",IF(W22="도비","세입없음",CONCATENATE(AI22,"-",COUNTIF($AI$7:AI22,AI22)))) | AI22: {=IF(C22="","",INDEX(구분표!$I$2:$I$311, MATCH(1,(구분표!$E$2:$E$311='2추일입'!B22)*(구분표!$F$2:$F$311='2추일입'!C22)*(구분표!$G$2:$G$311='2추일입'!A22),0)))} | AM22: =IF(AG22="",0,SUMIFS('2추일출'!$Z$6:$Z$59,'2추일출'!$AI$6:$AI$59,'2추일입'!$AG22)) -> 0 | AN22: =IF(AG22="","",COUNTIFS('2추일출'!$AI$6:$AI$59,'2추일입'!AG22)) | AO22: =IF(X22=AM22,"OK","@@") -> OK | AQ22: =IF(AG22="",0,SUMIFS('2추일출'!$AE$6:$AE$59,'2추일출'!$AI$6:$AI$59,'2추일입'!$AG22)) -> 0 | AR22: =IF(AG22="","",COUNTIFS('2추일출'!$AI$6:$AI$59,AG22)) | AS22: =IF(AC22=AQ22,"OK","@@") -> OK
J23: =IF(D23="","",H23-I23) | M23: =H23+K23+L23 -> 0 | P23: =H23+N23+O23 -> 0 | Q23: =IF(AND((M23=0),(P23>0)),"O",IF(AND((K23<0),(M23-P23<0)),"O","X")) -> X | X23: =IF($W23<>"도비",IF($U23="국도비","직접입력",SUM($K23:$L23)),) -> 0 | Y23: =IF($W23="도비",SUM($K23:$L23),IF($U23="국도비","직접입력",SUM($K23:$L23)-$X23)) -> 0 | Z23: =IF(SUM($K23:$L23)=SUM($X23:$Y23),"OK","검토") -> OK | AC23: =IF($W23<>"도비",IF($U23="국도비","직접입력",SUM($N23:$O23)),) -> 0 | AD23: =IF($W23="도비",SUM(N23:O23),IF($U23="국도비","직접입력",SUM(N23:O23)-AC23)) -> 0 | AE23: =IF(SUM(N23:O23)=SUM(AC23:AD23),"OK","검토") -> OK | AG23: =IF(AI23="","",IF(W23="도비","세입없음",CONCATENATE(AI23,"-",COUNTIF($AI$7:AI23,AI23)))) | AI23: {=IF(C23="","",INDEX(구분표!$I$2:$I$311, MATCH(1,(구분표!$E$2:$E$311='2추일입'!B23)*(구분표!$F$2:$F$311='2추일입'!C23)*(구분표!$G$2:$G$311='2추일입'!A23),0)))} | AM23: =IF(AG23="",0,SUMIFS('2추일출'!$Z$6:$Z$59,'2추일출'!$AI$6:$AI$59,'2추일입'!$AG23)) -> 0 | AN23: =IF(AG23="","",COUNTIFS('2추일출'!$AI$6:$AI$59,'2추일입'!AG23)) | AO23: =IF(X23=AM23,"OK","@@") -> OK | AQ23: =IF(AG23="",0,SUMIFS('2추일출'!$AE$6:$AE$59,'2추일출'!$AI$6:$AI$59,'2추일입'!$AG23)) -> 0 | AR23: =IF(AG23="","",COUNTIFS('2추일출'!$AI$6:$AI$59,AG23)) | AS23: =IF(AC23=AQ23,"OK","@@") -> OK
J24: =IF(D24="","",H24-I24) | M24: =H24+K24+L24 -> 0 | P24: =H24+N24+O24 -> 0 | Q24: =IF(AND((M24=0),(P24>0)),"O",IF(AND((K24<0),(M24-P24<0)),"O","X")) -> X | X24: =IF($W24<>"도비",IF($U24="국도비","직접입력",SUM($K24:$L24)),) -> 0 | Y24: =IF($W24="도비",SUM($K24:$L24),IF($U24="국도비","직접입력",SUM($K24:$L24)-$X24)) -> 0 | Z24: =IF(SUM($K24:$L24)=SUM($X24:$Y24),"OK","검토") -> OK | AC24: =IF($W24<>"도비",IF($U24="국도비","직접입력",SUM($N24:$O24)),) -> 0 | AD24: =IF($W24="도비",SUM(N24:O24),IF($U24="국도비","직접입력",SUM(N24:O24)-AC24)) -> 0 | AE24: =IF(SUM(N24:O24)=SUM(AC24:AD24),"OK","검토") -> OK | AG24: =IF(AI24="","",IF(W24="도비","세입없음",CONCATENATE(AI24,"-",COUNTIF($AI$7:AI24,AI24)))) | AI24: {=IF(C24="","",INDEX(구분표!$I$2:$I$311, MATCH(1,(구분표!$E$2:$E$311='2추일입'!B24)*(구분표!$F$2:$F$311='2추일입'!C24)*(구분표!$G$2:$G$311='2추일입'!A24),0)))} | AM24: =IF(AG24="",0,SUMIFS('2추일출'!$Z$6:$Z$59,'2추일출'!$AI$6:$AI$59,'2추일입'!$AG24)) -> 0 | AN24: =IF(AG24="","",COUNTIFS('2추일출'!$AI$6:$AI$59,'2추일입'!AG24)) | AO24: =IF(X24=AM24,"OK","@@") -> OK | AQ24: =IF(AG24="",0,SUMIFS('2추일출'!$AE$6:$AE$59,'2추일출'!$AI$6:$AI$59,'2추일입'!$AG24)) -> 0 | AR24: =IF(AG24="","",COUNTIFS('2추일출'!$AI$6:$AI$59,AG24)) | AS24: =IF(AC24=AQ24,"OK","@@") -> OK
J25: =IF(D25="","",H25-I25) | M25: =H25+K25+L25 -> 0 | P25: =H25+N25+O25 -> 0 | Q25: =IF(AND((M25=0),(P25>0)),"O",IF(AND((K25<0),(M25-P25<0)),"O","X")) -> X | X25: =IF($W25<>"도비",IF($U25="국도비","직접입력",SUM($K25:$L25)),) -> 0 | Y25: =IF($W25="도비",SUM($K25:$L25),IF($U25="국도비","직접입력",SUM($K25:$L25)-$X25)) -> 0 | Z25: =IF(SUM($K25:$L25)=SUM($X25:$Y25),"OK","검토") -> OK | AC25: =IF($W25<>"도비",IF($U25="국도비","직접입력",SUM($N25:$O25)),) -> 0 | AD25: =IF($W25="도비",SUM(N25:O25),IF($U25="국도비","직접입력",SUM(N25:O25)-AC25)) -> 0 | AE25: =IF(SUM(N25:O25)=SUM(AC25:AD25),"OK","검토") -> OK | AG25: =IF(AI25="","",IF(W25="도비","세입없음",CONCATENATE(AI25,"-",COUNTIF($AI$7:AI25,AI25)))) | AI25: {=IF(C25="","",INDEX(구분표!$I$2:$I$311, MATCH(1,(구분표!$E$2:$E$311='2추일입'!B25)*(구분표!$F$2:$F$311='2추일입'!C25)*(구분표!$G$2:$G$311='2추일입'!A25),0)))} | AM25: =IF(AG25="",0,SUMIFS('2추일출'!$Z$6:$Z$59,'2추일출'!$AI$6:$AI$59,'2추일입'!$AG25)) -> 0 | AN25: =IF(AG25="","",COUNTIFS('2추일출'!$AI$6:$AI$59,'2추일입'!AG25)) | AO25: =IF(X25=AM25,"OK","@@") -> OK | AQ25: =IF(AG25="",0,SUMIFS('2추일출'!$AE$6:$AE$59,'2추일출'!$AI$6:$AI$59,'2추일입'!$AG25)) -> 0 | AR25: =IF(AG25="","",COUNTIFS('2추일출'!$AI$6:$AI$59,AG25)) | AS25: =IF(AC25=AQ25,"OK","@@") -> OK
J26: =IF(D26="","",H26-I26) | M26: =H26+K26+L26 -> 0 | P26: =H26+N26+O26 -> 0 | Q26: =IF(AND((M26=0),(P26>0)),"O",IF(AND((K26<0),(M26-P26<0)),"O","X")) -> X | X26: =IF($W26<>"도비",IF($U26="국도비","직접입력",SUM($K26:$L26)),) -> 0 | Y26: =IF($W26="도비",SUM($K26:$L26),IF($U26="국도비","직접입력",SUM($K26:$L26)-$X26)) -> 0 | Z26: =IF(SUM($K26:$L26)=SUM($X26:$Y26),"OK","검토") -> OK | AC26: =IF($W26<>"도비",IF($U26="국도비","직접입력",SUM($N26:$O26)),) -> 0 | AD26: =IF($W26="도비",SUM(N26:O26),IF($U26="국도비","직접입력",SUM(N26:O26)-AC26)) -> 0 | AE26: =IF(SUM(N26:O26)=SUM(AC26:AD26),"OK","검토") -> OK | AG26: =IF(AI26="","",IF(W26="도비","세입없음",CONCATENATE(AI26,"-",COUNTIF($AI$7:AI26,AI26)))) | AI26: {=IF(C26="","",INDEX(구분표!$I$2:$I$311, MATCH(1,(구분표!$E$2:$E$311='2추일입'!B26)*(구분표!$F$2:$F$311='2추일입'!C26)*(구분표!$G$2:$G$311='2추일입'!A26),0)))} | AM26: =IF(AG26="",0,SUMIFS('2추일출'!$Z$6:$Z$59,'2추일출'!$AI$6:$AI$59,'2추일입'!$AG26)) -> 0 | AN26: =IF(AG26="","",COUNTIFS('2추일출'!$AI$6:$AI$59,'2추일입'!AG26)) | AO26: =IF(X26=AM26,"OK","@@") -> OK | AQ26: =IF(AG26="",0,SUMIFS('2추일출'!$AE$6:$AE$59,'2추일출'!$AI$6:$AI$59,'2추일입'!$AG26)) -> 0 | AR26: =IF(AG26="","",COUNTIFS('2추일출'!$AI$6:$AI$59,AG26)) | AS26: =IF(AC26=AQ26,"OK","@@") -> OK
J27: =IF(D27="","",H27-I27) | M27: =H27+K27+L27 -> 0 | P27: =H27+N27+O27 -> 0 | Q27: =IF(AND((M27=0),(P27>0)),"O",IF(AND((K27<0),(M27-P27<0)),"O","X")) -> X | X27: =IF($W27<>"도비",IF($U27="국도비","직접입력",SUM($K27:$L27)),) -> 0 | Y27: =IF($W27="도비",SUM($K27:$L27),IF($U27="국도비","직접입력",SUM($K27:$L27)-$X27)) -> 0 | Z27: =IF(SUM($K27:$L27)=SUM($X27:$Y27),"OK","검토") -> OK | AC27: =IF($W27<>"도비",IF($U27="국도비","직접입력",SUM($N27:$O27)),) -> 0 | AD27: =IF($W27="도비",SUM(N27:O27),IF($U27="국도비","직접입력",SUM(N27:O27)-AC27)) -> 0 | AE27: =IF(SUM(N27:O27)=SUM(AC27:AD27),"OK","검토") -> OK | AG27: =IF(AI27="","",IF(W27="도비","세입없음",CONCATENATE(AI27,"-",COUNTIF($AI$7:AI27,AI27)))) | AI27: {=IF(C27="","",INDEX(구분표!$I$2:$I$311, MATCH(1,(구분표!$E$2:$E$311='2추일입'!B27)*(구분표!$F$2:$F$311='2추일입'!C27)*(구분표!$G$2:$G$311='2추일입'!A27),0)))} | AM27: =IF(AG27="",0,SUMIFS('2추일출'!$Z$6:$Z$59,'2추일출'!$AI$6:$AI$59,'2추일입'!$AG27)) -> 0 | AN27: =IF(AG27="","",COUNTIFS('2추일출'!$AI$6:$AI$59,'2추일입'!AG27)) | AO27: =IF(X27=AM27,"OK","@@") -> OK | AQ27: =IF(AG27="",0,SUMIFS('2추일출'!$AE$6:$AE$59,'2추일출'!$AI$6:$AI$59,'2추일입'!$AG27)) -> 0 | AR27: =IF(AG27="","",COUNTIFS('2추일출'!$AI$6:$AI$59,AG27)) | AS27: =IF(AC27=AQ27,"OK","@@") -> OK
J28: =IF(D28="","",H28-I28) | M28: =H28+K28+L28 -> 0 | P28: =H28+N28+O28 -> 0 | Q28: =IF(AND((M28=0),(P28>0)),"O",IF(AND((K28<0),(M28-P28<0)),"O","X")) -> X | X28: =IF($W28<>"도비",IF($U28="국도비","직접입력",SUM($K28:$L28)),) -> 0 | Y28: =IF($W28="도비",SUM($K28:$L28),IF($U28="국도비","직접입력",SUM($K28:$L28)-$X28)) -> 0 | Z28: =IF(SUM($K28:$L28)=SUM($X28:$Y28),"OK","검토") -> OK | AC28: =IF($W28<>"도비",IF($U28="국도비","직접입력",SUM($N28:$O28)),) -> 0 | AD28: =IF($W28="도비",SUM(N28:O28),IF($U28="국도비","직접입력",SUM(N28:O28)-AC28)) -> 0 | AE28: =IF(SUM(N28:O28)=SUM(AC28:AD28),"OK","검토") -> OK | AG28: =IF(AI28="","",IF(W28="도비","세입없음",CONCATENATE(AI28,"-",COUNTIF($AI$7:AI28,AI28)))) | AI28: {=IF(C28="","",INDEX(구분표!$I$2:$I$311, MATCH(1,(구분표!$E$2:$E$311='2추일입'!B28)*(구분표!$F$2:$F$311='2추일입'!C28)*(구분표!$G$2:$G$311='2추일입'!A28),0)))} | AM28: =IF(AG28="",0,SUMIFS('2추일출'!$Z$6:$Z$59,'2추일출'!$AI$6:$AI$59,'2추일입'!$AG28)) -> 0 | AN28: =IF(AG28="","",COUNTIFS('2추일출'!$AI$6:$AI$59,'2추일입'!AG28)) | AO28: =IF(X28=AM28,"OK","@@") -> OK | AQ28: =IF(AG28="",0,SUMIFS('2추일출'!$AE$6:$AE$59,'2추일출'!$AI$6:$AI$59,'2추일입'!$AG28)) -> 0 | AR28: =IF(AG28="","",COUNTIFS('2추일출'!$AI$6:$AI$59,AG28)) | AS28: =IF(AC28=AQ28,"OK","@@") -> OK
J29: =IF(D29="","",H29-I29) | M29: =H29+K29+L29 -> 0 | P29: =H29+N29+O29 -> 0 | Q29: =IF(AND((M29=0),(P29>0)),"O",IF(AND((K29<0),(M29-P29<0)),"O","X")) -> X | X29: =IF($W29<>"도비",IF($U29="국도비","직접입력",SUM($K29:$L29)),) -> 0 | Y29: =IF($W29="도비",SUM($K29:$L29),IF($U29="국도비","직접입력",SUM($K29:$L29)-$X29)) -> 0 | Z29: =IF(SUM($K29:$L29)=SUM($X29:$Y29),"OK","검토") -> OK | AC29: =IF($W29<>"도비",IF($U29="국도비","직접입력",SUM($N29:$O29)),) -> 0 | AD29: =IF($W29="도비",SUM(N29:O29),IF($U29="국도비","직접입력",SUM(N29:O29)-AC29)) -> 0 | AE29: =IF(SUM(N29:O29)=SUM(AC29:AD29),"OK","검토") -> OK | AG29: =IF(AI29="","",IF(W29="도비","세입없음",CONCATENATE(AI29,"-",COUNTIF($AI$7:AI29,AI29)))) | AI29: {=IF(C29="","",INDEX(구분표!$I$2:$I$311, MATCH(1,(구분표!$E$2:$E$311='2추일입'!B29)*(구분표!$F$2:$F$311='2추일입'!C29)*(구분표!$G$2:$G$311='2추일입'!A29),0)))} | AM29: =IF(AG29="",0,SUMIFS('2추일출'!$Z$6:$Z$59,'2추일출'!$AI$6:$AI$59,'2추일입'!$AG29)) -> 0 | AN29: =IF(AG29="","",COUNTIFS('2추일출'!$AI$6:$AI$59,'2추일입'!AG29)) | AO29: =IF(X29=AM29,"OK","@@") -> OK | AQ29: =IF(AG29="",0,SUMIFS('2추일출'!$AE$6:$AE$59,'2추일출'!$AI$6:$AI$59,'2추일입'!$AG29)) -> 0 | AR29: =IF(AG29="","",COUNTIFS('2추일출'!$AI$6:$AI$59,AG29)) | AS29: =IF(AC29=AQ29,"OK","@@") -> OK
J30: =IF(D30="","",H30-I30) | M30: =H30+K30+L30 -> 0 | P30: =H30+N30+O30 -> 0 | Q30: =IF(AND((M30=0),(P30>0)),"O",IF(AND((K30<0),(M30-P30<0)),"O","X")) -> X | X30: =IF($W30<>"도비",IF($U30="국도비","직접입력",SUM($K30:$L30)),) -> 0 | Y30: =IF($W30="도비",SUM($K30:$L30),IF($U30="국도비","직접입력",SUM($K30:$L30)-$X30)) -> 0 | Z30: =IF(SUM($K30:$L30)=SUM($X30:$Y30),"OK","검토") -> OK | AC30: =IF($W30<>"도비",IF($U30="국도비","직접입력",SUM($N30:$O30)),) -> 0 | AD30: =IF($W30="도비",SUM(N30:O30),IF($U30="국도비","직접입력",SUM(N30:O30)-AC30)) -> 0 | AE30: =IF(SUM(N30:O30)=SUM(AC30:AD30),"OK","검토") -> OK | AG30: =IF(AI30="","",IF(W30="도비","세입없음",CONCATENATE(AI30,"-",COUNTIF($AI$7:AI30,AI30)))) | AI30: {=IF(C30="","",INDEX(구분표!$I$2:$I$311, MATCH(1,(구분표!$E$2:$E$311='2추일입'!B30)*(구분표!$F$2:$F$311='2추일입'!C30)*(구분표!$G$2:$G$311='2추일입'!A30),0)))} | AM30: =IF(AG30="",0,SUMIFS('2추일출'!$Z$6:$Z$59,'2추일출'!$AI$6:$AI$59,'2추일입'!$AG30)) -> 0 | AN30: =IF(AG30="","",COUNTIFS('2추일출'!$AI$6:$AI$59,'2추일입'!AG30)) | AO30: =IF(X30=AM30,"OK","@@") -> OK | AQ30: =IF(AG30="",0,SUMIFS('2추일출'!$AE$6:$AE$59,'2추일출'!$AI$6:$AI$59,'2추일입'!$AG30)) -> 0 | AR30: =IF(AG30="","",COUNTIFS('2추일출'!$AI$6:$AI$59,AG30)) | AS30: =IF(AC30=AQ30,"OK","@@") -> OK
J31: =IF(D31="","",H31-I31) | M31: =H31+K31+L31 -> 0 | P31: =H31+N31+O31 -> 0 | Q31: =IF(AND((M31=0),(P31>0)),"O",IF(AND((K31<0),(M31-P31<0)),"O","X")) -> X | X31: =IF($W31<>"도비",IF($U31="국도비","직접입력",SUM($K31:$L31)),) -> 0 | Y31: =IF($W31="도비",SUM($K31:$L31),IF($U31="국도비","직접입력",SUM($K31:$L31)-$X31)) -> 0 | Z31: =IF(SUM($K31:$L31)=SUM($X31:$Y31),"OK","검토") -> OK | AC31: =IF($W31<>"도비",IF($U31="국도비","직접입력",SUM($N31:$O31)),) -> 0 | AD31: =IF($W31="도비",SUM(N31:O31),IF($U31="국도비","직접입력",SUM(N31:O31)-AC31)) -> 0 | AE31: =IF(SUM(N31:O31)=SUM(AC31:AD31),"OK","검토") -> OK | AG31: =IF(AI31="","",IF(W31="도비","세입없음",CONCATENATE(AI31,"-",COUNTIF($AI$7:AI31,AI31)))) | AI31: {=IF(C31="","",INDEX(구분표!$I$2:$I$311, MATCH(1,(구분표!$E$2:$E$311='2추일입'!B31)*(구분표!$F$2:$F$311='2추일입'!C31)*(구분표!$G$2:$G$311='2추일입'!A31),0)))} | AM31: =IF(AG31="",0,SUMIFS('2추일출'!$Z$6:$Z$59,'2추일출'!$AI$6:$AI$59,'2추일입'!$AG31)) -> 0 | AN31: =IF(AG31="","",COUNTIFS('2추일출'!$AI$6:$AI$59,'2추일입'!AG31)) | AO31: =IF(X31=AM31,"OK","@@") -> OK | AQ31: =IF(AG31="",0,SUMIFS('2추일출'!$AE$6:$AE$59,'2추일출'!$AI$6:$AI$59,'2추일입'!$AG31)) -> 0 | AR31: =IF(AG31="","",COUNTIFS('2추일출'!$AI$6:$AI$59,AG31)) | AS31: =IF(AC31=AQ31,"OK","@@") -> OK
... J72: =IF(D72="","",H72-I72) | M72: =H72+K72+L72 -> 0 | P72: =H72+N72+O72 -> 0 | Q72: =IF(AND((M72=0),(P72>0)),"O",IF(AND((K72<0),(M72-P72<0)),"O","X")) -> X | X72: =IF($W72<>"도비",IF($U72="국도비","직접입력",SUM($K72:$L72)),) -> 0 | Y72: =IF($W72="도비",SUM($K72:$L72),IF($U72="국도비","직접입력",SUM($K72:$L72)-$X72)) -> 0 | Z72: =IF(SUM($K72:$L72)=SUM($X72:$Y72),"OK","검토") -> OK | AC72: =IF($W72<>"도비",IF($U72="국도비","직접입력",SUM($N72:$O72)),) -> 0 | AD72: =IF($W72="도비",SUM(N72:O72),IF($U72="국도비","직접입력",SUM(N72:O72)-AC72)) -> 0 | AE72: =IF(SUM(N72:O72)=SUM(AC72:AD72),"OK","검토") -> OK | AG72: =IF(AI72="","",IF(W72="도비","세입없음",CONCATENATE(AI72,"-",COUNTIF($AI$7:AI72,AI72)))) | AI72: {=IF(C72="","",INDEX(구분표!$I$2:$I$311, MATCH(1,(구분표!$E$2:$E$311='2추일입'!B72)*(구분표!$F$2:$F$311='2추일입'!C72)*(구분표!$G$2:$G$311='2추일입'!A72),0)))} | AM72: =IF(AG72="",0,SUMIFS('2추일출'!$Z$6:$Z$59,'2추일출'!$AI$6:$AI$59,'2추일입'!$AG72)) -> 0 | AN72: =IF(AG72="","",COUNTIFS('2추일출'!$AI$6:$AI$59,'2추일입'!AG72)) | AO72: =IF(X72=AM72,"OK","@@") -> OK | AQ72: =IF(AG72="",0,SUMIFS('2추일출'!$AE$6:$AE$59,'2추일출'!$AI$6:$AI$59,'2추일입'!$AG72)) -> 0 | AR72: =IF(AG72="","",COUNTIFS('2추일출'!$AI$6:$AI$59,AG72)) | AS72: =IF(AC72=AQ72,"OK","@@") -> OK

Sheet 2추일출
B1: 2017년도 제2회 추가경정 경기도 일반회계 세출 예산 조정(안)
B2: □ 세출예산 | Q2: =R2-'2추일입'!P2 -> 60000 | R2: =R6-L6 -> 60000 | Z2: 세입=세출 | AE2: 세입=세출
L3: =SUM(L7:L191)/2 -> -10000 | M3: =SUM(M7:M191)/2 -> 0 | N3: =SUM(N7:N191)/2 -> 11510000 | O3: =SUM(O7:O191)/2 -> 11560000 | P3: =SUM(P7:P191)/2 -> 0 | Q3: =SUM(Q7:Q191)/2 -> 0 | R3: =SUM(R7:R191)/2 -> 50000 | V3: (단위 : 천원) | Z3: =IF(Z6='2추일입'!X6,"OK","@@") -> OK | AA3: =M6+N6-Z6-AA6 -> 0 | AB3: =IF(COUNTIF(AB6:AB59,"검토")>0,"@@","OK") -> OK | AE3: =IF(AE6='2추일입'!AC6,"OK","@@") -> OK | AF3: =P6+Q6-AE6-AF6 -> 0 | AG3: =IF(COUNTIF(AG6:AG59,"검토")>0,"@@","OK") -> OK
A4: 번호 | B4: 위원회명 | C4: 실국명 | D4: 부서명 | E4: 편성 구분 | F4: 연정 구분 | G4: 예산안 페이지 | H4: 사업설명서페이지 | I4: 세부사업명 및 부기명 | J4: 제2회 추경 예산안 (가) | K4: 기정액 (나) | L4: 제2회 추경 증감액 (다=가-나) | M4: 상임위 예산안 조정액(라) | O4: 상임위 조정 예산안 (마=가+라) | P4: 예결위 예산안 조정액(사) | R4: 예결위 조정 예산안 (아=가+사) | S4: 동의 대상 | T4: 상임위 변경사유 (심의 참고자료) | U4: 비고 (상임위 부대의견) | V4: 비고 (예결위 부대의견) | W4: 국도비 등 여부 | Y4: 재원 | Z4: 상임위 재원별 증감액 | AD4: 재원 | AE4: 예결위 재원별 증감액 | AI4: 세입번호 | AK4: 동일 세입 건수 | AL4: 세출 번호 검증 | AN4: 실국부서 코드 | AP4: 추가 내시 등
M5: 감액 | N5: 증액 | P5: 감액 | Q5: 증액 | Z5: 국비 등 | AA5: 도비 | AB5: 검증 | AE5: 국비 등 | AF5: 도비 | AG5: 검증
B6: 합 계 | J6: =SUBTOTAL(9,J7:J59) -> 50000 | K6: =SUBTOTAL(9,K7:K59) -> 60000 | L6: =SUBTOTAL(9,L7:L59) -> -10000 | M6: =SUBTOTAL(9,M7:M59) -> 0 | N6: =SUBTOTAL(9,N7:N59) -> 11510000 | O6: =SUBTOTAL(9,O7:O59) -> 11560000 | P6: =SUBTOTAL(9,P7:P59) -> 0 | Q6: =SUBTOTAL(9,Q7:Q59) -> 0 | R6: =SUBTOTAL(9,R7:R59) -> 50000 | Z6: =SUBTOTAL(9,Z7:Z59) -> 0 | AA6: =SUBTOTAL(9,AA7:AA59) -> 11510000 | AB6: =IF(SUM($M6:$N6)=SUM($Z6:$AA6),"OK","검토") -> OK | AE6: =SUBTOTAL(9,AE7:AE59) -> 0 | AF6: =SUBTOTAL(9,AF7:AF59) -> 0 | AG6: =IF(SUM(P6:Q6)=SUM(AE6:AF6),"OK","검토") -> OK
B7: (도시환경위원회) | J7: =SUBTOTAL(9,J8:J29) -> 50000 | K7: =SUBTOTAL(9,K8:K29) -> 60000 | L7: =SUBTOTAL(9,L8:L29) -> -10000 | M7: =SUBTOTAL(9,M8:M29) -> 0 | N7: =SUBTOTAL(9,N8:N29) -> 11510000 | O7: =SUBTOTAL(9,O8:O29) -> 11560000 | P7: =SUBTOTAL(9,P8:P29) -> 0 | Q7: =SUBTOTAL(9,Q8:Q29) -> 0 | R7: =SUBTOTAL(9,R8:R29) -> 50000
A8: =COUNTA($C$7:C8)-COUNTBLANK($C$7:C8)+8 -> 8 | B8: 도시환경위원회 | C8: 도시주택실 | D8: 도시재생과 | E8: 신규 | F8: 연정 | I8: 도시재생특별회계 전출금 - 도시재생특별회계 전출금 | L8: =J8-K8 -> 0 | N8: 10000000 | O8: =J8+M8+N8 -> 10000000 | R8: =J8+P8+Q8 -> 0 | S8: =IF(AND((O8=0),(R8>0)),"O",IF(AND((M8<0),(O8-R8<0)),"O","X")) -> X | U8: 구도심 낙후지역 도시재생사업 지원 | Z8: 0 | AA8: =IF($Y8="도비",SUM($M8:$N8),IF($W8="국도비","직접입력",SUM($M8:$N8)-$Z8)) -> 10000000 | AB8: =IF(SUM($M8:$N8)=SUM($Z8:$AA8),"OK","검토") -> OK | AE8: =IF($Y8<>"도비",IF($W8="국도비","직접입력",SUM($P8:$Q8)),) -> 0 | AF8: =IF($Y8="도비",SUM(P8:Q8),IF($W8="국도비","직접입력",SUM(P8:Q8)-AE8)) -> 0 | AG8: =IF(SUM(P8:Q8)=SUM(AE8:AF8),"OK","검토") -> OK | AK8: =IF(AI8="","",COUNTIF($AI$7:$AI$59,AI8)) | AL8: =IF(Y8="","",IF(AND(Y8="도비",AI8="세입없음"),"OK",IF(AND(Y8<>"도비",AI8<>""),"OK","@@"))) | AN8: {=IF(D8="","",INDEX(구분표!$I$2:$I$311, MATCH(1,(구분표!$E$2:$E$311='2추일출'!C8)*(구분표!$F$2:$F$311='2추일출'!D8)*(구분표!$G$2:$G$311='2추일출'!B8),0)))} -> 10510
A9: =COUNTA($C$7:C9)-COUNTBLANK($C$7:C9)+8 -> 9 | B9: 도시환경위원회 | C9: 축산산림국 | D9: 공원녹지과 | E9: 신규 | F9: 연정 | I9: 경기아이누리놀이터 조성(자체/지원) - 경기아이누리놀이터 조성 | L9: =J9-K9 -> 0 | N9: 1500000 | O9: =J9+M9+N9 -> 1500000 | R9: =J9+P9+Q9 -> 0 | S9: =IF(AND((O9=0),(R9>0)),"O",IF(AND((M9<0),(O9-R9<0)),"O","X")) -> X | U9: 연정과제인 도시공원 등 생태숲 조성 | Z9: 0 | AA9: 1500000 | AB9: =IF(SUM($M9:$N9)=SUM($Z9:$AA9),"OK","검토") -> OK | AE9: =IF($Y9<>"도비",IF($W9="국도비","직접입력",SUM($P9:$Q9)),) -> 0 | AF9: =IF($Y9="도비",SUM(P9:Q9),IF($W9="국도비","직접입력",SUM(P9:Q9)-AE9)) -> 0 | AG9: =IF(SUM(P9:Q9)=SUM(AE9:AF9),"OK","검토") -> OK | AK9: =IF(AI9="","",COUNTIF($AI$7:$AI$59,AI9)) | AL9: =IF(Y9="","",IF(AND(Y9="도비",AI9="세입없음"),"OK",IF(AND(Y9<>"도비",AI9<>""),"OK","@@"))) | AN9: {=IF(D9="","",INDEX(구분표!$I$2:$I$311, MATCH(1,(구분표!$E$2:$E$311='2추일출'!C9)*(구분표!$F$2:$F$311='2추일출'!D9)*(구분표!$G$2:$G$311='2추일출'!B9),0)))} -> 20404
A10: =COUNTA($C$7:C10)-COUNTBLANK($C$7:C10)+8 -> 10 | B10: 도시환경위원회 | C10: 수자원본부 | D10: 수질정책과 | E10: 2회추경 | F10: 일반 | G10: 670 | H10: 30 | I10: 팔당지역관리(자체/직접) - 미래세대를 위한 물환경교육실시 | J10: 50000 | K10: 60000 | L10: =J10-K10 -> -10000 | N10: 10000 | O10: =J10+M10+N10 -> 60000 | R10: =J10+P10+Q10 -> 50000 | S10: =IF(AND((O10=0),(R10>0)),"O",IF(AND((M10<0),(O10-R10<0)),"O","X")) -> X | U10: 체계적이고 원활한 물환경교육을 위하여 반영 | Z10: 0 | AA10: 10000 | AB10: =IF(SUM($M10:$N10)=SUM($Z10:$AA10),"OK","검토") -> OK | AE10: =IF($Y10<>"도비",IF($W10="국도비","직접입력",SUM($P10:$Q10)),) -> 0 | AF10: =IF($Y10="도비",SUM(P10:Q10),IF($W10="국도비","직접입력",SUM(P10:Q10)-AE10)) -> 0 | AG10: =IF(SUM(P10:Q10)=SUM(AE10:AF10),"OK","검토") -> OK | AK10: =IF(AI10="","",COUNTIF($AI$7:$AI$59,AI10)) | AL10: =IF(Y10="","",IF(AND(Y10="도비",AI10="세입없음"),"OK",IF(AND(Y10<>"도비",AI10<>""),"OK","@@"))) | AN10: {=IF(D10="","",INDEX(구분표!$I$2:$I$311, MATCH(1,(구분표!$E$2:$E$311='2추일출'!C10)*(구분표!$F$2:$F$311='2추일출'!D10)*(구분표!$G$2:$G$311='2추일출'!B10),0)))} -> 50601
A11: =COUNTA($C$7:C11)-COUNTBLANK($C$7:C11)+8 -> 10 | B11: =IF(C11="","",MID($B$7,2,7)) | C11: =IF(D11="","",VLOOKUP(D11,구분표!$A$3:$C$215,3,)) | L11: =J11-K11 -> 0 | O11: =J11+M11+N11 -> 0 | R11: =J11+P11+Q11 -> 0 | S11: =IF(AND((O11=0),(R11>0)),"O",IF(AND((M11<0),(O11-R11<0)),"O","X")) -> X | Z11: =IF($Y11<>"도비",IF($W11="국도비","직접입력",SUM($M11:$N11)),) -> 0 | AA11: =IF($Y11="도비",SUM($M11:$N11),IF($W11="국도비","직접입력",SUM($M11:$N11)-$Z11)) -> 0 | AB11: =IF(SUM($M11:$N11)=SUM($Z11:$AA11),"OK","검토") -> OK | AE11: =IF($Y11<>"도비",IF($W11="국도비","직접입력",SUM($P11:$Q11)),) -> 0 | AF11: =IF($Y11="도비",SUM(P11:Q11),IF($W11="국도비","직접입력",SUM(P11:Q11)-AE11)) -> 0 | AG11: =IF(SUM(P11:Q11)=SUM(AE11:AF11),"OK","검토") -> OK | AK11: =IF(AI11="","",COUNTIF($AI$7:$AI$59,AI11)) | AL11: =IF(Y11="","",IF(AND(Y11="도비",AI11="세입없음"),"OK",IF(AND(Y11<>"도비",AI11<>""),"OK","@@"))) | AN11: {=IF(D11="","",INDEX(구분표!$I$2:$I$311, MATCH(1,(구분표!$E$2:$E$311='2추일출'!C11)*(구분표!$F$2:$F$311='2추일출'!D11)*(구분표!$G$2:$G$311='2추일출'!B11),0)))}
A12: =COUNTA($C$7:C12)-COUNTBLANK($C$7:C12)+8 -> 10 | B12: =IF(C12="","",MID($B$7,2,7)) | C12: =IF(D12="","",VLOOKUP(D12,구분표!$A$3:$C$215,3,)) | L12: =J12-K12 -> 0 | O12: =J12+M12+N12 -> 0 | R12: =J12+P12+Q12 -> 0 | S12: =IF(AND((O12=0),(R12>0)),"O",IF(AND((M12<0),(O12-R12<0)),"O","X")) -> X | Z12: =IF($Y12<>"도비",IF($W12="국도비","직접입력",SUM($M12:$N12)),) -> 0 | AA12: =IF($Y12="도비",SUM($M12:$N12),IF($W12="국도비","직접입력",SUM($M12:$N12)-$Z12)) -> 0 | AB12: =IF(SUM($M12:$N12)=SUM($Z12:$AA12),"OK","검토") -> OK | AE12: =IF($Y12<>"도비",IF($W12="국도비","직접입력",SUM($P12:$Q12)),) -> 0 | AF12: =IF($Y12="도비",SUM(P12:Q12),IF($W12="국도비","직접입력",SUM(P12:Q12)-AE12)) -> 0 | AG12: =IF(SUM(P12:Q12)=SUM(AE12:AF12),"OK","검토") -> OK | AK12: =IF(AI12="","",COUNTIF($AI$7:$AI$59,AI12)) | AL12: =IF(Y12="","",IF(AND(Y12="도비",AI12="세입없음"),"OK",IF(AND(Y12<>"도비",AI12<>""),"OK","@@"))) | AN12: {=IF(D12="","",INDEX(구분표!$I$2:$I$311, MATCH(1,(구분표!$E$2:$E$311='2추일출'!C12)*(구분표!$F$2:$F$311='2추일출'!D12)*(구분표!$G$2:$G$311='2추일출'!B12),0)))}
A13: =COUNTA($C$7:C13)-COUNTBLANK($C$7:C13)+8 -> 10 | B13: =IF(C13="","",MID($B$7,2,7)) | C13: =IF(D13="","",VLOOKUP(D13,구분표!$A$3:$C$215,3,)) | L13: =J13-K13 -> 0 | O13: =J13+M13+N13 -> 0 | R13: =J13+P13+Q13 -> 0 | S13: =IF(AND((O13=0),(R13>0)),"O",IF(AND((M13<0),(O13-R13<0)),"O","X")) -> X | Z13: =IF($Y13<>"도비",IF($W13="국도비","직접입력",SUM($M13:$N13)),) -> 0 | AA13: =IF($Y13="도비",SUM($M13:$N13),IF($W13="국도비","직접입력",SUM($M13:$N13)-$Z13)) -> 0 | AB13: =IF(SUM($M13:$N13)=SUM($Z13:$AA13),"OK","검토") -> OK | AE13: =IF($Y13<>"도비",IF($W13="국도비","직접입력",SUM($P13:$Q13)),) -> 0 | AF13: =IF($Y13="도비",SUM(P13:Q13),IF($W13="국도비","직접입력",SUM(P13:Q13)-AE13)) -> 0 | AG13: =IF(SUM(P13:Q13)=SUM(AE13:AF13),"OK","검토") -> OK | AK13: =IF(AI13="","",COUNTIF($AI$7:$AI$59,AI13)) | AL13: =IF(Y13="","",IF(AND(Y13="도비",AI13="세입없음"),"OK",IF(AND(Y13<>"도비",AI13<>""),"OK","@@"))) | AN13: {=IF(D13="","",INDEX(구분표!$I$2:$I$311, MATCH(1,(구분표!$E$2:$E$311='2추일출'!C13)*(구분표!$F$2:$F$311='2추일출'!D13)*(구분표!$G$2:$G$311='2추일출'!B13),0)))}
A14: =COUNTA($C$7:C14)-COUNTBLANK($C$7:C14)+8 -> 10 | B14: =IF(C14="","",MID($B$7,2,7)) | C14: =IF(D14="","",VLOOKUP(D14,구분표!$A$3:$C$215,3,)) | L14: =J14-K14 -> 0 | O14: =J14+M14+N14 -> 0 | R14: =J14+P14+Q14 -> 0 | S14: =IF(AND((O14=0),(R14>0)),"O",IF(AND((M14<0),(O14-R14<0)),"O","X")) -> X | Z14: =IF($Y14<>"도비",IF($W14="국도비","직접입력",SUM($M14:$N14)),) -> 0 | AA14: =IF($Y14="도비",SUM($M14:$N14),IF($W14="국도비","직접입력",SUM($M14:$N14)-$Z14)) -> 0 | AB14: =IF(SUM($M14:$N14)=SUM($Z14:$AA14),"OK","검토") -> OK | AE14: =IF($Y14<>"도비",IF($W14="국도비","직접입력",SUM($P14:$Q14)),) -> 0 | AF14: =IF($Y14="도비",SUM(P14:Q14),IF($W14="국도비","직접입력",SUM(P14:Q14)-AE14)) -> 0 | AG14: =IF(SUM(P14:Q14)=SUM(AE14:AF14),"OK","검토") -> OK | AK14: =IF(AI14="","",COUNTIF($AI$7:$AI$59,AI14)) | AL14: =IF(Y14="","",IF(AND(Y14="도비",AI14="세입없음"),"OK",IF(AND(Y14<>"도비",AI14<>""),"OK","@@"))) | AN14: {=IF(D14="","",INDEX(구분표!$I$2:$I$311, MATCH(1,(구분표!$E$2:$E$311='2추일출'!C14)*(구분표!$F$2:$F$311='2추일출'!D14)*(구분표!$G$2:$G$311='2추일출'!B14),0)))}
A15: =COUNTA($C$7:C15)-COUNTBLANK($C$7:C15)+8 -> 10 | B15: =IF(C15="","",MID($B$7,2,7)) | C15: =IF(D15="","",VLOOKUP(D15,구분표!$A$3:$C$215,3,)) | L15: =J15-K15 -> 0 | O15: =J15+M15+N15 -> 0 | R15: =J15+P15+Q15 -> 0 | S15: =IF(AND((O15=0),(R15>0)),"O",IF(AND((M15<0),(O15-R15<0)),"O","X")) -> X | Z15: =IF($Y15<>"도비",IF($W15="국도비","직접입력",SUM($M15:$N15)),) -> 0 | AA15: =IF($Y15="도비",SUM($M15:$N15),IF($W15="국도비","직접입력",SUM($M15:$N15)-$Z15)) -> 0 | AB15: =IF(SUM($M15:$N15)=SUM($Z15:$AA15),"OK","검토") -> OK | AE15: =IF($Y15<>"도비",IF($W15="국도비","직접입력",SUM($P15:$Q15)),) -> 0 | AF15: =IF($Y15="도비",SUM(P15:Q15),IF($W15="국도비","직접입력",SUM(P15:Q15)-AE15)) -> 0 | AG15: =IF(SUM(P15:Q15)=SUM(AE15:AF15),"OK","검토") -> OK | AK15: =IF(AI15="","",COUNTIF($AI$7:$AI$59,AI15)) | AL15: =IF(Y15="","",IF(AND(Y15="도비",AI15="세입없음"),"OK",IF(AND(Y15<>"도비",AI15<>""),"OK","@@"))) | AN15: {=IF(D15="","",INDEX(구분표!$I$2:$I$311, MATCH(1,(구분표!$E$2:$E$311='2추일출'!C15)*(구분표!$F$2:$F$311='2추일출'!D15)*(구분표!$G$2:$G$311='2추일출'!B15),0)))}
A16: =COUNTA($C$7:C16)-COUNTBLANK($C$7:C16)+8 -> 10 | B16: =IF(C16="","",MID($B$7,2,7)) | C16: =IF(D16="","",VLOOKUP(D16,구분표!$A$3:$C$215,3,)) | L16: =J16-K16 -> 0 | O16: =J16+M16+N16 -> 0 | R16: =J16+P16+Q16 -> 0 | S16: =IF(AND((O16=0),(R16>0)),"O",IF(AND((M16<0),(O16-R16<0)),"O","X")) -> X | Z16: =IF($Y16<>"도비",IF($W16="국도비","직접입력",SUM($M16:$N16)),) -> 0 | AA16: =IF($Y16="도비",SUM($M16:$N16),IF($W16="국도비","직접입력",SUM($M16:$N16)-$Z16)) -> 0 | AB16: =IF(SUM($M16:$N16)=SUM($Z16:$AA16),"OK","검토") -> OK | AE16: =IF($Y16<>"도비",IF($W16="국도비","직접입력",SUM($P16:$Q16)),) -> 0 | AF16: =IF($Y16="도비",SUM(P16:Q16),IF($W16="국도비","직접입력",SUM(P16:Q16)-AE16)) -> 0 | AG16: =IF(SUM(P16:Q16)=SUM(AE16:AF16),"OK","검토") -> OK | AK16: =IF(AI16="","",COUNTIF($AI$7:$AI$59,AI16)) | AL16: =IF(Y16="","",IF(AND(Y16="도비",AI16="세입없음"),"OK",IF(AND(Y16<>"도비",AI16<>""),"OK","@@"))) | AN16: {=IF(D16="","",INDEX(구분표!$I$2:$I$311, MATCH(1,(구분표!$E$2:$E$311='2추일출'!C16)*(구분표!$F$2:$F$311='2추일출'!D16)*(구분표!$G$2:$G$311='2추일출'!B16),0)))}
A17: =COUNTA($C$7:C17)-COUNTBLANK($C$7:C17)+8 -> 10 | B17: =IF(C17="","",MID($B$7,2,7)) | C17: =IF(D17="","",VLOOKUP(D17,구분표!$A$3:$C$215,3,)) | L17: =J17-K17 -> 0 | O17: =J17+M17+N17 -> 0 | R17: =J17+P17+Q17 -> 0 | S17: =IF(AND((O17=0),(R17>0)),"O",IF(AND((M17<0),(O17-R17<0)),"O","X")) -> X | Z17: =IF($Y17<>"도비",IF($W17="국도비","직접입력",SUM($M17:$N17)),) -> 0 | AA17: =IF($Y17="도비",SUM($M17:$N17),IF($W17="국도비","직접입력",SUM($M17:$N17)-$Z17)) -> 0 | AB17: =IF(SUM($M17:$N17)=SUM($Z17:$AA17),"OK","검토") -> OK | AE17: =IF($Y17<>"도비",IF($W17="국도비","직접입력",SUM($P17:$Q17)),) -> 0 | AF17: =IF($Y17="도비",SUM(P17:Q17),IF($W17="국도비","직접입력",SUM(P17:Q17)-AE17)) -> 0 | AG17: =IF(SUM(P17:Q17)=SUM(AE17:AF17),"OK","검토") -> OK | AK17: =IF(AI17="","",COUNTIF($AI$7:$AI$59,AI17)) | AL17: =IF(Y17="","",IF(AND(Y17="도비",AI17="세입없음"),"OK",IF(AND(Y17<>"도비",AI17<>""),"OK","@@"))) | AN17: {=IF(D17="","",INDEX(구분표!$I$2:$I$311, MATCH(1,(구분표!$E$2:$E$311='2추일출'!C17)*(구분표!$F$2:$F$311='2추일출'!D17)*(구분표!$G$2:$G$311='2추일출'!B17),0)))}
A18: =COUNTA($C$7:C18)-COUNTBLANK($C$7:C18)+8 -> 10 | B18: =IF(C18="","",MID($B$7,2,7)) | C18: =IF(D18="","",VLOOKUP(D18,구분표!$A$3:$C$215,3,)) | L18: =J18-K18 -> 0 | O18: =J18+M18+N18 -> 0 | R18: =J18+P18+Q18 -> 0 | S18: =IF(AND((O18=0),(R18>0)),"O",IF(AND((M18<0),(O18-R18<0)),"O","X")) -> X | Z18: =IF($Y18<>"도비",IF($W18="국도비","직접입력",SUM($M18:$N18)),) -> 0 | AA18: =IF($Y18="도비",SUM($M18:$N18),IF($W18="국도비","직접입력",SUM($M18:$N18)-$Z18)) -> 0 | AB18: =IF(SUM($M18:$N18)=SUM($Z18:$AA18),"OK","검토") -> OK | AE18: =IF($Y18<>"도비",IF($W18="국도비","직접입력",SUM($P18:$Q18)),) -> 0 | AF18: =IF($Y18="도비",SUM(P18:Q18),IF($W18="국도비","직접입력",SUM(P18:Q18)-AE18)) -> 0 | AG18: =IF(SUM(P18:Q18)=SUM(AE18:AF18),"OK","검토") -> OK | AK18: =IF(AI18="","",COUNTIF($AI$7:$AI$59,AI18)) | AL18: =IF(Y18="","",IF(AND(Y18="도비",AI18="세입없음"),"OK",IF(AND(Y18<>"도비",AI18<>""),"OK","@@"))) | AN18: {=IF(D18="","",INDEX(구분표!$I$2:$I$311, MATCH(1,(구분표!$E$2:$E$311='2추일출'!C18)*(구분표!$F$2:$F$311='2추일출'!D18)*(구분표!$G$2:$G$311='2추일출'!B18),0)))}
A19: =COUNTA($C$7:C19)-COUNTBLANK($C$7:C19)+8 -> 10 | B19: =IF(C19="","",MID($B$7,2,7)) | C19: =IF(D19="","",VLOOKUP(D19,구분표!$A$3:$C$215,3,)) | L19: =J19-K19 -> 0 | O19: =J19+M19+N19 -> 0 | R19: =J19+P19+Q19 -> 0 | S19: =IF(AND((O19=0),(R19>0)),"O",IF(AND((M19<0),(O19-R19<0)),"O","X")) -> X | Z19: =IF($Y19<>"도비",IF($W19="국도비","직접입력",SUM($M19:$N19)),) -> 0 | AA19: =IF($Y19="도비",SUM($M19:$N19),IF($W19="국도비","직접입력",SUM($M19:$N19)-$Z19)) -> 0 | AB19: =IF(SUM($M19:$N19)=SUM($Z19:$AA19),"OK","검토") -> OK | AE19: =IF($Y19<>"도비",IF($W19="국도비","직접입력",SUM($P19:$Q19)),) -> 0 | AF19: =IF($Y19="도비",SUM(P19:Q19),IF($W19="국도비","직접입력",SUM(P19:Q19)-AE19)) -> 0 | AG19: =IF(SUM(P19:Q19)=SUM(AE19:AF19),"OK","검토") -> OK | AK19: =IF(AI19="","",COUNTIF($AI$7:$AI$59,AI19)) | AL19: =IF(Y19="","",IF(AND(Y19="도비",AI19="세입없음"),"OK",IF(AND(Y19<>"도비",AI19<>""),"OK","@@"))) | AN19: {=IF(D19="","",INDEX(구분표!$I$2:$I$311, MATCH(1,(구분표!$E$2:$E$311='2추일출'!C19)*(구분표!$F$2:$F$311='2추일출'!D19)*(구분표!$G$2:$G$311='2추일출'!B19),0)))}
A20: =COUNTA($C$7:C20)-COUNTBLANK($C$7:C20)+8 -> 10 | B20: =IF(C20="","",MID($B$7,2,7)) | C20: =IF(D20="","",VLOOKUP(D20,구분표!$A$3:$C$215,3,)) | L20: =J20-K20 -> 0 | O20: =J20+M20+N20 -> 0 | R20: =J20+P20+Q20 -> 0 | S20: =IF(AND((O20=0),(R20>0)),"O",IF(AND((M20<0),(O20-R20<0)),"O","X")) -> X | Z20: =IF($Y20<>"도비",IF($W20="국도비","직접입력",SUM($M20:$N20)),) -> 0 | AA20: =IF($Y20="도비",SUM($M20:$N20),IF($W20="국도비","직접입력",SUM($M20:$N20)-$Z20)) -> 0 | AB20: =IF(SUM($M20:$N20)=SUM($Z20:$AA20),"OK","검토") -> OK | AE20: =IF($Y20<>"도비",IF($W20="국도비","직접입력",SUM($P20:$Q20)),) -> 0 | AF20: =IF($Y20="도비",SUM(P20:Q20),IF($W20="국도비","직접입력",SUM(P20:Q20)-AE20)) -> 0 | AG20: =IF(SUM(P20:Q20)=SUM(AE20:AF20),"OK","검토") -> OK | AK20: =IF(AI20="","",COUNTIF($AI$7:$AI$59,AI20)) | AL20: =IF(Y20="","",IF(AND(Y20="도비",AI20="세입없음"),"OK",IF(AND(Y20<>"도비",AI20<>""),"OK","@@"))) | AN20: {=IF(D20="","",INDEX(구분표!$I$2:$I$311, MATCH(1,(구분표!$E$2:$E$311='2추일출'!C20)*(구분표!$F$2:$F$311='2추일출'!D20)*(구분표!$G$2:$G$311='2추일출'!B20),0)))}
A21: =COUNTA($C$7:C21)-COUNTBLANK($C$7:C21)+8 -> 10 | B21: =IF(C21="","",MID($B$7,2,7)) | C21: =IF(D21="","",VLOOKUP(D21,구분표!$A$3:$C$215,3,)) | L21: =J21-K21 -> 0 | O21: =J21+M21+N21 -> 0 | R21: =J21+P21+Q21 -> 0 | S21: =IF(AND((O21=0),(R21>0)),"O",IF(AND((M21<0),(O21-R21<0)),"O","X")) -> X | Z21: =IF($Y21<>"도비",IF($W21="국도비","직접입력",SUM($M21:$N21)),) -> 0 | AA21: =IF($Y21="도비",SUM($M21:$N21),IF($W21="국도비","직접입력",SUM($M21:$N21)-$Z21)) -> 0 | AB21: =IF(SUM($M21:$N21)=SUM($Z21:$AA21),"OK","검토") -> OK | AE21: =IF($Y21<>"도비",IF($W21="국도비","직접입력",SUM($P21:$Q21)),) -> 0 | AF21: =IF($Y21="도비",SUM(P21:Q21),IF($W21="국도비","직접입력",SUM(P21:Q21)-AE21)) -> 0 | AG21: =IF(SUM(P21:Q21)=SUM(AE21:AF21),"OK","검토") -> OK | AK21: =IF(AI21="","",COUNTIF($AI$7:$AI$59,AI21)) | AL21: =IF(Y21="","",IF(AND(Y21="도비",AI21="세입없음"),"OK",IF(AND(Y21<>"도비",AI21<>""),"OK","@@"))) | AN21: {=IF(D21="","",INDEX(구분표!$I$2:$I$311, MATCH(1,(구분표!$E$2:$E$311='2추일출'!C21)*(구분표!$F$2:$F$311='2추일출'!D21)*(구분표!$G$2:$G$311='2추일출'!B21),0)))}
A22: =COUNTA($C$7:C22)-COUNTBLANK($C$7:C22)+8 -> 10 | B22: =IF(C22="","",MID($B$7,2,7)) | C22: =IF(D22="","",VLOOKUP(D22,구분표!$A$3:$C$215,3,)) | L22: =J22-K22 -> 0 | O22: =J22+M22+N22 -> 0 | R22: =J22+P22+Q22 -> 0 | S22: =IF(AND((O22=0),(R22>0)),"O",IF(AND((M22<0),(O22-R22<0)),"O","X")) -> X | Z22: =IF($Y22<>"도비",IF($W22="국도비","직접입력",SUM($M22:$N22)),) -> 0 | AA22: =IF($Y22="도비",SUM($M22:$N22),IF($W22="국도비","직접입력",SUM($M22:$N22)-$Z22)) -> 0 | AB22: =IF(SUM($M22:$N22)=SUM($Z22:$AA22),"OK","검토") -> OK | AE22: =IF($Y22<>"도비",IF($W22="국도비","직접입력",SUM($P22:$Q22)),) -> 0 | AF22: =IF($Y22="도비",SUM(P22:Q22),IF($W22="국도비","직접입력",SUM(P22:Q22)-AE22)) -> 0 | AG22: =IF(SUM(P22:Q22)=SUM(AE22:AF22),"OK","검토") -> OK | AK22: =IF(AI22="","",COUNTIF($AI$7:$AI$59,AI22)) | AL22: =IF(Y22="","",IF(AND(Y22="도비",AI22="세입없음"),"OK",IF(AND(Y22<>"도비",AI22<>""),"OK","@@"))) | AN22: {=IF(D22="","",INDEX(구분표!$I$2:$I$311, MATCH(1,(구분표!$E$2:$E$311='2추일출'!C22)*(구분표!$F$2:$F$311='2추일출'!D22)*(구분표!$G$2:$G$311='2추일출'!B22),0)))}
... A29: =COUNTA($C$7:C29)-COUNTBLANK($C$7:C29)+8 -> 10 | B29: =IF(C29="","",MID($B$7,2,7)) | C29: =IF(D29="","",VLOOKUP(D29,구분표!$A$3:$C$215,3,)) | L29: =J29-K29 -> 0 | O29: =J29+M29+N29 -> 0 | R29: =J29+P29+Q29 -> 0 | S29: =IF(AND((O29=0),(R29>0)),"O",IF(AND((M29<0),(O29-R29<0)),"O","X")) -> X | Z29: =IF($Y29<>"도비",IF($W29="국도비","직접입력",SUM($M29:$N29)),) -> 0 | AA29: =IF($Y29="도비",SUM($M29:$N29),IF($W29="국도비","직접입력",SUM($M29:$N29)-$Z29)) -> 0 | AB29: =IF(SUM($M29:$N29)=SUM($Z29:$AA29),"OK","검토") -> OK | AE29: =IF($Y29<>"도비",IF($W29="국도비","직접입력",SUM($P29:$Q29)),) -> 0 | AF29: =IF($Y29="도비",SUM(P29:Q29),IF($W29="국도비","직접입력",SUM(P29:Q29)-AE29)) -> 0 | AG29: =IF(SUM(P29:Q29)=SUM(AE29:AF29),"OK","검토") -> OK | AK29: =IF(AI29="","",COUNTIF($AI$7:$AI$59,AI29)) | AL29: =IF(Y29="","",IF(AND(Y29="도비",AI29="세입없음"),"OK",IF(AND(Y29<>"도비",AI29<>""),"OK","@@"))) | AN29: {=IF(D29="","",INDEX(구분표!$I$2:$I$311, MATCH(1,(구분표!$E$2:$E$311='2추일출'!C29)*(구분표!$F$2:$F$311='2추일출'!D29)*(구분표!$G$2:$G$311='2추일출'!B29),0)))}
B30: (여성가족교육협력위원회) | J30: =SUBTOTAL(9,J31:J59) -> 0 | K30: =SUBTOTAL(9,K31:K59) -> 0 | L30: =SUBTOTAL(9,L31:L59) -> 0 | M30: =SUBTOTAL(9,M31:M59) -> 0 | N30: =SUBTOTAL(9,N31:N59) -> 0 | O30: =SUBTOTAL(9,O31:O59) -> 0 | P30: =SUBTOTAL(9,P31:P59) -> 0 | Q30: =SUBTOTAL(9,Q31:Q59) -> 0 | R30: =SUBTOTAL(9,R31:R59) -> 0
A31: =COUNTA($C$7:C31)-COUNTBLANK($C$7:C31)+9 -> 10 | B31: =IF(C31="","",MID($B$30,2,11)) | C31: =IF(D31="","",VLOOKUP(D31,구분표!$A$3:$C$215,3,)) | L31: =J31-K31 -> 0 | O31: =J31+M31+N31 -> 0 | R31: =J31+P31+Q31 -> 0 | S31: =IF(AND((O31=0),(R31>0)),"O",IF(AND((M31<0),(O31-R31<0)),"O","X")) -> X | Z31: =IF($Y31<>"도비",IF($W31="국도비","직접입력",SUM($M31:$N31)),) -> 0 | AA31: =IF($Y31="도비",SUM($M31:$N31),IF($W31="국도비","직접입력",SUM($M31:$N31)-$Z31)) -> 0 | AB31: =IF(SUM($M31:$N31)=SUM($Z31:$AA31),"OK","검토") -> OK | AE31: =IF($Y31<>"도비",IF($W31="국도비","직접입력",SUM($P31:$Q31)),) -> 0 | AF31: =IF($Y31="도비",SUM(P31:Q31),IF($W31="국도비","직접입력",SUM(P31:Q31)-AE31)) -> 0 | AG31: =IF(SUM(P31:Q31)=SUM(AE31:AF31),"OK","검토") -> OK | AK31: =IF(AI31="","",COUNTIF($AI$7:$AI$59,AI31)) | AL31: =IF(Y31="","",IF(AND(Y31="도비",AI31="세입없음"),"OK",IF(AND(Y31<>"도비",AI31<>""),"OK","@@"))) | AN31: {=IF(D31="","",INDEX(구분표!$I$2:$I$311, MATCH(1,(구분표!$E$2:$E$311='2추일출'!C31)*(구분표!$F$2:$F$311='2추일출'!D31)*(구분표!$G$2:$G$311='2추일출'!B31),0)))}
A32: =COUNTA($C$7:C32)-COUNTBLANK($C$7:C32)+9 -> 10 | B32: =IF(C32="","",MID($B$30,2,11)) | C32: =IF(D32="","",VLOOKUP(D32,구분표!$A$3:$C$215,3,)) | L32: =J32-K32 -> 0 | O32: =J32+M32+N32 -> 0 | R32: =J32+P32+Q32 -> 0 | S32: =IF(AND((O32=0),(R32>0)),"O",IF(AND((M32<0),(O32-R32<0)),"O","X")) -> X | Z32: =IF($Y32<>"도비",IF($W32="국도비","직접입력",SUM($M32:$N32)),) -> 0 | AA32: =IF($Y32="도비",SUM($M32:$N32),IF($W32="국도비","직접입력",SUM($M32:$N32)-$Z32)) -> 0 | AB32: =IF(SUM($M32:$N32)=SUM($Z32:$AA32),"OK","검토") -> OK | AE32: =IF($Y32<>"도비",IF($W32="국도비","직접입력",SUM($P32:$Q32)),) -> 0 | AF32: =IF($Y32="도비",SUM(P32:Q32),IF($W32="국도비","직접입력",SUM(P32:Q32)-AE32)) -> 0 | AG32: =IF(SUM(P32:Q32)=SUM(AE32:AF32),"OK","검토") -> OK | AK32: =IF(AI32="","",COUNTIF($AI$7:$AI$59,AI32)) | AL32: =IF(Y32="","",IF(AND(Y32="도비",AI32="세입없음"),"OK",IF(AND(Y32<>"도비",AI32<>""),"OK","@@"))) | AN32: {=IF(D32="","",INDEX(구분표!$I$2:$I$311, MATCH(1,(구분표!$E$2:$E$311='2추일출'!C32)*(구분표!$F$2:$F$311='2추일출'!D32)*(구분표!$G$2:$G$311='2추일출'!B32),0)))}
A33: =COUNTA($C$7:C33)-COUNTBLANK($C$7:C33)+9 -> 10 | B33: =IF(C33="","",MID($B$30,2,11)) | C33: =IF(D33="","",VLOOKUP(D33,구분표!$A$3:$C$215,3,)) | L33: =J33-K33 -> 0 | O33: =J33+M33+N33 -> 0 | R33: =J33+P33+Q33 -> 0 | S33: =IF(AND((O33=0),(R33>0)),"O",IF(AND((M33<0),(O33-R33<0)),"O","X")) -> X | Z33: =IF($Y33<>"도비",IF($W33="국도비","직접입력",SUM($M33:$N33)),) -> 0 | AA33: =IF($Y33="도비",SUM($M33:$N33),IF($W33="국도비","직접입력",SUM($M33:$N33)-$Z33)) -> 0 | AB33: =IF(SUM($M33:$N33)=SUM($Z33:$AA33),"OK","검토") -> OK | AE33: =IF($Y33<>"도비",IF($W33="국도비","직접입력",SUM($P33:$Q33)),) -> 0 | AF33: =IF($Y33="도비",SUM(P33:Q33),IF($W33="국도비","직접입력",SUM(P33:Q33)-AE33)) -> 0 | AG33: =IF(SUM(P33:Q33)=SUM(AE33:AF33),"OK","검토") -> OK | AK33: =IF(AI33="","",COUNTIF($AI$7:$AI$59,AI33)) | AL33: =IF(Y33="","",IF(AND(Y33="도비",AI33="세입없음"),"OK",IF(AND(Y33<>"도비",AI33<>""),"OK","@@"))) | AN33: {=IF(D33="","",INDEX(구분표!$I$2:$I$311, MATCH(1,(구분표!$E$2:$E$311='2추일출'!C33)*(구분표!$F$2:$F$311='2추일출'!D33)*(구분표!$G$2:$G$311='2추일출'!B33),0)))}
A34: =COUNTA($C$7:C34)-COUNTBLANK($C$7:C34)+9 -> 10 | B34: =IF(C34="","",MID($B$30,2,11)) | C34: =IF(D34="","",VLOOKUP(D34,구분표!$A$3:$C$215,3,)) | L34: =J34-K34 -> 0 | O34: =J34+M34+N34 -> 0 | R34: =J34+P34+Q34 -> 0 | S34: =IF(AND((O34=0),(R34>0)),"O",IF(AND((M34<0),(O34-R34<0)),"O","X")) -> X | Z34: =IF($Y34<>"도비",IF($W34="국도비","직접입력",SUM($M34:$N34)),) -> 0 | AA34: =IF($Y34="도비",SUM($M34:$N34),IF($W34="국도비","직접입력",SUM($M34:$N34)-$Z34)) -> 0 | AB34: =IF(SUM($M34:$N34)=SUM($Z34:$AA34),"OK","검토") -> OK | AE34: =IF($Y34<>"도비",IF($W34="국도비","직접입력",SUM($P34:$Q34)),) -> 0 | AF34: =IF($Y34="도비",SUM(P34:Q34),IF($W34="국도비","직접입력",SUM(P34:Q34)-AE34)) -> 0 | AG34: =IF(SUM(P34:Q34)=SUM(AE34:AF34),"OK","검토") -> OK | AK34: =IF(AI34="","",COUNTIF($AI$7:$AI$59,AI34)) | AL34: =IF(Y34="","",IF(AND(Y34="도비",AI34="세입없음"),"OK",IF(AND(Y34<>"도비",AI34<>""),"OK","@@"))) | AN34: {=IF(D34="","",INDEX(구분표!$I$2:$I$311, MATCH(1,(구분표!$E$2:$E$311='2추일출'!C34)*(구분표!$F$2:$F$311='2추일출'!D34)*(구분표!$G$2:$G$311='2추일출'!B34),0)))}
A35: =COUNTA($C$7:C35)-COUNTBLANK($C$7:C35)+9 -> 10 | B35: =IF(C35="","",MID($B$30,2,11)) | C35: =IF(D35="","",VLOOKUP(D35,구분표!$A$3:$C$215,3,)) | L35: =J35-K35 -> 0 | O35: =J35+M35+N35 -> 0 | R35: =J35+P35+Q35 -> 0 | S35: =IF(AND((O35=0),(R35>0)),"O",IF(AND((M35<0),(O35-R35<0)),"O","X")) -> X | Z35: =IF($Y35<>"도비",IF($W35="국도비","직접입력",SUM($M35:$N35)),) -> 0 | AA35: =IF($Y35="도비",SUM($M35:$N35),IF($W35="국도비","직접입력",SUM($M35:$N35)-$Z35)) -> 0 | AB35: =IF(SUM($M35:$N35)=SUM($Z35:$AA35),"OK","검토") -> OK | AE35: =IF($Y35<>"도비",IF($W35="국도비","직접입력",SUM($P35:$Q35)),) -> 0 | AF35: =IF($Y35="도비",SUM(P35:Q35),IF($W35="국도비","직접입력",SUM(P35:Q35)-AE35)) -> 0 | AG35: =IF(SUM(P35:Q35)=SUM(AE35:AF35),"OK","검토") -> OK | AK35: =IF(AI35="","",COUNTIF($AI$7:$AI$59,AI35)) | AL35: =IF(Y35="","",IF(AND(Y35="도비",AI35="세입없음"),"OK",IF(AND(Y35<>"도비",AI35<>""),"OK","@@"))) | AN35: {=IF(D35="","",INDEX(구분표!$I$2:$I$311, MATCH(1,(구분표!$E$2:$E$311='2추일출'!C35)*(구분표!$F$2:$F$311='2추일출'!D35)*(구분표!$G$2:$G$311='2추일출'!B35),0)))}
A36: =COUNTA($C$7:C36)-COUNTBLANK($C$7:C36)+9 -> 10 | B36: =IF(C36="","",MID($B$30,2,11)) | C36: =IF(D36="","",VLOOKUP(D36,구분표!$A$3:$C$215,3,)) | L36: =J36-K36 -> 0 | O36: =J36+M36+N36 -> 0 | R36: =J36+P36+Q36 -> 0 | S36: =IF(AND((O36=0),(R36>0)),"O",IF(AND((M36<0),(O36-R36<0)),"O","X")) -> X | Z36: =IF($Y36<>"도비",IF($W36="국도비","직접입력",SUM($M36:$N36)),) -> 0 | AA36: =IF($Y36="도비",SUM($M36:$N36),IF($W36="국도비","직접입력",SUM($M36:$N36)-$Z36)) -> 0 | AB36: =IF(SUM($M36:$N36)=SUM($Z36:$AA36),"OK","검토") -> OK | AE36: =IF($Y36<>"도비",IF($W36="국도비","직접입력",SUM($P36:$Q36)),) -> 0 | AF36: =IF($Y36="도비",SUM(P36:Q36),IF($W36="국도비","직접입력",SUM(P36:Q36)-AE36)) -> 0 | AG36: =IF(SUM(P36:Q36)=SUM(AE36:AF36),"OK","검토") -> OK | AK36: =IF(AI36="","",COUNTIF($AI$7:$AI$59,AI36)) | AL36: =IF(Y36="","",IF(AND(Y36="도비",AI36="세입없음"),"OK",IF(AND(Y36<>"도비",AI36<>""),"OK","@@"))) | AN36: {=IF(D36="","",INDEX(구분표!$I$2:$I$311, MATCH(1,(구분표!$E$2:$E$311='2추일출'!C36)*(구분표!$F$2:$F$311='2추일출'!D36)*(구분표!$G$2:$G$311='2추일출'!B36),0)))}
A37: =COUNTA($C$7:C37)-COUNTBLANK($C$7:C37)+9 -> 10 | B37: =IF(C37="","",MID($B$30,2,11)) | C37: =IF(D37="","",VLOOKUP(D37,구분표!$A$3:$C$215,3,)) | L37: =J37-K37 -> 0 | O37: =J37+M37+N37 -> 0 | R37: =J37+P37+Q37 -> 0 | S37: =IF(AND((O37=0),(R37>0)),"O",IF(AND((M37<0),(O37-R37<0)),"O","X")) -> X | Z37: =IF($Y37<>"도비",IF($W37="국도비","직접입력",SUM($M37:$N37)),) -> 0 | AA37: =IF($Y37="도비",SUM($M37:$N37),IF($W37="국도비","직접입력",SUM($M37:$N37)-$Z37)) -> 0 | AB37: =IF(SUM($M37:$N37)=SUM($Z37:$AA37),"OK","검토") -> OK | AE37: =IF($Y37<>"도비",IF($W37="국도비","직접입력",SUM($P37:$Q37)),) -> 0 | AF37: =IF($Y37="도비",SUM(P37:Q37),IF($W37="국도비","직접입력",SUM(P37:Q37)-AE37)) -> 0 | AG37: =IF(SUM(P37:Q37)=SUM(AE37:AF37),"OK","검토") -> OK | AK37: =IF(AI37="","",COUNTIF($AI$7:$AI$59,AI37)) | AL37: =IF(Y37="","",IF(AND(Y37="도비",AI37="세입없음"),"OK",IF(AND(Y37<>"도비",AI37<>""),"OK","@@"))) | AN37: {=IF(D37="","",INDEX(구분표!$I$2:$I$311, MATCH(1,(구분표!$E$2:$E$311='2추일출'!C37)*(구분표!$F$2:$F$311='2추일출'!D37)*(구분표!$G$2:$G$311='2추일출'!B37),0)))}
A38: =COUNTA($C$7:C38)-COUNTBLANK($C$7:C38)+9 -> 10 | B38: =IF(C38="","",MID($B$30,2,11)) | C38: =IF(D38="","",VLOOKUP(D38,구분표!$A$3:$C$215,3,)) | L38: =J38-K38 -> 0 | O38: =J38+M38+N38 -> 0 | R38: =J38+P38+Q38 -> 0 | S38: =IF(AND((O38=0),(R38>0)),"O",IF(AND((M38<0),(O38-R38<0)),"O","X")) -> X | Z38: =IF($Y38<>"도비",IF($W38="국도비","직접입력",SUM($M38:$N38)),) -> 0 | AA38: =IF($Y38="도비",SUM($M38:$N38),IF($W38="국도비","직접입력",SUM($M38:$N38)-$Z38)) -> 0 | AB38: =IF(SUM($M38:$N38)=SUM($Z38:$AA38),"OK","검토") -> OK | AE38: =IF($Y38<>"도비",IF($W38="국도비","직접입력",SUM($P38:$Q38)),) -> 0 | AF38: =IF($Y38="도비",SUM(P38:Q38),IF($W38="국도비","직접입력",SUM(P38:Q38)-AE38)) -> 0 | AG38: =IF(SUM(P38:Q38)=SUM(AE38:AF38),"OK","검토") -> OK | AK38: =IF(AI38="","",COUNTIF($AI$7:$AI$59,AI38)) | AL38: =IF(Y38="","",IF(AND(Y38="도비",AI38="세입없음"),"OK",IF(AND(Y38<>"도비",AI38<>""),"OK","@@"))) | AN38: {=IF(D38="","",INDEX(구분표!$I$2:$I$311, MATCH(1,(구분표!$E$2:$E$311='2추일출'!C38)*(구분표!$F$2:$F$311='2추일출'!D38)*(구분표!$G$2:$G$311='2추일출'!B38),0)))}
A39: =COUNTA($C$7:C39)-COUNTBLANK($C$7:C39)+9 -> 10 | B39: =IF(C39="","",MID($B$30,2,11)) | C39: =IF(D39="","",VLOOKUP(D39,구분표!$A$3:$C$215,3,)) | L39: =J39-K39 -> 0 | O39: =J39+M39+N39 -> 0 | R39: =J39+P39+Q39 -> 0 | S39: =IF(AND((O39=0),(R39>0)),"O",IF(AND((M39<0),(O39-R39<0)),"O","X")) -> X | Z39: =IF($Y39<>"도비",IF($W39="국도비","직접입력",SUM($M39:$N39)),) -> 0 | AA39: =IF($Y39="도비",SUM($M39:$N39),IF($W39="국도비","직접입력",SUM($M39:$N39)-$Z39)) -> 0 | AB39: =IF(SUM($M39:$N39)=SUM($Z39:$AA39),"OK","검토") -> OK | AE39: =IF($Y39<>"도비",IF($W39="국도비","직접입력",SUM($P39:$Q39)),) -> 0 | AF39: =IF($Y39="도비",SUM(P39:Q39),IF($W39="국도비","직접입력",SUM(P39:Q39)-AE39)) -> 0 | AG39: =IF(SUM(P39:Q39)=SUM(AE39:AF39),"OK","검토") -> OK | AK39: =IF(AI39="","",COUNTIF($AI$7:$AI$59,AI39)) | AL39: =IF(Y39="","",IF(AND(Y39="도비",AI39="세입없음"),"OK",IF(AND(Y39<>"도비",AI39<>""),"OK","@@"))) | AN39: {=IF(D39="","",INDEX(구분표!$I$2:$I$311, MATCH(1,(구분표!$E$2:$E$311='2추일출'!C39)*(구분표!$F$2:$F$311='2추일출'!D39)*(구분표!$G$2:$G$311='2추일출'!B39),0)))}
A40: =COUNTA($C$7:C40)-COUNTBLANK($C$7:C40)+9 -> 10 | B40: =IF(C40="","",MID($B$30,2,11)) | C40: =IF(D40="","",VLOOKUP(D40,구분표!$A$3:$C$215,3,)) | L40: =J40-K40 -> 0 | O40: =J40+M40+N40 -> 0 | R40: =J40+P40+Q40 -> 0 | S40: =IF(AND((O40=0),(R40>0)),"O",IF(AND((M40<0),(O40-R40<0)),"O","X")) -> X | Z40: =IF($Y40<>"도비",IF($W40="국도비","직접입력",SUM($M40:$N40)),) -> 0 | AA40: =IF($Y40="도비",SUM($M40:$N40),IF($W40="국도비","직접입력",SUM($M40:$N40)-$Z40)) -> 0 | AB40: =IF(SUM($M40:$N40)=SUM($Z40:$AA40),"OK","검토") -> OK | AE40: =IF($Y40<>"도비",IF($W40="국도비","직접입력",SUM($P40:$Q40)),) -> 0 | AF40: =IF($Y40="도비",SUM(P40:Q40),IF($W40="국도비","직접입력",SUM(P40:Q40)-AE40)) -> 0 | AG40: =IF(SUM(P40:Q40)=SUM(AE40:AF40),"OK","검토") -> OK | AK40: =IF(AI40="","",COUNTIF($AI$7:$AI$59,AI40)) | AL40: =IF(Y40="","",IF(AND(Y40="도비",AI40="세입없음"),"OK",IF(AND(Y40<>"도비",AI40<>""),"OK","@@"))) | AN40: {=IF(D40="","",INDEX(구분표!$I$2:$I$311, MATCH(1,(구분표!$E$2:$E$311='2추일출'!C40)*(구분표!$F$2:$F$311='2추일출'!D40)*(구분표!$G$2:$G$311='2추일출'!B40),0)))}
A41: =COUNTA($C$7:C41)-COUNTBLANK($C$7:C41)+9 -> 10 | B41: =IF(C41="","",MID($B$30,2,11)) | C41: =IF(D41="","",VLOOKUP(D41,구분표!$A$3:$C$215,3,)) | L41: =J41-K41 -> 0 | O41: =J41+M41+N41 -> 0 | R41: =J41+P41+Q41 -> 0 | S41: =IF(AND((O41=0),(R41>0)),"O",IF(AND((M41<0),(O41-R41<0)),"O","X")) -> X | Z41: =IF($Y41<>"도비",IF($W41="국도비","직접입력",SUM($M41:$N41)),) -> 0 | AA41: =IF($Y41="도비",SUM($M41:$N41),IF($W41="국도비","직접입력",SUM($M41:$N41)-$Z41)) -> 0 | AB41: =IF(SUM($M41:$N41)=SUM($Z41:$AA41),"OK","검토") -> OK | AE41: =IF($Y41<>"도비",IF($W41="국도비","직접입력",SUM($P41:$Q41)),) -> 0 | AF41: =IF($Y41="도비",SUM(P41:Q41),IF($W41="국도비","직접입력",SUM(P41:Q41)-AE41)) -> 0 | AG41: =IF(SUM(P41:Q41)=SUM(AE41:AF41),"OK","검토") -> OK | AK41: =IF(AI41="","",COUNTIF($AI$7:$AI$59,AI41)) | AL41: =IF(Y41="","",IF(AND(Y41="도비",AI41="세입없음"),"OK",IF(AND(Y41<>"도비",AI41<>""),"OK","@@"))) | AN41: {=IF(D41="","",INDEX(구분표!$I$2:$I$311, MATCH(1,(구분표!$E$2:$E$311='2추일출'!C41)*(구분표!$F$2:$F$311='2추일출'!D41)*(구분표!$G$2:$G$311='2추일출'!B41),0)))}
A42: =COUNTA($C$7:C42)-COUNTBLANK($C$7:C42)+9 -> 10 | B42: =IF(C42="","",MID($B$30,2,11)) | C42: =IF(D42="","",VLOOKUP(D42,구분표!$A$3:$C$215,3,)) | L42: =J42-K42 -> 0 | O42: =J42+M42+N42 -> 0 | R42: =J42+P42+Q42 -> 0 | S42: =IF(AND((O42=0),(R42>0)),"O",IF(AND((M42<0),(O42-R42<0)),"O","X")) -> X | Z42: =IF($Y42<>"도비",IF($W42="국도비","직접입력",SUM($M42:$N42)),) -> 0 | AA42: =IF($Y42="도비",SUM($M42:$N42),IF($W42="국도비","직접입력",SUM($M42:$N42)-$Z42)) -> 0 | AB42: =IF(SUM($M42:$N42)=SUM($Z42:$AA42),"OK","검토") -> OK | AE42: =IF($Y42<>"도비",IF($W42="국도비","직접입력",SUM($P42:$Q42)),) -> 0 | AF42: =IF($Y42="도비",SUM(P42:Q42),IF($W42="국도비","직접입력",SUM(P42:Q42)-AE42)) -> 0 | AG42: =IF(SUM(P42:Q42)=SUM(AE42:AF42),"OK","검토") -> OK | AK42: =IF(AI42="","",COUNTIF($AI$7:$AI$59,AI42)) | AL42: =IF(Y42="","",IF(AND(Y42="도비",AI42="세입없음"),"OK",IF(AND(Y42<>"도비",AI42<>""),"OK","@@"))) | AN42: {=IF(D42="","",INDEX(구분표!$I$2:$I$311, MATCH(1,(구분표!$E$2:$E$311='2추일출'!C42)*(구분표!$F$2:$F$311='2추일출'!D42)*(구분표!$G$2:$G$311='2추일출'!B42),0)))}
... A59: =COUNTA($C$7:C59)-COUNTBLANK($C$7:C59)+9 -> 10 | B59: =IF(C59="","",MID($B$30,2,11)) | C59: =IF(D59="","",VLOOKUP(D59,구분표!$A$3:$C$215,3,)) | L59: =J59-K59 -> 0 | O59: =J59+M59+N59 -> 0 | R59: =J59+P59+Q59 -> 0 | S59: =IF(AND((O59=0),(R59>0)),"O",IF(AND((M59<0),(O59-R59<0)),"O","X")) -> X | Z59: =IF($Y59<>"도비",IF($W59="국도비","직접입력",SUM($M59:$N59)),) -> 0 | AA59: =IF($Y59="도비",SUM($M59:$N59),IF($W59="국도비","직접입력",SUM($M59:$N59)-$Z59)) -> 0 | AB59: =IF(SUM($M59:$N59)=SUM($Z59:$AA59),"OK","검토") -> OK | AE59: =IF($Y59<>"도비",IF($W59="국도비","직접입력",SUM($P59:$Q59)),) -> 0 | AF59: =IF($Y59="도비",SUM(P59:Q59),IF($W59="국도비","직접입력",SUM(P59:Q59)-AE59)) -> 0 | AG59: =IF(SUM(P59:Q59)=SUM(AE59:AF59),"OK","검토") -> OK | AK59: =IF(AI59="","",COUNTIF($AI$7:$AI$59,AI59)) | AL59: =IF(Y59="","",IF(AND(Y59="도비",AI59="세입없음"),"OK",IF(AND(Y59<>"도비",AI59<>""),"OK","@@"))) | AN59: {=IF(D59="","",INDEX(구분표!$I$2:$I$311, MATCH(1,(구분표!$E$2:$E$311='2추일출'!C59)*(구분표!$F$2:$F$311='2추일출'!D59)*(구분표!$G$2:$G$311='2추일출'!B59),0)))}

Sheet 2추특입
A1: 2017년도 제2회 추가경정 경기도 특별회계 세입 예산 조정(안)
A2: □ 세입예산 | X2: 세입=세출 | AC2: 세입=세출
P3: =P6-J6 -> 0 | T3: (단위 : 천원) | X3: =IF(X6='2추특출'!Z6,"OK","@@") -> OK | Y3: =IF(Y6='2추특출'!AA6,"OK","@@") -> OK | Z3: =IF(COUNTIF(Z6:Z16,"검토")>0,"@@","OK") -> OK | AC3: =IF(AC6='2추특출'!AE6,"OK","@@") -> OK | AE3: =IF(COUNTIF(AE6:AE16,"검토")>0,"@@","OK") -> OK
A4: 위원회명 | B4: 실국명 | C4: 부서명 | D4: 편성 구분 | E4: 예산안 페이지 | F4: 사업설명서페이지 | G4: 목명 및 부기명 | H4: 제2회 추경 예산안 (가) | I4: 기정액 (나) | J4: 제2회 추경 증감액 (다=가-나) | K4: 상임위 예산안 조정액(라) | M4: 상임위 조정 예산안 (마=가+라) | N4: 예결위 예산안 조정액(사) | P4: 예결위 조정 예산안 (아=가+사) | Q4: 동의 대상 | R4: 상임위 변경사유 (심의 참고자료) | S4: 비고 (상임위 부대의견) | T4: 비고 (예결위 부대의견) | U4: 국도비 등 여부 | W4: 재원 | X4: 상임위 재원별 증감액 | AB4: 재원 | AC4: 예결위 재원별 증감액 | AG4: 세입번호 | AI4: 실국부서 코드 | AK4: 추가 내시 등 | AM4: 상임위 세입 검증 | AQ4: 예결위 세입 검증
K5: 감액 | L5: 증액 | N5: 감액 | O5: 증액 | X5: 국비 등 | Y5: 도비 | Z5: 검증 | AC5: 국비 등 | AD5: 도비 | AE5: 검증 | AM5: 국비 증감액 | AN5: 건수 | AO5: 검증 | AQ5: 국비 증감액 | AR5: 건수 | AS5: 검증
A6: 합 계 | H6: =SUBTOTAL(9,H7:H16) -> 0 | I6: =SUBTOTAL(9,I7:I16) -> 0 | J6: =SUBTOTAL(9,J7:J16) -> 0 | K6: =SUBTOTAL(9,K7:K16) -> 0 | L6: =SUBTOTAL(9,L7:L16) -> 10000000 | M6: =SUBTOTAL(9,M7:M16) -> 10000000 | N6: =SUBTOTAL(9,N7:N16) -> 0 | O6: =SUBTOTAL(9,O7:O16) -> 0 | P6: =SUBTOTAL(9,P7:P16) -> 0 | T6: =SUBTOTAL(9,T7:T16)/2 -> 0 | X6: =SUBTOTAL(9,X7:X16) -> 0 | Y6: =SUBTOTAL(9,Y7:Y16) -> 10000000 | Z6: =IF(SUM($K6:$L6)=SUM($X6:$Y6),"OK","검토") -> OK | AC6: =SUBTOTAL(9,AC7:AC16) -> 0 | AD6: =SUBTOTAL(9,AD7:AD16) -> 0 | AE6: =IF(SUM($K6:$L6)=SUM($X6:$Y6),"OK","검토") -> OK | AM6: =SUBTOTAL(9,AM7:AM16) -> 0 | AN6: =SUBTOTAL(9,AN7:AN16) -> 0 | AO6: =IF(COUNTIF(AO7:AO16,"@@")>0,"@@","OK") -> OK | AQ6: =SUBTOTAL(9,AQ7:AQ16) -> 0 | AR6: =SUBTOTAL(9,AR7:AR16) -> 0 | AS6: =IF(COUNTIF(AS7:AS16,"@@")>0,"@@","OK") -> OK
A7: (도시재생특별회계) | H7: =SUBTOTAL(9,H8:H10) -> 0 | I7: =SUBTOTAL(9,I8:I10) -> 0 | J7: =SUBTOTAL(9,J8:J10) -> 0 | K7: =SUBTOTAL(9,K8:K10) -> 0 | L7: =SUBTOTAL(9,L8:L10) -> 10000000 | M7: =SUBTOTAL(9,M8:M10) -> 10000000 | N7: =SUBTOTAL(9,N8:N10) -> 0 | O7: =SUBTOTAL(9,O8:O10) -> 0 | P7: =SUBTOTAL(9,P8:P10) -> 0
A8: 도시환경위원회 | B8: 도시주택실 | C8: 도시재생과 | D8: 신규 | G8: 일반회계전입금 | H8: 0 | I8: 0 | J8: =IF(D8="","",H8-I8) -> 0 | L8: 10000000 | M8: =SUM(H8,K8,L8) -> 10000000 | P8: =SUM(H8,N8,O8) -> 0 | Q8: =IF(AND((M8=0),(P8>0)),"O",IF(AND((K8<0),(M8-P8<0)),"O","X")) -> X | S8: 연정사업으로 구도심 낙후지역 도시재생 사업지원 | X8: 0 | Y8: =IF($W8="도비",SUM($K8:$L8),IF($U8="국도비","직접입력",SUM($K8:$L8)-$X8)) -> 10000000 | Z8: =IF(SUM($K8:$L8)=SUM($X8:$Y8),"OK","검토") -> OK | AC8: =IF($W8<>"도비",IF($U8="국도비","직접입력",SUM($N8:$O8)),) -> 0 | AD8: =IF($W8="도비",SUM(N8:O8),IF($U8="국도비","직접입력",SUM(N8:O8)-AC8)) -> 0 | AE8: =IF(SUM(N8:O8)=SUM(AC8:AD8),"OK","검토") -> OK | AG8: =IF(AI8="","",IF(W8="도비","세입없음",CONCATENATE(AI8,"-",COUNTIF($AI$7:AI8,AI8)))) -> 10510-1 | AI8: {=IF(C8="","",INDEX(구분표!$I$2:$I$311, MATCH(1,(구분표!$E$2:$E$311='2추특입'!B8)*(구분표!$F$2:$F$311='2추특입'!C8)*(구분표!$G$2:$G$311='2추특입'!A8),0)))} -> 10510 | AM8: =IF(AG8="",0,SUMIFS('2추특출'!$Z$6:$Z$451,'2추특출'!$AI$6:$AI$451,'2추특입'!$AG8)) -> 0 | AN8: =IF(AG8="","",COUNTIFS('2추특출'!$AI$6:$AI$451,'2추특입'!AG8)) -> 0 | AO8: =IF(X8=AM8,"OK","@@") -> OK | AQ8: =IF(AG8="",0,SUMIFS('2추특출'!$AE$6:$AE$231,'2추특출'!$AI$6:$AI$231,'2추특입'!$AG8)) -> 0 | AR8: =IF(AG8="","",COUNTIFS('2추특출'!$AI$6:$AI$231,AG8)) -> 0 | AS8: =IF(AC8=AQ8,"OK","@@") -> OK
J9: =IF(D9="","",H9-I9) | M9: =SUM(H9,K9,L9) -> 0 | P9: =SUM(H9,N9,O9) -> 0 | Q9: =IF(AND((M9=0),(P9>0)),"O",IF(AND((K9<0),(M9-P9<0)),"O","X")) -> X | X9: =IF($W9<>"도비",IF($U9="국도비","직접입력",SUM($K9:$L9)),) -> 0 | Y9: =IF($W9="도비",SUM($K9:$L9),IF($U9="국도비","직접입력",SUM($K9:$L9)-$X9)) -> 0 | Z9: =IF(SUM($K9:$L9)=SUM($X9:$Y9),"OK","검토") -> OK | AC9: =IF($W9<>"도비",IF($U9="국도비","직접입력",SUM($N9:$O9)),) -> 0 | AD9: =IF($W9="도비",SUM(N9:O9),IF($U9="국도비","직접입력",SUM(N9:O9)-AC9)) -> 0 | AE9: =IF(SUM(N9:O9)=SUM(AC9:AD9),"OK","검토") -> OK | AG9: =IF(AI9="","",IF(W9="도비","세입없음",CONCATENATE(AI9,"-",COUNTIF($AI$7:AI9,AI9)))) | AI9: {=IF(C9="","",INDEX(구분표!$I$2:$I$311, MATCH(1,(구분표!$E$2:$E$311='2추특입'!B9)*(구분표!$F$2:$F$311='2추특입'!C9)*(구분표!$G$2:$G$311='2추특입'!A9),0)))} | AM9: =IF(AG9="",0,SUMIFS('2추특출'!$Z$6:$Z$451,'2추특출'!$AI$6:$AI$451,'2추특입'!$AG9)) -> 0 | AN9: =IF(AG9="","",COUNTIFS('2추특출'!$AI$6:$AI$451,'2추특입'!AG9)) | AO9: =IF(X9=AM9,"OK","@@") -> OK | AQ9: =IF(AG9="",0,SUMIFS('2추일출'!$AE$6:$AE$59,'2추일출'!$AI$6:$AI$59,'2추특입'!$AG9)) -> 0 | AR9: =IF(AG9="","",COUNTIFS('2추일출'!$AI$6:$AI$59,AG9)) | AS9: =IF(AC9=AQ9,"OK","@@") -> OK
A10: =IFERROR(VLOOKUP($C10,구분표!$A$2:$C$311,2,FALSE),"") | B10: =IFERROR(VLOOKUP($C10,구분표!$A$2:$C$311,3,FALSE),"") | J10: =IF(D10="","",H10-I10) | M10: =SUM(H10,K10,L10) -> 0 | P10: =SUM(H10,N10,O10) -> 0 | Q10: =IF(AND((M10=0),(P10>0)),"O",IF(AND((K10<0),(M10-P10<0)),"O","X")) -> X | X10: =IF($W10<>"도비",IF($U10="국도비","직접입력",SUM($K10:$L10)),) -> 0 | Y10: =IF($W10="도비",SUM($K10:$L10),IF($U10="국도비","직접입력",SUM($K10:$L10)-$X10)) -> 0 | Z10: =IF(SUM($K10:$L10)=SUM($X10:$Y10),"OK","검토") -> OK | AC10: =IF($W10<>"도비",IF($U10="국도비","직접입력",SUM($N10:$O10)),) -> 0 | AD10: =IF($W10="도비",SUM(N10:O10),IF($U10="국도비","직접입력",SUM(N10:O10)-AC10)) -> 0 | AE10: =IF(SUM(N10:O10)=SUM(AC10:AD10),"OK","검토") -> OK | AG10: =IF(AI10="","",IF(W10="도비","세입없음",CONCATENATE(AI10,"-",COUNTIF($AI$7:AI10,AI10)))) | AI10: {=IF(C10="","",INDEX(구분표!$I$2:$I$311, MATCH(1,(구분표!$E$2:$E$311='2추특입'!B10)*(구분표!$F$2:$F$311='2추특입'!C10)*(구분표!$G$2:$G$311='2추특입'!A10),0)))} | AM10: =IF(AG10="",0,SUMIFS('2추특출'!$Z$6:$Z$451,'2추특출'!$AI$6:$AI$451,'2추특입'!$AG10)) -> 0 | AN10: =IF(AG10="","",COUNTIFS('2추특출'!$AI$6:$AI$451,'2추특입'!AG10)) | AO10: =IF(X10=AM10,"OK","@@") -> OK | AQ10: =IF(AG10="",0,SUMIFS('2추일출'!$AE$6:$AE$59,'2추일출'!$AI$6:$AI$59,'2추특입'!$AG10)) -> 0 | AR10: =IF(AG10="","",COUNTIFS('2추일출'!$AI$6:$AI$59,AG10)) | AS10: =IF(AC10=AQ10,"OK","@@") -> OK
A11: ( 특별회계) | H11: =SUBTOTAL(9,H12:H14) -> 0 | I11: =SUBTOTAL(9,I12:I14) -> 0 | J11: =SUBTOTAL(9,J12:J14) -> 0 | K11: =SUBTOTAL(9,K12:K16) -> 0 | L11: =SUBTOTAL(9,L12:L16) -> 0 | M11: =SUBTOTAL(9,M12:M16) -> 0 | N11: =SUBTOTAL(9,N12:N16) -> 0 | O11: =SUBTOTAL(9,O12:O16) -> 0 | P11: =SUBTOTAL(9,P12:P16) -> 0
J12: =IF(D12="","",H12-I12) | M12: =SUM(H12,K12,L12) -> 0 | P12: =SUM(H12,N12,O12) -> 0 | Q12: =IF(AND((M12=0),(P12>0)),"O",IF(AND((K12<0),(M12-P12<0)),"O","X")) -> X | X12: =IF($W12<>"도비",IF($U12="국도비","직접입력",SUM($K12:$L12)),) -> 0 | Y12: =IF($W12="도비",SUM($K12:$L12),IF($U12="국도비","직접입력",SUM($K12:$L12)-$X12)) -> 0 | Z12: =IF(SUM($K12:$L12)=SUM($X12:$Y12),"OK","검토") -> OK | AC12: =IF($W12<>"도비",IF($U12="국도비","직접입력",SUM($N12:$O12)),) -> 0 | AD12: =IF($W12="도비",SUM(N12:O12),IF($U12="국도비","직접입력",SUM(N12:O12)-AC12)) -> 0 | AE12: =IF(SUM(N12:O12)=SUM(AC12:AD12),"OK","검토") -> OK | AG12: =IF(AI12="","",IF(W12="도비","세입없음",CONCATENATE(AI12,"-",COUNTIF($AI$7:AI12,AI12)))) | AI12: {=IF(C12="","",INDEX(구분표!$I$2:$I$311, MATCH(1,(구분표!$E$2:$E$311='2추특입'!B12)*(구분표!$F$2:$F$311='2추특입'!C12)*(구분표!$G$2:$G$311='2추특입'!A12),0)))} | AM12: =IF(AG12="",0,SUMIFS('2추특출'!$Z$6:$Z$451,'2추특출'!$AI$6:$AI$451,'2추특입'!$AG12)) -> 0 | AN12: =IF(AG12="","",COUNTIFS('2추특출'!$AI$6:$AI$451,'2추특입'!AG12)) | AO12: =IF(X12=AM12,"OK","@@") -> OK | AQ12: =IF(AG12="",0,SUMIFS('2추일출'!$AE$6:$AE$59,'2추일출'!$AI$6:$AI$59,'2추특입'!$AG12)) -> 0 | AR12: =IF(AG12="","",COUNTIFS('2추일출'!$AI$6:$AI$59,AG12)) | AS12: =IF(AC12=AQ12,"OK","@@") -> OK
J13: =IF(D13="","",H13-I13) | M13: =SUM(H13,K13,L13) -> 0 | P13: =SUM(H13,N13,O13) -> 0 | Q13: =IF(AND((M13=0),(P13>0)),"O",IF(AND((K13<0),(M13-P13<0)),"O","X")) -> X | X13: =IF($W13<>"도비",IF($U13="국도비","직접입력",SUM($K13:$L13)),) -> 0 | Y13: =IF($W13="도비",SUM($K13:$L13),IF($U13="국도비","직접입력",SUM($K13:$L13)-$X13)) -> 0 | Z13: =IF(SUM($K13:$L13)=SUM($X13:$Y13),"OK","검토") -> OK | AC13: =IF($W13<>"도비",IF($U13="국도비","직접입력",SUM($N13:$O13)),) -> 0 | AD13: =IF($W13="도비",SUM(N13:O13),IF($U13="국도비","직접입력",SUM(N13:O13)-AC13)) -> 0 | AE13: =IF(SUM(N13:O13)=SUM(AC13:AD13),"OK","검토") -> OK | AG13: =IF(AI13="","",IF(W13="도비","세입없음",CONCATENATE(AI13,"-",COUNTIF($AI$7:AI13,AI13)))) | AI13: {=IF(C13="","",INDEX(구분표!$I$2:$I$311, MATCH(1,(구분표!$E$2:$E$311='2추특입'!B13)*(구분표!$F$2:$F$311='2추특입'!C13)*(구분표!$G$2:$G$311='2추특입'!A13),0)))} | AM13: =IF(AG13="",0,SUMIFS('2추특출'!$Z$6:$Z$451,'2추특출'!$AI$6:$AI$451,'2추특입'!$AG13)) -> 0 | AN13: =IF(AG13="","",COUNTIFS('2추특출'!$AI$6:$AI$451,'2추특입'!AG13)) | AO13: =IF(X13=AM13,"OK","@@") -> OK | AQ13: =IF(AG13="",0,SUMIFS('2추일출'!$AE$6:$AE$59,'2추일출'!$AI$6:$AI$59,'2추특입'!$AG13)) -> 0 | AR13: =IF(AG13="","",COUNTIFS('2추일출'!$AI$6:$AI$59,AG13)) | AS13: =IF(AC13=AQ13,"OK","@@") -> OK
J14: =IF(D14="","",H14-I14) | M14: =SUM(H14,K14,L14) -> 0 | P14: =SUM(H14,N14,O14) -> 0 | Q14: =IF(AND((M14=0),(P14>0)),"O",IF(AND((K14<0),(M14-P14<0)),"O","X")) -> X | X14: =IF($W14<>"도비",IF($U14="국도비","직접입력",SUM($K14:$L14)),) -> 0 | Y14: =IF($W14="도비",SUM($K14:$L14),IF($U14="국도비","직접입력",SUM($K14:$L14)-$X14)) -> 0 | Z14: =IF(SUM($K14:$L14)=SUM($X14:$Y14),"OK","검토") -> OK | AC14: =IF($W14<>"도비",IF($U14="국도비","직접입력",SUM($N14:$O14)),) -> 0 | AD14: =IF($W14="도비",SUM(N14:O14),IF($U14="국도비","직접입력",SUM(N14:O14)-AC14)) -> 0 | AE14: =IF(SUM(N14:O14)=SUM(AC14:AD14),"OK","검토") -> OK | AG14: =IF(AI14="","",IF(W14="도비","세입없음",CONCATENATE(AI14,"-",COUNTIF($AI$7:AI14,AI14)))) | AI14: {=IF(C14="","",INDEX(구분표!$I$2:$I$311, MATCH(1,(구분표!$E$2:$E$311='2추특입'!B14)*(구분표!$F$2:$F$311='2추특입'!C14)*(구분표!$G$2:$G$311='2추특입'!A14),0)))} | AM14: =IF(AG14="",0,SUMIFS('2추특출'!$Z$6:$Z$451,'2추특출'!$AI$6:$AI$451,'2추특입'!$AG14)) -> 0 | AN14: =IF(AG14="","",COUNTIFS('2추특출'!$AI$6:$AI$451,'2추특입'!AG14)) | AO14: =IF(X14=AM14,"OK","@@") -> OK | AQ14: =IF(AG14="",0,SUMIFS('2추일출'!$AE$6:$AE$59,'2추일출'!$AI$6:$AI$59,'2추특입'!$AG14)) -> 0 | AR14: =IF(AG14="","",COUNTIFS('2추일출'!$AI$6:$AI$59,AG14)) | AS14: =IF(AC14=AQ14,"OK","@@") -> OK
J15: =IF(D15="","",H15-I15) | M15: =SUM(H15,K15,L15) -> 0 | P15: =SUM(H15,N15,O15) -> 0 | Q15: =IF(AND((M15=0),(P15>0)),"O",IF(AND((K15<0),(M15-P15<0)),"O","X")) -> X | X15: =IF($W15<>"도비",IF($U15="국도비","직접입력",SUM($K15:$L15)),) -> 0 | Y15: =IF($W15="도비",SUM($K15:$L15),IF($U15="국도비","직접입력",SUM($K15:$L15)-$X15)) -> 0 | Z15: =IF(SUM($K15:$L15)=SUM($X15:$Y15),"OK","검토") -> OK | AC15: =IF($W15<>"도비",IF($U15="국도비","직접입력",SUM($N15:$O15)),) -> 0 | AD15: =IF($W15="도비",SUM(N15:O15),IF($U15="국도비","직접입력",SUM(N15:O15)-AC15)) -> 0 | AE15: =IF(SUM(N15:O15)=SUM(AC15:AD15),"OK","검토") -> OK | AG15: =IF(AI15="","",IF(W15="도비","세입없음",CONCATENATE(AI15,"-",COUNTIF($AI$7:AI15,AI15)))) | AI15: {=IF(C15="","",INDEX(구분표!$I$2:$I$311, MATCH(1,(구분표!$E$2:$E$311='2추특입'!B15)*(구분표!$F$2:$F$311='2추특입'!C15)*(구분표!$G$2:$G$311='2추특입'!A15),0)))} | AM15: =IF(AG15="",0,SUMIFS('2추특출'!$Z$6:$Z$451,'2추특출'!$AI$6:$AI$451,'2추특입'!$AG15)) -> 0 | AN15: =IF(AG15="","",COUNTIFS('2추특출'!$AI$6:$AI$451,'2추특입'!AG15)) | AO15: =IF(X15=AM15,"OK","@@") -> OK | AQ15: =IF(AG15="",0,SUMIFS('2추일출'!$AE$6:$AE$59,'2추일출'!$AI$6:$AI$59,'2추특입'!$AG15)) -> 0 | AR15: =IF(AG15="","",COUNTIFS('2추일출'!$AI$6:$AI$59,AG15)) | AS15: =IF(AC15=AQ15,"OK","@@") -> OK
A16: =IFERROR(VLOOKUP($C16,구분표!$A$2:$C$311,2,FALSE),"") | B16: =IFERROR(VLOOKUP($C16,구분표!$A$2:$C$311,3,FALSE),"") | J16: =IF(D16="","",H16-I16) | M16: =SUM(H16,K16,L16) -> 0 | P16: =SUM(H16,N16,O16) -> 0 | Q16: =IF(AND((M16=0),(P16>0)),"O",IF(AND((K16<0),(M16-P16<0)),"O","X")) -> X | X16: =IF($W16<>"도비",IF($U16="국도비","직접입력",SUM($K16:$L16)),) -> 0 | Y16: =IF($W16="도비",SUM($K16:$L16),IF($U16="국도비","직접입력",SUM($K16:$L16)-$X16)) -> 0 | Z16: =IF(SUM($K16:$L16)=SUM($X16:$Y16),"OK","검토") -> OK | AC16: =IF($W16<>"도비",IF($U16="국도비","직접입력",SUM($N16:$O16)),) -> 0 | AD16: =IF($W16="도비",SUM(N16:O16),IF($U16="국도비","직접입력",SUM(N16:O16)-AC16)) -> 0 | AE16: =IF(SUM(N16:O16)=SUM(AC16:AD16),"OK","검토") -> OK | AG16: =IF(AI16="","",IF(W16="도비","세입없음",CONCATENATE(AI16,"-",COUNTIF($AI$7:AI16,AI16)))) | AI16: {=IF(C16="","",INDEX(구분표!$I$2:$I$311, MATCH(1,(구분표!$E$2:$E$311='2추특입'!B16)*(구분표!$F$2:$F$311='2추특입'!C16)*(구분표!$G$2:$G$311='2추특입'!A16),0)))} | AM16: =IF(AG16="",0,SUMIFS('2추특출'!$Z$6:$Z$451,'2추특출'!$AI$6:$AI$451,'2추특입'!$AG16)) -> 0 | AN16: =IF(AG16="","",COUNTIFS('2추특출'!$AI$6:$AI$451,'2추특입'!AG16)) | AO16: =IF(X16=AM16,"OK","@@") -> OK | AQ16: =IF(AG16="",0,SUMIFS('2추일출'!$AE$6:$AE$59,'2추일출'!$AI$6:$AI$59,'2추특입'!$AG16)) -> 0 | AR16: =IF(AG16="","",COUNTIFS('2추일출'!$AI$6:$AI$59,AG16)) | AS16: =IF(AC16=AQ16,"OK","@@") -> OK

Sheet 2추특출
B1: 2017년도 제2회 추가경정 경기도 특별회계 세출 예산 조정(안)
B2: □ 세출예산 | Q2: =R2-'2추특입'!P3 -> 0 | R2: =R6-L6 -> 0 | Z2: 세입=세출 | AE2: 세입=세출
L3: =SUM(L7:L807)/2 -> 0 | M3: =SUM(M7:M807)/2 -> 0 | N3: =SUM(N7:N807)/2 -> 10000000 | O3: =SUM(O7:O807)/2 -> 10000000 | P3: =SUM(P7:P807)/2 -> 0 | Q3: =SUM(Q7:Q807)/2 -> 0 | R3: =SUM(R7:R807)/2 -> 0 | V3: (단위 : 천원) | Z3: =IF(Z6='2추특입'!X6,"OK","@@") -> OK | AB3: =IF(COUNTIF(AB6:AB80,"검토")>0,"@@","OK") -> OK | AE3: =IF(AE6='2추특입'!AC6,"OK","@@") -> OK | AF3: =P6+Q6-AE6-AF6 -> 0 | AG3: =IF(COUNTIF(AG6:AG80,"검토")>0,"@@","OK") -> OK
A4: 번호 | B4: 위원회명 | C4: 실국명 | D4: 부서명 | E4: 편성 구분 | F4: 연정 구분 | G4: 예산안 페이지 | H4: 사업설명서페이지 | I4: 세부사업명 및 부기명 | J4: 제2회 추경 예산안 (가) | K4: 기정액 (나) | L4: 제2회 추경 증감액 (다=가-나) | M4: 상임위 예산안 조정액(라) | O4: 상임위 조정 예산안 (마=가+라) | P4: 예결위 예산안 조정액(사) | R4: 예결위 조정 예산안 (아=가+사) | S4: 동의 대상 | T4: 상임위 변경사유 (심의 참고자료) | U4: 비고 (상임위 부대의견) | V4: 비고 (예결위 부대의견) | W4: 국도비 등 여부 | Y4: 재원 | Z4: 상임위 재원별 증감액 | AD4: 재원 | AE4: 예결위 재원별 증감액 | AI4: 세입번호 | AK4: 동일 세입 건수 | AL4: 세출 번호 검증 | AN4: 실국부서 코드 | AP4: 추가 내시 등
M5: 감액 | N5: 증액 | P5: 감액 | Q5: 증액 | Z5: 국비 등 | AA5: 도비 | AB5: 검증 | AE5: 국비 등 | AF5: 도비 | AG5: 검증
B6: 합 계 | J6: =SUBTOTAL(9,J7:J80) -> 0 | K6: =SUBTOTAL(9,K7:K80) -> 0 | L6: =SUBTOTAL(9,L7:L80) -> 0 | M6: =SUBTOTAL(9,M7:M80) -> 0 | N6: =SUBTOTAL(9,N7:N80) -> 10000000 | O6: =SUBTOTAL(9,O7:O80) -> 10000000 | P6: =SUBTOTAL(9,P7:P80) -> 0 | Q6: =SUBTOTAL(9,Q7:Q80) -> 0 | R6: =SUBTOTAL(9,R7:R80) -> 0 | Z6: =SUBTOTAL(9,Z7:Z80) -> 0 | AA6: =SUBTOTAL(9,AA7:AA80) -> 10000000 | AB6: =IF(SUM($M6:$N6)=SUM($Z6:$AA6),"OK","검토") -> OK | AE6: =SUBTOTAL(9,AE7:AE80) -> 0 | AF6: =SUBTOTAL(9,AF7:AF80) -> 0 | AG6: =IF(SUM($M6:$N6)=SUM($Z6:$AA6),"OK","검토") -> OK
B7: (도시재생특별회계) | J7: =SUBTOTAL(9,J8:J70) -> 0 | K7: =SUBTOTAL(9,K8:K70) -> 0 | L7: =SUBTOTAL(9,L8:L70) -> 0 | M7: =SUBTOTAL(9,M8:M70) -> 0 | N7: =SUBTOTAL(9,N8:N70) -> 10000000 | O7: =SUBTOTAL(9,O8:O70) -> 10000000 | P7: =SUBTOTAL(9,P8:P70) -> 0 | Q7: =SUBTOTAL(9,Q8:Q70) -> 0 | R7: =SUBTOTAL(9,R8:R70) -> 0
A8: 1 | B8: 도시환경위원회 | C8: 도시주택실 | D8: 도시재생과 | E8: 신규 | F8: 연정 | I8: 예비비 | J8: 0 | K8: 0 | L8: =J8-K8 -> 0 | N8: 10000000 | O8: =J8+M8+N8 -> 10000000 | R8: =J8+P8+Q8 -> 0 | S8: =IF(AND((O8=0),(R8>0)),"O",IF(AND((M8<0),(O8-R8<0)),"O","X")) -> X | Z8: 0 | AA8: =IF($Y8="도비",SUM($M8:$N8),IF($W8="국도비","직접입력",SUM($M8:$N8)-$Z8)) -> 10000000 | AB8: =IF(SUM($M8:$N8)=SUM($Z8:$AA8),"OK","검토") -> OK | AE8: =IF($Y8<>"도비",IF($W8="국도비","직접입력",SUM($P8:$Q8)),) -> 0 | AF8: =IF($Y8="도비",SUM(P8:Q8),IF($W8="국도비","직접입력",SUM(P8:Q8)-AE8)) -> 0 | AG8: =IF(SUM(P8:Q8)=SUM(AE8:AF8),"OK","검토") -> OK | AI8: =IF(Y8="","",IF(Y8="도비","세입없음","직접입력")) | AK8: =IF(AI8="","",COUNTIF($AI$7:$AI$80,AI8)) | AL8: =IF(Y8="","",IF(AND(Y8="도비",AI8="세입없음"),"OK",IF(AND(Y8<>"도비",AI8<>""),"OK","@@"))) | AN8: {=IF(D8="","",INDEX(구분표!$I$2:$I$311, MATCH(1,(구분표!$E$2:$E$311='2추특출'!C8)*(구분표!$F$2:$F$311='2추특출'!D8)*(구분표!$G$2:$G$311='2추특출'!B8),0)))} -> 10510
A9: =COUNTA($C$8:C9)-COUNTBLANK($C$8:C9) -> 1 | C9: =IF(D9="","",VLOOKUP(D9,구분표!$A$3:$C$215,3,)) | L9: =J9-K9 -> 0 | O9: =J9+M9+N9 -> 0 | R9: =J9+P9+Q9 -> 0 | S9: =IF(AND((O9=0),(R9>0)),"O",IF(AND((M9<0),(O9-R9<0)),"O","X")) -> X | Z9: =IF($Y9<>"도비",IF($W9="국도비","직접입력",SUM($M9:$N9)),) -> 0 | AA9: =IF($Y9="도비",SUM($M9:$N9),IF($W9="국도비","직접입력",SUM($M9:$N9)-$Z9)) -> 0 | AB9: =IF(SUM($M9:$N9)=SUM($Z9:$AA9),"OK","검토") -> OK | AE9: =IF($Y9<>"도비",IF($W9="국도비","직접입력",SUM($P9:$Q9)),) -> 0 | AF9: =IF($Y9="도비",SUM(P9:Q9),IF($W9="국도비","직접입력",SUM(P9:Q9)-AE9)) -> 0 | AG9: =IF(SUM(P9:Q9)=SUM(AE9:AF9),"OK","검토") -> OK | AI9: =IF(Y9="","",IF(Y9="도비","세입없음","직접입력")) | AK9: =IF(AI9="","",COUNTIF($AI$7:$AI$80,AI9)) | AL9: =IF(Y9="","",IF(AND(Y9="도비",AI9="세입없음"),"OK",IF(AND(Y9<>"도비",AI9<>""),"OK","@@"))) | AN9: {=IF(D9="","",INDEX(구분표!$I$2:$I$311, MATCH(1,(구분표!$E$2:$E$311='2추특출'!C9)*(구분표!$F$2:$F$311='2추특출'!D9)*(구분표!$G$2:$G$311='2추특출'!B9),0)))}
A10: =COUNTA($C$8:C10)-COUNTBLANK($C$8:C10) -> 1 | C10: =IF(D10="","",VLOOKUP(D10,구분표!$A$3:$C$215,3,)) | L10: =J10-K10 -> 0 | O10: =J10+M10+N10 -> 0 | R10: =J10+P10+Q10 -> 0 | S10: =IF(AND((O10=0),(R10>0)),"O",IF(AND((M10<0),(O10-R10<0)),"O","X")) -> X | Z10: =IF($Y10<>"도비",IF($W10="국도비","직접입력",SUM($M10:$N10)),) -> 0 | AA10: =IF($Y10="도비",SUM($M10:$N10),IF($W10="국도비","직접입력",SUM($M10:$N10)-$Z10)) -> 0 | AB10: =IF(SUM($M10:$N10)=SUM($Z10:$AA10),"OK","검토") -> OK | AE10: =IF($Y10<>"도비",IF($W10="국도비","직접입력",SUM($P10:$Q10)),) -> 0 | AF10: =IF($Y10="도비",SUM(P10:Q10),IF($W10="국도비","직접입력",SUM(P10:Q10)-AE10)) -> 0 | AG10: =IF(SUM(P10:Q10)=SUM(AE10:AF10),"OK","검토") -> OK | AI10: =IF(Y10="","",IF(Y10="도비","세입없음","직접입력")) | AK10: =IF(AI10="","",COUNTIF($AI$7:$AI$80,AI10)) | AL10: =IF(Y10="","",IF(AND(Y10="도비",AI10="세입없음"),"OK",IF(AND(Y10<>"도비",AI10<>""),"OK","@@"))) | AN10: {=IF(D10="","",INDEX(구분표!$I$2:$I$311, MATCH(1,(구분표!$E$2:$E$311='2추특출'!C10)*(구분표!$F$2:$F$311='2추특출'!D10)*(구분표!$G$2:$G$311='2추특출'!B10),0)))}
A11: =COUNTA($C$8:C11)-COUNTBLANK($C$8:C11) -> 1 | C11: =IF(D11="","",VLOOKUP(D11,구분표!$A$3:$C$215,3,)) | L11: =J11-K11 -> 0 | O11: =J11+M11+N11 -> 0 | R11: =J11+P11+Q11 -> 0 | S11: =IF(AND((O11=0),(R11>0)),"O",IF(AND((M11<0),(O11-R11<0)),"O","X")) -> X | Z11: =IF($Y11<>"도비",IF($W11="국도비","직접입력",SUM($M11:$N11)),) -> 0 | AA11: =IF($Y11="도비",SUM($M11:$N11),IF($W11="국도비","직접입력",SUM($M11:$N11)-$Z11)) -> 0 | AB11: =IF(SUM($M11:$N11)=SUM($Z11:$AA11),"OK","검토") -> OK | AE11: =IF($Y11<>"도비",IF($W11="국도비","직접입력",SUM($P11:$Q11)),) -> 0 | AF11: =IF($Y11="도비",SUM(P11:Q11),IF($W11="국도비","직접입력",SUM(P11:Q11)-AE11)) -> 0 | AG11: =IF(SUM(P11:Q11)=SUM(AE11:AF11),"OK","검토") -> OK | AI11: =IF(Y11="","",IF(Y11="도비","세입없음","직접입력")) | AK11: =IF(AI11="","",COUNTIF($AI$7:$AI$80,AI11)) | AL11: =IF(Y11="","",IF(AND(Y11="도비",AI11="세입없음"),"OK",IF(AND(Y11<>"도비",AI11<>""),"OK","@@"))) | AN11: {=IF(D11="","",INDEX(구분표!$I$2:$I$311, MATCH(1,(구분표!$E$2:$E$311='2추특출'!C11)*(구분표!$F$2:$F$311='2추특출'!D11)*(구분표!$G$2:$G$311='2추특출'!B11),0)))}
A12: =COUNTA($C$8:C12)-COUNTBLANK($C$8:C12) -> 1 | C12: =IF(D12="","",VLOOKUP(D12,구분표!$A$3:$C$215,3,)) | L12: =J12-K12 -> 0 | O12: =J12+M12+N12 -> 0 | R12: =J12+P12+Q12 -> 0 | S12: =IF(AND((O12=0),(R12>0)),"O",IF(AND((M12<0),(O12-R12<0)),"O","X")) -> X | Z12: =IF($Y12<>"도비",IF($W12="국도비","직접입력",SUM($M12:$N12)),) -> 0 | AA12: =IF($Y12="도비",SUM($M12:$N12),IF($W12="국도비","직접입력",SUM($M12:$N12)-$Z12)) -> 0 | AB12: =IF(SUM($M12:$N12)=SUM($Z12:$AA12),"OK","검토") -> OK | AE12: =IF($Y12<>"도비",IF($W12="국도비","직접입력",SUM($P12:$Q12)),) -> 0 | AF12: =IF($Y12="도비",SUM(P12:Q12),IF($W12="국도비","직접입력",SUM(P12:Q12)-AE12)) -> 0 | AG12: =IF(SUM(P12:Q12)=SUM(AE12:AF12),"OK","검토") -> OK | AI12: =IF(Y12="","",IF(Y12="도비","세입없음","직접입력")) | AK12: =IF(AI12="","",COUNTIF($AI$7:$AI$80,AI12)) | AL12: =IF(Y12="","",IF(AND(Y12="도비",AI12="세입없음"),"OK",IF(AND(Y12<>"도비",AI12<>""),"OK","@@"))) | AN12: {=IF(D12="","",INDEX(구분표!$I$2:$I$311, MATCH(1,(구분표!$E$2:$E$311='2추특출'!C12)*(구분표!$F$2:$F$311='2추특출'!D12)*(구분표!$G$2:$G$311='2추특출'!B12),0)))}
A13: =COUNTA($C$8:C13)-COUNTBLANK($C$8:C13) -> 1 | C13: =IF(D13="","",VLOOKUP(D13,구분표!$A$3:$C$215,3,)) | L13: =J13-K13 -> 0 | O13: =J13+M13+N13 -> 0 | R13: =J13+P13+Q13 -> 0 | S13: =IF(AND((O13=0),(R13>0)),"O",IF(AND((M13<0),(O13-R13<0)),"O","X")) -> X | Z13: =IF($Y13<>"도비",IF($W13="국도비","직접입력",SUM($M13:$N13)),) -> 0 | AA13: =IF($Y13="도비",SUM($M13:$N13),IF($W13="국도비","직접입력",SUM($M13:$N13)-$Z13)) -> 0 | AB13: =IF(SUM($M13:$N13)=SUM($Z13:$AA13),"OK","검토") -> OK | AE13: =IF($Y13<>"도비",IF($W13="국도비","직접입력",SUM($P13:$Q13)),) -> 0 | AF13: =IF($Y13="도비",SUM(P13:Q13),IF($W13="국도비","직접입력",SUM(P13:Q13)-AE13)) -> 0 | AG13: =IF(SUM(P13:Q13)=SUM(AE13:AF13),"OK","검토") -> OK | AI13: =IF(Y13="","",IF(Y13="도비","세입없음","직접입력")) | AK13: =IF(AI13="","",COUNTIF($AI$7:$AI$80,AI13)) | AL13: =IF(Y13="","",IF(AND(Y13="도비",AI13="세입없음"),"OK",IF(AND(Y13<>"도비",AI13<>""),"OK","@@"))) | AN13: {=IF(D13="","",INDEX(구분표!$I$2:$I$311, MATCH(1,(구분표!$E$2:$E$311='2추특출'!C13)*(구분표!$F$2:$F$311='2추특출'!D13)*(구분표!$G$2:$G$311='2추특출'!B13),0)))}
A14: =COUNTA($C$8:C14)-COUNTBLANK($C$8:C14) -> 1 | C14: =IF(D14="","",VLOOKUP(D14,구분표!$A$3:$C$215,3,)) | L14: =J14-K14 -> 0 | O14: =J14+M14+N14 -> 0 | R14: =J14+P14+Q14 -> 0 | S14: =IF(AND((O14=0),(R14>0)),"O",IF(AND((M14<0),(O14-R14<0)),"O","X")) -> X | Z14: =IF($Y14<>"도비",IF($W14="국도비","직접입력",SUM($M14:$N14)),) -> 0 | AA14: =IF($Y14="도비",SUM($M14:$N14),IF($W14="국도비","직접입력",SUM($M14:$N14)-$Z14)) -> 0 | AB14: =IF(SUM($M14:$N14)=SUM($Z14:$AA14),"OK","검토") -> OK | AE14: =IF($Y14<>"도비",IF($W14="국도비","직접입력",SUM($P14:$Q14)),) -> 0 | AF14: =IF($Y14="도비",SUM(P14:Q14),IF($W14="국도비","직접입력",SUM(P14:Q14)-AE14)) -> 0 | AG14: =IF(SUM(P14:Q14)=SUM(AE14:AF14),"OK","검토") -> OK | AI14: =IF(Y14="","",IF(Y14="도비","세입없음","직접입력")) | AK14: =IF(AI14="","",COUNTIF($AI$7:$AI$80,AI14)) | AL14: =IF(Y14="","",IF(AND(Y14="도비",AI14="세입없음"),"OK",IF(AND(Y14<>"도비",AI14<>""),"OK","@@"))) | AN14: {=IF(D14="","",INDEX(구분표!$I$2:$I$311, MATCH(1,(구분표!$E$2:$E$311='2추특출'!C14)*(구분표!$F$2:$F$311='2추특출'!D14)*(구분표!$G$2:$G$311='2추특출'!B14),0)))}
A15: =COUNTA($C$8:C15)-COUNTBLANK($C$8:C15) -> 1 | C15: =IF(D15="","",VLOOKUP(D15,구분표!$A$3:$C$215,3,)) | L15: =J15-K15 -> 0 | O15: =J15+M15+N15 -> 0 | R15: =J15+P15+Q15 -> 0 | S15: =IF(AND((O15=0),(R15>0)),"O",IF(AND((M15<0),(O15-R15<0)),"O","X")) -> X | Z15: =IF($Y15<>"도비",IF($W15="국도비","직접입력",SUM($M15:$N15)),) -> 0 | AA15: =IF($Y15="도비",SUM($M15:$N15),IF($W15="국도비","직접입력",SUM($M15:$N15)-$Z15)) -> 0 | AB15: =IF(SUM($M15:$N15)=SUM($Z15:$AA15),"OK","검토") -> OK | AE15: =IF($Y15<>"도비",IF($W15="국도비","직접입력",SUM($P15:$Q15)),) -> 0 | AF15: =IF($Y15="도비",SUM(P15:Q15),IF($W15="국도비","직접입력",SUM(P15:Q15)-AE15)) -> 0 | AG15: =IF(SUM(P15:Q15)=SUM(AE15:AF15),"OK","검토") -> OK | AI15: =IF(Y15="","",IF(Y15="도비","세입없음","직접입력")) | AK15: =IF(AI15="","",COUNTIF($AI$7:$AI$80,AI15)) | AL15: =IF(Y15="","",IF(AND(Y15="도비",AI15="세입없음"),"OK",IF(AND(Y15<>"도비",AI15<>""),"OK","@@"))) | AN15: {=IF(D15="","",INDEX(구분표!$I$2:$I$311, MATCH(1,(구분표!$E$2:$E$311='2추특출'!C15)*(구분표!$F$2:$F$311='2추특출'!D15)*(구분표!$G$2:$G$311='2추특출'!B15),0)))}
A16: =COUNTA($C$8:C16)-COUNTBLANK($C$8:C16) -> 1 | C16: =IF(D16="","",VLOOKUP(D16,구분표!$A$3:$C$215,3,)) | L16: =J16-K16 -> 0 | O16: =J16+M16+N16 -> 0 | R16: =J16+P16+Q16 -> 0 | S16: =IF(AND((O16=0),(R16>0)),"O",IF(AND((M16<0),(O16-R16<0)),"O","X")) -> X | Z16: =IF($Y16<>"도비",IF($W16="국도비","직접입력",SUM($M16:$N16)),) -> 0 | AA16: =IF($Y16="도비",SUM($M16:$N16),IF($W16="국도비","직접입력",SUM($M16:$N16)-$Z16)) -> 0 | AB16: =IF(SUM($M16:$N16)=SUM($Z16:$AA16),"OK","검토") -> OK | AE16: =IF($Y16<>"도비",IF($W16="국도비","직접입력",SUM($P16:$Q16)),) -> 0 | AF16: =IF($Y16="도비",SUM(P16:Q16),IF($W16="국도비","직접입력",SUM(P16:Q16)-AE16)) -> 0 | AG16: =IF(SUM(P16:Q16)=SUM(AE16:AF16),"OK","검토") -> OK | AI16: =IF(Y16="","",IF(Y16="도비","세입없음","직접입력")) | AK16: =IF(AI16="","",COUNTIF($AI$7:$AI$80,AI16)) | AL16: =IF(Y16="","",IF(AND(Y16="도비",AI16="세입없음"),"OK",IF(AND(Y16<>"도비",AI16<>""),"OK","@@"))) | AN16: {=IF(D16="","",INDEX(구분표!$I$2:$I$311, MATCH(1,(구분표!$E$2:$E$311='2추특출'!C16)*(구분표!$F$2:$F$311='2추특출'!D16)*(구분표!$G$2:$G$311='2추특출'!B16),0)))}
A17: =COUNTA($C$8:C17)-COUNTBLANK($C$8:C17) -> 1 | C17: =IF(D17="","",VLOOKUP(D17,구분표!$A$3:$C$215,3,)) | L17: =J17-K17 -> 0 | O17: =J17+M17+N17 -> 0 | R17: =J17+P17+Q17 -> 0 | S17: =IF(AND((O17=0),(R17>0)),"O",IF(AND((M17<0),(O17-R17<0)),"O","X")) -> X | Z17: =IF($Y17<>"도비",IF($W17="국도비","직접입력",SUM($M17:$N17)),) -> 0 | AA17: =IF($Y17="도비",SUM($M17:$N17),IF($W17="국도비","직접입력",SUM($M17:$N17)-$Z17)) -> 0 | AB17: =IF(SUM($M17:$N17)=SUM($Z17:$AA17),"OK","검토") -> OK | AE17: =IF($Y17<>"도비",IF($W17="국도비","직접입력",SUM($P17:$Q17)),) -> 0 | AF17: =IF($Y17="도비",SUM(P17:Q17),IF($W17="국도비","직접입력",SUM(P17:Q17)-AE17)) -> 0 | AG17: =IF(SUM(P17:Q17)=SUM(AE17:AF17),"OK","검토") -> OK | AI17: =IF(Y17="","",IF(Y17="도비","세입없음","직접입력")) | AK17: =IF(AI17="","",COUNTIF($AI$7:$AI$80,AI17)) | AL17: =IF(Y17="","",IF(AND(Y17="도비",AI17="세입없음"),"OK",IF(AND(Y17<>"도비",AI17<>""),"OK","@@"))) | AN17: {=IF(D17="","",INDEX(구분표!$I$2:$I$311, MATCH(1,(구분표!$E$2:$E$311='2추특출'!C17)*(구분표!$F$2:$F$311='2추특출'!D17)*(구분표!$G$2:$G$311='2추특출'!B17),0)))}
A18: =COUNTA($C$8:C18)-COUNTBLANK($C$8:C18) -> 1 | C18: =IF(D18="","",VLOOKUP(D18,구분표!$A$3:$C$215,3,)) | L18: =J18-K18 -> 0 | O18: =J18+M18+N18 -> 0 | R18: =J18+P18+Q18 -> 0 | S18: =IF(AND((O18=0),(R18>0)),"O",IF(AND((M18<0),(O18-R18<0)),"O","X")) -> X | Z18: =IF($Y18<>"도비",IF($W18="국도비","직접입력",SUM($M18:$N18)),) -> 0 | AA18: =IF($Y18="도비",SUM($M18:$N18),IF($W18="국도비","직접입력",SUM($M18:$N18)-$Z18)) -> 0 | AB18: =IF(SUM($M18:$N18)=SUM($Z18:$AA18),"OK","검토") -> OK | AE18: =IF($Y18<>"도비",IF($W18="국도비","직접입력",SUM($P18:$Q18)),) -> 0 | AF18: =IF($Y18="도비",SUM(P18:Q18),IF($W18="국도비","직접입력",SUM(P18:Q18)-AE18)) -> 0 | AG18: =IF(SUM(P18:Q18)=SUM(AE18:AF18),"OK","검토") -> OK | AI18: =IF(Y18="","",IF(Y18="도비","세입없음","직접입력")) | AK18: =IF(AI18="","",COUNTIF($AI$7:$AI$80,AI18)) | AL18: =IF(Y18="","",IF(AND(Y18="도비",AI18="세입없음"),"OK",IF(AND(Y18<>"도비",AI18<>""),"OK","@@"))) | AN18: {=IF(D18="","",INDEX(구분표!$I$2:$I$311, MATCH(1,(구분표!$E$2:$E$311='2추특출'!C18)*(구분표!$F$2:$F$311='2추특출'!D18)*(구분표!$G$2:$G$311='2추특출'!B18),0)))}
A19: =COUNTA($C$8:C19)-COUNTBLANK($C$8:C19) -> 1 | C19: =IF(D19="","",VLOOKUP(D19,구분표!$A$3:$C$215,3,)) | L19: =J19-K19 -> 0 | O19: =J19+M19+N19 -> 0 | R19: =J19+P19+Q19 -> 0 | S19: =IF(AND((O19=0),(R19>0)),"O",IF(AND((M19<0),(O19-R19<0)),"O","X")) -> X | Z19: =IF($Y19<>"도비",IF($W19="국도비","직접입력",SUM($M19:$N19)),) -> 0 | AA19: =IF($Y19="도비",SUM($M19:$N19),IF($W19="국도비","직접입력",SUM($M19:$N19)-$Z19)) -> 0 | AB19: =IF(SUM($M19:$N19)=SUM($Z19:$AA19),"OK","검토") -> OK | AE19: =IF($Y19<>"도비",IF($W19="국도비","직접입력",SUM($P19:$Q19)),) -> 0 | AF19: =IF($Y19="도비",SUM(P19:Q19),IF($W19="국도비","직접입력",SUM(P19:Q19)-AE19)) -> 0 | AG19: =IF(SUM(P19:Q19)=SUM(AE19:AF19),"OK","검토") -> OK | AI19: =IF(Y19="","",IF(Y19="도비","세입없음","직접입력")) | AK19: =IF(AI19="","",COUNTIF($AI$7:$AI$80,AI19)) | AL19: =IF(Y19="","",IF(AND(Y19="도비",AI19="세입없음"),"OK",IF(AND(Y19<>"도비",AI19<>""),"OK","@@"))) | AN19: {=IF(D19="","",INDEX(구분표!$I$2:$I$311, MATCH(1,(구분표!$E$2:$E$311='2추특출'!C19)*(구분표!$F$2:$F$311='2추특출'!D19)*(구분표!$G$2:$G$311='2추특출'!B19),0)))}
A20: =COUNTA($C$8:C20)-COUNTBLANK($C$8:C20) -> 1 | C20: =IF(D20="","",VLOOKUP(D20,구분표!$A$3:$C$215,3,)) | L20: =J20-K20 -> 0 | O20: =J20+M20+N20 -> 0 | R20: =J20+P20+Q20 -> 0 | S20: =IF(AND((O20=0),(R20>0)),"O",IF(AND((M20<0),(O20-R20<0)),"O","X")) -> X | Z20: =IF($Y20<>"도비",IF($W20="국도비","직접입력",SUM($M20:$N20)),) -> 0 | AA20: =IF($Y20="도비",SUM($M20:$N20),IF($W20="국도비","직접입력",SUM($M20:$N20)-$Z20)) -> 0 | AB20: =IF(SUM($M20:$N20)=SUM($Z20:$AA20),"OK","검토") -> OK | AE20: =IF($Y20<>"도비",IF($W20="국도비","직접입력",SUM($P20:$Q20)),) -> 0 | AF20: =IF($Y20="도비",SUM(P20:Q20),IF($W20="국도비","직접입력",SUM(P20:Q20)-AE20)) -> 0 | AG20: =IF(SUM(P20:Q20)=SUM(AE20:AF20),"OK","검토") -> OK | AI20: =IF(Y20="","",IF(Y20="도비","세입없음","직접입력")) | AK20: =IF(AI20="","",COUNTIF($AI$7:$AI$80,AI20)) | AL20: =IF(Y20="","",IF(AND(Y20="도비",AI20="세입없음"),"OK",IF(AND(Y20<>"도비",AI20<>""),"OK","@@"))) | AN20: {=IF(D20="","",INDEX(구분표!$I$2:$I$311, MATCH(1,(구분표!$E$2:$E$311='2추특출'!C20)*(구분표!$F$2:$F$311='2추특출'!D20)*(구분표!$G$2:$G$311='2추특출'!B20),0)))}
... A64: =COUNTA($C$8:C64)-COUNTBLANK($C$8:C64) -> 1 | C64: =IF(D64="","",VLOOKUP(D64,구분표!$A$3:$C$215,3,)) | L64: =J64-K64 -> 0 | O64: =J64+M64+N64 -> 0 | R64: =J64+P64+Q64 -> 0 | S64: =IF(AND((O64=0),(R64>0)),"O",IF(AND((M64<0),(O64-R64<0)),"O","X")) -> X | Z64: =IF($Y64<>"도비",IF($W64="국도비","직접입력",SUM($M64:$N64)),) -> 0 | AA64: =IF($Y64="도비",SUM($M64:$N64),IF($W64="국도비","직접입력",SUM($M64:$N64)-$Z64)) -> 0 | AB64: =IF(SUM($M64:$N64)=SUM($Z64:$AA64),"OK","검토") -> OK | AE64: =IF($Y64<>"도비",IF($W64="국도비","직접입력",SUM($P64:$Q64)),) -> 0 | AF64: =IF($Y64="도비",SUM(P64:Q64),IF($W64="국도비","직접입력",SUM(P64:Q64)-AE64)) -> 0 | AG64: =IF(SUM(P64:Q64)=SUM(AE64:AF64),"OK","검토") -> OK | AI64: =IF(Y64="","",IF(Y64="도비","세입없음","직접입력")) | AK64: =IF(AI64="","",COUNTIF($AI$7:$AI$80,AI64)) | AL64: =IF(Y64="","",IF(AND(Y64="도비",AI64="세입없음"),"OK",IF(AND(Y64<>"도비",AI64<>""),"OK","@@"))) | AN64: {=IF(D64="","",INDEX(구분표!$I$2:$I$311, MATCH(1,(구분표!$E$2:$E$311='2추특출'!C64)*(구분표!$F$2:$F$311='2추특출'!D64)*(구분표!$G$2:$G$311='2추특출'!B64),0)))}
A65: =COUNTA($C$8:C65)-COUNTBLANK($C$8:C65) -> 0 | L65: =J65-K65 -> 0 | O65: =J65+M65+N65 -> 0 | R65: =J65+P65+Q65 -> 0 | S65: =IF(AND((O65=0),(R65>0)),"O",IF(AND((M65<0),(O65-R65<0)),"O","X")) -> X | Z65: =IF($Y65<>"도비",IF($W65="국도비","직접입력",SUM($M65:$N65)),) -> 0 | AA65: =IF($Y65="도비",SUM($M65:$N65),IF($W65="국도비","직접입력",SUM($M65:$N65)-$Z65)) -> 0 | AB65: =IF(SUM($M65:$N65)=SUM($Z65:$AA65),"OK","검토") -> OK | AE65: =IF($Y65<>"도비",IF($W65="국도비","직접입력",SUM($P65:$Q65)),) -> 0 | AF65: =IF($Y65="도비",SUM(P65:Q65),IF($W65="국도비","직접입력",SUM(P65:Q65)-AE65)) -> 0 | AG65: =IF(SUM(P65:Q65)=SUM(AE65:AF65),"OK","검토") -> OK | AI65: =IF(Y65="","",IF(Y65="도비","세입없음","직접입력")) | AK65: =IF(AI65="","",COUNTIF($AI$7:$AI$80,AI65)) | AL65: =IF(Y65="","",IF(AND(Y65="도비",AI65="세입없음"),"OK",IF(AND(Y65<>"도비",AI65<>""),"OK","@@"))) | AN65: {=IF(D65="","",INDEX(구분표!$I$2:$I$311, MATCH(1,(구분표!$E$2:$E$311='2추특출'!C65)*(구분표!$F$2:$F$311='2추특출'!D65)*(구분표!$G$2:$G$311='2추특출'!B65),0)))}
A66: =COUNTA($C$8:C66)-COUNTBLANK($C$8:C66) -> 0 | C66: =IF(D66="","",VLOOKUP(D66,구분표!$A$3:$C$215,3,)) | L66: =J66-K66 -> 0 | O66: =J66+M66+N66 -> 0 | R66: =J66+P66+Q66 -> 0 | S66: =IF(AND((O66=0),(R66>0)),"O",IF(AND((M66<0),(O66-R66<0)),"O","X")) -> X | Z66: =IF($Y66<>"도비",IF($W66="국도비","직접입력",SUM($M66:$N66)),) -> 0 | AA66: =IF($Y66="도비",SUM($M66:$N66),IF($W66="국도비","직접입력",SUM($M66:$N66)-$Z66)) -> 0 | AB66: =IF(SUM($M66:$N66)=SUM($Z66:$AA66),"OK","검토") -> OK | AE66: =IF($Y66<>"도비",IF($W66="국도비","직접입력",SUM($P66:$Q66)),) -> 0 | AF66: =IF($Y66="도비",SUM(P66:Q66),IF($W66="국도비","직접입력",SUM(P66:Q66)-AE66)) -> 0 | AG66: =IF(SUM(P66:Q66)=SUM(AE66:AF66),"OK","검토") -> OK | AI66: =IF(Y66="","",IF(Y66="도비","세입없음","직접입력")) | AK66: =IF(AI66="","",COUNTIF($AI$7:$AI$80,AI66)) | AL66: =IF(Y66="","",IF(AND(Y66="도비",AI66="세입없음"),"OK",IF(AND(Y66<>"도비",AI66<>""),"OK","@@"))) | AN66: {=IF(D66="","",INDEX(구분표!$I$2:$I$311, MATCH(1,(구분표!$E$2:$E$311='2추특출'!C66)*(구분표!$F$2:$F$311='2추특출'!D66)*(구분표!$G$2:$G$311='2추특출'!B66),0)))}
A67: =COUNTA($C$8:C67)-COUNTBLANK($C$8:C67) -> 0 | C67: =IF(D67="","",VLOOKUP(D67,구분표!$A$3:$C$215,3,)) | L67: =J67-K67 -> 0 | O67: =J67+M67+N67 -> 0 | R67: =J67+P67+Q67 -> 0 | S67: =IF(AND((O67=0),(R67>0)),"O",IF(AND((M67<0),(O67-R67<0)),"O","X")) -> X | Z67: =IF($Y67<>"도비",IF($W67="국도비","직접입력",SUM($M67:$N67)),) -> 0 | AA67: =IF($Y67="도비",SUM($M67:$N67),IF($W67="국도비","직접입력",SUM($M67:$N67)-$Z67)) -> 0 | AB67: =IF(SUM($M67:$N67)=SUM($Z67:$AA67),"OK","검토") -> OK | AE67: =IF($Y67<>"도비",IF($W67="국도비","직접입력",SUM($P67:$Q67)),) -> 0 | AF67: =IF($Y67="도비",SUM(P67:Q67),IF($W67="국도비","직접입력",SUM(P67:Q67)-AE67)) -> 0 | AG67: =IF(SUM(P67:Q67)=SUM(AE67:AF67),"OK","검토") -> OK | AI67: =IF(Y67="","",IF(Y67="도비","세입없음","직접입력")) | AK67: =IF(AI67="","",COUNTIF($AI$7:$AI$80,AI67)) | AL67: =IF(Y67="","",IF(AND(Y67="도비",AI67="세입없음"),"OK",IF(AND(Y67<>"도비",AI67<>""),"OK","@@"))) | AN67: {=IF(D67="","",INDEX(구분표!$I$2:$I$311, MATCH(1,(구분표!$E$2:$E$311='2추특출'!C67)*(구분표!$F$2:$F$311='2추특출'!D67)*(구분표!$G$2:$G$311='2추특출'!B67),0)))}
A68: =COUNTA($C$8:C68)-COUNTBLANK($C$8:C68) -> 0 | C68: =IF(D68="","",VLOOKUP(D68,구분표!$A$3:$C$215,3,)) | L68: =J68-K68 -> 0 | O68: =J68+M68+N68 -> 0 | R68: =J68+P68+Q68 -> 0 | S68: =IF(AND((O68=0),(R68>0)),"O",IF(AND((M68<0),(O68-R68<0)),"O","X")) -> X | Z68: =IF($Y68<>"도비",IF($W68="국도비","직접입력",SUM($M68:$N68)),) -> 0 | AA68: =IF($Y68="도비",SUM($M68:$N68),IF($W68="국도비","직접입력",SUM($M68:$N68)-$Z68)) -> 0 | AB68: =IF(SUM($M68:$N68)=SUM($Z68:$AA68),"OK","검토") -> OK | AE68: =IF($Y68<>"도비",IF($W68="국도비","직접입력",SUM($P68:$Q68)),) -> 0 | AF68: =IF($Y68="도비",SUM(P68:Q68),IF($W68="국도비","직접입력",SUM(P68:Q68)-AE68)) -> 0 | AG68: =IF(SUM(P68:Q68)=SUM(AE68:AF68),"OK","검토") -> OK | AI68: =IF(Y68="","",IF(Y68="도비","세입없음","직접입력")) | AK68: =IF(AI68="","",COUNTIF($AI$7:$AI$80,AI68)) | AL68: =IF(Y68="","",IF(AND(Y68="도비",AI68="세입없음"),"OK",IF(AND(Y68<>"도비",AI68<>""),"OK","@@"))) | AN68: {=IF(D68="","",INDEX(구분표!$I$2:$I$311, MATCH(1,(구분표!$E$2:$E$311='2추특출'!C68)*(구분표!$F$2:$F$311='2추특출'!D68)*(구분표!$G$2:$G$311='2추특출'!B68),0)))}
A69: =COUNTA($C$8:C69)-COUNTBLANK($C$8:C69) -> 0 | C69: =IF(D69="","",VLOOKUP(D69,구분표!$A$3:$C$215,3,)) | L69: =J69-K69 -> 0 | O69: =J69+M69+N69 -> 0 | R69: =J69+P69+Q69 -> 0 | S69: =IF(AND((O69=0),(R69>0)),"O",IF(AND((M69<0),(O69-R69<0)),"O","X")) -> X | Z69: =IF($Y69<>"도비",IF($W69="국도비","직접입력",SUM($M69:$N69)),) -> 0 | AA69: =IF($Y69="도비",SUM($M69:$N69),IF($W69="국도비","직접입력",SUM($M69:$N69)-$Z69)) -> 0 | AB69: =IF(SUM($M69:$N69)=SUM($Z69:$AA69),"OK","검토") -> OK | AE69: =IF($Y69<>"도비",IF($W69="국도비","직접입력",SUM($P69:$Q69)),) -> 0 | AF69: =IF($Y69="도비",SUM(P69:Q69),IF($W69="국도비","직접입력",SUM(P69:Q69)-AE69)) -> 0 | AG69: =IF(SUM(P69:Q69)=SUM(AE69:AF69),"OK","검토") -> OK | AI69: =IF(Y69="","",IF(Y69="도비","세입없음","직접입력")) | AK69: =IF(AI69="","",COUNTIF($AI$7:$AI$80,AI69)) | AL69: =IF(Y69="","",IF(AND(Y69="도비",AI69="세입없음"),"OK",IF(AND(Y69<>"도비",AI69<>""),"OK","@@"))) | AN69: {=IF(D69="","",INDEX(구분표!$I$2:$I$311, MATCH(1,(구분표!$E$2:$E$311='2추특출'!C69)*(구분표!$F$2:$F$311='2추특출'!D69)*(구분표!$G$2:$G$311='2추특출'!B69),0)))}
A70: =COUNTA($C$8:C70)-COUNTBLANK($C$8:C70) -> 0 | C70: =IF(D70="","",VLOOKUP(D70,구분표!$A$3:$C$215,3,)) | L70: =J70-K70 -> 0 | O70: =J70+M70+N70 -> 0 | R70: =J70+P70+Q70 -> 0 | S70: =IF(AND((O70=0),(R70>0)),"O",IF(AND((M70<0),(O70-R70<0)),"O","X")) -> X | Z70: =IF($Y70<>"도비",IF($W70="국도비","직접입력",SUM($M70:$N70)),) -> 0 | AA70: =IF($Y70="도비",SUM($M70:$N70),IF($W70="국도비","직접입력",SUM($M70:$N70)-$Z70)) -> 0 | AB70: =IF(SUM($M70:$N70)=SUM($Z70:$AA70),"OK","검토") -> OK | AE70: =IF($Y70<>"도비",IF($W70="국도비","직접입력",SUM($P70:$Q70)),) -> 0 | AF70: =IF($Y70="도비",SUM(P70:Q70),IF($W70="국도비","직접입력",SUM(P70:Q70)-AE70)) -> 0 | AG70: =IF(SUM(P70:Q70)=SUM(AE70:AF70),"OK","검토") -> OK | AI70: =IF(Y70="","",IF(Y70="도비","세입없음","직접입력")) | AK70: =IF(AI70="","",COUNTIF($AI$7:$AI$80,AI70)) | AL70: =IF(Y70="","",IF(AND(Y70="도비",AI70="세입없음"),"OK",IF(AND(Y70<>"도비",AI70<>""),"OK","@@"))) | AN70: {=IF(D70="","",INDEX(구분표!$I$2:$I$311, MATCH(1,(구분표!$E$2:$E$311='2추특출'!C70)*(구분표!$F$2:$F$311='2추특출'!D70)*(구분표!$G$2:$G$311='2추특출'!B70),0)))}
B71: ( 특별회계) | J71: =SUBTOTAL(9,J72:J76) -> 0 | K71: =SUBTOTAL(9,K72:K76) -> 0 | L71: =SUBTOTAL(9,L72:L76) -> 0 | M71: =SUBTOTAL(9,M72:M76) -> 0 | N71: =SUBTOTAL(9,N72:N76) -> 0 | O71: =SUBTOTAL(9,O72:O76) -> 0 | P71: =SUBTOTAL(9,P72:P76) -> 0 | Q71: =SUBTOTAL(9,Q72:Q76) -> 0 | R71: =SUBTOTAL(9,R72:R76) -> 0 | AI71: =IF(Y71="","",IF(Y71="도비","세입없음","직접입력"))
A72: =COUNTA($C$8:C72)-COUNTBLANK($C$8:C72)+1 -> 0 | C72: =IF(D72="","",VLOOKUP(D72,구분표!$A$3:$C$215,3,)) | L72: =J72-K72 -> 0 | O72: =J72+M72+N72 -> 0 | R72: =J72+P72+Q72 -> 0 | S72: =IF(AND((O72=0),(R72>0)),"O",IF(AND((M72<0),(O72-R72<0)),"O","X")) -> X | Z72: =IF($Y72<>"도비",IF($W72="국도비","직접입력",SUM($M72:$N72)),) -> 0 | AA72: =IF($Y72="도비",SUM($M72:$N72),IF($W72="국도비","직접입력",SUM($M72:$N72)-$Z72)) -> 0 | AB72: =IF(SUM($M72:$N72)=SUM($Z72:$AA72),"OK","검토") -> OK | AE72: =IF($Y72<>"도비",IF($W72="국도비","직접입력",SUM($P72:$Q72)),) -> 0 | AF72: =IF($Y72="도비",SUM(P72:Q72),IF($W72="국도비","직접입력",SUM(P72:Q72)-AE72)) -> 0 | AG72: =IF(SUM(P72:Q72)=SUM(AE72:AF72),"OK","검토") -> OK | AI72: =IF(Y72="","",IF(Y72="도비","세입없음","직접입력")) | AK72: =IF(AI72="","",COUNTIF($AI$7:$AI$80,AI72)) | AL72: =IF(Y72="","",IF(AND(Y72="도비",AI72="세입없음"),"OK",IF(AND(Y72<>"도비",AI72<>""),"OK","@@"))) | AN72: {=IF(D72="","",INDEX(구분표!$I$2:$I$311, MATCH(1,(구분표!$E$2:$E$311='2추특출'!C72)*(구분표!$F$2:$F$311='2추특출'!D72)*(구분표!$G$2:$G$311='2추특출'!B72),0)))}
A73: =COUNTA($C$8:C73)-COUNTBLANK($C$8:C73)+1 -> 0 | C73: =IF(D73="","",VLOOKUP(D73,구분표!$A$3:$C$215,3,)) | L73: =J73-K73 -> 0 | O73: =J73+M73+N73 -> 0 | R73: =J73+P73+Q73 -> 0 | S73: =IF(AND((O73=0),(R73>0)),"O",IF(AND((M73<0),(O73-R73<0)),"O","X")) -> X | Z73: =IF($Y73<>"도비",IF($W73="국도비","직접입력",SUM($M73:$N73)),) -> 0 | AA73: =IF($Y73="도비",SUM($M73:$N73),IF($W73="국도비","직접입력",SUM($M73:$N73)-$Z73)) -> 0 | AB73: =IF(SUM($M73:$N73)=SUM($Z73:$AA73),"OK","검토") -> OK | AE73: =IF($Y73<>"도비",IF($W73="국도비","직접입력",SUM($P73:$Q73)),) -> 0 | AF73: =IF($Y73="도비",SUM(P73:Q73),IF($W73="국도비","직접입력",SUM(P73:Q73)-AE73)) -> 0 | AG73: =IF(SUM(P73:Q73)=SUM(AE73:AF73),"OK","검토") -> OK | AI73: =IF(Y73="","",IF(Y73="도비","세입없음","직접입력")) | AK73: =IF(AI73="","",COUNTIF($AI$7:$AI$80,AI73)) | AL73: =IF(Y73="","",IF(AND(Y73="도비",AI73="세입없음"),"OK",IF(AND(Y73<>"도비",AI73<>""),"OK","@@"))) | AN73: {=IF(D73="","",INDEX(구분표!$I$2:$I$311, MATCH(1,(구분표!$E$2:$E$311='2추특출'!C73)*(구분표!$F$2:$F$311='2추특출'!D73)*(구분표!$G$2:$G$311='2추특출'!B73),0)))}
A74: =COUNTA($C$8:C74)-COUNTBLANK($C$8:C74)+1 -> 0 | C74: =IF(D74="","",VLOOKUP(D74,구분표!$A$3:$C$215,3,)) | L74: =J74-K74 -> 0 | O74: =J74+M74+N74 -> 0 | R74: =J74+P74+Q74 -> 0 | S74: =IF(AND((O74=0),(R74>0)),"O",IF(AND((M74<0),(O74-R74<0)),"O","X")) -> X | Z74: =IF($Y74<>"도비",IF($W74="국도비","직접입력",SUM($M74:$N74)),) -> 0 | AA74: =IF($Y74="도비",SUM($M74:$N74),IF($W74="국도비","직접입력",SUM($M74:$N74)-$Z74)) -> 0 | AB74: =IF(SUM($M74:$N74)=SUM($Z74:$AA74),"OK","검토") -> OK | AE74: =IF($Y74<>"도비",IF($W74="국도비","직접입력",SUM($P74:$Q74)),) -> 0 | AF74: =IF($Y74="도비",SUM(P74:Q74),IF($W74="국도비","직접입력",SUM(P74:Q74)-AE74)) -> 0 | AG74: =IF(SUM(P74:Q74)=SUM(AE74:AF74),"OK","검토") -> OK | AI74: =IF(Y74="","",IF(Y74="도비","세입없음","직접입력")) | AK74: =IF(AI74="","",COUNTIF($AI$7:$AI$80,AI74)) | AL74: =IF(Y74="","",IF(AND(Y74="도비",AI74="세입없음"),"OK",IF(AND(Y74<>"도비",AI74<>""),"OK","@@"))) | AN74: {=IF(D74="","",INDEX(구분표!$I$2:$I$311, MATCH(1,(구분표!$E$2:$E$311='2추특출'!C74)*(구분표!$F$2:$F$311='2추특출'!D74)*(구분표!$G$2:$G$311='2추특출'!B74),0)))}
A75: =COUNTA($C$8:C75)-COUNTBLANK($C$8:C75)+1 -> 0 | C75: =IF(D75="","",VLOOKUP(D75,구분표!$A$3:$C$215,3,)) | L75: =J75-K75 -> 0 | O75: =J75+M75+N75 -> 0 | R75: =J75+P75+Q75 -> 0 | S75: =IF(AND((O75=0),(R75>0)),"O",IF(AND((M75<0),(O75-R75<0)),"O","X")) -> X | Z75: =IF($Y75<>"도비",IF($W75="국도비","직접입력",SUM($M75:$N75)),) -> 0 | AA75: =IF($Y75="도비",SUM($M75:$N75),IF($W75="국도비","직접입력",SUM($M75:$N75)-$Z75)) -> 0 | AB75: =IF(SUM($M75:$N75)=SUM($Z75:$AA75),"OK","검토") -> OK | AE75: =IF($Y75<>"도비",IF($W75="국도비","직접입력",SUM($P75:$Q75)),) -> 0 | AF75: =IF($Y75="도비",SUM(P75:Q75),IF($W75="국도비","직접입력",SUM(P75:Q75)-AE75)) -> 0 | AG75: =IF(SUM(P75:Q75)=SUM(AE75:AF75),"OK","검토") -> OK | AI75: =IF(Y75="","",IF(Y75="도비","세입없음","직접입력")) | AK75: =IF(AI75="","",COUNTIF($AI$7:$AI$80,AI75)) | AL75: =IF(Y75="","",IF(AND(Y75="도비",AI75="세입없음"),"OK",IF(AND(Y75<>"도비",AI75<>""),"OK","@@"))) | AN75: {=IF(D75="","",INDEX(구분표!$I$2:$I$311, MATCH(1,(구분표!$E$2:$E$311='2추특출'!C75)*(구분표!$F$2:$F$311='2추특출'!D75)*(구분표!$G$2:$G$311='2추특출'!B75),0)))}
A76: =COUNTA($C$8:C76)-COUNTBLANK($C$8:C76)+1 -> 0 | C76: =IF(D76="","",VLOOKUP(D76,구분표!$A$3:$C$215,3,)) | L76: =J76-K76 -> 0 | O76: =J76+M76+N76 -> 0 | R76: =J76+P76+Q76 -> 0 | S76: =IF(AND((O76=0),(R76>0)),"O",IF(AND((M76<0),(O76-R76<0)),"O","X")) -> X | Z76: =IF($Y76<>"도비",IF($W76="국도비","직접입력",SUM($M76:$N76)),) -> 0 | AA76: =IF($Y76="도비",SUM($M76:$N76),IF($W76="국도비","직접입력",SUM($M76:$N76)-$Z76)) -> 0 | AB76: =IF(SUM($M76:$N76)=SUM($Z76:$AA76),"OK","검토") -> OK | AE76: =IF($Y76<>"도비",IF($W76="국도비","직접입력",SUM($P76:$Q76)),) -> 0 | AF76: =IF($Y76="도비",SUM(P76:Q76),IF($W76="국도비","직접입력",SUM(P76:Q76)-AE76)) -> 0 | AG76: =IF(SUM(P76:Q76)=SUM(AE76:AF76),"OK","검토") -> OK | AI76: =IF(Y76="","",IF(Y76="도비","세입없음","직접입력")) | AK76: =IF(AI76="","",COUNTIF($AI$7:$AI$80,AI76)) | AL76: =IF(Y76="","",IF(AND(Y76="도비",AI76="세입없음"),"OK",IF(AND(Y76<>"도비",AI76<>""),"OK","@@"))) | AN76: {=IF(D76="","",INDEX(구분표!$I$2:$I$311, MATCH(1,(구분표!$E$2:$E$311='2추특출'!C76)*(구분표!$F$2:$F$311='2추특출'!D76)*(구분표!$G$2:$G$311='2추특출'!B76),0)))}
B77: ( 특별회계) | J77: =SUBTOTAL(9,J78:J80) -> 0 | K77: =SUBTOTAL(9,K78:K80) -> 0 | L77: =SUBTOTAL(9,L78:L80) -> 0 | M77: =SUBTOTAL(9,M78:M80) -> 0 | N77: =SUBTOTAL(9,N78:N80) -> 0 | O77: =SUBTOTAL(9,O78:O80) -> 0 | P77: =SUBTOTAL(9,P78:P80) -> 0 | Q77: =SUBTOTAL(9,Q78:Q80) -> 0 | R77: =SUBTOTAL(9,R78:R80) -> 0 | AI77: =IF(Y77="","",IF(Y77="도비","세입없음","직접입력"))
A78: =COUNTA($C$8:C78)-COUNTBLANK($C$8:C78)+2 -> 0 | C78: =IF(D78="","",VLOOKUP(D78,구분표!$A$3:$C$215,3,)) | L78: =J78-K78 -> 0 | O78: =J78+M78+N78 -> 0 | R78: =J78+P78+Q78 -> 0 | S78: =IF(AND((O78=0),(R78>0)),"O",IF(AND((M78<0),(O78-R78<0)),"O","X")) -> X | Z78: =IF($Y78<>"도비",IF($W78="국도비","직접입력",SUM($M78:$N78)),) -> 0 | AA78: =IF($Y78="도비",SUM($M78:$N78),IF($W78="국도비","직접입력",SUM($M78:$N78)-$Z78)) -> 0 | AB78: =IF(SUM($M78:$N78)=SUM($Z78:$AA78),"OK","검토") -> OK | AE78: =IF($Y78<>"도비",IF($W78="국도비","직접입력",SUM($P78:$Q78)),) -> 0 | AF78: =IF($Y78="도비",SUM(P78:Q78),IF($W78="국도비","직접입력",SUM(P78:Q78)-AE78)) -> 0 | AG78: =IF(SUM(P78:Q78)=SUM(AE78:AF78),"OK","검토") -> OK | AI78: =IF(Y78="","",IF(Y78="도비","세입없음","직접입력")) | AK78: =IF(AI78="","",COUNTIF($AI$7:$AI$80,AI78)) | AL78: =IF(Y78="","",IF(AND(Y78="도비",AI78="세입없음"),"OK",IF(AND(Y78<>"도비",AI78<>""),"OK","@@"))) | AN78: {=IF(D78="","",INDEX(구분표!$I$2:$I$311, MATCH(1,(구분표!$E$2:$E$311='2추특출'!C78)*(구분표!$F$2:$F$311='2추특출'!D78)*(구분표!$G$2:$G$311='2추특출'!B78),0)))}
A79: =COUNTA($C$8:C79)-COUNTBLANK($C$8:C79)+2 -> 0 | C79: =IF(D79="","",VLOOKUP(D79,구분표!$A$3:$C$215,3,)) | L79: =J79-K79 -> 0 | O79: =J79+M79+N79 -> 0 | R79: =J79+P79+Q79 -> 0 | S79: =IF(AND((O79=0),(R79>0)),"O",IF(AND((M79<0),(O79-R79<0)),"O","X")) -> X | Z79: =IF($Y79<>"도비",IF($W79="국도비","직접입력",SUM($M79:$N79)),) -> 0 | AA79: =IF($Y79="도비",SUM($M79:$N79),IF($W79="국도비","직접입력",SUM($M79:$N79)-$Z79)) -> 0 | AB79: =IF(SUM($M79:$N79)=SUM($Z79:$AA79),"OK","검토") -> OK | AE79: =IF($Y79<>"도비",IF($W79="국도비","직접입력",SUM($P79:$Q79)),) -> 0 | AF79: =IF($Y79="도비",SUM(P79:Q79),IF($W79="국도비","직접입력",SUM(P79:Q79)-AE79)) -> 0 | AG79: =IF(SUM(P79:Q79)=SUM(AE79:AF79),"OK","검토") -> OK | AI79: =IF(Y79="","",IF(Y79="도비","세입없음","직접입력")) | AK79: =IF(AI79="","",COUNTIF($AI$7:$AI$80,AI79)) | AL79: =IF(Y79="","",IF(AND(Y79="도비",AI79="세입없음"),"OK",IF(AND(Y79<>"도비",AI79<>""),"OK","@@"))) | AN79: {=IF(D79="","",INDEX(구분표!$I$2:$I$311, MATCH(1,(구분표!$E$2:$E$311='2추특출'!C79)*(구분표!$F$2:$F$311='2추특출'!D79)*(구분표!$G$2:$G$311='2추특출'!B79),0)))}
A80: =COUNTA($C$8:C80)-COUNTBLANK($C$8:C80)+2 -> 0 | C80: =IF(D80="","",VLOOKUP(D80,구분표!$A$3:$C$215,3,)) | L80: =J80-K80 -> 0 | O80: =J80+M80+N80 -> 0 | R80: =J80+P80+Q80 -> 0 | S80: =IF(AND((O80=0),(R80>0)),"O",IF(AND((M80<0),(O80-R80<0)),"O","X")) -> X | Z80: =IF($Y80<>"도비",IF($W80="국도비","직접입력",SUM($M80:$N80)),) -> 0 | AA80: =IF($Y80="도비",SUM($M80:$N80),IF($W80="국도비","직접입력",SUM($M80:$N80)-$Z80)) -> 0 | AB80: =IF(SUM($M80:$N80)=SUM($Z80:$AA80),"OK","검토") -> OK | AE80: =IF($Y80<>"도비",IF($W80="국도비","직접입력",SUM($P80:$Q80)),) -> 0 | AF80: =IF($Y80="도비",SUM(P80:Q80),IF($W80="국도비","직접입력",SUM(P80:Q80)-AE80)) -> 0 | AG80: =IF(SUM(P80:Q80)=SUM(AE80:AF80),"OK","검토") -> OK | AI80: =IF(Y80="","",IF(Y80="도비","세입없음","직접입력")) | AK80: =IF(AI80="","",COUNTIF($AI$7:$AI$80,AI80)) | AL80: =IF(Y80="","",IF(AND(Y80="도비",AI80="세입없음"),"OK",IF(AND(Y80<>"도비",AI80<>""),"OK","@@"))) | AN80: {=IF(D80="","",INDEX(구분표!$I$2:$I$311, MATCH(1,(구분표!$E$2:$E$311='2추특출'!C80)*(구분표!$F$2:$F$311='2추특출'!D80)*(구분표!$G$2:$G$311='2추특출'!B80),0)))}
