Workbook

Sheet 구분표
A2: 실과명 | B2: 위원회명 | C2: 실국명 | E2: 실국명 | F2: 실과명 | G2: 위원회명 | H2: 정렬순서 | I2: 정렬코드
A3: 총무담당관 | B3: 의회운영위원회 | C3: 의회사무처 | E3: 의회사무처 | F3: 총무담당관 | G3: 의회운영위원회 | H3: 1 | I3: 50101
A4: 공보담당관 | B4: 의회운영위원회 | C4: 의회사무처 | E4: 의회사무처 | F4: 공보담당관 | G4: 의회운영위원회 | H4: 2 | I4: 50102
A5: 의사담당관 | B5: 의회운영위원회 | C5: 의회사무처 | E5: 의회사무처 | F5: 의사담당관 | G5: 의회운영위원회 | H5: 3 | I5: 50103
A6: 의정지원담당관 | B6: 의회운영위원회 | C6: 의회사무처 | E6: 의회사무처 | F6: 의정지원담당관 | G6: 의회운영위원회 | H6: 4 | I6: 50106
A7: 입법정책담당관 | B7: 의회운영위원회 | C7: 의회사무처 | E7: 의회사무처 | F7: 입법정책담당관 | G7: 의회운영위원회 | H7: 5 | I7: 50104
A8: 예산정책담당관 | B8: 의회운영위원회 | C8: 의회사무처 | E8: 의회사무처 | F8: 예산정책담당관 | G8: 의회운영위원회 | H8: 6 | I8: 50105
A9: 언론협력담당관 | B9: 의회운영위원회 | C9: 대변인 | E9: 대변인 | F9: 언론협력담당관 | G9: 의회운영위원회 | H9: 7 | I9: 10101
A10: 보도기획담당관 | B10: 의회운영위원회 | C10: 대변인 | E10: 대변인 | F10: 보도기획담당관 | G10: 의회운영위원회 | H10: 8 | I10: 10102
A11: 홍보미디어담당관 | B11: 의회운영위원회 | C11: 소통기획관 | E11: 소통기획관 | F11: 홍보미디어담당관 | G11: 의회운영위원회 | H11: 9 | I11: 10201
A12: 홍보콘텐츠담당관 | B12: 의회운영위원회 | C12: 소통기획관 | E12: 소통기획관 | F12: 홍보콘텐츠담당관 | G12: 의회운영위원회 | H12: 10 | I12: 10202
A13: 연정협력과 | B13: 의회운영위원회 | C13: 연정협력국 | E13: 연정협력국 | F13: 연정협력과 | G13: 의회운영위원회 | H13: 11 | I13: 30101
A14: 대외협력과 | B14: 의회운영위원회 | C14: 연정협력국 | E14: 연정협력국 | F14: 대외협력과 | G14: 의회운영위원회 | H14: 12 | I14: 30102
... A216: 보육청소년담당관 | B216: 여성가족교육협력위원회 | C216: 복지여성실 | E216: 복지여성실 | F216: 보육청소년담당관 | G216: 여성가족교육협력위원회 | H216: 214 | I216: 11201

Sheet 예결표지(세로)
A5: 2017년도 제1회 일반회계 및 특별회계 추가경정 세입·세출 예산안
A7: 예결위 계수조정 결과
A20: 예산결산특별위원회

Sheet 예결표지(가로)
A3: 2017년도 제1회 일반회계 및 특별회계 추가경정 세입·세출 예산안
A5: 예결위 계수조정 결과
A14: 예산결산특별위원회

Sheet 검증
A1: 제4회 추경 일반회계 검증 | H1: 4추 예비비 | J1: 조정액 | K1: =IFERROR(INDEX('18년일출'!AE6:AE31,MATCH("*예비비*",'18년일출'!I6:I31,0)),0) -> 0 | L1: 조정잔액 | M1: =I1+K1 -> 0
M2: (단위 : 천원)
A3: 구분 | B3: 상 임 위 | H3: 구분 | I3: 예 결 위
B4: 세입 | C4: 검증 | D4: 세출 | E4: 검증 | F4: 차액 | I4: 세입 | J4: 검증 | K4: 세출 | L4: 검증 | M4: 차액
A5: 전체 총계 | B5: =SUM(B6:B13)/2 -> #REF! | C5: =IF(B5=SUM(#REF!),"OK","@@") -> #REF! | D5: =SUM(D6:D13)/2 -> 0 | E5: =IF(D5=SUM('18년일출'!#REF!),"OK","@@") -> #REF! | H5: 전체 총계 | I5: =SUM(I6:I13)/2 -> #REF! | J5: =IF(I5=SUM(#REF!),"OK","@@") -> #REF! | K5: =SUM(K6:K13)/2 -> 0 | L5: =IF(K5=SUM('18년일출'!#REF!),"OK","@@") -> #REF!
A6: 자체 계 | B6: =SUM(B7:B8) -> #REF! | C6: =IF(B6=#REF!,"OK","@@") -> #REF! | D6: =SUM(D7:D8) -> 0 | E6: =IF(D6='18년일출'!#REF!,"OK","@@") -> #REF! | H6: 자체 계 | I6: =SUM(I7:I8) -> #REF! | J6: =IF(I6=#REF!,"OK","@@") -> #REF! | K6: =SUM(K7:K8) -> 0 | L6: =IF(K6='18년일출'!#REF!,"OK","@@") -> #REF!
A7: 자체 도비 | B7: =SUMIFS(#REF!,#REF!,"도비") -> #REF! | D7: =SUMIFS('18년일출'!$Z$6:$Z$31,'18년일출'!$X$6:$X$31,"도비") -> 0 | H7: 자체 도비 | I7: =SUMIFS(#REF!,#REF!,"국비") -> #REF! | K7: =SUMIFS('18년일출'!$AE$6:$AE$31,'18년일출'!$AC$6:$AC$31,"도비") -> 0
A8: 의존 매칭 도비 | B8: =SUMIFS(#REF!,#REF!,"국비")+SUMIFS(#REF!,#REF!,"지특")+SUMIFS(#REF!,#REF!,"기금")+SUMIFS(#REF!,#REF!,"특교") -> #REF! | D8: =SUMIFS('18년일출'!$Z$6:$Z$31,'18년일출'!$X$6:$X$31,"국비")+SUMIFS('18년일출'!$Z$6:$Z$31,'18년일출'!$X$6:$X$31,"지특")+SUMIFS('18년일출'!$Z$6:$Z$31,'18년일출'!$X$6:$X$31,"기금")+SUMIFS('18년일출'!$Z$6:$Z$31,'18년일출'!$X$6:$X$31,"특교") -> 0 | H8: 의존 매칭 도비 | I8: =SUMIFS(#REF!,#REF!,"국비")+SUMIFS(#REF!,#REF!,"지특")+SUMIFS(#REF!,#REF!,"기금")+SUMIFS(#REF!,#REF!,"특교") -> #REF! | K8: =SUMIFS('18년일출'!$AE$6:$AE$31,'18년일출'!$AC$6:$AC$31,"국비")+SUMIFS('18년일출'!$AE$6:$AE$31,'18년일출'!$AC$6:$AC$31,"지특")+SUMIFS('18년일출'!$AE$6:$AE$31,'18년일출'!$AC$6:$AC$31,"기금")+SUMIFS('18년일출'!$AE$6:$AE$31,'18년일출'!$AC$6:$AC$31,"특교") -> 0
A9: 의존 계 | B9: =SUM(B10:B13) -> #REF! | C9: =IF(B9=#REF!,"OK","@@") -> #REF! | D9: =SUM(D10:D13) -> 0 | E9: =IF(D9='18년일출'!#REF!,"OK","@@") -> #REF! | F9: =SUM(F10:F13) -> #REF! | H9: 의존 계 | I9: =SUM(I10:I13) -> #REF! | J9: =IF(I9=#REF!,"OK","@@") -> #REF! | K9: =SUM(K10:K13) -> 0 | L9: =IF(K9='18년일출'!#REF!,"OK","@@") -> #REF! | M9: =SUM(M10:M13) -> #REF!
A10: 국비 | B10: =SUMIFS(#REF!,#REF!,검증!A10) -> #REF! | D10: =SUMIFS('18년일출'!$Z$6:$Z$31,'18년일출'!$X$6:$X$31,검증!A10) -> 0 | F10: =D10-B10 -> #REF! | H10: 국비 | I10: =SUMIFS(#REF!,#REF!,검증!H10) -> #REF! | K10: =SUMIFS('18년일출'!$AE$6:$AE$31,'18년일출'!$AC$6:$AC$31,검증!H10) -> 0 | M10: =K10-I10 -> #REF!
A11: 지특 | B11: =SUMIFS(#REF!,#REF!,검증!A11) -> #REF! | D11: =SUMIFS('18년일출'!$Z$6:$Z$31,'18년일출'!$X$6:$X$31,검증!A11) -> 0 | F11: =D11-B11 -> #REF! | H11: 지특 | I11: =SUMIFS(#REF!,#REF!,검증!H11) -> #REF! | K11: =SUMIFS('18년일출'!$AE$6:$AE$31,'18년일출'!$AC$6:$AC$31,검증!H11) -> 0 | M11: =K11-I11 -> #REF!
A12: 기금 | B12: =SUMIFS(#REF!,#REF!,검증!A12) -> #REF! | D12: =SUMIFS('18년일출'!$Z$6:$Z$31,'18년일출'!$X$6:$X$31,검증!A12) -> 0 | F12: =D12-B12 -> #REF! | H12: 기금 | I12: =SUMIFS(#REF!,#REF!,검증!H12) -> #REF! | K12: =SUMIFS('18년일출'!$AE$6:$AE$31,'18년일출'!$AC$6:$AC$31,검증!H12) -> 0 | M12: =K12-I12 -> #REF!
A13: 특교 | B13: =SUMIFS(#REF!,#REF!,검증!A13) -> #REF! | D13: =SUMIFS('18년일출'!$Z$6:$Z$31,'18년일출'!$X$6:$X$31,검증!A13) -> 0 | F13: =D13-B13 -> #REF! | H13: 특교 | I13: =SUMIFS(#REF!,#REF!,검증!H13) -> #REF! | K13: =SUMIFS('18년일출'!$AE$6:$AE$31,'18년일출'!$AC$6:$AC$31,검증!H13) -> 0 | M13: =K13-I13 -> #REF!

Sheet 18년일출
B1: 2018년도 경기도 일반회계 세출 예산 조정(안)
B2: □ 세출예산 | P2: =Q2-#REF! -> #REF! | Q2: =#REF!-#REF! -> #REF! | S2: 6043819 | T2: =Q2+S2 -> #REF! | Y2: 세입=세출 | AD2: 세입=세출
J3: 기획재정위원회 증감 | K3: =SUM(K6,L6) -> 268231 | L3: 천원 | M3: =SUM(M6:M161)/2 -> 29572920 | O3: =SUM(O6:O161)/2 -> 0 | P3: =SUM(P6:P161)/2 -> 0 | Q3: =SUM(Q6:Q161)/2 -> 0 | U3: (단위 : 천원) | Y3: =IF(#REF!=#REF!,"OK","@@") -> #REF! | Z3: =#REF!+#REF!-#REF!-#REF! -> #REF! | AA3: =IF(COUNTIF(AA6:AA31,"검토")>0,"@@","OK") -> OK | AD3: =IF(#REF!=#REF!,"OK","@@") -> #REF! | AE3: =#REF!+#REF!-#REF!-#REF! -> #REF! | AF3: =IF(COUNTIF(AF6:AF31,"검토")>0,"@@","OK") -> OK
A4: 번호 | B4: 위원회명 | C4: 실국명 | D4: 부서명 | E4: 편성 구분 | F4: 연정 구분 | G4: 예산안 페이지 | H4: 사업설명서페이지 | I4: 세부사업명 및 부기명 | J4: 예산안 (가) | K4: 상임위 예산안 조정액(라) | M4: 상임위 조정 예산안 (마=가+라) | N4: 예결위 조정액 (아-마) | O4: 예결위 예산안(사) | Q4: 예결위 조정 예산안 (아=가+사) | R4: 동의 대상 | S4: 참고자료 | T4: 비고 (상임위 부대의견) | U4: 비고 (예결위 부대의견) | V4: 국도비 등 여부 | X4: 재원 | Y4: 상임위 재원별 증감액 | AC4: 재원 | AD4: 예결위 재원별 증감액 | AH4: 세입번호 | AJ4: 동일 세입 건수 | AK4: 세출 번호 검증 | AM4: 실국부서 코드 | AO4: 추가 내시 등
K5: 감액 | L5: 증액 | O5: 감액 | P5: 증액 | Y5: 국비 등 | Z5: 도비 | AA5: 검증 | AD5: 국비 등 | AE5: 도비 | AF5: 검증 | AQ5: 감액 | AR5: 증액
B6: (기획재정위원회) | J6: =SUM(J7:J31) -> 29304689 | K6: =SUM(K7:K31) -> -3245969 | L6: =SUM(L7:L31) -> 3514200 | M6: =SUM(M7:M31) -> 29572920 | AQ6: =SUBTOTAL(9,AQ7:AQ13) -> 0 | AR6: =SUBTOTAL(9,AR7:AR13) -> 0
A7: =COUNTA($C$6:C7)-COUNTBLANK($C$6:C7)+1 -> 1 | B7: 기획재정위원회 | C7: 균형발전기획실 | D7: 기획예산담당관 | E7: 본예산 | F7: 일반 | G7: 121 | H7: 41 | I7: 도정시책 기획홍보(자체/직접) - 도정시책 기획홍보 | J7: 1602000 | K7: -237850 | M7: =J7+K7+L7 -> 1364150 | R7: =IF(AND((M7=0),(Q7>0)),"O",IF(AND((K7<0),(M7-Q7<0)),"O","X")) -> X | Y7: =IF($X7<>"도비",IF($V7="국도비","직접입력",SUM($K7:$L7)),) -> -237850 | Z7: =IF($X7="도비",SUM($K7:$L7),IF($V7="국도비","직접입력",SUM($K7:$L7)-$Y7)) -> 0 | AA7: =IF(SUM($K7:$L7)=SUM($Y7:$Z7),"OK","검토") -> OK | AD7: =IF($X7<>"도비",IF($V7="국도비","직접입력",SUM($O7:$P7)),) -> 0 | AE7: =IF($X7="도비",SUM(O7:P7),IF($V7="국도비","직접입력",SUM(O7:P7)-AD7)) -> 0 | AF7: =IF(SUM(O7:P7)=SUM(AD7:AE7),"OK","검토") -> OK | AH7: =IF(V7="","",IF(V7="도비","세입없음","직접입력")) | AJ7: =IF(AH7="","",COUNTIF($AH$6:$AH$31,AH7)) | AK7: =IF(X7="","",IF(AND(X7="도비",AH7="세입없음"),"OK",IF(AND(X7<>"도비",AH7<>""),"OK","@@"))) | AM7: {=IF(D7="","",INDEX(구분표!$I$2:$I$313, MATCH(1,(구분표!$E$2:$E$313='18년일출'!C7)*(구분표!$F$2:$F$313='18년일출'!D7)*(구분표!$G$2:$G$313='18년일출'!B7),0)))} -> 20201 | AQ7: =IF(N7<0,N7,0) -> 0 | AR7: =IF(N7>0,N7,0) -> 0
A8: =COUNTA($C$6:C8)-COUNTBLANK($C$6:C8)+1 -> 2 | B8: 기획재정위원회 | C8: 균형발전기획실 | D8: 균형발전담당관 | E8: 본예산 | F8: 일반 | G8: 126 | H8: 98 | I8: 접경지역 빈집활용 정주여건 개선사업(자체/지원) - 접경지역 빈집활용 정주여건 개선사업 | J8: 73000 | K8: 0 | L8: 27000 | M8: =J8+K8+L8 -> 100000 | R8: =IF(AND((M8=0),(Q8>0)),"O",IF(AND((K8<0),(M8-Q8<0)),"O","X")) -> X | Y8: =IF($X8<>"도비",IF($V8="국도비","직접입력",SUM($K8:$L8)),) -> 27000 | Z8: =IF($X8="도비",SUM($K8:$L8),IF($V8="국도비","직접입력",SUM($K8:$L8)-$Y8)) -> 0 | AA8: =IF(SUM($K8:$L8)=SUM($Y8:$Z8),"OK","검토") -> OK | AD8: =IF($X8<>"도비",IF($V8="국도비","직접입력",SUM($O8:$P8)),) -> 0 | AE8: =IF($X8="도비",SUM(O8:P8),IF($V8="국도비","직접입력",SUM(O8:P8)-AD8)) -> 0 | AF8: =IF(SUM(O8:P8)=SUM(AD8:AE8),"OK","검토") -> OK | AH8: =IF(V8="","",IF(V8="도비","세입없음","직접입력")) | AJ8: =IF(AH8="","",COUNTIF($AH$6:$AH$31,AH8)) | AK8: =IF(X8="","",IF(AND(X8="도비",AH8="세입없음"),"OK",IF(AND(X8<>"도비",AH8<>""),"OK","@@"))) | AM8: {=IF(D8="","",INDEX(구분표!$I$2:$I$313, MATCH(1,(구분표!$E$2:$E$313='18년일출'!C8)*(구분표!$F$2:$F$313='18년일출'!D8)*(구분표!$G$2:$G$313='18년일출'!B8),0)))} -> 20202 | AQ8: =IF(N8<0,N8,0) -> 0 | AR8: =IF(N8>0,N8,0) -> 0
A9: =COUNTA($C$6:C30)-COUNTBLANK($C$6:C30)+1 -> 24 | B9: 기획재정위원회 | C9: 균형발전기획실 | D9: 통일기반조성담당관 | E9: 본예산 | F9: 일반 | G9: 129 | H9: 139 | I9: 북한이탈주민 취업교육(자체/직접) - 북한이탈주민 맞춤형 취업교육(민간경상사업보조) ≫ [통계목변경] (민간인위탁교육비) | J9: 100000 | L9: 100000 | M9: =J9+K9+L9 -> 200000 | R9: =IF(AND((M9=0),(Q9>0)),"O",IF(AND((K9<0),(M9-Q9<0)),"O","X")) -> X | U9: 예산 증액 통계목변경 | Y9: =IF($X9<>"도비",IF($V9="국도비","직접입력",SUM($K9:$L9)),) -> 100000 | Z9: =IF($X9="도비",SUM($K9:$L9),IF($V9="국도비","직접입력",SUM($K9:$L9)-$Y9)) -> 0 | AA9: =IF(SUM($K9:$L9)=SUM($Y9:$Z9),"OK","검토") -> OK | AD9: =IF($X9<>"도비",IF($V9="국도비","직접입력",SUM($O9:$P9)),) -> 0 | AE9: =IF($X9="도비",SUM(O9:P9),IF($V9="국도비","직접입력",SUM(O9:P9)-AD9)) -> 0 | AF9: =IF(SUM(O9:P9)=SUM(AD9:AE9),"OK","검토") -> OK | AH9: =IF(V9="","",IF(V9="도비","세입없음","직접입력")) | AJ9: =IF(AH9="","",COUNTIF($AH$6:$AH$31,AH9)) | AK9: =IF(X9="","",IF(AND(X9="도비",AH9="세입없음"),"OK",IF(AND(X9<>"도비",AH9<>""),"OK","@@"))) | AM9: {=IF(D9="","",INDEX(구분표!$I$2:$I$313, MATCH(1,(구분표!$E$2:$E$313='18년일출'!C9)*(구분표!$F$2:$F$313='18년일출'!D9)*(구분표!$G$2:$G$313='18년일출'!B9),0)))} -> 20204 | AQ9: =IF(N9<0,N9,0) -> 0 | AR9: =IF(N9>0,N9,0) -> 0
A10: =COUNTA($C$6:C10)-COUNTBLANK($C$6:C10)+1 -> 4 | B10: 기획재정위원회 | C10: 균형발전기획실 | D10: DMZ정책담당관 | E10: 본예산 | F10: 일반 | G10: 136 | H10: 260 | I10: DMZ 환경보전 협력사업(자체/직접) - DMZ 환경보전 협력사업 | J10: 150000 | K10: -50000 | L10: 0 | M10: =J10+K10+L10 -> 100000 | R10: =IF(AND((M10=0),(Q10>0)),"O",IF(AND((K10<0),(M10-Q10<0)),"O","X")) -> X | Y10: =IF($X10<>"도비",IF($V10="국도비","직접입력",SUM($K10:$L10)),) -> -50000 | Z10: =IF($X10="도비",SUM($K10:$L10),IF($V10="국도비","직접입력",SUM($K10:$L10)-$Y10)) -> 0 | AA10: =IF(SUM($K10:$L10)=SUM($Y10:$Z10),"OK","검토") -> OK | AD10: =IF($X10<>"도비",IF($V10="국도비","직접입력",SUM($O10:$P10)),) -> 0 | AE10: =IF($X10="도비",SUM(O10:P10),IF($V10="국도비","직접입력",SUM(O10:P10)-AD10)) -> 0 | AF10: =IF(SUM(O10:P10)=SUM(AD10:AE10),"OK","검토") -> OK | AH10: =IF(V10="","",IF(V10="도비","세입없음","직접입력")) | AJ10: =IF(AH10="","",COUNTIF($AH$6:$AH$31,AH10)) | AK10: =IF(X10="","",IF(AND(X10="도비",AH10="세입없음"),"OK",IF(AND(X10<>"도비",AH10<>""),"OK","@@"))) | AM10: {=IF(D10="","",INDEX(구분표!$I$2:$I$313, MATCH(1,(구분표!$E$2:$E$313='18년일출'!C10)*(구분표!$F$2:$F$313='18년일출'!D10)*(구분표!$G$2:$G$313='18년일출'!B10),0)))} -> 20205 | AQ10: =IF(N10<0,N10,0) -> 0 | AR10: =IF(N10>0,N10,0) -> 0
A11: =COUNTA($C$6:C11)-COUNTBLANK($C$6:C11)+1 -> 5 | B11: 기획재정위원회 | C11: 균형발전기획실 | D11: 군관협력담당관 | E11: 본예산 | F11: 일반 | G11: 138 | H11: 271 | I11: 군장병 위문공연(자체/직접) - 군장병 위문공연 | J11: 560000 | K11: 0 | L11: 40000 | M11: =J11+K11+L11 -> 600000 | R11: =IF(AND((M11=0),(Q11>0)),"O",IF(AND((K11<0),(M11-Q11<0)),"O","X")) -> X | Y11: =IF($X11<>"도비",IF($V11="국도비","직접입력",SUM($K11:$L11)),) -> 40000 | Z11: =IF($X11="도비",SUM($K11:$L11),IF($V11="국도비","직접입력",SUM($K11:$L11)-$Y11)) -> 0 | AA11: =IF(SUM($K11:$L11)=SUM($Y11:$Z11),"OK","검토") -> OK | AD11: =IF($X11<>"도비",IF($V11="국도비","직접입력",SUM($O11:$P11)),) -> 0 | AE11: =IF($X11="도비",SUM(O11:P11),IF($V11="국도비","직접입력",SUM(O11:P11)-AD11)) -> 0 | AF11: =IF(SUM(O11:P11)=SUM(AD11:AE11),"OK","검토") -> OK | AH11: =IF(V11="","",IF(V11="도비","세입없음","직접입력")) | AJ11: =IF(AH11="","",COUNTIF($AH$6:$AH$31,AH11)) | AK11: =IF(X11="","",IF(AND(X11="도비",AH11="세입없음"),"OK",IF(AND(X11<>"도비",AH11<>""),"OK","@@"))) | AM11: {=IF(D11="","",INDEX(구분표!$I$2:$I$313, MATCH(1,(구분표!$E$2:$E$313='18년일출'!C11)*(구분표!$F$2:$F$313='18년일출'!D11)*(구분표!$G$2:$G$313='18년일출'!B11),0)))} -> 20207 | AQ11: =IF(N11<0,N11,0) -> 0 | AR11: =IF(N11>0,N11,0) -> 0
A12: =COUNTA($C$6:C12)-COUNTBLANK($C$6:C12)+1 -> 6 | B12: 기획재정위원회 | C12: 균형발전기획실 | D12: 군관협력담당관 | E12: 신규 | F12: 일반 | I12: 군관협력사업(자체/지원) - 전입병사 안보문화 탐방 및 문화체험 | J12: 0 | K12: 0 | L12: 200000 | M12: =J12+K12+L12 -> 200000 | R12: =IF(AND((M12=0),(Q12>0)),"O",IF(AND((K12<0),(M12-Q12<0)),"O","X")) -> X | Y12: =IF($X12<>"도비",IF($V12="국도비","직접입력",SUM($K12:$L12)),) -> 200000 | Z12: =IF($X12="도비",SUM($K12:$L12),IF($V12="국도비","직접입력",SUM($K12:$L12)-$Y12)) -> 0 | AA12: =IF(SUM($K12:$L12)=SUM($Y12:$Z12),"OK","검토") -> OK | AD12: =IF($X12<>"도비",IF($V12="국도비","직접입력",SUM($O12:$P12)),) -> 0 | AE12: =IF($X12="도비",SUM(O12:P12),IF($V12="국도비","직접입력",SUM(O12:P12)-AD12)) -> 0 | AF12: =IF(SUM(O12:P12)=SUM(AD12:AE12),"OK","검토") -> OK | AH12: =IF(V12="","",IF(V12="도비","세입없음","직접입력")) | AJ12: =IF(AH12="","",COUNTIF($AH$6:$AH$31,AH12)) | AK12: =IF(X12="","",IF(AND(X12="도비",AH12="세입없음"),"OK",IF(AND(X12<>"도비",AH12<>""),"OK","@@"))) | AM12: {=IF(D12="","",INDEX(구분표!$I$2:$I$313, MATCH(1,(구분표!$E$2:$E$313='18년일출'!C12)*(구분표!$F$2:$F$313='18년일출'!D12)*(구분표!$G$2:$G$313='18년일출'!B12),0)))} -> 20207 | AQ12: =IF(N12<0,N12,0) -> 0 | AR12: =IF(N12>0,N12,0) -> 0
A13: =COUNTA($C$6:C13)-COUNTBLANK($C$6:C13)+1 -> 7 | B13: 기획재정위원회 | C13: 균형발전기획실 | D13: 군관협력담당관 | E13: 본예산 | F13: 일반 | G13: 139 | H13: 314 | I13: 한미친선 교류협력(자체/지원) - 한미친선 교류 협력 | J13: 970000 | K13: 0 | L13: 250000 | M13: =J13+K13+L13 -> 1220000 | R13: =IF(AND((M13=0),(Q13>0)),"O",IF(AND((K13<0),(M13-Q13<0)),"O","X")) -> X | T13: 평택 100,000 포천 50,000 동두천 100,000 | Y13: =IF($X13<>"도비",IF($V13="국도비","직접입력",SUM($K13:$L13)),) -> 250000 | Z13: =IF($X13="도비",SUM($K13:$L13),IF($V13="국도비","직접입력",SUM($K13:$L13)-$Y13)) -> 0 | AA13: =IF(SUM($K13:$L13)=SUM($Y13:$Z13),"OK","검토") -> OK | AD13: =IF($X13<>"도비",IF($V13="국도비","직접입력",SUM($O13:$P13)),) -> 0 | AE13: =IF($X13="도비",SUM(O13:P13),IF($V13="국도비","직접입력",SUM(O13:P13)-AD13)) -> 0 | AF13: =IF(SUM(O13:P13)=SUM(AD13:AE13),"OK","검토") -> OK | AH13: =IF(V13="","",IF(V13="도비","세입없음","직접입력")) | AJ13: =IF(AH13="","",COUNTIF($AH$6:$AH$31,AH13)) | AK13: =IF(X13="","",IF(AND(X13="도비",AH13="세입없음"),"OK",IF(AND(X13<>"도비",AH13<>""),"OK","@@"))) | AM13: {=IF(D13="","",INDEX(구분표!$I$2:$I$313, MATCH(1,(구분표!$E$2:$E$313='18년일출'!C13)*(구분표!$F$2:$F$313='18년일출'!D13)*(구분표!$G$2:$G$313='18년일출'!B13),0)))} -> 20207 | AQ13: =IF(N13<0,N13,0) -> 0 | AR13: =IF(N13>0,N13,0) -> 0
A14: =COUNTA($C$6:C14)-COUNTBLANK($C$6:C14)+1 -> 8 | B14: =IF(C14="","",MID($B$6,2,7)) -> 기획재정위원회 | C14: 기획조정실 | D14: 미래전략담당관 | E14: 본예산 | F14: 일반 | G14: 79 | H14: 68 | I14: 경기연구원 출연(자체/직접) - 경기연구원 지원 | J14: 14555000 | L14: 1500000 | M14: =J14+K14+L14 -> 16055000 | R14: =IF(AND((M14=0),(Q14>0)),"O",IF(AND((K14<0),(M14-Q14<0)),"O","X")) -> X | Y14: =IF($X14<>"도비",IF($V14="국도비","직접입력",SUM($K14:$L14)),) -> 1500000 | Z14: =IF($X14="도비",SUM($K14:$L14),IF($V14="국도비","직접입력",SUM($K14:$L14)-$Y14)) -> 0 | AA14: =IF(SUM($K14:$L14)=SUM($Y14:$Z14),"OK","검토") -> OK | AD14: =IF($X14<>"도비",IF($V14="국도비","직접입력",SUM($O14:$P14)),) -> 0 | AE14: =IF($X14="도비",SUM(O14:P14),IF($V14="국도비","직접입력",SUM(O14:P14)-AD14)) -> 0 | AF14: =IF(SUM(O14:P14)=SUM(AD14:AE14),"OK","검토") -> OK | AH14: =IF(V14="","",IF(V14="도비","세입없음","직접입력")) | AJ14: =IF(AH14="","",COUNTIF($AH$6:$AH$31,AH14)) | AK14: =IF(X14="","",IF(AND(X14="도비",AH14="세입없음"),"OK",IF(AND(X14<>"도비",AH14<>""),"OK","@@"))) | AM14: {=IF(D14="","",INDEX(구분표!$I$2:$I$313, MATCH(1,(구분표!$E$2:$E$313='18년일출'!C14)*(구분표!$F$2:$F$313='18년일출'!D14)*(구분표!$G$2:$G$313='18년일출'!B14),0)))} -> 10402 | AQ14: =IF(N14<0,N14,0) -> 0 | AR14: =IF(N14>0,N14,0) -> 0
A15: =COUNTA($C$6:C15)-COUNTBLANK($C$6:C15)+1 -> 9 | B15: =IF(C15="","",MID($B$6,2,7)) -> 기획재정위원회 | C15: 기획조정실 | D15: 예산담당관 | E15: 본예산 | F15: 연정 | G15: 88 | H15: 148 | I15: 경기도 공공투자관리센터 설립 및 운영(자체/직접) -경기도 공공투자관리센터 설립 및 운영 | J15: 1000000 | K15: -1000000 | M15: =J15+K15+L15 -> 0 | R15: =IF(AND((M15=0),(Q15>0)),"O",IF(AND((K15<0),(M15-Q15<0)),"O","X")) -> X | Y15: =IF($X15<>"도비",IF($V15="국도비","직접입력",SUM($K15:$L15)),) -> -1000000 | Z15: =IF($X15="도비",SUM($K15:$L15),IF($V15="국도비","직접입력",SUM($K15:$L15)-$Y15)) -> 0 | AA15: =IF(SUM($K15:$L15)=SUM($Y15:$Z15),"OK","검토") -> OK | AD15: =IF($X15<>"도비",IF($V15="국도비","직접입력",SUM($O15:$P15)),) -> 0 | AE15: =IF($X15="도비",SUM(O15:P15),IF($V15="국도비","직접입력",SUM(O15:P15)-AD15)) -> 0 | AF15: =IF(SUM(O15:P15)=SUM(AD15:AE15),"OK","검토") -> OK | AH15: =IF(V15="","",IF(V15="도비","세입없음","직접입력")) | AJ15: =IF(AH15="","",COUNTIF($AH$6:$AH$31,AH15)) | AK15: =IF(X15="","",IF(AND(X15="도비",AH15="세입없음"),"OK",IF(AND(X15<>"도비",AH15<>""),"OK","@@"))) | AM15: {=IF(D15="","",INDEX(구분표!$I$2:$I$313, MATCH(1,(구분표!$E$2:$E$313='18년일출'!C15)*(구분표!$F$2:$F$313='18년일출'!D15)*(구분표!$G$2:$G$313='18년일출'!B15),0)))} -> 10403 | AQ15: =IF(N15<0,N15,0) -> 0 | AR15: =IF(N15>0,N15,0) -> 0
A16: =COUNTA($C$6:C16)-COUNTBLANK($C$6:C16)+1 -> 10 | B16: =IF(C16="","",MID($B$6,2,7)) -> 기획재정위원회 | C16: 기획조정실 | D16: 정보기획담당관 | E16: 본예산 | F16: 일반 | G16: 99 | H16: 275 | I16: 경기도 사물인터넷 기술적용 방안 연구(자체/직접) | J16: 92000 | K16: -92000 | M16: =J16+K16+L16 -> 0 | R16: =IF(AND((M16=0),(Q16>0)),"O",IF(AND((K16<0),(M16-Q16<0)),"O","X")) -> X | Y16: =IF($X16<>"도비",IF($V16="국도비","직접입력",SUM($K16:$L16)),) -> -92000 | Z16: =IF($X16="도비",SUM($K16:$L16),IF($V16="국도비","직접입력",SUM($K16:$L16)-$Y16)) -> 0 | AA16: =IF(SUM($K16:$L16)=SUM($Y16:$Z16),"OK","검토") -> OK | AD16: =IF($X16<>"도비",IF($V16="국도비","직접입력",SUM($O16:$P16)),) -> 0 | AE16: =IF($X16="도비",SUM(O16:P16),IF($V16="국도비","직접입력",SUM(O16:P16)-AD16)) -> 0 | AF16: =IF(SUM(O16:P16)=SUM(AD16:AE16),"OK","검토") -> OK | AH16: =IF(V16="","",IF(V16="도비","세입없음","직접입력")) | AJ16: =IF(AH16="","",COUNTIF($AH$6:$AH$31,AH16)) | AK16: =IF(X16="","",IF(AND(X16="도비",AH16="세입없음"),"OK",IF(AND(X16<>"도비",AH16<>""),"OK","@@"))) | AM16: {=IF(D16="","",INDEX(구분표!$I$2:$I$313, MATCH(1,(구분표!$E$2:$E$313='18년일출'!C16)*(구분표!$F$2:$F$313='18년일출'!D16)*(구분표!$G$2:$G$313='18년일출'!B16),0)))} -> 10408 | AQ16: =IF(N16<0,N16,0) -> 0 | AR16: =IF(N16>0,N16,0) -> 0
A17: =COUNTA($C$6:C17)-COUNTBLANK($C$6:C17)+1 -> 11 | B17: =IF(C17="","",MID($B$6,2,7)) -> 기획재정위원회 | C17: 기획조정실 | D17: 정보기획담당관 | E17: 본예산 | F17: 일반 | G17: 100 | H17: 279 | I17: 소프트웨어 정의 기술 기반의 통합관리시스템 시범 구축(자체/직접) - 소프트웨어 정의 기술 기반의 통합관리시스템 시범 구축 | J17: 339119 | K17: -339119 | M17: =J17+K17+L17 -> 0 | R17: =IF(AND((M17=0),(Q17>0)),"O",IF(AND((K17<0),(M17-Q17<0)),"O","X")) -> X | Y17: =IF($X17<>"도비",IF($V17="국도비","직접입력",SUM($K17:$L17)),) -> -339119 | Z17: =IF($X17="도비",SUM($K17:$L17),IF($V17="국도비","직접입력",SUM($K17:$L17)-$Y17)) -> 0 | AA17: =IF(SUM($K17:$L17)=SUM($Y17:$Z17),"OK","검토") -> OK | AD17: =IF($X17<>"도비",IF($V17="국도비","직접입력",SUM($O17:$P17)),) -> 0 | AE17: =IF($X17="도비",SUM(O17:P17),IF($V17="국도비","직접입력",SUM(O17:P17)-AD17)) -> 0 | AF17: =IF(SUM(O17:P17)=SUM(AD17:AE17),"OK","검토") -> OK | AH17: =IF(V17="","",IF(V17="도비","세입없음","직접입력")) | AJ17: =IF(AH17="","",COUNTIF($AH$6:$AH$31,AH17)) | AK17: =IF(X17="","",IF(AND(X17="도비",AH17="세입없음"),"OK",IF(AND(X17<>"도비",AH17<>""),"OK","@@"))) | AM17: {=IF(D17="","",INDEX(구분표!$I$2:$I$313, MATCH(1,(구분표!$E$2:$E$313='18년일출'!C17)*(구분표!$F$2:$F$313='18년일출'!D17)*(구분표!$G$2:$G$313='18년일출'!B17),0)))} -> 10408 | AQ17: =IF(N17<0,N17,0) -> 0 | AR17: =IF(N17>0,N17,0) -> 0
A18: =COUNTA($C$6:C18)-COUNTBLANK($C$6:C18)+1 -> 12 | B18: =IF(C18="","",MID($B$6,2,7)) -> 기획재정위원회 | C18: 기획조정실 | D18: 정보기획담당관 | E18: 본예산 | F18: 일반 | G18: 100 | H18: 279 | I18: 소프트웨어 정의 기술 기반의 통합관리시스템 시범 구축(자체/직접) - 조달수수료 | J18: 6000 | K18: -6000 | M18: =J18+K18+L18 -> 0 | R18: =IF(AND((M18=0),(Q18>0)),"O",IF(AND((K18<0),(M18-Q18<0)),"O","X")) -> X | Y18: =IF($X18<>"도비",IF($V18="국도비","직접입력",SUM($K18:$L18)),) -> -6000 | Z18: =IF($X18="도비",SUM($K18:$L18),IF($V18="국도비","직접입력",SUM($K18:$L18)-$Y18)) -> 0 | AA18: =IF(SUM($K18:$L18)=SUM($Y18:$Z18),"OK","검토") -> OK | AD18: =IF($X18<>"도비",IF($V18="국도비","직접입력",SUM($O18:$P18)),) -> 0 | AE18: =IF($X18="도비",SUM(O18:P18),IF($V18="국도비","직접입력",SUM(O18:P18)-AD18)) -> 0 | AF18: =IF(SUM(O18:P18)=SUM(AD18:AE18),"OK","검토") -> OK | AH18: =IF(V18="","",IF(V18="도비","세입없음","직접입력")) | AJ18: =IF(AH18="","",COUNTIF($AH$6:$AH$31,AH18)) | AK18: =IF(X18="","",IF(AND(X18="도비",AH18="세입없음"),"OK",IF(AND(X18<>"도비",AH18<>""),"OK","@@"))) | AM18: {=IF(D18="","",INDEX(구분표!$I$2:$I$313, MATCH(1,(구분표!$E$2:$E$313='18년일출'!C18)*(구분표!$F$2:$F$313='18년일출'!D18)*(구분표!$G$2:$G$313='18년일출'!B18),0)))} -> 10408 | AQ18: =IF(N18<0,N18,0) -> 0 | AR18: =IF(N18>0,N18,0) -> 0
A19: =COUNTA($C$6:C19)-COUNTBLANK($C$6:C19)+1 -> 13 | B19: =IF(C19="","",MID($B$6,2,7)) -> 기획재정위원회 | C19: 기획조정실 | D19: 정보통신보안담당관 | E19: 본예산 | F19: 일반 | G19: 107 | H19: 375 | I19: 대도청 상시 탐지시스템 구축(자체/직접) - 대도청 상시탐지 시스템 구축 | J19: 197000 | K19: -197000 | M19: =J19+K19+L19 -> 0 | R19: =IF(AND((M19=0),(Q19>0)),"O",IF(AND((K19<0),(M19-Q19<0)),"O","X")) -> X | Y19: =IF($X19<>"도비",IF($V19="국도비","직접입력",SUM($K19:$L19)),) -> -197000 | Z19: =IF($X19="도비",SUM($K19:$L19),IF($V19="국도비","직접입력",SUM($K19:$L19)-$Y19)) -> 0 | AA19: =IF(SUM($K19:$L19)=SUM($Y19:$Z19),"OK","검토") -> OK | AD19: =IF($X19<>"도비",IF($V19="국도비","직접입력",SUM($O19:$P19)),) -> 0 | AE19: =IF($X19="도비",SUM(O19:P19),IF($V19="국도비","직접입력",SUM(O19:P19)-AD19)) -> 0 | AF19: =IF(SUM(O19:P19)=SUM(AD19:AE19),"OK","검토") -> OK | AH19: =IF(V19="","",IF(V19="도비","세입없음","직접입력")) | AJ19: =IF(AH19="","",COUNTIF($AH$6:$AH$31,AH19)) | AK19: =IF(X19="","",IF(AND(X19="도비",AH19="세입없음"),"OK",IF(AND(X19<>"도비",AH19<>""),"OK","@@"))) | AM19: {=IF(D19="","",INDEX(구분표!$I$2:$I$313, MATCH(1,(구분표!$E$2:$E$313='18년일출'!C19)*(구분표!$F$2:$F$313='18년일출'!D19)*(구분표!$G$2:$G$313='18년일출'!B19),0)))} -> 10409 | AQ19: =IF(N19<0,N19,0) -> 0 | AR19: =IF(N19>0,N19,0) -> 0
A20: =COUNTA($C$6:C20)-COUNTBLANK($C$6:C20)+1 -> 14 | B20: =IF(C20="","",MID($B$6,2,7)) -> 기획재정위원회 | C20: 기획조정실 | D20: 정보통신보안담당관 | E20: 본예산 | F20: 일반 | G20: 107 | H20: 375 | I20: 대도청 상시 탐지시스템 구축(자체/직접) - 조달수수료 | J20: 3000 | K20: -3000 | M20: =J20+K20+L20 -> 0 | R20: =IF(AND((M20=0),(Q20>0)),"O",IF(AND((K20<0),(M20-Q20<0)),"O","X")) -> X | Y20: =IF($X20<>"도비",IF($V20="국도비","직접입력",SUM($K20:$L20)),) -> -3000 | Z20: =IF($X20="도비",SUM($K20:$L20),IF($V20="국도비","직접입력",SUM($K20:$L20)-$Y20)) -> 0 | AA20: =IF(SUM($K20:$L20)=SUM($Y20:$Z20),"OK","검토") -> OK | AD20: =IF($X20<>"도비",IF($V20="국도비","직접입력",SUM($O20:$P20)),) -> 0 | AE20: =IF($X20="도비",SUM(O20:P20),IF($V20="국도비","직접입력",SUM(O20:P20)-AD20)) -> 0 | AF20: =IF(SUM(O20:P20)=SUM(AD20:AE20),"OK","검토") -> OK | AH20: =IF(V20="","",IF(V20="도비","세입없음","직접입력")) | AJ20: =IF(AH20="","",COUNTIF($AH$6:$AH$31,AH20)) | AK20: =IF(X20="","",IF(AND(X20="도비",AH20="세입없음"),"OK",IF(AND(X20<>"도비",AH20<>""),"OK","@@"))) | AM20: {=IF(D20="","",INDEX(구분표!$I$2:$I$313, MATCH(1,(구분표!$E$2:$E$313='18년일출'!C20)*(구분표!$F$2:$F$313='18년일출'!D20)*(구분표!$G$2:$G$313='18년일출'!B20),0)))} -> 10409 | AQ20: =IF(N20<0,N20,0) -> 0 | AR20: =IF(N20>0,N20,0) -> 0
A21: =COUNTA($C$6:C21)-COUNTBLANK($C$6:C21)+1 -> 15 | B21: =IF(C21="","",MID($B$6,2,7)) -> 기획재정위원회 | C21: 기획조정실 | D21: 빅데이터담당관 | E21: 본예산 | F21: 일반 | G21: 110 | H21: 423 | I21: 빅파이 프로젝트 사업 추진(자체/직접) - 빅데이터 분석사업 추진 | J21: 950000 | K21: -200000 | M21: =J21+K21+L21 -> 750000 | R21: =IF(AND((M21=0),(Q21>0)),"O",IF(AND((K21<0),(M21-Q21<0)),"O","X")) -> X | Y21: =IF($X21<>"도비",IF($V21="국도비","직접입력",SUM($K21:$L21)),) -> -200000 | Z21: =IF($X21="도비",SUM($K21:$L21),IF($V21="국도비","직접입력",SUM($K21:$L21)-$Y21)) -> 0 | AA21: =IF(SUM($K21:$L21)=SUM($Y21:$Z21),"OK","검토") -> OK | AD21: =IF($X21<>"도비",IF($V21="국도비","직접입력",SUM($O21:$P21)),) -> 0 | AE21: =IF($X21="도비",SUM(O21:P21),IF($V21="국도비","직접입력",SUM(O21:P21)-AD21)) -> 0 | AF21: =IF(SUM(O21:P21)=SUM(AD21:AE21),"OK","검토") -> OK | AH21: =IF(V21="","",IF(V21="도비","세입없음","직접입력")) | AJ21: =IF(AH21="","",COUNTIF($AH$6:$AH$31,AH21)) | AK21: =IF(X21="","",IF(AND(X21="도비",AH21="세입없음"),"OK",IF(AND(X21<>"도비",AH21<>""),"OK","@@"))) | AM21: {=IF(D21="","",INDEX(구분표!$I$2:$I$313, MATCH(1,(구분표!$E$2:$E$313='18년일출'!C21)*(구분표!$F$2:$F$313='18년일출'!D21)*(구분표!$G$2:$G$313='18년일출'!B21),0)))} -> 10410 | AQ21: =IF(N21<0,N21,0) -> 0 | AR21: =IF(N21>0,N21,0) -> 0
A22: =COUNTA($C$6:C22)-COUNTBLANK($C$6:C22)+1 -> 16 | B22: =IF(C22="","",MID($B$6,2,7)) -> 기획재정위원회 | C22: 기획조정실 | D22: 빅데이터담당관 | E22: 본예산 | F22: 일반 | G22: 110 | H22: 423 | I22: 빅파이 프로젝트 사업 추진(자체/직접) - 빅파이추진단 운영 | J22: 1350000 | K22: -375000 | M22: =J22+K22+L22 -> 975000 | R22: =IF(AND((M22=0),(Q22>0)),"O",IF(AND((K22<0),(M22-Q22<0)),"O","X")) -> X | Y22: =IF($X22<>"도비",IF($V22="국도비","직접입력",SUM($K22:$L22)),) -> -375000 | Z22: =IF($X22="도비",SUM($K22:$L22),IF($V22="국도비","직접입력",SUM($K22:$L22)-$Y22)) -> 0 | AA22: =IF(SUM($K22:$L22)=SUM($Y22:$Z22),"OK","검토") -> OK | AD22: =IF($X22<>"도비",IF($V22="국도비","직접입력",SUM($O22:$P22)),) -> 0 | AE22: =IF($X22="도비",SUM(O22:P22),IF($V22="국도비","직접입력",SUM(O22:P22)-AD22)) -> 0 | AF22: =IF(SUM(O22:P22)=SUM(AD22:AE22),"OK","검토") -> OK | AH22: =IF(V22="","",IF(V22="도비","세입없음","직접입력")) | AJ22: =IF(AH22="","",COUNTIF($AH$6:$AH$31,AH22)) | AK22: =IF(X22="","",IF(AND(X22="도비",AH22="세입없음"),"OK",IF(AND(X22<>"도비",AH22<>""),"OK","@@"))) | AM22: {=IF(D22="","",INDEX(구분표!$I$2:$I$313, MATCH(1,(구분표!$E$2:$E$313='18년일출'!C22)*(구분표!$F$2:$F$313='18년일출'!D22)*(구분표!$G$2:$G$313='18년일출'!B22),0)))} -> 10410 | AQ22: =IF(N22<0,N22,0) -> 0 | AR22: =IF(N22>0,N22,0) -> 0
A23: =COUNTA($C$6:C23)-COUNTBLANK($C$6:C23)+1 -> 17 | B23: =IF(C23="","",MID($B$6,2,7)) -> 기획재정위원회 | C23: 기획조정실 | D23: 빅데이터담당관 | E23: 본예산 | F23: 일반 | G23: 110 | H23: 423 | I23: 빅파이 프로젝트 사업 추진(자체/직접) - 빅데이터 활용문화 확산 | J23: 500000 | K23: -500000 | M23: =J23+K23+L23 -> 0 | R23: =IF(AND((M23=0),(Q23>0)),"O",IF(AND((K23<0),(M23-Q23<0)),"O","X")) -> X | Y23: =IF($X23<>"도비",IF($V23="국도비","직접입력",SUM($K23:$L23)),) -> -500000 | Z23: =IF($X23="도비",SUM($K23:$L23),IF($V23="국도비","직접입력",SUM($K23:$L23)-$Y23)) -> 0 | AA23: =IF(SUM($K23:$L23)=SUM($Y23:$Z23),"OK","검토") -> OK | AD23: =IF($X23<>"도비",IF($V23="국도비","직접입력",SUM($O23:$P23)),) -> 0 | AE23: =IF($X23="도비",SUM(O23:P23),IF($V23="국도비","직접입력",SUM(O23:P23)-AD23)) -> 0 | AF23: =IF(SUM(O23:P23)=SUM(AD23:AE23),"OK","검토") -> OK | AH23: =IF(V23="","",IF(V23="도비","세입없음","직접입력")) | AJ23: =IF(AH23="","",COUNTIF($AH$6:$AH$31,AH23)) | AK23: =IF(X23="","",IF(AND(X23="도비",AH23="세입없음"),"OK",IF(AND(X23<>"도비",AH23<>""),"OK","@@"))) | AM23: {=IF(D23="","",INDEX(구분표!$I$2:$I$313, MATCH(1,(구분표!$E$2:$E$313='18년일출'!C23)*(구분표!$F$2:$F$313='18년일출'!D23)*(구분표!$G$2:$G$313='18년일출'!B23),0)))} -> 10410 | AQ23: =IF(N23<0,N23,0) -> 0 | AR23: =IF(N23>0,N23,0) -> 0
A24: =COUNTA($C$6:C24)-COUNTBLANK($C$6:C24)+1 -> 18 | B24: =IF(C24="","",MID($B$6,2,7)) -> 기획재정위원회 | C24: 기획조정실 | D24: 정보통신보안담당관 | E24: 본예산 | F24: 일반 | G24: 106 | H24: 348 | I24: 범죄사각지대 CCTV 설치(자체/지원) - 범죄사각지대 CCTV 설치 | J24: 1320000 | L24: 1100000 | M24: =J24+K24+L24 -> 2420000 | R24: =IF(AND((M24=0),(Q24>0)),"O",IF(AND((K24<0),(M24-Q24<0)),"O","X")) -> X | Y24: =IF($X24<>"도비",IF($V24="국도비","직접입력",SUM($K24:$L24)),) -> 1100000 | Z24: =IF($X24="도비",SUM($K24:$L24),IF($V24="국도비","직접입력",SUM($K24:$L24)-$Y24)) -> 0 | AA24: =IF(SUM($K24:$L24)=SUM($Y24:$Z24),"OK","검토") -> OK | AD24: =IF($X24<>"도비",IF($V24="국도비","직접입력",SUM($O24:$P24)),) -> 0 | AE24: =IF($X24="도비",SUM(O24:P24),IF($V24="국도비","직접입력",SUM(O24:P24)-AD24)) -> 0 | AF24: =IF(SUM(O24:P24)=SUM(AD24:AE24),"OK","검토") -> OK | AH24: =IF(V24="","",IF(V24="도비","세입없음","직접입력")) | AJ24: =IF(AH24="","",COUNTIF($AH$6:$AH$31,AH24)) | AK24: =IF(X24="","",IF(AND(X24="도비",AH24="세입없음"),"OK",IF(AND(X24<>"도비",AH24<>""),"OK","@@"))) | AM24: {=IF(D24="","",INDEX(구분표!$I$2:$I$313, MATCH(1,(구분표!$E$2:$E$313='18년일출'!C24)*(구분표!$F$2:$F$313='18년일출'!D24)*(구분표!$G$2:$G$313='18년일출'!B24),0)))} -> 10409 | AQ24: =IF(N24<0,N24,0) -> 0 | AR24: =IF(N24>0,N24,0) -> 0
A25: =COUNTA($C$6:C25)-COUNTBLANK($C$6:C25)+1 -> 19 | B25: =IF(C25="","",MID($B$6,2,7)) -> 기획재정위원회 | C25: 공유시장경제국 | D25: 따복공동체지원과 | E25: 본예산 | F25: 일반 | G25: 145 | H25: 21 | I25: 따복공동체 한마당 개최(자체/직접) - 따복공동체 한마당 개최 | J25: 130000 | K25: -30000 | M25: =J25+K25+L25 -> 100000 | R25: =IF(AND((M25=0),(Q25>0)),"O",IF(AND((K25<0),(M25-Q25<0)),"O","X")) -> X | Y25: =IF($X25<>"도비",IF($V25="국도비","직접입력",SUM($K25:$L25)),) -> -30000 | Z25: =IF($X25="도비",SUM($K25:$L25),IF($V25="국도비","직접입력",SUM($K25:$L25)-$Y25)) -> 0 | AA25: =IF(SUM($K25:$L25)=SUM($Y25:$Z25),"OK","검토") -> OK | AD25: =IF($X25<>"도비",IF($V25="국도비","직접입력",SUM($O25:$P25)),) -> 0 | AE25: =IF($X25="도비",SUM(O25:P25),IF($V25="국도비","직접입력",SUM(O25:P25)-AD25)) -> 0 | AF25: =IF(SUM(O25:P25)=SUM(AD25:AE25),"OK","검토") -> OK | AH25: =IF(V25="","",IF(V25="도비","세입없음","직접입력")) | AJ25: =IF(AH25="","",COUNTIF($AH$6:$AH$31,AH25)) | AK25: =IF(X25="","",IF(AND(X25="도비",AH25="세입없음"),"OK",IF(AND(X25<>"도비",AH25<>""),"OK","@@"))) | AM25: {=IF(D25="","",INDEX(구분표!$I$2:$I$313, MATCH(1,(구분표!$E$2:$E$313='18년일출'!C25)*(구분표!$F$2:$F$313='18년일출'!D25)*(구분표!$G$2:$G$313='18년일출'!B25),0)))} -> 30202 | AQ25: =IF(N25<0,N25,0) -> 0 | AR25: =IF(N25>0,N25,0) -> 0
A26: =COUNTA($C$6:C26)-COUNTBLANK($C$6:C26)+1 -> 20 | B26: =IF(C26="","",MID($B$6,2,7)) -> 기획재정위원회 | C26: 공유시장경제국 | D26: 따복공동체지원과 | E26: 본예산 | F26: 일반 | G26: 146 | H26: 27 | I26: 따복공동체 지원센터 운영(자체/직접) - 지원센터 사업비 | J26: 4592000 | L26: 280000 | M26: =J26+K26+L26 -> 4872000 | R26: =IF(AND((M26=0),(Q26>0)),"O",IF(AND((K26<0),(M26-Q26<0)),"O","X")) -> X | Y26: =IF($X26<>"도비",IF($V26="국도비","직접입력",SUM($K26:$L26)),) -> 280000 | Z26: =IF($X26="도비",SUM($K26:$L26),IF($V26="국도비","직접입력",SUM($K26:$L26)-$Y26)) -> 0 | AA26: =IF(SUM($K26:$L26)=SUM($Y26:$Z26),"OK","검토") -> OK | AD26: =IF($X26<>"도비",IF($V26="국도비","직접입력",SUM($O26:$P26)),) -> 0 | AE26: =IF($X26="도비",SUM(O26:P26),IF($V26="국도비","직접입력",SUM(O26:P26)-AD26)) -> 0 | AF26: =IF(SUM(O26:P26)=SUM(AD26:AE26),"OK","검토") -> OK | AH26: =IF(V26="","",IF(V26="도비","세입없음","직접입력")) | AJ26: =IF(AH26="","",COUNTIF($AH$6:$AH$31,AH26)) | AK26: =IF(X26="","",IF(AND(X26="도비",AH26="세입없음"),"OK",IF(AND(X26<>"도비",AH26<>""),"OK","@@"))) | AM26: {=IF(D26="","",INDEX(구분표!$I$2:$I$313, MATCH(1,(구분표!$E$2:$E$313='18년일출'!C26)*(구분표!$F$2:$F$313='18년일출'!D26)*(구분표!$G$2:$G$313='18년일출'!B26),0)))} -> 30202 | AQ26: =IF(N26<0,N26,0) -> 0 | AR26: =IF(N26>0,N26,0) -> 0
A27: =COUNTA($C$6:C27)-COUNTBLANK($C$6:C27)+1 -> 21 | B27: =IF(C27="","",MID($B$6,2,7)) -> 기획재정위원회 | C27: 공유시장경제국 | D27: 따복공동체지원과 | E27: 본예산 | F27: 일반 | G27: 146 | H27: 39 | I27: 따복공동체 주민제안 공모사업(자체/직접) - 따복공동체 주민제안 공모심사비 | J27: 26000 | L27: 11000 | M27: =J27+K27+L27 -> 37000 | R27: =IF(AND((M27=0),(Q27>0)),"O",IF(AND((K27<0),(M27-Q27<0)),"O","X")) -> X | Y27: =IF($X27<>"도비",IF($V27="국도비","직접입력",SUM($K27:$L27)),) -> 11000 | Z27: =IF($X27="도비",SUM($K27:$L27),IF($V27="국도비","직접입력",SUM($K27:$L27)-$Y27)) -> 0 | AA27: =IF(SUM($K27:$L27)=SUM($Y27:$Z27),"OK","검토") -> OK | AD27: =IF($X27<>"도비",IF($V27="국도비","직접입력",SUM($O27:$P27)),) -> 0 | AE27: =IF($X27="도비",SUM(O27:P27),IF($V27="국도비","직접입력",SUM(O27:P27)-AD27)) -> 0 | AF27: =IF(SUM(O27:P27)=SUM(AD27:AE27),"OK","검토") -> OK | AH27: =IF(V27="","",IF(V27="도비","세입없음","직접입력")) | AJ27: =IF(AH27="","",COUNTIF($AH$6:$AH$31,AH27)) | AK27: =IF(X27="","",IF(AND(X27="도비",AH27="세입없음"),"OK",IF(AND(X27<>"도비",AH27<>""),"OK","@@"))) | AM27: {=IF(D27="","",INDEX(구분표!$I$2:$I$313, MATCH(1,(구분표!$E$2:$E$313='18년일출'!C27)*(구분표!$F$2:$F$313='18년일출'!D27)*(구분표!$G$2:$G$313='18년일출'!B27),0)))} -> 30202 | AQ27: =IF(N27<0,N27,0) -> 0 | AR27: =IF(N27>0,N27,0) -> 0
A28: =COUNTA($C$6:C28)-COUNTBLANK($C$6:C28)+1 -> 22 | B28: =IF(C28="","",MID($B$6,2,7)) -> 기획재정위원회 | C28: 공유시장경제국 | D28: 따복공동체지원과 | E28: 본예산 | F28: 일반 | G28: 146 | H28: 39 | I28: 따복공동체 주민제안 공모사업(자체/직접) - 따복공동체 주민제안 공모심사 운영비 | J28: 216000 | K28: -216000 | M28: =J28+K28+L28 -> 0 | R28: =IF(AND((M28=0),(Q28>0)),"O",IF(AND((K28<0),(M28-Q28<0)),"O","X")) -> X | Y28: =IF($X28<>"도비",IF($V28="국도비","직접입력",SUM($K28:$L28)),) -> -216000 | Z28: =IF($X28="도비",SUM($K28:$L28),IF($V28="국도비","직접입력",SUM($K28:$L28)-$Y28)) -> 0 | AA28: =IF(SUM($K28:$L28)=SUM($Y28:$Z28),"OK","검토") -> OK | AD28: =IF($X28<>"도비",IF($V28="국도비","직접입력",SUM($O28:$P28)),) -> 0 | AE28: =IF($X28="도비",SUM(O28:P28),IF($V28="국도비","직접입력",SUM(O28:P28)-AD28)) -> 0 | AF28: =IF(SUM(O28:P28)=SUM(AD28:AE28),"OK","검토") -> OK | AH28: =IF(V28="","",IF(V28="도비","세입없음","직접입력")) | AJ28: =IF(AH28="","",COUNTIF($AH$6:$AH$31,AH28)) | AK28: =IF(X28="","",IF(AND(X28="도비",AH28="세입없음"),"OK",IF(AND(X28<>"도비",AH28<>""),"OK","@@"))) | AM28: {=IF(D28="","",INDEX(구분표!$I$2:$I$313, MATCH(1,(구분표!$E$2:$E$313='18년일출'!C28)*(구분표!$F$2:$F$313='18년일출'!D28)*(구분표!$G$2:$G$313='18년일출'!B28),0)))} -> 30202 | AQ28: =IF(N28<0,N28,0) -> 0 | AR28: =IF(N28>0,N28,0) -> 0
A29: =COUNTA($C$6:C29)-COUNTBLANK($C$6:C29)+1 -> 23 | B29: =IF(C29="","",MID($B$6,2,7)) -> 기획재정위원회 | C29: 공유시장경제국 | D29: 따복공동체지원과 | E29: 본예산 | F29: 일반 | G29: 146 | H29: 39 | I29: 따복공동체 주민제안 공모사업(자체/직접) - 따복공동체 주민제안 공모심사 운영비(행사실비보상금) | J29: 800 | L29: 2200 | M29: =J29+K29+L29 -> 3000 | R29: =IF(AND((M29=0),(Q29>0)),"O",IF(AND((K29<0),(M29-Q29<0)),"O","X")) -> X | Y29: =IF($X29<>"도비",IF($V29="국도비","직접입력",SUM($K29:$L29)),) -> 2200 | Z29: =IF($X29="도비",SUM($K29:$L29),IF($V29="국도비","직접입력",SUM($K29:$L29)-$Y29)) -> 0 | AA29: =IF(SUM($K29:$L29)=SUM($Y29:$Z29),"OK","검토") -> OK | AD29: =IF($X29<>"도비",IF($V29="국도비","직접입력",SUM($O29:$P29)),) -> 0 | AE29: =IF($X29="도비",SUM(O29:P29),IF($V29="국도비","직접입력",SUM(O29:P29)-AD29)) -> 0 | AF29: =IF(SUM(O29:P29)=SUM(AD29:AE29),"OK","검토") -> OK | AH29: =IF(V29="","",IF(V29="도비","세입없음","직접입력")) | AJ29: =IF(AH29="","",COUNTIF($AH$6:$AH$31,AH29)) | AK29: =IF(X29="","",IF(AND(X29="도비",AH29="세입없음"),"OK",IF(AND(X29<>"도비",AH29<>""),"OK","@@"))) | AM29: {=IF(D29="","",INDEX(구분표!$I$2:$I$313, MATCH(1,(구분표!$E$2:$E$313='18년일출'!C29)*(구분표!$F$2:$F$313='18년일출'!D29)*(구분표!$G$2:$G$313='18년일출'!B29),0)))} -> 30202 | AQ29: =IF(N29<0,N29,0) -> 0 | AR29: =IF(N29>0,N29,0) -> 0
A30: =COUNTA($C$6:C30)-COUNTBLANK($C$6:C30)+1 -> 24 | B30: =IF(C30="","",MID($B$6,2,7)) -> 기획재정위원회 | C30: 감사관 | D30: 감사총괄담당관 | E30: 본예산 | F30: 일반 | G30: 64 | H30: 3 | I30: 자체감사 운영 및 중앙부처 감사지원(자체/직접) - 청렴도 향상 유공공무원 국외연수 | J30: 36000 | L30: 4000 | M30: =J30+K30+L30 -> 40000 | R30: =IF(AND((M30=0),(Q30>0)),"O",IF(AND((K30<0),(M30-Q30<0)),"O","X")) -> X | Y30: =IF($X30<>"도비",IF($V30="국도비","직접입력",SUM($K30:$L30)),) -> 4000 | Z30: =IF($X30="도비",SUM($K30:$L30),IF($V30="국도비","직접입력",SUM($K30:$L30)-$Y30)) -> 0 | AA30: =IF(SUM($K30:$L30)=SUM($Y30:$Z30),"OK","검토") -> OK | AD30: =IF($X30<>"도비",IF($V30="국도비","직접입력",SUM($O30:$P30)),) -> 0 | AE30: =IF($X30="도비",SUM(O30:P30),IF($V30="국도비","직접입력",SUM(O30:P30)-AD30)) -> 0 | AF30: =IF(SUM(O30:P30)=SUM(AD30:AE30),"OK","검토") -> OK | AH30: =IF(V30="","",IF(V30="도비","세입없음","직접입력")) | AJ30: =IF(AH30="","",COUNTIF($AH$6:$AH$31,AH30)) | AK30: =IF(X30="","",IF(AND(X30="도비",AH30="세입없음"),"OK",IF(AND(X30<>"도비",AH30<>""),"OK","@@"))) | AM30: {=IF(D30="","",INDEX(구분표!$I$2:$I$313, MATCH(1,(구분표!$E$2:$E$313='18년일출'!C30)*(구분표!$F$2:$F$313='18년일출'!D30)*(구분표!$G$2:$G$313='18년일출'!B30),0)))} -> 10301 | AQ30: =IF(N30<0,N30,0) -> 0 | AR30: =IF(N30>0,N30,0) -> 0
A31: =COUNTA($C$6:C31)-COUNTBLANK($C$6:C31)+1 -> 25 | B31: 기획조정실 | C31: 기획조정실 | D31: 정보기획담당관 | E31: 본예산 | F31: 일반 | G31: 101 | H31: 296 | I31: 정보통신보조기기 지원(국비직접) / 민간경상사업보조 ≫ [통계목변경] (사회보장적수혜금) | J31: 536770 | M31: =J31+K31+L31 -> 536770 | R31: =IF(AND((M31=0),(Q31>0)),"O",IF(AND((K31<0),(M31-Q31<0)),"O","X")) -> X | Y31: =IF($X31<>"도비",IF($V31="국도비","직접입력",SUM($K31:$L31)),) -> 0 | Z31: =IF($X31="도비",SUM($K31:$L31),IF($V31="국도비","직접입력",SUM($K31:$L31)-$Y31)) -> 0 | AA31: =IF(SUM($K31:$L31)=SUM($Y31:$Z31),"OK","검토") -> OK | AD31: =IF($X31<>"도비",IF($V31="국도비","직접입력",SUM($O31:$P31)),) -> 0 | AE31: =IF($X31="도비",SUM(O31:P31),IF($V31="국도비","직접입력",SUM(O31:P31)-AD31)) -> 0 | AF31: =IF(SUM(O31:P31)=SUM(AD31:AE31),"OK","검토") -> OK | AH31: =IF(V31="","",IF(V31="도비","세입없음","직접입력")) | AJ31: =IF(AH31="","",COUNTIF($AH$6:$AH$31,AH31)) | AK31: =IF(X31="","",IF(AND(X31="도비",AH31="세입없음"),"OK",IF(AND(X31<>"도비",AH31<>""),"OK","@@"))) | AM31: {=IF(D31="","",INDEX(구분표!$I$2:$I$313, MATCH(1,(구분표!$E$2:$E$313='18년일출'!C31)*(구분표!$F$2:$F$313='18년일출'!D31)*(구분표!$G$2:$G$313='18년일출'!B31),0)))} -> #N/A | AQ31: =IF(N31<0,N31,0) -> 0 | AR31: =IF(N31>0,N31,0) -> 0

Sheet 18년기금출
A1: 2018년도 경기도 기금운용계획 세출 예산 조정(안)
A2: □ 세출예산 | M2: =N2-#REF! -> #REF! | N2: =N6-#REF! -> #REF! | V2: 세입=세출 | AA2: 세입=세출
I3: =SUM(I7:I983)/2 -> 0 | J3: =SUM(J7:J983)/2 -> 0 | K3: =SUM(K7:K983)/2 -> 4655000 | L3: =SUM(L7:L983)/2 -> 0 | M3: =SUM(M7:M983)/2 -> 0 | N3: =SUM(N7:N983)/2 -> 0 | R3: (단위 : 천원) | V3: =IF(V6=#REF!,"OK","@@") -> #REF! | W3: =IF(W6=#REF!,"OK","@@") -> #REF! | X3: =IF(COUNTIF(X6:X21,"검토")>0,"@@","OK") -> OK | AA3: =IF(AA6=#REF!,"OK","@@") -> #REF! | AB3: =L6+M6-AA6-AB6 -> 0 | AC3: =IF(COUNTIF(AC6:AC21,"검토")>0,"@@","OK") -> OK
A4: 위원회명 | B4: 실국명 | C4: 부서명 | D4: 편성 구분 | E4: 기금 계획안 페이지 | F4: 사업설명서페이지 | G4: 세부사업명 및 부기명 | H4: 예산안 (가) | I4: 상임위 예산안 조정액(라) | K4: 상임위 조정 예산안 (마=가+라) | L4: 예결위 예산안 조정액(사) | N4: 예결위 조정 예산안 (아=가+사) | O4: 동의 대상 | P4: 상임위 변경사유 (심의 참고자료) | Q4: 비고 (상임위 부대의견) | R4: 비고 (부대의견) | S4: 국도비 등 여부 | U4: 재원 | V4: 상임위 재원별 증감액 | Z4: 재원 | AA4: 예결위 재원별 증감액 | AE4: 세입번호 | AG4: 동일 세입 건수 | AH4: 세출 번호 검증 | AJ4: 실국부서 코드 | AL4: 추가 내시 등
I5: 감액 | J5: 증액 | L5: 감액 | M5: 증액 | V5: 국비 등 | W5: 도비 | X5: 검증 | AA5: 국비 등 | AB5: 도비 | AC5: 검증
A6: 합 계 | H6: =SUBTOTAL(9,H7:H21) -> 4655000 | I6: =SUBTOTAL(9,I7:I21) -> 0 | J6: =SUBTOTAL(9,J7:J21) -> 0 | K6: =SUBTOTAL(9,K7:K21) -> 4655000 | V6: =SUBTOTAL(9,V7:V21) -> 0 | W6: =SUBTOTAL(9,W7:W21) -> 0 | X6: =IF(SUM($I6:$J6)=SUM($V6:$W6),"OK","검토") -> OK | AA6: =SUBTOTAL(9,AA7:AA21) -> 0 | AB6: =SUBTOTAL(9,AB7:AB21) -> 0 | AC6: =IF(SUM($I6:$J6)=SUM($V6:$W6),"OK","검토") -> OK
A7: (남북교류협력기금) | H7: =SUBTOTAL(9,H8:H11) -> 4655000 | I7: =SUBTOTAL(9,I8:I11) -> 0 | J7: =SUBTOTAL(9,J8:J11) -> 0 | K7: =SUBTOTAL(9,K8:K11) -> 4655000
A8: 기획재정위원회 | B8: 균형잘전기획실 | C8: 통일기반조성담당관 | D8: 본예산 | E8: 51 | F8: 365 | G8: 남북교류협력 및 통일정책 활성화(자체/직접) - 남북교류협력 및 통일정책 사업 홍보(사무관리비) 100,000천원 - 전국 광역지자체 남북교류협력 거버넌스 구축(행사운영비) 40,000천원 - 남북교류협력사업 추진 국외업무여비(국외업무여비) 60,000천원 - 남북교류협력사업 및 기반구축 사업 추진(민간위탁금) 3,255,000천원 ≫ [통계목변경] (민간경상사업보조) - 남북교류협력사업 및 기반구축 사업 추진(공기관등에대한경상적대행사업비) 1,200,000천원 | H8: 4655000 | K8: =H8+I8+J8 -> 4655000 | O8: =IF(AND((K8=0),(N8>0)),"O",IF(AND((I8<0),(K8-N8<0)),"O","X")) -> X | Q8: ◆상임위 쟁점사업◆ ○ ○ ○사업비 일반회계 편성에 따라 감액 | V8: =IF($U8<>"도비",IF($S8="국도비","직접입력",SUM($I8:$J8)),) -> 0 | W8: =IF($U8="도비",SUM($I8:$J8),IF($S8="국도비","직접입력",SUM($I8:$J8)-$V8)) -> 0 | X8: =IF(SUM($I8:$J8)=SUM($V8:$W8),"OK","검토") -> OK | AA8: =IF($U8<>"도비",IF($S8="국도비","직접입력",SUM($L8:$M8)),) -> 0 | AB8: =IF($U8="도비",SUM(L8:M8),IF($S8="국도비","직접입력",SUM(L8:M8)-AA8)) -> 0 | AC8: =IF(SUM(L8:M8)=SUM(AA8:AB8),"OK","검토") -> OK | AE8: =IF(U8="","",IF(U8="도비","세입없음","직접입력")) | AG8: =IF(AE8="","",COUNTIF($AE$7:$AE$21,AE8)) | AH8: =IF(U8="","",IF(AND(U8="도비",AE8="세입없음"),"OK",IF(AND(U8<>"도비",AE8<>""),"OK","@@"))) | AJ8: {=IF(C8="","",INDEX(구분표!$I$2:$I$313, MATCH(1,(구분표!$E$2:$E$313='18년기금출'!B8)*(구분표!$F$2:$F$313='18년기금출'!C8)*(구분표!$G$2:$G$313='18년기금출'!A8),0)))} -> #N/A
K9: =H9+I9+J9 -> 0 | N9: =H9+L9+M9 -> 0 | O9: =IF(AND((K9=0),(N9>0)),"O",IF(AND((I9<0),(K9-N9<0)),"O","X")) -> X | Q9: ◆상임위 쟁점사업◆ ○ ○ ○사업비 감액에 따른 예치금 증액 | V9: =IF($U9<>"도비",IF($S9="국도비","직접입력",SUM($I9:$J9)),) -> 0 | W9: =IF($U9="도비",SUM($I9:$J9),IF($S9="국도비","직접입력",SUM($I9:$J9)-$V9)) -> 0 | X9: =IF(SUM($I9:$J9)=SUM($V9:$W9),"OK","검토") -> OK | AA9: =IF($U9<>"도비",IF($S9="국도비","직접입력",SUM($L9:$M9)),) -> 0 | AB9: =IF($U9="도비",SUM(L9:M9),IF($S9="국도비","직접입력",SUM(L9:M9)-AA9)) -> 0 | AC9: =IF(SUM(L9:M9)=SUM(AA9:AB9),"OK","검토") -> OK | AE9: =IF(U9="","",IF(U9="도비","세입없음","직접입력")) | AG9: =IF(AE9="","",COUNTIF($AE$7:$AE$21,AE9)) | AH9: =IF(U9="","",IF(AND(U9="도비",AE9="세입없음"),"OK",IF(AND(U9<>"도비",AE9<>""),"OK","@@"))) | AJ9: {=IF(C9="","",INDEX(구분표!$I$2:$I$313, MATCH(1,(구분표!$E$2:$E$313='18년기금출'!B9)*(구분표!$F$2:$F$313='18년기금출'!C9)*(구분표!$G$2:$G$313='18년기금출'!A9),0)))}
K10: =H10+I10+J10 -> 0 | N10: =H10+L10+M10 -> 0 | O10: =IF(AND((K10=0),(N10>0)),"O",IF(AND((I10<0),(K10-N10<0)),"O","X")) -> X | V10: =IF($U10<>"도비",IF($S10="국도비","직접입력",SUM($I10:$J10)),) -> 0 | W10: =IF($U10="도비",SUM($I10:$J10),IF($S10="국도비","직접입력",SUM($I10:$J10)-$V10)) -> 0 | X10: =IF(SUM($I10:$J10)=SUM($V10:$W10),"OK","검토") -> OK | AA10: =IF($U10<>"도비",IF($S10="국도비","직접입력",SUM($L10:$M10)),) -> 0 | AB10: =IF($U10="도비",SUM(L10:M10),IF($S10="국도비","직접입력",SUM(L10:M10)-AA10)) -> 0 | AC10: =IF(SUM(L10:M10)=SUM(AA10:AB10),"OK","검토") -> OK | AE10: =IF(U10="","",IF(U10="도비","세입없음","직접입력")) | AG10: =IF(AE10="","",COUNTIF($AE$7:$AE$21,AE10)) | AH10: =IF(U10="","",IF(AND(U10="도비",AE10="세입없음"),"OK",IF(AND(U10<>"도비",AE10<>""),"OK","@@"))) | AJ10: {=IF(C10="","",INDEX(구분표!$I$2:$I$313, MATCH(1,(구분표!$E$2:$E$313='18년기금출'!B10)*(구분표!$F$2:$F$313='18년기금출'!C10)*(구분표!$G$2:$G$313='18년기금출'!A10),0)))}
K11: =H11+I11+J11 -> 0 | N11: =H11+L11+M11 -> 0 | O11: =IF(AND((K11=0),(N11>0)),"O",IF(AND((I11<0),(K11-N11<0)),"O","X")) -> X | V11: =IF($U11<>"도비",IF($S11="국도비","직접입력",SUM($I11:$J11)),) -> 0 | W11: =IF($U11="도비",SUM($I11:$J11),IF($S11="국도비","직접입력",SUM($I11:$J11)-$V11)) -> 0 | X11: =IF(SUM($I11:$J11)=SUM($V11:$W11),"OK","검토") -> OK | AA11: =IF($U11<>"도비",IF($S11="국도비","직접입력",SUM($L11:$M11)),) -> 0 | AB11: =IF($U11="도비",SUM(L11:M11),IF($S11="국도비","직접입력",SUM(L11:M11)-AA11)) -> 0 | AC11: =IF(SUM(L11:M11)=SUM(AA11:AB11),"OK","검토") -> OK | AE11: =IF(U11="","",IF(U11="도비","세입없음","직접입력")) | AG11: =IF(AE11="","",COUNTIF($AE$7:$AE$21,AE11)) | AH11: =IF(U11="","",IF(AND(U11="도비",AE11="세입없음"),"OK",IF(AND(U11<>"도비",AE11<>""),"OK","@@"))) | AJ11: {=IF(C11="","",INDEX(구분표!$I$2:$I$313, MATCH(1,(구분표!$E$2:$E$313='18년기금출'!B11)*(구분표!$F$2:$F$313='18년기금출'!C11)*(구분표!$G$2:$G$313='18년기금출'!A11),0)))}
A12: ( 기금) | H12: =SUBTOTAL(9,H13:H16) -> 0 | I12: =SUBTOTAL(9,I13:I16) -> 0 | J12: =SUBTOTAL(9,J13:J16) -> 0 | K12: =SUBTOTAL(9,K13:K16) -> 0 | L12: =SUBTOTAL(9,L13:L16) -> 0 | M12: =SUBTOTAL(9,M13:M16) -> 0 | N12: =SUBTOTAL(9,N13:N16) -> 0 | AE12: =IF(U12="","",IF(U12="도비","세입없음","직접입력"))
K13: =H13+I13+J13 -> 0 | N13: =H13+L13+M13 -> 0 | O13: =IF(AND((K13=0),(N13>0)),"O",IF(AND((I13<0),(K13-N13<0)),"O","X")) -> X | V13: =IF($U13<>"도비",IF($S13="국도비","직접입력",SUM($I13:$J13)),) -> 0 | W13: =IF($U13="도비",SUM($I13:$J13),IF($S13="국도비","직접입력",SUM($I13:$J13)-$V13)) -> 0 | X13: =IF(SUM($I13:$J13)=SUM($V13:$W13),"OK","검토") -> OK | AA13: =IF($U13<>"도비",IF($S13="국도비","직접입력",SUM($L13:$M13)),) -> 0 | AB13: =IF($U13="도비",SUM(L13:M13),IF($S13="국도비","직접입력",SUM(L13:M13)-AA13)) -> 0 | AC13: =IF(SUM(L13:M13)=SUM(AA13:AB13),"OK","검토") -> OK | AE13: =IF(U13="","",IF(U13="도비","세입없음","직접입력")) | AG13: =IF(AE13="","",COUNTIF($AE$7:$AE$21,AE13)) | AH13: =IF(U13="","",IF(AND(U13="도비",AE13="세입없음"),"OK",IF(AND(U13<>"도비",AE13<>""),"OK","@@"))) | AJ13: {=IF(C13="","",INDEX(구분표!$I$2:$I$313, MATCH(1,(구분표!$E$2:$E$313='18년기금출'!B13)*(구분표!$F$2:$F$313='18년기금출'!C13)*(구분표!$G$2:$G$313='18년기금출'!A13),0)))}
K14: =H14+I14+J14 -> 0 | N14: =H14+L14+M14 -> 0 | O14: =IF(AND((K14=0),(N14>0)),"O",IF(AND((I14<0),(K14-N14<0)),"O","X")) -> X | V14: =IF($U14<>"도비",IF($S14="국도비","직접입력",SUM($I14:$J14)),) -> 0 | W14: =IF($U14="도비",SUM($I14:$J14),IF($S14="국도비","직접입력",SUM($I14:$J14)-$V14)) -> 0 | X14: =IF(SUM($I14:$J14)=SUM($V14:$W14),"OK","검토") -> OK | AA14: =IF($U14<>"도비",IF($S14="국도비","직접입력",SUM($L14:$M14)),) -> 0 | AB14: =IF($U14="도비",SUM(L14:M14),IF($S14="국도비","직접입력",SUM(L14:M14)-AA14)) -> 0 | AC14: =IF(SUM(L14:M14)=SUM(AA14:AB14),"OK","검토") -> OK | AE14: =IF(U14="","",IF(U14="도비","세입없음","직접입력")) | AG14: =IF(AE14="","",COUNTIF($AE$7:$AE$21,AE14)) | AH14: =IF(U14="","",IF(AND(U14="도비",AE14="세입없음"),"OK",IF(AND(U14<>"도비",AE14<>""),"OK","@@"))) | AJ14: {=IF(C14="","",INDEX(구분표!$I$2:$I$313, MATCH(1,(구분표!$E$2:$E$313='18년기금출'!B14)*(구분표!$F$2:$F$313='18년기금출'!C14)*(구분표!$G$2:$G$313='18년기금출'!A14),0)))}
K15: =H15+I15+J15 -> 0 | N15: =H15+L15+M15 -> 0 | O15: =IF(AND((K15=0),(N15>0)),"O",IF(AND((I15<0),(K15-N15<0)),"O","X")) -> X | V15: =IF($U15<>"도비",IF($S15="국도비","직접입력",SUM($I15:$J15)),) -> 0 | W15: =IF($U15="도비",SUM($I15:$J15),IF($S15="국도비","직접입력",SUM($I15:$J15)-$V15)) -> 0 | X15: =IF(SUM($I15:$J15)=SUM($V15:$W15),"OK","검토") -> OK | AA15: =IF($U15<>"도비",IF($S15="국도비","직접입력",SUM($L15:$M15)),) -> 0 | AB15: =IF($U15="도비",SUM(L15:M15),IF($S15="국도비","직접입력",SUM(L15:M15)-AA15)) -> 0 | AC15: =IF(SUM(L15:M15)=SUM(AA15:AB15),"OK","검토") -> OK | AE15: =IF(U15="","",IF(U15="도비","세입없음","직접입력")) | AG15: =IF(AE15="","",COUNTIF($AE$7:$AE$21,AE15)) | AH15: =IF(U15="","",IF(AND(U15="도비",AE15="세입없음"),"OK",IF(AND(U15<>"도비",AE15<>""),"OK","@@"))) | AJ15: {=IF(C15="","",INDEX(구분표!$I$2:$I$313, MATCH(1,(구분표!$E$2:$E$313='18년기금출'!B15)*(구분표!$F$2:$F$313='18년기금출'!C15)*(구분표!$G$2:$G$313='18년기금출'!A15),0)))}
K16: =H16+I16+J16 -> 0 | N16: =H16+L16+M16 -> 0 | O16: =IF(AND((K16=0),(N16>0)),"O",IF(AND((I16<0),(K16-N16<0)),"O","X")) -> X | V16: =IF($U16<>"도비",IF($S16="국도비","직접입력",SUM($I16:$J16)),) -> 0 | W16: =IF($U16="도비",SUM($I16:$J16),IF($S16="국도비","직접입력",SUM($I16:$J16)-$V16)) -> 0 | X16: =IF(SUM($I16:$J16)=SUM($V16:$W16),"OK","검토") -> OK | AA16: =IF($U16<>"도비",IF($S16="국도비","직접입력",SUM($L16:$M16)),) -> 0 | AB16: =IF($U16="도비",SUM(L16:M16),IF($S16="국도비","직접입력",SUM(L16:M16)-AA16)) -> 0 | AC16: =IF(SUM(L16:M16)=SUM(AA16:AB16),"OK","검토") -> OK | AE16: =IF(U16="","",IF(U16="도비","세입없음","직접입력")) | AG16: =IF(AE16="","",COUNTIF($AE$7:$AE$21,AE16)) | AH16: =IF(U16="","",IF(AND(U16="도비",AE16="세입없음"),"OK",IF(AND(U16<>"도비",AE16<>""),"OK","@@"))) | AJ16: {=IF(C16="","",INDEX(구분표!$I$2:$I$313, MATCH(1,(구분표!$E$2:$E$313='18년기금출'!B16)*(구분표!$F$2:$F$313='18년기금출'!C16)*(구분표!$G$2:$G$313='18년기금출'!A16),0)))}
A17: ( 기금) | H17: =SUBTOTAL(9,H18:H21) -> 0 | I17: =SUBTOTAL(9,I18:I21) -> 0 | J17: =SUBTOTAL(9,J18:J21) -> 0 | K17: =SUBTOTAL(9,K18:K21) -> 0 | L17: =SUBTOTAL(9,L18:L21) -> 0 | M17: =SUBTOTAL(9,M18:M21) -> 0 | N17: =SUBTOTAL(9,N18:N21) -> 0 | AE17: =IF(U17="","",IF(U17="도비","세입없음","직접입력"))
K18: =H18+I18+J18 -> 0 | N18: =H18+L18+M18 -> 0 | O18: =IF(AND((K18=0),(N18>0)),"O",IF(AND((I18<0),(K18-N18<0)),"O","X")) -> X | V18: =IF($U18<>"도비",IF($S18="국도비","직접입력",SUM($I18:$J18)),) -> 0 | W18: =IF($U18="도비",SUM($I18:$J18),IF($S18="국도비","직접입력",SUM($I18:$J18)-$V18)) -> 0 | X18: =IF(SUM($I18:$J18)=SUM($V18:$W18),"OK","검토") -> OK | AA18: =IF($U18<>"도비",IF($S18="국도비","직접입력",SUM($L18:$M18)),) -> 0 | AB18: =IF($U18="도비",SUM(L18:M18),IF($S18="국도비","직접입력",SUM(L18:M18)-AA18)) -> 0 | AC18: =IF(SUM(L18:M18)=SUM(AA18:AB18),"OK","검토") -> OK | AE18: =IF(U18="","",IF(U18="도비","세입없음","직접입력")) | AG18: =IF(AE18="","",COUNTIF($AE$7:$AE$21,AE18)) | AH18: =IF(U18="","",IF(AND(U18="도비",AE18="세입없음"),"OK",IF(AND(U18<>"도비",AE18<>""),"OK","@@"))) | AJ18: {=IF(C18="","",INDEX(구분표!$I$2:$I$313, MATCH(1,(구분표!$E$2:$E$313='18년기금출'!B18)*(구분표!$F$2:$F$313='18년기금출'!C18)*(구분표!$G$2:$G$313='18년기금출'!A18),0)))}
K19: =H19+I19+J19 -> 0 | N19: =H19+L19+M19 -> 0 | O19: =IF(AND((K19=0),(N19>0)),"O",IF(AND((I19<0),(K19-N19<0)),"O","X")) -> X | V19: =IF($U19<>"도비",IF($S19="국도비","직접입력",SUM($I19:$J19)),) -> 0 | W19: =IF($U19="도비",SUM($I19:$J19),IF($S19="국도비","직접입력",SUM($I19:$J19)-$V19)) -> 0 | X19: =IF(SUM($I19:$J19)=SUM($V19:$W19),"OK","검토") -> OK | AA19: =IF($U19<>"도비",IF($S19="국도비","직접입력",SUM($L19:$M19)),) -> 0 | AB19: =IF($U19="도비",SUM(L19:M19),IF($S19="국도비","직접입력",SUM(L19:M19)-AA19)) -> 0 | AC19: =IF(SUM(L19:M19)=SUM(AA19:AB19),"OK","검토") -> OK | AE19: =IF(U19="","",IF(U19="도비","세입없음","직접입력")) | AG19: =IF(AE19="","",COUNTIF($AE$7:$AE$21,AE19)) | AH19: =IF(U19="","",IF(AND(U19="도비",AE19="세입없음"),"OK",IF(AND(U19<>"도비",AE19<>""),"OK","@@"))) | AJ19: {=IF(C19="","",INDEX(구분표!$I$2:$I$313, MATCH(1,(구분표!$E$2:$E$313='18년기금출'!B19)*(구분표!$F$2:$F$313='18년기금출'!C19)*(구분표!$G$2:$G$313='18년기금출'!A19),0)))}
K20: =H20+I20+J20 -> 0 | N20: =H20+L20+M20 -> 0 | O20: =IF(AND((K20=0),(N20>0)),"O",IF(AND((I20<0),(K20-N20<0)),"O","X")) -> X | V20: =IF($U20<>"도비",IF($S20="국도비","직접입력",SUM($I20:$J20)),) -> 0 | W20: =IF($U20="도비",SUM($I20:$J20),IF($S20="국도비","직접입력",SUM($I20:$J20)-$V20)) -> 0 | X20: =IF(SUM($I20:$J20)=SUM($V20:$W20),"OK","검토") -> OK | AA20: =IF($U20<>"도비",IF($S20="국도비","직접입력",SUM($L20:$M20)),) -> 0 | AB20: =IF($U20="도비",SUM(L20:M20),IF($S20="국도비","직접입력",SUM(L20:M20)-AA20)) -> 0 | AC20: =IF(SUM(L20:M20)=SUM(AA20:AB20),"OK","검토") -> OK | AE20: =IF(U20="","",IF(U20="도비","세입없음","직접입력")) | AG20: =IF(AE20="","",COUNTIF($AE$7:$AE$21,AE20)) | AH20: =IF(U20="","",IF(AND(U20="도비",AE20="세입없음"),"OK",IF(AND(U20<>"도비",AE20<>""),"OK","@@"))) | AJ20: {=IF(C20="","",INDEX(구분표!$I$2:$I$313, MATCH(1,(구분표!$E$2:$E$313='18년기금출'!B20)*(구분표!$F$2:$F$313='18년기금출'!C20)*(구분표!$G$2:$G$313='18년기금출'!A20),0)))}
K21: =H21+I21+J21 -> 0 | N21: =H21+L21+M21 -> 0 | O21: =IF(AND((K21=0),(N21>0)),"O",IF(AND((I21<0),(K21-N21<0)),"O","X")) -> X | V21: =IF($U21<>"도비",IF($S21="국도비","직접입력",SUM($I21:$J21)),) -> 0 | W21: =IF($U21="도비",SUM($I21:$J21),IF($S21="국도비","직접입력",SUM($I21:$J21)-$V21)) -> 0 | X21: =IF(SUM($I21:$J21)=SUM($V21:$W21),"OK","검토") -> OK | AA21: =IF($U21<>"도비",IF($S21="국도비","직접입력",SUM($L21:$M21)),) -> 0 | AB21: =IF($U21="도비",SUM(L21:M21),IF($S21="국도비","직접입력",SUM(L21:M21)-AA21)) -> 0 | AC21: =IF(SUM(L21:M21)=SUM(AA21:AB21),"OK","검토") -> OK | AE21: =IF(U21="","",IF(U21="도비","세입없음","직접입력")) | AG21: =IF(AE21="","",COUNTIF($AE$7:$AE$21,AE21)) | AH21: =IF(U21="","",IF(AND(U21="도비",AE21="세입없음"),"OK",IF(AND(U21<>"도비",AE21<>""),"OK","@@"))) | AJ21: {=IF(C21="","",INDEX(구분표!$I$2:$I$313, MATCH(1,(구분표!$E$2:$E$313='18년기금출'!B21)*(구분표!$F$2:$F$313='18년기금출'!C21)*(구분표!$G$2:$G$313='18년기금출'!A21),0)))}
