Workbook

Sheet 구분표
A2: 실과명 | B2: 위원회명 | C2: 실국명 | E2: 실국명 | F2: 실과명 | G2: 위원회명 | H2: 정렬순서 | I2: 정렬코드
A3: 총무담당관 | B3: 의회운영위원회 | C3: 의회사무처 | E3: 의회사무처 | F3: 총무담당관 | G3: 의회운영위원회 | H3: 1 | I3: 50101
A4: 공보담당관 | B4: 의회운영위원회 | C4: 의회사무처 | E4: 의회사무처 | F4: 공보담당관 | G4: 의회운영위원회 | H4: 2 | I4: 50102
A5: 의사담당관 | B5: 의회운영위원회 | C5: 의회사무처 | E5: 의회사무처 | F5: 의사담당관 | G5: 의회운영위원회 | H5: 3 | I5: 50103
A6: 의정지원담당관 | B6: 의회운영위원회 | C6: 의회사무처 | E6: 의회사무처 | F6: 의정지원담당관 | G6: 의회운영위원회 | H6: 4 | I6: 50106
A7: 입법정책담당관 | B7: 의회운영위원회 | C7: 의회사무처 | E7: 의회사무처 | F7: 입법정책담당관 | G7: 의회운영위원회 | H7: 5 | I7: 50104
A8: 예산정책담당관 | B8: 의회운영위원회 | C8: 의회사무처 | E8: 의회사무처 | F8: 예산정책담당관 | G8: 의회운영위원회 | H8: 6 | I8: 50105
A9: 언론협력담당관 | B9: 의회운영위원회 | C9: 대변인 | E9: 대변인 | F9: 언론협력담당관 | G9: 의회운영위원회 | H9: 7 | I9: 10101
A10: 보도기획담당관 | B10: 의회운영위원회 | C10: 대변인 | E10: 대변인 | F10: 보도기획담당관 | G10: 의회운영위원회 | H10: 8 | I10: 10102
A11: 홍보미디어담당관 | B11: 의회운영위원회 | C11: 소통기획관 | E11: 소통기획관 | F11: 홍보미디어담당관 | G11: 의회운영위원회 | H11: 9 | I11: 10201
A12: 홍보콘텐츠담당관 | B12: 의회운영위원회 | C12: 소통기획관 | E12: 소통기획관 | F12: 홍보콘텐츠담당관 | G12: 의회운영위원회 | H12: 10 | I12: 10202
A13: 연정협력과 | B13: 의회운영위원회 | C13: 연정협력국 | E13: 연정협력국 | F13: 연정협력과 | G13: 의회운영위원회 | H13: 11 | I13: 30101
A14: 대외협력과 | B14: 의회운영위원회 | C14: 연정협력국 | E14: 연정협력국 | F14: 대외협력과 | G14: 의회운영위원회 | H14: 12 | I14: 30102
... A216: 보육청소년담당관 | B216: 여성가족교육협력위원회 | C216: 복지여성실 | E216: 복지여성실 | F216: 보육청소년담당관 | G216: 여성가족교육협력위원회 | H216: 214 | I216: 11201

Sheet 예결표지(세로)
A5: 2017년도 제1회 일반회계 및 특별회계 추가경정 세입·세출 예산안
A7: 예결위 계수조정 결과
A20: 예산결산특별위원회

Sheet 예결표지(가로)
A3: 2017년도 제1회 일반회계 및 특별회계 추가경정 세입·세출 예산안
A5: 예결위 계수조정 결과
A14: 예산결산특별위원회

Sheet 검증
A1: 제4회 추경 일반회계 검증 | H1: 4추 예비비 | J1: 조정액 | K1: =IFERROR(INDEX(#REF!,MATCH("*예비비*",#REF!,0)),0) -> 0 | L1: 조정잔액 | M1: =I1+K1 -> 0
M2: (단위 : 천원)
A3: 구분 | B3: 상 임 위 | H3: 구분 | I3: 예 결 위
B4: 세입 | C4: 검증 | D4: 세출 | E4: 검증 | F4: 차액 | I4: 세입 | J4: 검증 | K4: 세출 | L4: 검증 | M4: 차액
A5: 전체 총계 | B5: =SUM(B6:B13)/2 -> #REF! | C5: =IF(B5=SUM(#REF!),"OK","@@") -> #REF! | D5: =SUM(D6:D13)/2 -> #REF! | E5: =IF(D5=SUM(#REF!),"OK","@@") -> #REF! | H5: 전체 총계 | I5: =SUM(I6:I13)/2 -> #REF! | J5: =IF(I5=SUM(#REF!),"OK","@@") -> #REF! | K5: =SUM(K6:K13)/2 -> #REF! | L5: =IF(K5=SUM(#REF!),"OK","@@") -> #REF!
A6: 자체 계 | B6: =SUM(B7:B8) -> #REF! | C6: =IF(B6=#REF!,"OK","@@") -> #REF! | D6: =SUM(D7:D8) -> #REF! | E6: =IF(D6=#REF!,"OK","@@") -> #REF! | H6: 자체 계 | I6: =SUM(I7:I8) -> #REF! | J6: =IF(I6=#REF!,"OK","@@") -> #REF! | K6: =SUM(K7:K8) -> #REF! | L6: =IF(K6=#REF!,"OK","@@") -> #REF!
A7: 자체 도비 | B7: =SUMIFS(#REF!,#REF!,"도비") -> #REF! | D7: =SUMIFS(#REF!,#REF!,"도비") -> #REF! | H7: 자체 도비 | I7: =SUMIFS(#REF!,#REF!,"국비") -> #REF! | K7: =SUMIFS(#REF!,#REF!,"도비") -> #REF!
A8: 의존 매칭 도비 | B8: =SUMIFS(#REF!,#REF!,"국비")+SUMIFS(#REF!,#REF!,"지특")+SUMIFS(#REF!,#REF!,"기금")+SUMIFS(#REF!,#REF!,"특교") -> #REF! | D8: =SUMIFS(#REF!,#REF!,"국비")+SUMIFS(#REF!,#REF!,"지특")+SUMIFS(#REF!,#REF!,"기금")+SUMIFS(#REF!,#REF!,"특교") -> #REF! | H8: 의존 매칭 도비 | I8: =SUMIFS(#REF!,#REF!,"국비")+SUMIFS(#REF!,#REF!,"지특")+SUMIFS(#REF!,#REF!,"기금")+SUMIFS(#REF!,#REF!,"특교") -> #REF! | K8: =SUMIFS(#REF!,#REF!,"국비")+SUMIFS(#REF!,#REF!,"지특")+SUMIFS(#REF!,#REF!,"기금")+SUMIFS(#REF!,#REF!,"특교") -> #REF!
A9: 의존 계 | B9: =SUM(B10:B13) -> #REF! | C9: =IF(B9=#REF!,"OK","@@") -> #REF! | D9: =SUM(D10:D13) -> #REF! | E9: =IF(D9=#REF!,"OK","@@") -> #REF! | F9: =SUM(F10:F13) -> #REF! | H9: 의존 계 | I9: =SUM(I10:I13) -> #REF! | J9: =IF(I9=#REF!,"OK","@@") -> #REF! | K9: =SUM(K10:K13) -> #REF! | L9: =IF(K9=#REF!,"OK","@@") -> #REF! | M9: =SUM(M10:M13) -> #REF!
A10: 국비 | B10: =SUMIFS(#REF!,#REF!,검증!A10) -> #REF! | D10: =SUMIFS(#REF!,#REF!,검증!A10) -> #REF! | F10: =D10-B10 -> #REF! | H10: 국비 | I10: =SUMIFS(#REF!,#REF!,검증!H10) -> #REF! | K10: =SUMIFS(#REF!,#REF!,검증!H10) -> #REF! | M10: =K10-I10 -> #REF!
A11: 지특 | B11: =SUMIFS(#REF!,#REF!,검증!A11) -> #REF! | D11: =SUMIFS(#REF!,#REF!,검증!A11) -> #REF! | F11: =D11-B11 -> #REF! | H11: 지특 | I11: =SUMIFS(#REF!,#REF!,검증!H11) -> #REF! | K11: =SUMIFS(#REF!,#REF!,검증!H11) -> #REF! | M11: =K11-I11 -> #REF!
A12: 기금 | B12: =SUMIFS(#REF!,#REF!,검증!A12) -> #REF! | D12: =SUMIFS(#REF!,#REF!,검증!A12) -> #REF! | F12: =D12-B12 -> #REF! | H12: 기금 | I12: =SUMIFS(#REF!,#REF!,검증!H12) -> #REF! | K12: =SUMIFS(#REF!,#REF!,검증!H12) -> #REF! | M12: =K12-I12 -> #REF!
A13: 특교 | B13: =SUMIFS(#REF!,#REF!,검증!A13) -> #REF! | D13: =SUMIFS(#REF!,#REF!,검증!A13) -> #REF! | F13: =D13-B13 -> #REF! | H13: 특교 | I13: =SUMIFS(#REF!,#REF!,검증!H13) -> #REF! | K13: =SUMIFS(#REF!,#REF!,검증!H13) -> #REF! | M13: =K13-I13 -> #REF!

Sheet 명시이월
A2: 2017년도 3회추경 명시이월 사업조서
J4: (단위:천원)
A5: 구 분 | C5: 예 산 과 목 | G5: 명시이월내용 | H5: 예산액 | I5: 2017년이월액 | J5: 사유
A6: 소관실국 | B6: 소관위원회 | C6: 정책사업 (소관과) | D6: 단위사업 | E6: 세부사업 | F6: 편성목 (통계목)
H7: =SUM(H8:H248) -> 0 | I7: =SUM(I8:I248) -> 0
A8: 균형발전기획실 | B8: 기획재정위원회 | C8: 지역균형개발 (균형발전담당관) | D8: 지역균형발전사업추진 (지역균형발전특별회계) | E8: 지역균형발전사업 육성 (자체/지원) | F8: 자치단체등자본이전 (자치단체자본보조) | G8: 지역균형발전사업 지원 | H8: 50,492,680 | I8: 282,680 | J8: ○ 지역균형발전특별회계 공공예금이자발생액과 지난연도수입액(시군집행잔액 및 이자발생액) 으로 2018년도 지역균형발전사업에 지원
