Workbook

Sheet 구분표
A2: 실과명 | B2: 위원회명 | C2: 실국명 | E2: 실국명 | F2: 실과명 | G2: 위원회명 | H2: 정렬순서 | I2: 정렬코드
A3: 총무담당관 | B3: 의회운영위원회 | C3: 의회사무처 | E3: 의회사무처 | F3: 총무담당관 | G3: 의회운영위원회 | H3: 1 | I3: 50101
A4: 공보담당관 | B4: 의회운영위원회 | C4: 의회사무처 | E4: 의회사무처 | F4: 공보담당관 | G4: 의회운영위원회 | H4: 2 | I4: 50102
A5: 의사담당관 | B5: 의회운영위원회 | C5: 의회사무처 | E5: 의회사무처 | F5: 의사담당관 | G5: 의회운영위원회 | H5: 3 | I5: 50103
A6: 의정지원담당관 | B6: 의회운영위원회 | C6: 의회사무처 | E6: 의회사무처 | F6: 의정지원담당관 | G6: 의회운영위원회 | H6: 4 | I6: 50106
A7: 입법정책담당관 | B7: 의회운영위원회 | C7: 의회사무처 | E7: 의회사무처 | F7: 입법정책담당관 | G7: 의회운영위원회 | H7: 5 | I7: 50104
A8: 예산정책담당관 | B8: 의회운영위원회 | C8: 의회사무처 | E8: 의회사무처 | F8: 예산정책담당관 | G8: 의회운영위원회 | H8: 6 | I8: 50105
A9: 언론협력담당관 | B9: 의회운영위원회 | C9: 대변인 | E9: 대변인 | F9: 언론협력담당관 | G9: 의회운영위원회 | H9: 7 | I9: 10101
A10: 보도기획담당관 | B10: 의회운영위원회 | C10: 대변인 | E10: 대변인 | F10: 보도기획담당관 | G10: 의회운영위원회 | H10: 8 | I10: 10102
A11: 홍보미디어담당관 | B11: 의회운영위원회 | C11: 소통기획관 | E11: 소통기획관 | F11: 홍보미디어담당관 | G11: 의회운영위원회 | H11: 9 | I11: 10201
A12: 홍보콘텐츠담당관 | B12: 의회운영위원회 | C12: 소통기획관 | E12: 소통기획관 | F12: 홍보콘텐츠담당관 | G12: 의회운영위원회 | H12: 10 | I12: 10202
A13: 연정협력과 | B13: 의회운영위원회 | C13: 연정협력국 | E13: 연정협력국 | F13: 연정협력과 | G13: 의회운영위원회 | H13: 11 | I13: 30101
A14: 대외협력과 | B14: 의회운영위원회 | C14: 연정협력국 | E14: 연정협력국 | F14: 대외협력과 | G14: 의회운영위원회 | H14: 12 | I14: 30102
... A216: 보육청소년담당관 | B216: 여성가족교육협력위원회 | C216: 복지여성실 | E216: 복지여성실 | F216: 보육청소년담당관 | G216: 여성가족교육협력위원회 | H216: 214 | I216: 11201

Sheet 예결표지(세로)
A5: 2017년도 제1회 일반회계 및 특별회계 추가경정 세입·세출 예산안
A7: 예결위 계수조정 결과
A20: 예산결산특별위원회

Sheet 예결표지(가로)
A3: 2017년도 제1회 일반회계 및 특별회계 추가경정 세입·세출 예산안
A5: 예결위 계수조정 결과
A14: 예산결산특별위원회

Sheet 검증
A1: 제4회 추경 일반회계 검증 | H1: 4추 예비비 | J1: 조정액 | K1: =IFERROR(INDEX(의회!AE5:AE27,MATCH("*예비비*",의회!I5:I27,0)),0) -> 0 | L1: 조정잔액 | M1: =I1+K1 -> 0
M2: (단위 : 천원)
A3: 구분 | B3: 상 임 위 | H3: 구분 | I3: 예 결 위
B4: 세입 | C4: 검증 | D4: 세출 | E4: 검증 | F4: 차액 | I4: 세입 | J4: 검증 | K4: 세출 | L4: 검증 | M4: 차액
A5: 전체 총계 | B5: =SUM(B6:B13)/2 -> #REF! | C5: =IF(B5=SUM(#REF!),"OK","@@") -> #REF! | D5: =SUM(D6:D13)/2 -> 0 | E5: =IF(D5=SUM(의회!K5:L5),"OK","@@") -> @@ | H5: 전체 총계 | I5: =SUM(I6:I13)/2 -> #REF! | J5: =IF(I5=SUM(#REF!),"OK","@@") -> #REF! | K5: =SUM(K6:K13)/2 -> 0 | L5: =IF(K5=SUM(의회!O5:P5),"OK","@@") -> OK
A6: 자체 계 | B6: =SUM(B7:B8) -> #REF! | C6: =IF(B6=#REF!,"OK","@@") -> #REF! | D6: =SUM(D7:D8) -> 0 | E6: =IF(D6=의회!Z5,"OK","@@") -> OK | H6: 자체 계 | I6: =SUM(I7:I8) -> #REF! | J6: =IF(I6=#REF!,"OK","@@") -> #REF! | K6: =SUM(K7:K8) -> 0 | L6: =IF(K6=의회!AE5,"OK","@@") -> OK
A7: 자체 도비 | B7: =SUMIFS(#REF!,#REF!,"도비") -> #REF! | D7: =SUMIFS(의회!$Z$5:$Z$27,의회!$X$5:$X$27,"도비") -> 0 | H7: 자체 도비 | I7: =SUMIFS(#REF!,#REF!,"국비") -> #REF! | K7: =SUMIFS(의회!$AE$5:$AE$27,의회!$AC$5:$AC$27,"도비") -> 0
A8: 의존 매칭 도비 | B8: =SUMIFS(#REF!,#REF!,"국비")+SUMIFS(#REF!,#REF!,"지특")+SUMIFS(#REF!,#REF!,"기금")+SUMIFS(#REF!,#REF!,"특교") -> #REF! | D8: =SUMIFS(의회!$Z$5:$Z$27,의회!$X$5:$X$27,"국비")+SUMIFS(의회!$Z$5:$Z$27,의회!$X$5:$X$27,"지특")+SUMIFS(의회!$Z$5:$Z$27,의회!$X$5:$X$27,"기금")+SUMIFS(의회!$Z$5:$Z$27,의회!$X$5:$X$27,"특교") -> 0 | H8: 의존 매칭 도비 | I8: =SUMIFS(#REF!,#REF!,"국비")+SUMIFS(#REF!,#REF!,"지특")+SUMIFS(#REF!,#REF!,"기금")+SUMIFS(#REF!,#REF!,"특교") -> #REF! | K8: =SUMIFS(의회!$AE$5:$AE$27,의회!$AC$5:$AC$27,"국비")+SUMIFS(의회!$AE$5:$AE$27,의회!$AC$5:$AC$27,"지특")+SUMIFS(의회!$AE$5:$AE$27,의회!$AC$5:$AC$27,"기금")+SUMIFS(의회!$AE$5:$AE$27,의회!$AC$5:$AC$27,"특교") -> 0
A9: 의존 계 | B9: =SUM(B10:B13) -> #REF! | C9: =IF(B9=#REF!,"OK","@@") -> #REF! | D9: =SUM(D10:D13) -> 0 | E9: =IF(D9=의회!Y5,"OK","@@") -> @@ | F9: =SUM(F10:F13) -> #REF! | H9: 의존 계 | I9: =SUM(I10:I13) -> #REF! | J9: =IF(I9=#REF!,"OK","@@") -> #REF! | K9: =SUM(K10:K13) -> 0 | L9: =IF(K9=의회!AD5,"OK","@@") -> OK | M9: =SUM(M10:M13) -> #REF!
A10: 국비 | B10: =SUMIFS(#REF!,#REF!,검증!A10) -> #REF! | D10: =SUMIFS(의회!$Z$5:$Z$27,의회!$X$5:$X$27,검증!A10) -> 0 | F10: =D10-B10 -> #REF! | H10: 국비 | I10: =SUMIFS(#REF!,#REF!,검증!H10) -> #REF! | K10: =SUMIFS(의회!$AE$5:$AE$27,의회!$AC$5:$AC$27,검증!H10) -> 0 | M10: =K10-I10 -> #REF!
A11: 지특 | B11: =SUMIFS(#REF!,#REF!,검증!A11) -> #REF! | D11: =SUMIFS(의회!$Z$5:$Z$27,의회!$X$5:$X$27,검증!A11) -> 0 | F11: =D11-B11 -> #REF! | H11: 지특 | I11: =SUMIFS(#REF!,#REF!,검증!H11) -> #REF! | K11: =SUMIFS(의회!$AE$5:$AE$27,의회!$AC$5:$AC$27,검증!H11) -> 0 | M11: =K11-I11 -> #REF!
A12: 기금 | B12: =SUMIFS(#REF!,#REF!,검증!A12) -> #REF! | D12: =SUMIFS(의회!$Z$5:$Z$27,의회!$X$5:$X$27,검증!A12) -> 0 | F12: =D12-B12 -> #REF! | H12: 기금 | I12: =SUMIFS(#REF!,#REF!,검증!H12) -> #REF! | K12: =SUMIFS(의회!$AE$5:$AE$27,의회!$AC$5:$AC$27,검증!H12) -> 0 | M12: =K12-I12 -> #REF!
A13: 특교 | B13: =SUMIFS(#REF!,#REF!,검증!A13) -> #REF! | D13: =SUMIFS(의회!$Z$5:$Z$27,의회!$X$5:$X$27,검증!A13) -> 0 | F13: =D13-B13 -> #REF! | H13: 특교 | I13: =SUMIFS(#REF!,#REF!,검증!H13) -> #REF! | K13: =SUMIFS(의회!$AE$5:$AE$27,의회!$AC$5:$AC$27,검증!H13) -> 0 | M13: =K13-I13 -> #REF!

Sheet 의회
B1: 2018년도 경기도 일반회계 세출 예산 조정(안) - 운영위원회
B2: □ 세출예산 | P2: =Q2-#REF! -> #REF! | Q2: =Q5-J5 -> -8273476 | S2: 6043819 | T2: =Q2+S2 -> -2229657 | Y2: 세입=세출 | AD2: 세입=세출
A3: 번호 | B3: 위원회명 | C3: 실국명 | D3: 부서명 | E3: 편성 구분 | F3: 연정 구분 | G3: 예산안 페이지 | H3: 사업설명서페이지 | I3: 세부사업명 및 부기명 | J3: 예산안 (가) | K3: 상임위 예산안 조정액(라) | M3: 상임위 조정 예산안 (마=가+라) | N3: 예결위 조정액 (아-마) | O3: 예결위 예산안(사) | Q3: 예결위 조정 예산안 (아=가+사) | R3: 동의 대상 | S3: 참고자료 | T3: 비고 (상임위 부대의견) | U3: 비고 (예결위 부대의견) | V3: 국도비 등 여부 | X3: 재원 | Y3: 상임위 재원별 증감액 | AC3: 재원 | AD3: 예결위 재원별 증감액 | AH3: 세입번호 | AJ3: 동일 세입 건수 | AK3: 세출 번호 검증 | AM3: 실국부서 코드 | AO3: 추가 내시 등
K4: 감액 | L4: 증액 | O4: 감액 | P4: 증액 | Y4: 국비 등 | Z4: 도비 | AA4: 검증 | AD4: 국비 등 | AE4: 도비 | AF4: 검증 | AQ4: 감액 | AR4: 증액
B5: 합 계 | J5: =SUBTOTAL(9,J6:J27) -> 8273476 | K5: =SUBTOTAL(9,K6:K27) -> -1467000 | L5: =SUBTOTAL(9,L6:L27) -> 1989505 | M5: =SUBTOTAL(9,M6:M27) -> 8795981 | N5: =SUBTOTAL(9,N6:N27) -> 0 | O5: =SUBTOTAL(9,O6:O27) -> 0 | P5: =SUBTOTAL(9,P6:P27) -> 0 | Q5: =SUBTOTAL(9,Q6:Q27) -> 0 | Y5: =SUBTOTAL(9,Y6:Y27) -> 14805 | Z5: =SUBTOTAL(9,Z6:Z27) -> 0 | AA5: =IF(SUM($K5:$L5)=SUM($Y5:$Z5),"OK","검토") -> 검토 | AD5: =SUBTOTAL(9,AD6:AD27) -> 0 | AE5: =SUBTOTAL(9,AE6:AE27) -> 0 | AF5: =IF(SUM(O5:P5)=SUM(AD5:AE5),"OK","검토") -> OK
B6: (의회운영위원회) | J6: =SUBTOTAL(9,J7:J27) -> 8273476 | K6: =SUBTOTAL(9,K7:K27) -> -1467000 | L6: =SUBTOTAL(9,L7:L27) -> 1989505 | M6: =SUBTOTAL(9,M7:M27) -> 8795981 | N6: =SUBTOTAL(9,N7:N27) -> 0 | O6: =SUBTOTAL(9,O7:O27) -> 0 | P6: =SUBTOTAL(9,P7:P27) -> 0 | Q6: =SUBTOTAL(9,Q7:Q27) -> 0 | AQ6: =SUBTOTAL(9,AQ7:AQ27) -> 0 | AR6: =SUBTOTAL(9,AR7:AR27) -> 0
A7: 1 | B7: 의회운영위원회 | C7: 의회사무처 | D7: 총무담당관 | E7: 신규 | F7: 일반 | G7: 9 | H7: 18 | I7: 의회운영(자체/직접) - 의회 사무처 각종 행사 지원(행사운영비) | J7: 0 | L7: 200000 | M7: =J7+K7+L7 -> 200000 | Q7: =J7+O7+P7 -> 0 | R7: =IF(AND((M7=0),(Q7>0)),"O",IF(AND((K7<0),(M7-Q7<0)),"O","X")) -> X | Y7: =IF($X7<>"도비",IF($V7="국도비","직접입력",SUM($K7:$L7)),) -> 200000 | Z7: =IF($X7="도비",SUM($K7:$L7),IF($V7="국도비","직접입력",SUM($K7:$L7)-$Y7)) -> 0 | AA7: =IF(SUM($K7:$L7)=SUM($Y7:$Z7),"OK","검토") -> OK | AD7: =IF($X7<>"도비",IF($V7="국도비","직접입력",SUM($O7:$P7)),) -> 0 | AE7: =IF($X7="도비",SUM(O7:P7),IF($V7="국도비","직접입력",SUM(O7:P7)-AD7)) -> 0 | AF7: =IF(SUM(O7:P7)=SUM(AD7:AE7),"OK","검토") -> OK | AH7: =IF(V7="","",IF(V7="도비","세입없음","직접입력")) | AJ7: =IF(AH7="","",COUNTIF($AH$6:$AH$27,AH7)) | AK7: =IF(X7="","",IF(AND(X7="도비",AH7="세입없음"),"OK",IF(AND(X7<>"도비",AH7<>""),"OK","@@"))) | AM7: {=IF(D7="","",INDEX(구분표!$I$2:$I$313, MATCH(1,(구분표!$E$2:$E$313=의회!C7)*(구분표!$F$2:$F$313=의회!D7)*(구분표!$G$2:$G$313=의회!B7),0)))} -> 50101 | AQ7: =IF(N7<0,N7,0) -> 0 | AR7: =IF(N7>0,N7,0)
A8: 2 | B8: 의회운영위원회 | C8: 의회사무처 | D8: 총무담당관 | E8: 본예산 | F8: 일반 | G8: 12 | H8: 50 | I8: 의원의정역량강화 지원(자체/직접) -의원역량개발비 (평창동계올림픽입장권) | J8: 128000 | L8: 30000 | M8: =J8+K8+L8 -> 158000
A9: 3 | B9: 의회운영위원회 | C9: 의회사무처 | D9: 총무담당관 | E9: 본예산 | F9: 일반 | G9: 11 | H9: 33 | I9: 의회청사 증축 - 사무실 임차료(사무관리비) | J9: 35000 | K9: -35000 | M9: =J9+K9+L9 -> 0 | R9: =IF(AND((M9=0),(Q9>0)),"O",IF(AND((K9<0),(M9-Q9<0)),"O","X")) -> X | Y9: =IF($X9<>"도비",IF($V9="국도비","직접입력",SUM($K9:$L9)),) -> -35000 | Z9: =IF($X9="도비",SUM($K9:$L9),IF($V9="국도비","직접입력",SUM($K9:$L9)-$Y9)) -> 0 | AA9: =IF(SUM($K9:$L9)=SUM($Y9:$Z9),"OK","검토") -> OK | AD9: =IF($X9<>"도비",IF($V9="국도비","직접입력",SUM($O9:$P9)),) -> 0 | AE9: =IF($X9="도비",SUM(O9:P9),IF($V9="국도비","직접입력",SUM(O9:P9)-AD9)) -> 0 | AF9: =IF(SUM(O9:P9)=SUM(AD9:AE9),"OK","검토") -> OK | AH9: =IF(V9="","",IF(V9="도비","세입없음","직접입력")) | AJ9: =IF(AH9="","",COUNTIF($AH$6:$AH$27,AH9)) | AK9: =IF(X9="","",IF(AND(X9="도비",AH9="세입없음"),"OK",IF(AND(X9<>"도비",AH9<>""),"OK","@@"))) | AM9: {=IF(D9="","",INDEX(구분표!$I$2:$I$313, MATCH(1,(구분표!$E$2:$E$313=의회!C9)*(구분표!$F$2:$F$313=의회!D9)*(구분표!$G$2:$G$313=의회!B9),0)))} -> 50101 | AQ9: =IF(N9<0,N9,0) -> 0 | AR9: =IF(N9>0,N9,0)
A10: 4 | B10: 의회운영위원회 | C10: 의회사무처 | D10: 총무담당관 | E10: 본예산 | F10: 일반 | G10: 11 | H10: 33 | I10: 의회청사 증축 - 청사 증축 공사(시설비) | J10: 1432000 | K10: -1432000 | M10: =J10+K10+L10 -> 0 | R10: =IF(AND((M10=0),(Q10>0)),"O",IF(AND((K10<0),(M10-Q10<0)),"O","X")) -> X | Y10: =IF($X10<>"도비",IF($V10="국도비","직접입력",SUM($K10:$L10)),) -> -1432000 | Z10: =IF($X10="도비",SUM($K10:$L10),IF($V10="국도비","직접입력",SUM($K10:$L10)-$Y10)) -> 0 | AA10: =IF(SUM($K10:$L10)=SUM($Y10:$Z10),"OK","검토") -> OK | AD10: =IF($X10<>"도비",IF($V10="국도비","직접입력",SUM($O10:$P10)),) -> 0 | AE10: =IF($X10="도비",SUM(O10:P10),IF($V10="국도비","직접입력",SUM(O10:P10)-AD10)) -> 0 | AF10: =IF(SUM(O10:P10)=SUM(AD10:AE10),"OK","검토") -> OK | AH10: =IF(V10="","",IF(V10="도비","세입없음","직접입력")) | AJ10: =IF(AH10="","",COUNTIF($AH$6:$AH$27,AH10)) | AK10: =IF(X10="","",IF(AND(X10="도비",AH10="세입없음"),"OK",IF(AND(X10<>"도비",AH10<>""),"OK","@@"))) | AM10: {=IF(D10="","",INDEX(구분표!$I$2:$I$313, MATCH(1,(구분표!$E$2:$E$313=의회!C10)*(구분표!$F$2:$F$313=의회!D10)*(구분표!$G$2:$G$313=의회!B10),0)))} -> 50101 | AQ10: =IF(N10<0,N10,0) -> 0 | AR10: =IF(N10>0,N10,0)
A11: 5 | B11: 의회운영위원회 | C11: 의회사무처 | D11: 총무담당관 | E11: 본예산 | F11: 일반 | G11: 10 | H11: 29 | I11: 청사시설 유지관리 - 상임위 등 사무실 재배치(공공운영비) | J11: 1320884 | L11: 750000 | M11: =J11+K11+L11 -> 2070884 | R11: =IF(AND((M11=0),(Q11>0)),"O",IF(AND((K11<0),(M11-Q11<0)),"O","X")) -> X | Y11: =IF($X11<>"도비",IF($V11="국도비","직접입력",SUM($K11:$L11)),) -> 750000 | Z11: =IF($X11="도비",SUM($K11:$L11),IF($V11="국도비","직접입력",SUM($K11:$L11)-$Y11)) -> 0 | AA11: =IF(SUM($K11:$L11)=SUM($Y11:$Z11),"OK","검토") -> OK | AD11: =IF($X11<>"도비",IF($V11="국도비","직접입력",SUM($O11:$P11)),) -> 0 | AE11: =IF($X11="도비",SUM(O11:P11),IF($V11="국도비","직접입력",SUM(O11:P11)-AD11)) -> 0 | AF11: =IF(SUM(O11:P11)=SUM(AD11:AE11),"OK","검토") -> OK | AH11: =IF(V11="","",IF(V11="도비","세입없음","직접입력")) | AJ11: =IF(AH11="","",COUNTIF($AH$6:$AH$27,AH11)) | AK11: =IF(X11="","",IF(AND(X11="도비",AH11="세입없음"),"OK",IF(AND(X11<>"도비",AH11<>""),"OK","@@"))) | AM11: {=IF(D11="","",INDEX(구분표!$I$2:$I$313, MATCH(1,(구분표!$E$2:$E$313=의회!C11)*(구분표!$F$2:$F$313=의회!D11)*(구분표!$G$2:$G$313=의회!B11),0)))} -> 50101 | AQ11: =IF(N11<0,N11,0) -> 0 | AR11: =IF(N11>0,N11,0)
A12: 6 | B12: 의회운영위원회 | C12: 의회사무처 | D12: 총무담당관 | E12: 본예산 | F12: 일반 | G12: 16 | H12: 56 | I12: 기본경비 - 청사시설 자산취득(자산취득비) | J12: 143435 | L12: 200000 | M12: =J12+K12+L12 -> 343435 | R12: =IF(AND((M12=0),(Q12>0)),"O",IF(AND((K12<0),(M12-Q12<0)),"O","X")) -> X | Y12: =IF($X12<>"도비",IF($V12="국도비","직접입력",SUM($K12:$L12)),) -> 200000 | Z12: =IF($X12="도비",SUM($K12:$L12),IF($V12="국도비","직접입력",SUM($K12:$L12)-$Y12)) -> 0 | AA12: =IF(SUM($K12:$L12)=SUM($Y12:$Z12),"OK","검토") -> OK | AD12: =IF($X12<>"도비",IF($V12="국도비","직접입력",SUM($O12:$P12)),) -> 0 | AE12: =IF($X12="도비",SUM(O12:P12),IF($V12="국도비","직접입력",SUM(O12:P12)-AD12)) -> 0 | AF12: =IF(SUM(O12:P12)=SUM(AD12:AE12),"OK","검토") -> OK | AH12: =IF(V12="","",IF(V12="도비","세입없음","직접입력")) | AJ12: =IF(AH12="","",COUNTIF($AH$6:$AH$27,AH12)) | AK12: =IF(X12="","",IF(AND(X12="도비",AH12="세입없음"),"OK",IF(AND(X12<>"도비",AH12<>""),"OK","@@"))) | AM12: {=IF(D12="","",INDEX(구분표!$I$2:$I$313, MATCH(1,(구분표!$E$2:$E$313=의회!C12)*(구분표!$F$2:$F$313=의회!D12)*(구분표!$G$2:$G$313=의회!B12),0)))} -> 50101 | AQ12: =IF(N12<0,N12,0) -> 0 | AR12: =IF(N12>0,N12,0)
A13: 7 | B13: 의회운영위원회 | C13: 의회사무처 | D13: 총무담당관 | E13: 본예산 | F13: 일반 | G13: 13 | H13: 53 | I13: 인력운영비 - 직수수행경비(직급보조비) | J13: 576338 | L13: 120405 | M13: =J13+K13+L13 -> 696743 | R13: =IF(AND((M13=0),(Q13>0)),"O",IF(AND((K13<0),(M13-Q13<0)),"O","X")) -> X | Y13: =IF($X13<>"도비",IF($V13="국도비","직접입력",SUM($K13:$L13)),) -> 120405 | Z13: =IF($X13="도비",SUM($K13:$L13),IF($V13="국도비","직접입력",SUM($K13:$L13)-$Y13)) -> 0 | AA13: =IF(SUM($K13:$L13)=SUM($Y13:$Z13),"OK","검토") -> OK | AD13: =IF($X13<>"도비",IF($V13="국도비","직접입력",SUM($O13:$P13)),) -> 0 | AE13: =IF($X13="도비",SUM(O13:P13),IF($V13="국도비","직접입력",SUM(O13:P13)-AD13)) -> 0 | AF13: =IF(SUM(O13:P13)=SUM(AD13:AE13),"OK","검토") -> OK | AH13: =IF(V13="","",IF(V13="도비","세입없음","직접입력")) | AJ13: =IF(AH13="","",COUNTIF($AH$6:$AH$27,AH13)) | AK13: =IF(X13="","",IF(AND(X13="도비",AH13="세입없음"),"OK",IF(AND(X13<>"도비",AH13<>""),"OK","@@"))) | AM13: {=IF(D13="","",INDEX(구분표!$I$2:$I$313, MATCH(1,(구분표!$E$2:$E$313=의회!C13)*(구분표!$F$2:$F$313=의회!D13)*(구분표!$G$2:$G$313=의회!B13),0)))} -> 50101 | AQ13: =IF(N13<0,N13,0) -> 0 | AR13: =IF(N13>0,N13,0)
A14: 8 | B14: 의회운영위원회 | C14: 의회사무처 | D14: 총무담당관 | E14: 본예산 | F14: 일반 | G14: 13 | H14: 53 | I14: 인력운영비 -건강보험금(국민건강보험금) | J14: 546720 | L14: 71400 | M14: =J14+K14+L14 -> 618120 | R14: =IF(AND((M14=0),(Q14>0)),"O",IF(AND((K14<0),(M14-Q14<0)),"O","X")) -> X | Y14: =IF($X14<>"도비",IF($V14="국도비","직접입력",SUM($K14:$L14)),) -> 71400 | Z14: =IF($X14="도비",SUM($K14:$L14),IF($V14="국도비","직접입력",SUM($K14:$L14)-$Y14)) -> 0 | AA14: =IF(SUM($K14:$L14)=SUM($Y14:$Z14),"OK","검토") -> OK | AD14: =IF($X14<>"도비",IF($V14="국도비","직접입력",SUM($O14:$P14)),) -> 0 | AE14: =IF($X14="도비",SUM(O14:P14),IF($V14="국도비","직접입력",SUM(O14:P14)-AD14)) -> 0 | AF14: =IF(SUM(O14:P14)=SUM(AD14:AE14),"OK","검토") -> OK | AH14: =IF(V14="","",IF(V14="도비","세입없음","직접입력")) | AJ14: =IF(AH14="","",COUNTIF($AH$6:$AH$27,AH14)) | AK14: =IF(X14="","",IF(AND(X14="도비",AH14="세입없음"),"OK",IF(AND(X14<>"도비",AH14<>""),"OK","@@"))) | AM14: {=IF(D14="","",INDEX(구분표!$I$2:$I$313, MATCH(1,(구분표!$E$2:$E$313=의회!C14)*(구분표!$F$2:$F$313=의회!D14)*(구분표!$G$2:$G$313=의회!B14),0)))} -> 50101 | AQ14: =IF(N14<0,N14,0) -> 0 | AR14: =IF(N14>0,N14,0)
A15: 9 | B15: 의회운영위원회 | C15: 의회사무처 | D15: 총무담당관 | E15: 본예산 | F15: 일반 | G15: 16 | H15: 56 | I15: 여비 - 전문위원실(국내여비) | J15: 60499 | L15: 100000 | M15: =J15+K15+L15 -> 160499 | R15: =IF(AND((M15=0),(Q15>0)),"O",IF(AND((K15<0),(M15-Q15<0)),"O","X")) -> X | Y15: =IF($X15<>"도비",IF($V15="국도비","직접입력",SUM($K15:$L15)),) -> 100000 | Z15: =IF($X15="도비",SUM($K15:$L15),IF($V15="국도비","직접입력",SUM($K15:$L15)-$Y15)) -> 0 | AA15: =IF(SUM($K15:$L15)=SUM($Y15:$Z15),"OK","검토") -> OK | AQ15: =IF(N15<0,N15,0) -> 0 | AR15: =IF(N15>0,N15,0)
A16: 10 | B16: 의회운영위원회 | C16: 의회사무처 | D16: 총무담당관 | E16: 본예산 | F16: 일반 | G16: 9 | H16: 18 | I16: 의회운영(자체/직접) - 해외의회 운영사례 연구(국제화여비) | J16: 40000 | L16: 20000 | M16: =J16+K16+L16 -> 60000 | R16: =IF(AND((M16=0),(Q16>0)),"O",IF(AND((K16<0),(M16-Q16<0)),"O","X")) -> X | Y16: =IF($X16<>"도비",IF($V16="국도비","직접입력",SUM($K16:$L16)),) -> 20000 | Z16: =IF($X16="도비",SUM($K16:$L16),IF($V16="국도비","직접입력",SUM($K16:$L16)-$Y16)) -> 0 | AA16: =IF(SUM($K16:$L16)=SUM($Y16:$Z16),"OK","검토") -> OK | AQ16: =IF(N16<0,N16,0) -> 0 | AR16: =IF(N16>0,N16,0)
A17: 11 | B17: 의회운영위원회 | C17: 의회사무처 | D17: 총무담당관 | E17: 본예산 | F17: 일반 | G17: 9 | H17: 18 | I17: 의회운영(자체/직접) - 외회운영 및 예산 관련 비교 연수(국제화여비) | J17: 40000 | L17: 20000 | M17: =J17+K17+L17 -> 60000 | R17: =IF(AND((M17=0),(Q17>0)),"O",IF(AND((K17<0),(M17-Q17<0)),"O","X")) -> X | Y17: =IF($X17<>"도비",IF($V17="국도비","직접입력",SUM($K17:$L17)),) -> 20000 | Z17: =IF($X17="도비",SUM($K17:$L17),IF($V17="국도비","직접입력",SUM($K17:$L17)-$Y17)) -> 0 | AA17: =IF(SUM($K17:$L17)=SUM($Y17:$Z17),"OK","검토") -> OK | AQ17: =IF(N17<0,N17,0) -> 0 | AR17: =IF(N17>0,N17,0)
A18: 12 | B18: 의회운영위원회 | C18: 의회사무처 | D18: 공보담당관 | E18: 본예산 | F18: 일반 | G18: 19 | H18: 68 | I18: 자산취득비 - 의회도서관 책소독기 및 바코드스캐너 구입 (자산및물품취득비) | J18: 50000 | L18: 6500 | M18: =J18+K18+L18 -> 56500 | R18: =IF(AND((M18=0),(Q18>0)),"O",IF(AND((K18<0),(M18-Q18<0)),"O","X")) -> X
A19: 13 | B19: 의회운영위원회 | C19: 의회사무처 | D19: 의정지원담당관 | E19: 본예산 | F19: 일반 | G19: 25 | H19: 114 | I19: 지역상담소 운영(자체/직접) - 상담관 상담수당(사무관리비) | J19: 93600 | L19: 15600 | M19: =J19+K19+L19 -> 109200 | R19: =IF(AND((M19=0),(Q19>0)),"O",IF(AND((K19<0),(M19-Q19<0)),"O","X")) -> X
A20: 14 | B20: 의회운영위원회 | C20: 의회사무처 | D20: 의정지원담당관 | E20: 신규 | F20: 일반 | G20: 25 | H20: 114 | I20: 지역상담소 운영(자체/직접) - 지역상담소 민관합동 연찬회(행사실비보상금) | J20: 0 | L20: 5000 | M20: =J20+K20+L20 -> 5000 | R20: =IF(AND((M20=0),(Q20>0)),"O",IF(AND((K20<0),(M20-Q20<0)),"O","X")) -> X
A21: 15 | B21: 의회운영위원회 | C21: 의회사무처 | D21: 의정지원담당관 | E21: 본예산 | F21: 일반 | G21: 25 | H21: 118 | I21: 업무추진비 - 의정지원담당관(부서운영업무추진비) | J21: 3000 | L21: 600 | M21: =J21+K21+L21 -> 3600 | R21: =IF(AND((M21=0),(Q21>0)),"O",IF(AND((K21<0),(M21-Q21<0)),"O","X")) -> X
A22: 16 | B22: 의회운영위원회 | C22: 의회사무처 | D22: 공보담당관 | E22: 본예산 | F22: 일반 | G22: 19 | H22: 73 | I22: 영상및 언론매체 홍보(자체/직접) -라디오 방송 의정홍보(사무관리비) | J22: 350000 | L22: 28000 | M22: =J22+K22+L22 -> 378000 | Q22: 0
A23: 17 | B23: 의회운영위원회 | C23: 의회사무처 | D23: 공보담당관 | E23: 본예산 | F23: 일반 | G23: 19 | H23: 73 | I23: 영상및 언론매체 홍보(자체/직접) -의정현안시책홍보방송(사무관리비) | J23: 3028000 | L23: 238000 | M23: =J23+K23+L23 -> 3266000 | Q23: 0
A24: 18 | B24: 의회운영위원회 | C24: 의회사무처 | D24: 공보담당관 | E24: 본예산 | F24: 일반 | G24: 19 | H24: 73 | I24: 영상및 언론매체 홍보(자체/직접) -g버스 tv를 통한 의정홍보(사무관리비) | J24: 276000 | L24: 22000 | M24: =J24+K24+L24 -> 298000 | Q24: 0
A25: 19 | B25: 의회운영위원회 | C25: 의회사무처 | D25: 공보담당관 | E25: 본예산 | F25: 일반 | G25: 19 | H25: 73 | I25: 영상및 언론매체 홍보(자체/직접) -정책모니터광고 등 지하철 영상홍보(사무관리비) | J25: 150000 | L25: 12000 | M25: =J25+K25+L25 -> 162000
A26: 20 | B26: 의회운영위원회 | C26: 의회사무처 | D26: 공보담당관 | E26: 신규 | F26: 일반 | G26: 19 | H26: 73 | I26: 영상및 언론매체 홍보(자체/직접) -g버스 외부광고(사무관리비) | J26: 0 | L26: 100000 | M26: =J26+K26+L26 -> 100000
A27: 21 | B27: 의회운영위원회 | C27: 의회사무처 | D27: 공보담당관 | E27: 신규 | F27: 일반 | G27: 19 | H27: 73 | I27: 영상및 언론매체 홍보(자체/직접) -홍보콘텐츠 제작(사무관리비) | J27: 0 | L27: 50000 | M27: =J27+K27+L27 -> 50000
I28: 52000 | J28: =SUM(J7:J27) -> 8273476 | K28: =SUM(K7:K27) -> -1467000 | L28: =SUM(L7:L27) -> 1989505

Sheet 대변인
B1: 2018년도 경기도 일반회계 세출 예산 조정(안)
B2: □ 세출예산 | P2: =Q2-#REF! -> #REF! | Q2: =Q5-J5 -> -4030000 | S2: 6043819 | T2: =Q2+S2 -> 2013819 | Y2: 세입=세출 | AD2: 세입=세출
A3: 번호 | B3: 위원회명 | C3: 실국명 | D3: 부서명 | E3: 편성 구분 | F3: 연정 구분 | G3: 예산안 페이지 | H3: 사업설명서페이지 | I3: 세부사업명 및 부기명 | J3: 예산안 (가) | K3: 상임위 예산안 조정액(라) | M3: 상임위 조정 예산안 (마=가+라) | N3: 예결위 조정액 (아-마) | O3: 예결위 예산안(사) | Q3: 예결위 조정 예산안 (아=가+사) | R3: 동의 대상 | S3: 참고자료 | T3: 비고 (상임위 부대의견) | U3: 비고 (예결위 부대의견) | V3: 국도비 등 여부 | X3: 재원 | Y3: 상임위 재원별 증감액 | AC3: 재원 | AD3: 예결위 재원별 증감액 | AH3: 세입번호 | AJ3: 동일 세입 건수 | AK3: 세출 번호 검증 | AM3: 실국부서 코드 | AO3: 추가 내시 등
K4: 감액 | L4: 증액 | O4: 감액 | P4: 증액 | Y4: 국비 등 | Z4: 도비 | AA4: 검증 | AD4: 국비 등 | AE4: 도비 | AF4: 검증 | AQ4: 감액 | AR4: 증액
B5: 합 계 | J5: =SUBTOTAL(9,J6:J10) -> 4030000 | K5: =SUBTOTAL(9,K6:K10) -> 200000 | L5: =SUBTOTAL(9,L6:L10) -> 0 | M5: =SUBTOTAL(9,M6:M10) -> 3830000 | N5: =SUBTOTAL(9,N6:N10) -> 0 | O5: =SUBTOTAL(9,O6:O10) -> 0 | P5: =SUBTOTAL(9,P6:P10) -> 0 | Q5: =SUBTOTAL(9,Q6:Q10) -> 0 | Y5: =SUBTOTAL(9,Y6:Y10) -> 200000 | Z5: =SUBTOTAL(9,Z6:Z10) -> 0 | AA5: =IF(SUM($K5:$L5)=SUM($Y5:$Z5),"OK","검토") -> OK | AD5: =SUBTOTAL(9,AD6:AD10) -> 0 | AE5: =SUBTOTAL(9,AE6:AE10) -> 0 | AF5: =IF(SUM(O5:P5)=SUM(AD5:AE5),"OK","검토") -> OK
B6: (의회운영위원회) | J6: =SUBTOTAL(9,J7:J10) -> 4030000 | K6: =SUBTOTAL(9,K7:K10) -> 200000 | L6: =SUBTOTAL(9,L7:L10) -> 0 | M6: =SUBTOTAL(9,M7:M10) -> 3830000 | N6: =SUBTOTAL(9,N7:N10) -> 0 | O6: =SUBTOTAL(9,O7:O10) -> 0 | P6: =SUBTOTAL(9,P7:P10) -> 0 | Q6: =SUBTOTAL(9,Q7:Q10) -> 0 | AQ6: =SUBTOTAL(9,AQ7:AQ10) -> 0 | AR6: =SUBTOTAL(9,AR7:AR10) -> 0
A7: 1 | B7: 의회운영위원회 | C7: 대변인 | D7: 언론협력담당과 | E7: 본예산 | F7: 일반 | G7: 34 | H7: 5 | I7: 신문사등을 이용한 홍보 (신문사 등을 이용한 홍보) | J7: 4030000 | K7: 200000 | M7: =J7-K7 -> 3830000 | R7: =IF(AND((M7=0),(Q7>0)),"O",IF(AND((K7<0),(M7-Q7<0)),"O","X")) -> #VALUE! | Y7: =IF($X7<>"도비",IF($V7="국도비","직접입력",SUM($K7:$L7)),) -> 200000 | Z7: =IF($X7="도비",SUM($K7:$L7),IF($V7="국도비","직접입력",SUM($K7:$L7)-$Y7)) -> 0 | AA7: =IF(SUM($K7:$L7)=SUM($Y7:$Z7),"OK","검토") -> OK | AD7: =IF($X7<>"도비",IF($V7="국도비","직접입력",SUM($O7:$P7)),) -> 0 | AE7: =IF($X7="도비",SUM(O7:P7),IF($V7="국도비","직접입력",SUM(O7:P7)-AD7)) -> 0 | AF7: =IF(SUM(O7:P7)=SUM(AD7:AE7),"OK","검토") -> OK | AH7: =IF(V7="","",IF(V7="도비","세입없음","직접입력")) | AJ7: =IF(AH7="","",COUNTIF($AH$6:$AH$10,AH7)) | AK7: =IF(X7="","",IF(AND(X7="도비",AH7="세입없음"),"OK",IF(AND(X7<>"도비",AH7<>""),"OK","@@"))) | AM7: {=IF(D7="","",INDEX(구분표!$I$2:$I$313, MATCH(1,(구분표!$E$2:$E$313=대변인!C7)*(구분표!$F$2:$F$313=대변인!D7)*(구분표!$G$2:$G$313=대변인!B7),0)))} -> #N/A | AQ7: =IF(N7<0,N7,0) -> 0 | AR7: =IF(N7>0,N7,0)
M8: =J8+K8+L8 -> 0
M9: =J9+K9+L9 -> 0
M10: =J10+K10+L10 -> 0

Sheet 소통기획관
B1: 2018년도 경기도 일반회계 세출 예산 조정(안)
B2: □ 세출예산 | P2: =Q2-#REF! -> #REF! | Q2: =Q5-J5 -> -4517400 | S2: 6043819 | T2: =Q2+S2 -> 1526419 | Y2: 세입=세출 | AD2: 세입=세출
A3: 번호 | B3: 위원회명 | C3: 실국명 | D3: 부서명 | E3: 편성 구분 | F3: 연정 구분 | G3: 예산안 페이지 | H3: 사업설명서페이지 | I3: 세부사업명 및 부기명 | J3: 예산안 (가) | K3: 상임위 예산안 조정액(라) | M3: 상임위 조정 예산안 (마=가+라) | N3: 예결위 조정액 (아-마) | O3: 예결위 예산안(사) | Q3: 예결위 조정 예산안 (아=가+사) | R3: 동의 대상 | S3: 참고자료 | T3: 비고 (상임위 부대의견) | U3: 비고 (예결위 부대의견) | V3: 국도비 등 여부 | X3: 재원 | Y3: 상임위 재원별 증감액 | AC3: 재원 | AD3: 예결위 재원별 증감액 | AH3: 세입번호 | AJ3: 동일 세입 건수 | AK3: 세출 번호 검증 | AM3: 실국부서 코드 | AO3: 추가 내시 등
K4: 감액 | L4: 증액 | O4: 감액 | P4: 증액 | Y4: 국비 등 | Z4: 도비 | AA4: 검증 | AD4: 국비 등 | AE4: 도비 | AF4: 검증 | AQ4: 감액 | AR4: 증액
B5: 합 계 | J5: =SUBTOTAL(9,J6:J14) -> 4517400 | K5: =SUBTOTAL(9,K6:K14) -> 500000 | L5: =SUBTOTAL(9,L6:L14) -> 0 | M5: =SUBTOTAL(9,M6:M14) -> 8034800 | N5: =SUBTOTAL(9,N6:N14) -> 0 | O5: =SUBTOTAL(9,O6:O14) -> 0 | P5: =SUBTOTAL(9,P6:P14) -> 0 | Q5: =SUBTOTAL(9,Q6:Q14) -> 0 | Y5: =SUBTOTAL(9,Y6:Y14) -> 200000 | Z5: =SUBTOTAL(9,Z6:Z14) -> 0 | AA5: =IF(SUM($K5:$L5)=SUM($Y5:$Z5),"OK","검토") -> 검토 | AD5: =SUBTOTAL(9,AD6:AD14) -> 0 | AE5: =SUBTOTAL(9,AE6:AE14) -> 0 | AF5: =IF(SUM(O5:P5)=SUM(AD5:AE5),"OK","검토") -> OK
B6: (의회운영위원회) | J6: =SUBTOTAL(9,J7:J14) -> 4517400 | K6: =SUBTOTAL(9,K7:K14) -> 500000 | L6: =SUBTOTAL(9,L7:L14) -> 0 | M6: =J6-K6 -> 4017400 | N6: =SUBTOTAL(9,N7:N14) -> 0 | O6: =SUBTOTAL(9,O7:O14) -> 0 | P6: =SUBTOTAL(9,P7:P14) -> 0 | Q6: 0 | AQ6: =SUBTOTAL(9,AQ7:AQ14) -> 0 | AR6: =SUBTOTAL(9,AR7:AR14) -> 0
A7: 1 | B7: 의회운영위원회 | C7: 소통기획관 | D7: 홍보콘텐츠담당관 | E7: 본예산 | F7: 일반 | G7: 45 | H7: 60 | I7: 도정정책홍보(자체/직접) - 기획홍보비(사무관리비) | J7: 1646000 | K7: 200000 | M7: =J7-K7 -> 1446000 | Q7: 0 | R7: =IF(AND((M7=0),(Q7>0)),"O",IF(AND((K7<0),(M7-Q7<0)),"O","X")) -> X | Y7: =IF($X7<>"도비",IF($V7="국도비","직접입력",SUM($K7:$L7)),) -> 200000 | Z7: =IF($X7="도비",SUM($K7:$L7),IF($V7="국도비","직접입력",SUM($K7:$L7)-$Y7)) -> 0 | AA7: =IF(SUM($K7:$L7)=SUM($Y7:$Z7),"OK","검토") -> OK | AD7: =IF($X7<>"도비",IF($V7="국도비","직접입력",SUM($O7:$P7)),) -> 0 | AE7: =IF($X7="도비",SUM(O7:P7),IF($V7="국도비","직접입력",SUM(O7:P7)-AD7)) -> 0 | AF7: =IF(SUM(O7:P7)=SUM(AD7:AE7),"OK","검토") -> OK | AH7: =IF(V7="","",IF(V7="도비","세입없음","직접입력")) | AJ7: =IF(AH7="","",COUNTIF($AH$6:$AH$14,AH7)) | AK7: =IF(X7="","",IF(AND(X7="도비",AH7="세입없음"),"OK",IF(AND(X7<>"도비",AH7<>""),"OK","@@"))) | AM7: {=IF(D7="","",INDEX(구분표!$I$2:$I$313, MATCH(1,(구분표!$E$2:$E$313=소통기획관!C7)*(구분표!$F$2:$F$313=소통기획관!D7)*(구분표!$G$2:$G$313=소통기획관!B7),0)))} -> 10202 | AQ7: =IF(N7<0,N7,0) -> 0 | AR7: =IF(N7>0,N7,0)
C8: 소통기획관 | D8: 홍보콘텐츠담당관 | E8: 본예산 | F8: 일반 | G8: 45 | H8: 63 | I8: 경기도브랜드홍보(자체/직접) - 옥외 미디어광고(사무관리비) | J8: 1761400 | K8: 160000 | M8: =J8-K8 -> 1601400
C9: 소통기획관 | D9: 홍보콘텐츠담당관 | E9: 본예산 | F9: 일반 | G9: 45 | H9: 63 | I9: 경기도브랜드홍보(자체/직접) - 광고제작(사무관리비) | J9: 560000 | K9: 40000 | M9: =J9-K9 -> 520000
C10: 소통기획관 | D10: 홍보콘텐츠담당관 | E10: 본예산 | F10: 일반 | G10: 45 | H10: 63 | I10: 경기도브랜드홍보(자체/직접) - 홍보이벤트(행사운영비) | J10: 550000 | K10: 100000 | M10: =J10-K10 -> 450000
M11: =J11+K11+L11 -> 0
M12: =J12+K12+L12 -> 0
I15: 52000
