Workbook

Sheet 구분표
A2: 실과명 | B2: 위원회명 | C2: 실국명 | E2: 실국명 | F2: 실과명 | G2: 위원회명 | H2: 정렬순서 | I2: 정렬코드
A3: 언론협력담당관 | B3: 의회운영위원회 | C3: 대변인 | E3: 대변인 | F3: 언론협력담당관 | G3: 의회운영위원회 | H3: 1 | I3: 10101
A4: 보도기획담당관 | B4: 의회운영위원회 | C4: 대변인 | E4: 대변인 | F4: 보도기획담당관 | G4: 의회운영위원회 | H4: 2 | I4: 10102
A5: 홍보미디어담당관 | B5: 의회운영위원회 | C5: 소통기획관 | E5: 소통기획관 | F5: 홍보미디어담당관 | G5: 의회운영위원회 | H5: 3 | I5: 10201
A6: 홍보콘텐츠담당관 | B6: 의회운영위원회 | C6: 소통기획관 | E6: 소통기획관 | F6: 홍보콘텐츠담당관 | G6: 의회운영위원회 | H6: 4 | I6: 10202
A7: 감사총괄담당관 | B7: 기획재정위원회 | C7: 감사관 | E7: 감사관 | F7: 감사총괄담당관 | G7: 기획재정위원회 | H7: 5 | I7: 10301
A8: 조사담당관 | B8: 기획재정위원회 | C8: 감사관 | E8: 감사관 | F8: 조사담당관 | G8: 기획재정위원회 | H8: 6 | I8: 10302
A9: 감사담당관 | B9: 기획재정위원회 | C9: 감사관 | E9: 감사관 | F9: 감사담당관 | G9: 기획재정위원회 | H9: 7 | I9: 10303
A10: 계약심사담당관 | B10: 기획재정위원회 | C10: 감사관 | E10: 감사관 | F10: 계약심사담당관 | G10: 기획재정위원회 | H10: 8 | I10: 10304
A11: 기획담당관 | B11: 기획재정위원회 | C11: 기획조정실 | E11: 기획조정실 | F11: 기획담당관 | G11: 기획재정위원회 | H11: 9 | I11: 10401
A12: 미래전략담당관 | B12: 기획재정위원회 | C12: 기획조정실 | E12: 기획조정실 | F12: 미래전략담당관 | G12: 기획재정위원회 | H12: 10 | I12: 10402
A13: 예산담당관 | B13: 기획재정위원회 | C13: 기획조정실 | E13: 기획조정실 | F13: 예산담당관 | G13: 기획재정위원회 | H13: 11 | I13: 10403
... A218: 경기융합타운추진단 | B218: 건설교통위원회 | C218: 건설본부 | E218: 건설본부 | F218: 경기융합타운추진단 | G218: 건설교통위원회 | H218: 215 | I218: 50705

Sheet 예결표지(세로)
A5: 2017년도 제1회 일반회계 및 특별회계 추가경정 세입·세출 예산안
A7: 예결위 계수조정 결과
A20: 예산결산특별위원회

Sheet 예결표지(가로)
A3: 2017년도 제1회 일반회계 및 특별회계 추가경정 세입·세출 예산안
A5: 예결위 계수조정 결과
A14: 예산결산특별위원회

Sheet 표지
A6: 예결위 계수조정 결과
A7: (2017. . 일 현재 최종)
C9: - 2018년도 제1회 경기도 추가경정 예산안
C10: - 2018년도 제1회 경기도 기금운용계획 변경안
A18: 예산결산특별위원회

Sheet 검증
A1: 제4회 추경 일반회계 검증 | H1: 4추 예비비 | J1: 조정액 | K1: =IFERROR(INDEX('1추일출'!AF6:AF112,MATCH("*예비비*",'1추일출'!H6:H112,0)),0) -> 0 | L1: 조정잔액 | M1: =I1+K1 -> 0
M2: (단위 : 천원)
A3: 구분 | B3: 상 임 위 | H3: 구분 | I3: 예 결 위
B4: 세입 | C4: 검증 | D4: 세출 | E4: 검증 | F4: 차액 | I4: 세입 | J4: 검증 | K4: 세출 | L4: 검증 | M4: 차액
A5: 전체 총계 | B5: =SUM(B6:B13)/2 -> 0 | C5: =IF(B5=SUM('1추일입'!K6:L6),"OK","@@") -> @@ | D5: =SUM(D6:D13)/2 -> 170000 | E5: =IF(D5=SUM('1추일출'!L6:M6),"OK","@@") -> @@ | H5: 전체 총계 | I5: =SUM(I6:I13)/2 -> 0 | J5: =IF(I5=SUM('1추일입'!N6:O6),"OK","@@") -> OK | K5: =SUM(K6:K13)/2 -> 0 | L5: =IF(K5=SUM('1추일출'!P6:Q6),"OK","@@") -> OK
A6: 자체 계 | B6: =SUM(B7:B8) -> 0 | C6: =IF(B6='1추일입'!Y6,"OK","@@") -> OK | D6: =SUM(D7:D8) -> 170000 | E6: =IF(D6='1추일출'!AA6,"OK","@@") -> OK | H6: 자체 계 | I6: =SUM(I7:I8) -> 0 | J6: =IF(I6='1추일입'!AD6,"OK","@@") -> OK | K6: =SUM(K7:K8) -> 0 | L6: =IF(K6='1추일출'!AF6,"OK","@@") -> OK
A7: 자체 도비 | B7: =SUMIFS('1추일입'!Y6:Y40,'1추일입'!W6:W40,"도비") -> 0 | D7: =SUMIFS('1추일출'!$AA$6:$AA$112,'1추일출'!$Y$6:$Y$112,"도비") -> 170000 | H7: 자체 도비 | I7: =SUMIFS('1추일입'!AD6:AD40,'1추일입'!AB6:AB40,"국비") -> 0 | K7: =SUMIFS('1추일출'!$AF$6:$AF$112,'1추일출'!$AD$6:$AD$112,"도비") -> 0
A8: 의존 매칭 도비 | B8: =SUMIFS('1추일입'!Y6:Y40,'1추일입'!W6:W40,"국비")+SUMIFS('1추일입'!Y6:Y40,'1추일입'!W6:W40,"지특")+SUMIFS('1추일입'!Y6:Y40,'1추일입'!W6:W40,"기금")+SUMIFS('1추일입'!Y6:Y40,'1추일입'!W6:W40,"특교") -> 0 | D8: =SUMIFS('1추일출'!$AA$6:$AA$112,'1추일출'!$Y$6:$Y$112,"국비")+SUMIFS('1추일출'!$AA$6:$AA$112,'1추일출'!$Y$6:$Y$112,"지특")+SUMIFS('1추일출'!$AA$6:$AA$112,'1추일출'!$Y$6:$Y$112,"기금")+SUMIFS('1추일출'!$AA$6:$AA$112,'1추일출'!$Y$6:$Y$112,"특교") -> 0 | H8: 의존 매칭 도비 | I8: =SUMIFS('1추일입'!AD6:AD40,'1추일입'!AB6:AB40,"국비")+SUMIFS('1추일입'!AD6:AD40,'1추일입'!AB6:AB40,"지특")+SUMIFS('1추일입'!AD6:AD40,'1추일입'!AB6:AB40,"기금")+SUMIFS('1추일입'!AD6:AD40,'1추일입'!AB6:AB40,"특교") -> 0 | K8: =SUMIFS('1추일출'!$AF$6:$AF$112,'1추일출'!$AD$6:$AD$112,"국비")+SUMIFS('1추일출'!$AF$6:$AF$112,'1추일출'!$AD$6:$AD$112,"지특")+SUMIFS('1추일출'!$AF$6:$AF$112,'1추일출'!$AD$6:$AD$112,"기금")+SUMIFS('1추일출'!$AF$6:$AF$112,'1추일출'!$AD$6:$AD$112,"특교") -> 0
A9: 의존 계 | B9: =SUM(B10:B13) -> 0 | C9: =IF(B9='1추일입'!X6,"OK","@@") -> @@ | D9: =SUM(D10:D13) -> 0 | E9: =IF(D9='1추일출'!Z6,"OK","@@") -> OK | F9: =SUM(F10:F13) -> 0 | H9: 의존 계 | I9: =SUM(I10:I13) -> 0 | J9: =IF(I9='1추일입'!X6,"OK","@@") -> @@ | K9: =SUM(K10:K13) -> 0 | L9: =IF(K9='1추일출'!AE6,"OK","@@") -> OK | M9: =SUM(M10:M13) -> 0
A10: 국비 | B10: =SUMIFS('1추일입'!$Y$6:$Y$40,'1추일입'!$W$6:$W$40,검증!A10) -> 0 | D10: =SUMIFS('1추일출'!$AA$6:$AA$112,'1추일출'!$Y$6:$Y$112,검증!A10) -> 0 | F10: =D10-B10 -> 0 | H10: 국비 | I10: =SUMIFS('1추일입'!$AD$6:$AD$40,'1추일입'!$AB$6:$AB$40,검증!H10) -> 0 | K10: =SUMIFS('1추일출'!$AF$6:$AF$112,'1추일출'!$AD$6:$AD$112,검증!H10) -> 0 | M10: =K10-I10 -> 0
A11: 지특 | B11: =SUMIFS('1추일입'!$Y$6:$Y$40,'1추일입'!$W$6:$W$40,검증!A11) -> 0 | D11: =SUMIFS('1추일출'!$AA$6:$AA$112,'1추일출'!$Y$6:$Y$112,검증!A11) -> 0 | F11: =D11-B11 -> 0 | H11: 지특 | I11: =SUMIFS('1추일입'!$AD$6:$AD$40,'1추일입'!$AB$6:$AB$40,검증!H11) -> 0 | K11: =SUMIFS('1추일출'!$AF$6:$AF$112,'1추일출'!$AD$6:$AD$112,검증!H11) -> 0 | M11: =K11-I11 -> 0
A12: 기금 | B12: =SUMIFS('1추일입'!$Y$6:$Y$40,'1추일입'!$W$6:$W$40,검증!A12) -> 0 | D12: =SUMIFS('1추일출'!$AA$6:$AA$112,'1추일출'!$Y$6:$Y$112,검증!A12) -> 0 | F12: =D12-B12 -> 0 | H12: 기금 | I12: =SUMIFS('1추일입'!$AD$6:$AD$40,'1추일입'!$AB$6:$AB$40,검증!H12) -> 0 | K12: =SUMIFS('1추일출'!$AF$6:$AF$112,'1추일출'!$AD$6:$AD$112,검증!H12) -> 0 | M12: =K12-I12 -> 0
A13: 특교 | B13: =SUMIFS('1추일입'!$Y$6:$Y$40,'1추일입'!$W$6:$W$40,검증!A13) -> 0 | D13: =SUMIFS('1추일출'!$AA$6:$AA$112,'1추일출'!$Y$6:$Y$112,검증!A13) -> 0 | F13: =D13-B13 -> 0 | H13: 특교 | I13: =SUMIFS('1추일입'!$AD$6:$AD$40,'1추일입'!$AB$6:$AB$40,검증!H13) -> 0 | K13: =SUMIFS('1추일출'!$AF$6:$AF$112,'1추일출'!$AD$6:$AD$112,검증!H13) -> 0 | M13: =K13-I13 -> 0

Sheet 총괄표
A3: □ 총 괄 | C3: 세입예산 증감 | D3: =SUM(C7:D7) -> 0 | F3: 세출예산증감 | G3: =SUM(F7:G7) -> 0
F4: ※ 예비비 증감 | G4: =N7 -> 0 | I4: (단위 : 천원)
A5: 구 분 | B5: 집행부제출(안) | C5: 세입예산(안) | F5: 세출예산(안) | I5: 수정예산(안) | K5: ※ 예산안 증감현황
C6: 감 액 | D6: 증 액 | E6: 증감액 | F6: 감 액 | G6: 증 액 | H6: 증감액 | K6: 구 분 | L6: 세입 | M6: 세출 | N6: 예비비 | O6: 비고(???)
A7: 합 계 | B7: =SUM(B8:B17) -> 0 | C7: =SUM(C8:C17) -> 0 | D7: =SUM(D8:D17) -> 0 | E7: =SUM(E8:E17) -> 0 | F7: =SUM(F8:F17) -> 0 | G7: =SUM(G8:G17) -> 0 | H7: =SUM(H8:H17) -> 0 | I7: =SUM(I8:I17) -> 0 | K7: 합 계 | L7: =SUM(L8:L9) -> 0 | M7: =SUM(M8:M9) -> 0 | N7: =L7-M7 -> 0
A8: 의회운영위원회 | B8: =B31 -> 0 | C8: =SUMIFS('1추일입'!N$6:N$40,'1추일입'!$A$6:$A$40,총괄표!$A8)+SUMIFS('1추특입'!N$6:N$16,'1추특입'!$A$6:$A$16,총괄표!$A8) -> 0 | D8: =SUMIFS('1추일입'!O$6:O$40,'1추일입'!$A$6:$A$40,총괄표!$A8)+SUMIFS('1추특입'!O$6:O$16,'1추특입'!$A$6:$A$16,총괄표!$A8) -> 0 | E8: =D8+C8 -> 0 | F8: =SUMIFS('1추일출'!P$6:P$112,'1추일출'!$B$6:$B$112,총괄표!$A8)+SUMIFS('1추특출'!P$6:P$26,'1추특출'!$B$6:$B$26,총괄표!$A8) -> 0 | G8: =SUMIFS('1추일출'!Q$6:Q$112,'1추일출'!$B$6:$B$112,총괄표!$A8)+SUMIFS('1추특출'!Q$6:Q$26,'1추특출'!$B$6:$B$26,총괄표!$A8) -> 0 | H8: =G8+F8 -> 0 | I8: =B8+F8+G8 -> 0 | K8: 일반회계 | L8: =SUM(C24:D24) -> 0 | M8: =SUM(F24:G24) -> 0 | N8: =L8-M8 -> 0 | O8: 예비비 증감 - 감액, + 증액에 입력
A9: 기획재정위원회 | B9: =B32 -> 0 | C9: =SUMIFS('1추일입'!N$6:N$40,'1추일입'!$A$6:$A$40,총괄표!$A9)+SUMIFS('1추특입'!N$6:N$16,'1추특입'!$A$6:$A$16,총괄표!$A9) -> 0 | D9: =SUMIFS('1추일입'!O$6:O$40,'1추일입'!$A$6:$A$40,총괄표!$A9)+SUMIFS('1추특입'!O$6:O$16,'1추특입'!$A$6:$A$16,총괄표!$A9) -> 0 | E9: =D9+C9 -> 0 | F9: =SUMIFS('1추일출'!P$6:P$112,'1추일출'!$B$6:$B$112,총괄표!$A9)+SUMIFS('1추특출'!P$6:P$26,'1추특출'!$B$6:$B$26,총괄표!$A9) -> 0 | G9: =SUMIFS('1추일출'!Q$6:Q$112,'1추일출'!$B$6:$B$112,총괄표!$A9)+SUMIFS('1추특출'!Q$6:Q$26,'1추특출'!$B$6:$B$26,총괄표!$A9) -> 0 | H9: =G9+F9 -> 0 | I9: =B9+F9+G9 -> 0 | K9: 특별회계 | L9: =SUM(C25:D25) -> 0 | M9: =SUM(F25:G25) -> 0 | N9: =L9-M9 -> 0
A10: 경제과학기술위원회 | B10: =B33 -> 0 | C10: =SUMIFS('1추일입'!N$6:N$40,'1추일입'!$A$6:$A$40,총괄표!$A10)+SUMIFS('1추특입'!N$6:N$16,'1추특입'!$A$6:$A$16,총괄표!$A10) -> 0 | D10: =SUMIFS('1추일입'!O$6:O$40,'1추일입'!$A$6:$A$40,총괄표!$A10)+SUMIFS('1추특입'!O$6:O$16,'1추특입'!$A$6:$A$16,총괄표!$A10) -> 0 | E10: =D10+C10 -> 0 | F10: =SUMIFS('1추일출'!P$6:P$112,'1추일출'!$B$6:$B$112,총괄표!$A10)+SUMIFS('1추특출'!P$6:P$26,'1추특출'!$B$6:$B$26,총괄표!$A10) -> 0 | G10: =SUMIFS('1추일출'!Q$6:Q$112,'1추일출'!$B$6:$B$112,총괄표!$A10)+SUMIFS('1추특출'!Q$6:Q$26,'1추특출'!$B$6:$B$26,총괄표!$A10) -> 0 | H10: =G10+F10 -> 0 | I10: =B10+F10+G10 -> 0 | O10: (예비비 계수 조종용)
A11: 안전행정위원회 | B11: =B34 -> 0 | C11: =SUMIFS('1추일입'!N$6:N$40,'1추일입'!$A$6:$A$40,총괄표!$A11)+SUMIFS('1추특입'!N$6:N$16,'1추특입'!$A$6:$A$16,총괄표!$A11) -> 0 | D11: =SUMIFS('1추일입'!O$6:O$40,'1추일입'!$A$6:$A$40,총괄표!$A11)+SUMIFS('1추특입'!O$6:O$16,'1추특입'!$A$6:$A$16,총괄표!$A11) -> 0 | E11: =D11+C11 -> 0 | F11: =SUMIFS('1추일출'!P$6:P$112,'1추일출'!$B$6:$B$112,총괄표!$A11)+SUMIFS('1추특출'!P$6:P$26,'1추특출'!$B$6:$B$26,총괄표!$A11) -> 0 | G11: =SUMIFS('1추일출'!Q$6:Q$112,'1추일출'!$B$6:$B$112,총괄표!$A11)+SUMIFS('1추특출'!Q$6:Q$26,'1추특출'!$B$6:$B$26,총괄표!$A11) -> 0 | H11: =G11+F11 -> 0 | I11: =B11+F11+G11 -> 0
A12: 문화체육관광위원회 | B12: =B35 -> 0 | C12: =SUMIFS('1추일입'!N$6:N$40,'1추일입'!$A$6:$A$40,총괄표!$A12)+SUMIFS('1추특입'!N$6:N$16,'1추특입'!$A$6:$A$16,총괄표!$A12) -> 0 | D12: =SUMIFS('1추일입'!O$6:O$40,'1추일입'!$A$6:$A$40,총괄표!$A12)+SUMIFS('1추특입'!O$6:O$16,'1추특입'!$A$6:$A$16,총괄표!$A12) -> 0 | E12: =D12+C12 -> 0 | F12: =SUMIFS('1추일출'!P$6:P$112,'1추일출'!$B$6:$B$112,총괄표!$A12)+SUMIFS('1추특출'!P$6:P$26,'1추특출'!$B$6:$B$26,총괄표!$A12) -> 0 | G12: =SUMIFS('1추일출'!Q$6:Q$112,'1추일출'!$B$6:$B$112,총괄표!$A12)+SUMIFS('1추특출'!Q$6:Q$26,'1추특출'!$B$6:$B$26,총괄표!$A12) -> 0 | H12: =G12+F12 -> 0 | I12: =B12+F12+G12 -> 0
A13: 농정해양위원회 | B13: =B36 -> 0 | C13: =SUMIFS('1추일입'!N$6:N$40,'1추일입'!$A$6:$A$40,총괄표!$A13)+SUMIFS('1추특입'!N$6:N$16,'1추특입'!$A$6:$A$16,총괄표!$A13) -> 0 | D13: =SUMIFS('1추일입'!O$6:O$40,'1추일입'!$A$6:$A$40,총괄표!$A13)+SUMIFS('1추특입'!O$6:O$16,'1추특입'!$A$6:$A$16,총괄표!$A13) -> 0 | E13: =D13+C13 -> 0 | F13: =SUMIFS('1추일출'!P$6:P$112,'1추일출'!$B$6:$B$112,총괄표!$A13)+SUMIFS('1추특출'!P$6:P$26,'1추특출'!$B$6:$B$26,총괄표!$A13) -> 0 | G13: =SUMIFS('1추일출'!Q$6:Q$112,'1추일출'!$B$6:$B$112,총괄표!$A13)+SUMIFS('1추특출'!Q$6:Q$26,'1추특출'!$B$6:$B$26,총괄표!$A13) -> 0 | H13: =G13+F13 -> 0 | I13: =B13+F13+G13 -> 0
A14: 보건복지위원회 | B14: =B37 -> 0 | C14: =SUMIFS('1추일입'!N$6:N$40,'1추일입'!$A$6:$A$40,총괄표!$A14)+SUMIFS('1추특입'!N$6:N$16,'1추특입'!$A$6:$A$16,총괄표!$A14) -> 0 | D14: =SUMIFS('1추일입'!O$6:O$40,'1추일입'!$A$6:$A$40,총괄표!$A14)+SUMIFS('1추특입'!O$6:O$16,'1추특입'!$A$6:$A$16,총괄표!$A14) -> 0 | E14: =D14+C14 -> 0 | F14: =SUMIFS('1추일출'!P$6:P$112,'1추일출'!$B$6:$B$112,총괄표!$A14)+SUMIFS('1추특출'!P$6:P$26,'1추특출'!$B$6:$B$26,총괄표!$A14) -> 0 | G14: =SUMIFS('1추일출'!Q$6:Q$112,'1추일출'!$B$6:$B$112,총괄표!$A14)+SUMIFS('1추특출'!Q$6:Q$26,'1추특출'!$B$6:$B$26,총괄표!$A14) -> 0 | H14: =G14+F14 -> 0 | I14: =B14+F14+G14 -> 0
A15: 건설교통위원회 | B15: =B38 -> 0 | C15: =SUMIFS('1추일입'!N$6:N$40,'1추일입'!$A$6:$A$40,총괄표!$A15)+SUMIFS('1추특입'!N$6:N$16,'1추특입'!$A$6:$A$16,총괄표!$A15) -> 0 | D15: =SUMIFS('1추일입'!O$6:O$40,'1추일입'!$A$6:$A$40,총괄표!$A15)+SUMIFS('1추특입'!O$6:O$16,'1추특입'!$A$6:$A$16,총괄표!$A15) -> 0 | E15: =D15+C15 -> 0 | F15: =SUMIFS('1추일출'!P$6:P$112,'1추일출'!$B$6:$B$112,총괄표!$A15)+SUMIFS('1추특출'!P$6:P$26,'1추특출'!$B$6:$B$26,총괄표!$A15) -> 0 | G15: =SUMIFS('1추일출'!Q$6:Q$112,'1추일출'!$B$6:$B$112,총괄표!$A15)+SUMIFS('1추특출'!Q$6:Q$26,'1추특출'!$B$6:$B$26,총괄표!$A15) -> 0 | H15: =G15+F15 -> 0 | I15: =B15+F15+G15 -> 0
A16: 도시환경위원회 | B16: =B39 -> 0 | C16: =SUMIFS('1추일입'!N$6:N$40,'1추일입'!$A$6:$A$40,총괄표!$A16)+SUMIFS('1추특입'!N$6:N$16,'1추특입'!$A$6:$A$16,총괄표!$A16) -> 0 | D16: =SUMIFS('1추일입'!O$6:O$40,'1추일입'!$A$6:$A$40,총괄표!$A16)+SUMIFS('1추특입'!O$6:O$16,'1추특입'!$A$6:$A$16,총괄표!$A16) -> 0 | E16: =D16+C16 -> 0 | F16: =SUMIFS('1추일출'!P$6:P$112,'1추일출'!$B$6:$B$112,총괄표!$A16)+SUMIFS('1추특출'!P$6:P$26,'1추특출'!$B$6:$B$26,총괄표!$A16) -> 0 | G16: =SUMIFS('1추일출'!Q$6:Q$112,'1추일출'!$B$6:$B$112,총괄표!$A16)+SUMIFS('1추특출'!Q$6:Q$26,'1추특출'!$B$6:$B$26,총괄표!$A16) -> 0 | H16: =G16+F16 -> 0 | I16: =B16+F16+G16 -> 0
A17: 여성가족교육협력위원회 | B17: =B40 -> 0 | C17: =SUMIFS('1추일입'!N$6:N$40,'1추일입'!$A$6:$A$40,총괄표!$A17)+SUMIFS('1추특입'!N$6:N$16,'1추특입'!$A$6:$A$16,총괄표!$A17) -> 0 | D17: =SUMIFS('1추일입'!O$6:O$40,'1추일입'!$A$6:$A$40,총괄표!$A17)+SUMIFS('1추특입'!O$6:O$16,'1추특입'!$A$6:$A$16,총괄표!$A17) -> 0 | E17: =D17+C17 -> 0 | F17: =SUMIFS('1추일출'!P$6:P$112,'1추일출'!$B$6:$B$112,총괄표!$A17)+SUMIFS('1추특출'!P$6:P$26,'1추특출'!$B$6:$B$26,총괄표!$A17) -> 0 | G17: =SUMIFS('1추일출'!Q$6:Q$112,'1추일출'!$B$6:$B$112,총괄표!$A17)+SUMIFS('1추특출'!Q$6:Q$26,'1추특출'!$B$6:$B$26,총괄표!$A17) -> 0 | H17: =G17+F17 -> 0 | I17: =B17+F17+G17 -> 0
A19: □ 회계별 예산 총 규모
I20: (단위 : 천원)
A21: 구 분 | B21: 집행부제출(안) | C21: 세입예산(안) | F21: 세출예산(안) | I21: 수정예산(안) | K21: 세입기준
C22: 감 액 | D22: 증 액 | E22: 증감액 | F22: 감 액 | G22: 증 액 | H22: 증감액 | K22: 수정예산(안) | L22: 세출기준-세입기준
A23: 합 계 | B23: =SUM(B24:B25) -> 0 | C23: =SUM(C24:C25) -> 0 | D23: =SUM(D24:D25) -> 0 | E23: =SUM(E24:E25) -> 0 | F23: =SUM(F24:F25) -> 0 | G23: =SUM(G24:G25) -> 0 | H23: =SUM(H24:H25) -> 0 | I23: =SUM(I24:I25) -> 0 | K23: =SUM(K24:K25) -> 0 | L23: =I23-K23 -> 0
A24: 일반회계 | B24: =D30 -> 0 | C24: ='1추일입'!N6 -> 0 | D24: ='1추일입'!O6 -> 0 | E24: =D24+C24 -> 0 | F24: ='1추일출'!P6 -> 0 | G24: ='1추일출'!Q6 -> 0 | H24: =G24+F24 -> 0 | I24: =B24+F24+G24 -> 0 | K24: =B24+C24+D24 -> 0 | L24: =I24-K24 -> 0
A25: 특별회계 | B25: =E30+F30 -> 0 | C25: ='1추특입'!N6 -> 0 | D25: ='1추특입'!O6 -> 0 | E25: =D25+C25 -> 0 | F25: ='1추특출'!P6 -> 0 | G25: ='1추특출'!Q6 -> 0 | H25: =G25+F25 -> 0 | I25: =B25+F25+G25 -> 0 | K25: =B25+C25+D25 -> 0 | L25: =I25-K25 -> 0
A28: ※ 회계별, 위원회별 집행부제출안(상임위에서 작성)
A29: 위원회명 | B29: 합계 | C29: 일반+기타 | D29: 일반회계 | E29: 기타특별회계 | F29: 공기업특별회계
A30: 합계 | B30: =SUM(B31:B40) -> 0 | C30: =SUM(C31:C40) -> 0 | D30: =SUM(D31:D40) -> 0 | E30: =SUM(E31:E40) -> 0 | F30: =SUM(F31:F40) -> 0
A31: 의회운영위원회 | B31: =SUM(D31:G31) -> 0 | C31: =D31+E31 -> 0
A32: 기획재정위원회 | B32: =SUM(D32:G32) -> 0 | C32: =D32+E32 -> 0
A33: 경제과학기술위원회 | B33: =SUM(D33:G33) -> 0 | C33: =D33+E33 -> 0
A34: 안전행정위원회 | B34: =SUM(D34:G34) -> 0 | C34: =D34+E34 -> 0
A35: 문화체육관광위원회 | B35: =SUM(D35:G35) -> 0 | C35: =D35+E35 -> 0
A36: 농정해양위원회 | B36: =SUM(D36:G36) -> 0 | C36: =D36+E36 -> 0
A37: 보건복지위원회 | B37: =SUM(D37:G37) -> 0 | C37: =D37+E37 -> 0
A38: 건설교통위원회 | B38: =SUM(D38:G38) -> 0 | C38: =D38+E38 -> 0
A39: 도시환경위원회 | B39: =SUM(D39:G39) -> 0 | C39: =D39+E39 -> 0
A40: 여성가족교육협력위원회 | B40: =SUM(D40:G40) -> 0 | C40: =D40+E40 -> 0
A42: 예비비

Sheet 1추일입
A1: 2018년도 제1회 추가경정 경기도 일반회계 세입 예산 조정(안)
A2: □ 세입예산 | P2: =P6-H6 -> 0 | X2: 세입=세출 | AC2: 세입=세출
T3: (단위 : 천원) | X3: =IF(X6='1추일출'!Z6,"OK","@@") -> @@ | Z3: =IF(COUNTIF(Z6:Z40,"검토")>0,"@@","OK") -> OK | AC3: =IF(AC6='1추일출'!AE6,"OK","@@") -> OK | AD3: =N6+O6-AC6-AD6 -> 0 | AE3: =IF(COUNTIF(AE6:AE40,"검토")>0,"@@","OK") -> OK
A4: 위원회명 | B4: 실국명 | C4: 부서명 | D4: 편성 구분 | E4: 예산안 페이지 | F4: 사업설명서페이지 | G4: 목명 및 부기명 | H4: 제1회 추경 예산안 (가) | I4: 기정액 (나) | J4: 제1회 추경 증감액 (다=가-나) | K4: 상임위 예산안 조정액(라) | M4: 상임위 조정 예산안 (마=가+라) | N4: 예결위 예산안 조정액(사) | P4: 예결위 조정 예산안 (아=가+사) | Q4: 동의 대상 | R4: 상임위 변경사유 (심의 참고자료) | S4: 비고 (상임위 부대의견) | T4: 비고 (예결위 부대의견) | U4: 국도비 등 여부 | W4: 재원 | X4: 상임위 재원별 증감액 | AB4: 재원 | AC4: 예결위 재원별 증감액 | AG4: 세입번호 | AI4: 실국부서 코드 | AK4: 추가 내시 등 | AM4: 상임위 세입 검증 | AQ4: 예결위 세입 검증
K5: 감액 | L5: 증액 | N5: 감액 | O5: 증액 | X5: 국비 등 | Y5: 도비 | Z5: 검증 | AC5: 국비 등 | AD5: 도비 | AE5: 검증 | AM5: 국비 증감액 | AN5: 건수 | AO5: 검증 | AQ5: 국비 증감액 | AR5: 건수 | AS5: 검증
A6: 합 계 | H6: =SUBTOTAL(9,H7:H40) -> 0 | I6: =SUBTOTAL(9,I7:I40) -> 0 | J6: =SUBTOTAL(9,J7:J40) -> 0 | K6: =SUBTOTAL(9,K7:K40) -> 0 | L6: =SUBTOTAL(9,L7:L40) -> 26782 | M6: =SUBTOTAL(9,M7:M40) -> 26782 | N6: =SUBTOTAL(9,N7:N40) -> 0 | O6: =SUBTOTAL(9,O7:O40) -> 0 | P6: =SUBTOTAL(9,P7:P40) -> 0 | X6: =SUBTOTAL(9,X7:X40) -> 26782 | Y6: =SUBTOTAL(9,Y7:Y40) -> 0 | Z6: =IF(SUM($K6:$L6)=SUM($X6:$Y6),"OK","검토") -> OK | AC6: =SUBTOTAL(9,AC7:AC40) -> 0 | AD6: =SUBTOTAL(9,AD7:AD40) -> 0 | AE6: =IF(SUM($K6:$L6)=SUM($X6:$Y6),"OK","검토") -> OK | AM6: =SUBTOTAL(9,AM7:AM40) -> #N/A | AN6: =SUBTOTAL(9,AN7:AN40) -> #N/A | AO6: =IF(COUNTIF(AO7:AO40,"@@")>0,"@@","OK") -> OK | AQ6: =SUBTOTAL(9,AQ7:AQ40) -> #N/A | AR6: =SUBTOTAL(9,AR7:AR40) -> #N/A | AS6: =IF(COUNTIF(AS7:AS40,"@@")>0,"@@","OK") -> OK
A7: 문화체육관광위원회 | B7: 문화체육관국 | C7: 문화유산과 | D7: 신규 | G7: 그외수입 [양주시] 양주 회암사지 종합정비 집행잔액 | J7: =IF(D7="","",H7-I7) -> 0 | L7: 26782 | M7: =H7+K7+L7 -> 26782 | P7: =H7+N7+O7 -> 0 | Q7: =IF(AND((M7=0),(P7>0)),"O",IF(AND((K7<0),(M7-P7<0)),"O","X")) -> X | X7: =IF($W7<>"도비",IF($U7="국도비","직접입력",SUM($K7:$L7)),) -> 26782 | Y7: =IF($W7="도비",SUM($K7:$L7),IF($U7="국도비","직접입력",SUM($K7:$L7)-$X7)) -> 0 | Z7: =IF(SUM($K7:$L7)=SUM($X7:$Y7),"OK","검토") -> OK | AC7: =IF($W7<>"도비",IF($U7="국도비","직접입력",SUM($N7:$O7)),) -> 0 | AD7: =IF($W7="도비",SUM(N7:O7),IF($U7="국도비","직접입력",SUM(N7:O7)-AC7)) -> 0 | AE7: =IF(SUM(N7:O7)=SUM(AC7:AD7),"OK","검토") -> OK | AG7: =IF(AI7="","",IF(W7="도비","세입없음",CONCATENATE(AI7,"-",COUNTIF($AI$7:AI7,AI7)))) -> #N/A | AI7: {=IF(C7="","",INDEX(구분표!$I$2:$I$319, MATCH(1,(구분표!$E$2:$E$319='1추일입'!B7)*(구분표!$F$2:$F$319='1추일입'!C7)*(구분표!$G$2:$G$319='1추일입'!A7),0)))} -> #N/A | AM7: =IF(AG7="",0,SUMIFS('1추일출'!$Z$6:$Z$112,'1추일출'!$AI$6:$AI$112,'1추일입'!$AG7)) -> #N/A | AN7: =IF(AG7="","",COUNTIFS('1추일출'!$AI$6:$AI$112,'1추일입'!AG7)) -> #N/A | AO7: =IF(X7=AM7,"OK","@@") -> #N/A | AQ7: =IF(AG7="",0,SUMIFS('1추일출'!$AE$6:$AE$112,'1추일출'!$AI$6:$AI$112,'1추일입'!$AG7)) -> #N/A | AR7: =IF(AG7="","",COUNTIFS('1추일출'!$AI$6:$AI$112,AG7)) -> #N/A | AS7: =IF(AC7=AQ7,"OK","@@") -> #N/A
J8: =IF(D8="","",H8-I8) | M8: =H8+K8+L8 -> 0 | P8: =H8+N8+O8 -> 0 | Q8: =IF(AND((M8=0),(P8>0)),"O",IF(AND((K8<0),(M8-P8<0)),"O","X")) -> X | X8: =IF($W8<>"도비",IF($U8="국도비","직접입력",SUM($K8:$L8)),) -> 0 | Y8: =IF($W8="도비",SUM($K8:$L8),IF($U8="국도비","직접입력",SUM($K8:$L8)-$X8)) -> 0 | Z8: =IF(SUM($K8:$L8)=SUM($X8:$Y8),"OK","검토") -> OK | AC8: =IF($W8<>"도비",IF($U8="국도비","직접입력",SUM($N8:$O8)),) -> 0 | AD8: =IF($W8="도비",SUM(N8:O8),IF($U8="국도비","직접입력",SUM(N8:O8)-AC8)) -> 0 | AE8: =IF(SUM(N8:O8)=SUM(AC8:AD8),"OK","검토") -> OK | AG8: =IF(AI8="","",IF(W8="도비","세입없음",CONCATENATE(AI8,"-",COUNTIF($AI$7:AI8,AI8)))) | AI8: {=IF(C8="","",INDEX(구분표!$I$2:$I$319, MATCH(1,(구분표!$E$2:$E$319='1추일입'!B8)*(구분표!$F$2:$F$319='1추일입'!C8)*(구분표!$G$2:$G$319='1추일입'!A8),0)))} | AM8: =IF(AG8="",0,SUMIFS('1추일출'!$Z$6:$Z$112,'1추일출'!$AI$6:$AI$112,'1추일입'!$AG8)) -> 0 | AN8: =IF(AG8="","",COUNTIFS('1추일출'!$AI$6:$AI$112,'1추일입'!AG8)) | AO8: =IF(X8=AM8,"OK","@@") -> OK | AQ8: =IF(AG8="",0,SUMIFS('1추일출'!$AE$6:$AE$112,'1추일출'!$AI$6:$AI$112,'1추일입'!$AG8)) -> 0 | AR8: =IF(AG8="","",COUNTIFS('1추일출'!$AI$6:$AI$112,AG8)) | AS8: =IF(AC8=AQ8,"OK","@@") -> OK
J9: =IF(D9="","",H9-I9) | M9: =H9+K9+L9 -> 0 | P9: =H9+N9+O9 -> 0 | Q9: =IF(AND((M9=0),(P9>0)),"O",IF(AND((K9<0),(M9-P9<0)),"O","X")) -> X | X9: =IF($W9<>"도비",IF($U9="국도비","직접입력",SUM($K9:$L9)),) -> 0 | Y9: =IF($W9="도비",SUM($K9:$L9),IF($U9="국도비","직접입력",SUM($K9:$L9)-$X9)) -> 0 | Z9: =IF(SUM($K9:$L9)=SUM($X9:$Y9),"OK","검토") -> OK | AC9: =IF($W9<>"도비",IF($U9="국도비","직접입력",SUM($N9:$O9)),) -> 0 | AD9: =IF($W9="도비",SUM(N9:O9),IF($U9="국도비","직접입력",SUM(N9:O9)-AC9)) -> 0 | AE9: =IF(SUM(N9:O9)=SUM(AC9:AD9),"OK","검토") -> OK | AG9: =IF(AI9="","",IF(W9="도비","세입없음",CONCATENATE(AI9,"-",COUNTIF($AI$7:AI9,AI9)))) | AI9: {=IF(C9="","",INDEX(구분표!$I$2:$I$319, MATCH(1,(구분표!$E$2:$E$319='1추일입'!B9)*(구분표!$F$2:$F$319='1추일입'!C9)*(구분표!$G$2:$G$319='1추일입'!A9),0)))} | AM9: =IF(AG9="",0,SUMIFS('1추일출'!$Z$6:$Z$112,'1추일출'!$AI$6:$AI$112,'1추일입'!$AG9)) -> 0 | AN9: =IF(AG9="","",COUNTIFS('1추일출'!$AI$6:$AI$112,'1추일입'!AG9)) | AO9: =IF(X9=AM9,"OK","@@") -> OK | AQ9: =IF(AG9="",0,SUMIFS('1추일출'!$AE$6:$AE$112,'1추일출'!$AI$6:$AI$112,'1추일입'!$AG9)) -> 0 | AR9: =IF(AG9="","",COUNTIFS('1추일출'!$AI$6:$AI$112,AG9)) | AS9: =IF(AC9=AQ9,"OK","@@") -> OK
J10: =IF(D10="","",H10-I10) | M10: =H10+K10+L10 -> 0 | P10: =H10+N10+O10 -> 0 | Q10: =IF(AND((M10=0),(P10>0)),"O",IF(AND((K10<0),(M10-P10<0)),"O","X")) -> X | X10: =IF($W10<>"도비",IF($U10="국도비","직접입력",SUM($K10:$L10)),) -> 0 | Y10: =IF($W10="도비",SUM($K10:$L10),IF($U10="국도비","직접입력",SUM($K10:$L10)-$X10)) -> 0 | Z10: =IF(SUM($K10:$L10)=SUM($X10:$Y10),"OK","검토") -> OK | AC10: =IF($W10<>"도비",IF($U10="국도비","직접입력",SUM($N10:$O10)),) -> 0 | AD10: =IF($W10="도비",SUM(N10:O10),IF($U10="국도비","직접입력",SUM(N10:O10)-AC10)) -> 0 | AE10: =IF(SUM(N10:O10)=SUM(AC10:AD10),"OK","검토") -> OK | AG10: =IF(AI10="","",IF(W10="도비","세입없음",CONCATENATE(AI10,"-",COUNTIF($AI$7:AI10,AI10)))) | AI10: {=IF(C10="","",INDEX(구분표!$I$2:$I$319, MATCH(1,(구분표!$E$2:$E$319='1추일입'!B10)*(구분표!$F$2:$F$319='1추일입'!C10)*(구분표!$G$2:$G$319='1추일입'!A10),0)))} | AM10: =IF(AG10="",0,SUMIFS('1추일출'!$Z$6:$Z$112,'1추일출'!$AI$6:$AI$112,'1추일입'!$AG10)) -> 0 | AN10: =IF(AG10="","",COUNTIFS('1추일출'!$AI$6:$AI$112,'1추일입'!AG10)) | AO10: =IF(X10=AM10,"OK","@@") -> OK | AQ10: =IF(AG10="",0,SUMIFS('1추일출'!$AE$6:$AE$112,'1추일출'!$AI$6:$AI$112,'1추일입'!$AG10)) -> 0 | AR10: =IF(AG10="","",COUNTIFS('1추일출'!$AI$6:$AI$112,AG10)) | AS10: =IF(AC10=AQ10,"OK","@@") -> OK
J11: =IF(D11="","",H11-I11) | M11: =H11+K11+L11 -> 0 | P11: =H11+N11+O11 -> 0 | Q11: =IF(AND((M11=0),(P11>0)),"O",IF(AND((K11<0),(M11-P11<0)),"O","X")) -> X | X11: =IF($W11<>"도비",IF($U11="국도비","직접입력",SUM($K11:$L11)),) -> 0 | Y11: =IF($W11="도비",SUM($K11:$L11),IF($U11="국도비","직접입력",SUM($K11:$L11)-$X11)) -> 0 | Z11: =IF(SUM($K11:$L11)=SUM($X11:$Y11),"OK","검토") -> OK | AC11: =IF($W11<>"도비",IF($U11="국도비","직접입력",SUM($N11:$O11)),) -> 0 | AD11: =IF($W11="도비",SUM(N11:O11),IF($U11="국도비","직접입력",SUM(N11:O11)-AC11)) -> 0 | AE11: =IF(SUM(N11:O11)=SUM(AC11:AD11),"OK","검토") -> OK | AG11: =IF(AI11="","",IF(W11="도비","세입없음",CONCATENATE(AI11,"-",COUNTIF($AI$7:AI11,AI11)))) | AI11: {=IF(C11="","",INDEX(구분표!$I$2:$I$319, MATCH(1,(구분표!$E$2:$E$319='1추일입'!B11)*(구분표!$F$2:$F$319='1추일입'!C11)*(구분표!$G$2:$G$319='1추일입'!A11),0)))} | AM11: =IF(AG11="",0,SUMIFS('1추일출'!$Z$6:$Z$112,'1추일출'!$AI$6:$AI$112,'1추일입'!$AG11)) -> 0 | AN11: =IF(AG11="","",COUNTIFS('1추일출'!$AI$6:$AI$112,'1추일입'!AG11)) | AO11: =IF(X11=AM11,"OK","@@") -> OK | AQ11: =IF(AG11="",0,SUMIFS('1추일출'!$AE$6:$AE$112,'1추일출'!$AI$6:$AI$112,'1추일입'!$AG11)) -> 0 | AR11: =IF(AG11="","",COUNTIFS('1추일출'!$AI$6:$AI$112,AG11)) | AS11: =IF(AC11=AQ11,"OK","@@") -> OK
J12: =IF(D12="","",H12-I12) | M12: =H12+K12+L12 -> 0 | P12: =H12+N12+O12 -> 0 | Q12: =IF(AND((M12=0),(P12>0)),"O",IF(AND((K12<0),(M12-P12<0)),"O","X")) -> X | X12: =IF($W12<>"도비",IF($U12="국도비","직접입력",SUM($K12:$L12)),) -> 0 | Y12: =IF($W12="도비",SUM($K12:$L12),IF($U12="국도비","직접입력",SUM($K12:$L12)-$X12)) -> 0 | Z12: =IF(SUM($K12:$L12)=SUM($X12:$Y12),"OK","검토") -> OK | AC12: =IF($W12<>"도비",IF($U12="국도비","직접입력",SUM($N12:$O12)),) -> 0 | AD12: =IF($W12="도비",SUM(N12:O12),IF($U12="국도비","직접입력",SUM(N12:O12)-AC12)) -> 0 | AE12: =IF(SUM(N12:O12)=SUM(AC12:AD12),"OK","검토") -> OK | AG12: =IF(AI12="","",IF(W12="도비","세입없음",CONCATENATE(AI12,"-",COUNTIF($AI$7:AI12,AI12)))) | AI12: {=IF(C12="","",INDEX(구분표!$I$2:$I$319, MATCH(1,(구분표!$E$2:$E$319='1추일입'!B12)*(구분표!$F$2:$F$319='1추일입'!C12)*(구분표!$G$2:$G$319='1추일입'!A12),0)))} | AM12: =IF(AG12="",0,SUMIFS('1추일출'!$Z$6:$Z$112,'1추일출'!$AI$6:$AI$112,'1추일입'!$AG12)) -> 0 | AN12: =IF(AG12="","",COUNTIFS('1추일출'!$AI$6:$AI$112,'1추일입'!AG12)) | AO12: =IF(X12=AM12,"OK","@@") -> OK | AQ12: =IF(AG12="",0,SUMIFS('1추일출'!$AE$6:$AE$112,'1추일출'!$AI$6:$AI$112,'1추일입'!$AG12)) -> 0 | AR12: =IF(AG12="","",COUNTIFS('1추일출'!$AI$6:$AI$112,AG12)) | AS12: =IF(AC12=AQ12,"OK","@@") -> OK
J13: =IF(D13="","",H13-I13) | M13: =H13+K13+L13 -> 0 | P13: =H13+N13+O13 -> 0 | Q13: =IF(AND((M13=0),(P13>0)),"O",IF(AND((K13<0),(M13-P13<0)),"O","X")) -> X | X13: =IF($W13<>"도비",IF($U13="국도비","직접입력",SUM($K13:$L13)),) -> 0 | Y13: =IF($W13="도비",SUM($K13:$L13),IF($U13="국도비","직접입력",SUM($K13:$L13)-$X13)) -> 0 | Z13: =IF(SUM($K13:$L13)=SUM($X13:$Y13),"OK","검토") -> OK | AC13: =IF($W13<>"도비",IF($U13="국도비","직접입력",SUM($N13:$O13)),) -> 0 | AD13: =IF($W13="도비",SUM(N13:O13),IF($U13="국도비","직접입력",SUM(N13:O13)-AC13)) -> 0 | AE13: =IF(SUM(N13:O13)=SUM(AC13:AD13),"OK","검토") -> OK | AG13: =IF(AI13="","",IF(W13="도비","세입없음",CONCATENATE(AI13,"-",COUNTIF($AI$7:AI13,AI13)))) | AI13: {=IF(C13="","",INDEX(구분표!$I$2:$I$319, MATCH(1,(구분표!$E$2:$E$319='1추일입'!B13)*(구분표!$F$2:$F$319='1추일입'!C13)*(구분표!$G$2:$G$319='1추일입'!A13),0)))} | AM13: =IF(AG13="",0,SUMIFS('1추일출'!$Z$6:$Z$112,'1추일출'!$AI$6:$AI$112,'1추일입'!$AG13)) -> 0 | AN13: =IF(AG13="","",COUNTIFS('1추일출'!$AI$6:$AI$112,'1추일입'!AG13)) | AO13: =IF(X13=AM13,"OK","@@") -> OK | AQ13: =IF(AG13="",0,SUMIFS('1추일출'!$AE$6:$AE$112,'1추일출'!$AI$6:$AI$112,'1추일입'!$AG13)) -> 0 | AR13: =IF(AG13="","",COUNTIFS('1추일출'!$AI$6:$AI$112,AG13)) | AS13: =IF(AC13=AQ13,"OK","@@") -> OK
J14: =IF(D14="","",H14-I14) | M14: =H14+K14+L14 -> 0 | P14: =H14+N14+O14 -> 0 | Q14: =IF(AND((M14=0),(P14>0)),"O",IF(AND((K14<0),(M14-P14<0)),"O","X")) -> X | X14: =IF($W14<>"도비",IF($U14="국도비","직접입력",SUM($K14:$L14)),) -> 0 | Y14: =IF($W14="도비",SUM($K14:$L14),IF($U14="국도비","직접입력",SUM($K14:$L14)-$X14)) -> 0 | Z14: =IF(SUM($K14:$L14)=SUM($X14:$Y14),"OK","검토") -> OK | AC14: =IF($W14<>"도비",IF($U14="국도비","직접입력",SUM($N14:$O14)),) -> 0 | AD14: =IF($W14="도비",SUM(N14:O14),IF($U14="국도비","직접입력",SUM(N14:O14)-AC14)) -> 0 | AE14: =IF(SUM(N14:O14)=SUM(AC14:AD14),"OK","검토") -> OK | AG14: =IF(AI14="","",IF(W14="도비","세입없음",CONCATENATE(AI14,"-",COUNTIF($AI$7:AI14,AI14)))) | AI14: {=IF(C14="","",INDEX(구분표!$I$2:$I$319, MATCH(1,(구분표!$E$2:$E$319='1추일입'!B14)*(구분표!$F$2:$F$319='1추일입'!C14)*(구분표!$G$2:$G$319='1추일입'!A14),0)))} | AM14: =IF(AG14="",0,SUMIFS('1추일출'!$Z$6:$Z$112,'1추일출'!$AI$6:$AI$112,'1추일입'!$AG14)) -> 0 | AN14: =IF(AG14="","",COUNTIFS('1추일출'!$AI$6:$AI$112,'1추일입'!AG14)) | AO14: =IF(X14=AM14,"OK","@@") -> OK | AQ14: =IF(AG14="",0,SUMIFS('1추일출'!$AE$6:$AE$112,'1추일출'!$AI$6:$AI$112,'1추일입'!$AG14)) -> 0 | AR14: =IF(AG14="","",COUNTIFS('1추일출'!$AI$6:$AI$112,AG14)) | AS14: =IF(AC14=AQ14,"OK","@@") -> OK
J15: =IF(D15="","",H15-I15) | M15: =H15+K15+L15 -> 0 | P15: =H15+N15+O15 -> 0 | Q15: =IF(AND((M15=0),(P15>0)),"O",IF(AND((K15<0),(M15-P15<0)),"O","X")) -> X | X15: =IF($W15<>"도비",IF($U15="국도비","직접입력",SUM($K15:$L15)),) -> 0 | Y15: =IF($W15="도비",SUM($K15:$L15),IF($U15="국도비","직접입력",SUM($K15:$L15)-$X15)) -> 0 | Z15: =IF(SUM($K15:$L15)=SUM($X15:$Y15),"OK","검토") -> OK | AC15: =IF($W15<>"도비",IF($U15="국도비","직접입력",SUM($N15:$O15)),) -> 0 | AD15: =IF($W15="도비",SUM(N15:O15),IF($U15="국도비","직접입력",SUM(N15:O15)-AC15)) -> 0 | AE15: =IF(SUM(N15:O15)=SUM(AC15:AD15),"OK","검토") -> OK | AG15: =IF(AI15="","",IF(W15="도비","세입없음",CONCATENATE(AI15,"-",COUNTIF($AI$7:AI15,AI15)))) | AI15: {=IF(C15="","",INDEX(구분표!$I$2:$I$319, MATCH(1,(구분표!$E$2:$E$319='1추일입'!B15)*(구분표!$F$2:$F$319='1추일입'!C15)*(구분표!$G$2:$G$319='1추일입'!A15),0)))} | AM15: =IF(AG15="",0,SUMIFS('1추일출'!$Z$6:$Z$112,'1추일출'!$AI$6:$AI$112,'1추일입'!$AG15)) -> 0 | AN15: =IF(AG15="","",COUNTIFS('1추일출'!$AI$6:$AI$112,'1추일입'!AG15)) | AO15: =IF(X15=AM15,"OK","@@") -> OK | AQ15: =IF(AG15="",0,SUMIFS('1추일출'!$AE$6:$AE$112,'1추일출'!$AI$6:$AI$112,'1추일입'!$AG15)) -> 0 | AR15: =IF(AG15="","",COUNTIFS('1추일출'!$AI$6:$AI$112,AG15)) | AS15: =IF(AC15=AQ15,"OK","@@") -> OK
J16: =IF(D16="","",H16-I16) | M16: =H16+K16+L16 -> 0 | P16: =H16+N16+O16 -> 0 | Q16: =IF(AND((M16=0),(P16>0)),"O",IF(AND((K16<0),(M16-P16<0)),"O","X")) -> X | X16: =IF($W16<>"도비",IF($U16="국도비","직접입력",SUM($K16:$L16)),) -> 0 | Y16: =IF($W16="도비",SUM($K16:$L16),IF($U16="국도비","직접입력",SUM($K16:$L16)-$X16)) -> 0 | Z16: =IF(SUM($K16:$L16)=SUM($X16:$Y16),"OK","검토") -> OK | AC16: =IF($W16<>"도비",IF($U16="국도비","직접입력",SUM($N16:$O16)),) -> 0 | AD16: =IF($W16="도비",SUM(N16:O16),IF($U16="국도비","직접입력",SUM(N16:O16)-AC16)) -> 0 | AE16: =IF(SUM(N16:O16)=SUM(AC16:AD16),"OK","검토") -> OK | AG16: =IF(AI16="","",IF(W16="도비","세입없음",CONCATENATE(AI16,"-",COUNTIF($AI$7:AI16,AI16)))) | AI16: {=IF(C16="","",INDEX(구분표!$I$2:$I$319, MATCH(1,(구분표!$E$2:$E$319='1추일입'!B16)*(구분표!$F$2:$F$319='1추일입'!C16)*(구분표!$G$2:$G$319='1추일입'!A16),0)))} | AM16: =IF(AG16="",0,SUMIFS('1추일출'!$Z$6:$Z$112,'1추일출'!$AI$6:$AI$112,'1추일입'!$AG16)) -> 0 | AN16: =IF(AG16="","",COUNTIFS('1추일출'!$AI$6:$AI$112,'1추일입'!AG16)) | AO16: =IF(X16=AM16,"OK","@@") -> OK | AQ16: =IF(AG16="",0,SUMIFS('1추일출'!$AE$6:$AE$112,'1추일출'!$AI$6:$AI$112,'1추일입'!$AG16)) -> 0 | AR16: =IF(AG16="","",COUNTIFS('1추일출'!$AI$6:$AI$112,AG16)) | AS16: =IF(AC16=AQ16,"OK","@@") -> OK
J17: =IF(D17="","",H17-I17) | M17: =H17+K17+L17 -> 0 | P17: =H17+N17+O17 -> 0 | Q17: =IF(AND((M17=0),(P17>0)),"O",IF(AND((K17<0),(M17-P17<0)),"O","X")) -> X | X17: =IF($W17<>"도비",IF($U17="국도비","직접입력",SUM($K17:$L17)),) -> 0 | Y17: =IF($W17="도비",SUM($K17:$L17),IF($U17="국도비","직접입력",SUM($K17:$L17)-$X17)) -> 0 | Z17: =IF(SUM($K17:$L17)=SUM($X17:$Y17),"OK","검토") -> OK | AC17: =IF($W17<>"도비",IF($U17="국도비","직접입력",SUM($N17:$O17)),) -> 0 | AD17: =IF($W17="도비",SUM(N17:O17),IF($U17="국도비","직접입력",SUM(N17:O17)-AC17)) -> 0 | AE17: =IF(SUM(N17:O17)=SUM(AC17:AD17),"OK","검토") -> OK | AG17: =IF(AI17="","",IF(W17="도비","세입없음",CONCATENATE(AI17,"-",COUNTIF($AI$7:AI17,AI17)))) | AI17: {=IF(C17="","",INDEX(구분표!$I$2:$I$319, MATCH(1,(구분표!$E$2:$E$319='1추일입'!B17)*(구분표!$F$2:$F$319='1추일입'!C17)*(구분표!$G$2:$G$319='1추일입'!A17),0)))} | AM17: =IF(AG17="",0,SUMIFS('1추일출'!$Z$6:$Z$112,'1추일출'!$AI$6:$AI$112,'1추일입'!$AG17)) -> 0 | AN17: =IF(AG17="","",COUNTIFS('1추일출'!$AI$6:$AI$112,'1추일입'!AG17)) | AO17: =IF(X17=AM17,"OK","@@") -> OK | AQ17: =IF(AG17="",0,SUMIFS('1추일출'!$AE$6:$AE$112,'1추일출'!$AI$6:$AI$112,'1추일입'!$AG17)) -> 0 | AR17: =IF(AG17="","",COUNTIFS('1추일출'!$AI$6:$AI$112,AG17)) | AS17: =IF(AC17=AQ17,"OK","@@") -> OK
J18: =IF(D18="","",H18-I18) | M18: =H18+K18+L18 -> 0 | P18: =H18+N18+O18 -> 0 | Q18: =IF(AND((M18=0),(P18>0)),"O",IF(AND((K18<0),(M18-P18<0)),"O","X")) -> X | X18: =IF($W18<>"도비",IF($U18="국도비","직접입력",SUM($K18:$L18)),) -> 0 | Y18: =IF($W18="도비",SUM($K18:$L18),IF($U18="국도비","직접입력",SUM($K18:$L18)-$X18)) -> 0 | Z18: =IF(SUM($K18:$L18)=SUM($X18:$Y18),"OK","검토") -> OK | AC18: =IF($W18<>"도비",IF($U18="국도비","직접입력",SUM($N18:$O18)),) -> 0 | AD18: =IF($W18="도비",SUM(N18:O18),IF($U18="국도비","직접입력",SUM(N18:O18)-AC18)) -> 0 | AE18: =IF(SUM(N18:O18)=SUM(AC18:AD18),"OK","검토") -> OK | AG18: =IF(AI18="","",IF(W18="도비","세입없음",CONCATENATE(AI18,"-",COUNTIF($AI$7:AI18,AI18)))) | AI18: {=IF(C18="","",INDEX(구분표!$I$2:$I$319, MATCH(1,(구분표!$E$2:$E$319='1추일입'!B18)*(구분표!$F$2:$F$319='1추일입'!C18)*(구분표!$G$2:$G$319='1추일입'!A18),0)))} | AM18: =IF(AG18="",0,SUMIFS('1추일출'!$Z$6:$Z$112,'1추일출'!$AI$6:$AI$112,'1추일입'!$AG18)) -> 0 | AN18: =IF(AG18="","",COUNTIFS('1추일출'!$AI$6:$AI$112,'1추일입'!AG18)) | AO18: =IF(X18=AM18,"OK","@@") -> OK | AQ18: =IF(AG18="",0,SUMIFS('1추일출'!$AE$6:$AE$112,'1추일출'!$AI$6:$AI$112,'1추일입'!$AG18)) -> 0 | AR18: =IF(AG18="","",COUNTIFS('1추일출'!$AI$6:$AI$112,AG18)) | AS18: =IF(AC18=AQ18,"OK","@@") -> OK
J19: =IF(D19="","",H19-I19) | M19: =H19+K19+L19 -> 0 | P19: =H19+N19+O19 -> 0 | Q19: =IF(AND((M19=0),(P19>0)),"O",IF(AND((K19<0),(M19-P19<0)),"O","X")) -> X | X19: =IF($W19<>"도비",IF($U19="국도비","직접입력",SUM($K19:$L19)),) -> 0 | Y19: =IF($W19="도비",SUM($K19:$L19),IF($U19="국도비","직접입력",SUM($K19:$L19)-$X19)) -> 0 | Z19: =IF(SUM($K19:$L19)=SUM($X19:$Y19),"OK","검토") -> OK | AC19: =IF($W19<>"도비",IF($U19="국도비","직접입력",SUM($N19:$O19)),) -> 0 | AD19: =IF($W19="도비",SUM(N19:O19),IF($U19="국도비","직접입력",SUM(N19:O19)-AC19)) -> 0 | AE19: =IF(SUM(N19:O19)=SUM(AC19:AD19),"OK","검토") -> OK | AG19: =IF(AI19="","",IF(W19="도비","세입없음",CONCATENATE(AI19,"-",COUNTIF($AI$7:AI19,AI19)))) | AI19: {=IF(C19="","",INDEX(구분표!$I$2:$I$319, MATCH(1,(구분표!$E$2:$E$319='1추일입'!B19)*(구분표!$F$2:$F$319='1추일입'!C19)*(구분표!$G$2:$G$319='1추일입'!A19),0)))} | AM19: =IF(AG19="",0,SUMIFS('1추일출'!$Z$6:$Z$112,'1추일출'!$AI$6:$AI$112,'1추일입'!$AG19)) -> 0 | AN19: =IF(AG19="","",COUNTIFS('1추일출'!$AI$6:$AI$112,'1추일입'!AG19)) | AO19: =IF(X19=AM19,"OK","@@") -> OK | AQ19: =IF(AG19="",0,SUMIFS('1추일출'!$AE$6:$AE$112,'1추일출'!$AI$6:$AI$112,'1추일입'!$AG19)) -> 0 | AR19: =IF(AG19="","",COUNTIFS('1추일출'!$AI$6:$AI$112,AG19)) | AS19: =IF(AC19=AQ19,"OK","@@") -> OK
... J40: =IF(D40="","",H40-I40) | M40: =H40+K40+L40 -> 0 | P40: =H40+N40+O40 -> 0 | Q40: =IF(AND((M40=0),(P40>0)),"O",IF(AND((K40<0),(M40-P40<0)),"O","X")) -> X | X40: =IF($W40<>"도비",IF($U40="국도비","직접입력",SUM($K40:$L40)),) -> 0 | Y40: =IF($W40="도비",SUM($K40:$L40),IF($U40="국도비","직접입력",SUM($K40:$L40)-$X40)) -> 0 | Z40: =IF(SUM($K40:$L40)=SUM($X40:$Y40),"OK","검토") -> OK | AC40: =IF($W40<>"도비",IF($U40="국도비","직접입력",SUM($N40:$O40)),) -> 0 | AD40: =IF($W40="도비",SUM(N40:O40),IF($U40="국도비","직접입력",SUM(N40:O40)-AC40)) -> 0 | AE40: =IF(SUM(N40:O40)=SUM(AC40:AD40),"OK","검토") -> OK | AG40: =IF(AI40="","",IF(W40="도비","세입없음",CONCATENATE(AI40,"-",COUNTIF($AI$7:AI40,AI40)))) | AI40: {=IF(C40="","",INDEX(구분표!$I$2:$I$319, MATCH(1,(구분표!$E$2:$E$319='1추일입'!B40)*(구분표!$F$2:$F$319='1추일입'!C40)*(구분표!$G$2:$G$319='1추일입'!A40),0)))} | AM40: =IF(AG40="",0,SUMIFS('1추일출'!$Z$6:$Z$112,'1추일출'!$AI$6:$AI$112,'1추일입'!$AG40)) -> 0 | AN40: =IF(AG40="","",COUNTIFS('1추일출'!$AI$6:$AI$112,'1추일입'!AG40)) | AO40: =IF(X40=AM40,"OK","@@") -> OK | AQ40: =IF(AG40="",0,SUMIFS('1추일출'!$AE$6:$AE$112,'1추일출'!$AI$6:$AI$112,'1추일입'!$AG40)) -> 0 | AR40: =IF(AG40="","",COUNTIFS('1추일출'!$AI$6:$AI$112,AG40)) | AS40: =IF(AC40=AQ40,"OK","@@") -> OK

Sheet 1추일출
B1: 2018년도 제1회 추가경정 경기도 일반회계 세출 예산 조정(안)
B2: □ 세출예산 | Q2: =R2-'1추일입'!P2 -> 0 | R2: =R6-I6 -> 0 | T2: 6043819 | U2: =R2+T2 -> 6043819 | Z2: 세입=세출 | AE2: 세입=세출
K3: =SUM(K7:K244)/2 -> 975000 | L3: =SUM(L7:L244)/2 -> -150000 | M3: =SUM(M7:M244)/2 -> 445174.5 | N3: =SUM(N7:N244)/2 -> 59885674 | P3: =SUM(P7:P244)/2 -> 0 | Q3: =SUM(Q7:Q244)/2 -> 0 | R3: =SUM(R7:R244)/2 -> 59590500 | V3: (단위 : 천원) | Z3: =IF(Z6='1추일입'!X6,"OK","@@") -> @@ | AA3: =L6+M6-Z6-AA6 -> 26783 | AB3: =IF(COUNTIF(AB6:AB112,"검토")>0,"@@","OK") -> @@ | AE3: =IF(AE6='1추일입'!AC6,"OK","@@") -> OK | AF3: =P6+Q6-AE6-AF6 -> 0 | AG3: =IF(COUNTIF(AG6:AG112,"검토")>0,"@@","OK") -> OK
A4: 번호 | B4: 위원회명 | C4: 실국명 | D4: 부서명 | E4: 편성 구분 | F4: 예산안 페이지 | G4: 사업설명서페이지 | H4: 세부사업명 및 부기명 | I4: 제1회 추경 예산안 (가) | J4: 기정액 (나) | K4: 제1회 추경 증감액 (다=가-나) | L4: 상임위 예산안 조정액(라) | N4: 상임위 조정 예산안 (마=가+라) | O4: 예결위 조정액 (아-마) | P4: 예결위 예산안(사) | R4: 예결위 조정 예산안 (아=가+사) | S4: 동의 대상 | T4: 참고자료 | U4: 비고 (상임위 부대의견) | V4: 비고 (예결위 부대의견) | W4: 국도비 등 여부 | Y4: 재원 | Z4: 상임위 재원별 증감액 | AD4: 재원 | AE4: 예결위 재원별 증감액 | AI4: 세입번호 | AK4: 동일 세입 건수 | AL4: 세출 번호 검증 | AN4: 실국부서 코드 | AP4: 추가 내시 등
L5: 감액 | M5: 증액 | P5: 감액 | Q5: 증액 | Z5: 국비 등 | AA5: 도비 | AB5: 검증 | AE5: 국비 등 | AF5: 도비 | AG5: 검증 | AR5: 감액 | AS5: 증액
B6: 합 계 | I6: =SUBTOTAL(9,I7:I112) -> 39727000 | J6: =SUBTOTAL(9,J7:J112) -> 39077000 | K6: =SUBTOTAL(9,K7:K112) -> 650000 | L6: =SUBTOTAL(9,L7:L112) -> -100000 | M6: =SUBTOTAL(9,M7:M112) -> 296783 | N6: =SUBTOTAL(9,N7:N112) -> 39923783 | O6: =SUBTOTAL(9,O7:O112) -> -196783 | P6: =SUBTOTAL(9,P7:P112) -> 0 | ... R6: =SUBTOTAL(9,R7:R112) -> 39727000 | Z6: =SUBTOTAL(9,Z7:Z112) -> 0 | AA6: =SUBTOTAL(9,AA7:AA112) -> 170000 | AB6: =IF(SUM($L6:$M6)=SUM($Z6:$AA6),"OK","검토") -> 검토 | AE6: =SUBTOTAL(9,AE7:AE112) -> 0 | AF6: =SUBTOTAL(9,AF7:AF112) -> 0 | AG6: =IF(SUM(P6:Q6)=SUM(AE6:AF6),"OK","검토") -> OK
B7: (의회운영위원회) | I7: =SUBTOTAL(9,I8:I17) -> 0 | J7: =SUBTOTAL(9,J8:J17) -> 0 | K7: =SUBTOTAL(9,K8:K17) -> 0 | L7: =SUBTOTAL(9,L8:L17) -> 0 | M7: =SUBTOTAL(9,M8:M17) -> 0 | N7: =SUBTOTAL(9,N8:N17) -> 0 | O7: =SUBTOTAL(9,O8:O17) -> 0 | P7: =SUBTOTAL(9,P8:P17) -> 0 | ... R7: =SUBTOTAL(9,R8:R17) -> 0 | AR7: =SUBTOTAL(9,AR8:AR17) -> 0 | AS7: =SUBTOTAL(9,AS8:AS17) -> 0
A8: 1 | B8: =IF(C8="","",MID($B$7,2,7)) | C8: =IF(D8="","",VLOOKUP(D8,구분표!$A$3:$C$223,3,)) | K8: =I8-J8 -> 0 | N8: =I8+L8+M8 -> 0 | O8: =R8-N8 -> 0 | R8: =I8+P8+Q8 -> 0 | S8: =IF(AND((N8=0),(R8>0)),"O",IF(AND((L8<0),(N8-R8<0)),"O","X")) -> X | U8: (예시) ◆상임위 쟁점사업◆ 2018년 경기도 예산편성 지침에 의거 예산심의전 중기지방재정계획 반영후 예산심의 필요 | Z8: =IF($Y8<>"도비",IF($W8="국도비","직접입력",SUM($L8:$M8)),) -> 0 | AA8: =IF($Y8="도비",SUM($L8:$M8),IF($W8="국도비","직접입력",SUM($L8:$M8)-$Z8)) -> 0 | AB8: =IF(SUM($L8:$M8)=SUM($Z8:$AA8),"OK","검토") -> OK | AE8: =IF($Y8<>"도비",IF($W8="국도비","직접입력",SUM($P8:$Q8)),) -> 0 | AF8: =IF($Y8="도비",SUM(P8:Q8),IF($W8="국도비","직접입력",SUM(P8:Q8)-AE8)) -> 0 | AG8: =IF(SUM(P8:Q8)=SUM(AE8:AF8),"OK","검토") -> OK | AI8: =IF(W8="","",IF(W8="도비","세입없음","직접입력")) | AK8: =IF(AI8="","",COUNTIF($AI$7:$AI$112,AI8)) | AL8: =IF(Y8="","",IF(AND(Y8="도비",AI8="세입없음"),"OK",IF(AND(Y8<>"도비",AI8<>""),"OK","@@"))) | AN8: {=IF(D8="","",INDEX(구분표!$I$2:$I$319, MATCH(1,(구분표!$E$2:$E$319='1추일출'!C8)*(구분표!$F$2:$F$319='1추일출'!D8)*(구분표!$G$2:$G$319='1추일출'!B8),0)))} | AR8: =IF(O8<0,O8,0) -> 0 | AS8: =IF(O8>0,O8,0) -> 0
A9: =COUNTA($C$8:C9)-COUNTBLANK($C$8:C9) -> 0 | B9: =IF(C9="","",MID($B$7,2,7)) | C9: =IF(D9="","",VLOOKUP(D9,구분표!$A$3:$C$223,3,)) | K9: =I9-J9 -> 0 | N9: =I9+L9+M9 -> 0 | O9: =R9-N9 -> 0 | R9: =I9+P9+Q9 -> 0 | S9: =IF(AND((N9=0),(R9>0)),"O",IF(AND((L9<0),(N9-R9<0)),"O","X")) -> X | Z9: =IF($Y9<>"도비",IF($W9="국도비","직접입력",SUM($L9:$M9)),) -> 0 | AA9: =IF($Y9="도비",SUM($L9:$M9),IF($W9="국도비","직접입력",SUM($L9:$M9)-$Z9)) -> 0 | AB9: =IF(SUM($L9:$M9)=SUM($Z9:$AA9),"OK","검토") -> OK | AE9: =IF($Y9<>"도비",IF($W9="국도비","직접입력",SUM($P9:$Q9)),) -> 0 | AF9: =IF($Y9="도비",SUM(P9:Q9),IF($W9="국도비","직접입력",SUM(P9:Q9)-AE9)) -> 0 | AG9: =IF(SUM(P9:Q9)=SUM(AE9:AF9),"OK","검토") -> OK | AI9: =IF(W9="","",IF(W9="도비","세입없음","직접입력")) | AK9: =IF(AI9="","",COUNTIF($AI$7:$AI$112,AI9)) | AL9: =IF(Y9="","",IF(AND(Y9="도비",AI9="세입없음"),"OK",IF(AND(Y9<>"도비",AI9<>""),"OK","@@"))) | AN9: {=IF(D9="","",INDEX(구분표!$I$2:$I$319, MATCH(1,(구분표!$E$2:$E$319='1추일출'!C9)*(구분표!$F$2:$F$319='1추일출'!D9)*(구분표!$G$2:$G$319='1추일출'!B9),0)))} | AR9: =IF(O9<0,O9,0) -> 0 | AS9: =IF(O9>0,O9,0) -> 0
A10: =COUNTA($C$8:C10)-COUNTBLANK($C$8:C10) -> 0 | B10: =IF(C10="","",MID($B$7,2,7)) | C10: =IF(D10="","",VLOOKUP(D10,구분표!$A$3:$C$223,3,)) | K10: =I10-J10 -> 0 | N10: =I10+L10+M10 -> 0 | O10: =R10-N10 -> 0 | R10: =I10+P10+Q10 -> 0 | S10: =IF(AND((N10=0),(R10>0)),"O",IF(AND((L10<0),(N10-R10<0)),"O","X")) -> X | Z10: =IF($Y10<>"도비",IF($W10="국도비","직접입력",SUM($L10:$M10)),) -> 0 | AA10: =IF($Y10="도비",SUM($L10:$M10),IF($W10="국도비","직접입력",SUM($L10:$M10)-$Z10)) -> 0 | AB10: =IF(SUM($L10:$M10)=SUM($Z10:$AA10),"OK","검토") -> OK | AE10: =IF($Y10<>"도비",IF($W10="국도비","직접입력",SUM($P10:$Q10)),) -> 0 | AF10: =IF($Y10="도비",SUM(P10:Q10),IF($W10="국도비","직접입력",SUM(P10:Q10)-AE10)) -> 0 | AG10: =IF(SUM(P10:Q10)=SUM(AE10:AF10),"OK","검토") -> OK | AI10: =IF(W10="","",IF(W10="도비","세입없음","직접입력")) | AK10: =IF(AI10="","",COUNTIF($AI$7:$AI$112,AI10)) | AL10: =IF(Y10="","",IF(AND(Y10="도비",AI10="세입없음"),"OK",IF(AND(Y10<>"도비",AI10<>""),"OK","@@"))) | AN10: {=IF(D10="","",INDEX(구분표!$I$2:$I$319, MATCH(1,(구분표!$E$2:$E$319='1추일출'!C10)*(구분표!$F$2:$F$319='1추일출'!D10)*(구분표!$G$2:$G$319='1추일출'!B10),0)))} | AR10: =IF(O10<0,O10,0) -> 0 | AS10: =IF(O10>0,O10,0) -> 0
A11: =COUNTA($C$8:C11)-COUNTBLANK($C$8:C11) -> 0 | B11: =IF(C11="","",MID($B$7,2,7)) | C11: =IF(D11="","",VLOOKUP(D11,구분표!$A$3:$C$223,3,)) | K11: =I11-J11 -> 0 | N11: =I11+L11+M11 -> 0 | O11: =R11-N11 -> 0 | R11: =I11+P11+Q11 -> 0 | S11: =IF(AND((N11=0),(R11>0)),"O",IF(AND((L11<0),(N11-R11<0)),"O","X")) -> X | Z11: =IF($Y11<>"도비",IF($W11="국도비","직접입력",SUM($L11:$M11)),) -> 0 | AA11: =IF($Y11="도비",SUM($L11:$M11),IF($W11="국도비","직접입력",SUM($L11:$M11)-$Z11)) -> 0 | AB11: =IF(SUM($L11:$M11)=SUM($Z11:$AA11),"OK","검토") -> OK | AE11: =IF($Y11<>"도비",IF($W11="국도비","직접입력",SUM($P11:$Q11)),) -> 0 | AF11: =IF($Y11="도비",SUM(P11:Q11),IF($W11="국도비","직접입력",SUM(P11:Q11)-AE11)) -> 0 | AG11: =IF(SUM(P11:Q11)=SUM(AE11:AF11),"OK","검토") -> OK | AI11: =IF(W11="","",IF(W11="도비","세입없음","직접입력")) | AK11: =IF(AI11="","",COUNTIF($AI$7:$AI$112,AI11)) | AL11: =IF(Y11="","",IF(AND(Y11="도비",AI11="세입없음"),"OK",IF(AND(Y11<>"도비",AI11<>""),"OK","@@"))) | AN11: {=IF(D11="","",INDEX(구분표!$I$2:$I$319, MATCH(1,(구분표!$E$2:$E$319='1추일출'!C11)*(구분표!$F$2:$F$319='1추일출'!D11)*(구분표!$G$2:$G$319='1추일출'!B11),0)))} | AR11: =IF(O11<0,O11,0) -> 0 | AS11: =IF(O11>0,O11,0) -> 0
A12: =COUNTA($C$8:C12)-COUNTBLANK($C$8:C12) -> 0 | B12: =IF(C12="","",MID($B$7,2,7)) | C12: =IF(D12="","",VLOOKUP(D12,구분표!$A$3:$C$223,3,)) | K12: =I12-J12 -> 0 | N12: =I12+L12+M12 -> 0 | O12: =R12-N12 -> 0 | R12: =I12+P12+Q12 -> 0 | S12: =IF(AND((N12=0),(R12>0)),"O",IF(AND((L12<0),(N12-R12<0)),"O","X")) -> X | Z12: =IF($Y12<>"도비",IF($W12="국도비","직접입력",SUM($L12:$M12)),) -> 0 | AA12: =IF($Y12="도비",SUM($L12:$M12),IF($W12="국도비","직접입력",SUM($L12:$M12)-$Z12)) -> 0 | AB12: =IF(SUM($L12:$M12)=SUM($Z12:$AA12),"OK","검토") -> OK | AE12: =IF($Y12<>"도비",IF($W12="국도비","직접입력",SUM($P12:$Q12)),) -> 0 | AF12: =IF($Y12="도비",SUM(P12:Q12),IF($W12="국도비","직접입력",SUM(P12:Q12)-AE12)) -> 0 | AG12: =IF(SUM(P12:Q12)=SUM(AE12:AF12),"OK","검토") -> OK | AI12: =IF(W12="","",IF(W12="도비","세입없음","직접입력")) | AK12: =IF(AI12="","",COUNTIF($AI$7:$AI$112,AI12)) | AL12: =IF(Y12="","",IF(AND(Y12="도비",AI12="세입없음"),"OK",IF(AND(Y12<>"도비",AI12<>""),"OK","@@"))) | AN12: {=IF(D12="","",INDEX(구분표!$I$2:$I$319, MATCH(1,(구분표!$E$2:$E$319='1추일출'!C12)*(구분표!$F$2:$F$319='1추일출'!D12)*(구분표!$G$2:$G$319='1추일출'!B12),0)))} | AR12: =IF(O12<0,O12,0) -> 0 | AS12: =IF(O12>0,O12,0) -> 0
A13: =COUNTA($C$8:C13)-COUNTBLANK($C$8:C13) -> 0 | B13: =IF(C13="","",MID($B$7,2,7)) | C13: =IF(D13="","",VLOOKUP(D13,구분표!$A$3:$C$223,3,)) | K13: =I13-J13 -> 0 | N13: =I13+L13+M13 -> 0 | O13: =R13-N13 -> 0 | R13: =I13+P13+Q13 -> 0 | S13: =IF(AND((N13=0),(R13>0)),"O",IF(AND((L13<0),(N13-R13<0)),"O","X")) -> X | Z13: =IF($Y13<>"도비",IF($W13="국도비","직접입력",SUM($L13:$M13)),) -> 0 | AA13: =IF($Y13="도비",SUM($L13:$M13),IF($W13="국도비","직접입력",SUM($L13:$M13)-$Z13)) -> 0 | AB13: =IF(SUM($L13:$M13)=SUM($Z13:$AA13),"OK","검토") -> OK | AE13: =IF($Y13<>"도비",IF($W13="국도비","직접입력",SUM($P13:$Q13)),) -> 0 | AF13: =IF($Y13="도비",SUM(P13:Q13),IF($W13="국도비","직접입력",SUM(P13:Q13)-AE13)) -> 0 | AG13: =IF(SUM(P13:Q13)=SUM(AE13:AF13),"OK","검토") -> OK | AI13: =IF(W13="","",IF(W13="도비","세입없음","직접입력")) | AK13: =IF(AI13="","",COUNTIF($AI$7:$AI$112,AI13)) | AL13: =IF(Y13="","",IF(AND(Y13="도비",AI13="세입없음"),"OK",IF(AND(Y13<>"도비",AI13<>""),"OK","@@"))) | AN13: {=IF(D13="","",INDEX(구분표!$I$2:$I$319, MATCH(1,(구분표!$E$2:$E$319='1추일출'!C13)*(구분표!$F$2:$F$319='1추일출'!D13)*(구분표!$G$2:$G$319='1추일출'!B13),0)))} | AR13: =IF(O13<0,O13,0) -> 0 | AS13: =IF(O13>0,O13,0) -> 0
A14: =COUNTA($C$8:C14)-COUNTBLANK($C$8:C14) -> 0 | B14: =IF(C14="","",MID($B$7,2,7)) | C14: =IF(D14="","",VLOOKUP(D14,구분표!$A$3:$C$223,3,)) | K14: =I14-J14 -> 0 | N14: =I14+L14+M14 -> 0 | O14: =R14-N14 -> 0 | R14: =I14+P14+Q14 -> 0 | S14: =IF(AND((N14=0),(R14>0)),"O",IF(AND((L14<0),(N14-R14<0)),"O","X")) -> X | Z14: =IF($Y14<>"도비",IF($W14="국도비","직접입력",SUM($L14:$M14)),) -> 0 | AA14: =IF($Y14="도비",SUM($L14:$M14),IF($W14="국도비","직접입력",SUM($L14:$M14)-$Z14)) -> 0 | AB14: =IF(SUM($L14:$M14)=SUM($Z14:$AA14),"OK","검토") -> OK | AE14: =IF($Y14<>"도비",IF($W14="국도비","직접입력",SUM($P14:$Q14)),) -> 0 | AF14: =IF($Y14="도비",SUM(P14:Q14),IF($W14="국도비","직접입력",SUM(P14:Q14)-AE14)) -> 0 | AG14: =IF(SUM(P14:Q14)=SUM(AE14:AF14),"OK","검토") -> OK | AI14: =IF(W14="","",IF(W14="도비","세입없음","직접입력")) | AK14: =IF(AI14="","",COUNTIF($AI$7:$AI$112,AI14)) | AL14: =IF(Y14="","",IF(AND(Y14="도비",AI14="세입없음"),"OK",IF(AND(Y14<>"도비",AI14<>""),"OK","@@"))) | AN14: {=IF(D14="","",INDEX(구분표!$I$2:$I$319, MATCH(1,(구분표!$E$2:$E$319='1추일출'!C14)*(구분표!$F$2:$F$319='1추일출'!D14)*(구분표!$G$2:$G$319='1추일출'!B14),0)))} | AR14: =IF(O14<0,O14,0) -> 0 | AS14: =IF(O14>0,O14,0) -> 0
A15: =COUNTA($C$8:C15)-COUNTBLANK($C$8:C15) -> 0 | B15: =IF(C15="","",MID($B$7,2,7)) | C15: =IF(D15="","",VLOOKUP(D15,구분표!$A$3:$C$223,3,)) | K15: =I15-J15 -> 0 | N15: =I15+L15+M15 -> 0 | O15: =R15-N15 -> 0 | R15: =I15+P15+Q15 -> 0 | S15: =IF(AND((N15=0),(R15>0)),"O",IF(AND((L15<0),(N15-R15<0)),"O","X")) -> X | Z15: =IF($Y15<>"도비",IF($W15="국도비","직접입력",SUM($L15:$M15)),) -> 0 | AA15: =IF($Y15="도비",SUM($L15:$M15),IF($W15="국도비","직접입력",SUM($L15:$M15)-$Z15)) -> 0 | AB15: =IF(SUM($L15:$M15)=SUM($Z15:$AA15),"OK","검토") -> OK | AE15: =IF($Y15<>"도비",IF($W15="국도비","직접입력",SUM($P15:$Q15)),) -> 0 | AF15: =IF($Y15="도비",SUM(P15:Q15),IF($W15="국도비","직접입력",SUM(P15:Q15)-AE15)) -> 0 | AG15: =IF(SUM(P15:Q15)=SUM(AE15:AF15),"OK","검토") -> OK | AI15: =IF(W15="","",IF(W15="도비","세입없음","직접입력")) | AK15: =IF(AI15="","",COUNTIF($AI$7:$AI$112,AI15)) | AL15: =IF(Y15="","",IF(AND(Y15="도비",AI15="세입없음"),"OK",IF(AND(Y15<>"도비",AI15<>""),"OK","@@"))) | AN15: {=IF(D15="","",INDEX(구분표!$I$2:$I$319, MATCH(1,(구분표!$E$2:$E$319='1추일출'!C15)*(구분표!$F$2:$F$319='1추일출'!D15)*(구분표!$G$2:$G$319='1추일출'!B15),0)))} | AR15: =IF(O15<0,O15,0) -> 0 | AS15: =IF(O15>0,O15,0) -> 0
A16: =COUNTA($C$8:C16)-COUNTBLANK($C$8:C16) -> 0 | B16: =IF(C16="","",MID($B$7,2,7)) | C16: =IF(D16="","",VLOOKUP(D16,구분표!$A$3:$C$223,3,)) | K16: =I16-J16 -> 0 | N16: =I16+L16+M16 -> 0 | O16: =R16-N16 -> 0 | R16: =I16+P16+Q16 -> 0 | S16: =IF(AND((N16=0),(R16>0)),"O",IF(AND((L16<0),(N16-R16<0)),"O","X")) -> X | Z16: =IF($Y16<>"도비",IF($W16="국도비","직접입력",SUM($L16:$M16)),) -> 0 | AA16: =IF($Y16="도비",SUM($L16:$M16),IF($W16="국도비","직접입력",SUM($L16:$M16)-$Z16)) -> 0 | AB16: =IF(SUM($L16:$M16)=SUM($Z16:$AA16),"OK","검토") -> OK | AE16: =IF($Y16<>"도비",IF($W16="국도비","직접입력",SUM($P16:$Q16)),) -> 0 | AF16: =IF($Y16="도비",SUM(P16:Q16),IF($W16="국도비","직접입력",SUM(P16:Q16)-AE16)) -> 0 | AG16: =IF(SUM(P16:Q16)=SUM(AE16:AF16),"OK","검토") -> OK | AI16: =IF(W16="","",IF(W16="도비","세입없음","직접입력")) | AK16: =IF(AI16="","",COUNTIF($AI$7:$AI$112,AI16)) | AL16: =IF(Y16="","",IF(AND(Y16="도비",AI16="세입없음"),"OK",IF(AND(Y16<>"도비",AI16<>""),"OK","@@"))) | AN16: {=IF(D16="","",INDEX(구분표!$I$2:$I$319, MATCH(1,(구분표!$E$2:$E$319='1추일출'!C16)*(구분표!$F$2:$F$319='1추일출'!D16)*(구분표!$G$2:$G$319='1추일출'!B16),0)))} | AR16: =IF(O16<0,O16,0) -> 0 | AS16: =IF(O16>0,O16,0) -> 0
A17: =COUNTA($C$8:C17)-COUNTBLANK($C$8:C17) -> 0 | B17: =IF(C17="","",MID($B$7,2,7)) | C17: =IF(D17="","",VLOOKUP(D17,구분표!$A$3:$C$223,3,)) | K17: =I17-J17 -> 0 | N17: =I17+L17+M17 -> 0 | O17: =R17-N17 -> 0 | R17: =I17+P17+Q17 -> 0 | S17: =IF(AND((N17=0),(R17>0)),"O",IF(AND((L17<0),(N17-R17<0)),"O","X")) -> X | Z17: =IF($Y17<>"도비",IF($W17="국도비","직접입력",SUM($L17:$M17)),) -> 0 | AA17: =IF($Y17="도비",SUM($L17:$M17),IF($W17="국도비","직접입력",SUM($L17:$M17)-$Z17)) -> 0 | AB17: =IF(SUM($L17:$M17)=SUM($Z17:$AA17),"OK","검토") -> OK | AE17: =IF($Y17<>"도비",IF($W17="국도비","직접입력",SUM($P17:$Q17)),) -> 0 | AF17: =IF($Y17="도비",SUM(P17:Q17),IF($W17="국도비","직접입력",SUM(P17:Q17)-AE17)) -> 0 | AG17: =IF(SUM(P17:Q17)=SUM(AE17:AF17),"OK","검토") -> OK | AI17: =IF(W17="","",IF(W17="도비","세입없음","직접입력")) | AK17: =IF(AI17="","",COUNTIF($AI$7:$AI$112,AI17)) | AL17: =IF(Y17="","",IF(AND(Y17="도비",AI17="세입없음"),"OK",IF(AND(Y17<>"도비",AI17<>""),"OK","@@"))) | AN17: {=IF(D17="","",INDEX(구분표!$I$2:$I$319, MATCH(1,(구분표!$E$2:$E$319='1추일출'!C17)*(구분표!$F$2:$F$319='1추일출'!D17)*(구분표!$G$2:$G$319='1추일출'!B17),0)))} | AR17: =IF(O17<0,O17,0) -> 0 | AS17: =IF(O17>0,O17,0) -> 0
B18: (기획재정위원회) | I18: =SUBTOTAL(9,I19:I28) -> 0 | J18: =SUBTOTAL(9,J19:J28) -> 0 | K18: =SUBTOTAL(9,K19:K28) -> 0 | L18: =SUBTOTAL(9,L19:L28) -> 0 | M18: =SUBTOTAL(9,M19:M28) -> 0 | N18: =SUBTOTAL(9,N19:N28) -> 0 | O18: =SUBTOTAL(9,O19:O28) -> 0 | P18: =SUBTOTAL(9,P19:P28) -> 0 | ... R18: =SUBTOTAL(9,R19:R28) -> 0 | AR18: =SUBTOTAL(9,AR19:AR28) -> 0 | AS18: =SUBTOTAL(9,AS19:AS28) -> 0
A19: =COUNTA($C$8:C19)-COUNTBLANK($C$8:C19)+1 -> 0 | B19: =IF(C19="","",MID($B$18,2,7)) | C19: =IF(D19="","",VLOOKUP(D19,구분표!$A$3:$C$223,3,)) | K19: =I19-J19 -> 0 | N19: =I19+L19+M19 -> 0 | O19: =R19-N19 -> 0 | R19: =I19+P19+Q19 -> 0 | S19: =IF(AND((N19=0),(R19>0)),"O",IF(AND((L19<0),(N19-R19<0)),"O","X")) -> X | Z19: =IF($Y19<>"도비",IF($W19="국도비","직접입력",SUM($L19:$M19)),) -> 0 | AA19: =IF($Y19="도비",SUM($L19:$M19),IF($W19="국도비","직접입력",SUM($L19:$M19)-$Z19)) -> 0 | AB19: =IF(SUM($L19:$M19)=SUM($Z19:$AA19),"OK","검토") -> OK | AE19: =IF($Y19<>"도비",IF($W19="국도비","직접입력",SUM($P19:$Q19)),) -> 0 | AF19: =IF($Y19="도비",SUM(P19:Q19),IF($W19="국도비","직접입력",SUM(P19:Q19)-AE19)) -> 0 | AG19: =IF(SUM(P19:Q19)=SUM(AE19:AF19),"OK","검토") -> OK | AI19: =IF(W19="","",IF(W19="도비","세입없음","직접입력")) | AK19: =IF(AI19="","",COUNTIF($AI$7:$AI$112,AI19)) | AL19: =IF(Y19="","",IF(AND(Y19="도비",AI19="세입없음"),"OK",IF(AND(Y19<>"도비",AI19<>""),"OK","@@"))) | AN19: {=IF(D19="","",INDEX(구분표!$I$2:$I$319, MATCH(1,(구분표!$E$2:$E$319='1추일출'!C19)*(구분표!$F$2:$F$319='1추일출'!D19)*(구분표!$G$2:$G$319='1추일출'!B19),0)))} | AR19: =IF(O19<0,O19,0) -> 0 | AS19: =IF(O19>0,O19,0) -> 0
A20: =COUNTA($C$8:C20)-COUNTBLANK($C$8:C20)+1 -> 0 | B20: =IF(C20="","",MID($B$18,2,7)) | C20: =IF(D20="","",VLOOKUP(D20,구분표!$A$3:$C$223,3,)) | K20: =I20-J20 -> 0 | N20: =I20+L20+M20 -> 0 | O20: =R20-N20 -> 0 | R20: =I20+P20+Q20 -> 0 | S20: =IF(AND((N20=0),(R20>0)),"O",IF(AND((L20<0),(N20-R20<0)),"O","X")) -> X | Z20: =IF($Y20<>"도비",IF($W20="국도비","직접입력",SUM($L20:$M20)),) -> 0 | AA20: =IF($Y20="도비",SUM($L20:$M20),IF($W20="국도비","직접입력",SUM($L20:$M20)-$Z20)) -> 0 | AB20: =IF(SUM($L20:$M20)=SUM($Z20:$AA20),"OK","검토") -> OK | AE20: =IF($Y20<>"도비",IF($W20="국도비","직접입력",SUM($P20:$Q20)),) -> 0 | AF20: =IF($Y20="도비",SUM(P20:Q20),IF($W20="국도비","직접입력",SUM(P20:Q20)-AE20)) -> 0 | AG20: =IF(SUM(P20:Q20)=SUM(AE20:AF20),"OK","검토") -> OK | AI20: =IF(W20="","",IF(W20="도비","세입없음","직접입력")) | AK20: =IF(AI20="","",COUNTIF($AI$7:$AI$112,AI20)) | AL20: =IF(Y20="","",IF(AND(Y20="도비",AI20="세입없음"),"OK",IF(AND(Y20<>"도비",AI20<>""),"OK","@@"))) | AN20: {=IF(D20="","",INDEX(구분표!$I$2:$I$319, MATCH(1,(구분표!$E$2:$E$319='1추일출'!C20)*(구분표!$F$2:$F$319='1추일출'!D20)*(구분표!$G$2:$G$319='1추일출'!B20),0)))} | AR20: =IF(O20<0,O20,0) -> 0 | AS20: =IF(O20>0,O20,0) -> 0
A21: =COUNTA($C$8:C21)-COUNTBLANK($C$8:C21)+1 -> 0 | B21: =IF(C21="","",MID($B$18,2,7)) | C21: =IF(D21="","",VLOOKUP(D21,구분표!$A$3:$C$223,3,)) | K21: =I21-J21 -> 0 | N21: =I21+L21+M21 -> 0 | O21: =R21-N21 -> 0 | R21: =I21+P21+Q21 -> 0 | S21: =IF(AND((N21=0),(R21>0)),"O",IF(AND((L21<0),(N21-R21<0)),"O","X")) -> X | Z21: =IF($Y21<>"도비",IF($W21="국도비","직접입력",SUM($L21:$M21)),) -> 0 | AA21: =IF($Y21="도비",SUM($L21:$M21),IF($W21="국도비","직접입력",SUM($L21:$M21)-$Z21)) -> 0 | AB21: =IF(SUM($L21:$M21)=SUM($Z21:$AA21),"OK","검토") -> OK | AE21: =IF($Y21<>"도비",IF($W21="국도비","직접입력",SUM($P21:$Q21)),) -> 0 | AF21: =IF($Y21="도비",SUM(P21:Q21),IF($W21="국도비","직접입력",SUM(P21:Q21)-AE21)) -> 0 | AG21: =IF(SUM(P21:Q21)=SUM(AE21:AF21),"OK","검토") -> OK | AI21: =IF(W21="","",IF(W21="도비","세입없음","직접입력")) | AK21: =IF(AI21="","",COUNTIF($AI$7:$AI$112,AI21)) | AL21: =IF(Y21="","",IF(AND(Y21="도비",AI21="세입없음"),"OK",IF(AND(Y21<>"도비",AI21<>""),"OK","@@"))) | AN21: {=IF(D21="","",INDEX(구분표!$I$2:$I$319, MATCH(1,(구분표!$E$2:$E$319='1추일출'!C21)*(구분표!$F$2:$F$319='1추일출'!D21)*(구분표!$G$2:$G$319='1추일출'!B21),0)))} | AR21: =IF(O21<0,O21,0) -> 0 | AS21: =IF(O21>0,O21,0) -> 0
A22: =COUNTA($C$8:C22)-COUNTBLANK($C$8:C22)+1 -> 0 | B22: =IF(C22="","",MID($B$18,2,7)) | C22: =IF(D22="","",VLOOKUP(D22,구분표!$A$3:$C$223,3,)) | K22: =I22-J22 -> 0 | N22: =I22+L22+M22 -> 0 | O22: =R22-N22 -> 0 | R22: =I22+P22+Q22 -> 0 | S22: =IF(AND((N22=0),(R22>0)),"O",IF(AND((L22<0),(N22-R22<0)),"O","X")) -> X | Z22: =IF($Y22<>"도비",IF($W22="국도비","직접입력",SUM($L22:$M22)),) -> 0 | AA22: =IF($Y22="도비",SUM($L22:$M22),IF($W22="국도비","직접입력",SUM($L22:$M22)-$Z22)) -> 0 | AB22: =IF(SUM($L22:$M22)=SUM($Z22:$AA22),"OK","검토") -> OK | AE22: =IF($Y22<>"도비",IF($W22="국도비","직접입력",SUM($P22:$Q22)),) -> 0 | AF22: =IF($Y22="도비",SUM(P22:Q22),IF($W22="국도비","직접입력",SUM(P22:Q22)-AE22)) -> 0 | AG22: =IF(SUM(P22:Q22)=SUM(AE22:AF22),"OK","검토") -> OK | AI22: =IF(W22="","",IF(W22="도비","세입없음","직접입력")) | AK22: =IF(AI22="","",COUNTIF($AI$7:$AI$112,AI22)) | AL22: =IF(Y22="","",IF(AND(Y22="도비",AI22="세입없음"),"OK",IF(AND(Y22<>"도비",AI22<>""),"OK","@@"))) | AN22: {=IF(D22="","",INDEX(구분표!$I$2:$I$319, MATCH(1,(구분표!$E$2:$E$319='1추일출'!C22)*(구분표!$F$2:$F$319='1추일출'!D22)*(구분표!$G$2:$G$319='1추일출'!B22),0)))} | AR22: =IF(O22<0,O22,0) -> 0 | AS22: =IF(O22>0,O22,0) -> 0
A23: =COUNTA($C$8:C23)-COUNTBLANK($C$8:C23)+1 -> 0 | B23: =IF(C23="","",MID($B$18,2,7)) | C23: =IF(D23="","",VLOOKUP(D23,구분표!$A$3:$C$223,3,)) | K23: =I23-J23 -> 0 | N23: =I23+L23+M23 -> 0 | O23: =R23-N23 -> 0 | R23: =I23+P23+Q23 -> 0 | S23: =IF(AND((N23=0),(R23>0)),"O",IF(AND((L23<0),(N23-R23<0)),"O","X")) -> X | Z23: =IF($Y23<>"도비",IF($W23="국도비","직접입력",SUM($L23:$M23)),) -> 0 | AA23: =IF($Y23="도비",SUM($L23:$M23),IF($W23="국도비","직접입력",SUM($L23:$M23)-$Z23)) -> 0 | AB23: =IF(SUM($L23:$M23)=SUM($Z23:$AA23),"OK","검토") -> OK | AE23: =IF($Y23<>"도비",IF($W23="국도비","직접입력",SUM($P23:$Q23)),) -> 0 | AF23: =IF($Y23="도비",SUM(P23:Q23),IF($W23="국도비","직접입력",SUM(P23:Q23)-AE23)) -> 0 | AG23: =IF(SUM(P23:Q23)=SUM(AE23:AF23),"OK","검토") -> OK | AI23: =IF(W23="","",IF(W23="도비","세입없음","직접입력")) | AK23: =IF(AI23="","",COUNTIF($AI$7:$AI$112,AI23)) | AL23: =IF(Y23="","",IF(AND(Y23="도비",AI23="세입없음"),"OK",IF(AND(Y23<>"도비",AI23<>""),"OK","@@"))) | AN23: {=IF(D23="","",INDEX(구분표!$I$2:$I$319, MATCH(1,(구분표!$E$2:$E$319='1추일출'!C23)*(구분표!$F$2:$F$319='1추일출'!D23)*(구분표!$G$2:$G$319='1추일출'!B23),0)))} | AR23: =IF(O23<0,O23,0) -> 0 | AS23: =IF(O23>0,O23,0) -> 0
A24: =COUNTA($C$8:C24)-COUNTBLANK($C$8:C24)+1 -> 0 | B24: =IF(C24="","",MID($B$18,2,7)) | C24: =IF(D24="","",VLOOKUP(D24,구분표!$A$3:$C$223,3,)) | K24: =I24-J24 -> 0 | N24: =I24+L24+M24 -> 0 | O24: =R24-N24 -> 0 | R24: =I24+P24+Q24 -> 0 | S24: =IF(AND((N24=0),(R24>0)),"O",IF(AND((L24<0),(N24-R24<0)),"O","X")) -> X | Z24: =IF($Y24<>"도비",IF($W24="국도비","직접입력",SUM($L24:$M24)),) -> 0 | AA24: =IF($Y24="도비",SUM($L24:$M24),IF($W24="국도비","직접입력",SUM($L24:$M24)-$Z24)) -> 0 | AB24: =IF(SUM($L24:$M24)=SUM($Z24:$AA24),"OK","검토") -> OK | AE24: =IF($Y24<>"도비",IF($W24="국도비","직접입력",SUM($P24:$Q24)),) -> 0 | AF24: =IF($Y24="도비",SUM(P24:Q24),IF($W24="국도비","직접입력",SUM(P24:Q24)-AE24)) -> 0 | AG24: =IF(SUM(P24:Q24)=SUM(AE24:AF24),"OK","검토") -> OK | AI24: =IF(W24="","",IF(W24="도비","세입없음","직접입력")) | AK24: =IF(AI24="","",COUNTIF($AI$7:$AI$112,AI24)) | AL24: =IF(Y24="","",IF(AND(Y24="도비",AI24="세입없음"),"OK",IF(AND(Y24<>"도비",AI24<>""),"OK","@@"))) | AN24: {=IF(D24="","",INDEX(구분표!$I$2:$I$319, MATCH(1,(구분표!$E$2:$E$319='1추일출'!C24)*(구분표!$F$2:$F$319='1추일출'!D24)*(구분표!$G$2:$G$319='1추일출'!B24),0)))} | AR24: =IF(O24<0,O24,0) -> 0 | AS24: =IF(O24>0,O24,0) -> 0
A25: =COUNTA($C$8:C25)-COUNTBLANK($C$8:C25)+1 -> 0 | B25: =IF(C25="","",MID($B$18,2,7)) | C25: =IF(D25="","",VLOOKUP(D25,구분표!$A$3:$C$223,3,)) | K25: =I25-J25 -> 0 | N25: =I25+L25+M25 -> 0 | O25: =R25-N25 -> 0 | R25: =I25+P25+Q25 -> 0 | S25: =IF(AND((N25=0),(R25>0)),"O",IF(AND((L25<0),(N25-R25<0)),"O","X")) -> X | Z25: =IF($Y25<>"도비",IF($W25="국도비","직접입력",SUM($L25:$M25)),) -> 0 | AA25: =IF($Y25="도비",SUM($L25:$M25),IF($W25="국도비","직접입력",SUM($L25:$M25)-$Z25)) -> 0 | AB25: =IF(SUM($L25:$M25)=SUM($Z25:$AA25),"OK","검토") -> OK | AE25: =IF($Y25<>"도비",IF($W25="국도비","직접입력",SUM($P25:$Q25)),) -> 0 | AF25: =IF($Y25="도비",SUM(P25:Q25),IF($W25="국도비","직접입력",SUM(P25:Q25)-AE25)) -> 0 | AG25: =IF(SUM(P25:Q25)=SUM(AE25:AF25),"OK","검토") -> OK | AI25: =IF(W25="","",IF(W25="도비","세입없음","직접입력")) | AK25: =IF(AI25="","",COUNTIF($AI$7:$AI$112,AI25)) | AL25: =IF(Y25="","",IF(AND(Y25="도비",AI25="세입없음"),"OK",IF(AND(Y25<>"도비",AI25<>""),"OK","@@"))) | AN25: {=IF(D25="","",INDEX(구분표!$I$2:$I$319, MATCH(1,(구분표!$E$2:$E$319='1추일출'!C25)*(구분표!$F$2:$F$319='1추일출'!D25)*(구분표!$G$2:$G$319='1추일출'!B25),0)))} | AR25: =IF(O25<0,O25,0) -> 0 | AS25: =IF(O25>0,O25,0) -> 0
A26: =COUNTA($C$8:C26)-COUNTBLANK($C$8:C26)+1 -> 0 | B26: =IF(C26="","",MID($B$18,2,7)) | C26: =IF(D26="","",VLOOKUP(D26,구분표!$A$3:$C$223,3,)) | K26: =I26-J26 -> 0 | N26: =I26+L26+M26 -> 0 | O26: =R26-N26 -> 0 | R26: =I26+P26+Q26 -> 0 | S26: =IF(AND((N26=0),(R26>0)),"O",IF(AND((L26<0),(N26-R26<0)),"O","X")) -> X | Z26: =IF($Y26<>"도비",IF($W26="국도비","직접입력",SUM($L26:$M26)),) -> 0 | AA26: =IF($Y26="도비",SUM($L26:$M26),IF($W26="국도비","직접입력",SUM($L26:$M26)-$Z26)) -> 0 | AB26: =IF(SUM($L26:$M26)=SUM($Z26:$AA26),"OK","검토") -> OK | AE26: =IF($Y26<>"도비",IF($W26="국도비","직접입력",SUM($P26:$Q26)),) -> 0 | AF26: =IF($Y26="도비",SUM(P26:Q26),IF($W26="국도비","직접입력",SUM(P26:Q26)-AE26)) -> 0 | AG26: =IF(SUM(P26:Q26)=SUM(AE26:AF26),"OK","검토") -> OK | AI26: =IF(W26="","",IF(W26="도비","세입없음","직접입력")) | AK26: =IF(AI26="","",COUNTIF($AI$7:$AI$112,AI26)) | AL26: =IF(Y26="","",IF(AND(Y26="도비",AI26="세입없음"),"OK",IF(AND(Y26<>"도비",AI26<>""),"OK","@@"))) | AN26: {=IF(D26="","",INDEX(구분표!$I$2:$I$319, MATCH(1,(구분표!$E$2:$E$319='1추일출'!C26)*(구분표!$F$2:$F$319='1추일출'!D26)*(구분표!$G$2:$G$319='1추일출'!B26),0)))} | AR26: =IF(O26<0,O26,0) -> 0 | AS26: =IF(O26>0,O26,0) -> 0
A27: =COUNTA($C$8:C27)-COUNTBLANK($C$8:C27)+1 -> 0 | B27: =IF(C27="","",MID($B$18,2,7)) | C27: =IF(D27="","",VLOOKUP(D27,구분표!$A$3:$C$223,3,)) | K27: =I27-J27 -> 0 | N27: =I27+L27+M27 -> 0 | O27: =R27-N27 -> 0 | R27: =I27+P27+Q27 -> 0 | S27: =IF(AND((N27=0),(R27>0)),"O",IF(AND((L27<0),(N27-R27<0)),"O","X")) -> X | Z27: =IF($Y27<>"도비",IF($W27="국도비","직접입력",SUM($L27:$M27)),) -> 0 | AA27: =IF($Y27="도비",SUM($L27:$M27),IF($W27="국도비","직접입력",SUM($L27:$M27)-$Z27)) -> 0 | AB27: =IF(SUM($L27:$M27)=SUM($Z27:$AA27),"OK","검토") -> OK | AE27: =IF($Y27<>"도비",IF($W27="국도비","직접입력",SUM($P27:$Q27)),) -> 0 | AF27: =IF($Y27="도비",SUM(P27:Q27),IF($W27="국도비","직접입력",SUM(P27:Q27)-AE27)) -> 0 | AG27: =IF(SUM(P27:Q27)=SUM(AE27:AF27),"OK","검토") -> OK | AI27: =IF(W27="","",IF(W27="도비","세입없음","직접입력")) | AK27: =IF(AI27="","",COUNTIF($AI$7:$AI$112,AI27)) | AL27: =IF(Y27="","",IF(AND(Y27="도비",AI27="세입없음"),"OK",IF(AND(Y27<>"도비",AI27<>""),"OK","@@"))) | AN27: {=IF(D27="","",INDEX(구분표!$I$2:$I$319, MATCH(1,(구분표!$E$2:$E$319='1추일출'!C27)*(구분표!$F$2:$F$319='1추일출'!D27)*(구분표!$G$2:$G$319='1추일출'!B27),0)))} | AR27: =IF(O27<0,O27,0) -> 0 | AS27: =IF(O27>0,O27,0) -> 0
A28: =COUNTA($C$8:C28)-COUNTBLANK($C$8:C28)+1 -> 0 | B28: =IF(C28="","",MID($B$18,2,7)) | C28: =IF(D28="","",VLOOKUP(D28,구분표!$A$3:$C$223,3,)) | K28: =I28-J28 -> 0 | N28: =I28+L28+M28 -> 0 | O28: =R28-N28 -> 0 | R28: =I28+P28+Q28 -> 0 | S28: =IF(AND((N28=0),(R28>0)),"O",IF(AND((L28<0),(N28-R28<0)),"O","X")) -> X | Z28: =IF($Y28<>"도비",IF($W28="국도비","직접입력",SUM($L28:$M28)),) -> 0 | AA28: =IF($Y28="도비",SUM($L28:$M28),IF($W28="국도비","직접입력",SUM($L28:$M28)-$Z28)) -> 0 | AB28: =IF(SUM($L28:$M28)=SUM($Z28:$AA28),"OK","검토") -> OK | AE28: =IF($Y28<>"도비",IF($W28="국도비","직접입력",SUM($P28:$Q28)),) -> 0 | AF28: =IF($Y28="도비",SUM(P28:Q28),IF($W28="국도비","직접입력",SUM(P28:Q28)-AE28)) -> 0 | AG28: =IF(SUM(P28:Q28)=SUM(AE28:AF28),"OK","검토") -> OK | AI28: =IF(W28="","",IF(W28="도비","세입없음","직접입력")) | AK28: =IF(AI28="","",COUNTIF($AI$7:$AI$112,AI28)) | AL28: =IF(Y28="","",IF(AND(Y28="도비",AI28="세입없음"),"OK",IF(AND(Y28<>"도비",AI28<>""),"OK","@@"))) | AN28: {=IF(D28="","",INDEX(구분표!$I$2:$I$319, MATCH(1,(구분표!$E$2:$E$319='1추일출'!C28)*(구분표!$F$2:$F$319='1추일출'!D28)*(구분표!$G$2:$G$319='1추일출'!B28),0)))} | AR28: =IF(O28<0,O28,0) -> 0 | AS28: =IF(O28>0,O28,0) -> 0
B29: (경제과학기술위원회) | I29: =SUBTOTAL(9,I30:I39) -> 0 | J29: =SUBTOTAL(9,J30:J39) -> 0 | K29: =SUBTOTAL(9,K30:K39) -> 0 | L29: =SUBTOTAL(9,L30:L39) -> 0 | M29: =SUBTOTAL(9,M30:M39) -> 0 | N29: =SUBTOTAL(9,N30:N39) -> 0 | O29: =SUBTOTAL(9,O30:O39) -> 0 | P29: =SUBTOTAL(9,P30:P39) -> 0 | ... R29: =SUBTOTAL(9,R30:R39) -> 0 | AR29: =SUBTOTAL(9,AR30:AR39) -> 0 | AS29: =SUBTOTAL(9,AS30:AS39) -> 0
A30: =COUNTA($C$8:C30)-COUNTBLANK($C$8:C30)+2 -> 0 | B30: =IF(C30="","",MID($B$29,2,9)) | C30: =IF(D30="","",VLOOKUP(D30,구분표!$A$3:$C$223,3,)) | K30: =I30-J30 -> 0 | N30: =I30+L30+M30 -> 0 | O30: =R30-N30 -> 0 | R30: =I30+P30+Q30 -> 0 | S30: =IF(AND((N30=0),(R30>0)),"O",IF(AND((L30<0),(N30-R30<0)),"O","X")) -> X | Z30: =IF($Y30<>"도비",IF($W30="국도비","직접입력",SUM($L30:$M30)),) -> 0 | AA30: =IF($Y30="도비",SUM($L30:$M30),IF($W30="국도비","직접입력",SUM($L30:$M30)-$Z30)) -> 0 | AB30: =IF(SUM($L30:$M30)=SUM($Z30:$AA30),"OK","검토") -> OK | AE30: =IF($Y30<>"도비",IF($W30="국도비","직접입력",SUM($P30:$Q30)),) -> 0 | AF30: =IF($Y30="도비",SUM(P30:Q30),IF($W30="국도비","직접입력",SUM(P30:Q30)-AE30)) -> 0 | AG30: =IF(SUM(P30:Q30)=SUM(AE30:AF30),"OK","검토") -> OK | AI30: =IF(W30="","",IF(W30="도비","세입없음","직접입력")) | AK30: =IF(AI30="","",COUNTIF($AI$7:$AI$112,AI30)) | AL30: =IF(Y30="","",IF(AND(Y30="도비",AI30="세입없음"),"OK",IF(AND(Y30<>"도비",AI30<>""),"OK","@@"))) | AN30: {=IF(D30="","",INDEX(구분표!$I$2:$I$319, MATCH(1,(구분표!$E$2:$E$319='1추일출'!C30)*(구분표!$F$2:$F$319='1추일출'!D30)*(구분표!$G$2:$G$319='1추일출'!B30),0)))} | AR30: =IF(O30<0,O30,0) -> 0 | AS30: =IF(O30>0,O30,0) -> 0
A31: =COUNTA($C$8:C31)-COUNTBLANK($C$8:C31)+2 -> 0 | B31: =IF(C31="","",MID($B$29,2,9)) | C31: =IF(D31="","",VLOOKUP(D31,구분표!$A$3:$C$223,3,)) | K31: =I31-J31 -> 0 | N31: =I31+L31+M31 -> 0 | O31: =R31-N31 -> 0 | R31: =I31+P31+Q31 -> 0 | S31: =IF(AND((N31=0),(R31>0)),"O",IF(AND((L31<0),(N31-R31<0)),"O","X")) -> X | Z31: =IF($Y31<>"도비",IF($W31="국도비","직접입력",SUM($L31:$M31)),) -> 0 | AA31: =IF($Y31="도비",SUM($L31:$M31),IF($W31="국도비","직접입력",SUM($L31:$M31)-$Z31)) -> 0 | AB31: =IF(SUM($L31:$M31)=SUM($Z31:$AA31),"OK","검토") -> OK | AE31: =IF($Y31<>"도비",IF($W31="국도비","직접입력",SUM($P31:$Q31)),) -> 0 | AF31: =IF($Y31="도비",SUM(P31:Q31),IF($W31="국도비","직접입력",SUM(P31:Q31)-AE31)) -> 0 | AG31: =IF(SUM(P31:Q31)=SUM(AE31:AF31),"OK","검토") -> OK | AI31: =IF(W31="","",IF(W31="도비","세입없음","직접입력")) | AK31: =IF(AI31="","",COUNTIF($AI$7:$AI$112,AI31)) | AL31: =IF(Y31="","",IF(AND(Y31="도비",AI31="세입없음"),"OK",IF(AND(Y31<>"도비",AI31<>""),"OK","@@"))) | AN31: {=IF(D31="","",INDEX(구분표!$I$2:$I$319, MATCH(1,(구분표!$E$2:$E$319='1추일출'!C31)*(구분표!$F$2:$F$319='1추일출'!D31)*(구분표!$G$2:$G$319='1추일출'!B31),0)))} | AR31: =IF(O31<0,O31,0) -> 0 | AS31: =IF(O31>0,O31,0) -> 0 | AT31: 사회보장제도 신설에 따른 중앙부처 협의 등 사전절차 이행 완료 후 집행한다.
A32: =COUNTA($C$8:C32)-COUNTBLANK($C$8:C32)+2 -> 0 | B32: =IF(C32="","",MID($B$29,2,9)) | C32: =IF(D32="","",VLOOKUP(D32,구분표!$A$3:$C$223,3,)) | K32: =I32-J32 -> 0 | N32: =I32+L32+M32 -> 0 | O32: =R32-N32 -> 0 | R32: =I32+P32+Q32 -> 0 | S32: =IF(AND((N32=0),(R32>0)),"O",IF(AND((L32<0),(N32-R32<0)),"O","X")) -> X | Z32: =IF($Y32<>"도비",IF($W32="국도비","직접입력",SUM($L32:$M32)),) -> 0 | AA32: =IF($Y32="도비",SUM($L32:$M32),IF($W32="국도비","직접입력",SUM($L32:$M32)-$Z32)) -> 0 | AB32: =IF(SUM($L32:$M32)=SUM($Z32:$AA32),"OK","검토") -> OK | AE32: =IF($Y32<>"도비",IF($W32="국도비","직접입력",SUM($P32:$Q32)),) -> 0 | AF32: =IF($Y32="도비",SUM(P32:Q32),IF($W32="국도비","직접입력",SUM(P32:Q32)-AE32)) -> 0 | AG32: =IF(SUM(P32:Q32)=SUM(AE32:AF32),"OK","검토") -> OK | AI32: =IF(W32="","",IF(W32="도비","세입없음","직접입력")) | AK32: =IF(AI32="","",COUNTIF($AI$7:$AI$112,AI32)) | AL32: =IF(Y32="","",IF(AND(Y32="도비",AI32="세입없음"),"OK",IF(AND(Y32<>"도비",AI32<>""),"OK","@@"))) | AN32: {=IF(D32="","",INDEX(구분표!$I$2:$I$319, MATCH(1,(구분표!$E$2:$E$319='1추일출'!C32)*(구분표!$F$2:$F$319='1추일출'!D32)*(구분표!$G$2:$G$319='1추일출'!B32),0)))} | AR32: =IF(O32<0,O32,0) -> 0 | AS32: =IF(O32>0,O32,0) -> 0
A33: =COUNTA($C$8:C33)-COUNTBLANK($C$8:C33)+2 -> 0 | B33: =IF(C33="","",MID($B$29,2,9)) | C33: =IF(D33="","",VLOOKUP(D33,구분표!$A$3:$C$223,3,)) | K33: =I33-J33 -> 0 | N33: =I33+L33+M33 -> 0 | O33: =R33-N33 -> 0 | R33: =I33+P33+Q33 -> 0 | S33: =IF(AND((N33=0),(R33>0)),"O",IF(AND((L33<0),(N33-R33<0)),"O","X")) -> X | Z33: =IF($Y33<>"도비",IF($W33="국도비","직접입력",SUM($L33:$M33)),) -> 0 | AA33: =IF($Y33="도비",SUM($L33:$M33),IF($W33="국도비","직접입력",SUM($L33:$M33)-$Z33)) -> 0 | AB33: =IF(SUM($L33:$M33)=SUM($Z33:$AA33),"OK","검토") -> OK | AE33: =IF($Y33<>"도비",IF($W33="국도비","직접입력",SUM($P33:$Q33)),) -> 0 | AF33: =IF($Y33="도비",SUM(P33:Q33),IF($W33="국도비","직접입력",SUM(P33:Q33)-AE33)) -> 0 | AG33: =IF(SUM(P33:Q33)=SUM(AE33:AF33),"OK","검토") -> OK | AI33: =IF(W33="","",IF(W33="도비","세입없음","직접입력")) | AK33: =IF(AI33="","",COUNTIF($AI$7:$AI$112,AI33)) | AL33: =IF(Y33="","",IF(AND(Y33="도비",AI33="세입없음"),"OK",IF(AND(Y33<>"도비",AI33<>""),"OK","@@"))) | AN33: {=IF(D33="","",INDEX(구분표!$I$2:$I$319, MATCH(1,(구분표!$E$2:$E$319='1추일출'!C33)*(구분표!$F$2:$F$319='1추일출'!D33)*(구분표!$G$2:$G$319='1추일출'!B33),0)))} | AR33: =IF(O33<0,O33,0) -> 0 | AS33: =IF(O33>0,O33,0) -> 0
A34: =COUNTA($C$8:C34)-COUNTBLANK($C$8:C34)+2 -> 0 | B34: =IF(C34="","",MID($B$29,2,9)) | C34: =IF(D34="","",VLOOKUP(D34,구분표!$A$3:$C$223,3,)) | K34: =I34-J34 -> 0 | N34: =I34+L34+M34 -> 0 | O34: =R34-N34 -> 0 | R34: =I34+P34+Q34 -> 0 | S34: =IF(AND((N34=0),(R34>0)),"O",IF(AND((L34<0),(N34-R34<0)),"O","X")) -> X | Z34: =IF($Y34<>"도비",IF($W34="국도비","직접입력",SUM($L34:$M34)),) -> 0 | AA34: =IF($Y34="도비",SUM($L34:$M34),IF($W34="국도비","직접입력",SUM($L34:$M34)-$Z34)) -> 0 | AB34: =IF(SUM($L34:$M34)=SUM($Z34:$AA34),"OK","검토") -> OK | AE34: =IF($Y34<>"도비",IF($W34="국도비","직접입력",SUM($P34:$Q34)),) -> 0 | AF34: =IF($Y34="도비",SUM(P34:Q34),IF($W34="국도비","직접입력",SUM(P34:Q34)-AE34)) -> 0 | AG34: =IF(SUM(P34:Q34)=SUM(AE34:AF34),"OK","검토") -> OK | AI34: =IF(W34="","",IF(W34="도비","세입없음","직접입력")) | AK34: =IF(AI34="","",COUNTIF($AI$7:$AI$112,AI34)) | AL34: =IF(Y34="","",IF(AND(Y34="도비",AI34="세입없음"),"OK",IF(AND(Y34<>"도비",AI34<>""),"OK","@@"))) | AN34: {=IF(D34="","",INDEX(구분표!$I$2:$I$319, MATCH(1,(구분표!$E$2:$E$319='1추일출'!C34)*(구분표!$F$2:$F$319='1추일출'!D34)*(구분표!$G$2:$G$319='1추일출'!B34),0)))} | AR34: =IF(O34<0,O34,0) -> 0 | AS34: =IF(O34>0,O34,0) -> 0
A35: =COUNTA($C$8:C35)-COUNTBLANK($C$8:C35)+2 -> 0 | B35: =IF(C35="","",MID($B$29,2,9)) | C35: =IF(D35="","",VLOOKUP(D35,구분표!$A$3:$C$223,3,)) | K35: =I35-J35 -> 0 | N35: =I35+L35+M35 -> 0 | O35: =R35-N35 -> 0 | R35: =I35+P35+Q35 -> 0 | S35: =IF(AND((N35=0),(R35>0)),"O",IF(AND((L35<0),(N35-R35<0)),"O","X")) -> X | Z35: =IF($Y35<>"도비",IF($W35="국도비","직접입력",SUM($L35:$M35)),) -> 0 | AA35: =IF($Y35="도비",SUM($L35:$M35),IF($W35="국도비","직접입력",SUM($L35:$M35)-$Z35)) -> 0 | AB35: =IF(SUM($L35:$M35)=SUM($Z35:$AA35),"OK","검토") -> OK | AE35: =IF($Y35<>"도비",IF($W35="국도비","직접입력",SUM($P35:$Q35)),) -> 0 | AF35: =IF($Y35="도비",SUM(P35:Q35),IF($W35="국도비","직접입력",SUM(P35:Q35)-AE35)) -> 0 | AG35: =IF(SUM(P35:Q35)=SUM(AE35:AF35),"OK","검토") -> OK | AI35: =IF(W35="","",IF(W35="도비","세입없음","직접입력")) | AK35: =IF(AI35="","",COUNTIF($AI$7:$AI$112,AI35)) | AL35: =IF(Y35="","",IF(AND(Y35="도비",AI35="세입없음"),"OK",IF(AND(Y35<>"도비",AI35<>""),"OK","@@"))) | AN35: {=IF(D35="","",INDEX(구분표!$I$2:$I$319, MATCH(1,(구분표!$E$2:$E$319='1추일출'!C35)*(구분표!$F$2:$F$319='1추일출'!D35)*(구분표!$G$2:$G$319='1추일출'!B35),0)))} | AR35: =IF(O35<0,O35,0) -> 0 | AS35: =IF(O35>0,O35,0) -> 0
A36: =COUNTA($C$8:C36)-COUNTBLANK($C$8:C36)+2 -> 0 | B36: =IF(C36="","",MID($B$29,2,9)) | C36: =IF(D36="","",VLOOKUP(D36,구분표!$A$3:$C$223,3,)) | K36: =I36-J36 -> 0 | N36: =I36+L36+M36 -> 0 | O36: =R36-N36 -> 0 | R36: =I36+P36+Q36 -> 0 | S36: =IF(AND((N36=0),(R36>0)),"O",IF(AND((L36<0),(N36-R36<0)),"O","X")) -> X | Z36: =IF($Y36<>"도비",IF($W36="국도비","직접입력",SUM($L36:$M36)),) -> 0 | AA36: =IF($Y36="도비",SUM($L36:$M36),IF($W36="국도비","직접입력",SUM($L36:$M36)-$Z36)) -> 0 | AB36: =IF(SUM($L36:$M36)=SUM($Z36:$AA36),"OK","검토") -> OK | AE36: =IF($Y36<>"도비",IF($W36="국도비","직접입력",SUM($P36:$Q36)),) -> 0 | AF36: =IF($Y36="도비",SUM(P36:Q36),IF($W36="국도비","직접입력",SUM(P36:Q36)-AE36)) -> 0 | AG36: =IF(SUM(P36:Q36)=SUM(AE36:AF36),"OK","검토") -> OK | AI36: =IF(W36="","",IF(W36="도비","세입없음","직접입력")) | AK36: =IF(AI36="","",COUNTIF($AI$7:$AI$112,AI36)) | AL36: =IF(Y36="","",IF(AND(Y36="도비",AI36="세입없음"),"OK",IF(AND(Y36<>"도비",AI36<>""),"OK","@@"))) | AN36: {=IF(D36="","",INDEX(구분표!$I$2:$I$319, MATCH(1,(구분표!$E$2:$E$319='1추일출'!C36)*(구분표!$F$2:$F$319='1추일출'!D36)*(구분표!$G$2:$G$319='1추일출'!B36),0)))} | AR36: =IF(O36<0,O36,0) -> 0 | AS36: =IF(O36>0,O36,0) -> 0
A37: =COUNTA($C$8:C37)-COUNTBLANK($C$8:C37)+2 -> 0 | B37: =IF(C37="","",MID($B$29,2,9)) | C37: =IF(D37="","",VLOOKUP(D37,구분표!$A$3:$C$223,3,)) | K37: =I37-J37 -> 0 | N37: =I37+L37+M37 -> 0 | O37: =R37-N37 -> 0 | R37: =I37+P37+Q37 -> 0 | S37: =IF(AND((N37=0),(R37>0)),"O",IF(AND((L37<0),(N37-R37<0)),"O","X")) -> X | Z37: =IF($Y37<>"도비",IF($W37="국도비","직접입력",SUM($L37:$M37)),) -> 0 | AA37: =IF($Y37="도비",SUM($L37:$M37),IF($W37="국도비","직접입력",SUM($L37:$M37)-$Z37)) -> 0 | AB37: =IF(SUM($L37:$M37)=SUM($Z37:$AA37),"OK","검토") -> OK | AE37: =IF($Y37<>"도비",IF($W37="국도비","직접입력",SUM($P37:$Q37)),) -> 0 | AF37: =IF($Y37="도비",SUM(P37:Q37),IF($W37="국도비","직접입력",SUM(P37:Q37)-AE37)) -> 0 | AG37: =IF(SUM(P37:Q37)=SUM(AE37:AF37),"OK","검토") -> OK | AI37: =IF(W37="","",IF(W37="도비","세입없음","직접입력")) | AK37: =IF(AI37="","",COUNTIF($AI$7:$AI$112,AI37)) | AL37: =IF(Y37="","",IF(AND(Y37="도비",AI37="세입없음"),"OK",IF(AND(Y37<>"도비",AI37<>""),"OK","@@"))) | AN37: {=IF(D37="","",INDEX(구분표!$I$2:$I$319, MATCH(1,(구분표!$E$2:$E$319='1추일출'!C37)*(구분표!$F$2:$F$319='1추일출'!D37)*(구분표!$G$2:$G$319='1추일출'!B37),0)))} | AR37: =IF(O37<0,O37,0) -> 0 | AS37: =IF(O37>0,O37,0) -> 0
A38: =COUNTA($C$8:C38)-COUNTBLANK($C$8:C38)+2 -> 0 | B38: =IF(C38="","",MID($B$29,2,9)) | C38: =IF(D38="","",VLOOKUP(D38,구분표!$A$3:$C$223,3,)) | K38: =I38-J38 -> 0 | N38: =I38+L38+M38 -> 0 | O38: =R38-N38 -> 0 | R38: =I38+P38+Q38 -> 0 | S38: =IF(AND((N38=0),(R38>0)),"O",IF(AND((L38<0),(N38-R38<0)),"O","X")) -> X | Z38: =IF($Y38<>"도비",IF($W38="국도비","직접입력",SUM($L38:$M38)),) -> 0 | AA38: =IF($Y38="도비",SUM($L38:$M38),IF($W38="국도비","직접입력",SUM($L38:$M38)-$Z38)) -> 0 | AB38: =IF(SUM($L38:$M38)=SUM($Z38:$AA38),"OK","검토") -> OK | AE38: =IF($Y38<>"도비",IF($W38="국도비","직접입력",SUM($P38:$Q38)),) -> 0 | AF38: =IF($Y38="도비",SUM(P38:Q38),IF($W38="국도비","직접입력",SUM(P38:Q38)-AE38)) -> 0 | AG38: =IF(SUM(P38:Q38)=SUM(AE38:AF38),"OK","검토") -> OK | AI38: =IF(W38="","",IF(W38="도비","세입없음","직접입력")) | AK38: =IF(AI38="","",COUNTIF($AI$7:$AI$112,AI38)) | AL38: =IF(Y38="","",IF(AND(Y38="도비",AI38="세입없음"),"OK",IF(AND(Y38<>"도비",AI38<>""),"OK","@@"))) | AN38: {=IF(D38="","",INDEX(구분표!$I$2:$I$319, MATCH(1,(구분표!$E$2:$E$319='1추일출'!C38)*(구분표!$F$2:$F$319='1추일출'!D38)*(구분표!$G$2:$G$319='1추일출'!B38),0)))} | AR38: =IF(O38<0,O38,0) -> 0 | AS38: =IF(O38>0,O38,0) -> 0
A39: =COUNTA($C$8:C39)-COUNTBLANK($C$8:C39)+2 -> 0 | B39: =IF(C39="","",MID($B$29,2,9)) | C39: =IF(D39="","",VLOOKUP(D39,구분표!$A$3:$C$223,3,)) | K39: =I39-J39 -> 0 | N39: =I39+L39+M39 -> 0 | O39: =R39-N39 -> 0 | R39: =I39+P39+Q39 -> 0 | S39: =IF(AND((N39=0),(R39>0)),"O",IF(AND((L39<0),(N39-R39<0)),"O","X")) -> X | Z39: =IF($Y39<>"도비",IF($W39="국도비","직접입력",SUM($L39:$M39)),) -> 0 | AA39: =IF($Y39="도비",SUM($L39:$M39),IF($W39="국도비","직접입력",SUM($L39:$M39)-$Z39)) -> 0 | AB39: =IF(SUM($L39:$M39)=SUM($Z39:$AA39),"OK","검토") -> OK | AE39: =IF($Y39<>"도비",IF($W39="국도비","직접입력",SUM($P39:$Q39)),) -> 0 | AF39: =IF($Y39="도비",SUM(P39:Q39),IF($W39="국도비","직접입력",SUM(P39:Q39)-AE39)) -> 0 | AG39: =IF(SUM(P39:Q39)=SUM(AE39:AF39),"OK","검토") -> OK | AI39: =IF(W39="","",IF(W39="도비","세입없음","직접입력")) | AK39: =IF(AI39="","",COUNTIF($AI$7:$AI$112,AI39)) | AL39: =IF(Y39="","",IF(AND(Y39="도비",AI39="세입없음"),"OK",IF(AND(Y39<>"도비",AI39<>""),"OK","@@"))) | AN39: {=IF(D39="","",INDEX(구분표!$I$2:$I$319, MATCH(1,(구분표!$E$2:$E$319='1추일출'!C39)*(구분표!$F$2:$F$319='1추일출'!D39)*(구분표!$G$2:$G$319='1추일출'!B39),0)))} | AR39: =IF(O39<0,O39,0) -> 0 | AS39: =IF(O39>0,O39,0) -> 0
B40: (안전행정위원회) | I40: =SUBTOTAL(9,I41:I50) -> 0 | J40: =SUBTOTAL(9,J41:J50) -> 0 | K40: =SUBTOTAL(9,K41:K50) -> 0 | L40: =SUBTOTAL(9,L41:L50) -> 0 | M40: =SUBTOTAL(9,M41:M50) -> 0 | N40: =SUBTOTAL(9,N41:N50) -> 0 | O40: =SUBTOTAL(9,O41:O50) -> 0 | P40: =SUBTOTAL(9,P41:P50) -> 0 | ... R40: =SUBTOTAL(9,R41:R50) -> 0 | AR40: =SUBTOTAL(9,AR41:AR50) -> 0 | AS40: =SUBTOTAL(9,AS41:AS50) -> 0
A41: =COUNTA($C$8:C41)-COUNTBLANK($C$8:C41)+3 -> 0 | B41: =IF(C41="","",MID($B$40,2,7)) | C41: =IF(D41="","",VLOOKUP(D41,구분표!$A$3:$C$223,3,)) | K41: =I41-J41 -> 0 | N41: =I41+L41+M41 -> 0 | O41: =R41-N41 -> 0 | R41: =I41+P41+Q41 -> 0 | S41: =IF(AND((N41=0),(R41>0)),"O",IF(AND((L41<0),(N41-R41<0)),"O","X")) -> X | Z41: =IF($Y41<>"도비",IF($W41="국도비","직접입력",SUM($L41:$M41)),) -> 0 | AA41: =IF($Y41="도비",SUM($L41:$M41),IF($W41="국도비","직접입력",SUM($L41:$M41)-$Z41)) -> 0 | AB41: =IF(SUM($L41:$M41)=SUM($Z41:$AA41),"OK","검토") -> OK | AE41: =IF($Y41<>"도비",IF($W41="국도비","직접입력",SUM($P41:$Q41)),) -> 0 | AF41: =IF($Y41="도비",SUM(P41:Q41),IF($W41="국도비","직접입력",SUM(P41:Q41)-AE41)) -> 0 | AG41: =IF(SUM(P41:Q41)=SUM(AE41:AF41),"OK","검토") -> OK | AI41: =IF(W41="","",IF(W41="도비","세입없음","직접입력")) | AK41: =IF(AI41="","",COUNTIF($AI$7:$AI$112,AI41)) | AL41: =IF(Y41="","",IF(AND(Y41="도비",AI41="세입없음"),"OK",IF(AND(Y41<>"도비",AI41<>""),"OK","@@"))) | AN41: {=IF(D41="","",INDEX(구분표!$I$2:$I$319, MATCH(1,(구분표!$E$2:$E$319='1추일출'!C41)*(구분표!$F$2:$F$319='1추일출'!D41)*(구분표!$G$2:$G$319='1추일출'!B41),0)))} | AR41: =IF(O41<0,O41,0) -> 0 | AS41: =IF(O41>0,O41,0) -> 0
A42: =COUNTA($C$8:C42)-COUNTBLANK($C$8:C42)+3 -> 0 | B42: =IF(C42="","",MID($B$40,2,7)) | C42: =IF(D42="","",VLOOKUP(D42,구분표!$A$3:$C$223,3,)) | K42: =I42-J42 -> 0 | N42: =I42+L42+M42 -> 0 | O42: =R42-N42 -> 0 | R42: =I42+P42+Q42 -> 0 | S42: =IF(AND((N42=0),(R42>0)),"O",IF(AND((L42<0),(N42-R42<0)),"O","X")) -> X | Z42: =IF($Y42<>"도비",IF($W42="국도비","직접입력",SUM($L42:$M42)),) -> 0 | AA42: =IF($Y42="도비",SUM($L42:$M42),IF($W42="국도비","직접입력",SUM($L42:$M42)-$Z42)) -> 0 | AB42: =IF(SUM($L42:$M42)=SUM($Z42:$AA42),"OK","검토") -> OK | AE42: =IF($Y42<>"도비",IF($W42="국도비","직접입력",SUM($P42:$Q42)),) -> 0 | AF42: =IF($Y42="도비",SUM(P42:Q42),IF($W42="국도비","직접입력",SUM(P42:Q42)-AE42)) -> 0 | AG42: =IF(SUM(P42:Q42)=SUM(AE42:AF42),"OK","검토") -> OK | AI42: =IF(W42="","",IF(W42="도비","세입없음","직접입력")) | AK42: =IF(AI42="","",COUNTIF($AI$7:$AI$112,AI42)) | AL42: =IF(Y42="","",IF(AND(Y42="도비",AI42="세입없음"),"OK",IF(AND(Y42<>"도비",AI42<>""),"OK","@@"))) | AN42: {=IF(D42="","",INDEX(구분표!$I$2:$I$319, MATCH(1,(구분표!$E$2:$E$319='1추일출'!C42)*(구분표!$F$2:$F$319='1추일출'!D42)*(구분표!$G$2:$G$319='1추일출'!B42),0)))} | AR42: =IF(O42<0,O42,0) -> 0 | AS42: =IF(O42>0,O42,0) -> 0
A43: =COUNTA($C$8:C43)-COUNTBLANK($C$8:C43)+3 -> 0 | B43: =IF(C43="","",MID($B$40,2,7)) | C43: =IF(D43="","",VLOOKUP(D43,구분표!$A$3:$C$223,3,)) | K43: =I43-J43 -> 0 | N43: =I43+L43+M43 -> 0 | O43: =R43-N43 -> 0 | R43: =I43+P43+Q43 -> 0 | S43: =IF(AND((N43=0),(R43>0)),"O",IF(AND((L43<0),(N43-R43<0)),"O","X")) -> X | Z43: =IF($Y43<>"도비",IF($W43="국도비","직접입력",SUM($L43:$M43)),) -> 0 | AA43: =IF($Y43="도비",SUM($L43:$M43),IF($W43="국도비","직접입력",SUM($L43:$M43)-$Z43)) -> 0 | AB43: =IF(SUM($L43:$M43)=SUM($Z43:$AA43),"OK","검토") -> OK | AE43: =IF($Y43<>"도비",IF($W43="국도비","직접입력",SUM($P43:$Q43)),) -> 0 | AF43: =IF($Y43="도비",SUM(P43:Q43),IF($W43="국도비","직접입력",SUM(P43:Q43)-AE43)) -> 0 | AG43: =IF(SUM(P43:Q43)=SUM(AE43:AF43),"OK","검토") -> OK | AI43: =IF(W43="","",IF(W43="도비","세입없음","직접입력")) | AK43: =IF(AI43="","",COUNTIF($AI$7:$AI$112,AI43)) | AL43: =IF(Y43="","",IF(AND(Y43="도비",AI43="세입없음"),"OK",IF(AND(Y43<>"도비",AI43<>""),"OK","@@"))) | AN43: {=IF(D43="","",INDEX(구분표!$I$2:$I$319, MATCH(1,(구분표!$E$2:$E$319='1추일출'!C43)*(구분표!$F$2:$F$319='1추일출'!D43)*(구분표!$G$2:$G$319='1추일출'!B43),0)))} | AR43: =IF(O43<0,O43,0) -> 0 | AS43: =IF(O43>0,O43,0) -> 0
A44: =COUNTA($C$8:C44)-COUNTBLANK($C$8:C44)+3 -> 0 | B44: =IF(C44="","",MID($B$40,2,7)) | C44: =IF(D44="","",VLOOKUP(D44,구분표!$A$3:$C$223,3,)) | K44: =I44-J44 -> 0 | N44: =I44+L44+M44 -> 0 | O44: =R44-N44 -> 0 | R44: =I44+P44+Q44 -> 0 | S44: =IF(AND((N44=0),(R44>0)),"O",IF(AND((L44<0),(N44-R44<0)),"O","X")) -> X | Z44: =IF($Y44<>"도비",IF($W44="국도비","직접입력",SUM($L44:$M44)),) -> 0 | AA44: =IF($Y44="도비",SUM($L44:$M44),IF($W44="국도비","직접입력",SUM($L44:$M44)-$Z44)) -> 0 | AB44: =IF(SUM($L44:$M44)=SUM($Z44:$AA44),"OK","검토") -> OK | AE44: =IF($Y44<>"도비",IF($W44="국도비","직접입력",SUM($P44:$Q44)),) -> 0 | AF44: =IF($Y44="도비",SUM(P44:Q44),IF($W44="국도비","직접입력",SUM(P44:Q44)-AE44)) -> 0 | AG44: =IF(SUM(P44:Q44)=SUM(AE44:AF44),"OK","검토") -> OK | AI44: =IF(W44="","",IF(W44="도비","세입없음","직접입력")) | AK44: =IF(AI44="","",COUNTIF($AI$7:$AI$112,AI44)) | AL44: =IF(Y44="","",IF(AND(Y44="도비",AI44="세입없음"),"OK",IF(AND(Y44<>"도비",AI44<>""),"OK","@@"))) | AN44: {=IF(D44="","",INDEX(구분표!$I$2:$I$319, MATCH(1,(구분표!$E$2:$E$319='1추일출'!C44)*(구분표!$F$2:$F$319='1추일출'!D44)*(구분표!$G$2:$G$319='1추일출'!B44),0)))} | AR44: =IF(O44<0,O44,0) -> 0 | AS44: =IF(O44>0,O44,0) -> 0
A45: =COUNTA($C$8:C45)-COUNTBLANK($C$8:C45)+3 -> 0 | B45: =IF(C45="","",MID($B$40,2,7)) | C45: =IF(D45="","",VLOOKUP(D45,구분표!$A$3:$C$223,3,)) | K45: =I45-J45 -> 0 | N45: =I45+L45+M45 -> 0 | O45: =R45-N45 -> 0 | R45: =I45+P45+Q45 -> 0 | S45: =IF(AND((N45=0),(R45>0)),"O",IF(AND((L45<0),(N45-R45<0)),"O","X")) -> X | Z45: =IF($Y45<>"도비",IF($W45="국도비","직접입력",SUM($L45:$M45)),) -> 0 | AA45: =IF($Y45="도비",SUM($L45:$M45),IF($W45="국도비","직접입력",SUM($L45:$M45)-$Z45)) -> 0 | AB45: =IF(SUM($L45:$M45)=SUM($Z45:$AA45),"OK","검토") -> OK | AE45: =IF($Y45<>"도비",IF($W45="국도비","직접입력",SUM($P45:$Q45)),) -> 0 | AF45: =IF($Y45="도비",SUM(P45:Q45),IF($W45="국도비","직접입력",SUM(P45:Q45)-AE45)) -> 0 | AG45: =IF(SUM(P45:Q45)=SUM(AE45:AF45),"OK","검토") -> OK | AI45: =IF(W45="","",IF(W45="도비","세입없음","직접입력")) | AK45: =IF(AI45="","",COUNTIF($AI$7:$AI$112,AI45)) | AL45: =IF(Y45="","",IF(AND(Y45="도비",AI45="세입없음"),"OK",IF(AND(Y45<>"도비",AI45<>""),"OK","@@"))) | AN45: {=IF(D45="","",INDEX(구분표!$I$2:$I$319, MATCH(1,(구분표!$E$2:$E$319='1추일출'!C45)*(구분표!$F$2:$F$319='1추일출'!D45)*(구분표!$G$2:$G$319='1추일출'!B45),0)))} | AR45: =IF(O45<0,O45,0) -> 0 | AS45: =IF(O45>0,O45,0) -> 0
A46: =COUNTA($C$8:C46)-COUNTBLANK($C$8:C46)+3 -> 0 | B46: =IF(C46="","",MID($B$40,2,7)) | C46: =IF(D46="","",VLOOKUP(D46,구분표!$A$3:$C$223,3,)) | K46: =I46-J46 -> 0 | N46: =I46+L46+M46 -> 0 | O46: =R46-N46 -> 0 | R46: =I46+P46+Q46 -> 0 | S46: =IF(AND((N46=0),(R46>0)),"O",IF(AND((L46<0),(N46-R46<0)),"O","X")) -> X | Z46: =IF($Y46<>"도비",IF($W46="국도비","직접입력",SUM($L46:$M46)),) -> 0 | AA46: =IF($Y46="도비",SUM($L46:$M46),IF($W46="국도비","직접입력",SUM($L46:$M46)-$Z46)) -> 0 | AB46: =IF(SUM($L46:$M46)=SUM($Z46:$AA46),"OK","검토") -> OK | AE46: =IF($Y46<>"도비",IF($W46="국도비","직접입력",SUM($P46:$Q46)),) -> 0 | AF46: =IF($Y46="도비",SUM(P46:Q46),IF($W46="국도비","직접입력",SUM(P46:Q46)-AE46)) -> 0 | AG46: =IF(SUM(P46:Q46)=SUM(AE46:AF46),"OK","검토") -> OK | AI46: =IF(W46="","",IF(W46="도비","세입없음","직접입력")) | AK46: =IF(AI46="","",COUNTIF($AI$7:$AI$112,AI46)) | AL46: =IF(Y46="","",IF(AND(Y46="도비",AI46="세입없음"),"OK",IF(AND(Y46<>"도비",AI46<>""),"OK","@@"))) | AN46: {=IF(D46="","",INDEX(구분표!$I$2:$I$319, MATCH(1,(구분표!$E$2:$E$319='1추일출'!C46)*(구분표!$F$2:$F$319='1추일출'!D46)*(구분표!$G$2:$G$319='1추일출'!B46),0)))} | AR46: =IF(O46<0,O46,0) -> 0 | AS46: =IF(O46>0,O46,0) -> 0
A47: =COUNTA($C$8:C47)-COUNTBLANK($C$8:C47)+3 -> 0 | B47: =IF(C47="","",MID($B$40,2,7)) | C47: =IF(D47="","",VLOOKUP(D47,구분표!$A$3:$C$223,3,)) | K47: =I47-J47 -> 0 | N47: =I47+L47+M47 -> 0 | O47: =R47-N47 -> 0 | R47: =I47+P47+Q47 -> 0 | S47: =IF(AND((N47=0),(R47>0)),"O",IF(AND((L47<0),(N47-R47<0)),"O","X")) -> X | Z47: =IF($Y47<>"도비",IF($W47="국도비","직접입력",SUM($L47:$M47)),) -> 0 | AA47: =IF($Y47="도비",SUM($L47:$M47),IF($W47="국도비","직접입력",SUM($L47:$M47)-$Z47)) -> 0 | AB47: =IF(SUM($L47:$M47)=SUM($Z47:$AA47),"OK","검토") -> OK | AE47: =IF($Y47<>"도비",IF($W47="국도비","직접입력",SUM($P47:$Q47)),) -> 0 | AF47: =IF($Y47="도비",SUM(P47:Q47),IF($W47="국도비","직접입력",SUM(P47:Q47)-AE47)) -> 0 | AG47: =IF(SUM(P47:Q47)=SUM(AE47:AF47),"OK","검토") -> OK | AI47: =IF(W47="","",IF(W47="도비","세입없음","직접입력")) | AK47: =IF(AI47="","",COUNTIF($AI$7:$AI$112,AI47)) | AL47: =IF(Y47="","",IF(AND(Y47="도비",AI47="세입없음"),"OK",IF(AND(Y47<>"도비",AI47<>""),"OK","@@"))) | AN47: {=IF(D47="","",INDEX(구분표!$I$2:$I$319, MATCH(1,(구분표!$E$2:$E$319='1추일출'!C47)*(구분표!$F$2:$F$319='1추일출'!D47)*(구분표!$G$2:$G$319='1추일출'!B47),0)))} | AR47: =IF(O47<0,O47,0) -> 0 | AS47: =IF(O47>0,O47,0) -> 0
A48: =COUNTA($C$8:C48)-COUNTBLANK($C$8:C48)+3 -> 0 | B48: =IF(C48="","",MID($B$40,2,7)) | C48: =IF(D48="","",VLOOKUP(D48,구분표!$A$3:$C$223,3,)) | K48: =I48-J48 -> 0 | N48: =I48+L48+M48 -> 0 | O48: =R48-N48 -> 0 | R48: =I48+P48+Q48 -> 0 | S48: =IF(AND((N48=0),(R48>0)),"O",IF(AND((L48<0),(N48-R48<0)),"O","X")) -> X | Z48: =IF($Y48<>"도비",IF($W48="국도비","직접입력",SUM($L48:$M48)),) -> 0 | AA48: =IF($Y48="도비",SUM($L48:$M48),IF($W48="국도비","직접입력",SUM($L48:$M48)-$Z48)) -> 0 | AB48: =IF(SUM($L48:$M48)=SUM($Z48:$AA48),"OK","검토") -> OK | AE48: =IF($Y48<>"도비",IF($W48="국도비","직접입력",SUM($P48:$Q48)),) -> 0 | AF48: =IF($Y48="도비",SUM(P48:Q48),IF($W48="국도비","직접입력",SUM(P48:Q48)-AE48)) -> 0 | AG48: =IF(SUM(P48:Q48)=SUM(AE48:AF48),"OK","검토") -> OK | AI48: =IF(W48="","",IF(W48="도비","세입없음","직접입력")) | AK48: =IF(AI48="","",COUNTIF($AI$7:$AI$112,AI48)) | AL48: =IF(Y48="","",IF(AND(Y48="도비",AI48="세입없음"),"OK",IF(AND(Y48<>"도비",AI48<>""),"OK","@@"))) | AN48: {=IF(D48="","",INDEX(구분표!$I$2:$I$319, MATCH(1,(구분표!$E$2:$E$319='1추일출'!C48)*(구분표!$F$2:$F$319='1추일출'!D48)*(구분표!$G$2:$G$319='1추일출'!B48),0)))} | AR48: =IF(O48<0,O48,0) -> 0 | AS48: =IF(O48>0,O48,0) -> 0
A49: =COUNTA($C$8:C49)-COUNTBLANK($C$8:C49)+3 -> 0 | B49: =IF(C49="","",MID($B$40,2,7)) | C49: =IF(D49="","",VLOOKUP(D49,구분표!$A$3:$C$223,3,)) | K49: =I49-J49 -> 0 | N49: =I49+L49+M49 -> 0 | O49: =R49-N49 -> 0 | R49: =I49+P49+Q49 -> 0 | S49: =IF(AND((N49=0),(R49>0)),"O",IF(AND((L49<0),(N49-R49<0)),"O","X")) -> X | Z49: =IF($Y49<>"도비",IF($W49="국도비","직접입력",SUM($L49:$M49)),) -> 0 | AA49: =IF($Y49="도비",SUM($L49:$M49),IF($W49="국도비","직접입력",SUM($L49:$M49)-$Z49)) -> 0 | AB49: =IF(SUM($L49:$M49)=SUM($Z49:$AA49),"OK","검토") -> OK | AE49: =IF($Y49<>"도비",IF($W49="국도비","직접입력",SUM($P49:$Q49)),) -> 0 | AF49: =IF($Y49="도비",SUM(P49:Q49),IF($W49="국도비","직접입력",SUM(P49:Q49)-AE49)) -> 0 | AG49: =IF(SUM(P49:Q49)=SUM(AE49:AF49),"OK","검토") -> OK | AI49: =IF(W49="","",IF(W49="도비","세입없음","직접입력")) | AK49: =IF(AI49="","",COUNTIF($AI$7:$AI$112,AI49)) | AL49: =IF(Y49="","",IF(AND(Y49="도비",AI49="세입없음"),"OK",IF(AND(Y49<>"도비",AI49<>""),"OK","@@"))) | AN49: {=IF(D49="","",INDEX(구분표!$I$2:$I$319, MATCH(1,(구분표!$E$2:$E$319='1추일출'!C49)*(구분표!$F$2:$F$319='1추일출'!D49)*(구분표!$G$2:$G$319='1추일출'!B49),0)))} | AR49: =IF(O49<0,O49,0) -> 0 | AS49: =IF(O49>0,O49,0) -> 0
A50: =COUNTA($C$8:C50)-COUNTBLANK($C$8:C50)+3 -> 0 | B50: =IF(C50="","",MID($B$40,2,7)) | C50: =IF(D50="","",VLOOKUP(D50,구분표!$A$3:$C$223,3,)) | K50: =I50-J50 -> 0 | N50: =I50+L50+M50 -> 0 | O50: =R50-N50 -> 0 | R50: =I50+P50+Q50 -> 0 | S50: =IF(AND((N50=0),(R50>0)),"O",IF(AND((L50<0),(N50-R50<0)),"O","X")) -> X | Z50: =IF($Y50<>"도비",IF($W50="국도비","직접입력",SUM($L50:$M50)),) -> 0 | AA50: =IF($Y50="도비",SUM($L50:$M50),IF($W50="국도비","직접입력",SUM($L50:$M50)-$Z50)) -> 0 | AB50: =IF(SUM($L50:$M50)=SUM($Z50:$AA50),"OK","검토") -> OK | AE50: =IF($Y50<>"도비",IF($W50="국도비","직접입력",SUM($P50:$Q50)),) -> 0 | AF50: =IF($Y50="도비",SUM(P50:Q50),IF($W50="국도비","직접입력",SUM(P50:Q50)-AE50)) -> 0 | AG50: =IF(SUM(P50:Q50)=SUM(AE50:AF50),"OK","검토") -> OK | AI50: =IF(W50="","",IF(W50="도비","세입없음","직접입력")) | AK50: =IF(AI50="","",COUNTIF($AI$7:$AI$112,AI50)) | AL50: =IF(Y50="","",IF(AND(Y50="도비",AI50="세입없음"),"OK",IF(AND(Y50<>"도비",AI50<>""),"OK","@@"))) | AN50: {=IF(D50="","",INDEX(구분표!$I$2:$I$319, MATCH(1,(구분표!$E$2:$E$319='1추일출'!C50)*(구분표!$F$2:$F$319='1추일출'!D50)*(구분표!$G$2:$G$319='1추일출'!B50),0)))} | AR50: =IF(O50<0,O50,0) -> 0 | AS50: =IF(O50>0,O50,0) -> 0
B51: (문화체육관광위원회) | I51: =SUBTOTAL(9,I52:I57) -> 39727000 | J51: =SUBTOTAL(9,J52:J57) -> 39077000 | K51: =SUBTOTAL(9,K52:K57) -> 650000 | L51: =SUBTOTAL(9,L52:L57) -> -100000 | M51: =SUBTOTAL(9,M52:M57) -> 296783 | N51: =SUBTOTAL(9,N52:N57) -> 39923783 | O51: =SUBTOTAL(9,O52:O57) -> -196783 | P51: =SUBTOTAL(9,P52:P57) -> 0 | ... R51: =SUBTOTAL(9,R52:R57) -> 39727000 | AR51: =SUBTOTAL(9,AR52:AR57) -> -270000 | AS51: =SUBTOTAL(9,AS52:AS57) -> 100000
A52: =COUNTA($C$8:C52)-COUNTBLANK($C$8:C52)+4 -> 1 | B52: 문화체육관광위원회 | C52: 문화체육관광국 | D52: 문화정책과 | E52: 1회추경 | F52: 487 | G52: 109 | H52: 경기문화재단 운영(자체/직접) - 경기문화재단 운영 | I52: 39377000 | J52: 39077000 | K52: =I52-J52 -> 300000 | M52: 200000 | N52: =I52+L52+M52 -> 39577000 | O52: =R52-N52 -> -200000 | R52: =I52+P52+Q52 -> 39377000 | S52: =IF(AND((N52=0),(R52>0)),"O",IF(AND((L52<0),(N52-R52<0)),"O","X")) -> X | W52: 도비 | Y52: 도비 | Z52: =IF($Y52<>"도비",IF($W52="국도비","직접입력",SUM($L52:$M52)),) -> 0 | AA52: =IF($Y52="도비",SUM($L52:$M52),IF($W52="국도비","직접입력",SUM($L52:$M52)-$Z52)) -> 200000 | AB52: =IF(SUM($L52:$M52)=SUM($Z52:$AA52),"OK","검토") -> OK | AD52: 도비 | AE52: =IF($Y52<>"도비",IF($W52="국도비","직접입력",SUM($P52:$Q52)),) -> 0 | AF52: =IF($Y52="도비",SUM(P52:Q52),IF($W52="국도비","직접입력",SUM(P52:Q52)-AE52)) -> 0 | AG52: =IF(SUM(P52:Q52)=SUM(AE52:AF52),"OK","검토") -> OK | AI52: =IF(W52="","",IF(W52="도비","세입없음","직접입력")) -> 세입없음 | AK52: =IF(AI52="","",COUNTIF($AI$7:$AI$112,AI52)) -> 4 | AL52: =IF(Y52="","",IF(AND(Y52="도비",AI52="세입없음"),"OK",IF(AND(Y52<>"도비",AI52<>""),"OK","@@"))) -> OK | AN52: {=IF(D52="","",INDEX(구분표!$I$2:$I$319, MATCH(1,(구분표!$E$2:$E$319='1추일출'!C52)*(구분표!$F$2:$F$319='1추일출'!D52)*(구분표!$G$2:$G$319='1추일출'!B52),0)))} -> 10801 | AR52: =IF(O52<0,O52,0) -> -200000 | AS52: =IF(O52>0,O52,0) -> 0
A53: 2 | B53: 문화체육관광위원회 | C53: 문화체육관광국 | D53: 체육과 | E53: 본예산 | H53: 장애인 생활체육(자체/직접) - 장애인 어울림대회 등 개최 지원 | K53: =I53-J53 -> 0 | M53: 20000 | N53: =I53+L53+M53 -> 20000 | O53: =R53-N53 -> -20000 | R53: =I53+P53+Q53 -> 0 | S53: =IF(AND((N53=0),(R53>0)),"O",IF(AND((L53<0),(N53-R53<0)),"O","X")) -> X | W53: 도비 | Y53: 도비 | Z53: =IF($Y53<>"도비",IF($W53="국도비","직접입력",SUM($L53:$M53)),) -> 0 | AA53: =IF($Y53="도비",SUM($L53:$M53),IF($W53="국도비","직접입력",SUM($L53:$M53)-$Z53)) -> 20000 | AB53: =IF(SUM($L53:$M53)=SUM($Z53:$AA53),"OK","검토") -> OK | AD53: 도비 | AE53: =IF($Y53<>"도비",IF($W53="국도비","직접입력",SUM($P53:$Q53)),) -> 0 | AF53: =IF($Y53="도비",SUM(P53:Q53),IF($W53="국도비","직접입력",SUM(P53:Q53)-AE53)) -> 0 | AG53: =IF(SUM(P53:Q53)=SUM(AE53:AF53),"OK","검토") -> OK | AI53: =IF(W53="","",IF(W53="도비","세입없음","직접입력")) -> 세입없음 | AK53: =IF(AI53="","",COUNTIF($AI$7:$AI$112,AI53)) -> 4 | AL53: =IF(Y53="","",IF(AND(Y53="도비",AI53="세입없음"),"OK",IF(AND(Y53<>"도비",AI53<>""),"OK","@@"))) -> OK | AN53: {=IF(D53="","",INDEX(구분표!$I$2:$I$319, MATCH(1,(구분표!$E$2:$E$319='1추일출'!C53)*(구분표!$F$2:$F$319='1추일출'!D53)*(구분표!$G$2:$G$319='1추일출'!B53),0)))} -> 10803 | AR53: =IF(O53<0,O53,0) -> -20000 | AS53: =IF(O53>0,O53,0) -> 0
A54: =COUNTA($C$8:C54)-COUNTBLANK($C$8:C54)+4 -> 3 | B54: 문화체육관광위원회 | C54: 문화체육관광국 | D54: 문화유산과 | E54: 1회추경 | F54: 495 | G54: 197 | H54: 경기도 옛길 관리운영(자체/직접) - 신설 역사문화탐방로 고증 및 탐방로 개척 | I54: 250000 | J54: 0 | K54: =I54-J54 -> 250000 | L54: -100000 | N54: =I54+L54+M54 -> 150000 | O54: =R54-N54 -> 100000 | R54: =I54+P54+Q54 -> 250000 | S54: =IF(AND((N54=0),(R54>0)),"O",IF(AND((L54<0),(N54-R54<0)),"O","X")) -> O | W54: 도비 | Y54: 도비 | Z54: =IF($Y54<>"도비",IF($W54="국도비","직접입력",SUM($L54:$M54)),) -> 0 | AA54: =IF($Y54="도비",SUM($L54:$M54),IF($W54="국도비","직접입력",SUM($L54:$M54)-$Z54)) -> -100000 | AB54: =IF(SUM($L54:$M54)=SUM($Z54:$AA54),"OK","검토") -> OK | AD54: 도비 | AE54: =IF($Y54<>"도비",IF($W54="국도비","직접입력",SUM($P54:$Q54)),) -> 0 | AF54: =IF($Y54="도비",SUM(P54:Q54),IF($W54="국도비","직접입력",SUM(P54:Q54)-AE54)) -> 0 | AG54: =IF(SUM(P54:Q54)=SUM(AE54:AF54),"OK","검토") -> OK | AI54: =IF(W54="","",IF(W54="도비","세입없음","직접입력")) -> 세입없음 | AK54: =IF(AI54="","",COUNTIF($AI$7:$AI$112,AI54)) -> 4 | AL54: =IF(Y54="","",IF(AND(Y54="도비",AI54="세입없음"),"OK",IF(AND(Y54<>"도비",AI54<>""),"OK","@@"))) -> OK | AN54: {=IF(D54="","",INDEX(구분표!$I$2:$I$319, MATCH(1,(구분표!$E$2:$E$319='1추일출'!C54)*(구분표!$F$2:$F$319='1추일출'!D54)*(구분표!$G$2:$G$319='1추일출'!B54),0)))} -> 10804 | AR54: =IF(O54<0,O54,0) -> 0 | AS54: =IF(O54>0,O54,0) -> 100000
A55: =COUNTA($C$8:C55)-COUNTBLANK($C$8:C55)+4 -> 4 | B55: 문화체육관광위원회 | C55: 문화체육관광국 | D55: 문화유산과 | E55: 1회추경 | F55: 495 | G55: 205 | H55: 경기도 지정문화재 아카이브 구축(자체/직접) - 경기도 지정문화재 아카이브 구축 | I55: 100000 | J55: 0 | K55: =I55-J55 -> 100000 | M55: 50000 | N55: =I55+L55+M55 -> 150000 | O55: =R55-N55 -> -50000 | R55: =I55+P55+Q55 -> 100000 | S55: =IF(AND((N55=0),(R55>0)),"O",IF(AND((L55<0),(N55-R55<0)),"O","X")) -> X | W55: 도비 | Y55: 도비 | Z55: =IF($Y55<>"도비",IF($W55="국도비","직접입력",SUM($L55:$M55)),) -> 0 | AA55: =IF($Y55="도비",SUM($L55:$M55),IF($W55="국도비","직접입력",SUM($L55:$M55)-$Z55)) -> 50000 | AB55: =IF(SUM($L55:$M55)=SUM($Z55:$AA55),"OK","검토") -> OK | AD55: 도비 | AE55: =IF($Y55<>"도비",IF($W55="국도비","직접입력",SUM($P55:$Q55)),) -> 0 | AF55: =IF($Y55="도비",SUM(P55:Q55),IF($W55="국도비","직접입력",SUM(P55:Q55)-AE55)) -> 0 | AG55: =IF(SUM(P55:Q55)=SUM(AE55:AF55),"OK","검토") -> OK | AI55: =IF(W55="","",IF(W55="도비","세입없음","직접입력")) -> 세입없음 | AK55: =IF(AI55="","",COUNTIF($AI$7:$AI$112,AI55)) -> 4 | AL55: =IF(Y55="","",IF(AND(Y55="도비",AI55="세입없음"),"OK",IF(AND(Y55<>"도비",AI55<>""),"OK","@@"))) -> OK | AN55: {=IF(D55="","",INDEX(구분표!$I$2:$I$319, MATCH(1,(구분표!$E$2:$E$319='1추일출'!C55)*(구분표!$F$2:$F$319='1추일출'!D55)*(구분표!$G$2:$G$319='1추일출'!B55),0)))} -> 10804 | AR55: =IF(O55<0,O55,0) -> -50000 | AS55: =IF(O55>0,O55,0) -> 0
A56: 5 | B56: 문화체육관광위원회 | C56: 문화체육관광국 | D56: 문화유산과 | E56: 신규 | H56: 문화유산관광자원화(시흥 오이동 유적)(지특/지원) -오이도 유적종합정비 및 역사공원 조성 | K56: =I56-J56 -> 0 | M56: 26783 | N56: =I56+L56+M56 -> 26783 | O56: =R56-N56 -> -26783 | S56: =IF(AND((N56=0),(R56>0)),"O",IF(AND((L56<0),(N56-R56<0)),"O","X")) -> X | W56: 국도비 | Y56: 지특 | Z56: =IF($Y56<>"도비",IF($W56="국도비","직접입력",SUM($L56:$M56)),) -> 직접입력 | AA56: =IF($Y56="도비",SUM($L56:$M56),IF($W56="국도비","직접입력",SUM($L56:$M56)-$Z56)) -> 직접입력 | AB56: =IF(SUM($L56:$M56)=SUM($Z56:$AA56),"OK","검토") -> 검토 | AD56: 지특 | AE56: =IF($Y56<>"도비",IF($W56="국도비","직접입력",SUM($P56:$Q56)),) -> 직접입력 | AF56: =IF($Y56="도비",SUM(P56:Q56),IF($W56="국도비","직접입력",SUM(P56:Q56)-AE56)) -> 직접입력 | AG56: =IF(SUM(P56:Q56)=SUM(AE56:AF56),"OK","검토") -> OK | AI56: =IF(W56="","",IF(W56="도비","세입없음","직접입력")) -> 직접입력 | AK56: =IF(AI56="","",COUNTIF($AI$7:$AI$112,AI56)) -> 1 | AL56: =IF(Y56="","",IF(AND(Y56="도비",AI56="세입없음"),"OK",IF(AND(Y56<>"도비",AI56<>""),"OK","@@"))) -> OK | AN56: {=IF(D56="","",INDEX(구분표!$I$2:$I$319, MATCH(1,(구분표!$E$2:$E$319='1추일출'!C56)*(구분표!$F$2:$F$319='1추일출'!D56)*(구분표!$G$2:$G$319='1추일출'!B56),0)))} -> 10804
B57: =IF(C57="","",MID($B$51,2,9)) | C57: =IF(D57="","",VLOOKUP(D57,구분표!$A$3:$C$223,3,)) | K57: =I57-J57 -> 0 | N57: =I57+L57+M57 -> 0 | O57: =R57-N57 -> 0 | R57: =I57+P57+Q57 -> 0 | S57: =IF(AND((N57=0),(R57>0)),"O",IF(AND((L57<0),(N57-R57<0)),"O","X")) -> X | Z57: =IF($Y57<>"도비",IF($W57="국도비","직접입력",SUM($L57:$M57)),) -> 0 | AA57: =IF($Y57="도비",SUM($L57:$M57),IF($W57="국도비","직접입력",SUM($L57:$M57)-$Z57)) -> 0 | AB57: =IF(SUM($L57:$M57)=SUM($Z57:$AA57),"OK","검토") -> OK | AE57: =IF($Y57<>"도비",IF($W57="국도비","직접입력",SUM($P57:$Q57)),) -> 0 | AF57: =IF($Y57="도비",SUM(P57:Q57),IF($W57="국도비","직접입력",SUM(P57:Q57)-AE57)) -> 0 | AG57: =IF(SUM(P57:Q57)=SUM(AE57:AF57),"OK","검토") -> OK | AI57: =IF(W57="","",IF(W57="도비","세입없음","직접입력")) | AK57: =IF(AI57="","",COUNTIF($AI$7:$AI$112,AI57)) | AL57: =IF(Y57="","",IF(AND(Y57="도비",AI57="세입없음"),"OK",IF(AND(Y57<>"도비",AI57<>""),"OK","@@"))) | AN57: {=IF(D57="","",INDEX(구분표!$I$2:$I$319, MATCH(1,(구분표!$E$2:$E$319='1추일출'!C57)*(구분표!$F$2:$F$319='1추일출'!D57)*(구분표!$G$2:$G$319='1추일출'!B57),0)))} | AR57: =IF(O57<0,O57,0) -> 0 | AS57: =IF(O57>0,O57,0) -> 0
B58: (농정해양위원회) | I58: =SUBTOTAL(9,I59:I68) -> 0 | J58: =SUBTOTAL(9,J59:J68) -> 0 | K58: =SUBTOTAL(9,K59:K68) -> 0 | L58: =SUBTOTAL(9,L59:L68) -> 0 | M58: =SUBTOTAL(9,M59:M68) -> 0 | N58: =SUBTOTAL(9,N59:N68) -> 0 | O58: =SUBTOTAL(9,O59:O68) -> 0 | P58: =SUBTOTAL(9,P59:P68) -> 0 | ... R58: =SUBTOTAL(9,R59:R68) -> 0 | AR58: =SUBTOTAL(9,AR59:AR68) -> 0 | AS58: =SUBTOTAL(9,AS59:AS68) -> 0
A59: =COUNTA($C$8:C59)-COUNTBLANK($C$8:C59)+5 -> 5 | B59: =IF(C59="","",MID($B$58,2,7)) | C59: =IF(D59="","",VLOOKUP(D59,구분표!$A$3:$C$223,3,)) | K59: =I59-J59 -> 0 | N59: =I59+L59+M59 -> 0 | O59: =R59-N59 -> 0 | R59: =I59+P59+Q59 -> 0 | S59: =IF(AND((N59=0),(R59>0)),"O",IF(AND((L59<0),(N59-R59<0)),"O","X")) -> X | Z59: =IF($Y59<>"도비",IF($W59="국도비","직접입력",SUM($L59:$M59)),) -> 0 | AA59: =IF($Y59="도비",SUM($L59:$M59),IF($W59="국도비","직접입력",SUM($L59:$M59)-$Z59)) -> 0 | AB59: =IF(SUM($L59:$M59)=SUM($Z59:$AA59),"OK","검토") -> OK | AE59: =IF($Y59<>"도비",IF($W59="국도비","직접입력",SUM($P59:$Q59)),) -> 0 | AF59: =IF($Y59="도비",SUM(P59:Q59),IF($W59="국도비","직접입력",SUM(P59:Q59)-AE59)) -> 0 | AG59: =IF(SUM(P59:Q59)=SUM(AE59:AF59),"OK","검토") -> OK | AI59: =IF(W59="","",IF(W59="도비","세입없음","직접입력")) | AK59: =IF(AI59="","",COUNTIF($AI$7:$AI$112,AI59)) | AL59: =IF(Y59="","",IF(AND(Y59="도비",AI59="세입없음"),"OK",IF(AND(Y59<>"도비",AI59<>""),"OK","@@"))) | AN59: {=IF(D59="","",INDEX(구분표!$I$2:$I$319, MATCH(1,(구분표!$E$2:$E$319='1추일출'!C59)*(구분표!$F$2:$F$319='1추일출'!D59)*(구분표!$G$2:$G$319='1추일출'!B59),0)))} | AR59: =IF(O59<0,O59,0) -> 0 | AS59: =IF(O59>0,O59,0) -> 0
A60: =COUNTA($C$8:C60)-COUNTBLANK($C$8:C60)+5 -> 5 | B60: =IF(C60="","",MID($B$58,2,7)) | C60: =IF(D60="","",VLOOKUP(D60,구분표!$A$3:$C$223,3,)) | K60: =I60-J60 -> 0 | N60: =I60+L60+M60 -> 0 | O60: =R60-N60 -> 0 | R60: =I60+P60+Q60 -> 0 | S60: =IF(AND((N60=0),(R60>0)),"O",IF(AND((L60<0),(N60-R60<0)),"O","X")) -> X | Z60: =IF($Y60<>"도비",IF($W60="국도비","직접입력",SUM($L60:$M60)),) -> 0 | AA60: =IF($Y60="도비",SUM($L60:$M60),IF($W60="국도비","직접입력",SUM($L60:$M60)-$Z60)) -> 0 | AB60: =IF(SUM($L60:$M60)=SUM($Z60:$AA60),"OK","검토") -> OK | AE60: =IF($Y60<>"도비",IF($W60="국도비","직접입력",SUM($P60:$Q60)),) -> 0 | AF60: =IF($Y60="도비",SUM(P60:Q60),IF($W60="국도비","직접입력",SUM(P60:Q60)-AE60)) -> 0 | AG60: =IF(SUM(P60:Q60)=SUM(AE60:AF60),"OK","검토") -> OK | AI60: =IF(W60="","",IF(W60="도비","세입없음","직접입력")) | AK60: =IF(AI60="","",COUNTIF($AI$7:$AI$112,AI60)) | AL60: =IF(Y60="","",IF(AND(Y60="도비",AI60="세입없음"),"OK",IF(AND(Y60<>"도비",AI60<>""),"OK","@@"))) | AN60: {=IF(D60="","",INDEX(구분표!$I$2:$I$319, MATCH(1,(구분표!$E$2:$E$319='1추일출'!C60)*(구분표!$F$2:$F$319='1추일출'!D60)*(구분표!$G$2:$G$319='1추일출'!B60),0)))} | AR60: =IF(O60<0,O60,0) -> 0 | AS60: =IF(O60>0,O60,0) -> 0
A61: =COUNTA($C$8:C61)-COUNTBLANK($C$8:C61)+5 -> 5 | B61: =IF(C61="","",MID($B$58,2,7)) | C61: =IF(D61="","",VLOOKUP(D61,구분표!$A$3:$C$223,3,)) | K61: =I61-J61 -> 0 | N61: =I61+L61+M61 -> 0 | O61: =R61-N61 -> 0 | R61: =I61+P61+Q61 -> 0 | S61: =IF(AND((N61=0),(R61>0)),"O",IF(AND((L61<0),(N61-R61<0)),"O","X")) -> X | Z61: =IF($Y61<>"도비",IF($W61="국도비","직접입력",SUM($L61:$M61)),) -> 0 | AA61: =IF($Y61="도비",SUM($L61:$M61),IF($W61="국도비","직접입력",SUM($L61:$M61)-$Z61)) -> 0 | AB61: =IF(SUM($L61:$M61)=SUM($Z61:$AA61),"OK","검토") -> OK | AE61: =IF($Y61<>"도비",IF($W61="국도비","직접입력",SUM($P61:$Q61)),) -> 0 | AF61: =IF($Y61="도비",SUM(P61:Q61),IF($W61="국도비","직접입력",SUM(P61:Q61)-AE61)) -> 0 | AG61: =IF(SUM(P61:Q61)=SUM(AE61:AF61),"OK","검토") -> OK | AI61: =IF(W61="","",IF(W61="도비","세입없음","직접입력")) | AK61: =IF(AI61="","",COUNTIF($AI$7:$AI$112,AI61)) | AL61: =IF(Y61="","",IF(AND(Y61="도비",AI61="세입없음"),"OK",IF(AND(Y61<>"도비",AI61<>""),"OK","@@"))) | AN61: {=IF(D61="","",INDEX(구분표!$I$2:$I$319, MATCH(1,(구분표!$E$2:$E$319='1추일출'!C61)*(구분표!$F$2:$F$319='1추일출'!D61)*(구분표!$G$2:$G$319='1추일출'!B61),0)))} | AR61: =IF(O61<0,O61,0) -> 0 | AS61: =IF(O61>0,O61,0) -> 0
A62: =COUNTA($C$8:C62)-COUNTBLANK($C$8:C62)+5 -> 5 | B62: =IF(C62="","",MID($B$58,2,7)) | C62: =IF(D62="","",VLOOKUP(D62,구분표!$A$3:$C$223,3,)) | K62: =I62-J62 -> 0 | N62: =I62+L62+M62 -> 0 | O62: =R62-N62 -> 0 | R62: =I62+P62+Q62 -> 0 | S62: =IF(AND((N62=0),(R62>0)),"O",IF(AND((L62<0),(N62-R62<0)),"O","X")) -> X | Z62: =IF($Y62<>"도비",IF($W62="국도비","직접입력",SUM($L62:$M62)),) -> 0 | AA62: =IF($Y62="도비",SUM($L62:$M62),IF($W62="국도비","직접입력",SUM($L62:$M62)-$Z62)) -> 0 | AB62: =IF(SUM($L62:$M62)=SUM($Z62:$AA62),"OK","검토") -> OK | AE62: =IF($Y62<>"도비",IF($W62="국도비","직접입력",SUM($P62:$Q62)),) -> 0 | AF62: =IF($Y62="도비",SUM(P62:Q62),IF($W62="국도비","직접입력",SUM(P62:Q62)-AE62)) -> 0 | AG62: =IF(SUM(P62:Q62)=SUM(AE62:AF62),"OK","검토") -> OK | AI62: =IF(W62="","",IF(W62="도비","세입없음","직접입력")) | AK62: =IF(AI62="","",COUNTIF($AI$7:$AI$112,AI62)) | AL62: =IF(Y62="","",IF(AND(Y62="도비",AI62="세입없음"),"OK",IF(AND(Y62<>"도비",AI62<>""),"OK","@@"))) | AN62: {=IF(D62="","",INDEX(구분표!$I$2:$I$319, MATCH(1,(구분표!$E$2:$E$319='1추일출'!C62)*(구분표!$F$2:$F$319='1추일출'!D62)*(구분표!$G$2:$G$319='1추일출'!B62),0)))} | AR62: =IF(O62<0,O62,0) -> 0 | AS62: =IF(O62>0,O62,0) -> 0
A63: =COUNTA($C$8:C63)-COUNTBLANK($C$8:C63)+5 -> 5 | B63: =IF(C63="","",MID($B$58,2,7)) | C63: =IF(D63="","",VLOOKUP(D63,구분표!$A$3:$C$223,3,)) | K63: =I63-J63 -> 0 | N63: =I63+L63+M63 -> 0 | O63: =R63-N63 -> 0 | R63: =I63+P63+Q63 -> 0 | S63: =IF(AND((N63=0),(R63>0)),"O",IF(AND((L63<0),(N63-R63<0)),"O","X")) -> X | Z63: =IF($Y63<>"도비",IF($W63="국도비","직접입력",SUM($L63:$M63)),) -> 0 | AA63: =IF($Y63="도비",SUM($L63:$M63),IF($W63="국도비","직접입력",SUM($L63:$M63)-$Z63)) -> 0 | AB63: =IF(SUM($L63:$M63)=SUM($Z63:$AA63),"OK","검토") -> OK | AE63: =IF($Y63<>"도비",IF($W63="국도비","직접입력",SUM($P63:$Q63)),) -> 0 | AF63: =IF($Y63="도비",SUM(P63:Q63),IF($W63="국도비","직접입력",SUM(P63:Q63)-AE63)) -> 0 | AG63: =IF(SUM(P63:Q63)=SUM(AE63:AF63),"OK","검토") -> OK | AI63: =IF(W63="","",IF(W63="도비","세입없음","직접입력")) | AK63: =IF(AI63="","",COUNTIF($AI$7:$AI$112,AI63)) | AL63: =IF(Y63="","",IF(AND(Y63="도비",AI63="세입없음"),"OK",IF(AND(Y63<>"도비",AI63<>""),"OK","@@"))) | AN63: {=IF(D63="","",INDEX(구분표!$I$2:$I$319, MATCH(1,(구분표!$E$2:$E$319='1추일출'!C63)*(구분표!$F$2:$F$319='1추일출'!D63)*(구분표!$G$2:$G$319='1추일출'!B63),0)))} | AR63: =IF(O63<0,O63,0) -> 0 | AS63: =IF(O63>0,O63,0) -> 0
A64: =COUNTA($C$8:C64)-COUNTBLANK($C$8:C64)+5 -> 5 | B64: =IF(C64="","",MID($B$58,2,7)) | C64: =IF(D64="","",VLOOKUP(D64,구분표!$A$3:$C$223,3,)) | K64: =I64-J64 -> 0 | N64: =I64+L64+M64 -> 0 | O64: =R64-N64 -> 0 | R64: =I64+P64+Q64 -> 0 | S64: =IF(AND((N64=0),(R64>0)),"O",IF(AND((L64<0),(N64-R64<0)),"O","X")) -> X | Z64: =IF($Y64<>"도비",IF($W64="국도비","직접입력",SUM($L64:$M64)),) -> 0 | AA64: =IF($Y64="도비",SUM($L64:$M64),IF($W64="국도비","직접입력",SUM($L64:$M64)-$Z64)) -> 0 | AB64: =IF(SUM($L64:$M64)=SUM($Z64:$AA64),"OK","검토") -> OK | AE64: =IF($Y64<>"도비",IF($W64="국도비","직접입력",SUM($P64:$Q64)),) -> 0 | AF64: =IF($Y64="도비",SUM(P64:Q64),IF($W64="국도비","직접입력",SUM(P64:Q64)-AE64)) -> 0 | AG64: =IF(SUM(P64:Q64)=SUM(AE64:AF64),"OK","검토") -> OK | AI64: =IF(W64="","",IF(W64="도비","세입없음","직접입력")) | AK64: =IF(AI64="","",COUNTIF($AI$7:$AI$112,AI64)) | AL64: =IF(Y64="","",IF(AND(Y64="도비",AI64="세입없음"),"OK",IF(AND(Y64<>"도비",AI64<>""),"OK","@@"))) | AN64: {=IF(D64="","",INDEX(구분표!$I$2:$I$319, MATCH(1,(구분표!$E$2:$E$319='1추일출'!C64)*(구분표!$F$2:$F$319='1추일출'!D64)*(구분표!$G$2:$G$319='1추일출'!B64),0)))} | AR64: =IF(O64<0,O64,0) -> 0 | AS64: =IF(O64>0,O64,0) -> 0
A65: =COUNTA($C$8:C65)-COUNTBLANK($C$8:C65)+5 -> 5 | B65: =IF(C65="","",MID($B$58,2,7)) | C65: =IF(D65="","",VLOOKUP(D65,구분표!$A$3:$C$223,3,)) | K65: =I65-J65 -> 0 | N65: =I65+L65+M65 -> 0 | O65: =R65-N65 -> 0 | R65: =I65+P65+Q65 -> 0 | S65: =IF(AND((N65=0),(R65>0)),"O",IF(AND((L65<0),(N65-R65<0)),"O","X")) -> X | Z65: =IF($Y65<>"도비",IF($W65="국도비","직접입력",SUM($L65:$M65)),) -> 0 | AA65: =IF($Y65="도비",SUM($L65:$M65),IF($W65="국도비","직접입력",SUM($L65:$M65)-$Z65)) -> 0 | AB65: =IF(SUM($L65:$M65)=SUM($Z65:$AA65),"OK","검토") -> OK | AE65: =IF($Y65<>"도비",IF($W65="국도비","직접입력",SUM($P65:$Q65)),) -> 0 | AF65: =IF($Y65="도비",SUM(P65:Q65),IF($W65="국도비","직접입력",SUM(P65:Q65)-AE65)) -> 0 | AG65: =IF(SUM(P65:Q65)=SUM(AE65:AF65),"OK","검토") -> OK | AI65: =IF(W65="","",IF(W65="도비","세입없음","직접입력")) | AK65: =IF(AI65="","",COUNTIF($AI$7:$AI$112,AI65)) | AL65: =IF(Y65="","",IF(AND(Y65="도비",AI65="세입없음"),"OK",IF(AND(Y65<>"도비",AI65<>""),"OK","@@"))) | AN65: {=IF(D65="","",INDEX(구분표!$I$2:$I$319, MATCH(1,(구분표!$E$2:$E$319='1추일출'!C65)*(구분표!$F$2:$F$319='1추일출'!D65)*(구분표!$G$2:$G$319='1추일출'!B65),0)))} | AR65: =IF(O65<0,O65,0) -> 0 | AS65: =IF(O65>0,O65,0) -> 0
A66: =COUNTA($C$8:C66)-COUNTBLANK($C$8:C66)+5 -> 5 | B66: =IF(C66="","",MID($B$58,2,7)) | C66: =IF(D66="","",VLOOKUP(D66,구분표!$A$3:$C$223,3,)) | K66: =I66-J66 -> 0 | N66: =I66+L66+M66 -> 0 | O66: =R66-N66 -> 0 | R66: =I66+P66+Q66 -> 0 | S66: =IF(AND((N66=0),(R66>0)),"O",IF(AND((L66<0),(N66-R66<0)),"O","X")) -> X | Z66: =IF($Y66<>"도비",IF($W66="국도비","직접입력",SUM($L66:$M66)),) -> 0 | AA66: =IF($Y66="도비",SUM($L66:$M66),IF($W66="국도비","직접입력",SUM($L66:$M66)-$Z66)) -> 0 | AB66: =IF(SUM($L66:$M66)=SUM($Z66:$AA66),"OK","검토") -> OK | AE66: =IF($Y66<>"도비",IF($W66="국도비","직접입력",SUM($P66:$Q66)),) -> 0 | AF66: =IF($Y66="도비",SUM(P66:Q66),IF($W66="국도비","직접입력",SUM(P66:Q66)-AE66)) -> 0 | AG66: =IF(SUM(P66:Q66)=SUM(AE66:AF66),"OK","검토") -> OK | AI66: =IF(W66="","",IF(W66="도비","세입없음","직접입력")) | AK66: =IF(AI66="","",COUNTIF($AI$7:$AI$112,AI66)) | AL66: =IF(Y66="","",IF(AND(Y66="도비",AI66="세입없음"),"OK",IF(AND(Y66<>"도비",AI66<>""),"OK","@@"))) | AN66: {=IF(D66="","",INDEX(구분표!$I$2:$I$319, MATCH(1,(구분표!$E$2:$E$319='1추일출'!C66)*(구분표!$F$2:$F$319='1추일출'!D66)*(구분표!$G$2:$G$319='1추일출'!B66),0)))} | AR66: =IF(O66<0,O66,0) -> 0 | AS66: =IF(O66>0,O66,0) -> 0
A67: =COUNTA($C$8:C67)-COUNTBLANK($C$8:C67)+5 -> 5 | B67: =IF(C67="","",MID($B$58,2,7)) | C67: =IF(D67="","",VLOOKUP(D67,구분표!$A$3:$C$223,3,)) | K67: =I67-J67 -> 0 | N67: =I67+L67+M67 -> 0 | O67: =R67-N67 -> 0 | R67: =I67+P67+Q67 -> 0 | S67: =IF(AND((N67=0),(R67>0)),"O",IF(AND((L67<0),(N67-R67<0)),"O","X")) -> X | Z67: =IF($Y67<>"도비",IF($W67="국도비","직접입력",SUM($L67:$M67)),) -> 0 | AA67: =IF($Y67="도비",SUM($L67:$M67),IF($W67="국도비","직접입력",SUM($L67:$M67)-$Z67)) -> 0 | AB67: =IF(SUM($L67:$M67)=SUM($Z67:$AA67),"OK","검토") -> OK | AE67: =IF($Y67<>"도비",IF($W67="국도비","직접입력",SUM($P67:$Q67)),) -> 0 | AF67: =IF($Y67="도비",SUM(P67:Q67),IF($W67="국도비","직접입력",SUM(P67:Q67)-AE67)) -> 0 | AG67: =IF(SUM(P67:Q67)=SUM(AE67:AF67),"OK","검토") -> OK | AI67: =IF(W67="","",IF(W67="도비","세입없음","직접입력")) | AK67: =IF(AI67="","",COUNTIF($AI$7:$AI$112,AI67)) | AL67: =IF(Y67="","",IF(AND(Y67="도비",AI67="세입없음"),"OK",IF(AND(Y67<>"도비",AI67<>""),"OK","@@"))) | AN67: {=IF(D67="","",INDEX(구분표!$I$2:$I$319, MATCH(1,(구분표!$E$2:$E$319='1추일출'!C67)*(구분표!$F$2:$F$319='1추일출'!D67)*(구분표!$G$2:$G$319='1추일출'!B67),0)))} | AR67: =IF(O67<0,O67,0) -> 0 | AS67: =IF(O67>0,O67,0) -> 0
A68: =COUNTA($C$8:C68)-COUNTBLANK($C$8:C68)+5 -> 5 | B68: =IF(C68="","",MID($B$58,2,7)) | C68: =IF(D68="","",VLOOKUP(D68,구분표!$A$3:$C$223,3,)) | K68: =I68-J68 -> 0 | N68: =I68+L68+M68 -> 0 | O68: =R68-N68 -> 0 | R68: =I68+P68+Q68 -> 0 | S68: =IF(AND((N68=0),(R68>0)),"O",IF(AND((L68<0),(N68-R68<0)),"O","X")) -> X | Z68: =IF($Y68<>"도비",IF($W68="국도비","직접입력",SUM($L68:$M68)),) -> 0 | AA68: =IF($Y68="도비",SUM($L68:$M68),IF($W68="국도비","직접입력",SUM($L68:$M68)-$Z68)) -> 0 | AB68: =IF(SUM($L68:$M68)=SUM($Z68:$AA68),"OK","검토") -> OK | AE68: =IF($Y68<>"도비",IF($W68="국도비","직접입력",SUM($P68:$Q68)),) -> 0 | AF68: =IF($Y68="도비",SUM(P68:Q68),IF($W68="국도비","직접입력",SUM(P68:Q68)-AE68)) -> 0 | AG68: =IF(SUM(P68:Q68)=SUM(AE68:AF68),"OK","검토") -> OK | AI68: =IF(W68="","",IF(W68="도비","세입없음","직접입력")) | AK68: =IF(AI68="","",COUNTIF($AI$7:$AI$112,AI68)) | AL68: =IF(Y68="","",IF(AND(Y68="도비",AI68="세입없음"),"OK",IF(AND(Y68<>"도비",AI68<>""),"OK","@@"))) | AN68: {=IF(D68="","",INDEX(구분표!$I$2:$I$319, MATCH(1,(구분표!$E$2:$E$319='1추일출'!C68)*(구분표!$F$2:$F$319='1추일출'!D68)*(구분표!$G$2:$G$319='1추일출'!B68),0)))} | AR68: =IF(O68<0,O68,0) -> 0 | AS68: =IF(O68>0,O68,0) -> 0
B69: (보건복지위원회) | I69: =SUBTOTAL(9,I70:I79) -> 0 | J69: =SUBTOTAL(9,J70:J79) -> 0 | K69: =SUBTOTAL(9,K70:K79) -> 0 | L69: =SUBTOTAL(9,L70:L79) -> 0 | M69: =SUBTOTAL(9,M70:M79) -> 0 | N69: =SUBTOTAL(9,N70:N79) -> 0 | O69: =SUBTOTAL(9,O70:O79) -> 0 | P69: =SUBTOTAL(9,P70:P79) -> 0 | ... R69: =SUBTOTAL(9,R70:R79) -> 0 | AR69: =SUBTOTAL(9,AR70:AR79) -> 0 | AS69: =SUBTOTAL(9,AS70:AS79) -> 0
A70: =COUNTA($C$8:C70)-COUNTBLANK($C$8:C70)+6 -> 5 | B70: =IF(C70="","",MID($B$69,2,7)) | C70: =IF(D70="","",VLOOKUP(D70,구분표!$A$3:$C$223,3,)) | K70: =I70-J70 -> 0 | N70: =I70+L70+M70 -> 0 | O70: =R70-N70 -> 0 | R70: =I70+P70+Q70 -> 0 | S70: =IF(AND((N70=0),(R70>0)),"O",IF(AND((L70<0),(N70-R70<0)),"O","X")) -> X | Z70: =IF($Y70<>"도비",IF($W70="국도비","직접입력",SUM($L70:$M70)),) -> 0 | AA70: =IF($Y70="도비",SUM($L70:$M70),IF($W70="국도비","직접입력",SUM($L70:$M70)-$Z70)) -> 0 | AB70: =IF(SUM($L70:$M70)=SUM($Z70:$AA70),"OK","검토") -> OK | AE70: =IF($Y70<>"도비",IF($W70="국도비","직접입력",SUM($P70:$Q70)),) -> 0 | AF70: =IF($Y70="도비",SUM(P70:Q70),IF($W70="국도비","직접입력",SUM(P70:Q70)-AE70)) -> 0 | AG70: =IF(SUM(P70:Q70)=SUM(AE70:AF70),"OK","검토") -> OK | AI70: =IF(W70="","",IF(W70="도비","세입없음","직접입력")) | AK70: =IF(AI70="","",COUNTIF($AI$7:$AI$112,AI70)) | AL70: =IF(Y70="","",IF(AND(Y70="도비",AI70="세입없음"),"OK",IF(AND(Y70<>"도비",AI70<>""),"OK","@@"))) | AN70: {=IF(D70="","",INDEX(구분표!$I$2:$I$319, MATCH(1,(구분표!$E$2:$E$319='1추일출'!C70)*(구분표!$F$2:$F$319='1추일출'!D70)*(구분표!$G$2:$G$319='1추일출'!B70),0)))} | AR70: =IF(O70<0,O70,0) -> 0 | AS70: =IF(O70>0,O70,0) -> 0
A71: =COUNTA($C$8:C71)-COUNTBLANK($C$8:C71)+6 -> 5 | B71: =IF(C71="","",MID($B$69,2,7)) | C71: =IF(D71="","",VLOOKUP(D71,구분표!$A$3:$C$223,3,)) | K71: =I71-J71 -> 0 | N71: =I71+L71+M71 -> 0 | O71: =R71-N71 -> 0 | R71: =I71+P71+Q71 -> 0 | S71: =IF(AND((N71=0),(R71>0)),"O",IF(AND((L71<0),(N71-R71<0)),"O","X")) -> X | Z71: =IF($Y71<>"도비",IF($W71="국도비","직접입력",SUM($L71:$M71)),) -> 0 | AA71: =IF($Y71="도비",SUM($L71:$M71),IF($W71="국도비","직접입력",SUM($L71:$M71)-$Z71)) -> 0 | AB71: =IF(SUM($L71:$M71)=SUM($Z71:$AA71),"OK","검토") -> OK | AE71: =IF($Y71<>"도비",IF($W71="국도비","직접입력",SUM($P71:$Q71)),) -> 0 | AF71: =IF($Y71="도비",SUM(P71:Q71),IF($W71="국도비","직접입력",SUM(P71:Q71)-AE71)) -> 0 | AG71: =IF(SUM(P71:Q71)=SUM(AE71:AF71),"OK","검토") -> OK | AI71: =IF(W71="","",IF(W71="도비","세입없음","직접입력")) | AK71: =IF(AI71="","",COUNTIF($AI$7:$AI$112,AI71)) | AL71: =IF(Y71="","",IF(AND(Y71="도비",AI71="세입없음"),"OK",IF(AND(Y71<>"도비",AI71<>""),"OK","@@"))) | AN71: {=IF(D71="","",INDEX(구분표!$I$2:$I$319, MATCH(1,(구분표!$E$2:$E$319='1추일출'!C71)*(구분표!$F$2:$F$319='1추일출'!D71)*(구분표!$G$2:$G$319='1추일출'!B71),0)))} | AR71: =IF(O71<0,O71,0) -> 0 | AS71: =IF(O71>0,O71,0) -> 0
A72: =COUNTA($C$8:C72)-COUNTBLANK($C$8:C72)+6 -> 5 | B72: =IF(C72="","",MID($B$69,2,7)) | C72: =IF(D72="","",VLOOKUP(D72,구분표!$A$3:$C$223,3,)) | K72: =I72-J72 -> 0 | N72: =I72+L72+M72 -> 0 | O72: =R72-N72 -> 0 | R72: =I72+P72+Q72 -> 0 | S72: =IF(AND((N72=0),(R72>0)),"O",IF(AND((L72<0),(N72-R72<0)),"O","X")) -> X | Z72: =IF($Y72<>"도비",IF($W72="국도비","직접입력",SUM($L72:$M72)),) -> 0 | AA72: =IF($Y72="도비",SUM($L72:$M72),IF($W72="국도비","직접입력",SUM($L72:$M72)-$Z72)) -> 0 | AB72: =IF(SUM($L72:$M72)=SUM($Z72:$AA72),"OK","검토") -> OK | AE72: =IF($Y72<>"도비",IF($W72="국도비","직접입력",SUM($P72:$Q72)),) -> 0 | AF72: =IF($Y72="도비",SUM(P72:Q72),IF($W72="국도비","직접입력",SUM(P72:Q72)-AE72)) -> 0 | AG72: =IF(SUM(P72:Q72)=SUM(AE72:AF72),"OK","검토") -> OK | AI72: =IF(W72="","",IF(W72="도비","세입없음","직접입력")) | AK72: =IF(AI72="","",COUNTIF($AI$7:$AI$112,AI72)) | AL72: =IF(Y72="","",IF(AND(Y72="도비",AI72="세입없음"),"OK",IF(AND(Y72<>"도비",AI72<>""),"OK","@@"))) | AN72: {=IF(D72="","",INDEX(구분표!$I$2:$I$319, MATCH(1,(구분표!$E$2:$E$319='1추일출'!C72)*(구분표!$F$2:$F$319='1추일출'!D72)*(구분표!$G$2:$G$319='1추일출'!B72),0)))} | AR72: =IF(O72<0,O72,0) -> 0 | AS72: =IF(O72>0,O72,0) -> 0
A73: =COUNTA($C$8:C73)-COUNTBLANK($C$8:C73)+6 -> 5 | B73: =IF(C73="","",MID($B$69,2,7)) | C73: =IF(D73="","",VLOOKUP(D73,구분표!$A$3:$C$223,3,)) | K73: =I73-J73 -> 0 | N73: =I73+L73+M73 -> 0 | O73: =R73-N73 -> 0 | R73: =I73+P73+Q73 -> 0 | S73: =IF(AND((N73=0),(R73>0)),"O",IF(AND((L73<0),(N73-R73<0)),"O","X")) -> X | Z73: =IF($Y73<>"도비",IF($W73="국도비","직접입력",SUM($L73:$M73)),) -> 0 | AA73: =IF($Y73="도비",SUM($L73:$M73),IF($W73="국도비","직접입력",SUM($L73:$M73)-$Z73)) -> 0 | AB73: =IF(SUM($L73:$M73)=SUM($Z73:$AA73),"OK","검토") -> OK | AE73: =IF($Y73<>"도비",IF($W73="국도비","직접입력",SUM($P73:$Q73)),) -> 0 | AF73: =IF($Y73="도비",SUM(P73:Q73),IF($W73="국도비","직접입력",SUM(P73:Q73)-AE73)) -> 0 | AG73: =IF(SUM(P73:Q73)=SUM(AE73:AF73),"OK","검토") -> OK | AI73: =IF(W73="","",IF(W73="도비","세입없음","직접입력")) | AK73: =IF(AI73="","",COUNTIF($AI$7:$AI$112,AI73)) | AL73: =IF(Y73="","",IF(AND(Y73="도비",AI73="세입없음"),"OK",IF(AND(Y73<>"도비",AI73<>""),"OK","@@"))) | AN73: {=IF(D73="","",INDEX(구분표!$I$2:$I$319, MATCH(1,(구분표!$E$2:$E$319='1추일출'!C73)*(구분표!$F$2:$F$319='1추일출'!D73)*(구분표!$G$2:$G$319='1추일출'!B73),0)))} | AR73: =IF(O73<0,O73,0) -> 0 | AS73: =IF(O73>0,O73,0) -> 0
A74: =COUNTA($C$8:C74)-COUNTBLANK($C$8:C74)+6 -> 5 | B74: =IF(C74="","",MID($B$69,2,7)) | C74: =IF(D74="","",VLOOKUP(D74,구분표!$A$3:$C$223,3,)) | K74: =I74-J74 -> 0 | N74: =I74+L74+M74 -> 0 | O74: =R74-N74 -> 0 | R74: =I74+P74+Q74 -> 0 | S74: =IF(AND((N74=0),(R74>0)),"O",IF(AND((L74<0),(N74-R74<0)),"O","X")) -> X | Z74: =IF($Y74<>"도비",IF($W74="국도비","직접입력",SUM($L74:$M74)),) -> 0 | AA74: =IF($Y74="도비",SUM($L74:$M74),IF($W74="국도비","직접입력",SUM($L74:$M74)-$Z74)) -> 0 | AB74: =IF(SUM($L74:$M74)=SUM($Z74:$AA74),"OK","검토") -> OK | AE74: =IF($Y74<>"도비",IF($W74="국도비","직접입력",SUM($P74:$Q74)),) -> 0 | AF74: =IF($Y74="도비",SUM(P74:Q74),IF($W74="국도비","직접입력",SUM(P74:Q74)-AE74)) -> 0 | AG74: =IF(SUM(P74:Q74)=SUM(AE74:AF74),"OK","검토") -> OK | AI74: =IF(W74="","",IF(W74="도비","세입없음","직접입력")) | AK74: =IF(AI74="","",COUNTIF($AI$7:$AI$112,AI74)) | AL74: =IF(Y74="","",IF(AND(Y74="도비",AI74="세입없음"),"OK",IF(AND(Y74<>"도비",AI74<>""),"OK","@@"))) | AN74: {=IF(D74="","",INDEX(구분표!$I$2:$I$319, MATCH(1,(구분표!$E$2:$E$319='1추일출'!C74)*(구분표!$F$2:$F$319='1추일출'!D74)*(구분표!$G$2:$G$319='1추일출'!B74),0)))} | AR74: =IF(O74<0,O74,0) -> 0 | AS74: =IF(O74>0,O74,0) -> 0
A75: =COUNTA($C$8:C75)-COUNTBLANK($C$8:C75)+6 -> 5 | B75: =IF(C75="","",MID($B$69,2,7)) | C75: =IF(D75="","",VLOOKUP(D75,구분표!$A$3:$C$223,3,)) | K75: =I75-J75 -> 0 | N75: =I75+L75+M75 -> 0 | O75: =R75-N75 -> 0 | R75: =I75+P75+Q75 -> 0 | S75: =IF(AND((N75=0),(R75>0)),"O",IF(AND((L75<0),(N75-R75<0)),"O","X")) -> X | Z75: =IF($Y75<>"도비",IF($W75="국도비","직접입력",SUM($L75:$M75)),) -> 0 | AA75: =IF($Y75="도비",SUM($L75:$M75),IF($W75="국도비","직접입력",SUM($L75:$M75)-$Z75)) -> 0 | AB75: =IF(SUM($L75:$M75)=SUM($Z75:$AA75),"OK","검토") -> OK | AE75: =IF($Y75<>"도비",IF($W75="국도비","직접입력",SUM($P75:$Q75)),) -> 0 | AF75: =IF($Y75="도비",SUM(P75:Q75),IF($W75="국도비","직접입력",SUM(P75:Q75)-AE75)) -> 0 | AG75: =IF(SUM(P75:Q75)=SUM(AE75:AF75),"OK","검토") -> OK | AI75: =IF(W75="","",IF(W75="도비","세입없음","직접입력")) | AK75: =IF(AI75="","",COUNTIF($AI$7:$AI$112,AI75)) | AL75: =IF(Y75="","",IF(AND(Y75="도비",AI75="세입없음"),"OK",IF(AND(Y75<>"도비",AI75<>""),"OK","@@"))) | AN75: {=IF(D75="","",INDEX(구분표!$I$2:$I$319, MATCH(1,(구분표!$E$2:$E$319='1추일출'!C75)*(구분표!$F$2:$F$319='1추일출'!D75)*(구분표!$G$2:$G$319='1추일출'!B75),0)))} | AR75: =IF(O75<0,O75,0) -> 0 | AS75: =IF(O75>0,O75,0) -> 0
A76: =COUNTA($C$8:C76)-COUNTBLANK($C$8:C76)+6 -> 5 | B76: =IF(C76="","",MID($B$69,2,7)) | C76: =IF(D76="","",VLOOKUP(D76,구분표!$A$3:$C$223,3,)) | K76: =I76-J76 -> 0 | N76: =I76+L76+M76 -> 0 | O76: =R76-N76 -> 0 | R76: =I76+P76+Q76 -> 0 | S76: =IF(AND((N76=0),(R76>0)),"O",IF(AND((L76<0),(N76-R76<0)),"O","X")) -> X | Z76: =IF($Y76<>"도비",IF($W76="국도비","직접입력",SUM($L76:$M76)),) -> 0 | AA76: =IF($Y76="도비",SUM($L76:$M76),IF($W76="국도비","직접입력",SUM($L76:$M76)-$Z76)) -> 0 | AB76: =IF(SUM($L76:$M76)=SUM($Z76:$AA76),"OK","검토") -> OK | AE76: =IF($Y76<>"도비",IF($W76="국도비","직접입력",SUM($P76:$Q76)),) -> 0 | AF76: =IF($Y76="도비",SUM(P76:Q76),IF($W76="국도비","직접입력",SUM(P76:Q76)-AE76)) -> 0 | AG76: =IF(SUM(P76:Q76)=SUM(AE76:AF76),"OK","검토") -> OK | AI76: =IF(W76="","",IF(W76="도비","세입없음","직접입력")) | AK76: =IF(AI76="","",COUNTIF($AI$7:$AI$112,AI76)) | AL76: =IF(Y76="","",IF(AND(Y76="도비",AI76="세입없음"),"OK",IF(AND(Y76<>"도비",AI76<>""),"OK","@@"))) | AN76: {=IF(D76="","",INDEX(구분표!$I$2:$I$319, MATCH(1,(구분표!$E$2:$E$319='1추일출'!C76)*(구분표!$F$2:$F$319='1추일출'!D76)*(구분표!$G$2:$G$319='1추일출'!B76),0)))} | AR76: =IF(O76<0,O76,0) -> 0 | AS76: =IF(O76>0,O76,0) -> 0
A77: =COUNTA($C$8:C77)-COUNTBLANK($C$8:C77)+6 -> 5 | B77: =IF(C77="","",MID($B$69,2,7)) | C77: =IF(D77="","",VLOOKUP(D77,구분표!$A$3:$C$223,3,)) | K77: =I77-J77 -> 0 | N77: =I77+L77+M77 -> 0 | O77: =R77-N77 -> 0 | R77: =I77+P77+Q77 -> 0 | S77: =IF(AND((N77=0),(R77>0)),"O",IF(AND((L77<0),(N77-R77<0)),"O","X")) -> X | Z77: =IF($Y77<>"도비",IF($W77="국도비","직접입력",SUM($L77:$M77)),) -> 0 | AA77: =IF($Y77="도비",SUM($L77:$M77),IF($W77="국도비","직접입력",SUM($L77:$M77)-$Z77)) -> 0 | AB77: =IF(SUM($L77:$M77)=SUM($Z77:$AA77),"OK","검토") -> OK | AE77: =IF($Y77<>"도비",IF($W77="국도비","직접입력",SUM($P77:$Q77)),) -> 0 | AF77: =IF($Y77="도비",SUM(P77:Q77),IF($W77="국도비","직접입력",SUM(P77:Q77)-AE77)) -> 0 | AG77: =IF(SUM(P77:Q77)=SUM(AE77:AF77),"OK","검토") -> OK | AI77: =IF(W77="","",IF(W77="도비","세입없음","직접입력")) | AK77: =IF(AI77="","",COUNTIF($AI$7:$AI$112,AI77)) | AL77: =IF(Y77="","",IF(AND(Y77="도비",AI77="세입없음"),"OK",IF(AND(Y77<>"도비",AI77<>""),"OK","@@"))) | AN77: {=IF(D77="","",INDEX(구분표!$I$2:$I$319, MATCH(1,(구분표!$E$2:$E$319='1추일출'!C77)*(구분표!$F$2:$F$319='1추일출'!D77)*(구분표!$G$2:$G$319='1추일출'!B77),0)))} | AR77: =IF(O77<0,O77,0) -> 0 | AS77: =IF(O77>0,O77,0) -> 0
A78: =COUNTA($C$8:C78)-COUNTBLANK($C$8:C78)+6 -> 5 | B78: =IF(C78="","",MID($B$69,2,7)) | C78: =IF(D78="","",VLOOKUP(D78,구분표!$A$3:$C$223,3,)) | K78: =I78-J78 -> 0 | N78: =I78+L78+M78 -> 0 | O78: =R78-N78 -> 0 | R78: =I78+P78+Q78 -> 0 | S78: =IF(AND((N78=0),(R78>0)),"O",IF(AND((L78<0),(N78-R78<0)),"O","X")) -> X | Z78: =IF($Y78<>"도비",IF($W78="국도비","직접입력",SUM($L78:$M78)),) -> 0 | AA78: =IF($Y78="도비",SUM($L78:$M78),IF($W78="국도비","직접입력",SUM($L78:$M78)-$Z78)) -> 0 | AB78: =IF(SUM($L78:$M78)=SUM($Z78:$AA78),"OK","검토") -> OK | AE78: =IF($Y78<>"도비",IF($W78="국도비","직접입력",SUM($P78:$Q78)),) -> 0 | AF78: =IF($Y78="도비",SUM(P78:Q78),IF($W78="국도비","직접입력",SUM(P78:Q78)-AE78)) -> 0 | AG78: =IF(SUM(P78:Q78)=SUM(AE78:AF78),"OK","검토") -> OK | AI78: =IF(W78="","",IF(W78="도비","세입없음","직접입력")) | AK78: =IF(AI78="","",COUNTIF($AI$7:$AI$112,AI78)) | AL78: =IF(Y78="","",IF(AND(Y78="도비",AI78="세입없음"),"OK",IF(AND(Y78<>"도비",AI78<>""),"OK","@@"))) | AN78: {=IF(D78="","",INDEX(구분표!$I$2:$I$319, MATCH(1,(구분표!$E$2:$E$319='1추일출'!C78)*(구분표!$F$2:$F$319='1추일출'!D78)*(구분표!$G$2:$G$319='1추일출'!B78),0)))} | AR78: =IF(O78<0,O78,0) -> 0 | AS78: =IF(O78>0,O78,0) -> 0
A79: =COUNTA($C$8:C79)-COUNTBLANK($C$8:C79)+6 -> 5 | B79: =IF(C79="","",MID($B$69,2,7)) | C79: =IF(D79="","",VLOOKUP(D79,구분표!$A$3:$C$223,3,)) | K79: =I79-J79 -> 0 | N79: =I79+L79+M79 -> 0 | O79: =R79-N79 -> 0 | R79: =I79+P79+Q79 -> 0 | S79: =IF(AND((N79=0),(R79>0)),"O",IF(AND((L79<0),(N79-R79<0)),"O","X")) -> X | Z79: =IF($Y79<>"도비",IF($W79="국도비","직접입력",SUM($L79:$M79)),) -> 0 | AA79: =IF($Y79="도비",SUM($L79:$M79),IF($W79="국도비","직접입력",SUM($L79:$M79)-$Z79)) -> 0 | AB79: =IF(SUM($L79:$M79)=SUM($Z79:$AA79),"OK","검토") -> OK | AE79: =IF($Y79<>"도비",IF($W79="국도비","직접입력",SUM($P79:$Q79)),) -> 0 | AF79: =IF($Y79="도비",SUM(P79:Q79),IF($W79="국도비","직접입력",SUM(P79:Q79)-AE79)) -> 0 | AG79: =IF(SUM(P79:Q79)=SUM(AE79:AF79),"OK","검토") -> OK | AI79: =IF(W79="","",IF(W79="도비","세입없음","직접입력")) | AK79: =IF(AI79="","",COUNTIF($AI$7:$AI$112,AI79)) | AL79: =IF(Y79="","",IF(AND(Y79="도비",AI79="세입없음"),"OK",IF(AND(Y79<>"도비",AI79<>""),"OK","@@"))) | AN79: {=IF(D79="","",INDEX(구분표!$I$2:$I$319, MATCH(1,(구분표!$E$2:$E$319='1추일출'!C79)*(구분표!$F$2:$F$319='1추일출'!D79)*(구분표!$G$2:$G$319='1추일출'!B79),0)))} | AR79: =IF(O79<0,O79,0) -> 0 | AS79: =IF(O79>0,O79,0) -> 0
B80: (건설교통위원회) | I80: =SUBTOTAL(9,I81:I90) -> 0 | J80: =SUBTOTAL(9,J81:J90) -> 0 | K80: =SUBTOTAL(9,K81:K90) -> 0 | L80: =SUBTOTAL(9,L81:L90) -> 0 | M80: =SUBTOTAL(9,M81:M90) -> 0 | N80: =SUBTOTAL(9,N81:N90) -> 0 | O80: =SUBTOTAL(9,O81:O90) -> 0 | P80: =SUBTOTAL(9,P81:P90) -> 0 | ... R80: =SUBTOTAL(9,R81:R90) -> 0 | AR80: =SUBTOTAL(9,AR81:AR90) -> 0 | AS80: =SUBTOTAL(9,AS81:AS90) -> 0
A81: =COUNTA($C$8:C81)-COUNTBLANK($C$8:C81)+7 -> 5 | B81: =IF(C81="","",MID($B$80,2,7)) | C81: =IF(D81="","",VLOOKUP(D81,구분표!$A$3:$C$223,3,)) | K81: =I81-J81 -> 0 | N81: =I81+L81+M81 -> 0 | O81: =R81-N81 -> 0 | R81: =I81+P81+Q81 -> 0 | S81: =IF(AND((N81=0),(R81>0)),"O",IF(AND((L81<0),(N81-R81<0)),"O","X")) -> X | Z81: =IF($Y81<>"도비",IF($W81="국도비","직접입력",SUM($L81:$M81)),) -> 0 | AA81: =IF($Y81="도비",SUM($L81:$M81),IF($W81="국도비","직접입력",SUM($L81:$M81)-$Z81)) -> 0 | AB81: =IF(SUM($L81:$M81)=SUM($Z81:$AA81),"OK","검토") -> OK | AE81: =IF($Y81<>"도비",IF($W81="국도비","직접입력",SUM($P81:$Q81)),) -> 0 | AF81: =IF($Y81="도비",SUM(P81:Q81),IF($W81="국도비","직접입력",SUM(P81:Q81)-AE81)) -> 0 | AG81: =IF(SUM(P81:Q81)=SUM(AE81:AF81),"OK","검토") -> OK | AI81: =IF(W81="","",IF(W81="도비","세입없음","직접입력")) | AK81: =IF(AI81="","",COUNTIF($AI$7:$AI$112,AI81)) | AL81: =IF(Y81="","",IF(AND(Y81="도비",AI81="세입없음"),"OK",IF(AND(Y81<>"도비",AI81<>""),"OK","@@"))) | AN81: {=IF(D81="","",INDEX(구분표!$I$2:$I$319, MATCH(1,(구분표!$E$2:$E$319='1추일출'!C81)*(구분표!$F$2:$F$319='1추일출'!D81)*(구분표!$G$2:$G$319='1추일출'!B81),0)))} | AR81: =IF(O81<0,O81,0) -> 0 | AS81: =IF(O81>0,O81,0) -> 0
A82: =COUNTA($C$8:C82)-COUNTBLANK($C$8:C82)+7 -> 5 | B82: =IF(C82="","",MID($B$80,2,7)) | C82: =IF(D82="","",VLOOKUP(D82,구분표!$A$3:$C$223,3,)) | K82: =I82-J82 -> 0 | N82: =I82+L82+M82 -> 0 | O82: =R82-N82 -> 0 | R82: =I82+P82+Q82 -> 0 | S82: =IF(AND((N82=0),(R82>0)),"O",IF(AND((L82<0),(N82-R82<0)),"O","X")) -> X | Z82: =IF($Y82<>"도비",IF($W82="국도비","직접입력",SUM($L82:$M82)),) -> 0 | AA82: =IF($Y82="도비",SUM($L82:$M82),IF($W82="국도비","직접입력",SUM($L82:$M82)-$Z82)) -> 0 | AB82: =IF(SUM($L82:$M82)=SUM($Z82:$AA82),"OK","검토") -> OK | AE82: =IF($Y82<>"도비",IF($W82="국도비","직접입력",SUM($P82:$Q82)),) -> 0 | AF82: =IF($Y82="도비",SUM(P82:Q82),IF($W82="국도비","직접입력",SUM(P82:Q82)-AE82)) -> 0 | AG82: =IF(SUM(P82:Q82)=SUM(AE82:AF82),"OK","검토") -> OK | AI82: =IF(W82="","",IF(W82="도비","세입없음","직접입력")) | AK82: =IF(AI82="","",COUNTIF($AI$7:$AI$112,AI82)) | AL82: =IF(Y82="","",IF(AND(Y82="도비",AI82="세입없음"),"OK",IF(AND(Y82<>"도비",AI82<>""),"OK","@@"))) | AN82: {=IF(D82="","",INDEX(구분표!$I$2:$I$319, MATCH(1,(구분표!$E$2:$E$319='1추일출'!C82)*(구분표!$F$2:$F$319='1추일출'!D82)*(구분표!$G$2:$G$319='1추일출'!B82),0)))} | AR82: =IF(O82<0,O82,0) -> 0 | AS82: =IF(O82>0,O82,0) -> 0
A83: =COUNTA($C$8:C83)-COUNTBLANK($C$8:C83)+7 -> 5 | B83: =IF(C83="","",MID($B$80,2,7)) | C83: =IF(D83="","",VLOOKUP(D83,구분표!$A$3:$C$223,3,)) | K83: =I83-J83 -> 0 | N83: =I83+L83+M83 -> 0 | O83: =R83-N83 -> 0 | R83: =I83+P83+Q83 -> 0 | S83: =IF(AND((N83=0),(R83>0)),"O",IF(AND((L83<0),(N83-R83<0)),"O","X")) -> X | Z83: =IF($Y83<>"도비",IF($W83="국도비","직접입력",SUM($L83:$M83)),) -> 0 | AA83: =IF($Y83="도비",SUM($L83:$M83),IF($W83="국도비","직접입력",SUM($L83:$M83)-$Z83)) -> 0 | AB83: =IF(SUM($L83:$M83)=SUM($Z83:$AA83),"OK","검토") -> OK | AE83: =IF($Y83<>"도비",IF($W83="국도비","직접입력",SUM($P83:$Q83)),) -> 0 | AF83: =IF($Y83="도비",SUM(P83:Q83),IF($W83="국도비","직접입력",SUM(P83:Q83)-AE83)) -> 0 | AG83: =IF(SUM(P83:Q83)=SUM(AE83:AF83),"OK","검토") -> OK | AI83: =IF(W83="","",IF(W83="도비","세입없음","직접입력")) | AK83: =IF(AI83="","",COUNTIF($AI$7:$AI$112,AI83)) | AL83: =IF(Y83="","",IF(AND(Y83="도비",AI83="세입없음"),"OK",IF(AND(Y83<>"도비",AI83<>""),"OK","@@"))) | AN83: {=IF(D83="","",INDEX(구분표!$I$2:$I$319, MATCH(1,(구분표!$E$2:$E$319='1추일출'!C83)*(구분표!$F$2:$F$319='1추일출'!D83)*(구분표!$G$2:$G$319='1추일출'!B83),0)))} | AR83: =IF(O83<0,O83,0) -> 0 | AS83: =IF(O83>0,O83,0) -> 0
A84: =COUNTA($C$8:C84)-COUNTBLANK($C$8:C84)+7 -> 5 | B84: =IF(C84="","",MID($B$80,2,7)) | C84: =IF(D84="","",VLOOKUP(D84,구분표!$A$3:$C$223,3,)) | K84: =I84-J84 -> 0 | N84: =I84+L84+M84 -> 0 | O84: =R84-N84 -> 0 | R84: =I84+P84+Q84 -> 0 | S84: =IF(AND((N84=0),(R84>0)),"O",IF(AND((L84<0),(N84-R84<0)),"O","X")) -> X | Z84: =IF($Y84<>"도비",IF($W84="국도비","직접입력",SUM($L84:$M84)),) -> 0 | AA84: =IF($Y84="도비",SUM($L84:$M84),IF($W84="국도비","직접입력",SUM($L84:$M84)-$Z84)) -> 0 | AB84: =IF(SUM($L84:$M84)=SUM($Z84:$AA84),"OK","검토") -> OK | AE84: =IF($Y84<>"도비",IF($W84="국도비","직접입력",SUM($P84:$Q84)),) -> 0 | AF84: =IF($Y84="도비",SUM(P84:Q84),IF($W84="국도비","직접입력",SUM(P84:Q84)-AE84)) -> 0 | AG84: =IF(SUM(P84:Q84)=SUM(AE84:AF84),"OK","검토") -> OK | AI84: =IF(W84="","",IF(W84="도비","세입없음","직접입력")) | AK84: =IF(AI84="","",COUNTIF($AI$7:$AI$112,AI84)) | AL84: =IF(Y84="","",IF(AND(Y84="도비",AI84="세입없음"),"OK",IF(AND(Y84<>"도비",AI84<>""),"OK","@@"))) | AN84: {=IF(D84="","",INDEX(구분표!$I$2:$I$319, MATCH(1,(구분표!$E$2:$E$319='1추일출'!C84)*(구분표!$F$2:$F$319='1추일출'!D84)*(구분표!$G$2:$G$319='1추일출'!B84),0)))} | AR84: =IF(O84<0,O84,0) -> 0 | AS84: =IF(O84>0,O84,0) -> 0
A85: =COUNTA($C$8:C85)-COUNTBLANK($C$8:C85)+7 -> 5 | B85: =IF(C85="","",MID($B$80,2,7)) | C85: =IF(D85="","",VLOOKUP(D85,구분표!$A$3:$C$223,3,)) | K85: =I85-J85 -> 0 | N85: =I85+L85+M85 -> 0 | O85: =R85-N85 -> 0 | R85: =I85+P85+Q85 -> 0 | S85: =IF(AND((N85=0),(R85>0)),"O",IF(AND((L85<0),(N85-R85<0)),"O","X")) -> X | Z85: =IF($Y85<>"도비",IF($W85="국도비","직접입력",SUM($L85:$M85)),) -> 0 | AA85: =IF($Y85="도비",SUM($L85:$M85),IF($W85="국도비","직접입력",SUM($L85:$M85)-$Z85)) -> 0 | AB85: =IF(SUM($L85:$M85)=SUM($Z85:$AA85),"OK","검토") -> OK | AE85: =IF($Y85<>"도비",IF($W85="국도비","직접입력",SUM($P85:$Q85)),) -> 0 | AF85: =IF($Y85="도비",SUM(P85:Q85),IF($W85="국도비","직접입력",SUM(P85:Q85)-AE85)) -> 0 | AG85: =IF(SUM(P85:Q85)=SUM(AE85:AF85),"OK","검토") -> OK | AI85: =IF(W85="","",IF(W85="도비","세입없음","직접입력")) | AK85: =IF(AI85="","",COUNTIF($AI$7:$AI$112,AI85)) | AL85: =IF(Y85="","",IF(AND(Y85="도비",AI85="세입없음"),"OK",IF(AND(Y85<>"도비",AI85<>""),"OK","@@"))) | AN85: {=IF(D85="","",INDEX(구분표!$I$2:$I$319, MATCH(1,(구분표!$E$2:$E$319='1추일출'!C85)*(구분표!$F$2:$F$319='1추일출'!D85)*(구분표!$G$2:$G$319='1추일출'!B85),0)))} | AR85: =IF(O85<0,O85,0) -> 0 | AS85: =IF(O85>0,O85,0) -> 0
A86: =COUNTA($C$8:C86)-COUNTBLANK($C$8:C86)+7 -> 5 | B86: =IF(C86="","",MID($B$80,2,7)) | C86: =IF(D86="","",VLOOKUP(D86,구분표!$A$3:$C$223,3,)) | K86: =I86-J86 -> 0 | N86: =I86+L86+M86 -> 0 | O86: =R86-N86 -> 0 | R86: =I86+P86+Q86 -> 0 | S86: =IF(AND((N86=0),(R86>0)),"O",IF(AND((L86<0),(N86-R86<0)),"O","X")) -> X | Z86: =IF($Y86<>"도비",IF($W86="국도비","직접입력",SUM($L86:$M86)),) -> 0 | AA86: =IF($Y86="도비",SUM($L86:$M86),IF($W86="국도비","직접입력",SUM($L86:$M86)-$Z86)) -> 0 | AB86: =IF(SUM($L86:$M86)=SUM($Z86:$AA86),"OK","검토") -> OK | AE86: =IF($Y86<>"도비",IF($W86="국도비","직접입력",SUM($P86:$Q86)),) -> 0 | AF86: =IF($Y86="도비",SUM(P86:Q86),IF($W86="국도비","직접입력",SUM(P86:Q86)-AE86)) -> 0 | AG86: =IF(SUM(P86:Q86)=SUM(AE86:AF86),"OK","검토") -> OK | AI86: =IF(W86="","",IF(W86="도비","세입없음","직접입력")) | AK86: =IF(AI86="","",COUNTIF($AI$7:$AI$112,AI86)) | AL86: =IF(Y86="","",IF(AND(Y86="도비",AI86="세입없음"),"OK",IF(AND(Y86<>"도비",AI86<>""),"OK","@@"))) | AN86: {=IF(D86="","",INDEX(구분표!$I$2:$I$319, MATCH(1,(구분표!$E$2:$E$319='1추일출'!C86)*(구분표!$F$2:$F$319='1추일출'!D86)*(구분표!$G$2:$G$319='1추일출'!B86),0)))} | AR86: =IF(O86<0,O86,0) -> 0 | AS86: =IF(O86>0,O86,0) -> 0
A87: =COUNTA($C$8:C87)-COUNTBLANK($C$8:C87)+7 -> 5 | B87: =IF(C87="","",MID($B$80,2,7)) | C87: =IF(D87="","",VLOOKUP(D87,구분표!$A$3:$C$223,3,)) | K87: =I87-J87 -> 0 | N87: =I87+L87+M87 -> 0 | O87: =R87-N87 -> 0 | R87: =I87+P87+Q87 -> 0 | S87: =IF(AND((N87=0),(R87>0)),"O",IF(AND((L87<0),(N87-R87<0)),"O","X")) -> X | Z87: =IF($Y87<>"도비",IF($W87="국도비","직접입력",SUM($L87:$M87)),) -> 0 | AA87: =IF($Y87="도비",SUM($L87:$M87),IF($W87="국도비","직접입력",SUM($L87:$M87)-$Z87)) -> 0 | AB87: =IF(SUM($L87:$M87)=SUM($Z87:$AA87),"OK","검토") -> OK | AE87: =IF($Y87<>"도비",IF($W87="국도비","직접입력",SUM($P87:$Q87)),) -> 0 | AF87: =IF($Y87="도비",SUM(P87:Q87),IF($W87="국도비","직접입력",SUM(P87:Q87)-AE87)) -> 0 | AG87: =IF(SUM(P87:Q87)=SUM(AE87:AF87),"OK","검토") -> OK | AI87: =IF(W87="","",IF(W87="도비","세입없음","직접입력")) | AK87: =IF(AI87="","",COUNTIF($AI$7:$AI$112,AI87)) | AL87: =IF(Y87="","",IF(AND(Y87="도비",AI87="세입없음"),"OK",IF(AND(Y87<>"도비",AI87<>""),"OK","@@"))) | AN87: {=IF(D87="","",INDEX(구분표!$I$2:$I$319, MATCH(1,(구분표!$E$2:$E$319='1추일출'!C87)*(구분표!$F$2:$F$319='1추일출'!D87)*(구분표!$G$2:$G$319='1추일출'!B87),0)))} | AR87: =IF(O87<0,O87,0) -> 0 | AS87: =IF(O87>0,O87,0) -> 0
A88: =COUNTA($C$8:C88)-COUNTBLANK($C$8:C88)+7 -> 5 | B88: =IF(C88="","",MID($B$80,2,7)) | C88: =IF(D88="","",VLOOKUP(D88,구분표!$A$3:$C$223,3,)) | K88: =I88-J88 -> 0 | N88: =I88+L88+M88 -> 0 | O88: =R88-N88 -> 0 | R88: =I88+P88+Q88 -> 0 | S88: =IF(AND((N88=0),(R88>0)),"O",IF(AND((L88<0),(N88-R88<0)),"O","X")) -> X | Z88: =IF($Y88<>"도비",IF($W88="국도비","직접입력",SUM($L88:$M88)),) -> 0 | AA88: =IF($Y88="도비",SUM($L88:$M88),IF($W88="국도비","직접입력",SUM($L88:$M88)-$Z88)) -> 0 | AB88: =IF(SUM($L88:$M88)=SUM($Z88:$AA88),"OK","검토") -> OK | AE88: =IF($Y88<>"도비",IF($W88="국도비","직접입력",SUM($P88:$Q88)),) -> 0 | AF88: =IF($Y88="도비",SUM(P88:Q88),IF($W88="국도비","직접입력",SUM(P88:Q88)-AE88)) -> 0 | AG88: =IF(SUM(P88:Q88)=SUM(AE88:AF88),"OK","검토") -> OK | AI88: =IF(W88="","",IF(W88="도비","세입없음","직접입력")) | AK88: =IF(AI88="","",COUNTIF($AI$7:$AI$112,AI88)) | AL88: =IF(Y88="","",IF(AND(Y88="도비",AI88="세입없음"),"OK",IF(AND(Y88<>"도비",AI88<>""),"OK","@@"))) | AN88: {=IF(D88="","",INDEX(구분표!$I$2:$I$319, MATCH(1,(구분표!$E$2:$E$319='1추일출'!C88)*(구분표!$F$2:$F$319='1추일출'!D88)*(구분표!$G$2:$G$319='1추일출'!B88),0)))} | AR88: =IF(O88<0,O88,0) -> 0 | AS88: =IF(O88>0,O88,0) -> 0
A89: =COUNTA($C$8:C89)-COUNTBLANK($C$8:C89)+7 -> 5 | B89: =IF(C89="","",MID($B$80,2,7)) | C89: =IF(D89="","",VLOOKUP(D89,구분표!$A$3:$C$223,3,)) | K89: =I89-J89 -> 0 | N89: =I89+L89+M89 -> 0 | O89: =R89-N89 -> 0 | R89: =I89+P89+Q89 -> 0 | S89: =IF(AND((N89=0),(R89>0)),"O",IF(AND((L89<0),(N89-R89<0)),"O","X")) -> X | Z89: =IF($Y89<>"도비",IF($W89="국도비","직접입력",SUM($L89:$M89)),) -> 0 | AA89: =IF($Y89="도비",SUM($L89:$M89),IF($W89="국도비","직접입력",SUM($L89:$M89)-$Z89)) -> 0 | AB89: =IF(SUM($L89:$M89)=SUM($Z89:$AA89),"OK","검토") -> OK | AE89: =IF($Y89<>"도비",IF($W89="국도비","직접입력",SUM($P89:$Q89)),) -> 0 | AF89: =IF($Y89="도비",SUM(P89:Q89),IF($W89="국도비","직접입력",SUM(P89:Q89)-AE89)) -> 0 | AG89: =IF(SUM(P89:Q89)=SUM(AE89:AF89),"OK","검토") -> OK | AI89: =IF(W89="","",IF(W89="도비","세입없음","직접입력")) | AK89: =IF(AI89="","",COUNTIF($AI$7:$AI$112,AI89)) | AL89: =IF(Y89="","",IF(AND(Y89="도비",AI89="세입없음"),"OK",IF(AND(Y89<>"도비",AI89<>""),"OK","@@"))) | AN89: {=IF(D89="","",INDEX(구분표!$I$2:$I$319, MATCH(1,(구분표!$E$2:$E$319='1추일출'!C89)*(구분표!$F$2:$F$319='1추일출'!D89)*(구분표!$G$2:$G$319='1추일출'!B89),0)))} | AR89: =IF(O89<0,O89,0) -> 0 | AS89: =IF(O89>0,O89,0) -> 0
A90: =COUNTA($C$8:C90)-COUNTBLANK($C$8:C90)+7 -> 5 | B90: =IF(C90="","",MID($B$80,2,7)) | C90: =IF(D90="","",VLOOKUP(D90,구분표!$A$3:$C$223,3,)) | K90: =I90-J90 -> 0 | N90: =I90+L90+M90 -> 0 | O90: =R90-N90 -> 0 | R90: =I90+P90+Q90 -> 0 | S90: =IF(AND((N90=0),(R90>0)),"O",IF(AND((L90<0),(N90-R90<0)),"O","X")) -> X | Z90: =IF($Y90<>"도비",IF($W90="국도비","직접입력",SUM($L90:$M90)),) -> 0 | AA90: =IF($Y90="도비",SUM($L90:$M90),IF($W90="국도비","직접입력",SUM($L90:$M90)-$Z90)) -> 0 | AB90: =IF(SUM($L90:$M90)=SUM($Z90:$AA90),"OK","검토") -> OK | AE90: =IF($Y90<>"도비",IF($W90="국도비","직접입력",SUM($P90:$Q90)),) -> 0 | AF90: =IF($Y90="도비",SUM(P90:Q90),IF($W90="국도비","직접입력",SUM(P90:Q90)-AE90)) -> 0 | AG90: =IF(SUM(P90:Q90)=SUM(AE90:AF90),"OK","검토") -> OK | AI90: =IF(W90="","",IF(W90="도비","세입없음","직접입력")) | AK90: =IF(AI90="","",COUNTIF($AI$7:$AI$112,AI90)) | AL90: =IF(Y90="","",IF(AND(Y90="도비",AI90="세입없음"),"OK",IF(AND(Y90<>"도비",AI90<>""),"OK","@@"))) | AN90: {=IF(D90="","",INDEX(구분표!$I$2:$I$319, MATCH(1,(구분표!$E$2:$E$319='1추일출'!C90)*(구분표!$F$2:$F$319='1추일출'!D90)*(구분표!$G$2:$G$319='1추일출'!B90),0)))} | AR90: =IF(O90<0,O90,0) -> 0 | AS90: =IF(O90>0,O90,0) -> 0
B91: (도시환경위원회) | I91: =SUBTOTAL(9,I92:I101) -> 0 | J91: =SUBTOTAL(9,J92:J101) -> 0 | K91: =SUBTOTAL(9,K92:K101) -> 0 | L91: =SUBTOTAL(9,L92:L101) -> 0 | M91: =SUBTOTAL(9,M92:M101) -> 0 | N91: =SUBTOTAL(9,N92:N101) -> 0 | O91: =SUBTOTAL(9,O92:O101) -> 0 | P91: =SUBTOTAL(9,P92:P101) -> 0 | ... R91: =SUBTOTAL(9,R92:R101) -> 0 | AR91: =SUBTOTAL(9,AR92:AR101) -> 0 | AS91: =SUBTOTAL(9,AS92:AS101) -> 0
A92: =COUNTA($C$8:C92)-COUNTBLANK($C$8:C92)+8 -> 5 | B92: =IF(C92="","",MID($B$91,2,7)) | C92: =IF(D92="","",VLOOKUP(D92,구분표!$A$3:$C$223,3,)) | K92: =I92-J92 -> 0 | N92: =I92+L92+M92 -> 0 | O92: =R92-N92 -> 0 | R92: =I92+P92+Q92 -> 0 | S92: =IF(AND((N92=0),(R92>0)),"O",IF(AND((L92<0),(N92-R92<0)),"O","X")) -> X | Z92: =IF($Y92<>"도비",IF($W92="국도비","직접입력",SUM($L92:$M92)),) -> 0 | AA92: =IF($Y92="도비",SUM($L92:$M92),IF($W92="국도비","직접입력",SUM($L92:$M92)-$Z92)) -> 0 | AB92: =IF(SUM($L92:$M92)=SUM($Z92:$AA92),"OK","검토") -> OK | AE92: =IF($Y92<>"도비",IF($W92="국도비","직접입력",SUM($P92:$Q92)),) -> 0 | AF92: =IF($Y92="도비",SUM(P92:Q92),IF($W92="국도비","직접입력",SUM(P92:Q92)-AE92)) -> 0 | AG92: =IF(SUM(P92:Q92)=SUM(AE92:AF92),"OK","검토") -> OK | AI92: =IF(W92="","",IF(W92="도비","세입없음","직접입력")) | AK92: =IF(AI92="","",COUNTIF($AI$7:$AI$112,AI92)) | AL92: =IF(Y92="","",IF(AND(Y92="도비",AI92="세입없음"),"OK",IF(AND(Y92<>"도비",AI92<>""),"OK","@@"))) | AN92: {=IF(D92="","",INDEX(구분표!$I$2:$I$319, MATCH(1,(구분표!$E$2:$E$319='1추일출'!C92)*(구분표!$F$2:$F$319='1추일출'!D92)*(구분표!$G$2:$G$319='1추일출'!B92),0)))} | AR92: =IF(O92<0,O92,0) -> 0 | AS92: =IF(O92>0,O92,0) -> 0
A93: =COUNTA($C$8:C93)-COUNTBLANK($C$8:C93)+8 -> 5 | B93: =IF(C93="","",MID($B$91,2,7)) | C93: =IF(D93="","",VLOOKUP(D93,구분표!$A$3:$C$223,3,)) | K93: =I93-J93 -> 0 | N93: =I93+L93+M93 -> 0 | O93: =R93-N93 -> 0 | R93: =I93+P93+Q93 -> 0 | S93: =IF(AND((N93=0),(R93>0)),"O",IF(AND((L93<0),(N93-R93<0)),"O","X")) -> X | Z93: =IF($Y93<>"도비",IF($W93="국도비","직접입력",SUM($L93:$M93)),) -> 0 | AA93: =IF($Y93="도비",SUM($L93:$M93),IF($W93="국도비","직접입력",SUM($L93:$M93)-$Z93)) -> 0 | AB93: =IF(SUM($L93:$M93)=SUM($Z93:$AA93),"OK","검토") -> OK | AE93: =IF($Y93<>"도비",IF($W93="국도비","직접입력",SUM($P93:$Q93)),) -> 0 | AF93: =IF($Y93="도비",SUM(P93:Q93),IF($W93="국도비","직접입력",SUM(P93:Q93)-AE93)) -> 0 | AG93: =IF(SUM(P93:Q93)=SUM(AE93:AF93),"OK","검토") -> OK | AI93: =IF(W93="","",IF(W93="도비","세입없음","직접입력")) | AK93: =IF(AI93="","",COUNTIF($AI$7:$AI$112,AI93)) | AL93: =IF(Y93="","",IF(AND(Y93="도비",AI93="세입없음"),"OK",IF(AND(Y93<>"도비",AI93<>""),"OK","@@"))) | AN93: {=IF(D93="","",INDEX(구분표!$I$2:$I$319, MATCH(1,(구분표!$E$2:$E$319='1추일출'!C93)*(구분표!$F$2:$F$319='1추일출'!D93)*(구분표!$G$2:$G$319='1추일출'!B93),0)))} | AR93: =IF(O93<0,O93,0) -> 0 | AS93: =IF(O93>0,O93,0) -> 0
A94: =COUNTA($C$8:C94)-COUNTBLANK($C$8:C94)+8 -> 5 | B94: =IF(C94="","",MID($B$91,2,7)) | C94: =IF(D94="","",VLOOKUP(D94,구분표!$A$3:$C$223,3,)) | K94: =I94-J94 -> 0 | N94: =I94+L94+M94 -> 0 | O94: =R94-N94 -> 0 | R94: =I94+P94+Q94 -> 0 | S94: =IF(AND((N94=0),(R94>0)),"O",IF(AND((L94<0),(N94-R94<0)),"O","X")) -> X | Z94: =IF($Y94<>"도비",IF($W94="국도비","직접입력",SUM($L94:$M94)),) -> 0 | AA94: =IF($Y94="도비",SUM($L94:$M94),IF($W94="국도비","직접입력",SUM($L94:$M94)-$Z94)) -> 0 | AB94: =IF(SUM($L94:$M94)=SUM($Z94:$AA94),"OK","검토") -> OK | AE94: =IF($Y94<>"도비",IF($W94="국도비","직접입력",SUM($P94:$Q94)),) -> 0 | AF94: =IF($Y94="도비",SUM(P94:Q94),IF($W94="국도비","직접입력",SUM(P94:Q94)-AE94)) -> 0 | AG94: =IF(SUM(P94:Q94)=SUM(AE94:AF94),"OK","검토") -> OK | AI94: =IF(W94="","",IF(W94="도비","세입없음","직접입력")) | AK94: =IF(AI94="","",COUNTIF($AI$7:$AI$112,AI94)) | AL94: =IF(Y94="","",IF(AND(Y94="도비",AI94="세입없음"),"OK",IF(AND(Y94<>"도비",AI94<>""),"OK","@@"))) | AN94: {=IF(D94="","",INDEX(구분표!$I$2:$I$319, MATCH(1,(구분표!$E$2:$E$319='1추일출'!C94)*(구분표!$F$2:$F$319='1추일출'!D94)*(구분표!$G$2:$G$319='1추일출'!B94),0)))} | AR94: =IF(O94<0,O94,0) -> 0 | AS94: =IF(O94>0,O94,0) -> 0
A95: =COUNTA($C$8:C95)-COUNTBLANK($C$8:C95)+8 -> 5 | B95: =IF(C95="","",MID($B$91,2,7)) | C95: =IF(D95="","",VLOOKUP(D95,구분표!$A$3:$C$223,3,)) | K95: =I95-J95 -> 0 | N95: =I95+L95+M95 -> 0 | O95: =R95-N95 -> 0 | R95: =I95+P95+Q95 -> 0 | S95: =IF(AND((N95=0),(R95>0)),"O",IF(AND((L95<0),(N95-R95<0)),"O","X")) -> X | Z95: =IF($Y95<>"도비",IF($W95="국도비","직접입력",SUM($L95:$M95)),) -> 0 | AA95: =IF($Y95="도비",SUM($L95:$M95),IF($W95="국도비","직접입력",SUM($L95:$M95)-$Z95)) -> 0 | AB95: =IF(SUM($L95:$M95)=SUM($Z95:$AA95),"OK","검토") -> OK | AE95: =IF($Y95<>"도비",IF($W95="국도비","직접입력",SUM($P95:$Q95)),) -> 0 | AF95: =IF($Y95="도비",SUM(P95:Q95),IF($W95="국도비","직접입력",SUM(P95:Q95)-AE95)) -> 0 | AG95: =IF(SUM(P95:Q95)=SUM(AE95:AF95),"OK","검토") -> OK | AI95: =IF(W95="","",IF(W95="도비","세입없음","직접입력")) | AK95: =IF(AI95="","",COUNTIF($AI$7:$AI$112,AI95)) | AL95: =IF(Y95="","",IF(AND(Y95="도비",AI95="세입없음"),"OK",IF(AND(Y95<>"도비",AI95<>""),"OK","@@"))) | AN95: {=IF(D95="","",INDEX(구분표!$I$2:$I$319, MATCH(1,(구분표!$E$2:$E$319='1추일출'!C95)*(구분표!$F$2:$F$319='1추일출'!D95)*(구분표!$G$2:$G$319='1추일출'!B95),0)))} | AR95: =IF(O95<0,O95,0) -> 0 | AS95: =IF(O95>0,O95,0) -> 0
A96: =COUNTA($C$8:C96)-COUNTBLANK($C$8:C96)+8 -> 5 | B96: =IF(C96="","",MID($B$91,2,7)) | C96: =IF(D96="","",VLOOKUP(D96,구분표!$A$3:$C$223,3,)) | K96: =I96-J96 -> 0 | N96: =I96+L96+M96 -> 0 | O96: =R96-N96 -> 0 | R96: =I96+P96+Q96 -> 0 | S96: =IF(AND((N96=0),(R96>0)),"O",IF(AND((L96<0),(N96-R96<0)),"O","X")) -> X | Z96: =IF($Y96<>"도비",IF($W96="국도비","직접입력",SUM($L96:$M96)),) -> 0 | AA96: =IF($Y96="도비",SUM($L96:$M96),IF($W96="국도비","직접입력",SUM($L96:$M96)-$Z96)) -> 0 | AB96: =IF(SUM($L96:$M96)=SUM($Z96:$AA96),"OK","검토") -> OK | AE96: =IF($Y96<>"도비",IF($W96="국도비","직접입력",SUM($P96:$Q96)),) -> 0 | AF96: =IF($Y96="도비",SUM(P96:Q96),IF($W96="국도비","직접입력",SUM(P96:Q96)-AE96)) -> 0 | AG96: =IF(SUM(P96:Q96)=SUM(AE96:AF96),"OK","검토") -> OK | AI96: =IF(W96="","",IF(W96="도비","세입없음","직접입력")) | AK96: =IF(AI96="","",COUNTIF($AI$7:$AI$112,AI96)) | AL96: =IF(Y96="","",IF(AND(Y96="도비",AI96="세입없음"),"OK",IF(AND(Y96<>"도비",AI96<>""),"OK","@@"))) | AN96: {=IF(D96="","",INDEX(구분표!$I$2:$I$319, MATCH(1,(구분표!$E$2:$E$319='1추일출'!C96)*(구분표!$F$2:$F$319='1추일출'!D96)*(구분표!$G$2:$G$319='1추일출'!B96),0)))} | AR96: =IF(O96<0,O96,0) -> 0 | AS96: =IF(O96>0,O96,0) -> 0
A97: =COUNTA($C$8:C97)-COUNTBLANK($C$8:C97)+8 -> 5 | B97: =IF(C97="","",MID($B$91,2,7)) | C97: =IF(D97="","",VLOOKUP(D97,구분표!$A$3:$C$223,3,)) | K97: =I97-J97 -> 0 | N97: =I97+L97+M97 -> 0 | O97: =R97-N97 -> 0 | R97: =I97+P97+Q97 -> 0 | S97: =IF(AND((N97=0),(R97>0)),"O",IF(AND((L97<0),(N97-R97<0)),"O","X")) -> X | Z97: =IF($Y97<>"도비",IF($W97="국도비","직접입력",SUM($L97:$M97)),) -> 0 | AA97: =IF($Y97="도비",SUM($L97:$M97),IF($W97="국도비","직접입력",SUM($L97:$M97)-$Z97)) -> 0 | AB97: =IF(SUM($L97:$M97)=SUM($Z97:$AA97),"OK","검토") -> OK | AE97: =IF($Y97<>"도비",IF($W97="국도비","직접입력",SUM($P97:$Q97)),) -> 0 | AF97: =IF($Y97="도비",SUM(P97:Q97),IF($W97="국도비","직접입력",SUM(P97:Q97)-AE97)) -> 0 | AG97: =IF(SUM(P97:Q97)=SUM(AE97:AF97),"OK","검토") -> OK | AI97: =IF(W97="","",IF(W97="도비","세입없음","직접입력")) | AK97: =IF(AI97="","",COUNTIF($AI$7:$AI$112,AI97)) | AL97: =IF(Y97="","",IF(AND(Y97="도비",AI97="세입없음"),"OK",IF(AND(Y97<>"도비",AI97<>""),"OK","@@"))) | AN97: {=IF(D97="","",INDEX(구분표!$I$2:$I$319, MATCH(1,(구분표!$E$2:$E$319='1추일출'!C97)*(구분표!$F$2:$F$319='1추일출'!D97)*(구분표!$G$2:$G$319='1추일출'!B97),0)))} | AR97: =IF(O97<0,O97,0) -> 0 | AS97: =IF(O97>0,O97,0) -> 0
A98: =COUNTA($C$8:C98)-COUNTBLANK($C$8:C98)+8 -> 5 | B98: =IF(C98="","",MID($B$91,2,7)) | C98: =IF(D98="","",VLOOKUP(D98,구분표!$A$3:$C$223,3,)) | K98: =I98-J98 -> 0 | N98: =I98+L98+M98 -> 0 | O98: =R98-N98 -> 0 | R98: =I98+P98+Q98 -> 0 | S98: =IF(AND((N98=0),(R98>0)),"O",IF(AND((L98<0),(N98-R98<0)),"O","X")) -> X | Z98: =IF($Y98<>"도비",IF($W98="국도비","직접입력",SUM($L98:$M98)),) -> 0 | AA98: =IF($Y98="도비",SUM($L98:$M98),IF($W98="국도비","직접입력",SUM($L98:$M98)-$Z98)) -> 0 | AB98: =IF(SUM($L98:$M98)=SUM($Z98:$AA98),"OK","검토") -> OK | AE98: =IF($Y98<>"도비",IF($W98="국도비","직접입력",SUM($P98:$Q98)),) -> 0 | AF98: =IF($Y98="도비",SUM(P98:Q98),IF($W98="국도비","직접입력",SUM(P98:Q98)-AE98)) -> 0 | AG98: =IF(SUM(P98:Q98)=SUM(AE98:AF98),"OK","검토") -> OK | AI98: =IF(W98="","",IF(W98="도비","세입없음","직접입력")) | AK98: =IF(AI98="","",COUNTIF($AI$7:$AI$112,AI98)) | AL98: =IF(Y98="","",IF(AND(Y98="도비",AI98="세입없음"),"OK",IF(AND(Y98<>"도비",AI98<>""),"OK","@@"))) | AN98: {=IF(D98="","",INDEX(구분표!$I$2:$I$319, MATCH(1,(구분표!$E$2:$E$319='1추일출'!C98)*(구분표!$F$2:$F$319='1추일출'!D98)*(구분표!$G$2:$G$319='1추일출'!B98),0)))} | AR98: =IF(O98<0,O98,0) -> 0 | AS98: =IF(O98>0,O98,0) -> 0
A99: =COUNTA($C$8:C99)-COUNTBLANK($C$8:C99)+8 -> 5 | B99: =IF(C99="","",MID($B$91,2,7)) | C99: =IF(D99="","",VLOOKUP(D99,구분표!$A$3:$C$223,3,)) | K99: =I99-J99 -> 0 | N99: =I99+L99+M99 -> 0 | O99: =R99-N99 -> 0 | R99: =I99+P99+Q99 -> 0 | S99: =IF(AND((N99=0),(R99>0)),"O",IF(AND((L99<0),(N99-R99<0)),"O","X")) -> X | Z99: =IF($Y99<>"도비",IF($W99="국도비","직접입력",SUM($L99:$M99)),) -> 0 | AA99: =IF($Y99="도비",SUM($L99:$M99),IF($W99="국도비","직접입력",SUM($L99:$M99)-$Z99)) -> 0 | AB99: =IF(SUM($L99:$M99)=SUM($Z99:$AA99),"OK","검토") -> OK | AE99: =IF($Y99<>"도비",IF($W99="국도비","직접입력",SUM($P99:$Q99)),) -> 0 | AF99: =IF($Y99="도비",SUM(P99:Q99),IF($W99="국도비","직접입력",SUM(P99:Q99)-AE99)) -> 0 | AG99: =IF(SUM(P99:Q99)=SUM(AE99:AF99),"OK","검토") -> OK | AI99: =IF(W99="","",IF(W99="도비","세입없음","직접입력")) | AK99: =IF(AI99="","",COUNTIF($AI$7:$AI$112,AI99)) | AL99: =IF(Y99="","",IF(AND(Y99="도비",AI99="세입없음"),"OK",IF(AND(Y99<>"도비",AI99<>""),"OK","@@"))) | AN99: {=IF(D99="","",INDEX(구분표!$I$2:$I$319, MATCH(1,(구분표!$E$2:$E$319='1추일출'!C99)*(구분표!$F$2:$F$319='1추일출'!D99)*(구분표!$G$2:$G$319='1추일출'!B99),0)))} | AR99: =IF(O99<0,O99,0) -> 0 | AS99: =IF(O99>0,O99,0) -> 0
A100: =COUNTA($C$8:C100)-COUNTBLANK($C$8:C100)+8 -> 5 | B100: =IF(C100="","",MID($B$91,2,7)) | C100: =IF(D100="","",VLOOKUP(D100,구분표!$A$3:$C$223,3,)) | K100: =I100-J100 -> 0 | N100: =I100+L100+M100 -> 0 | O100: =R100-N100 -> 0 | R100: =I100+P100+Q100 -> 0 | S100: =IF(AND((N100=0),(R100>0)),"O",IF(AND((L100<0),(N100-R100<0)),"O","X")) -> X | Z100: =IF($Y100<>"도비",IF($W100="국도비","직접입력",SUM($L100:$M100)),) -> 0 | AA100: =IF($Y100="도비",SUM($L100:$M100),IF($W100="국도비","직접입력",SUM($L100:$M100)-$Z100)) -> 0 | AB100: =IF(SUM($L100:$M100)=SUM($Z100:$AA100),"OK","검토") -> OK | AE100: =IF($Y100<>"도비",IF($W100="국도비","직접입력",SUM($P100:$Q100)),) -> 0 | AF100: =IF($Y100="도비",SUM(P100:Q100),IF($W100="국도비","직접입력",SUM(P100:Q100)-AE100)) -> 0 | AG100: =IF(SUM(P100:Q100)=SUM(AE100:AF100),"OK","검토") -> OK | AI100: =IF(W100="","",IF(W100="도비","세입없음","직접입력")) | AK100: =IF(AI100="","",COUNTIF($AI$7:$AI$112,AI100)) | AL100: =IF(Y100="","",IF(AND(Y100="도비",AI100="세입없음"),"OK",IF(AND(Y100<>"도비",AI100<>""),"OK","@@"))) | AN100: {=IF(D100="","",INDEX(구분표!$I$2:$I$319, MATCH(1,(구분표!$E$2:$E$319='1추일출'!C100)*(구분표!$F$2:$F$319='1추일출'!D100)*(구분표!$G$2:$G$319='1추일출'!B100),0)))} | AR100: =IF(O100<0,O100,0) -> 0 | AS100: =IF(O100>0,O100,0) -> 0
...

Sheet 1추특입
A1: 2018년도 제1회 추가경정 경기도 특별회계 세입 예산 조정(안)
A2: □ 세입예산 | X2: 세입=세출 | AC2: 세입=세출
P3: =P6-H6 -> 0 | T3: (단위 : 천원) | X3: =IF(X6='1추특출'!Z6,"OK","@@") -> OK | Y3: =IF(Y6='1추특출'!AA6,"OK","@@") -> OK | Z3: =IF(COUNTIF(Z6:Z16,"검토")>0,"@@","OK") -> OK | AC3: =IF(AC6='1추특출'!AE6,"OK","@@") -> OK | AE3: =IF(COUNTIF(AE6:AE16,"검토")>0,"@@","OK") -> OK
A4: 위원회명 | B4: 실국명 | C4: 부서명 | D4: 편성 구분 | E4: 예산안 페이지 | F4: 사업설명서페이지 | G4: 목명 및 부기명 | H4: 제1회 추경 예산안 (가) | I4: 기정액 (나) | J4: 제1회 추경 증감액 (다=가-나) | K4: 상임위 예산안 조정액(라) | M4: 상임위 조정 예산안 (마=가+라) | N4: 예결위 예산안 조정액(사) | P4: 예결위 조정 예산안 (아=가+사) | Q4: 동의 대상 | R4: 상임위 변경사유 (심의 참고자료) | S4: 비고 (상임위 부대의견) | T4: 비고 (예결위 부대의견) | U4: 국도비 등 여부 | W4: 재원 | X4: 상임위 재원별 증감액 | AB4: 재원 | AC4: 예결위 재원별 증감액 | AG4: 세입번호 | AI4: 실국부서 코드 | AK4: 추가 내시 등 | AM4: 상임위 세입 검증 | AQ4: 예결위 세입 검증
K5: 감액 | L5: 증액 | N5: 감액 | O5: 증액 | X5: 국비 등 | Y5: 도비 | Z5: 검증 | AC5: 국비 등 | AD5: 도비 | AE5: 검증 | AM5: 국비 증감액 | AN5: 건수 | AO5: 검증 | AQ5: 국비 증감액 | AR5: 건수 | AS5: 검증
A6: 합 계 | H6: =SUBTOTAL(9,H7:H16) -> 0 | I6: =SUBTOTAL(9,I7:I16) -> 0 | J6: =SUBTOTAL(9,J7:J16) -> 0 | K6: =SUBTOTAL(9,K7:K16) -> 0 | L6: =SUBTOTAL(9,L7:L16) -> 0 | M6: =SUBTOTAL(9,M7:M16) -> 0 | N6: =SUBTOTAL(9,N7:N16) -> 0 | O6: =SUBTOTAL(9,O7:O16) -> 0 | P6: =SUBTOTAL(9,P7:P16) -> 0 | T6: =SUBTOTAL(9,T7:T16)/2 -> 0 | X6: =SUBTOTAL(9,X7:X16) -> 0 | Y6: =SUBTOTAL(9,Y7:Y16) -> 0 | Z6: =IF(SUM($K6:$L6)=SUM($X6:$Y6),"OK","검토") -> OK | AC6: =SUBTOTAL(9,AC7:AC16) -> 0 | AD6: =SUBTOTAL(9,AD7:AD16) -> 0 | AE6: =IF(SUM($K6:$L6)=SUM($X6:$Y6),"OK","검토") -> OK | AM6: =SUBTOTAL(9,AM7:AM16) -> 0 | AN6: =SUBTOTAL(9,AN7:AN16) -> 0 | AO6: =IF(COUNTIF(AO7:AO16,"@@")>0,"@@","OK") -> OK | AQ6: =SUBTOTAL(9,AQ7:AQ16) -> 0 | AR6: =SUBTOTAL(9,AR7:AR16) -> 0 | AS6: =IF(COUNTIF(AS7:AS16,"@@")>0,"@@","OK") -> OK
A7: ( 특별회계) | H7: =SUBTOTAL(9,H8:H10) -> 0 | I7: =SUBTOTAL(9,I8:I10) -> 0 | J7: =SUBTOTAL(9,J8:J10) -> 0 | K7: =SUBTOTAL(9,K8:K10) -> 0 | L7: =SUBTOTAL(9,L8:L10) -> 0 | M7: =SUBTOTAL(9,M8:M10) -> 0 | N7: =SUBTOTAL(9,N8:N10) -> 0 | O7: =SUBTOTAL(9,O8:O10) -> 0 | P7: =SUBTOTAL(9,P8:P10) -> 0
J8: =IF(D8="","",H8-I8) | M8: =SUM(H8,K8,L8) -> 0 | P8: =SUM(H8,N8,O8) -> 0 | Q8: =IF(AND((M8=0),(P8>0)),"O",IF(AND((K8<0),(M8-P8<0)),"O","X")) -> X | X8: =IF($W8<>"도비",IF($U8="국도비","직접입력",SUM($K8:$L8)),) -> 0 | Y8: =IF($W8="도비",SUM($K8:$L8),IF($U8="국도비","직접입력",SUM($K8:$L8)-$X8)) -> 0 | Z8: =IF(SUM($K8:$L8)=SUM($X8:$Y8),"OK","검토") -> OK | AC8: =IF($W8<>"도비",IF($U8="국도비","직접입력",SUM($N8:$O8)),) -> 0 | AD8: =IF($W8="도비",SUM(N8:O8),IF($U8="국도비","직접입력",SUM(N8:O8)-AC8)) -> 0 | AE8: =IF(SUM(N8:O8)=SUM(AC8:AD8),"OK","검토") -> OK | AG8: =IF(AI8="","",IF(W8="도비","세입없음",CONCATENATE(AI8,"-",COUNTIF($AI$7:AI8,AI8)))) | AI8: {=IF(C8="","",INDEX(구분표!$I$2:$I$319, MATCH(1,(구분표!$E$2:$E$319='1추특입'!B8)*(구분표!$F$2:$F$319='1추특입'!C8)*(구분표!$G$2:$G$319='1추특입'!A8),0)))} | AM8: =IF(AG8="",0,SUMIFS('1추특출'!$Z$6:$Z$397,'1추특출'!$AI$6:$AI$397,'1추특입'!$AG8)) -> 0 | AN8: =IF(AG8="","",COUNTIFS('1추특출'!$AI$6:$AI$397,'1추특입'!AG8)) | AO8: =IF(X8=AM8,"OK","@@") -> OK | AQ8: =IF(AG8="",0,SUMIFS('1추특출'!$AE$6:$AE$177,'1추특출'!$AI$6:$AI$177,'1추특입'!$AG8)) -> 0 | AR8: =IF(AG8="","",COUNTIFS('1추특출'!$AI$6:$AI$177,AG8)) | AS8: =IF(AC8=AQ8,"OK","@@") -> OK
J9: =IF(D9="","",H9-I9) | M9: =SUM(H9,K9,L9) -> 0 | P9: =SUM(H9,N9,O9) -> 0 | Q9: =IF(AND((M9=0),(P9>0)),"O",IF(AND((K9<0),(M9-P9<0)),"O","X")) -> X | X9: =IF($W9<>"도비",IF($U9="국도비","직접입력",SUM($K9:$L9)),) -> 0 | Y9: =IF($W9="도비",SUM($K9:$L9),IF($U9="국도비","직접입력",SUM($K9:$L9)-$X9)) -> 0 | Z9: =IF(SUM($K9:$L9)=SUM($X9:$Y9),"OK","검토") -> OK | AC9: =IF($W9<>"도비",IF($U9="국도비","직접입력",SUM($N9:$O9)),) -> 0 | AD9: =IF($W9="도비",SUM(N9:O9),IF($U9="국도비","직접입력",SUM(N9:O9)-AC9)) -> 0 | AE9: =IF(SUM(N9:O9)=SUM(AC9:AD9),"OK","검토") -> OK | AG9: =IF(AI9="","",IF(W9="도비","세입없음",CONCATENATE(AI9,"-",COUNTIF($AI$7:AI9,AI9)))) | AI9: {=IF(C9="","",INDEX(구분표!$I$2:$I$319, MATCH(1,(구분표!$E$2:$E$319='1추특입'!B9)*(구분표!$F$2:$F$319='1추특입'!C9)*(구분표!$G$2:$G$319='1추특입'!A9),0)))} | AM9: =IF(AG9="",0,SUMIFS('1추특출'!$Z$6:$Z$397,'1추특출'!$AI$6:$AI$397,'1추특입'!$AG9)) -> 0 | AN9: =IF(AG9="","",COUNTIFS('1추특출'!$AI$6:$AI$397,'1추특입'!AG9)) | AO9: =IF(X9=AM9,"OK","@@") -> OK | AQ9: =IF(AG9="",0,SUMIFS('1추특출'!$AE$6:$AE$177,'1추특출'!$AI$6:$AI$177,'1추특입'!$AG9)) -> 0 | AR9: =IF(AG9="","",COUNTIFS('1추특출'!$AI$6:$AI$177,AG9)) | AS9: =IF(AC9=AQ9,"OK","@@") -> OK
A10: =IFERROR(VLOOKUP($C10,구분표!$A$2:$C$319,2,FALSE),"") | B10: =IFERROR(VLOOKUP($C10,구분표!$A$2:$C$319,3,FALSE),"") | J10: =IF(D10="","",H10-I10) | M10: =SUM(H10,K10,L10) -> 0 | P10: =SUM(H10,N10,O10) -> 0 | Q10: =IF(AND((M10=0),(P10>0)),"O",IF(AND((K10<0),(M10-P10<0)),"O","X")) -> X | X10: =IF($W10<>"도비",IF($U10="국도비","직접입력",SUM($K10:$L10)),) -> 0 | Y10: =IF($W10="도비",SUM($K10:$L10),IF($U10="국도비","직접입력",SUM($K10:$L10)-$X10)) -> 0 | Z10: =IF(SUM($K10:$L10)=SUM($X10:$Y10),"OK","검토") -> OK | AC10: =IF($W10<>"도비",IF($U10="국도비","직접입력",SUM($N10:$O10)),) -> 0 | AD10: =IF($W10="도비",SUM(N10:O10),IF($U10="국도비","직접입력",SUM(N10:O10)-AC10)) -> 0 | AE10: =IF(SUM(N10:O10)=SUM(AC10:AD10),"OK","검토") -> OK | AG10: =IF(AI10="","",IF(W10="도비","세입없음",CONCATENATE(AI10,"-",COUNTIF($AI$7:AI10,AI10)))) | AI10: {=IF(C10="","",INDEX(구분표!$I$2:$I$319, MATCH(1,(구분표!$E$2:$E$319='1추특입'!B10)*(구분표!$F$2:$F$319='1추특입'!C10)*(구분표!$G$2:$G$319='1추특입'!A10),0)))} | AM10: =IF(AG10="",0,SUMIFS('1추특출'!$Z$6:$Z$397,'1추특출'!$AI$6:$AI$397,'1추특입'!$AG10)) -> 0 | AN10: =IF(AG10="","",COUNTIFS('1추특출'!$AI$6:$AI$397,'1추특입'!AG10)) | AO10: =IF(X10=AM10,"OK","@@") -> OK | AQ10: =IF(AG10="",0,SUMIFS('1추특출'!$AE$6:$AE$177,'1추특출'!$AI$6:$AI$177,'1추특입'!$AG10)) -> 0 | AR10: =IF(AG10="","",COUNTIFS('1추특출'!$AI$6:$AI$177,AG10)) | AS10: =IF(AC10=AQ10,"OK","@@") -> OK
A11: ( 특별회계) | H11: =SUBTOTAL(9,H12:H14) -> 0 | I11: =SUBTOTAL(9,I12:I14) -> 0 | J11: =SUBTOTAL(9,J12:J14) -> 0 | K11: =SUBTOTAL(9,K12:K16) -> 0 | L11: =SUBTOTAL(9,L12:L16) -> 0 | M11: =SUBTOTAL(9,M12:M16) -> 0 | N11: =SUBTOTAL(9,N12:N16) -> 0 | O11: =SUBTOTAL(9,O12:O16) -> 0 | P11: =SUBTOTAL(9,P12:P16) -> 0
J12: =IF(D12="","",H12-I12) | M12: =SUM(H12,K12,L12) -> 0 | P12: =SUM(H12,N12,O12) -> 0 | Q12: =IF(AND((M12=0),(P12>0)),"O",IF(AND((K12<0),(M12-P12<0)),"O","X")) -> X | X12: =IF($W12<>"도비",IF($U12="국도비","직접입력",SUM($K12:$L12)),) -> 0 | Y12: =IF($W12="도비",SUM($K12:$L12),IF($U12="국도비","직접입력",SUM($K12:$L12)-$X12)) -> 0 | Z12: =IF(SUM($K12:$L12)=SUM($X12:$Y12),"OK","검토") -> OK | AC12: =IF($W12<>"도비",IF($U12="국도비","직접입력",SUM($N12:$O12)),) -> 0 | AD12: =IF($W12="도비",SUM(N12:O12),IF($U12="국도비","직접입력",SUM(N12:O12)-AC12)) -> 0 | AE12: =IF(SUM(N12:O12)=SUM(AC12:AD12),"OK","검토") -> OK | AG12: =IF(AI12="","",IF(W12="도비","세입없음",CONCATENATE(AI12,"-",COUNTIF($AI$7:AI12,AI12)))) | AI12: {=IF(C12="","",INDEX(구분표!$I$2:$I$319, MATCH(1,(구분표!$E$2:$E$319='1추특입'!B12)*(구분표!$F$2:$F$319='1추특입'!C12)*(구분표!$G$2:$G$319='1추특입'!A12),0)))} | AM12: =IF(AG12="",0,SUMIFS('1추특출'!$Z$6:$Z$397,'1추특출'!$AI$6:$AI$397,'1추특입'!$AG12)) -> 0 | AN12: =IF(AG12="","",COUNTIFS('1추특출'!$AI$6:$AI$397,'1추특입'!AG12)) | AO12: =IF(X12=AM12,"OK","@@") -> OK | AQ12: =IF(AG12="",0,SUMIFS('1추특출'!$AE$6:$AE$177,'1추특출'!$AI$6:$AI$177,'1추특입'!$AG12)) -> 0 | AR12: =IF(AG12="","",COUNTIFS('1추특출'!$AI$6:$AI$177,AG12)) | AS12: =IF(AC12=AQ12,"OK","@@") -> OK
J13: =IF(D13="","",H13-I13) | M13: =SUM(H13,K13,L13) -> 0 | P13: =SUM(H13,N13,O13) -> 0 | Q13: =IF(AND((M13=0),(P13>0)),"O",IF(AND((K13<0),(M13-P13<0)),"O","X")) -> X | X13: 0 | Y13: 0 | Z13: =IF(SUM($K13:$L13)=SUM($X13:$Y13),"OK","검토") -> OK | AC13: =IF($W13<>"도비",IF($U13="국도비","직접입력",SUM($N13:$O13)),) -> 0 | AD13: =IF($W13="도비",SUM(N13:O13),IF($U13="국도비","직접입력",SUM(N13:O13)-AC13)) -> 0 | AE13: =IF(SUM(N13:O13)=SUM(AC13:AD13),"OK","검토") -> OK | AG13: =IF(AI13="","",IF(W13="도비","세입없음",CONCATENATE(AI13,"-",COUNTIF($AI$7:AI13,AI13)))) | AI13: {=IF(C13="","",INDEX(구분표!$I$2:$I$319, MATCH(1,(구분표!$E$2:$E$319='1추특입'!B13)*(구분표!$F$2:$F$319='1추특입'!C13)*(구분표!$G$2:$G$319='1추특입'!A13),0)))} | AM13: =IF(AG13="",0,SUMIFS('1추특출'!$Z$6:$Z$397,'1추특출'!$AI$6:$AI$397,'1추특입'!$AG13)) -> 0 | AN13: =IF(AG13="","",COUNTIFS('1추특출'!$AI$6:$AI$397,'1추특입'!AG13)) | AO13: =IF(X13=AM13,"OK","@@") -> OK | AQ13: =IF(AG13="",0,SUMIFS('1추특출'!$AE$6:$AE$177,'1추특출'!$AI$6:$AI$177,'1추특입'!$AG13)) -> 0 | AR13: =IF(AG13="","",COUNTIFS('1추특출'!$AI$6:$AI$177,AG13)) | AS13: =IF(AC13=AQ13,"OK","@@") -> OK
J14: =IF(D14="","",H14-I14) | M14: =SUM(H14,K14,L14) -> 0 | P14: =SUM(H14,N14,O14) -> 0 | Q14: =IF(AND((M14=0),(P14>0)),"O",IF(AND((K14<0),(M14-P14<0)),"O","X")) -> X | X14: =IF($W14<>"도비",IF($U14="국도비","직접입력",SUM($K14:$L14)),) -> 0 | Y14: =IF($W14="도비",SUM($K14:$L14),IF($U14="국도비","직접입력",SUM($K14:$L14)-$X14)) -> 0 | Z14: =IF(SUM($K14:$L14)=SUM($X14:$Y14),"OK","검토") -> OK | AC14: =IF($W14<>"도비",IF($U14="국도비","직접입력",SUM($N14:$O14)),) -> 0 | AD14: =IF($W14="도비",SUM(N14:O14),IF($U14="국도비","직접입력",SUM(N14:O14)-AC14)) -> 0 | AE14: =IF(SUM(N14:O14)=SUM(AC14:AD14),"OK","검토") -> OK | AG14: =IF(AI14="","",IF(W14="도비","세입없음",CONCATENATE(AI14,"-",COUNTIF($AI$7:AI14,AI14)))) | AI14: {=IF(C14="","",INDEX(구분표!$I$2:$I$319, MATCH(1,(구분표!$E$2:$E$319='1추특입'!B14)*(구분표!$F$2:$F$319='1추특입'!C14)*(구분표!$G$2:$G$319='1추특입'!A14),0)))} | AM14: =IF(AG14="",0,SUMIFS('1추특출'!$Z$6:$Z$397,'1추특출'!$AI$6:$AI$397,'1추특입'!$AG14)) -> 0 | AN14: =IF(AG14="","",COUNTIFS('1추특출'!$AI$6:$AI$397,'1추특입'!AG14)) | AO14: =IF(X14=AM14,"OK","@@") -> OK | AQ14: =IF(AG14="",0,SUMIFS('1추특출'!$AE$6:$AE$177,'1추특출'!$AI$6:$AI$177,'1추특입'!$AG14)) -> 0 | AR14: =IF(AG14="","",COUNTIFS('1추특출'!$AI$6:$AI$177,AG14)) | AS14: =IF(AC14=AQ14,"OK","@@") -> OK
J15: =IF(D15="","",H15-I15) | M15: =SUM(H15,K15,L15) -> 0 | P15: =SUM(H15,N15,O15) -> 0 | Q15: =IF(AND((M15=0),(P15>0)),"O",IF(AND((K15<0),(M15-P15<0)),"O","X")) -> X | X15: =IF($W15<>"도비",IF($U15="국도비","직접입력",SUM($K15:$L15)),) -> 0 | Y15: =IF($W15="도비",SUM($K15:$L15),IF($U15="국도비","직접입력",SUM($K15:$L15)-$X15)) -> 0 | Z15: =IF(SUM($K15:$L15)=SUM($X15:$Y15),"OK","검토") -> OK | AC15: =IF($W15<>"도비",IF($U15="국도비","직접입력",SUM($N15:$O15)),) -> 0 | AD15: =IF($W15="도비",SUM(N15:O15),IF($U15="국도비","직접입력",SUM(N15:O15)-AC15)) -> 0 | AE15: =IF(SUM(N15:O15)=SUM(AC15:AD15),"OK","검토") -> OK | AG15: =IF(AI15="","",IF(W15="도비","세입없음",CONCATENATE(AI15,"-",COUNTIF($AI$7:AI15,AI15)))) | AI15: {=IF(C15="","",INDEX(구분표!$I$2:$I$319, MATCH(1,(구분표!$E$2:$E$319='1추특입'!B15)*(구분표!$F$2:$F$319='1추특입'!C15)*(구분표!$G$2:$G$319='1추특입'!A15),0)))} | AM15: =IF(AG15="",0,SUMIFS('1추특출'!$Z$6:$Z$397,'1추특출'!$AI$6:$AI$397,'1추특입'!$AG15)) -> 0 | AN15: =IF(AG15="","",COUNTIFS('1추특출'!$AI$6:$AI$397,'1추특입'!AG15)) | AO15: =IF(X15=AM15,"OK","@@") -> OK | AQ15: =IF(AG15="",0,SUMIFS('1추특출'!$AE$6:$AE$177,'1추특출'!$AI$6:$AI$177,'1추특입'!$AG15)) -> 0 | AR15: =IF(AG15="","",COUNTIFS('1추특출'!$AI$6:$AI$177,AG15)) | AS15: =IF(AC15=AQ15,"OK","@@") -> OK
A16: =IFERROR(VLOOKUP($C16,구분표!$A$2:$C$319,2,FALSE),"") | B16: =IFERROR(VLOOKUP($C16,구분표!$A$2:$C$319,3,FALSE),"") | J16: =IF(D16="","",H16-I16) | M16: =SUM(H16,K16,L16) -> 0 | P16: =SUM(H16,N16,O16) -> 0 | Q16: =IF(AND((M16=0),(P16>0)),"O",IF(AND((K16<0),(M16-P16<0)),"O","X")) -> X | X16: =IF($W16<>"도비",IF($U16="국도비","직접입력",SUM($K16:$L16)),) -> 0 | Y16: =IF($W16="도비",SUM($K16:$L16),IF($U16="국도비","직접입력",SUM($K16:$L16)-$X16)) -> 0 | Z16: =IF(SUM($K16:$L16)=SUM($X16:$Y16),"OK","검토") -> OK | AC16: =IF($W16<>"도비",IF($U16="국도비","직접입력",SUM($N16:$O16)),) -> 0 | AD16: =IF($W16="도비",SUM(N16:O16),IF($U16="국도비","직접입력",SUM(N16:O16)-AC16)) -> 0 | AE16: =IF(SUM(N16:O16)=SUM(AC16:AD16),"OK","검토") -> OK | AG16: =IF(AI16="","",IF(W16="도비","세입없음",CONCATENATE(AI16,"-",COUNTIF($AI$7:AI16,AI16)))) | AI16: {=IF(C16="","",INDEX(구분표!$I$2:$I$319, MATCH(1,(구분표!$E$2:$E$319='1추특입'!B16)*(구분표!$F$2:$F$319='1추특입'!C16)*(구분표!$G$2:$G$319='1추특입'!A16),0)))} | AM16: =IF(AG16="",0,SUMIFS('1추특출'!$Z$6:$Z$397,'1추특출'!$AI$6:$AI$397,'1추특입'!$AG16)) -> 0 | AN16: =IF(AG16="","",COUNTIFS('1추특출'!$AI$6:$AI$397,'1추특입'!AG16)) | AO16: =IF(X16=AM16,"OK","@@") -> OK | AQ16: =IF(AG16="",0,SUMIFS('1추특출'!$AE$6:$AE$177,'1추특출'!$AI$6:$AI$177,'1추특입'!$AG16)) -> 0 | AR16: =IF(AG16="","",COUNTIFS('1추특출'!$AI$6:$AI$177,AG16)) | AS16: =IF(AC16=AQ16,"OK","@@") -> OK

Sheet 1추특출
B1: 2018년도 제1회 추가경정 경기도 특별회계 세출 예산 조정(안)
B2: □ 세출예산 | Q2: =R2-'1추특입'!P3 -> 0 | R2: =R6-I6 -> 0 | Z2: 세입=세출 | AE2: 세입=세출
K3: =SUM(K7:K753)/2 -> 0 | L3: =SUM(L7:L753)/2 -> 0 | M3: =SUM(M7:M753)/2 -> 0 | N3: =SUM(N7:N753)/2 -> 0 | R3: =SUM(R7:R753)/2 -> 0 | V3: (단위 : 천원) | Z3: =IF(Z6='1추특입'!X6,"OK","@@") -> OK | AB3: =IF(COUNTIF(AB6:AB26,"검토")>0,"@@","OK") -> OK | AE3: =IF(AE6='1추특입'!AC6,"OK","@@") -> OK | AF3: =P6+Q6-AE6-AF6 -> 0 | AG3: =IF(COUNTIF(AG6:AG26,"검토")>0,"@@","OK") -> OK
A4: 번호 | B4: 위원회명 | C4: 실국명 | D4: 부서명 | E4: 편성 구분 | F4: 예산안 페이지 | G4: 사업설명서페이지 | H4: 세부사업명 및 부기명 | I4: 제1회 추경 예산안 (가) | J4: 기정액 (나) | K4: 제1회 추경 증감액 (다=가-나) | L4: 상임위 예산안 조정액(라) | N4: 상임위 조정 예산안 (마=가+라) | O4: 예결위 조정액 (아-마) | P4: 예결위 예산안(사) | R4: 예결위 조정 예산안 (아=가+사) | S4: 동의 대상 | T4: 참고자료 | U4: 비고 (상임위 부대의견) | V4: 비고 (예결위 부대의견) | W4: 국도비 등 여부 | Y4: 재원 | Z4: 상임위 재원별 증감액 | AD4: 재원 | AE4: 예결위 재원별 증감액 | AI4: 세입번호 | AK4: 동일 세입 건수 | AL4: 세출 번호 검증 | AN4: 실국부서 코드 | AP4: 추가 내시 등
L5: 감액 | M5: 증액 | P5: 감액 | Q5: 증액 | Z5: 국비 등 | AA5: 도비 | AB5: 검증 | AE5: 국비 등 | AF5: 도비 | AG5: 검증
B6: 합 계 | I6: =SUBTOTAL(9,I7:I26) -> 0 | J6: =SUBTOTAL(9,J7:J26) -> 0 | K6: =SUBTOTAL(9,K7:K26) -> 0 | L6: =SUBTOTAL(9,L7:L26) -> 0 | M6: =SUBTOTAL(9,M7:M26) -> 0 | N6: =SUBTOTAL(9,N7:N26) -> 0 | O6: =SUBTOTAL(9,O7:O26) -> 0 | P6: =SUBTOTAL(9,P7:P26) -> 0 | ... R6: =SUBTOTAL(9,R7:R26) -> 0 | Z6: =SUBTOTAL(9,Z7:Z26) -> 0 | AA6: =SUBTOTAL(9,AA7:AA26) -> 0 | AB6: =IF(SUM($L6:$M6)=SUM($Z6:$AA6),"OK","검토") -> OK | AE6: =SUBTOTAL(9,AE7:AE26) -> 0 | AF6: =SUBTOTAL(9,AF7:AF26) -> 0 | AG6: =IF(SUM($L6:$M6)=SUM($Z6:$AA6),"OK","검토") -> OK
B7: ( 특별회계) | I7: =SUBTOTAL(9,I8:I10) -> 0 | J7: =SUBTOTAL(9,J8:J10) -> 0 | K7: =SUBTOTAL(9,K8:K10) -> 0 | L7: =SUBTOTAL(9,L8:L10) -> 0 | M7: =SUBTOTAL(9,M8:M10) -> 0 | N7: =SUBTOTAL(9,N8:N10) -> 0 | O7: =SUBTOTAL(9,O8:O10) -> 0 | P7: =SUBTOTAL(9,P8:P10) -> 0 | ... R7: =SUBTOTAL(9,R8:R10) -> 0
A8: 1 | K8: =I8-J8 -> 0 | N8: =I8+L8+M8 -> 0 | O8: =R8-N8 -> 0 | R8: =I8+P8+Q8 -> 0 | S8: =IF(AND((N8=0),(R8>0)),"O",IF(AND((L8<0),(N8-R8<0)),"O","X")) -> X | U8: (예시) ◆상임위 쟁점사업◆ 경기도내 중소기업 협력사업 및 사회공헌 후 확대필요 | Z8: =IF($Y8<>"도비",IF($W8="국도비","직접입력",SUM($L8:$M8)),) -> 0 | AA8: =IF($Y8="도비",SUM($L8:$M8),IF($W8="국도비","직접입력",SUM($L8:$M8)-$Z8)) -> 0 | AB8: =IF(SUM($L8:$M8)=SUM($Z8:$AA8),"OK","검토") -> OK | AE8: =IF($Y8<>"도비",IF($W8="국도비","직접입력",SUM($P8:$Q8)),) -> 0 | AF8: =IF($Y8="도비",SUM(P8:Q8),IF($W8="국도비","직접입력",SUM(P8:Q8)-AE8)) -> 0 | AG8: =IF(SUM(P8:Q8)=SUM(AE8:AF8),"OK","검토") -> OK | AI8: =IF(Y8="","",IF(Y8="도비","세입없음","직접입력")) | AK8: =IF(AI8="","",COUNTIF($AI$7:$AI$26,AI8)) | AL8: =IF(Y8="","",IF(AND(Y8="도비",AI8="세입없음"),"OK",IF(AND(Y8<>"도비",AI8<>""),"OK","@@"))) | AN8: {=IF(D8="","",INDEX(구분표!$I$2:$I$319, MATCH(1,(구분표!$E$2:$E$319='1추특출'!C8)*(구분표!$F$2:$F$319='1추특출'!D8)*(구분표!$G$2:$G$319='1추특출'!B8),0)))}
A9: =COUNTA($C$8:C9)-COUNTBLANK($C$8:C9) -> -1 | C9: =IF(D9="","",VLOOKUP(D9,구분표!$A$3:$C$223,3,)) | K9: =I9-J9 -> 0 | N9: =I9+L9+M9 -> 0 | O9: =R9-N9 -> 0 | R9: =I9+P9+Q9 -> 0 | S9: =IF(AND((N9=0),(R9>0)),"O",IF(AND((L9<0),(N9-R9<0)),"O","X")) -> X | Z9: =IF($Y9<>"도비",IF($W9="국도비","직접입력",SUM($L9:$M9)),) -> 0 | AA9: =IF($Y9="도비",SUM($L9:$M9),IF($W9="국도비","직접입력",SUM($L9:$M9)-$Z9)) -> 0 | AB9: =IF(SUM($L9:$M9)=SUM($Z9:$AA9),"OK","검토") -> OK | AE9: =IF($Y9<>"도비",IF($W9="국도비","직접입력",SUM($P9:$Q9)),) -> 0 | AF9: =IF($Y9="도비",SUM(P9:Q9),IF($W9="국도비","직접입력",SUM(P9:Q9)-AE9)) -> 0 | AG9: =IF(SUM(P9:Q9)=SUM(AE9:AF9),"OK","검토") -> OK | AI9: =IF(Y9="","",IF(Y9="도비","세입없음","직접입력")) | AK9: =IF(AI9="","",COUNTIF($AI$7:$AI$26,AI9)) | AL9: =IF(Y9="","",IF(AND(Y9="도비",AI9="세입없음"),"OK",IF(AND(Y9<>"도비",AI9<>""),"OK","@@"))) | AN9: {=IF(D9="","",INDEX(구분표!$I$2:$I$319, MATCH(1,(구분표!$E$2:$E$319='1추특출'!C9)*(구분표!$F$2:$F$319='1추특출'!D9)*(구분표!$G$2:$G$319='1추특출'!B9),0)))}
A10: =COUNTA($C$8:C10)-COUNTBLANK($C$8:C10) -> -1 | C10: =IF(D10="","",VLOOKUP(D10,구분표!$A$3:$C$223,3,)) | K10: =I10-J10 -> 0 | N10: =I10+L10+M10 -> 0 | O10: =R10-N10 -> 0 | R10: =I10+P10+Q10 -> 0 | S10: =IF(AND((N10=0),(R10>0)),"O",IF(AND((L10<0),(N10-R10<0)),"O","X")) -> X | Z10: =IF($Y10<>"도비",IF($W10="국도비","직접입력",SUM($L10:$M10)),) -> 0 | AA10: =IF($Y10="도비",SUM($L10:$M10),IF($W10="국도비","직접입력",SUM($L10:$M10)-$Z10)) -> 0 | AB10: =IF(SUM($L10:$M10)=SUM($Z10:$AA10),"OK","검토") -> OK | AE10: =IF($Y10<>"도비",IF($W10="국도비","직접입력",SUM($P10:$Q10)),) -> 0 | AF10: =IF($Y10="도비",SUM(P10:Q10),IF($W10="국도비","직접입력",SUM(P10:Q10)-AE10)) -> 0 | AG10: =IF(SUM(P10:Q10)=SUM(AE10:AF10),"OK","검토") -> OK | AI10: =IF(Y10="","",IF(Y10="도비","세입없음","직접입력")) | AK10: =IF(AI10="","",COUNTIF($AI$7:$AI$26,AI10)) | AL10: =IF(Y10="","",IF(AND(Y10="도비",AI10="세입없음"),"OK",IF(AND(Y10<>"도비",AI10<>""),"OK","@@"))) | AN10: {=IF(D10="","",INDEX(구분표!$I$2:$I$319, MATCH(1,(구분표!$E$2:$E$319='1추특출'!C10)*(구분표!$F$2:$F$319='1추특출'!D10)*(구분표!$G$2:$G$319='1추특출'!B10),0)))}
B11: ( 특별회계) | I11: =SUBTOTAL(9,I12:I21) -> 0 | J11: =SUBTOTAL(9,J12:J21) -> 0 | K11: =SUBTOTAL(9,K12:K21) -> 0 | L11: =SUBTOTAL(9,L12:L21) -> 0 | M11: =SUBTOTAL(9,M12:M21) -> 0 | N11: =SUBTOTAL(9,N12:N21) -> 0 | O11: =SUBTOTAL(9,O12:O21) -> 0 | P11: =SUBTOTAL(9,P12:P21) -> 0 | ... R11: =SUBTOTAL(9,R12:R21) -> 0 | AI11: =IF(Y11="","",IF(Y11="도비","세입없음","직접입력"))
A12: =COUNTA($C$8:C12)-COUNTBLANK($C$8:C12)+1 -> -1 | C12: =IF(D12="","",VLOOKUP(D12,구분표!$A$3:$C$223,3,)) | K12: =I12-J12 -> 0 | N12: =I12+L12+M12 -> 0 | O12: =R12-N12 -> 0 | R12: =I12+P12+Q12 -> 0 | S12: =IF(AND((N12=0),(R12>0)),"O",IF(AND((L12<0),(N12-R12<0)),"O","X")) -> X | Z12: =IF($Y12<>"도비",IF($W12="국도비","직접입력",SUM($L12:$M12)),) -> 0 | AA12: =IF($Y12="도비",SUM($L12:$M12),IF($W12="국도비","직접입력",SUM($L12:$M12)-$Z12)) -> 0 | AB12: =IF(SUM($L12:$M12)=SUM($Z12:$AA12),"OK","검토") -> OK | AE12: =IF($Y12<>"도비",IF($W12="국도비","직접입력",SUM($P12:$Q12)),) -> 0 | AF12: =IF($Y12="도비",SUM(P12:Q12),IF($W12="국도비","직접입력",SUM(P12:Q12)-AE12)) -> 0 | AG12: =IF(SUM(P12:Q12)=SUM(AE12:AF12),"OK","검토") -> OK | AI12: =IF(Y12="","",IF(Y12="도비","세입없음","직접입력")) | AK12: =IF(AI12="","",COUNTIF($AI$7:$AI$26,AI12)) | AL12: =IF(Y12="","",IF(AND(Y12="도비",AI12="세입없음"),"OK",IF(AND(Y12<>"도비",AI12<>""),"OK","@@"))) | AN12: {=IF(D12="","",INDEX(구분표!$I$2:$I$319, MATCH(1,(구분표!$E$2:$E$319='1추특출'!C12)*(구분표!$F$2:$F$319='1추특출'!D12)*(구분표!$G$2:$G$319='1추특출'!B12),0)))}
A13: =COUNTA($C$8:C13)-COUNTBLANK($C$8:C13)+1 -> -1 | C13: =IF(D13="","",VLOOKUP(D13,구분표!$A$3:$C$223,3,)) | K13: =I13-J13 -> 0 | N13: =I13+L13+M13 -> 0 | O13: =R13-N13 -> 0 | R13: =I13+P13+Q13 -> 0 | S13: =IF(AND((N13=0),(R13>0)),"O",IF(AND((L13<0),(N13-R13<0)),"O","X")) -> X | Z13: =IF($Y13<>"도비",IF($W13="국도비","직접입력",SUM($L13:$M13)),) -> 0 | AA13: =IF($Y13="도비",SUM($L13:$M13),IF($W13="국도비","직접입력",SUM($L13:$M13)-$Z13)) -> 0 | AB13: =IF(SUM($L13:$M13)=SUM($Z13:$AA13),"OK","검토") -> OK | AE13: =IF($Y13<>"도비",IF($W13="국도비","직접입력",SUM($P13:$Q13)),) -> 0 | AF13: =IF($Y13="도비",SUM(P13:Q13),IF($W13="국도비","직접입력",SUM(P13:Q13)-AE13)) -> 0 | AG13: =IF(SUM(P13:Q13)=SUM(AE13:AF13),"OK","검토") -> OK | AI13: =IF(Y13="","",IF(Y13="도비","세입없음","직접입력")) | AK13: =IF(AI13="","",COUNTIF($AI$7:$AI$26,AI13)) | AL13: =IF(Y13="","",IF(AND(Y13="도비",AI13="세입없음"),"OK",IF(AND(Y13<>"도비",AI13<>""),"OK","@@"))) | AN13: {=IF(D13="","",INDEX(구분표!$I$2:$I$319, MATCH(1,(구분표!$E$2:$E$319='1추특출'!C13)*(구분표!$F$2:$F$319='1추특출'!D13)*(구분표!$G$2:$G$319='1추특출'!B13),0)))}
A14: =COUNTA($C$8:C14)-COUNTBLANK($C$8:C14)+1 -> -1 | C14: =IF(D14="","",VLOOKUP(D14,구분표!$A$3:$C$223,3,)) | K14: =I14-J14 -> 0 | N14: =I14+L14+M14 -> 0 | O14: =R14-N14 -> 0 | R14: =I14+P14+Q14 -> 0 | S14: =IF(AND((N14=0),(R14>0)),"O",IF(AND((L14<0),(N14-R14<0)),"O","X")) -> X | Z14: =IF($Y14<>"도비",IF($W14="국도비","직접입력",SUM($L14:$M14)),) -> 0 | AA14: =IF($Y14="도비",SUM($L14:$M14),IF($W14="국도비","직접입력",SUM($L14:$M14)-$Z14)) -> 0 | AB14: =IF(SUM($L14:$M14)=SUM($Z14:$AA14),"OK","검토") -> OK | AE14: =IF($Y14<>"도비",IF($W14="국도비","직접입력",SUM($P14:$Q14)),) -> 0 | AF14: =IF($Y14="도비",SUM(P14:Q14),IF($W14="국도비","직접입력",SUM(P14:Q14)-AE14)) -> 0 | AG14: =IF(SUM(P14:Q14)=SUM(AE14:AF14),"OK","검토") -> OK | AI14: =IF(Y14="","",IF(Y14="도비","세입없음","직접입력")) | AK14: =IF(AI14="","",COUNTIF($AI$7:$AI$26,AI14)) | AL14: =IF(Y14="","",IF(AND(Y14="도비",AI14="세입없음"),"OK",IF(AND(Y14<>"도비",AI14<>""),"OK","@@"))) | AN14: {=IF(D14="","",INDEX(구분표!$I$2:$I$319, MATCH(1,(구분표!$E$2:$E$319='1추특출'!C14)*(구분표!$F$2:$F$319='1추특출'!D14)*(구분표!$G$2:$G$319='1추특출'!B14),0)))}
A15: =COUNTA($C$8:C15)-COUNTBLANK($C$8:C15)+1 -> -1 | C15: =IF(D15="","",VLOOKUP(D15,구분표!$A$3:$C$223,3,)) | K15: =I15-J15 -> 0 | N15: =I15+L15+M15 -> 0 | O15: =R15-N15 -> 0 | R15: =I15+P15+Q15 -> 0 | S15: =IF(AND((N15=0),(R15>0)),"O",IF(AND((L15<0),(N15-R15<0)),"O","X")) -> X | Z15: =IF($Y15<>"도비",IF($W15="국도비","직접입력",SUM($L15:$M15)),) -> 0 | AA15: =IF($Y15="도비",SUM($L15:$M15),IF($W15="국도비","직접입력",SUM($L15:$M15)-$Z15)) -> 0 | AB15: =IF(SUM($L15:$M15)=SUM($Z15:$AA15),"OK","검토") -> OK | AE15: =IF($Y15<>"도비",IF($W15="국도비","직접입력",SUM($P15:$Q15)),) -> 0 | AF15: =IF($Y15="도비",SUM(P15:Q15),IF($W15="국도비","직접입력",SUM(P15:Q15)-AE15)) -> 0 | AG15: =IF(SUM(P15:Q15)=SUM(AE15:AF15),"OK","검토") -> OK | AI15: =IF(Y15="","",IF(Y15="도비","세입없음","직접입력")) | AK15: =IF(AI15="","",COUNTIF($AI$7:$AI$26,AI15)) | AL15: =IF(Y15="","",IF(AND(Y15="도비",AI15="세입없음"),"OK",IF(AND(Y15<>"도비",AI15<>""),"OK","@@"))) | AN15: {=IF(D15="","",INDEX(구분표!$I$2:$I$319, MATCH(1,(구분표!$E$2:$E$319='1추특출'!C15)*(구분표!$F$2:$F$319='1추특출'!D15)*(구분표!$G$2:$G$319='1추특출'!B15),0)))}
A16: =COUNTA($C$8:C16)-COUNTBLANK($C$8:C16)+1 -> -1 | C16: =IF(D16="","",VLOOKUP(D16,구분표!$A$3:$C$223,3,)) | K16: =I16-J16 -> 0 | N16: =I16+L16+M16 -> 0 | O16: =R16-N16 -> 0 | R16: =I16+P16+Q16 -> 0 | S16: =IF(AND((N16=0),(R16>0)),"O",IF(AND((L16<0),(N16-R16<0)),"O","X")) -> X | Z16: =IF($Y16<>"도비",IF($W16="국도비","직접입력",SUM($L16:$M16)),) -> 0 | AA16: =IF($Y16="도비",SUM($L16:$M16),IF($W16="국도비","직접입력",SUM($L16:$M16)-$Z16)) -> 0 | AB16: =IF(SUM($L16:$M16)=SUM($Z16:$AA16),"OK","검토") -> OK | AE16: =IF($Y16<>"도비",IF($W16="국도비","직접입력",SUM($P16:$Q16)),) -> 0 | AF16: =IF($Y16="도비",SUM(P16:Q16),IF($W16="국도비","직접입력",SUM(P16:Q16)-AE16)) -> 0 | AG16: =IF(SUM(P16:Q16)=SUM(AE16:AF16),"OK","검토") -> OK | AI16: =IF(Y16="","",IF(Y16="도비","세입없음","직접입력")) | AK16: =IF(AI16="","",COUNTIF($AI$7:$AI$26,AI16)) | AL16: =IF(Y16="","",IF(AND(Y16="도비",AI16="세입없음"),"OK",IF(AND(Y16<>"도비",AI16<>""),"OK","@@"))) | AN16: {=IF(D16="","",INDEX(구분표!$I$2:$I$319, MATCH(1,(구분표!$E$2:$E$319='1추특출'!C16)*(구분표!$F$2:$F$319='1추특출'!D16)*(구분표!$G$2:$G$319='1추특출'!B16),0)))}
A17: =COUNTA($C$8:C17)-COUNTBLANK($C$8:C17)+1 -> -1 | C17: =IF(D17="","",VLOOKUP(D17,구분표!$A$3:$C$223,3,)) | K17: =I17-J17 -> 0 | N17: =I17+L17+M17 -> 0 | O17: =R17-N17 -> 0 | R17: =I17+P17+Q17 -> 0 | S17: =IF(AND((N17=0),(R17>0)),"O",IF(AND((L17<0),(N17-R17<0)),"O","X")) -> X | Z17: =IF($Y17<>"도비",IF($W17="국도비","직접입력",SUM($L17:$M17)),) -> 0 | AA17: =IF($Y17="도비",SUM($L17:$M17),IF($W17="국도비","직접입력",SUM($L17:$M17)-$Z17)) -> 0 | AB17: =IF(SUM($L17:$M17)=SUM($Z17:$AA17),"OK","검토") -> OK | AE17: =IF($Y17<>"도비",IF($W17="국도비","직접입력",SUM($P17:$Q17)),) -> 0 | AF17: =IF($Y17="도비",SUM(P17:Q17),IF($W17="국도비","직접입력",SUM(P17:Q17)-AE17)) -> 0 | AG17: =IF(SUM(P17:Q17)=SUM(AE17:AF17),"OK","검토") -> OK | AI17: =IF(Y17="","",IF(Y17="도비","세입없음","직접입력")) | AK17: =IF(AI17="","",COUNTIF($AI$7:$AI$26,AI17)) | AL17: =IF(Y17="","",IF(AND(Y17="도비",AI17="세입없음"),"OK",IF(AND(Y17<>"도비",AI17<>""),"OK","@@"))) | AN17: {=IF(D17="","",INDEX(구분표!$I$2:$I$319, MATCH(1,(구분표!$E$2:$E$319='1추특출'!C17)*(구분표!$F$2:$F$319='1추특출'!D17)*(구분표!$G$2:$G$319='1추특출'!B17),0)))}
A18: =COUNTA($C$8:C18)-COUNTBLANK($C$8:C18)+1 -> -1 | C18: =IF(D18="","",VLOOKUP(D18,구분표!$A$3:$C$223,3,)) | K18: =I18-J18 -> 0 | N18: =I18+L18+M18 -> 0 | O18: =R18-N18 -> 0 | R18: =I18+P18+Q18 -> 0 | S18: =IF(AND((N18=0),(R18>0)),"O",IF(AND((L18<0),(N18-R18<0)),"O","X")) -> X | Z18: =IF($Y18<>"도비",IF($W18="국도비","직접입력",SUM($L18:$M18)),) -> 0 | AA18: =IF($Y18="도비",SUM($L18:$M18),IF($W18="국도비","직접입력",SUM($L18:$M18)-$Z18)) -> 0 | AB18: =IF(SUM($L18:$M18)=SUM($Z18:$AA18),"OK","검토") -> OK | AE18: =IF($Y18<>"도비",IF($W18="국도비","직접입력",SUM($P18:$Q18)),) -> 0 | AF18: =IF($Y18="도비",SUM(P18:Q18),IF($W18="국도비","직접입력",SUM(P18:Q18)-AE18)) -> 0 | AG18: =IF(SUM(P18:Q18)=SUM(AE18:AF18),"OK","검토") -> OK | AI18: =IF(Y18="","",IF(Y18="도비","세입없음","직접입력")) | AK18: =IF(AI18="","",COUNTIF($AI$7:$AI$26,AI18)) | AL18: =IF(Y18="","",IF(AND(Y18="도비",AI18="세입없음"),"OK",IF(AND(Y18<>"도비",AI18<>""),"OK","@@"))) | AN18: {=IF(D18="","",INDEX(구분표!$I$2:$I$319, MATCH(1,(구분표!$E$2:$E$319='1추특출'!C18)*(구분표!$F$2:$F$319='1추특출'!D18)*(구분표!$G$2:$G$319='1추특출'!B18),0)))}
A19: =COUNTA($C$8:C19)-COUNTBLANK($C$8:C19)+1 -> -1 | C19: =IF(D19="","",VLOOKUP(D19,구분표!$A$3:$C$223,3,)) | K19: =I19-J19 -> 0 | N19: =I19+L19+M19 -> 0 | O19: =R19-N19 -> 0 | R19: =I19+P19+Q19 -> 0 | S19: =IF(AND((N19=0),(R19>0)),"O",IF(AND((L19<0),(N19-R19<0)),"O","X")) -> X | Z19: =IF($Y19<>"도비",IF($W19="국도비","직접입력",SUM($L19:$M19)),) -> 0 | AA19: =IF($Y19="도비",SUM($L19:$M19),IF($W19="국도비","직접입력",SUM($L19:$M19)-$Z19)) -> 0 | AB19: =IF(SUM($L19:$M19)=SUM($Z19:$AA19),"OK","검토") -> OK | AE19: =IF($Y19<>"도비",IF($W19="국도비","직접입력",SUM($P19:$Q19)),) -> 0 | AF19: =IF($Y19="도비",SUM(P19:Q19),IF($W19="국도비","직접입력",SUM(P19:Q19)-AE19)) -> 0 | AG19: =IF(SUM(P19:Q19)=SUM(AE19:AF19),"OK","검토") -> OK | AI19: =IF(Y19="","",IF(Y19="도비","세입없음","직접입력")) | AK19: =IF(AI19="","",COUNTIF($AI$7:$AI$26,AI19)) | AL19: =IF(Y19="","",IF(AND(Y19="도비",AI19="세입없음"),"OK",IF(AND(Y19<>"도비",AI19<>""),"OK","@@"))) | AN19: {=IF(D19="","",INDEX(구분표!$I$2:$I$319, MATCH(1,(구분표!$E$2:$E$319='1추특출'!C19)*(구분표!$F$2:$F$319='1추특출'!D19)*(구분표!$G$2:$G$319='1추특출'!B19),0)))}
A20: =COUNTA($C$8:C20)-COUNTBLANK($C$8:C20)+1 -> -1 | C20: =IF(D20="","",VLOOKUP(D20,구분표!$A$3:$C$223,3,)) | K20: =I20-J20 -> 0 | N20: =I20+L20+M20 -> 0 | O20: =R20-N20 -> 0 | R20: =I20+P20+Q20 -> 0 | S20: =IF(AND((N20=0),(R20>0)),"O",IF(AND((L20<0),(N20-R20<0)),"O","X")) -> X | Z20: =IF($Y20<>"도비",IF($W20="국도비","직접입력",SUM($L20:$M20)),) -> 0 | AA20: =IF($Y20="도비",SUM($L20:$M20),IF($W20="국도비","직접입력",SUM($L20:$M20)-$Z20)) -> 0 | AB20: =IF(SUM($L20:$M20)=SUM($Z20:$AA20),"OK","검토") -> OK | AE20: =IF($Y20<>"도비",IF($W20="국도비","직접입력",SUM($P20:$Q20)),) -> 0 | AF20: =IF($Y20="도비",SUM(P20:Q20),IF($W20="국도비","직접입력",SUM(P20:Q20)-AE20)) -> 0 | AG20: =IF(SUM(P20:Q20)=SUM(AE20:AF20),"OK","검토") -> OK | AI20: =IF(Y20="","",IF(Y20="도비","세입없음","직접입력")) | AK20: =IF(AI20="","",COUNTIF($AI$7:$AI$26,AI20)) | AL20: =IF(Y20="","",IF(AND(Y20="도비",AI20="세입없음"),"OK",IF(AND(Y20<>"도비",AI20<>""),"OK","@@"))) | AN20: {=IF(D20="","",INDEX(구분표!$I$2:$I$319, MATCH(1,(구분표!$E$2:$E$319='1추특출'!C20)*(구분표!$F$2:$F$319='1추특출'!D20)*(구분표!$G$2:$G$319='1추특출'!B20),0)))}
A21: =COUNTA($C$8:C21)-COUNTBLANK($C$8:C21)+1 -> -1 | C21: =IF(D21="","",VLOOKUP(D21,구분표!$A$3:$C$223,3,)) | K21: =I21-J21 -> 0 | N21: =I21+L21+M21 -> 0 | O21: =R21-N21 -> 0 | R21: =I21+P21+Q21 -> 0 | S21: =IF(AND((N21=0),(R21>0)),"O",IF(AND((L21<0),(N21-R21<0)),"O","X")) -> X | Z21: =IF($Y21<>"도비",IF($W21="국도비","직접입력",SUM($L21:$M21)),) -> 0 | AA21: =IF($Y21="도비",SUM($L21:$M21),IF($W21="국도비","직접입력",SUM($L21:$M21)-$Z21)) -> 0 | AB21: =IF(SUM($L21:$M21)=SUM($Z21:$AA21),"OK","검토") -> OK | AE21: =IF($Y21<>"도비",IF($W21="국도비","직접입력",SUM($P21:$Q21)),) -> 0 | AF21: =IF($Y21="도비",SUM(P21:Q21),IF($W21="국도비","직접입력",SUM(P21:Q21)-AE21)) -> 0 | AG21: =IF(SUM(P21:Q21)=SUM(AE21:AF21),"OK","검토") -> OK | AI21: =IF(Y21="","",IF(Y21="도비","세입없음","직접입력")) | AK21: =IF(AI21="","",COUNTIF($AI$7:$AI$26,AI21)) | AL21: =IF(Y21="","",IF(AND(Y21="도비",AI21="세입없음"),"OK",IF(AND(Y21<>"도비",AI21<>""),"OK","@@"))) | AN21: {=IF(D21="","",INDEX(구분표!$I$2:$I$319, MATCH(1,(구분표!$E$2:$E$319='1추특출'!C21)*(구분표!$F$2:$F$319='1추특출'!D21)*(구분표!$G$2:$G$319='1추특출'!B21),0)))}
B22: ( 특별회계) | I22: =SUBTOTAL(9,I23:I26) -> 0 | J22: =SUBTOTAL(9,J23:J26) -> 0 | K22: =SUBTOTAL(9,K23:K26) -> 0 | L22: =SUBTOTAL(9,L23:L26) -> 0 | M22: =SUBTOTAL(9,M23:M26) -> 0 | N22: =SUBTOTAL(9,N23:N26) -> 0 | O22: =SUBTOTAL(9,O23:O26) -> 0 | P22: =SUBTOTAL(9,P23:P26) -> 0 | ... R22: =SUBTOTAL(9,R23:R26) -> 0 | AI22: =IF(Y22="","",IF(Y22="도비","세입없음","직접입력"))
A23: =COUNTA($C$8:C23)-COUNTBLANK($C$8:C23)+2 -> -1 | C23: =IF(D23="","",VLOOKUP(D23,구분표!$A$3:$C$223,3,)) | K23: =I23-J23 -> 0 | N23: =I23+L23+M23 -> 0 | O23: =R23-N23 -> 0 | Q23: 0 | R23: =I23+P23+Q23 -> 0 | S23: =IF(AND((N23=0),(R23>0)),"O",IF(AND((L23<0),(N23-R23<0)),"O","X")) -> X | Z23: =IF($Y23<>"도비",IF($W23="국도비","직접입력",SUM($L23:$M23)),) -> 0 | AA23: =IF($Y23="도비",SUM($L23:$M23),IF($W23="국도비","직접입력",SUM($L23:$M23)-$Z23)) -> 0 | AB23: =IF(SUM($L23:$M23)=SUM($Z23:$AA23),"OK","검토") -> OK | AE23: =IF($Y23<>"도비",IF($W23="국도비","직접입력",SUM($P23:$Q23)),) -> 0 | AF23: =IF($Y23="도비",SUM(P23:Q23),IF($W23="국도비","직접입력",SUM(P23:Q23)-AE23)) -> 0 | AG23: =IF(SUM(P23:Q23)=SUM(AE23:AF23),"OK","검토") -> OK | AI23: =IF(Y23="","",IF(Y23="도비","세입없음","직접입력")) | AK23: =IF(AI23="","",COUNTIF($AI$7:$AI$26,AI23)) | AL23: =IF(Y23="","",IF(AND(Y23="도비",AI23="세입없음"),"OK",IF(AND(Y23<>"도비",AI23<>""),"OK","@@"))) | AN23: {=IF(D23="","",INDEX(구분표!$I$2:$I$319, MATCH(1,(구분표!$E$2:$E$319='1추특출'!C23)*(구분표!$F$2:$F$319='1추특출'!D23)*(구분표!$G$2:$G$319='1추특출'!B23),0)))}
A24: =COUNTA($C$8:C24)-COUNTBLANK($C$8:C24)+2 -> -1 | C24: =IF(D24="","",VLOOKUP(D24,구분표!$A$3:$C$223,3,)) | K24: =I24-J24 -> 0 | N24: =I24+L24+M24 -> 0 | O24: =R24-N24 -> 0 | Q24: 0 | R24: =I24+P24+Q24 -> 0 | S24: =IF(AND((N24=0),(R24>0)),"O",IF(AND((L24<0),(N24-R24<0)),"O","X")) -> X | Z24: =IF($Y24<>"도비",IF($W24="국도비","직접입력",SUM($L24:$M24)),) -> 0 | AA24: =IF($Y24="도비",SUM($L24:$M24),IF($W24="국도비","직접입력",SUM($L24:$M24)-$Z24)) -> 0 | AB24: =IF(SUM($L24:$M24)=SUM($Z24:$AA24),"OK","검토") -> OK | AE24: =IF($Y24<>"도비",IF($W24="국도비","직접입력",SUM($P24:$Q24)),) -> 0 | AF24: =IF($Y24="도비",SUM(P24:Q24),IF($W24="국도비","직접입력",SUM(P24:Q24)-AE24)) -> 0 | AG24: =IF(SUM(P24:Q24)=SUM(AE24:AF24),"OK","검토") -> OK | AI24: =IF(Y24="","",IF(Y24="도비","세입없음","직접입력")) | AK24: =IF(AI24="","",COUNTIF($AI$7:$AI$26,AI24)) | AL24: =IF(Y24="","",IF(AND(Y24="도비",AI24="세입없음"),"OK",IF(AND(Y24<>"도비",AI24<>""),"OK","@@"))) | AN24: {=IF(D24="","",INDEX(구분표!$I$2:$I$319, MATCH(1,(구분표!$E$2:$E$319='1추특출'!C24)*(구분표!$F$2:$F$319='1추특출'!D24)*(구분표!$G$2:$G$319='1추특출'!B24),0)))}
A25: =COUNTA($C$8:C25)-COUNTBLANK($C$8:C25)+2 -> -1 | C25: =IF(D25="","",VLOOKUP(D25,구분표!$A$3:$C$223,3,)) | K25: =I25-J25 -> 0 | N25: =I25+L25+M25 -> 0 | O25: =R25-N25 -> 0 | Q25: 0 | R25: =I25+P25+Q25 -> 0 | S25: =IF(AND((N25=0),(R25>0)),"O",IF(AND((L25<0),(N25-R25<0)),"O","X")) -> X | Z25: =IF($Y25<>"도비",IF($W25="국도비","직접입력",SUM($L25:$M25)),) -> 0 | AA25: =IF($Y25="도비",SUM($L25:$M25),IF($W25="국도비","직접입력",SUM($L25:$M25)-$Z25)) -> 0 | AB25: =IF(SUM($L25:$M25)=SUM($Z25:$AA25),"OK","검토") -> OK | AE25: =IF($Y25<>"도비",IF($W25="국도비","직접입력",SUM($P25:$Q25)),) -> 0 | AF25: =IF($Y25="도비",SUM(P25:Q25),IF($W25="국도비","직접입력",SUM(P25:Q25)-AE25)) -> 0 | AG25: =IF(SUM(P25:Q25)=SUM(AE25:AF25),"OK","검토") -> OK | AI25: =IF(Y25="","",IF(Y25="도비","세입없음","직접입력")) | AK25: =IF(AI25="","",COUNTIF($AI$7:$AI$26,AI25)) | AL25: =IF(Y25="","",IF(AND(Y25="도비",AI25="세입없음"),"OK",IF(AND(Y25<>"도비",AI25<>""),"OK","@@"))) | AN25: {=IF(D25="","",INDEX(구분표!$I$2:$I$319, MATCH(1,(구분표!$E$2:$E$319='1추특출'!C25)*(구분표!$F$2:$F$319='1추특출'!D25)*(구분표!$G$2:$G$319='1추특출'!B25),0)))}
A26: =COUNTA($C$8:C26)-COUNTBLANK($C$8:C26)+2 -> -1 | C26: =IF(D26="","",VLOOKUP(D26,구분표!$A$3:$C$223,3,)) | K26: =I26-J26 -> 0 | N26: =I26+L26+M26 -> 0 | O26: =R26-N26 -> 0 | R26: =I26+P26+Q26 -> 0 | S26: =IF(AND((N26=0),(R26>0)),"O",IF(AND((L26<0),(N26-R26<0)),"O","X")) -> X | Z26: =IF($Y26<>"도비",IF($W26="국도비","직접입력",SUM($L26:$M26)),) -> 0 | AA26: =IF($Y26="도비",SUM($L26:$M26),IF($W26="국도비","직접입력",SUM($L26:$M26)-$Z26)) -> 0 | AB26: =IF(SUM($L26:$M26)=SUM($Z26:$AA26),"OK","검토") -> OK | AE26: =IF($Y26<>"도비",IF($W26="국도비","직접입력",SUM($P26:$Q26)),) -> 0 | AF26: =IF($Y26="도비",SUM(P26:Q26),IF($W26="국도비","직접입력",SUM(P26:Q26)-AE26)) -> 0 | AG26: =IF(SUM(P26:Q26)=SUM(AE26:AF26),"OK","검토") -> OK | AI26: =IF(Y26="","",IF(Y26="도비","세입없음","직접입력")) | AK26: =IF(AI26="","",COUNTIF($AI$7:$AI$26,AI26)) | AL26: =IF(Y26="","",IF(AND(Y26="도비",AI26="세입없음"),"OK",IF(AND(Y26<>"도비",AI26<>""),"OK","@@"))) | AN26: {=IF(D26="","",INDEX(구분표!$I$2:$I$319, MATCH(1,(구분표!$E$2:$E$319='1추특출'!C26)*(구분표!$F$2:$F$319='1추특출'!D26)*(구분표!$G$2:$G$319='1추특출'!B26),0)))}
B28: 1 | C28: 1 | I28: 165567406 | J28: 38891387 | K28: 126676019 | L28: 0 | M28: 19558062 | N28: 185125468 | O28: -10886406 | P28: 0 | Q28: 8671656 | R28: 174239062
B29: 1 | C29: 1 | I29: =I6-I28 -> -165567406 | J29: =J6-J28 -> -38891387 | K29: =K6-K28 -> -126676019 | L29: =L6-L28 -> 0 | M29: =M6-M28 -> -19558062 | N29: =N6-N28 -> -185125468 | O29: =O6-O28 -> 10886406 | P29: =P6-P28 -> 0 | ... R29: =R6-R28 -> -174239062

Sheet 1추기금입
A1: 2018년도 제1회 경기도 기금운용계획 세입 예산 조정(안)
A2: □ 세입예산 | P2: =P6-J6 -> 0 | X2: 세입=세출 | AC2: 세입=세출
J3: =SUM(J7:J991)/2 -> 0 | K3: =SUM(K7:K991)/2 -> 0 | L3: =SUM(L7:L991)/2 -> 0 | M3: =SUM(M7:M991)/2 -> 0 | N3: =SUM(N7:N991)/2 -> 0 | O3: =SUM(O7:O991)/2 -> 0 | P3: =SUM(P7:P991)/2 -> 0 | T3: (단위 : 천원) | X3: =IF(X6='1추기금출'!X6,"OK","@@") -> OK | Y3: =IF(Y6='1추기금출'!Y6,"OK","@@") -> OK | Z3: =IF(COUNTIF(Z6:Z15,"검토")>0,"@@","OK") -> OK | AC3: =IF(AC6='1추기금출'!AC6,"OK","@@") -> OK | AD3: =N6+O6-AC6-AD6 -> 0 | AE3: =IF(COUNTIF(AE6:AE15,"검토")>0,"@@","OK") -> OK
A4: 위원회명 | B4: 실국명 | C4: 부서명 | D4: 편성 구분 | E4: 기금 계획안 페이지 | F4: 사업설명서페이지 | G4: 목명 및 부기명 | H4: 제1회 추경 예산안 (가) | I4: 기정액 (나) | J4: 제1회 추경 증감액 (다=가-나) | K4: 상임위 예산안 조정액(라) | M4: 상임위 조정 예산안 (마=가+라) | N4: 예결위 예산안 조정액(사) | P4: 예결위 조정 예산안 (아=가+사) | Q4: 동의 대상 | R4: 상임위 변경사유 (심의 참고자료) | S4: 비고 (상임위 부대의견) | T4: 비고 (부대의견) | U4: 국도비 등 여부 | W4: 재원 | X4: 상임위 재원별 증감액 | AB4: 재원 | AC4: 예결위 재원별 증감액 | AG4: 세입번호 | AI4: 실국부서 코드 | AK4: 추가 내시 등 | AM4: 상임위 세입 검증 | AQ4: 예결위 세입 검증
K5: 감액 | L5: 증액 | N5: 감액 | O5: 증액 | X5: 국비 등 | Y5: 도비 | Z5: 검증 | AC5: 국비 등 | AD5: 도비 | AE5: 검증 | AM5: 국비 증감액 | AN5: 건수 | AO5: 검증 | AQ5: 국비 증감액 | AR5: 건수 | AS5: 검증
A6: 합 계 | H6: =SUBTOTAL(9,H7:H15) -> 0 | I6: =SUBTOTAL(9,I7:I15) -> 0 | J6: =SUBTOTAL(9,J7:J15) -> 0 | K6: =SUBTOTAL(9,K7:K15) -> 0 | L6: =SUBTOTAL(9,L7:L15) -> 0 | M6: =SUBTOTAL(9,M7:M15) -> 0 | N6: =SUBTOTAL(9,N7:N15) -> 0 | O6: =SUBTOTAL(9,O7:O15) -> 0 | P6: =SUBTOTAL(9,P7:P15) -> 0 | Q6: =SUBTOTAL(9,Q7:Q15)/2 -> 0 | X6: =SUBTOTAL(9,X7:X15) -> 0 | Y6: =SUBTOTAL(9,Y7:Y15) -> 0 | Z6: =IF(SUM($K6:$L6)=SUM($X6:$Y6),"OK","검토") -> OK | AC6: =SUBTOTAL(9,AC7:AC15) -> 0 | AD6: =SUBTOTAL(9,AD7:AD15) -> 0 | AE6: =IF(SUM($K6:$L6)=SUM($X6:$Y6),"OK","검토") -> OK | AM6: =SUBTOTAL(9,AM7:AM15) -> 0 | AN6: =SUBTOTAL(9,AN7:AN15) -> 0 | AO6: =IF(COUNTIF(AO7:AO15,"@@")>0,"@@","OK") -> OK | AQ6: =SUBTOTAL(9,AQ7:AQ15) -> 0 | AR6: =SUBTOTAL(9,AR7:AR15) -> 0 | AS6: =IF(COUNTIF(AS7:AS15,"@@")>0,"@@","OK") -> OK
A7: ( 기금) | H7: =SUBTOTAL(9,H8:H9) -> 0 | I7: =SUBTOTAL(9,I8:I9) -> 0 | J7: =SUBTOTAL(9,J8:J9) -> 0 | K7: =SUBTOTAL(9,K8:K9) -> 0 | L7: =SUBTOTAL(9,L8:L9) -> 0 | M7: =SUBTOTAL(9,M8:M9) -> 0 | N7: =SUBTOTAL(9,N8:N9) -> 0 | O7: =SUBTOTAL(9,O8:O9) -> 0 | P7: =SUBTOTAL(9,P8:P9) -> 0 | AG7: =IF(AI7="","",IF(W7="도비","세입없음",CONCATENATE(AI7,"-",COUNTIF($AI$7:AI7,AI7)))) | AI7: {=IF(C7="","",INDEX(구분표!$I$2:$I$319, MATCH(1,(구분표!$E$2:$E$319='1추기금입'!B7)*(구분표!$F$2:$F$319='1추기금입'!C7)*(구분표!$G$2:$G$319='1추기금입'!A7),0)))} | AQ7: =IF(AG7="",0,SUMIFS('1추일출'!$AE$6:$AE$112,'1추일출'!$AI$6:$AI$112,'1추기금입'!$AG7)) -> 0 | AR7: =IF(AG7="","",COUNTIFS('1추일출'!$AI$6:$AI$112,AG7)) | AS7: =IF(AC7=AQ7,"OK","@@") -> OK
J8: =IF(D8="","",H8-I8) | M8: =H8+K8+L8 -> 0 | P8: =SUM(H8,N8,O8) -> 0 | Q8: =IF(AND((M8=0),(P8>0)),"O",IF(AND((K8<0),(M8-P8<0)),"O","X")) -> X | X8: =IF($W8<>"도비",IF($U8="국도비","직접입력",SUM($K8:$L8)),) -> 0 | Y8: =IF($W8="도비",SUM($K8:$L8),IF($U8="국도비","직접입력",SUM($K8:$L8)-$X8)) -> 0 | Z8: =IF(SUM($K8:$L8)=SUM($X8:$Y8),"OK","검토") -> OK | AC8: =IF($W8<>"도비",IF($U8="국도비","직접입력",SUM($N8:$O8)),) -> 0 | AD8: =IF($W8="도비",SUM(N8:O8),IF($U8="국도비","직접입력",SUM(N8:O8)-AC8)) -> 0 | AE8: =IF(SUM(N8:O8)=SUM(AC8:AD8),"OK","검토") -> OK | AG8: =IF(AI8="","",IF(W8="도비","세입없음",CONCATENATE(AI8,"-",COUNTIF($AI$7:AI8,AI8)))) | AI8: {=IF(C8="","",INDEX(구분표!$I$2:$I$319, MATCH(1,(구분표!$E$2:$E$319='1추기금입'!B8)*(구분표!$F$2:$F$319='1추기금입'!C8)*(구분표!$G$2:$G$319='1추기금입'!A8),0)))} | AM8: =IF(AG8="",0,SUMIFS('1추기금출'!$Y$6:$Y$624,'1추기금출'!$AH$6:$AH$624,'1추기금입'!$AG8)) -> 0 | AN8: =IF(AG8="","",COUNTIFS('1추기금출'!$AH$6:$AH$624,'1추기금입'!AG8)) | AO8: =IF(X8=AM8,"OK","@@") -> OK | AQ8: =IF(AG8="",0,SUMIFS('1추일출'!$AE$6:$AE$112,'1추일출'!$AI$6:$AI$112,'1추기금입'!$AG8)) -> 0 | AR8: =IF(AG8="","",COUNTIFS('1추일출'!$AI$6:$AI$112,AG8)) | AS8: =IF(AC8=AQ8,"OK","@@") -> OK
J9: =IF(D9="","",H9-I9) | M9: =H9+K9+L9 -> 0 | P9: =SUM(H9,N9,O9) -> 0 | Q9: =IF(AND((M9=0),(P9>0)),"O",IF(AND((K9<0),(M9-P9<0)),"O","X")) -> X | X9: =IF($W9<>"도비",IF($U9="국도비","직접입력",SUM($K9:$L9)),) -> 0 | Y9: =IF($W9="도비",SUM($K9:$L9),IF($U9="국도비","직접입력",SUM($K9:$L9)-$X9)) -> 0 | Z9: =IF(SUM($K9:$L9)=SUM($X9:$Y9),"OK","검토") -> OK | AC9: =IF($W9<>"도비",IF($U9="국도비","직접입력",SUM($N9:$O9)),) -> 0 | AD9: =IF($W9="도비",SUM(N9:O9),IF($U9="국도비","직접입력",SUM(N9:O9)-AC9)) -> 0 | AE9: =IF(SUM(N9:O9)=SUM(AC9:AD9),"OK","검토") -> OK | AG9: =IF(AI9="","",IF(W9="도비","세입없음",CONCATENATE(AI9,"-",COUNTIF($AI$7:AI9,AI9)))) | AI9: {=IF(C9="","",INDEX(구분표!$I$2:$I$319, MATCH(1,(구분표!$E$2:$E$319='1추기금입'!B9)*(구분표!$F$2:$F$319='1추기금입'!C9)*(구분표!$G$2:$G$319='1추기금입'!A9),0)))} | AM9: =IF(AG9="",0,SUMIFS('1추기금출'!$Y$6:$Y$624,'1추기금출'!$AH$6:$AH$624,'1추기금입'!$AG9)) -> 0 | AN9: =IF(AG9="","",COUNTIFS('1추일출'!$AI$6:$AI$112,'1추기금입'!AG9)) | AO9: =IF(X9=AM9,"OK","@@") -> OK | AQ9: =IF(AG9="",0,SUMIFS('1추일출'!$AE$6:$AE$112,'1추일출'!$AI$6:$AI$112,'1추기금입'!$AG9)) -> 0 | AR9: =IF(AG9="","",COUNTIFS('1추일출'!$AI$6:$AI$112,AG9)) | AS9: =IF(AC9=AQ9,"OK","@@") -> OK
A10: ( 기금) | H10: =SUBTOTAL(9,H11:H12) -> 0 | I10: =SUBTOTAL(9,I11:I12) -> 0 | J10: =SUBTOTAL(9,J11:J12) -> 0 | K10: =SUBTOTAL(9,K11:K12) -> 0 | L10: =SUBTOTAL(9,L11:L12) -> 0 | M10: =SUBTOTAL(9,M11:M12) -> 0 | N10: =SUBTOTAL(9,N11:N12) -> 0 | O10: =SUBTOTAL(9,O11:O12) -> 0 | P10: =SUBTOTAL(9,P11:P12) -> 0 | AG10: =IF(AI10="","",IF(W10="도비","세입없음",CONCATENATE(AI10,"-",COUNTIF($AI$7:AI10,AI10)))) | AI10: {=IF(C10="","",INDEX(구분표!$I$2:$I$319, MATCH(1,(구분표!$E$2:$E$319='1추기금입'!B10)*(구분표!$F$2:$F$319='1추기금입'!C10)*(구분표!$G$2:$G$319='1추기금입'!A10),0)))} | AQ10: =IF(AG10="",0,SUMIFS('1추일출'!$AE$6:$AE$112,'1추일출'!$AI$6:$AI$112,'1추기금입'!$AG10)) -> 0 | AR10: =IF(AG10="","",COUNTIFS('1추일출'!$AI$6:$AI$112,AG10)) | AS10: =IF(AC10=AQ10,"OK","@@") -> OK
J11: =IF(D11="","",H11-I11) | M11: =H11+K11+L11 -> 0 | P11: =SUM(H11,N11,O11) -> 0 | Q11: =IF(AND((M11=0),(P11>0)),"O",IF(AND((K11<0),(M11-P11<0)),"O","X")) -> X | X11: =IF($W11<>"도비",IF($U11="국도비","직접입력",SUM($K11:$L11)),) -> 0 | Y11: =IF($W11="도비",SUM($K11:$L11),IF($U11="국도비","직접입력",SUM($K11:$L11)-$X11)) -> 0 | Z11: =IF(SUM($K11:$L11)=SUM($X11:$Y11),"OK","검토") -> OK | AC11: =IF($W11<>"도비",IF($U11="국도비","직접입력",SUM($N11:$O11)),) -> 0 | AD11: =IF($W11="도비",SUM(N11:O11),IF($U11="국도비","직접입력",SUM(N11:O11)-AC11)) -> 0 | AE11: =IF(SUM(N11:O11)=SUM(AC11:AD11),"OK","검토") -> OK | AG11: =IF(AI11="","",IF(W11="도비","세입없음",CONCATENATE(AI11,"-",COUNTIF($AI$7:AI11,AI11)))) | AI11: {=IF(C11="","",INDEX(구분표!$I$2:$I$319, MATCH(1,(구분표!$E$2:$E$319='1추기금입'!B11)*(구분표!$F$2:$F$319='1추기금입'!C11)*(구분표!$G$2:$G$319='1추기금입'!A11),0)))} | AM11: =IF(AG11="",0,SUMIFS('1추기금출'!$Y$6:$Y$624,'1추기금출'!$AH$6:$AH$624,'1추기금입'!$AG11)) -> 0 | AN11: =IF(AG11="","",COUNTIFS('1추기금출'!$AH$6:$AH$624,'1추기금입'!AG11)) | AO11: =IF(X11=AM11,"OK","@@") -> OK | AQ11: =IF(AG11="",0,SUMIFS('1추일출'!$AE$6:$AE$112,'1추일출'!$AI$6:$AI$112,'1추기금입'!$AG11)) -> 0 | AR11: =IF(AG11="","",COUNTIFS('1추일출'!$AI$6:$AI$112,AG11)) | AS11: =IF(AC11=AQ11,"OK","@@") -> OK
J12: =IF(D12="","",H12-I12) | M12: =H12+K12+L12 -> 0 | P12: =SUM(H12,N12,O12) -> 0 | Q12: =IF(AND((M12=0),(P12>0)),"O",IF(AND((K12<0),(M12-P12<0)),"O","X")) -> X | X12: =IF($W12<>"도비",IF($U12="국도비","직접입력",SUM($K12:$L12)),) -> 0 | Y12: =IF($W12="도비",SUM($K12:$L12),IF($U12="국도비","직접입력",SUM($K12:$L12)-$X12)) -> 0 | Z12: =IF(SUM($K12:$L12)=SUM($X12:$Y12),"OK","검토") -> OK | AC12: =IF($W12<>"도비",IF($U12="국도비","직접입력",SUM($N12:$O12)),) -> 0 | AD12: =IF($W12="도비",SUM(N12:O12),IF($U12="국도비","직접입력",SUM(N12:O12)-AC12)) -> 0 | AE12: =IF(SUM(N12:O12)=SUM(AC12:AD12),"OK","검토") -> OK | AG12: =IF(AI12="","",IF(W12="도비","세입없음",CONCATENATE(AI12,"-",COUNTIF($AI$7:AI12,AI12)))) | AI12: {=IF(C12="","",INDEX(구분표!$I$2:$I$319, MATCH(1,(구분표!$E$2:$E$319='1추기금입'!B12)*(구분표!$F$2:$F$319='1추기금입'!C12)*(구분표!$G$2:$G$319='1추기금입'!A12),0)))} | AM12: =IF(AG12="",0,SUMIFS('1추기금출'!$Y$6:$Y$624,'1추기금출'!$AH$6:$AH$624,'1추기금입'!$AG12)) -> 0 | AN12: =IF(AG12="","",COUNTIFS('1추일출'!$AI$6:$AI$112,'1추기금입'!AG12)) | AO12: =IF(X12=AM12,"OK","@@") -> OK | AQ12: =IF(AG12="",0,SUMIFS('1추일출'!$AE$6:$AE$112,'1추일출'!$AI$6:$AI$112,'1추기금입'!$AG12)) -> 0 | AR12: =IF(AG12="","",COUNTIFS('1추일출'!$AI$6:$AI$112,AG12)) | AS12: =IF(AC12=AQ12,"OK","@@") -> OK
A13: ( 기금) | H13: =SUBTOTAL(9,H14:H15) -> 0 | I13: =SUBTOTAL(9,I14:I15) -> 0 | J13: =SUBTOTAL(9,J14:J15) -> 0 | K13: =SUBTOTAL(9,K14:K15) -> 0 | L13: =SUBTOTAL(9,L14:L15) -> 0 | M13: =SUBTOTAL(9,M14:M15) -> 0 | N13: =SUBTOTAL(9,N14:N15) -> 0 | O13: =SUBTOTAL(9,O14:O15) -> 0 | P13: =SUBTOTAL(9,P14:P15) -> 0 | AG13: =IF(AI13="","",IF(W13="도비","세입없음",CONCATENATE(AI13,"-",COUNTIF($AI$7:AI13,AI13)))) | AI13: {=IF(C13="","",INDEX(구분표!$I$2:$I$319, MATCH(1,(구분표!$E$2:$E$319='1추기금입'!B13)*(구분표!$F$2:$F$319='1추기금입'!C13)*(구분표!$G$2:$G$319='1추기금입'!A13),0)))} | AQ13: =IF(AG13="",0,SUMIFS('1추일출'!$AE$6:$AE$112,'1추일출'!$AI$6:$AI$112,'1추기금입'!$AG13)) -> 0 | AR13: =IF(AG13="","",COUNTIFS('1추일출'!$AI$6:$AI$112,AG13)) | AS13: =IF(AC13=AQ13,"OK","@@") -> OK
J14: =IF(D14="","",H14-I14) | M14: =H14+K14+L14 -> 0 | P14: =SUM(H14,N14,O14) -> 0 | Q14: =IF(AND((M14=0),(P14>0)),"O",IF(AND((K14<0),(M14-P14<0)),"O","X")) -> X | X14: =IF($W14<>"도비",IF($U14="국도비","직접입력",SUM($K14:$L14)),) -> 0 | Y14: =IF($W14="도비",SUM($K14:$L14),IF($U14="국도비","직접입력",SUM($K14:$L14)-$X14)) -> 0 | Z14: =IF(SUM($K14:$L14)=SUM($X14:$Y14),"OK","검토") -> OK | AC14: =IF($W14<>"도비",IF($U14="국도비","직접입력",SUM($N14:$O14)),) -> 0 | AD14: =IF($W14="도비",SUM(N14:O14),IF($U14="국도비","직접입력",SUM(N14:O14)-AC14)) -> 0 | AE14: =IF(SUM(N14:O14)=SUM(AC14:AD14),"OK","검토") -> OK | AG14: =IF(AI14="","",IF(W14="도비","세입없음",CONCATENATE(AI14,"-",COUNTIF($AI$7:AI14,AI14)))) | AI14: {=IF(C14="","",INDEX(구분표!$I$2:$I$319, MATCH(1,(구분표!$E$2:$E$319='1추기금입'!B14)*(구분표!$F$2:$F$319='1추기금입'!C14)*(구분표!$G$2:$G$319='1추기금입'!A14),0)))} | AM14: =IF(AG14="",0,SUMIFS('1추기금출'!$Y$6:$Y$624,'1추기금출'!$AH$6:$AH$624,'1추기금입'!$AG14)) -> 0 | AN14: =IF(AG14="","",COUNTIFS('1추기금출'!$AH$6:$AH$624,'1추기금입'!AG14)) | AO14: =IF(X14=AM14,"OK","@@") -> OK | AQ14: =IF(AG14="",0,SUMIFS('1추일출'!$AE$6:$AE$112,'1추일출'!$AI$6:$AI$112,'1추기금입'!$AG14)) -> 0 | AR14: =IF(AG14="","",COUNTIFS('1추일출'!$AI$6:$AI$112,AG14)) | AS14: =IF(AC14=AQ14,"OK","@@") -> OK
J15: =IF(D15="","",H15-I15) | M15: =H15+K15+L15 -> 0 | P15: =SUM(H15,N15,O15) -> 0 | Q15: =IF(AND((M15=0),(P15>0)),"O",IF(AND((K15<0),(M15-P15<0)),"O","X")) -> X | X15: =IF($W15<>"도비",IF($U15="국도비","직접입력",SUM($K15:$L15)),) -> 0 | Y15: =IF($W15="도비",SUM($K15:$L15),IF($U15="국도비","직접입력",SUM($K15:$L15)-$X15)) -> 0 | Z15: =IF(SUM($K15:$L15)=SUM($X15:$Y15),"OK","검토") -> OK | AC15: =IF($W15<>"도비",IF($U15="국도비","직접입력",SUM($N15:$O15)),) -> 0 | AD15: =IF($W15="도비",SUM(N15:O15),IF($U15="국도비","직접입력",SUM(N15:O15)-AC15)) -> 0 | AE15: =IF(SUM(N15:O15)=SUM(AC15:AD15),"OK","검토") -> OK | AG15: =IF(AI15="","",IF(W15="도비","세입없음",CONCATENATE(AI15,"-",COUNTIF($AI$7:AI15,AI15)))) | AI15: {=IF(C15="","",INDEX(구분표!$I$2:$I$319, MATCH(1,(구분표!$E$2:$E$319='1추기금입'!B15)*(구분표!$F$2:$F$319='1추기금입'!C15)*(구분표!$G$2:$G$319='1추기금입'!A15),0)))} | AM15: =IF(AG15="",0,SUMIFS('1추기금출'!$Y$6:$Y$624,'1추기금출'!$AH$6:$AH$624,'1추기금입'!$AG15)) -> 0 | AN15: =IF(AG15="","",COUNTIFS('1추일출'!$AI$6:$AI$112,'1추기금입'!AG15)) | AO15: =IF(X15=AM15,"OK","@@") -> OK | AQ15: =IF(AG15="",0,SUMIFS('1추일출'!$AE$6:$AE$112,'1추일출'!$AI$6:$AI$112,'1추기금입'!$AG15)) -> 0 | AR15: =IF(AG15="","",COUNTIFS('1추일출'!$AI$6:$AI$112,AG15)) | AS15: =IF(AC15=AQ15,"OK","@@") -> OK

Sheet 1추기금출
A1: 2018년도 제1회 경기도 기금운용계획 세출 예산 조정(안)
A2: □ 세출예산 | O2: =P2-'1추기금입'!P2 -> 0 | P2: =P6-J6 -> 0 | X2: 세입=세출 | AC2: 세입=세출
J3: =SUM(J7:J983)/2 -> 0 | K3: =SUM(K7:K983)/2 -> 0 | L3: =SUM(L7:L983)/2 -> 0 | M3: =SUM(M7:M983)/2 -> 0 | N3: =SUM(N7:N983)/2 -> 0 | O3: =SUM(O7:O983)/2 -> 0 | P3: =SUM(P7:P983)/2 -> 0 | T3: (단위 : 천원) | X3: =IF(X6='1추기금입'!X6,"OK","@@") -> OK | Y3: =IF(Y6='1추기금입'!Y6,"OK","@@") -> OK | Z3: =IF(COUNTIF(Z6:Z21,"검토")>0,"@@","OK") -> OK | AC3: =IF(AC6='1추기금입'!AC6,"OK","@@") -> OK | AD3: =N6+O6-AC6-AD6 -> 0 | AE3: =IF(COUNTIF(AE6:AE21,"검토")>0,"@@","OK") -> OK
A4: 위원회명 | B4: 실국명 | C4: 부서명 | D4: 편성 구분 | E4: 기금 계획안 페이지 | F4: 사업설명서페이지 | G4: 세부사업명 및 부기명 | H4: 제1회 추경 예산안 (가) | I4: 기정액 (나) | J4: 제1회 추경 증감액 (다=가-나) | K4: 상임위 예산안 조정액(라) | M4: 상임위 조정 예산안 (마=가+라) | N4: 예결위 예산안 조정액(사) | P4: 예결위 조정 예산안 (아=가+사) | Q4: 동의 대상 | R4: 상임위 변경사유 (심의 참고자료) | S4: 비고 (상임위 부대의견) | T4: 비고 (부대의견) | U4: 국도비 등 여부 | W4: 재원 | X4: 상임위 재원별 증감액 | AB4: 재원 | AC4: 예결위 재원별 증감액 | AG4: 세입번호 | AI4: 동일 세입 건수 | AJ4: 세출 번호 검증 | AL4: 실국부서 코드 | AN4: 추가 내시 등
K5: 감액 | L5: 증액 | N5: 감액 | O5: 증액 | X5: 국비 등 | Y5: 도비 | Z5: 검증 | AC5: 국비 등 | AD5: 도비 | AE5: 검증
A6: 합 계 | H6: =SUBTOTAL(9,H7:H21) -> 0 | I6: =SUBTOTAL(9,I7:I21) -> 0 | J6: =SUBTOTAL(9,J7:J21) -> 0 | K6: =SUBTOTAL(9,K7:K21) -> 0 | L6: =SUBTOTAL(9,L7:L21) -> 0 | M6: =SUBTOTAL(9,M7:M21) -> 0 | N6: =SUBTOTAL(9,N7:N21) -> 0 | O6: =SUBTOTAL(9,O7:O21) -> 0 | P6: =SUBTOTAL(9,P7:P21) -> 0 | X6: =SUBTOTAL(9,X7:X21) -> 0 | Y6: =SUBTOTAL(9,Y7:Y21) -> 0 | Z6: =IF(SUM($K6:$L6)=SUM($X6:$Y6),"OK","검토") -> OK | AC6: =SUBTOTAL(9,AC7:AC21) -> 0 | AD6: =SUBTOTAL(9,AD7:AD21) -> 0 | AE6: =IF(SUM($K6:$L6)=SUM($X6:$Y6),"OK","검토") -> OK
A7: ( 기금) | H7: =SUBTOTAL(9,H8:H11) -> 0 | I7: =SUBTOTAL(9,I8:I11) -> 0 | J7: =SUBTOTAL(9,J8:J11) -> 0 | K7: =SUBTOTAL(9,K8:K11) -> 0 | L7: =SUBTOTAL(9,L8:L11) -> 0 | M7: =SUBTOTAL(9,M8:M11) -> 0 | N7: =SUBTOTAL(9,N8:N11) -> 0 | O7: =SUBTOTAL(9,O8:O11) -> 0 | P7: =SUBTOTAL(9,P8:P11) -> 0
J8: =H8-I8 -> 0 | M8: =H8+K8+L8 -> 0 | P8: =H8+N8+O8 -> 0 | Q8: =IF(AND((M8=0),(P8>0)),"O",IF(AND((K8<0),(M8-P8<0)),"O","X")) -> X | S8: (예시) ◆상임위 쟁점사업◆ ○ ○ ○사업비 일반회계 편성에 따라 감액 | X8: =IF($W8<>"도비",IF($U8="국도비","직접입력",SUM($K8:$L8)),) -> 0 | Y8: =IF($W8="도비",SUM($K8:$L8),IF($U8="국도비","직접입력",SUM($K8:$L8)-$X8)) -> 0 | Z8: =IF(SUM($K8:$L8)=SUM($X8:$Y8),"OK","검토") -> OK | AC8: =IF($W8<>"도비",IF($U8="국도비","직접입력",SUM($N8:$O8)),) -> 0 | AD8: =IF($W8="도비",SUM(N8:O8),IF($U8="국도비","직접입력",SUM(N8:O8)-AC8)) -> 0 | AE8: =IF(SUM(N8:O8)=SUM(AC8:AD8),"OK","검토") -> OK | AG8: =IF(W8="","",IF(W8="도비","세입없음","직접입력")) | AI8: =IF(AG8="","",COUNTIF($AG$7:$AG$21,AG8)) | AJ8: =IF(W8="","",IF(AND(W8="도비",AG8="세입없음"),"OK",IF(AND(W8<>"도비",AG8<>""),"OK","@@"))) | AL8: {=IF(C8="","",INDEX(구분표!$I$2:$I$319, MATCH(1,(구분표!$E$2:$E$319='1추기금출'!B8)*(구분표!$F$2:$F$319='1추기금출'!C8)*(구분표!$G$2:$G$319='1추기금출'!A8),0)))}
J9: =H9-I9 -> 0 | M9: =H9+K9+L9 -> 0 | P9: =H9+N9+O9 -> 0 | Q9: =IF(AND((M9=0),(P9>0)),"O",IF(AND((K9<0),(M9-P9<0)),"O","X")) -> X | X9: =IF($W9<>"도비",IF($U9="국도비","직접입력",SUM($K9:$L9)),) -> 0 | Y9: =IF($W9="도비",SUM($K9:$L9),IF($U9="국도비","직접입력",SUM($K9:$L9)-$X9)) -> 0 | Z9: =IF(SUM($K9:$L9)=SUM($X9:$Y9),"OK","검토") -> OK | AC9: =IF($W9<>"도비",IF($U9="국도비","직접입력",SUM($N9:$O9)),) -> 0 | AD9: =IF($W9="도비",SUM(N9:O9),IF($U9="국도비","직접입력",SUM(N9:O9)-AC9)) -> 0 | AE9: =IF(SUM(N9:O9)=SUM(AC9:AD9),"OK","검토") -> OK | AG9: =IF(W9="","",IF(W9="도비","세입없음","직접입력")) | AI9: =IF(AG9="","",COUNTIF($AG$7:$AG$21,AG9)) | AJ9: =IF(W9="","",IF(AND(W9="도비",AG9="세입없음"),"OK",IF(AND(W9<>"도비",AG9<>""),"OK","@@"))) | AL9: {=IF(C9="","",INDEX(구분표!$I$2:$I$319, MATCH(1,(구분표!$E$2:$E$319='1추기금출'!B9)*(구분표!$F$2:$F$319='1추기금출'!C9)*(구분표!$G$2:$G$319='1추기금출'!A9),0)))}
J10: =H10-I10 -> 0 | M10: =H10+K10+L10 -> 0 | P10: =H10+N10+O10 -> 0 | Q10: =IF(AND((M10=0),(P10>0)),"O",IF(AND((K10<0),(M10-P10<0)),"O","X")) -> X | X10: =IF($W10<>"도비",IF($U10="국도비","직접입력",SUM($K10:$L10)),) -> 0 | Y10: =IF($W10="도비",SUM($K10:$L10),IF($U10="국도비","직접입력",SUM($K10:$L10)-$X10)) -> 0 | Z10: =IF(SUM($K10:$L10)=SUM($X10:$Y10),"OK","검토") -> OK | AC10: =IF($W10<>"도비",IF($U10="국도비","직접입력",SUM($N10:$O10)),) -> 0 | AD10: =IF($W10="도비",SUM(N10:O10),IF($U10="국도비","직접입력",SUM(N10:O10)-AC10)) -> 0 | AE10: =IF(SUM(N10:O10)=SUM(AC10:AD10),"OK","검토") -> OK | AG10: =IF(W10="","",IF(W10="도비","세입없음","직접입력")) | AI10: =IF(AG10="","",COUNTIF($AG$7:$AG$21,AG10)) | AJ10: =IF(W10="","",IF(AND(W10="도비",AG10="세입없음"),"OK",IF(AND(W10<>"도비",AG10<>""),"OK","@@"))) | AL10: {=IF(C10="","",INDEX(구분표!$I$2:$I$319, MATCH(1,(구분표!$E$2:$E$319='1추기금출'!B10)*(구분표!$F$2:$F$319='1추기금출'!C10)*(구분표!$G$2:$G$319='1추기금출'!A10),0)))}
J11: =H11-I11 -> 0 | M11: =H11+K11+L11 -> 0 | P11: =H11+N11+O11 -> 0 | Q11: =IF(AND((M11=0),(P11>0)),"O",IF(AND((K11<0),(M11-P11<0)),"O","X")) -> X | X11: =IF($W11<>"도비",IF($U11="국도비","직접입력",SUM($K11:$L11)),) -> 0 | Y11: =IF($W11="도비",SUM($K11:$L11),IF($U11="국도비","직접입력",SUM($K11:$L11)-$X11)) -> 0 | Z11: =IF(SUM($K11:$L11)=SUM($X11:$Y11),"OK","검토") -> OK | AC11: =IF($W11<>"도비",IF($U11="국도비","직접입력",SUM($N11:$O11)),) -> 0 | AD11: =IF($W11="도비",SUM(N11:O11),IF($U11="국도비","직접입력",SUM(N11:O11)-AC11)) -> 0 | AE11: =IF(SUM(N11:O11)=SUM(AC11:AD11),"OK","검토") -> OK | AG11: =IF(W11="","",IF(W11="도비","세입없음","직접입력")) | AI11: =IF(AG11="","",COUNTIF($AG$7:$AG$21,AG11)) | AJ11: =IF(W11="","",IF(AND(W11="도비",AG11="세입없음"),"OK",IF(AND(W11<>"도비",AG11<>""),"OK","@@"))) | AL11: {=IF(C11="","",INDEX(구분표!$I$2:$I$319, MATCH(1,(구분표!$E$2:$E$319='1추기금출'!B11)*(구분표!$F$2:$F$319='1추기금출'!C11)*(구분표!$G$2:$G$319='1추기금출'!A11),0)))}
A12: ( 기금) | H12: =SUBTOTAL(9,H13:H16) -> 0 | I12: =SUBTOTAL(9,I13:I16) -> 0 | J12: =SUBTOTAL(9,J13:J16) -> 0 | K12: =SUBTOTAL(9,K13:K16) -> 0 | L12: =SUBTOTAL(9,L13:L16) -> 0 | M12: =SUBTOTAL(9,M13:M16) -> 0 | N12: =SUBTOTAL(9,N13:N16) -> 0 | O12: =SUBTOTAL(9,O13:O16) -> 0 | P12: =SUBTOTAL(9,P13:P16) -> 0 | AG12: =IF(W12="","",IF(W12="도비","세입없음","직접입력"))
J13: =H13-I13 -> 0 | M13: =H13+K13+L13 -> 0 | P13: =H13+N13+O13 -> 0 | Q13: =IF(AND((M13=0),(P13>0)),"O",IF(AND((K13<0),(M13-P13<0)),"O","X")) -> X | X13: =IF($W13<>"도비",IF($U13="국도비","직접입력",SUM($K13:$L13)),) -> 0 | Y13: =IF($W13="도비",SUM($K13:$L13),IF($U13="국도비","직접입력",SUM($K13:$L13)-$X13)) -> 0 | Z13: =IF(SUM($K13:$L13)=SUM($X13:$Y13),"OK","검토") -> OK | AC13: =IF($W13<>"도비",IF($U13="국도비","직접입력",SUM($N13:$O13)),) -> 0 | AD13: =IF($W13="도비",SUM(N13:O13),IF($U13="국도비","직접입력",SUM(N13:O13)-AC13)) -> 0 | AE13: =IF(SUM(N13:O13)=SUM(AC13:AD13),"OK","검토") -> OK | AG13: =IF(W13="","",IF(W13="도비","세입없음","직접입력")) | AI13: =IF(AG13="","",COUNTIF($AG$7:$AG$21,AG13)) | AJ13: =IF(W13="","",IF(AND(W13="도비",AG13="세입없음"),"OK",IF(AND(W13<>"도비",AG13<>""),"OK","@@"))) | AL13: {=IF(C13="","",INDEX(구분표!$I$2:$I$319, MATCH(1,(구분표!$E$2:$E$319='1추기금출'!B13)*(구분표!$F$2:$F$319='1추기금출'!C13)*(구분표!$G$2:$G$319='1추기금출'!A13),0)))}
J14: =H14-I14 -> 0 | M14: =H14+K14+L14 -> 0 | P14: =H14+N14+O14 -> 0 | Q14: =IF(AND((M14=0),(P14>0)),"O",IF(AND((K14<0),(M14-P14<0)),"O","X")) -> X | X14: =IF($W14<>"도비",IF($U14="국도비","직접입력",SUM($K14:$L14)),) -> 0 | Y14: =IF($W14="도비",SUM($K14:$L14),IF($U14="국도비","직접입력",SUM($K14:$L14)-$X14)) -> 0 | Z14: =IF(SUM($K14:$L14)=SUM($X14:$Y14),"OK","검토") -> OK | AC14: =IF($W14<>"도비",IF($U14="국도비","직접입력",SUM($N14:$O14)),) -> 0 | AD14: =IF($W14="도비",SUM(N14:O14),IF($U14="국도비","직접입력",SUM(N14:O14)-AC14)) -> 0 | AE14: =IF(SUM(N14:O14)=SUM(AC14:AD14),"OK","검토") -> OK | AG14: =IF(W14="","",IF(W14="도비","세입없음","직접입력")) | AI14: =IF(AG14="","",COUNTIF($AG$7:$AG$21,AG14)) | AJ14: =IF(W14="","",IF(AND(W14="도비",AG14="세입없음"),"OK",IF(AND(W14<>"도비",AG14<>""),"OK","@@"))) | AL14: {=IF(C14="","",INDEX(구분표!$I$2:$I$319, MATCH(1,(구분표!$E$2:$E$319='1추기금출'!B14)*(구분표!$F$2:$F$319='1추기금출'!C14)*(구분표!$G$2:$G$319='1추기금출'!A14),0)))}
J15: =H15-I15 -> 0 | M15: =H15+K15+L15 -> 0 | P15: =H15+N15+O15 -> 0 | Q15: =IF(AND((M15=0),(P15>0)),"O",IF(AND((K15<0),(M15-P15<0)),"O","X")) -> X | X15: =IF($W15<>"도비",IF($U15="국도비","직접입력",SUM($K15:$L15)),) -> 0 | Y15: =IF($W15="도비",SUM($K15:$L15),IF($U15="국도비","직접입력",SUM($K15:$L15)-$X15)) -> 0 | Z15: =IF(SUM($K15:$L15)=SUM($X15:$Y15),"OK","검토") -> OK | AC15: =IF($W15<>"도비",IF($U15="국도비","직접입력",SUM($N15:$O15)),) -> 0 | AD15: =IF($W15="도비",SUM(N15:O15),IF($U15="국도비","직접입력",SUM(N15:O15)-AC15)) -> 0 | AE15: =IF(SUM(N15:O15)=SUM(AC15:AD15),"OK","검토") -> OK | AG15: =IF(W15="","",IF(W15="도비","세입없음","직접입력")) | AI15: =IF(AG15="","",COUNTIF($AG$7:$AG$21,AG15)) | AJ15: =IF(W15="","",IF(AND(W15="도비",AG15="세입없음"),"OK",IF(AND(W15<>"도비",AG15<>""),"OK","@@"))) | AL15: {=IF(C15="","",INDEX(구분표!$I$2:$I$319, MATCH(1,(구분표!$E$2:$E$319='1추기금출'!B15)*(구분표!$F$2:$F$319='1추기금출'!C15)*(구분표!$G$2:$G$319='1추기금출'!A15),0)))}
J16: =H16-I16 -> 0 | M16: =H16+K16+L16 -> 0 | P16: =H16+N16+O16 -> 0 | Q16: =IF(AND((M16=0),(P16>0)),"O",IF(AND((K16<0),(M16-P16<0)),"O","X")) -> X | X16: =IF($W16<>"도비",IF($U16="국도비","직접입력",SUM($K16:$L16)),) -> 0 | Y16: =IF($W16="도비",SUM($K16:$L16),IF($U16="국도비","직접입력",SUM($K16:$L16)-$X16)) -> 0 | Z16: =IF(SUM($K16:$L16)=SUM($X16:$Y16),"OK","검토") -> OK | AC16: =IF($W16<>"도비",IF($U16="국도비","직접입력",SUM($N16:$O16)),) -> 0 | AD16: =IF($W16="도비",SUM(N16:O16),IF($U16="국도비","직접입력",SUM(N16:O16)-AC16)) -> 0 | AE16: =IF(SUM(N16:O16)=SUM(AC16:AD16),"OK","검토") -> OK | AG16: =IF(W16="","",IF(W16="도비","세입없음","직접입력")) | AI16: =IF(AG16="","",COUNTIF($AG$7:$AG$21,AG16)) | AJ16: =IF(W16="","",IF(AND(W16="도비",AG16="세입없음"),"OK",IF(AND(W16<>"도비",AG16<>""),"OK","@@"))) | AL16: {=IF(C16="","",INDEX(구분표!$I$2:$I$319, MATCH(1,(구분표!$E$2:$E$319='1추기금출'!B16)*(구분표!$F$2:$F$319='1추기금출'!C16)*(구분표!$G$2:$G$319='1추기금출'!A16),0)))}
A17: ( 기금) | H17: =SUBTOTAL(9,H18:H21) -> 0 | I17: =SUBTOTAL(9,I18:I21) -> 0 | J17: =SUBTOTAL(9,J18:J21) -> 0 | K17: =SUBTOTAL(9,K18:K21) -> 0 | L17: =SUBTOTAL(9,L18:L21) -> 0 | M17: =SUBTOTAL(9,M18:M21) -> 0 | N17: =SUBTOTAL(9,N18:N21) -> 0 | O17: =SUBTOTAL(9,O18:O21) -> 0 | P17: =SUBTOTAL(9,P18:P21) -> 0 | AG17: =IF(W17="","",IF(W17="도비","세입없음","직접입력"))
J18: =H18-I18 -> 0 | M18: =H18+K18+L18 -> 0 | P18: =H18+N18+O18 -> 0 | Q18: =IF(AND((M18=0),(P18>0)),"O",IF(AND((K18<0),(M18-P18<0)),"O","X")) -> X | X18: =IF($W18<>"도비",IF($U18="국도비","직접입력",SUM($K18:$L18)),) -> 0 | Y18: =IF($W18="도비",SUM($K18:$L18),IF($U18="국도비","직접입력",SUM($K18:$L18)-$X18)) -> 0 | Z18: =IF(SUM($K18:$L18)=SUM($X18:$Y18),"OK","검토") -> OK | AC18: =IF($W18<>"도비",IF($U18="국도비","직접입력",SUM($N18:$O18)),) -> 0 | AD18: =IF($W18="도비",SUM(N18:O18),IF($U18="국도비","직접입력",SUM(N18:O18)-AC18)) -> 0 | AE18: =IF(SUM(N18:O18)=SUM(AC18:AD18),"OK","검토") -> OK | AG18: =IF(W18="","",IF(W18="도비","세입없음","직접입력")) | AI18: =IF(AG18="","",COUNTIF($AG$7:$AG$21,AG18)) | AJ18: =IF(W18="","",IF(AND(W18="도비",AG18="세입없음"),"OK",IF(AND(W18<>"도비",AG18<>""),"OK","@@"))) | AL18: {=IF(C18="","",INDEX(구분표!$I$2:$I$319, MATCH(1,(구분표!$E$2:$E$319='1추기금출'!B18)*(구분표!$F$2:$F$319='1추기금출'!C18)*(구분표!$G$2:$G$319='1추기금출'!A18),0)))}
J19: =H19-I19 -> 0 | M19: =H19+K19+L19 -> 0 | P19: =H19+N19+O19 -> 0 | Q19: =IF(AND((M19=0),(P19>0)),"O",IF(AND((K19<0),(M19-P19<0)),"O","X")) -> X | X19: =IF($W19<>"도비",IF($U19="국도비","직접입력",SUM($K19:$L19)),) -> 0 | Y19: =IF($W19="도비",SUM($K19:$L19),IF($U19="국도비","직접입력",SUM($K19:$L19)-$X19)) -> 0 | Z19: =IF(SUM($K19:$L19)=SUM($X19:$Y19),"OK","검토") -> OK | AC19: =IF($W19<>"도비",IF($U19="국도비","직접입력",SUM($N19:$O19)),) -> 0 | AD19: =IF($W19="도비",SUM(N19:O19),IF($U19="국도비","직접입력",SUM(N19:O19)-AC19)) -> 0 | AE19: =IF(SUM(N19:O19)=SUM(AC19:AD19),"OK","검토") -> OK | AG19: =IF(W19="","",IF(W19="도비","세입없음","직접입력")) | AI19: =IF(AG19="","",COUNTIF($AG$7:$AG$21,AG19)) | AJ19: =IF(W19="","",IF(AND(W19="도비",AG19="세입없음"),"OK",IF(AND(W19<>"도비",AG19<>""),"OK","@@"))) | AL19: {=IF(C19="","",INDEX(구분표!$I$2:$I$319, MATCH(1,(구분표!$E$2:$E$319='1추기금출'!B19)*(구분표!$F$2:$F$319='1추기금출'!C19)*(구분표!$G$2:$G$319='1추기금출'!A19),0)))}
J20: =H20-I20 -> 0 | M20: =H20+K20+L20 -> 0 | P20: =H20+N20+O20 -> 0 | Q20: =IF(AND((M20=0),(P20>0)),"O",IF(AND((K20<0),(M20-P20<0)),"O","X")) -> X | X20: =IF($W20<>"도비",IF($U20="국도비","직접입력",SUM($K20:$L20)),) -> 0 | Y20: =IF($W20="도비",SUM($K20:$L20),IF($U20="국도비","직접입력",SUM($K20:$L20)-$X20)) -> 0 | Z20: =IF(SUM($K20:$L20)=SUM($X20:$Y20),"OK","검토") -> OK | AC20: =IF($W20<>"도비",IF($U20="국도비","직접입력",SUM($N20:$O20)),) -> 0 | AD20: =IF($W20="도비",SUM(N20:O20),IF($U20="국도비","직접입력",SUM(N20:O20)-AC20)) -> 0 | AE20: =IF(SUM(N20:O20)=SUM(AC20:AD20),"OK","검토") -> OK | AG20: =IF(W20="","",IF(W20="도비","세입없음","직접입력")) | AI20: =IF(AG20="","",COUNTIF($AG$7:$AG$21,AG20)) | AJ20: =IF(W20="","",IF(AND(W20="도비",AG20="세입없음"),"OK",IF(AND(W20<>"도비",AG20<>""),"OK","@@"))) | AL20: {=IF(C20="","",INDEX(구분표!$I$2:$I$319, MATCH(1,(구분표!$E$2:$E$319='1추기금출'!B20)*(구분표!$F$2:$F$319='1추기금출'!C20)*(구분표!$G$2:$G$319='1추기금출'!A20),0)))}
J21: =H21-I21 -> 0 | M21: =H21+K21+L21 -> 0 | P21: =H21+N21+O21 -> 0 | Q21: =IF(AND((M21=0),(P21>0)),"O",IF(AND((K21<0),(M21-P21<0)),"O","X")) -> X | X21: =IF($W21<>"도비",IF($U21="국도비","직접입력",SUM($K21:$L21)),) -> 0 | Y21: =IF($W21="도비",SUM($K21:$L21),IF($U21="국도비","직접입력",SUM($K21:$L21)-$X21)) -> 0 | Z21: =IF(SUM($K21:$L21)=SUM($X21:$Y21),"OK","검토") -> OK | AC21: =IF($W21<>"도비",IF($U21="국도비","직접입력",SUM($N21:$O21)),) -> 0 | AD21: =IF($W21="도비",SUM(N21:O21),IF($U21="국도비","직접입력",SUM(N21:O21)-AC21)) -> 0 | AE21: =IF(SUM(N21:O21)=SUM(AC21:AD21),"OK","검토") -> OK | AG21: =IF(W21="","",IF(W21="도비","세입없음","직접입력")) | AI21: =IF(AG21="","",COUNTIF($AG$7:$AG$21,AG21)) | AJ21: =IF(W21="","",IF(AND(W21="도비",AG21="세입없음"),"OK",IF(AND(W21<>"도비",AG21<>""),"OK","@@"))) | AL21: {=IF(C21="","",INDEX(구분표!$I$2:$I$319, MATCH(1,(구분표!$E$2:$E$319='1추기금출'!B21)*(구분표!$F$2:$F$319='1추기금출'!C21)*(구분표!$G$2:$G$319='1추기금출'!A21),0)))}

Sheet 계속비
B1: 2018년도 제1회 추경 계속비 사업 조서
N2: (단위:천원)
B4: 사 업 명 | C4: 예산과목 (통계목) | D4: 총사업비 | E4: 전전년도(2016년) 이전 | H4: 전년도(2017년) | K4: 2018년 | L4: 2019년 | M4: 2020년 이후 | N4: 비 고
E5: 예산액 | F5: 집 행 액 | G5: 집행잔액 | H5: 예산액 | I5: 집행액 | J5: 집행잔액
A6: 문화관광국 | B6: ○ | C6: (당초=A)
A7: 문화정책과 | C7: 시설비
C10: (변경=B)
C11: 시설비
C14: (증감=B-A)
A15: 문화관광국 | B15: ○ | C15: (당초=A)
A16: 체육과
C19: (변경=B)
C23: (증감=B-A)
A24: 문화관광국
A25: 체육과

Sheet 071추일입
A1: 2017년도 제1회 추가경정 경기도 일반회계 세입 예산 조정(안)
A2: □ 세입예산 | P2: =P6-J6 -> 0 | X2: 세입=세출 | AC2: 세입=세출
T3: (단위 : 천원) | X3: =IF(X6='071추일출'!#REF!,"OK","@@") -> #REF! | Z3: =IF(COUNTIF(Z6:Z72,"검토")>0,"@@","OK") -> OK | AC3: =IF(AC6='071추일출'!#REF!,"OK","@@") -> #REF! | AD3: =N6+O6-AC6-AD6 -> 0 | AE3: =IF(COUNTIF(AE6:AE72,"검토")>0,"@@","OK") -> OK
A4: 위원회명 | B4: 실국명 | C4: 부서명 | D4: 편성 구분 | E4: 예산안 페이지 | F4: 사업설명서페이지 | G4: 목명 및 부기명 | H4: 제1회 추경 예산안 (가) | I4: 기정액 (나) | J4: 제1회 추경 증감액 (다=가-나) | K4: 상임위 예산안 조정액(라) | M4: 상임위 조정 예산안 (마=다+라) | N4: 예결위 예산안 조정액(사) | P4: 예결위 조정 예산안 (아=다+사) | Q4: 동의 대상 | R4: 상임위 변경사유 (심의 참고자료) | S4: 비고 (상임위 부대의견) | T4: 비고 (부대의견) | U4: 국도비 등 여부 | W4: 재원 | X4: 상임위 재원별 증감액 | AB4: 재원 | AC4: 예결위 재원별 증감액 | AG4: 세입번호 | AI4: 실국부서 코드 | AK4: 추가 내시 등 | AM4: 상임위 세입 검증 | AQ4: 예결위 세입 검증
K5: 감액 | L5: 증액 | N5: 감액 | O5: 증액 | X5: 국비 등 | Y5: 도비 | Z5: 검증 | AC5: 국비 등 | AD5: 도비 | AE5: 검증 | AM5: 국비 증감액 | AN5: 건수 | AO5: 검증 | AQ5: 국비 증감액 | AR5: 건수 | AS5: 검증
A6: 합 계 | H6: =SUBTOTAL(9,H7:H72) -> 0 | I6: =SUBTOTAL(9,I7:I72) -> 0 | J6: =SUBTOTAL(9,J7:J72) -> 0 | K6: =SUBTOTAL(9,K7:K72) -> 0 | L6: =SUBTOTAL(9,L7:L72) -> 200 | M6: =SUBTOTAL(9,M7:M72) -> 200 | N6: =SUBTOTAL(9,N7:N72) -> 0 | O6: =SUBTOTAL(9,O7:O72) -> 0 | P6: =SUBTOTAL(9,P7:P72) -> 0 | X6: =SUBTOTAL(9,X7:X72) -> 200 | Y6: =SUBTOTAL(9,Y7:Y72) -> 0 | Z6: =IF(SUM($K6:$L6)=SUM($X6:$Y6),"OK","검토") -> OK | AC6: =SUBTOTAL(9,AC7:AC72) -> 0 | AD6: =SUBTOTAL(9,AD7:AD72) -> 0 | AE6: =IF(SUM($K6:$L6)=SUM($X6:$Y6),"OK","검토") -> OK | AM6: =SUBTOTAL(9,AM7:AM72) -> 0 | AN6: =SUBTOTAL(9,AN7:AN72) -> 0 | AO6: =IF(COUNTIF(AO7:AO72,"@@")>0,"@@","OK") -> @@ | AQ6: =SUBTOTAL(9,AQ7:AQ72) -> 0 | AR6: =SUBTOTAL(9,AR7:AR72) -> 0 | AS6: =IF(COUNTIF(AS7:AS72,"@@")>0,"@@","OK") -> OK
J7: =IF(D7="","",H7-I7) | M7: =SUM(J7:L7) -> 0 | P7: =SUM(J7,N7,O7) -> 0 | Q7: =IF(AND((M7=0),(P7>0)),"O",IF(AND((K7<0),(M7-P7<0)),"O","X")) -> X | X7: =IF($W7<>"도비",IF($U7="국도비","직접입력",SUM($K7:$L7)),) -> 0 | Y7: =IF($W7="도비",SUM($K7:$L7),IF($U7="국도비","직접입력",SUM($K7:$L7)-$X7)) -> 0 | Z7: =IF(SUM($K7:$L7)=SUM($X7:$Y7),"OK","검토") -> OK | AC7: =IF($W7<>"도비",IF($U7="국도비","직접입력",SUM($N7:$O7)),) -> 0 | AD7: =IF($W7="도비",SUM(N7:O7),IF($U7="국도비","직접입력",SUM(N7:O7)-AC7)) -> 0 | AE7: =IF(SUM(N7:O7)=SUM(AC7:AD7),"OK","검토") -> OK | AG7: =IF(AI7="","",IF(W7="도비","세입없음",CONCATENATE(AI7,"-",COUNTIF($AI$7:AI7,AI7)))) | AI7: {=IF(C7="","",INDEX([1]구분표!$I$2:$I$311, MATCH(1,([1]구분표!$E$2:$E$311='071추일입'!B7)*([1]구분표!$F$2:$F$311='071추일입'!C7)*([1]구분표!$G$2:$G$311='071추일입'!A7),0)))} | AM7: =IF(AG7="",0,SUMIFS('071추일출'!$Z$6:$Z$18,'071추일출'!$AI$6:$AI$18,'071추일입'!$AG7)) -> 0 | AN7: =IF(AG7="","",COUNTIFS('071추일출'!$AI$6:$AI$18,'071추일입'!AG7)) | AO7: =IF(X7=AM7,"OK","@@") -> OK | AQ7: =IF(AG7="",0,SUMIFS('071추일출'!$AE$6:$AE$18,'071추일출'!$AI$6:$AI$18,'071추일입'!$AG7)) -> 0 | AR7: =IF(AG7="","",COUNTIFS('071추일출'!$AI$6:$AI$18,AG7)) | AS7: =IF(AC7=AQ7,"OK","@@") -> OK
G8: 0 | J8: =IF(D8="","",H8-I8) | L8: 200 | M8: =SUM(J8:L8) -> 200 | P8: =SUM(J8,N8,O8) -> 0 | Q8: =IF(AND((M8=0),(P8>0)),"O",IF(AND((K8<0),(M8-P8<0)),"O","X")) -> X | X8: =IF($W8<>"도비",IF($U8="국도비","직접입력",SUM($K8:$L8)),) -> 200 | Y8: =IF($W8="도비",SUM($K8:$L8),IF($U8="국도비","직접입력",SUM($K8:$L8)-$X8)) -> 0 | Z8: =IF(SUM($K8:$L8)=SUM($X8:$Y8),"OK","검토") -> OK | AC8: =IF($W8<>"도비",IF($U8="국도비","직접입력",SUM($N8:$O8)),) -> 0 | AD8: =IF($W8="도비",SUM(N8:O8),IF($U8="국도비","직접입력",SUM(N8:O8)-AC8)) -> 0 | AE8: =IF(SUM(N8:O8)=SUM(AC8:AD8),"OK","검토") -> OK | AG8: =IF(AI8="","",IF(W8="도비","세입없음",CONCATENATE(AI8,"-",COUNTIF($AI$7:AI8,AI8)))) | AI8: {=IF(C8="","",INDEX([1]구분표!$I$2:$I$311, MATCH(1,([1]구분표!$E$2:$E$311='071추일입'!B8)*([1]구분표!$F$2:$F$311='071추일입'!C8)*([1]구분표!$G$2:$G$311='071추일입'!A8),0)))} | AM8: =IF(AG8="",0,SUMIFS('071추일출'!$Z$6:$Z$18,'071추일출'!$AI$6:$AI$18,'071추일입'!$AG8)) -> 0 | AN8: =IF(AG8="","",COUNTIFS('071추일출'!$AI$6:$AI$18,'071추일입'!AG8)) | AO8: =IF(X8=AM8,"OK","@@") -> @@ | AQ8: =IF(AG8="",0,SUMIFS('071추일출'!$AE$6:$AE$18,'071추일출'!$AI$6:$AI$18,'071추일입'!$AG8)) -> 0 | AR8: =IF(AG8="","",COUNTIFS('071추일출'!$AI$6:$AI$18,AG8)) | AS8: =IF(AC8=AQ8,"OK","@@") -> OK
J9: =IF(D9="","",H9-I9) | M9: =SUM(J9:L9) -> 0 | P9: =SUM(J9,N9,O9) -> 0 | Q9: =IF(AND((M9=0),(P9>0)),"O",IF(AND((K9<0),(M9-P9<0)),"O","X")) -> X | X9: =IF($W9<>"도비",IF($U9="국도비","직접입력",SUM($K9:$L9)),) -> 0 | Y9: =IF($W9="도비",SUM($K9:$L9),IF($U9="국도비","직접입력",SUM($K9:$L9)-$X9)) -> 0 | Z9: =IF(SUM($K9:$L9)=SUM($X9:$Y9),"OK","검토") -> OK | AC9: =IF($W9<>"도비",IF($U9="국도비","직접입력",SUM($N9:$O9)),) -> 0 | AD9: =IF($W9="도비",SUM(N9:O9),IF($U9="국도비","직접입력",SUM(N9:O9)-AC9)) -> 0 | AE9: =IF(SUM(N9:O9)=SUM(AC9:AD9),"OK","검토") -> OK | AG9: =IF(AI9="","",IF(W9="도비","세입없음",CONCATENATE(AI9,"-",COUNTIF($AI$7:AI9,AI9)))) | AI9: {=IF(C9="","",INDEX([1]구분표!$I$2:$I$311, MATCH(1,([1]구분표!$E$2:$E$311='071추일입'!B9)*([1]구분표!$F$2:$F$311='071추일입'!C9)*([1]구분표!$G$2:$G$311='071추일입'!A9),0)))} | AM9: =IF(AG9="",0,SUMIFS('071추일출'!$Z$6:$Z$18,'071추일출'!$AI$6:$AI$18,'071추일입'!$AG9)) -> 0 | AN9: =IF(AG9="","",COUNTIFS('071추일출'!$AI$6:$AI$18,'071추일입'!AG9)) | AO9: =IF(X9=AM9,"OK","@@") -> OK | AQ9: =IF(AG9="",0,SUMIFS('071추일출'!$AE$6:$AE$18,'071추일출'!$AI$6:$AI$18,'071추일입'!$AG9)) -> 0 | AR9: =IF(AG9="","",COUNTIFS('071추일출'!$AI$6:$AI$18,AG9)) | AS9: =IF(AC9=AQ9,"OK","@@") -> OK
J10: =IF(D10="","",H10-I10) | M10: =SUM(J10:L10) -> 0 | P10: =SUM(J10,N10,O10) -> 0 | Q10: =IF(AND((M10=0),(P10>0)),"O",IF(AND((K10<0),(M10-P10<0)),"O","X")) -> X | X10: =IF($W10<>"도비",IF($U10="국도비","직접입력",SUM($K10:$L10)),) -> 0 | Y10: =IF($W10="도비",SUM($K10:$L10),IF($U10="국도비","직접입력",SUM($K10:$L10)-$X10)) -> 0 | Z10: =IF(SUM($K10:$L10)=SUM($X10:$Y10),"OK","검토") -> OK | AC10: =IF($W10<>"도비",IF($U10="국도비","직접입력",SUM($N10:$O10)),) -> 0 | AD10: =IF($W10="도비",SUM(N10:O10),IF($U10="국도비","직접입력",SUM(N10:O10)-AC10)) -> 0 | AE10: =IF(SUM(N10:O10)=SUM(AC10:AD10),"OK","검토") -> OK | AG10: =IF(AI10="","",IF(W10="도비","세입없음",CONCATENATE(AI10,"-",COUNTIF($AI$7:AI10,AI10)))) | AI10: {=IF(C10="","",INDEX([1]구분표!$I$2:$I$311, MATCH(1,([1]구분표!$E$2:$E$311='071추일입'!B10)*([1]구분표!$F$2:$F$311='071추일입'!C10)*([1]구분표!$G$2:$G$311='071추일입'!A10),0)))} | AM10: =IF(AG10="",0,SUMIFS('071추일출'!$Z$6:$Z$18,'071추일출'!$AI$6:$AI$18,'071추일입'!$AG10)) -> 0 | AN10: =IF(AG10="","",COUNTIFS('071추일출'!$AI$6:$AI$18,'071추일입'!AG10)) | AO10: =IF(X10=AM10,"OK","@@") -> OK | AQ10: =IF(AG10="",0,SUMIFS('071추일출'!$AE$6:$AE$18,'071추일출'!$AI$6:$AI$18,'071추일입'!$AG10)) -> 0 | AR10: =IF(AG10="","",COUNTIFS('071추일출'!$AI$6:$AI$18,AG10)) | AS10: =IF(AC10=AQ10,"OK","@@") -> OK
J11: =IF(D11="","",H11-I11) | M11: =SUM(J11:L11) -> 0 | P11: =SUM(J11,N11,O11) -> 0 | Q11: =IF(AND((M11=0),(P11>0)),"O",IF(AND((K11<0),(M11-P11<0)),"O","X")) -> X | X11: =IF($W11<>"도비",IF($U11="국도비","직접입력",SUM($K11:$L11)),) -> 0 | Y11: =IF($W11="도비",SUM($K11:$L11),IF($U11="국도비","직접입력",SUM($K11:$L11)-$X11)) -> 0 | Z11: =IF(SUM($K11:$L11)=SUM($X11:$Y11),"OK","검토") -> OK | AC11: =IF($W11<>"도비",IF($U11="국도비","직접입력",SUM($N11:$O11)),) -> 0 | AD11: =IF($W11="도비",SUM(N11:O11),IF($U11="국도비","직접입력",SUM(N11:O11)-AC11)) -> 0 | AE11: =IF(SUM(N11:O11)=SUM(AC11:AD11),"OK","검토") -> OK | AG11: =IF(AI11="","",IF(W11="도비","세입없음",CONCATENATE(AI11,"-",COUNTIF($AI$7:AI11,AI11)))) | AI11: {=IF(C11="","",INDEX([1]구분표!$I$2:$I$311, MATCH(1,([1]구분표!$E$2:$E$311='071추일입'!B11)*([1]구분표!$F$2:$F$311='071추일입'!C11)*([1]구분표!$G$2:$G$311='071추일입'!A11),0)))} | AM11: =IF(AG11="",0,SUMIFS('071추일출'!$Z$6:$Z$18,'071추일출'!$AI$6:$AI$18,'071추일입'!$AG11)) -> 0 | AN11: =IF(AG11="","",COUNTIFS('071추일출'!$AI$6:$AI$18,'071추일입'!AG11)) | AO11: =IF(X11=AM11,"OK","@@") -> OK | AQ11: =IF(AG11="",0,SUMIFS('071추일출'!$AE$6:$AE$18,'071추일출'!$AI$6:$AI$18,'071추일입'!$AG11)) -> 0 | AR11: =IF(AG11="","",COUNTIFS('071추일출'!$AI$6:$AI$18,AG11)) | AS11: =IF(AC11=AQ11,"OK","@@") -> OK
