Workbook

Sheet 구분표
A2: 실과명 | B2: 위원회명 | C2: 실국명 | E2: 실국명 | F2: 실과명 | G2: 위원회명 | H2: 정렬순서 | I2: 정렬코드
A3: 언론협력담당관 | B3: 의회운영위원회 | C3: 대변인 | E3: 대변인 | F3: 언론협력담당관 | G3: 의회운영위원회 | H3: 1 | I3: 10101
A4: 보도기획담당관 | B4: 의회운영위원회 | C4: 대변인 | E4: 대변인 | F4: 보도기획담당관 | G4: 의회운영위원회 | H4: 2 | I4: 10102
A5: 홍보미디어담당관 | B5: 의회운영위원회 | C5: 소통기획관 | E5: 소통기획관 | F5: 홍보미디어담당관 | G5: 의회운영위원회 | H5: 3 | I5: 10201
A6: 홍보콘텐츠담당관 | B6: 의회운영위원회 | C6: 소통기획관 | E6: 소통기획관 | F6: 홍보콘텐츠담당관 | G6: 의회운영위원회 | H6: 4 | I6: 10202
A7: 감사총괄담당관 | B7: 기획재정위원회 | C7: 감사관 | E7: 감사관 | F7: 감사총괄담당관 | G7: 기획재정위원회 | H7: 5 | I7: 10301
A8: 조사담당관 | B8: 기획재정위원회 | C8: 감사관 | E8: 감사관 | F8: 조사담당관 | G8: 기획재정위원회 | H8: 6 | I8: 10302
A9: 감사담당관 | B9: 기획재정위원회 | C9: 감사관 | E9: 감사관 | F9: 감사담당관 | G9: 기획재정위원회 | H9: 7 | I9: 10303
A10: 계약심사담당관 | B10: 기획재정위원회 | C10: 감사관 | E10: 감사관 | F10: 계약심사담당관 | G10: 기획재정위원회 | H10: 8 | I10: 10304
A11: 기획담당관 | B11: 기획재정위원회 | C11: 기획조정실 | E11: 기획조정실 | F11: 기획담당관 | G11: 기획재정위원회 | H11: 9 | I11: 10401
A12: 미래전략담당관 | B12: 기획재정위원회 | C12: 기획조정실 | E12: 기획조정실 | F12: 미래전략담당관 | G12: 기획재정위원회 | H12: 10 | I12: 10402
A13: 예산담당관 | B13: 기획재정위원회 | C13: 기획조정실 | E13: 기획조정실 | F13: 예산담당관 | G13: 기획재정위원회 | H13: 11 | I13: 10403
... A218: 경기융합타운추진단 | B218: 건설교통위원회 | C218: 건설본부 | E218: 건설본부 | F218: 경기융합타운추진단 | G218: 건설교통위원회 | H218: 215 | I218: 50705

Sheet 예결표지(세로)
A5: 2017년도 제1회 일반회계 및 특별회계 추가경정 세입·세출 예산안
A7: 예결위 계수조정 결과
A20: 예산결산특별위원회

Sheet 예결표지(가로)
A3: 2017년도 제1회 일반회계 및 특별회계 추가경정 세입·세출 예산안
A5: 예결위 계수조정 결과
A14: 예산결산특별위원회

Sheet 표지
A6: 예결위 계수조정 결과
A7: (2017. . 일 현재 최종)
C9: - 2018년도 제1회 경기도 추가경정 예산안
C10: - 2018년도 제1회 경기도 기금운용계획 변경안
A18: 예산결산특별위원회

Sheet 검증
A1: 제4회 추경 일반회계 검증 | H1: 4추 예비비 | J1: 조정액 | K1: =IFERROR(INDEX('1추일출'!AF6:AF112,MATCH("*예비비*",'1추일출'!H6:H112,0)),0) -> 0 | L1: 조정잔액 | M1: =I1+K1 -> 0
M2: (단위 : 천원)
A3: 구분 | B3: 상 임 위 | H3: 구분 | I3: 예 결 위
B4: 세입 | C4: 검증 | D4: 세출 | E4: 검증 | F4: 차액 | I4: 세입 | J4: 검증 | K4: 세출 | L4: 검증 | M4: 차액
A5: 전체 총계 | B5: =SUM(B6:B13)/2 -> 0 | C5: =IF(B5=SUM('1추일입'!K6:L6),"OK","@@") -> @@ | D5: =SUM(D6:D13)/2 -> 170000 | E5: =IF(D5=SUM('1추일출'!L6:M6),"OK","@@") -> @@ | H5: 전체 총계 | I5: =SUM(I6:I13)/2 -> 0 | J5: =IF(I5=SUM('1추일입'!N6:O6),"OK","@@") -> OK | K5: =SUM(K6:K13)/2 -> 0 | L5: =IF(K5=SUM('1추일출'!P6:Q6),"OK","@@") -> OK
A6: 자체 계 | B6: =SUM(B7:B8) -> 0 | C6: =IF(B6='1추일입'!Y6,"OK","@@") -> OK | D6: =SUM(D7:D8) -> 170000 | E6: =IF(D6='1추일출'!AA6,"OK","@@") -> OK | H6: 자체 계 | I6: =SUM(I7:I8) -> 0 | J6: =IF(I6='1추일입'!AD6,"OK","@@") -> OK | K6: =SUM(K7:K8) -> 0 | L6: =IF(K6='1추일출'!AF6,"OK","@@") -> OK
A7: 자체 도비 | B7: =SUMIFS('1추일입'!Y6:Y40,'1추일입'!W6:W40,"도비") -> 0 | D7: =SUMIFS('1추일출'!$AA$6:$AA$112,'1추일출'!$Y$6:$Y$112,"도비") -> 170000 | H7: 자체 도비 | I7: =SUMIFS('1추일입'!AD6:AD40,'1추일입'!AB6:AB40,"국비") -> 0 | K7: =SUMIFS('1추일출'!$AF$6:$AF$112,'1추일출'!$AD$6:$AD$112,"도비") -> 0
A8: 의존 매칭 도비 | B8: =SUMIFS('1추일입'!Y6:Y40,'1추일입'!W6:W40,"국비")+SUMIFS('1추일입'!Y6:Y40,'1추일입'!W6:W40,"지특")+SUMIFS('1추일입'!Y6:Y40,'1추일입'!W6:W40,"기금")+SUMIFS('1추일입'!Y6:Y40,'1추일입'!W6:W40,"특교") -> 0 | D8: =SUMIFS('1추일출'!$AA$6:$AA$112,'1추일출'!$Y$6:$Y$112,"국비")+SUMIFS('1추일출'!$AA$6:$AA$112,'1추일출'!$Y$6:$Y$112,"지특")+SUMIFS('1추일출'!$AA$6:$AA$112,'1추일출'!$Y$6:$Y$112,"기금")+SUMIFS('1추일출'!$AA$6:$AA$112,'1추일출'!$Y$6:$Y$112,"특교") -> 0 | H8: 의존 매칭 도비 | I8: =SUMIFS('1추일입'!AD6:AD40,'1추일입'!AB6:AB40,"국비")+SUMIFS('1추일입'!AD6:AD40,'1추일입'!AB6:AB40,"지특")+SUMIFS('1추일입'!AD6:AD40,'1추일입'!AB6:AB40,"기금")+SUMIFS('1추일입'!AD6:AD40,'1추일입'!AB6:AB40,"특교") -> 0 | K8: =SUMIFS('1추일출'!$AF$6:$AF$112,'1추일출'!$AD$6:$AD$112,"국비")+SUMIFS('1추일출'!$AF$6:$AF$112,'1추일출'!$AD$6:$AD$112,"지특")+SUMIFS('1추일출'!$AF$6:$AF$112,'1추일출'!$AD$6:$AD$112,"기금")+SUMIFS('1추일출'!$AF$6:$AF$112,'1추일출'!$AD$6:$AD$112,"특교") -> 0
A9: 의존 계 | B9: =SUM(B10:B13) -> 0 | C9: =IF(B9='1추일입'!X6,"OK","@@") -> @@ | D9: =SUM(D10:D13) -> 0 | E9: =IF(D9='1추일출'!Z6,"OK","@@") -> OK | F9: =SUM(F10:F13) -> 0 | H9: 의존 계 | I9: =SUM(I10:I13) -> 0 | J9: =IF(I9='1추일입'!X6,"OK","@@") -> @@ | K9: =SUM(K10:K13) -> 0 | L9: =IF(K9='1추일출'!AE6,"OK","@@") -> OK | M9: =SUM(M10:M13) -> 0
A10: 국비 | B10: =SUMIFS('1추일입'!$Y$6:$Y$40,'1추일입'!$W$6:$W$40,검증!A10) -> 0 | D10: =SUMIFS('1추일출'!$AA$6:$AA$112,'1추일출'!$Y$6:$Y$112,검증!A10) -> 0 | F10: =D10-B10 -> 0 | H10: 국비 | I10: =SUMIFS('1추일입'!$AD$6:$AD$40,'1추일입'!$AB$6:$AB$40,검증!H10) -> 0 | K10: =SUMIFS('1추일출'!$AF$6:$AF$112,'1추일출'!$AD$6:$AD$112,검증!H10) -> 0 | M10: =K10-I10 -> 0
A11: 지특 | B11: =SUMIFS('1추일입'!$Y$6:$Y$40,'1추일입'!$W$6:$W$40,검증!A11) -> 0 | D11: =SUMIFS('1추일출'!$AA$6:$AA$112,'1추일출'!$Y$6:$Y$112,검증!A11) -> 0 | F11: =D11-B11 -> 0 | H11: 지특 | I11: =SUMIFS('1추일입'!$AD$6:$AD$40,'1추일입'!$AB$6:$AB$40,검증!H11) -> 0 | K11: =SUMIFS('1추일출'!$AF$6:$AF$112,'1추일출'!$AD$6:$AD$112,검증!H11) -> 0 | M11: =K11-I11 -> 0
A12: 기금 | B12: =SUMIFS('1추일입'!$Y$6:$Y$40,'1추일입'!$W$6:$W$40,검증!A12) -> 0 | D12: =SUMIFS('1추일출'!$AA$6:$AA$112,'1추일출'!$Y$6:$Y$112,검증!A12) -> 0 | F12: =D12-B12 -> 0 | H12: 기금 | I12: =SUMIFS('1추일입'!$AD$6:$AD$40,'1추일입'!$AB$6:$AB$40,검증!H12) -> 0 | K12: =SUMIFS('1추일출'!$AF$6:$AF$112,'1추일출'!$AD$6:$AD$112,검증!H12) -> 0 | M12: =K12-I12 -> 0
A13: 특교 | B13: =SUMIFS('1추일입'!$Y$6:$Y$40,'1추일입'!$W$6:$W$40,검증!A13) -> 0 | D13: =SUMIFS('1추일출'!$AA$6:$AA$112,'1추일출'!$Y$6:$Y$112,검증!A13) -> 0 | F13: =D13-B13 -> 0 | H13: 특교 | I13: =SUMIFS('1추일입'!$AD$6:$AD$40,'1추일입'!$AB$6:$AB$40,검증!H13) -> 0 | K13: =SUMIFS('1추일출'!$AF$6:$AF$112,'1추일출'!$AD$6:$AD$112,검증!H13) -> 0 | M13: =K13-I13 -> 0

Sheet 총괄표
A3: □ 총 괄 | C3: 세입예산 증감 | D3: =SUM(C7:D7) -> 0 | F3: 세출예산증감 | G3: =SUM(F7:G7) -> 0
F4: ※ 예비비 증감 | G4: =N7 -> 0 | I4: (단위 : 천원)
A5: 구 분 | B5: 집행부제출(안) | C5: 세입예산(안) | F5: 세출예산(안) | I5: 수정예산(안) | K5: ※ 예산안 증감현황
C6: 감 액 | D6: 증 액 | E6: 증감액 | F6: 감 액 | G6: 증 액 | H6: 증감액 | K6: 구 분 | L6: 세입 | M6: 세출 | N6: 예비비 | O6: 비고(???)
A7: 합 계 | B7: =SUM(B8:B17) -> 0 | C7: =SUM(C8:C17) -> 0 | D7: =SUM(D8:D17) -> 0 | E7: =SUM(E8:E17) -> 0 | F7: =SUM(F8:F17) -> 0 | G7: =SUM(G8:G17) -> 0 | H7: =SUM(H8:H17) -> 0 | I7: =SUM(I8:I17) -> 0 | K7: 합 계 | L7: =SUM(L8:L9) -> 0 | M7: =SUM(M8:M9) -> 0 | N7: =L7-M7 -> 0
A8: 의회운영위원회 | B8: =B31 -> 0 | C8: =SUMIFS('1추일입'!N$6:N$40,'1추일입'!$A$6:$A$40,총괄표!$A8)+SUMIFS('1추특입'!N$6:N$16,'1추특입'!$A$6:$A$16,총괄표!$A8) -> 0 | D8: =SUMIFS('1추일입'!O$6:O$40,'1추일입'!$A$6:$A$40,총괄표!$A8)+SUMIFS('1추특입'!O$6:O$16,'1추특입'!$A$6:$A$16,총괄표!$A8) -> 0 | E8: =D8+C8 -> 0 | F8: =SUMIFS('1추일출'!P$6:P$112,'1추일출'!$B$6:$B$112,총괄표!$A8)+SUMIFS('1추특출'!P$6:P$26,'1추특출'!$B$6:$B$26,총괄표!$A8) -> 0 | G8: =SUMIFS('1추일출'!Q$6:Q$112,'1추일출'!$B$6:$B$112,총괄표!$A8)+SUMIFS('1추특출'!Q$6:Q$26,'1추특출'!$B$6:$B$26,총괄표!$A8) -> 0 | H8: =G8+F8 -> 0 | I8: =B8+F8+G8 -> 0 | K8: 일반회계 | L8: =SUM(C24:D24) -> 0 | M8: =SUM(F24:G24) -> 0 | N8: =L8-M8 -> 0 | O8: 예비비 증감 - 감액, + 증액에 입력
A9: 기획재정위원회 | B9: =B32 -> 0 | C9: =SUMIFS('1추일입'!N$6:N$40,'1추일입'!$A$6:$A$40,총괄표!$A9)+SUMIFS('1추특입'!N$6:N$16,'1추특입'!$A$6:$A$16,총괄표!$A9) -> 0 | D9: =SUMIFS('1추일입'!O$6:O$40,'1추일입'!$A$6:$A$40,총괄표!$A9)+SUMIFS('1추특입'!O$6:O$16,'1추특입'!$A$6:$A$16,총괄표!$A9) -> 0 | E9: =D9+C9 -> 0 | F9: =SUMIFS('1추일출'!P$6:P$112,'1추일출'!$B$6:$B$112,총괄표!$A9)+SUMIFS('1추특출'!P$6:P$26,'1추특출'!$B$6:$B$26,총괄표!$A9) -> 0 | G9: =SUMIFS('1추일출'!Q$6:Q$112,'1추일출'!$B$6:$B$112,총괄표!$A9)+SUMIFS('1추특출'!Q$6:Q$26,'1추특출'!$B$6:$B$26,총괄표!$A9) -> 0 | H9: =G9+F9 -> 0 | I9: =B9+F9+G9 -> 0 | K9: 특별회계 | L9: =SUM(C25:D25) -> 0 | M9: =SUM(F25:G25) -> 0 | N9: =L9-M9 -> 0
A10: 경제과학기술위원회 | B10: =B33 -> 0 | C10: =SUMIFS('1추일입'!N$6:N$40,'1추일입'!$A$6:$A$40,총괄표!$A10)+SUMIFS('1추특입'!N$6:N$16,'1추특입'!$A$6:$A$16,총괄표!$A10) -> 0 | D10: =SUMIFS('1추일입'!O$6:O$40,'1추일입'!$A$6:$A$40,총괄표!$A10)+SUMIFS('1추특입'!O$6:O$16,'1추특입'!$A$6:$A$16,총괄표!$A10) -> 0 | E10: =D10+C10 -> 0 | F10: =SUMIFS('1추일출'!P$6:P$112,'1추일출'!$B$6:$B$112,총괄표!$A10)+SUMIFS('1추특출'!P$6:P$26,'1추특출'!$B$6:$B$26,총괄표!$A10) -> 0 | G10: =SUMIFS('1추일출'!Q$6:Q$112,'1추일출'!$B$6:$B$112,총괄표!$A10)+SUMIFS('1추특출'!Q$6:Q$26,'1추특출'!$B$6:$B$26,총괄표!$A10) -> 0 | H10: =G10+F10 -> 0 | I10: =B10+F10+G10 -> 0 | O10: (예비비 계수 조종용)
A11: 안전행정위원회 | B11: =B34 -> 0 | C11: =SUMIFS('1추일입'!N$6:N$40,'1추일입'!$A$6:$A$40,총괄표!$A11)+SUMIFS('1추특입'!N$6:N$16,'1추특입'!$A$6:$A$16,총괄표!$A11) -> 0 | D11: =SUMIFS('1추일입'!O$6:O$40,'1추일입'!$A$6:$A$40,총괄표!$A11)+SUMIFS('1추특입'!O$6:O$16,'1추특입'!$A$6:$A$16,총괄표!$A11) -> 0 | E11: =D11+C11 -> 0 | F11: =SUMIFS('1추일출'!P$6:P$112,'1추일출'!$B$6:$B$112,총괄표!$A11)+SUMIFS('1추특출'!P$6:P$26,'1추특출'!$B$6:$B$26,총괄표!$A11) -> 0 | G11: =SUMIFS('1추일출'!Q$6:Q$112,'1추일출'!$B$6:$B$112,총괄표!$A11)+SUMIFS('1추특출'!Q$6:Q$26,'1추특출'!$B$6:$B$26,총괄표!$A11) -> 0 | H11: =G11+F11 -> 0 | I11: =B11+F11+G11 -> 0
A12: 문화체육관광위원회 | B12: =B35 -> 0 | C12: =SUMIFS('1추일입'!N$6:N$40,'1추일입'!$A$6:$A$40,총괄표!$A12)+SUMIFS('1추특입'!N$6:N$16,'1추특입'!$A$6:$A$16,총괄표!$A12) -> 0 | D12: =SUMIFS('1추일입'!O$6:O$40,'1추일입'!$A$6:$A$40,총괄표!$A12)+SUMIFS('1추특입'!O$6:O$16,'1추특입'!$A$6:$A$16,총괄표!$A12) -> 0 | E12: =D12+C12 -> 0 | F12: =SUMIFS('1추일출'!P$6:P$112,'1추일출'!$B$6:$B$112,총괄표!$A12)+SUMIFS('1추특출'!P$6:P$26,'1추특출'!$B$6:$B$26,총괄표!$A12) -> 0 | G12: =SUMIFS('1추일출'!Q$6:Q$112,'1추일출'!$B$6:$B$112,총괄표!$A12)+SUMIFS('1추특출'!Q$6:Q$26,'1추특출'!$B$6:$B$26,총괄표!$A12) -> 0 | H12: =G12+F12 -> 0 | I12: =B12+F12+G12 -> 0
A13: 농정해양위원회 | B13: =B36 -> 0 | C13: =SUMIFS('1추일입'!N$6:N$40,'1추일입'!$A$6:$A$40,총괄표!$A13)+SUMIFS('1추특입'!N$6:N$16,'1추특입'!$A$6:$A$16,총괄표!$A13) -> 0 | D13: =SUMIFS('1추일입'!O$6:O$40,'1추일입'!$A$6:$A$40,총괄표!$A13)+SUMIFS('1추특입'!O$6:O$16,'1추특입'!$A$6:$A$16,총괄표!$A13) -> 0 | E13: =D13+C13 -> 0 | F13: =SUMIFS('1추일출'!P$6:P$112,'1추일출'!$B$6:$B$112,총괄표!$A13)+SUMIFS('1추특출'!P$6:P$26,'1추특출'!$B$6:$B$26,총괄표!$A13) -> 0 | G13: =SUMIFS('1추일출'!Q$6:Q$112,'1추일출'!$B$6:$B$112,총괄표!$A13)+SUMIFS('1추특출'!Q$6:Q$26,'1추특출'!$B$6:$B$26,총괄표!$A13) -> 0 | H13: =G13+F13 -> 0 | I13: =B13+F13+G13 -> 0
A14: 보건복지위원회 | B14: =B37 -> 0 | C14: =SUMIFS('1추일입'!N$6:N$40,'1추일입'!$A$6:$A$40,총괄표!$A14)+SUMIFS('1추특입'!N$6:N$16,'1추특입'!$A$6:$A$16,총괄표!$A14) -> 0 | D14: =SUMIFS('1추일입'!O$6:O$40,'1추일입'!$A$6:$A$40,총괄표!$A14)+SUMIFS('1추특입'!O$6:O$16,'1추특입'!$A$6:$A$16,총괄표!$A14) -> 0 | E14: =D14+C14 -> 0 | F14: =SUMIFS('1추일출'!P$6:P$112,'1추일출'!$B$6:$B$112,총괄표!$A14)+SUMIFS('1추특출'!P$6:P$26,'1추특출'!$B$6:$B$26,총괄표!$A14) -> 0 | G14: =SUMIFS('1추일출'!Q$6:Q$112,'1추일출'!$B$6:$B$112,총괄표!$A14)+SUMIFS('1추특출'!Q$6:Q$26,'1추특출'!$B$6:$B$26,총괄표!$A14) -> 0 | H14: =G14+F14 -> 0 | I14: =B14+F14+G14 -> 0
A15: 건설교통위원회 | B15: =B38 -> 0 | C15: =SUMIFS('1추일입'!N$6:N$40,'1추일입'!$A$6:$A$40,총괄표!$A15)+SUMIFS('1추특입'!N$6:N$16,'1추특입'!$A$6:$A$16,총괄표!$A15) -> 0 | D15: =SUMIFS('1추일입'!O$6:O$40,'1추일입'!$A$6:$A$40,총괄표!$A15)+SUMIFS('1추특입'!O$6:O$16,'1추특입'!$A$6:$A$16,총괄표!$A15) -> 0 | E15: =D15+C15 -> 0 | F15: =SUMIFS('1추일출'!P$6:P$112,'1추일출'!$B$6:$B$112,총괄표!$A15)+SUMIFS('1추특출'!P$6:P$26,'1추특출'!$B$6:$B$26,총괄표!$A15) -> 0 | G15: =SUMIFS('1추일출'!Q$6:Q$112,'1추일출'!$B$6:$B$112,총괄표!$A15)+SUMIFS('1추특출'!Q$6:Q$26,'1추특출'!$B$6:$B$26,총괄표!$A15) -> 0 | H15: =G15+F15 -> 0 | I15: =B15+F15+G15 -> 0
A16: 도시환경위원회 | B16: =B39 -> 0 | C16: =SUMIFS('1추일입'!N$6:N$40,'1추일입'!$A$6:$A$40,총괄표!$A16)+SUMIFS('1추특입'!N$6:N$16,'1추특입'!$A$6:$A$16,총괄표!$A16) -> 0 | D16: =SUMIFS('1추일입'!O$6:O$40,'1추일입'!$A$6:$A$40,총괄표!$A16)+SUMIFS('1추특입'!O$6:O$16,'1추특입'!$A$6:$A$16,총괄표!$A16) -> 0 | E16: =D16+C16 -> 0 | F16: =SUMIFS('1추일출'!P$6:P$112,'1추일출'!$B$6:$B$112,총괄표!$A16)+SUMIFS('1추특출'!P$6:P$26,'1추특출'!$B$6:$B$26,총괄표!$A16) -> 0 | G16: =SUMIFS('1추일출'!Q$6:Q$112,'1추일출'!$B$6:$B$112,총괄표!$A16)+SUMIFS('1추특출'!Q$6:Q$26,'1추특출'!$B$6:$B$26,총괄표!$A16) -> 0 | H16: =G16+F16 -> 0 | I16: =B16+F16+G16 -> 0
A17: 여성가족교육협력위원회 | B17: =B40 -> 0 | C17: =SUMIFS('1추일입'!N$6:N$40,'1추일입'!$A$6:$A$40,총괄표!$A17)+SUMIFS('1추특입'!N$6:N$16,'1추특입'!$A$6:$A$16,총괄표!$A17) -> 0 | D17: =SUMIFS('1추일입'!O$6:O$40,'1추일입'!$A$6:$A$40,총괄표!$A17)+SUMIFS('1추특입'!O$6:O$16,'1추특입'!$A$6:$A$16,총괄표!$A17) -> 0 | E17: =D17+C17 -> 0 | F17: =SUMIFS('1추일출'!P$6:P$112,'1추일출'!$B$6:$B$112,총괄표!$A17)+SUMIFS('1추특출'!P$6:P$26,'1추특출'!$B$6:$B$26,총괄표!$A17) -> 0 | G17: =SUMIFS('1추일출'!Q$6:Q$112,'1추일출'!$B$6:$B$112,총괄표!$A17)+SUMIFS('1추특출'!Q$6:Q$26,'1추특출'!$B$6:$B$26,총괄표!$A17) -> 0 | H17: =G17+F17 -> 0 | I17: =B17+F17+G17 -> 0
A19: □ 회계별 예산 총 규모
I20: (단위 : 천원)
A21: 구 분 | B21: 집행부제출(안) | C21: 세입예산(안) | F21: 세출예산(안) | I21: 수정예산(안) | K21: 세입기준
C22: 감 액 | D22: 증 액 | E22: 증감액 | F22: 감 액 | G22: 증 액 | H22: 증감액 | K22: 수정예산(안) | L22: 세출기준-세입기준
A23: 합 계 | B23: =SUM(B24:B25) -> 0 | C23: =SUM(C24:C25) -> 0 | D23: =SUM(D24:D25) -> 0 | E23: =SUM(E24:E25) -> 0 | F23: =SUM(F24:F25) -> 0 | G23: =SUM(G24:G25) -> 0 | H23: =SUM(H24:H25) -> 0 | I23: =SUM(I24:I25) -> 0 | K23: =SUM(K24:K25) -> 0 | L23: =I23-K23 -> 0
A24: 일반회계 | B24: =D30 -> 0 | C24: ='1추일입'!N6 -> 0 | D24: ='1추일입'!O6 -> 0 | E24: =D24+C24 -> 0 | F24: ='1추일출'!P6 -> 0 | G24: ='1추일출'!Q6 -> 0 | H24: =G24+F24 -> 0 | I24: =B24+F24+G24 -> 0 | K24: =B24+C24+D24 -> 0 | L24: =I24-K24 -> 0
A25: 특별회계 | B25: =E30+F30 -> 0 | C25: ='1추특입'!N6 -> 0 | D25: ='1추특입'!O6 -> 0 | E25: =D25+C25 -> 0 | F25: ='1추특출'!P6 -> 0 | G25: ='1추특출'!Q6 -> 0 | H25: =G25+F25 -> 0 | I25: =B25+F25+G25 -> 0 | K25: =B25+C25+D25 -> 0 | L25: =I25-K25 -> 0
A28: ※ 회계별, 위원회별 집행부제출안(상임위에서 작성)
A29: 위원회명 | B29: 합계 | C29: 일반+기타 | D29: 일반회계 | E29: 기타특별회계 | F29: 공기업특별회계
A30: 합계 | B30: =SUM(B31:B40) -> 0 | C30: =SUM(C31:C40) -> 0 | D30: =SUM(D31:D40) -> 0 | E30: =SUM(E31:E40) -> 0 | F30: =SUM(F31:F40) -> 0
A31: 의회운영위원회 | B31: =SUM(D31:G31) -> 0 | C31: =D31+E31 -> 0
A32: 기획재정위원회 | B32: =SUM(D32:G32) -> 0 | C32: =D32+E32 -> 0
A33: 경제과학기술위원회 | B33: =SUM(D33:G33) -> 0 | C33: =D33+E33 -> 0
A34: 안전행정위원회 | B34: =SUM(D34:G34) -> 0 | C34: =D34+E34 -> 0
A35: 문화체육관광위원회 | B35: =SUM(D35:G35) -> 0 | C35: =D35+E35 -> 0
A36: 농정해양위원회 | B36: =SUM(D36:G36) -> 0 | C36: =D36+E36 -> 0
A37: 보건복지위원회 | B37: =SUM(D37:G37) -> 0 | C37: =D37+E37 -> 0
A38: 건설교통위원회 | B38: =SUM(D38:G38) -> 0 | C38: =D38+E38 -> 0
A39: 도시환경위원회 | B39: =SUM(D39:G39) -> 0 | C39: =D39+E39 -> 0
A40: 여성가족교육협력위원회 | B40: =SUM(D40:G40) -> 0 | C40: =D40+E40 -> 0
A42: 예비비

Sheet 1추일입
A1: 2018년도 제1회 추가경정 경기도 일반회계 세입 예산 조정(안)
A2: □ 세입예산 | P2: =P6-H6 -> 0 | X2: 세입=세출 | AC2: 세입=세출
T3: (단위 : 천원) | X3: =IF(X6='1추일출'!Z6,"OK","@@") -> @@ | Z3: =IF(COUNTIF(Z6:Z40,"검토")>0,"@@","OK") -> OK | AC3: =IF(AC6='1추일출'!AE6,"OK","@@") -> OK | AD3: =N6+O6-AC6-AD6 -> 0 | AE3: =IF(COUNTIF(AE6:AE40,"검토")>0,"@@","OK") -> OK
A4: 위원회명 | B4: 실국명 | C4: 부서명 | D4: 편성 구분 | E4: 예산안 페이지 | F4: 사업설명서페이지 | G4: 목명 및 부기명 | H4: 제1회 추경 예산안 (가) | I4: 기정액 (나) | J4: 제1회 추경 증감액 (다=가-나) | K4: 상임위 예산안 조정액(라) | M4: 상임위 조정 예산안 (마=가+라) | N4: 예결위 예산안 조정액(사) | P4: 예결위 조정 예산안 (아=가+사) | Q4: 동의 대상 | R4: 상임위 변경사유 (심의 참고자료) | S4: 비고 (상임위 부대의견) | T4: 비고 (예결위 부대의견) | U4: 국도비 등 여부 | W4: 재원 | X4: 상임위 재원별 증감액 | AB4: 재원 | AC4: 예결위 재원별 증감액 | AG4: 세입번호 | AI4: 실국부서 코드 | AK4: 추가 내시 등 | AM4: 상임위 세입 검증 | AQ4: 예결위 세입 검증
K5: 감액 | L5: 증액 | N5: 감액 | O5: 증액 | X5: 국비 등 | Y5: 도비 | Z5: 검증 | AC5: 국비 등 | AD5: 도비 | AE5: 검증 | AM5: 국비 증감액 | AN5: 건수 | AO5: 검증 | AQ5: 국비 증감액 | AR5: 건수 | AS5: 검증
A6: 합 계 | H6: =SUBTOTAL(9,H7:H40) -> 0 | I6: =SUBTOTAL(9,I7:I40) -> 0 | J6: =SUBTOTAL(9,J7:J40) -> 0 | K6: =SUBTOTAL(9,K7:K40) -> 0 | L6: =SUBTOTAL(9,L7:L40) -> 26782 | M6: =SUBTOTAL(9,M7:M40) -> 26782 | N6: =SUBTOTAL(9,N7:N40) -> 0 | O6: =SUBTOTAL(9,O7:O40) -> 0 | P6: =SUBTOTAL(9,P7:P40) -> 0 | X6: =SUBTOTAL(9,X7:X40) -> 26782 | Y6: =SUBTOTAL(9,Y7:Y40) -> 0 | Z6: =IF(SUM($K6:$L6)=SUM($X6:$Y6),"OK","검토") -> OK | AC6: =SUBTOTAL(9,AC7:AC40) -> 0 | AD6: =SUBTOTAL(9,AD7:AD40) -> 0 | AE6: =IF(SUM($K6:$L6)=SUM($X6:$Y6),"OK","검토") -> OK | AM6: =SUBTOTAL(9,AM7:AM40) -> #N/A | AN6: =SUBTOTAL(9,AN7:AN40) -> #N/A | AO6: =IF(COUNTIF(AO7:AO40,"@@")>0,"@@","OK") -> OK | AQ6: =SUBTOTAL(9,AQ7:AQ40) -> #N/A | AR6: =SUBTOTAL(9,AR7:AR40) -> #N/A | AS6: =IF(COUNTIF(AS7:AS40,"@@")>0,"@@","OK") -> OK
A7: 문화체육관광위원회 | B7: 문화체육관국 | C7: 문화유산과 | D7: 신규 | G7: 그외수입 [양주시] 양주 회암사지 종합정비 집행잔액 | J7: =IF(D7="","",H7-I7) -> 0 | L7: 26782 | M7: =H7+K7+L7 -> 26782 | P7: =H7+N7+O7 -> 0 | Q7: =IF(AND((M7=0),(P7>0)),"O",IF(AND((K7<0),(M7-P7<0)),"O","X")) -> X | X7: =IF($W7<>"도비",IF($U7="국도비","직접입력",SUM($K7:$L7)),) -> 26782 | Y7: =IF($W7="도비",SUM($K7:$L7),IF($U7="국도비","직접입력",SUM($K7:$L7)-$X7)) -> 0 | Z7: =IF(SUM($K7:$L7)=SUM($X7:$Y7),"OK","검토") -> OK | AC7: =IF($W7<>"도비",IF($U7="국도비","직접입력",SUM($N7:$O7)),) -> 0 | AD7: =IF($W7="도비",SUM(N7:O7),IF($U7="국도비","직접입력",SUM(N7:O7)-AC7)) -> 0 | AE7: =IF(SUM(N7:O7)=SUM(AC7:AD7),"OK","검토") -> OK | AG7: =IF(AI7="","",IF(W7="도비","세입없음",CONCATENATE(AI7,"-",COUNTIF($AI$7:AI7,AI7)))) -> #N/A | AI7: {=IF(C7="","",INDEX(구분표!$I$2:$I$319, MATCH(1,(구분표!$E$2:$E$319='1추일입'!B7)*(구분표!$F$2:$F$319='1추일입'!C7)*(구분표!$G$2:$G$319='1추일입'!A7),0)))} -> #N/A | AM7: =IF(AG7="",0,SUMIFS('1추일출'!$Z$6:$Z$112,'1추일출'!$AI$6:$AI$112,'1추일입'!$AG7)) -> #N/A | AN7: =IF(AG7="","",COUNTIFS('1추일출'!$AI$6:$AI$112,'1추일입'!AG7)) -> #N/A | AO7: =IF(X7=AM7,"OK","@@") -> #N/A | AQ7: =IF(AG7="",0,SUMIFS('1추일출'!$AE$6:$AE$112,'1추일출'!$AI$6:$AI$112,'1추일입'!$AG7)) -> #N/A | AR7: =IF(AG7="","",COUNTIFS('1추일출'!$AI$6:$AI$112,AG7)) -> #N/A | AS7: =IF(AC7=AQ7,"OK","@@") -> #N/A
J8: =IF(D8="","",H8-I8) | M8: =H8+K8+L8 -> 0 | P8: =H8+N8+O8 -> 0 | Q8: =IF(AND((M8=0),(P8>0)),"O",IF(AND((K8<0),(M8-P8<0)),"O","X")) -> X | X8: =IF($W8<>"도비",IF($U8="국도비","직접입력",SUM($K8:$L8)),) -> 0 | Y8: =IF($W8="도비",SUM($K8:$L8),IF($U8="국도비","직접입력",SUM($K8:$L8)-$X8)) -> 0 | Z8: =IF(SUM($K8:$L8)=SUM($X8:$Y8),"OK","검토") -> OK | AC8: =IF($W8<>"도비",IF($U8="국도비","직접입력",SUM($N8:$O8)),) -> 0 | AD8: =IF($W8="도비",SUM(N8:O8),IF($U8="국도비","직접입력",SUM(N8:O8)-AC8)) -> 0 | AE8: =IF(SUM(N8:O8)=SUM(AC8:AD8),"OK","검토") -> OK | AG8: =IF(AI8="","",IF(W8="도비","세입없음",CONCATENATE(AI8,"-",COUNTIF($AI$7:AI8,AI8)))) | AI8: {=IF(C8="","",INDEX(구분표!$I$2:$I$319, MATCH(1,(구분표!$E$2:$E$319='1추일입'!B8)*(구분표!$F$2:$F$319='1추일입'!C8)*(구분표!$G$2:$G$319='1추일입'!A8),0)))} | AM8: =IF(AG8="",0,SUMIFS('1추일출'!$Z$6:$Z$112,'1추일출'!$AI$6:$AI$112,'1추일입'!$AG8)) -> 0 | AN8: =IF(AG8="","",COUNTIFS('1추일출'!$AI$6:$AI$112,'1추일입'!AG8)) | AO8: =IF(X8=AM8,"OK","@@") -> OK | AQ8: =IF(AG8="",0,SUMIFS('1추일출'!$AE$6:$AE$112,'1추일출'!$AI$6:$AI$112,'1추일입'!$AG8)) -> 0 | AR8: =IF(AG8="","",COUNTIFS('1추일출'!$AI$6:$AI$112,AG8)) | AS8: =IF(AC8=AQ8,"OK","@@") -> OK
J9: =IF(D9="","",H9-I9) | M9: =H9+K9+L9 -> 0 | P9: =H9+N9+O9 -> 0 | Q9: =IF(AND((M9=0),(P9>0)),"O",IF(AND((K9<0),(M9-P9<0)),"O","X")) -> X | X9: =IF($W9<>"도비",IF($U9="국도비","직접입력",SUM($K9:$L9)),) -> 0 | Y9: =IF($W9="도비",SUM($K9:$L9),IF($U9="국도비","직접입력",SUM($K9:$L9)-$X9)) -> 0 | Z9: =IF(SUM($K9:$L9)=SUM($X9:$Y9),"OK","검토") -> OK | AC9: =IF($W9<>"도비",IF($U9="국도비","직접입력",SUM($N9:$O9)),) -> 0 | AD9: =IF($W9="도비",SUM(N9:O9),IF($U9="국도비","직접입력",SUM(N9:O9)-AC9)) -> 0 | AE9: =IF(SUM(N9:O9)=SUM(AC9:AD9),"OK","검토") -> OK | AG9: =IF(AI9="","",IF(W9="도비","세입없음",CONCATENATE(AI9,"-",COUNTIF($AI$7:AI9,AI9)))) | AI9: {=IF(C9="","",INDEX(구분표!$I$2:$I$319, MATCH(1,(구분표!$E$2:$E$319='1추일입'!B9)*(구분표!$F$2:$F$319='1추일입'!C9)*(구분표!$G$2:$G$319='1추일입'!A9),0)))} | AM9: =IF(AG9="",0,SUMIFS('1추일출'!$Z$6:$Z$112,'1추일출'!$AI$6:$AI$112,'1추일입'!$AG9)) -> 0 | AN9: =IF(AG9="","",COUNTIFS('1추일출'!$AI$6:$AI$112,'1추일입'!AG9)) | AO9: =IF(X9=AM9,"OK","@@") -> OK | AQ9: =IF(AG9="",0,SUMIFS('1추일출'!$AE$6:$AE$112,'1추일출'!$AI$6:$AI$112,'1추일입'!$AG9)) -> 0 | AR9: =IF(AG9="","",COUNTIFS('1추일출'!$AI$6:$AI$112,AG9)) | AS9: =IF(AC9=AQ9,"OK","@@") -> OK
J10: =IF(D10="","",H10-I10) | M10: =H10+K10+L10 -> 0 | P10: =H10+N10+O10 -> 0 | Q10: =IF(AND((M10=0),(P10>0)),"O",IF(AND((K10<0),(M10-P10<0)),"O","X")) -> X | X10: =IF($W10<>"도비",IF($U10="국도비","직접입력",SUM($K10:$L10)),) -> 0 | Y10: =IF($W10="도비",SUM($K10:$L10),IF($U10="국도비","직접입력",SUM($K10:$L10)-$X10)) -> 0 | Z10: =IF(SUM($K10:$L10)=SUM($X10:$Y10),"OK","검토") -> OK | AC10: =IF($W10<>"도비",IF($U10="국도비","직접입력",SUM($N10:$O10)),) -> 0 | AD10: =IF($W10="도비",SUM(N10:O10),IF($U10="국도비","직접입력",SUM(N10:O10)-AC10)) -> 0 | AE10: =IF(SUM(N10:O10)=SUM(AC10:AD10),"OK","검토") -> OK | AG10: =IF(AI10="","",IF(W10="도비","세입없음",CONCATENATE(AI10,"-",COUNTIF($AI$7:AI10,AI10)))) | AI10: {=IF(C10="","",INDEX(구분표!$I$2:$I$319, MATCH(1,(구분표!$E$2:$E$319='1추일입'!B10)*(구분표!$F$2:$F$319='1추일입'!C10)*(구분표!$G$2:$G$319='1추일입'!A10),0)))} | AM10: =IF(AG10="",0,SUMIFS('1추일출'!$Z$6:$Z$112,'1추일출'!$AI$6:$AI$112,'1추일입'!$AG10)) -> 0 | AN10: =IF(AG10="","",COUNTIFS('1추일출'!$AI$6:$AI$112,'1추일입'!AG10)) | AO10: =IF(X10=AM10,"OK","@@") -> OK | AQ10: =IF(AG10="",0,SUMIFS('1추일출'!$AE$6:$AE$112,'1추일출'!$AI$6:$AI$112,'1추일입'!$AG10)) -> 0 | AR10: =IF(AG10="","",COUNTIFS('1추일출'!$AI$6:$AI$112,AG10)) | AS10: =IF(AC10=AQ10,"OK","@@") -> OK
J11: =IF(D11="","",H11-I11) | M11: =H11+K11+L11 -> 0 | P11: =H11+N11+O11 -> 0 | Q11: =IF(AND((M11=0),(P11>0)),"O",IF(AND((K11<0),(M11-P11<0)),"O","X")) -> X | X11: =IF($W11<>"도비",IF($U11="국도비","직접입력",SUM($K11:$L11)),) -> 0 | Y11: =IF($W11="도비",SUM($K11:$L11),IF($U11="국도비","직접입력",SUM($K11:$L11)-$X11)) -> 0 | Z11: =IF(SUM($K11:$L11)=SUM($X11:$Y11),"OK","검토") -> OK | AC11: =IF($W11<>"도비",IF($U11="국도비","직접입력",SUM($N11:$O11)),) -> 0 | AD11: =IF($W11="도비",SUM(N11:O11),IF($U11="국도비","직접입력",SUM(N11:O11)-AC11)) -> 0 | AE11: =IF(SUM(N11:O11)=SUM(AC11:AD11),"OK","검토") -> OK | AG11: =IF(AI11="","",IF(W11="도비","세입없음",CONCATENATE(AI11,"-",COUNTIF($AI$7:AI11,AI11)))) | AI11: {=IF(C11="","",INDEX(구분표!$I$2:$I$319, MATCH(1,(구분표!$E$2:$E$319='1추일입'!B11)*(구분표!$F$2:$F$319='1추일입'!C11)*(구분표!$G$2:$G$319='1추일입'!A11),0)))} | AM11: =IF(AG11="",0,SUMIFS('1추일출'!$Z$6:$Z$112,'1추일출'!$AI$6:$AI$112,'1추일입'!$AG11)) -> 0 | AN11: =IF(AG11="","",COUNTIFS('1추일출'!$AI$6:$AI$112,'1추일입'!AG11)) | AO11: =IF(X11=AM11,"OK","@@") -> OK | AQ11: =IF(AG11="",0,SUMIFS('1추일출'!$AE$6:$AE$112,'1추일출'!$AI$6:$AI$112,'1추일입'!$AG11)) -> 0 | AR11: =IF(AG11="","",COUNTIFS('1추일출'!$AI$6:$AI$112,AG11)) | AS11: =IF(AC11=AQ11,"OK","@@") -> OK
J12: =IF(D12="","",H12-I12) | M12: =H12+K12+L12 -> 0 | P12: =H12+N12+O12 -> 0 | Q12: =IF(AND((M12=0),(P12>0)),"O",IF(AND((K12<0),(M12-P12<0)),"O","X")) -> X | X12: =IF($W12<>"도비",IF($U12="국도비","직접입력",SUM($K12:$L12)),) -> 0 | Y12: =IF($W12="도비",SUM($K12:$L12),IF($U12="국도비","직접입력",SUM($K12:$L12)-$X12)) -> 0 | Z12: =IF(SUM($K12:$L12)=SUM($X12:$Y12),"OK","검토") -> OK | AC12: =IF($W12<>"도비",IF($U12="국도비","직접입력",SUM($N12:$O12)),) -> 0 | AD12: =IF($W12="도비",SUM(N12:O12),IF($U12="국도비","직접입력",SUM(N12:O12)-AC12)) -> 0 | AE12: =IF(SUM(N12:O12)=SUM(AC12:AD12),"OK","검토") -> OK | AG12: =IF(AI12="","",IF(W12="도비","세입없음",CONCATENATE(AI12,"-",COUNTIF($AI$7:AI12,AI12)))) | AI12: {=IF(C12="","",INDEX(구분표!$I$2:$I$319, MATCH(1,(구분표!$E$2:$E$319='1추일입'!B12)*(구분표!$F$2:$F$319='1추일입'!C12)*(구분표!$G$2:$G$319='1추일입'!A12),0)))} | AM12: =IF(AG12="",0,SUMIFS('1추일출'!$Z$6:$Z$112,'1추일출'!$AI$6:$AI$112,'1추일입'!$AG12)) -> 0 | AN12: =IF(AG12="","",COUNTIFS('1추일출'!$AI$6:$AI$112,'1추일입'!AG12)) | AO12: =IF(X12=AM12,"OK","@@") -> OK | AQ12: =IF(AG12="",0,SUMIFS('1추일출'!$AE$6:$AE$112,'1추일출'!$AI$6:$AI$112,'1추일입'!$AG12)) -> 0 | AR12: =IF(AG12="","",COUNTIFS('1추일출'!$AI$6:$AI$112,AG12)) | AS12: =IF(AC12=AQ12,"OK","@@") -> OK
J13: =IF(D13="","",H13-I13) | M13: =H13+K13+L13 -> 0 | P13: =H13+N13+O13 -> 0 | Q13: =IF(AND((M13=0),(P13>0)),"O",IF(AND((K13<0),(M13-P13<0)),"O","X")) -> X | X13: =IF($W13<>"도비",IF($U13="국도비","직접입력",SUM($K13:$L13)),) -> 0 | Y13: =IF($W13="도비",SUM($K13:$L13),IF($U13="국도비","직접입력",SUM($K13:$L13)-$X13)) -> 0 | Z13: =IF(SUM($K13:$L13)=SUM($X13:$Y13),"OK","검토") -> OK | AC13: =IF($W13<>"도비",IF($U13="국도비","직접입력",SUM($N13:$O13)),) -> 0 | AD13: =IF($W13="도비",SUM(N13:O13),IF($U13="국도비","직접입력",SUM(N13:O13)-AC13)) -> 0 | AE13: =IF(SUM(N13:O13)=SUM(AC13:AD13),"OK","검토") -> OK | AG13: =IF(AI13="","",IF(W13="도비","세입없음",CONCATENATE(AI13,"-",COUNTIF($AI$7:AI13,AI13)))) | AI13: {=IF(C13="","",INDEX(구분표!$I$2:$I$319, MATCH(1,(구분표!$E$2:$E$319='1추일입'!B13)*(구분표!$F$2:$F$319='1추일입'!C13)*(구분표!$G$2:$G$319='1추일입'!A13),0)))} | AM13: =IF(AG13="",0,SUMIFS('1추일출'!$Z$6:$Z$112,'1추일출'!$AI$6:$AI$112,'1추일입'!$AG13)) -> 0 | AN13: =IF(AG13="","",COUNTIFS('1추일출'!$AI$6:$AI$112,'1추일입'!AG13)) | AO13: =IF(X13=AM13,"OK","@@") -> OK | AQ13: =IF(AG13="",0,SUMIFS('1추일출'!$AE$6:$AE$112,'1추일출'!$AI$6:$AI$112,'1추일입'!$AG13)) -> 0 | AR13: =IF(AG13="","",COUNTIFS('1추일출'!$AI$6:$AI$112,AG13)) | AS13: =IF(AC13=AQ13,"OK","@@") -> OK
J14: =IF(D14="","",H14-I14) | M14: =H14+K14+L14 -> 0 | P14: =H14+N14+O14 -> 0 | Q14: =IF(AND((M14=0),(P14>0)),"O",IF(AND((K14<0),(M14-P14<0)),"O","X")) -> X | X14: =IF($W14<>"도비",IF($U14="국도비","직접입력",SUM($K14:$L14)),) -> 0 | Y14: =IF($W14="도비",SUM($K14:$L14),IF($U14="국도비","직접입력",SUM($K14:$L14)-$X14)) -> 0 | Z14: =IF(SUM($K14:$L14)=SUM($X14:$Y14),"OK","검토") -> OK | AC14: =IF($W14<>"도비",IF($U14="국도비","직접입력",SUM($N14:$O14)),) -> 0 | AD14: =IF($W14="도비",SUM(N14:O14),IF($U14="국도비","직접입력",SUM(N14:O14)-AC14)) -> 0 | AE14: =IF(SUM(N14:O14)=SUM(AC14:AD14),"OK","검토") -> OK | AG14: =IF(AI14="","",IF(W14="도비","세입없음",CONCATENATE(AI14,"-",COUNTIF($AI$7:AI14,AI14)))) | AI14: {=IF(C14="","",INDEX(구분표!$I$2:$I$319, MATCH(1,(구분표!$E$2:$E$319='1추일입'!B14)*(구분표!$F$2:$F$319='1추일입'!C14)*(구분표!$G$2:$G$319='1추일입'!A14),0)))} | AM14: =IF(AG14="",0,SUMIFS('1추일출'!$Z$6:$Z$112,'1추일출'!$AI$6:$AI$112,'1추일입'!$AG14)) -> 0 | AN14: =IF(AG14="","",COUNTIFS('1추일출'!$AI$6:$AI$112,'1추일입'!AG14)) | AO14: =IF(X14=AM14,"OK","@@") -> OK | AQ14: =IF(AG14="",0,SUMIFS('1추일출'!$AE$6:$AE$112,'1추일출'!$AI$6:$AI$112,'1추일입'!$AG14)) -> 0 | AR14: =IF(AG14="","",COUNTIFS('1추일출'!$AI$6:$AI$112,AG14)) | AS14: =IF(AC14=AQ14,"OK","@@") -> OK
J15: =IF(D15="","",H15-I15) | M15: =H15+K15+L15 -> 0 | P15: =H15+N15+O15 -> 0 | Q15: =IF(AND((M15=0),(P15>0)),"O",IF(AND((K15<0),(M15-P15<0)),"O","X")) -> X | X15: =IF($W15<>"도비",IF($U15="국도비","직접입력",SUM($K15:$L15)),) -> 0 | Y15: =IF($W15="도비",SUM($K15:$L15),IF($U15="국도비","직접입력",SUM($K15:$L15)-$X15)) -> 0 | Z15: =IF(SUM($K15:$L15)=SUM($X15:$Y15),"OK","검토") -> OK | AC15: =IF($W15<>"도비",IF($U15="국도비","직접입력",SUM($N15:$O15)),) -> 0 | AD15: =IF($W15="도비",SUM(N15:O15),IF($U15="국도비","직접입력",SUM(N15:O15)-AC15)) -> 0 | AE15: =IF(SUM(N15:O15)=SUM(AC15:AD15),"OK","검토") -> OK | AG15: =IF(AI15="","",IF(W15="도비","세입없음",CONCATENATE(AI15,"-",COUNTIF($AI$7:AI15,AI15)))) | AI15: {=IF(C15="","",INDEX(구분표!$I$2:$I$319, MATCH(1,(구분표!$E$2:$E$319='1추일입'!B15)*(구분표!$F$2:$F$319='1추일입'!C15)*(구분표!$G$2:$G$319='1추일입'!A15),0)))} | AM15: =IF(AG15="",0,SUMIFS('1추일출'!$Z$6:$Z$112,'1추일출'!$AI$6:$AI$112,'1추일입'!$AG15)) -> 0 | AN15: =IF(AG15="","",COUNTIFS('1추일출'!$AI$6:$AI$112,'1추일입'!AG15)) | AO15: =IF(X15=AM15,"OK","@@") -> OK | AQ15: =IF(AG15="",0,SUMIFS('1추일출'!$AE$6:$AE$112,'1추일출'!$AI$6:$AI$112,'1추일입'!$AG15)) -> 0 | AR15: =IF(AG15="","",COUNTIFS('1추일출'!$AI$6:$AI$112,AG15)) | AS15: =IF(AC15=AQ15,"OK","@@") -> OK
J16: =IF(D16="","",H16-I16) | M16: =H16+K16+L16 -> 0 | P16: =H16+N16+O16 -> 0 | Q16: =IF(AND((M16=0),(P16>0)),"O",IF(AND((K16<0),(M16-P16<0)),"O","X")) -> X | X16: =IF($W16<>"도비",IF($U16="국도비","직접입력",SUM($K16:$L16)),) -> 0 | Y16: =IF($W16="도비",SUM($K16:$L16),IF($U16="국도비","직접입력",SUM($K16:$L16)-$X16)) -> 0 | Z16: =IF(SUM($K16:$L16)=SUM($X16:$Y16),"OK","검토") -> OK | AC16: =IF($W16<>"도비",IF($U16="국도비","직접입력",SUM($N16:$O16)),) -> 0 | AD16: =IF($W16="도비",SUM(N16:O16),IF($U16="국도비","직접입력",SUM(N16:O16)-AC16)) -> 0 | AE16: =IF(SUM(N16:O16)=SUM(AC16:AD16),"OK","검토") -> OK | AG16: =IF(AI16="","",IF(W16="도비","세입없음",CONCATENATE(AI16,"-",COUNTIF($AI$7:AI16,AI16)))) | AI16: {=IF(C16="","",INDEX(구분표!$I$2:$I$319, MATCH(1,(구분표!$E$2:$E$319='1추일입'!B16)*(구분표!$F$2:$F$319='1추일입'!C16)*(구분표!$G$2:$G$319='1추일입'!A16),0)))} | AM16: =IF(AG16="",0,SUMIFS('1추일출'!$Z$6:$Z$112,'1추일출'!$AI$6:$AI$112,'1추일입'!$AG16)) -> 0 | AN16: =IF(AG16="","",COUNTIFS('1추일출'!$AI$6:$AI$112,'1추일입'!AG16)) | AO16: =IF(X16=AM16,"OK","@@") -> OK | AQ16: =IF(AG16="",0,SUMIFS('1추일출'!$AE$6:$AE$112,'1추일출'!$AI$6:$AI$112,'1추일입'!$AG16)) -> 0 | AR16: =IF(AG16="","",COUNTIFS('1추일출'!$AI$6:$AI$112,AG16)) | AS16: =IF(AC16=AQ16,"OK","@@") -> OK
J17: =IF(D17="","",H17-I17) | M17: =H17+K17+L17 -> 0 | P17: =H17+N17+O17 -> 0 | Q17: =IF(AND((M17=0),(P17>0)),"O",IF(AND((K17<0),(M17-P17<0)),"O","X")) -> X | X17: =IF($W17<>"도비",IF($U17="국도비","직접입력",SUM($K17:$L17)),) -> 0 | Y17: =IF($W17="도비",SUM($K17:$L17),IF($U17="국도비","직접입력",SUM($K17:$L17)-$X17)) -> 0 | Z17: =IF(SUM($K17:$L17)=SUM($X17:$Y17),"OK","검토") -> OK | AC17: =IF($W17<>"도비",IF($U17="국도비","직접입력",SUM($N17:$O17)),) -> 0 | AD17: =IF($W17="도비",SUM(N17:O17),IF($U17="국도비","직접입력",SUM(N17:O17)-AC17)) -> 0 | AE17: =IF(SUM(N17:O17)=SUM(AC17:AD17),"OK","검토") -> OK | AG17: =IF(AI17="","",IF(W17="도비","세입없음",CONCATENATE(AI17,"-",COUNTIF($AI$7:AI17,AI17)))) | AI17: {=IF(C17="","",INDEX(구분표!$I$2:$I$319, MATCH(1,(구분표!$E$2:$E$319='1추일입'!B17)*(구분표!$F$2:$F$319='1추일입'!C17)*(구분표!$G$2:$G$319='1추일입'!A17),0)))} | AM17: =IF(AG17="",0,SUMIFS('1추일출'!$Z$6:$Z$112,'1추일출'!$AI$6:$AI$112,'1추일입'!$AG17)) -> 0 | AN17: =IF(AG17="","",COUNTIFS('1추일출'!$AI$6:$AI$112,'1추일입'!AG17)) | AO17: =IF(X17=AM17,"OK","@@") -> OK | AQ17: =IF(AG17="",0,SUMIFS('1추일출'!$AE$6:$AE$112,'1추일출'!$AI$6:$AI$112,'1추일입'!$AG17)) -> 0 | AR17: =IF(AG17="","",COUNTIFS('1추일출'!$AI$6:$AI$112,AG17)) | AS17: =IF(AC17=AQ17,"OK","@@") -> OK
J18: =IF(D18="","",H18-I18) | M18: =H18+K18+L18 -> 0 | P18: =H18+N18+O18 -> 0 | Q18: =IF(AND((M18=0),(P18>0)),"O",IF(AND((K18<0),(M18-P18<0)),"O","X")) -> X | X18: =IF($W18<>"도비",IF($U18="국도비","직접입력",SUM($K18:$L18)),) -> 0 | Y18: =IF($W18="도비",SUM($K18:$L18),IF($U18="국도비","직접입력",SUM($K18:$L18)-$X18)) -> 0 | Z18: =IF(SUM($K18:$L18)=SUM($X18:$Y18),"OK","검토") -> OK | AC18: =IF($W18<>"도비",IF($U18="국도비","직접입력",SUM($N18:$O18)),) -> 0 | AD18: =IF($W18="도비",SUM(N18:O18),IF($U18="국도비","직접입력",SUM(N18:O18)-AC18)) -> 0 | AE18: =IF(SUM(N18:O18)=SUM(AC18:AD18),"OK","검토") -> OK | AG18: =IF(AI18="","",IF(W18="도비","세입없음",CONCATENATE(AI18,"-",COUNTIF($AI$7:AI18,AI18)))) | AI18: {=IF(C18="","",INDEX(구분표!$I$2:$I$319, MATCH(1,(구분표!$E$2:$E$319='1추일입'!B18)*(구분표!$F$2:$F$319='1추일입'!C18)*(구분표!$G$2:$G$319='1추일입'!A18),0)))} | AM18: =IF(AG18="",0,SUMIFS('1추일출'!$Z$6:$Z$112,'1추일출'!$AI$6:$AI$112,'1추일입'!$AG18)) -> 0 | AN18: =IF(AG18="","",COUNTIFS('1추일출'!$AI$6:$AI$112,'1추일입'!AG18)) | AO18: =IF(X18=AM18,"OK","@@") -> OK | AQ18: =IF(AG18="",0,SUMIFS('1추일출'!$AE$6:$AE$112,'1추일출'!$AI$6:$AI$112,'1추일입'!$AG18)) -> 0 | AR18: =IF(AG18="","",COUNTIFS('1추일출'!$AI$6:$AI$112,AG18)) | AS18: =IF(AC18=AQ18,"OK","@@") -> OK
J19: =IF(D19="","",H19-I19) | M19: =H19+K19+L19 -> 0 | P19: =H19+N19+O19 -> 0 | Q19: =IF(AND((M19=0),(P19>0)),"O",IF(AND((K19<0),(M19-P19<0)),"O","X")) -> X | X19: =IF($W19<>"도비",IF($U19="국도비","직접입력",SUM($K19:$L19)),) -> 0 | Y19: =IF($W19="도비",SUM($K19:$L19),IF($U19="국도비","직접입력",SUM($K19:$L19)-$X19)) -> 0 | Z19: =IF(SUM($K19:$L19)=SUM($X19:$Y19),"OK","검토") -> OK | AC19: =IF($W19<>"도비",IF($U19="국도비","직접입력",SUM($N19:$O19)),) -> 0 | AD19: =IF($W19="도비",SUM(N19:O19),IF($U19="국도비","직접입력",SUM(N19:O19)-AC19)) -> 0 | AE19: =IF(SUM(N19:O19)=SUM(AC19:AD19),"OK","검토") -> OK | AG19: =IF(AI19="","",IF(W19="도비","세입없음",CONCATENATE(AI19,"-",COUNTIF($AI$7:AI19,AI19)))) | AI19: {=IF(C19="","",INDEX(구분표!$I$2:$I$319, MATCH(1,(구분표!$E$2:$E$319='1추일입'!B19)*(구분표!$F$2:$F$319='1추일입'!C19)*(구분표!$G$2:$G$319='1추일입'!A19),0)))} | AM19: =IF(AG19="",0,SUMIFS('1추일출'!$Z$6:$Z$112,'1추일출'!$AI$6:$AI$112,'1추일입'!$AG19)) -> 0 | AN19: =IF(AG19="","",COUNTIFS('1추일출'!$AI$6:$AI$112,'1추일입'!AG19)) | AO19: =IF(X19=AM19,"OK","@@") -> OK | AQ19: =IF(AG19="",0,SUMIFS('1추일출'!$AE$6:$AE$112,'1추일출'!$AI$6:$AI$112,'1추일입'!$AG19)) -> 0 | AR19: =IF(AG19="","",COUNTIFS('1추일출'!$AI$6:$AI$112,AG19)) | AS19: =IF(AC19=AQ19,"OK","@@") -> OK
... J40: =IF(D40="","",H40-I40) | M40: =H40+K40+L40 -> 0 | P40: =H40+N40+O40 -> 0 | Q40: =IF(AND((M40=0),(P40>0)),"O",IF(AND((K40<0),(M40-P40<0)),"O","X")) -> X | X40: =IF($W40<>"도비",IF($U40="국도비","직접입력",SUM($K40:$L40)),) -> 0 | Y40: =IF($W40="도비",SUM($K40:$L40),IF($U40="국도비","직접입력",SUM($K40:$L40)-$X40)) -> 0 | Z40: =IF(SUM($K40:$L40)=SUM($X40:$Y40),"OK","검토") -> OK | AC40: =IF($W40<>"도비",IF($U40="국도비","직접입력",SUM($N40:$O40)),) -> 0 | AD40: =IF($W40="도비",SUM(N40:O40),IF($U40="국도비","직접입력",SUM(N40:O40)-AC40)) -> 0 | AE40: =IF(SUM(N40:O40)=SUM(AC40:AD40),"OK","검토") -> OK | AG40: =IF(AI40="","",IF(W40="도비","세입없음",CONCATENATE(AI40,"-",COUNTIF($AI$7:AI40,AI40)))) | AI40: {=IF(C40="","",INDEX(구분표!$I$2:$I$319, MATCH(1,(구분표!$E$2:$E$319='1추일입'!B40)*(구분표!$F$2:$F$319='1추일입'!C40)*(구분표!$G$2:$G$319='1추일입'!A40),0)))} | AM40: =IF(AG40="",0,SUMIFS('1추일출'!$Z$6:$Z$112,'1추일출'!$AI$6:$AI$112,'1추일입'!$AG40)) -> 0 | AN40: =IF(AG40="","",COUNTIFS('1추일출'!$AI$6:$AI$112,'1추일입'!AG40)) | AO40: =IF(X40=AM40,"OK","@@") -> OK | AQ40: =IF(AG40="",0,SUMIFS('1추일출'!$AE$6:$AE$112,'1추일출'!$AI$6:$AI$112,'1추일입'!$AG40)) -> 0 | AR40: =IF(AG40="","",COUNTIFS('1추일출'!$AI$6:$AI$112,AG40)) | AS40: =IF(AC40=AQ40,"OK","@@") -> OK

Sheet 1추일출
B1: 2018년도 제1회 추가경정 경기도 일반회계 세출 예산 조정(안)
B2: □ 세출예산 | Q2: =R2-'1추일입'!P2 -> 0 | R2: =R6-I6 -> 0 | T2: 6043819 | U2: =R2+T2 -> 6043819 | Z2: 세입=세출 | AE2: 세입=세출
K3: =SUM(K7:K244)/2 -> 975000 | L3: =SUM(L7:L244)/2 -> -150000 | M3: =SUM(M7:M244)/2 -> 445174.5 | N3: =SUM(N7:N244)/2 -> 59885674 | P3: =SUM(P7:P244)/2 -> 0 | Q3: =SUM(Q7:Q244)/2 -> 0 | R3: =SUM(R7:R244)/2 -> 59590500 | V3: (단위 : 천원) | Z3: =IF(Z6='1추일입'!X6,"OK","@@") -> @@ | AA3: =L6+M6-Z6-AA6 -> 26783 | AB3: =IF(COUNTIF(AB6:AB112,"검토")>0,"@@","OK") -> @@ | AE3: =IF(AE6='1추일입'!AC6,"OK","@@") -> OK | AF3: =P6+Q6-AE6-AF6 -> 0 | AG3: =IF(COUNTIF(AG6:AG112,"검토")>0,"@@","OK") -> OK
A4: 번호 | B4: 위원회명 | C4: 실국명 | D4: 부서명 | E4: 편성 구분 | F4: 예산안 페이지 | G4: 사업설명서페이지 | H4: 세부사업명 및 부기명 | I4: 제1회 추경 예산안 (가) | J4: 기정액 (나) | K4: 제1회 추경 증감액 (다=가-나) | L4: 상임위 예산안 조정액(라) | N4: 상임위 조정 예산안 (마=가+라) | O4: 예결위 조정액 (아-마) | P4: 예결위 예산안(사) | R4: 예결위 조정 예산안 (아=가+사) | S4: 동의 대상 | T4: 참고자료 | U4: 비고 (상임위 부대의견) | V4: 비고 (예결위 부대의견) | W4: 국도비 등 여부 | Y4: 재원 | Z4: 상임위 재원별 증감액 | AD4: 재원 | AE4: 예결위 재원별 증감액 | AI4: 세입번호 | AK4: 동일 세입 건수 | AL4: 세출 번호 검증 | AN4: 실국부서 코드 | AP4: 추가 내시 등
L5: 감액 | M5: 증액 | P5: 감액 | Q5: 증액 | Z5: 국비 등 | AA5: 도비 | AB5: 검증 | AE5: 국비 등 | AF5: 도비 | AG5: 검증 | AR5: 감액 | AS5: 증액
B6: 합 계 | I6: =SUBTOTAL(9,I7:I112) -> 39727000 | J6: =SUBTOTAL(9,J7:J112) -> 39077000 | K6: =SUBTOTAL(9,K7:K112) -> 650000 | L6: =SUBTOTAL(9,L7:L112) -> -100000 | M6: =SUBTOTAL(9,M7:M112) -> 296783 | N6: =SUBTOTAL(9,N7:N112) -> 39923783 | O6: =SUBTOTAL(9,O7:O112) -> -196783 | P6: =SUBTOTAL(9,P7:P112) -> 0 | ... R6: =SUBTOTAL(9,R7:R112) -> 39727000 | Z6: =SUBTOTAL(9,Z7:Z112) -> 0 | AA6: =SUBTOTAL(9,AA7:AA112) -> 170000 | AB6: =IF(SUM($L6:$M6)=SUM($Z6:$AA6),"OK","검토") -> 검토 | AE6: =SUBTOTAL(9,AE7:AE112) -> 0 | AF6: =SUBTOTAL(9,AF7:AF112) -> 0 | AG6: =IF(SUM(P6:Q6)=SUM(AE6:AF6),"OK","검토") -> OK
B7: (의회운영위원회) | I7: =SUBTOTAL(9,I8:I17) -> 0 | J7: =SUBTOTAL(9,J8:J17) -> 0 | K7: =SUBTOTAL(9,K8:K17) -> 0 | L7: =SUBTOTAL(9,L8:L17) -> 0 | M7: =SUBTOTAL(9,M8:M17) -> 0 | N7: =SUBTOTAL(9,N8:N17) -> 0 | O7: =SUBTOTAL(9,O8:O17) -> 0 | P7: =SUBTOTAL(9,P8:P17) -> 0 | ... R7: =SUBTOTAL(9,R8:R17) -> 0 | AR7: =SUBTOTAL(9,AR8:AR17) -> 0 | AS7: =SUBTOTAL(9,AS8:AS17) -> 0
A8: 1 | B8: =IF(C8="","",MID($B$7,2,7)) | C8: =IF(D8="","",VLOOKUP(D8,구분표!$A$3:$C$223,3,)) | K8: =I8-J8 -> 0 | N8: =I8+L8+M8 -> 0 | O8: =R8-N8 -> 0 | R8: =I8+P8+Q8 -> 0 | S8: =IF(AND((N8=0),(R8>0)),"O",IF(AND((L8<0),(N8-R8<0)),"O","X")) -> X | U8: (예시) ◆상임위 쟁점사업◆ 2018년 경기도 예산편성 지침에 의거 예산심의전 중기지방재정계획 반영후 예산심의 필요 | Z8: =IF($Y8<>"도비",IF($W8="국도비","직접입력",SUM($L8:$M8)),) -> 0 | AA8: =IF($Y8="도비",SUM($L8:$M8),IF($W8="국도비","직접입력",SUM($L8:$M8)-$Z8)) -> 0 | AB8: =IF(SUM($L8:$M8)=SUM($Z8:$AA8),"OK","검토") -> OK | AE8: =IF($Y8<>"도비",IF($W8="국도비","직접입력",SUM($P8:$Q8)),) -> 0 | AF8: =IF($Y8="도비",SUM(P8:Q8),IF($W8="국도비","직접입력",SUM(P8:Q8)-AE8)) -> 0 | AG8: =IF(SUM(P8:Q8)=SUM(AE8:AF8),"OK","검토") -> OK | AI8: =IF(W8="","",IF(W8="도비","세입없음","직접입력")) | AK8: =IF(AI8="","",COUNTIF($AI$7:$AI$112,AI8)) | AL8: =IF(Y8="","",IF(AND(Y8="도비",AI8="세입없음"),"OK",IF(AND(Y8<>"도비",AI8<>""),"OK","@@"))) | AN8: {=IF(D8="","",INDEX(구분표!$I$2:$I$319, MATCH(1,(구분표!$E$2:$E$319='1추일출'!C8)*(구분표!$F$2:$F$319='1추일출'!D8)*(구분표!$G$2:$G$319='1추일출'!B8),0)))} | AR8: =IF(O8<0,O8,0) -> 0 | AS8: =IF(O8>0,O8,0) -> 0
A9: =COUNTA($C$8:C9)-COUNTBLANK($C$8:C9) -> 0 | B9: =IF(C9="","",MID($B$7,2,7)) | C9: =IF(D9="","",VLOOKUP(D9,구분표!$A$3:$C$223,3,)) | K9: =I9-J9 -> 0 | N9: =I9+L9+M9 -> 0 | O9: =R9-N9 -> 0 | R9: =I9+P9+Q9 -> 0 | S9: =IF(AND((N9=0),(R9>0)),"O",IF(AND((L9<0),(N9-R9<0)),"O","X")) -> X | Z9: =IF($Y9<>"도비",IF($W9="국도비","직접입력",SUM($L9:$M9)),) -> 0 | AA9: =IF($Y9="도비",SUM($L9:$M9),IF($W9="국도비","직접입력",SUM($L9:$M9)-$Z9)) -> 0 | AB9: =IF(SUM($L9:$M9)=SUM($Z9:$AA9),"OK","검토") -> OK | AE9: =IF($Y9<>"도비",IF($W9="국도비","직접입력",SUM($P9:$Q9)),) -> 0 | AF9: =IF($Y9="도비",SUM(P9:Q9),IF($W9="국도비","직접입력",SUM(P9:Q9)-AE9)) -> 0 | AG9: =IF(SUM(P9:Q9)=SUM(AE9:AF9),"OK","검토") -> OK | AI9: =IF(W9="","",IF(W9="도비","세입없음","직접입력")) | AK9: =IF(AI9="","",COUNTIF($AI$7:$AI$112,AI9)) | AL9: =IF(Y9="","",IF(AND(Y9="도비",AI9="세입없음"),"OK",IF(AND(Y9<>"도비",AI9<>""),"OK","@@"))) | AN9: {=IF(D9="","",INDEX(구분표!$I$2:$I$319, MATCH(1,(구분표!$E$2:$E$319='1추일출'!C9)*(구분표!$F$2:$F$319='1추일출'!D9)*(구분표!$G$2:$G$319='1추일출'!B9),0)))} | AR9: =IF(O9<0,O9,0) -> 0 | AS9: =IF(O9>0,O9,0) -> 0
A10: =COUNTA($C$8:C10)-COUNTBLANK($C$8:C10) -> 0 | B10: =IF(C10="","",MID($B$7,2,7)) | C10: =IF(D10="","",VLOOKUP(D10,구분표!$A$3:$C$223,3,)) | K10: =I10-J10 -> 0 | N10: =I10+L10+M10 -> 0 | O10: =R10-N10 -> 0 | R10: =I10+P10+Q10 -> 0 | S10: =IF(AND((N10=0),(R10>0)),"O",IF(AND((L10<0),(N10-R10<0)),"O","X")) -> X | Z10: =IF($Y10<>"도비",IF($W10="국도비","직접입력",SUM($L10:$M10)),) -> 0 | AA10: =IF($Y10="도비",SUM($L10:$M10),IF($W10="국도비","직접입력",SUM($L10:$M10)-$Z10)) -> 0 | AB10: =IF(SUM($L10:$M10)=SUM($Z10:$AA10),"OK","검토") -> OK | AE10: =IF($Y10<>"도비",IF($W10="국도비","직접입력",SUM($P10:$Q10)),) -> 0 | AF10: =IF($Y10="도비",SUM(P10:Q10),IF($W10="국도비","직접입력",SUM(P10:Q10)-AE10)) -> 0 | AG10: =IF(SUM(P10:Q10)=SUM(AE10:AF10),"OK","검토") -> OK | AI10: =IF(W10="","",IF(W10="도비","세입없음","직접입력")) | AK10: =IF(AI10="","",COUNTIF($AI$7:$AI$112,AI10)) | AL10: =IF(Y10="","",IF(AND(Y10="도비",AI10="세입없음"),"OK",IF(AND(Y10<>"도비",AI10<>""),"OK","@@"))) | AN10: {=IF(D10="","",INDEX(구분표!$I$2:$I$319, MATCH(1,(구분표!$E$2:$E$319='1추일출'!C10)*(구분표!$F$2:$F$319='1추일출'!D10)*(구분표!$G$2:$G$319='1추일출'!B10),0)))} | AR10: =IF(O10<0,O10,0) -> 0 | AS10: =IF(O10>0,O10,0) -> 0
A11: =COUNTA($C$8:C11)-COUNTBLANK($C$8:C11) -> 0 | B11: =IF(C11="","",MID($B$7,2,7)) | C11: =IF(D11="","",VLOOKUP(D11,구분표!$A$3:$C$223,3,)) | K11: =I11-J11 -> 0 | N11: =I11+L11+M11 -> 0 | O11: =R11-N11 -> 0 | R11: =I11+P11+Q11 -> 0 | S11: =IF(AND((N11=0),(R11>0)),"O",IF(AND((L11<0),(N11-R11<0)),"O","X")) -> X | Z11: =IF($Y11<>"도비",IF($W11="국도비","직접입력",SUM($L11:$M11)),) -> 0 | AA11: =IF($Y11="도비",SUM($L11:$M11),IF($W11="국도비","직접입력",SUM($L11:$M11)-$Z11)) -> 0 | AB11: =IF(SUM($L11:$M11)=SUM($Z11:$AA11),"OK","검토") -> OK | AE11: =IF($Y11<>"도비",IF($W11="국도비","직접입력",SUM($P11:$Q11)),) -> 0 | AF11: =IF($Y11="도비",SUM(P11:Q11),IF($W11="국도비","직접입력",SUM(P11:Q11)-AE11)) -> 0 | AG11: =IF(SUM(P11:Q11)=SUM(AE11:AF11),"OK","검토") -> OK | AI11: =IF(W11="","",IF(W11="도비","세입없음","직접입력")) | AK11: =IF(AI11="","",COUNTIF($AI$7:$AI$112,AI11)) | AL11: =IF(Y11="","",IF(AND(Y11="도비",AI11="세입없음"),"OK",IF(AND(Y11<>"도비",AI11<>""),"OK","@@"))) | AN11: {=IF(D11="","",INDEX(구분표!$I$2:$I$319, MATCH(1,(구분표!$E$2:$E$319='1추일출'!C11)*(구분표!$F$2:$F$319='1추일출'!D11)*(구분표!$G$2:$G$319='1추일출'!B11),0)))} | AR11: =IF(O11<0,O11,0) -> 0 | AS11: =IF(O11>0,O11,0) -> 0
A12: =COUNTA($C$8:C12)-COUNTBLANK($C$8:C12) -> 0 | B12: =IF(C12="","",MID($B$7,2,7)) | C12: =IF(D12="","",VLOOKUP(D12,구분표!$A$3:$C$223,3,)) | K12: =I12-J12 -> 0 | N12: =I12+L12+M12 -> 0 | O12: =R12-N12 -> 0 | R12: =I12+P12+Q12 -> 0 | S12: =IF(AND((N12=0),(R12>0)),"O",IF(AND((L12<0),(N12-R12<0)),"O","X")) -> X | Z12: =IF($Y12<>"도비",IF($W12="국도비","직접입력",SUM($L12:$M12)),) -> 0 | AA12: =IF($Y12="도비",SUM($L12:$M12),IF($W12="국도비","직접입력",SUM($L12:$M12)-$Z12)) -> 0 | AB12: =IF(SUM($L12:$M12)=SUM($Z12:$AA12),"OK","검토") -> OK | AE12: =IF($Y12<>"도비",IF($W12="국도비","직접입력",SUM($P12:$Q12)),) -> 0 | AF12: =IF($Y12="도비",SUM(P12:Q12),IF($W12="국도비","직접입력",SUM(P12:Q12)-AE12)) -> 0 | AG12: =IF(SUM(P12:Q12)=SUM(AE12:AF12),"OK","검토") -> OK | AI12: =IF(W12="","",IF(W12="도비","세입없음","직접입력")) | AK12: =IF(AI12="","",COUNTIF($AI$7:$AI$112,AI12)) | AL12: =IF(Y12="","",IF(AND(Y12="도비",AI12="세입없음"),"OK",IF(AND(Y12<>"도비",AI12<>""),"OK","@@"))) | AN12: {=IF(D12="","",INDEX(구분표!$I$2:$I$319, MATCH(1,(구분표!$E$2:$E$319='1추일출'!C12)*(구분표!$F$2:$F$319='1추일출'!D12)*(구분표!$G$2:$G$319='1추일출'!B12),0)))} | AR12: =IF(O12<0,O12,0) -> 0 | AS12: =IF(O12>0,O12,0) -> 0
A13: =COUNTA($C$8:C13)-COUNTBLANK($C$8:C13) -> 0 | B13: =IF(C13="","",MID($B$7,2,7)) | C13: =IF(D13="","",VLOOKUP(D13,구분표!$A$3:$C$223,3,)) | K13: =I13-J13 -> 0 | N13: =I13+L13+M13 -> 0 | O13: =R13-N13 -> 0 | R13: =I13+P13+Q13 -> 0 | S13: =IF(AND((N13=0),(R13>0)),"O",IF(AND((L13<0),(N13-R13<0)),"O","X")) -> X | Z13: =IF($Y13<>"도비",IF($W13="국도비","직접입력",SUM($L13:$M13)),) -> 0 | AA13: =IF($Y13="도비",SUM($L13:$M13),IF($W13="국도비","직접입력",SUM($L13:$M13)-$Z13)) -> 0 | AB13: =IF(SUM($L13:$M13)=SUM($Z13:$AA13),"OK","검토") -> OK | AE13: =IF($Y13<>"도비",IF($W13="국도비","직접입력",SUM($P13:$Q13)),) -> 0 | AF13: =IF($Y13="도비",SUM(P13:Q13),IF($W13="국도비","직접입력",SUM(P13:Q13)-AE13)) -> 0 | AG13: =IF(SUM(P13:Q13)=SUM(AE13:AF13),"OK","검토") -> OK | AI13: =IF(W13="","",IF(W13="도비","세입없음","직접입력")) | AK13: =IF(AI13="","",COUNTIF($AI$7:$AI$112,AI13)) | AL13: =IF(Y13="","",IF(AND(Y13="도비",AI13="세입없음"),"OK",IF(AND(Y13<>"도비",AI13<>""),"OK","@@"))) | AN13: {=IF(D13="","",INDEX(구분표!$I$2:$I$319, MATCH(1,(구분표!$E$2:$E$319='1추일출'!C13)*(구분표!$F$2:$F$319='1추일출'!D13)*(구분표!$G$2:$G$319='1추일출'!B13),0)))} | AR13: =IF(O13<0,O13,0) -> 0 | AS13: =IF(O13>0,O13,0) -> 0
A14: =COUNTA($C$8:C14)-COUNTBLANK($C$8:C14) -> 0 | B14: =IF(C14="","",MID($B$7,2,7)) | C14: =IF(D14="","",VLOOKUP(D14,구분표!$A$3:$C$223,3,)) | K14: =I14-J14 -> 0 | N14: =I14+L14+M14 -> 0 | O14: =R14-N14 -> 0 | R14: =I14+P14+Q14 -> 0 | S14: =IF(AND((N14=0),(R14>0)),"O",IF(AND((L14<0),(N14-R14<0)),"O","X")) -> X | Z14: =IF($Y14<>"도비",IF($W14="국도비","직접입력",SUM($L14:$M14)),) -> 0 | AA14: =IF($Y14="도비",SUM($L14:$M14),IF($W14="국도비","직접입력",SUM($L14:$M14)-$Z14)) -> 0 | AB14: =IF(SUM($L14:$M14)=SUM($Z14:$AA14),"OK","검토") -> OK | AE14: =IF($Y14<>"도비",IF($W14="국도비","직접입력",SUM($P14:$Q14)),) -> 0 | AF14: =IF($Y14="도비",SUM(P14:Q14),IF($W14="국도비","직접입력",SUM(P14:Q14)-AE14)) -> 0 | AG14: =IF(SUM(P14:Q14)=SUM(AE14:AF14),"OK","검토") -> OK | AI14: =IF(W14="","",IF(W14="도비","세입없음","직접입력")) | AK14: =IF(AI14="","",COUNTIF($AI$7:$AI$112,AI14)) | AL14: =IF(Y14="","",IF(AND(Y14="도비",AI14="세입없음"),"OK",IF(AND(Y14<>"도비",AI14<>""),"OK","@@"))) | AN14: {=IF(D14="","",INDEX(구분표!$I$2:$I$319, MATCH(1,(구분표!$E$2:$E$319='1추일출'!C14)*(구분표!$F$2:$F$319='1추일출'!D14)*(구분표!$G$2:$G$319='1추일출'!B14),0)))} | AR14: =IF(O14<0,O14,0) -> 0 | AS14: =IF(O14>0,O14,0) -> 0
A15: =COUNTA($C$8:C15)-COUNTBLANK($C$8:C15) -> 0 | B15: =IF(C15="","",MID($B$7,2,7)) | C15: =IF(D15="","",VLOOKUP(D15,구분표!$A$3:$C$223,3,)) | K15: =I15-J15 -> 0 | N15: =I15+L15+M15 -> 0 | O15: =R15-N15 -> 0 | R15: =I15+P15+Q15 -> 0 | S15: =IF(AND((N15=0),(R15>0)),"O",IF(AND((L15<0),(N15-R15<0)),"O","X")) -> X | Z15: =IF($Y15<>"도비",IF($W15="국도비","직접입력",SUM($L15:$M15)),) -> 0 | AA15: =IF($Y15="도비",SUM($L15:$M15),IF($W15="국도비","직접입력",SUM($L15:$M15)-$Z15)) -> 0 | AB15: =IF(SUM($L15:$M15)=SUM($Z15:$AA15),"OK","검토") -> OK | AE15: =IF($Y15<>"도비",IF($W15="국도비","직접입력",SUM($P15:$Q15)),) -> 0 | AF15: =IF($Y15="도비",SUM(P15:Q15),IF($W15="국도비","직접입력",SUM(P15:Q15)-AE15)) -> 0 | AG15: =IF(SUM(P15:Q15)=SUM(AE15:AF15),"OK","검토") -> OK | AI15: =IF(W15="","",IF(W15="도비","세입없음","직접입력")) | AK15: =IF(AI15="","",COUNTIF($AI$7:$AI$112,AI15)) | AL15: =IF(Y15="","",IF(AND(Y15="도비",AI15="세입없음"),"OK",IF(AND(Y15<>"도비",AI15<>""),"OK","@@"))) | AN15: {=IF(D15="","",INDEX(구분표!$I$2:$I$319, MATCH(1,(구분표!$E$2:$E$319='1추일출'!C15)*(구분표!$F$2:$F$319='1추일출'!D15)*(구분표!$G$2:$G$319='1추일출'!B15),0)))} | AR15: =IF(O15<0,O15,0) -> 0 | AS15: =IF(O15>0,O15,0) -> 0
A16: =COUNTA($C$8:C16)-COUNTBLANK($C$8:C16) -> 0 | B16: =IF(C16="","",MID($B$7,2,7)) | C16: =IF(D16="","",VLOOKUP(D16,구분표!$A$3:$C$223,3,)) | K16: =I16-J16 -> 0 | N16: =I16+L16+M16 -> 0 | O16: =R16-N16 -> 0 | R16: =I16+P16+Q16 -> 0 | S16: =IF(AND((N16=0),(R16>0)),"O",IF(AND((L16<0),(N16-R16<0)),"O","X")) -> X | Z16: =IF($Y16<>"도비",IF($W16="국도비","직접입력",SUM($L16:$M16)),) -> 0 | AA16: =IF($Y16="도비",SUM($L16:$M16),IF($W16="국도비","직접입력",SUM($L16:$M16)-$Z16)) -> 0 | AB16: =IF(SUM($L16:$M16)=SUM($Z16:$AA16),"OK","검토") -> OK | AE16: =IF($Y16<>"도비",IF($W16="국도비","직접입력",SUM($P16:$Q16)),) -> 0 | AF16: =IF($Y16="도비",SUM(P16:Q16),IF($W16="국도비","직접입력",SUM(P16:Q16)-AE16)) -> 0 | AG16: =IF(SUM(P16:Q16)=SUM(AE16:AF16),"OK","검토") -> OK | AI16: =IF(W16="","",IF(W16="도비","세입없음","직접입력")) | AK16: =IF(AI16="","",COUNTIF($AI$7:$AI$112,AI16)) | AL16: =IF(Y16="","",IF(AND(Y16="도비",AI16="세입없음"),"OK",IF(AND(Y16<>"도비",AI16<>""),"OK","@@"))) | AN16: {=IF(D16="","",INDEX(구분표!$I$2:$I$319, MATCH(1,(구분표!$E$2:$E$319='1추일출'!C16)*(구분표!$F$2:$F$319='1추일출'!D16)*(구분표!$G$2:$G$319='1추일출'!B16),0)))} | AR16: =IF(O16<0,O16,0) -> 0 | AS16: =IF(O16>0,O16,0) -> 0
A17: =COUNTA($C$8:C17)-COUNTBLANK($C$8:C17) -> 0 | B17: =IF(C17="","",MID($B$7,2,7)) | C17: =IF(D17="","",VLOOKUP(D17,구분표!$A$3:$C$223,3,)) | K17: =I17-J17 -> 0 | N17: =I17+L17+M17 -> 0 | O17: =R17-N17 -> 0 | R17: =I17+P17+Q17 -> 0 | S17: =IF(AND((N17=0),(R17>0)),"O",IF(AND((L17<0),(N17-R17<0)),"O","X")) -> X | Z17: =IF($Y17<>"도비",IF($W17="국도비","직접입력",SUM($L17:$M17)),) -> 0 | AA17: =IF($Y17="도비",SUM($L17:$M17),IF($W17="국도비","직접입력",SUM($L17:$M17)-$Z17)) -> 0 | AB17: =IF(SUM($L17:$M17)=SUM($Z17:$AA17),"OK","검토") -> OK | AE17: =IF($Y17<>"도비",IF($W17="국도비","직접입력",SUM($P17:$Q17)),) -> 0 | AF17: =IF($Y17="도비",SUM(P17:Q17),IF($W17="국도비","직접입력",SUM(P17:Q17)-AE17)) -> 0 | AG17: =IF(SUM(P17:Q17)=SUM(AE17:AF17),"OK","검토") -> OK | AI17: =IF(W17="","",IF(W17="도비","세입없음","직접입력")) | AK17: =IF(AI17="","",COUNTIF($AI$7:$AI$112,AI17)) | AL17: =IF(Y17="","",IF(AND(Y17="도비",AI17="세입없음"),"OK",IF(AND(Y17<>"도비",AI17<>""),"OK","@@"))) | AN17: {=IF(D17="","",INDEX(구분표!$I$2:$I$319, MATCH(1,(구분표!$E$2:$E$319='1추일출'!C17)*(구분표!$F$2:$F$319='1추일출'!D17)*(구분표!$G$2:$G$319='1추일출'!B17),0)))} | AR17: =IF(O17<0,O17,0) -> 0 | AS17: =IF(O17>0,O17,0) -> 0
B18: (기획재정위원회) | I18: =SUBTOTAL(9,I19:I28) -> 0 | J18: =SUBTOTAL(9,J19:J28) -> 0 | K18: =SUBTOTAL(9,K19:K28) -> 0 | L18: =SUBTOTAL(9,L19:L28) -> 0 | M18: =SUBTOTAL(9,M19:M28) -> 0 | N18: =SUBTOTAL(9,N19:N28) -> 0 | O18: =SUBTOTAL(9,O19:O28) -> 0 | P18: =SUBTOTAL(9,P19:P28) -> 0 | ... R18: =SUBTOTAL(9,R19:R28) -> 0 | AR18: =SUBTOTAL(9,AR19:AR28) -> 0 | AS18: =SUBTOTAL(9,AS19:AS28) -> 0
A19: =COUNTA($C$8:C19)-COUNTBLANK($C$8:C19)+1 -> 0 | B19: =IF(C19="","",MID($B$18,2,7)) | C19: =IF(D19="","",VLOOKUP(D19,구분표!$A$3:$C$223,3,)) | K19: =I19-J19 -> 0 | N19: =I19+L19+M19 -> 0 | O19: =R19-N19 -> 0 | R19: =I19+P19+Q19 -> 0 | S19: =IF(AND((N19=0),(R19>0)),"O",IF(AND((L19<0),(N19-R19<0)),"O","X")) -> X | Z19: =IF($Y19<>"도비",IF($W19="국도비","직접입력",SUM($L19:$M19)),) -> 0 | AA19: =IF($Y19="도비",SUM($L19:$M19),IF($W19="국도비","직접입력",SUM($L19:$M19)-$Z19)) -> 0 | AB19: =IF(SUM($L19:$M19)=SUM($Z19:$AA19),"OK","검토") -> OK | AE19: =IF($Y19<>"도비",IF($W19="국도비","직접입력",SUM($P19:$Q19)),) -> 0 | AF19: =IF($Y19="도비",SUM(P19:Q19),IF($W19="국도비","직접입력",SUM(P19:Q19)-AE19)) -> 0 | AG19: =IF(SUM(P19:Q19)=SUM(AE19:AF19),"OK","검토") -> OK | AI19: =IF(W19="","",IF(W19="도비","세입없음","직접입력")) | AK19: =IF(AI19="","",COUNTIF($AI$7:$AI$112,AI19)) | AL19: =IF(Y19="","",IF(AND(Y19="도비",AI19="세입없음"),"OK",IF(AND(Y19<>"도비",AI19<>""),"OK","@@"))) | AN19: {=IF(D19="","",INDEX(구분표!$I$2:$I$319, MATCH(1,(구분표!$E$2:$E$319='1추일출'!C19)*(구분표!$F$2:$F$319='1추일출'!D19)*(구분표!$G$2:$G$319='1추일출'!B19),0)))} | AR19: =IF(O19<0,O19,0) -> 0 | AS19: =IF(O19>0,O19,0) -> 0
A20: =COUNTA($C$8:C20)-COUNTBLANK($C$8:C20)+1 -> 0 | B20: =IF(C20="","",MID($B$18,2,7)) | C20: =IF(D20="","",VLOOKUP(D20,구분표!$A$3:$C$223,3,)) | K20: =I20-J20 -> 0 | N20: =I20+L20+M20 -> 0 | O20: =R20-N20 -> 0 | R20: =I20+P20+Q20 -> 0 | S20: =IF(AND((N20=0),(R20>0)),"O",IF(AND((L20<0),(N20-R20<0)),"O","X")) -> X | Z20: =IF($Y20<>"도비",IF($W20="국도비","직접입력",SUM($L20:$M20)),) -> 0 | AA20: =IF($Y20="도비",SUM($L20:$M20),IF($W20="국도비","직접입력",SUM($L20:$M20)-$Z20)) -> 0 | AB20: =IF(SUM($L20:$M20)=SUM($Z20:$AA20),"OK","검토") -> OK | AE20: =IF($Y20<>"도비",IF($W20="국도비","직접입력",SUM($P20:$Q20)),) -> 0 | AF20: =IF($Y20="도비",SUM(P20:Q20),IF($W20="국도비","직접입력",SUM(P20:Q20)-AE20)) -> 0 | AG20: =IF(SUM(P20:Q20)=SUM(AE20:AF20),"OK","검토") -> OK | AI20: =IF(W20="","",IF(W20="도비","세입없음","직접입력")) | AK20: =IF(AI20="","",COUNTIF($AI$7:$AI$112,AI20)) | AL20: =IF(Y20="","",IF(AND(Y20="도비",AI20="세입없음"),"OK",IF(AND(Y20<>"도비",AI20<>""),"OK","@@"))) | AN20: {=IF(D20="","",INDEX(구분표!$I$2:$I$319, MATCH(1,(구분표!$E$2:$E$319='1추일출'!C20)*(구분표!$F$2:$F$319='1추일출'!D20)*(구분표!$G$2:$G$319='1추일출'!B20),0)))} | AR20: =IF(O20<0,O20,0) -> 0 | AS20: =IF(O20>0,O20,0) -> 0
A21: =COUNTA($C$8:C21)-COUNTBLANK($C$8:C21)+1 -> 0 | B21: =IF(C21="","",MID($B$18,2,7)) | C21: =IF(D21="","",VLOOKUP(D21,구분표!$A$3:$C$223,3,)) | K21: =I21-J21 -> 0 | N21: =I21+L21+M21 -> 0 | O21: =R21-N21 -> 0 | R21: =I21+P21+Q21 -> 0 | S21: =IF(AND((N21=0),(R21>0)),"O",IF(AND((L21<0),(N21-R21<0)),"O","X")) -> X | Z21: =IF($Y21<>"도비",IF($W21="국도비","직접입력",SUM($L21:$M21)),) -> 0 | AA21: =IF($Y21="도비",SUM($L21:$M21),IF($W21="국도비","직접입력",SUM($L21:$M21)-$Z21)) -> 0 | AB21: =IF(SUM($L21:$M21)=SUM($Z21:$AA21),"OK","검토") -> OK | AE21: =IF($Y21<>"도비",IF($W21="국도비","직접입력",SUM($P21:$Q21)),) -> 0 | AF21: =IF($Y21="도비",SUM(P21:Q21),IF($W21="국도비","직접입력",SUM(P21:Q21)-AE21)) -> 0 | AG21: =IF(SUM(P21:Q21)=SUM(AE21:AF21),"OK","검토") -> OK | AI21: =IF(W21="","",IF(W21="도비","세입없음","직접입력")) | AK21: =IF(AI21="","",COUNTIF($AI$7:$AI$112,AI21)) | AL21: =IF(Y21="","",IF(AND(Y21="도비",AI21="세입없음"),"OK",IF(AND(Y21<>"도비",AI21<>""),"OK","@@"))) | AN21: {=IF(D21="","",INDEX(구분표!$I$2:$I$319, MATCH(1,(구분표!$E$2:$E$319='1추일출'!C21)*(구분표!$F$2:$F$319='1추일출'!D21)*(구분표!$G$2:$G$319='1추일출'!B21),0)))} | AR21: =IF(O21<0,O21,0) -> 0 | AS21: =IF(O21>0,O21,0) -> 0
A22: =COUNTA($C$8:C22)-COUNTBLANK($C$8:C22)+1 -> 0 | B22: =IF(C22="","",MID($B$18,2,7)) | C22: =IF(D22="","",VLOOKUP(D22,구분표!$A$3:$C$223,3,)) | K22: =I22-J22 -> 0 | N22: =I22+L22+M22 -> 0 | O22: =R22-N22 -> 0 | R22: =I22+P22+Q22 -> 0 | S22: =IF(AND((N22=0),(R22>0)),"O",IF(AND((L22<0),(N22-R22<0)),"O","X")) -> X | Z22: =IF($Y22<>"도비",IF($W22="국도비","직접입력",SUM($L22:$M22)),) -> 0 | AA22: =IF($Y22="도비",SUM($L22:$M22),IF($W22="국도비","직접입력",SUM($L22:$M22)-$Z22)) -> 0 | AB22: =IF(SUM($L22:$M22)=SUM($Z22:$AA22),"OK","검토") -> OK | AE22: =IF($Y22<>"도비",IF($W22="국도비","직접입력",SUM($P22:$Q22)),) -> 0 | AF22: =IF($Y22="도비",SUM(P22:Q22),IF($W22="국도비","직접입력",SUM(P22:Q22)-AE22)) -> 0 | AG22: =IF(SUM(P22:Q22)=SUM(AE22:AF22),"OK","검토") -> OK | AI22: =IF(W22="","",IF(W22="도비","세입없음","직접입력")) | AK22: =IF(AI22="","",COUNTIF($AI$7:$AI$112,AI22)) | AL22: =IF(Y22="","",IF(AND(Y22="도비",AI22="세입없음"),"OK",IF(AND(Y22<>"도비",AI22<>""),"OK","@@"))) | AN22: {=IF(D22="","",INDEX(구분표!$I$2:$I$319, MATCH(1,(구분표!$E$2:$E$319='1추일출'!C22)*(구분표!$F$2:$F$319='1추일출'!D22)*(구분표!$G$2:$G$319='1추일출'!B22),0)))} | AR22: =IF(O22<0,O22,0) -> 0 | AS22: =IF(O22>0,O22,0) -> 0
A23: =COUNTA($C$8:C23)-COUNTBLANK($C$8:C23)+1 -> 0 | B23: =IF(C23="","",MID($B$18,2,7)) | C23: =IF(D23="","",VLOOKUP(D23,구분표!$A$3:$C$223,3,)) | K23: =I23-J23 -> 0 | N23: =I23+L23+M23 -> 0 | O23: =R23-N23 -> 0 | R23: =I23+P23+Q23 -> 0 | S23: =IF(AND((N23=0),(R23>0)),"O",IF(AND((L23<0),(N23-R23<0)),"O","X")) -> X | Z23: =IF($Y23<>"도비",IF($W23="국도비","직접입력",SUM($L23:$M23)),) -> 0 | AA23: =IF($Y23="도비",SUM($L23:$M23),IF($W23="국도비","직접입력",SUM($L23:$M23)-$Z23)) -> 0 | AB23: =IF(SUM($L23:$M23)=SUM($Z23:$AA23),"OK","검토") -> OK | AE23: =IF($Y23<>"도비",IF($W23="국도비","직접입력",SUM($P23:$Q23)),) -> 0 | AF23: =IF($Y23="도비",SUM(P23:Q23),IF($W23="국도비","직접입력",SUM(P23:Q23)-AE23)) -> 0 | AG23: =IF(SUM(P23:Q23)=SUM(AE23:AF23),"OK","검토") -> OK | AI23: =IF(W23="","",IF(W23="도비","세입없음","직접입력")) | AK23: =IF(AI23="","",COUNTIF($AI$7:$AI$112,AI23)) | AL23: =IF(Y23="","",IF(AND(Y23="도비",AI23="세입없음"),"OK",IF(AND(Y23<>"도비",AI23<>""),"OK","@@"))) | AN23: {=IF(D23="","",INDEX(구분표!$I$2:$I$319, MATCH(1,(구분표!$E$2:$E$319='1추일출'!C23)*(구분표!$F$2:$F$319='1추일출'!D23)*(구분표!$G$2:$G$319='1추일출'!B23),0)))} | AR23: =IF(O23<0,O23,0) -> 0 | AS23: =IF(O23>0,O23,0) -> 0
A24: =COUNTA($C$8:C24)-COUNTBLANK($C$8:C24)+1 -> 0 | B24: =IF(C24="","",MID($B$18,2,7)) | C24: =IF(D24="","",VLOOKUP(D24,구분표!$A$3:$C$223,3,)) | K24: =I24-J24 -> 0 | N24: =I24+L24+M24 -> 0 | O24: =R24-N24 -> 0 | R24: =I24+P24+Q24 -> 0 | S24: =IF(AND((N24=0),(R24>0)),"O",IF(AND((L24<0),(N24-R24<0)),"O","X")) -> X | Z24: =IF($Y24<>"도비",IF($W24="국도비","직접입력",SUM($L24:$M24)),) -> 0 | AA24: =IF($Y24="도비",SUM($L24:$M24),IF($W24="국도비","직접입력",SUM($L24:$M24)-$Z24)) -> 0 | AB24: =IF(SUM($L24:$M24)=SUM($Z24:$AA24),"OK","검토") -> OK | AE24: =IF($Y24<>"도비",IF($W24="국도비","직접입력",SUM($P24:$Q24)),) -> 0 | AF24: =IF($Y24="도비",SUM(P24:Q24),IF($W24="국도비","직접입력",SUM(P24:Q24)-AE24)) -> 0 | AG24: =IF(SUM(P24:Q24)=SUM(AE24:AF24),"OK","검토") -> OK | AI24: =IF(W24="","",IF(W24="도비","세입없음","직접입력")) | AK24: =IF(AI24="","",COUNTIF($AI$7:$AI$112,AI24)) | AL24: =IF(Y24="","",IF(AND(Y24="도비",AI24="세입없음"),"OK",IF(AND(Y24<>"도비",AI24<>""),"OK","@@"))) | AN24: {=IF(D24="","",INDEX(구분표!$I$2:$I$319, MATCH(1,(구분표!$E$2:$E$319='1추일출'!C24)*(구분표!$F$2:$F$319='1추일출'!D24)*(구분표!$G$2:$G$319='1추일출'!B24),0)))} | AR24: =IF(O24<0,O24,0) -> 0 | AS24: =IF(O24>0,O24,0) -> 0
A25: =COUNTA($C$8:C25)-COUNTBLANK($C$8:C25)+1 -> 0 | B25: =IF(C25="","",MID($B$18,2,7)) | C25: =IF(D25="","",VLOOKUP(D25,구분표!$A$3:$C$223,3,)) | K25: =I25-J25 -> 0 | N25: =I25+L25+M25 -> 0 | O25: =R25-N25 -> 0 | R25: =I25+P25+Q25 -> 0 | S25: =IF(AND((N25=0),(R25>0)),"O",IF(AND((L25<0),(N25-R25<0)),"O","X")) -> X | Z25: =IF($Y25<>"도비",IF($W25="국도비","직접입력",SUM($L25:$M25)),) -> 0 | AA25: =IF($Y25="도비",SUM($L25:$M25),IF($W25="국도비","직접입력",SUM($L25:$M25)-$Z25)) -> 0 | AB25: =IF(SUM($L25:$M25)=SUM($Z25:$AA25),"OK","검토") -> OK | AE25: =IF($Y25<>"도비",IF($W25="국도비","직접입력",SUM($P25:$Q25)),) -> 0 | AF25: =IF($Y25="도비",SUM(P25:Q25),IF($W25="국도비","직접입력",SUM(P25:Q25)-AE25)) -> 0 | AG25: =IF(SUM(P25:Q25)=SUM(AE25:AF25),"OK","검토") -> OK | AI25: =IF(W25="","",IF(W25="도비","세입없음","직접입력")) | AK25: =IF(AI25="","",COUNTIF($AI$7:$AI$112,AI25)) | AL25: =IF(Y25="","",IF(AND(Y25="도비",AI25="세입없음"),"OK",IF(AND(Y25<>"도비",AI25<>""),"OK","@@"))) | AN25: {=IF(D25="","",INDEX(구분표!$I$2:$I$319, MATCH(1,(구분표!$E$2:$E$319='1추일출'!C25)*(구분표!$F$2:$F$319='1추일출'!D25)*(구분표!$G$2:$G$319='1추일출'!B25),0)))} | AR25: =IF(O25<0,O25,0) -> 0 | AS25: =IF(O25>0,O25,0) -> 0
A26: =COUNTA($C$8:C26)-COUNTBLANK($C$8:C26)+1 -> 0 | B26: =IF(C26="","",MID($B$18,2,7)) | C26: =IF(D26="","",VLOOKUP(D26,구분표!$A$3:$C$223,3,)) | K26: =I26-J26 -> 0 | N26: =I26+L26+M26 -> 0 | O26: =R26-N26 -> 0 | R26: =I26+P26+Q26 -> 0 | S26: =IF(AND((N26=0),(R26>0)),"O",IF(AND((L26<0),(N26-R26<0)),"O","X")) -> X | Z26: =IF($Y26<>"도비",IF($W26="국도비","직접입력",SUM($L26:$M26)),) -> 0 | AA26: =IF($Y26="도비",SUM($L26:$M26),IF($W26="국도비","직접입력",SUM($L26:$M26)-$Z26)) -> 0 | AB26: =IF(SUM($L26:$M26)=SUM($Z26:$AA26),"OK","검토") -> OK | AE26: =IF($Y26<>"도비",IF($W26="국도비","직접입력",SUM($P26:$Q26)),) -> 0 | AF26: =IF($Y26="도비",SUM(P26:Q26),IF($W26="국도비","직접입력",SUM(P26:Q26)-AE26)) -> 0 | AG26: =IF(SUM(P26:Q26)=SUM(AE26:AF26),"OK","검토") -> OK | AI26: =IF(W26="","",IF(W26="도비","세입없음","직접입력")) | AK26: =IF(AI26="","",COUNTIF($AI$7:$AI$112,AI26)) | AL26: =IF(Y26="","",IF(AND(Y26="도비",AI26="세입없음"),"OK",IF(AND(Y26<>"도비",AI26<>""),"OK","@@"))) | AN26: {=IF(D26="","",INDEX(구분표!$I$2:$I$319, MATCH(1,(구분표!$E$2:$E$319='1추일출'!C26)*(구분표!$F$2:$F$319='1추일출'!D26)*(구분표!$G$2:$G$319='1추일출'!B26),0)))} | AR26: =IF(O26<0,O26,0) -> 0 | AS26: =IF(O26>0,O26,0) -> 0
A27: =COUNTA($C$8:C27)-COUNTBLANK($C$8:C27)+1 -> 0 | B27: =IF(C27="","",MID($B$18,2,7)) | C27: =IF(D27="","",VLOOKUP(D27,구분표!$A$3:$C$223,3,)) | K27: =I27-J27 -> 0 | N27: =I27+L27+M27 -> 0 | O27: =R27-N27 -> 0 | R27: =I27+P27+Q27 -> 0 | S27: =IF(AND((N27=0),(R27>0)),"O",IF(AND((L27<0),(N27-R27<0)),"O","X")) -> X | Z27: =IF($Y27<>"도비",IF($W27="국도비","직접입력",SUM($L27:$M27)),) -> 0 | AA27: =IF($Y27="도비",SUM($L27:$M27),IF($W27="국도비","직접입력",SUM($L27:$M27)-$Z27)) -> 0 | AB27: =IF(SUM($L27:$M27)=SUM($Z27:$AA27),"OK","검토") -> OK | AE27: =IF($Y27<>"도비",IF($W27="국도비","직접입력",SUM($P27:$Q27)),) -> 0 | AF27: =IF($Y27="도비",SUM(P27:Q27),IF($W27="국도비","직접입력",SUM(P27:Q27)-AE27)) -> 0 | AG27: =IF(SUM(P27:Q27)=SUM(AE27:AF27),"OK","검토") -> OK | AI27: =IF(W27="","",IF(W27="도비","세입없음","직접입력")) | AK27: =IF(AI27="","",COUNTIF($AI$7:$AI$112,AI27)) | AL27: =IF(Y27="","",IF(AND(Y27="도비",AI27="세입없음"),"OK",IF(AND(Y27<>"도비",AI27<>""),"OK","@@"))) | AN27: {=IF(D27="","",INDEX(구분표!$I$2:$I$319, MATCH(1,(구분표!$E$2:$E$319='1추일출'!C27)*(구분표!$F$2:$F$319='1추일출'!D27)*(구분표!$G$2:$G$319='1추일출'!B27),0)))} | AR27: =IF(O27<0,O27,0) -> 0 | AS27: =IF(O27>0,O27,0) -> 0
A28: =COUNTA($C$8:C28)-COUNTBLANK($C$8:C28)+1 -> 0 | B28: =IF(C28="","",MID($B$18,2,7)) | C28: =IF(D28="","",VLOOKUP(D28,구분표!$A$3:$C$223,3,)) | K28: =I28-J28 -> 0 | N28: =I28+L28+M28 -> 0 | O28: =R28-N28 -> 0 | R28: =I28+P28+Q28 -> 0 | S28: =IF(AND((N28=0),(R28>0)),"O",IF(AND((L28<0),(N28-R28<0)),"O","X")) -> X | Z28: =IF($Y28<>"도비",IF($W28="국도비","직접입력",SUM($L28:$M28)),) -> 0 | AA28: =IF($Y28="도비",SUM($L28:$M28),IF($W28="국도비","직접입력",SUM($L28:$M28)-$Z28)) -> 0 | AB28: =IF(SUM($L28:$M28)=SUM($Z28:$AA28),"OK","검토") -> OK | AE28: =IF($Y28<>"도비",IF($W28="국도비","직접입력",SUM($P28:$Q28)),) -> 0 | AF28: =IF($Y28="도비",SUM(P28:Q28),IF($W28="국도비","직접입력",SUM(P28:Q28)-AE28)) -> 0 | AG28: =IF(SUM(P28:Q28)=SUM(AE28:AF28),"OK","검토") -> OK | AI28: =IF(W28="","",IF(W28="도비","세입없음","직접입력")) | AK28: =IF(AI28="","",COUNTIF($AI$7:$AI$112,AI28)) | AL28: =IF(Y28="","",IF(AND(Y28="도비",AI28="세입없음"),"OK",IF(AND(Y28<>"도비",AI28<>""),"OK","@@"))) | AN28: {=IF(D28="","",INDEX(구분표!$I$2:$I$319, MATCH(1,(구분표!$E$2:$E$319='1추일출'!C28)*(구분표!$F$2:$F$319='1추일출'!D28)*(구분표!$G$2:$G$319='1추일출'!B28),0)))} | AR28: =IF(O28<0,O28,0) -> 0 | AS28: =IF(O28>0,O28,0) -> 0
B29: (경제과학기술위원회) | I29: =SUBTOTAL(9,I30:I39) -> 0 | J29: =SUBTOTAL(9,J30:J39) -> 0 | K29: =SUBTOTAL(9,K30:K39) -> 0 | L29: =SUBTOTAL(9,L30:L39) -> 0 | M29: =SUBTOTAL(9,M30:M39) -> 0 | N29: =SUBTOTAL(9,N30:N39) -> 0 | O29: =SUBTOTAL(9,O30:O39) -> 0 | P29: =SUBTOTAL(9,P30:P39) -> 0 | ... R29: =SUBTOTAL(9,R30:R39) -> 0 | AR29: =SUBTOTAL(9,AR30:AR39) -> 0 | AS29: =SUBTOTAL(9,AS30:AS39) -> 0
A30: =COUNTA($C$8:C30)-COUNTBLANK($C$8:C30)+2 -> 0 | B30: =IF(C30="","",MID($B$29,2,9)) | C30: =IF(D30="","",VLOOKUP(D30,구분표!$A$3:$C$223,3,)) | K30: =I30-J30 -> 0 | N30: =I30+L30+M30 -> 0 | O30: =R30-N30 -> 0 | R30: =I30+P30+Q30 -> 0 | S30: =IF(AND((N30=0),(R30>0)),"O",IF(AND((L30<0),(N30-R30<0)),"O","X")) -> X | Z30: =IF($Y30<>"도비",IF($W30="국도비","직접입력",SUM($L30:$M30)),) -> 0 | AA30: =IF($Y30="도비",SUM($L30:$M30),IF($W30="국도비","직접입력",SUM($L30:$M30)-$Z30)) -> 0 | AB30: =IF(SUM($L30:$M30)=SUM($Z30:$AA30),"OK","검토") -> OK | AE30: =IF($Y30<>"도비",IF($W30="국도비","직접입력",SUM($P30:$Q30)),) -> 0 | AF30: =IF($Y30="도비",SUM(P30:Q30),IF($W30="국도비","직접입력",SUM(P30:Q30)-AE30)) -> 0 | AG30: =IF(SUM(P30:Q30)=SUM(AE30:AF30),"OK","검토") -> OK | AI30: =IF(W30="","",IF(W30="도비","세입없음","직접입력")) | AK30: =IF(AI30="","",COUNTIF($AI$7:$AI$112,AI30)) | AL30: =IF(Y30="","",IF(AND(Y30="도비",AI30="세입없음"),"OK",IF(AND(Y30<>"도비",AI30<>""),"OK","@@"))) | AN30: {=IF(D30="","",INDEX(구분표!$I$2:$I$319, MATCH(1,(구분표!$E$2:$E$319='1추일출'!C30)*(구분표!$F$2:$F$319='1추일출'!D30)*(구분표!$G$2:$G$319='1추일출'!B30),0)))} | AR30: =IF(O30<0,O30,0) -> 0 | AS30: =IF(O30>0,O30,0) -> 0
A31: =COUNTA($C$8:C31)-COUNTBLANK($C$8:C31)+2 -> 0 | B31: =IF(C31="","",MID($B$29,2,9)) | C31: =IF(D31="","",VLOOKUP(D31,구분표!$A$3:$C$223,3,)) | K31: =I31-J31 -> 0 | N31: =I31+L31+M31 -> 0 | O31: =R31-N31 -> 0 | R31: =I31+P31+Q31 -> 0 | S31: =IF(AND((N31=0),(R31>0)),"O",IF(AND((L31<0),(N31-R31<0)),"O","X")) -> X | Z31: =IF($Y31<>"도비",IF($W31="국도비","직접입력",SUM($L31:$M31)),) -> 0 | AA31: =IF($Y31="도비",SUM($L31:$M31),IF($W31="국도비","직접입력",SUM($L31:$M31)-$Z31)) -> 0 | AB31: =IF(SUM($L31:$M31)=SUM($Z31:$AA31),"OK","검토") -> OK | AE31: =IF($Y31<>"도비",IF($W31="국도비","직접입력",SUM($P31:$Q31)),) -> 0 | AF31: =IF($Y31="도비",SUM(P31:Q31),IF($W31="국도비","직접입력",SUM(P31:Q31)-AE31)) -> 0 | AG31: =IF(SUM(P31:Q31)=SUM(AE31:AF31),"OK","검토") -> OK | AI31: =IF(W31="","",IF(W31="도비","세입없음","직접입력")) | AK31: =IF(AI31="","",COUNTIF($AI$7:$AI$112,AI31)) | AL31: =IF(Y31="","",IF(AND(Y31="도비",AI31="세입없음"),"OK",IF(AND(Y31<>"도비",AI31<>""),"OK","@@"))) | AN31: {=IF(D31="","",INDEX(구분표!$I$2:$I$319, MATCH(1,(구분표!$E$2:$E$319='1추일출'!C31)*(구분표!$F$2:$F$319='1추일출'!D31)*(구분표!$G$2:$G$319='1추일출'!B31),0)))} | AR31: =IF(O31<0,O31,0) -> 0 | AS31: =IF(O31>0,O31,0) -> 0 | AT31: 사회보장제도 신설에 따른 중앙부처 협의 등 사전절차 이행 완료 후 집행한다.
