Workbook

Sheet 1. 표지 (상임위)
U2: (단위 : 천원) | Z2: (단위 : 천원)
A4: 2026년도 경기도 제2회 추가경정예산안 및 기금운용계획 변경안
A5: 상임위 계수조정 결과
A15: 경기도의회 예산결산특별위원회

Sheet 1. 총괄표(상임위)
A2: 총괄 현황
A4: □ 위원회별 조정현황
I5: (단위 : 천원)
A6: 구 분 | B6: 집행부제출(안) | C6: 세입예산(안) | F6: 세출예산(안) | I6: 수정예산(안) | K6: ※ 예산안 증감현황
C7: 감 액 | D7: 증 액 | E7: 증감액 | F7: 감 액 | G7: 증 액 | H7: 증감액 | K7: 구 분 | L7: 세입 | M7: 세출 | N7: 예비비 | O7: 비고
A8: 계 | B8: =SUM(B9:B19) -> 42242001864 | C8: =SUM(C9:C19) -> 0 | D8: =SUM(D9:D19) -> 450250 | E8: =SUM(E9:E19) -> 450250 | F8: =SUM(F9:F19) -> 0 | G8: =SUM(G9:G19) -> 3588632 | H8: =SUM(H9:H19) -> 3588632 | I8: =SUM(I9:I19) -> 42245590496 | K8: 계 | L8: =SUM(L9:L10) -> 450250 | M8: =SUM(M9:M10) -> 3588632 | N8: =L8-M8 -> -3138382
A9: 의회운영위원회 | B9: =B33 -> 129702008 | C9: =SUMIFS('3. 일입'!$N$7:$N$1831,'3. 일입'!$B$7:$B$1831, $A9, '3. 일입'!$N$7:$N$1831, "<"&0)+SUMIFS('4. 특입'!$N$6:$N$1994,'4. 특입'!$B$6:$B$1994,$A9, '4. 특입'!$N$6:$N$1994, "<"&0)+SUMIFS('4-1. 공특입'!$O$6:$O$1992,'4-1. 공특입'!$B$6:$B$1992,$A9, '4-1. 공특입'!$O$6:$O$1992, "<"&0) -> 0 | D9: =SUMIFS('3. 일입'!$N$7:$N$1831,'3. 일입'!$B$7:$B$1831, $A9, '3. 일입'!$N$7:$N$1831, ">"&0)+SUMIFS('4. 특입'!$N$6:$N$1994,'4. 특입'!$B$6:$B$1994,$A9, '4. 특입'!$N$6:$N$1994, ">"&0)+SUMIFS('4-1. 공특입'!$O$6:$O$1992,'4-1. 공특입'!$B$6:$B$1992,$A9, '4-1. 공특입'!$O$6:$O$1992, ">"&0) -> 0 | E9: =C9+D9 -> 0 | F9: =SUMIFS('3. 일출(자체)'!$P$6:$P$1826,'3. 일출(자체)'!$B$6:$B$1826, $A9, '3. 일출(자체)'!$P$6:$P$1826, "<"&0)+SUMIFS('3. 일출(의존)'!$P$6:P$1829,'3. 일출(의존)'!$B$6:$B$1829, $A9, '3. 일출(의존)'!$P$6:$P$1829, "<"&0)+SUMIFS('4. 특출'!$P$5:$P$1991,'4. 특출'!$B$5:$B$1991, $A9, '4. 특출'!$P$5:$P$1991, "<"&0)+SUMIFS('4-1. 공특출'!$P$5:$P$1992,'4-1. 공특출'!$B$5:$B$1992, $A9, '4-1. 공특출'!$P$5:$P$1992, "<"&0) -> 0 | G9: =SUMIFS('3. 일출(자체)'!$P$6:$P$1826,'3. 일출(자체)'!$B$6:$B$1826, $A9, '3. 일출(자체)'!$P$6:$P$1826, ">"&0)+SUMIFS('3. 일출(의존)'!$P$6:$P$1829,'3. 일출(의존)'!$B$6:$B$1829, $A9, '3. 일출(의존)'!$P$6:$P$1829, ">"&0)+SUMIFS('4. 특출'!$P$5:$P$1991,'4. 특출'!$B$5:$B$1991, $A9, '4. 특출'!$P$5:$P$1991, ">"&0)+SUMIFS('4-1. 공특출'!$P$5:$P$1992,'4-1. 공특출'!$B$5:$B$1992, $A9, '4-1. 공특출'!$P$5:$P$1992, ">"&0) -> 0 | H9: =G9+F9 -> 0 | I9: =B9+F9+G9 -> 129702008 | K9: 일반회계 | L9: =SUM(C26:D26) -> 450250 | M9: =SUM(F26:G26) -> 3588632 | N9: =L9-M9 -> -3138382 | O9: 예비비 증감 - 감액, + 증액에 입력
A10: 기획재정위원회 | B10: =B34 -> 5932148107 | C10: =SUMIFS('3. 일입'!$N$7:$N$1831,'3. 일입'!$B$7:$B$1831, $A10, '3. 일입'!$N$7:$N$1831, "<"&0)+SUMIFS('4. 특입'!$N$6:$N$1994,'4. 특입'!$B$6:$B$1994,$A10, '4. 특입'!$N$6:$N$1994, "<"&0)+SUMIFS('4-1. 공특입'!$O$6:$O$1992,'4-1. 공특입'!$B$6:$B$1992,$A10, '4-1. 공특입'!$O$6:$O$1992, "<"&0) -> 0 | D10: =SUMIFS('3. 일입'!$N$7:$N$1831,'3. 일입'!$B$7:$B$1831, $A10, '3. 일입'!$N$7:$N$1831, ">"&0)+SUMIFS('4. 특입'!$N$6:$N$1994,'4. 특입'!$B$6:$B$1994,$A10, '4. 특입'!$N$6:$N$1994, ">"&0)+SUMIFS('4-1. 공특입'!$O$6:$O$1992,'4-1. 공특입'!$B$6:$B$1992,$A10, '4-1. 공특입'!$O$6:$O$1992, ">"&0) -> 0 | E10: =C10+D10 -> 0 | F10: =SUMIFS('3. 일출(자체)'!$P$6:$P$1826,'3. 일출(자체)'!$B$6:$B$1826, $A10, '3. 일출(자체)'!$P$6:$P$1826, "<"&0)+SUMIFS('3. 일출(의존)'!$P$6:P$1829,'3. 일출(의존)'!$B$6:$B$1829, $A10, '3. 일출(의존)'!$P$6:$P$1829, "<"&0)+SUMIFS('4. 특출'!$P$5:$P$1991,'4. 특출'!$B$5:$B$1991, $A10, '4. 특출'!$P$5:$P$1991, "<"&0)+SUMIFS('4-1. 공특출'!$P$5:$P$1992,'4-1. 공특출'!$B$5:$B$1992, $A10, '4-1. 공특출'!$P$5:$P$1992, "<"&0) -> 0 | G10: =SUMIFS('3. 일출(자체)'!$P$6:$P$1826,'3. 일출(자체)'!$B$6:$B$1826, $A10, '3. 일출(자체)'!$P$6:$P$1826, ">"&0)+SUMIFS('3. 일출(의존)'!$P$6:$P$1829,'3. 일출(의존)'!$B$6:$B$1829, $A10, '3. 일출(의존)'!$P$6:$P$1829, ">"&0)+SUMIFS('4. 특출'!$P$5:$P$1991,'4. 특출'!$B$5:$B$1991, $A10, '4. 특출'!$P$5:$P$1991, ">"&0)+SUMIFS('4-1. 공특출'!$P$5:$P$1992,'4-1. 공특출'!$B$5:$B$1992, $A10, '4-1. 공특출'!$P$5:$P$1992, ">"&0) -> 0 | H10: =G10+F10 -> 0 | I10: =B10+F10+G10 -> 5932148107 | K10: 특별회계 | L10: =SUM(C27:D27) -> 0 | M10: =SUM(F27:G27) -> 0 | N10: =L10-M10 -> 0
A11: 경제노동위원회 | B11: =B35 -> 474872242 | C11: =SUMIFS('3. 일입'!$N$7:$N$1831,'3. 일입'!$B$7:$B$1831, $A11, '3. 일입'!$N$7:$N$1831, "<"&0)+SUMIFS('4. 특입'!$N$6:$N$1994,'4. 특입'!$B$6:$B$1994,$A11, '4. 특입'!$N$6:$N$1994, "<"&0)+SUMIFS('4-1. 공특입'!$O$6:$O$1992,'4-1. 공특입'!$B$6:$B$1992,$A11, '4-1. 공특입'!$O$6:$O$1992, "<"&0) -> 0 | D11: =SUMIFS('3. 일입'!$N$7:$N$1831,'3. 일입'!$B$7:$B$1831, $A11, '3. 일입'!$N$7:$N$1831, ">"&0)+SUMIFS('4. 특입'!$N$6:$N$1994,'4. 특입'!$B$6:$B$1994,$A11, '4. 특입'!$N$6:$N$1994, ">"&0)+SUMIFS('4-1. 공특입'!$O$6:$O$1992,'4-1. 공특입'!$B$6:$B$1992,$A11, '4-1. 공특입'!$O$6:$O$1992, ">"&0) -> 0 | E11: =C11+D11 -> 0 | F11: =SUMIFS('3. 일출(자체)'!$P$6:$P$1826,'3. 일출(자체)'!$B$6:$B$1826, $A11, '3. 일출(자체)'!$P$6:$P$1826, "<"&0)+SUMIFS('3. 일출(의존)'!$P$6:P$1829,'3. 일출(의존)'!$B$6:$B$1829, $A11, '3. 일출(의존)'!$P$6:$P$1829, "<"&0)+SUMIFS('4. 특출'!$P$5:$P$1991,'4. 특출'!$B$5:$B$1991, $A11, '4. 특출'!$P$5:$P$1991, "<"&0)+SUMIFS('4-1. 공특출'!$P$5:$P$1992,'4-1. 공특출'!$B$5:$B$1992, $A11, '4-1. 공특출'!$P$5:$P$1992, "<"&0) -> 0 | G11: =SUMIFS('3. 일출(자체)'!$P$6:$P$1826,'3. 일출(자체)'!$B$6:$B$1826, $A11, '3. 일출(자체)'!$P$6:$P$1826, ">"&0)+SUMIFS('3. 일출(의존)'!$P$6:$P$1829,'3. 일출(의존)'!$B$6:$B$1829, $A11, '3. 일출(의존)'!$P$6:$P$1829, ">"&0)+SUMIFS('4. 특출'!$P$5:$P$1991,'4. 특출'!$B$5:$B$1991, $A11, '4. 특출'!$P$5:$P$1991, ">"&0)+SUMIFS('4-1. 공특출'!$P$5:$P$1992,'4-1. 공특출'!$B$5:$B$1992, $A11, '4-1. 공특출'!$P$5:$P$1992, ">"&0) -> 0 | H11: =G11+F11 -> 0 | I11: =B11+F11+G11 -> 474872242 | O11: (예비비 계수 조정용)
A12: 안전행정위원회 | B12: =B36 -> 4269846310 | C12: =SUMIFS('3. 일입'!$N$7:$N$1831,'3. 일입'!$B$7:$B$1831, $A12, '3. 일입'!$N$7:$N$1831, "<"&0)+SUMIFS('4. 특입'!$N$6:$N$1994,'4. 특입'!$B$6:$B$1994,$A12, '4. 특입'!$N$6:$N$1994, "<"&0)+SUMIFS('4-1. 공특입'!$O$6:$O$1992,'4-1. 공특입'!$B$6:$B$1992,$A12, '4-1. 공특입'!$O$6:$O$1992, "<"&0) -> 0 | D12: =SUMIFS('3. 일입'!$N$7:$N$1831,'3. 일입'!$B$7:$B$1831, $A12, '3. 일입'!$N$7:$N$1831, ">"&0)+SUMIFS('4. 특입'!$N$6:$N$1994,'4. 특입'!$B$6:$B$1994,$A12, '4. 특입'!$N$6:$N$1994, ">"&0)+SUMIFS('4-1. 공특입'!$O$6:$O$1992,'4-1. 공특입'!$B$6:$B$1992,$A12, '4-1. 공특입'!$O$6:$O$1992, ">"&0) -> 0 | E12: =C12+D12 -> 0 | F12: =SUMIFS('3. 일출(자체)'!$P$6:$P$1826,'3. 일출(자체)'!$B$6:$B$1826, $A12, '3. 일출(자체)'!$P$6:$P$1826, "<"&0)+SUMIFS('3. 일출(의존)'!$P$6:P$1829,'3. 일출(의존)'!$B$6:$B$1829, $A12, '3. 일출(의존)'!$P$6:$P$1829, "<"&0)+SUMIFS('4. 특출'!$P$5:$P$1991,'4. 특출'!$B$5:$B$1991, $A12, '4. 특출'!$P$5:$P$1991, "<"&0)+SUMIFS('4-1. 공특출'!$P$5:$P$1992,'4-1. 공특출'!$B$5:$B$1992, $A12, '4-1. 공특출'!$P$5:$P$1992, "<"&0) -> 0 | G12: =SUMIFS('3. 일출(자체)'!$P$6:$P$1826,'3. 일출(자체)'!$B$6:$B$1826, $A12, '3. 일출(자체)'!$P$6:$P$1826, ">"&0)+SUMIFS('3. 일출(의존)'!$P$6:$P$1829,'3. 일출(의존)'!$B$6:$B$1829, $A12, '3. 일출(의존)'!$P$6:$P$1829, ">"&0)+SUMIFS('4. 특출'!$P$5:$P$1991,'4. 특출'!$B$5:$B$1991, $A12, '4. 특출'!$P$5:$P$1991, ">"&0)+SUMIFS('4-1. 공특출'!$P$5:$P$1992,'4-1. 공특출'!$B$5:$B$1992, $A12, '4-1. 공특출'!$P$5:$P$1992, ">"&0) -> 0 | H12: =G12+F12 -> 0 | I12: =B12+F12+G12 -> 4269846310
A13: 문화체육관광위원회 | B13: =B37 -> 554871567 | C13: =SUMIFS('3. 일입'!$N$7:$N$1831,'3. 일입'!$B$7:$B$1831, $A13, '3. 일입'!$N$7:$N$1831, "<"&0)+SUMIFS('4. 특입'!$N$6:$N$1994,'4. 특입'!$B$6:$B$1994,$A13, '4. 특입'!$N$6:$N$1994, "<"&0)+SUMIFS('4-1. 공특입'!$O$6:$O$1992,'4-1. 공특입'!$B$6:$B$1992,$A13, '4-1. 공특입'!$O$6:$O$1992, "<"&0) -> 0 | D13: =SUMIFS('3. 일입'!$N$7:$N$1831,'3. 일입'!$B$7:$B$1831, $A13, '3. 일입'!$N$7:$N$1831, ">"&0)+SUMIFS('4. 특입'!$N$6:$N$1994,'4. 특입'!$B$6:$B$1994,$A13, '4. 특입'!$N$6:$N$1994, ">"&0)+SUMIFS('4-1. 공특입'!$O$6:$O$1992,'4-1. 공특입'!$B$6:$B$1992,$A13, '4-1. 공특입'!$O$6:$O$1992, ">"&0) -> 0 | E13: =C13+D13 -> 0 | F13: =SUMIFS('3. 일출(자체)'!$P$6:$P$1826,'3. 일출(자체)'!$B$6:$B$1826, $A13, '3. 일출(자체)'!$P$6:$P$1826, "<"&0)+SUMIFS('3. 일출(의존)'!$P$6:P$1829,'3. 일출(의존)'!$B$6:$B$1829, $A13, '3. 일출(의존)'!$P$6:$P$1829, "<"&0)+SUMIFS('4. 특출'!$P$5:$P$1991,'4. 특출'!$B$5:$B$1991, $A13, '4. 특출'!$P$5:$P$1991, "<"&0)+SUMIFS('4-1. 공특출'!$P$5:$P$1992,'4-1. 공특출'!$B$5:$B$1992, $A13, '4-1. 공특출'!$P$5:$P$1992, "<"&0) -> 0 | G13: =SUMIFS('3. 일출(자체)'!$P$6:$P$1826,'3. 일출(자체)'!$B$6:$B$1826, $A13, '3. 일출(자체)'!$P$6:$P$1826, ">"&0)+SUMIFS('3. 일출(의존)'!$P$6:$P$1829,'3. 일출(의존)'!$B$6:$B$1829, $A13, '3. 일출(의존)'!$P$6:$P$1829, ">"&0)+SUMIFS('4. 특출'!$P$5:$P$1991,'4. 특출'!$B$5:$B$1991, $A13, '4. 특출'!$P$5:$P$1991, ">"&0)+SUMIFS('4-1. 공특출'!$P$5:$P$1992,'4-1. 공특출'!$B$5:$B$1992, $A13, '4-1. 공특출'!$P$5:$P$1992, ">"&0) -> 0 | H13: =G13+F13 -> 0 | I13: =B13+F13+G13 -> 554871567
A14: 농정해양위원회 | B14: =B38 -> 1195877261 | C14: =SUMIFS('3. 일입'!$N$7:$N$1831,'3. 일입'!$B$7:$B$1831, $A14, '3. 일입'!$N$7:$N$1831, "<"&0)+SUMIFS('4. 특입'!$N$6:$N$1994,'4. 특입'!$B$6:$B$1994,$A14, '4. 특입'!$N$6:$N$1994, "<"&0)+SUMIFS('4-1. 공특입'!$O$6:$O$1992,'4-1. 공특입'!$B$6:$B$1992,$A14, '4-1. 공특입'!$O$6:$O$1992, "<"&0) -> 0 | D14: =SUMIFS('3. 일입'!$N$7:$N$1831,'3. 일입'!$B$7:$B$1831, $A14, '3. 일입'!$N$7:$N$1831, ">"&0)+SUMIFS('4. 특입'!$N$6:$N$1994,'4. 특입'!$B$6:$B$1994,$A14, '4. 특입'!$N$6:$N$1994, ">"&0)+SUMIFS('4-1. 공특입'!$O$6:$O$1992,'4-1. 공특입'!$B$6:$B$1992,$A14, '4-1. 공특입'!$O$6:$O$1992, ">"&0) -> 0 | E14: =C14+D14 -> 0 | F14: =SUMIFS('3. 일출(자체)'!$P$6:$P$1826,'3. 일출(자체)'!$B$6:$B$1826, $A14, '3. 일출(자체)'!$P$6:$P$1826, "<"&0)+SUMIFS('3. 일출(의존)'!$P$6:P$1829,'3. 일출(의존)'!$B$6:$B$1829, $A14, '3. 일출(의존)'!$P$6:$P$1829, "<"&0)+SUMIFS('4. 특출'!$P$5:$P$1991,'4. 특출'!$B$5:$B$1991, $A14, '4. 특출'!$P$5:$P$1991, "<"&0)+SUMIFS('4-1. 공특출'!$P$5:$P$1992,'4-1. 공특출'!$B$5:$B$1992, $A14, '4-1. 공특출'!$P$5:$P$1992, "<"&0) -> 0 | G14: =SUMIFS('3. 일출(자체)'!$P$6:$P$1826,'3. 일출(자체)'!$B$6:$B$1826, $A14, '3. 일출(자체)'!$P$6:$P$1826, ">"&0)+SUMIFS('3. 일출(의존)'!$P$6:$P$1829,'3. 일출(의존)'!$B$6:$B$1829, $A14, '3. 일출(의존)'!$P$6:$P$1829, ">"&0)+SUMIFS('4. 특출'!$P$5:$P$1991,'4. 특출'!$B$5:$B$1991, $A14, '4. 특출'!$P$5:$P$1991, ">"&0)+SUMIFS('4-1. 공특출'!$P$5:$P$1992,'4-1. 공특출'!$B$5:$B$1992, $A14, '4-1. 공특출'!$P$5:$P$1992, ">"&0) -> 0 | H14: =G14+F14 -> 0 | I14: =B14+F14+G14 -> 1195877261
A15: 보건복지위원회 | B15: =B39 -> 14042559485 | C15: =SUMIFS('3. 일입'!$N$7:$N$1831,'3. 일입'!$B$7:$B$1831, $A15, '3. 일입'!$N$7:$N$1831, "<"&0)+SUMIFS('4. 특입'!$N$6:$N$1994,'4. 특입'!$B$6:$B$1994,$A15, '4. 특입'!$N$6:$N$1994, "<"&0)+SUMIFS('4-1. 공특입'!$O$6:$O$1992,'4-1. 공특입'!$B$6:$B$1992,$A15, '4-1. 공특입'!$O$6:$O$1992, "<"&0) -> 0 | D15: =SUMIFS('3. 일입'!$N$7:$N$1831,'3. 일입'!$B$7:$B$1831, $A15, '3. 일입'!$N$7:$N$1831, ">"&0)+SUMIFS('4. 특입'!$N$6:$N$1994,'4. 특입'!$B$6:$B$1994,$A15, '4. 특입'!$N$6:$N$1994, ">"&0)+SUMIFS('4-1. 공특입'!$O$6:$O$1992,'4-1. 공특입'!$B$6:$B$1992,$A15, '4-1. 공특입'!$O$6:$O$1992, ">"&0) -> 0 | E15: =C15+D15 -> 0 | F15: =SUMIFS('3. 일출(자체)'!$P$6:$P$1826,'3. 일출(자체)'!$B$6:$B$1826, $A15, '3. 일출(자체)'!$P$6:$P$1826, "<"&0)+SUMIFS('3. 일출(의존)'!$P$6:P$1829,'3. 일출(의존)'!$B$6:$B$1829, $A15, '3. 일출(의존)'!$P$6:$P$1829, "<"&0)+SUMIFS('4. 특출'!$P$5:$P$1991,'4. 특출'!$B$5:$B$1991, $A15, '4. 특출'!$P$5:$P$1991, "<"&0)+SUMIFS('4-1. 공특출'!$P$5:$P$1992,'4-1. 공특출'!$B$5:$B$1992, $A15, '4-1. 공특출'!$P$5:$P$1992, "<"&0) -> 0 | G15: =SUMIFS('3. 일출(자체)'!$P$6:$P$1826,'3. 일출(자체)'!$B$6:$B$1826, $A15, '3. 일출(자체)'!$P$6:$P$1826, ">"&0)+SUMIFS('3. 일출(의존)'!$P$6:$P$1829,'3. 일출(의존)'!$B$6:$B$1829, $A15, '3. 일출(의존)'!$P$6:$P$1829, ">"&0)+SUMIFS('4. 특출'!$P$5:$P$1991,'4. 특출'!$B$5:$B$1991, $A15, '4. 특출'!$P$5:$P$1991, ">"&0)+SUMIFS('4-1. 공특출'!$P$5:$P$1992,'4-1. 공특출'!$B$5:$B$1992, $A15, '4-1. 공특출'!$P$5:$P$1992, ">"&0) -> 0 | H15: =G15+F15 -> 0 | I15: =B15+F15+G15 -> 14042559485
A16: 건설교통위원회 | B16: =B40 -> 3029412433 | C16: =SUMIFS('3. 일입'!$N$7:$N$1831,'3. 일입'!$B$7:$B$1831, $A16, '3. 일입'!$N$7:$N$1831, "<"&0)+SUMIFS('4. 특입'!$N$6:$N$1994,'4. 특입'!$B$6:$B$1994,$A16, '4. 특입'!$N$6:$N$1994, "<"&0)+SUMIFS('4-1. 공특입'!$O$6:$O$1992,'4-1. 공특입'!$B$6:$B$1992,$A16, '4-1. 공특입'!$O$6:$O$1992, "<"&0) -> 0 | D16: =SUMIFS('3. 일입'!$N$7:$N$1831,'3. 일입'!$B$7:$B$1831, $A16, '3. 일입'!$N$7:$N$1831, ">"&0)+SUMIFS('4. 특입'!$N$6:$N$1994,'4. 특입'!$B$6:$B$1994,$A16, '4. 특입'!$N$6:$N$1994, ">"&0)+SUMIFS('4-1. 공특입'!$O$6:$O$1992,'4-1. 공특입'!$B$6:$B$1992,$A16, '4-1. 공특입'!$O$6:$O$1992, ">"&0) -> 0 | E16: =C16+D16 -> 0 | F16: =SUMIFS('3. 일출(자체)'!$P$6:$P$1826,'3. 일출(자체)'!$B$6:$B$1826, $A16, '3. 일출(자체)'!$P$6:$P$1826, "<"&0)+SUMIFS('3. 일출(의존)'!$P$6:P$1829,'3. 일출(의존)'!$B$6:$B$1829, $A16, '3. 일출(의존)'!$P$6:$P$1829, "<"&0)+SUMIFS('4. 특출'!$P$5:$P$1991,'4. 특출'!$B$5:$B$1991, $A16, '4. 특출'!$P$5:$P$1991, "<"&0)+SUMIFS('4-1. 공특출'!$P$5:$P$1992,'4-1. 공특출'!$B$5:$B$1992, $A16, '4-1. 공특출'!$P$5:$P$1992, "<"&0) -> 0 | G16: =SUMIFS('3. 일출(자체)'!$P$6:$P$1826,'3. 일출(자체)'!$B$6:$B$1826, $A16, '3. 일출(자체)'!$P$6:$P$1826, ">"&0)+SUMIFS('3. 일출(의존)'!$P$6:$P$1829,'3. 일출(의존)'!$B$6:$B$1829, $A16, '3. 일출(의존)'!$P$6:$P$1829, ">"&0)+SUMIFS('4. 특출'!$P$5:$P$1991,'4. 특출'!$B$5:$B$1991, $A16, '4. 특출'!$P$5:$P$1991, ">"&0)+SUMIFS('4-1. 공특출'!$P$5:$P$1992,'4-1. 공특출'!$B$5:$B$1992, $A16, '4-1. 공특출'!$P$5:$P$1992, ">"&0) -> 0 | H16: =G16+F16 -> 0 | I16: =B16+F16+G16 -> 3029412433
A17: 도시환경위원회 | B17: =B41 -> 2367511141 | C17: =SUMIFS('3. 일입'!$N$7:$N$1831,'3. 일입'!$B$7:$B$1831, $A17, '3. 일입'!$N$7:$N$1831, "<"&0)+SUMIFS('4. 특입'!$N$6:$N$1994,'4. 특입'!$B$6:$B$1994,$A17, '4. 특입'!$N$6:$N$1994, "<"&0)+SUMIFS('4-1. 공특입'!$O$6:$O$1992,'4-1. 공특입'!$B$6:$B$1992,$A17, '4-1. 공특입'!$O$6:$O$1992, "<"&0) -> 0 | D17: =SUMIFS('3. 일입'!$N$7:$N$1831,'3. 일입'!$B$7:$B$1831, $A17, '3. 일입'!$N$7:$N$1831, ">"&0)+SUMIFS('4. 특입'!$N$6:$N$1994,'4. 특입'!$B$6:$B$1994,$A17, '4. 특입'!$N$6:$N$1994, ">"&0)+SUMIFS('4-1. 공특입'!$O$6:$O$1992,'4-1. 공특입'!$B$6:$B$1992,$A17, '4-1. 공특입'!$O$6:$O$1992, ">"&0) -> 50250 | E17: =C17+D17 -> 50250 | F17: =SUMIFS('3. 일출(자체)'!$P$6:$P$1826,'3. 일출(자체)'!$B$6:$B$1826, $A17, '3. 일출(자체)'!$P$6:$P$1826, "<"&0)+SUMIFS('3. 일출(의존)'!$P$6:P$1829,'3. 일출(의존)'!$B$6:$B$1829, $A17, '3. 일출(의존)'!$P$6:$P$1829, "<"&0)+SUMIFS('4. 특출'!$P$5:$P$1991,'4. 특출'!$B$5:$B$1991, $A17, '4. 특출'!$P$5:$P$1991, "<"&0)+SUMIFS('4-1. 공특출'!$P$5:$P$1992,'4-1. 공특출'!$B$5:$B$1992, $A17, '4-1. 공특출'!$P$5:$P$1992, "<"&0) -> 0 | G17: =SUMIFS('3. 일출(자체)'!$P$6:$P$1826,'3. 일출(자체)'!$B$6:$B$1826, $A17, '3. 일출(자체)'!$P$6:$P$1826, ">"&0)+SUMIFS('3. 일출(의존)'!$P$6:$P$1829,'3. 일출(의존)'!$B$6:$B$1829, $A17, '3. 일출(의존)'!$P$6:$P$1829, ">"&0)+SUMIFS('4. 특출'!$P$5:$P$1991,'4. 특출'!$B$5:$B$1991, $A17, '4. 특출'!$P$5:$P$1991, ">"&0)+SUMIFS('4-1. 공특출'!$P$5:$P$1992,'4-1. 공특출'!$B$5:$B$1992, $A17, '4-1. 공특출'!$P$5:$P$1992, ">"&0) -> 0 | H17: =G17+F17 -> 0 | I17: =B17+F17+G17 -> 2367511141
A18: 미래과학협력위원회 | B18: =B42 -> 890727734 | C18: =SUMIFS('3. 일입'!$N$7:$N$1831,'3. 일입'!$B$7:$B$1831, $A18, '3. 일입'!$N$7:$N$1831, "<"&0)+SUMIFS('4. 특입'!$N$6:$N$1994,'4. 특입'!$B$6:$B$1994,$A18, '4. 특입'!$N$6:$N$1994, "<"&0)+SUMIFS('4-1. 공특입'!$O$6:$O$1992,'4-1. 공특입'!$B$6:$B$1992,$A18, '4-1. 공특입'!$O$6:$O$1992, "<"&0) -> 0 | D18: =SUMIFS('3. 일입'!$N$7:$N$1831,'3. 일입'!$B$7:$B$1831, $A18, '3. 일입'!$N$7:$N$1831, ">"&0)+SUMIFS('4. 특입'!$N$6:$N$1994,'4. 특입'!$B$6:$B$1994,$A18, '4. 특입'!$N$6:$N$1994, ">"&0)+SUMIFS('4-1. 공특입'!$O$6:$O$1992,'4-1. 공특입'!$B$6:$B$1992,$A18, '4-1. 공특입'!$O$6:$O$1992, ">"&0) -> 0 | E18: =C18+D18 -> 0 | F18: =SUMIFS('3. 일출(자체)'!$P$6:$P$1826,'3. 일출(자체)'!$B$6:$B$1826, $A18, '3. 일출(자체)'!$P$6:$P$1826, "<"&0)+SUMIFS('3. 일출(의존)'!$P$6:P$1829,'3. 일출(의존)'!$B$6:$B$1829, $A18, '3. 일출(의존)'!$P$6:$P$1829, "<"&0)+SUMIFS('4. 특출'!$P$5:$P$1991,'4. 특출'!$B$5:$B$1991, $A18, '4. 특출'!$P$5:$P$1991, "<"&0)+SUMIFS('4-1. 공특출'!$P$5:$P$1992,'4-1. 공특출'!$B$5:$B$1992, $A18, '4-1. 공특출'!$P$5:$P$1992, "<"&0) -> 0 | G18: =SUMIFS('3. 일출(자체)'!$P$6:$P$1826,'3. 일출(자체)'!$B$6:$B$1826, $A18, '3. 일출(자체)'!$P$6:$P$1826, ">"&0)+SUMIFS('3. 일출(의존)'!$P$6:$P$1829,'3. 일출(의존)'!$B$6:$B$1829, $A18, '3. 일출(의존)'!$P$6:$P$1829, ">"&0)+SUMIFS('4. 특출'!$P$5:$P$1991,'4. 특출'!$B$5:$B$1991, $A18, '4. 특출'!$P$5:$P$1991, ">"&0)+SUMIFS('4-1. 공특출'!$P$5:$P$1992,'4-1. 공특출'!$B$5:$B$1992, $A18, '4-1. 공특출'!$P$5:$P$1992, ">"&0) -> 0 | H18: =G18+F18 -> 0 | I18: =B18+F18+G18 -> 890727734
A19: 여성가족평생교육위원회 | B19: =B43 -> 9354473576 | C19: =SUMIFS('3. 일입'!$N$7:$N$1831,'3. 일입'!$B$7:$B$1831, $A19, '3. 일입'!$N$7:$N$1831, "<"&0)+SUMIFS('4. 특입'!$N$6:$N$1994,'4. 특입'!$B$6:$B$1994,$A19, '4. 특입'!$N$6:$N$1994, "<"&0)+SUMIFS('4-1. 공특입'!$O$6:$O$1992,'4-1. 공특입'!$B$6:$B$1992,$A19, '4-1. 공특입'!$O$6:$O$1992, "<"&0) -> 0 | D19: =SUMIFS('3. 일입'!$N$7:$N$1831,'3. 일입'!$B$7:$B$1831, $A19, '3. 일입'!$N$7:$N$1831, ">"&0)+SUMIFS('4. 특입'!$N$6:$N$1994,'4. 특입'!$B$6:$B$1994,$A19, '4. 특입'!$N$6:$N$1994, ">"&0)+SUMIFS('4-1. 공특입'!$O$6:$O$1992,'4-1. 공특입'!$B$6:$B$1992,$A19, '4-1. 공특입'!$O$6:$O$1992, ">"&0) -> 400000 | E19: =C19+D19 -> 400000 | F19: =SUMIFS('3. 일출(자체)'!$P$6:$P$1826,'3. 일출(자체)'!$B$6:$B$1826, $A19, '3. 일출(자체)'!$P$6:$P$1826, "<"&0)+SUMIFS('3. 일출(의존)'!$P$6:P$1829,'3. 일출(의존)'!$B$6:$B$1829, $A19, '3. 일출(의존)'!$P$6:$P$1829, "<"&0)+SUMIFS('4. 특출'!$P$5:$P$1991,'4. 특출'!$B$5:$B$1991, $A19, '4. 특출'!$P$5:$P$1991, "<"&0)+SUMIFS('4-1. 공특출'!$P$5:$P$1992,'4-1. 공특출'!$B$5:$B$1992, $A19, '4-1. 공특출'!$P$5:$P$1992, "<"&0) -> 0 | G19: =SUMIFS('3. 일출(자체)'!$P$6:$P$1826,'3. 일출(자체)'!$B$6:$B$1826, $A19, '3. 일출(자체)'!$P$6:$P$1826, ">"&0)+SUMIFS('3. 일출(의존)'!$P$6:$P$1829,'3. 일출(의존)'!$B$6:$B$1829, $A19, '3. 일출(의존)'!$P$6:$P$1829, ">"&0)+SUMIFS('4. 특출'!$P$5:$P$1991,'4. 특출'!$B$5:$B$1991, $A19, '4. 특출'!$P$5:$P$1991, ">"&0)+SUMIFS('4-1. 공특출'!$P$5:$P$1992,'4-1. 공특출'!$B$5:$B$1992, $A19, '4-1. 공특출'!$P$5:$P$1992, ">"&0) -> 3588632 | H19: =G19+F19 -> 3588632 | I19: =B19+F19+G19 -> 9358062208
A21: □ 회계별 조정현황
I22: (단위 : 천원)
A23: 구 분 | B23: 집행부제출(안) | C23: 세입예산(안) | F23: 세출예산(안) | I23: 수정예산(안)
C24: 감 액 | D24: 증 액 | E24: 증감액 | F24: 감 액 | G24: 증 액 | H24: 증감액
A25: 계 | B25: =SUM(B26:B27) -> 42242001864 | C25: =SUM(C26:C27) -> 0 | D25: =SUM(D26:D27) -> 450250 | E25: =SUM(E26:E27) -> 450250 | F25: =SUM(F26:F27) -> 0 | G25: =SUM(G26:G27) -> 3588632 | H25: =SUM(H26:H27) -> 3588632 | I25: =SUM(I26:I27) -> 42245590496
A26: 일반회계 | B26: =D32 -> 37646557814 | C26: =SUMIFS('3. 일입'!$N$7:$N$1831,'3. 일입'!$D$7:$D$1831, "<>"&"", '3. 일입'!$N$7:$N$1831, "<"&0) -> 0 | D26: =SUMIFS('3. 일입'!$N$7:$N$1831,'3. 일입'!$D$7:$D$1831, "<>"&"", '3. 일입'!$N$7:$N$1831, ">"&0) -> 450250 | E26: =D26+C26 -> 450250 | F26: =SUMIFS('3. 일출(자체)'!$P$6:$P$1826,'3. 일출(자체)'!$D$6:$D$1826, "<>"&"", '3. 일출(자체)'!$P$6:$P$1826, "<"&0)+SUMIFS('3. 일출(의존)'!$P$6:$P$1829,'3. 일출(의존)'!$D$6:$D$1829, "<>"&"", '3. 일출(의존)'!$P$6:$P$1829, "<"&0) -> 0 | G26: =SUMIFS('3. 일출(자체)'!$P$6:$P$1826, '3. 일출(자체)'!$D$6:$D$1826, "<>"&"", '3. 일출(자체)'!$P$6:$P$1826, ">"&0)+ SUMIFS('3. 일출(의존)'!$P$6:$P$1829,'3. 일출(의존)'!$D$6:$D$1829, "<>"&"", '3. 일출(의존)'!$P$6:$P$1829, ">"&0) -> 3588632 | H26: =G26+F26 -> 3588632 | I26: =B26+F26+G26 -> 37650146446
A27: 특별회계 | B27: =E32+F32 -> 4595444050 | C27: =SUMIFS('4. 특입'!$N$6:$N$1000,'4. 특입'!$D$6:$D$1000,"<>"&"", '4. 특입'!$N$6:$N$1000, "<"&0)+SUMIFS('4-1. 공특입'!$O$6:$O$998,'4-1. 공특입'!$D$6:$D$998,"<>"&"", '4-1. 공특입'!$O$6:$O$998, "<"&0) -> 0 | D27: =SUMIFS('4. 특입'!$N$6:$N$1000,'4. 특입'!$D$6:$D$1000,"<>"&"", '4. 특입'!$N$6:$N$1000, ">"&0)+SUMIFS('4-1. 공특입'!$O$6:$O$998,'4-1. 공특입'!$D$6:$D$998,"<>"&"", '4-1. 공특입'!$O$6:$O$998, ">"&0) -> 0 | E27: =D27+C27 -> 0 | F27: =SUMIFS('4. 특출'!$P$5:$P$995,'4. 특출'!$D$5:$D$995, "<>"&"", '4. 특출'!$P$5:$P$995, "<"&0)+SUMIFS('4-1. 공특출'!$P$5:$P$996,'4-1. 공특출'!$D$5:$D$996, "<>"&"", '4-1. 공특출'!$P$5:$P$996, "<"&0) -> 0 | G27: =SUMIFS('4. 특출'!$P$5:$P$995,'4. 특출'!$D$5:$D$995, "<>"&"", '4. 특출'!$P$5:$P$995, ">"&0)+SUMIFS('4-1. 공특출'!$P$5:$P$996,'4-1. 공특출'!$D$5:$D$996, "<>"&"", '4-1. 공특출'!$P$5:$P$996, ">"&0) -> 0 | H27: =G27+F27 -> 0 | I27: =B27+F27+G27 -> 4595444050
A30: ※ 위원회별, 회계별 집행부제출안(예산담당관에서 작성)
A31: 위원회명 | B31: 합계 | C31: 일반+기타 | D31: 일반회계 | E31: 기타특별회계 | F31: 공기업특별회계
A32: 계 | B32: =SUM(B33:B43) -> 42242001864 | C32: =SUM(C33:C43) -> 42187089624 | D32: =SUM(D33:D43) -> 37646557814 | E32: =SUM(E33:E43) -> 4540531810 | F32: =SUM(F33:F43) -> 54912240
A33: 의회운영위원회 | B33: =SUM(D33:F33) -> 129702008 | C33: =D33+E33 -> 129702008 | D33: 129702008 | E33: 0 | F33: 0
A34: 기획재정위원회 | B34: =SUM(D34:F34) -> 5932148107 | C34: =D34+E34 -> 5932148107 | D34: 5892712561 | E34: 39435546 | F34: 0
A35: 경제노동위원회 | B35: =SUM(D35:F35) -> 474872242 | C35: =D35+E35 -> 474872242 | D35: 474872242 | E35: 0 | F35: 0
A36: 안전행정위원회 | B36: =SUM(D36:F36) -> 4269846310 | C36: =D36+E36 -> 4269846310 | D36: 2662231278 | E36: 1607615032 | F36: 0
A37: 문화체육관광위원회 | B37: =SUM(D37:F37) -> 554871567 | C37: =D37+E37 -> 554871567 | D37: 554871567 | E37: 0 | F37: 0
A38: 농정해양위원회 | B38: =SUM(D38:F38) -> 1195877261 | C38: =D38+E38 -> 1195877261 | D38: 1195877261 | E38: 0 | F38: 0
A39: 보건복지위원회 | B39: =SUM(D39:F39) -> 14042559485 | C39: =D39+E39 -> 14042559485 | D39: 11595408031 | E39: 2447151454 | F39: 0
A40: 건설교통위원회 | B40: =SUM(D40:F40) -> 3029412433 | C40: =D40+E40 -> 3029412433 | D40: 2869836504 | E40: 159575929 | F40: 0
A41: 도시환경위원회 | B41: =SUM(D41:F41) -> 2367511141 | C41: =D41+E41 -> 2345220241 | D41: 2170913256 | E41: 174306985 | F41: 22290900
A42: 미래과학협력위원회 | B42: =SUM(D42:F42) -> 890727734 | C42: =D42+E42 -> 858106394 | D42: 858106394 | E42: 0 | F42: 32621340
A43: 여성가족평생교육위원회 | B43: =SUM(D43:F43) -> 9354473576 | C43: =D43+E43 -> 9354473576 | D43: 9242026712 | E43: 112446864 | F43: 0
A45: 예비비 | B45: 42834815

Sheet 3. 일입
A1: 일반회계 세입 예산 조정(안) | AA1: 자동입력 | AF1: 자동입력 | AK1: "3. 일출(의존)" 에 입력 | AN1: "3. 일출(자체)" "3. 일출(의존)" 에 입력 | AS1: 검증 | AZ1: 검증
AA2: 국비 세입=국비 세출 | AC2: 도비 세입=도비 세출 | AF2: 국비 세입=국비 세출 | AH2: 도비 세입=도비 세출
Y3: (단위 : 천원) | AA3: =IF(AA7='3. 일출(의존)'!AB6,"OK","@@") -> @@ | AC3: =IF(SUM(AB7:AD7) = SUM('3. 일출(자체)'!AC6:AE6) + SUM('3. 일출(의존)'!AC6:AE6),"OK","@@") -> @@ | AF3: =IF(AF7='3. 일출(의존)'!AH6,"OK","@@") -> OK | AH3: =IF(SUM(AG7:AI7) = SUM('3. 일출(자체)'!AH6:AJ6) + SUM('3. 일출(의존)'!AI6:AK6),"OK","@@") -> OK
A4: 번호 | B4: 위원회명 | C4: 실국명 | D4: 부서명 | E4: 편성 구분 | F4: 예산안 /예산서 페이지 | G4: 실국별 사업 설명서 페이지 | H4: 목코드 | I4: 목명 | J4: 부기명 | K4: 기정액 (본예산+1추) (가) | L4: 증감액 (2회추경안) (나) | M4: 예산안 (다=가+나) | N4: 상임위 조정액 (라) | O4: 상임위 조정 예산안 (마=다+라) | P4: 예결특위 조정액 (바) | Q4: 예결특위 조정 예산안 (사=다+바) | R4: 상임위 동의 대상 | S4: 참고자료 (관련공문) | T4: 상임위 부대의견 | U4: 예비 심사시 집행부 동의여부 | V4: 예결특위 부대의견 | W4: 부대의견 | X4: 실국의견 청취대상 | Y4: 국도비 등 여부 | AA4: 상임위 재원별 증감액 | AF4: 예결위 재원별 증감액 | AK4: 국비 | AN4: 도비 | AQ4: 실국 부서 코드 | AS4: 상임위 세입/세출 검증 | AZ4: 예결위 세입/세출 검증
AA5: 국비 | AB5: 도비 | AF5: 국비 | AG5: 도비 | AK5: 세입 번호 | AL5: 재원 | AN5: 세입 번호 | AO5: 재원 | AS5: 국비 | AV5: 도비 | AZ5: 국비 | BC5: 도비
AB6: 자체 | AC6: 지방채 | AD6: 지역개발기금 | AG6: 자체 | AH6: 지방채 | AI6: 지역개발기금 | AS6: 증감액 | AT6: 건수 | AU6: 세입세출 금액검증 | AV6: 증감액 | AW6: 건수 | AX6: 세입세출 금액검증 | AZ6: 증감액 | BA6: 건수 | BB6: 세입세출 금액검증 | BC6: 증감액 | BD6: 건수 | BE6: 세입세출 금액검증
B7: 합 계 | J7: =SUBTOTAL(3,J$8:J$1831)&"건" -> 2건 | K7: =SUBTOTAL(9,K$8:K$1831) -> 608645 | L7: =SUBTOTAL(9,L$8:L$1831) -> 0 | M7: =SUBTOTAL(9,M$8:M$1831) -> 608645 | N7: =SUBTOTAL(9,N$8:N$1831) -> 450250 | O7: =SUBTOTAL(9,O$8:O$1831) -> 1058895 | P7: =SUBTOTAL(9,P$8:P$1831) -> 0 | Q7: =SUBTOTAL(9,Q$8:Q$1831) -> 608645 | AA7: =SUBTOTAL(9,AA$8:AA$1831) -> 450250 | AB7: =SUBTOTAL(9,AB$8:AB$1831) -> 0 | AC7: =SUBTOTAL(9,AC$8:AC$1831) -> 0 | AD7: =SUBTOTAL(9,AD$8:AD$1831) -> 0 | AF7: =SUBTOTAL(9,AF$8:AF$1831) -> 0 | AG7: =SUBTOTAL(9,AG$8:AG$1831) -> 0 | AH7: =SUBTOTAL(9,AH$8:AH$1831) -> 0 | AI7: =SUBTOTAL(9,AI$8:AI$1831) -> 0 | AS7: =SUBTOTAL(9,AS$8:AS$1831) -> 436750 | AT7: =SUBTOTAL(9,AT$8:AT$1831) -> 2 | AU7: =IF(COUNTIF(AU$8:AU$1831,"@@")>0,"@@","OK") -> @@ | AV7: =SUBTOTAL(9,AV$8:AV$1831) -> 0 | AW7: =SUBTOTAL(9,AW$8:AW$1831) -> 0 | AX7: =IF(COUNTIF(AX$8:AX$1831,"@@")>0,"@@","OK") -> OK | AZ7: =SUBTOTAL(9,AZ$8:AZ$1831) -> 0 | BA7: =SUBTOTAL(9,BA$8:BA$1831) -> 2 | BB7: =IF(COUNTIF(BB$8:BB$1831,"@@")>0,"@@","OK") -> OK | BC7: =SUBTOTAL(9,BC$8:BC$1831) -> 0 | BD7: =SUBTOTAL(9,BD$8:BD$1831) -> 0 | BE7: =IF(COUNTIF(BE$8:BE$1831,"@@")>0,"@@","OK") -> OK
B8: (도시환경위원회) | J8: =SUBTOTAL(3,J9:J9)&"건" -> 1건 | K8: =SUBTOTAL(9,K9:K9) -> 608645 | L8: =SUBTOTAL(9,L9:L9) -> 0 | M8: =SUBTOTAL(9,M9:M9) -> 608645 | N8: =SUBTOTAL(9,N9:N9) -> 50250 | O8: =SUBTOTAL(9,O9:O9) -> 658895 | P8: =SUBTOTAL(9,P9:P9) -> 0 | Q8: =SUBTOTAL(9,Q9:Q9) -> 608645 | AA8: =SUBTOTAL(9,AA9:AA9) -> 50250 | AB8: =SUBTOTAL(9,AB9:AB9) -> 0 | AC8: =SUBTOTAL(9,AC9:AC9) -> 0 | AD8: =SUBTOTAL(9,AD9:AD9) -> 0 | AF8: =SUBTOTAL(9,AF9:AF9) -> 0 | AG8: =SUBTOTAL(9,AG9:AG9) -> 0 | AH8: =SUBTOTAL(9,AH9:AH9) -> 0 | AI8: =SUBTOTAL(9,AI9:AI9) -> 0 | AS8: =SUBTOTAL(9,AS9:AS9) -> 36750 | AT8: =SUBTOTAL(9,AT9:AT9) -> 1 | AU8: =IF(COUNTIF(AU9:AU9,"@@")>0,"@@","OK") -> @@ | AV8: =SUBTOTAL(9,AV9:AV9) -> 0 | AW8: =SUBTOTAL(9,AW9:AW9) -> 0 | AX8: =IF(COUNTIF(AX9:AX9,"@@")>0,"@@","OK") -> OK | AZ8: =SUBTOTAL(9,AZ9:AZ9) -> 0 | BA8: =SUBTOTAL(9,BA9:BA9) -> 1 | BB8: =IF(COUNTIF(BB9:BB9,"@@")>0,"@@","OK") -> OK | BC8: =SUBTOTAL(9,BC9:BC9) -> 0 | BD8: =SUBTOTAL(9,BD9:BD9) -> 0 | BE8: =IF(COUNTIF(BE9:BE9,"@@")>0,"@@","OK") -> OK
A9: =IF(D9="","",COUNTA($C$8:C9)-COUNTBLANK($C$8:C9)+9) -> 9 | B9: =IF(D9="","",IF(OR(C9="직접입력",D9="북부지원"),"직접입력",IF(OR(AND(D9="인사과",C9="의회사무처"),AND(D9="총무과",C9="의회사무처")),"의회운영위원회",IF(OR(C9="직접입력",D9="북부지원"),"직접입력",IF(OR(AND(D9="인사과",C9="자치행정국"),AND(D9="총무과",C9="자치행정국")),"안전행정위원회",VLOOKUP(D9,구분표!$A$3:$C$258,2,)))))) -> 도시환경위원회 | C9: =IF(D9="","",IF(OR(D9="교육지원과",D9="총무과",D9="인사과"),"직접입력",VLOOKUP(D9,구분표!$A$3:$C$258,3,))) -> 수자원본부 | D9: 수질총량과 | E9: 1추 | F9: =IF($E9="","",IF($E9="2추","직접입력","-")) -> - | G9: =IF($E9="","",IF($E9="2추","직접입력","-")) -> - | H9: 511-02 | I9: =IF(H9="","",VLOOKUP($H9,구분표!$O$3:$P$168,2,FALSE)) -> 지역균형발전특별회계보조금 | J9: 공중화장실 안전관리시설 설치 지원 | K9: 608645 | L9: =IF($E9="", "", IF($E9="2추","금액입력", "-")) -> - | M9: =IF($E9="","",SUM(K9:L9)) -> 608645 | N9: 50250 | O9: =SUM(M9:N9) -> 658895 | Q9: =SUM(M9,P9) -> 608645 | R9: =IF(AND((O9=0),(Q9>0)),"O",IF(AND((N9<0),(O9-Q9<0)),"O","X")) -> X | S9: 행정안전부 주소정보혁신과-4513(2026. 9. 2.)호 | U9: 동의 | Y9: =IF($H9="","",IF(OR($H9="511-01", $H9="511-02", $H9="511-03", $H9="311-02", $H9="311-04", $H9="321-01"),"국비","도비")) -> 국비 | AA9: =IF($Y9="국비", IF($N9<>"", $N9, 0), "") -> 50250 | AB9: =IF($Y9="도비", IF($AO9="자체", IF($N9<>"",$N9,0),""), "") | AC9: =IF($Y9="도비",IF($AO9="지방채",IF($N9<>"",$N9,0),""), "") | AD9: =IF($Y9="도비",IF($AO9="지역개발기금",IF($N9<>"",$N9,0),""),"") | AF9: =IF($Y9="국비", IF($P9<>"", $P9, 0), "") -> 0 | AG9: =IF($Y9="도비", IF($AO9="자체", IF($P9<>"",$P9,0),""), "") | AH9: =IF($Y9="도비",IF($AO9="지방채",IF($P9<>"",$P9,0),""), "") | AI9: =IF($Y9="도비",IF($AO9="지역개발기금",IF($P9<>"",$P9,0),""),"") | AK9: =IF($AQ9="","", IF(OR($AL9="", $AL9="도비"), "", CONCATENATE($AQ9,"-",COUNTIF($AQ$8:$AQ9,$AQ9)))) -> 50604-1 | AL9: =IF($H9="","",IF($H9="511-01","국비",IF($H9="511-02","균특",IF($H9="511-03","기금",IF($H9="311-02","특교",IF($H9="311-04","소교",IF($H9="321-01","소멸","도비"))))))) -> 균특 | AN9: =IF($AQ9="","", IF(OR($AO9="", $AO9="국비", $AO9="자체"), "", CONCATENATE($AQ9,"-", $AO9,"-",COUNTIF($AQ$8:$AQ9, $AQ9)))) | AO9: =IF($Y9="","", IF($Y9="국비", "국비", IF($H9="612-01","지방채",IF($H9="722-02","지역개발기금","자체")))) -> 국비 | AQ9: {=IF(OR($D9="", $C9="직접입력", $B9="직접입력"),"",INDEX(구분표!$I$2:$I$337, MATCH(1,(구분표!$G$2:$G$337='3. 일입'!$B9)*(구분표!$E$2:$E$337='3. 일입'!$C9)*(구분표!$F$2:$F$337='3. 일입'!$D9),0)))} -> 50604 | AS9: =IF($AK9="","", SUMIFS('3. 일출(의존)'!$AB$7:$AB$1829,'3. 일출(의존)'!$AN$7:$AN$1829,$AK9)) -> 36750 | AT9: =IF($AK9="","", COUNTIF('3. 일출(의존)'!$AN$7:$AN$1829,$AK9)) -> 1 | AU9: =IF($AK9="", "", IF($AA9=$AS9,"OK","@@")) -> @@ | AV9: =IF($AN9="","",IF($AO9="지역개발기금",SUMIFS('3. 일출(의존)'!$AE$7:$AE$1840,'3. 일출(의존)'!$AS$7:$AS$1840,$AN9)+SUMIFS('3. 일출(자체)'!$AE$7:$AE$1837,'3. 일출(자체)'!$AM$7:$AM$1837,$AN9),IF($AO9="지방채",SUMIFS('3. 일출(의존)'!$AD$7:$AD$1840,'3. 일출(의존)'!$AS$7:$AS$1840,$AN9)+SUMIFS('3. 일출(자체)'!$AD$7:$AD$1837,'3. 일출(자체)'!$AM$7:$AM$1837,$AN9),0))) | AW9: =IF($AN9="","", COUNTIF('3. 일출(의존)'!$AS$7:$AS$1840,$AN9)+COUNTIF('3. 일출(자체)'!$AM$7:$AM$1837,$AN9)) | AX9: =IF($AN9="","", IF($AO9="자체","", IF($AO9="지방채", IF($AC9=$AV9, "OK", "@@"), IF($AO9="지역개발기금", IF($AD9=$AV9,"OK","@@"), "@@")))) | AZ9: =IF($AK9="","", SUMIFS('3. 일출(의존)'!$AH$7:$AH$1829,'3. 일출(의존)'!$AN$7:$AN$1829,$AK9)) -> 0 | BA9: =IF($AK9="","", COUNTIF('3. 일출(의존)'!$AN$7:$AN$1829,$AK9)) -> 1 | BB9: =IF($AK9="", "", IF($AF9=$AZ9,"OK","@@")) -> OK | BC9: =IF($AN9="","",IF($AO9="지역개발기금",SUMIFS('3. 일출(의존)'!$AK$7:$AK$1840,'3. 일출(의존)'!$AS$7:$AS$1840,$AN9)+SUMIFS('3. 일출(자체)'!$AJ$7:$AJ$1837,'3. 일출(자체)'!$AM$7:$AM$1837,$AN9),IF($AO9="지방채",SUMIFS('3. 일출(의존)'!$AJ$7:$AJ$1840,'3. 일출(의존)'!$AS$7:$AS$1840,$AN9)+SUMIFS('3. 일출(자체)'!$AI$7:$AI$1837,'3. 일출(자체)'!$AM$7:$AM$1837,$AN9),0))) | BD9: =IF($AN9="","",COUNTIF('3. 일출(의존)'!$AS$7:$AS$1840,$AN9)+COUNTIF('3. 일출(자체)'!$AM$7:$AM$1837,$AN9)) | BE9: =IF($AN9="","", IF($AO9="자체", "", IF($AO9="지방채", IF($AH9=$BC9, "OK", "@@"), IF($AO9="지역개발기금", IF($AI9=$BC9,"OK","@@"), "@@"))))
B10: (여성가족평생교육위원회) | J10: =SUBTOTAL(3,J11:J25)&"건" -> 1건 | K10: =SUBTOTAL(9,K11:K25) -> 0 | L10: =SUBTOTAL(9,L11:L25) -> 0 | M10: =SUBTOTAL(9,M11:M25) -> 0 | N10: =SUBTOTAL(9,N11:N25) -> 400000 | O10: =SUBTOTAL(9,O11:O25) -> 400000 | P10: =SUBTOTAL(9,P11:P25) -> 0 | Q10: =SUBTOTAL(9,Q11:Q25) -> 0 | AA10: =SUBTOTAL(9,AA11:AA25) -> 400000 | AB10: =SUBTOTAL(9,AB11:AB25) -> 0 | AC10: =SUBTOTAL(9,AC11:AC25) -> 0 | AD10: =SUBTOTAL(9,AD11:AD25) -> 0 | AF10: =SUBTOTAL(9,AF11:AF25) -> 0 | AG10: =SUBTOTAL(9,AG11:AG25) -> 0 | AH10: =SUBTOTAL(9,AH11:AH25) -> 0 | AI10: =SUBTOTAL(9,AI11:AI25) -> 0 | AS10: =SUBTOTAL(9,AS11:AS25) -> 400000 | AT10: =SUBTOTAL(9,AT11:AT25) -> 1 | AU10: =IF(COUNTIF(AU11:AU25,"@@")>0,"@@","OK") -> OK | AV10: =SUBTOTAL(9,AV11:AV25) -> 0 | AW10: =SUBTOTAL(9,AW11:AW25) -> 0 | AX10: =IF(COUNTIF(AX11:AX25,"@@")>0,"@@","OK") -> OK | AZ10: =SUBTOTAL(9,AZ11:AZ25) -> 0 | BA10: =SUBTOTAL(9,BA11:BA25) -> 1 | BB10: =IF(COUNTIF(BB11:BB25,"@@")>0,"@@","OK") -> OK | BC10: =SUBTOTAL(9,BC11:BC25) -> 0 | BD10: =SUBTOTAL(9,BD11:BD25) -> 0 | BE10: =IF(COUNTIF(BE11:BE25,"@@")>0,"@@","OK") -> OK
A11: =IF(D11="","",COUNTA($C$8:C11)-COUNTBLANK($C$8:C11)+11) -> 11 | B11: =IF(D11="","",IF(OR(C11="직접입력",D11="북부지원"),"직접입력",IF(OR(AND(D11="인사과",C11="의회사무처"),AND(D11="총무과",C11="의회사무처")),"의회운영위원회",IF(OR(C11="직접입력",D11="북부지원"),"직접입력",IF(OR(AND(D11="인사과",C11="자치행정국"),AND(D11="총무과",C11="자치행정국")),"안전행정위원회",VLOOKUP(D11,구분표!$A$3:$C$258,2,)))))) -> 여성가족평생교육위원회 | C11: =IF(D11="","",IF(OR(D11="교육지원과",D11="총무과",D11="인사과"),"직접입력",VLOOKUP(D11,구분표!$A$3:$C$258,3,))) -> 이민사회국 | D11: 이민사회정책과 | E11: 신규 | F11: =IF($E11="","",IF($E11="2추","직접입력","-")) -> - | G11: =IF($E11="","",IF($E11="2추","직접입력","-")) -> - | H11: 511-01 | I11: =IF(H11="","",VLOOKUP($H11,구분표!$O$3:$P$168,2,FALSE)) -> 국고보조금 | J11: 경기도 이주노동자 안전특화센터 설치 및 운영 | K11: =IF($E11="","",IF(OR($E11="2추", $E11="1추", $E11="본예산"), "금액입력", "-")) -> - | L11: =IF($E11="", "", IF($E11="2추","금액입력", "-")) -> - | M11: =IF($E11="","",SUM(K11:L11)) -> 0 | N11: 400000 | O11: =SUM(M11:N11) -> 400000 | Q11: =SUM(M11,P11) -> 0 | R11: =IF(AND((O11=0),(Q11>0)),"O",IF(AND((N11<0),(O11-Q11<0)),"O","X")) -> X | S11: 고용노동부 외국인력담당관-2662(2026.08.06.) | U11: 부동의 | Y11: =IF($H11="","",IF(OR($H11="511-01", $H11="511-02", $H11="511-03", $H11="311-02", $H11="311-04", $H11="321-01"),"국비","도비")) -> 국비 | AA11: =IF($Y11="국비", IF($N11<>"", $N11, 0), "") -> 400000 | AB11: =IF($Y11="도비", IF($AO11="자체", IF($N11<>"",$N11,0),""), "") | AC11: =IF($Y11="도비",IF($AO11="지방채",IF($N11<>"",$N11,0),""), "") | AD11: =IF($Y11="도비",IF($AO11="지역개발기금",IF($N11<>"",$N11,0),""),"") | AF11: =IF($Y11="국비", IF($P11<>"", $P11, 0), "") -> 0 | AG11: =IF($Y11="도비", IF($AO11="자체", IF($P11<>"",$P11,0),""), "") | AH11: =IF($Y11="도비",IF($AO11="지방채",IF($P11<>"",$P11,0),""), "") | AI11: =IF($Y11="도비",IF($AO11="지역개발기금",IF($P11<>"",$P11,0),""),"") | AK11: =IF($AQ11="","", IF(OR($AL11="", $AL11="도비"), "", CONCATENATE($AQ11,"-",COUNTIF($AQ$8:$AQ11,$AQ11)))) -> 20304-1 | AL11: =IF($H11="","",IF($H11="511-01","국비",IF($H11="511-02","균특",IF($H11="511-03","기금",IF($H11="311-02","특교",IF($H11="311-04","소교",IF($H11="321-01","소멸","도비"))))))) -> 국비 | AN11: =IF($AQ11="","", IF(OR($AO11="", $AO11="국비", $AO11="자체"), "", CONCATENATE($AQ11,"-", $AO11,"-",COUNTIF($AQ$8:$AQ11, $AQ11)))) | AO11: =IF($Y11="","", IF($Y11="국비", "국비", IF($H11="612-01","지방채",IF($H11="722-02","지역개발기금","자체")))) -> 국비 | AQ11: {=IF(OR($D11="", $C11="직접입력", $B11="직접입력"),"",INDEX(구분표!$I$2:$I$337, MATCH(1,(구분표!$G$2:$G$337='3. 일입'!$B11)*(구분표!$E$2:$E$337='3. 일입'!$C11)*(구분표!$F$2:$F$337='3. 일입'!$D11),0)))} -> 20304 | AS11: =IF($AK11="","", SUMIFS('3. 일출(의존)'!$AB$7:$AB$1829,'3. 일출(의존)'!$AN$7:$AN$1829,$AK11)) -> 400000 | AT11: =IF($AK11="","", COUNTIF('3. 일출(의존)'!$AN$7:$AN$1829,$AK11)) -> 1 | AU11: =IF($AK11="", "", IF($AA11=$AS11,"OK","@@")) -> OK | AV11: =IF($AN11="","",IF($AO11="지역개발기금",SUMIFS('3. 일출(의존)'!$AE$7:$AE$1840,'3. 일출(의존)'!$AS$7:$AS$1840,$AN11)+SUMIFS('3. 일출(자체)'!$AE$7:$AE$1837,'3. 일출(자체)'!$AM$7:$AM$1837,$AN11),IF($AO11="지방채",SUMIFS('3. 일출(의존)'!$AD$7:$AD$1840,'3. 일출(의존)'!$AS$7:$AS$1840,$AN11)+SUMIFS('3. 일출(자체)'!$AD$7:$AD$1837,'3. 일출(자체)'!$AM$7:$AM$1837,$AN11),0))) | AW11: =IF($AN11="","", COUNTIF('3. 일출(의존)'!$AS$7:$AS$1840,$AN11)+COUNTIF('3. 일출(자체)'!$AM$7:$AM$1837,$AN11)) | AX11: =IF($AN11="","", IF($AO11="자체","", IF($AO11="지방채", IF($AC11=$AV11, "OK", "@@"), IF($AO11="지역개발기금", IF($AD11=$AV11,"OK","@@"), "@@")))) | AZ11: =IF($AK11="","", SUMIFS('3. 일출(의존)'!$AH$7:$AH$1829,'3. 일출(의존)'!$AN$7:$AN$1829,$AK11)) -> 0 | BA11: =IF($AK11="","", COUNTIF('3. 일출(의존)'!$AN$7:$AN$1829,$AK11)) -> 1 | BB11: =IF($AK11="", "", IF($AF11=$AZ11,"OK","@@")) -> OK | BC11: =IF($AN11="","",IF($AO11="지역개발기금",SUMIFS('3. 일출(의존)'!$AK$7:$AK$1840,'3. 일출(의존)'!$AS$7:$AS$1840,$AN11)+SUMIFS('3. 일출(자체)'!$AJ$7:$AJ$1837,'3. 일출(자체)'!$AM$7:$AM$1837,$AN11),IF($AO11="지방채",SUMIFS('3. 일출(의존)'!$AJ$7:$AJ$1840,'3. 일출(의존)'!$AS$7:$AS$1840,$AN11)+SUMIFS('3. 일출(자체)'!$AI$7:$AI$1837,'3. 일출(자체)'!$AM$7:$AM$1837,$AN11),0))) | BD11: =IF($AN11="","",COUNTIF('3. 일출(의존)'!$AS$7:$AS$1840,$AN11)+COUNTIF('3. 일출(자체)'!$AM$7:$AM$1837,$AN11)) | BE11: =IF($AN11="","", IF($AO11="자체", "", IF($AO11="지방채", IF($AH11=$BC11, "OK", "@@"), IF($AO11="지역개발기금", IF($AI11=$BC11,"OK","@@"), "@@"))))
A12: =IF(D12="","",COUNTA($C$8:C12)-COUNTBLANK($C$8:C12)+11) | B12: =IF(D12="","",IF(OR(C12="직접입력",D12="북부지원"),"직접입력",IF(OR(AND(D12="인사과",C12="의회사무처"),AND(D12="총무과",C12="의회사무처")),"의회운영위원회",IF(OR(C12="직접입력",D12="북부지원"),"직접입력",IF(OR(AND(D12="인사과",C12="자치행정국"),AND(D12="총무과",C12="자치행정국")),"안전행정위원회",VLOOKUP(D12,구분표!$A$3:$C$258,2,)))))) | C12: =IF(D12="","",IF(OR(D12="교육지원과",D12="총무과",D12="인사과"),"직접입력",VLOOKUP(D12,구분표!$A$3:$C$258,3,))) | F12: =IF($E12="","",IF($E12="2추","직접입력","-")) | G12: =IF($E12="","",IF($E12="2추","직접입력","-")) | I12: =IF(H12="","",VLOOKUP($H12,구분표!$O$3:$P$168,2,FALSE)) | K12: =IF($E12="","",IF(OR($E12="2추", $E12="1추", $E12="본예산"), "금액입력", "-")) | L12: =IF($E12="", "", IF($E12="2추","금액입력", "-")) | M12: =IF($E12="","",SUM(K12:L12)) | O12: =SUM(M12:N12) -> 0 | Q12: =SUM(M12,P12) -> 0 | R12: =IF(AND((O12=0),(Q12>0)),"O",IF(AND((N12<0),(O12-Q12<0)),"O","X")) -> X | Y12: =IF($H12="","",IF(OR($H12="511-01", $H12="511-02", $H12="511-03", $H12="311-02", $H12="311-04", $H12="321-01"),"국비","도비")) | AA12: =IF($Y12="국비", IF($N12<>"", $N12, 0), "") | AB12: =IF($Y12="도비", IF($AO12="자체", IF($N12<>"",$N12,0),""), "") | AC12: =IF($Y12="도비",IF($AO12="지방채",IF($N12<>"",$N12,0),""), "") | AD12: =IF($Y12="도비",IF($AO12="지역개발기금",IF($N12<>"",$N12,0),""),"") | AF12: =IF($Y12="국비", IF($P12<>"", $P12, 0), "") | AG12: =IF($Y12="도비", IF($AO12="자체", IF($P12<>"",$P12,0),""), "") | AH12: =IF($Y12="도비",IF($AO12="지방채",IF($P12<>"",$P12,0),""), "") | AI12: =IF($Y12="도비",IF($AO12="지역개발기금",IF($P12<>"",$P12,0),""),"") | AK12: =IF($AQ12="","", IF(OR($AL12="", $AL12="도비"), "", CONCATENATE($AQ12,"-",COUNTIF($AQ$8:$AQ12,$AQ12)))) | AL12: =IF($H12="","",IF($H12="511-01","국비",IF($H12="511-02","균특",IF($H12="511-03","기금",IF($H12="311-02","특교",IF($H12="311-04","소교",IF($H12="321-01","소멸","도비"))))))) | AN12: =IF($AQ12="","", IF(OR($AO12="", $AO12="국비", $AO12="자체"), "", CONCATENATE($AQ12,"-", $AO12,"-",COUNTIF($AQ$8:$AQ12, $AQ12)))) | AO12: =IF($Y12="","", IF($Y12="국비", "국비", IF($H12="612-01","지방채",IF($H12="722-02","지역개발기금","자체")))) | AQ12: {=IF(OR($D12="", $C12="직접입력", $B12="직접입력"),"",INDEX(구분표!$I$2:$I$337, MATCH(1,(구분표!$G$2:$G$337='3. 일입'!$B12)*(구분표!$E$2:$E$337='3. 일입'!$C12)*(구분표!$F$2:$F$337='3. 일입'!$D12),0)))} | AS12: =IF($AK12="","", SUMIFS('3. 일출(의존)'!$AB$7:$AB$1829,'3. 일출(의존)'!$AN$7:$AN$1829,$AK12)) | AT12: =IF($AK12="","", COUNTIF('3. 일출(의존)'!$AN$7:$AN$1829,$AK12)) | AU12: =IF($AK12="", "", IF($AA12=$AS12,"OK","@@")) | AV12: =IF($AN12="","",IF($AO12="지역개발기금",SUMIFS('3. 일출(의존)'!$AE$7:$AE$1840,'3. 일출(의존)'!$AS$7:$AS$1840,$AN12)+SUMIFS('3. 일출(자체)'!$AE$7:$AE$1837,'3. 일출(자체)'!$AM$7:$AM$1837,$AN12),IF($AO12="지방채",SUMIFS('3. 일출(의존)'!$AD$7:$AD$1840,'3. 일출(의존)'!$AS$7:$AS$1840,$AN12)+SUMIFS('3. 일출(자체)'!$AD$7:$AD$1837,'3. 일출(자체)'!$AM$7:$AM$1837,$AN12),0))) | AW12: =IF($AN12="","", COUNTIF('3. 일출(의존)'!$AS$7:$AS$1840,$AN12)+COUNTIF('3. 일출(자체)'!$AM$7:$AM$1837,$AN12)) | AX12: =IF($AN12="","", IF($AO12="자체","", IF($AO12="지방채", IF($AC12=$AV12, "OK", "@@"), IF($AO12="지역개발기금", IF($AD12=$AV12,"OK","@@"), "@@")))) | AZ12: =IF($AK12="","", SUMIFS('3. 일출(의존)'!$AH$7:$AH$1829,'3. 일출(의존)'!$AN$7:$AN$1829,$AK12)) | BA12: =IF($AK12="","", COUNTIF('3. 일출(의존)'!$AN$7:$AN$1829,$AK12)) | BB12: =IF($AK12="", "", IF($AF12=$AZ12,"OK","@@")) | BC12: =IF($AN12="","",IF($AO12="지역개발기금",SUMIFS('3. 일출(의존)'!$AK$7:$AK$1840,'3. 일출(의존)'!$AS$7:$AS$1840,$AN12)+SUMIFS('3. 일출(자체)'!$AJ$7:$AJ$1837,'3. 일출(자체)'!$AM$7:$AM$1837,$AN12),IF($AO12="지방채",SUMIFS('3. 일출(의존)'!$AJ$7:$AJ$1840,'3. 일출(의존)'!$AS$7:$AS$1840,$AN12)+SUMIFS('3. 일출(자체)'!$AI$7:$AI$1837,'3. 일출(자체)'!$AM$7:$AM$1837,$AN12),0))) | BD12: =IF($AN12="","",COUNTIF('3. 일출(의존)'!$AS$7:$AS$1840,$AN12)+COUNTIF('3. 일출(자체)'!$AM$7:$AM$1837,$AN12)) | BE12: =IF($AN12="","", IF($AO12="자체", "", IF($AO12="지방채", IF($AH12=$BC12, "OK", "@@"), IF($AO12="지역개발기금", IF($AI12=$BC12,"OK","@@"), "@@"))))
A13: =IF(D13="","",COUNTA($C$8:C13)-COUNTBLANK($C$8:C13)+11) | B13: =IF(D13="","",IF(OR(C13="직접입력",D13="북부지원"),"직접입력",IF(OR(AND(D13="인사과",C13="의회사무처"),AND(D13="총무과",C13="의회사무처")),"의회운영위원회",IF(OR(C13="직접입력",D13="북부지원"),"직접입력",IF(OR(AND(D13="인사과",C13="자치행정국"),AND(D13="총무과",C13="자치행정국")),"안전행정위원회",VLOOKUP(D13,구분표!$A$3:$C$258,2,)))))) | C13: =IF(D13="","",IF(OR(D13="교육지원과",D13="총무과",D13="인사과"),"직접입력",VLOOKUP(D13,구분표!$A$3:$C$258,3,))) | F13: =IF($E13="","",IF($E13="2추","직접입력","-")) | G13: =IF($E13="","",IF($E13="2추","직접입력","-")) | I13: =IF(H13="","",VLOOKUP($H13,구분표!$O$3:$P$168,2,FALSE)) | K13: =IF($E13="","",IF(OR($E13="2추", $E13="1추", $E13="본예산"), "금액입력", "-")) | L13: =IF($E13="", "", IF($E13="2추","금액입력", "-")) | M13: =IF($E13="","",SUM(K13:L13)) | O13: =SUM(M13:N13) -> 0 | Q13: =SUM(M13,P13) -> 0 | R13: =IF(AND((O13=0),(Q13>0)),"O",IF(AND((N13<0),(O13-Q13<0)),"O","X")) -> X | Y13: =IF($H13="","",IF(OR($H13="511-01", $H13="511-02", $H13="511-03", $H13="311-02", $H13="311-04", $H13="321-01"),"국비","도비")) | AA13: =IF($Y13="국비", IF($N13<>"", $N13, 0), "") | AB13: =IF($Y13="도비", IF($AO13="자체", IF($N13<>"",$N13,0),""), "") | AC13: =IF($Y13="도비",IF($AO13="지방채",IF($N13<>"",$N13,0),""), "") | AD13: =IF($Y13="도비",IF($AO13="지역개발기금",IF($N13<>"",$N13,0),""),"") | AF13: =IF($Y13="국비", IF($P13<>"", $P13, 0), "") | AG13: =IF($Y13="도비", IF($AO13="자체", IF($P13<>"",$P13,0),""), "") | AH13: =IF($Y13="도비",IF($AO13="지방채",IF($P13<>"",$P13,0),""), "") | AI13: =IF($Y13="도비",IF($AO13="지역개발기금",IF($P13<>"",$P13,0),""),"") | AK13: =IF($AQ13="","", IF(OR($AL13="", $AL13="도비"), "", CONCATENATE($AQ13,"-",COUNTIF($AQ$8:$AQ13,$AQ13)))) | AL13: =IF($H13="","",IF($H13="511-01","국비",IF($H13="511-02","균특",IF($H13="511-03","기금",IF($H13="311-02","특교",IF($H13="311-04","소교",IF($H13="321-01","소멸","도비"))))))) | AN13: =IF($AQ13="","", IF(OR($AO13="", $AO13="국비", $AO13="자체"), "", CONCATENATE($AQ13,"-", $AO13,"-",COUNTIF($AQ$8:$AQ13, $AQ13)))) | AO13: =IF($Y13="","", IF($Y13="국비", "국비", IF($H13="612-01","지방채",IF($H13="722-02","지역개발기금","자체")))) | AQ13: {=IF(OR($D13="", $C13="직접입력", $B13="직접입력"),"",INDEX(구분표!$I$2:$I$337, MATCH(1,(구분표!$G$2:$G$337='3. 일입'!$B13)*(구분표!$E$2:$E$337='3. 일입'!$C13)*(구분표!$F$2:$F$337='3. 일입'!$D13),0)))} | AS13: =IF($AK13="","", SUMIFS('3. 일출(의존)'!$AB$7:$AB$1829,'3. 일출(의존)'!$AN$7:$AN$1829,$AK13)) | AT13: =IF($AK13="","", COUNTIF('3. 일출(의존)'!$AN$7:$AN$1829,$AK13)) | AU13: =IF($AK13="", "", IF($AA13=$AS13,"OK","@@")) | AV13: =IF($AN13="","",IF($AO13="지역개발기금",SUMIFS('3. 일출(의존)'!$AE$7:$AE$1840,'3. 일출(의존)'!$AS$7:$AS$1840,$AN13)+SUMIFS('3. 일출(자체)'!$AE$7:$AE$1837,'3. 일출(자체)'!$AM$7:$AM$1837,$AN13),IF($AO13="지방채",SUMIFS('3. 일출(의존)'!$AD$7:$AD$1840,'3. 일출(의존)'!$AS$7:$AS$1840,$AN13)+SUMIFS('3. 일출(자체)'!$AD$7:$AD$1837,'3. 일출(자체)'!$AM$7:$AM$1837,$AN13),0))) | AW13: =IF($AN13="","", COUNTIF('3. 일출(의존)'!$AS$7:$AS$1840,$AN13)+COUNTIF('3. 일출(자체)'!$AM$7:$AM$1837,$AN13)) | AX13: =IF($AN13="","", IF($AO13="자체","", IF($AO13="지방채", IF($AC13=$AV13, "OK", "@@"), IF($AO13="지역개발기금", IF($AD13=$AV13,"OK","@@"), "@@")))) | AZ13: =IF($AK13="","", SUMIFS('3. 일출(의존)'!$AH$7:$AH$1829,'3. 일출(의존)'!$AN$7:$AN$1829,$AK13)) | BA13: =IF($AK13="","", COUNTIF('3. 일출(의존)'!$AN$7:$AN$1829,$AK13)) | BB13: =IF($AK13="", "", IF($AF13=$AZ13,"OK","@@")) | BC13: =IF($AN13="","",IF($AO13="지역개발기금",SUMIFS('3. 일출(의존)'!$AK$7:$AK$1840,'3. 일출(의존)'!$AS$7:$AS$1840,$AN13)+SUMIFS('3. 일출(자체)'!$AJ$7:$AJ$1837,'3. 일출(자체)'!$AM$7:$AM$1837,$AN13),IF($AO13="지방채",SUMIFS('3. 일출(의존)'!$AJ$7:$AJ$1840,'3. 일출(의존)'!$AS$7:$AS$1840,$AN13)+SUMIFS('3. 일출(자체)'!$AI$7:$AI$1837,'3. 일출(자체)'!$AM$7:$AM$1837,$AN13),0))) | BD13: =IF($AN13="","",COUNTIF('3. 일출(의존)'!$AS$7:$AS$1840,$AN13)+COUNTIF('3. 일출(자체)'!$AM$7:$AM$1837,$AN13)) | BE13: =IF($AN13="","", IF($AO13="자체", "", IF($AO13="지방채", IF($AH13=$BC13, "OK", "@@"), IF($AO13="지역개발기금", IF($AI13=$BC13,"OK","@@"), "@@"))))
A14: =IF(D14="","",COUNTA($C$8:C14)-COUNTBLANK($C$8:C14)+11) | B14: =IF(D14="","",IF(OR(C14="직접입력",D14="북부지원"),"직접입력",IF(OR(AND(D14="인사과",C14="의회사무처"),AND(D14="총무과",C14="의회사무처")),"의회운영위원회",IF(OR(C14="직접입력",D14="북부지원"),"직접입력",IF(OR(AND(D14="인사과",C14="자치행정국"),AND(D14="총무과",C14="자치행정국")),"안전행정위원회",VLOOKUP(D14,구분표!$A$3:$C$258,2,)))))) | C14: =IF(D14="","",IF(OR(D14="교육지원과",D14="총무과",D14="인사과"),"직접입력",VLOOKUP(D14,구분표!$A$3:$C$258,3,))) | F14: =IF($E14="","",IF($E14="2추","직접입력","-")) | G14: =IF($E14="","",IF($E14="2추","직접입력","-")) | I14: =IF(H14="","",VLOOKUP($H14,구분표!$O$3:$P$168,2,FALSE)) | K14: =IF($E14="","",IF(OR($E14="2추", $E14="1추", $E14="본예산"), "금액입력", "-")) | L14: =IF($E14="", "", IF($E14="2추","금액입력", "-")) | M14: =IF($E14="","",SUM(K14:L14)) | O14: =SUM(M14:N14) -> 0 | Q14: =SUM(M14,P14) -> 0 | R14: =IF(AND((O14=0),(Q14>0)),"O",IF(AND((N14<0),(O14-Q14<0)),"O","X")) -> X | Y14: =IF($H14="","",IF(OR($H14="511-01", $H14="511-02", $H14="511-03", $H14="311-02", $H14="311-04", $H14="321-01"),"국비","도비")) | AA14: =IF($Y14="국비", IF($N14<>"", $N14, 0), "") | AB14: =IF($Y14="도비", IF($AO14="자체", IF($N14<>"",$N14,0),""), "") | AC14: =IF($Y14="도비",IF($AO14="지방채",IF($N14<>"",$N14,0),""), "") | AD14: =IF($Y14="도비",IF($AO14="지역개발기금",IF($N14<>"",$N14,0),""),"") | AF14: =IF($Y14="국비", IF($P14<>"", $P14, 0), "") | AG14: =IF($Y14="도비", IF($AO14="자체", IF($P14<>"",$P14,0),""), "") | AH14: =IF($Y14="도비",IF($AO14="지방채",IF($P14<>"",$P14,0),""), "") | AI14: =IF($Y14="도비",IF($AO14="지역개발기금",IF($P14<>"",$P14,0),""),"") | AK14: =IF($AQ14="","", IF(OR($AL14="", $AL14="도비"), "", CONCATENATE($AQ14,"-",COUNTIF($AQ$8:$AQ14,$AQ14)))) | AL14: =IF($H14="","",IF($H14="511-01","국비",IF($H14="511-02","균특",IF($H14="511-03","기금",IF($H14="311-02","특교",IF($H14="311-04","소교",IF($H14="321-01","소멸","도비"))))))) | AN14: =IF($AQ14="","", IF(OR($AO14="", $AO14="국비", $AO14="자체"), "", CONCATENATE($AQ14,"-", $AO14,"-",COUNTIF($AQ$8:$AQ14, $AQ14)))) | AO14: =IF($Y14="","", IF($Y14="국비", "국비", IF($H14="612-01","지방채",IF($H14="722-02","지역개발기금","자체")))) | AQ14: {=IF(OR($D14="", $C14="직접입력", $B14="직접입력"),"",INDEX(구분표!$I$2:$I$337, MATCH(1,(구분표!$G$2:$G$337='3. 일입'!$B14)*(구분표!$E$2:$E$337='3. 일입'!$C14)*(구분표!$F$2:$F$337='3. 일입'!$D14),0)))} | AS14: =IF($AK14="","", SUMIFS('3. 일출(의존)'!$AB$7:$AB$1829,'3. 일출(의존)'!$AN$7:$AN$1829,$AK14)) | AT14: =IF($AK14="","", COUNTIF('3. 일출(의존)'!$AN$7:$AN$1829,$AK14)) | AU14: =IF($AK14="", "", IF($AA14=$AS14,"OK","@@")) | AV14: =IF($AN14="","",IF($AO14="지역개발기금",SUMIFS('3. 일출(의존)'!$AE$7:$AE$1840,'3. 일출(의존)'!$AS$7:$AS$1840,$AN14)+SUMIFS('3. 일출(자체)'!$AE$7:$AE$1837,'3. 일출(자체)'!$AM$7:$AM$1837,$AN14),IF($AO14="지방채",SUMIFS('3. 일출(의존)'!$AD$7:$AD$1840,'3. 일출(의존)'!$AS$7:$AS$1840,$AN14)+SUMIFS('3. 일출(자체)'!$AD$7:$AD$1837,'3. 일출(자체)'!$AM$7:$AM$1837,$AN14),0))) | AW14: =IF($AN14="","", COUNTIF('3. 일출(의존)'!$AS$7:$AS$1840,$AN14)+COUNTIF('3. 일출(자체)'!$AM$7:$AM$1837,$AN14)) | AX14: =IF($AN14="","", IF($AO14="자체","", IF($AO14="지방채", IF($AC14=$AV14, "OK", "@@"), IF($AO14="지역개발기금", IF($AD14=$AV14,"OK","@@"), "@@")))) | AZ14: =IF($AK14="","", SUMIFS('3. 일출(의존)'!$AH$7:$AH$1829,'3. 일출(의존)'!$AN$7:$AN$1829,$AK14)) | BA14: =IF($AK14="","", COUNTIF('3. 일출(의존)'!$AN$7:$AN$1829,$AK14)) | BB14: =IF($AK14="", "", IF($AF14=$AZ14,"OK","@@")) | BC14: =IF($AN14="","",IF($AO14="지역개발기금",SUMIFS('3. 일출(의존)'!$AK$7:$AK$1840,'3. 일출(의존)'!$AS$7:$AS$1840,$AN14)+SUMIFS('3. 일출(자체)'!$AJ$7:$AJ$1837,'3. 일출(자체)'!$AM$7:$AM$1837,$AN14),IF($AO14="지방채",SUMIFS('3. 일출(의존)'!$AJ$7:$AJ$1840,'3. 일출(의존)'!$AS$7:$AS$1840,$AN14)+SUMIFS('3. 일출(자체)'!$AI$7:$AI$1837,'3. 일출(자체)'!$AM$7:$AM$1837,$AN14),0))) | BD14: =IF($AN14="","",COUNTIF('3. 일출(의존)'!$AS$7:$AS$1840,$AN14)+COUNTIF('3. 일출(자체)'!$AM$7:$AM$1837,$AN14)) | BE14: =IF($AN14="","", IF($AO14="자체", "", IF($AO14="지방채", IF($AH14=$BC14, "OK", "@@"), IF($AO14="지역개발기금", IF($AI14=$BC14,"OK","@@"), "@@"))))
A15: =IF(D15="","",COUNTA($C$8:C15)-COUNTBLANK($C$8:C15)+11) | B15: =IF(D15="","",IF(OR(C15="직접입력",D15="북부지원"),"직접입력",IF(OR(AND(D15="인사과",C15="의회사무처"),AND(D15="총무과",C15="의회사무처")),"의회운영위원회",IF(OR(C15="직접입력",D15="북부지원"),"직접입력",IF(OR(AND(D15="인사과",C15="자치행정국"),AND(D15="총무과",C15="자치행정국")),"안전행정위원회",VLOOKUP(D15,구분표!$A$3:$C$258,2,)))))) | C15: =IF(D15="","",IF(OR(D15="교육지원과",D15="총무과",D15="인사과"),"직접입력",VLOOKUP(D15,구분표!$A$3:$C$258,3,))) | F15: =IF($E15="","",IF($E15="2추","직접입력","-")) | G15: =IF($E15="","",IF($E15="2추","직접입력","-")) | I15: =IF(H15="","",VLOOKUP($H15,구분표!$O$3:$P$168,2,FALSE)) | K15: =IF($E15="","",IF(OR($E15="2추", $E15="1추", $E15="본예산"), "금액입력", "-")) | L15: =IF($E15="", "", IF($E15="2추","금액입력", "-")) | M15: =IF($E15="","",SUM(K15:L15)) | O15: =SUM(M15:N15) -> 0 | Q15: =SUM(M15,P15) -> 0 | R15: =IF(AND((O15=0),(Q15>0)),"O",IF(AND((N15<0),(O15-Q15<0)),"O","X")) -> X | Y15: =IF($H15="","",IF(OR($H15="511-01", $H15="511-02", $H15="511-03", $H15="311-02", $H15="311-04", $H15="321-01"),"국비","도비")) | AA15: =IF($Y15="국비", IF($N15<>"", $N15, 0), "") | AB15: =IF($Y15="도비", IF($AO15="자체", IF($N15<>"",$N15,0),""), "") | AC15: =IF($Y15="도비",IF($AO15="지방채",IF($N15<>"",$N15,0),""), "") | AD15: =IF($Y15="도비",IF($AO15="지역개발기금",IF($N15<>"",$N15,0),""),"") | AF15: =IF($Y15="국비", IF($P15<>"", $P15, 0), "") | AG15: =IF($Y15="도비", IF($AO15="자체", IF($P15<>"",$P15,0),""), "") | AH15: =IF($Y15="도비",IF($AO15="지방채",IF($P15<>"",$P15,0),""), "") | AI15: =IF($Y15="도비",IF($AO15="지역개발기금",IF($P15<>"",$P15,0),""),"") | AK15: =IF($AQ15="","", IF(OR($AL15="", $AL15="도비"), "", CONCATENATE($AQ15,"-",COUNTIF($AQ$8:$AQ15,$AQ15)))) | AL15: =IF($H15="","",IF($H15="511-01","국비",IF($H15="511-02","균특",IF($H15="511-03","기금",IF($H15="311-02","특교",IF($H15="311-04","소교",IF($H15="321-01","소멸","도비"))))))) | AN15: =IF($AQ15="","", IF(OR($AO15="", $AO15="국비", $AO15="자체"), "", CONCATENATE($AQ15,"-", $AO15,"-",COUNTIF($AQ$8:$AQ15, $AQ15)))) | AO15: =IF($Y15="","", IF($Y15="국비", "국비", IF($H15="612-01","지방채",IF($H15="722-02","지역개발기금","자체")))) | AQ15: {=IF(OR($D15="", $C15="직접입력", $B15="직접입력"),"",INDEX(구분표!$I$2:$I$337, MATCH(1,(구분표!$G$2:$G$337='3. 일입'!$B15)*(구분표!$E$2:$E$337='3. 일입'!$C15)*(구분표!$F$2:$F$337='3. 일입'!$D15),0)))} | AS15: =IF($AK15="","", SUMIFS('3. 일출(의존)'!$AB$7:$AB$1829,'3. 일출(의존)'!$AN$7:$AN$1829,$AK15)) | AT15: =IF($AK15="","", COUNTIF('3. 일출(의존)'!$AN$7:$AN$1829,$AK15)) | AU15: =IF($AK15="", "", IF($AA15=$AS15,"OK","@@")) | AV15: =IF($AN15="","",IF($AO15="지역개발기금",SUMIFS('3. 일출(의존)'!$AE$7:$AE$1840,'3. 일출(의존)'!$AS$7:$AS$1840,$AN15)+SUMIFS('3. 일출(자체)'!$AE$7:$AE$1837,'3. 일출(자체)'!$AM$7:$AM$1837,$AN15),IF($AO15="지방채",SUMIFS('3. 일출(의존)'!$AD$7:$AD$1840,'3. 일출(의존)'!$AS$7:$AS$1840,$AN15)+SUMIFS('3. 일출(자체)'!$AD$7:$AD$1837,'3. 일출(자체)'!$AM$7:$AM$1837,$AN15),0))) | AW15: =IF($AN15="","", COUNTIF('3. 일출(의존)'!$AS$7:$AS$1840,$AN15)+COUNTIF('3. 일출(자체)'!$AM$7:$AM$1837,$AN15)) | AX15: =IF($AN15="","", IF($AO15="자체","", IF($AO15="지방채", IF($AC15=$AV15, "OK", "@@"), IF($AO15="지역개발기금", IF($AD15=$AV15,"OK","@@"), "@@")))) | AZ15: =IF($AK15="","", SUMIFS('3. 일출(의존)'!$AH$7:$AH$1829,'3. 일출(의존)'!$AN$7:$AN$1829,$AK15)) | BA15: =IF($AK15="","", COUNTIF('3. 일출(의존)'!$AN$7:$AN$1829,$AK15)) | BB15: =IF($AK15="", "", IF($AF15=$AZ15,"OK","@@")) | BC15: =IF($AN15="","",IF($AO15="지역개발기금",SUMIFS('3. 일출(의존)'!$AK$7:$AK$1840,'3. 일출(의존)'!$AS$7:$AS$1840,$AN15)+SUMIFS('3. 일출(자체)'!$AJ$7:$AJ$1837,'3. 일출(자체)'!$AM$7:$AM$1837,$AN15),IF($AO15="지방채",SUMIFS('3. 일출(의존)'!$AJ$7:$AJ$1840,'3. 일출(의존)'!$AS$7:$AS$1840,$AN15)+SUMIFS('3. 일출(자체)'!$AI$7:$AI$1837,'3. 일출(자체)'!$AM$7:$AM$1837,$AN15),0))) | BD15: =IF($AN15="","",COUNTIF('3. 일출(의존)'!$AS$7:$AS$1840,$AN15)+COUNTIF('3. 일출(자체)'!$AM$7:$AM$1837,$AN15)) | BE15: =IF($AN15="","", IF($AO15="자체", "", IF($AO15="지방채", IF($AH15=$BC15, "OK", "@@"), IF($AO15="지역개발기금", IF($AI15=$BC15,"OK","@@"), "@@"))))
A16: =IF(D16="","",COUNTA($C$8:C16)-COUNTBLANK($C$8:C16)+11) | B16: =IF(D16="","",IF(OR(C16="직접입력",D16="북부지원"),"직접입력",IF(OR(AND(D16="인사과",C16="의회사무처"),AND(D16="총무과",C16="의회사무처")),"의회운영위원회",IF(OR(C16="직접입력",D16="북부지원"),"직접입력",IF(OR(AND(D16="인사과",C16="자치행정국"),AND(D16="총무과",C16="자치행정국")),"안전행정위원회",VLOOKUP(D16,구분표!$A$3:$C$258,2,)))))) | C16: =IF(D16="","",IF(OR(D16="교육지원과",D16="총무과",D16="인사과"),"직접입력",VLOOKUP(D16,구분표!$A$3:$C$258,3,))) | F16: =IF($E16="","",IF($E16="2추","직접입력","-")) | G16: =IF($E16="","",IF($E16="2추","직접입력","-")) | I16: =IF(H16="","",VLOOKUP($H16,구분표!$O$3:$P$168,2,FALSE)) | K16: =IF($E16="","",IF(OR($E16="2추", $E16="1추", $E16="본예산"), "금액입력", "-")) | L16: =IF($E16="", "", IF($E16="2추","금액입력", "-")) | M16: =IF($E16="","",SUM(K16:L16)) | O16: =SUM(M16:N16) -> 0 | Q16: =SUM(M16,P16) -> 0 | R16: =IF(AND((O16=0),(Q16>0)),"O",IF(AND((N16<0),(O16-Q16<0)),"O","X")) -> X | Y16: =IF($H16="","",IF(OR($H16="511-01", $H16="511-02", $H16="511-03", $H16="311-02", $H16="311-04", $H16="321-01"),"국비","도비")) | AA16: =IF($Y16="국비", IF($N16<>"", $N16, 0), "") | AB16: =IF($Y16="도비", IF($AO16="자체", IF($N16<>"",$N16,0),""), "") | AC16: =IF($Y16="도비",IF($AO16="지방채",IF($N16<>"",$N16,0),""), "") | AD16: =IF($Y16="도비",IF($AO16="지역개발기금",IF($N16<>"",$N16,0),""),"") | AF16: =IF($Y16="국비", IF($P16<>"", $P16, 0), "") | AG16: =IF($Y16="도비", IF($AO16="자체", IF($P16<>"",$P16,0),""), "") | AH16: =IF($Y16="도비",IF($AO16="지방채",IF($P16<>"",$P16,0),""), "") | AI16: =IF($Y16="도비",IF($AO16="지역개발기금",IF($P16<>"",$P16,0),""),"") | AK16: =IF($AQ16="","", IF(OR($AL16="", $AL16="도비"), "", CONCATENATE($AQ16,"-",COUNTIF($AQ$8:$AQ16,$AQ16)))) | AL16: =IF($H16="","",IF($H16="511-01","국비",IF($H16="511-02","균특",IF($H16="511-03","기금",IF($H16="311-02","특교",IF($H16="311-04","소교",IF($H16="321-01","소멸","도비"))))))) | AN16: =IF($AQ16="","", IF(OR($AO16="", $AO16="국비", $AO16="자체"), "", CONCATENATE($AQ16,"-", $AO16,"-",COUNTIF($AQ$8:$AQ16, $AQ16)))) | AO16: =IF($Y16="","", IF($Y16="국비", "국비", IF($H16="612-01","지방채",IF($H16="722-02","지역개발기금","자체")))) | AQ16: {=IF(OR($D16="", $C16="직접입력", $B16="직접입력"),"",INDEX(구분표!$I$2:$I$337, MATCH(1,(구분표!$G$2:$G$337='3. 일입'!$B16)*(구분표!$E$2:$E$337='3. 일입'!$C16)*(구분표!$F$2:$F$337='3. 일입'!$D16),0)))} | AS16: =IF($AK16="","", SUMIFS('3. 일출(의존)'!$AB$7:$AB$1829,'3. 일출(의존)'!$AN$7:$AN$1829,$AK16)) | AT16: =IF($AK16="","", COUNTIF('3. 일출(의존)'!$AN$7:$AN$1829,$AK16)) | AU16: =IF($AK16="", "", IF($AA16=$AS16,"OK","@@")) | AV16: =IF($AN16="","",IF($AO16="지역개발기금",SUMIFS('3. 일출(의존)'!$AE$7:$AE$1840,'3. 일출(의존)'!$AS$7:$AS$1840,$AN16)+SUMIFS('3. 일출(자체)'!$AE$7:$AE$1837,'3. 일출(자체)'!$AM$7:$AM$1837,$AN16),IF($AO16="지방채",SUMIFS('3. 일출(의존)'!$AD$7:$AD$1840,'3. 일출(의존)'!$AS$7:$AS$1840,$AN16)+SUMIFS('3. 일출(자체)'!$AD$7:$AD$1837,'3. 일출(자체)'!$AM$7:$AM$1837,$AN16),0))) | AW16: =IF($AN16="","", COUNTIF('3. 일출(의존)'!$AS$7:$AS$1840,$AN16)+COUNTIF('3. 일출(자체)'!$AM$7:$AM$1837,$AN16)) | AX16: =IF($AN16="","", IF($AO16="자체","", IF($AO16="지방채", IF($AC16=$AV16, "OK", "@@"), IF($AO16="지역개발기금", IF($AD16=$AV16,"OK","@@"), "@@")))) | AZ16: =IF($AK16="","", SUMIFS('3. 일출(의존)'!$AH$7:$AH$1829,'3. 일출(의존)'!$AN$7:$AN$1829,$AK16)) | BA16: =IF($AK16="","", COUNTIF('3. 일출(의존)'!$AN$7:$AN$1829,$AK16)) | BB16: =IF($AK16="", "", IF($AF16=$AZ16,"OK","@@")) | BC16: =IF($AN16="","",IF($AO16="지역개발기금",SUMIFS('3. 일출(의존)'!$AK$7:$AK$1840,'3. 일출(의존)'!$AS$7:$AS$1840,$AN16)+SUMIFS('3. 일출(자체)'!$AJ$7:$AJ$1837,'3. 일출(자체)'!$AM$7:$AM$1837,$AN16),IF($AO16="지방채",SUMIFS('3. 일출(의존)'!$AJ$7:$AJ$1840,'3. 일출(의존)'!$AS$7:$AS$1840,$AN16)+SUMIFS('3. 일출(자체)'!$AI$7:$AI$1837,'3. 일출(자체)'!$AM$7:$AM$1837,$AN16),0))) | BD16: =IF($AN16="","",COUNTIF('3. 일출(의존)'!$AS$7:$AS$1840,$AN16)+COUNTIF('3. 일출(자체)'!$AM$7:$AM$1837,$AN16)) | BE16: =IF($AN16="","", IF($AO16="자체", "", IF($AO16="지방채", IF($AH16=$BC16, "OK", "@@"), IF($AO16="지역개발기금", IF($AI16=$BC16,"OK","@@"), "@@"))))
A17: =IF(D17="","",COUNTA($C$8:C17)-COUNTBLANK($C$8:C17)+11) | B17: =IF(D17="","",IF(OR(C17="직접입력",D17="북부지원"),"직접입력",IF(OR(AND(D17="인사과",C17="의회사무처"),AND(D17="총무과",C17="의회사무처")),"의회운영위원회",IF(OR(C17="직접입력",D17="북부지원"),"직접입력",IF(OR(AND(D17="인사과",C17="자치행정국"),AND(D17="총무과",C17="자치행정국")),"안전행정위원회",VLOOKUP(D17,구분표!$A$3:$C$258,2,)))))) | C17: =IF(D17="","",IF(OR(D17="교육지원과",D17="총무과",D17="인사과"),"직접입력",VLOOKUP(D17,구분표!$A$3:$C$258,3,))) | F17: =IF($E17="","",IF($E17="2추","직접입력","-")) | G17: =IF($E17="","",IF($E17="2추","직접입력","-")) | I17: =IF(H17="","",VLOOKUP($H17,구분표!$O$3:$P$168,2,FALSE)) | K17: =IF($E17="","",IF(OR($E17="2추", $E17="1추", $E17="본예산"), "금액입력", "-")) | L17: =IF($E17="", "", IF($E17="2추","금액입력", "-")) | M17: =IF($E17="","",SUM(K17:L17)) | O17: =SUM(M17:N17) -> 0 | Q17: =SUM(M17,P17) -> 0 | R17: =IF(AND((O17=0),(Q17>0)),"O",IF(AND((N17<0),(O17-Q17<0)),"O","X")) -> X | Y17: =IF($H17="","",IF(OR($H17="511-01", $H17="511-02", $H17="511-03", $H17="311-02", $H17="311-04", $H17="321-01"),"국비","도비")) | AA17: =IF($Y17="국비", IF($N17<>"", $N17, 0), "") | AB17: =IF($Y17="도비", IF($AO17="자체", IF($N17<>"",$N17,0),""), "") | AC17: =IF($Y17="도비",IF($AO17="지방채",IF($N17<>"",$N17,0),""), "") | AD17: =IF($Y17="도비",IF($AO17="지역개발기금",IF($N17<>"",$N17,0),""),"") | AF17: =IF($Y17="국비", IF($P17<>"", $P17, 0), "") | AG17: =IF($Y17="도비", IF($AO17="자체", IF($P17<>"",$P17,0),""), "") | AH17: =IF($Y17="도비",IF($AO17="지방채",IF($P17<>"",$P17,0),""), "") | AI17: =IF($Y17="도비",IF($AO17="지역개발기금",IF($P17<>"",$P17,0),""),"") | AK17: =IF($AQ17="","", IF(OR($AL17="", $AL17="도비"), "", CONCATENATE($AQ17,"-",COUNTIF($AQ$8:$AQ17,$AQ17)))) | AL17: =IF($H17="","",IF($H17="511-01","국비",IF($H17="511-02","균특",IF($H17="511-03","기금",IF($H17="311-02","특교",IF($H17="311-04","소교",IF($H17="321-01","소멸","도비"))))))) | AN17: =IF($AQ17="","", IF(OR($AO17="", $AO17="국비", $AO17="자체"), "", CONCATENATE($AQ17,"-", $AO17,"-",COUNTIF($AQ$8:$AQ17, $AQ17)))) | AO17: =IF($Y17="","", IF($Y17="국비", "국비", IF($H17="612-01","지방채",IF($H17="722-02","지역개발기금","자체")))) | AQ17: {=IF(OR($D17="", $C17="직접입력", $B17="직접입력"),"",INDEX(구분표!$I$2:$I$337, MATCH(1,(구분표!$G$2:$G$337='3. 일입'!$B17)*(구분표!$E$2:$E$337='3. 일입'!$C17)*(구분표!$F$2:$F$337='3. 일입'!$D17),0)))} | AS17: =IF($AK17="","", SUMIFS('3. 일출(의존)'!$AB$7:$AB$1829,'3. 일출(의존)'!$AN$7:$AN$1829,$AK17)) | AT17: =IF($AK17="","", COUNTIF('3. 일출(의존)'!$AN$7:$AN$1829,$AK17)) | AU17: =IF($AK17="", "", IF($AA17=$AS17,"OK","@@")) | AV17: =IF($AN17="","",IF($AO17="지역개발기금",SUMIFS('3. 일출(의존)'!$AE$7:$AE$1840,'3. 일출(의존)'!$AS$7:$AS$1840,$AN17)+SUMIFS('3. 일출(자체)'!$AE$7:$AE$1837,'3. 일출(자체)'!$AM$7:$AM$1837,$AN17),IF($AO17="지방채",SUMIFS('3. 일출(의존)'!$AD$7:$AD$1840,'3. 일출(의존)'!$AS$7:$AS$1840,$AN17)+SUMIFS('3. 일출(자체)'!$AD$7:$AD$1837,'3. 일출(자체)'!$AM$7:$AM$1837,$AN17),0))) | AW17: =IF($AN17="","", COUNTIF('3. 일출(의존)'!$AS$7:$AS$1840,$AN17)+COUNTIF('3. 일출(자체)'!$AM$7:$AM$1837,$AN17)) | AX17: =IF($AN17="","", IF($AO17="자체","", IF($AO17="지방채", IF($AC17=$AV17, "OK", "@@"), IF($AO17="지역개발기금", IF($AD17=$AV17,"OK","@@"), "@@")))) | AZ17: =IF($AK17="","", SUMIFS('3. 일출(의존)'!$AH$7:$AH$1829,'3. 일출(의존)'!$AN$7:$AN$1829,$AK17)) | BA17: =IF($AK17="","", COUNTIF('3. 일출(의존)'!$AN$7:$AN$1829,$AK17)) | BB17: =IF($AK17="", "", IF($AF17=$AZ17,"OK","@@")) | BC17: =IF($AN17="","",IF($AO17="지역개발기금",SUMIFS('3. 일출(의존)'!$AK$7:$AK$1840,'3. 일출(의존)'!$AS$7:$AS$1840,$AN17)+SUMIFS('3. 일출(자체)'!$AJ$7:$AJ$1837,'3. 일출(자체)'!$AM$7:$AM$1837,$AN17),IF($AO17="지방채",SUMIFS('3. 일출(의존)'!$AJ$7:$AJ$1840,'3. 일출(의존)'!$AS$7:$AS$1840,$AN17)+SUMIFS('3. 일출(자체)'!$AI$7:$AI$1837,'3. 일출(자체)'!$AM$7:$AM$1837,$AN17),0))) | BD17: =IF($AN17="","",COUNTIF('3. 일출(의존)'!$AS$7:$AS$1840,$AN17)+COUNTIF('3. 일출(자체)'!$AM$7:$AM$1837,$AN17)) | BE17: =IF($AN17="","", IF($AO17="자체", "", IF($AO17="지방채", IF($AH17=$BC17, "OK", "@@"), IF($AO17="지역개발기금", IF($AI17=$BC17,"OK","@@"), "@@"))))
A18: =IF(D18="","",COUNTA($C$8:C18)-COUNTBLANK($C$8:C18)+11) | B18: =IF(D18="","",IF(OR(C18="직접입력",D18="북부지원"),"직접입력",IF(OR(AND(D18="인사과",C18="의회사무처"),AND(D18="총무과",C18="의회사무처")),"의회운영위원회",IF(OR(C18="직접입력",D18="북부지원"),"직접입력",IF(OR(AND(D18="인사과",C18="자치행정국"),AND(D18="총무과",C18="자치행정국")),"안전행정위원회",VLOOKUP(D18,구분표!$A$3:$C$258,2,)))))) | C18: =IF(D18="","",IF(OR(D18="교육지원과",D18="총무과",D18="인사과"),"직접입력",VLOOKUP(D18,구분표!$A$3:$C$258,3,))) | F18: =IF($E18="","",IF($E18="2추","직접입력","-")) | G18: =IF($E18="","",IF($E18="2추","직접입력","-")) | I18: =IF(H18="","",VLOOKUP($H18,구분표!$O$3:$P$168,2,FALSE)) | K18: =IF($E18="","",IF(OR($E18="2추", $E18="1추", $E18="본예산"), "금액입력", "-")) | L18: =IF($E18="", "", IF($E18="2추","금액입력", "-")) | M18: =IF($E18="","",SUM(K18:L18)) | O18: =SUM(M18:N18) -> 0 | Q18: =SUM(M18,P18) -> 0 | R18: =IF(AND((O18=0),(Q18>0)),"O",IF(AND((N18<0),(O18-Q18<0)),"O","X")) -> X | Y18: =IF($H18="","",IF(OR($H18="511-01", $H18="511-02", $H18="511-03", $H18="311-02", $H18="311-04", $H18="321-01"),"국비","도비")) | AA18: =IF($Y18="국비", IF($N18<>"", $N18, 0), "") | AB18: =IF($Y18="도비", IF($AO18="자체", IF($N18<>"",$N18,0),""), "") | AC18: =IF($Y18="도비",IF($AO18="지방채",IF($N18<>"",$N18,0),""), "") | AD18: =IF($Y18="도비",IF($AO18="지역개발기금",IF($N18<>"",$N18,0),""),"") | AF18: =IF($Y18="국비", IF($P18<>"", $P18, 0), "") | AG18: =IF($Y18="도비", IF($AO18="자체", IF($P18<>"",$P18,0),""), "") | AH18: =IF($Y18="도비",IF($AO18="지방채",IF($P18<>"",$P18,0),""), "") | AI18: =IF($Y18="도비",IF($AO18="지역개발기금",IF($P18<>"",$P18,0),""),"") | AK18: =IF($AQ18="","", IF(OR($AL18="", $AL18="도비"), "", CONCATENATE($AQ18,"-",COUNTIF($AQ$8:$AQ18,$AQ18)))) | AL18: =IF($H18="","",IF($H18="511-01","국비",IF($H18="511-02","균특",IF($H18="511-03","기금",IF($H18="311-02","특교",IF($H18="311-04","소교",IF($H18="321-01","소멸","도비"))))))) | AN18: =IF($AQ18="","", IF(OR($AO18="", $AO18="국비", $AO18="자체"), "", CONCATENATE($AQ18,"-", $AO18,"-",COUNTIF($AQ$8:$AQ18, $AQ18)))) | AO18: =IF($Y18="","", IF($Y18="국비", "국비", IF($H18="612-01","지방채",IF($H18="722-02","지역개발기금","자체")))) | AQ18: {=IF(OR($D18="", $C18="직접입력", $B18="직접입력"),"",INDEX(구분표!$I$2:$I$337, MATCH(1,(구분표!$G$2:$G$337='3. 일입'!$B18)*(구분표!$E$2:$E$337='3. 일입'!$C18)*(구분표!$F$2:$F$337='3. 일입'!$D18),0)))} | AS18: =IF($AK18="","", SUMIFS('3. 일출(의존)'!$AB$7:$AB$1829,'3. 일출(의존)'!$AN$7:$AN$1829,$AK18)) | AT18: =IF($AK18="","", COUNTIF('3. 일출(의존)'!$AN$7:$AN$1829,$AK18)) | AU18: =IF($AK18="", "", IF($AA18=$AS18,"OK","@@")) | AV18: =IF($AN18="","",IF($AO18="지역개발기금",SUMIFS('3. 일출(의존)'!$AE$7:$AE$1840,'3. 일출(의존)'!$AS$7:$AS$1840,$AN18)+SUMIFS('3. 일출(자체)'!$AE$7:$AE$1837,'3. 일출(자체)'!$AM$7:$AM$1837,$AN18),IF($AO18="지방채",SUMIFS('3. 일출(의존)'!$AD$7:$AD$1840,'3. 일출(의존)'!$AS$7:$AS$1840,$AN18)+SUMIFS('3. 일출(자체)'!$AD$7:$AD$1837,'3. 일출(자체)'!$AM$7:$AM$1837,$AN18),0))) | AW18: =IF($AN18="","", COUNTIF('3. 일출(의존)'!$AS$7:$AS$1840,$AN18)+COUNTIF('3. 일출(자체)'!$AM$7:$AM$1837,$AN18)) | AX18: =IF($AN18="","", IF($AO18="자체","", IF($AO18="지방채", IF($AC18=$AV18, "OK", "@@"), IF($AO18="지역개발기금", IF($AD18=$AV18,"OK","@@"), "@@")))) | AZ18: =IF($AK18="","", SUMIFS('3. 일출(의존)'!$AH$7:$AH$1829,'3. 일출(의존)'!$AN$7:$AN$1829,$AK18)) | BA18: =IF($AK18="","", COUNTIF('3. 일출(의존)'!$AN$7:$AN$1829,$AK18)) | BB18: =IF($AK18="", "", IF($AF18=$AZ18,"OK","@@")) | BC18: =IF($AN18="","",IF($AO18="지역개발기금",SUMIFS('3. 일출(의존)'!$AK$7:$AK$1840,'3. 일출(의존)'!$AS$7:$AS$1840,$AN18)+SUMIFS('3. 일출(자체)'!$AJ$7:$AJ$1837,'3. 일출(자체)'!$AM$7:$AM$1837,$AN18),IF($AO18="지방채",SUMIFS('3. 일출(의존)'!$AJ$7:$AJ$1840,'3. 일출(의존)'!$AS$7:$AS$1840,$AN18)+SUMIFS('3. 일출(자체)'!$AI$7:$AI$1837,'3. 일출(자체)'!$AM$7:$AM$1837,$AN18),0))) | BD18: =IF($AN18="","",COUNTIF('3. 일출(의존)'!$AS$7:$AS$1840,$AN18)+COUNTIF('3. 일출(자체)'!$AM$7:$AM$1837,$AN18)) | BE18: =IF($AN18="","", IF($AO18="자체", "", IF($AO18="지방채", IF($AH18=$BC18, "OK", "@@"), IF($AO18="지역개발기금", IF($AI18=$BC18,"OK","@@"), "@@"))))
