Workbook

Sheet 1. 표지 (상임위)
U2: (단위 : 천원) | Z2: (단위 : 천원)
A4: 2026년도 경기도 제2회 추가경정예산안 및 기금운용계획 변경안
A5: 상임위 계수조정 결과
A15: 경기도의회 예산결산특별위원회

Sheet 1. 총괄표(상임위)
A2: 총괄 현황
A4: □ 위원회별 조정현황
I5: (단위 : 천원)
A6: 구 분 | B6: 집행부제출(안) | C6: 세입예산(안) | F6: 세출예산(안) | I6: 수정예산(안) | K6: ※ 예산안 증감현황
C7: 감 액 | D7: 증 액 | E7: 증감액 | F7: 감 액 | G7: 증 액 | H7: 증감액 | K7: 구 분 | L7: 세입 | M7: 세출 | N7: 예비비 | O7: 비고
A8: 계 | B8: =SUM(B9:B19) -> 42242001864 | C8: =SUM(C9:C19) -> 0 | D8: =SUM(D9:D19) -> 450250 | E8: =SUM(E9:E19) -> 450250 | F8: =SUM(F9:F19) -> 0 | G8: =SUM(G9:G19) -> 3588632 | H8: =SUM(H9:H19) -> 3588632 | I8: =SUM(I9:I19) -> 42245590496 | K8: 계 | L8: =SUM(L9:L10) -> 450250 | M8: =SUM(M9:M10) -> 3588632 | N8: =L8-M8 -> -3138382
A9: 의회운영위원회 | B9: =B33 -> 129702008 | C9: =SUMIFS('3. 일입'!$N$7:$N$1831,'3. 일입'!$B$7:$B$1831, $A9, '3. 일입'!$N$7:$N$1831, "<"&0)+SUMIFS('4. 특입'!$N$6:$N$1994,'4. 특입'!$B$6:$B$1994,$A9, '4. 특입'!$N$6:$N$1994, "<"&0)+SUMIFS('4-1. 공특입'!$O$6:$O$1992,'4-1. 공특입'!$B$6:$B$1992,$A9, '4-1. 공특입'!$O$6:$O$1992, "<"&0) -> 0 | D9: =SUMIFS('3. 일입'!$N$7:$N$1831,'3. 일입'!$B$7:$B$1831, $A9, '3. 일입'!$N$7:$N$1831, ">"&0)+SUMIFS('4. 특입'!$N$6:$N$1994,'4. 특입'!$B$6:$B$1994,$A9, '4. 특입'!$N$6:$N$1994, ">"&0)+SUMIFS('4-1. 공특입'!$O$6:$O$1992,'4-1. 공특입'!$B$6:$B$1992,$A9, '4-1. 공특입'!$O$6:$O$1992, ">"&0) -> 0 | E9: =C9+D9 -> 0 | F9: =SUMIFS('3. 일출(자체)'!$P$6:$P$1826,'3. 일출(자체)'!$B$6:$B$1826, $A9, '3. 일출(자체)'!$P$6:$P$1826, "<"&0)+SUMIFS('3. 일출(의존)'!$P$6:P$1829,'3. 일출(의존)'!$B$6:$B$1829, $A9, '3. 일출(의존)'!$P$6:$P$1829, "<"&0)+SUMIFS('4. 특출'!$P$5:$P$1991,'4. 특출'!$B$5:$B$1991, $A9, '4. 특출'!$P$5:$P$1991, "<"&0)+SUMIFS('4-1. 공특출'!$P$5:$P$1992,'4-1. 공특출'!$B$5:$B$1992, $A9, '4-1. 공특출'!$P$5:$P$1992, "<"&0) -> 0 | G9: =SUMIFS('3. 일출(자체)'!$P$6:$P$1826,'3. 일출(자체)'!$B$6:$B$1826, $A9, '3. 일출(자체)'!$P$6:$P$1826, ">"&0)+SUMIFS('3. 일출(의존)'!$P$6:$P$1829,'3. 일출(의존)'!$B$6:$B$1829, $A9, '3. 일출(의존)'!$P$6:$P$1829, ">"&0)+SUMIFS('4. 특출'!$P$5:$P$1991,'4. 특출'!$B$5:$B$1991, $A9, '4. 특출'!$P$5:$P$1991, ">"&0)+SUMIFS('4-1. 공특출'!$P$5:$P$1992,'4-1. 공특출'!$B$5:$B$1992, $A9, '4-1. 공특출'!$P$5:$P$1992, ">"&0) -> 0 | H9: =G9+F9 -> 0 | I9: =B9+F9+G9 -> 129702008 | K9: 일반회계 | L9: =SUM(C26:D26) -> 450250 | M9: =SUM(F26:G26) -> 3588632 | N9: =L9-M9 -> -3138382 | O9: 예비비 증감 - 감액, + 증액에 입력
A10: 기획재정위원회 | B10: =B34 -> 5932148107 | C10: =SUMIFS('3. 일입'!$N$7:$N$1831,'3. 일입'!$B$7:$B$1831, $A10, '3. 일입'!$N$7:$N$1831, "<"&0)+SUMIFS('4. 특입'!$N$6:$N$1994,'4. 특입'!$B$6:$B$1994,$A10, '4. 특입'!$N$6:$N$1994, "<"&0)+SUMIFS('4-1. 공특입'!$O$6:$O$1992,'4-1. 공특입'!$B$6:$B$1992,$A10, '4-1. 공특입'!$O$6:$O$1992, "<"&0) -> 0 | D10: =SUMIFS('3. 일입'!$N$7:$N$1831,'3. 일입'!$B$7:$B$1831, $A10, '3. 일입'!$N$7:$N$1831, ">"&0)+SUMIFS('4. 특입'!$N$6:$N$1994,'4. 특입'!$B$6:$B$1994,$A10, '4. 특입'!$N$6:$N$1994, ">"&0)+SUMIFS('4-1. 공특입'!$O$6:$O$1992,'4-1. 공특입'!$B$6:$B$1992,$A10, '4-1. 공특입'!$O$6:$O$1992, ">"&0) -> 0 | E10: =C10+D10 -> 0 | F10: =SUMIFS('3. 일출(자체)'!$P$6:$P$1826,'3. 일출(자체)'!$B$6:$B$1826, $A10, '3. 일출(자체)'!$P$6:$P$1826, "<"&0)+SUMIFS('3. 일출(의존)'!$P$6:P$1829,'3. 일출(의존)'!$B$6:$B$1829, $A10, '3. 일출(의존)'!$P$6:$P$1829, "<"&0)+SUMIFS('4. 특출'!$P$5:$P$1991,'4. 특출'!$B$5:$B$1991, $A10, '4. 특출'!$P$5:$P$1991, "<"&0)+SUMIFS('4-1. 공특출'!$P$5:$P$1992,'4-1. 공특출'!$B$5:$B$1992, $A10, '4-1. 공특출'!$P$5:$P$1992, "<"&0) -> 0 | G10: =SUMIFS('3. 일출(자체)'!$P$6:$P$1826,'3. 일출(자체)'!$B$6:$B$1826, $A10, '3. 일출(자체)'!$P$6:$P$1826, ">"&0)+SUMIFS('3. 일출(의존)'!$P$6:$P$1829,'3. 일출(의존)'!$B$6:$B$1829, $A10, '3. 일출(의존)'!$P$6:$P$1829, ">"&0)+SUMIFS('4. 특출'!$P$5:$P$1991,'4. 특출'!$B$5:$B$1991, $A10, '4. 특출'!$P$5:$P$1991, ">"&0)+SUMIFS('4-1. 공특출'!$P$5:$P$1992,'4-1. 공특출'!$B$5:$B$1992, $A10, '4-1. 공특출'!$P$5:$P$1992, ">"&0) -> 0 | H10: =G10+F10 -> 0 | I10: =B10+F10+G10 -> 5932148107 | K10: 특별회계 | L10: =SUM(C27:D27) -> 0 | M10: =SUM(F27:G27) -> 0 | N10: =L10-M10 -> 0
A11: 경제노동위원회 | B11: =B35 -> 474872242 | C11: =SUMIFS('3. 일입'!$N$7:$N$1831,'3. 일입'!$B$7:$B$1831, $A11, '3. 일입'!$N$7:$N$1831, "<"&0)+SUMIFS('4. 특입'!$N$6:$N$1994,'4. 특입'!$B$6:$B$1994,$A11, '4. 특입'!$N$6:$N$1994, "<"&0)+SUMIFS('4-1. 공특입'!$O$6:$O$1992,'4-1. 공특입'!$B$6:$B$1992,$A11, '4-1. 공특입'!$O$6:$O$1992, "<"&0) -> 0 | D11: =SUMIFS('3. 일입'!$N$7:$N$1831,'3. 일입'!$B$7:$B$1831, $A11, '3. 일입'!$N$7:$N$1831, ">"&0)+SUMIFS('4. 특입'!$N$6:$N$1994,'4. 특입'!$B$6:$B$1994,$A11, '4. 특입'!$N$6:$N$1994, ">"&0)+SUMIFS('4-1. 공특입'!$O$6:$O$1992,'4-1. 공특입'!$B$6:$B$1992,$A11, '4-1. 공특입'!$O$6:$O$1992, ">"&0) -> 0 | E11: =C11+D11 -> 0 | F11: =SUMIFS('3. 일출(자체)'!$P$6:$P$1826,'3. 일출(자체)'!$B$6:$B$1826, $A11, '3. 일출(자체)'!$P$6:$P$1826, "<"&0)+SUMIFS('3. 일출(의존)'!$P$6:P$1829,'3. 일출(의존)'!$B$6:$B$1829, $A11, '3. 일출(의존)'!$P$6:$P$1829, "<"&0)+SUMIFS('4. 특출'!$P$5:$P$1991,'4. 특출'!$B$5:$B$1991, $A11, '4. 특출'!$P$5:$P$1991, "<"&0)+SUMIFS('4-1. 공특출'!$P$5:$P$1992,'4-1. 공특출'!$B$5:$B$1992, $A11, '4-1. 공특출'!$P$5:$P$1992, "<"&0) -> 0 | G11: =SUMIFS('3. 일출(자체)'!$P$6:$P$1826,'3. 일출(자체)'!$B$6:$B$1826, $A11, '3. 일출(자체)'!$P$6:$P$1826, ">"&0)+SUMIFS('3. 일출(의존)'!$P$6:$P$1829,'3. 일출(의존)'!$B$6:$B$1829, $A11, '3. 일출(의존)'!$P$6:$P$1829, ">"&0)+SUMIFS('4. 특출'!$P$5:$P$1991,'4. 특출'!$B$5:$B$1991, $A11, '4. 특출'!$P$5:$P$1991, ">"&0)+SUMIFS('4-1. 공특출'!$P$5:$P$1992,'4-1. 공특출'!$B$5:$B$1992, $A11, '4-1. 공특출'!$P$5:$P$1992, ">"&0) -> 0 | H11: =G11+F11 -> 0 | I11: =B11+F11+G11 -> 474872242 | O11: (예비비 계수 조정용)
A12: 안전행정위원회 | B12: =B36 -> 4269846310 | C12: =SUMIFS('3. 일입'!$N$7:$N$1831,'3. 일입'!$B$7:$B$1831, $A12, '3. 일입'!$N$7:$N$1831, "<"&0)+SUMIFS('4. 특입'!$N$6:$N$1994,'4. 특입'!$B$6:$B$1994,$A12, '4. 특입'!$N$6:$N$1994, "<"&0)+SUMIFS('4-1. 공특입'!$O$6:$O$1992,'4-1. 공특입'!$B$6:$B$1992,$A12, '4-1. 공특입'!$O$6:$O$1992, "<"&0) -> 0 | D12: =SUMIFS('3. 일입'!$N$7:$N$1831,'3. 일입'!$B$7:$B$1831, $A12, '3. 일입'!$N$7:$N$1831, ">"&0)+SUMIFS('4. 특입'!$N$6:$N$1994,'4. 특입'!$B$6:$B$1994,$A12, '4. 특입'!$N$6:$N$1994, ">"&0)+SUMIFS('4-1. 공특입'!$O$6:$O$1992,'4-1. 공특입'!$B$6:$B$1992,$A12, '4-1. 공특입'!$O$6:$O$1992, ">"&0) -> 0 | E12: =C12+D12 -> 0 | F12: =SUMIFS('3. 일출(자체)'!$P$6:$P$1826,'3. 일출(자체)'!$B$6:$B$1826, $A12, '3. 일출(자체)'!$P$6:$P$1826, "<"&0)+SUMIFS('3. 일출(의존)'!$P$6:P$1829,'3. 일출(의존)'!$B$6:$B$1829, $A12, '3. 일출(의존)'!$P$6:$P$1829, "<"&0)+SUMIFS('4. 특출'!$P$5:$P$1991,'4. 특출'!$B$5:$B$1991, $A12, '4. 특출'!$P$5:$P$1991, "<"&0)+SUMIFS('4-1. 공특출'!$P$5:$P$1992,'4-1. 공특출'!$B$5:$B$1992, $A12, '4-1. 공특출'!$P$5:$P$1992, "<"&0) -> 0 | G12: =SUMIFS('3. 일출(자체)'!$P$6:$P$1826,'3. 일출(자체)'!$B$6:$B$1826, $A12, '3. 일출(자체)'!$P$6:$P$1826, ">"&0)+SUMIFS('3. 일출(의존)'!$P$6:$P$1829,'3. 일출(의존)'!$B$6:$B$1829, $A12, '3. 일출(의존)'!$P$6:$P$1829, ">"&0)+SUMIFS('4. 특출'!$P$5:$P$1991,'4. 특출'!$B$5:$B$1991, $A12, '4. 특출'!$P$5:$P$1991, ">"&0)+SUMIFS('4-1. 공특출'!$P$5:$P$1992,'4-1. 공특출'!$B$5:$B$1992, $A12, '4-1. 공특출'!$P$5:$P$1992, ">"&0) -> 0 | H12: =G12+F12 -> 0 | I12: =B12+F12+G12 -> 4269846310
A13: 문화체육관광위원회 | B13: =B37 -> 554871567 | C13: =SUMIFS('3. 일입'!$N$7:$N$1831,'3. 일입'!$B$7:$B$1831, $A13, '3. 일입'!$N$7:$N$1831, "<"&0)+SUMIFS('4. 특입'!$N$6:$N$1994,'4. 특입'!$B$6:$B$1994,$A13, '4. 특입'!$N$6:$N$1994, "<"&0)+SUMIFS('4-1. 공특입'!$O$6:$O$1992,'4-1. 공특입'!$B$6:$B$1992,$A13, '4-1. 공특입'!$O$6:$O$1992, "<"&0) -> 0 | D13: =SUMIFS('3. 일입'!$N$7:$N$1831,'3. 일입'!$B$7:$B$1831, $A13, '3. 일입'!$N$7:$N$1831, ">"&0)+SUMIFS('4. 특입'!$N$6:$N$1994,'4. 특입'!$B$6:$B$1994,$A13, '4. 특입'!$N$6:$N$1994, ">"&0)+SUMIFS('4-1. 공특입'!$O$6:$O$1992,'4-1. 공특입'!$B$6:$B$1992,$A13, '4-1. 공특입'!$O$6:$O$1992, ">"&0) -> 0 | E13: =C13+D13 -> 0 | F13: =SUMIFS('3. 일출(자체)'!$P$6:$P$1826,'3. 일출(자체)'!$B$6:$B$1826, $A13, '3. 일출(자체)'!$P$6:$P$1826, "<"&0)+SUMIFS('3. 일출(의존)'!$P$6:P$1829,'3. 일출(의존)'!$B$6:$B$1829, $A13, '3. 일출(의존)'!$P$6:$P$1829, "<"&0)+SUMIFS('4. 특출'!$P$5:$P$1991,'4. 특출'!$B$5:$B$1991, $A13, '4. 특출'!$P$5:$P$1991, "<"&0)+SUMIFS('4-1. 공특출'!$P$5:$P$1992,'4-1. 공특출'!$B$5:$B$1992, $A13, '4-1. 공특출'!$P$5:$P$1992, "<"&0) -> 0 | G13: =SUMIFS('3. 일출(자체)'!$P$6:$P$1826,'3. 일출(자체)'!$B$6:$B$1826, $A13, '3. 일출(자체)'!$P$6:$P$1826, ">"&0)+SUMIFS('3. 일출(의존)'!$P$6:$P$1829,'3. 일출(의존)'!$B$6:$B$1829, $A13, '3. 일출(의존)'!$P$6:$P$1829, ">"&0)+SUMIFS('4. 특출'!$P$5:$P$1991,'4. 특출'!$B$5:$B$1991, $A13, '4. 특출'!$P$5:$P$1991, ">"&0)+SUMIFS('4-1. 공특출'!$P$5:$P$1992,'4-1. 공특출'!$B$5:$B$1992, $A13, '4-1. 공특출'!$P$5:$P$1992, ">"&0) -> 0 | H13: =G13+F13 -> 0 | I13: =B13+F13+G13 -> 554871567
A14: 농정해양위원회 | B14: =B38 -> 1195877261 | C14: =SUMIFS('3. 일입'!$N$7:$N$1831,'3. 일입'!$B$7:$B$1831, $A14, '3. 일입'!$N$7:$N$1831, "<"&0)+SUMIFS('4. 특입'!$N$6:$N$1994,'4. 특입'!$B$6:$B$1994,$A14, '4. 특입'!$N$6:$N$1994, "<"&0)+SUMIFS('4-1. 공특입'!$O$6:$O$1992,'4-1. 공특입'!$B$6:$B$1992,$A14, '4-1. 공특입'!$O$6:$O$1992, "<"&0) -> 0 | D14: =SUMIFS('3. 일입'!$N$7:$N$1831,'3. 일입'!$B$7:$B$1831, $A14, '3. 일입'!$N$7:$N$1831, ">"&0)+SUMIFS('4. 특입'!$N$6:$N$1994,'4. 특입'!$B$6:$B$1994,$A14, '4. 특입'!$N$6:$N$1994, ">"&0)+SUMIFS('4-1. 공특입'!$O$6:$O$1992,'4-1. 공특입'!$B$6:$B$1992,$A14, '4-1. 공특입'!$O$6:$O$1992, ">"&0) -> 0 | E14: =C14+D14 -> 0 | F14: =SUMIFS('3. 일출(자체)'!$P$6:$P$1826,'3. 일출(자체)'!$B$6:$B$1826, $A14, '3. 일출(자체)'!$P$6:$P$1826, "<"&0)+SUMIFS('3. 일출(의존)'!$P$6:P$1829,'3. 일출(의존)'!$B$6:$B$1829, $A14, '3. 일출(의존)'!$P$6:$P$1829, "<"&0)+SUMIFS('4. 특출'!$P$5:$P$1991,'4. 특출'!$B$5:$B$1991, $A14, '4. 특출'!$P$5:$P$1991, "<"&0)+SUMIFS('4-1. 공특출'!$P$5:$P$1992,'4-1. 공특출'!$B$5:$B$1992, $A14, '4-1. 공특출'!$P$5:$P$1992, "<"&0) -> 0 | G14: =SUMIFS('3. 일출(자체)'!$P$6:$P$1826,'3. 일출(자체)'!$B$6:$B$1826, $A14, '3. 일출(자체)'!$P$6:$P$1826, ">"&0)+SUMIFS('3. 일출(의존)'!$P$6:$P$1829,'3. 일출(의존)'!$B$6:$B$1829, $A14, '3. 일출(의존)'!$P$6:$P$1829, ">"&0)+SUMIFS('4. 특출'!$P$5:$P$1991,'4. 특출'!$B$5:$B$1991, $A14, '4. 특출'!$P$5:$P$1991, ">"&0)+SUMIFS('4-1. 공특출'!$P$5:$P$1992,'4-1. 공특출'!$B$5:$B$1992, $A14, '4-1. 공특출'!$P$5:$P$1992, ">"&0) -> 0 | H14: =G14+F14 -> 0 | I14: =B14+F14+G14 -> 1195877261
A15: 보건복지위원회 | B15: =B39 -> 14042559485 | C15: =SUMIFS('3. 일입'!$N$7:$N$1831,'3. 일입'!$B$7:$B$1831, $A15, '3. 일입'!$N$7:$N$1831, "<"&0)+SUMIFS('4. 특입'!$N$6:$N$1994,'4. 특입'!$B$6:$B$1994,$A15, '4. 특입'!$N$6:$N$1994, "<"&0)+SUMIFS('4-1. 공특입'!$O$6:$O$1992,'4-1. 공특입'!$B$6:$B$1992,$A15, '4-1. 공특입'!$O$6:$O$1992, "<"&0) -> 0 | D15: =SUMIFS('3. 일입'!$N$7:$N$1831,'3. 일입'!$B$7:$B$1831, $A15, '3. 일입'!$N$7:$N$1831, ">"&0)+SUMIFS('4. 특입'!$N$6:$N$1994,'4. 특입'!$B$6:$B$1994,$A15, '4. 특입'!$N$6:$N$1994, ">"&0)+SUMIFS('4-1. 공특입'!$O$6:$O$1992,'4-1. 공특입'!$B$6:$B$1992,$A15, '4-1. 공특입'!$O$6:$O$1992, ">"&0) -> 0 | E15: =C15+D15 -> 0 | F15: =SUMIFS('3. 일출(자체)'!$P$6:$P$1826,'3. 일출(자체)'!$B$6:$B$1826, $A15, '3. 일출(자체)'!$P$6:$P$1826, "<"&0)+SUMIFS('3. 일출(의존)'!$P$6:P$1829,'3. 일출(의존)'!$B$6:$B$1829, $A15, '3. 일출(의존)'!$P$6:$P$1829, "<"&0)+SUMIFS('4. 특출'!$P$5:$P$1991,'4. 특출'!$B$5:$B$1991, $A15, '4. 특출'!$P$5:$P$1991, "<"&0)+SUMIFS('4-1. 공특출'!$P$5:$P$1992,'4-1. 공특출'!$B$5:$B$1992, $A15, '4-1. 공특출'!$P$5:$P$1992, "<"&0) -> 0 | G15: =SUMIFS('3. 일출(자체)'!$P$6:$P$1826,'3. 일출(자체)'!$B$6:$B$1826, $A15, '3. 일출(자체)'!$P$6:$P$1826, ">"&0)+SUMIFS('3. 일출(의존)'!$P$6:$P$1829,'3. 일출(의존)'!$B$6:$B$1829, $A15, '3. 일출(의존)'!$P$6:$P$1829, ">"&0)+SUMIFS('4. 특출'!$P$5:$P$1991,'4. 특출'!$B$5:$B$1991, $A15, '4. 특출'!$P$5:$P$1991, ">"&0)+SUMIFS('4-1. 공특출'!$P$5:$P$1992,'4-1. 공특출'!$B$5:$B$1992, $A15, '4-1. 공특출'!$P$5:$P$1992, ">"&0) -> 0 | H15: =G15+F15 -> 0 | I15: =B15+F15+G15 -> 14042559485
A16: 건설교통위원회 | B16: =B40 -> 3029412433 | C16: =SUMIFS('3. 일입'!$N$7:$N$1831,'3. 일입'!$B$7:$B$1831, $A16, '3. 일입'!$N$7:$N$1831, "<"&0)+SUMIFS('4. 특입'!$N$6:$N$1994,'4. 특입'!$B$6:$B$1994,$A16, '4. 특입'!$N$6:$N$1994, "<"&0)+SUMIFS('4-1. 공특입'!$O$6:$O$1992,'4-1. 공특입'!$B$6:$B$1992,$A16, '4-1. 공특입'!$O$6:$O$1992, "<"&0) -> 0 | D16: =SUMIFS('3. 일입'!$N$7:$N$1831,'3. 일입'!$B$7:$B$1831, $A16, '3. 일입'!$N$7:$N$1831, ">"&0)+SUMIFS('4. 특입'!$N$6:$N$1994,'4. 특입'!$B$6:$B$1994,$A16, '4. 특입'!$N$6:$N$1994, ">"&0)+SUMIFS('4-1. 공특입'!$O$6:$O$1992,'4-1. 공특입'!$B$6:$B$1992,$A16, '4-1. 공특입'!$O$6:$O$1992, ">"&0) -> 0 | E16: =C16+D16 -> 0 | F16: =SUMIFS('3. 일출(자체)'!$P$6:$P$1826,'3. 일출(자체)'!$B$6:$B$1826, $A16, '3. 일출(자체)'!$P$6:$P$1826, "<"&0)+SUMIFS('3. 일출(의존)'!$P$6:P$1829,'3. 일출(의존)'!$B$6:$B$1829, $A16, '3. 일출(의존)'!$P$6:$P$1829, "<"&0)+SUMIFS('4. 특출'!$P$5:$P$1991,'4. 특출'!$B$5:$B$1991, $A16, '4. 특출'!$P$5:$P$1991, "<"&0)+SUMIFS('4-1. 공특출'!$P$5:$P$1992,'4-1. 공특출'!$B$5:$B$1992, $A16, '4-1. 공특출'!$P$5:$P$1992, "<"&0) -> 0 | G16: =SUMIFS('3. 일출(자체)'!$P$6:$P$1826,'3. 일출(자체)'!$B$6:$B$1826, $A16, '3. 일출(자체)'!$P$6:$P$1826, ">"&0)+SUMIFS('3. 일출(의존)'!$P$6:$P$1829,'3. 일출(의존)'!$B$6:$B$1829, $A16, '3. 일출(의존)'!$P$6:$P$1829, ">"&0)+SUMIFS('4. 특출'!$P$5:$P$1991,'4. 특출'!$B$5:$B$1991, $A16, '4. 특출'!$P$5:$P$1991, ">"&0)+SUMIFS('4-1. 공특출'!$P$5:$P$1992,'4-1. 공특출'!$B$5:$B$1992, $A16, '4-1. 공특출'!$P$5:$P$1992, ">"&0) -> 0 | H16: =G16+F16 -> 0 | I16: =B16+F16+G16 -> 3029412433
A17: 도시환경위원회 | B17: =B41 -> 2367511141 | C17: =SUMIFS('3. 일입'!$N$7:$N$1831,'3. 일입'!$B$7:$B$1831, $A17, '3. 일입'!$N$7:$N$1831, "<"&0)+SUMIFS('4. 특입'!$N$6:$N$1994,'4. 특입'!$B$6:$B$1994,$A17, '4. 특입'!$N$6:$N$1994, "<"&0)+SUMIFS('4-1. 공특입'!$O$6:$O$1992,'4-1. 공특입'!$B$6:$B$1992,$A17, '4-1. 공특입'!$O$6:$O$1992, "<"&0) -> 0 | D17: =SUMIFS('3. 일입'!$N$7:$N$1831,'3. 일입'!$B$7:$B$1831, $A17, '3. 일입'!$N$7:$N$1831, ">"&0)+SUMIFS('4. 특입'!$N$6:$N$1994,'4. 특입'!$B$6:$B$1994,$A17, '4. 특입'!$N$6:$N$1994, ">"&0)+SUMIFS('4-1. 공특입'!$O$6:$O$1992,'4-1. 공특입'!$B$6:$B$1992,$A17, '4-1. 공특입'!$O$6:$O$1992, ">"&0) -> 50250 | E17: =C17+D17 -> 50250 | F17: =SUMIFS('3. 일출(자체)'!$P$6:$P$1826,'3. 일출(자체)'!$B$6:$B$1826, $A17, '3. 일출(자체)'!$P$6:$P$1826, "<"&0)+SUMIFS('3. 일출(의존)'!$P$6:P$1829,'3. 일출(의존)'!$B$6:$B$1829, $A17, '3. 일출(의존)'!$P$6:$P$1829, "<"&0)+SUMIFS('4. 특출'!$P$5:$P$1991,'4. 특출'!$B$5:$B$1991, $A17, '4. 특출'!$P$5:$P$1991, "<"&0)+SUMIFS('4-1. 공특출'!$P$5:$P$1992,'4-1. 공특출'!$B$5:$B$1992, $A17, '4-1. 공특출'!$P$5:$P$1992, "<"&0) -> 0 | G17: =SUMIFS('3. 일출(자체)'!$P$6:$P$1826,'3. 일출(자체)'!$B$6:$B$1826, $A17, '3. 일출(자체)'!$P$6:$P$1826, ">"&0)+SUMIFS('3. 일출(의존)'!$P$6:$P$1829,'3. 일출(의존)'!$B$6:$B$1829, $A17, '3. 일출(의존)'!$P$6:$P$1829, ">"&0)+SUMIFS('4. 특출'!$P$5:$P$1991,'4. 특출'!$B$5:$B$1991, $A17, '4. 특출'!$P$5:$P$1991, ">"&0)+SUMIFS('4-1. 공특출'!$P$5:$P$1992,'4-1. 공특출'!$B$5:$B$1992, $A17, '4-1. 공특출'!$P$5:$P$1992, ">"&0) -> 0 | H17: =G17+F17 -> 0 | I17: =B17+F17+G17 -> 2367511141
A18: 미래과학협력위원회 | B18: =B42 -> 890727734 | C18: =SUMIFS('3. 일입'!$N$7:$N$1831,'3. 일입'!$B$7:$B$1831, $A18, '3. 일입'!$N$7:$N$1831, "<"&0)+SUMIFS('4. 특입'!$N$6:$N$1994,'4. 특입'!$B$6:$B$1994,$A18, '4. 특입'!$N$6:$N$1994, "<"&0)+SUMIFS('4-1. 공특입'!$O$6:$O$1992,'4-1. 공특입'!$B$6:$B$1992,$A18, '4-1. 공특입'!$O$6:$O$1992, "<"&0) -> 0 | D18: =SUMIFS('3. 일입'!$N$7:$N$1831,'3. 일입'!$B$7:$B$1831, $A18, '3. 일입'!$N$7:$N$1831, ">"&0)+SUMIFS('4. 특입'!$N$6:$N$1994,'4. 특입'!$B$6:$B$1994,$A18, '4. 특입'!$N$6:$N$1994, ">"&0)+SUMIFS('4-1. 공특입'!$O$6:$O$1992,'4-1. 공특입'!$B$6:$B$1992,$A18, '4-1. 공특입'!$O$6:$O$1992, ">"&0) -> 0 | E18: =C18+D18 -> 0 | F18: =SUMIFS('3. 일출(자체)'!$P$6:$P$1826,'3. 일출(자체)'!$B$6:$B$1826, $A18, '3. 일출(자체)'!$P$6:$P$1826, "<"&0)+SUMIFS('3. 일출(의존)'!$P$6:P$1829,'3. 일출(의존)'!$B$6:$B$1829, $A18, '3. 일출(의존)'!$P$6:$P$1829, "<"&0)+SUMIFS('4. 특출'!$P$5:$P$1991,'4. 특출'!$B$5:$B$1991, $A18, '4. 특출'!$P$5:$P$1991, "<"&0)+SUMIFS('4-1. 공특출'!$P$5:$P$1992,'4-1. 공특출'!$B$5:$B$1992, $A18, '4-1. 공특출'!$P$5:$P$1992, "<"&0) -> 0 | G18: =SUMIFS('3. 일출(자체)'!$P$6:$P$1826,'3. 일출(자체)'!$B$6:$B$1826, $A18, '3. 일출(자체)'!$P$6:$P$1826, ">"&0)+SUMIFS('3. 일출(의존)'!$P$6:$P$1829,'3. 일출(의존)'!$B$6:$B$1829, $A18, '3. 일출(의존)'!$P$6:$P$1829, ">"&0)+SUMIFS('4. 특출'!$P$5:$P$1991,'4. 특출'!$B$5:$B$1991, $A18, '4. 특출'!$P$5:$P$1991, ">"&0)+SUMIFS('4-1. 공특출'!$P$5:$P$1992,'4-1. 공특출'!$B$5:$B$1992, $A18, '4-1. 공특출'!$P$5:$P$1992, ">"&0) -> 0 | H18: =G18+F18 -> 0 | I18: =B18+F18+G18 -> 890727734
A19: 여성가족평생교육위원회 | B19: =B43 -> 9354473576 | C19: =SUMIFS('3. 일입'!$N$7:$N$1831,'3. 일입'!$B$7:$B$1831, $A19, '3. 일입'!$N$7:$N$1831, "<"&0)+SUMIFS('4. 특입'!$N$6:$N$1994,'4. 특입'!$B$6:$B$1994,$A19, '4. 특입'!$N$6:$N$1994, "<"&0)+SUMIFS('4-1. 공특입'!$O$6:$O$1992,'4-1. 공특입'!$B$6:$B$1992,$A19, '4-1. 공특입'!$O$6:$O$1992, "<"&0) -> 0 | D19: =SUMIFS('3. 일입'!$N$7:$N$1831,'3. 일입'!$B$7:$B$1831, $A19, '3. 일입'!$N$7:$N$1831, ">"&0)+SUMIFS('4. 특입'!$N$6:$N$1994,'4. 특입'!$B$6:$B$1994,$A19, '4. 특입'!$N$6:$N$1994, ">"&0)+SUMIFS('4-1. 공특입'!$O$6:$O$1992,'4-1. 공특입'!$B$6:$B$1992,$A19, '4-1. 공특입'!$O$6:$O$1992, ">"&0) -> 400000 | E19: =C19+D19 -> 400000 | F19: =SUMIFS('3. 일출(자체)'!$P$6:$P$1826,'3. 일출(자체)'!$B$6:$B$1826, $A19, '3. 일출(자체)'!$P$6:$P$1826, "<"&0)+SUMIFS('3. 일출(의존)'!$P$6:P$1829,'3. 일출(의존)'!$B$6:$B$1829, $A19, '3. 일출(의존)'!$P$6:$P$1829, "<"&0)+SUMIFS('4. 특출'!$P$5:$P$1991,'4. 특출'!$B$5:$B$1991, $A19, '4. 특출'!$P$5:$P$1991, "<"&0)+SUMIFS('4-1. 공특출'!$P$5:$P$1992,'4-1. 공특출'!$B$5:$B$1992, $A19, '4-1. 공특출'!$P$5:$P$1992, "<"&0) -> 0 | G19: =SUMIFS('3. 일출(자체)'!$P$6:$P$1826,'3. 일출(자체)'!$B$6:$B$1826, $A19, '3. 일출(자체)'!$P$6:$P$1826, ">"&0)+SUMIFS('3. 일출(의존)'!$P$6:$P$1829,'3. 일출(의존)'!$B$6:$B$1829, $A19, '3. 일출(의존)'!$P$6:$P$1829, ">"&0)+SUMIFS('4. 특출'!$P$5:$P$1991,'4. 특출'!$B$5:$B$1991, $A19, '4. 특출'!$P$5:$P$1991, ">"&0)+SUMIFS('4-1. 공특출'!$P$5:$P$1992,'4-1. 공특출'!$B$5:$B$1992, $A19, '4-1. 공특출'!$P$5:$P$1992, ">"&0) -> 3588632 | H19: =G19+F19 -> 3588632 | I19: =B19+F19+G19 -> 9358062208
A21: □ 회계별 조정현황
I22: (단위 : 천원)
A23: 구 분 | B23: 집행부제출(안) | C23: 세입예산(안) | F23: 세출예산(안) | I23: 수정예산(안)
C24: 감 액 | D24: 증 액 | E24: 증감액 | F24: 감 액 | G24: 증 액 | H24: 증감액
A25: 계 | B25: =SUM(B26:B27) -> 42242001864 | C25: =SUM(C26:C27) -> 0 | D25: =SUM(D26:D27) -> 450250 | E25: =SUM(E26:E27) -> 450250 | F25: =SUM(F26:F27) -> 0 | G25: =SUM(G26:G27) -> 3588632 | H25: =SUM(H26:H27) -> 3588632 | I25: =SUM(I26:I27) -> 42245590496
A26: 일반회계 | B26: =D32 -> 37646557814 | C26: =SUMIFS('3. 일입'!$N$7:$N$1831,'3. 일입'!$D$7:$D$1831, "<>"&"", '3. 일입'!$N$7:$N$1831, "<"&0) -> 0 | D26: =SUMIFS('3. 일입'!$N$7:$N$1831,'3. 일입'!$D$7:$D$1831, "<>"&"", '3. 일입'!$N$7:$N$1831, ">"&0) -> 450250 | E26: =D26+C26 -> 450250 | F26: =SUMIFS('3. 일출(자체)'!$P$6:$P$1826,'3. 일출(자체)'!$D$6:$D$1826, "<>"&"", '3. 일출(자체)'!$P$6:$P$1826, "<"&0)+SUMIFS('3. 일출(의존)'!$P$6:$P$1829,'3. 일출(의존)'!$D$6:$D$1829, "<>"&"", '3. 일출(의존)'!$P$6:$P$1829, "<"&0) -> 0 | G26: =SUMIFS('3. 일출(자체)'!$P$6:$P$1826, '3. 일출(자체)'!$D$6:$D$1826, "<>"&"", '3. 일출(자체)'!$P$6:$P$1826, ">"&0)+ SUMIFS('3. 일출(의존)'!$P$6:$P$1829,'3. 일출(의존)'!$D$6:$D$1829, "<>"&"", '3. 일출(의존)'!$P$6:$P$1829, ">"&0) -> 3588632 | H26: =G26+F26 -> 3588632 | I26: =B26+F26+G26 -> 37650146446
A27: 특별회계 | B27: =E32+F32 -> 4595444050 | C27: =SUMIFS('4. 특입'!$N$6:$N$1000,'4. 특입'!$D$6:$D$1000,"<>"&"", '4. 특입'!$N$6:$N$1000, "<"&0)+SUMIFS('4-1. 공특입'!$O$6:$O$998,'4-1. 공특입'!$D$6:$D$998,"<>"&"", '4-1. 공특입'!$O$6:$O$998, "<"&0) -> 0 | D27: =SUMIFS('4. 특입'!$N$6:$N$1000,'4. 특입'!$D$6:$D$1000,"<>"&"", '4. 특입'!$N$6:$N$1000, ">"&0)+SUMIFS('4-1. 공특입'!$O$6:$O$998,'4-1. 공특입'!$D$6:$D$998,"<>"&"", '4-1. 공특입'!$O$6:$O$998, ">"&0) -> 0 | E27: =D27+C27 -> 0 | F27: =SUMIFS('4. 특출'!$P$5:$P$995,'4. 특출'!$D$5:$D$995, "<>"&"", '4. 특출'!$P$5:$P$995, "<"&0)+SUMIFS('4-1. 공특출'!$P$5:$P$996,'4-1. 공특출'!$D$5:$D$996, "<>"&"", '4-1. 공특출'!$P$5:$P$996, "<"&0) -> 0 | G27: =SUMIFS('4. 특출'!$P$5:$P$995,'4. 특출'!$D$5:$D$995, "<>"&"", '4. 특출'!$P$5:$P$995, ">"&0)+SUMIFS('4-1. 공특출'!$P$5:$P$996,'4-1. 공특출'!$D$5:$D$996, "<>"&"", '4-1. 공특출'!$P$5:$P$996, ">"&0) -> 0 | H27: =G27+F27 -> 0 | I27: =B27+F27+G27 -> 4595444050
A30: ※ 위원회별, 회계별 집행부제출안(예산담당관에서 작성)
A31: 위원회명 | B31: 합계 | C31: 일반+기타 | D31: 일반회계 | E31: 기타특별회계 | F31: 공기업특별회계
A32: 계 | B32: =SUM(B33:B43) -> 42242001864 | C32: =SUM(C33:C43) -> 42187089624 | D32: =SUM(D33:D43) -> 37646557814 | E32: =SUM(E33:E43) -> 4540531810 | F32: =SUM(F33:F43) -> 54912240
A33: 의회운영위원회 | B33: =SUM(D33:F33) -> 129702008 | C33: =D33+E33 -> 129702008 | D33: 129702008 | E33: 0 | F33: 0
A34: 기획재정위원회 | B34: =SUM(D34:F34) -> 5932148107 | C34: =D34+E34 -> 5932148107 | D34: 5892712561 | E34: 39435546 | F34: 0
A35: 경제노동위원회 | B35: =SUM(D35:F35) -> 474872242 | C35: =D35+E35 -> 474872242 | D35: 474872242 | E35: 0 | F35: 0
A36: 안전행정위원회 | B36: =SUM(D36:F36) -> 4269846310 | C36: =D36+E36 -> 4269846310 | D36: 2662231278 | E36: 1607615032 | F36: 0
A37: 문화체육관광위원회 | B37: =SUM(D37:F37) -> 554871567 | C37: =D37+E37 -> 554871567 | D37: 554871567 | E37: 0 | F37: 0
A38: 농정해양위원회 | B38: =SUM(D38:F38) -> 1195877261 | C38: =D38+E38 -> 1195877261 | D38: 1195877261 | E38: 0 | F38: 0
A39: 보건복지위원회 | B39: =SUM(D39:F39) -> 14042559485 | C39: =D39+E39 -> 14042559485 | D39: 11595408031 | E39: 2447151454 | F39: 0
A40: 건설교통위원회 | B40: =SUM(D40:F40) -> 3029412433 | C40: =D40+E40 -> 3029412433 | D40: 2869836504 | E40: 159575929 | F40: 0
A41: 도시환경위원회 | B41: =SUM(D41:F41) -> 2367511141 | C41: =D41+E41 -> 2345220241 | D41: 2170913256 | E41: 174306985 | F41: 22290900
A42: 미래과학협력위원회 | B42: =SUM(D42:F42) -> 890727734 | C42: =D42+E42 -> 858106394 | D42: 858106394 | E42: 0 | F42: 32621340
A43: 여성가족평생교육위원회 | B43: =SUM(D43:F43) -> 9354473576 | C43: =D43+E43 -> 9354473576 | D43: 9242026712 | E43: 112446864 | F43: 0
A45: 예비비 | B45: 42834815

Sheet 3. 일입
A1: 일반회계 세입 예산 조정(안) | AA1: 자동입력 | AF1: 자동입력 | AK1: "3. 일출(의존)" 에 입력 | AN1: "3. 일출(자체)" "3. 일출(의존)" 에 입력 | AS1: 검증 | AZ1: 검증
AA2: 국비 세입=국비 세출 | AC2: 도비 세입=도비 세출 | AF2: 국비 세입=국비 세출 | AH2: 도비 세입=도비 세출
Y3: (단위 : 천원) | AA3: =IF(AA7='3. 일출(의존)'!AB6,"OK","@@") -> @@ | AC3: =IF(SUM(AB7:AD7) = SUM('3. 일출(자체)'!AC6:AE6) + SUM('3. 일출(의존)'!AC6:AE6),"OK","@@") -> @@ | AF3: =IF(AF7='3. 일출(의존)'!AH6,"OK","@@") -> OK | AH3: =IF(SUM(AG7:AI7) = SUM('3. 일출(자체)'!AH6:AJ6) + SUM('3. 일출(의존)'!AI6:AK6),"OK","@@") -> OK
A4: 번호 | B4: 위원회명 | C4: 실국명 | D4: 부서명 | E4: 편성 구분 | F4: 예산안 /예산서 페이지 | G4: 실국별 사업 설명서 페이지 | H4: 목코드 | I4: 목명 | J4: 부기명 | K4: 기정액 (본예산+1추) (가) | L4: 증감액 (2회추경안) (나) | M4: 예산안 (다=가+나) | N4: 상임위 조정액 (라) | O4: 상임위 조정 예산안 (마=다+라) | P4: 예결특위 조정액 (바) | Q4: 예결특위 조정 예산안 (사=다+바) | R4: 상임위 동의 대상 | S4: 참고자료 (관련공문) | T4: 상임위 부대의견 | U4: 예비 심사시 집행부 동의여부 | V4: 예결특위 부대의견 | W4: 부대의견 | X4: 실국의견 청취대상 | Y4: 국도비 등 여부 | AA4: 상임위 재원별 증감액 | AF4: 예결위 재원별 증감액 | AK4: 국비 | AN4: 도비 | AQ4: 실국 부서 코드 | AS4: 상임위 세입/세출 검증 | AZ4: 예결위 세입/세출 검증
AA5: 국비 | AB5: 도비 | AF5: 국비 | AG5: 도비 | AK5: 세입 번호 | AL5: 재원 | AN5: 세입 번호 | AO5: 재원 | AS5: 국비 | AV5: 도비 | AZ5: 국비 | BC5: 도비
AB6: 자체 | AC6: 지방채 | AD6: 지역개발기금 | AG6: 자체 | AH6: 지방채 | AI6: 지역개발기금 | AS6: 증감액 | AT6: 건수 | AU6: 세입세출 금액검증 | AV6: 증감액 | AW6: 건수 | AX6: 세입세출 금액검증 | AZ6: 증감액 | BA6: 건수 | BB6: 세입세출 금액검증 | BC6: 증감액 | BD6: 건수 | BE6: 세입세출 금액검증
B7: 합 계 | J7: =SUBTOTAL(3,J$8:J$1831)&"건" -> 2건 | K7: =SUBTOTAL(9,K$8:K$1831) -> 608645 | L7: =SUBTOTAL(9,L$8:L$1831) -> 0 | M7: =SUBTOTAL(9,M$8:M$1831) -> 608645 | N7: =SUBTOTAL(9,N$8:N$1831) -> 450250 | O7: =SUBTOTAL(9,O$8:O$1831) -> 1058895 | P7: =SUBTOTAL(9,P$8:P$1831) -> 0 | Q7: =SUBTOTAL(9,Q$8:Q$1831) -> 608645 | AA7: =SUBTOTAL(9,AA$8:AA$1831) -> 450250 | AB7: =SUBTOTAL(9,AB$8:AB$1831) -> 0 | AC7: =SUBTOTAL(9,AC$8:AC$1831) -> 0 | AD7: =SUBTOTAL(9,AD$8:AD$1831) -> 0 | AF7: =SUBTOTAL(9,AF$8:AF$1831) -> 0 | AG7: =SUBTOTAL(9,AG$8:AG$1831) -> 0 | AH7: =SUBTOTAL(9,AH$8:AH$1831) -> 0 | AI7: =SUBTOTAL(9,AI$8:AI$1831) -> 0 | AS7: =SUBTOTAL(9,AS$8:AS$1831) -> 436750 | AT7: =SUBTOTAL(9,AT$8:AT$1831) -> 2 | AU7: =IF(COUNTIF(AU$8:AU$1831,"@@")>0,"@@","OK") -> @@ | AV7: =SUBTOTAL(9,AV$8:AV$1831) -> 0 | AW7: =SUBTOTAL(9,AW$8:AW$1831) -> 0 | AX7: =IF(COUNTIF(AX$8:AX$1831,"@@")>0,"@@","OK") -> OK | AZ7: =SUBTOTAL(9,AZ$8:AZ$1831) -> 0 | BA7: =SUBTOTAL(9,BA$8:BA$1831) -> 2 | BB7: =IF(COUNTIF(BB$8:BB$1831,"@@")>0,"@@","OK") -> OK | BC7: =SUBTOTAL(9,BC$8:BC$1831) -> 0 | BD7: =SUBTOTAL(9,BD$8:BD$1831) -> 0 | BE7: =IF(COUNTIF(BE$8:BE$1831,"@@")>0,"@@","OK") -> OK
B8: (도시환경위원회) | J8: =SUBTOTAL(3,J9:J9)&"건" -> 1건 | K8: =SUBTOTAL(9,K9:K9) -> 608645 | L8: =SUBTOTAL(9,L9:L9) -> 0 | M8: =SUBTOTAL(9,M9:M9) -> 608645 | N8: =SUBTOTAL(9,N9:N9) -> 50250 | O8: =SUBTOTAL(9,O9:O9) -> 658895 | P8: =SUBTOTAL(9,P9:P9) -> 0 | Q8: =SUBTOTAL(9,Q9:Q9) -> 608645 | AA8: =SUBTOTAL(9,AA9:AA9) -> 50250 | AB8: =SUBTOTAL(9,AB9:AB9) -> 0 | AC8: =SUBTOTAL(9,AC9:AC9) -> 0 | AD8: =SUBTOTAL(9,AD9:AD9) -> 0 | AF8: =SUBTOTAL(9,AF9:AF9) -> 0 | AG8: =SUBTOTAL(9,AG9:AG9) -> 0 | AH8: =SUBTOTAL(9,AH9:AH9) -> 0 | AI8: =SUBTOTAL(9,AI9:AI9) -> 0 | AS8: =SUBTOTAL(9,AS9:AS9) -> 36750 | AT8: =SUBTOTAL(9,AT9:AT9) -> 1 | AU8: =IF(COUNTIF(AU9:AU9,"@@")>0,"@@","OK") -> @@ | AV8: =SUBTOTAL(9,AV9:AV9) -> 0 | AW8: =SUBTOTAL(9,AW9:AW9) -> 0 | AX8: =IF(COUNTIF(AX9:AX9,"@@")>0,"@@","OK") -> OK | AZ8: =SUBTOTAL(9,AZ9:AZ9) -> 0 | BA8: =SUBTOTAL(9,BA9:BA9) -> 1 | BB8: =IF(COUNTIF(BB9:BB9,"@@")>0,"@@","OK") -> OK | BC8: =SUBTOTAL(9,BC9:BC9) -> 0 | BD8: =SUBTOTAL(9,BD9:BD9) -> 0 | BE8: =IF(COUNTIF(BE9:BE9,"@@")>0,"@@","OK") -> OK
A9: =IF(D9="","",COUNTA($C$8:C9)-COUNTBLANK($C$8:C9)+9) -> 9 | B9: =IF(D9="","",IF(OR(C9="직접입력",D9="북부지원"),"직접입력",IF(OR(AND(D9="인사과",C9="의회사무처"),AND(D9="총무과",C9="의회사무처")),"의회운영위원회",IF(OR(C9="직접입력",D9="북부지원"),"직접입력",IF(OR(AND(D9="인사과",C9="자치행정국"),AND(D9="총무과",C9="자치행정국")),"안전행정위원회",VLOOKUP(D9,구분표!$A$3:$C$258,2,)))))) -> 도시환경위원회 | C9: =IF(D9="","",IF(OR(D9="교육지원과",D9="총무과",D9="인사과"),"직접입력",VLOOKUP(D9,구분표!$A$3:$C$258,3,))) -> 수자원본부 | D9: 수질총량과 | E9: 1추 | F9: =IF($E9="","",IF($E9="2추","직접입력","-")) -> - | G9: =IF($E9="","",IF($E9="2추","직접입력","-")) -> - | H9: 511-02 | I9: =IF(H9="","",VLOOKUP($H9,구분표!$O$3:$P$168,2,FALSE)) -> 지역균형발전특별회계보조금 | J9: 공중화장실 안전관리시설 설치 지원 | K9: 608645 | L9: =IF($E9="", "", IF($E9="2추","금액입력", "-")) -> - | M9: =IF($E9="","",SUM(K9:L9)) -> 608645 | N9: 50250 | O9: =SUM(M9:N9) -> 658895 | Q9: =SUM(M9,P9) -> 608645 | R9: =IF(AND((O9=0),(Q9>0)),"O",IF(AND((N9<0),(O9-Q9<0)),"O","X")) -> X | S9: 행정안전부 주소정보혁신과-4513(2026. 9. 2.)호 | U9: 동의 | Y9: =IF($H9="","",IF(OR($H9="511-01", $H9="511-02", $H9="511-03", $H9="311-02", $H9="311-04", $H9="321-01"),"국비","도비")) -> 국비 | AA9: =IF($Y9="국비", IF($N9<>"", $N9, 0), "") -> 50250 | AB9: =IF($Y9="도비", IF($AO9="자체", IF($N9<>"",$N9,0),""), "") | AC9: =IF($Y9="도비",IF($AO9="지방채",IF($N9<>"",$N9,0),""), "") | AD9: =IF($Y9="도비",IF($AO9="지역개발기금",IF($N9<>"",$N9,0),""),"") | AF9: =IF($Y9="국비", IF($P9<>"", $P9, 0), "") -> 0 | AG9: =IF($Y9="도비", IF($AO9="자체", IF($P9<>"",$P9,0),""), "") | AH9: =IF($Y9="도비",IF($AO9="지방채",IF($P9<>"",$P9,0),""), "") | AI9: =IF($Y9="도비",IF($AO9="지역개발기금",IF($P9<>"",$P9,0),""),"") | AK9: =IF($AQ9="","", IF(OR($AL9="", $AL9="도비"), "", CONCATENATE($AQ9,"-",COUNTIF($AQ$8:$AQ9,$AQ9)))) -> 50604-1 | AL9: =IF($H9="","",IF($H9="511-01","국비",IF($H9="511-02","균특",IF($H9="511-03","기금",IF($H9="311-02","특교",IF($H9="311-04","소교",IF($H9="321-01","소멸","도비"))))))) -> 균특 | AN9: =IF($AQ9="","", IF(OR($AO9="", $AO9="국비", $AO9="자체"), "", CONCATENATE($AQ9,"-", $AO9,"-",COUNTIF($AQ$8:$AQ9, $AQ9)))) | AO9: =IF($Y9="","", IF($Y9="국비", "국비", IF($H9="612-01","지방채",IF($H9="722-02","지역개발기금","자체")))) -> 국비 | AQ9: {=IF(OR($D9="", $C9="직접입력", $B9="직접입력"),"",INDEX(구분표!$I$2:$I$337, MATCH(1,(구분표!$G$2:$G$337='3. 일입'!$B9)*(구분표!$E$2:$E$337='3. 일입'!$C9)*(구분표!$F$2:$F$337='3. 일입'!$D9),0)))} -> 50604 | AS9: =IF($AK9="","", SUMIFS('3. 일출(의존)'!$AB$7:$AB$1829,'3. 일출(의존)'!$AN$7:$AN$1829,$AK9)) -> 36750 | AT9: =IF($AK9="","", COUNTIF('3. 일출(의존)'!$AN$7:$AN$1829,$AK9)) -> 1 | AU9: =IF($AK9="", "", IF($AA9=$AS9,"OK","@@")) -> @@ | AV9: =IF($AN9="","",IF($AO9="지역개발기금",SUMIFS('3. 일출(의존)'!$AE$7:$AE$1840,'3. 일출(의존)'!$AS$7:$AS$1840,$AN9)+SUMIFS('3. 일출(자체)'!$AE$7:$AE$1837,'3. 일출(자체)'!$AM$7:$AM$1837,$AN9),IF($AO9="지방채",SUMIFS('3. 일출(의존)'!$AD$7:$AD$1840,'3. 일출(의존)'!$AS$7:$AS$1840,$AN9)+SUMIFS('3. 일출(자체)'!$AD$7:$AD$1837,'3. 일출(자체)'!$AM$7:$AM$1837,$AN9),0))) | AW9: =IF($AN9="","", COUNTIF('3. 일출(의존)'!$AS$7:$AS$1840,$AN9)+COUNTIF('3. 일출(자체)'!$AM$7:$AM$1837,$AN9)) | AX9: =IF($AN9="","", IF($AO9="자체","", IF($AO9="지방채", IF($AC9=$AV9, "OK", "@@"), IF($AO9="지역개발기금", IF($AD9=$AV9,"OK","@@"), "@@")))) | AZ9: =IF($AK9="","", SUMIFS('3. 일출(의존)'!$AH$7:$AH$1829,'3. 일출(의존)'!$AN$7:$AN$1829,$AK9)) -> 0 | BA9: =IF($AK9="","", COUNTIF('3. 일출(의존)'!$AN$7:$AN$1829,$AK9)) -> 1 | BB9: =IF($AK9="", "", IF($AF9=$AZ9,"OK","@@")) -> OK | BC9: =IF($AN9="","",IF($AO9="지역개발기금",SUMIFS('3. 일출(의존)'!$AK$7:$AK$1840,'3. 일출(의존)'!$AS$7:$AS$1840,$AN9)+SUMIFS('3. 일출(자체)'!$AJ$7:$AJ$1837,'3. 일출(자체)'!$AM$7:$AM$1837,$AN9),IF($AO9="지방채",SUMIFS('3. 일출(의존)'!$AJ$7:$AJ$1840,'3. 일출(의존)'!$AS$7:$AS$1840,$AN9)+SUMIFS('3. 일출(자체)'!$AI$7:$AI$1837,'3. 일출(자체)'!$AM$7:$AM$1837,$AN9),0))) | BD9: =IF($AN9="","",COUNTIF('3. 일출(의존)'!$AS$7:$AS$1840,$AN9)+COUNTIF('3. 일출(자체)'!$AM$7:$AM$1837,$AN9)) | BE9: =IF($AN9="","", IF($AO9="자체", "", IF($AO9="지방채", IF($AH9=$BC9, "OK", "@@"), IF($AO9="지역개발기금", IF($AI9=$BC9,"OK","@@"), "@@"))))
B10: (여성가족평생교육위원회) | J10: =SUBTOTAL(3,J11:J25)&"건" -> 1건 | K10: =SUBTOTAL(9,K11:K25) -> 0 | L10: =SUBTOTAL(9,L11:L25) -> 0 | M10: =SUBTOTAL(9,M11:M25) -> 0 | N10: =SUBTOTAL(9,N11:N25) -> 400000 | O10: =SUBTOTAL(9,O11:O25) -> 400000 | P10: =SUBTOTAL(9,P11:P25) -> 0 | Q10: =SUBTOTAL(9,Q11:Q25) -> 0 | AA10: =SUBTOTAL(9,AA11:AA25) -> 400000 | AB10: =SUBTOTAL(9,AB11:AB25) -> 0 | AC10: =SUBTOTAL(9,AC11:AC25) -> 0 | AD10: =SUBTOTAL(9,AD11:AD25) -> 0 | AF10: =SUBTOTAL(9,AF11:AF25) -> 0 | AG10: =SUBTOTAL(9,AG11:AG25) -> 0 | AH10: =SUBTOTAL(9,AH11:AH25) -> 0 | AI10: =SUBTOTAL(9,AI11:AI25) -> 0 | AS10: =SUBTOTAL(9,AS11:AS25) -> 400000 | AT10: =SUBTOTAL(9,AT11:AT25) -> 1 | AU10: =IF(COUNTIF(AU11:AU25,"@@")>0,"@@","OK") -> OK | AV10: =SUBTOTAL(9,AV11:AV25) -> 0 | AW10: =SUBTOTAL(9,AW11:AW25) -> 0 | AX10: =IF(COUNTIF(AX11:AX25,"@@")>0,"@@","OK") -> OK | AZ10: =SUBTOTAL(9,AZ11:AZ25) -> 0 | BA10: =SUBTOTAL(9,BA11:BA25) -> 1 | BB10: =IF(COUNTIF(BB11:BB25,"@@")>0,"@@","OK") -> OK | BC10: =SUBTOTAL(9,BC11:BC25) -> 0 | BD10: =SUBTOTAL(9,BD11:BD25) -> 0 | BE10: =IF(COUNTIF(BE11:BE25,"@@")>0,"@@","OK") -> OK
A11: =IF(D11="","",COUNTA($C$8:C11)-COUNTBLANK($C$8:C11)+11) -> 11 | B11: =IF(D11="","",IF(OR(C11="직접입력",D11="북부지원"),"직접입력",IF(OR(AND(D11="인사과",C11="의회사무처"),AND(D11="총무과",C11="의회사무처")),"의회운영위원회",IF(OR(C11="직접입력",D11="북부지원"),"직접입력",IF(OR(AND(D11="인사과",C11="자치행정국"),AND(D11="총무과",C11="자치행정국")),"안전행정위원회",VLOOKUP(D11,구분표!$A$3:$C$258,2,)))))) -> 여성가족평생교육위원회 | C11: =IF(D11="","",IF(OR(D11="교육지원과",D11="총무과",D11="인사과"),"직접입력",VLOOKUP(D11,구분표!$A$3:$C$258,3,))) -> 이민사회국 | D11: 이민사회정책과 | E11: 신규 | F11: =IF($E11="","",IF($E11="2추","직접입력","-")) -> - | G11: =IF($E11="","",IF($E11="2추","직접입력","-")) -> - | H11: 511-01 | I11: =IF(H11="","",VLOOKUP($H11,구분표!$O$3:$P$168,2,FALSE)) -> 국고보조금 | J11: 경기도 이주노동자 안전특화센터 설치 및 운영 | K11: =IF($E11="","",IF(OR($E11="2추", $E11="1추", $E11="본예산"), "금액입력", "-")) -> - | L11: =IF($E11="", "", IF($E11="2추","금액입력", "-")) -> - | M11: =IF($E11="","",SUM(K11:L11)) -> 0 | N11: 400000 | O11: =SUM(M11:N11) -> 400000 | Q11: =SUM(M11,P11) -> 0 | R11: =IF(AND((O11=0),(Q11>0)),"O",IF(AND((N11<0),(O11-Q11<0)),"O","X")) -> X | S11: 고용노동부 외국인력담당관-2662(2026.08.06.) | U11: 부동의 | Y11: =IF($H11="","",IF(OR($H11="511-01", $H11="511-02", $H11="511-03", $H11="311-02", $H11="311-04", $H11="321-01"),"국비","도비")) -> 국비 | AA11: =IF($Y11="국비", IF($N11<>"", $N11, 0), "") -> 400000 | AB11: =IF($Y11="도비", IF($AO11="자체", IF($N11<>"",$N11,0),""), "") | AC11: =IF($Y11="도비",IF($AO11="지방채",IF($N11<>"",$N11,0),""), "") | AD11: =IF($Y11="도비",IF($AO11="지역개발기금",IF($N11<>"",$N11,0),""),"") | AF11: =IF($Y11="국비", IF($P11<>"", $P11, 0), "") -> 0 | AG11: =IF($Y11="도비", IF($AO11="자체", IF($P11<>"",$P11,0),""), "") | AH11: =IF($Y11="도비",IF($AO11="지방채",IF($P11<>"",$P11,0),""), "") | AI11: =IF($Y11="도비",IF($AO11="지역개발기금",IF($P11<>"",$P11,0),""),"") | AK11: =IF($AQ11="","", IF(OR($AL11="", $AL11="도비"), "", CONCATENATE($AQ11,"-",COUNTIF($AQ$8:$AQ11,$AQ11)))) -> 20304-1 | AL11: =IF($H11="","",IF($H11="511-01","국비",IF($H11="511-02","균특",IF($H11="511-03","기금",IF($H11="311-02","특교",IF($H11="311-04","소교",IF($H11="321-01","소멸","도비"))))))) -> 국비 | AN11: =IF($AQ11="","", IF(OR($AO11="", $AO11="국비", $AO11="자체"), "", CONCATENATE($AQ11,"-", $AO11,"-",COUNTIF($AQ$8:$AQ11, $AQ11)))) | AO11: =IF($Y11="","", IF($Y11="국비", "국비", IF($H11="612-01","지방채",IF($H11="722-02","지역개발기금","자체")))) -> 국비 | AQ11: {=IF(OR($D11="", $C11="직접입력", $B11="직접입력"),"",INDEX(구분표!$I$2:$I$337, MATCH(1,(구분표!$G$2:$G$337='3. 일입'!$B11)*(구분표!$E$2:$E$337='3. 일입'!$C11)*(구분표!$F$2:$F$337='3. 일입'!$D11),0)))} -> 20304 | AS11: =IF($AK11="","", SUMIFS('3. 일출(의존)'!$AB$7:$AB$1829,'3. 일출(의존)'!$AN$7:$AN$1829,$AK11)) -> 400000 | AT11: =IF($AK11="","", COUNTIF('3. 일출(의존)'!$AN$7:$AN$1829,$AK11)) -> 1 | AU11: =IF($AK11="", "", IF($AA11=$AS11,"OK","@@")) -> OK | AV11: =IF($AN11="","",IF($AO11="지역개발기금",SUMIFS('3. 일출(의존)'!$AE$7:$AE$1840,'3. 일출(의존)'!$AS$7:$AS$1840,$AN11)+SUMIFS('3. 일출(자체)'!$AE$7:$AE$1837,'3. 일출(자체)'!$AM$7:$AM$1837,$AN11),IF($AO11="지방채",SUMIFS('3. 일출(의존)'!$AD$7:$AD$1840,'3. 일출(의존)'!$AS$7:$AS$1840,$AN11)+SUMIFS('3. 일출(자체)'!$AD$7:$AD$1837,'3. 일출(자체)'!$AM$7:$AM$1837,$AN11),0))) | AW11: =IF($AN11="","", COUNTIF('3. 일출(의존)'!$AS$7:$AS$1840,$AN11)+COUNTIF('3. 일출(자체)'!$AM$7:$AM$1837,$AN11)) | AX11: =IF($AN11="","", IF($AO11="자체","", IF($AO11="지방채", IF($AC11=$AV11, "OK", "@@"), IF($AO11="지역개발기금", IF($AD11=$AV11,"OK","@@"), "@@")))) | AZ11: =IF($AK11="","", SUMIFS('3. 일출(의존)'!$AH$7:$AH$1829,'3. 일출(의존)'!$AN$7:$AN$1829,$AK11)) -> 0 | BA11: =IF($AK11="","", COUNTIF('3. 일출(의존)'!$AN$7:$AN$1829,$AK11)) -> 1 | BB11: =IF($AK11="", "", IF($AF11=$AZ11,"OK","@@")) -> OK | BC11: =IF($AN11="","",IF($AO11="지역개발기금",SUMIFS('3. 일출(의존)'!$AK$7:$AK$1840,'3. 일출(의존)'!$AS$7:$AS$1840,$AN11)+SUMIFS('3. 일출(자체)'!$AJ$7:$AJ$1837,'3. 일출(자체)'!$AM$7:$AM$1837,$AN11),IF($AO11="지방채",SUMIFS('3. 일출(의존)'!$AJ$7:$AJ$1840,'3. 일출(의존)'!$AS$7:$AS$1840,$AN11)+SUMIFS('3. 일출(자체)'!$AI$7:$AI$1837,'3. 일출(자체)'!$AM$7:$AM$1837,$AN11),0))) | BD11: =IF($AN11="","",COUNTIF('3. 일출(의존)'!$AS$7:$AS$1840,$AN11)+COUNTIF('3. 일출(자체)'!$AM$7:$AM$1837,$AN11)) | BE11: =IF($AN11="","", IF($AO11="자체", "", IF($AO11="지방채", IF($AH11=$BC11, "OK", "@@"), IF($AO11="지역개발기금", IF($AI11=$BC11,"OK","@@"), "@@"))))
A12: =IF(D12="","",COUNTA($C$8:C12)-COUNTBLANK($C$8:C12)+11) | B12: =IF(D12="","",IF(OR(C12="직접입력",D12="북부지원"),"직접입력",IF(OR(AND(D12="인사과",C12="의회사무처"),AND(D12="총무과",C12="의회사무처")),"의회운영위원회",IF(OR(C12="직접입력",D12="북부지원"),"직접입력",IF(OR(AND(D12="인사과",C12="자치행정국"),AND(D12="총무과",C12="자치행정국")),"안전행정위원회",VLOOKUP(D12,구분표!$A$3:$C$258,2,)))))) | C12: =IF(D12="","",IF(OR(D12="교육지원과",D12="총무과",D12="인사과"),"직접입력",VLOOKUP(D12,구분표!$A$3:$C$258,3,))) | F12: =IF($E12="","",IF($E12="2추","직접입력","-")) | G12: =IF($E12="","",IF($E12="2추","직접입력","-")) | I12: =IF(H12="","",VLOOKUP($H12,구분표!$O$3:$P$168,2,FALSE)) | K12: =IF($E12="","",IF(OR($E12="2추", $E12="1추", $E12="본예산"), "금액입력", "-")) | L12: =IF($E12="", "", IF($E12="2추","금액입력", "-")) | M12: =IF($E12="","",SUM(K12:L12)) | O12: =SUM(M12:N12) -> 0 | Q12: =SUM(M12,P12) -> 0 | R12: =IF(AND((O12=0),(Q12>0)),"O",IF(AND((N12<0),(O12-Q12<0)),"O","X")) -> X | Y12: =IF($H12="","",IF(OR($H12="511-01", $H12="511-02", $H12="511-03", $H12="311-02", $H12="311-04", $H12="321-01"),"국비","도비")) | AA12: =IF($Y12="국비", IF($N12<>"", $N12, 0), "") | AB12: =IF($Y12="도비", IF($AO12="자체", IF($N12<>"",$N12,0),""), "") | AC12: =IF($Y12="도비",IF($AO12="지방채",IF($N12<>"",$N12,0),""), "") | AD12: =IF($Y12="도비",IF($AO12="지역개발기금",IF($N12<>"",$N12,0),""),"") | AF12: =IF($Y12="국비", IF($P12<>"", $P12, 0), "") | AG12: =IF($Y12="도비", IF($AO12="자체", IF($P12<>"",$P12,0),""), "") | AH12: =IF($Y12="도비",IF($AO12="지방채",IF($P12<>"",$P12,0),""), "") | AI12: =IF($Y12="도비",IF($AO12="지역개발기금",IF($P12<>"",$P12,0),""),"") | AK12: =IF($AQ12="","", IF(OR($AL12="", $AL12="도비"), "", CONCATENATE($AQ12,"-",COUNTIF($AQ$8:$AQ12,$AQ12)))) | AL12: =IF($H12="","",IF($H12="511-01","국비",IF($H12="511-02","균특",IF($H12="511-03","기금",IF($H12="311-02","특교",IF($H12="311-04","소교",IF($H12="321-01","소멸","도비"))))))) | AN12: =IF($AQ12="","", IF(OR($AO12="", $AO12="국비", $AO12="자체"), "", CONCATENATE($AQ12,"-", $AO12,"-",COUNTIF($AQ$8:$AQ12, $AQ12)))) | AO12: =IF($Y12="","", IF($Y12="국비", "국비", IF($H12="612-01","지방채",IF($H12="722-02","지역개발기금","자체")))) | AQ12: {=IF(OR($D12="", $C12="직접입력", $B12="직접입력"),"",INDEX(구분표!$I$2:$I$337, MATCH(1,(구분표!$G$2:$G$337='3. 일입'!$B12)*(구분표!$E$2:$E$337='3. 일입'!$C12)*(구분표!$F$2:$F$337='3. 일입'!$D12),0)))} | AS12: =IF($AK12="","", SUMIFS('3. 일출(의존)'!$AB$7:$AB$1829,'3. 일출(의존)'!$AN$7:$AN$1829,$AK12)) | AT12: =IF($AK12="","", COUNTIF('3. 일출(의존)'!$AN$7:$AN$1829,$AK12)) | AU12: =IF($AK12="", "", IF($AA12=$AS12,"OK","@@")) | AV12: =IF($AN12="","",IF($AO12="지역개발기금",SUMIFS('3. 일출(의존)'!$AE$7:$AE$1840,'3. 일출(의존)'!$AS$7:$AS$1840,$AN12)+SUMIFS('3. 일출(자체)'!$AE$7:$AE$1837,'3. 일출(자체)'!$AM$7:$AM$1837,$AN12),IF($AO12="지방채",SUMIFS('3. 일출(의존)'!$AD$7:$AD$1840,'3. 일출(의존)'!$AS$7:$AS$1840,$AN12)+SUMIFS('3. 일출(자체)'!$AD$7:$AD$1837,'3. 일출(자체)'!$AM$7:$AM$1837,$AN12),0))) | AW12: =IF($AN12="","", COUNTIF('3. 일출(의존)'!$AS$7:$AS$1840,$AN12)+COUNTIF('3. 일출(자체)'!$AM$7:$AM$1837,$AN12)) | AX12: =IF($AN12="","", IF($AO12="자체","", IF($AO12="지방채", IF($AC12=$AV12, "OK", "@@"), IF($AO12="지역개발기금", IF($AD12=$AV12,"OK","@@"), "@@")))) | AZ12: =IF($AK12="","", SUMIFS('3. 일출(의존)'!$AH$7:$AH$1829,'3. 일출(의존)'!$AN$7:$AN$1829,$AK12)) | BA12: =IF($AK12="","", COUNTIF('3. 일출(의존)'!$AN$7:$AN$1829,$AK12)) | BB12: =IF($AK12="", "", IF($AF12=$AZ12,"OK","@@")) | BC12: =IF($AN12="","",IF($AO12="지역개발기금",SUMIFS('3. 일출(의존)'!$AK$7:$AK$1840,'3. 일출(의존)'!$AS$7:$AS$1840,$AN12)+SUMIFS('3. 일출(자체)'!$AJ$7:$AJ$1837,'3. 일출(자체)'!$AM$7:$AM$1837,$AN12),IF($AO12="지방채",SUMIFS('3. 일출(의존)'!$AJ$7:$AJ$1840,'3. 일출(의존)'!$AS$7:$AS$1840,$AN12)+SUMIFS('3. 일출(자체)'!$AI$7:$AI$1837,'3. 일출(자체)'!$AM$7:$AM$1837,$AN12),0))) | BD12: =IF($AN12="","",COUNTIF('3. 일출(의존)'!$AS$7:$AS$1840,$AN12)+COUNTIF('3. 일출(자체)'!$AM$7:$AM$1837,$AN12)) | BE12: =IF($AN12="","", IF($AO12="자체", "", IF($AO12="지방채", IF($AH12=$BC12, "OK", "@@"), IF($AO12="지역개발기금", IF($AI12=$BC12,"OK","@@"), "@@"))))
A13: =IF(D13="","",COUNTA($C$8:C13)-COUNTBLANK($C$8:C13)+11) | B13: =IF(D13="","",IF(OR(C13="직접입력",D13="북부지원"),"직접입력",IF(OR(AND(D13="인사과",C13="의회사무처"),AND(D13="총무과",C13="의회사무처")),"의회운영위원회",IF(OR(C13="직접입력",D13="북부지원"),"직접입력",IF(OR(AND(D13="인사과",C13="자치행정국"),AND(D13="총무과",C13="자치행정국")),"안전행정위원회",VLOOKUP(D13,구분표!$A$3:$C$258,2,)))))) | C13: =IF(D13="","",IF(OR(D13="교육지원과",D13="총무과",D13="인사과"),"직접입력",VLOOKUP(D13,구분표!$A$3:$C$258,3,))) | F13: =IF($E13="","",IF($E13="2추","직접입력","-")) | G13: =IF($E13="","",IF($E13="2추","직접입력","-")) | I13: =IF(H13="","",VLOOKUP($H13,구분표!$O$3:$P$168,2,FALSE)) | K13: =IF($E13="","",IF(OR($E13="2추", $E13="1추", $E13="본예산"), "금액입력", "-")) | L13: =IF($E13="", "", IF($E13="2추","금액입력", "-")) | M13: =IF($E13="","",SUM(K13:L13)) | O13: =SUM(M13:N13) -> 0 | Q13: =SUM(M13,P13) -> 0 | R13: =IF(AND((O13=0),(Q13>0)),"O",IF(AND((N13<0),(O13-Q13<0)),"O","X")) -> X | Y13: =IF($H13="","",IF(OR($H13="511-01", $H13="511-02", $H13="511-03", $H13="311-02", $H13="311-04", $H13="321-01"),"국비","도비")) | AA13: =IF($Y13="국비", IF($N13<>"", $N13, 0), "") | AB13: =IF($Y13="도비", IF($AO13="자체", IF($N13<>"",$N13,0),""), "") | AC13: =IF($Y13="도비",IF($AO13="지방채",IF($N13<>"",$N13,0),""), "") | AD13: =IF($Y13="도비",IF($AO13="지역개발기금",IF($N13<>"",$N13,0),""),"") | AF13: =IF($Y13="국비", IF($P13<>"", $P13, 0), "") | AG13: =IF($Y13="도비", IF($AO13="자체", IF($P13<>"",$P13,0),""), "") | AH13: =IF($Y13="도비",IF($AO13="지방채",IF($P13<>"",$P13,0),""), "") | AI13: =IF($Y13="도비",IF($AO13="지역개발기금",IF($P13<>"",$P13,0),""),"") | AK13: =IF($AQ13="","", IF(OR($AL13="", $AL13="도비"), "", CONCATENATE($AQ13,"-",COUNTIF($AQ$8:$AQ13,$AQ13)))) | AL13: =IF($H13="","",IF($H13="511-01","국비",IF($H13="511-02","균특",IF($H13="511-03","기금",IF($H13="311-02","특교",IF($H13="311-04","소교",IF($H13="321-01","소멸","도비"))))))) | AN13: =IF($AQ13="","", IF(OR($AO13="", $AO13="국비", $AO13="자체"), "", CONCATENATE($AQ13,"-", $AO13,"-",COUNTIF($AQ$8:$AQ13, $AQ13)))) | AO13: =IF($Y13="","", IF($Y13="국비", "국비", IF($H13="612-01","지방채",IF($H13="722-02","지역개발기금","자체")))) | AQ13: {=IF(OR($D13="", $C13="직접입력", $B13="직접입력"),"",INDEX(구분표!$I$2:$I$337, MATCH(1,(구분표!$G$2:$G$337='3. 일입'!$B13)*(구분표!$E$2:$E$337='3. 일입'!$C13)*(구분표!$F$2:$F$337='3. 일입'!$D13),0)))} | AS13: =IF($AK13="","", SUMIFS('3. 일출(의존)'!$AB$7:$AB$1829,'3. 일출(의존)'!$AN$7:$AN$1829,$AK13)) | AT13: =IF($AK13="","", COUNTIF('3. 일출(의존)'!$AN$7:$AN$1829,$AK13)) | AU13: =IF($AK13="", "", IF($AA13=$AS13,"OK","@@")) | AV13: =IF($AN13="","",IF($AO13="지역개발기금",SUMIFS('3. 일출(의존)'!$AE$7:$AE$1840,'3. 일출(의존)'!$AS$7:$AS$1840,$AN13)+SUMIFS('3. 일출(자체)'!$AE$7:$AE$1837,'3. 일출(자체)'!$AM$7:$AM$1837,$AN13),IF($AO13="지방채",SUMIFS('3. 일출(의존)'!$AD$7:$AD$1840,'3. 일출(의존)'!$AS$7:$AS$1840,$AN13)+SUMIFS('3. 일출(자체)'!$AD$7:$AD$1837,'3. 일출(자체)'!$AM$7:$AM$1837,$AN13),0))) | AW13: =IF($AN13="","", COUNTIF('3. 일출(의존)'!$AS$7:$AS$1840,$AN13)+COUNTIF('3. 일출(자체)'!$AM$7:$AM$1837,$AN13)) | AX13: =IF($AN13="","", IF($AO13="자체","", IF($AO13="지방채", IF($AC13=$AV13, "OK", "@@"), IF($AO13="지역개발기금", IF($AD13=$AV13,"OK","@@"), "@@")))) | AZ13: =IF($AK13="","", SUMIFS('3. 일출(의존)'!$AH$7:$AH$1829,'3. 일출(의존)'!$AN$7:$AN$1829,$AK13)) | BA13: =IF($AK13="","", COUNTIF('3. 일출(의존)'!$AN$7:$AN$1829,$AK13)) | BB13: =IF($AK13="", "", IF($AF13=$AZ13,"OK","@@")) | BC13: =IF($AN13="","",IF($AO13="지역개발기금",SUMIFS('3. 일출(의존)'!$AK$7:$AK$1840,'3. 일출(의존)'!$AS$7:$AS$1840,$AN13)+SUMIFS('3. 일출(자체)'!$AJ$7:$AJ$1837,'3. 일출(자체)'!$AM$7:$AM$1837,$AN13),IF($AO13="지방채",SUMIFS('3. 일출(의존)'!$AJ$7:$AJ$1840,'3. 일출(의존)'!$AS$7:$AS$1840,$AN13)+SUMIFS('3. 일출(자체)'!$AI$7:$AI$1837,'3. 일출(자체)'!$AM$7:$AM$1837,$AN13),0))) | BD13: =IF($AN13="","",COUNTIF('3. 일출(의존)'!$AS$7:$AS$1840,$AN13)+COUNTIF('3. 일출(자체)'!$AM$7:$AM$1837,$AN13)) | BE13: =IF($AN13="","", IF($AO13="자체", "", IF($AO13="지방채", IF($AH13=$BC13, "OK", "@@"), IF($AO13="지역개발기금", IF($AI13=$BC13,"OK","@@"), "@@"))))
A14: =IF(D14="","",COUNTA($C$8:C14)-COUNTBLANK($C$8:C14)+11) | B14: =IF(D14="","",IF(OR(C14="직접입력",D14="북부지원"),"직접입력",IF(OR(AND(D14="인사과",C14="의회사무처"),AND(D14="총무과",C14="의회사무처")),"의회운영위원회",IF(OR(C14="직접입력",D14="북부지원"),"직접입력",IF(OR(AND(D14="인사과",C14="자치행정국"),AND(D14="총무과",C14="자치행정국")),"안전행정위원회",VLOOKUP(D14,구분표!$A$3:$C$258,2,)))))) | C14: =IF(D14="","",IF(OR(D14="교육지원과",D14="총무과",D14="인사과"),"직접입력",VLOOKUP(D14,구분표!$A$3:$C$258,3,))) | F14: =IF($E14="","",IF($E14="2추","직접입력","-")) | G14: =IF($E14="","",IF($E14="2추","직접입력","-")) | I14: =IF(H14="","",VLOOKUP($H14,구분표!$O$3:$P$168,2,FALSE)) | K14: =IF($E14="","",IF(OR($E14="2추", $E14="1추", $E14="본예산"), "금액입력", "-")) | L14: =IF($E14="", "", IF($E14="2추","금액입력", "-")) | M14: =IF($E14="","",SUM(K14:L14)) | O14: =SUM(M14:N14) -> 0 | Q14: =SUM(M14,P14) -> 0 | R14: =IF(AND((O14=0),(Q14>0)),"O",IF(AND((N14<0),(O14-Q14<0)),"O","X")) -> X | Y14: =IF($H14="","",IF(OR($H14="511-01", $H14="511-02", $H14="511-03", $H14="311-02", $H14="311-04", $H14="321-01"),"국비","도비")) | AA14: =IF($Y14="국비", IF($N14<>"", $N14, 0), "") | AB14: =IF($Y14="도비", IF($AO14="자체", IF($N14<>"",$N14,0),""), "") | AC14: =IF($Y14="도비",IF($AO14="지방채",IF($N14<>"",$N14,0),""), "") | AD14: =IF($Y14="도비",IF($AO14="지역개발기금",IF($N14<>"",$N14,0),""),"") | AF14: =IF($Y14="국비", IF($P14<>"", $P14, 0), "") | AG14: =IF($Y14="도비", IF($AO14="자체", IF($P14<>"",$P14,0),""), "") | AH14: =IF($Y14="도비",IF($AO14="지방채",IF($P14<>"",$P14,0),""), "") | AI14: =IF($Y14="도비",IF($AO14="지역개발기금",IF($P14<>"",$P14,0),""),"") | AK14: =IF($AQ14="","", IF(OR($AL14="", $AL14="도비"), "", CONCATENATE($AQ14,"-",COUNTIF($AQ$8:$AQ14,$AQ14)))) | AL14: =IF($H14="","",IF($H14="511-01","국비",IF($H14="511-02","균특",IF($H14="511-03","기금",IF($H14="311-02","특교",IF($H14="311-04","소교",IF($H14="321-01","소멸","도비"))))))) | AN14: =IF($AQ14="","", IF(OR($AO14="", $AO14="국비", $AO14="자체"), "", CONCATENATE($AQ14,"-", $AO14,"-",COUNTIF($AQ$8:$AQ14, $AQ14)))) | AO14: =IF($Y14="","", IF($Y14="국비", "국비", IF($H14="612-01","지방채",IF($H14="722-02","지역개발기금","자체")))) | AQ14: {=IF(OR($D14="", $C14="직접입력", $B14="직접입력"),"",INDEX(구분표!$I$2:$I$337, MATCH(1,(구분표!$G$2:$G$337='3. 일입'!$B14)*(구분표!$E$2:$E$337='3. 일입'!$C14)*(구분표!$F$2:$F$337='3. 일입'!$D14),0)))} | AS14: =IF($AK14="","", SUMIFS('3. 일출(의존)'!$AB$7:$AB$1829,'3. 일출(의존)'!$AN$7:$AN$1829,$AK14)) | AT14: =IF($AK14="","", COUNTIF('3. 일출(의존)'!$AN$7:$AN$1829,$AK14)) | AU14: =IF($AK14="", "", IF($AA14=$AS14,"OK","@@")) | AV14: =IF($AN14="","",IF($AO14="지역개발기금",SUMIFS('3. 일출(의존)'!$AE$7:$AE$1840,'3. 일출(의존)'!$AS$7:$AS$1840,$AN14)+SUMIFS('3. 일출(자체)'!$AE$7:$AE$1837,'3. 일출(자체)'!$AM$7:$AM$1837,$AN14),IF($AO14="지방채",SUMIFS('3. 일출(의존)'!$AD$7:$AD$1840,'3. 일출(의존)'!$AS$7:$AS$1840,$AN14)+SUMIFS('3. 일출(자체)'!$AD$7:$AD$1837,'3. 일출(자체)'!$AM$7:$AM$1837,$AN14),0))) | AW14: =IF($AN14="","", COUNTIF('3. 일출(의존)'!$AS$7:$AS$1840,$AN14)+COUNTIF('3. 일출(자체)'!$AM$7:$AM$1837,$AN14)) | AX14: =IF($AN14="","", IF($AO14="자체","", IF($AO14="지방채", IF($AC14=$AV14, "OK", "@@"), IF($AO14="지역개발기금", IF($AD14=$AV14,"OK","@@"), "@@")))) | AZ14: =IF($AK14="","", SUMIFS('3. 일출(의존)'!$AH$7:$AH$1829,'3. 일출(의존)'!$AN$7:$AN$1829,$AK14)) | BA14: =IF($AK14="","", COUNTIF('3. 일출(의존)'!$AN$7:$AN$1829,$AK14)) | BB14: =IF($AK14="", "", IF($AF14=$AZ14,"OK","@@")) | BC14: =IF($AN14="","",IF($AO14="지역개발기금",SUMIFS('3. 일출(의존)'!$AK$7:$AK$1840,'3. 일출(의존)'!$AS$7:$AS$1840,$AN14)+SUMIFS('3. 일출(자체)'!$AJ$7:$AJ$1837,'3. 일출(자체)'!$AM$7:$AM$1837,$AN14),IF($AO14="지방채",SUMIFS('3. 일출(의존)'!$AJ$7:$AJ$1840,'3. 일출(의존)'!$AS$7:$AS$1840,$AN14)+SUMIFS('3. 일출(자체)'!$AI$7:$AI$1837,'3. 일출(자체)'!$AM$7:$AM$1837,$AN14),0))) | BD14: =IF($AN14="","",COUNTIF('3. 일출(의존)'!$AS$7:$AS$1840,$AN14)+COUNTIF('3. 일출(자체)'!$AM$7:$AM$1837,$AN14)) | BE14: =IF($AN14="","", IF($AO14="자체", "", IF($AO14="지방채", IF($AH14=$BC14, "OK", "@@"), IF($AO14="지역개발기금", IF($AI14=$BC14,"OK","@@"), "@@"))))
A15: =IF(D15="","",COUNTA($C$8:C15)-COUNTBLANK($C$8:C15)+11) | B15: =IF(D15="","",IF(OR(C15="직접입력",D15="북부지원"),"직접입력",IF(OR(AND(D15="인사과",C15="의회사무처"),AND(D15="총무과",C15="의회사무처")),"의회운영위원회",IF(OR(C15="직접입력",D15="북부지원"),"직접입력",IF(OR(AND(D15="인사과",C15="자치행정국"),AND(D15="총무과",C15="자치행정국")),"안전행정위원회",VLOOKUP(D15,구분표!$A$3:$C$258,2,)))))) | C15: =IF(D15="","",IF(OR(D15="교육지원과",D15="총무과",D15="인사과"),"직접입력",VLOOKUP(D15,구분표!$A$3:$C$258,3,))) | F15: =IF($E15="","",IF($E15="2추","직접입력","-")) | G15: =IF($E15="","",IF($E15="2추","직접입력","-")) | I15: =IF(H15="","",VLOOKUP($H15,구분표!$O$3:$P$168,2,FALSE)) | K15: =IF($E15="","",IF(OR($E15="2추", $E15="1추", $E15="본예산"), "금액입력", "-")) | L15: =IF($E15="", "", IF($E15="2추","금액입력", "-")) | M15: =IF($E15="","",SUM(K15:L15)) | O15: =SUM(M15:N15) -> 0 | Q15: =SUM(M15,P15) -> 0 | R15: =IF(AND((O15=0),(Q15>0)),"O",IF(AND((N15<0),(O15-Q15<0)),"O","X")) -> X | Y15: =IF($H15="","",IF(OR($H15="511-01", $H15="511-02", $H15="511-03", $H15="311-02", $H15="311-04", $H15="321-01"),"국비","도비")) | AA15: =IF($Y15="국비", IF($N15<>"", $N15, 0), "") | AB15: =IF($Y15="도비", IF($AO15="자체", IF($N15<>"",$N15,0),""), "") | AC15: =IF($Y15="도비",IF($AO15="지방채",IF($N15<>"",$N15,0),""), "") | AD15: =IF($Y15="도비",IF($AO15="지역개발기금",IF($N15<>"",$N15,0),""),"") | AF15: =IF($Y15="국비", IF($P15<>"", $P15, 0), "") | AG15: =IF($Y15="도비", IF($AO15="자체", IF($P15<>"",$P15,0),""), "") | AH15: =IF($Y15="도비",IF($AO15="지방채",IF($P15<>"",$P15,0),""), "") | AI15: =IF($Y15="도비",IF($AO15="지역개발기금",IF($P15<>"",$P15,0),""),"") | AK15: =IF($AQ15="","", IF(OR($AL15="", $AL15="도비"), "", CONCATENATE($AQ15,"-",COUNTIF($AQ$8:$AQ15,$AQ15)))) | AL15: =IF($H15="","",IF($H15="511-01","국비",IF($H15="511-02","균특",IF($H15="511-03","기금",IF($H15="311-02","특교",IF($H15="311-04","소교",IF($H15="321-01","소멸","도비"))))))) | AN15: =IF($AQ15="","", IF(OR($AO15="", $AO15="국비", $AO15="자체"), "", CONCATENATE($AQ15,"-", $AO15,"-",COUNTIF($AQ$8:$AQ15, $AQ15)))) | AO15: =IF($Y15="","", IF($Y15="국비", "국비", IF($H15="612-01","지방채",IF($H15="722-02","지역개발기금","자체")))) | AQ15: {=IF(OR($D15="", $C15="직접입력", $B15="직접입력"),"",INDEX(구분표!$I$2:$I$337, MATCH(1,(구분표!$G$2:$G$337='3. 일입'!$B15)*(구분표!$E$2:$E$337='3. 일입'!$C15)*(구분표!$F$2:$F$337='3. 일입'!$D15),0)))} | AS15: =IF($AK15="","", SUMIFS('3. 일출(의존)'!$AB$7:$AB$1829,'3. 일출(의존)'!$AN$7:$AN$1829,$AK15)) | AT15: =IF($AK15="","", COUNTIF('3. 일출(의존)'!$AN$7:$AN$1829,$AK15)) | AU15: =IF($AK15="", "", IF($AA15=$AS15,"OK","@@")) | AV15: =IF($AN15="","",IF($AO15="지역개발기금",SUMIFS('3. 일출(의존)'!$AE$7:$AE$1840,'3. 일출(의존)'!$AS$7:$AS$1840,$AN15)+SUMIFS('3. 일출(자체)'!$AE$7:$AE$1837,'3. 일출(자체)'!$AM$7:$AM$1837,$AN15),IF($AO15="지방채",SUMIFS('3. 일출(의존)'!$AD$7:$AD$1840,'3. 일출(의존)'!$AS$7:$AS$1840,$AN15)+SUMIFS('3. 일출(자체)'!$AD$7:$AD$1837,'3. 일출(자체)'!$AM$7:$AM$1837,$AN15),0))) | AW15: =IF($AN15="","", COUNTIF('3. 일출(의존)'!$AS$7:$AS$1840,$AN15)+COUNTIF('3. 일출(자체)'!$AM$7:$AM$1837,$AN15)) | AX15: =IF($AN15="","", IF($AO15="자체","", IF($AO15="지방채", IF($AC15=$AV15, "OK", "@@"), IF($AO15="지역개발기금", IF($AD15=$AV15,"OK","@@"), "@@")))) | AZ15: =IF($AK15="","", SUMIFS('3. 일출(의존)'!$AH$7:$AH$1829,'3. 일출(의존)'!$AN$7:$AN$1829,$AK15)) | BA15: =IF($AK15="","", COUNTIF('3. 일출(의존)'!$AN$7:$AN$1829,$AK15)) | BB15: =IF($AK15="", "", IF($AF15=$AZ15,"OK","@@")) | BC15: =IF($AN15="","",IF($AO15="지역개발기금",SUMIFS('3. 일출(의존)'!$AK$7:$AK$1840,'3. 일출(의존)'!$AS$7:$AS$1840,$AN15)+SUMIFS('3. 일출(자체)'!$AJ$7:$AJ$1837,'3. 일출(자체)'!$AM$7:$AM$1837,$AN15),IF($AO15="지방채",SUMIFS('3. 일출(의존)'!$AJ$7:$AJ$1840,'3. 일출(의존)'!$AS$7:$AS$1840,$AN15)+SUMIFS('3. 일출(자체)'!$AI$7:$AI$1837,'3. 일출(자체)'!$AM$7:$AM$1837,$AN15),0))) | BD15: =IF($AN15="","",COUNTIF('3. 일출(의존)'!$AS$7:$AS$1840,$AN15)+COUNTIF('3. 일출(자체)'!$AM$7:$AM$1837,$AN15)) | BE15: =IF($AN15="","", IF($AO15="자체", "", IF($AO15="지방채", IF($AH15=$BC15, "OK", "@@"), IF($AO15="지역개발기금", IF($AI15=$BC15,"OK","@@"), "@@"))))
A16: =IF(D16="","",COUNTA($C$8:C16)-COUNTBLANK($C$8:C16)+11) | B16: =IF(D16="","",IF(OR(C16="직접입력",D16="북부지원"),"직접입력",IF(OR(AND(D16="인사과",C16="의회사무처"),AND(D16="총무과",C16="의회사무처")),"의회운영위원회",IF(OR(C16="직접입력",D16="북부지원"),"직접입력",IF(OR(AND(D16="인사과",C16="자치행정국"),AND(D16="총무과",C16="자치행정국")),"안전행정위원회",VLOOKUP(D16,구분표!$A$3:$C$258,2,)))))) | C16: =IF(D16="","",IF(OR(D16="교육지원과",D16="총무과",D16="인사과"),"직접입력",VLOOKUP(D16,구분표!$A$3:$C$258,3,))) | F16: =IF($E16="","",IF($E16="2추","직접입력","-")) | G16: =IF($E16="","",IF($E16="2추","직접입력","-")) | I16: =IF(H16="","",VLOOKUP($H16,구분표!$O$3:$P$168,2,FALSE)) | K16: =IF($E16="","",IF(OR($E16="2추", $E16="1추", $E16="본예산"), "금액입력", "-")) | L16: =IF($E16="", "", IF($E16="2추","금액입력", "-")) | M16: =IF($E16="","",SUM(K16:L16)) | O16: =SUM(M16:N16) -> 0 | Q16: =SUM(M16,P16) -> 0 | R16: =IF(AND((O16=0),(Q16>0)),"O",IF(AND((N16<0),(O16-Q16<0)),"O","X")) -> X | Y16: =IF($H16="","",IF(OR($H16="511-01", $H16="511-02", $H16="511-03", $H16="311-02", $H16="311-04", $H16="321-01"),"국비","도비")) | AA16: =IF($Y16="국비", IF($N16<>"", $N16, 0), "") | AB16: =IF($Y16="도비", IF($AO16="자체", IF($N16<>"",$N16,0),""), "") | AC16: =IF($Y16="도비",IF($AO16="지방채",IF($N16<>"",$N16,0),""), "") | AD16: =IF($Y16="도비",IF($AO16="지역개발기금",IF($N16<>"",$N16,0),""),"") | AF16: =IF($Y16="국비", IF($P16<>"", $P16, 0), "") | AG16: =IF($Y16="도비", IF($AO16="자체", IF($P16<>"",$P16,0),""), "") | AH16: =IF($Y16="도비",IF($AO16="지방채",IF($P16<>"",$P16,0),""), "") | AI16: =IF($Y16="도비",IF($AO16="지역개발기금",IF($P16<>"",$P16,0),""),"") | AK16: =IF($AQ16="","", IF(OR($AL16="", $AL16="도비"), "", CONCATENATE($AQ16,"-",COUNTIF($AQ$8:$AQ16,$AQ16)))) | AL16: =IF($H16="","",IF($H16="511-01","국비",IF($H16="511-02","균특",IF($H16="511-03","기금",IF($H16="311-02","특교",IF($H16="311-04","소교",IF($H16="321-01","소멸","도비"))))))) | AN16: =IF($AQ16="","", IF(OR($AO16="", $AO16="국비", $AO16="자체"), "", CONCATENATE($AQ16,"-", $AO16,"-",COUNTIF($AQ$8:$AQ16, $AQ16)))) | AO16: =IF($Y16="","", IF($Y16="국비", "국비", IF($H16="612-01","지방채",IF($H16="722-02","지역개발기금","자체")))) | AQ16: {=IF(OR($D16="", $C16="직접입력", $B16="직접입력"),"",INDEX(구분표!$I$2:$I$337, MATCH(1,(구분표!$G$2:$G$337='3. 일입'!$B16)*(구분표!$E$2:$E$337='3. 일입'!$C16)*(구분표!$F$2:$F$337='3. 일입'!$D16),0)))} | AS16: =IF($AK16="","", SUMIFS('3. 일출(의존)'!$AB$7:$AB$1829,'3. 일출(의존)'!$AN$7:$AN$1829,$AK16)) | AT16: =IF($AK16="","", COUNTIF('3. 일출(의존)'!$AN$7:$AN$1829,$AK16)) | AU16: =IF($AK16="", "", IF($AA16=$AS16,"OK","@@")) | AV16: =IF($AN16="","",IF($AO16="지역개발기금",SUMIFS('3. 일출(의존)'!$AE$7:$AE$1840,'3. 일출(의존)'!$AS$7:$AS$1840,$AN16)+SUMIFS('3. 일출(자체)'!$AE$7:$AE$1837,'3. 일출(자체)'!$AM$7:$AM$1837,$AN16),IF($AO16="지방채",SUMIFS('3. 일출(의존)'!$AD$7:$AD$1840,'3. 일출(의존)'!$AS$7:$AS$1840,$AN16)+SUMIFS('3. 일출(자체)'!$AD$7:$AD$1837,'3. 일출(자체)'!$AM$7:$AM$1837,$AN16),0))) | AW16: =IF($AN16="","", COUNTIF('3. 일출(의존)'!$AS$7:$AS$1840,$AN16)+COUNTIF('3. 일출(자체)'!$AM$7:$AM$1837,$AN16)) | AX16: =IF($AN16="","", IF($AO16="자체","", IF($AO16="지방채", IF($AC16=$AV16, "OK", "@@"), IF($AO16="지역개발기금", IF($AD16=$AV16,"OK","@@"), "@@")))) | AZ16: =IF($AK16="","", SUMIFS('3. 일출(의존)'!$AH$7:$AH$1829,'3. 일출(의존)'!$AN$7:$AN$1829,$AK16)) | BA16: =IF($AK16="","", COUNTIF('3. 일출(의존)'!$AN$7:$AN$1829,$AK16)) | BB16: =IF($AK16="", "", IF($AF16=$AZ16,"OK","@@")) | BC16: =IF($AN16="","",IF($AO16="지역개발기금",SUMIFS('3. 일출(의존)'!$AK$7:$AK$1840,'3. 일출(의존)'!$AS$7:$AS$1840,$AN16)+SUMIFS('3. 일출(자체)'!$AJ$7:$AJ$1837,'3. 일출(자체)'!$AM$7:$AM$1837,$AN16),IF($AO16="지방채",SUMIFS('3. 일출(의존)'!$AJ$7:$AJ$1840,'3. 일출(의존)'!$AS$7:$AS$1840,$AN16)+SUMIFS('3. 일출(자체)'!$AI$7:$AI$1837,'3. 일출(자체)'!$AM$7:$AM$1837,$AN16),0))) | BD16: =IF($AN16="","",COUNTIF('3. 일출(의존)'!$AS$7:$AS$1840,$AN16)+COUNTIF('3. 일출(자체)'!$AM$7:$AM$1837,$AN16)) | BE16: =IF($AN16="","", IF($AO16="자체", "", IF($AO16="지방채", IF($AH16=$BC16, "OK", "@@"), IF($AO16="지역개발기금", IF($AI16=$BC16,"OK","@@"), "@@"))))
A17: =IF(D17="","",COUNTA($C$8:C17)-COUNTBLANK($C$8:C17)+11) | B17: =IF(D17="","",IF(OR(C17="직접입력",D17="북부지원"),"직접입력",IF(OR(AND(D17="인사과",C17="의회사무처"),AND(D17="총무과",C17="의회사무처")),"의회운영위원회",IF(OR(C17="직접입력",D17="북부지원"),"직접입력",IF(OR(AND(D17="인사과",C17="자치행정국"),AND(D17="총무과",C17="자치행정국")),"안전행정위원회",VLOOKUP(D17,구분표!$A$3:$C$258,2,)))))) | C17: =IF(D17="","",IF(OR(D17="교육지원과",D17="총무과",D17="인사과"),"직접입력",VLOOKUP(D17,구분표!$A$3:$C$258,3,))) | F17: =IF($E17="","",IF($E17="2추","직접입력","-")) | G17: =IF($E17="","",IF($E17="2추","직접입력","-")) | I17: =IF(H17="","",VLOOKUP($H17,구분표!$O$3:$P$168,2,FALSE)) | K17: =IF($E17="","",IF(OR($E17="2추", $E17="1추", $E17="본예산"), "금액입력", "-")) | L17: =IF($E17="", "", IF($E17="2추","금액입력", "-")) | M17: =IF($E17="","",SUM(K17:L17)) | O17: =SUM(M17:N17) -> 0 | Q17: =SUM(M17,P17) -> 0 | R17: =IF(AND((O17=0),(Q17>0)),"O",IF(AND((N17<0),(O17-Q17<0)),"O","X")) -> X | Y17: =IF($H17="","",IF(OR($H17="511-01", $H17="511-02", $H17="511-03", $H17="311-02", $H17="311-04", $H17="321-01"),"국비","도비")) | AA17: =IF($Y17="국비", IF($N17<>"", $N17, 0), "") | AB17: =IF($Y17="도비", IF($AO17="자체", IF($N17<>"",$N17,0),""), "") | AC17: =IF($Y17="도비",IF($AO17="지방채",IF($N17<>"",$N17,0),""), "") | AD17: =IF($Y17="도비",IF($AO17="지역개발기금",IF($N17<>"",$N17,0),""),"") | AF17: =IF($Y17="국비", IF($P17<>"", $P17, 0), "") | AG17: =IF($Y17="도비", IF($AO17="자체", IF($P17<>"",$P17,0),""), "") | AH17: =IF($Y17="도비",IF($AO17="지방채",IF($P17<>"",$P17,0),""), "") | AI17: =IF($Y17="도비",IF($AO17="지역개발기금",IF($P17<>"",$P17,0),""),"") | AK17: =IF($AQ17="","", IF(OR($AL17="", $AL17="도비"), "", CONCATENATE($AQ17,"-",COUNTIF($AQ$8:$AQ17,$AQ17)))) | AL17: =IF($H17="","",IF($H17="511-01","국비",IF($H17="511-02","균특",IF($H17="511-03","기금",IF($H17="311-02","특교",IF($H17="311-04","소교",IF($H17="321-01","소멸","도비"))))))) | AN17: =IF($AQ17="","", IF(OR($AO17="", $AO17="국비", $AO17="자체"), "", CONCATENATE($AQ17,"-", $AO17,"-",COUNTIF($AQ$8:$AQ17, $AQ17)))) | AO17: =IF($Y17="","", IF($Y17="국비", "국비", IF($H17="612-01","지방채",IF($H17="722-02","지역개발기금","자체")))) | AQ17: {=IF(OR($D17="", $C17="직접입력", $B17="직접입력"),"",INDEX(구분표!$I$2:$I$337, MATCH(1,(구분표!$G$2:$G$337='3. 일입'!$B17)*(구분표!$E$2:$E$337='3. 일입'!$C17)*(구분표!$F$2:$F$337='3. 일입'!$D17),0)))} | AS17: =IF($AK17="","", SUMIFS('3. 일출(의존)'!$AB$7:$AB$1829,'3. 일출(의존)'!$AN$7:$AN$1829,$AK17)) | AT17: =IF($AK17="","", COUNTIF('3. 일출(의존)'!$AN$7:$AN$1829,$AK17)) | AU17: =IF($AK17="", "", IF($AA17=$AS17,"OK","@@")) | AV17: =IF($AN17="","",IF($AO17="지역개발기금",SUMIFS('3. 일출(의존)'!$AE$7:$AE$1840,'3. 일출(의존)'!$AS$7:$AS$1840,$AN17)+SUMIFS('3. 일출(자체)'!$AE$7:$AE$1837,'3. 일출(자체)'!$AM$7:$AM$1837,$AN17),IF($AO17="지방채",SUMIFS('3. 일출(의존)'!$AD$7:$AD$1840,'3. 일출(의존)'!$AS$7:$AS$1840,$AN17)+SUMIFS('3. 일출(자체)'!$AD$7:$AD$1837,'3. 일출(자체)'!$AM$7:$AM$1837,$AN17),0))) | AW17: =IF($AN17="","", COUNTIF('3. 일출(의존)'!$AS$7:$AS$1840,$AN17)+COUNTIF('3. 일출(자체)'!$AM$7:$AM$1837,$AN17)) | AX17: =IF($AN17="","", IF($AO17="자체","", IF($AO17="지방채", IF($AC17=$AV17, "OK", "@@"), IF($AO17="지역개발기금", IF($AD17=$AV17,"OK","@@"), "@@")))) | AZ17: =IF($AK17="","", SUMIFS('3. 일출(의존)'!$AH$7:$AH$1829,'3. 일출(의존)'!$AN$7:$AN$1829,$AK17)) | BA17: =IF($AK17="","", COUNTIF('3. 일출(의존)'!$AN$7:$AN$1829,$AK17)) | BB17: =IF($AK17="", "", IF($AF17=$AZ17,"OK","@@")) | BC17: =IF($AN17="","",IF($AO17="지역개발기금",SUMIFS('3. 일출(의존)'!$AK$7:$AK$1840,'3. 일출(의존)'!$AS$7:$AS$1840,$AN17)+SUMIFS('3. 일출(자체)'!$AJ$7:$AJ$1837,'3. 일출(자체)'!$AM$7:$AM$1837,$AN17),IF($AO17="지방채",SUMIFS('3. 일출(의존)'!$AJ$7:$AJ$1840,'3. 일출(의존)'!$AS$7:$AS$1840,$AN17)+SUMIFS('3. 일출(자체)'!$AI$7:$AI$1837,'3. 일출(자체)'!$AM$7:$AM$1837,$AN17),0))) | BD17: =IF($AN17="","",COUNTIF('3. 일출(의존)'!$AS$7:$AS$1840,$AN17)+COUNTIF('3. 일출(자체)'!$AM$7:$AM$1837,$AN17)) | BE17: =IF($AN17="","", IF($AO17="자체", "", IF($AO17="지방채", IF($AH17=$BC17, "OK", "@@"), IF($AO17="지역개발기금", IF($AI17=$BC17,"OK","@@"), "@@"))))
A18: =IF(D18="","",COUNTA($C$8:C18)-COUNTBLANK($C$8:C18)+11) | B18: =IF(D18="","",IF(OR(C18="직접입력",D18="북부지원"),"직접입력",IF(OR(AND(D18="인사과",C18="의회사무처"),AND(D18="총무과",C18="의회사무처")),"의회운영위원회",IF(OR(C18="직접입력",D18="북부지원"),"직접입력",IF(OR(AND(D18="인사과",C18="자치행정국"),AND(D18="총무과",C18="자치행정국")),"안전행정위원회",VLOOKUP(D18,구분표!$A$3:$C$258,2,)))))) | C18: =IF(D18="","",IF(OR(D18="교육지원과",D18="총무과",D18="인사과"),"직접입력",VLOOKUP(D18,구분표!$A$3:$C$258,3,))) | F18: =IF($E18="","",IF($E18="2추","직접입력","-")) | G18: =IF($E18="","",IF($E18="2추","직접입력","-")) | I18: =IF(H18="","",VLOOKUP($H18,구분표!$O$3:$P$168,2,FALSE)) | K18: =IF($E18="","",IF(OR($E18="2추", $E18="1추", $E18="본예산"), "금액입력", "-")) | L18: =IF($E18="", "", IF($E18="2추","금액입력", "-")) | M18: =IF($E18="","",SUM(K18:L18)) | O18: =SUM(M18:N18) -> 0 | Q18: =SUM(M18,P18) -> 0 | R18: =IF(AND((O18=0),(Q18>0)),"O",IF(AND((N18<0),(O18-Q18<0)),"O","X")) -> X | Y18: =IF($H18="","",IF(OR($H18="511-01", $H18="511-02", $H18="511-03", $H18="311-02", $H18="311-04", $H18="321-01"),"국비","도비")) | AA18: =IF($Y18="국비", IF($N18<>"", $N18, 0), "") | AB18: =IF($Y18="도비", IF($AO18="자체", IF($N18<>"",$N18,0),""), "") | AC18: =IF($Y18="도비",IF($AO18="지방채",IF($N18<>"",$N18,0),""), "") | AD18: =IF($Y18="도비",IF($AO18="지역개발기금",IF($N18<>"",$N18,0),""),"") | AF18: =IF($Y18="국비", IF($P18<>"", $P18, 0), "") | AG18: =IF($Y18="도비", IF($AO18="자체", IF($P18<>"",$P18,0),""), "") | AH18: =IF($Y18="도비",IF($AO18="지방채",IF($P18<>"",$P18,0),""), "") | AI18: =IF($Y18="도비",IF($AO18="지역개발기금",IF($P18<>"",$P18,0),""),"") | AK18: =IF($AQ18="","", IF(OR($AL18="", $AL18="도비"), "", CONCATENATE($AQ18,"-",COUNTIF($AQ$8:$AQ18,$AQ18)))) | AL18: =IF($H18="","",IF($H18="511-01","국비",IF($H18="511-02","균특",IF($H18="511-03","기금",IF($H18="311-02","특교",IF($H18="311-04","소교",IF($H18="321-01","소멸","도비"))))))) | AN18: =IF($AQ18="","", IF(OR($AO18="", $AO18="국비", $AO18="자체"), "", CONCATENATE($AQ18,"-", $AO18,"-",COUNTIF($AQ$8:$AQ18, $AQ18)))) | AO18: =IF($Y18="","", IF($Y18="국비", "국비", IF($H18="612-01","지방채",IF($H18="722-02","지역개발기금","자체")))) | AQ18: {=IF(OR($D18="", $C18="직접입력", $B18="직접입력"),"",INDEX(구분표!$I$2:$I$337, MATCH(1,(구분표!$G$2:$G$337='3. 일입'!$B18)*(구분표!$E$2:$E$337='3. 일입'!$C18)*(구분표!$F$2:$F$337='3. 일입'!$D18),0)))} | AS18: =IF($AK18="","", SUMIFS('3. 일출(의존)'!$AB$7:$AB$1829,'3. 일출(의존)'!$AN$7:$AN$1829,$AK18)) | AT18: =IF($AK18="","", COUNTIF('3. 일출(의존)'!$AN$7:$AN$1829,$AK18)) | AU18: =IF($AK18="", "", IF($AA18=$AS18,"OK","@@")) | AV18: =IF($AN18="","",IF($AO18="지역개발기금",SUMIFS('3. 일출(의존)'!$AE$7:$AE$1840,'3. 일출(의존)'!$AS$7:$AS$1840,$AN18)+SUMIFS('3. 일출(자체)'!$AE$7:$AE$1837,'3. 일출(자체)'!$AM$7:$AM$1837,$AN18),IF($AO18="지방채",SUMIFS('3. 일출(의존)'!$AD$7:$AD$1840,'3. 일출(의존)'!$AS$7:$AS$1840,$AN18)+SUMIFS('3. 일출(자체)'!$AD$7:$AD$1837,'3. 일출(자체)'!$AM$7:$AM$1837,$AN18),0))) | AW18: =IF($AN18="","", COUNTIF('3. 일출(의존)'!$AS$7:$AS$1840,$AN18)+COUNTIF('3. 일출(자체)'!$AM$7:$AM$1837,$AN18)) | AX18: =IF($AN18="","", IF($AO18="자체","", IF($AO18="지방채", IF($AC18=$AV18, "OK", "@@"), IF($AO18="지역개발기금", IF($AD18=$AV18,"OK","@@"), "@@")))) | AZ18: =IF($AK18="","", SUMIFS('3. 일출(의존)'!$AH$7:$AH$1829,'3. 일출(의존)'!$AN$7:$AN$1829,$AK18)) | BA18: =IF($AK18="","", COUNTIF('3. 일출(의존)'!$AN$7:$AN$1829,$AK18)) | BB18: =IF($AK18="", "", IF($AF18=$AZ18,"OK","@@")) | BC18: =IF($AN18="","",IF($AO18="지역개발기금",SUMIFS('3. 일출(의존)'!$AK$7:$AK$1840,'3. 일출(의존)'!$AS$7:$AS$1840,$AN18)+SUMIFS('3. 일출(자체)'!$AJ$7:$AJ$1837,'3. 일출(자체)'!$AM$7:$AM$1837,$AN18),IF($AO18="지방채",SUMIFS('3. 일출(의존)'!$AJ$7:$AJ$1840,'3. 일출(의존)'!$AS$7:$AS$1840,$AN18)+SUMIFS('3. 일출(자체)'!$AI$7:$AI$1837,'3. 일출(자체)'!$AM$7:$AM$1837,$AN18),0))) | BD18: =IF($AN18="","",COUNTIF('3. 일출(의존)'!$AS$7:$AS$1840,$AN18)+COUNTIF('3. 일출(자체)'!$AM$7:$AM$1837,$AN18)) | BE18: =IF($AN18="","", IF($AO18="자체", "", IF($AO18="지방채", IF($AH18=$BC18, "OK", "@@"), IF($AO18="지역개발기금", IF($AI18=$BC18,"OK","@@"), "@@"))))
A19: =IF(D19="","",COUNTA($C$8:C19)-COUNTBLANK($C$8:C19)+11) | B19: =IF(D19="","",IF(OR(C19="직접입력",D19="북부지원"),"직접입력",IF(OR(AND(D19="인사과",C19="의회사무처"),AND(D19="총무과",C19="의회사무처")),"의회운영위원회",IF(OR(C19="직접입력",D19="북부지원"),"직접입력",IF(OR(AND(D19="인사과",C19="자치행정국"),AND(D19="총무과",C19="자치행정국")),"안전행정위원회",VLOOKUP(D19,구분표!$A$3:$C$258,2,)))))) | C19: =IF(D19="","",IF(OR(D19="교육지원과",D19="총무과",D19="인사과"),"직접입력",VLOOKUP(D19,구분표!$A$3:$C$258,3,))) | F19: =IF($E19="","",IF($E19="2추","직접입력","-")) | G19: =IF($E19="","",IF($E19="2추","직접입력","-")) | I19: =IF(H19="","",VLOOKUP($H19,구분표!$O$3:$P$168,2,FALSE)) | K19: =IF($E19="","",IF(OR($E19="2추", $E19="1추", $E19="본예산"), "금액입력", "-")) | L19: =IF($E19="", "", IF($E19="2추","금액입력", "-")) | M19: =IF($E19="","",SUM(K19:L19)) | O19: =SUM(M19:N19) -> 0 | Q19: =SUM(M19,P19) -> 0 | R19: =IF(AND((O19=0),(Q19>0)),"O",IF(AND((N19<0),(O19-Q19<0)),"O","X")) -> X | Y19: =IF($H19="","",IF(OR($H19="511-01", $H19="511-02", $H19="511-03", $H19="311-02", $H19="311-04", $H19="321-01"),"국비","도비")) | AA19: =IF($Y19="국비", IF($N19<>"", $N19, 0), "") | AB19: =IF($Y19="도비", IF($AO19="자체", IF($N19<>"",$N19,0),""), "") | AC19: =IF($Y19="도비",IF($AO19="지방채",IF($N19<>"",$N19,0),""), "") | AD19: =IF($Y19="도비",IF($AO19="지역개발기금",IF($N19<>"",$N19,0),""),"") | AF19: =IF($Y19="국비", IF($P19<>"", $P19, 0), "") | AG19: =IF($Y19="도비", IF($AO19="자체", IF($P19<>"",$P19,0),""), "") | AH19: =IF($Y19="도비",IF($AO19="지방채",IF($P19<>"",$P19,0),""), "") | AI19: =IF($Y19="도비",IF($AO19="지역개발기금",IF($P19<>"",$P19,0),""),"") | AK19: =IF($AQ19="","", IF(OR($AL19="", $AL19="도비"), "", CONCATENATE($AQ19,"-",COUNTIF($AQ$8:$AQ19,$AQ19)))) | AL19: =IF($H19="","",IF($H19="511-01","국비",IF($H19="511-02","균특",IF($H19="511-03","기금",IF($H19="311-02","특교",IF($H19="311-04","소교",IF($H19="321-01","소멸","도비"))))))) | AN19: =IF($AQ19="","", IF(OR($AO19="", $AO19="국비", $AO19="자체"), "", CONCATENATE($AQ19,"-", $AO19,"-",COUNTIF($AQ$8:$AQ19, $AQ19)))) | AO19: =IF($Y19="","", IF($Y19="국비", "국비", IF($H19="612-01","지방채",IF($H19="722-02","지역개발기금","자체")))) | AQ19: {=IF(OR($D19="", $C19="직접입력", $B19="직접입력"),"",INDEX(구분표!$I$2:$I$337, MATCH(1,(구분표!$G$2:$G$337='3. 일입'!$B19)*(구분표!$E$2:$E$337='3. 일입'!$C19)*(구분표!$F$2:$F$337='3. 일입'!$D19),0)))} | AS19: =IF($AK19="","", SUMIFS('3. 일출(의존)'!$AB$7:$AB$1829,'3. 일출(의존)'!$AN$7:$AN$1829,$AK19)) | AT19: =IF($AK19="","", COUNTIF('3. 일출(의존)'!$AN$7:$AN$1829,$AK19)) | AU19: =IF($AK19="", "", IF($AA19=$AS19,"OK","@@")) | AV19: =IF($AN19="","",IF($AO19="지역개발기금",SUMIFS('3. 일출(의존)'!$AE$7:$AE$1840,'3. 일출(의존)'!$AS$7:$AS$1840,$AN19)+SUMIFS('3. 일출(자체)'!$AE$7:$AE$1837,'3. 일출(자체)'!$AM$7:$AM$1837,$AN19),IF($AO19="지방채",SUMIFS('3. 일출(의존)'!$AD$7:$AD$1840,'3. 일출(의존)'!$AS$7:$AS$1840,$AN19)+SUMIFS('3. 일출(자체)'!$AD$7:$AD$1837,'3. 일출(자체)'!$AM$7:$AM$1837,$AN19),0))) | AW19: =IF($AN19="","", COUNTIF('3. 일출(의존)'!$AS$7:$AS$1840,$AN19)+COUNTIF('3. 일출(자체)'!$AM$7:$AM$1837,$AN19)) | AX19: =IF($AN19="","", IF($AO19="자체","", IF($AO19="지방채", IF($AC19=$AV19, "OK", "@@"), IF($AO19="지역개발기금", IF($AD19=$AV19,"OK","@@"), "@@")))) | AZ19: =IF($AK19="","", SUMIFS('3. 일출(의존)'!$AH$7:$AH$1829,'3. 일출(의존)'!$AN$7:$AN$1829,$AK19)) | BA19: =IF($AK19="","", COUNTIF('3. 일출(의존)'!$AN$7:$AN$1829,$AK19)) | BB19: =IF($AK19="", "", IF($AF19=$AZ19,"OK","@@")) | BC19: =IF($AN19="","",IF($AO19="지역개발기금",SUMIFS('3. 일출(의존)'!$AK$7:$AK$1840,'3. 일출(의존)'!$AS$7:$AS$1840,$AN19)+SUMIFS('3. 일출(자체)'!$AJ$7:$AJ$1837,'3. 일출(자체)'!$AM$7:$AM$1837,$AN19),IF($AO19="지방채",SUMIFS('3. 일출(의존)'!$AJ$7:$AJ$1840,'3. 일출(의존)'!$AS$7:$AS$1840,$AN19)+SUMIFS('3. 일출(자체)'!$AI$7:$AI$1837,'3. 일출(자체)'!$AM$7:$AM$1837,$AN19),0))) | BD19: =IF($AN19="","",COUNTIF('3. 일출(의존)'!$AS$7:$AS$1840,$AN19)+COUNTIF('3. 일출(자체)'!$AM$7:$AM$1837,$AN19)) | BE19: =IF($AN19="","", IF($AO19="자체", "", IF($AO19="지방채", IF($AH19=$BC19, "OK", "@@"), IF($AO19="지역개발기금", IF($AI19=$BC19,"OK","@@"), "@@"))))
A20: =IF(D20="","",COUNTA($C$8:C20)-COUNTBLANK($C$8:C20)+11) | B20: =IF(D20="","",IF(OR(C20="직접입력",D20="북부지원"),"직접입력",IF(OR(AND(D20="인사과",C20="의회사무처"),AND(D20="총무과",C20="의회사무처")),"의회운영위원회",IF(OR(C20="직접입력",D20="북부지원"),"직접입력",IF(OR(AND(D20="인사과",C20="자치행정국"),AND(D20="총무과",C20="자치행정국")),"안전행정위원회",VLOOKUP(D20,구분표!$A$3:$C$258,2,)))))) | C20: =IF(D20="","",IF(OR(D20="교육지원과",D20="총무과",D20="인사과"),"직접입력",VLOOKUP(D20,구분표!$A$3:$C$258,3,))) | F20: =IF($E20="","",IF($E20="2추","직접입력","-")) | G20: =IF($E20="","",IF($E20="2추","직접입력","-")) | I20: =IF(H20="","",VLOOKUP($H20,구분표!$O$3:$P$168,2,FALSE)) | K20: =IF($E20="","",IF(OR($E20="2추", $E20="1추", $E20="본예산"), "금액입력", "-")) | L20: =IF($E20="", "", IF($E20="2추","금액입력", "-")) | M20: =IF($E20="","",SUM(K20:L20)) | O20: =SUM(M20:N20) -> 0 | Q20: =SUM(M20,P20) -> 0 | R20: =IF(AND((O20=0),(Q20>0)),"O",IF(AND((N20<0),(O20-Q20<0)),"O","X")) -> X | Y20: =IF($H20="","",IF(OR($H20="511-01", $H20="511-02", $H20="511-03", $H20="311-02", $H20="311-04", $H20="321-01"),"국비","도비")) | AA20: =IF($Y20="국비", IF($N20<>"", $N20, 0), "") | AB20: =IF($Y20="도비", IF($AO20="자체", IF($N20<>"",$N20,0),""), "") | AC20: =IF($Y20="도비",IF($AO20="지방채",IF($N20<>"",$N20,0),""), "") | AD20: =IF($Y20="도비",IF($AO20="지역개발기금",IF($N20<>"",$N20,0),""),"") | AF20: =IF($Y20="국비", IF($P20<>"", $P20, 0), "") | AG20: =IF($Y20="도비", IF($AO20="자체", IF($P20<>"",$P20,0),""), "") | AH20: =IF($Y20="도비",IF($AO20="지방채",IF($P20<>"",$P20,0),""), "") | AI20: =IF($Y20="도비",IF($AO20="지역개발기금",IF($P20<>"",$P20,0),""),"") | AK20: =IF($AQ20="","", IF(OR($AL20="", $AL20="도비"), "", CONCATENATE($AQ20,"-",COUNTIF($AQ$8:$AQ20,$AQ20)))) | AL20: =IF($H20="","",IF($H20="511-01","국비",IF($H20="511-02","균특",IF($H20="511-03","기금",IF($H20="311-02","특교",IF($H20="311-04","소교",IF($H20="321-01","소멸","도비"))))))) | AN20: =IF($AQ20="","", IF(OR($AO20="", $AO20="국비", $AO20="자체"), "", CONCATENATE($AQ20,"-", $AO20,"-",COUNTIF($AQ$8:$AQ20, $AQ20)))) | AO20: =IF($Y20="","", IF($Y20="국비", "국비", IF($H20="612-01","지방채",IF($H20="722-02","지역개발기금","자체")))) | AQ20: {=IF(OR($D20="", $C20="직접입력", $B20="직접입력"),"",INDEX(구분표!$I$2:$I$337, MATCH(1,(구분표!$G$2:$G$337='3. 일입'!$B20)*(구분표!$E$2:$E$337='3. 일입'!$C20)*(구분표!$F$2:$F$337='3. 일입'!$D20),0)))} | AS20: =IF($AK20="","", SUMIFS('3. 일출(의존)'!$AB$7:$AB$1829,'3. 일출(의존)'!$AN$7:$AN$1829,$AK20)) | AT20: =IF($AK20="","", COUNTIF('3. 일출(의존)'!$AN$7:$AN$1829,$AK20)) | AU20: =IF($AK20="", "", IF($AA20=$AS20,"OK","@@")) | AV20: =IF($AN20="","",IF($AO20="지역개발기금",SUMIFS('3. 일출(의존)'!$AE$7:$AE$1840,'3. 일출(의존)'!$AS$7:$AS$1840,$AN20)+SUMIFS('3. 일출(자체)'!$AE$7:$AE$1837,'3. 일출(자체)'!$AM$7:$AM$1837,$AN20),IF($AO20="지방채",SUMIFS('3. 일출(의존)'!$AD$7:$AD$1840,'3. 일출(의존)'!$AS$7:$AS$1840,$AN20)+SUMIFS('3. 일출(자체)'!$AD$7:$AD$1837,'3. 일출(자체)'!$AM$7:$AM$1837,$AN20),0))) | AW20: =IF($AN20="","", COUNTIF('3. 일출(의존)'!$AS$7:$AS$1840,$AN20)+COUNTIF('3. 일출(자체)'!$AM$7:$AM$1837,$AN20)) | AX20: =IF($AN20="","", IF($AO20="자체","", IF($AO20="지방채", IF($AC20=$AV20, "OK", "@@"), IF($AO20="지역개발기금", IF($AD20=$AV20,"OK","@@"), "@@")))) | AZ20: =IF($AK20="","", SUMIFS('3. 일출(의존)'!$AH$7:$AH$1829,'3. 일출(의존)'!$AN$7:$AN$1829,$AK20)) | BA20: =IF($AK20="","", COUNTIF('3. 일출(의존)'!$AN$7:$AN$1829,$AK20)) | BB20: =IF($AK20="", "", IF($AF20=$AZ20,"OK","@@")) | BC20: =IF($AN20="","",IF($AO20="지역개발기금",SUMIFS('3. 일출(의존)'!$AK$7:$AK$1840,'3. 일출(의존)'!$AS$7:$AS$1840,$AN20)+SUMIFS('3. 일출(자체)'!$AJ$7:$AJ$1837,'3. 일출(자체)'!$AM$7:$AM$1837,$AN20),IF($AO20="지방채",SUMIFS('3. 일출(의존)'!$AJ$7:$AJ$1840,'3. 일출(의존)'!$AS$7:$AS$1840,$AN20)+SUMIFS('3. 일출(자체)'!$AI$7:$AI$1837,'3. 일출(자체)'!$AM$7:$AM$1837,$AN20),0))) | BD20: =IF($AN20="","",COUNTIF('3. 일출(의존)'!$AS$7:$AS$1840,$AN20)+COUNTIF('3. 일출(자체)'!$AM$7:$AM$1837,$AN20)) | BE20: =IF($AN20="","", IF($AO20="자체", "", IF($AO20="지방채", IF($AH20=$BC20, "OK", "@@"), IF($AO20="지역개발기금", IF($AI20=$BC20,"OK","@@"), "@@"))))
A21: =IF(D21="","",COUNTA($C$8:C21)-COUNTBLANK($C$8:C21)+11) | B21: =IF(D21="","",IF(OR(C21="직접입력",D21="북부지원"),"직접입력",IF(OR(AND(D21="인사과",C21="의회사무처"),AND(D21="총무과",C21="의회사무처")),"의회운영위원회",IF(OR(C21="직접입력",D21="북부지원"),"직접입력",IF(OR(AND(D21="인사과",C21="자치행정국"),AND(D21="총무과",C21="자치행정국")),"안전행정위원회",VLOOKUP(D21,구분표!$A$3:$C$258,2,)))))) | C21: =IF(D21="","",IF(OR(D21="교육지원과",D21="총무과",D21="인사과"),"직접입력",VLOOKUP(D21,구분표!$A$3:$C$258,3,))) | F21: =IF($E21="","",IF($E21="2추","직접입력","-")) | G21: =IF($E21="","",IF($E21="2추","직접입력","-")) | I21: =IF(H21="","",VLOOKUP($H21,구분표!$O$3:$P$168,2,FALSE)) | K21: =IF($E21="","",IF(OR($E21="2추", $E21="1추", $E21="본예산"), "금액입력", "-")) | L21: =IF($E21="", "", IF($E21="2추","금액입력", "-")) | M21: =IF($E21="","",SUM(K21:L21)) | O21: =SUM(M21:N21) -> 0 | Q21: =SUM(M21,P21) -> 0 | R21: =IF(AND((O21=0),(Q21>0)),"O",IF(AND((N21<0),(O21-Q21<0)),"O","X")) -> X | Y21: =IF($H21="","",IF(OR($H21="511-01", $H21="511-02", $H21="511-03", $H21="311-02", $H21="311-04", $H21="321-01"),"국비","도비")) | AA21: =IF($Y21="국비", IF($N21<>"", $N21, 0), "") | AB21: =IF($Y21="도비", IF($AO21="자체", IF($N21<>"",$N21,0),""), "") | AC21: =IF($Y21="도비",IF($AO21="지방채",IF($N21<>"",$N21,0),""), "") | AD21: =IF($Y21="도비",IF($AO21="지역개발기금",IF($N21<>"",$N21,0),""),"") | AF21: =IF($Y21="국비", IF($P21<>"", $P21, 0), "") | AG21: =IF($Y21="도비", IF($AO21="자체", IF($P21<>"",$P21,0),""), "") | AH21: =IF($Y21="도비",IF($AO21="지방채",IF($P21<>"",$P21,0),""), "") | AI21: =IF($Y21="도비",IF($AO21="지역개발기금",IF($P21<>"",$P21,0),""),"") | AK21: =IF($AQ21="","", IF(OR($AL21="", $AL21="도비"), "", CONCATENATE($AQ21,"-",COUNTIF($AQ$8:$AQ21,$AQ21)))) | AL21: =IF($H21="","",IF($H21="511-01","국비",IF($H21="511-02","균특",IF($H21="511-03","기금",IF($H21="311-02","특교",IF($H21="311-04","소교",IF($H21="321-01","소멸","도비"))))))) | AN21: =IF($AQ21="","", IF(OR($AO21="", $AO21="국비", $AO21="자체"), "", CONCATENATE($AQ21,"-", $AO21,"-",COUNTIF($AQ$8:$AQ21, $AQ21)))) | AO21: =IF($Y21="","", IF($Y21="국비", "국비", IF($H21="612-01","지방채",IF($H21="722-02","지역개발기금","자체")))) | AQ21: {=IF(OR($D21="", $C21="직접입력", $B21="직접입력"),"",INDEX(구분표!$I$2:$I$337, MATCH(1,(구분표!$G$2:$G$337='3. 일입'!$B21)*(구분표!$E$2:$E$337='3. 일입'!$C21)*(구분표!$F$2:$F$337='3. 일입'!$D21),0)))} | AS21: =IF($AK21="","", SUMIFS('3. 일출(의존)'!$AB$7:$AB$1829,'3. 일출(의존)'!$AN$7:$AN$1829,$AK21)) | AT21: =IF($AK21="","", COUNTIF('3. 일출(의존)'!$AN$7:$AN$1829,$AK21)) | AU21: =IF($AK21="", "", IF($AA21=$AS21,"OK","@@")) | AV21: =IF($AN21="","",IF($AO21="지역개발기금",SUMIFS('3. 일출(의존)'!$AE$7:$AE$1840,'3. 일출(의존)'!$AS$7:$AS$1840,$AN21)+SUMIFS('3. 일출(자체)'!$AE$7:$AE$1837,'3. 일출(자체)'!$AM$7:$AM$1837,$AN21),IF($AO21="지방채",SUMIFS('3. 일출(의존)'!$AD$7:$AD$1840,'3. 일출(의존)'!$AS$7:$AS$1840,$AN21)+SUMIFS('3. 일출(자체)'!$AD$7:$AD$1837,'3. 일출(자체)'!$AM$7:$AM$1837,$AN21),0))) | AW21: =IF($AN21="","", COUNTIF('3. 일출(의존)'!$AS$7:$AS$1840,$AN21)+COUNTIF('3. 일출(자체)'!$AM$7:$AM$1837,$AN21)) | AX21: =IF($AN21="","", IF($AO21="자체","", IF($AO21="지방채", IF($AC21=$AV21, "OK", "@@"), IF($AO21="지역개발기금", IF($AD21=$AV21,"OK","@@"), "@@")))) | AZ21: =IF($AK21="","", SUMIFS('3. 일출(의존)'!$AH$7:$AH$1829,'3. 일출(의존)'!$AN$7:$AN$1829,$AK21)) | BA21: =IF($AK21="","", COUNTIF('3. 일출(의존)'!$AN$7:$AN$1829,$AK21)) | BB21: =IF($AK21="", "", IF($AF21=$AZ21,"OK","@@")) | BC21: =IF($AN21="","",IF($AO21="지역개발기금",SUMIFS('3. 일출(의존)'!$AK$7:$AK$1840,'3. 일출(의존)'!$AS$7:$AS$1840,$AN21)+SUMIFS('3. 일출(자체)'!$AJ$7:$AJ$1837,'3. 일출(자체)'!$AM$7:$AM$1837,$AN21),IF($AO21="지방채",SUMIFS('3. 일출(의존)'!$AJ$7:$AJ$1840,'3. 일출(의존)'!$AS$7:$AS$1840,$AN21)+SUMIFS('3. 일출(자체)'!$AI$7:$AI$1837,'3. 일출(자체)'!$AM$7:$AM$1837,$AN21),0))) | BD21: =IF($AN21="","",COUNTIF('3. 일출(의존)'!$AS$7:$AS$1840,$AN21)+COUNTIF('3. 일출(자체)'!$AM$7:$AM$1837,$AN21)) | BE21: =IF($AN21="","", IF($AO21="자체", "", IF($AO21="지방채", IF($AH21=$BC21, "OK", "@@"), IF($AO21="지역개발기금", IF($AI21=$BC21,"OK","@@"), "@@"))))
A22: =IF(D22="","",COUNTA($C$8:C22)-COUNTBLANK($C$8:C22)+11) | B22: =IF(D22="","",IF(OR(C22="직접입력",D22="북부지원"),"직접입력",IF(OR(AND(D22="인사과",C22="의회사무처"),AND(D22="총무과",C22="의회사무처")),"의회운영위원회",IF(OR(C22="직접입력",D22="북부지원"),"직접입력",IF(OR(AND(D22="인사과",C22="자치행정국"),AND(D22="총무과",C22="자치행정국")),"안전행정위원회",VLOOKUP(D22,구분표!$A$3:$C$258,2,)))))) | C22: =IF(D22="","",IF(OR(D22="교육지원과",D22="총무과",D22="인사과"),"직접입력",VLOOKUP(D22,구분표!$A$3:$C$258,3,))) | F22: =IF($E22="","",IF($E22="2추","직접입력","-")) | G22: =IF($E22="","",IF($E22="2추","직접입력","-")) | I22: =IF(H22="","",VLOOKUP($H22,구분표!$O$3:$P$168,2,FALSE)) | K22: =IF($E22="","",IF(OR($E22="2추", $E22="1추", $E22="본예산"), "금액입력", "-")) | L22: =IF($E22="", "", IF($E22="2추","금액입력", "-")) | M22: =IF($E22="","",SUM(K22:L22)) | O22: =SUM(M22:N22) -> 0 | Q22: =SUM(M22,P22) -> 0 | R22: =IF(AND((O22=0),(Q22>0)),"O",IF(AND((N22<0),(O22-Q22<0)),"O","X")) -> X | Y22: =IF($H22="","",IF(OR($H22="511-01", $H22="511-02", $H22="511-03", $H22="311-02", $H22="311-04", $H22="321-01"),"국비","도비")) | AA22: =IF($Y22="국비", IF($N22<>"", $N22, 0), "") | AB22: =IF($Y22="도비", IF($AO22="자체", IF($N22<>"",$N22,0),""), "") | AC22: =IF($Y22="도비",IF($AO22="지방채",IF($N22<>"",$N22,0),""), "") | AD22: =IF($Y22="도비",IF($AO22="지역개발기금",IF($N22<>"",$N22,0),""),"") | AF22: =IF($Y22="국비", IF($P22<>"", $P22, 0), "") | AG22: =IF($Y22="도비", IF($AO22="자체", IF($P22<>"",$P22,0),""), "") | AH22: =IF($Y22="도비",IF($AO22="지방채",IF($P22<>"",$P22,0),""), "") | AI22: =IF($Y22="도비",IF($AO22="지역개발기금",IF($P22<>"",$P22,0),""),"") | AK22: =IF($AQ22="","", IF(OR($AL22="", $AL22="도비"), "", CONCATENATE($AQ22,"-",COUNTIF($AQ$8:$AQ22,$AQ22)))) | AL22: =IF($H22="","",IF($H22="511-01","국비",IF($H22="511-02","균특",IF($H22="511-03","기금",IF($H22="311-02","특교",IF($H22="311-04","소교",IF($H22="321-01","소멸","도비"))))))) | AN22: =IF($AQ22="","", IF(OR($AO22="", $AO22="국비", $AO22="자체"), "", CONCATENATE($AQ22,"-", $AO22,"-",COUNTIF($AQ$8:$AQ22, $AQ22)))) | AO22: =IF($Y22="","", IF($Y22="국비", "국비", IF($H22="612-01","지방채",IF($H22="722-02","지역개발기금","자체")))) | AQ22: {=IF(OR($D22="", $C22="직접입력", $B22="직접입력"),"",INDEX(구분표!$I$2:$I$337, MATCH(1,(구분표!$G$2:$G$337='3. 일입'!$B22)*(구분표!$E$2:$E$337='3. 일입'!$C22)*(구분표!$F$2:$F$337='3. 일입'!$D22),0)))} | AS22: =IF($AK22="","", SUMIFS('3. 일출(의존)'!$AB$7:$AB$1829,'3. 일출(의존)'!$AN$7:$AN$1829,$AK22)) | AT22: =IF($AK22="","", COUNTIF('3. 일출(의존)'!$AN$7:$AN$1829,$AK22)) | AU22: =IF($AK22="", "", IF($AA22=$AS22,"OK","@@")) | AV22: =IF($AN22="","",IF($AO22="지역개발기금",SUMIFS('3. 일출(의존)'!$AE$7:$AE$1840,'3. 일출(의존)'!$AS$7:$AS$1840,$AN22)+SUMIFS('3. 일출(자체)'!$AE$7:$AE$1837,'3. 일출(자체)'!$AM$7:$AM$1837,$AN22),IF($AO22="지방채",SUMIFS('3. 일출(의존)'!$AD$7:$AD$1840,'3. 일출(의존)'!$AS$7:$AS$1840,$AN22)+SUMIFS('3. 일출(자체)'!$AD$7:$AD$1837,'3. 일출(자체)'!$AM$7:$AM$1837,$AN22),0))) | AW22: =IF($AN22="","", COUNTIF('3. 일출(의존)'!$AS$7:$AS$1840,$AN22)+COUNTIF('3. 일출(자체)'!$AM$7:$AM$1837,$AN22)) | AX22: =IF($AN22="","", IF($AO22="자체","", IF($AO22="지방채", IF($AC22=$AV22, "OK", "@@"), IF($AO22="지역개발기금", IF($AD22=$AV22,"OK","@@"), "@@")))) | AZ22: =IF($AK22="","", SUMIFS('3. 일출(의존)'!$AH$7:$AH$1829,'3. 일출(의존)'!$AN$7:$AN$1829,$AK22)) | BA22: =IF($AK22="","", COUNTIF('3. 일출(의존)'!$AN$7:$AN$1829,$AK22)) | BB22: =IF($AK22="", "", IF($AF22=$AZ22,"OK","@@")) | BC22: =IF($AN22="","",IF($AO22="지역개발기금",SUMIFS('3. 일출(의존)'!$AK$7:$AK$1840,'3. 일출(의존)'!$AS$7:$AS$1840,$AN22)+SUMIFS('3. 일출(자체)'!$AJ$7:$AJ$1837,'3. 일출(자체)'!$AM$7:$AM$1837,$AN22),IF($AO22="지방채",SUMIFS('3. 일출(의존)'!$AJ$7:$AJ$1840,'3. 일출(의존)'!$AS$7:$AS$1840,$AN22)+SUMIFS('3. 일출(자체)'!$AI$7:$AI$1837,'3. 일출(자체)'!$AM$7:$AM$1837,$AN22),0))) | BD22: =IF($AN22="","",COUNTIF('3. 일출(의존)'!$AS$7:$AS$1840,$AN22)+COUNTIF('3. 일출(자체)'!$AM$7:$AM$1837,$AN22)) | BE22: =IF($AN22="","", IF($AO22="자체", "", IF($AO22="지방채", IF($AH22=$BC22, "OK", "@@"), IF($AO22="지역개발기금", IF($AI22=$BC22,"OK","@@"), "@@"))))
A23: =IF(D23="","",COUNTA($C$8:C23)-COUNTBLANK($C$8:C23)+11) | B23: =IF(D23="","",IF(OR(C23="직접입력",D23="북부지원"),"직접입력",IF(OR(AND(D23="인사과",C23="의회사무처"),AND(D23="총무과",C23="의회사무처")),"의회운영위원회",IF(OR(C23="직접입력",D23="북부지원"),"직접입력",IF(OR(AND(D23="인사과",C23="자치행정국"),AND(D23="총무과",C23="자치행정국")),"안전행정위원회",VLOOKUP(D23,구분표!$A$3:$C$258,2,)))))) | C23: =IF(D23="","",IF(OR(D23="교육지원과",D23="총무과",D23="인사과"),"직접입력",VLOOKUP(D23,구분표!$A$3:$C$258,3,))) | F23: =IF($E23="","",IF($E23="2추","직접입력","-")) | G23: =IF($E23="","",IF($E23="2추","직접입력","-")) | I23: =IF(H23="","",VLOOKUP($H23,구분표!$O$3:$P$168,2,FALSE)) | K23: =IF($E23="","",IF(OR($E23="2추", $E23="1추", $E23="본예산"), "금액입력", "-")) | L23: =IF($E23="", "", IF($E23="2추","금액입력", "-")) | M23: =IF($E23="","",SUM(K23:L23)) | O23: =SUM(M23:N23) -> 0 | Q23: =SUM(M23,P23) -> 0 | R23: =IF(AND((O23=0),(Q23>0)),"O",IF(AND((N23<0),(O23-Q23<0)),"O","X")) -> X | Y23: =IF($H23="","",IF(OR($H23="511-01", $H23="511-02", $H23="511-03", $H23="311-02", $H23="311-04", $H23="321-01"),"국비","도비")) | AA23: =IF($Y23="국비", IF($N23<>"", $N23, 0), "") | AB23: =IF($Y23="도비", IF($AO23="자체", IF($N23<>"",$N23,0),""), "") | AC23: =IF($Y23="도비",IF($AO23="지방채",IF($N23<>"",$N23,0),""), "") | AD23: =IF($Y23="도비",IF($AO23="지역개발기금",IF($N23<>"",$N23,0),""),"") | AF23: =IF($Y23="국비", IF($P23<>"", $P23, 0), "") | AG23: =IF($Y23="도비", IF($AO23="자체", IF($P23<>"",$P23,0),""), "") | AH23: =IF($Y23="도비",IF($AO23="지방채",IF($P23<>"",$P23,0),""), "") | AI23: =IF($Y23="도비",IF($AO23="지역개발기금",IF($P23<>"",$P23,0),""),"") | AK23: =IF($AQ23="","", IF(OR($AL23="", $AL23="도비"), "", CONCATENATE($AQ23,"-",COUNTIF($AQ$8:$AQ23,$AQ23)))) | AL23: =IF($H23="","",IF($H23="511-01","국비",IF($H23="511-02","균특",IF($H23="511-03","기금",IF($H23="311-02","특교",IF($H23="311-04","소교",IF($H23="321-01","소멸","도비"))))))) | AN23: =IF($AQ23="","", IF(OR($AO23="", $AO23="국비", $AO23="자체"), "", CONCATENATE($AQ23,"-", $AO23,"-",COUNTIF($AQ$8:$AQ23, $AQ23)))) | AO23: =IF($Y23="","", IF($Y23="국비", "국비", IF($H23="612-01","지방채",IF($H23="722-02","지역개발기금","자체")))) | AQ23: {=IF(OR($D23="", $C23="직접입력", $B23="직접입력"),"",INDEX(구분표!$I$2:$I$337, MATCH(1,(구분표!$G$2:$G$337='3. 일입'!$B23)*(구분표!$E$2:$E$337='3. 일입'!$C23)*(구분표!$F$2:$F$337='3. 일입'!$D23),0)))} | AS23: =IF($AK23="","", SUMIFS('3. 일출(의존)'!$AB$7:$AB$1829,'3. 일출(의존)'!$AN$7:$AN$1829,$AK23)) | AT23: =IF($AK23="","", COUNTIF('3. 일출(의존)'!$AN$7:$AN$1829,$AK23)) | AU23: =IF($AK23="", "", IF($AA23=$AS23,"OK","@@")) | AV23: =IF($AN23="","",IF($AO23="지역개발기금",SUMIFS('3. 일출(의존)'!$AE$7:$AE$1840,'3. 일출(의존)'!$AS$7:$AS$1840,$AN23)+SUMIFS('3. 일출(자체)'!$AE$7:$AE$1837,'3. 일출(자체)'!$AM$7:$AM$1837,$AN23),IF($AO23="지방채",SUMIFS('3. 일출(의존)'!$AD$7:$AD$1840,'3. 일출(의존)'!$AS$7:$AS$1840,$AN23)+SUMIFS('3. 일출(자체)'!$AD$7:$AD$1837,'3. 일출(자체)'!$AM$7:$AM$1837,$AN23),0))) | AW23: =IF($AN23="","", COUNTIF('3. 일출(의존)'!$AS$7:$AS$1840,$AN23)+COUNTIF('3. 일출(자체)'!$AM$7:$AM$1837,$AN23)) | AX23: =IF($AN23="","", IF($AO23="자체","", IF($AO23="지방채", IF($AC23=$AV23, "OK", "@@"), IF($AO23="지역개발기금", IF($AD23=$AV23,"OK","@@"), "@@")))) | AZ23: =IF($AK23="","", SUMIFS('3. 일출(의존)'!$AH$7:$AH$1829,'3. 일출(의존)'!$AN$7:$AN$1829,$AK23)) | BA23: =IF($AK23="","", COUNTIF('3. 일출(의존)'!$AN$7:$AN$1829,$AK23)) | BB23: =IF($AK23="", "", IF($AF23=$AZ23,"OK","@@")) | BC23: =IF($AN23="","",IF($AO23="지역개발기금",SUMIFS('3. 일출(의존)'!$AK$7:$AK$1840,'3. 일출(의존)'!$AS$7:$AS$1840,$AN23)+SUMIFS('3. 일출(자체)'!$AJ$7:$AJ$1837,'3. 일출(자체)'!$AM$7:$AM$1837,$AN23),IF($AO23="지방채",SUMIFS('3. 일출(의존)'!$AJ$7:$AJ$1840,'3. 일출(의존)'!$AS$7:$AS$1840,$AN23)+SUMIFS('3. 일출(자체)'!$AI$7:$AI$1837,'3. 일출(자체)'!$AM$7:$AM$1837,$AN23),0))) | BD23: =IF($AN23="","",COUNTIF('3. 일출(의존)'!$AS$7:$AS$1840,$AN23)+COUNTIF('3. 일출(자체)'!$AM$7:$AM$1837,$AN23)) | BE23: =IF($AN23="","", IF($AO23="자체", "", IF($AO23="지방채", IF($AH23=$BC23, "OK", "@@"), IF($AO23="지역개발기금", IF($AI23=$BC23,"OK","@@"), "@@"))))
... A25: =IF(D25="","",COUNTA($C$8:C25)-COUNTBLANK($C$8:C25)+11) | B25: =IF(D25="","",IF(OR(C25="직접입력",D25="북부지원"),"직접입력",IF(OR(AND(D25="인사과",C25="의회사무처"),AND(D25="총무과",C25="의회사무처")),"의회운영위원회",IF(OR(C25="직접입력",D25="북부지원"),"직접입력",IF(OR(AND(D25="인사과",C25="자치행정국"),AND(D25="총무과",C25="자치행정국")),"안전행정위원회",VLOOKUP(D25,구분표!$A$3:$C$258,2,)))))) | C25: =IF(D25="","",IF(OR(D25="교육지원과",D25="총무과",D25="인사과"),"직접입력",VLOOKUP(D25,구분표!$A$3:$C$258,3,))) | F25: =IF($E25="","",IF($E25="2추","직접입력","-")) | G25: =IF($E25="","",IF($E25="2추","직접입력","-")) | I25: =IF(H25="","",VLOOKUP($H25,구분표!$O$3:$P$168,2,FALSE)) | K25: =IF($E25="","",IF(OR($E25="2추", $E25="1추", $E25="본예산"), "금액입력", "-")) | L25: =IF($E25="", "", IF($E25="2추","금액입력", "-")) | M25: =IF($E25="","",SUM(K25:L25)) | O25: =SUM(M25:N25) -> 0 | Q25: =SUM(M25,P25) -> 0 | R25: =IF(AND((O25=0),(Q25>0)),"O",IF(AND((N25<0),(O25-Q25<0)),"O","X")) -> X | Y25: =IF($H25="","",IF(OR($H25="511-01", $H25="511-02", $H25="511-03", $H25="311-02", $H25="311-04", $H25="321-01"),"국비","도비")) | AA25: =IF($Y25="국비", IF($N25<>"", $N25, 0), "") | AB25: =IF($Y25="도비", IF($AO25="자체", IF($N25<>"",$N25,0),""), "") | AC25: =IF($Y25="도비",IF($AO25="지방채",IF($N25<>"",$N25,0),""), "") | AD25: =IF($Y25="도비",IF($AO25="지역개발기금",IF($N25<>"",$N25,0),""),"") | AF25: =IF($Y25="국비", IF($P25<>"", $P25, 0), "") | AG25: =IF($Y25="도비", IF($AO25="자체", IF($P25<>"",$P25,0),""), "") | AH25: =IF($Y25="도비",IF($AO25="지방채",IF($P25<>"",$P25,0),""), "") | AI25: =IF($Y25="도비",IF($AO25="지역개발기금",IF($P25<>"",$P25,0),""),"") | AK25: =IF($AQ25="","", IF(OR($AL25="", $AL25="도비"), "", CONCATENATE($AQ25,"-",COUNTIF($AQ$8:$AQ25,$AQ25)))) | AL25: =IF($H25="","",IF($H25="511-01","국비",IF($H25="511-02","균특",IF($H25="511-03","기금",IF($H25="311-02","특교",IF($H25="311-04","소교",IF($H25="321-01","소멸","도비"))))))) | AN25: =IF($AQ25="","", IF(OR($AO25="", $AO25="국비", $AO25="자체"), "", CONCATENATE($AQ25,"-", $AO25,"-",COUNTIF($AQ$8:$AQ25, $AQ25)))) | AO25: =IF($Y25="","", IF($Y25="국비", "국비", IF($H25="612-01","지방채",IF($H25="722-02","지역개발기금","자체")))) | AQ25: {=IF(OR($D25="", $C25="직접입력", $B25="직접입력"),"",INDEX(구분표!$I$2:$I$337, MATCH(1,(구분표!$G$2:$G$337='3. 일입'!$B25)*(구분표!$E$2:$E$337='3. 일입'!$C25)*(구분표!$F$2:$F$337='3. 일입'!$D25),0)))} | AS25: =IF($AK25="","", SUMIFS('3. 일출(의존)'!$AB$7:$AB$1829,'3. 일출(의존)'!$AN$7:$AN$1829,$AK25)) | AT25: =IF($AK25="","", COUNTIF('3. 일출(의존)'!$AN$7:$AN$1829,$AK25)) | AU25: =IF($AK25="", "", IF($AA25=$AS25,"OK","@@")) | AV25: =IF($AN25="","",IF($AO25="지역개발기금",SUMIFS('3. 일출(의존)'!$AE$7:$AE$1840,'3. 일출(의존)'!$AS$7:$AS$1840,$AN25)+SUMIFS('3. 일출(자체)'!$AE$7:$AE$1837,'3. 일출(자체)'!$AM$7:$AM$1837,$AN25),IF($AO25="지방채",SUMIFS('3. 일출(의존)'!$AD$7:$AD$1840,'3. 일출(의존)'!$AS$7:$AS$1840,$AN25)+SUMIFS('3. 일출(자체)'!$AD$7:$AD$1837,'3. 일출(자체)'!$AM$7:$AM$1837,$AN25),0))) | AW25: =IF($AN25="","", COUNTIF('3. 일출(의존)'!$AS$7:$AS$1840,$AN25)+COUNTIF('3. 일출(자체)'!$AM$7:$AM$1837,$AN25)) | AX25: =IF($AN25="","", IF($AO25="자체","", IF($AO25="지방채", IF($AC25=$AV25, "OK", "@@"), IF($AO25="지역개발기금", IF($AD25=$AV25,"OK","@@"), "@@")))) | AZ25: =IF($AK25="","", SUMIFS('3. 일출(의존)'!$AH$7:$AH$1829,'3. 일출(의존)'!$AN$7:$AN$1829,$AK25)) | BA25: =IF($AK25="","", COUNTIF('3. 일출(의존)'!$AN$7:$AN$1829,$AK25)) | BB25: =IF($AK25="", "", IF($AF25=$AZ25,"OK","@@")) | BC25: =IF($AN25="","",IF($AO25="지역개발기금",SUMIFS('3. 일출(의존)'!$AK$7:$AK$1840,'3. 일출(의존)'!$AS$7:$AS$1840,$AN25)+SUMIFS('3. 일출(자체)'!$AJ$7:$AJ$1837,'3. 일출(자체)'!$AM$7:$AM$1837,$AN25),IF($AO25="지방채",SUMIFS('3. 일출(의존)'!$AJ$7:$AJ$1840,'3. 일출(의존)'!$AS$7:$AS$1840,$AN25)+SUMIFS('3. 일출(자체)'!$AI$7:$AI$1837,'3. 일출(자체)'!$AM$7:$AM$1837,$AN25),0))) | BD25: =IF($AN25="","",COUNTIF('3. 일출(의존)'!$AS$7:$AS$1840,$AN25)+COUNTIF('3. 일출(자체)'!$AM$7:$AM$1837,$AN25)) | BE25: =IF($AN25="","", IF($AO25="자체", "", IF($AO25="지방채", IF($AH25=$BC25, "OK", "@@"), IF($AO25="지역개발기금", IF($AI25=$BC25,"OK","@@"), "@@"))))

Sheet 3. 일출(자체)
A1: 일반회계 세출(자체) 예산 조정(안) | AC1: 직접입력 (지방채/지역개발기금인 경우만 금액 입력) *부기명에 (지방채) 또는 (지역개발기금) 포함시 | AH1: 직접입력 (지방채/지역개발기금인 경우만 금액 입력) *부기명에 (지방채) 또는 (지역개발기금) 포함시 | AM1: 직접입력 (지방채/지역개발기금인 경우 "3. 일입"시트의 AN열 입력") ※ 매칭 세입이 없는 경우 세입번호에 "세입없음" 기재
P2: =SUM(#REF!)/2 -> #REF! | Q2: =SUM(#REF!)/2 -> #REF! | R2: =SUM(#REF!)/2 -> #REF! | S2: =SUM(#REF!)/2 -> #REF! | U2: (단위 : 천원) | Y2: (단위 : 천원) | AF2: (단위 : 천원) | AK2: (단위 : 천원)
A3: 번호 | B3: 위원회명 | C3: 실국명 | D3: 부서명 | E3: 편성 구분 | F3: 예산안 /예산서 페이지 | G3: 실국별 사업 설명서 페이지 | H3: 통계목코드 | I3: 편성목 | J3: 통계목 | K3: 세부사업명 | L3: 부기명 | M3: 기정액 (본예산+1추) (가) | N3: 증감액 (2회추경안) (나) | O3: 예산안 (다=가+나) | P3: 상임위 조정액 (라) | Q3: 상임위 조정 예산안 (마=다+라) | R3: 예결특위 조정액 (바) | S3: 예결특위 조정 예산안 (사=다+바) | T3: 상임위 동의 대상 | U3: 참고자료 (관련공문) | V3: 상임위 부대의견 | W3: 예비 심사시 집행부 동의여부 | X3: 예결특위 부대의견 | Y3: 부대의견 | Z3: 예결특위 부대의견 (비공개) | AA3: 실국의견 청취대상 | AC3: 상임위 증감액 | AH3: 예결위 증감액 | AM3: 지방채/지역개발기금 매칭 세입 검증 | AR3: 실국 부서코드
AC4: 도비 | AF4: 금액 검증 (상임위조정액 =∑도비) | AH4: 도비 | AK4: 금액 검증 (예결위조정액 =∑도비) | AM4: 세입번호 | AN4: 세입 번호 유무 검증 | AO4: 세출 재원 | AP4: 재원 검증
AC5: 자체 | AD5: 지방채 | AE5: 지역개발기금 | AH5: 자체 | AI5: 지방채 | AJ5: 지역개발기금
B6: 합 계 | L6: =SUBTOTAL(3,L$7:L$1837)&"건" -> 4건 | M6: =SUBTOTAL(9,M$7:M$1837) -> 18644000 | N6: =SUBTOTAL(9,N$7:N$1837) -> -2802882 | O6: =SUBTOTAL(9,O$7:O$1837) -> 15841118 | P6: =SUBTOTAL(9,P$7:P$1837) -> 2751882 | Q6: =SUBTOTAL(9,Q$7:Q$1837) -> 18593000 | R6: =SUBTOTAL(9,R$7:R$1837) -> 0 | S6: =SUBTOTAL(9,S$7:S$1837) -> 15841118 | AC6: =SUBTOTAL(9,AC$7:AC$1837) -> 2751882 | AD6: =SUBTOTAL(9,AD$7:AD$1837) -> 0 | AE6: =SUBTOTAL(9,AE$7:AE$1837) -> 0 | AF6: =IF(COUNTIF(AF$7:AF$1837,"@@")>0,"@@","OK") -> OK | AH6: =SUBTOTAL(9,AH$7:AH$1837) -> 0 | AI6: =SUBTOTAL(9,AI$7:AI$1837) -> 0 | AJ6: =SUBTOTAL(9,AJ$7:AJ$1837) -> 0 | AK6: =IF(COUNTIF(AK$7:AK$1837,"@@")>0,"@@","OK") -> OK | AN6: =IF(COUNTIF(AN$7:AN$1837,"@@")>0,"@@","OK") -> OK | AP6: =IF(COUNTIF(AP$7:AP$1837,"@@")>0,"@@","OK") -> OK
B7: (여성가족평생교육위원회) | L7: =SUBTOTAL(3,L8:L19)&"건" -> 4건 | M7: =SUBTOTAL(9,M8:M19) -> 18644000 | N7: =SUBTOTAL(9,N8:N19) -> -2802882 | O7: =SUBTOTAL(9,O8:O19) -> 15841118 | P7: =SUBTOTAL(9,P8:P19) -> 2751882 | Q7: =SUBTOTAL(9,Q8:Q19) -> 18593000 | R7: =SUBTOTAL(9,R8:R19) -> 0 | S7: =SUBTOTAL(9,S8:S19) -> 15841118 | AC7: =SUBTOTAL(9,AC8:AC19) -> 2751882 | AD7: =SUBTOTAL(9,AD8:AD19) -> 0 | AE7: =SUBTOTAL(9,AE8:AE19) -> 0 | AF7: =IF(COUNTIF(AF8:AF19,"@@")>0,"@@","OK") -> OK | AH7: =SUBTOTAL(9,AH8:AH19) -> 0 | AI7: =SUBTOTAL(9,AI8:AI19) -> 0 | AJ7: =SUBTOTAL(9,AJ8:AJ19) -> 0 | AK7: =IF(COUNTIF(AK8:AK19,"@@")>0,"@@","OK") -> OK | AN7: =IF(COUNTIF(AN8:AN19,"@@")>0,"@@","OK") -> OK | AP7: =IF(COUNTIF(AP8:AP19,"@@")>0,"@@","OK") -> OK
A8: =IF(D8="","",COUNTA($C$7:C8)-COUNTBLANK($C$7:C8)+11) -> 11 | B8: =IF(D8="","",IF(OR(C8="직접입력",D8="북부지원"),"직접입력",IF(OR(AND(D8="인사과",C8="의회사무처"),AND(D8="총무과",C8="의회사무처")),"의회운영위원회",IF(OR(C8="직접입력",D8="북부지원"),"직접입력",IF(OR(AND(D8="인사과",C8="자치행정국"),AND(D8="총무과",C8="자치행정국")),"안전행정위원회",VLOOKUP(D8,구분표!$A$3:$C$258,2,)))))) -> 여성가족평생교육위원회 | C8: =IF(D8="","",IF(OR(D8="교육지원과",D8="총무과",D8="인사과"),"직접입력",VLOOKUP(D8,구분표!$A$3:$C$258,3,))) -> 미래평생교육국 | D8: 평생교육과 | E8: 2추 | F8: 1080 | G8: 87 | H8: 308-13 | I8: =IF(H8="","",VLOOKUP($H8,구분표!$K$3:$M$151,2,FALSE)) -> 자치단체등 이전 | J8: =IF(I8="","",VLOOKUP($H8,구분표!$K$3:$M$151,3,FALSE)) -> 공기관등에대한경상적위탁사업비 | K8: 도민공론장/민주시민워크숍(자체/직접) | L8: 도민공론장/민주시민워크숍 | M8: 30000 | N8: -30000 | O8: =IF($E8="","",SUM(M8:N8)) -> 0 | P8: 10000 | Q8: =SUM(O8:P8) -> 10000 | S8: =SUM(O8,R8) -> 0 | T8: =IF(AND((Q8=0),(S8>0)),"O",IF(AND((P8<0),(Q8-S8<0)),"O","X")) -> X | W8: 부동의 | AC8: =IF($P8="", 0, IF(AND(ISNUMBER(AD8), ISNUMBER(AE8)), $P8-$AD8-$AE8, 0)) -> 10000 | AD8: =IF($P8="", 0, IF(COUNT(FIND("(지방채)",$L8))>0, "재원입력필요", 0)) -> 0 | AE8: =IF($P8="", 0, IF(COUNT(FIND("(지역개발기금)",$L8))>0, "재원입력필요", 0)) -> 0 | AF8: =IF($P8="", IF(SUM($AC8:$AE8)=0, "", "@@"), IF(AND($P8=SUM($AC8:$AE8),Q8>=0),"OK","@@")) -> OK | AH8: =IF($R8="", 0, IF(AND(ISNUMBER($AI8), ISNUMBER($AJ8)), $R8-$AI8-$AJ8, 0)) -> 0 | AI8: =IF($P8="", 0, IF(COUNT(FIND("(지방채)",$L8))>0, "재원입력필요", 0)) -> 0 | AJ8: =IF($P8="", 0, IF(COUNT(FIND("(지역개발기금)",$L8))>0, "재원입력필요", 0)) -> 0 | AK8: =IF($R8="", IF(SUM($AH8:$AJ8)=0, "", "@@"), IF(AND($R8=SUM($AH8:$AJ8),$S8>=0),"OK","@@")) | AN8: =IF($AM8="","", IF($AM8="세입없음", "OK", IF(COUNTIF('3. 일입'!$AN$8:$AN$1831,$AM8), "OK","@@"))) | AO8: =IF($L8="","",IF(COUNT(FIND("(지역개발기금)",$L8)),"지역개발기금",IF(COUNT(FIND("지방채",$L8)),"지방채","자체"))) -> 자체 | AP8: =IF($AM8="", IF($AO8="", "", IF($AO8="자체", "OK", "@@")), IF($AM8="세입없음", "OK", IF($AO8="", "@@", IF(ISNUMBER(FIND($AO8,$AM8)),"OK","@@")))) -> OK | AR8: {=IF(OR($D8="", $C8="직접입력", $B8="직접입력"), "", INDEX(구분표!$I$3:$I$321, MATCH(1,(구분표!$G$3:$G$321=$B8)*(구분표!$E$3:$E$321=$C8)*(구분표!$F$3:$F$321=$D8),0)))} -> 15001
A9: =IF(D9="","",COUNTA($C$7:C9)-COUNTBLANK($C$7:C9)+11) -> 12 | B9: =IF(D9="","",IF(OR(C9="직접입력",D9="북부지원"),"직접입력",IF(OR(AND(D9="인사과",C9="의회사무처"),AND(D9="총무과",C9="의회사무처")),"의회운영위원회",IF(OR(C9="직접입력",D9="북부지원"),"직접입력",IF(OR(AND(D9="인사과",C9="자치행정국"),AND(D9="총무과",C9="자치행정국")),"안전행정위원회",VLOOKUP(D9,구분표!$A$3:$C$258,2,)))))) -> 여성가족평생교육위원회 | C9: =IF(D9="","",IF(OR(D9="교육지원과",D9="총무과",D9="인사과"),"직접입력",VLOOKUP(D9,구분표!$A$3:$C$258,3,))) -> 미래평생교육국 | D9: 청소년과 | E9: 2추 | F9: 1085 | G9: 176 | H9: 308-01 | I9: =IF(H9="","",VLOOKUP($H9,구분표!$K$3:$M$151,2,FALSE)) -> 자치단체등 이전 | J9: =IF(I9="","",VLOOKUP($H9,구분표!$K$3:$M$151,3,FALSE)) -> 자치단체경상보조금 | K9: 경기도 여성청소년 생리용품 보편지원(자체/지원) | L9: 경기도 여성청소년 생리용품 보편지원 | M9: 11815000 | N9: -1901682 | O9: =IF($E9="","",SUM(M9:N9)) -> 9913318 | P9: 1901682 | Q9: =SUM(O9:P9) -> 11815000 | S9: =SUM(O9,R9) -> 9913318 | T9: =IF(AND((Q9=0),(S9>0)),"O",IF(AND((P9<0),(Q9-S9<0)),"O","X")) -> X | W9: 부동의 | AC9: =IF($P9="", 0, IF(AND(ISNUMBER(AD9), ISNUMBER(AE9)), $P9-$AD9-$AE9, 0)) -> 1901682 | AD9: =IF($P9="", 0, IF(COUNT(FIND("(지방채)",$L9))>0, "재원입력필요", 0)) -> 0 | AE9: =IF($P9="", 0, IF(COUNT(FIND("(지역개발기금)",$L9))>0, "재원입력필요", 0)) -> 0 | AF9: =IF($P9="", IF(SUM($AC9:$AE9)=0, "", "@@"), IF(AND($P9=SUM($AC9:$AE9),Q9>=0),"OK","@@")) -> OK | AH9: =IF($R9="", 0, IF(AND(ISNUMBER($AI9), ISNUMBER($AJ9)), $R9-$AI9-$AJ9, 0)) -> 0 | AI9: =IF($P9="", 0, IF(COUNT(FIND("(지방채)",$L9))>0, "재원입력필요", 0)) -> 0 | AJ9: =IF($P9="", 0, IF(COUNT(FIND("(지역개발기금)",$L9))>0, "재원입력필요", 0)) -> 0 | AK9: =IF($R9="", IF(SUM($AH9:$AJ9)=0, "", "@@"), IF(AND($R9=SUM($AH9:$AJ9),$S9>=0),"OK","@@")) | AN9: =IF($AM9="","", IF($AM9="세입없음", "OK", IF(COUNTIF('3. 일입'!$AN$8:$AN$1831,$AM9), "OK","@@"))) | AO9: =IF($L9="","",IF(COUNT(FIND("(지역개발기금)",$L9)),"지역개발기금",IF(COUNT(FIND("지방채",$L9)),"지방채","자체"))) -> 자체 | AP9: =IF($AM9="", IF($AO9="", "", IF($AO9="자체", "OK", "@@")), IF($AM9="세입없음", "OK", IF($AO9="", "@@", IF(ISNUMBER(FIND($AO9,$AM9)),"OK","@@")))) -> OK | AR9: {=IF(OR($D9="", $C9="직접입력", $B9="직접입력"), "", INDEX(구분표!$I$3:$I$321, MATCH(1,(구분표!$G$3:$G$321=$B9)*(구분표!$E$3:$E$321=$C9)*(구분표!$F$3:$F$321=$D9),0)))} -> 15003
A10: =IF(D10="","",COUNTA($C$7:C10)-COUNTBLANK($C$7:C10)+11) -> 13 | B10: =IF(D10="","",IF(OR(C10="직접입력",D10="북부지원"),"직접입력",IF(OR(AND(D10="인사과",C10="의회사무처"),AND(D10="총무과",C10="의회사무처")),"의회운영위원회",IF(OR(C10="직접입력",D10="북부지원"),"직접입력",IF(OR(AND(D10="인사과",C10="자치행정국"),AND(D10="총무과",C10="자치행정국")),"안전행정위원회",VLOOKUP(D10,구분표!$A$3:$C$258,2,)))))) -> 여성가족평생교육위원회 | C10: =IF(D10="","",IF(OR(D10="교육지원과",D10="총무과",D10="인사과"),"직접입력",VLOOKUP(D10,구분표!$A$3:$C$258,3,))) -> 미래평생교육국 | D10: 청소년과 | E10: 2추 | F10: 1088 | G10: 220 | H10: 307-05 | I10: =IF(H10="","",VLOOKUP($H10,구분표!$K$3:$M$151,2,FALSE)) -> 민간이전 | J10: =IF(I10="","",VLOOKUP($H10,구분표!$K$3:$M$151,3,FALSE)) -> 민간위탁금 | K10: 경기도 청소년활동진흥센터 운영(전환)(자체/직접) | L10: 경기도 청소년활동진흥센터 운영 및 사업지원 | M10: 1699000 | N10: -106000 | O10: =IF($E10="","",SUM(M10:N10)) -> 1593000 | P10: 75000 | Q10: =SUM(O10:P10) -> 1668000 | S10: =SUM(O10,R10) -> 1593000 | T10: =IF(AND((Q10=0),(S10>0)),"O",IF(AND((P10<0),(Q10-S10<0)),"O","X")) -> X | W10: 부동의 | AC10: =IF($P10="", 0, IF(AND(ISNUMBER(AD10), ISNUMBER(AE10)), $P10-$AD10-$AE10, 0)) -> 75000 | AD10: =IF($P10="", 0, IF(COUNT(FIND("(지방채)",$L10))>0, "재원입력필요", 0)) -> 0 | AE10: =IF($P10="", 0, IF(COUNT(FIND("(지역개발기금)",$L10))>0, "재원입력필요", 0)) -> 0 | AF10: =IF($P10="", IF(SUM($AC10:$AE10)=0, "", "@@"), IF(AND($P10=SUM($AC10:$AE10),Q10>=0),"OK","@@")) -> OK | AH10: =IF($R10="", 0, IF(AND(ISNUMBER($AI10), ISNUMBER($AJ10)), $R10-$AI10-$AJ10, 0)) -> 0 | AI10: =IF($P10="", 0, IF(COUNT(FIND("(지방채)",$L10))>0, "재원입력필요", 0)) -> 0 | AJ10: =IF($P10="", 0, IF(COUNT(FIND("(지역개발기금)",$L10))>0, "재원입력필요", 0)) -> 0 | AK10: =IF($R10="", IF(SUM($AH10:$AJ10)=0, "", "@@"), IF(AND($R10=SUM($AH10:$AJ10),$S10>=0),"OK","@@")) | AN10: =IF($AM10="","", IF($AM10="세입없음", "OK", IF(COUNTIF('3. 일입'!$AN$8:$AN$1831,$AM10), "OK","@@"))) | AO10: =IF($L10="","",IF(COUNT(FIND("(지역개발기금)",$L10)),"지역개발기금",IF(COUNT(FIND("지방채",$L10)),"지방채","자체"))) -> 자체 | AP10: =IF($AM10="", IF($AO10="", "", IF($AO10="자체", "OK", "@@")), IF($AM10="세입없음", "OK", IF($AO10="", "@@", IF(ISNUMBER(FIND($AO10,$AM10)),"OK","@@")))) -> OK | AR10: {=IF(OR($D10="", $C10="직접입력", $B10="직접입력"), "", INDEX(구분표!$I$3:$I$321, MATCH(1,(구분표!$G$3:$G$321=$B10)*(구분표!$E$3:$E$321=$C10)*(구분표!$F$3:$F$321=$D10),0)))} -> 15003
A11: =IF(D11="","",COUNTA($C$7:C11)-COUNTBLANK($C$7:C11)+11) -> 14 | B11: =IF(D11="","",IF(OR(C11="직접입력",D11="북부지원"),"직접입력",IF(OR(AND(D11="인사과",C11="의회사무처"),AND(D11="총무과",C11="의회사무처")),"의회운영위원회",IF(OR(C11="직접입력",D11="북부지원"),"직접입력",IF(OR(AND(D11="인사과",C11="자치행정국"),AND(D11="총무과",C11="자치행정국")),"안전행정위원회",VLOOKUP(D11,구분표!$A$3:$C$258,2,)))))) -> 여성가족평생교육위원회 | C11: =IF(D11="","",IF(OR(D11="교육지원과",D11="총무과",D11="인사과"),"직접입력",VLOOKUP(D11,구분표!$A$3:$C$258,3,))) -> 여성가족국 | D11: 아동돌봄과 | E11: 2추 | F11: 1121 | G11: 335 | H11: 308-01 | I11: =IF(H11="","",VLOOKUP($H11,구분표!$K$3:$M$151,2,FALSE)) -> 자치단체등 이전 | J11: =IF(I11="","",VLOOKUP($H11,구분표!$K$3:$M$151,3,FALSE)) -> 자치단체경상보조금 | K11: 가족돌봄수당 지원(자체/지원) | L11: 가족돌봄수당 지원 | M11: 5100000 | N11: -765200 | O11: =IF($E11="","",SUM(M11:N11)) -> 4334800 | P11: 765200 | Q11: =SUM(O11:P11) -> 5100000 | S11: =SUM(O11,R11) -> 4334800 | T11: =IF(AND((Q11=0),(S11>0)),"O",IF(AND((P11<0),(Q11-S11<0)),"O","X")) -> X | W11: 부동의 | AC11: =IF($P11="", 0, IF(AND(ISNUMBER(AD11), ISNUMBER(AE11)), $P11-$AD11-$AE11, 0)) -> 765200 | AD11: =IF($P11="", 0, IF(COUNT(FIND("(지방채)",$L11))>0, "재원입력필요", 0)) -> 0 | AE11: =IF($P11="", 0, IF(COUNT(FIND("(지역개발기금)",$L11))>0, "재원입력필요", 0)) -> 0 | AF11: =IF($P11="", IF(SUM($AC11:$AE11)=0, "", "@@"), IF(AND($P11=SUM($AC11:$AE11),Q11>=0),"OK","@@")) -> OK | AH11: =IF($R11="", 0, IF(AND(ISNUMBER($AI11), ISNUMBER($AJ11)), $R11-$AI11-$AJ11, 0)) -> 0 | AI11: =IF($P11="", 0, IF(COUNT(FIND("(지방채)",$L11))>0, "재원입력필요", 0)) -> 0 | AJ11: =IF($P11="", 0, IF(COUNT(FIND("(지역개발기금)",$L11))>0, "재원입력필요", 0)) -> 0 | AK11: =IF($R11="", IF(SUM($AH11:$AJ11)=0, "", "@@"), IF(AND($R11=SUM($AH11:$AJ11),$S11>=0),"OK","@@")) | AN11: =IF($AM11="","", IF($AM11="세입없음", "OK", IF(COUNTIF('3. 일입'!$AN$8:$AN$1831,$AM11), "OK","@@"))) | AO11: =IF($L11="","",IF(COUNT(FIND("(지역개발기금)",$L11)),"지역개발기금",IF(COUNT(FIND("지방채",$L11)),"지방채","자체"))) -> 자체 | AP11: =IF($AM11="", IF($AO11="", "", IF($AO11="자체", "OK", "@@")), IF($AM11="세입없음", "OK", IF($AO11="", "@@", IF(ISNUMBER(FIND($AO11,$AM11)),"OK","@@")))) -> OK | AR11: {=IF(OR($D11="", $C11="직접입력", $B11="직접입력"), "", INDEX(구분표!$I$3:$I$321, MATCH(1,(구분표!$G$3:$G$321=$B11)*(구분표!$E$3:$E$321=$C11)*(구분표!$F$3:$F$321=$D11),0)))} -> 16004
A12: =IF(D12="","",COUNTA($C$7:C12)-COUNTBLANK($C$7:C12)+11) | B12: =IF(D12="","",IF(OR(C12="직접입력",D12="북부지원"),"직접입력",IF(OR(AND(D12="인사과",C12="의회사무처"),AND(D12="총무과",C12="의회사무처")),"의회운영위원회",IF(OR(C12="직접입력",D12="북부지원"),"직접입력",IF(OR(AND(D12="인사과",C12="자치행정국"),AND(D12="총무과",C12="자치행정국")),"안전행정위원회",VLOOKUP(D12,구분표!$A$3:$C$258,2,)))))) | C12: =IF(D12="","",IF(OR(D12="교육지원과",D12="총무과",D12="인사과"),"직접입력",VLOOKUP(D12,구분표!$A$3:$C$258,3,))) | F12: =IF($E12="","",IF($E12="2추","직접입력","-")) | G12: =IF($E12="","",IF($E12="2추","직접입력","-")) | I12: =IF(H12="","",VLOOKUP($H12,구분표!$K$3:$M$151,2,FALSE)) | J12: =IF(I12="","",VLOOKUP($H12,구분표!$K$3:$M$151,3,FALSE)) | M12: =IF($E12="","",IF(OR($E12="2추", $E12="1추", $E12="본예산"), "금액입력", "-")) | N12: =IF($E12="", "", IF($E12="2추","금액입력", "-")) | O12: =IF($E12="","",SUM(M12:N12)) | Q12: =SUM(O12:P12) -> 0 | S12: =SUM(O12,R12) -> 0 | T12: =IF(AND((Q12=0),(S12>0)),"O",IF(AND((P12<0),(Q12-S12<0)),"O","X")) -> X | AC12: =IF($P12="", 0, IF(AND(ISNUMBER(AD12), ISNUMBER(AE12)), $P12-$AD12-$AE12, 0)) -> 0 | AD12: =IF($P12="", 0, IF(COUNT(FIND("(지방채)",$L12))>0, "재원입력필요", 0)) -> 0 | AE12: =IF($P12="", 0, IF(COUNT(FIND("(지역개발기금)",$L12))>0, "재원입력필요", 0)) -> 0 | AF12: =IF($P12="", IF(SUM($AC12:$AE12)=0, "", "@@"), IF(AND($P12=SUM($AC12:$AE12),Q12>=0),"OK","@@")) | AH12: =IF($R12="", 0, IF(AND(ISNUMBER($AI12), ISNUMBER($AJ12)), $R12-$AI12-$AJ12, 0)) -> 0 | AI12: =IF($P12="", 0, IF(COUNT(FIND("(지방채)",$L12))>0, "재원입력필요", 0)) -> 0 | AJ12: =IF($P12="", 0, IF(COUNT(FIND("(지역개발기금)",$L12))>0, "재원입력필요", 0)) -> 0 | AK12: =IF($R12="", IF(SUM($AH12:$AJ12)=0, "", "@@"), IF(AND($R12=SUM($AH12:$AJ12),$S12>=0),"OK","@@")) | AN12: =IF($AM12="","", IF($AM12="세입없음", "OK", IF(COUNTIF('3. 일입'!$AN$8:$AN$1831,$AM12), "OK","@@"))) | AO12: =IF($L12="","",IF(COUNT(FIND("(지역개발기금)",$L12)),"지역개발기금",IF(COUNT(FIND("지방채",$L12)),"지방채","자체"))) | AP12: =IF($AM12="", IF($AO12="", "", IF($AO12="자체", "OK", "@@")), IF($AM12="세입없음", "OK", IF($AO12="", "@@", IF(ISNUMBER(FIND($AO12,$AM12)),"OK","@@")))) | AR12: {=IF(OR($D12="", $C12="직접입력", $B12="직접입력"), "", INDEX(구분표!$I$3:$I$321, MATCH(1,(구분표!$G$3:$G$321=$B12)*(구분표!$E$3:$E$321=$C12)*(구분표!$F$3:$F$321=$D12),0)))}
A13: =IF(D13="","",COUNTA($C$7:C13)-COUNTBLANK($C$7:C13)+11) | B13: =IF(D13="","",IF(OR(C13="직접입력",D13="북부지원"),"직접입력",IF(OR(AND(D13="인사과",C13="의회사무처"),AND(D13="총무과",C13="의회사무처")),"의회운영위원회",IF(OR(C13="직접입력",D13="북부지원"),"직접입력",IF(OR(AND(D13="인사과",C13="자치행정국"),AND(D13="총무과",C13="자치행정국")),"안전행정위원회",VLOOKUP(D13,구분표!$A$3:$C$258,2,)))))) | C13: =IF(D13="","",IF(OR(D13="교육지원과",D13="총무과",D13="인사과"),"직접입력",VLOOKUP(D13,구분표!$A$3:$C$258,3,))) | F13: =IF($E13="","",IF($E13="2추","직접입력","-")) | G13: =IF($E13="","",IF($E13="2추","직접입력","-")) | I13: =IF(H13="","",VLOOKUP($H13,구분표!$K$3:$M$151,2,FALSE)) | J13: =IF(I13="","",VLOOKUP($H13,구분표!$K$3:$M$151,3,FALSE)) | M13: =IF($E13="","",IF(OR($E13="2추", $E13="1추", $E13="본예산"), "금액입력", "-")) | N13: =IF($E13="", "", IF($E13="2추","금액입력", "-")) | O13: =IF($E13="","",SUM(M13:N13)) | Q13: =SUM(O13:P13) -> 0 | S13: =SUM(O13,R13) -> 0 | T13: =IF(AND((Q13=0),(S13>0)),"O",IF(AND((P13<0),(Q13-S13<0)),"O","X")) -> X | AC13: =IF($P13="", 0, IF(AND(ISNUMBER(AD13), ISNUMBER(AE13)), $P13-$AD13-$AE13, 0)) -> 0 | AD13: =IF($P13="", 0, IF(COUNT(FIND("(지방채)",$L13))>0, "재원입력필요", 0)) -> 0 | AE13: =IF($P13="", 0, IF(COUNT(FIND("(지역개발기금)",$L13))>0, "재원입력필요", 0)) -> 0 | AF13: =IF($P13="", IF(SUM($AC13:$AE13)=0, "", "@@"), IF(AND($P13=SUM($AC13:$AE13),Q13>=0),"OK","@@")) | AH13: =IF($R13="", 0, IF(AND(ISNUMBER($AI13), ISNUMBER($AJ13)), $R13-$AI13-$AJ13, 0)) -> 0 | AI13: =IF($P13="", 0, IF(COUNT(FIND("(지방채)",$L13))>0, "재원입력필요", 0)) -> 0 | AJ13: =IF($P13="", 0, IF(COUNT(FIND("(지역개발기금)",$L13))>0, "재원입력필요", 0)) -> 0 | AK13: =IF($R13="", IF(SUM($AH13:$AJ13)=0, "", "@@"), IF(AND($R13=SUM($AH13:$AJ13),$S13>=0),"OK","@@")) | AN13: =IF($AM13="","", IF($AM13="세입없음", "OK", IF(COUNTIF('3. 일입'!$AN$8:$AN$1831,$AM13), "OK","@@"))) | AO13: =IF($L13="","",IF(COUNT(FIND("(지역개발기금)",$L13)),"지역개발기금",IF(COUNT(FIND("지방채",$L13)),"지방채","자체"))) | AP13: =IF($AM13="", IF($AO13="", "", IF($AO13="자체", "OK", "@@")), IF($AM13="세입없음", "OK", IF($AO13="", "@@", IF(ISNUMBER(FIND($AO13,$AM13)),"OK","@@")))) | AR13: {=IF(OR($D13="", $C13="직접입력", $B13="직접입력"), "", INDEX(구분표!$I$3:$I$321, MATCH(1,(구분표!$G$3:$G$321=$B13)*(구분표!$E$3:$E$321=$C13)*(구분표!$F$3:$F$321=$D13),0)))}
A14: =IF(D14="","",COUNTA($C$7:C14)-COUNTBLANK($C$7:C14)+11) | B14: =IF(D14="","",IF(OR(C14="직접입력",D14="북부지원"),"직접입력",IF(OR(AND(D14="인사과",C14="의회사무처"),AND(D14="총무과",C14="의회사무처")),"의회운영위원회",IF(OR(C14="직접입력",D14="북부지원"),"직접입력",IF(OR(AND(D14="인사과",C14="자치행정국"),AND(D14="총무과",C14="자치행정국")),"안전행정위원회",VLOOKUP(D14,구분표!$A$3:$C$258,2,)))))) | C14: =IF(D14="","",IF(OR(D14="교육지원과",D14="총무과",D14="인사과"),"직접입력",VLOOKUP(D14,구분표!$A$3:$C$258,3,))) | F14: =IF($E14="","",IF($E14="2추","직접입력","-")) | G14: =IF($E14="","",IF($E14="2추","직접입력","-")) | I14: =IF(H14="","",VLOOKUP($H14,구분표!$K$3:$M$151,2,FALSE)) | J14: =IF(I14="","",VLOOKUP($H14,구분표!$K$3:$M$151,3,FALSE)) | M14: =IF($E14="","",IF(OR($E14="2추", $E14="1추", $E14="본예산"), "금액입력", "-")) | N14: =IF($E14="", "", IF($E14="2추","금액입력", "-")) | O14: =IF($E14="","",SUM(M14:N14)) | Q14: =SUM(O14:P14) -> 0 | S14: =SUM(O14,R14) -> 0 | T14: =IF(AND((Q14=0),(S14>0)),"O",IF(AND((P14<0),(Q14-S14<0)),"O","X")) -> X | AC14: =IF($P14="", 0, IF(AND(ISNUMBER(AD14), ISNUMBER(AE14)), $P14-$AD14-$AE14, 0)) -> 0 | AD14: =IF($P14="", 0, IF(COUNT(FIND("(지방채)",$L14))>0, "재원입력필요", 0)) -> 0 | AE14: =IF($P14="", 0, IF(COUNT(FIND("(지역개발기금)",$L14))>0, "재원입력필요", 0)) -> 0 | AF14: =IF($P14="", IF(SUM($AC14:$AE14)=0, "", "@@"), IF(AND($P14=SUM($AC14:$AE14),Q14>=0),"OK","@@")) | AH14: =IF($R14="", 0, IF(AND(ISNUMBER($AI14), ISNUMBER($AJ14)), $R14-$AI14-$AJ14, 0)) -> 0 | AI14: =IF($P14="", 0, IF(COUNT(FIND("(지방채)",$L14))>0, "재원입력필요", 0)) -> 0 | AJ14: =IF($P14="", 0, IF(COUNT(FIND("(지역개발기금)",$L14))>0, "재원입력필요", 0)) -> 0 | AK14: =IF($R14="", IF(SUM($AH14:$AJ14)=0, "", "@@"), IF(AND($R14=SUM($AH14:$AJ14),$S14>=0),"OK","@@")) | AN14: =IF($AM14="","", IF($AM14="세입없음", "OK", IF(COUNTIF('3. 일입'!$AN$8:$AN$1831,$AM14), "OK","@@"))) | AO14: =IF($L14="","",IF(COUNT(FIND("(지역개발기금)",$L14)),"지역개발기금",IF(COUNT(FIND("지방채",$L14)),"지방채","자체"))) | AP14: =IF($AM14="", IF($AO14="", "", IF($AO14="자체", "OK", "@@")), IF($AM14="세입없음", "OK", IF($AO14="", "@@", IF(ISNUMBER(FIND($AO14,$AM14)),"OK","@@")))) | AR14: {=IF(OR($D14="", $C14="직접입력", $B14="직접입력"), "", INDEX(구분표!$I$3:$I$321, MATCH(1,(구분표!$G$3:$G$321=$B14)*(구분표!$E$3:$E$321=$C14)*(구분표!$F$3:$F$321=$D14),0)))}
A15: =IF(D15="","",COUNTA($C$7:C15)-COUNTBLANK($C$7:C15)+11) | B15: =IF(D15="","",IF(OR(C15="직접입력",D15="북부지원"),"직접입력",IF(OR(AND(D15="인사과",C15="의회사무처"),AND(D15="총무과",C15="의회사무처")),"의회운영위원회",IF(OR(C15="직접입력",D15="북부지원"),"직접입력",IF(OR(AND(D15="인사과",C15="자치행정국"),AND(D15="총무과",C15="자치행정국")),"안전행정위원회",VLOOKUP(D15,구분표!$A$3:$C$258,2,)))))) | C15: =IF(D15="","",IF(OR(D15="교육지원과",D15="총무과",D15="인사과"),"직접입력",VLOOKUP(D15,구분표!$A$3:$C$258,3,))) | F15: =IF($E15="","",IF($E15="2추","직접입력","-")) | G15: =IF($E15="","",IF($E15="2추","직접입력","-")) | I15: =IF(H15="","",VLOOKUP($H15,구분표!$K$3:$M$151,2,FALSE)) | J15: =IF(I15="","",VLOOKUP($H15,구분표!$K$3:$M$151,3,FALSE)) | M15: =IF($E15="","",IF(OR($E15="2추", $E15="1추", $E15="본예산"), "금액입력", "-")) | N15: =IF($E15="", "", IF($E15="2추","금액입력", "-")) | O15: =IF($E15="","",SUM(M15:N15)) | Q15: =SUM(O15:P15) -> 0 | S15: =SUM(O15,R15) -> 0 | T15: =IF(AND((Q15=0),(S15>0)),"O",IF(AND((P15<0),(Q15-S15<0)),"O","X")) -> X | AC15: =IF($P15="", 0, IF(AND(ISNUMBER(AD15), ISNUMBER(AE15)), $P15-$AD15-$AE15, 0)) -> 0 | AD15: =IF($P15="", 0, IF(COUNT(FIND("(지방채)",$L15))>0, "재원입력필요", 0)) -> 0 | AE15: =IF($P15="", 0, IF(COUNT(FIND("(지역개발기금)",$L15))>0, "재원입력필요", 0)) -> 0 | AF15: =IF($P15="", IF(SUM($AC15:$AE15)=0, "", "@@"), IF(AND($P15=SUM($AC15:$AE15),Q15>=0),"OK","@@")) | AH15: =IF($R15="", 0, IF(AND(ISNUMBER($AI15), ISNUMBER($AJ15)), $R15-$AI15-$AJ15, 0)) -> 0 | AI15: =IF($P15="", 0, IF(COUNT(FIND("(지방채)",$L15))>0, "재원입력필요", 0)) -> 0 | AJ15: =IF($P15="", 0, IF(COUNT(FIND("(지역개발기금)",$L15))>0, "재원입력필요", 0)) -> 0 | AK15: =IF($R15="", IF(SUM($AH15:$AJ15)=0, "", "@@"), IF(AND($R15=SUM($AH15:$AJ15),$S15>=0),"OK","@@")) | AN15: =IF($AM15="","", IF($AM15="세입없음", "OK", IF(COUNTIF('3. 일입'!$AN$8:$AN$1831,$AM15), "OK","@@"))) | AO15: =IF($L15="","",IF(COUNT(FIND("(지역개발기금)",$L15)),"지역개발기금",IF(COUNT(FIND("지방채",$L15)),"지방채","자체"))) | AP15: =IF($AM15="", IF($AO15="", "", IF($AO15="자체", "OK", "@@")), IF($AM15="세입없음", "OK", IF($AO15="", "@@", IF(ISNUMBER(FIND($AO15,$AM15)),"OK","@@")))) | AR15: {=IF(OR($D15="", $C15="직접입력", $B15="직접입력"), "", INDEX(구분표!$I$3:$I$321, MATCH(1,(구분표!$G$3:$G$321=$B15)*(구분표!$E$3:$E$321=$C15)*(구분표!$F$3:$F$321=$D15),0)))}
A16: =IF(D16="","",COUNTA($C$7:C16)-COUNTBLANK($C$7:C16)+11) | B16: =IF(D16="","",IF(OR(C16="직접입력",D16="북부지원"),"직접입력",IF(OR(AND(D16="인사과",C16="의회사무처"),AND(D16="총무과",C16="의회사무처")),"의회운영위원회",IF(OR(C16="직접입력",D16="북부지원"),"직접입력",IF(OR(AND(D16="인사과",C16="자치행정국"),AND(D16="총무과",C16="자치행정국")),"안전행정위원회",VLOOKUP(D16,구분표!$A$3:$C$258,2,)))))) | C16: =IF(D16="","",IF(OR(D16="교육지원과",D16="총무과",D16="인사과"),"직접입력",VLOOKUP(D16,구분표!$A$3:$C$258,3,))) | F16: =IF($E16="","",IF($E16="2추","직접입력","-")) | G16: =IF($E16="","",IF($E16="2추","직접입력","-")) | I16: =IF(H16="","",VLOOKUP($H16,구분표!$K$3:$M$151,2,FALSE)) | J16: =IF(I16="","",VLOOKUP($H16,구분표!$K$3:$M$151,3,FALSE)) | M16: =IF($E16="","",IF(OR($E16="2추", $E16="1추", $E16="본예산"), "금액입력", "-")) | N16: =IF($E16="", "", IF($E16="2추","금액입력", "-")) | O16: =IF($E16="","",SUM(M16:N16)) | Q16: =SUM(O16:P16) -> 0 | S16: =SUM(O16,R16) -> 0 | T16: =IF(AND((Q16=0),(S16>0)),"O",IF(AND((P16<0),(Q16-S16<0)),"O","X")) -> X | AC16: =IF($P16="", 0, IF(AND(ISNUMBER(AD16), ISNUMBER(AE16)), $P16-$AD16-$AE16, 0)) -> 0 | AD16: =IF($P16="", 0, IF(COUNT(FIND("(지방채)",$L16))>0, "재원입력필요", 0)) -> 0 | AE16: =IF($P16="", 0, IF(COUNT(FIND("(지역개발기금)",$L16))>0, "재원입력필요", 0)) -> 0 | AF16: =IF($P16="", IF(SUM($AC16:$AE16)=0, "", "@@"), IF(AND($P16=SUM($AC16:$AE16),Q16>=0),"OK","@@")) | AH16: =IF($R16="", 0, IF(AND(ISNUMBER($AI16), ISNUMBER($AJ16)), $R16-$AI16-$AJ16, 0)) -> 0 | AI16: =IF($P16="", 0, IF(COUNT(FIND("(지방채)",$L16))>0, "재원입력필요", 0)) -> 0 | AJ16: =IF($P16="", 0, IF(COUNT(FIND("(지역개발기금)",$L16))>0, "재원입력필요", 0)) -> 0 | AK16: =IF($R16="", IF(SUM($AH16:$AJ16)=0, "", "@@"), IF(AND($R16=SUM($AH16:$AJ16),$S16>=0),"OK","@@")) | AN16: =IF($AM16="","", IF($AM16="세입없음", "OK", IF(COUNTIF('3. 일입'!$AN$8:$AN$1831,$AM16), "OK","@@"))) | AO16: =IF($L16="","",IF(COUNT(FIND("(지역개발기금)",$L16)),"지역개발기금",IF(COUNT(FIND("지방채",$L16)),"지방채","자체"))) | AP16: =IF($AM16="", IF($AO16="", "", IF($AO16="자체", "OK", "@@")), IF($AM16="세입없음", "OK", IF($AO16="", "@@", IF(ISNUMBER(FIND($AO16,$AM16)),"OK","@@")))) | AR16: {=IF(OR($D16="", $C16="직접입력", $B16="직접입력"), "", INDEX(구분표!$I$3:$I$321, MATCH(1,(구분표!$G$3:$G$321=$B16)*(구분표!$E$3:$E$321=$C16)*(구분표!$F$3:$F$321=$D16),0)))}
A17: =IF(D17="","",COUNTA($C$7:C17)-COUNTBLANK($C$7:C17)+11) | B17: =IF(D17="","",IF(OR(C17="직접입력",D17="북부지원"),"직접입력",IF(OR(AND(D17="인사과",C17="의회사무처"),AND(D17="총무과",C17="의회사무처")),"의회운영위원회",IF(OR(C17="직접입력",D17="북부지원"),"직접입력",IF(OR(AND(D17="인사과",C17="자치행정국"),AND(D17="총무과",C17="자치행정국")),"안전행정위원회",VLOOKUP(D17,구분표!$A$3:$C$258,2,)))))) | C17: =IF(D17="","",IF(OR(D17="교육지원과",D17="총무과",D17="인사과"),"직접입력",VLOOKUP(D17,구분표!$A$3:$C$258,3,))) | F17: =IF($E17="","",IF($E17="2추","직접입력","-")) | G17: =IF($E17="","",IF($E17="2추","직접입력","-")) | I17: =IF(H17="","",VLOOKUP($H17,구분표!$K$3:$M$151,2,FALSE)) | J17: =IF(I17="","",VLOOKUP($H17,구분표!$K$3:$M$151,3,FALSE)) | M17: =IF($E17="","",IF(OR($E17="2추", $E17="1추", $E17="본예산"), "금액입력", "-")) | N17: =IF($E17="", "", IF($E17="2추","금액입력", "-")) | O17: =IF($E17="","",SUM(M17:N17)) | Q17: =SUM(O17:P17) -> 0 | S17: =SUM(O17,R17) -> 0 | T17: =IF(AND((Q17=0),(S17>0)),"O",IF(AND((P17<0),(Q17-S17<0)),"O","X")) -> X | AC17: =IF($P17="", 0, IF(AND(ISNUMBER(AD17), ISNUMBER(AE17)), $P17-$AD17-$AE17, 0)) -> 0 | AD17: =IF($P17="", 0, IF(COUNT(FIND("(지방채)",$L17))>0, "재원입력필요", 0)) -> 0 | AE17: =IF($P17="", 0, IF(COUNT(FIND("(지역개발기금)",$L17))>0, "재원입력필요", 0)) -> 0 | AF17: =IF($P17="", IF(SUM($AC17:$AE17)=0, "", "@@"), IF(AND($P17=SUM($AC17:$AE17),Q17>=0),"OK","@@")) | AH17: =IF($R17="", 0, IF(AND(ISNUMBER($AI17), ISNUMBER($AJ17)), $R17-$AI17-$AJ17, 0)) -> 0 | AI17: =IF($P17="", 0, IF(COUNT(FIND("(지방채)",$L17))>0, "재원입력필요", 0)) -> 0 | AJ17: =IF($P17="", 0, IF(COUNT(FIND("(지역개발기금)",$L17))>0, "재원입력필요", 0)) -> 0 | AK17: =IF($R17="", IF(SUM($AH17:$AJ17)=0, "", "@@"), IF(AND($R17=SUM($AH17:$AJ17),$S17>=0),"OK","@@")) | AN17: =IF($AM17="","", IF($AM17="세입없음", "OK", IF(COUNTIF('3. 일입'!$AN$8:$AN$1831,$AM17), "OK","@@"))) | AO17: =IF($L17="","",IF(COUNT(FIND("(지역개발기금)",$L17)),"지역개발기금",IF(COUNT(FIND("지방채",$L17)),"지방채","자체"))) | AP17: =IF($AM17="", IF($AO17="", "", IF($AO17="자체", "OK", "@@")), IF($AM17="세입없음", "OK", IF($AO17="", "@@", IF(ISNUMBER(FIND($AO17,$AM17)),"OK","@@")))) | AR17: {=IF(OR($D17="", $C17="직접입력", $B17="직접입력"), "", INDEX(구분표!$I$3:$I$321, MATCH(1,(구분표!$G$3:$G$321=$B17)*(구분표!$E$3:$E$321=$C17)*(구분표!$F$3:$F$321=$D17),0)))}
A18: =IF(D18="","",COUNTA($C$7:C18)-COUNTBLANK($C$7:C18)+11) | B18: =IF(D18="","",IF(OR(C18="직접입력",D18="북부지원"),"직접입력",IF(OR(AND(D18="인사과",C18="의회사무처"),AND(D18="총무과",C18="의회사무처")),"의회운영위원회",IF(OR(C18="직접입력",D18="북부지원"),"직접입력",IF(OR(AND(D18="인사과",C18="자치행정국"),AND(D18="총무과",C18="자치행정국")),"안전행정위원회",VLOOKUP(D18,구분표!$A$3:$C$258,2,)))))) | C18: =IF(D18="","",IF(OR(D18="교육지원과",D18="총무과",D18="인사과"),"직접입력",VLOOKUP(D18,구분표!$A$3:$C$258,3,))) | F18: =IF($E18="","",IF($E18="2추","직접입력","-")) | G18: =IF($E18="","",IF($E18="2추","직접입력","-")) | I18: =IF(H18="","",VLOOKUP($H18,구분표!$K$3:$M$151,2,FALSE)) | J18: =IF(I18="","",VLOOKUP($H18,구분표!$K$3:$M$151,3,FALSE)) | M18: =IF($E18="","",IF(OR($E18="2추", $E18="1추", $E18="본예산"), "금액입력", "-")) | N18: =IF($E18="", "", IF($E18="2추","금액입력", "-")) | O18: =IF($E18="","",SUM(M18:N18)) | Q18: =SUM(O18:P18) -> 0 | S18: =SUM(O18,R18) -> 0 | T18: =IF(AND((Q18=0),(S18>0)),"O",IF(AND((P18<0),(Q18-S18<0)),"O","X")) -> X | AC18: =IF($P18="", 0, IF(AND(ISNUMBER(AD18), ISNUMBER(AE18)), $P18-$AD18-$AE18, 0)) -> 0 | AD18: =IF($P18="", 0, IF(COUNT(FIND("(지방채)",$L18))>0, "재원입력필요", 0)) -> 0 | AE18: =IF($P18="", 0, IF(COUNT(FIND("(지역개발기금)",$L18))>0, "재원입력필요", 0)) -> 0 | AF18: =IF($P18="", IF(SUM($AC18:$AE18)=0, "", "@@"), IF(AND($P18=SUM($AC18:$AE18),Q18>=0),"OK","@@")) | AH18: =IF($R18="", 0, IF(AND(ISNUMBER($AI18), ISNUMBER($AJ18)), $R18-$AI18-$AJ18, 0)) -> 0 | AI18: =IF($P18="", 0, IF(COUNT(FIND("(지방채)",$L18))>0, "재원입력필요", 0)) -> 0 | AJ18: =IF($P18="", 0, IF(COUNT(FIND("(지역개발기금)",$L18))>0, "재원입력필요", 0)) -> 0 | AK18: =IF($R18="", IF(SUM($AH18:$AJ18)=0, "", "@@"), IF(AND($R18=SUM($AH18:$AJ18),$S18>=0),"OK","@@")) | AN18: =IF($AM18="","", IF($AM18="세입없음", "OK", IF(COUNTIF('3. 일입'!$AN$8:$AN$1831,$AM18), "OK","@@"))) | AO18: =IF($L18="","",IF(COUNT(FIND("(지역개발기금)",$L18)),"지역개발기금",IF(COUNT(FIND("지방채",$L18)),"지방채","자체"))) | AP18: =IF($AM18="", IF($AO18="", "", IF($AO18="자체", "OK", "@@")), IF($AM18="세입없음", "OK", IF($AO18="", "@@", IF(ISNUMBER(FIND($AO18,$AM18)),"OK","@@")))) | AR18: {=IF(OR($D18="", $C18="직접입력", $B18="직접입력"), "", INDEX(구분표!$I$3:$I$321, MATCH(1,(구분표!$G$3:$G$321=$B18)*(구분표!$E$3:$E$321=$C18)*(구분표!$F$3:$F$321=$D18),0)))}
A19: =IF(D19="","",COUNTA($C$7:C19)-COUNTBLANK($C$7:C19)+11) | B19: =IF(D19="","",IF(OR(C19="직접입력",D19="북부지원"),"직접입력",IF(OR(AND(D19="인사과",C19="의회사무처"),AND(D19="총무과",C19="의회사무처")),"의회운영위원회",IF(OR(C19="직접입력",D19="북부지원"),"직접입력",IF(OR(AND(D19="인사과",C19="자치행정국"),AND(D19="총무과",C19="자치행정국")),"안전행정위원회",VLOOKUP(D19,구분표!$A$3:$C$258,2,)))))) | C19: =IF(D19="","",IF(OR(D19="교육지원과",D19="총무과",D19="인사과"),"직접입력",VLOOKUP(D19,구분표!$A$3:$C$258,3,))) | F19: =IF($E19="","",IF($E19="2추","직접입력","-")) | G19: =IF($E19="","",IF($E19="2추","직접입력","-")) | I19: =IF(H19="","",VLOOKUP($H19,구분표!$K$3:$M$151,2,FALSE)) | J19: =IF(I19="","",VLOOKUP($H19,구분표!$K$3:$M$151,3,FALSE)) | M19: =IF($E19="","",IF(OR($E19="2추", $E19="1추", $E19="본예산"), "금액입력", "-")) | N19: =IF($E19="", "", IF($E19="2추","금액입력", "-")) | O19: =IF($E19="","",SUM(M19:N19)) | Q19: =SUM(O19:P19) -> 0 | S19: =SUM(O19,R19) -> 0 | T19: =IF(AND((Q19=0),(S19>0)),"O",IF(AND((P19<0),(Q19-S19<0)),"O","X")) -> X | AC19: =IF($P19="", 0, IF(AND(ISNUMBER(AD19), ISNUMBER(AE19)), $P19-$AD19-$AE19, 0)) -> 0 | AD19: =IF($P19="", 0, IF(COUNT(FIND("(지방채)",$L19))>0, "재원입력필요", 0)) -> 0 | AE19: =IF($P19="", 0, IF(COUNT(FIND("(지역개발기금)",$L19))>0, "재원입력필요", 0)) -> 0 | AF19: =IF($P19="", IF(SUM($AC19:$AE19)=0, "", "@@"), IF(AND($P19=SUM($AC19:$AE19),Q19>=0),"OK","@@")) | AH19: =IF($R19="", 0, IF(AND(ISNUMBER($AI19), ISNUMBER($AJ19)), $R19-$AI19-$AJ19, 0)) -> 0 | AI19: =IF($P19="", 0, IF(COUNT(FIND("(지방채)",$L19))>0, "재원입력필요", 0)) -> 0 | AJ19: =IF($P19="", 0, IF(COUNT(FIND("(지역개발기금)",$L19))>0, "재원입력필요", 0)) -> 0 | AK19: =IF($R19="", IF(SUM($AH19:$AJ19)=0, "", "@@"), IF(AND($R19=SUM($AH19:$AJ19),$S19>=0),"OK","@@")) | AN19: =IF($AM19="","", IF($AM19="세입없음", "OK", IF(COUNTIF('3. 일입'!$AN$8:$AN$1831,$AM19), "OK","@@"))) | AO19: =IF($L19="","",IF(COUNT(FIND("(지역개발기금)",$L19)),"지역개발기금",IF(COUNT(FIND("지방채",$L19)),"지방채","자체"))) | AP19: =IF($AM19="", IF($AO19="", "", IF($AO19="자체", "OK", "@@")), IF($AM19="세입없음", "OK", IF($AO19="", "@@", IF(ISNUMBER(FIND($AO19,$AM19)),"OK","@@")))) | AR19: {=IF(OR($D19="", $C19="직접입력", $B19="직접입력"), "", INDEX(구분표!$I$3:$I$321, MATCH(1,(구분표!$G$3:$G$321=$B19)*(구분표!$E$3:$E$321=$C19)*(구분표!$F$3:$F$321=$D19),0)))}

Sheet 3. 일출(의존)
A1: 일반회계 세출(의존) 예산 조정(안) | AB1: 직접입력 (도비는 지방채/지역개발기금이 있는 경우만 금액 입력) *부기명에 (지방채) 또는 (지역개발기금) 포함시 | AH1: 직접입력 (도비는 지방채/지역개발기금이 있는 경우만 금액 입력) *부기명에 (지방채) 또는 (지역개발기금) 포함시 | AN1: 직접입력 (국비 세입이 있는 경우 "3. 일입"시트의 AK열 입력") ※ 매칭 세입이 없는 경우 세입번호에 "세입없음" 기재 | AS1: 직접입력 (지방채/지역개발기금인 경우 "3. 일입"시트의 AN열 입력") ※ 매칭 세입이 없는 경우 세입번호에 "세입없음" 기재
P2: =SUM(P7:P91)/2 -> 836750 | Q2: =SUM(Q7:Q91)/2 -> 1043840 | R2: =SUM(R7:R91)/2 -> 0 | S2: =SUM(S7:S91)/2 -> 207090 | W2: (단위 : 천원) | Y2: (단위 : 천원) | AB2: =IF(AB6='3. 일입'!AA7,"OK","@@") -> @@ | AF2: (단위 : 천원) | AH2: =IF(AH6='3. 일입'!AF7,"OK","@@") -> OK | AL2: (단위 : 천원) | AQ2: (단위 : 천원) | AV2: (단위 : 천원)
A3: 번호 | B3: 위원회명 | C3: 실국명 | D3: 부서명 | E3: 편성 구분 | F3: 예산안 /예산서 페이지 | G3: 실국별 사업 설명서 페이지 | H3: 통계목 코드 | I3: 편성목 | J3: 통계목 | K3: 세부사업명 | L3: 부기명 | M3: 기정액 (본예산+1추) (가) | N3: 증감액 (2회추경안) (나) | O3: 예산안 (다=가+나) | P3: 상임위 조정액 (라) | Q3: 상임위 조정 예산안 (마=다+라) | R3: 예결특위 조정액 (바) | S3: 예결특위 조정 예산안 (사=다+바) | T3: 상임위 동의 대상 | U3: 참고자료 (관련공문) | V3: 상임위 부대의견 | W3: 예비 심사시 집행부 동의여부 | X3: 예결특위 부대의견 | Y3: 부대의견 | Z3: 실국의견 청취대상 | AB3: 상임위 재원별 증감액 | AH3: 예결위 재원별 증감액 | AN3: 국비 매칭 세입 검증 | AS3: 지방채/지역개발기금 매칭 세입 검증 | AX3: 추가 내시 등
AB4: 국비 | AC4: 도비 | AF4: 금액 검증 (상임위조정액 =∑도비) | AH4: 국비 | AI4: 도비 | AL4: 금액 검증 (예결위조정액 =∑도비) | AN4: 세입번호 | AO4: 세입 번호 유무 검증 | AP4: 세출 재원 | AQ4: 재원 검증 | AS4: 세입번호 | AT4: 세입 번호 유무 검증 | AU4: 세출 재원 | AV4: 재원 검증
AC5: 자체 | AD5: 지방채 | AE5: 지역개발기금 | AI5: 자체 | AJ5: 지방채 | AK5: 지역개발기금
B6: 합 계 | L6: =SUBTOTAL(3,L$7:L$1840)&"건" -> 2건 | M6: =SUBTOTAL(9,M$7:M$1840) -> 207090 | N6: =SUBTOTAL(9,N$7:N$1840) -> 0 | O6: =SUBTOTAL(9,O$7:O$1840) -> 207090 | P6: =SUBTOTAL(9,P$7:P$1840) -> 836750 | Q6: =SUBTOTAL(9,Q$7:Q$1840) -> 1043840 | R6: =SUBTOTAL(9,R$7:R$1840) -> 0 | S6: =SUBTOTAL(9,S$7:S$1840) -> 207090 | AB6: =SUBTOTAL(9,AB$7:AB$1840) -> 436750 | AC6: =SUBTOTAL(9,AC$7:AC$1840) -> 400000 | AD6: =SUBTOTAL(9,AD$7:AD$1840) -> 0 | AE6: =SUBTOTAL(9,AE$7:AE$1840) -> 0 | AF6: =IF(COUNTIF(AF$7:AF$1840,"@@")>0,"@@","OK") -> OK | AH6: =SUBTOTAL(9,AH$7:AH$1840) -> 0 | AI6: =SUBTOTAL(9,AI$7:AI$1840) -> 0 | AJ6: =SUBTOTAL(9,AJ$7:AJ$1840) -> 0 | AK6: =SUBTOTAL(9,AK$7:AK$1840) -> 0 | AL6: =IF(COUNTIF(AL$7:AL$1840,"@@")>0,"@@","OK") -> OK | AO6: =IF(COUNTIF(AO$7:AO$1840,"@@")>0,"@@","OK") -> OK | AQ6: =IF(COUNTIF(AQ$7:AQ$1840,"@@")>0,"@@","OK") -> OK | AT6: =IF(COUNTIF(AT$7:AT$1840,"@@")>0,"@@","OK") -> OK | AV6: =IF(COUNTIF(AV$7:AV$1840,"@@")>0,"@@","OK") -> OK
B7: (여성가족평생교육위원회) | L7: =SUBTOTAL(3,$L8:$L22)&"건" -> 2건 | M7: =SUBTOTAL(9,M8:M22) -> 207090 | N7: =SUBTOTAL(9,N8:N22) -> 0 | O7: =SUBTOTAL(9,O8:O22) -> 207090 | P7: =SUBTOTAL(9,P8:P22) -> 836750 | Q7: =SUBTOTAL(9,Q8:Q22) -> 1043840 | R7: =SUBTOTAL(9,R8:R22) -> 0 | S7: =SUBTOTAL(9,S8:S22) -> 207090 | AB7: =SUBTOTAL(9,AB8:AB22) -> 436750 | AC7: =SUBTOTAL(9,AC8:AC22) -> 400000 | AD7: =SUBTOTAL(9,AD8:AD22) -> 0 | AE7: =SUBTOTAL(9,AE8:AE22) -> 0 | AF7: =IF(COUNTIF(AF8:AF22,"@@")>0,"@@","OK") -> OK | AH7: =SUBTOTAL(9,AH8:AH22) -> 0 | AI7: =SUBTOTAL(9,AI8:AI22) -> 0 | AJ7: =SUBTOTAL(9,AJ8:AJ22) -> 0 | AK7: =SUBTOTAL(9,AK8:AK22) -> 0 | AL7: =IF(COUNTIF(AL8:AL22,"@@")>0,"@@","OK") -> OK | AO7: =IF(COUNTIF(AO8:AO22,"@@")>0,"@@","OK") -> OK | AQ7: =IF(COUNTIF(AQ8:AQ22,"@@")>0,"@@","OK") -> OK | AT7: =IF(COUNTIF(AT8:AT22,"@@")>0,"@@","OK") -> OK | AV7: =IF(COUNTIF(AV8:AV22,"@@")>0,"@@","OK") -> OK
A8: =IF(D8="","",COUNTA($C$7:C8)-COUNTBLANK($C$7:C8)+11) -> 11 | B8: =IF(D8="","",IF(OR(C8="직접입력",D8="북부지원"),"직접입력",IF(OR(AND(D8="인사과",C8="의회사무처"),AND(D8="총무과",C8="의회사무처")),"의회운영위원회",IF(OR(C8="직접입력",D8="북부지원"),"직접입력",IF(OR(AND(D8="인사과",C8="자치행정국"),AND(D8="총무과",C8="자치행정국")),"안전행정위원회",VLOOKUP(D8,구분표!$A$3:$C$258,2,)))))) -> 여성가족평생교육위원회 | C8: =IF(D8="","",IF(OR(D8="교육지원과",D8="총무과",D8="인사과"),"직접입력",VLOOKUP(D8,구분표!$A$3:$C$258,3,))) -> 여성가족국 | D8: 여성비전센터 | E8: 1추 | F8: =IF($E8="","",IF($E8="2추","직접입력","-")) -> - | G8: =IF($E8="","",IF($E8="2추","직접입력","-")) -> - | H8: 403-01 | I8: =IF(H8="","",VLOOKUP($H8,구분표!$K$3:$M$151,2,FALSE)) -> 자치단체등 자본이전 | J8: =IF(I8="","",VLOOKUP($H8,구분표!$K$3:$M$151,3,FALSE)) -> 자치단체자본보조 | K8: 공중화장실 안전관리시설 설치지원(불법촬영탐지시스템)(균특/지원) | L8: 불법촬영탐지시스템 설치지원비 | M8: 207090 | N8: =IF($E8="", "", IF($E8="2추","금액입력", "-")) -> - | O8: =IF($E8="","",SUM(M8:N8)) -> 207090 | P8: 36750 | Q8: =SUM(O8:P8) -> 243840 | S8: =SUM(O8,R8) -> 207090 | T8: =IF(AND((Q8=0),(S8>0)),"O",IF(AND((P8<0),(Q8-S8<0)),"O","X")) -> X | U8: 행정안전부 주소정보혁신과-4513 (2026.09.02.) | W8: 동의 | AB8: 36750 | AC8: =IF($P8="", 0, IF(AND(ISNUMBER($AB8), ISNUMBER(AD8), ISNUMBER(AE8)), $P8-$AB8-$AD8-$AE8, 0)) -> 0 | AD8: =IF($P8="", 0, IF(COUNT(FIND("(지방채)",$L8))>0, "재원입력필요", 0)) -> 0 | AE8: =IF($P8="", 0, IF(COUNT(FIND("(지역개발기금)",$L8))>0, "재원입력필요", 0)) -> 0 | AF8: =IF($P8="", IF(SUM($AB8:$AE8)=0, "", "@@"), IF(AND($P8=SUM($AB8:$AE8),$Q8>=0),"OK","@@")) -> OK | AH8: =IF($R8="", 0, IF($R8<>0, "재원입력필요", 0)) -> 0 | AI8: =IF($R8="", 0, IF(AND(ISNUMBER($AH8), ISNUMBER($AJ8), ISNUMBER($AK8)), $R8-$AH8-$AJ8-$AK8, 0)) -> 0 | AJ8: =IF($R8="", 0, IF(COUNT(FIND("(지방채)",$L8))>0, "재원입력필요", 0)) -> 0 | AK8: =IF($R8="", 0, IF(COUNT(FIND("(지역개발기금)",$L8))>0, "재원입력필요", 0)) -> 0 | AL8: =IF($R8="", IF(SUM($AH8:$AK8)=0, "", "@@"), IF(AND($R8=SUM($AH8:$AK8),$S8>=0),"OK","@@")) | AN8: 50604-1 | AO8: =IF($AP8="", "", IF($AN8="세입없음","OK", IF(OR($AP8="재원확인", $AN8=""),"@@", IF(COUNTIF('3. 일입'!$AK$8:$AK$1831, $AN8), "OK","@@")))) -> OK | AP8: =IF($K8="","",IF(COUNT(FIND("국비/",$K8)),"국비",IF(COUNT(FIND("균특/",$K8)),"균특",IF(COUNT(FIND("기금/",$K8)),"기금",IF(COUNT(FIND("교부세/",$K8)),"특교",IF(COUNT(FIND("소방안전/",$K8)),"소교",IF(COUNT(FIND("소멸대응/",$K8)),"소멸","재원확인"))))))) -> 균특 | AQ8: =IF(AND($AN8="",$AP8=""),"",IF(AND($AN8<>"",$AP8<>""),IF(AN8="세입없음","OK",IF(VLOOKUP($AN8,'3. 일입'!$AK$7:$AL$1831,2,FALSE)=$AP8,"OK","@@")), "@@")) -> OK | AT8: =IF($AS8="","", IF($AS8="세입없음", "OK", IF(COUNTIF('3. 일입'!$AN$8:$AN$1831, $AS8), "OK", "@@"))) | AU8: =IF($L8="","",IF(COUNT(FIND("(지역개발기금)",$L8)),"지역개발기금",IF(COUNT(FIND("지방채",$L8)),"지방채","자체"))) -> 자체 | AV8: =IF($AS8="", IF($AU8="", "", IF($AU8="자체", "OK", "@@")), IF($AS8="세입없음", "OK", IF($AU8="", "@@", IF(ISNUMBER(FIND($AU8,$AS8)),"OK","@@")))) -> OK
A9: =IF(D9="","",COUNTA($C$7:C9)-COUNTBLANK($C$7:C9)+11) -> 12 | B9: =IF(D9="","",IF(OR(C9="직접입력",D9="북부지원"),"직접입력",IF(OR(AND(D9="인사과",C9="의회사무처"),AND(D9="총무과",C9="의회사무처")),"의회운영위원회",IF(OR(C9="직접입력",D9="북부지원"),"직접입력",IF(OR(AND(D9="인사과",C9="자치행정국"),AND(D9="총무과",C9="자치행정국")),"안전행정위원회",VLOOKUP(D9,구분표!$A$3:$C$258,2,)))))) -> 여성가족평생교육위원회 | C9: =IF(D9="","",IF(OR(D9="교육지원과",D9="총무과",D9="인사과"),"직접입력",VLOOKUP(D9,구분표!$A$3:$C$258,3,))) -> 이민사회국 | D9: 이민사회정책과 | E9: 신규 | F9: =IF($E9="","",IF($E9="2추","직접입력","-")) -> - | G9: =IF($E9="","",IF($E9="2추","직접입력","-")) -> - | H9: 307-05 | I9: =IF(H9="","",VLOOKUP($H9,구분표!$K$3:$M$151,2,FALSE)) -> 민간이전 | J9: =IF(I9="","",VLOOKUP($H9,구분표!$K$3:$M$151,3,FALSE)) -> 민간위탁금 | K9: 외국인근로자 지역정착 지원사업(국비/직접) | L9: 경기도 이주노동자 안전특화센터 설치 및 운영 | M9: =IF($E9="","",IF(OR($E9="2추", $E9="1추", $E9="본예산"), "금액입력", "-")) -> - | N9: =IF($E9="", "", IF($E9="2추","금액입력", "-")) -> - | O9: =IF($E9="","",SUM(M9:N9)) -> 0 | P9: 800000 | Q9: =SUM(O9:P9) -> 800000 | S9: =SUM(O9,R9) -> 0 | T9: =IF(AND((Q9=0),(S9>0)),"O",IF(AND((P9<0),(Q9-S9<0)),"O","X")) -> X | U9: 고용노동부 외국인력담당관-2662(2026.08.06.) | W9: 부동의 | AB9: 400000 | AC9: =IF($P9="", 0, IF(AND(ISNUMBER($AB9), ISNUMBER(AD9), ISNUMBER(AE9)), $P9-$AB9-$AD9-$AE9, 0)) -> 400000 | AD9: =IF($P9="", 0, IF(COUNT(FIND("(지방채)",$L9))>0, "재원입력필요", 0)) -> 0 | AE9: =IF($P9="", 0, IF(COUNT(FIND("(지역개발기금)",$L9))>0, "재원입력필요", 0)) -> 0 | AF9: =IF($P9="", IF(SUM($AB9:$AE9)=0, "", "@@"), IF(AND($P9=SUM($AB9:$AE9),$Q9>=0),"OK","@@")) -> OK | AH9: =IF($R9="", 0, IF($R9<>0, "재원입력필요", 0)) -> 0 | AI9: =IF($R9="", 0, IF(AND(ISNUMBER($AH9), ISNUMBER($AJ9), ISNUMBER($AK9)), $R9-$AH9-$AJ9-$AK9, 0)) -> 0 | AJ9: =IF($R9="", 0, IF(COUNT(FIND("(지방채)",$L9))>0, "재원입력필요", 0)) -> 0 | AK9: =IF($R9="", 0, IF(COUNT(FIND("(지역개발기금)",$L9))>0, "재원입력필요", 0)) -> 0 | AL9: =IF($R9="", IF(SUM($AH9:$AK9)=0, "", "@@"), IF(AND($R9=SUM($AH9:$AK9),$S9>=0),"OK","@@")) | AN9: 20304-1 | AO9: =IF($AP9="", "", IF($AN9="세입없음","OK", IF(OR($AP9="재원확인", $AN9=""),"@@", IF(COUNTIF('3. 일입'!$AK$8:$AK$1831, $AN9), "OK","@@")))) -> OK | AP9: =IF($K9="","",IF(COUNT(FIND("국비/",$K9)),"국비",IF(COUNT(FIND("균특/",$K9)),"균특",IF(COUNT(FIND("기금/",$K9)),"기금",IF(COUNT(FIND("교부세/",$K9)),"특교",IF(COUNT(FIND("소방안전/",$K9)),"소교",IF(COUNT(FIND("소멸대응/",$K9)),"소멸","재원확인"))))))) -> 국비 | AQ9: =IF(AND($AN9="",$AP9=""),"",IF(AND($AN9<>"",$AP9<>""),IF(AN9="세입없음","OK",IF(VLOOKUP($AN9,'3. 일입'!$AK$7:$AL$1831,2,FALSE)=$AP9,"OK","@@")), "@@")) -> OK | AT9: =IF($AS9="","", IF($AS9="세입없음", "OK", IF(COUNTIF('3. 일입'!$AN$8:$AN$1831, $AS9), "OK", "@@"))) | AU9: =IF($L9="","",IF(COUNT(FIND("(지역개발기금)",$L9)),"지역개발기금",IF(COUNT(FIND("지방채",$L9)),"지방채","자체"))) -> 자체 | AV9: =IF($AS9="", IF($AU9="", "", IF($AU9="자체", "OK", "@@")), IF($AS9="세입없음", "OK", IF($AU9="", "@@", IF(ISNUMBER(FIND($AU9,$AS9)),"OK","@@")))) -> OK
A10: =IF(D10="","",COUNTA($C$7:C10)-COUNTBLANK($C$7:C10)+11) | B10: =IF(D10="","",IF(OR(C10="직접입력",D10="북부지원"),"직접입력",IF(OR(AND(D10="인사과",C10="의회사무처"),AND(D10="총무과",C10="의회사무처")),"의회운영위원회",IF(OR(C10="직접입력",D10="북부지원"),"직접입력",IF(OR(AND(D10="인사과",C10="자치행정국"),AND(D10="총무과",C10="자치행정국")),"안전행정위원회",VLOOKUP(D10,구분표!$A$3:$C$258,2,)))))) | C10: =IF(D10="","",IF(OR(D10="교육지원과",D10="총무과",D10="인사과"),"직접입력",VLOOKUP(D10,구분표!$A$3:$C$258,3,))) | F10: =IF($E10="","",IF($E10="2추","직접입력","-")) | G10: =IF($E10="","",IF($E10="2추","직접입력","-")) | I10: =IF(H10="","",VLOOKUP($H10,구분표!$K$3:$M$151,2,FALSE)) | J10: =IF(I10="","",VLOOKUP($H10,구분표!$K$3:$M$151,3,FALSE)) | M10: =IF($E10="","",IF(OR($E10="2추", $E10="1추", $E10="본예산"), "금액입력", "-")) | N10: =IF($E10="", "", IF($E10="2추","금액입력", "-")) | O10: =IF($E10="","",SUM(M10:N10)) | Q10: =SUM(O10:P10) -> 0 | S10: =SUM(O10,R10) -> 0 | T10: =IF(AND((Q10=0),(S10>0)),"O",IF(AND((P10<0),(Q10-S10<0)),"O","X")) -> X | AB10: =IF($P10="", 0, IF($P10<>0, "재원입력필요", 0)) -> 0 | AC10: =IF($P10="", 0, IF(AND(ISNUMBER($AB10), ISNUMBER(AD10), ISNUMBER(AE10)), $P10-$AB10-$AD10-$AE10, 0)) -> 0 | AD10: =IF($P10="", 0, IF(COUNT(FIND("(지방채)",$L10))>0, "재원입력필요", 0)) -> 0 | AE10: =IF($P10="", 0, IF(COUNT(FIND("(지역개발기금)",$L10))>0, "재원입력필요", 0)) -> 0 | AF10: =IF($P10="", IF(SUM($AB10:$AE10)=0, "", "@@"), IF(AND($P10=SUM($AB10:$AE10),$Q10>=0),"OK","@@")) | AH10: =IF($R10="", 0, IF($R10<>0, "재원입력필요", 0)) -> 0 | AI10: =IF($R10="", 0, IF(AND(ISNUMBER($AH10), ISNUMBER($AJ10), ISNUMBER($AK10)), $R10-$AH10-$AJ10-$AK10, 0)) -> 0 | AJ10: =IF($R10="", 0, IF(COUNT(FIND("(지방채)",$L10))>0, "재원입력필요", 0)) -> 0 | AK10: =IF($R10="", 0, IF(COUNT(FIND("(지역개발기금)",$L10))>0, "재원입력필요", 0)) -> 0 | AL10: =IF($R10="", IF(SUM($AH10:$AK10)=0, "", "@@"), IF(AND($R10=SUM($AH10:$AK10),$S10>=0),"OK","@@")) | AO10: =IF($AP10="", "", IF($AN10="세입없음","OK", IF(OR($AP10="재원확인", $AN10=""),"@@", IF(COUNTIF('3. 일입'!$AK$8:$AK$1831, $AN10), "OK","@@")))) | AP10: =IF($K10="","",IF(COUNT(FIND("국비/",$K10)),"국비",IF(COUNT(FIND("균특/",$K10)),"균특",IF(COUNT(FIND("기금/",$K10)),"기금",IF(COUNT(FIND("교부세/",$K10)),"특교",IF(COUNT(FIND("소방안전/",$K10)),"소교",IF(COUNT(FIND("소멸대응/",$K10)),"소멸","재원확인"))))))) | AQ10: =IF(AND($AN10="",$AP10=""),"",IF(AND($AN10<>"",$AP10<>""),IF(AN10="세입없음","OK",IF(VLOOKUP($AN10,'3. 일입'!$AK$7:$AL$1831,2,FALSE)=$AP10,"OK","@@")), "@@")) | AT10: =IF($AS10="","", IF($AS10="세입없음", "OK", IF(COUNTIF('3. 일입'!$AN$8:$AN$1831, $AS10), "OK", "@@"))) | AU10: =IF($L10="","",IF(COUNT(FIND("(지역개발기금)",$L10)),"지역개발기금",IF(COUNT(FIND("지방채",$L10)),"지방채","자체"))) | AV10: =IF($AS10="", IF($AU10="", "", IF($AU10="자체", "OK", "@@")), IF($AS10="세입없음", "OK", IF($AU10="", "@@", IF(ISNUMBER(FIND($AU10,$AS10)),"OK","@@"))))
A11: =IF(D11="","",COUNTA($C$7:C11)-COUNTBLANK($C$7:C11)+11) | B11: =IF(D11="","",IF(OR(C11="직접입력",D11="북부지원"),"직접입력",IF(OR(AND(D11="인사과",C11="의회사무처"),AND(D11="총무과",C11="의회사무처")),"의회운영위원회",IF(OR(C11="직접입력",D11="북부지원"),"직접입력",IF(OR(AND(D11="인사과",C11="자치행정국"),AND(D11="총무과",C11="자치행정국")),"안전행정위원회",VLOOKUP(D11,구분표!$A$3:$C$258,2,)))))) | C11: =IF(D11="","",IF(OR(D11="교육지원과",D11="총무과",D11="인사과"),"직접입력",VLOOKUP(D11,구분표!$A$3:$C$258,3,))) | F11: =IF($E11="","",IF($E11="2추","직접입력","-")) | G11: =IF($E11="","",IF($E11="2추","직접입력","-")) | I11: =IF(H11="","",VLOOKUP($H11,구분표!$K$3:$M$151,2,FALSE)) | J11: =IF(I11="","",VLOOKUP($H11,구분표!$K$3:$M$151,3,FALSE)) | M11: =IF($E11="","",IF(OR($E11="2추", $E11="1추", $E11="본예산"), "금액입력", "-")) | N11: =IF($E11="", "", IF($E11="2추","금액입력", "-")) | O11: =IF($E11="","",SUM(M11:N11)) | Q11: =SUM(O11:P11) -> 0 | S11: =SUM(O11,R11) -> 0 | T11: =IF(AND((Q11=0),(S11>0)),"O",IF(AND((P11<0),(Q11-S11<0)),"O","X")) -> X | AB11: =IF($P11="", 0, IF($P11<>0, "재원입력필요", 0)) -> 0 | AC11: =IF($P11="", 0, IF(AND(ISNUMBER($AB11), ISNUMBER(AD11), ISNUMBER(AE11)), $P11-$AB11-$AD11-$AE11, 0)) -> 0 | AD11: =IF($P11="", 0, IF(COUNT(FIND("(지방채)",$L11))>0, "재원입력필요", 0)) -> 0 | AE11: =IF($P11="", 0, IF(COUNT(FIND("(지역개발기금)",$L11))>0, "재원입력필요", 0)) -> 0 | AF11: =IF($P11="", IF(SUM($AB11:$AE11)=0, "", "@@"), IF(AND($P11=SUM($AB11:$AE11),$Q11>=0),"OK","@@")) | AH11: =IF($R11="", 0, IF($R11<>0, "재원입력필요", 0)) -> 0 | AI11: =IF($R11="", 0, IF(AND(ISNUMBER($AH11), ISNUMBER($AJ11), ISNUMBER($AK11)), $R11-$AH11-$AJ11-$AK11, 0)) -> 0 | AJ11: =IF($R11="", 0, IF(COUNT(FIND("(지방채)",$L11))>0, "재원입력필요", 0)) -> 0 | AK11: =IF($R11="", 0, IF(COUNT(FIND("(지역개발기금)",$L11))>0, "재원입력필요", 0)) -> 0 | AL11: =IF($R11="", IF(SUM($AH11:$AK11)=0, "", "@@"), IF(AND($R11=SUM($AH11:$AK11),$S11>=0),"OK","@@")) | AO11: =IF($AP11="", "", IF($AN11="세입없음","OK", IF(OR($AP11="재원확인", $AN11=""),"@@", IF(COUNTIF('3. 일입'!$AK$8:$AK$1831, $AN11), "OK","@@")))) | AP11: =IF($K11="","",IF(COUNT(FIND("국비/",$K11)),"국비",IF(COUNT(FIND("균특/",$K11)),"균특",IF(COUNT(FIND("기금/",$K11)),"기금",IF(COUNT(FIND("교부세/",$K11)),"특교",IF(COUNT(FIND("소방안전/",$K11)),"소교",IF(COUNT(FIND("소멸대응/",$K11)),"소멸","재원확인"))))))) | AQ11: =IF(AND($AN11="",$AP11=""),"",IF(AND($AN11<>"",$AP11<>""),IF(AN11="세입없음","OK",IF(VLOOKUP($AN11,'3. 일입'!$AK$7:$AL$1831,2,FALSE)=$AP11,"OK","@@")), "@@")) | AT11: =IF($AS11="","", IF($AS11="세입없음", "OK", IF(COUNTIF('3. 일입'!$AN$8:$AN$1831, $AS11), "OK", "@@"))) | AU11: =IF($L11="","",IF(COUNT(FIND("(지역개발기금)",$L11)),"지역개발기금",IF(COUNT(FIND("지방채",$L11)),"지방채","자체"))) | AV11: =IF($AS11="", IF($AU11="", "", IF($AU11="자체", "OK", "@@")), IF($AS11="세입없음", "OK", IF($AU11="", "@@", IF(ISNUMBER(FIND($AU11,$AS11)),"OK","@@"))))
A12: =IF(D12="","",COUNTA($C$7:C12)-COUNTBLANK($C$7:C12)+11) | B12: =IF(D12="","",IF(OR(C12="직접입력",D12="북부지원"),"직접입력",IF(OR(AND(D12="인사과",C12="의회사무처"),AND(D12="총무과",C12="의회사무처")),"의회운영위원회",IF(OR(C12="직접입력",D12="북부지원"),"직접입력",IF(OR(AND(D12="인사과",C12="자치행정국"),AND(D12="총무과",C12="자치행정국")),"안전행정위원회",VLOOKUP(D12,구분표!$A$3:$C$258,2,)))))) | C12: =IF(D12="","",IF(OR(D12="교육지원과",D12="총무과",D12="인사과"),"직접입력",VLOOKUP(D12,구분표!$A$3:$C$258,3,))) | F12: =IF($E12="","",IF($E12="2추","직접입력","-")) | G12: =IF($E12="","",IF($E12="2추","직접입력","-")) | I12: =IF(H12="","",VLOOKUP($H12,구분표!$K$3:$M$151,2,FALSE)) | J12: =IF(I12="","",VLOOKUP($H12,구분표!$K$3:$M$151,3,FALSE)) | M12: =IF($E12="","",IF(OR($E12="2추", $E12="1추", $E12="본예산"), "금액입력", "-")) | N12: =IF($E12="", "", IF($E12="2추","금액입력", "-")) | O12: =IF($E12="","",SUM(M12:N12)) | Q12: =SUM(O12:P12) -> 0 | S12: =SUM(O12,R12) -> 0 | T12: =IF(AND((Q12=0),(S12>0)),"O",IF(AND((P12<0),(Q12-S12<0)),"O","X")) -> X | AB12: =IF($P12="", 0, IF($P12<>0, "재원입력필요", 0)) -> 0 | AC12: =IF($P12="", 0, IF(AND(ISNUMBER($AB12), ISNUMBER(AD12), ISNUMBER(AE12)), $P12-$AB12-$AD12-$AE12, 0)) -> 0 | AD12: =IF($P12="", 0, IF(COUNT(FIND("(지방채)",$L12))>0, "재원입력필요", 0)) -> 0 | AE12: =IF($P12="", 0, IF(COUNT(FIND("(지역개발기금)",$L12))>0, "재원입력필요", 0)) -> 0 | AF12: =IF($P12="", IF(SUM($AB12:$AE12)=0, "", "@@"), IF(AND($P12=SUM($AB12:$AE12),$Q12>=0),"OK","@@")) | AH12: =IF($R12="", 0, IF($R12<>0, "재원입력필요", 0)) -> 0 | AI12: =IF($R12="", 0, IF(AND(ISNUMBER($AH12), ISNUMBER($AJ12), ISNUMBER($AK12)), $R12-$AH12-$AJ12-$AK12, 0)) -> 0 | AJ12: =IF($R12="", 0, IF(COUNT(FIND("(지방채)",$L12))>0, "재원입력필요", 0)) -> 0 | AK12: =IF($R12="", 0, IF(COUNT(FIND("(지역개발기금)",$L12))>0, "재원입력필요", 0)) -> 0 | AL12: =IF($R12="", IF(SUM($AH12:$AK12)=0, "", "@@"), IF(AND($R12=SUM($AH12:$AK12),$S12>=0),"OK","@@")) | AO12: =IF($AP12="", "", IF($AN12="세입없음","OK", IF(OR($AP12="재원확인", $AN12=""),"@@", IF(COUNTIF('3. 일입'!$AK$8:$AK$1831, $AN12), "OK","@@")))) | AP12: =IF($K12="","",IF(COUNT(FIND("국비/",$K12)),"국비",IF(COUNT(FIND("균특/",$K12)),"균특",IF(COUNT(FIND("기금/",$K12)),"기금",IF(COUNT(FIND("교부세/",$K12)),"특교",IF(COUNT(FIND("소방안전/",$K12)),"소교",IF(COUNT(FIND("소멸대응/",$K12)),"소멸","재원확인"))))))) | AQ12: =IF(AND($AN12="",$AP12=""),"",IF(AND($AN12<>"",$AP12<>""),IF(AN12="세입없음","OK",IF(VLOOKUP($AN12,'3. 일입'!$AK$7:$AL$1831,2,FALSE)=$AP12,"OK","@@")), "@@")) | AT12: =IF($AS12="","", IF($AS12="세입없음", "OK", IF(COUNTIF('3. 일입'!$AN$8:$AN$1831, $AS12), "OK", "@@"))) | AU12: =IF($L12="","",IF(COUNT(FIND("(지역개발기금)",$L12)),"지역개발기금",IF(COUNT(FIND("지방채",$L12)),"지방채","자체"))) | AV12: =IF($AS12="", IF($AU12="", "", IF($AU12="자체", "OK", "@@")), IF($AS12="세입없음", "OK", IF($AU12="", "@@", IF(ISNUMBER(FIND($AU12,$AS12)),"OK","@@"))))
A13: =IF(D13="","",COUNTA($C$7:C13)-COUNTBLANK($C$7:C13)+11) | B13: =IF(D13="","",IF(OR(C13="직접입력",D13="북부지원"),"직접입력",IF(OR(AND(D13="인사과",C13="의회사무처"),AND(D13="총무과",C13="의회사무처")),"의회운영위원회",IF(OR(C13="직접입력",D13="북부지원"),"직접입력",IF(OR(AND(D13="인사과",C13="자치행정국"),AND(D13="총무과",C13="자치행정국")),"안전행정위원회",VLOOKUP(D13,구분표!$A$3:$C$258,2,)))))) | C13: =IF(D13="","",IF(OR(D13="교육지원과",D13="총무과",D13="인사과"),"직접입력",VLOOKUP(D13,구분표!$A$3:$C$258,3,))) | F13: =IF($E13="","",IF($E13="2추","직접입력","-")) | G13: =IF($E13="","",IF($E13="2추","직접입력","-")) | I13: =IF(H13="","",VLOOKUP($H13,구분표!$K$3:$M$151,2,FALSE)) | J13: =IF(I13="","",VLOOKUP($H13,구분표!$K$3:$M$151,3,FALSE)) | M13: =IF($E13="","",IF(OR($E13="2추", $E13="1추", $E13="본예산"), "금액입력", "-")) | N13: =IF($E13="", "", IF($E13="2추","금액입력", "-")) | O13: =IF($E13="","",SUM(M13:N13)) | Q13: =SUM(O13:P13) -> 0 | S13: =SUM(O13,R13) -> 0 | T13: =IF(AND((Q13=0),(S13>0)),"O",IF(AND((P13<0),(Q13-S13<0)),"O","X")) -> X | AB13: =IF($P13="", 0, IF($P13<>0, "재원입력필요", 0)) -> 0 | AC13: =IF($P13="", 0, IF(AND(ISNUMBER($AB13), ISNUMBER(AD13), ISNUMBER(AE13)), $P13-$AB13-$AD13-$AE13, 0)) -> 0 | AD13: =IF($P13="", 0, IF(COUNT(FIND("(지방채)",$L13))>0, "재원입력필요", 0)) -> 0 | AE13: =IF($P13="", 0, IF(COUNT(FIND("(지역개발기금)",$L13))>0, "재원입력필요", 0)) -> 0 | AF13: =IF($P13="", IF(SUM($AB13:$AE13)=0, "", "@@"), IF(AND($P13=SUM($AB13:$AE13),$Q13>=0),"OK","@@")) | AH13: =IF($R13="", 0, IF($R13<>0, "재원입력필요", 0)) -> 0 | AI13: =IF($R13="", 0, IF(AND(ISNUMBER($AH13), ISNUMBER($AJ13), ISNUMBER($AK13)), $R13-$AH13-$AJ13-$AK13, 0)) -> 0 | AJ13: =IF($R13="", 0, IF(COUNT(FIND("(지방채)",$L13))>0, "재원입력필요", 0)) -> 0 | AK13: =IF($R13="", 0, IF(COUNT(FIND("(지역개발기금)",$L13))>0, "재원입력필요", 0)) -> 0 | AL13: =IF($R13="", IF(SUM($AH13:$AK13)=0, "", "@@"), IF(AND($R13=SUM($AH13:$AK13),$S13>=0),"OK","@@")) | AO13: =IF($AP13="", "", IF($AN13="세입없음","OK", IF(OR($AP13="재원확인", $AN13=""),"@@", IF(COUNTIF('3. 일입'!$AK$8:$AK$1831, $AN13), "OK","@@")))) | AP13: =IF($K13="","",IF(COUNT(FIND("국비/",$K13)),"국비",IF(COUNT(FIND("균특/",$K13)),"균특",IF(COUNT(FIND("기금/",$K13)),"기금",IF(COUNT(FIND("교부세/",$K13)),"특교",IF(COUNT(FIND("소방안전/",$K13)),"소교",IF(COUNT(FIND("소멸대응/",$K13)),"소멸","재원확인"))))))) | AQ13: =IF(AND($AN13="",$AP13=""),"",IF(AND($AN13<>"",$AP13<>""),IF(AN13="세입없음","OK",IF(VLOOKUP($AN13,'3. 일입'!$AK$7:$AL$1831,2,FALSE)=$AP13,"OK","@@")), "@@")) | AT13: =IF($AS13="","", IF($AS13="세입없음", "OK", IF(COUNTIF('3. 일입'!$AN$8:$AN$1831, $AS13), "OK", "@@"))) | AU13: =IF($L13="","",IF(COUNT(FIND("(지역개발기금)",$L13)),"지역개발기금",IF(COUNT(FIND("지방채",$L13)),"지방채","자체"))) | AV13: =IF($AS13="", IF($AU13="", "", IF($AU13="자체", "OK", "@@")), IF($AS13="세입없음", "OK", IF($AU13="", "@@", IF(ISNUMBER(FIND($AU13,$AS13)),"OK","@@"))))
A14: =IF(D14="","",COUNTA($C$7:C14)-COUNTBLANK($C$7:C14)+11) | B14: =IF(D14="","",IF(OR(C14="직접입력",D14="북부지원"),"직접입력",IF(OR(AND(D14="인사과",C14="의회사무처"),AND(D14="총무과",C14="의회사무처")),"의회운영위원회",IF(OR(C14="직접입력",D14="북부지원"),"직접입력",IF(OR(AND(D14="인사과",C14="자치행정국"),AND(D14="총무과",C14="자치행정국")),"안전행정위원회",VLOOKUP(D14,구분표!$A$3:$C$258,2,)))))) | C14: =IF(D14="","",IF(OR(D14="교육지원과",D14="총무과",D14="인사과"),"직접입력",VLOOKUP(D14,구분표!$A$3:$C$258,3,))) | F14: =IF($E14="","",IF($E14="2추","직접입력","-")) | G14: =IF($E14="","",IF($E14="2추","직접입력","-")) | I14: =IF(H14="","",VLOOKUP($H14,구분표!$K$3:$M$151,2,FALSE)) | J14: =IF(I14="","",VLOOKUP($H14,구분표!$K$3:$M$151,3,FALSE)) | M14: =IF($E14="","",IF(OR($E14="2추", $E14="1추", $E14="본예산"), "금액입력", "-")) | N14: =IF($E14="", "", IF($E14="2추","금액입력", "-")) | O14: =IF($E14="","",SUM(M14:N14)) | Q14: =SUM(O14:P14) -> 0 | S14: =SUM(O14,R14) -> 0 | T14: =IF(AND((Q14=0),(S14>0)),"O",IF(AND((P14<0),(Q14-S14<0)),"O","X")) -> X | AB14: =IF($P14="", 0, IF($P14<>0, "재원입력필요", 0)) -> 0 | AC14: =IF($P14="", 0, IF(AND(ISNUMBER($AB14), ISNUMBER(AD14), ISNUMBER(AE14)), $P14-$AB14-$AD14-$AE14, 0)) -> 0 | AD14: =IF($P14="", 0, IF(COUNT(FIND("(지방채)",$L14))>0, "재원입력필요", 0)) -> 0 | AE14: =IF($P14="", 0, IF(COUNT(FIND("(지역개발기금)",$L14))>0, "재원입력필요", 0)) -> 0 | AF14: =IF($P14="", IF(SUM($AB14:$AE14)=0, "", "@@"), IF(AND($P14=SUM($AB14:$AE14),$Q14>=0),"OK","@@")) | AH14: =IF($R14="", 0, IF($R14<>0, "재원입력필요", 0)) -> 0 | AI14: =IF($R14="", 0, IF(AND(ISNUMBER($AH14), ISNUMBER($AJ14), ISNUMBER($AK14)), $R14-$AH14-$AJ14-$AK14, 0)) -> 0 | AJ14: =IF($R14="", 0, IF(COUNT(FIND("(지방채)",$L14))>0, "재원입력필요", 0)) -> 0 | AK14: =IF($R14="", 0, IF(COUNT(FIND("(지역개발기금)",$L14))>0, "재원입력필요", 0)) -> 0 | AL14: =IF($R14="", IF(SUM($AH14:$AK14)=0, "", "@@"), IF(AND($R14=SUM($AH14:$AK14),$S14>=0),"OK","@@")) | AO14: =IF($AP14="", "", IF($AN14="세입없음","OK", IF(OR($AP14="재원확인", $AN14=""),"@@", IF(COUNTIF('3. 일입'!$AK$8:$AK$1831, $AN14), "OK","@@")))) | AP14: =IF($K14="","",IF(COUNT(FIND("국비/",$K14)),"국비",IF(COUNT(FIND("균특/",$K14)),"균특",IF(COUNT(FIND("기금/",$K14)),"기금",IF(COUNT(FIND("교부세/",$K14)),"특교",IF(COUNT(FIND("소방안전/",$K14)),"소교",IF(COUNT(FIND("소멸대응/",$K14)),"소멸","재원확인"))))))) | AQ14: =IF(AND($AN14="",$AP14=""),"",IF(AND($AN14<>"",$AP14<>""),IF(AN14="세입없음","OK",IF(VLOOKUP($AN14,'3. 일입'!$AK$7:$AL$1831,2,FALSE)=$AP14,"OK","@@")), "@@")) | AT14: =IF($AS14="","", IF($AS14="세입없음", "OK", IF(COUNTIF('3. 일입'!$AN$8:$AN$1831, $AS14), "OK", "@@"))) | AU14: =IF($L14="","",IF(COUNT(FIND("(지역개발기금)",$L14)),"지역개발기금",IF(COUNT(FIND("지방채",$L14)),"지방채","자체"))) | AV14: =IF($AS14="", IF($AU14="", "", IF($AU14="자체", "OK", "@@")), IF($AS14="세입없음", "OK", IF($AU14="", "@@", IF(ISNUMBER(FIND($AU14,$AS14)),"OK","@@"))))
A15: =IF(D15="","",COUNTA($C$7:C15)-COUNTBLANK($C$7:C15)+11) | B15: =IF(D15="","",IF(OR(C15="직접입력",D15="북부지원"),"직접입력",IF(OR(AND(D15="인사과",C15="의회사무처"),AND(D15="총무과",C15="의회사무처")),"의회운영위원회",IF(OR(C15="직접입력",D15="북부지원"),"직접입력",IF(OR(AND(D15="인사과",C15="자치행정국"),AND(D15="총무과",C15="자치행정국")),"안전행정위원회",VLOOKUP(D15,구분표!$A$3:$C$258,2,)))))) | C15: =IF(D15="","",IF(OR(D15="교육지원과",D15="총무과",D15="인사과"),"직접입력",VLOOKUP(D15,구분표!$A$3:$C$258,3,))) | F15: =IF($E15="","",IF($E15="2추","직접입력","-")) | G15: =IF($E15="","",IF($E15="2추","직접입력","-")) | I15: =IF(H15="","",VLOOKUP($H15,구분표!$K$3:$M$151,2,FALSE)) | J15: =IF(I15="","",VLOOKUP($H15,구분표!$K$3:$M$151,3,FALSE)) | M15: =IF($E15="","",IF(OR($E15="2추", $E15="1추", $E15="본예산"), "금액입력", "-")) | N15: =IF($E15="", "", IF($E15="2추","금액입력", "-")) | O15: =IF($E15="","",SUM(M15:N15)) | Q15: =SUM(O15:P15) -> 0 | S15: =SUM(O15,R15) -> 0 | T15: =IF(AND((Q15=0),(S15>0)),"O",IF(AND((P15<0),(Q15-S15<0)),"O","X")) -> X | AB15: =IF($P15="", 0, IF($P15<>0, "재원입력필요", 0)) -> 0 | AC15: =IF($P15="", 0, IF(AND(ISNUMBER($AB15), ISNUMBER(AD15), ISNUMBER(AE15)), $P15-$AB15-$AD15-$AE15, 0)) -> 0 | AD15: =IF($P15="", 0, IF(COUNT(FIND("(지방채)",$L15))>0, "재원입력필요", 0)) -> 0 | AE15: =IF($P15="", 0, IF(COUNT(FIND("(지역개발기금)",$L15))>0, "재원입력필요", 0)) -> 0 | AF15: =IF($P15="", IF(SUM($AB15:$AE15)=0, "", "@@"), IF(AND($P15=SUM($AB15:$AE15),$Q15>=0),"OK","@@")) | AH15: =IF($R15="", 0, IF($R15<>0, "재원입력필요", 0)) -> 0 | AI15: =IF($R15="", 0, IF(AND(ISNUMBER($AH15), ISNUMBER($AJ15), ISNUMBER($AK15)), $R15-$AH15-$AJ15-$AK15, 0)) -> 0 | AJ15: =IF($R15="", 0, IF(COUNT(FIND("(지방채)",$L15))>0, "재원입력필요", 0)) -> 0 | AK15: =IF($R15="", 0, IF(COUNT(FIND("(지역개발기금)",$L15))>0, "재원입력필요", 0)) -> 0 | AL15: =IF($R15="", IF(SUM($AH15:$AK15)=0, "", "@@"), IF(AND($R15=SUM($AH15:$AK15),$S15>=0),"OK","@@")) | AO15: =IF($AP15="", "", IF($AN15="세입없음","OK", IF(OR($AP15="재원확인", $AN15=""),"@@", IF(COUNTIF('3. 일입'!$AK$8:$AK$1831, $AN15), "OK","@@")))) | AP15: =IF($K15="","",IF(COUNT(FIND("국비/",$K15)),"국비",IF(COUNT(FIND("균특/",$K15)),"균특",IF(COUNT(FIND("기금/",$K15)),"기금",IF(COUNT(FIND("교부세/",$K15)),"특교",IF(COUNT(FIND("소방안전/",$K15)),"소교",IF(COUNT(FIND("소멸대응/",$K15)),"소멸","재원확인"))))))) | AQ15: =IF(AND($AN15="",$AP15=""),"",IF(AND($AN15<>"",$AP15<>""),IF(AN15="세입없음","OK",IF(VLOOKUP($AN15,'3. 일입'!$AK$7:$AL$1831,2,FALSE)=$AP15,"OK","@@")), "@@")) | AT15: =IF($AS15="","", IF($AS15="세입없음", "OK", IF(COUNTIF('3. 일입'!$AN$8:$AN$1831, $AS15), "OK", "@@"))) | AU15: =IF($L15="","",IF(COUNT(FIND("(지역개발기금)",$L15)),"지역개발기금",IF(COUNT(FIND("지방채",$L15)),"지방채","자체"))) | AV15: =IF($AS15="", IF($AU15="", "", IF($AU15="자체", "OK", "@@")), IF($AS15="세입없음", "OK", IF($AU15="", "@@", IF(ISNUMBER(FIND($AU15,$AS15)),"OK","@@"))))
A16: =IF(D16="","",COUNTA($C$7:C16)-COUNTBLANK($C$7:C16)+11) | B16: =IF(D16="","",IF(OR(C16="직접입력",D16="북부지원"),"직접입력",IF(OR(AND(D16="인사과",C16="의회사무처"),AND(D16="총무과",C16="의회사무처")),"의회운영위원회",IF(OR(C16="직접입력",D16="북부지원"),"직접입력",IF(OR(AND(D16="인사과",C16="자치행정국"),AND(D16="총무과",C16="자치행정국")),"안전행정위원회",VLOOKUP(D16,구분표!$A$3:$C$258,2,)))))) | C16: =IF(D16="","",IF(OR(D16="교육지원과",D16="총무과",D16="인사과"),"직접입력",VLOOKUP(D16,구분표!$A$3:$C$258,3,))) | F16: =IF($E16="","",IF($E16="2추","직접입력","-")) | G16: =IF($E16="","",IF($E16="2추","직접입력","-")) | I16: =IF(H16="","",VLOOKUP($H16,구분표!$K$3:$M$151,2,FALSE)) | J16: =IF(I16="","",VLOOKUP($H16,구분표!$K$3:$M$151,3,FALSE)) | M16: =IF($E16="","",IF(OR($E16="2추", $E16="1추", $E16="본예산"), "금액입력", "-")) | N16: =IF($E16="", "", IF($E16="2추","금액입력", "-")) | O16: =IF($E16="","",SUM(M16:N16)) | Q16: =SUM(O16:P16) -> 0 | S16: =SUM(O16,R16) -> 0 | T16: =IF(AND((Q16=0),(S16>0)),"O",IF(AND((P16<0),(Q16-S16<0)),"O","X")) -> X | AB16: =IF($P16="", 0, IF($P16<>0, "재원입력필요", 0)) -> 0 | AC16: =IF($P16="", 0, IF(AND(ISNUMBER($AB16), ISNUMBER(AD16), ISNUMBER(AE16)), $P16-$AB16-$AD16-$AE16, 0)) -> 0 | AD16: =IF($P16="", 0, IF(COUNT(FIND("(지방채)",$L16))>0, "재원입력필요", 0)) -> 0 | AE16: =IF($P16="", 0, IF(COUNT(FIND("(지역개발기금)",$L16))>0, "재원입력필요", 0)) -> 0 | AF16: =IF($P16="", IF(SUM($AB16:$AE16)=0, "", "@@"), IF(AND($P16=SUM($AB16:$AE16),$Q16>=0),"OK","@@")) | AH16: =IF($R16="", 0, IF($R16<>0, "재원입력필요", 0)) -> 0 | AI16: =IF($R16="", 0, IF(AND(ISNUMBER($AH16), ISNUMBER($AJ16), ISNUMBER($AK16)), $R16-$AH16-$AJ16-$AK16, 0)) -> 0 | AJ16: =IF($R16="", 0, IF(COUNT(FIND("(지방채)",$L16))>0, "재원입력필요", 0)) -> 0 | AK16: =IF($R16="", 0, IF(COUNT(FIND("(지역개발기금)",$L16))>0, "재원입력필요", 0)) -> 0 | AL16: =IF($R16="", IF(SUM($AH16:$AK16)=0, "", "@@"), IF(AND($R16=SUM($AH16:$AK16),$S16>=0),"OK","@@")) | AO16: =IF($AP16="", "", IF($AN16="세입없음","OK", IF(OR($AP16="재원확인", $AN16=""),"@@", IF(COUNTIF('3. 일입'!$AK$8:$AK$1831, $AN16), "OK","@@")))) | AP16: =IF($K16="","",IF(COUNT(FIND("국비/",$K16)),"국비",IF(COUNT(FIND("균특/",$K16)),"균특",IF(COUNT(FIND("기금/",$K16)),"기금",IF(COUNT(FIND("교부세/",$K16)),"특교",IF(COUNT(FIND("소방안전/",$K16)),"소교",IF(COUNT(FIND("소멸대응/",$K16)),"소멸","재원확인"))))))) | AQ16: =IF(AND($AN16="",$AP16=""),"",IF(AND($AN16<>"",$AP16<>""),IF(AN16="세입없음","OK",IF(VLOOKUP($AN16,'3. 일입'!$AK$7:$AL$1831,2,FALSE)=$AP16,"OK","@@")), "@@")) | AT16: =IF($AS16="","", IF($AS16="세입없음", "OK", IF(COUNTIF('3. 일입'!$AN$8:$AN$1831, $AS16), "OK", "@@"))) | AU16: =IF($L16="","",IF(COUNT(FIND("(지역개발기금)",$L16)),"지역개발기금",IF(COUNT(FIND("지방채",$L16)),"지방채","자체"))) | AV16: =IF($AS16="", IF($AU16="", "", IF($AU16="자체", "OK", "@@")), IF($AS16="세입없음", "OK", IF($AU16="", "@@", IF(ISNUMBER(FIND($AU16,$AS16)),"OK","@@"))))
A17: =IF(D17="","",COUNTA($C$7:C17)-COUNTBLANK($C$7:C17)+11) | B17: =IF(D17="","",IF(OR(C17="직접입력",D17="북부지원"),"직접입력",IF(OR(AND(D17="인사과",C17="의회사무처"),AND(D17="총무과",C17="의회사무처")),"의회운영위원회",IF(OR(C17="직접입력",D17="북부지원"),"직접입력",IF(OR(AND(D17="인사과",C17="자치행정국"),AND(D17="총무과",C17="자치행정국")),"안전행정위원회",VLOOKUP(D17,구분표!$A$3:$C$258,2,)))))) | C17: =IF(D17="","",IF(OR(D17="교육지원과",D17="총무과",D17="인사과"),"직접입력",VLOOKUP(D17,구분표!$A$3:$C$258,3,))) | F17: =IF($E17="","",IF($E17="2추","직접입력","-")) | G17: =IF($E17="","",IF($E17="2추","직접입력","-")) | I17: =IF(H17="","",VLOOKUP($H17,구분표!$K$3:$M$151,2,FALSE)) | J17: =IF(I17="","",VLOOKUP($H17,구분표!$K$3:$M$151,3,FALSE)) | M17: =IF($E17="","",IF(OR($E17="2추", $E17="1추", $E17="본예산"), "금액입력", "-")) | N17: =IF($E17="", "", IF($E17="2추","금액입력", "-")) | O17: =IF($E17="","",SUM(M17:N17)) | Q17: =SUM(O17:P17) -> 0 | S17: =SUM(O17,R17) -> 0 | T17: =IF(AND((Q17=0),(S17>0)),"O",IF(AND((P17<0),(Q17-S17<0)),"O","X")) -> X | AB17: =IF($P17="", 0, IF($P17<>0, "재원입력필요", 0)) -> 0 | AC17: =IF($P17="", 0, IF(AND(ISNUMBER($AB17), ISNUMBER(AD17), ISNUMBER(AE17)), $P17-$AB17-$AD17-$AE17, 0)) -> 0 | AD17: =IF($P17="", 0, IF(COUNT(FIND("(지방채)",$L17))>0, "재원입력필요", 0)) -> 0 | AE17: =IF($P17="", 0, IF(COUNT(FIND("(지역개발기금)",$L17))>0, "재원입력필요", 0)) -> 0 | AF17: =IF($P17="", IF(SUM($AB17:$AE17)=0, "", "@@"), IF(AND($P17=SUM($AB17:$AE17),$Q17>=0),"OK","@@")) | AH17: =IF($R17="", 0, IF($R17<>0, "재원입력필요", 0)) -> 0 | AI17: =IF($R17="", 0, IF(AND(ISNUMBER($AH17), ISNUMBER($AJ17), ISNUMBER($AK17)), $R17-$AH17-$AJ17-$AK17, 0)) -> 0 | AJ17: =IF($R17="", 0, IF(COUNT(FIND("(지방채)",$L17))>0, "재원입력필요", 0)) -> 0 | AK17: =IF($R17="", 0, IF(COUNT(FIND("(지역개발기금)",$L17))>0, "재원입력필요", 0)) -> 0 | AL17: =IF($R17="", IF(SUM($AH17:$AK17)=0, "", "@@"), IF(AND($R17=SUM($AH17:$AK17),$S17>=0),"OK","@@")) | AO17: =IF($AP17="", "", IF($AN17="세입없음","OK", IF(OR($AP17="재원확인", $AN17=""),"@@", IF(COUNTIF('3. 일입'!$AK$8:$AK$1831, $AN17), "OK","@@")))) | AP17: =IF($K17="","",IF(COUNT(FIND("국비/",$K17)),"국비",IF(COUNT(FIND("균특/",$K17)),"균특",IF(COUNT(FIND("기금/",$K17)),"기금",IF(COUNT(FIND("교부세/",$K17)),"특교",IF(COUNT(FIND("소방안전/",$K17)),"소교",IF(COUNT(FIND("소멸대응/",$K17)),"소멸","재원확인"))))))) | AQ17: =IF(AND($AN17="",$AP17=""),"",IF(AND($AN17<>"",$AP17<>""),IF(AN17="세입없음","OK",IF(VLOOKUP($AN17,'3. 일입'!$AK$7:$AL$1831,2,FALSE)=$AP17,"OK","@@")), "@@")) | AT17: =IF($AS17="","", IF($AS17="세입없음", "OK", IF(COUNTIF('3. 일입'!$AN$8:$AN$1831, $AS17), "OK", "@@"))) | AU17: =IF($L17="","",IF(COUNT(FIND("(지역개발기금)",$L17)),"지역개발기금",IF(COUNT(FIND("지방채",$L17)),"지방채","자체"))) | AV17: =IF($AS17="", IF($AU17="", "", IF($AU17="자체", "OK", "@@")), IF($AS17="세입없음", "OK", IF($AU17="", "@@", IF(ISNUMBER(FIND($AU17,$AS17)),"OK","@@"))))
A18: =IF(D18="","",COUNTA($C$7:C18)-COUNTBLANK($C$7:C18)+11) | B18: =IF(D18="","",IF(OR(C18="직접입력",D18="북부지원"),"직접입력",IF(OR(AND(D18="인사과",C18="의회사무처"),AND(D18="총무과",C18="의회사무처")),"의회운영위원회",IF(OR(C18="직접입력",D18="북부지원"),"직접입력",IF(OR(AND(D18="인사과",C18="자치행정국"),AND(D18="총무과",C18="자치행정국")),"안전행정위원회",VLOOKUP(D18,구분표!$A$3:$C$258,2,)))))) | C18: =IF(D18="","",IF(OR(D18="교육지원과",D18="총무과",D18="인사과"),"직접입력",VLOOKUP(D18,구분표!$A$3:$C$258,3,))) | F18: =IF($E18="","",IF($E18="2추","직접입력","-")) | G18: =IF($E18="","",IF($E18="2추","직접입력","-")) | I18: =IF(H18="","",VLOOKUP($H18,구분표!$K$3:$M$151,2,FALSE)) | J18: =IF(I18="","",VLOOKUP($H18,구분표!$K$3:$M$151,3,FALSE)) | M18: =IF($E18="","",IF(OR($E18="2추", $E18="1추", $E18="본예산"), "금액입력", "-")) | N18: =IF($E18="", "", IF($E18="2추","금액입력", "-")) | O18: =IF($E18="","",SUM(M18:N18)) | Q18: =SUM(O18:P18) -> 0 | S18: =SUM(O18,R18) -> 0 | T18: =IF(AND((Q18=0),(S18>0)),"O",IF(AND((P18<0),(Q18-S18<0)),"O","X")) -> X | AB18: =IF($P18="", 0, IF($P18<>0, "재원입력필요", 0)) -> 0 | AC18: =IF($P18="", 0, IF(AND(ISNUMBER($AB18), ISNUMBER(AD18), ISNUMBER(AE18)), $P18-$AB18-$AD18-$AE18, 0)) -> 0 | AD18: =IF($P18="", 0, IF(COUNT(FIND("(지방채)",$L18))>0, "재원입력필요", 0)) -> 0 | AE18: =IF($P18="", 0, IF(COUNT(FIND("(지역개발기금)",$L18))>0, "재원입력필요", 0)) -> 0 | AF18: =IF($P18="", IF(SUM($AB18:$AE18)=0, "", "@@"), IF(AND($P18=SUM($AB18:$AE18),$Q18>=0),"OK","@@")) | AH18: =IF($R18="", 0, IF($R18<>0, "재원입력필요", 0)) -> 0 | AI18: =IF($R18="", 0, IF(AND(ISNUMBER($AH18), ISNUMBER($AJ18), ISNUMBER($AK18)), $R18-$AH18-$AJ18-$AK18, 0)) -> 0 | AJ18: =IF($R18="", 0, IF(COUNT(FIND("(지방채)",$L18))>0, "재원입력필요", 0)) -> 0 | AK18: =IF($R18="", 0, IF(COUNT(FIND("(지역개발기금)",$L18))>0, "재원입력필요", 0)) -> 0 | AL18: =IF($R18="", IF(SUM($AH18:$AK18)=0, "", "@@"), IF(AND($R18=SUM($AH18:$AK18),$S18>=0),"OK","@@")) | AO18: =IF($AP18="", "", IF($AN18="세입없음","OK", IF(OR($AP18="재원확인", $AN18=""),"@@", IF(COUNTIF('3. 일입'!$AK$8:$AK$1831, $AN18), "OK","@@")))) | AP18: =IF($K18="","",IF(COUNT(FIND("국비/",$K18)),"국비",IF(COUNT(FIND("균특/",$K18)),"균특",IF(COUNT(FIND("기금/",$K18)),"기금",IF(COUNT(FIND("교부세/",$K18)),"특교",IF(COUNT(FIND("소방안전/",$K18)),"소교",IF(COUNT(FIND("소멸대응/",$K18)),"소멸","재원확인"))))))) | AQ18: =IF(AND($AN18="",$AP18=""),"",IF(AND($AN18<>"",$AP18<>""),IF(AN18="세입없음","OK",IF(VLOOKUP($AN18,'3. 일입'!$AK$7:$AL$1831,2,FALSE)=$AP18,"OK","@@")), "@@")) | AT18: =IF($AS18="","", IF($AS18="세입없음", "OK", IF(COUNTIF('3. 일입'!$AN$8:$AN$1831, $AS18), "OK", "@@"))) | AU18: =IF($L18="","",IF(COUNT(FIND("(지역개발기금)",$L18)),"지역개발기금",IF(COUNT(FIND("지방채",$L18)),"지방채","자체"))) | AV18: =IF($AS18="", IF($AU18="", "", IF($AU18="자체", "OK", "@@")), IF($AS18="세입없음", "OK", IF($AU18="", "@@", IF(ISNUMBER(FIND($AU18,$AS18)),"OK","@@"))))
A19: =IF(D19="","",COUNTA($C$7:C19)-COUNTBLANK($C$7:C19)+11) | B19: =IF(D19="","",IF(OR(C19="직접입력",D19="북부지원"),"직접입력",IF(OR(AND(D19="인사과",C19="의회사무처"),AND(D19="총무과",C19="의회사무처")),"의회운영위원회",IF(OR(C19="직접입력",D19="북부지원"),"직접입력",IF(OR(AND(D19="인사과",C19="자치행정국"),AND(D19="총무과",C19="자치행정국")),"안전행정위원회",VLOOKUP(D19,구분표!$A$3:$C$258,2,)))))) | C19: =IF(D19="","",IF(OR(D19="교육지원과",D19="총무과",D19="인사과"),"직접입력",VLOOKUP(D19,구분표!$A$3:$C$258,3,))) | F19: =IF($E19="","",IF($E19="2추","직접입력","-")) | G19: =IF($E19="","",IF($E19="2추","직접입력","-")) | I19: =IF(H19="","",VLOOKUP($H19,구분표!$K$3:$M$151,2,FALSE)) | J19: =IF(I19="","",VLOOKUP($H19,구분표!$K$3:$M$151,3,FALSE)) | M19: =IF($E19="","",IF(OR($E19="2추", $E19="1추", $E19="본예산"), "금액입력", "-")) | N19: =IF($E19="", "", IF($E19="2추","금액입력", "-")) | O19: =IF($E19="","",SUM(M19:N19)) | Q19: =SUM(O19:P19) -> 0 | S19: =SUM(O19,R19) -> 0 | T19: =IF(AND((Q19=0),(S19>0)),"O",IF(AND((P19<0),(Q19-S19<0)),"O","X")) -> X | AB19: =IF($P19="", 0, IF($P19<>0, "재원입력필요", 0)) -> 0 | AC19: =IF($P19="", 0, IF(AND(ISNUMBER($AB19), ISNUMBER(AD19), ISNUMBER(AE19)), $P19-$AB19-$AD19-$AE19, 0)) -> 0 | AD19: =IF($P19="", 0, IF(COUNT(FIND("(지방채)",$L19))>0, "재원입력필요", 0)) -> 0 | AE19: =IF($P19="", 0, IF(COUNT(FIND("(지역개발기금)",$L19))>0, "재원입력필요", 0)) -> 0 | AF19: =IF($P19="", IF(SUM($AB19:$AE19)=0, "", "@@"), IF(AND($P19=SUM($AB19:$AE19),$Q19>=0),"OK","@@")) | AH19: =IF($R19="", 0, IF($R19<>0, "재원입력필요", 0)) -> 0 | AI19: =IF($R19="", 0, IF(AND(ISNUMBER($AH19), ISNUMBER($AJ19), ISNUMBER($AK19)), $R19-$AH19-$AJ19-$AK19, 0)) -> 0 | AJ19: =IF($R19="", 0, IF(COUNT(FIND("(지방채)",$L19))>0, "재원입력필요", 0)) -> 0 | AK19: =IF($R19="", 0, IF(COUNT(FIND("(지역개발기금)",$L19))>0, "재원입력필요", 0)) -> 0 | AL19: =IF($R19="", IF(SUM($AH19:$AK19)=0, "", "@@"), IF(AND($R19=SUM($AH19:$AK19),$S19>=0),"OK","@@")) | AO19: =IF($AP19="", "", IF($AN19="세입없음","OK", IF(OR($AP19="재원확인", $AN19=""),"@@", IF(COUNTIF('3. 일입'!$AK$8:$AK$1831, $AN19), "OK","@@")))) | AP19: =IF($K19="","",IF(COUNT(FIND("국비/",$K19)),"국비",IF(COUNT(FIND("균특/",$K19)),"균특",IF(COUNT(FIND("기금/",$K19)),"기금",IF(COUNT(FIND("교부세/",$K19)),"특교",IF(COUNT(FIND("소방안전/",$K19)),"소교",IF(COUNT(FIND("소멸대응/",$K19)),"소멸","재원확인"))))))) | AQ19: =IF(AND($AN19="",$AP19=""),"",IF(AND($AN19<>"",$AP19<>""),IF(AN19="세입없음","OK",IF(VLOOKUP($AN19,'3. 일입'!$AK$7:$AL$1831,2,FALSE)=$AP19,"OK","@@")), "@@")) | AT19: =IF($AS19="","", IF($AS19="세입없음", "OK", IF(COUNTIF('3. 일입'!$AN$8:$AN$1831, $AS19), "OK", "@@"))) | AU19: =IF($L19="","",IF(COUNT(FIND("(지역개발기금)",$L19)),"지역개발기금",IF(COUNT(FIND("지방채",$L19)),"지방채","자체"))) | AV19: =IF($AS19="", IF($AU19="", "", IF($AU19="자체", "OK", "@@")), IF($AS19="세입없음", "OK", IF($AU19="", "@@", IF(ISNUMBER(FIND($AU19,$AS19)),"OK","@@"))))
A20: =IF(D20="","",COUNTA($C$7:C20)-COUNTBLANK($C$7:C20)+11) | B20: =IF(D20="","",IF(OR(C20="직접입력",D20="북부지원"),"직접입력",IF(OR(AND(D20="인사과",C20="의회사무처"),AND(D20="총무과",C20="의회사무처")),"의회운영위원회",IF(OR(C20="직접입력",D20="북부지원"),"직접입력",IF(OR(AND(D20="인사과",C20="자치행정국"),AND(D20="총무과",C20="자치행정국")),"안전행정위원회",VLOOKUP(D20,구분표!$A$3:$C$258,2,)))))) | C20: =IF(D20="","",IF(OR(D20="교육지원과",D20="총무과",D20="인사과"),"직접입력",VLOOKUP(D20,구분표!$A$3:$C$258,3,))) | F20: =IF($E20="","",IF($E20="2추","직접입력","-")) | G20: =IF($E20="","",IF($E20="2추","직접입력","-")) | I20: =IF(H20="","",VLOOKUP($H20,구분표!$K$3:$M$151,2,FALSE)) | J20: =IF(I20="","",VLOOKUP($H20,구분표!$K$3:$M$151,3,FALSE)) | M20: =IF($E20="","",IF(OR($E20="2추", $E20="1추", $E20="본예산"), "금액입력", "-")) | N20: =IF($E20="", "", IF($E20="2추","금액입력", "-")) | O20: =IF($E20="","",SUM(M20:N20)) | Q20: =SUM(O20:P20) -> 0 | S20: =SUM(O20,R20) -> 0 | T20: =IF(AND((Q20=0),(S20>0)),"O",IF(AND((P20<0),(Q20-S20<0)),"O","X")) -> X | AB20: =IF($P20="", 0, IF($P20<>0, "재원입력필요", 0)) -> 0 | AC20: =IF($P20="", 0, IF(AND(ISNUMBER($AB20), ISNUMBER(AD20), ISNUMBER(AE20)), $P20-$AB20-$AD20-$AE20, 0)) -> 0 | AD20: =IF($P20="", 0, IF(COUNT(FIND("(지방채)",$L20))>0, "재원입력필요", 0)) -> 0 | AE20: =IF($P20="", 0, IF(COUNT(FIND("(지역개발기금)",$L20))>0, "재원입력필요", 0)) -> 0 | AF20: =IF($P20="", IF(SUM($AB20:$AE20)=0, "", "@@"), IF(AND($P20=SUM($AB20:$AE20),$Q20>=0),"OK","@@")) | AH20: =IF($R20="", 0, IF($R20<>0, "재원입력필요", 0)) -> 0 | AI20: =IF($R20="", 0, IF(AND(ISNUMBER($AH20), ISNUMBER($AJ20), ISNUMBER($AK20)), $R20-$AH20-$AJ20-$AK20, 0)) -> 0 | AJ20: =IF($R20="", 0, IF(COUNT(FIND("(지방채)",$L20))>0, "재원입력필요", 0)) -> 0 | AK20: =IF($R20="", 0, IF(COUNT(FIND("(지역개발기금)",$L20))>0, "재원입력필요", 0)) -> 0 | AL20: =IF($R20="", IF(SUM($AH20:$AK20)=0, "", "@@"), IF(AND($R20=SUM($AH20:$AK20),$S20>=0),"OK","@@")) | AO20: =IF($AP20="", "", IF($AN20="세입없음","OK", IF(OR($AP20="재원확인", $AN20=""),"@@", IF(COUNTIF('3. 일입'!$AK$8:$AK$1831, $AN20), "OK","@@")))) | AP20: =IF($K20="","",IF(COUNT(FIND("국비/",$K20)),"국비",IF(COUNT(FIND("균특/",$K20)),"균특",IF(COUNT(FIND("기금/",$K20)),"기금",IF(COUNT(FIND("교부세/",$K20)),"특교",IF(COUNT(FIND("소방안전/",$K20)),"소교",IF(COUNT(FIND("소멸대응/",$K20)),"소멸","재원확인"))))))) | AQ20: =IF(AND($AN20="",$AP20=""),"",IF(AND($AN20<>"",$AP20<>""),IF(AN20="세입없음","OK",IF(VLOOKUP($AN20,'3. 일입'!$AK$7:$AL$1831,2,FALSE)=$AP20,"OK","@@")), "@@")) | AT20: =IF($AS20="","", IF($AS20="세입없음", "OK", IF(COUNTIF('3. 일입'!$AN$8:$AN$1831, $AS20), "OK", "@@"))) | AU20: =IF($L20="","",IF(COUNT(FIND("(지역개발기금)",$L20)),"지역개발기금",IF(COUNT(FIND("지방채",$L20)),"지방채","자체"))) | AV20: =IF($AS20="", IF($AU20="", "", IF($AU20="자체", "OK", "@@")), IF($AS20="세입없음", "OK", IF($AU20="", "@@", IF(ISNUMBER(FIND($AU20,$AS20)),"OK","@@"))))
A21: =IF(D21="","",COUNTA($C$7:C21)-COUNTBLANK($C$7:C21)+11) | B21: =IF(D21="","",IF(OR(C21="직접입력",D21="북부지원"),"직접입력",IF(OR(AND(D21="인사과",C21="의회사무처"),AND(D21="총무과",C21="의회사무처")),"의회운영위원회",IF(OR(C21="직접입력",D21="북부지원"),"직접입력",IF(OR(AND(D21="인사과",C21="자치행정국"),AND(D21="총무과",C21="자치행정국")),"안전행정위원회",VLOOKUP(D21,구분표!$A$3:$C$258,2,)))))) | C21: =IF(D21="","",IF(OR(D21="교육지원과",D21="총무과",D21="인사과"),"직접입력",VLOOKUP(D21,구분표!$A$3:$C$258,3,))) | F21: =IF($E21="","",IF($E21="2추","직접입력","-")) | G21: =IF($E21="","",IF($E21="2추","직접입력","-")) | I21: =IF(H21="","",VLOOKUP($H21,구분표!$K$3:$M$151,2,FALSE)) | J21: =IF(I21="","",VLOOKUP($H21,구분표!$K$3:$M$151,3,FALSE)) | M21: =IF($E21="","",IF(OR($E21="2추", $E21="1추", $E21="본예산"), "금액입력", "-")) | N21: =IF($E21="", "", IF($E21="2추","금액입력", "-")) | O21: =IF($E21="","",SUM(M21:N21)) | Q21: =SUM(O21:P21) -> 0 | S21: =SUM(O21,R21) -> 0 | T21: =IF(AND((Q21=0),(S21>0)),"O",IF(AND((P21<0),(Q21-S21<0)),"O","X")) -> X | AB21: =IF($P21="", 0, IF($P21<>0, "재원입력필요", 0)) -> 0 | AC21: =IF($P21="", 0, IF(AND(ISNUMBER($AB21), ISNUMBER(AD21), ISNUMBER(AE21)), $P21-$AB21-$AD21-$AE21, 0)) -> 0 | AD21: =IF($P21="", 0, IF(COUNT(FIND("(지방채)",$L21))>0, "재원입력필요", 0)) -> 0 | AE21: =IF($P21="", 0, IF(COUNT(FIND("(지역개발기금)",$L21))>0, "재원입력필요", 0)) -> 0 | AF21: =IF($P21="", IF(SUM($AB21:$AE21)=0, "", "@@"), IF(AND($P21=SUM($AB21:$AE21),$Q21>=0),"OK","@@")) | AH21: =IF($R21="", 0, IF($R21<>0, "재원입력필요", 0)) -> 0 | AI21: =IF($R21="", 0, IF(AND(ISNUMBER($AH21), ISNUMBER($AJ21), ISNUMBER($AK21)), $R21-$AH21-$AJ21-$AK21, 0)) -> 0 | AJ21: =IF($R21="", 0, IF(COUNT(FIND("(지방채)",$L21))>0, "재원입력필요", 0)) -> 0 | AK21: =IF($R21="", 0, IF(COUNT(FIND("(지역개발기금)",$L21))>0, "재원입력필요", 0)) -> 0 | AL21: =IF($R21="", IF(SUM($AH21:$AK21)=0, "", "@@"), IF(AND($R21=SUM($AH21:$AK21),$S21>=0),"OK","@@")) | AO21: =IF($AP21="", "", IF($AN21="세입없음","OK", IF(OR($AP21="재원확인", $AN21=""),"@@", IF(COUNTIF('3. 일입'!$AK$8:$AK$1831, $AN21), "OK","@@")))) | AP21: =IF($K21="","",IF(COUNT(FIND("국비/",$K21)),"국비",IF(COUNT(FIND("균특/",$K21)),"균특",IF(COUNT(FIND("기금/",$K21)),"기금",IF(COUNT(FIND("교부세/",$K21)),"특교",IF(COUNT(FIND("소방안전/",$K21)),"소교",IF(COUNT(FIND("소멸대응/",$K21)),"소멸","재원확인"))))))) | AQ21: =IF(AND($AN21="",$AP21=""),"",IF(AND($AN21<>"",$AP21<>""),IF(AN21="세입없음","OK",IF(VLOOKUP($AN21,'3. 일입'!$AK$7:$AL$1831,2,FALSE)=$AP21,"OK","@@")), "@@")) | AT21: =IF($AS21="","", IF($AS21="세입없음", "OK", IF(COUNTIF('3. 일입'!$AN$8:$AN$1831, $AS21), "OK", "@@"))) | AU21: =IF($L21="","",IF(COUNT(FIND("(지역개발기금)",$L21)),"지역개발기금",IF(COUNT(FIND("지방채",$L21)),"지방채","자체"))) | AV21: =IF($AS21="", IF($AU21="", "", IF($AU21="자체", "OK", "@@")), IF($AS21="세입없음", "OK", IF($AU21="", "@@", IF(ISNUMBER(FIND($AU21,$AS21)),"OK","@@"))))
A22: =IF(D22="","",COUNTA($C$7:C22)-COUNTBLANK($C$7:C22)+11) | B22: =IF(D22="","",IF(OR(C22="직접입력",D22="북부지원"),"직접입력",IF(OR(AND(D22="인사과",C22="의회사무처"),AND(D22="총무과",C22="의회사무처")),"의회운영위원회",IF(OR(C22="직접입력",D22="북부지원"),"직접입력",IF(OR(AND(D22="인사과",C22="자치행정국"),AND(D22="총무과",C22="자치행정국")),"안전행정위원회",VLOOKUP(D22,구분표!$A$3:$C$258,2,)))))) | C22: =IF(D22="","",IF(OR(D22="교육지원과",D22="총무과",D22="인사과"),"직접입력",VLOOKUP(D22,구분표!$A$3:$C$258,3,))) | F22: =IF($E22="","",IF($E22="2추","직접입력","-")) | G22: =IF($E22="","",IF($E22="2추","직접입력","-")) | I22: =IF(H22="","",VLOOKUP($H22,구분표!$K$3:$M$151,2,FALSE)) | J22: =IF(I22="","",VLOOKUP($H22,구분표!$K$3:$M$151,3,FALSE)) | M22: =IF($E22="","",IF(OR($E22="2추", $E22="1추", $E22="본예산"), "금액입력", "-")) | N22: =IF($E22="", "", IF($E22="2추","금액입력", "-")) | O22: =IF($E22="","",SUM(M22:N22)) | Q22: =SUM(O22:P22) -> 0 | S22: =SUM(O22,R22) -> 0 | T22: =IF(AND((Q22=0),(S22>0)),"O",IF(AND((P22<0),(Q22-S22<0)),"O","X")) -> X | AB22: =IF($P22="", 0, IF($P22<>0, "재원입력필요", 0)) -> 0 | AC22: =IF($P22="", 0, IF(AND(ISNUMBER($AB22), ISNUMBER(AD22), ISNUMBER(AE22)), $P22-$AB22-$AD22-$AE22, 0)) -> 0 | AD22: =IF($P22="", 0, IF(COUNT(FIND("(지방채)",$L22))>0, "재원입력필요", 0)) -> 0 | AE22: =IF($P22="", 0, IF(COUNT(FIND("(지역개발기금)",$L22))>0, "재원입력필요", 0)) -> 0 | AF22: =IF($P22="", IF(SUM($AB22:$AE22)=0, "", "@@"), IF(AND($P22=SUM($AB22:$AE22),$Q22>=0),"OK","@@")) | AH22: =IF($R22="", 0, IF($R22<>0, "재원입력필요", 0)) -> 0 | AI22: =IF($R22="", 0, IF(AND(ISNUMBER($AH22), ISNUMBER($AJ22), ISNUMBER($AK22)), $R22-$AH22-$AJ22-$AK22, 0)) -> 0 | AJ22: =IF($R22="", 0, IF(COUNT(FIND("(지방채)",$L22))>0, "재원입력필요", 0)) -> 0 | AK22: =IF($R22="", 0, IF(COUNT(FIND("(지역개발기금)",$L22))>0, "재원입력필요", 0)) -> 0 | AL22: =IF($R22="", IF(SUM($AH22:$AK22)=0, "", "@@"), IF(AND($R22=SUM($AH22:$AK22),$S22>=0),"OK","@@")) | AO22: =IF($AP22="", "", IF($AN22="세입없음","OK", IF(OR($AP22="재원확인", $AN22=""),"@@", IF(COUNTIF('3. 일입'!$AK$8:$AK$1831, $AN22), "OK","@@")))) | AP22: =IF($K22="","",IF(COUNT(FIND("국비/",$K22)),"국비",IF(COUNT(FIND("균특/",$K22)),"균특",IF(COUNT(FIND("기금/",$K22)),"기금",IF(COUNT(FIND("교부세/",$K22)),"특교",IF(COUNT(FIND("소방안전/",$K22)),"소교",IF(COUNT(FIND("소멸대응/",$K22)),"소멸","재원확인"))))))) | AQ22: =IF(AND($AN22="",$AP22=""),"",IF(AND($AN22<>"",$AP22<>""),IF(AN22="세입없음","OK",IF(VLOOKUP($AN22,'3. 일입'!$AK$7:$AL$1831,2,FALSE)=$AP22,"OK","@@")), "@@")) | AT22: =IF($AS22="","", IF($AS22="세입없음", "OK", IF(COUNTIF('3. 일입'!$AN$8:$AN$1831, $AS22), "OK", "@@"))) | AU22: =IF($L22="","",IF(COUNT(FIND("(지역개발기금)",$L22)),"지역개발기금",IF(COUNT(FIND("지방채",$L22)),"지방채","자체"))) | AV22: =IF($AS22="", IF($AU22="", "", IF($AU22="자체", "OK", "@@")), IF($AS22="세입없음", "OK", IF($AU22="", "@@", IF(ISNUMBER(FIND($AU22,$AS22)),"OK","@@"))))

Sheet 4. 특입
A1: 기타특별회계 세입 예산 조정(안) | Z1: 자동입력 | AC1: 자동입력 | AF1: "4. 특출"에 입력
Q2: =Q6-M6 -> 0 | Z2: 국비 세입=국비 지출 | AA2: 도비 세입=도비 세출 | AC2: 국비 세입=국비 지출 | AD2: 도비 세입=도비 세출 | AK2: 국비=국비 증감액 | AO2: 국비=국비 증감액
X3: (단위 : 천원) | Z3: =IF(Z6='4. 특출'!AB5,"OK","@@") -> OK | AA3: =IF(AA6='4. 특출'!AC5,"OK","@@") -> OK | AC3: =IF(AC6='4. 특출'!AF5,"OK","@@") -> OK | AD3: =IF(AD6='4. 특출'!AG5,"OK","@@") -> OK | AK3: =IF(Z6=AK6,"OK","@@") -> OK | AO3: =IF(AC6=AO6,"OK","@@") -> OK
A4: 번호 | B4: 위원회명 | C4: 실국명 | D4: 부서명 | E4: 편성 구분 | F4: 예산안 /예산서 페이지 | G4: 실국별 사업 설명서 페이지 | H4: 목코드 | I4: 목명 | J4: 부기명 | K4: 기정액 (본예산+1추) (가) | L4: 증감액 (2회추경안) (나) | M4: 예산안 (다=가+나) | N4: 상임위 조정액 (라) | O4: 상임위 조정 예산안 (마=다+라) | P4: 예결특위 조정액 (바) | Q4: 예결특위 조정 예산안 (사=다+바) | R4: 상임위동의 대상 | S4: 참고자료 (관련공문) | T4: 상임위 부대의견 | U4: 예비 심사시 집행부 동의여부 | V4: 예결위 부대의견 | W4: 부대의견 | X4: 국도비 등 여부 | Z4: 상임위 재원별 증감액 | AC4: 예결위 재원별 증감액 | AF4: 세입번호 | AG4: 재원 | AI4: 실국 부서 코드 | AK4: 상임위 세입 검증 | AO4: 예결위 세입 검증
Z5: 국비 등 | AA5: 도비 | AC5: 국비 등 | AD5: 도비 | AK5: 국비 증감액 | AL5: 건수 | AM5: 세입세출 금액검증 | AO5: 국비 증감액 | AP5: 건수 | AQ5: 세입세출 금액검증
B6: 합 계 | J6: =SUBTOTAL(3,J$7:J$2000)&"건" -> 0건 | K6: =SUBTOTAL(9,K$7:K$2000) -> 0 | L6: =SUBTOTAL(9,L$7:L$2000) -> 0 | M6: =SUBTOTAL(9,M$7:M$2000) -> 0 | N6: =SUBTOTAL(9,N$7:N$2000) -> 0 | O6: =SUBTOTAL(9,O$7:O$2000) -> 0 | P6: =SUBTOTAL(9,P$7:P$2000) -> 0 | Q6: =SUBTOTAL(9,Q$7:Q$2000) -> 0 | Z6: =SUBTOTAL(9,Z$7:Z$2000) -> 0 | AA6: =SUBTOTAL(9,AA$7:AA$2000) -> 0 | AC6: =SUBTOTAL(9,AC$7:AC$2000) -> 0 | AD6: =SUBTOTAL(9,AD$7:AD$2000) -> 0 | AK6: =SUBTOTAL(9,AK$7:AK$2000) -> 0 | AL6: =SUBTOTAL(9,AL$7:AL$2000) -> 0 | AM6: =IF(COUNTIF(AM$7:AM$2000,"@@")>0,"@@","OK") -> OK | AO6: =SUBTOTAL(9,AO$7:AO$2000) -> 0 | AP6: =SUBTOTAL(9,AP$7:AP$2000) -> 0 | AQ6: =IF(COUNTIF(AQ$7:AQ$2000,"@@")>0,"@@","OK") -> OK
B7: (지역균형발전) | J7: =SUBTOTAL(3,J8:J11)&"건" -> 0건 | K7: =SUBTOTAL(9,K8:K11) -> 0 | L7: =SUBTOTAL(9,L8:L11) -> 0 | M7: =SUBTOTAL(9,M8:M11) -> 0 | N7: =SUBTOTAL(9,N8:N11) -> 0 | O7: =SUBTOTAL(9,O8:O11) -> 0 | P7: =SUBTOTAL(9,P8:P11) -> 0 | Q7: =SUBTOTAL(9,Q8:Q11) -> 0 | Z7: =SUBTOTAL(9,Z8:Z11) -> 0 | AA7: =SUBTOTAL(9,AA8:AA11) -> 0 | AC7: =SUBTOTAL(9,AC8:AC11) -> 0 | AD7: =SUBTOTAL(9,AD8:AD11) -> 0 | AK7: =SUBTOTAL(9,AK8:AK11) -> 0 | AL7: =SUBTOTAL(9,AL8:AL11) -> 0 | AM7: =IF(COUNTIF(AM8:AM11,"@@")>0,"@@","OK") -> OK | AO7: =SUBTOTAL(9,AO8:AO11) -> 0 | AP7: =SUBTOTAL(9,AP8:AP11) -> 0 | AQ7: =IF(COUNTIF(AQ8:AQ11,"@@")>0,"@@","OK") -> OK
A8: =IF(D8="","",COUNTA($C$7:C8)-COUNTBLANK($C$7:C8)+1) | B8: =IF(D8="","",IF(OR(C8="직접입력",D8="북부지원"),"직접입력",IF(OR(AND(D8="인사과",C8="의회사무처"),AND(D8="총무과",C8="의회사무처")),"의회운영위원회",IF(OR(C8="직접입력",D8="북부지원"),"직접입력",IF(OR(AND(D8="인사과",C8="자치행정국"),AND(D8="총무과",C8="자치행정국")),"안전행정위원회",VLOOKUP(D8,구분표!$A$3:$C$258,2,)))))) | C8: =IF(D8="","",IF(OR(D8="교육지원과"),"소방재난본부",VLOOKUP(D8,구분표!$A$3:$C$258,3,))) | F8: =IF($E8="","",IF($E8="2추","직접입력","-")) | G8: =IF($E8="","",IF($E8="2추","직접입력","-")) | I8: =IF(H8="","",VLOOKUP($H8,구분표!$O$3:$P$168,2,FALSE)) | K8: =IF($E8="","",IF(OR($E8="2추", $E8="1추", $E8="본예산"), "금액입력", "-")) | L8: =IF($E8="", "", IF($E8="2추","금액입력", "-")) | M8: =IF($E8="","",SUM(K8:L8)) | O8: =SUM(M8:N8) -> 0 | Q8: =SUM(M8,P8) -> 0 | R8: =IF(AND((O8=0),(Q8>0)),"O",IF(AND((N8<0),(O8-Q8<0)),"O","X")) -> X | X8: =IF($H8="","",IF(OR($H8="511-01", $H8="511-02", $H8="511-03", $H8="311-02", $H8="311-04", $H8="321-01"),"국비","도비")) | Z8: =IF($X8="", "", IF($X8="국비",$N8, 0)) | AA8: =IF($X8="", "", IF($X8="도비",$N8, 0)) | AC8: =IF($X8="", "", IF($X8="국비",$P8, 0)) | AD8: =IF($X8="", "", IF($X8="도비",$P8, 0)) | AF8: =IF(AI8="","",IF($X8="도비","-",CONCATENATE(AI8,"-",COUNTIF($AI$7:AI8,AI8)))) | AG8: =IF($H8="","",IF($H8="511-01","국비",IF($H8="511-02","균특",IF($H8="511-03","기금",IF($H8="311-02","특교",IF($H8="311-04","소교",IF($H8="321-01","소멸","도비"))))))) | AI8: {=IF(OR(D8="", B8="직접입력", C8="직접입력"),"",INDEX(구분표!$I$2:$I$336, MATCH(1,(구분표!$G$2:$G$336='4. 특입'!B8)*(구분표!$E$2:$E$336='4. 특입'!C8)*(구분표!$F$2:$F$336='4. 특입'!D8),0)))} | AK8: =IF($AF8="","",IF($AF8="-",0, SUMIFS('4. 특출'!$AB$6:$AB$2000,'4. 특출'!$AJ$6:$AJ$2000,$AF8))) | AL8: =IF($AF8="","",IF($AF8="-", 0, COUNTIF('4. 특출'!$AJ$6:$AJ$2000,$AF8))) | AM8: =IF($AF8="", "", IF($Z8=$AK8,"OK","@@")) | AO8: =IF($AF8="","",IF($AF8="-",0, SUMIFS('4. 특출'!$AF$6:$AF$2000,'4. 특출'!$AJ$6:$AJ$2000,$AF8))) | AP8: =IF($AF8="","",IF($AF8="-", 0, COUNTIF('4. 특출'!$AJ$6:$AJ$2000,$AF8))) | AQ8: =IF($AF8="", "", IF($AC8=$AO8,"OK","@@"))
A9: =IF(D9="","",COUNTA($C$7:C9)-COUNTBLANK($C$7:C9)+1) | B9: =IF(D9="","",IF(OR(C9="직접입력",D9="북부지원"),"직접입력",IF(OR(AND(D9="인사과",C9="의회사무처"),AND(D9="총무과",C9="의회사무처")),"의회운영위원회",IF(OR(C9="직접입력",D9="북부지원"),"직접입력",IF(OR(AND(D9="인사과",C9="자치행정국"),AND(D9="총무과",C9="자치행정국")),"안전행정위원회",VLOOKUP(D9,구분표!$A$3:$C$258,2,)))))) | C9: =IF(D9="","",IF(OR(D9="교육지원과"),"소방재난본부",VLOOKUP(D9,구분표!$A$3:$C$258,3,))) | F9: =IF($E9="","",IF($E9="2추","직접입력","-")) | G9: =IF($E9="","",IF($E9="2추","직접입력","-")) | I9: =IF(H9="","",VLOOKUP($H9,구분표!$O$3:$P$168,2,FALSE)) | K9: =IF($E9="","",IF(OR($E9="2추", $E9="1추", $E9="본예산"), "금액입력", "-")) | L9: =IF($E9="", "", IF($E9="2추","금액입력", "-")) | M9: =IF($E9="","",SUM(K9:L9)) | O9: =SUM(M9:N9) -> 0 | Q9: =SUM(M9,P9) -> 0 | R9: =IF(AND((O9=0),(Q9>0)),"O",IF(AND((N9<0),(O9-Q9<0)),"O","X")) -> X | X9: =IF($H9="","",IF(OR($H9="511-01", $H9="511-02", $H9="511-03", $H9="311-02", $H9="311-04", $H9="321-01"),"국비","도비")) | Z9: =IF($X9="", "", IF($X9="국비",$N9, 0)) | AA9: =IF($X9="", "", IF($X9="도비",$N9, 0)) | AC9: =IF($X9="", "", IF($X9="국비",$P9, 0)) | AD9: =IF($X9="", "", IF($X9="도비",$P9, 0)) | AF9: =IF(AI9="","",IF($X9="도비","-",CONCATENATE(AI9,"-",COUNTIF($AI$7:AI9,AI9)))) | AG9: =IF($H9="","",IF($H9="511-01","국비",IF($H9="511-02","균특",IF($H9="511-03","기금",IF($H9="311-02","특교",IF($H9="311-04","소교",IF($H9="321-01","소멸","도비"))))))) | AI9: {=IF(OR(D9="", B9="직접입력", C9="직접입력"),"",INDEX(구분표!$I$2:$I$336, MATCH(1,(구분표!$G$2:$G$336='4. 특입'!B9)*(구분표!$E$2:$E$336='4. 특입'!C9)*(구분표!$F$2:$F$336='4. 특입'!D9),0)))} | AK9: =IF($AF9="","",IF($AF9="-",0, SUMIFS('4. 특출'!$AB$6:$AB$2000,'4. 특출'!$AJ$6:$AJ$2000,$AF9))) | AL9: =IF($AF9="","",IF($AF9="-", 0, COUNTIF('4. 특출'!$AJ$6:$AJ$2000,$AF9))) | AM9: =IF($AF9="", "", IF($Z9=$AK9,"OK","@@")) | AO9: =IF($AF9="","",IF($AF9="-",0, SUMIFS('4. 특출'!$AF$6:$AF$2000,'4. 특출'!$AJ$6:$AJ$2000,$AF9))) | AP9: =IF($AF9="","",IF($AF9="-", 0, COUNTIF('4. 특출'!$AJ$6:$AJ$2000,$AF9))) | AQ9: =IF($AF9="", "", IF($AC9=$AO9,"OK","@@"))
A10: =IF(D10="","",COUNTA($C$7:C10)-COUNTBLANK($C$7:C10)+1) | B10: =IF(D10="","",IF(OR(C10="직접입력",D10="북부지원"),"직접입력",IF(OR(AND(D10="인사과",C10="의회사무처"),AND(D10="총무과",C10="의회사무처")),"의회운영위원회",IF(OR(C10="직접입력",D10="북부지원"),"직접입력",IF(OR(AND(D10="인사과",C10="자치행정국"),AND(D10="총무과",C10="자치행정국")),"안전행정위원회",VLOOKUP(D10,구분표!$A$3:$C$258,2,)))))) | C10: =IF(D10="","",IF(OR(D10="교육지원과"),"소방재난본부",VLOOKUP(D10,구분표!$A$3:$C$258,3,))) | F10: =IF($E10="","",IF($E10="2추","직접입력","-")) | G10: =IF($E10="","",IF($E10="2추","직접입력","-")) | I10: =IF(H10="","",VLOOKUP($H10,구분표!$O$3:$P$168,2,FALSE)) | K10: =IF($E10="","",IF(OR($E10="2추", $E10="1추", $E10="본예산"), "금액입력", "-")) | L10: =IF($E10="", "", IF($E10="2추","금액입력", "-")) | M10: =IF($E10="","",SUM(K10:L10)) | O10: =SUM(M10:N10) -> 0 | Q10: =SUM(M10,P10) -> 0 | R10: =IF(AND((O10=0),(Q10>0)),"O",IF(AND((N10<0),(O10-Q10<0)),"O","X")) -> X | X10: =IF($H10="","",IF(OR($H10="511-01", $H10="511-02", $H10="511-03", $H10="311-02", $H10="311-04", $H10="321-01"),"국비","도비")) | Z10: =IF($X10="", "", IF($X10="국비",$N10, 0)) | AA10: =IF($X10="", "", IF($X10="도비",$N10, 0)) | AC10: =IF($X10="", "", IF($X10="국비",$P10, 0)) | AD10: =IF($X10="", "", IF($X10="도비",$P10, 0)) | AF10: =IF(AI10="","",IF($X10="도비","-",CONCATENATE(AI10,"-",COUNTIF($AI$7:AI10,AI10)))) | AG10: =IF($H10="","",IF($H10="511-01","국비",IF($H10="511-02","균특",IF($H10="511-03","기금",IF($H10="311-02","특교",IF($H10="311-04","소교",IF($H10="321-01","소멸","도비"))))))) | AI10: {=IF(OR(D10="", B10="직접입력", C10="직접입력"),"",INDEX(구분표!$I$2:$I$336, MATCH(1,(구분표!$G$2:$G$336='4. 특입'!B10)*(구분표!$E$2:$E$336='4. 특입'!C10)*(구분표!$F$2:$F$336='4. 특입'!D10),0)))} | AK10: =IF($AF10="","",IF($AF10="-",0, SUMIFS('4. 특출'!$AB$6:$AB$2000,'4. 특출'!$AJ$6:$AJ$2000,$AF10))) | AL10: =IF($AF10="","",IF($AF10="-", 0, COUNTIF('4. 특출'!$AJ$6:$AJ$2000,$AF10))) | AM10: =IF($AF10="", "", IF($Z10=$AK10,"OK","@@")) | AO10: =IF($AF10="","",IF($AF10="-",0, SUMIFS('4. 특출'!$AF$6:$AF$2000,'4. 특출'!$AJ$6:$AJ$2000,$AF10))) | AP10: =IF($AF10="","",IF($AF10="-", 0, COUNTIF('4. 특출'!$AJ$6:$AJ$2000,$AF10))) | AQ10: =IF($AF10="", "", IF($AC10=$AO10,"OK","@@"))
A11: =IF(D11="","",COUNTA($C$7:C11)-COUNTBLANK($C$7:C11)+1) | B11: =IF(D11="","",IF(OR(C11="직접입력",D11="북부지원"),"직접입력",IF(OR(AND(D11="인사과",C11="의회사무처"),AND(D11="총무과",C11="의회사무처")),"의회운영위원회",IF(OR(C11="직접입력",D11="북부지원"),"직접입력",IF(OR(AND(D11="인사과",C11="자치행정국"),AND(D11="총무과",C11="자치행정국")),"안전행정위원회",VLOOKUP(D11,구분표!$A$3:$C$258,2,)))))) | C11: =IF(D11="","",IF(OR(D11="교육지원과"),"소방재난본부",VLOOKUP(D11,구분표!$A$3:$C$258,3,))) | F11: =IF($E11="","",IF($E11="2추","직접입력","-")) | G11: =IF($E11="","",IF($E11="2추","직접입력","-")) | I11: =IF(H11="","",VLOOKUP($H11,구분표!$O$3:$P$168,2,FALSE)) | K11: =IF($E11="","",IF(OR($E11="2추", $E11="1추", $E11="본예산"), "금액입력", "-")) | L11: =IF($E11="", "", IF($E11="2추","금액입력", "-")) | M11: =IF($E11="","",SUM(K11:L11)) | O11: =SUM(M11:N11) -> 0 | Q11: =SUM(M11,P11) -> 0 | R11: =IF(AND((O11=0),(Q11>0)),"O",IF(AND((N11<0),(O11-Q11<0)),"O","X")) -> X | X11: =IF($H11="","",IF(OR($H11="511-01", $H11="511-02", $H11="511-03", $H11="311-02", $H11="311-04", $H11="321-01"),"국비","도비")) | Z11: =IF($X11="", "", IF($X11="국비",$N11, 0)) | AA11: =IF($X11="", "", IF($X11="도비",$N11, 0)) | AC11: =IF($X11="", "", IF($X11="국비",$P11, 0)) | AD11: =IF($X11="", "", IF($X11="도비",$P11, 0)) | AF11: =IF(AI11="","",IF($X11="도비","-",CONCATENATE(AI11,"-",COUNTIF($AI$7:AI11,AI11)))) | AG11: =IF($H11="","",IF($H11="511-01","국비",IF($H11="511-02","균특",IF($H11="511-03","기금",IF($H11="311-02","특교",IF($H11="311-04","소교",IF($H11="321-01","소멸","도비"))))))) | AI11: {=IF(OR(D11="", B11="직접입력", C11="직접입력"),"",INDEX(구분표!$I$2:$I$336, MATCH(1,(구분표!$G$2:$G$336='4. 특입'!B11)*(구분표!$E$2:$E$336='4. 특입'!C11)*(구분표!$F$2:$F$336='4. 특입'!D11),0)))} | AK11: =IF($AF11="","",IF($AF11="-",0, SUMIFS('4. 특출'!$AB$6:$AB$2000,'4. 특출'!$AJ$6:$AJ$2000,$AF11))) | AL11: =IF($AF11="","",IF($AF11="-", 0, COUNTIF('4. 특출'!$AJ$6:$AJ$2000,$AF11))) | AM11: =IF($AF11="", "", IF($Z11=$AK11,"OK","@@")) | AO11: =IF($AF11="","",IF($AF11="-",0, SUMIFS('4. 특출'!$AF$6:$AF$2000,'4. 특출'!$AJ$6:$AJ$2000,$AF11))) | AP11: =IF($AF11="","",IF($AF11="-", 0, COUNTIF('4. 특출'!$AJ$6:$AJ$2000,$AF11))) | AQ11: =IF($AF11="", "", IF($AC11=$AO11,"OK","@@"))
B12: (소방안전) | J12: =SUBTOTAL(3,J13:J16)&"건" -> 0건 | K12: =SUBTOTAL(9,K13:K16) -> 0 | L12: =SUBTOTAL(9,L13:L16) -> 0 | M12: =SUBTOTAL(9,M13:M16) -> 0 | N12: =SUBTOTAL(9,N13:N16) -> 0 | O12: =SUBTOTAL(9,O13:O16) -> 0 | P12: =SUBTOTAL(9,P13:P16) -> 0 | Q12: =SUBTOTAL(9,Q13:Q16) -> 0 | Z12: =SUBTOTAL(9,Z13:Z16) -> 0 | AA12: =SUBTOTAL(9,AA13:AA16) -> 0 | AC12: =SUBTOTAL(9,AC13:AC16) -> 0 | AD12: =SUBTOTAL(9,AD13:AD16) -> 0 | AK12: =SUBTOTAL(9,AK13:AK16) -> 0 | AL12: =SUBTOTAL(9,AL13:AL16) -> 0 | AM12: =IF(COUNTIF(AM13:AM16,"@@")>0,"@@","OK") -> OK | AO12: =SUBTOTAL(9,AO13:AO16) -> 0 | AP12: =SUBTOTAL(9,AP13:AP16) -> 0 | AQ12: =IF(COUNTIF(AQ13:AQ16,"@@")>0,"@@","OK") -> OK
A13: =IF(D13="","",COUNTA($C$7:C13)-COUNTBLANK($C$7:C13)+2) | B13: =IF(D13="","",IF(OR(C13="직접입력",D13="북부지원"),"직접입력",IF(OR(AND(D13="인사과",C13="의회사무처"),AND(D13="총무과",C13="의회사무처")),"의회운영위원회",IF(OR(C13="직접입력",D13="북부지원"),"직접입력",IF(OR(AND(D13="인사과",C13="자치행정국"),AND(D13="총무과",C13="자치행정국")),"안전행정위원회",VLOOKUP(D13,구분표!$A$3:$C$258,2,)))))) | C13: =IF(D13="","",IF(OR(D13="교육지원과"),"소방재난본부",VLOOKUP(D13,구분표!$A$3:$C$258,3,))) | F13: =IF($E13="","",IF($E13="2추","직접입력","-")) | G13: =IF($E13="","",IF($E13="2추","직접입력","-")) | I13: =IF(H13="","",VLOOKUP($H13,구분표!$O$3:$P$168,2,FALSE)) | K13: =IF($E13="","",IF(OR($E13="2추", $E13="1추", $E13="본예산"), "금액입력", "-")) | L13: =IF($E13="", "", IF($E13="2추","금액입력", "-")) | M13: =IF($E13="","",SUM(K13:L13)) | O13: =SUM(M13:N13) -> 0 | Q13: =SUM(M13,P13) -> 0 | R13: =IF(AND((O13=0),(Q13>0)),"O",IF(AND((N13<0),(O13-Q13<0)),"O","X")) -> X | X13: =IF($H13="","",IF(OR($H13="511-01", $H13="511-02", $H13="511-03", $H13="311-02", $H13="311-04", $H13="321-01"),"국비","도비")) | Z13: =IF($X13="", "", IF($X13="국비",$N13, 0)) | AA13: =IF($X13="", "", IF($X13="도비",$N13, 0)) | AC13: =IF($X13="", "", IF($X13="국비",$P13, 0)) | AD13: =IF($X13="", "", IF($X13="도비",$P13, 0)) | AF13: =IF(AI13="","",IF($X13="도비","-",CONCATENATE(AI13,"-",COUNTIF($AI$7:AI13,AI13)))) | AG13: =IF($H13="","",IF($H13="511-01","국비",IF($H13="511-02","균특",IF($H13="511-03","기금",IF($H13="311-02","특교",IF($H13="311-04","소교",IF($H13="321-01","소멸","도비"))))))) | AI13: {=IF(OR(D13="", B13="직접입력", C13="직접입력"),"",INDEX(구분표!$I$2:$I$336, MATCH(1,(구분표!$G$2:$G$336='4. 특입'!B13)*(구분표!$E$2:$E$336='4. 특입'!C13)*(구분표!$F$2:$F$336='4. 특입'!D13),0)))} | AK13: =IF($AF13="","",IF($AF13="-",0, SUMIFS('4. 특출'!$AB$6:$AB$2000,'4. 특출'!$AJ$6:$AJ$2000,$AF13))) | AL13: =IF($AF13="","",IF($AF13="-", 0, COUNTIF('4. 특출'!$AJ$6:$AJ$2000,$AF13))) | AM13: =IF($AF13="", "", IF($Z13=$AK13,"OK","@@")) | AO13: =IF($AF13="","",IF($AF13="-",0, SUMIFS('4. 특출'!$AF$6:$AF$2000,'4. 특출'!$AJ$6:$AJ$2000,$AF13))) | AP13: =IF($AF13="","",IF($AF13="-", 0, COUNTIF('4. 특출'!$AJ$6:$AJ$2000,$AF13))) | AQ13: =IF($AF13="", "", IF($AC13=$AO13,"OK","@@"))
A14: =IF(D14="","",COUNTA($C$7:C14)-COUNTBLANK($C$7:C14)+2) | B14: =IF(D14="","",IF(OR(C14="직접입력",D14="북부지원"),"직접입력",IF(OR(AND(D14="인사과",C14="의회사무처"),AND(D14="총무과",C14="의회사무처")),"의회운영위원회",IF(OR(C14="직접입력",D14="북부지원"),"직접입력",IF(OR(AND(D14="인사과",C14="자치행정국"),AND(D14="총무과",C14="자치행정국")),"안전행정위원회",VLOOKUP(D14,구분표!$A$3:$C$258,2,)))))) | C14: =IF(D14="","",IF(OR(D14="교육지원과"),"소방재난본부",VLOOKUP(D14,구분표!$A$3:$C$258,3,))) | F14: =IF($E14="","",IF($E14="2추","직접입력","-")) | G14: =IF($E14="","",IF($E14="2추","직접입력","-")) | I14: =IF(H14="","",VLOOKUP($H14,구분표!$O$3:$P$168,2,FALSE)) | K14: =IF($E14="","",IF(OR($E14="2추", $E14="1추", $E14="본예산"), "금액입력", "-")) | L14: =IF($E14="", "", IF($E14="2추","금액입력", "-")) | M14: =IF($E14="","",SUM(K14:L14)) | O14: =SUM(M14:N14) -> 0 | Q14: =SUM(M14,P14) -> 0 | R14: =IF(AND((O14=0),(Q14>0)),"O",IF(AND((N14<0),(O14-Q14<0)),"O","X")) -> X | X14: =IF($H14="","",IF(OR($H14="511-01", $H14="511-02", $H14="511-03", $H14="311-02", $H14="311-04", $H14="321-01"),"국비","도비")) | Z14: =IF($X14="", "", IF($X14="국비",$N14, 0)) | AA14: =IF($X14="", "", IF($X14="도비",$N14, 0)) | AC14: =IF($X14="", "", IF($X14="국비",$P14, 0)) | AD14: =IF($X14="", "", IF($X14="도비",$P14, 0)) | AF14: =IF(AI14="","",IF($X14="도비","-",CONCATENATE(AI14,"-",COUNTIF($AI$7:AI14,AI14)))) | AG14: =IF($H14="","",IF($H14="511-01","국비",IF($H14="511-02","균특",IF($H14="511-03","기금",IF($H14="311-02","특교",IF($H14="311-04","소교",IF($H14="321-01","소멸","도비"))))))) | AI14: {=IF(OR(D14="", B14="직접입력", C14="직접입력"),"",INDEX(구분표!$I$2:$I$336, MATCH(1,(구분표!$G$2:$G$336='4. 특입'!B14)*(구분표!$E$2:$E$336='4. 특입'!C14)*(구분표!$F$2:$F$336='4. 특입'!D14),0)))} | AK14: =IF($AF14="","",IF($AF14="-",0, SUMIFS('4. 특출'!$AB$6:$AB$2000,'4. 특출'!$AJ$6:$AJ$2000,$AF14))) | AL14: =IF($AF14="","",IF($AF14="-", 0, COUNTIF('4. 특출'!$AJ$6:$AJ$2000,$AF14))) | AM14: =IF($AF14="", "", IF($Z14=$AK14,"OK","@@")) | AO14: =IF($AF14="","",IF($AF14="-",0, SUMIFS('4. 특출'!$AF$6:$AF$2000,'4. 특출'!$AJ$6:$AJ$2000,$AF14))) | AP14: =IF($AF14="","",IF($AF14="-", 0, COUNTIF('4. 특출'!$AJ$6:$AJ$2000,$AF14))) | AQ14: =IF($AF14="", "", IF($AC14=$AO14,"OK","@@"))
A15: =IF(D15="","",COUNTA($C$7:C15)-COUNTBLANK($C$7:C15)+2) | B15: =IF(D15="","",IF(OR(C15="직접입력",D15="북부지원"),"직접입력",IF(OR(AND(D15="인사과",C15="의회사무처"),AND(D15="총무과",C15="의회사무처")),"의회운영위원회",IF(OR(C15="직접입력",D15="북부지원"),"직접입력",IF(OR(AND(D15="인사과",C15="자치행정국"),AND(D15="총무과",C15="자치행정국")),"안전행정위원회",VLOOKUP(D15,구분표!$A$3:$C$258,2,)))))) | C15: =IF(D15="","",IF(OR(D15="교육지원과"),"소방재난본부",VLOOKUP(D15,구분표!$A$3:$C$258,3,))) | F15: =IF($E15="","",IF($E15="2추","직접입력","-")) | G15: =IF($E15="","",IF($E15="2추","직접입력","-")) | I15: =IF(H15="","",VLOOKUP($H15,구분표!$O$3:$P$168,2,FALSE)) | K15: =IF($E15="","",IF(OR($E15="2추", $E15="1추", $E15="본예산"), "금액입력", "-")) | L15: =IF($E15="", "", IF($E15="2추","금액입력", "-")) | M15: =IF($E15="","",SUM(K15:L15)) | O15: =SUM(M15:N15) -> 0 | Q15: =SUM(M15,P15) -> 0 | R15: =IF(AND((O15=0),(Q15>0)),"O",IF(AND((N15<0),(O15-Q15<0)),"O","X")) -> X | X15: =IF($H15="","",IF(OR($H15="511-01", $H15="511-02", $H15="511-03", $H15="311-02", $H15="311-04", $H15="321-01"),"국비","도비")) | Z15: =IF($X15="", "", IF($X15="국비",$N15, 0)) | AA15: =IF($X15="", "", IF($X15="도비",$N15, 0)) | AC15: =IF($X15="", "", IF($X15="국비",$P15, 0)) | AD15: =IF($X15="", "", IF($X15="도비",$P15, 0)) | AF15: =IF(AI15="","",IF($X15="도비","-",CONCATENATE(AI15,"-",COUNTIF($AI$7:AI15,AI15)))) | AG15: =IF($H15="","",IF($H15="511-01","국비",IF($H15="511-02","균특",IF($H15="511-03","기금",IF($H15="311-02","특교",IF($H15="311-04","소교",IF($H15="321-01","소멸","도비"))))))) | AI15: {=IF(OR(D15="", B15="직접입력", C15="직접입력"),"",INDEX(구분표!$I$2:$I$336, MATCH(1,(구분표!$G$2:$G$336='4. 특입'!B15)*(구분표!$E$2:$E$336='4. 특입'!C15)*(구분표!$F$2:$F$336='4. 특입'!D15),0)))} | AK15: =IF($AF15="","",IF($AF15="-",0, SUMIFS('4. 특출'!$AB$6:$AB$2000,'4. 특출'!$AJ$6:$AJ$2000,$AF15))) | AL15: =IF($AF15="","",IF($AF15="-", 0, COUNTIF('4. 특출'!$AJ$6:$AJ$2000,$AF15))) | AM15: =IF($AF15="", "", IF($Z15=$AK15,"OK","@@")) | AO15: =IF($AF15="","",IF($AF15="-",0, SUMIFS('4. 특출'!$AF$6:$AF$2000,'4. 특출'!$AJ$6:$AJ$2000,$AF15))) | AP15: =IF($AF15="","",IF($AF15="-", 0, COUNTIF('4. 특출'!$AJ$6:$AJ$2000,$AF15))) | AQ15: =IF($AF15="", "", IF($AC15=$AO15,"OK","@@"))
A16: =IF(D16="","",COUNTA($C$7:C16)-COUNTBLANK($C$7:C16)+2) | B16: =IF(D16="","",IF(OR(C16="직접입력",D16="북부지원"),"직접입력",IF(OR(AND(D16="인사과",C16="의회사무처"),AND(D16="총무과",C16="의회사무처")),"의회운영위원회",IF(OR(C16="직접입력",D16="북부지원"),"직접입력",IF(OR(AND(D16="인사과",C16="자치행정국"),AND(D16="총무과",C16="자치행정국")),"안전행정위원회",VLOOKUP(D16,구분표!$A$3:$C$258,2,)))))) | C16: =IF(D16="","",IF(OR(D16="교육지원과"),"소방재난본부",VLOOKUP(D16,구분표!$A$3:$C$258,3,))) | F16: =IF($E16="","",IF($E16="2추","직접입력","-")) | G16: =IF($E16="","",IF($E16="2추","직접입력","-")) | I16: =IF(H16="","",VLOOKUP($H16,구분표!$O$3:$P$168,2,FALSE)) | K16: =IF($E16="","",IF(OR($E16="2추", $E16="1추", $E16="본예산"), "금액입력", "-")) | L16: =IF($E16="", "", IF($E16="2추","금액입력", "-")) | M16: =IF($E16="","",SUM(K16:L16)) | O16: =SUM(M16:N16) -> 0 | Q16: =SUM(M16,P16) -> 0 | R16: =IF(AND((O16=0),(Q16>0)),"O",IF(AND((N16<0),(O16-Q16<0)),"O","X")) -> X | X16: =IF($H16="","",IF(OR($H16="511-01", $H16="511-02", $H16="511-03", $H16="311-02", $H16="311-04", $H16="321-01"),"국비","도비")) | Z16: =IF($X16="", "", IF($X16="국비",$N16, 0)) | AA16: =IF($X16="", "", IF($X16="도비",$N16, 0)) | AC16: =IF($X16="", "", IF($X16="국비",$P16, 0)) | AD16: =IF($X16="", "", IF($X16="도비",$P16, 0)) | AF16: =IF(AI16="","",IF($X16="도비","-",CONCATENATE(AI16,"-",COUNTIF($AI$7:AI16,AI16)))) | AG16: =IF($H16="","",IF($H16="511-01","국비",IF($H16="511-02","균특",IF($H16="511-03","기금",IF($H16="311-02","특교",IF($H16="311-04","소교",IF($H16="321-01","소멸","도비"))))))) | AI16: {=IF(OR(D16="", B16="직접입력", C16="직접입력"),"",INDEX(구분표!$I$2:$I$336, MATCH(1,(구분표!$G$2:$G$336='4. 특입'!B16)*(구분표!$E$2:$E$336='4. 특입'!C16)*(구분표!$F$2:$F$336='4. 특입'!D16),0)))} | AK16: =IF($AF16="","",IF($AF16="-",0, SUMIFS('4. 특출'!$AB$6:$AB$2000,'4. 특출'!$AJ$6:$AJ$2000,$AF16))) | AL16: =IF($AF16="","",IF($AF16="-", 0, COUNTIF('4. 특출'!$AJ$6:$AJ$2000,$AF16))) | AM16: =IF($AF16="", "", IF($Z16=$AK16,"OK","@@")) | AO16: =IF($AF16="","",IF($AF16="-",0, SUMIFS('4. 특출'!$AF$6:$AF$2000,'4. 특출'!$AJ$6:$AJ$2000,$AF16))) | AP16: =IF($AF16="","",IF($AF16="-", 0, COUNTIF('4. 특출'!$AJ$6:$AJ$2000,$AF16))) | AQ16: =IF($AF16="", "", IF($AC16=$AO16,"OK","@@"))
B17: (의료급여기금) | J17: =SUBTOTAL(3,J18:J21)&"건" -> 0건 | K17: =SUBTOTAL(9,K18:K21) -> 0 | L17: =SUBTOTAL(9,L18:L21) -> 0 | M17: =SUBTOTAL(9,M18:M21) -> 0 | N17: =SUBTOTAL(9,N18:N21) -> 0 | O17: =SUBTOTAL(9,O18:O21) -> 0 | P17: =SUBTOTAL(9,P18:P21) -> 0 | Q17: =SUBTOTAL(9,Q18:Q21) -> 0 | Z17: =SUBTOTAL(9,Z18:Z21) -> 0 | AA17: =SUBTOTAL(9,AA18:AA21) -> 0 | AC17: =SUBTOTAL(9,AC18:AC21) -> 0 | AD17: =SUBTOTAL(9,AD18:AD21) -> 0 | AK17: =SUBTOTAL(9,AK18:AK21) -> 0 | AL17: =SUBTOTAL(9,AL18:AL21) -> 0 | AM17: =IF(COUNTIF(AM18:AM21,"@@")>0,"@@","OK") -> OK | AO17: =SUBTOTAL(9,AO18:AO21) -> 0 | AP17: =SUBTOTAL(9,AP18:AP21) -> 0 | AQ17: =IF(COUNTIF(AQ18:AQ21,"@@")>0,"@@","OK") -> OK
A18: =IF(D18="","",COUNTA($C$7:C18)-COUNTBLANK($C$7:C18)+3) | B18: =IF(D18="","",IF(OR(C18="직접입력",D18="북부지원"),"직접입력",IF(OR(AND(D18="인사과",C18="의회사무처"),AND(D18="총무과",C18="의회사무처")),"의회운영위원회",IF(OR(C18="직접입력",D18="북부지원"),"직접입력",IF(OR(AND(D18="인사과",C18="자치행정국"),AND(D18="총무과",C18="자치행정국")),"안전행정위원회",VLOOKUP(D18,구분표!$A$3:$C$258,2,)))))) | C18: =IF(D18="","",IF(OR(D18="교육지원과"),"소방재난본부",VLOOKUP(D18,구분표!$A$3:$C$258,3,))) | F18: =IF($E18="","",IF($E18="2추","직접입력","-")) | G18: =IF($E18="","",IF($E18="2추","직접입력","-")) | I18: =IF(H18="","",VLOOKUP($H18,구분표!$O$3:$P$168,2,FALSE)) | K18: =IF($E18="","",IF(OR($E18="2추", $E18="1추", $E18="본예산"), "금액입력", "-")) | L18: =IF($E18="", "", IF($E18="2추","금액입력", "-")) | M18: =IF($E18="","",SUM(K18:L18)) | O18: =SUM(M18:N18) -> 0 | Q18: =SUM(M18,P18) -> 0 | R18: =IF(AND((O18=0),(Q18>0)),"O",IF(AND((N18<0),(O18-Q18<0)),"O","X")) -> X | X18: =IF($H18="","",IF(OR($H18="511-01", $H18="511-02", $H18="511-03", $H18="311-02", $H18="311-04", $H18="321-01"),"국비","도비")) | Z18: =IF($X18="", "", IF($X18="국비",$N18, 0)) | AA18: =IF($X18="", "", IF($X18="도비",$N18, 0)) | AC18: =IF($X18="", "", IF($X18="국비",$P18, 0)) | AD18: =IF($X18="", "", IF($X18="도비",$P18, 0)) | AF18: =IF(AI18="","",IF($X18="도비","-",CONCATENATE(AI18,"-",COUNTIF($AI$7:AI18,AI18)))) | AG18: =IF($H18="","",IF($H18="511-01","국비",IF($H18="511-02","균특",IF($H18="511-03","기금",IF($H18="311-02","특교",IF($H18="311-04","소교",IF($H18="321-01","소멸","도비"))))))) | AI18: {=IF(OR(D18="", B18="직접입력", C18="직접입력"),"",INDEX(구분표!$I$2:$I$336, MATCH(1,(구분표!$G$2:$G$336='4. 특입'!B18)*(구분표!$E$2:$E$336='4. 특입'!C18)*(구분표!$F$2:$F$336='4. 특입'!D18),0)))} | AK18: =IF($AF18="","",IF($AF18="-",0, SUMIFS('4. 특출'!$AB$6:$AB$2000,'4. 특출'!$AJ$6:$AJ$2000,$AF18))) | AL18: =IF($AF18="","",IF($AF18="-", 0, COUNTIF('4. 특출'!$AJ$6:$AJ$2000,$AF18))) | AM18: =IF($AF18="", "", IF($Z18=$AK18,"OK","@@")) | AO18: =IF($AF18="","",IF($AF18="-",0, SUMIFS('4. 특출'!$AF$6:$AF$2000,'4. 특출'!$AJ$6:$AJ$2000,$AF18))) | AP18: =IF($AF18="","",IF($AF18="-", 0, COUNTIF('4. 특출'!$AJ$6:$AJ$2000,$AF18))) | AQ18: =IF($AF18="", "", IF($AC18=$AO18,"OK","@@"))
A19: =IF(D19="","",COUNTA($C$7:C19)-COUNTBLANK($C$7:C19)+3) | B19: =IF(D19="","",IF(OR(C19="직접입력",D19="북부지원"),"직접입력",IF(OR(AND(D19="인사과",C19="의회사무처"),AND(D19="총무과",C19="의회사무처")),"의회운영위원회",IF(OR(C19="직접입력",D19="북부지원"),"직접입력",IF(OR(AND(D19="인사과",C19="자치행정국"),AND(D19="총무과",C19="자치행정국")),"안전행정위원회",VLOOKUP(D19,구분표!$A$3:$C$258,2,)))))) | C19: =IF(D19="","",IF(OR(D19="교육지원과"),"소방재난본부",VLOOKUP(D19,구분표!$A$3:$C$258,3,))) | F19: =IF($E19="","",IF($E19="2추","직접입력","-")) | G19: =IF($E19="","",IF($E19="2추","직접입력","-")) | I19: =IF(H19="","",VLOOKUP($H19,구분표!$O$3:$P$168,2,FALSE)) | K19: =IF($E19="","",IF(OR($E19="2추", $E19="1추", $E19="본예산"), "금액입력", "-")) | L19: =IF($E19="", "", IF($E19="2추","금액입력", "-")) | M19: =IF($E19="","",SUM(K19:L19)) | O19: =SUM(M19:N19) -> 0 | Q19: =SUM(M19,P19) -> 0 | R19: =IF(AND((O19=0),(Q19>0)),"O",IF(AND((N19<0),(O19-Q19<0)),"O","X")) -> X | X19: =IF($H19="","",IF(OR($H19="511-01", $H19="511-02", $H19="511-03", $H19="311-02", $H19="311-04", $H19="321-01"),"국비","도비")) | Z19: =IF($X19="", "", IF($X19="국비",$N19, 0)) | AA19: =IF($X19="", "", IF($X19="도비",$N19, 0)) | AC19: =IF($X19="", "", IF($X19="국비",$P19, 0)) | AD19: =IF($X19="", "", IF($X19="도비",$P19, 0)) | AF19: =IF(AI19="","",IF($X19="도비","-",CONCATENATE(AI19,"-",COUNTIF($AI$7:AI19,AI19)))) | AG19: =IF($H19="","",IF($H19="511-01","국비",IF($H19="511-02","균특",IF($H19="511-03","기금",IF($H19="311-02","특교",IF($H19="311-04","소교",IF($H19="321-01","소멸","도비"))))))) | AI19: {=IF(OR(D19="", B19="직접입력", C19="직접입력"),"",INDEX(구분표!$I$2:$I$336, MATCH(1,(구분표!$G$2:$G$336='4. 특입'!B19)*(구분표!$E$2:$E$336='4. 특입'!C19)*(구분표!$F$2:$F$336='4. 특입'!D19),0)))} | AK19: =IF($AF19="","",IF($AF19="-",0, SUMIFS('4. 특출'!$AB$6:$AB$2000,'4. 특출'!$AJ$6:$AJ$2000,$AF19))) | AL19: =IF($AF19="","",IF($AF19="-", 0, COUNTIF('4. 특출'!$AJ$6:$AJ$2000,$AF19))) | AM19: =IF($AF19="", "", IF($Z19=$AK19,"OK","@@")) | AO19: =IF($AF19="","",IF($AF19="-",0, SUMIFS('4. 특출'!$AF$6:$AF$2000,'4. 특출'!$AJ$6:$AJ$2000,$AF19))) | AP19: =IF($AF19="","",IF($AF19="-", 0, COUNTIF('4. 특출'!$AJ$6:$AJ$2000,$AF19))) | AQ19: =IF($AF19="", "", IF($AC19=$AO19,"OK","@@"))
A20: =IF(D20="","",COUNTA($C$7:C20)-COUNTBLANK($C$7:C20)+3) | B20: =IF(D20="","",IF(OR(C20="직접입력",D20="북부지원"),"직접입력",IF(OR(AND(D20="인사과",C20="의회사무처"),AND(D20="총무과",C20="의회사무처")),"의회운영위원회",IF(OR(C20="직접입력",D20="북부지원"),"직접입력",IF(OR(AND(D20="인사과",C20="자치행정국"),AND(D20="총무과",C20="자치행정국")),"안전행정위원회",VLOOKUP(D20,구분표!$A$3:$C$258,2,)))))) | C20: =IF(D20="","",IF(OR(D20="교육지원과"),"소방재난본부",VLOOKUP(D20,구분표!$A$3:$C$258,3,))) | F20: =IF($E20="","",IF($E20="2추","직접입력","-")) | G20: =IF($E20="","",IF($E20="2추","직접입력","-")) | I20: =IF(H20="","",VLOOKUP($H20,구분표!$O$3:$P$168,2,FALSE)) | K20: =IF($E20="","",IF(OR($E20="2추", $E20="1추", $E20="본예산"), "금액입력", "-")) | L20: =IF($E20="", "", IF($E20="2추","금액입력", "-")) | M20: =IF($E20="","",SUM(K20:L20)) | O20: =SUM(M20:N20) -> 0 | Q20: =SUM(M20,P20) -> 0 | R20: =IF(AND((O20=0),(Q20>0)),"O",IF(AND((N20<0),(O20-Q20<0)),"O","X")) -> X | X20: =IF($H20="","",IF(OR($H20="511-01", $H20="511-02", $H20="511-03", $H20="311-02", $H20="311-04", $H20="321-01"),"국비","도비")) | Z20: =IF($X20="", "", IF($X20="국비",$N20, 0)) | AA20: =IF($X20="", "", IF($X20="도비",$N20, 0)) | AC20: =IF($X20="", "", IF($X20="국비",$P20, 0)) | AD20: =IF($X20="", "", IF($X20="도비",$P20, 0)) | AF20: =IF(AI20="","",IF($X20="도비","-",CONCATENATE(AI20,"-",COUNTIF($AI$7:AI20,AI20)))) | AG20: =IF($H20="","",IF($H20="511-01","국비",IF($H20="511-02","균특",IF($H20="511-03","기금",IF($H20="311-02","특교",IF($H20="311-04","소교",IF($H20="321-01","소멸","도비"))))))) | AI20: {=IF(OR(D20="", B20="직접입력", C20="직접입력"),"",INDEX(구분표!$I$2:$I$336, MATCH(1,(구분표!$G$2:$G$336='4. 특입'!B20)*(구분표!$E$2:$E$336='4. 특입'!C20)*(구분표!$F$2:$F$336='4. 특입'!D20),0)))} | AK20: =IF($AF20="","",IF($AF20="-",0, SUMIFS('4. 특출'!$AB$6:$AB$2000,'4. 특출'!$AJ$6:$AJ$2000,$AF20))) | AL20: =IF($AF20="","",IF($AF20="-", 0, COUNTIF('4. 특출'!$AJ$6:$AJ$2000,$AF20))) | AM20: =IF($AF20="", "", IF($Z20=$AK20,"OK","@@")) | AO20: =IF($AF20="","",IF($AF20="-",0, SUMIFS('4. 특출'!$AF$6:$AF$2000,'4. 특출'!$AJ$6:$AJ$2000,$AF20))) | AP20: =IF($AF20="","",IF($AF20="-", 0, COUNTIF('4. 특출'!$AJ$6:$AJ$2000,$AF20))) | AQ20: =IF($AF20="", "", IF($AC20=$AO20,"OK","@@"))
A21: =IF(D21="","",COUNTA($C$7:C21)-COUNTBLANK($C$7:C21)+3) | B21: =IF(D21="","",IF(OR(C21="직접입력",D21="북부지원"),"직접입력",IF(OR(AND(D21="인사과",C21="의회사무처"),AND(D21="총무과",C21="의회사무처")),"의회운영위원회",IF(OR(C21="직접입력",D21="북부지원"),"직접입력",IF(OR(AND(D21="인사과",C21="자치행정국"),AND(D21="총무과",C21="자치행정국")),"안전행정위원회",VLOOKUP(D21,구분표!$A$3:$C$258,2,)))))) | C21: =IF(D21="","",IF(OR(D21="교육지원과"),"소방재난본부",VLOOKUP(D21,구분표!$A$3:$C$258,3,))) | F21: =IF($E21="","",IF($E21="2추","직접입력","-")) | G21: =IF($E21="","",IF($E21="2추","직접입력","-")) | I21: =IF(H21="","",VLOOKUP($H21,구분표!$O$3:$P$168,2,FALSE)) | K21: =IF($E21="","",IF(OR($E21="2추", $E21="1추", $E21="본예산"), "금액입력", "-")) | L21: =IF($E21="", "", IF($E21="2추","금액입력", "-")) | M21: =IF($E21="","",SUM(K21:L21)) | O21: =SUM(M21:N21) -> 0 | Q21: =SUM(M21,P21) -> 0 | R21: =IF(AND((O21=0),(Q21>0)),"O",IF(AND((N21<0),(O21-Q21<0)),"O","X")) -> X | X21: =IF($H21="","",IF(OR($H21="511-01", $H21="511-02", $H21="511-03", $H21="311-02", $H21="311-04", $H21="321-01"),"국비","도비")) | Z21: =IF($X21="", "", IF($X21="국비",$N21, 0)) | AA21: =IF($X21="", "", IF($X21="도비",$N21, 0)) | AC21: =IF($X21="", "", IF($X21="국비",$P21, 0)) | AD21: =IF($X21="", "", IF($X21="도비",$P21, 0)) | AF21: =IF(AI21="","",IF($X21="도비","-",CONCATENATE(AI21,"-",COUNTIF($AI$7:AI21,AI21)))) | AG21: =IF($H21="","",IF($H21="511-01","국비",IF($H21="511-02","균특",IF($H21="511-03","기금",IF($H21="311-02","특교",IF($H21="311-04","소교",IF($H21="321-01","소멸","도비"))))))) | AI21: {=IF(OR(D21="", B21="직접입력", C21="직접입력"),"",INDEX(구분표!$I$2:$I$336, MATCH(1,(구분표!$G$2:$G$336='4. 특입'!B21)*(구분표!$E$2:$E$336='4. 특입'!C21)*(구분표!$F$2:$F$336='4. 특입'!D21),0)))} | AK21: =IF($AF21="","",IF($AF21="-",0, SUMIFS('4. 특출'!$AB$6:$AB$2000,'4. 특출'!$AJ$6:$AJ$2000,$AF21))) | AL21: =IF($AF21="","",IF($AF21="-", 0, COUNTIF('4. 특출'!$AJ$6:$AJ$2000,$AF21))) | AM21: =IF($AF21="", "", IF($Z21=$AK21,"OK","@@")) | AO21: =IF($AF21="","",IF($AF21="-",0, SUMIFS('4. 특출'!$AF$6:$AF$2000,'4. 특출'!$AJ$6:$AJ$2000,$AF21))) | AP21: =IF($AF21="","",IF($AF21="-", 0, COUNTIF('4. 특출'!$AJ$6:$AJ$2000,$AF21))) | AQ21: =IF($AF21="", "", IF($AC21=$AO21,"OK","@@"))
B22: (광역교통시설) | J22: =SUBTOTAL(3,J23:J26)&"건" -> 0건 | K22: =SUBTOTAL(9,K23:K26) -> 0 | L22: =SUBTOTAL(9,L23:L26) -> 0 | M22: =SUBTOTAL(9,M23:M26) -> 0 | N22: =SUBTOTAL(9,N23:N26) -> 0 | O22: =SUBTOTAL(9,O23:O26) -> 0 | P22: =SUBTOTAL(9,P23:P26) -> 0 | Q22: =SUBTOTAL(9,Q23:Q26) -> 0 | Z22: =SUBTOTAL(9,Z23:Z26) -> 0 | AA22: =SUBTOTAL(9,AA23:AA26) -> 0 | AC22: =SUBTOTAL(9,AC23:AC26) -> 0 | AD22: =SUBTOTAL(9,AD23:AD26) -> 0 | AK22: =SUBTOTAL(9,AK23:AK26) -> 0 | AL22: =SUBTOTAL(9,AL23:AL26) -> 0 | AM22: =IF(COUNTIF(AM23:AM26,"@@")>0,"@@","OK") -> OK | AO22: =SUBTOTAL(9,AO23:AO26) -> 0 | AP22: =SUBTOTAL(9,AP23:AP26) -> 0 | AQ22: =IF(COUNTIF(AQ23:AQ26,"@@")>0,"@@","OK") -> OK
A23: =IF(D23="","",COUNTA($C$7:C23)-COUNTBLANK($C$7:C23)+4) | B23: =IF(D23="","",IF(OR(C23="직접입력",D23="북부지원"),"직접입력",IF(OR(AND(D23="인사과",C23="의회사무처"),AND(D23="총무과",C23="의회사무처")),"의회운영위원회",IF(OR(C23="직접입력",D23="북부지원"),"직접입력",IF(OR(AND(D23="인사과",C23="자치행정국"),AND(D23="총무과",C23="자치행정국")),"안전행정위원회",VLOOKUP(D23,구분표!$A$3:$C$258,2,)))))) | C23: =IF(D23="","",IF(OR(D23="교육지원과"),"소방재난본부",VLOOKUP(D23,구분표!$A$3:$C$258,3,))) | F23: =IF($E23="","",IF($E23="2추","직접입력","-")) | G23: =IF($E23="","",IF($E23="2추","직접입력","-")) | I23: =IF(H23="","",VLOOKUP($H23,구분표!$O$3:$P$168,2,FALSE)) | K23: =IF($E23="","",IF(OR($E23="2추", $E23="1추", $E23="본예산"), "금액입력", "-")) | L23: =IF($E23="", "", IF($E23="2추","금액입력", "-")) | M23: =IF($E23="","",SUM(K23:L23)) | O23: =SUM(M23:N23) -> 0 | Q23: =SUM(M23,P23) -> 0 | R23: =IF(AND((O23=0),(Q23>0)),"O",IF(AND((N23<0),(O23-Q23<0)),"O","X")) -> X | X23: =IF($H23="","",IF(OR($H23="511-01", $H23="511-02", $H23="511-03", $H23="311-02", $H23="311-04", $H23="321-01"),"국비","도비")) | Z23: =IF($X23="", "", IF($X23="국비",$N23, 0)) | AA23: =IF($X23="", "", IF($X23="도비",$N23, 0)) | AC23: =IF($X23="", "", IF($X23="국비",$P23, 0)) | AD23: =IF($X23="", "", IF($X23="도비",$P23, 0)) | AF23: =IF(AI23="","",IF($X23="도비","-",CONCATENATE(AI23,"-",COUNTIF($AI$7:AI23,AI23)))) | AG23: =IF($H23="","",IF($H23="511-01","국비",IF($H23="511-02","균특",IF($H23="511-03","기금",IF($H23="311-02","특교",IF($H23="311-04","소교",IF($H23="321-01","소멸","도비"))))))) | AI23: {=IF(OR(D23="", B23="직접입력", C23="직접입력"),"",INDEX(구분표!$I$2:$I$336, MATCH(1,(구분표!$G$2:$G$336='4. 특입'!B23)*(구분표!$E$2:$E$336='4. 특입'!C23)*(구분표!$F$2:$F$336='4. 특입'!D23),0)))} | AK23: =IF($AF23="","",IF($AF23="-",0, SUMIFS('4. 특출'!$AB$6:$AB$2000,'4. 특출'!$AJ$6:$AJ$2000,$AF23))) | AL23: =IF($AF23="","",IF($AF23="-", 0, COUNTIF('4. 특출'!$AJ$6:$AJ$2000,$AF23))) | AM23: =IF($AF23="", "", IF($Z23=$AK23,"OK","@@")) | AO23: =IF($AF23="","",IF($AF23="-",0, SUMIFS('4. 특출'!$AF$6:$AF$2000,'4. 특출'!$AJ$6:$AJ$2000,$AF23))) | AP23: =IF($AF23="","",IF($AF23="-", 0, COUNTIF('4. 특출'!$AJ$6:$AJ$2000,$AF23))) | AQ23: =IF($AF23="", "", IF($AC23=$AO23,"OK","@@"))
A24: =IF(D24="","",COUNTA($C$7:C24)-COUNTBLANK($C$7:C24)+4) | B24: =IF(D24="","",IF(OR(C24="직접입력",D24="북부지원"),"직접입력",IF(OR(AND(D24="인사과",C24="의회사무처"),AND(D24="총무과",C24="의회사무처")),"의회운영위원회",IF(OR(C24="직접입력",D24="북부지원"),"직접입력",IF(OR(AND(D24="인사과",C24="자치행정국"),AND(D24="총무과",C24="자치행정국")),"안전행정위원회",VLOOKUP(D24,구분표!$A$3:$C$258,2,)))))) | C24: =IF(D24="","",IF(OR(D24="교육지원과"),"소방재난본부",VLOOKUP(D24,구분표!$A$3:$C$258,3,))) | F24: =IF($E24="","",IF($E24="2추","직접입력","-")) | G24: =IF($E24="","",IF($E24="2추","직접입력","-")) | I24: =IF(H24="","",VLOOKUP($H24,구분표!$O$3:$P$168,2,FALSE)) | K24: =IF($E24="","",IF(OR($E24="2추", $E24="1추", $E24="본예산"), "금액입력", "-")) | L24: =IF($E24="", "", IF($E24="2추","금액입력", "-")) | M24: =IF($E24="","",SUM(K24:L24)) | O24: =SUM(M24:N24) -> 0 | Q24: =SUM(M24,P24) -> 0 | R24: =IF(AND((O24=0),(Q24>0)),"O",IF(AND((N24<0),(O24-Q24<0)),"O","X")) -> X | X24: =IF($H24="","",IF(OR($H24="511-01", $H24="511-02", $H24="511-03", $H24="311-02", $H24="311-04", $H24="321-01"),"국비","도비")) | Z24: =IF($X24="", "", IF($X24="국비",$N24, 0)) | AA24: =IF($X24="", "", IF($X24="도비",$N24, 0)) | AC24: =IF($X24="", "", IF($X24="국비",$P24, 0)) | AD24: =IF($X24="", "", IF($X24="도비",$P24, 0)) | AF24: =IF(AI24="","",IF($X24="도비","-",CONCATENATE(AI24,"-",COUNTIF($AI$7:AI24,AI24)))) | AG24: =IF($H24="","",IF($H24="511-01","국비",IF($H24="511-02","균특",IF($H24="511-03","기금",IF($H24="311-02","특교",IF($H24="311-04","소교",IF($H24="321-01","소멸","도비"))))))) | AI24: {=IF(OR(D24="", B24="직접입력", C24="직접입력"),"",INDEX(구분표!$I$2:$I$336, MATCH(1,(구분표!$G$2:$G$336='4. 특입'!B24)*(구분표!$E$2:$E$336='4. 특입'!C24)*(구분표!$F$2:$F$336='4. 특입'!D24),0)))} | AK24: =IF($AF24="","",IF($AF24="-",0, SUMIFS('4. 특출'!$AB$6:$AB$2000,'4. 특출'!$AJ$6:$AJ$2000,$AF24))) | AL24: =IF($AF24="","",IF($AF24="-", 0, COUNTIF('4. 특출'!$AJ$6:$AJ$2000,$AF24))) | AM24: =IF($AF24="", "", IF($Z24=$AK24,"OK","@@")) | AO24: =IF($AF24="","",IF($AF24="-",0, SUMIFS('4. 특출'!$AF$6:$AF$2000,'4. 특출'!$AJ$6:$AJ$2000,$AF24))) | AP24: =IF($AF24="","",IF($AF24="-", 0, COUNTIF('4. 특출'!$AJ$6:$AJ$2000,$AF24))) | AQ24: =IF($AF24="", "", IF($AC24=$AO24,"OK","@@"))
A25: =IF(D25="","",COUNTA($C$7:C25)-COUNTBLANK($C$7:C25)+4) | B25: =IF(D25="","",IF(OR(C25="직접입력",D25="북부지원"),"직접입력",IF(OR(AND(D25="인사과",C25="의회사무처"),AND(D25="총무과",C25="의회사무처")),"의회운영위원회",IF(OR(C25="직접입력",D25="북부지원"),"직접입력",IF(OR(AND(D25="인사과",C25="자치행정국"),AND(D25="총무과",C25="자치행정국")),"안전행정위원회",VLOOKUP(D25,구분표!$A$3:$C$258,2,)))))) | C25: =IF(D25="","",IF(OR(D25="교육지원과"),"소방재난본부",VLOOKUP(D25,구분표!$A$3:$C$258,3,))) | F25: =IF($E25="","",IF($E25="2추","직접입력","-")) | G25: =IF($E25="","",IF($E25="2추","직접입력","-")) | I25: =IF(H25="","",VLOOKUP($H25,구분표!$O$3:$P$168,2,FALSE)) | K25: =IF($E25="","",IF(OR($E25="2추", $E25="1추", $E25="본예산"), "금액입력", "-")) | L25: =IF($E25="", "", IF($E25="2추","금액입력", "-")) | M25: =IF($E25="","",SUM(K25:L25)) | O25: =SUM(M25:N25) -> 0 | Q25: =SUM(M25,P25) -> 0 | R25: =IF(AND((O25=0),(Q25>0)),"O",IF(AND((N25<0),(O25-Q25<0)),"O","X")) -> X | X25: =IF($H25="","",IF(OR($H25="511-01", $H25="511-02", $H25="511-03", $H25="311-02", $H25="311-04", $H25="321-01"),"국비","도비")) | Z25: =IF($X25="", "", IF($X25="국비",$N25, 0)) | AA25: =IF($X25="", "", IF($X25="도비",$N25, 0)) | AC25: =IF($X25="", "", IF($X25="국비",$P25, 0)) | AD25: =IF($X25="", "", IF($X25="도비",$P25, 0)) | AF25: =IF(AI25="","",IF($X25="도비","-",CONCATENATE(AI25,"-",COUNTIF($AI$7:AI25,AI25)))) | AG25: =IF($H25="","",IF($H25="511-01","국비",IF($H25="511-02","균특",IF($H25="511-03","기금",IF($H25="311-02","특교",IF($H25="311-04","소교",IF($H25="321-01","소멸","도비"))))))) | AI25: {=IF(OR(D25="", B25="직접입력", C25="직접입력"),"",INDEX(구분표!$I$2:$I$336, MATCH(1,(구분표!$G$2:$G$336='4. 특입'!B25)*(구분표!$E$2:$E$336='4. 특입'!C25)*(구분표!$F$2:$F$336='4. 특입'!D25),0)))} | AK25: =IF($AF25="","",IF($AF25="-",0, SUMIFS('4. 특출'!$AB$6:$AB$2000,'4. 특출'!$AJ$6:$AJ$2000,$AF25))) | AL25: =IF($AF25="","",IF($AF25="-", 0, COUNTIF('4. 특출'!$AJ$6:$AJ$2000,$AF25))) | AM25: =IF($AF25="", "", IF($Z25=$AK25,"OK","@@")) | AO25: =IF($AF25="","",IF($AF25="-",0, SUMIFS('4. 특출'!$AF$6:$AF$2000,'4. 특출'!$AJ$6:$AJ$2000,$AF25))) | AP25: =IF($AF25="","",IF($AF25="-", 0, COUNTIF('4. 특출'!$AJ$6:$AJ$2000,$AF25))) | AQ25: =IF($AF25="", "", IF($AC25=$AO25,"OK","@@"))
A26: =IF(D26="","",COUNTA($C$7:C26)-COUNTBLANK($C$7:C26)+4) | B26: =IF(D26="","",IF(OR(C26="직접입력",D26="북부지원"),"직접입력",IF(OR(AND(D26="인사과",C26="의회사무처"),AND(D26="총무과",C26="의회사무처")),"의회운영위원회",IF(OR(C26="직접입력",D26="북부지원"),"직접입력",IF(OR(AND(D26="인사과",C26="자치행정국"),AND(D26="총무과",C26="자치행정국")),"안전행정위원회",VLOOKUP(D26,구분표!$A$3:$C$258,2,)))))) | C26: =IF(D26="","",IF(OR(D26="교육지원과"),"소방재난본부",VLOOKUP(D26,구분표!$A$3:$C$258,3,))) | F26: =IF($E26="","",IF($E26="2추","직접입력","-")) | G26: =IF($E26="","",IF($E26="2추","직접입력","-")) | I26: =IF(H26="","",VLOOKUP($H26,구분표!$O$3:$P$168,2,FALSE)) | K26: =IF($E26="","",IF(OR($E26="2추", $E26="1추", $E26="본예산"), "금액입력", "-")) | L26: =IF($E26="", "", IF($E26="2추","금액입력", "-")) | M26: =IF($E26="","",SUM(K26:L26)) | O26: =SUM(M26:N26) -> 0 | Q26: =SUM(M26,P26) -> 0 | R26: =IF(AND((O26=0),(Q26>0)),"O",IF(AND((N26<0),(O26-Q26<0)),"O","X")) -> X | X26: =IF($H26="","",IF(OR($H26="511-01", $H26="511-02", $H26="511-03", $H26="311-02", $H26="311-04", $H26="321-01"),"국비","도비")) | Z26: =IF($X26="", "", IF($X26="국비",$N26, 0)) | AA26: =IF($X26="", "", IF($X26="도비",$N26, 0)) | AC26: =IF($X26="", "", IF($X26="국비",$P26, 0)) | AD26: =IF($X26="", "", IF($X26="도비",$P26, 0)) | AF26: =IF(AI26="","",IF($X26="도비","-",CONCATENATE(AI26,"-",COUNTIF($AI$7:AI26,AI26)))) | AG26: =IF($H26="","",IF($H26="511-01","국비",IF($H26="511-02","균특",IF($H26="511-03","기금",IF($H26="311-02","특교",IF($H26="311-04","소교",IF($H26="321-01","소멸","도비"))))))) | AI26: {=IF(OR(D26="", B26="직접입력", C26="직접입력"),"",INDEX(구분표!$I$2:$I$336, MATCH(1,(구분표!$G$2:$G$336='4. 특입'!B26)*(구분표!$E$2:$E$336='4. 특입'!C26)*(구분표!$F$2:$F$336='4. 특입'!D26),0)))} | AK26: =IF($AF26="","",IF($AF26="-",0, SUMIFS('4. 특출'!$AB$6:$AB$2000,'4. 특출'!$AJ$6:$AJ$2000,$AF26))) | AL26: =IF($AF26="","",IF($AF26="-", 0, COUNTIF('4. 특출'!$AJ$6:$AJ$2000,$AF26))) | AM26: =IF($AF26="", "", IF($Z26=$AK26,"OK","@@")) | AO26: =IF($AF26="","",IF($AF26="-",0, SUMIFS('4. 특출'!$AF$6:$AF$2000,'4. 특출'!$AJ$6:$AJ$2000,$AF26))) | AP26: =IF($AF26="","",IF($AF26="-", 0, COUNTIF('4. 특출'!$AJ$6:$AJ$2000,$AF26))) | AQ26: =IF($AF26="", "", IF($AC26=$AO26,"OK","@@"))
B27: (도시재생) | J27: =SUBTOTAL(3,J28:J31)&"건" -> 0건 | K27: =SUBTOTAL(9,K28:K31) -> 0 | L27: =SUBTOTAL(9,L28:L31) -> 0 | M27: =SUBTOTAL(9,M28:M31) -> 0 | N27: =SUBTOTAL(9,N28:N31) -> 0 | O27: =SUBTOTAL(9,O28:O31) -> 0 | P27: =SUBTOTAL(9,P28:P31) -> 0 | Q27: =SUBTOTAL(9,Q28:Q31) -> 0 | Z27: =SUBTOTAL(9,Z28:Z31) -> 0 | AA27: =SUBTOTAL(9,AA28:AA31) -> 0 | AC27: =SUBTOTAL(9,AC28:AC31) -> 0 | AD27: =SUBTOTAL(9,AD28:AD31) -> 0 | AK27: =SUBTOTAL(9,AK28:AK31) -> 0 | AL27: =SUBTOTAL(9,AL28:AL31) -> 0 | AM27: =IF(COUNTIF(AM28:AM31,"@@")>0,"@@","OK") -> OK | AO27: =SUBTOTAL(9,AO28:AO31) -> 0 | AP27: =SUBTOTAL(9,AP28:AP31) -> 0 | AQ27: =IF(COUNTIF(AQ28:AQ31,"@@")>0,"@@","OK") -> OK
A28: =IF(D28="","",COUNTA($C$7:C28)-COUNTBLANK($C$7:C28)+5) | B28: =IF(D28="","",IF(OR(C28="직접입력",D28="북부지원"),"직접입력",IF(OR(AND(D28="인사과",C28="의회사무처"),AND(D28="총무과",C28="의회사무처")),"의회운영위원회",IF(OR(C28="직접입력",D28="북부지원"),"직접입력",IF(OR(AND(D28="인사과",C28="자치행정국"),AND(D28="총무과",C28="자치행정국")),"안전행정위원회",VLOOKUP(D28,구분표!$A$3:$C$258,2,)))))) | C28: =IF(D28="","",IF(OR(D28="교육지원과"),"소방재난본부",VLOOKUP(D28,구분표!$A$3:$C$258,3,))) | F28: =IF($E28="","",IF($E28="2추","직접입력","-")) | G28: =IF($E28="","",IF($E28="2추","직접입력","-")) | I28: =IF(H28="","",VLOOKUP($H28,구분표!$O$3:$P$168,2,FALSE)) | K28: =IF($E28="","",IF(OR($E28="2추", $E28="1추", $E28="본예산"), "금액입력", "-")) | L28: =IF($E28="", "", IF($E28="2추","금액입력", "-")) | M28: =IF($E28="","",SUM(K28:L28)) | O28: =SUM(M28:N28) -> 0 | Q28: =SUM(M28,P28) -> 0 | R28: =IF(AND((O28=0),(Q28>0)),"O",IF(AND((N28<0),(O28-Q28<0)),"O","X")) -> X | X28: =IF($H28="","",IF(OR($H28="511-01", $H28="511-02", $H28="511-03", $H28="311-02", $H28="311-04", $H28="321-01"),"국비","도비")) | Z28: =IF($X28="", "", IF($X28="국비",$N28, 0)) | AA28: =IF($X28="", "", IF($X28="도비",$N28, 0)) | AC28: =IF($X28="", "", IF($X28="국비",$P28, 0)) | AD28: =IF($X28="", "", IF($X28="도비",$P28, 0)) | AF28: =IF(AI28="","",IF($X28="도비","-",CONCATENATE(AI28,"-",COUNTIF($AI$7:AI28,AI28)))) | AG28: =IF($H28="","",IF($H28="511-01","국비",IF($H28="511-02","균특",IF($H28="511-03","기금",IF($H28="311-02","특교",IF($H28="311-04","소교",IF($H28="321-01","소멸","도비"))))))) | AI28: {=IF(OR(D28="", B28="직접입력", C28="직접입력"),"",INDEX(구분표!$I$2:$I$336, MATCH(1,(구분표!$G$2:$G$336='4. 특입'!B28)*(구분표!$E$2:$E$336='4. 특입'!C28)*(구분표!$F$2:$F$336='4. 특입'!D28),0)))} | AK28: =IF($AF28="","",IF($AF28="-",0, SUMIFS('4. 특출'!$AB$6:$AB$2000,'4. 특출'!$AJ$6:$AJ$2000,$AF28))) | AL28: =IF($AF28="","",IF($AF28="-", 0, COUNTIF('4. 특출'!$AJ$6:$AJ$2000,$AF28))) | AM28: =IF($AF28="", "", IF($Z28=$AK28,"OK","@@")) | AO28: =IF($AF28="","",IF($AF28="-",0, SUMIFS('4. 특출'!$AF$6:$AF$2000,'4. 특출'!$AJ$6:$AJ$2000,$AF28))) | AP28: =IF($AF28="","",IF($AF28="-", 0, COUNTIF('4. 특출'!$AJ$6:$AJ$2000,$AF28))) | AQ28: =IF($AF28="", "", IF($AC28=$AO28,"OK","@@"))
A29: =IF(D29="","",COUNTA($C$7:C29)-COUNTBLANK($C$7:C29)+5) | B29: =IF(D29="","",IF(OR(C29="직접입력",D29="북부지원"),"직접입력",IF(OR(AND(D29="인사과",C29="의회사무처"),AND(D29="총무과",C29="의회사무처")),"의회운영위원회",IF(OR(C29="직접입력",D29="북부지원"),"직접입력",IF(OR(AND(D29="인사과",C29="자치행정국"),AND(D29="총무과",C29="자치행정국")),"안전행정위원회",VLOOKUP(D29,구분표!$A$3:$C$258,2,)))))) | C29: =IF(D29="","",IF(OR(D29="교육지원과"),"소방재난본부",VLOOKUP(D29,구분표!$A$3:$C$258,3,))) | F29: =IF($E29="","",IF($E29="2추","직접입력","-")) | G29: =IF($E29="","",IF($E29="2추","직접입력","-")) | I29: =IF(H29="","",VLOOKUP($H29,구분표!$O$3:$P$168,2,FALSE)) | K29: =IF($E29="","",IF(OR($E29="2추", $E29="1추", $E29="본예산"), "금액입력", "-")) | L29: =IF($E29="", "", IF($E29="2추","금액입력", "-")) | M29: =IF($E29="","",SUM(K29:L29)) | O29: =SUM(M29:N29) -> 0 | Q29: =SUM(M29,P29) -> 0 | R29: =IF(AND((O29=0),(Q29>0)),"O",IF(AND((N29<0),(O29-Q29<0)),"O","X")) -> X | X29: =IF($H29="","",IF(OR($H29="511-01", $H29="511-02", $H29="511-03", $H29="311-02", $H29="311-04", $H29="321-01"),"국비","도비")) | Z29: =IF($X29="", "", IF($X29="국비",$N29, 0)) | AA29: =IF($X29="", "", IF($X29="도비",$N29, 0)) | AC29: =IF($X29="", "", IF($X29="국비",$P29, 0)) | AD29: =IF($X29="", "", IF($X29="도비",$P29, 0)) | AF29: =IF(AI29="","",IF($X29="도비","-",CONCATENATE(AI29,"-",COUNTIF($AI$7:AI29,AI29)))) | AG29: =IF($H29="","",IF($H29="511-01","국비",IF($H29="511-02","균특",IF($H29="511-03","기금",IF($H29="311-02","특교",IF($H29="311-04","소교",IF($H29="321-01","소멸","도비"))))))) | AI29: {=IF(OR(D29="", B29="직접입력", C29="직접입력"),"",INDEX(구분표!$I$2:$I$336, MATCH(1,(구분표!$G$2:$G$336='4. 특입'!B29)*(구분표!$E$2:$E$336='4. 특입'!C29)*(구분표!$F$2:$F$336='4. 특입'!D29),0)))} | AK29: =IF($AF29="","",IF($AF29="-",0, SUMIFS('4. 특출'!$AB$6:$AB$2000,'4. 특출'!$AJ$6:$AJ$2000,$AF29))) | AL29: =IF($AF29="","",IF($AF29="-", 0, COUNTIF('4. 특출'!$AJ$6:$AJ$2000,$AF29))) | AM29: =IF($AF29="", "", IF($Z29=$AK29,"OK","@@")) | AO29: =IF($AF29="","",IF($AF29="-",0, SUMIFS('4. 특출'!$AF$6:$AF$2000,'4. 특출'!$AJ$6:$AJ$2000,$AF29))) | AP29: =IF($AF29="","",IF($AF29="-", 0, COUNTIF('4. 특출'!$AJ$6:$AJ$2000,$AF29))) | AQ29: =IF($AF29="", "", IF($AC29=$AO29,"OK","@@"))
A30: =IF(D30="","",COUNTA($C$7:C30)-COUNTBLANK($C$7:C30)+5) | B30: =IF(D30="","",IF(OR(C30="직접입력",D30="북부지원"),"직접입력",IF(OR(AND(D30="인사과",C30="의회사무처"),AND(D30="총무과",C30="의회사무처")),"의회운영위원회",IF(OR(C30="직접입력",D30="북부지원"),"직접입력",IF(OR(AND(D30="인사과",C30="자치행정국"),AND(D30="총무과",C30="자치행정국")),"안전행정위원회",VLOOKUP(D30,구분표!$A$3:$C$258,2,)))))) | C30: =IF(D30="","",IF(OR(D30="교육지원과"),"소방재난본부",VLOOKUP(D30,구분표!$A$3:$C$258,3,))) | F30: =IF($E30="","",IF($E30="2추","직접입력","-")) | G30: =IF($E30="","",IF($E30="2추","직접입력","-")) | I30: =IF(H30="","",VLOOKUP($H30,구분표!$O$3:$P$168,2,FALSE)) | K30: =IF($E30="","",IF(OR($E30="2추", $E30="1추", $E30="본예산"), "금액입력", "-")) | L30: =IF($E30="", "", IF($E30="2추","금액입력", "-")) | M30: =IF($E30="","",SUM(K30:L30)) | O30: =SUM(M30:N30) -> 0 | Q30: =SUM(M30,P30) -> 0 | R30: =IF(AND((O30=0),(Q30>0)),"O",IF(AND((N30<0),(O30-Q30<0)),"O","X")) -> X | X30: =IF($H30="","",IF(OR($H30="511-01", $H30="511-02", $H30="511-03", $H30="311-02", $H30="311-04", $H30="321-01"),"국비","도비")) | Z30: =IF($X30="", "", IF($X30="국비",$N30, 0)) | AA30: =IF($X30="", "", IF($X30="도비",$N30, 0)) | AC30: =IF($X30="", "", IF($X30="국비",$P30, 0)) | AD30: =IF($X30="", "", IF($X30="도비",$P30, 0)) | AF30: =IF(AI30="","",IF($X30="도비","-",CONCATENATE(AI30,"-",COUNTIF($AI$7:AI30,AI30)))) | AG30: =IF($H30="","",IF($H30="511-01","국비",IF($H30="511-02","균특",IF($H30="511-03","기금",IF($H30="311-02","특교",IF($H30="311-04","소교",IF($H30="321-01","소멸","도비"))))))) | AI30: {=IF(OR(D30="", B30="직접입력", C30="직접입력"),"",INDEX(구분표!$I$2:$I$336, MATCH(1,(구분표!$G$2:$G$336='4. 특입'!B30)*(구분표!$E$2:$E$336='4. 특입'!C30)*(구분표!$F$2:$F$336='4. 특입'!D30),0)))} | AK30: =IF($AF30="","",IF($AF30="-",0, SUMIFS('4. 특출'!$AB$6:$AB$2000,'4. 특출'!$AJ$6:$AJ$2000,$AF30))) | AL30: =IF($AF30="","",IF($AF30="-", 0, COUNTIF('4. 특출'!$AJ$6:$AJ$2000,$AF30))) | AM30: =IF($AF30="", "", IF($Z30=$AK30,"OK","@@")) | AO30: =IF($AF30="","",IF($AF30="-",0, SUMIFS('4. 특출'!$AF$6:$AF$2000,'4. 특출'!$AJ$6:$AJ$2000,$AF30))) | AP30: =IF($AF30="","",IF($AF30="-", 0, COUNTIF('4. 특출'!$AJ$6:$AJ$2000,$AF30))) | AQ30: =IF($AF30="", "", IF($AC30=$AO30,"OK","@@"))
