Workbook

Sheet 1. 표지 (상임위)
U2: (단위 : 천원) | Z2: (단위 : 천원)
A4: 2026년도 경기도 제2회 추가경정예산안 및 기금운용계획 변경안
A5: 상임위 계수조정 결과
A15: 경기도의회 예산결산특별위원회

Sheet 1. 총괄표(상임위)
A2: 총괄 현황
A4: □ 위원회별 조정현황
I5: (단위 : 천원)
A6: 구 분 | B6: 집행부제출(안) | C6: 세입예산(안) | F6: 세출예산(안) | I6: 수정예산(안) | K6: ※ 예산안 증감현황
C7: 감 액 | D7: 증 액 | E7: 증감액 | F7: 감 액 | G7: 증 액 | H7: 증감액 | K7: 구 분 | L7: 세입 | M7: 세출 | N7: 예비비 | O7: 비고
A8: 계 | B8: =SUM(B9:B19) -> 42242001864 | C8: =SUM(C9:C19) -> -224869 | D8: =SUM(D9:D19) -> 2577539 | E8: =SUM(E9:E19) -> 2352670 | F8: =SUM(F9:F19) -> -507629 | G8: =SUM(G9:G19) -> 12974853 | H8: =SUM(H9:H19) -> 12467224 | I8: =SUM(I9:I19) -> 42254469088 | K8: 계 | L8: =SUM(L9:L10) -> 2352670 | M8: =SUM(M9:M10) -> 12467224 | N8: =L8-M8 -> -10114554
A9: 의회운영위원회 | B9: =B33 -> 129702008 | C9: =SUMIFS('3. 일입'!$N$7:$N$1820,'3. 일입'!$B$7:$B$1820, $A9, '3. 일입'!$N$7:$N$1820, "<"&0)+SUMIFS('4. 특입'!$N$6:$N$1994,'4. 특입'!$B$6:$B$1994,$A9, '4. 특입'!$N$6:$N$1994, "<"&0)+SUMIFS('4-1. 공특입'!$O$6:$O$1992,'4-1. 공특입'!$B$6:$B$1992,$A9, '4-1. 공특입'!$O$6:$O$1992, "<"&0) -> 0 | D9: =SUMIFS('3. 일입'!$N$7:$N$1820,'3. 일입'!$B$7:$B$1820, $A9, '3. 일입'!$N$7:$N$1820, ">"&0)+SUMIFS('4. 특입'!$N$6:$N$1994,'4. 특입'!$B$6:$B$1994,$A9, '4. 특입'!$N$6:$N$1994, ">"&0)+SUMIFS('4-1. 공특입'!$O$6:$O$1992,'4-1. 공특입'!$B$6:$B$1992,$A9, '4-1. 공특입'!$O$6:$O$1992, ">"&0) -> 0 | E9: =C9+D9 -> 0 | F9: =SUMIFS('3. 일출(자체)'!$P$6:$P$1834,'3. 일출(자체)'!$B$6:$B$1834, $A9, '3. 일출(자체)'!$P$6:$P$1834, "<"&0)+SUMIFS('3. 일출(의존)'!$P$6:P$1826,'3. 일출(의존)'!$B$6:$B$1826, $A9, '3. 일출(의존)'!$P$6:$P$1826, "<"&0)+SUMIFS('4. 특출'!$P$5:$P$1991,'4. 특출'!$B$5:$B$1991, $A9, '4. 특출'!$P$5:$P$1991, "<"&0)+SUMIFS('4-1. 공특출'!$P$5:$P$1992,'4-1. 공특출'!$B$5:$B$1992, $A9, '4-1. 공특출'!$P$5:$P$1992, "<"&0) -> 0 | G9: =SUMIFS('3. 일출(자체)'!$P$6:$P$1834,'3. 일출(자체)'!$B$6:$B$1834, $A9, '3. 일출(자체)'!$P$6:$P$1834, ">"&0)+SUMIFS('3. 일출(의존)'!$P$6:$P$1826,'3. 일출(의존)'!$B$6:$B$1826, $A9, '3. 일출(의존)'!$P$6:$P$1826, ">"&0)+SUMIFS('4. 특출'!$P$5:$P$1991,'4. 특출'!$B$5:$B$1991, $A9, '4. 특출'!$P$5:$P$1991, ">"&0)+SUMIFS('4-1. 공특출'!$P$5:$P$1992,'4-1. 공특출'!$B$5:$B$1992, $A9, '4-1. 공특출'!$P$5:$P$1992, ">"&0) -> 0 | H9: =G9+F9 -> 0 | I9: =B9+F9+G9 -> 129702008 | K9: 일반회계 | L9: =SUM(C26:D26) -> 2352670 | M9: =SUM(F26:G26) -> 12467224 | N9: =L9-M9 -> -10114554 | O9: 예비비 증감 - 감액, + 증액에 입력
A10: 기획재정위원회 | B10: =B34 -> 5932148107 | C10: =SUMIFS('3. 일입'!$N$7:$N$1820,'3. 일입'!$B$7:$B$1820, $A10, '3. 일입'!$N$7:$N$1820, "<"&0)+SUMIFS('4. 특입'!$N$6:$N$1994,'4. 특입'!$B$6:$B$1994,$A10, '4. 특입'!$N$6:$N$1994, "<"&0)+SUMIFS('4-1. 공특입'!$O$6:$O$1992,'4-1. 공특입'!$B$6:$B$1992,$A10, '4-1. 공특입'!$O$6:$O$1992, "<"&0) -> 0 | D10: =SUMIFS('3. 일입'!$N$7:$N$1820,'3. 일입'!$B$7:$B$1820, $A10, '3. 일입'!$N$7:$N$1820, ">"&0)+SUMIFS('4. 특입'!$N$6:$N$1994,'4. 특입'!$B$6:$B$1994,$A10, '4. 특입'!$N$6:$N$1994, ">"&0)+SUMIFS('4-1. 공특입'!$O$6:$O$1992,'4-1. 공특입'!$B$6:$B$1992,$A10, '4-1. 공특입'!$O$6:$O$1992, ">"&0) -> 0 | E10: =C10+D10 -> 0 | F10: =SUMIFS('3. 일출(자체)'!$P$6:$P$1834,'3. 일출(자체)'!$B$6:$B$1834, $A10, '3. 일출(자체)'!$P$6:$P$1834, "<"&0)+SUMIFS('3. 일출(의존)'!$P$6:P$1826,'3. 일출(의존)'!$B$6:$B$1826, $A10, '3. 일출(의존)'!$P$6:$P$1826, "<"&0)+SUMIFS('4. 특출'!$P$5:$P$1991,'4. 특출'!$B$5:$B$1991, $A10, '4. 특출'!$P$5:$P$1991, "<"&0)+SUMIFS('4-1. 공특출'!$P$5:$P$1992,'4-1. 공특출'!$B$5:$B$1992, $A10, '4-1. 공특출'!$P$5:$P$1992, "<"&0) -> 0 | G10: =SUMIFS('3. 일출(자체)'!$P$6:$P$1834,'3. 일출(자체)'!$B$6:$B$1834, $A10, '3. 일출(자체)'!$P$6:$P$1834, ">"&0)+SUMIFS('3. 일출(의존)'!$P$6:$P$1826,'3. 일출(의존)'!$B$6:$B$1826, $A10, '3. 일출(의존)'!$P$6:$P$1826, ">"&0)+SUMIFS('4. 특출'!$P$5:$P$1991,'4. 특출'!$B$5:$B$1991, $A10, '4. 특출'!$P$5:$P$1991, ">"&0)+SUMIFS('4-1. 공특출'!$P$5:$P$1992,'4-1. 공특출'!$B$5:$B$1992, $A10, '4-1. 공특출'!$P$5:$P$1992, ">"&0) -> 0 | H10: =G10+F10 -> 0 | I10: =B10+F10+G10 -> 5932148107 | K10: 특별회계 | L10: =SUM(C27:D27) -> 0 | M10: =SUM(F27:G27) -> 0 | N10: =L10-M10 -> 0
A11: 경제노동위원회 | B11: =B35 -> 474872242 | C11: =SUMIFS('3. 일입'!$N$7:$N$1820,'3. 일입'!$B$7:$B$1820, $A11, '3. 일입'!$N$7:$N$1820, "<"&0)+SUMIFS('4. 특입'!$N$6:$N$1994,'4. 특입'!$B$6:$B$1994,$A11, '4. 특입'!$N$6:$N$1994, "<"&0)+SUMIFS('4-1. 공특입'!$O$6:$O$1992,'4-1. 공특입'!$B$6:$B$1992,$A11, '4-1. 공특입'!$O$6:$O$1992, "<"&0) -> 0 | D11: =SUMIFS('3. 일입'!$N$7:$N$1820,'3. 일입'!$B$7:$B$1820, $A11, '3. 일입'!$N$7:$N$1820, ">"&0)+SUMIFS('4. 특입'!$N$6:$N$1994,'4. 특입'!$B$6:$B$1994,$A11, '4. 특입'!$N$6:$N$1994, ">"&0)+SUMIFS('4-1. 공특입'!$O$6:$O$1992,'4-1. 공특입'!$B$6:$B$1992,$A11, '4-1. 공특입'!$O$6:$O$1992, ">"&0) -> 0 | E11: =C11+D11 -> 0 | F11: =SUMIFS('3. 일출(자체)'!$P$6:$P$1834,'3. 일출(자체)'!$B$6:$B$1834, $A11, '3. 일출(자체)'!$P$6:$P$1834, "<"&0)+SUMIFS('3. 일출(의존)'!$P$6:P$1826,'3. 일출(의존)'!$B$6:$B$1826, $A11, '3. 일출(의존)'!$P$6:$P$1826, "<"&0)+SUMIFS('4. 특출'!$P$5:$P$1991,'4. 특출'!$B$5:$B$1991, $A11, '4. 특출'!$P$5:$P$1991, "<"&0)+SUMIFS('4-1. 공특출'!$P$5:$P$1992,'4-1. 공특출'!$B$5:$B$1992, $A11, '4-1. 공특출'!$P$5:$P$1992, "<"&0) -> 0 | G11: =SUMIFS('3. 일출(자체)'!$P$6:$P$1834,'3. 일출(자체)'!$B$6:$B$1834, $A11, '3. 일출(자체)'!$P$6:$P$1834, ">"&0)+SUMIFS('3. 일출(의존)'!$P$6:$P$1826,'3. 일출(의존)'!$B$6:$B$1826, $A11, '3. 일출(의존)'!$P$6:$P$1826, ">"&0)+SUMIFS('4. 특출'!$P$5:$P$1991,'4. 특출'!$B$5:$B$1991, $A11, '4. 특출'!$P$5:$P$1991, ">"&0)+SUMIFS('4-1. 공특출'!$P$5:$P$1992,'4-1. 공특출'!$B$5:$B$1992, $A11, '4-1. 공특출'!$P$5:$P$1992, ">"&0) -> 0 | H11: =G11+F11 -> 0 | I11: =B11+F11+G11 -> 474872242 | O11: (예비비 계수 조정용)
A12: 안전행정위원회 | B12: =B36 -> 4269846310 | C12: =SUMIFS('3. 일입'!$N$7:$N$1820,'3. 일입'!$B$7:$B$1820, $A12, '3. 일입'!$N$7:$N$1820, "<"&0)+SUMIFS('4. 특입'!$N$6:$N$1994,'4. 특입'!$B$6:$B$1994,$A12, '4. 특입'!$N$6:$N$1994, "<"&0)+SUMIFS('4-1. 공특입'!$O$6:$O$1992,'4-1. 공특입'!$B$6:$B$1992,$A12, '4-1. 공특입'!$O$6:$O$1992, "<"&0) -> 0 | D12: =SUMIFS('3. 일입'!$N$7:$N$1820,'3. 일입'!$B$7:$B$1820, $A12, '3. 일입'!$N$7:$N$1820, ">"&0)+SUMIFS('4. 특입'!$N$6:$N$1994,'4. 특입'!$B$6:$B$1994,$A12, '4. 특입'!$N$6:$N$1994, ">"&0)+SUMIFS('4-1. 공특입'!$O$6:$O$1992,'4-1. 공특입'!$B$6:$B$1992,$A12, '4-1. 공특입'!$O$6:$O$1992, ">"&0) -> 0 | E12: =C12+D12 -> 0 | F12: =SUMIFS('3. 일출(자체)'!$P$6:$P$1834,'3. 일출(자체)'!$B$6:$B$1834, $A12, '3. 일출(자체)'!$P$6:$P$1834, "<"&0)+SUMIFS('3. 일출(의존)'!$P$6:P$1826,'3. 일출(의존)'!$B$6:$B$1826, $A12, '3. 일출(의존)'!$P$6:$P$1826, "<"&0)+SUMIFS('4. 특출'!$P$5:$P$1991,'4. 특출'!$B$5:$B$1991, $A12, '4. 특출'!$P$5:$P$1991, "<"&0)+SUMIFS('4-1. 공특출'!$P$5:$P$1992,'4-1. 공특출'!$B$5:$B$1992, $A12, '4-1. 공특출'!$P$5:$P$1992, "<"&0) -> 0 | G12: =SUMIFS('3. 일출(자체)'!$P$6:$P$1834,'3. 일출(자체)'!$B$6:$B$1834, $A12, '3. 일출(자체)'!$P$6:$P$1834, ">"&0)+SUMIFS('3. 일출(의존)'!$P$6:$P$1826,'3. 일출(의존)'!$B$6:$B$1826, $A12, '3. 일출(의존)'!$P$6:$P$1826, ">"&0)+SUMIFS('4. 특출'!$P$5:$P$1991,'4. 특출'!$B$5:$B$1991, $A12, '4. 특출'!$P$5:$P$1991, ">"&0)+SUMIFS('4-1. 공특출'!$P$5:$P$1992,'4-1. 공특출'!$B$5:$B$1992, $A12, '4-1. 공특출'!$P$5:$P$1992, ">"&0) -> 0 | H12: =G12+F12 -> 0 | I12: =B12+F12+G12 -> 4269846310
A13: 문화체육관광위원회 | B13: =B37 -> 554871567 | C13: =SUMIFS('3. 일입'!$N$7:$N$1820,'3. 일입'!$B$7:$B$1820, $A13, '3. 일입'!$N$7:$N$1820, "<"&0)+SUMIFS('4. 특입'!$N$6:$N$1994,'4. 특입'!$B$6:$B$1994,$A13, '4. 특입'!$N$6:$N$1994, "<"&0)+SUMIFS('4-1. 공특입'!$O$6:$O$1992,'4-1. 공특입'!$B$6:$B$1992,$A13, '4-1. 공특입'!$O$6:$O$1992, "<"&0) -> 0 | D13: =SUMIFS('3. 일입'!$N$7:$N$1820,'3. 일입'!$B$7:$B$1820, $A13, '3. 일입'!$N$7:$N$1820, ">"&0)+SUMIFS('4. 특입'!$N$6:$N$1994,'4. 특입'!$B$6:$B$1994,$A13, '4. 특입'!$N$6:$N$1994, ">"&0)+SUMIFS('4-1. 공특입'!$O$6:$O$1992,'4-1. 공특입'!$B$6:$B$1992,$A13, '4-1. 공특입'!$O$6:$O$1992, ">"&0) -> 0 | E13: =C13+D13 -> 0 | F13: =SUMIFS('3. 일출(자체)'!$P$6:$P$1834,'3. 일출(자체)'!$B$6:$B$1834, $A13, '3. 일출(자체)'!$P$6:$P$1834, "<"&0)+SUMIFS('3. 일출(의존)'!$P$6:P$1826,'3. 일출(의존)'!$B$6:$B$1826, $A13, '3. 일출(의존)'!$P$6:$P$1826, "<"&0)+SUMIFS('4. 특출'!$P$5:$P$1991,'4. 특출'!$B$5:$B$1991, $A13, '4. 특출'!$P$5:$P$1991, "<"&0)+SUMIFS('4-1. 공특출'!$P$5:$P$1992,'4-1. 공특출'!$B$5:$B$1992, $A13, '4-1. 공특출'!$P$5:$P$1992, "<"&0) -> 0 | G13: =SUMIFS('3. 일출(자체)'!$P$6:$P$1834,'3. 일출(자체)'!$B$6:$B$1834, $A13, '3. 일출(자체)'!$P$6:$P$1834, ">"&0)+SUMIFS('3. 일출(의존)'!$P$6:$P$1826,'3. 일출(의존)'!$B$6:$B$1826, $A13, '3. 일출(의존)'!$P$6:$P$1826, ">"&0)+SUMIFS('4. 특출'!$P$5:$P$1991,'4. 특출'!$B$5:$B$1991, $A13, '4. 특출'!$P$5:$P$1991, ">"&0)+SUMIFS('4-1. 공특출'!$P$5:$P$1992,'4-1. 공특출'!$B$5:$B$1992, $A13, '4-1. 공특출'!$P$5:$P$1992, ">"&0) -> 0 | H13: =G13+F13 -> 0 | I13: =B13+F13+G13 -> 554871567
A14: 농정해양위원회 | B14: =B38 -> 1195877261 | C14: =SUMIFS('3. 일입'!$N$7:$N$1820,'3. 일입'!$B$7:$B$1820, $A14, '3. 일입'!$N$7:$N$1820, "<"&0)+SUMIFS('4. 특입'!$N$6:$N$1994,'4. 특입'!$B$6:$B$1994,$A14, '4. 특입'!$N$6:$N$1994, "<"&0)+SUMIFS('4-1. 공특입'!$O$6:$O$1992,'4-1. 공특입'!$B$6:$B$1992,$A14, '4-1. 공특입'!$O$6:$O$1992, "<"&0) -> -224869 | D14: =SUMIFS('3. 일입'!$N$7:$N$1820,'3. 일입'!$B$7:$B$1820, $A14, '3. 일입'!$N$7:$N$1820, ">"&0)+SUMIFS('4. 특입'!$N$6:$N$1994,'4. 특입'!$B$6:$B$1994,$A14, '4. 특입'!$N$6:$N$1994, ">"&0)+SUMIFS('4-1. 공특입'!$O$6:$O$1992,'4-1. 공특입'!$B$6:$B$1992,$A14, '4-1. 공특입'!$O$6:$O$1992, ">"&0) -> 2577539 | E14: =C14+D14 -> 2352670 | F14: =SUMIFS('3. 일출(자체)'!$P$6:$P$1834,'3. 일출(자체)'!$B$6:$B$1834, $A14, '3. 일출(자체)'!$P$6:$P$1834, "<"&0)+SUMIFS('3. 일출(의존)'!$P$6:P$1826,'3. 일출(의존)'!$B$6:$B$1826, $A14, '3. 일출(의존)'!$P$6:$P$1826, "<"&0)+SUMIFS('4. 특출'!$P$5:$P$1991,'4. 특출'!$B$5:$B$1991, $A14, '4. 특출'!$P$5:$P$1991, "<"&0)+SUMIFS('4-1. 공특출'!$P$5:$P$1992,'4-1. 공특출'!$B$5:$B$1992, $A14, '4-1. 공특출'!$P$5:$P$1992, "<"&0) -> -507629 | G14: =SUMIFS('3. 일출(자체)'!$P$6:$P$1834,'3. 일출(자체)'!$B$6:$B$1834, $A14, '3. 일출(자체)'!$P$6:$P$1834, ">"&0)+SUMIFS('3. 일출(의존)'!$P$6:$P$1826,'3. 일출(의존)'!$B$6:$B$1826, $A14, '3. 일출(의존)'!$P$6:$P$1826, ">"&0)+SUMIFS('4. 특출'!$P$5:$P$1991,'4. 특출'!$B$5:$B$1991, $A14, '4. 특출'!$P$5:$P$1991, ">"&0)+SUMIFS('4-1. 공특출'!$P$5:$P$1992,'4-1. 공특출'!$B$5:$B$1992, $A14, '4-1. 공특출'!$P$5:$P$1992, ">"&0) -> 12974853 | H14: =G14+F14 -> 12467224 | I14: =B14+F14+G14 -> 1208344485
A15: 보건복지위원회 | B15: =B39 -> 14042559485 | C15: =SUMIFS('3. 일입'!$N$7:$N$1820,'3. 일입'!$B$7:$B$1820, $A15, '3. 일입'!$N$7:$N$1820, "<"&0)+SUMIFS('4. 특입'!$N$6:$N$1994,'4. 특입'!$B$6:$B$1994,$A15, '4. 특입'!$N$6:$N$1994, "<"&0)+SUMIFS('4-1. 공특입'!$O$6:$O$1992,'4-1. 공특입'!$B$6:$B$1992,$A15, '4-1. 공특입'!$O$6:$O$1992, "<"&0) -> 0 | D15: =SUMIFS('3. 일입'!$N$7:$N$1820,'3. 일입'!$B$7:$B$1820, $A15, '3. 일입'!$N$7:$N$1820, ">"&0)+SUMIFS('4. 특입'!$N$6:$N$1994,'4. 특입'!$B$6:$B$1994,$A15, '4. 특입'!$N$6:$N$1994, ">"&0)+SUMIFS('4-1. 공특입'!$O$6:$O$1992,'4-1. 공특입'!$B$6:$B$1992,$A15, '4-1. 공특입'!$O$6:$O$1992, ">"&0) -> 0 | E15: =C15+D15 -> 0 | F15: =SUMIFS('3. 일출(자체)'!$P$6:$P$1834,'3. 일출(자체)'!$B$6:$B$1834, $A15, '3. 일출(자체)'!$P$6:$P$1834, "<"&0)+SUMIFS('3. 일출(의존)'!$P$6:P$1826,'3. 일출(의존)'!$B$6:$B$1826, $A15, '3. 일출(의존)'!$P$6:$P$1826, "<"&0)+SUMIFS('4. 특출'!$P$5:$P$1991,'4. 특출'!$B$5:$B$1991, $A15, '4. 특출'!$P$5:$P$1991, "<"&0)+SUMIFS('4-1. 공특출'!$P$5:$P$1992,'4-1. 공특출'!$B$5:$B$1992, $A15, '4-1. 공특출'!$P$5:$P$1992, "<"&0) -> 0 | G15: =SUMIFS('3. 일출(자체)'!$P$6:$P$1834,'3. 일출(자체)'!$B$6:$B$1834, $A15, '3. 일출(자체)'!$P$6:$P$1834, ">"&0)+SUMIFS('3. 일출(의존)'!$P$6:$P$1826,'3. 일출(의존)'!$B$6:$B$1826, $A15, '3. 일출(의존)'!$P$6:$P$1826, ">"&0)+SUMIFS('4. 특출'!$P$5:$P$1991,'4. 특출'!$B$5:$B$1991, $A15, '4. 특출'!$P$5:$P$1991, ">"&0)+SUMIFS('4-1. 공특출'!$P$5:$P$1992,'4-1. 공특출'!$B$5:$B$1992, $A15, '4-1. 공특출'!$P$5:$P$1992, ">"&0) -> 0 | H15: =G15+F15 -> 0 | I15: =B15+F15+G15 -> 14042559485
A16: 건설교통위원회 | B16: =B40 -> 3029412433 | C16: =SUMIFS('3. 일입'!$N$7:$N$1820,'3. 일입'!$B$7:$B$1820, $A16, '3. 일입'!$N$7:$N$1820, "<"&0)+SUMIFS('4. 특입'!$N$6:$N$1994,'4. 특입'!$B$6:$B$1994,$A16, '4. 특입'!$N$6:$N$1994, "<"&0)+SUMIFS('4-1. 공특입'!$O$6:$O$1992,'4-1. 공특입'!$B$6:$B$1992,$A16, '4-1. 공특입'!$O$6:$O$1992, "<"&0) -> 0 | D16: =SUMIFS('3. 일입'!$N$7:$N$1820,'3. 일입'!$B$7:$B$1820, $A16, '3. 일입'!$N$7:$N$1820, ">"&0)+SUMIFS('4. 특입'!$N$6:$N$1994,'4. 특입'!$B$6:$B$1994,$A16, '4. 특입'!$N$6:$N$1994, ">"&0)+SUMIFS('4-1. 공특입'!$O$6:$O$1992,'4-1. 공특입'!$B$6:$B$1992,$A16, '4-1. 공특입'!$O$6:$O$1992, ">"&0) -> 0 | E16: =C16+D16 -> 0 | F16: =SUMIFS('3. 일출(자체)'!$P$6:$P$1834,'3. 일출(자체)'!$B$6:$B$1834, $A16, '3. 일출(자체)'!$P$6:$P$1834, "<"&0)+SUMIFS('3. 일출(의존)'!$P$6:P$1826,'3. 일출(의존)'!$B$6:$B$1826, $A16, '3. 일출(의존)'!$P$6:$P$1826, "<"&0)+SUMIFS('4. 특출'!$P$5:$P$1991,'4. 특출'!$B$5:$B$1991, $A16, '4. 특출'!$P$5:$P$1991, "<"&0)+SUMIFS('4-1. 공특출'!$P$5:$P$1992,'4-1. 공특출'!$B$5:$B$1992, $A16, '4-1. 공특출'!$P$5:$P$1992, "<"&0) -> 0 | G16: =SUMIFS('3. 일출(자체)'!$P$6:$P$1834,'3. 일출(자체)'!$B$6:$B$1834, $A16, '3. 일출(자체)'!$P$6:$P$1834, ">"&0)+SUMIFS('3. 일출(의존)'!$P$6:$P$1826,'3. 일출(의존)'!$B$6:$B$1826, $A16, '3. 일출(의존)'!$P$6:$P$1826, ">"&0)+SUMIFS('4. 특출'!$P$5:$P$1991,'4. 특출'!$B$5:$B$1991, $A16, '4. 특출'!$P$5:$P$1991, ">"&0)+SUMIFS('4-1. 공특출'!$P$5:$P$1992,'4-1. 공특출'!$B$5:$B$1992, $A16, '4-1. 공특출'!$P$5:$P$1992, ">"&0) -> 0 | H16: =G16+F16 -> 0 | I16: =B16+F16+G16 -> 3029412433
A17: 도시환경위원회 | B17: =B41 -> 2367511141 | C17: =SUMIFS('3. 일입'!$N$7:$N$1820,'3. 일입'!$B$7:$B$1820, $A17, '3. 일입'!$N$7:$N$1820, "<"&0)+SUMIFS('4. 특입'!$N$6:$N$1994,'4. 특입'!$B$6:$B$1994,$A17, '4. 특입'!$N$6:$N$1994, "<"&0)+SUMIFS('4-1. 공특입'!$O$6:$O$1992,'4-1. 공특입'!$B$6:$B$1992,$A17, '4-1. 공특입'!$O$6:$O$1992, "<"&0) -> 0 | D17: =SUMIFS('3. 일입'!$N$7:$N$1820,'3. 일입'!$B$7:$B$1820, $A17, '3. 일입'!$N$7:$N$1820, ">"&0)+SUMIFS('4. 특입'!$N$6:$N$1994,'4. 특입'!$B$6:$B$1994,$A17, '4. 특입'!$N$6:$N$1994, ">"&0)+SUMIFS('4-1. 공특입'!$O$6:$O$1992,'4-1. 공특입'!$B$6:$B$1992,$A17, '4-1. 공특입'!$O$6:$O$1992, ">"&0) -> 0 | E17: =C17+D17 -> 0 | F17: =SUMIFS('3. 일출(자체)'!$P$6:$P$1834,'3. 일출(자체)'!$B$6:$B$1834, $A17, '3. 일출(자체)'!$P$6:$P$1834, "<"&0)+SUMIFS('3. 일출(의존)'!$P$6:P$1826,'3. 일출(의존)'!$B$6:$B$1826, $A17, '3. 일출(의존)'!$P$6:$P$1826, "<"&0)+SUMIFS('4. 특출'!$P$5:$P$1991,'4. 특출'!$B$5:$B$1991, $A17, '4. 특출'!$P$5:$P$1991, "<"&0)+SUMIFS('4-1. 공특출'!$P$5:$P$1992,'4-1. 공특출'!$B$5:$B$1992, $A17, '4-1. 공특출'!$P$5:$P$1992, "<"&0) -> 0 | G17: =SUMIFS('3. 일출(자체)'!$P$6:$P$1834,'3. 일출(자체)'!$B$6:$B$1834, $A17, '3. 일출(자체)'!$P$6:$P$1834, ">"&0)+SUMIFS('3. 일출(의존)'!$P$6:$P$1826,'3. 일출(의존)'!$B$6:$B$1826, $A17, '3. 일출(의존)'!$P$6:$P$1826, ">"&0)+SUMIFS('4. 특출'!$P$5:$P$1991,'4. 특출'!$B$5:$B$1991, $A17, '4. 특출'!$P$5:$P$1991, ">"&0)+SUMIFS('4-1. 공특출'!$P$5:$P$1992,'4-1. 공특출'!$B$5:$B$1992, $A17, '4-1. 공특출'!$P$5:$P$1992, ">"&0) -> 0 | H17: =G17+F17 -> 0 | I17: =B17+F17+G17 -> 2367511141
A18: 미래과학협력위원회 | B18: =B42 -> 890727734 | C18: =SUMIFS('3. 일입'!$N$7:$N$1820,'3. 일입'!$B$7:$B$1820, $A18, '3. 일입'!$N$7:$N$1820, "<"&0)+SUMIFS('4. 특입'!$N$6:$N$1994,'4. 특입'!$B$6:$B$1994,$A18, '4. 특입'!$N$6:$N$1994, "<"&0)+SUMIFS('4-1. 공특입'!$O$6:$O$1992,'4-1. 공특입'!$B$6:$B$1992,$A18, '4-1. 공특입'!$O$6:$O$1992, "<"&0) -> 0 | D18: =SUMIFS('3. 일입'!$N$7:$N$1820,'3. 일입'!$B$7:$B$1820, $A18, '3. 일입'!$N$7:$N$1820, ">"&0)+SUMIFS('4. 특입'!$N$6:$N$1994,'4. 특입'!$B$6:$B$1994,$A18, '4. 특입'!$N$6:$N$1994, ">"&0)+SUMIFS('4-1. 공특입'!$O$6:$O$1992,'4-1. 공특입'!$B$6:$B$1992,$A18, '4-1. 공특입'!$O$6:$O$1992, ">"&0) -> 0 | E18: =C18+D18 -> 0 | F18: =SUMIFS('3. 일출(자체)'!$P$6:$P$1834,'3. 일출(자체)'!$B$6:$B$1834, $A18, '3. 일출(자체)'!$P$6:$P$1834, "<"&0)+SUMIFS('3. 일출(의존)'!$P$6:P$1826,'3. 일출(의존)'!$B$6:$B$1826, $A18, '3. 일출(의존)'!$P$6:$P$1826, "<"&0)+SUMIFS('4. 특출'!$P$5:$P$1991,'4. 특출'!$B$5:$B$1991, $A18, '4. 특출'!$P$5:$P$1991, "<"&0)+SUMIFS('4-1. 공특출'!$P$5:$P$1992,'4-1. 공특출'!$B$5:$B$1992, $A18, '4-1. 공특출'!$P$5:$P$1992, "<"&0) -> 0 | G18: =SUMIFS('3. 일출(자체)'!$P$6:$P$1834,'3. 일출(자체)'!$B$6:$B$1834, $A18, '3. 일출(자체)'!$P$6:$P$1834, ">"&0)+SUMIFS('3. 일출(의존)'!$P$6:$P$1826,'3. 일출(의존)'!$B$6:$B$1826, $A18, '3. 일출(의존)'!$P$6:$P$1826, ">"&0)+SUMIFS('4. 특출'!$P$5:$P$1991,'4. 특출'!$B$5:$B$1991, $A18, '4. 특출'!$P$5:$P$1991, ">"&0)+SUMIFS('4-1. 공특출'!$P$5:$P$1992,'4-1. 공특출'!$B$5:$B$1992, $A18, '4-1. 공특출'!$P$5:$P$1992, ">"&0) -> 0 | H18: =G18+F18 -> 0 | I18: =B18+F18+G18 -> 890727734
A19: 여성가족평생교육위원회 | B19: =B43 -> 9354473576 | C19: =SUMIFS('3. 일입'!$N$7:$N$1820,'3. 일입'!$B$7:$B$1820, $A19, '3. 일입'!$N$7:$N$1820, "<"&0)+SUMIFS('4. 특입'!$N$6:$N$1994,'4. 특입'!$B$6:$B$1994,$A19, '4. 특입'!$N$6:$N$1994, "<"&0)+SUMIFS('4-1. 공특입'!$O$6:$O$1992,'4-1. 공특입'!$B$6:$B$1992,$A19, '4-1. 공특입'!$O$6:$O$1992, "<"&0) -> 0 | D19: =SUMIFS('3. 일입'!$N$7:$N$1820,'3. 일입'!$B$7:$B$1820, $A19, '3. 일입'!$N$7:$N$1820, ">"&0)+SUMIFS('4. 특입'!$N$6:$N$1994,'4. 특입'!$B$6:$B$1994,$A19, '4. 특입'!$N$6:$N$1994, ">"&0)+SUMIFS('4-1. 공특입'!$O$6:$O$1992,'4-1. 공특입'!$B$6:$B$1992,$A19, '4-1. 공특입'!$O$6:$O$1992, ">"&0) -> 0 | E19: =C19+D19 -> 0 | F19: =SUMIFS('3. 일출(자체)'!$P$6:$P$1834,'3. 일출(자체)'!$B$6:$B$1834, $A19, '3. 일출(자체)'!$P$6:$P$1834, "<"&0)+SUMIFS('3. 일출(의존)'!$P$6:P$1826,'3. 일출(의존)'!$B$6:$B$1826, $A19, '3. 일출(의존)'!$P$6:$P$1826, "<"&0)+SUMIFS('4. 특출'!$P$5:$P$1991,'4. 특출'!$B$5:$B$1991, $A19, '4. 특출'!$P$5:$P$1991, "<"&0)+SUMIFS('4-1. 공특출'!$P$5:$P$1992,'4-1. 공특출'!$B$5:$B$1992, $A19, '4-1. 공특출'!$P$5:$P$1992, "<"&0) -> 0 | G19: =SUMIFS('3. 일출(자체)'!$P$6:$P$1834,'3. 일출(자체)'!$B$6:$B$1834, $A19, '3. 일출(자체)'!$P$6:$P$1834, ">"&0)+SUMIFS('3. 일출(의존)'!$P$6:$P$1826,'3. 일출(의존)'!$B$6:$B$1826, $A19, '3. 일출(의존)'!$P$6:$P$1826, ">"&0)+SUMIFS('4. 특출'!$P$5:$P$1991,'4. 특출'!$B$5:$B$1991, $A19, '4. 특출'!$P$5:$P$1991, ">"&0)+SUMIFS('4-1. 공특출'!$P$5:$P$1992,'4-1. 공특출'!$B$5:$B$1992, $A19, '4-1. 공특출'!$P$5:$P$1992, ">"&0) -> 0 | H19: =G19+F19 -> 0 | I19: =B19+F19+G19 -> 9354473576
A21: □ 회계별 조정현황
I22: (단위 : 천원)
A23: 구 분 | B23: 집행부제출(안) | C23: 세입예산(안) | F23: 세출예산(안) | I23: 수정예산(안)
C24: 감 액 | D24: 증 액 | E24: 증감액 | F24: 감 액 | G24: 증 액 | H24: 증감액
A25: 계 | B25: =SUM(B26:B27) -> 42242001864 | C25: =SUM(C26:C27) -> -224869 | D25: =SUM(D26:D27) -> 2577539 | E25: =SUM(E26:E27) -> 2352670 | F25: =SUM(F26:F27) -> -507629 | G25: =SUM(G26:G27) -> 12974853 | H25: =SUM(H26:H27) -> 12467224 | I25: =SUM(I26:I27) -> 42254469088
A26: 일반회계 | B26: =D32 -> 37646557814 | C26: =SUMIFS('3. 일입'!$N$7:$N$1820,'3. 일입'!$D$7:$D$1820, "<>"&"", '3. 일입'!$N$7:$N$1820, "<"&0) -> -224869 | D26: =SUMIFS('3. 일입'!$N$7:$N$1820,'3. 일입'!$D$7:$D$1820, "<>"&"", '3. 일입'!$N$7:$N$1820, ">"&0) -> 2577539 | E26: =D26+C26 -> 2352670 | F26: =SUMIFS('3. 일출(자체)'!$P$6:$P$1834,'3. 일출(자체)'!$D$6:$D$1834, "<>"&"", '3. 일출(자체)'!$P$6:$P$1834, "<"&0)+SUMIFS('3. 일출(의존)'!$P$6:$P$1826,'3. 일출(의존)'!$D$6:$D$1826, "<>"&"", '3. 일출(의존)'!$P$6:$P$1826, "<"&0) -> -507629 | G26: =SUMIFS('3. 일출(자체)'!$P$6:$P$1834, '3. 일출(자체)'!$D$6:$D$1834, "<>"&"", '3. 일출(자체)'!$P$6:$P$1834, ">"&0)+ SUMIFS('3. 일출(의존)'!$P$6:$P$1826,'3. 일출(의존)'!$D$6:$D$1826, "<>"&"", '3. 일출(의존)'!$P$6:$P$1826, ">"&0) -> 12974853 | H26: =G26+F26 -> 12467224 | I26: =B26+F26+G26 -> 37659025038
A27: 특별회계 | B27: =E32+F32 -> 4595444050 | C27: =SUMIFS('4. 특입'!$N$6:$N$1000,'4. 특입'!$D$6:$D$1000,"<>"&"", '4. 특입'!$N$6:$N$1000, "<"&0)+SUMIFS('4-1. 공특입'!$O$6:$O$998,'4-1. 공특입'!$D$6:$D$998,"<>"&"", '4-1. 공특입'!$O$6:$O$998, "<"&0) -> 0 | D27: =SUMIFS('4. 특입'!$N$6:$N$1000,'4. 특입'!$D$6:$D$1000,"<>"&"", '4. 특입'!$N$6:$N$1000, ">"&0)+SUMIFS('4-1. 공특입'!$O$6:$O$998,'4-1. 공특입'!$D$6:$D$998,"<>"&"", '4-1. 공특입'!$O$6:$O$998, ">"&0) -> 0 | E27: =D27+C27 -> 0 | F27: =SUMIFS('4. 특출'!$P$5:$P$995,'4. 특출'!$D$5:$D$995, "<>"&"", '4. 특출'!$P$5:$P$995, "<"&0)+SUMIFS('4-1. 공특출'!$P$5:$P$996,'4-1. 공특출'!$D$5:$D$996, "<>"&"", '4-1. 공특출'!$P$5:$P$996, "<"&0) -> 0 | G27: =SUMIFS('4. 특출'!$P$5:$P$995,'4. 특출'!$D$5:$D$995, "<>"&"", '4. 특출'!$P$5:$P$995, ">"&0)+SUMIFS('4-1. 공특출'!$P$5:$P$996,'4-1. 공특출'!$D$5:$D$996, "<>"&"", '4-1. 공특출'!$P$5:$P$996, ">"&0) -> 0 | H27: =G27+F27 -> 0 | I27: =B27+F27+G27 -> 4595444050
A30: ※ 위원회별, 회계별 집행부제출안(예산담당관에서 작성)
A31: 위원회명 | B31: 합계 | C31: 일반+기타 | D31: 일반회계 | E31: 기타특별회계 | F31: 공기업특별회계
A32: 계 | B32: =SUM(B33:B43) -> 42242001864 | C32: =SUM(C33:C43) -> 42187089624 | D32: =SUM(D33:D43) -> 37646557814 | E32: =SUM(E33:E43) -> 4540531810 | F32: =SUM(F33:F43) -> 54912240
A33: 의회운영위원회 | B33: =SUM(D33:F33) -> 129702008 | C33: =D33+E33 -> 129702008 | D33: 129702008 | E33: 0 | F33: 0
A34: 기획재정위원회 | B34: =SUM(D34:F34) -> 5932148107 | C34: =D34+E34 -> 5932148107 | D34: 5892712561 | E34: 39435546 | F34: 0
A35: 경제노동위원회 | B35: =SUM(D35:F35) -> 474872242 | C35: =D35+E35 -> 474872242 | D35: 474872242 | E35: 0 | F35: 0
A36: 안전행정위원회 | B36: =SUM(D36:F36) -> 4269846310 | C36: =D36+E36 -> 4269846310 | D36: 2662231278 | E36: 1607615032 | F36: 0
A37: 문화체육관광위원회 | B37: =SUM(D37:F37) -> 554871567 | C37: =D37+E37 -> 554871567 | D37: 554871567 | E37: 0 | F37: 0
A38: 농정해양위원회 | B38: =SUM(D38:F38) -> 1195877261 | C38: =D38+E38 -> 1195877261 | D38: 1195877261 | E38: 0 | F38: 0
A39: 보건복지위원회 | B39: =SUM(D39:F39) -> 14042559485 | C39: =D39+E39 -> 14042559485 | D39: 11595408031 | E39: 2447151454 | F39: 0
A40: 건설교통위원회 | B40: =SUM(D40:F40) -> 3029412433 | C40: =D40+E40 -> 3029412433 | D40: 2869836504 | E40: 159575929 | F40: 0
A41: 도시환경위원회 | B41: =SUM(D41:F41) -> 2367511141 | C41: =D41+E41 -> 2345220241 | D41: 2170913256 | E41: 174306985 | F41: 22290900
A42: 미래과학협력위원회 | B42: =SUM(D42:F42) -> 890727734 | C42: =D42+E42 -> 858106394 | D42: 858106394 | E42: 0 | F42: 32621340
A43: 여성가족평생교육위원회 | B43: =SUM(D43:F43) -> 9354473576 | C43: =D43+E43 -> 9354473576 | D43: 9242026712 | E43: 112446864 | F43: 0
A45: 예비비 | B45: 42834815

Sheet 3. 일입
A1: 일반회계 세입 예산 조정(안) | AA1: 자동입력 | AF1: 자동입력 | AK1: "3. 일출(의존)" 에 입력 | AN1: "3. 일출(자체)" "3. 일출(의존)" 에 입력 | AS1: 검증 | AZ1: 검증
AA2: 국비 세입=국비 세출 | AC2: 도비 세입=도비 세출 | AF2: 국비 세입=국비 세출 | AH2: 도비 세입=도비 세출
Y3: (단위 : 천원) | AA3: =IF(AA7='3. 일출(의존)'!AB6,"OK","@@") -> OK | AC3: =IF(SUM(AB7:AD7) = SUM('3. 일출(자체)'!AC6:AE6) + SUM('3. 일출(의존)'!AC6:AE6),"OK","@@") -> @@ | AF3: =IF(AF7='3. 일출(의존)'!AH6,"OK","@@") -> OK | AH3: =IF(SUM(AG7:AI7) = SUM('3. 일출(자체)'!AH6:AJ6) + SUM('3. 일출(의존)'!AI6:AK6),"OK","@@") -> OK
A4: 번호 | B4: 위원회명 | C4: 실국명 | D4: 부서명 | E4: 편성 구분 | F4: 예산안 /예산서 페이지 | G4: 실국별 사업 설명서 페이지 | H4: 목코드 | I4: 목명 | J4: 부기명 | K4: 기정액 (본예산+1추) (가) | L4: 증감액 (2회추경안) (나) | M4: 예산안 (다=가+나) | N4: 상임위 조정액 (라) | O4: 상임위 조정 예산안 (마=다+라) | P4: 예결특위 조정액 (바) | Q4: 예결특위 조정 예산안 (사=다+바) | R4: 상임위 동의 대상 | S4: 참고자료 (관련공문) | T4: 상임위 부대의견 | U4: 예비 심사시 집행부 동의여부 | V4: 예결특위 부대의견 | W4: 부대의견 | X4: 실국의견 청취대상 | Y4: 국도비 등 여부 | AA4: 상임위 재원별 증감액 | AF4: 예결위 재원별 증감액 | AK4: 국비 | AN4: 도비 | AQ4: 실국 부서 코드 | AS4: 상임위 세입/세출 검증 | AZ4: 예결위 세입/세출 검증
AA5: 국비 | AB5: 도비 | AF5: 국비 | AG5: 도비 | AK5: 세입 번호 | AL5: 재원 | AN5: 세입 번호 | AO5: 재원 | AS5: 국비 | AV5: 도비 | AZ5: 국비 | BC5: 도비
AB6: 자체 | AC6: 지방채 | AD6: 지역개발기금 | AG6: 자체 | AH6: 지방채 | AI6: 지역개발기금 | AS6: 증감액 | AT6: 건수 | AU6: 세입세출 금액검증 | AV6: 증감액 | AW6: 건수 | AX6: 세입세출 금액검증 | AZ6: 증감액 | BA6: 건수 | BB6: 세입세출 금액검증 | BC6: 증감액 | BD6: 건수 | BE6: 세입세출 금액검증
B7: 합 계 | J7: =SUBTOTAL(3,J$8:J$1820)&"건" -> 7건 | K7: =SUBTOTAL(9,K$8:K$1820) -> 32934788 | L7: =SUBTOTAL(9,L$8:L$1820) -> 2072287 | M7: =SUBTOTAL(9,M$8:M$1820) -> 35007075 | N7: =SUBTOTAL(9,N$8:N$1820) -> 2352670 | O7: =SUBTOTAL(9,O$8:O$1820) -> 37359745 | P7: =SUBTOTAL(9,P$8:P$1820) -> 0 | Q7: =SUBTOTAL(9,Q$8:Q$1820) -> 35007075 | AA7: =SUBTOTAL(9,AA$8:AA$1820) -> 2348420 | AB7: =SUBTOTAL(9,AB$8:AB$1820) -> 0 | AC7: =SUBTOTAL(9,AC$8:AC$1820) -> 4250 | AD7: =SUBTOTAL(9,AD$8:AD$1820) -> 0 | AF7: =SUBTOTAL(9,AF$8:AF$1820) -> 0 | AG7: =SUBTOTAL(9,AG$8:AG$1820) -> 0 | AH7: =SUBTOTAL(9,AH$8:AH$1820) -> 0 | AI7: =SUBTOTAL(9,AI$8:AI$1820) -> 0 | AS7: =SUBTOTAL(9,AS$8:AS$1820) -> 2348420 | AT7: =SUBTOTAL(9,AT$8:AT$1820) -> 8 | AU7: =IF(COUNTIF(AU$8:AU$1820,"@@")>0,"@@","OK") -> OK | AV7: =SUBTOTAL(9,AV$8:AV$1820) -> 4250 | AW7: =SUBTOTAL(9,AW$8:AW$1820) -> 2 | AX7: =IF(COUNTIF(AX$8:AX$1820,"@@")>0,"@@","OK") -> OK | AZ7: =SUBTOTAL(9,AZ$8:AZ$1820) -> 0 | BA7: =SUBTOTAL(9,BA$8:BA$1820) -> 8 | BB7: =IF(COUNTIF(BB$8:BB$1820,"@@")>0,"@@","OK") -> OK | BC7: =SUBTOTAL(9,BC$8:BC$1820) -> 0 | BD7: =SUBTOTAL(9,BD$8:BD$1820) -> 2 | BE7: =IF(COUNTIF(BE$8:BE$1820,"@@")>0,"@@","OK") -> OK
B8: (농정해양위원회) | J8: =SUBTOTAL(3,J9:J15)&"건" -> 7건 | K8: =SUBTOTAL(9,K9:K15) -> 32934788 | L8: =SUBTOTAL(9,L9:L15) -> 2072287 | M8: =SUBTOTAL(9,M9:M15) -> 35007075 | N8: =SUBTOTAL(9,N9:N15) -> 2352670 | O8: =SUBTOTAL(9,O9:O15) -> 37359745 | P8: =SUBTOTAL(9,P9:P15) -> 0 | Q8: =SUBTOTAL(9,Q9:Q15) -> 35007075 | AA8: =SUBTOTAL(9,AA9:AA15) -> 2348420 | AB8: =SUBTOTAL(9,AB9:AB15) -> 0 | AC8: =SUBTOTAL(9,AC9:AC15) -> 4250 | AD8: =SUBTOTAL(9,AD9:AD15) -> 0 | AF8: =SUBTOTAL(9,AF9:AF15) -> 0 | AG8: =SUBTOTAL(9,AG9:AG15) -> 0 | AH8: =SUBTOTAL(9,AH9:AH15) -> 0 | AI8: =SUBTOTAL(9,AI9:AI15) -> 0 | AS8: =SUBTOTAL(9,AS9:AS15) -> 2348420 | AT8: =SUBTOTAL(9,AT9:AT15) -> 8 | AU8: =IF(COUNTIF(AU9:AU15,"@@")>0,"@@","OK") -> OK | AV8: =SUBTOTAL(9,AV9:AV15) -> 4250 | AW8: =SUBTOTAL(9,AW9:AW15) -> 2 | AX8: =IF(COUNTIF(AX9:AX15,"@@")>0,"@@","OK") -> OK | AZ8: =SUBTOTAL(9,AZ9:AZ15) -> 0 | BA8: =SUBTOTAL(9,BA9:BA15) -> 8 | BB8: =IF(COUNTIF(BB9:BB15,"@@")>0,"@@","OK") -> OK | BC8: =SUBTOTAL(9,BC9:BC15) -> 0 | BD8: =SUBTOTAL(9,BD9:BD15) -> 2 | BE8: =IF(COUNTIF(BE9:BE15,"@@")>0,"@@","OK") -> OK
A9: =IF(D9="","",COUNTA($C$8:C9)-COUNTBLANK($C$8:C9)+6) -> 6 | B9: =IF(D9="","",IF(OR(C9="직접입력",D9="북부지원"),"직접입력",IF(OR(AND(D9="인사과",C9="의회사무처"),AND(D9="총무과",C9="의회사무처")),"의회운영위원회",IF(OR(C9="직접입력",D9="북부지원"),"직접입력",IF(OR(AND(D9="인사과",C9="자치행정국"),AND(D9="총무과",C9="자치행정국")),"안전행정위원회",VLOOKUP(D9,구분표!$A$3:$C$258,2,)))))) -> 농정해양위원회 | C9: =IF(D9="","",IF(OR(D9="교육지원과",D9="총무과",D9="인사과"),"직접입력",VLOOKUP(D9,구분표!$A$3:$C$258,3,))) -> 농수산생명과학국 | D9: 해양수산과 | E9: 신규 | F9: - | G9: - | H9: 511-01 | I9: =IF(H9="","",VLOOKUP($H9,구분표!$O$3:$P$168,2,FALSE)) -> 국고보조금 | J9: 친환경수산물 인증 직불제 | K9: =IF($E9="","",IF(OR($E9="2추", $E9="1추", $E9="본예산"), "금액입력", "-")) -> - | L9: =IF($E9="", "", IF($E9="2추","금액입력", "-")) -> - | M9: =IF($E9="","",SUM(K9:L9)) -> 0 | N9: 41339 | O9: =SUM(M9:N9) -> 41339 | Q9: =SUM(M9,P9) -> 0 | R9: =IF(AND((O9=0),(Q9>0)),"O",IF(AND((N9<0),(O9-Q9<0)),"O","X")) -> X | S9: 해양수산부 양식산업과-4527(2026.9.4.) | Y9: =IF($H9="","",IF(OR($H9="511-01", $H9="511-02", $H9="511-03", $H9="311-02", $H9="311-04", $H9="321-01"),"국비","도비")) -> 국비 | AA9: =IF($Y9="국비", IF($N9<>"", $N9, 0), "") -> 41339 | AB9: =IF($Y9="도비", IF($AO9="자체", IF($N9<>"",$N9,0),""), "") | AC9: =IF($Y9="도비",IF($AO9="지방채",IF($N9<>"",$N9,0),""), "") | AD9: =IF($Y9="도비",IF($AO9="지역개발기금",IF($N9<>"",$N9,0),""),"") | AF9: =IF($Y9="국비", IF($P9<>"", $P9, 0), "") -> 0 | AG9: =IF($Y9="도비", IF($AO9="자체", IF($P9<>"",$P9,0),""), "") | AH9: =IF($Y9="도비",IF($AO9="지방채",IF($P9<>"",$P9,0),""), "") | AI9: =IF($Y9="도비",IF($AO9="지역개발기금",IF($P9<>"",$P9,0),""),"") | AK9: =IF($AQ9="","", IF(OR($AL9="", $AL9="도비"), "", CONCATENATE($AQ9,"-",COUNTIF($AQ$8:$AQ9,$AQ9)))) -> 14004-1 | AL9: =IF($H9="","",IF($H9="511-01","국비",IF($H9="511-02","균특",IF($H9="511-03","기금",IF($H9="311-02","특교",IF($H9="311-04","소교",IF($H9="321-01","소멸","도비"))))))) -> 국비 | AN9: =IF($AQ9="","", IF(OR($AO9="", $AO9="국비", $AO9="자체"), "", CONCATENATE($AQ9,"-", $AO9,"-",COUNTIF($AQ$8:$AQ9, $AQ9)))) | AO9: =IF($Y9="","", IF($Y9="국비", "국비", IF($H9="612-01","지방채",IF($H9="722-02","지역개발기금","자체")))) -> 국비 | AQ9: {=IF(OR($D9="", $C9="직접입력", $B9="직접입력"),"",INDEX(구분표!$I$2:$I$337, MATCH(1,(구분표!$G$2:$G$337='3. 일입'!$B9)*(구분표!$E$2:$E$337='3. 일입'!$C9)*(구분표!$F$2:$F$337='3. 일입'!$D9),0)))} -> 14004 | AS9: =IF($AK9="","", SUMIFS('3. 일출(의존)'!$AB$7:$AB$1826,'3. 일출(의존)'!$AN$7:$AN$1826,$AK9)) -> 41339 | AT9: =IF($AK9="","", COUNTIF('3. 일출(의존)'!$AN$7:$AN$1826,$AK9)) -> 1 | AU9: =IF($AK9="", "", IF($AA9=$AS9,"OK","@@")) -> OK | AV9: =IF($AN9="","",IF($AO9="지역개발기금",SUMIFS('3. 일출(의존)'!$AE$7:$AE$1837,'3. 일출(의존)'!$AS$7:$AS$1837,$AN9)+SUMIFS('3. 일출(자체)'!$AE$7:$AE$1845,'3. 일출(자체)'!$AM$7:$AM$1845,$AN9),IF($AO9="지방채",SUMIFS('3. 일출(의존)'!$AD$7:$AD$1837,'3. 일출(의존)'!$AS$7:$AS$1837,$AN9)+SUMIFS('3. 일출(자체)'!$AD$7:$AD$1845,'3. 일출(자체)'!$AM$7:$AM$1845,$AN9),0))) | AW9: =IF($AN9="","", COUNTIF('3. 일출(의존)'!$AS$7:$AS$1837,$AN9)+COUNTIF('3. 일출(자체)'!$AM$7:$AM$1845,$AN9)) | AX9: =IF($AN9="","", IF($AO9="자체","", IF($AO9="지방채", IF($AC9=$AV9, "OK", "@@"), IF($AO9="지역개발기금", IF($AD9=$AV9,"OK","@@"), "@@")))) | AZ9: =IF($AK9="","", SUMIFS('3. 일출(의존)'!$AH$7:$AH$1826,'3. 일출(의존)'!$AN$7:$AN$1826,$AK9)) -> 0 | BA9: =IF($AK9="","", COUNTIF('3. 일출(의존)'!$AN$7:$AN$1826,$AK9)) -> 1 | BB9: =IF($AK9="", "", IF($AF9=$AZ9,"OK","@@")) -> OK | BC9: =IF($AN9="","",IF($AO9="지역개발기금",SUMIFS('3. 일출(의존)'!$AK$7:$AK$1837,'3. 일출(의존)'!$AS$7:$AS$1837,$AN9)+SUMIFS('3. 일출(자체)'!$AJ$7:$AJ$1845,'3. 일출(자체)'!$AM$7:$AM$1845,$AN9),IF($AO9="지방채",SUMIFS('3. 일출(의존)'!$AJ$7:$AJ$1837,'3. 일출(의존)'!$AS$7:$AS$1837,$AN9)+SUMIFS('3. 일출(자체)'!$AI$7:$AI$1845,'3. 일출(자체)'!$AM$7:$AM$1845,$AN9),0))) | BD9: =IF($AN9="","",COUNTIF('3. 일출(의존)'!$AS$7:$AS$1837,$AN9)+COUNTIF('3. 일출(자체)'!$AM$7:$AM$1845,$AN9)) | BE9: =IF($AN9="","", IF($AO9="자체", "", IF($AO9="지방채", IF($AH9=$BC9, "OK", "@@"), IF($AO9="지역개발기금", IF($AI9=$BC9,"OK","@@"), "@@"))))
A10: =IF(D10="","",COUNTA($C$8:C10)-COUNTBLANK($C$8:C10)+6) -> 7 | B10: =IF(D10="","",IF(OR(C10="직접입력",D10="북부지원"),"직접입력",IF(OR(AND(D10="인사과",C10="의회사무처"),AND(D10="총무과",C10="의회사무처")),"의회운영위원회",IF(OR(C10="직접입력",D10="북부지원"),"직접입력",IF(OR(AND(D10="인사과",C10="자치행정국"),AND(D10="총무과",C10="자치행정국")),"안전행정위원회",VLOOKUP(D10,구분표!$A$3:$C$258,2,)))))) -> 농정해양위원회 | C10: =IF(D10="","",IF(OR(D10="교육지원과",D10="총무과",D10="인사과"),"직접입력",VLOOKUP(D10,구분표!$A$3:$C$258,3,))) -> 축산동물복지국 | D10: 축산정책과 | E10: 2추 | F10: 645 | G10: 15 | H10: 511-03 | I10: =IF(H10="","",VLOOKUP($H10,구분표!$O$3:$P$168,2,FALSE)) -> 기금 | J10: 가축분뇨 퇴액비 살포비 지원 | K10: 334000 | L10: 39000 | M10: =IF($E10="","",SUM(K10:L10)) -> 373000 | N10: 40000 | O10: =SUM(M10:N10) -> 413000 | Q10: =SUM(M10,P10) -> 373000 | R10: =IF(AND((O10=0),(Q10>0)),"O",IF(AND((N10<0),(O10-Q10<0)),"O","X")) -> X | S10: 농림축산식품부 축산환경자원화-4694(2026.9.4.)호 | Y10: =IF($H10="","",IF(OR($H10="511-01", $H10="511-02", $H10="511-03", $H10="311-02", $H10="311-04", $H10="321-01"),"국비","도비")) -> 국비 | AA10: =IF($Y10="국비", IF($N10<>"", $N10, 0), "") -> 40000 | AB10: =IF($Y10="도비", IF($AO10="자체", IF($N10<>"",$N10,0),""), "") | AC10: =IF($Y10="도비",IF($AO10="지방채",IF($N10<>"",$N10,0),""), "") | AD10: =IF($Y10="도비",IF($AO10="지역개발기금",IF($N10<>"",$N10,0),""),"") | AF10: =IF($Y10="국비", IF($P10<>"", $P10, 0), "") -> 0 | AG10: =IF($Y10="도비", IF($AO10="자체", IF($P10<>"",$P10,0),""), "") | AH10: =IF($Y10="도비",IF($AO10="지방채",IF($P10<>"",$P10,0),""), "") | AI10: =IF($Y10="도비",IF($AO10="지역개발기금",IF($P10<>"",$P10,0),""),"") | AK10: =IF($AQ10="","", IF(OR($AL10="", $AL10="도비"), "", CONCATENATE($AQ10,"-",COUNTIF($AQ$8:$AQ10,$AQ10)))) -> 20701-1 | AL10: =IF($H10="","",IF($H10="511-01","국비",IF($H10="511-02","균특",IF($H10="511-03","기금",IF($H10="311-02","특교",IF($H10="311-04","소교",IF($H10="321-01","소멸","도비"))))))) -> 기금 | AN10: =IF($AQ10="","", IF(OR($AO10="", $AO10="국비", $AO10="자체"), "", CONCATENATE($AQ10,"-", $AO10,"-",COUNTIF($AQ$8:$AQ10, $AQ10)))) | AO10: =IF($Y10="","", IF($Y10="국비", "국비", IF($H10="612-01","지방채",IF($H10="722-02","지역개발기금","자체")))) -> 국비 | AQ10: {=IF(OR($D10="", $C10="직접입력", $B10="직접입력"),"",INDEX(구분표!$I$2:$I$337, MATCH(1,(구분표!$G$2:$G$337='3. 일입'!$B10)*(구분표!$E$2:$E$337='3. 일입'!$C10)*(구분표!$F$2:$F$337='3. 일입'!$D10),0)))} -> 20701 | AS10: =IF($AK10="","", SUMIFS('3. 일출(의존)'!$AB$7:$AB$1826,'3. 일출(의존)'!$AN$7:$AN$1826,$AK10)) -> 40000 | AT10: =IF($AK10="","", COUNTIF('3. 일출(의존)'!$AN$7:$AN$1826,$AK10)) -> 1 | AU10: =IF($AK10="", "", IF($AA10=$AS10,"OK","@@")) -> OK | AV10: =IF($AN10="","",IF($AO10="지역개발기금",SUMIFS('3. 일출(의존)'!$AE$7:$AE$1837,'3. 일출(의존)'!$AS$7:$AS$1837,$AN10)+SUMIFS('3. 일출(자체)'!$AE$7:$AE$1845,'3. 일출(자체)'!$AM$7:$AM$1845,$AN10),IF($AO10="지방채",SUMIFS('3. 일출(의존)'!$AD$7:$AD$1837,'3. 일출(의존)'!$AS$7:$AS$1837,$AN10)+SUMIFS('3. 일출(자체)'!$AD$7:$AD$1845,'3. 일출(자체)'!$AM$7:$AM$1845,$AN10),0))) | AW10: =IF($AN10="","", COUNTIF('3. 일출(의존)'!$AS$7:$AS$1837,$AN10)+COUNTIF('3. 일출(자체)'!$AM$7:$AM$1845,$AN10)) | AX10: =IF($AN10="","", IF($AO10="자체","", IF($AO10="지방채", IF($AC10=$AV10, "OK", "@@"), IF($AO10="지역개발기금", IF($AD10=$AV10,"OK","@@"), "@@")))) | AZ10: =IF($AK10="","", SUMIFS('3. 일출(의존)'!$AH$7:$AH$1826,'3. 일출(의존)'!$AN$7:$AN$1826,$AK10)) -> 0 | BA10: =IF($AK10="","", COUNTIF('3. 일출(의존)'!$AN$7:$AN$1826,$AK10)) -> 1 | BB10: =IF($AK10="", "", IF($AF10=$AZ10,"OK","@@")) -> OK | BC10: =IF($AN10="","",IF($AO10="지역개발기금",SUMIFS('3. 일출(의존)'!$AK$7:$AK$1837,'3. 일출(의존)'!$AS$7:$AS$1837,$AN10)+SUMIFS('3. 일출(자체)'!$AJ$7:$AJ$1845,'3. 일출(자체)'!$AM$7:$AM$1845,$AN10),IF($AO10="지방채",SUMIFS('3. 일출(의존)'!$AJ$7:$AJ$1837,'3. 일출(의존)'!$AS$7:$AS$1837,$AN10)+SUMIFS('3. 일출(자체)'!$AI$7:$AI$1845,'3. 일출(자체)'!$AM$7:$AM$1845,$AN10),0))) | BD10: =IF($AN10="","",COUNTIF('3. 일출(의존)'!$AS$7:$AS$1837,$AN10)+COUNTIF('3. 일출(자체)'!$AM$7:$AM$1845,$AN10)) | BE10: =IF($AN10="","", IF($AO10="자체", "", IF($AO10="지방채", IF($AH10=$BC10, "OK", "@@"), IF($AO10="지역개발기금", IF($AI10=$BC10,"OK","@@"), "@@"))))
A11: =IF(D11="","",COUNTA($C$8:C11)-COUNTBLANK($C$8:C11)+6) -> 8 | B11: =IF(D11="","",IF(OR(C11="직접입력",D11="북부지원"),"직접입력",IF(OR(AND(D11="인사과",C11="의회사무처"),AND(D11="총무과",C11="의회사무처")),"의회운영위원회",IF(OR(C11="직접입력",D11="북부지원"),"직접입력",IF(OR(AND(D11="인사과",C11="자치행정국"),AND(D11="총무과",C11="자치행정국")),"안전행정위원회",VLOOKUP(D11,구분표!$A$3:$C$258,2,)))))) -> 농정해양위원회 | C11: =IF(D11="","",IF(OR(D11="교육지원과",D11="총무과",D11="인사과"),"직접입력",VLOOKUP(D11,구분표!$A$3:$C$258,3,))) -> 축산동물복지국 | D11: 축산정책과 | E11: 2추 | F11: 645 | G11: 16 | H11: 612-01 | I11: =IF(H11="","",VLOOKUP($H11,구분표!$O$3:$P$168,2,FALSE)) -> 모집공채 | J11: 축산정책과 지방채 차입금 | K11: 0 | L11: 96000 | M11: =IF($E11="","",SUM(K11:L11)) -> 96000 | N11: 20000 | O11: =SUM(M11:N11) -> 116000 | Q11: =SUM(M11,P11) -> 96000 | R11: =IF(AND((O11=0),(Q11>0)),"O",IF(AND((N11<0),(O11-Q11<0)),"O","X")) -> X | S11: 농림축산식품부 축산환경자원화-4694(2026.9.4.)호 | Y11: =IF($H11="","",IF(OR($H11="511-01", $H11="511-02", $H11="511-03", $H11="311-02", $H11="311-04", $H11="321-01"),"국비","도비")) -> 도비 | AA11: =IF($Y11="국비", IF($N11<>"", $N11, 0), "") | AB11: =IF($Y11="도비", IF($AO11="자체", IF($N11<>"",$N11,0),""), "") | AC11: =IF($Y11="도비",IF($AO11="지방채",IF($N11<>"",$N11,0),""), "") -> 20000 | AD11: =IF($Y11="도비",IF($AO11="지역개발기금",IF($N11<>"",$N11,0),""),"") | AF11: =IF($Y11="국비", IF($P11<>"", $P11, 0), "") | AG11: =IF($Y11="도비", IF($AO11="자체", IF($P11<>"",$P11,0),""), "") | AH11: =IF($Y11="도비",IF($AO11="지방채",IF($P11<>"",$P11,0),""), "") -> 0 | AI11: =IF($Y11="도비",IF($AO11="지역개발기금",IF($P11<>"",$P11,0),""),"") | AK11: =IF($AQ11="","", IF(OR($AL11="", $AL11="도비"), "", CONCATENATE($AQ11,"-",COUNTIF($AQ$8:$AQ11,$AQ11)))) | AL11: =IF($H11="","",IF($H11="511-01","국비",IF($H11="511-02","균특",IF($H11="511-03","기금",IF($H11="311-02","특교",IF($H11="311-04","소교",IF($H11="321-01","소멸","도비"))))))) -> 도비 | AN11: =IF($AQ11="","", IF(OR($AO11="", $AO11="국비", $AO11="자체"), "", CONCATENATE($AQ11,"-", $AO11,"-",COUNTIF($AQ$8:$AQ11, $AQ11)))) -> 20701-지방채-2 | AO11: =IF($Y11="","", IF($Y11="국비", "국비", IF($H11="612-01","지방채",IF($H11="722-02","지역개발기금","자체")))) -> 지방채 | AQ11: {=IF(OR($D11="", $C11="직접입력", $B11="직접입력"),"",INDEX(구분표!$I$2:$I$337, MATCH(1,(구분표!$G$2:$G$337='3. 일입'!$B11)*(구분표!$E$2:$E$337='3. 일입'!$C11)*(구분표!$F$2:$F$337='3. 일입'!$D11),0)))} -> 20701 | AS11: =IF($AK11="","", SUMIFS('3. 일출(의존)'!$AB$7:$AB$1826,'3. 일출(의존)'!$AN$7:$AN$1826,$AK11)) | AT11: =IF($AK11="","", COUNTIF('3. 일출(의존)'!$AN$7:$AN$1826,$AK11)) | AU11: =IF($AK11="", "", IF($AA11=$AS11,"OK","@@")) | AV11: =IF($AN11="","",IF($AO11="지역개발기금",SUMIFS('3. 일출(의존)'!$AE$7:$AE$1837,'3. 일출(의존)'!$AS$7:$AS$1837,$AN11)+SUMIFS('3. 일출(자체)'!$AE$7:$AE$1845,'3. 일출(자체)'!$AM$7:$AM$1845,$AN11),IF($AO11="지방채",SUMIFS('3. 일출(의존)'!$AD$7:$AD$1837,'3. 일출(의존)'!$AS$7:$AS$1837,$AN11)+SUMIFS('3. 일출(자체)'!$AD$7:$AD$1845,'3. 일출(자체)'!$AM$7:$AM$1845,$AN11),0))) -> 20000 | AW11: =IF($AN11="","", COUNTIF('3. 일출(의존)'!$AS$7:$AS$1837,$AN11)+COUNTIF('3. 일출(자체)'!$AM$7:$AM$1845,$AN11)) -> 1 | AX11: =IF($AN11="","", IF($AO11="자체","", IF($AO11="지방채", IF($AC11=$AV11, "OK", "@@"), IF($AO11="지역개발기금", IF($AD11=$AV11,"OK","@@"), "@@")))) -> OK | AZ11: =IF($AK11="","", SUMIFS('3. 일출(의존)'!$AH$7:$AH$1826,'3. 일출(의존)'!$AN$7:$AN$1826,$AK11)) | BA11: =IF($AK11="","", COUNTIF('3. 일출(의존)'!$AN$7:$AN$1826,$AK11)) | BB11: =IF($AK11="", "", IF($AF11=$AZ11,"OK","@@")) | BC11: =IF($AN11="","",IF($AO11="지역개발기금",SUMIFS('3. 일출(의존)'!$AK$7:$AK$1837,'3. 일출(의존)'!$AS$7:$AS$1837,$AN11)+SUMIFS('3. 일출(자체)'!$AJ$7:$AJ$1845,'3. 일출(자체)'!$AM$7:$AM$1845,$AN11),IF($AO11="지방채",SUMIFS('3. 일출(의존)'!$AJ$7:$AJ$1837,'3. 일출(의존)'!$AS$7:$AS$1837,$AN11)+SUMIFS('3. 일출(자체)'!$AI$7:$AI$1845,'3. 일출(자체)'!$AM$7:$AM$1845,$AN11),0))) -> 0 | BD11: =IF($AN11="","",COUNTIF('3. 일출(의존)'!$AS$7:$AS$1837,$AN11)+COUNTIF('3. 일출(자체)'!$AM$7:$AM$1845,$AN11)) -> 1 | BE11: =IF($AN11="","", IF($AO11="자체", "", IF($AO11="지방채", IF($AH11=$BC11, "OK", "@@"), IF($AO11="지역개발기금", IF($AI11=$BC11,"OK","@@"), "@@")))) -> OK
A12: =IF(D12="","",COUNTA($C$8:C12)-COUNTBLANK($C$8:C12)+6) -> 9 | B12: =IF(D12="","",IF(OR(C12="직접입력",D12="북부지원"),"직접입력",IF(OR(AND(D12="인사과",C12="의회사무처"),AND(D12="총무과",C12="의회사무처")),"의회운영위원회",IF(OR(C12="직접입력",D12="북부지원"),"직접입력",IF(OR(AND(D12="인사과",C12="자치행정국"),AND(D12="총무과",C12="자치행정국")),"안전행정위원회",VLOOKUP(D12,구분표!$A$3:$C$258,2,)))))) -> 농정해양위원회 | C12: =IF(D12="","",IF(OR(D12="교육지원과",D12="총무과",D12="인사과"),"직접입력",VLOOKUP(D12,구분표!$A$3:$C$258,3,))) -> 축산동물복지국 | D12: 동물방역위생과 | E12: 2추 | F12: 647 | G12: 25 | H12: 511-01 | I12: =IF(H12="","",VLOOKUP($H12,구분표!$O$3:$P$168,2,FALSE)) -> 국고보조금 | J12: 구제역 예방접종 지원 | K12: 5554496 | L12: 1664900 | M12: =IF($E12="","",SUM(K12:L12)) -> 7219396 | N12: -160030 | O12: =SUM(M12:N12) -> 7059366 | Q12: =SUM(M12,P12) -> 7219396 | R12: =IF(AND((O12=0),(Q12>0)),"O",IF(AND((N12<0),(O12-Q12<0)),"O","X")) -> O | S12: 2026년 가축백신지원(구제역 예방약 등 지원) 변경통보(변경내시) 정정 알림[농림축산식품부 구제역방역과-5836(2026. 8. 18)] | Y12: =IF($H12="","",IF(OR($H12="511-01", $H12="511-02", $H12="511-03", $H12="311-02", $H12="311-04", $H12="321-01"),"국비","도비")) -> 국비 | AA12: =IF($Y12="국비", IF($N12<>"", $N12, 0), "") -> -160030 | AB12: =IF($Y12="도비", IF($AO12="자체", IF($N12<>"",$N12,0),""), "") | AC12: =IF($Y12="도비",IF($AO12="지방채",IF($N12<>"",$N12,0),""), "") | AD12: =IF($Y12="도비",IF($AO12="지역개발기금",IF($N12<>"",$N12,0),""),"") | AF12: =IF($Y12="국비", IF($P12<>"", $P12, 0), "") -> 0 | AG12: =IF($Y12="도비", IF($AO12="자체", IF($P12<>"",$P12,0),""), "") | AH12: =IF($Y12="도비",IF($AO12="지방채",IF($P12<>"",$P12,0),""), "") | AI12: =IF($Y12="도비",IF($AO12="지역개발기금",IF($P12<>"",$P12,0),""),"") | AK12: =IF($AQ12="","", IF(OR($AL12="", $AL12="도비"), "", CONCATENATE($AQ12,"-",COUNTIF($AQ$8:$AQ12,$AQ12)))) -> 20702-1 | AL12: =IF($H12="","",IF($H12="511-01","국비",IF($H12="511-02","균특",IF($H12="511-03","기금",IF($H12="311-02","특교",IF($H12="311-04","소교",IF($H12="321-01","소멸","도비"))))))) -> 국비 | AN12: =IF($AQ12="","", IF(OR($AO12="", $AO12="국비", $AO12="자체"), "", CONCATENATE($AQ12,"-", $AO12,"-",COUNTIF($AQ$8:$AQ12, $AQ12)))) | AO12: =IF($Y12="","", IF($Y12="국비", "국비", IF($H12="612-01","지방채",IF($H12="722-02","지역개발기금","자체")))) -> 국비 | AQ12: {=IF(OR($D12="", $C12="직접입력", $B12="직접입력"),"",INDEX(구분표!$I$2:$I$337, MATCH(1,(구분표!$G$2:$G$337='3. 일입'!$B12)*(구분표!$E$2:$E$337='3. 일입'!$C12)*(구분표!$F$2:$F$337='3. 일입'!$D12),0)))} -> 20702 | AS12: =IF($AK12="","", SUMIFS('3. 일출(의존)'!$AB$7:$AB$1826,'3. 일출(의존)'!$AN$7:$AN$1826,$AK12)) -> -160030 | AT12: =IF($AK12="","", COUNTIF('3. 일출(의존)'!$AN$7:$AN$1826,$AK12)) -> 3 | AU12: =IF($AK12="", "", IF($AA12=$AS12,"OK","@@")) -> OK | AV12: =IF($AN12="","",IF($AO12="지역개발기금",SUMIFS('3. 일출(의존)'!$AE$7:$AE$1837,'3. 일출(의존)'!$AS$7:$AS$1837,$AN12)+SUMIFS('3. 일출(자체)'!$AE$7:$AE$1845,'3. 일출(자체)'!$AM$7:$AM$1845,$AN12),IF($AO12="지방채",SUMIFS('3. 일출(의존)'!$AD$7:$AD$1837,'3. 일출(의존)'!$AS$7:$AS$1837,$AN12)+SUMIFS('3. 일출(자체)'!$AD$7:$AD$1845,'3. 일출(자체)'!$AM$7:$AM$1845,$AN12),0))) | AW12: =IF($AN12="","", COUNTIF('3. 일출(의존)'!$AS$7:$AS$1837,$AN12)+COUNTIF('3. 일출(자체)'!$AM$7:$AM$1845,$AN12)) | AX12: =IF($AN12="","", IF($AO12="자체","", IF($AO12="지방채", IF($AC12=$AV12, "OK", "@@"), IF($AO12="지역개발기금", IF($AD12=$AV12,"OK","@@"), "@@")))) | AZ12: =IF($AK12="","", SUMIFS('3. 일출(의존)'!$AH$7:$AH$1826,'3. 일출(의존)'!$AN$7:$AN$1826,$AK12)) -> 0 | BA12: =IF($AK12="","", COUNTIF('3. 일출(의존)'!$AN$7:$AN$1826,$AK12)) -> 3 | BB12: =IF($AK12="", "", IF($AF12=$AZ12,"OK","@@")) -> OK | BC12: =IF($AN12="","",IF($AO12="지역개발기금",SUMIFS('3. 일출(의존)'!$AK$7:$AK$1837,'3. 일출(의존)'!$AS$7:$AS$1837,$AN12)+SUMIFS('3. 일출(자체)'!$AJ$7:$AJ$1845,'3. 일출(자체)'!$AM$7:$AM$1845,$AN12),IF($AO12="지방채",SUMIFS('3. 일출(의존)'!$AJ$7:$AJ$1837,'3. 일출(의존)'!$AS$7:$AS$1837,$AN12)+SUMIFS('3. 일출(자체)'!$AI$7:$AI$1845,'3. 일출(자체)'!$AM$7:$AM$1845,$AN12),0))) | BD12: =IF($AN12="","",COUNTIF('3. 일출(의존)'!$AS$7:$AS$1837,$AN12)+COUNTIF('3. 일출(자체)'!$AM$7:$AM$1845,$AN12)) | BE12: =IF($AN12="","", IF($AO12="자체", "", IF($AO12="지방채", IF($AH12=$BC12, "OK", "@@"), IF($AO12="지역개발기금", IF($AI12=$BC12,"OK","@@"), "@@"))))
A13: =IF(D13="","",COUNTA($C$8:C13)-COUNTBLANK($C$8:C13)+6) -> 10 | B13: =IF(D13="","",IF(OR(C13="직접입력",D13="북부지원"),"직접입력",IF(OR(AND(D13="인사과",C13="의회사무처"),AND(D13="총무과",C13="의회사무처")),"의회운영위원회",IF(OR(C13="직접입력",D13="북부지원"),"직접입력",IF(OR(AND(D13="인사과",C13="자치행정국"),AND(D13="총무과",C13="자치행정국")),"안전행정위원회",VLOOKUP(D13,구분표!$A$3:$C$258,2,)))))) -> 농정해양위원회 | C13: =IF(D13="","",IF(OR(D13="교육지원과",D13="총무과",D13="인사과"),"직접입력",VLOOKUP(D13,구분표!$A$3:$C$258,3,))) -> 축산동물복지국 | D13: 동물방역위생과 | E13: 본예산 | F13: =IF($E13="","",IF($E13="2추","직접입력","-")) -> - | G13: =IF($E13="","",IF($E13="2추","직접입력","-")) -> - | H13: 511-01 | I13: =IF(H13="","",VLOOKUP($H13,구분표!$O$3:$P$168,2,FALSE)) -> 국고보조금 | J13: 살처분보상금 | K13: 15000000 | L13: - | M13: =IF($E13="","",SUM(K13:L13)) -> 15000000 | N13: 2476200 | O13: =SUM(M13:N13) -> 17476200 | Q13: =SUM(M13,P13) -> 15000000 | R13: =IF(AND((O13=0),(Q13>0)),"O",IF(AND((N13<0),(O13-Q13<0)),"O","X")) -> X | S13: 2026년 살처분 보상금 국고보조금 교부결정 통지(8차, 수정통보)[농림축산식품부 구제역방역과-5887(2026. 8. 20.) ] | Y13: =IF($H13="","",IF(OR($H13="511-01", $H13="511-02", $H13="511-03", $H13="311-02", $H13="311-04", $H13="321-01"),"국비","도비")) -> 국비 | AA13: =IF($Y13="국비", IF($N13<>"", $N13, 0), "") -> 2476200 | AB13: =IF($Y13="도비", IF($AO13="자체", IF($N13<>"",$N13,0),""), "") | AC13: =IF($Y13="도비",IF($AO13="지방채",IF($N13<>"",$N13,0),""), "") | AD13: =IF($Y13="도비",IF($AO13="지역개발기금",IF($N13<>"",$N13,0),""),"") | AF13: =IF($Y13="국비", IF($P13<>"", $P13, 0), "") -> 0 | AG13: =IF($Y13="도비", IF($AO13="자체", IF($P13<>"",$P13,0),""), "") | AH13: =IF($Y13="도비",IF($AO13="지방채",IF($P13<>"",$P13,0),""), "") | AI13: =IF($Y13="도비",IF($AO13="지역개발기금",IF($P13<>"",$P13,0),""),"") | AK13: =IF($AQ13="","", IF(OR($AL13="", $AL13="도비"), "", CONCATENATE($AQ13,"-",COUNTIF($AQ$8:$AQ13,$AQ13)))) -> 20702-2 | AL13: =IF($H13="","",IF($H13="511-01","국비",IF($H13="511-02","균특",IF($H13="511-03","기금",IF($H13="311-02","특교",IF($H13="311-04","소교",IF($H13="321-01","소멸","도비"))))))) -> 국비 | AN13: =IF($AQ13="","", IF(OR($AO13="", $AO13="국비", $AO13="자체"), "", CONCATENATE($AQ13,"-", $AO13,"-",COUNTIF($AQ$8:$AQ13, $AQ13)))) | AO13: =IF($Y13="","", IF($Y13="국비", "국비", IF($H13="612-01","지방채",IF($H13="722-02","지역개발기금","자체")))) -> 국비 | AQ13: {=IF(OR($D13="", $C13="직접입력", $B13="직접입력"),"",INDEX(구분표!$I$2:$I$337, MATCH(1,(구분표!$G$2:$G$337='3. 일입'!$B13)*(구분표!$E$2:$E$337='3. 일입'!$C13)*(구분표!$F$2:$F$337='3. 일입'!$D13),0)))} -> 20702 | AS13: =IF($AK13="","", SUMIFS('3. 일출(의존)'!$AB$7:$AB$1826,'3. 일출(의존)'!$AN$7:$AN$1826,$AK13)) -> 2476200 | AT13: =IF($AK13="","", COUNTIF('3. 일출(의존)'!$AN$7:$AN$1826,$AK13)) -> 1 | AU13: =IF($AK13="", "", IF($AA13=$AS13,"OK","@@")) -> OK | AV13: =IF($AN13="","",IF($AO13="지역개발기금",SUMIFS('3. 일출(의존)'!$AE$7:$AE$1837,'3. 일출(의존)'!$AS$7:$AS$1837,$AN13)+SUMIFS('3. 일출(자체)'!$AE$7:$AE$1845,'3. 일출(자체)'!$AM$7:$AM$1845,$AN13),IF($AO13="지방채",SUMIFS('3. 일출(의존)'!$AD$7:$AD$1837,'3. 일출(의존)'!$AS$7:$AS$1837,$AN13)+SUMIFS('3. 일출(자체)'!$AD$7:$AD$1845,'3. 일출(자체)'!$AM$7:$AM$1845,$AN13),0))) | AW13: =IF($AN13="","", COUNTIF('3. 일출(의존)'!$AS$7:$AS$1837,$AN13)+COUNTIF('3. 일출(자체)'!$AM$7:$AM$1845,$AN13)) | AX13: =IF($AN13="","", IF($AO13="자체","", IF($AO13="지방채", IF($AC13=$AV13, "OK", "@@"), IF($AO13="지역개발기금", IF($AD13=$AV13,"OK","@@"), "@@")))) | AZ13: =IF($AK13="","", SUMIFS('3. 일출(의존)'!$AH$7:$AH$1826,'3. 일출(의존)'!$AN$7:$AN$1826,$AK13)) -> 0 | BA13: =IF($AK13="","", COUNTIF('3. 일출(의존)'!$AN$7:$AN$1826,$AK13)) -> 1 | BB13: =IF($AK13="", "", IF($AF13=$AZ13,"OK","@@")) -> OK | BC13: =IF($AN13="","",IF($AO13="지역개발기금",SUMIFS('3. 일출(의존)'!$AK$7:$AK$1837,'3. 일출(의존)'!$AS$7:$AS$1837,$AN13)+SUMIFS('3. 일출(자체)'!$AJ$7:$AJ$1845,'3. 일출(자체)'!$AM$7:$AM$1845,$AN13),IF($AO13="지방채",SUMIFS('3. 일출(의존)'!$AJ$7:$AJ$1837,'3. 일출(의존)'!$AS$7:$AS$1837,$AN13)+SUMIFS('3. 일출(자체)'!$AI$7:$AI$1845,'3. 일출(자체)'!$AM$7:$AM$1845,$AN13),0))) | BD13: =IF($AN13="","",COUNTIF('3. 일출(의존)'!$AS$7:$AS$1837,$AN13)+COUNTIF('3. 일출(자체)'!$AM$7:$AM$1845,$AN13)) | BE13: =IF($AN13="","", IF($AO13="자체", "", IF($AO13="지방채", IF($AH13=$BC13, "OK", "@@"), IF($AO13="지역개발기금", IF($AI13=$BC13,"OK","@@"), "@@"))))
A14: =IF(D14="","",COUNTA($C$8:C14)-COUNTBLANK($C$8:C14)+6) -> 11 | B14: =IF(D14="","",IF(OR(C14="직접입력",D14="북부지원"),"직접입력",IF(OR(AND(D14="인사과",C14="의회사무처"),AND(D14="총무과",C14="의회사무처")),"의회운영위원회",IF(OR(C14="직접입력",D14="북부지원"),"직접입력",IF(OR(AND(D14="인사과",C14="자치행정국"),AND(D14="총무과",C14="자치행정국")),"안전행정위원회",VLOOKUP(D14,구분표!$A$3:$C$258,2,)))))) -> 농정해양위원회 | C14: =IF(D14="","",IF(OR(D14="교육지원과",D14="총무과",D14="인사과"),"직접입력",VLOOKUP(D14,구분표!$A$3:$C$258,3,))) -> 축산동물복지국 | D14: 동물방역위생과 | E14: 2추 | F14: 647 | G14: 25 | H14: 511-01 | I14: =IF(H14="","",VLOOKUP($H14,구분표!$O$3:$P$168,2,FALSE)) -> 국고보조금 | J14: 예방약품 등 지원 | K14: 12046292 | L14: 178731 | M14: =IF($E14="","",SUM(K14:L14)) -> 12225023 | N14: -49089 | O14: =SUM(M14:N14) -> 12175934 | Q14: =SUM(M14,P14) -> 12225023 | R14: =IF(AND((O14=0),(Q14>0)),"O",IF(AND((N14<0),(O14-Q14<0)),"O","X")) -> O | S14: 2026년 가축방역대응지원사업(소브루셀라병 등 채혈비) 변경통보(변경내시) 알림[농림축산식품부 구제역방역과-5980(2026. 8. 26.)] | Y14: =IF($H14="","",IF(OR($H14="511-01", $H14="511-02", $H14="511-03", $H14="311-02", $H14="311-04", $H14="321-01"),"국비","도비")) -> 국비 | AA14: =IF($Y14="국비", IF($N14<>"", $N14, 0), "") -> -49089 | AB14: =IF($Y14="도비", IF($AO14="자체", IF($N14<>"",$N14,0),""), "") | AC14: =IF($Y14="도비",IF($AO14="지방채",IF($N14<>"",$N14,0),""), "") | AD14: =IF($Y14="도비",IF($AO14="지역개발기금",IF($N14<>"",$N14,0),""),"") | AF14: =IF($Y14="국비", IF($P14<>"", $P14, 0), "") -> 0 | AG14: =IF($Y14="도비", IF($AO14="자체", IF($P14<>"",$P14,0),""), "") | AH14: =IF($Y14="도비",IF($AO14="지방채",IF($P14<>"",$P14,0),""), "") | AI14: =IF($Y14="도비",IF($AO14="지역개발기금",IF($P14<>"",$P14,0),""),"") | AK14: =IF($AQ14="","", IF(OR($AL14="", $AL14="도비"), "", CONCATENATE($AQ14,"-",COUNTIF($AQ$8:$AQ14,$AQ14)))) -> 20702-3 | AL14: =IF($H14="","",IF($H14="511-01","국비",IF($H14="511-02","균특",IF($H14="511-03","기금",IF($H14="311-02","특교",IF($H14="311-04","소교",IF($H14="321-01","소멸","도비"))))))) -> 국비 | AN14: =IF($AQ14="","", IF(OR($AO14="", $AO14="국비", $AO14="자체"), "", CONCATENATE($AQ14,"-", $AO14,"-",COUNTIF($AQ$8:$AQ14, $AQ14)))) | AO14: =IF($Y14="","", IF($Y14="국비", "국비", IF($H14="612-01","지방채",IF($H14="722-02","지역개발기금","자체")))) -> 국비 | AQ14: {=IF(OR($D14="", $C14="직접입력", $B14="직접입력"),"",INDEX(구분표!$I$2:$I$337, MATCH(1,(구분표!$G$2:$G$337='3. 일입'!$B14)*(구분표!$E$2:$E$337='3. 일입'!$C14)*(구분표!$F$2:$F$337='3. 일입'!$D14),0)))} -> 20702 | AS14: =IF($AK14="","", SUMIFS('3. 일출(의존)'!$AB$7:$AB$1826,'3. 일출(의존)'!$AN$7:$AN$1826,$AK14)) -> -49089 | AT14: =IF($AK14="","", COUNTIF('3. 일출(의존)'!$AN$7:$AN$1826,$AK14)) -> 2 | AU14: =IF($AK14="", "", IF($AA14=$AS14,"OK","@@")) -> OK | AV14: =IF($AN14="","",IF($AO14="지역개발기금",SUMIFS('3. 일출(의존)'!$AE$7:$AE$1837,'3. 일출(의존)'!$AS$7:$AS$1837,$AN14)+SUMIFS('3. 일출(자체)'!$AE$7:$AE$1845,'3. 일출(자체)'!$AM$7:$AM$1845,$AN14),IF($AO14="지방채",SUMIFS('3. 일출(의존)'!$AD$7:$AD$1837,'3. 일출(의존)'!$AS$7:$AS$1837,$AN14)+SUMIFS('3. 일출(자체)'!$AD$7:$AD$1845,'3. 일출(자체)'!$AM$7:$AM$1845,$AN14),0))) | AW14: =IF($AN14="","", COUNTIF('3. 일출(의존)'!$AS$7:$AS$1837,$AN14)+COUNTIF('3. 일출(자체)'!$AM$7:$AM$1845,$AN14)) | AX14: =IF($AN14="","", IF($AO14="자체","", IF($AO14="지방채", IF($AC14=$AV14, "OK", "@@"), IF($AO14="지역개발기금", IF($AD14=$AV14,"OK","@@"), "@@")))) | AZ14: =IF($AK14="","", SUMIFS('3. 일출(의존)'!$AH$7:$AH$1826,'3. 일출(의존)'!$AN$7:$AN$1826,$AK14)) -> 0 | BA14: =IF($AK14="","", COUNTIF('3. 일출(의존)'!$AN$7:$AN$1826,$AK14)) -> 2 | BB14: =IF($AK14="", "", IF($AF14=$AZ14,"OK","@@")) -> OK | BC14: =IF($AN14="","",IF($AO14="지역개발기금",SUMIFS('3. 일출(의존)'!$AK$7:$AK$1837,'3. 일출(의존)'!$AS$7:$AS$1837,$AN14)+SUMIFS('3. 일출(자체)'!$AJ$7:$AJ$1845,'3. 일출(자체)'!$AM$7:$AM$1845,$AN14),IF($AO14="지방채",SUMIFS('3. 일출(의존)'!$AJ$7:$AJ$1837,'3. 일출(의존)'!$AS$7:$AS$1837,$AN14)+SUMIFS('3. 일출(자체)'!$AI$7:$AI$1845,'3. 일출(자체)'!$AM$7:$AM$1845,$AN14),0))) | BD14: =IF($AN14="","",COUNTIF('3. 일출(의존)'!$AS$7:$AS$1837,$AN14)+COUNTIF('3. 일출(자체)'!$AM$7:$AM$1845,$AN14)) | BE14: =IF($AN14="","", IF($AO14="자체", "", IF($AO14="지방채", IF($AH14=$BC14, "OK", "@@"), IF($AO14="지역개발기금", IF($AI14=$BC14,"OK","@@"), "@@"))))
A15: =IF(D15="","",COUNTA($C$8:C15)-COUNTBLANK($C$8:C15)+6) -> 12 | B15: =IF(D15="","",IF(OR(C15="직접입력",D15="북부지원"),"직접입력",IF(OR(AND(D15="인사과",C15="의회사무처"),AND(D15="총무과",C15="의회사무처")),"의회운영위원회",IF(OR(C15="직접입력",D15="북부지원"),"직접입력",IF(OR(AND(D15="인사과",C15="자치행정국"),AND(D15="총무과",C15="자치행정국")),"안전행정위원회",VLOOKUP(D15,구분표!$A$3:$C$258,2,)))))) -> 농정해양위원회 | C15: =IF(D15="","",IF(OR(D15="교육지원과",D15="총무과",D15="인사과"),"직접입력",VLOOKUP(D15,구분표!$A$3:$C$258,3,))) -> 축산동물복지국 | D15: 동물방역위생과 | E15: 2추 | F15: 647 | G15: 28 | H15: 612-01 | I15: =IF(H15="","",VLOOKUP($H15,구분표!$O$3:$P$168,2,FALSE)) -> 모집공채 | J15: 동물방역위생과 지방채 차입금 | K15: 0 | L15: 93656 | M15: =IF($E15="","",SUM(K15:L15)) -> 93656 | N15: -15750 | O15: =SUM(M15:N15) -> 77906 | Q15: =SUM(M15,P15) -> 93656 | R15: =IF(AND((O15=0),(Q15>0)),"O",IF(AND((N15<0),(O15-Q15<0)),"O","X")) -> O | Y15: =IF($H15="","",IF(OR($H15="511-01", $H15="511-02", $H15="511-03", $H15="311-02", $H15="311-04", $H15="321-01"),"국비","도비")) -> 도비 | AA15: =IF($Y15="국비", IF($N15<>"", $N15, 0), "") | AB15: =IF($Y15="도비", IF($AO15="자체", IF($N15<>"",$N15,0),""), "") | AC15: =IF($Y15="도비",IF($AO15="지방채",IF($N15<>"",$N15,0),""), "") -> -15750 | AD15: =IF($Y15="도비",IF($AO15="지역개발기금",IF($N15<>"",$N15,0),""),"") | AF15: =IF($Y15="국비", IF($P15<>"", $P15, 0), "") | AG15: =IF($Y15="도비", IF($AO15="자체", IF($P15<>"",$P15,0),""), "") | AH15: =IF($Y15="도비",IF($AO15="지방채",IF($P15<>"",$P15,0),""), "") -> 0 | AI15: =IF($Y15="도비",IF($AO15="지역개발기금",IF($P15<>"",$P15,0),""),"") | AK15: =IF($AQ15="","", IF(OR($AL15="", $AL15="도비"), "", CONCATENATE($AQ15,"-",COUNTIF($AQ$8:$AQ15,$AQ15)))) | AL15: =IF($H15="","",IF($H15="511-01","국비",IF($H15="511-02","균특",IF($H15="511-03","기금",IF($H15="311-02","특교",IF($H15="311-04","소교",IF($H15="321-01","소멸","도비"))))))) -> 도비 | AN15: =IF($AQ15="","", IF(OR($AO15="", $AO15="국비", $AO15="자체"), "", CONCATENATE($AQ15,"-", $AO15,"-",COUNTIF($AQ$8:$AQ15, $AQ15)))) -> 20702-지방채-4 | AO15: =IF($Y15="","", IF($Y15="국비", "국비", IF($H15="612-01","지방채",IF($H15="722-02","지역개발기금","자체")))) -> 지방채 | AQ15: {=IF(OR($D15="", $C15="직접입력", $B15="직접입력"),"",INDEX(구분표!$I$2:$I$337, MATCH(1,(구분표!$G$2:$G$337='3. 일입'!$B15)*(구분표!$E$2:$E$337='3. 일입'!$C15)*(구분표!$F$2:$F$337='3. 일입'!$D15),0)))} -> 20702 | AS15: =IF($AK15="","", SUMIFS('3. 일출(의존)'!$AB$7:$AB$1826,'3. 일출(의존)'!$AN$7:$AN$1826,$AK15)) | AT15: =IF($AK15="","", COUNTIF('3. 일출(의존)'!$AN$7:$AN$1826,$AK15)) | AU15: =IF($AK15="", "", IF($AA15=$AS15,"OK","@@")) | AV15: =IF($AN15="","",IF($AO15="지역개발기금",SUMIFS('3. 일출(의존)'!$AE$7:$AE$1837,'3. 일출(의존)'!$AS$7:$AS$1837,$AN15)+SUMIFS('3. 일출(자체)'!$AE$7:$AE$1845,'3. 일출(자체)'!$AM$7:$AM$1845,$AN15),IF($AO15="지방채",SUMIFS('3. 일출(의존)'!$AD$7:$AD$1837,'3. 일출(의존)'!$AS$7:$AS$1837,$AN15)+SUMIFS('3. 일출(자체)'!$AD$7:$AD$1845,'3. 일출(자체)'!$AM$7:$AM$1845,$AN15),0))) -> -15750 | AW15: =IF($AN15="","", COUNTIF('3. 일출(의존)'!$AS$7:$AS$1837,$AN15)+COUNTIF('3. 일출(자체)'!$AM$7:$AM$1845,$AN15)) -> 1 | AX15: =IF($AN15="","", IF($AO15="자체","", IF($AO15="지방채", IF($AC15=$AV15, "OK", "@@"), IF($AO15="지역개발기금", IF($AD15=$AV15,"OK","@@"), "@@")))) -> OK | AZ15: =IF($AK15="","", SUMIFS('3. 일출(의존)'!$AH$7:$AH$1826,'3. 일출(의존)'!$AN$7:$AN$1826,$AK15)) | BA15: =IF($AK15="","", COUNTIF('3. 일출(의존)'!$AN$7:$AN$1826,$AK15)) | BB15: =IF($AK15="", "", IF($AF15=$AZ15,"OK","@@")) | BC15: =IF($AN15="","",IF($AO15="지역개발기금",SUMIFS('3. 일출(의존)'!$AK$7:$AK$1837,'3. 일출(의존)'!$AS$7:$AS$1837,$AN15)+SUMIFS('3. 일출(자체)'!$AJ$7:$AJ$1845,'3. 일출(자체)'!$AM$7:$AM$1845,$AN15),IF($AO15="지방채",SUMIFS('3. 일출(의존)'!$AJ$7:$AJ$1837,'3. 일출(의존)'!$AS$7:$AS$1837,$AN15)+SUMIFS('3. 일출(자체)'!$AI$7:$AI$1845,'3. 일출(자체)'!$AM$7:$AM$1845,$AN15),0))) -> 0 | BD15: =IF($AN15="","",COUNTIF('3. 일출(의존)'!$AS$7:$AS$1837,$AN15)+COUNTIF('3. 일출(자체)'!$AM$7:$AM$1845,$AN15)) -> 1 | BE15: =IF($AN15="","", IF($AO15="자체", "", IF($AO15="지방채", IF($AH15=$BC15, "OK", "@@"), IF($AO15="지역개발기금", IF($AI15=$BC15,"OK","@@"), "@@")))) -> OK

Sheet 3. 일출(자체)
A1: 일반회계 세출(자체) 예산 조정(안) | AC1: 직접입력 (지방채/지역개발기금인 경우만 금액 입력) *부기명에 (지방채) 또는 (지역개발기금) 포함시 | AH1: 직접입력 (지방채/지역개발기금인 경우만 금액 입력) *부기명에 (지방채) 또는 (지역개발기금) 포함시 | AM1: 직접입력 (지방채/지역개발기금인 경우 "3. 일입"시트의 AN열 입력") ※ 매칭 세입이 없는 경우 세입번호에 "세입없음" 기재
P2: =SUM(P7:P27)/2 -> 9805029 | Q2: =SUM(Q7:Q27)/2 -> 49193049 | R2: =SUM(R7:R27)/2 -> 0 | S2: =SUM(S7:S27)/2 -> 39388020 | U2: (단위 : 천원) | Y2: (단위 : 천원) | AF2: (단위 : 천원) | AK2: (단위 : 천원)
A3: 번호 | B3: 위원회명 | C3: 실국명 | D3: 부서명 | E3: 편성 구분 | F3: 예산안 /예산서 페이지 | G3: 실국별 사업 설명서 페이지 | H3: 통계목코드 | I3: 편성목 | J3: 통계목 | K3: 세부사업명 | L3: 부기명 | M3: 기정액 (본예산+1추) (가) | N3: 증감액 (2회추경안) (나) | O3: 예산안 (다=가+나) | P3: 상임위 조정액 (라) | Q3: 상임위 조정 예산안 (마=다+라) | R3: 예결특위 조정액 (바) | S3: 예결특위 조정 예산안 (사=다+바) | T3: 상임위 동의 대상 | U3: 참고자료 (관련공문) | V3: 상임위 부대의견 | W3: 예비 심사시 집행부 동의여부 | X3: 예결특위 부대의견 | Y3: 부대의견 | Z3: 예결특위 부대의견 (비공개) | AA3: 실국의견 청취대상 | AC3: 상임위 증감액 | AH3: 예결위 증감액 | AM3: 지방채/지역개발기금 매칭 세입 검증 | AR3: 실국 부서코드
AC4: 도비 | AF4: 금액 검증 (상임위조정액 =∑도비) | AH4: 도비 | AK4: 금액 검증 (예결위조정액 =∑도비) | AM4: 세입번호 | AN4: 세입 번호 유무 검증 | AO4: 세출 재원 | AP4: 재원 검증
AC5: 자체 | AD5: 지방채 | AE5: 지역개발기금 | AH5: 자체 | AI5: 지방채 | AJ5: 지역개발기금
B6: 합 계 | L6: =SUBTOTAL(3,L$7:L$1845)&"건" -> 20건 | M6: =SUBTOTAL(9,M$7:M$1845) -> 49099500 | N6: =SUBTOTAL(9,N$7:N$1845) -> -9711480 | O6: =SUBTOTAL(9,O$7:O$1845) -> 39388020 | P6: =SUBTOTAL(9,P$7:P$1845) -> 9805029 | Q6: =SUBTOTAL(9,Q$7:Q$1845) -> 49193049 | R6: =SUBTOTAL(9,R$7:R$1845) -> 0 | S6: =SUBTOTAL(9,S$7:S$1845) -> 39388020 | AC6: =SUBTOTAL(9,AC$7:AC$1845) -> 9805029 | AD6: =SUBTOTAL(9,AD$7:AD$1845) -> 0 | AE6: =SUBTOTAL(9,AE$7:AE$1845) -> 0 | AF6: =IF(COUNTIF(AF$7:AF$1845,"@@")>0,"@@","OK") -> OK | AH6: =SUBTOTAL(9,AH$7:AH$1845) -> 0 | AI6: =SUBTOTAL(9,AI$7:AI$1845) -> 0 | AJ6: =SUBTOTAL(9,AJ$7:AJ$1845) -> 0 | AK6: =IF(COUNTIF(AK$7:AK$1845,"@@")>0,"@@","OK") -> OK | AN6: =IF(COUNTIF(AN$7:AN$1845,"@@")>0,"@@","OK") -> OK | AP6: =IF(COUNTIF(AP$7:AP$1845,"@@")>0,"@@","OK") -> OK
B7: (농정해양위원회) | L7: =SUBTOTAL(3,L8:L27)&"건" -> 20건 | M7: =SUBTOTAL(9,M8:M27) -> 49099500 | N7: =SUBTOTAL(9,N8:N27) -> -9711480 | O7: =SUBTOTAL(9,O8:O27) -> 39388020 | P7: =SUBTOTAL(9,P8:P27) -> 9805029 | Q7: =SUBTOTAL(9,Q8:Q27) -> 49193049 | R7: =SUBTOTAL(9,R8:R27) -> 0 | S7: =SUBTOTAL(9,S8:S27) -> 39388020 | AC7: =SUBTOTAL(9,AC8:AC27) -> 9805029 | AD7: =SUBTOTAL(9,AD8:AD27) -> 0 | AE7: =SUBTOTAL(9,AE8:AE27) -> 0 | AF7: =IF(COUNTIF(AF8:AF27,"@@")>0,"@@","OK") -> OK | AH7: =SUBTOTAL(9,AH8:AH27) -> 0 | AI7: =SUBTOTAL(9,AI8:AI27) -> 0 | AJ7: =SUBTOTAL(9,AJ8:AJ27) -> 0 | AK7: =IF(COUNTIF(AK8:AK27,"@@")>0,"@@","OK") -> OK | AN7: =IF(COUNTIF(AN8:AN27,"@@")>0,"@@","OK") -> OK | AP7: =IF(COUNTIF(AP8:AP27,"@@")>0,"@@","OK") -> OK
A8: =IF(D8="","",COUNTA($C$7:C8)-COUNTBLANK($C$7:C8)+6) -> 6 | B8: =IF(D8="","",IF(OR(C8="직접입력",D8="북부지원"),"직접입력",IF(OR(AND(D8="인사과",C8="의회사무처"),AND(D8="총무과",C8="의회사무처")),"의회운영위원회",IF(OR(C8="직접입력",D8="북부지원"),"직접입력",IF(OR(AND(D8="인사과",C8="자치행정국"),AND(D8="총무과",C8="자치행정국")),"안전행정위원회",VLOOKUP(D8,[1]구분표!$A$3:$C$258,2,)))))) -> 농정해양위원회 | C8: =IF(D8="","",IF(OR(D8="교육지원과",D8="총무과",D8="인사과"),"직접입력",VLOOKUP(D8,[1]구분표!$A$3:$C$258,3,))) -> 농수산생명과학국 | D8: 농업정책과 | E8: 2추 | F8: 620 | G8: 99 | H8: 307-04 | I8: =IF(H8="","",VLOOKUP($H8,[1]구분표!$K$3:$M$151,2,FALSE)) -> 민간이전 | J8: =IF(I8="","",VLOOKUP($H8,[1]구분표!$K$3:$M$151,3,FALSE)) -> 민간행사사업보조 | K8: 전문농업인육성(자체/직접) | L8: 농업경영인 육성 | M8: 650000 | N8: -150000 | O8: =IF($E8="","",SUM(M8:N8)) -> 500000 | P8: 150000 | Q8: =SUM(O8:P8) -> 650000 | S8: =SUM(O8,R8) -> 500000 | T8: =IF(AND((Q8=0),(S8>0)),"O",IF(AND((P8<0),(Q8-S8<0)),"O","X")) -> X | AC8: =IF($P8="", 0, IF(AND(ISNUMBER(AD8), ISNUMBER(AE8)), $P8-$AD8-$AE8, 0)) -> 150000 | AD8: =IF($P8="", 0, IF(COUNT(FIND("(지방채)",$L8))>0, "재원입력필요", 0)) -> 0 | AE8: =IF($P8="", 0, IF(COUNT(FIND("(지역개발기금)",$L8))>0, "재원입력필요", 0)) -> 0 | AF8: =IF($P8="", IF(SUM($AC8:$AE8)=0, "", "@@"), IF(AND($P8=SUM($AC8:$AE8),Q8>=0),"OK","@@")) -> OK | AH8: =IF($R8="", 0, IF(AND(ISNUMBER($AI8), ISNUMBER($AJ8)), $R8-$AI8-$AJ8, 0)) -> 0 | AI8: =IF($P8="", 0, IF(COUNT(FIND("(지방채)",$L8))>0, "재원입력필요", 0)) -> 0 | AJ8: =IF($P8="", 0, IF(COUNT(FIND("(지역개발기금)",$L8))>0, "재원입력필요", 0)) -> 0 | AK8: =IF($R8="", IF(SUM($AH8:$AJ8)=0, "", "@@"), IF(AND($R8=SUM($AH8:$AJ8),$S8>=0),"OK","@@")) | AN8: =IF($AM8="","", IF($AM8="세입없음", "OK", IF(COUNTIF('[1]3. 일입'!$AN$8:$AN$2000,$AM8), "OK","@@"))) | AO8: =IF($L8="","",IF(COUNT(FIND("(지역개발기금)",$L8)),"지역개발기금",IF(COUNT(FIND("지방채",$L8)),"지방채","자체"))) -> 자체 | AP8: =IF($AM8="", IF($AO8="", "", IF($AO8="자체", "OK", "@@")), IF($AM8="세입없음", "OK", IF($AO8="", "@@", IF(ISNUMBER(FIND($AO8,$AM8)),"OK","@@")))) -> OK | AR8: {=IF(OR($D8="", $C8="직접입력", $B8="직접입력"), "", INDEX([1]구분표!$I$3:$I$321, MATCH(1,([1]구분표!$G$3:$G$321=$B8)*([1]구분표!$E$3:$E$321=$C8)*([1]구분표!$F$3:$F$321=$D8),0)))} -> 14001
A9: =IF(D9="","",COUNTA($C$7:C9)-COUNTBLANK($C$7:C9)+6) -> 7 | B9: =IF(D9="","",IF(OR(C9="직접입력",D9="북부지원"),"직접입력",IF(OR(AND(D9="인사과",C9="의회사무처"),AND(D9="총무과",C9="의회사무처")),"의회운영위원회",IF(OR(C9="직접입력",D9="북부지원"),"직접입력",IF(OR(AND(D9="인사과",C9="자치행정국"),AND(D9="총무과",C9="자치행정국")),"안전행정위원회",VLOOKUP(D9,[1]구분표!$A$3:$C$258,2,)))))) -> 농정해양위원회 | C9: =IF(D9="","",IF(OR(D9="교육지원과",D9="총무과",D9="인사과"),"직접입력",VLOOKUP(D9,[1]구분표!$A$3:$C$258,3,))) -> 농수산생명과학국 | D9: 농식품유통과 | E9: 2추 | F9: 624 | G9: 153 | H9: 306-01 | I9: =IF(H9="","",VLOOKUP($H9,[1]구분표!$K$3:$M$151,2,FALSE)) -> 출연금 | J9: =IF(I9="","",VLOOKUP($H9,[1]구분표!$K$3:$M$151,3,FALSE)) -> 출연금 | K9: 경기도농수산진흥원 지원(자체/직접) | L9: 경기도농수산진흥원 출연 | M9: 10015000 | N9: -782840 | O9: =IF($E9="","",SUM(M9:N9)) -> 9232160 | P9: 782840 | Q9: =SUM(O9:P9) -> 10015000 | S9: =SUM(O9,R9) -> 9232160 | T9: =IF(AND((Q9=0),(S9>0)),"O",IF(AND((P9<0),(Q9-S9<0)),"O","X")) -> X | AC9: =IF($P9="", 0, IF(AND(ISNUMBER(AD9), ISNUMBER(AE9)), $P9-$AD9-$AE9, 0)) -> 782840 | AD9: =IF($P9="", 0, IF(COUNT(FIND("(지방채)",$L9))>0, "재원입력필요", 0)) -> 0 | AE9: =IF($P9="", 0, IF(COUNT(FIND("(지역개발기금)",$L9))>0, "재원입력필요", 0)) -> 0 | AF9: =IF($P9="", IF(SUM($AC9:$AE9)=0, "", "@@"), IF(AND($P9=SUM($AC9:$AE9),Q9>=0),"OK","@@")) -> OK | AH9: =IF($R9="", 0, IF(AND(ISNUMBER($AI9), ISNUMBER($AJ9)), $R9-$AI9-$AJ9, 0)) -> 0 | AI9: =IF($P9="", 0, IF(COUNT(FIND("(지방채)",$L9))>0, "재원입력필요", 0)) -> 0 | AJ9: =IF($P9="", 0, IF(COUNT(FIND("(지역개발기금)",$L9))>0, "재원입력필요", 0)) -> 0 | AK9: =IF($R9="", IF(SUM($AH9:$AJ9)=0, "", "@@"), IF(AND($R9=SUM($AH9:$AJ9),$S9>=0),"OK","@@")) | AN9: =IF($AM9="","", IF($AM9="세입없음", "OK", IF(COUNTIF('[1]3. 일입'!$AN$8:$AN$2000,$AM9), "OK","@@"))) | AO9: =IF($L9="","",IF(COUNT(FIND("(지역개발기금)",$L9)),"지역개발기금",IF(COUNT(FIND("지방채",$L9)),"지방채","자체"))) -> 자체 | AP9: =IF($AM9="", IF($AO9="", "", IF($AO9="자체", "OK", "@@")), IF($AM9="세입없음", "OK", IF($AO9="", "@@", IF(ISNUMBER(FIND($AO9,$AM9)),"OK","@@")))) -> OK | AR9: {=IF(OR($D9="", $C9="직접입력", $B9="직접입력"), "", INDEX([1]구분표!$I$3:$I$321, MATCH(1,([1]구분표!$G$3:$G$321=$B9)*([1]구분표!$E$3:$E$321=$C9)*([1]구분표!$F$3:$F$321=$D9),0)))} -> 14002
