Workbook

Sheet 1. 표지 (상임위)
U2: (단위 : 천원) | Z2: (단위 : 천원)
A4: 2026년도 경기도 제2회 추가경정예산안 및 기금운용계획 변경안
A5: 상임위 계수조정 결과
A15: 경기도의회 예산결산특별위원회

Sheet 1. 총괄표(상임위)
A2: 총괄 현황
A4: □ 위원회별 조정현황
I5: (단위 : 천원)
A6: 구 분 | B6: 집행부제출(안) | C6: 세입예산(안) | F6: 세출예산(안) | I6: 수정예산(안) | K6: ※ 예산안 증감현황
C7: 감 액 | D7: 증 액 | E7: 증감액 | F7: 감 액 | G7: 증 액 | H7: 증감액 | K7: 구 분 | L7: 세입 | M7: 세출 | N7: 예비비 | O7: 비고
A8: 계 | B8: =SUM(B9:B19) -> 42242001864 | C8: =SUM(C9:C19) -> -224869 | D8: =SUM(D9:D19) -> 2577539 | E8: =SUM(E9:E19) -> 2352670 | F8: =SUM(F9:F19) -> -507629 | G8: =SUM(G9:G19) -> 12974853 | H8: =SUM(H9:H19) -> 12467224 | I8: =SUM(I9:I19) -> 42254469088 | K8: 계 | L8: =SUM(L9:L10) -> 2352670 | M8: =SUM(M9:M10) -> 12467224 | N8: =L8-M8 -> -10114554
A9: 의회운영위원회 | B9: =B33 -> 129702008 | C9: =SUMIFS('3. 일입'!$N$7:$N$1820,'3. 일입'!$B$7:$B$1820, $A9, '3. 일입'!$N$7:$N$1820, "<"&0)+SUMIFS('4. 특입'!$N$6:$N$1994,'4. 특입'!$B$6:$B$1994,$A9, '4. 특입'!$N$6:$N$1994, "<"&0)+SUMIFS('4-1. 공특입'!$O$6:$O$1992,'4-1. 공특입'!$B$6:$B$1992,$A9, '4-1. 공특입'!$O$6:$O$1992, "<"&0) -> 0 | D9: =SUMIFS('3. 일입'!$N$7:$N$1820,'3. 일입'!$B$7:$B$1820, $A9, '3. 일입'!$N$7:$N$1820, ">"&0)+SUMIFS('4. 특입'!$N$6:$N$1994,'4. 특입'!$B$6:$B$1994,$A9, '4. 특입'!$N$6:$N$1994, ">"&0)+SUMIFS('4-1. 공특입'!$O$6:$O$1992,'4-1. 공특입'!$B$6:$B$1992,$A9, '4-1. 공특입'!$O$6:$O$1992, ">"&0) -> 0 | E9: =C9+D9 -> 0 | F9: =SUMIFS('3. 일출(자체)'!$P$6:$P$1834,'3. 일출(자체)'!$B$6:$B$1834, $A9, '3. 일출(자체)'!$P$6:$P$1834, "<"&0)+SUMIFS('3. 일출(의존)'!$P$6:P$1826,'3. 일출(의존)'!$B$6:$B$1826, $A9, '3. 일출(의존)'!$P$6:$P$1826, "<"&0)+SUMIFS('4. 특출'!$P$5:$P$1991,'4. 특출'!$B$5:$B$1991, $A9, '4. 특출'!$P$5:$P$1991, "<"&0)+SUMIFS('4-1. 공특출'!$P$5:$P$1992,'4-1. 공특출'!$B$5:$B$1992, $A9, '4-1. 공특출'!$P$5:$P$1992, "<"&0) -> 0 | G9: =SUMIFS('3. 일출(자체)'!$P$6:$P$1834,'3. 일출(자체)'!$B$6:$B$1834, $A9, '3. 일출(자체)'!$P$6:$P$1834, ">"&0)+SUMIFS('3. 일출(의존)'!$P$6:$P$1826,'3. 일출(의존)'!$B$6:$B$1826, $A9, '3. 일출(의존)'!$P$6:$P$1826, ">"&0)+SUMIFS('4. 특출'!$P$5:$P$1991,'4. 특출'!$B$5:$B$1991, $A9, '4. 특출'!$P$5:$P$1991, ">"&0)+SUMIFS('4-1. 공특출'!$P$5:$P$1992,'4-1. 공특출'!$B$5:$B$1992, $A9, '4-1. 공특출'!$P$5:$P$1992, ">"&0) -> 0 | H9: =G9+F9 -> 0 | I9: =B9+F9+G9 -> 129702008 | K9: 일반회계 | L9: =SUM(C26:D26) -> 2352670 | M9: =SUM(F26:G26) -> 12467224 | N9: =L9-M9 -> -10114554 | O9: 예비비 증감 - 감액, + 증액에 입력
A10: 기획재정위원회 | B10: =B34 -> 5932148107 | C10: =SUMIFS('3. 일입'!$N$7:$N$1820,'3. 일입'!$B$7:$B$1820, $A10, '3. 일입'!$N$7:$N$1820, "<"&0)+SUMIFS('4. 특입'!$N$6:$N$1994,'4. 특입'!$B$6:$B$1994,$A10, '4. 특입'!$N$6:$N$1994, "<"&0)+SUMIFS('4-1. 공특입'!$O$6:$O$1992,'4-1. 공특입'!$B$6:$B$1992,$A10, '4-1. 공특입'!$O$6:$O$1992, "<"&0) -> 0 | D10: =SUMIFS('3. 일입'!$N$7:$N$1820,'3. 일입'!$B$7:$B$1820, $A10, '3. 일입'!$N$7:$N$1820, ">"&0)+SUMIFS('4. 특입'!$N$6:$N$1994,'4. 특입'!$B$6:$B$1994,$A10, '4. 특입'!$N$6:$N$1994, ">"&0)+SUMIFS('4-1. 공특입'!$O$6:$O$1992,'4-1. 공특입'!$B$6:$B$1992,$A10, '4-1. 공특입'!$O$6:$O$1992, ">"&0) -> 0 | E10: =C10+D10 -> 0 | F10: =SUMIFS('3. 일출(자체)'!$P$6:$P$1834,'3. 일출(자체)'!$B$6:$B$1834, $A10, '3. 일출(자체)'!$P$6:$P$1834, "<"&0)+SUMIFS('3. 일출(의존)'!$P$6:P$1826,'3. 일출(의존)'!$B$6:$B$1826, $A10, '3. 일출(의존)'!$P$6:$P$1826, "<"&0)+SUMIFS('4. 특출'!$P$5:$P$1991,'4. 특출'!$B$5:$B$1991, $A10, '4. 특출'!$P$5:$P$1991, "<"&0)+SUMIFS('4-1. 공특출'!$P$5:$P$1992,'4-1. 공특출'!$B$5:$B$1992, $A10, '4-1. 공특출'!$P$5:$P$1992, "<"&0) -> 0 | G10: =SUMIFS('3. 일출(자체)'!$P$6:$P$1834,'3. 일출(자체)'!$B$6:$B$1834, $A10, '3. 일출(자체)'!$P$6:$P$1834, ">"&0)+SUMIFS('3. 일출(의존)'!$P$6:$P$1826,'3. 일출(의존)'!$B$6:$B$1826, $A10, '3. 일출(의존)'!$P$6:$P$1826, ">"&0)+SUMIFS('4. 특출'!$P$5:$P$1991,'4. 특출'!$B$5:$B$1991, $A10, '4. 특출'!$P$5:$P$1991, ">"&0)+SUMIFS('4-1. 공특출'!$P$5:$P$1992,'4-1. 공특출'!$B$5:$B$1992, $A10, '4-1. 공특출'!$P$5:$P$1992, ">"&0) -> 0 | H10: =G10+F10 -> 0 | I10: =B10+F10+G10 -> 5932148107 | K10: 특별회계 | L10: =SUM(C27:D27) -> 0 | M10: =SUM(F27:G27) -> 0 | N10: =L10-M10 -> 0
A11: 경제노동위원회 | B11: =B35 -> 474872242 | C11: =SUMIFS('3. 일입'!$N$7:$N$1820,'3. 일입'!$B$7:$B$1820, $A11, '3. 일입'!$N$7:$N$1820, "<"&0)+SUMIFS('4. 특입'!$N$6:$N$1994,'4. 특입'!$B$6:$B$1994,$A11, '4. 특입'!$N$6:$N$1994, "<"&0)+SUMIFS('4-1. 공특입'!$O$6:$O$1992,'4-1. 공특입'!$B$6:$B$1992,$A11, '4-1. 공특입'!$O$6:$O$1992, "<"&0) -> 0 | D11: =SUMIFS('3. 일입'!$N$7:$N$1820,'3. 일입'!$B$7:$B$1820, $A11, '3. 일입'!$N$7:$N$1820, ">"&0)+SUMIFS('4. 특입'!$N$6:$N$1994,'4. 특입'!$B$6:$B$1994,$A11, '4. 특입'!$N$6:$N$1994, ">"&0)+SUMIFS('4-1. 공특입'!$O$6:$O$1992,'4-1. 공특입'!$B$6:$B$1992,$A11, '4-1. 공특입'!$O$6:$O$1992, ">"&0) -> 0 | E11: =C11+D11 -> 0 | F11: =SUMIFS('3. 일출(자체)'!$P$6:$P$1834,'3. 일출(자체)'!$B$6:$B$1834, $A11, '3. 일출(자체)'!$P$6:$P$1834, "<"&0)+SUMIFS('3. 일출(의존)'!$P$6:P$1826,'3. 일출(의존)'!$B$6:$B$1826, $A11, '3. 일출(의존)'!$P$6:$P$1826, "<"&0)+SUMIFS('4. 특출'!$P$5:$P$1991,'4. 특출'!$B$5:$B$1991, $A11, '4. 특출'!$P$5:$P$1991, "<"&0)+SUMIFS('4-1. 공특출'!$P$5:$P$1992,'4-1. 공특출'!$B$5:$B$1992, $A11, '4-1. 공특출'!$P$5:$P$1992, "<"&0) -> 0 | G11: =SUMIFS('3. 일출(자체)'!$P$6:$P$1834,'3. 일출(자체)'!$B$6:$B$1834, $A11, '3. 일출(자체)'!$P$6:$P$1834, ">"&0)+SUMIFS('3. 일출(의존)'!$P$6:$P$1826,'3. 일출(의존)'!$B$6:$B$1826, $A11, '3. 일출(의존)'!$P$6:$P$1826, ">"&0)+SUMIFS('4. 특출'!$P$5:$P$1991,'4. 특출'!$B$5:$B$1991, $A11, '4. 특출'!$P$5:$P$1991, ">"&0)+SUMIFS('4-1. 공특출'!$P$5:$P$1992,'4-1. 공특출'!$B$5:$B$1992, $A11, '4-1. 공특출'!$P$5:$P$1992, ">"&0) -> 0 | H11: =G11+F11 -> 0 | I11: =B11+F11+G11 -> 474872242 | O11: (예비비 계수 조정용)
A12: 안전행정위원회 | B12: =B36 -> 4269846310 | C12: =SUMIFS('3. 일입'!$N$7:$N$1820,'3. 일입'!$B$7:$B$1820, $A12, '3. 일입'!$N$7:$N$1820, "<"&0)+SUMIFS('4. 특입'!$N$6:$N$1994,'4. 특입'!$B$6:$B$1994,$A12, '4. 특입'!$N$6:$N$1994, "<"&0)+SUMIFS('4-1. 공특입'!$O$6:$O$1992,'4-1. 공특입'!$B$6:$B$1992,$A12, '4-1. 공특입'!$O$6:$O$1992, "<"&0) -> 0 | D12: =SUMIFS('3. 일입'!$N$7:$N$1820,'3. 일입'!$B$7:$B$1820, $A12, '3. 일입'!$N$7:$N$1820, ">"&0)+SUMIFS('4. 특입'!$N$6:$N$1994,'4. 특입'!$B$6:$B$1994,$A12, '4. 특입'!$N$6:$N$1994, ">"&0)+SUMIFS('4-1. 공특입'!$O$6:$O$1992,'4-1. 공특입'!$B$6:$B$1992,$A12, '4-1. 공특입'!$O$6:$O$1992, ">"&0) -> 0 | E12: =C12+D12 -> 0 | F12: =SUMIFS('3. 일출(자체)'!$P$6:$P$1834,'3. 일출(자체)'!$B$6:$B$1834, $A12, '3. 일출(자체)'!$P$6:$P$1834, "<"&0)+SUMIFS('3. 일출(의존)'!$P$6:P$1826,'3. 일출(의존)'!$B$6:$B$1826, $A12, '3. 일출(의존)'!$P$6:$P$1826, "<"&0)+SUMIFS('4. 특출'!$P$5:$P$1991,'4. 특출'!$B$5:$B$1991, $A12, '4. 특출'!$P$5:$P$1991, "<"&0)+SUMIFS('4-1. 공특출'!$P$5:$P$1992,'4-1. 공특출'!$B$5:$B$1992, $A12, '4-1. 공특출'!$P$5:$P$1992, "<"&0) -> 0 | G12: =SUMIFS('3. 일출(자체)'!$P$6:$P$1834,'3. 일출(자체)'!$B$6:$B$1834, $A12, '3. 일출(자체)'!$P$6:$P$1834, ">"&0)+SUMIFS('3. 일출(의존)'!$P$6:$P$1826,'3. 일출(의존)'!$B$6:$B$1826, $A12, '3. 일출(의존)'!$P$6:$P$1826, ">"&0)+SUMIFS('4. 특출'!$P$5:$P$1991,'4. 특출'!$B$5:$B$1991, $A12, '4. 특출'!$P$5:$P$1991, ">"&0)+SUMIFS('4-1. 공특출'!$P$5:$P$1992,'4-1. 공특출'!$B$5:$B$1992, $A12, '4-1. 공특출'!$P$5:$P$1992, ">"&0) -> 0 | H12: =G12+F12 -> 0 | I12: =B12+F12+G12 -> 4269846310
A13: 문화체육관광위원회 | B13: =B37 -> 554871567 | C13: =SUMIFS('3. 일입'!$N$7:$N$1820,'3. 일입'!$B$7:$B$1820, $A13, '3. 일입'!$N$7:$N$1820, "<"&0)+SUMIFS('4. 특입'!$N$6:$N$1994,'4. 특입'!$B$6:$B$1994,$A13, '4. 특입'!$N$6:$N$1994, "<"&0)+SUMIFS('4-1. 공특입'!$O$6:$O$1992,'4-1. 공특입'!$B$6:$B$1992,$A13, '4-1. 공특입'!$O$6:$O$1992, "<"&0) -> 0 | D13: =SUMIFS('3. 일입'!$N$7:$N$1820,'3. 일입'!$B$7:$B$1820, $A13, '3. 일입'!$N$7:$N$1820, ">"&0)+SUMIFS('4. 특입'!$N$6:$N$1994,'4. 특입'!$B$6:$B$1994,$A13, '4. 특입'!$N$6:$N$1994, ">"&0)+SUMIFS('4-1. 공특입'!$O$6:$O$1992,'4-1. 공특입'!$B$6:$B$1992,$A13, '4-1. 공특입'!$O$6:$O$1992, ">"&0) -> 0 | E13: =C13+D13 -> 0 | F13: =SUMIFS('3. 일출(자체)'!$P$6:$P$1834,'3. 일출(자체)'!$B$6:$B$1834, $A13, '3. 일출(자체)'!$P$6:$P$1834, "<"&0)+SUMIFS('3. 일출(의존)'!$P$6:P$1826,'3. 일출(의존)'!$B$6:$B$1826, $A13, '3. 일출(의존)'!$P$6:$P$1826, "<"&0)+SUMIFS('4. 특출'!$P$5:$P$1991,'4. 특출'!$B$5:$B$1991, $A13, '4. 특출'!$P$5:$P$1991, "<"&0)+SUMIFS('4-1. 공특출'!$P$5:$P$1992,'4-1. 공특출'!$B$5:$B$1992, $A13, '4-1. 공특출'!$P$5:$P$1992, "<"&0) -> 0 | G13: =SUMIFS('3. 일출(자체)'!$P$6:$P$1834,'3. 일출(자체)'!$B$6:$B$1834, $A13, '3. 일출(자체)'!$P$6:$P$1834, ">"&0)+SUMIFS('3. 일출(의존)'!$P$6:$P$1826,'3. 일출(의존)'!$B$6:$B$1826, $A13, '3. 일출(의존)'!$P$6:$P$1826, ">"&0)+SUMIFS('4. 특출'!$P$5:$P$1991,'4. 특출'!$B$5:$B$1991, $A13, '4. 특출'!$P$5:$P$1991, ">"&0)+SUMIFS('4-1. 공특출'!$P$5:$P$1992,'4-1. 공특출'!$B$5:$B$1992, $A13, '4-1. 공특출'!$P$5:$P$1992, ">"&0) -> 0 | H13: =G13+F13 -> 0 | I13: =B13+F13+G13 -> 554871567
A14: 농정해양위원회 | B14: =B38 -> 1195877261 | C14: =SUMIFS('3. 일입'!$N$7:$N$1820,'3. 일입'!$B$7:$B$1820, $A14, '3. 일입'!$N$7:$N$1820, "<"&0)+SUMIFS('4. 특입'!$N$6:$N$1994,'4. 특입'!$B$6:$B$1994,$A14, '4. 특입'!$N$6:$N$1994, "<"&0)+SUMIFS('4-1. 공특입'!$O$6:$O$1992,'4-1. 공특입'!$B$6:$B$1992,$A14, '4-1. 공특입'!$O$6:$O$1992, "<"&0) -> -224869 | D14: =SUMIFS('3. 일입'!$N$7:$N$1820,'3. 일입'!$B$7:$B$1820, $A14, '3. 일입'!$N$7:$N$1820, ">"&0)+SUMIFS('4. 특입'!$N$6:$N$1994,'4. 특입'!$B$6:$B$1994,$A14, '4. 특입'!$N$6:$N$1994, ">"&0)+SUMIFS('4-1. 공특입'!$O$6:$O$1992,'4-1. 공특입'!$B$6:$B$1992,$A14, '4-1. 공특입'!$O$6:$O$1992, ">"&0) -> 2577539 | E14: =C14+D14 -> 2352670 | F14: =SUMIFS('3. 일출(자체)'!$P$6:$P$1834,'3. 일출(자체)'!$B$6:$B$1834, $A14, '3. 일출(자체)'!$P$6:$P$1834, "<"&0)+SUMIFS('3. 일출(의존)'!$P$6:P$1826,'3. 일출(의존)'!$B$6:$B$1826, $A14, '3. 일출(의존)'!$P$6:$P$1826, "<"&0)+SUMIFS('4. 특출'!$P$5:$P$1991,'4. 특출'!$B$5:$B$1991, $A14, '4. 특출'!$P$5:$P$1991, "<"&0)+SUMIFS('4-1. 공특출'!$P$5:$P$1992,'4-1. 공특출'!$B$5:$B$1992, $A14, '4-1. 공특출'!$P$5:$P$1992, "<"&0) -> -507629 | G14: =SUMIFS('3. 일출(자체)'!$P$6:$P$1834,'3. 일출(자체)'!$B$6:$B$1834, $A14, '3. 일출(자체)'!$P$6:$P$1834, ">"&0)+SUMIFS('3. 일출(의존)'!$P$6:$P$1826,'3. 일출(의존)'!$B$6:$B$1826, $A14, '3. 일출(의존)'!$P$6:$P$1826, ">"&0)+SUMIFS('4. 특출'!$P$5:$P$1991,'4. 특출'!$B$5:$B$1991, $A14, '4. 특출'!$P$5:$P$1991, ">"&0)+SUMIFS('4-1. 공특출'!$P$5:$P$1992,'4-1. 공특출'!$B$5:$B$1992, $A14, '4-1. 공특출'!$P$5:$P$1992, ">"&0) -> 12974853 | H14: =G14+F14 -> 12467224 | I14: =B14+F14+G14 -> 1208344485
A15: 보건복지위원회 | B15: =B39 -> 14042559485 | C15: =SUMIFS('3. 일입'!$N$7:$N$1820,'3. 일입'!$B$7:$B$1820, $A15, '3. 일입'!$N$7:$N$1820, "<"&0)+SUMIFS('4. 특입'!$N$6:$N$1994,'4. 특입'!$B$6:$B$1994,$A15, '4. 특입'!$N$6:$N$1994, "<"&0)+SUMIFS('4-1. 공특입'!$O$6:$O$1992,'4-1. 공특입'!$B$6:$B$1992,$A15, '4-1. 공특입'!$O$6:$O$1992, "<"&0) -> 0 | D15: =SUMIFS('3. 일입'!$N$7:$N$1820,'3. 일입'!$B$7:$B$1820, $A15, '3. 일입'!$N$7:$N$1820, ">"&0)+SUMIFS('4. 특입'!$N$6:$N$1994,'4. 특입'!$B$6:$B$1994,$A15, '4. 특입'!$N$6:$N$1994, ">"&0)+SUMIFS('4-1. 공특입'!$O$6:$O$1992,'4-1. 공특입'!$B$6:$B$1992,$A15, '4-1. 공특입'!$O$6:$O$1992, ">"&0) -> 0 | E15: =C15+D15 -> 0 | F15: =SUMIFS('3. 일출(자체)'!$P$6:$P$1834,'3. 일출(자체)'!$B$6:$B$1834, $A15, '3. 일출(자체)'!$P$6:$P$1834, "<"&0)+SUMIFS('3. 일출(의존)'!$P$6:P$1826,'3. 일출(의존)'!$B$6:$B$1826, $A15, '3. 일출(의존)'!$P$6:$P$1826, "<"&0)+SUMIFS('4. 특출'!$P$5:$P$1991,'4. 특출'!$B$5:$B$1991, $A15, '4. 특출'!$P$5:$P$1991, "<"&0)+SUMIFS('4-1. 공특출'!$P$5:$P$1992,'4-1. 공특출'!$B$5:$B$1992, $A15, '4-1. 공특출'!$P$5:$P$1992, "<"&0) -> 0 | G15: =SUMIFS('3. 일출(자체)'!$P$6:$P$1834,'3. 일출(자체)'!$B$6:$B$1834, $A15, '3. 일출(자체)'!$P$6:$P$1834, ">"&0)+SUMIFS('3. 일출(의존)'!$P$6:$P$1826,'3. 일출(의존)'!$B$6:$B$1826, $A15, '3. 일출(의존)'!$P$6:$P$1826, ">"&0)+SUMIFS('4. 특출'!$P$5:$P$1991,'4. 특출'!$B$5:$B$1991, $A15, '4. 특출'!$P$5:$P$1991, ">"&0)+SUMIFS('4-1. 공특출'!$P$5:$P$1992,'4-1. 공특출'!$B$5:$B$1992, $A15, '4-1. 공특출'!$P$5:$P$1992, ">"&0) -> 0 | H15: =G15+F15 -> 0 | I15: =B15+F15+G15 -> 14042559485
A16: 건설교통위원회 | B16: =B40 -> 3029412433 | C16: =SUMIFS('3. 일입'!$N$7:$N$1820,'3. 일입'!$B$7:$B$1820, $A16, '3. 일입'!$N$7:$N$1820, "<"&0)+SUMIFS('4. 특입'!$N$6:$N$1994,'4. 특입'!$B$6:$B$1994,$A16, '4. 특입'!$N$6:$N$1994, "<"&0)+SUMIFS('4-1. 공특입'!$O$6:$O$1992,'4-1. 공특입'!$B$6:$B$1992,$A16, '4-1. 공특입'!$O$6:$O$1992, "<"&0) -> 0 | D16: =SUMIFS('3. 일입'!$N$7:$N$1820,'3. 일입'!$B$7:$B$1820, $A16, '3. 일입'!$N$7:$N$1820, ">"&0)+SUMIFS('4. 특입'!$N$6:$N$1994,'4. 특입'!$B$6:$B$1994,$A16, '4. 특입'!$N$6:$N$1994, ">"&0)+SUMIFS('4-1. 공특입'!$O$6:$O$1992,'4-1. 공특입'!$B$6:$B$1992,$A16, '4-1. 공특입'!$O$6:$O$1992, ">"&0) -> 0 | E16: =C16+D16 -> 0 | F16: =SUMIFS('3. 일출(자체)'!$P$6:$P$1834,'3. 일출(자체)'!$B$6:$B$1834, $A16, '3. 일출(자체)'!$P$6:$P$1834, "<"&0)+SUMIFS('3. 일출(의존)'!$P$6:P$1826,'3. 일출(의존)'!$B$6:$B$1826, $A16, '3. 일출(의존)'!$P$6:$P$1826, "<"&0)+SUMIFS('4. 특출'!$P$5:$P$1991,'4. 특출'!$B$5:$B$1991, $A16, '4. 특출'!$P$5:$P$1991, "<"&0)+SUMIFS('4-1. 공특출'!$P$5:$P$1992,'4-1. 공특출'!$B$5:$B$1992, $A16, '4-1. 공특출'!$P$5:$P$1992, "<"&0) -> 0 | G16: =SUMIFS('3. 일출(자체)'!$P$6:$P$1834,'3. 일출(자체)'!$B$6:$B$1834, $A16, '3. 일출(자체)'!$P$6:$P$1834, ">"&0)+SUMIFS('3. 일출(의존)'!$P$6:$P$1826,'3. 일출(의존)'!$B$6:$B$1826, $A16, '3. 일출(의존)'!$P$6:$P$1826, ">"&0)+SUMIFS('4. 특출'!$P$5:$P$1991,'4. 특출'!$B$5:$B$1991, $A16, '4. 특출'!$P$5:$P$1991, ">"&0)+SUMIFS('4-1. 공특출'!$P$5:$P$1992,'4-1. 공특출'!$B$5:$B$1992, $A16, '4-1. 공특출'!$P$5:$P$1992, ">"&0) -> 0 | H16: =G16+F16 -> 0 | I16: =B16+F16+G16 -> 3029412433
A17: 도시환경위원회 | B17: =B41 -> 2367511141 | C17: =SUMIFS('3. 일입'!$N$7:$N$1820,'3. 일입'!$B$7:$B$1820, $A17, '3. 일입'!$N$7:$N$1820, "<"&0)+SUMIFS('4. 특입'!$N$6:$N$1994,'4. 특입'!$B$6:$B$1994,$A17, '4. 특입'!$N$6:$N$1994, "<"&0)+SUMIFS('4-1. 공특입'!$O$6:$O$1992,'4-1. 공특입'!$B$6:$B$1992,$A17, '4-1. 공특입'!$O$6:$O$1992, "<"&0) -> 0 | D17: =SUMIFS('3. 일입'!$N$7:$N$1820,'3. 일입'!$B$7:$B$1820, $A17, '3. 일입'!$N$7:$N$1820, ">"&0)+SUMIFS('4. 특입'!$N$6:$N$1994,'4. 특입'!$B$6:$B$1994,$A17, '4. 특입'!$N$6:$N$1994, ">"&0)+SUMIFS('4-1. 공특입'!$O$6:$O$1992,'4-1. 공특입'!$B$6:$B$1992,$A17, '4-1. 공특입'!$O$6:$O$1992, ">"&0) -> 0 | E17: =C17+D17 -> 0 | F17: =SUMIFS('3. 일출(자체)'!$P$6:$P$1834,'3. 일출(자체)'!$B$6:$B$1834, $A17, '3. 일출(자체)'!$P$6:$P$1834, "<"&0)+SUMIFS('3. 일출(의존)'!$P$6:P$1826,'3. 일출(의존)'!$B$6:$B$1826, $A17, '3. 일출(의존)'!$P$6:$P$1826, "<"&0)+SUMIFS('4. 특출'!$P$5:$P$1991,'4. 특출'!$B$5:$B$1991, $A17, '4. 특출'!$P$5:$P$1991, "<"&0)+SUMIFS('4-1. 공특출'!$P$5:$P$1992,'4-1. 공특출'!$B$5:$B$1992, $A17, '4-1. 공특출'!$P$5:$P$1992, "<"&0) -> 0 | G17: =SUMIFS('3. 일출(자체)'!$P$6:$P$1834,'3. 일출(자체)'!$B$6:$B$1834, $A17, '3. 일출(자체)'!$P$6:$P$1834, ">"&0)+SUMIFS('3. 일출(의존)'!$P$6:$P$1826,'3. 일출(의존)'!$B$6:$B$1826, $A17, '3. 일출(의존)'!$P$6:$P$1826, ">"&0)+SUMIFS('4. 특출'!$P$5:$P$1991,'4. 특출'!$B$5:$B$1991, $A17, '4. 특출'!$P$5:$P$1991, ">"&0)+SUMIFS('4-1. 공특출'!$P$5:$P$1992,'4-1. 공특출'!$B$5:$B$1992, $A17, '4-1. 공특출'!$P$5:$P$1992, ">"&0) -> 0 | H17: =G17+F17 -> 0 | I17: =B17+F17+G17 -> 2367511141
A18: 미래과학협력위원회 | B18: =B42 -> 890727734 | C18: =SUMIFS('3. 일입'!$N$7:$N$1820,'3. 일입'!$B$7:$B$1820, $A18, '3. 일입'!$N$7:$N$1820, "<"&0)+SUMIFS('4. 특입'!$N$6:$N$1994,'4. 특입'!$B$6:$B$1994,$A18, '4. 특입'!$N$6:$N$1994, "<"&0)+SUMIFS('4-1. 공특입'!$O$6:$O$1992,'4-1. 공특입'!$B$6:$B$1992,$A18, '4-1. 공특입'!$O$6:$O$1992, "<"&0) -> 0 | D18: =SUMIFS('3. 일입'!$N$7:$N$1820,'3. 일입'!$B$7:$B$1820, $A18, '3. 일입'!$N$7:$N$1820, ">"&0)+SUMIFS('4. 특입'!$N$6:$N$1994,'4. 특입'!$B$6:$B$1994,$A18, '4. 특입'!$N$6:$N$1994, ">"&0)+SUMIFS('4-1. 공특입'!$O$6:$O$1992,'4-1. 공특입'!$B$6:$B$1992,$A18, '4-1. 공특입'!$O$6:$O$1992, ">"&0) -> 0 | E18: =C18+D18 -> 0 | F18: =SUMIFS('3. 일출(자체)'!$P$6:$P$1834,'3. 일출(자체)'!$B$6:$B$1834, $A18, '3. 일출(자체)'!$P$6:$P$1834, "<"&0)+SUMIFS('3. 일출(의존)'!$P$6:P$1826,'3. 일출(의존)'!$B$6:$B$1826, $A18, '3. 일출(의존)'!$P$6:$P$1826, "<"&0)+SUMIFS('4. 특출'!$P$5:$P$1991,'4. 특출'!$B$5:$B$1991, $A18, '4. 특출'!$P$5:$P$1991, "<"&0)+SUMIFS('4-1. 공특출'!$P$5:$P$1992,'4-1. 공특출'!$B$5:$B$1992, $A18, '4-1. 공특출'!$P$5:$P$1992, "<"&0) -> 0 | G18: =SUMIFS('3. 일출(자체)'!$P$6:$P$1834,'3. 일출(자체)'!$B$6:$B$1834, $A18, '3. 일출(자체)'!$P$6:$P$1834, ">"&0)+SUMIFS('3. 일출(의존)'!$P$6:$P$1826,'3. 일출(의존)'!$B$6:$B$1826, $A18, '3. 일출(의존)'!$P$6:$P$1826, ">"&0)+SUMIFS('4. 특출'!$P$5:$P$1991,'4. 특출'!$B$5:$B$1991, $A18, '4. 특출'!$P$5:$P$1991, ">"&0)+SUMIFS('4-1. 공특출'!$P$5:$P$1992,'4-1. 공특출'!$B$5:$B$1992, $A18, '4-1. 공특출'!$P$5:$P$1992, ">"&0) -> 0 | H18: =G18+F18 -> 0 | I18: =B18+F18+G18 -> 890727734
A19: 여성가족평생교육위원회 | B19: =B43 -> 9354473576 | C19: =SUMIFS('3. 일입'!$N$7:$N$1820,'3. 일입'!$B$7:$B$1820, $A19, '3. 일입'!$N$7:$N$1820, "<"&0)+SUMIFS('4. 특입'!$N$6:$N$1994,'4. 특입'!$B$6:$B$1994,$A19, '4. 특입'!$N$6:$N$1994, "<"&0)+SUMIFS('4-1. 공특입'!$O$6:$O$1992,'4-1. 공특입'!$B$6:$B$1992,$A19, '4-1. 공특입'!$O$6:$O$1992, "<"&0) -> 0 | D19: =SUMIFS('3. 일입'!$N$7:$N$1820,'3. 일입'!$B$7:$B$1820, $A19, '3. 일입'!$N$7:$N$1820, ">"&0)+SUMIFS('4. 특입'!$N$6:$N$1994,'4. 특입'!$B$6:$B$1994,$A19, '4. 특입'!$N$6:$N$1994, ">"&0)+SUMIFS('4-1. 공특입'!$O$6:$O$1992,'4-1. 공특입'!$B$6:$B$1992,$A19, '4-1. 공특입'!$O$6:$O$1992, ">"&0) -> 0 | E19: =C19+D19 -> 0 | F19: =SUMIFS('3. 일출(자체)'!$P$6:$P$1834,'3. 일출(자체)'!$B$6:$B$1834, $A19, '3. 일출(자체)'!$P$6:$P$1834, "<"&0)+SUMIFS('3. 일출(의존)'!$P$6:P$1826,'3. 일출(의존)'!$B$6:$B$1826, $A19, '3. 일출(의존)'!$P$6:$P$1826, "<"&0)+SUMIFS('4. 특출'!$P$5:$P$1991,'4. 특출'!$B$5:$B$1991, $A19, '4. 특출'!$P$5:$P$1991, "<"&0)+SUMIFS('4-1. 공특출'!$P$5:$P$1992,'4-1. 공특출'!$B$5:$B$1992, $A19, '4-1. 공특출'!$P$5:$P$1992, "<"&0) -> 0 | G19: =SUMIFS('3. 일출(자체)'!$P$6:$P$1834,'3. 일출(자체)'!$B$6:$B$1834, $A19, '3. 일출(자체)'!$P$6:$P$1834, ">"&0)+SUMIFS('3. 일출(의존)'!$P$6:$P$1826,'3. 일출(의존)'!$B$6:$B$1826, $A19, '3. 일출(의존)'!$P$6:$P$1826, ">"&0)+SUMIFS('4. 특출'!$P$5:$P$1991,'4. 특출'!$B$5:$B$1991, $A19, '4. 특출'!$P$5:$P$1991, ">"&0)+SUMIFS('4-1. 공특출'!$P$5:$P$1992,'4-1. 공특출'!$B$5:$B$1992, $A19, '4-1. 공특출'!$P$5:$P$1992, ">"&0) -> 0 | H19: =G19+F19 -> 0 | I19: =B19+F19+G19 -> 9354473576
A21: □ 회계별 조정현황
I22: (단위 : 천원)
A23: 구 분 | B23: 집행부제출(안) | C23: 세입예산(안) | F23: 세출예산(안) | I23: 수정예산(안)
C24: 감 액 | D24: 증 액 | E24: 증감액 | F24: 감 액 | G24: 증 액 | H24: 증감액
A25: 계 | B25: =SUM(B26:B27) -> 42242001864 | C25: =SUM(C26:C27) -> -224869 | D25: =SUM(D26:D27) -> 2577539 | E25: =SUM(E26:E27) -> 2352670 | F25: =SUM(F26:F27) -> -507629 | G25: =SUM(G26:G27) -> 12974853 | H25: =SUM(H26:H27) -> 12467224 | I25: =SUM(I26:I27) -> 42254469088
A26: 일반회계 | B26: =D32 -> 37646557814 | C26: =SUMIFS('3. 일입'!$N$7:$N$1820,'3. 일입'!$D$7:$D$1820, "<>"&"", '3. 일입'!$N$7:$N$1820, "<"&0) -> -224869 | D26: =SUMIFS('3. 일입'!$N$7:$N$1820,'3. 일입'!$D$7:$D$1820, "<>"&"", '3. 일입'!$N$7:$N$1820, ">"&0) -> 2577539 | E26: =D26+C26 -> 2352670 | F26: =SUMIFS('3. 일출(자체)'!$P$6:$P$1834,'3. 일출(자체)'!$D$6:$D$1834, "<>"&"", '3. 일출(자체)'!$P$6:$P$1834, "<"&0)+SUMIFS('3. 일출(의존)'!$P$6:$P$1826,'3. 일출(의존)'!$D$6:$D$1826, "<>"&"", '3. 일출(의존)'!$P$6:$P$1826, "<"&0) -> -507629 | G26: =SUMIFS('3. 일출(자체)'!$P$6:$P$1834, '3. 일출(자체)'!$D$6:$D$1834, "<>"&"", '3. 일출(자체)'!$P$6:$P$1834, ">"&0)+ SUMIFS('3. 일출(의존)'!$P$6:$P$1826,'3. 일출(의존)'!$D$6:$D$1826, "<>"&"", '3. 일출(의존)'!$P$6:$P$1826, ">"&0) -> 12974853 | H26: =G26+F26 -> 12467224 | I26: =B26+F26+G26 -> 37659025038
A27: 특별회계 | B27: =E32+F32 -> 4595444050 | C27: =SUMIFS('4. 특입'!$N$6:$N$1000,'4. 특입'!$D$6:$D$1000,"<>"&"", '4. 특입'!$N$6:$N$1000, "<"&0)+SUMIFS('4-1. 공특입'!$O$6:$O$998,'4-1. 공특입'!$D$6:$D$998,"<>"&"", '4-1. 공특입'!$O$6:$O$998, "<"&0) -> 0 | D27: =SUMIFS('4. 특입'!$N$6:$N$1000,'4. 특입'!$D$6:$D$1000,"<>"&"", '4. 특입'!$N$6:$N$1000, ">"&0)+SUMIFS('4-1. 공특입'!$O$6:$O$998,'4-1. 공특입'!$D$6:$D$998,"<>"&"", '4-1. 공특입'!$O$6:$O$998, ">"&0) -> 0 | E27: =D27+C27 -> 0 | F27: =SUMIFS('4. 특출'!$P$5:$P$995,'4. 특출'!$D$5:$D$995, "<>"&"", '4. 특출'!$P$5:$P$995, "<"&0)+SUMIFS('4-1. 공특출'!$P$5:$P$996,'4-1. 공특출'!$D$5:$D$996, "<>"&"", '4-1. 공특출'!$P$5:$P$996, "<"&0) -> 0 | G27: =SUMIFS('4. 특출'!$P$5:$P$995,'4. 특출'!$D$5:$D$995, "<>"&"", '4. 특출'!$P$5:$P$995, ">"&0)+SUMIFS('4-1. 공특출'!$P$5:$P$996,'4-1. 공특출'!$D$5:$D$996, "<>"&"", '4-1. 공특출'!$P$5:$P$996, ">"&0) -> 0 | H27: =G27+F27 -> 0 | I27: =B27+F27+G27 -> 4595444050
A30: ※ 위원회별, 회계별 집행부제출안(예산담당관에서 작성)
A31: 위원회명 | B31: 합계 | C31: 일반+기타 | D31: 일반회계 | E31: 기타특별회계 | F31: 공기업특별회계
A32: 계 | B32: =SUM(B33:B43) -> 42242001864 | C32: =SUM(C33:C43) -> 42187089624 | D32: =SUM(D33:D43) -> 37646557814 | E32: =SUM(E33:E43) -> 4540531810 | F32: =SUM(F33:F43) -> 54912240
A33: 의회운영위원회 | B33: =SUM(D33:F33) -> 129702008 | C33: =D33+E33 -> 129702008 | D33: 129702008 | E33: 0 | F33: 0
A34: 기획재정위원회 | B34: =SUM(D34:F34) -> 5932148107 | C34: =D34+E34 -> 5932148107 | D34: 5892712561 | E34: 39435546 | F34: 0
A35: 경제노동위원회 | B35: =SUM(D35:F35) -> 474872242 | C35: =D35+E35 -> 474872242 | D35: 474872242 | E35: 0 | F35: 0
A36: 안전행정위원회 | B36: =SUM(D36:F36) -> 4269846310 | C36: =D36+E36 -> 4269846310 | D36: 2662231278 | E36: 1607615032 | F36: 0
A37: 문화체육관광위원회 | B37: =SUM(D37:F37) -> 554871567 | C37: =D37+E37 -> 554871567 | D37: 554871567 | E37: 0 | F37: 0
A38: 농정해양위원회 | B38: =SUM(D38:F38) -> 1195877261 | C38: =D38+E38 -> 1195877261 | D38: 1195877261 | E38: 0 | F38: 0
A39: 보건복지위원회 | B39: =SUM(D39:F39) -> 14042559485 | C39: =D39+E39 -> 14042559485 | D39: 11595408031 | E39: 2447151454 | F39: 0
A40: 건설교통위원회 | B40: =SUM(D40:F40) -> 3029412433 | C40: =D40+E40 -> 3029412433 | D40: 2869836504 | E40: 159575929 | F40: 0
A41: 도시환경위원회 | B41: =SUM(D41:F41) -> 2367511141 | C41: =D41+E41 -> 2345220241 | D41: 2170913256 | E41: 174306985 | F41: 22290900
A42: 미래과학협력위원회 | B42: =SUM(D42:F42) -> 890727734 | C42: =D42+E42 -> 858106394 | D42: 858106394 | E42: 0 | F42: 32621340
A43: 여성가족평생교육위원회 | B43: =SUM(D43:F43) -> 9354473576 | C43: =D43+E43 -> 9354473576 | D43: 9242026712 | E43: 112446864 | F43: 0
A45: 예비비 | B45: 42834815

Sheet 3. 일입
A1: 일반회계 세입 예산 조정(안) | AA1: 자동입력 | AF1: 자동입력 | AK1: "3. 일출(의존)" 에 입력 | AN1: "3. 일출(자체)" "3. 일출(의존)" 에 입력 | AS1: 검증 | AZ1: 검증
AA2: 국비 세입=국비 세출 | AC2: 도비 세입=도비 세출 | AF2: 국비 세입=국비 세출 | AH2: 도비 세입=도비 세출
Y3: (단위 : 천원) | AA3: =IF(AA7='3. 일출(의존)'!AB6,"OK","@@") -> OK | AC3: =IF(SUM(AB7:AD7) = SUM('3. 일출(자체)'!AC6:AE6) + SUM('3. 일출(의존)'!AC6:AE6),"OK","@@") -> @@ | AF3: =IF(AF7='3. 일출(의존)'!AH6,"OK","@@") -> OK | AH3: =IF(SUM(AG7:AI7) = SUM('3. 일출(자체)'!AH6:AJ6) + SUM('3. 일출(의존)'!AI6:AK6),"OK","@@") -> OK
A4: 번호 | B4: 위원회명 | C4: 실국명 | D4: 부서명 | E4: 편성 구분 | F4: 예산안 /예산서 페이지 | G4: 실국별 사업 설명서 페이지 | H4: 목코드 | I4: 목명 | J4: 부기명 | K4: 기정액 (본예산+1추) (가) | L4: 증감액 (2회추경안) (나) | M4: 예산안 (다=가+나) | N4: 상임위 조정액 (라) | O4: 상임위 조정 예산안 (마=다+라) | P4: 예결특위 조정액 (바) | Q4: 예결특위 조정 예산안 (사=다+바) | R4: 상임위 동의 대상 | S4: 참고자료 (관련공문) | T4: 상임위 부대의견 | U4: 예비 심사시 집행부 동의여부 | V4: 예결특위 부대의견 | W4: 부대의견 | X4: 실국의견 청취대상 | Y4: 국도비 등 여부 | AA4: 상임위 재원별 증감액 | AF4: 예결위 재원별 증감액 | AK4: 국비 | AN4: 도비 | AQ4: 실국 부서 코드 | AS4: 상임위 세입/세출 검증 | AZ4: 예결위 세입/세출 검증
AA5: 국비 | AB5: 도비 | AF5: 국비 | AG5: 도비 | AK5: 세입 번호 | AL5: 재원 | AN5: 세입 번호 | AO5: 재원 | AS5: 국비 | AV5: 도비 | AZ5: 국비 | BC5: 도비
AB6: 자체 | AC6: 지방채 | AD6: 지역개발기금 | AG6: 자체 | AH6: 지방채 | AI6: 지역개발기금 | AS6: 증감액 | AT6: 건수 | AU6: 세입세출 금액검증 | AV6: 증감액 | AW6: 건수 | AX6: 세입세출 금액검증 | AZ6: 증감액 | BA6: 건수 | BB6: 세입세출 금액검증 | BC6: 증감액 | BD6: 건수 | BE6: 세입세출 금액검증
B7: 합 계 | J7: =SUBTOTAL(3,J$8:J$1820)&"건" -> 7건 | K7: =SUBTOTAL(9,K$8:K$1820) -> 32934788 | L7: =SUBTOTAL(9,L$8:L$1820) -> 2072287 | M7: =SUBTOTAL(9,M$8:M$1820) -> 35007075 | N7: =SUBTOTAL(9,N$8:N$1820) -> 2352670 | O7: =SUBTOTAL(9,O$8:O$1820) -> 37359745 | P7: =SUBTOTAL(9,P$8:P$1820) -> 0 | Q7: =SUBTOTAL(9,Q$8:Q$1820) -> 35007075 | AA7: =SUBTOTAL(9,AA$8:AA$1820) -> 2348420 | AB7: =SUBTOTAL(9,AB$8:AB$1820) -> 0 | AC7: =SUBTOTAL(9,AC$8:AC$1820) -> 4250 | AD7: =SUBTOTAL(9,AD$8:AD$1820) -> 0 | AF7: =SUBTOTAL(9,AF$8:AF$1820) -> 0 | AG7: =SUBTOTAL(9,AG$8:AG$1820) -> 0 | AH7: =SUBTOTAL(9,AH$8:AH$1820) -> 0 | AI7: =SUBTOTAL(9,AI$8:AI$1820) -> 0 | AS7: =SUBTOTAL(9,AS$8:AS$1820) -> 2348420 | AT7: =SUBTOTAL(9,AT$8:AT$1820) -> 8 | AU7: =IF(COUNTIF(AU$8:AU$1820,"@@")>0,"@@","OK") -> OK | AV7: =SUBTOTAL(9,AV$8:AV$1820) -> 4250 | AW7: =SUBTOTAL(9,AW$8:AW$1820) -> 2 | AX7: =IF(COUNTIF(AX$8:AX$1820,"@@")>0,"@@","OK") -> OK | AZ7: =SUBTOTAL(9,AZ$8:AZ$1820) -> 0 | BA7: =SUBTOTAL(9,BA$8:BA$1820) -> 8 | BB7: =IF(COUNTIF(BB$8:BB$1820,"@@")>0,"@@","OK") -> OK | BC7: =SUBTOTAL(9,BC$8:BC$1820) -> 0 | BD7: =SUBTOTAL(9,BD$8:BD$1820) -> 2 | BE7: =IF(COUNTIF(BE$8:BE$1820,"@@")>0,"@@","OK") -> OK
B8: (농정해양위원회) | J8: =SUBTOTAL(3,J9:J15)&"건" -> 7건 | K8: =SUBTOTAL(9,K9:K15) -> 32934788 | L8: =SUBTOTAL(9,L9:L15) -> 2072287 | M8: =SUBTOTAL(9,M9:M15) -> 35007075 | N8: =SUBTOTAL(9,N9:N15) -> 2352670 | O8: =SUBTOTAL(9,O9:O15) -> 37359745 | P8: =SUBTOTAL(9,P9:P15) -> 0 | Q8: =SUBTOTAL(9,Q9:Q15) -> 35007075 | AA8: =SUBTOTAL(9,AA9:AA15) -> 2348420 | AB8: =SUBTOTAL(9,AB9:AB15) -> 0 | AC8: =SUBTOTAL(9,AC9:AC15) -> 4250 | AD8: =SUBTOTAL(9,AD9:AD15) -> 0 | AF8: =SUBTOTAL(9,AF9:AF15) -> 0 | AG8: =SUBTOTAL(9,AG9:AG15) -> 0 | AH8: =SUBTOTAL(9,AH9:AH15) -> 0 | AI8: =SUBTOTAL(9,AI9:AI15) -> 0 | AS8: =SUBTOTAL(9,AS9:AS15) -> 2348420 | AT8: =SUBTOTAL(9,AT9:AT15) -> 8 | AU8: =IF(COUNTIF(AU9:AU15,"@@")>0,"@@","OK") -> OK | AV8: =SUBTOTAL(9,AV9:AV15) -> 4250 | AW8: =SUBTOTAL(9,AW9:AW15) -> 2 | AX8: =IF(COUNTIF(AX9:AX15,"@@")>0,"@@","OK") -> OK | AZ8: =SUBTOTAL(9,AZ9:AZ15) -> 0 | BA8: =SUBTOTAL(9,BA9:BA15) -> 8 | BB8: =IF(COUNTIF(BB9:BB15,"@@")>0,"@@","OK") -> OK | BC8: =SUBTOTAL(9,BC9:BC15) -> 0 | BD8: =SUBTOTAL(9,BD9:BD15) -> 2 | BE8: =IF(COUNTIF(BE9:BE15,"@@")>0,"@@","OK") -> OK
A9: =IF(D9="","",COUNTA($C$8:C9)-COUNTBLANK($C$8:C9)+6) -> 6 | B9: =IF(D9="","",IF(OR(C9="직접입력",D9="북부지원"),"직접입력",IF(OR(AND(D9="인사과",C9="의회사무처"),AND(D9="총무과",C9="의회사무처")),"의회운영위원회",IF(OR(C9="직접입력",D9="북부지원"),"직접입력",IF(OR(AND(D9="인사과",C9="자치행정국"),AND(D9="총무과",C9="자치행정국")),"안전행정위원회",VLOOKUP(D9,구분표!$A$3:$C$258,2,)))))) -> 농정해양위원회 | C9: =IF(D9="","",IF(OR(D9="교육지원과",D9="총무과",D9="인사과"),"직접입력",VLOOKUP(D9,구분표!$A$3:$C$258,3,))) -> 농수산생명과학국 | D9: 해양수산과 | E9: 신규 | F9: - | G9: - | H9: 511-01 | I9: =IF(H9="","",VLOOKUP($H9,구분표!$O$3:$P$168,2,FALSE)) -> 국고보조금 | J9: 친환경수산물 인증 직불제 | K9: =IF($E9="","",IF(OR($E9="2추", $E9="1추", $E9="본예산"), "금액입력", "-")) -> - | L9: =IF($E9="", "", IF($E9="2추","금액입력", "-")) -> - | M9: =IF($E9="","",SUM(K9:L9)) -> 0 | N9: 41339 | O9: =SUM(M9:N9) -> 41339 | Q9: =SUM(M9,P9) -> 0 | R9: =IF(AND((O9=0),(Q9>0)),"O",IF(AND((N9<0),(O9-Q9<0)),"O","X")) -> X | S9: 해양수산부 양식산업과-4527(2026.9.4.) | Y9: =IF($H9="","",IF(OR($H9="511-01", $H9="511-02", $H9="511-03", $H9="311-02", $H9="311-04", $H9="321-01"),"국비","도비")) -> 국비 | AA9: =IF($Y9="국비", IF($N9<>"", $N9, 0), "") -> 41339 | AB9: =IF($Y9="도비", IF($AO9="자체", IF($N9<>"",$N9,0),""), "") | AC9: =IF($Y9="도비",IF($AO9="지방채",IF($N9<>"",$N9,0),""), "") | AD9: =IF($Y9="도비",IF($AO9="지역개발기금",IF($N9<>"",$N9,0),""),"") | AF9: =IF($Y9="국비", IF($P9<>"", $P9, 0), "") -> 0 | AG9: =IF($Y9="도비", IF($AO9="자체", IF($P9<>"",$P9,0),""), "") | AH9: =IF($Y9="도비",IF($AO9="지방채",IF($P9<>"",$P9,0),""), "") | AI9: =IF($Y9="도비",IF($AO9="지역개발기금",IF($P9<>"",$P9,0),""),"") | AK9: =IF($AQ9="","", IF(OR($AL9="", $AL9="도비"), "", CONCATENATE($AQ9,"-",COUNTIF($AQ$8:$AQ9,$AQ9)))) -> 14004-1 | AL9: =IF($H9="","",IF($H9="511-01","국비",IF($H9="511-02","균특",IF($H9="511-03","기금",IF($H9="311-02","특교",IF($H9="311-04","소교",IF($H9="321-01","소멸","도비"))))))) -> 국비 | AN9: =IF($AQ9="","", IF(OR($AO9="", $AO9="국비", $AO9="자체"), "", CONCATENATE($AQ9,"-", $AO9,"-",COUNTIF($AQ$8:$AQ9, $AQ9)))) | AO9: =IF($Y9="","", IF($Y9="국비", "국비", IF($H9="612-01","지방채",IF($H9="722-02","지역개발기금","자체")))) -> 국비 | AQ9: {=IF(OR($D9="", $C9="직접입력", $B9="직접입력"),"",INDEX(구분표!$I$2:$I$337, MATCH(1,(구분표!$G$2:$G$337='3. 일입'!$B9)*(구분표!$E$2:$E$337='3. 일입'!$C9)*(구분표!$F$2:$F$337='3. 일입'!$D9),0)))} -> 14004 | AS9: =IF($AK9="","", SUMIFS('3. 일출(의존)'!$AB$7:$AB$1826,'3. 일출(의존)'!$AN$7:$AN$1826,$AK9)) -> 41339 | AT9: =IF($AK9="","", COUNTIF('3. 일출(의존)'!$AN$7:$AN$1826,$AK9)) -> 1 | AU9: =IF($AK9="", "", IF($AA9=$AS9,"OK","@@")) -> OK | AV9: =IF($AN9="","",IF($AO9="지역개발기금",SUMIFS('3. 일출(의존)'!$AE$7:$AE$1837,'3. 일출(의존)'!$AS$7:$AS$1837,$AN9)+SUMIFS('3. 일출(자체)'!$AE$7:$AE$1845,'3. 일출(자체)'!$AM$7:$AM$1845,$AN9),IF($AO9="지방채",SUMIFS('3. 일출(의존)'!$AD$7:$AD$1837,'3. 일출(의존)'!$AS$7:$AS$1837,$AN9)+SUMIFS('3. 일출(자체)'!$AD$7:$AD$1845,'3. 일출(자체)'!$AM$7:$AM$1845,$AN9),0))) | AW9: =IF($AN9="","", COUNTIF('3. 일출(의존)'!$AS$7:$AS$1837,$AN9)+COUNTIF('3. 일출(자체)'!$AM$7:$AM$1845,$AN9)) | AX9: =IF($AN9="","", IF($AO9="자체","", IF($AO9="지방채", IF($AC9=$AV9, "OK", "@@"), IF($AO9="지역개발기금", IF($AD9=$AV9,"OK","@@"), "@@")))) | AZ9: =IF($AK9="","", SUMIFS('3. 일출(의존)'!$AH$7:$AH$1826,'3. 일출(의존)'!$AN$7:$AN$1826,$AK9)) -> 0 | BA9: =IF($AK9="","", COUNTIF('3. 일출(의존)'!$AN$7:$AN$1826,$AK9)) -> 1 | BB9: =IF($AK9="", "", IF($AF9=$AZ9,"OK","@@")) -> OK | BC9: =IF($AN9="","",IF($AO9="지역개발기금",SUMIFS('3. 일출(의존)'!$AK$7:$AK$1837,'3. 일출(의존)'!$AS$7:$AS$1837,$AN9)+SUMIFS('3. 일출(자체)'!$AJ$7:$AJ$1845,'3. 일출(자체)'!$AM$7:$AM$1845,$AN9),IF($AO9="지방채",SUMIFS('3. 일출(의존)'!$AJ$7:$AJ$1837,'3. 일출(의존)'!$AS$7:$AS$1837,$AN9)+SUMIFS('3. 일출(자체)'!$AI$7:$AI$1845,'3. 일출(자체)'!$AM$7:$AM$1845,$AN9),0))) | BD9: =IF($AN9="","",COUNTIF('3. 일출(의존)'!$AS$7:$AS$1837,$AN9)+COUNTIF('3. 일출(자체)'!$AM$7:$AM$1845,$AN9)) | BE9: =IF($AN9="","", IF($AO9="자체", "", IF($AO9="지방채", IF($AH9=$BC9, "OK", "@@"), IF($AO9="지역개발기금", IF($AI9=$BC9,"OK","@@"), "@@"))))
A10: =IF(D10="","",COUNTA($C$8:C10)-COUNTBLANK($C$8:C10)+6) -> 7 | B10: =IF(D10="","",IF(OR(C10="직접입력",D10="북부지원"),"직접입력",IF(OR(AND(D10="인사과",C10="의회사무처"),AND(D10="총무과",C10="의회사무처")),"의회운영위원회",IF(OR(C10="직접입력",D10="북부지원"),"직접입력",IF(OR(AND(D10="인사과",C10="자치행정국"),AND(D10="총무과",C10="자치행정국")),"안전행정위원회",VLOOKUP(D10,구분표!$A$3:$C$258,2,)))))) -> 농정해양위원회 | C10: =IF(D10="","",IF(OR(D10="교육지원과",D10="총무과",D10="인사과"),"직접입력",VLOOKUP(D10,구분표!$A$3:$C$258,3,))) -> 축산동물복지국 | D10: 축산정책과 | E10: 2추 | F10: 645 | G10: 15 | H10: 511-03 | I10: =IF(H10="","",VLOOKUP($H10,구분표!$O$3:$P$168,2,FALSE)) -> 기금 | J10: 가축분뇨 퇴액비 살포비 지원 | K10: 334000 | L10: 39000 | M10: =IF($E10="","",SUM(K10:L10)) -> 373000 | N10: 40000 | O10: =SUM(M10:N10) -> 413000 | Q10: =SUM(M10,P10) -> 373000 | R10: =IF(AND((O10=0),(Q10>0)),"O",IF(AND((N10<0),(O10-Q10<0)),"O","X")) -> X | S10: 농림축산식품부 축산환경자원화-4694(2026.9.4.)호 | Y10: =IF($H10="","",IF(OR($H10="511-01", $H10="511-02", $H10="511-03", $H10="311-02", $H10="311-04", $H10="321-01"),"국비","도비")) -> 국비 | AA10: =IF($Y10="국비", IF($N10<>"", $N10, 0), "") -> 40000 | AB10: =IF($Y10="도비", IF($AO10="자체", IF($N10<>"",$N10,0),""), "") | AC10: =IF($Y10="도비",IF($AO10="지방채",IF($N10<>"",$N10,0),""), "") | AD10: =IF($Y10="도비",IF($AO10="지역개발기금",IF($N10<>"",$N10,0),""),"") | AF10: =IF($Y10="국비", IF($P10<>"", $P10, 0), "") -> 0 | AG10: =IF($Y10="도비", IF($AO10="자체", IF($P10<>"",$P10,0),""), "") | AH10: =IF($Y10="도비",IF($AO10="지방채",IF($P10<>"",$P10,0),""), "") | AI10: =IF($Y10="도비",IF($AO10="지역개발기금",IF($P10<>"",$P10,0),""),"") | AK10: =IF($AQ10="","", IF(OR($AL10="", $AL10="도비"), "", CONCATENATE($AQ10,"-",COUNTIF($AQ$8:$AQ10,$AQ10)))) -> 20701-1 | AL10: =IF($H10="","",IF($H10="511-01","국비",IF($H10="511-02","균특",IF($H10="511-03","기금",IF($H10="311-02","특교",IF($H10="311-04","소교",IF($H10="321-01","소멸","도비"))))))) -> 기금 | AN10: =IF($AQ10="","", IF(OR($AO10="", $AO10="국비", $AO10="자체"), "", CONCATENATE($AQ10,"-", $AO10,"-",COUNTIF($AQ$8:$AQ10, $AQ10)))) | AO10: =IF($Y10="","", IF($Y10="국비", "국비", IF($H10="612-01","지방채",IF($H10="722-02","지역개발기금","자체")))) -> 국비 | AQ10: {=IF(OR($D10="", $C10="직접입력", $B10="직접입력"),"",INDEX(구분표!$I$2:$I$337, MATCH(1,(구분표!$G$2:$G$337='3. 일입'!$B10)*(구분표!$E$2:$E$337='3. 일입'!$C10)*(구분표!$F$2:$F$337='3. 일입'!$D10),0)))} -> 20701 | AS10: =IF($AK10="","", SUMIFS('3. 일출(의존)'!$AB$7:$AB$1826,'3. 일출(의존)'!$AN$7:$AN$1826,$AK10)) -> 40000 | AT10: =IF($AK10="","", COUNTIF('3. 일출(의존)'!$AN$7:$AN$1826,$AK10)) -> 1 | AU10: =IF($AK10="", "", IF($AA10=$AS10,"OK","@@")) -> OK | AV10: =IF($AN10="","",IF($AO10="지역개발기금",SUMIFS('3. 일출(의존)'!$AE$7:$AE$1837,'3. 일출(의존)'!$AS$7:$AS$1837,$AN10)+SUMIFS('3. 일출(자체)'!$AE$7:$AE$1845,'3. 일출(자체)'!$AM$7:$AM$1845,$AN10),IF($AO10="지방채",SUMIFS('3. 일출(의존)'!$AD$7:$AD$1837,'3. 일출(의존)'!$AS$7:$AS$1837,$AN10)+SUMIFS('3. 일출(자체)'!$AD$7:$AD$1845,'3. 일출(자체)'!$AM$7:$AM$1845,$AN10),0))) | AW10: =IF($AN10="","", COUNTIF('3. 일출(의존)'!$AS$7:$AS$1837,$AN10)+COUNTIF('3. 일출(자체)'!$AM$7:$AM$1845,$AN10)) | AX10: =IF($AN10="","", IF($AO10="자체","", IF($AO10="지방채", IF($AC10=$AV10, "OK", "@@"), IF($AO10="지역개발기금", IF($AD10=$AV10,"OK","@@"), "@@")))) | AZ10: =IF($AK10="","", SUMIFS('3. 일출(의존)'!$AH$7:$AH$1826,'3. 일출(의존)'!$AN$7:$AN$1826,$AK10)) -> 0 | BA10: =IF($AK10="","", COUNTIF('3. 일출(의존)'!$AN$7:$AN$1826,$AK10)) -> 1 | BB10: =IF($AK10="", "", IF($AF10=$AZ10,"OK","@@")) -> OK | BC10: =IF($AN10="","",IF($AO10="지역개발기금",SUMIFS('3. 일출(의존)'!$AK$7:$AK$1837,'3. 일출(의존)'!$AS$7:$AS$1837,$AN10)+SUMIFS('3. 일출(자체)'!$AJ$7:$AJ$1845,'3. 일출(자체)'!$AM$7:$AM$1845,$AN10),IF($AO10="지방채",SUMIFS('3. 일출(의존)'!$AJ$7:$AJ$1837,'3. 일출(의존)'!$AS$7:$AS$1837,$AN10)+SUMIFS('3. 일출(자체)'!$AI$7:$AI$1845,'3. 일출(자체)'!$AM$7:$AM$1845,$AN10),0))) | BD10: =IF($AN10="","",COUNTIF('3. 일출(의존)'!$AS$7:$AS$1837,$AN10)+COUNTIF('3. 일출(자체)'!$AM$7:$AM$1845,$AN10)) | BE10: =IF($AN10="","", IF($AO10="자체", "", IF($AO10="지방채", IF($AH10=$BC10, "OK", "@@"), IF($AO10="지역개발기금", IF($AI10=$BC10,"OK","@@"), "@@"))))
A11: =IF(D11="","",COUNTA($C$8:C11)-COUNTBLANK($C$8:C11)+6) -> 8 | B11: =IF(D11="","",IF(OR(C11="직접입력",D11="북부지원"),"직접입력",IF(OR(AND(D11="인사과",C11="의회사무처"),AND(D11="총무과",C11="의회사무처")),"의회운영위원회",IF(OR(C11="직접입력",D11="북부지원"),"직접입력",IF(OR(AND(D11="인사과",C11="자치행정국"),AND(D11="총무과",C11="자치행정국")),"안전행정위원회",VLOOKUP(D11,구분표!$A$3:$C$258,2,)))))) -> 농정해양위원회 | C11: =IF(D11="","",IF(OR(D11="교육지원과",D11="총무과",D11="인사과"),"직접입력",VLOOKUP(D11,구분표!$A$3:$C$258,3,))) -> 축산동물복지국 | D11: 축산정책과 | E11: 2추 | F11: 645 | G11: 16 | H11: 612-01 | I11: =IF(H11="","",VLOOKUP($H11,구분표!$O$3:$P$168,2,FALSE)) -> 모집공채 | J11: 축산정책과 지방채 차입금 | K11: 0 | L11: 96000 | M11: =IF($E11="","",SUM(K11:L11)) -> 96000 | N11: 20000 | O11: =SUM(M11:N11) -> 116000 | Q11: =SUM(M11,P11) -> 96000 | R11: =IF(AND((O11=0),(Q11>0)),"O",IF(AND((N11<0),(O11-Q11<0)),"O","X")) -> X | S11: 농림축산식품부 축산환경자원화-4694(2026.9.4.)호 | Y11: =IF($H11="","",IF(OR($H11="511-01", $H11="511-02", $H11="511-03", $H11="311-02", $H11="311-04", $H11="321-01"),"국비","도비")) -> 도비 | AA11: =IF($Y11="국비", IF($N11<>"", $N11, 0), "") | AB11: =IF($Y11="도비", IF($AO11="자체", IF($N11<>"",$N11,0),""), "") | AC11: =IF($Y11="도비",IF($AO11="지방채",IF($N11<>"",$N11,0),""), "") -> 20000 | AD11: =IF($Y11="도비",IF($AO11="지역개발기금",IF($N11<>"",$N11,0),""),"") | AF11: =IF($Y11="국비", IF($P11<>"", $P11, 0), "") | AG11: =IF($Y11="도비", IF($AO11="자체", IF($P11<>"",$P11,0),""), "") | AH11: =IF($Y11="도비",IF($AO11="지방채",IF($P11<>"",$P11,0),""), "") -> 0 | AI11: =IF($Y11="도비",IF($AO11="지역개발기금",IF($P11<>"",$P11,0),""),"") | AK11: =IF($AQ11="","", IF(OR($AL11="", $AL11="도비"), "", CONCATENATE($AQ11,"-",COUNTIF($AQ$8:$AQ11,$AQ11)))) | AL11: =IF($H11="","",IF($H11="511-01","국비",IF($H11="511-02","균특",IF($H11="511-03","기금",IF($H11="311-02","특교",IF($H11="311-04","소교",IF($H11="321-01","소멸","도비"))))))) -> 도비 | AN11: =IF($AQ11="","", IF(OR($AO11="", $AO11="국비", $AO11="자체"), "", CONCATENATE($AQ11,"-", $AO11,"-",COUNTIF($AQ$8:$AQ11, $AQ11)))) -> 20701-지방채-2 | AO11: =IF($Y11="","", IF($Y11="국비", "국비", IF($H11="612-01","지방채",IF($H11="722-02","지역개발기금","자체")))) -> 지방채 | AQ11: {=IF(OR($D11="", $C11="직접입력", $B11="직접입력"),"",INDEX(구분표!$I$2:$I$337, MATCH(1,(구분표!$G$2:$G$337='3. 일입'!$B11)*(구분표!$E$2:$E$337='3. 일입'!$C11)*(구분표!$F$2:$F$337='3. 일입'!$D11),0)))} -> 20701 | AS11: =IF($AK11="","", SUMIFS('3. 일출(의존)'!$AB$7:$AB$1826,'3. 일출(의존)'!$AN$7:$AN$1826,$AK11)) | AT11: =IF($AK11="","", COUNTIF('3. 일출(의존)'!$AN$7:$AN$1826,$AK11)) | AU11: =IF($AK11="", "", IF($AA11=$AS11,"OK","@@")) | AV11: =IF($AN11="","",IF($AO11="지역개발기금",SUMIFS('3. 일출(의존)'!$AE$7:$AE$1837,'3. 일출(의존)'!$AS$7:$AS$1837,$AN11)+SUMIFS('3. 일출(자체)'!$AE$7:$AE$1845,'3. 일출(자체)'!$AM$7:$AM$1845,$AN11),IF($AO11="지방채",SUMIFS('3. 일출(의존)'!$AD$7:$AD$1837,'3. 일출(의존)'!$AS$7:$AS$1837,$AN11)+SUMIFS('3. 일출(자체)'!$AD$7:$AD$1845,'3. 일출(자체)'!$AM$7:$AM$1845,$AN11),0))) -> 20000 | AW11: =IF($AN11="","", COUNTIF('3. 일출(의존)'!$AS$7:$AS$1837,$AN11)+COUNTIF('3. 일출(자체)'!$AM$7:$AM$1845,$AN11)) -> 1 | AX11: =IF($AN11="","", IF($AO11="자체","", IF($AO11="지방채", IF($AC11=$AV11, "OK", "@@"), IF($AO11="지역개발기금", IF($AD11=$AV11,"OK","@@"), "@@")))) -> OK | AZ11: =IF($AK11="","", SUMIFS('3. 일출(의존)'!$AH$7:$AH$1826,'3. 일출(의존)'!$AN$7:$AN$1826,$AK11)) | BA11: =IF($AK11="","", COUNTIF('3. 일출(의존)'!$AN$7:$AN$1826,$AK11)) | BB11: =IF($AK11="", "", IF($AF11=$AZ11,"OK","@@")) | BC11: =IF($AN11="","",IF($AO11="지역개발기금",SUMIFS('3. 일출(의존)'!$AK$7:$AK$1837,'3. 일출(의존)'!$AS$7:$AS$1837,$AN11)+SUMIFS('3. 일출(자체)'!$AJ$7:$AJ$1845,'3. 일출(자체)'!$AM$7:$AM$1845,$AN11),IF($AO11="지방채",SUMIFS('3. 일출(의존)'!$AJ$7:$AJ$1837,'3. 일출(의존)'!$AS$7:$AS$1837,$AN11)+SUMIFS('3. 일출(자체)'!$AI$7:$AI$1845,'3. 일출(자체)'!$AM$7:$AM$1845,$AN11),0))) -> 0 | BD11: =IF($AN11="","",COUNTIF('3. 일출(의존)'!$AS$7:$AS$1837,$AN11)+COUNTIF('3. 일출(자체)'!$AM$7:$AM$1845,$AN11)) -> 1 | BE11: =IF($AN11="","", IF($AO11="자체", "", IF($AO11="지방채", IF($AH11=$BC11, "OK", "@@"), IF($AO11="지역개발기금", IF($AI11=$BC11,"OK","@@"), "@@")))) -> OK
A12: =IF(D12="","",COUNTA($C$8:C12)-COUNTBLANK($C$8:C12)+6) -> 9 | B12: =IF(D12="","",IF(OR(C12="직접입력",D12="북부지원"),"직접입력",IF(OR(AND(D12="인사과",C12="의회사무처"),AND(D12="총무과",C12="의회사무처")),"의회운영위원회",IF(OR(C12="직접입력",D12="북부지원"),"직접입력",IF(OR(AND(D12="인사과",C12="자치행정국"),AND(D12="총무과",C12="자치행정국")),"안전행정위원회",VLOOKUP(D12,구분표!$A$3:$C$258,2,)))))) -> 농정해양위원회 | C12: =IF(D12="","",IF(OR(D12="교육지원과",D12="총무과",D12="인사과"),"직접입력",VLOOKUP(D12,구분표!$A$3:$C$258,3,))) -> 축산동물복지국 | D12: 동물방역위생과 | E12: 2추 | F12: 647 | G12: 25 | H12: 511-01 | I12: =IF(H12="","",VLOOKUP($H12,구분표!$O$3:$P$168,2,FALSE)) -> 국고보조금 | J12: 구제역 예방접종 지원 | K12: 5554496 | L12: 1664900 | M12: =IF($E12="","",SUM(K12:L12)) -> 7219396 | N12: -160030 | O12: =SUM(M12:N12) -> 7059366 | Q12: =SUM(M12,P12) -> 7219396 | R12: =IF(AND((O12=0),(Q12>0)),"O",IF(AND((N12<0),(O12-Q12<0)),"O","X")) -> O | S12: 2026년 가축백신지원(구제역 예방약 등 지원) 변경통보(변경내시) 정정 알림[농림축산식품부 구제역방역과-5836(2026. 8. 18)] | Y12: =IF($H12="","",IF(OR($H12="511-01", $H12="511-02", $H12="511-03", $H12="311-02", $H12="311-04", $H12="321-01"),"국비","도비")) -> 국비 | AA12: =IF($Y12="국비", IF($N12<>"", $N12, 0), "") -> -160030 | AB12: =IF($Y12="도비", IF($AO12="자체", IF($N12<>"",$N12,0),""), "") | AC12: =IF($Y12="도비",IF($AO12="지방채",IF($N12<>"",$N12,0),""), "") | AD12: =IF($Y12="도비",IF($AO12="지역개발기금",IF($N12<>"",$N12,0),""),"") | AF12: =IF($Y12="국비", IF($P12<>"", $P12, 0), "") -> 0 | AG12: =IF($Y12="도비", IF($AO12="자체", IF($P12<>"",$P12,0),""), "") | AH12: =IF($Y12="도비",IF($AO12="지방채",IF($P12<>"",$P12,0),""), "") | AI12: =IF($Y12="도비",IF($AO12="지역개발기금",IF($P12<>"",$P12,0),""),"") | AK12: =IF($AQ12="","", IF(OR($AL12="", $AL12="도비"), "", CONCATENATE($AQ12,"-",COUNTIF($AQ$8:$AQ12,$AQ12)))) -> 20702-1 | AL12: =IF($H12="","",IF($H12="511-01","국비",IF($H12="511-02","균특",IF($H12="511-03","기금",IF($H12="311-02","특교",IF($H12="311-04","소교",IF($H12="321-01","소멸","도비"))))))) -> 국비 | AN12: =IF($AQ12="","", IF(OR($AO12="", $AO12="국비", $AO12="자체"), "", CONCATENATE($AQ12,"-", $AO12,"-",COUNTIF($AQ$8:$AQ12, $AQ12)))) | AO12: =IF($Y12="","", IF($Y12="국비", "국비", IF($H12="612-01","지방채",IF($H12="722-02","지역개발기금","자체")))) -> 국비 | AQ12: {=IF(OR($D12="", $C12="직접입력", $B12="직접입력"),"",INDEX(구분표!$I$2:$I$337, MATCH(1,(구분표!$G$2:$G$337='3. 일입'!$B12)*(구분표!$E$2:$E$337='3. 일입'!$C12)*(구분표!$F$2:$F$337='3. 일입'!$D12),0)))} -> 20702 | AS12: =IF($AK12="","", SUMIFS('3. 일출(의존)'!$AB$7:$AB$1826,'3. 일출(의존)'!$AN$7:$AN$1826,$AK12)) -> -160030 | AT12: =IF($AK12="","", COUNTIF('3. 일출(의존)'!$AN$7:$AN$1826,$AK12)) -> 3 | AU12: =IF($AK12="", "", IF($AA12=$AS12,"OK","@@")) -> OK | AV12: =IF($AN12="","",IF($AO12="지역개발기금",SUMIFS('3. 일출(의존)'!$AE$7:$AE$1837,'3. 일출(의존)'!$AS$7:$AS$1837,$AN12)+SUMIFS('3. 일출(자체)'!$AE$7:$AE$1845,'3. 일출(자체)'!$AM$7:$AM$1845,$AN12),IF($AO12="지방채",SUMIFS('3. 일출(의존)'!$AD$7:$AD$1837,'3. 일출(의존)'!$AS$7:$AS$1837,$AN12)+SUMIFS('3. 일출(자체)'!$AD$7:$AD$1845,'3. 일출(자체)'!$AM$7:$AM$1845,$AN12),0))) | AW12: =IF($AN12="","", COUNTIF('3. 일출(의존)'!$AS$7:$AS$1837,$AN12)+COUNTIF('3. 일출(자체)'!$AM$7:$AM$1845,$AN12)) | AX12: =IF($AN12="","", IF($AO12="자체","", IF($AO12="지방채", IF($AC12=$AV12, "OK", "@@"), IF($AO12="지역개발기금", IF($AD12=$AV12,"OK","@@"), "@@")))) | AZ12: =IF($AK12="","", SUMIFS('3. 일출(의존)'!$AH$7:$AH$1826,'3. 일출(의존)'!$AN$7:$AN$1826,$AK12)) -> 0 | BA12: =IF($AK12="","", COUNTIF('3. 일출(의존)'!$AN$7:$AN$1826,$AK12)) -> 3 | BB12: =IF($AK12="", "", IF($AF12=$AZ12,"OK","@@")) -> OK | BC12: =IF($AN12="","",IF($AO12="지역개발기금",SUMIFS('3. 일출(의존)'!$AK$7:$AK$1837,'3. 일출(의존)'!$AS$7:$AS$1837,$AN12)+SUMIFS('3. 일출(자체)'!$AJ$7:$AJ$1845,'3. 일출(자체)'!$AM$7:$AM$1845,$AN12),IF($AO12="지방채",SUMIFS('3. 일출(의존)'!$AJ$7:$AJ$1837,'3. 일출(의존)'!$AS$7:$AS$1837,$AN12)+SUMIFS('3. 일출(자체)'!$AI$7:$AI$1845,'3. 일출(자체)'!$AM$7:$AM$1845,$AN12),0))) | BD12: =IF($AN12="","",COUNTIF('3. 일출(의존)'!$AS$7:$AS$1837,$AN12)+COUNTIF('3. 일출(자체)'!$AM$7:$AM$1845,$AN12)) | BE12: =IF($AN12="","", IF($AO12="자체", "", IF($AO12="지방채", IF($AH12=$BC12, "OK", "@@"), IF($AO12="지역개발기금", IF($AI12=$BC12,"OK","@@"), "@@"))))
A13: =IF(D13="","",COUNTA($C$8:C13)-COUNTBLANK($C$8:C13)+6) -> 10 | B13: =IF(D13="","",IF(OR(C13="직접입력",D13="북부지원"),"직접입력",IF(OR(AND(D13="인사과",C13="의회사무처"),AND(D13="총무과",C13="의회사무처")),"의회운영위원회",IF(OR(C13="직접입력",D13="북부지원"),"직접입력",IF(OR(AND(D13="인사과",C13="자치행정국"),AND(D13="총무과",C13="자치행정국")),"안전행정위원회",VLOOKUP(D13,구분표!$A$3:$C$258,2,)))))) -> 농정해양위원회 | C13: =IF(D13="","",IF(OR(D13="교육지원과",D13="총무과",D13="인사과"),"직접입력",VLOOKUP(D13,구분표!$A$3:$C$258,3,))) -> 축산동물복지국 | D13: 동물방역위생과 | E13: 본예산 | F13: =IF($E13="","",IF($E13="2추","직접입력","-")) -> - | G13: =IF($E13="","",IF($E13="2추","직접입력","-")) -> - | H13: 511-01 | I13: =IF(H13="","",VLOOKUP($H13,구분표!$O$3:$P$168,2,FALSE)) -> 국고보조금 | J13: 살처분보상금 | K13: 15000000 | L13: - | M13: =IF($E13="","",SUM(K13:L13)) -> 15000000 | N13: 2476200 | O13: =SUM(M13:N13) -> 17476200 | Q13: =SUM(M13,P13) -> 15000000 | R13: =IF(AND((O13=0),(Q13>0)),"O",IF(AND((N13<0),(O13-Q13<0)),"O","X")) -> X | S13: 2026년 살처분 보상금 국고보조금 교부결정 통지(8차, 수정통보)[농림축산식품부 구제역방역과-5887(2026. 8. 20.) ] | Y13: =IF($H13="","",IF(OR($H13="511-01", $H13="511-02", $H13="511-03", $H13="311-02", $H13="311-04", $H13="321-01"),"국비","도비")) -> 국비 | AA13: =IF($Y13="국비", IF($N13<>"", $N13, 0), "") -> 2476200 | AB13: =IF($Y13="도비", IF($AO13="자체", IF($N13<>"",$N13,0),""), "") | AC13: =IF($Y13="도비",IF($AO13="지방채",IF($N13<>"",$N13,0),""), "") | AD13: =IF($Y13="도비",IF($AO13="지역개발기금",IF($N13<>"",$N13,0),""),"") | AF13: =IF($Y13="국비", IF($P13<>"", $P13, 0), "") -> 0 | AG13: =IF($Y13="도비", IF($AO13="자체", IF($P13<>"",$P13,0),""), "") | AH13: =IF($Y13="도비",IF($AO13="지방채",IF($P13<>"",$P13,0),""), "") | AI13: =IF($Y13="도비",IF($AO13="지역개발기금",IF($P13<>"",$P13,0),""),"") | AK13: =IF($AQ13="","", IF(OR($AL13="", $AL13="도비"), "", CONCATENATE($AQ13,"-",COUNTIF($AQ$8:$AQ13,$AQ13)))) -> 20702-2 | AL13: =IF($H13="","",IF($H13="511-01","국비",IF($H13="511-02","균특",IF($H13="511-03","기금",IF($H13="311-02","특교",IF($H13="311-04","소교",IF($H13="321-01","소멸","도비"))))))) -> 국비 | AN13: =IF($AQ13="","", IF(OR($AO13="", $AO13="국비", $AO13="자체"), "", CONCATENATE($AQ13,"-", $AO13,"-",COUNTIF($AQ$8:$AQ13, $AQ13)))) | AO13: =IF($Y13="","", IF($Y13="국비", "국비", IF($H13="612-01","지방채",IF($H13="722-02","지역개발기금","자체")))) -> 국비 | AQ13: {=IF(OR($D13="", $C13="직접입력", $B13="직접입력"),"",INDEX(구분표!$I$2:$I$337, MATCH(1,(구분표!$G$2:$G$337='3. 일입'!$B13)*(구분표!$E$2:$E$337='3. 일입'!$C13)*(구분표!$F$2:$F$337='3. 일입'!$D13),0)))} -> 20702 | AS13: =IF($AK13="","", SUMIFS('3. 일출(의존)'!$AB$7:$AB$1826,'3. 일출(의존)'!$AN$7:$AN$1826,$AK13)) -> 2476200 | AT13: =IF($AK13="","", COUNTIF('3. 일출(의존)'!$AN$7:$AN$1826,$AK13)) -> 1 | AU13: =IF($AK13="", "", IF($AA13=$AS13,"OK","@@")) -> OK | AV13: =IF($AN13="","",IF($AO13="지역개발기금",SUMIFS('3. 일출(의존)'!$AE$7:$AE$1837,'3. 일출(의존)'!$AS$7:$AS$1837,$AN13)+SUMIFS('3. 일출(자체)'!$AE$7:$AE$1845,'3. 일출(자체)'!$AM$7:$AM$1845,$AN13),IF($AO13="지방채",SUMIFS('3. 일출(의존)'!$AD$7:$AD$1837,'3. 일출(의존)'!$AS$7:$AS$1837,$AN13)+SUMIFS('3. 일출(자체)'!$AD$7:$AD$1845,'3. 일출(자체)'!$AM$7:$AM$1845,$AN13),0))) | AW13: =IF($AN13="","", COUNTIF('3. 일출(의존)'!$AS$7:$AS$1837,$AN13)+COUNTIF('3. 일출(자체)'!$AM$7:$AM$1845,$AN13)) | AX13: =IF($AN13="","", IF($AO13="자체","", IF($AO13="지방채", IF($AC13=$AV13, "OK", "@@"), IF($AO13="지역개발기금", IF($AD13=$AV13,"OK","@@"), "@@")))) | AZ13: =IF($AK13="","", SUMIFS('3. 일출(의존)'!$AH$7:$AH$1826,'3. 일출(의존)'!$AN$7:$AN$1826,$AK13)) -> 0 | BA13: =IF($AK13="","", COUNTIF('3. 일출(의존)'!$AN$7:$AN$1826,$AK13)) -> 1 | BB13: =IF($AK13="", "", IF($AF13=$AZ13,"OK","@@")) -> OK | BC13: =IF($AN13="","",IF($AO13="지역개발기금",SUMIFS('3. 일출(의존)'!$AK$7:$AK$1837,'3. 일출(의존)'!$AS$7:$AS$1837,$AN13)+SUMIFS('3. 일출(자체)'!$AJ$7:$AJ$1845,'3. 일출(자체)'!$AM$7:$AM$1845,$AN13),IF($AO13="지방채",SUMIFS('3. 일출(의존)'!$AJ$7:$AJ$1837,'3. 일출(의존)'!$AS$7:$AS$1837,$AN13)+SUMIFS('3. 일출(자체)'!$AI$7:$AI$1845,'3. 일출(자체)'!$AM$7:$AM$1845,$AN13),0))) | BD13: =IF($AN13="","",COUNTIF('3. 일출(의존)'!$AS$7:$AS$1837,$AN13)+COUNTIF('3. 일출(자체)'!$AM$7:$AM$1845,$AN13)) | BE13: =IF($AN13="","", IF($AO13="자체", "", IF($AO13="지방채", IF($AH13=$BC13, "OK", "@@"), IF($AO13="지역개발기금", IF($AI13=$BC13,"OK","@@"), "@@"))))
A14: =IF(D14="","",COUNTA($C$8:C14)-COUNTBLANK($C$8:C14)+6) -> 11 | B14: =IF(D14="","",IF(OR(C14="직접입력",D14="북부지원"),"직접입력",IF(OR(AND(D14="인사과",C14="의회사무처"),AND(D14="총무과",C14="의회사무처")),"의회운영위원회",IF(OR(C14="직접입력",D14="북부지원"),"직접입력",IF(OR(AND(D14="인사과",C14="자치행정국"),AND(D14="총무과",C14="자치행정국")),"안전행정위원회",VLOOKUP(D14,구분표!$A$3:$C$258,2,)))))) -> 농정해양위원회 | C14: =IF(D14="","",IF(OR(D14="교육지원과",D14="총무과",D14="인사과"),"직접입력",VLOOKUP(D14,구분표!$A$3:$C$258,3,))) -> 축산동물복지국 | D14: 동물방역위생과 | E14: 2추 | F14: 647 | G14: 25 | H14: 511-01 | I14: =IF(H14="","",VLOOKUP($H14,구분표!$O$3:$P$168,2,FALSE)) -> 국고보조금 | J14: 예방약품 등 지원 | K14: 12046292 | L14: 178731 | M14: =IF($E14="","",SUM(K14:L14)) -> 12225023 | N14: -49089 | O14: =SUM(M14:N14) -> 12175934 | Q14: =SUM(M14,P14) -> 12225023 | R14: =IF(AND((O14=0),(Q14>0)),"O",IF(AND((N14<0),(O14-Q14<0)),"O","X")) -> O | S14: 2026년 가축방역대응지원사업(소브루셀라병 등 채혈비) 변경통보(변경내시) 알림[농림축산식품부 구제역방역과-5980(2026. 8. 26.)] | Y14: =IF($H14="","",IF(OR($H14="511-01", $H14="511-02", $H14="511-03", $H14="311-02", $H14="311-04", $H14="321-01"),"국비","도비")) -> 국비 | AA14: =IF($Y14="국비", IF($N14<>"", $N14, 0), "") -> -49089 | AB14: =IF($Y14="도비", IF($AO14="자체", IF($N14<>"",$N14,0),""), "") | AC14: =IF($Y14="도비",IF($AO14="지방채",IF($N14<>"",$N14,0),""), "") | AD14: =IF($Y14="도비",IF($AO14="지역개발기금",IF($N14<>"",$N14,0),""),"") | AF14: =IF($Y14="국비", IF($P14<>"", $P14, 0), "") -> 0 | AG14: =IF($Y14="도비", IF($AO14="자체", IF($P14<>"",$P14,0),""), "") | AH14: =IF($Y14="도비",IF($AO14="지방채",IF($P14<>"",$P14,0),""), "") | AI14: =IF($Y14="도비",IF($AO14="지역개발기금",IF($P14<>"",$P14,0),""),"") | AK14: =IF($AQ14="","", IF(OR($AL14="", $AL14="도비"), "", CONCATENATE($AQ14,"-",COUNTIF($AQ$8:$AQ14,$AQ14)))) -> 20702-3 | AL14: =IF($H14="","",IF($H14="511-01","국비",IF($H14="511-02","균특",IF($H14="511-03","기금",IF($H14="311-02","특교",IF($H14="311-04","소교",IF($H14="321-01","소멸","도비"))))))) -> 국비 | AN14: =IF($AQ14="","", IF(OR($AO14="", $AO14="국비", $AO14="자체"), "", CONCATENATE($AQ14,"-", $AO14,"-",COUNTIF($AQ$8:$AQ14, $AQ14)))) | AO14: =IF($Y14="","", IF($Y14="국비", "국비", IF($H14="612-01","지방채",IF($H14="722-02","지역개발기금","자체")))) -> 국비 | AQ14: {=IF(OR($D14="", $C14="직접입력", $B14="직접입력"),"",INDEX(구분표!$I$2:$I$337, MATCH(1,(구분표!$G$2:$G$337='3. 일입'!$B14)*(구분표!$E$2:$E$337='3. 일입'!$C14)*(구분표!$F$2:$F$337='3. 일입'!$D14),0)))} -> 20702 | AS14: =IF($AK14="","", SUMIFS('3. 일출(의존)'!$AB$7:$AB$1826,'3. 일출(의존)'!$AN$7:$AN$1826,$AK14)) -> -49089 | AT14: =IF($AK14="","", COUNTIF('3. 일출(의존)'!$AN$7:$AN$1826,$AK14)) -> 2 | AU14: =IF($AK14="", "", IF($AA14=$AS14,"OK","@@")) -> OK | AV14: =IF($AN14="","",IF($AO14="지역개발기금",SUMIFS('3. 일출(의존)'!$AE$7:$AE$1837,'3. 일출(의존)'!$AS$7:$AS$1837,$AN14)+SUMIFS('3. 일출(자체)'!$AE$7:$AE$1845,'3. 일출(자체)'!$AM$7:$AM$1845,$AN14),IF($AO14="지방채",SUMIFS('3. 일출(의존)'!$AD$7:$AD$1837,'3. 일출(의존)'!$AS$7:$AS$1837,$AN14)+SUMIFS('3. 일출(자체)'!$AD$7:$AD$1845,'3. 일출(자체)'!$AM$7:$AM$1845,$AN14),0))) | AW14: =IF($AN14="","", COUNTIF('3. 일출(의존)'!$AS$7:$AS$1837,$AN14)+COUNTIF('3. 일출(자체)'!$AM$7:$AM$1845,$AN14)) | AX14: =IF($AN14="","", IF($AO14="자체","", IF($AO14="지방채", IF($AC14=$AV14, "OK", "@@"), IF($AO14="지역개발기금", IF($AD14=$AV14,"OK","@@"), "@@")))) | AZ14: =IF($AK14="","", SUMIFS('3. 일출(의존)'!$AH$7:$AH$1826,'3. 일출(의존)'!$AN$7:$AN$1826,$AK14)) -> 0 | BA14: =IF($AK14="","", COUNTIF('3. 일출(의존)'!$AN$7:$AN$1826,$AK14)) -> 2 | BB14: =IF($AK14="", "", IF($AF14=$AZ14,"OK","@@")) -> OK | BC14: =IF($AN14="","",IF($AO14="지역개발기금",SUMIFS('3. 일출(의존)'!$AK$7:$AK$1837,'3. 일출(의존)'!$AS$7:$AS$1837,$AN14)+SUMIFS('3. 일출(자체)'!$AJ$7:$AJ$1845,'3. 일출(자체)'!$AM$7:$AM$1845,$AN14),IF($AO14="지방채",SUMIFS('3. 일출(의존)'!$AJ$7:$AJ$1837,'3. 일출(의존)'!$AS$7:$AS$1837,$AN14)+SUMIFS('3. 일출(자체)'!$AI$7:$AI$1845,'3. 일출(자체)'!$AM$7:$AM$1845,$AN14),0))) | BD14: =IF($AN14="","",COUNTIF('3. 일출(의존)'!$AS$7:$AS$1837,$AN14)+COUNTIF('3. 일출(자체)'!$AM$7:$AM$1845,$AN14)) | BE14: =IF($AN14="","", IF($AO14="자체", "", IF($AO14="지방채", IF($AH14=$BC14, "OK", "@@"), IF($AO14="지역개발기금", IF($AI14=$BC14,"OK","@@"), "@@"))))
A15: =IF(D15="","",COUNTA($C$8:C15)-COUNTBLANK($C$8:C15)+6) -> 12 | B15: =IF(D15="","",IF(OR(C15="직접입력",D15="북부지원"),"직접입력",IF(OR(AND(D15="인사과",C15="의회사무처"),AND(D15="총무과",C15="의회사무처")),"의회운영위원회",IF(OR(C15="직접입력",D15="북부지원"),"직접입력",IF(OR(AND(D15="인사과",C15="자치행정국"),AND(D15="총무과",C15="자치행정국")),"안전행정위원회",VLOOKUP(D15,구분표!$A$3:$C$258,2,)))))) -> 농정해양위원회 | C15: =IF(D15="","",IF(OR(D15="교육지원과",D15="총무과",D15="인사과"),"직접입력",VLOOKUP(D15,구분표!$A$3:$C$258,3,))) -> 축산동물복지국 | D15: 동물방역위생과 | E15: 2추 | F15: 647 | G15: 28 | H15: 612-01 | I15: =IF(H15="","",VLOOKUP($H15,구분표!$O$3:$P$168,2,FALSE)) -> 모집공채 | J15: 동물방역위생과 지방채 차입금 | K15: 0 | L15: 93656 | M15: =IF($E15="","",SUM(K15:L15)) -> 93656 | N15: -15750 | O15: =SUM(M15:N15) -> 77906 | Q15: =SUM(M15,P15) -> 93656 | R15: =IF(AND((O15=0),(Q15>0)),"O",IF(AND((N15<0),(O15-Q15<0)),"O","X")) -> O | Y15: =IF($H15="","",IF(OR($H15="511-01", $H15="511-02", $H15="511-03", $H15="311-02", $H15="311-04", $H15="321-01"),"국비","도비")) -> 도비 | AA15: =IF($Y15="국비", IF($N15<>"", $N15, 0), "") | AB15: =IF($Y15="도비", IF($AO15="자체", IF($N15<>"",$N15,0),""), "") | AC15: =IF($Y15="도비",IF($AO15="지방채",IF($N15<>"",$N15,0),""), "") -> -15750 | AD15: =IF($Y15="도비",IF($AO15="지역개발기금",IF($N15<>"",$N15,0),""),"") | AF15: =IF($Y15="국비", IF($P15<>"", $P15, 0), "") | AG15: =IF($Y15="도비", IF($AO15="자체", IF($P15<>"",$P15,0),""), "") | AH15: =IF($Y15="도비",IF($AO15="지방채",IF($P15<>"",$P15,0),""), "") -> 0 | AI15: =IF($Y15="도비",IF($AO15="지역개발기금",IF($P15<>"",$P15,0),""),"") | AK15: =IF($AQ15="","", IF(OR($AL15="", $AL15="도비"), "", CONCATENATE($AQ15,"-",COUNTIF($AQ$8:$AQ15,$AQ15)))) | AL15: =IF($H15="","",IF($H15="511-01","국비",IF($H15="511-02","균특",IF($H15="511-03","기금",IF($H15="311-02","특교",IF($H15="311-04","소교",IF($H15="321-01","소멸","도비"))))))) -> 도비 | AN15: =IF($AQ15="","", IF(OR($AO15="", $AO15="국비", $AO15="자체"), "", CONCATENATE($AQ15,"-", $AO15,"-",COUNTIF($AQ$8:$AQ15, $AQ15)))) -> 20702-지방채-4 | AO15: =IF($Y15="","", IF($Y15="국비", "국비", IF($H15="612-01","지방채",IF($H15="722-02","지역개발기금","자체")))) -> 지방채 | AQ15: {=IF(OR($D15="", $C15="직접입력", $B15="직접입력"),"",INDEX(구분표!$I$2:$I$337, MATCH(1,(구분표!$G$2:$G$337='3. 일입'!$B15)*(구분표!$E$2:$E$337='3. 일입'!$C15)*(구분표!$F$2:$F$337='3. 일입'!$D15),0)))} -> 20702 | AS15: =IF($AK15="","", SUMIFS('3. 일출(의존)'!$AB$7:$AB$1826,'3. 일출(의존)'!$AN$7:$AN$1826,$AK15)) | AT15: =IF($AK15="","", COUNTIF('3. 일출(의존)'!$AN$7:$AN$1826,$AK15)) | AU15: =IF($AK15="", "", IF($AA15=$AS15,"OK","@@")) | AV15: =IF($AN15="","",IF($AO15="지역개발기금",SUMIFS('3. 일출(의존)'!$AE$7:$AE$1837,'3. 일출(의존)'!$AS$7:$AS$1837,$AN15)+SUMIFS('3. 일출(자체)'!$AE$7:$AE$1845,'3. 일출(자체)'!$AM$7:$AM$1845,$AN15),IF($AO15="지방채",SUMIFS('3. 일출(의존)'!$AD$7:$AD$1837,'3. 일출(의존)'!$AS$7:$AS$1837,$AN15)+SUMIFS('3. 일출(자체)'!$AD$7:$AD$1845,'3. 일출(자체)'!$AM$7:$AM$1845,$AN15),0))) -> -15750 | AW15: =IF($AN15="","", COUNTIF('3. 일출(의존)'!$AS$7:$AS$1837,$AN15)+COUNTIF('3. 일출(자체)'!$AM$7:$AM$1845,$AN15)) -> 1 | AX15: =IF($AN15="","", IF($AO15="자체","", IF($AO15="지방채", IF($AC15=$AV15, "OK", "@@"), IF($AO15="지역개발기금", IF($AD15=$AV15,"OK","@@"), "@@")))) -> OK | AZ15: =IF($AK15="","", SUMIFS('3. 일출(의존)'!$AH$7:$AH$1826,'3. 일출(의존)'!$AN$7:$AN$1826,$AK15)) | BA15: =IF($AK15="","", COUNTIF('3. 일출(의존)'!$AN$7:$AN$1826,$AK15)) | BB15: =IF($AK15="", "", IF($AF15=$AZ15,"OK","@@")) | BC15: =IF($AN15="","",IF($AO15="지역개발기금",SUMIFS('3. 일출(의존)'!$AK$7:$AK$1837,'3. 일출(의존)'!$AS$7:$AS$1837,$AN15)+SUMIFS('3. 일출(자체)'!$AJ$7:$AJ$1845,'3. 일출(자체)'!$AM$7:$AM$1845,$AN15),IF($AO15="지방채",SUMIFS('3. 일출(의존)'!$AJ$7:$AJ$1837,'3. 일출(의존)'!$AS$7:$AS$1837,$AN15)+SUMIFS('3. 일출(자체)'!$AI$7:$AI$1845,'3. 일출(자체)'!$AM$7:$AM$1845,$AN15),0))) -> 0 | BD15: =IF($AN15="","",COUNTIF('3. 일출(의존)'!$AS$7:$AS$1837,$AN15)+COUNTIF('3. 일출(자체)'!$AM$7:$AM$1845,$AN15)) -> 1 | BE15: =IF($AN15="","", IF($AO15="자체", "", IF($AO15="지방채", IF($AH15=$BC15, "OK", "@@"), IF($AO15="지역개발기금", IF($AI15=$BC15,"OK","@@"), "@@")))) -> OK

Sheet 3. 일출(자체)
A1: 일반회계 세출(자체) 예산 조정(안) | AC1: 직접입력 (지방채/지역개발기금인 경우만 금액 입력) *부기명에 (지방채) 또는 (지역개발기금) 포함시 | AH1: 직접입력 (지방채/지역개발기금인 경우만 금액 입력) *부기명에 (지방채) 또는 (지역개발기금) 포함시 | AM1: 직접입력 (지방채/지역개발기금인 경우 "3. 일입"시트의 AN열 입력") ※ 매칭 세입이 없는 경우 세입번호에 "세입없음" 기재
P2: =SUM(P7:P27)/2 -> 9805029 | Q2: =SUM(Q7:Q27)/2 -> 49193049 | R2: =SUM(R7:R27)/2 -> 0 | S2: =SUM(S7:S27)/2 -> 39388020 | U2: (단위 : 천원) | Y2: (단위 : 천원) | AF2: (단위 : 천원) | AK2: (단위 : 천원)
A3: 번호 | B3: 위원회명 | C3: 실국명 | D3: 부서명 | E3: 편성 구분 | F3: 예산안 /예산서 페이지 | G3: 실국별 사업 설명서 페이지 | H3: 통계목코드 | I3: 편성목 | J3: 통계목 | K3: 세부사업명 | L3: 부기명 | M3: 기정액 (본예산+1추) (가) | N3: 증감액 (2회추경안) (나) | O3: 예산안 (다=가+나) | P3: 상임위 조정액 (라) | Q3: 상임위 조정 예산안 (마=다+라) | R3: 예결특위 조정액 (바) | S3: 예결특위 조정 예산안 (사=다+바) | T3: 상임위 동의 대상 | U3: 참고자료 (관련공문) | V3: 상임위 부대의견 | W3: 예비 심사시 집행부 동의여부 | X3: 예결특위 부대의견 | Y3: 부대의견 | Z3: 예결특위 부대의견 (비공개) | AA3: 실국의견 청취대상 | AC3: 상임위 증감액 | AH3: 예결위 증감액 | AM3: 지방채/지역개발기금 매칭 세입 검증 | AR3: 실국 부서코드
AC4: 도비 | AF4: 금액 검증 (상임위조정액 =∑도비) | AH4: 도비 | AK4: 금액 검증 (예결위조정액 =∑도비) | AM4: 세입번호 | AN4: 세입 번호 유무 검증 | AO4: 세출 재원 | AP4: 재원 검증
AC5: 자체 | AD5: 지방채 | AE5: 지역개발기금 | AH5: 자체 | AI5: 지방채 | AJ5: 지역개발기금
B6: 합 계 | L6: =SUBTOTAL(3,L$7:L$1845)&"건" -> 20건 | M6: =SUBTOTAL(9,M$7:M$1845) -> 49099500 | N6: =SUBTOTAL(9,N$7:N$1845) -> -9711480 | O6: =SUBTOTAL(9,O$7:O$1845) -> 39388020 | P6: =SUBTOTAL(9,P$7:P$1845) -> 9805029 | Q6: =SUBTOTAL(9,Q$7:Q$1845) -> 49193049 | R6: =SUBTOTAL(9,R$7:R$1845) -> 0 | S6: =SUBTOTAL(9,S$7:S$1845) -> 39388020 | AC6: =SUBTOTAL(9,AC$7:AC$1845) -> 9805029 | AD6: =SUBTOTAL(9,AD$7:AD$1845) -> 0 | AE6: =SUBTOTAL(9,AE$7:AE$1845) -> 0 | AF6: =IF(COUNTIF(AF$7:AF$1845,"@@")>0,"@@","OK") -> OK | AH6: =SUBTOTAL(9,AH$7:AH$1845) -> 0 | AI6: =SUBTOTAL(9,AI$7:AI$1845) -> 0 | AJ6: =SUBTOTAL(9,AJ$7:AJ$1845) -> 0 | AK6: =IF(COUNTIF(AK$7:AK$1845,"@@")>0,"@@","OK") -> OK | AN6: =IF(COUNTIF(AN$7:AN$1845,"@@")>0,"@@","OK") -> OK | AP6: =IF(COUNTIF(AP$7:AP$1845,"@@")>0,"@@","OK") -> OK
B7: (농정해양위원회) | L7: =SUBTOTAL(3,L8:L27)&"건" -> 20건 | M7: =SUBTOTAL(9,M8:M27) -> 49099500 | N7: =SUBTOTAL(9,N8:N27) -> -9711480 | O7: =SUBTOTAL(9,O8:O27) -> 39388020 | P7: =SUBTOTAL(9,P8:P27) -> 9805029 | Q7: =SUBTOTAL(9,Q8:Q27) -> 49193049 | R7: =SUBTOTAL(9,R8:R27) -> 0 | S7: =SUBTOTAL(9,S8:S27) -> 39388020 | AC7: =SUBTOTAL(9,AC8:AC27) -> 9805029 | AD7: =SUBTOTAL(9,AD8:AD27) -> 0 | AE7: =SUBTOTAL(9,AE8:AE27) -> 0 | AF7: =IF(COUNTIF(AF8:AF27,"@@")>0,"@@","OK") -> OK | AH7: =SUBTOTAL(9,AH8:AH27) -> 0 | AI7: =SUBTOTAL(9,AI8:AI27) -> 0 | AJ7: =SUBTOTAL(9,AJ8:AJ27) -> 0 | AK7: =IF(COUNTIF(AK8:AK27,"@@")>0,"@@","OK") -> OK | AN7: =IF(COUNTIF(AN8:AN27,"@@")>0,"@@","OK") -> OK | AP7: =IF(COUNTIF(AP8:AP27,"@@")>0,"@@","OK") -> OK
A8: =IF(D8="","",COUNTA($C$7:C8)-COUNTBLANK($C$7:C8)+6) -> 6 | B8: =IF(D8="","",IF(OR(C8="직접입력",D8="북부지원"),"직접입력",IF(OR(AND(D8="인사과",C8="의회사무처"),AND(D8="총무과",C8="의회사무처")),"의회운영위원회",IF(OR(C8="직접입력",D8="북부지원"),"직접입력",IF(OR(AND(D8="인사과",C8="자치행정국"),AND(D8="총무과",C8="자치행정국")),"안전행정위원회",VLOOKUP(D8,[1]구분표!$A$3:$C$258,2,)))))) -> 농정해양위원회 | C8: =IF(D8="","",IF(OR(D8="교육지원과",D8="총무과",D8="인사과"),"직접입력",VLOOKUP(D8,[1]구분표!$A$3:$C$258,3,))) -> 농수산생명과학국 | D8: 농업정책과 | E8: 2추 | F8: 620 | G8: 99 | H8: 307-04 | I8: =IF(H8="","",VLOOKUP($H8,[1]구분표!$K$3:$M$151,2,FALSE)) -> 민간이전 | J8: =IF(I8="","",VLOOKUP($H8,[1]구분표!$K$3:$M$151,3,FALSE)) -> 민간행사사업보조 | K8: 전문농업인육성(자체/직접) | L8: 농업경영인 육성 | M8: 650000 | N8: -150000 | O8: =IF($E8="","",SUM(M8:N8)) -> 500000 | P8: 150000 | Q8: =SUM(O8:P8) -> 650000 | S8: =SUM(O8,R8) -> 500000 | T8: =IF(AND((Q8=0),(S8>0)),"O",IF(AND((P8<0),(Q8-S8<0)),"O","X")) -> X | AC8: =IF($P8="", 0, IF(AND(ISNUMBER(AD8), ISNUMBER(AE8)), $P8-$AD8-$AE8, 0)) -> 150000 | AD8: =IF($P8="", 0, IF(COUNT(FIND("(지방채)",$L8))>0, "재원입력필요", 0)) -> 0 | AE8: =IF($P8="", 0, IF(COUNT(FIND("(지역개발기금)",$L8))>0, "재원입력필요", 0)) -> 0 | AF8: =IF($P8="", IF(SUM($AC8:$AE8)=0, "", "@@"), IF(AND($P8=SUM($AC8:$AE8),Q8>=0),"OK","@@")) -> OK | AH8: =IF($R8="", 0, IF(AND(ISNUMBER($AI8), ISNUMBER($AJ8)), $R8-$AI8-$AJ8, 0)) -> 0 | AI8: =IF($P8="", 0, IF(COUNT(FIND("(지방채)",$L8))>0, "재원입력필요", 0)) -> 0 | AJ8: =IF($P8="", 0, IF(COUNT(FIND("(지역개발기금)",$L8))>0, "재원입력필요", 0)) -> 0 | AK8: =IF($R8="", IF(SUM($AH8:$AJ8)=0, "", "@@"), IF(AND($R8=SUM($AH8:$AJ8),$S8>=0),"OK","@@")) | AN8: =IF($AM8="","", IF($AM8="세입없음", "OK", IF(COUNTIF('[1]3. 일입'!$AN$8:$AN$2000,$AM8), "OK","@@"))) | AO8: =IF($L8="","",IF(COUNT(FIND("(지역개발기금)",$L8)),"지역개발기금",IF(COUNT(FIND("지방채",$L8)),"지방채","자체"))) -> 자체 | AP8: =IF($AM8="", IF($AO8="", "", IF($AO8="자체", "OK", "@@")), IF($AM8="세입없음", "OK", IF($AO8="", "@@", IF(ISNUMBER(FIND($AO8,$AM8)),"OK","@@")))) -> OK | AR8: {=IF(OR($D8="", $C8="직접입력", $B8="직접입력"), "", INDEX([1]구분표!$I$3:$I$321, MATCH(1,([1]구분표!$G$3:$G$321=$B8)*([1]구분표!$E$3:$E$321=$C8)*([1]구분표!$F$3:$F$321=$D8),0)))} -> 14001
A9: =IF(D9="","",COUNTA($C$7:C9)-COUNTBLANK($C$7:C9)+6) -> 7 | B9: =IF(D9="","",IF(OR(C9="직접입력",D9="북부지원"),"직접입력",IF(OR(AND(D9="인사과",C9="의회사무처"),AND(D9="총무과",C9="의회사무처")),"의회운영위원회",IF(OR(C9="직접입력",D9="북부지원"),"직접입력",IF(OR(AND(D9="인사과",C9="자치행정국"),AND(D9="총무과",C9="자치행정국")),"안전행정위원회",VLOOKUP(D9,[1]구분표!$A$3:$C$258,2,)))))) -> 농정해양위원회 | C9: =IF(D9="","",IF(OR(D9="교육지원과",D9="총무과",D9="인사과"),"직접입력",VLOOKUP(D9,[1]구분표!$A$3:$C$258,3,))) -> 농수산생명과학국 | D9: 농식품유통과 | E9: 2추 | F9: 624 | G9: 153 | H9: 306-01 | I9: =IF(H9="","",VLOOKUP($H9,[1]구분표!$K$3:$M$151,2,FALSE)) -> 출연금 | J9: =IF(I9="","",VLOOKUP($H9,[1]구분표!$K$3:$M$151,3,FALSE)) -> 출연금 | K9: 경기도농수산진흥원 지원(자체/직접) | L9: 경기도농수산진흥원 출연 | M9: 10015000 | N9: -782840 | O9: =IF($E9="","",SUM(M9:N9)) -> 9232160 | P9: 782840 | Q9: =SUM(O9:P9) -> 10015000 | S9: =SUM(O9,R9) -> 9232160 | T9: =IF(AND((Q9=0),(S9>0)),"O",IF(AND((P9<0),(Q9-S9<0)),"O","X")) -> X | AC9: =IF($P9="", 0, IF(AND(ISNUMBER(AD9), ISNUMBER(AE9)), $P9-$AD9-$AE9, 0)) -> 782840 | AD9: =IF($P9="", 0, IF(COUNT(FIND("(지방채)",$L9))>0, "재원입력필요", 0)) -> 0 | AE9: =IF($P9="", 0, IF(COUNT(FIND("(지역개발기금)",$L9))>0, "재원입력필요", 0)) -> 0 | AF9: =IF($P9="", IF(SUM($AC9:$AE9)=0, "", "@@"), IF(AND($P9=SUM($AC9:$AE9),Q9>=0),"OK","@@")) -> OK | AH9: =IF($R9="", 0, IF(AND(ISNUMBER($AI9), ISNUMBER($AJ9)), $R9-$AI9-$AJ9, 0)) -> 0 | AI9: =IF($P9="", 0, IF(COUNT(FIND("(지방채)",$L9))>0, "재원입력필요", 0)) -> 0 | AJ9: =IF($P9="", 0, IF(COUNT(FIND("(지역개발기금)",$L9))>0, "재원입력필요", 0)) -> 0 | AK9: =IF($R9="", IF(SUM($AH9:$AJ9)=0, "", "@@"), IF(AND($R9=SUM($AH9:$AJ9),$S9>=0),"OK","@@")) | AN9: =IF($AM9="","", IF($AM9="세입없음", "OK", IF(COUNTIF('[1]3. 일입'!$AN$8:$AN$2000,$AM9), "OK","@@"))) | AO9: =IF($L9="","",IF(COUNT(FIND("(지역개발기금)",$L9)),"지역개발기금",IF(COUNT(FIND("지방채",$L9)),"지방채","자체"))) -> 자체 | AP9: =IF($AM9="", IF($AO9="", "", IF($AO9="자체", "OK", "@@")), IF($AM9="세입없음", "OK", IF($AO9="", "@@", IF(ISNUMBER(FIND($AO9,$AM9)),"OK","@@")))) -> OK | AR9: {=IF(OR($D9="", $C9="직접입력", $B9="직접입력"), "", INDEX([1]구분표!$I$3:$I$321, MATCH(1,([1]구분표!$G$3:$G$321=$B9)*([1]구분표!$E$3:$E$321=$C9)*([1]구분표!$F$3:$F$321=$D9),0)))} -> 14002
A10: =IF(D10="","",COUNTA($C$7:C10)-COUNTBLANK($C$7:C10)+6) -> 8 | B10: =IF(D10="","",IF(OR(C10="직접입력",D10="북부지원"),"직접입력",IF(OR(AND(D10="인사과",C10="의회사무처"),AND(D10="총무과",C10="의회사무처")),"의회운영위원회",IF(OR(C10="직접입력",D10="북부지원"),"직접입력",IF(OR(AND(D10="인사과",C10="자치행정국"),AND(D10="총무과",C10="자치행정국")),"안전행정위원회",VLOOKUP(D10,[1]구분표!$A$3:$C$258,2,)))))) -> 농정해양위원회 | C10: =IF(D10="","",IF(OR(D10="교육지원과",D10="총무과",D10="인사과"),"직접입력",VLOOKUP(D10,[1]구분표!$A$3:$C$258,3,))) -> 농수산생명과학국 | D10: 농식품유통과 | E10: 2추 | F10: 626 | G10: 186 | H10: 403-01 | I10: =IF(H10="","",VLOOKUP($H10,[1]구분표!$K$3:$M$151,2,FALSE)) -> 자치단체등 자본이전 | J10: =IF(I10="","",VLOOKUP($H10,[1]구분표!$K$3:$M$151,3,FALSE)) -> 자치단체자본보조 | K10: 로컬푸드 활성화 기반 조성(전환)(자체/지원) | L10: 로컬푸드 연중생산체계 구축 | M10: 500000 | N10: -16451 | O10: =IF($E10="","",SUM(M10:N10)) -> 483549 | P10: 10000 | Q10: =SUM(O10:P10) -> 493549 | S10: =SUM(O10,R10) -> 483549 | T10: =IF(AND((Q10=0),(S10>0)),"O",IF(AND((P10<0),(Q10-S10<0)),"O","X")) -> X | AC10: =IF($P10="", 0, IF(AND(ISNUMBER(AD10), ISNUMBER(AE10)), $P10-$AD10-$AE10, 0)) -> 10000 | AD10: =IF($P10="", 0, IF(COUNT(FIND("(지방채)",$L10))>0, "재원입력필요", 0)) -> 0 | AE10: =IF($P10="", 0, IF(COUNT(FIND("(지역개발기금)",$L10))>0, "재원입력필요", 0)) -> 0 | AF10: =IF($P10="", IF(SUM($AC10:$AE10)=0, "", "@@"), IF(AND($P10=SUM($AC10:$AE10),Q10>=0),"OK","@@")) -> OK | AH10: =IF($R10="", 0, IF(AND(ISNUMBER($AI10), ISNUMBER($AJ10)), $R10-$AI10-$AJ10, 0)) -> 0 | AI10: =IF($P10="", 0, IF(COUNT(FIND("(지방채)",$L10))>0, "재원입력필요", 0)) -> 0 | AJ10: =IF($P10="", 0, IF(COUNT(FIND("(지역개발기금)",$L10))>0, "재원입력필요", 0)) -> 0 | AK10: =IF($R10="", IF(SUM($AH10:$AJ10)=0, "", "@@"), IF(AND($R10=SUM($AH10:$AJ10),$S10>=0),"OK","@@")) | AN10: =IF($AM10="","", IF($AM10="세입없음", "OK", IF(COUNTIF('[1]3. 일입'!$AN$8:$AN$2000,$AM10), "OK","@@"))) | AO10: =IF($L10="","",IF(COUNT(FIND("(지역개발기금)",$L10)),"지역개발기금",IF(COUNT(FIND("지방채",$L10)),"지방채","자체"))) -> 자체 | AP10: =IF($AM10="", IF($AO10="", "", IF($AO10="자체", "OK", "@@")), IF($AM10="세입없음", "OK", IF($AO10="", "@@", IF(ISNUMBER(FIND($AO10,$AM10)),"OK","@@")))) -> OK | AR10: {=IF(OR($D10="", $C10="직접입력", $B10="직접입력"), "", INDEX([1]구분표!$I$3:$I$321, MATCH(1,([1]구분표!$G$3:$G$321=$B10)*([1]구분표!$E$3:$E$321=$C10)*([1]구분표!$F$3:$F$321=$D10),0)))} -> 14002
A11: =IF(D11="","",COUNTA($C$7:C11)-COUNTBLANK($C$7:C11)+6) -> 9 | B11: =IF(D11="","",IF(OR(C11="직접입력",D11="북부지원"),"직접입력",IF(OR(AND(D11="인사과",C11="의회사무처"),AND(D11="총무과",C11="의회사무처")),"의회운영위원회",IF(OR(C11="직접입력",D11="북부지원"),"직접입력",IF(OR(AND(D11="인사과",C11="자치행정국"),AND(D11="총무과",C11="자치행정국")),"안전행정위원회",VLOOKUP(D11,[1]구분표!$A$3:$C$258,2,)))))) -> 농정해양위원회 | C11: =IF(D11="","",IF(OR(D11="교육지원과",D11="총무과",D11="인사과"),"직접입력",VLOOKUP(D11,[1]구분표!$A$3:$C$258,3,))) -> 농수산생명과학국 | D11: 농식품유통과 | E11: 2추 | F11: 625 | G11: 180 | H11: 308-01 | I11: =IF(H11="","",VLOOKUP($H11,[1]구분표!$K$3:$M$151,2,FALSE)) -> 자치단체등 이전 | J11: =IF(I11="","",VLOOKUP($H11,[1]구분표!$K$3:$M$151,3,FALSE)) -> 자치단체경상보조금 | K11: 농식품 국제시장 진출 지원(자체/지원) | L11: 농식품 국제시장 진출 지원 | M11: 227500 | N11: -6524 | O11: =IF($E11="","",SUM(M11:N11)) -> 220976 | P11: 6524 | Q11: =SUM(O11:P11) -> 227500 | S11: =SUM(O11,R11) -> 220976 | T11: =IF(AND((Q11=0),(S11>0)),"O",IF(AND((P11<0),(Q11-S11<0)),"O","X")) -> X | AC11: =IF($P11="", 0, IF(AND(ISNUMBER(AD11), ISNUMBER(AE11)), $P11-$AD11-$AE11, 0)) -> 6524 | AD11: =IF($P11="", 0, IF(COUNT(FIND("(지방채)",$L11))>0, "재원입력필요", 0)) -> 0 | AE11: =IF($P11="", 0, IF(COUNT(FIND("(지역개발기금)",$L11))>0, "재원입력필요", 0)) -> 0 | AF11: =IF($P11="", IF(SUM($AC11:$AE11)=0, "", "@@"), IF(AND($P11=SUM($AC11:$AE11),Q11>=0),"OK","@@")) -> OK | AH11: =IF($R11="", 0, IF(AND(ISNUMBER($AI11), ISNUMBER($AJ11)), $R11-$AI11-$AJ11, 0)) -> 0 | AI11: =IF($P11="", 0, IF(COUNT(FIND("(지방채)",$L11))>0, "재원입력필요", 0)) -> 0 | AJ11: =IF($P11="", 0, IF(COUNT(FIND("(지역개발기금)",$L11))>0, "재원입력필요", 0)) -> 0 | AK11: =IF($R11="", IF(SUM($AH11:$AJ11)=0, "", "@@"), IF(AND($R11=SUM($AH11:$AJ11),$S11>=0),"OK","@@")) | AN11: =IF($AM11="","", IF($AM11="세입없음", "OK", IF(COUNTIF('[1]3. 일입'!$AN$8:$AN$2000,$AM11), "OK","@@"))) | AO11: =IF($L11="","",IF(COUNT(FIND("(지역개발기금)",$L11)),"지역개발기금",IF(COUNT(FIND("지방채",$L11)),"지방채","자체"))) -> 자체 | AP11: =IF($AM11="", IF($AO11="", "", IF($AO11="자체", "OK", "@@")), IF($AM11="세입없음", "OK", IF($AO11="", "@@", IF(ISNUMBER(FIND($AO11,$AM11)),"OK","@@")))) -> OK | AR11: {=IF(OR($D11="", $C11="직접입력", $B11="직접입력"), "", INDEX([1]구분표!$I$3:$I$321, MATCH(1,([1]구분표!$G$3:$G$321=$B11)*([1]구분표!$E$3:$E$321=$C11)*([1]구분표!$F$3:$F$321=$D11),0)))} -> 14002
A12: =IF(D12="","",COUNTA($C$7:C12)-COUNTBLANK($C$7:C12)+6) -> 10 | B12: =IF(D12="","",IF(OR(C12="직접입력",D12="북부지원"),"직접입력",IF(OR(AND(D12="인사과",C12="의회사무처"),AND(D12="총무과",C12="의회사무처")),"의회운영위원회",IF(OR(C12="직접입력",D12="북부지원"),"직접입력",IF(OR(AND(D12="인사과",C12="자치행정국"),AND(D12="총무과",C12="자치행정국")),"안전행정위원회",VLOOKUP(D12,[1]구분표!$A$3:$C$258,2,)))))) -> 농정해양위원회 | C12: =IF(D12="","",IF(OR(D12="교육지원과",D12="총무과",D12="인사과"),"직접입력",VLOOKUP(D12,[1]구분표!$A$3:$C$258,3,))) -> 농수산생명과학국 | D12: 농식품유통과 | E12: 2추 | F12: 626 | G12: 183 | H12: 308-13 | I12: =IF(H12="","",VLOOKUP($H12,[1]구분표!$K$3:$M$151,2,FALSE)) -> 자치단체등 이전 | J12: =IF(I12="","",VLOOKUP($H12,[1]구분표!$K$3:$M$151,3,FALSE)) -> 공기관등에대한경상적위탁사업비 | K12: 경기도 농수산물 할인쿠폰 지원(자체/직접) | L12: 경기도 농수산물 할인쿠폰 지원 | M12: 18000000 | N12: -4191126 | O12: =IF($E12="","",SUM(M12:N12)) -> 13808874 | P12: 4191126 | Q12: =SUM(O12:P12) -> 18000000 | S12: =SUM(O12,R12) -> 13808874 | T12: =IF(AND((Q12=0),(S12>0)),"O",IF(AND((P12<0),(Q12-S12<0)),"O","X")) -> X | AC12: =IF($P12="", 0, IF(AND(ISNUMBER(AD12), ISNUMBER(AE12)), $P12-$AD12-$AE12, 0)) -> 4191126 | AD12: =IF($P12="", 0, IF(COUNT(FIND("(지방채)",$L12))>0, "재원입력필요", 0)) -> 0 | AE12: =IF($P12="", 0, IF(COUNT(FIND("(지역개발기금)",$L12))>0, "재원입력필요", 0)) -> 0 | AF12: =IF($P12="", IF(SUM($AC12:$AE12)=0, "", "@@"), IF(AND($P12=SUM($AC12:$AE12),Q12>=0),"OK","@@")) -> OK | AH12: =IF($R12="", 0, IF(AND(ISNUMBER($AI12), ISNUMBER($AJ12)), $R12-$AI12-$AJ12, 0)) -> 0 | AI12: =IF($P12="", 0, IF(COUNT(FIND("(지방채)",$L12))>0, "재원입력필요", 0)) -> 0 | AJ12: =IF($P12="", 0, IF(COUNT(FIND("(지역개발기금)",$L12))>0, "재원입력필요", 0)) -> 0 | AK12: =IF($R12="", IF(SUM($AH12:$AJ12)=0, "", "@@"), IF(AND($R12=SUM($AH12:$AJ12),$S12>=0),"OK","@@")) | AN12: =IF($AM12="","", IF($AM12="세입없음", "OK", IF(COUNTIF('[1]3. 일입'!$AN$8:$AN$2000,$AM12), "OK","@@"))) | AO12: =IF($L12="","",IF(COUNT(FIND("(지역개발기금)",$L12)),"지역개발기금",IF(COUNT(FIND("지방채",$L12)),"지방채","자체"))) -> 자체 | AP12: =IF($AM12="", IF($AO12="", "", IF($AO12="자체", "OK", "@@")), IF($AM12="세입없음", "OK", IF($AO12="", "@@", IF(ISNUMBER(FIND($AO12,$AM12)),"OK","@@")))) -> OK | AR12: {=IF(OR($D12="", $C12="직접입력", $B12="직접입력"), "", INDEX([1]구분표!$I$3:$I$321, MATCH(1,([1]구분표!$G$3:$G$321=$B12)*([1]구분표!$E$3:$E$321=$C12)*([1]구분표!$F$3:$F$321=$D12),0)))} -> 14002
A13: =IF(D13="","",COUNTA($C$7:C13)-COUNTBLANK($C$7:C13)+6) -> 11 | B13: =IF(D13="","",IF(OR(C13="직접입력",D13="북부지원"),"직접입력",IF(OR(AND(D13="인사과",C13="의회사무처"),AND(D13="총무과",C13="의회사무처")),"의회운영위원회",IF(OR(C13="직접입력",D13="북부지원"),"직접입력",IF(OR(AND(D13="인사과",C13="자치행정국"),AND(D13="총무과",C13="자치행정국")),"안전행정위원회",VLOOKUP(D13,[1]구분표!$A$3:$C$258,2,)))))) -> 농정해양위원회 | C13: =IF(D13="","",IF(OR(D13="교육지원과",D13="총무과",D13="인사과"),"직접입력",VLOOKUP(D13,[1]구분표!$A$3:$C$258,3,))) -> 농수산생명과학국 | D13: 농식품유통과 | E13: 2추 | F13: 624 | G13: 159 | H13: 403-01 | I13: =IF(H13="","",VLOOKUP($H13,[1]구분표!$K$3:$M$151,2,FALSE)) -> 자치단체등 자본이전 | J13: =IF(I13="","",VLOOKUP($H13,[1]구분표!$K$3:$M$151,3,FALSE)) -> 자치단체자본보조 | K13: 푸드테크기업 등 시설개선 지원(전환)(자체/지원) | L13: 푸드테크기업 등 시설개선 지원 | M13: 720000 | N13: -119168 | O13: =IF($E13="","",SUM(M13:N13)) -> 600832 | P13: 119168 | Q13: =SUM(O13:P13) -> 720000 | S13: =SUM(O13,R13) -> 600832 | T13: =IF(AND((Q13=0),(S13>0)),"O",IF(AND((P13<0),(Q13-S13<0)),"O","X")) -> X | AC13: =IF($P13="", 0, IF(AND(ISNUMBER(AD13), ISNUMBER(AE13)), $P13-$AD13-$AE13, 0)) -> 119168 | AD13: =IF($P13="", 0, IF(COUNT(FIND("(지방채)",$L13))>0, "재원입력필요", 0)) -> 0 | AE13: =IF($P13="", 0, IF(COUNT(FIND("(지역개발기금)",$L13))>0, "재원입력필요", 0)) -> 0 | AF13: =IF($P13="", IF(SUM($AC13:$AE13)=0, "", "@@"), IF(AND($P13=SUM($AC13:$AE13),Q13>=0),"OK","@@")) -> OK | AH13: =IF($R13="", 0, IF(AND(ISNUMBER($AI13), ISNUMBER($AJ13)), $R13-$AI13-$AJ13, 0)) -> 0 | AI13: =IF($P13="", 0, IF(COUNT(FIND("(지방채)",$L13))>0, "재원입력필요", 0)) -> 0 | AJ13: =IF($P13="", 0, IF(COUNT(FIND("(지역개발기금)",$L13))>0, "재원입력필요", 0)) -> 0 | AK13: =IF($R13="", IF(SUM($AH13:$AJ13)=0, "", "@@"), IF(AND($R13=SUM($AH13:$AJ13),$S13>=0),"OK","@@")) | AN13: =IF($AM13="","", IF($AM13="세입없음", "OK", IF(COUNTIF('[1]3. 일입'!$AN$8:$AN$2000,$AM13), "OK","@@"))) | AO13: =IF($L13="","",IF(COUNT(FIND("(지역개발기금)",$L13)),"지역개발기금",IF(COUNT(FIND("지방채",$L13)),"지방채","자체"))) -> 자체 | AP13: =IF($AM13="", IF($AO13="", "", IF($AO13="자체", "OK", "@@")), IF($AM13="세입없음", "OK", IF($AO13="", "@@", IF(ISNUMBER(FIND($AO13,$AM13)),"OK","@@")))) -> OK | AR13: {=IF(OR($D13="", $C13="직접입력", $B13="직접입력"), "", INDEX([1]구분표!$I$3:$I$321, MATCH(1,([1]구분표!$G$3:$G$321=$B13)*([1]구분표!$E$3:$E$321=$C13)*([1]구분표!$F$3:$F$321=$D13),0)))} -> 14002
A14: =IF(D14="","",COUNTA($C$7:C14)-COUNTBLANK($C$7:C14)+6) -> 12 | B14: =IF(D14="","",IF(OR(C14="직접입력",D14="북부지원"),"직접입력",IF(OR(AND(D14="인사과",C14="의회사무처"),AND(D14="총무과",C14="의회사무처")),"의회운영위원회",IF(OR(C14="직접입력",D14="북부지원"),"직접입력",IF(OR(AND(D14="인사과",C14="자치행정국"),AND(D14="총무과",C14="자치행정국")),"안전행정위원회",VLOOKUP(D14,[1]구분표!$A$3:$C$258,2,)))))) -> 농정해양위원회 | C14: =IF(D14="","",IF(OR(D14="교육지원과",D14="총무과",D14="인사과"),"직접입력",VLOOKUP(D14,[1]구분표!$A$3:$C$258,3,))) -> 농수산생명과학국 | D14: 친환경농업과 | E14: 2추 | F14: 629 | G14: 233 | H14: 308-01 | I14: =IF(H14="","",VLOOKUP($H14,[1]구분표!$K$3:$M$151,2,FALSE)) -> 자치단체등 이전 | J14: =IF(I14="","",VLOOKUP($H14,[1]구분표!$K$3:$M$151,3,FALSE)) -> 자치단체경상보조금 | K14: 경기도 어린이 건강과일 공급사업(자체/지원) | L14: 경기도 어린이 건강과일 공급 | M14: 10524000 | N14: -283954 | O14: =IF($E14="","",SUM(M14:N14)) -> 10240046 | P14: 283954 | Q14: =SUM(O14:P14) -> 10524000 | S14: =SUM(O14,R14) -> 10240046 | T14: =IF(AND((Q14=0),(S14>0)),"O",IF(AND((P14<0),(Q14-S14<0)),"O","X")) -> X | AC14: =IF($P14="", 0, IF(AND(ISNUMBER(AD14), ISNUMBER(AE14)), $P14-$AD14-$AE14, 0)) -> 283954 | AD14: =IF($P14="", 0, IF(COUNT(FIND("(지방채)",$L14))>0, "재원입력필요", 0)) -> 0 | AE14: =IF($P14="", 0, IF(COUNT(FIND("(지역개발기금)",$L14))>0, "재원입력필요", 0)) -> 0 | AF14: =IF($P14="", IF(SUM($AC14:$AE14)=0, "", "@@"), IF(AND($P14=SUM($AC14:$AE14),Q14>=0),"OK","@@")) -> OK | AH14: =IF($R14="", 0, IF(AND(ISNUMBER($AI14), ISNUMBER($AJ14)), $R14-$AI14-$AJ14, 0)) -> 0 | AI14: =IF($P14="", 0, IF(COUNT(FIND("(지방채)",$L14))>0, "재원입력필요", 0)) -> 0 | AJ14: =IF($P14="", 0, IF(COUNT(FIND("(지역개발기금)",$L14))>0, "재원입력필요", 0)) -> 0 | AK14: =IF($R14="", IF(SUM($AH14:$AJ14)=0, "", "@@"), IF(AND($R14=SUM($AH14:$AJ14),$S14>=0),"OK","@@")) | AN14: =IF($AM14="","", IF($AM14="세입없음", "OK", IF(COUNTIF('[1]3. 일입'!$AN$8:$AN$2000,$AM14), "OK","@@"))) | AO14: =IF($L14="","",IF(COUNT(FIND("(지역개발기금)",$L14)),"지역개발기금",IF(COUNT(FIND("지방채",$L14)),"지방채","자체"))) -> 자체 | AP14: =IF($AM14="", IF($AO14="", "", IF($AO14="자체", "OK", "@@")), IF($AM14="세입없음", "OK", IF($AO14="", "@@", IF(ISNUMBER(FIND($AO14,$AM14)),"OK","@@")))) -> OK | AR14: {=IF(OR($D14="", $C14="직접입력", $B14="직접입력"), "", INDEX([1]구분표!$I$3:$I$321, MATCH(1,([1]구분표!$G$3:$G$321=$B14)*([1]구분표!$E$3:$E$321=$C14)*([1]구분표!$F$3:$F$321=$D14),0)))} -> 14003
A15: =IF(D15="","",COUNTA($C$7:C15)-COUNTBLANK($C$7:C15)+6) -> 13 | B15: =IF(D15="","",IF(OR(C15="직접입력",D15="북부지원"),"직접입력",IF(OR(AND(D15="인사과",C15="의회사무처"),AND(D15="총무과",C15="의회사무처")),"의회운영위원회",IF(OR(C15="직접입력",D15="북부지원"),"직접입력",IF(OR(AND(D15="인사과",C15="자치행정국"),AND(D15="총무과",C15="자치행정국")),"안전행정위원회",VLOOKUP(D15,[1]구분표!$A$3:$C$258,2,)))))) -> 농정해양위원회 | C15: =IF(D15="","",IF(OR(D15="교육지원과",D15="총무과",D15="인사과"),"직접입력",VLOOKUP(D15,[1]구분표!$A$3:$C$258,3,))) -> 농수산생명과학국 | D15: 친환경농업과 | E15: 2추 | F15: 631 | G15: 263 | H15: 308-01 | I15: =IF(H15="","",VLOOKUP($H15,[1]구분표!$K$3:$M$151,2,FALSE)) -> 자치단체등 이전 | J15: =IF(I15="","",VLOOKUP($H15,[1]구분표!$K$3:$M$151,3,FALSE)) -> 자치단체경상보조금 | K15: 농업용 면세유 구입비 긴급지원(자체/지원) | L15: 면세유 구입비 차액지원 | M15: 600000 | N15: -180000 | O15: =IF($E15="","",SUM(M15:N15)) -> 420000 | P15: 180000 | Q15: =SUM(O15:P15) -> 600000 | S15: =SUM(O15,R15) -> 420000 | T15: =IF(AND((Q15=0),(S15>0)),"O",IF(AND((P15<0),(Q15-S15<0)),"O","X")) -> X | AC15: =IF($P15="", 0, IF(AND(ISNUMBER(AD15), ISNUMBER(AE15)), $P15-$AD15-$AE15, 0)) -> 180000 | AD15: =IF($P15="", 0, IF(COUNT(FIND("(지방채)",$L15))>0, "재원입력필요", 0)) -> 0 | AE15: =IF($P15="", 0, IF(COUNT(FIND("(지역개발기금)",$L15))>0, "재원입력필요", 0)) -> 0 | AF15: =IF($P15="", IF(SUM($AC15:$AE15)=0, "", "@@"), IF(AND($P15=SUM($AC15:$AE15),Q15>=0),"OK","@@")) -> OK | AH15: =IF($R15="", 0, IF(AND(ISNUMBER($AI15), ISNUMBER($AJ15)), $R15-$AI15-$AJ15, 0)) -> 0 | AI15: =IF($P15="", 0, IF(COUNT(FIND("(지방채)",$L15))>0, "재원입력필요", 0)) -> 0 | AJ15: =IF($P15="", 0, IF(COUNT(FIND("(지역개발기금)",$L15))>0, "재원입력필요", 0)) -> 0 | AK15: =IF($R15="", IF(SUM($AH15:$AJ15)=0, "", "@@"), IF(AND($R15=SUM($AH15:$AJ15),$S15>=0),"OK","@@")) | AN15: =IF($AM15="","", IF($AM15="세입없음", "OK", IF(COUNTIF('[1]3. 일입'!$AN$8:$AN$2000,$AM15), "OK","@@"))) | AO15: =IF($L15="","",IF(COUNT(FIND("(지역개발기금)",$L15)),"지역개발기금",IF(COUNT(FIND("지방채",$L15)),"지방채","자체"))) -> 자체 | AP15: =IF($AM15="", IF($AO15="", "", IF($AO15="자체", "OK", "@@")), IF($AM15="세입없음", "OK", IF($AO15="", "@@", IF(ISNUMBER(FIND($AO15,$AM15)),"OK","@@")))) -> OK | AR15: {=IF(OR($D15="", $C15="직접입력", $B15="직접입력"), "", INDEX([1]구분표!$I$3:$I$321, MATCH(1,([1]구분표!$G$3:$G$321=$B15)*([1]구분표!$E$3:$E$321=$C15)*([1]구분표!$F$3:$F$321=$D15),0)))} -> 14003
A16: =IF(D16="","",COUNTA($C$7:C16)-COUNTBLANK($C$7:C16)+6) -> 14 | B16: =IF(D16="","",IF(OR(C16="직접입력",D16="북부지원"),"직접입력",IF(OR(AND(D16="인사과",C16="의회사무처"),AND(D16="총무과",C16="의회사무처")),"의회운영위원회",IF(OR(C16="직접입력",D16="북부지원"),"직접입력",IF(OR(AND(D16="인사과",C16="자치행정국"),AND(D16="총무과",C16="자치행정국")),"안전행정위원회",VLOOKUP(D16,[1]구분표!$A$3:$C$258,2,)))))) -> 농정해양위원회 | C16: =IF(D16="","",IF(OR(D16="교육지원과",D16="총무과",D16="인사과"),"직접입력",VLOOKUP(D16,[1]구분표!$A$3:$C$258,3,))) -> 농수산생명과학국 | D16: 친환경농업과 | E16: 2추 | F16: 629 | G16: 245 | H16: 307-02 | I16: =IF(H16="","",VLOOKUP($H16,[1]구분표!$K$3:$M$151,2,FALSE)) -> 민간이전 | J16: =IF(I16="","",VLOOKUP($H16,[1]구분표!$K$3:$M$151,3,FALSE)) -> 민간경상사업보조 | K16: 화훼 소비 활성화 사업(자체/직접) | L16: 화훼 소비 활성화 사업 | M16: 420000 | N16: -420000 | O16: =IF($E16="","",SUM(M16:N16)) -> 0 | P16: 420000 | Q16: =SUM(O16:P16) -> 420000 | S16: =SUM(O16,R16) -> 0 | T16: =IF(AND((Q16=0),(S16>0)),"O",IF(AND((P16<0),(Q16-S16<0)),"O","X")) -> X | AC16: =IF($P16="", 0, IF(AND(ISNUMBER(AD16), ISNUMBER(AE16)), $P16-$AD16-$AE16, 0)) -> 420000 | AD16: =IF($P16="", 0, IF(COUNT(FIND("(지방채)",$L16))>0, "재원입력필요", 0)) -> 0 | AE16: =IF($P16="", 0, IF(COUNT(FIND("(지역개발기금)",$L16))>0, "재원입력필요", 0)) -> 0 | AF16: =IF($P16="", IF(SUM($AC16:$AE16)=0, "", "@@"), IF(AND($P16=SUM($AC16:$AE16),Q16>=0),"OK","@@")) -> OK | AH16: =IF($R16="", 0, IF(AND(ISNUMBER($AI16), ISNUMBER($AJ16)), $R16-$AI16-$AJ16, 0)) -> 0 | AI16: =IF($P16="", 0, IF(COUNT(FIND("(지방채)",$L16))>0, "재원입력필요", 0)) -> 0 | AJ16: =IF($P16="", 0, IF(COUNT(FIND("(지역개발기금)",$L16))>0, "재원입력필요", 0)) -> 0 | AK16: =IF($R16="", IF(SUM($AH16:$AJ16)=0, "", "@@"), IF(AND($R16=SUM($AH16:$AJ16),$S16>=0),"OK","@@")) | AN16: =IF($AM16="","", IF($AM16="세입없음", "OK", IF(COUNTIF('[1]3. 일입'!$AN$8:$AN$2000,$AM16), "OK","@@"))) | AO16: =IF($L16="","",IF(COUNT(FIND("(지역개발기금)",$L16)),"지역개발기금",IF(COUNT(FIND("지방채",$L16)),"지방채","자체"))) -> 자체 | AP16: =IF($AM16="", IF($AO16="", "", IF($AO16="자체", "OK", "@@")), IF($AM16="세입없음", "OK", IF($AO16="", "@@", IF(ISNUMBER(FIND($AO16,$AM16)),"OK","@@")))) -> OK | AR16: {=IF(OR($D16="", $C16="직접입력", $B16="직접입력"), "", INDEX([1]구분표!$I$3:$I$321, MATCH(1,([1]구분표!$G$3:$G$321=$B16)*([1]구분표!$E$3:$E$321=$C16)*([1]구분표!$F$3:$F$321=$D16),0)))} -> 14003
A17: =IF(D17="","",COUNTA($C$7:C17)-COUNTBLANK($C$7:C17)+6) -> 15 | B17: =IF(D17="","",IF(OR(C17="직접입력",D17="북부지원"),"직접입력",IF(OR(AND(D17="인사과",C17="의회사무처"),AND(D17="총무과",C17="의회사무처")),"의회운영위원회",IF(OR(C17="직접입력",D17="북부지원"),"직접입력",IF(OR(AND(D17="인사과",C17="자치행정국"),AND(D17="총무과",C17="자치행정국")),"안전행정위원회",VLOOKUP(D17,[1]구분표!$A$3:$C$258,2,)))))) -> 농정해양위원회 | C17: =IF(D17="","",IF(OR(D17="교육지원과",D17="총무과",D17="인사과"),"직접입력",VLOOKUP(D17,[1]구분표!$A$3:$C$258,3,))) -> 농수산생명과학국 | D17: 친환경농업과 | E17: 본예산 | F17: =IF($E17="","",IF($E17="2추","직접입력","-")) -> - | G17: =IF($E17="","",IF($E17="2추","직접입력","-")) -> - | H17: 308-01 | I17: =IF(H17="","",VLOOKUP($H17,[1]구분표!$K$3:$M$151,2,FALSE)) -> 자치단체등 이전 | J17: =IF(I17="","",VLOOKUP($H17,[1]구분표!$K$3:$M$151,3,FALSE)) -> 자치단체경상보조금 | K17: 과수 계약재배농가 출하비 지원(자체/지원) | L17: 과수 계약재배농가 출하비 지원 | M17: 455000 | N17: 0 | O17: =IF($E17="","",SUM(M17:N17)) -> 455000 | P17: 100000 | Q17: =SUM(O17:P17) -> 555000 | S17: =SUM(O17,R17) -> 455000 | T17: =IF(AND((Q17=0),(S17>0)),"O",IF(AND((P17<0),(Q17-S17<0)),"O","X")) -> X | AC17: =IF($P17="", 0, IF(AND(ISNUMBER(AD17), ISNUMBER(AE17)), $P17-$AD17-$AE17, 0)) -> 100000 | AD17: =IF($P17="", 0, IF(COUNT(FIND("(지방채)",$L17))>0, "재원입력필요", 0)) -> 0 | AE17: =IF($P17="", 0, IF(COUNT(FIND("(지역개발기금)",$L17))>0, "재원입력필요", 0)) -> 0 | AF17: =IF($P17="", IF(SUM($AC17:$AE17)=0, "", "@@"), IF(AND($P17=SUM($AC17:$AE17),Q17>=0),"OK","@@")) -> OK | AH17: =IF($R17="", 0, IF(AND(ISNUMBER($AI17), ISNUMBER($AJ17)), $R17-$AI17-$AJ17, 0)) -> 0 | AI17: =IF($P17="", 0, IF(COUNT(FIND("(지방채)",$L17))>0, "재원입력필요", 0)) -> 0 | AJ17: =IF($P17="", 0, IF(COUNT(FIND("(지역개발기금)",$L17))>0, "재원입력필요", 0)) -> 0 | AK17: =IF($R17="", IF(SUM($AH17:$AJ17)=0, "", "@@"), IF(AND($R17=SUM($AH17:$AJ17),$S17>=0),"OK","@@")) | AN17: =IF($AM17="","", IF($AM17="세입없음", "OK", IF(COUNTIF('[1]3. 일입'!$AN$8:$AN$2000,$AM17), "OK","@@"))) | AO17: =IF($L17="","",IF(COUNT(FIND("(지역개발기금)",$L17)),"지역개발기금",IF(COUNT(FIND("지방채",$L17)),"지방채","자체"))) -> 자체 | AP17: =IF($AM17="", IF($AO17="", "", IF($AO17="자체", "OK", "@@")), IF($AM17="세입없음", "OK", IF($AO17="", "@@", IF(ISNUMBER(FIND($AO17,$AM17)),"OK","@@")))) -> OK | AR17: {=IF(OR($D17="", $C17="직접입력", $B17="직접입력"), "", INDEX([1]구분표!$I$3:$I$321, MATCH(1,([1]구분표!$G$3:$G$321=$B17)*([1]구분표!$E$3:$E$321=$C17)*([1]구분표!$F$3:$F$321=$D17),0)))} -> 14003
A18: =IF(D18="","",COUNTA($C$7:C18)-COUNTBLANK($C$7:C18)+6) -> 16 | B18: =IF(D18="","",IF(OR(C18="직접입력",D18="북부지원"),"직접입력",IF(OR(AND(D18="인사과",C18="의회사무처"),AND(D18="총무과",C18="의회사무처")),"의회운영위원회",IF(OR(C18="직접입력",D18="북부지원"),"직접입력",IF(OR(AND(D18="인사과",C18="자치행정국"),AND(D18="총무과",C18="자치행정국")),"안전행정위원회",VLOOKUP(D18,[1]구분표!$A$3:$C$258,2,)))))) -> 농정해양위원회 | C18: =IF(D18="","",IF(OR(D18="교육지원과",D18="총무과",D18="인사과"),"직접입력",VLOOKUP(D18,[1]구분표!$A$3:$C$258,3,))) -> 농수산생명과학국 | D18: 해양수산과 | E18: 2추 | F18: 634 | G18: 310 | H18: 308-13 | I18: =IF(H18="","",VLOOKUP($H18,[1]구분표!$K$3:$M$151,2,FALSE)) -> 자치단체등 이전 | J18: =IF(I18="","",VLOOKUP($H18,[1]구분표!$K$3:$M$151,3,FALSE)) -> 공기관등에대한경상적위탁사업비 | K18: 경기바다 해양레저 관광 활성화(자체/직접) | L18: 경기바다 해양레저관광 활성화 | M18: 800000 | N18: -203000 | O18: =IF($E18="","",SUM(M18:N18)) -> 597000 | P18: 203000 | Q18: =SUM(O18:P18) -> 800000 | S18: =SUM(O18,R18) -> 597000 | T18: =IF(AND((Q18=0),(S18>0)),"O",IF(AND((P18<0),(Q18-S18<0)),"O","X")) -> X | AC18: =IF($P18="", 0, IF(AND(ISNUMBER(AD18), ISNUMBER(AE18)), $P18-$AD18-$AE18, 0)) -> 203000 | AD18: =IF($P18="", 0, IF(COUNT(FIND("(지방채)",$L18))>0, "재원입력필요", 0)) -> 0 | AE18: =IF($P18="", 0, IF(COUNT(FIND("(지역개발기금)",$L18))>0, "재원입력필요", 0)) -> 0 | AF18: =IF($P18="", IF(SUM($AC18:$AE18)=0, "", "@@"), IF(AND($P18=SUM($AC18:$AE18),Q18>=0),"OK","@@")) -> OK | AH18: =IF($R18="", 0, IF(AND(ISNUMBER($AI18), ISNUMBER($AJ18)), $R18-$AI18-$AJ18, 0)) -> 0 | AI18: =IF($P18="", 0, IF(COUNT(FIND("(지방채)",$L18))>0, "재원입력필요", 0)) -> 0 | AJ18: =IF($P18="", 0, IF(COUNT(FIND("(지역개발기금)",$L18))>0, "재원입력필요", 0)) -> 0 | AK18: =IF($R18="", IF(SUM($AH18:$AJ18)=0, "", "@@"), IF(AND($R18=SUM($AH18:$AJ18),$S18>=0),"OK","@@")) | AN18: =IF($AM18="","", IF($AM18="세입없음", "OK", IF(COUNTIF('[1]3. 일입'!$AN$8:$AN$2000,$AM18), "OK","@@"))) | AO18: =IF($L18="","",IF(COUNT(FIND("(지역개발기금)",$L18)),"지역개발기금",IF(COUNT(FIND("지방채",$L18)),"지방채","자체"))) -> 자체 | AP18: =IF($AM18="", IF($AO18="", "", IF($AO18="자체", "OK", "@@")), IF($AM18="세입없음", "OK", IF($AO18="", "@@", IF(ISNUMBER(FIND($AO18,$AM18)),"OK","@@")))) -> OK | AR18: {=IF(OR($D18="", $C18="직접입력", $B18="직접입력"), "", INDEX([1]구분표!$I$3:$I$321, MATCH(1,([1]구분표!$G$3:$G$321=$B18)*([1]구분표!$E$3:$E$321=$C18)*([1]구분표!$F$3:$F$321=$D18),0)))} -> 14004
A19: =IF(D19="","",COUNTA($C$7:C19)-COUNTBLANK($C$7:C19)+6) -> 17 | B19: =IF(D19="","",IF(OR(C19="직접입력",D19="북부지원"),"직접입력",IF(OR(AND(D19="인사과",C19="의회사무처"),AND(D19="총무과",C19="의회사무처")),"의회운영위원회",IF(OR(C19="직접입력",D19="북부지원"),"직접입력",IF(OR(AND(D19="인사과",C19="자치행정국"),AND(D19="총무과",C19="자치행정국")),"안전행정위원회",VLOOKUP(D19,[1]구분표!$A$3:$C$258,2,)))))) -> 농정해양위원회 | C19: =IF(D19="","",IF(OR(D19="교육지원과",D19="총무과",D19="인사과"),"직접입력",VLOOKUP(D19,[1]구분표!$A$3:$C$258,3,))) -> 축산동물복지국 | D19: 축산정책과 | E19: 2추 | F19: 656 | G19: 116 | H19: 308-01 | I19: =IF(H19="","",VLOOKUP($H19,[1]구분표!$K$3:$M$151,2,FALSE)) -> 자치단체등 이전 | J19: =IF(I19="","",VLOOKUP($H19,[1]구분표!$K$3:$M$151,3,FALSE)) -> 자치단체경상보조금 | K19: 조사료 생산 지원(자체/지원) | L19: 조사료생산용 볏짚비닐지원 | M19: 540000 | N19: -99864 | O19: =IF($E19="","",SUM(M19:N19)) -> 440136 | P19: 99864 | Q19: =SUM(O19:P19) -> 540000 | S19: =SUM(O19,R19) -> 440136 | T19: =IF(AND((Q19=0),(S19>0)),"O",IF(AND((P19<0),(Q19-S19<0)),"O","X")) -> X | AC19: =IF($P19="", 0, IF(AND(ISNUMBER(AD19), ISNUMBER(AE19)), $P19-$AD19-$AE19, 0)) -> 99864 | AD19: =IF($P19="", 0, IF(COUNT(FIND("(지방채)",$L19))>0, "재원입력필요", 0)) -> 0 | AE19: =IF($P19="", 0, IF(COUNT(FIND("(지역개발기금)",$L19))>0, "재원입력필요", 0)) -> 0 | AF19: =IF($P19="", IF(SUM($AC19:$AE19)=0, "", "@@"), IF(AND($P19=SUM($AC19:$AE19),Q19>=0),"OK","@@")) -> OK | AH19: =IF($R19="", 0, IF(AND(ISNUMBER($AI19), ISNUMBER($AJ19)), $R19-$AI19-$AJ19, 0)) -> 0 | AI19: =IF($P19="", 0, IF(COUNT(FIND("(지방채)",$L19))>0, "재원입력필요", 0)) -> 0 | AJ19: =IF($P19="", 0, IF(COUNT(FIND("(지역개발기금)",$L19))>0, "재원입력필요", 0)) -> 0 | AK19: =IF($R19="", IF(SUM($AH19:$AJ19)=0, "", "@@"), IF(AND($R19=SUM($AH19:$AJ19),$S19>=0),"OK","@@")) | AN19: =IF($AM19="","", IF($AM19="세입없음", "OK", IF(COUNTIF('[1]3. 일입'!$AN$8:$AN$2000,$AM19), "OK","@@"))) | AO19: =IF($L19="","",IF(COUNT(FIND("(지역개발기금)",$L19)),"지역개발기금",IF(COUNT(FIND("지방채",$L19)),"지방채","자체"))) -> 자체 | AP19: =IF($AM19="", IF($AO19="", "", IF($AO19="자체", "OK", "@@")), IF($AM19="세입없음", "OK", IF($AO19="", "@@", IF(ISNUMBER(FIND($AO19,$AM19)),"OK","@@")))) -> OK | AR19: {=IF(OR($D19="", $C19="직접입력", $B19="직접입력"), "", INDEX([1]구분표!$I$3:$I$321, MATCH(1,([1]구분표!$G$3:$G$321=$B19)*([1]구분표!$E$3:$E$321=$C19)*([1]구분표!$F$3:$F$321=$D19),0)))} -> 20701
A20: =IF(D20="","",COUNTA($C$7:C20)-COUNTBLANK($C$7:C20)+6) -> 18 | B20: =IF(D20="","",IF(OR(C20="직접입력",D20="북부지원"),"직접입력",IF(OR(AND(D20="인사과",C20="의회사무처"),AND(D20="총무과",C20="의회사무처")),"의회운영위원회",IF(OR(C20="직접입력",D20="북부지원"),"직접입력",IF(OR(AND(D20="인사과",C20="자치행정국"),AND(D20="총무과",C20="자치행정국")),"안전행정위원회",VLOOKUP(D20,[1]구분표!$A$3:$C$258,2,)))))) -> 농정해양위원회 | C20: =IF(D20="","",IF(OR(D20="교육지원과",D20="총무과",D20="인사과"),"직접입력",VLOOKUP(D20,[1]구분표!$A$3:$C$258,3,))) -> 축산동물복지국 | D20: 축산정책과 | E20: 2추 | F20: 652 | G20: 57 | H20: 403-01 | I20: =IF(H20="","",VLOOKUP($H20,[1]구분표!$K$3:$M$151,2,FALSE)) -> 자치단체등 자본이전 | J20: =IF(I20="","",VLOOKUP($H20,[1]구분표!$K$3:$M$151,3,FALSE)) -> 자치단체자본보조 | K20: 가축행복농장 지원(자체/지원) | L20: 가축행복농장 지원 | M20: 2500000 | N20: -300000 | O20: =IF($E20="","",SUM(M20:N20)) -> 2200000 | P20: 300000 | Q20: =SUM(O20:P20) -> 2500000 | S20: =SUM(O20,R20) -> 2200000 | T20: =IF(AND((Q20=0),(S20>0)),"O",IF(AND((P20<0),(Q20-S20<0)),"O","X")) -> X | AC20: =IF($P20="", 0, IF(AND(ISNUMBER(AD20), ISNUMBER(AE20)), $P20-$AD20-$AE20, 0)) -> 300000 | AD20: =IF($P20="", 0, IF(COUNT(FIND("(지방채)",$L20))>0, "재원입력필요", 0)) -> 0 | AE20: =IF($P20="", 0, IF(COUNT(FIND("(지역개발기금)",$L20))>0, "재원입력필요", 0)) -> 0 | AF20: =IF($P20="", IF(SUM($AC20:$AE20)=0, "", "@@"), IF(AND($P20=SUM($AC20:$AE20),Q20>=0),"OK","@@")) -> OK | AH20: =IF($R20="", 0, IF(AND(ISNUMBER($AI20), ISNUMBER($AJ20)), $R20-$AI20-$AJ20, 0)) -> 0 | AI20: =IF($P20="", 0, IF(COUNT(FIND("(지방채)",$L20))>0, "재원입력필요", 0)) -> 0 | AJ20: =IF($P20="", 0, IF(COUNT(FIND("(지역개발기금)",$L20))>0, "재원입력필요", 0)) -> 0 | AK20: =IF($R20="", IF(SUM($AH20:$AJ20)=0, "", "@@"), IF(AND($R20=SUM($AH20:$AJ20),$S20>=0),"OK","@@")) | AN20: =IF($AM20="","", IF($AM20="세입없음", "OK", IF(COUNTIF('[1]3. 일입'!$AN$8:$AN$2000,$AM20), "OK","@@"))) | AO20: =IF($L20="","",IF(COUNT(FIND("(지역개발기금)",$L20)),"지역개발기금",IF(COUNT(FIND("지방채",$L20)),"지방채","자체"))) -> 자체 | AP20: =IF($AM20="", IF($AO20="", "", IF($AO20="자체", "OK", "@@")), IF($AM20="세입없음", "OK", IF($AO20="", "@@", IF(ISNUMBER(FIND($AO20,$AM20)),"OK","@@")))) -> OK | AR20: {=IF(OR($D20="", $C20="직접입력", $B20="직접입력"), "", INDEX([1]구분표!$I$3:$I$321, MATCH(1,([1]구분표!$G$3:$G$321=$B20)*([1]구분표!$E$3:$E$321=$C20)*([1]구분표!$F$3:$F$321=$D20),0)))} -> 20701
A21: =IF(D21="","",COUNTA($C$7:C21)-COUNTBLANK($C$7:C21)+6) -> 19 | B21: =IF(D21="","",IF(OR(C21="직접입력",D21="북부지원"),"직접입력",IF(OR(AND(D21="인사과",C21="의회사무처"),AND(D21="총무과",C21="의회사무처")),"의회운영위원회",IF(OR(C21="직접입력",D21="북부지원"),"직접입력",IF(OR(AND(D21="인사과",C21="자치행정국"),AND(D21="총무과",C21="자치행정국")),"안전행정위원회",VLOOKUP(D21,[1]구분표!$A$3:$C$258,2,)))))) -> 농정해양위원회 | C21: =IF(D21="","",IF(OR(D21="교육지원과",D21="총무과",D21="인사과"),"직접입력",VLOOKUP(D21,[1]구분표!$A$3:$C$258,3,))) -> 축산동물복지국 | D21: 반려동물과 | E21: 2추 | F21: 668 | G21: 278 | H21: 307-02 | I21: =IF(H21="","",VLOOKUP($H21,[1]구분표!$K$3:$M$151,2,FALSE)) -> 민간이전 | J21: =IF(I21="","",VLOOKUP($H21,[1]구분표!$K$3:$M$151,3,FALSE)) -> 민간경상사업보조 | K21: 반려동물산업 분야 유망 중소기업 육성 지원(전환)(자체/직접) | L21: 반려동물산업 중소기업 상용화 지원 | M21: 90000 | N21: -9056 | O21: =IF($E21="","",SUM(M21:N21)) -> 80944 | P21: 9056 | Q21: =SUM(O21:P21) -> 90000 | S21: =SUM(O21,R21) -> 80944 | T21: =IF(AND((Q21=0),(S21>0)),"O",IF(AND((P21<0),(Q21-S21<0)),"O","X")) -> X | AC21: =IF($P21="", 0, IF(AND(ISNUMBER(AD21), ISNUMBER(AE21)), $P21-$AD21-$AE21, 0)) -> 9056 | AD21: =IF($P21="", 0, IF(COUNT(FIND("(지방채)",$L21))>0, "재원입력필요", 0)) -> 0 | AE21: =IF($P21="", 0, IF(COUNT(FIND("(지역개발기금)",$L21))>0, "재원입력필요", 0)) -> 0 | AF21: =IF($P21="", IF(SUM($AC21:$AE21)=0, "", "@@"), IF(AND($P21=SUM($AC21:$AE21),Q21>=0),"OK","@@")) -> OK | AH21: =IF($R21="", 0, IF(AND(ISNUMBER($AI21), ISNUMBER($AJ21)), $R21-$AI21-$AJ21, 0)) -> 0 | AI21: =IF($P21="", 0, IF(COUNT(FIND("(지방채)",$L21))>0, "재원입력필요", 0)) -> 0 | AJ21: =IF($P21="", 0, IF(COUNT(FIND("(지역개발기금)",$L21))>0, "재원입력필요", 0)) -> 0 | AK21: =IF($R21="", IF(SUM($AH21:$AJ21)=0, "", "@@"), IF(AND($R21=SUM($AH21:$AJ21),$S21>=0),"OK","@@")) | AN21: =IF($AM21="","", IF($AM21="세입없음", "OK", IF(COUNTIF('[1]3. 일입'!$AN$8:$AN$2000,$AM21), "OK","@@"))) | AO21: =IF($L21="","",IF(COUNT(FIND("(지역개발기금)",$L21)),"지역개발기금",IF(COUNT(FIND("지방채",$L21)),"지방채","자체"))) -> 자체 | AP21: =IF($AM21="", IF($AO21="", "", IF($AO21="자체", "OK", "@@")), IF($AM21="세입없음", "OK", IF($AO21="", "@@", IF(ISNUMBER(FIND($AO21,$AM21)),"OK","@@")))) -> OK | AR21: {=IF(OR($D21="", $C21="직접입력", $B21="직접입력"), "", INDEX([1]구분표!$I$3:$I$321, MATCH(1,([1]구분표!$G$3:$G$321=$B21)*([1]구분표!$E$3:$E$321=$C21)*([1]구분표!$F$3:$F$321=$D21),0)))} -> 20704
A22: =IF(D22="","",COUNTA($C$7:C22)-COUNTBLANK($C$7:C22)+6) -> 20 | B22: =IF(D22="","",IF(OR(C22="직접입력",D22="북부지원"),"직접입력",IF(OR(AND(D22="인사과",C22="의회사무처"),AND(D22="총무과",C22="의회사무처")),"의회운영위원회",IF(OR(C22="직접입력",D22="북부지원"),"직접입력",IF(OR(AND(D22="인사과",C22="자치행정국"),AND(D22="총무과",C22="자치행정국")),"안전행정위원회",VLOOKUP(D22,[1]구분표!$A$3:$C$258,2,)))))) -> 농정해양위원회 | C22: =IF(D22="","",IF(OR(D22="교육지원과",D22="총무과",D22="인사과"),"직접입력",VLOOKUP(D22,[1]구분표!$A$3:$C$258,3,))) -> 축산동물복지국 | D22: 반려동물과 | E22: 2추 | F22: 669 | G22: 278 | H22: 308-13 | I22: =IF(H22="","",VLOOKUP($H22,[1]구분표!$K$3:$M$151,2,FALSE)) -> 자치단체등 이전 | J22: =IF(I22="","",VLOOKUP($H22,[1]구분표!$K$3:$M$151,3,FALSE)) -> 공기관등에대한경상적위탁사업비 | K22: 반려동물산업 분야 유망 중소기업 육성 지원(전환)(자체/직접) | L22: 반려동물산업 중소기업 통합홍보 | M22: 50000 | N22: -20000 | O22: =IF($E22="","",SUM(M22:N22)) -> 30000 | P22: 20000 | Q22: =SUM(O22:P22) -> 50000 | S22: =SUM(O22,R22) -> 30000 | T22: =IF(AND((Q22=0),(S22>0)),"O",IF(AND((P22<0),(Q22-S22<0)),"O","X")) -> X | AC22: =IF($P22="", 0, IF(AND(ISNUMBER(AD22), ISNUMBER(AE22)), $P22-$AD22-$AE22, 0)) -> 20000 | AD22: =IF($P22="", 0, IF(COUNT(FIND("(지방채)",$L22))>0, "재원입력필요", 0)) -> 0 | AE22: =IF($P22="", 0, IF(COUNT(FIND("(지역개발기금)",$L22))>0, "재원입력필요", 0)) -> 0 | AF22: =IF($P22="", IF(SUM($AC22:$AE22)=0, "", "@@"), IF(AND($P22=SUM($AC22:$AE22),Q22>=0),"OK","@@")) -> OK | AH22: =IF($R22="", 0, IF(AND(ISNUMBER($AI22), ISNUMBER($AJ22)), $R22-$AI22-$AJ22, 0)) -> 0 | AI22: =IF($P22="", 0, IF(COUNT(FIND("(지방채)",$L22))>0, "재원입력필요", 0)) -> 0 | AJ22: =IF($P22="", 0, IF(COUNT(FIND("(지역개발기금)",$L22))>0, "재원입력필요", 0)) -> 0 | AK22: =IF($R22="", IF(SUM($AH22:$AJ22)=0, "", "@@"), IF(AND($R22=SUM($AH22:$AJ22),$S22>=0),"OK","@@")) | AN22: =IF($AM22="","", IF($AM22="세입없음", "OK", IF(COUNTIF('[1]3. 일입'!$AN$8:$AN$2000,$AM22), "OK","@@"))) | AO22: =IF($L22="","",IF(COUNT(FIND("(지역개발기금)",$L22)),"지역개발기금",IF(COUNT(FIND("지방채",$L22)),"지방채","자체"))) -> 자체 | AP22: =IF($AM22="", IF($AO22="", "", IF($AO22="자체", "OK", "@@")), IF($AM22="세입없음", "OK", IF($AO22="", "@@", IF(ISNUMBER(FIND($AO22,$AM22)),"OK","@@")))) -> OK | AR22: {=IF(OR($D22="", $C22="직접입력", $B22="직접입력"), "", INDEX([1]구분표!$I$3:$I$321, MATCH(1,([1]구분표!$G$3:$G$321=$B22)*([1]구분표!$E$3:$E$321=$C22)*([1]구분표!$F$3:$F$321=$D22),0)))} -> 20704
A23: =IF(D23="","",COUNTA($C$7:C23)-COUNTBLANK($C$7:C23)+6) -> 21 | B23: =IF(D23="","",IF(OR(C23="직접입력",D23="북부지원"),"직접입력",IF(OR(AND(D23="인사과",C23="의회사무처"),AND(D23="총무과",C23="의회사무처")),"의회운영위원회",IF(OR(C23="직접입력",D23="북부지원"),"직접입력",IF(OR(AND(D23="인사과",C23="자치행정국"),AND(D23="총무과",C23="자치행정국")),"안전행정위원회",VLOOKUP(D23,[1]구분표!$A$3:$C$258,2,)))))) -> 농정해양위원회 | C23: =IF(D23="","",IF(OR(D23="교육지원과",D23="총무과",D23="인사과"),"직접입력",VLOOKUP(D23,[1]구분표!$A$3:$C$258,3,))) -> 축산동물복지국 | D23: 축산진흥센터 | E23: 2추 | F23: 678 | G23: 348 | H23: 401-01 | I23: =IF(H23="","",VLOOKUP($H23,[1]구분표!$K$3:$M$151,2,FALSE)) -> 시설비 및 부대비 | J23: =IF(I23="","",VLOOKUP($H23,[1]구분표!$K$3:$M$151,3,FALSE)) -> 시설비 | K23: RE100 태양광 설치공사(자체/직접) | L23: RE100 태양광 설치공사 | M23: 2020000 | N23: -1995250 | O23: =IF($E23="","",SUM(M23:N23)) -> 24750 | P23: 1995250 | Q23: =SUM(O23:P23) -> 2020000 | S23: =SUM(O23,R23) -> 24750 | T23: =IF(AND((Q23=0),(S23>0)),"O",IF(AND((P23<0),(Q23-S23<0)),"O","X")) -> X | AC23: =IF($P23="", 0, IF(AND(ISNUMBER(AD23), ISNUMBER(AE23)), $P23-$AD23-$AE23, 0)) -> 1995250 | AD23: =IF($P23="", 0, IF(COUNT(FIND("(지방채)",$L23))>0, "재원입력필요", 0)) -> 0 | AE23: =IF($P23="", 0, IF(COUNT(FIND("(지역개발기금)",$L23))>0, "재원입력필요", 0)) -> 0 | AF23: =IF($P23="", IF(SUM($AC23:$AE23)=0, "", "@@"), IF(AND($P23=SUM($AC23:$AE23),Q23>=0),"OK","@@")) -> OK | AH23: =IF($R23="", 0, IF(AND(ISNUMBER($AI23), ISNUMBER($AJ23)), $R23-$AI23-$AJ23, 0)) -> 0 | AI23: =IF($P23="", 0, IF(COUNT(FIND("(지방채)",$L23))>0, "재원입력필요", 0)) -> 0 | AJ23: =IF($P23="", 0, IF(COUNT(FIND("(지역개발기금)",$L23))>0, "재원입력필요", 0)) -> 0 | AK23: =IF($R23="", IF(SUM($AH23:$AJ23)=0, "", "@@"), IF(AND($R23=SUM($AH23:$AJ23),$S23>=0),"OK","@@")) | AN23: =IF($AM23="","", IF($AM23="세입없음", "OK", IF(COUNTIF('[1]3. 일입'!$AN$8:$AN$2000,$AM23), "OK","@@"))) | AO23: =IF($L23="","",IF(COUNT(FIND("(지역개발기금)",$L23)),"지역개발기금",IF(COUNT(FIND("지방채",$L23)),"지방채","자체"))) -> 자체 | AP23: =IF($AM23="", IF($AO23="", "", IF($AO23="자체", "OK", "@@")), IF($AM23="세입없음", "OK", IF($AO23="", "@@", IF(ISNUMBER(FIND($AO23,$AM23)),"OK","@@")))) -> OK | AR23: {=IF(OR($D23="", $C23="직접입력", $B23="직접입력"), "", INDEX([1]구분표!$I$3:$I$321, MATCH(1,([1]구분표!$G$3:$G$321=$B23)*([1]구분표!$E$3:$E$321=$C23)*([1]구분표!$F$3:$F$321=$D23),0)))} -> 20707
A24: =IF(D24="","",COUNTA($C$7:C24)-COUNTBLANK($C$7:C24)+6) -> 22 | B24: =IF(D24="","",IF(OR(C24="직접입력",D24="북부지원"),"직접입력",IF(OR(AND(D24="인사과",C24="의회사무처"),AND(D24="총무과",C24="의회사무처")),"의회운영위원회",IF(OR(C24="직접입력",D24="북부지원"),"직접입력",IF(OR(AND(D24="인사과",C24="자치행정국"),AND(D24="총무과",C24="자치행정국")),"안전행정위원회",VLOOKUP(D24,[1]구분표!$A$3:$C$258,2,)))))) -> 농정해양위원회 | C24: =IF(D24="","",IF(OR(D24="교육지원과",D24="총무과",D24="인사과"),"직접입력",VLOOKUP(D24,[1]구분표!$A$3:$C$258,3,))) -> 기후환경에너지국 | D24: 산림녹지과 | E24: 2추 | F24: 687 | G24: 29 | H24: 401-01 | I24: =IF(H24="","",VLOOKUP($H24,[1]구분표!$K$3:$M$151,2,FALSE)) -> 시설비 및 부대비 | J24: =IF(I24="","",VLOOKUP($H24,[1]구분표!$K$3:$M$151,3,FALSE)) -> 시설비 | K24: 경기도 별빛 자연휴양림 조성(자체/직접) | L24: 경기도 별빛 자연휴양림 조성 | M24: 800000 | N24: -787247 | O24: =IF($E24="","",SUM(M24:N24)) -> 12753 | P24: 787247 | Q24: =SUM(O24:P24) -> 800000 | S24: =SUM(O24,R24) -> 12753 | T24: =IF(AND((Q24=0),(S24>0)),"O",IF(AND((P24<0),(Q24-S24<0)),"O","X")) -> X | AC24: =IF($P24="", 0, IF(AND(ISNUMBER(AD24), ISNUMBER(AE24)), $P24-$AD24-$AE24, 0)) -> 787247 | AD24: =IF($P24="", 0, IF(COUNT(FIND("(지방채)",$L24))>0, "재원입력필요", 0)) -> 0 | AE24: =IF($P24="", 0, IF(COUNT(FIND("(지역개발기금)",$L24))>0, "재원입력필요", 0)) -> 0 | AF24: =IF($P24="", IF(SUM($AC24:$AE24)=0, "", "@@"), IF(AND($P24=SUM($AC24:$AE24),Q24>=0),"OK","@@")) -> OK | AH24: =IF($R24="", 0, IF(AND(ISNUMBER($AI24), ISNUMBER($AJ24)), $R24-$AI24-$AJ24, 0)) -> 0 | AI24: =IF($P24="", 0, IF(COUNT(FIND("(지방채)",$L24))>0, "재원입력필요", 0)) -> 0 | AJ24: =IF($P24="", 0, IF(COUNT(FIND("(지역개발기금)",$L24))>0, "재원입력필요", 0)) -> 0 | AK24: =IF($R24="", IF(SUM($AH24:$AJ24)=0, "", "@@"), IF(AND($R24=SUM($AH24:$AJ24),$S24>=0),"OK","@@")) | AN24: =IF($AM24="","", IF($AM24="세입없음", "OK", IF(COUNTIF('[1]3. 일입'!$AN$8:$AN$2000,$AM24), "OK","@@"))) | AO24: =IF($L24="","",IF(COUNT(FIND("(지역개발기금)",$L24)),"지역개발기금",IF(COUNT(FIND("지방채",$L24)),"지방채","자체"))) -> 자체 | AP24: =IF($AM24="", IF($AO24="", "", IF($AO24="자체", "OK", "@@")), IF($AM24="세입없음", "OK", IF($AO24="", "@@", IF(ISNUMBER(FIND($AO24,$AM24)),"OK","@@")))) -> OK | AR24: {=IF(OR($D24="", $C24="직접입력", $B24="직접입력"), "", INDEX([1]구분표!$I$3:$I$321, MATCH(1,([1]구분표!$G$3:$G$321=$B24)*([1]구분표!$E$3:$E$321=$C24)*([1]구분표!$F$3:$F$321=$D24),0)))} -> 30408
A25: =IF(D25="","",COUNTA($C$7:C25)-COUNTBLANK($C$7:C25)+6) -> 23 | B25: =IF(D25="","",IF(OR(C25="직접입력",D25="북부지원"),"직접입력",IF(OR(AND(D25="인사과",C25="의회사무처"),AND(D25="총무과",C25="의회사무처")),"의회운영위원회",IF(OR(C25="직접입력",D25="북부지원"),"직접입력",IF(OR(AND(D25="인사과",C25="자치행정국"),AND(D25="총무과",C25="자치행정국")),"안전행정위원회",VLOOKUP(D25,[1]구분표!$A$3:$C$258,2,)))))) -> 농정해양위원회 | C25: =IF(D25="","",IF(OR(D25="교육지원과",D25="총무과",D25="인사과"),"직접입력",VLOOKUP(D25,[1]구분표!$A$3:$C$258,3,))) -> 농업기술원 | D25: 지도정책과 | E25: 2추 | F25: 714 | G25: 205 | H25: 307-02 | I25: =IF(H25="","",VLOOKUP($H25,[1]구분표!$K$3:$M$151,2,FALSE)) -> 민간이전 | J25: =IF(I25="","",VLOOKUP($H25,[1]구분표!$K$3:$M$151,3,FALSE)) -> 민간경상사업보조 | K25: 4-H육성 지원(자체/직접) | L25: 4-H회원 교육 | M25: 150000 | N25: -135000 | O25: =IF($E25="","",SUM(M25:N25)) -> 15000 | P25: 135000 | Q25: =SUM(O25:P25) -> 150000 | S25: =SUM(O25,R25) -> 15000 | T25: =IF(AND((Q25=0),(S25>0)),"O",IF(AND((P25<0),(Q25-S25<0)),"O","X")) -> X | AC25: =IF($P25="", 0, IF(AND(ISNUMBER(AD25), ISNUMBER(AE25)), $P25-$AD25-$AE25, 0)) -> 135000 | AD25: =IF($P25="", 0, IF(COUNT(FIND("(지방채)",$L25))>0, "재원입력필요", 0)) -> 0 | AE25: =IF($P25="", 0, IF(COUNT(FIND("(지역개발기금)",$L25))>0, "재원입력필요", 0)) -> 0 | AF25: =IF($P25="", IF(SUM($AC25:$AE25)=0, "", "@@"), IF(AND($P25=SUM($AC25:$AE25),Q25>=0),"OK","@@")) -> OK | AH25: =IF($R25="", 0, IF(AND(ISNUMBER($AI25), ISNUMBER($AJ25)), $R25-$AI25-$AJ25, 0)) -> 0 | AI25: =IF($P25="", 0, IF(COUNT(FIND("(지방채)",$L25))>0, "재원입력필요", 0)) -> 0 | AJ25: =IF($P25="", 0, IF(COUNT(FIND("(지역개발기금)",$L25))>0, "재원입력필요", 0)) -> 0 | AK25: =IF($R25="", IF(SUM($AH25:$AJ25)=0, "", "@@"), IF(AND($R25=SUM($AH25:$AJ25),$S25>=0),"OK","@@")) | AN25: =IF($AM25="","", IF($AM25="세입없음", "OK", IF(COUNTIF('[1]3. 일입'!$AN$8:$AN$2000,$AM25), "OK","@@"))) | AO25: =IF($L25="","",IF(COUNT(FIND("(지역개발기금)",$L25)),"지역개발기금",IF(COUNT(FIND("지방채",$L25)),"지방채","자체"))) -> 자체 | AP25: =IF($AM25="", IF($AO25="", "", IF($AO25="자체", "OK", "@@")), IF($AM25="세입없음", "OK", IF($AO25="", "@@", IF(ISNUMBER(FIND($AO25,$AM25)),"OK","@@")))) -> OK | AR25: {=IF(OR($D25="", $C25="직접입력", $B25="직접입력"), "", INDEX([1]구분표!$I$3:$I$321, MATCH(1,([1]구분표!$G$3:$G$321=$B25)*([1]구분표!$E$3:$E$321=$C25)*([1]구분표!$F$3:$F$321=$D25),0)))} -> 50208
A26: =IF(D26="","",COUNTA($C$7:C26)-COUNTBLANK($C$7:C26)+6) -> 24 | B26: =IF(D26="","",IF(OR(C26="직접입력",D26="북부지원"),"직접입력",IF(OR(AND(D26="인사과",C26="의회사무처"),AND(D26="총무과",C26="의회사무처")),"의회운영위원회",IF(OR(C26="직접입력",D26="북부지원"),"직접입력",IF(OR(AND(D26="인사과",C26="자치행정국"),AND(D26="총무과",C26="자치행정국")),"안전행정위원회",VLOOKUP(D26,[1]구분표!$A$3:$C$258,2,)))))) -> 농정해양위원회 | C26: =IF(D26="","",IF(OR(D26="교육지원과",D26="총무과",D26="인사과"),"직접입력",VLOOKUP(D26,[1]구분표!$A$3:$C$258,3,))) -> 농업기술원 | D26: 지도정책과 | E26: 2추 | F26: 714 | G26: 208 | H26: 201-01 | I26: =IF(H26="","",VLOOKUP($H26,[1]구분표!$K$3:$M$151,2,FALSE)) -> 일반운영비 | J26: =IF(I26="","",VLOOKUP($H26,[1]구분표!$K$3:$M$151,3,FALSE)) -> 사무관리비 | K26: 4-H회원 역량강화 지원(전환)(자체/직접) | L26: 4-H회원 역량강화 | M26: 6000 | N26: -3000 | O26: =IF($E26="","",SUM(M26:N26)) -> 3000 | P26: 3000 | Q26: =SUM(O26:P26) -> 6000 | S26: =SUM(O26,R26) -> 3000 | T26: =IF(AND((Q26=0),(S26>0)),"O",IF(AND((P26<0),(Q26-S26<0)),"O","X")) -> X | AC26: =IF($P26="", 0, IF(AND(ISNUMBER(AD26), ISNUMBER(AE26)), $P26-$AD26-$AE26, 0)) -> 3000 | AD26: =IF($P26="", 0, IF(COUNT(FIND("(지방채)",$L26))>0, "재원입력필요", 0)) -> 0 | AE26: =IF($P26="", 0, IF(COUNT(FIND("(지역개발기금)",$L26))>0, "재원입력필요", 0)) -> 0 | AF26: =IF($P26="", IF(SUM($AC26:$AE26)=0, "", "@@"), IF(AND($P26=SUM($AC26:$AE26),Q26>=0),"OK","@@")) -> OK | AH26: =IF($R26="", 0, IF(AND(ISNUMBER($AI26), ISNUMBER($AJ26)), $R26-$AI26-$AJ26, 0)) -> 0 | AI26: =IF($P26="", 0, IF(COUNT(FIND("(지방채)",$L26))>0, "재원입력필요", 0)) -> 0 | AJ26: =IF($P26="", 0, IF(COUNT(FIND("(지역개발기금)",$L26))>0, "재원입력필요", 0)) -> 0 | AK26: =IF($R26="", IF(SUM($AH26:$AJ26)=0, "", "@@"), IF(AND($R26=SUM($AH26:$AJ26),$S26>=0),"OK","@@")) | AN26: =IF($AM26="","", IF($AM26="세입없음", "OK", IF(COUNTIF('[1]3. 일입'!$AN$8:$AN$2000,$AM26), "OK","@@"))) | AO26: =IF($L26="","",IF(COUNT(FIND("(지역개발기금)",$L26)),"지역개발기금",IF(COUNT(FIND("지방채",$L26)),"지방채","자체"))) -> 자체 | AP26: =IF($AM26="", IF($AO26="", "", IF($AO26="자체", "OK", "@@")), IF($AM26="세입없음", "OK", IF($AO26="", "@@", IF(ISNUMBER(FIND($AO26,$AM26)),"OK","@@")))) -> OK | AR26: {=IF(OR($D26="", $C26="직접입력", $B26="직접입력"), "", INDEX([1]구분표!$I$3:$I$321, MATCH(1,([1]구분표!$G$3:$G$321=$B26)*([1]구분표!$E$3:$E$321=$C26)*([1]구분표!$F$3:$F$321=$D26),0)))} -> 50208
A27: =IF(D27="","",COUNTA($C$7:C27)-COUNTBLANK($C$7:C27)+6) -> 25 | B27: =IF(D27="","",IF(OR(C27="직접입력",D27="북부지원"),"직접입력",IF(OR(AND(D27="인사과",C27="의회사무처"),AND(D27="총무과",C27="의회사무처")),"의회운영위원회",IF(OR(C27="직접입력",D27="북부지원"),"직접입력",IF(OR(AND(D27="인사과",C27="자치행정국"),AND(D27="총무과",C27="자치행정국")),"안전행정위원회",VLOOKUP(D27,[1]구분표!$A$3:$C$258,2,)))))) -> 농정해양위원회 | C27: =IF(D27="","",IF(OR(D27="교육지원과",D27="총무과",D27="인사과"),"직접입력",VLOOKUP(D27,[1]구분표!$A$3:$C$258,3,))) -> 농업기술원 | D27: 지도정책과 | E27: 2추 | F27: 714 | G27: 208 | H27: 201-03 | I27: =IF(H27="","",VLOOKUP($H27,[1]구분표!$K$3:$M$151,2,FALSE)) -> 일반운영비 | J27: =IF(I27="","",VLOOKUP($H27,[1]구분표!$K$3:$M$151,3,FALSE)) -> 행사운영비 | K27: 4-H회원 역량강화 지원(전환)(자체/직접) | L27: 4-H회원 역량강화 | M27: 32000 | N27: -9000 | O27: =IF($E27="","",SUM(M27:N27)) -> 23000 | P27: 9000 | Q27: =SUM(O27:P27) -> 32000 | S27: =SUM(O27,R27) -> 23000 | T27: =IF(AND((Q27=0),(S27>0)),"O",IF(AND((P27<0),(Q27-S27<0)),"O","X")) -> X | AC27: =IF($P27="", 0, IF(AND(ISNUMBER(AD27), ISNUMBER(AE27)), $P27-$AD27-$AE27, 0)) -> 9000 | AD27: =IF($P27="", 0, IF(COUNT(FIND("(지방채)",$L27))>0, "재원입력필요", 0)) -> 0 | AE27: =IF($P27="", 0, IF(COUNT(FIND("(지역개발기금)",$L27))>0, "재원입력필요", 0)) -> 0 | AF27: =IF($P27="", IF(SUM($AC27:$AE27)=0, "", "@@"), IF(AND($P27=SUM($AC27:$AE27),Q27>=0),"OK","@@")) -> OK | AH27: =IF($R27="", 0, IF(AND(ISNUMBER($AI27), ISNUMBER($AJ27)), $R27-$AI27-$AJ27, 0)) -> 0 | AI27: =IF($P27="", 0, IF(COUNT(FIND("(지방채)",$L27))>0, "재원입력필요", 0)) -> 0 | AJ27: =IF($P27="", 0, IF(COUNT(FIND("(지역개발기금)",$L27))>0, "재원입력필요", 0)) -> 0 | AK27: =IF($R27="", IF(SUM($AH27:$AJ27)=0, "", "@@"), IF(AND($R27=SUM($AH27:$AJ27),$S27>=0),"OK","@@")) | AN27: =IF($AM27="","", IF($AM27="세입없음", "OK", IF(COUNTIF('[1]3. 일입'!$AN$8:$AN$2000,$AM27), "OK","@@"))) | AO27: =IF($L27="","",IF(COUNT(FIND("(지역개발기금)",$L27)),"지역개발기금",IF(COUNT(FIND("지방채",$L27)),"지방채","자체"))) -> 자체 | AP27: =IF($AM27="", IF($AO27="", "", IF($AO27="자체", "OK", "@@")), IF($AM27="세입없음", "OK", IF($AO27="", "@@", IF(ISNUMBER(FIND($AO27,$AM27)),"OK","@@")))) -> OK | AR27: {=IF(OR($D27="", $C27="직접입력", $B27="직접입력"), "", INDEX([1]구분표!$I$3:$I$321, MATCH(1,([1]구분표!$G$3:$G$321=$B27)*([1]구분표!$E$3:$E$321=$C27)*([1]구분표!$F$3:$F$321=$D27),0)))} -> 50208

Sheet 3. 일출(의존)
A1: 일반회계 세출(의존) 예산 조정(안) | AB1: 직접입력 (도비는 지방채/지역개발기금이 있는 경우만 금액 입력) *부기명에 (지방채) 또는 (지역개발기금) 포함시 | AH1: 직접입력 (도비는 지방채/지역개발기금이 있는 경우만 금액 입력) *부기명에 (지방채) 또는 (지역개발기금) 포함시 | AN1: 직접입력 (국비 세입이 있는 경우 "3. 일입"시트의 AK열 입력") ※ 매칭 세입이 없는 경우 세입번호에 "세입없음" 기재 | AS1: 직접입력 (지방채/지역개발기금인 경우 "3. 일입"시트의 AN열 입력") ※ 매칭 세입이 없는 경우 세입번호에 "세입없음" 기재
P2: =SUM(P7:P88)/2 -> 2662195 | Q2: =SUM(Q7:Q88)/2 -> 29190292 | R2: =SUM(R7:R88)/2 -> 0 | S2: =SUM(S7:S88)/2 -> 26528097 | W2: (단위 : 천원) | Y2: (단위 : 천원) | AB2: =IF(AB6='3. 일입'!AA7,"OK","@@") -> OK | AF2: (단위 : 천원) | AH2: =IF(AH6='3. 일입'!AF7,"OK","@@") -> OK | AL2: (단위 : 천원) | AQ2: (단위 : 천원) | AV2: (단위 : 천원)
A3: 번호 | B3: 위원회명 | C3: 실국명 | D3: 부서명 | E3: 편성 구분 | F3: 예산안 /예산서 페이지 | G3: 실국별 사업 설명서 페이지 | H3: 통계목 코드 | I3: 편성목 | J3: 통계목 | K3: 세부사업명 | L3: 부기명 | M3: 기정액 (본예산+1추) (가) | N3: 증감액 (2회추경안) (나) | O3: 예산안 (다=가+나) | P3: 상임위 조정액 (라) | Q3: 상임위 조정 예산안 (마=다+라) | R3: 예결특위 조정액 (바) | S3: 예결특위 조정 예산안 (사=다+바) | T3: 상임위 동의 대상 | U3: 참고자료 (관련공문) | V3: 상임위 부대의견 | W3: 예비 심사시 집행부 동의여부 | X3: 예결특위 부대의견 | Y3: 부대의견 | Z3: 실국의견 청취대상 | AB3: 상임위 재원별 증감액 | AH3: 예결위 재원별 증감액 | AN3: 국비 매칭 세입 검증 | AS3: 지방채/지역개발기금 매칭 세입 검증 | AX3: 추가 내시 등
AB4: 국비 | AC4: 도비 | AF4: 금액 검증 (상임위조정액 =∑도비) | AH4: 국비 | AI4: 도비 | AL4: 금액 검증 (예결위조정액 =∑도비) | AN4: 세입번호 | AO4: 세입 번호 유무 검증 | AP4: 세출 재원 | AQ4: 재원 검증 | AS4: 세입번호 | AT4: 세입 번호 유무 검증 | AU4: 세출 재원 | AV4: 재원 검증
AC5: 자체 | AD5: 지방채 | AE5: 지역개발기금 | AI5: 자체 | AJ5: 지방채 | AK5: 지역개발기금
B6: 합 계 | L6: =SUBTOTAL(3,L$7:L$1837)&"건" -> 12건 | M6: =SUBTOTAL(9,M$7:M$1837) -> 24700470 | N6: =SUBTOTAL(9,N$7:N$1837) -> 1827627 | O6: =SUBTOTAL(9,O$7:O$1837) -> 26528097 | P6: =SUBTOTAL(9,P$7:P$1837) -> 2662195 | Q6: =SUBTOTAL(9,Q$7:Q$1837) -> 29190292 | R6: =SUBTOTAL(9,R$7:R$1837) -> 0 | S6: =SUBTOTAL(9,S$7:S$1837) -> 26528097 | AB6: =SUBTOTAL(9,AB$7:AB$1837) -> 2348420 | AC6: =SUBTOTAL(9,AC$7:AC$1837) -> 309525 | AD6: =SUBTOTAL(9,AD$7:AD$1837) -> 4250 | AE6: =SUBTOTAL(9,AE$7:AE$1837) -> 0 | AF6: =IF(COUNTIF(AF$7:AF$1837,"@@")>0,"@@","OK") -> OK | AH6: =SUBTOTAL(9,AH$7:AH$1837) -> 0 | AI6: =SUBTOTAL(9,AI$7:AI$1837) -> 0 | AJ6: =SUBTOTAL(9,AJ$7:AJ$1837) -> 0 | AK6: =SUBTOTAL(9,AK$7:AK$1837) -> 0 | AL6: =IF(COUNTIF(AL$7:AL$1837,"@@")>0,"@@","OK") -> OK | AO6: =IF(COUNTIF(AO$7:AO$1837,"@@")>0,"@@","OK") -> OK | AQ6: =IF(COUNTIF(AQ$7:AQ$1837,"@@")>0,"@@","OK") -> OK | AT6: =IF(COUNTIF(AT$7:AT$1837,"@@")>0,"@@","OK") -> OK | AV6: =IF(COUNTIF(AV$7:AV$1837,"@@")>0,"@@","OK") -> OK
B7: (농정해양위원회) | L7: =SUBTOTAL(3,$L8:$L19)&"건" -> 12건 | M7: =SUBTOTAL(9,M8:M19) -> 24700470 | N7: =SUBTOTAL(9,N8:N19) -> 1827627 | O7: =SUBTOTAL(9,O8:O19) -> 26528097 | P7: =SUBTOTAL(9,P8:P19) -> 2662195 | Q7: =SUBTOTAL(9,Q8:Q19) -> 29190292 | R7: =SUBTOTAL(9,R8:R19) -> 0 | S7: =SUBTOTAL(9,S8:S19) -> 26528097 | AB7: =SUBTOTAL(9,AB8:AB19) -> 2348420 | AC7: =SUBTOTAL(9,AC8:AC19) -> 309525 | AD7: =SUBTOTAL(9,AD8:AD19) -> 4250 | AE7: =SUBTOTAL(9,AE8:AE19) -> 0 | AF7: =IF(COUNTIF(AF8:AF19,"@@")>0,"@@","OK") -> OK | AH7: =SUBTOTAL(9,AH8:AH19) -> 0 | AI7: =SUBTOTAL(9,AI8:AI19) -> 0 | AJ7: =SUBTOTAL(9,AJ8:AJ19) -> 0 | AK7: =SUBTOTAL(9,AK8:AK19) -> 0 | AL7: =IF(COUNTIF(AL8:AL19,"@@")>0,"@@","OK") -> OK | AO7: =IF(COUNTIF(AO8:AO19,"@@")>0,"@@","OK") -> OK | AQ7: =IF(COUNTIF(AQ8:AQ19,"@@")>0,"@@","OK") -> OK | AT7: =IF(COUNTIF(AT8:AT19,"@@")>0,"@@","OK") -> OK | AV7: =IF(COUNTIF(AV8:AV19,"@@")>0,"@@","OK") -> OK
A8: =IF(D8="","",COUNTA($C$7:C8)-COUNTBLANK($C$7:C8)+6) -> 6 | B8: =IF(D8="","",IF(OR(C8="직접입력",D8="북부지원"),"직접입력",IF(OR(AND(D8="인사과",C8="의회사무처"),AND(D8="총무과",C8="의회사무처")),"의회운영위원회",IF(OR(C8="직접입력",D8="북부지원"),"직접입력",IF(OR(AND(D8="인사과",C8="자치행정국"),AND(D8="총무과",C8="자치행정국")),"안전행정위원회",VLOOKUP(D8,구분표!$A$3:$C$258,2,)))))) -> 농정해양위원회 | C8: =IF(D8="","",IF(OR(D8="교육지원과",D8="총무과",D8="인사과"),"직접입력",VLOOKUP(D8,구분표!$A$3:$C$258,3,))) -> 농수산생명과학국 | D8: 해양수산과 | E8: 신규 | F8: - | G8: - | H8: 308-01 | I8: =IF(H8="","",VLOOKUP($H8,구분표!$K$3:$M$151,2,FALSE)) -> 자치단체등 이전 | J8: =IF(I8="","",VLOOKUP($H8,구분표!$K$3:$M$151,3,FALSE)) -> 자치단체경상보조금 | K8: 친환경수산물 인증 직불제(국비/지원) | L8: 친환경수산물 인증 직불제 | M8: =IF($E8="","",IF(OR($E8="2추", $E8="1추", $E8="본예산"), "금액입력", "-")) -> - | N8: =IF($E8="", "", IF($E8="2추","금액입력", "-")) -> - | O8: =IF($E8="","",SUM(M8:N8)) -> 0 | P8: 41339 | Q8: =SUM(O8:P8) -> 41339 | S8: =SUM(O8,R8) -> 0 | T8: =IF(AND((Q8=0),(S8>0)),"O",IF(AND((P8<0),(Q8-S8<0)),"O","X")) -> X | U8: 해양수산부 양식산업과-4527(2026.9.4.) | AB8: 41339 | AC8: =IF($P8="", 0, IF(AND(ISNUMBER($AB8), ISNUMBER(AD8), ISNUMBER(AE8)), $P8-$AB8-$AD8-$AE8, 0)) -> 0 | AD8: =IF($P8="", 0, IF(COUNT(FIND("(지방채)",$L8))>0, "재원입력필요", 0)) -> 0 | AE8: =IF($P8="", 0, IF(COUNT(FIND("(지역개발기금)",$L8))>0, "재원입력필요", 0)) -> 0 | AF8: =IF($P8="", IF(SUM($AB8:$AE8)=0, "", "@@"), IF(AND($P8=SUM($AB8:$AE8),$Q8>=0),"OK","@@")) -> OK | AH8: =IF($R8="", 0, IF($R8<>0, "재원입력필요", 0)) -> 0 | AI8: =IF($R8="", 0, IF(AND(ISNUMBER($AH8), ISNUMBER($AJ8), ISNUMBER($AK8)), $R8-$AH8-$AJ8-$AK8, 0)) -> 0 | AJ8: =IF($R8="", 0, IF(COUNT(FIND("(지방채)",$L8))>0, "재원입력필요", 0)) -> 0 | AK8: =IF($R8="", 0, IF(COUNT(FIND("(지역개발기금)",$L8))>0, "재원입력필요", 0)) -> 0 | AL8: =IF($R8="", IF(SUM($AH8:$AK8)=0, "", "@@"), IF(AND($R8=SUM($AH8:$AK8),$S8>=0),"OK","@@")) | AN8: 14004-1 | AO8: =IF($AP8="", "", IF($AN8="세입없음","OK", IF(OR($AP8="재원확인", $AN8=""),"@@", IF(COUNTIF('3. 일입'!$AK$8:$AK$1820, $AN8), "OK","@@")))) -> OK | AP8: =IF($K8="","",IF(COUNT(FIND("국비/",$K8)),"국비",IF(COUNT(FIND("균특/",$K8)),"균특",IF(COUNT(FIND("기금/",$K8)),"기금",IF(COUNT(FIND("교부세/",$K8)),"특교",IF(COUNT(FIND("소방안전/",$K8)),"소교",IF(COUNT(FIND("소멸대응/",$K8)),"소멸","재원확인"))))))) -> 국비 | AQ8: =IF(AND($AN8="",$AP8=""),"",IF(AND($AN8<>"",$AP8<>""),IF(AN8="세입없음","OK",IF(VLOOKUP($AN8,'3. 일입'!$AK$7:$AL$1820,2,FALSE)=$AP8,"OK","@@")), "@@")) -> OK | AT8: =IF($AS8="","", IF($AS8="세입없음", "OK", IF(COUNTIF('3. 일입'!$AN$8:$AN$1820, $AS8), "OK", "@@"))) | AU8: =IF($L8="","",IF(COUNT(FIND("(지역개발기금)",$L8)),"지역개발기금",IF(COUNT(FIND("지방채",$L8)),"지방채","자체"))) -> 자체 | AV8: =IF($AS8="", IF($AU8="", "", IF($AU8="자체", "OK", "@@")), IF($AS8="세입없음", "OK", IF($AU8="", "@@", IF(ISNUMBER(FIND($AU8,$AS8)),"OK","@@")))) -> OK
A9: =IF(D9="","",COUNTA($C$7:C9)-COUNTBLANK($C$7:C9)+6) -> 7 | B9: =IF(D9="","",IF(OR(C9="직접입력",D9="북부지원"),"직접입력",IF(OR(AND(D9="인사과",C9="의회사무처"),AND(D9="총무과",C9="의회사무처")),"의회운영위원회",IF(OR(C9="직접입력",D9="북부지원"),"직접입력",IF(OR(AND(D9="인사과",C9="자치행정국"),AND(D9="총무과",C9="자치행정국")),"안전행정위원회",VLOOKUP(D9,구분표!$A$3:$C$258,2,)))))) -> 농정해양위원회 | C9: =IF(D9="","",IF(OR(D9="교육지원과",D9="총무과",D9="인사과"),"직접입력",VLOOKUP(D9,구분표!$A$3:$C$258,3,))) -> 축산동물복지국 | D9: 축산정책과 | E9: 2추 | F9: 653 | G9: 72 | H9: 308-01 | I9: =IF(H9="","",VLOOKUP($H9,구분표!$K$3:$M$151,2,FALSE)) -> 자치단체등 이전 | J9: =IF(I9="","",VLOOKUP($H9,구분표!$K$3:$M$151,3,FALSE)) -> 자치단체경상보조금 | K9: 가축분뇨 퇴액비 살포비 지원(기금/지원) | L9: 가축분뇨 퇴액비 살포비 지원(지방채) | M9: 501000 | N9: 58500 | O9: =IF($E9="","",SUM(M9:N9)) -> 559500 | P9: 60000 | Q9: =SUM(O9:P9) -> 619500 | S9: =SUM(O9,R9) -> 559500 | T9: =IF(AND((Q9=0),(S9>0)),"O",IF(AND((P9<0),(Q9-S9<0)),"O","X")) -> X | U9: 농림축산식품부 축산환경자원화-4694(2026.9.4.)호 | AB9: 40000 | AC9: =IF($P9="", 0, IF(AND(ISNUMBER($AB9), ISNUMBER(AD9), ISNUMBER(AE9)), $P9-$AB9-$AD9-$AE9, 0)) -> 0 | AD9: 20000 | AE9: =IF($P9="", 0, IF(COUNT(FIND("(지역개발기금)",$L9))>0, "재원입력필요", 0)) -> 0 | AF9: =IF($P9="", IF(SUM($AB9:$AE9)=0, "", "@@"), IF(AND($P9=SUM($AB9:$AE9),$Q9>=0),"OK","@@")) -> OK | AH9: =IF($R9="", 0, IF($R9<>0, "재원입력필요", 0)) -> 0 | AI9: =IF($R9="", 0, IF(AND(ISNUMBER($AH9), ISNUMBER($AJ9), ISNUMBER($AK9)), $R9-$AH9-$AJ9-$AK9, 0)) -> 0 | AJ9: =IF($R9="", 0, IF(COUNT(FIND("(지방채)",$L9))>0, "재원입력필요", 0)) -> 0 | AK9: =IF($R9="", 0, IF(COUNT(FIND("(지역개발기금)",$L9))>0, "재원입력필요", 0)) -> 0 | AL9: =IF($R9="", IF(SUM($AH9:$AK9)=0, "", "@@"), IF(AND($R9=SUM($AH9:$AK9),$S9>=0),"OK","@@")) | AN9: 20701-1 | AO9: =IF($AP9="", "", IF($AN9="세입없음","OK", IF(OR($AP9="재원확인", $AN9=""),"@@", IF(COUNTIF('3. 일입'!$AK$8:$AK$1820, $AN9), "OK","@@")))) -> OK | AP9: =IF($K9="","",IF(COUNT(FIND("국비/",$K9)),"국비",IF(COUNT(FIND("균특/",$K9)),"균특",IF(COUNT(FIND("기금/",$K9)),"기금",IF(COUNT(FIND("교부세/",$K9)),"특교",IF(COUNT(FIND("소방안전/",$K9)),"소교",IF(COUNT(FIND("소멸대응/",$K9)),"소멸","재원확인"))))))) -> 기금 | AQ9: =IF(AND($AN9="",$AP9=""),"",IF(AND($AN9<>"",$AP9<>""),IF(AN9="세입없음","OK",IF(VLOOKUP($AN9,'3. 일입'!$AK$7:$AL$1820,2,FALSE)=$AP9,"OK","@@")), "@@")) -> OK | AS9: 20701-지방채-2 | AT9: =IF($AS9="","", IF($AS9="세입없음", "OK", IF(COUNTIF('3. 일입'!$AN$8:$AN$1820, $AS9), "OK", "@@"))) -> OK | AU9: =IF($L9="","",IF(COUNT(FIND("(지역개발기금)",$L9)),"지역개발기금",IF(COUNT(FIND("지방채",$L9)),"지방채","자체"))) -> 지방채 | AV9: =IF($AS9="", IF($AU9="", "", IF($AU9="자체", "OK", "@@")), IF($AS9="세입없음", "OK", IF($AU9="", "@@", IF(ISNUMBER(FIND($AU9,$AS9)),"OK","@@")))) -> OK
A10: =IF(D10="","",COUNTA($C$7:C10)-COUNTBLANK($C$7:C10)+6) -> 8 | B10: =IF(D10="","",IF(OR(C10="직접입력",D10="북부지원"),"직접입력",IF(OR(AND(D10="인사과",C10="의회사무처"),AND(D10="총무과",C10="의회사무처")),"의회운영위원회",IF(OR(C10="직접입력",D10="북부지원"),"직접입력",IF(OR(AND(D10="인사과",C10="자치행정국"),AND(D10="총무과",C10="자치행정국")),"안전행정위원회",VLOOKUP(D10,구분표!$A$3:$C$258,2,)))))) -> 농정해양위원회 | C10: =IF(D10="","",IF(OR(D10="교육지원과",D10="총무과",D10="인사과"),"직접입력",VLOOKUP(D10,구분표!$A$3:$C$258,3,))) -> 축산동물복지국 | D10: 동물방역위생과 | E10: 2추 | F10: 660 | G10: 177 | H10: 308-01 | I10: =IF(H10="","",VLOOKUP($H10,구분표!$K$3:$M$151,2,FALSE)) -> 자치단체등 이전 | J10: =IF(I10="","",VLOOKUP($H10,구분표!$K$3:$M$151,3,FALSE)) -> 자치단체경상보조금 | K10: 예방약품 등 지원(소브루셀라·결핵 채혈비)(국비/지원) | L10: 소브루셀라병, 결핵병 채혈비 | M10: 270030 | N10: 25527 | O10: =IF($E10="","",SUM(M10:N10)) -> 295557 | P10: -42339 | Q10: =SUM(O10:P10) -> 253218 | S10: =SUM(O10,R10) -> 295557 | T10: =IF(AND((Q10=0),(S10>0)),"O",IF(AND((P10<0),(Q10-S10<0)),"O","X")) -> O | U10: 2026년 가축방역대응지원사업(소브루셀라병 등 채혈비) 변경통보(변경내시) 알림[농림축산식품부 구제역방역과-5980(2026. 8. 26.)] | AB10: -42339 | AC10: =IF($P10="", 0, IF(AND(ISNUMBER($AB10), ISNUMBER(AD10), ISNUMBER(AE10)), $P10-$AB10-$AD10-$AE10, 0)) -> 0 | AD10: =IF($P10="", 0, IF(COUNT(FIND("(지방채)",$L10))>0, "재원입력필요", 0)) -> 0 | AE10: =IF($P10="", 0, IF(COUNT(FIND("(지역개발기금)",$L10))>0, "재원입력필요", 0)) -> 0 | AF10: =IF($P10="", IF(SUM($AB10:$AE10)=0, "", "@@"), IF(AND($P10=SUM($AB10:$AE10),$Q10>=0),"OK","@@")) -> OK | AH10: =IF($R10="", 0, IF($R10<>0, "재원입력필요", 0)) -> 0 | AI10: =IF($R10="", 0, IF(AND(ISNUMBER($AH10), ISNUMBER($AJ10), ISNUMBER($AK10)), $R10-$AH10-$AJ10-$AK10, 0)) -> 0 | AJ10: =IF($R10="", 0, IF(COUNT(FIND("(지방채)",$L10))>0, "재원입력필요", 0)) -> 0 | AK10: =IF($R10="", 0, IF(COUNT(FIND("(지역개발기금)",$L10))>0, "재원입력필요", 0)) -> 0 | AL10: =IF($R10="", IF(SUM($AH10:$AK10)=0, "", "@@"), IF(AND($R10=SUM($AH10:$AK10),$S10>=0),"OK","@@")) | AN10: 20702-3 | AO10: =IF($AP10="", "", IF($AN10="세입없음","OK", IF(OR($AP10="재원확인", $AN10=""),"@@", IF(COUNTIF('3. 일입'!$AK$8:$AK$1820, $AN10), "OK","@@")))) -> OK | AP10: =IF($K10="","",IF(COUNT(FIND("국비/",$K10)),"국비",IF(COUNT(FIND("균특/",$K10)),"균특",IF(COUNT(FIND("기금/",$K10)),"기금",IF(COUNT(FIND("교부세/",$K10)),"특교",IF(COUNT(FIND("소방안전/",$K10)),"소교",IF(COUNT(FIND("소멸대응/",$K10)),"소멸","재원확인"))))))) -> 국비 | AQ10: =IF(AND($AN10="",$AP10=""),"",IF(AND($AN10<>"",$AP10<>""),IF(AN10="세입없음","OK",IF(VLOOKUP($AN10,'3. 일입'!$AK$7:$AL$1820,2,FALSE)=$AP10,"OK","@@")), "@@")) -> OK | AT10: =IF($AS10="","", IF($AS10="세입없음", "OK", IF(COUNTIF('3. 일입'!$AN$8:$AN$1820, $AS10), "OK", "@@"))) | AU10: =IF($L10="","",IF(COUNT(FIND("(지역개발기금)",$L10)),"지역개발기금",IF(COUNT(FIND("지방채",$L10)),"지방채","자체"))) -> 자체 | AV10: =IF($AS10="", IF($AU10="", "", IF($AU10="자체", "OK", "@@")), IF($AS10="세입없음", "OK", IF($AU10="", "@@", IF(ISNUMBER(FIND($AU10,$AS10)),"OK","@@")))) -> OK
A11: =IF(D11="","",COUNTA($C$7:C11)-COUNTBLANK($C$7:C11)+6) -> 9 | B11: =IF(D11="","",IF(OR(C11="직접입력",D11="북부지원"),"직접입력",IF(OR(AND(D11="인사과",C11="의회사무처"),AND(D11="총무과",C11="의회사무처")),"의회운영위원회",IF(OR(C11="직접입력",D11="북부지원"),"직접입력",IF(OR(AND(D11="인사과",C11="자치행정국"),AND(D11="총무과",C11="자치행정국")),"안전행정위원회",VLOOKUP(D11,구분표!$A$3:$C$258,2,)))))) -> 농정해양위원회 | C11: =IF(D11="","",IF(OR(D11="교육지원과",D11="총무과",D11="인사과"),"직접입력",VLOOKUP(D11,구분표!$A$3:$C$258,3,))) -> 축산동물복지국 | D11: 동물방역위생과 | E11: 2추 | F11: 661 | G11: 188 | H11: 301-14 | I11: =IF(H11="","",VLOOKUP($H11,구분표!$K$3:$M$151,2,FALSE)) -> 일반보전금 | J11: =IF(I11="","",VLOOKUP($H11,구분표!$K$3:$M$151,3,FALSE)) -> 기타보상금 | K11: 예방약품 등 지원(아프리카돼지열병 채혈비(국비/직접) | L11: 아프리카돼지열병 채혈비(지방채) | M11: 0 | N11: 38700 | O11: =IF($E11="","",SUM(M11:N11)) -> 38700 | P11: -22500 | Q11: =SUM(O11:P11) -> 16200 | S11: =SUM(O11,R11) -> 38700 | T11: =IF(AND((Q11=0),(S11>0)),"O",IF(AND((P11<0),(Q11-S11<0)),"O","X")) -> O | U11: 2026년 가축방역대응지원사업(소브루셀라병 등 채혈비) 변경통보(변경내시) 알림[농림축산식품부 구제역방역과-5980(2026. 8. 26.)] | AB11: -6750 | AC11: =IF($P11="", 0, IF(AND(ISNUMBER($AB11), ISNUMBER(AD11), ISNUMBER(AE11)), $P11-$AB11-$AD11-$AE11, 0)) -> 0 | AD11: -15750 | AE11: =IF($P11="", 0, IF(COUNT(FIND("(지역개발기금)",$L11))>0, "재원입력필요", 0)) -> 0 | AF11: =IF($P11="", IF(SUM($AB11:$AE11)=0, "", "@@"), IF(AND($P11=SUM($AB11:$AE11),$Q11>=0),"OK","@@")) -> OK | AH11: =IF($R11="", 0, IF($R11<>0, "재원입력필요", 0)) -> 0 | AI11: =IF($R11="", 0, IF(AND(ISNUMBER($AH11), ISNUMBER($AJ11), ISNUMBER($AK11)), $R11-$AH11-$AJ11-$AK11, 0)) -> 0 | AJ11: =IF($R11="", 0, IF(COUNT(FIND("(지방채)",$L11))>0, "재원입력필요", 0)) -> 0 | AK11: =IF($R11="", 0, IF(COUNT(FIND("(지역개발기금)",$L11))>0, "재원입력필요", 0)) -> 0 | AL11: =IF($R11="", IF(SUM($AH11:$AK11)=0, "", "@@"), IF(AND($R11=SUM($AH11:$AK11),$S11>=0),"OK","@@")) | AN11: 20702-3 | AO11: =IF($AP11="", "", IF($AN11="세입없음","OK", IF(OR($AP11="재원확인", $AN11=""),"@@", IF(COUNTIF('3. 일입'!$AK$8:$AK$1820, $AN11), "OK","@@")))) -> OK | AP11: =IF($K11="","",IF(COUNT(FIND("국비/",$K11)),"국비",IF(COUNT(FIND("균특/",$K11)),"균특",IF(COUNT(FIND("기금/",$K11)),"기금",IF(COUNT(FIND("교부세/",$K11)),"특교",IF(COUNT(FIND("소방안전/",$K11)),"소교",IF(COUNT(FIND("소멸대응/",$K11)),"소멸","재원확인"))))))) -> 국비 | AQ11: =IF(AND($AN11="",$AP11=""),"",IF(AND($AN11<>"",$AP11<>""),IF(AN11="세입없음","OK",IF(VLOOKUP($AN11,'3. 일입'!$AK$7:$AL$1820,2,FALSE)=$AP11,"OK","@@")), "@@")) -> OK | AS11: 20702-지방채-4 | AT11: =IF($AS11="","", IF($AS11="세입없음", "OK", IF(COUNTIF('3. 일입'!$AN$8:$AN$1820, $AS11), "OK", "@@"))) -> OK | AU11: =IF($L11="","",IF(COUNT(FIND("(지역개발기금)",$L11)),"지역개발기금",IF(COUNT(FIND("지방채",$L11)),"지방채","자체"))) -> 지방채 | AV11: =IF($AS11="", IF($AU11="", "", IF($AU11="자체", "OK", "@@")), IF($AS11="세입없음", "OK", IF($AU11="", "@@", IF(ISNUMBER(FIND($AU11,$AS11)),"OK","@@")))) -> OK
A12: =IF(D12="","",COUNTA($C$7:C12)-COUNTBLANK($C$7:C12)+6) -> 10 | B12: =IF(D12="","",IF(OR(C12="직접입력",D12="북부지원"),"직접입력",IF(OR(AND(D12="인사과",C12="의회사무처"),AND(D12="총무과",C12="의회사무처")),"의회운영위원회",IF(OR(C12="직접입력",D12="북부지원"),"직접입력",IF(OR(AND(D12="인사과",C12="자치행정국"),AND(D12="총무과",C12="자치행정국")),"안전행정위원회",VLOOKUP(D12,구분표!$A$3:$C$258,2,)))))) -> 농정해양위원회 | C12: =IF(D12="","",IF(OR(D12="교육지원과",D12="총무과",D12="인사과"),"직접입력",VLOOKUP(D12,구분표!$A$3:$C$258,3,))) -> 축산동물복지국 | D12: 동물방역위생과 | E12: 2추 | F12: 661 | G12: 194 | H12: 308-01 | I12: =IF(H12="","",VLOOKUP($H12,구분표!$K$3:$M$151,2,FALSE)) -> 자치단체등 이전 | J12: =IF(I12="","",VLOOKUP($H12,구분표!$K$3:$M$151,3,FALSE)) -> 자치단체경상보조금 | K12: 구제역 예방접종 지원(예방백신)(국비/지원) | L12: 구제역 예방백신 지원 | M12: 5037879 | N12: 232925 | O12: =IF($E12="","",SUM(M12:N12)) -> 5270804 | P12: 223560 | Q12: =SUM(O12:P12) -> 5494364 | S12: =SUM(O12,R12) -> 5270804 | T12: =IF(AND((Q12=0),(S12>0)),"O",IF(AND((P12<0),(Q12-S12<0)),"O","X")) -> X | U12: 2026년 가축백신지원(구제역 예방약 등 지원) 변경통보(변경내시) 정정 알림[농림축산식품부 구제역방역과-5836(2026. 8. 18)] | AB12: 223560 | AC12: =IF($P12="", 0, IF(AND(ISNUMBER($AB12), ISNUMBER(AD12), ISNUMBER(AE12)), $P12-$AB12-$AD12-$AE12, 0)) -> 0 | AD12: =IF($P12="", 0, IF(COUNT(FIND("(지방채)",$L12))>0, "재원입력필요", 0)) -> 0 | AE12: =IF($P12="", 0, IF(COUNT(FIND("(지역개발기금)",$L12))>0, "재원입력필요", 0)) -> 0 | AF12: =IF($P12="", IF(SUM($AB12:$AE12)=0, "", "@@"), IF(AND($P12=SUM($AB12:$AE12),$Q12>=0),"OK","@@")) -> OK | AH12: =IF($R12="", 0, IF($R12<>0, "재원입력필요", 0)) -> 0 | AI12: =IF($R12="", 0, IF(AND(ISNUMBER($AH12), ISNUMBER($AJ12), ISNUMBER($AK12)), $R12-$AH12-$AJ12-$AK12, 0)) -> 0 | AJ12: =IF($R12="", 0, IF(COUNT(FIND("(지방채)",$L12))>0, "재원입력필요", 0)) -> 0 | AK12: =IF($R12="", 0, IF(COUNT(FIND("(지역개발기금)",$L12))>0, "재원입력필요", 0)) -> 0 | AL12: =IF($R12="", IF(SUM($AH12:$AK12)=0, "", "@@"), IF(AND($R12=SUM($AH12:$AK12),$S12>=0),"OK","@@")) | AN12: 20702-1 | AO12: =IF($AP12="", "", IF($AN12="세입없음","OK", IF(OR($AP12="재원확인", $AN12=""),"@@", IF(COUNTIF('3. 일입'!$AK$8:$AK$1820, $AN12), "OK","@@")))) -> OK | AP12: =IF($K12="","",IF(COUNT(FIND("국비/",$K12)),"국비",IF(COUNT(FIND("균특/",$K12)),"균특",IF(COUNT(FIND("기금/",$K12)),"기금",IF(COUNT(FIND("교부세/",$K12)),"특교",IF(COUNT(FIND("소방안전/",$K12)),"소교",IF(COUNT(FIND("소멸대응/",$K12)),"소멸","재원확인"))))))) -> 국비 | AQ12: =IF(AND($AN12="",$AP12=""),"",IF(AND($AN12<>"",$AP12<>""),IF(AN12="세입없음","OK",IF(VLOOKUP($AN12,'3. 일입'!$AK$7:$AL$1820,2,FALSE)=$AP12,"OK","@@")), "@@")) -> OK | AT12: =IF($AS12="","", IF($AS12="세입없음", "OK", IF(COUNTIF('3. 일입'!$AN$8:$AN$1820, $AS12), "OK", "@@"))) | AU12: =IF($L12="","",IF(COUNT(FIND("(지역개발기금)",$L12)),"지역개발기금",IF(COUNT(FIND("지방채",$L12)),"지방채","자체"))) -> 자체 | AV12: =IF($AS12="", IF($AU12="", "", IF($AU12="자체", "OK", "@@")), IF($AS12="세입없음", "OK", IF($AU12="", "@@", IF(ISNUMBER(FIND($AU12,$AS12)),"OK","@@")))) -> OK
A13: =IF(D13="","",COUNTA($C$7:C13)-COUNTBLANK($C$7:C13)+6) -> 11 | B13: =IF(D13="","",IF(OR(C13="직접입력",D13="북부지원"),"직접입력",IF(OR(AND(D13="인사과",C13="의회사무처"),AND(D13="총무과",C13="의회사무처")),"의회운영위원회",IF(OR(C13="직접입력",D13="북부지원"),"직접입력",IF(OR(AND(D13="인사과",C13="자치행정국"),AND(D13="총무과",C13="자치행정국")),"안전행정위원회",VLOOKUP(D13,구분표!$A$3:$C$258,2,)))))) -> 농정해양위원회 | C13: =IF(D13="","",IF(OR(D13="교육지원과",D13="총무과",D13="인사과"),"직접입력",VLOOKUP(D13,구분표!$A$3:$C$258,3,))) -> 축산동물복지국 | D13: 동물방역위생과 | E13: 2추 | F13: 661 | G13: 197 | H13: 308-01 | I13: =IF(H13="","",VLOOKUP($H13,구분표!$K$3:$M$151,2,FALSE)) -> 자치단체등 이전 | J13: =IF(I13="","",VLOOKUP($H13,구분표!$K$3:$M$151,3,FALSE)) -> 자치단체경상보조금 | K13: 구제역 예방접종 지원(백신접종)(국비/지원) | L13: 구제역 백신접종 시술비 | M13: 962160 | N13: 1431975 | O13: =IF($E13="","",SUM(M13:N13)) -> 2394135 | P13: -373000 | Q13: =SUM(O13:P13) -> 2021135 | S13: =SUM(O13,R13) -> 2394135 | T13: =IF(AND((Q13=0),(S13>0)),"O",IF(AND((P13<0),(Q13-S13<0)),"O","X")) -> O | U13: 2026년 가축백신지원(구제역 예방약 등 지원) 변경통보(변경내시) 정정 알림[농림축산식품부 구제역방역과-5836(2026. 8. 18)] | AB13: -373000 | AC13: =IF($P13="", 0, IF(AND(ISNUMBER($AB13), ISNUMBER(AD13), ISNUMBER(AE13)), $P13-$AB13-$AD13-$AE13, 0)) -> 0 | AD13: =IF($P13="", 0, IF(COUNT(FIND("(지방채)",$L13))>0, "재원입력필요", 0)) -> 0 | AE13: =IF($P13="", 0, IF(COUNT(FIND("(지역개발기금)",$L13))>0, "재원입력필요", 0)) -> 0 | AF13: =IF($P13="", IF(SUM($AB13:$AE13)=0, "", "@@"), IF(AND($P13=SUM($AB13:$AE13),$Q13>=0),"OK","@@")) -> OK | AH13: =IF($R13="", 0, IF($R13<>0, "재원입력필요", 0)) -> 0 | AI13: =IF($R13="", 0, IF(AND(ISNUMBER($AH13), ISNUMBER($AJ13), ISNUMBER($AK13)), $R13-$AH13-$AJ13-$AK13, 0)) -> 0 | AJ13: =IF($R13="", 0, IF(COUNT(FIND("(지방채)",$L13))>0, "재원입력필요", 0)) -> 0 | AK13: =IF($R13="", 0, IF(COUNT(FIND("(지역개발기금)",$L13))>0, "재원입력필요", 0)) -> 0 | AL13: =IF($R13="", IF(SUM($AH13:$AK13)=0, "", "@@"), IF(AND($R13=SUM($AH13:$AK13),$S13>=0),"OK","@@")) | AN13: 20702-1 | AO13: =IF($AP13="", "", IF($AN13="세입없음","OK", IF(OR($AP13="재원확인", $AN13=""),"@@", IF(COUNTIF('3. 일입'!$AK$8:$AK$1820, $AN13), "OK","@@")))) -> OK | AP13: =IF($K13="","",IF(COUNT(FIND("국비/",$K13)),"국비",IF(COUNT(FIND("균특/",$K13)),"균특",IF(COUNT(FIND("기금/",$K13)),"기금",IF(COUNT(FIND("교부세/",$K13)),"특교",IF(COUNT(FIND("소방안전/",$K13)),"소교",IF(COUNT(FIND("소멸대응/",$K13)),"소멸","재원확인"))))))) -> 국비 | AQ13: =IF(AND($AN13="",$AP13=""),"",IF(AND($AN13<>"",$AP13<>""),IF(AN13="세입없음","OK",IF(VLOOKUP($AN13,'3. 일입'!$AK$7:$AL$1820,2,FALSE)=$AP13,"OK","@@")), "@@")) -> OK | AT13: =IF($AS13="","", IF($AS13="세입없음", "OK", IF(COUNTIF('3. 일입'!$AN$8:$AN$1820, $AS13), "OK", "@@"))) | AU13: =IF($L13="","",IF(COUNT(FIND("(지역개발기금)",$L13)),"지역개발기금",IF(COUNT(FIND("지방채",$L13)),"지방채","자체"))) -> 자체 | AV13: =IF($AS13="", IF($AU13="", "", IF($AU13="자체", "OK", "@@")), IF($AS13="세입없음", "OK", IF($AU13="", "@@", IF(ISNUMBER(FIND($AU13,$AS13)),"OK","@@")))) -> OK
A14: =IF(D14="","",COUNTA($C$7:C14)-COUNTBLANK($C$7:C14)+6) -> 12 | B14: =IF(D14="","",IF(OR(C14="직접입력",D14="북부지원"),"직접입력",IF(OR(AND(D14="인사과",C14="의회사무처"),AND(D14="총무과",C14="의회사무처")),"의회운영위원회",IF(OR(C14="직접입력",D14="북부지원"),"직접입력",IF(OR(AND(D14="인사과",C14="자치행정국"),AND(D14="총무과",C14="자치행정국")),"안전행정위원회",VLOOKUP(D14,구분표!$A$3:$C$258,2,)))))) -> 농정해양위원회 | C14: =IF(D14="","",IF(OR(D14="교육지원과",D14="총무과",D14="인사과"),"직접입력",VLOOKUP(D14,구분표!$A$3:$C$258,3,))) -> 축산동물복지국 | D14: 동물방역위생과 | E14: 본예산 | F14: =IF($E14="","",IF($E14="2추","직접입력","-")) -> - | G14: =IF($E14="","",IF($E14="2추","직접입력","-")) -> - | H14: 308-01 | I14: =IF(H14="","",VLOOKUP($H14,구분표!$K$3:$M$151,2,FALSE)) -> 자치단체등 이전 | J14: =IF(I14="","",VLOOKUP($H14,구분표!$K$3:$M$151,3,FALSE)) -> 자치단체경상보조금 | K14: 구제역 예방접종 지원(채혈비)(국비/지원) | L14: 구제역 채혈비 | M14: 73387 | N14: - | O14: =IF($E14="","",SUM(M14:N14)) -> 73387 | P14: -10590 | Q14: =SUM(O14:P14) -> 62797 | S14: =SUM(O14,R14) -> 73387 | T14: =IF(AND((Q14=0),(S14>0)),"O",IF(AND((P14<0),(Q14-S14<0)),"O","X")) -> O | U14: 2026년 가축백신지원(구제역 예방약 등 지원) 변경통보(변경내시) 정정 알림[농림축산식품부 구제역방역과-5836(2026. 8. 18)] | AB14: -10590 | AC14: =IF($P14="", 0, IF(AND(ISNUMBER($AB14), ISNUMBER(AD14), ISNUMBER(AE14)), $P14-$AB14-$AD14-$AE14, 0)) -> 0 | AD14: =IF($P14="", 0, IF(COUNT(FIND("(지방채)",$L14))>0, "재원입력필요", 0)) -> 0 | AE14: =IF($P14="", 0, IF(COUNT(FIND("(지역개발기금)",$L14))>0, "재원입력필요", 0)) -> 0 | AF14: =IF($P14="", IF(SUM($AB14:$AE14)=0, "", "@@"), IF(AND($P14=SUM($AB14:$AE14),$Q14>=0),"OK","@@")) -> OK | AH14: =IF($R14="", 0, IF($R14<>0, "재원입력필요", 0)) -> 0 | AI14: =IF($R14="", 0, IF(AND(ISNUMBER($AH14), ISNUMBER($AJ14), ISNUMBER($AK14)), $R14-$AH14-$AJ14-$AK14, 0)) -> 0 | AJ14: =IF($R14="", 0, IF(COUNT(FIND("(지방채)",$L14))>0, "재원입력필요", 0)) -> 0 | AK14: =IF($R14="", 0, IF(COUNT(FIND("(지역개발기금)",$L14))>0, "재원입력필요", 0)) -> 0 | AL14: =IF($R14="", IF(SUM($AH14:$AK14)=0, "", "@@"), IF(AND($R14=SUM($AH14:$AK14),$S14>=0),"OK","@@")) | AN14: 20702-1 | AO14: =IF($AP14="", "", IF($AN14="세입없음","OK", IF(OR($AP14="재원확인", $AN14=""),"@@", IF(COUNTIF('3. 일입'!$AK$8:$AK$1820, $AN14), "OK","@@")))) -> OK | AP14: =IF($K14="","",IF(COUNT(FIND("국비/",$K14)),"국비",IF(COUNT(FIND("균특/",$K14)),"균특",IF(COUNT(FIND("기금/",$K14)),"기금",IF(COUNT(FIND("교부세/",$K14)),"특교",IF(COUNT(FIND("소방안전/",$K14)),"소교",IF(COUNT(FIND("소멸대응/",$K14)),"소멸","재원확인"))))))) -> 국비 | AQ14: =IF(AND($AN14="",$AP14=""),"",IF(AND($AN14<>"",$AP14<>""),IF(AN14="세입없음","OK",IF(VLOOKUP($AN14,'3. 일입'!$AK$7:$AL$1820,2,FALSE)=$AP14,"OK","@@")), "@@")) -> OK | AT14: =IF($AS14="","", IF($AS14="세입없음", "OK", IF(COUNTIF('3. 일입'!$AN$8:$AN$1820, $AS14), "OK", "@@"))) | AU14: =IF($L14="","",IF(COUNT(FIND("(지역개발기금)",$L14)),"지역개발기금",IF(COUNT(FIND("지방채",$L14)),"지방채","자체"))) -> 자체 | AV14: =IF($AS14="", IF($AU14="", "", IF($AU14="자체", "OK", "@@")), IF($AS14="세입없음", "OK", IF($AU14="", "@@", IF(ISNUMBER(FIND($AU14,$AS14)),"OK","@@")))) -> OK
A15: =IF(D15="","",COUNTA($C$7:C15)-COUNTBLANK($C$7:C15)+6) -> 13 | B15: =IF(D15="","",IF(OR(C15="직접입력",D15="북부지원"),"직접입력",IF(OR(AND(D15="인사과",C15="의회사무처"),AND(D15="총무과",C15="의회사무처")),"의회운영위원회",IF(OR(C15="직접입력",D15="북부지원"),"직접입력",IF(OR(AND(D15="인사과",C15="자치행정국"),AND(D15="총무과",C15="자치행정국")),"안전행정위원회",VLOOKUP(D15,구분표!$A$3:$C$258,2,)))))) -> 농정해양위원회 | C15: =IF(D15="","",IF(OR(D15="교육지원과",D15="총무과",D15="인사과"),"직접입력",VLOOKUP(D15,구분표!$A$3:$C$258,3,))) -> 축산동물복지국 | D15: 동물방역위생과 | E15: 본예산 | F15: =IF($E15="","",IF($E15="2추","직접입력","-")) -> - | G15: =IF($E15="","",IF($E15="2추","직접입력","-")) -> - | H15: 308-01 | I15: =IF(H15="","",VLOOKUP($H15,구분표!$K$3:$M$151,2,FALSE)) -> 자치단체등 이전 | J15: =IF(I15="","",VLOOKUP($H15,구분표!$K$3:$M$151,3,FALSE)) -> 자치단체경상보조금 | K15: 살처분보상금(국비/지원) | L15: 살처분보상금 지원 | M15: 16875000 | N15: - | O15: =IF($E15="","",SUM(M15:N15)) -> 16875000 | P15: 2785725 | Q15: =SUM(O15:P15) -> 19660725 | S15: =SUM(O15,R15) -> 16875000 | T15: =IF(AND((Q15=0),(S15>0)),"O",IF(AND((P15<0),(Q15-S15<0)),"O","X")) -> X | U15: 2026년 살처분 보상금 국고보조금 교부결정 통지(8차, 수정통보)[농림축산식품부 구제역방역과-5887(2026. 8. 20.) ] | AB15: 2476200 | AC15: =IF($P15="", 0, IF(AND(ISNUMBER($AB15), ISNUMBER(AD15), ISNUMBER(AE15)), $P15-$AB15-$AD15-$AE15, 0)) -> 309525 | AD15: =IF($P15="", 0, IF(COUNT(FIND("(지방채)",$L15))>0, "재원입력필요", 0)) -> 0 | AE15: =IF($P15="", 0, IF(COUNT(FIND("(지역개발기금)",$L15))>0, "재원입력필요", 0)) -> 0 | AF15: =IF($P15="", IF(SUM($AB15:$AE15)=0, "", "@@"), IF(AND($P15=SUM($AB15:$AE15),$Q15>=0),"OK","@@")) -> OK | AH15: =IF($R15="", 0, IF($R15<>0, "재원입력필요", 0)) -> 0 | AI15: =IF($R15="", 0, IF(AND(ISNUMBER($AH15), ISNUMBER($AJ15), ISNUMBER($AK15)), $R15-$AH15-$AJ15-$AK15, 0)) -> 0 | AJ15: =IF($R15="", 0, IF(COUNT(FIND("(지방채)",$L15))>0, "재원입력필요", 0)) -> 0 | AK15: =IF($R15="", 0, IF(COUNT(FIND("(지역개발기금)",$L15))>0, "재원입력필요", 0)) -> 0 | AL15: =IF($R15="", IF(SUM($AH15:$AK15)=0, "", "@@"), IF(AND($R15=SUM($AH15:$AK15),$S15>=0),"OK","@@")) | AN15: 20702-2 | AO15: =IF($AP15="", "", IF($AN15="세입없음","OK", IF(OR($AP15="재원확인", $AN15=""),"@@", IF(COUNTIF('3. 일입'!$AK$8:$AK$1820, $AN15), "OK","@@")))) -> OK | AP15: =IF($K15="","",IF(COUNT(FIND("국비/",$K15)),"국비",IF(COUNT(FIND("균특/",$K15)),"균특",IF(COUNT(FIND("기금/",$K15)),"기금",IF(COUNT(FIND("교부세/",$K15)),"특교",IF(COUNT(FIND("소방안전/",$K15)),"소교",IF(COUNT(FIND("소멸대응/",$K15)),"소멸","재원확인"))))))) -> 국비 | AQ15: =IF(AND($AN15="",$AP15=""),"",IF(AND($AN15<>"",$AP15<>""),IF(AN15="세입없음","OK",IF(VLOOKUP($AN15,'3. 일입'!$AK$7:$AL$1820,2,FALSE)=$AP15,"OK","@@")), "@@")) -> OK | AT15: =IF($AS15="","", IF($AS15="세입없음", "OK", IF(COUNTIF('3. 일입'!$AN$8:$AN$1820, $AS15), "OK", "@@"))) | AU15: =IF($L15="","",IF(COUNT(FIND("(지역개발기금)",$L15)),"지역개발기금",IF(COUNT(FIND("지방채",$L15)),"지방채","자체"))) -> 자체 | AV15: =IF($AS15="", IF($AU15="", "", IF($AU15="자체", "OK", "@@")), IF($AS15="세입없음", "OK", IF($AU15="", "@@", IF(ISNUMBER(FIND($AU15,$AS15)),"OK","@@")))) -> OK
A16: =IF(D16="","",COUNTA($C$7:C16)-COUNTBLANK($C$7:C16)+6) -> 14 | B16: =IF(D16="","",IF(OR(C16="직접입력",D16="북부지원"),"직접입력",IF(OR(AND(D16="인사과",C16="의회사무처"),AND(D16="총무과",C16="의회사무처")),"의회운영위원회",IF(OR(C16="직접입력",D16="북부지원"),"직접입력",IF(OR(AND(D16="인사과",C16="자치행정국"),AND(D16="총무과",C16="자치행정국")),"안전행정위원회",VLOOKUP(D16,구분표!$A$3:$C$258,2,)))))) -> 농정해양위원회 | C16: =IF(D16="","",IF(OR(D16="교육지원과",D16="총무과",D16="인사과"),"직접입력",VLOOKUP(D16,구분표!$A$3:$C$258,3,))) -> 축산동물복지국 | D16: 동물복지과 | E16: 2추 | F16: 666 | G16: 253 | H16: 401-01 | I16: =IF(H16="","",VLOOKUP($H16,구분표!$K$3:$M$151,2,FALSE)) -> 시설비 및 부대비 | J16: =IF(I16="","",VLOOKUP($H16,구분표!$K$3:$M$151,3,FALSE)) -> 시설비 | K16: 북부 야생동물구조관리센터 조류재활장 증축(국비/직접) | L16: 조류재활장 증축 | M16: 806000 | N16: 38000 | O16: =IF($E16="","",SUM(M16:N16)) -> 844000 | P16: -58000 | Q16: =SUM(O16:P16) -> 786000 | S16: =SUM(O16,R16) -> 844000 | T16: =IF(AND((Q16=0),(S16>0)),"O",IF(AND((P16<0),(Q16-S16<0)),"O","X")) -> O | V16: 감리비를 [건설공사 사업관리방식 검토기준 및 업무수행 지침]에 따라 비상주 감리용역이 아닌 건설사업관리용역으로 변경하여 사업비 조정 | AB16: -23559 | AC16: =IF($P16="", 0, IF(AND(ISNUMBER($AB16), ISNUMBER(AD16), ISNUMBER(AE16)), $P16-$AB16-$AD16-$AE16, 0)) -> -34441 | AD16: =IF($P16="", 0, IF(COUNT(FIND("(지방채)",$L16))>0, "재원입력필요", 0)) -> 0 | AE16: =IF($P16="", 0, IF(COUNT(FIND("(지역개발기금)",$L16))>0, "재원입력필요", 0)) -> 0 | AF16: =IF($P16="", IF(SUM($AB16:$AE16)=0, "", "@@"), IF(AND($P16=SUM($AB16:$AE16),$Q16>=0),"OK","@@")) -> OK | AH16: =IF($R16="", 0, IF($R16<>0, "재원입력필요", 0)) -> 0 | AI16: =IF($R16="", 0, IF(AND(ISNUMBER($AH16), ISNUMBER($AJ16), ISNUMBER($AK16)), $R16-$AH16-$AJ16-$AK16, 0)) -> 0 | AJ16: =IF($R16="", 0, IF(COUNT(FIND("(지방채)",$L16))>0, "재원입력필요", 0)) -> 0 | AK16: =IF($R16="", 0, IF(COUNT(FIND("(지역개발기금)",$L16))>0, "재원입력필요", 0)) -> 0 | AL16: =IF($R16="", IF(SUM($AH16:$AK16)=0, "", "@@"), IF(AND($R16=SUM($AH16:$AK16),$S16>=0),"OK","@@")) | AN16: 세입없음 | AO16: =IF($AP16="", "", IF($AN16="세입없음","OK", IF(OR($AP16="재원확인", $AN16=""),"@@", IF(COUNTIF('3. 일입'!$AK$8:$AK$1820, $AN16), "OK","@@")))) -> OK | AP16: =IF($K16="","",IF(COUNT(FIND("국비/",$K16)),"국비",IF(COUNT(FIND("균특/",$K16)),"균특",IF(COUNT(FIND("기금/",$K16)),"기금",IF(COUNT(FIND("교부세/",$K16)),"특교",IF(COUNT(FIND("소방안전/",$K16)),"소교",IF(COUNT(FIND("소멸대응/",$K16)),"소멸","재원확인"))))))) -> 국비 | AQ16: =IF(AND($AN16="",$AP16=""),"",IF(AND($AN16<>"",$AP16<>""),IF(AN16="세입없음","OK",IF(VLOOKUP($AN16,'3. 일입'!$AK$7:$AL$1820,2,FALSE)=$AP16,"OK","@@")), "@@")) -> OK | AT16: =IF($AS16="","", IF($AS16="세입없음", "OK", IF(COUNTIF('3. 일입'!$AN$8:$AN$1820, $AS16), "OK", "@@"))) | AU16: =IF($L16="","",IF(COUNT(FIND("(지역개발기금)",$L16)),"지역개발기금",IF(COUNT(FIND("지방채",$L16)),"지방채","자체"))) -> 자체 | AV16: =IF($AS16="", IF($AU16="", "", IF($AU16="자체", "OK", "@@")), IF($AS16="세입없음", "OK", IF($AU16="", "@@", IF(ISNUMBER(FIND($AU16,$AS16)),"OK","@@")))) -> OK
A17: =IF(D17="","",COUNTA($C$7:C17)-COUNTBLANK($C$7:C17)+6) -> 15 | B17: =IF(D17="","",IF(OR(C17="직접입력",D17="북부지원"),"직접입력",IF(OR(AND(D17="인사과",C17="의회사무처"),AND(D17="총무과",C17="의회사무처")),"의회운영위원회",IF(OR(C17="직접입력",D17="북부지원"),"직접입력",IF(OR(AND(D17="인사과",C17="자치행정국"),AND(D17="총무과",C17="자치행정국")),"안전행정위원회",VLOOKUP(D17,구분표!$A$3:$C$258,2,)))))) -> 농정해양위원회 | C17: =IF(D17="","",IF(OR(D17="교육지원과",D17="총무과",D17="인사과"),"직접입력",VLOOKUP(D17,구분표!$A$3:$C$258,3,))) -> 축산동물복지국 | D17: 동물복지과 | E17: 2추 | F17: 666 | G17: 253 | H17: 401-02 | I17: =IF(H17="","",VLOOKUP($H17,구분표!$K$3:$M$151,2,FALSE)) -> 시설비 및 부대비 | J17: =IF(I17="","",VLOOKUP($H17,구분표!$K$3:$M$151,3,FALSE)) -> 감리비 | K17: 북부 야생동물구조관리센터 조류재활장 증축(국비/직접) | L17: 조류재활장 증축 감리비 | M17: 10000 | N17: 2000 | O17: =IF($E17="","",SUM(M17:N17)) -> 12000 | P17: 58000 | Q17: =SUM(O17:P17) -> 70000 | S17: =SUM(O17,R17) -> 12000 | T17: =IF(AND((Q17=0),(S17>0)),"O",IF(AND((P17<0),(Q17-S17<0)),"O","X")) -> X | V17: 감리비를 [건설공사 사업관리방식 검토기준 및 업무수행 지침]에 따라 비상주 감리용역이 아닌 건설사업관리용역으로 변경하여 사업비 조정 | AB17: 23559 | AC17: =IF($P17="", 0, IF(AND(ISNUMBER($AB17), ISNUMBER(AD17), ISNUMBER(AE17)), $P17-$AB17-$AD17-$AE17, 0)) -> 34441 | AD17: =IF($P17="", 0, IF(COUNT(FIND("(지방채)",$L17))>0, "재원입력필요", 0)) -> 0 | AE17: =IF($P17="", 0, IF(COUNT(FIND("(지역개발기금)",$L17))>0, "재원입력필요", 0)) -> 0 | AF17: =IF($P17="", IF(SUM($AB17:$AE17)=0, "", "@@"), IF(AND($P17=SUM($AB17:$AE17),$Q17>=0),"OK","@@")) -> OK | AH17: =IF($R17="", 0, IF($R17<>0, "재원입력필요", 0)) -> 0 | AI17: =IF($R17="", 0, IF(AND(ISNUMBER($AH17), ISNUMBER($AJ17), ISNUMBER($AK17)), $R17-$AH17-$AJ17-$AK17, 0)) -> 0 | AJ17: =IF($R17="", 0, IF(COUNT(FIND("(지방채)",$L17))>0, "재원입력필요", 0)) -> 0 | AK17: =IF($R17="", 0, IF(COUNT(FIND("(지역개발기금)",$L17))>0, "재원입력필요", 0)) -> 0 | AL17: =IF($R17="", IF(SUM($AH17:$AK17)=0, "", "@@"), IF(AND($R17=SUM($AH17:$AK17),$S17>=0),"OK","@@")) | AN17: 세입없음 | AO17: =IF($AP17="", "", IF($AN17="세입없음","OK", IF(OR($AP17="재원확인", $AN17=""),"@@", IF(COUNTIF('3. 일입'!$AK$8:$AK$1820, $AN17), "OK","@@")))) -> OK | AP17: =IF($K17="","",IF(COUNT(FIND("국비/",$K17)),"국비",IF(COUNT(FIND("균특/",$K17)),"균특",IF(COUNT(FIND("기금/",$K17)),"기금",IF(COUNT(FIND("교부세/",$K17)),"특교",IF(COUNT(FIND("소방안전/",$K17)),"소교",IF(COUNT(FIND("소멸대응/",$K17)),"소멸","재원확인"))))))) -> 국비 | AQ17: =IF(AND($AN17="",$AP17=""),"",IF(AND($AN17<>"",$AP17<>""),IF(AN17="세입없음","OK",IF(VLOOKUP($AN17,'3. 일입'!$AK$7:$AL$1820,2,FALSE)=$AP17,"OK","@@")), "@@")) -> OK | AT17: =IF($AS17="","", IF($AS17="세입없음", "OK", IF(COUNTIF('3. 일입'!$AN$8:$AN$1820, $AS17), "OK", "@@"))) | AU17: =IF($L17="","",IF(COUNT(FIND("(지역개발기금)",$L17)),"지역개발기금",IF(COUNT(FIND("지방채",$L17)),"지방채","자체"))) -> 자체 | AV17: =IF($AS17="", IF($AU17="", "", IF($AU17="자체", "OK", "@@")), IF($AS17="세입없음", "OK", IF($AU17="", "@@", IF(ISNUMBER(FIND($AU17,$AS17)),"OK","@@")))) -> OK
A18: =IF(D18="","",COUNTA($C$7:C18)-COUNTBLANK($C$7:C18)+6) -> 16 | B18: =IF(D18="","",IF(OR(C18="직접입력",D18="북부지원"),"직접입력",IF(OR(AND(D18="인사과",C18="의회사무처"),AND(D18="총무과",C18="의회사무처")),"의회운영위원회",IF(OR(C18="직접입력",D18="북부지원"),"직접입력",IF(OR(AND(D18="인사과",C18="자치행정국"),AND(D18="총무과",C18="자치행정국")),"안전행정위원회",VLOOKUP(D18,구분표!$A$3:$C$258,2,)))))) -> 농정해양위원회 | C18: =IF(D18="","",IF(OR(D18="교육지원과",D18="총무과",D18="인사과"),"직접입력",VLOOKUP(D18,구분표!$A$3:$C$258,3,))) -> 기후환경에너지국 | D18: 산림녹지과 | E18: 본예산 | F18: =IF($E18="","",IF($E18="2추","직접입력","-")) -> - | G18: =IF($E18="","",IF($E18="2추","직접입력","-")) -> - | H18: 308-01 | I18: =IF(H18="","",VLOOKUP($H18,구분표!$K$3:$M$151,2,FALSE)) -> 자치단체등 이전 | J18: =IF(I18="","",VLOOKUP($H18,구분표!$K$3:$M$151,3,FALSE)) -> 자치단체경상보조금 | K18: 사회복무요원 운영(국비/지원) | L18: 사회복무요원 인건비 | M18: 60007 | N18: =IF($E18="", "", IF($E18="2추","금액입력", "-")) -> - | O18: =IF($E18="","",SUM(M18:N18)) -> 60007 | P18: -1200 | Q18: =SUM(O18:P18) -> 58807 | S18: =SUM(O18,R18) -> 60007 | T18: =IF(AND((Q18=0),(S18>0)),"O",IF(AND((P18<0),(Q18-S18<0)),"O","X")) -> O | AB18: -1200 | AC18: =IF($P18="", 0, IF(AND(ISNUMBER($AB18), ISNUMBER(AD18), ISNUMBER(AE18)), $P18-$AB18-$AD18-$AE18, 0)) -> 0 | AD18: =IF($P18="", 0, IF(COUNT(FIND("(지방채)",$L18))>0, "재원입력필요", 0)) -> 0 | AE18: =IF($P18="", 0, IF(COUNT(FIND("(지역개발기금)",$L18))>0, "재원입력필요", 0)) -> 0 | AF18: =IF($P18="", IF(SUM($AB18:$AE18)=0, "", "@@"), IF(AND($P18=SUM($AB18:$AE18),$Q18>=0),"OK","@@")) -> OK | AH18: =IF($R18="", 0, IF($R18<>0, "재원입력필요", 0)) -> 0 | AI18: =IF($R18="", 0, IF(AND(ISNUMBER($AH18), ISNUMBER($AJ18), ISNUMBER($AK18)), $R18-$AH18-$AJ18-$AK18, 0)) -> 0 | AJ18: =IF($R18="", 0, IF(COUNT(FIND("(지방채)",$L18))>0, "재원입력필요", 0)) -> 0 | AK18: =IF($R18="", 0, IF(COUNT(FIND("(지역개발기금)",$L18))>0, "재원입력필요", 0)) -> 0 | AL18: =IF($R18="", IF(SUM($AH18:$AK18)=0, "", "@@"), IF(AND($R18=SUM($AH18:$AK18),$S18>=0),"OK","@@")) | AN18: 세입없음 | AO18: =IF($AP18="", "", IF($AN18="세입없음","OK", IF(OR($AP18="재원확인", $AN18=""),"@@", IF(COUNTIF('3. 일입'!$AK$8:$AK$1820, $AN18), "OK","@@")))) -> OK | AP18: =IF($K18="","",IF(COUNT(FIND("국비/",$K18)),"국비",IF(COUNT(FIND("균특/",$K18)),"균특",IF(COUNT(FIND("기금/",$K18)),"기금",IF(COUNT(FIND("교부세/",$K18)),"특교",IF(COUNT(FIND("소방안전/",$K18)),"소교",IF(COUNT(FIND("소멸대응/",$K18)),"소멸","재원확인"))))))) -> 국비 | AQ18: =IF(AND($AN18="",$AP18=""),"",IF(AND($AN18<>"",$AP18<>""),IF(AN18="세입없음","OK",IF(VLOOKUP($AN18,'3. 일입'!$AK$7:$AL$1820,2,FALSE)=$AP18,"OK","@@")), "@@")) -> OK | AT18: =IF($AS18="","", IF($AS18="세입없음", "OK", IF(COUNTIF('3. 일입'!$AN$8:$AN$1820, $AS18), "OK", "@@"))) | AU18: =IF($L18="","",IF(COUNT(FIND("(지역개발기금)",$L18)),"지역개발기금",IF(COUNT(FIND("지방채",$L18)),"지방채","자체"))) -> 자체 | AV18: =IF($AS18="", IF($AU18="", "", IF($AU18="자체", "OK", "@@")), IF($AS18="세입없음", "OK", IF($AU18="", "@@", IF(ISNUMBER(FIND($AU18,$AS18)),"OK","@@")))) -> OK
A19: =IF(D19="","",COUNTA($C$7:C19)-COUNTBLANK($C$7:C19)+6) -> 17 | B19: =IF(D19="","",IF(OR(C19="직접입력",D19="북부지원"),"직접입력",IF(OR(AND(D19="인사과",C19="의회사무처"),AND(D19="총무과",C19="의회사무처")),"의회운영위원회",IF(OR(C19="직접입력",D19="북부지원"),"직접입력",IF(OR(AND(D19="인사과",C19="자치행정국"),AND(D19="총무과",C19="자치행정국")),"안전행정위원회",VLOOKUP(D19,구분표!$A$3:$C$258,2,)))))) -> 농정해양위원회 | C19: =IF(D19="","",IF(OR(D19="교육지원과",D19="총무과",D19="인사과"),"직접입력",VLOOKUP(D19,구분표!$A$3:$C$258,3,))) -> 기후환경에너지국 | D19: 산림환경연구소 | E19: 본예산 | F19: =IF($E19="","",IF($E19="2추","직접입력","-")) -> - | G19: =IF($E19="","",IF($E19="2추","직접입력","-")) -> - | H19: 301-10 | I19: =IF(H19="","",VLOOKUP($H19,구분표!$K$3:$M$151,2,FALSE)) -> 일반보전금 | J19: =IF(I19="","",VLOOKUP($H19,구분표!$K$3:$M$151,3,FALSE)) -> 사회복무요원보상금 | K19: 사회복무요원 운영(국비/직접) | L19: 사회복무요원 인력경비 | M19: 105007 | N19: =IF($E19="", "", IF($E19="2추","금액입력", "-")) -> - | O19: =IF($E19="","",SUM(M19:N19)) -> 105007 | P19: 1200 | Q19: =SUM(O19:P19) -> 106207 | S19: =SUM(O19,R19) -> 105007 | T19: =IF(AND((Q19=0),(S19>0)),"O",IF(AND((P19<0),(Q19-S19<0)),"O","X")) -> X | AB19: 1200 | AC19: =IF($P19="", 0, IF(AND(ISNUMBER($AB19), ISNUMBER(AD19), ISNUMBER(AE19)), $P19-$AB19-$AD19-$AE19, 0)) -> 0 | AD19: =IF($P19="", 0, IF(COUNT(FIND("(지방채)",$L19))>0, "재원입력필요", 0)) -> 0 | AE19: =IF($P19="", 0, IF(COUNT(FIND("(지역개발기금)",$L19))>0, "재원입력필요", 0)) -> 0 | AF19: =IF($P19="", IF(SUM($AB19:$AE19)=0, "", "@@"), IF(AND($P19=SUM($AB19:$AE19),$Q19>=0),"OK","@@")) -> OK | AH19: =IF($R19="", 0, IF($R19<>0, "재원입력필요", 0)) -> 0 | AI19: =IF($R19="", 0, IF(AND(ISNUMBER($AH19), ISNUMBER($AJ19), ISNUMBER($AK19)), $R19-$AH19-$AJ19-$AK19, 0)) -> 0 | AJ19: =IF($R19="", 0, IF(COUNT(FIND("(지방채)",$L19))>0, "재원입력필요", 0)) -> 0 | AK19: =IF($R19="", 0, IF(COUNT(FIND("(지역개발기금)",$L19))>0, "재원입력필요", 0)) -> 0 | AL19: =IF($R19="", IF(SUM($AH19:$AK19)=0, "", "@@"), IF(AND($R19=SUM($AH19:$AK19),$S19>=0),"OK","@@")) | AN19: 세입없음 | AO19: =IF($AP19="", "", IF($AN19="세입없음","OK", IF(OR($AP19="재원확인", $AN19=""),"@@", IF(COUNTIF('3. 일입'!$AK$8:$AK$1820, $AN19), "OK","@@")))) -> OK | AP19: =IF($K19="","",IF(COUNT(FIND("국비/",$K19)),"국비",IF(COUNT(FIND("균특/",$K19)),"균특",IF(COUNT(FIND("기금/",$K19)),"기금",IF(COUNT(FIND("교부세/",$K19)),"특교",IF(COUNT(FIND("소방안전/",$K19)),"소교",IF(COUNT(FIND("소멸대응/",$K19)),"소멸","재원확인"))))))) -> 국비 | AQ19: =IF(AND($AN19="",$AP19=""),"",IF(AND($AN19<>"",$AP19<>""),IF(AN19="세입없음","OK",IF(VLOOKUP($AN19,'3. 일입'!$AK$7:$AL$1820,2,FALSE)=$AP19,"OK","@@")), "@@")) -> OK | AT19: =IF($AS19="","", IF($AS19="세입없음", "OK", IF(COUNTIF('3. 일입'!$AN$8:$AN$1820, $AS19), "OK", "@@"))) | AU19: =IF($L19="","",IF(COUNT(FIND("(지역개발기금)",$L19)),"지역개발기금",IF(COUNT(FIND("지방채",$L19)),"지방채","자체"))) -> 자체 | AV19: =IF($AS19="", IF($AU19="", "", IF($AU19="자체", "OK", "@@")), IF($AS19="세입없음", "OK", IF($AU19="", "@@", IF(ISNUMBER(FIND($AU19,$AS19)),"OK","@@")))) -> OK

Sheet 4. 특입
A1: 기타특별회계 세입 예산 조정(안) | Z1: 자동입력 | AC1: 자동입력 | AF1: "4. 특출"에 입력
Q2: =Q6-M6 -> 0 | Z2: 국비 세입=국비 지출 | AA2: 도비 세입=도비 세출 | AC2: 국비 세입=국비 지출 | AD2: 도비 세입=도비 세출 | AK2: 국비=국비 증감액 | AO2: 국비=국비 증감액
X3: (단위 : 천원) | Z3: =IF(Z6='4. 특출'!AB5,"OK","@@") -> OK | AA3: =IF(AA6='4. 특출'!AC5,"OK","@@") -> OK | AC3: =IF(AC6='4. 특출'!AF5,"OK","@@") -> OK | AD3: =IF(AD6='4. 특출'!AG5,"OK","@@") -> OK | AK3: =IF(Z6=AK6,"OK","@@") -> OK | AO3: =IF(AC6=AO6,"OK","@@") -> OK
A4: 번호 | B4: 위원회명 | C4: 실국명 | D4: 부서명 | E4: 편성 구분 | F4: 예산안 /예산서 페이지 | G4: 실국별 사업 설명서 페이지 | H4: 목코드 | I4: 목명 | J4: 부기명 | K4: 기정액 (본예산+1추) (가) | L4: 증감액 (2회추경안) (나) | M4: 예산안 (다=가+나) | N4: 상임위 조정액 (라) | O4: 상임위 조정 예산안 (마=다+라) | P4: 예결특위 조정액 (바) | Q4: 예결특위 조정 예산안 (사=다+바) | R4: 상임위동의 대상 | S4: 참고자료 (관련공문) | T4: 상임위 부대의견 | U4: 예비 심사시 집행부 동의여부 | V4: 예결위 부대의견 | W4: 부대의견 | X4: 국도비 등 여부 | Z4: 상임위 재원별 증감액 | AC4: 예결위 재원별 증감액 | AF4: 세입번호 | AG4: 재원 | AI4: 실국 부서 코드 | AK4: 상임위 세입 검증 | AO4: 예결위 세입 검증
Z5: 국비 등 | AA5: 도비 | AC5: 국비 등 | AD5: 도비 | AK5: 국비 증감액 | AL5: 건수 | AM5: 세입세출 금액검증 | AO5: 국비 증감액 | AP5: 건수 | AQ5: 세입세출 금액검증
B6: 합 계 | J6: =SUBTOTAL(3,J$7:J$2000)&"건" -> 0건 | K6: =SUBTOTAL(9,K$7:K$2000) -> 0 | L6: =SUBTOTAL(9,L$7:L$2000) -> 0 | M6: =SUBTOTAL(9,M$7:M$2000) -> 0 | N6: =SUBTOTAL(9,N$7:N$2000) -> 0 | O6: =SUBTOTAL(9,O$7:O$2000) -> 0 | P6: =SUBTOTAL(9,P$7:P$2000) -> 0 | Q6: =SUBTOTAL(9,Q$7:Q$2000) -> 0 | Z6: =SUBTOTAL(9,Z$7:Z$2000) -> 0 | AA6: =SUBTOTAL(9,AA$7:AA$2000) -> 0 | AC6: =SUBTOTAL(9,AC$7:AC$2000) -> 0 | AD6: =SUBTOTAL(9,AD$7:AD$2000) -> 0 | AK6: =SUBTOTAL(9,AK$7:AK$2000) -> 0 | AL6: =SUBTOTAL(9,AL$7:AL$2000) -> 0 | AM6: =IF(COUNTIF(AM$7:AM$2000,"@@")>0,"@@","OK") -> OK | AO6: =SUBTOTAL(9,AO$7:AO$2000) -> 0 | AP6: =SUBTOTAL(9,AP$7:AP$2000) -> 0 | AQ6: =IF(COUNTIF(AQ$7:AQ$2000,"@@")>0,"@@","OK") -> OK
B7: (지역균형발전) | J7: =SUBTOTAL(3,J8:J11)&"건" -> 0건 | K7: =SUBTOTAL(9,K8:K11) -> 0 | L7: =SUBTOTAL(9,L8:L11) -> 0 | M7: =SUBTOTAL(9,M8:M11) -> 0 | N7: =SUBTOTAL(9,N8:N11) -> 0 | O7: =SUBTOTAL(9,O8:O11) -> 0 | P7: =SUBTOTAL(9,P8:P11) -> 0 | Q7: =SUBTOTAL(9,Q8:Q11) -> 0 | Z7: =SUBTOTAL(9,Z8:Z11) -> 0 | AA7: =SUBTOTAL(9,AA8:AA11) -> 0 | AC7: =SUBTOTAL(9,AC8:AC11) -> 0 | AD7: =SUBTOTAL(9,AD8:AD11) -> 0 | AK7: =SUBTOTAL(9,AK8:AK11) -> 0 | AL7: =SUBTOTAL(9,AL8:AL11) -> 0 | AM7: =IF(COUNTIF(AM8:AM11,"@@")>0,"@@","OK") -> OK | AO7: =SUBTOTAL(9,AO8:AO11) -> 0 | AP7: =SUBTOTAL(9,AP8:AP11) -> 0 | AQ7: =IF(COUNTIF(AQ8:AQ11,"@@")>0,"@@","OK") -> OK
A8: =IF(D8="","",COUNTA($C$7:C8)-COUNTBLANK($C$7:C8)+1) | B8: =IF(D8="","",IF(OR(C8="직접입력",D8="북부지원"),"직접입력",IF(OR(AND(D8="인사과",C8="의회사무처"),AND(D8="총무과",C8="의회사무처")),"의회운영위원회",IF(OR(C8="직접입력",D8="북부지원"),"직접입력",IF(OR(AND(D8="인사과",C8="자치행정국"),AND(D8="총무과",C8="자치행정국")),"안전행정위원회",VLOOKUP(D8,구분표!$A$3:$C$258,2,)))))) | C8: =IF(D8="","",IF(OR(D8="교육지원과"),"소방재난본부",VLOOKUP(D8,구분표!$A$3:$C$258,3,))) | F8: =IF($E8="","",IF($E8="2추","직접입력","-")) | G8: =IF($E8="","",IF($E8="2추","직접입력","-")) | I8: =IF(H8="","",VLOOKUP($H8,구분표!$O$3:$P$168,2,FALSE)) | K8: =IF($E8="","",IF(OR($E8="2추", $E8="1추", $E8="본예산"), "금액입력", "-")) | L8: =IF($E8="", "", IF($E8="2추","금액입력", "-")) | M8: =IF($E8="","",SUM(K8:L8)) | O8: =SUM(M8:N8) -> 0 | Q8: =SUM(M8,P8) -> 0 | R8: =IF(AND((O8=0),(Q8>0)),"O",IF(AND((N8<0),(O8-Q8<0)),"O","X")) -> X | X8: =IF($H8="","",IF(OR($H8="511-01", $H8="511-02", $H8="511-03", $H8="311-02", $H8="311-04", $H8="321-01"),"국비","도비")) | Z8: =IF($X8="", "", IF($X8="국비",$N8, 0)) | AA8: =IF($X8="", "", IF($X8="도비",$N8, 0)) | AC8: =IF($X8="", "", IF($X8="국비",$P8, 0)) | AD8: =IF($X8="", "", IF($X8="도비",$P8, 0)) | AF8: =IF(AI8="","",IF($X8="도비","-",CONCATENATE(AI8,"-",COUNTIF($AI$7:AI8,AI8)))) | AG8: =IF($H8="","",IF($H8="511-01","국비",IF($H8="511-02","균특",IF($H8="511-03","기금",IF($H8="311-02","특교",IF($H8="311-04","소교",IF($H8="321-01","소멸","도비"))))))) | AI8: {=IF(OR(D8="", B8="직접입력", C8="직접입력"),"",INDEX(구분표!$I$2:$I$336, MATCH(1,(구분표!$G$2:$G$336='4. 특입'!B8)*(구분표!$E$2:$E$336='4. 특입'!C8)*(구분표!$F$2:$F$336='4. 특입'!D8),0)))} | AK8: =IF($AF8="","",IF($AF8="-",0, SUMIFS('4. 특출'!$AB$6:$AB$2000,'4. 특출'!$AJ$6:$AJ$2000,$AF8))) | AL8: =IF($AF8="","",IF($AF8="-", 0, COUNTIF('4. 특출'!$AJ$6:$AJ$2000,$AF8))) | AM8: =IF($AF8="", "", IF($Z8=$AK8,"OK","@@")) | AO8: =IF($AF8="","",IF($AF8="-",0, SUMIFS('4. 특출'!$AF$6:$AF$2000,'4. 특출'!$AJ$6:$AJ$2000,$AF8))) | AP8: =IF($AF8="","",IF($AF8="-", 0, COUNTIF('4. 특출'!$AJ$6:$AJ$2000,$AF8))) | AQ8: =IF($AF8="", "", IF($AC8=$AO8,"OK","@@"))
A9: =IF(D9="","",COUNTA($C$7:C9)-COUNTBLANK($C$7:C9)+1) | B9: =IF(D9="","",IF(OR(C9="직접입력",D9="북부지원"),"직접입력",IF(OR(AND(D9="인사과",C9="의회사무처"),AND(D9="총무과",C9="의회사무처")),"의회운영위원회",IF(OR(C9="직접입력",D9="북부지원"),"직접입력",IF(OR(AND(D9="인사과",C9="자치행정국"),AND(D9="총무과",C9="자치행정국")),"안전행정위원회",VLOOKUP(D9,구분표!$A$3:$C$258,2,)))))) | C9: =IF(D9="","",IF(OR(D9="교육지원과"),"소방재난본부",VLOOKUP(D9,구분표!$A$3:$C$258,3,))) | F9: =IF($E9="","",IF($E9="2추","직접입력","-")) | G9: =IF($E9="","",IF($E9="2추","직접입력","-")) | I9: =IF(H9="","",VLOOKUP($H9,구분표!$O$3:$P$168,2,FALSE)) | K9: =IF($E9="","",IF(OR($E9="2추", $E9="1추", $E9="본예산"), "금액입력", "-")) | L9: =IF($E9="", "", IF($E9="2추","금액입력", "-")) | M9: =IF($E9="","",SUM(K9:L9)) | O9: =SUM(M9:N9) -> 0 | Q9: =SUM(M9,P9) -> 0 | R9: =IF(AND((O9=0),(Q9>0)),"O",IF(AND((N9<0),(O9-Q9<0)),"O","X")) -> X | X9: =IF($H9="","",IF(OR($H9="511-01", $H9="511-02", $H9="511-03", $H9="311-02", $H9="311-04", $H9="321-01"),"국비","도비")) | Z9: =IF($X9="", "", IF($X9="국비",$N9, 0)) | AA9: =IF($X9="", "", IF($X9="도비",$N9, 0)) | AC9: =IF($X9="", "", IF($X9="국비",$P9, 0)) | AD9: =IF($X9="", "", IF($X9="도비",$P9, 0)) | AF9: =IF(AI9="","",IF($X9="도비","-",CONCATENATE(AI9,"-",COUNTIF($AI$7:AI9,AI9)))) | AG9: =IF($H9="","",IF($H9="511-01","국비",IF($H9="511-02","균특",IF($H9="511-03","기금",IF($H9="311-02","특교",IF($H9="311-04","소교",IF($H9="321-01","소멸","도비"))))))) | AI9: {=IF(OR(D9="", B9="직접입력", C9="직접입력"),"",INDEX(구분표!$I$2:$I$336, MATCH(1,(구분표!$G$2:$G$336='4. 특입'!B9)*(구분표!$E$2:$E$336='4. 특입'!C9)*(구분표!$F$2:$F$336='4. 특입'!D9),0)))} | AK9: =IF($AF9="","",IF($AF9="-",0, SUMIFS('4. 특출'!$AB$6:$AB$2000,'4. 특출'!$AJ$6:$AJ$2000,$AF9))) | AL9: =IF($AF9="","",IF($AF9="-", 0, COUNTIF('4. 특출'!$AJ$6:$AJ$2000,$AF9))) | AM9: =IF($AF9="", "", IF($Z9=$AK9,"OK","@@")) | AO9: =IF($AF9="","",IF($AF9="-",0, SUMIFS('4. 특출'!$AF$6:$AF$2000,'4. 특출'!$AJ$6:$AJ$2000,$AF9))) | AP9: =IF($AF9="","",IF($AF9="-", 0, COUNTIF('4. 특출'!$AJ$6:$AJ$2000,$AF9))) | AQ9: =IF($AF9="", "", IF($AC9=$AO9,"OK","@@"))
A10: =IF(D10="","",COUNTA($C$7:C10)-COUNTBLANK($C$7:C10)+1) | B10: =IF(D10="","",IF(OR(C10="직접입력",D10="북부지원"),"직접입력",IF(OR(AND(D10="인사과",C10="의회사무처"),AND(D10="총무과",C10="의회사무처")),"의회운영위원회",IF(OR(C10="직접입력",D10="북부지원"),"직접입력",IF(OR(AND(D10="인사과",C10="자치행정국"),AND(D10="총무과",C10="자치행정국")),"안전행정위원회",VLOOKUP(D10,구분표!$A$3:$C$258,2,)))))) | C10: =IF(D10="","",IF(OR(D10="교육지원과"),"소방재난본부",VLOOKUP(D10,구분표!$A$3:$C$258,3,))) | F10: =IF($E10="","",IF($E10="2추","직접입력","-")) | G10: =IF($E10="","",IF($E10="2추","직접입력","-")) | I10: =IF(H10="","",VLOOKUP($H10,구분표!$O$3:$P$168,2,FALSE)) | K10: =IF($E10="","",IF(OR($E10="2추", $E10="1추", $E10="본예산"), "금액입력", "-")) | L10: =IF($E10="", "", IF($E10="2추","금액입력", "-")) | M10: =IF($E10="","",SUM(K10:L10)) | O10: =SUM(M10:N10) -> 0 | Q10: =SUM(M10,P10) -> 0 | R10: =IF(AND((O10=0),(Q10>0)),"O",IF(AND((N10<0),(O10-Q10<0)),"O","X")) -> X | X10: =IF($H10="","",IF(OR($H10="511-01", $H10="511-02", $H10="511-03", $H10="311-02", $H10="311-04", $H10="321-01"),"국비","도비")) | Z10: =IF($X10="", "", IF($X10="국비",$N10, 0)) | AA10: =IF($X10="", "", IF($X10="도비",$N10, 0)) | AC10: =IF($X10="", "", IF($X10="국비",$P10, 0)) | AD10: =IF($X10="", "", IF($X10="도비",$P10, 0)) | AF10: =IF(AI10="","",IF($X10="도비","-",CONCATENATE(AI10,"-",COUNTIF($AI$7:AI10,AI10)))) | AG10: =IF($H10="","",IF($H10="511-01","국비",IF($H10="511-02","균특",IF($H10="511-03","기금",IF($H10="311-02","특교",IF($H10="311-04","소교",IF($H10="321-01","소멸","도비"))))))) | AI10: {=IF(OR(D10="", B10="직접입력", C10="직접입력"),"",INDEX(구분표!$I$2:$I$336, MATCH(1,(구분표!$G$2:$G$336='4. 특입'!B10)*(구분표!$E$2:$E$336='4. 특입'!C10)*(구분표!$F$2:$F$336='4. 특입'!D10),0)))} | AK10: =IF($AF10="","",IF($AF10="-",0, SUMIFS('4. 특출'!$AB$6:$AB$2000,'4. 특출'!$AJ$6:$AJ$2000,$AF10))) | AL10: =IF($AF10="","",IF($AF10="-", 0, COUNTIF('4. 특출'!$AJ$6:$AJ$2000,$AF10))) | AM10: =IF($AF10="", "", IF($Z10=$AK10,"OK","@@")) | AO10: =IF($AF10="","",IF($AF10="-",0, SUMIFS('4. 특출'!$AF$6:$AF$2000,'4. 특출'!$AJ$6:$AJ$2000,$AF10))) | AP10: =IF($AF10="","",IF($AF10="-", 0, COUNTIF('4. 특출'!$AJ$6:$AJ$2000,$AF10))) | AQ10: =IF($AF10="", "", IF($AC10=$AO10,"OK","@@"))
A11: =IF(D11="","",COUNTA($C$7:C11)-COUNTBLANK($C$7:C11)+1) | B11: =IF(D11="","",IF(OR(C11="직접입력",D11="북부지원"),"직접입력",IF(OR(AND(D11="인사과",C11="의회사무처"),AND(D11="총무과",C11="의회사무처")),"의회운영위원회",IF(OR(C11="직접입력",D11="북부지원"),"직접입력",IF(OR(AND(D11="인사과",C11="자치행정국"),AND(D11="총무과",C11="자치행정국")),"안전행정위원회",VLOOKUP(D11,구분표!$A$3:$C$258,2,)))))) | C11: =IF(D11="","",IF(OR(D11="교육지원과"),"소방재난본부",VLOOKUP(D11,구분표!$A$3:$C$258,3,))) | F11: =IF($E11="","",IF($E11="2추","직접입력","-")) | G11: =IF($E11="","",IF($E11="2추","직접입력","-")) | I11: =IF(H11="","",VLOOKUP($H11,구분표!$O$3:$P$168,2,FALSE)) | K11: =IF($E11="","",IF(OR($E11="2추", $E11="1추", $E11="본예산"), "금액입력", "-")) | L11: =IF($E11="", "", IF($E11="2추","금액입력", "-")) | M11: =IF($E11="","",SUM(K11:L11)) | O11: =SUM(M11:N11) -> 0 | Q11: =SUM(M11,P11) -> 0 | R11: =IF(AND((O11=0),(Q11>0)),"O",IF(AND((N11<0),(O11-Q11<0)),"O","X")) -> X | X11: =IF($H11="","",IF(OR($H11="511-01", $H11="511-02", $H11="511-03", $H11="311-02", $H11="311-04", $H11="321-01"),"국비","도비")) | Z11: =IF($X11="", "", IF($X11="국비",$N11, 0)) | AA11: =IF($X11="", "", IF($X11="도비",$N11, 0)) | AC11: =IF($X11="", "", IF($X11="국비",$P11, 0)) | AD11: =IF($X11="", "", IF($X11="도비",$P11, 0)) | AF11: =IF(AI11="","",IF($X11="도비","-",CONCATENATE(AI11,"-",COUNTIF($AI$7:AI11,AI11)))) | AG11: =IF($H11="","",IF($H11="511-01","국비",IF($H11="511-02","균특",IF($H11="511-03","기금",IF($H11="311-02","특교",IF($H11="311-04","소교",IF($H11="321-01","소멸","도비"))))))) | AI11: {=IF(OR(D11="", B11="직접입력", C11="직접입력"),"",INDEX(구분표!$I$2:$I$336, MATCH(1,(구분표!$G$2:$G$336='4. 특입'!B11)*(구분표!$E$2:$E$336='4. 특입'!C11)*(구분표!$F$2:$F$336='4. 특입'!D11),0)))} | AK11: =IF($AF11="","",IF($AF11="-",0, SUMIFS('4. 특출'!$AB$6:$AB$2000,'4. 특출'!$AJ$6:$AJ$2000,$AF11))) | AL11: =IF($AF11="","",IF($AF11="-", 0, COUNTIF('4. 특출'!$AJ$6:$AJ$2000,$AF11))) | AM11: =IF($AF11="", "", IF($Z11=$AK11,"OK","@@")) | AO11: =IF($AF11="","",IF($AF11="-",0, SUMIFS('4. 특출'!$AF$6:$AF$2000,'4. 특출'!$AJ$6:$AJ$2000,$AF11))) | AP11: =IF($AF11="","",IF($AF11="-", 0, COUNTIF('4. 특출'!$AJ$6:$AJ$2000,$AF11))) | AQ11: =IF($AF11="", "", IF($AC11=$AO11,"OK","@@"))
B12: (소방안전) | J12: =SUBTOTAL(3,J13:J16)&"건" -> 0건 | K12: =SUBTOTAL(9,K13:K16) -> 0 | L12: =SUBTOTAL(9,L13:L16) -> 0 | M12: =SUBTOTAL(9,M13:M16) -> 0 | N12: =SUBTOTAL(9,N13:N16) -> 0 | O12: =SUBTOTAL(9,O13:O16) -> 0 | P12: =SUBTOTAL(9,P13:P16) -> 0 | Q12: =SUBTOTAL(9,Q13:Q16) -> 0 | Z12: =SUBTOTAL(9,Z13:Z16) -> 0 | AA12: =SUBTOTAL(9,AA13:AA16) -> 0 | AC12: =SUBTOTAL(9,AC13:AC16) -> 0 | AD12: =SUBTOTAL(9,AD13:AD16) -> 0 | AK12: =SUBTOTAL(9,AK13:AK16) -> 0 | AL12: =SUBTOTAL(9,AL13:AL16) -> 0 | AM12: =IF(COUNTIF(AM13:AM16,"@@")>0,"@@","OK") -> OK | AO12: =SUBTOTAL(9,AO13:AO16) -> 0 | AP12: =SUBTOTAL(9,AP13:AP16) -> 0 | AQ12: =IF(COUNTIF(AQ13:AQ16,"@@")>0,"@@","OK") -> OK
A13: =IF(D13="","",COUNTA($C$7:C13)-COUNTBLANK($C$7:C13)+2) | B13: =IF(D13="","",IF(OR(C13="직접입력",D13="북부지원"),"직접입력",IF(OR(AND(D13="인사과",C13="의회사무처"),AND(D13="총무과",C13="의회사무처")),"의회운영위원회",IF(OR(C13="직접입력",D13="북부지원"),"직접입력",IF(OR(AND(D13="인사과",C13="자치행정국"),AND(D13="총무과",C13="자치행정국")),"안전행정위원회",VLOOKUP(D13,구분표!$A$3:$C$258,2,)))))) | C13: =IF(D13="","",IF(OR(D13="교육지원과"),"소방재난본부",VLOOKUP(D13,구분표!$A$3:$C$258,3,))) | F13: =IF($E13="","",IF($E13="2추","직접입력","-")) | G13: =IF($E13="","",IF($E13="2추","직접입력","-")) | I13: =IF(H13="","",VLOOKUP($H13,구분표!$O$3:$P$168,2,FALSE)) | K13: =IF($E13="","",IF(OR($E13="2추", $E13="1추", $E13="본예산"), "금액입력", "-")) | L13: =IF($E13="", "", IF($E13="2추","금액입력", "-")) | M13: =IF($E13="","",SUM(K13:L13)) | O13: =SUM(M13:N13) -> 0 | Q13: =SUM(M13,P13) -> 0 | R13: =IF(AND((O13=0),(Q13>0)),"O",IF(AND((N13<0),(O13-Q13<0)),"O","X")) -> X | X13: =IF($H13="","",IF(OR($H13="511-01", $H13="511-02", $H13="511-03", $H13="311-02", $H13="311-04", $H13="321-01"),"국비","도비")) | Z13: =IF($X13="", "", IF($X13="국비",$N13, 0)) | AA13: =IF($X13="", "", IF($X13="도비",$N13, 0)) | AC13: =IF($X13="", "", IF($X13="국비",$P13, 0)) | AD13: =IF($X13="", "", IF($X13="도비",$P13, 0)) | AF13: =IF(AI13="","",IF($X13="도비","-",CONCATENATE(AI13,"-",COUNTIF($AI$7:AI13,AI13)))) | AG13: =IF($H13="","",IF($H13="511-01","국비",IF($H13="511-02","균특",IF($H13="511-03","기금",IF($H13="311-02","특교",IF($H13="311-04","소교",IF($H13="321-01","소멸","도비"))))))) | AI13: {=IF(OR(D13="", B13="직접입력", C13="직접입력"),"",INDEX(구분표!$I$2:$I$336, MATCH(1,(구분표!$G$2:$G$336='4. 특입'!B13)*(구분표!$E$2:$E$336='4. 특입'!C13)*(구분표!$F$2:$F$336='4. 특입'!D13),0)))} | AK13: =IF($AF13="","",IF($AF13="-",0, SUMIFS('4. 특출'!$AB$6:$AB$2000,'4. 특출'!$AJ$6:$AJ$2000,$AF13))) | AL13: =IF($AF13="","",IF($AF13="-", 0, COUNTIF('4. 특출'!$AJ$6:$AJ$2000,$AF13))) | AM13: =IF($AF13="", "", IF($Z13=$AK13,"OK","@@")) | AO13: =IF($AF13="","",IF($AF13="-",0, SUMIFS('4. 특출'!$AF$6:$AF$2000,'4. 특출'!$AJ$6:$AJ$2000,$AF13))) | AP13: =IF($AF13="","",IF($AF13="-", 0, COUNTIF('4. 특출'!$AJ$6:$AJ$2000,$AF13))) | AQ13: =IF($AF13="", "", IF($AC13=$AO13,"OK","@@"))
A14: =IF(D14="","",COUNTA($C$7:C14)-COUNTBLANK($C$7:C14)+2) | B14: =IF(D14="","",IF(OR(C14="직접입력",D14="북부지원"),"직접입력",IF(OR(AND(D14="인사과",C14="의회사무처"),AND(D14="총무과",C14="의회사무처")),"의회운영위원회",IF(OR(C14="직접입력",D14="북부지원"),"직접입력",IF(OR(AND(D14="인사과",C14="자치행정국"),AND(D14="총무과",C14="자치행정국")),"안전행정위원회",VLOOKUP(D14,구분표!$A$3:$C$258,2,)))))) | C14: =IF(D14="","",IF(OR(D14="교육지원과"),"소방재난본부",VLOOKUP(D14,구분표!$A$3:$C$258,3,))) | F14: =IF($E14="","",IF($E14="2추","직접입력","-")) | G14: =IF($E14="","",IF($E14="2추","직접입력","-")) | I14: =IF(H14="","",VLOOKUP($H14,구분표!$O$3:$P$168,2,FALSE)) | K14: =IF($E14="","",IF(OR($E14="2추", $E14="1추", $E14="본예산"), "금액입력", "-")) | L14: =IF($E14="", "", IF($E14="2추","금액입력", "-")) | M14: =IF($E14="","",SUM(K14:L14)) | O14: =SUM(M14:N14) -> 0 | Q14: =SUM(M14,P14) -> 0 | R14: =IF(AND((O14=0),(Q14>0)),"O",IF(AND((N14<0),(O14-Q14<0)),"O","X")) -> X | X14: =IF($H14="","",IF(OR($H14="511-01", $H14="511-02", $H14="511-03", $H14="311-02", $H14="311-04", $H14="321-01"),"국비","도비")) | Z14: =IF($X14="", "", IF($X14="국비",$N14, 0)) | AA14: =IF($X14="", "", IF($X14="도비",$N14, 0)) | AC14: =IF($X14="", "", IF($X14="국비",$P14, 0)) | AD14: =IF($X14="", "", IF($X14="도비",$P14, 0)) | AF14: =IF(AI14="","",IF($X14="도비","-",CONCATENATE(AI14,"-",COUNTIF($AI$7:AI14,AI14)))) | AG14: =IF($H14="","",IF($H14="511-01","국비",IF($H14="511-02","균특",IF($H14="511-03","기금",IF($H14="311-02","특교",IF($H14="311-04","소교",IF($H14="321-01","소멸","도비"))))))) | AI14: {=IF(OR(D14="", B14="직접입력", C14="직접입력"),"",INDEX(구분표!$I$2:$I$336, MATCH(1,(구분표!$G$2:$G$336='4. 특입'!B14)*(구분표!$E$2:$E$336='4. 특입'!C14)*(구분표!$F$2:$F$336='4. 특입'!D14),0)))} | AK14: =IF($AF14="","",IF($AF14="-",0, SUMIFS('4. 특출'!$AB$6:$AB$2000,'4. 특출'!$AJ$6:$AJ$2000,$AF14))) | AL14: =IF($AF14="","",IF($AF14="-", 0, COUNTIF('4. 특출'!$AJ$6:$AJ$2000,$AF14))) | AM14: =IF($AF14="", "", IF($Z14=$AK14,"OK","@@")) | AO14: =IF($AF14="","",IF($AF14="-",0, SUMIFS('4. 특출'!$AF$6:$AF$2000,'4. 특출'!$AJ$6:$AJ$2000,$AF14))) | AP14: =IF($AF14="","",IF($AF14="-", 0, COUNTIF('4. 특출'!$AJ$6:$AJ$2000,$AF14))) | AQ14: =IF($AF14="", "", IF($AC14=$AO14,"OK","@@"))
A15: =IF(D15="","",COUNTA($C$7:C15)-COUNTBLANK($C$7:C15)+2) | B15: =IF(D15="","",IF(OR(C15="직접입력",D15="북부지원"),"직접입력",IF(OR(AND(D15="인사과",C15="의회사무처"),AND(D15="총무과",C15="의회사무처")),"의회운영위원회",IF(OR(C15="직접입력",D15="북부지원"),"직접입력",IF(OR(AND(D15="인사과",C15="자치행정국"),AND(D15="총무과",C15="자치행정국")),"안전행정위원회",VLOOKUP(D15,구분표!$A$3:$C$258,2,)))))) | C15: =IF(D15="","",IF(OR(D15="교육지원과"),"소방재난본부",VLOOKUP(D15,구분표!$A$3:$C$258,3,))) | F15: =IF($E15="","",IF($E15="2추","직접입력","-")) | G15: =IF($E15="","",IF($E15="2추","직접입력","-")) | I15: =IF(H15="","",VLOOKUP($H15,구분표!$O$3:$P$168,2,FALSE)) | K15: =IF($E15="","",IF(OR($E15="2추", $E15="1추", $E15="본예산"), "금액입력", "-")) | L15: =IF($E15="", "", IF($E15="2추","금액입력", "-")) | M15: =IF($E15="","",SUM(K15:L15)) | O15: =SUM(M15:N15) -> 0 | Q15: =SUM(M15,P15) -> 0 | R15: =IF(AND((O15=0),(Q15>0)),"O",IF(AND((N15<0),(O15-Q15<0)),"O","X")) -> X | X15: =IF($H15="","",IF(OR($H15="511-01", $H15="511-02", $H15="511-03", $H15="311-02", $H15="311-04", $H15="321-01"),"국비","도비")) | Z15: =IF($X15="", "", IF($X15="국비",$N15, 0)) | AA15: =IF($X15="", "", IF($X15="도비",$N15, 0)) | AC15: =IF($X15="", "", IF($X15="국비",$P15, 0)) | AD15: =IF($X15="", "", IF($X15="도비",$P15, 0)) | AF15: =IF(AI15="","",IF($X15="도비","-",CONCATENATE(AI15,"-",COUNTIF($AI$7:AI15,AI15)))) | AG15: =IF($H15="","",IF($H15="511-01","국비",IF($H15="511-02","균특",IF($H15="511-03","기금",IF($H15="311-02","특교",IF($H15="311-04","소교",IF($H15="321-01","소멸","도비"))))))) | AI15: {=IF(OR(D15="", B15="직접입력", C15="직접입력"),"",INDEX(구분표!$I$2:$I$336, MATCH(1,(구분표!$G$2:$G$336='4. 특입'!B15)*(구분표!$E$2:$E$336='4. 특입'!C15)*(구분표!$F$2:$F$336='4. 특입'!D15),0)))} | AK15: =IF($AF15="","",IF($AF15="-",0, SUMIFS('4. 특출'!$AB$6:$AB$2000,'4. 특출'!$AJ$6:$AJ$2000,$AF15))) | AL15: =IF($AF15="","",IF($AF15="-", 0, COUNTIF('4. 특출'!$AJ$6:$AJ$2000,$AF15))) | AM15: =IF($AF15="", "", IF($Z15=$AK15,"OK","@@")) | AO15: =IF($AF15="","",IF($AF15="-",0, SUMIFS('4. 특출'!$AF$6:$AF$2000,'4. 특출'!$AJ$6:$AJ$2000,$AF15))) | AP15: =IF($AF15="","",IF($AF15="-", 0, COUNTIF('4. 특출'!$AJ$6:$AJ$2000,$AF15))) | AQ15: =IF($AF15="", "", IF($AC15=$AO15,"OK","@@"))
A16: =IF(D16="","",COUNTA($C$7:C16)-COUNTBLANK($C$7:C16)+2) | B16: =IF(D16="","",IF(OR(C16="직접입력",D16="북부지원"),"직접입력",IF(OR(AND(D16="인사과",C16="의회사무처"),AND(D16="총무과",C16="의회사무처")),"의회운영위원회",IF(OR(C16="직접입력",D16="북부지원"),"직접입력",IF(OR(AND(D16="인사과",C16="자치행정국"),AND(D16="총무과",C16="자치행정국")),"안전행정위원회",VLOOKUP(D16,구분표!$A$3:$C$258,2,)))))) | C16: =IF(D16="","",IF(OR(D16="교육지원과"),"소방재난본부",VLOOKUP(D16,구분표!$A$3:$C$258,3,))) | F16: =IF($E16="","",IF($E16="2추","직접입력","-")) | G16: =IF($E16="","",IF($E16="2추","직접입력","-")) | I16: =IF(H16="","",VLOOKUP($H16,구분표!$O$3:$P$168,2,FALSE)) | K16: =IF($E16="","",IF(OR($E16="2추", $E16="1추", $E16="본예산"), "금액입력", "-")) | L16: =IF($E16="", "", IF($E16="2추","금액입력", "-")) | M16: =IF($E16="","",SUM(K16:L16)) | O16: =SUM(M16:N16) -> 0 | Q16: =SUM(M16,P16) -> 0 | R16: =IF(AND((O16=0),(Q16>0)),"O",IF(AND((N16<0),(O16-Q16<0)),"O","X")) -> X | X16: =IF($H16="","",IF(OR($H16="511-01", $H16="511-02", $H16="511-03", $H16="311-02", $H16="311-04", $H16="321-01"),"국비","도비")) | Z16: =IF($X16="", "", IF($X16="국비",$N16, 0)) | AA16: =IF($X16="", "", IF($X16="도비",$N16, 0)) | AC16: =IF($X16="", "", IF($X16="국비",$P16, 0)) | AD16: =IF($X16="", "", IF($X16="도비",$P16, 0)) | AF16: =IF(AI16="","",IF($X16="도비","-",CONCATENATE(AI16,"-",COUNTIF($AI$7:AI16,AI16)))) | AG16: =IF($H16="","",IF($H16="511-01","국비",IF($H16="511-02","균특",IF($H16="511-03","기금",IF($H16="311-02","특교",IF($H16="311-04","소교",IF($H16="321-01","소멸","도비"))))))) | AI16: {=IF(OR(D16="", B16="직접입력", C16="직접입력"),"",INDEX(구분표!$I$2:$I$336, MATCH(1,(구분표!$G$2:$G$336='4. 특입'!B16)*(구분표!$E$2:$E$336='4. 특입'!C16)*(구분표!$F$2:$F$336='4. 특입'!D16),0)))} | AK16: =IF($AF16="","",IF($AF16="-",0, SUMIFS('4. 특출'!$AB$6:$AB$2000,'4. 특출'!$AJ$6:$AJ$2000,$AF16))) | AL16: =IF($AF16="","",IF($AF16="-", 0, COUNTIF('4. 특출'!$AJ$6:$AJ$2000,$AF16))) | AM16: =IF($AF16="", "", IF($Z16=$AK16,"OK","@@")) | AO16: =IF($AF16="","",IF($AF16="-",0, SUMIFS('4. 특출'!$AF$6:$AF$2000,'4. 특출'!$AJ$6:$AJ$2000,$AF16))) | AP16: =IF($AF16="","",IF($AF16="-", 0, COUNTIF('4. 특출'!$AJ$6:$AJ$2000,$AF16))) | AQ16: =IF($AF16="", "", IF($AC16=$AO16,"OK","@@"))
B17: (의료급여기금) | J17: =SUBTOTAL(3,J18:J21)&"건" -> 0건 | K17: =SUBTOTAL(9,K18:K21) -> 0 | L17: =SUBTOTAL(9,L18:L21) -> 0 | M17: =SUBTOTAL(9,M18:M21) -> 0 | N17: =SUBTOTAL(9,N18:N21) -> 0 | O17: =SUBTOTAL(9,O18:O21) -> 0 | P17: =SUBTOTAL(9,P18:P21) -> 0 | Q17: =SUBTOTAL(9,Q18:Q21) -> 0 | Z17: =SUBTOTAL(9,Z18:Z21) -> 0 | AA17: =SUBTOTAL(9,AA18:AA21) -> 0 | AC17: =SUBTOTAL(9,AC18:AC21) -> 0 | AD17: =SUBTOTAL(9,AD18:AD21) -> 0 | AK17: =SUBTOTAL(9,AK18:AK21) -> 0 | AL17: =SUBTOTAL(9,AL18:AL21) -> 0 | AM17: =IF(COUNTIF(AM18:AM21,"@@")>0,"@@","OK") -> OK | AO17: =SUBTOTAL(9,AO18:AO21) -> 0 | AP17: =SUBTOTAL(9,AP18:AP21) -> 0 | AQ17: =IF(COUNTIF(AQ18:AQ21,"@@")>0,"@@","OK") -> OK
A18: =IF(D18="","",COUNTA($C$7:C18)-COUNTBLANK($C$7:C18)+3) | B18: =IF(D18="","",IF(OR(C18="직접입력",D18="북부지원"),"직접입력",IF(OR(AND(D18="인사과",C18="의회사무처"),AND(D18="총무과",C18="의회사무처")),"의회운영위원회",IF(OR(C18="직접입력",D18="북부지원"),"직접입력",IF(OR(AND(D18="인사과",C18="자치행정국"),AND(D18="총무과",C18="자치행정국")),"안전행정위원회",VLOOKUP(D18,구분표!$A$3:$C$258,2,)))))) | C18: =IF(D18="","",IF(OR(D18="교육지원과"),"소방재난본부",VLOOKUP(D18,구분표!$A$3:$C$258,3,))) | F18: =IF($E18="","",IF($E18="2추","직접입력","-")) | G18: =IF($E18="","",IF($E18="2추","직접입력","-")) | I18: =IF(H18="","",VLOOKUP($H18,구분표!$O$3:$P$168,2,FALSE)) | K18: =IF($E18="","",IF(OR($E18="2추", $E18="1추", $E18="본예산"), "금액입력", "-")) | L18: =IF($E18="", "", IF($E18="2추","금액입력", "-")) | M18: =IF($E18="","",SUM(K18:L18)) | O18: =SUM(M18:N18) -> 0 | Q18: =SUM(M18,P18) -> 0 | R18: =IF(AND((O18=0),(Q18>0)),"O",IF(AND((N18<0),(O18-Q18<0)),"O","X")) -> X | X18: =IF($H18="","",IF(OR($H18="511-01", $H18="511-02", $H18="511-03", $H18="311-02", $H18="311-04", $H18="321-01"),"국비","도비")) | Z18: =IF($X18="", "", IF($X18="국비",$N18, 0)) | AA18: =IF($X18="", "", IF($X18="도비",$N18, 0)) | AC18: =IF($X18="", "", IF($X18="국비",$P18, 0)) | AD18: =IF($X18="", "", IF($X18="도비",$P18, 0)) | AF18: =IF(AI18="","",IF($X18="도비","-",CONCATENATE(AI18,"-",COUNTIF($AI$7:AI18,AI18)))) | AG18: =IF($H18="","",IF($H18="511-01","국비",IF($H18="511-02","균특",IF($H18="511-03","기금",IF($H18="311-02","특교",IF($H18="311-04","소교",IF($H18="321-01","소멸","도비"))))))) | AI18: {=IF(OR(D18="", B18="직접입력", C18="직접입력"),"",INDEX(구분표!$I$2:$I$336, MATCH(1,(구분표!$G$2:$G$336='4. 특입'!B18)*(구분표!$E$2:$E$336='4. 특입'!C18)*(구분표!$F$2:$F$336='4. 특입'!D18),0)))} | AK18: =IF($AF18="","",IF($AF18="-",0, SUMIFS('4. 특출'!$AB$6:$AB$2000,'4. 특출'!$AJ$6:$AJ$2000,$AF18))) | AL18: =IF($AF18="","",IF($AF18="-", 0, COUNTIF('4. 특출'!$AJ$6:$AJ$2000,$AF18))) | AM18: =IF($AF18="", "", IF($Z18=$AK18,"OK","@@")) | AO18: =IF($AF18="","",IF($AF18="-",0, SUMIFS('4. 특출'!$AF$6:$AF$2000,'4. 특출'!$AJ$6:$AJ$2000,$AF18))) | AP18: =IF($AF18="","",IF($AF18="-", 0, COUNTIF('4. 특출'!$AJ$6:$AJ$2000,$AF18))) | AQ18: =IF($AF18="", "", IF($AC18=$AO18,"OK","@@"))
A19: =IF(D19="","",COUNTA($C$7:C19)-COUNTBLANK($C$7:C19)+3) | B19: =IF(D19="","",IF(OR(C19="직접입력",D19="북부지원"),"직접입력",IF(OR(AND(D19="인사과",C19="의회사무처"),AND(D19="총무과",C19="의회사무처")),"의회운영위원회",IF(OR(C19="직접입력",D19="북부지원"),"직접입력",IF(OR(AND(D19="인사과",C19="자치행정국"),AND(D19="총무과",C19="자치행정국")),"안전행정위원회",VLOOKUP(D19,구분표!$A$3:$C$258,2,)))))) | C19: =IF(D19="","",IF(OR(D19="교육지원과"),"소방재난본부",VLOOKUP(D19,구분표!$A$3:$C$258,3,))) | F19: =IF($E19="","",IF($E19="2추","직접입력","-")) | G19: =IF($E19="","",IF($E19="2추","직접입력","-")) | I19: =IF(H19="","",VLOOKUP($H19,구분표!$O$3:$P$168,2,FALSE)) | K19: =IF($E19="","",IF(OR($E19="2추", $E19="1추", $E19="본예산"), "금액입력", "-")) | L19: =IF($E19="", "", IF($E19="2추","금액입력", "-")) | M19: =IF($E19="","",SUM(K19:L19)) | O19: =SUM(M19:N19) -> 0 | Q19: =SUM(M19,P19) -> 0 | R19: =IF(AND((O19=0),(Q19>0)),"O",IF(AND((N19<0),(O19-Q19<0)),"O","X")) -> X | X19: =IF($H19="","",IF(OR($H19="511-01", $H19="511-02", $H19="511-03", $H19="311-02", $H19="311-04", $H19="321-01"),"국비","도비")) | Z19: =IF($X19="", "", IF($X19="국비",$N19, 0)) | AA19: =IF($X19="", "", IF($X19="도비",$N19, 0)) | AC19: =IF($X19="", "", IF($X19="국비",$P19, 0)) | AD19: =IF($X19="", "", IF($X19="도비",$P19, 0)) | AF19: =IF(AI19="","",IF($X19="도비","-",CONCATENATE(AI19,"-",COUNTIF($AI$7:AI19,AI19)))) | AG19: =IF($H19="","",IF($H19="511-01","국비",IF($H19="511-02","균특",IF($H19="511-03","기금",IF($H19="311-02","특교",IF($H19="311-04","소교",IF($H19="321-01","소멸","도비"))))))) | AI19: {=IF(OR(D19="", B19="직접입력", C19="직접입력"),"",INDEX(구분표!$I$2:$I$336, MATCH(1,(구분표!$G$2:$G$336='4. 특입'!B19)*(구분표!$E$2:$E$336='4. 특입'!C19)*(구분표!$F$2:$F$336='4. 특입'!D19),0)))} | AK19: =IF($AF19="","",IF($AF19="-",0, SUMIFS('4. 특출'!$AB$6:$AB$2000,'4. 특출'!$AJ$6:$AJ$2000,$AF19))) | AL19: =IF($AF19="","",IF($AF19="-", 0, COUNTIF('4. 특출'!$AJ$6:$AJ$2000,$AF19))) | AM19: =IF($AF19="", "", IF($Z19=$AK19,"OK","@@")) | AO19: =IF($AF19="","",IF($AF19="-",0, SUMIFS('4. 특출'!$AF$6:$AF$2000,'4. 특출'!$AJ$6:$AJ$2000,$AF19))) | AP19: =IF($AF19="","",IF($AF19="-", 0, COUNTIF('4. 특출'!$AJ$6:$AJ$2000,$AF19))) | AQ19: =IF($AF19="", "", IF($AC19=$AO19,"OK","@@"))
A20: =IF(D20="","",COUNTA($C$7:C20)-COUNTBLANK($C$7:C20)+3) | B20: =IF(D20="","",IF(OR(C20="직접입력",D20="북부지원"),"직접입력",IF(OR(AND(D20="인사과",C20="의회사무처"),AND(D20="총무과",C20="의회사무처")),"의회운영위원회",IF(OR(C20="직접입력",D20="북부지원"),"직접입력",IF(OR(AND(D20="인사과",C20="자치행정국"),AND(D20="총무과",C20="자치행정국")),"안전행정위원회",VLOOKUP(D20,구분표!$A$3:$C$258,2,)))))) | C20: =IF(D20="","",IF(OR(D20="교육지원과"),"소방재난본부",VLOOKUP(D20,구분표!$A$3:$C$258,3,))) | F20: =IF($E20="","",IF($E20="2추","직접입력","-")) | G20: =IF($E20="","",IF($E20="2추","직접입력","-")) | I20: =IF(H20="","",VLOOKUP($H20,구분표!$O$3:$P$168,2,FALSE)) | K20: =IF($E20="","",IF(OR($E20="2추", $E20="1추", $E20="본예산"), "금액입력", "-")) | L20: =IF($E20="", "", IF($E20="2추","금액입력", "-")) | M20: =IF($E20="","",SUM(K20:L20)) | O20: =SUM(M20:N20) -> 0 | Q20: =SUM(M20,P20) -> 0 | R20: =IF(AND((O20=0),(Q20>0)),"O",IF(AND((N20<0),(O20-Q20<0)),"O","X")) -> X | X20: =IF($H20="","",IF(OR($H20="511-01", $H20="511-02", $H20="511-03", $H20="311-02", $H20="311-04", $H20="321-01"),"국비","도비")) | Z20: =IF($X20="", "", IF($X20="국비",$N20, 0)) | AA20: =IF($X20="", "", IF($X20="도비",$N20, 0)) | AC20: =IF($X20="", "", IF($X20="국비",$P20, 0)) | AD20: =IF($X20="", "", IF($X20="도비",$P20, 0)) | AF20: =IF(AI20="","",IF($X20="도비","-",CONCATENATE(AI20,"-",COUNTIF($AI$7:AI20,AI20)))) | AG20: =IF($H20="","",IF($H20="511-01","국비",IF($H20="511-02","균특",IF($H20="511-03","기금",IF($H20="311-02","특교",IF($H20="311-04","소교",IF($H20="321-01","소멸","도비"))))))) | AI20: {=IF(OR(D20="", B20="직접입력", C20="직접입력"),"",INDEX(구분표!$I$2:$I$336, MATCH(1,(구분표!$G$2:$G$336='4. 특입'!B20)*(구분표!$E$2:$E$336='4. 특입'!C20)*(구분표!$F$2:$F$336='4. 특입'!D20),0)))} | AK20: =IF($AF20="","",IF($AF20="-",0, SUMIFS('4. 특출'!$AB$6:$AB$2000,'4. 특출'!$AJ$6:$AJ$2000,$AF20))) | AL20: =IF($AF20="","",IF($AF20="-", 0, COUNTIF('4. 특출'!$AJ$6:$AJ$2000,$AF20))) | AM20: =IF($AF20="", "", IF($Z20=$AK20,"OK","@@")) | AO20: =IF($AF20="","",IF($AF20="-",0, SUMIFS('4. 특출'!$AF$6:$AF$2000,'4. 특출'!$AJ$6:$AJ$2000,$AF20))) | AP20: =IF($AF20="","",IF($AF20="-", 0, COUNTIF('4. 특출'!$AJ$6:$AJ$2000,$AF20))) | AQ20: =IF($AF20="", "", IF($AC20=$AO20,"OK","@@"))
A21: =IF(D21="","",COUNTA($C$7:C21)-COUNTBLANK($C$7:C21)+3) | B21: =IF(D21="","",IF(OR(C21="직접입력",D21="북부지원"),"직접입력",IF(OR(AND(D21="인사과",C21="의회사무처"),AND(D21="총무과",C21="의회사무처")),"의회운영위원회",IF(OR(C21="직접입력",D21="북부지원"),"직접입력",IF(OR(AND(D21="인사과",C21="자치행정국"),AND(D21="총무과",C21="자치행정국")),"안전행정위원회",VLOOKUP(D21,구분표!$A$3:$C$258,2,)))))) | C21: =IF(D21="","",IF(OR(D21="교육지원과"),"소방재난본부",VLOOKUP(D21,구분표!$A$3:$C$258,3,))) | F21: =IF($E21="","",IF($E21="2추","직접입력","-")) | G21: =IF($E21="","",IF($E21="2추","직접입력","-")) | I21: =IF(H21="","",VLOOKUP($H21,구분표!$O$3:$P$168,2,FALSE)) | K21: =IF($E21="","",IF(OR($E21="2추", $E21="1추", $E21="본예산"), "금액입력", "-")) | L21: =IF($E21="", "", IF($E21="2추","금액입력", "-")) | M21: =IF($E21="","",SUM(K21:L21)) | O21: =SUM(M21:N21) -> 0 | Q21: =SUM(M21,P21) -> 0 | R21: =IF(AND((O21=0),(Q21>0)),"O",IF(AND((N21<0),(O21-Q21<0)),"O","X")) -> X | X21: =IF($H21="","",IF(OR($H21="511-01", $H21="511-02", $H21="511-03", $H21="311-02", $H21="311-04", $H21="321-01"),"국비","도비")) | Z21: =IF($X21="", "", IF($X21="국비",$N21, 0)) | AA21: =IF($X21="", "", IF($X21="도비",$N21, 0)) | AC21: =IF($X21="", "", IF($X21="국비",$P21, 0)) | AD21: =IF($X21="", "", IF($X21="도비",$P21, 0)) | AF21: =IF(AI21="","",IF($X21="도비","-",CONCATENATE(AI21,"-",COUNTIF($AI$7:AI21,AI21)))) | AG21: =IF($H21="","",IF($H21="511-01","국비",IF($H21="511-02","균특",IF($H21="511-03","기금",IF($H21="311-02","특교",IF($H21="311-04","소교",IF($H21="321-01","소멸","도비"))))))) | AI21: {=IF(OR(D21="", B21="직접입력", C21="직접입력"),"",INDEX(구분표!$I$2:$I$336, MATCH(1,(구분표!$G$2:$G$336='4. 특입'!B21)*(구분표!$E$2:$E$336='4. 특입'!C21)*(구분표!$F$2:$F$336='4. 특입'!D21),0)))} | AK21: =IF($AF21="","",IF($AF21="-",0, SUMIFS('4. 특출'!$AB$6:$AB$2000,'4. 특출'!$AJ$6:$AJ$2000,$AF21))) | AL21: =IF($AF21="","",IF($AF21="-", 0, COUNTIF('4. 특출'!$AJ$6:$AJ$2000,$AF21))) | AM21: =IF($AF21="", "", IF($Z21=$AK21,"OK","@@")) | AO21: =IF($AF21="","",IF($AF21="-",0, SUMIFS('4. 특출'!$AF$6:$AF$2000,'4. 특출'!$AJ$6:$AJ$2000,$AF21))) | AP21: =IF($AF21="","",IF($AF21="-", 0, COUNTIF('4. 특출'!$AJ$6:$AJ$2000,$AF21))) | AQ21: =IF($AF21="", "", IF($AC21=$AO21,"OK","@@"))
B22: (광역교통시설) | J22: =SUBTOTAL(3,J23:J26)&"건" -> 0건 | K22: =SUBTOTAL(9,K23:K26) -> 0 | L22: =SUBTOTAL(9,L23:L26) -> 0 | M22: =SUBTOTAL(9,M23:M26) -> 0 | N22: =SUBTOTAL(9,N23:N26) -> 0 | O22: =SUBTOTAL(9,O23:O26) -> 0 | P22: =SUBTOTAL(9,P23:P26) -> 0 | Q22: =SUBTOTAL(9,Q23:Q26) -> 0 | Z22: =SUBTOTAL(9,Z23:Z26) -> 0 | AA22: =SUBTOTAL(9,AA23:AA26) -> 0 | AC22: =SUBTOTAL(9,AC23:AC26) -> 0 | AD22: =SUBTOTAL(9,AD23:AD26) -> 0 | AK22: =SUBTOTAL(9,AK23:AK26) -> 0 | AL22: =SUBTOTAL(9,AL23:AL26) -> 0 | AM22: =IF(COUNTIF(AM23:AM26,"@@")>0,"@@","OK") -> OK | AO22: =SUBTOTAL(9,AO23:AO26) -> 0 | AP22: =SUBTOTAL(9,AP23:AP26) -> 0 | AQ22: =IF(COUNTIF(AQ23:AQ26,"@@")>0,"@@","OK") -> OK
A23: =IF(D23="","",COUNTA($C$7:C23)-COUNTBLANK($C$7:C23)+4) | B23: =IF(D23="","",IF(OR(C23="직접입력",D23="북부지원"),"직접입력",IF(OR(AND(D23="인사과",C23="의회사무처"),AND(D23="총무과",C23="의회사무처")),"의회운영위원회",IF(OR(C23="직접입력",D23="북부지원"),"직접입력",IF(OR(AND(D23="인사과",C23="자치행정국"),AND(D23="총무과",C23="자치행정국")),"안전행정위원회",VLOOKUP(D23,구분표!$A$3:$C$258,2,)))))) | C23: =IF(D23="","",IF(OR(D23="교육지원과"),"소방재난본부",VLOOKUP(D23,구분표!$A$3:$C$258,3,))) | F23: =IF($E23="","",IF($E23="2추","직접입력","-")) | G23: =IF($E23="","",IF($E23="2추","직접입력","-")) | I23: =IF(H23="","",VLOOKUP($H23,구분표!$O$3:$P$168,2,FALSE)) | K23: =IF($E23="","",IF(OR($E23="2추", $E23="1추", $E23="본예산"), "금액입력", "-")) | L23: =IF($E23="", "", IF($E23="2추","금액입력", "-")) | M23: =IF($E23="","",SUM(K23:L23)) | O23: =SUM(M23:N23) -> 0 | Q23: =SUM(M23,P23) -> 0 | R23: =IF(AND((O23=0),(Q23>0)),"O",IF(AND((N23<0),(O23-Q23<0)),"O","X")) -> X | X23: =IF($H23="","",IF(OR($H23="511-01", $H23="511-02", $H23="511-03", $H23="311-02", $H23="311-04", $H23="321-01"),"국비","도비")) | Z23: =IF($X23="", "", IF($X23="국비",$N23, 0)) | AA23: =IF($X23="", "", IF($X23="도비",$N23, 0)) | AC23: =IF($X23="", "", IF($X23="국비",$P23, 0)) | AD23: =IF($X23="", "", IF($X23="도비",$P23, 0)) | AF23: =IF(AI23="","",IF($X23="도비","-",CONCATENATE(AI23,"-",COUNTIF($AI$7:AI23,AI23)))) | AG23: =IF($H23="","",IF($H23="511-01","국비",IF($H23="511-02","균특",IF($H23="511-03","기금",IF($H23="311-02","특교",IF($H23="311-04","소교",IF($H23="321-01","소멸","도비"))))))) | AI23: {=IF(OR(D23="", B23="직접입력", C23="직접입력"),"",INDEX(구분표!$I$2:$I$336, MATCH(1,(구분표!$G$2:$G$336='4. 특입'!B23)*(구분표!$E$2:$E$336='4. 특입'!C23)*(구분표!$F$2:$F$336='4. 특입'!D23),0)))} | AK23: =IF($AF23="","",IF($AF23="-",0, SUMIFS('4. 특출'!$AB$6:$AB$2000,'4. 특출'!$AJ$6:$AJ$2000,$AF23))) | AL23: =IF($AF23="","",IF($AF23="-", 0, COUNTIF('4. 특출'!$AJ$6:$AJ$2000,$AF23))) | AM23: =IF($AF23="", "", IF($Z23=$AK23,"OK","@@")) | AO23: =IF($AF23="","",IF($AF23="-",0, SUMIFS('4. 특출'!$AF$6:$AF$2000,'4. 특출'!$AJ$6:$AJ$2000,$AF23))) | AP23: =IF($AF23="","",IF($AF23="-", 0, COUNTIF('4. 특출'!$AJ$6:$AJ$2000,$AF23))) | AQ23: =IF($AF23="", "", IF($AC23=$AO23,"OK","@@"))
A24: =IF(D24="","",COUNTA($C$7:C24)-COUNTBLANK($C$7:C24)+4) | B24: =IF(D24="","",IF(OR(C24="직접입력",D24="북부지원"),"직접입력",IF(OR(AND(D24="인사과",C24="의회사무처"),AND(D24="총무과",C24="의회사무처")),"의회운영위원회",IF(OR(C24="직접입력",D24="북부지원"),"직접입력",IF(OR(AND(D24="인사과",C24="자치행정국"),AND(D24="총무과",C24="자치행정국")),"안전행정위원회",VLOOKUP(D24,구분표!$A$3:$C$258,2,)))))) | C24: =IF(D24="","",IF(OR(D24="교육지원과"),"소방재난본부",VLOOKUP(D24,구분표!$A$3:$C$258,3,))) | F24: =IF($E24="","",IF($E24="2추","직접입력","-")) | G24: =IF($E24="","",IF($E24="2추","직접입력","-")) | I24: =IF(H24="","",VLOOKUP($H24,구분표!$O$3:$P$168,2,FALSE)) | K24: =IF($E24="","",IF(OR($E24="2추", $E24="1추", $E24="본예산"), "금액입력", "-")) | L24: =IF($E24="", "", IF($E24="2추","금액입력", "-")) | M24: =IF($E24="","",SUM(K24:L24)) | O24: =SUM(M24:N24) -> 0 | Q24: =SUM(M24,P24) -> 0 | R24: =IF(AND((O24=0),(Q24>0)),"O",IF(AND((N24<0),(O24-Q24<0)),"O","X")) -> X | X24: =IF($H24="","",IF(OR($H24="511-01", $H24="511-02", $H24="511-03", $H24="311-02", $H24="311-04", $H24="321-01"),"국비","도비")) | Z24: =IF($X24="", "", IF($X24="국비",$N24, 0)) | AA24: =IF($X24="", "", IF($X24="도비",$N24, 0)) | AC24: =IF($X24="", "", IF($X24="국비",$P24, 0)) | AD24: =IF($X24="", "", IF($X24="도비",$P24, 0)) | AF24: =IF(AI24="","",IF($X24="도비","-",CONCATENATE(AI24,"-",COUNTIF($AI$7:AI24,AI24)))) | AG24: =IF($H24="","",IF($H24="511-01","국비",IF($H24="511-02","균특",IF($H24="511-03","기금",IF($H24="311-02","특교",IF($H24="311-04","소교",IF($H24="321-01","소멸","도비"))))))) | AI24: {=IF(OR(D24="", B24="직접입력", C24="직접입력"),"",INDEX(구분표!$I$2:$I$336, MATCH(1,(구분표!$G$2:$G$336='4. 특입'!B24)*(구분표!$E$2:$E$336='4. 특입'!C24)*(구분표!$F$2:$F$336='4. 특입'!D24),0)))} | AK24: =IF($AF24="","",IF($AF24="-",0, SUMIFS('4. 특출'!$AB$6:$AB$2000,'4. 특출'!$AJ$6:$AJ$2000,$AF24))) | AL24: =IF($AF24="","",IF($AF24="-", 0, COUNTIF('4. 특출'!$AJ$6:$AJ$2000,$AF24))) | AM24: =IF($AF24="", "", IF($Z24=$AK24,"OK","@@")) | AO24: =IF($AF24="","",IF($AF24="-",0, SUMIFS('4. 특출'!$AF$6:$AF$2000,'4. 특출'!$AJ$6:$AJ$2000,$AF24))) | AP24: =IF($AF24="","",IF($AF24="-", 0, COUNTIF('4. 특출'!$AJ$6:$AJ$2000,$AF24))) | AQ24: =IF($AF24="", "", IF($AC24=$AO24,"OK","@@"))
A25: =IF(D25="","",COUNTA($C$7:C25)-COUNTBLANK($C$7:C25)+4) | B25: =IF(D25="","",IF(OR(C25="직접입력",D25="북부지원"),"직접입력",IF(OR(AND(D25="인사과",C25="의회사무처"),AND(D25="총무과",C25="의회사무처")),"의회운영위원회",IF(OR(C25="직접입력",D25="북부지원"),"직접입력",IF(OR(AND(D25="인사과",C25="자치행정국"),AND(D25="총무과",C25="자치행정국")),"안전행정위원회",VLOOKUP(D25,구분표!$A$3:$C$258,2,)))))) | C25: =IF(D25="","",IF(OR(D25="교육지원과"),"소방재난본부",VLOOKUP(D25,구분표!$A$3:$C$258,3,))) | F25: =IF($E25="","",IF($E25="2추","직접입력","-")) | G25: =IF($E25="","",IF($E25="2추","직접입력","-")) | I25: =IF(H25="","",VLOOKUP($H25,구분표!$O$3:$P$168,2,FALSE)) | K25: =IF($E25="","",IF(OR($E25="2추", $E25="1추", $E25="본예산"), "금액입력", "-")) | L25: =IF($E25="", "", IF($E25="2추","금액입력", "-")) | M25: =IF($E25="","",SUM(K25:L25)) | O25: =SUM(M25:N25) -> 0 | Q25: =SUM(M25,P25) -> 0 | R25: =IF(AND((O25=0),(Q25>0)),"O",IF(AND((N25<0),(O25-Q25<0)),"O","X")) -> X | X25: =IF($H25="","",IF(OR($H25="511-01", $H25="511-02", $H25="511-03", $H25="311-02", $H25="311-04", $H25="321-01"),"국비","도비")) | Z25: =IF($X25="", "", IF($X25="국비",$N25, 0)) | AA25: =IF($X25="", "", IF($X25="도비",$N25, 0)) | AC25: =IF($X25="", "", IF($X25="국비",$P25, 0)) | AD25: =IF($X25="", "", IF($X25="도비",$P25, 0)) | AF25: =IF(AI25="","",IF($X25="도비","-",CONCATENATE(AI25,"-",COUNTIF($AI$7:AI25,AI25)))) | AG25: =IF($H25="","",IF($H25="511-01","국비",IF($H25="511-02","균특",IF($H25="511-03","기금",IF($H25="311-02","특교",IF($H25="311-04","소교",IF($H25="321-01","소멸","도비"))))))) | AI25: {=IF(OR(D25="", B25="직접입력", C25="직접입력"),"",INDEX(구분표!$I$2:$I$336, MATCH(1,(구분표!$G$2:$G$336='4. 특입'!B25)*(구분표!$E$2:$E$336='4. 특입'!C25)*(구분표!$F$2:$F$336='4. 특입'!D25),0)))} | AK25: =IF($AF25="","",IF($AF25="-",0, SUMIFS('4. 특출'!$AB$6:$AB$2000,'4. 특출'!$AJ$6:$AJ$2000,$AF25))) | AL25: =IF($AF25="","",IF($AF25="-", 0, COUNTIF('4. 특출'!$AJ$6:$AJ$2000,$AF25))) | AM25: =IF($AF25="", "", IF($Z25=$AK25,"OK","@@")) | AO25: =IF($AF25="","",IF($AF25="-",0, SUMIFS('4. 특출'!$AF$6:$AF$2000,'4. 특출'!$AJ$6:$AJ$2000,$AF25))) | AP25: =IF($AF25="","",IF($AF25="-", 0, COUNTIF('4. 특출'!$AJ$6:$AJ$2000,$AF25))) | AQ25: =IF($AF25="", "", IF($AC25=$AO25,"OK","@@"))
A26: =IF(D26="","",COUNTA($C$7:C26)-COUNTBLANK($C$7:C26)+4) | B26: =IF(D26="","",IF(OR(C26="직접입력",D26="북부지원"),"직접입력",IF(OR(AND(D26="인사과",C26="의회사무처"),AND(D26="총무과",C26="의회사무처")),"의회운영위원회",IF(OR(C26="직접입력",D26="북부지원"),"직접입력",IF(OR(AND(D26="인사과",C26="자치행정국"),AND(D26="총무과",C26="자치행정국")),"안전행정위원회",VLOOKUP(D26,구분표!$A$3:$C$258,2,)))))) | C26: =IF(D26="","",IF(OR(D26="교육지원과"),"소방재난본부",VLOOKUP(D26,구분표!$A$3:$C$258,3,))) | F26: =IF($E26="","",IF($E26="2추","직접입력","-")) | G26: =IF($E26="","",IF($E26="2추","직접입력","-")) | I26: =IF(H26="","",VLOOKUP($H26,구분표!$O$3:$P$168,2,FALSE)) | K26: =IF($E26="","",IF(OR($E26="2추", $E26="1추", $E26="본예산"), "금액입력", "-")) | L26: =IF($E26="", "", IF($E26="2추","금액입력", "-")) | M26: =IF($E26="","",SUM(K26:L26)) | O26: =SUM(M26:N26) -> 0 | Q26: =SUM(M26,P26) -> 0 | R26: =IF(AND((O26=0),(Q26>0)),"O",IF(AND((N26<0),(O26-Q26<0)),"O","X")) -> X | X26: =IF($H26="","",IF(OR($H26="511-01", $H26="511-02", $H26="511-03", $H26="311-02", $H26="311-04", $H26="321-01"),"국비","도비")) | Z26: =IF($X26="", "", IF($X26="국비",$N26, 0)) | AA26: =IF($X26="", "", IF($X26="도비",$N26, 0)) | AC26: =IF($X26="", "", IF($X26="국비",$P26, 0)) | AD26: =IF($X26="", "", IF($X26="도비",$P26, 0)) | AF26: =IF(AI26="","",IF($X26="도비","-",CONCATENATE(AI26,"-",COUNTIF($AI$7:AI26,AI26)))) | AG26: =IF($H26="","",IF($H26="511-01","국비",IF($H26="511-02","균특",IF($H26="511-03","기금",IF($H26="311-02","특교",IF($H26="311-04","소교",IF($H26="321-01","소멸","도비"))))))) | AI26: {=IF(OR(D26="", B26="직접입력", C26="직접입력"),"",INDEX(구분표!$I$2:$I$336, MATCH(1,(구분표!$G$2:$G$336='4. 특입'!B26)*(구분표!$E$2:$E$336='4. 특입'!C26)*(구분표!$F$2:$F$336='4. 특입'!D26),0)))} | AK26: =IF($AF26="","",IF($AF26="-",0, SUMIFS('4. 특출'!$AB$6:$AB$2000,'4. 특출'!$AJ$6:$AJ$2000,$AF26))) | AL26: =IF($AF26="","",IF($AF26="-", 0, COUNTIF('4. 특출'!$AJ$6:$AJ$2000,$AF26))) | AM26: =IF($AF26="", "", IF($Z26=$AK26,"OK","@@")) | AO26: =IF($AF26="","",IF($AF26="-",0, SUMIFS('4. 특출'!$AF$6:$AF$2000,'4. 특출'!$AJ$6:$AJ$2000,$AF26))) | AP26: =IF($AF26="","",IF($AF26="-", 0, COUNTIF('4. 특출'!$AJ$6:$AJ$2000,$AF26))) | AQ26: =IF($AF26="", "", IF($AC26=$AO26,"OK","@@"))
B27: (도시재생) | J27: =SUBTOTAL(3,J28:J31)&"건" -> 0건 | K27: =SUBTOTAL(9,K28:K31) -> 0 | L27: =SUBTOTAL(9,L28:L31) -> 0 | M27: =SUBTOTAL(9,M28:M31) -> 0 | N27: =SUBTOTAL(9,N28:N31) -> 0 | O27: =SUBTOTAL(9,O28:O31) -> 0 | P27: =SUBTOTAL(9,P28:P31) -> 0 | Q27: =SUBTOTAL(9,Q28:Q31) -> 0 | Z27: =SUBTOTAL(9,Z28:Z31) -> 0 | AA27: =SUBTOTAL(9,AA28:AA31) -> 0 | AC27: =SUBTOTAL(9,AC28:AC31) -> 0 | AD27: =SUBTOTAL(9,AD28:AD31) -> 0 | AK27: =SUBTOTAL(9,AK28:AK31) -> 0 | AL27: =SUBTOTAL(9,AL28:AL31) -> 0 | AM27: =IF(COUNTIF(AM28:AM31,"@@")>0,"@@","OK") -> OK | AO27: =SUBTOTAL(9,AO28:AO31) -> 0 | AP27: =SUBTOTAL(9,AP28:AP31) -> 0 | AQ27: =IF(COUNTIF(AQ28:AQ31,"@@")>0,"@@","OK") -> OK
A28: =IF(D28="","",COUNTA($C$7:C28)-COUNTBLANK($C$7:C28)+5) | B28: =IF(D28="","",IF(OR(C28="직접입력",D28="북부지원"),"직접입력",IF(OR(AND(D28="인사과",C28="의회사무처"),AND(D28="총무과",C28="의회사무처")),"의회운영위원회",IF(OR(C28="직접입력",D28="북부지원"),"직접입력",IF(OR(AND(D28="인사과",C28="자치행정국"),AND(D28="총무과",C28="자치행정국")),"안전행정위원회",VLOOKUP(D28,구분표!$A$3:$C$258,2,)))))) | C28: =IF(D28="","",IF(OR(D28="교육지원과"),"소방재난본부",VLOOKUP(D28,구분표!$A$3:$C$258,3,))) | F28: =IF($E28="","",IF($E28="2추","직접입력","-")) | G28: =IF($E28="","",IF($E28="2추","직접입력","-")) | I28: =IF(H28="","",VLOOKUP($H28,구분표!$O$3:$P$168,2,FALSE)) | K28: =IF($E28="","",IF(OR($E28="2추", $E28="1추", $E28="본예산"), "금액입력", "-")) | L28: =IF($E28="", "", IF($E28="2추","금액입력", "-")) | M28: =IF($E28="","",SUM(K28:L28)) | O28: =SUM(M28:N28) -> 0 | Q28: =SUM(M28,P28) -> 0 | R28: =IF(AND((O28=0),(Q28>0)),"O",IF(AND((N28<0),(O28-Q28<0)),"O","X")) -> X | X28: =IF($H28="","",IF(OR($H28="511-01", $H28="511-02", $H28="511-03", $H28="311-02", $H28="311-04", $H28="321-01"),"국비","도비")) | Z28: =IF($X28="", "", IF($X28="국비",$N28, 0)) | AA28: =IF($X28="", "", IF($X28="도비",$N28, 0)) | AC28: =IF($X28="", "", IF($X28="국비",$P28, 0)) | AD28: =IF($X28="", "", IF($X28="도비",$P28, 0)) | AF28: =IF(AI28="","",IF($X28="도비","-",CONCATENATE(AI28,"-",COUNTIF($AI$7:AI28,AI28)))) | AG28: =IF($H28="","",IF($H28="511-01","국비",IF($H28="511-02","균특",IF($H28="511-03","기금",IF($H28="311-02","특교",IF($H28="311-04","소교",IF($H28="321-01","소멸","도비"))))))) | AI28: {=IF(OR(D28="", B28="직접입력", C28="직접입력"),"",INDEX(구분표!$I$2:$I$336, MATCH(1,(구분표!$G$2:$G$336='4. 특입'!B28)*(구분표!$E$2:$E$336='4. 특입'!C28)*(구분표!$F$2:$F$336='4. 특입'!D28),0)))} | AK28: =IF($AF28="","",IF($AF28="-",0, SUMIFS('4. 특출'!$AB$6:$AB$2000,'4. 특출'!$AJ$6:$AJ$2000,$AF28))) | AL28: =IF($AF28="","",IF($AF28="-", 0, COUNTIF('4. 특출'!$AJ$6:$AJ$2000,$AF28))) | AM28: =IF($AF28="", "", IF($Z28=$AK28,"OK","@@")) | AO28: =IF($AF28="","",IF($AF28="-",0, SUMIFS('4. 특출'!$AF$6:$AF$2000,'4. 특출'!$AJ$6:$AJ$2000,$AF28))) | AP28: =IF($AF28="","",IF($AF28="-", 0, COUNTIF('4. 특출'!$AJ$6:$AJ$2000,$AF28))) | AQ28: =IF($AF28="", "", IF($AC28=$AO28,"OK","@@"))
A29: =IF(D29="","",COUNTA($C$7:C29)-COUNTBLANK($C$7:C29)+5) | B29: =IF(D29="","",IF(OR(C29="직접입력",D29="북부지원"),"직접입력",IF(OR(AND(D29="인사과",C29="의회사무처"),AND(D29="총무과",C29="의회사무처")),"의회운영위원회",IF(OR(C29="직접입력",D29="북부지원"),"직접입력",IF(OR(AND(D29="인사과",C29="자치행정국"),AND(D29="총무과",C29="자치행정국")),"안전행정위원회",VLOOKUP(D29,구분표!$A$3:$C$258,2,)))))) | C29: =IF(D29="","",IF(OR(D29="교육지원과"),"소방재난본부",VLOOKUP(D29,구분표!$A$3:$C$258,3,))) | F29: =IF($E29="","",IF($E29="2추","직접입력","-")) | G29: =IF($E29="","",IF($E29="2추","직접입력","-")) | I29: =IF(H29="","",VLOOKUP($H29,구분표!$O$3:$P$168,2,FALSE)) | K29: =IF($E29="","",IF(OR($E29="2추", $E29="1추", $E29="본예산"), "금액입력", "-")) | L29: =IF($E29="", "", IF($E29="2추","금액입력", "-")) | M29: =IF($E29="","",SUM(K29:L29)) | O29: =SUM(M29:N29) -> 0 | Q29: =SUM(M29,P29) -> 0 | R29: =IF(AND((O29=0),(Q29>0)),"O",IF(AND((N29<0),(O29-Q29<0)),"O","X")) -> X | X29: =IF($H29="","",IF(OR($H29="511-01", $H29="511-02", $H29="511-03", $H29="311-02", $H29="311-04", $H29="321-01"),"국비","도비")) | Z29: =IF($X29="", "", IF($X29="국비",$N29, 0)) | AA29: =IF($X29="", "", IF($X29="도비",$N29, 0)) | AC29: =IF($X29="", "", IF($X29="국비",$P29, 0)) | AD29: =IF($X29="", "", IF($X29="도비",$P29, 0)) | AF29: =IF(AI29="","",IF($X29="도비","-",CONCATENATE(AI29,"-",COUNTIF($AI$7:AI29,AI29)))) | AG29: =IF($H29="","",IF($H29="511-01","국비",IF($H29="511-02","균특",IF($H29="511-03","기금",IF($H29="311-02","특교",IF($H29="311-04","소교",IF($H29="321-01","소멸","도비"))))))) | AI29: {=IF(OR(D29="", B29="직접입력", C29="직접입력"),"",INDEX(구분표!$I$2:$I$336, MATCH(1,(구분표!$G$2:$G$336='4. 특입'!B29)*(구분표!$E$2:$E$336='4. 특입'!C29)*(구분표!$F$2:$F$336='4. 특입'!D29),0)))} | AK29: =IF($AF29="","",IF($AF29="-",0, SUMIFS('4. 특출'!$AB$6:$AB$2000,'4. 특출'!$AJ$6:$AJ$2000,$AF29))) | AL29: =IF($AF29="","",IF($AF29="-", 0, COUNTIF('4. 특출'!$AJ$6:$AJ$2000,$AF29))) | AM29: =IF($AF29="", "", IF($Z29=$AK29,"OK","@@")) | AO29: =IF($AF29="","",IF($AF29="-",0, SUMIFS('4. 특출'!$AF$6:$AF$2000,'4. 특출'!$AJ$6:$AJ$2000,$AF29))) | AP29: =IF($AF29="","",IF($AF29="-", 0, COUNTIF('4. 특출'!$AJ$6:$AJ$2000,$AF29))) | AQ29: =IF($AF29="", "", IF($AC29=$AO29,"OK","@@"))
A30: =IF(D30="","",COUNTA($C$7:C30)-COUNTBLANK($C$7:C30)+5) | B30: =IF(D30="","",IF(OR(C30="직접입력",D30="북부지원"),"직접입력",IF(OR(AND(D30="인사과",C30="의회사무처"),AND(D30="총무과",C30="의회사무처")),"의회운영위원회",IF(OR(C30="직접입력",D30="북부지원"),"직접입력",IF(OR(AND(D30="인사과",C30="자치행정국"),AND(D30="총무과",C30="자치행정국")),"안전행정위원회",VLOOKUP(D30,구분표!$A$3:$C$258,2,)))))) | C30: =IF(D30="","",IF(OR(D30="교육지원과"),"소방재난본부",VLOOKUP(D30,구분표!$A$3:$C$258,3,))) | F30: =IF($E30="","",IF($E30="2추","직접입력","-")) | G30: =IF($E30="","",IF($E30="2추","직접입력","-")) | I30: =IF(H30="","",VLOOKUP($H30,구분표!$O$3:$P$168,2,FALSE)) | K30: =IF($E30="","",IF(OR($E30="2추", $E30="1추", $E30="본예산"), "금액입력", "-")) | L30: =IF($E30="", "", IF($E30="2추","금액입력", "-")) | M30: =IF($E30="","",SUM(K30:L30)) | O30: =SUM(M30:N30) -> 0 | Q30: =SUM(M30,P30) -> 0 | R30: =IF(AND((O30=0),(Q30>0)),"O",IF(AND((N30<0),(O30-Q30<0)),"O","X")) -> X | X30: =IF($H30="","",IF(OR($H30="511-01", $H30="511-02", $H30="511-03", $H30="311-02", $H30="311-04", $H30="321-01"),"국비","도비")) | Z30: =IF($X30="", "", IF($X30="국비",$N30, 0)) | AA30: =IF($X30="", "", IF($X30="도비",$N30, 0)) | AC30: =IF($X30="", "", IF($X30="국비",$P30, 0)) | AD30: =IF($X30="", "", IF($X30="도비",$P30, 0)) | AF30: =IF(AI30="","",IF($X30="도비","-",CONCATENATE(AI30,"-",COUNTIF($AI$7:AI30,AI30)))) | AG30: =IF($H30="","",IF($H30="511-01","국비",IF($H30="511-02","균특",IF($H30="511-03","기금",IF($H30="311-02","특교",IF($H30="311-04","소교",IF($H30="321-01","소멸","도비"))))))) | AI30: {=IF(OR(D30="", B30="직접입력", C30="직접입력"),"",INDEX(구분표!$I$2:$I$336, MATCH(1,(구분표!$G$2:$G$336='4. 특입'!B30)*(구분표!$E$2:$E$336='4. 특입'!C30)*(구분표!$F$2:$F$336='4. 특입'!D30),0)))} | AK30: =IF($AF30="","",IF($AF30="-",0, SUMIFS('4. 특출'!$AB$6:$AB$2000,'4. 특출'!$AJ$6:$AJ$2000,$AF30))) | AL30: =IF($AF30="","",IF($AF30="-", 0, COUNTIF('4. 특출'!$AJ$6:$AJ$2000,$AF30))) | AM30: =IF($AF30="", "", IF($Z30=$AK30,"OK","@@")) | AO30: =IF($AF30="","",IF($AF30="-",0, SUMIFS('4. 특출'!$AF$6:$AF$2000,'4. 특출'!$AJ$6:$AJ$2000,$AF30))) | AP30: =IF($AF30="","",IF($AF30="-", 0, COUNTIF('4. 특출'!$AJ$6:$AJ$2000,$AF30))) | AQ30: =IF($AF30="", "", IF($AC30=$AO30,"OK","@@"))
A31: =IF(D31="","",COUNTA($C$7:C31)-COUNTBLANK($C$7:C31)+5) | B31: =IF(D31="","",IF(OR(C31="직접입력",D31="북부지원"),"직접입력",IF(OR(AND(D31="인사과",C31="의회사무처"),AND(D31="총무과",C31="의회사무처")),"의회운영위원회",IF(OR(C31="직접입력",D31="북부지원"),"직접입력",IF(OR(AND(D31="인사과",C31="자치행정국"),AND(D31="총무과",C31="자치행정국")),"안전행정위원회",VLOOKUP(D31,구분표!$A$3:$C$258,2,)))))) | C31: =IF(D31="","",IF(OR(D31="교육지원과"),"소방재난본부",VLOOKUP(D31,구분표!$A$3:$C$258,3,))) | F31: =IF($E31="","",IF($E31="2추","직접입력","-")) | G31: =IF($E31="","",IF($E31="2추","직접입력","-")) | I31: =IF(H31="","",VLOOKUP($H31,구분표!$O$3:$P$168,2,FALSE)) | K31: =IF($E31="","",IF(OR($E31="2추", $E31="1추", $E31="본예산"), "금액입력", "-")) | L31: =IF($E31="", "", IF($E31="2추","금액입력", "-")) | M31: =IF($E31="","",SUM(K31:L31)) | O31: =SUM(M31:N31) -> 0 | Q31: =SUM(M31,P31) -> 0 | R31: =IF(AND((O31=0),(Q31>0)),"O",IF(AND((N31<0),(O31-Q31<0)),"O","X")) -> X | X31: =IF($H31="","",IF(OR($H31="511-01", $H31="511-02", $H31="511-03", $H31="311-02", $H31="311-04", $H31="321-01"),"국비","도비")) | Z31: =IF($X31="", "", IF($X31="국비",$N31, 0)) | AA31: =IF($X31="", "", IF($X31="도비",$N31, 0)) | AC31: =IF($X31="", "", IF($X31="국비",$P31, 0)) | AD31: =IF($X31="", "", IF($X31="도비",$P31, 0)) | AF31: =IF(AI31="","",IF($X31="도비","-",CONCATENATE(AI31,"-",COUNTIF($AI$7:AI31,AI31)))) | AG31: =IF($H31="","",IF($H31="511-01","국비",IF($H31="511-02","균특",IF($H31="511-03","기금",IF($H31="311-02","특교",IF($H31="311-04","소교",IF($H31="321-01","소멸","도비"))))))) | AI31: {=IF(OR(D31="", B31="직접입력", C31="직접입력"),"",INDEX(구분표!$I$2:$I$336, MATCH(1,(구분표!$G$2:$G$336='4. 특입'!B31)*(구분표!$E$2:$E$336='4. 특입'!C31)*(구분표!$F$2:$F$336='4. 특입'!D31),0)))} | AK31: =IF($AF31="","",IF($AF31="-",0, SUMIFS('4. 특출'!$AB$6:$AB$2000,'4. 특출'!$AJ$6:$AJ$2000,$AF31))) | AL31: =IF($AF31="","",IF($AF31="-", 0, COUNTIF('4. 특출'!$AJ$6:$AJ$2000,$AF31))) | AM31: =IF($AF31="", "", IF($Z31=$AK31,"OK","@@")) | AO31: =IF($AF31="","",IF($AF31="-",0, SUMIFS('4. 특출'!$AF$6:$AF$2000,'4. 특출'!$AJ$6:$AJ$2000,$AF31))) | AP31: =IF($AF31="","",IF($AF31="-", 0, COUNTIF('4. 특출'!$AJ$6:$AJ$2000,$AF31))) | AQ31: =IF($AF31="", "", IF($AC31=$AO31,"OK","@@"))
B32: (지역자원시설세) | J32: =SUBTOTAL(3,J33:J36)&"건" -> 0건 | K32: =SUBTOTAL(9,K33:K36) -> 0 | L32: =SUBTOTAL(9,L33:L36) -> 0 | M32: =SUBTOTAL(9,M33:M36) -> 0 | N32: =SUBTOTAL(9,N33:N36) -> 0 | O32: =SUBTOTAL(9,O33:O36) -> 0 | P32: =SUBTOTAL(9,P33:P36) -> 0 | Q32: =SUBTOTAL(9,Q33:Q36) -> 0 | Z32: =SUBTOTAL(9,Z33:Z36) -> 0 | AA32: =SUBTOTAL(9,AA33:AA36) -> 0 | AC32: =SUBTOTAL(9,AC33:AC36) -> 0 | AD32: =SUBTOTAL(9,AD33:AD36) -> 0 | AK32: =SUBTOTAL(9,AK33:AK36) -> 0 | AL32: =SUBTOTAL(9,AL33:AL36) -> 0 | AM32: =IF(COUNTIF(AM33:AM36,"@@")>0,"@@","OK") -> OK | AO32: =SUBTOTAL(9,AO33:AO36) -> 0 | AP32: =SUBTOTAL(9,AP33:AP36) -> 0 | AQ32: =IF(COUNTIF(AQ33:AQ36,"@@")>0,"@@","OK") -> OK
A33: =IF(D33="","",COUNTA($C$7:C33)-COUNTBLANK($C$7:C33)+6) | B33: =IF(D33="","",IF(OR(C33="직접입력",D33="북부지원"),"직접입력",IF(OR(AND(D33="인사과",C33="의회사무처"),AND(D33="총무과",C33="의회사무처")),"의회운영위원회",IF(OR(C33="직접입력",D33="북부지원"),"직접입력",IF(OR(AND(D33="인사과",C33="자치행정국"),AND(D33="총무과",C33="자치행정국")),"안전행정위원회",VLOOKUP(D33,구분표!$A$3:$C$258,2,)))))) | C33: =IF(D33="","",IF(OR(D33="교육지원과"),"소방재난본부",VLOOKUP(D33,구분표!$A$3:$C$258,3,))) | F33: =IF($E33="","",IF($E33="2추","직접입력","-")) | G33: =IF($E33="","",IF($E33="2추","직접입력","-")) | I33: =IF(H33="","",VLOOKUP($H33,구분표!$O$3:$P$168,2,FALSE)) | K33: =IF($E33="","",IF(OR($E33="2추", $E33="1추", $E33="본예산"), "금액입력", "-")) | L33: =IF($E33="", "", IF($E33="2추","금액입력", "-")) | M33: =IF($E33="","",SUM(K33:L33)) | O33: =SUM(M33:N33) -> 0 | Q33: =SUM(M33,P33) -> 0 | R33: =IF(AND((O33=0),(Q33>0)),"O",IF(AND((N33<0),(O33-Q33<0)),"O","X")) -> X | X33: =IF($H33="","",IF(OR($H33="511-01", $H33="511-02", $H33="511-03", $H33="311-02", $H33="311-04", $H33="321-01"),"국비","도비")) | Z33: =IF($X33="", "", IF($X33="국비",$N33, 0)) | AA33: =IF($X33="", "", IF($X33="도비",$N33, 0)) | AC33: =IF($X33="", "", IF($X33="국비",$P33, 0)) | AD33: =IF($X33="", "", IF($X33="도비",$P33, 0)) | AF33: =IF(AI33="","",IF($X33="도비","-",CONCATENATE(AI33,"-",COUNTIF($AI$7:AI33,AI33)))) | AG33: =IF($H33="","",IF($H33="511-01","국비",IF($H33="511-02","균특",IF($H33="511-03","기금",IF($H33="311-02","특교",IF($H33="311-04","소교",IF($H33="321-01","소멸","도비"))))))) | AI33: {=IF(OR(D33="", B33="직접입력", C33="직접입력"),"",INDEX(구분표!$I$2:$I$336, MATCH(1,(구분표!$G$2:$G$336='4. 특입'!B33)*(구분표!$E$2:$E$336='4. 특입'!C33)*(구분표!$F$2:$F$336='4. 특입'!D33),0)))} | AK33: =IF($AF33="","",IF($AF33="-",0, SUMIFS('4. 특출'!$AB$6:$AB$2000,'4. 특출'!$AJ$6:$AJ$2000,$AF33))) | AL33: =IF($AF33="","",IF($AF33="-", 0, COUNTIF('4. 특출'!$AJ$6:$AJ$2000,$AF33))) | AM33: =IF($AF33="", "", IF($Z33=$AK33,"OK","@@")) | AO33: =IF($AF33="","",IF($AF33="-",0, SUMIFS('4. 특출'!$AF$6:$AF$2000,'4. 특출'!$AJ$6:$AJ$2000,$AF33))) | AP33: =IF($AF33="","",IF($AF33="-", 0, COUNTIF('4. 특출'!$AJ$6:$AJ$2000,$AF33))) | AQ33: =IF($AF33="", "", IF($AC33=$AO33,"OK","@@"))
A34: =IF(D34="","",COUNTA($C$7:C34)-COUNTBLANK($C$7:C34)+6) | B34: =IF(D34="","",IF(OR(C34="직접입력",D34="북부지원"),"직접입력",IF(OR(AND(D34="인사과",C34="의회사무처"),AND(D34="총무과",C34="의회사무처")),"의회운영위원회",IF(OR(C34="직접입력",D34="북부지원"),"직접입력",IF(OR(AND(D34="인사과",C34="자치행정국"),AND(D34="총무과",C34="자치행정국")),"안전행정위원회",VLOOKUP(D34,구분표!$A$3:$C$258,2,)))))) | C34: =IF(D34="","",IF(OR(D34="교육지원과"),"소방재난본부",VLOOKUP(D34,구분표!$A$3:$C$258,3,))) | F34: =IF($E34="","",IF($E34="2추","직접입력","-")) | G34: =IF($E34="","",IF($E34="2추","직접입력","-")) | I34: =IF(H34="","",VLOOKUP($H34,구분표!$O$3:$P$168,2,FALSE)) | K34: =IF($E34="","",IF(OR($E34="2추", $E34="1추", $E34="본예산"), "금액입력", "-")) | L34: =IF($E34="", "", IF($E34="2추","금액입력", "-")) | M34: =IF($E34="","",SUM(K34:L34)) | O34: =SUM(M34:N34) -> 0 | Q34: =SUM(M34,P34) -> 0 | R34: =IF(AND((O34=0),(Q34>0)),"O",IF(AND((N34<0),(O34-Q34<0)),"O","X")) -> X | X34: =IF($H34="","",IF(OR($H34="511-01", $H34="511-02", $H34="511-03", $H34="311-02", $H34="311-04", $H34="321-01"),"국비","도비")) | Z34: =IF($X34="", "", IF($X34="국비",$N34, 0)) | AA34: =IF($X34="", "", IF($X34="도비",$N34, 0)) | AC34: =IF($X34="", "", IF($X34="국비",$P34, 0)) | AD34: =IF($X34="", "", IF($X34="도비",$P34, 0)) | AF34: =IF(AI34="","",IF($X34="도비","-",CONCATENATE(AI34,"-",COUNTIF($AI$7:AI34,AI34)))) | AG34: =IF($H34="","",IF($H34="511-01","국비",IF($H34="511-02","균특",IF($H34="511-03","기금",IF($H34="311-02","특교",IF($H34="311-04","소교",IF($H34="321-01","소멸","도비"))))))) | AI34: {=IF(OR(D34="", B34="직접입력", C34="직접입력"),"",INDEX(구분표!$I$2:$I$336, MATCH(1,(구분표!$G$2:$G$336='4. 특입'!B34)*(구분표!$E$2:$E$336='4. 특입'!C34)*(구분표!$F$2:$F$336='4. 특입'!D34),0)))} | AK34: =IF($AF34="","",IF($AF34="-",0, SUMIFS('4. 특출'!$AB$6:$AB$2000,'4. 특출'!$AJ$6:$AJ$2000,$AF34))) | AL34: =IF($AF34="","",IF($AF34="-", 0, COUNTIF('4. 특출'!$AJ$6:$AJ$2000,$AF34))) | AM34: =IF($AF34="", "", IF($Z34=$AK34,"OK","@@")) | AO34: =IF($AF34="","",IF($AF34="-",0, SUMIFS('4. 특출'!$AF$6:$AF$2000,'4. 특출'!$AJ$6:$AJ$2000,$AF34))) | AP34: =IF($AF34="","",IF($AF34="-", 0, COUNTIF('4. 특출'!$AJ$6:$AJ$2000,$AF34))) | AQ34: =IF($AF34="", "", IF($AC34=$AO34,"OK","@@"))
A35: =IF(D35="","",COUNTA($C$7:C35)-COUNTBLANK($C$7:C35)+6) | B35: =IF(D35="","",IF(OR(C35="직접입력",D35="북부지원"),"직접입력",IF(OR(AND(D35="인사과",C35="의회사무처"),AND(D35="총무과",C35="의회사무처")),"의회운영위원회",IF(OR(C35="직접입력",D35="북부지원"),"직접입력",IF(OR(AND(D35="인사과",C35="자치행정국"),AND(D35="총무과",C35="자치행정국")),"안전행정위원회",VLOOKUP(D35,구분표!$A$3:$C$258,2,)))))) | C35: =IF(D35="","",IF(OR(D35="교육지원과"),"소방재난본부",VLOOKUP(D35,구분표!$A$3:$C$258,3,))) | F35: =IF($E35="","",IF($E35="2추","직접입력","-")) | G35: =IF($E35="","",IF($E35="2추","직접입력","-")) | I35: =IF(H35="","",VLOOKUP($H35,구분표!$O$3:$P$168,2,FALSE)) | K35: =IF($E35="","",IF(OR($E35="2추", $E35="1추", $E35="본예산"), "금액입력", "-")) | L35: =IF($E35="", "", IF($E35="2추","금액입력", "-")) | M35: =IF($E35="","",SUM(K35:L35)) | O35: =SUM(M35:N35) -> 0 | Q35: =SUM(M35,P35) -> 0 | R35: =IF(AND((O35=0),(Q35>0)),"O",IF(AND((N35<0),(O35-Q35<0)),"O","X")) -> X | X35: =IF($H35="","",IF(OR($H35="511-01", $H35="511-02", $H35="511-03", $H35="311-02", $H35="311-04", $H35="321-01"),"국비","도비")) | Z35: =IF($X35="", "", IF($X35="국비",$N35, 0)) | AA35: =IF($X35="", "", IF($X35="도비",$N35, 0)) | AC35: =IF($X35="", "", IF($X35="국비",$P35, 0)) | AD35: =IF($X35="", "", IF($X35="도비",$P35, 0)) | AF35: =IF(AI35="","",IF($X35="도비","-",CONCATENATE(AI35,"-",COUNTIF($AI$7:AI35,AI35)))) | AG35: =IF($H35="","",IF($H35="511-01","국비",IF($H35="511-02","균특",IF($H35="511-03","기금",IF($H35="311-02","특교",IF($H35="311-04","소교",IF($H35="321-01","소멸","도비"))))))) | AI35: {=IF(OR(D35="", B35="직접입력", C35="직접입력"),"",INDEX(구분표!$I$2:$I$336, MATCH(1,(구분표!$G$2:$G$336='4. 특입'!B35)*(구분표!$E$2:$E$336='4. 특입'!C35)*(구분표!$F$2:$F$336='4. 특입'!D35),0)))} | AK35: =IF($AF35="","",IF($AF35="-",0, SUMIFS('4. 특출'!$AB$6:$AB$2000,'4. 특출'!$AJ$6:$AJ$2000,$AF35))) | AL35: =IF($AF35="","",IF($AF35="-", 0, COUNTIF('4. 특출'!$AJ$6:$AJ$2000,$AF35))) | AM35: =IF($AF35="", "", IF($Z35=$AK35,"OK","@@")) | AO35: =IF($AF35="","",IF($AF35="-",0, SUMIFS('4. 특출'!$AF$6:$AF$2000,'4. 특출'!$AJ$6:$AJ$2000,$AF35))) | AP35: =IF($AF35="","",IF($AF35="-", 0, COUNTIF('4. 특출'!$AJ$6:$AJ$2000,$AF35))) | AQ35: =IF($AF35="", "", IF($AC35=$AO35,"OK","@@"))
A36: =IF(D36="","",COUNTA($C$7:C36)-COUNTBLANK($C$7:C36)+6) | B36: =IF(D36="","",IF(OR(C36="직접입력",D36="북부지원"),"직접입력",IF(OR(AND(D36="인사과",C36="의회사무처"),AND(D36="총무과",C36="의회사무처")),"의회운영위원회",IF(OR(C36="직접입력",D36="북부지원"),"직접입력",IF(OR(AND(D36="인사과",C36="자치행정국"),AND(D36="총무과",C36="자치행정국")),"안전행정위원회",VLOOKUP(D36,구분표!$A$3:$C$258,2,)))))) | C36: =IF(D36="","",IF(OR(D36="교육지원과"),"소방재난본부",VLOOKUP(D36,구분표!$A$3:$C$258,3,))) | F36: =IF($E36="","",IF($E36="2추","직접입력","-")) | G36: =IF($E36="","",IF($E36="2추","직접입력","-")) | I36: =IF(H36="","",VLOOKUP($H36,구분표!$O$3:$P$168,2,FALSE)) | K36: =IF($E36="","",IF(OR($E36="2추", $E36="1추", $E36="본예산"), "금액입력", "-")) | L36: =IF($E36="", "", IF($E36="2추","금액입력", "-")) | M36: =IF($E36="","",SUM(K36:L36)) | O36: =SUM(M36:N36) -> 0 | Q36: =SUM(M36,P36) -> 0 | R36: =IF(AND((O36=0),(Q36>0)),"O",IF(AND((N36<0),(O36-Q36<0)),"O","X")) -> X | X36: =IF($H36="","",IF(OR($H36="511-01", $H36="511-02", $H36="511-03", $H36="311-02", $H36="311-04", $H36="321-01"),"국비","도비")) | Z36: =IF($X36="", "", IF($X36="국비",$N36, 0)) | AA36: =IF($X36="", "", IF($X36="도비",$N36, 0)) | AC36: =IF($X36="", "", IF($X36="국비",$P36, 0)) | AD36: =IF($X36="", "", IF($X36="도비",$P36, 0)) | AF36: =IF(AI36="","",IF($X36="도비","-",CONCATENATE(AI36,"-",COUNTIF($AI$7:AI36,AI36)))) | AG36: =IF($H36="","",IF($H36="511-01","국비",IF($H36="511-02","균특",IF($H36="511-03","기금",IF($H36="311-02","특교",IF($H36="311-04","소교",IF($H36="321-01","소멸","도비"))))))) | AI36: {=IF(OR(D36="", B36="직접입력", C36="직접입력"),"",INDEX(구분표!$I$2:$I$336, MATCH(1,(구분표!$G$2:$G$336='4. 특입'!B36)*(구분표!$E$2:$E$336='4. 특입'!C36)*(구분표!$F$2:$F$336='4. 특입'!D36),0)))} | AK36: =IF($AF36="","",IF($AF36="-",0, SUMIFS('4. 특출'!$AB$6:$AB$2000,'4. 특출'!$AJ$6:$AJ$2000,$AF36))) | AL36: =IF($AF36="","",IF($AF36="-", 0, COUNTIF('4. 특출'!$AJ$6:$AJ$2000,$AF36))) | AM36: =IF($AF36="", "", IF($Z36=$AK36,"OK","@@")) | AO36: =IF($AF36="","",IF($AF36="-",0, SUMIFS('4. 특출'!$AF$6:$AF$2000,'4. 특출'!$AJ$6:$AJ$2000,$AF36))) | AP36: =IF($AF36="","",IF($AF36="-", 0, COUNTIF('4. 특출'!$AJ$6:$AJ$2000,$AF36))) | AQ36: =IF($AF36="", "", IF($AC36=$AO36,"OK","@@"))
B37: (순환경제) | J37: =SUBTOTAL(3,J38:J41)&"건" -> 0건 | K37: =SUBTOTAL(9,K38:K41) -> 0 | L37: =SUBTOTAL(9,L38:L41) -> 0 | M37: =SUBTOTAL(9,M38:M41) -> 0 | N37: =SUBTOTAL(9,N38:N41) -> 0 | O37: =SUBTOTAL(9,O38:O41) -> 0 | P37: =SUBTOTAL(9,P38:P41) -> 0 | Q37: =SUBTOTAL(9,Q38:Q41) -> 0 | Z37: =SUBTOTAL(9,Z38:Z41) -> 0 | AA37: =SUBTOTAL(9,AA38:AA41) -> 0 | AC37: =SUBTOTAL(9,AC38:AC41) -> 0 | AD37: =SUBTOTAL(9,AD38:AD41) -> 0 | AK37: =SUBTOTAL(9,AK38:AK41) -> 0 | AL37: =SUBTOTAL(9,AL38:AL41) -> 0 | AM37: =IF(COUNTIF(AM38:AM41,"@@")>0,"@@","OK") -> OK | AO37: =SUBTOTAL(9,AO38:AO41) -> 0 | AP37: =SUBTOTAL(9,AP38:AP41) -> 0 | AQ37: =IF(COUNTIF(AQ38:AQ41,"@@")>0,"@@","OK") -> OK
A38: =IF(D38="","",COUNTA($C$7:C38)-COUNTBLANK($C$7:C38)+7) | B38: =IF(D38="","",IF(OR(C38="직접입력",D38="북부지원"),"직접입력",IF(OR(AND(D38="인사과",C38="의회사무처"),AND(D38="총무과",C38="의회사무처")),"의회운영위원회",IF(OR(C38="직접입력",D38="북부지원"),"직접입력",IF(OR(AND(D38="인사과",C38="자치행정국"),AND(D38="총무과",C38="자치행정국")),"안전행정위원회",VLOOKUP(D38,구분표!$A$3:$C$258,2,)))))) | C38: =IF(D38="","",IF(OR(D38="교육지원과"),"소방재난본부",VLOOKUP(D38,구분표!$A$3:$C$258,3,))) | F38: =IF($E38="","",IF($E38="2추","직접입력","-")) | G38: =IF($E38="","",IF($E38="2추","직접입력","-")) | I38: =IF(H38="","",VLOOKUP($H38,구분표!$O$3:$P$168,2,FALSE)) | K38: =IF($E38="","",IF(OR($E38="2추", $E38="1추", $E38="본예산"), "금액입력", "-")) | L38: =IF($E38="", "", IF($E38="2추","금액입력", "-")) | M38: =IF($E38="","",SUM(K38:L38)) | O38: =SUM(M38:N38) -> 0 | Q38: =SUM(M38,P38) -> 0 | R38: =IF(AND((O38=0),(Q38>0)),"O",IF(AND((N38<0),(O38-Q38<0)),"O","X")) -> X | X38: =IF($H38="","",IF(OR($H38="511-01", $H38="511-02", $H38="511-03", $H38="311-02", $H38="311-04", $H38="321-01"),"국비","도비")) | Z38: =IF($X38="", "", IF($X38="국비",$N38, 0)) | AA38: =IF($X38="", "", IF($X38="도비",$N38, 0)) | AC38: =IF($X38="", "", IF($X38="국비",$P38, 0)) | AD38: =IF($X38="", "", IF($X38="도비",$P38, 0)) | AF38: =IF(AI38="","",IF($X38="도비","-",CONCATENATE(AI38,"-",COUNTIF($AI$7:AI38,AI38)))) | AG38: =IF($H38="","",IF($H38="511-01","국비",IF($H38="511-02","균특",IF($H38="511-03","기금",IF($H38="311-02","특교",IF($H38="311-04","소교",IF($H38="321-01","소멸","도비"))))))) | AI38: {=IF(OR(D38="", B38="직접입력", C38="직접입력"),"",INDEX(구분표!$I$2:$I$336, MATCH(1,(구분표!$G$2:$G$336='4. 특입'!B38)*(구분표!$E$2:$E$336='4. 특입'!C38)*(구분표!$F$2:$F$336='4. 특입'!D38),0)))} | AK38: =IF($AF38="","",IF($AF38="-",0, SUMIFS('4. 특출'!$AB$6:$AB$2000,'4. 특출'!$AJ$6:$AJ$2000,$AF38))) | AL38: =IF($AF38="","",IF($AF38="-", 0, COUNTIF('4. 특출'!$AJ$6:$AJ$2000,$AF38))) | AM38: =IF($AF38="", "", IF($Z38=$AK38,"OK","@@")) | AO38: =IF($AF38="","",IF($AF38="-",0, SUMIFS('4. 특출'!$AF$6:$AF$2000,'4. 특출'!$AJ$6:$AJ$2000,$AF38))) | AP38: =IF($AF38="","",IF($AF38="-", 0, COUNTIF('4. 특출'!$AJ$6:$AJ$2000,$AF38))) | AQ38: =IF($AF38="", "", IF($AC38=$AO38,"OK","@@"))
A39: =IF(D39="","",COUNTA($C$7:C39)-COUNTBLANK($C$7:C39)+7) | B39: =IF(D39="","",IF(OR(C39="직접입력",D39="북부지원"),"직접입력",IF(OR(AND(D39="인사과",C39="의회사무처"),AND(D39="총무과",C39="의회사무처")),"의회운영위원회",IF(OR(C39="직접입력",D39="북부지원"),"직접입력",IF(OR(AND(D39="인사과",C39="자치행정국"),AND(D39="총무과",C39="자치행정국")),"안전행정위원회",VLOOKUP(D39,구분표!$A$3:$C$258,2,)))))) | C39: =IF(D39="","",IF(OR(D39="교육지원과"),"소방재난본부",VLOOKUP(D39,구분표!$A$3:$C$258,3,))) | F39: =IF($E39="","",IF($E39="2추","직접입력","-")) | G39: =IF($E39="","",IF($E39="2추","직접입력","-")) | I39: =IF(H39="","",VLOOKUP($H39,구분표!$O$3:$P$168,2,FALSE)) | K39: =IF($E39="","",IF(OR($E39="2추", $E39="1추", $E39="본예산"), "금액입력", "-")) | L39: =IF($E39="", "", IF($E39="2추","금액입력", "-")) | M39: =IF($E39="","",SUM(K39:L39)) | O39: =SUM(M39:N39) -> 0 | Q39: =SUM(M39,P39) -> 0 | R39: =IF(AND((O39=0),(Q39>0)),"O",IF(AND((N39<0),(O39-Q39<0)),"O","X")) -> X | X39: =IF($H39="","",IF(OR($H39="511-01", $H39="511-02", $H39="511-03", $H39="311-02", $H39="311-04", $H39="321-01"),"국비","도비")) | Z39: =IF($X39="", "", IF($X39="국비",$N39, 0)) | AA39: =IF($X39="", "", IF($X39="도비",$N39, 0)) | AC39: =IF($X39="", "", IF($X39="국비",$P39, 0)) | AD39: =IF($X39="", "", IF($X39="도비",$P39, 0)) | AF39: =IF(AI39="","",IF($X39="도비","-",CONCATENATE(AI39,"-",COUNTIF($AI$7:AI39,AI39)))) | AG39: =IF($H39="","",IF($H39="511-01","국비",IF($H39="511-02","균특",IF($H39="511-03","기금",IF($H39="311-02","특교",IF($H39="311-04","소교",IF($H39="321-01","소멸","도비"))))))) | AI39: {=IF(OR(D39="", B39="직접입력", C39="직접입력"),"",INDEX(구분표!$I$2:$I$336, MATCH(1,(구분표!$G$2:$G$336='4. 특입'!B39)*(구분표!$E$2:$E$336='4. 특입'!C39)*(구분표!$F$2:$F$336='4. 특입'!D39),0)))} | AK39: =IF($AF39="","",IF($AF39="-",0, SUMIFS('4. 특출'!$AB$6:$AB$2000,'4. 특출'!$AJ$6:$AJ$2000,$AF39))) | AL39: =IF($AF39="","",IF($AF39="-", 0, COUNTIF('4. 특출'!$AJ$6:$AJ$2000,$AF39))) | AM39: =IF($AF39="", "", IF($Z39=$AK39,"OK","@@")) | AO39: =IF($AF39="","",IF($AF39="-",0, SUMIFS('4. 특출'!$AF$6:$AF$2000,'4. 특출'!$AJ$6:$AJ$2000,$AF39))) | AP39: =IF($AF39="","",IF($AF39="-", 0, COUNTIF('4. 특출'!$AJ$6:$AJ$2000,$AF39))) | AQ39: =IF($AF39="", "", IF($AC39=$AO39,"OK","@@"))
A40: =IF(D40="","",COUNTA($C$7:C40)-COUNTBLANK($C$7:C40)+7) | B40: =IF(D40="","",IF(OR(C40="직접입력",D40="북부지원"),"직접입력",IF(OR(AND(D40="인사과",C40="의회사무처"),AND(D40="총무과",C40="의회사무처")),"의회운영위원회",IF(OR(C40="직접입력",D40="북부지원"),"직접입력",IF(OR(AND(D40="인사과",C40="자치행정국"),AND(D40="총무과",C40="자치행정국")),"안전행정위원회",VLOOKUP(D40,구분표!$A$3:$C$258,2,)))))) | C40: =IF(D40="","",IF(OR(D40="교육지원과"),"소방재난본부",VLOOKUP(D40,구분표!$A$3:$C$258,3,))) | F40: =IF($E40="","",IF($E40="2추","직접입력","-")) | G40: =IF($E40="","",IF($E40="2추","직접입력","-")) | I40: =IF(H40="","",VLOOKUP($H40,구분표!$O$3:$P$168,2,FALSE)) | K40: =IF($E40="","",IF(OR($E40="2추", $E40="1추", $E40="본예산"), "금액입력", "-")) | L40: =IF($E40="", "", IF($E40="2추","금액입력", "-")) | M40: =IF($E40="","",SUM(K40:L40)) | O40: =SUM(M40:N40) -> 0 | Q40: =SUM(M40,P40) -> 0 | R40: =IF(AND((O40=0),(Q40>0)),"O",IF(AND((N40<0),(O40-Q40<0)),"O","X")) -> X | X40: =IF($H40="","",IF(OR($H40="511-01", $H40="511-02", $H40="511-03", $H40="311-02", $H40="311-04", $H40="321-01"),"국비","도비")) | Z40: =IF($X40="", "", IF($X40="국비",$N40, 0)) | AA40: =IF($X40="", "", IF($X40="도비",$N40, 0)) | AC40: =IF($X40="", "", IF($X40="국비",$P40, 0)) | AD40: =IF($X40="", "", IF($X40="도비",$P40, 0)) | AF40: =IF(AI40="","",IF($X40="도비","-",CONCATENATE(AI40,"-",COUNTIF($AI$7:AI40,AI40)))) | AG40: =IF($H40="","",IF($H40="511-01","국비",IF($H40="511-02","균특",IF($H40="511-03","기금",IF($H40="311-02","특교",IF($H40="311-04","소교",IF($H40="321-01","소멸","도비"))))))) | AI40: {=IF(OR(D40="", B40="직접입력", C40="직접입력"),"",INDEX(구분표!$I$2:$I$336, MATCH(1,(구분표!$G$2:$G$336='4. 특입'!B40)*(구분표!$E$2:$E$336='4. 특입'!C40)*(구분표!$F$2:$F$336='4. 특입'!D40),0)))} | AK40: =IF($AF40="","",IF($AF40="-",0, SUMIFS('4. 특출'!$AB$6:$AB$2000,'4. 특출'!$AJ$6:$AJ$2000,$AF40))) | AL40: =IF($AF40="","",IF($AF40="-", 0, COUNTIF('4. 특출'!$AJ$6:$AJ$2000,$AF40))) | AM40: =IF($AF40="", "", IF($Z40=$AK40,"OK","@@")) | AO40: =IF($AF40="","",IF($AF40="-",0, SUMIFS('4. 특출'!$AF$6:$AF$2000,'4. 특출'!$AJ$6:$AJ$2000,$AF40))) | AP40: =IF($AF40="","",IF($AF40="-", 0, COUNTIF('4. 특출'!$AJ$6:$AJ$2000,$AF40))) | AQ40: =IF($AF40="", "", IF($AC40=$AO40,"OK","@@"))
