Workbook

Sheet 1. 표지 (상임위)
U2: (단위 : 천원) | Z2: (단위 : 천원)
A4: 2026년도 경기도 제2회 추가경정예산안 및 기금운용계획 변경안
A5: 상임위 계수조정 결과
A15: 경기도의회 예산결산특별위원회

Sheet 1. 총괄표(상임위)
A2: 총괄 현황
A4: □ 위원회별 조정현황
I5: (단위 : 천원)
A6: 구 분 | B6: 집행부제출(안) | C6: 세입예산(안) | F6: 세출예산(안) | I6: 수정예산(안) | K6: ※ 예산안 증감현황
C7: 감 액 | D7: 증 액 | E7: 증감액 | F7: 감 액 | G7: 증 액 | H7: 증감액 | K7: 구 분 | L7: 세입 | M7: 세출 | N7: 예비비 | O7: 비고
A8: 계 | B8: =SUM(B9:B19) -> 42242001864 | C8: =SUM(C9:C19) -> -2156025 | D8: =SUM(D9:D19) -> 84100 | E8: =SUM(E9:E19) -> -2071925 | F8: =SUM(F9:F19) -> -13056490 | G8: =SUM(G9:G19) -> 14715391 | H8: =SUM(H9:H19) -> 1658901 | I8: =SUM(I9:I19) -> 42243660765 | K8: 계 | L8: =SUM(L9:L10) -> -2071925 | M8: =SUM(M9:M10) -> 1658901 | N8: =L8-M8 -> -3730826
A9: 의회운영위원회 | B9: =B33 -> 129702008 | C9: =SUMIFS('3. 일입'!$N$7:$N$2000,'3. 일입'!$B$7:$B$2000,$A9,'3. 일입'!$N$7:$N$2000,"<"&0)+SUMIFS('4. 특입'!$N$6:$N$1994,'4. 특입'!$B$6:$B$1994,$A9,'4. 특입'!$N$6:$N$1994,"<"&0)+SUMIFS('4-1. 공특입'!$O$6:$O$1992,'4-1. 공특입'!$B$6:$B$1992,$A9,'4-1. 공특입'!$O$6:$O$1992,"<"&0) -> 0 | D9: =SUMIFS('3. 일입'!$N$7:$N$2000,'3. 일입'!$B$7:$B$2000,$A9,'3. 일입'!$N$7:$N$2000,">"&0)+SUMIFS('4. 특입'!$N$6:$N$1994,'4. 특입'!$B$6:$B$1994,$A9,'4. 특입'!$N$6:$N$1994,">"&0)+SUMIFS('4-1. 공특입'!$O$6:$O$1992,'4-1. 공특입'!$B$6:$B$1992,$A9,'4-1. 공특입'!$O$6:$O$1992,">"&0) -> 0 | E9: =C9+D9 -> 0 | F9: =SUMIFS('3. 일출(자체)'!$P$6:$P$1989,'3. 일출(자체)'!$B$6:$B$1989,$A9,'3. 일출(자체)'!$P$6:$P$1989,"<"&0)+SUMIFS('3. 일출(의존)'!$P$6:P$1989,'3. 일출(의존)'!$B$6:$B$1989,$A9,'3. 일출(의존)'!$P$6:$P$1989,"<"&0)+SUMIFS('4. 특출'!$P$5:$P$1991,'4. 특출'!$B$5:$B$1991,$A9,'4. 특출'!$P$5:$P$1991,"<"&0)+SUMIFS('4-1. 공특출'!$P$5:$P$1992,'4-1. 공특출'!$B$5:$B$1992,$A9,'4-1. 공특출'!$P$5:$P$1992,"<"&0) -> 0 | G9: =SUMIFS('3. 일출(자체)'!$P$6:$P$1989,'3. 일출(자체)'!$B$6:$B$1989,$A9,'3. 일출(자체)'!$P$6:$P$1989,">"&0)+SUMIFS('3. 일출(의존)'!$P$6:$P$1989,'3. 일출(의존)'!$B$6:$B$1989,$A9,'3. 일출(의존)'!$P$6:$P$1989,">"&0)+SUMIFS('4. 특출'!$P$5:$P$1991,'4. 특출'!$B$5:$B$1991,$A9,'4. 특출'!$P$5:$P$1991,">"&0)+SUMIFS('4-1. 공특출'!$P$5:$P$1992,'4-1. 공특출'!$B$5:$B$1992,$A9,'4-1. 공특출'!$P$5:$P$1992,">"&0) -> 0 | H9: =G9+F9 -> 0 | I9: =B9+F9+G9 -> 129702008 | K9: 일반회계 | L9: =SUM(C26:D26) -> -402425 | M9: =SUM(F26:G26) -> 10128401 | N9: =L9-M9 -> -10530826 | O9: 예비비 증감 - 감액, + 증액에 입력
A10: 기획재정위원회 | B10: =B34 -> 5932148107 | C10: =SUMIFS('3. 일입'!$N$7:$N$2000,'3. 일입'!$B$7:$B$2000,$A10,'3. 일입'!$N$7:$N$2000,"<"&0)+SUMIFS('4. 특입'!$N$6:$N$1994,'4. 특입'!$B$6:$B$1994,$A10,'4. 특입'!$N$6:$N$1994,"<"&0)+SUMIFS('4-1. 공특입'!$O$6:$O$1992,'4-1. 공특입'!$B$6:$B$1992,$A10,'4-1. 공특입'!$O$6:$O$1992,"<"&0) -> 0 | D10: =SUMIFS('3. 일입'!$N$7:$N$2000,'3. 일입'!$B$7:$B$2000,$A10,'3. 일입'!$N$7:$N$2000,">"&0)+SUMIFS('4. 특입'!$N$6:$N$1994,'4. 특입'!$B$6:$B$1994,$A10,'4. 특입'!$N$6:$N$1994,">"&0)+SUMIFS('4-1. 공특입'!$O$6:$O$1992,'4-1. 공특입'!$B$6:$B$1992,$A10,'4-1. 공특입'!$O$6:$O$1992,">"&0) -> 0 | E10: =C10+D10 -> 0 | F10: =SUMIFS('3. 일출(자체)'!$P$6:$P$1989,'3. 일출(자체)'!$B$6:$B$1989,$A10,'3. 일출(자체)'!$P$6:$P$1989,"<"&0)+SUMIFS('3. 일출(의존)'!$P$6:P$1989,'3. 일출(의존)'!$B$6:$B$1989,$A10,'3. 일출(의존)'!$P$6:$P$1989,"<"&0)+SUMIFS('4. 특출'!$P$5:$P$1991,'4. 특출'!$B$5:$B$1991,$A10,'4. 특출'!$P$5:$P$1991,"<"&0)+SUMIFS('4-1. 공특출'!$P$5:$P$1992,'4-1. 공특출'!$B$5:$B$1992,$A10,'4-1. 공특출'!$P$5:$P$1992,"<"&0) -> 0 | G10: =SUMIFS('3. 일출(자체)'!$P$6:$P$1989,'3. 일출(자체)'!$B$6:$B$1989,$A10,'3. 일출(자체)'!$P$6:$P$1989,">"&0)+SUMIFS('3. 일출(의존)'!$P$6:$P$1989,'3. 일출(의존)'!$B$6:$B$1989,$A10,'3. 일출(의존)'!$P$6:$P$1989,">"&0)+SUMIFS('4. 특출'!$P$5:$P$1991,'4. 특출'!$B$5:$B$1991,$A10,'4. 특출'!$P$5:$P$1991,">"&0)+SUMIFS('4-1. 공특출'!$P$5:$P$1992,'4-1. 공특출'!$B$5:$B$1992,$A10,'4-1. 공특출'!$P$5:$P$1992,">"&0) -> 0 | H10: =G10+F10 -> 0 | I10: =B10+F10+G10 -> 5932148107 | K10: 특별회계 | L10: =SUM(C27:D27) -> -1669500 | M10: =SUM(F27:G27) -> -8469500 | N10: =L10-M10 -> 6800000
A11: 경제노동위원회 | B11: =B35 -> 474872242 | C11: =SUMIFS('3. 일입'!$N$7:$N$2000,'3. 일입'!$B$7:$B$2000,$A11,'3. 일입'!$N$7:$N$2000,"<"&0)+SUMIFS('4. 특입'!$N$6:$N$1994,'4. 특입'!$B$6:$B$1994,$A11,'4. 특입'!$N$6:$N$1994,"<"&0)+SUMIFS('4-1. 공특입'!$O$6:$O$1992,'4-1. 공특입'!$B$6:$B$1992,$A11,'4-1. 공특입'!$O$6:$O$1992,"<"&0) -> 0 | D11: =SUMIFS('3. 일입'!$N$7:$N$2000,'3. 일입'!$B$7:$B$2000,$A11,'3. 일입'!$N$7:$N$2000,">"&0)+SUMIFS('4. 특입'!$N$6:$N$1994,'4. 특입'!$B$6:$B$1994,$A11,'4. 특입'!$N$6:$N$1994,">"&0)+SUMIFS('4-1. 공특입'!$O$6:$O$1992,'4-1. 공특입'!$B$6:$B$1992,$A11,'4-1. 공특입'!$O$6:$O$1992,">"&0) -> 0 | E11: =C11+D11 -> 0 | F11: =SUMIFS('3. 일출(자체)'!$P$6:$P$1989,'3. 일출(자체)'!$B$6:$B$1989,$A11,'3. 일출(자체)'!$P$6:$P$1989,"<"&0)+SUMIFS('3. 일출(의존)'!$P$6:P$1989,'3. 일출(의존)'!$B$6:$B$1989,$A11,'3. 일출(의존)'!$P$6:$P$1989,"<"&0)+SUMIFS('4. 특출'!$P$5:$P$1991,'4. 특출'!$B$5:$B$1991,$A11,'4. 특출'!$P$5:$P$1991,"<"&0)+SUMIFS('4-1. 공특출'!$P$5:$P$1992,'4-1. 공특출'!$B$5:$B$1992,$A11,'4-1. 공특출'!$P$5:$P$1992,"<"&0) -> 0 | G11: =SUMIFS('3. 일출(자체)'!$P$6:$P$1989,'3. 일출(자체)'!$B$6:$B$1989,$A11,'3. 일출(자체)'!$P$6:$P$1989,">"&0)+SUMIFS('3. 일출(의존)'!$P$6:$P$1989,'3. 일출(의존)'!$B$6:$B$1989,$A11,'3. 일출(의존)'!$P$6:$P$1989,">"&0)+SUMIFS('4. 특출'!$P$5:$P$1991,'4. 특출'!$B$5:$B$1991,$A11,'4. 특출'!$P$5:$P$1991,">"&0)+SUMIFS('4-1. 공특출'!$P$5:$P$1992,'4-1. 공특출'!$B$5:$B$1992,$A11,'4-1. 공특출'!$P$5:$P$1992,">"&0) -> 0 | H11: =G11+F11 -> 0 | I11: =B11+F11+G11 -> 474872242 | O11: (예비비 계수 조정용)
A12: 안전행정위원회 | B12: =B36 -> 4269846310 | C12: =SUMIFS('3. 일입'!$N$7:$N$2000,'3. 일입'!$B$7:$B$2000,$A12,'3. 일입'!$N$7:$N$2000,"<"&0)+SUMIFS('4. 특입'!$N$6:$N$1994,'4. 특입'!$B$6:$B$1994,$A12,'4. 특입'!$N$6:$N$1994,"<"&0)+SUMIFS('4-1. 공특입'!$O$6:$O$1992,'4-1. 공특입'!$B$6:$B$1992,$A12,'4-1. 공특입'!$O$6:$O$1992,"<"&0) -> 0 | D12: =SUMIFS('3. 일입'!$N$7:$N$2000,'3. 일입'!$B$7:$B$2000,$A12,'3. 일입'!$N$7:$N$2000,">"&0)+SUMIFS('4. 특입'!$N$6:$N$1994,'4. 특입'!$B$6:$B$1994,$A12,'4. 특입'!$N$6:$N$1994,">"&0)+SUMIFS('4-1. 공특입'!$O$6:$O$1992,'4-1. 공특입'!$B$6:$B$1992,$A12,'4-1. 공특입'!$O$6:$O$1992,">"&0) -> 0 | E12: =C12+D12 -> 0 | F12: =SUMIFS('3. 일출(자체)'!$P$6:$P$1989,'3. 일출(자체)'!$B$6:$B$1989,$A12,'3. 일출(자체)'!$P$6:$P$1989,"<"&0)+SUMIFS('3. 일출(의존)'!$P$6:P$1989,'3. 일출(의존)'!$B$6:$B$1989,$A12,'3. 일출(의존)'!$P$6:$P$1989,"<"&0)+SUMIFS('4. 특출'!$P$5:$P$1991,'4. 특출'!$B$5:$B$1991,$A12,'4. 특출'!$P$5:$P$1991,"<"&0)+SUMIFS('4-1. 공특출'!$P$5:$P$1992,'4-1. 공특출'!$B$5:$B$1992,$A12,'4-1. 공특출'!$P$5:$P$1992,"<"&0) -> 0 | G12: =SUMIFS('3. 일출(자체)'!$P$6:$P$1989,'3. 일출(자체)'!$B$6:$B$1989,$A12,'3. 일출(자체)'!$P$6:$P$1989,">"&0)+SUMIFS('3. 일출(의존)'!$P$6:$P$1989,'3. 일출(의존)'!$B$6:$B$1989,$A12,'3. 일출(의존)'!$P$6:$P$1989,">"&0)+SUMIFS('4. 특출'!$P$5:$P$1991,'4. 특출'!$B$5:$B$1991,$A12,'4. 특출'!$P$5:$P$1991,">"&0)+SUMIFS('4-1. 공특출'!$P$5:$P$1992,'4-1. 공특출'!$B$5:$B$1992,$A12,'4-1. 공특출'!$P$5:$P$1992,">"&0) -> 0 | H12: =G12+F12 -> 0 | I12: =B12+F12+G12 -> 4269846310
A13: 문화체육관광위원회 | B13: =B37 -> 554871567 | C13: =SUMIFS('3. 일입'!$N$7:$N$2000,'3. 일입'!$B$7:$B$2000,$A13,'3. 일입'!$N$7:$N$2000,"<"&0)+SUMIFS('4. 특입'!$N$6:$N$1994,'4. 특입'!$B$6:$B$1994,$A13,'4. 특입'!$N$6:$N$1994,"<"&0)+SUMIFS('4-1. 공특입'!$O$6:$O$1992,'4-1. 공특입'!$B$6:$B$1992,$A13,'4-1. 공특입'!$O$6:$O$1992,"<"&0) -> 0 | D13: =SUMIFS('3. 일입'!$N$7:$N$2000,'3. 일입'!$B$7:$B$2000,$A13,'3. 일입'!$N$7:$N$2000,">"&0)+SUMIFS('4. 특입'!$N$6:$N$1994,'4. 특입'!$B$6:$B$1994,$A13,'4. 특입'!$N$6:$N$1994,">"&0)+SUMIFS('4-1. 공특입'!$O$6:$O$1992,'4-1. 공특입'!$B$6:$B$1992,$A13,'4-1. 공특입'!$O$6:$O$1992,">"&0) -> 0 | E13: =C13+D13 -> 0 | F13: =SUMIFS('3. 일출(자체)'!$P$6:$P$1989,'3. 일출(자체)'!$B$6:$B$1989,$A13,'3. 일출(자체)'!$P$6:$P$1989,"<"&0)+SUMIFS('3. 일출(의존)'!$P$6:P$1989,'3. 일출(의존)'!$B$6:$B$1989,$A13,'3. 일출(의존)'!$P$6:$P$1989,"<"&0)+SUMIFS('4. 특출'!$P$5:$P$1991,'4. 특출'!$B$5:$B$1991,$A13,'4. 특출'!$P$5:$P$1991,"<"&0)+SUMIFS('4-1. 공특출'!$P$5:$P$1992,'4-1. 공특출'!$B$5:$B$1992,$A13,'4-1. 공특출'!$P$5:$P$1992,"<"&0) -> 0 | G13: =SUMIFS('3. 일출(자체)'!$P$6:$P$1989,'3. 일출(자체)'!$B$6:$B$1989,$A13,'3. 일출(자체)'!$P$6:$P$1989,">"&0)+SUMIFS('3. 일출(의존)'!$P$6:$P$1989,'3. 일출(의존)'!$B$6:$B$1989,$A13,'3. 일출(의존)'!$P$6:$P$1989,">"&0)+SUMIFS('4. 특출'!$P$5:$P$1991,'4. 특출'!$B$5:$B$1991,$A13,'4. 특출'!$P$5:$P$1991,">"&0)+SUMIFS('4-1. 공특출'!$P$5:$P$1992,'4-1. 공특출'!$B$5:$B$1992,$A13,'4-1. 공특출'!$P$5:$P$1992,">"&0) -> 0 | H13: =G13+F13 -> 0 | I13: =B13+F13+G13 -> 554871567
A14: 농정해양위원회 | B14: =B38 -> 1195877261 | C14: =SUMIFS('3. 일입'!$N$7:$N$2000,'3. 일입'!$B$7:$B$2000,$A14,'3. 일입'!$N$7:$N$2000,"<"&0)+SUMIFS('4. 특입'!$N$6:$N$1994,'4. 특입'!$B$6:$B$1994,$A14,'4. 특입'!$N$6:$N$1994,"<"&0)+SUMIFS('4-1. 공특입'!$O$6:$O$1992,'4-1. 공특입'!$B$6:$B$1992,$A14,'4-1. 공특입'!$O$6:$O$1992,"<"&0) -> 0 | D14: =SUMIFS('3. 일입'!$N$7:$N$2000,'3. 일입'!$B$7:$B$2000,$A14,'3. 일입'!$N$7:$N$2000,">"&0)+SUMIFS('4. 특입'!$N$6:$N$1994,'4. 특입'!$B$6:$B$1994,$A14,'4. 특입'!$N$6:$N$1994,">"&0)+SUMIFS('4-1. 공특입'!$O$6:$O$1992,'4-1. 공특입'!$B$6:$B$1992,$A14,'4-1. 공특입'!$O$6:$O$1992,">"&0) -> 0 | E14: =C14+D14 -> 0 | F14: =SUMIFS('3. 일출(자체)'!$P$6:$P$1989,'3. 일출(자체)'!$B$6:$B$1989,$A14,'3. 일출(자체)'!$P$6:$P$1989,"<"&0)+SUMIFS('3. 일출(의존)'!$P$6:P$1989,'3. 일출(의존)'!$B$6:$B$1989,$A14,'3. 일출(의존)'!$P$6:$P$1989,"<"&0)+SUMIFS('4. 특출'!$P$5:$P$1991,'4. 특출'!$B$5:$B$1991,$A14,'4. 특출'!$P$5:$P$1991,"<"&0)+SUMIFS('4-1. 공특출'!$P$5:$P$1992,'4-1. 공특출'!$B$5:$B$1992,$A14,'4-1. 공특출'!$P$5:$P$1992,"<"&0) -> 0 | G14: =SUMIFS('3. 일출(자체)'!$P$6:$P$1989,'3. 일출(자체)'!$B$6:$B$1989,$A14,'3. 일출(자체)'!$P$6:$P$1989,">"&0)+SUMIFS('3. 일출(의존)'!$P$6:$P$1989,'3. 일출(의존)'!$B$6:$B$1989,$A14,'3. 일출(의존)'!$P$6:$P$1989,">"&0)+SUMIFS('4. 특출'!$P$5:$P$1991,'4. 특출'!$B$5:$B$1991,$A14,'4. 특출'!$P$5:$P$1991,">"&0)+SUMIFS('4-1. 공특출'!$P$5:$P$1992,'4-1. 공특출'!$B$5:$B$1992,$A14,'4-1. 공특출'!$P$5:$P$1992,">"&0) -> 0 | H14: =G14+F14 -> 0 | I14: =B14+F14+G14 -> 1195877261
A15: 보건복지위원회 | B15: =B39 -> 14042559485 | C15: =SUMIFS('3. 일입'!$N$7:$N$2000,'3. 일입'!$B$7:$B$2000,$A15,'3. 일입'!$N$7:$N$2000,"<"&0)+SUMIFS('4. 특입'!$N$6:$N$1994,'4. 특입'!$B$6:$B$1994,$A15,'4. 특입'!$N$6:$N$1994,"<"&0)+SUMIFS('4-1. 공특입'!$O$6:$O$1992,'4-1. 공특입'!$B$6:$B$1992,$A15,'4-1. 공특입'!$O$6:$O$1992,"<"&0) -> 0 | D15: =SUMIFS('3. 일입'!$N$7:$N$2000,'3. 일입'!$B$7:$B$2000,$A15,'3. 일입'!$N$7:$N$2000,">"&0)+SUMIFS('4. 특입'!$N$6:$N$1994,'4. 특입'!$B$6:$B$1994,$A15,'4. 특입'!$N$6:$N$1994,">"&0)+SUMIFS('4-1. 공특입'!$O$6:$O$1992,'4-1. 공특입'!$B$6:$B$1992,$A15,'4-1. 공특입'!$O$6:$O$1992,">"&0) -> 0 | E15: =C15+D15 -> 0 | F15: =SUMIFS('3. 일출(자체)'!$P$6:$P$1989,'3. 일출(자체)'!$B$6:$B$1989,$A15,'3. 일출(자체)'!$P$6:$P$1989,"<"&0)+SUMIFS('3. 일출(의존)'!$P$6:P$1989,'3. 일출(의존)'!$B$6:$B$1989,$A15,'3. 일출(의존)'!$P$6:$P$1989,"<"&0)+SUMIFS('4. 특출'!$P$5:$P$1991,'4. 특출'!$B$5:$B$1991,$A15,'4. 특출'!$P$5:$P$1991,"<"&0)+SUMIFS('4-1. 공특출'!$P$5:$P$1992,'4-1. 공특출'!$B$5:$B$1992,$A15,'4-1. 공특출'!$P$5:$P$1992,"<"&0) -> 0 | G15: =SUMIFS('3. 일출(자체)'!$P$6:$P$1989,'3. 일출(자체)'!$B$6:$B$1989,$A15,'3. 일출(자체)'!$P$6:$P$1989,">"&0)+SUMIFS('3. 일출(의존)'!$P$6:$P$1989,'3. 일출(의존)'!$B$6:$B$1989,$A15,'3. 일출(의존)'!$P$6:$P$1989,">"&0)+SUMIFS('4. 특출'!$P$5:$P$1991,'4. 특출'!$B$5:$B$1991,$A15,'4. 특출'!$P$5:$P$1991,">"&0)+SUMIFS('4-1. 공특출'!$P$5:$P$1992,'4-1. 공특출'!$B$5:$B$1992,$A15,'4-1. 공특출'!$P$5:$P$1992,">"&0) -> 0 | H15: =G15+F15 -> 0 | I15: =B15+F15+G15 -> 14042559485
A16: 건설교통위원회 | B16: =B40 -> 3029412433 | C16: =SUMIFS('3. 일입'!$N$7:$N$2000,'3. 일입'!$B$7:$B$2000,$A16,'3. 일입'!$N$7:$N$2000,"<"&0)+SUMIFS('4. 특입'!$N$6:$N$1994,'4. 특입'!$B$6:$B$1994,$A16,'4. 특입'!$N$6:$N$1994,"<"&0)+SUMIFS('4-1. 공특입'!$O$6:$O$1992,'4-1. 공특입'!$B$6:$B$1992,$A16,'4-1. 공특입'!$O$6:$O$1992,"<"&0) -> 0 | D16: =SUMIFS('3. 일입'!$N$7:$N$2000,'3. 일입'!$B$7:$B$2000,$A16,'3. 일입'!$N$7:$N$2000,">"&0)+SUMIFS('4. 특입'!$N$6:$N$1994,'4. 특입'!$B$6:$B$1994,$A16,'4. 특입'!$N$6:$N$1994,">"&0)+SUMIFS('4-1. 공특입'!$O$6:$O$1992,'4-1. 공특입'!$B$6:$B$1992,$A16,'4-1. 공특입'!$O$6:$O$1992,">"&0) -> 0 | E16: =C16+D16 -> 0 | F16: =SUMIFS('3. 일출(자체)'!$P$6:$P$1989,'3. 일출(자체)'!$B$6:$B$1989,$A16,'3. 일출(자체)'!$P$6:$P$1989,"<"&0)+SUMIFS('3. 일출(의존)'!$P$6:P$1989,'3. 일출(의존)'!$B$6:$B$1989,$A16,'3. 일출(의존)'!$P$6:$P$1989,"<"&0)+SUMIFS('4. 특출'!$P$5:$P$1991,'4. 특출'!$B$5:$B$1991,$A16,'4. 특출'!$P$5:$P$1991,"<"&0)+SUMIFS('4-1. 공특출'!$P$5:$P$1992,'4-1. 공특출'!$B$5:$B$1992,$A16,'4-1. 공특출'!$P$5:$P$1992,"<"&0) -> 0 | G16: =SUMIFS('3. 일출(자체)'!$P$6:$P$1989,'3. 일출(자체)'!$B$6:$B$1989,$A16,'3. 일출(자체)'!$P$6:$P$1989,">"&0)+SUMIFS('3. 일출(의존)'!$P$6:$P$1989,'3. 일출(의존)'!$B$6:$B$1989,$A16,'3. 일출(의존)'!$P$6:$P$1989,">"&0)+SUMIFS('4. 특출'!$P$5:$P$1991,'4. 특출'!$B$5:$B$1991,$A16,'4. 특출'!$P$5:$P$1991,">"&0)+SUMIFS('4-1. 공특출'!$P$5:$P$1992,'4-1. 공특출'!$B$5:$B$1992,$A16,'4-1. 공특출'!$P$5:$P$1992,">"&0) -> 0 | H16: =G16+F16 -> 0 | I16: =B16+F16+G16 -> 3029412433
A17: 도시환경위원회 | B17: =B41 -> 2367511141 | C17: =SUMIFS('3. 일입'!$N$7:$N$2000,'3. 일입'!$B$7:$B$2000,$A17,'3. 일입'!$N$7:$N$2000,"<"&0)+SUMIFS('4. 특입'!$N$6:$N$1994,'4. 특입'!$B$6:$B$1994,$A17,'4. 특입'!$N$6:$N$1994,"<"&0)+SUMIFS('4-1. 공특입'!$O$6:$O$1992,'4-1. 공특입'!$B$6:$B$1992,$A17,'4-1. 공특입'!$O$6:$O$1992,"<"&0) -> -2156025 | D17: =SUMIFS('3. 일입'!$N$7:$N$2000,'3. 일입'!$B$7:$B$2000,$A17,'3. 일입'!$N$7:$N$2000,">"&0)+SUMIFS('4. 특입'!$N$6:$N$1994,'4. 특입'!$B$6:$B$1994,$A17,'4. 특입'!$N$6:$N$1994,">"&0)+SUMIFS('4-1. 공특입'!$O$6:$O$1992,'4-1. 공특입'!$B$6:$B$1992,$A17,'4-1. 공특입'!$O$6:$O$1992,">"&0) -> 84100 | E17: =C17+D17 -> -2071925 | F17: =SUMIFS('3. 일출(자체)'!$P$6:$P$1989,'3. 일출(자체)'!$B$6:$B$1989,$A17,'3. 일출(자체)'!$P$6:$P$1989,"<"&0)+SUMIFS('3. 일출(의존)'!$P$6:P$1989,'3. 일출(의존)'!$B$6:$B$1989,$A17,'3. 일출(의존)'!$P$6:$P$1989,"<"&0)+SUMIFS('4. 특출'!$P$5:$P$1991,'4. 특출'!$B$5:$B$1991,$A17,'4. 특출'!$P$5:$P$1991,"<"&0)+SUMIFS('4-1. 공특출'!$P$5:$P$1992,'4-1. 공특출'!$B$5:$B$1992,$A17,'4-1. 공특출'!$P$5:$P$1992,"<"&0) -> -13056490 | G17: =SUMIFS('3. 일출(자체)'!$P$6:$P$1989,'3. 일출(자체)'!$B$6:$B$1989,$A17,'3. 일출(자체)'!$P$6:$P$1989,">"&0)+SUMIFS('3. 일출(의존)'!$P$6:$P$1989,'3. 일출(의존)'!$B$6:$B$1989,$A17,'3. 일출(의존)'!$P$6:$P$1989,">"&0)+SUMIFS('4. 특출'!$P$5:$P$1991,'4. 특출'!$B$5:$B$1991,$A17,'4. 특출'!$P$5:$P$1991,">"&0)+SUMIFS('4-1. 공특출'!$P$5:$P$1992,'4-1. 공특출'!$B$5:$B$1992,$A17,'4-1. 공특출'!$P$5:$P$1992,">"&0) -> 14715391 | H17: =G17+F17 -> 1658901 | I17: =B17+F17+G17 -> 2369170042
A18: 미래과학협력위원회 | B18: =B42 -> 890727734 | C18: =SUMIFS('3. 일입'!$N$7:$N$2000,'3. 일입'!$B$7:$B$2000,$A18,'3. 일입'!$N$7:$N$2000,"<"&0)+SUMIFS('4. 특입'!$N$6:$N$1994,'4. 특입'!$B$6:$B$1994,$A18,'4. 특입'!$N$6:$N$1994,"<"&0)+SUMIFS('4-1. 공특입'!$O$6:$O$1992,'4-1. 공특입'!$B$6:$B$1992,$A18,'4-1. 공특입'!$O$6:$O$1992,"<"&0) -> 0 | D18: =SUMIFS('3. 일입'!$N$7:$N$2000,'3. 일입'!$B$7:$B$2000,$A18,'3. 일입'!$N$7:$N$2000,">"&0)+SUMIFS('4. 특입'!$N$6:$N$1994,'4. 특입'!$B$6:$B$1994,$A18,'4. 특입'!$N$6:$N$1994,">"&0)+SUMIFS('4-1. 공특입'!$O$6:$O$1992,'4-1. 공특입'!$B$6:$B$1992,$A18,'4-1. 공특입'!$O$6:$O$1992,">"&0) -> 0 | E18: =C18+D18 -> 0 | F18: =SUMIFS('3. 일출(자체)'!$P$6:$P$1989,'3. 일출(자체)'!$B$6:$B$1989,$A18,'3. 일출(자체)'!$P$6:$P$1989,"<"&0)+SUMIFS('3. 일출(의존)'!$P$6:P$1989,'3. 일출(의존)'!$B$6:$B$1989,$A18,'3. 일출(의존)'!$P$6:$P$1989,"<"&0)+SUMIFS('4. 특출'!$P$5:$P$1991,'4. 특출'!$B$5:$B$1991,$A18,'4. 특출'!$P$5:$P$1991,"<"&0)+SUMIFS('4-1. 공특출'!$P$5:$P$1992,'4-1. 공특출'!$B$5:$B$1992,$A18,'4-1. 공특출'!$P$5:$P$1992,"<"&0) -> 0 | G18: =SUMIFS('3. 일출(자체)'!$P$6:$P$1989,'3. 일출(자체)'!$B$6:$B$1989,$A18,'3. 일출(자체)'!$P$6:$P$1989,">"&0)+SUMIFS('3. 일출(의존)'!$P$6:$P$1989,'3. 일출(의존)'!$B$6:$B$1989,$A18,'3. 일출(의존)'!$P$6:$P$1989,">"&0)+SUMIFS('4. 특출'!$P$5:$P$1991,'4. 특출'!$B$5:$B$1991,$A18,'4. 특출'!$P$5:$P$1991,">"&0)+SUMIFS('4-1. 공특출'!$P$5:$P$1992,'4-1. 공특출'!$B$5:$B$1992,$A18,'4-1. 공특출'!$P$5:$P$1992,">"&0) -> 0 | H18: =G18+F18 -> 0 | I18: =B18+F18+G18 -> 890727734
A19: 여성가족평생교육위원회 | B19: =B43 -> 9354473576 | C19: =SUMIFS('3. 일입'!$N$7:$N$2000,'3. 일입'!$B$7:$B$2000,$A19,'3. 일입'!$N$7:$N$2000,"<"&0)+SUMIFS('4. 특입'!$N$6:$N$1994,'4. 특입'!$B$6:$B$1994,$A19,'4. 특입'!$N$6:$N$1994,"<"&0)+SUMIFS('4-1. 공특입'!$O$6:$O$1992,'4-1. 공특입'!$B$6:$B$1992,$A19,'4-1. 공특입'!$O$6:$O$1992,"<"&0) -> 0 | D19: =SUMIFS('3. 일입'!$N$7:$N$2000,'3. 일입'!$B$7:$B$2000,$A19,'3. 일입'!$N$7:$N$2000,">"&0)+SUMIFS('4. 특입'!$N$6:$N$1994,'4. 특입'!$B$6:$B$1994,$A19,'4. 특입'!$N$6:$N$1994,">"&0)+SUMIFS('4-1. 공특입'!$O$6:$O$1992,'4-1. 공특입'!$B$6:$B$1992,$A19,'4-1. 공특입'!$O$6:$O$1992,">"&0) -> 0 | E19: =C19+D19 -> 0 | F19: =SUMIFS('3. 일출(자체)'!$P$6:$P$1989,'3. 일출(자체)'!$B$6:$B$1989,$A19,'3. 일출(자체)'!$P$6:$P$1989,"<"&0)+SUMIFS('3. 일출(의존)'!$P$6:P$1989,'3. 일출(의존)'!$B$6:$B$1989,$A19,'3. 일출(의존)'!$P$6:$P$1989,"<"&0)+SUMIFS('4. 특출'!$P$5:$P$1991,'4. 특출'!$B$5:$B$1991,$A19,'4. 특출'!$P$5:$P$1991,"<"&0)+SUMIFS('4-1. 공특출'!$P$5:$P$1992,'4-1. 공특출'!$B$5:$B$1992,$A19,'4-1. 공특출'!$P$5:$P$1992,"<"&0) -> 0 | G19: =SUMIFS('3. 일출(자체)'!$P$6:$P$1989,'3. 일출(자체)'!$B$6:$B$1989,$A19,'3. 일출(자체)'!$P$6:$P$1989,">"&0)+SUMIFS('3. 일출(의존)'!$P$6:$P$1989,'3. 일출(의존)'!$B$6:$B$1989,$A19,'3. 일출(의존)'!$P$6:$P$1989,">"&0)+SUMIFS('4. 특출'!$P$5:$P$1991,'4. 특출'!$B$5:$B$1991,$A19,'4. 특출'!$P$5:$P$1991,">"&0)+SUMIFS('4-1. 공특출'!$P$5:$P$1992,'4-1. 공특출'!$B$5:$B$1992,$A19,'4-1. 공특출'!$P$5:$P$1992,">"&0) -> 0 | H19: =G19+F19 -> 0 | I19: =B19+F19+G19 -> 9354473576
A21: □ 회계별 조정현황
I22: (단위 : 천원)
A23: 구 분 | B23: 집행부제출(안) | C23: 세입예산(안) | F23: 세출예산(안) | I23: 수정예산(안)
C24: 감 액 | D24: 증 액 | E24: 증감액 | F24: 감 액 | G24: 증 액 | H24: 증감액
A25: 계 | B25: =SUM(B26:B27) -> 42242001864 | C25: =SUM(C26:C27) -> -2156025 | D25: =SUM(D26:D27) -> 84100 | E25: =SUM(E26:E27) -> -2071925 | F25: =SUM(F26:F27) -> -13056490 | G25: =SUM(G26:G27) -> 14715391 | H25: =SUM(H26:H27) -> 1658901 | I25: =SUM(I26:I27) -> 42243660765
A26: 일반회계 | B26: =D32 -> 37646557814 | C26: =SUMIFS('3. 일입'!$N$7:$N$2000,'3. 일입'!$D$7:$D$2000,"<>"&"",'3. 일입'!$N$7:$N$2000,"<"&0) -> -486525 | D26: =SUMIFS('3. 일입'!$N$7:$N$2000,'3. 일입'!$D$7:$D$2000,"<>"&"",'3. 일입'!$N$7:$N$2000,">"&0) -> 84100 | E26: =D26+C26 -> -402425 | F26: =SUMIFS('3. 일출(자체)'!$P$6:$P$1989,'3. 일출(자체)'!$D$6:$D$1989,"<>"&"",'3. 일출(자체)'!$P$6:$P$1989,"<"&0)+SUMIFS('3. 일출(의존)'!$P$6:$P$1989,'3. 일출(의존)'!$D$6:$D$1989,"<>"&"",'3. 일출(의존)'!$P$6:$P$1989,"<"&0) -> -987500 | G26: =SUMIFS('3. 일출(자체)'!$P$6:$P$1989,'3. 일출(자체)'!$D$6:$D$1989,"<>"&"",'3. 일출(자체)'!$P$6:$P$1989,">"&0)+SUMIFS('3. 일출(의존)'!$P$6:$P$1989,'3. 일출(의존)'!$D$6:$D$1989,"<>"&"",'3. 일출(의존)'!$P$6:$P$1989,">"&0) -> 11115901 | H26: =G26+F26 -> 10128401 | I26: =B26+F26+G26 -> 37656686215
A27: 특별회계 | B27: =E32+F32 -> 4595444050 | C27: =SUMIFS('4. 특입'!$N$6:$N$1000,'4. 특입'!$D$6:$D$1000,"<>"&"",'4. 특입'!$N$6:$N$1000,"<"&0)+SUMIFS('4-1. 공특입'!$O$6:$O$998,'4-1. 공특입'!$D$6:$D$998,"<>"&"",'4-1. 공특입'!$O$6:$O$998,"<"&0) -> -1669500 | D27: =SUMIFS('4. 특입'!$N$6:$N$1000,'4. 특입'!$D$6:$D$1000,"<>"&"",'4. 특입'!$N$6:$N$1000,">"&0)+SUMIFS('4-1. 공특입'!$O$6:$O$998,'4-1. 공특입'!$D$6:$D$998,"<>"&"",'4-1. 공특입'!$O$6:$O$998,">"&0) -> 0 | E27: =D27+C27 -> -1669500 | F27: =SUMIFS('4. 특출'!$P$5:$P$995,'4. 특출'!$D$5:$D$995,"<>"&"",'4. 특출'!$P$5:$P$995,"<"&0)+SUMIFS('4-1. 공특출'!$P$5:$P$996,'4-1. 공특출'!$D$5:$D$996,"<>"&"",'4-1. 공특출'!$P$5:$P$996,"<"&0) -> -12068990 | G27: =SUMIFS('4. 특출'!$P$5:$P$995,'4. 특출'!$D$5:$D$995,"<>"&"",'4. 특출'!$P$5:$P$995,">"&0)+SUMIFS('4-1. 공특출'!$P$5:$P$996,'4-1. 공특출'!$D$5:$D$996,"<>"&"",'4-1. 공특출'!$P$5:$P$996,">"&0) -> 3599490 | H27: =G27+F27 -> -8469500 | I27: =B27+F27+G27 -> 4586974550
A30: ※ 위원회별, 회계별 집행부제출안(예산담당관에서 작성)
A31: 위원회명 | B31: 합계 | C31: 일반+기타 | D31: 일반회계 | E31: 기타특별회계 | F31: 공기업특별회계
A32: 계 | B32: =SUM(B33:B43) -> 42242001864 | C32: =SUM(C33:C43) -> 42187089624 | D32: =SUM(D33:D43) -> 37646557814 | E32: =SUM(E33:E43) -> 4540531810 | F32: =SUM(F33:F43) -> 54912240
A33: 의회운영위원회 | B33: =SUM(D33:F33) -> 129702008 | C33: =D33+E33 -> 129702008 | D33: 129702008 | E33: 0 | F33: 0
A34: 기획재정위원회 | B34: =SUM(D34:F34) -> 5932148107 | C34: =D34+E34 -> 5932148107 | D34: 5892712561 | E34: 39435546 | F34: 0
A35: 경제노동위원회 | B35: =SUM(D35:F35) -> 474872242 | C35: =D35+E35 -> 474872242 | D35: 474872242 | E35: 0 | F35: 0
A36: 안전행정위원회 | B36: =SUM(D36:F36) -> 4269846310 | C36: =D36+E36 -> 4269846310 | D36: 2662231278 | E36: 1607615032 | F36: 0
A37: 문화체육관광위원회 | B37: =SUM(D37:F37) -> 554871567 | C37: =D37+E37 -> 554871567 | D37: 554871567 | E37: 0 | F37: 0
A38: 농정해양위원회 | B38: =SUM(D38:F38) -> 1195877261 | C38: =D38+E38 -> 1195877261 | D38: 1195877261 | E38: 0 | F38: 0
A39: 보건복지위원회 | B39: =SUM(D39:F39) -> 14042559485 | C39: =D39+E39 -> 14042559485 | D39: 11595408031 | E39: 2447151454 | F39: 0
A40: 건설교통위원회 | B40: =SUM(D40:F40) -> 3029412433 | C40: =D40+E40 -> 3029412433 | D40: 2869836504 | E40: 159575929 | F40: 0
A41: 도시환경위원회 | B41: =SUM(D41:F41) -> 2367511141 | C41: =D41+E41 -> 2345220241 | D41: 2170913256 | E41: 174306985 | F41: 22290900
A42: 미래과학협력위원회 | B42: =SUM(D42:F42) -> 890727734 | C42: =D42+E42 -> 858106394 | D42: 858106394 | E42: 0 | F42: 32621340
A43: 여성가족평생교육위원회 | B43: =SUM(D43:F43) -> 9354473576 | C43: =D43+E43 -> 9354473576 | D43: 9242026712 | E43: 112446864 | F43: 0
A45: 예비비 | B45: 42834815

Sheet 2. 표지 (예결위)
U2: (단위 : 천원) | Z2: (단위 : 천원)
A4: 2026년도 경기도 제2회 추가경정예산안 및 기금운용계획 변경안
A5: 예결특위 계수조정 결과
A15: 경기도의회 예산결산특별위원회

Sheet 2. 총괄표(예결위)
A2: 총괄 현황
A4: □ 위원회별 조정현황
I5: (단위 : 천원)
A6: 구 분 | B6: 집행부제출(안) | C6: 세입예산(안) | F6: 세출예산(안) | I6: 수정예산(안) | K6: ※ 예산안 증감현황
C7: 감 액 | D7: 증 액 | E7: 증감액 | F7: 감 액 | G7: 증 액 | H7: 증감액 | K7: 구 분 | L7: 세입 | M7: 세출 | N7: 예비비 | O7: 비고(???)
A8: 계 | B8: =SUM(B9:B19) -> 42242001864 | C8: =SUM(C9:C19) -> 0 | D8: =SUM(D9:D19) -> 0 | E8: =SUM(E9:E19) -> 0 | F8: =SUM(F9:F19) -> 0 | G8: =SUM(G9:G19) -> 0 | H8: =SUM(H9:H19) -> 0 | I8: =SUM(I9:I19) -> 42242001864 | K8: 계 | L8: =SUM(L9:L10) -> 0 | M8: =SUM(M9:M10) -> 0 | N8: =L8-M8 -> 0
A9: 의회운영위원회 | B9: =B33 -> 129702008 | C9: =SUMIFS('3. 일입'!$P$7:$P$2000,'3. 일입'!$B$7:$B$2000,$A9,'3. 일입'!$P$7:$P$2000,"<"&0)+SUMIFS('4. 특입'!$P$6:$P$1994,'4. 특입'!$B$6:$B$1994,$A9,'4. 특입'!$P$6:$P$1994,"<"&0)+SUMIFS('4-1. 공특입'!$Q$6:$Q$1992,'4-1. 공특입'!$B$6:$B$1992,$A9,'4-1. 공특입'!$Q$6:$Q$1992,"<"&0) -> 0 | D9: =SUMIFS('3. 일입'!$P$7:$P$2000,'3. 일입'!$B$7:$B$2000,$A9,'3. 일입'!$P$7:$P$2000,">"&0)+SUMIFS('4. 특입'!$P$6:$P$1994,'4. 특입'!$B$6:$B$1994,$A9,'4. 특입'!$P$6:$P$1994,">"&0)+SUMIFS('4-1. 공특입'!$Q$6:$Q$1992,'4-1. 공특입'!$B$6:$B$1992,$A9,'4-1. 공특입'!$Q$6:$Q$1992,">"&0) -> 0 | E9: =C9+D9 -> 0 | F9: =SUMIFS('3. 일출(자체)'!$R$6:$R$1989,'3. 일출(자체)'!$B$6:$B$1989,$A9,'3. 일출(자체)'!$R$6:$R$1989,"<"&0)+SUMIFS('3. 일출(의존)'!$R$6:$R$1989,'3. 일출(의존)'!$B$6:$B$1989,$A9,'3. 일출(의존)'!$R$6:$R$1989,"<"&0)+SUMIFS('4. 특출'!$R$5:$R$1991,'4. 특출'!$B$5:$B$1991,$A9,'4. 특출'!$R$5:$R$1991,"<"&0)+SUMIFS('4-1. 공특출'!$R$5:$R$1992,'4-1. 공특출'!$B$5:$B$1992,$A9,'4-1. 공특출'!$R$5:$R$1992,"<"&0) -> 0 | G9: =SUMIFS('3. 일출(자체)'!$R$6:$R$1989,'3. 일출(자체)'!$B$6:$B$1989,$A9,'3. 일출(자체)'!$R$6:$R$1989,">"&0)+SUMIFS('3. 일출(의존)'!$R$6:$R$1989,'3. 일출(의존)'!$B$6:$B$1989,$A9,'3. 일출(의존)'!$R$6:$R$1989,">"&0)+SUMIFS('4. 특출'!$R$5:$R$1991,'4. 특출'!$B$5:$B$1991,$A9,'4. 특출'!$R$5:$R$1991,">"&0)+SUMIFS('4-1. 공특출'!$R$5:$R$1992,'4-1. 공특출'!$B$5:$B$1992,$A9,'4-1. 공특출'!$R$5:$R$1992,">"&0) -> 0 | H9: =G9+F9 -> 0 | I9: =B9+F9+G9 -> 129702008 | K9: 일반회계 | L9: =SUM(C26:D26) -> 0 | M9: =SUM(F26:G26) -> 0 | N9: =L9-M9 -> 0 | O9: 예비비 증감 - 감액, + 증액에 입력
A10: 기획재정위원회 | B10: =B34 -> 5932148107 | C10: =SUMIFS('3. 일입'!$P$7:$P$2000,'3. 일입'!$B$7:$B$2000,$A10,'3. 일입'!$P$7:$P$2000,"<"&0)+SUMIFS('4. 특입'!$P$6:$P$1994,'4. 특입'!$B$6:$B$1994,$A10,'4. 특입'!$P$6:$P$1994,"<"&0)+SUMIFS('4-1. 공특입'!$Q$6:$Q$1992,'4-1. 공특입'!$B$6:$B$1992,$A10,'4-1. 공특입'!$Q$6:$Q$1992,"<"&0) -> 0 | D10: =SUMIFS('3. 일입'!$P$7:$P$2000,'3. 일입'!$B$7:$B$2000,$A10,'3. 일입'!$P$7:$P$2000,">"&0)+SUMIFS('4. 특입'!$P$6:$P$1994,'4. 특입'!$B$6:$B$1994,$A10,'4. 특입'!$P$6:$P$1994,">"&0)+SUMIFS('4-1. 공특입'!$Q$6:$Q$1992,'4-1. 공특입'!$B$6:$B$1992,$A10,'4-1. 공특입'!$Q$6:$Q$1992,">"&0) -> 0 | E10: =C10+D10 -> 0 | F10: =SUMIFS('3. 일출(자체)'!$R$6:$R$1989,'3. 일출(자체)'!$B$6:$B$1989,$A10,'3. 일출(자체)'!$R$6:$R$1989,"<"&0)+SUMIFS('3. 일출(의존)'!$R$6:$R$1989,'3. 일출(의존)'!$B$6:$B$1989,$A10,'3. 일출(의존)'!$R$6:$R$1989,"<"&0)+SUMIFS('4. 특출'!$R$5:$R$1991,'4. 특출'!$B$5:$B$1991,$A10,'4. 특출'!$R$5:$R$1991,"<"&0)+SUMIFS('4-1. 공특출'!$R$5:$R$1992,'4-1. 공특출'!$B$5:$B$1992,$A10,'4-1. 공특출'!$R$5:$R$1992,"<"&0) -> 0 | G10: =SUMIFS('3. 일출(자체)'!$R$6:$R$1989,'3. 일출(자체)'!$B$6:$B$1989,$A10,'3. 일출(자체)'!$R$6:$R$1989,">"&0)+SUMIFS('3. 일출(의존)'!$R$6:$R$1989,'3. 일출(의존)'!$B$6:$B$1989,$A10,'3. 일출(의존)'!$R$6:$R$1989,">"&0)+SUMIFS('4. 특출'!$R$5:$R$1991,'4. 특출'!$B$5:$B$1991,$A10,'4. 특출'!$R$5:$R$1991,">"&0)+SUMIFS('4-1. 공특출'!$R$5:$R$1992,'4-1. 공특출'!$B$5:$B$1992,$A10,'4-1. 공특출'!$R$5:$R$1992,">"&0) -> 0 | H10: =G10+F10 -> 0 | I10: =B10+F10+G10 -> 5932148107 | K10: 특별회계 | L10: =SUM(C27:D27) -> 0 | M10: =SUM(F27:G27) -> 0 | N10: =L10-M10 -> 0
A11: 경제노동위원회 | B11: =B35 -> 474872242 | C11: =SUMIFS('3. 일입'!$P$7:$P$2000,'3. 일입'!$B$7:$B$2000,$A11,'3. 일입'!$P$7:$P$2000,"<"&0)+SUMIFS('4. 특입'!$P$6:$P$1994,'4. 특입'!$B$6:$B$1994,$A11,'4. 특입'!$P$6:$P$1994,"<"&0)+SUMIFS('4-1. 공특입'!$Q$6:$Q$1992,'4-1. 공특입'!$B$6:$B$1992,$A11,'4-1. 공특입'!$Q$6:$Q$1992,"<"&0) -> 0 | D11: =SUMIFS('3. 일입'!$P$7:$P$2000,'3. 일입'!$B$7:$B$2000,$A11,'3. 일입'!$P$7:$P$2000,">"&0)+SUMIFS('4. 특입'!$P$6:$P$1994,'4. 특입'!$B$6:$B$1994,$A11,'4. 특입'!$P$6:$P$1994,">"&0)+SUMIFS('4-1. 공특입'!$Q$6:$Q$1992,'4-1. 공특입'!$B$6:$B$1992,$A11,'4-1. 공특입'!$Q$6:$Q$1992,">"&0) -> 0 | E11: =C11+D11 -> 0 | F11: =SUMIFS('3. 일출(자체)'!$R$6:$R$1989,'3. 일출(자체)'!$B$6:$B$1989,$A11,'3. 일출(자체)'!$R$6:$R$1989,"<"&0)+SUMIFS('3. 일출(의존)'!$R$6:$R$1989,'3. 일출(의존)'!$B$6:$B$1989,$A11,'3. 일출(의존)'!$R$6:$R$1989,"<"&0)+SUMIFS('4. 특출'!$R$5:$R$1991,'4. 특출'!$B$5:$B$1991,$A11,'4. 특출'!$R$5:$R$1991,"<"&0)+SUMIFS('4-1. 공특출'!$R$5:$R$1992,'4-1. 공특출'!$B$5:$B$1992,$A11,'4-1. 공특출'!$R$5:$R$1992,"<"&0) -> 0 | G11: =SUMIFS('3. 일출(자체)'!$R$6:$R$1989,'3. 일출(자체)'!$B$6:$B$1989,$A11,'3. 일출(자체)'!$R$6:$R$1989,">"&0)+SUMIFS('3. 일출(의존)'!$R$6:$R$1989,'3. 일출(의존)'!$B$6:$B$1989,$A11,'3. 일출(의존)'!$R$6:$R$1989,">"&0)+SUMIFS('4. 특출'!$R$5:$R$1991,'4. 특출'!$B$5:$B$1991,$A11,'4. 특출'!$R$5:$R$1991,">"&0)+SUMIFS('4-1. 공특출'!$R$5:$R$1992,'4-1. 공특출'!$B$5:$B$1992,$A11,'4-1. 공특출'!$R$5:$R$1992,">"&0) -> 0 | H11: =G11+F11 -> 0 | I11: =B11+F11+G11 -> 474872242 | O11: (예비비 계수 조정용)
A12: 안전행정위원회 | B12: =B36 -> 4269846310 | C12: =SUMIFS('3. 일입'!$P$7:$P$2000,'3. 일입'!$B$7:$B$2000,$A12,'3. 일입'!$P$7:$P$2000,"<"&0)+SUMIFS('4. 특입'!$P$6:$P$1994,'4. 특입'!$B$6:$B$1994,$A12,'4. 특입'!$P$6:$P$1994,"<"&0)+SUMIFS('4-1. 공특입'!$Q$6:$Q$1992,'4-1. 공특입'!$B$6:$B$1992,$A12,'4-1. 공특입'!$Q$6:$Q$1992,"<"&0) -> 0 | D12: =SUMIFS('3. 일입'!$P$7:$P$2000,'3. 일입'!$B$7:$B$2000,$A12,'3. 일입'!$P$7:$P$2000,">"&0)+SUMIFS('4. 특입'!$P$6:$P$1994,'4. 특입'!$B$6:$B$1994,$A12,'4. 특입'!$P$6:$P$1994,">"&0)+SUMIFS('4-1. 공특입'!$Q$6:$Q$1992,'4-1. 공특입'!$B$6:$B$1992,$A12,'4-1. 공특입'!$Q$6:$Q$1992,">"&0) -> 0 | E12: =C12+D12 -> 0 | F12: =SUMIFS('3. 일출(자체)'!$R$6:$R$1989,'3. 일출(자체)'!$B$6:$B$1989,$A12,'3. 일출(자체)'!$R$6:$R$1989,"<"&0)+SUMIFS('3. 일출(의존)'!$R$6:$R$1989,'3. 일출(의존)'!$B$6:$B$1989,$A12,'3. 일출(의존)'!$R$6:$R$1989,"<"&0)+SUMIFS('4. 특출'!$R$5:$R$1991,'4. 특출'!$B$5:$B$1991,$A12,'4. 특출'!$R$5:$R$1991,"<"&0)+SUMIFS('4-1. 공특출'!$R$5:$R$1992,'4-1. 공특출'!$B$5:$B$1992,$A12,'4-1. 공특출'!$R$5:$R$1992,"<"&0) -> 0 | G12: =SUMIFS('3. 일출(자체)'!$R$6:$R$1989,'3. 일출(자체)'!$B$6:$B$1989,$A12,'3. 일출(자체)'!$R$6:$R$1989,">"&0)+SUMIFS('3. 일출(의존)'!$R$6:$R$1989,'3. 일출(의존)'!$B$6:$B$1989,$A12,'3. 일출(의존)'!$R$6:$R$1989,">"&0)+SUMIFS('4. 특출'!$R$5:$R$1991,'4. 특출'!$B$5:$B$1991,$A12,'4. 특출'!$R$5:$R$1991,">"&0)+SUMIFS('4-1. 공특출'!$R$5:$R$1992,'4-1. 공특출'!$B$5:$B$1992,$A12,'4-1. 공특출'!$R$5:$R$1992,">"&0) -> 0 | H12: =G12+F12 -> 0 | I12: =B12+F12+G12 -> 4269846310
A13: 문화체육관광위원회 | B13: =B37 -> 554871567 | C13: =SUMIFS('3. 일입'!$P$7:$P$2000,'3. 일입'!$B$7:$B$2000,$A13,'3. 일입'!$P$7:$P$2000,"<"&0)+SUMIFS('4. 특입'!$P$6:$P$1994,'4. 특입'!$B$6:$B$1994,$A13,'4. 특입'!$P$6:$P$1994,"<"&0)+SUMIFS('4-1. 공특입'!$Q$6:$Q$1992,'4-1. 공특입'!$B$6:$B$1992,$A13,'4-1. 공특입'!$Q$6:$Q$1992,"<"&0) -> 0 | D13: =SUMIFS('3. 일입'!$P$7:$P$2000,'3. 일입'!$B$7:$B$2000,$A13,'3. 일입'!$P$7:$P$2000,">"&0)+SUMIFS('4. 특입'!$P$6:$P$1994,'4. 특입'!$B$6:$B$1994,$A13,'4. 특입'!$P$6:$P$1994,">"&0)+SUMIFS('4-1. 공특입'!$Q$6:$Q$1992,'4-1. 공특입'!$B$6:$B$1992,$A13,'4-1. 공특입'!$Q$6:$Q$1992,">"&0) -> 0 | E13: =C13+D13 -> 0 | F13: =SUMIFS('3. 일출(자체)'!$R$6:$R$1989,'3. 일출(자체)'!$B$6:$B$1989,$A13,'3. 일출(자체)'!$R$6:$R$1989,"<"&0)+SUMIFS('3. 일출(의존)'!$R$6:$R$1989,'3. 일출(의존)'!$B$6:$B$1989,$A13,'3. 일출(의존)'!$R$6:$R$1989,"<"&0)+SUMIFS('4. 특출'!$R$5:$R$1991,'4. 특출'!$B$5:$B$1991,$A13,'4. 특출'!$R$5:$R$1991,"<"&0)+SUMIFS('4-1. 공특출'!$R$5:$R$1992,'4-1. 공특출'!$B$5:$B$1992,$A13,'4-1. 공특출'!$R$5:$R$1992,"<"&0) -> 0 | G13: =SUMIFS('3. 일출(자체)'!$R$6:$R$1989,'3. 일출(자체)'!$B$6:$B$1989,$A13,'3. 일출(자체)'!$R$6:$R$1989,">"&0)+SUMIFS('3. 일출(의존)'!$R$6:$R$1989,'3. 일출(의존)'!$B$6:$B$1989,$A13,'3. 일출(의존)'!$R$6:$R$1989,">"&0)+SUMIFS('4. 특출'!$R$5:$R$1991,'4. 특출'!$B$5:$B$1991,$A13,'4. 특출'!$R$5:$R$1991,">"&0)+SUMIFS('4-1. 공특출'!$R$5:$R$1992,'4-1. 공특출'!$B$5:$B$1992,$A13,'4-1. 공특출'!$R$5:$R$1992,">"&0) -> 0 | H13: =G13+F13 -> 0 | I13: =B13+F13+G13 -> 554871567
A14: 농정해양위원회 | B14: =B38 -> 1195877261 | C14: =SUMIFS('3. 일입'!$P$7:$P$2000,'3. 일입'!$B$7:$B$2000,$A14,'3. 일입'!$P$7:$P$2000,"<"&0)+SUMIFS('4. 특입'!$P$6:$P$1994,'4. 특입'!$B$6:$B$1994,$A14,'4. 특입'!$P$6:$P$1994,"<"&0)+SUMIFS('4-1. 공특입'!$Q$6:$Q$1992,'4-1. 공특입'!$B$6:$B$1992,$A14,'4-1. 공특입'!$Q$6:$Q$1992,"<"&0) -> 0 | D14: =SUMIFS('3. 일입'!$P$7:$P$2000,'3. 일입'!$B$7:$B$2000,$A14,'3. 일입'!$P$7:$P$2000,">"&0)+SUMIFS('4. 특입'!$P$6:$P$1994,'4. 특입'!$B$6:$B$1994,$A14,'4. 특입'!$P$6:$P$1994,">"&0)+SUMIFS('4-1. 공특입'!$Q$6:$Q$1992,'4-1. 공특입'!$B$6:$B$1992,$A14,'4-1. 공특입'!$Q$6:$Q$1992,">"&0) -> 0 | E14: =C14+D14 -> 0 | F14: =SUMIFS('3. 일출(자체)'!$R$6:$R$1989,'3. 일출(자체)'!$B$6:$B$1989,$A14,'3. 일출(자체)'!$R$6:$R$1989,"<"&0)+SUMIFS('3. 일출(의존)'!$R$6:$R$1989,'3. 일출(의존)'!$B$6:$B$1989,$A14,'3. 일출(의존)'!$R$6:$R$1989,"<"&0)+SUMIFS('4. 특출'!$R$5:$R$1991,'4. 특출'!$B$5:$B$1991,$A14,'4. 특출'!$R$5:$R$1991,"<"&0)+SUMIFS('4-1. 공특출'!$R$5:$R$1992,'4-1. 공특출'!$B$5:$B$1992,$A14,'4-1. 공특출'!$R$5:$R$1992,"<"&0) -> 0 | G14: =SUMIFS('3. 일출(자체)'!$R$6:$R$1989,'3. 일출(자체)'!$B$6:$B$1989,$A14,'3. 일출(자체)'!$R$6:$R$1989,">"&0)+SUMIFS('3. 일출(의존)'!$R$6:$R$1989,'3. 일출(의존)'!$B$6:$B$1989,$A14,'3. 일출(의존)'!$R$6:$R$1989,">"&0)+SUMIFS('4. 특출'!$R$5:$R$1991,'4. 특출'!$B$5:$B$1991,$A14,'4. 특출'!$R$5:$R$1991,">"&0)+SUMIFS('4-1. 공특출'!$R$5:$R$1992,'4-1. 공특출'!$B$5:$B$1992,$A14,'4-1. 공특출'!$R$5:$R$1992,">"&0) -> 0 | H14: =G14+F14 -> 0 | I14: =B14+F14+G14 -> 1195877261
A15: 보건복지위원회 | B15: =B39 -> 14042559485 | C15: =SUMIFS('3. 일입'!$P$7:$P$2000,'3. 일입'!$B$7:$B$2000,$A15,'3. 일입'!$P$7:$P$2000,"<"&0)+SUMIFS('4. 특입'!$P$6:$P$1994,'4. 특입'!$B$6:$B$1994,$A15,'4. 특입'!$P$6:$P$1994,"<"&0)+SUMIFS('4-1. 공특입'!$Q$6:$Q$1992,'4-1. 공특입'!$B$6:$B$1992,$A15,'4-1. 공특입'!$Q$6:$Q$1992,"<"&0) -> 0 | D15: =SUMIFS('3. 일입'!$P$7:$P$2000,'3. 일입'!$B$7:$B$2000,$A15,'3. 일입'!$P$7:$P$2000,">"&0)+SUMIFS('4. 특입'!$P$6:$P$1994,'4. 특입'!$B$6:$B$1994,$A15,'4. 특입'!$P$6:$P$1994,">"&0)+SUMIFS('4-1. 공특입'!$Q$6:$Q$1992,'4-1. 공특입'!$B$6:$B$1992,$A15,'4-1. 공특입'!$Q$6:$Q$1992,">"&0) -> 0 | E15: =C15+D15 -> 0 | F15: =SUMIFS('3. 일출(자체)'!$R$6:$R$1989,'3. 일출(자체)'!$B$6:$B$1989,$A15,'3. 일출(자체)'!$R$6:$R$1989,"<"&0)+SUMIFS('3. 일출(의존)'!$R$6:$R$1989,'3. 일출(의존)'!$B$6:$B$1989,$A15,'3. 일출(의존)'!$R$6:$R$1989,"<"&0)+SUMIFS('4. 특출'!$R$5:$R$1991,'4. 특출'!$B$5:$B$1991,$A15,'4. 특출'!$R$5:$R$1991,"<"&0)+SUMIFS('4-1. 공특출'!$R$5:$R$1992,'4-1. 공특출'!$B$5:$B$1992,$A15,'4-1. 공특출'!$R$5:$R$1992,"<"&0) -> 0 | G15: =SUMIFS('3. 일출(자체)'!$R$6:$R$1989,'3. 일출(자체)'!$B$6:$B$1989,$A15,'3. 일출(자체)'!$R$6:$R$1989,">"&0)+SUMIFS('3. 일출(의존)'!$R$6:$R$1989,'3. 일출(의존)'!$B$6:$B$1989,$A15,'3. 일출(의존)'!$R$6:$R$1989,">"&0)+SUMIFS('4. 특출'!$R$5:$R$1991,'4. 특출'!$B$5:$B$1991,$A15,'4. 특출'!$R$5:$R$1991,">"&0)+SUMIFS('4-1. 공특출'!$R$5:$R$1992,'4-1. 공특출'!$B$5:$B$1992,$A15,'4-1. 공특출'!$R$5:$R$1992,">"&0) -> 0 | H15: =G15+F15 -> 0 | I15: =B15+F15+G15 -> 14042559485
A16: 건설교통위원회 | B16: =B40 -> 3029412433 | C16: =SUMIFS('3. 일입'!$P$7:$P$2000,'3. 일입'!$B$7:$B$2000,$A16,'3. 일입'!$P$7:$P$2000,"<"&0)+SUMIFS('4. 특입'!$P$6:$P$1994,'4. 특입'!$B$6:$B$1994,$A16,'4. 특입'!$P$6:$P$1994,"<"&0)+SUMIFS('4-1. 공특입'!$Q$6:$Q$1992,'4-1. 공특입'!$B$6:$B$1992,$A16,'4-1. 공특입'!$Q$6:$Q$1992,"<"&0) -> 0 | D16: =SUMIFS('3. 일입'!$P$7:$P$2000,'3. 일입'!$B$7:$B$2000,$A16,'3. 일입'!$P$7:$P$2000,">"&0)+SUMIFS('4. 특입'!$P$6:$P$1994,'4. 특입'!$B$6:$B$1994,$A16,'4. 특입'!$P$6:$P$1994,">"&0)+SUMIFS('4-1. 공특입'!$Q$6:$Q$1992,'4-1. 공특입'!$B$6:$B$1992,$A16,'4-1. 공특입'!$Q$6:$Q$1992,">"&0) -> 0 | E16: =C16+D16 -> 0 | F16: =SUMIFS('3. 일출(자체)'!$R$6:$R$1989,'3. 일출(자체)'!$B$6:$B$1989,$A16,'3. 일출(자체)'!$R$6:$R$1989,"<"&0)+SUMIFS('3. 일출(의존)'!$R$6:$R$1989,'3. 일출(의존)'!$B$6:$B$1989,$A16,'3. 일출(의존)'!$R$6:$R$1989,"<"&0)+SUMIFS('4. 특출'!$R$5:$R$1991,'4. 특출'!$B$5:$B$1991,$A16,'4. 특출'!$R$5:$R$1991,"<"&0)+SUMIFS('4-1. 공특출'!$R$5:$R$1992,'4-1. 공특출'!$B$5:$B$1992,$A16,'4-1. 공특출'!$R$5:$R$1992,"<"&0) -> 0 | G16: =SUMIFS('3. 일출(자체)'!$R$6:$R$1989,'3. 일출(자체)'!$B$6:$B$1989,$A16,'3. 일출(자체)'!$R$6:$R$1989,">"&0)+SUMIFS('3. 일출(의존)'!$R$6:$R$1989,'3. 일출(의존)'!$B$6:$B$1989,$A16,'3. 일출(의존)'!$R$6:$R$1989,">"&0)+SUMIFS('4. 특출'!$R$5:$R$1991,'4. 특출'!$B$5:$B$1991,$A16,'4. 특출'!$R$5:$R$1991,">"&0)+SUMIFS('4-1. 공특출'!$R$5:$R$1992,'4-1. 공특출'!$B$5:$B$1992,$A16,'4-1. 공특출'!$R$5:$R$1992,">"&0) -> 0 | H16: =G16+F16 -> 0 | I16: =B16+F16+G16 -> 3029412433
A17: 도시환경위원회 | B17: =B41 -> 2367511141 | C17: =SUMIFS('3. 일입'!$P$7:$P$2000,'3. 일입'!$B$7:$B$2000,$A17,'3. 일입'!$P$7:$P$2000,"<"&0)+SUMIFS('4. 특입'!$P$6:$P$1994,'4. 특입'!$B$6:$B$1994,$A17,'4. 특입'!$P$6:$P$1994,"<"&0)+SUMIFS('4-1. 공특입'!$Q$6:$Q$1992,'4-1. 공특입'!$B$6:$B$1992,$A17,'4-1. 공특입'!$Q$6:$Q$1992,"<"&0) -> 0 | D17: =SUMIFS('3. 일입'!$P$7:$P$2000,'3. 일입'!$B$7:$B$2000,$A17,'3. 일입'!$P$7:$P$2000,">"&0)+SUMIFS('4. 특입'!$P$6:$P$1994,'4. 특입'!$B$6:$B$1994,$A17,'4. 특입'!$P$6:$P$1994,">"&0)+SUMIFS('4-1. 공특입'!$Q$6:$Q$1992,'4-1. 공특입'!$B$6:$B$1992,$A17,'4-1. 공특입'!$Q$6:$Q$1992,">"&0) -> 0 | E17: =C17+D17 -> 0 | F17: =SUMIFS('3. 일출(자체)'!$R$6:$R$1989,'3. 일출(자체)'!$B$6:$B$1989,$A17,'3. 일출(자체)'!$R$6:$R$1989,"<"&0)+SUMIFS('3. 일출(의존)'!$R$6:$R$1989,'3. 일출(의존)'!$B$6:$B$1989,$A17,'3. 일출(의존)'!$R$6:$R$1989,"<"&0)+SUMIFS('4. 특출'!$R$5:$R$1991,'4. 특출'!$B$5:$B$1991,$A17,'4. 특출'!$R$5:$R$1991,"<"&0)+SUMIFS('4-1. 공특출'!$R$5:$R$1992,'4-1. 공특출'!$B$5:$B$1992,$A17,'4-1. 공특출'!$R$5:$R$1992,"<"&0) -> 0 | G17: =SUMIFS('3. 일출(자체)'!$R$6:$R$1989,'3. 일출(자체)'!$B$6:$B$1989,$A17,'3. 일출(자체)'!$R$6:$R$1989,">"&0)+SUMIFS('3. 일출(의존)'!$R$6:$R$1989,'3. 일출(의존)'!$B$6:$B$1989,$A17,'3. 일출(의존)'!$R$6:$R$1989,">"&0)+SUMIFS('4. 특출'!$R$5:$R$1991,'4. 특출'!$B$5:$B$1991,$A17,'4. 특출'!$R$5:$R$1991,">"&0)+SUMIFS('4-1. 공특출'!$R$5:$R$1992,'4-1. 공특출'!$B$5:$B$1992,$A17,'4-1. 공특출'!$R$5:$R$1992,">"&0) -> 0 | H17: =G17+F17 -> 0 | I17: =B17+F17+G17 -> 2367511141
A18: 미래과학협력위원회 | B18: =B42 -> 890727734 | C18: =SUMIFS('3. 일입'!$P$7:$P$2000,'3. 일입'!$B$7:$B$2000,$A18,'3. 일입'!$P$7:$P$2000,"<"&0)+SUMIFS('4. 특입'!$P$6:$P$1994,'4. 특입'!$B$6:$B$1994,$A18,'4. 특입'!$P$6:$P$1994,"<"&0)+SUMIFS('4-1. 공특입'!$Q$6:$Q$1992,'4-1. 공특입'!$B$6:$B$1992,$A18,'4-1. 공특입'!$Q$6:$Q$1992,"<"&0) -> 0 | D18: =SUMIFS('3. 일입'!$P$7:$P$2000,'3. 일입'!$B$7:$B$2000,$A18,'3. 일입'!$P$7:$P$2000,">"&0)+SUMIFS('4. 특입'!$P$6:$P$1994,'4. 특입'!$B$6:$B$1994,$A18,'4. 특입'!$P$6:$P$1994,">"&0)+SUMIFS('4-1. 공특입'!$Q$6:$Q$1992,'4-1. 공특입'!$B$6:$B$1992,$A18,'4-1. 공특입'!$Q$6:$Q$1992,">"&0) -> 0 | E18: =C18+D18 -> 0 | F18: =SUMIFS('3. 일출(자체)'!$R$6:$R$1989,'3. 일출(자체)'!$B$6:$B$1989,$A18,'3. 일출(자체)'!$R$6:$R$1989,"<"&0)+SUMIFS('3. 일출(의존)'!$R$6:$R$1989,'3. 일출(의존)'!$B$6:$B$1989,$A18,'3. 일출(의존)'!$R$6:$R$1989,"<"&0)+SUMIFS('4. 특출'!$R$5:$R$1991,'4. 특출'!$B$5:$B$1991,$A18,'4. 특출'!$R$5:$R$1991,"<"&0)+SUMIFS('4-1. 공특출'!$R$5:$R$1992,'4-1. 공특출'!$B$5:$B$1992,$A18,'4-1. 공특출'!$R$5:$R$1992,"<"&0) -> 0 | G18: =SUMIFS('3. 일출(자체)'!$R$6:$R$1989,'3. 일출(자체)'!$B$6:$B$1989,$A18,'3. 일출(자체)'!$R$6:$R$1989,">"&0)+SUMIFS('3. 일출(의존)'!$R$6:$R$1989,'3. 일출(의존)'!$B$6:$B$1989,$A18,'3. 일출(의존)'!$R$6:$R$1989,">"&0)+SUMIFS('4. 특출'!$R$5:$R$1991,'4. 특출'!$B$5:$B$1991,$A18,'4. 특출'!$R$5:$R$1991,">"&0)+SUMIFS('4-1. 공특출'!$R$5:$R$1992,'4-1. 공특출'!$B$5:$B$1992,$A18,'4-1. 공특출'!$R$5:$R$1992,">"&0) -> 0 | H18: =G18+F18 -> 0 | I18: =B18+F18+G18 -> 890727734
A19: 여성가족평생교육위원회 | B19: =B43 -> 9354473576 | C19: =SUMIFS('3. 일입'!$P$7:$P$2000,'3. 일입'!$B$7:$B$2000,$A19,'3. 일입'!$P$7:$P$2000,"<"&0)+SUMIFS('4. 특입'!$P$6:$P$1994,'4. 특입'!$B$6:$B$1994,$A19,'4. 특입'!$P$6:$P$1994,"<"&0)+SUMIFS('4-1. 공특입'!$Q$6:$Q$1992,'4-1. 공특입'!$B$6:$B$1992,$A19,'4-1. 공특입'!$Q$6:$Q$1992,"<"&0) -> 0 | D19: =SUMIFS('3. 일입'!$P$7:$P$2000,'3. 일입'!$B$7:$B$2000,$A19,'3. 일입'!$P$7:$P$2000,">"&0)+SUMIFS('4. 특입'!$P$6:$P$1994,'4. 특입'!$B$6:$B$1994,$A19,'4. 특입'!$P$6:$P$1994,">"&0)+SUMIFS('4-1. 공특입'!$Q$6:$Q$1992,'4-1. 공특입'!$B$6:$B$1992,$A19,'4-1. 공특입'!$Q$6:$Q$1992,">"&0) -> 0 | E19: =C19+D19 -> 0 | F19: =SUMIFS('3. 일출(자체)'!$R$6:$R$1989,'3. 일출(자체)'!$B$6:$B$1989,$A19,'3. 일출(자체)'!$R$6:$R$1989,"<"&0)+SUMIFS('3. 일출(의존)'!$R$6:$R$1989,'3. 일출(의존)'!$B$6:$B$1989,$A19,'3. 일출(의존)'!$R$6:$R$1989,"<"&0)+SUMIFS('4. 특출'!$R$5:$R$1991,'4. 특출'!$B$5:$B$1991,$A19,'4. 특출'!$R$5:$R$1991,"<"&0)+SUMIFS('4-1. 공특출'!$R$5:$R$1992,'4-1. 공특출'!$B$5:$B$1992,$A19,'4-1. 공특출'!$R$5:$R$1992,"<"&0) -> 0 | G19: =SUMIFS('3. 일출(자체)'!$R$6:$R$1989,'3. 일출(자체)'!$B$6:$B$1989,$A19,'3. 일출(자체)'!$R$6:$R$1989,">"&0)+SUMIFS('3. 일출(의존)'!$R$6:$R$1989,'3. 일출(의존)'!$B$6:$B$1989,$A19,'3. 일출(의존)'!$R$6:$R$1989,">"&0)+SUMIFS('4. 특출'!$R$5:$R$1991,'4. 특출'!$B$5:$B$1991,$A19,'4. 특출'!$R$5:$R$1991,">"&0)+SUMIFS('4-1. 공특출'!$R$5:$R$1992,'4-1. 공특출'!$B$5:$B$1992,$A19,'4-1. 공특출'!$R$5:$R$1992,">"&0) -> 0 | H19: =G19+F19 -> 0 | I19: =B19+F19+G19 -> 9354473576
A21: □ 회계별 조정현황
I22: (단위 : 천원)
A23: 구 분 | B23: 집행부제출(안) | C23: 세입예산(안) | F23: 세출예산(안) | I23: 수정예산(안)
C24: 감 액 | D24: 증 액 | E24: 증감액 | F24: 감 액 | G24: 증 액 | H24: 증감액
A25: 계 | B25: =SUM(B26:B27) -> 42242001864 | C25: =SUM(C26:C27) -> 0 | D25: =SUM(D26:D27) -> 0 | E25: =SUM(E26:E27) -> 0 | F25: =SUM(F26:F27) -> 0 | G25: =SUM(G26:G27) -> 0 | H25: =SUM(H26:H27) -> 0 | I25: =SUM(I26:I27) -> 42242001864
A26: 일반회계 | B26: =D32 -> 37646557814 | C26: =SUMIFS('3. 일입'!$P$7:$P$2000,'3. 일입'!$D$7:$D$2000,"<>"&"",'3. 일입'!$P$7:$P$2000,"<"&0) -> 0 | D26: =SUMIFS('3. 일입'!$P$7:$P$2000,'3. 일입'!$D$7:$D$2000,"<>"&"",'3. 일입'!$P$7:$P$2000,">"&0) -> 0 | E26: =D26+C26 -> 0 | F26: =SUMIFS('3. 일출(자체)'!$R$6:$R$1989,'3. 일출(자체)'!$D$6:$D$1989,"<>"&"",'3. 일출(자체)'!$R$6:$R$1989,"<"&0)+SUMIFS('3. 일출(의존)'!$R$6:$R$1989,'3. 일출(의존)'!$D$6:$D$1989,"<>"&"",'3. 일출(의존)'!$R$6:$R$1989,"<"&0) -> 0 | G26: =SUMIFS('3. 일출(자체)'!$R$6:$R$1989,'3. 일출(자체)'!$D$6:$D$1989,"<>"&"",'3. 일출(자체)'!$R$6:$R$1989,">"&0)+SUMIFS('3. 일출(의존)'!$R$6:$R$1989,'3. 일출(의존)'!$D$6:$D$1989,"<>"&"",'3. 일출(의존)'!$R$6:$R$1989,">"&0) -> 0 | H26: =G26+F26 -> 0 | I26: =B26+F26+G26 -> 37646557814 | M26: 0
A27: 특별회계 | B27: =E32+F32 -> 4595444050 | C27: =SUMIFS('4. 특입'!$P$6:$P$1000,'4. 특입'!$D$6:$D$1000,"<>"&"",'4. 특입'!$P$6:$P$1000,"<"&0)+SUMIFS('4-1. 공특입'!$Q$6:$Q$998,'4-1. 공특입'!$D$6:$D$998,"<>"&"",'4-1. 공특입'!$Q$6:$Q$998,"<"&0) -> 0 | D27: =SUMIFS('4. 특입'!$P$6:$P$1000,'4. 특입'!$D$6:$D$1000,"<>"&"",'4. 특입'!$P$6:$P$1000,">"&0)+SUMIFS('4-1. 공특입'!$Q$6:$Q$998,'4-1. 공특입'!$D$6:$D$998,"<>"&"",'4-1. 공특입'!$Q$6:$Q$998,">"&0) -> 0 | E27: =D27+C27 -> 0 | F27: =SUMIFS('4. 특출'!$R$5:$R$995,'4. 특출'!$D$5:$D$995,"<>"&"",'4. 특출'!$R$5:$R$995,"<"&0)+SUMIFS('4-1. 공특출'!$R$5:$R$996,'4-1. 공특출'!$D$5:$D$996,"<>"&"",'4-1. 공특출'!$R$5:$R$996,"<"&0) -> 0 | G27: =SUMIFS('4. 특출'!$R$5:$R$995,'4. 특출'!$D$5:$D$995,"<>"&"",'4. 특출'!$R$5:$R$995,">"&0)+SUMIFS('4-1. 공특출'!$R$5:$R$996,'4-1. 공특출'!$D$5:$D$996,"<>"&"",'4-1. 공특출'!$R$5:$R$996,">"&0) -> 0 | H27: =G27+F27 -> 0 | I27: =B27+F27+G27 -> 4595444050
A30: ※ 위원회별, 회계별 집행부제출안(예산담당관에서 작성)
A31: 위원회명 | B31: 합계 | C31: 일반+기타 | D31: 일반회계 | E31: 기타특별회계 | F31: 공기업특별회계
A32: 계 | B32: =SUM(B33:B43) -> 42242001864 | C32: =SUM(C33:C43) -> 42187089624 | D32: =SUM(D33:D43) -> 37646557814 | E32: =SUM(E33:E43) -> 4540531810 | F32: =SUM(F33:F43) -> 54912240
A33: 의회운영위원회 | B33: =SUM(D33:F33) -> 129702008 | C33: =D33+E33 -> 129702008 | D33: 129702008 | E33: 0 | F33: 0 | T33: 327991
A34: 기획재정위원회 | B34: =SUM(D34:F34) -> 5932148107 | C34: =D34+E34 -> 5932148107 | D34: 5892712561 | E34: 39435546 | F34: 0
A35: 경제노동위원회 | B35: =SUM(D35:F35) -> 474872242 | C35: =D35+E35 -> 474872242 | D35: 474872242 | E35: 0 | F35: 0
A36: 안전행정위원회 | B36: =SUM(D36:F36) -> 4269846310 | C36: =D36+E36 -> 4269846310 | D36: 2662231278 | E36: 1607615032 | F36: 0
A37: 문화체육관광위원회 | B37: =SUM(D37:F37) -> 554871567 | C37: =D37+E37 -> 554871567 | D37: 554871567 | E37: 0 | F37: 0
A38: 농정해양위원회 | B38: =SUM(D38:F38) -> 1195877261 | C38: =D38+E38 -> 1195877261 | D38: 1195877261 | E38: 0 | F38: 0
A39: 보건복지위원회 | B39: =SUM(D39:F39) -> 14042559485 | C39: =D39+E39 -> 14042559485 | D39: 11595408031 | E39: 2447151454 | F39: 0
A40: 건설교통위원회 | B40: =SUM(D40:F40) -> 3029412433 | C40: =D40+E40 -> 3029412433 | D40: 2869836504 | E40: 159575929 | F40: 0
A41: 도시환경위원회 | B41: =SUM(D41:F41) -> 2367511141 | C41: =D41+E41 -> 2345220241 | D41: 2170913256 | E41: 174306985 | F41: 22290900
A42: 미래과학협력위원회 | B42: =SUM(D42:F42) -> 890727734 | C42: =D42+E42 -> 858106394 | D42: 858106394 | E42: 0 | F42: 32621340
A43: 여성가족평생교육위원회 | B43: =SUM(D43:F43) -> 9354473576 | C43: =D43+E43 -> 9354473576 | D43: 9242026712 | E43: 112446864 | F43: 0
A45: 예비비 | B45: 42834815

Sheet 3. 일입
A1: 일반회계 세입 예산 조정(안) | AA1: 자동입력 | AF1: 자동입력 | AK1: "3. 일출(의존)" 에 입력 | AN1: "3. 일출(자체)" "3. 일출(의존)" 에 입력 | AS1: 검증 | AZ1: 검증
AA2: 국비 세입=국비 세출 | AC2: 도비 세입=도비 세출 | AF2: 국비 세입=국비 세출 | AH2: 도비 세입=도비 세출
Y3: (단위 : 천원) | AA3: =IF(AA7='3. 일출(의존)'!AB6,"OK","@@") -> @@ | AC3: =IF(SUM(AB7:AD7)=SUM('3. 일출(자체)'!AC6:AE6)+SUM('3. 일출(의존)'!AC6:AE6),"OK","@@") -> @@ | AF3: =IF(AF7='3. 일출(의존)'!AH6,"OK","@@") -> OK | AH3: =IF(SUM(AG7:AI7)=SUM('3. 일출(자체)'!AH6:AJ6)+SUM('3. 일출(의존)'!AI6:AK6),"OK","@@") -> OK
A4: 번호 | B4: 위원회명 | C4: 실국명 | D4: 부서명 | E4: 편성 구분 | F4: 예산안 /예산서 페이지 | G4: 실국별 사업 설명서 페이지 | H4: 목코드 | I4: 목명 | J4: 부기명 | K4: 기정액 (본예산+1추) (가) | L4: 증감액 (2회추경안) (나) | M4: 예산안 (다=가+나) | N4: 상임위 조정액 (라) | O4: 상임위 조정 예산안 (마=다+라) | P4: 예결특위 조정액 (바) | Q4: 예결특위 조정 예산안 (사=다+바) | R4: 상임위 동의 대상 | S4: 참고자료 (관련공문) | T4: 상임위 부대의견 | U4: 예비 심사시 집행부 동의여부 | V4: 예결특위 부대의견 | W4: 부대의견 | X4: 실국의견 청취대상 | Y4: 국도비 등 여부 | AA4: 상임위 재원별 증감액 | AF4: 예결위 재원별 증감액 | AK4: 국비 | AN4: 도비 | AQ4: 실국 부서 코드 | AS4: 상임위 세입/세출 검증 | AZ4: 예결위 세입/세출 검증
AA5: 국비 | AB5: 도비 | AF5: 국비 | AG5: 도비 | AK5: 세입 번호 | AL5: 재원 | AN5: 세입 번호 | AO5: 재원 | AS5: 국비 | AV5: 도비 | AZ5: 국비 | BC5: 도비
AB6: 자체 | AC6: 지방채 | AD6: 지역개발기금 | AG6: 자체 | AH6: 지방채 | AI6: 지역개발기금 | AS6: 증감액 | AT6: 건수 | AU6: 세입세출 금액검증 | AV6: 증감액 | AW6: 건수 | AX6: 세입세출 금액검증 | AZ6: 증감액 | BA6: 건수 | BB6: 세입세출 금액검증 | BC6: 증감액 | BD6: 건수 | BE6: 세입세출 금액검증
B7: 합 계 | J7: =SUBTOTAL(3,J$8:J$2000)&"건" -> 5건 | K7: =SUBTOTAL(9,K$8:K$2000) -> 10930645 | L7: =SUBTOTAL(9,L$8:L$2000) -> 538658 | M7: =SUBTOTAL(9,M$8:M$2000) -> 11469303 | N7: =SUBTOTAL(9,N$8:N$2000) -> -402425 | O7: =SUBTOTAL(9,O$8:O$2000) -> 11066878 | P7: =SUBTOTAL(9,P$8:P$2000) -> 0 | Q7: =SUBTOTAL(9,Q$8:Q$2000) -> 11469303 | AA7: =SUBTOTAL(9,AA$8:AA$2000) -> 84100 | AB7: =SUBTOTAL(9,AB$8:AB$2000) -> -22405 | AC7: =SUBTOTAL(9,AC$8:AC$2000) -> -464120 | AD7: =SUBTOTAL(9,AD$8:AD$2000) -> 0 | AF7: =SUBTOTAL(9,AF$8:AF$2000) -> 0 | AG7: =SUBTOTAL(9,AG$8:AG$2000) -> 0 | AH7: =SUBTOTAL(9,AH$8:AH$2000) -> 0 | AI7: =SUBTOTAL(9,AI$8:AI$2000) -> 0 | AS7: =SUBTOTAL(9,AS$8:AS$2000) -> 47350 | AT7: =SUBTOTAL(9,AT$8:AT$2000) -> 2 | AU7: =IF(COUNTIF(AU$8:AU$2000,"@@")>0,"@@","OK") -> @@ | AV7: =SUBTOTAL(9,AV$8:AV$2000) -> -464120 | AW7: =SUBTOTAL(9,AW$8:AW$2000) -> 1 | AX7: =IF(COUNTIF(AX$8:AX$2000,"@@")>0,"@@","OK") -> OK | AZ7: =SUBTOTAL(9,AZ$8:AZ$2000) -> 0 | BA7: =SUBTOTAL(9,BA$8:BA$2000) -> 2 | BB7: =IF(COUNTIF(BB$8:BB$2000,"@@")>0,"@@","OK") -> OK | BC7: =SUBTOTAL(9,BC$8:BC$2000) -> 0 | BD7: =SUBTOTAL(9,BD$8:BD$2000) -> 1 | BE7: =IF(COUNTIF(BE$8:BE$2000,"@@")>0,"@@","OK") -> OK
B8: (의회운영위원회) | J8: =SUBTOTAL(3,J9:J24)&"건" -> 0건 | K8: =SUBTOTAL(9,K9:K24) -> 0 | L8: =SUBTOTAL(9,L9:L24) -> 0 | M8: =SUBTOTAL(9,M9:M24) -> 0 | N8: =SUBTOTAL(9,N9:N24) -> 0 | O8: =SUBTOTAL(9,O9:O24) -> 0 | P8: =SUBTOTAL(9,P9:P24) -> 0 | Q8: =SUBTOTAL(9,Q9:Q24) -> 0 | AA8: =SUBTOTAL(9,AA9:AA24) -> 0 | AB8: =SUBTOTAL(9,AB9:AB24) -> 0 | AC8: =SUBTOTAL(9,AC9:AC24) -> 0 | AD8: =SUBTOTAL(9,AD9:AD24) -> 0 | AF8: =SUBTOTAL(9,AF9:AF24) -> 0 | AG8: =SUBTOTAL(9,AG9:AG24) -> 0 | AH8: =SUBTOTAL(9,AH9:AH24) -> 0 | AI8: =SUBTOTAL(9,AI9:AI24) -> 0 | AS8: =SUBTOTAL(9,AS9:AS24) -> 0 | AT8: =SUBTOTAL(9,AT9:AT24) -> 0 | AU8: =IF(COUNTIF(AU9:AU24,"@@")>0,"@@","OK") -> OK | AV8: =SUBTOTAL(9,AV9:AV24) -> 0 | AW8: =SUBTOTAL(9,AW9:AW24) -> 0 | AX8: =IF(COUNTIF(AX9:AX24,"@@")>0,"@@","OK") -> OK | AZ8: =SUBTOTAL(9,AZ9:AZ24) -> 0 | BA8: =SUBTOTAL(9,BA9:BA24) -> 0 | BB8: =IF(COUNTIF(BB9:BB24,"@@")>0,"@@","OK") -> OK | BC8: =SUBTOTAL(9,BC9:BC24) -> 0 | BD8: =SUBTOTAL(9,BD9:BD24) -> 0 | BE8: =IF(COUNTIF(BE9:BE24,"@@")>0,"@@","OK") -> OK
A9: =IF(D9="","",COUNTA($C$8:C9)-COUNTBLANK($C$8:C9)+1) | B9: =IF(D9="","",IF(OR(C9="직접입력",D9="북부지원"),"직접입력",IF(OR(AND(D9="인사과",C9="의회사무처"),AND(D9="총무과",C9="의회사무처")),"의회운영위원회",IF(OR(C9="직접입력",D9="북부지원"),"직접입력",IF(OR(AND(D9="인사과",C9="자치행정국"),AND(D9="총무과",C9="자치행정국")),"안전행정위원회",VLOOKUP(D9,구분표!$A$3:$C$258,2,)))))) | C9: =IF(D9="","",IF(OR(D9="교육지원과",D9="총무과",D9="인사과"),"직접입력",VLOOKUP(D9,구분표!$A$3:$C$258,3,))) | F9: =IF($E9="","",IF($E9="2추","직접입력","-")) | G9: =IF($E9="","",IF($E9="2추","직접입력","-")) | I9: =IF(H9="","",VLOOKUP($H9,구분표!$O$3:$P$168,2,FALSE)) | K9: =IF($E9="","",IF(OR($E9="2추",$E9="1추",$E9="본예산"),"금액입력","-")) | L9: =IF($E9="","",IF($E9="2추","금액입력","-")) | M9: =IF($E9="","",SUM(K9:L9)) | O9: =SUM(M9:N9) -> 0 | Q9: =SUM(M9,P9) -> 0 | R9: =IF(AND((O9=0),(Q9>0)),"O",IF(AND((N9<0),(O9-Q9<0)),"O","X")) -> X | Y9: =IF($H9="","",IF(OR($H9="511-01",$H9="511-02",$H9="511-03",$H9="311-02",$H9="311-04",$H9="321-01"),"국비","도비")) | AA9: =IF($Y9="국비",IF($N9<>"",$N9,0),"") | AB9: =IF($Y9="도비",IF($AO9="자체",IF($N9<>"",$N9,0),""),"") | AC9: =IF($Y9="도비",IF($AO9="지방채",IF($N9<>"",$N9,0),""),"") | AD9: =IF($Y9="도비",IF($AO9="지역개발기금",IF($N9<>"",$N9,0),""),"") | AF9: =IF($Y9="국비",IF($P9<>"",$P9,0),"") | AG9: =IF($Y9="도비",IF($AO9="자체",IF($P9<>"",$P9,0),""),"") | AH9: =IF($Y9="도비",IF($AO9="지방채",IF($P9<>"",$P9,0),""),"") | AI9: =IF($Y9="도비",IF($AO9="지역개발기금",IF($P9<>"",$P9,0),""),"") | AK9: =IF($AQ9="","",IF(OR($AL9="",$AL9="도비"),"",CONCATENATE($AQ9,"-",COUNTIF($AQ$8:$AQ9,$AQ9)))) | AL9: =IF($H9="","",IF($H9="511-01","국비",IF($H9="511-02","균특",IF($H9="511-03","기금",IF($H9="311-02","특교",IF($H9="311-04","소교",IF($H9="321-01","소멸","도비"))))))) | AN9: =IF($AQ9="","",IF(OR($AO9="",$AO9="국비",$AO9="자체"),"",CONCATENATE($AQ9,"-",$AO9,"-",COUNTIF($AQ$8:$AQ9,$AQ9)))) | AO9: =IF($Y9="","",IF($Y9="국비","국비",IF($H9="612-01","지방채",IF($H9="722-02","지역개발기금","자체")))) | AQ9: {=IF(OR($D9="",$C9="직접입력",$B9="직접입력"),"",INDEX(구분표!$I$2:$I$337,MATCH(1,(구분표!$G$2:$G$337='3. 일입'!$B9)*(구분표!$E$2:$E$337='3. 일입'!$C9)*(구분표!$F$2:$F$337='3. 일입'!$D9),0)))} | AS9: =IF($AK9="","",SUMIFS('3. 일출(의존)'!$AB$7:$AB$1989,'3. 일출(의존)'!$AN$7:$AN$1989,$AK9)) | AT9: =IF($AK9="","",COUNTIF('3. 일출(의존)'!$AN$7:$AN$1989,$AK9)) | AU9: =IF($AK9="","",IF($AA9=$AS9,"OK","@@")) | AV9: =IF($AN9="","",IF($AO9="지역개발기금",SUMIFS('3. 일출(의존)'!$AE$8:$AE$2000,'3. 일출(의존)'!$AS$8:$AS$2000,$AN9)+SUMIFS('3. 일출(자체)'!$AE$8:$AE$2000,'3. 일출(자체)'!$AM$8:$AM$2000,$AN9),IF($AO9="지방채",SUMIFS('3. 일출(의존)'!$AD$8:$AD$2000,'3. 일출(의존)'!$AS$8:$AS$2000,$AN9)+SUMIFS('3. 일출(자체)'!$AD$8:$AD$2000,'3. 일출(자체)'!$AM$8:$AM$2000,$AN9),0))) | AW9: =IF($AN9="","",COUNTIF('3. 일출(의존)'!$AS$8:$AS$2000,$AN9)+COUNTIF('3. 일출(자체)'!$AM$8:$AM$2000,$AN9)) | AX9: =IF($AN9="","",IF($AO9="자체","",IF($AO9="지방채",IF($AC9=$AV9,"OK","@@"),IF($AO9="지역개발기금",IF($AD9=$AV9,"OK","@@"),"@@")))) | AZ9: =IF($AK9="","",SUMIFS('3. 일출(의존)'!$AH$8:$AH$1989,'3. 일출(의존)'!$AN$8:$AN$1989,$AK9)) | BA9: =IF($AK9="","",COUNTIF('3. 일출(의존)'!$AN$7:$AN$1989,$AK9)) | BB9: =IF($AK9="","",IF($AF9=$AZ9,"OK","@@")) | BC9: =IF($AN9="","",IF($AO9="지역개발기금",SUMIFS('3. 일출(의존)'!$AK$8:$AK$2000,'3. 일출(의존)'!$AS$8:$AS$2000,$AN9)+SUMIFS('3. 일출(자체)'!$AJ$8:$AJ$2000,'3. 일출(자체)'!$AM$8:$AM$2000,$AN9),IF($AO9="지방채",SUMIFS('3. 일출(의존)'!$AJ$8:$AJ$2000,'3. 일출(의존)'!$AS$8:$AS$2000,$AN9)+SUMIFS('3. 일출(자체)'!$AI$8:$AI$2000,'3. 일출(자체)'!$AM$8:$AM$2000,$AN9),0))) | BD9: =IF($AN9="","",COUNTIF('3. 일출(의존)'!$AS$8:$AS$2000,$AN9)+COUNTIF('3. 일출(자체)'!$AM$8:$AM$2000,$AN9)) | BE9: =IF($AN9="","",IF($AO9="자체","",IF($AO9="지방채",IF($AH9=$BC9,"OK","@@"),IF($AO9="지역개발기금",IF($AI9=$BC9,"OK","@@"),"@@"))))
A10: =IF(D10="","",COUNTA($C$8:C10)-COUNTBLANK($C$8:C10)+1) | B10: =IF(D10="","",IF(OR(C10="직접입력",D10="북부지원"),"직접입력",IF(OR(AND(D10="인사과",C10="의회사무처"),AND(D10="총무과",C10="의회사무처")),"의회운영위원회",IF(OR(C10="직접입력",D10="북부지원"),"직접입력",IF(OR(AND(D10="인사과",C10="자치행정국"),AND(D10="총무과",C10="자치행정국")),"안전행정위원회",VLOOKUP(D10,구분표!$A$3:$C$258,2,)))))) | C10: =IF(D10="","",IF(OR(D10="교육지원과",D10="총무과",D10="인사과"),"직접입력",VLOOKUP(D10,구분표!$A$3:$C$258,3,))) | F10: =IF($E10="","",IF($E10="2추","직접입력","-")) | G10: =IF($E10="","",IF($E10="2추","직접입력","-")) | I10: =IF(H10="","",VLOOKUP($H10,구분표!$O$3:$P$168,2,FALSE)) | K10: =IF($E10="","",IF(OR($E10="2추",$E10="1추",$E10="본예산"),"금액입력","-")) | L10: =IF($E10="","",IF($E10="2추","금액입력","-")) | M10: =IF($E10="","",SUM(K10:L10)) | O10: =SUM(M10:N10) -> 0 | Q10: =SUM(M10,P10) -> 0 | R10: =IF(AND((O10=0),(Q10>0)),"O",IF(AND((N10<0),(O10-Q10<0)),"O","X")) -> X | Y10: =IF($H10="","",IF(OR($H10="511-01",$H10="511-02",$H10="511-03",$H10="311-02",$H10="311-04",$H10="321-01"),"국비","도비")) | AA10: =IF($Y10="국비",IF($N10<>"",$N10,0),"") | AB10: =IF($Y10="도비",IF($AO10="자체",IF($N10<>"",$N10,0),""),"") | AC10: =IF($Y10="도비",IF($AO10="지방채",IF($N10<>"",$N10,0),""),"") | AD10: =IF($Y10="도비",IF($AO10="지역개발기금",IF($N10<>"",$N10,0),""),"") | AF10: =IF($Y10="국비",IF($P10<>"",$P10,0),"") | AG10: =IF($Y10="도비",IF($AO10="자체",IF($P10<>"",$P10,0),""),"") | AH10: =IF($Y10="도비",IF($AO10="지방채",IF($P10<>"",$P10,0),""),"") | AI10: =IF($Y10="도비",IF($AO10="지역개발기금",IF($P10<>"",$P10,0),""),"") | AK10: =IF($AQ10="","",IF(OR($AL10="",$AL10="도비"),"",CONCATENATE($AQ10,"-",COUNTIF($AQ$8:$AQ10,$AQ10)))) | AL10: =IF($H10="","",IF($H10="511-01","국비",IF($H10="511-02","균특",IF($H10="511-03","기금",IF($H10="311-02","특교",IF($H10="311-04","소교",IF($H10="321-01","소멸","도비"))))))) | AN10: =IF($AQ10="","",IF(OR($AO10="",$AO10="국비",$AO10="자체"),"",CONCATENATE($AQ10,"-",$AO10,"-",COUNTIF($AQ$8:$AQ10,$AQ10)))) | AO10: =IF($Y10="","",IF($Y10="국비","국비",IF($H10="612-01","지방채",IF($H10="722-02","지역개발기금","자체")))) | AQ10: {=IF(OR($D10="",$C10="직접입력",$B10="직접입력"),"",INDEX(구분표!$I$2:$I$337,MATCH(1,(구분표!$G$2:$G$337='3. 일입'!$B10)*(구분표!$E$2:$E$337='3. 일입'!$C10)*(구분표!$F$2:$F$337='3. 일입'!$D10),0)))} | AS10: =IF($AK10="","",SUMIFS('3. 일출(의존)'!$AB$7:$AB$1989,'3. 일출(의존)'!$AN$7:$AN$1989,$AK10)) | AT10: =IF($AK10="","",COUNTIF('3. 일출(의존)'!$AN$7:$AN$1989,$AK10)) | AU10: =IF($AK10="","",IF($AA10=$AS10,"OK","@@")) | AV10: =IF($AN10="","",IF($AO10="지역개발기금",SUMIFS('3. 일출(의존)'!$AE$8:$AE$2000,'3. 일출(의존)'!$AS$8:$AS$2000,$AN10)+SUMIFS('3. 일출(자체)'!$AE$8:$AE$2000,'3. 일출(자체)'!$AM$8:$AM$2000,$AN10),IF($AO10="지방채",SUMIFS('3. 일출(의존)'!$AD$8:$AD$2000,'3. 일출(의존)'!$AS$8:$AS$2000,$AN10)+SUMIFS('3. 일출(자체)'!$AD$8:$AD$2000,'3. 일출(자체)'!$AM$8:$AM$2000,$AN10),0))) | AW10: =IF($AN10="","",COUNTIF('3. 일출(의존)'!$AS$8:$AS$2000,$AN10)+COUNTIF('3. 일출(자체)'!$AM$8:$AM$2000,$AN10)) | AX10: =IF($AN10="","",IF($AO10="자체","",IF($AO10="지방채",IF($AC10=$AV10,"OK","@@"),IF($AO10="지역개발기금",IF($AD10=$AV10,"OK","@@"),"@@")))) | AZ10: =IF($AK10="","",SUMIFS('3. 일출(의존)'!$AH$8:$AH$1989,'3. 일출(의존)'!$AN$8:$AN$1989,$AK10)) | BA10: =IF($AK10="","",COUNTIF('3. 일출(의존)'!$AN$7:$AN$1989,$AK10)) | BB10: =IF($AK10="","",IF($AF10=$AZ10,"OK","@@")) | BC10: =IF($AN10="","",IF($AO10="지역개발기금",SUMIFS('3. 일출(의존)'!$AK$8:$AK$2000,'3. 일출(의존)'!$AS$8:$AS$2000,$AN10)+SUMIFS('3. 일출(자체)'!$AJ$8:$AJ$2000,'3. 일출(자체)'!$AM$8:$AM$2000,$AN10),IF($AO10="지방채",SUMIFS('3. 일출(의존)'!$AJ$8:$AJ$2000,'3. 일출(의존)'!$AS$8:$AS$2000,$AN10)+SUMIFS('3. 일출(자체)'!$AI$8:$AI$2000,'3. 일출(자체)'!$AM$8:$AM$2000,$AN10),0))) | BD10: =IF($AN10="","",COUNTIF('3. 일출(의존)'!$AS$8:$AS$2000,$AN10)+COUNTIF('3. 일출(자체)'!$AM$8:$AM$2000,$AN10)) | BE10: =IF($AN10="","",IF($AO10="자체","",IF($AO10="지방채",IF($AH10=$BC10,"OK","@@"),IF($AO10="지역개발기금",IF($AI10=$BC10,"OK","@@"),"@@"))))
A11: =IF(D11="","",COUNTA($C$8:C11)-COUNTBLANK($C$8:C11)+1) | B11: =IF(D11="","",IF(OR(C11="직접입력",D11="북부지원"),"직접입력",IF(OR(AND(D11="인사과",C11="의회사무처"),AND(D11="총무과",C11="의회사무처")),"의회운영위원회",IF(OR(C11="직접입력",D11="북부지원"),"직접입력",IF(OR(AND(D11="인사과",C11="자치행정국"),AND(D11="총무과",C11="자치행정국")),"안전행정위원회",VLOOKUP(D11,구분표!$A$3:$C$258,2,)))))) | C11: =IF(D11="","",IF(OR(D11="교육지원과",D11="총무과",D11="인사과"),"직접입력",VLOOKUP(D11,구분표!$A$3:$C$258,3,))) | F11: =IF($E11="","",IF($E11="2추","직접입력","-")) | G11: =IF($E11="","",IF($E11="2추","직접입력","-")) | I11: =IF(H11="","",VLOOKUP($H11,구분표!$O$3:$P$168,2,FALSE)) | K11: =IF($E11="","",IF(OR($E11="2추",$E11="1추",$E11="본예산"),"금액입력","-")) | L11: =IF($E11="","",IF($E11="2추","금액입력","-")) | M11: =IF($E11="","",SUM(K11:L11)) | O11: =SUM(M11:N11) -> 0 | Q11: =SUM(M11,P11) -> 0 | R11: =IF(AND((O11=0),(Q11>0)),"O",IF(AND((N11<0),(O11-Q11<0)),"O","X")) -> X | Y11: =IF($H11="","",IF(OR($H11="511-01",$H11="511-02",$H11="511-03",$H11="311-02",$H11="311-04",$H11="321-01"),"국비","도비")) | AA11: =IF($Y11="국비",IF($N11<>"",$N11,0),"") | AB11: =IF($Y11="도비",IF($AO11="자체",IF($N11<>"",$N11,0),""),"") | AC11: =IF($Y11="도비",IF($AO11="지방채",IF($N11<>"",$N11,0),""),"") | AD11: =IF($Y11="도비",IF($AO11="지역개발기금",IF($N11<>"",$N11,0),""),"") | AF11: =IF($Y11="국비",IF($P11<>"",$P11,0),"") | AG11: =IF($Y11="도비",IF($AO11="자체",IF($P11<>"",$P11,0),""),"") | AH11: =IF($Y11="도비",IF($AO11="지방채",IF($P11<>"",$P11,0),""),"") | AI11: =IF($Y11="도비",IF($AO11="지역개발기금",IF($P11<>"",$P11,0),""),"") | AK11: =IF($AQ11="","",IF(OR($AL11="",$AL11="도비"),"",CONCATENATE($AQ11,"-",COUNTIF($AQ$8:$AQ11,$AQ11)))) | AL11: =IF($H11="","",IF($H11="511-01","국비",IF($H11="511-02","균특",IF($H11="511-03","기금",IF($H11="311-02","특교",IF($H11="311-04","소교",IF($H11="321-01","소멸","도비"))))))) | AN11: =IF($AQ11="","",IF(OR($AO11="",$AO11="국비",$AO11="자체"),"",CONCATENATE($AQ11,"-",$AO11,"-",COUNTIF($AQ$8:$AQ11,$AQ11)))) | AO11: =IF($Y11="","",IF($Y11="국비","국비",IF($H11="612-01","지방채",IF($H11="722-02","지역개발기금","자체")))) | AQ11: {=IF(OR($D11="",$C11="직접입력",$B11="직접입력"),"",INDEX(구분표!$I$2:$I$337,MATCH(1,(구분표!$G$2:$G$337='3. 일입'!$B11)*(구분표!$E$2:$E$337='3. 일입'!$C11)*(구분표!$F$2:$F$337='3. 일입'!$D11),0)))} | AS11: =IF($AK11="","",SUMIFS('3. 일출(의존)'!$AB$7:$AB$1989,'3. 일출(의존)'!$AN$7:$AN$1989,$AK11)) | AT11: =IF($AK11="","",COUNTIF('3. 일출(의존)'!$AN$7:$AN$1989,$AK11)) | AU11: =IF($AK11="","",IF($AA11=$AS11,"OK","@@")) | AV11: =IF($AN11="","",IF($AO11="지역개발기금",SUMIFS('3. 일출(의존)'!$AE$8:$AE$2000,'3. 일출(의존)'!$AS$8:$AS$2000,$AN11)+SUMIFS('3. 일출(자체)'!$AE$8:$AE$2000,'3. 일출(자체)'!$AM$8:$AM$2000,$AN11),IF($AO11="지방채",SUMIFS('3. 일출(의존)'!$AD$8:$AD$2000,'3. 일출(의존)'!$AS$8:$AS$2000,$AN11)+SUMIFS('3. 일출(자체)'!$AD$8:$AD$2000,'3. 일출(자체)'!$AM$8:$AM$2000,$AN11),0))) | AW11: =IF($AN11="","",COUNTIF('3. 일출(의존)'!$AS$8:$AS$2000,$AN11)+COUNTIF('3. 일출(자체)'!$AM$8:$AM$2000,$AN11)) | AX11: =IF($AN11="","",IF($AO11="자체","",IF($AO11="지방채",IF($AC11=$AV11,"OK","@@"),IF($AO11="지역개발기금",IF($AD11=$AV11,"OK","@@"),"@@")))) | AZ11: =IF($AK11="","",SUMIFS('3. 일출(의존)'!$AH$8:$AH$1989,'3. 일출(의존)'!$AN$8:$AN$1989,$AK11)) | BA11: =IF($AK11="","",COUNTIF('3. 일출(의존)'!$AN$7:$AN$1989,$AK11)) | BB11: =IF($AK11="","",IF($AF11=$AZ11,"OK","@@")) | BC11: =IF($AN11="","",IF($AO11="지역개발기금",SUMIFS('3. 일출(의존)'!$AK$8:$AK$2000,'3. 일출(의존)'!$AS$8:$AS$2000,$AN11)+SUMIFS('3. 일출(자체)'!$AJ$8:$AJ$2000,'3. 일출(자체)'!$AM$8:$AM$2000,$AN11),IF($AO11="지방채",SUMIFS('3. 일출(의존)'!$AJ$8:$AJ$2000,'3. 일출(의존)'!$AS$8:$AS$2000,$AN11)+SUMIFS('3. 일출(자체)'!$AI$8:$AI$2000,'3. 일출(자체)'!$AM$8:$AM$2000,$AN11),0))) | BD11: =IF($AN11="","",COUNTIF('3. 일출(의존)'!$AS$8:$AS$2000,$AN11)+COUNTIF('3. 일출(자체)'!$AM$8:$AM$2000,$AN11)) | BE11: =IF($AN11="","",IF($AO11="자체","",IF($AO11="지방채",IF($AH11=$BC11,"OK","@@"),IF($AO11="지역개발기금",IF($AI11=$BC11,"OK","@@"),"@@"))))
A12: =IF(D12="","",COUNTA($C$8:C12)-COUNTBLANK($C$8:C12)+1) | B12: =IF(D12="","",IF(OR(C12="직접입력",D12="북부지원"),"직접입력",IF(OR(AND(D12="인사과",C12="의회사무처"),AND(D12="총무과",C12="의회사무처")),"의회운영위원회",IF(OR(C12="직접입력",D12="북부지원"),"직접입력",IF(OR(AND(D12="인사과",C12="자치행정국"),AND(D12="총무과",C12="자치행정국")),"안전행정위원회",VLOOKUP(D12,구분표!$A$3:$C$258,2,)))))) | C12: =IF(D12="","",IF(OR(D12="교육지원과",D12="총무과",D12="인사과"),"직접입력",VLOOKUP(D12,구분표!$A$3:$C$258,3,))) | F12: =IF($E12="","",IF($E12="2추","직접입력","-")) | G12: =IF($E12="","",IF($E12="2추","직접입력","-")) | I12: =IF(H12="","",VLOOKUP($H12,구분표!$O$3:$P$168,2,FALSE)) | K12: =IF($E12="","",IF(OR($E12="2추",$E12="1추",$E12="본예산"),"금액입력","-")) | L12: =IF($E12="","",IF($E12="2추","금액입력","-")) | M12: =IF($E12="","",SUM(K12:L12)) | O12: =SUM(M12:N12) -> 0 | Q12: =SUM(M12,P12) -> 0 | R12: =IF(AND((O12=0),(Q12>0)),"O",IF(AND((N12<0),(O12-Q12<0)),"O","X")) -> X | Y12: =IF($H12="","",IF(OR($H12="511-01",$H12="511-02",$H12="511-03",$H12="311-02",$H12="311-04",$H12="321-01"),"국비","도비")) | AA12: =IF($Y12="국비",IF($N12<>"",$N12,0),"") | AB12: =IF($Y12="도비",IF($AO12="자체",IF($N12<>"",$N12,0),""),"") | AC12: =IF($Y12="도비",IF($AO12="지방채",IF($N12<>"",$N12,0),""),"") | AD12: =IF($Y12="도비",IF($AO12="지역개발기금",IF($N12<>"",$N12,0),""),"") | AF12: =IF($Y12="국비",IF($P12<>"",$P12,0),"") | AG12: =IF($Y12="도비",IF($AO12="자체",IF($P12<>"",$P12,0),""),"") | AH12: =IF($Y12="도비",IF($AO12="지방채",IF($P12<>"",$P12,0),""),"") | AI12: =IF($Y12="도비",IF($AO12="지역개발기금",IF($P12<>"",$P12,0),""),"") | AK12: =IF($AQ12="","",IF(OR($AL12="",$AL12="도비"),"",CONCATENATE($AQ12,"-",COUNTIF($AQ$8:$AQ12,$AQ12)))) | AL12: =IF($H12="","",IF($H12="511-01","국비",IF($H12="511-02","균특",IF($H12="511-03","기금",IF($H12="311-02","특교",IF($H12="311-04","소교",IF($H12="321-01","소멸","도비"))))))) | AN12: =IF($AQ12="","",IF(OR($AO12="",$AO12="국비",$AO12="자체"),"",CONCATENATE($AQ12,"-",$AO12,"-",COUNTIF($AQ$8:$AQ12,$AQ12)))) | AO12: =IF($Y12="","",IF($Y12="국비","국비",IF($H12="612-01","지방채",IF($H12="722-02","지역개발기금","자체")))) | AQ12: {=IF(OR($D12="",$C12="직접입력",$B12="직접입력"),"",INDEX(구분표!$I$2:$I$337,MATCH(1,(구분표!$G$2:$G$337='3. 일입'!$B12)*(구분표!$E$2:$E$337='3. 일입'!$C12)*(구분표!$F$2:$F$337='3. 일입'!$D12),0)))} | AS12: =IF($AK12="","",SUMIFS('3. 일출(의존)'!$AB$7:$AB$1989,'3. 일출(의존)'!$AN$7:$AN$1989,$AK12)) | AT12: =IF($AK12="","",COUNTIF('3. 일출(의존)'!$AN$7:$AN$1989,$AK12)) | AU12: =IF($AK12="","",IF($AA12=$AS12,"OK","@@")) | AV12: =IF($AN12="","",IF($AO12="지역개발기금",SUMIFS('3. 일출(의존)'!$AE$8:$AE$2000,'3. 일출(의존)'!$AS$8:$AS$2000,$AN12)+SUMIFS('3. 일출(자체)'!$AE$8:$AE$2000,'3. 일출(자체)'!$AM$8:$AM$2000,$AN12),IF($AO12="지방채",SUMIFS('3. 일출(의존)'!$AD$8:$AD$2000,'3. 일출(의존)'!$AS$8:$AS$2000,$AN12)+SUMIFS('3. 일출(자체)'!$AD$8:$AD$2000,'3. 일출(자체)'!$AM$8:$AM$2000,$AN12),0))) | AW12: =IF($AN12="","",COUNTIF('3. 일출(의존)'!$AS$8:$AS$2000,$AN12)+COUNTIF('3. 일출(자체)'!$AM$8:$AM$2000,$AN12)) | AX12: =IF($AN12="","",IF($AO12="자체","",IF($AO12="지방채",IF($AC12=$AV12,"OK","@@"),IF($AO12="지역개발기금",IF($AD12=$AV12,"OK","@@"),"@@")))) | AZ12: =IF($AK12="","",SUMIFS('3. 일출(의존)'!$AH$8:$AH$1989,'3. 일출(의존)'!$AN$8:$AN$1989,$AK12)) | BA12: =IF($AK12="","",COUNTIF('3. 일출(의존)'!$AN$7:$AN$1989,$AK12)) | BB12: =IF($AK12="","",IF($AF12=$AZ12,"OK","@@")) | BC12: =IF($AN12="","",IF($AO12="지역개발기금",SUMIFS('3. 일출(의존)'!$AK$8:$AK$2000,'3. 일출(의존)'!$AS$8:$AS$2000,$AN12)+SUMIFS('3. 일출(자체)'!$AJ$8:$AJ$2000,'3. 일출(자체)'!$AM$8:$AM$2000,$AN12),IF($AO12="지방채",SUMIFS('3. 일출(의존)'!$AJ$8:$AJ$2000,'3. 일출(의존)'!$AS$8:$AS$2000,$AN12)+SUMIFS('3. 일출(자체)'!$AI$8:$AI$2000,'3. 일출(자체)'!$AM$8:$AM$2000,$AN12),0))) | BD12: =IF($AN12="","",COUNTIF('3. 일출(의존)'!$AS$8:$AS$2000,$AN12)+COUNTIF('3. 일출(자체)'!$AM$8:$AM$2000,$AN12)) | BE12: =IF($AN12="","",IF($AO12="자체","",IF($AO12="지방채",IF($AH12=$BC12,"OK","@@"),IF($AO12="지역개발기금",IF($AI12=$BC12,"OK","@@"),"@@"))))
