Workbook

Sheet 1. 표지 (상임위)
U2: (단위 : 천원) | Z2: (단위 : 천원)
A4: 2026년도 경기도 제2회 추가경정예산안 및 기금운용계획 변경안
A5: 상임위 계수조정 결과
A15: 경기도의회 예산결산특별위원회

Sheet 1. 총괄표(상임위)
A2: 총괄 현황
A4: □ 위원회별 조정현황
I5: (단위 : 천원)
A6: 구 분 | B6: 집행부제출(안) | C6: 세입예산(안) | F6: 세출예산(안) | I6: 수정예산(안) | K6: ※ 예산안 증감현황
C7: 감 액 | D7: 증 액 | E7: 증감액 | F7: 감 액 | G7: 증 액 | H7: 증감액 | K7: 구 분 | L7: 세입 | M7: 세출 | N7: 예비비 | O7: 비고
A8: 계 | B8: =SUM(B9:B19) -> 42242001864 | C8: =SUM(C9:C19) -> -2156025 | D8: =SUM(D9:D19) -> 84100 | E8: =SUM(E9:E19) -> -2071925 | F8: =SUM(F9:F19) -> -13056490 | G8: =SUM(G9:G19) -> 14715391 | H8: =SUM(H9:H19) -> 1658901 | I8: =SUM(I9:I19) -> 42243660765 | K8: 계 | L8: =SUM(L9:L10) -> -2071925 | M8: =SUM(M9:M10) -> 1658901 | N8: =L8-M8 -> -3730826
A9: 의회운영위원회 | B9: =B33 -> 129702008 | C9: =SUMIFS('3. 일입'!$N$7:$N$2000,'3. 일입'!$B$7:$B$2000,$A9,'3. 일입'!$N$7:$N$2000,"<"&0)+SUMIFS('4. 특입'!$N$6:$N$1994,'4. 특입'!$B$6:$B$1994,$A9,'4. 특입'!$N$6:$N$1994,"<"&0)+SUMIFS('4-1. 공특입'!$O$6:$O$1992,'4-1. 공특입'!$B$6:$B$1992,$A9,'4-1. 공특입'!$O$6:$O$1992,"<"&0) -> 0 | D9: =SUMIFS('3. 일입'!$N$7:$N$2000,'3. 일입'!$B$7:$B$2000,$A9,'3. 일입'!$N$7:$N$2000,">"&0)+SUMIFS('4. 특입'!$N$6:$N$1994,'4. 특입'!$B$6:$B$1994,$A9,'4. 특입'!$N$6:$N$1994,">"&0)+SUMIFS('4-1. 공특입'!$O$6:$O$1992,'4-1. 공특입'!$B$6:$B$1992,$A9,'4-1. 공특입'!$O$6:$O$1992,">"&0) -> 0 | E9: =C9+D9 -> 0 | F9: =SUMIFS('3. 일출(자체)'!$P$6:$P$1989,'3. 일출(자체)'!$B$6:$B$1989,$A9,'3. 일출(자체)'!$P$6:$P$1989,"<"&0)+SUMIFS('3. 일출(의존)'!$P$6:P$1989,'3. 일출(의존)'!$B$6:$B$1989,$A9,'3. 일출(의존)'!$P$6:$P$1989,"<"&0)+SUMIFS('4. 특출'!$P$5:$P$1991,'4. 특출'!$B$5:$B$1991,$A9,'4. 특출'!$P$5:$P$1991,"<"&0)+SUMIFS('4-1. 공특출'!$P$5:$P$1992,'4-1. 공특출'!$B$5:$B$1992,$A9,'4-1. 공특출'!$P$5:$P$1992,"<"&0) -> 0 | G9: =SUMIFS('3. 일출(자체)'!$P$6:$P$1989,'3. 일출(자체)'!$B$6:$B$1989,$A9,'3. 일출(자체)'!$P$6:$P$1989,">"&0)+SUMIFS('3. 일출(의존)'!$P$6:$P$1989,'3. 일출(의존)'!$B$6:$B$1989,$A9,'3. 일출(의존)'!$P$6:$P$1989,">"&0)+SUMIFS('4. 특출'!$P$5:$P$1991,'4. 특출'!$B$5:$B$1991,$A9,'4. 특출'!$P$5:$P$1991,">"&0)+SUMIFS('4-1. 공특출'!$P$5:$P$1992,'4-1. 공특출'!$B$5:$B$1992,$A9,'4-1. 공특출'!$P$5:$P$1992,">"&0) -> 0 | H9: =G9+F9 -> 0 | I9: =B9+F9+G9 -> 129702008 | K9: 일반회계 | L9: =SUM(C26:D26) -> -402425 | M9: =SUM(F26:G26) -> 10128401 | N9: =L9-M9 -> -10530826 | O9: 예비비 증감 - 감액, + 증액에 입력
A10: 기획재정위원회 | B10: =B34 -> 5932148107 | C10: =SUMIFS('3. 일입'!$N$7:$N$2000,'3. 일입'!$B$7:$B$2000,$A10,'3. 일입'!$N$7:$N$2000,"<"&0)+SUMIFS('4. 특입'!$N$6:$N$1994,'4. 특입'!$B$6:$B$1994,$A10,'4. 특입'!$N$6:$N$1994,"<"&0)+SUMIFS('4-1. 공특입'!$O$6:$O$1992,'4-1. 공특입'!$B$6:$B$1992,$A10,'4-1. 공특입'!$O$6:$O$1992,"<"&0) -> 0 | D10: =SUMIFS('3. 일입'!$N$7:$N$2000,'3. 일입'!$B$7:$B$2000,$A10,'3. 일입'!$N$7:$N$2000,">"&0)+SUMIFS('4. 특입'!$N$6:$N$1994,'4. 특입'!$B$6:$B$1994,$A10,'4. 특입'!$N$6:$N$1994,">"&0)+SUMIFS('4-1. 공특입'!$O$6:$O$1992,'4-1. 공특입'!$B$6:$B$1992,$A10,'4-1. 공특입'!$O$6:$O$1992,">"&0) -> 0 | E10: =C10+D10 -> 0 | F10: =SUMIFS('3. 일출(자체)'!$P$6:$P$1989,'3. 일출(자체)'!$B$6:$B$1989,$A10,'3. 일출(자체)'!$P$6:$P$1989,"<"&0)+SUMIFS('3. 일출(의존)'!$P$6:P$1989,'3. 일출(의존)'!$B$6:$B$1989,$A10,'3. 일출(의존)'!$P$6:$P$1989,"<"&0)+SUMIFS('4. 특출'!$P$5:$P$1991,'4. 특출'!$B$5:$B$1991,$A10,'4. 특출'!$P$5:$P$1991,"<"&0)+SUMIFS('4-1. 공특출'!$P$5:$P$1992,'4-1. 공특출'!$B$5:$B$1992,$A10,'4-1. 공특출'!$P$5:$P$1992,"<"&0) -> 0 | G10: =SUMIFS('3. 일출(자체)'!$P$6:$P$1989,'3. 일출(자체)'!$B$6:$B$1989,$A10,'3. 일출(자체)'!$P$6:$P$1989,">"&0)+SUMIFS('3. 일출(의존)'!$P$6:$P$1989,'3. 일출(의존)'!$B$6:$B$1989,$A10,'3. 일출(의존)'!$P$6:$P$1989,">"&0)+SUMIFS('4. 특출'!$P$5:$P$1991,'4. 특출'!$B$5:$B$1991,$A10,'4. 특출'!$P$5:$P$1991,">"&0)+SUMIFS('4-1. 공특출'!$P$5:$P$1992,'4-1. 공특출'!$B$5:$B$1992,$A10,'4-1. 공특출'!$P$5:$P$1992,">"&0) -> 0 | H10: =G10+F10 -> 0 | I10: =B10+F10+G10 -> 5932148107 | K10: 특별회계 | L10: =SUM(C27:D27) -> -1669500 | M10: =SUM(F27:G27) -> -8469500 | N10: =L10-M10 -> 6800000
A11: 경제노동위원회 | B11: =B35 -> 474872242 | C11: =SUMIFS('3. 일입'!$N$7:$N$2000,'3. 일입'!$B$7:$B$2000,$A11,'3. 일입'!$N$7:$N$2000,"<"&0)+SUMIFS('4. 특입'!$N$6:$N$1994,'4. 특입'!$B$6:$B$1994,$A11,'4. 특입'!$N$6:$N$1994,"<"&0)+SUMIFS('4-1. 공특입'!$O$6:$O$1992,'4-1. 공특입'!$B$6:$B$1992,$A11,'4-1. 공특입'!$O$6:$O$1992,"<"&0) -> 0 | D11: =SUMIFS('3. 일입'!$N$7:$N$2000,'3. 일입'!$B$7:$B$2000,$A11,'3. 일입'!$N$7:$N$2000,">"&0)+SUMIFS('4. 특입'!$N$6:$N$1994,'4. 특입'!$B$6:$B$1994,$A11,'4. 특입'!$N$6:$N$1994,">"&0)+SUMIFS('4-1. 공특입'!$O$6:$O$1992,'4-1. 공특입'!$B$6:$B$1992,$A11,'4-1. 공특입'!$O$6:$O$1992,">"&0) -> 0 | E11: =C11+D11 -> 0 | F11: =SUMIFS('3. 일출(자체)'!$P$6:$P$1989,'3. 일출(자체)'!$B$6:$B$1989,$A11,'3. 일출(자체)'!$P$6:$P$1989,"<"&0)+SUMIFS('3. 일출(의존)'!$P$6:P$1989,'3. 일출(의존)'!$B$6:$B$1989,$A11,'3. 일출(의존)'!$P$6:$P$1989,"<"&0)+SUMIFS('4. 특출'!$P$5:$P$1991,'4. 특출'!$B$5:$B$1991,$A11,'4. 특출'!$P$5:$P$1991,"<"&0)+SUMIFS('4-1. 공특출'!$P$5:$P$1992,'4-1. 공특출'!$B$5:$B$1992,$A11,'4-1. 공특출'!$P$5:$P$1992,"<"&0) -> 0 | G11: =SUMIFS('3. 일출(자체)'!$P$6:$P$1989,'3. 일출(자체)'!$B$6:$B$1989,$A11,'3. 일출(자체)'!$P$6:$P$1989,">"&0)+SUMIFS('3. 일출(의존)'!$P$6:$P$1989,'3. 일출(의존)'!$B$6:$B$1989,$A11,'3. 일출(의존)'!$P$6:$P$1989,">"&0)+SUMIFS('4. 특출'!$P$5:$P$1991,'4. 특출'!$B$5:$B$1991,$A11,'4. 특출'!$P$5:$P$1991,">"&0)+SUMIFS('4-1. 공특출'!$P$5:$P$1992,'4-1. 공특출'!$B$5:$B$1992,$A11,'4-1. 공특출'!$P$5:$P$1992,">"&0) -> 0 | H11: =G11+F11 -> 0 | I11: =B11+F11+G11 -> 474872242 | O11: (예비비 계수 조정용)
A12: 안전행정위원회 | B12: =B36 -> 4269846310 | C12: =SUMIFS('3. 일입'!$N$7:$N$2000,'3. 일입'!$B$7:$B$2000,$A12,'3. 일입'!$N$7:$N$2000,"<"&0)+SUMIFS('4. 특입'!$N$6:$N$1994,'4. 특입'!$B$6:$B$1994,$A12,'4. 특입'!$N$6:$N$1994,"<"&0)+SUMIFS('4-1. 공특입'!$O$6:$O$1992,'4-1. 공특입'!$B$6:$B$1992,$A12,'4-1. 공특입'!$O$6:$O$1992,"<"&0) -> 0 | D12: =SUMIFS('3. 일입'!$N$7:$N$2000,'3. 일입'!$B$7:$B$2000,$A12,'3. 일입'!$N$7:$N$2000,">"&0)+SUMIFS('4. 특입'!$N$6:$N$1994,'4. 특입'!$B$6:$B$1994,$A12,'4. 특입'!$N$6:$N$1994,">"&0)+SUMIFS('4-1. 공특입'!$O$6:$O$1992,'4-1. 공특입'!$B$6:$B$1992,$A12,'4-1. 공특입'!$O$6:$O$1992,">"&0) -> 0 | E12: =C12+D12 -> 0 | F12: =SUMIFS('3. 일출(자체)'!$P$6:$P$1989,'3. 일출(자체)'!$B$6:$B$1989,$A12,'3. 일출(자체)'!$P$6:$P$1989,"<"&0)+SUMIFS('3. 일출(의존)'!$P$6:P$1989,'3. 일출(의존)'!$B$6:$B$1989,$A12,'3. 일출(의존)'!$P$6:$P$1989,"<"&0)+SUMIFS('4. 특출'!$P$5:$P$1991,'4. 특출'!$B$5:$B$1991,$A12,'4. 특출'!$P$5:$P$1991,"<"&0)+SUMIFS('4-1. 공특출'!$P$5:$P$1992,'4-1. 공특출'!$B$5:$B$1992,$A12,'4-1. 공특출'!$P$5:$P$1992,"<"&0) -> 0 | G12: =SUMIFS('3. 일출(자체)'!$P$6:$P$1989,'3. 일출(자체)'!$B$6:$B$1989,$A12,'3. 일출(자체)'!$P$6:$P$1989,">"&0)+SUMIFS('3. 일출(의존)'!$P$6:$P$1989,'3. 일출(의존)'!$B$6:$B$1989,$A12,'3. 일출(의존)'!$P$6:$P$1989,">"&0)+SUMIFS('4. 특출'!$P$5:$P$1991,'4. 특출'!$B$5:$B$1991,$A12,'4. 특출'!$P$5:$P$1991,">"&0)+SUMIFS('4-1. 공특출'!$P$5:$P$1992,'4-1. 공특출'!$B$5:$B$1992,$A12,'4-1. 공특출'!$P$5:$P$1992,">"&0) -> 0 | H12: =G12+F12 -> 0 | I12: =B12+F12+G12 -> 4269846310
A13: 문화체육관광위원회 | B13: =B37 -> 554871567 | C13: =SUMIFS('3. 일입'!$N$7:$N$2000,'3. 일입'!$B$7:$B$2000,$A13,'3. 일입'!$N$7:$N$2000,"<"&0)+SUMIFS('4. 특입'!$N$6:$N$1994,'4. 특입'!$B$6:$B$1994,$A13,'4. 특입'!$N$6:$N$1994,"<"&0)+SUMIFS('4-1. 공특입'!$O$6:$O$1992,'4-1. 공특입'!$B$6:$B$1992,$A13,'4-1. 공특입'!$O$6:$O$1992,"<"&0) -> 0 | D13: =SUMIFS('3. 일입'!$N$7:$N$2000,'3. 일입'!$B$7:$B$2000,$A13,'3. 일입'!$N$7:$N$2000,">"&0)+SUMIFS('4. 특입'!$N$6:$N$1994,'4. 특입'!$B$6:$B$1994,$A13,'4. 특입'!$N$6:$N$1994,">"&0)+SUMIFS('4-1. 공특입'!$O$6:$O$1992,'4-1. 공특입'!$B$6:$B$1992,$A13,'4-1. 공특입'!$O$6:$O$1992,">"&0) -> 0 | E13: =C13+D13 -> 0 | F13: =SUMIFS('3. 일출(자체)'!$P$6:$P$1989,'3. 일출(자체)'!$B$6:$B$1989,$A13,'3. 일출(자체)'!$P$6:$P$1989,"<"&0)+SUMIFS('3. 일출(의존)'!$P$6:P$1989,'3. 일출(의존)'!$B$6:$B$1989,$A13,'3. 일출(의존)'!$P$6:$P$1989,"<"&0)+SUMIFS('4. 특출'!$P$5:$P$1991,'4. 특출'!$B$5:$B$1991,$A13,'4. 특출'!$P$5:$P$1991,"<"&0)+SUMIFS('4-1. 공특출'!$P$5:$P$1992,'4-1. 공특출'!$B$5:$B$1992,$A13,'4-1. 공특출'!$P$5:$P$1992,"<"&0) -> 0 | G13: =SUMIFS('3. 일출(자체)'!$P$6:$P$1989,'3. 일출(자체)'!$B$6:$B$1989,$A13,'3. 일출(자체)'!$P$6:$P$1989,">"&0)+SUMIFS('3. 일출(의존)'!$P$6:$P$1989,'3. 일출(의존)'!$B$6:$B$1989,$A13,'3. 일출(의존)'!$P$6:$P$1989,">"&0)+SUMIFS('4. 특출'!$P$5:$P$1991,'4. 특출'!$B$5:$B$1991,$A13,'4. 특출'!$P$5:$P$1991,">"&0)+SUMIFS('4-1. 공특출'!$P$5:$P$1992,'4-1. 공특출'!$B$5:$B$1992,$A13,'4-1. 공특출'!$P$5:$P$1992,">"&0) -> 0 | H13: =G13+F13 -> 0 | I13: =B13+F13+G13 -> 554871567
A14: 농정해양위원회 | B14: =B38 -> 1195877261 | C14: =SUMIFS('3. 일입'!$N$7:$N$2000,'3. 일입'!$B$7:$B$2000,$A14,'3. 일입'!$N$7:$N$2000,"<"&0)+SUMIFS('4. 특입'!$N$6:$N$1994,'4. 특입'!$B$6:$B$1994,$A14,'4. 특입'!$N$6:$N$1994,"<"&0)+SUMIFS('4-1. 공특입'!$O$6:$O$1992,'4-1. 공특입'!$B$6:$B$1992,$A14,'4-1. 공특입'!$O$6:$O$1992,"<"&0) -> 0 | D14: =SUMIFS('3. 일입'!$N$7:$N$2000,'3. 일입'!$B$7:$B$2000,$A14,'3. 일입'!$N$7:$N$2000,">"&0)+SUMIFS('4. 특입'!$N$6:$N$1994,'4. 특입'!$B$6:$B$1994,$A14,'4. 특입'!$N$6:$N$1994,">"&0)+SUMIFS('4-1. 공특입'!$O$6:$O$1992,'4-1. 공특입'!$B$6:$B$1992,$A14,'4-1. 공특입'!$O$6:$O$1992,">"&0) -> 0 | E14: =C14+D14 -> 0 | F14: =SUMIFS('3. 일출(자체)'!$P$6:$P$1989,'3. 일출(자체)'!$B$6:$B$1989,$A14,'3. 일출(자체)'!$P$6:$P$1989,"<"&0)+SUMIFS('3. 일출(의존)'!$P$6:P$1989,'3. 일출(의존)'!$B$6:$B$1989,$A14,'3. 일출(의존)'!$P$6:$P$1989,"<"&0)+SUMIFS('4. 특출'!$P$5:$P$1991,'4. 특출'!$B$5:$B$1991,$A14,'4. 특출'!$P$5:$P$1991,"<"&0)+SUMIFS('4-1. 공특출'!$P$5:$P$1992,'4-1. 공특출'!$B$5:$B$1992,$A14,'4-1. 공특출'!$P$5:$P$1992,"<"&0) -> 0 | G14: =SUMIFS('3. 일출(자체)'!$P$6:$P$1989,'3. 일출(자체)'!$B$6:$B$1989,$A14,'3. 일출(자체)'!$P$6:$P$1989,">"&0)+SUMIFS('3. 일출(의존)'!$P$6:$P$1989,'3. 일출(의존)'!$B$6:$B$1989,$A14,'3. 일출(의존)'!$P$6:$P$1989,">"&0)+SUMIFS('4. 특출'!$P$5:$P$1991,'4. 특출'!$B$5:$B$1991,$A14,'4. 특출'!$P$5:$P$1991,">"&0)+SUMIFS('4-1. 공특출'!$P$5:$P$1992,'4-1. 공특출'!$B$5:$B$1992,$A14,'4-1. 공특출'!$P$5:$P$1992,">"&0) -> 0 | H14: =G14+F14 -> 0 | I14: =B14+F14+G14 -> 1195877261
A15: 보건복지위원회 | B15: =B39 -> 14042559485 | C15: =SUMIFS('3. 일입'!$N$7:$N$2000,'3. 일입'!$B$7:$B$2000,$A15,'3. 일입'!$N$7:$N$2000,"<"&0)+SUMIFS('4. 특입'!$N$6:$N$1994,'4. 특입'!$B$6:$B$1994,$A15,'4. 특입'!$N$6:$N$1994,"<"&0)+SUMIFS('4-1. 공특입'!$O$6:$O$1992,'4-1. 공특입'!$B$6:$B$1992,$A15,'4-1. 공특입'!$O$6:$O$1992,"<"&0) -> 0 | D15: =SUMIFS('3. 일입'!$N$7:$N$2000,'3. 일입'!$B$7:$B$2000,$A15,'3. 일입'!$N$7:$N$2000,">"&0)+SUMIFS('4. 특입'!$N$6:$N$1994,'4. 특입'!$B$6:$B$1994,$A15,'4. 특입'!$N$6:$N$1994,">"&0)+SUMIFS('4-1. 공특입'!$O$6:$O$1992,'4-1. 공특입'!$B$6:$B$1992,$A15,'4-1. 공특입'!$O$6:$O$1992,">"&0) -> 0 | E15: =C15+D15 -> 0 | F15: =SUMIFS('3. 일출(자체)'!$P$6:$P$1989,'3. 일출(자체)'!$B$6:$B$1989,$A15,'3. 일출(자체)'!$P$6:$P$1989,"<"&0)+SUMIFS('3. 일출(의존)'!$P$6:P$1989,'3. 일출(의존)'!$B$6:$B$1989,$A15,'3. 일출(의존)'!$P$6:$P$1989,"<"&0)+SUMIFS('4. 특출'!$P$5:$P$1991,'4. 특출'!$B$5:$B$1991,$A15,'4. 특출'!$P$5:$P$1991,"<"&0)+SUMIFS('4-1. 공특출'!$P$5:$P$1992,'4-1. 공특출'!$B$5:$B$1992,$A15,'4-1. 공특출'!$P$5:$P$1992,"<"&0) -> 0 | G15: =SUMIFS('3. 일출(자체)'!$P$6:$P$1989,'3. 일출(자체)'!$B$6:$B$1989,$A15,'3. 일출(자체)'!$P$6:$P$1989,">"&0)+SUMIFS('3. 일출(의존)'!$P$6:$P$1989,'3. 일출(의존)'!$B$6:$B$1989,$A15,'3. 일출(의존)'!$P$6:$P$1989,">"&0)+SUMIFS('4. 특출'!$P$5:$P$1991,'4. 특출'!$B$5:$B$1991,$A15,'4. 특출'!$P$5:$P$1991,">"&0)+SUMIFS('4-1. 공특출'!$P$5:$P$1992,'4-1. 공특출'!$B$5:$B$1992,$A15,'4-1. 공특출'!$P$5:$P$1992,">"&0) -> 0 | H15: =G15+F15 -> 0 | I15: =B15+F15+G15 -> 14042559485
A16: 건설교통위원회 | B16: =B40 -> 3029412433 | C16: =SUMIFS('3. 일입'!$N$7:$N$2000,'3. 일입'!$B$7:$B$2000,$A16,'3. 일입'!$N$7:$N$2000,"<"&0)+SUMIFS('4. 특입'!$N$6:$N$1994,'4. 특입'!$B$6:$B$1994,$A16,'4. 특입'!$N$6:$N$1994,"<"&0)+SUMIFS('4-1. 공특입'!$O$6:$O$1992,'4-1. 공특입'!$B$6:$B$1992,$A16,'4-1. 공특입'!$O$6:$O$1992,"<"&0) -> 0 | D16: =SUMIFS('3. 일입'!$N$7:$N$2000,'3. 일입'!$B$7:$B$2000,$A16,'3. 일입'!$N$7:$N$2000,">"&0)+SUMIFS('4. 특입'!$N$6:$N$1994,'4. 특입'!$B$6:$B$1994,$A16,'4. 특입'!$N$6:$N$1994,">"&0)+SUMIFS('4-1. 공특입'!$O$6:$O$1992,'4-1. 공특입'!$B$6:$B$1992,$A16,'4-1. 공특입'!$O$6:$O$1992,">"&0) -> 0 | E16: =C16+D16 -> 0 | F16: =SUMIFS('3. 일출(자체)'!$P$6:$P$1989,'3. 일출(자체)'!$B$6:$B$1989,$A16,'3. 일출(자체)'!$P$6:$P$1989,"<"&0)+SUMIFS('3. 일출(의존)'!$P$6:P$1989,'3. 일출(의존)'!$B$6:$B$1989,$A16,'3. 일출(의존)'!$P$6:$P$1989,"<"&0)+SUMIFS('4. 특출'!$P$5:$P$1991,'4. 특출'!$B$5:$B$1991,$A16,'4. 특출'!$P$5:$P$1991,"<"&0)+SUMIFS('4-1. 공특출'!$P$5:$P$1992,'4-1. 공특출'!$B$5:$B$1992,$A16,'4-1. 공특출'!$P$5:$P$1992,"<"&0) -> 0 | G16: =SUMIFS('3. 일출(자체)'!$P$6:$P$1989,'3. 일출(자체)'!$B$6:$B$1989,$A16,'3. 일출(자체)'!$P$6:$P$1989,">"&0)+SUMIFS('3. 일출(의존)'!$P$6:$P$1989,'3. 일출(의존)'!$B$6:$B$1989,$A16,'3. 일출(의존)'!$P$6:$P$1989,">"&0)+SUMIFS('4. 특출'!$P$5:$P$1991,'4. 특출'!$B$5:$B$1991,$A16,'4. 특출'!$P$5:$P$1991,">"&0)+SUMIFS('4-1. 공특출'!$P$5:$P$1992,'4-1. 공특출'!$B$5:$B$1992,$A16,'4-1. 공특출'!$P$5:$P$1992,">"&0) -> 0 | H16: =G16+F16 -> 0 | I16: =B16+F16+G16 -> 3029412433
A17: 도시환경위원회 | B17: =B41 -> 2367511141 | C17: =SUMIFS('3. 일입'!$N$7:$N$2000,'3. 일입'!$B$7:$B$2000,$A17,'3. 일입'!$N$7:$N$2000,"<"&0)+SUMIFS('4. 특입'!$N$6:$N$1994,'4. 특입'!$B$6:$B$1994,$A17,'4. 특입'!$N$6:$N$1994,"<"&0)+SUMIFS('4-1. 공특입'!$O$6:$O$1992,'4-1. 공특입'!$B$6:$B$1992,$A17,'4-1. 공특입'!$O$6:$O$1992,"<"&0) -> -2156025 | D17: =SUMIFS('3. 일입'!$N$7:$N$2000,'3. 일입'!$B$7:$B$2000,$A17,'3. 일입'!$N$7:$N$2000,">"&0)+SUMIFS('4. 특입'!$N$6:$N$1994,'4. 특입'!$B$6:$B$1994,$A17,'4. 특입'!$N$6:$N$1994,">"&0)+SUMIFS('4-1. 공특입'!$O$6:$O$1992,'4-1. 공특입'!$B$6:$B$1992,$A17,'4-1. 공특입'!$O$6:$O$1992,">"&0) -> 84100 | E17: =C17+D17 -> -2071925 | F17: =SUMIFS('3. 일출(자체)'!$P$6:$P$1989,'3. 일출(자체)'!$B$6:$B$1989,$A17,'3. 일출(자체)'!$P$6:$P$1989,"<"&0)+SUMIFS('3. 일출(의존)'!$P$6:P$1989,'3. 일출(의존)'!$B$6:$B$1989,$A17,'3. 일출(의존)'!$P$6:$P$1989,"<"&0)+SUMIFS('4. 특출'!$P$5:$P$1991,'4. 특출'!$B$5:$B$1991,$A17,'4. 특출'!$P$5:$P$1991,"<"&0)+SUMIFS('4-1. 공특출'!$P$5:$P$1992,'4-1. 공특출'!$B$5:$B$1992,$A17,'4-1. 공특출'!$P$5:$P$1992,"<"&0) -> -13056490 | G17: =SUMIFS('3. 일출(자체)'!$P$6:$P$1989,'3. 일출(자체)'!$B$6:$B$1989,$A17,'3. 일출(자체)'!$P$6:$P$1989,">"&0)+SUMIFS('3. 일출(의존)'!$P$6:$P$1989,'3. 일출(의존)'!$B$6:$B$1989,$A17,'3. 일출(의존)'!$P$6:$P$1989,">"&0)+SUMIFS('4. 특출'!$P$5:$P$1991,'4. 특출'!$B$5:$B$1991,$A17,'4. 특출'!$P$5:$P$1991,">"&0)+SUMIFS('4-1. 공특출'!$P$5:$P$1992,'4-1. 공특출'!$B$5:$B$1992,$A17,'4-1. 공특출'!$P$5:$P$1992,">"&0) -> 14715391 | H17: =G17+F17 -> 1658901 | I17: =B17+F17+G17 -> 2369170042
A18: 미래과학협력위원회 | B18: =B42 -> 890727734 | C18: =SUMIFS('3. 일입'!$N$7:$N$2000,'3. 일입'!$B$7:$B$2000,$A18,'3. 일입'!$N$7:$N$2000,"<"&0)+SUMIFS('4. 특입'!$N$6:$N$1994,'4. 특입'!$B$6:$B$1994,$A18,'4. 특입'!$N$6:$N$1994,"<"&0)+SUMIFS('4-1. 공특입'!$O$6:$O$1992,'4-1. 공특입'!$B$6:$B$1992,$A18,'4-1. 공특입'!$O$6:$O$1992,"<"&0) -> 0 | D18: =SUMIFS('3. 일입'!$N$7:$N$2000,'3. 일입'!$B$7:$B$2000,$A18,'3. 일입'!$N$7:$N$2000,">"&0)+SUMIFS('4. 특입'!$N$6:$N$1994,'4. 특입'!$B$6:$B$1994,$A18,'4. 특입'!$N$6:$N$1994,">"&0)+SUMIFS('4-1. 공특입'!$O$6:$O$1992,'4-1. 공특입'!$B$6:$B$1992,$A18,'4-1. 공특입'!$O$6:$O$1992,">"&0) -> 0 | E18: =C18+D18 -> 0 | F18: =SUMIFS('3. 일출(자체)'!$P$6:$P$1989,'3. 일출(자체)'!$B$6:$B$1989,$A18,'3. 일출(자체)'!$P$6:$P$1989,"<"&0)+SUMIFS('3. 일출(의존)'!$P$6:P$1989,'3. 일출(의존)'!$B$6:$B$1989,$A18,'3. 일출(의존)'!$P$6:$P$1989,"<"&0)+SUMIFS('4. 특출'!$P$5:$P$1991,'4. 특출'!$B$5:$B$1991,$A18,'4. 특출'!$P$5:$P$1991,"<"&0)+SUMIFS('4-1. 공특출'!$P$5:$P$1992,'4-1. 공특출'!$B$5:$B$1992,$A18,'4-1. 공특출'!$P$5:$P$1992,"<"&0) -> 0 | G18: =SUMIFS('3. 일출(자체)'!$P$6:$P$1989,'3. 일출(자체)'!$B$6:$B$1989,$A18,'3. 일출(자체)'!$P$6:$P$1989,">"&0)+SUMIFS('3. 일출(의존)'!$P$6:$P$1989,'3. 일출(의존)'!$B$6:$B$1989,$A18,'3. 일출(의존)'!$P$6:$P$1989,">"&0)+SUMIFS('4. 특출'!$P$5:$P$1991,'4. 특출'!$B$5:$B$1991,$A18,'4. 특출'!$P$5:$P$1991,">"&0)+SUMIFS('4-1. 공특출'!$P$5:$P$1992,'4-1. 공특출'!$B$5:$B$1992,$A18,'4-1. 공특출'!$P$5:$P$1992,">"&0) -> 0 | H18: =G18+F18 -> 0 | I18: =B18+F18+G18 -> 890727734
A19: 여성가족평생교육위원회 | B19: =B43 -> 9354473576 | C19: =SUMIFS('3. 일입'!$N$7:$N$2000,'3. 일입'!$B$7:$B$2000,$A19,'3. 일입'!$N$7:$N$2000,"<"&0)+SUMIFS('4. 특입'!$N$6:$N$1994,'4. 특입'!$B$6:$B$1994,$A19,'4. 특입'!$N$6:$N$1994,"<"&0)+SUMIFS('4-1. 공특입'!$O$6:$O$1992,'4-1. 공특입'!$B$6:$B$1992,$A19,'4-1. 공특입'!$O$6:$O$1992,"<"&0) -> 0 | D19: =SUMIFS('3. 일입'!$N$7:$N$2000,'3. 일입'!$B$7:$B$2000,$A19,'3. 일입'!$N$7:$N$2000,">"&0)+SUMIFS('4. 특입'!$N$6:$N$1994,'4. 특입'!$B$6:$B$1994,$A19,'4. 특입'!$N$6:$N$1994,">"&0)+SUMIFS('4-1. 공특입'!$O$6:$O$1992,'4-1. 공특입'!$B$6:$B$1992,$A19,'4-1. 공특입'!$O$6:$O$1992,">"&0) -> 0 | E19: =C19+D19 -> 0 | F19: =SUMIFS('3. 일출(자체)'!$P$6:$P$1989,'3. 일출(자체)'!$B$6:$B$1989,$A19,'3. 일출(자체)'!$P$6:$P$1989,"<"&0)+SUMIFS('3. 일출(의존)'!$P$6:P$1989,'3. 일출(의존)'!$B$6:$B$1989,$A19,'3. 일출(의존)'!$P$6:$P$1989,"<"&0)+SUMIFS('4. 특출'!$P$5:$P$1991,'4. 특출'!$B$5:$B$1991,$A19,'4. 특출'!$P$5:$P$1991,"<"&0)+SUMIFS('4-1. 공특출'!$P$5:$P$1992,'4-1. 공특출'!$B$5:$B$1992,$A19,'4-1. 공특출'!$P$5:$P$1992,"<"&0) -> 0 | G19: =SUMIFS('3. 일출(자체)'!$P$6:$P$1989,'3. 일출(자체)'!$B$6:$B$1989,$A19,'3. 일출(자체)'!$P$6:$P$1989,">"&0)+SUMIFS('3. 일출(의존)'!$P$6:$P$1989,'3. 일출(의존)'!$B$6:$B$1989,$A19,'3. 일출(의존)'!$P$6:$P$1989,">"&0)+SUMIFS('4. 특출'!$P$5:$P$1991,'4. 특출'!$B$5:$B$1991,$A19,'4. 특출'!$P$5:$P$1991,">"&0)+SUMIFS('4-1. 공특출'!$P$5:$P$1992,'4-1. 공특출'!$B$5:$B$1992,$A19,'4-1. 공특출'!$P$5:$P$1992,">"&0) -> 0 | H19: =G19+F19 -> 0 | I19: =B19+F19+G19 -> 9354473576
A21: □ 회계별 조정현황
I22: (단위 : 천원)
A23: 구 분 | B23: 집행부제출(안) | C23: 세입예산(안) | F23: 세출예산(안) | I23: 수정예산(안)
C24: 감 액 | D24: 증 액 | E24: 증감액 | F24: 감 액 | G24: 증 액 | H24: 증감액
A25: 계 | B25: =SUM(B26:B27) -> 42242001864 | C25: =SUM(C26:C27) -> -2156025 | D25: =SUM(D26:D27) -> 84100 | E25: =SUM(E26:E27) -> -2071925 | F25: =SUM(F26:F27) -> -13056490 | G25: =SUM(G26:G27) -> 14715391 | H25: =SUM(H26:H27) -> 1658901 | I25: =SUM(I26:I27) -> 42243660765
A26: 일반회계 | B26: =D32 -> 37646557814 | C26: =SUMIFS('3. 일입'!$N$7:$N$2000,'3. 일입'!$D$7:$D$2000,"<>"&"",'3. 일입'!$N$7:$N$2000,"<"&0) -> -486525 | D26: =SUMIFS('3. 일입'!$N$7:$N$2000,'3. 일입'!$D$7:$D$2000,"<>"&"",'3. 일입'!$N$7:$N$2000,">"&0) -> 84100 | E26: =D26+C26 -> -402425 | F26: =SUMIFS('3. 일출(자체)'!$P$6:$P$1989,'3. 일출(자체)'!$D$6:$D$1989,"<>"&"",'3. 일출(자체)'!$P$6:$P$1989,"<"&0)+SUMIFS('3. 일출(의존)'!$P$6:$P$1989,'3. 일출(의존)'!$D$6:$D$1989,"<>"&"",'3. 일출(의존)'!$P$6:$P$1989,"<"&0) -> -987500 | G26: =SUMIFS('3. 일출(자체)'!$P$6:$P$1989,'3. 일출(자체)'!$D$6:$D$1989,"<>"&"",'3. 일출(자체)'!$P$6:$P$1989,">"&0)+SUMIFS('3. 일출(의존)'!$P$6:$P$1989,'3. 일출(의존)'!$D$6:$D$1989,"<>"&"",'3. 일출(의존)'!$P$6:$P$1989,">"&0) -> 11115901 | H26: =G26+F26 -> 10128401 | I26: =B26+F26+G26 -> 37656686215
A27: 특별회계 | B27: =E32+F32 -> 4595444050 | C27: =SUMIFS('4. 특입'!$N$6:$N$1000,'4. 특입'!$D$6:$D$1000,"<>"&"",'4. 특입'!$N$6:$N$1000,"<"&0)+SUMIFS('4-1. 공특입'!$O$6:$O$998,'4-1. 공특입'!$D$6:$D$998,"<>"&"",'4-1. 공특입'!$O$6:$O$998,"<"&0) -> -1669500 | D27: =SUMIFS('4. 특입'!$N$6:$N$1000,'4. 특입'!$D$6:$D$1000,"<>"&"",'4. 특입'!$N$6:$N$1000,">"&0)+SUMIFS('4-1. 공특입'!$O$6:$O$998,'4-1. 공특입'!$D$6:$D$998,"<>"&"",'4-1. 공특입'!$O$6:$O$998,">"&0) -> 0 | E27: =D27+C27 -> -1669500 | F27: =SUMIFS('4. 특출'!$P$5:$P$995,'4. 특출'!$D$5:$D$995,"<>"&"",'4. 특출'!$P$5:$P$995,"<"&0)+SUMIFS('4-1. 공특출'!$P$5:$P$996,'4-1. 공특출'!$D$5:$D$996,"<>"&"",'4-1. 공특출'!$P$5:$P$996,"<"&0) -> -12068990 | G27: =SUMIFS('4. 특출'!$P$5:$P$995,'4. 특출'!$D$5:$D$995,"<>"&"",'4. 특출'!$P$5:$P$995,">"&0)+SUMIFS('4-1. 공특출'!$P$5:$P$996,'4-1. 공특출'!$D$5:$D$996,"<>"&"",'4-1. 공특출'!$P$5:$P$996,">"&0) -> 3599490 | H27: =G27+F27 -> -8469500 | I27: =B27+F27+G27 -> 4586974550
A30: ※ 위원회별, 회계별 집행부제출안(예산담당관에서 작성)
A31: 위원회명 | B31: 합계 | C31: 일반+기타 | D31: 일반회계 | E31: 기타특별회계 | F31: 공기업특별회계
A32: 계 | B32: =SUM(B33:B43) -> 42242001864 | C32: =SUM(C33:C43) -> 42187089624 | D32: =SUM(D33:D43) -> 37646557814 | E32: =SUM(E33:E43) -> 4540531810 | F32: =SUM(F33:F43) -> 54912240
A33: 의회운영위원회 | B33: =SUM(D33:F33) -> 129702008 | C33: =D33+E33 -> 129702008 | D33: 129702008 | E33: 0 | F33: 0
A34: 기획재정위원회 | B34: =SUM(D34:F34) -> 5932148107 | C34: =D34+E34 -> 5932148107 | D34: 5892712561 | E34: 39435546 | F34: 0
A35: 경제노동위원회 | B35: =SUM(D35:F35) -> 474872242 | C35: =D35+E35 -> 474872242 | D35: 474872242 | E35: 0 | F35: 0
A36: 안전행정위원회 | B36: =SUM(D36:F36) -> 4269846310 | C36: =D36+E36 -> 4269846310 | D36: 2662231278 | E36: 1607615032 | F36: 0
A37: 문화체육관광위원회 | B37: =SUM(D37:F37) -> 554871567 | C37: =D37+E37 -> 554871567 | D37: 554871567 | E37: 0 | F37: 0
A38: 농정해양위원회 | B38: =SUM(D38:F38) -> 1195877261 | C38: =D38+E38 -> 1195877261 | D38: 1195877261 | E38: 0 | F38: 0
A39: 보건복지위원회 | B39: =SUM(D39:F39) -> 14042559485 | C39: =D39+E39 -> 14042559485 | D39: 11595408031 | E39: 2447151454 | F39: 0
A40: 건설교통위원회 | B40: =SUM(D40:F40) -> 3029412433 | C40: =D40+E40 -> 3029412433 | D40: 2869836504 | E40: 159575929 | F40: 0
A41: 도시환경위원회 | B41: =SUM(D41:F41) -> 2367511141 | C41: =D41+E41 -> 2345220241 | D41: 2170913256 | E41: 174306985 | F41: 22290900
A42: 미래과학협력위원회 | B42: =SUM(D42:F42) -> 890727734 | C42: =D42+E42 -> 858106394 | D42: 858106394 | E42: 0 | F42: 32621340
A43: 여성가족평생교육위원회 | B43: =SUM(D43:F43) -> 9354473576 | C43: =D43+E43 -> 9354473576 | D43: 9242026712 | E43: 112446864 | F43: 0
A45: 예비비 | B45: 42834815

Sheet 2. 표지 (예결위)
U2: (단위 : 천원) | Z2: (단위 : 천원)
A4: 2026년도 경기도 제2회 추가경정예산안 및 기금운용계획 변경안
A5: 예결특위 계수조정 결과
A15: 경기도의회 예산결산특별위원회

Sheet 2. 총괄표(예결위)
A2: 총괄 현황
A4: □ 위원회별 조정현황
I5: (단위 : 천원)
A6: 구 분 | B6: 집행부제출(안) | C6: 세입예산(안) | F6: 세출예산(안) | I6: 수정예산(안) | K6: ※ 예산안 증감현황
C7: 감 액 | D7: 증 액 | E7: 증감액 | F7: 감 액 | G7: 증 액 | H7: 증감액 | K7: 구 분 | L7: 세입 | M7: 세출 | N7: 예비비 | O7: 비고(???)
A8: 계 | B8: =SUM(B9:B19) -> 42242001864 | C8: =SUM(C9:C19) -> 0 | D8: =SUM(D9:D19) -> 0 | E8: =SUM(E9:E19) -> 0 | F8: =SUM(F9:F19) -> 0 | G8: =SUM(G9:G19) -> 0 | H8: =SUM(H9:H19) -> 0 | I8: =SUM(I9:I19) -> 42242001864 | K8: 계 | L8: =SUM(L9:L10) -> 0 | M8: =SUM(M9:M10) -> 0 | N8: =L8-M8 -> 0
A9: 의회운영위원회 | B9: =B33 -> 129702008 | C9: =SUMIFS('3. 일입'!$P$7:$P$2000,'3. 일입'!$B$7:$B$2000,$A9,'3. 일입'!$P$7:$P$2000,"<"&0)+SUMIFS('4. 특입'!$P$6:$P$1994,'4. 특입'!$B$6:$B$1994,$A9,'4. 특입'!$P$6:$P$1994,"<"&0)+SUMIFS('4-1. 공특입'!$Q$6:$Q$1992,'4-1. 공특입'!$B$6:$B$1992,$A9,'4-1. 공특입'!$Q$6:$Q$1992,"<"&0) -> 0 | D9: =SUMIFS('3. 일입'!$P$7:$P$2000,'3. 일입'!$B$7:$B$2000,$A9,'3. 일입'!$P$7:$P$2000,">"&0)+SUMIFS('4. 특입'!$P$6:$P$1994,'4. 특입'!$B$6:$B$1994,$A9,'4. 특입'!$P$6:$P$1994,">"&0)+SUMIFS('4-1. 공특입'!$Q$6:$Q$1992,'4-1. 공특입'!$B$6:$B$1992,$A9,'4-1. 공특입'!$Q$6:$Q$1992,">"&0) -> 0 | E9: =C9+D9 -> 0 | F9: =SUMIFS('3. 일출(자체)'!$R$6:$R$1989,'3. 일출(자체)'!$B$6:$B$1989,$A9,'3. 일출(자체)'!$R$6:$R$1989,"<"&0)+SUMIFS('3. 일출(의존)'!$R$6:$R$1989,'3. 일출(의존)'!$B$6:$B$1989,$A9,'3. 일출(의존)'!$R$6:$R$1989,"<"&0)+SUMIFS('4. 특출'!$R$5:$R$1991,'4. 특출'!$B$5:$B$1991,$A9,'4. 특출'!$R$5:$R$1991,"<"&0)+SUMIFS('4-1. 공특출'!$R$5:$R$1992,'4-1. 공특출'!$B$5:$B$1992,$A9,'4-1. 공특출'!$R$5:$R$1992,"<"&0) -> 0 | G9: =SUMIFS('3. 일출(자체)'!$R$6:$R$1989,'3. 일출(자체)'!$B$6:$B$1989,$A9,'3. 일출(자체)'!$R$6:$R$1989,">"&0)+SUMIFS('3. 일출(의존)'!$R$6:$R$1989,'3. 일출(의존)'!$B$6:$B$1989,$A9,'3. 일출(의존)'!$R$6:$R$1989,">"&0)+SUMIFS('4. 특출'!$R$5:$R$1991,'4. 특출'!$B$5:$B$1991,$A9,'4. 특출'!$R$5:$R$1991,">"&0)+SUMIFS('4-1. 공특출'!$R$5:$R$1992,'4-1. 공특출'!$B$5:$B$1992,$A9,'4-1. 공특출'!$R$5:$R$1992,">"&0) -> 0 | H9: =G9+F9 -> 0 | I9: =B9+F9+G9 -> 129702008 | K9: 일반회계 | L9: =SUM(C26:D26) -> 0 | M9: =SUM(F26:G26) -> 0 | N9: =L9-M9 -> 0 | O9: 예비비 증감 - 감액, + 증액에 입력
A10: 기획재정위원회 | B10: =B34 -> 5932148107 | C10: =SUMIFS('3. 일입'!$P$7:$P$2000,'3. 일입'!$B$7:$B$2000,$A10,'3. 일입'!$P$7:$P$2000,"<"&0)+SUMIFS('4. 특입'!$P$6:$P$1994,'4. 특입'!$B$6:$B$1994,$A10,'4. 특입'!$P$6:$P$1994,"<"&0)+SUMIFS('4-1. 공특입'!$Q$6:$Q$1992,'4-1. 공특입'!$B$6:$B$1992,$A10,'4-1. 공특입'!$Q$6:$Q$1992,"<"&0) -> 0 | D10: =SUMIFS('3. 일입'!$P$7:$P$2000,'3. 일입'!$B$7:$B$2000,$A10,'3. 일입'!$P$7:$P$2000,">"&0)+SUMIFS('4. 특입'!$P$6:$P$1994,'4. 특입'!$B$6:$B$1994,$A10,'4. 특입'!$P$6:$P$1994,">"&0)+SUMIFS('4-1. 공특입'!$Q$6:$Q$1992,'4-1. 공특입'!$B$6:$B$1992,$A10,'4-1. 공특입'!$Q$6:$Q$1992,">"&0) -> 0 | E10: =C10+D10 -> 0 | F10: =SUMIFS('3. 일출(자체)'!$R$6:$R$1989,'3. 일출(자체)'!$B$6:$B$1989,$A10,'3. 일출(자체)'!$R$6:$R$1989,"<"&0)+SUMIFS('3. 일출(의존)'!$R$6:$R$1989,'3. 일출(의존)'!$B$6:$B$1989,$A10,'3. 일출(의존)'!$R$6:$R$1989,"<"&0)+SUMIFS('4. 특출'!$R$5:$R$1991,'4. 특출'!$B$5:$B$1991,$A10,'4. 특출'!$R$5:$R$1991,"<"&0)+SUMIFS('4-1. 공특출'!$R$5:$R$1992,'4-1. 공특출'!$B$5:$B$1992,$A10,'4-1. 공특출'!$R$5:$R$1992,"<"&0) -> 0 | G10: =SUMIFS('3. 일출(자체)'!$R$6:$R$1989,'3. 일출(자체)'!$B$6:$B$1989,$A10,'3. 일출(자체)'!$R$6:$R$1989,">"&0)+SUMIFS('3. 일출(의존)'!$R$6:$R$1989,'3. 일출(의존)'!$B$6:$B$1989,$A10,'3. 일출(의존)'!$R$6:$R$1989,">"&0)+SUMIFS('4. 특출'!$R$5:$R$1991,'4. 특출'!$B$5:$B$1991,$A10,'4. 특출'!$R$5:$R$1991,">"&0)+SUMIFS('4-1. 공특출'!$R$5:$R$1992,'4-1. 공특출'!$B$5:$B$1992,$A10,'4-1. 공특출'!$R$5:$R$1992,">"&0) -> 0 | H10: =G10+F10 -> 0 | I10: =B10+F10+G10 -> 5932148107 | K10: 특별회계 | L10: =SUM(C27:D27) -> 0 | M10: =SUM(F27:G27) -> 0 | N10: =L10-M10 -> 0
A11: 경제노동위원회 | B11: =B35 -> 474872242 | C11: =SUMIFS('3. 일입'!$P$7:$P$2000,'3. 일입'!$B$7:$B$2000,$A11,'3. 일입'!$P$7:$P$2000,"<"&0)+SUMIFS('4. 특입'!$P$6:$P$1994,'4. 특입'!$B$6:$B$1994,$A11,'4. 특입'!$P$6:$P$1994,"<"&0)+SUMIFS('4-1. 공특입'!$Q$6:$Q$1992,'4-1. 공특입'!$B$6:$B$1992,$A11,'4-1. 공특입'!$Q$6:$Q$1992,"<"&0) -> 0 | D11: =SUMIFS('3. 일입'!$P$7:$P$2000,'3. 일입'!$B$7:$B$2000,$A11,'3. 일입'!$P$7:$P$2000,">"&0)+SUMIFS('4. 특입'!$P$6:$P$1994,'4. 특입'!$B$6:$B$1994,$A11,'4. 특입'!$P$6:$P$1994,">"&0)+SUMIFS('4-1. 공특입'!$Q$6:$Q$1992,'4-1. 공특입'!$B$6:$B$1992,$A11,'4-1. 공특입'!$Q$6:$Q$1992,">"&0) -> 0 | E11: =C11+D11 -> 0 | F11: =SUMIFS('3. 일출(자체)'!$R$6:$R$1989,'3. 일출(자체)'!$B$6:$B$1989,$A11,'3. 일출(자체)'!$R$6:$R$1989,"<"&0)+SUMIFS('3. 일출(의존)'!$R$6:$R$1989,'3. 일출(의존)'!$B$6:$B$1989,$A11,'3. 일출(의존)'!$R$6:$R$1989,"<"&0)+SUMIFS('4. 특출'!$R$5:$R$1991,'4. 특출'!$B$5:$B$1991,$A11,'4. 특출'!$R$5:$R$1991,"<"&0)+SUMIFS('4-1. 공특출'!$R$5:$R$1992,'4-1. 공특출'!$B$5:$B$1992,$A11,'4-1. 공특출'!$R$5:$R$1992,"<"&0) -> 0 | G11: =SUMIFS('3. 일출(자체)'!$R$6:$R$1989,'3. 일출(자체)'!$B$6:$B$1989,$A11,'3. 일출(자체)'!$R$6:$R$1989,">"&0)+SUMIFS('3. 일출(의존)'!$R$6:$R$1989,'3. 일출(의존)'!$B$6:$B$1989,$A11,'3. 일출(의존)'!$R$6:$R$1989,">"&0)+SUMIFS('4. 특출'!$R$5:$R$1991,'4. 특출'!$B$5:$B$1991,$A11,'4. 특출'!$R$5:$R$1991,">"&0)+SUMIFS('4-1. 공특출'!$R$5:$R$1992,'4-1. 공특출'!$B$5:$B$1992,$A11,'4-1. 공특출'!$R$5:$R$1992,">"&0) -> 0 | H11: =G11+F11 -> 0 | I11: =B11+F11+G11 -> 474872242 | O11: (예비비 계수 조정용)
A12: 안전행정위원회 | B12: =B36 -> 4269846310 | C12: =SUMIFS('3. 일입'!$P$7:$P$2000,'3. 일입'!$B$7:$B$2000,$A12,'3. 일입'!$P$7:$P$2000,"<"&0)+SUMIFS('4. 특입'!$P$6:$P$1994,'4. 특입'!$B$6:$B$1994,$A12,'4. 특입'!$P$6:$P$1994,"<"&0)+SUMIFS('4-1. 공특입'!$Q$6:$Q$1992,'4-1. 공특입'!$B$6:$B$1992,$A12,'4-1. 공특입'!$Q$6:$Q$1992,"<"&0) -> 0 | D12: =SUMIFS('3. 일입'!$P$7:$P$2000,'3. 일입'!$B$7:$B$2000,$A12,'3. 일입'!$P$7:$P$2000,">"&0)+SUMIFS('4. 특입'!$P$6:$P$1994,'4. 특입'!$B$6:$B$1994,$A12,'4. 특입'!$P$6:$P$1994,">"&0)+SUMIFS('4-1. 공특입'!$Q$6:$Q$1992,'4-1. 공특입'!$B$6:$B$1992,$A12,'4-1. 공특입'!$Q$6:$Q$1992,">"&0) -> 0 | E12: =C12+D12 -> 0 | F12: =SUMIFS('3. 일출(자체)'!$R$6:$R$1989,'3. 일출(자체)'!$B$6:$B$1989,$A12,'3. 일출(자체)'!$R$6:$R$1989,"<"&0)+SUMIFS('3. 일출(의존)'!$R$6:$R$1989,'3. 일출(의존)'!$B$6:$B$1989,$A12,'3. 일출(의존)'!$R$6:$R$1989,"<"&0)+SUMIFS('4. 특출'!$R$5:$R$1991,'4. 특출'!$B$5:$B$1991,$A12,'4. 특출'!$R$5:$R$1991,"<"&0)+SUMIFS('4-1. 공특출'!$R$5:$R$1992,'4-1. 공특출'!$B$5:$B$1992,$A12,'4-1. 공특출'!$R$5:$R$1992,"<"&0) -> 0 | G12: =SUMIFS('3. 일출(자체)'!$R$6:$R$1989,'3. 일출(자체)'!$B$6:$B$1989,$A12,'3. 일출(자체)'!$R$6:$R$1989,">"&0)+SUMIFS('3. 일출(의존)'!$R$6:$R$1989,'3. 일출(의존)'!$B$6:$B$1989,$A12,'3. 일출(의존)'!$R$6:$R$1989,">"&0)+SUMIFS('4. 특출'!$R$5:$R$1991,'4. 특출'!$B$5:$B$1991,$A12,'4. 특출'!$R$5:$R$1991,">"&0)+SUMIFS('4-1. 공특출'!$R$5:$R$1992,'4-1. 공특출'!$B$5:$B$1992,$A12,'4-1. 공특출'!$R$5:$R$1992,">"&0) -> 0 | H12: =G12+F12 -> 0 | I12: =B12+F12+G12 -> 4269846310
A13: 문화체육관광위원회 | B13: =B37 -> 554871567 | C13: =SUMIFS('3. 일입'!$P$7:$P$2000,'3. 일입'!$B$7:$B$2000,$A13,'3. 일입'!$P$7:$P$2000,"<"&0)+SUMIFS('4. 특입'!$P$6:$P$1994,'4. 특입'!$B$6:$B$1994,$A13,'4. 특입'!$P$6:$P$1994,"<"&0)+SUMIFS('4-1. 공특입'!$Q$6:$Q$1992,'4-1. 공특입'!$B$6:$B$1992,$A13,'4-1. 공특입'!$Q$6:$Q$1992,"<"&0) -> 0 | D13: =SUMIFS('3. 일입'!$P$7:$P$2000,'3. 일입'!$B$7:$B$2000,$A13,'3. 일입'!$P$7:$P$2000,">"&0)+SUMIFS('4. 특입'!$P$6:$P$1994,'4. 특입'!$B$6:$B$1994,$A13,'4. 특입'!$P$6:$P$1994,">"&0)+SUMIFS('4-1. 공특입'!$Q$6:$Q$1992,'4-1. 공특입'!$B$6:$B$1992,$A13,'4-1. 공특입'!$Q$6:$Q$1992,">"&0) -> 0 | E13: =C13+D13 -> 0 | F13: =SUMIFS('3. 일출(자체)'!$R$6:$R$1989,'3. 일출(자체)'!$B$6:$B$1989,$A13,'3. 일출(자체)'!$R$6:$R$1989,"<"&0)+SUMIFS('3. 일출(의존)'!$R$6:$R$1989,'3. 일출(의존)'!$B$6:$B$1989,$A13,'3. 일출(의존)'!$R$6:$R$1989,"<"&0)+SUMIFS('4. 특출'!$R$5:$R$1991,'4. 특출'!$B$5:$B$1991,$A13,'4. 특출'!$R$5:$R$1991,"<"&0)+SUMIFS('4-1. 공특출'!$R$5:$R$1992,'4-1. 공특출'!$B$5:$B$1992,$A13,'4-1. 공특출'!$R$5:$R$1992,"<"&0) -> 0 | G13: =SUMIFS('3. 일출(자체)'!$R$6:$R$1989,'3. 일출(자체)'!$B$6:$B$1989,$A13,'3. 일출(자체)'!$R$6:$R$1989,">"&0)+SUMIFS('3. 일출(의존)'!$R$6:$R$1989,'3. 일출(의존)'!$B$6:$B$1989,$A13,'3. 일출(의존)'!$R$6:$R$1989,">"&0)+SUMIFS('4. 특출'!$R$5:$R$1991,'4. 특출'!$B$5:$B$1991,$A13,'4. 특출'!$R$5:$R$1991,">"&0)+SUMIFS('4-1. 공특출'!$R$5:$R$1992,'4-1. 공특출'!$B$5:$B$1992,$A13,'4-1. 공특출'!$R$5:$R$1992,">"&0) -> 0 | H13: =G13+F13 -> 0 | I13: =B13+F13+G13 -> 554871567
A14: 농정해양위원회 | B14: =B38 -> 1195877261 | C14: =SUMIFS('3. 일입'!$P$7:$P$2000,'3. 일입'!$B$7:$B$2000,$A14,'3. 일입'!$P$7:$P$2000,"<"&0)+SUMIFS('4. 특입'!$P$6:$P$1994,'4. 특입'!$B$6:$B$1994,$A14,'4. 특입'!$P$6:$P$1994,"<"&0)+SUMIFS('4-1. 공특입'!$Q$6:$Q$1992,'4-1. 공특입'!$B$6:$B$1992,$A14,'4-1. 공특입'!$Q$6:$Q$1992,"<"&0) -> 0 | D14: =SUMIFS('3. 일입'!$P$7:$P$2000,'3. 일입'!$B$7:$B$2000,$A14,'3. 일입'!$P$7:$P$2000,">"&0)+SUMIFS('4. 특입'!$P$6:$P$1994,'4. 특입'!$B$6:$B$1994,$A14,'4. 특입'!$P$6:$P$1994,">"&0)+SUMIFS('4-1. 공특입'!$Q$6:$Q$1992,'4-1. 공특입'!$B$6:$B$1992,$A14,'4-1. 공특입'!$Q$6:$Q$1992,">"&0) -> 0 | E14: =C14+D14 -> 0 | F14: =SUMIFS('3. 일출(자체)'!$R$6:$R$1989,'3. 일출(자체)'!$B$6:$B$1989,$A14,'3. 일출(자체)'!$R$6:$R$1989,"<"&0)+SUMIFS('3. 일출(의존)'!$R$6:$R$1989,'3. 일출(의존)'!$B$6:$B$1989,$A14,'3. 일출(의존)'!$R$6:$R$1989,"<"&0)+SUMIFS('4. 특출'!$R$5:$R$1991,'4. 특출'!$B$5:$B$1991,$A14,'4. 특출'!$R$5:$R$1991,"<"&0)+SUMIFS('4-1. 공특출'!$R$5:$R$1992,'4-1. 공특출'!$B$5:$B$1992,$A14,'4-1. 공특출'!$R$5:$R$1992,"<"&0) -> 0 | G14: =SUMIFS('3. 일출(자체)'!$R$6:$R$1989,'3. 일출(자체)'!$B$6:$B$1989,$A14,'3. 일출(자체)'!$R$6:$R$1989,">"&0)+SUMIFS('3. 일출(의존)'!$R$6:$R$1989,'3. 일출(의존)'!$B$6:$B$1989,$A14,'3. 일출(의존)'!$R$6:$R$1989,">"&0)+SUMIFS('4. 특출'!$R$5:$R$1991,'4. 특출'!$B$5:$B$1991,$A14,'4. 특출'!$R$5:$R$1991,">"&0)+SUMIFS('4-1. 공특출'!$R$5:$R$1992,'4-1. 공특출'!$B$5:$B$1992,$A14,'4-1. 공특출'!$R$5:$R$1992,">"&0) -> 0 | H14: =G14+F14 -> 0 | I14: =B14+F14+G14 -> 1195877261
A15: 보건복지위원회 | B15: =B39 -> 14042559485 | C15: =SUMIFS('3. 일입'!$P$7:$P$2000,'3. 일입'!$B$7:$B$2000,$A15,'3. 일입'!$P$7:$P$2000,"<"&0)+SUMIFS('4. 특입'!$P$6:$P$1994,'4. 특입'!$B$6:$B$1994,$A15,'4. 특입'!$P$6:$P$1994,"<"&0)+SUMIFS('4-1. 공특입'!$Q$6:$Q$1992,'4-1. 공특입'!$B$6:$B$1992,$A15,'4-1. 공특입'!$Q$6:$Q$1992,"<"&0) -> 0 | D15: =SUMIFS('3. 일입'!$P$7:$P$2000,'3. 일입'!$B$7:$B$2000,$A15,'3. 일입'!$P$7:$P$2000,">"&0)+SUMIFS('4. 특입'!$P$6:$P$1994,'4. 특입'!$B$6:$B$1994,$A15,'4. 특입'!$P$6:$P$1994,">"&0)+SUMIFS('4-1. 공특입'!$Q$6:$Q$1992,'4-1. 공특입'!$B$6:$B$1992,$A15,'4-1. 공특입'!$Q$6:$Q$1992,">"&0) -> 0 | E15: =C15+D15 -> 0 | F15: =SUMIFS('3. 일출(자체)'!$R$6:$R$1989,'3. 일출(자체)'!$B$6:$B$1989,$A15,'3. 일출(자체)'!$R$6:$R$1989,"<"&0)+SUMIFS('3. 일출(의존)'!$R$6:$R$1989,'3. 일출(의존)'!$B$6:$B$1989,$A15,'3. 일출(의존)'!$R$6:$R$1989,"<"&0)+SUMIFS('4. 특출'!$R$5:$R$1991,'4. 특출'!$B$5:$B$1991,$A15,'4. 특출'!$R$5:$R$1991,"<"&0)+SUMIFS('4-1. 공특출'!$R$5:$R$1992,'4-1. 공특출'!$B$5:$B$1992,$A15,'4-1. 공특출'!$R$5:$R$1992,"<"&0) -> 0 | G15: =SUMIFS('3. 일출(자체)'!$R$6:$R$1989,'3. 일출(자체)'!$B$6:$B$1989,$A15,'3. 일출(자체)'!$R$6:$R$1989,">"&0)+SUMIFS('3. 일출(의존)'!$R$6:$R$1989,'3. 일출(의존)'!$B$6:$B$1989,$A15,'3. 일출(의존)'!$R$6:$R$1989,">"&0)+SUMIFS('4. 특출'!$R$5:$R$1991,'4. 특출'!$B$5:$B$1991,$A15,'4. 특출'!$R$5:$R$1991,">"&0)+SUMIFS('4-1. 공특출'!$R$5:$R$1992,'4-1. 공특출'!$B$5:$B$1992,$A15,'4-1. 공특출'!$R$5:$R$1992,">"&0) -> 0 | H15: =G15+F15 -> 0 | I15: =B15+F15+G15 -> 14042559485
A16: 건설교통위원회 | B16: =B40 -> 3029412433 | C16: =SUMIFS('3. 일입'!$P$7:$P$2000,'3. 일입'!$B$7:$B$2000,$A16,'3. 일입'!$P$7:$P$2000,"<"&0)+SUMIFS('4. 특입'!$P$6:$P$1994,'4. 특입'!$B$6:$B$1994,$A16,'4. 특입'!$P$6:$P$1994,"<"&0)+SUMIFS('4-1. 공특입'!$Q$6:$Q$1992,'4-1. 공특입'!$B$6:$B$1992,$A16,'4-1. 공특입'!$Q$6:$Q$1992,"<"&0) -> 0 | D16: =SUMIFS('3. 일입'!$P$7:$P$2000,'3. 일입'!$B$7:$B$2000,$A16,'3. 일입'!$P$7:$P$2000,">"&0)+SUMIFS('4. 특입'!$P$6:$P$1994,'4. 특입'!$B$6:$B$1994,$A16,'4. 특입'!$P$6:$P$1994,">"&0)+SUMIFS('4-1. 공특입'!$Q$6:$Q$1992,'4-1. 공특입'!$B$6:$B$1992,$A16,'4-1. 공특입'!$Q$6:$Q$1992,">"&0) -> 0 | E16: =C16+D16 -> 0 | F16: =SUMIFS('3. 일출(자체)'!$R$6:$R$1989,'3. 일출(자체)'!$B$6:$B$1989,$A16,'3. 일출(자체)'!$R$6:$R$1989,"<"&0)+SUMIFS('3. 일출(의존)'!$R$6:$R$1989,'3. 일출(의존)'!$B$6:$B$1989,$A16,'3. 일출(의존)'!$R$6:$R$1989,"<"&0)+SUMIFS('4. 특출'!$R$5:$R$1991,'4. 특출'!$B$5:$B$1991,$A16,'4. 특출'!$R$5:$R$1991,"<"&0)+SUMIFS('4-1. 공특출'!$R$5:$R$1992,'4-1. 공특출'!$B$5:$B$1992,$A16,'4-1. 공특출'!$R$5:$R$1992,"<"&0) -> 0 | G16: =SUMIFS('3. 일출(자체)'!$R$6:$R$1989,'3. 일출(자체)'!$B$6:$B$1989,$A16,'3. 일출(자체)'!$R$6:$R$1989,">"&0)+SUMIFS('3. 일출(의존)'!$R$6:$R$1989,'3. 일출(의존)'!$B$6:$B$1989,$A16,'3. 일출(의존)'!$R$6:$R$1989,">"&0)+SUMIFS('4. 특출'!$R$5:$R$1991,'4. 특출'!$B$5:$B$1991,$A16,'4. 특출'!$R$5:$R$1991,">"&0)+SUMIFS('4-1. 공특출'!$R$5:$R$1992,'4-1. 공특출'!$B$5:$B$1992,$A16,'4-1. 공특출'!$R$5:$R$1992,">"&0) -> 0 | H16: =G16+F16 -> 0 | I16: =B16+F16+G16 -> 3029412433
A17: 도시환경위원회 | B17: =B41 -> 2367511141 | C17: =SUMIFS('3. 일입'!$P$7:$P$2000,'3. 일입'!$B$7:$B$2000,$A17,'3. 일입'!$P$7:$P$2000,"<"&0)+SUMIFS('4. 특입'!$P$6:$P$1994,'4. 특입'!$B$6:$B$1994,$A17,'4. 특입'!$P$6:$P$1994,"<"&0)+SUMIFS('4-1. 공특입'!$Q$6:$Q$1992,'4-1. 공특입'!$B$6:$B$1992,$A17,'4-1. 공특입'!$Q$6:$Q$1992,"<"&0) -> 0 | D17: =SUMIFS('3. 일입'!$P$7:$P$2000,'3. 일입'!$B$7:$B$2000,$A17,'3. 일입'!$P$7:$P$2000,">"&0)+SUMIFS('4. 특입'!$P$6:$P$1994,'4. 특입'!$B$6:$B$1994,$A17,'4. 특입'!$P$6:$P$1994,">"&0)+SUMIFS('4-1. 공특입'!$Q$6:$Q$1992,'4-1. 공특입'!$B$6:$B$1992,$A17,'4-1. 공특입'!$Q$6:$Q$1992,">"&0) -> 0 | E17: =C17+D17 -> 0 | F17: =SUMIFS('3. 일출(자체)'!$R$6:$R$1989,'3. 일출(자체)'!$B$6:$B$1989,$A17,'3. 일출(자체)'!$R$6:$R$1989,"<"&0)+SUMIFS('3. 일출(의존)'!$R$6:$R$1989,'3. 일출(의존)'!$B$6:$B$1989,$A17,'3. 일출(의존)'!$R$6:$R$1989,"<"&0)+SUMIFS('4. 특출'!$R$5:$R$1991,'4. 특출'!$B$5:$B$1991,$A17,'4. 특출'!$R$5:$R$1991,"<"&0)+SUMIFS('4-1. 공특출'!$R$5:$R$1992,'4-1. 공특출'!$B$5:$B$1992,$A17,'4-1. 공특출'!$R$5:$R$1992,"<"&0) -> 0 | G17: =SUMIFS('3. 일출(자체)'!$R$6:$R$1989,'3. 일출(자체)'!$B$6:$B$1989,$A17,'3. 일출(자체)'!$R$6:$R$1989,">"&0)+SUMIFS('3. 일출(의존)'!$R$6:$R$1989,'3. 일출(의존)'!$B$6:$B$1989,$A17,'3. 일출(의존)'!$R$6:$R$1989,">"&0)+SUMIFS('4. 특출'!$R$5:$R$1991,'4. 특출'!$B$5:$B$1991,$A17,'4. 특출'!$R$5:$R$1991,">"&0)+SUMIFS('4-1. 공특출'!$R$5:$R$1992,'4-1. 공특출'!$B$5:$B$1992,$A17,'4-1. 공특출'!$R$5:$R$1992,">"&0) -> 0 | H17: =G17+F17 -> 0 | I17: =B17+F17+G17 -> 2367511141
A18: 미래과학협력위원회 | B18: =B42 -> 890727734 | C18: =SUMIFS('3. 일입'!$P$7:$P$2000,'3. 일입'!$B$7:$B$2000,$A18,'3. 일입'!$P$7:$P$2000,"<"&0)+SUMIFS('4. 특입'!$P$6:$P$1994,'4. 특입'!$B$6:$B$1994,$A18,'4. 특입'!$P$6:$P$1994,"<"&0)+SUMIFS('4-1. 공특입'!$Q$6:$Q$1992,'4-1. 공특입'!$B$6:$B$1992,$A18,'4-1. 공특입'!$Q$6:$Q$1992,"<"&0) -> 0 | D18: =SUMIFS('3. 일입'!$P$7:$P$2000,'3. 일입'!$B$7:$B$2000,$A18,'3. 일입'!$P$7:$P$2000,">"&0)+SUMIFS('4. 특입'!$P$6:$P$1994,'4. 특입'!$B$6:$B$1994,$A18,'4. 특입'!$P$6:$P$1994,">"&0)+SUMIFS('4-1. 공특입'!$Q$6:$Q$1992,'4-1. 공특입'!$B$6:$B$1992,$A18,'4-1. 공특입'!$Q$6:$Q$1992,">"&0) -> 0 | E18: =C18+D18 -> 0 | F18: =SUMIFS('3. 일출(자체)'!$R$6:$R$1989,'3. 일출(자체)'!$B$6:$B$1989,$A18,'3. 일출(자체)'!$R$6:$R$1989,"<"&0)+SUMIFS('3. 일출(의존)'!$R$6:$R$1989,'3. 일출(의존)'!$B$6:$B$1989,$A18,'3. 일출(의존)'!$R$6:$R$1989,"<"&0)+SUMIFS('4. 특출'!$R$5:$R$1991,'4. 특출'!$B$5:$B$1991,$A18,'4. 특출'!$R$5:$R$1991,"<"&0)+SUMIFS('4-1. 공특출'!$R$5:$R$1992,'4-1. 공특출'!$B$5:$B$1992,$A18,'4-1. 공특출'!$R$5:$R$1992,"<"&0) -> 0 | G18: =SUMIFS('3. 일출(자체)'!$R$6:$R$1989,'3. 일출(자체)'!$B$6:$B$1989,$A18,'3. 일출(자체)'!$R$6:$R$1989,">"&0)+SUMIFS('3. 일출(의존)'!$R$6:$R$1989,'3. 일출(의존)'!$B$6:$B$1989,$A18,'3. 일출(의존)'!$R$6:$R$1989,">"&0)+SUMIFS('4. 특출'!$R$5:$R$1991,'4. 특출'!$B$5:$B$1991,$A18,'4. 특출'!$R$5:$R$1991,">"&0)+SUMIFS('4-1. 공특출'!$R$5:$R$1992,'4-1. 공특출'!$B$5:$B$1992,$A18,'4-1. 공특출'!$R$5:$R$1992,">"&0) -> 0 | H18: =G18+F18 -> 0 | I18: =B18+F18+G18 -> 890727734
A19: 여성가족평생교육위원회 | B19: =B43 -> 9354473576 | C19: =SUMIFS('3. 일입'!$P$7:$P$2000,'3. 일입'!$B$7:$B$2000,$A19,'3. 일입'!$P$7:$P$2000,"<"&0)+SUMIFS('4. 특입'!$P$6:$P$1994,'4. 특입'!$B$6:$B$1994,$A19,'4. 특입'!$P$6:$P$1994,"<"&0)+SUMIFS('4-1. 공특입'!$Q$6:$Q$1992,'4-1. 공특입'!$B$6:$B$1992,$A19,'4-1. 공특입'!$Q$6:$Q$1992,"<"&0) -> 0 | D19: =SUMIFS('3. 일입'!$P$7:$P$2000,'3. 일입'!$B$7:$B$2000,$A19,'3. 일입'!$P$7:$P$2000,">"&0)+SUMIFS('4. 특입'!$P$6:$P$1994,'4. 특입'!$B$6:$B$1994,$A19,'4. 특입'!$P$6:$P$1994,">"&0)+SUMIFS('4-1. 공특입'!$Q$6:$Q$1992,'4-1. 공특입'!$B$6:$B$1992,$A19,'4-1. 공특입'!$Q$6:$Q$1992,">"&0) -> 0 | E19: =C19+D19 -> 0 | F19: =SUMIFS('3. 일출(자체)'!$R$6:$R$1989,'3. 일출(자체)'!$B$6:$B$1989,$A19,'3. 일출(자체)'!$R$6:$R$1989,"<"&0)+SUMIFS('3. 일출(의존)'!$R$6:$R$1989,'3. 일출(의존)'!$B$6:$B$1989,$A19,'3. 일출(의존)'!$R$6:$R$1989,"<"&0)+SUMIFS('4. 특출'!$R$5:$R$1991,'4. 특출'!$B$5:$B$1991,$A19,'4. 특출'!$R$5:$R$1991,"<"&0)+SUMIFS('4-1. 공특출'!$R$5:$R$1992,'4-1. 공특출'!$B$5:$B$1992,$A19,'4-1. 공특출'!$R$5:$R$1992,"<"&0) -> 0 | G19: =SUMIFS('3. 일출(자체)'!$R$6:$R$1989,'3. 일출(자체)'!$B$6:$B$1989,$A19,'3. 일출(자체)'!$R$6:$R$1989,">"&0)+SUMIFS('3. 일출(의존)'!$R$6:$R$1989,'3. 일출(의존)'!$B$6:$B$1989,$A19,'3. 일출(의존)'!$R$6:$R$1989,">"&0)+SUMIFS('4. 특출'!$R$5:$R$1991,'4. 특출'!$B$5:$B$1991,$A19,'4. 특출'!$R$5:$R$1991,">"&0)+SUMIFS('4-1. 공특출'!$R$5:$R$1992,'4-1. 공특출'!$B$5:$B$1992,$A19,'4-1. 공특출'!$R$5:$R$1992,">"&0) -> 0 | H19: =G19+F19 -> 0 | I19: =B19+F19+G19 -> 9354473576
A21: □ 회계별 조정현황
I22: (단위 : 천원)
A23: 구 분 | B23: 집행부제출(안) | C23: 세입예산(안) | F23: 세출예산(안) | I23: 수정예산(안)
C24: 감 액 | D24: 증 액 | E24: 증감액 | F24: 감 액 | G24: 증 액 | H24: 증감액
A25: 계 | B25: =SUM(B26:B27) -> 42242001864 | C25: =SUM(C26:C27) -> 0 | D25: =SUM(D26:D27) -> 0 | E25: =SUM(E26:E27) -> 0 | F25: =SUM(F26:F27) -> 0 | G25: =SUM(G26:G27) -> 0 | H25: =SUM(H26:H27) -> 0 | I25: =SUM(I26:I27) -> 42242001864
A26: 일반회계 | B26: =D32 -> 37646557814 | C26: =SUMIFS('3. 일입'!$P$7:$P$2000,'3. 일입'!$D$7:$D$2000,"<>"&"",'3. 일입'!$P$7:$P$2000,"<"&0) -> 0 | D26: =SUMIFS('3. 일입'!$P$7:$P$2000,'3. 일입'!$D$7:$D$2000,"<>"&"",'3. 일입'!$P$7:$P$2000,">"&0) -> 0 | E26: =D26+C26 -> 0 | F26: =SUMIFS('3. 일출(자체)'!$R$6:$R$1989,'3. 일출(자체)'!$D$6:$D$1989,"<>"&"",'3. 일출(자체)'!$R$6:$R$1989,"<"&0)+SUMIFS('3. 일출(의존)'!$R$6:$R$1989,'3. 일출(의존)'!$D$6:$D$1989,"<>"&"",'3. 일출(의존)'!$R$6:$R$1989,"<"&0) -> 0 | G26: =SUMIFS('3. 일출(자체)'!$R$6:$R$1989,'3. 일출(자체)'!$D$6:$D$1989,"<>"&"",'3. 일출(자체)'!$R$6:$R$1989,">"&0)+SUMIFS('3. 일출(의존)'!$R$6:$R$1989,'3. 일출(의존)'!$D$6:$D$1989,"<>"&"",'3. 일출(의존)'!$R$6:$R$1989,">"&0) -> 0 | H26: =G26+F26 -> 0 | I26: =B26+F26+G26 -> 37646557814 | M26: 0
A27: 특별회계 | B27: =E32+F32 -> 4595444050 | C27: =SUMIFS('4. 특입'!$P$6:$P$1000,'4. 특입'!$D$6:$D$1000,"<>"&"",'4. 특입'!$P$6:$P$1000,"<"&0)+SUMIFS('4-1. 공특입'!$Q$6:$Q$998,'4-1. 공특입'!$D$6:$D$998,"<>"&"",'4-1. 공특입'!$Q$6:$Q$998,"<"&0) -> 0 | D27: =SUMIFS('4. 특입'!$P$6:$P$1000,'4. 특입'!$D$6:$D$1000,"<>"&"",'4. 특입'!$P$6:$P$1000,">"&0)+SUMIFS('4-1. 공특입'!$Q$6:$Q$998,'4-1. 공특입'!$D$6:$D$998,"<>"&"",'4-1. 공특입'!$Q$6:$Q$998,">"&0) -> 0 | E27: =D27+C27 -> 0 | F27: =SUMIFS('4. 특출'!$R$5:$R$995,'4. 특출'!$D$5:$D$995,"<>"&"",'4. 특출'!$R$5:$R$995,"<"&0)+SUMIFS('4-1. 공특출'!$R$5:$R$996,'4-1. 공특출'!$D$5:$D$996,"<>"&"",'4-1. 공특출'!$R$5:$R$996,"<"&0) -> 0 | G27: =SUMIFS('4. 특출'!$R$5:$R$995,'4. 특출'!$D$5:$D$995,"<>"&"",'4. 특출'!$R$5:$R$995,">"&0)+SUMIFS('4-1. 공특출'!$R$5:$R$996,'4-1. 공특출'!$D$5:$D$996,"<>"&"",'4-1. 공특출'!$R$5:$R$996,">"&0) -> 0 | H27: =G27+F27 -> 0 | I27: =B27+F27+G27 -> 4595444050
A30: ※ 위원회별, 회계별 집행부제출안(예산담당관에서 작성)
A31: 위원회명 | B31: 합계 | C31: 일반+기타 | D31: 일반회계 | E31: 기타특별회계 | F31: 공기업특별회계
A32: 계 | B32: =SUM(B33:B43) -> 42242001864 | C32: =SUM(C33:C43) -> 42187089624 | D32: =SUM(D33:D43) -> 37646557814 | E32: =SUM(E33:E43) -> 4540531810 | F32: =SUM(F33:F43) -> 54912240
A33: 의회운영위원회 | B33: =SUM(D33:F33) -> 129702008 | C33: =D33+E33 -> 129702008 | D33: 129702008 | E33: 0 | F33: 0 | T33: 327991
A34: 기획재정위원회 | B34: =SUM(D34:F34) -> 5932148107 | C34: =D34+E34 -> 5932148107 | D34: 5892712561 | E34: 39435546 | F34: 0
A35: 경제노동위원회 | B35: =SUM(D35:F35) -> 474872242 | C35: =D35+E35 -> 474872242 | D35: 474872242 | E35: 0 | F35: 0
A36: 안전행정위원회 | B36: =SUM(D36:F36) -> 4269846310 | C36: =D36+E36 -> 4269846310 | D36: 2662231278 | E36: 1607615032 | F36: 0
A37: 문화체육관광위원회 | B37: =SUM(D37:F37) -> 554871567 | C37: =D37+E37 -> 554871567 | D37: 554871567 | E37: 0 | F37: 0
A38: 농정해양위원회 | B38: =SUM(D38:F38) -> 1195877261 | C38: =D38+E38 -> 1195877261 | D38: 1195877261 | E38: 0 | F38: 0
A39: 보건복지위원회 | B39: =SUM(D39:F39) -> 14042559485 | C39: =D39+E39 -> 14042559485 | D39: 11595408031 | E39: 2447151454 | F39: 0
A40: 건설교통위원회 | B40: =SUM(D40:F40) -> 3029412433 | C40: =D40+E40 -> 3029412433 | D40: 2869836504 | E40: 159575929 | F40: 0
A41: 도시환경위원회 | B41: =SUM(D41:F41) -> 2367511141 | C41: =D41+E41 -> 2345220241 | D41: 2170913256 | E41: 174306985 | F41: 22290900
A42: 미래과학협력위원회 | B42: =SUM(D42:F42) -> 890727734 | C42: =D42+E42 -> 858106394 | D42: 858106394 | E42: 0 | F42: 32621340
A43: 여성가족평생교육위원회 | B43: =SUM(D43:F43) -> 9354473576 | C43: =D43+E43 -> 9354473576 | D43: 9242026712 | E43: 112446864 | F43: 0
A45: 예비비 | B45: 42834815

Sheet 3. 일입
A1: 일반회계 세입 예산 조정(안) | AA1: 자동입력 | AF1: 자동입력 | AK1: "3. 일출(의존)" 에 입력 | AN1: "3. 일출(자체)" "3. 일출(의존)" 에 입력 | AS1: 검증 | AZ1: 검증
AA2: 국비 세입=국비 세출 | AC2: 도비 세입=도비 세출 | AF2: 국비 세입=국비 세출 | AH2: 도비 세입=도비 세출
Y3: (단위 : 천원) | AA3: =IF(AA7='3. 일출(의존)'!AB6,"OK","@@") -> @@ | AC3: =IF(SUM(AB7:AD7)=SUM('3. 일출(자체)'!AC6:AE6)+SUM('3. 일출(의존)'!AC6:AE6),"OK","@@") -> @@ | AF3: =IF(AF7='3. 일출(의존)'!AH6,"OK","@@") -> OK | AH3: =IF(SUM(AG7:AI7)=SUM('3. 일출(자체)'!AH6:AJ6)+SUM('3. 일출(의존)'!AI6:AK6),"OK","@@") -> OK
A4: 번호 | B4: 위원회명 | C4: 실국명 | D4: 부서명 | E4: 편성 구분 | F4: 예산안 /예산서 페이지 | G4: 실국별 사업 설명서 페이지 | H4: 목코드 | I4: 목명 | J4: 부기명 | K4: 기정액 (본예산+1추) (가) | L4: 증감액 (2회추경안) (나) | M4: 예산안 (다=가+나) | N4: 상임위 조정액 (라) | O4: 상임위 조정 예산안 (마=다+라) | P4: 예결특위 조정액 (바) | Q4: 예결특위 조정 예산안 (사=다+바) | R4: 상임위 동의 대상 | S4: 참고자료 (관련공문) | T4: 상임위 부대의견 | U4: 예비 심사시 집행부 동의여부 | V4: 예결특위 부대의견 | W4: 부대의견 | X4: 실국의견 청취대상 | Y4: 국도비 등 여부 | AA4: 상임위 재원별 증감액 | AF4: 예결위 재원별 증감액 | AK4: 국비 | AN4: 도비 | AQ4: 실국 부서 코드 | AS4: 상임위 세입/세출 검증 | AZ4: 예결위 세입/세출 검증
AA5: 국비 | AB5: 도비 | AF5: 국비 | AG5: 도비 | AK5: 세입 번호 | AL5: 재원 | AN5: 세입 번호 | AO5: 재원 | AS5: 국비 | AV5: 도비 | AZ5: 국비 | BC5: 도비
AB6: 자체 | AC6: 지방채 | AD6: 지역개발기금 | AG6: 자체 | AH6: 지방채 | AI6: 지역개발기금 | AS6: 증감액 | AT6: 건수 | AU6: 세입세출 금액검증 | AV6: 증감액 | AW6: 건수 | AX6: 세입세출 금액검증 | AZ6: 증감액 | BA6: 건수 | BB6: 세입세출 금액검증 | BC6: 증감액 | BD6: 건수 | BE6: 세입세출 금액검증
B7: 합 계 | J7: =SUBTOTAL(3,J$8:J$2000)&"건" -> 5건 | K7: =SUBTOTAL(9,K$8:K$2000) -> 10930645 | L7: =SUBTOTAL(9,L$8:L$2000) -> 538658 | M7: =SUBTOTAL(9,M$8:M$2000) -> 11469303 | N7: =SUBTOTAL(9,N$8:N$2000) -> -402425 | O7: =SUBTOTAL(9,O$8:O$2000) -> 11066878 | P7: =SUBTOTAL(9,P$8:P$2000) -> 0 | Q7: =SUBTOTAL(9,Q$8:Q$2000) -> 11469303 | AA7: =SUBTOTAL(9,AA$8:AA$2000) -> 84100 | AB7: =SUBTOTAL(9,AB$8:AB$2000) -> -22405 | AC7: =SUBTOTAL(9,AC$8:AC$2000) -> -464120 | AD7: =SUBTOTAL(9,AD$8:AD$2000) -> 0 | AF7: =SUBTOTAL(9,AF$8:AF$2000) -> 0 | AG7: =SUBTOTAL(9,AG$8:AG$2000) -> 0 | AH7: =SUBTOTAL(9,AH$8:AH$2000) -> 0 | AI7: =SUBTOTAL(9,AI$8:AI$2000) -> 0 | AS7: =SUBTOTAL(9,AS$8:AS$2000) -> 47350 | AT7: =SUBTOTAL(9,AT$8:AT$2000) -> 2 | AU7: =IF(COUNTIF(AU$8:AU$2000,"@@")>0,"@@","OK") -> @@ | AV7: =SUBTOTAL(9,AV$8:AV$2000) -> -464120 | AW7: =SUBTOTAL(9,AW$8:AW$2000) -> 1 | AX7: =IF(COUNTIF(AX$8:AX$2000,"@@")>0,"@@","OK") -> OK | AZ7: =SUBTOTAL(9,AZ$8:AZ$2000) -> 0 | BA7: =SUBTOTAL(9,BA$8:BA$2000) -> 2 | BB7: =IF(COUNTIF(BB$8:BB$2000,"@@")>0,"@@","OK") -> OK | BC7: =SUBTOTAL(9,BC$8:BC$2000) -> 0 | BD7: =SUBTOTAL(9,BD$8:BD$2000) -> 1 | BE7: =IF(COUNTIF(BE$8:BE$2000,"@@")>0,"@@","OK") -> OK
B8: (의회운영위원회) | J8: =SUBTOTAL(3,J9:J24)&"건" -> 0건 | K8: =SUBTOTAL(9,K9:K24) -> 0 | L8: =SUBTOTAL(9,L9:L24) -> 0 | M8: =SUBTOTAL(9,M9:M24) -> 0 | N8: =SUBTOTAL(9,N9:N24) -> 0 | O8: =SUBTOTAL(9,O9:O24) -> 0 | P8: =SUBTOTAL(9,P9:P24) -> 0 | Q8: =SUBTOTAL(9,Q9:Q24) -> 0 | AA8: =SUBTOTAL(9,AA9:AA24) -> 0 | AB8: =SUBTOTAL(9,AB9:AB24) -> 0 | AC8: =SUBTOTAL(9,AC9:AC24) -> 0 | AD8: =SUBTOTAL(9,AD9:AD24) -> 0 | AF8: =SUBTOTAL(9,AF9:AF24) -> 0 | AG8: =SUBTOTAL(9,AG9:AG24) -> 0 | AH8: =SUBTOTAL(9,AH9:AH24) -> 0 | AI8: =SUBTOTAL(9,AI9:AI24) -> 0 | AS8: =SUBTOTAL(9,AS9:AS24) -> 0 | AT8: =SUBTOTAL(9,AT9:AT24) -> 0 | AU8: =IF(COUNTIF(AU9:AU24,"@@")>0,"@@","OK") -> OK | AV8: =SUBTOTAL(9,AV9:AV24) -> 0 | AW8: =SUBTOTAL(9,AW9:AW24) -> 0 | AX8: =IF(COUNTIF(AX9:AX24,"@@")>0,"@@","OK") -> OK | AZ8: =SUBTOTAL(9,AZ9:AZ24) -> 0 | BA8: =SUBTOTAL(9,BA9:BA24) -> 0 | BB8: =IF(COUNTIF(BB9:BB24,"@@")>0,"@@","OK") -> OK | BC8: =SUBTOTAL(9,BC9:BC24) -> 0 | BD8: =SUBTOTAL(9,BD9:BD24) -> 0 | BE8: =IF(COUNTIF(BE9:BE24,"@@")>0,"@@","OK") -> OK
A9: =IF(D9="","",COUNTA($C$8:C9)-COUNTBLANK($C$8:C9)+1) | B9: =IF(D9="","",IF(OR(C9="직접입력",D9="북부지원"),"직접입력",IF(OR(AND(D9="인사과",C9="의회사무처"),AND(D9="총무과",C9="의회사무처")),"의회운영위원회",IF(OR(C9="직접입력",D9="북부지원"),"직접입력",IF(OR(AND(D9="인사과",C9="자치행정국"),AND(D9="총무과",C9="자치행정국")),"안전행정위원회",VLOOKUP(D9,구분표!$A$3:$C$258,2,)))))) | C9: =IF(D9="","",IF(OR(D9="교육지원과",D9="총무과",D9="인사과"),"직접입력",VLOOKUP(D9,구분표!$A$3:$C$258,3,))) | F9: =IF($E9="","",IF($E9="2추","직접입력","-")) | G9: =IF($E9="","",IF($E9="2추","직접입력","-")) | I9: =IF(H9="","",VLOOKUP($H9,구분표!$O$3:$P$168,2,FALSE)) | K9: =IF($E9="","",IF(OR($E9="2추",$E9="1추",$E9="본예산"),"금액입력","-")) | L9: =IF($E9="","",IF($E9="2추","금액입력","-")) | M9: =IF($E9="","",SUM(K9:L9)) | O9: =SUM(M9:N9) -> 0 | Q9: =SUM(M9,P9) -> 0 | R9: =IF(AND((O9=0),(Q9>0)),"O",IF(AND((N9<0),(O9-Q9<0)),"O","X")) -> X | Y9: =IF($H9="","",IF(OR($H9="511-01",$H9="511-02",$H9="511-03",$H9="311-02",$H9="311-04",$H9="321-01"),"국비","도비")) | AA9: =IF($Y9="국비",IF($N9<>"",$N9,0),"") | AB9: =IF($Y9="도비",IF($AO9="자체",IF($N9<>"",$N9,0),""),"") | AC9: =IF($Y9="도비",IF($AO9="지방채",IF($N9<>"",$N9,0),""),"") | AD9: =IF($Y9="도비",IF($AO9="지역개발기금",IF($N9<>"",$N9,0),""),"") | AF9: =IF($Y9="국비",IF($P9<>"",$P9,0),"") | AG9: =IF($Y9="도비",IF($AO9="자체",IF($P9<>"",$P9,0),""),"") | AH9: =IF($Y9="도비",IF($AO9="지방채",IF($P9<>"",$P9,0),""),"") | AI9: =IF($Y9="도비",IF($AO9="지역개발기금",IF($P9<>"",$P9,0),""),"") | AK9: =IF($AQ9="","",IF(OR($AL9="",$AL9="도비"),"",CONCATENATE($AQ9,"-",COUNTIF($AQ$8:$AQ9,$AQ9)))) | AL9: =IF($H9="","",IF($H9="511-01","국비",IF($H9="511-02","균특",IF($H9="511-03","기금",IF($H9="311-02","특교",IF($H9="311-04","소교",IF($H9="321-01","소멸","도비"))))))) | AN9: =IF($AQ9="","",IF(OR($AO9="",$AO9="국비",$AO9="자체"),"",CONCATENATE($AQ9,"-",$AO9,"-",COUNTIF($AQ$8:$AQ9,$AQ9)))) | AO9: =IF($Y9="","",IF($Y9="국비","국비",IF($H9="612-01","지방채",IF($H9="722-02","지역개발기금","자체")))) | AQ9: {=IF(OR($D9="",$C9="직접입력",$B9="직접입력"),"",INDEX(구분표!$I$2:$I$337,MATCH(1,(구분표!$G$2:$G$337='3. 일입'!$B9)*(구분표!$E$2:$E$337='3. 일입'!$C9)*(구분표!$F$2:$F$337='3. 일입'!$D9),0)))} | AS9: =IF($AK9="","",SUMIFS('3. 일출(의존)'!$AB$7:$AB$1989,'3. 일출(의존)'!$AN$7:$AN$1989,$AK9)) | AT9: =IF($AK9="","",COUNTIF('3. 일출(의존)'!$AN$7:$AN$1989,$AK9)) | AU9: =IF($AK9="","",IF($AA9=$AS9,"OK","@@")) | AV9: =IF($AN9="","",IF($AO9="지역개발기금",SUMIFS('3. 일출(의존)'!$AE$8:$AE$2000,'3. 일출(의존)'!$AS$8:$AS$2000,$AN9)+SUMIFS('3. 일출(자체)'!$AE$8:$AE$2000,'3. 일출(자체)'!$AM$8:$AM$2000,$AN9),IF($AO9="지방채",SUMIFS('3. 일출(의존)'!$AD$8:$AD$2000,'3. 일출(의존)'!$AS$8:$AS$2000,$AN9)+SUMIFS('3. 일출(자체)'!$AD$8:$AD$2000,'3. 일출(자체)'!$AM$8:$AM$2000,$AN9),0))) | AW9: =IF($AN9="","",COUNTIF('3. 일출(의존)'!$AS$8:$AS$2000,$AN9)+COUNTIF('3. 일출(자체)'!$AM$8:$AM$2000,$AN9)) | AX9: =IF($AN9="","",IF($AO9="자체","",IF($AO9="지방채",IF($AC9=$AV9,"OK","@@"),IF($AO9="지역개발기금",IF($AD9=$AV9,"OK","@@"),"@@")))) | AZ9: =IF($AK9="","",SUMIFS('3. 일출(의존)'!$AH$8:$AH$1989,'3. 일출(의존)'!$AN$8:$AN$1989,$AK9)) | BA9: =IF($AK9="","",COUNTIF('3. 일출(의존)'!$AN$7:$AN$1989,$AK9)) | BB9: =IF($AK9="","",IF($AF9=$AZ9,"OK","@@")) | BC9: =IF($AN9="","",IF($AO9="지역개발기금",SUMIFS('3. 일출(의존)'!$AK$8:$AK$2000,'3. 일출(의존)'!$AS$8:$AS$2000,$AN9)+SUMIFS('3. 일출(자체)'!$AJ$8:$AJ$2000,'3. 일출(자체)'!$AM$8:$AM$2000,$AN9),IF($AO9="지방채",SUMIFS('3. 일출(의존)'!$AJ$8:$AJ$2000,'3. 일출(의존)'!$AS$8:$AS$2000,$AN9)+SUMIFS('3. 일출(자체)'!$AI$8:$AI$2000,'3. 일출(자체)'!$AM$8:$AM$2000,$AN9),0))) | BD9: =IF($AN9="","",COUNTIF('3. 일출(의존)'!$AS$8:$AS$2000,$AN9)+COUNTIF('3. 일출(자체)'!$AM$8:$AM$2000,$AN9)) | BE9: =IF($AN9="","",IF($AO9="자체","",IF($AO9="지방채",IF($AH9=$BC9,"OK","@@"),IF($AO9="지역개발기금",IF($AI9=$BC9,"OK","@@"),"@@"))))
A10: =IF(D10="","",COUNTA($C$8:C10)-COUNTBLANK($C$8:C10)+1) | B10: =IF(D10="","",IF(OR(C10="직접입력",D10="북부지원"),"직접입력",IF(OR(AND(D10="인사과",C10="의회사무처"),AND(D10="총무과",C10="의회사무처")),"의회운영위원회",IF(OR(C10="직접입력",D10="북부지원"),"직접입력",IF(OR(AND(D10="인사과",C10="자치행정국"),AND(D10="총무과",C10="자치행정국")),"안전행정위원회",VLOOKUP(D10,구분표!$A$3:$C$258,2,)))))) | C10: =IF(D10="","",IF(OR(D10="교육지원과",D10="총무과",D10="인사과"),"직접입력",VLOOKUP(D10,구분표!$A$3:$C$258,3,))) | F10: =IF($E10="","",IF($E10="2추","직접입력","-")) | G10: =IF($E10="","",IF($E10="2추","직접입력","-")) | I10: =IF(H10="","",VLOOKUP($H10,구분표!$O$3:$P$168,2,FALSE)) | K10: =IF($E10="","",IF(OR($E10="2추",$E10="1추",$E10="본예산"),"금액입력","-")) | L10: =IF($E10="","",IF($E10="2추","금액입력","-")) | M10: =IF($E10="","",SUM(K10:L10)) | O10: =SUM(M10:N10) -> 0 | Q10: =SUM(M10,P10) -> 0 | R10: =IF(AND((O10=0),(Q10>0)),"O",IF(AND((N10<0),(O10-Q10<0)),"O","X")) -> X | Y10: =IF($H10="","",IF(OR($H10="511-01",$H10="511-02",$H10="511-03",$H10="311-02",$H10="311-04",$H10="321-01"),"국비","도비")) | AA10: =IF($Y10="국비",IF($N10<>"",$N10,0),"") | AB10: =IF($Y10="도비",IF($AO10="자체",IF($N10<>"",$N10,0),""),"") | AC10: =IF($Y10="도비",IF($AO10="지방채",IF($N10<>"",$N10,0),""),"") | AD10: =IF($Y10="도비",IF($AO10="지역개발기금",IF($N10<>"",$N10,0),""),"") | AF10: =IF($Y10="국비",IF($P10<>"",$P10,0),"") | AG10: =IF($Y10="도비",IF($AO10="자체",IF($P10<>"",$P10,0),""),"") | AH10: =IF($Y10="도비",IF($AO10="지방채",IF($P10<>"",$P10,0),""),"") | AI10: =IF($Y10="도비",IF($AO10="지역개발기금",IF($P10<>"",$P10,0),""),"") | AK10: =IF($AQ10="","",IF(OR($AL10="",$AL10="도비"),"",CONCATENATE($AQ10,"-",COUNTIF($AQ$8:$AQ10,$AQ10)))) | AL10: =IF($H10="","",IF($H10="511-01","국비",IF($H10="511-02","균특",IF($H10="511-03","기금",IF($H10="311-02","특교",IF($H10="311-04","소교",IF($H10="321-01","소멸","도비"))))))) | AN10: =IF($AQ10="","",IF(OR($AO10="",$AO10="국비",$AO10="자체"),"",CONCATENATE($AQ10,"-",$AO10,"-",COUNTIF($AQ$8:$AQ10,$AQ10)))) | AO10: =IF($Y10="","",IF($Y10="국비","국비",IF($H10="612-01","지방채",IF($H10="722-02","지역개발기금","자체")))) | AQ10: {=IF(OR($D10="",$C10="직접입력",$B10="직접입력"),"",INDEX(구분표!$I$2:$I$337,MATCH(1,(구분표!$G$2:$G$337='3. 일입'!$B10)*(구분표!$E$2:$E$337='3. 일입'!$C10)*(구분표!$F$2:$F$337='3. 일입'!$D10),0)))} | AS10: =IF($AK10="","",SUMIFS('3. 일출(의존)'!$AB$7:$AB$1989,'3. 일출(의존)'!$AN$7:$AN$1989,$AK10)) | AT10: =IF($AK10="","",COUNTIF('3. 일출(의존)'!$AN$7:$AN$1989,$AK10)) | AU10: =IF($AK10="","",IF($AA10=$AS10,"OK","@@")) | AV10: =IF($AN10="","",IF($AO10="지역개발기금",SUMIFS('3. 일출(의존)'!$AE$8:$AE$2000,'3. 일출(의존)'!$AS$8:$AS$2000,$AN10)+SUMIFS('3. 일출(자체)'!$AE$8:$AE$2000,'3. 일출(자체)'!$AM$8:$AM$2000,$AN10),IF($AO10="지방채",SUMIFS('3. 일출(의존)'!$AD$8:$AD$2000,'3. 일출(의존)'!$AS$8:$AS$2000,$AN10)+SUMIFS('3. 일출(자체)'!$AD$8:$AD$2000,'3. 일출(자체)'!$AM$8:$AM$2000,$AN10),0))) | AW10: =IF($AN10="","",COUNTIF('3. 일출(의존)'!$AS$8:$AS$2000,$AN10)+COUNTIF('3. 일출(자체)'!$AM$8:$AM$2000,$AN10)) | AX10: =IF($AN10="","",IF($AO10="자체","",IF($AO10="지방채",IF($AC10=$AV10,"OK","@@"),IF($AO10="지역개발기금",IF($AD10=$AV10,"OK","@@"),"@@")))) | AZ10: =IF($AK10="","",SUMIFS('3. 일출(의존)'!$AH$8:$AH$1989,'3. 일출(의존)'!$AN$8:$AN$1989,$AK10)) | BA10: =IF($AK10="","",COUNTIF('3. 일출(의존)'!$AN$7:$AN$1989,$AK10)) | BB10: =IF($AK10="","",IF($AF10=$AZ10,"OK","@@")) | BC10: =IF($AN10="","",IF($AO10="지역개발기금",SUMIFS('3. 일출(의존)'!$AK$8:$AK$2000,'3. 일출(의존)'!$AS$8:$AS$2000,$AN10)+SUMIFS('3. 일출(자체)'!$AJ$8:$AJ$2000,'3. 일출(자체)'!$AM$8:$AM$2000,$AN10),IF($AO10="지방채",SUMIFS('3. 일출(의존)'!$AJ$8:$AJ$2000,'3. 일출(의존)'!$AS$8:$AS$2000,$AN10)+SUMIFS('3. 일출(자체)'!$AI$8:$AI$2000,'3. 일출(자체)'!$AM$8:$AM$2000,$AN10),0))) | BD10: =IF($AN10="","",COUNTIF('3. 일출(의존)'!$AS$8:$AS$2000,$AN10)+COUNTIF('3. 일출(자체)'!$AM$8:$AM$2000,$AN10)) | BE10: =IF($AN10="","",IF($AO10="자체","",IF($AO10="지방채",IF($AH10=$BC10,"OK","@@"),IF($AO10="지역개발기금",IF($AI10=$BC10,"OK","@@"),"@@"))))
A11: =IF(D11="","",COUNTA($C$8:C11)-COUNTBLANK($C$8:C11)+1) | B11: =IF(D11="","",IF(OR(C11="직접입력",D11="북부지원"),"직접입력",IF(OR(AND(D11="인사과",C11="의회사무처"),AND(D11="총무과",C11="의회사무처")),"의회운영위원회",IF(OR(C11="직접입력",D11="북부지원"),"직접입력",IF(OR(AND(D11="인사과",C11="자치행정국"),AND(D11="총무과",C11="자치행정국")),"안전행정위원회",VLOOKUP(D11,구분표!$A$3:$C$258,2,)))))) | C11: =IF(D11="","",IF(OR(D11="교육지원과",D11="총무과",D11="인사과"),"직접입력",VLOOKUP(D11,구분표!$A$3:$C$258,3,))) | F11: =IF($E11="","",IF($E11="2추","직접입력","-")) | G11: =IF($E11="","",IF($E11="2추","직접입력","-")) | I11: =IF(H11="","",VLOOKUP($H11,구분표!$O$3:$P$168,2,FALSE)) | K11: =IF($E11="","",IF(OR($E11="2추",$E11="1추",$E11="본예산"),"금액입력","-")) | L11: =IF($E11="","",IF($E11="2추","금액입력","-")) | M11: =IF($E11="","",SUM(K11:L11)) | O11: =SUM(M11:N11) -> 0 | Q11: =SUM(M11,P11) -> 0 | R11: =IF(AND((O11=0),(Q11>0)),"O",IF(AND((N11<0),(O11-Q11<0)),"O","X")) -> X | Y11: =IF($H11="","",IF(OR($H11="511-01",$H11="511-02",$H11="511-03",$H11="311-02",$H11="311-04",$H11="321-01"),"국비","도비")) | AA11: =IF($Y11="국비",IF($N11<>"",$N11,0),"") | AB11: =IF($Y11="도비",IF($AO11="자체",IF($N11<>"",$N11,0),""),"") | AC11: =IF($Y11="도비",IF($AO11="지방채",IF($N11<>"",$N11,0),""),"") | AD11: =IF($Y11="도비",IF($AO11="지역개발기금",IF($N11<>"",$N11,0),""),"") | AF11: =IF($Y11="국비",IF($P11<>"",$P11,0),"") | AG11: =IF($Y11="도비",IF($AO11="자체",IF($P11<>"",$P11,0),""),"") | AH11: =IF($Y11="도비",IF($AO11="지방채",IF($P11<>"",$P11,0),""),"") | AI11: =IF($Y11="도비",IF($AO11="지역개발기금",IF($P11<>"",$P11,0),""),"") | AK11: =IF($AQ11="","",IF(OR($AL11="",$AL11="도비"),"",CONCATENATE($AQ11,"-",COUNTIF($AQ$8:$AQ11,$AQ11)))) | AL11: =IF($H11="","",IF($H11="511-01","국비",IF($H11="511-02","균특",IF($H11="511-03","기금",IF($H11="311-02","특교",IF($H11="311-04","소교",IF($H11="321-01","소멸","도비"))))))) | AN11: =IF($AQ11="","",IF(OR($AO11="",$AO11="국비",$AO11="자체"),"",CONCATENATE($AQ11,"-",$AO11,"-",COUNTIF($AQ$8:$AQ11,$AQ11)))) | AO11: =IF($Y11="","",IF($Y11="국비","국비",IF($H11="612-01","지방채",IF($H11="722-02","지역개발기금","자체")))) | AQ11: {=IF(OR($D11="",$C11="직접입력",$B11="직접입력"),"",INDEX(구분표!$I$2:$I$337,MATCH(1,(구분표!$G$2:$G$337='3. 일입'!$B11)*(구분표!$E$2:$E$337='3. 일입'!$C11)*(구분표!$F$2:$F$337='3. 일입'!$D11),0)))} | AS11: =IF($AK11="","",SUMIFS('3. 일출(의존)'!$AB$7:$AB$1989,'3. 일출(의존)'!$AN$7:$AN$1989,$AK11)) | AT11: =IF($AK11="","",COUNTIF('3. 일출(의존)'!$AN$7:$AN$1989,$AK11)) | AU11: =IF($AK11="","",IF($AA11=$AS11,"OK","@@")) | AV11: =IF($AN11="","",IF($AO11="지역개발기금",SUMIFS('3. 일출(의존)'!$AE$8:$AE$2000,'3. 일출(의존)'!$AS$8:$AS$2000,$AN11)+SUMIFS('3. 일출(자체)'!$AE$8:$AE$2000,'3. 일출(자체)'!$AM$8:$AM$2000,$AN11),IF($AO11="지방채",SUMIFS('3. 일출(의존)'!$AD$8:$AD$2000,'3. 일출(의존)'!$AS$8:$AS$2000,$AN11)+SUMIFS('3. 일출(자체)'!$AD$8:$AD$2000,'3. 일출(자체)'!$AM$8:$AM$2000,$AN11),0))) | AW11: =IF($AN11="","",COUNTIF('3. 일출(의존)'!$AS$8:$AS$2000,$AN11)+COUNTIF('3. 일출(자체)'!$AM$8:$AM$2000,$AN11)) | AX11: =IF($AN11="","",IF($AO11="자체","",IF($AO11="지방채",IF($AC11=$AV11,"OK","@@"),IF($AO11="지역개발기금",IF($AD11=$AV11,"OK","@@"),"@@")))) | AZ11: =IF($AK11="","",SUMIFS('3. 일출(의존)'!$AH$8:$AH$1989,'3. 일출(의존)'!$AN$8:$AN$1989,$AK11)) | BA11: =IF($AK11="","",COUNTIF('3. 일출(의존)'!$AN$7:$AN$1989,$AK11)) | BB11: =IF($AK11="","",IF($AF11=$AZ11,"OK","@@")) | BC11: =IF($AN11="","",IF($AO11="지역개발기금",SUMIFS('3. 일출(의존)'!$AK$8:$AK$2000,'3. 일출(의존)'!$AS$8:$AS$2000,$AN11)+SUMIFS('3. 일출(자체)'!$AJ$8:$AJ$2000,'3. 일출(자체)'!$AM$8:$AM$2000,$AN11),IF($AO11="지방채",SUMIFS('3. 일출(의존)'!$AJ$8:$AJ$2000,'3. 일출(의존)'!$AS$8:$AS$2000,$AN11)+SUMIFS('3. 일출(자체)'!$AI$8:$AI$2000,'3. 일출(자체)'!$AM$8:$AM$2000,$AN11),0))) | BD11: =IF($AN11="","",COUNTIF('3. 일출(의존)'!$AS$8:$AS$2000,$AN11)+COUNTIF('3. 일출(자체)'!$AM$8:$AM$2000,$AN11)) | BE11: =IF($AN11="","",IF($AO11="자체","",IF($AO11="지방채",IF($AH11=$BC11,"OK","@@"),IF($AO11="지역개발기금",IF($AI11=$BC11,"OK","@@"),"@@"))))
A12: =IF(D12="","",COUNTA($C$8:C12)-COUNTBLANK($C$8:C12)+1) | B12: =IF(D12="","",IF(OR(C12="직접입력",D12="북부지원"),"직접입력",IF(OR(AND(D12="인사과",C12="의회사무처"),AND(D12="총무과",C12="의회사무처")),"의회운영위원회",IF(OR(C12="직접입력",D12="북부지원"),"직접입력",IF(OR(AND(D12="인사과",C12="자치행정국"),AND(D12="총무과",C12="자치행정국")),"안전행정위원회",VLOOKUP(D12,구분표!$A$3:$C$258,2,)))))) | C12: =IF(D12="","",IF(OR(D12="교육지원과",D12="총무과",D12="인사과"),"직접입력",VLOOKUP(D12,구분표!$A$3:$C$258,3,))) | F12: =IF($E12="","",IF($E12="2추","직접입력","-")) | G12: =IF($E12="","",IF($E12="2추","직접입력","-")) | I12: =IF(H12="","",VLOOKUP($H12,구분표!$O$3:$P$168,2,FALSE)) | K12: =IF($E12="","",IF(OR($E12="2추",$E12="1추",$E12="본예산"),"금액입력","-")) | L12: =IF($E12="","",IF($E12="2추","금액입력","-")) | M12: =IF($E12="","",SUM(K12:L12)) | O12: =SUM(M12:N12) -> 0 | Q12: =SUM(M12,P12) -> 0 | R12: =IF(AND((O12=0),(Q12>0)),"O",IF(AND((N12<0),(O12-Q12<0)),"O","X")) -> X | Y12: =IF($H12="","",IF(OR($H12="511-01",$H12="511-02",$H12="511-03",$H12="311-02",$H12="311-04",$H12="321-01"),"국비","도비")) | AA12: =IF($Y12="국비",IF($N12<>"",$N12,0),"") | AB12: =IF($Y12="도비",IF($AO12="자체",IF($N12<>"",$N12,0),""),"") | AC12: =IF($Y12="도비",IF($AO12="지방채",IF($N12<>"",$N12,0),""),"") | AD12: =IF($Y12="도비",IF($AO12="지역개발기금",IF($N12<>"",$N12,0),""),"") | AF12: =IF($Y12="국비",IF($P12<>"",$P12,0),"") | AG12: =IF($Y12="도비",IF($AO12="자체",IF($P12<>"",$P12,0),""),"") | AH12: =IF($Y12="도비",IF($AO12="지방채",IF($P12<>"",$P12,0),""),"") | AI12: =IF($Y12="도비",IF($AO12="지역개발기금",IF($P12<>"",$P12,0),""),"") | AK12: =IF($AQ12="","",IF(OR($AL12="",$AL12="도비"),"",CONCATENATE($AQ12,"-",COUNTIF($AQ$8:$AQ12,$AQ12)))) | AL12: =IF($H12="","",IF($H12="511-01","국비",IF($H12="511-02","균특",IF($H12="511-03","기금",IF($H12="311-02","특교",IF($H12="311-04","소교",IF($H12="321-01","소멸","도비"))))))) | AN12: =IF($AQ12="","",IF(OR($AO12="",$AO12="국비",$AO12="자체"),"",CONCATENATE($AQ12,"-",$AO12,"-",COUNTIF($AQ$8:$AQ12,$AQ12)))) | AO12: =IF($Y12="","",IF($Y12="국비","국비",IF($H12="612-01","지방채",IF($H12="722-02","지역개발기금","자체")))) | AQ12: {=IF(OR($D12="",$C12="직접입력",$B12="직접입력"),"",INDEX(구분표!$I$2:$I$337,MATCH(1,(구분표!$G$2:$G$337='3. 일입'!$B12)*(구분표!$E$2:$E$337='3. 일입'!$C12)*(구분표!$F$2:$F$337='3. 일입'!$D12),0)))} | AS12: =IF($AK12="","",SUMIFS('3. 일출(의존)'!$AB$7:$AB$1989,'3. 일출(의존)'!$AN$7:$AN$1989,$AK12)) | AT12: =IF($AK12="","",COUNTIF('3. 일출(의존)'!$AN$7:$AN$1989,$AK12)) | AU12: =IF($AK12="","",IF($AA12=$AS12,"OK","@@")) | AV12: =IF($AN12="","",IF($AO12="지역개발기금",SUMIFS('3. 일출(의존)'!$AE$8:$AE$2000,'3. 일출(의존)'!$AS$8:$AS$2000,$AN12)+SUMIFS('3. 일출(자체)'!$AE$8:$AE$2000,'3. 일출(자체)'!$AM$8:$AM$2000,$AN12),IF($AO12="지방채",SUMIFS('3. 일출(의존)'!$AD$8:$AD$2000,'3. 일출(의존)'!$AS$8:$AS$2000,$AN12)+SUMIFS('3. 일출(자체)'!$AD$8:$AD$2000,'3. 일출(자체)'!$AM$8:$AM$2000,$AN12),0))) | AW12: =IF($AN12="","",COUNTIF('3. 일출(의존)'!$AS$8:$AS$2000,$AN12)+COUNTIF('3. 일출(자체)'!$AM$8:$AM$2000,$AN12)) | AX12: =IF($AN12="","",IF($AO12="자체","",IF($AO12="지방채",IF($AC12=$AV12,"OK","@@"),IF($AO12="지역개발기금",IF($AD12=$AV12,"OK","@@"),"@@")))) | AZ12: =IF($AK12="","",SUMIFS('3. 일출(의존)'!$AH$8:$AH$1989,'3. 일출(의존)'!$AN$8:$AN$1989,$AK12)) | BA12: =IF($AK12="","",COUNTIF('3. 일출(의존)'!$AN$7:$AN$1989,$AK12)) | BB12: =IF($AK12="","",IF($AF12=$AZ12,"OK","@@")) | BC12: =IF($AN12="","",IF($AO12="지역개발기금",SUMIFS('3. 일출(의존)'!$AK$8:$AK$2000,'3. 일출(의존)'!$AS$8:$AS$2000,$AN12)+SUMIFS('3. 일출(자체)'!$AJ$8:$AJ$2000,'3. 일출(자체)'!$AM$8:$AM$2000,$AN12),IF($AO12="지방채",SUMIFS('3. 일출(의존)'!$AJ$8:$AJ$2000,'3. 일출(의존)'!$AS$8:$AS$2000,$AN12)+SUMIFS('3. 일출(자체)'!$AI$8:$AI$2000,'3. 일출(자체)'!$AM$8:$AM$2000,$AN12),0))) | BD12: =IF($AN12="","",COUNTIF('3. 일출(의존)'!$AS$8:$AS$2000,$AN12)+COUNTIF('3. 일출(자체)'!$AM$8:$AM$2000,$AN12)) | BE12: =IF($AN12="","",IF($AO12="자체","",IF($AO12="지방채",IF($AH12=$BC12,"OK","@@"),IF($AO12="지역개발기금",IF($AI12=$BC12,"OK","@@"),"@@"))))
A13: =IF(D13="","",COUNTA($C$8:C13)-COUNTBLANK($C$8:C13)+1) | B13: =IF(D13="","",IF(OR(C13="직접입력",D13="북부지원"),"직접입력",IF(OR(AND(D13="인사과",C13="의회사무처"),AND(D13="총무과",C13="의회사무처")),"의회운영위원회",IF(OR(C13="직접입력",D13="북부지원"),"직접입력",IF(OR(AND(D13="인사과",C13="자치행정국"),AND(D13="총무과",C13="자치행정국")),"안전행정위원회",VLOOKUP(D13,구분표!$A$3:$C$258,2,)))))) | C13: =IF(D13="","",IF(OR(D13="교육지원과",D13="총무과",D13="인사과"),"직접입력",VLOOKUP(D13,구분표!$A$3:$C$258,3,))) | F13: =IF($E13="","",IF($E13="2추","직접입력","-")) | G13: =IF($E13="","",IF($E13="2추","직접입력","-")) | I13: =IF(H13="","",VLOOKUP($H13,구분표!$O$3:$P$168,2,FALSE)) | K13: =IF($E13="","",IF(OR($E13="2추",$E13="1추",$E13="본예산"),"금액입력","-")) | L13: =IF($E13="","",IF($E13="2추","금액입력","-")) | M13: =IF($E13="","",SUM(K13:L13)) | O13: =SUM(M13:N13) -> 0 | Q13: =SUM(M13,P13) -> 0 | R13: =IF(AND((O13=0),(Q13>0)),"O",IF(AND((N13<0),(O13-Q13<0)),"O","X")) -> X | Y13: =IF($H13="","",IF(OR($H13="511-01",$H13="511-02",$H13="511-03",$H13="311-02",$H13="311-04",$H13="321-01"),"국비","도비")) | AA13: =IF($Y13="국비",IF($N13<>"",$N13,0),"") | AB13: =IF($Y13="도비",IF($AO13="자체",IF($N13<>"",$N13,0),""),"") | AC13: =IF($Y13="도비",IF($AO13="지방채",IF($N13<>"",$N13,0),""),"") | AD13: =IF($Y13="도비",IF($AO13="지역개발기금",IF($N13<>"",$N13,0),""),"") | AF13: =IF($Y13="국비",IF($P13<>"",$P13,0),"") | AG13: =IF($Y13="도비",IF($AO13="자체",IF($P13<>"",$P13,0),""),"") | AH13: =IF($Y13="도비",IF($AO13="지방채",IF($P13<>"",$P13,0),""),"") | AI13: =IF($Y13="도비",IF($AO13="지역개발기금",IF($P13<>"",$P13,0),""),"") | AK13: =IF($AQ13="","",IF(OR($AL13="",$AL13="도비"),"",CONCATENATE($AQ13,"-",COUNTIF($AQ$8:$AQ13,$AQ13)))) | AL13: =IF($H13="","",IF($H13="511-01","국비",IF($H13="511-02","균특",IF($H13="511-03","기금",IF($H13="311-02","특교",IF($H13="311-04","소교",IF($H13="321-01","소멸","도비"))))))) | AN13: =IF($AQ13="","",IF(OR($AO13="",$AO13="국비",$AO13="자체"),"",CONCATENATE($AQ13,"-",$AO13,"-",COUNTIF($AQ$8:$AQ13,$AQ13)))) | AO13: =IF($Y13="","",IF($Y13="국비","국비",IF($H13="612-01","지방채",IF($H13="722-02","지역개발기금","자체")))) | AQ13: {=IF(OR($D13="",$C13="직접입력",$B13="직접입력"),"",INDEX(구분표!$I$2:$I$337,MATCH(1,(구분표!$G$2:$G$337='3. 일입'!$B13)*(구분표!$E$2:$E$337='3. 일입'!$C13)*(구분표!$F$2:$F$337='3. 일입'!$D13),0)))} | AS13: =IF($AK13="","",SUMIFS('3. 일출(의존)'!$AB$7:$AB$1989,'3. 일출(의존)'!$AN$7:$AN$1989,$AK13)) | AT13: =IF($AK13="","",COUNTIF('3. 일출(의존)'!$AN$7:$AN$1989,$AK13)) | AU13: =IF($AK13="","",IF($AA13=$AS13,"OK","@@")) | AV13: =IF($AN13="","",IF($AO13="지역개발기금",SUMIFS('3. 일출(의존)'!$AE$8:$AE$2000,'3. 일출(의존)'!$AS$8:$AS$2000,$AN13)+SUMIFS('3. 일출(자체)'!$AE$8:$AE$2000,'3. 일출(자체)'!$AM$8:$AM$2000,$AN13),IF($AO13="지방채",SUMIFS('3. 일출(의존)'!$AD$8:$AD$2000,'3. 일출(의존)'!$AS$8:$AS$2000,$AN13)+SUMIFS('3. 일출(자체)'!$AD$8:$AD$2000,'3. 일출(자체)'!$AM$8:$AM$2000,$AN13),0))) | AW13: =IF($AN13="","",COUNTIF('3. 일출(의존)'!$AS$8:$AS$2000,$AN13)+COUNTIF('3. 일출(자체)'!$AM$8:$AM$2000,$AN13)) | AX13: =IF($AN13="","",IF($AO13="자체","",IF($AO13="지방채",IF($AC13=$AV13,"OK","@@"),IF($AO13="지역개발기금",IF($AD13=$AV13,"OK","@@"),"@@")))) | AZ13: =IF($AK13="","",SUMIFS('3. 일출(의존)'!$AH$8:$AH$1989,'3. 일출(의존)'!$AN$8:$AN$1989,$AK13)) | BA13: =IF($AK13="","",COUNTIF('3. 일출(의존)'!$AN$7:$AN$1989,$AK13)) | BB13: =IF($AK13="","",IF($AF13=$AZ13,"OK","@@")) | BC13: =IF($AN13="","",IF($AO13="지역개발기금",SUMIFS('3. 일출(의존)'!$AK$8:$AK$2000,'3. 일출(의존)'!$AS$8:$AS$2000,$AN13)+SUMIFS('3. 일출(자체)'!$AJ$8:$AJ$2000,'3. 일출(자체)'!$AM$8:$AM$2000,$AN13),IF($AO13="지방채",SUMIFS('3. 일출(의존)'!$AJ$8:$AJ$2000,'3. 일출(의존)'!$AS$8:$AS$2000,$AN13)+SUMIFS('3. 일출(자체)'!$AI$8:$AI$2000,'3. 일출(자체)'!$AM$8:$AM$2000,$AN13),0))) | BD13: =IF($AN13="","",COUNTIF('3. 일출(의존)'!$AS$8:$AS$2000,$AN13)+COUNTIF('3. 일출(자체)'!$AM$8:$AM$2000,$AN13)) | BE13: =IF($AN13="","",IF($AO13="자체","",IF($AO13="지방채",IF($AH13=$BC13,"OK","@@"),IF($AO13="지역개발기금",IF($AI13=$BC13,"OK","@@"),"@@"))))
A14: =IF(D14="","",COUNTA($C$8:C14)-COUNTBLANK($C$8:C14)+1) | B14: =IF(D14="","",IF(OR(C14="직접입력",D14="북부지원"),"직접입력",IF(OR(AND(D14="인사과",C14="의회사무처"),AND(D14="총무과",C14="의회사무처")),"의회운영위원회",IF(OR(C14="직접입력",D14="북부지원"),"직접입력",IF(OR(AND(D14="인사과",C14="자치행정국"),AND(D14="총무과",C14="자치행정국")),"안전행정위원회",VLOOKUP(D14,구분표!$A$3:$C$258,2,)))))) | C14: =IF(D14="","",IF(OR(D14="교육지원과",D14="총무과",D14="인사과"),"직접입력",VLOOKUP(D14,구분표!$A$3:$C$258,3,))) | F14: =IF($E14="","",IF($E14="2추","직접입력","-")) | G14: =IF($E14="","",IF($E14="2추","직접입력","-")) | I14: =IF(H14="","",VLOOKUP($H14,구분표!$O$3:$P$168,2,FALSE)) | K14: =IF($E14="","",IF(OR($E14="2추",$E14="1추",$E14="본예산"),"금액입력","-")) | L14: =IF($E14="","",IF($E14="2추","금액입력","-")) | M14: =IF($E14="","",SUM(K14:L14)) | O14: =SUM(M14:N14) -> 0 | Q14: =SUM(M14,P14) -> 0 | R14: =IF(AND((O14=0),(Q14>0)),"O",IF(AND((N14<0),(O14-Q14<0)),"O","X")) -> X | Y14: =IF($H14="","",IF(OR($H14="511-01",$H14="511-02",$H14="511-03",$H14="311-02",$H14="311-04",$H14="321-01"),"국비","도비")) | AA14: =IF($Y14="국비",IF($N14<>"",$N14,0),"") | AB14: =IF($Y14="도비",IF($AO14="자체",IF($N14<>"",$N14,0),""),"") | AC14: =IF($Y14="도비",IF($AO14="지방채",IF($N14<>"",$N14,0),""),"") | AD14: =IF($Y14="도비",IF($AO14="지역개발기금",IF($N14<>"",$N14,0),""),"") | AF14: =IF($Y14="국비",IF($P14<>"",$P14,0),"") | AG14: =IF($Y14="도비",IF($AO14="자체",IF($P14<>"",$P14,0),""),"") | AH14: =IF($Y14="도비",IF($AO14="지방채",IF($P14<>"",$P14,0),""),"") | AI14: =IF($Y14="도비",IF($AO14="지역개발기금",IF($P14<>"",$P14,0),""),"") | AK14: =IF($AQ14="","",IF(OR($AL14="",$AL14="도비"),"",CONCATENATE($AQ14,"-",COUNTIF($AQ$8:$AQ14,$AQ14)))) | AL14: =IF($H14="","",IF($H14="511-01","국비",IF($H14="511-02","균특",IF($H14="511-03","기금",IF($H14="311-02","특교",IF($H14="311-04","소교",IF($H14="321-01","소멸","도비"))))))) | AN14: =IF($AQ14="","",IF(OR($AO14="",$AO14="국비",$AO14="자체"),"",CONCATENATE($AQ14,"-",$AO14,"-",COUNTIF($AQ$8:$AQ14,$AQ14)))) | AO14: =IF($Y14="","",IF($Y14="국비","국비",IF($H14="612-01","지방채",IF($H14="722-02","지역개발기금","자체")))) | AQ14: {=IF(OR($D14="",$C14="직접입력",$B14="직접입력"),"",INDEX(구분표!$I$2:$I$337,MATCH(1,(구분표!$G$2:$G$337='3. 일입'!$B14)*(구분표!$E$2:$E$337='3. 일입'!$C14)*(구분표!$F$2:$F$337='3. 일입'!$D14),0)))} | AS14: =IF($AK14="","",SUMIFS('3. 일출(의존)'!$AB$7:$AB$1989,'3. 일출(의존)'!$AN$7:$AN$1989,$AK14)) | AT14: =IF($AK14="","",COUNTIF('3. 일출(의존)'!$AN$7:$AN$1989,$AK14)) | AU14: =IF($AK14="","",IF($AA14=$AS14,"OK","@@")) | AV14: =IF($AN14="","",IF($AO14="지역개발기금",SUMIFS('3. 일출(의존)'!$AE$8:$AE$2000,'3. 일출(의존)'!$AS$8:$AS$2000,$AN14)+SUMIFS('3. 일출(자체)'!$AE$8:$AE$2000,'3. 일출(자체)'!$AM$8:$AM$2000,$AN14),IF($AO14="지방채",SUMIFS('3. 일출(의존)'!$AD$8:$AD$2000,'3. 일출(의존)'!$AS$8:$AS$2000,$AN14)+SUMIFS('3. 일출(자체)'!$AD$8:$AD$2000,'3. 일출(자체)'!$AM$8:$AM$2000,$AN14),0))) | AW14: =IF($AN14="","",COUNTIF('3. 일출(의존)'!$AS$8:$AS$2000,$AN14)+COUNTIF('3. 일출(자체)'!$AM$8:$AM$2000,$AN14)) | AX14: =IF($AN14="","",IF($AO14="자체","",IF($AO14="지방채",IF($AC14=$AV14,"OK","@@"),IF($AO14="지역개발기금",IF($AD14=$AV14,"OK","@@"),"@@")))) | AZ14: =IF($AK14="","",SUMIFS('3. 일출(의존)'!$AH$8:$AH$1989,'3. 일출(의존)'!$AN$8:$AN$1989,$AK14)) | BA14: =IF($AK14="","",COUNTIF('3. 일출(의존)'!$AN$7:$AN$1989,$AK14)) | BB14: =IF($AK14="","",IF($AF14=$AZ14,"OK","@@")) | BC14: =IF($AN14="","",IF($AO14="지역개발기금",SUMIFS('3. 일출(의존)'!$AK$8:$AK$2000,'3. 일출(의존)'!$AS$8:$AS$2000,$AN14)+SUMIFS('3. 일출(자체)'!$AJ$8:$AJ$2000,'3. 일출(자체)'!$AM$8:$AM$2000,$AN14),IF($AO14="지방채",SUMIFS('3. 일출(의존)'!$AJ$8:$AJ$2000,'3. 일출(의존)'!$AS$8:$AS$2000,$AN14)+SUMIFS('3. 일출(자체)'!$AI$8:$AI$2000,'3. 일출(자체)'!$AM$8:$AM$2000,$AN14),0))) | BD14: =IF($AN14="","",COUNTIF('3. 일출(의존)'!$AS$8:$AS$2000,$AN14)+COUNTIF('3. 일출(자체)'!$AM$8:$AM$2000,$AN14)) | BE14: =IF($AN14="","",IF($AO14="자체","",IF($AO14="지방채",IF($AH14=$BC14,"OK","@@"),IF($AO14="지역개발기금",IF($AI14=$BC14,"OK","@@"),"@@"))))
A15: =IF(D15="","",COUNTA($C$8:C15)-COUNTBLANK($C$8:C15)+1) | B15: =IF(D15="","",IF(OR(C15="직접입력",D15="북부지원"),"직접입력",IF(OR(AND(D15="인사과",C15="의회사무처"),AND(D15="총무과",C15="의회사무처")),"의회운영위원회",IF(OR(C15="직접입력",D15="북부지원"),"직접입력",IF(OR(AND(D15="인사과",C15="자치행정국"),AND(D15="총무과",C15="자치행정국")),"안전행정위원회",VLOOKUP(D15,구분표!$A$3:$C$258,2,)))))) | C15: =IF(D15="","",IF(OR(D15="교육지원과",D15="총무과",D15="인사과"),"직접입력",VLOOKUP(D15,구분표!$A$3:$C$258,3,))) | F15: =IF($E15="","",IF($E15="2추","직접입력","-")) | G15: =IF($E15="","",IF($E15="2추","직접입력","-")) | I15: =IF(H15="","",VLOOKUP($H15,구분표!$O$3:$P$168,2,FALSE)) | K15: =IF($E15="","",IF(OR($E15="2추",$E15="1추",$E15="본예산"),"금액입력","-")) | L15: =IF($E15="","",IF($E15="2추","금액입력","-")) | M15: =IF($E15="","",SUM(K15:L15)) | O15: =SUM(M15:N15) -> 0 | Q15: =SUM(M15,P15) -> 0 | R15: =IF(AND((O15=0),(Q15>0)),"O",IF(AND((N15<0),(O15-Q15<0)),"O","X")) -> X | Y15: =IF($H15="","",IF(OR($H15="511-01",$H15="511-02",$H15="511-03",$H15="311-02",$H15="311-04",$H15="321-01"),"국비","도비")) | AA15: =IF($Y15="국비",IF($N15<>"",$N15,0),"") | AB15: =IF($Y15="도비",IF($AO15="자체",IF($N15<>"",$N15,0),""),"") | AC15: =IF($Y15="도비",IF($AO15="지방채",IF($N15<>"",$N15,0),""),"") | AD15: =IF($Y15="도비",IF($AO15="지역개발기금",IF($N15<>"",$N15,0),""),"") | AF15: =IF($Y15="국비",IF($P15<>"",$P15,0),"") | AG15: =IF($Y15="도비",IF($AO15="자체",IF($P15<>"",$P15,0),""),"") | AH15: =IF($Y15="도비",IF($AO15="지방채",IF($P15<>"",$P15,0),""),"") | AI15: =IF($Y15="도비",IF($AO15="지역개발기금",IF($P15<>"",$P15,0),""),"") | AK15: =IF($AQ15="","",IF(OR($AL15="",$AL15="도비"),"",CONCATENATE($AQ15,"-",COUNTIF($AQ$8:$AQ15,$AQ15)))) | AL15: =IF($H15="","",IF($H15="511-01","국비",IF($H15="511-02","균특",IF($H15="511-03","기금",IF($H15="311-02","특교",IF($H15="311-04","소교",IF($H15="321-01","소멸","도비"))))))) | AN15: =IF($AQ15="","",IF(OR($AO15="",$AO15="국비",$AO15="자체"),"",CONCATENATE($AQ15,"-",$AO15,"-",COUNTIF($AQ$8:$AQ15,$AQ15)))) | AO15: =IF($Y15="","",IF($Y15="국비","국비",IF($H15="612-01","지방채",IF($H15="722-02","지역개발기금","자체")))) | AQ15: {=IF(OR($D15="",$C15="직접입력",$B15="직접입력"),"",INDEX(구분표!$I$2:$I$337,MATCH(1,(구분표!$G$2:$G$337='3. 일입'!$B15)*(구분표!$E$2:$E$337='3. 일입'!$C15)*(구분표!$F$2:$F$337='3. 일입'!$D15),0)))} | AS15: =IF($AK15="","",SUMIFS('3. 일출(의존)'!$AB$7:$AB$1989,'3. 일출(의존)'!$AN$7:$AN$1989,$AK15)) | AT15: =IF($AK15="","",COUNTIF('3. 일출(의존)'!$AN$7:$AN$1989,$AK15)) | AU15: =IF($AK15="","",IF($AA15=$AS15,"OK","@@")) | AV15: =IF($AN15="","",IF($AO15="지역개발기금",SUMIFS('3. 일출(의존)'!$AE$8:$AE$2000,'3. 일출(의존)'!$AS$8:$AS$2000,$AN15)+SUMIFS('3. 일출(자체)'!$AE$8:$AE$2000,'3. 일출(자체)'!$AM$8:$AM$2000,$AN15),IF($AO15="지방채",SUMIFS('3. 일출(의존)'!$AD$8:$AD$2000,'3. 일출(의존)'!$AS$8:$AS$2000,$AN15)+SUMIFS('3. 일출(자체)'!$AD$8:$AD$2000,'3. 일출(자체)'!$AM$8:$AM$2000,$AN15),0))) | AW15: =IF($AN15="","",COUNTIF('3. 일출(의존)'!$AS$8:$AS$2000,$AN15)+COUNTIF('3. 일출(자체)'!$AM$8:$AM$2000,$AN15)) | AX15: =IF($AN15="","",IF($AO15="자체","",IF($AO15="지방채",IF($AC15=$AV15,"OK","@@"),IF($AO15="지역개발기금",IF($AD15=$AV15,"OK","@@"),"@@")))) | AZ15: =IF($AK15="","",SUMIFS('3. 일출(의존)'!$AH$8:$AH$1989,'3. 일출(의존)'!$AN$8:$AN$1989,$AK15)) | BA15: =IF($AK15="","",COUNTIF('3. 일출(의존)'!$AN$7:$AN$1989,$AK15)) | BB15: =IF($AK15="","",IF($AF15=$AZ15,"OK","@@")) | BC15: =IF($AN15="","",IF($AO15="지역개발기금",SUMIFS('3. 일출(의존)'!$AK$8:$AK$2000,'3. 일출(의존)'!$AS$8:$AS$2000,$AN15)+SUMIFS('3. 일출(자체)'!$AJ$8:$AJ$2000,'3. 일출(자체)'!$AM$8:$AM$2000,$AN15),IF($AO15="지방채",SUMIFS('3. 일출(의존)'!$AJ$8:$AJ$2000,'3. 일출(의존)'!$AS$8:$AS$2000,$AN15)+SUMIFS('3. 일출(자체)'!$AI$8:$AI$2000,'3. 일출(자체)'!$AM$8:$AM$2000,$AN15),0))) | BD15: =IF($AN15="","",COUNTIF('3. 일출(의존)'!$AS$8:$AS$2000,$AN15)+COUNTIF('3. 일출(자체)'!$AM$8:$AM$2000,$AN15)) | BE15: =IF($AN15="","",IF($AO15="자체","",IF($AO15="지방채",IF($AH15=$BC15,"OK","@@"),IF($AO15="지역개발기금",IF($AI15=$BC15,"OK","@@"),"@@"))))
A16: =IF(D16="","",COUNTA($C$8:C16)-COUNTBLANK($C$8:C16)+1) | B16: =IF(D16="","",IF(OR(C16="직접입력",D16="북부지원"),"직접입력",IF(OR(AND(D16="인사과",C16="의회사무처"),AND(D16="총무과",C16="의회사무처")),"의회운영위원회",IF(OR(C16="직접입력",D16="북부지원"),"직접입력",IF(OR(AND(D16="인사과",C16="자치행정국"),AND(D16="총무과",C16="자치행정국")),"안전행정위원회",VLOOKUP(D16,구분표!$A$3:$C$258,2,)))))) | C16: =IF(D16="","",IF(OR(D16="교육지원과",D16="총무과",D16="인사과"),"직접입력",VLOOKUP(D16,구분표!$A$3:$C$258,3,))) | F16: =IF($E16="","",IF($E16="2추","직접입력","-")) | G16: =IF($E16="","",IF($E16="2추","직접입력","-")) | I16: =IF(H16="","",VLOOKUP($H16,구분표!$O$3:$P$168,2,FALSE)) | K16: =IF($E16="","",IF(OR($E16="2추",$E16="1추",$E16="본예산"),"금액입력","-")) | L16: =IF($E16="","",IF($E16="2추","금액입력","-")) | M16: =IF($E16="","",SUM(K16:L16)) | O16: =SUM(M16:N16) -> 0 | Q16: =SUM(M16,P16) -> 0 | R16: =IF(AND((O16=0),(Q16>0)),"O",IF(AND((N16<0),(O16-Q16<0)),"O","X")) -> X | Y16: =IF($H16="","",IF(OR($H16="511-01",$H16="511-02",$H16="511-03",$H16="311-02",$H16="311-04",$H16="321-01"),"국비","도비")) | AA16: =IF($Y16="국비",IF($N16<>"",$N16,0),"") | AB16: =IF($Y16="도비",IF($AO16="자체",IF($N16<>"",$N16,0),""),"") | AC16: =IF($Y16="도비",IF($AO16="지방채",IF($N16<>"",$N16,0),""),"") | AD16: =IF($Y16="도비",IF($AO16="지역개발기금",IF($N16<>"",$N16,0),""),"") | AF16: =IF($Y16="국비",IF($P16<>"",$P16,0),"") | AG16: =IF($Y16="도비",IF($AO16="자체",IF($P16<>"",$P16,0),""),"") | AH16: =IF($Y16="도비",IF($AO16="지방채",IF($P16<>"",$P16,0),""),"") | AI16: =IF($Y16="도비",IF($AO16="지역개발기금",IF($P16<>"",$P16,0),""),"") | AK16: =IF($AQ16="","",IF(OR($AL16="",$AL16="도비"),"",CONCATENATE($AQ16,"-",COUNTIF($AQ$8:$AQ16,$AQ16)))) | AL16: =IF($H16="","",IF($H16="511-01","국비",IF($H16="511-02","균특",IF($H16="511-03","기금",IF($H16="311-02","특교",IF($H16="311-04","소교",IF($H16="321-01","소멸","도비"))))))) | AN16: =IF($AQ16="","",IF(OR($AO16="",$AO16="국비",$AO16="자체"),"",CONCATENATE($AQ16,"-",$AO16,"-",COUNTIF($AQ$8:$AQ16,$AQ16)))) | AO16: =IF($Y16="","",IF($Y16="국비","국비",IF($H16="612-01","지방채",IF($H16="722-02","지역개발기금","자체")))) | AQ16: {=IF(OR($D16="",$C16="직접입력",$B16="직접입력"),"",INDEX(구분표!$I$2:$I$337,MATCH(1,(구분표!$G$2:$G$337='3. 일입'!$B16)*(구분표!$E$2:$E$337='3. 일입'!$C16)*(구분표!$F$2:$F$337='3. 일입'!$D16),0)))} | AS16: =IF($AK16="","",SUMIFS('3. 일출(의존)'!$AB$7:$AB$1989,'3. 일출(의존)'!$AN$7:$AN$1989,$AK16)) | AT16: =IF($AK16="","",COUNTIF('3. 일출(의존)'!$AN$7:$AN$1989,$AK16)) | AU16: =IF($AK16="","",IF($AA16=$AS16,"OK","@@")) | AV16: =IF($AN16="","",IF($AO16="지역개발기금",SUMIFS('3. 일출(의존)'!$AE$8:$AE$2000,'3. 일출(의존)'!$AS$8:$AS$2000,$AN16)+SUMIFS('3. 일출(자체)'!$AE$8:$AE$2000,'3. 일출(자체)'!$AM$8:$AM$2000,$AN16),IF($AO16="지방채",SUMIFS('3. 일출(의존)'!$AD$8:$AD$2000,'3. 일출(의존)'!$AS$8:$AS$2000,$AN16)+SUMIFS('3. 일출(자체)'!$AD$8:$AD$2000,'3. 일출(자체)'!$AM$8:$AM$2000,$AN16),0))) | AW16: =IF($AN16="","",COUNTIF('3. 일출(의존)'!$AS$8:$AS$2000,$AN16)+COUNTIF('3. 일출(자체)'!$AM$8:$AM$2000,$AN16)) | AX16: =IF($AN16="","",IF($AO16="자체","",IF($AO16="지방채",IF($AC16=$AV16,"OK","@@"),IF($AO16="지역개발기금",IF($AD16=$AV16,"OK","@@"),"@@")))) | AZ16: =IF($AK16="","",SUMIFS('3. 일출(의존)'!$AH$8:$AH$1989,'3. 일출(의존)'!$AN$8:$AN$1989,$AK16)) | BA16: =IF($AK16="","",COUNTIF('3. 일출(의존)'!$AN$7:$AN$1989,$AK16)) | BB16: =IF($AK16="","",IF($AF16=$AZ16,"OK","@@")) | BC16: =IF($AN16="","",IF($AO16="지역개발기금",SUMIFS('3. 일출(의존)'!$AK$8:$AK$2000,'3. 일출(의존)'!$AS$8:$AS$2000,$AN16)+SUMIFS('3. 일출(자체)'!$AJ$8:$AJ$2000,'3. 일출(자체)'!$AM$8:$AM$2000,$AN16),IF($AO16="지방채",SUMIFS('3. 일출(의존)'!$AJ$8:$AJ$2000,'3. 일출(의존)'!$AS$8:$AS$2000,$AN16)+SUMIFS('3. 일출(자체)'!$AI$8:$AI$2000,'3. 일출(자체)'!$AM$8:$AM$2000,$AN16),0))) | BD16: =IF($AN16="","",COUNTIF('3. 일출(의존)'!$AS$8:$AS$2000,$AN16)+COUNTIF('3. 일출(자체)'!$AM$8:$AM$2000,$AN16)) | BE16: =IF($AN16="","",IF($AO16="자체","",IF($AO16="지방채",IF($AH16=$BC16,"OK","@@"),IF($AO16="지역개발기금",IF($AI16=$BC16,"OK","@@"),"@@"))))
A17: =IF(D17="","",COUNTA($C$8:C17)-COUNTBLANK($C$8:C17)+1) | B17: =IF(D17="","",IF(OR(C17="직접입력",D17="북부지원"),"직접입력",IF(OR(AND(D17="인사과",C17="의회사무처"),AND(D17="총무과",C17="의회사무처")),"의회운영위원회",IF(OR(C17="직접입력",D17="북부지원"),"직접입력",IF(OR(AND(D17="인사과",C17="자치행정국"),AND(D17="총무과",C17="자치행정국")),"안전행정위원회",VLOOKUP(D17,구분표!$A$3:$C$258,2,)))))) | C17: =IF(D17="","",IF(OR(D17="교육지원과",D17="총무과",D17="인사과"),"직접입력",VLOOKUP(D17,구분표!$A$3:$C$258,3,))) | F17: =IF($E17="","",IF($E17="2추","직접입력","-")) | G17: =IF($E17="","",IF($E17="2추","직접입력","-")) | I17: =IF(H17="","",VLOOKUP($H17,구분표!$O$3:$P$168,2,FALSE)) | K17: =IF($E17="","",IF(OR($E17="2추",$E17="1추",$E17="본예산"),"금액입력","-")) | L17: =IF($E17="","",IF($E17="2추","금액입력","-")) | M17: =IF($E17="","",SUM(K17:L17)) | O17: =SUM(M17:N17) -> 0 | Q17: =SUM(M17,P17) -> 0 | R17: =IF(AND((O17=0),(Q17>0)),"O",IF(AND((N17<0),(O17-Q17<0)),"O","X")) -> X | Y17: =IF($H17="","",IF(OR($H17="511-01",$H17="511-02",$H17="511-03",$H17="311-02",$H17="311-04",$H17="321-01"),"국비","도비")) | AA17: =IF($Y17="국비",IF($N17<>"",$N17,0),"") | AB17: =IF($Y17="도비",IF($AO17="자체",IF($N17<>"",$N17,0),""),"") | AC17: =IF($Y17="도비",IF($AO17="지방채",IF($N17<>"",$N17,0),""),"") | AD17: =IF($Y17="도비",IF($AO17="지역개발기금",IF($N17<>"",$N17,0),""),"") | AF17: =IF($Y17="국비",IF($P17<>"",$P17,0),"") | AG17: =IF($Y17="도비",IF($AO17="자체",IF($P17<>"",$P17,0),""),"") | AH17: =IF($Y17="도비",IF($AO17="지방채",IF($P17<>"",$P17,0),""),"") | AI17: =IF($Y17="도비",IF($AO17="지역개발기금",IF($P17<>"",$P17,0),""),"") | AK17: =IF($AQ17="","",IF(OR($AL17="",$AL17="도비"),"",CONCATENATE($AQ17,"-",COUNTIF($AQ$8:$AQ17,$AQ17)))) | AL17: =IF($H17="","",IF($H17="511-01","국비",IF($H17="511-02","균특",IF($H17="511-03","기금",IF($H17="311-02","특교",IF($H17="311-04","소교",IF($H17="321-01","소멸","도비"))))))) | AN17: =IF($AQ17="","",IF(OR($AO17="",$AO17="국비",$AO17="자체"),"",CONCATENATE($AQ17,"-",$AO17,"-",COUNTIF($AQ$8:$AQ17,$AQ17)))) | AO17: =IF($Y17="","",IF($Y17="국비","국비",IF($H17="612-01","지방채",IF($H17="722-02","지역개발기금","자체")))) | AQ17: {=IF(OR($D17="",$C17="직접입력",$B17="직접입력"),"",INDEX(구분표!$I$2:$I$337,MATCH(1,(구분표!$G$2:$G$337='3. 일입'!$B17)*(구분표!$E$2:$E$337='3. 일입'!$C17)*(구분표!$F$2:$F$337='3. 일입'!$D17),0)))} | AS17: =IF($AK17="","",SUMIFS('3. 일출(의존)'!$AB$7:$AB$1989,'3. 일출(의존)'!$AN$7:$AN$1989,$AK17)) | AT17: =IF($AK17="","",COUNTIF('3. 일출(의존)'!$AN$7:$AN$1989,$AK17)) | AU17: =IF($AK17="","",IF($AA17=$AS17,"OK","@@")) | AV17: =IF($AN17="","",IF($AO17="지역개발기금",SUMIFS('3. 일출(의존)'!$AE$8:$AE$2000,'3. 일출(의존)'!$AS$8:$AS$2000,$AN17)+SUMIFS('3. 일출(자체)'!$AE$8:$AE$2000,'3. 일출(자체)'!$AM$8:$AM$2000,$AN17),IF($AO17="지방채",SUMIFS('3. 일출(의존)'!$AD$8:$AD$2000,'3. 일출(의존)'!$AS$8:$AS$2000,$AN17)+SUMIFS('3. 일출(자체)'!$AD$8:$AD$2000,'3. 일출(자체)'!$AM$8:$AM$2000,$AN17),0))) | AW17: =IF($AN17="","",COUNTIF('3. 일출(의존)'!$AS$8:$AS$2000,$AN17)+COUNTIF('3. 일출(자체)'!$AM$8:$AM$2000,$AN17)) | AX17: =IF($AN17="","",IF($AO17="자체","",IF($AO17="지방채",IF($AC17=$AV17,"OK","@@"),IF($AO17="지역개발기금",IF($AD17=$AV17,"OK","@@"),"@@")))) | AZ17: =IF($AK17="","",SUMIFS('3. 일출(의존)'!$AH$8:$AH$1989,'3. 일출(의존)'!$AN$8:$AN$1989,$AK17)) | BA17: =IF($AK17="","",COUNTIF('3. 일출(의존)'!$AN$7:$AN$1989,$AK17)) | BB17: =IF($AK17="","",IF($AF17=$AZ17,"OK","@@")) | BC17: =IF($AN17="","",IF($AO17="지역개발기금",SUMIFS('3. 일출(의존)'!$AK$8:$AK$2000,'3. 일출(의존)'!$AS$8:$AS$2000,$AN17)+SUMIFS('3. 일출(자체)'!$AJ$8:$AJ$2000,'3. 일출(자체)'!$AM$8:$AM$2000,$AN17),IF($AO17="지방채",SUMIFS('3. 일출(의존)'!$AJ$8:$AJ$2000,'3. 일출(의존)'!$AS$8:$AS$2000,$AN17)+SUMIFS('3. 일출(자체)'!$AI$8:$AI$2000,'3. 일출(자체)'!$AM$8:$AM$2000,$AN17),0))) | BD17: =IF($AN17="","",COUNTIF('3. 일출(의존)'!$AS$8:$AS$2000,$AN17)+COUNTIF('3. 일출(자체)'!$AM$8:$AM$2000,$AN17)) | BE17: =IF($AN17="","",IF($AO17="자체","",IF($AO17="지방채",IF($AH17=$BC17,"OK","@@"),IF($AO17="지역개발기금",IF($AI17=$BC17,"OK","@@"),"@@"))))
A18: =IF(D18="","",COUNTA($C$8:C18)-COUNTBLANK($C$8:C18)+1) | B18: =IF(D18="","",IF(OR(C18="직접입력",D18="북부지원"),"직접입력",IF(OR(AND(D18="인사과",C18="의회사무처"),AND(D18="총무과",C18="의회사무처")),"의회운영위원회",IF(OR(C18="직접입력",D18="북부지원"),"직접입력",IF(OR(AND(D18="인사과",C18="자치행정국"),AND(D18="총무과",C18="자치행정국")),"안전행정위원회",VLOOKUP(D18,구분표!$A$3:$C$258,2,)))))) | C18: =IF(D18="","",IF(OR(D18="교육지원과",D18="총무과",D18="인사과"),"직접입력",VLOOKUP(D18,구분표!$A$3:$C$258,3,))) | F18: =IF($E18="","",IF($E18="2추","직접입력","-")) | G18: =IF($E18="","",IF($E18="2추","직접입력","-")) | I18: =IF(H18="","",VLOOKUP($H18,구분표!$O$3:$P$168,2,FALSE)) | K18: =IF($E18="","",IF(OR($E18="2추",$E18="1추",$E18="본예산"),"금액입력","-")) | L18: =IF($E18="","",IF($E18="2추","금액입력","-")) | M18: =IF($E18="","",SUM(K18:L18)) | O18: =SUM(M18:N18) -> 0 | Q18: =SUM(M18,P18) -> 0 | R18: =IF(AND((O18=0),(Q18>0)),"O",IF(AND((N18<0),(O18-Q18<0)),"O","X")) -> X | Y18: =IF($H18="","",IF(OR($H18="511-01",$H18="511-02",$H18="511-03",$H18="311-02",$H18="311-04",$H18="321-01"),"국비","도비")) | AA18: =IF($Y18="국비",IF($N18<>"",$N18,0),"") | AB18: =IF($Y18="도비",IF($AO18="자체",IF($N18<>"",$N18,0),""),"") | AC18: =IF($Y18="도비",IF($AO18="지방채",IF($N18<>"",$N18,0),""),"") | AD18: =IF($Y18="도비",IF($AO18="지역개발기금",IF($N18<>"",$N18,0),""),"") | AF18: =IF($Y18="국비",IF($P18<>"",$P18,0),"") | AG18: =IF($Y18="도비",IF($AO18="자체",IF($P18<>"",$P18,0),""),"") | AH18: =IF($Y18="도비",IF($AO18="지방채",IF($P18<>"",$P18,0),""),"") | AI18: =IF($Y18="도비",IF($AO18="지역개발기금",IF($P18<>"",$P18,0),""),"") | AK18: =IF($AQ18="","",IF(OR($AL18="",$AL18="도비"),"",CONCATENATE($AQ18,"-",COUNTIF($AQ$8:$AQ18,$AQ18)))) | AL18: =IF($H18="","",IF($H18="511-01","국비",IF($H18="511-02","균특",IF($H18="511-03","기금",IF($H18="311-02","특교",IF($H18="311-04","소교",IF($H18="321-01","소멸","도비"))))))) | AN18: =IF($AQ18="","",IF(OR($AO18="",$AO18="국비",$AO18="자체"),"",CONCATENATE($AQ18,"-",$AO18,"-",COUNTIF($AQ$8:$AQ18,$AQ18)))) | AO18: =IF($Y18="","",IF($Y18="국비","국비",IF($H18="612-01","지방채",IF($H18="722-02","지역개발기금","자체")))) | AQ18: {=IF(OR($D18="",$C18="직접입력",$B18="직접입력"),"",INDEX(구분표!$I$2:$I$337,MATCH(1,(구분표!$G$2:$G$337='3. 일입'!$B18)*(구분표!$E$2:$E$337='3. 일입'!$C18)*(구분표!$F$2:$F$337='3. 일입'!$D18),0)))} | AS18: =IF($AK18="","",SUMIFS('3. 일출(의존)'!$AB$7:$AB$1989,'3. 일출(의존)'!$AN$7:$AN$1989,$AK18)) | AT18: =IF($AK18="","",COUNTIF('3. 일출(의존)'!$AN$7:$AN$1989,$AK18)) | AU18: =IF($AK18="","",IF($AA18=$AS18,"OK","@@")) | AV18: =IF($AN18="","",IF($AO18="지역개발기금",SUMIFS('3. 일출(의존)'!$AE$8:$AE$2000,'3. 일출(의존)'!$AS$8:$AS$2000,$AN18)+SUMIFS('3. 일출(자체)'!$AE$8:$AE$2000,'3. 일출(자체)'!$AM$8:$AM$2000,$AN18),IF($AO18="지방채",SUMIFS('3. 일출(의존)'!$AD$8:$AD$2000,'3. 일출(의존)'!$AS$8:$AS$2000,$AN18)+SUMIFS('3. 일출(자체)'!$AD$8:$AD$2000,'3. 일출(자체)'!$AM$8:$AM$2000,$AN18),0))) | AW18: =IF($AN18="","",COUNTIF('3. 일출(의존)'!$AS$8:$AS$2000,$AN18)+COUNTIF('3. 일출(자체)'!$AM$8:$AM$2000,$AN18)) | AX18: =IF($AN18="","",IF($AO18="자체","",IF($AO18="지방채",IF($AC18=$AV18,"OK","@@"),IF($AO18="지역개발기금",IF($AD18=$AV18,"OK","@@"),"@@")))) | AZ18: =IF($AK18="","",SUMIFS('3. 일출(의존)'!$AH$8:$AH$1989,'3. 일출(의존)'!$AN$8:$AN$1989,$AK18)) | BA18: =IF($AK18="","",COUNTIF('3. 일출(의존)'!$AN$7:$AN$1989,$AK18)) | BB18: =IF($AK18="","",IF($AF18=$AZ18,"OK","@@")) | BC18: =IF($AN18="","",IF($AO18="지역개발기금",SUMIFS('3. 일출(의존)'!$AK$8:$AK$2000,'3. 일출(의존)'!$AS$8:$AS$2000,$AN18)+SUMIFS('3. 일출(자체)'!$AJ$8:$AJ$2000,'3. 일출(자체)'!$AM$8:$AM$2000,$AN18),IF($AO18="지방채",SUMIFS('3. 일출(의존)'!$AJ$8:$AJ$2000,'3. 일출(의존)'!$AS$8:$AS$2000,$AN18)+SUMIFS('3. 일출(자체)'!$AI$8:$AI$2000,'3. 일출(자체)'!$AM$8:$AM$2000,$AN18),0))) | BD18: =IF($AN18="","",COUNTIF('3. 일출(의존)'!$AS$8:$AS$2000,$AN18)+COUNTIF('3. 일출(자체)'!$AM$8:$AM$2000,$AN18)) | BE18: =IF($AN18="","",IF($AO18="자체","",IF($AO18="지방채",IF($AH18=$BC18,"OK","@@"),IF($AO18="지역개발기금",IF($AI18=$BC18,"OK","@@"),"@@"))))
A19: =IF(D19="","",COUNTA($C$8:C19)-COUNTBLANK($C$8:C19)+1) | B19: =IF(D19="","",IF(OR(C19="직접입력",D19="북부지원"),"직접입력",IF(OR(AND(D19="인사과",C19="의회사무처"),AND(D19="총무과",C19="의회사무처")),"의회운영위원회",IF(OR(C19="직접입력",D19="북부지원"),"직접입력",IF(OR(AND(D19="인사과",C19="자치행정국"),AND(D19="총무과",C19="자치행정국")),"안전행정위원회",VLOOKUP(D19,구분표!$A$3:$C$258,2,)))))) | C19: =IF(D19="","",IF(OR(D19="교육지원과",D19="총무과",D19="인사과"),"직접입력",VLOOKUP(D19,구분표!$A$3:$C$258,3,))) | F19: =IF($E19="","",IF($E19="2추","직접입력","-")) | G19: =IF($E19="","",IF($E19="2추","직접입력","-")) | I19: =IF(H19="","",VLOOKUP($H19,구분표!$O$3:$P$168,2,FALSE)) | K19: =IF($E19="","",IF(OR($E19="2추",$E19="1추",$E19="본예산"),"금액입력","-")) | L19: =IF($E19="","",IF($E19="2추","금액입력","-")) | M19: =IF($E19="","",SUM(K19:L19)) | O19: =SUM(M19:N19) -> 0 | Q19: =SUM(M19,P19) -> 0 | R19: =IF(AND((O19=0),(Q19>0)),"O",IF(AND((N19<0),(O19-Q19<0)),"O","X")) -> X | Y19: =IF($H19="","",IF(OR($H19="511-01",$H19="511-02",$H19="511-03",$H19="311-02",$H19="311-04",$H19="321-01"),"국비","도비")) | AA19: =IF($Y19="국비",IF($N19<>"",$N19,0),"") | AB19: =IF($Y19="도비",IF($AO19="자체",IF($N19<>"",$N19,0),""),"") | AC19: =IF($Y19="도비",IF($AO19="지방채",IF($N19<>"",$N19,0),""),"") | AD19: =IF($Y19="도비",IF($AO19="지역개발기금",IF($N19<>"",$N19,0),""),"") | AF19: =IF($Y19="국비",IF($P19<>"",$P19,0),"") | AG19: =IF($Y19="도비",IF($AO19="자체",IF($P19<>"",$P19,0),""),"") | AH19: =IF($Y19="도비",IF($AO19="지방채",IF($P19<>"",$P19,0),""),"") | AI19: =IF($Y19="도비",IF($AO19="지역개발기금",IF($P19<>"",$P19,0),""),"") | AK19: =IF($AQ19="","",IF(OR($AL19="",$AL19="도비"),"",CONCATENATE($AQ19,"-",COUNTIF($AQ$8:$AQ19,$AQ19)))) | AL19: =IF($H19="","",IF($H19="511-01","국비",IF($H19="511-02","균특",IF($H19="511-03","기금",IF($H19="311-02","특교",IF($H19="311-04","소교",IF($H19="321-01","소멸","도비"))))))) | AN19: =IF($AQ19="","",IF(OR($AO19="",$AO19="국비",$AO19="자체"),"",CONCATENATE($AQ19,"-",$AO19,"-",COUNTIF($AQ$8:$AQ19,$AQ19)))) | AO19: =IF($Y19="","",IF($Y19="국비","국비",IF($H19="612-01","지방채",IF($H19="722-02","지역개발기금","자체")))) | AQ19: {=IF(OR($D19="",$C19="직접입력",$B19="직접입력"),"",INDEX(구분표!$I$2:$I$337,MATCH(1,(구분표!$G$2:$G$337='3. 일입'!$B19)*(구분표!$E$2:$E$337='3. 일입'!$C19)*(구분표!$F$2:$F$337='3. 일입'!$D19),0)))} | AS19: =IF($AK19="","",SUMIFS('3. 일출(의존)'!$AB$7:$AB$1989,'3. 일출(의존)'!$AN$7:$AN$1989,$AK19)) | AT19: =IF($AK19="","",COUNTIF('3. 일출(의존)'!$AN$7:$AN$1989,$AK19)) | AU19: =IF($AK19="","",IF($AA19=$AS19,"OK","@@")) | AV19: =IF($AN19="","",IF($AO19="지역개발기금",SUMIFS('3. 일출(의존)'!$AE$8:$AE$2000,'3. 일출(의존)'!$AS$8:$AS$2000,$AN19)+SUMIFS('3. 일출(자체)'!$AE$8:$AE$2000,'3. 일출(자체)'!$AM$8:$AM$2000,$AN19),IF($AO19="지방채",SUMIFS('3. 일출(의존)'!$AD$8:$AD$2000,'3. 일출(의존)'!$AS$8:$AS$2000,$AN19)+SUMIFS('3. 일출(자체)'!$AD$8:$AD$2000,'3. 일출(자체)'!$AM$8:$AM$2000,$AN19),0))) | AW19: =IF($AN19="","",COUNTIF('3. 일출(의존)'!$AS$8:$AS$2000,$AN19)+COUNTIF('3. 일출(자체)'!$AM$8:$AM$2000,$AN19)) | AX19: =IF($AN19="","",IF($AO19="자체","",IF($AO19="지방채",IF($AC19=$AV19,"OK","@@"),IF($AO19="지역개발기금",IF($AD19=$AV19,"OK","@@"),"@@")))) | AZ19: =IF($AK19="","",SUMIFS('3. 일출(의존)'!$AH$8:$AH$1989,'3. 일출(의존)'!$AN$8:$AN$1989,$AK19)) | BA19: =IF($AK19="","",COUNTIF('3. 일출(의존)'!$AN$7:$AN$1989,$AK19)) | BB19: =IF($AK19="","",IF($AF19=$AZ19,"OK","@@")) | BC19: =IF($AN19="","",IF($AO19="지역개발기금",SUMIFS('3. 일출(의존)'!$AK$8:$AK$2000,'3. 일출(의존)'!$AS$8:$AS$2000,$AN19)+SUMIFS('3. 일출(자체)'!$AJ$8:$AJ$2000,'3. 일출(자체)'!$AM$8:$AM$2000,$AN19),IF($AO19="지방채",SUMIFS('3. 일출(의존)'!$AJ$8:$AJ$2000,'3. 일출(의존)'!$AS$8:$AS$2000,$AN19)+SUMIFS('3. 일출(자체)'!$AI$8:$AI$2000,'3. 일출(자체)'!$AM$8:$AM$2000,$AN19),0))) | BD19: =IF($AN19="","",COUNTIF('3. 일출(의존)'!$AS$8:$AS$2000,$AN19)+COUNTIF('3. 일출(자체)'!$AM$8:$AM$2000,$AN19)) | BE19: =IF($AN19="","",IF($AO19="자체","",IF($AO19="지방채",IF($AH19=$BC19,"OK","@@"),IF($AO19="지역개발기금",IF($AI19=$BC19,"OK","@@"),"@@"))))
A20: =IF(D20="","",COUNTA($C$8:C20)-COUNTBLANK($C$8:C20)+1) | B20: =IF(D20="","",IF(OR(C20="직접입력",D20="북부지원"),"직접입력",IF(OR(AND(D20="인사과",C20="의회사무처"),AND(D20="총무과",C20="의회사무처")),"의회운영위원회",IF(OR(C20="직접입력",D20="북부지원"),"직접입력",IF(OR(AND(D20="인사과",C20="자치행정국"),AND(D20="총무과",C20="자치행정국")),"안전행정위원회",VLOOKUP(D20,구분표!$A$3:$C$258,2,)))))) | C20: =IF(D20="","",IF(OR(D20="교육지원과",D20="총무과",D20="인사과"),"직접입력",VLOOKUP(D20,구분표!$A$3:$C$258,3,))) | F20: =IF($E20="","",IF($E20="2추","직접입력","-")) | G20: =IF($E20="","",IF($E20="2추","직접입력","-")) | I20: =IF(H20="","",VLOOKUP($H20,구분표!$O$3:$P$168,2,FALSE)) | K20: =IF($E20="","",IF(OR($E20="2추",$E20="1추",$E20="본예산"),"금액입력","-")) | L20: =IF($E20="","",IF($E20="2추","금액입력","-")) | M20: =IF($E20="","",SUM(K20:L20)) | O20: =SUM(M20:N20) -> 0 | Q20: =SUM(M20,P20) -> 0 | R20: =IF(AND((O20=0),(Q20>0)),"O",IF(AND((N20<0),(O20-Q20<0)),"O","X")) -> X | Y20: =IF($H20="","",IF(OR($H20="511-01",$H20="511-02",$H20="511-03",$H20="311-02",$H20="311-04",$H20="321-01"),"국비","도비")) | AA20: =IF($Y20="국비",IF($N20<>"",$N20,0),"") | AB20: =IF($Y20="도비",IF($AO20="자체",IF($N20<>"",$N20,0),""),"") | AC20: =IF($Y20="도비",IF($AO20="지방채",IF($N20<>"",$N20,0),""),"") | AD20: =IF($Y20="도비",IF($AO20="지역개발기금",IF($N20<>"",$N20,0),""),"") | AF20: =IF($Y20="국비",IF($P20<>"",$P20,0),"") | AG20: =IF($Y20="도비",IF($AO20="자체",IF($P20<>"",$P20,0),""),"") | AH20: =IF($Y20="도비",IF($AO20="지방채",IF($P20<>"",$P20,0),""),"") | AI20: =IF($Y20="도비",IF($AO20="지역개발기금",IF($P20<>"",$P20,0),""),"") | AK20: =IF($AQ20="","",IF(OR($AL20="",$AL20="도비"),"",CONCATENATE($AQ20,"-",COUNTIF($AQ$8:$AQ20,$AQ20)))) | AL20: =IF($H20="","",IF($H20="511-01","국비",IF($H20="511-02","균특",IF($H20="511-03","기금",IF($H20="311-02","특교",IF($H20="311-04","소교",IF($H20="321-01","소멸","도비"))))))) | AN20: =IF($AQ20="","",IF(OR($AO20="",$AO20="국비",$AO20="자체"),"",CONCATENATE($AQ20,"-",$AO20,"-",COUNTIF($AQ$8:$AQ20,$AQ20)))) | AO20: =IF($Y20="","",IF($Y20="국비","국비",IF($H20="612-01","지방채",IF($H20="722-02","지역개발기금","자체")))) | AQ20: {=IF(OR($D20="",$C20="직접입력",$B20="직접입력"),"",INDEX(구분표!$I$2:$I$337,MATCH(1,(구분표!$G$2:$G$337='3. 일입'!$B20)*(구분표!$E$2:$E$337='3. 일입'!$C20)*(구분표!$F$2:$F$337='3. 일입'!$D20),0)))} | AS20: =IF($AK20="","",SUMIFS('3. 일출(의존)'!$AB$7:$AB$1989,'3. 일출(의존)'!$AN$7:$AN$1989,$AK20)) | AT20: =IF($AK20="","",COUNTIF('3. 일출(의존)'!$AN$7:$AN$1989,$AK20)) | AU20: =IF($AK20="","",IF($AA20=$AS20,"OK","@@")) | AV20: =IF($AN20="","",IF($AO20="지역개발기금",SUMIFS('3. 일출(의존)'!$AE$8:$AE$2000,'3. 일출(의존)'!$AS$8:$AS$2000,$AN20)+SUMIFS('3. 일출(자체)'!$AE$8:$AE$2000,'3. 일출(자체)'!$AM$8:$AM$2000,$AN20),IF($AO20="지방채",SUMIFS('3. 일출(의존)'!$AD$8:$AD$2000,'3. 일출(의존)'!$AS$8:$AS$2000,$AN20)+SUMIFS('3. 일출(자체)'!$AD$8:$AD$2000,'3. 일출(자체)'!$AM$8:$AM$2000,$AN20),0))) | AW20: =IF($AN20="","",COUNTIF('3. 일출(의존)'!$AS$8:$AS$2000,$AN20)+COUNTIF('3. 일출(자체)'!$AM$8:$AM$2000,$AN20)) | AX20: =IF($AN20="","",IF($AO20="자체","",IF($AO20="지방채",IF($AC20=$AV20,"OK","@@"),IF($AO20="지역개발기금",IF($AD20=$AV20,"OK","@@"),"@@")))) | AZ20: =IF($AK20="","",SUMIFS('3. 일출(의존)'!$AH$8:$AH$1989,'3. 일출(의존)'!$AN$8:$AN$1989,$AK20)) | BA20: =IF($AK20="","",COUNTIF('3. 일출(의존)'!$AN$7:$AN$1989,$AK20)) | BB20: =IF($AK20="","",IF($AF20=$AZ20,"OK","@@")) | BC20: =IF($AN20="","",IF($AO20="지역개발기금",SUMIFS('3. 일출(의존)'!$AK$8:$AK$2000,'3. 일출(의존)'!$AS$8:$AS$2000,$AN20)+SUMIFS('3. 일출(자체)'!$AJ$8:$AJ$2000,'3. 일출(자체)'!$AM$8:$AM$2000,$AN20),IF($AO20="지방채",SUMIFS('3. 일출(의존)'!$AJ$8:$AJ$2000,'3. 일출(의존)'!$AS$8:$AS$2000,$AN20)+SUMIFS('3. 일출(자체)'!$AI$8:$AI$2000,'3. 일출(자체)'!$AM$8:$AM$2000,$AN20),0))) | BD20: =IF($AN20="","",COUNTIF('3. 일출(의존)'!$AS$8:$AS$2000,$AN20)+COUNTIF('3. 일출(자체)'!$AM$8:$AM$2000,$AN20)) | BE20: =IF($AN20="","",IF($AO20="자체","",IF($AO20="지방채",IF($AH20=$BC20,"OK","@@"),IF($AO20="지역개발기금",IF($AI20=$BC20,"OK","@@"),"@@"))))
... A24: =IF(D24="","",COUNTA($C$8:C24)-COUNTBLANK($C$8:C24)+1) | B24: =IF(D24="","",IF(OR(C24="직접입력",D24="북부지원"),"직접입력",IF(OR(AND(D24="인사과",C24="의회사무처"),AND(D24="총무과",C24="의회사무처")),"의회운영위원회",IF(OR(C24="직접입력",D24="북부지원"),"직접입력",IF(OR(AND(D24="인사과",C24="자치행정국"),AND(D24="총무과",C24="자치행정국")),"안전행정위원회",VLOOKUP(D24,구분표!$A$3:$C$258,2,)))))) | C24: =IF(D24="","",IF(OR(D24="교육지원과",D24="총무과",D24="인사과"),"직접입력",VLOOKUP(D24,구분표!$A$3:$C$258,3,))) | F24: =IF($E24="","",IF($E24="2추","직접입력","-")) | G24: =IF($E24="","",IF($E24="2추","직접입력","-")) | I24: =IF(H24="","",VLOOKUP($H24,구분표!$O$3:$P$168,2,FALSE)) | K24: =IF($E24="","",IF(OR($E24="2추",$E24="1추",$E24="본예산"),"금액입력","-")) | L24: =IF($E24="","",IF($E24="2추","금액입력","-")) | M24: =IF($E24="","",SUM(K24:L24)) | O24: =SUM(M24:N24) -> 0 | Q24: =SUM(M24,P24) -> 0 | R24: =IF(AND((O24=0),(Q24>0)),"O",IF(AND((N24<0),(O24-Q24<0)),"O","X")) -> X | Y24: =IF($H24="","",IF(OR($H24="511-01",$H24="511-02",$H24="511-03",$H24="311-02",$H24="311-04",$H24="321-01"),"국비","도비")) | AA24: =IF($Y24="국비",IF($N24<>"",$N24,0),"") | AB24: =IF($Y24="도비",IF($AO24="자체",IF($N24<>"",$N24,0),""),"") | AC24: =IF($Y24="도비",IF($AO24="지방채",IF($N24<>"",$N24,0),""),"") | AD24: =IF($Y24="도비",IF($AO24="지역개발기금",IF($N24<>"",$N24,0),""),"") | AF24: =IF($Y24="국비",IF($P24<>"",$P24,0),"") | AG24: =IF($Y24="도비",IF($AO24="자체",IF($P24<>"",$P24,0),""),"") | AH24: =IF($Y24="도비",IF($AO24="지방채",IF($P24<>"",$P24,0),""),"") | AI24: =IF($Y24="도비",IF($AO24="지역개발기금",IF($P24<>"",$P24,0),""),"") | AK24: =IF($AQ24="","",IF(OR($AL24="",$AL24="도비"),"",CONCATENATE($AQ24,"-",COUNTIF($AQ$8:$AQ24,$AQ24)))) | AL24: =IF($H24="","",IF($H24="511-01","국비",IF($H24="511-02","균특",IF($H24="511-03","기금",IF($H24="311-02","특교",IF($H24="311-04","소교",IF($H24="321-01","소멸","도비"))))))) | AN24: =IF($AQ24="","",IF(OR($AO24="",$AO24="국비",$AO24="자체"),"",CONCATENATE($AQ24,"-",$AO24,"-",COUNTIF($AQ$8:$AQ24,$AQ24)))) | AO24: =IF($Y24="","",IF($Y24="국비","국비",IF($H24="612-01","지방채",IF($H24="722-02","지역개발기금","자체")))) | AQ24: {=IF(OR($D24="",$C24="직접입력",$B24="직접입력"),"",INDEX(구분표!$I$2:$I$337,MATCH(1,(구분표!$G$2:$G$337='3. 일입'!$B24)*(구분표!$E$2:$E$337='3. 일입'!$C24)*(구분표!$F$2:$F$337='3. 일입'!$D24),0)))} | AS24: =IF($AK24="","",SUMIFS('3. 일출(의존)'!$AB$7:$AB$1989,'3. 일출(의존)'!$AN$7:$AN$1989,$AK24)) | AT24: =IF($AK24="","",COUNTIF('3. 일출(의존)'!$AN$7:$AN$1989,$AK24)) | AU24: =IF($AK24="","",IF($AA24=$AS24,"OK","@@")) | AV24: =IF($AN24="","",IF($AO24="지역개발기금",SUMIFS('3. 일출(의존)'!$AE$8:$AE$2000,'3. 일출(의존)'!$AS$8:$AS$2000,$AN24)+SUMIFS('3. 일출(자체)'!$AE$8:$AE$2000,'3. 일출(자체)'!$AM$8:$AM$2000,$AN24),IF($AO24="지방채",SUMIFS('3. 일출(의존)'!$AD$8:$AD$2000,'3. 일출(의존)'!$AS$8:$AS$2000,$AN24)+SUMIFS('3. 일출(자체)'!$AD$8:$AD$2000,'3. 일출(자체)'!$AM$8:$AM$2000,$AN24),0))) | AW24: =IF($AN24="","",COUNTIF('3. 일출(의존)'!$AS$8:$AS$2000,$AN24)+COUNTIF('3. 일출(자체)'!$AM$8:$AM$2000,$AN24)) | AX24: =IF($AN24="","",IF($AO24="자체","",IF($AO24="지방채",IF($AC24=$AV24,"OK","@@"),IF($AO24="지역개발기금",IF($AD24=$AV24,"OK","@@"),"@@")))) | AZ24: =IF($AK24="","",SUMIFS('3. 일출(의존)'!$AH$8:$AH$1989,'3. 일출(의존)'!$AN$8:$AN$1989,$AK24)) | BA24: =IF($AK24="","",COUNTIF('3. 일출(의존)'!$AN$7:$AN$1989,$AK24)) | BB24: =IF($AK24="","",IF($AF24=$AZ24,"OK","@@")) | BC24: =IF($AN24="","",IF($AO24="지역개발기금",SUMIFS('3. 일출(의존)'!$AK$8:$AK$2000,'3. 일출(의존)'!$AS$8:$AS$2000,$AN24)+SUMIFS('3. 일출(자체)'!$AJ$8:$AJ$2000,'3. 일출(자체)'!$AM$8:$AM$2000,$AN24),IF($AO24="지방채",SUMIFS('3. 일출(의존)'!$AJ$8:$AJ$2000,'3. 일출(의존)'!$AS$8:$AS$2000,$AN24)+SUMIFS('3. 일출(자체)'!$AI$8:$AI$2000,'3. 일출(자체)'!$AM$8:$AM$2000,$AN24),0))) | BD24: =IF($AN24="","",COUNTIF('3. 일출(의존)'!$AS$8:$AS$2000,$AN24)+COUNTIF('3. 일출(자체)'!$AM$8:$AM$2000,$AN24)) | BE24: =IF($AN24="","",IF($AO24="자체","",IF($AO24="지방채",IF($AH24=$BC24,"OK","@@"),IF($AO24="지역개발기금",IF($AI24=$BC24,"OK","@@"),"@@"))))
B25: (기획재정위원회) | J25: =SUBTOTAL(3,J26:J41)&"건" -> 0건 | K25: =SUBTOTAL(9,K26:K41) -> 0 | L25: =SUBTOTAL(9,L26:L41) -> 0 | M25: =SUBTOTAL(9,M26:M41) -> 0 | N25: =SUBTOTAL(9,N26:N41) -> 0 | O25: =SUBTOTAL(9,O26:O41) -> 0 | P25: =SUBTOTAL(9,P26:P41) -> 0 | Q25: =SUBTOTAL(9,Q26:Q41) -> 0 | AA25: =SUBTOTAL(9,AA26:AA41) -> 0 | AB25: =SUBTOTAL(9,AB26:AB41) -> 0 | AC25: =SUBTOTAL(9,AC26:AC41) -> 0 | AD25: =SUBTOTAL(9,AD26:AD41) -> 0 | AF25: =SUBTOTAL(9,AF26:AF41) -> 0 | AG25: =SUBTOTAL(9,AG26:AG41) -> 0 | AH25: =SUBTOTAL(9,AH26:AH41) -> 0 | AI25: =SUBTOTAL(9,AI26:AI41) -> 0 | AS25: =SUBTOTAL(9,AS26:AS41) -> 0 | AT25: =SUBTOTAL(9,AT26:AT41) -> 0 | AU25: =IF(COUNTIF(AU26:AU41,"@@")>0,"@@","OK") -> OK | AV25: =SUBTOTAL(9,AV26:AV41) -> 0 | AW25: =SUBTOTAL(9,AW26:AW41) -> 0 | AX25: =IF(COUNTIF(AX26:AX41,"@@")>0,"@@","OK") -> OK | AZ25: =SUBTOTAL(9,AZ26:AZ41) -> 0 | BA25: =SUBTOTAL(9,BA26:BA41) -> 0 | BB25: =IF(COUNTIF(BB26:BB41,"@@")>0,"@@","OK") -> OK | BC25: =SUBTOTAL(9,BC26:BC41) -> 0 | BD25: =SUBTOTAL(9,BD26:BD41) -> 0 | BE25: =IF(COUNTIF(BE26:BE41,"@@")>0,"@@","OK") -> OK
A26: =IF(D26="","",COUNTA($C$8:C26)-COUNTBLANK($C$8:C26)+2) | B26: =IF(D26="","",IF(OR(C26="직접입력",D26="북부지원"),"직접입력",IF(OR(AND(D26="인사과",C26="의회사무처"),AND(D26="총무과",C26="의회사무처")),"의회운영위원회",IF(OR(C26="직접입력",D26="북부지원"),"직접입력",IF(OR(AND(D26="인사과",C26="자치행정국"),AND(D26="총무과",C26="자치행정국")),"안전행정위원회",VLOOKUP(D26,구분표!$A$3:$C$258,2,)))))) | C26: =IF(D26="","",IF(OR(D26="교육지원과",D26="총무과",D26="인사과"),"직접입력",VLOOKUP(D26,구분표!$A$3:$C$258,3,))) | F26: =IF($E26="","",IF($E26="2추","직접입력","-")) | G26: =IF($E26="","",IF($E26="2추","직접입력","-")) | I26: =IF(H26="","",VLOOKUP($H26,구분표!$O$3:$P$168,2,FALSE)) | K26: =IF($E26="","",IF(OR($E26="2추",$E26="1추",$E26="본예산"),"금액입력","-")) | L26: =IF($E26="","",IF($E26="2추","금액입력","-")) | M26: =IF($E26="","",SUM(K26:L26)) | O26: =SUM(M26:N26) -> 0 | Q26: =SUM(M26,P26) -> 0 | R26: =IF(AND((O26=0),(Q26>0)),"O",IF(AND((N26<0),(O26-Q26<0)),"O","X")) -> X | Y26: =IF($H26="","",IF(OR($H26="511-01",$H26="511-02",$H26="511-03",$H26="311-02",$H26="311-04",$H26="321-01"),"국비","도비")) | AA26: =IF($Y26="국비",IF($N26<>"",$N26,0),"") | AB26: =IF($Y26="도비",IF($AO26="자체",IF($N26<>"",$N26,0),""),"") | AC26: =IF($Y26="도비",IF($AO26="지방채",IF($N26<>"",$N26,0),""),"") | AD26: =IF($Y26="도비",IF($AO26="지역개발기금",IF($N26<>"",$N26,0),""),"") | AF26: =IF($Y26="국비",IF($P26<>"",$P26,0),"") | AG26: =IF($Y26="도비",IF($AO26="자체",IF($P26<>"",$P26,0),""),"") | AH26: =IF($Y26="도비",IF($AO26="지방채",IF($P26<>"",$P26,0),""),"") | AI26: =IF($Y26="도비",IF($AO26="지역개발기금",IF($P26<>"",$P26,0),""),"") | AK26: =IF($AQ26="","",IF(OR($AL26="",$AL26="도비"),"",CONCATENATE($AQ26,"-",COUNTIF($AQ$8:$AQ26,$AQ26)))) | AL26: =IF($H26="","",IF($H26="511-01","국비",IF($H26="511-02","균특",IF($H26="511-03","기금",IF($H26="311-02","특교",IF($H26="311-04","소교",IF($H26="321-01","소멸","도비"))))))) | AN26: =IF($AQ26="","",IF(OR($AO26="",$AO26="국비",$AO26="자체"),"",CONCATENATE($AQ26,"-",$AO26,"-",COUNTIF($AQ$8:$AQ26,$AQ26)))) | AO26: =IF($Y26="","",IF($Y26="국비","국비",IF($H26="612-01","지방채",IF($H26="722-02","지역개발기금","자체")))) | AQ26: {=IF(OR($D26="",$C26="직접입력",$B26="직접입력"),"",INDEX(구분표!$I$2:$I$337,MATCH(1,(구분표!$G$2:$G$337='3. 일입'!$B26)*(구분표!$E$2:$E$337='3. 일입'!$C26)*(구분표!$F$2:$F$337='3. 일입'!$D26),0)))} | AS26: =IF($AK26="","",SUMIFS('3. 일출(의존)'!$AB$7:$AB$1989,'3. 일출(의존)'!$AN$7:$AN$1989,$AK26)) | AT26: =IF($AK26="","",COUNTIF('3. 일출(의존)'!$AN$7:$AN$1989,$AK26)) | AU26: =IF($AK26="","",IF($AA26=$AS26,"OK","@@")) | AV26: =IF($AN26="","",IF($AO26="지역개발기금",SUMIFS('3. 일출(의존)'!$AE$8:$AE$2000,'3. 일출(의존)'!$AS$8:$AS$2000,$AN26)+SUMIFS('3. 일출(자체)'!$AE$8:$AE$2000,'3. 일출(자체)'!$AM$8:$AM$2000,$AN26),IF($AO26="지방채",SUMIFS('3. 일출(의존)'!$AD$8:$AD$2000,'3. 일출(의존)'!$AS$8:$AS$2000,$AN26)+SUMIFS('3. 일출(자체)'!$AD$8:$AD$2000,'3. 일출(자체)'!$AM$8:$AM$2000,$AN26),0))) | AW26: =IF($AN26="","",COUNTIF('3. 일출(의존)'!$AS$8:$AS$2000,$AN26)+COUNTIF('3. 일출(자체)'!$AM$8:$AM$2000,$AN26)) | AX26: =IF($AN26="","",IF($AO26="자체","",IF($AO26="지방채",IF($AC26=$AV26,"OK","@@"),IF($AO26="지역개발기금",IF($AD26=$AV26,"OK","@@"),"@@")))) | AZ26: =IF($AK26="","",SUMIFS('3. 일출(의존)'!$AH$8:$AH$1989,'3. 일출(의존)'!$AN$8:$AN$1989,$AK26)) | BA26: =IF($AK26="","",COUNTIF('3. 일출(의존)'!$AN$7:$AN$1989,$AK26)) | BB26: =IF($AK26="","",IF($AF26=$AZ26,"OK","@@")) | BC26: =IF($AN26="","",IF($AO26="지역개발기금",SUMIFS('3. 일출(의존)'!$AK$8:$AK$2000,'3. 일출(의존)'!$AS$8:$AS$2000,$AN26)+SUMIFS('3. 일출(자체)'!$AJ$8:$AJ$2000,'3. 일출(자체)'!$AM$8:$AM$2000,$AN26),IF($AO26="지방채",SUMIFS('3. 일출(의존)'!$AJ$8:$AJ$2000,'3. 일출(의존)'!$AS$8:$AS$2000,$AN26)+SUMIFS('3. 일출(자체)'!$AI$8:$AI$2000,'3. 일출(자체)'!$AM$8:$AM$2000,$AN26),0))) | BD26: =IF($AN26="","",COUNTIF('3. 일출(의존)'!$AS$8:$AS$2000,$AN26)+COUNTIF('3. 일출(자체)'!$AM$8:$AM$2000,$AN26)) | BE26: =IF($AN26="","",IF($AO26="자체","",IF($AO26="지방채",IF($AH26=$BC26,"OK","@@"),IF($AO26="지역개발기금",IF($AI26=$BC26,"OK","@@"),"@@"))))
A27: =IF(D27="","",COUNTA($C$8:C27)-COUNTBLANK($C$8:C27)+2) | B27: =IF(D27="","",IF(OR(C27="직접입력",D27="북부지원"),"직접입력",IF(OR(AND(D27="인사과",C27="의회사무처"),AND(D27="총무과",C27="의회사무처")),"의회운영위원회",IF(OR(C27="직접입력",D27="북부지원"),"직접입력",IF(OR(AND(D27="인사과",C27="자치행정국"),AND(D27="총무과",C27="자치행정국")),"안전행정위원회",VLOOKUP(D27,구분표!$A$3:$C$258,2,)))))) | C27: =IF(D27="","",IF(OR(D27="교육지원과",D27="총무과",D27="인사과"),"직접입력",VLOOKUP(D27,구분표!$A$3:$C$258,3,))) | F27: =IF($E27="","",IF($E27="2추","직접입력","-")) | G27: =IF($E27="","",IF($E27="2추","직접입력","-")) | I27: =IF(H27="","",VLOOKUP($H27,구분표!$O$3:$P$168,2,FALSE)) | K27: =IF($E27="","",IF(OR($E27="2추",$E27="1추",$E27="본예산"),"금액입력","-")) | L27: =IF($E27="","",IF($E27="2추","금액입력","-")) | M27: =IF($E27="","",SUM(K27:L27)) | O27: =SUM(M27:N27) -> 0 | Q27: =SUM(M27,P27) -> 0 | R27: =IF(AND((O27=0),(Q27>0)),"O",IF(AND((N27<0),(O27-Q27<0)),"O","X")) -> X | Y27: =IF($H27="","",IF(OR($H27="511-01",$H27="511-02",$H27="511-03",$H27="311-02",$H27="311-04",$H27="321-01"),"국비","도비")) | AA27: =IF($Y27="국비",IF($N27<>"",$N27,0),"") | AB27: =IF($Y27="도비",IF($AO27="자체",IF($N27<>"",$N27,0),""),"") | AC27: =IF($Y27="도비",IF($AO27="지방채",IF($N27<>"",$N27,0),""),"") | AD27: =IF($Y27="도비",IF($AO27="지역개발기금",IF($N27<>"",$N27,0),""),"") | AF27: =IF($Y27="국비",IF($P27<>"",$P27,0),"") | AG27: =IF($Y27="도비",IF($AO27="자체",IF($P27<>"",$P27,0),""),"") | AH27: =IF($Y27="도비",IF($AO27="지방채",IF($P27<>"",$P27,0),""),"") | AI27: =IF($Y27="도비",IF($AO27="지역개발기금",IF($P27<>"",$P27,0),""),"") | AK27: =IF($AQ27="","",IF(OR($AL27="",$AL27="도비"),"",CONCATENATE($AQ27,"-",COUNTIF($AQ$8:$AQ27,$AQ27)))) | AL27: =IF($H27="","",IF($H27="511-01","국비",IF($H27="511-02","균특",IF($H27="511-03","기금",IF($H27="311-02","특교",IF($H27="311-04","소교",IF($H27="321-01","소멸","도비"))))))) | AN27: =IF($AQ27="","",IF(OR($AO27="",$AO27="국비",$AO27="자체"),"",CONCATENATE($AQ27,"-",$AO27,"-",COUNTIF($AQ$8:$AQ27,$AQ27)))) | AO27: =IF($Y27="","",IF($Y27="국비","국비",IF($H27="612-01","지방채",IF($H27="722-02","지역개발기금","자체")))) | AQ27: {=IF(OR($D27="",$C27="직접입력",$B27="직접입력"),"",INDEX(구분표!$I$2:$I$337,MATCH(1,(구분표!$G$2:$G$337='3. 일입'!$B27)*(구분표!$E$2:$E$337='3. 일입'!$C27)*(구분표!$F$2:$F$337='3. 일입'!$D27),0)))} | AS27: =IF($AK27="","",SUMIFS('3. 일출(의존)'!$AB$7:$AB$1989,'3. 일출(의존)'!$AN$7:$AN$1989,$AK27)) | AT27: =IF($AK27="","",COUNTIF('3. 일출(의존)'!$AN$7:$AN$1989,$AK27)) | AU27: =IF($AK27="","",IF($AA27=$AS27,"OK","@@")) | AV27: =IF($AN27="","",IF($AO27="지역개발기금",SUMIFS('3. 일출(의존)'!$AE$8:$AE$2000,'3. 일출(의존)'!$AS$8:$AS$2000,$AN27)+SUMIFS('3. 일출(자체)'!$AE$8:$AE$2000,'3. 일출(자체)'!$AM$8:$AM$2000,$AN27),IF($AO27="지방채",SUMIFS('3. 일출(의존)'!$AD$8:$AD$2000,'3. 일출(의존)'!$AS$8:$AS$2000,$AN27)+SUMIFS('3. 일출(자체)'!$AD$8:$AD$2000,'3. 일출(자체)'!$AM$8:$AM$2000,$AN27),0))) | AW27: =IF($AN27="","",COUNTIF('3. 일출(의존)'!$AS$8:$AS$2000,$AN27)+COUNTIF('3. 일출(자체)'!$AM$8:$AM$2000,$AN27)) | AX27: =IF($AN27="","",IF($AO27="자체","",IF($AO27="지방채",IF($AC27=$AV27,"OK","@@"),IF($AO27="지역개발기금",IF($AD27=$AV27,"OK","@@"),"@@")))) | AZ27: =IF($AK27="","",SUMIFS('3. 일출(의존)'!$AH$8:$AH$1989,'3. 일출(의존)'!$AN$8:$AN$1989,$AK27)) | BA27: =IF($AK27="","",COUNTIF('3. 일출(의존)'!$AN$7:$AN$1989,$AK27)) | BB27: =IF($AK27="","",IF($AF27=$AZ27,"OK","@@")) | BC27: =IF($AN27="","",IF($AO27="지역개발기금",SUMIFS('3. 일출(의존)'!$AK$8:$AK$2000,'3. 일출(의존)'!$AS$8:$AS$2000,$AN27)+SUMIFS('3. 일출(자체)'!$AJ$8:$AJ$2000,'3. 일출(자체)'!$AM$8:$AM$2000,$AN27),IF($AO27="지방채",SUMIFS('3. 일출(의존)'!$AJ$8:$AJ$2000,'3. 일출(의존)'!$AS$8:$AS$2000,$AN27)+SUMIFS('3. 일출(자체)'!$AI$8:$AI$2000,'3. 일출(자체)'!$AM$8:$AM$2000,$AN27),0))) | BD27: =IF($AN27="","",COUNTIF('3. 일출(의존)'!$AS$8:$AS$2000,$AN27)+COUNTIF('3. 일출(자체)'!$AM$8:$AM$2000,$AN27)) | BE27: =IF($AN27="","",IF($AO27="자체","",IF($AO27="지방채",IF($AH27=$BC27,"OK","@@"),IF($AO27="지역개발기금",IF($AI27=$BC27,"OK","@@"),"@@"))))
A28: =IF(D28="","",COUNTA($C$8:C28)-COUNTBLANK($C$8:C28)+2) | B28: =IF(D28="","",IF(OR(C28="직접입력",D28="북부지원"),"직접입력",IF(OR(AND(D28="인사과",C28="의회사무처"),AND(D28="총무과",C28="의회사무처")),"의회운영위원회",IF(OR(C28="직접입력",D28="북부지원"),"직접입력",IF(OR(AND(D28="인사과",C28="자치행정국"),AND(D28="총무과",C28="자치행정국")),"안전행정위원회",VLOOKUP(D28,구분표!$A$3:$C$258,2,)))))) | C28: =IF(D28="","",IF(OR(D28="교육지원과",D28="총무과",D28="인사과"),"직접입력",VLOOKUP(D28,구분표!$A$3:$C$258,3,))) | F28: =IF($E28="","",IF($E28="2추","직접입력","-")) | G28: =IF($E28="","",IF($E28="2추","직접입력","-")) | I28: =IF(H28="","",VLOOKUP($H28,구분표!$O$3:$P$168,2,FALSE)) | K28: =IF($E28="","",IF(OR($E28="2추",$E28="1추",$E28="본예산"),"금액입력","-")) | L28: =IF($E28="","",IF($E28="2추","금액입력","-")) | M28: =IF($E28="","",SUM(K28:L28)) | O28: =SUM(M28:N28) -> 0 | Q28: =SUM(M28,P28) -> 0 | R28: =IF(AND((O28=0),(Q28>0)),"O",IF(AND((N28<0),(O28-Q28<0)),"O","X")) -> X | Y28: =IF($H28="","",IF(OR($H28="511-01",$H28="511-02",$H28="511-03",$H28="311-02",$H28="311-04",$H28="321-01"),"국비","도비")) | AA28: =IF($Y28="국비",IF($N28<>"",$N28,0),"") | AB28: =IF($Y28="도비",IF($AO28="자체",IF($N28<>"",$N28,0),""),"") | AC28: =IF($Y28="도비",IF($AO28="지방채",IF($N28<>"",$N28,0),""),"") | AD28: =IF($Y28="도비",IF($AO28="지역개발기금",IF($N28<>"",$N28,0),""),"") | AF28: =IF($Y28="국비",IF($P28<>"",$P28,0),"") | AG28: =IF($Y28="도비",IF($AO28="자체",IF($P28<>"",$P28,0),""),"") | AH28: =IF($Y28="도비",IF($AO28="지방채",IF($P28<>"",$P28,0),""),"") | AI28: =IF($Y28="도비",IF($AO28="지역개발기금",IF($P28<>"",$P28,0),""),"") | AK28: =IF($AQ28="","",IF(OR($AL28="",$AL28="도비"),"",CONCATENATE($AQ28,"-",COUNTIF($AQ$8:$AQ28,$AQ28)))) | AL28: =IF($H28="","",IF($H28="511-01","국비",IF($H28="511-02","균특",IF($H28="511-03","기금",IF($H28="311-02","특교",IF($H28="311-04","소교",IF($H28="321-01","소멸","도비"))))))) | AN28: =IF($AQ28="","",IF(OR($AO28="",$AO28="국비",$AO28="자체"),"",CONCATENATE($AQ28,"-",$AO28,"-",COUNTIF($AQ$8:$AQ28,$AQ28)))) | AO28: =IF($Y28="","",IF($Y28="국비","국비",IF($H28="612-01","지방채",IF($H28="722-02","지역개발기금","자체")))) | AQ28: {=IF(OR($D28="",$C28="직접입력",$B28="직접입력"),"",INDEX(구분표!$I$2:$I$337,MATCH(1,(구분표!$G$2:$G$337='3. 일입'!$B28)*(구분표!$E$2:$E$337='3. 일입'!$C28)*(구분표!$F$2:$F$337='3. 일입'!$D28),0)))} | AS28: =IF($AK28="","",SUMIFS('3. 일출(의존)'!$AB$7:$AB$1989,'3. 일출(의존)'!$AN$7:$AN$1989,$AK28)) | AT28: =IF($AK28="","",COUNTIF('3. 일출(의존)'!$AN$7:$AN$1989,$AK28)) | AU28: =IF($AK28="","",IF($AA28=$AS28,"OK","@@")) | AV28: =IF($AN28="","",IF($AO28="지역개발기금",SUMIFS('3. 일출(의존)'!$AE$8:$AE$2000,'3. 일출(의존)'!$AS$8:$AS$2000,$AN28)+SUMIFS('3. 일출(자체)'!$AE$8:$AE$2000,'3. 일출(자체)'!$AM$8:$AM$2000,$AN28),IF($AO28="지방채",SUMIFS('3. 일출(의존)'!$AD$8:$AD$2000,'3. 일출(의존)'!$AS$8:$AS$2000,$AN28)+SUMIFS('3. 일출(자체)'!$AD$8:$AD$2000,'3. 일출(자체)'!$AM$8:$AM$2000,$AN28),0))) | AW28: =IF($AN28="","",COUNTIF('3. 일출(의존)'!$AS$8:$AS$2000,$AN28)+COUNTIF('3. 일출(자체)'!$AM$8:$AM$2000,$AN28)) | AX28: =IF($AN28="","",IF($AO28="자체","",IF($AO28="지방채",IF($AC28=$AV28,"OK","@@"),IF($AO28="지역개발기금",IF($AD28=$AV28,"OK","@@"),"@@")))) | AZ28: =IF($AK28="","",SUMIFS('3. 일출(의존)'!$AH$8:$AH$1989,'3. 일출(의존)'!$AN$8:$AN$1989,$AK28)) | BA28: =IF($AK28="","",COUNTIF('3. 일출(의존)'!$AN$7:$AN$1989,$AK28)) | BB28: =IF($AK28="","",IF($AF28=$AZ28,"OK","@@")) | BC28: =IF($AN28="","",IF($AO28="지역개발기금",SUMIFS('3. 일출(의존)'!$AK$8:$AK$2000,'3. 일출(의존)'!$AS$8:$AS$2000,$AN28)+SUMIFS('3. 일출(자체)'!$AJ$8:$AJ$2000,'3. 일출(자체)'!$AM$8:$AM$2000,$AN28),IF($AO28="지방채",SUMIFS('3. 일출(의존)'!$AJ$8:$AJ$2000,'3. 일출(의존)'!$AS$8:$AS$2000,$AN28)+SUMIFS('3. 일출(자체)'!$AI$8:$AI$2000,'3. 일출(자체)'!$AM$8:$AM$2000,$AN28),0))) | BD28: =IF($AN28="","",COUNTIF('3. 일출(의존)'!$AS$8:$AS$2000,$AN28)+COUNTIF('3. 일출(자체)'!$AM$8:$AM$2000,$AN28)) | BE28: =IF($AN28="","",IF($AO28="자체","",IF($AO28="지방채",IF($AH28=$BC28,"OK","@@"),IF($AO28="지역개발기금",IF($AI28=$BC28,"OK","@@"),"@@"))))
A29: =IF(D29="","",COUNTA($C$8:C29)-COUNTBLANK($C$8:C29)+2) | B29: =IF(D29="","",IF(OR(C29="직접입력",D29="북부지원"),"직접입력",IF(OR(AND(D29="인사과",C29="의회사무처"),AND(D29="총무과",C29="의회사무처")),"의회운영위원회",IF(OR(C29="직접입력",D29="북부지원"),"직접입력",IF(OR(AND(D29="인사과",C29="자치행정국"),AND(D29="총무과",C29="자치행정국")),"안전행정위원회",VLOOKUP(D29,구분표!$A$3:$C$258,2,)))))) | C29: =IF(D29="","",IF(OR(D29="교육지원과",D29="총무과",D29="인사과"),"직접입력",VLOOKUP(D29,구분표!$A$3:$C$258,3,))) | F29: =IF($E29="","",IF($E29="2추","직접입력","-")) | G29: =IF($E29="","",IF($E29="2추","직접입력","-")) | I29: =IF(H29="","",VLOOKUP($H29,구분표!$O$3:$P$168,2,FALSE)) | K29: =IF($E29="","",IF(OR($E29="2추",$E29="1추",$E29="본예산"),"금액입력","-")) | L29: =IF($E29="","",IF($E29="2추","금액입력","-")) | M29: =IF($E29="","",SUM(K29:L29)) | O29: =SUM(M29:N29) -> 0 | Q29: =SUM(M29,P29) -> 0 | R29: =IF(AND((O29=0),(Q29>0)),"O",IF(AND((N29<0),(O29-Q29<0)),"O","X")) -> X | Y29: =IF($H29="","",IF(OR($H29="511-01",$H29="511-02",$H29="511-03",$H29="311-02",$H29="311-04",$H29="321-01"),"국비","도비")) | AA29: =IF($Y29="국비",IF($N29<>"",$N29,0),"") | AB29: =IF($Y29="도비",IF($AO29="자체",IF($N29<>"",$N29,0),""),"") | AC29: =IF($Y29="도비",IF($AO29="지방채",IF($N29<>"",$N29,0),""),"") | AD29: =IF($Y29="도비",IF($AO29="지역개발기금",IF($N29<>"",$N29,0),""),"") | AF29: =IF($Y29="국비",IF($P29<>"",$P29,0),"") | AG29: =IF($Y29="도비",IF($AO29="자체",IF($P29<>"",$P29,0),""),"") | AH29: =IF($Y29="도비",IF($AO29="지방채",IF($P29<>"",$P29,0),""),"") | AI29: =IF($Y29="도비",IF($AO29="지역개발기금",IF($P29<>"",$P29,0),""),"") | AK29: =IF($AQ29="","",IF(OR($AL29="",$AL29="도비"),"",CONCATENATE($AQ29,"-",COUNTIF($AQ$8:$AQ29,$AQ29)))) | AL29: =IF($H29="","",IF($H29="511-01","국비",IF($H29="511-02","균특",IF($H29="511-03","기금",IF($H29="311-02","특교",IF($H29="311-04","소교",IF($H29="321-01","소멸","도비"))))))) | AN29: =IF($AQ29="","",IF(OR($AO29="",$AO29="국비",$AO29="자체"),"",CONCATENATE($AQ29,"-",$AO29,"-",COUNTIF($AQ$8:$AQ29,$AQ29)))) | AO29: =IF($Y29="","",IF($Y29="국비","국비",IF($H29="612-01","지방채",IF($H29="722-02","지역개발기금","자체")))) | AQ29: {=IF(OR($D29="",$C29="직접입력",$B29="직접입력"),"",INDEX(구분표!$I$2:$I$337,MATCH(1,(구분표!$G$2:$G$337='3. 일입'!$B29)*(구분표!$E$2:$E$337='3. 일입'!$C29)*(구분표!$F$2:$F$337='3. 일입'!$D29),0)))} | AS29: =IF($AK29="","",SUMIFS('3. 일출(의존)'!$AB$7:$AB$1989,'3. 일출(의존)'!$AN$7:$AN$1989,$AK29)) | AT29: =IF($AK29="","",COUNTIF('3. 일출(의존)'!$AN$7:$AN$1989,$AK29)) | AU29: =IF($AK29="","",IF($AA29=$AS29,"OK","@@")) | AV29: =IF($AN29="","",IF($AO29="지역개발기금",SUMIFS('3. 일출(의존)'!$AE$8:$AE$2000,'3. 일출(의존)'!$AS$8:$AS$2000,$AN29)+SUMIFS('3. 일출(자체)'!$AE$8:$AE$2000,'3. 일출(자체)'!$AM$8:$AM$2000,$AN29),IF($AO29="지방채",SUMIFS('3. 일출(의존)'!$AD$8:$AD$2000,'3. 일출(의존)'!$AS$8:$AS$2000,$AN29)+SUMIFS('3. 일출(자체)'!$AD$8:$AD$2000,'3. 일출(자체)'!$AM$8:$AM$2000,$AN29),0))) | AW29: =IF($AN29="","",COUNTIF('3. 일출(의존)'!$AS$8:$AS$2000,$AN29)+COUNTIF('3. 일출(자체)'!$AM$8:$AM$2000,$AN29)) | AX29: =IF($AN29="","",IF($AO29="자체","",IF($AO29="지방채",IF($AC29=$AV29,"OK","@@"),IF($AO29="지역개발기금",IF($AD29=$AV29,"OK","@@"),"@@")))) | AZ29: =IF($AK29="","",SUMIFS('3. 일출(의존)'!$AH$8:$AH$1989,'3. 일출(의존)'!$AN$8:$AN$1989,$AK29)) | BA29: =IF($AK29="","",COUNTIF('3. 일출(의존)'!$AN$7:$AN$1989,$AK29)) | BB29: =IF($AK29="","",IF($AF29=$AZ29,"OK","@@")) | BC29: =IF($AN29="","",IF($AO29="지역개발기금",SUMIFS('3. 일출(의존)'!$AK$8:$AK$2000,'3. 일출(의존)'!$AS$8:$AS$2000,$AN29)+SUMIFS('3. 일출(자체)'!$AJ$8:$AJ$2000,'3. 일출(자체)'!$AM$8:$AM$2000,$AN29),IF($AO29="지방채",SUMIFS('3. 일출(의존)'!$AJ$8:$AJ$2000,'3. 일출(의존)'!$AS$8:$AS$2000,$AN29)+SUMIFS('3. 일출(자체)'!$AI$8:$AI$2000,'3. 일출(자체)'!$AM$8:$AM$2000,$AN29),0))) | BD29: =IF($AN29="","",COUNTIF('3. 일출(의존)'!$AS$8:$AS$2000,$AN29)+COUNTIF('3. 일출(자체)'!$AM$8:$AM$2000,$AN29)) | BE29: =IF($AN29="","",IF($AO29="자체","",IF($AO29="지방채",IF($AH29=$BC29,"OK","@@"),IF($AO29="지역개발기금",IF($AI29=$BC29,"OK","@@"),"@@"))))
A30: =IF(D30="","",COUNTA($C$8:C30)-COUNTBLANK($C$8:C30)+2) | B30: =IF(D30="","",IF(OR(C30="직접입력",D30="북부지원"),"직접입력",IF(OR(AND(D30="인사과",C30="의회사무처"),AND(D30="총무과",C30="의회사무처")),"의회운영위원회",IF(OR(C30="직접입력",D30="북부지원"),"직접입력",IF(OR(AND(D30="인사과",C30="자치행정국"),AND(D30="총무과",C30="자치행정국")),"안전행정위원회",VLOOKUP(D30,구분표!$A$3:$C$258,2,)))))) | C30: =IF(D30="","",IF(OR(D30="교육지원과",D30="총무과",D30="인사과"),"직접입력",VLOOKUP(D30,구분표!$A$3:$C$258,3,))) | F30: =IF($E30="","",IF($E30="2추","직접입력","-")) | G30: =IF($E30="","",IF($E30="2추","직접입력","-")) | I30: =IF(H30="","",VLOOKUP($H30,구분표!$O$3:$P$168,2,FALSE)) | K30: =IF($E30="","",IF(OR($E30="2추",$E30="1추",$E30="본예산"),"금액입력","-")) | L30: =IF($E30="","",IF($E30="2추","금액입력","-")) | M30: =IF($E30="","",SUM(K30:L30)) | O30: =SUM(M30:N30) -> 0 | Q30: =SUM(M30,P30) -> 0 | R30: =IF(AND((O30=0),(Q30>0)),"O",IF(AND((N30<0),(O30-Q30<0)),"O","X")) -> X | Y30: =IF($H30="","",IF(OR($H30="511-01",$H30="511-02",$H30="511-03",$H30="311-02",$H30="311-04",$H30="321-01"),"국비","도비")) | AA30: =IF($Y30="국비",IF($N30<>"",$N30,0),"") | AB30: =IF($Y30="도비",IF($AO30="자체",IF($N30<>"",$N30,0),""),"") | AC30: =IF($Y30="도비",IF($AO30="지방채",IF($N30<>"",$N30,0),""),"") | AD30: =IF($Y30="도비",IF($AO30="지역개발기금",IF($N30<>"",$N30,0),""),"") | AF30: =IF($Y30="국비",IF($P30<>"",$P30,0),"") | AG30: =IF($Y30="도비",IF($AO30="자체",IF($P30<>"",$P30,0),""),"") | AH30: =IF($Y30="도비",IF($AO30="지방채",IF($P30<>"",$P30,0),""),"") | AI30: =IF($Y30="도비",IF($AO30="지역개발기금",IF($P30<>"",$P30,0),""),"") | AK30: =IF($AQ30="","",IF(OR($AL30="",$AL30="도비"),"",CONCATENATE($AQ30,"-",COUNTIF($AQ$8:$AQ30,$AQ30)))) | AL30: =IF($H30="","",IF($H30="511-01","국비",IF($H30="511-02","균특",IF($H30="511-03","기금",IF($H30="311-02","특교",IF($H30="311-04","소교",IF($H30="321-01","소멸","도비"))))))) | AN30: =IF($AQ30="","",IF(OR($AO30="",$AO30="국비",$AO30="자체"),"",CONCATENATE($AQ30,"-",$AO30,"-",COUNTIF($AQ$8:$AQ30,$AQ30)))) | AO30: =IF($Y30="","",IF($Y30="국비","국비",IF($H30="612-01","지방채",IF($H30="722-02","지역개발기금","자체")))) | AQ30: {=IF(OR($D30="",$C30="직접입력",$B30="직접입력"),"",INDEX(구분표!$I$2:$I$337,MATCH(1,(구분표!$G$2:$G$337='3. 일입'!$B30)*(구분표!$E$2:$E$337='3. 일입'!$C30)*(구분표!$F$2:$F$337='3. 일입'!$D30),0)))} | AS30: =IF($AK30="","",SUMIFS('3. 일출(의존)'!$AB$7:$AB$1989,'3. 일출(의존)'!$AN$7:$AN$1989,$AK30)) | AT30: =IF($AK30="","",COUNTIF('3. 일출(의존)'!$AN$7:$AN$1989,$AK30)) | AU30: =IF($AK30="","",IF($AA30=$AS30,"OK","@@")) | AV30: =IF($AN30="","",IF($AO30="지역개발기금",SUMIFS('3. 일출(의존)'!$AE$8:$AE$2000,'3. 일출(의존)'!$AS$8:$AS$2000,$AN30)+SUMIFS('3. 일출(자체)'!$AE$8:$AE$2000,'3. 일출(자체)'!$AM$8:$AM$2000,$AN30),IF($AO30="지방채",SUMIFS('3. 일출(의존)'!$AD$8:$AD$2000,'3. 일출(의존)'!$AS$8:$AS$2000,$AN30)+SUMIFS('3. 일출(자체)'!$AD$8:$AD$2000,'3. 일출(자체)'!$AM$8:$AM$2000,$AN30),0))) | AW30: =IF($AN30="","",COUNTIF('3. 일출(의존)'!$AS$8:$AS$2000,$AN30)+COUNTIF('3. 일출(자체)'!$AM$8:$AM$2000,$AN30)) | AX30: =IF($AN30="","",IF($AO30="자체","",IF($AO30="지방채",IF($AC30=$AV30,"OK","@@"),IF($AO30="지역개발기금",IF($AD30=$AV30,"OK","@@"),"@@")))) | AZ30: =IF($AK30="","",SUMIFS('3. 일출(의존)'!$AH$8:$AH$1989,'3. 일출(의존)'!$AN$8:$AN$1989,$AK30)) | BA30: =IF($AK30="","",COUNTIF('3. 일출(의존)'!$AN$7:$AN$1989,$AK30)) | BB30: =IF($AK30="","",IF($AF30=$AZ30,"OK","@@")) | BC30: =IF($AN30="","",IF($AO30="지역개발기금",SUMIFS('3. 일출(의존)'!$AK$8:$AK$2000,'3. 일출(의존)'!$AS$8:$AS$2000,$AN30)+SUMIFS('3. 일출(자체)'!$AJ$8:$AJ$2000,'3. 일출(자체)'!$AM$8:$AM$2000,$AN30),IF($AO30="지방채",SUMIFS('3. 일출(의존)'!$AJ$8:$AJ$2000,'3. 일출(의존)'!$AS$8:$AS$2000,$AN30)+SUMIFS('3. 일출(자체)'!$AI$8:$AI$2000,'3. 일출(자체)'!$AM$8:$AM$2000,$AN30),0))) | BD30: =IF($AN30="","",COUNTIF('3. 일출(의존)'!$AS$8:$AS$2000,$AN30)+COUNTIF('3. 일출(자체)'!$AM$8:$AM$2000,$AN30)) | BE30: =IF($AN30="","",IF($AO30="자체","",IF($AO30="지방채",IF($AH30=$BC30,"OK","@@"),IF($AO30="지역개발기금",IF($AI30=$BC30,"OK","@@"),"@@"))))
A31: =IF(D31="","",COUNTA($C$8:C31)-COUNTBLANK($C$8:C31)+2) | B31: =IF(D31="","",IF(OR(C31="직접입력",D31="북부지원"),"직접입력",IF(OR(AND(D31="인사과",C31="의회사무처"),AND(D31="총무과",C31="의회사무처")),"의회운영위원회",IF(OR(C31="직접입력",D31="북부지원"),"직접입력",IF(OR(AND(D31="인사과",C31="자치행정국"),AND(D31="총무과",C31="자치행정국")),"안전행정위원회",VLOOKUP(D31,구분표!$A$3:$C$258,2,)))))) | C31: =IF(D31="","",IF(OR(D31="교육지원과",D31="총무과",D31="인사과"),"직접입력",VLOOKUP(D31,구분표!$A$3:$C$258,3,))) | F31: =IF($E31="","",IF($E31="2추","직접입력","-")) | G31: =IF($E31="","",IF($E31="2추","직접입력","-")) | I31: =IF(H31="","",VLOOKUP($H31,구분표!$O$3:$P$168,2,FALSE)) | K31: =IF($E31="","",IF(OR($E31="2추",$E31="1추",$E31="본예산"),"금액입력","-")) | L31: =IF($E31="","",IF($E31="2추","금액입력","-")) | M31: =IF($E31="","",SUM(K31:L31)) | O31: =SUM(M31:N31) -> 0 | Q31: =SUM(M31,P31) -> 0 | R31: =IF(AND((O31=0),(Q31>0)),"O",IF(AND((N31<0),(O31-Q31<0)),"O","X")) -> X | Y31: =IF($H31="","",IF(OR($H31="511-01",$H31="511-02",$H31="511-03",$H31="311-02",$H31="311-04",$H31="321-01"),"국비","도비")) | AA31: =IF($Y31="국비",IF($N31<>"",$N31,0),"") | AB31: =IF($Y31="도비",IF($AO31="자체",IF($N31<>"",$N31,0),""),"") | AC31: =IF($Y31="도비",IF($AO31="지방채",IF($N31<>"",$N31,0),""),"") | AD31: =IF($Y31="도비",IF($AO31="지역개발기금",IF($N31<>"",$N31,0),""),"") | AF31: =IF($Y31="국비",IF($P31<>"",$P31,0),"") | AG31: =IF($Y31="도비",IF($AO31="자체",IF($P31<>"",$P31,0),""),"") | AH31: =IF($Y31="도비",IF($AO31="지방채",IF($P31<>"",$P31,0),""),"") | AI31: =IF($Y31="도비",IF($AO31="지역개발기금",IF($P31<>"",$P31,0),""),"") | AK31: =IF($AQ31="","",IF(OR($AL31="",$AL31="도비"),"",CONCATENATE($AQ31,"-",COUNTIF($AQ$8:$AQ31,$AQ31)))) | AL31: =IF($H31="","",IF($H31="511-01","국비",IF($H31="511-02","균특",IF($H31="511-03","기금",IF($H31="311-02","특교",IF($H31="311-04","소교",IF($H31="321-01","소멸","도비"))))))) | AN31: =IF($AQ31="","",IF(OR($AO31="",$AO31="국비",$AO31="자체"),"",CONCATENATE($AQ31,"-",$AO31,"-",COUNTIF($AQ$8:$AQ31,$AQ31)))) | AO31: =IF($Y31="","",IF($Y31="국비","국비",IF($H31="612-01","지방채",IF($H31="722-02","지역개발기금","자체")))) | AQ31: {=IF(OR($D31="",$C31="직접입력",$B31="직접입력"),"",INDEX(구분표!$I$2:$I$337,MATCH(1,(구분표!$G$2:$G$337='3. 일입'!$B31)*(구분표!$E$2:$E$337='3. 일입'!$C31)*(구분표!$F$2:$F$337='3. 일입'!$D31),0)))} | AS31: =IF($AK31="","",SUMIFS('3. 일출(의존)'!$AB$7:$AB$1989,'3. 일출(의존)'!$AN$7:$AN$1989,$AK31)) | AT31: =IF($AK31="","",COUNTIF('3. 일출(의존)'!$AN$7:$AN$1989,$AK31)) | AU31: =IF($AK31="","",IF($AA31=$AS31,"OK","@@")) | AV31: =IF($AN31="","",IF($AO31="지역개발기금",SUMIFS('3. 일출(의존)'!$AE$8:$AE$2000,'3. 일출(의존)'!$AS$8:$AS$2000,$AN31)+SUMIFS('3. 일출(자체)'!$AE$8:$AE$2000,'3. 일출(자체)'!$AM$8:$AM$2000,$AN31),IF($AO31="지방채",SUMIFS('3. 일출(의존)'!$AD$8:$AD$2000,'3. 일출(의존)'!$AS$8:$AS$2000,$AN31)+SUMIFS('3. 일출(자체)'!$AD$8:$AD$2000,'3. 일출(자체)'!$AM$8:$AM$2000,$AN31),0))) | AW31: =IF($AN31="","",COUNTIF('3. 일출(의존)'!$AS$8:$AS$2000,$AN31)+COUNTIF('3. 일출(자체)'!$AM$8:$AM$2000,$AN31)) | AX31: =IF($AN31="","",IF($AO31="자체","",IF($AO31="지방채",IF($AC31=$AV31,"OK","@@"),IF($AO31="지역개발기금",IF($AD31=$AV31,"OK","@@"),"@@")))) | AZ31: =IF($AK31="","",SUMIFS('3. 일출(의존)'!$AH$8:$AH$1989,'3. 일출(의존)'!$AN$8:$AN$1989,$AK31)) | BA31: =IF($AK31="","",COUNTIF('3. 일출(의존)'!$AN$7:$AN$1989,$AK31)) | BB31: =IF($AK31="","",IF($AF31=$AZ31,"OK","@@")) | BC31: =IF($AN31="","",IF($AO31="지역개발기금",SUMIFS('3. 일출(의존)'!$AK$8:$AK$2000,'3. 일출(의존)'!$AS$8:$AS$2000,$AN31)+SUMIFS('3. 일출(자체)'!$AJ$8:$AJ$2000,'3. 일출(자체)'!$AM$8:$AM$2000,$AN31),IF($AO31="지방채",SUMIFS('3. 일출(의존)'!$AJ$8:$AJ$2000,'3. 일출(의존)'!$AS$8:$AS$2000,$AN31)+SUMIFS('3. 일출(자체)'!$AI$8:$AI$2000,'3. 일출(자체)'!$AM$8:$AM$2000,$AN31),0))) | BD31: =IF($AN31="","",COUNTIF('3. 일출(의존)'!$AS$8:$AS$2000,$AN31)+COUNTIF('3. 일출(자체)'!$AM$8:$AM$2000,$AN31)) | BE31: =IF($AN31="","",IF($AO31="자체","",IF($AO31="지방채",IF($AH31=$BC31,"OK","@@"),IF($AO31="지역개발기금",IF($AI31=$BC31,"OK","@@"),"@@"))))
A32: =IF(D32="","",COUNTA($C$8:C32)-COUNTBLANK($C$8:C32)+2) | B32: =IF(D32="","",IF(OR(C32="직접입력",D32="북부지원"),"직접입력",IF(OR(AND(D32="인사과",C32="의회사무처"),AND(D32="총무과",C32="의회사무처")),"의회운영위원회",IF(OR(C32="직접입력",D32="북부지원"),"직접입력",IF(OR(AND(D32="인사과",C32="자치행정국"),AND(D32="총무과",C32="자치행정국")),"안전행정위원회",VLOOKUP(D32,구분표!$A$3:$C$258,2,)))))) | C32: =IF(D32="","",IF(OR(D32="교육지원과",D32="총무과",D32="인사과"),"직접입력",VLOOKUP(D32,구분표!$A$3:$C$258,3,))) | F32: =IF($E32="","",IF($E32="2추","직접입력","-")) | G32: =IF($E32="","",IF($E32="2추","직접입력","-")) | I32: =IF(H32="","",VLOOKUP($H32,구분표!$O$3:$P$168,2,FALSE)) | K32: =IF($E32="","",IF(OR($E32="2추",$E32="1추",$E32="본예산"),"금액입력","-")) | L32: =IF($E32="","",IF($E32="2추","금액입력","-")) | M32: =IF($E32="","",SUM(K32:L32)) | O32: =SUM(M32:N32) -> 0 | Q32: =SUM(M32,P32) -> 0 | R32: =IF(AND((O32=0),(Q32>0)),"O",IF(AND((N32<0),(O32-Q32<0)),"O","X")) -> X | Y32: =IF($H32="","",IF(OR($H32="511-01",$H32="511-02",$H32="511-03",$H32="311-02",$H32="311-04",$H32="321-01"),"국비","도비")) | AA32: =IF($Y32="국비",IF($N32<>"",$N32,0),"") | AB32: =IF($Y32="도비",IF($AO32="자체",IF($N32<>"",$N32,0),""),"") | AC32: =IF($Y32="도비",IF($AO32="지방채",IF($N32<>"",$N32,0),""),"") | AD32: =IF($Y32="도비",IF($AO32="지역개발기금",IF($N32<>"",$N32,0),""),"") | AF32: =IF($Y32="국비",IF($P32<>"",$P32,0),"") | AG32: =IF($Y32="도비",IF($AO32="자체",IF($P32<>"",$P32,0),""),"") | AH32: =IF($Y32="도비",IF($AO32="지방채",IF($P32<>"",$P32,0),""),"") | AI32: =IF($Y32="도비",IF($AO32="지역개발기금",IF($P32<>"",$P32,0),""),"") | AK32: =IF($AQ32="","",IF(OR($AL32="",$AL32="도비"),"",CONCATENATE($AQ32,"-",COUNTIF($AQ$8:$AQ32,$AQ32)))) | AL32: =IF($H32="","",IF($H32="511-01","국비",IF($H32="511-02","균특",IF($H32="511-03","기금",IF($H32="311-02","특교",IF($H32="311-04","소교",IF($H32="321-01","소멸","도비"))))))) | AN32: =IF($AQ32="","",IF(OR($AO32="",$AO32="국비",$AO32="자체"),"",CONCATENATE($AQ32,"-",$AO32,"-",COUNTIF($AQ$8:$AQ32,$AQ32)))) | AO32: =IF($Y32="","",IF($Y32="국비","국비",IF($H32="612-01","지방채",IF($H32="722-02","지역개발기금","자체")))) | AQ32: {=IF(OR($D32="",$C32="직접입력",$B32="직접입력"),"",INDEX(구분표!$I$2:$I$337,MATCH(1,(구분표!$G$2:$G$337='3. 일입'!$B32)*(구분표!$E$2:$E$337='3. 일입'!$C32)*(구분표!$F$2:$F$337='3. 일입'!$D32),0)))} | AS32: =IF($AK32="","",SUMIFS('3. 일출(의존)'!$AB$7:$AB$1989,'3. 일출(의존)'!$AN$7:$AN$1989,$AK32)) | AT32: =IF($AK32="","",COUNTIF('3. 일출(의존)'!$AN$7:$AN$1989,$AK32)) | AU32: =IF($AK32="","",IF($AA32=$AS32,"OK","@@")) | AV32: =IF($AN32="","",IF($AO32="지역개발기금",SUMIFS('3. 일출(의존)'!$AE$8:$AE$2000,'3. 일출(의존)'!$AS$8:$AS$2000,$AN32)+SUMIFS('3. 일출(자체)'!$AE$8:$AE$2000,'3. 일출(자체)'!$AM$8:$AM$2000,$AN32),IF($AO32="지방채",SUMIFS('3. 일출(의존)'!$AD$8:$AD$2000,'3. 일출(의존)'!$AS$8:$AS$2000,$AN32)+SUMIFS('3. 일출(자체)'!$AD$8:$AD$2000,'3. 일출(자체)'!$AM$8:$AM$2000,$AN32),0))) | AW32: =IF($AN32="","",COUNTIF('3. 일출(의존)'!$AS$8:$AS$2000,$AN32)+COUNTIF('3. 일출(자체)'!$AM$8:$AM$2000,$AN32)) | AX32: =IF($AN32="","",IF($AO32="자체","",IF($AO32="지방채",IF($AC32=$AV32,"OK","@@"),IF($AO32="지역개발기금",IF($AD32=$AV32,"OK","@@"),"@@")))) | AZ32: =IF($AK32="","",SUMIFS('3. 일출(의존)'!$AH$8:$AH$1989,'3. 일출(의존)'!$AN$8:$AN$1989,$AK32)) | BA32: =IF($AK32="","",COUNTIF('3. 일출(의존)'!$AN$7:$AN$1989,$AK32)) | BB32: =IF($AK32="","",IF($AF32=$AZ32,"OK","@@")) | BC32: =IF($AN32="","",IF($AO32="지역개발기금",SUMIFS('3. 일출(의존)'!$AK$8:$AK$2000,'3. 일출(의존)'!$AS$8:$AS$2000,$AN32)+SUMIFS('3. 일출(자체)'!$AJ$8:$AJ$2000,'3. 일출(자체)'!$AM$8:$AM$2000,$AN32),IF($AO32="지방채",SUMIFS('3. 일출(의존)'!$AJ$8:$AJ$2000,'3. 일출(의존)'!$AS$8:$AS$2000,$AN32)+SUMIFS('3. 일출(자체)'!$AI$8:$AI$2000,'3. 일출(자체)'!$AM$8:$AM$2000,$AN32),0))) | BD32: =IF($AN32="","",COUNTIF('3. 일출(의존)'!$AS$8:$AS$2000,$AN32)+COUNTIF('3. 일출(자체)'!$AM$8:$AM$2000,$AN32)) | BE32: =IF($AN32="","",IF($AO32="자체","",IF($AO32="지방채",IF($AH32=$BC32,"OK","@@"),IF($AO32="지역개발기금",IF($AI32=$BC32,"OK","@@"),"@@"))))
A33: =IF(D33="","",COUNTA($C$8:C33)-COUNTBLANK($C$8:C33)+2) | B33: =IF(D33="","",IF(OR(C33="직접입력",D33="북부지원"),"직접입력",IF(OR(AND(D33="인사과",C33="의회사무처"),AND(D33="총무과",C33="의회사무처")),"의회운영위원회",IF(OR(C33="직접입력",D33="북부지원"),"직접입력",IF(OR(AND(D33="인사과",C33="자치행정국"),AND(D33="총무과",C33="자치행정국")),"안전행정위원회",VLOOKUP(D33,구분표!$A$3:$C$258,2,)))))) | C33: =IF(D33="","",IF(OR(D33="교육지원과",D33="총무과",D33="인사과"),"직접입력",VLOOKUP(D33,구분표!$A$3:$C$258,3,))) | F33: =IF($E33="","",IF($E33="2추","직접입력","-")) | G33: =IF($E33="","",IF($E33="2추","직접입력","-")) | I33: =IF(H33="","",VLOOKUP($H33,구분표!$O$3:$P$168,2,FALSE)) | K33: =IF($E33="","",IF(OR($E33="2추",$E33="1추",$E33="본예산"),"금액입력","-")) | L33: =IF($E33="","",IF($E33="2추","금액입력","-")) | M33: =IF($E33="","",SUM(K33:L33)) | O33: =SUM(M33:N33) -> 0 | Q33: =SUM(M33,P33) -> 0 | R33: =IF(AND((O33=0),(Q33>0)),"O",IF(AND((N33<0),(O33-Q33<0)),"O","X")) -> X | Y33: =IF($H33="","",IF(OR($H33="511-01",$H33="511-02",$H33="511-03",$H33="311-02",$H33="311-04",$H33="321-01"),"국비","도비")) | AA33: =IF($Y33="국비",IF($N33<>"",$N33,0),"") | AB33: =IF($Y33="도비",IF($AO33="자체",IF($N33<>"",$N33,0),""),"") | AC33: =IF($Y33="도비",IF($AO33="지방채",IF($N33<>"",$N33,0),""),"") | AD33: =IF($Y33="도비",IF($AO33="지역개발기금",IF($N33<>"",$N33,0),""),"") | AF33: =IF($Y33="국비",IF($P33<>"",$P33,0),"") | AG33: =IF($Y33="도비",IF($AO33="자체",IF($P33<>"",$P33,0),""),"") | AH33: =IF($Y33="도비",IF($AO33="지방채",IF($P33<>"",$P33,0),""),"") | AI33: =IF($Y33="도비",IF($AO33="지역개발기금",IF($P33<>"",$P33,0),""),"") | AK33: =IF($AQ33="","",IF(OR($AL33="",$AL33="도비"),"",CONCATENATE($AQ33,"-",COUNTIF($AQ$8:$AQ33,$AQ33)))) | AL33: =IF($H33="","",IF($H33="511-01","국비",IF($H33="511-02","균특",IF($H33="511-03","기금",IF($H33="311-02","특교",IF($H33="311-04","소교",IF($H33="321-01","소멸","도비"))))))) | AN33: =IF($AQ33="","",IF(OR($AO33="",$AO33="국비",$AO33="자체"),"",CONCATENATE($AQ33,"-",$AO33,"-",COUNTIF($AQ$8:$AQ33,$AQ33)))) | AO33: =IF($Y33="","",IF($Y33="국비","국비",IF($H33="612-01","지방채",IF($H33="722-02","지역개발기금","자체")))) | AQ33: {=IF(OR($D33="",$C33="직접입력",$B33="직접입력"),"",INDEX(구분표!$I$2:$I$337,MATCH(1,(구분표!$G$2:$G$337='3. 일입'!$B33)*(구분표!$E$2:$E$337='3. 일입'!$C33)*(구분표!$F$2:$F$337='3. 일입'!$D33),0)))} | AS33: =IF($AK33="","",SUMIFS('3. 일출(의존)'!$AB$7:$AB$1989,'3. 일출(의존)'!$AN$7:$AN$1989,$AK33)) | AT33: =IF($AK33="","",COUNTIF('3. 일출(의존)'!$AN$7:$AN$1989,$AK33)) | AU33: =IF($AK33="","",IF($AA33=$AS33,"OK","@@")) | AV33: =IF($AN33="","",IF($AO33="지역개발기금",SUMIFS('3. 일출(의존)'!$AE$8:$AE$2000,'3. 일출(의존)'!$AS$8:$AS$2000,$AN33)+SUMIFS('3. 일출(자체)'!$AE$8:$AE$2000,'3. 일출(자체)'!$AM$8:$AM$2000,$AN33),IF($AO33="지방채",SUMIFS('3. 일출(의존)'!$AD$8:$AD$2000,'3. 일출(의존)'!$AS$8:$AS$2000,$AN33)+SUMIFS('3. 일출(자체)'!$AD$8:$AD$2000,'3. 일출(자체)'!$AM$8:$AM$2000,$AN33),0))) | AW33: =IF($AN33="","",COUNTIF('3. 일출(의존)'!$AS$8:$AS$2000,$AN33)+COUNTIF('3. 일출(자체)'!$AM$8:$AM$2000,$AN33)) | AX33: =IF($AN33="","",IF($AO33="자체","",IF($AO33="지방채",IF($AC33=$AV33,"OK","@@"),IF($AO33="지역개발기금",IF($AD33=$AV33,"OK","@@"),"@@")))) | AZ33: =IF($AK33="","",SUMIFS('3. 일출(의존)'!$AH$8:$AH$1989,'3. 일출(의존)'!$AN$8:$AN$1989,$AK33)) | BA33: =IF($AK33="","",COUNTIF('3. 일출(의존)'!$AN$7:$AN$1989,$AK33)) | BB33: =IF($AK33="","",IF($AF33=$AZ33,"OK","@@")) | BC33: =IF($AN33="","",IF($AO33="지역개발기금",SUMIFS('3. 일출(의존)'!$AK$8:$AK$2000,'3. 일출(의존)'!$AS$8:$AS$2000,$AN33)+SUMIFS('3. 일출(자체)'!$AJ$8:$AJ$2000,'3. 일출(자체)'!$AM$8:$AM$2000,$AN33),IF($AO33="지방채",SUMIFS('3. 일출(의존)'!$AJ$8:$AJ$2000,'3. 일출(의존)'!$AS$8:$AS$2000,$AN33)+SUMIFS('3. 일출(자체)'!$AI$8:$AI$2000,'3. 일출(자체)'!$AM$8:$AM$2000,$AN33),0))) | BD33: =IF($AN33="","",COUNTIF('3. 일출(의존)'!$AS$8:$AS$2000,$AN33)+COUNTIF('3. 일출(자체)'!$AM$8:$AM$2000,$AN33)) | BE33: =IF($AN33="","",IF($AO33="자체","",IF($AO33="지방채",IF($AH33=$BC33,"OK","@@"),IF($AO33="지역개발기금",IF($AI33=$BC33,"OK","@@"),"@@"))))
A34: =IF(D34="","",COUNTA($C$8:C34)-COUNTBLANK($C$8:C34)+2) | B34: =IF(D34="","",IF(OR(C34="직접입력",D34="북부지원"),"직접입력",IF(OR(AND(D34="인사과",C34="의회사무처"),AND(D34="총무과",C34="의회사무처")),"의회운영위원회",IF(OR(C34="직접입력",D34="북부지원"),"직접입력",IF(OR(AND(D34="인사과",C34="자치행정국"),AND(D34="총무과",C34="자치행정국")),"안전행정위원회",VLOOKUP(D34,구분표!$A$3:$C$258,2,)))))) | C34: =IF(D34="","",IF(OR(D34="교육지원과",D34="총무과",D34="인사과"),"직접입력",VLOOKUP(D34,구분표!$A$3:$C$258,3,))) | F34: =IF($E34="","",IF($E34="2추","직접입력","-")) | G34: =IF($E34="","",IF($E34="2추","직접입력","-")) | I34: =IF(H34="","",VLOOKUP($H34,구분표!$O$3:$P$168,2,FALSE)) | K34: =IF($E34="","",IF(OR($E34="2추",$E34="1추",$E34="본예산"),"금액입력","-")) | L34: =IF($E34="","",IF($E34="2추","금액입력","-")) | M34: =IF($E34="","",SUM(K34:L34)) | O34: =SUM(M34:N34) -> 0 | Q34: =SUM(M34,P34) -> 0 | R34: =IF(AND((O34=0),(Q34>0)),"O",IF(AND((N34<0),(O34-Q34<0)),"O","X")) -> X | Y34: =IF($H34="","",IF(OR($H34="511-01",$H34="511-02",$H34="511-03",$H34="311-02",$H34="311-04",$H34="321-01"),"국비","도비")) | AA34: =IF($Y34="국비",IF($N34<>"",$N34,0),"") | AB34: =IF($Y34="도비",IF($AO34="자체",IF($N34<>"",$N34,0),""),"") | AC34: =IF($Y34="도비",IF($AO34="지방채",IF($N34<>"",$N34,0),""),"") | AD34: =IF($Y34="도비",IF($AO34="지역개발기금",IF($N34<>"",$N34,0),""),"") | AF34: =IF($Y34="국비",IF($P34<>"",$P34,0),"") | AG34: =IF($Y34="도비",IF($AO34="자체",IF($P34<>"",$P34,0),""),"") | AH34: =IF($Y34="도비",IF($AO34="지방채",IF($P34<>"",$P34,0),""),"") | AI34: =IF($Y34="도비",IF($AO34="지역개발기금",IF($P34<>"",$P34,0),""),"") | AK34: =IF($AQ34="","",IF(OR($AL34="",$AL34="도비"),"",CONCATENATE($AQ34,"-",COUNTIF($AQ$8:$AQ34,$AQ34)))) | AL34: =IF($H34="","",IF($H34="511-01","국비",IF($H34="511-02","균특",IF($H34="511-03","기금",IF($H34="311-02","특교",IF($H34="311-04","소교",IF($H34="321-01","소멸","도비"))))))) | AN34: =IF($AQ34="","",IF(OR($AO34="",$AO34="국비",$AO34="자체"),"",CONCATENATE($AQ34,"-",$AO34,"-",COUNTIF($AQ$8:$AQ34,$AQ34)))) | AO34: =IF($Y34="","",IF($Y34="국비","국비",IF($H34="612-01","지방채",IF($H34="722-02","지역개발기금","자체")))) | AQ34: {=IF(OR($D34="",$C34="직접입력",$B34="직접입력"),"",INDEX(구분표!$I$2:$I$337,MATCH(1,(구분표!$G$2:$G$337='3. 일입'!$B34)*(구분표!$E$2:$E$337='3. 일입'!$C34)*(구분표!$F$2:$F$337='3. 일입'!$D34),0)))} | AS34: =IF($AK34="","",SUMIFS('3. 일출(의존)'!$AB$7:$AB$1989,'3. 일출(의존)'!$AN$7:$AN$1989,$AK34)) | AT34: =IF($AK34="","",COUNTIF('3. 일출(의존)'!$AN$7:$AN$1989,$AK34)) | AU34: =IF($AK34="","",IF($AA34=$AS34,"OK","@@")) | AV34: =IF($AN34="","",IF($AO34="지역개발기금",SUMIFS('3. 일출(의존)'!$AE$8:$AE$2000,'3. 일출(의존)'!$AS$8:$AS$2000,$AN34)+SUMIFS('3. 일출(자체)'!$AE$8:$AE$2000,'3. 일출(자체)'!$AM$8:$AM$2000,$AN34),IF($AO34="지방채",SUMIFS('3. 일출(의존)'!$AD$8:$AD$2000,'3. 일출(의존)'!$AS$8:$AS$2000,$AN34)+SUMIFS('3. 일출(자체)'!$AD$8:$AD$2000,'3. 일출(자체)'!$AM$8:$AM$2000,$AN34),0))) | AW34: =IF($AN34="","",COUNTIF('3. 일출(의존)'!$AS$8:$AS$2000,$AN34)+COUNTIF('3. 일출(자체)'!$AM$8:$AM$2000,$AN34)) | AX34: =IF($AN34="","",IF($AO34="자체","",IF($AO34="지방채",IF($AC34=$AV34,"OK","@@"),IF($AO34="지역개발기금",IF($AD34=$AV34,"OK","@@"),"@@")))) | AZ34: =IF($AK34="","",SUMIFS('3. 일출(의존)'!$AH$8:$AH$1989,'3. 일출(의존)'!$AN$8:$AN$1989,$AK34)) | BA34: =IF($AK34="","",COUNTIF('3. 일출(의존)'!$AN$7:$AN$1989,$AK34)) | BB34: =IF($AK34="","",IF($AF34=$AZ34,"OK","@@")) | BC34: =IF($AN34="","",IF($AO34="지역개발기금",SUMIFS('3. 일출(의존)'!$AK$8:$AK$2000,'3. 일출(의존)'!$AS$8:$AS$2000,$AN34)+SUMIFS('3. 일출(자체)'!$AJ$8:$AJ$2000,'3. 일출(자체)'!$AM$8:$AM$2000,$AN34),IF($AO34="지방채",SUMIFS('3. 일출(의존)'!$AJ$8:$AJ$2000,'3. 일출(의존)'!$AS$8:$AS$2000,$AN34)+SUMIFS('3. 일출(자체)'!$AI$8:$AI$2000,'3. 일출(자체)'!$AM$8:$AM$2000,$AN34),0))) | BD34: =IF($AN34="","",COUNTIF('3. 일출(의존)'!$AS$8:$AS$2000,$AN34)+COUNTIF('3. 일출(자체)'!$AM$8:$AM$2000,$AN34)) | BE34: =IF($AN34="","",IF($AO34="자체","",IF($AO34="지방채",IF($AH34=$BC34,"OK","@@"),IF($AO34="지역개발기금",IF($AI34=$BC34,"OK","@@"),"@@"))))
A35: =IF(D35="","",COUNTA($C$8:C35)-COUNTBLANK($C$8:C35)+2) | B35: =IF(D35="","",IF(OR(C35="직접입력",D35="북부지원"),"직접입력",IF(OR(AND(D35="인사과",C35="의회사무처"),AND(D35="총무과",C35="의회사무처")),"의회운영위원회",IF(OR(C35="직접입력",D35="북부지원"),"직접입력",IF(OR(AND(D35="인사과",C35="자치행정국"),AND(D35="총무과",C35="자치행정국")),"안전행정위원회",VLOOKUP(D35,구분표!$A$3:$C$258,2,)))))) | C35: =IF(D35="","",IF(OR(D35="교육지원과",D35="총무과",D35="인사과"),"직접입력",VLOOKUP(D35,구분표!$A$3:$C$258,3,))) | F35: =IF($E35="","",IF($E35="2추","직접입력","-")) | G35: =IF($E35="","",IF($E35="2추","직접입력","-")) | I35: =IF(H35="","",VLOOKUP($H35,구분표!$O$3:$P$168,2,FALSE)) | K35: =IF($E35="","",IF(OR($E35="2추",$E35="1추",$E35="본예산"),"금액입력","-")) | L35: =IF($E35="","",IF($E35="2추","금액입력","-")) | M35: =IF($E35="","",SUM(K35:L35)) | O35: =SUM(M35:N35) -> 0 | Q35: =SUM(M35,P35) -> 0 | R35: =IF(AND((O35=0),(Q35>0)),"O",IF(AND((N35<0),(O35-Q35<0)),"O","X")) -> X | Y35: =IF($H35="","",IF(OR($H35="511-01",$H35="511-02",$H35="511-03",$H35="311-02",$H35="311-04",$H35="321-01"),"국비","도비")) | AA35: =IF($Y35="국비",IF($N35<>"",$N35,0),"") | AB35: =IF($Y35="도비",IF($AO35="자체",IF($N35<>"",$N35,0),""),"") | AC35: =IF($Y35="도비",IF($AO35="지방채",IF($N35<>"",$N35,0),""),"") | AD35: =IF($Y35="도비",IF($AO35="지역개발기금",IF($N35<>"",$N35,0),""),"") | AF35: =IF($Y35="국비",IF($P35<>"",$P35,0),"") | AG35: =IF($Y35="도비",IF($AO35="자체",IF($P35<>"",$P35,0),""),"") | AH35: =IF($Y35="도비",IF($AO35="지방채",IF($P35<>"",$P35,0),""),"") | AI35: =IF($Y35="도비",IF($AO35="지역개발기금",IF($P35<>"",$P35,0),""),"") | AK35: =IF($AQ35="","",IF(OR($AL35="",$AL35="도비"),"",CONCATENATE($AQ35,"-",COUNTIF($AQ$8:$AQ35,$AQ35)))) | AL35: =IF($H35="","",IF($H35="511-01","국비",IF($H35="511-02","균특",IF($H35="511-03","기금",IF($H35="311-02","특교",IF($H35="311-04","소교",IF($H35="321-01","소멸","도비"))))))) | AN35: =IF($AQ35="","",IF(OR($AO35="",$AO35="국비",$AO35="자체"),"",CONCATENATE($AQ35,"-",$AO35,"-",COUNTIF($AQ$8:$AQ35,$AQ35)))) | AO35: =IF($Y35="","",IF($Y35="국비","국비",IF($H35="612-01","지방채",IF($H35="722-02","지역개발기금","자체")))) | AQ35: {=IF(OR($D35="",$C35="직접입력",$B35="직접입력"),"",INDEX(구분표!$I$2:$I$337,MATCH(1,(구분표!$G$2:$G$337='3. 일입'!$B35)*(구분표!$E$2:$E$337='3. 일입'!$C35)*(구분표!$F$2:$F$337='3. 일입'!$D35),0)))} | AS35: =IF($AK35="","",SUMIFS('3. 일출(의존)'!$AB$7:$AB$1989,'3. 일출(의존)'!$AN$7:$AN$1989,$AK35)) | AT35: =IF($AK35="","",COUNTIF('3. 일출(의존)'!$AN$7:$AN$1989,$AK35)) | AU35: =IF($AK35="","",IF($AA35=$AS35,"OK","@@")) | AV35: =IF($AN35="","",IF($AO35="지역개발기금",SUMIFS('3. 일출(의존)'!$AE$8:$AE$2000,'3. 일출(의존)'!$AS$8:$AS$2000,$AN35)+SUMIFS('3. 일출(자체)'!$AE$8:$AE$2000,'3. 일출(자체)'!$AM$8:$AM$2000,$AN35),IF($AO35="지방채",SUMIFS('3. 일출(의존)'!$AD$8:$AD$2000,'3. 일출(의존)'!$AS$8:$AS$2000,$AN35)+SUMIFS('3. 일출(자체)'!$AD$8:$AD$2000,'3. 일출(자체)'!$AM$8:$AM$2000,$AN35),0))) | AW35: =IF($AN35="","",COUNTIF('3. 일출(의존)'!$AS$8:$AS$2000,$AN35)+COUNTIF('3. 일출(자체)'!$AM$8:$AM$2000,$AN35)) | AX35: =IF($AN35="","",IF($AO35="자체","",IF($AO35="지방채",IF($AC35=$AV35,"OK","@@"),IF($AO35="지역개발기금",IF($AD35=$AV35,"OK","@@"),"@@")))) | AZ35: =IF($AK35="","",SUMIFS('3. 일출(의존)'!$AH$8:$AH$1989,'3. 일출(의존)'!$AN$8:$AN$1989,$AK35)) | BA35: =IF($AK35="","",COUNTIF('3. 일출(의존)'!$AN$7:$AN$1989,$AK35)) | BB35: =IF($AK35="","",IF($AF35=$AZ35,"OK","@@")) | BC35: =IF($AN35="","",IF($AO35="지역개발기금",SUMIFS('3. 일출(의존)'!$AK$8:$AK$2000,'3. 일출(의존)'!$AS$8:$AS$2000,$AN35)+SUMIFS('3. 일출(자체)'!$AJ$8:$AJ$2000,'3. 일출(자체)'!$AM$8:$AM$2000,$AN35),IF($AO35="지방채",SUMIFS('3. 일출(의존)'!$AJ$8:$AJ$2000,'3. 일출(의존)'!$AS$8:$AS$2000,$AN35)+SUMIFS('3. 일출(자체)'!$AI$8:$AI$2000,'3. 일출(자체)'!$AM$8:$AM$2000,$AN35),0))) | BD35: =IF($AN35="","",COUNTIF('3. 일출(의존)'!$AS$8:$AS$2000,$AN35)+COUNTIF('3. 일출(자체)'!$AM$8:$AM$2000,$AN35)) | BE35: =IF($AN35="","",IF($AO35="자체","",IF($AO35="지방채",IF($AH35=$BC35,"OK","@@"),IF($AO35="지역개발기금",IF($AI35=$BC35,"OK","@@"),"@@"))))
A36: =IF(D36="","",COUNTA($C$8:C36)-COUNTBLANK($C$8:C36)+2) | B36: =IF(D36="","",IF(OR(C36="직접입력",D36="북부지원"),"직접입력",IF(OR(AND(D36="인사과",C36="의회사무처"),AND(D36="총무과",C36="의회사무처")),"의회운영위원회",IF(OR(C36="직접입력",D36="북부지원"),"직접입력",IF(OR(AND(D36="인사과",C36="자치행정국"),AND(D36="총무과",C36="자치행정국")),"안전행정위원회",VLOOKUP(D36,구분표!$A$3:$C$258,2,)))))) | C36: =IF(D36="","",IF(OR(D36="교육지원과",D36="총무과",D36="인사과"),"직접입력",VLOOKUP(D36,구분표!$A$3:$C$258,3,))) | F36: =IF($E36="","",IF($E36="2추","직접입력","-")) | G36: =IF($E36="","",IF($E36="2추","직접입력","-")) | I36: =IF(H36="","",VLOOKUP($H36,구분표!$O$3:$P$168,2,FALSE)) | K36: =IF($E36="","",IF(OR($E36="2추",$E36="1추",$E36="본예산"),"금액입력","-")) | L36: =IF($E36="","",IF($E36="2추","금액입력","-")) | M36: =IF($E36="","",SUM(K36:L36)) | O36: =SUM(M36:N36) -> 0 | Q36: =SUM(M36,P36) -> 0 | R36: =IF(AND((O36=0),(Q36>0)),"O",IF(AND((N36<0),(O36-Q36<0)),"O","X")) -> X | Y36: =IF($H36="","",IF(OR($H36="511-01",$H36="511-02",$H36="511-03",$H36="311-02",$H36="311-04",$H36="321-01"),"국비","도비")) | AA36: =IF($Y36="국비",IF($N36<>"",$N36,0),"") | AB36: =IF($Y36="도비",IF($AO36="자체",IF($N36<>"",$N36,0),""),"") | AC36: =IF($Y36="도비",IF($AO36="지방채",IF($N36<>"",$N36,0),""),"") | AD36: =IF($Y36="도비",IF($AO36="지역개발기금",IF($N36<>"",$N36,0),""),"") | AF36: =IF($Y36="국비",IF($P36<>"",$P36,0),"") | AG36: =IF($Y36="도비",IF($AO36="자체",IF($P36<>"",$P36,0),""),"") | AH36: =IF($Y36="도비",IF($AO36="지방채",IF($P36<>"",$P36,0),""),"") | AI36: =IF($Y36="도비",IF($AO36="지역개발기금",IF($P36<>"",$P36,0),""),"") | AK36: =IF($AQ36="","",IF(OR($AL36="",$AL36="도비"),"",CONCATENATE($AQ36,"-",COUNTIF($AQ$8:$AQ36,$AQ36)))) | AL36: =IF($H36="","",IF($H36="511-01","국비",IF($H36="511-02","균특",IF($H36="511-03","기금",IF($H36="311-02","특교",IF($H36="311-04","소교",IF($H36="321-01","소멸","도비"))))))) | AN36: =IF($AQ36="","",IF(OR($AO36="",$AO36="국비",$AO36="자체"),"",CONCATENATE($AQ36,"-",$AO36,"-",COUNTIF($AQ$8:$AQ36,$AQ36)))) | AO36: =IF($Y36="","",IF($Y36="국비","국비",IF($H36="612-01","지방채",IF($H36="722-02","지역개발기금","자체")))) | AQ36: {=IF(OR($D36="",$C36="직접입력",$B36="직접입력"),"",INDEX(구분표!$I$2:$I$337,MATCH(1,(구분표!$G$2:$G$337='3. 일입'!$B36)*(구분표!$E$2:$E$337='3. 일입'!$C36)*(구분표!$F$2:$F$337='3. 일입'!$D36),0)))} | AS36: =IF($AK36="","",SUMIFS('3. 일출(의존)'!$AB$7:$AB$1989,'3. 일출(의존)'!$AN$7:$AN$1989,$AK36)) | AT36: =IF($AK36="","",COUNTIF('3. 일출(의존)'!$AN$7:$AN$1989,$AK36)) | AU36: =IF($AK36="","",IF($AA36=$AS36,"OK","@@")) | AV36: =IF($AN36="","",IF($AO36="지역개발기금",SUMIFS('3. 일출(의존)'!$AE$8:$AE$2000,'3. 일출(의존)'!$AS$8:$AS$2000,$AN36)+SUMIFS('3. 일출(자체)'!$AE$8:$AE$2000,'3. 일출(자체)'!$AM$8:$AM$2000,$AN36),IF($AO36="지방채",SUMIFS('3. 일출(의존)'!$AD$8:$AD$2000,'3. 일출(의존)'!$AS$8:$AS$2000,$AN36)+SUMIFS('3. 일출(자체)'!$AD$8:$AD$2000,'3. 일출(자체)'!$AM$8:$AM$2000,$AN36),0))) | AW36: =IF($AN36="","",COUNTIF('3. 일출(의존)'!$AS$8:$AS$2000,$AN36)+COUNTIF('3. 일출(자체)'!$AM$8:$AM$2000,$AN36)) | AX36: =IF($AN36="","",IF($AO36="자체","",IF($AO36="지방채",IF($AC36=$AV36,"OK","@@"),IF($AO36="지역개발기금",IF($AD36=$AV36,"OK","@@"),"@@")))) | AZ36: =IF($AK36="","",SUMIFS('3. 일출(의존)'!$AH$8:$AH$1989,'3. 일출(의존)'!$AN$8:$AN$1989,$AK36)) | BA36: =IF($AK36="","",COUNTIF('3. 일출(의존)'!$AN$7:$AN$1989,$AK36)) | BB36: =IF($AK36="","",IF($AF36=$AZ36,"OK","@@")) | BC36: =IF($AN36="","",IF($AO36="지역개발기금",SUMIFS('3. 일출(의존)'!$AK$8:$AK$2000,'3. 일출(의존)'!$AS$8:$AS$2000,$AN36)+SUMIFS('3. 일출(자체)'!$AJ$8:$AJ$2000,'3. 일출(자체)'!$AM$8:$AM$2000,$AN36),IF($AO36="지방채",SUMIFS('3. 일출(의존)'!$AJ$8:$AJ$2000,'3. 일출(의존)'!$AS$8:$AS$2000,$AN36)+SUMIFS('3. 일출(자체)'!$AI$8:$AI$2000,'3. 일출(자체)'!$AM$8:$AM$2000,$AN36),0))) | BD36: =IF($AN36="","",COUNTIF('3. 일출(의존)'!$AS$8:$AS$2000,$AN36)+COUNTIF('3. 일출(자체)'!$AM$8:$AM$2000,$AN36)) | BE36: =IF($AN36="","",IF($AO36="자체","",IF($AO36="지방채",IF($AH36=$BC36,"OK","@@"),IF($AO36="지역개발기금",IF($AI36=$BC36,"OK","@@"),"@@"))))
A37: =IF(D37="","",COUNTA($C$8:C37)-COUNTBLANK($C$8:C37)+2) | B37: =IF(D37="","",IF(OR(C37="직접입력",D37="북부지원"),"직접입력",IF(OR(AND(D37="인사과",C37="의회사무처"),AND(D37="총무과",C37="의회사무처")),"의회운영위원회",IF(OR(C37="직접입력",D37="북부지원"),"직접입력",IF(OR(AND(D37="인사과",C37="자치행정국"),AND(D37="총무과",C37="자치행정국")),"안전행정위원회",VLOOKUP(D37,구분표!$A$3:$C$258,2,)))))) | C37: =IF(D37="","",IF(OR(D37="교육지원과",D37="총무과",D37="인사과"),"직접입력",VLOOKUP(D37,구분표!$A$3:$C$258,3,))) | F37: =IF($E37="","",IF($E37="2추","직접입력","-")) | G37: =IF($E37="","",IF($E37="2추","직접입력","-")) | I37: =IF(H37="","",VLOOKUP($H37,구분표!$O$3:$P$168,2,FALSE)) | K37: =IF($E37="","",IF(OR($E37="2추",$E37="1추",$E37="본예산"),"금액입력","-")) | L37: =IF($E37="","",IF($E37="2추","금액입력","-")) | M37: =IF($E37="","",SUM(K37:L37)) | O37: =SUM(M37:N37) -> 0 | Q37: =SUM(M37,P37) -> 0 | R37: =IF(AND((O37=0),(Q37>0)),"O",IF(AND((N37<0),(O37-Q37<0)),"O","X")) -> X | Y37: =IF($H37="","",IF(OR($H37="511-01",$H37="511-02",$H37="511-03",$H37="311-02",$H37="311-04",$H37="321-01"),"국비","도비")) | AA37: =IF($Y37="국비",IF($N37<>"",$N37,0),"") | AB37: =IF($Y37="도비",IF($AO37="자체",IF($N37<>"",$N37,0),""),"") | AC37: =IF($Y37="도비",IF($AO37="지방채",IF($N37<>"",$N37,0),""),"") | AD37: =IF($Y37="도비",IF($AO37="지역개발기금",IF($N37<>"",$N37,0),""),"") | AF37: =IF($Y37="국비",IF($P37<>"",$P37,0),"") | AG37: =IF($Y37="도비",IF($AO37="자체",IF($P37<>"",$P37,0),""),"") | AH37: =IF($Y37="도비",IF($AO37="지방채",IF($P37<>"",$P37,0),""),"") | AI37: =IF($Y37="도비",IF($AO37="지역개발기금",IF($P37<>"",$P37,0),""),"") | AK37: =IF($AQ37="","",IF(OR($AL37="",$AL37="도비"),"",CONCATENATE($AQ37,"-",COUNTIF($AQ$8:$AQ37,$AQ37)))) | AL37: =IF($H37="","",IF($H37="511-01","국비",IF($H37="511-02","균특",IF($H37="511-03","기금",IF($H37="311-02","특교",IF($H37="311-04","소교",IF($H37="321-01","소멸","도비"))))))) | AN37: =IF($AQ37="","",IF(OR($AO37="",$AO37="국비",$AO37="자체"),"",CONCATENATE($AQ37,"-",$AO37,"-",COUNTIF($AQ$8:$AQ37,$AQ37)))) | AO37: =IF($Y37="","",IF($Y37="국비","국비",IF($H37="612-01","지방채",IF($H37="722-02","지역개발기금","자체")))) | AQ37: {=IF(OR($D37="",$C37="직접입력",$B37="직접입력"),"",INDEX(구분표!$I$2:$I$337,MATCH(1,(구분표!$G$2:$G$337='3. 일입'!$B37)*(구분표!$E$2:$E$337='3. 일입'!$C37)*(구분표!$F$2:$F$337='3. 일입'!$D37),0)))} | AS37: =IF($AK37="","",SUMIFS('3. 일출(의존)'!$AB$7:$AB$1989,'3. 일출(의존)'!$AN$7:$AN$1989,$AK37)) | AT37: =IF($AK37="","",COUNTIF('3. 일출(의존)'!$AN$7:$AN$1989,$AK37)) | AU37: =IF($AK37="","",IF($AA37=$AS37,"OK","@@")) | AV37: =IF($AN37="","",IF($AO37="지역개발기금",SUMIFS('3. 일출(의존)'!$AE$8:$AE$2000,'3. 일출(의존)'!$AS$8:$AS$2000,$AN37)+SUMIFS('3. 일출(자체)'!$AE$8:$AE$2000,'3. 일출(자체)'!$AM$8:$AM$2000,$AN37),IF($AO37="지방채",SUMIFS('3. 일출(의존)'!$AD$8:$AD$2000,'3. 일출(의존)'!$AS$8:$AS$2000,$AN37)+SUMIFS('3. 일출(자체)'!$AD$8:$AD$2000,'3. 일출(자체)'!$AM$8:$AM$2000,$AN37),0))) | AW37: =IF($AN37="","",COUNTIF('3. 일출(의존)'!$AS$8:$AS$2000,$AN37)+COUNTIF('3. 일출(자체)'!$AM$8:$AM$2000,$AN37)) | AX37: =IF($AN37="","",IF($AO37="자체","",IF($AO37="지방채",IF($AC37=$AV37,"OK","@@"),IF($AO37="지역개발기금",IF($AD37=$AV37,"OK","@@"),"@@")))) | AZ37: =IF($AK37="","",SUMIFS('3. 일출(의존)'!$AH$8:$AH$1989,'3. 일출(의존)'!$AN$8:$AN$1989,$AK37)) | BA37: =IF($AK37="","",COUNTIF('3. 일출(의존)'!$AN$7:$AN$1989,$AK37)) | BB37: =IF($AK37="","",IF($AF37=$AZ37,"OK","@@")) | BC37: =IF($AN37="","",IF($AO37="지역개발기금",SUMIFS('3. 일출(의존)'!$AK$8:$AK$2000,'3. 일출(의존)'!$AS$8:$AS$2000,$AN37)+SUMIFS('3. 일출(자체)'!$AJ$8:$AJ$2000,'3. 일출(자체)'!$AM$8:$AM$2000,$AN37),IF($AO37="지방채",SUMIFS('3. 일출(의존)'!$AJ$8:$AJ$2000,'3. 일출(의존)'!$AS$8:$AS$2000,$AN37)+SUMIFS('3. 일출(자체)'!$AI$8:$AI$2000,'3. 일출(자체)'!$AM$8:$AM$2000,$AN37),0))) | BD37: =IF($AN37="","",COUNTIF('3. 일출(의존)'!$AS$8:$AS$2000,$AN37)+COUNTIF('3. 일출(자체)'!$AM$8:$AM$2000,$AN37)) | BE37: =IF($AN37="","",IF($AO37="자체","",IF($AO37="지방채",IF($AH37=$BC37,"OK","@@"),IF($AO37="지역개발기금",IF($AI37=$BC37,"OK","@@"),"@@"))))
... A41: =IF(D41="","",COUNTA($C$8:C41)-COUNTBLANK($C$8:C41)+2) | B41: =IF(D41="","",IF(OR(C41="직접입력",D41="북부지원"),"직접입력",IF(OR(AND(D41="인사과",C41="의회사무처"),AND(D41="총무과",C41="의회사무처")),"의회운영위원회",IF(OR(C41="직접입력",D41="북부지원"),"직접입력",IF(OR(AND(D41="인사과",C41="자치행정국"),AND(D41="총무과",C41="자치행정국")),"안전행정위원회",VLOOKUP(D41,구분표!$A$3:$C$258,2,)))))) | C41: =IF(D41="","",IF(OR(D41="교육지원과",D41="총무과",D41="인사과"),"직접입력",VLOOKUP(D41,구분표!$A$3:$C$258,3,))) | F41: =IF($E41="","",IF($E41="2추","직접입력","-")) | G41: =IF($E41="","",IF($E41="2추","직접입력","-")) | I41: =IF(H41="","",VLOOKUP($H41,구분표!$O$3:$P$168,2,FALSE)) | K41: =IF($E41="","",IF(OR($E41="2추",$E41="1추",$E41="본예산"),"금액입력","-")) | L41: =IF($E41="","",IF($E41="2추","금액입력","-")) | M41: =IF($E41="","",SUM(K41:L41)) | O41: =SUM(M41:N41) -> 0 | Q41: =SUM(M41,P41) -> 0 | R41: =IF(AND((O41=0),(Q41>0)),"O",IF(AND((N41<0),(O41-Q41<0)),"O","X")) -> X | Y41: =IF($H41="","",IF(OR($H41="511-01",$H41="511-02",$H41="511-03",$H41="311-02",$H41="311-04",$H41="321-01"),"국비","도비")) | AA41: =IF($Y41="국비",IF($N41<>"",$N41,0),"") | AB41: =IF($Y41="도비",IF($AO41="자체",IF($N41<>"",$N41,0),""),"") | AC41: =IF($Y41="도비",IF($AO41="지방채",IF($N41<>"",$N41,0),""),"") | AD41: =IF($Y41="도비",IF($AO41="지역개발기금",IF($N41<>"",$N41,0),""),"") | AF41: =IF($Y41="국비",IF($P41<>"",$P41,0),"") | AG41: =IF($Y41="도비",IF($AO41="자체",IF($P41<>"",$P41,0),""),"") | AH41: =IF($Y41="도비",IF($AO41="지방채",IF($P41<>"",$P41,0),""),"") | AI41: =IF($Y41="도비",IF($AO41="지역개발기금",IF($P41<>"",$P41,0),""),"") | AK41: =IF($AQ41="","",IF(OR($AL41="",$AL41="도비"),"",CONCATENATE($AQ41,"-",COUNTIF($AQ$8:$AQ41,$AQ41)))) | AL41: =IF($H41="","",IF($H41="511-01","국비",IF($H41="511-02","균특",IF($H41="511-03","기금",IF($H41="311-02","특교",IF($H41="311-04","소교",IF($H41="321-01","소멸","도비"))))))) | AN41: =IF($AQ41="","",IF(OR($AO41="",$AO41="국비",$AO41="자체"),"",CONCATENATE($AQ41,"-",$AO41,"-",COUNTIF($AQ$8:$AQ41,$AQ41)))) | AO41: =IF($Y41="","",IF($Y41="국비","국비",IF($H41="612-01","지방채",IF($H41="722-02","지역개발기금","자체")))) | AQ41: {=IF(OR($D41="",$C41="직접입력",$B41="직접입력"),"",INDEX(구분표!$I$2:$I$337,MATCH(1,(구분표!$G$2:$G$337='3. 일입'!$B41)*(구분표!$E$2:$E$337='3. 일입'!$C41)*(구분표!$F$2:$F$337='3. 일입'!$D41),0)))} | AS41: =IF($AK41="","",SUMIFS('3. 일출(의존)'!$AB$7:$AB$1989,'3. 일출(의존)'!$AN$7:$AN$1989,$AK41)) | AT41: =IF($AK41="","",COUNTIF('3. 일출(의존)'!$AN$7:$AN$1989,$AK41)) | AU41: =IF($AK41="","",IF($AA41=$AS41,"OK","@@")) | AV41: =IF($AN41="","",IF($AO41="지역개발기금",SUMIFS('3. 일출(의존)'!$AE$8:$AE$2000,'3. 일출(의존)'!$AS$8:$AS$2000,$AN41)+SUMIFS('3. 일출(자체)'!$AE$8:$AE$2000,'3. 일출(자체)'!$AM$8:$AM$2000,$AN41),IF($AO41="지방채",SUMIFS('3. 일출(의존)'!$AD$8:$AD$2000,'3. 일출(의존)'!$AS$8:$AS$2000,$AN41)+SUMIFS('3. 일출(자체)'!$AD$8:$AD$2000,'3. 일출(자체)'!$AM$8:$AM$2000,$AN41),0))) | AW41: =IF($AN41="","",COUNTIF('3. 일출(의존)'!$AS$8:$AS$2000,$AN41)+COUNTIF('3. 일출(자체)'!$AM$8:$AM$2000,$AN41)) | AX41: =IF($AN41="","",IF($AO41="자체","",IF($AO41="지방채",IF($AC41=$AV41,"OK","@@"),IF($AO41="지역개발기금",IF($AD41=$AV41,"OK","@@"),"@@")))) | AZ41: =IF($AK41="","",SUMIFS('3. 일출(의존)'!$AH$8:$AH$1989,'3. 일출(의존)'!$AN$8:$AN$1989,$AK41)) | BA41: =IF($AK41="","",COUNTIF('3. 일출(의존)'!$AN$7:$AN$1989,$AK41)) | BB41: =IF($AK41="","",IF($AF41=$AZ41,"OK","@@")) | BC41: =IF($AN41="","",IF($AO41="지역개발기금",SUMIFS('3. 일출(의존)'!$AK$8:$AK$2000,'3. 일출(의존)'!$AS$8:$AS$2000,$AN41)+SUMIFS('3. 일출(자체)'!$AJ$8:$AJ$2000,'3. 일출(자체)'!$AM$8:$AM$2000,$AN41),IF($AO41="지방채",SUMIFS('3. 일출(의존)'!$AJ$8:$AJ$2000,'3. 일출(의존)'!$AS$8:$AS$2000,$AN41)+SUMIFS('3. 일출(자체)'!$AI$8:$AI$2000,'3. 일출(자체)'!$AM$8:$AM$2000,$AN41),0))) | BD41: =IF($AN41="","",COUNTIF('3. 일출(의존)'!$AS$8:$AS$2000,$AN41)+COUNTIF('3. 일출(자체)'!$AM$8:$AM$2000,$AN41)) | BE41: =IF($AN41="","",IF($AO41="자체","",IF($AO41="지방채",IF($AH41=$BC41,"OK","@@"),IF($AO41="지역개발기금",IF($AI41=$BC41,"OK","@@"),"@@"))))
B42: (경제노동위원회) | J42: =SUBTOTAL(3,J43:J58)&"건" -> 0건 | K42: =SUBTOTAL(9,K43:K58) -> 0 | L42: =SUBTOTAL(9,L43:L58) -> 0 | M42: =SUBTOTAL(9,M43:M58) -> 0 | N42: =SUBTOTAL(9,N43:N58) -> 0 | O42: =SUBTOTAL(9,O43:O58) -> 0 | P42: =SUBTOTAL(9,P43:P58) -> 0 | Q42: =SUBTOTAL(9,Q43:Q58) -> 0 | AA42: =SUBTOTAL(9,AA43:AA58) -> 0 | AB42: =SUBTOTAL(9,AB43:AB58) -> 0 | AC42: =SUBTOTAL(9,AC43:AC58) -> 0 | AD42: =SUBTOTAL(9,AD43:AD58) -> 0 | AF42: =SUBTOTAL(9,AF43:AF58) -> 0 | AG42: =SUBTOTAL(9,AG43:AG58) -> 0 | AH42: =SUBTOTAL(9,AH43:AH58) -> 0 | AI42: =SUBTOTAL(9,AI43:AI58) -> 0 | AS42: =SUBTOTAL(9,AS43:AS58) -> 0 | AT42: =SUBTOTAL(9,AT43:AT58) -> 0 | AU42: =IF(COUNTIF(AU43:AU58,"@@")>0,"@@","OK") -> OK | AV42: =SUBTOTAL(9,AV43:AV58) -> 0 | AW42: =SUBTOTAL(9,AW43:AW58) -> 0 | AX42: =IF(COUNTIF(AX43:AX58,"@@")>0,"@@","OK") -> OK | AZ42: =SUBTOTAL(9,AZ43:AZ58) -> 0 | BA42: =SUBTOTAL(9,BA43:BA58) -> 0 | BB42: =IF(COUNTIF(BB43:BB58,"@@")>0,"@@","OK") -> OK | BC42: =SUBTOTAL(9,BC43:BC58) -> 0 | BD42: =SUBTOTAL(9,BD43:BD58) -> 0 | BE42: =IF(COUNTIF(BE43:BE58,"@@")>0,"@@","OK") -> OK
A43: =IF(D43="","",COUNTA($C$8:C43)-COUNTBLANK($C$8:C43)+3) | B43: =IF(D43="","",IF(OR(C43="직접입력",D43="북부지원"),"직접입력",IF(OR(AND(D43="인사과",C43="의회사무처"),AND(D43="총무과",C43="의회사무처")),"의회운영위원회",IF(OR(C43="직접입력",D43="북부지원"),"직접입력",IF(OR(AND(D43="인사과",C43="자치행정국"),AND(D43="총무과",C43="자치행정국")),"안전행정위원회",VLOOKUP(D43,구분표!$A$3:$C$258,2,)))))) | C43: =IF(D43="","",IF(OR(D43="교육지원과",D43="총무과",D43="인사과"),"직접입력",VLOOKUP(D43,구분표!$A$3:$C$258,3,))) | F43: =IF($E43="","",IF($E43="2추","직접입력","-")) | G43: =IF($E43="","",IF($E43="2추","직접입력","-")) | I43: =IF(H43="","",VLOOKUP($H43,구분표!$O$3:$P$168,2,FALSE)) | K43: =IF($E43="","",IF(OR($E43="2추",$E43="1추",$E43="본예산"),"금액입력","-")) | L43: =IF($E43="","",IF($E43="2추","금액입력","-")) | M43: =IF($E43="","",SUM(K43:L43)) | O43: =SUM(M43:N43) -> 0 | Q43: =SUM(M43,P43) -> 0 | R43: =IF(AND((O43=0),(Q43>0)),"O",IF(AND((N43<0),(O43-Q43<0)),"O","X")) -> X | Y43: =IF($H43="","",IF(OR($H43="511-01",$H43="511-02",$H43="511-03",$H43="311-02",$H43="311-04",$H43="321-01"),"국비","도비")) | AA43: =IF($Y43="국비",IF($N43<>"",$N43,0),"") | AB43: =IF($Y43="도비",IF($AO43="자체",IF($N43<>"",$N43,0),""),"") | AC43: =IF($Y43="도비",IF($AO43="지방채",IF($N43<>"",$N43,0),""),"") | AD43: =IF($Y43="도비",IF($AO43="지역개발기금",IF($N43<>"",$N43,0),""),"") | AF43: =IF($Y43="국비",IF($P43<>"",$P43,0),"") | AG43: =IF($Y43="도비",IF($AO43="자체",IF($P43<>"",$P43,0),""),"") | AH43: =IF($Y43="도비",IF($AO43="지방채",IF($P43<>"",$P43,0),""),"") | AI43: =IF($Y43="도비",IF($AO43="지역개발기금",IF($P43<>"",$P43,0),""),"") | AK43: =IF($AQ43="","",IF(OR($AL43="",$AL43="도비"),"",CONCATENATE($AQ43,"-",COUNTIF($AQ$8:$AQ43,$AQ43)))) | AL43: =IF($H43="","",IF($H43="511-01","국비",IF($H43="511-02","균특",IF($H43="511-03","기금",IF($H43="311-02","특교",IF($H43="311-04","소교",IF($H43="321-01","소멸","도비"))))))) | AN43: =IF($AQ43="","",IF(OR($AO43="",$AO43="국비",$AO43="자체"),"",CONCATENATE($AQ43,"-",$AO43,"-",COUNTIF($AQ$8:$AQ43,$AQ43)))) | AO43: =IF($Y43="","",IF($Y43="국비","국비",IF($H43="612-01","지방채",IF($H43="722-02","지역개발기금","자체")))) | AQ43: {=IF(OR($D43="",$C43="직접입력",$B43="직접입력"),"",INDEX(구분표!$I$2:$I$337,MATCH(1,(구분표!$G$2:$G$337='3. 일입'!$B43)*(구분표!$E$2:$E$337='3. 일입'!$C43)*(구분표!$F$2:$F$337='3. 일입'!$D43),0)))} | AS43: =IF($AK43="","",SUMIFS('3. 일출(의존)'!$AB$7:$AB$1989,'3. 일출(의존)'!$AN$7:$AN$1989,$AK43)) | AT43: =IF($AK43="","",COUNTIF('3. 일출(의존)'!$AN$7:$AN$1989,$AK43)) | AU43: =IF($AK43="","",IF($AA43=$AS43,"OK","@@")) | AV43: =IF($AN43="","",IF($AO43="지역개발기금",SUMIFS('3. 일출(의존)'!$AE$8:$AE$2000,'3. 일출(의존)'!$AS$8:$AS$2000,$AN43)+SUMIFS('3. 일출(자체)'!$AE$8:$AE$2000,'3. 일출(자체)'!$AM$8:$AM$2000,$AN43),IF($AO43="지방채",SUMIFS('3. 일출(의존)'!$AD$8:$AD$2000,'3. 일출(의존)'!$AS$8:$AS$2000,$AN43)+SUMIFS('3. 일출(자체)'!$AD$8:$AD$2000,'3. 일출(자체)'!$AM$8:$AM$2000,$AN43),0))) | AW43: =IF($AN43="","",COUNTIF('3. 일출(의존)'!$AS$8:$AS$2000,$AN43)+COUNTIF('3. 일출(자체)'!$AM$8:$AM$2000,$AN43)) | AX43: =IF($AN43="","",IF($AO43="자체","",IF($AO43="지방채",IF($AC43=$AV43,"OK","@@"),IF($AO43="지역개발기금",IF($AD43=$AV43,"OK","@@"),"@@")))) | AZ43: =IF($AK43="","",SUMIFS('3. 일출(의존)'!$AH$8:$AH$1989,'3. 일출(의존)'!$AN$8:$AN$1989,$AK43)) | BA43: =IF($AK43="","",COUNTIF('3. 일출(의존)'!$AN$7:$AN$1989,$AK43)) | BB43: =IF($AK43="","",IF($AF43=$AZ43,"OK","@@")) | BC43: =IF($AN43="","",IF($AO43="지역개발기금",SUMIFS('3. 일출(의존)'!$AK$8:$AK$2000,'3. 일출(의존)'!$AS$8:$AS$2000,$AN43)+SUMIFS('3. 일출(자체)'!$AJ$8:$AJ$2000,'3. 일출(자체)'!$AM$8:$AM$2000,$AN43),IF($AO43="지방채",SUMIFS('3. 일출(의존)'!$AJ$8:$AJ$2000,'3. 일출(의존)'!$AS$8:$AS$2000,$AN43)+SUMIFS('3. 일출(자체)'!$AI$8:$AI$2000,'3. 일출(자체)'!$AM$8:$AM$2000,$AN43),0))) | BD43: =IF($AN43="","",COUNTIF('3. 일출(의존)'!$AS$8:$AS$2000,$AN43)+COUNTIF('3. 일출(자체)'!$AM$8:$AM$2000,$AN43)) | BE43: =IF($AN43="","",IF($AO43="자체","",IF($AO43="지방채",IF($AH43=$BC43,"OK","@@"),IF($AO43="지역개발기금",IF($AI43=$BC43,"OK","@@"),"@@"))))
A44: =IF(D44="","",COUNTA($C$8:C44)-COUNTBLANK($C$8:C44)+3) | B44: =IF(D44="","",IF(OR(C44="직접입력",D44="북부지원"),"직접입력",IF(OR(AND(D44="인사과",C44="의회사무처"),AND(D44="총무과",C44="의회사무처")),"의회운영위원회",IF(OR(C44="직접입력",D44="북부지원"),"직접입력",IF(OR(AND(D44="인사과",C44="자치행정국"),AND(D44="총무과",C44="자치행정국")),"안전행정위원회",VLOOKUP(D44,구분표!$A$3:$C$258,2,)))))) | C44: =IF(D44="","",IF(OR(D44="교육지원과",D44="총무과",D44="인사과"),"직접입력",VLOOKUP(D44,구분표!$A$3:$C$258,3,))) | F44: =IF($E44="","",IF($E44="2추","직접입력","-")) | G44: =IF($E44="","",IF($E44="2추","직접입력","-")) | I44: =IF(H44="","",VLOOKUP($H44,구분표!$O$3:$P$168,2,FALSE)) | K44: =IF($E44="","",IF(OR($E44="2추",$E44="1추",$E44="본예산"),"금액입력","-")) | L44: =IF($E44="","",IF($E44="2추","금액입력","-")) | M44: =IF($E44="","",SUM(K44:L44)) | O44: =SUM(M44:N44) -> 0 | Q44: =SUM(M44,P44) -> 0 | R44: =IF(AND((O44=0),(Q44>0)),"O",IF(AND((N44<0),(O44-Q44<0)),"O","X")) -> X | Y44: =IF($H44="","",IF(OR($H44="511-01",$H44="511-02",$H44="511-03",$H44="311-02",$H44="311-04",$H44="321-01"),"국비","도비")) | AA44: =IF($Y44="국비",IF($N44<>"",$N44,0),"") | AB44: =IF($Y44="도비",IF($AO44="자체",IF($N44<>"",$N44,0),""),"") | AC44: =IF($Y44="도비",IF($AO44="지방채",IF($N44<>"",$N44,0),""),"") | AD44: =IF($Y44="도비",IF($AO44="지역개발기금",IF($N44<>"",$N44,0),""),"") | AF44: =IF($Y44="국비",IF($P44<>"",$P44,0),"") | AG44: =IF($Y44="도비",IF($AO44="자체",IF($P44<>"",$P44,0),""),"") | AH44: =IF($Y44="도비",IF($AO44="지방채",IF($P44<>"",$P44,0),""),"") | AI44: =IF($Y44="도비",IF($AO44="지역개발기금",IF($P44<>"",$P44,0),""),"") | AK44: =IF($AQ44="","",IF(OR($AL44="",$AL44="도비"),"",CONCATENATE($AQ44,"-",COUNTIF($AQ$8:$AQ44,$AQ44)))) | AL44: =IF($H44="","",IF($H44="511-01","국비",IF($H44="511-02","균특",IF($H44="511-03","기금",IF($H44="311-02","특교",IF($H44="311-04","소교",IF($H44="321-01","소멸","도비"))))))) | AN44: =IF($AQ44="","",IF(OR($AO44="",$AO44="국비",$AO44="자체"),"",CONCATENATE($AQ44,"-",$AO44,"-",COUNTIF($AQ$8:$AQ44,$AQ44)))) | AO44: =IF($Y44="","",IF($Y44="국비","국비",IF($H44="612-01","지방채",IF($H44="722-02","지역개발기금","자체")))) | AQ44: {=IF(OR($D44="",$C44="직접입력",$B44="직접입력"),"",INDEX(구분표!$I$2:$I$337,MATCH(1,(구분표!$G$2:$G$337='3. 일입'!$B44)*(구분표!$E$2:$E$337='3. 일입'!$C44)*(구분표!$F$2:$F$337='3. 일입'!$D44),0)))} | AS44: =IF($AK44="","",SUMIFS('3. 일출(의존)'!$AB$7:$AB$1989,'3. 일출(의존)'!$AN$7:$AN$1989,$AK44)) | AT44: =IF($AK44="","",COUNTIF('3. 일출(의존)'!$AN$7:$AN$1989,$AK44)) | AU44: =IF($AK44="","",IF($AA44=$AS44,"OK","@@")) | AV44: =IF($AN44="","",IF($AO44="지역개발기금",SUMIFS('3. 일출(의존)'!$AE$8:$AE$2000,'3. 일출(의존)'!$AS$8:$AS$2000,$AN44)+SUMIFS('3. 일출(자체)'!$AE$8:$AE$2000,'3. 일출(자체)'!$AM$8:$AM$2000,$AN44),IF($AO44="지방채",SUMIFS('3. 일출(의존)'!$AD$8:$AD$2000,'3. 일출(의존)'!$AS$8:$AS$2000,$AN44)+SUMIFS('3. 일출(자체)'!$AD$8:$AD$2000,'3. 일출(자체)'!$AM$8:$AM$2000,$AN44),0))) | AW44: =IF($AN44="","",COUNTIF('3. 일출(의존)'!$AS$8:$AS$2000,$AN44)+COUNTIF('3. 일출(자체)'!$AM$8:$AM$2000,$AN44)) | AX44: =IF($AN44="","",IF($AO44="자체","",IF($AO44="지방채",IF($AC44=$AV44,"OK","@@"),IF($AO44="지역개발기금",IF($AD44=$AV44,"OK","@@"),"@@")))) | AZ44: =IF($AK44="","",SUMIFS('3. 일출(의존)'!$AH$8:$AH$1989,'3. 일출(의존)'!$AN$8:$AN$1989,$AK44)) | BA44: =IF($AK44="","",COUNTIF('3. 일출(의존)'!$AN$7:$AN$1989,$AK44)) | BB44: =IF($AK44="","",IF($AF44=$AZ44,"OK","@@")) | BC44: =IF($AN44="","",IF($AO44="지역개발기금",SUMIFS('3. 일출(의존)'!$AK$8:$AK$2000,'3. 일출(의존)'!$AS$8:$AS$2000,$AN44)+SUMIFS('3. 일출(자체)'!$AJ$8:$AJ$2000,'3. 일출(자체)'!$AM$8:$AM$2000,$AN44),IF($AO44="지방채",SUMIFS('3. 일출(의존)'!$AJ$8:$AJ$2000,'3. 일출(의존)'!$AS$8:$AS$2000,$AN44)+SUMIFS('3. 일출(자체)'!$AI$8:$AI$2000,'3. 일출(자체)'!$AM$8:$AM$2000,$AN44),0))) | BD44: =IF($AN44="","",COUNTIF('3. 일출(의존)'!$AS$8:$AS$2000,$AN44)+COUNTIF('3. 일출(자체)'!$AM$8:$AM$2000,$AN44)) | BE44: =IF($AN44="","",IF($AO44="자체","",IF($AO44="지방채",IF($AH44=$BC44,"OK","@@"),IF($AO44="지역개발기금",IF($AI44=$BC44,"OK","@@"),"@@"))))
A45: =IF(D45="","",COUNTA($C$8:C45)-COUNTBLANK($C$8:C45)+3) | B45: =IF(D45="","",IF(OR(C45="직접입력",D45="북부지원"),"직접입력",IF(OR(AND(D45="인사과",C45="의회사무처"),AND(D45="총무과",C45="의회사무처")),"의회운영위원회",IF(OR(C45="직접입력",D45="북부지원"),"직접입력",IF(OR(AND(D45="인사과",C45="자치행정국"),AND(D45="총무과",C45="자치행정국")),"안전행정위원회",VLOOKUP(D45,구분표!$A$3:$C$258,2,)))))) | C45: =IF(D45="","",IF(OR(D45="교육지원과",D45="총무과",D45="인사과"),"직접입력",VLOOKUP(D45,구분표!$A$3:$C$258,3,))) | F45: =IF($E45="","",IF($E45="2추","직접입력","-")) | G45: =IF($E45="","",IF($E45="2추","직접입력","-")) | I45: =IF(H45="","",VLOOKUP($H45,구분표!$O$3:$P$168,2,FALSE)) | K45: =IF($E45="","",IF(OR($E45="2추",$E45="1추",$E45="본예산"),"금액입력","-")) | L45: =IF($E45="","",IF($E45="2추","금액입력","-")) | M45: =IF($E45="","",SUM(K45:L45)) | O45: =SUM(M45:N45) -> 0 | Q45: =SUM(M45,P45) -> 0 | R45: =IF(AND((O45=0),(Q45>0)),"O",IF(AND((N45<0),(O45-Q45<0)),"O","X")) -> X | Y45: =IF($H45="","",IF(OR($H45="511-01",$H45="511-02",$H45="511-03",$H45="311-02",$H45="311-04",$H45="321-01"),"국비","도비")) | AA45: =IF($Y45="국비",IF($N45<>"",$N45,0),"") | AB45: =IF($Y45="도비",IF($AO45="자체",IF($N45<>"",$N45,0),""),"") | AC45: =IF($Y45="도비",IF($AO45="지방채",IF($N45<>"",$N45,0),""),"") | AD45: =IF($Y45="도비",IF($AO45="지역개발기금",IF($N45<>"",$N45,0),""),"") | AF45: =IF($Y45="국비",IF($P45<>"",$P45,0),"") | AG45: =IF($Y45="도비",IF($AO45="자체",IF($P45<>"",$P45,0),""),"") | AH45: =IF($Y45="도비",IF($AO45="지방채",IF($P45<>"",$P45,0),""),"") | AI45: =IF($Y45="도비",IF($AO45="지역개발기금",IF($P45<>"",$P45,0),""),"") | AK45: =IF($AQ45="","",IF(OR($AL45="",$AL45="도비"),"",CONCATENATE($AQ45,"-",COUNTIF($AQ$8:$AQ45,$AQ45)))) | AL45: =IF($H45="","",IF($H45="511-01","국비",IF($H45="511-02","균특",IF($H45="511-03","기금",IF($H45="311-02","특교",IF($H45="311-04","소교",IF($H45="321-01","소멸","도비"))))))) | AN45: =IF($AQ45="","",IF(OR($AO45="",$AO45="국비",$AO45="자체"),"",CONCATENATE($AQ45,"-",$AO45,"-",COUNTIF($AQ$8:$AQ45,$AQ45)))) | AO45: =IF($Y45="","",IF($Y45="국비","국비",IF($H45="612-01","지방채",IF($H45="722-02","지역개발기금","자체")))) | AQ45: {=IF(OR($D45="",$C45="직접입력",$B45="직접입력"),"",INDEX(구분표!$I$2:$I$337,MATCH(1,(구분표!$G$2:$G$337='3. 일입'!$B45)*(구분표!$E$2:$E$337='3. 일입'!$C45)*(구분표!$F$2:$F$337='3. 일입'!$D45),0)))} | AS45: =IF($AK45="","",SUMIFS('3. 일출(의존)'!$AB$7:$AB$1989,'3. 일출(의존)'!$AN$7:$AN$1989,$AK45)) | AT45: =IF($AK45="","",COUNTIF('3. 일출(의존)'!$AN$7:$AN$1989,$AK45)) | AU45: =IF($AK45="","",IF($AA45=$AS45,"OK","@@")) | AV45: =IF($AN45="","",IF($AO45="지역개발기금",SUMIFS('3. 일출(의존)'!$AE$8:$AE$2000,'3. 일출(의존)'!$AS$8:$AS$2000,$AN45)+SUMIFS('3. 일출(자체)'!$AE$8:$AE$2000,'3. 일출(자체)'!$AM$8:$AM$2000,$AN45),IF($AO45="지방채",SUMIFS('3. 일출(의존)'!$AD$8:$AD$2000,'3. 일출(의존)'!$AS$8:$AS$2000,$AN45)+SUMIFS('3. 일출(자체)'!$AD$8:$AD$2000,'3. 일출(자체)'!$AM$8:$AM$2000,$AN45),0))) | AW45: =IF($AN45="","",COUNTIF('3. 일출(의존)'!$AS$8:$AS$2000,$AN45)+COUNTIF('3. 일출(자체)'!$AM$8:$AM$2000,$AN45)) | AX45: =IF($AN45="","",IF($AO45="자체","",IF($AO45="지방채",IF($AC45=$AV45,"OK","@@"),IF($AO45="지역개발기금",IF($AD45=$AV45,"OK","@@"),"@@")))) | AZ45: =IF($AK45="","",SUMIFS('3. 일출(의존)'!$AH$8:$AH$1989,'3. 일출(의존)'!$AN$8:$AN$1989,$AK45)) | BA45: =IF($AK45="","",COUNTIF('3. 일출(의존)'!$AN$7:$AN$1989,$AK45)) | BB45: =IF($AK45="","",IF($AF45=$AZ45,"OK","@@")) | BC45: =IF($AN45="","",IF($AO45="지역개발기금",SUMIFS('3. 일출(의존)'!$AK$8:$AK$2000,'3. 일출(의존)'!$AS$8:$AS$2000,$AN45)+SUMIFS('3. 일출(자체)'!$AJ$8:$AJ$2000,'3. 일출(자체)'!$AM$8:$AM$2000,$AN45),IF($AO45="지방채",SUMIFS('3. 일출(의존)'!$AJ$8:$AJ$2000,'3. 일출(의존)'!$AS$8:$AS$2000,$AN45)+SUMIFS('3. 일출(자체)'!$AI$8:$AI$2000,'3. 일출(자체)'!$AM$8:$AM$2000,$AN45),0))) | BD45: =IF($AN45="","",COUNTIF('3. 일출(의존)'!$AS$8:$AS$2000,$AN45)+COUNTIF('3. 일출(자체)'!$AM$8:$AM$2000,$AN45)) | BE45: =IF($AN45="","",IF($AO45="자체","",IF($AO45="지방채",IF($AH45=$BC45,"OK","@@"),IF($AO45="지역개발기금",IF($AI45=$BC45,"OK","@@"),"@@"))))
A46: =IF(D46="","",COUNTA($C$8:C46)-COUNTBLANK($C$8:C46)+3) | B46: =IF(D46="","",IF(OR(C46="직접입력",D46="북부지원"),"직접입력",IF(OR(AND(D46="인사과",C46="의회사무처"),AND(D46="총무과",C46="의회사무처")),"의회운영위원회",IF(OR(C46="직접입력",D46="북부지원"),"직접입력",IF(OR(AND(D46="인사과",C46="자치행정국"),AND(D46="총무과",C46="자치행정국")),"안전행정위원회",VLOOKUP(D46,구분표!$A$3:$C$258,2,)))))) | C46: =IF(D46="","",IF(OR(D46="교육지원과",D46="총무과",D46="인사과"),"직접입력",VLOOKUP(D46,구분표!$A$3:$C$258,3,))) | F46: =IF($E46="","",IF($E46="2추","직접입력","-")) | G46: =IF($E46="","",IF($E46="2추","직접입력","-")) | I46: =IF(H46="","",VLOOKUP($H46,구분표!$O$3:$P$168,2,FALSE)) | K46: =IF($E46="","",IF(OR($E46="2추",$E46="1추",$E46="본예산"),"금액입력","-")) | L46: =IF($E46="","",IF($E46="2추","금액입력","-")) | M46: =IF($E46="","",SUM(K46:L46)) | O46: =SUM(M46:N46) -> 0 | Q46: =SUM(M46,P46) -> 0 | R46: =IF(AND((O46=0),(Q46>0)),"O",IF(AND((N46<0),(O46-Q46<0)),"O","X")) -> X | Y46: =IF($H46="","",IF(OR($H46="511-01",$H46="511-02",$H46="511-03",$H46="311-02",$H46="311-04",$H46="321-01"),"국비","도비")) | AA46: =IF($Y46="국비",IF($N46<>"",$N46,0),"") | AB46: =IF($Y46="도비",IF($AO46="자체",IF($N46<>"",$N46,0),""),"") | AC46: =IF($Y46="도비",IF($AO46="지방채",IF($N46<>"",$N46,0),""),"") | AD46: =IF($Y46="도비",IF($AO46="지역개발기금",IF($N46<>"",$N46,0),""),"") | AF46: =IF($Y46="국비",IF($P46<>"",$P46,0),"") | AG46: =IF($Y46="도비",IF($AO46="자체",IF($P46<>"",$P46,0),""),"") | AH46: =IF($Y46="도비",IF($AO46="지방채",IF($P46<>"",$P46,0),""),"") | AI46: =IF($Y46="도비",IF($AO46="지역개발기금",IF($P46<>"",$P46,0),""),"") | AK46: =IF($AQ46="","",IF(OR($AL46="",$AL46="도비"),"",CONCATENATE($AQ46,"-",COUNTIF($AQ$8:$AQ46,$AQ46)))) | AL46: =IF($H46="","",IF($H46="511-01","국비",IF($H46="511-02","균특",IF($H46="511-03","기금",IF($H46="311-02","특교",IF($H46="311-04","소교",IF($H46="321-01","소멸","도비"))))))) | AN46: =IF($AQ46="","",IF(OR($AO46="",$AO46="국비",$AO46="자체"),"",CONCATENATE($AQ46,"-",$AO46,"-",COUNTIF($AQ$8:$AQ46,$AQ46)))) | AO46: =IF($Y46="","",IF($Y46="국비","국비",IF($H46="612-01","지방채",IF($H46="722-02","지역개발기금","자체")))) | AQ46: {=IF(OR($D46="",$C46="직접입력",$B46="직접입력"),"",INDEX(구분표!$I$2:$I$337,MATCH(1,(구분표!$G$2:$G$337='3. 일입'!$B46)*(구분표!$E$2:$E$337='3. 일입'!$C46)*(구분표!$F$2:$F$337='3. 일입'!$D46),0)))} | AS46: =IF($AK46="","",SUMIFS('3. 일출(의존)'!$AB$7:$AB$1989,'3. 일출(의존)'!$AN$7:$AN$1989,$AK46)) | AT46: =IF($AK46="","",COUNTIF('3. 일출(의존)'!$AN$7:$AN$1989,$AK46)) | AU46: =IF($AK46="","",IF($AA46=$AS46,"OK","@@")) | AV46: =IF($AN46="","",IF($AO46="지역개발기금",SUMIFS('3. 일출(의존)'!$AE$8:$AE$2000,'3. 일출(의존)'!$AS$8:$AS$2000,$AN46)+SUMIFS('3. 일출(자체)'!$AE$8:$AE$2000,'3. 일출(자체)'!$AM$8:$AM$2000,$AN46),IF($AO46="지방채",SUMIFS('3. 일출(의존)'!$AD$8:$AD$2000,'3. 일출(의존)'!$AS$8:$AS$2000,$AN46)+SUMIFS('3. 일출(자체)'!$AD$8:$AD$2000,'3. 일출(자체)'!$AM$8:$AM$2000,$AN46),0))) | AW46: =IF($AN46="","",COUNTIF('3. 일출(의존)'!$AS$8:$AS$2000,$AN46)+COUNTIF('3. 일출(자체)'!$AM$8:$AM$2000,$AN46)) | AX46: =IF($AN46="","",IF($AO46="자체","",IF($AO46="지방채",IF($AC46=$AV46,"OK","@@"),IF($AO46="지역개발기금",IF($AD46=$AV46,"OK","@@"),"@@")))) | AZ46: =IF($AK46="","",SUMIFS('3. 일출(의존)'!$AH$8:$AH$1989,'3. 일출(의존)'!$AN$8:$AN$1989,$AK46)) | BA46: =IF($AK46="","",COUNTIF('3. 일출(의존)'!$AN$7:$AN$1989,$AK46)) | BB46: =IF($AK46="","",IF($AF46=$AZ46,"OK","@@")) | BC46: =IF($AN46="","",IF($AO46="지역개발기금",SUMIFS('3. 일출(의존)'!$AK$8:$AK$2000,'3. 일출(의존)'!$AS$8:$AS$2000,$AN46)+SUMIFS('3. 일출(자체)'!$AJ$8:$AJ$2000,'3. 일출(자체)'!$AM$8:$AM$2000,$AN46),IF($AO46="지방채",SUMIFS('3. 일출(의존)'!$AJ$8:$AJ$2000,'3. 일출(의존)'!$AS$8:$AS$2000,$AN46)+SUMIFS('3. 일출(자체)'!$AI$8:$AI$2000,'3. 일출(자체)'!$AM$8:$AM$2000,$AN46),0))) | BD46: =IF($AN46="","",COUNTIF('3. 일출(의존)'!$AS$8:$AS$2000,$AN46)+COUNTIF('3. 일출(자체)'!$AM$8:$AM$2000,$AN46)) | BE46: =IF($AN46="","",IF($AO46="자체","",IF($AO46="지방채",IF($AH46=$BC46,"OK","@@"),IF($AO46="지역개발기금",IF($AI46=$BC46,"OK","@@"),"@@"))))
A47: =IF(D47="","",COUNTA($C$8:C47)-COUNTBLANK($C$8:C47)+3) | B47: =IF(D47="","",IF(OR(C47="직접입력",D47="북부지원"),"직접입력",IF(OR(AND(D47="인사과",C47="의회사무처"),AND(D47="총무과",C47="의회사무처")),"의회운영위원회",IF(OR(C47="직접입력",D47="북부지원"),"직접입력",IF(OR(AND(D47="인사과",C47="자치행정국"),AND(D47="총무과",C47="자치행정국")),"안전행정위원회",VLOOKUP(D47,구분표!$A$3:$C$258,2,)))))) | C47: =IF(D47="","",IF(OR(D47="교육지원과",D47="총무과",D47="인사과"),"직접입력",VLOOKUP(D47,구분표!$A$3:$C$258,3,))) | F47: =IF($E47="","",IF($E47="2추","직접입력","-")) | G47: =IF($E47="","",IF($E47="2추","직접입력","-")) | I47: =IF(H47="","",VLOOKUP($H47,구분표!$O$3:$P$168,2,FALSE)) | K47: =IF($E47="","",IF(OR($E47="2추",$E47="1추",$E47="본예산"),"금액입력","-")) | L47: =IF($E47="","",IF($E47="2추","금액입력","-")) | M47: =IF($E47="","",SUM(K47:L47)) | O47: =SUM(M47:N47) -> 0 | Q47: =SUM(M47,P47) -> 0 | R47: =IF(AND((O47=0),(Q47>0)),"O",IF(AND((N47<0),(O47-Q47<0)),"O","X")) -> X | Y47: =IF($H47="","",IF(OR($H47="511-01",$H47="511-02",$H47="511-03",$H47="311-02",$H47="311-04",$H47="321-01"),"국비","도비")) | AA47: =IF($Y47="국비",IF($N47<>"",$N47,0),"") | AB47: =IF($Y47="도비",IF($AO47="자체",IF($N47<>"",$N47,0),""),"") | AC47: =IF($Y47="도비",IF($AO47="지방채",IF($N47<>"",$N47,0),""),"") | AD47: =IF($Y47="도비",IF($AO47="지역개발기금",IF($N47<>"",$N47,0),""),"") | AF47: =IF($Y47="국비",IF($P47<>"",$P47,0),"") | AG47: =IF($Y47="도비",IF($AO47="자체",IF($P47<>"",$P47,0),""),"") | AH47: =IF($Y47="도비",IF($AO47="지방채",IF($P47<>"",$P47,0),""),"") | AI47: =IF($Y47="도비",IF($AO47="지역개발기금",IF($P47<>"",$P47,0),""),"") | AK47: =IF($AQ47="","",IF(OR($AL47="",$AL47="도비"),"",CONCATENATE($AQ47,"-",COUNTIF($AQ$8:$AQ47,$AQ47)))) | AL47: =IF($H47="","",IF($H47="511-01","국비",IF($H47="511-02","균특",IF($H47="511-03","기금",IF($H47="311-02","특교",IF($H47="311-04","소교",IF($H47="321-01","소멸","도비"))))))) | AN47: =IF($AQ47="","",IF(OR($AO47="",$AO47="국비",$AO47="자체"),"",CONCATENATE($AQ47,"-",$AO47,"-",COUNTIF($AQ$8:$AQ47,$AQ47)))) | AO47: =IF($Y47="","",IF($Y47="국비","국비",IF($H47="612-01","지방채",IF($H47="722-02","지역개발기금","자체")))) | AQ47: {=IF(OR($D47="",$C47="직접입력",$B47="직접입력"),"",INDEX(구분표!$I$2:$I$337,MATCH(1,(구분표!$G$2:$G$337='3. 일입'!$B47)*(구분표!$E$2:$E$337='3. 일입'!$C47)*(구분표!$F$2:$F$337='3. 일입'!$D47),0)))} | AS47: =IF($AK47="","",SUMIFS('3. 일출(의존)'!$AB$7:$AB$1989,'3. 일출(의존)'!$AN$7:$AN$1989,$AK47)) | AT47: =IF($AK47="","",COUNTIF('3. 일출(의존)'!$AN$7:$AN$1989,$AK47)) | AU47: =IF($AK47="","",IF($AA47=$AS47,"OK","@@")) | AV47: =IF($AN47="","",IF($AO47="지역개발기금",SUMIFS('3. 일출(의존)'!$AE$8:$AE$2000,'3. 일출(의존)'!$AS$8:$AS$2000,$AN47)+SUMIFS('3. 일출(자체)'!$AE$8:$AE$2000,'3. 일출(자체)'!$AM$8:$AM$2000,$AN47),IF($AO47="지방채",SUMIFS('3. 일출(의존)'!$AD$8:$AD$2000,'3. 일출(의존)'!$AS$8:$AS$2000,$AN47)+SUMIFS('3. 일출(자체)'!$AD$8:$AD$2000,'3. 일출(자체)'!$AM$8:$AM$2000,$AN47),0))) | AW47: =IF($AN47="","",COUNTIF('3. 일출(의존)'!$AS$8:$AS$2000,$AN47)+COUNTIF('3. 일출(자체)'!$AM$8:$AM$2000,$AN47)) | AX47: =IF($AN47="","",IF($AO47="자체","",IF($AO47="지방채",IF($AC47=$AV47,"OK","@@"),IF($AO47="지역개발기금",IF($AD47=$AV47,"OK","@@"),"@@")))) | AZ47: =IF($AK47="","",SUMIFS('3. 일출(의존)'!$AH$8:$AH$1989,'3. 일출(의존)'!$AN$8:$AN$1989,$AK47)) | BA47: =IF($AK47="","",COUNTIF('3. 일출(의존)'!$AN$7:$AN$1989,$AK47)) | BB47: =IF($AK47="","",IF($AF47=$AZ47,"OK","@@")) | BC47: =IF($AN47="","",IF($AO47="지역개발기금",SUMIFS('3. 일출(의존)'!$AK$8:$AK$2000,'3. 일출(의존)'!$AS$8:$AS$2000,$AN47)+SUMIFS('3. 일출(자체)'!$AJ$8:$AJ$2000,'3. 일출(자체)'!$AM$8:$AM$2000,$AN47),IF($AO47="지방채",SUMIFS('3. 일출(의존)'!$AJ$8:$AJ$2000,'3. 일출(의존)'!$AS$8:$AS$2000,$AN47)+SUMIFS('3. 일출(자체)'!$AI$8:$AI$2000,'3. 일출(자체)'!$AM$8:$AM$2000,$AN47),0))) | BD47: =IF($AN47="","",COUNTIF('3. 일출(의존)'!$AS$8:$AS$2000,$AN47)+COUNTIF('3. 일출(자체)'!$AM$8:$AM$2000,$AN47)) | BE47: =IF($AN47="","",IF($AO47="자체","",IF($AO47="지방채",IF($AH47=$BC47,"OK","@@"),IF($AO47="지역개발기금",IF($AI47=$BC47,"OK","@@"),"@@"))))
A48: =IF(D48="","",COUNTA($C$8:C48)-COUNTBLANK($C$8:C48)+3) | B48: =IF(D48="","",IF(OR(C48="직접입력",D48="북부지원"),"직접입력",IF(OR(AND(D48="인사과",C48="의회사무처"),AND(D48="총무과",C48="의회사무처")),"의회운영위원회",IF(OR(C48="직접입력",D48="북부지원"),"직접입력",IF(OR(AND(D48="인사과",C48="자치행정국"),AND(D48="총무과",C48="자치행정국")),"안전행정위원회",VLOOKUP(D48,구분표!$A$3:$C$258,2,)))))) | C48: =IF(D48="","",IF(OR(D48="교육지원과",D48="총무과",D48="인사과"),"직접입력",VLOOKUP(D48,구분표!$A$3:$C$258,3,))) | F48: =IF($E48="","",IF($E48="2추","직접입력","-")) | G48: =IF($E48="","",IF($E48="2추","직접입력","-")) | I48: =IF(H48="","",VLOOKUP($H48,구분표!$O$3:$P$168,2,FALSE)) | K48: =IF($E48="","",IF(OR($E48="2추",$E48="1추",$E48="본예산"),"금액입력","-")) | L48: =IF($E48="","",IF($E48="2추","금액입력","-")) | M48: =IF($E48="","",SUM(K48:L48)) | O48: =SUM(M48:N48) -> 0 | Q48: =SUM(M48,P48) -> 0 | R48: =IF(AND((O48=0),(Q48>0)),"O",IF(AND((N48<0),(O48-Q48<0)),"O","X")) -> X | Y48: =IF($H48="","",IF(OR($H48="511-01",$H48="511-02",$H48="511-03",$H48="311-02",$H48="311-04",$H48="321-01"),"국비","도비")) | AA48: =IF($Y48="국비",IF($N48<>"",$N48,0),"") | AB48: =IF($Y48="도비",IF($AO48="자체",IF($N48<>"",$N48,0),""),"") | AC48: =IF($Y48="도비",IF($AO48="지방채",IF($N48<>"",$N48,0),""),"") | AD48: =IF($Y48="도비",IF($AO48="지역개발기금",IF($N48<>"",$N48,0),""),"") | AF48: =IF($Y48="국비",IF($P48<>"",$P48,0),"") | AG48: =IF($Y48="도비",IF($AO48="자체",IF($P48<>"",$P48,0),""),"") | AH48: =IF($Y48="도비",IF($AO48="지방채",IF($P48<>"",$P48,0),""),"") | AI48: =IF($Y48="도비",IF($AO48="지역개발기금",IF($P48<>"",$P48,0),""),"") | AK48: =IF($AQ48="","",IF(OR($AL48="",$AL48="도비"),"",CONCATENATE($AQ48,"-",COUNTIF($AQ$8:$AQ48,$AQ48)))) | AL48: =IF($H48="","",IF($H48="511-01","국비",IF($H48="511-02","균특",IF($H48="511-03","기금",IF($H48="311-02","특교",IF($H48="311-04","소교",IF($H48="321-01","소멸","도비"))))))) | AN48: =IF($AQ48="","",IF(OR($AO48="",$AO48="국비",$AO48="자체"),"",CONCATENATE($AQ48,"-",$AO48,"-",COUNTIF($AQ$8:$AQ48,$AQ48)))) | AO48: =IF($Y48="","",IF($Y48="국비","국비",IF($H48="612-01","지방채",IF($H48="722-02","지역개발기금","자체")))) | AQ48: {=IF(OR($D48="",$C48="직접입력",$B48="직접입력"),"",INDEX(구분표!$I$2:$I$337,MATCH(1,(구분표!$G$2:$G$337='3. 일입'!$B48)*(구분표!$E$2:$E$337='3. 일입'!$C48)*(구분표!$F$2:$F$337='3. 일입'!$D48),0)))} | AS48: =IF($AK48="","",SUMIFS('3. 일출(의존)'!$AB$7:$AB$1989,'3. 일출(의존)'!$AN$7:$AN$1989,$AK48)) | AT48: =IF($AK48="","",COUNTIF('3. 일출(의존)'!$AN$7:$AN$1989,$AK48)) | AU48: =IF($AK48="","",IF($AA48=$AS48,"OK","@@")) | AV48: =IF($AN48="","",IF($AO48="지역개발기금",SUMIFS('3. 일출(의존)'!$AE$8:$AE$2000,'3. 일출(의존)'!$AS$8:$AS$2000,$AN48)+SUMIFS('3. 일출(자체)'!$AE$8:$AE$2000,'3. 일출(자체)'!$AM$8:$AM$2000,$AN48),IF($AO48="지방채",SUMIFS('3. 일출(의존)'!$AD$8:$AD$2000,'3. 일출(의존)'!$AS$8:$AS$2000,$AN48)+SUMIFS('3. 일출(자체)'!$AD$8:$AD$2000,'3. 일출(자체)'!$AM$8:$AM$2000,$AN48),0))) | AW48: =IF($AN48="","",COUNTIF('3. 일출(의존)'!$AS$8:$AS$2000,$AN48)+COUNTIF('3. 일출(자체)'!$AM$8:$AM$2000,$AN48)) | AX48: =IF($AN48="","",IF($AO48="자체","",IF($AO48="지방채",IF($AC48=$AV48,"OK","@@"),IF($AO48="지역개발기금",IF($AD48=$AV48,"OK","@@"),"@@")))) | AZ48: =IF($AK48="","",SUMIFS('3. 일출(의존)'!$AH$8:$AH$1989,'3. 일출(의존)'!$AN$8:$AN$1989,$AK48)) | BA48: =IF($AK48="","",COUNTIF('3. 일출(의존)'!$AN$7:$AN$1989,$AK48)) | BB48: =IF($AK48="","",IF($AF48=$AZ48,"OK","@@")) | BC48: =IF($AN48="","",IF($AO48="지역개발기금",SUMIFS('3. 일출(의존)'!$AK$8:$AK$2000,'3. 일출(의존)'!$AS$8:$AS$2000,$AN48)+SUMIFS('3. 일출(자체)'!$AJ$8:$AJ$2000,'3. 일출(자체)'!$AM$8:$AM$2000,$AN48),IF($AO48="지방채",SUMIFS('3. 일출(의존)'!$AJ$8:$AJ$2000,'3. 일출(의존)'!$AS$8:$AS$2000,$AN48)+SUMIFS('3. 일출(자체)'!$AI$8:$AI$2000,'3. 일출(자체)'!$AM$8:$AM$2000,$AN48),0))) | BD48: =IF($AN48="","",COUNTIF('3. 일출(의존)'!$AS$8:$AS$2000,$AN48)+COUNTIF('3. 일출(자체)'!$AM$8:$AM$2000,$AN48)) | BE48: =IF($AN48="","",IF($AO48="자체","",IF($AO48="지방채",IF($AH48=$BC48,"OK","@@"),IF($AO48="지역개발기금",IF($AI48=$BC48,"OK","@@"),"@@"))))
A49: =IF(D49="","",COUNTA($C$8:C49)-COUNTBLANK($C$8:C49)+3) | B49: =IF(D49="","",IF(OR(C49="직접입력",D49="북부지원"),"직접입력",IF(OR(AND(D49="인사과",C49="의회사무처"),AND(D49="총무과",C49="의회사무처")),"의회운영위원회",IF(OR(C49="직접입력",D49="북부지원"),"직접입력",IF(OR(AND(D49="인사과",C49="자치행정국"),AND(D49="총무과",C49="자치행정국")),"안전행정위원회",VLOOKUP(D49,구분표!$A$3:$C$258,2,)))))) | C49: =IF(D49="","",IF(OR(D49="교육지원과",D49="총무과",D49="인사과"),"직접입력",VLOOKUP(D49,구분표!$A$3:$C$258,3,))) | F49: =IF($E49="","",IF($E49="2추","직접입력","-")) | G49: =IF($E49="","",IF($E49="2추","직접입력","-")) | I49: =IF(H49="","",VLOOKUP($H49,구분표!$O$3:$P$168,2,FALSE)) | K49: =IF($E49="","",IF(OR($E49="2추",$E49="1추",$E49="본예산"),"금액입력","-")) | L49: =IF($E49="","",IF($E49="2추","금액입력","-")) | M49: =IF($E49="","",SUM(K49:L49)) | O49: =SUM(M49:N49) -> 0 | Q49: =SUM(M49,P49) -> 0 | R49: =IF(AND((O49=0),(Q49>0)),"O",IF(AND((N49<0),(O49-Q49<0)),"O","X")) -> X | Y49: =IF($H49="","",IF(OR($H49="511-01",$H49="511-02",$H49="511-03",$H49="311-02",$H49="311-04",$H49="321-01"),"국비","도비")) | AA49: =IF($Y49="국비",IF($N49<>"",$N49,0),"") | AB49: =IF($Y49="도비",IF($AO49="자체",IF($N49<>"",$N49,0),""),"") | AC49: =IF($Y49="도비",IF($AO49="지방채",IF($N49<>"",$N49,0),""),"") | AD49: =IF($Y49="도비",IF($AO49="지역개발기금",IF($N49<>"",$N49,0),""),"") | AF49: =IF($Y49="국비",IF($P49<>"",$P49,0),"") | AG49: =IF($Y49="도비",IF($AO49="자체",IF($P49<>"",$P49,0),""),"") | AH49: =IF($Y49="도비",IF($AO49="지방채",IF($P49<>"",$P49,0),""),"") | AI49: =IF($Y49="도비",IF($AO49="지역개발기금",IF($P49<>"",$P49,0),""),"") | AK49: =IF($AQ49="","",IF(OR($AL49="",$AL49="도비"),"",CONCATENATE($AQ49,"-",COUNTIF($AQ$8:$AQ49,$AQ49)))) | AL49: =IF($H49="","",IF($H49="511-01","국비",IF($H49="511-02","균특",IF($H49="511-03","기금",IF($H49="311-02","특교",IF($H49="311-04","소교",IF($H49="321-01","소멸","도비"))))))) | AN49: =IF($AQ49="","",IF(OR($AO49="",$AO49="국비",$AO49="자체"),"",CONCATENATE($AQ49,"-",$AO49,"-",COUNTIF($AQ$8:$AQ49,$AQ49)))) | AO49: =IF($Y49="","",IF($Y49="국비","국비",IF($H49="612-01","지방채",IF($H49="722-02","지역개발기금","자체")))) | AQ49: {=IF(OR($D49="",$C49="직접입력",$B49="직접입력"),"",INDEX(구분표!$I$2:$I$337,MATCH(1,(구분표!$G$2:$G$337='3. 일입'!$B49)*(구분표!$E$2:$E$337='3. 일입'!$C49)*(구분표!$F$2:$F$337='3. 일입'!$D49),0)))} | AS49: =IF($AK49="","",SUMIFS('3. 일출(의존)'!$AB$7:$AB$1989,'3. 일출(의존)'!$AN$7:$AN$1989,$AK49)) | AT49: =IF($AK49="","",COUNTIF('3. 일출(의존)'!$AN$7:$AN$1989,$AK49)) | AU49: =IF($AK49="","",IF($AA49=$AS49,"OK","@@")) | AV49: =IF($AN49="","",IF($AO49="지역개발기금",SUMIFS('3. 일출(의존)'!$AE$8:$AE$2000,'3. 일출(의존)'!$AS$8:$AS$2000,$AN49)+SUMIFS('3. 일출(자체)'!$AE$8:$AE$2000,'3. 일출(자체)'!$AM$8:$AM$2000,$AN49),IF($AO49="지방채",SUMIFS('3. 일출(의존)'!$AD$8:$AD$2000,'3. 일출(의존)'!$AS$8:$AS$2000,$AN49)+SUMIFS('3. 일출(자체)'!$AD$8:$AD$2000,'3. 일출(자체)'!$AM$8:$AM$2000,$AN49),0))) | AW49: =IF($AN49="","",COUNTIF('3. 일출(의존)'!$AS$8:$AS$2000,$AN49)+COUNTIF('3. 일출(자체)'!$AM$8:$AM$2000,$AN49)) | AX49: =IF($AN49="","",IF($AO49="자체","",IF($AO49="지방채",IF($AC49=$AV49,"OK","@@"),IF($AO49="지역개발기금",IF($AD49=$AV49,"OK","@@"),"@@")))) | AZ49: =IF($AK49="","",SUMIFS('3. 일출(의존)'!$AH$8:$AH$1989,'3. 일출(의존)'!$AN$8:$AN$1989,$AK49)) | BA49: =IF($AK49="","",COUNTIF('3. 일출(의존)'!$AN$7:$AN$1989,$AK49)) | BB49: =IF($AK49="","",IF($AF49=$AZ49,"OK","@@")) | BC49: =IF($AN49="","",IF($AO49="지역개발기금",SUMIFS('3. 일출(의존)'!$AK$8:$AK$2000,'3. 일출(의존)'!$AS$8:$AS$2000,$AN49)+SUMIFS('3. 일출(자체)'!$AJ$8:$AJ$2000,'3. 일출(자체)'!$AM$8:$AM$2000,$AN49),IF($AO49="지방채",SUMIFS('3. 일출(의존)'!$AJ$8:$AJ$2000,'3. 일출(의존)'!$AS$8:$AS$2000,$AN49)+SUMIFS('3. 일출(자체)'!$AI$8:$AI$2000,'3. 일출(자체)'!$AM$8:$AM$2000,$AN49),0))) | BD49: =IF($AN49="","",COUNTIF('3. 일출(의존)'!$AS$8:$AS$2000,$AN49)+COUNTIF('3. 일출(자체)'!$AM$8:$AM$2000,$AN49)) | BE49: =IF($AN49="","",IF($AO49="자체","",IF($AO49="지방채",IF($AH49=$BC49,"OK","@@"),IF($AO49="지역개발기금",IF($AI49=$BC49,"OK","@@"),"@@"))))
A50: =IF(D50="","",COUNTA($C$8:C50)-COUNTBLANK($C$8:C50)+3) | B50: =IF(D50="","",IF(OR(C50="직접입력",D50="북부지원"),"직접입력",IF(OR(AND(D50="인사과",C50="의회사무처"),AND(D50="총무과",C50="의회사무처")),"의회운영위원회",IF(OR(C50="직접입력",D50="북부지원"),"직접입력",IF(OR(AND(D50="인사과",C50="자치행정국"),AND(D50="총무과",C50="자치행정국")),"안전행정위원회",VLOOKUP(D50,구분표!$A$3:$C$258,2,)))))) | C50: =IF(D50="","",IF(OR(D50="교육지원과",D50="총무과",D50="인사과"),"직접입력",VLOOKUP(D50,구분표!$A$3:$C$258,3,))) | F50: =IF($E50="","",IF($E50="2추","직접입력","-")) | G50: =IF($E50="","",IF($E50="2추","직접입력","-")) | I50: =IF(H50="","",VLOOKUP($H50,구분표!$O$3:$P$168,2,FALSE)) | K50: =IF($E50="","",IF(OR($E50="2추",$E50="1추",$E50="본예산"),"금액입력","-")) | L50: =IF($E50="","",IF($E50="2추","금액입력","-")) | M50: =IF($E50="","",SUM(K50:L50)) | O50: =SUM(M50:N50) -> 0 | Q50: =SUM(M50,P50) -> 0 | R50: =IF(AND((O50=0),(Q50>0)),"O",IF(AND((N50<0),(O50-Q50<0)),"O","X")) -> X | Y50: =IF($H50="","",IF(OR($H50="511-01",$H50="511-02",$H50="511-03",$H50="311-02",$H50="311-04",$H50="321-01"),"국비","도비")) | AA50: =IF($Y50="국비",IF($N50<>"",$N50,0),"") | AB50: =IF($Y50="도비",IF($AO50="자체",IF($N50<>"",$N50,0),""),"") | AC50: =IF($Y50="도비",IF($AO50="지방채",IF($N50<>"",$N50,0),""),"") | AD50: =IF($Y50="도비",IF($AO50="지역개발기금",IF($N50<>"",$N50,0),""),"") | AF50: =IF($Y50="국비",IF($P50<>"",$P50,0),"") | AG50: =IF($Y50="도비",IF($AO50="자체",IF($P50<>"",$P50,0),""),"") | AH50: =IF($Y50="도비",IF($AO50="지방채",IF($P50<>"",$P50,0),""),"") | AI50: =IF($Y50="도비",IF($AO50="지역개발기금",IF($P50<>"",$P50,0),""),"") | AK50: =IF($AQ50="","",IF(OR($AL50="",$AL50="도비"),"",CONCATENATE($AQ50,"-",COUNTIF($AQ$8:$AQ50,$AQ50)))) | AL50: =IF($H50="","",IF($H50="511-01","국비",IF($H50="511-02","균특",IF($H50="511-03","기금",IF($H50="311-02","특교",IF($H50="311-04","소교",IF($H50="321-01","소멸","도비"))))))) | AN50: =IF($AQ50="","",IF(OR($AO50="",$AO50="국비",$AO50="자체"),"",CONCATENATE($AQ50,"-",$AO50,"-",COUNTIF($AQ$8:$AQ50,$AQ50)))) | AO50: =IF($Y50="","",IF($Y50="국비","국비",IF($H50="612-01","지방채",IF($H50="722-02","지역개발기금","자체")))) | AQ50: {=IF(OR($D50="",$C50="직접입력",$B50="직접입력"),"",INDEX(구분표!$I$2:$I$337,MATCH(1,(구분표!$G$2:$G$337='3. 일입'!$B50)*(구분표!$E$2:$E$337='3. 일입'!$C50)*(구분표!$F$2:$F$337='3. 일입'!$D50),0)))} | AS50: =IF($AK50="","",SUMIFS('3. 일출(의존)'!$AB$7:$AB$1989,'3. 일출(의존)'!$AN$7:$AN$1989,$AK50)) | AT50: =IF($AK50="","",COUNTIF('3. 일출(의존)'!$AN$7:$AN$1989,$AK50)) | AU50: =IF($AK50="","",IF($AA50=$AS50,"OK","@@")) | AV50: =IF($AN50="","",IF($AO50="지역개발기금",SUMIFS('3. 일출(의존)'!$AE$8:$AE$2000,'3. 일출(의존)'!$AS$8:$AS$2000,$AN50)+SUMIFS('3. 일출(자체)'!$AE$8:$AE$2000,'3. 일출(자체)'!$AM$8:$AM$2000,$AN50),IF($AO50="지방채",SUMIFS('3. 일출(의존)'!$AD$8:$AD$2000,'3. 일출(의존)'!$AS$8:$AS$2000,$AN50)+SUMIFS('3. 일출(자체)'!$AD$8:$AD$2000,'3. 일출(자체)'!$AM$8:$AM$2000,$AN50),0))) | AW50: =IF($AN50="","",COUNTIF('3. 일출(의존)'!$AS$8:$AS$2000,$AN50)+COUNTIF('3. 일출(자체)'!$AM$8:$AM$2000,$AN50)) | AX50: =IF($AN50="","",IF($AO50="자체","",IF($AO50="지방채",IF($AC50=$AV50,"OK","@@"),IF($AO50="지역개발기금",IF($AD50=$AV50,"OK","@@"),"@@")))) | AZ50: =IF($AK50="","",SUMIFS('3. 일출(의존)'!$AH$8:$AH$1989,'3. 일출(의존)'!$AN$8:$AN$1989,$AK50)) | BA50: =IF($AK50="","",COUNTIF('3. 일출(의존)'!$AN$7:$AN$1989,$AK50)) | BB50: =IF($AK50="","",IF($AF50=$AZ50,"OK","@@")) | BC50: =IF($AN50="","",IF($AO50="지역개발기금",SUMIFS('3. 일출(의존)'!$AK$8:$AK$2000,'3. 일출(의존)'!$AS$8:$AS$2000,$AN50)+SUMIFS('3. 일출(자체)'!$AJ$8:$AJ$2000,'3. 일출(자체)'!$AM$8:$AM$2000,$AN50),IF($AO50="지방채",SUMIFS('3. 일출(의존)'!$AJ$8:$AJ$2000,'3. 일출(의존)'!$AS$8:$AS$2000,$AN50)+SUMIFS('3. 일출(자체)'!$AI$8:$AI$2000,'3. 일출(자체)'!$AM$8:$AM$2000,$AN50),0))) | BD50: =IF($AN50="","",COUNTIF('3. 일출(의존)'!$AS$8:$AS$2000,$AN50)+COUNTIF('3. 일출(자체)'!$AM$8:$AM$2000,$AN50)) | BE50: =IF($AN50="","",IF($AO50="자체","",IF($AO50="지방채",IF($AH50=$BC50,"OK","@@"),IF($AO50="지역개발기금",IF($AI50=$BC50,"OK","@@"),"@@"))))
A51: =IF(D51="","",COUNTA($C$8:C51)-COUNTBLANK($C$8:C51)+3) | B51: =IF(D51="","",IF(OR(C51="직접입력",D51="북부지원"),"직접입력",IF(OR(AND(D51="인사과",C51="의회사무처"),AND(D51="총무과",C51="의회사무처")),"의회운영위원회",IF(OR(C51="직접입력",D51="북부지원"),"직접입력",IF(OR(AND(D51="인사과",C51="자치행정국"),AND(D51="총무과",C51="자치행정국")),"안전행정위원회",VLOOKUP(D51,구분표!$A$3:$C$258,2,)))))) | C51: =IF(D51="","",IF(OR(D51="교육지원과",D51="총무과",D51="인사과"),"직접입력",VLOOKUP(D51,구분표!$A$3:$C$258,3,))) | F51: =IF($E51="","",IF($E51="2추","직접입력","-")) | G51: =IF($E51="","",IF($E51="2추","직접입력","-")) | I51: =IF(H51="","",VLOOKUP($H51,구분표!$O$3:$P$168,2,FALSE)) | K51: =IF($E51="","",IF(OR($E51="2추",$E51="1추",$E51="본예산"),"금액입력","-")) | L51: =IF($E51="","",IF($E51="2추","금액입력","-")) | M51: =IF($E51="","",SUM(K51:L51)) | O51: =SUM(M51:N51) -> 0 | Q51: =SUM(M51,P51) -> 0 | R51: =IF(AND((O51=0),(Q51>0)),"O",IF(AND((N51<0),(O51-Q51<0)),"O","X")) -> X | Y51: =IF($H51="","",IF(OR($H51="511-01",$H51="511-02",$H51="511-03",$H51="311-02",$H51="311-04",$H51="321-01"),"국비","도비")) | AA51: =IF($Y51="국비",IF($N51<>"",$N51,0),"") | AB51: =IF($Y51="도비",IF($AO51="자체",IF($N51<>"",$N51,0),""),"") | AC51: =IF($Y51="도비",IF($AO51="지방채",IF($N51<>"",$N51,0),""),"") | AD51: =IF($Y51="도비",IF($AO51="지역개발기금",IF($N51<>"",$N51,0),""),"") | AF51: =IF($Y51="국비",IF($P51<>"",$P51,0),"") | AG51: =IF($Y51="도비",IF($AO51="자체",IF($P51<>"",$P51,0),""),"") | AH51: =IF($Y51="도비",IF($AO51="지방채",IF($P51<>"",$P51,0),""),"") | AI51: =IF($Y51="도비",IF($AO51="지역개발기금",IF($P51<>"",$P51,0),""),"") | AK51: =IF($AQ51="","",IF(OR($AL51="",$AL51="도비"),"",CONCATENATE($AQ51,"-",COUNTIF($AQ$8:$AQ51,$AQ51)))) | AL51: =IF($H51="","",IF($H51="511-01","국비",IF($H51="511-02","균특",IF($H51="511-03","기금",IF($H51="311-02","특교",IF($H51="311-04","소교",IF($H51="321-01","소멸","도비"))))))) | AN51: =IF($AQ51="","",IF(OR($AO51="",$AO51="국비",$AO51="자체"),"",CONCATENATE($AQ51,"-",$AO51,"-",COUNTIF($AQ$8:$AQ51,$AQ51)))) | AO51: =IF($Y51="","",IF($Y51="국비","국비",IF($H51="612-01","지방채",IF($H51="722-02","지역개발기금","자체")))) | AQ51: {=IF(OR($D51="",$C51="직접입력",$B51="직접입력"),"",INDEX(구분표!$I$2:$I$337,MATCH(1,(구분표!$G$2:$G$337='3. 일입'!$B51)*(구분표!$E$2:$E$337='3. 일입'!$C51)*(구분표!$F$2:$F$337='3. 일입'!$D51),0)))} | AS51: =IF($AK51="","",SUMIFS('3. 일출(의존)'!$AB$7:$AB$1989,'3. 일출(의존)'!$AN$7:$AN$1989,$AK51)) | AT51: =IF($AK51="","",COUNTIF('3. 일출(의존)'!$AN$7:$AN$1989,$AK51)) | AU51: =IF($AK51="","",IF($AA51=$AS51,"OK","@@")) | AV51: =IF($AN51="","",IF($AO51="지역개발기금",SUMIFS('3. 일출(의존)'!$AE$8:$AE$2000,'3. 일출(의존)'!$AS$8:$AS$2000,$AN51)+SUMIFS('3. 일출(자체)'!$AE$8:$AE$2000,'3. 일출(자체)'!$AM$8:$AM$2000,$AN51),IF($AO51="지방채",SUMIFS('3. 일출(의존)'!$AD$8:$AD$2000,'3. 일출(의존)'!$AS$8:$AS$2000,$AN51)+SUMIFS('3. 일출(자체)'!$AD$8:$AD$2000,'3. 일출(자체)'!$AM$8:$AM$2000,$AN51),0))) | AW51: =IF($AN51="","",COUNTIF('3. 일출(의존)'!$AS$8:$AS$2000,$AN51)+COUNTIF('3. 일출(자체)'!$AM$8:$AM$2000,$AN51)) | AX51: =IF($AN51="","",IF($AO51="자체","",IF($AO51="지방채",IF($AC51=$AV51,"OK","@@"),IF($AO51="지역개발기금",IF($AD51=$AV51,"OK","@@"),"@@")))) | AZ51: =IF($AK51="","",SUMIFS('3. 일출(의존)'!$AH$8:$AH$1989,'3. 일출(의존)'!$AN$8:$AN$1989,$AK51)) | BA51: =IF($AK51="","",COUNTIF('3. 일출(의존)'!$AN$7:$AN$1989,$AK51)) | BB51: =IF($AK51="","",IF($AF51=$AZ51,"OK","@@")) | BC51: =IF($AN51="","",IF($AO51="지역개발기금",SUMIFS('3. 일출(의존)'!$AK$8:$AK$2000,'3. 일출(의존)'!$AS$8:$AS$2000,$AN51)+SUMIFS('3. 일출(자체)'!$AJ$8:$AJ$2000,'3. 일출(자체)'!$AM$8:$AM$2000,$AN51),IF($AO51="지방채",SUMIFS('3. 일출(의존)'!$AJ$8:$AJ$2000,'3. 일출(의존)'!$AS$8:$AS$2000,$AN51)+SUMIFS('3. 일출(자체)'!$AI$8:$AI$2000,'3. 일출(자체)'!$AM$8:$AM$2000,$AN51),0))) | BD51: =IF($AN51="","",COUNTIF('3. 일출(의존)'!$AS$8:$AS$2000,$AN51)+COUNTIF('3. 일출(자체)'!$AM$8:$AM$2000,$AN51)) | BE51: =IF($AN51="","",IF($AO51="자체","",IF($AO51="지방채",IF($AH51=$BC51,"OK","@@"),IF($AO51="지역개발기금",IF($AI51=$BC51,"OK","@@"),"@@"))))
A52: =IF(D52="","",COUNTA($C$8:C52)-COUNTBLANK($C$8:C52)+3) | B52: =IF(D52="","",IF(OR(C52="직접입력",D52="북부지원"),"직접입력",IF(OR(AND(D52="인사과",C52="의회사무처"),AND(D52="총무과",C52="의회사무처")),"의회운영위원회",IF(OR(C52="직접입력",D52="북부지원"),"직접입력",IF(OR(AND(D52="인사과",C52="자치행정국"),AND(D52="총무과",C52="자치행정국")),"안전행정위원회",VLOOKUP(D52,구분표!$A$3:$C$258,2,)))))) | C52: =IF(D52="","",IF(OR(D52="교육지원과",D52="총무과",D52="인사과"),"직접입력",VLOOKUP(D52,구분표!$A$3:$C$258,3,))) | F52: =IF($E52="","",IF($E52="2추","직접입력","-")) | G52: =IF($E52="","",IF($E52="2추","직접입력","-")) | I52: =IF(H52="","",VLOOKUP($H52,구분표!$O$3:$P$168,2,FALSE)) | K52: =IF($E52="","",IF(OR($E52="2추",$E52="1추",$E52="본예산"),"금액입력","-")) | L52: =IF($E52="","",IF($E52="2추","금액입력","-")) | M52: =IF($E52="","",SUM(K52:L52)) | O52: =SUM(M52:N52) -> 0 | Q52: =SUM(M52,P52) -> 0 | R52: =IF(AND((O52=0),(Q52>0)),"O",IF(AND((N52<0),(O52-Q52<0)),"O","X")) -> X | Y52: =IF($H52="","",IF(OR($H52="511-01",$H52="511-02",$H52="511-03",$H52="311-02",$H52="311-04",$H52="321-01"),"국비","도비")) | AA52: =IF($Y52="국비",IF($N52<>"",$N52,0),"") | AB52: =IF($Y52="도비",IF($AO52="자체",IF($N52<>"",$N52,0),""),"") | AC52: =IF($Y52="도비",IF($AO52="지방채",IF($N52<>"",$N52,0),""),"") | AD52: =IF($Y52="도비",IF($AO52="지역개발기금",IF($N52<>"",$N52,0),""),"") | AF52: =IF($Y52="국비",IF($P52<>"",$P52,0),"") | AG52: =IF($Y52="도비",IF($AO52="자체",IF($P52<>"",$P52,0),""),"") | AH52: =IF($Y52="도비",IF($AO52="지방채",IF($P52<>"",$P52,0),""),"") | AI52: =IF($Y52="도비",IF($AO52="지역개발기금",IF($P52<>"",$P52,0),""),"") | AK52: =IF($AQ52="","",IF(OR($AL52="",$AL52="도비"),"",CONCATENATE($AQ52,"-",COUNTIF($AQ$8:$AQ52,$AQ52)))) | AL52: =IF($H52="","",IF($H52="511-01","국비",IF($H52="511-02","균특",IF($H52="511-03","기금",IF($H52="311-02","특교",IF($H52="311-04","소교",IF($H52="321-01","소멸","도비"))))))) | AN52: =IF($AQ52="","",IF(OR($AO52="",$AO52="국비",$AO52="자체"),"",CONCATENATE($AQ52,"-",$AO52,"-",COUNTIF($AQ$8:$AQ52,$AQ52)))) | AO52: =IF($Y52="","",IF($Y52="국비","국비",IF($H52="612-01","지방채",IF($H52="722-02","지역개발기금","자체")))) | AQ52: {=IF(OR($D52="",$C52="직접입력",$B52="직접입력"),"",INDEX(구분표!$I$2:$I$337,MATCH(1,(구분표!$G$2:$G$337='3. 일입'!$B52)*(구분표!$E$2:$E$337='3. 일입'!$C52)*(구분표!$F$2:$F$337='3. 일입'!$D52),0)))} | AS52: =IF($AK52="","",SUMIFS('3. 일출(의존)'!$AB$7:$AB$1989,'3. 일출(의존)'!$AN$7:$AN$1989,$AK52)) | AT52: =IF($AK52="","",COUNTIF('3. 일출(의존)'!$AN$7:$AN$1989,$AK52)) | AU52: =IF($AK52="","",IF($AA52=$AS52,"OK","@@")) | AV52: =IF($AN52="","",IF($AO52="지역개발기금",SUMIFS('3. 일출(의존)'!$AE$8:$AE$2000,'3. 일출(의존)'!$AS$8:$AS$2000,$AN52)+SUMIFS('3. 일출(자체)'!$AE$8:$AE$2000,'3. 일출(자체)'!$AM$8:$AM$2000,$AN52),IF($AO52="지방채",SUMIFS('3. 일출(의존)'!$AD$8:$AD$2000,'3. 일출(의존)'!$AS$8:$AS$2000,$AN52)+SUMIFS('3. 일출(자체)'!$AD$8:$AD$2000,'3. 일출(자체)'!$AM$8:$AM$2000,$AN52),0))) | AW52: =IF($AN52="","",COUNTIF('3. 일출(의존)'!$AS$8:$AS$2000,$AN52)+COUNTIF('3. 일출(자체)'!$AM$8:$AM$2000,$AN52)) | AX52: =IF($AN52="","",IF($AO52="자체","",IF($AO52="지방채",IF($AC52=$AV52,"OK","@@"),IF($AO52="지역개발기금",IF($AD52=$AV52,"OK","@@"),"@@")))) | AZ52: =IF($AK52="","",SUMIFS('3. 일출(의존)'!$AH$8:$AH$1989,'3. 일출(의존)'!$AN$8:$AN$1989,$AK52)) | BA52: =IF($AK52="","",COUNTIF('3. 일출(의존)'!$AN$7:$AN$1989,$AK52)) | BB52: =IF($AK52="","",IF($AF52=$AZ52,"OK","@@")) | BC52: =IF($AN52="","",IF($AO52="지역개발기금",SUMIFS('3. 일출(의존)'!$AK$8:$AK$2000,'3. 일출(의존)'!$AS$8:$AS$2000,$AN52)+SUMIFS('3. 일출(자체)'!$AJ$8:$AJ$2000,'3. 일출(자체)'!$AM$8:$AM$2000,$AN52),IF($AO52="지방채",SUMIFS('3. 일출(의존)'!$AJ$8:$AJ$2000,'3. 일출(의존)'!$AS$8:$AS$2000,$AN52)+SUMIFS('3. 일출(자체)'!$AI$8:$AI$2000,'3. 일출(자체)'!$AM$8:$AM$2000,$AN52),0))) | BD52: =IF($AN52="","",COUNTIF('3. 일출(의존)'!$AS$8:$AS$2000,$AN52)+COUNTIF('3. 일출(자체)'!$AM$8:$AM$2000,$AN52)) | BE52: =IF($AN52="","",IF($AO52="자체","",IF($AO52="지방채",IF($AH52=$BC52,"OK","@@"),IF($AO52="지역개발기금",IF($AI52=$BC52,"OK","@@"),"@@"))))
A53: =IF(D53="","",COUNTA($C$8:C53)-COUNTBLANK($C$8:C53)+3) | B53: =IF(D53="","",IF(OR(C53="직접입력",D53="북부지원"),"직접입력",IF(OR(AND(D53="인사과",C53="의회사무처"),AND(D53="총무과",C53="의회사무처")),"의회운영위원회",IF(OR(C53="직접입력",D53="북부지원"),"직접입력",IF(OR(AND(D53="인사과",C53="자치행정국"),AND(D53="총무과",C53="자치행정국")),"안전행정위원회",VLOOKUP(D53,구분표!$A$3:$C$258,2,)))))) | C53: =IF(D53="","",IF(OR(D53="교육지원과",D53="총무과",D53="인사과"),"직접입력",VLOOKUP(D53,구분표!$A$3:$C$258,3,))) | F53: =IF($E53="","",IF($E53="2추","직접입력","-")) | G53: =IF($E53="","",IF($E53="2추","직접입력","-")) | I53: =IF(H53="","",VLOOKUP($H53,구분표!$O$3:$P$168,2,FALSE)) | K53: =IF($E53="","",IF(OR($E53="2추",$E53="1추",$E53="본예산"),"금액입력","-")) | L53: =IF($E53="","",IF($E53="2추","금액입력","-")) | M53: =IF($E53="","",SUM(K53:L53)) | O53: =SUM(M53:N53) -> 0 | Q53: =SUM(M53,P53) -> 0 | R53: =IF(AND((O53=0),(Q53>0)),"O",IF(AND((N53<0),(O53-Q53<0)),"O","X")) -> X | Y53: =IF($H53="","",IF(OR($H53="511-01",$H53="511-02",$H53="511-03",$H53="311-02",$H53="311-04",$H53="321-01"),"국비","도비")) | AA53: =IF($Y53="국비",IF($N53<>"",$N53,0),"") | AB53: =IF($Y53="도비",IF($AO53="자체",IF($N53<>"",$N53,0),""),"") | AC53: =IF($Y53="도비",IF($AO53="지방채",IF($N53<>"",$N53,0),""),"") | AD53: =IF($Y53="도비",IF($AO53="지역개발기금",IF($N53<>"",$N53,0),""),"") | AF53: =IF($Y53="국비",IF($P53<>"",$P53,0),"") | AG53: =IF($Y53="도비",IF($AO53="자체",IF($P53<>"",$P53,0),""),"") | AH53: =IF($Y53="도비",IF($AO53="지방채",IF($P53<>"",$P53,0),""),"") | AI53: =IF($Y53="도비",IF($AO53="지역개발기금",IF($P53<>"",$P53,0),""),"") | AK53: =IF($AQ53="","",IF(OR($AL53="",$AL53="도비"),"",CONCATENATE($AQ53,"-",COUNTIF($AQ$8:$AQ53,$AQ53)))) | AL53: =IF($H53="","",IF($H53="511-01","국비",IF($H53="511-02","균특",IF($H53="511-03","기금",IF($H53="311-02","특교",IF($H53="311-04","소교",IF($H53="321-01","소멸","도비"))))))) | AN53: =IF($AQ53="","",IF(OR($AO53="",$AO53="국비",$AO53="자체"),"",CONCATENATE($AQ53,"-",$AO53,"-",COUNTIF($AQ$8:$AQ53,$AQ53)))) | AO53: =IF($Y53="","",IF($Y53="국비","국비",IF($H53="612-01","지방채",IF($H53="722-02","지역개발기금","자체")))) | AQ53: {=IF(OR($D53="",$C53="직접입력",$B53="직접입력"),"",INDEX(구분표!$I$2:$I$337,MATCH(1,(구분표!$G$2:$G$337='3. 일입'!$B53)*(구분표!$E$2:$E$337='3. 일입'!$C53)*(구분표!$F$2:$F$337='3. 일입'!$D53),0)))} | AS53: =IF($AK53="","",SUMIFS('3. 일출(의존)'!$AB$7:$AB$1989,'3. 일출(의존)'!$AN$7:$AN$1989,$AK53)) | AT53: =IF($AK53="","",COUNTIF('3. 일출(의존)'!$AN$7:$AN$1989,$AK53)) | AU53: =IF($AK53="","",IF($AA53=$AS53,"OK","@@")) | AV53: =IF($AN53="","",IF($AO53="지역개발기금",SUMIFS('3. 일출(의존)'!$AE$8:$AE$2000,'3. 일출(의존)'!$AS$8:$AS$2000,$AN53)+SUMIFS('3. 일출(자체)'!$AE$8:$AE$2000,'3. 일출(자체)'!$AM$8:$AM$2000,$AN53),IF($AO53="지방채",SUMIFS('3. 일출(의존)'!$AD$8:$AD$2000,'3. 일출(의존)'!$AS$8:$AS$2000,$AN53)+SUMIFS('3. 일출(자체)'!$AD$8:$AD$2000,'3. 일출(자체)'!$AM$8:$AM$2000,$AN53),0))) | AW53: =IF($AN53="","",COUNTIF('3. 일출(의존)'!$AS$8:$AS$2000,$AN53)+COUNTIF('3. 일출(자체)'!$AM$8:$AM$2000,$AN53)) | AX53: =IF($AN53="","",IF($AO53="자체","",IF($AO53="지방채",IF($AC53=$AV53,"OK","@@"),IF($AO53="지역개발기금",IF($AD53=$AV53,"OK","@@"),"@@")))) | AZ53: =IF($AK53="","",SUMIFS('3. 일출(의존)'!$AH$8:$AH$1989,'3. 일출(의존)'!$AN$8:$AN$1989,$AK53)) | BA53: =IF($AK53="","",COUNTIF('3. 일출(의존)'!$AN$7:$AN$1989,$AK53)) | BB53: =IF($AK53="","",IF($AF53=$AZ53,"OK","@@")) | BC53: =IF($AN53="","",IF($AO53="지역개발기금",SUMIFS('3. 일출(의존)'!$AK$8:$AK$2000,'3. 일출(의존)'!$AS$8:$AS$2000,$AN53)+SUMIFS('3. 일출(자체)'!$AJ$8:$AJ$2000,'3. 일출(자체)'!$AM$8:$AM$2000,$AN53),IF($AO53="지방채",SUMIFS('3. 일출(의존)'!$AJ$8:$AJ$2000,'3. 일출(의존)'!$AS$8:$AS$2000,$AN53)+SUMIFS('3. 일출(자체)'!$AI$8:$AI$2000,'3. 일출(자체)'!$AM$8:$AM$2000,$AN53),0))) | BD53: =IF($AN53="","",COUNTIF('3. 일출(의존)'!$AS$8:$AS$2000,$AN53)+COUNTIF('3. 일출(자체)'!$AM$8:$AM$2000,$AN53)) | BE53: =IF($AN53="","",IF($AO53="자체","",IF($AO53="지방채",IF($AH53=$BC53,"OK","@@"),IF($AO53="지역개발기금",IF($AI53=$BC53,"OK","@@"),"@@"))))
A54: =IF(D54="","",COUNTA($C$8:C54)-COUNTBLANK($C$8:C54)+3) | B54: =IF(D54="","",IF(OR(C54="직접입력",D54="북부지원"),"직접입력",IF(OR(AND(D54="인사과",C54="의회사무처"),AND(D54="총무과",C54="의회사무처")),"의회운영위원회",IF(OR(C54="직접입력",D54="북부지원"),"직접입력",IF(OR(AND(D54="인사과",C54="자치행정국"),AND(D54="총무과",C54="자치행정국")),"안전행정위원회",VLOOKUP(D54,구분표!$A$3:$C$258,2,)))))) | C54: =IF(D54="","",IF(OR(D54="교육지원과",D54="총무과",D54="인사과"),"직접입력",VLOOKUP(D54,구분표!$A$3:$C$258,3,))) | F54: =IF($E54="","",IF($E54="2추","직접입력","-")) | G54: =IF($E54="","",IF($E54="2추","직접입력","-")) | I54: =IF(H54="","",VLOOKUP($H54,구분표!$O$3:$P$168,2,FALSE)) | K54: =IF($E54="","",IF(OR($E54="2추",$E54="1추",$E54="본예산"),"금액입력","-")) | L54: =IF($E54="","",IF($E54="2추","금액입력","-")) | M54: =IF($E54="","",SUM(K54:L54)) | O54: =SUM(M54:N54) -> 0 | Q54: =SUM(M54,P54) -> 0 | R54: =IF(AND((O54=0),(Q54>0)),"O",IF(AND((N54<0),(O54-Q54<0)),"O","X")) -> X | Y54: =IF($H54="","",IF(OR($H54="511-01",$H54="511-02",$H54="511-03",$H54="311-02",$H54="311-04",$H54="321-01"),"국비","도비")) | AA54: =IF($Y54="국비",IF($N54<>"",$N54,0),"") | AB54: =IF($Y54="도비",IF($AO54="자체",IF($N54<>"",$N54,0),""),"") | AC54: =IF($Y54="도비",IF($AO54="지방채",IF($N54<>"",$N54,0),""),"") | AD54: =IF($Y54="도비",IF($AO54="지역개발기금",IF($N54<>"",$N54,0),""),"") | AF54: =IF($Y54="국비",IF($P54<>"",$P54,0),"") | AG54: =IF($Y54="도비",IF($AO54="자체",IF($P54<>"",$P54,0),""),"") | AH54: =IF($Y54="도비",IF($AO54="지방채",IF($P54<>"",$P54,0),""),"") | AI54: =IF($Y54="도비",IF($AO54="지역개발기금",IF($P54<>"",$P54,0),""),"") | AK54: =IF($AQ54="","",IF(OR($AL54="",$AL54="도비"),"",CONCATENATE($AQ54,"-",COUNTIF($AQ$8:$AQ54,$AQ54)))) | AL54: =IF($H54="","",IF($H54="511-01","국비",IF($H54="511-02","균특",IF($H54="511-03","기금",IF($H54="311-02","특교",IF($H54="311-04","소교",IF($H54="321-01","소멸","도비"))))))) | AN54: =IF($AQ54="","",IF(OR($AO54="",$AO54="국비",$AO54="자체"),"",CONCATENATE($AQ54,"-",$AO54,"-",COUNTIF($AQ$8:$AQ54,$AQ54)))) | AO54: =IF($Y54="","",IF($Y54="국비","국비",IF($H54="612-01","지방채",IF($H54="722-02","지역개발기금","자체")))) | AQ54: {=IF(OR($D54="",$C54="직접입력",$B54="직접입력"),"",INDEX(구분표!$I$2:$I$337,MATCH(1,(구분표!$G$2:$G$337='3. 일입'!$B54)*(구분표!$E$2:$E$337='3. 일입'!$C54)*(구분표!$F$2:$F$337='3. 일입'!$D54),0)))} | AS54: =IF($AK54="","",SUMIFS('3. 일출(의존)'!$AB$7:$AB$1989,'3. 일출(의존)'!$AN$7:$AN$1989,$AK54)) | AT54: =IF($AK54="","",COUNTIF('3. 일출(의존)'!$AN$7:$AN$1989,$AK54)) | AU54: =IF($AK54="","",IF($AA54=$AS54,"OK","@@")) | AV54: =IF($AN54="","",IF($AO54="지역개발기금",SUMIFS('3. 일출(의존)'!$AE$8:$AE$2000,'3. 일출(의존)'!$AS$8:$AS$2000,$AN54)+SUMIFS('3. 일출(자체)'!$AE$8:$AE$2000,'3. 일출(자체)'!$AM$8:$AM$2000,$AN54),IF($AO54="지방채",SUMIFS('3. 일출(의존)'!$AD$8:$AD$2000,'3. 일출(의존)'!$AS$8:$AS$2000,$AN54)+SUMIFS('3. 일출(자체)'!$AD$8:$AD$2000,'3. 일출(자체)'!$AM$8:$AM$2000,$AN54),0))) | AW54: =IF($AN54="","",COUNTIF('3. 일출(의존)'!$AS$8:$AS$2000,$AN54)+COUNTIF('3. 일출(자체)'!$AM$8:$AM$2000,$AN54)) | AX54: =IF($AN54="","",IF($AO54="자체","",IF($AO54="지방채",IF($AC54=$AV54,"OK","@@"),IF($AO54="지역개발기금",IF($AD54=$AV54,"OK","@@"),"@@")))) | AZ54: =IF($AK54="","",SUMIFS('3. 일출(의존)'!$AH$8:$AH$1989,'3. 일출(의존)'!$AN$8:$AN$1989,$AK54)) | BA54: =IF($AK54="","",COUNTIF('3. 일출(의존)'!$AN$7:$AN$1989,$AK54)) | BB54: =IF($AK54="","",IF($AF54=$AZ54,"OK","@@")) | BC54: =IF($AN54="","",IF($AO54="지역개발기금",SUMIFS('3. 일출(의존)'!$AK$8:$AK$2000,'3. 일출(의존)'!$AS$8:$AS$2000,$AN54)+SUMIFS('3. 일출(자체)'!$AJ$8:$AJ$2000,'3. 일출(자체)'!$AM$8:$AM$2000,$AN54),IF($AO54="지방채",SUMIFS('3. 일출(의존)'!$AJ$8:$AJ$2000,'3. 일출(의존)'!$AS$8:$AS$2000,$AN54)+SUMIFS('3. 일출(자체)'!$AI$8:$AI$2000,'3. 일출(자체)'!$AM$8:$AM$2000,$AN54),0))) | BD54: =IF($AN54="","",COUNTIF('3. 일출(의존)'!$AS$8:$AS$2000,$AN54)+COUNTIF('3. 일출(자체)'!$AM$8:$AM$2000,$AN54)) | BE54: =IF($AN54="","",IF($AO54="자체","",IF($AO54="지방채",IF($AH54=$BC54,"OK","@@"),IF($AO54="지역개발기금",IF($AI54=$BC54,"OK","@@"),"@@"))))
... A58: =IF(D58="","",COUNTA($C$8:C58)-COUNTBLANK($C$8:C58)+3) | B58: =IF(D58="","",IF(OR(C58="직접입력",D58="북부지원"),"직접입력",IF(OR(AND(D58="인사과",C58="의회사무처"),AND(D58="총무과",C58="의회사무처")),"의회운영위원회",IF(OR(C58="직접입력",D58="북부지원"),"직접입력",IF(OR(AND(D58="인사과",C58="자치행정국"),AND(D58="총무과",C58="자치행정국")),"안전행정위원회",VLOOKUP(D58,구분표!$A$3:$C$258,2,)))))) | C58: =IF(D58="","",IF(OR(D58="교육지원과",D58="총무과",D58="인사과"),"직접입력",VLOOKUP(D58,구분표!$A$3:$C$258,3,))) | F58: =IF($E58="","",IF($E58="2추","직접입력","-")) | G58: =IF($E58="","",IF($E58="2추","직접입력","-")) | I58: =IF(H58="","",VLOOKUP($H58,구분표!$O$3:$P$168,2,FALSE)) | K58: =IF($E58="","",IF(OR($E58="2추",$E58="1추",$E58="본예산"),"금액입력","-")) | L58: =IF($E58="","",IF($E58="2추","금액입력","-")) | M58: =IF($E58="","",SUM(K58:L58)) | O58: =SUM(M58:N58) -> 0 | Q58: =SUM(M58,P58) -> 0 | R58: =IF(AND((O58=0),(Q58>0)),"O",IF(AND((N58<0),(O58-Q58<0)),"O","X")) -> X | Y58: =IF($H58="","",IF(OR($H58="511-01",$H58="511-02",$H58="511-03",$H58="311-02",$H58="311-04",$H58="321-01"),"국비","도비")) | AA58: =IF($Y58="국비",IF($N58<>"",$N58,0),"") | AB58: =IF($Y58="도비",IF($AO58="자체",IF($N58<>"",$N58,0),""),"") | AC58: =IF($Y58="도비",IF($AO58="지방채",IF($N58<>"",$N58,0),""),"") | AD58: =IF($Y58="도비",IF($AO58="지역개발기금",IF($N58<>"",$N58,0),""),"") | AF58: =IF($Y58="국비",IF($P58<>"",$P58,0),"") | AG58: =IF($Y58="도비",IF($AO58="자체",IF($P58<>"",$P58,0),""),"") | AH58: =IF($Y58="도비",IF($AO58="지방채",IF($P58<>"",$P58,0),""),"") | AI58: =IF($Y58="도비",IF($AO58="지역개발기금",IF($P58<>"",$P58,0),""),"") | AK58: =IF($AQ58="","",IF(OR($AL58="",$AL58="도비"),"",CONCATENATE($AQ58,"-",COUNTIF($AQ$8:$AQ58,$AQ58)))) | AL58: =IF($H58="","",IF($H58="511-01","국비",IF($H58="511-02","균특",IF($H58="511-03","기금",IF($H58="311-02","특교",IF($H58="311-04","소교",IF($H58="321-01","소멸","도비"))))))) | AN58: =IF($AQ58="","",IF(OR($AO58="",$AO58="국비",$AO58="자체"),"",CONCATENATE($AQ58,"-",$AO58,"-",COUNTIF($AQ$8:$AQ58,$AQ58)))) | AO58: =IF($Y58="","",IF($Y58="국비","국비",IF($H58="612-01","지방채",IF($H58="722-02","지역개발기금","자체")))) | AQ58: {=IF(OR($D58="",$C58="직접입력",$B58="직접입력"),"",INDEX(구분표!$I$2:$I$337,MATCH(1,(구분표!$G$2:$G$337='3. 일입'!$B58)*(구분표!$E$2:$E$337='3. 일입'!$C58)*(구분표!$F$2:$F$337='3. 일입'!$D58),0)))} | AS58: =IF($AK58="","",SUMIFS('3. 일출(의존)'!$AB$7:$AB$1989,'3. 일출(의존)'!$AN$7:$AN$1989,$AK58)) | AT58: =IF($AK58="","",COUNTIF('3. 일출(의존)'!$AN$7:$AN$1989,$AK58)) | AU58: =IF($AK58="","",IF($AA58=$AS58,"OK","@@")) | AV58: =IF($AN58="","",IF($AO58="지역개발기금",SUMIFS('3. 일출(의존)'!$AE$8:$AE$2000,'3. 일출(의존)'!$AS$8:$AS$2000,$AN58)+SUMIFS('3. 일출(자체)'!$AE$8:$AE$2000,'3. 일출(자체)'!$AM$8:$AM$2000,$AN58),IF($AO58="지방채",SUMIFS('3. 일출(의존)'!$AD$8:$AD$2000,'3. 일출(의존)'!$AS$8:$AS$2000,$AN58)+SUMIFS('3. 일출(자체)'!$AD$8:$AD$2000,'3. 일출(자체)'!$AM$8:$AM$2000,$AN58),0))) | AW58: =IF($AN58="","",COUNTIF('3. 일출(의존)'!$AS$8:$AS$2000,$AN58)+COUNTIF('3. 일출(자체)'!$AM$8:$AM$2000,$AN58)) | AX58: =IF($AN58="","",IF($AO58="자체","",IF($AO58="지방채",IF($AC58=$AV58,"OK","@@"),IF($AO58="지역개발기금",IF($AD58=$AV58,"OK","@@"),"@@")))) | AZ58: =IF($AK58="","",SUMIFS('3. 일출(의존)'!$AH$8:$AH$1989,'3. 일출(의존)'!$AN$8:$AN$1989,$AK58)) | BA58: =IF($AK58="","",COUNTIF('3. 일출(의존)'!$AN$7:$AN$1989,$AK58)) | BB58: =IF($AK58="","",IF($AF58=$AZ58,"OK","@@")) | BC58: =IF($AN58="","",IF($AO58="지역개발기금",SUMIFS('3. 일출(의존)'!$AK$8:$AK$2000,'3. 일출(의존)'!$AS$8:$AS$2000,$AN58)+SUMIFS('3. 일출(자체)'!$AJ$8:$AJ$2000,'3. 일출(자체)'!$AM$8:$AM$2000,$AN58),IF($AO58="지방채",SUMIFS('3. 일출(의존)'!$AJ$8:$AJ$2000,'3. 일출(의존)'!$AS$8:$AS$2000,$AN58)+SUMIFS('3. 일출(자체)'!$AI$8:$AI$2000,'3. 일출(자체)'!$AM$8:$AM$2000,$AN58),0))) | BD58: =IF($AN58="","",COUNTIF('3. 일출(의존)'!$AS$8:$AS$2000,$AN58)+COUNTIF('3. 일출(자체)'!$AM$8:$AM$2000,$AN58)) | BE58: =IF($AN58="","",IF($AO58="자체","",IF($AO58="지방채",IF($AH58=$BC58,"OK","@@"),IF($AO58="지역개발기금",IF($AI58=$BC58,"OK","@@"),"@@"))))
B59: (안전행정위원회) | J59: =SUBTOTAL(3,J60:J75)&"건" -> 0건 | K59: =SUBTOTAL(9,K60:K75) -> 0 | L59: =SUBTOTAL(9,L60:L75) -> 0 | M59: =SUBTOTAL(9,M60:M75) -> 0 | N59: =SUBTOTAL(9,N60:N75) -> 0 | O59: =SUBTOTAL(9,O60:O75) -> 0 | P59: =SUBTOTAL(9,P60:P75) -> 0 | Q59: =SUBTOTAL(9,Q60:Q75) -> 0 | AA59: =SUBTOTAL(9,AA60:AA75) -> 0 | AB59: =SUBTOTAL(9,AB60:AB75) -> 0 | AC59: =SUBTOTAL(9,AC60:AC75) -> 0 | AD59: =SUBTOTAL(9,AD60:AD75) -> 0 | AF59: =SUBTOTAL(9,AF60:AF75) -> 0 | AG59: =SUBTOTAL(9,AG60:AG75) -> 0 | AH59: =SUBTOTAL(9,AH60:AH75) -> 0 | AI59: =SUBTOTAL(9,AI60:AI75) -> 0 | AS59: =SUBTOTAL(9,AS60:AS75) -> 0 | AT59: =SUBTOTAL(9,AT60:AT75) -> 0 | AU59: =IF(COUNTIF(AU60:AU75,"@@")>0,"@@","OK") -> OK | AV59: =SUBTOTAL(9,AV60:AV75) -> 0 | AW59: =SUBTOTAL(9,AW60:AW75) -> 0 | AX59: =IF(COUNTIF(AX60:AX75,"@@")>0,"@@","OK") -> OK | AZ59: =SUBTOTAL(9,AZ60:AZ75) -> 0 | BA59: =SUBTOTAL(9,BA60:BA75) -> 0 | BB59: =IF(COUNTIF(BB60:BB75,"@@")>0,"@@","OK") -> OK | BC59: =SUBTOTAL(9,BC60:BC75) -> 0 | BD59: =SUBTOTAL(9,BD60:BD75) -> 0 | BE59: =IF(COUNTIF(BE60:BE75,"@@")>0,"@@","OK") -> OK
A60: =IF(D60="","",COUNTA($C$8:C60)-COUNTBLANK($C$8:C60)+4) | B60: =IF(D60="","",IF(OR(C60="직접입력",D60="북부지원"),"직접입력",IF(OR(AND(D60="인사과",C60="의회사무처"),AND(D60="총무과",C60="의회사무처")),"의회운영위원회",IF(OR(C60="직접입력",D60="북부지원"),"직접입력",IF(OR(AND(D60="인사과",C60="자치행정국"),AND(D60="총무과",C60="자치행정국")),"안전행정위원회",VLOOKUP(D60,구분표!$A$3:$C$258,2,)))))) | C60: =IF(D60="","",IF(OR(D60="교육지원과",D60="총무과",D60="인사과"),"직접입력",VLOOKUP(D60,구분표!$A$3:$C$258,3,))) | F60: =IF($E60="","",IF($E60="2추","직접입력","-")) | G60: =IF($E60="","",IF($E60="2추","직접입력","-")) | I60: =IF(H60="","",VLOOKUP($H60,구분표!$O$3:$P$168,2,FALSE)) | K60: =IF($E60="","",IF(OR($E60="2추",$E60="1추",$E60="본예산"),"금액입력","-")) | L60: =IF($E60="","",IF($E60="2추","금액입력","-")) | M60: =IF($E60="","",SUM(K60:L60)) | O60: =SUM(M60:N60) -> 0 | Q60: =SUM(M60,P60) -> 0 | R60: =IF(AND((O60=0),(Q60>0)),"O",IF(AND((N60<0),(O60-Q60<0)),"O","X")) -> X | Y60: =IF($H60="","",IF(OR($H60="511-01",$H60="511-02",$H60="511-03",$H60="311-02",$H60="311-04",$H60="321-01"),"국비","도비")) | AA60: =IF($Y60="국비",IF($N60<>"",$N60,0),"") | AB60: =IF($Y60="도비",IF($AO60="자체",IF($N60<>"",$N60,0),""),"") | AC60: =IF($Y60="도비",IF($AO60="지방채",IF($N60<>"",$N60,0),""),"") | AD60: =IF($Y60="도비",IF($AO60="지역개발기금",IF($N60<>"",$N60,0),""),"") | AF60: =IF($Y60="국비",IF($P60<>"",$P60,0),"") | AG60: =IF($Y60="도비",IF($AO60="자체",IF($P60<>"",$P60,0),""),"") | AH60: =IF($Y60="도비",IF($AO60="지방채",IF($P60<>"",$P60,0),""),"") | AI60: =IF($Y60="도비",IF($AO60="지역개발기금",IF($P60<>"",$P60,0),""),"") | AK60: =IF($AQ60="","",IF(OR($AL60="",$AL60="도비"),"",CONCATENATE($AQ60,"-",COUNTIF($AQ$8:$AQ60,$AQ60)))) | AL60: =IF($H60="","",IF($H60="511-01","국비",IF($H60="511-02","균특",IF($H60="511-03","기금",IF($H60="311-02","특교",IF($H60="311-04","소교",IF($H60="321-01","소멸","도비"))))))) | AN60: =IF($AQ60="","",IF(OR($AO60="",$AO60="국비",$AO60="자체"),"",CONCATENATE($AQ60,"-",$AO60,"-",COUNTIF($AQ$8:$AQ60,$AQ60)))) | AO60: =IF($Y60="","",IF($Y60="국비","국비",IF($H60="612-01","지방채",IF($H60="722-02","지역개발기금","자체")))) | AQ60: {=IF(OR($D60="",$C60="직접입력",$B60="직접입력"),"",INDEX(구분표!$I$2:$I$337,MATCH(1,(구분표!$G$2:$G$337='3. 일입'!$B60)*(구분표!$E$2:$E$337='3. 일입'!$C60)*(구분표!$F$2:$F$337='3. 일입'!$D60),0)))} | AS60: =IF($AK60="","",SUMIFS('3. 일출(의존)'!$AB$7:$AB$1989,'3. 일출(의존)'!$AN$7:$AN$1989,$AK60)) | AT60: =IF($AK60="","",COUNTIF('3. 일출(의존)'!$AN$7:$AN$1989,$AK60)) | AU60: =IF($AK60="","",IF($AA60=$AS60,"OK","@@")) | AV60: =IF($AN60="","",IF($AO60="지역개발기금",SUMIFS('3. 일출(의존)'!$AE$8:$AE$2000,'3. 일출(의존)'!$AS$8:$AS$2000,$AN60)+SUMIFS('3. 일출(자체)'!$AE$8:$AE$2000,'3. 일출(자체)'!$AM$8:$AM$2000,$AN60),IF($AO60="지방채",SUMIFS('3. 일출(의존)'!$AD$8:$AD$2000,'3. 일출(의존)'!$AS$8:$AS$2000,$AN60)+SUMIFS('3. 일출(자체)'!$AD$8:$AD$2000,'3. 일출(자체)'!$AM$8:$AM$2000,$AN60),0))) | AW60: =IF($AN60="","",COUNTIF('3. 일출(의존)'!$AS$8:$AS$2000,$AN60)+COUNTIF('3. 일출(자체)'!$AM$8:$AM$2000,$AN60)) | AX60: =IF($AN60="","",IF($AO60="자체","",IF($AO60="지방채",IF($AC60=$AV60,"OK","@@"),IF($AO60="지역개발기금",IF($AD60=$AV60,"OK","@@"),"@@")))) | AZ60: =IF($AK60="","",SUMIFS('3. 일출(의존)'!$AH$8:$AH$1989,'3. 일출(의존)'!$AN$8:$AN$1989,$AK60)) | BA60: =IF($AK60="","",COUNTIF('3. 일출(의존)'!$AN$7:$AN$1989,$AK60)) | BB60: =IF($AK60="","",IF($AF60=$AZ60,"OK","@@")) | BC60: =IF($AN60="","",IF($AO60="지역개발기금",SUMIFS('3. 일출(의존)'!$AK$8:$AK$2000,'3. 일출(의존)'!$AS$8:$AS$2000,$AN60)+SUMIFS('3. 일출(자체)'!$AJ$8:$AJ$2000,'3. 일출(자체)'!$AM$8:$AM$2000,$AN60),IF($AO60="지방채",SUMIFS('3. 일출(의존)'!$AJ$8:$AJ$2000,'3. 일출(의존)'!$AS$8:$AS$2000,$AN60)+SUMIFS('3. 일출(자체)'!$AI$8:$AI$2000,'3. 일출(자체)'!$AM$8:$AM$2000,$AN60),0))) | BD60: =IF($AN60="","",COUNTIF('3. 일출(의존)'!$AS$8:$AS$2000,$AN60)+COUNTIF('3. 일출(자체)'!$AM$8:$AM$2000,$AN60)) | BE60: =IF($AN60="","",IF($AO60="자체","",IF($AO60="지방채",IF($AH60=$BC60,"OK","@@"),IF($AO60="지역개발기금",IF($AI60=$BC60,"OK","@@"),"@@"))))
